{"text_format":"1","workbook":"xlsx","n_sheets":13,"sheets":["INTRO","COUNTRY_INFO","MDA1","MDA4","MDA3","T1","T2","T3_R1","T3_R2","DISTRICT","SUMMARY","PROFILE","DATA_POLICY"],"not_rendered":{"charts":8,"images":3,"macros":1,"external_links":1,"defined_names":10,"comments":12,"pivot_tables":0},"unopened":[],"bounds":{"document_bytes":16777216,"sheet_cells":100000,"rows_first":2000,"rows_last":500,"rows_between":2000,"halvings":0,"cell_chars":16384,"cell_head_chars":4096},"cells_cut":0,"cells_raw":0,"read":"whole","date_system":"1900"}

{"sheet":"INTRO","index":0,"n_rows":50,"n_cols":5,"rows_kept":50,"cut":false,"hidden":false,"merged":[[0,2,0,4],[7,2,7,4],[8,2,8,4],[1,1,1,4],[2,1,2,4],[3,1,3,4],[4,1,4,4],[5,1,5,4],[9,2,9,4],[11,2,11,4],[12,1,12,4],[13,1,13,4],[14,1,14,4],[22,1,22,4],[23,2,24,4],[25,1,25,4],[15,1,15,4],[16,1,16,4],[17,1,17,4],[18,1,18,4],[19,2,19,4],[45,1,45,2],[10,2,10,4],[41,1,41,2],[43,1,43,2],[46,1,46,4],[33,1,33,2],[35,1,35,2],[26,2,27,4],[37,1,37,2],[39,1,39,2],[28,1,28,4],[29,2,29,4],[30,1,30,4],[31,1,31,4],[20,1,20,4],[21,2,21,4]]}
[null,null,"Cette version sera utilisée par les pays endémiques à la Loase"]
[null,"Formulaire de Rapport Commun v.3.1 (L)"]
[]
[null,"Le but de ce formulaire de rapport commun - disponible sous forme de fichier Excel - est de mettre à disposition des autorités sanitaires nationales et des gestionnaires de données un outil standardisé qui réponde aux défis, facilite l'intégration et par conséquent contribue à améliorer la gestion de programme. Ce formulaire tend à standardiser le rapport de résultats des programmes nationaux, améliore la disponibilité et la coordination des données de chimioprévention à travers les Bureaux des Régions de l'Organisation mondiale de la Santé. \nLes autorités nationales sont priées de compléter ce formulaire et de le soumettre à l'Organisation mondiale de la Santé avant le 15 août de l'année en cours pour rapporter les données des activités de chimioprévention mises en oeuvre l'année précédente."]
[]
[null,"Structure de l'application (feuilles de travail) :"]
[]
[null,"INTRO","Cette feuille contient des instructions pour compléter le formulaire de rapport commun et des informations sur le statut de la chimioprévention pour les maladies d'endémie du pays. "]
[null,"COUNTRY_INFO","Cette feuille contient des informations sur la structure administrative du pays, la population par groupe d'âge, le statut d'endémicité pour chaque maladie, la population devant être traitée par chimioprévention, les interventions prévues et les interventions mises en oeuvre. "]
[null,"MDA1, MDA2, MDA3, T1, T2 et T3","Ces feuilles contiennent des informations sur l'endémicité des districts ciblés pour le traitement aux médicaments spécifiques pour la chimioprévention, les plans de traitement, et le nombre de personnes traitées par groupe d'âge. "]
[null,"DISTRICT","Cette feuille contient un résumé sur les personnes traitées, par maladie, au niveau de mise en oeuvre. Si les données par genre (sexe) sont disponibles, merci de les saisir.  "]
[null,"SUMMARY","Cette feuille contient un résumé sur les personnes traitées, par maladie et par type d'intervention de chimioprévention. Avant de générer le rapport (exécuter macro), veuillez sélectionner la maladie pour laquelle vous souhaitez un rapport. Veuillez suivre le même processus pour générer les divers rapports. \nCette feuille doit être imprimée et soumise comme formulaire de rapport commun (voir les instructions pour la soumission du formulaire sous la feuille SUMMARY). "]
[]
[null,"Instructions pour la saisie des données"]
[]
[null,"La plupart des cellules des feuilles de travail mentionnées ci-dessus contiennent des formules calculées automatiquement en fonction du protocole de traitement recommandé par l'OMS pour chaque maladie.\nVoir : http://www.who.int/neglected_diseases/preventive_chemotherapy/pct_manual/en/index.html"]
[]
[null,"Veuillez entrer vos données dans les cellules en fonction de leur code de couleur :"]
[]
[null,null,"Blanc - la cellule n'est pas protégée. Veuillez entrer la valeur de l'indicateur demandé."]
[]
[null,null,"Jaune - la cellule est protégée et inclut le nom de l'indicateur. Aucune entrée de données requise."]
[]
[null,null,"Orange - la cellule n'est pas protégée et contient un menu déroulant. Veuillez sélectionner la valeur dans le menu déroulant. "]
[]
[]
[null,null,"Vert - la cellule n'est pas protégée et contient des formules. Veuillez changer la valeur indiquée uniquement si vos données sont différentes de celles calculées automatiquement.  "]
[]
[]
[null,null,"Bleu - la cellule est protégée et contient des formules. Aucune entrée de données requise. "]
[]
[null,"Données pays"]
[]
[null,"PAYS",null,null,"Chad"]
[]
[null,"Année de rapport des données",null,null,2021]
[]
[null,"Le pays est-il endémique à la filariose lymphatique (FL) ?",null,null,"Endémique"]
[]
[null,"Le pays est-il endémique à l'onchocercose (ONCHO) ? ",null,null,"Endémique"]
[]
[null,"Le pays est-il endémique aux géohelminthiases (STH) ?",null,null,"Endémique"]
[]
[null,"Le pays est-il endémique à la schistosomiase (SCH) ?",null,null,"Endémique"]
[]
[null,"Combien d'unités administratives compte le pays ?",null,null,130]
[null,"Si les données démographiques par groupe d'âge ne sont pas disponibles au second niveau administratif, veuillez entrer la proportion (%) de population, par groupe d'âge, du pays. Si les données sont disponibles, veuillez laisser les cellules vierges."]
[null,"1-4 ans","Enfants d'âge pré-scolaire (EAPréS)",null,0.16500000000000001]
[null,"5-14 ans","Enfants d'âge scolaire (EAS)",null,0.30349999999999999]
[null,"15 ans et plus","Adultes",null,0.4945]

{"sheet":"COUNTRY_INFO","index":1,"n_rows":138,"n_cols":55,"rows_kept":138,"cut":false,"hidden":false,"merged":[[3,0,3,2],[3,7,3,11],[3,20,3,21],[5,0,5,2],[3,16,3,19],[5,16,5,19],[5,3,5,6],[5,7,5,11],[5,12,5,15],[5,20,5,21]]}
["INFORMATIONS PAYS"]
["Structure administrative, population par groupe d'âge, statut d'endémicité, interventions planifiées et interventions mises en oeuvre"]
[]
["TOTAL",null,null,{"$f":"SUM(D$9:D$1000)","v":17467241},{"$f":"SUM(E$9:E$1000)","v":2882101},{"$f":"SUM(F$9:F$1000)","v":5301303},{"$f":"SUM(G$9:G$1000)","v":8637550},null,null,null,null,null,{"$f":"SUM(M$9:M$1000)","v":5394895},{"$f":"SUM(N$9:N$1000)","v":6089228},{"$f":"SUM(O$9:O$1000)","v":575546},{"$f":"SUM(P$9:P$1000)","v":4145301.9899999998}]
[]
["Structure administrative du pays",null,null,"Population",null,null,null,"Endémicité",null,null,null,null,"Population nécessitant la CP",null,null,null,"Nombre de tournées de traitement prévues pour l'année",null,null,null,"Mise en oeuvre de la chimioprévention",null,null,null,null,null,null,null,null,"mda1","mda3","t1","t2"]
["Pays","Région/Département","District","Total","EAPréS","EAS","Adultes","FL","Oncho","STH","SCH","Loa","FL","Oncho","STH","SCH","FL","Oncho","STH","SCH","TOURNEE 1","TOURNEE 2",null,null,"IU_ID","IU_Name","Parent_IU_ID","Parent_IU_Name","x","x","x","x","x","x","x","x","x","x","x","x","x","x","x","x","x","x","x","x","x","x","x","x","x","x","x"]
[]
[{"$f":"IF(INTRO!$E$34<>0,INTRO!$E$34,\"\")","v":"Chad"},"Bahr El Gazel","Chadra",100917,{"$f":"IF(INTRO!$E$48=\"\",\"\",ROUND($D9*INTRO!$E$48,0))","v":16651},{"$f":"IF(INTRO!$E$49=\"\",\"\",ROUND($D9*INTRO!$E$49,0))","v":30628},{"$f":"IF(INTRO!$E$50=\"\",\"\",ROUND($D9*INTRO!$E$50,0))","v":49903},0,0,2,2,null,{"$f":"IF(INTRO!$E$38=\"Endémique\", IF($H9>0, IF($H9=4,\"Inconnu\", IF($H9=99,\"Interrompu\", $D9)), 0),\"Non requis\")","v":0},{"$f":"IF(INTRO!$E$40=\"Endémique\", IF($I9>0, IF($I9=4,\"Inconnu\",IF($I9=99,\"Interrompu\", $D9)), 0),\"Non requis\")","v":0},{"$f":"IF(INTRO!$E$42=\"Endémique\", IF(AND($J9>1,$J9<5), IF($J9=4, \"Inconnu\", E9+F9), 0),\"Non requis\")","v":47279},{"$f":"IF(INTRO!$E$44=\"Endémique\", IF(AND($K9>0,$K9<5), IF($K9=4,\"Inconnu\", IF($K9=1, $F9*0.33, IF($K9=2, $F9*0.5+$G9*0.2, SUM(F9:G9)))), 0),\"Non requis\")","v":25294.6},0,0,0,0,null,null,null,null,10660,"Chadra",null,null,null,{"$f":"'MDA1'!K9","v":0},{"$f":"'MDA3'!O9","v":0},{"$f":"'T1'!M9","v":0},{"$f":"'T2'!K9","v":0},null,null,{"$f":"_xlfn.XLOOKUP($Y9,[1]COUNTRY_INFO!$W$9:$W$131,[1]COUNTRY_INFO!K$9:K$131)","v":2}]
[{"$f":"IF(INTRO!$E$34<>0,INTRO!$E$34,\"\")","v":"Chad"},"Bahr El Gazel","Michemire",48440,{"$f":"IF(INTRO!$E$48=\"\",\"\",ROUND($D10*INTRO!$E$48,0))","v":7993},{"$f":"IF(INTRO!$E$49=\"\",\"\",ROUND($D10*INTRO!$E$49,0))","v":14702},{"$f":"IF(INTRO!$E$50=\"\",\"\",ROUND($D10*INTRO!$E$50,0))","v":23954},0,0,1,2,null,{"$f":"IF(INTRO!$E$38=\"Endémique\", IF($H10>0, IF($H10=4,\"Inconnu\", IF($H10=99,\"Interrompu\", $D10)), 0),\"Non requis\")","v":0},{"$f":"IF(INTRO!$E$40=\"Endémique\", IF($I10>0, IF($I10=4,\"Inconnu\",IF($I10=99,\"Interrompu\", $D10)), 0),\"Non requis\")","v":0},{"$f":"IF(INTRO!$E$42=\"Endémique\", IF(AND($J10>1,$J10<5), IF($J10=4, \"Inconnu\", E10+F10), 0),\"Non requis\")","v":0},{"$f":"IF(INTRO!$E$44=\"Endémique\", IF(AND($K10>0,$K10<5), IF($K10=4,\"Inconnu\", IF($K10=1, $F10*0.33, IF($K10=2, $F10*0.5+$G10*0.2, SUM(F10:G10)))), 0),\"Non requis\")","v":12141.8},0,0,0,0,null,null,null,null,10670,"Michemire",null,null,null,{"$f":"'MDA1'!K10","v":0},{"$f":"'MDA3'!O10","v":0},{"$f":"'T1'!M10","v":0},{"$f":"'T2'!K10","v":0},null,null,{"$f":"_xlfn.XLOOKUP($Y10,[1]COUNTRY_INFO!$W$9:$W$131,[1]COUNTRY_INFO!K$9:K$131)","v":2}]
[{"$f":"IF(INTRO!$E$34<>0,INTRO!$E$34,\"\")","v":"Chad"},"Bahr El Gazel","Moussoro",201835,{"$f":"IF(INTRO!$E$48=\"\",\"\",ROUND($D11*INTRO!$E$48,0))","v":33303},{"$f":"IF(INTRO!$E$49=\"\",\"\",ROUND($D11*INTRO!$E$49,0))","v":61257},{"$f":"IF(INTRO!$E$50=\"\",\"\",ROUND($D11*INTRO!$E$50,0))","v":99807},0,0,1,2,null,{"$f":"IF(INTRO!$E$38=\"Endémique\", IF($H11>0, IF($H11=4,\"Inconnu\", IF($H11=99,\"Interrompu\", $D11)), 0),\"Non requis\")","v":0},{"$f":"IF(INTRO!$E$40=\"Endémique\", IF($I11>0, IF($I11=4,\"Inconnu\",IF($I11=99,\"Interrompu\", $D11)), 0),\"Non requis\")","v":0},{"$f":"IF(INTRO!$E$42=\"Endémique\", IF(AND($J11>1,$J11<5), IF($J11=4, \"Inconnu\", E11+F11), 0),\"Non requis\")","v":0},{"$f":"IF(INTRO!$E$44=\"Endémique\", IF(AND($K11>0,$K11<5), IF($K11=4,\"Inconnu\", IF($K11=1, $F11*0.33, IF($K11=2, $F11*0.5+$G11*0.2, SUM(F11:G11)))), 0),\"Non requis\")","v":50589.9},0,0,0,0,null,null,null,null,10661,"Moussoro",null,null,null,{"$f":"'MDA1'!K11","v":0},{"$f":"'MDA3'!O11","v":0},{"$f":"'T1'!M11","v":0},{"$f":"'T2'!K11","v":0},null,null,{"$f":"_xlfn.XLOOKUP($Y11,[1]COUNTRY_INFO!$W$9:$W$131,[1]COUNTRY_INFO!K$9:K$131)","v":2}]
[{"$f":"IF(INTRO!$E$34<>0,INTRO!$E$34,\"\")","v":"Chad"},"Bahr El Gazel","Salal",52477,{"$f":"IF(INTRO!$E$48=\"\",\"\",ROUND($D12*INTRO!$E$48,0))","v":8659},{"$f":"IF(INTRO!$E$49=\"\",\"\",ROUND($D12*INTRO!$E$49,0))","v":15927},{"$f":"IF(INTRO!$E$50=\"\",\"\",ROUND($D12*INTRO!$E$50,0))","v":25950},0,0,1,2,null,{"$f":"IF(INTRO!$E$38=\"Endémique\", IF($H12>0, IF($H12=4,\"Inconnu\", IF($H12=99,\"Interrompu\", $D12)), 0),\"Non requis\")","v":0},{"$f":"IF(INTRO!$E$40=\"Endémique\", IF($I12>0, IF($I12=4,\"Inconnu\",IF($I12=99,\"Interrompu\", $D12)), 0),\"Non requis\")","v":0},{"$f":"IF(INTRO!$E$42=\"Endémique\", IF(AND($J12>1,$J12<5), IF($J12=4, \"Inconnu\", E12+F12), 0),\"Non requis\")","v":0},{"$f":"IF(INTRO!$E$44=\"Endémique\", IF(AND($K12>0,$K12<5), IF($K12=4,\"Inconnu\", IF($K12=1, $F12*0.33, IF($K12=2, $F12*0.5+$G12*0.2, SUM(F12:G12)))), 0),\"Non requis\")","v":13153.5},0,0,0,0,null,null,null,null,10711,"Salal",null,null,null,{"$f":"'MDA1'!K12","v":0},{"$f":"'MDA3'!O12","v":0},{"$f":"'T1'!M12","v":0},{"$f":"'T2'!K12","v":0},null,null,{"$f":"_xlfn.XLOOKUP($Y12,[1]COUNTRY_INFO!$W$9:$W$131,[1]COUNTRY_INFO!K$9:K$131)","v":2}]
[{"$f":"IF(INTRO!$E$34<>0,INTRO!$E$34,\"\")","v":"Chad"},"Batha","Alifa",114962,{"$f":"IF(INTRO!$E$48=\"\",\"\",ROUND($D13*INTRO!$E$48,0))","v":18969},{"$f":"IF(INTRO!$E$49=\"\",\"\",ROUND($D13*INTRO!$E$49,0))","v":34891},{"$f":"IF(INTRO!$E$50=\"\",\"\",ROUND($D13*INTRO!$E$50,0))","v":56849},0,0,0,2,null,{"$f":"IF(INTRO!$E$38=\"Endémique\", IF($H13>0, IF($H13=4,\"Inconnu\", IF($H13=99,\"Interrompu\", $D13)), 0),\"Non requis\")","v":0},{"$f":"IF(INTRO!$E$40=\"Endémique\", IF($I13>0, IF($I13=4,\"Inconnu\",IF($I13=99,\"Interrompu\", $D13)), 0),\"Non requis\")","v":0},{"$f":"IF(INTRO!$E$42=\"Endémique\", IF(AND($J13>1,$J13<5), IF($J13=4, \"Inconnu\", E13+F13), 0),\"Non requis\")","v":0},{"$f":"IF(INTRO!$E$44=\"Endémique\", IF(AND($K13>0,$K13<5), IF($K13=4,\"Inconnu\", IF($K13=1, $F13*0.33, IF($K13=2, $F13*0.5+$G13*0.2, SUM(F13:G13)))), 0),\"Non requis\")","v":28815.300000000003},0,0,0,0,null,null,null,null,10739,"Alifa",null,null,null,{"$f":"'MDA1'!K13","v":0},{"$f":"'MDA3'!O13","v":0},{"$f":"'T1'!M13","v":0},{"$f":"'T2'!K13","v":0},null,null,{"$f":"_xlfn.XLOOKUP($Y13,[1]COUNTRY_INFO!$W$9:$W$131,[1]COUNTRY_INFO!K$9:K$131)","v":2}]
[{"$f":"IF(INTRO!$E$34<>0,INTRO!$E$34,\"\")","v":"Chad"},"Batha","Assinet",91970,{"$f":"IF(INTRO!$E$48=\"\",\"\",ROUND($D14*INTRO!$E$48,0))","v":15175},{"$f":"IF(INTRO!$E$49=\"\",\"\",ROUND($D14*INTRO!$E$49,0))","v":27913},{"$f":"IF(INTRO!$E$50=\"\",\"\",ROUND($D14*INTRO!$E$50,0))","v":45479},0,0,0,2,null,{"$f":"IF(INTRO!$E$38=\"Endémique\", IF($H14>0, IF($H14=4,\"Inconnu\", IF($H14=99,\"Interrompu\", $D14)), 0),\"Non requis\")","v":0},{"$f":"IF(INTRO!$E$40=\"Endémique\", IF($I14>0, IF($I14=4,\"Inconnu\",IF($I14=99,\"Interrompu\", $D14)), 0),\"Non requis\")","v":0},{"$f":"IF(INTRO!$E$42=\"Endémique\", IF(AND($J14>1,$J14<5), IF($J14=4, \"Inconnu\", E14+F14), 0),\"Non requis\")","v":0},{"$f":"IF(INTRO!$E$44=\"Endémique\", IF(AND($K14>0,$K14<5), IF($K14=4,\"Inconnu\", IF($K14=1, $F14*0.33, IF($K14=2, $F14*0.5+$G14*0.2, SUM(F14:G14)))), 0),\"Non requis\")","v":23052.300000000003},0,0,0,0,null,null,null,null,10745,"Assinet",null,null,null,{"$f":"'MDA1'!K14","v":0},{"$f":"'MDA3'!O14","v":0},{"$f":"'T1'!M14","v":0},{"$f":"'T2'!K14","v":0},null,null,{"$f":"_xlfn.XLOOKUP($Y14,[1]COUNTRY_INFO!$W$9:$W$131,[1]COUNTRY_INFO!K$9:K$131)","v":2}]
[{"$f":"IF(INTRO!$E$34<>0,INTRO!$E$34,\"\")","v":"Chad"},"Batha","Ati",59780,{"$f":"IF(INTRO!$E$48=\"\",\"\",ROUND($D15*INTRO!$E$48,0))","v":9864},{"$f":"IF(INTRO!$E$49=\"\",\"\",ROUND($D15*INTRO!$E$49,0))","v":18143},{"$f":"IF(INTRO!$E$50=\"\",\"\",ROUND($D15*INTRO!$E$50,0))","v":29561},0,0,0,2,null,{"$f":"IF(INTRO!$E$38=\"Endémique\", IF($H15>0, IF($H15=4,\"Inconnu\", IF($H15=99,\"Interrompu\", $D15)), 0),\"Non requis\")","v":0},{"$f":"IF(INTRO!$E$40=\"Endémique\", IF($I15>0, IF($I15=4,\"Inconnu\",IF($I15=99,\"Interrompu\", $D15)), 0),\"Non requis\")","v":0},{"$f":"IF(INTRO!$E$42=\"Endémique\", IF(AND($J15>1,$J15<5), IF($J15=4, \"Inconnu\", E15+F15), 0),\"Non requis\")","v":0},{"$f":"IF(INTRO!$E$44=\"Endémique\", IF(AND($K15>0,$K15<5), IF($K15=4,\"Inconnu\", IF($K15=1, $F15*0.33, IF($K15=2, $F15*0.5+$G15*0.2, SUM(F15:G15)))), 0),\"Non requis\")","v":14983.7},0,0,0,0,null,null,null,null,10662,"Ati",null,null,null,{"$f":"'MDA1'!K15","v":0},{"$f":"'MDA3'!O15","v":0},{"$f":"'T1'!M15","v":0},{"$f":"'T2'!K15","v":0},null,null,{"$f":"_xlfn.XLOOKUP($Y15,[1]COUNTRY_INFO!$W$9:$W$131,[1]COUNTRY_INFO!K$9:K$131)","v":2}]
[{"$f":"IF(INTRO!$E$34<>0,INTRO!$E$34,\"\")","v":"Chad"},"Batha","Djedda",53803,{"$f":"IF(INTRO!$E$48=\"\",\"\",ROUND($D16*INTRO!$E$48,0))","v":8877},{"$f":"IF(INTRO!$E$49=\"\",\"\",ROUND($D16*INTRO!$E$49,0))","v":16329},{"$f":"IF(INTRO!$E$50=\"\",\"\",ROUND($D16*INTRO!$E$50,0))","v":26606},0,0,0,2,null,{"$f":"IF(INTRO!$E$38=\"Endémique\", IF($H16>0, IF($H16=4,\"Inconnu\", IF($H16=99,\"Interrompu\", $D16)), 0),\"Non requis\")","v":0},{"$f":"IF(INTRO!$E$40=\"Endémique\", IF($I16>0, IF($I16=4,\"Inconnu\",IF($I16=99,\"Interrompu\", $D16)), 0),\"Non requis\")","v":0},{"$f":"IF(INTRO!$E$42=\"Endémique\", IF(AND($J16>1,$J16<5), IF($J16=4, \"Inconnu\", E16+F16), 0),\"Non requis\")","v":0},{"$f":"IF(INTRO!$E$44=\"Endémique\", IF(AND($K16>0,$K16<5), IF($K16=4,\"Inconnu\", IF($K16=1, $F16*0.33, IF($K16=2, $F16*0.5+$G16*0.2, SUM(F16:G16)))), 0),\"Non requis\")","v":13485.7},0,0,0,0,null,null,null,null,10761,"Djedda",null,null,null,{"$f":"'MDA1'!K16","v":0},{"$f":"'MDA3'!O16","v":0},{"$f":"'T1'!M16","v":0},{"$f":"'T2'!K16","v":0},null,null,{"$f":"_xlfn.XLOOKUP($Y16,[1]COUNTRY_INFO!$W$9:$W$131,[1]COUNTRY_INFO!K$9:K$131)","v":2}]
[{"$f":"IF(INTRO!$E$34<>0,INTRO!$E$34,\"\")","v":"Chad"},"Batha","Koundjourou",85685,{"$f":"IF(INTRO!$E$48=\"\",\"\",ROUND($D17*INTRO!$E$48,0))","v":14138},{"$f":"IF(INTRO!$E$49=\"\",\"\",ROUND($D17*INTRO!$E$49,0))","v":26005},{"$f":"IF(INTRO!$E$50=\"\",\"\",ROUND($D17*INTRO!$E$50,0))","v":42371},0,0,0,2,null,{"$f":"IF(INTRO!$E$38=\"Endémique\", IF($H17>0, IF($H17=4,\"Inconnu\", IF($H17=99,\"Interrompu\", $D17)), 0),\"Non requis\")","v":0},{"$f":"IF(INTRO!$E$40=\"Endémique\", IF($I17>0, IF($I17=4,\"Inconnu\",IF($I17=99,\"Interrompu\", $D17)), 0),\"Non requis\")","v":0},{"$f":"IF(INTRO!$E$42=\"Endémique\", IF(AND($J17>1,$J17<5), IF($J17=4, \"Inconnu\", E17+F17), 0),\"Non requis\")","v":0},{"$f":"IF(INTRO!$E$44=\"Endémique\", IF(AND($K17>0,$K17<5), IF($K17=4,\"Inconnu\", IF($K17=1, $F17*0.33, IF($K17=2, $F17*0.5+$G17*0.2, SUM(F17:G17)))), 0),\"Non requis\")","v":21476.7},0,0,0,0,null,null,null,null,10762,"Koundjourou",null,null,null,{"$f":"'MDA1'!K17","v":0},{"$f":"'MDA3'!O17","v":0},{"$f":"'T1'!M17","v":0},{"$f":"'T2'!K17","v":0},null,null,{"$f":"_xlfn.XLOOKUP($Y17,[1]COUNTRY_INFO!$W$9:$W$131,[1]COUNTRY_INFO!K$9:K$131)","v":2}]
[{"$f":"IF(INTRO!$E$34<>0,INTRO!$E$34,\"\")","v":"Chad"},"Batha","Oum-Hadjer",183940,{"$f":"IF(INTRO!$E$48=\"\",\"\",ROUND($D18*INTRO!$E$48,0))","v":30350},{"$f":"IF(INTRO!$E$49=\"\",\"\",ROUND($D18*INTRO!$E$49,0))","v":55826},{"$f":"IF(INTRO!$E$50=\"\",\"\",ROUND($D18*INTRO!$E$50,0))","v":90958},0,0,0,2,null,{"$f":"IF(INTRO!$E$38=\"Endémique\", IF($H18>0, IF($H18=4,\"Inconnu\", IF($H18=99,\"Interrompu\", $D18)), 0),\"Non requis\")","v":0},{"$f":"IF(INTRO!$E$40=\"Endémique\", IF($I18>0, IF($I18=4,\"Inconnu\",IF($I18=99,\"Interrompu\", $D18)), 0),\"Non requis\")","v":0},{"$f":"IF(INTRO!$E$42=\"Endémique\", IF(AND($J18>1,$J18<5), IF($J18=4, \"Inconnu\", E18+F18), 0),\"Non requis\")","v":0},{"$f":"IF(INTRO!$E$44=\"Endémique\", IF(AND($K18>0,$K18<5), IF($K18=4,\"Inconnu\", IF($K18=1, $F18*0.33, IF($K18=2, $F18*0.5+$G18*0.2, SUM(F18:G18)))), 0),\"Non requis\")","v":46104.600000000006},0,0,0,0,null,null,null,null,10663,"Oum-Hadjer",null,null,null,{"$f":"'MDA1'!K18","v":0},{"$f":"'MDA3'!O18","v":0},{"$f":"'T1'!M18","v":0},{"$f":"'T2'!K18","v":0},null,null,{"$f":"_xlfn.XLOOKUP($Y18,[1]COUNTRY_INFO!$W$9:$W$131,[1]COUNTRY_INFO!K$9:K$131)","v":2}]
[{"$f":"IF(INTRO!$E$34<>0,INTRO!$E$34,\"\")","v":"Chad"},"Batha","Yao",176277,{"$f":"IF(INTRO!$E$48=\"\",\"\",ROUND($D19*INTRO!$E$48,0))","v":29086},{"$f":"IF(INTRO!$E$49=\"\",\"\",ROUND($D19*INTRO!$E$49,0))","v":53500},{"$f":"IF(INTRO!$E$50=\"\",\"\",ROUND($D19*INTRO!$E$50,0))","v":87169},0,0,1,2,null,{"$f":"IF(INTRO!$E$38=\"Endémique\", IF($H19>0, IF($H19=4,\"Inconnu\", IF($H19=99,\"Interrompu\", $D19)), 0),\"Non requis\")","v":0},{"$f":"IF(INTRO!$E$40=\"Endémique\", IF($I19>0, IF($I19=4,\"Inconnu\",IF($I19=99,\"Interrompu\", $D19)), 0),\"Non requis\")","v":0},{"$f":"IF(INTRO!$E$42=\"Endémique\", IF(AND($J19>1,$J19<5), IF($J19=4, \"Inconnu\", E19+F19), 0),\"Non requis\")","v":0},{"$f":"IF(INTRO!$E$44=\"Endémique\", IF(AND($K19>0,$K19<5), IF($K19=4,\"Inconnu\", IF($K19=1, $F19*0.33, IF($K19=2, $F19*0.5+$G19*0.2, SUM(F19:G19)))), 0),\"Non requis\")","v":44183.8},0,0,0,0,null,null,null,null,10664,"Yao",null,null,null,{"$f":"'MDA1'!K19","v":0},{"$f":"'MDA3'!O19","v":0},{"$f":"'T1'!M19","v":0},{"$f":"'T2'!K19","v":0},null,null,{"$f":"_xlfn.XLOOKUP($Y19,[1]COUNTRY_INFO!$W$9:$W$131,[1]COUNTRY_INFO!K$9:K$131)","v":2}]
[{"$f":"IF(INTRO!$E$34<>0,INTRO!$E$34,\"\")","v":"Chad"},"Borkou","Faya",45058,{"$f":"IF(INTRO!$E$48=\"\",\"\",ROUND($D20*INTRO!$E$48,0))","v":7435},{"$f":"IF(INTRO!$E$49=\"\",\"\",ROUND($D20*INTRO!$E$49,0))","v":13675},{"$f":"IF(INTRO!$E$50=\"\",\"\",ROUND($D20*INTRO!$E$50,0))","v":22281},0,0,1,1,null,{"$f":"IF(INTRO!$E$38=\"Endémique\", IF($H20>0, IF($H20=4,\"Inconnu\", IF($H20=99,\"Interrompu\", $D20)), 0),\"Non requis\")","v":0},{"$f":"IF(INTRO!$E$40=\"Endémique\", IF($I20>0, IF($I20=4,\"Inconnu\",IF($I20=99,\"Interrompu\", $D20)), 0),\"Non requis\")","v":0},{"$f":"IF(INTRO!$E$42=\"Endémique\", IF(AND($J20>1,$J20<5), IF($J20=4, \"Inconnu\", E20+F20), 0),\"Non requis\")","v":0},{"$f":"IF(INTRO!$E$44=\"Endémique\", IF(AND($K20>0,$K20<5), IF($K20=4,\"Inconnu\", IF($K20=1, $F20*0.33, IF($K20=2, $F20*0.5+$G20*0.2, SUM(F20:G20)))), 0),\"Non requis\")","v":4512.75},0,0,0,0,null,null,null,null,10666,"Faya",null,null,null,{"$f":"'MDA1'!K20","v":0},{"$f":"'MDA3'!O20","v":0},{"$f":"'T1'!M20","v":0},{"$f":"'T2'!K20","v":0},null,null,{"$f":"_xlfn.XLOOKUP($Y20,[1]COUNTRY_INFO!$W$9:$W$131,[1]COUNTRY_INFO!K$9:K$131)","v":1}]
[{"$f":"IF(INTRO!$E$34<>0,INTRO!$E$34,\"\")","v":"Chad"},"Borkou","Kirdimi",39647,{"$f":"IF(INTRO!$E$48=\"\",\"\",ROUND($D21*INTRO!$E$48,0))","v":6542},{"$f":"IF(INTRO!$E$49=\"\",\"\",ROUND($D21*INTRO!$E$49,0))","v":12033},{"$f":"IF(INTRO!$E$50=\"\",\"\",ROUND($D21*INTRO!$E$50,0))","v":19605},0,0,1,1,null,{"$f":"IF(INTRO!$E$38=\"Endémique\", IF($H21>0, IF($H21=4,\"Inconnu\", IF($H21=99,\"Interrompu\", $D21)), 0),\"Non requis\")","v":0},{"$f":"IF(INTRO!$E$40=\"Endémique\", IF($I21>0, IF($I21=4,\"Inconnu\",IF($I21=99,\"Interrompu\", $D21)), 0),\"Non requis\")","v":0},{"$f":"IF(INTRO!$E$42=\"Endémique\", IF(AND($J21>1,$J21<5), IF($J21=4, \"Inconnu\", E21+F21), 0),\"Non requis\")","v":0},{"$f":"IF(INTRO!$E$44=\"Endémique\", IF(AND($K21>0,$K21<5), IF($K21=4,\"Inconnu\", IF($K21=1, $F21*0.33, IF($K21=2, $F21*0.5+$G21*0.2, SUM(F21:G21)))), 0),\"Non requis\")","v":3970.8900000000003},0,0,0,0,null,null,null,null,10746,"Kirdimi",null,null,null,{"$f":"'MDA1'!K21","v":0},{"$f":"'MDA3'!O21","v":0},{"$f":"'T1'!M21","v":0},{"$f":"'T2'!K21","v":0},null,null,{"$f":"_xlfn.XLOOKUP($Y21,[1]COUNTRY_INFO!$W$9:$W$131,[1]COUNTRY_INFO!K$9:K$131)","v":1}]
[{"$f":"IF(INTRO!$E$34<>0,INTRO!$E$34,\"\")","v":"Chad"},"Borkou","Kouba Olanga",56149,{"$f":"IF(INTRO!$E$48=\"\",\"\",ROUND($D22*INTRO!$E$48,0))","v":9265},{"$f":"IF(INTRO!$E$49=\"\",\"\",ROUND($D22*INTRO!$E$49,0))","v":17041},{"$f":"IF(INTRO!$E$50=\"\",\"\",ROUND($D22*INTRO!$E$50,0))","v":27766},0,0,1,1,null,{"$f":"IF(INTRO!$E$38=\"Endémique\", IF($H22>0, IF($H22=4,\"Inconnu\", IF($H22=99,\"Interrompu\", $D22)), 0),\"Non requis\")","v":0},{"$f":"IF(INTRO!$E$40=\"Endémique\", IF($I22>0, IF($I22=4,\"Inconnu\",IF($I22=99,\"Interrompu\", $D22)), 0),\"Non requis\")","v":0},{"$f":"IF(INTRO!$E$42=\"Endémique\", IF(AND($J22>1,$J22<5), IF($J22=4, \"Inconnu\", E22+F22), 0),\"Non requis\")","v":0},{"$f":"IF(INTRO!$E$44=\"Endémique\", IF(AND($K22>0,$K22<5), IF($K22=4,\"Inconnu\", IF($K22=1, $F22*0.33, IF($K22=2, $F22*0.5+$G22*0.2, SUM(F22:G22)))), 0),\"Non requis\")","v":5623.5300000000007},0,0,0,0,null,null,null,null,10783,"Kouba Olanga",10666,"Faya",null,{"$f":"'MDA1'!K22","v":0},{"$f":"'MDA3'!O22","v":0},{"$f":"'T1'!M22","v":0},{"$f":"'T2'!K22","v":0}]
[{"$f":"IF(INTRO!$E$34<>0,INTRO!$E$34,\"\")","v":"Chad"},"Chari  Baguirmi","Ba-Illi",101023,{"$f":"IF(INTRO!$E$48=\"\",\"\",ROUND($D23*INTRO!$E$48,0))","v":16669},{"$f":"IF(INTRO!$E$49=\"\",\"\",ROUND($D23*INTRO!$E$49,0))","v":30660},{"$f":"IF(INTRO!$E$50=\"\",\"\",ROUND($D23*INTRO!$E$50,0))","v":49956},0,4,1,2,null,{"$f":"IF(INTRO!$E$38=\"Endémique\", IF($H23>0, IF($H23=4,\"Inconnu\", IF($H23=99,\"Interrompu\", $D23)), 0),\"Non requis\")","v":0},{"$f":"IF(INTRO!$E$40=\"Endémique\", IF($I23>0, IF($I23=4,\"Inconnu\",IF($I23=99,\"Interrompu\", $D23)), 0),\"Non requis\")","v":"Inconnu"},{"$f":"IF(INTRO!$E$42=\"Endémique\", IF(AND($J23>1,$J23<5), IF($J23=4, \"Inconnu\", E23+F23), 0),\"Non requis\")","v":0},{"$f":"IF(INTRO!$E$44=\"Endémique\", IF(AND($K23>0,$K23<5), IF($K23=4,\"Inconnu\", IF($K23=1, $F23*0.33, IF($K23=2, $F23*0.5+$G23*0.2, SUM(F23:G23)))), 0),\"Non requis\")","v":25321.200000000001},0,0,0,0,null,null,null,null,10667,"Ba-Illi",null,null,null,{"$f":"'MDA1'!K23","v":0},{"$f":"'MDA3'!O23","v":0},{"$f":"'T1'!M23","v":0},{"$f":"'T2'!K23","v":0},null,null,{"$f":"_xlfn.XLOOKUP($Y23,[1]COUNTRY_INFO!$W$9:$W$131,[1]COUNTRY_INFO!K$9:K$131)","v":2}]
[{"$f":"IF(INTRO!$E$34<>0,INTRO!$E$34,\"\")","v":"Chad"},"Chari  Baguirmi","Bousso",161738,{"$f":"IF(INTRO!$E$48=\"\",\"\",ROUND($D24*INTRO!$E$48,0))","v":26687},{"$f":"IF(INTRO!$E$49=\"\",\"\",ROUND($D24*INTRO!$E$49,0))","v":49087},{"$f":"IF(INTRO!$E$50=\"\",\"\",ROUND($D24*INTRO!$E$50,0))","v":79979},0,4,1,2,null,{"$f":"IF(INTRO!$E$38=\"Endémique\", IF($H24>0, IF($H24=4,\"Inconnu\", IF($H24=99,\"Interrompu\", $D24)), 0),\"Non requis\")","v":0},{"$f":"IF(INTRO!$E$40=\"Endémique\", IF($I24>0, IF($I24=4,\"Inconnu\",IF($I24=99,\"Interrompu\", $D24)), 0),\"Non requis\")","v":"Inconnu"},{"$f":"IF(INTRO!$E$42=\"Endémique\", IF(AND($J24>1,$J24<5), IF($J24=4, \"Inconnu\", E24+F24), 0),\"Non requis\")","v":0},{"$f":"IF(INTRO!$E$44=\"Endémique\", IF(AND($K24>0,$K24<5), IF($K24=4,\"Inconnu\", IF($K24=1, $F24*0.33, IF($K24=2, $F24*0.5+$G24*0.2, SUM(F24:G24)))), 0),\"Non requis\")","v":40539.300000000003},0,0,0,0,null,null,null,null,10668,"Bousso",null,null,null,{"$f":"'MDA1'!K24","v":0},{"$f":"'MDA3'!O24","v":0},{"$f":"'T1'!M24","v":0},{"$f":"'T2'!K24","v":0},null,null,{"$f":"_xlfn.XLOOKUP($Y24,[1]COUNTRY_INFO!$W$9:$W$131,[1]COUNTRY_INFO!K$9:K$131)","v":2}]
[{"$f":"IF(INTRO!$E$34<>0,INTRO!$E$34,\"\")","v":"Chad"},"Chari  Baguirmi","Dourbali",174454,{"$f":"IF(INTRO!$E$48=\"\",\"\",ROUND($D25*INTRO!$E$48,0))","v":28785},{"$f":"IF(INTRO!$E$49=\"\",\"\",ROUND($D25*INTRO!$E$49,0))","v":52947},{"$f":"IF(INTRO!$E$50=\"\",\"\",ROUND($D25*INTRO!$E$50,0))","v":86268},0,4,1,2,null,{"$f":"IF(INTRO!$E$38=\"Endémique\", IF($H25>0, IF($H25=4,\"Inconnu\", IF($H25=99,\"Interrompu\", $D25)), 0),\"Non requis\")","v":0},{"$f":"IF(INTRO!$E$40=\"Endémique\", IF($I25>0, IF($I25=4,\"Inconnu\",IF($I25=99,\"Interrompu\", $D25)), 0),\"Non requis\")","v":"Inconnu"},{"$f":"IF(INTRO!$E$42=\"Endémique\", IF(AND($J25>1,$J25<5), IF($J25=4, \"Inconnu\", E25+F25), 0),\"Non requis\")","v":0},{"$f":"IF(INTRO!$E$44=\"Endémique\", IF(AND($K25>0,$K25<5), IF($K25=4,\"Inconnu\", IF($K25=1, $F25*0.33, IF($K25=2, $F25*0.5+$G25*0.2, SUM(F25:G25)))), 0),\"Non requis\")","v":43727.100000000006},0,0,0,0,null,null,null,null,10669,"Dourbali",null,null,null,{"$f":"'MDA1'!K25","v":0},{"$f":"'MDA3'!O25","v":0},{"$f":"'T1'!M25","v":0},{"$f":"'T2'!K25","v":0},null,null,{"$f":"_xlfn.XLOOKUP($Y25,[1]COUNTRY_INFO!$W$9:$W$131,[1]COUNTRY_INFO!K$9:K$131)","v":2}]
[{"$f":"IF(INTRO!$E$34<>0,INTRO!$E$34,\"\")","v":"Chad"},"Chari  Baguirmi","Koulno",277745,{"$f":"IF(INTRO!$E$48=\"\",\"\",ROUND($D26*INTRO!$E$48,0))","v":45828},{"$f":"IF(INTRO!$E$49=\"\",\"\",ROUND($D26*INTRO!$E$49,0))","v":84296},{"$f":"IF(INTRO!$E$50=\"\",\"\",ROUND($D26*INTRO!$E$50,0))","v":137345},0,4,1,2,null,{"$f":"IF(INTRO!$E$38=\"Endémique\", IF($H26>0, IF($H26=4,\"Inconnu\", IF($H26=99,\"Interrompu\", $D26)), 0),\"Non requis\")","v":0},{"$f":"IF(INTRO!$E$40=\"Endémique\", IF($I26>0, IF($I26=4,\"Inconnu\",IF($I26=99,\"Interrompu\", $D26)), 0),\"Non requis\")","v":"Inconnu"},{"$f":"IF(INTRO!$E$42=\"Endémique\", IF(AND($J26>1,$J26<5), IF($J26=4, \"Inconnu\", E26+F26), 0),\"Non requis\")","v":0},{"$f":"IF(INTRO!$E$44=\"Endémique\", IF(AND($K26>0,$K26<5), IF($K26=4,\"Inconnu\", IF($K26=1, $F26*0.33, IF($K26=2, $F26*0.5+$G26*0.2, SUM(F26:G26)))), 0),\"Non requis\")","v":69617},0,0,0,0,null,null,null,null,10747,"Koulno",null,null,null,{"$f":"'MDA1'!K26","v":0},{"$f":"'MDA3'!O26","v":0},{"$f":"'T1'!M26","v":0},{"$f":"'T2'!K26","v":0},null,null,{"$f":"_xlfn.XLOOKUP($Y26,[1]COUNTRY_INFO!$W$9:$W$131,[1]COUNTRY_INFO!K$9:K$131)","v":2}]
[{"$f":"IF(INTRO!$E$34<>0,INTRO!$E$34,\"\")","v":"Chad"},"Chari  Baguirmi","Mandélia",151996,{"$f":"IF(INTRO!$E$48=\"\",\"\",ROUND($D27*INTRO!$E$48,0))","v":25079},{"$f":"IF(INTRO!$E$49=\"\",\"\",ROUND($D27*INTRO!$E$49,0))","v":46131},{"$f":"IF(INTRO!$E$50=\"\",\"\",ROUND($D27*INTRO!$E$50,0))","v":75162},0,4,1,2,null,{"$f":"IF(INTRO!$E$38=\"Endémique\", IF($H27>0, IF($H27=4,\"Inconnu\", IF($H27=99,\"Interrompu\", $D27)), 0),\"Non requis\")","v":0},{"$f":"IF(INTRO!$E$40=\"Endémique\", IF($I27>0, IF($I27=4,\"Inconnu\",IF($I27=99,\"Interrompu\", $D27)), 0),\"Non requis\")","v":"Inconnu"},{"$f":"IF(INTRO!$E$42=\"Endémique\", IF(AND($J27>1,$J27<5), IF($J27=4, \"Inconnu\", E27+F27), 0),\"Non requis\")","v":0},{"$f":"IF(INTRO!$E$44=\"Endémique\", IF(AND($K27>0,$K27<5), IF($K27=4,\"Inconnu\", IF($K27=1, $F27*0.33, IF($K27=2, $F27*0.5+$G27*0.2, SUM(F27:G27)))), 0),\"Non requis\")","v":38097.9},0,0,0,0,null,null,null,null,10671,"Mandélia",null,null,null,{"$f":"'MDA1'!K27","v":0},{"$f":"'MDA3'!O27","v":0},{"$f":"'T1'!M27","v":0},{"$f":"'T2'!K27","v":0},null,null,{"$f":"_xlfn.XLOOKUP($Y27,[1]COUNTRY_INFO!$W$9:$W$131,[1]COUNTRY_INFO!K$9:K$131)","v":2}]
[{"$f":"IF(INTRO!$E$34<>0,INTRO!$E$34,\"\")","v":"Chad"},"Chari  Baguirmi","Massenya",152823,{"$f":"IF(INTRO!$E$48=\"\",\"\",ROUND($D28*INTRO!$E$48,0))","v":25216},{"$f":"IF(INTRO!$E$49=\"\",\"\",ROUND($D28*INTRO!$E$49,0))","v":46382},{"$f":"IF(INTRO!$E$50=\"\",\"\",ROUND($D28*INTRO!$E$50,0))","v":75571},0,4,1,2,null,{"$f":"IF(INTRO!$E$38=\"Endémique\", IF($H28>0, IF($H28=4,\"Inconnu\", IF($H28=99,\"Interrompu\", $D28)), 0),\"Non requis\")","v":0},{"$f":"IF(INTRO!$E$40=\"Endémique\", IF($I28>0, IF($I28=4,\"Inconnu\",IF($I28=99,\"Interrompu\", $D28)), 0),\"Non requis\")","v":"Inconnu"},{"$f":"IF(INTRO!$E$42=\"Endémique\", IF(AND($J28>1,$J28<5), IF($J28=4, \"Inconnu\", E28+F28), 0),\"Non requis\")","v":0},{"$f":"IF(INTRO!$E$44=\"Endémique\", IF(AND($K28>0,$K28<5), IF($K28=4,\"Inconnu\", IF($K28=1, $F28*0.33, IF($K28=2, $F28*0.5+$G28*0.2, SUM(F28:G28)))), 0),\"Non requis\")","v":38305.199999999997},0,0,0,0,null,null,null,null,10672,"Massenya",null,null,null,{"$f":"'MDA1'!K28","v":0},{"$f":"'MDA3'!O28","v":0},{"$f":"'T1'!M28","v":0},{"$f":"'T2'!K28","v":0},null,null,{"$f":"_xlfn.XLOOKUP($Y28,[1]COUNTRY_INFO!$W$9:$W$131,[1]COUNTRY_INFO!K$9:K$131)","v":2}]
[{"$f":"IF(INTRO!$E$34<>0,INTRO!$E$34,\"\")","v":"Chad"},"Ennedi Est","Amdjarass",100909,{"$f":"IF(INTRO!$E$48=\"\",\"\",ROUND($D29*INTRO!$E$48,0))","v":16650},{"$f":"IF(INTRO!$E$49=\"\",\"\",ROUND($D29*INTRO!$E$49,0))","v":30626},{"$f":"IF(INTRO!$E$50=\"\",\"\",ROUND($D29*INTRO!$E$50,0))","v":49900},0,0,1,0,null,{"$f":"IF(INTRO!$E$38=\"Endémique\", IF($H29>0, IF($H29=4,\"Inconnu\", IF($H29=99,\"Interrompu\", $D29)), 0),\"Non requis\")","v":0},{"$f":"IF(INTRO!$E$40=\"Endémique\", IF($I29>0, IF($I29=4,\"Inconnu\",IF($I29=99,\"Interrompu\", $D29)), 0),\"Non requis\")","v":0},{"$f":"IF(INTRO!$E$42=\"Endémique\", IF(AND($J29>1,$J29<5), IF($J29=4, \"Inconnu\", E29+F29), 0),\"Non requis\")","v":0},{"$f":"IF(INTRO!$E$44=\"Endémique\", IF(AND($K29>0,$K29<5), IF($K29=4,\"Inconnu\", IF($K29=1, $F29*0.33, IF($K29=2, $F29*0.5+$G29*0.2, SUM(F29:G29)))), 0),\"Non requis\")","v":0},0,0,0,0,null,null,null,null,10675,"Amdjarass",null,null,null,{"$f":"'MDA1'!K29","v":0},{"$f":"'MDA3'!O29","v":0},{"$f":"'T1'!M29","v":0},{"$f":"'T2'!K29","v":0},null,null,{"$f":"_xlfn.XLOOKUP($Y29,[1]COUNTRY_INFO!$W$9:$W$131,[1]COUNTRY_INFO!K$9:K$131)","v":0}]
[{"$f":"IF(INTRO!$E$34<>0,INTRO!$E$34,\"\")","v":"Chad"},"Ennedi Est","Bahaï",43758,{"$f":"IF(INTRO!$E$48=\"\",\"\",ROUND($D30*INTRO!$E$48,0))","v":7220},{"$f":"IF(INTRO!$E$49=\"\",\"\",ROUND($D30*INTRO!$E$49,0))","v":13281},{"$f":"IF(INTRO!$E$50=\"\",\"\",ROUND($D30*INTRO!$E$50,0))","v":21638},0,0,1,0,null,{"$f":"IF(INTRO!$E$38=\"Endémique\", IF($H30>0, IF($H30=4,\"Inconnu\", IF($H30=99,\"Interrompu\", $D30)), 0),\"Non requis\")","v":0},{"$f":"IF(INTRO!$E$40=\"Endémique\", IF($I30>0, IF($I30=4,\"Inconnu\",IF($I30=99,\"Interrompu\", $D30)), 0),\"Non requis\")","v":0},{"$f":"IF(INTRO!$E$42=\"Endémique\", IF(AND($J30>1,$J30<5), IF($J30=4, \"Inconnu\", E30+F30), 0),\"Non requis\")","v":0},{"$f":"IF(INTRO!$E$44=\"Endémique\", IF(AND($K30>0,$K30<5), IF($K30=4,\"Inconnu\", IF($K30=1, $F30*0.33, IF($K30=2, $F30*0.5+$G30*0.2, SUM(F30:G30)))), 0),\"Non requis\")","v":0},0,0,0,0,null,null,null,null,10676,"Bahaï",null,null,null,{"$f":"'MDA1'!K30","v":0},{"$f":"'MDA3'!O30","v":0},{"$f":"'T1'!M30","v":0},{"$f":"'T2'!K30","v":0},null,null,{"$f":"_xlfn.XLOOKUP($Y30,[1]COUNTRY_INFO!$W$9:$W$131,[1]COUNTRY_INFO!K$9:K$131)","v":0}]
[{"$f":"IF(INTRO!$E$34<>0,INTRO!$E$34,\"\")","v":"Chad"},"Ennedi Est","Kaoura",35945,{"$f":"IF(INTRO!$E$48=\"\",\"\",ROUND($D31*INTRO!$E$48,0))","v":5931},{"$f":"IF(INTRO!$E$49=\"\",\"\",ROUND($D31*INTRO!$E$49,0))","v":10909},{"$f":"IF(INTRO!$E$50=\"\",\"\",ROUND($D31*INTRO!$E$50,0))","v":17775},0,0,1,1,null,{"$f":"IF(INTRO!$E$38=\"Endémique\", IF($H31>0, IF($H31=4,\"Inconnu\", IF($H31=99,\"Interrompu\", $D31)), 0),\"Non requis\")","v":0},{"$f":"IF(INTRO!$E$40=\"Endémique\", IF($I31>0, IF($I31=4,\"Inconnu\",IF($I31=99,\"Interrompu\", $D31)), 0),\"Non requis\")","v":0},{"$f":"IF(INTRO!$E$42=\"Endémique\", IF(AND($J31>1,$J31<5), IF($J31=4, \"Inconnu\", E31+F31), 0),\"Non requis\")","v":0},{"$f":"IF(INTRO!$E$44=\"Endémique\", IF(AND($K31>0,$K31<5), IF($K31=4,\"Inconnu\", IF($K31=1, $F31*0.33, IF($K31=2, $F31*0.5+$G31*0.2, SUM(F31:G31)))), 0),\"Non requis\")","v":3599.9700000000003},0,0,0,0,null,null,null,null,10678,"Kaoura",null,null,null,{"$f":"'MDA1'!K31","v":0},{"$f":"'MDA3'!O31","v":0},{"$f":"'T1'!M31","v":0},{"$f":"'T2'!K31","v":0},null,null,{"$f":"_xlfn.XLOOKUP($Y31,[1]COUNTRY_INFO!$W$9:$W$131,[1]COUNTRY_INFO!K$9:K$131)","v":1}]
[{"$f":"IF(INTRO!$E$34<>0,INTRO!$E$34,\"\")","v":"Chad"},"Ennedi Est","Mourdi",13065,{"$f":"IF(INTRO!$E$48=\"\",\"\",ROUND($D32*INTRO!$E$48,0))","v":2156},{"$f":"IF(INTRO!$E$49=\"\",\"\",ROUND($D32*INTRO!$E$49,0))","v":3965},{"$f":"IF(INTRO!$E$50=\"\",\"\",ROUND($D32*INTRO!$E$50,0))","v":6461},0,0,1,1,null,{"$f":"IF(INTRO!$E$38=\"Endémique\", IF($H32>0, IF($H32=4,\"Inconnu\", IF($H32=99,\"Interrompu\", $D32)), 0),\"Non requis\")","v":0},{"$f":"IF(INTRO!$E$40=\"Endémique\", IF($I32>0, IF($I32=4,\"Inconnu\",IF($I32=99,\"Interrompu\", $D32)), 0),\"Non requis\")","v":0},{"$f":"IF(INTRO!$E$42=\"Endémique\", IF(AND($J32>1,$J32<5), IF($J32=4, \"Inconnu\", E32+F32), 0),\"Non requis\")","v":0},{"$f":"IF(INTRO!$E$44=\"Endémique\", IF(AND($K32>0,$K32<5), IF($K32=4,\"Inconnu\", IF($K32=1, $F32*0.33, IF($K32=2, $F32*0.5+$G32*0.2, SUM(F32:G32)))), 0),\"Non requis\")","v":1308.45},0,0,0,0,null,null,null,null,10784,"Mourdi",10678,"Kaoura",null,{"$f":"'MDA1'!K32","v":0},{"$f":"'MDA3'!O32","v":0},{"$f":"'T1'!M32","v":0},{"$f":"'T2'!K32","v":0}]
[{"$f":"IF(INTRO!$E$34<>0,INTRO!$E$34,\"\")","v":"Chad"},"Ennedi Ouest","Fada",25611,{"$f":"IF(INTRO!$E$48=\"\",\"\",ROUND($D33*INTRO!$E$48,0))","v":4226},{"$f":"IF(INTRO!$E$49=\"\",\"\",ROUND($D33*INTRO!$E$49,0))","v":7773},{"$f":"IF(INTRO!$E$50=\"\",\"\",ROUND($D33*INTRO!$E$50,0))","v":12665},0,0,1,1,null,{"$f":"IF(INTRO!$E$38=\"Endémique\", IF($H33>0, IF($H33=4,\"Inconnu\", IF($H33=99,\"Interrompu\", $D33)), 0),\"Non requis\")","v":0},{"$f":"IF(INTRO!$E$40=\"Endémique\", IF($I33>0, IF($I33=4,\"Inconnu\",IF($I33=99,\"Interrompu\", $D33)), 0),\"Non requis\")","v":0},{"$f":"IF(INTRO!$E$42=\"Endémique\", IF(AND($J33>1,$J33<5), IF($J33=4, \"Inconnu\", E33+F33), 0),\"Non requis\")","v":0},{"$f":"IF(INTRO!$E$44=\"Endémique\", IF(AND($K33>0,$K33<5), IF($K33=4,\"Inconnu\", IF($K33=1, $F33*0.33, IF($K33=2, $F33*0.5+$G33*0.2, SUM(F33:G33)))), 0),\"Non requis\")","v":2565.09},0,0,0,0,null,null,null,null,10665,"Fada",null,null,null,{"$f":"'MDA1'!K33","v":0},{"$f":"'MDA3'!O33","v":0},{"$f":"'T1'!M33","v":0},{"$f":"'T2'!K33","v":0},null,null,{"$f":"_xlfn.XLOOKUP($Y33,[1]COUNTRY_INFO!$W$9:$W$131,[1]COUNTRY_INFO!K$9:K$131)","v":1}]
[{"$f":"IF(INTRO!$E$34<>0,INTRO!$E$34,\"\")","v":"Chad"},"Ennedi Ouest","Kalaït",33441,{"$f":"IF(INTRO!$E$48=\"\",\"\",ROUND($D34*INTRO!$E$48,0))","v":5518},{"$f":"IF(INTRO!$E$49=\"\",\"\",ROUND($D34*INTRO!$E$49,0))","v":10149},{"$f":"IF(INTRO!$E$50=\"\",\"\",ROUND($D34*INTRO!$E$50,0))","v":16537},0,0,1,1,null,{"$f":"IF(INTRO!$E$38=\"Endémique\", IF($H34>0, IF($H34=4,\"Inconnu\", IF($H34=99,\"Interrompu\", $D34)), 0),\"Non requis\")","v":0},{"$f":"IF(INTRO!$E$40=\"Endémique\", IF($I34>0, IF($I34=4,\"Inconnu\",IF($I34=99,\"Interrompu\", $D34)), 0),\"Non requis\")","v":0},{"$f":"IF(INTRO!$E$42=\"Endémique\", IF(AND($J34>1,$J34<5), IF($J34=4, \"Inconnu\", E34+F34), 0),\"Non requis\")","v":0},{"$f":"IF(INTRO!$E$44=\"Endémique\", IF(AND($K34>0,$K34<5), IF($K34=4,\"Inconnu\", IF($K34=1, $F34*0.33, IF($K34=2, $F34*0.5+$G34*0.2, SUM(F34:G34)))), 0),\"Non requis\")","v":3349.17},0,0,0,0,null,null,null,null,10677,"Kalaït",null,null,null,{"$f":"'MDA1'!K34","v":0},{"$f":"'MDA3'!O34","v":0},{"$f":"'T1'!M34","v":0},{"$f":"'T2'!K34","v":0},null,null,{"$f":"_xlfn.XLOOKUP($Y34,[1]COUNTRY_INFO!$W$9:$W$131,[1]COUNTRY_INFO!K$9:K$131)","v":1}]
[{"$f":"IF(INTRO!$E$34<>0,INTRO!$E$34,\"\")","v":"Chad"},"Ennedi Ouest","Ounianga Kebbir",31298,{"$f":"IF(INTRO!$E$48=\"\",\"\",ROUND($D35*INTRO!$E$48,0))","v":5164},{"$f":"IF(INTRO!$E$49=\"\",\"\",ROUND($D35*INTRO!$E$49,0))","v":9499},{"$f":"IF(INTRO!$E$50=\"\",\"\",ROUND($D35*INTRO!$E$50,0))","v":15477},0,0,1,1,null,{"$f":"IF(INTRO!$E$38=\"Endémique\", IF($H35>0, IF($H35=4,\"Inconnu\", IF($H35=99,\"Interrompu\", $D35)), 0),\"Non requis\")","v":0},{"$f":"IF(INTRO!$E$40=\"Endémique\", IF($I35>0, IF($I35=4,\"Inconnu\",IF($I35=99,\"Interrompu\", $D35)), 0),\"Non requis\")","v":0},{"$f":"IF(INTRO!$E$42=\"Endémique\", IF(AND($J35>1,$J35<5), IF($J35=4, \"Inconnu\", E35+F35), 0),\"Non requis\")","v":0},{"$f":"IF(INTRO!$E$44=\"Endémique\", IF(AND($K35>0,$K35<5), IF($K35=4,\"Inconnu\", IF($K35=1, $F35*0.33, IF($K35=2, $F35*0.5+$G35*0.2, SUM(F35:G35)))), 0),\"Non requis\")","v":3134.67},0,0,0,0,null,null,null,null,10785,"Ounianga Kebbir",10665,"Fada",null,{"$f":"'MDA1'!K35","v":0},{"$f":"'MDA3'!O35","v":0},{"$f":"'T1'!M35","v":0},{"$f":"'T2'!K35","v":0}]
[{"$f":"IF(INTRO!$E$34<>0,INTRO!$E$34,\"\")","v":"Chad"},"Guéra","Barou",70350,{"$f":"IF(INTRO!$E$48=\"\",\"\",ROUND($D36*INTRO!$E$48,0))","v":11608},{"$f":"IF(INTRO!$E$49=\"\",\"\",ROUND($D36*INTRO!$E$49,0))","v":21351},{"$f":"IF(INTRO!$E$50=\"\",\"\",ROUND($D36*INTRO!$E$50,0))","v":34788},0,4,0,2,null,{"$f":"IF(INTRO!$E$38=\"Endémique\", IF($H36>0, IF($H36=4,\"Inconnu\", IF($H36=99,\"Interrompu\", $D36)), 0),\"Non requis\")","v":0},{"$f":"IF(INTRO!$E$40=\"Endémique\", IF($I36>0, IF($I36=4,\"Inconnu\",IF($I36=99,\"Interrompu\", $D36)), 0),\"Non requis\")","v":"Inconnu"},{"$f":"IF(INTRO!$E$42=\"Endémique\", IF(AND($J36>1,$J36<5), IF($J36=4, \"Inconnu\", E36+F36), 0),\"Non requis\")","v":0},{"$f":"IF(INTRO!$E$44=\"Endémique\", IF(AND($K36>0,$K36<5), IF($K36=4,\"Inconnu\", IF($K36=1, $F36*0.33, IF($K36=2, $F36*0.5+$G36*0.2, SUM(F36:G36)))), 0),\"Non requis\")","v":17633.099999999999},0,0,0,0,null,null,null,null,10763,"Barou",null,null,null,{"$f":"'MDA1'!K36","v":0},{"$f":"'MDA3'!O36","v":0},{"$f":"'T1'!M36","v":0},{"$f":"'T2'!K36","v":0},null,null,{"$f":"_xlfn.XLOOKUP($Y36,[1]COUNTRY_INFO!$W$9:$W$131,[1]COUNTRY_INFO!K$9:K$131)","v":2}]
[{"$f":"IF(INTRO!$E$34<>0,INTRO!$E$34,\"\")","v":"Chad"},"Guéra","Bitkine",262714,{"$f":"IF(INTRO!$E$48=\"\",\"\",ROUND($D37*INTRO!$E$48,0))","v":43348},{"$f":"IF(INTRO!$E$49=\"\",\"\",ROUND($D37*INTRO!$E$49,0))","v":79734},{"$f":"IF(INTRO!$E$50=\"\",\"\",ROUND($D37*INTRO!$E$50,0))","v":129912},0,4,1,2,null,{"$f":"IF(INTRO!$E$38=\"Endémique\", IF($H37>0, IF($H37=4,\"Inconnu\", IF($H37=99,\"Interrompu\", $D37)), 0),\"Non requis\")","v":0},{"$f":"IF(INTRO!$E$40=\"Endémique\", IF($I37>0, IF($I37=4,\"Inconnu\",IF($I37=99,\"Interrompu\", $D37)), 0),\"Non requis\")","v":"Inconnu"},{"$f":"IF(INTRO!$E$42=\"Endémique\", IF(AND($J37>1,$J37<5), IF($J37=4, \"Inconnu\", E37+F37), 0),\"Non requis\")","v":0},{"$f":"IF(INTRO!$E$44=\"Endémique\", IF(AND($K37>0,$K37<5), IF($K37=4,\"Inconnu\", IF($K37=1, $F37*0.33, IF($K37=2, $F37*0.5+$G37*0.2, SUM(F37:G37)))), 0),\"Non requis\")","v":65849.399999999994},0,0,0,0,null,null,null,null,10679,"Bitkine",null,null,null,{"$f":"'MDA1'!K37","v":0},{"$f":"'MDA3'!O37","v":0},{"$f":"'T1'!M37","v":0},{"$f":"'T2'!K37","v":0},null,null,{"$f":"_xlfn.XLOOKUP($Y37,[1]COUNTRY_INFO!$W$9:$W$131,[1]COUNTRY_INFO!K$9:K$131)","v":2}]
[{"$f":"IF(INTRO!$E$34<>0,INTRO!$E$34,\"\")","v":"Chad"},"Guéra","Mangalmé",148916,{"$f":"IF(INTRO!$E$48=\"\",\"\",ROUND($D38*INTRO!$E$48,0))","v":24571},{"$f":"IF(INTRO!$E$49=\"\",\"\",ROUND($D38*INTRO!$E$49,0))","v":45196},{"$f":"IF(INTRO!$E$50=\"\",\"\",ROUND($D38*INTRO!$E$50,0))","v":73639},0,4,0,2,null,{"$f":"IF(INTRO!$E$38=\"Endémique\", IF($H38>0, IF($H38=4,\"Inconnu\", IF($H38=99,\"Interrompu\", $D38)), 0),\"Non requis\")","v":0},{"$f":"IF(INTRO!$E$40=\"Endémique\", IF($I38>0, IF($I38=4,\"Inconnu\",IF($I38=99,\"Interrompu\", $D38)), 0),\"Non requis\")","v":"Inconnu"},{"$f":"IF(INTRO!$E$42=\"Endémique\", IF(AND($J38>1,$J38<5), IF($J38=4, \"Inconnu\", E38+F38), 0),\"Non requis\")","v":0},{"$f":"IF(INTRO!$E$44=\"Endémique\", IF(AND($K38>0,$K38<5), IF($K38=4,\"Inconnu\", IF($K38=1, $F38*0.33, IF($K38=2, $F38*0.5+$G38*0.2, SUM(F38:G38)))), 0),\"Non requis\")","v":37325.800000000003},0,0,0,0,null,null,null,null,10680,"Mangalmé",null,null,null,{"$f":"'MDA1'!K38","v":0},{"$f":"'MDA3'!O38","v":0},{"$f":"'T1'!M38","v":0},{"$f":"'T2'!K38","v":0},null,null,{"$f":"_xlfn.XLOOKUP($Y38,[1]COUNTRY_INFO!$W$9:$W$131,[1]COUNTRY_INFO!K$9:K$131)","v":2}]
[{"$f":"IF(INTRO!$E$34<>0,INTRO!$E$34,\"\")","v":"Chad"},"Guéra","Melfi",162512,{"$f":"IF(INTRO!$E$48=\"\",\"\",ROUND($D39*INTRO!$E$48,0))","v":26814},{"$f":"IF(INTRO!$E$49=\"\",\"\",ROUND($D39*INTRO!$E$49,0))","v":49322},{"$f":"IF(INTRO!$E$50=\"\",\"\",ROUND($D39*INTRO!$E$50,0))","v":80362},0,4,1,2,null,{"$f":"IF(INTRO!$E$38=\"Endémique\", IF($H39>0, IF($H39=4,\"Inconnu\", IF($H39=99,\"Interrompu\", $D39)), 0),\"Non requis\")","v":0},{"$f":"IF(INTRO!$E$40=\"Endémique\", IF($I39>0, IF($I39=4,\"Inconnu\",IF($I39=99,\"Interrompu\", $D39)), 0),\"Non requis\")","v":"Inconnu"},{"$f":"IF(INTRO!$E$42=\"Endémique\", IF(AND($J39>1,$J39<5), IF($J39=4, \"Inconnu\", E39+F39), 0),\"Non requis\")","v":0},{"$f":"IF(INTRO!$E$44=\"Endémique\", IF(AND($K39>0,$K39<5), IF($K39=4,\"Inconnu\", IF($K39=1, $F39*0.33, IF($K39=2, $F39*0.5+$G39*0.2, SUM(F39:G39)))), 0),\"Non requis\")","v":40733.4},0,0,0,0,null,null,null,null,10681,"Melfi",null,null,null,{"$f":"'MDA1'!K39","v":0},{"$f":"'MDA3'!O39","v":0},{"$f":"'T1'!M39","v":0},{"$f":"'T2'!K39","v":0},null,null,{"$f":"_xlfn.XLOOKUP($Y39,[1]COUNTRY_INFO!$W$9:$W$131,[1]COUNTRY_INFO!K$9:K$131)","v":2}]
[{"$f":"IF(INTRO!$E$34<>0,INTRO!$E$34,\"\")","v":"Chad"},"Guéra","Mongo",200228,{"$f":"IF(INTRO!$E$48=\"\",\"\",ROUND($D40*INTRO!$E$48,0))","v":33038},{"$f":"IF(INTRO!$E$49=\"\",\"\",ROUND($D40*INTRO!$E$49,0))","v":60769},{"$f":"IF(INTRO!$E$50=\"\",\"\",ROUND($D40*INTRO!$E$50,0))","v":99013},0,4,0,2,null,{"$f":"IF(INTRO!$E$38=\"Endémique\", IF($H40>0, IF($H40=4,\"Inconnu\", IF($H40=99,\"Interrompu\", $D40)), 0),\"Non requis\")","v":0},{"$f":"IF(INTRO!$E$40=\"Endémique\", IF($I40>0, IF($I40=4,\"Inconnu\",IF($I40=99,\"Interrompu\", $D40)), 0),\"Non requis\")","v":"Inconnu"},{"$f":"IF(INTRO!$E$42=\"Endémique\", IF(AND($J40>1,$J40<5), IF($J40=4, \"Inconnu\", E40+F40), 0),\"Non requis\")","v":0},{"$f":"IF(INTRO!$E$44=\"Endémique\", IF(AND($K40>0,$K40<5), IF($K40=4,\"Inconnu\", IF($K40=1, $F40*0.33, IF($K40=2, $F40*0.5+$G40*0.2, SUM(F40:G40)))), 0),\"Non requis\")","v":50187.100000000006},0,0,0,0,null,null,null,null,10682,"Mongo",null,null,null,{"$f":"'MDA1'!K40","v":0},{"$f":"'MDA3'!O40","v":0},{"$f":"'T1'!M40","v":0},{"$f":"'T2'!K40","v":0},null,null,{"$f":"_xlfn.XLOOKUP($Y40,[1]COUNTRY_INFO!$W$9:$W$131,[1]COUNTRY_INFO!K$9:K$131)","v":2}]
[{"$f":"IF(INTRO!$E$34<>0,INTRO!$E$34,\"\")","v":"Chad"},"Hadjer Lamis","Bokoro",254489,{"$f":"IF(INTRO!$E$48=\"\",\"\",ROUND($D41*INTRO!$E$48,0))","v":41991},{"$f":"IF(INTRO!$E$49=\"\",\"\",ROUND($D41*INTRO!$E$49,0))","v":77237},{"$f":"IF(INTRO!$E$50=\"\",\"\",ROUND($D41*INTRO!$E$50,0))","v":125845},0,0,1,3,null,{"$f":"IF(INTRO!$E$38=\"Endémique\", IF($H41>0, IF($H41=4,\"Inconnu\", IF($H41=99,\"Interrompu\", $D41)), 0),\"Non requis\")","v":0},{"$f":"IF(INTRO!$E$40=\"Endémique\", IF($I41>0, IF($I41=4,\"Inconnu\",IF($I41=99,\"Interrompu\", $D41)), 0),\"Non requis\")","v":0},{"$f":"IF(INTRO!$E$42=\"Endémique\", IF(AND($J41>1,$J41<5), IF($J41=4, \"Inconnu\", E41+F41), 0),\"Non requis\")","v":0},{"$f":"IF(INTRO!$E$44=\"Endémique\", IF(AND($K41>0,$K41<5), IF($K41=4,\"Inconnu\", IF($K41=1, $F41*0.33, IF($K41=2, $F41*0.5+$G41*0.2, SUM(F41:G41)))), 0),\"Non requis\")","v":203082},0,0,0,0,null,null,null,null,10683,"Bokoro",null,null,null,{"$f":"'MDA1'!K41","v":0},{"$f":"'MDA3'!O41","v":0},{"$f":"'T1'!M41","v":0},{"$f":"'T2'!K41","v":0},null,null,{"$f":"_xlfn.XLOOKUP($Y41,[1]COUNTRY_INFO!$W$9:$W$131,[1]COUNTRY_INFO!K$9:K$131)","v":3}]
[{"$f":"IF(INTRO!$E$34<>0,INTRO!$E$34,\"\")","v":"Chad"},"Hadjer Lamis","Gama",103972,{"$f":"IF(INTRO!$E$48=\"\",\"\",ROUND($D42*INTRO!$E$48,0))","v":17155},{"$f":"IF(INTRO!$E$49=\"\",\"\",ROUND($D42*INTRO!$E$49,0))","v":31556},{"$f":"IF(INTRO!$E$50=\"\",\"\",ROUND($D42*INTRO!$E$50,0))","v":51414},0,0,1,3,null,{"$f":"IF(INTRO!$E$38=\"Endémique\", IF($H42>0, IF($H42=4,\"Inconnu\", IF($H42=99,\"Interrompu\", $D42)), 0),\"Non requis\")","v":0},{"$f":"IF(INTRO!$E$40=\"Endémique\", IF($I42>0, IF($I42=4,\"Inconnu\",IF($I42=99,\"Interrompu\", $D42)), 0),\"Non requis\")","v":0},{"$f":"IF(INTRO!$E$42=\"Endémique\", IF(AND($J42>1,$J42<5), IF($J42=4, \"Inconnu\", E42+F42), 0),\"Non requis\")","v":0},{"$f":"IF(INTRO!$E$44=\"Endémique\", IF(AND($K42>0,$K42<5), IF($K42=4,\"Inconnu\", IF($K42=1, $F42*0.33, IF($K42=2, $F42*0.5+$G42*0.2, SUM(F42:G42)))), 0),\"Non requis\")","v":82970},0,0,0,0,null,null,null,null,10748,"Gama",null,null,null,{"$f":"'MDA1'!K42","v":0},{"$f":"'MDA3'!O42","v":0},{"$f":"'T1'!M42","v":0},{"$f":"'T2'!K42","v":0},null,null,{"$f":"_xlfn.XLOOKUP($Y42,[1]COUNTRY_INFO!$W$9:$W$131,[1]COUNTRY_INFO!K$9:K$131)","v":3}]
[{"$f":"IF(INTRO!$E$34<>0,INTRO!$E$34,\"\")","v":"Chad"},"Hadjar Lamis","Karal",102854,{"$f":"IF(INTRO!$E$48=\"\",\"\",ROUND($D43*INTRO!$E$48,0))","v":16971},{"$f":"IF(INTRO!$E$49=\"\",\"\",ROUND($D43*INTRO!$E$49,0))","v":31216},{"$f":"IF(INTRO!$E$50=\"\",\"\",ROUND($D43*INTRO!$E$50,0))","v":50861},0,0,1,2,null,{"$f":"IF(INTRO!$E$38=\"Endémique\", IF($H43>0, IF($H43=4,\"Inconnu\", IF($H43=99,\"Interrompu\", $D43)), 0),\"Non requis\")","v":0},{"$f":"IF(INTRO!$E$40=\"Endémique\", IF($I43>0, IF($I43=4,\"Inconnu\",IF($I43=99,\"Interrompu\", $D43)), 0),\"Non requis\")","v":0},{"$f":"IF(INTRO!$E$42=\"Endémique\", IF(AND($J43>1,$J43<5), IF($J43=4, \"Inconnu\", E43+F43), 0),\"Non requis\")","v":0},{"$f":"IF(INTRO!$E$44=\"Endémique\", IF(AND($K43>0,$K43<5), IF($K43=4,\"Inconnu\", IF($K43=1, $F43*0.33, IF($K43=2, $F43*0.5+$G43*0.2, SUM(F43:G43)))), 0),\"Non requis\")","v":25780.2},0,0,0,0,null,null,null,null,10786,"Karal",10685,"Massaguet",null,{"$f":"'MDA1'!K43","v":0},{"$f":"'MDA3'!O43","v":0},{"$f":"'T1'!M43","v":0},{"$f":"'T2'!K43","v":0}]
[{"$f":"IF(INTRO!$E$34<>0,INTRO!$E$34,\"\")","v":"Chad"},"Hadjer Lamis","Mani",153648,{"$f":"IF(INTRO!$E$48=\"\",\"\",ROUND($D44*INTRO!$E$48,0))","v":25352},{"$f":"IF(INTRO!$E$49=\"\",\"\",ROUND($D44*INTRO!$E$49,0))","v":46632},{"$f":"IF(INTRO!$E$50=\"\",\"\",ROUND($D44*INTRO!$E$50,0))","v":75979},0,0,1,2,null,{"$f":"IF(INTRO!$E$38=\"Endémique\", IF($H44>0, IF($H44=4,\"Inconnu\", IF($H44=99,\"Interrompu\", $D44)), 0),\"Non requis\")","v":0},{"$f":"IF(INTRO!$E$40=\"Endémique\", IF($I44>0, IF($I44=4,\"Inconnu\",IF($I44=99,\"Interrompu\", $D44)), 0),\"Non requis\")","v":0},{"$f":"IF(INTRO!$E$42=\"Endémique\", IF(AND($J44>1,$J44<5), IF($J44=4, \"Inconnu\", E44+F44), 0),\"Non requis\")","v":0},{"$f":"IF(INTRO!$E$44=\"Endémique\", IF(AND($K44>0,$K44<5), IF($K44=4,\"Inconnu\", IF($K44=1, $F44*0.33, IF($K44=2, $F44*0.5+$G44*0.2, SUM(F44:G44)))), 0),\"Non requis\")","v":38511.800000000003},0,0,0,0,null,null,null,null,10684,"Mani",null,null,null,{"$f":"'MDA1'!K44","v":0},{"$f":"'MDA3'!O44","v":0},{"$f":"'T1'!M44","v":0},{"$f":"'T2'!K44","v":0},null,null,{"$f":"_xlfn.XLOOKUP($Y44,[1]COUNTRY_INFO!$W$9:$W$131,[1]COUNTRY_INFO!K$9:K$131)","v":2}]
[{"$f":"IF(INTRO!$E$34<>0,INTRO!$E$34,\"\")","v":"Chad"},"Hadjer Lamis","Massaguet",143781,{"$f":"IF(INTRO!$E$48=\"\",\"\",ROUND($D45*INTRO!$E$48,0))","v":23724},{"$f":"IF(INTRO!$E$49=\"\",\"\",ROUND($D45*INTRO!$E$49,0))","v":43638},{"$f":"IF(INTRO!$E$50=\"\",\"\",ROUND($D45*INTRO!$E$50,0))","v":71100},0,0,1,2,null,{"$f":"IF(INTRO!$E$38=\"Endémique\", IF($H45>0, IF($H45=4,\"Inconnu\", IF($H45=99,\"Interrompu\", $D45)), 0),\"Non requis\")","v":0},{"$f":"IF(INTRO!$E$40=\"Endémique\", IF($I45>0, IF($I45=4,\"Inconnu\",IF($I45=99,\"Interrompu\", $D45)), 0),\"Non requis\")","v":0},{"$f":"IF(INTRO!$E$42=\"Endémique\", IF(AND($J45>1,$J45<5), IF($J45=4, \"Inconnu\", E45+F45), 0),\"Non requis\")","v":0},{"$f":"IF(INTRO!$E$44=\"Endémique\", IF(AND($K45>0,$K45<5), IF($K45=4,\"Inconnu\", IF($K45=1, $F45*0.33, IF($K45=2, $F45*0.5+$G45*0.2, SUM(F45:G45)))), 0),\"Non requis\")","v":36039},0,0,0,0,null,null,null,null,10685,"Massaguet",null,null,null,{"$f":"'MDA1'!K45","v":0},{"$f":"'MDA3'!O45","v":0},{"$f":"'T1'!M45","v":0},{"$f":"'T2'!K45","v":0},null,null,{"$f":"_xlfn.XLOOKUP($Y45,[1]COUNTRY_INFO!$W$9:$W$131,[1]COUNTRY_INFO!K$9:K$131)","v":2}]
[{"$f":"IF(INTRO!$E$34<>0,INTRO!$E$34,\"\")","v":"Chad"},"Hadjer Lamis","Massakory",295531,{"$f":"IF(INTRO!$E$48=\"\",\"\",ROUND($D46*INTRO!$E$48,0))","v":48763},{"$f":"IF(INTRO!$E$49=\"\",\"\",ROUND($D46*INTRO!$E$49,0))","v":89694},{"$f":"IF(INTRO!$E$50=\"\",\"\",ROUND($D46*INTRO!$E$50,0))","v":146140},0,0,1,2,null,{"$f":"IF(INTRO!$E$38=\"Endémique\", IF($H46>0, IF($H46=4,\"Inconnu\", IF($H46=99,\"Interrompu\", $D46)), 0),\"Non requis\")","v":0},{"$f":"IF(INTRO!$E$40=\"Endémique\", IF($I46>0, IF($I46=4,\"Inconnu\",IF($I46=99,\"Interrompu\", $D46)), 0),\"Non requis\")","v":0},{"$f":"IF(INTRO!$E$42=\"Endémique\", IF(AND($J46>1,$J46<5), IF($J46=4, \"Inconnu\", E46+F46), 0),\"Non requis\")","v":0},{"$f":"IF(INTRO!$E$44=\"Endémique\", IF(AND($K46>0,$K46<5), IF($K46=4,\"Inconnu\", IF($K46=1, $F46*0.33, IF($K46=2, $F46*0.5+$G46*0.2, SUM(F46:G46)))), 0),\"Non requis\")","v":74075},0,0,0,0,null,null,null,null,10686,"Massakory",null,null,null,{"$f":"'MDA1'!K46","v":0},{"$f":"'MDA3'!O46","v":0},{"$f":"'T1'!M46","v":0},{"$f":"'T2'!K46","v":0},null,null,{"$f":"_xlfn.XLOOKUP($Y46,[1]COUNTRY_INFO!$W$9:$W$131,[1]COUNTRY_INFO!K$9:K$131)","v":2}]
[{"$f":"IF(INTRO!$E$34<>0,INTRO!$E$34,\"\")","v":"Chad"},"Kanem","Amdoback",25217,{"$f":"IF(INTRO!$E$48=\"\",\"\",ROUND($D47*INTRO!$E$48,0))","v":4161},{"$f":"IF(INTRO!$E$49=\"\",\"\",ROUND($D47*INTRO!$E$49,0))","v":7653},{"$f":"IF(INTRO!$E$50=\"\",\"\",ROUND($D47*INTRO!$E$50,0))","v":12470},0,0,0,0,null,{"$f":"IF(INTRO!$E$38=\"Endémique\", IF($H47>0, IF($H47=4,\"Inconnu\", IF($H47=99,\"Interrompu\", $D47)), 0),\"Non requis\")","v":0},{"$f":"IF(INTRO!$E$40=\"Endémique\", IF($I47>0, IF($I47=4,\"Inconnu\",IF($I47=99,\"Interrompu\", $D47)), 0),\"Non requis\")","v":0},{"$f":"IF(INTRO!$E$42=\"Endémique\", IF(AND($J47>1,$J47<5), IF($J47=4, \"Inconnu\", E47+F47), 0),\"Non requis\")","v":0},{"$f":"IF(INTRO!$E$44=\"Endémique\", IF(AND($K47>0,$K47<5), IF($K47=4,\"Inconnu\", IF($K47=1, $F47*0.33, IF($K47=2, $F47*0.5+$G47*0.2, SUM(F47:G47)))), 0),\"Non requis\")","v":0},0,0,0,0,null,null,null,null,10787,"Amdoback",10690,"Rig-Rig",null,{"$f":"'MDA1'!K47","v":0},{"$f":"'MDA3'!O47","v":0},{"$f":"'T1'!M47","v":0},{"$f":"'T2'!K47","v":0}]
[{"$f":"IF(INTRO!$E$34<>0,INTRO!$E$34,\"\")","v":"Chad"},"Kanem","Kekedina",25647,{"$f":"IF(INTRO!$E$48=\"\",\"\",ROUND($D48*INTRO!$E$48,0))","v":4232},{"$f":"IF(INTRO!$E$49=\"\",\"\",ROUND($D48*INTRO!$E$49,0))","v":7784},{"$f":"IF(INTRO!$E$50=\"\",\"\",ROUND($D48*INTRO!$E$50,0))","v":12682},0,0,1,1,null,{"$f":"IF(INTRO!$E$38=\"Endémique\", IF($H48>0, IF($H48=4,\"Inconnu\", IF($H48=99,\"Interrompu\", $D48)), 0),\"Non requis\")","v":0},{"$f":"IF(INTRO!$E$40=\"Endémique\", IF($I48>0, IF($I48=4,\"Inconnu\",IF($I48=99,\"Interrompu\", $D48)), 0),\"Non requis\")","v":0},{"$f":"IF(INTRO!$E$42=\"Endémique\", IF(AND($J48>1,$J48<5), IF($J48=4, \"Inconnu\", E48+F48), 0),\"Non requis\")","v":0},{"$f":"IF(INTRO!$E$44=\"Endémique\", IF(AND($K48>0,$K48<5), IF($K48=4,\"Inconnu\", IF($K48=1, $F48*0.33, IF($K48=2, $F48*0.5+$G48*0.2, SUM(F48:G48)))), 0),\"Non requis\")","v":2568.7200000000003},0,0,0,0,null,null,null,null,10788,"Kekedina",10687,"Mao",null,{"$f":"'MDA1'!K48","v":0},{"$f":"'MDA3'!O48","v":0},{"$f":"'T1'!M48","v":0},{"$f":"'T2'!K48","v":0}]
[{"$f":"IF(INTRO!$E$34<>0,INTRO!$E$34,\"\")","v":"Chad"},"Kanem","Mao",196604,{"$f":"IF(INTRO!$E$48=\"\",\"\",ROUND($D49*INTRO!$E$48,0))","v":32440},{"$f":"IF(INTRO!$E$49=\"\",\"\",ROUND($D49*INTRO!$E$49,0))","v":59669},{"$f":"IF(INTRO!$E$50=\"\",\"\",ROUND($D49*INTRO!$E$50,0))","v":97221},0,0,1,1,null,{"$f":"IF(INTRO!$E$38=\"Endémique\", IF($H49>0, IF($H49=4,\"Inconnu\", IF($H49=99,\"Interrompu\", $D49)), 0),\"Non requis\")","v":0},{"$f":"IF(INTRO!$E$40=\"Endémique\", IF($I49>0, IF($I49=4,\"Inconnu\",IF($I49=99,\"Interrompu\", $D49)), 0),\"Non requis\")","v":0},{"$f":"IF(INTRO!$E$42=\"Endémique\", IF(AND($J49>1,$J49<5), IF($J49=4, \"Inconnu\", E49+F49), 0),\"Non requis\")","v":0},{"$f":"IF(INTRO!$E$44=\"Endémique\", IF(AND($K49>0,$K49<5), IF($K49=4,\"Inconnu\", IF($K49=1, $F49*0.33, IF($K49=2, $F49*0.5+$G49*0.2, SUM(F49:G49)))), 0),\"Non requis\")","v":19690.77},0,0,0,0,null,null,null,null,10687,"Mao",null,null,null,{"$f":"'MDA1'!K49","v":0},{"$f":"'MDA3'!O49","v":0},{"$f":"'T1'!M49","v":0},{"$f":"'T2'!K49","v":0},null,null,{"$f":"_xlfn.XLOOKUP($Y49,[1]COUNTRY_INFO!$W$9:$W$131,[1]COUNTRY_INFO!K$9:K$131)","v":1}]
[{"$f":"IF(INTRO!$E$34<>0,INTRO!$E$34,\"\")","v":"Chad"},"Kanem","Mondo",140033,{"$f":"IF(INTRO!$E$48=\"\",\"\",ROUND($D50*INTRO!$E$48,0))","v":23105},{"$f":"IF(INTRO!$E$49=\"\",\"\",ROUND($D50*INTRO!$E$49,0))","v":42500},{"$f":"IF(INTRO!$E$50=\"\",\"\",ROUND($D50*INTRO!$E$50,0))","v":69246},0,0,0,1,null,{"$f":"IF(INTRO!$E$38=\"Endémique\", IF($H50>0, IF($H50=4,\"Inconnu\", IF($H50=99,\"Interrompu\", $D50)), 0),\"Non requis\")","v":0},{"$f":"IF(INTRO!$E$40=\"Endémique\", IF($I50>0, IF($I50=4,\"Inconnu\",IF($I50=99,\"Interrompu\", $D50)), 0),\"Non requis\")","v":0},{"$f":"IF(INTRO!$E$42=\"Endémique\", IF(AND($J50>1,$J50<5), IF($J50=4, \"Inconnu\", E50+F50), 0),\"Non requis\")","v":0},{"$f":"IF(INTRO!$E$44=\"Endémique\", IF(AND($K50>0,$K50<5), IF($K50=4,\"Inconnu\", IF($K50=1, $F50*0.33, IF($K50=2, $F50*0.5+$G50*0.2, SUM(F50:G50)))), 0),\"Non requis\")","v":14025},0,0,0,0,null,null,null,null,10688,"Mondo",null,null,null,{"$f":"'MDA1'!K50","v":0},{"$f":"'MDA3'!O50","v":0},{"$f":"'T1'!M50","v":0},{"$f":"'T2'!K50","v":0},null,null,{"$f":"_xlfn.XLOOKUP($Y50,[1]COUNTRY_INFO!$W$9:$W$131,[1]COUNTRY_INFO!K$9:K$131)","v":1}]
[{"$f":"IF(INTRO!$E$34<>0,INTRO!$E$34,\"\")","v":"Chad"},"Kanem","Nokou",93307,{"$f":"IF(INTRO!$E$48=\"\",\"\",ROUND($D51*INTRO!$E$48,0))","v":15396},{"$f":"IF(INTRO!$E$49=\"\",\"\",ROUND($D51*INTRO!$E$49,0))","v":28319},{"$f":"IF(INTRO!$E$50=\"\",\"\",ROUND($D51*INTRO!$E$50,0))","v":46140},0,0,0,0,null,{"$f":"IF(INTRO!$E$38=\"Endémique\", IF($H51>0, IF($H51=4,\"Inconnu\", IF($H51=99,\"Interrompu\", $D51)), 0),\"Non requis\")","v":0},{"$f":"IF(INTRO!$E$40=\"Endémique\", IF($I51>0, IF($I51=4,\"Inconnu\",IF($I51=99,\"Interrompu\", $D51)), 0),\"Non requis\")","v":0},{"$f":"IF(INTRO!$E$42=\"Endémique\", IF(AND($J51>1,$J51<5), IF($J51=4, \"Inconnu\", E51+F51), 0),\"Non requis\")","v":0},{"$f":"IF(INTRO!$E$44=\"Endémique\", IF(AND($K51>0,$K51<5), IF($K51=4,\"Inconnu\", IF($K51=1, $F51*0.33, IF($K51=2, $F51*0.5+$G51*0.2, SUM(F51:G51)))), 0),\"Non requis\")","v":0},0,0,0,0,null,null,null,null,10689,"Nokou",null,null,null,{"$f":"'MDA1'!K51","v":0},{"$f":"'MDA3'!O51","v":0},{"$f":"'T1'!M51","v":0},{"$f":"'T2'!K51","v":0},null,null,{"$f":"_xlfn.XLOOKUP($Y51,[1]COUNTRY_INFO!$W$9:$W$131,[1]COUNTRY_INFO!K$9:K$131)","v":0}]
[{"$f":"IF(INTRO!$E$34<>0,INTRO!$E$34,\"\")","v":"Chad"},"Kanem","Ntiona",55278,{"$f":"IF(INTRO!$E$48=\"\",\"\",ROUND($D52*INTRO!$E$48,0))","v":9121},{"$f":"IF(INTRO!$E$49=\"\",\"\",ROUND($D52*INTRO!$E$49,0))","v":16777},{"$f":"IF(INTRO!$E$50=\"\",\"\",ROUND($D52*INTRO!$E$50,0))","v":27335},0,0,1,1,null,{"$f":"IF(INTRO!$E$38=\"Endémique\", IF($H52>0, IF($H52=4,\"Inconnu\", IF($H52=99,\"Interrompu\", $D52)), 0),\"Non requis\")","v":0},{"$f":"IF(INTRO!$E$40=\"Endémique\", IF($I52>0, IF($I52=4,\"Inconnu\",IF($I52=99,\"Interrompu\", $D52)), 0),\"Non requis\")","v":0},{"$f":"IF(INTRO!$E$42=\"Endémique\", IF(AND($J52>1,$J52<5), IF($J52=4, \"Inconnu\", E52+F52), 0),\"Non requis\")","v":0},{"$f":"IF(INTRO!$E$44=\"Endémique\", IF(AND($K52>0,$K52<5), IF($K52=4,\"Inconnu\", IF($K52=1, $F52*0.33, IF($K52=2, $F52*0.5+$G52*0.2, SUM(F52:G52)))), 0),\"Non requis\")","v":5536.41},0,0,0,0,null,null,null,null,10764,"Ntiona",null,null,null,{"$f":"'MDA1'!K52","v":0},{"$f":"'MDA3'!O52","v":0},{"$f":"'T1'!M52","v":0},{"$f":"'T2'!K52","v":0},null,null,{"$f":"_xlfn.XLOOKUP($Y52,[1]COUNTRY_INFO!$W$9:$W$131,[1]COUNTRY_INFO!K$9:K$131)","v":1}]
[{"$f":"IF(INTRO!$E$34<>0,INTRO!$E$34,\"\")","v":"Chad"},"Kanem","Rig-Rig",66913,{"$f":"IF(INTRO!$E$48=\"\",\"\",ROUND($D53*INTRO!$E$48,0))","v":11041},{"$f":"IF(INTRO!$E$49=\"\",\"\",ROUND($D53*INTRO!$E$49,0))","v":20308},{"$f":"IF(INTRO!$E$50=\"\",\"\",ROUND($D53*INTRO!$E$50,0))","v":33088},0,0,0,0,null,{"$f":"IF(INTRO!$E$38=\"Endémique\", IF($H53>0, IF($H53=4,\"Inconnu\", IF($H53=99,\"Interrompu\", $D53)), 0),\"Non requis\")","v":0},{"$f":"IF(INTRO!$E$40=\"Endémique\", IF($I53>0, IF($I53=4,\"Inconnu\",IF($I53=99,\"Interrompu\", $D53)), 0),\"Non requis\")","v":0},{"$f":"IF(INTRO!$E$42=\"Endémique\", IF(AND($J53>1,$J53<5), IF($J53=4, \"Inconnu\", E53+F53), 0),\"Non requis\")","v":0},{"$f":"IF(INTRO!$E$44=\"Endémique\", IF(AND($K53>0,$K53<5), IF($K53=4,\"Inconnu\", IF($K53=1, $F53*0.33, IF($K53=2, $F53*0.5+$G53*0.2, SUM(F53:G53)))), 0),\"Non requis\")","v":0},0,0,0,0,null,null,null,null,10690,"Rig-Rig",null,null,null,{"$f":"'MDA1'!K53","v":0},{"$f":"'MDA3'!O53","v":0},{"$f":"'T1'!M53","v":0},{"$f":"'T2'!K53","v":0},null,null,{"$f":"_xlfn.XLOOKUP($Y53,[1]COUNTRY_INFO!$W$9:$W$131,[1]COUNTRY_INFO!K$9:K$131)","v":0}]
[{"$f":"IF(INTRO!$E$34<>0,INTRO!$E$34,\"\")","v":"Chad"},"Lac","Bagassola",93750,{"$f":"IF(INTRO!$E$48=\"\",\"\",ROUND($D54*INTRO!$E$48,0))","v":15469},{"$f":"IF(INTRO!$E$49=\"\",\"\",ROUND($D54*INTRO!$E$49,0))","v":28453},{"$f":"IF(INTRO!$E$50=\"\",\"\",ROUND($D54*INTRO!$E$50,0))","v":46359},0,0,1,2,null,{"$f":"IF(INTRO!$E$38=\"Endémique\", IF($H54>0, IF($H54=4,\"Inconnu\", IF($H54=99,\"Interrompu\", $D54)), 0),\"Non requis\")","v":0},{"$f":"IF(INTRO!$E$40=\"Endémique\", IF($I54>0, IF($I54=4,\"Inconnu\",IF($I54=99,\"Interrompu\", $D54)), 0),\"Non requis\")","v":0},{"$f":"IF(INTRO!$E$42=\"Endémique\", IF(AND($J54>1,$J54<5), IF($J54=4, \"Inconnu\", E54+F54), 0),\"Non requis\")","v":0},{"$f":"IF(INTRO!$E$44=\"Endémique\", IF(AND($K54>0,$K54<5), IF($K54=4,\"Inconnu\", IF($K54=1, $F54*0.33, IF($K54=2, $F54*0.5+$G54*0.2, SUM(F54:G54)))), 0),\"Non requis\")","v":23498.300000000003},0,0,0,0,null,null,null,null,10691,"Bagassola",null,null,null,{"$f":"'MDA1'!K54","v":0},{"$f":"'MDA3'!O54","v":0},{"$f":"'T1'!M54","v":0},{"$f":"'T2'!K54","v":0},null,null,{"$f":"_xlfn.XLOOKUP($Y54,[1]COUNTRY_INFO!$W$9:$W$131,[1]COUNTRY_INFO!K$9:K$131)","v":2}]
[{"$f":"IF(INTRO!$E$34<>0,INTRO!$E$34,\"\")","v":"Chad"},"Lac","Bol",194922,{"$f":"IF(INTRO!$E$48=\"\",\"\",ROUND($D55*INTRO!$E$48,0))","v":32162},{"$f":"IF(INTRO!$E$49=\"\",\"\",ROUND($D55*INTRO!$E$49,0))","v":59159},{"$f":"IF(INTRO!$E$50=\"\",\"\",ROUND($D55*INTRO!$E$50,0))","v":96389},0,0,1,2,null,{"$f":"IF(INTRO!$E$38=\"Endémique\", IF($H55>0, IF($H55=4,\"Inconnu\", IF($H55=99,\"Interrompu\", $D55)), 0),\"Non requis\")","v":0},{"$f":"IF(INTRO!$E$40=\"Endémique\", IF($I55>0, IF($I55=4,\"Inconnu\",IF($I55=99,\"Interrompu\", $D55)), 0),\"Non requis\")","v":0},{"$f":"IF(INTRO!$E$42=\"Endémique\", IF(AND($J55>1,$J55<5), IF($J55=4, \"Inconnu\", E55+F55), 0),\"Non requis\")","v":0},{"$f":"IF(INTRO!$E$44=\"Endémique\", IF(AND($K55>0,$K55<5), IF($K55=4,\"Inconnu\", IF($K55=1, $F55*0.33, IF($K55=2, $F55*0.5+$G55*0.2, SUM(F55:G55)))), 0),\"Non requis\")","v":48857.3},0,0,0,0,null,null,null,null,10692,"Bol",null,null,null,{"$f":"'MDA1'!K55","v":0},{"$f":"'MDA3'!O55","v":0},{"$f":"'T1'!M55","v":0},{"$f":"'T2'!K55","v":0},null,null,{"$f":"_xlfn.XLOOKUP($Y55,[1]COUNTRY_INFO!$W$9:$W$131,[1]COUNTRY_INFO!K$9:K$131)","v":2}]
[{"$f":"IF(INTRO!$E$34<>0,INTRO!$E$34,\"\")","v":"Chad"},"Lac","Isserom",67274,{"$f":"IF(INTRO!$E$48=\"\",\"\",ROUND($D56*INTRO!$E$48,0))","v":11100},{"$f":"IF(INTRO!$E$49=\"\",\"\",ROUND($D56*INTRO!$E$49,0))","v":20418},{"$f":"IF(INTRO!$E$50=\"\",\"\",ROUND($D56*INTRO!$E$50,0))","v":33267},0,0,1,1,null,{"$f":"IF(INTRO!$E$38=\"Endémique\", IF($H56>0, IF($H56=4,\"Inconnu\", IF($H56=99,\"Interrompu\", $D56)), 0),\"Non requis\")","v":0},{"$f":"IF(INTRO!$E$40=\"Endémique\", IF($I56>0, IF($I56=4,\"Inconnu\",IF($I56=99,\"Interrompu\", $D56)), 0),\"Non requis\")","v":0},{"$f":"IF(INTRO!$E$42=\"Endémique\", IF(AND($J56>1,$J56<5), IF($J56=4, \"Inconnu\", E56+F56), 0),\"Non requis\")","v":0},{"$f":"IF(INTRO!$E$44=\"Endémique\", IF(AND($K56>0,$K56<5), IF($K56=4,\"Inconnu\", IF($K56=1, $F56*0.33, IF($K56=2, $F56*0.5+$G56*0.2, SUM(F56:G56)))), 0),\"Non requis\")","v":6737.9400000000005},0,0,0,0,null,null,null,null,10749,"Isserom",null,null,null,{"$f":"'MDA1'!K56","v":0},{"$f":"'MDA3'!O56","v":0},{"$f":"'T1'!M56","v":0},{"$f":"'T2'!K56","v":0},null,null,{"$f":"_xlfn.XLOOKUP($Y56,[1]COUNTRY_INFO!$W$9:$W$131,[1]COUNTRY_INFO!K$9:K$131)","v":1}]
[{"$f":"IF(INTRO!$E$34<>0,INTRO!$E$34,\"\")","v":"Chad"},"Lac","Kouloudia",81739,{"$f":"IF(INTRO!$E$48=\"\",\"\",ROUND($D57*INTRO!$E$48,0))","v":13487},{"$f":"IF(INTRO!$E$49=\"\",\"\",ROUND($D57*INTRO!$E$49,0))","v":24808},{"$f":"IF(INTRO!$E$50=\"\",\"\",ROUND($D57*INTRO!$E$50,0))","v":40420},0,0,1,2,null,{"$f":"IF(INTRO!$E$38=\"Endémique\", IF($H57>0, IF($H57=4,\"Inconnu\", IF($H57=99,\"Interrompu\", $D57)), 0),\"Non requis\")","v":0},{"$f":"IF(INTRO!$E$40=\"Endémique\", IF($I57>0, IF($I57=4,\"Inconnu\",IF($I57=99,\"Interrompu\", $D57)), 0),\"Non requis\")","v":0},{"$f":"IF(INTRO!$E$42=\"Endémique\", IF(AND($J57>1,$J57<5), IF($J57=4, \"Inconnu\", E57+F57), 0),\"Non requis\")","v":0},{"$f":"IF(INTRO!$E$44=\"Endémique\", IF(AND($K57>0,$K57<5), IF($K57=4,\"Inconnu\", IF($K57=1, $F57*0.33, IF($K57=2, $F57*0.5+$G57*0.2, SUM(F57:G57)))), 0),\"Non requis\")","v":20488},0,0,0,0,null,null,null,null,10693,"Kouloudia",null,null,null,{"$f":"'MDA1'!K57","v":0},{"$f":"'MDA3'!O57","v":0},{"$f":"'T1'!M57","v":0},{"$f":"'T2'!K57","v":0},null,null,{"$f":"_xlfn.XLOOKUP($Y57,[1]COUNTRY_INFO!$W$9:$W$131,[1]COUNTRY_INFO!K$9:K$131)","v":2}]
[{"$f":"IF(INTRO!$E$34<>0,INTRO!$E$34,\"\")","v":"Chad"},"Lac","Liwa",61063,{"$f":"IF(INTRO!$E$48=\"\",\"\",ROUND($D58*INTRO!$E$48,0))","v":10075},{"$f":"IF(INTRO!$E$49=\"\",\"\",ROUND($D58*INTRO!$E$49,0))","v":18533},{"$f":"IF(INTRO!$E$50=\"\",\"\",ROUND($D58*INTRO!$E$50,0))","v":30196},0,0,1,1,null,{"$f":"IF(INTRO!$E$38=\"Endémique\", IF($H58>0, IF($H58=4,\"Inconnu\", IF($H58=99,\"Interrompu\", $D58)), 0),\"Non requis\")","v":0},{"$f":"IF(INTRO!$E$40=\"Endémique\", IF($I58>0, IF($I58=4,\"Inconnu\",IF($I58=99,\"Interrompu\", $D58)), 0),\"Non requis\")","v":0},{"$f":"IF(INTRO!$E$42=\"Endémique\", IF(AND($J58>1,$J58<5), IF($J58=4, \"Inconnu\", E58+F58), 0),\"Non requis\")","v":0},{"$f":"IF(INTRO!$E$44=\"Endémique\", IF(AND($K58>0,$K58<5), IF($K58=4,\"Inconnu\", IF($K58=1, $F58*0.33, IF($K58=2, $F58*0.5+$G58*0.2, SUM(F58:G58)))), 0),\"Non requis\")","v":6115.89},0,0,0,0,null,null,null,null,10694,"Liwa",null,null,null,{"$f":"'MDA1'!K58","v":0},{"$f":"'MDA3'!O58","v":0},{"$f":"'T1'!M58","v":0},{"$f":"'T2'!K58","v":0},null,null,{"$f":"_xlfn.XLOOKUP($Y58,[1]COUNTRY_INFO!$W$9:$W$131,[1]COUNTRY_INFO!K$9:K$131)","v":1}]
[{"$f":"IF(INTRO!$E$34<>0,INTRO!$E$34,\"\")","v":"Chad"},"Lac","Ngouri",181890,{"$f":"IF(INTRO!$E$48=\"\",\"\",ROUND($D59*INTRO!$E$48,0))","v":30012},{"$f":"IF(INTRO!$E$49=\"\",\"\",ROUND($D59*INTRO!$E$49,0))","v":55204},{"$f":"IF(INTRO!$E$50=\"\",\"\",ROUND($D59*INTRO!$E$50,0))","v":89945},0,0,1,1,null,{"$f":"IF(INTRO!$E$38=\"Endémique\", IF($H59>0, IF($H59=4,\"Inconnu\", IF($H59=99,\"Interrompu\", $D59)), 0),\"Non requis\")","v":0},{"$f":"IF(INTRO!$E$40=\"Endémique\", IF($I59>0, IF($I59=4,\"Inconnu\",IF($I59=99,\"Interrompu\", $D59)), 0),\"Non requis\")","v":0},{"$f":"IF(INTRO!$E$42=\"Endémique\", IF(AND($J59>1,$J59<5), IF($J59=4, \"Inconnu\", E59+F59), 0),\"Non requis\")","v":0},{"$f":"IF(INTRO!$E$44=\"Endémique\", IF(AND($K59>0,$K59<5), IF($K59=4,\"Inconnu\", IF($K59=1, $F59*0.33, IF($K59=2, $F59*0.5+$G59*0.2, SUM(F59:G59)))), 0),\"Non requis\")","v":18217.32},0,0,0,0,null,null,null,null,10695,"Ngouri",null,null,null,{"$f":"'MDA1'!K59","v":0},{"$f":"'MDA3'!O59","v":0},{"$f":"'T1'!M59","v":0},{"$f":"'T2'!K59","v":0},null,null,{"$f":"_xlfn.XLOOKUP($Y59,[1]COUNTRY_INFO!$W$9:$W$131,[1]COUNTRY_INFO!K$9:K$131)","v":1}]
[{"$f":"IF(INTRO!$E$34<>0,INTRO!$E$34,\"\")","v":"Chad"},"Logone Occidental","Benamar",141400,{"$f":"IF(INTRO!$E$48=\"\",\"\",ROUND($D60*INTRO!$E$48,0))","v":23331},{"$f":"IF(INTRO!$E$49=\"\",\"\",ROUND($D60*INTRO!$E$49,0))","v":42915},{"$f":"IF(INTRO!$E$50=\"\",\"\",ROUND($D60*INTRO!$E$50,0))","v":69922},1,1,1,2,null,{"$f":"IF(INTRO!$E$38=\"Endémique\", IF($H60>0, IF($H60=4,\"Inconnu\", IF($H60=99,\"Interrompu\", $D60)), 0),\"Non requis\")","v":141400},{"$f":"IF(INTRO!$E$40=\"Endémique\", IF($I60>0, IF($I60=4,\"Inconnu\",IF($I60=99,\"Interrompu\", $D60)), 0),\"Non requis\")","v":141400},{"$f":"IF(INTRO!$E$42=\"Endémique\", IF(AND($J60>1,$J60<5), IF($J60=4, \"Inconnu\", E60+F60), 0),\"Non requis\")","v":0},{"$f":"IF(INTRO!$E$44=\"Endémique\", IF(AND($K60>0,$K60<5), IF($K60=4,\"Inconnu\", IF($K60=1, $F60*0.33, IF($K60=2, $F60*0.5+$G60*0.2, SUM(F60:G60)))), 0),\"Non requis\")","v":35441.9},1,1,0,1,"MDA1 (IVM+ALB)","T2 (PZQ)",null,null,10765,"Benamar",null,null,null,{"$f":"'MDA1'!K60","v":41927},{"$f":"'MDA3'!O60","v":0},{"$f":"'T1'!M60","v":0},{"$f":"'T2'!K60","v":40312},null,null,{"$f":"_xlfn.XLOOKUP($Y60,[1]COUNTRY_INFO!$W$9:$W$131,[1]COUNTRY_INFO!K$9:K$131)","v":2}]
[{"$f":"IF(INTRO!$E$34<>0,INTRO!$E$34,\"\")","v":"Chad"},"Logone Occidental","Benoye",257775,{"$f":"IF(INTRO!$E$48=\"\",\"\",ROUND($D61*INTRO!$E$48,0))","v":42533},{"$f":"IF(INTRO!$E$49=\"\",\"\",ROUND($D61*INTRO!$E$49,0))","v":78235},{"$f":"IF(INTRO!$E$50=\"\",\"\",ROUND($D61*INTRO!$E$50,0))","v":127470},1,0,1,2,null,{"$f":"IF(INTRO!$E$38=\"Endémique\", IF($H61>0, IF($H61=4,\"Inconnu\", IF($H61=99,\"Interrompu\", $D61)), 0),\"Non requis\")","v":257775},{"$f":"IF(INTRO!$E$40=\"Endémique\", IF($I61>0, IF($I61=4,\"Inconnu\",IF($I61=99,\"Interrompu\", $D61)), 0),\"Non requis\")","v":0},{"$f":"IF(INTRO!$E$42=\"Endémique\", IF(AND($J61>1,$J61<5), IF($J61=4, \"Inconnu\", E61+F61), 0),\"Non requis\")","v":0},{"$f":"IF(INTRO!$E$44=\"Endémique\", IF(AND($K61>0,$K61<5), IF($K61=4,\"Inconnu\", IF($K61=1, $F61*0.33, IF($K61=2, $F61*0.5+$G61*0.2, SUM(F61:G61)))), 0),\"Non requis\")","v":64611.5},1,0,0,1,"MDA1 (IVM+ALB)","T2 (PZQ)",null,null,10696,"Benoye",null,null,null,{"$f":"'MDA1'!K61","v":78235},{"$f":"'MDA3'!O61","v":0},{"$f":"'T1'!M61","v":0},{"$f":"'T2'!K61","v":74322},null,null,{"$f":"_xlfn.XLOOKUP($Y61,[1]COUNTRY_INFO!$W$9:$W$131,[1]COUNTRY_INFO!K$9:K$131)","v":2}]
[{"$f":"IF(INTRO!$E$34<>0,INTRO!$E$34,\"\")","v":"Chad"},"Logone Occidental","Laokassy",204860,{"$f":"IF(INTRO!$E$48=\"\",\"\",ROUND($D62*INTRO!$E$48,0))","v":33802},{"$f":"IF(INTRO!$E$49=\"\",\"\",ROUND($D62*INTRO!$E$49,0))","v":62175},{"$f":"IF(INTRO!$E$50=\"\",\"\",ROUND($D62*INTRO!$E$50,0))","v":101303},1,1,1,2,null,{"$f":"IF(INTRO!$E$38=\"Endémique\", IF($H62>0, IF($H62=4,\"Inconnu\", IF($H62=99,\"Interrompu\", $D62)), 0),\"Non requis\")","v":204860},{"$f":"IF(INTRO!$E$40=\"Endémique\", IF($I62>0, IF($I62=4,\"Inconnu\",IF($I62=99,\"Interrompu\", $D62)), 0),\"Non requis\")","v":204860},{"$f":"IF(INTRO!$E$42=\"Endémique\", IF(AND($J62>1,$J62<5), IF($J62=4, \"Inconnu\", E62+F62), 0),\"Non requis\")","v":0},{"$f":"IF(INTRO!$E$44=\"Endémique\", IF(AND($K62>0,$K62<5), IF($K62=4,\"Inconnu\", IF($K62=1, $F62*0.33, IF($K62=2, $F62*0.5+$G62*0.2, SUM(F62:G62)))), 0),\"Non requis\")","v":51348.100000000006},1,1,0,1,"MDA1 (IVM+ALB)","T2 (PZQ)",null,null,10697,"Laokassy",null,null,null,{"$f":"'MDA1'!K62","v":59642},{"$f":"'MDA3'!O62","v":0},{"$f":"'T1'!M62","v":0},{"$f":"'T2'!K62","v":60123},null,null,{"$f":"_xlfn.XLOOKUP($Y62,[1]COUNTRY_INFO!$W$9:$W$131,[1]COUNTRY_INFO!K$9:K$131)","v":2}]
[{"$f":"IF(INTRO!$E$34<>0,INTRO!$E$34,\"\")","v":"Chad"},"Logone Occidental","Moundou",342222,{"$f":"IF(INTRO!$E$48=\"\",\"\",ROUND($D63*INTRO!$E$48,0))","v":56467},{"$f":"IF(INTRO!$E$49=\"\",\"\",ROUND($D63*INTRO!$E$49,0))","v":103864},{"$f":"IF(INTRO!$E$50=\"\",\"\",ROUND($D63*INTRO!$E$50,0))","v":169229},1,1,1,1,null,{"$f":"IF(INTRO!$E$38=\"Endémique\", IF($H63>0, IF($H63=4,\"Inconnu\", IF($H63=99,\"Interrompu\", $D63)), 0),\"Non requis\")","v":342222},{"$f":"IF(INTRO!$E$40=\"Endémique\", IF($I63>0, IF($I63=4,\"Inconnu\",IF($I63=99,\"Interrompu\", $D63)), 0),\"Non requis\")","v":342222},{"$f":"IF(INTRO!$E$42=\"Endémique\", IF(AND($J63>1,$J63<5), IF($J63=4, \"Inconnu\", E63+F63), 0),\"Non requis\")","v":0},{"$f":"IF(INTRO!$E$44=\"Endémique\", IF(AND($K63>0,$K63<5), IF($K63=4,\"Inconnu\", IF($K63=1, $F63*0.33, IF($K63=2, $F63*0.5+$G63*0.2, SUM(F63:G63)))), 0),\"Non requis\")","v":34275.120000000003},1,1,0,1,"MDA1 (IVM+ALB)","T2 (PZQ)",null,null,10698,"Moundou",null,null,null,{"$f":"'MDA1'!K63","v":107884},{"$f":"'MDA3'!O63","v":0},{"$f":"'T1'!M63","v":0},{"$f":"'T2'!K63","v":24887},null,null,{"$f":"_xlfn.XLOOKUP($Y63,[1]COUNTRY_INFO!$W$9:$W$131,[1]COUNTRY_INFO!K$9:K$131)","v":1}]
[{"$f":"IF(INTRO!$E$34<>0,INTRO!$E$34,\"\")","v":"Chad"},"Logone Orientlal","Baibokoum",90514,{"$f":"IF(INTRO!$E$48=\"\",\"\",ROUND($D64*INTRO!$E$48,0))","v":14935},{"$f":"IF(INTRO!$E$49=\"\",\"\",ROUND($D64*INTRO!$E$49,0))","v":27471},{"$f":"IF(INTRO!$E$50=\"\",\"\",ROUND($D64*INTRO!$E$50,0))","v":44759},1,1,1,2,null,{"$f":"IF(INTRO!$E$38=\"Endémique\", IF($H64>0, IF($H64=4,\"Inconnu\", IF($H64=99,\"Interrompu\", $D64)), 0),\"Non requis\")","v":90514},{"$f":"IF(INTRO!$E$40=\"Endémique\", IF($I64>0, IF($I64=4,\"Inconnu\",IF($I64=99,\"Interrompu\", $D64)), 0),\"Non requis\")","v":90514},{"$f":"IF(INTRO!$E$42=\"Endémique\", IF(AND($J64>1,$J64<5), IF($J64=4, \"Inconnu\", E64+F64), 0),\"Non requis\")","v":0},{"$f":"IF(INTRO!$E$44=\"Endémique\", IF(AND($K64>0,$K64<5), IF($K64=4,\"Inconnu\", IF($K64=1, $F64*0.33, IF($K64=2, $F64*0.5+$G64*0.2, SUM(F64:G64)))), 0),\"Non requis\")","v":22687.300000000003},1,1,0,1,"MDA1 (IVM+ALB)","T2 (PZQ)",null,null,10766,"Baibokoum",null,null,null,{"$f":"'MDA1'!K64","v":22531},{"$f":"'MDA3'!O64","v":0},{"$f":"'T1'!M64","v":0},{"$f":"'T2'!K64","v":20996},null,null,{"$f":"_xlfn.XLOOKUP($Y64,[1]COUNTRY_INFO!$W$9:$W$131,[1]COUNTRY_INFO!K$9:K$131)","v":2}]
[{"$f":"IF(INTRO!$E$34<>0,INTRO!$E$34,\"\")","v":"Chad"},"Logone Orientlal","Bebedja",189395,{"$f":"IF(INTRO!$E$48=\"\",\"\",ROUND($D65*INTRO!$E$48,0))","v":31250},{"$f":"IF(INTRO!$E$49=\"\",\"\",ROUND($D65*INTRO!$E$49,0))","v":57481},{"$f":"IF(INTRO!$E$50=\"\",\"\",ROUND($D65*INTRO!$E$50,0))","v":93656},1,1,1,2,null,{"$f":"IF(INTRO!$E$38=\"Endémique\", IF($H65>0, IF($H65=4,\"Inconnu\", IF($H65=99,\"Interrompu\", $D65)), 0),\"Non requis\")","v":189395},{"$f":"IF(INTRO!$E$40=\"Endémique\", IF($I65>0, IF($I65=4,\"Inconnu\",IF($I65=99,\"Interrompu\", $D65)), 0),\"Non requis\")","v":189395},{"$f":"IF(INTRO!$E$42=\"Endémique\", IF(AND($J65>1,$J65<5), IF($J65=4, \"Inconnu\", E65+F65), 0),\"Non requis\")","v":0},{"$f":"IF(INTRO!$E$44=\"Endémique\", IF(AND($K65>0,$K65<5), IF($K65=4,\"Inconnu\", IF($K65=1, $F65*0.33, IF($K65=2, $F65*0.5+$G65*0.2, SUM(F65:G65)))), 0),\"Non requis\")","v":47471.7},1,1,0,1,"MDA1 (IVM+ALB)","T2 (PZQ)",null,null,10699,"Bebedja",null,null,null,{"$f":"'MDA1'!K65","v":56156},{"$f":"'MDA3'!O65","v":0},{"$f":"'T1'!M65","v":0},{"$f":"'T2'!K65","v":54395},null,null,{"$f":"_xlfn.XLOOKUP($Y65,[1]COUNTRY_INFO!$W$9:$W$131,[1]COUNTRY_INFO!K$9:K$131)","v":2}]
[{"$f":"IF(INTRO!$E$34<>0,INTRO!$E$34,\"\")","v":"Chad"},"Logone Orientlal","Beboto",103640,{"$f":"IF(INTRO!$E$48=\"\",\"\",ROUND($D66*INTRO!$E$48,0))","v":17101},{"$f":"IF(INTRO!$E$49=\"\",\"\",ROUND($D66*INTRO!$E$49,0))","v":31455},{"$f":"IF(INTRO!$E$50=\"\",\"\",ROUND($D66*INTRO!$E$50,0))","v":51250},1,1,1,2,null,{"$f":"IF(INTRO!$E$38=\"Endémique\", IF($H66>0, IF($H66=4,\"Inconnu\", IF($H66=99,\"Interrompu\", $D66)), 0),\"Non requis\")","v":103640},{"$f":"IF(INTRO!$E$40=\"Endémique\", IF($I66>0, IF($I66=4,\"Inconnu\",IF($I66=99,\"Interrompu\", $D66)), 0),\"Non requis\")","v":103640},{"$f":"IF(INTRO!$E$42=\"Endémique\", IF(AND($J66>1,$J66<5), IF($J66=4, \"Inconnu\", E66+F66), 0),\"Non requis\")","v":0},{"$f":"IF(INTRO!$E$44=\"Endémique\", IF(AND($K66>0,$K66<5), IF($K66=4,\"Inconnu\", IF($K66=1, $F66*0.33, IF($K66=2, $F66*0.5+$G66*0.2, SUM(F66:G66)))), 0),\"Non requis\")","v":25977.5},1,1,0,1,"MDA1 (IVM+ALB)","T2 (PZQ)",null,null,10700,"Beboto",null,null,null,{"$f":"'MDA1'!K66","v":30441},{"$f":"'MDA3'!O66","v":0},{"$f":"'T1'!M66","v":0},{"$f":"'T2'!K66","v":19679},null,null,{"$f":"_xlfn.XLOOKUP($Y66,[1]COUNTRY_INFO!$W$9:$W$131,[1]COUNTRY_INFO!K$9:K$131)","v":2}]
[{"$f":"IF(INTRO!$E$34<>0,INTRO!$E$34,\"\")","v":"Chad"},"Logone Orientlal","Bessao",182938,{"$f":"IF(INTRO!$E$48=\"\",\"\",ROUND($D67*INTRO!$E$48,0))","v":30185},{"$f":"IF(INTRO!$E$49=\"\",\"\",ROUND($D67*INTRO!$E$49,0))","v":55522},{"$f":"IF(INTRO!$E$50=\"\",\"\",ROUND($D67*INTRO!$E$50,0))","v":90463},1,1,1,2,null,{"$f":"IF(INTRO!$E$38=\"Endémique\", IF($H67>0, IF($H67=4,\"Inconnu\", IF($H67=99,\"Interrompu\", $D67)), 0),\"Non requis\")","v":182938},{"$f":"IF(INTRO!$E$40=\"Endémique\", IF($I67>0, IF($I67=4,\"Inconnu\",IF($I67=99,\"Interrompu\", $D67)), 0),\"Non requis\")","v":182938},{"$f":"IF(INTRO!$E$42=\"Endémique\", IF(AND($J67>1,$J67<5), IF($J67=4, \"Inconnu\", E67+F67), 0),\"Non requis\")","v":0},{"$f":"IF(INTRO!$E$44=\"Endémique\", IF(AND($K67>0,$K67<5), IF($K67=4,\"Inconnu\", IF($K67=1, $F67*0.33, IF($K67=2, $F67*0.5+$G67*0.2, SUM(F67:G67)))), 0),\"Non requis\")","v":45853.600000000006},1,1,0,1,"MDA1 (IVM+ALB)","T2 (PZQ)",null,null,10701,"Bessao",null,null,null,{"$f":"'MDA1'!K67","v":55518},{"$f":"'MDA3'!O67","v":0},{"$f":"'T1'!M67","v":0},{"$f":"'T2'!K67","v":54990},null,null,{"$f":"_xlfn.XLOOKUP($Y67,[1]COUNTRY_INFO!$W$9:$W$131,[1]COUNTRY_INFO!K$9:K$131)","v":2}]
[{"$f":"IF(INTRO!$E$34<>0,INTRO!$E$34,\"\")","v":"Chad"},"Logone Orientlal","Bodo",157517,{"$f":"IF(INTRO!$E$48=\"\",\"\",ROUND($D68*INTRO!$E$48,0))","v":25990},{"$f":"IF(INTRO!$E$49=\"\",\"\",ROUND($D68*INTRO!$E$49,0))","v":47806},{"$f":"IF(INTRO!$E$50=\"\",\"\",ROUND($D68*INTRO!$E$50,0))","v":77892},1,0,1,2,null,{"$f":"IF(INTRO!$E$38=\"Endémique\", IF($H68>0, IF($H68=4,\"Inconnu\", IF($H68=99,\"Interrompu\", $D68)), 0),\"Non requis\")","v":157517},{"$f":"IF(INTRO!$E$40=\"Endémique\", IF($I68>0, IF($I68=4,\"Inconnu\",IF($I68=99,\"Interrompu\", $D68)), 0),\"Non requis\")","v":0},{"$f":"IF(INTRO!$E$42=\"Endémique\", IF(AND($J68>1,$J68<5), IF($J68=4, \"Inconnu\", E68+F68), 0),\"Non requis\")","v":0},{"$f":"IF(INTRO!$E$44=\"Endémique\", IF(AND($K68>0,$K68<5), IF($K68=4,\"Inconnu\", IF($K68=1, $F68*0.33, IF($K68=2, $F68*0.5+$G68*0.2, SUM(F68:G68)))), 0),\"Non requis\")","v":39481.4},1,0,0,1,"MDA1 (IVM+ALB)","T2 (PZQ)",null,null,10702,"Bodo",null,null,null,{"$f":"'MDA1'!K68","v":46257},{"$f":"'MDA3'!O68","v":0},{"$f":"'T1'!M68","v":0},{"$f":"'T2'!K68","v":42680},null,null,{"$f":"_xlfn.XLOOKUP($Y68,[1]COUNTRY_INFO!$W$9:$W$131,[1]COUNTRY_INFO!K$9:K$131)","v":2}]
[{"$f":"IF(INTRO!$E$34<>0,INTRO!$E$34,\"\")","v":"Chad"},"Logone Orientlal","Doba",230080,{"$f":"IF(INTRO!$E$48=\"\",\"\",ROUND($D69*INTRO!$E$48,0))","v":37963},{"$f":"IF(INTRO!$E$49=\"\",\"\",ROUND($D69*INTRO!$E$49,0))","v":69829},{"$f":"IF(INTRO!$E$50=\"\",\"\",ROUND($D69*INTRO!$E$50,0))","v":113775},1,1,1,1,null,{"$f":"IF(INTRO!$E$38=\"Endémique\", IF($H69>0, IF($H69=4,\"Inconnu\", IF($H69=99,\"Interrompu\", $D69)), 0),\"Non requis\")","v":230080},{"$f":"IF(INTRO!$E$40=\"Endémique\", IF($I69>0, IF($I69=4,\"Inconnu\",IF($I69=99,\"Interrompu\", $D69)), 0),\"Non requis\")","v":230080},{"$f":"IF(INTRO!$E$42=\"Endémique\", IF(AND($J69>1,$J69<5), IF($J69=4, \"Inconnu\", E69+F69), 0),\"Non requis\")","v":0},{"$f":"IF(INTRO!$E$44=\"Endémique\", IF(AND($K69>0,$K69<5), IF($K69=4,\"Inconnu\", IF($K69=1, $F69*0.33, IF($K69=2, $F69*0.5+$G69*0.2, SUM(F69:G69)))), 0),\"Non requis\")","v":23043.57},1,1,0,1,"MDA1 (IVM+ALB)","T2 (PZQ)",null,null,10703,"Doba",null,null,null,{"$f":"'MDA1'!K69","v":68241},{"$f":"'MDA3'!O69","v":0},{"$f":"'T1'!M69","v":0},{"$f":"'T2'!K69","v":66417},null,null,{"$f":"_xlfn.XLOOKUP($Y69,[1]COUNTRY_INFO!$W$9:$W$131,[1]COUNTRY_INFO!K$9:K$131)","v":1}]
[{"$f":"IF(INTRO!$E$34<>0,INTRO!$E$34,\"\")","v":"Chad"},"Logone Orientlal","DONIA",88245,{"$f":"IF(INTRO!$E$48=\"\",\"\",ROUND($D70*INTRO!$E$48,0))","v":14560},{"$f":"IF(INTRO!$E$49=\"\",\"\",ROUND($D70*INTRO!$E$49,0))","v":26782},{"$f":"IF(INTRO!$E$50=\"\",\"\",ROUND($D70*INTRO!$E$50,0))","v":43637},1,1,1,2,null,{"$f":"IF(INTRO!$E$38=\"Endémique\", IF($H70>0, IF($H70=4,\"Inconnu\", IF($H70=99,\"Interrompu\", $D70)), 0),\"Non requis\")","v":88245},{"$f":"IF(INTRO!$E$40=\"Endémique\", IF($I70>0, IF($I70=4,\"Inconnu\",IF($I70=99,\"Interrompu\", $D70)), 0),\"Non requis\")","v":88245},{"$f":"IF(INTRO!$E$42=\"Endémique\", IF(AND($J70>1,$J70<5), IF($J70=4, \"Inconnu\", E70+F70), 0),\"Non requis\")","v":0},{"$f":"IF(INTRO!$E$44=\"Endémique\", IF(AND($K70>0,$K70<5), IF($K70=4,\"Inconnu\", IF($K70=1, $F70*0.33, IF($K70=2, $F70*0.5+$G70*0.2, SUM(F70:G70)))), 0),\"Non requis\")","v":22118.400000000001},1,1,0,1,"MDA1 (IVM+ALB)","T2 (PZQ)",null,null,10767,"DONIA",null,null,null,{"$f":"'MDA1'!K70","v":26796},{"$f":"'MDA3'!O70","v":0},{"$f":"'T1'!M70","v":0},{"$f":"'T2'!K70","v":25782},null,null,{"$f":"_xlfn.XLOOKUP($Y70,[1]COUNTRY_INFO!$W$9:$W$131,[1]COUNTRY_INFO!K$9:K$131)","v":2}]
[{"$f":"IF(INTRO!$E$34<>0,INTRO!$E$34,\"\")","v":"Chad"},"Logone Orientlal","Goré",169285,{"$f":"IF(INTRO!$E$48=\"\",\"\",ROUND($D71*INTRO!$E$48,0))","v":27932},{"$f":"IF(INTRO!$E$49=\"\",\"\",ROUND($D71*INTRO!$E$49,0))","v":51378},{"$f":"IF(INTRO!$E$50=\"\",\"\",ROUND($D71*INTRO!$E$50,0))","v":83711},1,1,1,2,null,{"$f":"IF(INTRO!$E$38=\"Endémique\", IF($H71>0, IF($H71=4,\"Inconnu\", IF($H71=99,\"Interrompu\", $D71)), 0),\"Non requis\")","v":169285},{"$f":"IF(INTRO!$E$40=\"Endémique\", IF($I71>0, IF($I71=4,\"Inconnu\",IF($I71=99,\"Interrompu\", $D71)), 0),\"Non requis\")","v":169285},{"$f":"IF(INTRO!$E$42=\"Endémique\", IF(AND($J71>1,$J71<5), IF($J71=4, \"Inconnu\", E71+F71), 0),\"Non requis\")","v":0},{"$f":"IF(INTRO!$E$44=\"Endémique\", IF(AND($K71>0,$K71<5), IF($K71=4,\"Inconnu\", IF($K71=1, $F71*0.33, IF($K71=2, $F71*0.5+$G71*0.2, SUM(F71:G71)))), 0),\"Non requis\")","v":42431.199999999997},1,1,0,1,"MDA1 (IVM+ALB)","T2 (PZQ)",null,null,10704,"Goré",null,null,null,{"$f":"'MDA1'!K71","v":51226},{"$f":"'MDA3'!O71","v":0},{"$f":"'T1'!M71","v":0},{"$f":"'T2'!K71","v":46232},null,null,{"$f":"_xlfn.XLOOKUP($Y71,[1]COUNTRY_INFO!$W$9:$W$131,[1]COUNTRY_INFO!K$9:K$131)","v":2}]
[{"$f":"IF(INTRO!$E$34<>0,INTRO!$E$34,\"\")","v":"Chad"},"Logone Orientlal","Kara",65754,{"$f":"IF(INTRO!$E$48=\"\",\"\",ROUND($D72*INTRO!$E$48,0))","v":10849},{"$f":"IF(INTRO!$E$49=\"\",\"\",ROUND($D72*INTRO!$E$49,0))","v":19956},{"$f":"IF(INTRO!$E$50=\"\",\"\",ROUND($D72*INTRO!$E$50,0))","v":32515},1,1,1,1,null,{"$f":"IF(INTRO!$E$38=\"Endémique\", IF($H72>0, IF($H72=4,\"Inconnu\", IF($H72=99,\"Interrompu\", $D72)), 0),\"Non requis\")","v":65754},{"$f":"IF(INTRO!$E$40=\"Endémique\", IF($I72>0, IF($I72=4,\"Inconnu\",IF($I72=99,\"Interrompu\", $D72)), 0),\"Non requis\")","v":65754},{"$f":"IF(INTRO!$E$42=\"Endémique\", IF(AND($J72>1,$J72<5), IF($J72=4, \"Inconnu\", E72+F72), 0),\"Non requis\")","v":0},{"$f":"IF(INTRO!$E$44=\"Endémique\", IF(AND($K72>0,$K72<5), IF($K72=4,\"Inconnu\", IF($K72=1, $F72*0.33, IF($K72=2, $F72*0.5+$G72*0.2, SUM(F72:G72)))), 0),\"Non requis\")","v":6585.4800000000005},1,1,0,1,"MDA1 (IVM+ALB)","T2 (PZQ)",null,null,10768,"Kara",null,null,null,{"$f":"'MDA1'!K72","v":18712},{"$f":"'MDA3'!O72","v":0},{"$f":"'T1'!M72","v":0},{"$f":"'T2'!K72","v":17544},null,null,{"$f":"_xlfn.XLOOKUP($Y72,[1]COUNTRY_INFO!$W$9:$W$131,[1]COUNTRY_INFO!K$9:K$131)","v":1}]
[{"$f":"IF(INTRO!$E$34<>0,INTRO!$E$34,\"\")","v":"Chad"},"Logone Orientlal","Larmanaye",84376,{"$f":"IF(INTRO!$E$48=\"\",\"\",ROUND($D73*INTRO!$E$48,0))","v":13922},{"$f":"IF(INTRO!$E$49=\"\",\"\",ROUND($D73*INTRO!$E$49,0))","v":25608},{"$f":"IF(INTRO!$E$50=\"\",\"\",ROUND($D73*INTRO!$E$50,0))","v":41724},1,1,2,2,null,{"$f":"IF(INTRO!$E$38=\"Endémique\", IF($H73>0, IF($H73=4,\"Inconnu\", IF($H73=99,\"Interrompu\", $D73)), 0),\"Non requis\")","v":84376},{"$f":"IF(INTRO!$E$40=\"Endémique\", IF($I73>0, IF($I73=4,\"Inconnu\",IF($I73=99,\"Interrompu\", $D73)), 0),\"Non requis\")","v":84376},{"$f":"IF(INTRO!$E$42=\"Endémique\", IF(AND($J73>1,$J73<5), IF($J73=4, \"Inconnu\", E73+F73), 0),\"Non requis\")","v":39530},{"$f":"IF(INTRO!$E$44=\"Endémique\", IF(AND($K73>0,$K73<5), IF($K73=4,\"Inconnu\", IF($K73=1, $F73*0.33, IF($K73=2, $F73*0.5+$G73*0.2, SUM(F73:G73)))), 0),\"Non requis\")","v":21148.800000000003},1,1,1,1,"MDA1 (IVM+ALB)","T2 (PZQ)",null,null,10705,"Larmanaye",null,null,null,{"$f":"'MDA1'!K73","v":20707},{"$f":"'MDA3'!O73","v":0},{"$f":"'T1'!M73","v":0},{"$f":"'T2'!K73","v":24651},null,null,{"$f":"_xlfn.XLOOKUP($Y73,[1]COUNTRY_INFO!$W$9:$W$131,[1]COUNTRY_INFO!K$9:K$131)","v":2}]
[{"$f":"IF(INTRO!$E$34<>0,INTRO!$E$34,\"\")","v":"Chad"},"Mandoul","Bedaya",109137,{"$f":"IF(INTRO!$E$48=\"\",\"\",ROUND($D74*INTRO!$E$48,0))","v":18008},{"$f":"IF(INTRO!$E$49=\"\",\"\",ROUND($D74*INTRO!$E$49,0))","v":33123},{"$f":"IF(INTRO!$E$50=\"\",\"\",ROUND($D74*INTRO!$E$50,0))","v":53968},1,1,1,1,null,{"$f":"IF(INTRO!$E$38=\"Endémique\", IF($H74>0, IF($H74=4,\"Inconnu\", IF($H74=99,\"Interrompu\", $D74)), 0),\"Non requis\")","v":109137},{"$f":"IF(INTRO!$E$40=\"Endémique\", IF($I74>0, IF($I74=4,\"Inconnu\",IF($I74=99,\"Interrompu\", $D74)), 0),\"Non requis\")","v":109137},{"$f":"IF(INTRO!$E$42=\"Endémique\", IF(AND($J74>1,$J74<5), IF($J74=4, \"Inconnu\", E74+F74), 0),\"Non requis\")","v":0},{"$f":"IF(INTRO!$E$44=\"Endémique\", IF(AND($K74>0,$K74<5), IF($K74=4,\"Inconnu\", IF($K74=1, $F74*0.33, IF($K74=2, $F74*0.5+$G74*0.2, SUM(F74:G74)))), 0),\"Non requis\")","v":10930.59},1,1,0,0,"MDA1 (IVM+ALB)",null,null,null,10769,"Bedaya",null,null,null,{"$f":"'MDA1'!K74","v":32568},{"$f":"'MDA3'!O74","v":0},{"$f":"'T1'!M74","v":0},{"$f":"'T2'!K74","v":32114},null,null,{"$f":"_xlfn.XLOOKUP($Y74,[1]COUNTRY_INFO!$W$9:$W$131,[1]COUNTRY_INFO!K$9:K$131)","v":1}]
[{"$f":"IF(INTRO!$E$34<>0,INTRO!$E$34,\"\")","v":"Chad"},"Mandoul","Bedjondo",127111,{"$f":"IF(INTRO!$E$48=\"\",\"\",ROUND($D75*INTRO!$E$48,0))","v":20973},{"$f":"IF(INTRO!$E$49=\"\",\"\",ROUND($D75*INTRO!$E$49,0))","v":38578},{"$f":"IF(INTRO!$E$50=\"\",\"\",ROUND($D75*INTRO!$E$50,0))","v":62856},0,1,0,1,null,{"$f":"IF(INTRO!$E$38=\"Endémique\", IF($H75>0, IF($H75=4,\"Inconnu\", IF($H75=99,\"Interrompu\", $D75)), 0),\"Non requis\")","v":0},{"$f":"IF(INTRO!$E$40=\"Endémique\", IF($I75>0, IF($I75=4,\"Inconnu\",IF($I75=99,\"Interrompu\", $D75)), 0),\"Non requis\")","v":127111},{"$f":"IF(INTRO!$E$42=\"Endémique\", IF(AND($J75>1,$J75<5), IF($J75=4, \"Inconnu\", E75+F75), 0),\"Non requis\")","v":0},{"$f":"IF(INTRO!$E$44=\"Endémique\", IF(AND($K75>0,$K75<5), IF($K75=4,\"Inconnu\", IF($K75=1, $F75*0.33, IF($K75=2, $F75*0.5+$G75*0.2, SUM(F75:G75)))), 0),\"Non requis\")","v":12730.74},0,1,0,0,"MDA3 (IVM)",null,null,null,10706,"Bedjondo",null,null,null,{"$f":"'MDA1'!K75","v":0},{"$f":"'MDA3'!O75","v":38671},{"$f":"'T1'!M75","v":0},{"$f":"'T2'!K75","v":0},null,null,{"$f":"_xlfn.XLOOKUP($Y75,[1]COUNTRY_INFO!$W$9:$W$131,[1]COUNTRY_INFO!K$9:K$131)","v":1}]
[{"$f":"IF(INTRO!$E$34<>0,INTRO!$E$34,\"\")","v":"Chad"},"Mandoul","Bekourou",92789,{"$f":"IF(INTRO!$E$48=\"\",\"\",ROUND($D76*INTRO!$E$48,0))","v":15310},{"$f":"IF(INTRO!$E$49=\"\",\"\",ROUND($D76*INTRO!$E$49,0))","v":28161},{"$f":"IF(INTRO!$E$50=\"\",\"\",ROUND($D76*INTRO!$E$50,0))","v":45884},0,1,0,0,null,{"$f":"IF(INTRO!$E$38=\"Endémique\", IF($H76>0, IF($H76=4,\"Inconnu\", IF($H76=99,\"Interrompu\", $D76)), 0),\"Non requis\")","v":0},{"$f":"IF(INTRO!$E$40=\"Endémique\", IF($I76>0, IF($I76=4,\"Inconnu\",IF($I76=99,\"Interrompu\", $D76)), 0),\"Non requis\")","v":92789},{"$f":"IF(INTRO!$E$42=\"Endémique\", IF(AND($J76>1,$J76<5), IF($J76=4, \"Inconnu\", E76+F76), 0),\"Non requis\")","v":0},{"$f":"IF(INTRO!$E$44=\"Endémique\", IF(AND($K76>0,$K76<5), IF($K76=4,\"Inconnu\", IF($K76=1, $F76*0.33, IF($K76=2, $F76*0.5+$G76*0.2, SUM(F76:G76)))), 0),\"Non requis\")","v":0},0,1,0,0,"MDA3 (IVM)",null,null,null,10770,"Bekourou",null,null,null,{"$f":"'MDA1'!K76","v":0},{"$f":"'MDA3'!O76","v":28411},{"$f":"'T1'!M76","v":0},{"$f":"'T2'!K76","v":0},null,null,{"$f":"_xlfn.XLOOKUP($Y76,[1]COUNTRY_INFO!$W$9:$W$131,[1]COUNTRY_INFO!K$9:K$131)","v":0}]
[{"$f":"IF(INTRO!$E$34<>0,INTRO!$E$34,\"\")","v":"Chad"},"Mandoul","Bouna",109137,{"$f":"IF(INTRO!$E$48=\"\",\"\",ROUND($D77*INTRO!$E$48,0))","v":18008},{"$f":"IF(INTRO!$E$49=\"\",\"\",ROUND($D77*INTRO!$E$49,0))","v":33123},{"$f":"IF(INTRO!$E$50=\"\",\"\",ROUND($D77*INTRO!$E$50,0))","v":53968},0,1,1,0,null,{"$f":"IF(INTRO!$E$38=\"Endémique\", IF($H77>0, IF($H77=4,\"Inconnu\", IF($H77=99,\"Interrompu\", $D77)), 0),\"Non requis\")","v":0},{"$f":"IF(INTRO!$E$40=\"Endémique\", IF($I77>0, IF($I77=4,\"Inconnu\",IF($I77=99,\"Interrompu\", $D77)), 0),\"Non requis\")","v":109137},{"$f":"IF(INTRO!$E$42=\"Endémique\", IF(AND($J77>1,$J77<5), IF($J77=4, \"Inconnu\", E77+F77), 0),\"Non requis\")","v":0},{"$f":"IF(INTRO!$E$44=\"Endémique\", IF(AND($K77>0,$K77<5), IF($K77=4,\"Inconnu\", IF($K77=1, $F77*0.33, IF($K77=2, $F77*0.5+$G77*0.2, SUM(F77:G77)))), 0),\"Non requis\")","v":0},0,1,0,0,"MDA3 (IVM)",null,null,null,10707,"Bouna",null,null,null,{"$f":"'MDA1'!K77","v":0},{"$f":"'MDA3'!O77","v":32363},{"$f":"'T1'!M77","v":0},{"$f":"'T2'!K77","v":0},null,null,{"$f":"_xlfn.XLOOKUP($Y77,[1]COUNTRY_INFO!$W$9:$W$131,[1]COUNTRY_INFO!K$9:K$131)","v":0}]
[{"$f":"IF(INTRO!$E$34<>0,INTRO!$E$34,\"\")","v":"Chad"},"Mandoul","Goundi",207903,{"$f":"IF(INTRO!$E$48=\"\",\"\",ROUND($D78*INTRO!$E$48,0))","v":34304},{"$f":"IF(INTRO!$E$49=\"\",\"\",ROUND($D78*INTRO!$E$49,0))","v":63099},{"$f":"IF(INTRO!$E$50=\"\",\"\",ROUND($D78*INTRO!$E$50,0))","v":102808},0,0,1,1,null,{"$f":"IF(INTRO!$E$38=\"Endémique\", IF($H78>0, IF($H78=4,\"Inconnu\", IF($H78=99,\"Interrompu\", $D78)), 0),\"Non requis\")","v":0},{"$f":"IF(INTRO!$E$40=\"Endémique\", IF($I78>0, IF($I78=4,\"Inconnu\",IF($I78=99,\"Interrompu\", $D78)), 0),\"Non requis\")","v":0},{"$f":"IF(INTRO!$E$42=\"Endémique\", IF(AND($J78>1,$J78<5), IF($J78=4, \"Inconnu\", E78+F78), 0),\"Non requis\")","v":0},{"$f":"IF(INTRO!$E$44=\"Endémique\", IF(AND($K78>0,$K78<5), IF($K78=4,\"Inconnu\", IF($K78=1, $F78*0.33, IF($K78=2, $F78*0.5+$G78*0.2, SUM(F78:G78)))), 0),\"Non requis\")","v":20822.670000000002},0,0,0,0,null,null,null,null,10708,"Goundi",null,null,null,{"$f":"'MDA1'!K78","v":0},{"$f":"'MDA3'!O78","v":0},{"$f":"'T1'!M78","v":0},{"$f":"'T2'!K78","v":0},null,null,{"$f":"_xlfn.XLOOKUP($Y78,[1]COUNTRY_INFO!$W$9:$W$131,[1]COUNTRY_INFO!K$9:K$131)","v":1}]
[{"$f":"IF(INTRO!$E$34<>0,INTRO!$E$34,\"\")","v":"Chad"},"Mandoul","Koumra",246432,{"$f":"IF(INTRO!$E$48=\"\",\"\",ROUND($D79*INTRO!$E$48,0))","v":40661},{"$f":"IF(INTRO!$E$49=\"\",\"\",ROUND($D79*INTRO!$E$49,0))","v":74792},{"$f":"IF(INTRO!$E$50=\"\",\"\",ROUND($D79*INTRO!$E$50,0))","v":121861},1,1,1,1,null,{"$f":"IF(INTRO!$E$38=\"Endémique\", IF($H79>0, IF($H79=4,\"Inconnu\", IF($H79=99,\"Interrompu\", $D79)), 0),\"Non requis\")","v":246432},{"$f":"IF(INTRO!$E$40=\"Endémique\", IF($I79>0, IF($I79=4,\"Inconnu\",IF($I79=99,\"Interrompu\", $D79)), 0),\"Non requis\")","v":246432},{"$f":"IF(INTRO!$E$42=\"Endémique\", IF(AND($J79>1,$J79<5), IF($J79=4, \"Inconnu\", E79+F79), 0),\"Non requis\")","v":0},{"$f":"IF(INTRO!$E$44=\"Endémique\", IF(AND($K79>0,$K79<5), IF($K79=4,\"Inconnu\", IF($K79=1, $F79*0.33, IF($K79=2, $F79*0.5+$G79*0.2, SUM(F79:G79)))), 0),\"Non requis\")","v":24681.360000000001},1,1,0,0,"MDA1 (IVM+ALB)",null,null,null,10709,"Koumra",null,null,null,{"$f":"'MDA1'!K79","v":72166},{"$f":"'MDA3'!O79","v":0},{"$f":"'T1'!M79","v":0},{"$f":"'T2'!K79","v":0},null,null,{"$f":"_xlfn.XLOOKUP($Y79,[1]COUNTRY_INFO!$W$9:$W$131,[1]COUNTRY_INFO!K$9:K$131)","v":1}]
[{"$f":"IF(INTRO!$E$34<>0,INTRO!$E$34,\"\")","v":"Chad"},"Mandoul","Moissala",206127,{"$f":"IF(INTRO!$E$48=\"\",\"\",ROUND($D80*INTRO!$E$48,0))","v":34011},{"$f":"IF(INTRO!$E$49=\"\",\"\",ROUND($D80*INTRO!$E$49,0))","v":62560},{"$f":"IF(INTRO!$E$50=\"\",\"\",ROUND($D80*INTRO!$E$50,0))","v":101930},0,1,0,0,null,{"$f":"IF(INTRO!$E$38=\"Endémique\", IF($H80>0, IF($H80=4,\"Inconnu\", IF($H80=99,\"Interrompu\", $D80)), 0),\"Non requis\")","v":0},{"$f":"IF(INTRO!$E$40=\"Endémique\", IF($I80>0, IF($I80=4,\"Inconnu\",IF($I80=99,\"Interrompu\", $D80)), 0),\"Non requis\")","v":206127},{"$f":"IF(INTRO!$E$42=\"Endémique\", IF(AND($J80>1,$J80<5), IF($J80=4, \"Inconnu\", E80+F80), 0),\"Non requis\")","v":0},{"$f":"IF(INTRO!$E$44=\"Endémique\", IF(AND($K80>0,$K80<5), IF($K80=4,\"Inconnu\", IF($K80=1, $F80*0.33, IF($K80=2, $F80*0.5+$G80*0.2, SUM(F80:G80)))), 0),\"Non requis\")","v":0},0,1,0,0,"MDA3 (IVM)",null,null,null,10710,"Moissala",null,null,null,{"$f":"'MDA1'!K80","v":0},{"$f":"'MDA3'!O80","v":42496},{"$f":"'T1'!M80","v":0},{"$f":"'T2'!K80","v":0},null,null,{"$f":"_xlfn.XLOOKUP($Y80,[1]COUNTRY_INFO!$W$9:$W$131,[1]COUNTRY_INFO!K$9:K$131)","v":0}]
[{"$f":"IF(INTRO!$E$34<>0,INTRO!$E$34,\"\")","v":"Chad"},"Mayo Kebbi Est","Bongor",166884,{"$f":"IF(INTRO!$E$48=\"\",\"\",ROUND($D81*INTRO!$E$48,0))","v":27536},{"$f":"IF(INTRO!$E$49=\"\",\"\",ROUND($D81*INTRO!$E$49,0))","v":50649},{"$f":"IF(INTRO!$E$50=\"\",\"\",ROUND($D81*INTRO!$E$50,0))","v":82524},0,0,1,2,null,{"$f":"IF(INTRO!$E$38=\"Endémique\", IF($H81>0, IF($H81=4,\"Inconnu\", IF($H81=99,\"Interrompu\", $D81)), 0),\"Non requis\")","v":0},{"$f":"IF(INTRO!$E$40=\"Endémique\", IF($I81>0, IF($I81=4,\"Inconnu\",IF($I81=99,\"Interrompu\", $D81)), 0),\"Non requis\")","v":0},{"$f":"IF(INTRO!$E$42=\"Endémique\", IF(AND($J81>1,$J81<5), IF($J81=4, \"Inconnu\", E81+F81), 0),\"Non requis\")","v":0},{"$f":"IF(INTRO!$E$44=\"Endémique\", IF(AND($K81>0,$K81<5), IF($K81=4,\"Inconnu\", IF($K81=1, $F81*0.33, IF($K81=2, $F81*0.5+$G81*0.2, SUM(F81:G81)))), 0),\"Non requis\")","v":41829.300000000003},0,0,1,1,null,"T1 (PZQ+ALB/MBD)",null,null,10753,"Bongor",null,null,null,{"$f":"'MDA1'!K81","v":0},{"$f":"'MDA3'!O81","v":0},{"$f":"'T1'!M81","v":59802},{"$f":"'T2'!K81","v":0},null,null,{"$f":"_xlfn.XLOOKUP($Y81,[1]COUNTRY_INFO!$W$9:$W$131,[1]COUNTRY_INFO!K$9:K$131)","v":2}]
[{"$f":"IF(INTRO!$E$34<>0,INTRO!$E$34,\"\")","v":"Chad"},"Mayo Kebbi Est","Fianga",151549,{"$f":"IF(INTRO!$E$48=\"\",\"\",ROUND($D82*INTRO!$E$48,0))","v":25006},{"$f":"IF(INTRO!$E$49=\"\",\"\",ROUND($D82*INTRO!$E$49,0))","v":45995},{"$f":"IF(INTRO!$E$50=\"\",\"\",ROUND($D82*INTRO!$E$50,0))","v":74941},0,1,1,3,null,{"$f":"IF(INTRO!$E$38=\"Endémique\", IF($H82>0, IF($H82=4,\"Inconnu\", IF($H82=99,\"Interrompu\", $D82)), 0),\"Non requis\")","v":0},{"$f":"IF(INTRO!$E$40=\"Endémique\", IF($I82>0, IF($I82=4,\"Inconnu\",IF($I82=99,\"Interrompu\", $D82)), 0),\"Non requis\")","v":151549},{"$f":"IF(INTRO!$E$42=\"Endémique\", IF(AND($J82>1,$J82<5), IF($J82=4, \"Inconnu\", E82+F82), 0),\"Non requis\")","v":0},{"$f":"IF(INTRO!$E$44=\"Endémique\", IF(AND($K82>0,$K82<5), IF($K82=4,\"Inconnu\", IF($K82=1, $F82*0.33, IF($K82=2, $F82*0.5+$G82*0.2, SUM(F82:G82)))), 0),\"Non requis\")","v":120936},0,1,1,1,"MDA3 (IVM)","T1 (PZQ+ALB/MBD)",null,null,10712,"Fianga",null,null,null,{"$f":"'MDA1'!K82","v":0},{"$f":"'MDA3'!O82","v":45002},{"$f":"'T1'!M82","v":45826},{"$f":"'T2'!K82","v":0},null,null,{"$f":"_xlfn.XLOOKUP($Y82,[1]COUNTRY_INFO!$W$9:$W$131,[1]COUNTRY_INFO!K$9:K$131)","v":3}]
[{"$f":"IF(INTRO!$E$34<>0,INTRO!$E$34,\"\")","v":"Chad"},"Mayo Kebbi Est","Gounou Gaya",129724,{"$f":"IF(INTRO!$E$48=\"\",\"\",ROUND($D83*INTRO!$E$48,0))","v":21404},{"$f":"IF(INTRO!$E$49=\"\",\"\",ROUND($D83*INTRO!$E$49,0))","v":39371},{"$f":"IF(INTRO!$E$50=\"\",\"\",ROUND($D83*INTRO!$E$50,0))","v":64149},0,1,2,2,null,{"$f":"IF(INTRO!$E$38=\"Endémique\", IF($H83>0, IF($H83=4,\"Inconnu\", IF($H83=99,\"Interrompu\", $D83)), 0),\"Non requis\")","v":0},{"$f":"IF(INTRO!$E$40=\"Endémique\", IF($I83>0, IF($I83=4,\"Inconnu\",IF($I83=99,\"Interrompu\", $D83)), 0),\"Non requis\")","v":129724},{"$f":"IF(INTRO!$E$42=\"Endémique\", IF(AND($J83>1,$J83<5), IF($J83=4, \"Inconnu\", E83+F83), 0),\"Non requis\")","v":60775},{"$f":"IF(INTRO!$E$44=\"Endémique\", IF(AND($K83>0,$K83<5), IF($K83=4,\"Inconnu\", IF($K83=1, $F83*0.33, IF($K83=2, $F83*0.5+$G83*0.2, SUM(F83:G83)))), 0),\"Non requis\")","v":32515.300000000003},0,1,1,1,"MDA3 (IVM)","T1 (PZQ+ALB/MBD)",null,null,10713,"Gounou Gaya",null,null,null,{"$f":"'MDA1'!K83","v":0},{"$f":"'MDA3'!O83","v":38742},{"$f":"'T1'!M83","v":37459},{"$f":"'T2'!K83","v":0},null,null,{"$f":"_xlfn.XLOOKUP($Y83,[1]COUNTRY_INFO!$W$9:$W$131,[1]COUNTRY_INFO!K$9:K$131)","v":2}]
[{"$f":"IF(INTRO!$E$34<>0,INTRO!$E$34,\"\")","v":"Chad"},"Mayo Kebbi Est","Guelinding",91501,{"$f":"IF(INTRO!$E$48=\"\",\"\",ROUND($D84*INTRO!$E$48,0))","v":15098},{"$f":"IF(INTRO!$E$49=\"\",\"\",ROUND($D84*INTRO!$E$49,0))","v":27771},{"$f":"IF(INTRO!$E$50=\"\",\"\",ROUND($D84*INTRO!$E$50,0))","v":45247},1,0,1,1,null,{"$f":"IF(INTRO!$E$38=\"Endémique\", IF($H84>0, IF($H84=4,\"Inconnu\", IF($H84=99,\"Interrompu\", $D84)), 0),\"Non requis\")","v":91501},{"$f":"IF(INTRO!$E$40=\"Endémique\", IF($I84>0, IF($I84=4,\"Inconnu\",IF($I84=99,\"Interrompu\", $D84)), 0),\"Non requis\")","v":0},{"$f":"IF(INTRO!$E$42=\"Endémique\", IF(AND($J84>1,$J84<5), IF($J84=4, \"Inconnu\", E84+F84), 0),\"Non requis\")","v":0},{"$f":"IF(INTRO!$E$44=\"Endémique\", IF(AND($K84>0,$K84<5), IF($K84=4,\"Inconnu\", IF($K84=1, $F84*0.33, IF($K84=2, $F84*0.5+$G84*0.2, SUM(F84:G84)))), 0),\"Non requis\")","v":9164.43},1,0,0,1,"MDA1 (IVM+ALB)","T2 (PZQ)",null,null,10714,"Guelinding",null,null,null,{"$f":"'MDA1'!K84","v":27121},{"$f":"'MDA3'!O84","v":0},{"$f":"'T1'!M84","v":27633},{"$f":"'T2'!K84","v":29328},null,null,{"$f":"_xlfn.XLOOKUP($Y84,[1]COUNTRY_INFO!$W$9:$W$131,[1]COUNTRY_INFO!K$9:K$131)","v":1}]
[{"$f":"IF(INTRO!$E$34<>0,INTRO!$E$34,\"\")","v":"Chad"},"Mayo Kebbi Est","Moulkou",127507,{"$f":"IF(INTRO!$E$48=\"\",\"\",ROUND($D85*INTRO!$E$48,0))","v":21039},{"$f":"IF(INTRO!$E$49=\"\",\"\",ROUND($D85*INTRO!$E$49,0))","v":38698},{"$f":"IF(INTRO!$E$50=\"\",\"\",ROUND($D85*INTRO!$E$50,0))","v":63052},1,0,1,1,null,{"$f":"IF(INTRO!$E$38=\"Endémique\", IF($H85>0, IF($H85=4,\"Inconnu\", IF($H85=99,\"Interrompu\", $D85)), 0),\"Non requis\")","v":127507},{"$f":"IF(INTRO!$E$40=\"Endémique\", IF($I85>0, IF($I85=4,\"Inconnu\",IF($I85=99,\"Interrompu\", $D85)), 0),\"Non requis\")","v":0},{"$f":"IF(INTRO!$E$42=\"Endémique\", IF(AND($J85>1,$J85<5), IF($J85=4, \"Inconnu\", E85+F85), 0),\"Non requis\")","v":0},{"$f":"IF(INTRO!$E$44=\"Endémique\", IF(AND($K85>0,$K85<5), IF($K85=4,\"Inconnu\", IF($K85=1, $F85*0.33, IF($K85=2, $F85*0.5+$G85*0.2, SUM(F85:G85)))), 0),\"Non requis\")","v":12770.34},1,0,0,1,"MDA1 (IVM+ALB)","T2 (PZQ)",null,null,10750,"Moulkou",null,null,null,{"$f":"'MDA1'!K85","v":37687},{"$f":"'MDA3'!O85","v":0},{"$f":"'T1'!M85","v":0},{"$f":"'T2'!K85","v":37442},null,null,{"$f":"_xlfn.XLOOKUP($Y85,[1]COUNTRY_INFO!$W$9:$W$131,[1]COUNTRY_INFO!K$9:K$131)","v":1}]
[{"$f":"IF(INTRO!$E$34<>0,INTRO!$E$34,\"\")","v":"Chad"},"Mayo Kebbi Est","Pont Carol",84909,{"$f":"IF(INTRO!$E$48=\"\",\"\",ROUND($D86*INTRO!$E$48,0))","v":14010},{"$f":"IF(INTRO!$E$49=\"\",\"\",ROUND($D86*INTRO!$E$49,0))","v":25770},{"$f":"IF(INTRO!$E$50=\"\",\"\",ROUND($D86*INTRO!$E$50,0))","v":41988},0,1,2,2,null,{"$f":"IF(INTRO!$E$38=\"Endémique\", IF($H86>0, IF($H86=4,\"Inconnu\", IF($H86=99,\"Interrompu\", $D86)), 0),\"Non requis\")","v":0},{"$f":"IF(INTRO!$E$40=\"Endémique\", IF($I86>0, IF($I86=4,\"Inconnu\",IF($I86=99,\"Interrompu\", $D86)), 0),\"Non requis\")","v":84909},{"$f":"IF(INTRO!$E$42=\"Endémique\", IF(AND($J86>1,$J86<5), IF($J86=4, \"Inconnu\", E86+F86), 0),\"Non requis\")","v":39780},{"$f":"IF(INTRO!$E$44=\"Endémique\", IF(AND($K86>0,$K86<5), IF($K86=4,\"Inconnu\", IF($K86=1, $F86*0.33, IF($K86=2, $F86*0.5+$G86*0.2, SUM(F86:G86)))), 0),\"Non requis\")","v":21282.6},0,1,1,1,"MDA3 (IVM)","T1 (PZQ+ALB/MBD)",null,null,10751,"Pont Carol",null,null,null,{"$f":"'MDA1'!K86","v":0},{"$f":"'MDA3'!O86","v":24567},{"$f":"'T1'!M86","v":22618},{"$f":"'T2'!K86","v":0},null,null,{"$f":"_xlfn.XLOOKUP($Y86,[1]COUNTRY_INFO!$W$9:$W$131,[1]COUNTRY_INFO!K$9:K$131)","v":2}]
[{"$f":"IF(INTRO!$E$34<>0,INTRO!$E$34,\"\")","v":"Chad"},"Mayo Kebbi Est","Youé",69238,{"$f":"IF(INTRO!$E$48=\"\",\"\",ROUND($D87*INTRO!$E$48,0))","v":11424},{"$f":"IF(INTRO!$E$49=\"\",\"\",ROUND($D87*INTRO!$E$49,0))","v":21014},{"$f":"IF(INTRO!$E$50=\"\",\"\",ROUND($D87*INTRO!$E$50,0))","v":34238},0,1,1,3,null,{"$f":"IF(INTRO!$E$38=\"Endémique\", IF($H87>0, IF($H87=4,\"Inconnu\", IF($H87=99,\"Interrompu\", $D87)), 0),\"Non requis\")","v":0},{"$f":"IF(INTRO!$E$40=\"Endémique\", IF($I87>0, IF($I87=4,\"Inconnu\",IF($I87=99,\"Interrompu\", $D87)), 0),\"Non requis\")","v":69238},{"$f":"IF(INTRO!$E$42=\"Endémique\", IF(AND($J87>1,$J87<5), IF($J87=4, \"Inconnu\", E87+F87), 0),\"Non requis\")","v":0},{"$f":"IF(INTRO!$E$44=\"Endémique\", IF(AND($K87>0,$K87<5), IF($K87=4,\"Inconnu\", IF($K87=1, $F87*0.33, IF($K87=2, $F87*0.5+$G87*0.2, SUM(F87:G87)))), 0),\"Non requis\")","v":55252},0,1,1,1,"MDA3 (IVM)","T1 (PZQ+ALB/MBD)",null,null,10752,"Youé",null,null,null,{"$f":"'MDA1'!K87","v":0},{"$f":"'MDA3'!O87","v":21026},{"$f":"'T1'!M87","v":20334},{"$f":"'T2'!K87","v":0},null,null,{"$f":"_xlfn.XLOOKUP($Y87,[1]COUNTRY_INFO!$W$9:$W$131,[1]COUNTRY_INFO!K$9:K$131)","v":3}]
[{"$f":"IF(INTRO!$E$34<>0,INTRO!$E$34,\"\")","v":"Chad"},"Mayo Kebbi Ouest","Binder",83559,{"$f":"IF(INTRO!$E$48=\"\",\"\",ROUND($D88*INTRO!$E$48,0))","v":13787},{"$f":"IF(INTRO!$E$49=\"\",\"\",ROUND($D88*INTRO!$E$49,0))","v":25360},{"$f":"IF(INTRO!$E$50=\"\",\"\",ROUND($D88*INTRO!$E$50,0))","v":41320},0,1,1,3,null,{"$f":"IF(INTRO!$E$38=\"Endémique\", IF($H88>0, IF($H88=4,\"Inconnu\", IF($H88=99,\"Interrompu\", $D88)), 0),\"Non requis\")","v":0},{"$f":"IF(INTRO!$E$40=\"Endémique\", IF($I88>0, IF($I88=4,\"Inconnu\",IF($I88=99,\"Interrompu\", $D88)), 0),\"Non requis\")","v":83559},{"$f":"IF(INTRO!$E$42=\"Endémique\", IF(AND($J88>1,$J88<5), IF($J88=4, \"Inconnu\", E88+F88), 0),\"Non requis\")","v":0},{"$f":"IF(INTRO!$E$44=\"Endémique\", IF(AND($K88>0,$K88<5), IF($K88=4,\"Inconnu\", IF($K88=1, $F88*0.33, IF($K88=2, $F88*0.5+$G88*0.2, SUM(F88:G88)))), 0),\"Non requis\")","v":66680},0,1,1,1,"MDA3 (IVM)","T1 (PZQ+ALB/MBD)",null,null,10754,"Binder",null,null,null,{"$f":"'MDA1'!K88","v":0},{"$f":"'MDA3'!O88","v":23939},{"$f":"'T1'!M88","v":23641},{"$f":"'T2'!K88","v":0},null,null,{"$f":"_xlfn.XLOOKUP($Y88,[1]COUNTRY_INFO!$W$9:$W$131,[1]COUNTRY_INFO!K$9:K$131)","v":3}]
[{"$f":"IF(INTRO!$E$34<>0,INTRO!$E$34,\"\")","v":"Chad"},"Mayo Kebbi Ouest","Gagal",151331,{"$f":"IF(INTRO!$E$48=\"\",\"\",ROUND($D89*INTRO!$E$48,0))","v":24970},{"$f":"IF(INTRO!$E$49=\"\",\"\",ROUND($D89*INTRO!$E$49,0))","v":45929},{"$f":"IF(INTRO!$E$50=\"\",\"\",ROUND($D89*INTRO!$E$50,0))","v":74833},0,1,1,2,null,{"$f":"IF(INTRO!$E$38=\"Endémique\", IF($H89>0, IF($H89=4,\"Inconnu\", IF($H89=99,\"Interrompu\", $D89)), 0),\"Non requis\")","v":0},{"$f":"IF(INTRO!$E$40=\"Endémique\", IF($I89>0, IF($I89=4,\"Inconnu\",IF($I89=99,\"Interrompu\", $D89)), 0),\"Non requis\")","v":151331},{"$f":"IF(INTRO!$E$42=\"Endémique\", IF(AND($J89>1,$J89<5), IF($J89=4, \"Inconnu\", E89+F89), 0),\"Non requis\")","v":0},{"$f":"IF(INTRO!$E$44=\"Endémique\", IF(AND($K89>0,$K89<5), IF($K89=4,\"Inconnu\", IF($K89=1, $F89*0.33, IF($K89=2, $F89*0.5+$G89*0.2, SUM(F89:G89)))), 0),\"Non requis\")","v":37931.1},0,1,1,1,"MDA3 (IVM)","T1 (PZQ+ALB/MBD)",null,null,10755,"Gagal",null,null,null,{"$f":"'MDA1'!K89","v":0},{"$f":"'MDA3'!O89","v":44699},{"$f":"'T1'!M89","v":44873},{"$f":"'T2'!K89","v":0},null,null,{"$f":"_xlfn.XLOOKUP($Y89,[1]COUNTRY_INFO!$W$9:$W$131,[1]COUNTRY_INFO!K$9:K$131)","v":2}]
[{"$f":"IF(INTRO!$E$34<>0,INTRO!$E$34,\"\")","v":"Chad"},"Mayo Kebbi Ouest","Guegou",42177,{"$f":"IF(INTRO!$E$48=\"\",\"\",ROUND($D90*INTRO!$E$48,0))","v":6959},{"$f":"IF(INTRO!$E$49=\"\",\"\",ROUND($D90*INTRO!$E$49,0))","v":12801},{"$f":"IF(INTRO!$E$50=\"\",\"\",ROUND($D90*INTRO!$E$50,0))","v":20857},0,1,1,3,null,{"$f":"IF(INTRO!$E$38=\"Endémique\", IF($H90>0, IF($H90=4,\"Inconnu\", IF($H90=99,\"Interrompu\", $D90)), 0),\"Non requis\")","v":0},{"$f":"IF(INTRO!$E$40=\"Endémique\", IF($I90>0, IF($I90=4,\"Inconnu\",IF($I90=99,\"Interrompu\", $D90)), 0),\"Non requis\")","v":42177},{"$f":"IF(INTRO!$E$42=\"Endémique\", IF(AND($J90>1,$J90<5), IF($J90=4, \"Inconnu\", E90+F90), 0),\"Non requis\")","v":0},{"$f":"IF(INTRO!$E$44=\"Endémique\", IF(AND($K90>0,$K90<5), IF($K90=4,\"Inconnu\", IF($K90=1, $F90*0.33, IF($K90=2, $F90*0.5+$G90*0.2, SUM(F90:G90)))), 0),\"Non requis\")","v":33658},0,1,1,1,"MDA3 (IVM)","T1 (PZQ+ALB/MBD)",null,null,10771,"Guegou",null,null,null,{"$f":"'MDA1'!K90","v":0},{"$f":"'MDA3'!O90","v":11812},{"$f":"'T1'!M90","v":10546},{"$f":"'T2'!K90","v":0},null,null,{"$f":"_xlfn.XLOOKUP($Y90,[1]COUNTRY_INFO!$W$9:$W$131,[1]COUNTRY_INFO!K$9:K$131)","v":3}]
[{"$f":"IF(INTRO!$E$34<>0,INTRO!$E$34,\"\")","v":"Chad"},"Mayo Kebbi Ouest","GUELO",53228,{"$f":"IF(INTRO!$E$48=\"\",\"\",ROUND($D91*INTRO!$E$48,0))","v":8783},{"$f":"IF(INTRO!$E$49=\"\",\"\",ROUND($D91*INTRO!$E$49,0))","v":16155},{"$f":"IF(INTRO!$E$50=\"\",\"\",ROUND($D91*INTRO!$E$50,0))","v":26321},0,1,1,3,null,{"$f":"IF(INTRO!$E$38=\"Endémique\", IF($H91>0, IF($H91=4,\"Inconnu\", IF($H91=99,\"Interrompu\", $D91)), 0),\"Non requis\")","v":0},{"$f":"IF(INTRO!$E$40=\"Endémique\", IF($I91>0, IF($I91=4,\"Inconnu\",IF($I91=99,\"Interrompu\", $D91)), 0),\"Non requis\")","v":53228},{"$f":"IF(INTRO!$E$42=\"Endémique\", IF(AND($J91>1,$J91<5), IF($J91=4, \"Inconnu\", E91+F91), 0),\"Non requis\")","v":0},{"$f":"IF(INTRO!$E$44=\"Endémique\", IF(AND($K91>0,$K91<5), IF($K91=4,\"Inconnu\", IF($K91=1, $F91*0.33, IF($K91=2, $F91*0.5+$G91*0.2, SUM(F91:G91)))), 0),\"Non requis\")","v":42476},0,1,1,1,"MDA3 (IVM)","T1 (PZQ+ALB/MBD)",null,null,10772,"GUELO",null,null,null,{"$f":"'MDA1'!K91","v":0},{"$f":"'MDA3'!O91","v":15897},{"$f":"'T1'!M91","v":15897},{"$f":"'T2'!K91","v":0},null,null,{"$f":"_xlfn.XLOOKUP($Y91,[1]COUNTRY_INFO!$W$9:$W$131,[1]COUNTRY_INFO!K$9:K$131)","v":3}]
[{"$f":"IF(INTRO!$E$34<>0,INTRO!$E$34,\"\")","v":"Chad"},"Mayo Kebbi Ouest","Lagon",84587,{"$f":"IF(INTRO!$E$48=\"\",\"\",ROUND($D92*INTRO!$E$48,0))","v":13957},{"$f":"IF(INTRO!$E$49=\"\",\"\",ROUND($D92*INTRO!$E$49,0))","v":25672},{"$f":"IF(INTRO!$E$50=\"\",\"\",ROUND($D92*INTRO!$E$50,0))","v":41828},0,1,1,3,null,{"$f":"IF(INTRO!$E$38=\"Endémique\", IF($H92>0, IF($H92=4,\"Inconnu\", IF($H92=99,\"Interrompu\", $D92)), 0),\"Non requis\")","v":0},{"$f":"IF(INTRO!$E$40=\"Endémique\", IF($I92>0, IF($I92=4,\"Inconnu\",IF($I92=99,\"Interrompu\", $D92)), 0),\"Non requis\")","v":84587},{"$f":"IF(INTRO!$E$42=\"Endémique\", IF(AND($J92>1,$J92<5), IF($J92=4, \"Inconnu\", E92+F92), 0),\"Non requis\")","v":0},{"$f":"IF(INTRO!$E$44=\"Endémique\", IF(AND($K92>0,$K92<5), IF($K92=4,\"Inconnu\", IF($K92=1, $F92*0.33, IF($K92=2, $F92*0.5+$G92*0.2, SUM(F92:G92)))), 0),\"Non requis\")","v":67500},0,1,1,1,"MDA3 (IVM)","T1 (PZQ+ALB/MBD)",null,null,10756,"Lagon",null,null,null,{"$f":"'MDA1'!K92","v":0},{"$f":"'MDA3'!O92","v":21536},{"$f":"'T1'!M92","v":25009},{"$f":"'T2'!K92","v":0},null,null,{"$f":"_xlfn.XLOOKUP($Y92,[1]COUNTRY_INFO!$W$9:$W$131,[1]COUNTRY_INFO!K$9:K$131)","v":3}]
[{"$f":"IF(INTRO!$E$34<>0,INTRO!$E$34,\"\")","v":"Chad"},"Mayo Kebbi Ouest","Lamé",90302,{"$f":"IF(INTRO!$E$48=\"\",\"\",ROUND($D93*INTRO!$E$48,0))","v":14900},{"$f":"IF(INTRO!$E$49=\"\",\"\",ROUND($D93*INTRO!$E$49,0))","v":27407},{"$f":"IF(INTRO!$E$50=\"\",\"\",ROUND($D93*INTRO!$E$50,0))","v":44654},0,1,1,2,null,{"$f":"IF(INTRO!$E$38=\"Endémique\", IF($H93>0, IF($H93=4,\"Inconnu\", IF($H93=99,\"Interrompu\", $D93)), 0),\"Non requis\")","v":0},{"$f":"IF(INTRO!$E$40=\"Endémique\", IF($I93>0, IF($I93=4,\"Inconnu\",IF($I93=99,\"Interrompu\", $D93)), 0),\"Non requis\")","v":90302},{"$f":"IF(INTRO!$E$42=\"Endémique\", IF(AND($J93>1,$J93<5), IF($J93=4, \"Inconnu\", E93+F93), 0),\"Non requis\")","v":0},{"$f":"IF(INTRO!$E$44=\"Endémique\", IF(AND($K93>0,$K93<5), IF($K93=4,\"Inconnu\", IF($K93=1, $F93*0.33, IF($K93=2, $F93*0.5+$G93*0.2, SUM(F93:G93)))), 0),\"Non requis\")","v":22634.300000000003},0,1,1,1,"MDA3 (IVM)","T1 (PZQ+ALB/MBD)",null,null,10757,"Lamé",null,null,null,{"$f":"'MDA1'!K93","v":0},{"$f":"'MDA3'!O93","v":21866},{"$f":"'T1'!M93","v":26888},{"$f":"'T2'!K93","v":0},null,null,{"$f":"_xlfn.XLOOKUP($Y93,[1]COUNTRY_INFO!$W$9:$W$131,[1]COUNTRY_INFO!K$9:K$131)","v":2}]
[{"$f":"IF(INTRO!$E$34<>0,INTRO!$E$34,\"\")","v":"Chad"},"Mayo Kebbi Ouest","Lere",152611,{"$f":"IF(INTRO!$E$48=\"\",\"\",ROUND($D94*INTRO!$E$48,0))","v":25181},{"$f":"IF(INTRO!$E$49=\"\",\"\",ROUND($D94*INTRO!$E$49,0))","v":46317},{"$f":"IF(INTRO!$E$50=\"\",\"\",ROUND($D94*INTRO!$E$50,0))","v":75466},0,1,1,3,null,{"$f":"IF(INTRO!$E$38=\"Endémique\", IF($H94>0, IF($H94=4,\"Inconnu\", IF($H94=99,\"Interrompu\", $D94)), 0),\"Non requis\")","v":0},{"$f":"IF(INTRO!$E$40=\"Endémique\", IF($I94>0, IF($I94=4,\"Inconnu\",IF($I94=99,\"Interrompu\", $D94)), 0),\"Non requis\")","v":152611},{"$f":"IF(INTRO!$E$42=\"Endémique\", IF(AND($J94>1,$J94<5), IF($J94=4, \"Inconnu\", E94+F94), 0),\"Non requis\")","v":0},{"$f":"IF(INTRO!$E$44=\"Endémique\", IF(AND($K94>0,$K94<5), IF($K94=4,\"Inconnu\", IF($K94=1, $F94*0.33, IF($K94=2, $F94*0.5+$G94*0.2, SUM(F94:G94)))), 0),\"Non requis\")","v":121783},0,1,1,1,"MDA3 (IVM)","T1 (PZQ+ALB/MBD)",null,null,10715,"Lere",null,null,null,{"$f":"'MDA1'!K94","v":0},{"$f":"'MDA3'!O94","v":46003},{"$f":"'T1'!M94","v":46321},{"$f":"'T2'!K94","v":0},null,null,{"$f":"_xlfn.XLOOKUP($Y94,[1]COUNTRY_INFO!$W$9:$W$131,[1]COUNTRY_INFO!K$9:K$131)","v":3}]
[{"$f":"IF(INTRO!$E$34<>0,INTRO!$E$34,\"\")","v":"Chad"},"Mayo Kebbi Ouest","Pala",140792,{"$f":"IF(INTRO!$E$48=\"\",\"\",ROUND($D95*INTRO!$E$48,0))","v":23231},{"$f":"IF(INTRO!$E$49=\"\",\"\",ROUND($D95*INTRO!$E$49,0))","v":42730},{"$f":"IF(INTRO!$E$50=\"\",\"\",ROUND($D95*INTRO!$E$50,0))","v":69622},0,1,1,2,null,{"$f":"IF(INTRO!$E$38=\"Endémique\", IF($H95>0, IF($H95=4,\"Inconnu\", IF($H95=99,\"Interrompu\", $D95)), 0),\"Non requis\")","v":0},{"$f":"IF(INTRO!$E$40=\"Endémique\", IF($I95>0, IF($I95=4,\"Inconnu\",IF($I95=99,\"Interrompu\", $D95)), 0),\"Non requis\")","v":140792},{"$f":"IF(INTRO!$E$42=\"Endémique\", IF(AND($J95>1,$J95<5), IF($J95=4, \"Inconnu\", E95+F95), 0),\"Non requis\")","v":0},{"$f":"IF(INTRO!$E$44=\"Endémique\", IF(AND($K95>0,$K95<5), IF($K95=4,\"Inconnu\", IF($K95=1, $F95*0.33, IF($K95=2, $F95*0.5+$G95*0.2, SUM(F95:G95)))), 0),\"Non requis\")","v":35289.4},0,1,1,1,"MDA3 (IVM)","T1 (PZQ+ALB/MBD)",null,null,10716,"Pala",null,null,null,{"$f":"'MDA1'!K95","v":0},{"$f":"'MDA3'!O95","v":42009},{"$f":"'T1'!M95","v":42006},{"$f":"'T2'!K95","v":0},null,null,{"$f":"_xlfn.XLOOKUP($Y95,[1]COUNTRY_INFO!$W$9:$W$131,[1]COUNTRY_INFO!K$9:K$131)","v":2}]
[{"$f":"IF(INTRO!$E$34<>0,INTRO!$E$34,\"\")","v":"Chad"},"Mayo Kebbi Ouest","Torrock",84873,{"$f":"IF(INTRO!$E$48=\"\",\"\",ROUND($D96*INTRO!$E$48,0))","v":14004},{"$f":"IF(INTRO!$E$49=\"\",\"\",ROUND($D96*INTRO!$E$49,0))","v":25759},{"$f":"IF(INTRO!$E$50=\"\",\"\",ROUND($D96*INTRO!$E$50,0))","v":41970},0,1,1,2,null,{"$f":"IF(INTRO!$E$38=\"Endémique\", IF($H96>0, IF($H96=4,\"Inconnu\", IF($H96=99,\"Interrompu\", $D96)), 0),\"Non requis\")","v":0},{"$f":"IF(INTRO!$E$40=\"Endémique\", IF($I96>0, IF($I96=4,\"Inconnu\",IF($I96=99,\"Interrompu\", $D96)), 0),\"Non requis\")","v":84873},{"$f":"IF(INTRO!$E$42=\"Endémique\", IF(AND($J96>1,$J96<5), IF($J96=4, \"Inconnu\", E96+F96), 0),\"Non requis\")","v":0},{"$f":"IF(INTRO!$E$44=\"Endémique\", IF(AND($K96>0,$K96<5), IF($K96=4,\"Inconnu\", IF($K96=1, $F96*0.33, IF($K96=2, $F96*0.5+$G96*0.2, SUM(F96:G96)))), 0),\"Non requis\")","v":21273.5},0,1,1,1,"MDA3 (IVM)","T1 (PZQ+ALB/MBD)",null,null,10758,"Torrock",null,null,null,{"$f":"'MDA1'!K96","v":0},{"$f":"'MDA3'!O96","v":24066},{"$f":"'T1'!M96","v":22416},{"$f":"'T2'!K96","v":0},null,null,{"$f":"_xlfn.XLOOKUP($Y96,[1]COUNTRY_INFO!$W$9:$W$131,[1]COUNTRY_INFO!K$9:K$131)","v":2}]
[{"$f":"IF(INTRO!$E$34<>0,INTRO!$E$34,\"\")","v":"Chad"},"Moyen Chari","Balimba",85188,{"$f":"IF(INTRO!$E$48=\"\",\"\",ROUND($D97*INTRO!$E$48,0))","v":14056},{"$f":"IF(INTRO!$E$49=\"\",\"\",ROUND($D97*INTRO!$E$49,0))","v":25855},{"$f":"IF(INTRO!$E$50=\"\",\"\",ROUND($D97*INTRO!$E$50,0))","v":42125},1,1,2,2,null,{"$f":"IF(INTRO!$E$38=\"Endémique\", IF($H97>0, IF($H97=4,\"Inconnu\", IF($H97=99,\"Interrompu\", $D97)), 0),\"Non requis\")","v":85188},{"$f":"IF(INTRO!$E$40=\"Endémique\", IF($I97>0, IF($I97=4,\"Inconnu\",IF($I97=99,\"Interrompu\", $D97)), 0),\"Non requis\")","v":85188},{"$f":"IF(INTRO!$E$42=\"Endémique\", IF(AND($J97>1,$J97<5), IF($J97=4, \"Inconnu\", E97+F97), 0),\"Non requis\")","v":39911},{"$f":"IF(INTRO!$E$44=\"Endémique\", IF(AND($K97>0,$K97<5), IF($K97=4,\"Inconnu\", IF($K97=1, $F97*0.33, IF($K97=2, $F97*0.5+$G97*0.2, SUM(F97:G97)))), 0),\"Non requis\")","v":21352.5},1,1,1,1,"MDA1 (IVM+ALB)","T2 (PZQ)",null,null,10780,"Balimba",null,null,null,{"$f":"'MDA1'!K97","v":25144},{"$f":"'MDA3'!O97","v":0},{"$f":"'T1'!M97","v":0},{"$f":"'T2'!K97","v":25741},null,null,{"$f":"_xlfn.XLOOKUP($Y97,[1]COUNTRY_INFO!$W$9:$W$131,[1]COUNTRY_INFO!K$9:K$131)","v":2}]
[{"$f":"IF(INTRO!$E$34<>0,INTRO!$E$34,\"\")","v":"Chad"},"Moyen Chari","Biobe Singako",91962,{"$f":"IF(INTRO!$E$48=\"\",\"\",ROUND($D98*INTRO!$E$48,0))","v":15174},{"$f":"IF(INTRO!$E$49=\"\",\"\",ROUND($D98*INTRO!$E$49,0))","v":27910},{"$f":"IF(INTRO!$E$50=\"\",\"\",ROUND($D98*INTRO!$E$50,0))","v":45475},1,1,1,2,null,{"$f":"IF(INTRO!$E$38=\"Endémique\", IF($H98>0, IF($H98=4,\"Inconnu\", IF($H98=99,\"Interrompu\", $D98)), 0),\"Non requis\")","v":91962},{"$f":"IF(INTRO!$E$40=\"Endémique\", IF($I98>0, IF($I98=4,\"Inconnu\",IF($I98=99,\"Interrompu\", $D98)), 0),\"Non requis\")","v":91962},{"$f":"IF(INTRO!$E$42=\"Endémique\", IF(AND($J98>1,$J98<5), IF($J98=4, \"Inconnu\", E98+F98), 0),\"Non requis\")","v":0},{"$f":"IF(INTRO!$E$44=\"Endémique\", IF(AND($K98>0,$K98<5), IF($K98=4,\"Inconnu\", IF($K98=1, $F98*0.33, IF($K98=2, $F98*0.5+$G98*0.2, SUM(F98:G98)))), 0),\"Non requis\")","v":23050},1,1,0,1,"MDA1 (IVM+ALB)","T2 (PZQ)",null,null,10717,"Biobe Singako",null,null,null,{"$f":"'MDA1'!K98","v":27769},{"$f":"'MDA3'!O98","v":0},{"$f":"'T1'!M98","v":0},{"$f":"'T2'!K98","v":26008},null,null,{"$f":"_xlfn.XLOOKUP($Y98,[1]COUNTRY_INFO!$W$9:$W$131,[1]COUNTRY_INFO!K$9:K$131)","v":2}]
[{"$f":"IF(INTRO!$E$34<>0,INTRO!$E$34,\"\")","v":"Chad"},"Moyen Chari","Danamadji",201723,{"$f":"IF(INTRO!$E$48=\"\",\"\",ROUND($D99*INTRO!$E$48,0))","v":33284},{"$f":"IF(INTRO!$E$49=\"\",\"\",ROUND($D99*INTRO!$E$49,0))","v":61223},{"$f":"IF(INTRO!$E$50=\"\",\"\",ROUND($D99*INTRO!$E$50,0))","v":99752},1,1,1,1,null,{"$f":"IF(INTRO!$E$38=\"Endémique\", IF($H99>0, IF($H99=4,\"Inconnu\", IF($H99=99,\"Interrompu\", $D99)), 0),\"Non requis\")","v":201723},{"$f":"IF(INTRO!$E$40=\"Endémique\", IF($I99>0, IF($I99=4,\"Inconnu\",IF($I99=99,\"Interrompu\", $D99)), 0),\"Non requis\")","v":201723},{"$f":"IF(INTRO!$E$42=\"Endémique\", IF(AND($J99>1,$J99<5), IF($J99=4, \"Inconnu\", E99+F99), 0),\"Non requis\")","v":0},{"$f":"IF(INTRO!$E$44=\"Endémique\", IF(AND($K99>0,$K99<5), IF($K99=4,\"Inconnu\", IF($K99=1, $F99*0.33, IF($K99=2, $F99*0.5+$G99*0.2, SUM(F99:G99)))), 0),\"Non requis\")","v":20203.59},1,1,0,1,"MDA1 (IVM+ALB)","T2 (PZQ)",null,null,10718,"Danamadji",null,null,null,{"$f":"'MDA1'!K99","v":52230},{"$f":"'MDA3'!O99","v":0},{"$f":"'T1'!M99","v":0},{"$f":"'T2'!K99","v":60235},null,null,{"$f":"_xlfn.XLOOKUP($Y99,[1]COUNTRY_INFO!$W$9:$W$131,[1]COUNTRY_INFO!K$9:K$131)","v":1}]
[{"$f":"IF(INTRO!$E$34<>0,INTRO!$E$34,\"\")","v":"Chad"},"Moyen Chari","Korbol",151799,{"$f":"IF(INTRO!$E$48=\"\",\"\",ROUND($D100*INTRO!$E$48,0))","v":25047},{"$f":"IF(INTRO!$E$49=\"\",\"\",ROUND($D100*INTRO!$E$49,0))","v":46071},{"$f":"IF(INTRO!$E$50=\"\",\"\",ROUND($D100*INTRO!$E$50,0))","v":75065},1,1,2,2,null,{"$f":"IF(INTRO!$E$38=\"Endémique\", IF($H100>0, IF($H100=4,\"Inconnu\", IF($H100=99,\"Interrompu\", $D100)), 0),\"Non requis\")","v":151799},{"$f":"IF(INTRO!$E$40=\"Endémique\", IF($I100>0, IF($I100=4,\"Inconnu\",IF($I100=99,\"Interrompu\", $D100)), 0),\"Non requis\")","v":151799},{"$f":"IF(INTRO!$E$42=\"Endémique\", IF(AND($J100>1,$J100<5), IF($J100=4, \"Inconnu\", E100+F100), 0),\"Non requis\")","v":71118},{"$f":"IF(INTRO!$E$44=\"Endémique\", IF(AND($K100>0,$K100<5), IF($K100=4,\"Inconnu\", IF($K100=1, $F100*0.33, IF($K100=2, $F100*0.5+$G100*0.2, SUM(F100:G100)))), 0),\"Non requis\")","v":38048.5},1,1,1,1,"MDA1 (IVM+ALB)","T2 (PZQ)",null,null,10773,"Korbol",null,null,null,{"$f":"'MDA1'!K100","v":43161},{"$f":"'MDA3'!O100","v":0},{"$f":"'T1'!M100","v":0},{"$f":"'T2'!K100","v":45632},null,null,{"$f":"_xlfn.XLOOKUP($Y100,[1]COUNTRY_INFO!$W$9:$W$131,[1]COUNTRY_INFO!K$9:K$131)","v":2}]
[{"$f":"IF(INTRO!$E$34<>0,INTRO!$E$34,\"\")","v":"Chad"},"Moyen Chari","Koumogo",107813,{"$f":"IF(INTRO!$E$48=\"\",\"\",ROUND($D101*INTRO!$E$48,0))","v":17789},{"$f":"IF(INTRO!$E$49=\"\",\"\",ROUND($D101*INTRO!$E$49,0))","v":32721},{"$f":"IF(INTRO!$E$50=\"\",\"\",ROUND($D101*INTRO!$E$50,0))","v":53314},1,1,1,2,null,{"$f":"IF(INTRO!$E$38=\"Endémique\", IF($H101>0, IF($H101=4,\"Inconnu\", IF($H101=99,\"Interrompu\", $D101)), 0),\"Non requis\")","v":107813},{"$f":"IF(INTRO!$E$40=\"Endémique\", IF($I101>0, IF($I101=4,\"Inconnu\",IF($I101=99,\"Interrompu\", $D101)), 0),\"Non requis\")","v":107813},{"$f":"IF(INTRO!$E$42=\"Endémique\", IF(AND($J101>1,$J101<5), IF($J101=4, \"Inconnu\", E101+F101), 0),\"Non requis\")","v":0},{"$f":"IF(INTRO!$E$44=\"Endémique\", IF(AND($K101>0,$K101<5), IF($K101=4,\"Inconnu\", IF($K101=1, $F101*0.33, IF($K101=2, $F101*0.5+$G101*0.2, SUM(F101:G101)))), 0),\"Non requis\")","v":27023.300000000003},1,1,0,1,"MDA1 (IVM+ALB)","T2 (PZQ)",null,null,10781,"Koumogo",null,null,null,{"$f":"'MDA1'!K101","v":32009},{"$f":"'MDA3'!O101","v":0},{"$f":"'T1'!M101","v":0},{"$f":"'T2'!K101","v":31004},null,null,{"$f":"_xlfn.XLOOKUP($Y101,[1]COUNTRY_INFO!$W$9:$W$131,[1]COUNTRY_INFO!K$9:K$131)","v":2}]
[{"$f":"IF(INTRO!$E$34<>0,INTRO!$E$34,\"\")","v":"Chad"},"Moyen Chari","Kyabe",124364,{"$f":"IF(INTRO!$E$48=\"\",\"\",ROUND($D102*INTRO!$E$48,0))","v":20520},{"$f":"IF(INTRO!$E$49=\"\",\"\",ROUND($D102*INTRO!$E$49,0))","v":37744},{"$f":"IF(INTRO!$E$50=\"\",\"\",ROUND($D102*INTRO!$E$50,0))","v":61498},1,1,1,2,null,{"$f":"IF(INTRO!$E$38=\"Endémique\", IF($H102>0, IF($H102=4,\"Inconnu\", IF($H102=99,\"Interrompu\", $D102)), 0),\"Non requis\")","v":124364},{"$f":"IF(INTRO!$E$40=\"Endémique\", IF($I102>0, IF($I102=4,\"Inconnu\",IF($I102=99,\"Interrompu\", $D102)), 0),\"Non requis\")","v":124364},{"$f":"IF(INTRO!$E$42=\"Endémique\", IF(AND($J102>1,$J102<5), IF($J102=4, \"Inconnu\", E102+F102), 0),\"Non requis\")","v":0},{"$f":"IF(INTRO!$E$44=\"Endémique\", IF(AND($K102>0,$K102<5), IF($K102=4,\"Inconnu\", IF($K102=1, $F102*0.33, IF($K102=2, $F102*0.5+$G102*0.2, SUM(F102:G102)))), 0),\"Non requis\")","v":31171.599999999999},1,1,0,1,"MDA1 (IVM+ALB)","T2 (PZQ)",null,null,10719,"Kyabe",null,null,null,{"$f":"'MDA1'!K102","v":37416},{"$f":"'MDA3'!O102","v":0},{"$f":"'T1'!M102","v":0},{"$f":"'T2'!K102","v":37142},null,null,{"$f":"_xlfn.XLOOKUP($Y102,[1]COUNTRY_INFO!$W$9:$W$131,[1]COUNTRY_INFO!K$9:K$131)","v":2}]
[{"$f":"IF(INTRO!$E$34<>0,INTRO!$E$34,\"\")","v":"Chad"},"Moyen Chari","Maro",267483,{"$f":"IF(INTRO!$E$48=\"\",\"\",ROUND($D103*INTRO!$E$48,0))","v":44135},{"$f":"IF(INTRO!$E$49=\"\",\"\",ROUND($D103*INTRO!$E$49,0))","v":81181},{"$f":"IF(INTRO!$E$50=\"\",\"\",ROUND($D103*INTRO!$E$50,0))","v":132270},1,1,1,1,null,{"$f":"IF(INTRO!$E$38=\"Endémique\", IF($H103>0, IF($H103=4,\"Inconnu\", IF($H103=99,\"Interrompu\", $D103)), 0),\"Non requis\")","v":267483},{"$f":"IF(INTRO!$E$40=\"Endémique\", IF($I103>0, IF($I103=4,\"Inconnu\",IF($I103=99,\"Interrompu\", $D103)), 0),\"Non requis\")","v":267483},{"$f":"IF(INTRO!$E$42=\"Endémique\", IF(AND($J103>1,$J103<5), IF($J103=4, \"Inconnu\", E103+F103), 0),\"Non requis\")","v":0},{"$f":"IF(INTRO!$E$44=\"Endémique\", IF(AND($K103>0,$K103<5), IF($K103=4,\"Inconnu\", IF($K103=1, $F103*0.33, IF($K103=2, $F103*0.5+$G103*0.2, SUM(F103:G103)))), 0),\"Non requis\")","v":26789.73},1,1,0,1,"MDA1 (IVM+ALB)","T2 (PZQ)",null,null,10774,"Maro",null,null,null,{"$f":"'MDA1'!K103","v":78444},{"$f":"'MDA3'!O103","v":0},{"$f":"'T1'!M103","v":0},{"$f":"'T2'!K103","v":80023},null,null,{"$f":"_xlfn.XLOOKUP($Y103,[1]COUNTRY_INFO!$W$9:$W$131,[1]COUNTRY_INFO!K$9:K$131)","v":1}]
[{"$f":"IF(INTRO!$E$34<>0,INTRO!$E$34,\"\")","v":"Chad"},"Moyen Chari","Sarh",204196,{"$f":"IF(INTRO!$E$48=\"\",\"\",ROUND($D104*INTRO!$E$48,0))","v":33692},{"$f":"IF(INTRO!$E$49=\"\",\"\",ROUND($D104*INTRO!$E$49,0))","v":61973},{"$f":"IF(INTRO!$E$50=\"\",\"\",ROUND($D104*INTRO!$E$50,0))","v":100975},1,1,2,2,null,{"$f":"IF(INTRO!$E$38=\"Endémique\", IF($H104>0, IF($H104=4,\"Inconnu\", IF($H104=99,\"Interrompu\", $D104)), 0),\"Non requis\")","v":204196},{"$f":"IF(INTRO!$E$40=\"Endémique\", IF($I104>0, IF($I104=4,\"Inconnu\",IF($I104=99,\"Interrompu\", $D104)), 0),\"Non requis\")","v":204196},{"$f":"IF(INTRO!$E$42=\"Endémique\", IF(AND($J104>1,$J104<5), IF($J104=4, \"Inconnu\", E104+F104), 0),\"Non requis\")","v":95665},{"$f":"IF(INTRO!$E$44=\"Endémique\", IF(AND($K104>0,$K104<5), IF($K104=4,\"Inconnu\", IF($K104=1, $F104*0.33, IF($K104=2, $F104*0.5+$G104*0.2, SUM(F104:G104)))), 0),\"Non requis\")","v":51181.5},1,1,1,1,"MDA1 (IVM+ALB)","T2 (PZQ)",null,null,10720,"Sarh",null,null,null,{"$f":"'MDA1'!K104","v":57361},{"$f":"'MDA3'!O104","v":0},{"$f":"'T1'!M104","v":0},{"$f":"'T2'!K104","v":60087},null,null,{"$f":"_xlfn.XLOOKUP($Y104,[1]COUNTRY_INFO!$W$9:$W$131,[1]COUNTRY_INFO!K$9:K$131)","v":2}]
[{"$f":"IF(INTRO!$E$34<>0,INTRO!$E$34,\"\")","v":"Chad"},"N'Djaména","N'Djaména Centre",475469,{"$f":"IF(INTRO!$E$48=\"\",\"\",ROUND($D105*INTRO!$E$48,0))","v":78452},{"$f":"IF(INTRO!$E$49=\"\",\"\",ROUND($D105*INTRO!$E$49,0))","v":144305},{"$f":"IF(INTRO!$E$50=\"\",\"\",ROUND($D105*INTRO!$E$50,0))","v":235119},0,0,1,1,null,{"$f":"IF(INTRO!$E$38=\"Endémique\", IF($H105>0, IF($H105=4,\"Inconnu\", IF($H105=99,\"Interrompu\", $D105)), 0),\"Non requis\")","v":0},{"$f":"IF(INTRO!$E$40=\"Endémique\", IF($I105>0, IF($I105=4,\"Inconnu\",IF($I105=99,\"Interrompu\", $D105)), 0),\"Non requis\")","v":0},{"$f":"IF(INTRO!$E$42=\"Endémique\", IF(AND($J105>1,$J105<5), IF($J105=4, \"Inconnu\", E105+F105), 0),\"Non requis\")","v":0},{"$f":"IF(INTRO!$E$44=\"Endémique\", IF(AND($K105>0,$K105<5), IF($K105=4,\"Inconnu\", IF($K105=1, $F105*0.33, IF($K105=2, $F105*0.5+$G105*0.2, SUM(F105:G105)))), 0),\"Non requis\")","v":47620.65},0,0,0,0,null,null,null,null,10721,"N'Djaména Centre",null,null,null,{"$f":"'MDA1'!K105","v":0},{"$f":"'MDA3'!O105","v":0},{"$f":"'T1'!M105","v":0},{"$f":"'T2'!K105","v":0},null,null,{"$f":"_xlfn.XLOOKUP($Y105,[1]COUNTRY_INFO!$W$9:$W$131,[1]COUNTRY_INFO!K$9:K$131)","v":1}]
[{"$f":"IF(INTRO!$E$34<>0,INTRO!$E$34,\"\")","v":"Chad"},"N'Djaména","N'Djaména Est",174362,{"$f":"IF(INTRO!$E$48=\"\",\"\",ROUND($D106*INTRO!$E$48,0))","v":28770},{"$f":"IF(INTRO!$E$49=\"\",\"\",ROUND($D106*INTRO!$E$49,0))","v":52919},{"$f":"IF(INTRO!$E$50=\"\",\"\",ROUND($D106*INTRO!$E$50,0))","v":86222},0,0,0,1,null,{"$f":"IF(INTRO!$E$38=\"Endémique\", IF($H106>0, IF($H106=4,\"Inconnu\", IF($H106=99,\"Interrompu\", $D106)), 0),\"Non requis\")","v":0},{"$f":"IF(INTRO!$E$40=\"Endémique\", IF($I106>0, IF($I106=4,\"Inconnu\",IF($I106=99,\"Interrompu\", $D106)), 0),\"Non requis\")","v":0},{"$f":"IF(INTRO!$E$42=\"Endémique\", IF(AND($J106>1,$J106<5), IF($J106=4, \"Inconnu\", E106+F106), 0),\"Non requis\")","v":0},{"$f":"IF(INTRO!$E$44=\"Endémique\", IF(AND($K106>0,$K106<5), IF($K106=4,\"Inconnu\", IF($K106=1, $F106*0.33, IF($K106=2, $F106*0.5+$G106*0.2, SUM(F106:G106)))), 0),\"Non requis\")","v":17463.27},0,0,0,0,null,null,null,null,10722,"N'Djaména Est",null,null,null,{"$f":"'MDA1'!K106","v":0},{"$f":"'MDA3'!O106","v":0},{"$f":"'T1'!M106","v":0},{"$f":"'T2'!K106","v":0},null,null,{"$f":"_xlfn.XLOOKUP($Y106,[1]COUNTRY_INFO!$W$9:$W$131,[1]COUNTRY_INFO!K$9:K$131)","v":1}]
[{"$f":"IF(INTRO!$E$34<>0,INTRO!$E$34,\"\")","v":"Chad"},"N'Djaména","N'Djaména Nord",168990,{"$f":"IF(INTRO!$E$48=\"\",\"\",ROUND($D107*INTRO!$E$48,0))","v":27883},{"$f":"IF(INTRO!$E$49=\"\",\"\",ROUND($D107*INTRO!$E$49,0))","v":51288},{"$f":"IF(INTRO!$E$50=\"\",\"\",ROUND($D107*INTRO!$E$50,0))","v":83566},0,0,0,1,null,{"$f":"IF(INTRO!$E$38=\"Endémique\", IF($H107>0, IF($H107=4,\"Inconnu\", IF($H107=99,\"Interrompu\", $D107)), 0),\"Non requis\")","v":0},{"$f":"IF(INTRO!$E$40=\"Endémique\", IF($I107>0, IF($I107=4,\"Inconnu\",IF($I107=99,\"Interrompu\", $D107)), 0),\"Non requis\")","v":0},{"$f":"IF(INTRO!$E$42=\"Endémique\", IF(AND($J107>1,$J107<5), IF($J107=4, \"Inconnu\", E107+F107), 0),\"Non requis\")","v":0},{"$f":"IF(INTRO!$E$44=\"Endémique\", IF(AND($K107>0,$K107<5), IF($K107=4,\"Inconnu\", IF($K107=1, $F107*0.33, IF($K107=2, $F107*0.5+$G107*0.2, SUM(F107:G107)))), 0),\"Non requis\")","v":16925.04},0,0,0,0,null,null,null,null,10723,"N'Djaména Nord",null,null,null,{"$f":"'MDA1'!K107","v":0},{"$f":"'MDA3'!O107","v":0},{"$f":"'T1'!M107","v":0},{"$f":"'T2'!K107","v":0},null,null,{"$f":"_xlfn.XLOOKUP($Y107,[1]COUNTRY_INFO!$W$9:$W$131,[1]COUNTRY_INFO!K$9:K$131)","v":1}]
[{"$f":"IF(INTRO!$E$34<>0,INTRO!$E$34,\"\")","v":"Chad"},"N'Djaména","N'Djaména Sud",445906,{"$f":"IF(INTRO!$E$48=\"\",\"\",ROUND($D108*INTRO!$E$48,0))","v":73574},{"$f":"IF(INTRO!$E$49=\"\",\"\",ROUND($D108*INTRO!$E$49,0))","v":135332},{"$f":"IF(INTRO!$E$50=\"\",\"\",ROUND($D108*INTRO!$E$50,0))","v":220501},0,0,1,1,null,{"$f":"IF(INTRO!$E$38=\"Endémique\", IF($H108>0, IF($H108=4,\"Inconnu\", IF($H108=99,\"Interrompu\", $D108)), 0),\"Non requis\")","v":0},{"$f":"IF(INTRO!$E$40=\"Endémique\", IF($I108>0, IF($I108=4,\"Inconnu\",IF($I108=99,\"Interrompu\", $D108)), 0),\"Non requis\")","v":0},{"$f":"IF(INTRO!$E$42=\"Endémique\", IF(AND($J108>1,$J108<5), IF($J108=4, \"Inconnu\", E108+F108), 0),\"Non requis\")","v":0},{"$f":"IF(INTRO!$E$44=\"Endémique\", IF(AND($K108>0,$K108<5), IF($K108=4,\"Inconnu\", IF($K108=1, $F108*0.33, IF($K108=2, $F108*0.5+$G108*0.2, SUM(F108:G108)))), 0),\"Non requis\")","v":44659.560000000005},0,0,0,0,null,null,null,null,10724,"N'Djaména Sud",null,null,null,{"$f":"'MDA1'!K108","v":0},{"$f":"'MDA3'!O108","v":0},{"$f":"'T1'!M108","v":0},{"$f":"'T2'!K108","v":0},null,null,{"$f":"_xlfn.XLOOKUP($Y108,[1]COUNTRY_INFO!$W$9:$W$131,[1]COUNTRY_INFO!K$9:K$131)","v":1}]
[{"$f":"IF(INTRO!$E$34<>0,INTRO!$E$34,\"\")","v":"Chad"},"N'Djamena","9eme Arrondissement",158939,{"$f":"IF(INTRO!$E$48=\"\",\"\",ROUND($D109*INTRO!$E$48,0))","v":26225},{"$f":"IF(INTRO!$E$49=\"\",\"\",ROUND($D109*INTRO!$E$49,0))","v":48238},{"$f":"IF(INTRO!$E$50=\"\",\"\",ROUND($D109*INTRO!$E$50,0))","v":78595},0,0,1,1,null,{"$f":"IF(INTRO!$E$38=\"Endémique\", IF($H109>0, IF($H109=4,\"Inconnu\", IF($H109=99,\"Interrompu\", $D109)), 0),\"Non requis\")","v":0},{"$f":"IF(INTRO!$E$40=\"Endémique\", IF($I109>0, IF($I109=4,\"Inconnu\",IF($I109=99,\"Interrompu\", $D109)), 0),\"Non requis\")","v":0},{"$f":"IF(INTRO!$E$42=\"Endémique\", IF(AND($J109>1,$J109<5), IF($J109=4, \"Inconnu\", E109+F109), 0),\"Non requis\")","v":0},{"$f":"IF(INTRO!$E$44=\"Endémique\", IF(AND($K109>0,$K109<5), IF($K109=4,\"Inconnu\", IF($K109=1, $F109*0.33, IF($K109=2, $F109*0.5+$G109*0.2, SUM(F109:G109)))), 0),\"Non requis\")","v":15918.54},0,0,0,0,null,null,null,null,10789,"9eme Arrondissement",10724,"N'Djaména Sud",null,{"$f":"'MDA1'!K109","v":0},{"$f":"'MDA3'!O109","v":0},{"$f":"'T1'!M109","v":0},{"$f":"'T2'!K109","v":0}]
[{"$f":"IF(INTRO!$E$34<>0,INTRO!$E$34,\"\")","v":"Chad"},"Ouaddai","Abdi",167704,{"$f":"IF(INTRO!$E$48=\"\",\"\",ROUND($D110*INTRO!$E$48,0))","v":27671},{"$f":"IF(INTRO!$E$49=\"\",\"\",ROUND($D110*INTRO!$E$49,0))","v":50898},{"$f":"IF(INTRO!$E$50=\"\",\"\",ROUND($D110*INTRO!$E$50,0))","v":82930},0,0,1,2,null,{"$f":"IF(INTRO!$E$38=\"Endémique\", IF($H110>0, IF($H110=4,\"Inconnu\", IF($H110=99,\"Interrompu\", $D110)), 0),\"Non requis\")","v":0},{"$f":"IF(INTRO!$E$40=\"Endémique\", IF($I110>0, IF($I110=4,\"Inconnu\",IF($I110=99,\"Interrompu\", $D110)), 0),\"Non requis\")","v":0},{"$f":"IF(INTRO!$E$42=\"Endémique\", IF(AND($J110>1,$J110<5), IF($J110=4, \"Inconnu\", E110+F110), 0),\"Non requis\")","v":0},{"$f":"IF(INTRO!$E$44=\"Endémique\", IF(AND($K110>0,$K110<5), IF($K110=4,\"Inconnu\", IF($K110=1, $F110*0.33, IF($K110=2, $F110*0.5+$G110*0.2, SUM(F110:G110)))), 0),\"Non requis\")","v":42035},0,0,0,0,null,null,null,null,10727,"Abdi",null,null,null,{"$f":"'MDA1'!K110","v":0},{"$f":"'MDA3'!O110","v":0},{"$f":"'T1'!M110","v":0},{"$f":"'T2'!K110","v":0},null,null,{"$f":"_xlfn.XLOOKUP($Y110,[1]COUNTRY_INFO!$W$9:$W$131,[1]COUNTRY_INFO!K$9:K$131)","v":2}]
[{"$f":"IF(INTRO!$E$34<>0,INTRO!$E$34,\"\")","v":"Chad"},"Ouaddai","Abeche",378382,{"$f":"IF(INTRO!$E$48=\"\",\"\",ROUND($D111*INTRO!$E$48,0))","v":62433},{"$f":"IF(INTRO!$E$49=\"\",\"\",ROUND($D111*INTRO!$E$49,0))","v":114839},{"$f":"IF(INTRO!$E$50=\"\",\"\",ROUND($D111*INTRO!$E$50,0))","v":187110},0,0,1,2,null,{"$f":"IF(INTRO!$E$38=\"Endémique\", IF($H111>0, IF($H111=4,\"Inconnu\", IF($H111=99,\"Interrompu\", $D111)), 0),\"Non requis\")","v":0},{"$f":"IF(INTRO!$E$40=\"Endémique\", IF($I111>0, IF($I111=4,\"Inconnu\",IF($I111=99,\"Interrompu\", $D111)), 0),\"Non requis\")","v":0},{"$f":"IF(INTRO!$E$42=\"Endémique\", IF(AND($J111>1,$J111<5), IF($J111=4, \"Inconnu\", E111+F111), 0),\"Non requis\")","v":0},{"$f":"IF(INTRO!$E$44=\"Endémique\", IF(AND($K111>0,$K111<5), IF($K111=4,\"Inconnu\", IF($K111=1, $F111*0.33, IF($K111=2, $F111*0.5+$G111*0.2, SUM(F111:G111)))), 0),\"Non requis\")","v":94841.5},0,0,0,0,null,null,null,null,10728,"Abeche",null,null,null,{"$f":"'MDA1'!K111","v":0},{"$f":"'MDA3'!O111","v":0},{"$f":"'T1'!M111","v":0},{"$f":"'T2'!K111","v":0},null,null,{"$f":"_xlfn.XLOOKUP($Y111,[1]COUNTRY_INFO!$W$9:$W$131,[1]COUNTRY_INFO!K$9:K$131)","v":2}]
[{"$f":"IF(INTRO!$E$34<>0,INTRO!$E$34,\"\")","v":"Chad"},"Ouaddai","Abougoudam",137285,{"$f":"IF(INTRO!$E$48=\"\",\"\",ROUND($D112*INTRO!$E$48,0))","v":22652},{"$f":"IF(INTRO!$E$49=\"\",\"\",ROUND($D112*INTRO!$E$49,0))","v":41666},{"$f":"IF(INTRO!$E$50=\"\",\"\",ROUND($D112*INTRO!$E$50,0))","v":67887},0,0,0,2,null,{"$f":"IF(INTRO!$E$38=\"Endémique\", IF($H112>0, IF($H112=4,\"Inconnu\", IF($H112=99,\"Interrompu\", $D112)), 0),\"Non requis\")","v":0},{"$f":"IF(INTRO!$E$40=\"Endémique\", IF($I112>0, IF($I112=4,\"Inconnu\",IF($I112=99,\"Interrompu\", $D112)), 0),\"Non requis\")","v":0},{"$f":"IF(INTRO!$E$42=\"Endémique\", IF(AND($J112>1,$J112<5), IF($J112=4, \"Inconnu\", E112+F112), 0),\"Non requis\")","v":0},{"$f":"IF(INTRO!$E$44=\"Endémique\", IF(AND($K112>0,$K112<5), IF($K112=4,\"Inconnu\", IF($K112=1, $F112*0.33, IF($K112=2, $F112*0.5+$G112*0.2, SUM(F112:G112)))), 0),\"Non requis\")","v":34410.400000000001},0,0,0,0,null,null,null,null,10729,"Abougoudam",null,null,null,{"$f":"'MDA1'!K112","v":0},{"$f":"'MDA3'!O112","v":0},{"$f":"'T1'!M112","v":0},{"$f":"'T2'!K112","v":0},null,null,{"$f":"_xlfn.XLOOKUP($Y112,[1]COUNTRY_INFO!$W$9:$W$131,[1]COUNTRY_INFO!K$9:K$131)","v":2}]
[{"$f":"IF(INTRO!$E$34<>0,INTRO!$E$34,\"\")","v":"Chad"},"Ouaddai","Adré",448183,{"$f":"IF(INTRO!$E$48=\"\",\"\",ROUND($D113*INTRO!$E$48,0))","v":73950},{"$f":"IF(INTRO!$E$49=\"\",\"\",ROUND($D113*INTRO!$E$49,0))","v":136024},{"$f":"IF(INTRO!$E$50=\"\",\"\",ROUND($D113*INTRO!$E$50,0))","v":221626},0,0,1,2,null,{"$f":"IF(INTRO!$E$38=\"Endémique\", IF($H113>0, IF($H113=4,\"Inconnu\", IF($H113=99,\"Interrompu\", $D113)), 0),\"Non requis\")","v":0},{"$f":"IF(INTRO!$E$40=\"Endémique\", IF($I113>0, IF($I113=4,\"Inconnu\",IF($I113=99,\"Interrompu\", $D113)), 0),\"Non requis\")","v":0},{"$f":"IF(INTRO!$E$42=\"Endémique\", IF(AND($J113>1,$J113<5), IF($J113=4, \"Inconnu\", E113+F113), 0),\"Non requis\")","v":0},{"$f":"IF(INTRO!$E$44=\"Endémique\", IF(AND($K113>0,$K113<5), IF($K113=4,\"Inconnu\", IF($K113=1, $F113*0.33, IF($K113=2, $F113*0.5+$G113*0.2, SUM(F113:G113)))), 0),\"Non requis\")","v":112337.20000000001},0,0,0,0,null,null,null,null,10730,"Adré",null,null,null,{"$f":"'MDA1'!K113","v":0},{"$f":"'MDA3'!O113","v":0},{"$f":"'T1'!M113","v":0},{"$f":"'T2'!K113","v":0},null,null,{"$f":"_xlfn.XLOOKUP($Y113,[1]COUNTRY_INFO!$W$9:$W$131,[1]COUNTRY_INFO!K$9:K$131)","v":2}]
[{"$f":"IF(INTRO!$E$34<>0,INTRO!$E$34,\"\")","v":"Chad"},"Salamat","Aboudeia",101486,{"$f":"IF(INTRO!$E$48=\"\",\"\",ROUND($D114*INTRO!$E$48,0))","v":16745},{"$f":"IF(INTRO!$E$49=\"\",\"\",ROUND($D114*INTRO!$E$49,0))","v":30801},{"$f":"IF(INTRO!$E$50=\"\",\"\",ROUND($D114*INTRO!$E$50,0))","v":50185},0,4,2,3,null,{"$f":"IF(INTRO!$E$38=\"Endémique\", IF($H114>0, IF($H114=4,\"Inconnu\", IF($H114=99,\"Interrompu\", $D114)), 0),\"Non requis\")","v":0},{"$f":"IF(INTRO!$E$40=\"Endémique\", IF($I114>0, IF($I114=4,\"Inconnu\",IF($I114=99,\"Interrompu\", $D114)), 0),\"Non requis\")","v":"Inconnu"},{"$f":"IF(INTRO!$E$42=\"Endémique\", IF(AND($J114>1,$J114<5), IF($J114=4, \"Inconnu\", E114+F114), 0),\"Non requis\")","v":47546},{"$f":"IF(INTRO!$E$44=\"Endémique\", IF(AND($K114>0,$K114<5), IF($K114=4,\"Inconnu\", IF($K114=1, $F114*0.33, IF($K114=2, $F114*0.5+$G114*0.2, SUM(F114:G114)))), 0),\"Non requis\")","v":80986},0,0,0,0,null,null,null,null,10731,"Aboudeia",null,null,null,{"$f":"'MDA1'!K114","v":0},{"$f":"'MDA3'!O114","v":0},{"$f":"'T1'!M114","v":0},{"$f":"'T2'!K114","v":0},null,null,{"$f":"_xlfn.XLOOKUP($Y114,[1]COUNTRY_INFO!$W$9:$W$131,[1]COUNTRY_INFO!K$9:K$131)","v":3}]
[{"$f":"IF(INTRO!$E$34<>0,INTRO!$E$34,\"\")","v":"Chad"},"Salamat","Am-Timan",285894,{"$f":"IF(INTRO!$E$48=\"\",\"\",ROUND($D115*INTRO!$E$48,0))","v":47173},{"$f":"IF(INTRO!$E$49=\"\",\"\",ROUND($D115*INTRO!$E$49,0))","v":86769},{"$f":"IF(INTRO!$E$50=\"\",\"\",ROUND($D115*INTRO!$E$50,0))","v":141375},0,4,2,1,null,{"$f":"IF(INTRO!$E$38=\"Endémique\", IF($H115>0, IF($H115=4,\"Inconnu\", IF($H115=99,\"Interrompu\", $D115)), 0),\"Non requis\")","v":0},{"$f":"IF(INTRO!$E$40=\"Endémique\", IF($I115>0, IF($I115=4,\"Inconnu\",IF($I115=99,\"Interrompu\", $D115)), 0),\"Non requis\")","v":"Inconnu"},{"$f":"IF(INTRO!$E$42=\"Endémique\", IF(AND($J115>1,$J115<5), IF($J115=4, \"Inconnu\", E115+F115), 0),\"Non requis\")","v":133942},{"$f":"IF(INTRO!$E$44=\"Endémique\", IF(AND($K115>0,$K115<5), IF($K115=4,\"Inconnu\", IF($K115=1, $F115*0.33, IF($K115=2, $F115*0.5+$G115*0.2, SUM(F115:G115)))), 0),\"Non requis\")","v":28633.77},0,0,0,0,null,null,null,null,10732,"Am-Timan",null,null,null,{"$f":"'MDA1'!K115","v":0},{"$f":"'MDA3'!O115","v":0},{"$f":"'T1'!M115","v":0},{"$f":"'T2'!K115","v":0},null,null,{"$f":"_xlfn.XLOOKUP($Y115,[1]COUNTRY_INFO!$W$9:$W$131,[1]COUNTRY_INFO!K$9:K$131)","v":1}]
[{"$f":"IF(INTRO!$E$34<>0,INTRO!$E$34,\"\")","v":"Chad"},"Salamat","Haraze",86949,{"$f":"IF(INTRO!$E$48=\"\",\"\",ROUND($D116*INTRO!$E$48,0))","v":14347},{"$f":"IF(INTRO!$E$49=\"\",\"\",ROUND($D116*INTRO!$E$49,0))","v":26389},{"$f":"IF(INTRO!$E$50=\"\",\"\",ROUND($D116*INTRO!$E$50,0))","v":42996},0,4,1,2,null,{"$f":"IF(INTRO!$E$38=\"Endémique\", IF($H116>0, IF($H116=4,\"Inconnu\", IF($H116=99,\"Interrompu\", $D116)), 0),\"Non requis\")","v":0},{"$f":"IF(INTRO!$E$40=\"Endémique\", IF($I116>0, IF($I116=4,\"Inconnu\",IF($I116=99,\"Interrompu\", $D116)), 0),\"Non requis\")","v":"Inconnu"},{"$f":"IF(INTRO!$E$42=\"Endémique\", IF(AND($J116>1,$J116<5), IF($J116=4, \"Inconnu\", E116+F116), 0),\"Non requis\")","v":0},{"$f":"IF(INTRO!$E$44=\"Endémique\", IF(AND($K116>0,$K116<5), IF($K116=4,\"Inconnu\", IF($K116=1, $F116*0.33, IF($K116=2, $F116*0.5+$G116*0.2, SUM(F116:G116)))), 0),\"Non requis\")","v":21793.7},0,0,0,0,null,null,null,null,10733,"Haraze",null,null,null,{"$f":"'MDA1'!K116","v":0},{"$f":"'MDA3'!O116","v":0},{"$f":"'T1'!M116","v":0},{"$f":"'T2'!K116","v":0},null,null,{"$f":"_xlfn.XLOOKUP($Y116,[1]COUNTRY_INFO!$W$9:$W$131,[1]COUNTRY_INFO!K$9:K$131)","v":2}]
[{"$f":"IF(INTRO!$E$34<>0,INTRO!$E$34,\"\")","v":"Chad"},"Sila","Am-dam",5350,{"$f":"IF(INTRO!$E$48=\"\",\"\",ROUND($D117*INTRO!$E$48,0))","v":883},{"$f":"IF(INTRO!$E$49=\"\",\"\",ROUND($D117*INTRO!$E$49,0))","v":1624},{"$f":"IF(INTRO!$E$50=\"\",\"\",ROUND($D117*INTRO!$E$50,0))","v":2646},0,4,0,2,null,{"$f":"IF(INTRO!$E$38=\"Endémique\", IF($H117>0, IF($H117=4,\"Inconnu\", IF($H117=99,\"Interrompu\", $D117)), 0),\"Non requis\")","v":0},{"$f":"IF(INTRO!$E$40=\"Endémique\", IF($I117>0, IF($I117=4,\"Inconnu\",IF($I117=99,\"Interrompu\", $D117)), 0),\"Non requis\")","v":"Inconnu"},{"$f":"IF(INTRO!$E$42=\"Endémique\", IF(AND($J117>1,$J117<5), IF($J117=4, \"Inconnu\", E117+F117), 0),\"Non requis\")","v":0},{"$f":"IF(INTRO!$E$44=\"Endémique\", IF(AND($K117>0,$K117<5), IF($K117=4,\"Inconnu\", IF($K117=1, $F117*0.33, IF($K117=2, $F117*0.5+$G117*0.2, SUM(F117:G117)))), 0),\"Non requis\")","v":1341.2},0,0,0,0,null,null,null,null,10725,"Am-dam",null,null,null,{"$f":"'MDA1'!K117","v":0},{"$f":"'MDA3'!O117","v":0},{"$f":"'T1'!M117","v":0},{"$f":"'T2'!K117","v":0},null,null,{"$f":"_xlfn.XLOOKUP($Y117,[1]COUNTRY_INFO!$W$9:$W$131,[1]COUNTRY_INFO!K$9:K$131)","v":2}]
[{"$f":"IF(INTRO!$E$34<>0,INTRO!$E$34,\"\")","v":"Chad"},"Sila","Goz-beida",261905,{"$f":"IF(INTRO!$E$48=\"\",\"\",ROUND($D118*INTRO!$E$48,0))","v":43214},{"$f":"IF(INTRO!$E$49=\"\",\"\",ROUND($D118*INTRO!$E$49,0))","v":79488},{"$f":"IF(INTRO!$E$50=\"\",\"\",ROUND($D118*INTRO!$E$50,0))","v":129512},0,4,1,2,null,{"$f":"IF(INTRO!$E$38=\"Endémique\", IF($H118>0, IF($H118=4,\"Inconnu\", IF($H118=99,\"Interrompu\", $D118)), 0),\"Non requis\")","v":0},{"$f":"IF(INTRO!$E$40=\"Endémique\", IF($I118>0, IF($I118=4,\"Inconnu\",IF($I118=99,\"Interrompu\", $D118)), 0),\"Non requis\")","v":"Inconnu"},{"$f":"IF(INTRO!$E$42=\"Endémique\", IF(AND($J118>1,$J118<5), IF($J118=4, \"Inconnu\", E118+F118), 0),\"Non requis\")","v":0},{"$f":"IF(INTRO!$E$44=\"Endémique\", IF(AND($K118>0,$K118<5), IF($K118=4,\"Inconnu\", IF($K118=1, $F118*0.33, IF($K118=2, $F118*0.5+$G118*0.2, SUM(F118:G118)))), 0),\"Non requis\")","v":65646.399999999994},0,0,0,0,null,null,null,null,10726,"Goz-beida",null,null,null,{"$f":"'MDA1'!K118","v":0},{"$f":"'MDA3'!O118","v":0},{"$f":"'T1'!M118","v":0},{"$f":"'T2'!K118","v":0},null,null,{"$f":"_xlfn.XLOOKUP($Y118,[1]COUNTRY_INFO!$W$9:$W$131,[1]COUNTRY_INFO!K$9:K$131)","v":2}]
[{"$f":"IF(INTRO!$E$34<>0,INTRO!$E$34,\"\")","v":"Chad"},"Sila","Koukou",82142,{"$f":"IF(INTRO!$E$48=\"\",\"\",ROUND($D119*INTRO!$E$48,0))","v":13553},{"$f":"IF(INTRO!$E$49=\"\",\"\",ROUND($D119*INTRO!$E$49,0))","v":24930},{"$f":"IF(INTRO!$E$50=\"\",\"\",ROUND($D119*INTRO!$E$50,0))","v":40619},0,4,1,2,null,{"$f":"IF(INTRO!$E$38=\"Endémique\", IF($H119>0, IF($H119=4,\"Inconnu\", IF($H119=99,\"Interrompu\", $D119)), 0),\"Non requis\")","v":0},{"$f":"IF(INTRO!$E$40=\"Endémique\", IF($I119>0, IF($I119=4,\"Inconnu\",IF($I119=99,\"Interrompu\", $D119)), 0),\"Non requis\")","v":"Inconnu"},{"$f":"IF(INTRO!$E$42=\"Endémique\", IF(AND($J119>1,$J119<5), IF($J119=4, \"Inconnu\", E119+F119), 0),\"Non requis\")","v":0},{"$f":"IF(INTRO!$E$44=\"Endémique\", IF(AND($K119>0,$K119<5), IF($K119=4,\"Inconnu\", IF($K119=1, $F119*0.33, IF($K119=2, $F119*0.5+$G119*0.2, SUM(F119:G119)))), 0),\"Non requis\")","v":20588.8},0,0,0,0,null,null,null,null,10673,"Koukou",null,null,null,{"$f":"'MDA1'!K119","v":0},{"$f":"'MDA3'!O119","v":0},{"$f":"'T1'!M119","v":0},{"$f":"'T2'!K119","v":0},null,null,{"$f":"_xlfn.XLOOKUP($Y119,[1]COUNTRY_INFO!$W$9:$W$131,[1]COUNTRY_INFO!K$9:K$131)","v":2}]
[{"$f":"IF(INTRO!$E$34<>0,INTRO!$E$34,\"\")","v":"Chad"},"Sila","Tissi",139684,{"$f":"IF(INTRO!$E$48=\"\",\"\",ROUND($D120*INTRO!$E$48,0))","v":23048},{"$f":"IF(INTRO!$E$49=\"\",\"\",ROUND($D120*INTRO!$E$49,0))","v":42394},{"$f":"IF(INTRO!$E$50=\"\",\"\",ROUND($D120*INTRO!$E$50,0))","v":69074},0,4,4,4,null,{"$f":"IF(INTRO!$E$38=\"Endémique\", IF($H120>0, IF($H120=4,\"Inconnu\", IF($H120=99,\"Interrompu\", $D120)), 0),\"Non requis\")","v":0},{"$f":"IF(INTRO!$E$40=\"Endémique\", IF($I120>0, IF($I120=4,\"Inconnu\",IF($I120=99,\"Interrompu\", $D120)), 0),\"Non requis\")","v":"Inconnu"},{"$f":"IF(INTRO!$E$42=\"Endémique\", IF(AND($J120>1,$J120<5), IF($J120=4, \"Inconnu\", E120+F120), 0),\"Non requis\")","v":"Inconnu"},{"$f":"IF(INTRO!$E$44=\"Endémique\", IF(AND($K120>0,$K120<5), IF($K120=4,\"Inconnu\", IF($K120=1, $F120*0.33, IF($K120=2, $F120*0.5+$G120*0.2, SUM(F120:G120)))), 0),\"Non requis\")","v":"Inconnu"},0,0,0,0,null,null,null,null,10674,"Tissi",null,null,null,{"$f":"'MDA1'!K120","v":0},{"$f":"'MDA3'!O120","v":0},{"$f":"'T1'!M120","v":0},{"$f":"'T2'!K120","v":0},null,null,{"$f":"_xlfn.XLOOKUP($Y120,[1]COUNTRY_INFO!$W$9:$W$131,[1]COUNTRY_INFO!K$9:K$131)","v":4}]
[{"$f":"IF(INTRO!$E$34<>0,INTRO!$E$34,\"\")","v":"Chad"},"Tandjile","Batchoro",101599,{"$f":"IF(INTRO!$E$48=\"\",\"\",ROUND($D121*INTRO!$E$48,0))","v":16764},{"$f":"IF(INTRO!$E$49=\"\",\"\",ROUND($D121*INTRO!$E$49,0))","v":30835},{"$f":"IF(INTRO!$E$50=\"\",\"\",ROUND($D121*INTRO!$E$50,0))","v":50241},1,1,1,2,null,{"$f":"IF(INTRO!$E$38=\"Endémique\", IF($H121>0, IF($H121=4,\"Inconnu\", IF($H121=99,\"Interrompu\", $D121)), 0),\"Non requis\")","v":101599},{"$f":"IF(INTRO!$E$40=\"Endémique\", IF($I121>0, IF($I121=4,\"Inconnu\",IF($I121=99,\"Interrompu\", $D121)), 0),\"Non requis\")","v":101599},{"$f":"IF(INTRO!$E$42=\"Endémique\", IF(AND($J121>1,$J121<5), IF($J121=4, \"Inconnu\", E121+F121), 0),\"Non requis\")","v":0},{"$f":"IF(INTRO!$E$44=\"Endémique\", IF(AND($K121>0,$K121<5), IF($K121=4,\"Inconnu\", IF($K121=1, $F121*0.33, IF($K121=2, $F121*0.5+$G121*0.2, SUM(F121:G121)))), 0),\"Non requis\")","v":25465.7},1,1,0,1,"MDA1 (IVM+ALB)","T2 (PZQ)",null,null,10775,"Batchoro",null,null,null,{"$f":"'MDA1'!K121","v":29389},{"$f":"'MDA3'!O121","v":0},{"$f":"'T1'!M121","v":0},{"$f":"'T2'!K121","v":28874},null,null,{"$f":"_xlfn.XLOOKUP($Y121,[1]COUNTRY_INFO!$W$9:$W$131,[1]COUNTRY_INFO!K$9:K$131)","v":2}]
[{"$f":"IF(INTRO!$E$34<>0,INTRO!$E$34,\"\")","v":"Chad"},"Tandjile","Bere",178762,{"$f":"IF(INTRO!$E$48=\"\",\"\",ROUND($D122*INTRO!$E$48,0))","v":29496},{"$f":"IF(INTRO!$E$49=\"\",\"\",ROUND($D122*INTRO!$E$49,0))","v":54254},{"$f":"IF(INTRO!$E$50=\"\",\"\",ROUND($D122*INTRO!$E$50,0))","v":88398},1,1,1,3,null,{"$f":"IF(INTRO!$E$38=\"Endémique\", IF($H122>0, IF($H122=4,\"Inconnu\", IF($H122=99,\"Interrompu\", $D122)), 0),\"Non requis\")","v":178762},{"$f":"IF(INTRO!$E$40=\"Endémique\", IF($I122>0, IF($I122=4,\"Inconnu\",IF($I122=99,\"Interrompu\", $D122)), 0),\"Non requis\")","v":178762},{"$f":"IF(INTRO!$E$42=\"Endémique\", IF(AND($J122>1,$J122<5), IF($J122=4, \"Inconnu\", E122+F122), 0),\"Non requis\")","v":0},{"$f":"IF(INTRO!$E$44=\"Endémique\", IF(AND($K122>0,$K122<5), IF($K122=4,\"Inconnu\", IF($K122=1, $F122*0.33, IF($K122=2, $F122*0.5+$G122*0.2, SUM(F122:G122)))), 0),\"Non requis\")","v":142652},1,1,0,1,"MDA1 (IVM+ALB)","T2 (PZQ)",null,null,10734,"Bere",null,null,null,{"$f":"'MDA1'!K122","v":46136},{"$f":"'MDA3'!O122","v":0},{"$f":"'T1'!M122","v":0},{"$f":"'T2'!K122","v":53211},null,null,{"$f":"_xlfn.XLOOKUP($Y122,[1]COUNTRY_INFO!$W$9:$W$131,[1]COUNTRY_INFO!K$9:K$131)","v":3}]
[{"$f":"IF(INTRO!$E$34<>0,INTRO!$E$34,\"\")","v":"Chad"},"Tandjile","Bologo",56686,{"$f":"IF(INTRO!$E$48=\"\",\"\",ROUND($D123*INTRO!$E$48,0))","v":9353},{"$f":"IF(INTRO!$E$49=\"\",\"\",ROUND($D123*INTRO!$E$49,0))","v":17204},{"$f":"IF(INTRO!$E$50=\"\",\"\",ROUND($D123*INTRO!$E$50,0))","v":28031},1,1,1,2,null,{"$f":"IF(INTRO!$E$38=\"Endémique\", IF($H123>0, IF($H123=4,\"Inconnu\", IF($H123=99,\"Interrompu\", $D123)), 0),\"Non requis\")","v":56686},{"$f":"IF(INTRO!$E$40=\"Endémique\", IF($I123>0, IF($I123=4,\"Inconnu\",IF($I123=99,\"Interrompu\", $D123)), 0),\"Non requis\")","v":56686},{"$f":"IF(INTRO!$E$42=\"Endémique\", IF(AND($J123>1,$J123<5), IF($J123=4, \"Inconnu\", E123+F123), 0),\"Non requis\")","v":0},{"$f":"IF(INTRO!$E$44=\"Endémique\", IF(AND($K123>0,$K123<5), IF($K123=4,\"Inconnu\", IF($K123=1, $F123*0.33, IF($K123=2, $F123*0.5+$G123*0.2, SUM(F123:G123)))), 0),\"Non requis\")","v":14208.2},1,1,0,1,"MDA1 (IVM+ALB)","T2 (PZQ)",null,null,10790,"Bologo",10736,"Kelo",null,{"$f":"'MDA1'!K123","v":16451},{"$f":"'MDA3'!O123","v":0},{"$f":"'T1'!M123","v":0},{"$f":"'T2'!K123","v":16812},null,null,{"$f":"_xlfn.XLOOKUP($Y123,[1]COUNTRY_INFO!$W$9:$W$131,[1]COUNTRY_INFO!K$9:K$131)","v":2}]
[{"$f":"IF(INTRO!$E$34<>0,INTRO!$E$34,\"\")","v":"Chad"},"Tandjile","Dafra",95302,{"$f":"IF(INTRO!$E$48=\"\",\"\",ROUND($D124*INTRO!$E$48,0))","v":15725},{"$f":"IF(INTRO!$E$49=\"\",\"\",ROUND($D124*INTRO!$E$49,0))","v":28924},{"$f":"IF(INTRO!$E$50=\"\",\"\",ROUND($D124*INTRO!$E$50,0))","v":47127},1,1,1,2,null,{"$f":"IF(INTRO!$E$38=\"Endémique\", IF($H124>0, IF($H124=4,\"Inconnu\", IF($H124=99,\"Interrompu\", $D124)), 0),\"Non requis\")","v":95302},{"$f":"IF(INTRO!$E$40=\"Endémique\", IF($I124>0, IF($I124=4,\"Inconnu\",IF($I124=99,\"Interrompu\", $D124)), 0),\"Non requis\")","v":95302},{"$f":"IF(INTRO!$E$42=\"Endémique\", IF(AND($J124>1,$J124<5), IF($J124=4, \"Inconnu\", E124+F124), 0),\"Non requis\")","v":0},{"$f":"IF(INTRO!$E$44=\"Endémique\", IF(AND($K124>0,$K124<5), IF($K124=4,\"Inconnu\", IF($K124=1, $F124*0.33, IF($K124=2, $F124*0.5+$G124*0.2, SUM(F124:G124)))), 0),\"Non requis\")","v":23887.4},1,1,0,1,"MDA1 (IVM+ALB)","T2 (PZQ)",null,null,10759,"Dafra",null,null,null,{"$f":"'MDA1'!K124","v":28360},{"$f":"'MDA3'!O124","v":0},{"$f":"'T1'!M124","v":0},{"$f":"'T2'!K124","v":27449},null,null,{"$f":"_xlfn.XLOOKUP($Y124,[1]COUNTRY_INFO!$W$9:$W$131,[1]COUNTRY_INFO!K$9:K$131)","v":2}]
[{"$f":"IF(INTRO!$E$34<>0,INTRO!$E$34,\"\")","v":"Chad"},"Tandjile","Deressia",87896,{"$f":"IF(INTRO!$E$48=\"\",\"\",ROUND($D125*INTRO!$E$48,0))","v":14503},{"$f":"IF(INTRO!$E$49=\"\",\"\",ROUND($D125*INTRO!$E$49,0))","v":26676},{"$f":"IF(INTRO!$E$50=\"\",\"\",ROUND($D125*INTRO!$E$50,0))","v":43465},1,0,1,3,null,{"$f":"IF(INTRO!$E$38=\"Endémique\", IF($H125>0, IF($H125=4,\"Inconnu\", IF($H125=99,\"Interrompu\", $D125)), 0),\"Non requis\")","v":87896},{"$f":"IF(INTRO!$E$40=\"Endémique\", IF($I125>0, IF($I125=4,\"Inconnu\",IF($I125=99,\"Interrompu\", $D125)), 0),\"Non requis\")","v":0},{"$f":"IF(INTRO!$E$42=\"Endémique\", IF(AND($J125>1,$J125<5), IF($J125=4, \"Inconnu\", E125+F125), 0),\"Non requis\")","v":0},{"$f":"IF(INTRO!$E$44=\"Endémique\", IF(AND($K125>0,$K125<5), IF($K125=4,\"Inconnu\", IF($K125=1, $F125*0.33, IF($K125=2, $F125*0.5+$G125*0.2, SUM(F125:G125)))), 0),\"Non requis\")","v":70141},1,0,0,1,"MDA1 (IVM+ALB)","T2 (PZQ)",null,null,10782,"Deressia",null,null,null,{"$f":"'MDA1'!K125","v":26311},{"$f":"'MDA3'!O125","v":0},{"$f":"'T1'!M125","v":0},{"$f":"'T2'!K125","v":26894},null,null,{"$f":"_xlfn.XLOOKUP($Y125,[1]COUNTRY_INFO!$W$9:$W$131,[1]COUNTRY_INFO!K$9:K$131)","v":3}]
[{"$f":"IF(INTRO!$E$34<>0,INTRO!$E$34,\"\")","v":"Chad"},"Tandjile","Donamanga",129750,{"$f":"IF(INTRO!$E$48=\"\",\"\",ROUND($D126*INTRO!$E$48,0))","v":21409},{"$f":"IF(INTRO!$E$49=\"\",\"\",ROUND($D126*INTRO!$E$49,0))","v":39379},{"$f":"IF(INTRO!$E$50=\"\",\"\",ROUND($D126*INTRO!$E$50,0))","v":64161},1,0,1,2,null,{"$f":"IF(INTRO!$E$38=\"Endémique\", IF($H126>0, IF($H126=4,\"Inconnu\", IF($H126=99,\"Interrompu\", $D126)), 0),\"Non requis\")","v":129750},{"$f":"IF(INTRO!$E$40=\"Endémique\", IF($I126>0, IF($I126=4,\"Inconnu\",IF($I126=99,\"Interrompu\", $D126)), 0),\"Non requis\")","v":0},{"$f":"IF(INTRO!$E$42=\"Endémique\", IF(AND($J126>1,$J126<5), IF($J126=4, \"Inconnu\", E126+F126), 0),\"Non requis\")","v":0},{"$f":"IF(INTRO!$E$44=\"Endémique\", IF(AND($K126>0,$K126<5), IF($K126=4,\"Inconnu\", IF($K126=1, $F126*0.33, IF($K126=2, $F126*0.5+$G126*0.2, SUM(F126:G126)))), 0),\"Non requis\")","v":32521.7},1,0,0,1,"MDA1 (IVM+ALB)","T2 (PZQ)",null,null,10735,"Donamanga",null,null,null,{"$f":"'MDA1'!K126","v":37676},{"$f":"'MDA3'!O126","v":0},{"$f":"'T1'!M126","v":0},{"$f":"'T2'!K126","v":38814},null,null,{"$f":"_xlfn.XLOOKUP($Y126,[1]COUNTRY_INFO!$W$9:$W$131,[1]COUNTRY_INFO!K$9:K$131)","v":2}]
[{"$f":"IF(INTRO!$E$34<>0,INTRO!$E$34,\"\")","v":"Chad"},"Tandjile","Guidari",197994,{"$f":"IF(INTRO!$E$48=\"\",\"\",ROUND($D127*INTRO!$E$48,0))","v":32669},{"$f":"IF(INTRO!$E$49=\"\",\"\",ROUND($D127*INTRO!$E$49,0))","v":60091},{"$f":"IF(INTRO!$E$50=\"\",\"\",ROUND($D127*INTRO!$E$50,0))","v":97908},1,0,1,2,null,{"$f":"IF(INTRO!$E$38=\"Endémique\", IF($H127>0, IF($H127=4,\"Inconnu\", IF($H127=99,\"Interrompu\", $D127)), 0),\"Non requis\")","v":197994},{"$f":"IF(INTRO!$E$40=\"Endémique\", IF($I127>0, IF($I127=4,\"Inconnu\",IF($I127=99,\"Interrompu\", $D127)), 0),\"Non requis\")","v":0},{"$f":"IF(INTRO!$E$42=\"Endémique\", IF(AND($J127>1,$J127<5), IF($J127=4, \"Inconnu\", E127+F127), 0),\"Non requis\")","v":0},{"$f":"IF(INTRO!$E$44=\"Endémique\", IF(AND($K127>0,$K127<5), IF($K127=4,\"Inconnu\", IF($K127=1, $F127*0.33, IF($K127=2, $F127*0.5+$G127*0.2, SUM(F127:G127)))), 0),\"Non requis\")","v":49627.100000000006},1,0,0,1,"MDA1 (IVM+ALB)","T2 (PZQ)",null,null,10776,"Guidari",null,null,null,{"$f":"'MDA1'!K127","v":59142},{"$f":"'MDA3'!O127","v":0},{"$f":"'T1'!M127","v":0},{"$f":"'T2'!K127","v":59213},null,null,{"$f":"_xlfn.XLOOKUP($Y127,[1]COUNTRY_INFO!$W$9:$W$131,[1]COUNTRY_INFO!K$9:K$131)","v":2}]
[{"$f":"IF(INTRO!$E$34<>0,INTRO!$E$34,\"\")","v":"Chad"},"Tandjile","Kelo",235181,{"$f":"IF(INTRO!$E$48=\"\",\"\",ROUND($D128*INTRO!$E$48,0))","v":38805},{"$f":"IF(INTRO!$E$49=\"\",\"\",ROUND($D128*INTRO!$E$49,0))","v":71377},{"$f":"IF(INTRO!$E$50=\"\",\"\",ROUND($D128*INTRO!$E$50,0))","v":116297},1,1,1,2,null,{"$f":"IF(INTRO!$E$38=\"Endémique\", IF($H128>0, IF($H128=4,\"Inconnu\", IF($H128=99,\"Interrompu\", $D128)), 0),\"Non requis\")","v":235181},{"$f":"IF(INTRO!$E$40=\"Endémique\", IF($I128>0, IF($I128=4,\"Inconnu\",IF($I128=99,\"Interrompu\", $D128)), 0),\"Non requis\")","v":235181},{"$f":"IF(INTRO!$E$42=\"Endémique\", IF(AND($J128>1,$J128<5), IF($J128=4, \"Inconnu\", E128+F128), 0),\"Non requis\")","v":0},{"$f":"IF(INTRO!$E$44=\"Endémique\", IF(AND($K128>0,$K128<5), IF($K128=4,\"Inconnu\", IF($K128=1, $F128*0.33, IF($K128=2, $F128*0.5+$G128*0.2, SUM(F128:G128)))), 0),\"Non requis\")","v":58947.9},1,1,0,1,"MDA1 (IVM+ALB)","T2 (PZQ)",null,null,10736,"Kelo",null,null,null,{"$f":"'MDA1'!K128","v":68470},{"$f":"'MDA3'!O128","v":0},{"$f":"'T1'!M128","v":0},{"$f":"'T2'!K128","v":69443},null,null,{"$f":"_xlfn.XLOOKUP($Y128,[1]COUNTRY_INFO!$W$9:$W$131,[1]COUNTRY_INFO!K$9:K$131)","v":2}]
[{"$f":"IF(INTRO!$E$34<>0,INTRO!$E$34,\"\")","v":"Chad"},"Tandjile","Kolon",84848,{"$f":"IF(INTRO!$E$48=\"\",\"\",ROUND($D129*INTRO!$E$48,0))","v":14000},{"$f":"IF(INTRO!$E$49=\"\",\"\",ROUND($D129*INTRO!$E$49,0))","v":25751},{"$f":"IF(INTRO!$E$50=\"\",\"\",ROUND($D129*INTRO!$E$50,0))","v":41957},1,1,1,3,null,{"$f":"IF(INTRO!$E$38=\"Endémique\", IF($H129>0, IF($H129=4,\"Inconnu\", IF($H129=99,\"Interrompu\", $D129)), 0),\"Non requis\")","v":84848},{"$f":"IF(INTRO!$E$40=\"Endémique\", IF($I129>0, IF($I129=4,\"Inconnu\",IF($I129=99,\"Interrompu\", $D129)), 0),\"Non requis\")","v":84848},{"$f":"IF(INTRO!$E$42=\"Endémique\", IF(AND($J129>1,$J129<5), IF($J129=4, \"Inconnu\", E129+F129), 0),\"Non requis\")","v":0},{"$f":"IF(INTRO!$E$44=\"Endémique\", IF(AND($K129>0,$K129<5), IF($K129=4,\"Inconnu\", IF($K129=1, $F129*0.33, IF($K129=2, $F129*0.5+$G129*0.2, SUM(F129:G129)))), 0),\"Non requis\")","v":67708},1,1,0,1,"MDA1 (IVM+ALB)","T2 (PZQ)",null,null,10777,"Kolon",null,null,null,{"$f":"'MDA1'!K129","v":23602},{"$f":"'MDA3'!O129","v":0},{"$f":"'T1'!M129","v":0},{"$f":"'T2'!K129","v":24478},null,null,{"$f":"_xlfn.XLOOKUP($Y129,[1]COUNTRY_INFO!$W$9:$W$131,[1]COUNTRY_INFO!K$9:K$131)","v":3}]
[{"$f":"IF(INTRO!$E$34<>0,INTRO!$E$34,\"\")","v":"Chad"},"Tandjile","Lai",109771,{"$f":"IF(INTRO!$E$48=\"\",\"\",ROUND($D130*INTRO!$E$48,0))","v":18112},{"$f":"IF(INTRO!$E$49=\"\",\"\",ROUND($D130*INTRO!$E$49,0))","v":33315},{"$f":"IF(INTRO!$E$50=\"\",\"\",ROUND($D130*INTRO!$E$50,0))","v":54282},1,0,1,2,null,{"$f":"IF(INTRO!$E$38=\"Endémique\", IF($H130>0, IF($H130=4,\"Inconnu\", IF($H130=99,\"Interrompu\", $D130)), 0),\"Non requis\")","v":109771},{"$f":"IF(INTRO!$E$40=\"Endémique\", IF($I130>0, IF($I130=4,\"Inconnu\",IF($I130=99,\"Interrompu\", $D130)), 0),\"Non requis\")","v":0},{"$f":"IF(INTRO!$E$42=\"Endémique\", IF(AND($J130>1,$J130<5), IF($J130=4, \"Inconnu\", E130+F130), 0),\"Non requis\")","v":0},{"$f":"IF(INTRO!$E$44=\"Endémique\", IF(AND($K130>0,$K130<5), IF($K130=4,\"Inconnu\", IF($K130=1, $F130*0.33, IF($K130=2, $F130*0.5+$G130*0.2, SUM(F130:G130)))), 0),\"Non requis\")","v":27513.9},1,0,0,1,"MDA1 (IVM+ALB)","T2 (PZQ)",null,null,10737,"Lai",null,null,null,{"$f":"'MDA1'!K130","v":33211},{"$f":"'MDA3'!O130","v":0},{"$f":"'T1'!M130","v":0},{"$f":"'T2'!K130","v":33118},null,null,{"$f":"_xlfn.XLOOKUP($Y130,[1]COUNTRY_INFO!$W$9:$W$131,[1]COUNTRY_INFO!K$9:K$131)","v":2}]
[{"$f":"IF(INTRO!$E$34<>0,INTRO!$E$34,\"\")","v":"Chad"},"Tibesti","Bardaï",22574,{"$f":"IF(INTRO!$E$48=\"\",\"\",ROUND($D131*INTRO!$E$48,0))","v":3725},{"$f":"IF(INTRO!$E$49=\"\",\"\",ROUND($D131*INTRO!$E$49,0))","v":6851},{"$f":"IF(INTRO!$E$50=\"\",\"\",ROUND($D131*INTRO!$E$50,0))","v":11163},0,0,0,0,null,{"$f":"IF(INTRO!$E$38=\"Endémique\", IF($H131>0, IF($H131=4,\"Inconnu\", IF($H131=99,\"Interrompu\", $D131)), 0),\"Non requis\")","v":0},{"$f":"IF(INTRO!$E$40=\"Endémique\", IF($I131>0, IF($I131=4,\"Inconnu\",IF($I131=99,\"Interrompu\", $D131)), 0),\"Non requis\")","v":0},{"$f":"IF(INTRO!$E$42=\"Endémique\", IF(AND($J131>1,$J131<5), IF($J131=4, \"Inconnu\", E131+F131), 0),\"Non requis\")","v":0},{"$f":"IF(INTRO!$E$44=\"Endémique\", IF(AND($K131>0,$K131<5), IF($K131=4,\"Inconnu\", IF($K131=1, $F131*0.33, IF($K131=2, $F131*0.5+$G131*0.2, SUM(F131:G131)))), 0),\"Non requis\")","v":0},0,0,0,0,null,null,null,null,10738,"Bardaï",null,null,null,{"$f":"'MDA1'!K131","v":0},{"$f":"'MDA3'!O131","v":0},{"$f":"'T1'!M131","v":0},{"$f":"'T2'!K131","v":0},null,null,{"$f":"_xlfn.XLOOKUP($Y131,[1]COUNTRY_INFO!$W$9:$W$131,[1]COUNTRY_INFO!K$9:K$131)","v":0}]
[{"$f":"IF(INTRO!$E$34<>0,INTRO!$E$34,\"\")","v":"Chad"},"Tibesti","Zouar",17410,{"$f":"IF(INTRO!$E$48=\"\",\"\",ROUND($D132*INTRO!$E$48,0))","v":2873},{"$f":"IF(INTRO!$E$49=\"\",\"\",ROUND($D132*INTRO!$E$49,0))","v":5284},{"$f":"IF(INTRO!$E$50=\"\",\"\",ROUND($D132*INTRO!$E$50,0))","v":8609},0,0,0,0,null,{"$f":"IF(INTRO!$E$38=\"Endémique\", IF($H132>0, IF($H132=4,\"Inconnu\", IF($H132=99,\"Interrompu\", $D132)), 0),\"Non requis\")","v":0},{"$f":"IF(INTRO!$E$40=\"Endémique\", IF($I132>0, IF($I132=4,\"Inconnu\",IF($I132=99,\"Interrompu\", $D132)), 0),\"Non requis\")","v":0},{"$f":"IF(INTRO!$E$42=\"Endémique\", IF(AND($J132>1,$J132<5), IF($J132=4, \"Inconnu\", E132+F132), 0),\"Non requis\")","v":0},{"$f":"IF(INTRO!$E$44=\"Endémique\", IF(AND($K132>0,$K132<5), IF($K132=4,\"Inconnu\", IF($K132=1, $F132*0.33, IF($K132=2, $F132*0.5+$G132*0.2, SUM(F132:G132)))), 0),\"Non requis\")","v":0},0,0,0,0,null,null,null,null,10760,"Zouar",null,null,null,{"$f":"'MDA1'!K132","v":0},{"$f":"'MDA3'!O132","v":0},{"$f":"'T1'!M132","v":0},{"$f":"'T2'!K132","v":0},null,null,{"$f":"_xlfn.XLOOKUP($Y132,[1]COUNTRY_INFO!$W$9:$W$131,[1]COUNTRY_INFO!K$9:K$131)","v":0}]
[{"$f":"IF(INTRO!$E$34<>0,INTRO!$E$34,\"\")","v":"Chad"},"Wadi Fira","amzoer",59832,{"$f":"IF(INTRO!$E$48=\"\",\"\",ROUND($D133*INTRO!$E$48,0))","v":9872},{"$f":"IF(INTRO!$E$49=\"\",\"\",ROUND($D133*INTRO!$E$49,0))","v":18159},{"$f":"IF(INTRO!$E$50=\"\",\"\",ROUND($D133*INTRO!$E$50,0))","v":29587},0,0,1,1,null,{"$f":"IF(INTRO!$E$38=\"Endémique\", IF($H133>0, IF($H133=4,\"Inconnu\", IF($H133=99,\"Interrompu\", $D133)), 0),\"Non requis\")","v":0},{"$f":"IF(INTRO!$E$40=\"Endémique\", IF($I133>0, IF($I133=4,\"Inconnu\",IF($I133=99,\"Interrompu\", $D133)), 0),\"Non requis\")","v":0},{"$f":"IF(INTRO!$E$42=\"Endémique\", IF(AND($J133>1,$J133<5), IF($J133=4, \"Inconnu\", E133+F133), 0),\"Non requis\")","v":0},{"$f":"IF(INTRO!$E$44=\"Endémique\", IF(AND($K133>0,$K133<5), IF($K133=4,\"Inconnu\", IF($K133=1, $F133*0.33, IF($K133=2, $F133*0.5+$G133*0.2, SUM(F133:G133)))), 0),\"Non requis\")","v":5992.47},0,0,0,0,null,null,null,null,10778,"amzoer",null,null,null,{"$f":"'MDA1'!K133","v":0},{"$f":"'MDA3'!O133","v":0},{"$f":"'T1'!M133","v":0},{"$f":"'T2'!K133","v":0},null,null,{"$f":"_xlfn.XLOOKUP($Y133,[1]COUNTRY_INFO!$W$9:$W$131,[1]COUNTRY_INFO!K$9:K$131)","v":1}]
[{"$f":"IF(INTRO!$E$34<>0,INTRO!$E$34,\"\")","v":"Chad"},"Wadi Fira","Arada",42381,{"$f":"IF(INTRO!$E$48=\"\",\"\",ROUND($D134*INTRO!$E$48,0))","v":6993},{"$f":"IF(INTRO!$E$49=\"\",\"\",ROUND($D134*INTRO!$E$49,0))","v":12863},{"$f":"IF(INTRO!$E$50=\"\",\"\",ROUND($D134*INTRO!$E$50,0))","v":20957},0,0,1,1,null,{"$f":"IF(INTRO!$E$38=\"Endémique\", IF($H134>0, IF($H134=4,\"Inconnu\", IF($H134=99,\"Interrompu\", $D134)), 0),\"Non requis\")","v":0},{"$f":"IF(INTRO!$E$40=\"Endémique\", IF($I134>0, IF($I134=4,\"Inconnu\",IF($I134=99,\"Interrompu\", $D134)), 0),\"Non requis\")","v":0},{"$f":"IF(INTRO!$E$42=\"Endémique\", IF(AND($J134>1,$J134<5), IF($J134=4, \"Inconnu\", E134+F134), 0),\"Non requis\")","v":0},{"$f":"IF(INTRO!$E$44=\"Endémique\", IF(AND($K134>0,$K134<5), IF($K134=4,\"Inconnu\", IF($K134=1, $F134*0.33, IF($K134=2, $F134*0.5+$G134*0.2, SUM(F134:G134)))), 0),\"Non requis\")","v":4244.79},0,0,0,0,null,null,null,null,10779,"Arada",null,null,null,{"$f":"'MDA1'!K134","v":0},{"$f":"'MDA3'!O134","v":0},{"$f":"'T1'!M134","v":0},{"$f":"'T2'!K134","v":0},null,null,{"$f":"_xlfn.XLOOKUP($Y134,[1]COUNTRY_INFO!$W$9:$W$131,[1]COUNTRY_INFO!K$9:K$131)","v":1}]
[{"$f":"IF(INTRO!$E$34<>0,INTRO!$E$34,\"\")","v":"Chad"},"Wadi Fira","Biltine",147086,{"$f":"IF(INTRO!$E$48=\"\",\"\",ROUND($D135*INTRO!$E$48,0))","v":24269},{"$f":"IF(INTRO!$E$49=\"\",\"\",ROUND($D135*INTRO!$E$49,0))","v":44641},{"$f":"IF(INTRO!$E$50=\"\",\"\",ROUND($D135*INTRO!$E$50,0))","v":72734},0,0,1,1,null,{"$f":"IF(INTRO!$E$38=\"Endémique\", IF($H135>0, IF($H135=4,\"Inconnu\", IF($H135=99,\"Interrompu\", $D135)), 0),\"Non requis\")","v":0},{"$f":"IF(INTRO!$E$40=\"Endémique\", IF($I135>0, IF($I135=4,\"Inconnu\",IF($I135=99,\"Interrompu\", $D135)), 0),\"Non requis\")","v":0},{"$f":"IF(INTRO!$E$42=\"Endémique\", IF(AND($J135>1,$J135<5), IF($J135=4, \"Inconnu\", E135+F135), 0),\"Non requis\")","v":0},{"$f":"IF(INTRO!$E$44=\"Endémique\", IF(AND($K135>0,$K135<5), IF($K135=4,\"Inconnu\", IF($K135=1, $F135*0.33, IF($K135=2, $F135*0.5+$G135*0.2, SUM(F135:G135)))), 0),\"Non requis\")","v":14731.53},0,0,0,0,null,null,null,null,10740,"Biltine",null,null,null,{"$f":"'MDA1'!K135","v":0},{"$f":"'MDA3'!O135","v":0},{"$f":"'T1'!M135","v":0},{"$f":"'T2'!K135","v":0},null,null,{"$f":"_xlfn.XLOOKUP($Y135,[1]COUNTRY_INFO!$W$9:$W$131,[1]COUNTRY_INFO!K$9:K$131)","v":1}]
[{"$f":"IF(INTRO!$E$34<>0,INTRO!$E$34,\"\")","v":"Chad"},"Wadi Fira","Guéréda",109493,{"$f":"IF(INTRO!$E$48=\"\",\"\",ROUND($D136*INTRO!$E$48,0))","v":18066},{"$f":"IF(INTRO!$E$49=\"\",\"\",ROUND($D136*INTRO!$E$49,0))","v":33231},{"$f":"IF(INTRO!$E$50=\"\",\"\",ROUND($D136*INTRO!$E$50,0))","v":54144},0,0,1,1,null,{"$f":"IF(INTRO!$E$38=\"Endémique\", IF($H136>0, IF($H136=4,\"Inconnu\", IF($H136=99,\"Interrompu\", $D136)), 0),\"Non requis\")","v":0},{"$f":"IF(INTRO!$E$40=\"Endémique\", IF($I136>0, IF($I136=4,\"Inconnu\",IF($I136=99,\"Interrompu\", $D136)), 0),\"Non requis\")","v":0},{"$f":"IF(INTRO!$E$42=\"Endémique\", IF(AND($J136>1,$J136<5), IF($J136=4, \"Inconnu\", E136+F136), 0),\"Non requis\")","v":0},{"$f":"IF(INTRO!$E$44=\"Endémique\", IF(AND($K136>0,$K136<5), IF($K136=4,\"Inconnu\", IF($K136=1, $F136*0.33, IF($K136=2, $F136*0.5+$G136*0.2, SUM(F136:G136)))), 0),\"Non requis\")","v":10966.230000000001},0,0,0,0,null,null,null,null,10741,"Guéréda",null,null,null,{"$f":"'MDA1'!K136","v":0},{"$f":"'MDA3'!O136","v":0},{"$f":"'T1'!M136","v":0},{"$f":"'T2'!K136","v":0},null,null,{"$f":"_xlfn.XLOOKUP($Y136,[1]COUNTRY_INFO!$W$9:$W$131,[1]COUNTRY_INFO!K$9:K$131)","v":1}]
[{"$f":"IF(INTRO!$E$34<>0,INTRO!$E$34,\"\")","v":"Chad"},"Wadi Fira","Iriba",96985,{"$f":"IF(INTRO!$E$48=\"\",\"\",ROUND($D137*INTRO!$E$48,0))","v":16003},{"$f":"IF(INTRO!$E$49=\"\",\"\",ROUND($D137*INTRO!$E$49,0))","v":29435},{"$f":"IF(INTRO!$E$50=\"\",\"\",ROUND($D137*INTRO!$E$50,0))","v":47959},0,0,1,0,null,{"$f":"IF(INTRO!$E$38=\"Endémique\", IF($H137>0, IF($H137=4,\"Inconnu\", IF($H137=99,\"Interrompu\", $D137)), 0),\"Non requis\")","v":0},{"$f":"IF(INTRO!$E$40=\"Endémique\", IF($I137>0, IF($I137=4,\"Inconnu\",IF($I137=99,\"Interrompu\", $D137)), 0),\"Non requis\")","v":0},{"$f":"IF(INTRO!$E$42=\"Endémique\", IF(AND($J137>1,$J137<5), IF($J137=4, \"Inconnu\", E137+F137), 0),\"Non requis\")","v":0},{"$f":"IF(INTRO!$E$44=\"Endémique\", IF(AND($K137>0,$K137<5), IF($K137=4,\"Inconnu\", IF($K137=1, $F137*0.33, IF($K137=2, $F137*0.5+$G137*0.2, SUM(F137:G137)))), 0),\"Non requis\")","v":0},0,0,0,0,null,null,null,null,10742,"Iriba",null,null,null,{"$f":"'MDA1'!K137","v":0},{"$f":"'MDA3'!O137","v":0},{"$f":"'T1'!M137","v":0},{"$f":"'T2'!K137","v":0},null,null,{"$f":"_xlfn.XLOOKUP($Y137,[1]COUNTRY_INFO!$W$9:$W$131,[1]COUNTRY_INFO!K$9:K$131)","v":0}]
[{"$f":"IF(INTRO!$E$34<>0,INTRO!$E$34,\"\")","v":"Chad"},"Wadi Fira","Matadjana",31746,{"$f":"IF(INTRO!$E$48=\"\",\"\",ROUND($D138*INTRO!$E$48,0))","v":5238},{"$f":"IF(INTRO!$E$49=\"\",\"\",ROUND($D138*INTRO!$E$49,0))","v":9635},{"$f":"IF(INTRO!$E$50=\"\",\"\",ROUND($D138*INTRO!$E$50,0))","v":15698},0,0,1,1,null,{"$f":"IF(INTRO!$E$38=\"Endémique\", IF($H138>0, IF($H138=4,\"Inconnu\", IF($H138=99,\"Interrompu\", $D138)), 0),\"Non requis\")","v":0},{"$f":"IF(INTRO!$E$40=\"Endémique\", IF($I138>0, IF($I138=4,\"Inconnu\",IF($I138=99,\"Interrompu\", $D138)), 0),\"Non requis\")","v":0},{"$f":"IF(INTRO!$E$42=\"Endémique\", IF(AND($J138>1,$J138<5), IF($J138=4, \"Inconnu\", E138+F138), 0),\"Non requis\")","v":0},{"$f":"IF(INTRO!$E$44=\"Endémique\", IF(AND($K138>0,$K138<5), IF($K138=4,\"Inconnu\", IF($K138=1, $F138*0.33, IF($K138=2, $F138*0.5+$G138*0.2, SUM(F138:G138)))), 0),\"Non requis\")","v":3179.55},0,0,0,0,null,null,null,null,10743,"Matadjana",null,null,null,{"$f":"'MDA1'!K138","v":0},{"$f":"'MDA3'!O138","v":0},{"$f":"'T1'!M138","v":0},{"$f":"'T2'!K138","v":0},null,null,{"$f":"_xlfn.XLOOKUP($Y138,[1]COUNTRY_INFO!$W$9:$W$131,[1]COUNTRY_INFO!K$9:K$131)","v":1}]

{"sheet":"MDA1","index":2,"n_rows":138,"n_cols":22,"rows_kept":138,"cut":false,"hidden":false,"merged":[[5,13,5,16],[3,0,3,2],[5,0,5,2],[5,5,5,8],[5,9,5,12],[5,3,6,3],[5,4,6,4]]}
["MDA 1 - Ivermectine (IVM) et Albendazole (ALB)"]
["Structure administrative, population nécessitant une chimioprévention par groupe d'âge, population traitée par groupe d'âge et couverture"]
[]
["TOTAL",null,null,null,null,null,{"$f":"SUM(G$9:G$1000)","v":1620412},{"$f":"SUM(H$9:H$1000)","v":2680815},{"$f":"SUM(I$9:I$1000)","v":4301227},null,{"$f":"SUM(K$9:K$1000)","v":1576097},{"$f":"SUM(L$9:L$1000)","v":2614605},{"$f":"SUM(M$9:M$1000)","v":4190702},null,{"$f":"IF(G4<>0, IF(K4/G4*100=0, \"-\", K4/G4*100), \" \")","v":97.265201689446883},{"$f":"IF(H4<>0, IF(L4/H4*100=0, \"-\", L4/H4*100), \" \")","v":97.530228680457256},{"$f":"IF(I4<>0, IF(M4/I4*100=0, \"-\", M4/I4*100), \" \")","v":97.43038439961434}]
[]
["Structure administrative du pays",null,null,"Mise en oeuvre \nde la CP","Date","Population ciblée pour MDA 1",null,null,null,"Population traitée",null,null,null,"Couverture du Programme (%)"]
["Pays","Région/Département","District",null,null,"EAPréS","EAS","Adultes","Total","EAPréS","EAS","Adultes","Total","EAPréS","EAS","Adultes","Total"]
[]
[{"$f":"IF(COUNTRY_INFO!A9=0,\" \",COUNTRY_INFO!A9)","v":"Chad"},{"$f":"IF(COUNTRY_INFO!B9=0,\" \",COUNTRY_INFO!B9)","v":"Bahr El Gazel"},{"$f":"IF(COUNTRY_INFO!C9=0,\" \",COUNTRY_INFO!C9)","v":"Chadra"},{"$f":"IF(COUNTRY_INFO!$U$9:$U$1000=\"MDA1 (IVM+ALB)\", COUNTRY_INFO!$U$9:$U$1000, \" \")","v":" "},0,null,0,0,{"$f":"SUM(F9:H9)","v":0},null,0,0,{"$f":"SUM(J9:L9)","v":0},null,{"$f":"IF(G9<>0, IF(K9/G9*100=0, \"-\", K9/G9*100), \" \")","v":" "},{"$f":"IF(H9<>0, IF(L9/H9*100=0, \"-\", L9/H9*100), \" \")","v":" "}," ",{"$f":"COUNTRY_INFO!Y9","v":10660}]
[{"$f":"IF(COUNTRY_INFO!A10=0,\" \",COUNTRY_INFO!A10)","v":"Chad"},{"$f":"IF(COUNTRY_INFO!B10=0,\" \",COUNTRY_INFO!B10)","v":"Bahr El Gazel"},{"$f":"IF(COUNTRY_INFO!C10=0,\" \",COUNTRY_INFO!C10)","v":"Michemire"},{"$f":"IF(COUNTRY_INFO!$U$9:$U$1000=\"MDA1 (IVM+ALB)\", COUNTRY_INFO!$U$9:$U$1000, \" \")","v":" "},0,null,0,0,{"$f":"SUM(F10:H10)","v":0},null,0,0,{"$f":"SUM(J10:L10)","v":0},null,{"$f":"IF(G10<>0, IF(K10/G10*100=0, \"-\", K10/G10*100), \" \")","v":" "},{"$f":"IF(H10<>0, IF(L10/H10*100=0, \"-\", L10/H10*100), \" \")","v":" "},{"$f":"IF(I10<>0, IF(M10/I10*100=0, \"-\", M10/I10*100), \" \")","v":" "},{"$f":"COUNTRY_INFO!Y10","v":10670}]
[{"$f":"IF(COUNTRY_INFO!A11=0,\" \",COUNTRY_INFO!A11)","v":"Chad"},{"$f":"IF(COUNTRY_INFO!B11=0,\" \",COUNTRY_INFO!B11)","v":"Bahr El Gazel"},{"$f":"IF(COUNTRY_INFO!C11=0,\" \",COUNTRY_INFO!C11)","v":"Moussoro"},{"$f":"IF(COUNTRY_INFO!$U$9:$U$1000=\"MDA1 (IVM+ALB)\", COUNTRY_INFO!$U$9:$U$1000, \" \")","v":" "},0,null,0,0,0,null,0,0,0,null," "," "," ",{"$f":"COUNTRY_INFO!Y11","v":10661}]
[{"$f":"IF(COUNTRY_INFO!A12=0,\" \",COUNTRY_INFO!A12)","v":"Chad"},{"$f":"IF(COUNTRY_INFO!B12=0,\" \",COUNTRY_INFO!B12)","v":"Bahr El Gazel"},{"$f":"IF(COUNTRY_INFO!C12=0,\" \",COUNTRY_INFO!C12)","v":"Salal"},{"$f":"IF(COUNTRY_INFO!$U$9:$U$1000=\"MDA1 (IVM+ALB)\", COUNTRY_INFO!$U$9:$U$1000, \" \")","v":" "},0,null,0,0,0,null,0,0,0,null," "," "," ",{"$f":"COUNTRY_INFO!Y12","v":10711}]
[{"$f":"IF(COUNTRY_INFO!A13=0,\" \",COUNTRY_INFO!A13)","v":"Chad"},{"$f":"IF(COUNTRY_INFO!B13=0,\" \",COUNTRY_INFO!B13)","v":"Batha"},{"$f":"IF(COUNTRY_INFO!C13=0,\" \",COUNTRY_INFO!C13)","v":"Alifa"},{"$f":"IF(COUNTRY_INFO!$U$9:$U$1000=\"MDA1 (IVM+ALB)\", COUNTRY_INFO!$U$9:$U$1000, \" \")","v":" "},0,null,0,0,0,null,0,0,0,null," "," "," ",{"$f":"COUNTRY_INFO!Y13","v":10739}]
[{"$f":"IF(COUNTRY_INFO!A14=0,\" \",COUNTRY_INFO!A14)","v":"Chad"},{"$f":"IF(COUNTRY_INFO!B14=0,\" \",COUNTRY_INFO!B14)","v":"Batha"},{"$f":"IF(COUNTRY_INFO!C14=0,\" \",COUNTRY_INFO!C14)","v":"Assinet"},{"$f":"IF(COUNTRY_INFO!$U$9:$U$1000=\"MDA1 (IVM+ALB)\", COUNTRY_INFO!$U$9:$U$1000, \" \")","v":" "},0,null,0,0,0,null,0,0,0,null," "," "," ",{"$f":"COUNTRY_INFO!Y14","v":10745}]
[{"$f":"IF(COUNTRY_INFO!A15=0,\" \",COUNTRY_INFO!A15)","v":"Chad"},{"$f":"IF(COUNTRY_INFO!B15=0,\" \",COUNTRY_INFO!B15)","v":"Batha"},{"$f":"IF(COUNTRY_INFO!C15=0,\" \",COUNTRY_INFO!C15)","v":"Ati"},{"$f":"IF(COUNTRY_INFO!$U$9:$U$1000=\"MDA1 (IVM+ALB)\", COUNTRY_INFO!$U$9:$U$1000, \" \")","v":" "},0,null,0,0,0,null,0,0,0,null," "," "," ",{"$f":"COUNTRY_INFO!Y15","v":10662}]
[{"$f":"IF(COUNTRY_INFO!A16=0,\" \",COUNTRY_INFO!A16)","v":"Chad"},{"$f":"IF(COUNTRY_INFO!B16=0,\" \",COUNTRY_INFO!B16)","v":"Batha"},{"$f":"IF(COUNTRY_INFO!C16=0,\" \",COUNTRY_INFO!C16)","v":"Djedda"},{"$f":"IF(COUNTRY_INFO!$U$9:$U$1000=\"MDA1 (IVM+ALB)\", COUNTRY_INFO!$U$9:$U$1000, \" \")","v":" "},0,null,0,0,0,null,0,0,0,null," "," "," ",{"$f":"COUNTRY_INFO!Y16","v":10761}]
[{"$f":"IF(COUNTRY_INFO!A17=0,\" \",COUNTRY_INFO!A17)","v":"Chad"},{"$f":"IF(COUNTRY_INFO!B17=0,\" \",COUNTRY_INFO!B17)","v":"Batha"},{"$f":"IF(COUNTRY_INFO!C17=0,\" \",COUNTRY_INFO!C17)","v":"Koundjourou"},{"$f":"IF(COUNTRY_INFO!$U$9:$U$1000=\"MDA1 (IVM+ALB)\", COUNTRY_INFO!$U$9:$U$1000, \" \")","v":" "},0,null,0,0,0,null,0,0,0,null," "," "," ",{"$f":"COUNTRY_INFO!Y17","v":10762}]
[{"$f":"IF(COUNTRY_INFO!A18=0,\" \",COUNTRY_INFO!A18)","v":"Chad"},{"$f":"IF(COUNTRY_INFO!B18=0,\" \",COUNTRY_INFO!B18)","v":"Batha"},{"$f":"IF(COUNTRY_INFO!C18=0,\" \",COUNTRY_INFO!C18)","v":"Oum-Hadjer"},{"$f":"IF(COUNTRY_INFO!$U$9:$U$1000=\"MDA1 (IVM+ALB)\", COUNTRY_INFO!$U$9:$U$1000, \" \")","v":" "},0,null,0,0,0,null,0,0,0,null," "," "," ",{"$f":"COUNTRY_INFO!Y18","v":10663}]
[{"$f":"IF(COUNTRY_INFO!A19=0,\" \",COUNTRY_INFO!A19)","v":"Chad"},{"$f":"IF(COUNTRY_INFO!B19=0,\" \",COUNTRY_INFO!B19)","v":"Batha"},{"$f":"IF(COUNTRY_INFO!C19=0,\" \",COUNTRY_INFO!C19)","v":"Yao"},{"$f":"IF(COUNTRY_INFO!$U$9:$U$1000=\"MDA1 (IVM+ALB)\", COUNTRY_INFO!$U$9:$U$1000, \" \")","v":" "},0,null,0,0,0,null,0,0,0,null," "," "," ",{"$f":"COUNTRY_INFO!Y19","v":10664}]
[{"$f":"IF(COUNTRY_INFO!A20=0,\" \",COUNTRY_INFO!A20)","v":"Chad"},{"$f":"IF(COUNTRY_INFO!B20=0,\" \",COUNTRY_INFO!B20)","v":"Borkou"},{"$f":"IF(COUNTRY_INFO!C20=0,\" \",COUNTRY_INFO!C20)","v":"Faya"},{"$f":"IF(COUNTRY_INFO!$U$9:$U$1000=\"MDA1 (IVM+ALB)\", COUNTRY_INFO!$U$9:$U$1000, \" \")","v":" "},0,null,0,0,0,null,0,0,0,null," "," "," ",{"$f":"COUNTRY_INFO!Y20","v":10666}]
[{"$f":"IF(COUNTRY_INFO!A21=0,\" \",COUNTRY_INFO!A21)","v":"Chad"},{"$f":"IF(COUNTRY_INFO!B21=0,\" \",COUNTRY_INFO!B21)","v":"Borkou"},{"$f":"IF(COUNTRY_INFO!C21=0,\" \",COUNTRY_INFO!C21)","v":"Kirdimi"},{"$f":"IF(COUNTRY_INFO!$U$9:$U$1000=\"MDA1 (IVM+ALB)\", COUNTRY_INFO!$U$9:$U$1000, \" \")","v":" "},0,null,0,0,0,null,0,0,0,null," "," "," ",{"$f":"COUNTRY_INFO!Y21","v":10746}]
[{"$f":"IF(COUNTRY_INFO!A22=0,\" \",COUNTRY_INFO!A22)","v":"Chad"},{"$f":"IF(COUNTRY_INFO!B22=0,\" \",COUNTRY_INFO!B22)","v":"Borkou"},{"$f":"IF(COUNTRY_INFO!C22=0,\" \",COUNTRY_INFO!C22)","v":"Kouba Olanga"},{"$f":"IF(COUNTRY_INFO!$U$9:$U$1000=\"MDA1 (IVM+ALB)\", COUNTRY_INFO!$U$9:$U$1000, \" \")","v":" "},null,null,null,null,0,null,null,null,0,null," "," "," ",{"$f":"COUNTRY_INFO!Y22","v":10783}]
[{"$f":"IF(COUNTRY_INFO!A23=0,\" \",COUNTRY_INFO!A23)","v":"Chad"},{"$f":"IF(COUNTRY_INFO!B23=0,\" \",COUNTRY_INFO!B23)","v":"Chari  Baguirmi"},{"$f":"IF(COUNTRY_INFO!C23=0,\" \",COUNTRY_INFO!C23)","v":"Ba-Illi"},{"$f":"IF(COUNTRY_INFO!$U$9:$U$1000=\"MDA1 (IVM+ALB)\", COUNTRY_INFO!$U$9:$U$1000, \" \")","v":" "},0,null,0,0,0,null,0,0,0,null," "," "," ",{"$f":"COUNTRY_INFO!Y23","v":10667}]
[{"$f":"IF(COUNTRY_INFO!A24=0,\" \",COUNTRY_INFO!A24)","v":"Chad"},{"$f":"IF(COUNTRY_INFO!B24=0,\" \",COUNTRY_INFO!B24)","v":"Chari  Baguirmi"},{"$f":"IF(COUNTRY_INFO!C24=0,\" \",COUNTRY_INFO!C24)","v":"Bousso"},{"$f":"IF(COUNTRY_INFO!$U$9:$U$1000=\"MDA1 (IVM+ALB)\", COUNTRY_INFO!$U$9:$U$1000, \" \")","v":" "},0,null,0,0,0,null,0,0,0,null," "," "," ",{"$f":"COUNTRY_INFO!Y24","v":10668}]
[{"$f":"IF(COUNTRY_INFO!A25=0,\" \",COUNTRY_INFO!A25)","v":"Chad"},{"$f":"IF(COUNTRY_INFO!B25=0,\" \",COUNTRY_INFO!B25)","v":"Chari  Baguirmi"},{"$f":"IF(COUNTRY_INFO!C25=0,\" \",COUNTRY_INFO!C25)","v":"Dourbali"},{"$f":"IF(COUNTRY_INFO!$U$9:$U$1000=\"MDA1 (IVM+ALB)\", COUNTRY_INFO!$U$9:$U$1000, \" \")","v":" "},0,null,0,0,0,null,0,0,0,null," "," "," ",{"$f":"COUNTRY_INFO!Y25","v":10669}]
[{"$f":"IF(COUNTRY_INFO!A26=0,\" \",COUNTRY_INFO!A26)","v":"Chad"},{"$f":"IF(COUNTRY_INFO!B26=0,\" \",COUNTRY_INFO!B26)","v":"Chari  Baguirmi"},{"$f":"IF(COUNTRY_INFO!C26=0,\" \",COUNTRY_INFO!C26)","v":"Koulno"},{"$f":"IF(COUNTRY_INFO!$U$9:$U$1000=\"MDA1 (IVM+ALB)\", COUNTRY_INFO!$U$9:$U$1000, \" \")","v":" "},0,null,0,0,0,null,0,0,0,null," "," "," ",{"$f":"COUNTRY_INFO!Y26","v":10747}]
[{"$f":"IF(COUNTRY_INFO!A27=0,\" \",COUNTRY_INFO!A27)","v":"Chad"},{"$f":"IF(COUNTRY_INFO!B27=0,\" \",COUNTRY_INFO!B27)","v":"Chari  Baguirmi"},{"$f":"IF(COUNTRY_INFO!C27=0,\" \",COUNTRY_INFO!C27)","v":"Mandélia"},{"$f":"IF(COUNTRY_INFO!$U$9:$U$1000=\"MDA1 (IVM+ALB)\", COUNTRY_INFO!$U$9:$U$1000, \" \")","v":" "},0,null,0,0,0,null,0,0,0,null," "," "," ",{"$f":"COUNTRY_INFO!Y27","v":10671}]
[{"$f":"IF(COUNTRY_INFO!A28=0,\" \",COUNTRY_INFO!A28)","v":"Chad"},{"$f":"IF(COUNTRY_INFO!B28=0,\" \",COUNTRY_INFO!B28)","v":"Chari  Baguirmi"},{"$f":"IF(COUNTRY_INFO!C28=0,\" \",COUNTRY_INFO!C28)","v":"Massenya"},{"$f":"IF(COUNTRY_INFO!$U$9:$U$1000=\"MDA1 (IVM+ALB)\", COUNTRY_INFO!$U$9:$U$1000, \" \")","v":" "},0,null,0,0,0,null,0,0,0,null," "," "," ",{"$f":"COUNTRY_INFO!Y28","v":10672}]
[{"$f":"IF(COUNTRY_INFO!A29=0,\" \",COUNTRY_INFO!A29)","v":"Chad"},{"$f":"IF(COUNTRY_INFO!B29=0,\" \",COUNTRY_INFO!B29)","v":"Ennedi Est"},{"$f":"IF(COUNTRY_INFO!C29=0,\" \",COUNTRY_INFO!C29)","v":"Amdjarass"},{"$f":"IF(COUNTRY_INFO!$U$9:$U$1000=\"MDA1 (IVM+ALB)\", COUNTRY_INFO!$U$9:$U$1000, \" \")","v":" "},0,null,0,0,0,null,0,0,0,null," "," "," ",{"$f":"COUNTRY_INFO!Y29","v":10675}]
[{"$f":"IF(COUNTRY_INFO!A30=0,\" \",COUNTRY_INFO!A30)","v":"Chad"},{"$f":"IF(COUNTRY_INFO!B30=0,\" \",COUNTRY_INFO!B30)","v":"Ennedi Est"},{"$f":"IF(COUNTRY_INFO!C30=0,\" \",COUNTRY_INFO!C30)","v":"Bahaï"},{"$f":"IF(COUNTRY_INFO!$U$9:$U$1000=\"MDA1 (IVM+ALB)\", COUNTRY_INFO!$U$9:$U$1000, \" \")","v":" "},0,null,0,0,0,null,0,0,0,null," "," "," ",{"$f":"COUNTRY_INFO!Y30","v":10676}]
[{"$f":"IF(COUNTRY_INFO!A31=0,\" \",COUNTRY_INFO!A31)","v":"Chad"},{"$f":"IF(COUNTRY_INFO!B31=0,\" \",COUNTRY_INFO!B31)","v":"Ennedi Est"},{"$f":"IF(COUNTRY_INFO!C31=0,\" \",COUNTRY_INFO!C31)","v":"Kaoura"},{"$f":"IF(COUNTRY_INFO!$U$9:$U$1000=\"MDA1 (IVM+ALB)\", COUNTRY_INFO!$U$9:$U$1000, \" \")","v":" "},0,null,0,0,0,null,0,0,0,null," "," "," ",{"$f":"COUNTRY_INFO!Y31","v":10678}]
[{"$f":"IF(COUNTRY_INFO!A32=0,\" \",COUNTRY_INFO!A32)","v":"Chad"},{"$f":"IF(COUNTRY_INFO!B32=0,\" \",COUNTRY_INFO!B32)","v":"Ennedi Est"},{"$f":"IF(COUNTRY_INFO!C32=0,\" \",COUNTRY_INFO!C32)","v":"Mourdi"},{"$f":"IF(COUNTRY_INFO!$U$9:$U$1000=\"MDA1 (IVM+ALB)\", COUNTRY_INFO!$U$9:$U$1000, \" \")","v":" "},null,null,null,null,0,null,null,null,0,null," "," "," ",{"$f":"COUNTRY_INFO!Y32","v":10784}]
[{"$f":"IF(COUNTRY_INFO!A33=0,\" \",COUNTRY_INFO!A33)","v":"Chad"},{"$f":"IF(COUNTRY_INFO!B33=0,\" \",COUNTRY_INFO!B33)","v":"Ennedi Ouest"},{"$f":"IF(COUNTRY_INFO!C33=0,\" \",COUNTRY_INFO!C33)","v":"Fada"},{"$f":"IF(COUNTRY_INFO!$U$9:$U$1000=\"MDA1 (IVM+ALB)\", COUNTRY_INFO!$U$9:$U$1000, \" \")","v":" "},0,null,0,0,0,null,0,0,0,null," "," "," ",{"$f":"COUNTRY_INFO!Y33","v":10665}]
[{"$f":"IF(COUNTRY_INFO!A34=0,\" \",COUNTRY_INFO!A34)","v":"Chad"},{"$f":"IF(COUNTRY_INFO!B34=0,\" \",COUNTRY_INFO!B34)","v":"Ennedi Ouest"},{"$f":"IF(COUNTRY_INFO!C34=0,\" \",COUNTRY_INFO!C34)","v":"Kalaït"},{"$f":"IF(COUNTRY_INFO!$U$9:$U$1000=\"MDA1 (IVM+ALB)\", COUNTRY_INFO!$U$9:$U$1000, \" \")","v":" "},0,null,0,0,0,null,0,0,0,null," "," "," ",{"$f":"COUNTRY_INFO!Y34","v":10677}]
[{"$f":"IF(COUNTRY_INFO!A35=0,\" \",COUNTRY_INFO!A35)","v":"Chad"},{"$f":"IF(COUNTRY_INFO!B35=0,\" \",COUNTRY_INFO!B35)","v":"Ennedi Ouest"},{"$f":"IF(COUNTRY_INFO!C35=0,\" \",COUNTRY_INFO!C35)","v":"Ounianga Kebbir"},{"$f":"IF(COUNTRY_INFO!$U$9:$U$1000=\"MDA1 (IVM+ALB)\", COUNTRY_INFO!$U$9:$U$1000, \" \")","v":" "},null,null,null,null,0,null,null,null,0,null," "," "," ",{"$f":"COUNTRY_INFO!Y35","v":10785}]
[{"$f":"IF(COUNTRY_INFO!A36=0,\" \",COUNTRY_INFO!A36)","v":"Chad"},{"$f":"IF(COUNTRY_INFO!B36=0,\" \",COUNTRY_INFO!B36)","v":"Guéra"},{"$f":"IF(COUNTRY_INFO!C36=0,\" \",COUNTRY_INFO!C36)","v":"Barou"},{"$f":"IF(COUNTRY_INFO!$U$9:$U$1000=\"MDA1 (IVM+ALB)\", COUNTRY_INFO!$U$9:$U$1000, \" \")","v":" "},0,null,0,0,0,null,0,0,0,null," "," "," ",{"$f":"COUNTRY_INFO!Y36","v":10763}]
[{"$f":"IF(COUNTRY_INFO!A37=0,\" \",COUNTRY_INFO!A37)","v":"Chad"},{"$f":"IF(COUNTRY_INFO!B37=0,\" \",COUNTRY_INFO!B37)","v":"Guéra"},{"$f":"IF(COUNTRY_INFO!C37=0,\" \",COUNTRY_INFO!C37)","v":"Bitkine"},{"$f":"IF(COUNTRY_INFO!$U$9:$U$1000=\"MDA1 (IVM+ALB)\", COUNTRY_INFO!$U$9:$U$1000, \" \")","v":" "},0,null,0,0,0,null,0,0,0,null," "," "," ",{"$f":"COUNTRY_INFO!Y37","v":10679}]
[{"$f":"IF(COUNTRY_INFO!A38=0,\" \",COUNTRY_INFO!A38)","v":"Chad"},{"$f":"IF(COUNTRY_INFO!B38=0,\" \",COUNTRY_INFO!B38)","v":"Guéra"},{"$f":"IF(COUNTRY_INFO!C38=0,\" \",COUNTRY_INFO!C38)","v":"Mangalmé"},{"$f":"IF(COUNTRY_INFO!$U$9:$U$1000=\"MDA1 (IVM+ALB)\", COUNTRY_INFO!$U$9:$U$1000, \" \")","v":" "},0,null,0,0,0,null,0,0,0,null," "," "," ",{"$f":"COUNTRY_INFO!Y38","v":10680}]
[{"$f":"IF(COUNTRY_INFO!A39=0,\" \",COUNTRY_INFO!A39)","v":"Chad"},{"$f":"IF(COUNTRY_INFO!B39=0,\" \",COUNTRY_INFO!B39)","v":"Guéra"},{"$f":"IF(COUNTRY_INFO!C39=0,\" \",COUNTRY_INFO!C39)","v":"Melfi"},{"$f":"IF(COUNTRY_INFO!$U$9:$U$1000=\"MDA1 (IVM+ALB)\", COUNTRY_INFO!$U$9:$U$1000, \" \")","v":" "},0,null,0,0,0,null,0,0,0,null," "," "," ",{"$f":"COUNTRY_INFO!Y39","v":10681}]
[{"$f":"IF(COUNTRY_INFO!A40=0,\" \",COUNTRY_INFO!A40)","v":"Chad"},{"$f":"IF(COUNTRY_INFO!B40=0,\" \",COUNTRY_INFO!B40)","v":"Guéra"},{"$f":"IF(COUNTRY_INFO!C40=0,\" \",COUNTRY_INFO!C40)","v":"Mongo"},{"$f":"IF(COUNTRY_INFO!$U$9:$U$1000=\"MDA1 (IVM+ALB)\", COUNTRY_INFO!$U$9:$U$1000, \" \")","v":" "},0,null,0,0,0,null,0,0,0,null," "," "," ",{"$f":"COUNTRY_INFO!Y40","v":10682}]
[{"$f":"IF(COUNTRY_INFO!A41=0,\" \",COUNTRY_INFO!A41)","v":"Chad"},{"$f":"IF(COUNTRY_INFO!B41=0,\" \",COUNTRY_INFO!B41)","v":"Hadjer Lamis"},{"$f":"IF(COUNTRY_INFO!C41=0,\" \",COUNTRY_INFO!C41)","v":"Bokoro"},{"$f":"IF(COUNTRY_INFO!$U$9:$U$1000=\"MDA1 (IVM+ALB)\", COUNTRY_INFO!$U$9:$U$1000, \" \")","v":" "},0,null,0,0,0,null,0,0,0,null," "," "," ",{"$f":"COUNTRY_INFO!Y41","v":10683}]
[{"$f":"IF(COUNTRY_INFO!A42=0,\" \",COUNTRY_INFO!A42)","v":"Chad"},{"$f":"IF(COUNTRY_INFO!B42=0,\" \",COUNTRY_INFO!B42)","v":"Hadjer Lamis"},{"$f":"IF(COUNTRY_INFO!C42=0,\" \",COUNTRY_INFO!C42)","v":"Gama"},{"$f":"IF(COUNTRY_INFO!$U$9:$U$1000=\"MDA1 (IVM+ALB)\", COUNTRY_INFO!$U$9:$U$1000, \" \")","v":" "},0,null,0,0,0,null,0,0,0,null," "," "," ",{"$f":"COUNTRY_INFO!Y42","v":10748}]
[{"$f":"IF(COUNTRY_INFO!A43=0,\" \",COUNTRY_INFO!A43)","v":"Chad"},{"$f":"IF(COUNTRY_INFO!B43=0,\" \",COUNTRY_INFO!B43)","v":"Hadjar Lamis"},{"$f":"IF(COUNTRY_INFO!C43=0,\" \",COUNTRY_INFO!C43)","v":"Karal"},{"$f":"IF(COUNTRY_INFO!$U$9:$U$1000=\"MDA1 (IVM+ALB)\", COUNTRY_INFO!$U$9:$U$1000, \" \")","v":" "},null,null,null,null,0,null,null,null,0,null," "," "," ",{"$f":"COUNTRY_INFO!Y43","v":10786}]
[{"$f":"IF(COUNTRY_INFO!A44=0,\" \",COUNTRY_INFO!A44)","v":"Chad"},{"$f":"IF(COUNTRY_INFO!B44=0,\" \",COUNTRY_INFO!B44)","v":"Hadjer Lamis"},{"$f":"IF(COUNTRY_INFO!C44=0,\" \",COUNTRY_INFO!C44)","v":"Mani"},{"$f":"IF(COUNTRY_INFO!$U$9:$U$1000=\"MDA1 (IVM+ALB)\", COUNTRY_INFO!$U$9:$U$1000, \" \")","v":" "},0,null,0,0,0,null,0,0,0,null," "," "," ",{"$f":"COUNTRY_INFO!Y44","v":10684}]
[{"$f":"IF(COUNTRY_INFO!A45=0,\" \",COUNTRY_INFO!A45)","v":"Chad"},{"$f":"IF(COUNTRY_INFO!B45=0,\" \",COUNTRY_INFO!B45)","v":"Hadjer Lamis"},{"$f":"IF(COUNTRY_INFO!C45=0,\" \",COUNTRY_INFO!C45)","v":"Massaguet"},{"$f":"IF(COUNTRY_INFO!$U$9:$U$1000=\"MDA1 (IVM+ALB)\", COUNTRY_INFO!$U$9:$U$1000, \" \")","v":" "},0,null,0,0,0,null,0,0,0,null," "," "," ",{"$f":"COUNTRY_INFO!Y45","v":10685}]
[{"$f":"IF(COUNTRY_INFO!A46=0,\" \",COUNTRY_INFO!A46)","v":"Chad"},{"$f":"IF(COUNTRY_INFO!B46=0,\" \",COUNTRY_INFO!B46)","v":"Hadjer Lamis"},{"$f":"IF(COUNTRY_INFO!C46=0,\" \",COUNTRY_INFO!C46)","v":"Massakory"},{"$f":"IF(COUNTRY_INFO!$U$9:$U$1000=\"MDA1 (IVM+ALB)\", COUNTRY_INFO!$U$9:$U$1000, \" \")","v":" "},0,null,0,0,0,null,0,0,0,null," "," "," ",{"$f":"COUNTRY_INFO!Y46","v":10686}]
[{"$f":"IF(COUNTRY_INFO!A47=0,\" \",COUNTRY_INFO!A47)","v":"Chad"},{"$f":"IF(COUNTRY_INFO!B47=0,\" \",COUNTRY_INFO!B47)","v":"Kanem"},{"$f":"IF(COUNTRY_INFO!C47=0,\" \",COUNTRY_INFO!C47)","v":"Amdoback"},{"$f":"IF(COUNTRY_INFO!$U$9:$U$1000=\"MDA1 (IVM+ALB)\", COUNTRY_INFO!$U$9:$U$1000, \" \")","v":" "},null,null,null,null,0,null,null,null,0,null," "," "," ",{"$f":"COUNTRY_INFO!Y47","v":10787}]
[{"$f":"IF(COUNTRY_INFO!A48=0,\" \",COUNTRY_INFO!A48)","v":"Chad"},{"$f":"IF(COUNTRY_INFO!B48=0,\" \",COUNTRY_INFO!B48)","v":"Kanem"},{"$f":"IF(COUNTRY_INFO!C48=0,\" \",COUNTRY_INFO!C48)","v":"Kekedina"},{"$f":"IF(COUNTRY_INFO!$U$9:$U$1000=\"MDA1 (IVM+ALB)\", COUNTRY_INFO!$U$9:$U$1000, \" \")","v":" "},null,null,null,null,0,null,null,null,0,null," "," "," ",{"$f":"COUNTRY_INFO!Y48","v":10788}]
[{"$f":"IF(COUNTRY_INFO!A49=0,\" \",COUNTRY_INFO!A49)","v":"Chad"},{"$f":"IF(COUNTRY_INFO!B49=0,\" \",COUNTRY_INFO!B49)","v":"Kanem"},{"$f":"IF(COUNTRY_INFO!C49=0,\" \",COUNTRY_INFO!C49)","v":"Mao"},{"$f":"IF(COUNTRY_INFO!$U$9:$U$1000=\"MDA1 (IVM+ALB)\", COUNTRY_INFO!$U$9:$U$1000, \" \")","v":" "},0,null,0,0,0,null,0,0,0,null," "," "," ",{"$f":"COUNTRY_INFO!Y49","v":10687}]
[{"$f":"IF(COUNTRY_INFO!A50=0,\" \",COUNTRY_INFO!A50)","v":"Chad"},{"$f":"IF(COUNTRY_INFO!B50=0,\" \",COUNTRY_INFO!B50)","v":"Kanem"},{"$f":"IF(COUNTRY_INFO!C50=0,\" \",COUNTRY_INFO!C50)","v":"Mondo"},{"$f":"IF(COUNTRY_INFO!$U$9:$U$1000=\"MDA1 (IVM+ALB)\", COUNTRY_INFO!$U$9:$U$1000, \" \")","v":" "},0,null,0,0,0,null,0,0,0,null," "," "," ",{"$f":"COUNTRY_INFO!Y50","v":10688}]
[{"$f":"IF(COUNTRY_INFO!A51=0,\" \",COUNTRY_INFO!A51)","v":"Chad"},{"$f":"IF(COUNTRY_INFO!B51=0,\" \",COUNTRY_INFO!B51)","v":"Kanem"},{"$f":"IF(COUNTRY_INFO!C51=0,\" \",COUNTRY_INFO!C51)","v":"Nokou"},{"$f":"IF(COUNTRY_INFO!$U$9:$U$1000=\"MDA1 (IVM+ALB)\", COUNTRY_INFO!$U$9:$U$1000, \" \")","v":" "},0,null,0,0,0,null,0,0,0,null," "," "," ",{"$f":"COUNTRY_INFO!Y51","v":10689}]
[{"$f":"IF(COUNTRY_INFO!A52=0,\" \",COUNTRY_INFO!A52)","v":"Chad"},{"$f":"IF(COUNTRY_INFO!B52=0,\" \",COUNTRY_INFO!B52)","v":"Kanem"},{"$f":"IF(COUNTRY_INFO!C52=0,\" \",COUNTRY_INFO!C52)","v":"Ntiona"},{"$f":"IF(COUNTRY_INFO!$U$9:$U$1000=\"MDA1 (IVM+ALB)\", COUNTRY_INFO!$U$9:$U$1000, \" \")","v":" "},0,null,0,0,0,null,0,0,0,null," "," "," ",{"$f":"COUNTRY_INFO!Y52","v":10764}]
[{"$f":"IF(COUNTRY_INFO!A53=0,\" \",COUNTRY_INFO!A53)","v":"Chad"},{"$f":"IF(COUNTRY_INFO!B53=0,\" \",COUNTRY_INFO!B53)","v":"Kanem"},{"$f":"IF(COUNTRY_INFO!C53=0,\" \",COUNTRY_INFO!C53)","v":"Rig-Rig"},{"$f":"IF(COUNTRY_INFO!$U$9:$U$1000=\"MDA1 (IVM+ALB)\", COUNTRY_INFO!$U$9:$U$1000, \" \")","v":" "},0,null,0,0,0,null,0,0,0,null," "," "," ",{"$f":"COUNTRY_INFO!Y53","v":10690}]
[{"$f":"IF(COUNTRY_INFO!A54=0,\" \",COUNTRY_INFO!A54)","v":"Chad"},{"$f":"IF(COUNTRY_INFO!B54=0,\" \",COUNTRY_INFO!B54)","v":"Lac"},{"$f":"IF(COUNTRY_INFO!C54=0,\" \",COUNTRY_INFO!C54)","v":"Bagassola"},{"$f":"IF(COUNTRY_INFO!$U$9:$U$1000=\"MDA1 (IVM+ALB)\", COUNTRY_INFO!$U$9:$U$1000, \" \")","v":" "},0,null,0,0,0,null,0,0,0,null," "," "," ",{"$f":"COUNTRY_INFO!Y54","v":10691}]
[{"$f":"IF(COUNTRY_INFO!A55=0,\" \",COUNTRY_INFO!A55)","v":"Chad"},{"$f":"IF(COUNTRY_INFO!B55=0,\" \",COUNTRY_INFO!B55)","v":"Lac"},{"$f":"IF(COUNTRY_INFO!C55=0,\" \",COUNTRY_INFO!C55)","v":"Bol"},{"$f":"IF(COUNTRY_INFO!$U$9:$U$1000=\"MDA1 (IVM+ALB)\", COUNTRY_INFO!$U$9:$U$1000, \" \")","v":" "},0,null,0,0,0,null,0,0,0,null," "," "," ",{"$f":"COUNTRY_INFO!Y55","v":10692}]
[{"$f":"IF(COUNTRY_INFO!A56=0,\" \",COUNTRY_INFO!A56)","v":"Chad"},{"$f":"IF(COUNTRY_INFO!B56=0,\" \",COUNTRY_INFO!B56)","v":"Lac"},{"$f":"IF(COUNTRY_INFO!C56=0,\" \",COUNTRY_INFO!C56)","v":"Isserom"},{"$f":"IF(COUNTRY_INFO!$U$9:$U$1000=\"MDA1 (IVM+ALB)\", COUNTRY_INFO!$U$9:$U$1000, \" \")","v":" "},0,null,0,0,0,null,0,0,0,null," "," "," ",{"$f":"COUNTRY_INFO!Y56","v":10749}]
[{"$f":"IF(COUNTRY_INFO!A57=0,\" \",COUNTRY_INFO!A57)","v":"Chad"},{"$f":"IF(COUNTRY_INFO!B57=0,\" \",COUNTRY_INFO!B57)","v":"Lac"},{"$f":"IF(COUNTRY_INFO!C57=0,\" \",COUNTRY_INFO!C57)","v":"Kouloudia"},{"$f":"IF(COUNTRY_INFO!$U$9:$U$1000=\"MDA1 (IVM+ALB)\", COUNTRY_INFO!$U$9:$U$1000, \" \")","v":" "},0,null,0,0,0,null,0,0,0,null," "," "," ",{"$f":"COUNTRY_INFO!Y57","v":10693}]
[{"$f":"IF(COUNTRY_INFO!A58=0,\" \",COUNTRY_INFO!A58)","v":"Chad"},{"$f":"IF(COUNTRY_INFO!B58=0,\" \",COUNTRY_INFO!B58)","v":"Lac"},{"$f":"IF(COUNTRY_INFO!C58=0,\" \",COUNTRY_INFO!C58)","v":"Liwa"},{"$f":"IF(COUNTRY_INFO!$U$9:$U$1000=\"MDA1 (IVM+ALB)\", COUNTRY_INFO!$U$9:$U$1000, \" \")","v":" "},0,null,0,0,0,null,0,0,0,null," "," "," ",{"$f":"COUNTRY_INFO!Y58","v":10694}]
[{"$f":"IF(COUNTRY_INFO!A59=0,\" \",COUNTRY_INFO!A59)","v":"Chad"},{"$f":"IF(COUNTRY_INFO!B59=0,\" \",COUNTRY_INFO!B59)","v":"Lac"},{"$f":"IF(COUNTRY_INFO!C59=0,\" \",COUNTRY_INFO!C59)","v":"Ngouri"},{"$f":"IF(COUNTRY_INFO!$U$9:$U$1000=\"MDA1 (IVM+ALB)\", COUNTRY_INFO!$U$9:$U$1000, \" \")","v":" "},0,null,0,0,0,null,0,0,0,null," "," "," ",{"$f":"COUNTRY_INFO!Y59","v":10695}]
[{"$f":"IF(COUNTRY_INFO!A60=0,\" \",COUNTRY_INFO!A60)","v":"Chad"},{"$f":"IF(COUNTRY_INFO!B60=0,\" \",COUNTRY_INFO!B60)","v":"Logone Occidental"},{"$f":"IF(COUNTRY_INFO!C60=0,\" \",COUNTRY_INFO!C60)","v":"Benamar"},{"$f":"IF(COUNTRY_INFO!$U$9:$U$1000=\"MDA1 (IVM+ALB)\", COUNTRY_INFO!$U$9:$U$1000, \" \")","v":"MDA1 (IVM+ALB)"},"Fevrier 2022",null,42915,69922,112837,null,41927,68814,110741,null,97.697774670861008,98.415377134521322,98.142453273305748,{"$f":"COUNTRY_INFO!Y60","v":10765},null,{"$f":"COUNTRY_INFO!D60","v":141400},{"$f":"COUNTRY_INFO!E60","v":23331}]
[{"$f":"IF(COUNTRY_INFO!A61=0,\" \",COUNTRY_INFO!A61)","v":"Chad"},{"$f":"IF(COUNTRY_INFO!B61=0,\" \",COUNTRY_INFO!B61)","v":"Logone Occidental"},{"$f":"IF(COUNTRY_INFO!C61=0,\" \",COUNTRY_INFO!C61)","v":"Benoye"},{"$f":"IF(COUNTRY_INFO!$U$9:$U$1000=\"MDA1 (IVM+ALB)\", COUNTRY_INFO!$U$9:$U$1000, \" \")","v":"MDA1 (IVM+ALB)"},"Fevrier 2022",null,81469,128461,209930,null,78235,126447,204682,null,96.030391928218094,98.432208997283226,97.500119087314815,{"$f":"COUNTRY_INFO!Y61","v":10696},null,{"$f":"COUNTRY_INFO!D61","v":257775},{"$f":"COUNTRY_INFO!E61","v":42533}]
[{"$f":"IF(COUNTRY_INFO!A62=0,\" \",COUNTRY_INFO!A62)","v":"Chad"},{"$f":"IF(COUNTRY_INFO!B62=0,\" \",COUNTRY_INFO!B62)","v":"Logone Occidental"},{"$f":"IF(COUNTRY_INFO!C62=0,\" \",COUNTRY_INFO!C62)","v":"Laokassy"},{"$f":"IF(COUNTRY_INFO!$U$9:$U$1000=\"MDA1 (IVM+ALB)\", COUNTRY_INFO!$U$9:$U$1000, \" \")","v":"MDA1 (IVM+ALB)"},"Fevrier 2022",null,63114,104516,167630,null,59642,96036,155678,null,94.498843362803825,91.886409736308323,92.870011334486662,{"$f":"COUNTRY_INFO!Y62","v":10697},null,{"$f":"COUNTRY_INFO!D62","v":204860},{"$f":"COUNTRY_INFO!E62","v":33802}]
[{"$f":"IF(COUNTRY_INFO!A63=0,\" \",COUNTRY_INFO!A63)","v":"Chad"},{"$f":"IF(COUNTRY_INFO!B63=0,\" \",COUNTRY_INFO!B63)","v":"Logone Occidental"},{"$f":"IF(COUNTRY_INFO!C63=0,\" \",COUNTRY_INFO!C63)","v":"Moundou"},{"$f":"IF(COUNTRY_INFO!$U$9:$U$1000=\"MDA1 (IVM+ALB)\", COUNTRY_INFO!$U$9:$U$1000, \" \")","v":"MDA1 (IVM+ALB)"},"Fevrier 2022",null,108612,173648,282260,null,107884,164123,272007,null,99.329724155710224,94.514765502625991,96.367533479770429,{"$f":"COUNTRY_INFO!Y63","v":10698},null,{"$f":"COUNTRY_INFO!D63","v":342222},{"$f":"COUNTRY_INFO!E63","v":56467}]
[{"$f":"IF(COUNTRY_INFO!A64=0,\" \",COUNTRY_INFO!A64)","v":"Chad"},{"$f":"IF(COUNTRY_INFO!B64=0,\" \",COUNTRY_INFO!B64)","v":"Logone Orientlal"},{"$f":"IF(COUNTRY_INFO!C64=0,\" \",COUNTRY_INFO!C64)","v":"Baibokoum"},{"$f":"IF(COUNTRY_INFO!$U$9:$U$1000=\"MDA1 (IVM+ALB)\", COUNTRY_INFO!$U$9:$U$1000, \" \")","v":"MDA1 (IVM+ALB)"},"Fevrier 2022",null,23502,51862,75364,null,22531,50862,73393,null,95.868436728789035,98.071805946550455,97.384692956849435,{"$f":"COUNTRY_INFO!Y64","v":10766},null,{"$f":"COUNTRY_INFO!D64","v":90514},{"$f":"COUNTRY_INFO!E64","v":14935}]
[{"$f":"IF(COUNTRY_INFO!A65=0,\" \",COUNTRY_INFO!A65)","v":"Chad"},{"$f":"IF(COUNTRY_INFO!B65=0,\" \",COUNTRY_INFO!B65)","v":"Logone Orientlal"},{"$f":"IF(COUNTRY_INFO!C65=0,\" \",COUNTRY_INFO!C65)","v":"Bebedja"},{"$f":"IF(COUNTRY_INFO!$U$9:$U$1000=\"MDA1 (IVM+ALB)\", COUNTRY_INFO!$U$9:$U$1000, \" \")","v":"MDA1 (IVM+ALB)"},"Fevrier 2022",null,58660,102354,161014,null,56156,101224,157380,null,95.731333106034782,98.895988432303568,97.743053399083308,{"$f":"COUNTRY_INFO!Y65","v":10699},null,{"$f":"COUNTRY_INFO!D65","v":189395},{"$f":"COUNTRY_INFO!E65","v":31250}]
[{"$f":"IF(COUNTRY_INFO!A66=0,\" \",COUNTRY_INFO!A66)","v":"Chad"},{"$f":"IF(COUNTRY_INFO!B66=0,\" \",COUNTRY_INFO!B66)","v":"Logone Orientlal"},{"$f":"IF(COUNTRY_INFO!C66=0,\" \",COUNTRY_INFO!C66)","v":"Beboto"},{"$f":"IF(COUNTRY_INFO!$U$9:$U$1000=\"MDA1 (IVM+ALB)\", COUNTRY_INFO!$U$9:$U$1000, \" \")","v":"MDA1 (IVM+ALB)"},"Fevrier 2022",null,32418,52843,85261,null,30441,50662,81103,null,93.901536183601706,95.872679446662758,95.12320990839892,{"$f":"COUNTRY_INFO!Y66","v":10700},null,{"$f":"COUNTRY_INFO!D66","v":103640},{"$f":"COUNTRY_INFO!E66","v":17101}]
[{"$f":"IF(COUNTRY_INFO!A67=0,\" \",COUNTRY_INFO!A67)","v":"Chad"},{"$f":"IF(COUNTRY_INFO!B67=0,\" \",COUNTRY_INFO!B67)","v":"Logone Orientlal"},{"$f":"IF(COUNTRY_INFO!C67=0,\" \",COUNTRY_INFO!C67)","v":"Bessao"},{"$f":"IF(COUNTRY_INFO!$U$9:$U$1000=\"MDA1 (IVM+ALB)\", COUNTRY_INFO!$U$9:$U$1000, \" \")","v":"MDA1 (IVM+ALB)"},"Fevrier 2022",null,57294,92133,149427,null,55518,89647,145165,null,96.900198973714524,97.301726851399607,97.147771152469105,{"$f":"COUNTRY_INFO!Y67","v":10701},null,{"$f":"COUNTRY_INFO!D67","v":182938},{"$f":"COUNTRY_INFO!E67","v":30185}]
[{"$f":"IF(COUNTRY_INFO!A68=0,\" \",COUNTRY_INFO!A68)","v":"Chad"},{"$f":"IF(COUNTRY_INFO!B68=0,\" \",COUNTRY_INFO!B68)","v":"Logone Orientlal"},{"$f":"IF(COUNTRY_INFO!C68=0,\" \",COUNTRY_INFO!C68)","v":"Bodo"},{"$f":"IF(COUNTRY_INFO!$U$9:$U$1000=\"MDA1 (IVM+ALB)\", COUNTRY_INFO!$U$9:$U$1000, \" \")","v":"MDA1 (IVM+ALB)"},"Fevrier 2022",null,48022,78914,126936,null,46257,77116,123373,null,96.324601224438794,97.721570317054002,97.193073674922786,{"$f":"COUNTRY_INFO!Y68","v":10702},null,{"$f":"COUNTRY_INFO!D68","v":157517},{"$f":"COUNTRY_INFO!E68","v":25990}]
[{"$f":"IF(COUNTRY_INFO!A69=0,\" \",COUNTRY_INFO!A69)","v":"Chad"},{"$f":"IF(COUNTRY_INFO!B69=0,\" \",COUNTRY_INFO!B69)","v":"Logone Orientlal"},{"$f":"IF(COUNTRY_INFO!C69=0,\" \",COUNTRY_INFO!C69)","v":"Doba"},{"$f":"IF(COUNTRY_INFO!$U$9:$U$1000=\"MDA1 (IVM+ALB)\", COUNTRY_INFO!$U$9:$U$1000, \" \")","v":"MDA1 (IVM+ALB)"},"Fevrier 2022",null,69829,113775,183604,null,68241,91532,159773,null,97.725873204542523,80.450010986596354,87.020435284634317,{"$f":"COUNTRY_INFO!Y69","v":10703},null,{"$f":"COUNTRY_INFO!D69","v":230080},{"$f":"COUNTRY_INFO!E69","v":37963}]
[{"$f":"IF(COUNTRY_INFO!A70=0,\" \",COUNTRY_INFO!A70)","v":"Chad"},{"$f":"IF(COUNTRY_INFO!B70=0,\" \",COUNTRY_INFO!B70)","v":"Logone Orientlal"},{"$f":"IF(COUNTRY_INFO!C70=0,\" \",COUNTRY_INFO!C70)","v":"DONIA"},{"$f":"IF(COUNTRY_INFO!$U$9:$U$1000=\"MDA1 (IVM+ALB)\", COUNTRY_INFO!$U$9:$U$1000, \" \")","v":"MDA1 (IVM+ALB)"},"Fevrier 2022",null,27641,51459,79100,null,26796,51712,78508,null,96.942947071379464,100.49165354942771,99.251580278128955,{"$f":"COUNTRY_INFO!Y70","v":10767},null,{"$f":"COUNTRY_INFO!D70","v":88245},{"$f":"COUNTRY_INFO!E70","v":14560}]
[{"$f":"IF(COUNTRY_INFO!A71=0,\" \",COUNTRY_INFO!A71)","v":"Chad"},{"$f":"IF(COUNTRY_INFO!B71=0,\" \",COUNTRY_INFO!B71)","v":"Logone Orientlal"},{"$f":"IF(COUNTRY_INFO!C71=0,\" \",COUNTRY_INFO!C71)","v":"Goré"},{"$f":"IF(COUNTRY_INFO!$U$9:$U$1000=\"MDA1 (IVM+ALB)\", COUNTRY_INFO!$U$9:$U$1000, \" \")","v":"MDA1 (IVM+ALB)"},"Fevrier 2022",null,52331,84121,136452,null,51226,83226,134452,null,97.888440885899371,98.936056394954889,98.53428311787296,{"$f":"COUNTRY_INFO!Y71","v":10704},null,{"$f":"COUNTRY_INFO!D71","v":169285},{"$f":"COUNTRY_INFO!E71","v":27932}]
[{"$f":"IF(COUNTRY_INFO!A72=0,\" \",COUNTRY_INFO!A72)","v":"Chad"},{"$f":"IF(COUNTRY_INFO!B72=0,\" \",COUNTRY_INFO!B72)","v":"Logone Orientlal"},{"$f":"IF(COUNTRY_INFO!C72=0,\" \",COUNTRY_INFO!C72)","v":"Kara"},{"$f":"IF(COUNTRY_INFO!$U$9:$U$1000=\"MDA1 (IVM+ALB)\", COUNTRY_INFO!$U$9:$U$1000, \" \")","v":"MDA1 (IVM+ALB)"},"Fevrier 2022",null,19956,32515,52471,null,18712,30182,48894,null,93.766285828823413,92.824850069198831,93.182901031045716,{"$f":"COUNTRY_INFO!Y72","v":10768},null,{"$f":"COUNTRY_INFO!D72","v":65754},{"$f":"COUNTRY_INFO!E72","v":10849}]
[{"$f":"IF(COUNTRY_INFO!A73=0,\" \",COUNTRY_INFO!A73)","v":"Chad"},{"$f":"IF(COUNTRY_INFO!B73=0,\" \",COUNTRY_INFO!B73)","v":"Logone Orientlal"},{"$f":"IF(COUNTRY_INFO!C73=0,\" \",COUNTRY_INFO!C73)","v":"Larmanaye"},{"$f":"IF(COUNTRY_INFO!$U$9:$U$1000=\"MDA1 (IVM+ALB)\", COUNTRY_INFO!$U$9:$U$1000, \" \")","v":"MDA1 (IVM+ALB)"},"Fevrier 2022",null,25608,57016,82624,null,20707,56516,77223,null,80.861449547016562,99.123053178055287,93.463158404337719,{"$f":"COUNTRY_INFO!Y73","v":10705},null,{"$f":"COUNTRY_INFO!D73","v":84376},{"$f":"COUNTRY_INFO!E73","v":13922}]
[{"$f":"IF(COUNTRY_INFO!A74=0,\" \",COUNTRY_INFO!A74)","v":"Chad"},{"$f":"IF(COUNTRY_INFO!B74=0,\" \",COUNTRY_INFO!B74)","v":"Mandoul"},{"$f":"IF(COUNTRY_INFO!C74=0,\" \",COUNTRY_INFO!C74)","v":"Bedaya"},{"$f":"IF(COUNTRY_INFO!$U$9:$U$1000=\"MDA1 (IVM+ALB)\", COUNTRY_INFO!$U$9:$U$1000, \" \")","v":"MDA1 (IVM+ALB)"},"Fevrier 2022",null,null,null,{"$f":"SUM(F74:H74)","v":0},null,32568,52289,{"$f":"SUM(J74:L74)","v":84857},null,{"$f":"IF(G74<>0, IF(K74/G74*100=0, \"-\", K74/G74*100), \" \")","v":" "},{"$f":"IF(H74<>0, IF(L74/H74*100=0, \"-\", L74/H74*100), \" \")","v":" "},{"$f":"IF(I74<>0, IF(M74/I74*100=0, \"-\", M74/I74*100), \" \")","v":" "},{"$f":"COUNTRY_INFO!Y74","v":10769},null,{"$f":"COUNTRY_INFO!D74","v":109137},{"$f":"COUNTRY_INFO!E74","v":18008}]
[{"$f":"IF(COUNTRY_INFO!A75=0,\" \",COUNTRY_INFO!A75)","v":"Chad"},{"$f":"IF(COUNTRY_INFO!B75=0,\" \",COUNTRY_INFO!B75)","v":"Mandoul"},{"$f":"IF(COUNTRY_INFO!C75=0,\" \",COUNTRY_INFO!C75)","v":"Bedjondo"},{"$f":"IF(COUNTRY_INFO!$U$9:$U$1000=\"MDA1 (IVM+ALB)\", COUNTRY_INFO!$U$9:$U$1000, \" \")","v":" "},0,null,0,0,0,null,0,0,0,null," "," "," ",{"$f":"COUNTRY_INFO!Y75","v":10706}]
[{"$f":"IF(COUNTRY_INFO!A76=0,\" \",COUNTRY_INFO!A76)","v":"Chad"},{"$f":"IF(COUNTRY_INFO!B76=0,\" \",COUNTRY_INFO!B76)","v":"Mandoul"},{"$f":"IF(COUNTRY_INFO!C76=0,\" \",COUNTRY_INFO!C76)","v":"Bekourou"},{"$f":"IF(COUNTRY_INFO!$U$9:$U$1000=\"MDA1 (IVM+ALB)\", COUNTRY_INFO!$U$9:$U$1000, \" \")","v":" "},0,null,0,0,0,null,0,0,0,null," "," "," ",{"$f":"COUNTRY_INFO!Y76","v":10770}]
[{"$f":"IF(COUNTRY_INFO!A77=0,\" \",COUNTRY_INFO!A77)","v":"Chad"},{"$f":"IF(COUNTRY_INFO!B77=0,\" \",COUNTRY_INFO!B77)","v":"Mandoul"},{"$f":"IF(COUNTRY_INFO!C77=0,\" \",COUNTRY_INFO!C77)","v":"Bouna"},{"$f":"IF(COUNTRY_INFO!$U$9:$U$1000=\"MDA1 (IVM+ALB)\", COUNTRY_INFO!$U$9:$U$1000, \" \")","v":" "},0,null,0,0,0,null,0,0,0,null," "," "," ",{"$f":"COUNTRY_INFO!Y77","v":10707}]
[{"$f":"IF(COUNTRY_INFO!A78=0,\" \",COUNTRY_INFO!A78)","v":"Chad"},{"$f":"IF(COUNTRY_INFO!B78=0,\" \",COUNTRY_INFO!B78)","v":"Mandoul"},{"$f":"IF(COUNTRY_INFO!C78=0,\" \",COUNTRY_INFO!C78)","v":"Goundi"},{"$f":"IF(COUNTRY_INFO!$U$9:$U$1000=\"MDA1 (IVM+ALB)\", COUNTRY_INFO!$U$9:$U$1000, \" \")","v":" "},0,null,0,0,0,null,0,0,0,null," "," "," ",{"$f":"COUNTRY_INFO!Y78","v":10708}]
[{"$f":"IF(COUNTRY_INFO!A79=0,\" \",COUNTRY_INFO!A79)","v":"Chad"},{"$f":"IF(COUNTRY_INFO!B79=0,\" \",COUNTRY_INFO!B79)","v":"Mandoul"},{"$f":"IF(COUNTRY_INFO!C79=0,\" \",COUNTRY_INFO!C79)","v":"Koumra"},{"$f":"IF(COUNTRY_INFO!$U$9:$U$1000=\"MDA1 (IVM+ALB)\", COUNTRY_INFO!$U$9:$U$1000, \" \")","v":"MDA1 (IVM+ALB)"},"Fevrier 2022",null,74792,121861,196653,null,72166,119545,191711,null,96.488929297251048,98.099473990858428,97.486944007973435,{"$f":"COUNTRY_INFO!Y79","v":10709},null,{"$f":"COUNTRY_INFO!D79","v":246432},{"$f":"M79-T79","v":-54721},{"$f":"U79/T79*100","v":-22.20531424490326}]
[{"$f":"IF(COUNTRY_INFO!A80=0,\" \",COUNTRY_INFO!A80)","v":"Chad"},{"$f":"IF(COUNTRY_INFO!B80=0,\" \",COUNTRY_INFO!B80)","v":"Mandoul"},{"$f":"IF(COUNTRY_INFO!C80=0,\" \",COUNTRY_INFO!C80)","v":"Moissala"},{"$f":"IF(COUNTRY_INFO!$U$9:$U$1000=\"MDA1 (IVM+ALB)\", COUNTRY_INFO!$U$9:$U$1000, \" \")","v":" "},0,null,0,0,0,null,0,0,0,null," "," "," ",{"$f":"COUNTRY_INFO!Y80","v":10710}]
[{"$f":"IF(COUNTRY_INFO!A81=0,\" \",COUNTRY_INFO!A81)","v":"Chad"},{"$f":"IF(COUNTRY_INFO!B81=0,\" \",COUNTRY_INFO!B81)","v":"Mayo Kebbi Est"},{"$f":"IF(COUNTRY_INFO!C81=0,\" \",COUNTRY_INFO!C81)","v":"Bongor"},{"$f":"IF(COUNTRY_INFO!$U$9:$U$1000=\"MDA1 (IVM+ALB)\", COUNTRY_INFO!$U$9:$U$1000, \" \")","v":" "},0,null,0,0,0,null,0,0,0,null," "," "," ",{"$f":"COUNTRY_INFO!Y81","v":10753}]
[{"$f":"IF(COUNTRY_INFO!A82=0,\" \",COUNTRY_INFO!A82)","v":"Chad"},{"$f":"IF(COUNTRY_INFO!B82=0,\" \",COUNTRY_INFO!B82)","v":"Mayo Kebbi Est"},{"$f":"IF(COUNTRY_INFO!C82=0,\" \",COUNTRY_INFO!C82)","v":"Fianga"},{"$f":"IF(COUNTRY_INFO!$U$9:$U$1000=\"MDA1 (IVM+ALB)\", COUNTRY_INFO!$U$9:$U$1000, \" \")","v":" "},0,null,0,0,0,null,0,0,0,null," "," "," ",{"$f":"COUNTRY_INFO!Y82","v":10712}]
[{"$f":"IF(COUNTRY_INFO!A83=0,\" \",COUNTRY_INFO!A83)","v":"Chad"},{"$f":"IF(COUNTRY_INFO!B83=0,\" \",COUNTRY_INFO!B83)","v":"Mayo Kebbi Est"},{"$f":"IF(COUNTRY_INFO!C83=0,\" \",COUNTRY_INFO!C83)","v":"Gounou Gaya"},{"$f":"IF(COUNTRY_INFO!$U$9:$U$1000=\"MDA1 (IVM+ALB)\", COUNTRY_INFO!$U$9:$U$1000, \" \")","v":" "},0,null,0,0,0,null,0,0,0,null," "," "," ",{"$f":"COUNTRY_INFO!Y83","v":10713}]
[{"$f":"IF(COUNTRY_INFO!A84=0,\" \",COUNTRY_INFO!A84)","v":"Chad"},{"$f":"IF(COUNTRY_INFO!B84=0,\" \",COUNTRY_INFO!B84)","v":"Mayo Kebbi Est"},{"$f":"IF(COUNTRY_INFO!C84=0,\" \",COUNTRY_INFO!C84)","v":"Guelinding"},{"$f":"IF(COUNTRY_INFO!$U$9:$U$1000=\"MDA1 (IVM+ALB)\", COUNTRY_INFO!$U$9:$U$1000, \" \")","v":"MDA1 (IVM+ALB)"},"Fevrier 2022",null,28912,46253,75165,null,27121,45221,72342,null,93.805340343110117,97.768793375564826,96.244262622231091,{"$f":"COUNTRY_INFO!Y84","v":10714},null,{"$f":"COUNTRY_INFO!D84","v":91501},{"$f":"M84-T84","v":-19159},{"$f":"U84/T84*100","v":-20.938568977388226}]
[{"$f":"IF(COUNTRY_INFO!A85=0,\" \",COUNTRY_INFO!A85)","v":"Chad"},{"$f":"IF(COUNTRY_INFO!B85=0,\" \",COUNTRY_INFO!B85)","v":"Mayo Kebbi Est"},{"$f":"IF(COUNTRY_INFO!C85=0,\" \",COUNTRY_INFO!C85)","v":"Moulkou"},{"$f":"IF(COUNTRY_INFO!$U$9:$U$1000=\"MDA1 (IVM+ALB)\", COUNTRY_INFO!$U$9:$U$1000, \" \")","v":"MDA1 (IVM+ALB)"},"Fevrier 2022",null,38698,63052,101750,null,37687,61227,98914,null,97.387461884335096,97.105563661739509,97.212776412776407,{"$f":"COUNTRY_INFO!Y85","v":10750},null,{"$f":"COUNTRY_INFO!D85","v":127507},-28593,-22.424651195620633]
[{"$f":"IF(COUNTRY_INFO!A86=0,\" \",COUNTRY_INFO!A86)","v":"Chad"},{"$f":"IF(COUNTRY_INFO!B86=0,\" \",COUNTRY_INFO!B86)","v":"Mayo Kebbi Est"},{"$f":"IF(COUNTRY_INFO!C86=0,\" \",COUNTRY_INFO!C86)","v":"Pont Carol"},{"$f":"IF(COUNTRY_INFO!$U$9:$U$1000=\"MDA1 (IVM+ALB)\", COUNTRY_INFO!$U$9:$U$1000, \" \")","v":" "},0,null,0,0,0,null,0,0,0,null," "," "," ",{"$f":"COUNTRY_INFO!Y86","v":10751}]
[{"$f":"IF(COUNTRY_INFO!A87=0,\" \",COUNTRY_INFO!A87)","v":"Chad"},{"$f":"IF(COUNTRY_INFO!B87=0,\" \",COUNTRY_INFO!B87)","v":"Mayo Kebbi Est"},{"$f":"IF(COUNTRY_INFO!C87=0,\" \",COUNTRY_INFO!C87)","v":"Youé"},{"$f":"IF(COUNTRY_INFO!$U$9:$U$1000=\"MDA1 (IVM+ALB)\", COUNTRY_INFO!$U$9:$U$1000, \" \")","v":" "},0,null,0,0,0,null,0,0,0,null," "," "," ",{"$f":"COUNTRY_INFO!Y87","v":10752}]
[{"$f":"IF(COUNTRY_INFO!A88=0,\" \",COUNTRY_INFO!A88)","v":"Chad"},{"$f":"IF(COUNTRY_INFO!B88=0,\" \",COUNTRY_INFO!B88)","v":"Mayo Kebbi Ouest"},{"$f":"IF(COUNTRY_INFO!C88=0,\" \",COUNTRY_INFO!C88)","v":"Binder"},{"$f":"IF(COUNTRY_INFO!$U$9:$U$1000=\"MDA1 (IVM+ALB)\", COUNTRY_INFO!$U$9:$U$1000, \" \")","v":" "},0,null,0,0,0,null,0,0,0,null," "," "," ",{"$f":"COUNTRY_INFO!Y88","v":10754}]
[{"$f":"IF(COUNTRY_INFO!A89=0,\" \",COUNTRY_INFO!A89)","v":"Chad"},{"$f":"IF(COUNTRY_INFO!B89=0,\" \",COUNTRY_INFO!B89)","v":"Mayo Kebbi Ouest"},{"$f":"IF(COUNTRY_INFO!C89=0,\" \",COUNTRY_INFO!C89)","v":"Gagal"},{"$f":"IF(COUNTRY_INFO!$U$9:$U$1000=\"MDA1 (IVM+ALB)\", COUNTRY_INFO!$U$9:$U$1000, \" \")","v":" "},0,null,0,0,0,null,0,0,0,null," "," "," ",{"$f":"COUNTRY_INFO!Y89","v":10755}]
[{"$f":"IF(COUNTRY_INFO!A90=0,\" \",COUNTRY_INFO!A90)","v":"Chad"},{"$f":"IF(COUNTRY_INFO!B90=0,\" \",COUNTRY_INFO!B90)","v":"Mayo Kebbi Ouest"},{"$f":"IF(COUNTRY_INFO!C90=0,\" \",COUNTRY_INFO!C90)","v":"Guegou"},{"$f":"IF(COUNTRY_INFO!$U$9:$U$1000=\"MDA1 (IVM+ALB)\", COUNTRY_INFO!$U$9:$U$1000, \" \")","v":" "},0,null,0,0,0,null,0,0,0,null," "," "," ",{"$f":"COUNTRY_INFO!Y90","v":10771}]
[{"$f":"IF(COUNTRY_INFO!A91=0,\" \",COUNTRY_INFO!A91)","v":"Chad"},{"$f":"IF(COUNTRY_INFO!B91=0,\" \",COUNTRY_INFO!B91)","v":"Mayo Kebbi Ouest"},{"$f":"IF(COUNTRY_INFO!C91=0,\" \",COUNTRY_INFO!C91)","v":"GUELO"},{"$f":"IF(COUNTRY_INFO!$U$9:$U$1000=\"MDA1 (IVM+ALB)\", COUNTRY_INFO!$U$9:$U$1000, \" \")","v":" "},0,null,0,0,0,null,0,0,0,null," "," "," ",{"$f":"COUNTRY_INFO!Y91","v":10772}]
[{"$f":"IF(COUNTRY_INFO!A92=0,\" \",COUNTRY_INFO!A92)","v":"Chad"},{"$f":"IF(COUNTRY_INFO!B92=0,\" \",COUNTRY_INFO!B92)","v":"Mayo Kebbi Ouest"},{"$f":"IF(COUNTRY_INFO!C92=0,\" \",COUNTRY_INFO!C92)","v":"Lagon"},{"$f":"IF(COUNTRY_INFO!$U$9:$U$1000=\"MDA1 (IVM+ALB)\", COUNTRY_INFO!$U$9:$U$1000, \" \")","v":" "},0,null,0,0,0,null,0,0,0,null," "," "," ",{"$f":"COUNTRY_INFO!Y92","v":10756}]
[{"$f":"IF(COUNTRY_INFO!A93=0,\" \",COUNTRY_INFO!A93)","v":"Chad"},{"$f":"IF(COUNTRY_INFO!B93=0,\" \",COUNTRY_INFO!B93)","v":"Mayo Kebbi Ouest"},{"$f":"IF(COUNTRY_INFO!C93=0,\" \",COUNTRY_INFO!C93)","v":"Lamé"},{"$f":"IF(COUNTRY_INFO!$U$9:$U$1000=\"MDA1 (IVM+ALB)\", COUNTRY_INFO!$U$9:$U$1000, \" \")","v":" "},0,null,0,0,0,null,0,0,0,null," "," "," ",{"$f":"COUNTRY_INFO!Y93","v":10757}]
[{"$f":"IF(COUNTRY_INFO!A94=0,\" \",COUNTRY_INFO!A94)","v":"Chad"},{"$f":"IF(COUNTRY_INFO!B94=0,\" \",COUNTRY_INFO!B94)","v":"Mayo Kebbi Ouest"},{"$f":"IF(COUNTRY_INFO!C94=0,\" \",COUNTRY_INFO!C94)","v":"Lere"},{"$f":"IF(COUNTRY_INFO!$U$9:$U$1000=\"MDA1 (IVM+ALB)\", COUNTRY_INFO!$U$9:$U$1000, \" \")","v":" "},0,null,0,0,0,null,0,0,0,null," "," "," ",{"$f":"COUNTRY_INFO!Y94","v":10715}]
[{"$f":"IF(COUNTRY_INFO!A95=0,\" \",COUNTRY_INFO!A95)","v":"Chad"},{"$f":"IF(COUNTRY_INFO!B95=0,\" \",COUNTRY_INFO!B95)","v":"Mayo Kebbi Ouest"},{"$f":"IF(COUNTRY_INFO!C95=0,\" \",COUNTRY_INFO!C95)","v":"Pala"},{"$f":"IF(COUNTRY_INFO!$U$9:$U$1000=\"MDA1 (IVM+ALB)\", COUNTRY_INFO!$U$9:$U$1000, \" \")","v":" "},0,null,0,0,0,null,0,0,0,null," "," "," ",{"$f":"COUNTRY_INFO!Y95","v":10716}]
[{"$f":"IF(COUNTRY_INFO!A96=0,\" \",COUNTRY_INFO!A96)","v":"Chad"},{"$f":"IF(COUNTRY_INFO!B96=0,\" \",COUNTRY_INFO!B96)","v":"Mayo Kebbi Ouest"},{"$f":"IF(COUNTRY_INFO!C96=0,\" \",COUNTRY_INFO!C96)","v":"Torrock"},{"$f":"IF(COUNTRY_INFO!$U$9:$U$1000=\"MDA1 (IVM+ALB)\", COUNTRY_INFO!$U$9:$U$1000, \" \")","v":" "},0,null,0,0,0,null,0,0,0,null," "," "," ",{"$f":"COUNTRY_INFO!Y96","v":10758}]
[{"$f":"IF(COUNTRY_INFO!A97=0,\" \",COUNTRY_INFO!A97)","v":"Chad"},{"$f":"IF(COUNTRY_INFO!B97=0,\" \",COUNTRY_INFO!B97)","v":"Moyen Chari"},{"$f":"IF(COUNTRY_INFO!C97=0,\" \",COUNTRY_INFO!C97)","v":"Balimba"},{"$f":"IF(COUNTRY_INFO!$U$9:$U$1000=\"MDA1 (IVM+ALB)\", COUNTRY_INFO!$U$9:$U$1000, \" \")","v":"MDA1 (IVM+ALB)"},"Fevrier 2022",null,26113,43001,69114,null,25144,41623,66767,null,96.28920461073028,96.795423362247391,96.604161240848455,{"$f":"COUNTRY_INFO!Y97","v":10780},null,{"$f":"COUNTRY_INFO!D97","v":85188},{"$f":"M97-T97","v":-18421},{"$f":"U97/T97*100","v":-21.623937643799596}]
[{"$f":"IF(COUNTRY_INFO!A98=0,\" \",COUNTRY_INFO!A98)","v":"Chad"},{"$f":"IF(COUNTRY_INFO!B98=0,\" \",COUNTRY_INFO!B98)","v":"Moyen Chari"},{"$f":"IF(COUNTRY_INFO!C98=0,\" \",COUNTRY_INFO!C98)","v":"Biobe Singako"},{"$f":"IF(COUNTRY_INFO!$U$9:$U$1000=\"MDA1 (IVM+ALB)\", COUNTRY_INFO!$U$9:$U$1000, \" \")","v":"MDA1 (IVM+ALB)"},"Fevrier 2022",null,27910,45475,73385,null,27769,43945,71714,null,99.49480472948764,96.635514018691595,97.722967908973217,{"$f":"COUNTRY_INFO!Y98","v":10717},null,{"$f":"COUNTRY_INFO!D98","v":91962},-20248,-22.017789956721252]
[{"$f":"IF(COUNTRY_INFO!A99=0,\" \",COUNTRY_INFO!A99)","v":"Chad"},{"$f":"IF(COUNTRY_INFO!B99=0,\" \",COUNTRY_INFO!B99)","v":"Moyen Chari"},{"$f":"IF(COUNTRY_INFO!C99=0,\" \",COUNTRY_INFO!C99)","v":"Danamadji"},{"$f":"IF(COUNTRY_INFO!$U$9:$U$1000=\"MDA1 (IVM+ALB)\", COUNTRY_INFO!$U$9:$U$1000, \" \")","v":"MDA1 (IVM+ALB)"},"Fevrier 2022",null,61223,99752,160975,null,52230,89036,141266,null,85.311075902846966,89.257358248456171,87.756483926075475,{"$f":"COUNTRY_INFO!Y99","v":10718},null,{"$f":"COUNTRY_INFO!D99","v":201723},-60457,-29.970305815400327]
[{"$f":"IF(COUNTRY_INFO!A100=0,\" \",COUNTRY_INFO!A100)","v":"Chad"},{"$f":"IF(COUNTRY_INFO!B100=0,\" \",COUNTRY_INFO!B100)","v":"Moyen Chari"},{"$f":"IF(COUNTRY_INFO!C100=0,\" \",COUNTRY_INFO!C100)","v":"Korbol"},{"$f":"IF(COUNTRY_INFO!$U$9:$U$1000=\"MDA1 (IVM+ALB)\", COUNTRY_INFO!$U$9:$U$1000, \" \")","v":"MDA1 (IVM+ALB)"},"Fevrier 2022",null,46071,75065,121136,null,43161,72650,115811,null,93.683662173601618,96.782788250183174,95.60411438383305,{"$f":"COUNTRY_INFO!Y100","v":10773},null,{"$f":"COUNTRY_INFO!D100","v":151799},-35988,-23.707666058406183]
[{"$f":"IF(COUNTRY_INFO!A101=0,\" \",COUNTRY_INFO!A101)","v":"Chad"},{"$f":"IF(COUNTRY_INFO!B101=0,\" \",COUNTRY_INFO!B101)","v":"Moyen Chari"},{"$f":"IF(COUNTRY_INFO!C101=0,\" \",COUNTRY_INFO!C101)","v":"Koumogo"},{"$f":"IF(COUNTRY_INFO!$U$9:$U$1000=\"MDA1 (IVM+ALB)\", COUNTRY_INFO!$U$9:$U$1000, \" \")","v":"MDA1 (IVM+ALB)"},"Fevrier 2022",null,33102,54331,87433,null,32009,53812,85821,null,96.698084707872638,99.044744252820678,98.156302540230797,{"$f":"COUNTRY_INFO!Y101","v":10781},null,{"$f":"COUNTRY_INFO!D101","v":107813},-21992,-20.398282210865109]
[{"$f":"IF(COUNTRY_INFO!A102=0,\" \",COUNTRY_INFO!A102)","v":"Chad"},{"$f":"IF(COUNTRY_INFO!B102=0,\" \",COUNTRY_INFO!B102)","v":"Moyen Chari"},{"$f":"IF(COUNTRY_INFO!C102=0,\" \",COUNTRY_INFO!C102)","v":"Kyabe"},{"$f":"IF(COUNTRY_INFO!$U$9:$U$1000=\"MDA1 (IVM+ALB)\", COUNTRY_INFO!$U$9:$U$1000, \" \")","v":"MDA1 (IVM+ALB)"},"Fevrier 2022",null,38917,62008,100925,null,37416,60478,97894,null,96.143073720995957,97.532576441749455,96.996779786970521,{"$f":"COUNTRY_INFO!Y102","v":10719},null,{"$f":"COUNTRY_INFO!D102","v":124364},-26470,-21.284294490366985]
[{"$f":"IF(COUNTRY_INFO!A103=0,\" \",COUNTRY_INFO!A103)","v":"Chad"},{"$f":"IF(COUNTRY_INFO!B103=0,\" \",COUNTRY_INFO!B103)","v":"Moyen Chari"},{"$f":"IF(COUNTRY_INFO!C103=0,\" \",COUNTRY_INFO!C103)","v":"Maro"},{"$f":"IF(COUNTRY_INFO!$U$9:$U$1000=\"MDA1 (IVM+ALB)\", COUNTRY_INFO!$U$9:$U$1000, \" \")","v":"MDA1 (IVM+ALB)"},"Fevrier 2022",null,81181,132270,213451,null,78444,129448,207892,null,96.628521452063907,97.866485219626526,97.395655208923827,{"$f":"COUNTRY_INFO!Y103","v":10774},null,{"$f":"COUNTRY_INFO!D103","v":267483},-59591,-22.278425170945443]
[{"$f":"IF(COUNTRY_INFO!A104=0,\" \",COUNTRY_INFO!A104)","v":"Chad"},{"$f":"IF(COUNTRY_INFO!B104=0,\" \",COUNTRY_INFO!B104)","v":"Moyen Chari"},{"$f":"IF(COUNTRY_INFO!C104=0,\" \",COUNTRY_INFO!C104)","v":"Sarh"},{"$f":"IF(COUNTRY_INFO!$U$9:$U$1000=\"MDA1 (IVM+ALB)\", COUNTRY_INFO!$U$9:$U$1000, \" \")","v":"MDA1 (IVM+ALB)"},"Fevrier 2022",null,61973,100975,162948,null,57361,96762,154123,null,92.558049473157666,95.8276801188413,94.584161818494238,{"$f":"COUNTRY_INFO!Y104","v":10720},null,{"$f":"COUNTRY_INFO!D104","v":204196},-50073,-24.52202785558973]
[{"$f":"IF(COUNTRY_INFO!A105=0,\" \",COUNTRY_INFO!A105)","v":"Chad"},{"$f":"IF(COUNTRY_INFO!B105=0,\" \",COUNTRY_INFO!B105)","v":"N'Djaména"},{"$f":"IF(COUNTRY_INFO!C105=0,\" \",COUNTRY_INFO!C105)","v":"N'Djaména Centre"},{"$f":"IF(COUNTRY_INFO!$U$9:$U$1000=\"MDA1 (IVM+ALB)\", COUNTRY_INFO!$U$9:$U$1000, \" \")","v":" "},0,null,0,0,0,null,0,0,0,null," "," "," ",{"$f":"COUNTRY_INFO!Y105","v":10721}]
[{"$f":"IF(COUNTRY_INFO!A106=0,\" \",COUNTRY_INFO!A106)","v":"Chad"},{"$f":"IF(COUNTRY_INFO!B106=0,\" \",COUNTRY_INFO!B106)","v":"N'Djaména"},{"$f":"IF(COUNTRY_INFO!C106=0,\" \",COUNTRY_INFO!C106)","v":"N'Djaména Est"},{"$f":"IF(COUNTRY_INFO!$U$9:$U$1000=\"MDA1 (IVM+ALB)\", COUNTRY_INFO!$U$9:$U$1000, \" \")","v":" "},0,null,0,0,0,null,0,0,0,null," "," "," ",{"$f":"COUNTRY_INFO!Y106","v":10722}]
[{"$f":"IF(COUNTRY_INFO!A107=0,\" \",COUNTRY_INFO!A107)","v":"Chad"},{"$f":"IF(COUNTRY_INFO!B107=0,\" \",COUNTRY_INFO!B107)","v":"N'Djaména"},{"$f":"IF(COUNTRY_INFO!C107=0,\" \",COUNTRY_INFO!C107)","v":"N'Djaména Nord"},{"$f":"IF(COUNTRY_INFO!$U$9:$U$1000=\"MDA1 (IVM+ALB)\", COUNTRY_INFO!$U$9:$U$1000, \" \")","v":" "},0,null,0,0,0,null,0,0,0,null," "," "," ",{"$f":"COUNTRY_INFO!Y107","v":10723}]
[{"$f":"IF(COUNTRY_INFO!A108=0,\" \",COUNTRY_INFO!A108)","v":"Chad"},{"$f":"IF(COUNTRY_INFO!B108=0,\" \",COUNTRY_INFO!B108)","v":"N'Djaména"},{"$f":"IF(COUNTRY_INFO!C108=0,\" \",COUNTRY_INFO!C108)","v":"N'Djaména Sud"},{"$f":"IF(COUNTRY_INFO!$U$9:$U$1000=\"MDA1 (IVM+ALB)\", COUNTRY_INFO!$U$9:$U$1000, \" \")","v":" "},0,null,0,0,0,null,0,0,0,null," "," "," ",{"$f":"COUNTRY_INFO!Y108","v":10724}]
[{"$f":"IF(COUNTRY_INFO!A109=0,\" \",COUNTRY_INFO!A109)","v":"Chad"},{"$f":"IF(COUNTRY_INFO!B109=0,\" \",COUNTRY_INFO!B109)","v":"N'Djamena"},{"$f":"IF(COUNTRY_INFO!C109=0,\" \",COUNTRY_INFO!C109)","v":"9eme Arrondissement"},{"$f":"IF(COUNTRY_INFO!$U$9:$U$1000=\"MDA1 (IVM+ALB)\", COUNTRY_INFO!$U$9:$U$1000, \" \")","v":" "},null,null,null,null,0,null,null,null,0,null," "," "," ",{"$f":"COUNTRY_INFO!Y109","v":10789}]
[{"$f":"IF(COUNTRY_INFO!A110=0,\" \",COUNTRY_INFO!A110)","v":"Chad"},{"$f":"IF(COUNTRY_INFO!B110=0,\" \",COUNTRY_INFO!B110)","v":"Ouaddai"},{"$f":"IF(COUNTRY_INFO!C110=0,\" \",COUNTRY_INFO!C110)","v":"Abdi"},{"$f":"IF(COUNTRY_INFO!$U$9:$U$1000=\"MDA1 (IVM+ALB)\", COUNTRY_INFO!$U$9:$U$1000, \" \")","v":" "},0,null,0,0,0,null,0,0,0,null," "," "," ",{"$f":"COUNTRY_INFO!Y110","v":10727}]
[{"$f":"IF(COUNTRY_INFO!A111=0,\" \",COUNTRY_INFO!A111)","v":"Chad"},{"$f":"IF(COUNTRY_INFO!B111=0,\" \",COUNTRY_INFO!B111)","v":"Ouaddai"},{"$f":"IF(COUNTRY_INFO!C111=0,\" \",COUNTRY_INFO!C111)","v":"Abeche"},{"$f":"IF(COUNTRY_INFO!$U$9:$U$1000=\"MDA1 (IVM+ALB)\", COUNTRY_INFO!$U$9:$U$1000, \" \")","v":" "},0,null,0,0,0,null,0,0,0,null," "," "," ",{"$f":"COUNTRY_INFO!Y111","v":10728}]
[{"$f":"IF(COUNTRY_INFO!A112=0,\" \",COUNTRY_INFO!A112)","v":"Chad"},{"$f":"IF(COUNTRY_INFO!B112=0,\" \",COUNTRY_INFO!B112)","v":"Ouaddai"},{"$f":"IF(COUNTRY_INFO!C112=0,\" \",COUNTRY_INFO!C112)","v":"Abougoudam"},{"$f":"IF(COUNTRY_INFO!$U$9:$U$1000=\"MDA1 (IVM+ALB)\", COUNTRY_INFO!$U$9:$U$1000, \" \")","v":" "},0,null,0,0,0,null,0,0,0,null," "," "," ",{"$f":"COUNTRY_INFO!Y112","v":10729}]
[{"$f":"IF(COUNTRY_INFO!A113=0,\" \",COUNTRY_INFO!A113)","v":"Chad"},{"$f":"IF(COUNTRY_INFO!B113=0,\" \",COUNTRY_INFO!B113)","v":"Ouaddai"},{"$f":"IF(COUNTRY_INFO!C113=0,\" \",COUNTRY_INFO!C113)","v":"Adré"},{"$f":"IF(COUNTRY_INFO!$U$9:$U$1000=\"MDA1 (IVM+ALB)\", COUNTRY_INFO!$U$9:$U$1000, \" \")","v":" "},0,null,0,0,0,null,0,0,0,null," "," "," ",{"$f":"COUNTRY_INFO!Y113","v":10730}]
[{"$f":"IF(COUNTRY_INFO!A114=0,\" \",COUNTRY_INFO!A114)","v":"Chad"},{"$f":"IF(COUNTRY_INFO!B114=0,\" \",COUNTRY_INFO!B114)","v":"Salamat"},{"$f":"IF(COUNTRY_INFO!C114=0,\" \",COUNTRY_INFO!C114)","v":"Aboudeia"},{"$f":"IF(COUNTRY_INFO!$U$9:$U$1000=\"MDA1 (IVM+ALB)\", COUNTRY_INFO!$U$9:$U$1000, \" \")","v":" "},0,null,0,0,0,null,0,0,0,null," "," "," ",{"$f":"COUNTRY_INFO!Y114","v":10731}]
[{"$f":"IF(COUNTRY_INFO!A115=0,\" \",COUNTRY_INFO!A115)","v":"Chad"},{"$f":"IF(COUNTRY_INFO!B115=0,\" \",COUNTRY_INFO!B115)","v":"Salamat"},{"$f":"IF(COUNTRY_INFO!C115=0,\" \",COUNTRY_INFO!C115)","v":"Am-Timan"},{"$f":"IF(COUNTRY_INFO!$U$9:$U$1000=\"MDA1 (IVM+ALB)\", COUNTRY_INFO!$U$9:$U$1000, \" \")","v":" "},0,null,0,0,0,null,0,0,0,null," "," "," ",{"$f":"COUNTRY_INFO!Y115","v":10732}]
[{"$f":"IF(COUNTRY_INFO!A116=0,\" \",COUNTRY_INFO!A116)","v":"Chad"},{"$f":"IF(COUNTRY_INFO!B116=0,\" \",COUNTRY_INFO!B116)","v":"Salamat"},{"$f":"IF(COUNTRY_INFO!C116=0,\" \",COUNTRY_INFO!C116)","v":"Haraze"},{"$f":"IF(COUNTRY_INFO!$U$9:$U$1000=\"MDA1 (IVM+ALB)\", COUNTRY_INFO!$U$9:$U$1000, \" \")","v":" "},0,null,0,0,0,null,0,0,0,null," "," "," ",{"$f":"COUNTRY_INFO!Y116","v":10733}]
[{"$f":"IF(COUNTRY_INFO!A117=0,\" \",COUNTRY_INFO!A117)","v":"Chad"},{"$f":"IF(COUNTRY_INFO!B117=0,\" \",COUNTRY_INFO!B117)","v":"Sila"},{"$f":"IF(COUNTRY_INFO!C117=0,\" \",COUNTRY_INFO!C117)","v":"Am-dam"},{"$f":"IF(COUNTRY_INFO!$U$9:$U$1000=\"MDA1 (IVM+ALB)\", COUNTRY_INFO!$U$9:$U$1000, \" \")","v":" "},0,null,0,0,0,null,0,0,0,null," "," "," ",{"$f":"COUNTRY_INFO!Y117","v":10725}]
[{"$f":"IF(COUNTRY_INFO!A118=0,\" \",COUNTRY_INFO!A118)","v":"Chad"},{"$f":"IF(COUNTRY_INFO!B118=0,\" \",COUNTRY_INFO!B118)","v":"Sila"},{"$f":"IF(COUNTRY_INFO!C118=0,\" \",COUNTRY_INFO!C118)","v":"Goz-beida"},{"$f":"IF(COUNTRY_INFO!$U$9:$U$1000=\"MDA1 (IVM+ALB)\", COUNTRY_INFO!$U$9:$U$1000, \" \")","v":" "},0,null,0,0,0,null,0,0,0,null," "," "," ",{"$f":"COUNTRY_INFO!Y118","v":10726}]
[{"$f":"IF(COUNTRY_INFO!A119=0,\" \",COUNTRY_INFO!A119)","v":"Chad"},{"$f":"IF(COUNTRY_INFO!B119=0,\" \",COUNTRY_INFO!B119)","v":"Sila"},{"$f":"IF(COUNTRY_INFO!C119=0,\" \",COUNTRY_INFO!C119)","v":"Koukou"},{"$f":"IF(COUNTRY_INFO!$U$9:$U$1000=\"MDA1 (IVM+ALB)\", COUNTRY_INFO!$U$9:$U$1000, \" \")","v":" "},0,null,0,0,0,null,0,0,0,null," "," "," ",{"$f":"COUNTRY_INFO!Y119","v":10673}]
[{"$f":"IF(COUNTRY_INFO!A120=0,\" \",COUNTRY_INFO!A120)","v":"Chad"},{"$f":"IF(COUNTRY_INFO!B120=0,\" \",COUNTRY_INFO!B120)","v":"Sila"},{"$f":"IF(COUNTRY_INFO!C120=0,\" \",COUNTRY_INFO!C120)","v":"Tissi"},{"$f":"IF(COUNTRY_INFO!$U$9:$U$1000=\"MDA1 (IVM+ALB)\", COUNTRY_INFO!$U$9:$U$1000, \" \")","v":" "},0,null,0,0,0,null,0,0,0,null," "," "," ",{"$f":"COUNTRY_INFO!Y120","v":10674}]
[{"$f":"IF(COUNTRY_INFO!A121=0,\" \",COUNTRY_INFO!A121)","v":"Chad"},{"$f":"IF(COUNTRY_INFO!B121=0,\" \",COUNTRY_INFO!B121)","v":"Tandjile"},{"$f":"IF(COUNTRY_INFO!C121=0,\" \",COUNTRY_INFO!C121)","v":"Batchoro"},{"$f":"IF(COUNTRY_INFO!$U$9:$U$1000=\"MDA1 (IVM+ALB)\", COUNTRY_INFO!$U$9:$U$1000, \" \")","v":"MDA1 (IVM+ALB)"},"Fevrier 2022",null,30835,50241,81076,null,29389,48055,77444,null,95.310523755472673,95.648971955176052,95.520252602496427,{"$f":"COUNTRY_INFO!Y121","v":10775},null,{"$f":"COUNTRY_INFO!D121","v":101599},{"$f":"M121-T121","v":-24155},{"$f":"U121/T121*100","v":-23.774840303546295}]
[{"$f":"IF(COUNTRY_INFO!A122=0,\" \",COUNTRY_INFO!A122)","v":"Chad"},{"$f":"IF(COUNTRY_INFO!B122=0,\" \",COUNTRY_INFO!B122)","v":"Tandjile"},{"$f":"IF(COUNTRY_INFO!C122=0,\" \",COUNTRY_INFO!C122)","v":"Bere"},{"$f":"IF(COUNTRY_INFO!$U$9:$U$1000=\"MDA1 (IVM+ALB)\", COUNTRY_INFO!$U$9:$U$1000, \" \")","v":"MDA1 (IVM+ALB)"},"Fevrier 2022",null,54254,88398,142652,null,46136,74225,120361,null,85.037047959597444,83.966831828774403,84.373860864200992,{"$f":"COUNTRY_INFO!Y122","v":10734},null,{"$f":"COUNTRY_INFO!D122","v":178762},-58401,-32.669694901601012]
[{"$f":"IF(COUNTRY_INFO!A123=0,\" \",COUNTRY_INFO!A123)","v":"Chad"},{"$f":"IF(COUNTRY_INFO!B123=0,\" \",COUNTRY_INFO!B123)","v":"Tandjile"},{"$f":"IF(COUNTRY_INFO!C123=0,\" \",COUNTRY_INFO!C123)","v":"Bologo"},{"$f":"IF(COUNTRY_INFO!$U$9:$U$1000=\"MDA1 (IVM+ALB)\", COUNTRY_INFO!$U$9:$U$1000, \" \")","v":"MDA1 (IVM+ALB)"},"Fevrier 2022",null,17204,28032,45236,null,16451,27019,43470,null,95.623110904440821,96.386272831050221,96.096029710849763,{"$f":"COUNTRY_INFO!Y123","v":10790},null,{"$f":"COUNTRY_INFO!D123","v":56686},-13216,-23.314398616942455]
[{"$f":"IF(COUNTRY_INFO!A124=0,\" \",COUNTRY_INFO!A124)","v":"Chad"},{"$f":"IF(COUNTRY_INFO!B124=0,\" \",COUNTRY_INFO!B124)","v":"Tandjile"},{"$f":"IF(COUNTRY_INFO!C124=0,\" \",COUNTRY_INFO!C124)","v":"Dafra"},{"$f":"IF(COUNTRY_INFO!$U$9:$U$1000=\"MDA1 (IVM+ALB)\", COUNTRY_INFO!$U$9:$U$1000, \" \")","v":"MDA1 (IVM+ALB)"},"Fevrier 2022",null,28924,47127,76051,null,28360,44310,72670,null,98.050062232056419,94.022534852632248,95.554299088769383,{"$f":"COUNTRY_INFO!Y124","v":10759},null,{"$f":"COUNTRY_INFO!D124","v":95302},-22632,-23.747665316572579]
[{"$f":"IF(COUNTRY_INFO!A125=0,\" \",COUNTRY_INFO!A125)","v":"Chad"},{"$f":"IF(COUNTRY_INFO!B125=0,\" \",COUNTRY_INFO!B125)","v":"Tandjile"},{"$f":"IF(COUNTRY_INFO!C125=0,\" \",COUNTRY_INFO!C125)","v":"Deressia"},{"$f":"IF(COUNTRY_INFO!$U$9:$U$1000=\"MDA1 (IVM+ALB)\", COUNTRY_INFO!$U$9:$U$1000, \" \")","v":"MDA1 (IVM+ALB)"},"Fevrier 2022",null,27676,44001,71677,null,26311,43218,69529,null,95.067928891458308,98.220494988750247,97.003222791132444,{"$f":"COUNTRY_INFO!Y125","v":10782},null,{"$f":"COUNTRY_INFO!D125","v":87896},-18367,-20.89628652043324]
[{"$f":"IF(COUNTRY_INFO!A126=0,\" \",COUNTRY_INFO!A126)","v":"Chad"},{"$f":"IF(COUNTRY_INFO!B126=0,\" \",COUNTRY_INFO!B126)","v":"Tandjile"},{"$f":"IF(COUNTRY_INFO!C126=0,\" \",COUNTRY_INFO!C126)","v":"Donamanga"},{"$f":"IF(COUNTRY_INFO!$U$9:$U$1000=\"MDA1 (IVM+ALB)\", COUNTRY_INFO!$U$9:$U$1000, \" \")","v":"MDA1 (IVM+ALB)"},"Fevrier 2022",null,39379,64161,103540,null,37676,61403,99079,null,95.675359963432285,95.701438568600864,95.691520185435593,{"$f":"COUNTRY_INFO!Y126","v":10735},null,{"$f":"COUNTRY_INFO!D126","v":129750},-30671,-23.638535645472061]
[{"$f":"IF(COUNTRY_INFO!A127=0,\" \",COUNTRY_INFO!A127)","v":"Chad"},{"$f":"IF(COUNTRY_INFO!B127=0,\" \",COUNTRY_INFO!B127)","v":"Tandjile"},{"$f":"IF(COUNTRY_INFO!C127=0,\" \",COUNTRY_INFO!C127)","v":"Guidari"},{"$f":"IF(COUNTRY_INFO!$U$9:$U$1000=\"MDA1 (IVM+ALB)\", COUNTRY_INFO!$U$9:$U$1000, \" \")","v":"MDA1 (IVM+ALB)"},"Fevrier 2022",null,60091,97908,157999,null,59142,96695,155837,null,98.420728561681443,98.761081831923846,98.631636909094368,{"$f":"COUNTRY_INFO!Y127","v":10776},null,{"$f":"COUNTRY_INFO!D127","v":197994},-42157,-21.292059355334001]
[{"$f":"IF(COUNTRY_INFO!A128=0,\" \",COUNTRY_INFO!A128)","v":"Chad"},{"$f":"IF(COUNTRY_INFO!B128=0,\" \",COUNTRY_INFO!B128)","v":"Tandjile"},{"$f":"IF(COUNTRY_INFO!C128=0,\" \",COUNTRY_INFO!C128)","v":"Kelo"},{"$f":"IF(COUNTRY_INFO!$U$9:$U$1000=\"MDA1 (IVM+ALB)\", COUNTRY_INFO!$U$9:$U$1000, \" \")","v":"MDA1 (IVM+ALB)"},"Fevrier 2022",null,71377,125776,197153,null,68470,123354,191824,null,95.92725948134553,98.074354407836154,97.297023124172597,{"$f":"COUNTRY_INFO!Y128","v":10736},null,{"$f":"COUNTRY_INFO!D128","v":235181},-43357,-18.435587908887197]
[{"$f":"IF(COUNTRY_INFO!A129=0,\" \",COUNTRY_INFO!A129)","v":"Chad"},{"$f":"IF(COUNTRY_INFO!B129=0,\" \",COUNTRY_INFO!B129)","v":"Tandjile"},{"$f":"IF(COUNTRY_INFO!C129=0,\" \",COUNTRY_INFO!C129)","v":"Kolon"},{"$f":"IF(COUNTRY_INFO!$U$9:$U$1000=\"MDA1 (IVM+ALB)\", COUNTRY_INFO!$U$9:$U$1000, \" \")","v":"MDA1 (IVM+ALB)"},"Fevrier 2022",null,25751,41957,67708,null,23602,38963,62565,null,91.654693021630223,92.864122792382673,92.404147220417087,{"$f":"COUNTRY_INFO!Y129","v":10777},null,{"$f":"COUNTRY_INFO!D129","v":84848},-22283,-26.262257212898358]
[{"$f":"IF(COUNTRY_INFO!A130=0,\" \",COUNTRY_INFO!A130)","v":"Chad"},{"$f":"IF(COUNTRY_INFO!B130=0,\" \",COUNTRY_INFO!B130)","v":"Tandjile"},{"$f":"IF(COUNTRY_INFO!C130=0,\" \",COUNTRY_INFO!C130)","v":"Lai"},{"$f":"IF(COUNTRY_INFO!$U$9:$U$1000=\"MDA1 (IVM+ALB)\", COUNTRY_INFO!$U$9:$U$1000, \" \")","v":"MDA1 (IVM+ALB)"},"Fevrier 2022",null,34658,55632,90290,null,33211,53228,86439,null,95.824917767903514,95.678746045441471,95.734854358179206,{"$f":"COUNTRY_INFO!Y130","v":10737},null,{"$f":"COUNTRY_INFO!D130","v":109771},-23332,-21.25515846626158]
[{"$f":"IF(COUNTRY_INFO!A131=0,\" \",COUNTRY_INFO!A131)","v":"Chad"},{"$f":"IF(COUNTRY_INFO!B131=0,\" \",COUNTRY_INFO!B131)","v":"Tibesti"},{"$f":"IF(COUNTRY_INFO!C131=0,\" \",COUNTRY_INFO!C131)","v":"Bardaï"},{"$f":"IF(COUNTRY_INFO!$U$9:$U$1000=\"MDA1 (IVM+ALB)\", COUNTRY_INFO!$U$9:$U$1000, \" \")","v":" "},0,null,0,0,0,null,0,0,0,null," "," "," ",{"$f":"COUNTRY_INFO!Y131","v":10738}]
[{"$f":"IF(COUNTRY_INFO!A132=0,\" \",COUNTRY_INFO!A132)","v":"Chad"},{"$f":"IF(COUNTRY_INFO!B132=0,\" \",COUNTRY_INFO!B132)","v":"Tibesti"},{"$f":"IF(COUNTRY_INFO!C132=0,\" \",COUNTRY_INFO!C132)","v":"Zouar"},{"$f":"IF(COUNTRY_INFO!$U$9:$U$1000=\"MDA1 (IVM+ALB)\", COUNTRY_INFO!$U$9:$U$1000, \" \")","v":" "},0,null,0,0,0,null,0,0,0,null," "," "," ",{"$f":"COUNTRY_INFO!Y132","v":10760}]
[{"$f":"IF(COUNTRY_INFO!A133=0,\" \",COUNTRY_INFO!A133)","v":"Chad"},{"$f":"IF(COUNTRY_INFO!B133=0,\" \",COUNTRY_INFO!B133)","v":"Wadi Fira"},{"$f":"IF(COUNTRY_INFO!C133=0,\" \",COUNTRY_INFO!C133)","v":"amzoer"},{"$f":"IF(COUNTRY_INFO!$U$9:$U$1000=\"MDA1 (IVM+ALB)\", COUNTRY_INFO!$U$9:$U$1000, \" \")","v":" "},0,null,0,0,0,null,0,0,0,null," "," "," ",{"$f":"COUNTRY_INFO!Y133","v":10778}]
[{"$f":"IF(COUNTRY_INFO!A134=0,\" \",COUNTRY_INFO!A134)","v":"Chad"},{"$f":"IF(COUNTRY_INFO!B134=0,\" \",COUNTRY_INFO!B134)","v":"Wadi Fira"},{"$f":"IF(COUNTRY_INFO!C134=0,\" \",COUNTRY_INFO!C134)","v":"Arada"},{"$f":"IF(COUNTRY_INFO!$U$9:$U$1000=\"MDA1 (IVM+ALB)\", COUNTRY_INFO!$U$9:$U$1000, \" \")","v":" "},0,null,0,0,0,null,0,0,0,null," "," "," ",{"$f":"COUNTRY_INFO!Y134","v":10779}]
[{"$f":"IF(COUNTRY_INFO!A135=0,\" \",COUNTRY_INFO!A135)","v":"Chad"},{"$f":"IF(COUNTRY_INFO!B135=0,\" \",COUNTRY_INFO!B135)","v":"Wadi Fira"},{"$f":"IF(COUNTRY_INFO!C135=0,\" \",COUNTRY_INFO!C135)","v":"Biltine"},{"$f":"IF(COUNTRY_INFO!$U$9:$U$1000=\"MDA1 (IVM+ALB)\", COUNTRY_INFO!$U$9:$U$1000, \" \")","v":" "},0,null,0,0,0,null,0,0,0,null," "," "," ",{"$f":"COUNTRY_INFO!Y135","v":10740}]
[{"$f":"IF(COUNTRY_INFO!A136=0,\" \",COUNTRY_INFO!A136)","v":"Chad"},{"$f":"IF(COUNTRY_INFO!B136=0,\" \",COUNTRY_INFO!B136)","v":"Wadi Fira"},{"$f":"IF(COUNTRY_INFO!C136=0,\" \",COUNTRY_INFO!C136)","v":"Guéréda"},{"$f":"IF(COUNTRY_INFO!$U$9:$U$1000=\"MDA1 (IVM+ALB)\", COUNTRY_INFO!$U$9:$U$1000, \" \")","v":" "},0,null,0,0,0,null,0,0,0,null," "," "," ",{"$f":"COUNTRY_INFO!Y136","v":10741}]
[{"$f":"IF(COUNTRY_INFO!A137=0,\" \",COUNTRY_INFO!A137)","v":"Chad"},{"$f":"IF(COUNTRY_INFO!B137=0,\" \",COUNTRY_INFO!B137)","v":"Wadi Fira"},{"$f":"IF(COUNTRY_INFO!C137=0,\" \",COUNTRY_INFO!C137)","v":"Iriba"},{"$f":"IF(COUNTRY_INFO!$U$9:$U$1000=\"MDA1 (IVM+ALB)\", COUNTRY_INFO!$U$9:$U$1000, \" \")","v":" "},0,null,0,0,0,null,0,0,0,null," "," "," ",{"$f":"COUNTRY_INFO!Y137","v":10742}]
[{"$f":"IF(COUNTRY_INFO!A138=0,\" \",COUNTRY_INFO!A138)","v":"Chad"},{"$f":"IF(COUNTRY_INFO!B138=0,\" \",COUNTRY_INFO!B138)","v":"Wadi Fira"},{"$f":"IF(COUNTRY_INFO!C138=0,\" \",COUNTRY_INFO!C138)","v":"Matadjana"},{"$f":"IF(COUNTRY_INFO!$U$9:$U$1000=\"MDA1 (IVM+ALB)\", COUNTRY_INFO!$U$9:$U$1000, \" \")","v":" "},0,null,0,0,{"$f":"SUM(F138:H138)","v":0},null,0,0,{"$f":"SUM(J138:L138)","v":0},null,{"$f":"IF(G138<>0, IF(K138/G138*100=0, \"-\", K138/G138*100), \" \")","v":" "},{"$f":"IF(H138<>0, IF(L138/H138*100=0, \"-\", L138/H138*100), \" \")","v":" "},{"$f":"IF(I138<>0, IF(M138/I138*100=0, \"-\", M138/I138*100), \" \")","v":" "},{"$f":"COUNTRY_INFO!Y138","v":10743}]

{"sheet":"MDA4","index":3,"n_rows":138,"n_cols":25,"rows_kept":138,"cut":false,"hidden":false,"merged":[[5,5,5,8],[5,13,5,16],[5,21,5,24],[3,0,3,2],[5,0,5,2],[5,3,6,3],[5,4,6,4],[5,9,5,12],[5,17,5,20]]}
["MDA 4 - Albendazole (ALB) ou 2 x Albendazole (ALB)"]
["Structure administrative, population nécessitant une chimioprévention par groupe d'âge, population traitée par groupe d'âge et couverture"]
[]
["TOTAL",null,null,null,null,{"$f":"SUM(F$9:F$1000)","v":0},{"$f":"SUM(G$9:G$1000)","v":0},0,0,0,0,0,0,0,0,0,0,0,0,0,0,{"$f":"IF(F4<>0, IF(N4/F4*100=0, \"-\", N4/F4*100), \" \")","v":" "},{"$f":"IF(G4<>0, IF(O4/G4*100=0, \"-\", O4/G4*100), \" \")","v":" "},{"$f":"IF(H4<>0, IF(P4/H4*100=0, \"-\", P4/H4*100), \" \")","v":" "},{"$f":"IF(I4<>0, IF(Q4/I4*100=0, \"-\", Q4/I4*100), \" \")","v":" "}]
[]
["Structure administrative du pays",null,null,"Mise en oeuvre \nde la CP","Date","Population ciblée pour MDA 4",null,null,null,"Population traitée - tournée 1",null,null,null,"Population traitée - tournée 2",null,null,null,"Population traitée",null,null,null,"Couverture du Programme (%)"]
["Pays","Région/Département","District",null,null,"EAPréS","EAS","Adultes","Total","EAPréS","EAS","Adultes","Total","EAPréS","EAS","Adultes","Total","EAPréS","EAS","Adultes","Total","EAPréS","EAS","Adultes","Total"]
[]
[{"$f":"IF(COUNTRY_INFO!A9=0,\" \",COUNTRY_INFO!A9)","v":"Chad"},{"$f":"IF(COUNTRY_INFO!B9=0,\" \",COUNTRY_INFO!B9)","v":"Bahr El Gazel"},{"$f":"IF(COUNTRY_INFO!C9=0,\" \",COUNTRY_INFO!C9)","v":"Chadra"},{"$f":"IF(COUNTRY_INFO!$U$9:$U$1000=\"MDA4 (ALB/2*ALB)\", COUNTRY_INFO!$U$9:$U$1000, \" \")","v":" "},null,null,null,null,{"$f":"SUM(F9:H9)","v":0},null,null,null,{"$f":"SUM(J9:L9)","v":0},null,null,null,{"$f":"SUM(N9:P9)","v":0},{"$f":"MAX(J9,N9)","v":0},{"$f":"MAX(K9,O9)","v":0},{"$f":"MAX(L9,P9)","v":0},{"$f":"SUM(R9:T9)","v":0},{"$f":"IF(F9<>0, IF(R9/F9*100=0, \"-\",R9/F9*100), \" \")","v":" "},{"$f":"IF(G9<>0, IF(S9/G9*100=0, \"-\", S9/G9*100), \" \")","v":" "},{"$f":"IF(H9<>0, IF(T9/H9*100=0, \"-\", T9/H9*100), \" \")","v":" "},{"$f":"IF(I9<>0, IF(U9/I9*100=0, \"-\", U9/I9*100), \" \")","v":" "}]
[{"$f":"IF(COUNTRY_INFO!A10=0,\" \",COUNTRY_INFO!A10)","v":"Chad"},{"$f":"IF(COUNTRY_INFO!B10=0,\" \",COUNTRY_INFO!B10)","v":"Bahr El Gazel"},{"$f":"IF(COUNTRY_INFO!C10=0,\" \",COUNTRY_INFO!C10)","v":"Michemire"},{"$f":"IF(COUNTRY_INFO!$U$9:$U$1000=\"MDA4 (ALB/2*ALB)\", COUNTRY_INFO!$U$9:$U$1000, \" \")","v":" "},null,null,null,null,{"$f":"SUM(F10:H10)","v":0},null,null,null,{"$f":"SUM(J10:L10)","v":0},null,null,null,{"$f":"SUM(N10:P10)","v":0},0,0,0,0," "," "," "," "]
[{"$f":"IF(COUNTRY_INFO!A11=0,\" \",COUNTRY_INFO!A11)","v":"Chad"},{"$f":"IF(COUNTRY_INFO!B11=0,\" \",COUNTRY_INFO!B11)","v":"Bahr El Gazel"},{"$f":"IF(COUNTRY_INFO!C11=0,\" \",COUNTRY_INFO!C11)","v":"Moussoro"},{"$f":"IF(COUNTRY_INFO!$U$9:$U$1000=\"MDA4 (ALB/2*ALB)\", COUNTRY_INFO!$U$9:$U$1000, \" \")","v":" "},null,null,null,null,0,null,null,null,0,null,null,null,0,0,0,0,0," "," "," "," "]
[{"$f":"IF(COUNTRY_INFO!A12=0,\" \",COUNTRY_INFO!A12)","v":"Chad"},{"$f":"IF(COUNTRY_INFO!B12=0,\" \",COUNTRY_INFO!B12)","v":"Bahr El Gazel"},{"$f":"IF(COUNTRY_INFO!C12=0,\" \",COUNTRY_INFO!C12)","v":"Salal"},{"$f":"IF(COUNTRY_INFO!$U$9:$U$1000=\"MDA4 (ALB/2*ALB)\", COUNTRY_INFO!$U$9:$U$1000, \" \")","v":" "},null,null,null,null,0,null,null,null,0,null,null,null,0,0,0,0,0," "," "," "," "]
[{"$f":"IF(COUNTRY_INFO!A13=0,\" \",COUNTRY_INFO!A13)","v":"Chad"},{"$f":"IF(COUNTRY_INFO!B13=0,\" \",COUNTRY_INFO!B13)","v":"Batha"},{"$f":"IF(COUNTRY_INFO!C13=0,\" \",COUNTRY_INFO!C13)","v":"Alifa"},{"$f":"IF(COUNTRY_INFO!$U$9:$U$1000=\"MDA4 (ALB/2*ALB)\", COUNTRY_INFO!$U$9:$U$1000, \" \")","v":" "},null,null,null,null,0,null,null,null,0,null,null,null,0,0,0,0,0," "," "," "," "]
[{"$f":"IF(COUNTRY_INFO!A14=0,\" \",COUNTRY_INFO!A14)","v":"Chad"},{"$f":"IF(COUNTRY_INFO!B14=0,\" \",COUNTRY_INFO!B14)","v":"Batha"},{"$f":"IF(COUNTRY_INFO!C14=0,\" \",COUNTRY_INFO!C14)","v":"Assinet"},{"$f":"IF(COUNTRY_INFO!$U$9:$U$1000=\"MDA4 (ALB/2*ALB)\", COUNTRY_INFO!$U$9:$U$1000, \" \")","v":" "},null,null,null,null,0,null,null,null,0,null,null,null,0,0,0,0,0," "," "," "," "]
[{"$f":"IF(COUNTRY_INFO!A15=0,\" \",COUNTRY_INFO!A15)","v":"Chad"},{"$f":"IF(COUNTRY_INFO!B15=0,\" \",COUNTRY_INFO!B15)","v":"Batha"},{"$f":"IF(COUNTRY_INFO!C15=0,\" \",COUNTRY_INFO!C15)","v":"Ati"},{"$f":"IF(COUNTRY_INFO!$U$9:$U$1000=\"MDA4 (ALB/2*ALB)\", COUNTRY_INFO!$U$9:$U$1000, \" \")","v":" "},null,null,null,null,0,null,null,null,0,null,null,null,0,0,0,0,0," "," "," "," "]
[{"$f":"IF(COUNTRY_INFO!A16=0,\" \",COUNTRY_INFO!A16)","v":"Chad"},{"$f":"IF(COUNTRY_INFO!B16=0,\" \",COUNTRY_INFO!B16)","v":"Batha"},{"$f":"IF(COUNTRY_INFO!C16=0,\" \",COUNTRY_INFO!C16)","v":"Djedda"},{"$f":"IF(COUNTRY_INFO!$U$9:$U$1000=\"MDA4 (ALB/2*ALB)\", COUNTRY_INFO!$U$9:$U$1000, \" \")","v":" "},null,null,null,null,0,null,null,null,0,null,null,null,0,0,0,0,0," "," "," "," "]
[{"$f":"IF(COUNTRY_INFO!A17=0,\" \",COUNTRY_INFO!A17)","v":"Chad"},{"$f":"IF(COUNTRY_INFO!B17=0,\" \",COUNTRY_INFO!B17)","v":"Batha"},{"$f":"IF(COUNTRY_INFO!C17=0,\" \",COUNTRY_INFO!C17)","v":"Koundjourou"},{"$f":"IF(COUNTRY_INFO!$U$9:$U$1000=\"MDA4 (ALB/2*ALB)\", COUNTRY_INFO!$U$9:$U$1000, \" \")","v":" "},null,null,null,null,0,null,null,null,0,null,null,null,0,0,0,0,0," "," "," "," "]
[{"$f":"IF(COUNTRY_INFO!A18=0,\" \",COUNTRY_INFO!A18)","v":"Chad"},{"$f":"IF(COUNTRY_INFO!B18=0,\" \",COUNTRY_INFO!B18)","v":"Batha"},{"$f":"IF(COUNTRY_INFO!C18=0,\" \",COUNTRY_INFO!C18)","v":"Oum-Hadjer"},{"$f":"IF(COUNTRY_INFO!$U$9:$U$1000=\"MDA4 (ALB/2*ALB)\", COUNTRY_INFO!$U$9:$U$1000, \" \")","v":" "},null,null,null,null,0,null,null,null,0,null,null,null,0,0,0,0,0," "," "," "," "]
[{"$f":"IF(COUNTRY_INFO!A19=0,\" \",COUNTRY_INFO!A19)","v":"Chad"},{"$f":"IF(COUNTRY_INFO!B19=0,\" \",COUNTRY_INFO!B19)","v":"Batha"},{"$f":"IF(COUNTRY_INFO!C19=0,\" \",COUNTRY_INFO!C19)","v":"Yao"},{"$f":"IF(COUNTRY_INFO!$U$9:$U$1000=\"MDA4 (ALB/2*ALB)\", COUNTRY_INFO!$U$9:$U$1000, \" \")","v":" "},null,null,null,null,0,null,null,null,0,null,null,null,0,0,0,0,0," "," "," "," "]
[{"$f":"IF(COUNTRY_INFO!A20=0,\" \",COUNTRY_INFO!A20)","v":"Chad"},{"$f":"IF(COUNTRY_INFO!B20=0,\" \",COUNTRY_INFO!B20)","v":"Borkou"},{"$f":"IF(COUNTRY_INFO!C20=0,\" \",COUNTRY_INFO!C20)","v":"Faya"},{"$f":"IF(COUNTRY_INFO!$U$9:$U$1000=\"MDA4 (ALB/2*ALB)\", COUNTRY_INFO!$U$9:$U$1000, \" \")","v":" "},null,null,null,null,0,null,null,null,0,null,null,null,0,0,0,0,0," "," "," "," "]
[{"$f":"IF(COUNTRY_INFO!A21=0,\" \",COUNTRY_INFO!A21)","v":"Chad"},{"$f":"IF(COUNTRY_INFO!B21=0,\" \",COUNTRY_INFO!B21)","v":"Borkou"},{"$f":"IF(COUNTRY_INFO!C21=0,\" \",COUNTRY_INFO!C21)","v":"Kirdimi"},{"$f":"IF(COUNTRY_INFO!$U$9:$U$1000=\"MDA4 (ALB/2*ALB)\", COUNTRY_INFO!$U$9:$U$1000, \" \")","v":" "},null,null,null,null,0,null,null,null,0,null,null,null,0,0,0,0,0," "," "," "," "]
[{"$f":"IF(COUNTRY_INFO!A22=0,\" \",COUNTRY_INFO!A22)","v":"Chad"},{"$f":"IF(COUNTRY_INFO!B22=0,\" \",COUNTRY_INFO!B22)","v":"Borkou"},{"$f":"IF(COUNTRY_INFO!C22=0,\" \",COUNTRY_INFO!C22)","v":"Kouba Olanga"},{"$f":"IF(COUNTRY_INFO!$U$9:$U$1000=\"MDA4 (ALB/2*ALB)\", COUNTRY_INFO!$U$9:$U$1000, \" \")","v":" "},null,null,null,null,0,null,null,null,0,null,null,null,0,0,0,0,0," "," "," "," "]
[{"$f":"IF(COUNTRY_INFO!A23=0,\" \",COUNTRY_INFO!A23)","v":"Chad"},{"$f":"IF(COUNTRY_INFO!B23=0,\" \",COUNTRY_INFO!B23)","v":"Chari  Baguirmi"},{"$f":"IF(COUNTRY_INFO!C23=0,\" \",COUNTRY_INFO!C23)","v":"Ba-Illi"},{"$f":"IF(COUNTRY_INFO!$U$9:$U$1000=\"MDA4 (ALB/2*ALB)\", COUNTRY_INFO!$U$9:$U$1000, \" \")","v":" "},null,null,null,null,0,null,null,null,0,null,null,null,0,0,0,0,0," "," "," "," "]
[{"$f":"IF(COUNTRY_INFO!A24=0,\" \",COUNTRY_INFO!A24)","v":"Chad"},{"$f":"IF(COUNTRY_INFO!B24=0,\" \",COUNTRY_INFO!B24)","v":"Chari  Baguirmi"},{"$f":"IF(COUNTRY_INFO!C24=0,\" \",COUNTRY_INFO!C24)","v":"Bousso"},{"$f":"IF(COUNTRY_INFO!$U$9:$U$1000=\"MDA4 (ALB/2*ALB)\", COUNTRY_INFO!$U$9:$U$1000, \" \")","v":" "},null,null,null,null,0,null,null,null,0,null,null,null,0,0,0,0,0," "," "," "," "]
[{"$f":"IF(COUNTRY_INFO!A25=0,\" \",COUNTRY_INFO!A25)","v":"Chad"},{"$f":"IF(COUNTRY_INFO!B25=0,\" \",COUNTRY_INFO!B25)","v":"Chari  Baguirmi"},{"$f":"IF(COUNTRY_INFO!C25=0,\" \",COUNTRY_INFO!C25)","v":"Dourbali"},{"$f":"IF(COUNTRY_INFO!$U$9:$U$1000=\"MDA4 (ALB/2*ALB)\", COUNTRY_INFO!$U$9:$U$1000, \" \")","v":" "},null,null,null,null,0,null,null,null,0,null,null,null,0,0,0,0,0," "," "," "," "]
[{"$f":"IF(COUNTRY_INFO!A26=0,\" \",COUNTRY_INFO!A26)","v":"Chad"},{"$f":"IF(COUNTRY_INFO!B26=0,\" \",COUNTRY_INFO!B26)","v":"Chari  Baguirmi"},{"$f":"IF(COUNTRY_INFO!C26=0,\" \",COUNTRY_INFO!C26)","v":"Koulno"},{"$f":"IF(COUNTRY_INFO!$U$9:$U$1000=\"MDA4 (ALB/2*ALB)\", COUNTRY_INFO!$U$9:$U$1000, \" \")","v":" "},null,null,null,null,0,null,null,null,0,null,null,null,0,0,0,0,0," "," "," "," "]
[{"$f":"IF(COUNTRY_INFO!A27=0,\" \",COUNTRY_INFO!A27)","v":"Chad"},{"$f":"IF(COUNTRY_INFO!B27=0,\" \",COUNTRY_INFO!B27)","v":"Chari  Baguirmi"},{"$f":"IF(COUNTRY_INFO!C27=0,\" \",COUNTRY_INFO!C27)","v":"Mandélia"},{"$f":"IF(COUNTRY_INFO!$U$9:$U$1000=\"MDA4 (ALB/2*ALB)\", COUNTRY_INFO!$U$9:$U$1000, \" \")","v":" "},null,null,null,null,0,null,null,null,0,null,null,null,0,0,0,0,0," "," "," "," "]
[{"$f":"IF(COUNTRY_INFO!A28=0,\" \",COUNTRY_INFO!A28)","v":"Chad"},{"$f":"IF(COUNTRY_INFO!B28=0,\" \",COUNTRY_INFO!B28)","v":"Chari  Baguirmi"},{"$f":"IF(COUNTRY_INFO!C28=0,\" \",COUNTRY_INFO!C28)","v":"Massenya"},{"$f":"IF(COUNTRY_INFO!$U$9:$U$1000=\"MDA4 (ALB/2*ALB)\", COUNTRY_INFO!$U$9:$U$1000, \" \")","v":" "},null,null,null,null,0,null,null,null,0,null,null,null,0,0,0,0,0," "," "," "," "]
[{"$f":"IF(COUNTRY_INFO!A29=0,\" \",COUNTRY_INFO!A29)","v":"Chad"},{"$f":"IF(COUNTRY_INFO!B29=0,\" \",COUNTRY_INFO!B29)","v":"Ennedi Est"},{"$f":"IF(COUNTRY_INFO!C29=0,\" \",COUNTRY_INFO!C29)","v":"Amdjarass"},{"$f":"IF(COUNTRY_INFO!$U$9:$U$1000=\"MDA4 (ALB/2*ALB)\", COUNTRY_INFO!$U$9:$U$1000, \" \")","v":" "},null,null,null,null,0,null,null,null,0,null,null,null,0,0,0,0,0," "," "," "," "]
[{"$f":"IF(COUNTRY_INFO!A30=0,\" \",COUNTRY_INFO!A30)","v":"Chad"},{"$f":"IF(COUNTRY_INFO!B30=0,\" \",COUNTRY_INFO!B30)","v":"Ennedi Est"},{"$f":"IF(COUNTRY_INFO!C30=0,\" \",COUNTRY_INFO!C30)","v":"Bahaï"},{"$f":"IF(COUNTRY_INFO!$U$9:$U$1000=\"MDA4 (ALB/2*ALB)\", COUNTRY_INFO!$U$9:$U$1000, \" \")","v":" "},null,null,null,null,0,null,null,null,0,null,null,null,0,0,0,0,0," "," "," "," "]
[{"$f":"IF(COUNTRY_INFO!A31=0,\" \",COUNTRY_INFO!A31)","v":"Chad"},{"$f":"IF(COUNTRY_INFO!B31=0,\" \",COUNTRY_INFO!B31)","v":"Ennedi Est"},{"$f":"IF(COUNTRY_INFO!C31=0,\" \",COUNTRY_INFO!C31)","v":"Kaoura"},{"$f":"IF(COUNTRY_INFO!$U$9:$U$1000=\"MDA4 (ALB/2*ALB)\", COUNTRY_INFO!$U$9:$U$1000, \" \")","v":" "},null,null,null,null,0,null,null,null,0,null,null,null,0,0,0,0,0," "," "," "," "]
[{"$f":"IF(COUNTRY_INFO!A32=0,\" \",COUNTRY_INFO!A32)","v":"Chad"},{"$f":"IF(COUNTRY_INFO!B32=0,\" \",COUNTRY_INFO!B32)","v":"Ennedi Est"},{"$f":"IF(COUNTRY_INFO!C32=0,\" \",COUNTRY_INFO!C32)","v":"Mourdi"},{"$f":"IF(COUNTRY_INFO!$U$9:$U$1000=\"MDA4 (ALB/2*ALB)\", COUNTRY_INFO!$U$9:$U$1000, \" \")","v":" "},null,null,null,null,0,null,null,null,0,null,null,null,0,0,0,0,0," "," "," "," "]
[{"$f":"IF(COUNTRY_INFO!A33=0,\" \",COUNTRY_INFO!A33)","v":"Chad"},{"$f":"IF(COUNTRY_INFO!B33=0,\" \",COUNTRY_INFO!B33)","v":"Ennedi Ouest"},{"$f":"IF(COUNTRY_INFO!C33=0,\" \",COUNTRY_INFO!C33)","v":"Fada"},{"$f":"IF(COUNTRY_INFO!$U$9:$U$1000=\"MDA4 (ALB/2*ALB)\", COUNTRY_INFO!$U$9:$U$1000, \" \")","v":" "},null,null,null,null,0,null,null,null,0,null,null,null,0,0,0,0,0," "," "," "," "]
[{"$f":"IF(COUNTRY_INFO!A34=0,\" \",COUNTRY_INFO!A34)","v":"Chad"},{"$f":"IF(COUNTRY_INFO!B34=0,\" \",COUNTRY_INFO!B34)","v":"Ennedi Ouest"},{"$f":"IF(COUNTRY_INFO!C34=0,\" \",COUNTRY_INFO!C34)","v":"Kalaït"},{"$f":"IF(COUNTRY_INFO!$U$9:$U$1000=\"MDA4 (ALB/2*ALB)\", COUNTRY_INFO!$U$9:$U$1000, \" \")","v":" "},null,null,null,null,0,null,null,null,0,null,null,null,0,0,0,0,0," "," "," "," "]
[{"$f":"IF(COUNTRY_INFO!A35=0,\" \",COUNTRY_INFO!A35)","v":"Chad"},{"$f":"IF(COUNTRY_INFO!B35=0,\" \",COUNTRY_INFO!B35)","v":"Ennedi Ouest"},{"$f":"IF(COUNTRY_INFO!C35=0,\" \",COUNTRY_INFO!C35)","v":"Ounianga Kebbir"},{"$f":"IF(COUNTRY_INFO!$U$9:$U$1000=\"MDA4 (ALB/2*ALB)\", COUNTRY_INFO!$U$9:$U$1000, \" \")","v":" "},null,null,null,null,0,null,null,null,0,null,null,null,0,0,0,0,0," "," "," "," "]
[{"$f":"IF(COUNTRY_INFO!A36=0,\" \",COUNTRY_INFO!A36)","v":"Chad"},{"$f":"IF(COUNTRY_INFO!B36=0,\" \",COUNTRY_INFO!B36)","v":"Guéra"},{"$f":"IF(COUNTRY_INFO!C36=0,\" \",COUNTRY_INFO!C36)","v":"Barou"},{"$f":"IF(COUNTRY_INFO!$U$9:$U$1000=\"MDA4 (ALB/2*ALB)\", COUNTRY_INFO!$U$9:$U$1000, \" \")","v":" "},null,null,null,null,0,null,null,null,0,null,null,null,0,0,0,0,0," "," "," "," "]
[{"$f":"IF(COUNTRY_INFO!A37=0,\" \",COUNTRY_INFO!A37)","v":"Chad"},{"$f":"IF(COUNTRY_INFO!B37=0,\" \",COUNTRY_INFO!B37)","v":"Guéra"},{"$f":"IF(COUNTRY_INFO!C37=0,\" \",COUNTRY_INFO!C37)","v":"Bitkine"},{"$f":"IF(COUNTRY_INFO!$U$9:$U$1000=\"MDA4 (ALB/2*ALB)\", COUNTRY_INFO!$U$9:$U$1000, \" \")","v":" "},null,null,null,null,0,null,null,null,0,null,null,null,0,0,0,0,0," "," "," "," "]
[{"$f":"IF(COUNTRY_INFO!A38=0,\" \",COUNTRY_INFO!A38)","v":"Chad"},{"$f":"IF(COUNTRY_INFO!B38=0,\" \",COUNTRY_INFO!B38)","v":"Guéra"},{"$f":"IF(COUNTRY_INFO!C38=0,\" \",COUNTRY_INFO!C38)","v":"Mangalmé"},{"$f":"IF(COUNTRY_INFO!$U$9:$U$1000=\"MDA4 (ALB/2*ALB)\", COUNTRY_INFO!$U$9:$U$1000, \" \")","v":" "},null,null,null,null,0,null,null,null,0,null,null,null,0,0,0,0,0," "," "," "," "]
[{"$f":"IF(COUNTRY_INFO!A39=0,\" \",COUNTRY_INFO!A39)","v":"Chad"},{"$f":"IF(COUNTRY_INFO!B39=0,\" \",COUNTRY_INFO!B39)","v":"Guéra"},{"$f":"IF(COUNTRY_INFO!C39=0,\" \",COUNTRY_INFO!C39)","v":"Melfi"},{"$f":"IF(COUNTRY_INFO!$U$9:$U$1000=\"MDA4 (ALB/2*ALB)\", COUNTRY_INFO!$U$9:$U$1000, \" \")","v":" "},null,null,null,null,0,null,null,null,0,null,null,null,0,0,0,0,0," "," "," "," "]
[{"$f":"IF(COUNTRY_INFO!A40=0,\" \",COUNTRY_INFO!A40)","v":"Chad"},{"$f":"IF(COUNTRY_INFO!B40=0,\" \",COUNTRY_INFO!B40)","v":"Guéra"},{"$f":"IF(COUNTRY_INFO!C40=0,\" \",COUNTRY_INFO!C40)","v":"Mongo"},{"$f":"IF(COUNTRY_INFO!$U$9:$U$1000=\"MDA4 (ALB/2*ALB)\", COUNTRY_INFO!$U$9:$U$1000, \" \")","v":" "},null,null,null,null,0,null,null,null,0,null,null,null,0,0,0,0,0," "," "," "," "]
[{"$f":"IF(COUNTRY_INFO!A41=0,\" \",COUNTRY_INFO!A41)","v":"Chad"},{"$f":"IF(COUNTRY_INFO!B41=0,\" \",COUNTRY_INFO!B41)","v":"Hadjer Lamis"},{"$f":"IF(COUNTRY_INFO!C41=0,\" \",COUNTRY_INFO!C41)","v":"Bokoro"},{"$f":"IF(COUNTRY_INFO!$U$9:$U$1000=\"MDA4 (ALB/2*ALB)\", COUNTRY_INFO!$U$9:$U$1000, \" \")","v":" "},null,null,null,null,0,null,null,null,0,null,null,null,0,{"$f":"MAX(J41,N41)","v":0},{"$f":"MAX(K41,O41)","v":0},{"$f":"MAX(L41,P41)","v":0},{"$f":"SUM(R41:T41)","v":0},{"$f":"IF(F41<>0, IF(R41/F41*100=0, \"-\",R41/F41*100), \" \")","v":" "},{"$f":"IF(G41<>0, IF(S41/G41*100=0, \"-\", S41/G41*100), \" \")","v":" "},{"$f":"IF(H41<>0, IF(T41/H41*100=0, \"-\", T41/H41*100), \" \")","v":" "},{"$f":"IF(I41<>0, IF(U41/I41*100=0, \"-\", U41/I41*100), \" \")","v":" "}]
[{"$f":"IF(COUNTRY_INFO!A42=0,\" \",COUNTRY_INFO!A42)","v":"Chad"},{"$f":"IF(COUNTRY_INFO!B42=0,\" \",COUNTRY_INFO!B42)","v":"Hadjer Lamis"},{"$f":"IF(COUNTRY_INFO!C42=0,\" \",COUNTRY_INFO!C42)","v":"Gama"},{"$f":"IF(COUNTRY_INFO!$U$9:$U$1000=\"MDA4 (ALB/2*ALB)\", COUNTRY_INFO!$U$9:$U$1000, \" \")","v":" "},null,null,null,null,0,null,null,null,0,null,null,null,0,0,0,0,0," "," "," "," "]
[{"$f":"IF(COUNTRY_INFO!A43=0,\" \",COUNTRY_INFO!A43)","v":"Chad"},{"$f":"IF(COUNTRY_INFO!B43=0,\" \",COUNTRY_INFO!B43)","v":"Hadjar Lamis"},{"$f":"IF(COUNTRY_INFO!C43=0,\" \",COUNTRY_INFO!C43)","v":"Karal"},{"$f":"IF(COUNTRY_INFO!$U$9:$U$1000=\"MDA4 (ALB/2*ALB)\", COUNTRY_INFO!$U$9:$U$1000, \" \")","v":" "},null,null,null,null,0,null,null,null,0,null,null,null,0,0,0,0,0," "," "," "," "]
[{"$f":"IF(COUNTRY_INFO!A44=0,\" \",COUNTRY_INFO!A44)","v":"Chad"},{"$f":"IF(COUNTRY_INFO!B44=0,\" \",COUNTRY_INFO!B44)","v":"Hadjer Lamis"},{"$f":"IF(COUNTRY_INFO!C44=0,\" \",COUNTRY_INFO!C44)","v":"Mani"},{"$f":"IF(COUNTRY_INFO!$U$9:$U$1000=\"MDA4 (ALB/2*ALB)\", COUNTRY_INFO!$U$9:$U$1000, \" \")","v":" "},null,null,null,null,0,null,null,null,0,null,null,null,0,0,0,0,0," "," "," "," "]
[{"$f":"IF(COUNTRY_INFO!A45=0,\" \",COUNTRY_INFO!A45)","v":"Chad"},{"$f":"IF(COUNTRY_INFO!B45=0,\" \",COUNTRY_INFO!B45)","v":"Hadjer Lamis"},{"$f":"IF(COUNTRY_INFO!C45=0,\" \",COUNTRY_INFO!C45)","v":"Massaguet"},{"$f":"IF(COUNTRY_INFO!$U$9:$U$1000=\"MDA4 (ALB/2*ALB)\", COUNTRY_INFO!$U$9:$U$1000, \" \")","v":" "},null,null,null,null,0,null,null,null,0,null,null,null,0,0,0,0,0," "," "," "," "]
[{"$f":"IF(COUNTRY_INFO!A46=0,\" \",COUNTRY_INFO!A46)","v":"Chad"},{"$f":"IF(COUNTRY_INFO!B46=0,\" \",COUNTRY_INFO!B46)","v":"Hadjer Lamis"},{"$f":"IF(COUNTRY_INFO!C46=0,\" \",COUNTRY_INFO!C46)","v":"Massakory"},{"$f":"IF(COUNTRY_INFO!$U$9:$U$1000=\"MDA4 (ALB/2*ALB)\", COUNTRY_INFO!$U$9:$U$1000, \" \")","v":" "},null,null,null,null,0,null,null,null,0,null,null,null,0,0,0,0,0," "," "," "," "]
[{"$f":"IF(COUNTRY_INFO!A47=0,\" \",COUNTRY_INFO!A47)","v":"Chad"},{"$f":"IF(COUNTRY_INFO!B47=0,\" \",COUNTRY_INFO!B47)","v":"Kanem"},{"$f":"IF(COUNTRY_INFO!C47=0,\" \",COUNTRY_INFO!C47)","v":"Amdoback"},{"$f":"IF(COUNTRY_INFO!$U$9:$U$1000=\"MDA4 (ALB/2*ALB)\", COUNTRY_INFO!$U$9:$U$1000, \" \")","v":" "},null,null,null,null,0,null,null,null,0,null,null,null,0,0,0,0,0," "," "," "," "]
[{"$f":"IF(COUNTRY_INFO!A48=0,\" \",COUNTRY_INFO!A48)","v":"Chad"},{"$f":"IF(COUNTRY_INFO!B48=0,\" \",COUNTRY_INFO!B48)","v":"Kanem"},{"$f":"IF(COUNTRY_INFO!C48=0,\" \",COUNTRY_INFO!C48)","v":"Kekedina"},{"$f":"IF(COUNTRY_INFO!$U$9:$U$1000=\"MDA4 (ALB/2*ALB)\", COUNTRY_INFO!$U$9:$U$1000, \" \")","v":" "},null,null,null,null,0,null,null,null,0,null,null,null,0,0,0,0,0," "," "," "," "]
[{"$f":"IF(COUNTRY_INFO!A49=0,\" \",COUNTRY_INFO!A49)","v":"Chad"},{"$f":"IF(COUNTRY_INFO!B49=0,\" \",COUNTRY_INFO!B49)","v":"Kanem"},{"$f":"IF(COUNTRY_INFO!C49=0,\" \",COUNTRY_INFO!C49)","v":"Mao"},{"$f":"IF(COUNTRY_INFO!$U$9:$U$1000=\"MDA4 (ALB/2*ALB)\", COUNTRY_INFO!$U$9:$U$1000, \" \")","v":" "},null,null,null,null,0,null,null,null,0,null,null,null,0,0,0,0,0," "," "," "," "]
[{"$f":"IF(COUNTRY_INFO!A50=0,\" \",COUNTRY_INFO!A50)","v":"Chad"},{"$f":"IF(COUNTRY_INFO!B50=0,\" \",COUNTRY_INFO!B50)","v":"Kanem"},{"$f":"IF(COUNTRY_INFO!C50=0,\" \",COUNTRY_INFO!C50)","v":"Mondo"},{"$f":"IF(COUNTRY_INFO!$U$9:$U$1000=\"MDA4 (ALB/2*ALB)\", COUNTRY_INFO!$U$9:$U$1000, \" \")","v":" "},null,null,null,null,0,null,null,null,0,null,null,null,0,0,0,0,0," "," "," "," "]
[{"$f":"IF(COUNTRY_INFO!A51=0,\" \",COUNTRY_INFO!A51)","v":"Chad"},{"$f":"IF(COUNTRY_INFO!B51=0,\" \",COUNTRY_INFO!B51)","v":"Kanem"},{"$f":"IF(COUNTRY_INFO!C51=0,\" \",COUNTRY_INFO!C51)","v":"Nokou"},{"$f":"IF(COUNTRY_INFO!$U$9:$U$1000=\"MDA4 (ALB/2*ALB)\", COUNTRY_INFO!$U$9:$U$1000, \" \")","v":" "},null,null,null,null,0,null,null,null,0,null,null,null,0,0,0,0,0," "," "," "," "]
[{"$f":"IF(COUNTRY_INFO!A52=0,\" \",COUNTRY_INFO!A52)","v":"Chad"},{"$f":"IF(COUNTRY_INFO!B52=0,\" \",COUNTRY_INFO!B52)","v":"Kanem"},{"$f":"IF(COUNTRY_INFO!C52=0,\" \",COUNTRY_INFO!C52)","v":"Ntiona"},{"$f":"IF(COUNTRY_INFO!$U$9:$U$1000=\"MDA4 (ALB/2*ALB)\", COUNTRY_INFO!$U$9:$U$1000, \" \")","v":" "},null,null,null,null,0,null,null,null,0,null,null,null,0,0,0,0,0," "," "," "," "]
[{"$f":"IF(COUNTRY_INFO!A53=0,\" \",COUNTRY_INFO!A53)","v":"Chad"},{"$f":"IF(COUNTRY_INFO!B53=0,\" \",COUNTRY_INFO!B53)","v":"Kanem"},{"$f":"IF(COUNTRY_INFO!C53=0,\" \",COUNTRY_INFO!C53)","v":"Rig-Rig"},{"$f":"IF(COUNTRY_INFO!$U$9:$U$1000=\"MDA4 (ALB/2*ALB)\", COUNTRY_INFO!$U$9:$U$1000, \" \")","v":" "},null,null,null,null,0,null,null,null,0,null,null,null,0,0,0,0,0," "," "," "," "]
[{"$f":"IF(COUNTRY_INFO!A54=0,\" \",COUNTRY_INFO!A54)","v":"Chad"},{"$f":"IF(COUNTRY_INFO!B54=0,\" \",COUNTRY_INFO!B54)","v":"Lac"},{"$f":"IF(COUNTRY_INFO!C54=0,\" \",COUNTRY_INFO!C54)","v":"Bagassola"},{"$f":"IF(COUNTRY_INFO!$U$9:$U$1000=\"MDA4 (ALB/2*ALB)\", COUNTRY_INFO!$U$9:$U$1000, \" \")","v":" "},null,null,null,null,0,null,null,null,0,null,null,null,0,0,0,0,0," "," "," "," "]
[{"$f":"IF(COUNTRY_INFO!A55=0,\" \",COUNTRY_INFO!A55)","v":"Chad"},{"$f":"IF(COUNTRY_INFO!B55=0,\" \",COUNTRY_INFO!B55)","v":"Lac"},{"$f":"IF(COUNTRY_INFO!C55=0,\" \",COUNTRY_INFO!C55)","v":"Bol"},{"$f":"IF(COUNTRY_INFO!$U$9:$U$1000=\"MDA4 (ALB/2*ALB)\", COUNTRY_INFO!$U$9:$U$1000, \" \")","v":" "},null,null,null,null,0,null,null,null,0,null,null,null,0,0,0,0,0," "," "," "," "]
[{"$f":"IF(COUNTRY_INFO!A56=0,\" \",COUNTRY_INFO!A56)","v":"Chad"},{"$f":"IF(COUNTRY_INFO!B56=0,\" \",COUNTRY_INFO!B56)","v":"Lac"},{"$f":"IF(COUNTRY_INFO!C56=0,\" \",COUNTRY_INFO!C56)","v":"Isserom"},{"$f":"IF(COUNTRY_INFO!$U$9:$U$1000=\"MDA4 (ALB/2*ALB)\", COUNTRY_INFO!$U$9:$U$1000, \" \")","v":" "},null,null,null,null,0,null,null,null,0,null,null,null,0,0,0,0,0," "," "," "," "]
[{"$f":"IF(COUNTRY_INFO!A57=0,\" \",COUNTRY_INFO!A57)","v":"Chad"},{"$f":"IF(COUNTRY_INFO!B57=0,\" \",COUNTRY_INFO!B57)","v":"Lac"},{"$f":"IF(COUNTRY_INFO!C57=0,\" \",COUNTRY_INFO!C57)","v":"Kouloudia"},{"$f":"IF(COUNTRY_INFO!$U$9:$U$1000=\"MDA4 (ALB/2*ALB)\", COUNTRY_INFO!$U$9:$U$1000, \" \")","v":" "},null,null,null,null,0,null,null,null,0,null,null,null,0,0,0,0,0," "," "," "," "]
[{"$f":"IF(COUNTRY_INFO!A58=0,\" \",COUNTRY_INFO!A58)","v":"Chad"},{"$f":"IF(COUNTRY_INFO!B58=0,\" \",COUNTRY_INFO!B58)","v":"Lac"},{"$f":"IF(COUNTRY_INFO!C58=0,\" \",COUNTRY_INFO!C58)","v":"Liwa"},{"$f":"IF(COUNTRY_INFO!$U$9:$U$1000=\"MDA4 (ALB/2*ALB)\", COUNTRY_INFO!$U$9:$U$1000, \" \")","v":" "},null,null,null,null,0,null,null,null,0,null,null,null,0,0,0,0,0," "," "," "," "]
[{"$f":"IF(COUNTRY_INFO!A59=0,\" \",COUNTRY_INFO!A59)","v":"Chad"},{"$f":"IF(COUNTRY_INFO!B59=0,\" \",COUNTRY_INFO!B59)","v":"Lac"},{"$f":"IF(COUNTRY_INFO!C59=0,\" \",COUNTRY_INFO!C59)","v":"Ngouri"},{"$f":"IF(COUNTRY_INFO!$U$9:$U$1000=\"MDA4 (ALB/2*ALB)\", COUNTRY_INFO!$U$9:$U$1000, \" \")","v":" "},null,null,null,null,0,null,null,null,0,null,null,null,0,0,0,0,0," "," "," "," "]
[{"$f":"IF(COUNTRY_INFO!A60=0,\" \",COUNTRY_INFO!A60)","v":"Chad"},{"$f":"IF(COUNTRY_INFO!B60=0,\" \",COUNTRY_INFO!B60)","v":"Logone Occidental"},{"$f":"IF(COUNTRY_INFO!C60=0,\" \",COUNTRY_INFO!C60)","v":"Benamar"},{"$f":"IF(COUNTRY_INFO!$U$9:$U$1000=\"MDA4 (ALB/2*ALB)\", COUNTRY_INFO!$U$9:$U$1000, \" \")","v":" "},null,null,null,null,0,null,null,null,0,null,null,null,0,0,0,0,0," "," "," "," "]
[{"$f":"IF(COUNTRY_INFO!A61=0,\" \",COUNTRY_INFO!A61)","v":"Chad"},{"$f":"IF(COUNTRY_INFO!B61=0,\" \",COUNTRY_INFO!B61)","v":"Logone Occidental"},{"$f":"IF(COUNTRY_INFO!C61=0,\" \",COUNTRY_INFO!C61)","v":"Benoye"},{"$f":"IF(COUNTRY_INFO!$U$9:$U$1000=\"MDA4 (ALB/2*ALB)\", COUNTRY_INFO!$U$9:$U$1000, \" \")","v":" "},null,null,null,null,0,null,null,null,0,null,null,null,0,0,0,0,0," "," "," "," "]
[{"$f":"IF(COUNTRY_INFO!A62=0,\" \",COUNTRY_INFO!A62)","v":"Chad"},{"$f":"IF(COUNTRY_INFO!B62=0,\" \",COUNTRY_INFO!B62)","v":"Logone Occidental"},{"$f":"IF(COUNTRY_INFO!C62=0,\" \",COUNTRY_INFO!C62)","v":"Laokassy"},{"$f":"IF(COUNTRY_INFO!$U$9:$U$1000=\"MDA4 (ALB/2*ALB)\", COUNTRY_INFO!$U$9:$U$1000, \" \")","v":" "},null,null,null,null,0,null,null,null,0,null,null,null,0,0,0,0,0," "," "," "," "]
[{"$f":"IF(COUNTRY_INFO!A63=0,\" \",COUNTRY_INFO!A63)","v":"Chad"},{"$f":"IF(COUNTRY_INFO!B63=0,\" \",COUNTRY_INFO!B63)","v":"Logone Occidental"},{"$f":"IF(COUNTRY_INFO!C63=0,\" \",COUNTRY_INFO!C63)","v":"Moundou"},{"$f":"IF(COUNTRY_INFO!$U$9:$U$1000=\"MDA4 (ALB/2*ALB)\", COUNTRY_INFO!$U$9:$U$1000, \" \")","v":" "},null,null,null,null,0,null,null,null,0,null,null,null,0,0,0,0,0," "," "," "," "]
[{"$f":"IF(COUNTRY_INFO!A64=0,\" \",COUNTRY_INFO!A64)","v":"Chad"},{"$f":"IF(COUNTRY_INFO!B64=0,\" \",COUNTRY_INFO!B64)","v":"Logone Orientlal"},{"$f":"IF(COUNTRY_INFO!C64=0,\" \",COUNTRY_INFO!C64)","v":"Baibokoum"},{"$f":"IF(COUNTRY_INFO!$U$9:$U$1000=\"MDA4 (ALB/2*ALB)\", COUNTRY_INFO!$U$9:$U$1000, \" \")","v":" "},null,null,null,null,0,null,null,null,0,null,null,null,0,0,0,0,0," "," "," "," "]
[{"$f":"IF(COUNTRY_INFO!A65=0,\" \",COUNTRY_INFO!A65)","v":"Chad"},{"$f":"IF(COUNTRY_INFO!B65=0,\" \",COUNTRY_INFO!B65)","v":"Logone Orientlal"},{"$f":"IF(COUNTRY_INFO!C65=0,\" \",COUNTRY_INFO!C65)","v":"Bebedja"},{"$f":"IF(COUNTRY_INFO!$U$9:$U$1000=\"MDA4 (ALB/2*ALB)\", COUNTRY_INFO!$U$9:$U$1000, \" \")","v":" "},null,null,null,null,0,null,null,null,0,null,null,null,0,0,0,0,0," "," "," "," "]
[{"$f":"IF(COUNTRY_INFO!A66=0,\" \",COUNTRY_INFO!A66)","v":"Chad"},{"$f":"IF(COUNTRY_INFO!B66=0,\" \",COUNTRY_INFO!B66)","v":"Logone Orientlal"},{"$f":"IF(COUNTRY_INFO!C66=0,\" \",COUNTRY_INFO!C66)","v":"Beboto"},{"$f":"IF(COUNTRY_INFO!$U$9:$U$1000=\"MDA4 (ALB/2*ALB)\", COUNTRY_INFO!$U$9:$U$1000, \" \")","v":" "},null,null,null,null,0,null,null,null,0,null,null,null,0,0,0,0,0," "," "," "," "]
[{"$f":"IF(COUNTRY_INFO!A67=0,\" \",COUNTRY_INFO!A67)","v":"Chad"},{"$f":"IF(COUNTRY_INFO!B67=0,\" \",COUNTRY_INFO!B67)","v":"Logone Orientlal"},{"$f":"IF(COUNTRY_INFO!C67=0,\" \",COUNTRY_INFO!C67)","v":"Bessao"},{"$f":"IF(COUNTRY_INFO!$U$9:$U$1000=\"MDA4 (ALB/2*ALB)\", COUNTRY_INFO!$U$9:$U$1000, \" \")","v":" "},null,null,null,null,0,null,null,null,0,null,null,null,0,0,0,0,0," "," "," "," "]
[{"$f":"IF(COUNTRY_INFO!A68=0,\" \",COUNTRY_INFO!A68)","v":"Chad"},{"$f":"IF(COUNTRY_INFO!B68=0,\" \",COUNTRY_INFO!B68)","v":"Logone Orientlal"},{"$f":"IF(COUNTRY_INFO!C68=0,\" \",COUNTRY_INFO!C68)","v":"Bodo"},{"$f":"IF(COUNTRY_INFO!$U$9:$U$1000=\"MDA4 (ALB/2*ALB)\", COUNTRY_INFO!$U$9:$U$1000, \" \")","v":" "},null,null,null,null,0,null,null,null,0,null,null,null,0,0,0,0,0," "," "," "," "]
[{"$f":"IF(COUNTRY_INFO!A69=0,\" \",COUNTRY_INFO!A69)","v":"Chad"},{"$f":"IF(COUNTRY_INFO!B69=0,\" \",COUNTRY_INFO!B69)","v":"Logone Orientlal"},{"$f":"IF(COUNTRY_INFO!C69=0,\" \",COUNTRY_INFO!C69)","v":"Doba"},{"$f":"IF(COUNTRY_INFO!$U$9:$U$1000=\"MDA4 (ALB/2*ALB)\", COUNTRY_INFO!$U$9:$U$1000, \" \")","v":" "},null,null,null,null,0,null,null,null,0,null,null,null,0,0,0,0,0," "," "," "," "]
[{"$f":"IF(COUNTRY_INFO!A70=0,\" \",COUNTRY_INFO!A70)","v":"Chad"},{"$f":"IF(COUNTRY_INFO!B70=0,\" \",COUNTRY_INFO!B70)","v":"Logone Orientlal"},{"$f":"IF(COUNTRY_INFO!C70=0,\" \",COUNTRY_INFO!C70)","v":"DONIA"},{"$f":"IF(COUNTRY_INFO!$U$9:$U$1000=\"MDA4 (ALB/2*ALB)\", COUNTRY_INFO!$U$9:$U$1000, \" \")","v":" "},null,null,null,null,0,null,null,null,0,null,null,null,0,0,0,0,0," "," "," "," "]
[{"$f":"IF(COUNTRY_INFO!A71=0,\" \",COUNTRY_INFO!A71)","v":"Chad"},{"$f":"IF(COUNTRY_INFO!B71=0,\" \",COUNTRY_INFO!B71)","v":"Logone Orientlal"},{"$f":"IF(COUNTRY_INFO!C71=0,\" \",COUNTRY_INFO!C71)","v":"Goré"},{"$f":"IF(COUNTRY_INFO!$U$9:$U$1000=\"MDA4 (ALB/2*ALB)\", COUNTRY_INFO!$U$9:$U$1000, \" \")","v":" "},null,null,null,null,0,null,null,null,0,null,null,null,0,0,0,0,0," "," "," "," "]
[{"$f":"IF(COUNTRY_INFO!A72=0,\" \",COUNTRY_INFO!A72)","v":"Chad"},{"$f":"IF(COUNTRY_INFO!B72=0,\" \",COUNTRY_INFO!B72)","v":"Logone Orientlal"},{"$f":"IF(COUNTRY_INFO!C72=0,\" \",COUNTRY_INFO!C72)","v":"Kara"},{"$f":"IF(COUNTRY_INFO!$U$9:$U$1000=\"MDA4 (ALB/2*ALB)\", COUNTRY_INFO!$U$9:$U$1000, \" \")","v":" "},null,null,null,null,0,null,null,null,0,null,null,null,0,0,0,0,0," "," "," "," "]
[{"$f":"IF(COUNTRY_INFO!A73=0,\" \",COUNTRY_INFO!A73)","v":"Chad"},{"$f":"IF(COUNTRY_INFO!B73=0,\" \",COUNTRY_INFO!B73)","v":"Logone Orientlal"},{"$f":"IF(COUNTRY_INFO!C73=0,\" \",COUNTRY_INFO!C73)","v":"Larmanaye"},{"$f":"IF(COUNTRY_INFO!$U$9:$U$1000=\"MDA4 (ALB/2*ALB)\", COUNTRY_INFO!$U$9:$U$1000, \" \")","v":" "},null,null,null,null,0,null,null,null,0,null,null,null,0,{"$f":"MAX(J73,N73)","v":0},{"$f":"MAX(K73,O73)","v":0},{"$f":"MAX(L73,P73)","v":0},{"$f":"SUM(R73:T73)","v":0},{"$f":"IF(F73<>0, IF(R73/F73*100=0, \"-\",R73/F73*100), \" \")","v":" "},{"$f":"IF(G73<>0, IF(S73/G73*100=0, \"-\", S73/G73*100), \" \")","v":" "},{"$f":"IF(H73<>0, IF(T73/H73*100=0, \"-\", T73/H73*100), \" \")","v":" "},{"$f":"IF(I73<>0, IF(U73/I73*100=0, \"-\", U73/I73*100), \" \")","v":" "}]
[{"$f":"IF(COUNTRY_INFO!A74=0,\" \",COUNTRY_INFO!A74)","v":"Chad"},{"$f":"IF(COUNTRY_INFO!B74=0,\" \",COUNTRY_INFO!B74)","v":"Mandoul"},{"$f":"IF(COUNTRY_INFO!C74=0,\" \",COUNTRY_INFO!C74)","v":"Bedaya"},{"$f":"IF(COUNTRY_INFO!$U$9:$U$1000=\"MDA4 (ALB/2*ALB)\", COUNTRY_INFO!$U$9:$U$1000, \" \")","v":" "},null,null,null,null,{"$f":"SUM(F74:H74)","v":0},null,null,null,{"$f":"SUM(J74:L74)","v":0},null,null,null,{"$f":"SUM(N74:P74)","v":0},0,0,0,0," "," "," "," "]
[{"$f":"IF(COUNTRY_INFO!A75=0,\" \",COUNTRY_INFO!A75)","v":"Chad"},{"$f":"IF(COUNTRY_INFO!B75=0,\" \",COUNTRY_INFO!B75)","v":"Mandoul"},{"$f":"IF(COUNTRY_INFO!C75=0,\" \",COUNTRY_INFO!C75)","v":"Bedjondo"},{"$f":"IF(COUNTRY_INFO!$U$9:$U$1000=\"MDA4 (ALB/2*ALB)\", COUNTRY_INFO!$U$9:$U$1000, \" \")","v":" "},null,null,null,null,0,null,null,null,0,null,null,null,0,0,0,0,0," "," "," "," "]
[{"$f":"IF(COUNTRY_INFO!A76=0,\" \",COUNTRY_INFO!A76)","v":"Chad"},{"$f":"IF(COUNTRY_INFO!B76=0,\" \",COUNTRY_INFO!B76)","v":"Mandoul"},{"$f":"IF(COUNTRY_INFO!C76=0,\" \",COUNTRY_INFO!C76)","v":"Bekourou"},{"$f":"IF(COUNTRY_INFO!$U$9:$U$1000=\"MDA4 (ALB/2*ALB)\", COUNTRY_INFO!$U$9:$U$1000, \" \")","v":" "},null,null,null,null,0,null,null,null,0,null,null,null,0,0,0,0,0," "," "," "," "]
[{"$f":"IF(COUNTRY_INFO!A77=0,\" \",COUNTRY_INFO!A77)","v":"Chad"},{"$f":"IF(COUNTRY_INFO!B77=0,\" \",COUNTRY_INFO!B77)","v":"Mandoul"},{"$f":"IF(COUNTRY_INFO!C77=0,\" \",COUNTRY_INFO!C77)","v":"Bouna"},{"$f":"IF(COUNTRY_INFO!$U$9:$U$1000=\"MDA4 (ALB/2*ALB)\", COUNTRY_INFO!$U$9:$U$1000, \" \")","v":" "},null,null,null,null,0,null,null,null,0,null,null,null,0,0,0,0,0," "," "," "," "]
[{"$f":"IF(COUNTRY_INFO!A78=0,\" \",COUNTRY_INFO!A78)","v":"Chad"},{"$f":"IF(COUNTRY_INFO!B78=0,\" \",COUNTRY_INFO!B78)","v":"Mandoul"},{"$f":"IF(COUNTRY_INFO!C78=0,\" \",COUNTRY_INFO!C78)","v":"Goundi"},{"$f":"IF(COUNTRY_INFO!$U$9:$U$1000=\"MDA4 (ALB/2*ALB)\", COUNTRY_INFO!$U$9:$U$1000, \" \")","v":" "},null,null,null,null,0,null,null,null,0,null,null,null,0,0,0,0,0," "," "," "," "]
[{"$f":"IF(COUNTRY_INFO!A79=0,\" \",COUNTRY_INFO!A79)","v":"Chad"},{"$f":"IF(COUNTRY_INFO!B79=0,\" \",COUNTRY_INFO!B79)","v":"Mandoul"},{"$f":"IF(COUNTRY_INFO!C79=0,\" \",COUNTRY_INFO!C79)","v":"Koumra"},{"$f":"IF(COUNTRY_INFO!$U$9:$U$1000=\"MDA4 (ALB/2*ALB)\", COUNTRY_INFO!$U$9:$U$1000, \" \")","v":" "},null,null,null,null,0,null,null,null,0,null,null,null,0,0,0,0,0," "," "," "," "]
[{"$f":"IF(COUNTRY_INFO!A80=0,\" \",COUNTRY_INFO!A80)","v":"Chad"},{"$f":"IF(COUNTRY_INFO!B80=0,\" \",COUNTRY_INFO!B80)","v":"Mandoul"},{"$f":"IF(COUNTRY_INFO!C80=0,\" \",COUNTRY_INFO!C80)","v":"Moissala"},{"$f":"IF(COUNTRY_INFO!$U$9:$U$1000=\"MDA4 (ALB/2*ALB)\", COUNTRY_INFO!$U$9:$U$1000, \" \")","v":" "},null,null,null,null,0,null,null,null,0,null,null,null,0,0,0,0,0," "," "," "," "]
[{"$f":"IF(COUNTRY_INFO!A81=0,\" \",COUNTRY_INFO!A81)","v":"Chad"},{"$f":"IF(COUNTRY_INFO!B81=0,\" \",COUNTRY_INFO!B81)","v":"Mayo Kebbi Est"},{"$f":"IF(COUNTRY_INFO!C81=0,\" \",COUNTRY_INFO!C81)","v":"Bongor"},{"$f":"IF(COUNTRY_INFO!$U$9:$U$1000=\"MDA4 (ALB/2*ALB)\", COUNTRY_INFO!$U$9:$U$1000, \" \")","v":" "},null,null,null,null,0,null,null,null,0,null,null,null,0,0,0,0,0," "," "," "," "]
[{"$f":"IF(COUNTRY_INFO!A82=0,\" \",COUNTRY_INFO!A82)","v":"Chad"},{"$f":"IF(COUNTRY_INFO!B82=0,\" \",COUNTRY_INFO!B82)","v":"Mayo Kebbi Est"},{"$f":"IF(COUNTRY_INFO!C82=0,\" \",COUNTRY_INFO!C82)","v":"Fianga"},{"$f":"IF(COUNTRY_INFO!$U$9:$U$1000=\"MDA4 (ALB/2*ALB)\", COUNTRY_INFO!$U$9:$U$1000, \" \")","v":" "},null,null,null,null,0,null,null,null,0,null,null,null,0,0,0,0,0," "," "," "," "]
[{"$f":"IF(COUNTRY_INFO!A83=0,\" \",COUNTRY_INFO!A83)","v":"Chad"},{"$f":"IF(COUNTRY_INFO!B83=0,\" \",COUNTRY_INFO!B83)","v":"Mayo Kebbi Est"},{"$f":"IF(COUNTRY_INFO!C83=0,\" \",COUNTRY_INFO!C83)","v":"Gounou Gaya"},{"$f":"IF(COUNTRY_INFO!$U$9:$U$1000=\"MDA4 (ALB/2*ALB)\", COUNTRY_INFO!$U$9:$U$1000, \" \")","v":" "},null,null,null,null,0,null,null,null,0,null,null,null,0,0,0,0,0," "," "," "," "]
[{"$f":"IF(COUNTRY_INFO!A84=0,\" \",COUNTRY_INFO!A84)","v":"Chad"},{"$f":"IF(COUNTRY_INFO!B84=0,\" \",COUNTRY_INFO!B84)","v":"Mayo Kebbi Est"},{"$f":"IF(COUNTRY_INFO!C84=0,\" \",COUNTRY_INFO!C84)","v":"Guelinding"},{"$f":"IF(COUNTRY_INFO!$U$9:$U$1000=\"MDA4 (ALB/2*ALB)\", COUNTRY_INFO!$U$9:$U$1000, \" \")","v":" "},null,null,null,null,0,null,null,null,0,null,null,null,0,0,0,0,0," "," "," "," "]
[{"$f":"IF(COUNTRY_INFO!A85=0,\" \",COUNTRY_INFO!A85)","v":"Chad"},{"$f":"IF(COUNTRY_INFO!B85=0,\" \",COUNTRY_INFO!B85)","v":"Mayo Kebbi Est"},{"$f":"IF(COUNTRY_INFO!C85=0,\" \",COUNTRY_INFO!C85)","v":"Moulkou"},{"$f":"IF(COUNTRY_INFO!$U$9:$U$1000=\"MDA4 (ALB/2*ALB)\", COUNTRY_INFO!$U$9:$U$1000, \" \")","v":" "},null,null,null,null,0,null,null,null,0,null,null,null,0,0,0,0,0," "," "," "," "]
[{"$f":"IF(COUNTRY_INFO!A86=0,\" \",COUNTRY_INFO!A86)","v":"Chad"},{"$f":"IF(COUNTRY_INFO!B86=0,\" \",COUNTRY_INFO!B86)","v":"Mayo Kebbi Est"},{"$f":"IF(COUNTRY_INFO!C86=0,\" \",COUNTRY_INFO!C86)","v":"Pont Carol"},{"$f":"IF(COUNTRY_INFO!$U$9:$U$1000=\"MDA4 (ALB/2*ALB)\", COUNTRY_INFO!$U$9:$U$1000, \" \")","v":" "},null,null,null,null,0,null,null,null,0,null,null,null,0,0,0,0,0," "," "," "," "]
[{"$f":"IF(COUNTRY_INFO!A87=0,\" \",COUNTRY_INFO!A87)","v":"Chad"},{"$f":"IF(COUNTRY_INFO!B87=0,\" \",COUNTRY_INFO!B87)","v":"Mayo Kebbi Est"},{"$f":"IF(COUNTRY_INFO!C87=0,\" \",COUNTRY_INFO!C87)","v":"Youé"},{"$f":"IF(COUNTRY_INFO!$U$9:$U$1000=\"MDA4 (ALB/2*ALB)\", COUNTRY_INFO!$U$9:$U$1000, \" \")","v":" "},null,null,null,null,0,null,null,null,0,null,null,null,0,0,0,0,0," "," "," "," "]
[{"$f":"IF(COUNTRY_INFO!A88=0,\" \",COUNTRY_INFO!A88)","v":"Chad"},{"$f":"IF(COUNTRY_INFO!B88=0,\" \",COUNTRY_INFO!B88)","v":"Mayo Kebbi Ouest"},{"$f":"IF(COUNTRY_INFO!C88=0,\" \",COUNTRY_INFO!C88)","v":"Binder"},{"$f":"IF(COUNTRY_INFO!$U$9:$U$1000=\"MDA4 (ALB/2*ALB)\", COUNTRY_INFO!$U$9:$U$1000, \" \")","v":" "},null,null,null,null,0,null,null,null,0,null,null,null,0,0,0,0,0," "," "," "," "]
[{"$f":"IF(COUNTRY_INFO!A89=0,\" \",COUNTRY_INFO!A89)","v":"Chad"},{"$f":"IF(COUNTRY_INFO!B89=0,\" \",COUNTRY_INFO!B89)","v":"Mayo Kebbi Ouest"},{"$f":"IF(COUNTRY_INFO!C89=0,\" \",COUNTRY_INFO!C89)","v":"Gagal"},{"$f":"IF(COUNTRY_INFO!$U$9:$U$1000=\"MDA4 (ALB/2*ALB)\", COUNTRY_INFO!$U$9:$U$1000, \" \")","v":" "},null,null,null,null,0,null,null,null,0,null,null,null,0,0,0,0,0," "," "," "," "]
[{"$f":"IF(COUNTRY_INFO!A90=0,\" \",COUNTRY_INFO!A90)","v":"Chad"},{"$f":"IF(COUNTRY_INFO!B90=0,\" \",COUNTRY_INFO!B90)","v":"Mayo Kebbi Ouest"},{"$f":"IF(COUNTRY_INFO!C90=0,\" \",COUNTRY_INFO!C90)","v":"Guegou"},{"$f":"IF(COUNTRY_INFO!$U$9:$U$1000=\"MDA4 (ALB/2*ALB)\", COUNTRY_INFO!$U$9:$U$1000, \" \")","v":" "},null,null,null,null,0,null,null,null,0,null,null,null,0,0,0,0,0," "," "," "," "]
[{"$f":"IF(COUNTRY_INFO!A91=0,\" \",COUNTRY_INFO!A91)","v":"Chad"},{"$f":"IF(COUNTRY_INFO!B91=0,\" \",COUNTRY_INFO!B91)","v":"Mayo Kebbi Ouest"},{"$f":"IF(COUNTRY_INFO!C91=0,\" \",COUNTRY_INFO!C91)","v":"GUELO"},{"$f":"IF(COUNTRY_INFO!$U$9:$U$1000=\"MDA4 (ALB/2*ALB)\", COUNTRY_INFO!$U$9:$U$1000, \" \")","v":" "},null,null,null,null,0,null,null,null,0,null,null,null,0,0,0,0,0," "," "," "," "]
[{"$f":"IF(COUNTRY_INFO!A92=0,\" \",COUNTRY_INFO!A92)","v":"Chad"},{"$f":"IF(COUNTRY_INFO!B92=0,\" \",COUNTRY_INFO!B92)","v":"Mayo Kebbi Ouest"},{"$f":"IF(COUNTRY_INFO!C92=0,\" \",COUNTRY_INFO!C92)","v":"Lagon"},{"$f":"IF(COUNTRY_INFO!$U$9:$U$1000=\"MDA4 (ALB/2*ALB)\", COUNTRY_INFO!$U$9:$U$1000, \" \")","v":" "},null,null,null,null,0,null,null,null,0,null,null,null,0,0,0,0,0," "," "," "," "]
[{"$f":"IF(COUNTRY_INFO!A93=0,\" \",COUNTRY_INFO!A93)","v":"Chad"},{"$f":"IF(COUNTRY_INFO!B93=0,\" \",COUNTRY_INFO!B93)","v":"Mayo Kebbi Ouest"},{"$f":"IF(COUNTRY_INFO!C93=0,\" \",COUNTRY_INFO!C93)","v":"Lamé"},{"$f":"IF(COUNTRY_INFO!$U$9:$U$1000=\"MDA4 (ALB/2*ALB)\", COUNTRY_INFO!$U$9:$U$1000, \" \")","v":" "},null,null,null,null,0,null,null,null,0,null,null,null,0,0,0,0,0," "," "," "," "]
[{"$f":"IF(COUNTRY_INFO!A94=0,\" \",COUNTRY_INFO!A94)","v":"Chad"},{"$f":"IF(COUNTRY_INFO!B94=0,\" \",COUNTRY_INFO!B94)","v":"Mayo Kebbi Ouest"},{"$f":"IF(COUNTRY_INFO!C94=0,\" \",COUNTRY_INFO!C94)","v":"Lere"},{"$f":"IF(COUNTRY_INFO!$U$9:$U$1000=\"MDA4 (ALB/2*ALB)\", COUNTRY_INFO!$U$9:$U$1000, \" \")","v":" "},null,null,null,null,0,null,null,null,0,null,null,null,0,0,0,0,0," "," "," "," "]
[{"$f":"IF(COUNTRY_INFO!A95=0,\" \",COUNTRY_INFO!A95)","v":"Chad"},{"$f":"IF(COUNTRY_INFO!B95=0,\" \",COUNTRY_INFO!B95)","v":"Mayo Kebbi Ouest"},{"$f":"IF(COUNTRY_INFO!C95=0,\" \",COUNTRY_INFO!C95)","v":"Pala"},{"$f":"IF(COUNTRY_INFO!$U$9:$U$1000=\"MDA4 (ALB/2*ALB)\", COUNTRY_INFO!$U$9:$U$1000, \" \")","v":" "},null,null,null,null,0,null,null,null,0,null,null,null,0,0,0,0,0," "," "," "," "]
[{"$f":"IF(COUNTRY_INFO!A96=0,\" \",COUNTRY_INFO!A96)","v":"Chad"},{"$f":"IF(COUNTRY_INFO!B96=0,\" \",COUNTRY_INFO!B96)","v":"Mayo Kebbi Ouest"},{"$f":"IF(COUNTRY_INFO!C96=0,\" \",COUNTRY_INFO!C96)","v":"Torrock"},{"$f":"IF(COUNTRY_INFO!$U$9:$U$1000=\"MDA4 (ALB/2*ALB)\", COUNTRY_INFO!$U$9:$U$1000, \" \")","v":" "},null,null,null,null,0,null,null,null,0,null,null,null,0,0,0,0,0," "," "," "," "]
[{"$f":"IF(COUNTRY_INFO!A97=0,\" \",COUNTRY_INFO!A97)","v":"Chad"},{"$f":"IF(COUNTRY_INFO!B97=0,\" \",COUNTRY_INFO!B97)","v":"Moyen Chari"},{"$f":"IF(COUNTRY_INFO!C97=0,\" \",COUNTRY_INFO!C97)","v":"Balimba"},{"$f":"IF(COUNTRY_INFO!$U$9:$U$1000=\"MDA4 (ALB/2*ALB)\", COUNTRY_INFO!$U$9:$U$1000, \" \")","v":" "},null,null,null,null,0,null,null,null,0,null,null,null,0,0,0,0,0," "," "," "," "]
[{"$f":"IF(COUNTRY_INFO!A98=0,\" \",COUNTRY_INFO!A98)","v":"Chad"},{"$f":"IF(COUNTRY_INFO!B98=0,\" \",COUNTRY_INFO!B98)","v":"Moyen Chari"},{"$f":"IF(COUNTRY_INFO!C98=0,\" \",COUNTRY_INFO!C98)","v":"Biobe Singako"},{"$f":"IF(COUNTRY_INFO!$U$9:$U$1000=\"MDA4 (ALB/2*ALB)\", COUNTRY_INFO!$U$9:$U$1000, \" \")","v":" "},null,null,null,null,0,null,null,null,0,null,null,null,0,0,0,0,0," "," "," "," "]
[{"$f":"IF(COUNTRY_INFO!A99=0,\" \",COUNTRY_INFO!A99)","v":"Chad"},{"$f":"IF(COUNTRY_INFO!B99=0,\" \",COUNTRY_INFO!B99)","v":"Moyen Chari"},{"$f":"IF(COUNTRY_INFO!C99=0,\" \",COUNTRY_INFO!C99)","v":"Danamadji"},{"$f":"IF(COUNTRY_INFO!$U$9:$U$1000=\"MDA4 (ALB/2*ALB)\", COUNTRY_INFO!$U$9:$U$1000, \" \")","v":" "},null,null,null,null,0,null,null,null,0,null,null,null,0,0,0,0,0," "," "," "," "]
[{"$f":"IF(COUNTRY_INFO!A100=0,\" \",COUNTRY_INFO!A100)","v":"Chad"},{"$f":"IF(COUNTRY_INFO!B100=0,\" \",COUNTRY_INFO!B100)","v":"Moyen Chari"},{"$f":"IF(COUNTRY_INFO!C100=0,\" \",COUNTRY_INFO!C100)","v":"Korbol"},{"$f":"IF(COUNTRY_INFO!$U$9:$U$1000=\"MDA4 (ALB/2*ALB)\", COUNTRY_INFO!$U$9:$U$1000, \" \")","v":" "},null,null,null,null,0,null,null,null,0,null,null,null,0,0,0,0,0," "," "," "," "]
[{"$f":"IF(COUNTRY_INFO!A101=0,\" \",COUNTRY_INFO!A101)","v":"Chad"},{"$f":"IF(COUNTRY_INFO!B101=0,\" \",COUNTRY_INFO!B101)","v":"Moyen Chari"},{"$f":"IF(COUNTRY_INFO!C101=0,\" \",COUNTRY_INFO!C101)","v":"Koumogo"},{"$f":"IF(COUNTRY_INFO!$U$9:$U$1000=\"MDA4 (ALB/2*ALB)\", COUNTRY_INFO!$U$9:$U$1000, \" \")","v":" "},null,null,null,null,0,null,null,null,0,null,null,null,0,0,0,0,0," "," "," "," "]
[{"$f":"IF(COUNTRY_INFO!A102=0,\" \",COUNTRY_INFO!A102)","v":"Chad"},{"$f":"IF(COUNTRY_INFO!B102=0,\" \",COUNTRY_INFO!B102)","v":"Moyen Chari"},{"$f":"IF(COUNTRY_INFO!C102=0,\" \",COUNTRY_INFO!C102)","v":"Kyabe"},{"$f":"IF(COUNTRY_INFO!$U$9:$U$1000=\"MDA4 (ALB/2*ALB)\", COUNTRY_INFO!$U$9:$U$1000, \" \")","v":" "},null,null,null,null,0,null,null,null,0,null,null,null,0,0,0,0,0," "," "," "," "]
[{"$f":"IF(COUNTRY_INFO!A103=0,\" \",COUNTRY_INFO!A103)","v":"Chad"},{"$f":"IF(COUNTRY_INFO!B103=0,\" \",COUNTRY_INFO!B103)","v":"Moyen Chari"},{"$f":"IF(COUNTRY_INFO!C103=0,\" \",COUNTRY_INFO!C103)","v":"Maro"},{"$f":"IF(COUNTRY_INFO!$U$9:$U$1000=\"MDA4 (ALB/2*ALB)\", COUNTRY_INFO!$U$9:$U$1000, \" \")","v":" "},null,null,null,null,0,null,null,null,0,null,null,null,0,0,0,0,0," "," "," "," "]
[{"$f":"IF(COUNTRY_INFO!A104=0,\" \",COUNTRY_INFO!A104)","v":"Chad"},{"$f":"IF(COUNTRY_INFO!B104=0,\" \",COUNTRY_INFO!B104)","v":"Moyen Chari"},{"$f":"IF(COUNTRY_INFO!C104=0,\" \",COUNTRY_INFO!C104)","v":"Sarh"},{"$f":"IF(COUNTRY_INFO!$U$9:$U$1000=\"MDA4 (ALB/2*ALB)\", COUNTRY_INFO!$U$9:$U$1000, \" \")","v":" "},null,null,null,null,0,null,null,null,0,null,null,null,0,0,0,0,0," "," "," "," "]
[{"$f":"IF(COUNTRY_INFO!A105=0,\" \",COUNTRY_INFO!A105)","v":"Chad"},{"$f":"IF(COUNTRY_INFO!B105=0,\" \",COUNTRY_INFO!B105)","v":"N'Djaména"},{"$f":"IF(COUNTRY_INFO!C105=0,\" \",COUNTRY_INFO!C105)","v":"N'Djaména Centre"},{"$f":"IF(COUNTRY_INFO!$U$9:$U$1000=\"MDA4 (ALB/2*ALB)\", COUNTRY_INFO!$U$9:$U$1000, \" \")","v":" "},null,null,null,null,0,null,null,null,0,null,null,null,0,{"$f":"MAX(J105,N105)","v":0},{"$f":"MAX(K105,O105)","v":0},{"$f":"MAX(L105,P105)","v":0},{"$f":"SUM(R105:T105)","v":0},{"$f":"IF(F105<>0, IF(R105/F105*100=0, \"-\",R105/F105*100), \" \")","v":" "},{"$f":"IF(G105<>0, IF(S105/G105*100=0, \"-\", S105/G105*100), \" \")","v":" "},{"$f":"IF(H105<>0, IF(T105/H105*100=0, \"-\", T105/H105*100), \" \")","v":" "},{"$f":"IF(I105<>0, IF(U105/I105*100=0, \"-\", U105/I105*100), \" \")","v":" "}]
[{"$f":"IF(COUNTRY_INFO!A106=0,\" \",COUNTRY_INFO!A106)","v":"Chad"},{"$f":"IF(COUNTRY_INFO!B106=0,\" \",COUNTRY_INFO!B106)","v":"N'Djaména"},{"$f":"IF(COUNTRY_INFO!C106=0,\" \",COUNTRY_INFO!C106)","v":"N'Djaména Est"},{"$f":"IF(COUNTRY_INFO!$U$9:$U$1000=\"MDA4 (ALB/2*ALB)\", COUNTRY_INFO!$U$9:$U$1000, \" \")","v":" "},null,null,null,null,0,null,null,null,0,null,null,null,0,0,0,0,0," "," "," "," "]
[{"$f":"IF(COUNTRY_INFO!A107=0,\" \",COUNTRY_INFO!A107)","v":"Chad"},{"$f":"IF(COUNTRY_INFO!B107=0,\" \",COUNTRY_INFO!B107)","v":"N'Djaména"},{"$f":"IF(COUNTRY_INFO!C107=0,\" \",COUNTRY_INFO!C107)","v":"N'Djaména Nord"},{"$f":"IF(COUNTRY_INFO!$U$9:$U$1000=\"MDA4 (ALB/2*ALB)\", COUNTRY_INFO!$U$9:$U$1000, \" \")","v":" "},null,null,null,null,0,null,null,null,0,null,null,null,0,0,0,0,0," "," "," "," "]
[{"$f":"IF(COUNTRY_INFO!A108=0,\" \",COUNTRY_INFO!A108)","v":"Chad"},{"$f":"IF(COUNTRY_INFO!B108=0,\" \",COUNTRY_INFO!B108)","v":"N'Djaména"},{"$f":"IF(COUNTRY_INFO!C108=0,\" \",COUNTRY_INFO!C108)","v":"N'Djaména Sud"},{"$f":"IF(COUNTRY_INFO!$U$9:$U$1000=\"MDA4 (ALB/2*ALB)\", COUNTRY_INFO!$U$9:$U$1000, \" \")","v":" "},null,null,null,null,0,null,null,null,0,null,null,null,0,0,0,0,0," "," "," "," "]
[{"$f":"IF(COUNTRY_INFO!A109=0,\" \",COUNTRY_INFO!A109)","v":"Chad"},{"$f":"IF(COUNTRY_INFO!B109=0,\" \",COUNTRY_INFO!B109)","v":"N'Djamena"},{"$f":"IF(COUNTRY_INFO!C109=0,\" \",COUNTRY_INFO!C109)","v":"9eme Arrondissement"},{"$f":"IF(COUNTRY_INFO!$U$9:$U$1000=\"MDA4 (ALB/2*ALB)\", COUNTRY_INFO!$U$9:$U$1000, \" \")","v":" "},null,null,null,null,0,null,null,null,0,null,null,null,0,0,0,0,0," "," "," "," "]
[{"$f":"IF(COUNTRY_INFO!A110=0,\" \",COUNTRY_INFO!A110)","v":"Chad"},{"$f":"IF(COUNTRY_INFO!B110=0,\" \",COUNTRY_INFO!B110)","v":"Ouaddai"},{"$f":"IF(COUNTRY_INFO!C110=0,\" \",COUNTRY_INFO!C110)","v":"Abdi"},{"$f":"IF(COUNTRY_INFO!$U$9:$U$1000=\"MDA4 (ALB/2*ALB)\", COUNTRY_INFO!$U$9:$U$1000, \" \")","v":" "},null,null,null,null,0,null,null,null,0,null,null,null,0,0,0,0,0," "," "," "," "]
[{"$f":"IF(COUNTRY_INFO!A111=0,\" \",COUNTRY_INFO!A111)","v":"Chad"},{"$f":"IF(COUNTRY_INFO!B111=0,\" \",COUNTRY_INFO!B111)","v":"Ouaddai"},{"$f":"IF(COUNTRY_INFO!C111=0,\" \",COUNTRY_INFO!C111)","v":"Abeche"},{"$f":"IF(COUNTRY_INFO!$U$9:$U$1000=\"MDA4 (ALB/2*ALB)\", COUNTRY_INFO!$U$9:$U$1000, \" \")","v":" "},null,null,null,null,0,null,null,null,0,null,null,null,0,0,0,0,0," "," "," "," "]
[{"$f":"IF(COUNTRY_INFO!A112=0,\" \",COUNTRY_INFO!A112)","v":"Chad"},{"$f":"IF(COUNTRY_INFO!B112=0,\" \",COUNTRY_INFO!B112)","v":"Ouaddai"},{"$f":"IF(COUNTRY_INFO!C112=0,\" \",COUNTRY_INFO!C112)","v":"Abougoudam"},{"$f":"IF(COUNTRY_INFO!$U$9:$U$1000=\"MDA4 (ALB/2*ALB)\", COUNTRY_INFO!$U$9:$U$1000, \" \")","v":" "},null,null,null,null,0,null,null,null,0,null,null,null,0,0,0,0,0," "," "," "," "]
[{"$f":"IF(COUNTRY_INFO!A113=0,\" \",COUNTRY_INFO!A113)","v":"Chad"},{"$f":"IF(COUNTRY_INFO!B113=0,\" \",COUNTRY_INFO!B113)","v":"Ouaddai"},{"$f":"IF(COUNTRY_INFO!C113=0,\" \",COUNTRY_INFO!C113)","v":"Adré"},{"$f":"IF(COUNTRY_INFO!$U$9:$U$1000=\"MDA4 (ALB/2*ALB)\", COUNTRY_INFO!$U$9:$U$1000, \" \")","v":" "},null,null,null,null,0,null,null,null,0,null,null,null,0,0,0,0,0," "," "," "," "]
[{"$f":"IF(COUNTRY_INFO!A114=0,\" \",COUNTRY_INFO!A114)","v":"Chad"},{"$f":"IF(COUNTRY_INFO!B114=0,\" \",COUNTRY_INFO!B114)","v":"Salamat"},{"$f":"IF(COUNTRY_INFO!C114=0,\" \",COUNTRY_INFO!C114)","v":"Aboudeia"},{"$f":"IF(COUNTRY_INFO!$U$9:$U$1000=\"MDA4 (ALB/2*ALB)\", COUNTRY_INFO!$U$9:$U$1000, \" \")","v":" "},null,null,null,null,0,null,null,null,0,null,null,null,0,0,0,0,0," "," "," "," "]
[{"$f":"IF(COUNTRY_INFO!A115=0,\" \",COUNTRY_INFO!A115)","v":"Chad"},{"$f":"IF(COUNTRY_INFO!B115=0,\" \",COUNTRY_INFO!B115)","v":"Salamat"},{"$f":"IF(COUNTRY_INFO!C115=0,\" \",COUNTRY_INFO!C115)","v":"Am-Timan"},{"$f":"IF(COUNTRY_INFO!$U$9:$U$1000=\"MDA4 (ALB/2*ALB)\", COUNTRY_INFO!$U$9:$U$1000, \" \")","v":" "},null,null,null,null,0,null,null,null,0,null,null,null,0,0,0,0,0," "," "," "," "]
[{"$f":"IF(COUNTRY_INFO!A116=0,\" \",COUNTRY_INFO!A116)","v":"Chad"},{"$f":"IF(COUNTRY_INFO!B116=0,\" \",COUNTRY_INFO!B116)","v":"Salamat"},{"$f":"IF(COUNTRY_INFO!C116=0,\" \",COUNTRY_INFO!C116)","v":"Haraze"},{"$f":"IF(COUNTRY_INFO!$U$9:$U$1000=\"MDA4 (ALB/2*ALB)\", COUNTRY_INFO!$U$9:$U$1000, \" \")","v":" "},null,null,null,null,0,null,null,null,0,null,null,null,0,0,0,0,0," "," "," "," "]
[{"$f":"IF(COUNTRY_INFO!A117=0,\" \",COUNTRY_INFO!A117)","v":"Chad"},{"$f":"IF(COUNTRY_INFO!B117=0,\" \",COUNTRY_INFO!B117)","v":"Sila"},{"$f":"IF(COUNTRY_INFO!C117=0,\" \",COUNTRY_INFO!C117)","v":"Am-dam"},{"$f":"IF(COUNTRY_INFO!$U$9:$U$1000=\"MDA4 (ALB/2*ALB)\", COUNTRY_INFO!$U$9:$U$1000, \" \")","v":" "},null,null,null,null,0,null,null,null,0,null,null,null,0,0,0,0,0," "," "," "," "]
[{"$f":"IF(COUNTRY_INFO!A118=0,\" \",COUNTRY_INFO!A118)","v":"Chad"},{"$f":"IF(COUNTRY_INFO!B118=0,\" \",COUNTRY_INFO!B118)","v":"Sila"},{"$f":"IF(COUNTRY_INFO!C118=0,\" \",COUNTRY_INFO!C118)","v":"Goz-beida"},{"$f":"IF(COUNTRY_INFO!$U$9:$U$1000=\"MDA4 (ALB/2*ALB)\", COUNTRY_INFO!$U$9:$U$1000, \" \")","v":" "},null,null,null,null,0,null,null,null,0,null,null,null,0,0,0,0,0," "," "," "," "]
[{"$f":"IF(COUNTRY_INFO!A119=0,\" \",COUNTRY_INFO!A119)","v":"Chad"},{"$f":"IF(COUNTRY_INFO!B119=0,\" \",COUNTRY_INFO!B119)","v":"Sila"},{"$f":"IF(COUNTRY_INFO!C119=0,\" \",COUNTRY_INFO!C119)","v":"Koukou"},{"$f":"IF(COUNTRY_INFO!$U$9:$U$1000=\"MDA4 (ALB/2*ALB)\", COUNTRY_INFO!$U$9:$U$1000, \" \")","v":" "},null,null,null,null,0,null,null,null,0,null,null,null,0,0,0,0,0," "," "," "," "]
[{"$f":"IF(COUNTRY_INFO!A120=0,\" \",COUNTRY_INFO!A120)","v":"Chad"},{"$f":"IF(COUNTRY_INFO!B120=0,\" \",COUNTRY_INFO!B120)","v":"Sila"},{"$f":"IF(COUNTRY_INFO!C120=0,\" \",COUNTRY_INFO!C120)","v":"Tissi"},{"$f":"IF(COUNTRY_INFO!$U$9:$U$1000=\"MDA4 (ALB/2*ALB)\", COUNTRY_INFO!$U$9:$U$1000, \" \")","v":" "},null,null,null,null,0,null,null,null,0,null,null,null,0,0,0,0,0," "," "," "," "]
[{"$f":"IF(COUNTRY_INFO!A121=0,\" \",COUNTRY_INFO!A121)","v":"Chad"},{"$f":"IF(COUNTRY_INFO!B121=0,\" \",COUNTRY_INFO!B121)","v":"Tandjile"},{"$f":"IF(COUNTRY_INFO!C121=0,\" \",COUNTRY_INFO!C121)","v":"Batchoro"},{"$f":"IF(COUNTRY_INFO!$U$9:$U$1000=\"MDA4 (ALB/2*ALB)\", COUNTRY_INFO!$U$9:$U$1000, \" \")","v":" "},null,null,null,null,0,null,null,null,0,null,null,null,0,0,0,0,0," "," "," "," "]
[{"$f":"IF(COUNTRY_INFO!A122=0,\" \",COUNTRY_INFO!A122)","v":"Chad"},{"$f":"IF(COUNTRY_INFO!B122=0,\" \",COUNTRY_INFO!B122)","v":"Tandjile"},{"$f":"IF(COUNTRY_INFO!C122=0,\" \",COUNTRY_INFO!C122)","v":"Bere"},{"$f":"IF(COUNTRY_INFO!$U$9:$U$1000=\"MDA4 (ALB/2*ALB)\", COUNTRY_INFO!$U$9:$U$1000, \" \")","v":" "},null,null,null,null,0,null,null,null,0,null,null,null,0,0,0,0,0," "," "," "," "]
[{"$f":"IF(COUNTRY_INFO!A123=0,\" \",COUNTRY_INFO!A123)","v":"Chad"},{"$f":"IF(COUNTRY_INFO!B123=0,\" \",COUNTRY_INFO!B123)","v":"Tandjile"},{"$f":"IF(COUNTRY_INFO!C123=0,\" \",COUNTRY_INFO!C123)","v":"Bologo"},{"$f":"IF(COUNTRY_INFO!$U$9:$U$1000=\"MDA4 (ALB/2*ALB)\", COUNTRY_INFO!$U$9:$U$1000, \" \")","v":" "},null,null,null,null,0,null,null,null,0,null,null,null,0,0,0,0,0," "," "," "," "]
[{"$f":"IF(COUNTRY_INFO!A124=0,\" \",COUNTRY_INFO!A124)","v":"Chad"},{"$f":"IF(COUNTRY_INFO!B124=0,\" \",COUNTRY_INFO!B124)","v":"Tandjile"},{"$f":"IF(COUNTRY_INFO!C124=0,\" \",COUNTRY_INFO!C124)","v":"Dafra"},{"$f":"IF(COUNTRY_INFO!$U$9:$U$1000=\"MDA4 (ALB/2*ALB)\", COUNTRY_INFO!$U$9:$U$1000, \" \")","v":" "},null,null,null,null,0,null,null,null,0,null,null,null,0,0,0,0,0," "," "," "," "]
[{"$f":"IF(COUNTRY_INFO!A125=0,\" \",COUNTRY_INFO!A125)","v":"Chad"},{"$f":"IF(COUNTRY_INFO!B125=0,\" \",COUNTRY_INFO!B125)","v":"Tandjile"},{"$f":"IF(COUNTRY_INFO!C125=0,\" \",COUNTRY_INFO!C125)","v":"Deressia"},{"$f":"IF(COUNTRY_INFO!$U$9:$U$1000=\"MDA4 (ALB/2*ALB)\", COUNTRY_INFO!$U$9:$U$1000, \" \")","v":" "},null,null,null,null,0,null,null,null,0,null,null,null,0,0,0,0,0," "," "," "," "]
[{"$f":"IF(COUNTRY_INFO!A126=0,\" \",COUNTRY_INFO!A126)","v":"Chad"},{"$f":"IF(COUNTRY_INFO!B126=0,\" \",COUNTRY_INFO!B126)","v":"Tandjile"},{"$f":"IF(COUNTRY_INFO!C126=0,\" \",COUNTRY_INFO!C126)","v":"Donamanga"},{"$f":"IF(COUNTRY_INFO!$U$9:$U$1000=\"MDA4 (ALB/2*ALB)\", COUNTRY_INFO!$U$9:$U$1000, \" \")","v":" "},null,null,null,null,0,null,null,null,0,null,null,null,0,0,0,0,0," "," "," "," "]
[{"$f":"IF(COUNTRY_INFO!A127=0,\" \",COUNTRY_INFO!A127)","v":"Chad"},{"$f":"IF(COUNTRY_INFO!B127=0,\" \",COUNTRY_INFO!B127)","v":"Tandjile"},{"$f":"IF(COUNTRY_INFO!C127=0,\" \",COUNTRY_INFO!C127)","v":"Guidari"},{"$f":"IF(COUNTRY_INFO!$U$9:$U$1000=\"MDA4 (ALB/2*ALB)\", COUNTRY_INFO!$U$9:$U$1000, \" \")","v":" "},null,null,null,null,0,null,null,null,0,null,null,null,0,0,0,0,0," "," "," "," "]
[{"$f":"IF(COUNTRY_INFO!A128=0,\" \",COUNTRY_INFO!A128)","v":"Chad"},{"$f":"IF(COUNTRY_INFO!B128=0,\" \",COUNTRY_INFO!B128)","v":"Tandjile"},{"$f":"IF(COUNTRY_INFO!C128=0,\" \",COUNTRY_INFO!C128)","v":"Kelo"},{"$f":"IF(COUNTRY_INFO!$U$9:$U$1000=\"MDA4 (ALB/2*ALB)\", COUNTRY_INFO!$U$9:$U$1000, \" \")","v":" "},null,null,null,null,0,null,null,null,0,null,null,null,0,0,0,0,0," "," "," "," "]
[{"$f":"IF(COUNTRY_INFO!A129=0,\" \",COUNTRY_INFO!A129)","v":"Chad"},{"$f":"IF(COUNTRY_INFO!B129=0,\" \",COUNTRY_INFO!B129)","v":"Tandjile"},{"$f":"IF(COUNTRY_INFO!C129=0,\" \",COUNTRY_INFO!C129)","v":"Kolon"},{"$f":"IF(COUNTRY_INFO!$U$9:$U$1000=\"MDA4 (ALB/2*ALB)\", COUNTRY_INFO!$U$9:$U$1000, \" \")","v":" "},null,null,null,null,0,null,null,null,0,null,null,null,0,0,0,0,0," "," "," "," "]
[{"$f":"IF(COUNTRY_INFO!A130=0,\" \",COUNTRY_INFO!A130)","v":"Chad"},{"$f":"IF(COUNTRY_INFO!B130=0,\" \",COUNTRY_INFO!B130)","v":"Tandjile"},{"$f":"IF(COUNTRY_INFO!C130=0,\" \",COUNTRY_INFO!C130)","v":"Lai"},{"$f":"IF(COUNTRY_INFO!$U$9:$U$1000=\"MDA4 (ALB/2*ALB)\", COUNTRY_INFO!$U$9:$U$1000, \" \")","v":" "},null,null,null,null,0,null,null,null,0,null,null,null,0,0,0,0,0," "," "," "," "]
[{"$f":"IF(COUNTRY_INFO!A131=0,\" \",COUNTRY_INFO!A131)","v":"Chad"},{"$f":"IF(COUNTRY_INFO!B131=0,\" \",COUNTRY_INFO!B131)","v":"Tibesti"},{"$f":"IF(COUNTRY_INFO!C131=0,\" \",COUNTRY_INFO!C131)","v":"Bardaï"},{"$f":"IF(COUNTRY_INFO!$U$9:$U$1000=\"MDA4 (ALB/2*ALB)\", COUNTRY_INFO!$U$9:$U$1000, \" \")","v":" "},null,null,null,null,0,null,null,null,0,null,null,null,0,0,0,0,0," "," "," "," "]
[{"$f":"IF(COUNTRY_INFO!A132=0,\" \",COUNTRY_INFO!A132)","v":"Chad"},{"$f":"IF(COUNTRY_INFO!B132=0,\" \",COUNTRY_INFO!B132)","v":"Tibesti"},{"$f":"IF(COUNTRY_INFO!C132=0,\" \",COUNTRY_INFO!C132)","v":"Zouar"},{"$f":"IF(COUNTRY_INFO!$U$9:$U$1000=\"MDA4 (ALB/2*ALB)\", COUNTRY_INFO!$U$9:$U$1000, \" \")","v":" "},null,null,null,null,0,null,null,null,0,null,null,null,0,0,0,0,0," "," "," "," "]
[{"$f":"IF(COUNTRY_INFO!A133=0,\" \",COUNTRY_INFO!A133)","v":"Chad"},{"$f":"IF(COUNTRY_INFO!B133=0,\" \",COUNTRY_INFO!B133)","v":"Wadi Fira"},{"$f":"IF(COUNTRY_INFO!C133=0,\" \",COUNTRY_INFO!C133)","v":"amzoer"},{"$f":"IF(COUNTRY_INFO!$U$9:$U$1000=\"MDA4 (ALB/2*ALB)\", COUNTRY_INFO!$U$9:$U$1000, \" \")","v":" "},null,null,null,null,0,null,null,null,0,null,null,null,0,0,0,0,0," "," "," "," "]
[{"$f":"IF(COUNTRY_INFO!A134=0,\" \",COUNTRY_INFO!A134)","v":"Chad"},{"$f":"IF(COUNTRY_INFO!B134=0,\" \",COUNTRY_INFO!B134)","v":"Wadi Fira"},{"$f":"IF(COUNTRY_INFO!C134=0,\" \",COUNTRY_INFO!C134)","v":"Arada"},{"$f":"IF(COUNTRY_INFO!$U$9:$U$1000=\"MDA4 (ALB/2*ALB)\", COUNTRY_INFO!$U$9:$U$1000, \" \")","v":" "},null,null,null,null,0,null,null,null,0,null,null,null,0,0,0,0,0," "," "," "," "]
[{"$f":"IF(COUNTRY_INFO!A135=0,\" \",COUNTRY_INFO!A135)","v":"Chad"},{"$f":"IF(COUNTRY_INFO!B135=0,\" \",COUNTRY_INFO!B135)","v":"Wadi Fira"},{"$f":"IF(COUNTRY_INFO!C135=0,\" \",COUNTRY_INFO!C135)","v":"Biltine"},{"$f":"IF(COUNTRY_INFO!$U$9:$U$1000=\"MDA4 (ALB/2*ALB)\", COUNTRY_INFO!$U$9:$U$1000, \" \")","v":" "},null,null,null,null,0,null,null,null,0,null,null,null,0,0,0,0,0," "," "," "," "]
[{"$f":"IF(COUNTRY_INFO!A136=0,\" \",COUNTRY_INFO!A136)","v":"Chad"},{"$f":"IF(COUNTRY_INFO!B136=0,\" \",COUNTRY_INFO!B136)","v":"Wadi Fira"},{"$f":"IF(COUNTRY_INFO!C136=0,\" \",COUNTRY_INFO!C136)","v":"Guéréda"},{"$f":"IF(COUNTRY_INFO!$U$9:$U$1000=\"MDA4 (ALB/2*ALB)\", COUNTRY_INFO!$U$9:$U$1000, \" \")","v":" "},null,null,null,null,0,null,null,null,0,null,null,null,0,0,0,0,0," "," "," "," "]
[{"$f":"IF(COUNTRY_INFO!A137=0,\" \",COUNTRY_INFO!A137)","v":"Chad"},{"$f":"IF(COUNTRY_INFO!B137=0,\" \",COUNTRY_INFO!B137)","v":"Wadi Fira"},{"$f":"IF(COUNTRY_INFO!C137=0,\" \",COUNTRY_INFO!C137)","v":"Iriba"},{"$f":"IF(COUNTRY_INFO!$U$9:$U$1000=\"MDA4 (ALB/2*ALB)\", COUNTRY_INFO!$U$9:$U$1000, \" \")","v":" "},null,null,null,null,0,null,null,null,0,null,null,null,0,0,0,0,{"$f":"SUM(R137:T137)","v":0}," "," "," "," "]
[{"$f":"IF(COUNTRY_INFO!A138=0,\" \",COUNTRY_INFO!A138)","v":"Chad"},{"$f":"IF(COUNTRY_INFO!B138=0,\" \",COUNTRY_INFO!B138)","v":"Wadi Fira"},{"$f":"IF(COUNTRY_INFO!C138=0,\" \",COUNTRY_INFO!C138)","v":"Matadjana"},{"$f":"IF(COUNTRY_INFO!$U$9:$U$1000=\"MDA4 (ALB/2*ALB)\", COUNTRY_INFO!$U$9:$U$1000, \" \")","v":" "},null,null,null,null,{"$f":"SUM(F138:H138)","v":0},null,null,null,{"$f":"SUM(J138:L138)","v":0},null,null,null,{"$f":"SUM(N138:P138)","v":0},0,0,0,0," "," "," "," "]

{"sheet":"MDA3","index":4,"n_rows":138,"n_cols":31,"rows_kept":138,"cut":false,"hidden":false,"merged":[[5,5,5,7],[5,17,5,19],[3,0,3,2],[5,0,5,2],[5,3,6,3],[5,4,6,4],[5,8,5,10],[5,11,5,13],[5,14,5,16]]}
["MDA 3 - Ivermectine (IVM) "]
["Structure administrative, population nécessitant une chimioprévention par groupe d'âge, population traitée par groupe d'âge et couverture"]
[]
["TOTAL",null,null,null,null,{"$f":"SUM(F$9:F$1000)","v":573351},963596,1536947,523105,920212,1443317,0,0,0,523105,920212,1443317,{"$f":"IF(F4<>0, IF(O4/F4*100=0, \"-\", O4/F4*100), \" \")","v":91.236432830848813},{"$f":"IF(G4<>0, IF(P4/G4*100=0, \"-\", P4/G4*100), \" \")","v":95.497698205472005},{"$f":"IF(H4<>0, IF(Q4/H4*100=0, \"-\", Q4/H4*100), \" \")","v":93.908052782561796}]
[]
["Structure administrative du pays",null,null,"Mise en oeuvre \nde la CP","Date","Population ciblée pour MDA 3",null,null,"Population traitée - tournée 1",null,null,"Population traitée - tournée 2",null,null,"Population traitée",null,null,"Couverture du Programme (%)"]
["Pays","Région/Département","District",null,null,"EAS","Adultes","Total","EAS","Adultes","Total","EAS","Adultes","Total","EAS","Adultes","Total","EAS","Adultes","Total","x","x","x","x","x","x"]
[]
[{"$f":"IF(COUNTRY_INFO!A9=0,\" \",COUNTRY_INFO!A9)","v":"Chad"},{"$f":"IF(COUNTRY_INFO!B9=0,\" \",COUNTRY_INFO!B9)","v":"Bahr El Gazel"},{"$f":"IF(COUNTRY_INFO!C9=0,\" \",COUNTRY_INFO!C9)","v":"Chadra"},{"$f":"IF(COUNTRY_INFO!$U$9:$U$1000=\"MDA3 (IVM)\", COUNTRY_INFO!$U$9:$U$1000, \" \")","v":" "},0,0,0,{"$f":"SUM(F9:G9)","v":0},0,0,{"$f":"SUM(I9:J9)","v":0},null,null,{"$f":"SUM(L9:M9)","v":0},{"$f":"MAX(I9,L9)","v":0},0,{"$f":"SUM(O9:P9)","v":0},{"$f":"IF(F9<>0, IF(MAX(I9,L9)/F9*100=0, \"-\", MAX(I9,L9)/F9*100), \" \")","v":" "}," ",{"$f":"IF(H9<>0, IF((MAX(I9,L9)+MAX(J9,M9))/H9*100=0, \"-\",(MAX(I9,L9)+MAX(J9,M9))/H9*100), \" \")","v":" "},{"$f":"COUNTRY_INFO!Y9","v":10660},null,null,null,null,null,null,null,null,0,0]
[{"$f":"IF(COUNTRY_INFO!A10=0,\" \",COUNTRY_INFO!A10)","v":"Chad"},{"$f":"IF(COUNTRY_INFO!B10=0,\" \",COUNTRY_INFO!B10)","v":"Bahr El Gazel"},{"$f":"IF(COUNTRY_INFO!C10=0,\" \",COUNTRY_INFO!C10)","v":"Michemire"},{"$f":"IF(COUNTRY_INFO!$U$9:$U$1000=\"MDA3 (IVM)\", COUNTRY_INFO!$U$9:$U$1000, \" \")","v":" "},0,0,0,{"$f":"SUM(F10:G10)","v":0},0,0,{"$f":"SUM(I10:J10)","v":0},null,null,{"$f":"SUM(L10:M10)","v":0},{"$f":"MAX(I10,L10)","v":0},{"$f":"MAX(J10,M10)","v":0},{"$f":"SUM(O10:P10)","v":0},{"$f":"IF(F10<>0, IF(MAX(I10,L10)/F10*100=0, \"-\", MAX(I10,L10)/F10*100), \" \")","v":" "},{"$f":"IF(G10<>0, IF(MAX(J10,M10)/G10*100=0, \"-\", MAX(J10,M10)/G10*100), \" \")","v":" "},{"$f":"IF(H10<>0, IF((MAX(I10,L10)+MAX(J10,M10))/H10*100=0, \"-\",(MAX(I10,L10)+MAX(J10,M10))/H10*100), \" \")","v":" "},{"$f":"COUNTRY_INFO!Y10","v":10670},null,null,null,null,null,null,null,null,0,0]
[{"$f":"IF(COUNTRY_INFO!A11=0,\" \",COUNTRY_INFO!A11)","v":"Chad"},{"$f":"IF(COUNTRY_INFO!B11=0,\" \",COUNTRY_INFO!B11)","v":"Bahr El Gazel"},{"$f":"IF(COUNTRY_INFO!C11=0,\" \",COUNTRY_INFO!C11)","v":"Moussoro"},{"$f":"IF(COUNTRY_INFO!$U$9:$U$1000=\"MDA3 (IVM)\", COUNTRY_INFO!$U$9:$U$1000, \" \")","v":" "},0,0,0,0,0,0,0,null,null,0,0,0,0," "," "," ",{"$f":"COUNTRY_INFO!Y11","v":10661},null,null,null,null,null,null,null,null,0,0]
[{"$f":"IF(COUNTRY_INFO!A12=0,\" \",COUNTRY_INFO!A12)","v":"Chad"},{"$f":"IF(COUNTRY_INFO!B12=0,\" \",COUNTRY_INFO!B12)","v":"Bahr El Gazel"},{"$f":"IF(COUNTRY_INFO!C12=0,\" \",COUNTRY_INFO!C12)","v":"Salal"},{"$f":"IF(COUNTRY_INFO!$U$9:$U$1000=\"MDA3 (IVM)\", COUNTRY_INFO!$U$9:$U$1000, \" \")","v":" "},0,0,0,0,0,0,0,null,null,0,0,0,0," "," "," ",{"$f":"COUNTRY_INFO!Y12","v":10711},null,null,null,null,null,null,null,null,0,0]
[{"$f":"IF(COUNTRY_INFO!A13=0,\" \",COUNTRY_INFO!A13)","v":"Chad"},{"$f":"IF(COUNTRY_INFO!B13=0,\" \",COUNTRY_INFO!B13)","v":"Batha"},{"$f":"IF(COUNTRY_INFO!C13=0,\" \",COUNTRY_INFO!C13)","v":"Alifa"},{"$f":"IF(COUNTRY_INFO!$U$9:$U$1000=\"MDA3 (IVM)\", COUNTRY_INFO!$U$9:$U$1000, \" \")","v":" "},0,0,0,0,0,0,0,null,null,0,0,0,0," "," "," ",{"$f":"COUNTRY_INFO!Y13","v":10739},null,null,null,null,null,null,null,null,0,0]
[{"$f":"IF(COUNTRY_INFO!A14=0,\" \",COUNTRY_INFO!A14)","v":"Chad"},{"$f":"IF(COUNTRY_INFO!B14=0,\" \",COUNTRY_INFO!B14)","v":"Batha"},{"$f":"IF(COUNTRY_INFO!C14=0,\" \",COUNTRY_INFO!C14)","v":"Assinet"},{"$f":"IF(COUNTRY_INFO!$U$9:$U$1000=\"MDA3 (IVM)\", COUNTRY_INFO!$U$9:$U$1000, \" \")","v":" "},0,0,0,0,0,0,0,null,null,0,0,0,0," "," "," ",{"$f":"COUNTRY_INFO!Y14","v":10745},null,null,null,null,null,null,null,null,0,0]
[{"$f":"IF(COUNTRY_INFO!A15=0,\" \",COUNTRY_INFO!A15)","v":"Chad"},{"$f":"IF(COUNTRY_INFO!B15=0,\" \",COUNTRY_INFO!B15)","v":"Batha"},{"$f":"IF(COUNTRY_INFO!C15=0,\" \",COUNTRY_INFO!C15)","v":"Ati"},{"$f":"IF(COUNTRY_INFO!$U$9:$U$1000=\"MDA3 (IVM)\", COUNTRY_INFO!$U$9:$U$1000, \" \")","v":" "},0,0,0,0,0,0,0,null,null,0,0,0,0," "," "," ",{"$f":"COUNTRY_INFO!Y15","v":10662},null,null,null,null,null,null,null,null,0,0]
[{"$f":"IF(COUNTRY_INFO!A16=0,\" \",COUNTRY_INFO!A16)","v":"Chad"},{"$f":"IF(COUNTRY_INFO!B16=0,\" \",COUNTRY_INFO!B16)","v":"Batha"},{"$f":"IF(COUNTRY_INFO!C16=0,\" \",COUNTRY_INFO!C16)","v":"Djedda"},{"$f":"IF(COUNTRY_INFO!$U$9:$U$1000=\"MDA3 (IVM)\", COUNTRY_INFO!$U$9:$U$1000, \" \")","v":" "},0,0,0,0,0,0,0,null,null,0,0,0,0," "," "," ",{"$f":"COUNTRY_INFO!Y16","v":10761},null,null,null,null,null,null,null,null,0,0]
[{"$f":"IF(COUNTRY_INFO!A17=0,\" \",COUNTRY_INFO!A17)","v":"Chad"},{"$f":"IF(COUNTRY_INFO!B17=0,\" \",COUNTRY_INFO!B17)","v":"Batha"},{"$f":"IF(COUNTRY_INFO!C17=0,\" \",COUNTRY_INFO!C17)","v":"Koundjourou"},{"$f":"IF(COUNTRY_INFO!$U$9:$U$1000=\"MDA3 (IVM)\", COUNTRY_INFO!$U$9:$U$1000, \" \")","v":" "},0,0,0,0,0,0,0,null,null,0,0,0,0," "," "," ",{"$f":"COUNTRY_INFO!Y17","v":10762},null,null,null,null,null,null,null,null,0,0]
[{"$f":"IF(COUNTRY_INFO!A18=0,\" \",COUNTRY_INFO!A18)","v":"Chad"},{"$f":"IF(COUNTRY_INFO!B18=0,\" \",COUNTRY_INFO!B18)","v":"Batha"},{"$f":"IF(COUNTRY_INFO!C18=0,\" \",COUNTRY_INFO!C18)","v":"Oum-Hadjer"},{"$f":"IF(COUNTRY_INFO!$U$9:$U$1000=\"MDA3 (IVM)\", COUNTRY_INFO!$U$9:$U$1000, \" \")","v":" "},0,0,0,0,0,0,0,null,null,0,0,0,0," "," "," ",{"$f":"COUNTRY_INFO!Y18","v":10663},null,null,null,null,null,null,null,null,0,0]
[{"$f":"IF(COUNTRY_INFO!A19=0,\" \",COUNTRY_INFO!A19)","v":"Chad"},{"$f":"IF(COUNTRY_INFO!B19=0,\" \",COUNTRY_INFO!B19)","v":"Batha"},{"$f":"IF(COUNTRY_INFO!C19=0,\" \",COUNTRY_INFO!C19)","v":"Yao"},{"$f":"IF(COUNTRY_INFO!$U$9:$U$1000=\"MDA3 (IVM)\", COUNTRY_INFO!$U$9:$U$1000, \" \")","v":" "},0,0,0,0,0,0,0,null,null,0,0,0,0," "," "," ",{"$f":"COUNTRY_INFO!Y19","v":10664},null,null,null,null,null,null,null,null,0,0]
[{"$f":"IF(COUNTRY_INFO!A20=0,\" \",COUNTRY_INFO!A20)","v":"Chad"},{"$f":"IF(COUNTRY_INFO!B20=0,\" \",COUNTRY_INFO!B20)","v":"Borkou"},{"$f":"IF(COUNTRY_INFO!C20=0,\" \",COUNTRY_INFO!C20)","v":"Faya"},{"$f":"IF(COUNTRY_INFO!$U$9:$U$1000=\"MDA3 (IVM)\", COUNTRY_INFO!$U$9:$U$1000, \" \")","v":" "},0,0,0,0,0,0,0,null,null,0,0,0,0," "," "," ",{"$f":"COUNTRY_INFO!Y20","v":10666},null,null,null,null,null,null,null,null,0,0]
[{"$f":"IF(COUNTRY_INFO!A21=0,\" \",COUNTRY_INFO!A21)","v":"Chad"},{"$f":"IF(COUNTRY_INFO!B21=0,\" \",COUNTRY_INFO!B21)","v":"Borkou"},{"$f":"IF(COUNTRY_INFO!C21=0,\" \",COUNTRY_INFO!C21)","v":"Kirdimi"},{"$f":"IF(COUNTRY_INFO!$U$9:$U$1000=\"MDA3 (IVM)\", COUNTRY_INFO!$U$9:$U$1000, \" \")","v":" "},0,0,0,0,0,0,0,null,null,0,0,0,0," "," "," ",{"$f":"COUNTRY_INFO!Y21","v":10746},null,null,null,null,null,null,null,null,0,0]
[{"$f":"IF(COUNTRY_INFO!A22=0,\" \",COUNTRY_INFO!A22)","v":"Chad"},{"$f":"IF(COUNTRY_INFO!B22=0,\" \",COUNTRY_INFO!B22)","v":"Borkou"},{"$f":"IF(COUNTRY_INFO!C22=0,\" \",COUNTRY_INFO!C22)","v":"Kouba Olanga"},{"$f":"IF(COUNTRY_INFO!$U$9:$U$1000=\"MDA3 (IVM)\", COUNTRY_INFO!$U$9:$U$1000, \" \")","v":" "},null,null,null,0,null,null,0,null,null,0,0,0,0," "," "," ",{"$f":"COUNTRY_INFO!Y22","v":10783}]
[{"$f":"IF(COUNTRY_INFO!A23=0,\" \",COUNTRY_INFO!A23)","v":"Chad"},{"$f":"IF(COUNTRY_INFO!B23=0,\" \",COUNTRY_INFO!B23)","v":"Chari  Baguirmi"},{"$f":"IF(COUNTRY_INFO!C23=0,\" \",COUNTRY_INFO!C23)","v":"Ba-Illi"},{"$f":"IF(COUNTRY_INFO!$U$9:$U$1000=\"MDA3 (IVM)\", COUNTRY_INFO!$U$9:$U$1000, \" \")","v":" "},0,0,0,0,0,0,0,null,null,0,0,0,0," "," "," ",{"$f":"COUNTRY_INFO!Y23","v":10667},null,null,null,null,null,null,null,null,0,0]
[{"$f":"IF(COUNTRY_INFO!A24=0,\" \",COUNTRY_INFO!A24)","v":"Chad"},{"$f":"IF(COUNTRY_INFO!B24=0,\" \",COUNTRY_INFO!B24)","v":"Chari  Baguirmi"},{"$f":"IF(COUNTRY_INFO!C24=0,\" \",COUNTRY_INFO!C24)","v":"Bousso"},{"$f":"IF(COUNTRY_INFO!$U$9:$U$1000=\"MDA3 (IVM)\", COUNTRY_INFO!$U$9:$U$1000, \" \")","v":" "},0,0,0,0,0,0,0,null,null,0,0,0,0," "," "," ",{"$f":"COUNTRY_INFO!Y24","v":10668},null,null,null,null,null,null,null,null,0,0]
[{"$f":"IF(COUNTRY_INFO!A25=0,\" \",COUNTRY_INFO!A25)","v":"Chad"},{"$f":"IF(COUNTRY_INFO!B25=0,\" \",COUNTRY_INFO!B25)","v":"Chari  Baguirmi"},{"$f":"IF(COUNTRY_INFO!C25=0,\" \",COUNTRY_INFO!C25)","v":"Dourbali"},{"$f":"IF(COUNTRY_INFO!$U$9:$U$1000=\"MDA3 (IVM)\", COUNTRY_INFO!$U$9:$U$1000, \" \")","v":" "},0,0,0,0,0,0,0,null,null,0,0,0,0," "," "," ",{"$f":"COUNTRY_INFO!Y25","v":10669},null,null,null,null,null,null,null,null,0,0]
[{"$f":"IF(COUNTRY_INFO!A26=0,\" \",COUNTRY_INFO!A26)","v":"Chad"},{"$f":"IF(COUNTRY_INFO!B26=0,\" \",COUNTRY_INFO!B26)","v":"Chari  Baguirmi"},{"$f":"IF(COUNTRY_INFO!C26=0,\" \",COUNTRY_INFO!C26)","v":"Koulno"},{"$f":"IF(COUNTRY_INFO!$U$9:$U$1000=\"MDA3 (IVM)\", COUNTRY_INFO!$U$9:$U$1000, \" \")","v":" "},0,0,0,0,0,0,0,null,null,0,0,0,0," "," "," ",{"$f":"COUNTRY_INFO!Y26","v":10747},null,null,null,null,null,null,null,null,0,0]
[{"$f":"IF(COUNTRY_INFO!A27=0,\" \",COUNTRY_INFO!A27)","v":"Chad"},{"$f":"IF(COUNTRY_INFO!B27=0,\" \",COUNTRY_INFO!B27)","v":"Chari  Baguirmi"},{"$f":"IF(COUNTRY_INFO!C27=0,\" \",COUNTRY_INFO!C27)","v":"Mandélia"},{"$f":"IF(COUNTRY_INFO!$U$9:$U$1000=\"MDA3 (IVM)\", COUNTRY_INFO!$U$9:$U$1000, \" \")","v":" "},0,0,0,0,0,0,0,null,null,0,0,0,0," "," "," ",{"$f":"COUNTRY_INFO!Y27","v":10671},null,null,null,null,null,null,null,null,0,0]
[{"$f":"IF(COUNTRY_INFO!A28=0,\" \",COUNTRY_INFO!A28)","v":"Chad"},{"$f":"IF(COUNTRY_INFO!B28=0,\" \",COUNTRY_INFO!B28)","v":"Chari  Baguirmi"},{"$f":"IF(COUNTRY_INFO!C28=0,\" \",COUNTRY_INFO!C28)","v":"Massenya"},{"$f":"IF(COUNTRY_INFO!$U$9:$U$1000=\"MDA3 (IVM)\", COUNTRY_INFO!$U$9:$U$1000, \" \")","v":" "},0,0,0,0,0,0,0,null,null,0,0,0,0," "," "," ",{"$f":"COUNTRY_INFO!Y28","v":10672},null,null,null,null,null,null,null,null,0,0]
[{"$f":"IF(COUNTRY_INFO!A29=0,\" \",COUNTRY_INFO!A29)","v":"Chad"},{"$f":"IF(COUNTRY_INFO!B29=0,\" \",COUNTRY_INFO!B29)","v":"Ennedi Est"},{"$f":"IF(COUNTRY_INFO!C29=0,\" \",COUNTRY_INFO!C29)","v":"Amdjarass"},{"$f":"IF(COUNTRY_INFO!$U$9:$U$1000=\"MDA3 (IVM)\", COUNTRY_INFO!$U$9:$U$1000, \" \")","v":" "},0,0,0,0,0,0,0,null,null,0,0,0,0," "," "," ",{"$f":"COUNTRY_INFO!Y29","v":10675},null,null,null,null,null,null,null,null,0,0]
[{"$f":"IF(COUNTRY_INFO!A30=0,\" \",COUNTRY_INFO!A30)","v":"Chad"},{"$f":"IF(COUNTRY_INFO!B30=0,\" \",COUNTRY_INFO!B30)","v":"Ennedi Est"},{"$f":"IF(COUNTRY_INFO!C30=0,\" \",COUNTRY_INFO!C30)","v":"Bahaï"},{"$f":"IF(COUNTRY_INFO!$U$9:$U$1000=\"MDA3 (IVM)\", COUNTRY_INFO!$U$9:$U$1000, \" \")","v":" "},0,0,0,0,0,0,0,null,null,0,0,0,0," "," "," ",{"$f":"COUNTRY_INFO!Y30","v":10676},null,null,null,null,null,null,null,null,0,0]
[{"$f":"IF(COUNTRY_INFO!A31=0,\" \",COUNTRY_INFO!A31)","v":"Chad"},{"$f":"IF(COUNTRY_INFO!B31=0,\" \",COUNTRY_INFO!B31)","v":"Ennedi Est"},{"$f":"IF(COUNTRY_INFO!C31=0,\" \",COUNTRY_INFO!C31)","v":"Kaoura"},{"$f":"IF(COUNTRY_INFO!$U$9:$U$1000=\"MDA3 (IVM)\", COUNTRY_INFO!$U$9:$U$1000, \" \")","v":" "},0,0,0,0,0,0,0,null,null,0,0,0,0," "," "," ",{"$f":"COUNTRY_INFO!Y31","v":10678},null,null,null,null,null,null,null,null,0,0]
[{"$f":"IF(COUNTRY_INFO!A32=0,\" \",COUNTRY_INFO!A32)","v":"Chad"},{"$f":"IF(COUNTRY_INFO!B32=0,\" \",COUNTRY_INFO!B32)","v":"Ennedi Est"},{"$f":"IF(COUNTRY_INFO!C32=0,\" \",COUNTRY_INFO!C32)","v":"Mourdi"},{"$f":"IF(COUNTRY_INFO!$U$9:$U$1000=\"MDA3 (IVM)\", COUNTRY_INFO!$U$9:$U$1000, \" \")","v":" "},null,null,null,0,null,null,0,null,null,0,0,0,0," "," "," ",{"$f":"COUNTRY_INFO!Y32","v":10784}]
[{"$f":"IF(COUNTRY_INFO!A33=0,\" \",COUNTRY_INFO!A33)","v":"Chad"},{"$f":"IF(COUNTRY_INFO!B33=0,\" \",COUNTRY_INFO!B33)","v":"Ennedi Ouest"},{"$f":"IF(COUNTRY_INFO!C33=0,\" \",COUNTRY_INFO!C33)","v":"Fada"},{"$f":"IF(COUNTRY_INFO!$U$9:$U$1000=\"MDA3 (IVM)\", COUNTRY_INFO!$U$9:$U$1000, \" \")","v":" "},0,0,0,0,0,0,0,null,null,0,0,0,0," "," "," ",{"$f":"COUNTRY_INFO!Y33","v":10665},null,null,null,null,null,null,null,null,0,0]
[{"$f":"IF(COUNTRY_INFO!A34=0,\" \",COUNTRY_INFO!A34)","v":"Chad"},{"$f":"IF(COUNTRY_INFO!B34=0,\" \",COUNTRY_INFO!B34)","v":"Ennedi Ouest"},{"$f":"IF(COUNTRY_INFO!C34=0,\" \",COUNTRY_INFO!C34)","v":"Kalaït"},{"$f":"IF(COUNTRY_INFO!$U$9:$U$1000=\"MDA3 (IVM)\", COUNTRY_INFO!$U$9:$U$1000, \" \")","v":" "},0,0,0,0,0,0,0,null,null,0,0,0,0," "," "," ",{"$f":"COUNTRY_INFO!Y34","v":10677},null,null,null,null,null,null,null,null,0,0]
[{"$f":"IF(COUNTRY_INFO!A35=0,\" \",COUNTRY_INFO!A35)","v":"Chad"},{"$f":"IF(COUNTRY_INFO!B35=0,\" \",COUNTRY_INFO!B35)","v":"Ennedi Ouest"},{"$f":"IF(COUNTRY_INFO!C35=0,\" \",COUNTRY_INFO!C35)","v":"Ounianga Kebbir"},{"$f":"IF(COUNTRY_INFO!$U$9:$U$1000=\"MDA3 (IVM)\", COUNTRY_INFO!$U$9:$U$1000, \" \")","v":" "},null,null,null,0,null,null,0,null,null,0,0,0,0," "," "," ",{"$f":"COUNTRY_INFO!Y35","v":10785}]
[{"$f":"IF(COUNTRY_INFO!A36=0,\" \",COUNTRY_INFO!A36)","v":"Chad"},{"$f":"IF(COUNTRY_INFO!B36=0,\" \",COUNTRY_INFO!B36)","v":"Guéra"},{"$f":"IF(COUNTRY_INFO!C36=0,\" \",COUNTRY_INFO!C36)","v":"Barou"},{"$f":"IF(COUNTRY_INFO!$U$9:$U$1000=\"MDA3 (IVM)\", COUNTRY_INFO!$U$9:$U$1000, \" \")","v":" "},0,0,0,0,0,0,0,null,null,0,0,0,0," "," "," ",{"$f":"COUNTRY_INFO!Y36","v":10763},null,null,null,null,null,null,null,null,0,0]
[{"$f":"IF(COUNTRY_INFO!A37=0,\" \",COUNTRY_INFO!A37)","v":"Chad"},{"$f":"IF(COUNTRY_INFO!B37=0,\" \",COUNTRY_INFO!B37)","v":"Guéra"},{"$f":"IF(COUNTRY_INFO!C37=0,\" \",COUNTRY_INFO!C37)","v":"Bitkine"},{"$f":"IF(COUNTRY_INFO!$U$9:$U$1000=\"MDA3 (IVM)\", COUNTRY_INFO!$U$9:$U$1000, \" \")","v":" "},0,0,0,0,0,0,0,null,null,0,0,0,0," "," "," ",{"$f":"COUNTRY_INFO!Y37","v":10679},null,null,null,null,null,null,null,null,0,0]
[{"$f":"IF(COUNTRY_INFO!A38=0,\" \",COUNTRY_INFO!A38)","v":"Chad"},{"$f":"IF(COUNTRY_INFO!B38=0,\" \",COUNTRY_INFO!B38)","v":"Guéra"},{"$f":"IF(COUNTRY_INFO!C38=0,\" \",COUNTRY_INFO!C38)","v":"Mangalmé"},{"$f":"IF(COUNTRY_INFO!$U$9:$U$1000=\"MDA3 (IVM)\", COUNTRY_INFO!$U$9:$U$1000, \" \")","v":" "},0,0,0,0,0,0,0,null,null,0,0,0,0," "," "," ",{"$f":"COUNTRY_INFO!Y38","v":10680},null,null,null,null,null,null,null,null,0,0]
[{"$f":"IF(COUNTRY_INFO!A39=0,\" \",COUNTRY_INFO!A39)","v":"Chad"},{"$f":"IF(COUNTRY_INFO!B39=0,\" \",COUNTRY_INFO!B39)","v":"Guéra"},{"$f":"IF(COUNTRY_INFO!C39=0,\" \",COUNTRY_INFO!C39)","v":"Melfi"},{"$f":"IF(COUNTRY_INFO!$U$9:$U$1000=\"MDA3 (IVM)\", COUNTRY_INFO!$U$9:$U$1000, \" \")","v":" "},0,0,0,0,0,0,0,null,null,0,0,0,0," "," "," ",{"$f":"COUNTRY_INFO!Y39","v":10681},null,null,null,null,null,null,null,null,0,0]
[{"$f":"IF(COUNTRY_INFO!A40=0,\" \",COUNTRY_INFO!A40)","v":"Chad"},{"$f":"IF(COUNTRY_INFO!B40=0,\" \",COUNTRY_INFO!B40)","v":"Guéra"},{"$f":"IF(COUNTRY_INFO!C40=0,\" \",COUNTRY_INFO!C40)","v":"Mongo"},{"$f":"IF(COUNTRY_INFO!$U$9:$U$1000=\"MDA3 (IVM)\", COUNTRY_INFO!$U$9:$U$1000, \" \")","v":" "},0,0,0,0,0,0,0,null,null,0,0,0,0," "," "," ",{"$f":"COUNTRY_INFO!Y40","v":10682},null,null,null,null,null,null,null,null,0,0]
[{"$f":"IF(COUNTRY_INFO!A41=0,\" \",COUNTRY_INFO!A41)","v":"Chad"},{"$f":"IF(COUNTRY_INFO!B41=0,\" \",COUNTRY_INFO!B41)","v":"Hadjer Lamis"},{"$f":"IF(COUNTRY_INFO!C41=0,\" \",COUNTRY_INFO!C41)","v":"Bokoro"},{"$f":"IF(COUNTRY_INFO!$U$9:$U$1000=\"MDA3 (IVM)\", COUNTRY_INFO!$U$9:$U$1000, \" \")","v":" "},0,0,0,0,0,0,0,null,null,0,0,0,0," "," "," ",{"$f":"COUNTRY_INFO!Y41","v":10683},null,null,null,null,null,null,null,null,0,0]
[{"$f":"IF(COUNTRY_INFO!A42=0,\" \",COUNTRY_INFO!A42)","v":"Chad"},{"$f":"IF(COUNTRY_INFO!B42=0,\" \",COUNTRY_INFO!B42)","v":"Hadjer Lamis"},{"$f":"IF(COUNTRY_INFO!C42=0,\" \",COUNTRY_INFO!C42)","v":"Gama"},{"$f":"IF(COUNTRY_INFO!$U$9:$U$1000=\"MDA3 (IVM)\", COUNTRY_INFO!$U$9:$U$1000, \" \")","v":" "},0,0,0,0,0,0,0,null,null,0,0,0,0," "," "," ",{"$f":"COUNTRY_INFO!Y42","v":10748},null,null,null,null,null,null,null,null,0,0]
[{"$f":"IF(COUNTRY_INFO!A43=0,\" \",COUNTRY_INFO!A43)","v":"Chad"},{"$f":"IF(COUNTRY_INFO!B43=0,\" \",COUNTRY_INFO!B43)","v":"Hadjar Lamis"},{"$f":"IF(COUNTRY_INFO!C43=0,\" \",COUNTRY_INFO!C43)","v":"Karal"},{"$f":"IF(COUNTRY_INFO!$U$9:$U$1000=\"MDA3 (IVM)\", COUNTRY_INFO!$U$9:$U$1000, \" \")","v":" "},null,null,null,0,null,null,0,null,null,0,0,0,0," "," "," ",{"$f":"COUNTRY_INFO!Y43","v":10786}]
[{"$f":"IF(COUNTRY_INFO!A44=0,\" \",COUNTRY_INFO!A44)","v":"Chad"},{"$f":"IF(COUNTRY_INFO!B44=0,\" \",COUNTRY_INFO!B44)","v":"Hadjer Lamis"},{"$f":"IF(COUNTRY_INFO!C44=0,\" \",COUNTRY_INFO!C44)","v":"Mani"},{"$f":"IF(COUNTRY_INFO!$U$9:$U$1000=\"MDA3 (IVM)\", COUNTRY_INFO!$U$9:$U$1000, \" \")","v":" "},0,0,0,0,0,0,0,null,null,0,0,0,0," "," "," ",{"$f":"COUNTRY_INFO!Y44","v":10684},null,null,null,null,null,null,null,null,0,0]
[{"$f":"IF(COUNTRY_INFO!A45=0,\" \",COUNTRY_INFO!A45)","v":"Chad"},{"$f":"IF(COUNTRY_INFO!B45=0,\" \",COUNTRY_INFO!B45)","v":"Hadjer Lamis"},{"$f":"IF(COUNTRY_INFO!C45=0,\" \",COUNTRY_INFO!C45)","v":"Massaguet"},{"$f":"IF(COUNTRY_INFO!$U$9:$U$1000=\"MDA3 (IVM)\", COUNTRY_INFO!$U$9:$U$1000, \" \")","v":" "},0,0,0,0,0,0,0,null,null,0,0,0,0," "," "," ",{"$f":"COUNTRY_INFO!Y45","v":10685},null,null,null,null,null,null,null,null,0,0]
[{"$f":"IF(COUNTRY_INFO!A46=0,\" \",COUNTRY_INFO!A46)","v":"Chad"},{"$f":"IF(COUNTRY_INFO!B46=0,\" \",COUNTRY_INFO!B46)","v":"Hadjer Lamis"},{"$f":"IF(COUNTRY_INFO!C46=0,\" \",COUNTRY_INFO!C46)","v":"Massakory"},{"$f":"IF(COUNTRY_INFO!$U$9:$U$1000=\"MDA3 (IVM)\", COUNTRY_INFO!$U$9:$U$1000, \" \")","v":" "},0,0,0,0,0,0,0,null,null,0,0,0,0," "," "," ",{"$f":"COUNTRY_INFO!Y46","v":10686},null,null,null,null,null,null,null,null,0,0]
[{"$f":"IF(COUNTRY_INFO!A47=0,\" \",COUNTRY_INFO!A47)","v":"Chad"},{"$f":"IF(COUNTRY_INFO!B47=0,\" \",COUNTRY_INFO!B47)","v":"Kanem"},{"$f":"IF(COUNTRY_INFO!C47=0,\" \",COUNTRY_INFO!C47)","v":"Amdoback"},{"$f":"IF(COUNTRY_INFO!$U$9:$U$1000=\"MDA3 (IVM)\", COUNTRY_INFO!$U$9:$U$1000, \" \")","v":" "},null,null,null,0,null,null,0,null,null,0,0,0,0," "," "," ",{"$f":"COUNTRY_INFO!Y47","v":10787}]
[{"$f":"IF(COUNTRY_INFO!A48=0,\" \",COUNTRY_INFO!A48)","v":"Chad"},{"$f":"IF(COUNTRY_INFO!B48=0,\" \",COUNTRY_INFO!B48)","v":"Kanem"},{"$f":"IF(COUNTRY_INFO!C48=0,\" \",COUNTRY_INFO!C48)","v":"Kekedina"},{"$f":"IF(COUNTRY_INFO!$U$9:$U$1000=\"MDA3 (IVM)\", COUNTRY_INFO!$U$9:$U$1000, \" \")","v":" "},null,null,null,0,null,null,0,null,null,0,0,0,0," "," "," ",{"$f":"COUNTRY_INFO!Y48","v":10788}]
[{"$f":"IF(COUNTRY_INFO!A49=0,\" \",COUNTRY_INFO!A49)","v":"Chad"},{"$f":"IF(COUNTRY_INFO!B49=0,\" \",COUNTRY_INFO!B49)","v":"Kanem"},{"$f":"IF(COUNTRY_INFO!C49=0,\" \",COUNTRY_INFO!C49)","v":"Mao"},{"$f":"IF(COUNTRY_INFO!$U$9:$U$1000=\"MDA3 (IVM)\", COUNTRY_INFO!$U$9:$U$1000, \" \")","v":" "},0,0,0,0,0,0,0,null,null,0,0,0,0," "," "," ",{"$f":"COUNTRY_INFO!Y49","v":10687},null,null,null,null,null,null,null,null,0,0]
[{"$f":"IF(COUNTRY_INFO!A50=0,\" \",COUNTRY_INFO!A50)","v":"Chad"},{"$f":"IF(COUNTRY_INFO!B50=0,\" \",COUNTRY_INFO!B50)","v":"Kanem"},{"$f":"IF(COUNTRY_INFO!C50=0,\" \",COUNTRY_INFO!C50)","v":"Mondo"},{"$f":"IF(COUNTRY_INFO!$U$9:$U$1000=\"MDA3 (IVM)\", COUNTRY_INFO!$U$9:$U$1000, \" \")","v":" "},0,0,0,0,0,0,0,null,null,0,0,0,0," "," "," ",{"$f":"COUNTRY_INFO!Y50","v":10688},null,null,null,null,null,null,null,null,0,0]
[{"$f":"IF(COUNTRY_INFO!A51=0,\" \",COUNTRY_INFO!A51)","v":"Chad"},{"$f":"IF(COUNTRY_INFO!B51=0,\" \",COUNTRY_INFO!B51)","v":"Kanem"},{"$f":"IF(COUNTRY_INFO!C51=0,\" \",COUNTRY_INFO!C51)","v":"Nokou"},{"$f":"IF(COUNTRY_INFO!$U$9:$U$1000=\"MDA3 (IVM)\", COUNTRY_INFO!$U$9:$U$1000, \" \")","v":" "},0,0,0,0,0,0,0,null,null,0,0,0,0," "," "," ",{"$f":"COUNTRY_INFO!Y51","v":10689},null,null,null,null,null,null,null,null,0,0]
[{"$f":"IF(COUNTRY_INFO!A52=0,\" \",COUNTRY_INFO!A52)","v":"Chad"},{"$f":"IF(COUNTRY_INFO!B52=0,\" \",COUNTRY_INFO!B52)","v":"Kanem"},{"$f":"IF(COUNTRY_INFO!C52=0,\" \",COUNTRY_INFO!C52)","v":"Ntiona"},{"$f":"IF(COUNTRY_INFO!$U$9:$U$1000=\"MDA3 (IVM)\", COUNTRY_INFO!$U$9:$U$1000, \" \")","v":" "},0,0,0,0,0,0,0,null,null,0,0,0,0," "," "," ",{"$f":"COUNTRY_INFO!Y52","v":10764},null,null,null,null,null,null,null,null,0,0]
[{"$f":"IF(COUNTRY_INFO!A53=0,\" \",COUNTRY_INFO!A53)","v":"Chad"},{"$f":"IF(COUNTRY_INFO!B53=0,\" \",COUNTRY_INFO!B53)","v":"Kanem"},{"$f":"IF(COUNTRY_INFO!C53=0,\" \",COUNTRY_INFO!C53)","v":"Rig-Rig"},{"$f":"IF(COUNTRY_INFO!$U$9:$U$1000=\"MDA3 (IVM)\", COUNTRY_INFO!$U$9:$U$1000, \" \")","v":" "},0,0,0,0,0,0,0,null,null,0,0,0,0," "," "," ",{"$f":"COUNTRY_INFO!Y53","v":10690},null,null,null,null,null,null,null,null,0,0]
[{"$f":"IF(COUNTRY_INFO!A54=0,\" \",COUNTRY_INFO!A54)","v":"Chad"},{"$f":"IF(COUNTRY_INFO!B54=0,\" \",COUNTRY_INFO!B54)","v":"Lac"},{"$f":"IF(COUNTRY_INFO!C54=0,\" \",COUNTRY_INFO!C54)","v":"Bagassola"},{"$f":"IF(COUNTRY_INFO!$U$9:$U$1000=\"MDA3 (IVM)\", COUNTRY_INFO!$U$9:$U$1000, \" \")","v":" "},0,0,0,0,0,0,0,null,null,0,0,0,0," "," "," ",{"$f":"COUNTRY_INFO!Y54","v":10691},null,null,null,null,null,null,null,null,0,0]
[{"$f":"IF(COUNTRY_INFO!A55=0,\" \",COUNTRY_INFO!A55)","v":"Chad"},{"$f":"IF(COUNTRY_INFO!B55=0,\" \",COUNTRY_INFO!B55)","v":"Lac"},{"$f":"IF(COUNTRY_INFO!C55=0,\" \",COUNTRY_INFO!C55)","v":"Bol"},{"$f":"IF(COUNTRY_INFO!$U$9:$U$1000=\"MDA3 (IVM)\", COUNTRY_INFO!$U$9:$U$1000, \" \")","v":" "},0,0,0,0,0,0,0,null,null,0,0,0,0," "," "," ",{"$f":"COUNTRY_INFO!Y55","v":10692},null,null,null,null,null,null,null,null,0,0]
[{"$f":"IF(COUNTRY_INFO!A56=0,\" \",COUNTRY_INFO!A56)","v":"Chad"},{"$f":"IF(COUNTRY_INFO!B56=0,\" \",COUNTRY_INFO!B56)","v":"Lac"},{"$f":"IF(COUNTRY_INFO!C56=0,\" \",COUNTRY_INFO!C56)","v":"Isserom"},{"$f":"IF(COUNTRY_INFO!$U$9:$U$1000=\"MDA3 (IVM)\", COUNTRY_INFO!$U$9:$U$1000, \" \")","v":" "},0,0,0,0,0,0,0,null,null,0,0,0,0," "," "," ",{"$f":"COUNTRY_INFO!Y56","v":10749},null,null,null,null,null,null,null,null,0,0]
[{"$f":"IF(COUNTRY_INFO!A57=0,\" \",COUNTRY_INFO!A57)","v":"Chad"},{"$f":"IF(COUNTRY_INFO!B57=0,\" \",COUNTRY_INFO!B57)","v":"Lac"},{"$f":"IF(COUNTRY_INFO!C57=0,\" \",COUNTRY_INFO!C57)","v":"Kouloudia"},{"$f":"IF(COUNTRY_INFO!$U$9:$U$1000=\"MDA3 (IVM)\", COUNTRY_INFO!$U$9:$U$1000, \" \")","v":" "},0,0,0,0,0,0,0,null,null,0,0,0,0," "," "," ",{"$f":"COUNTRY_INFO!Y57","v":10693},null,null,null,null,null,null,null,null,0,0]
[{"$f":"IF(COUNTRY_INFO!A58=0,\" \",COUNTRY_INFO!A58)","v":"Chad"},{"$f":"IF(COUNTRY_INFO!B58=0,\" \",COUNTRY_INFO!B58)","v":"Lac"},{"$f":"IF(COUNTRY_INFO!C58=0,\" \",COUNTRY_INFO!C58)","v":"Liwa"},{"$f":"IF(COUNTRY_INFO!$U$9:$U$1000=\"MDA3 (IVM)\", COUNTRY_INFO!$U$9:$U$1000, \" \")","v":" "},0,0,0,0,0,0,0,null,null,0,0,0,0," "," "," ",{"$f":"COUNTRY_INFO!Y58","v":10694},null,null,null,null,null,null,null,null,0,0]
[{"$f":"IF(COUNTRY_INFO!A59=0,\" \",COUNTRY_INFO!A59)","v":"Chad"},{"$f":"IF(COUNTRY_INFO!B59=0,\" \",COUNTRY_INFO!B59)","v":"Lac"},{"$f":"IF(COUNTRY_INFO!C59=0,\" \",COUNTRY_INFO!C59)","v":"Ngouri"},{"$f":"IF(COUNTRY_INFO!$U$9:$U$1000=\"MDA3 (IVM)\", COUNTRY_INFO!$U$9:$U$1000, \" \")","v":" "},0,0,0,0,0,0,0,null,null,0,0,0,0," "," "," ",{"$f":"COUNTRY_INFO!Y59","v":10695},null,null,null,null,null,null,null,null,0,0]
[{"$f":"IF(COUNTRY_INFO!A60=0,\" \",COUNTRY_INFO!A60)","v":"Chad"},{"$f":"IF(COUNTRY_INFO!B60=0,\" \",COUNTRY_INFO!B60)","v":"Logone Occidental"},{"$f":"IF(COUNTRY_INFO!C60=0,\" \",COUNTRY_INFO!C60)","v":"Benamar"},{"$f":"IF(COUNTRY_INFO!$U$9:$U$1000=\"MDA3 (IVM)\", COUNTRY_INFO!$U$9:$U$1000, \" \")","v":" "},0,0,0,0,0,0,0,null,null,0,0,0,0," "," "," ",{"$f":"COUNTRY_INFO!Y60","v":10765},null,null,null,null,null,null,null,null,0,0]
[{"$f":"IF(COUNTRY_INFO!A61=0,\" \",COUNTRY_INFO!A61)","v":"Chad"},{"$f":"IF(COUNTRY_INFO!B61=0,\" \",COUNTRY_INFO!B61)","v":"Logone Occidental"},{"$f":"IF(COUNTRY_INFO!C61=0,\" \",COUNTRY_INFO!C61)","v":"Benoye"},{"$f":"IF(COUNTRY_INFO!$U$9:$U$1000=\"MDA3 (IVM)\", COUNTRY_INFO!$U$9:$U$1000, \" \")","v":" "},0,0,0,0,0,0,0,null,null,0,0,0,0," "," "," ",{"$f":"COUNTRY_INFO!Y61","v":10696},null,null,null,null,null,null,null,null,0,0]
[{"$f":"IF(COUNTRY_INFO!A62=0,\" \",COUNTRY_INFO!A62)","v":"Chad"},{"$f":"IF(COUNTRY_INFO!B62=0,\" \",COUNTRY_INFO!B62)","v":"Logone Occidental"},{"$f":"IF(COUNTRY_INFO!C62=0,\" \",COUNTRY_INFO!C62)","v":"Laokassy"},{"$f":"IF(COUNTRY_INFO!$U$9:$U$1000=\"MDA3 (IVM)\", COUNTRY_INFO!$U$9:$U$1000, \" \")","v":" "},0,0,0,0,0,0,0,null,null,0,0,0,0," "," "," ",{"$f":"COUNTRY_INFO!Y62","v":10697},null,null,null,null,null,null,null,null,0,0]
[{"$f":"IF(COUNTRY_INFO!A63=0,\" \",COUNTRY_INFO!A63)","v":"Chad"},{"$f":"IF(COUNTRY_INFO!B63=0,\" \",COUNTRY_INFO!B63)","v":"Logone Occidental"},{"$f":"IF(COUNTRY_INFO!C63=0,\" \",COUNTRY_INFO!C63)","v":"Moundou"},{"$f":"IF(COUNTRY_INFO!$U$9:$U$1000=\"MDA3 (IVM)\", COUNTRY_INFO!$U$9:$U$1000, \" \")","v":" "},0,0,0,0,0,0,0,null,null,0,0,0,0," "," "," ",{"$f":"COUNTRY_INFO!Y63","v":10698},null,null,null,null,null,null,null,null,0,0]
[{"$f":"IF(COUNTRY_INFO!A64=0,\" \",COUNTRY_INFO!A64)","v":"Chad"},{"$f":"IF(COUNTRY_INFO!B64=0,\" \",COUNTRY_INFO!B64)","v":"Logone Orientlal"},{"$f":"IF(COUNTRY_INFO!C64=0,\" \",COUNTRY_INFO!C64)","v":"Baibokoum"},{"$f":"IF(COUNTRY_INFO!$U$9:$U$1000=\"MDA3 (IVM)\", COUNTRY_INFO!$U$9:$U$1000, \" \")","v":" "},0,0,0,0,0,0,0,null,null,0,0,0,0," "," "," ",{"$f":"COUNTRY_INFO!Y64","v":10766},null,null,null,null,null,null,null,null,0,0]
[{"$f":"IF(COUNTRY_INFO!A65=0,\" \",COUNTRY_INFO!A65)","v":"Chad"},{"$f":"IF(COUNTRY_INFO!B65=0,\" \",COUNTRY_INFO!B65)","v":"Logone Orientlal"},{"$f":"IF(COUNTRY_INFO!C65=0,\" \",COUNTRY_INFO!C65)","v":"Bebedja"},{"$f":"IF(COUNTRY_INFO!$U$9:$U$1000=\"MDA3 (IVM)\", COUNTRY_INFO!$U$9:$U$1000, \" \")","v":" "},0,0,0,0,0,0,0,null,null,0,0,0,0," "," "," ",{"$f":"COUNTRY_INFO!Y65","v":10699},null,null,null,null,null,null,null,null,0,0]
[{"$f":"IF(COUNTRY_INFO!A66=0,\" \",COUNTRY_INFO!A66)","v":"Chad"},{"$f":"IF(COUNTRY_INFO!B66=0,\" \",COUNTRY_INFO!B66)","v":"Logone Orientlal"},{"$f":"IF(COUNTRY_INFO!C66=0,\" \",COUNTRY_INFO!C66)","v":"Beboto"},{"$f":"IF(COUNTRY_INFO!$U$9:$U$1000=\"MDA3 (IVM)\", COUNTRY_INFO!$U$9:$U$1000, \" \")","v":" "},0,0,0,0,0,0,0,null,null,0,0,0,0," "," "," ",{"$f":"COUNTRY_INFO!Y66","v":10700},null,null,null,null,null,null,null,null,0,0]
[{"$f":"IF(COUNTRY_INFO!A67=0,\" \",COUNTRY_INFO!A67)","v":"Chad"},{"$f":"IF(COUNTRY_INFO!B67=0,\" \",COUNTRY_INFO!B67)","v":"Logone Orientlal"},{"$f":"IF(COUNTRY_INFO!C67=0,\" \",COUNTRY_INFO!C67)","v":"Bessao"},{"$f":"IF(COUNTRY_INFO!$U$9:$U$1000=\"MDA3 (IVM)\", COUNTRY_INFO!$U$9:$U$1000, \" \")","v":" "},0,0,0,0,0,0,0,null,null,0,0,0,0," "," "," ",{"$f":"COUNTRY_INFO!Y67","v":10701},null,null,null,null,null,null,null,null,0,0]
[{"$f":"IF(COUNTRY_INFO!A68=0,\" \",COUNTRY_INFO!A68)","v":"Chad"},{"$f":"IF(COUNTRY_INFO!B68=0,\" \",COUNTRY_INFO!B68)","v":"Logone Orientlal"},{"$f":"IF(COUNTRY_INFO!C68=0,\" \",COUNTRY_INFO!C68)","v":"Bodo"},{"$f":"IF(COUNTRY_INFO!$U$9:$U$1000=\"MDA3 (IVM)\", COUNTRY_INFO!$U$9:$U$1000, \" \")","v":" "},0,0,0,0,0,0,0,null,null,0,0,0,0," "," "," ",{"$f":"COUNTRY_INFO!Y68","v":10702},null,null,null,null,null,null,null,null,0,0]
[{"$f":"IF(COUNTRY_INFO!A69=0,\" \",COUNTRY_INFO!A69)","v":"Chad"},{"$f":"IF(COUNTRY_INFO!B69=0,\" \",COUNTRY_INFO!B69)","v":"Logone Orientlal"},{"$f":"IF(COUNTRY_INFO!C69=0,\" \",COUNTRY_INFO!C69)","v":"Doba"},{"$f":"IF(COUNTRY_INFO!$U$9:$U$1000=\"MDA3 (IVM)\", COUNTRY_INFO!$U$9:$U$1000, \" \")","v":" "},0,0,0,0,0,0,0,null,null,0,0,0,0," "," "," ",{"$f":"COUNTRY_INFO!Y69","v":10703},null,null,null,null,null,null,null,null,0,0]
[{"$f":"IF(COUNTRY_INFO!A70=0,\" \",COUNTRY_INFO!A70)","v":"Chad"},{"$f":"IF(COUNTRY_INFO!B70=0,\" \",COUNTRY_INFO!B70)","v":"Logone Orientlal"},{"$f":"IF(COUNTRY_INFO!C70=0,\" \",COUNTRY_INFO!C70)","v":"DONIA"},{"$f":"IF(COUNTRY_INFO!$U$9:$U$1000=\"MDA3 (IVM)\", COUNTRY_INFO!$U$9:$U$1000, \" \")","v":" "},0,0,0,0,0,0,0,null,null,0,0,0,0," "," "," ",{"$f":"COUNTRY_INFO!Y70","v":10767},null,null,null,null,null,null,null,null,0,0]
[{"$f":"IF(COUNTRY_INFO!A71=0,\" \",COUNTRY_INFO!A71)","v":"Chad"},{"$f":"IF(COUNTRY_INFO!B71=0,\" \",COUNTRY_INFO!B71)","v":"Logone Orientlal"},{"$f":"IF(COUNTRY_INFO!C71=0,\" \",COUNTRY_INFO!C71)","v":"Goré"},{"$f":"IF(COUNTRY_INFO!$U$9:$U$1000=\"MDA3 (IVM)\", COUNTRY_INFO!$U$9:$U$1000, \" \")","v":" "},0,0,0,0,0,0,0,null,null,0,0,0,0," "," "," ",{"$f":"COUNTRY_INFO!Y71","v":10704},null,null,null,null,null,null,null,null,0,0]
[{"$f":"IF(COUNTRY_INFO!A72=0,\" \",COUNTRY_INFO!A72)","v":"Chad"},{"$f":"IF(COUNTRY_INFO!B72=0,\" \",COUNTRY_INFO!B72)","v":"Logone Orientlal"},{"$f":"IF(COUNTRY_INFO!C72=0,\" \",COUNTRY_INFO!C72)","v":"Kara"},{"$f":"IF(COUNTRY_INFO!$U$9:$U$1000=\"MDA3 (IVM)\", COUNTRY_INFO!$U$9:$U$1000, \" \")","v":" "},0,0,0,0,0,0,0,null,null,0,0,0,0," "," "," ",{"$f":"COUNTRY_INFO!Y72","v":10768},null,null,null,null,null,null,null,null,0,0]
[{"$f":"IF(COUNTRY_INFO!A73=0,\" \",COUNTRY_INFO!A73)","v":"Chad"},{"$f":"IF(COUNTRY_INFO!B73=0,\" \",COUNTRY_INFO!B73)","v":"Logone Orientlal"},{"$f":"IF(COUNTRY_INFO!C73=0,\" \",COUNTRY_INFO!C73)","v":"Larmanaye"},{"$f":"IF(COUNTRY_INFO!$U$9:$U$1000=\"MDA3 (IVM)\", COUNTRY_INFO!$U$9:$U$1000, \" \")","v":" "},0,0,0,0,0,0,0,null,null,0,0,0,0," "," "," ",{"$f":"COUNTRY_INFO!Y73","v":10705},null,null,null,null,null,null,null,null,0,0]
[{"$f":"IF(COUNTRY_INFO!A74=0,\" \",COUNTRY_INFO!A74)","v":"Chad"},{"$f":"IF(COUNTRY_INFO!B74=0,\" \",COUNTRY_INFO!B74)","v":"Mandoul"},{"$f":"IF(COUNTRY_INFO!C74=0,\" \",COUNTRY_INFO!C74)","v":"Bedaya"},{"$f":"IF(COUNTRY_INFO!$U$9:$U$1000=\"MDA3 (IVM)\", COUNTRY_INFO!$U$9:$U$1000, \" \")","v":" "},0,0,0,{"$f":"SUM(F74:G74)","v":0},0,0,{"$f":"SUM(I74:J74)","v":0},null,null,{"$f":"SUM(L74:M74)","v":0},{"$f":"MAX(I74,L74)","v":0},{"$f":"MAX(J74,M74)","v":0},{"$f":"SUM(O74:P74)","v":0},{"$f":"IF(F74<>0, IF(MAX(I74,L74)/F74*100=0, \"-\", MAX(I74,L74)/F74*100), \" \")","v":" "},{"$f":"IF(G74<>0, IF(MAX(J74,M74)/G74*100=0, \"-\", MAX(J74,M74)/G74*100), \" \")","v":" "},{"$f":"IF(H74<>0, IF((MAX(I74,L74)+MAX(J74,M74))/H74*100=0, \"-\",(MAX(I74,L74)+MAX(J74,M74))/H74*100), \" \")","v":" "},{"$f":"COUNTRY_INFO!Y74","v":10769},null,null,null,null,null,null,null,null,0,0]
[{"$f":"IF(COUNTRY_INFO!A75=0,\" \",COUNTRY_INFO!A75)","v":"Chad"},{"$f":"IF(COUNTRY_INFO!B75=0,\" \",COUNTRY_INFO!B75)","v":"Mandoul"},{"$f":"IF(COUNTRY_INFO!C75=0,\" \",COUNTRY_INFO!C75)","v":"Bedjondo"},{"$f":"IF(COUNTRY_INFO!$U$9:$U$1000=\"MDA3 (IVM)\", COUNTRY_INFO!$U$9:$U$1000, \" \")","v":"MDA3 (IVM)"},"Fevrier 2022",39014,63119,102133,38671,61443,100114,null,null,0,38671,61443,100114,99.12082842056698,97.344698109919364,98.023165871951278,{"$f":"COUNTRY_INFO!Y75","v":10706},{"$f":"F75/W75*100","v":101.13017782155633},{"$f":"COUNTRY_INFO!F75","v":38578},{"$f":"COUNTRY_INFO!G75","v":62856},null,{"$f":"Q75-COUNTRY_INFO!D75","v":-26997},{"$f":"Z75/COUNTRY_INFO!D75*100","v":-21.238917166885635},null,null,39014,63119]
[{"$f":"IF(COUNTRY_INFO!A76=0,\" \",COUNTRY_INFO!A76)","v":"Chad"},{"$f":"IF(COUNTRY_INFO!B76=0,\" \",COUNTRY_INFO!B76)","v":"Mandoul"},{"$f":"IF(COUNTRY_INFO!C76=0,\" \",COUNTRY_INFO!C76)","v":"Bekourou"},{"$f":"IF(COUNTRY_INFO!$U$9:$U$1000=\"MDA3 (IVM)\", COUNTRY_INFO!$U$9:$U$1000, \" \")","v":"MDA3 (IVM)"},"Fevrier 2022",29651,46023,75674,28411,45416,73827,null,null,0,28411,45416,73827,95.818016255775518,98.681094235490946,97.55926738377778,{"$f":"COUNTRY_INFO!Y76","v":10770},{"$f":"F76/W76*100","v":105.29100529100531},{"$f":"COUNTRY_INFO!F76","v":28161},{"$f":"COUNTRY_INFO!G76","v":45884},null,{"$f":"Q76-COUNTRY_INFO!D76","v":-18962},{"$f":"Z76/COUNTRY_INFO!D76*100","v":-20.435611979868305},null,null,21928,47228]
[{"$f":"IF(COUNTRY_INFO!A77=0,\" \",COUNTRY_INFO!A77)","v":"Chad"},{"$f":"IF(COUNTRY_INFO!B77=0,\" \",COUNTRY_INFO!B77)","v":"Mandoul"},{"$f":"IF(COUNTRY_INFO!C77=0,\" \",COUNTRY_INFO!C77)","v":"Bouna"},{"$f":"IF(COUNTRY_INFO!$U$9:$U$1000=\"MDA3 (IVM)\", COUNTRY_INFO!$U$9:$U$1000, \" \")","v":"MDA3 (IVM)"},"Fevrier 2022",33123,53968,87091,32363,53726,86089,null,null,0,32363,53726,86089,97.705521842828247,99.551586125111186,98.849479280293025,{"$f":"COUNTRY_INFO!Y77","v":10707},100,{"$f":"COUNTRY_INFO!F77","v":33123},{"$f":"COUNTRY_INFO!G77","v":53968},null,{"$f":"Q77-COUNTRY_INFO!D77","v":-23048},{"$f":"Z77/COUNTRY_INFO!D77*100","v":-21.11841080476832},null,null,33123,53968]
[{"$f":"IF(COUNTRY_INFO!A78=0,\" \",COUNTRY_INFO!A78)","v":"Chad"},{"$f":"IF(COUNTRY_INFO!B78=0,\" \",COUNTRY_INFO!B78)","v":"Mandoul"},{"$f":"IF(COUNTRY_INFO!C78=0,\" \",COUNTRY_INFO!C78)","v":"Goundi"},{"$f":"IF(COUNTRY_INFO!$U$9:$U$1000=\"MDA3 (IVM)\", COUNTRY_INFO!$U$9:$U$1000, \" \")","v":" "},0,null,null,0,0,0,0,null,null,0,0,0,0," "," "," ",{"$f":"COUNTRY_INFO!Y78","v":10708},null,null,null,null,{"$f":"Q78-COUNTRY_INFO!D78","v":-207903},{"$f":"Z78/COUNTRY_INFO!D78*100","v":-100}]
[{"$f":"IF(COUNTRY_INFO!A79=0,\" \",COUNTRY_INFO!A79)","v":"Chad"},{"$f":"IF(COUNTRY_INFO!B79=0,\" \",COUNTRY_INFO!B79)","v":"Mandoul"},{"$f":"IF(COUNTRY_INFO!C79=0,\" \",COUNTRY_INFO!C79)","v":"Koumra"},{"$f":"IF(COUNTRY_INFO!$U$9:$U$1000=\"MDA3 (IVM)\", COUNTRY_INFO!$U$9:$U$1000, \" \")","v":" "},0,null,null,0,0,0,0,null,null,0,0,0,0," "," "," ",{"$f":"COUNTRY_INFO!Y79","v":10709},null,null,null,null,{"$f":"Q79-COUNTRY_INFO!D79","v":-246432},{"$f":"Z79/COUNTRY_INFO!D79*100","v":-100}]
[{"$f":"IF(COUNTRY_INFO!A80=0,\" \",COUNTRY_INFO!A80)","v":"Chad"},{"$f":"IF(COUNTRY_INFO!B80=0,\" \",COUNTRY_INFO!B80)","v":"Mandoul"},{"$f":"IF(COUNTRY_INFO!C80=0,\" \",COUNTRY_INFO!C80)","v":"Moissala"},{"$f":"IF(COUNTRY_INFO!$U$9:$U$1000=\"MDA3 (IVM)\", COUNTRY_INFO!$U$9:$U$1000, \" \")","v":"MDA3 (IVM)"},"Fevrier 2022",62560,101930,164490,42496,90304,132800,null,null,0,42496,90304,132800,67.928388746803066,88.59413322868636,80.734391148398075,{"$f":"COUNTRY_INFO!Y80","v":10710},{"$f":"F80/W80*100","v":100},{"$f":"COUNTRY_INFO!F80","v":62560},{"$f":"COUNTRY_INFO!G80","v":101930},null,{"$f":"Q80-COUNTRY_INFO!D80","v":-73327},{"$f":"Z80/COUNTRY_INFO!D80*100","v":-35.573699709402455},null,null,62560,101930]
[{"$f":"IF(COUNTRY_INFO!A81=0,\" \",COUNTRY_INFO!A81)","v":"Chad"},{"$f":"IF(COUNTRY_INFO!B81=0,\" \",COUNTRY_INFO!B81)","v":"Mayo Kebbi Est"},{"$f":"IF(COUNTRY_INFO!C81=0,\" \",COUNTRY_INFO!C81)","v":"Bongor"},{"$f":"IF(COUNTRY_INFO!$U$9:$U$1000=\"MDA3 (IVM)\", COUNTRY_INFO!$U$9:$U$1000, \" \")","v":" "},0,null,null,0,0,0,0,null,null,0,0,0,0," "," "," ",{"$f":"COUNTRY_INFO!Y81","v":10753},null,null,null,null,{"$f":"Q81-COUNTRY_INFO!D81","v":-166884},{"$f":"Z81/COUNTRY_INFO!D81*100","v":-100}]
[{"$f":"IF(COUNTRY_INFO!A82=0,\" \",COUNTRY_INFO!A82)","v":"Chad"},{"$f":"IF(COUNTRY_INFO!B82=0,\" \",COUNTRY_INFO!B82)","v":"Mayo Kebbi Est"},{"$f":"IF(COUNTRY_INFO!C82=0,\" \",COUNTRY_INFO!C82)","v":"Fianga"},{"$f":"IF(COUNTRY_INFO!$U$9:$U$1000=\"MDA3 (IVM)\", COUNTRY_INFO!$U$9:$U$1000, \" \")","v":"MDA3 (IVM)"},"Fevrier 2022",46012,75223,121235,45002,73826,118828,null,null,0,45002,73826,118828,97.804920455533335,98.142855243741948,98.014599744298252,{"$f":"COUNTRY_INFO!Y82","v":10712},{"$f":"F82/W82*100","v":100.03696053918904},{"$f":"COUNTRY_INFO!F82","v":45995},{"$f":"COUNTRY_INFO!G82","v":74941},null,{"$f":"Q82-COUNTRY_INFO!D82","v":-32721},{"$f":"Z82/COUNTRY_INFO!D82*100","v":-21.591036562431952},null,null,69059,111079]
[{"$f":"IF(COUNTRY_INFO!A83=0,\" \",COUNTRY_INFO!A83)","v":"Chad"},{"$f":"IF(COUNTRY_INFO!B83=0,\" \",COUNTRY_INFO!B83)","v":"Mayo Kebbi Est"},{"$f":"IF(COUNTRY_INFO!C83=0,\" \",COUNTRY_INFO!C83)","v":"Gounou Gaya"},{"$f":"IF(COUNTRY_INFO!$U$9:$U$1000=\"MDA3 (IVM)\", COUNTRY_INFO!$U$9:$U$1000, \" \")","v":"MDA3 (IVM)"},"Fevrier 2022",39847,65211,105058,38742,64011,102753,null,null,0,38742,64011,102753,97.226892865209422,98.15981966232691,97.805973843020041,{"$f":"COUNTRY_INFO!Y83","v":10713},101.209011709126,{"$f":"COUNTRY_INFO!F83","v":39371},{"$f":"COUNTRY_INFO!G83","v":64149},null,{"$f":"Q83-COUNTRY_INFO!D83","v":-26971},{"$f":"Z83/COUNTRY_INFO!D83*100","v":-20.791064105331319},null,null,70975,114161]
[{"$f":"IF(COUNTRY_INFO!A84=0,\" \",COUNTRY_INFO!A84)","v":"Chad"},{"$f":"IF(COUNTRY_INFO!B84=0,\" \",COUNTRY_INFO!B84)","v":"Mayo Kebbi Est"},{"$f":"IF(COUNTRY_INFO!C84=0,\" \",COUNTRY_INFO!C84)","v":"Guelinding"},{"$f":"IF(COUNTRY_INFO!$U$9:$U$1000=\"MDA3 (IVM)\", COUNTRY_INFO!$U$9:$U$1000, \" \")","v":" "},0,null,null,0,0,0,0,null,null,0,0,0,0," "," "," ",{"$f":"COUNTRY_INFO!Y84","v":10714},null,null,null,null,{"$f":"Q84-COUNTRY_INFO!D84","v":-91501},{"$f":"Z84/COUNTRY_INFO!D84*100","v":-100}]
[{"$f":"IF(COUNTRY_INFO!A85=0,\" \",COUNTRY_INFO!A85)","v":"Chad"},{"$f":"IF(COUNTRY_INFO!B85=0,\" \",COUNTRY_INFO!B85)","v":"Mayo Kebbi Est"},{"$f":"IF(COUNTRY_INFO!C85=0,\" \",COUNTRY_INFO!C85)","v":"Moulkou"},{"$f":"IF(COUNTRY_INFO!$U$9:$U$1000=\"MDA3 (IVM)\", COUNTRY_INFO!$U$9:$U$1000, \" \")","v":" "},0,null,null,0,0,0,0,null,null,0,0,0,0," "," "," ",{"$f":"COUNTRY_INFO!Y85","v":10750},null,null,null,null,{"$f":"Q85-COUNTRY_INFO!D85","v":-127507},{"$f":"Z85/COUNTRY_INFO!D85*100","v":-100}]
[{"$f":"IF(COUNTRY_INFO!A86=0,\" \",COUNTRY_INFO!A86)","v":"Chad"},{"$f":"IF(COUNTRY_INFO!B86=0,\" \",COUNTRY_INFO!B86)","v":"Mayo Kebbi Est"},{"$f":"IF(COUNTRY_INFO!C86=0,\" \",COUNTRY_INFO!C86)","v":"Pont Carol"},{"$f":"IF(COUNTRY_INFO!$U$9:$U$1000=\"MDA3 (IVM)\", COUNTRY_INFO!$U$9:$U$1000, \" \")","v":"MDA3 (IVM)"},"Fevrier 2022",25770,41988,67758,24567,40976,65543,null,null,0,24567,40976,65543,95.331781140861466,97.589787558350011,96.731013312081231,{"$f":"COUNTRY_INFO!Y86","v":10751},{"$f":"F86/W86*100","v":100},{"$f":"COUNTRY_INFO!F86","v":25770},{"$f":"COUNTRY_INFO!G86","v":41988},null,{"$f":"Q86-COUNTRY_INFO!D86","v":-19366},{"$f":"Z86/COUNTRY_INFO!D86*100","v":-22.807947331849395},null,null,25770,41988]
[{"$f":"IF(COUNTRY_INFO!A87=0,\" \",COUNTRY_INFO!A87)","v":"Chad"},{"$f":"IF(COUNTRY_INFO!B87=0,\" \",COUNTRY_INFO!B87)","v":"Mayo Kebbi Est"},{"$f":"IF(COUNTRY_INFO!C87=0,\" \",COUNTRY_INFO!C87)","v":"Youé"},{"$f":"IF(COUNTRY_INFO!$U$9:$U$1000=\"MDA3 (IVM)\", COUNTRY_INFO!$U$9:$U$1000, \" \")","v":"MDA3 (IVM)"},"Fevrier 2022",22014,34238,56252,21026,33043,54069,null,null,0,21026,33043,54069,95.511946942854536,96.509726035399268,96.119249093365568,{"$f":"COUNTRY_INFO!Y87","v":10752},104.75873227372227,{"$f":"COUNTRY_INFO!F87","v":21014},{"$f":"COUNTRY_INFO!G87","v":34238},null,{"$f":"Q87-COUNTRY_INFO!D87","v":-15169},{"$f":"Z87/COUNTRY_INFO!D87*100","v":-21.908489557757303},null,null,22014,34238]
[{"$f":"IF(COUNTRY_INFO!A88=0,\" \",COUNTRY_INFO!A88)","v":"Chad"},{"$f":"IF(COUNTRY_INFO!B88=0,\" \",COUNTRY_INFO!B88)","v":"Mayo Kebbi Ouest"},{"$f":"IF(COUNTRY_INFO!C88=0,\" \",COUNTRY_INFO!C88)","v":"Binder"},{"$f":"IF(COUNTRY_INFO!$U$9:$U$1000=\"MDA3 (IVM)\", COUNTRY_INFO!$U$9:$U$1000, \" \")","v":"MDA3 (IVM)"},"Fevrier 2022",25360,47320,72680,23939,45221,69160,null,null,0,23939,45221,69160,94.396687697160885,95.564243448858832,95.156851953769944,{"$f":"COUNTRY_INFO!Y88","v":10754},100,{"$f":"COUNTRY_INFO!F88","v":25360},{"$f":"COUNTRY_INFO!G88","v":41320},null,{"$f":"Q88-COUNTRY_INFO!D88","v":-14399},{"$f":"Z88/COUNTRY_INFO!D88*100","v":-17.232135377398006},null,null,25360,47320]
[{"$f":"IF(COUNTRY_INFO!A89=0,\" \",COUNTRY_INFO!A89)","v":"Chad"},{"$f":"IF(COUNTRY_INFO!B89=0,\" \",COUNTRY_INFO!B89)","v":"Mayo Kebbi Ouest"},{"$f":"IF(COUNTRY_INFO!C89=0,\" \",COUNTRY_INFO!C89)","v":"Gagal"},{"$f":"IF(COUNTRY_INFO!$U$9:$U$1000=\"MDA3 (IVM)\", COUNTRY_INFO!$U$9:$U$1000, \" \")","v":"MDA3 (IVM)"},"Fevrier 2022",45929,91349,137278,44699,86256,130955,null,null,0,44699,86256,130955,97.32195344989006,94.424678978423401,95.39401797811739,{"$f":"COUNTRY_INFO!Y89","v":10755},100,{"$f":"COUNTRY_INFO!F89","v":45929},{"$f":"COUNTRY_INFO!G89","v":74833},null,{"$f":"Q89-COUNTRY_INFO!D89","v":-20376},{"$f":"Z89/COUNTRY_INFO!D89*100","v":-13.464524783421773},null,null,45929,91349]
[{"$f":"IF(COUNTRY_INFO!A90=0,\" \",COUNTRY_INFO!A90)","v":"Chad"},{"$f":"IF(COUNTRY_INFO!B90=0,\" \",COUNTRY_INFO!B90)","v":"Mayo Kebbi Ouest"},{"$f":"IF(COUNTRY_INFO!C90=0,\" \",COUNTRY_INFO!C90)","v":"Guegou"},{"$f":"IF(COUNTRY_INFO!$U$9:$U$1000=\"MDA3 (IVM)\", COUNTRY_INFO!$U$9:$U$1000, \" \")","v":"MDA3 (IVM)"},"Fevrier 2022",12749,21633,34382,11812,19663,31475,null,null,0,11812,19663,31475,92.650403953251242,90.893542273378642,91.544994473852597,{"$f":"COUNTRY_INFO!Y90","v":10771},99.593781735801883,{"$f":"COUNTRY_INFO!F90","v":12801},{"$f":"COUNTRY_INFO!G90","v":20857},null,{"$f":"Q90-COUNTRY_INFO!D90","v":-10702},{"$f":"Z90/COUNTRY_INFO!D90*100","v":-25.374019015103016},null,null,22956,38839]
[{"$f":"IF(COUNTRY_INFO!A91=0,\" \",COUNTRY_INFO!A91)","v":"Chad"},{"$f":"IF(COUNTRY_INFO!B91=0,\" \",COUNTRY_INFO!B91)","v":"Mayo Kebbi Ouest"},{"$f":"IF(COUNTRY_INFO!C91=0,\" \",COUNTRY_INFO!C91)","v":"GUELO"},{"$f":"IF(COUNTRY_INFO!$U$9:$U$1000=\"MDA3 (IVM)\", COUNTRY_INFO!$U$9:$U$1000, \" \")","v":"MDA3 (IVM)"},"Fevrier 2022",17104,26784,43888,15897,25443,41340,null,null,0,15897,25443,41340,92.943171188026199,94.993279569892479,94.194312796208536,{"$f":"COUNTRY_INFO!Y91","v":10772},105.8743423088827,{"$f":"COUNTRY_INFO!F91","v":16155},{"$f":"COUNTRY_INFO!G91","v":26321},null,{"$f":"Q91-COUNTRY_INFO!D91","v":-11888},{"$f":"Z91/COUNTRY_INFO!D91*100","v":-22.334109866987301},null,null,17104,26784]
[{"$f":"IF(COUNTRY_INFO!A92=0,\" \",COUNTRY_INFO!A92)","v":"Chad"},{"$f":"IF(COUNTRY_INFO!B92=0,\" \",COUNTRY_INFO!B92)","v":"Mayo Kebbi Ouest"},{"$f":"IF(COUNTRY_INFO!C92=0,\" \",COUNTRY_INFO!C92)","v":"Lagon"},{"$f":"IF(COUNTRY_INFO!$U$9:$U$1000=\"MDA3 (IVM)\", COUNTRY_INFO!$U$9:$U$1000, \" \")","v":"MDA3 (IVM)"},"Fevrier 2022",30174,53534,83708,21536,48615,70151,null,null,0,21536,48615,70151,71.372704977795451,90.811446930922401,83.804415348592727,{"$f":"COUNTRY_INFO!Y92","v":10756},117.53661576815206,{"$f":"COUNTRY_INFO!F92","v":25672},{"$f":"COUNTRY_INFO!G92","v":41828},null,{"$f":"Q92-COUNTRY_INFO!D92","v":-14436},{"$f":"Z92/COUNTRY_INFO!D92*100","v":-17.066452291723312},null,null,30174,53534]
[{"$f":"IF(COUNTRY_INFO!A93=0,\" \",COUNTRY_INFO!A93)","v":"Chad"},{"$f":"IF(COUNTRY_INFO!B93=0,\" \",COUNTRY_INFO!B93)","v":"Mayo Kebbi Ouest"},{"$f":"IF(COUNTRY_INFO!C93=0,\" \",COUNTRY_INFO!C93)","v":"Lamé"},{"$f":"IF(COUNTRY_INFO!$U$9:$U$1000=\"MDA3 (IVM)\", COUNTRY_INFO!$U$9:$U$1000, \" \")","v":"MDA3 (IVM)"},"Fevrier 2022",27407,50845,78252,21866,47507,69373,null,null,0,21866,47507,69373,79.782537307987013,93.434949355885536,88.653325154628632,{"$f":"COUNTRY_INFO!Y93","v":10757},100,{"$f":"COUNTRY_INFO!F93","v":27407},{"$f":"COUNTRY_INFO!G93","v":44654},null,{"$f":"Q93-COUNTRY_INFO!D93","v":-20929},{"$f":"Z93/COUNTRY_INFO!D93*100","v":-23.176673827822196},null,null,27407,50845]
[{"$f":"IF(COUNTRY_INFO!A94=0,\" \",COUNTRY_INFO!A94)","v":"Chad"},{"$f":"IF(COUNTRY_INFO!B94=0,\" \",COUNTRY_INFO!B94)","v":"Mayo Kebbi Ouest"},{"$f":"IF(COUNTRY_INFO!C94=0,\" \",COUNTRY_INFO!C94)","v":"Lere"},{"$f":"IF(COUNTRY_INFO!$U$9:$U$1000=\"MDA3 (IVM)\", COUNTRY_INFO!$U$9:$U$1000, \" \")","v":"MDA3 (IVM)"},"Fevrier 2022",47226,76312,123538,46003,74824,120827,null,null,0,46003,74824,120827,97.410324821073132,98.050110074431288,97.805533520050517,{"$f":"COUNTRY_INFO!Y94","v":10715},101.96256234212061,{"$f":"COUNTRY_INFO!F94","v":46317},{"$f":"COUNTRY_INFO!G94","v":75466},null,{"$f":"Q94-COUNTRY_INFO!D94","v":-31784},{"$f":"Z94/COUNTRY_INFO!D94*100","v":-20.826808028254845},null,null,33388,65703]
[{"$f":"IF(COUNTRY_INFO!A95=0,\" \",COUNTRY_INFO!A95)","v":"Chad"},{"$f":"IF(COUNTRY_INFO!B95=0,\" \",COUNTRY_INFO!B95)","v":"Mayo Kebbi Ouest"},{"$f":"IF(COUNTRY_INFO!C95=0,\" \",COUNTRY_INFO!C95)","v":"Pala"},{"$f":"IF(COUNTRY_INFO!$U$9:$U$1000=\"MDA3 (IVM)\", COUNTRY_INFO!$U$9:$U$1000, \" \")","v":"MDA3 (IVM)"},"Fevrier 2022",43652,72149,115801,42009,68914,110923,null,null,0,42009,68914,110923,96.236140383029408,95.516223371079292,95.787601143340723,{"$f":"COUNTRY_INFO!Y95","v":10716},102.15773461268429,{"$f":"COUNTRY_INFO!F95","v":42730},{"$f":"COUNTRY_INFO!G95","v":69622},null,{"$f":"Q95-COUNTRY_INFO!D95","v":-29869},{"$f":"Z95/COUNTRY_INFO!D95*100","v":-21.214983805898065},null,null,51071,82147]
[{"$f":"IF(COUNTRY_INFO!A96=0,\" \",COUNTRY_INFO!A96)","v":"Chad"},{"$f":"IF(COUNTRY_INFO!B96=0,\" \",COUNTRY_INFO!B96)","v":"Mayo Kebbi Ouest"},{"$f":"IF(COUNTRY_INFO!C96=0,\" \",COUNTRY_INFO!C96)","v":"Torrock"},{"$f":"IF(COUNTRY_INFO!$U$9:$U$1000=\"MDA3 (IVM)\", COUNTRY_INFO!$U$9:$U$1000, \" \")","v":"MDA3 (IVM)"},"Fevrier 2022",25759,41970,67729,24066,41024,65090,null,null,0,24066,41024,65090,93.427539888970841,97.746009054086244,96.103589304433839,{"$f":"COUNTRY_INFO!Y96","v":10758},100,{"$f":"COUNTRY_INFO!F96","v":25759},{"$f":"COUNTRY_INFO!G96","v":41970},null,{"$f":"Q96-COUNTRY_INFO!D96","v":-19783},{"$f":"Z96/COUNTRY_INFO!D96*100","v":-23.308943951551143},null,null,25759,41970]
[{"$f":"IF(COUNTRY_INFO!A97=0,\" \",COUNTRY_INFO!A97)","v":"Chad"},{"$f":"IF(COUNTRY_INFO!B97=0,\" \",COUNTRY_INFO!B97)","v":"Moyen Chari"},{"$f":"IF(COUNTRY_INFO!C97=0,\" \",COUNTRY_INFO!C97)","v":"Balimba"},{"$f":"IF(COUNTRY_INFO!$U$9:$U$1000=\"MDA3 (IVM)\", COUNTRY_INFO!$U$9:$U$1000, \" \")","v":" "},0,0,0,0,0,0,0,null,null,0,0,0,0," "," "," ",{"$f":"COUNTRY_INFO!Y97","v":10780},null,null,null,null,null,null,null,null,0,0]
[{"$f":"IF(COUNTRY_INFO!A98=0,\" \",COUNTRY_INFO!A98)","v":"Chad"},{"$f":"IF(COUNTRY_INFO!B98=0,\" \",COUNTRY_INFO!B98)","v":"Moyen Chari"},{"$f":"IF(COUNTRY_INFO!C98=0,\" \",COUNTRY_INFO!C98)","v":"Biobe Singako"},{"$f":"IF(COUNTRY_INFO!$U$9:$U$1000=\"MDA3 (IVM)\", COUNTRY_INFO!$U$9:$U$1000, \" \")","v":" "},0,0,0,0,0,0,0,null,null,0,0,0,0," "," "," ",{"$f":"COUNTRY_INFO!Y98","v":10717},null,null,null,null,null,null,null,null,0,0]
[{"$f":"IF(COUNTRY_INFO!A99=0,\" \",COUNTRY_INFO!A99)","v":"Chad"},{"$f":"IF(COUNTRY_INFO!B99=0,\" \",COUNTRY_INFO!B99)","v":"Moyen Chari"},{"$f":"IF(COUNTRY_INFO!C99=0,\" \",COUNTRY_INFO!C99)","v":"Danamadji"},{"$f":"IF(COUNTRY_INFO!$U$9:$U$1000=\"MDA3 (IVM)\", COUNTRY_INFO!$U$9:$U$1000, \" \")","v":" "},0,0,0,0,0,0,0,null,null,0,0,0,0," "," "," ",{"$f":"COUNTRY_INFO!Y99","v":10718},null,null,null,null,null,null,null,null,0,0]
[{"$f":"IF(COUNTRY_INFO!A100=0,\" \",COUNTRY_INFO!A100)","v":"Chad"},{"$f":"IF(COUNTRY_INFO!B100=0,\" \",COUNTRY_INFO!B100)","v":"Moyen Chari"},{"$f":"IF(COUNTRY_INFO!C100=0,\" \",COUNTRY_INFO!C100)","v":"Korbol"},{"$f":"IF(COUNTRY_INFO!$U$9:$U$1000=\"MDA3 (IVM)\", COUNTRY_INFO!$U$9:$U$1000, \" \")","v":" "},0,0,0,0,0,0,0,null,null,0,0,0,0," "," "," ",{"$f":"COUNTRY_INFO!Y100","v":10773},null,null,null,null,null,null,null,null,0,0]
[{"$f":"IF(COUNTRY_INFO!A101=0,\" \",COUNTRY_INFO!A101)","v":"Chad"},{"$f":"IF(COUNTRY_INFO!B101=0,\" \",COUNTRY_INFO!B101)","v":"Moyen Chari"},{"$f":"IF(COUNTRY_INFO!C101=0,\" \",COUNTRY_INFO!C101)","v":"Koumogo"},{"$f":"IF(COUNTRY_INFO!$U$9:$U$1000=\"MDA3 (IVM)\", COUNTRY_INFO!$U$9:$U$1000, \" \")","v":" "},0,0,0,0,0,0,0,null,null,0,0,0,0," "," "," ",{"$f":"COUNTRY_INFO!Y101","v":10781},null,null,null,null,null,null,null,null,0,0]
[{"$f":"IF(COUNTRY_INFO!A102=0,\" \",COUNTRY_INFO!A102)","v":"Chad"},{"$f":"IF(COUNTRY_INFO!B102=0,\" \",COUNTRY_INFO!B102)","v":"Moyen Chari"},{"$f":"IF(COUNTRY_INFO!C102=0,\" \",COUNTRY_INFO!C102)","v":"Kyabe"},{"$f":"IF(COUNTRY_INFO!$U$9:$U$1000=\"MDA3 (IVM)\", COUNTRY_INFO!$U$9:$U$1000, \" \")","v":" "},0,0,0,0,0,0,0,null,null,0,0,0,0," "," "," ",{"$f":"COUNTRY_INFO!Y102","v":10719},null,null,null,null,null,null,null,null,0,0]
[{"$f":"IF(COUNTRY_INFO!A103=0,\" \",COUNTRY_INFO!A103)","v":"Chad"},{"$f":"IF(COUNTRY_INFO!B103=0,\" \",COUNTRY_INFO!B103)","v":"Moyen Chari"},{"$f":"IF(COUNTRY_INFO!C103=0,\" \",COUNTRY_INFO!C103)","v":"Maro"},{"$f":"IF(COUNTRY_INFO!$U$9:$U$1000=\"MDA3 (IVM)\", COUNTRY_INFO!$U$9:$U$1000, \" \")","v":" "},0,0,0,0,0,0,0,null,null,0,0,0,0," "," "," ",{"$f":"COUNTRY_INFO!Y103","v":10774},null,null,null,null,null,null,null,null,0,0]
[{"$f":"IF(COUNTRY_INFO!A104=0,\" \",COUNTRY_INFO!A104)","v":"Chad"},{"$f":"IF(COUNTRY_INFO!B104=0,\" \",COUNTRY_INFO!B104)","v":"Moyen Chari"},{"$f":"IF(COUNTRY_INFO!C104=0,\" \",COUNTRY_INFO!C104)","v":"Sarh"},{"$f":"IF(COUNTRY_INFO!$U$9:$U$1000=\"MDA3 (IVM)\", COUNTRY_INFO!$U$9:$U$1000, \" \")","v":" "},0,0,0,0,0,0,0,null,null,0,0,0,0," "," "," ",{"$f":"COUNTRY_INFO!Y104","v":10720},null,null,null,null,null,null,null,null,0,0]
[{"$f":"IF(COUNTRY_INFO!A105=0,\" \",COUNTRY_INFO!A105)","v":"Chad"},{"$f":"IF(COUNTRY_INFO!B105=0,\" \",COUNTRY_INFO!B105)","v":"N'Djaména"},{"$f":"IF(COUNTRY_INFO!C105=0,\" \",COUNTRY_INFO!C105)","v":"N'Djaména Centre"},{"$f":"IF(COUNTRY_INFO!$U$9:$U$1000=\"MDA3 (IVM)\", COUNTRY_INFO!$U$9:$U$1000, \" \")","v":" "},0,0,0,0,0,0,0,null,null,0,0,0,0," "," "," ",{"$f":"COUNTRY_INFO!Y105","v":10721},null,null,null,null,null,null,null,null,0,0]
[{"$f":"IF(COUNTRY_INFO!A106=0,\" \",COUNTRY_INFO!A106)","v":"Chad"},{"$f":"IF(COUNTRY_INFO!B106=0,\" \",COUNTRY_INFO!B106)","v":"N'Djaména"},{"$f":"IF(COUNTRY_INFO!C106=0,\" \",COUNTRY_INFO!C106)","v":"N'Djaména Est"},{"$f":"IF(COUNTRY_INFO!$U$9:$U$1000=\"MDA3 (IVM)\", COUNTRY_INFO!$U$9:$U$1000, \" \")","v":" "},0,0,0,0,0,0,0,null,null,0,0,0,0," "," "," ",{"$f":"COUNTRY_INFO!Y106","v":10722},null,null,null,null,null,null,null,null,0,0]
[{"$f":"IF(COUNTRY_INFO!A107=0,\" \",COUNTRY_INFO!A107)","v":"Chad"},{"$f":"IF(COUNTRY_INFO!B107=0,\" \",COUNTRY_INFO!B107)","v":"N'Djaména"},{"$f":"IF(COUNTRY_INFO!C107=0,\" \",COUNTRY_INFO!C107)","v":"N'Djaména Nord"},{"$f":"IF(COUNTRY_INFO!$U$9:$U$1000=\"MDA3 (IVM)\", COUNTRY_INFO!$U$9:$U$1000, \" \")","v":" "},0,0,0,0,0,0,0,null,null,0,0,0,0," "," "," ",{"$f":"COUNTRY_INFO!Y107","v":10723},null,null,null,null,null,null,null,null,0,0]
[{"$f":"IF(COUNTRY_INFO!A108=0,\" \",COUNTRY_INFO!A108)","v":"Chad"},{"$f":"IF(COUNTRY_INFO!B108=0,\" \",COUNTRY_INFO!B108)","v":"N'Djaména"},{"$f":"IF(COUNTRY_INFO!C108=0,\" \",COUNTRY_INFO!C108)","v":"N'Djaména Sud"},{"$f":"IF(COUNTRY_INFO!$U$9:$U$1000=\"MDA3 (IVM)\", COUNTRY_INFO!$U$9:$U$1000, \" \")","v":" "},0,0,0,0,0,0,0,null,null,0,0,0,0," "," "," ",{"$f":"COUNTRY_INFO!Y108","v":10724},null,null,null,null,null,null,null,null,0,0]
[{"$f":"IF(COUNTRY_INFO!A109=0,\" \",COUNTRY_INFO!A109)","v":"Chad"},{"$f":"IF(COUNTRY_INFO!B109=0,\" \",COUNTRY_INFO!B109)","v":"N'Djamena"},{"$f":"IF(COUNTRY_INFO!C109=0,\" \",COUNTRY_INFO!C109)","v":"9eme Arrondissement"},{"$f":"IF(COUNTRY_INFO!$U$9:$U$1000=\"MDA3 (IVM)\", COUNTRY_INFO!$U$9:$U$1000, \" \")","v":" "},null,null,null,0,null,null,0,null,null,0,0,0,0," "," "," ",{"$f":"COUNTRY_INFO!Y109","v":10789}]
[{"$f":"IF(COUNTRY_INFO!A110=0,\" \",COUNTRY_INFO!A110)","v":"Chad"},{"$f":"IF(COUNTRY_INFO!B110=0,\" \",COUNTRY_INFO!B110)","v":"Ouaddai"},{"$f":"IF(COUNTRY_INFO!C110=0,\" \",COUNTRY_INFO!C110)","v":"Abdi"},{"$f":"IF(COUNTRY_INFO!$U$9:$U$1000=\"MDA3 (IVM)\", COUNTRY_INFO!$U$9:$U$1000, \" \")","v":" "},0,0,0,0,0,0,0,null,null,0,0,0,0," "," "," ",{"$f":"COUNTRY_INFO!Y110","v":10727},null,null,null,null,null,null,null,null,0,0]
[{"$f":"IF(COUNTRY_INFO!A111=0,\" \",COUNTRY_INFO!A111)","v":"Chad"},{"$f":"IF(COUNTRY_INFO!B111=0,\" \",COUNTRY_INFO!B111)","v":"Ouaddai"},{"$f":"IF(COUNTRY_INFO!C111=0,\" \",COUNTRY_INFO!C111)","v":"Abeche"},{"$f":"IF(COUNTRY_INFO!$U$9:$U$1000=\"MDA3 (IVM)\", COUNTRY_INFO!$U$9:$U$1000, \" \")","v":" "},0,0,0,0,0,0,0,null,null,0,0,0,0," "," "," ",{"$f":"COUNTRY_INFO!Y111","v":10728},null,null,null,null,null,null,null,null,0,0]
[{"$f":"IF(COUNTRY_INFO!A112=0,\" \",COUNTRY_INFO!A112)","v":"Chad"},{"$f":"IF(COUNTRY_INFO!B112=0,\" \",COUNTRY_INFO!B112)","v":"Ouaddai"},{"$f":"IF(COUNTRY_INFO!C112=0,\" \",COUNTRY_INFO!C112)","v":"Abougoudam"},{"$f":"IF(COUNTRY_INFO!$U$9:$U$1000=\"MDA3 (IVM)\", COUNTRY_INFO!$U$9:$U$1000, \" \")","v":" "},0,0,0,0,0,0,0,null,null,0,0,0,0," "," "," ",{"$f":"COUNTRY_INFO!Y112","v":10729},null,null,null,null,null,null,null,null,0,0]
[{"$f":"IF(COUNTRY_INFO!A113=0,\" \",COUNTRY_INFO!A113)","v":"Chad"},{"$f":"IF(COUNTRY_INFO!B113=0,\" \",COUNTRY_INFO!B113)","v":"Ouaddai"},{"$f":"IF(COUNTRY_INFO!C113=0,\" \",COUNTRY_INFO!C113)","v":"Adré"},{"$f":"IF(COUNTRY_INFO!$U$9:$U$1000=\"MDA3 (IVM)\", COUNTRY_INFO!$U$9:$U$1000, \" \")","v":" "},0,0,0,0,0,0,0,null,null,0,0,0,0," "," "," ",{"$f":"COUNTRY_INFO!Y113","v":10730},null,null,null,null,null,null,null,null,0,0]
[{"$f":"IF(COUNTRY_INFO!A114=0,\" \",COUNTRY_INFO!A114)","v":"Chad"},{"$f":"IF(COUNTRY_INFO!B114=0,\" \",COUNTRY_INFO!B114)","v":"Salamat"},{"$f":"IF(COUNTRY_INFO!C114=0,\" \",COUNTRY_INFO!C114)","v":"Aboudeia"},{"$f":"IF(COUNTRY_INFO!$U$9:$U$1000=\"MDA3 (IVM)\", COUNTRY_INFO!$U$9:$U$1000, \" \")","v":" "},0,0,0,0,0,0,0,null,null,0,0,0,0," "," "," ",{"$f":"COUNTRY_INFO!Y114","v":10731},null,null,null,null,null,null,null,null,0,0]
[{"$f":"IF(COUNTRY_INFO!A115=0,\" \",COUNTRY_INFO!A115)","v":"Chad"},{"$f":"IF(COUNTRY_INFO!B115=0,\" \",COUNTRY_INFO!B115)","v":"Salamat"},{"$f":"IF(COUNTRY_INFO!C115=0,\" \",COUNTRY_INFO!C115)","v":"Am-Timan"},{"$f":"IF(COUNTRY_INFO!$U$9:$U$1000=\"MDA3 (IVM)\", COUNTRY_INFO!$U$9:$U$1000, \" \")","v":" "},0,0,0,0,0,0,0,null,null,0,0,0,0," "," "," ",{"$f":"COUNTRY_INFO!Y115","v":10732},null,null,null,null,null,null,null,null,0,0]
[{"$f":"IF(COUNTRY_INFO!A116=0,\" \",COUNTRY_INFO!A116)","v":"Chad"},{"$f":"IF(COUNTRY_INFO!B116=0,\" \",COUNTRY_INFO!B116)","v":"Salamat"},{"$f":"IF(COUNTRY_INFO!C116=0,\" \",COUNTRY_INFO!C116)","v":"Haraze"},{"$f":"IF(COUNTRY_INFO!$U$9:$U$1000=\"MDA3 (IVM)\", COUNTRY_INFO!$U$9:$U$1000, \" \")","v":" "},0,0,0,0,0,0,0,null,null,0,0,0,0," "," "," ",{"$f":"COUNTRY_INFO!Y116","v":10733},null,null,null,null,null,null,null,null,0,0]
[{"$f":"IF(COUNTRY_INFO!A117=0,\" \",COUNTRY_INFO!A117)","v":"Chad"},{"$f":"IF(COUNTRY_INFO!B117=0,\" \",COUNTRY_INFO!B117)","v":"Sila"},{"$f":"IF(COUNTRY_INFO!C117=0,\" \",COUNTRY_INFO!C117)","v":"Am-dam"},{"$f":"IF(COUNTRY_INFO!$U$9:$U$1000=\"MDA3 (IVM)\", COUNTRY_INFO!$U$9:$U$1000, \" \")","v":" "},0,0,0,0,0,0,0,null,null,0,0,0,0," "," "," ",{"$f":"COUNTRY_INFO!Y117","v":10725},null,null,null,null,null,null,null,null,0,0]
[{"$f":"IF(COUNTRY_INFO!A118=0,\" \",COUNTRY_INFO!A118)","v":"Chad"},{"$f":"IF(COUNTRY_INFO!B118=0,\" \",COUNTRY_INFO!B118)","v":"Sila"},{"$f":"IF(COUNTRY_INFO!C118=0,\" \",COUNTRY_INFO!C118)","v":"Goz-beida"},{"$f":"IF(COUNTRY_INFO!$U$9:$U$1000=\"MDA3 (IVM)\", COUNTRY_INFO!$U$9:$U$1000, \" \")","v":" "},0,0,0,0,0,0,0,null,null,0,0,0,0," "," "," ",{"$f":"COUNTRY_INFO!Y118","v":10726},null,null,null,null,null,null,null,null,0,0]
[{"$f":"IF(COUNTRY_INFO!A119=0,\" \",COUNTRY_INFO!A119)","v":"Chad"},{"$f":"IF(COUNTRY_INFO!B119=0,\" \",COUNTRY_INFO!B119)","v":"Sila"},{"$f":"IF(COUNTRY_INFO!C119=0,\" \",COUNTRY_INFO!C119)","v":"Koukou"},{"$f":"IF(COUNTRY_INFO!$U$9:$U$1000=\"MDA3 (IVM)\", COUNTRY_INFO!$U$9:$U$1000, \" \")","v":" "},0,0,0,0,0,0,0,null,null,0,0,0,0," "," "," ",{"$f":"COUNTRY_INFO!Y119","v":10673},null,null,null,null,null,null,null,null,0,0]
[{"$f":"IF(COUNTRY_INFO!A120=0,\" \",COUNTRY_INFO!A120)","v":"Chad"},{"$f":"IF(COUNTRY_INFO!B120=0,\" \",COUNTRY_INFO!B120)","v":"Sila"},{"$f":"IF(COUNTRY_INFO!C120=0,\" \",COUNTRY_INFO!C120)","v":"Tissi"},{"$f":"IF(COUNTRY_INFO!$U$9:$U$1000=\"MDA3 (IVM)\", COUNTRY_INFO!$U$9:$U$1000, \" \")","v":" "},0,0,0,0,0,0,0,null,null,0,0,0,0," "," "," ",{"$f":"COUNTRY_INFO!Y120","v":10674},null,null,null,null,null,null,null,null,0,0]
[{"$f":"IF(COUNTRY_INFO!A121=0,\" \",COUNTRY_INFO!A121)","v":"Chad"},{"$f":"IF(COUNTRY_INFO!B121=0,\" \",COUNTRY_INFO!B121)","v":"Tandjile"},{"$f":"IF(COUNTRY_INFO!C121=0,\" \",COUNTRY_INFO!C121)","v":"Batchoro"},{"$f":"IF(COUNTRY_INFO!$U$9:$U$1000=\"MDA3 (IVM)\", COUNTRY_INFO!$U$9:$U$1000, \" \")","v":" "},0,0,0,0,0,0,0,null,null,0,0,0,0," "," "," ",{"$f":"COUNTRY_INFO!Y121","v":10775},null,null,null,null,null,null,null,null,0,0]
[{"$f":"IF(COUNTRY_INFO!A122=0,\" \",COUNTRY_INFO!A122)","v":"Chad"},{"$f":"IF(COUNTRY_INFO!B122=0,\" \",COUNTRY_INFO!B122)","v":"Tandjile"},{"$f":"IF(COUNTRY_INFO!C122=0,\" \",COUNTRY_INFO!C122)","v":"Bere"},{"$f":"IF(COUNTRY_INFO!$U$9:$U$1000=\"MDA3 (IVM)\", COUNTRY_INFO!$U$9:$U$1000, \" \")","v":" "},0,0,0,0,0,0,0,null,null,0,0,0,0," "," "," ",{"$f":"COUNTRY_INFO!Y122","v":10734},null,null,null,null,null,null,null,null,0,0]
[{"$f":"IF(COUNTRY_INFO!A123=0,\" \",COUNTRY_INFO!A123)","v":"Chad"},{"$f":"IF(COUNTRY_INFO!B123=0,\" \",COUNTRY_INFO!B123)","v":"Tandjile"},{"$f":"IF(COUNTRY_INFO!C123=0,\" \",COUNTRY_INFO!C123)","v":"Bologo"},{"$f":"IF(COUNTRY_INFO!$U$9:$U$1000=\"MDA3 (IVM)\", COUNTRY_INFO!$U$9:$U$1000, \" \")","v":" "},0,0,0,0,0,0,0,null,null,0,0,0,0," "," "," ",{"$f":"COUNTRY_INFO!Y123","v":10790},null,null,null,null,null,null,null,null,0,0]
[{"$f":"IF(COUNTRY_INFO!A124=0,\" \",COUNTRY_INFO!A124)","v":"Chad"},{"$f":"IF(COUNTRY_INFO!B124=0,\" \",COUNTRY_INFO!B124)","v":"Tandjile"},{"$f":"IF(COUNTRY_INFO!C124=0,\" \",COUNTRY_INFO!C124)","v":"Dafra"},{"$f":"IF(COUNTRY_INFO!$U$9:$U$1000=\"MDA3 (IVM)\", COUNTRY_INFO!$U$9:$U$1000, \" \")","v":" "},0,0,0,0,0,0,0,null,null,0,0,0,0," "," "," ",{"$f":"COUNTRY_INFO!Y124","v":10759},null,null,null,null,null,null,null,null,0,0]
[{"$f":"IF(COUNTRY_INFO!A125=0,\" \",COUNTRY_INFO!A125)","v":"Chad"},{"$f":"IF(COUNTRY_INFO!B125=0,\" \",COUNTRY_INFO!B125)","v":"Tandjile"},{"$f":"IF(COUNTRY_INFO!C125=0,\" \",COUNTRY_INFO!C125)","v":"Deressia"},{"$f":"IF(COUNTRY_INFO!$U$9:$U$1000=\"MDA3 (IVM)\", COUNTRY_INFO!$U$9:$U$1000, \" \")","v":" "},0,0,0,0,0,0,0,null,null,0,0,0,0," "," "," ",{"$f":"COUNTRY_INFO!Y125","v":10782},null,null,null,null,null,null,null,null,0,0]
[{"$f":"IF(COUNTRY_INFO!A126=0,\" \",COUNTRY_INFO!A126)","v":"Chad"},{"$f":"IF(COUNTRY_INFO!B126=0,\" \",COUNTRY_INFO!B126)","v":"Tandjile"},{"$f":"IF(COUNTRY_INFO!C126=0,\" \",COUNTRY_INFO!C126)","v":"Donamanga"},{"$f":"IF(COUNTRY_INFO!$U$9:$U$1000=\"MDA3 (IVM)\", COUNTRY_INFO!$U$9:$U$1000, \" \")","v":" "},0,0,0,0,0,0,0,null,null,0,0,0,0," "," "," ",{"$f":"COUNTRY_INFO!Y126","v":10735},null,null,null,null,null,null,null,null,0,0]
[{"$f":"IF(COUNTRY_INFO!A127=0,\" \",COUNTRY_INFO!A127)","v":"Chad"},{"$f":"IF(COUNTRY_INFO!B127=0,\" \",COUNTRY_INFO!B127)","v":"Tandjile"},{"$f":"IF(COUNTRY_INFO!C127=0,\" \",COUNTRY_INFO!C127)","v":"Guidari"},{"$f":"IF(COUNTRY_INFO!$U$9:$U$1000=\"MDA3 (IVM)\", COUNTRY_INFO!$U$9:$U$1000, \" \")","v":" "},0,0,0,0,0,0,0,null,null,0,0,0,0," "," "," ",{"$f":"COUNTRY_INFO!Y127","v":10776},null,null,null,null,null,null,null,null,0,0]
[{"$f":"IF(COUNTRY_INFO!A128=0,\" \",COUNTRY_INFO!A128)","v":"Chad"},{"$f":"IF(COUNTRY_INFO!B128=0,\" \",COUNTRY_INFO!B128)","v":"Tandjile"},{"$f":"IF(COUNTRY_INFO!C128=0,\" \",COUNTRY_INFO!C128)","v":"Kelo"},{"$f":"IF(COUNTRY_INFO!$U$9:$U$1000=\"MDA3 (IVM)\", COUNTRY_INFO!$U$9:$U$1000, \" \")","v":" "},0,0,0,0,0,0,0,null,null,0,0,0,0," "," "," ",{"$f":"COUNTRY_INFO!Y128","v":10736},null,null,null,null,null,null,null,null,0,0]
[{"$f":"IF(COUNTRY_INFO!A129=0,\" \",COUNTRY_INFO!A129)","v":"Chad"},{"$f":"IF(COUNTRY_INFO!B129=0,\" \",COUNTRY_INFO!B129)","v":"Tandjile"},{"$f":"IF(COUNTRY_INFO!C129=0,\" \",COUNTRY_INFO!C129)","v":"Kolon"},{"$f":"IF(COUNTRY_INFO!$U$9:$U$1000=\"MDA3 (IVM)\", COUNTRY_INFO!$U$9:$U$1000, \" \")","v":" "},0,0,0,0,0,0,0,null,null,0,0,0,0," "," "," ",{"$f":"COUNTRY_INFO!Y129","v":10777},null,null,null,null,null,null,null,null,0,0]
[{"$f":"IF(COUNTRY_INFO!A130=0,\" \",COUNTRY_INFO!A130)","v":"Chad"},{"$f":"IF(COUNTRY_INFO!B130=0,\" \",COUNTRY_INFO!B130)","v":"Tandjile"},{"$f":"IF(COUNTRY_INFO!C130=0,\" \",COUNTRY_INFO!C130)","v":"Lai"},{"$f":"IF(COUNTRY_INFO!$U$9:$U$1000=\"MDA3 (IVM)\", COUNTRY_INFO!$U$9:$U$1000, \" \")","v":" "},0,0,0,0,0,0,0,null,null,0,0,0,0," "," "," ",{"$f":"COUNTRY_INFO!Y130","v":10737},null,null,null,null,null,null,null,null,0,0]
[{"$f":"IF(COUNTRY_INFO!A131=0,\" \",COUNTRY_INFO!A131)","v":"Chad"},{"$f":"IF(COUNTRY_INFO!B131=0,\" \",COUNTRY_INFO!B131)","v":"Tibesti"},{"$f":"IF(COUNTRY_INFO!C131=0,\" \",COUNTRY_INFO!C131)","v":"Bardaï"},{"$f":"IF(COUNTRY_INFO!$U$9:$U$1000=\"MDA3 (IVM)\", COUNTRY_INFO!$U$9:$U$1000, \" \")","v":" "},0,0,0,0,0,0,0,null,null,0,0,0,0," "," "," ",{"$f":"COUNTRY_INFO!Y131","v":10738},null,null,null,null,null,null,null,null,0,0]
[{"$f":"IF(COUNTRY_INFO!A132=0,\" \",COUNTRY_INFO!A132)","v":"Chad"},{"$f":"IF(COUNTRY_INFO!B132=0,\" \",COUNTRY_INFO!B132)","v":"Tibesti"},{"$f":"IF(COUNTRY_INFO!C132=0,\" \",COUNTRY_INFO!C132)","v":"Zouar"},{"$f":"IF(COUNTRY_INFO!$U$9:$U$1000=\"MDA3 (IVM)\", COUNTRY_INFO!$U$9:$U$1000, \" \")","v":" "},0,0,0,0,0,0,0,null,null,0,0,0,0," "," "," ",{"$f":"COUNTRY_INFO!Y132","v":10760},null,null,null,null,null,null,null,null,0,0]
[{"$f":"IF(COUNTRY_INFO!A133=0,\" \",COUNTRY_INFO!A133)","v":"Chad"},{"$f":"IF(COUNTRY_INFO!B133=0,\" \",COUNTRY_INFO!B133)","v":"Wadi Fira"},{"$f":"IF(COUNTRY_INFO!C133=0,\" \",COUNTRY_INFO!C133)","v":"amzoer"},{"$f":"IF(COUNTRY_INFO!$U$9:$U$1000=\"MDA3 (IVM)\", COUNTRY_INFO!$U$9:$U$1000, \" \")","v":" "},0,0,0,0,0,0,0,null,null,0,0,0,0," "," "," ",{"$f":"COUNTRY_INFO!Y133","v":10778},null,null,null,null,null,null,null,null,0,0]
[{"$f":"IF(COUNTRY_INFO!A134=0,\" \",COUNTRY_INFO!A134)","v":"Chad"},{"$f":"IF(COUNTRY_INFO!B134=0,\" \",COUNTRY_INFO!B134)","v":"Wadi Fira"},{"$f":"IF(COUNTRY_INFO!C134=0,\" \",COUNTRY_INFO!C134)","v":"Arada"},{"$f":"IF(COUNTRY_INFO!$U$9:$U$1000=\"MDA3 (IVM)\", COUNTRY_INFO!$U$9:$U$1000, \" \")","v":" "},0,0,0,0,0,0,0,null,null,0,0,0,0," "," "," ",{"$f":"COUNTRY_INFO!Y134","v":10779},null,null,null,null,null,null,null,null,0,0]
[{"$f":"IF(COUNTRY_INFO!A135=0,\" \",COUNTRY_INFO!A135)","v":"Chad"},{"$f":"IF(COUNTRY_INFO!B135=0,\" \",COUNTRY_INFO!B135)","v":"Wadi Fira"},{"$f":"IF(COUNTRY_INFO!C135=0,\" \",COUNTRY_INFO!C135)","v":"Biltine"},{"$f":"IF(COUNTRY_INFO!$U$9:$U$1000=\"MDA3 (IVM)\", COUNTRY_INFO!$U$9:$U$1000, \" \")","v":" "},0,0,0,0,0,0,0,null,null,0,0,0,0," "," "," ",{"$f":"COUNTRY_INFO!Y135","v":10740},null,null,null,null,null,null,null,null,0,0]
[{"$f":"IF(COUNTRY_INFO!A136=0,\" \",COUNTRY_INFO!A136)","v":"Chad"},{"$f":"IF(COUNTRY_INFO!B136=0,\" \",COUNTRY_INFO!B136)","v":"Wadi Fira"},{"$f":"IF(COUNTRY_INFO!C136=0,\" \",COUNTRY_INFO!C136)","v":"Guéréda"},{"$f":"IF(COUNTRY_INFO!$U$9:$U$1000=\"MDA3 (IVM)\", COUNTRY_INFO!$U$9:$U$1000, \" \")","v":" "},0,0,0,0,0,0,0,null,null,0,0,0,0," "," "," ",{"$f":"COUNTRY_INFO!Y136","v":10741},null,null,null,null,null,null,null,null,0,0]
[{"$f":"IF(COUNTRY_INFO!A137=0,\" \",COUNTRY_INFO!A137)","v":"Chad"},{"$f":"IF(COUNTRY_INFO!B137=0,\" \",COUNTRY_INFO!B137)","v":"Wadi Fira"},{"$f":"IF(COUNTRY_INFO!C137=0,\" \",COUNTRY_INFO!C137)","v":"Iriba"},{"$f":"IF(COUNTRY_INFO!$U$9:$U$1000=\"MDA3 (IVM)\", COUNTRY_INFO!$U$9:$U$1000, \" \")","v":" "},0,0,0,0,0,0,0,null,null,0,0,0,0," "," "," ",{"$f":"COUNTRY_INFO!Y137","v":10742},null,null,null,null,null,null,null,null,0,0]
[{"$f":"IF(COUNTRY_INFO!A138=0,\" \",COUNTRY_INFO!A138)","v":"Chad"},{"$f":"IF(COUNTRY_INFO!B138=0,\" \",COUNTRY_INFO!B138)","v":"Wadi Fira"},{"$f":"IF(COUNTRY_INFO!C138=0,\" \",COUNTRY_INFO!C138)","v":"Matadjana"},{"$f":"IF(COUNTRY_INFO!$U$9:$U$1000=\"MDA3 (IVM)\", COUNTRY_INFO!$U$9:$U$1000, \" \")","v":" "},0,0,0,{"$f":"SUM(F138:G138)","v":0},0,0,{"$f":"SUM(I138:J138)","v":0},null,null,{"$f":"SUM(L138:M138)","v":0},{"$f":"MAX(I138,L138)","v":0},{"$f":"MAX(J138,M138)","v":0},{"$f":"SUM(O138:P138)","v":0},{"$f":"IF(F138<>0, IF(MAX(I138,L138)/F138*100=0, \"-\", MAX(I138,L138)/F138*100), \" \")","v":" "},{"$f":"IF(G138<>0, IF(MAX(J138,M138)/G138*100=0, \"-\", MAX(J138,M138)/G138*100), \" \")","v":" "},{"$f":"IF(H138<>0, IF((MAX(I138,L138)+MAX(J138,M138))/H138*100=0, \"-\",(MAX(I138,L138)+MAX(J138,M138))/H138*100), \" \")","v":" "},{"$f":"COUNTRY_INFO!Y138","v":10743},null,null,null,null,null,null,null,null,0,0]

{"sheet":"T1","index":5,"n_rows":138,"n_cols":28,"rows_kept":138,"cut":false,"hidden":false,"merged":[[5,6,5,10],[5,11,5,14],[5,15,5,18],[3,0,3,2],[5,0,5,2],[5,3,6,3],[5,5,6,5],[5,4,6,4]]}
["T 1 - Praziquantel (PZQ) et Albendazole (ALB) ou Mebendazole (MBD)"]
["Structure administrative, population nécessitant une chimioprévention par groupe d'âge, population traitée par groupe d'âge et couverture"]
[]
["TOTAL",null,null,null,null,null,{"$f":"SUM(G$9:G$1000)","v":0},487661,487661,0,{"$f":"SUM(K$9:K$1000)","v":487661},0,471269,0,471269,{"$f":"IF(G4<>0, IF(L4/G4*100=0, \"-\", L4/G4*100), \" \")","v":" "},{"$f":"IF(OR(I4<>0,H4<>0), IF(M4/MAX(H4,I4)*100=0, \"-\", M4/MAX(H4,I4)*100), \" \")","v":96.638648569395542},{"$f":"IF(J4<>0, IF(N4/J4*100=0, \"-\", N4/J4*100), \" \")","v":" "},{"$f":"IF(K4<>0, IF(O4/K4*100=0, \"-\", O4/K4*100), \" \")","v":96.638648569395542}]
[]
["Structure administrative du pays",null,null,"Mise en oeuvre \nde la CP","Médica-ment","Date","Population ciblée pour T1",null,null,null,null,"Population traitée",null,null,null,"Couverture du Programme (%)"]
["Pays","Région/Département","District",null,null,null,"EAPréS (ALB)","EAS (ALB)","EAS (PZQ)","Adultes (PZQ)","Total","EAPréS","EAS","Adultes","Total","EAPréS","EAS","Adultes","Total","x","x","x","x","x","x","x","x"]
[]
[{"$f":"IF(COUNTRY_INFO!A9=0,\" \",COUNTRY_INFO!A9)","v":"Chad"},{"$f":"IF(COUNTRY_INFO!B9=0,\" \",COUNTRY_INFO!B9)","v":"Bahr El Gazel"},{"$f":"IF(COUNTRY_INFO!C9=0,\" \",COUNTRY_INFO!C9)","v":"Chadra"},{"$f":"IF(OR(COUNTRY_INFO!$U$9:$U$1000=\"T1 (PZQ+ALB/MBD)\",COUNTRY_INFO!$V$9:$V$1000=\"T1 (PZQ+ALB/MBD)\"), \"T1 (PZQ+ALB/MBD)\", \" \")","v":" "},null,0,null,null,0,null,{"$f":"MAX(H9:I9)+G9+J9","v":0},null,0,null,{"$f":"SUM(L9:N9)","v":0},{"$f":"IF(G9<>0, IF(L9/G9*100=0, \"-\", L9/G9*100), \" \")","v":" "},{"$f":"IF(OR(I9<>0,H9<>0), IF(M9/MAX(H9,I9)*100=0, \"-\", M9/MAX(H9,I9)*100), \" \")","v":" "},{"$f":"IF(J9<>0, IF(N9/J9*100=0, \"-\", N9/J9*100), \" \")","v":" "}," ",{"$f":"COUNTRY_INFO!Y9","v":10660}]
[{"$f":"IF(COUNTRY_INFO!A10=0,\" \",COUNTRY_INFO!A10)","v":"Chad"},{"$f":"IF(COUNTRY_INFO!B10=0,\" \",COUNTRY_INFO!B10)","v":"Bahr El Gazel"},{"$f":"IF(COUNTRY_INFO!C10=0,\" \",COUNTRY_INFO!C10)","v":"Michemire"},{"$f":"IF(OR(COUNTRY_INFO!$U$9:$U$1000=\"T1 (PZQ+ALB/MBD)\",COUNTRY_INFO!$V$9:$V$1000=\"T1 (PZQ+ALB/MBD)\"), \"T1 (PZQ+ALB/MBD)\", \" \")","v":" "},null,0,null,null,0,null,{"$f":"MAX(H10:I10)+G10+J10","v":0},null,0,null,{"$f":"SUM(L10:N10)","v":0},{"$f":"IF(G10<>0, IF(L10/G10*100=0, \"-\", L10/G10*100), \" \")","v":" "},{"$f":"IF(OR(I10<>0,H10<>0), IF(M10/MAX(H10,I10)*100=0, \"-\", M10/MAX(H10,I10)*100), \" \")","v":" "},{"$f":"IF(J10<>0, IF(N10/J10*100=0, \"-\", N10/J10*100), \" \")","v":" "},{"$f":"IF(K10<>0, IF(O10/K10*100=0, \"-\", O10/K10*100), \" \")","v":" "},{"$f":"COUNTRY_INFO!Y10","v":10670}]
[{"$f":"IF(COUNTRY_INFO!A11=0,\" \",COUNTRY_INFO!A11)","v":"Chad"},{"$f":"IF(COUNTRY_INFO!B11=0,\" \",COUNTRY_INFO!B11)","v":"Bahr El Gazel"},{"$f":"IF(COUNTRY_INFO!C11=0,\" \",COUNTRY_INFO!C11)","v":"Moussoro"},{"$f":"IF(OR(COUNTRY_INFO!$U$9:$U$1000=\"T1 (PZQ+ALB/MBD)\",COUNTRY_INFO!$V$9:$V$1000=\"T1 (PZQ+ALB/MBD)\"), \"T1 (PZQ+ALB/MBD)\", \" \")","v":" "},null,0,null,null,0,null,0,null,0,null,0," "," "," "," ",{"$f":"COUNTRY_INFO!Y11","v":10661}]
[{"$f":"IF(COUNTRY_INFO!A12=0,\" \",COUNTRY_INFO!A12)","v":"Chad"},{"$f":"IF(COUNTRY_INFO!B12=0,\" \",COUNTRY_INFO!B12)","v":"Bahr El Gazel"},{"$f":"IF(COUNTRY_INFO!C12=0,\" \",COUNTRY_INFO!C12)","v":"Salal"},{"$f":"IF(OR(COUNTRY_INFO!$U$9:$U$1000=\"T1 (PZQ+ALB/MBD)\",COUNTRY_INFO!$V$9:$V$1000=\"T1 (PZQ+ALB/MBD)\"), \"T1 (PZQ+ALB/MBD)\", \" \")","v":" "},null,0,null,null,0,null,0,null,0,null,0," "," "," "," ",{"$f":"COUNTRY_INFO!Y12","v":10711}]
[{"$f":"IF(COUNTRY_INFO!A13=0,\" \",COUNTRY_INFO!A13)","v":"Chad"},{"$f":"IF(COUNTRY_INFO!B13=0,\" \",COUNTRY_INFO!B13)","v":"Batha"},{"$f":"IF(COUNTRY_INFO!C13=0,\" \",COUNTRY_INFO!C13)","v":"Alifa"},{"$f":"IF(OR(COUNTRY_INFO!$U$9:$U$1000=\"T1 (PZQ+ALB/MBD)\",COUNTRY_INFO!$V$9:$V$1000=\"T1 (PZQ+ALB/MBD)\"), \"T1 (PZQ+ALB/MBD)\", \" \")","v":" "},null,0,null,null,0,null,0,null,0,null,0," "," "," "," ",{"$f":"COUNTRY_INFO!Y13","v":10739}]
[{"$f":"IF(COUNTRY_INFO!A14=0,\" \",COUNTRY_INFO!A14)","v":"Chad"},{"$f":"IF(COUNTRY_INFO!B14=0,\" \",COUNTRY_INFO!B14)","v":"Batha"},{"$f":"IF(COUNTRY_INFO!C14=0,\" \",COUNTRY_INFO!C14)","v":"Assinet"},{"$f":"IF(OR(COUNTRY_INFO!$U$9:$U$1000=\"T1 (PZQ+ALB/MBD)\",COUNTRY_INFO!$V$9:$V$1000=\"T1 (PZQ+ALB/MBD)\"), \"T1 (PZQ+ALB/MBD)\", \" \")","v":" "},null,0,null,null,0,null,0,null,0,null,0," "," "," "," ",{"$f":"COUNTRY_INFO!Y14","v":10745}]
[{"$f":"IF(COUNTRY_INFO!A15=0,\" \",COUNTRY_INFO!A15)","v":"Chad"},{"$f":"IF(COUNTRY_INFO!B15=0,\" \",COUNTRY_INFO!B15)","v":"Batha"},{"$f":"IF(COUNTRY_INFO!C15=0,\" \",COUNTRY_INFO!C15)","v":"Ati"},{"$f":"IF(OR(COUNTRY_INFO!$U$9:$U$1000=\"T1 (PZQ+ALB/MBD)\",COUNTRY_INFO!$V$9:$V$1000=\"T1 (PZQ+ALB/MBD)\"), \"T1 (PZQ+ALB/MBD)\", \" \")","v":" "},null,0,null,null,0,null,0,null,0,null,0," "," "," "," ",{"$f":"COUNTRY_INFO!Y15","v":10662}]
[{"$f":"IF(COUNTRY_INFO!A16=0,\" \",COUNTRY_INFO!A16)","v":"Chad"},{"$f":"IF(COUNTRY_INFO!B16=0,\" \",COUNTRY_INFO!B16)","v":"Batha"},{"$f":"IF(COUNTRY_INFO!C16=0,\" \",COUNTRY_INFO!C16)","v":"Djedda"},{"$f":"IF(OR(COUNTRY_INFO!$U$9:$U$1000=\"T1 (PZQ+ALB/MBD)\",COUNTRY_INFO!$V$9:$V$1000=\"T1 (PZQ+ALB/MBD)\"), \"T1 (PZQ+ALB/MBD)\", \" \")","v":" "},null,0,null,null,0,null,0,null,0,null,0," "," "," "," ",{"$f":"COUNTRY_INFO!Y16","v":10761}]
[{"$f":"IF(COUNTRY_INFO!A17=0,\" \",COUNTRY_INFO!A17)","v":"Chad"},{"$f":"IF(COUNTRY_INFO!B17=0,\" \",COUNTRY_INFO!B17)","v":"Batha"},{"$f":"IF(COUNTRY_INFO!C17=0,\" \",COUNTRY_INFO!C17)","v":"Koundjourou"},{"$f":"IF(OR(COUNTRY_INFO!$U$9:$U$1000=\"T1 (PZQ+ALB/MBD)\",COUNTRY_INFO!$V$9:$V$1000=\"T1 (PZQ+ALB/MBD)\"), \"T1 (PZQ+ALB/MBD)\", \" \")","v":" "},null,0,null,null,0,null,0,null,0,null,0," "," "," "," ",{"$f":"COUNTRY_INFO!Y17","v":10762}]
[{"$f":"IF(COUNTRY_INFO!A18=0,\" \",COUNTRY_INFO!A18)","v":"Chad"},{"$f":"IF(COUNTRY_INFO!B18=0,\" \",COUNTRY_INFO!B18)","v":"Batha"},{"$f":"IF(COUNTRY_INFO!C18=0,\" \",COUNTRY_INFO!C18)","v":"Oum-Hadjer"},{"$f":"IF(OR(COUNTRY_INFO!$U$9:$U$1000=\"T1 (PZQ+ALB/MBD)\",COUNTRY_INFO!$V$9:$V$1000=\"T1 (PZQ+ALB/MBD)\"), \"T1 (PZQ+ALB/MBD)\", \" \")","v":" "},null,0,null,null,0,null,0,null,0,null,0," "," "," "," ",{"$f":"COUNTRY_INFO!Y18","v":10663}]
[{"$f":"IF(COUNTRY_INFO!A19=0,\" \",COUNTRY_INFO!A19)","v":"Chad"},{"$f":"IF(COUNTRY_INFO!B19=0,\" \",COUNTRY_INFO!B19)","v":"Batha"},{"$f":"IF(COUNTRY_INFO!C19=0,\" \",COUNTRY_INFO!C19)","v":"Yao"},{"$f":"IF(OR(COUNTRY_INFO!$U$9:$U$1000=\"T1 (PZQ+ALB/MBD)\",COUNTRY_INFO!$V$9:$V$1000=\"T1 (PZQ+ALB/MBD)\"), \"T1 (PZQ+ALB/MBD)\", \" \")","v":" "},null,0,null,null,0,null,0,null,0,null,0," "," "," "," ",{"$f":"COUNTRY_INFO!Y19","v":10664}]
[{"$f":"IF(COUNTRY_INFO!A20=0,\" \",COUNTRY_INFO!A20)","v":"Chad"},{"$f":"IF(COUNTRY_INFO!B20=0,\" \",COUNTRY_INFO!B20)","v":"Borkou"},{"$f":"IF(COUNTRY_INFO!C20=0,\" \",COUNTRY_INFO!C20)","v":"Faya"},{"$f":"IF(OR(COUNTRY_INFO!$U$9:$U$1000=\"T1 (PZQ+ALB/MBD)\",COUNTRY_INFO!$V$9:$V$1000=\"T1 (PZQ+ALB/MBD)\"), \"T1 (PZQ+ALB/MBD)\", \" \")","v":" "},null,0,null,null,0,null,0,null,0,null,0," "," "," "," ",{"$f":"COUNTRY_INFO!Y20","v":10666}]
[{"$f":"IF(COUNTRY_INFO!A21=0,\" \",COUNTRY_INFO!A21)","v":"Chad"},{"$f":"IF(COUNTRY_INFO!B21=0,\" \",COUNTRY_INFO!B21)","v":"Borkou"},{"$f":"IF(COUNTRY_INFO!C21=0,\" \",COUNTRY_INFO!C21)","v":"Kirdimi"},{"$f":"IF(OR(COUNTRY_INFO!$U$9:$U$1000=\"T1 (PZQ+ALB/MBD)\",COUNTRY_INFO!$V$9:$V$1000=\"T1 (PZQ+ALB/MBD)\"), \"T1 (PZQ+ALB/MBD)\", \" \")","v":" "},null,0,null,null,0,null,0,null,0,null,0," "," "," "," ",{"$f":"COUNTRY_INFO!Y21","v":10746}]
[{"$f":"IF(COUNTRY_INFO!A22=0,\" \",COUNTRY_INFO!A22)","v":"Chad"},{"$f":"IF(COUNTRY_INFO!B22=0,\" \",COUNTRY_INFO!B22)","v":"Borkou"},{"$f":"IF(COUNTRY_INFO!C22=0,\" \",COUNTRY_INFO!C22)","v":"Kouba Olanga"},{"$f":"IF(OR(COUNTRY_INFO!$U$9:$U$1000=\"T1 (PZQ+ALB/MBD)\",COUNTRY_INFO!$V$9:$V$1000=\"T1 (PZQ+ALB/MBD)\"), \"T1 (PZQ+ALB/MBD)\", \" \")","v":" "},null,null,null,null,null,null,0,null,null,null,0," "," "," "," ",{"$f":"COUNTRY_INFO!Y22","v":10783}]
[{"$f":"IF(COUNTRY_INFO!A23=0,\" \",COUNTRY_INFO!A23)","v":"Chad"},{"$f":"IF(COUNTRY_INFO!B23=0,\" \",COUNTRY_INFO!B23)","v":"Chari  Baguirmi"},{"$f":"IF(COUNTRY_INFO!C23=0,\" \",COUNTRY_INFO!C23)","v":"Ba-Illi"},{"$f":"IF(OR(COUNTRY_INFO!$U$9:$U$1000=\"T1 (PZQ+ALB/MBD)\",COUNTRY_INFO!$V$9:$V$1000=\"T1 (PZQ+ALB/MBD)\"), \"T1 (PZQ+ALB/MBD)\", \" \")","v":" "},null,0,null,null,0,null,0,null,0,null,0," "," "," "," ",{"$f":"COUNTRY_INFO!Y23","v":10667}]
[{"$f":"IF(COUNTRY_INFO!A24=0,\" \",COUNTRY_INFO!A24)","v":"Chad"},{"$f":"IF(COUNTRY_INFO!B24=0,\" \",COUNTRY_INFO!B24)","v":"Chari  Baguirmi"},{"$f":"IF(COUNTRY_INFO!C24=0,\" \",COUNTRY_INFO!C24)","v":"Bousso"},{"$f":"IF(OR(COUNTRY_INFO!$U$9:$U$1000=\"T1 (PZQ+ALB/MBD)\",COUNTRY_INFO!$V$9:$V$1000=\"T1 (PZQ+ALB/MBD)\"), \"T1 (PZQ+ALB/MBD)\", \" \")","v":" "},null,0,null,null,0,null,0,null,0,null,0," "," "," "," ",{"$f":"COUNTRY_INFO!Y24","v":10668}]
[{"$f":"IF(COUNTRY_INFO!A25=0,\" \",COUNTRY_INFO!A25)","v":"Chad"},{"$f":"IF(COUNTRY_INFO!B25=0,\" \",COUNTRY_INFO!B25)","v":"Chari  Baguirmi"},{"$f":"IF(COUNTRY_INFO!C25=0,\" \",COUNTRY_INFO!C25)","v":"Dourbali"},{"$f":"IF(OR(COUNTRY_INFO!$U$9:$U$1000=\"T1 (PZQ+ALB/MBD)\",COUNTRY_INFO!$V$9:$V$1000=\"T1 (PZQ+ALB/MBD)\"), \"T1 (PZQ+ALB/MBD)\", \" \")","v":" "},null,0,null,null,0,null,0,null,0,null,0," "," "," "," ",{"$f":"COUNTRY_INFO!Y25","v":10669}]
[{"$f":"IF(COUNTRY_INFO!A26=0,\" \",COUNTRY_INFO!A26)","v":"Chad"},{"$f":"IF(COUNTRY_INFO!B26=0,\" \",COUNTRY_INFO!B26)","v":"Chari  Baguirmi"},{"$f":"IF(COUNTRY_INFO!C26=0,\" \",COUNTRY_INFO!C26)","v":"Koulno"},{"$f":"IF(OR(COUNTRY_INFO!$U$9:$U$1000=\"T1 (PZQ+ALB/MBD)\",COUNTRY_INFO!$V$9:$V$1000=\"T1 (PZQ+ALB/MBD)\"), \"T1 (PZQ+ALB/MBD)\", \" \")","v":" "},null,0,null,null,0,null,0,null,0,null,0," "," "," "," ",{"$f":"COUNTRY_INFO!Y26","v":10747}]
[{"$f":"IF(COUNTRY_INFO!A27=0,\" \",COUNTRY_INFO!A27)","v":"Chad"},{"$f":"IF(COUNTRY_INFO!B27=0,\" \",COUNTRY_INFO!B27)","v":"Chari  Baguirmi"},{"$f":"IF(COUNTRY_INFO!C27=0,\" \",COUNTRY_INFO!C27)","v":"Mandélia"},{"$f":"IF(OR(COUNTRY_INFO!$U$9:$U$1000=\"T1 (PZQ+ALB/MBD)\",COUNTRY_INFO!$V$9:$V$1000=\"T1 (PZQ+ALB/MBD)\"), \"T1 (PZQ+ALB/MBD)\", \" \")","v":" "},null,0,null,null,0,null,0,null,0,null,0," "," "," "," ",{"$f":"COUNTRY_INFO!Y27","v":10671}]
[{"$f":"IF(COUNTRY_INFO!A28=0,\" \",COUNTRY_INFO!A28)","v":"Chad"},{"$f":"IF(COUNTRY_INFO!B28=0,\" \",COUNTRY_INFO!B28)","v":"Chari  Baguirmi"},{"$f":"IF(COUNTRY_INFO!C28=0,\" \",COUNTRY_INFO!C28)","v":"Massenya"},{"$f":"IF(OR(COUNTRY_INFO!$U$9:$U$1000=\"T1 (PZQ+ALB/MBD)\",COUNTRY_INFO!$V$9:$V$1000=\"T1 (PZQ+ALB/MBD)\"), \"T1 (PZQ+ALB/MBD)\", \" \")","v":" "},null,0,null,null,0,null,0,null,0,null,0," "," "," "," ",{"$f":"COUNTRY_INFO!Y28","v":10672}]
[{"$f":"IF(COUNTRY_INFO!A29=0,\" \",COUNTRY_INFO!A29)","v":"Chad"},{"$f":"IF(COUNTRY_INFO!B29=0,\" \",COUNTRY_INFO!B29)","v":"Ennedi Est"},{"$f":"IF(COUNTRY_INFO!C29=0,\" \",COUNTRY_INFO!C29)","v":"Amdjarass"},{"$f":"IF(OR(COUNTRY_INFO!$U$9:$U$1000=\"T1 (PZQ+ALB/MBD)\",COUNTRY_INFO!$V$9:$V$1000=\"T1 (PZQ+ALB/MBD)\"), \"T1 (PZQ+ALB/MBD)\", \" \")","v":" "},null,0,null,null,0,null,0,null,0,null,0," "," "," "," ",{"$f":"COUNTRY_INFO!Y29","v":10675}]
[{"$f":"IF(COUNTRY_INFO!A30=0,\" \",COUNTRY_INFO!A30)","v":"Chad"},{"$f":"IF(COUNTRY_INFO!B30=0,\" \",COUNTRY_INFO!B30)","v":"Ennedi Est"},{"$f":"IF(COUNTRY_INFO!C30=0,\" \",COUNTRY_INFO!C30)","v":"Bahaï"},{"$f":"IF(OR(COUNTRY_INFO!$U$9:$U$1000=\"T1 (PZQ+ALB/MBD)\",COUNTRY_INFO!$V$9:$V$1000=\"T1 (PZQ+ALB/MBD)\"), \"T1 (PZQ+ALB/MBD)\", \" \")","v":" "},null,0,null,null,0,null,0,null,0,null,0," "," "," "," ",{"$f":"COUNTRY_INFO!Y30","v":10676}]
[{"$f":"IF(COUNTRY_INFO!A31=0,\" \",COUNTRY_INFO!A31)","v":"Chad"},{"$f":"IF(COUNTRY_INFO!B31=0,\" \",COUNTRY_INFO!B31)","v":"Ennedi Est"},{"$f":"IF(COUNTRY_INFO!C31=0,\" \",COUNTRY_INFO!C31)","v":"Kaoura"},{"$f":"IF(OR(COUNTRY_INFO!$U$9:$U$1000=\"T1 (PZQ+ALB/MBD)\",COUNTRY_INFO!$V$9:$V$1000=\"T1 (PZQ+ALB/MBD)\"), \"T1 (PZQ+ALB/MBD)\", \" \")","v":" "},null,0,null,null,0,null,0,null,0,null,0," "," "," "," ",{"$f":"COUNTRY_INFO!Y31","v":10678}]
[{"$f":"IF(COUNTRY_INFO!A32=0,\" \",COUNTRY_INFO!A32)","v":"Chad"},{"$f":"IF(COUNTRY_INFO!B32=0,\" \",COUNTRY_INFO!B32)","v":"Ennedi Est"},{"$f":"IF(COUNTRY_INFO!C32=0,\" \",COUNTRY_INFO!C32)","v":"Mourdi"},{"$f":"IF(OR(COUNTRY_INFO!$U$9:$U$1000=\"T1 (PZQ+ALB/MBD)\",COUNTRY_INFO!$V$9:$V$1000=\"T1 (PZQ+ALB/MBD)\"), \"T1 (PZQ+ALB/MBD)\", \" \")","v":" "},null,null,null,null,null,null,0,null,null,null,0," "," "," "," ",{"$f":"COUNTRY_INFO!Y32","v":10784}]
[{"$f":"IF(COUNTRY_INFO!A33=0,\" \",COUNTRY_INFO!A33)","v":"Chad"},{"$f":"IF(COUNTRY_INFO!B33=0,\" \",COUNTRY_INFO!B33)","v":"Ennedi Ouest"},{"$f":"IF(COUNTRY_INFO!C33=0,\" \",COUNTRY_INFO!C33)","v":"Fada"},{"$f":"IF(OR(COUNTRY_INFO!$U$9:$U$1000=\"T1 (PZQ+ALB/MBD)\",COUNTRY_INFO!$V$9:$V$1000=\"T1 (PZQ+ALB/MBD)\"), \"T1 (PZQ+ALB/MBD)\", \" \")","v":" "},null,0,null,null,0,null,0,null,0,null,0," "," "," "," ",{"$f":"COUNTRY_INFO!Y33","v":10665}]
[{"$f":"IF(COUNTRY_INFO!A34=0,\" \",COUNTRY_INFO!A34)","v":"Chad"},{"$f":"IF(COUNTRY_INFO!B34=0,\" \",COUNTRY_INFO!B34)","v":"Ennedi Ouest"},{"$f":"IF(COUNTRY_INFO!C34=0,\" \",COUNTRY_INFO!C34)","v":"Kalaït"},{"$f":"IF(OR(COUNTRY_INFO!$U$9:$U$1000=\"T1 (PZQ+ALB/MBD)\",COUNTRY_INFO!$V$9:$V$1000=\"T1 (PZQ+ALB/MBD)\"), \"T1 (PZQ+ALB/MBD)\", \" \")","v":" "},null,0,null,null,0,null,0,null,0,null,0," "," "," "," ",{"$f":"COUNTRY_INFO!Y34","v":10677}]
[{"$f":"IF(COUNTRY_INFO!A35=0,\" \",COUNTRY_INFO!A35)","v":"Chad"},{"$f":"IF(COUNTRY_INFO!B35=0,\" \",COUNTRY_INFO!B35)","v":"Ennedi Ouest"},{"$f":"IF(COUNTRY_INFO!C35=0,\" \",COUNTRY_INFO!C35)","v":"Ounianga Kebbir"},{"$f":"IF(OR(COUNTRY_INFO!$U$9:$U$1000=\"T1 (PZQ+ALB/MBD)\",COUNTRY_INFO!$V$9:$V$1000=\"T1 (PZQ+ALB/MBD)\"), \"T1 (PZQ+ALB/MBD)\", \" \")","v":" "},null,null,null,null,null,null,0,null,null,null,0," "," "," "," ",{"$f":"COUNTRY_INFO!Y35","v":10785}]
[{"$f":"IF(COUNTRY_INFO!A36=0,\" \",COUNTRY_INFO!A36)","v":"Chad"},{"$f":"IF(COUNTRY_INFO!B36=0,\" \",COUNTRY_INFO!B36)","v":"Guéra"},{"$f":"IF(COUNTRY_INFO!C36=0,\" \",COUNTRY_INFO!C36)","v":"Barou"},{"$f":"IF(OR(COUNTRY_INFO!$U$9:$U$1000=\"T1 (PZQ+ALB/MBD)\",COUNTRY_INFO!$V$9:$V$1000=\"T1 (PZQ+ALB/MBD)\"), \"T1 (PZQ+ALB/MBD)\", \" \")","v":" "},null,0,null,null,0,null,0,null,0,null,0," "," "," "," ",{"$f":"COUNTRY_INFO!Y36","v":10763}]
[{"$f":"IF(COUNTRY_INFO!A37=0,\" \",COUNTRY_INFO!A37)","v":"Chad"},{"$f":"IF(COUNTRY_INFO!B37=0,\" \",COUNTRY_INFO!B37)","v":"Guéra"},{"$f":"IF(COUNTRY_INFO!C37=0,\" \",COUNTRY_INFO!C37)","v":"Bitkine"},{"$f":"IF(OR(COUNTRY_INFO!$U$9:$U$1000=\"T1 (PZQ+ALB/MBD)\",COUNTRY_INFO!$V$9:$V$1000=\"T1 (PZQ+ALB/MBD)\"), \"T1 (PZQ+ALB/MBD)\", \" \")","v":" "},null,0,null,null,0,null,0,null,0,null,0," "," "," "," ",{"$f":"COUNTRY_INFO!Y37","v":10679}]
[{"$f":"IF(COUNTRY_INFO!A38=0,\" \",COUNTRY_INFO!A38)","v":"Chad"},{"$f":"IF(COUNTRY_INFO!B38=0,\" \",COUNTRY_INFO!B38)","v":"Guéra"},{"$f":"IF(COUNTRY_INFO!C38=0,\" \",COUNTRY_INFO!C38)","v":"Mangalmé"},{"$f":"IF(OR(COUNTRY_INFO!$U$9:$U$1000=\"T1 (PZQ+ALB/MBD)\",COUNTRY_INFO!$V$9:$V$1000=\"T1 (PZQ+ALB/MBD)\"), \"T1 (PZQ+ALB/MBD)\", \" \")","v":" "},null,0,null,null,0,null,0,null,0,null,0," "," "," "," ",{"$f":"COUNTRY_INFO!Y38","v":10680}]
[{"$f":"IF(COUNTRY_INFO!A39=0,\" \",COUNTRY_INFO!A39)","v":"Chad"},{"$f":"IF(COUNTRY_INFO!B39=0,\" \",COUNTRY_INFO!B39)","v":"Guéra"},{"$f":"IF(COUNTRY_INFO!C39=0,\" \",COUNTRY_INFO!C39)","v":"Melfi"},{"$f":"IF(OR(COUNTRY_INFO!$U$9:$U$1000=\"T1 (PZQ+ALB/MBD)\",COUNTRY_INFO!$V$9:$V$1000=\"T1 (PZQ+ALB/MBD)\"), \"T1 (PZQ+ALB/MBD)\", \" \")","v":" "},null,0,null,null,0,null,0,null,0,null,0," "," "," "," ",{"$f":"COUNTRY_INFO!Y39","v":10681}]
[{"$f":"IF(COUNTRY_INFO!A40=0,\" \",COUNTRY_INFO!A40)","v":"Chad"},{"$f":"IF(COUNTRY_INFO!B40=0,\" \",COUNTRY_INFO!B40)","v":"Guéra"},{"$f":"IF(COUNTRY_INFO!C40=0,\" \",COUNTRY_INFO!C40)","v":"Mongo"},{"$f":"IF(OR(COUNTRY_INFO!$U$9:$U$1000=\"T1 (PZQ+ALB/MBD)\",COUNTRY_INFO!$V$9:$V$1000=\"T1 (PZQ+ALB/MBD)\"), \"T1 (PZQ+ALB/MBD)\", \" \")","v":" "},null,0,null,null,0,null,0,null,0,null,0," "," "," "," ",{"$f":"COUNTRY_INFO!Y40","v":10682}]
[{"$f":"IF(COUNTRY_INFO!A41=0,\" \",COUNTRY_INFO!A41)","v":"Chad"},{"$f":"IF(COUNTRY_INFO!B41=0,\" \",COUNTRY_INFO!B41)","v":"Hadjer Lamis"},{"$f":"IF(COUNTRY_INFO!C41=0,\" \",COUNTRY_INFO!C41)","v":"Bokoro"},{"$f":"IF(OR(COUNTRY_INFO!$U$9:$U$1000=\"T1 (PZQ+ALB/MBD)\",COUNTRY_INFO!$V$9:$V$1000=\"T1 (PZQ+ALB/MBD)\"), \"T1 (PZQ+ALB/MBD)\", \" \")","v":" "},null,0,null,null,0,null,0,null,0,null,0," "," "," "," ",{"$f":"COUNTRY_INFO!Y41","v":10683}]
[{"$f":"IF(COUNTRY_INFO!A42=0,\" \",COUNTRY_INFO!A42)","v":"Chad"},{"$f":"IF(COUNTRY_INFO!B42=0,\" \",COUNTRY_INFO!B42)","v":"Hadjer Lamis"},{"$f":"IF(COUNTRY_INFO!C42=0,\" \",COUNTRY_INFO!C42)","v":"Gama"},{"$f":"IF(OR(COUNTRY_INFO!$U$9:$U$1000=\"T1 (PZQ+ALB/MBD)\",COUNTRY_INFO!$V$9:$V$1000=\"T1 (PZQ+ALB/MBD)\"), \"T1 (PZQ+ALB/MBD)\", \" \")","v":" "},null,0,null,null,0,null,0,null,0,null,0," "," "," "," ",{"$f":"COUNTRY_INFO!Y42","v":10748}]
[{"$f":"IF(COUNTRY_INFO!A43=0,\" \",COUNTRY_INFO!A43)","v":"Chad"},{"$f":"IF(COUNTRY_INFO!B43=0,\" \",COUNTRY_INFO!B43)","v":"Hadjar Lamis"},{"$f":"IF(COUNTRY_INFO!C43=0,\" \",COUNTRY_INFO!C43)","v":"Karal"},{"$f":"IF(OR(COUNTRY_INFO!$U$9:$U$1000=\"T1 (PZQ+ALB/MBD)\",COUNTRY_INFO!$V$9:$V$1000=\"T1 (PZQ+ALB/MBD)\"), \"T1 (PZQ+ALB/MBD)\", \" \")","v":" "},null,null,null,null,null,null,0,null,null,null,0," "," "," "," ",{"$f":"COUNTRY_INFO!Y43","v":10786}]
[{"$f":"IF(COUNTRY_INFO!A44=0,\" \",COUNTRY_INFO!A44)","v":"Chad"},{"$f":"IF(COUNTRY_INFO!B44=0,\" \",COUNTRY_INFO!B44)","v":"Hadjer Lamis"},{"$f":"IF(COUNTRY_INFO!C44=0,\" \",COUNTRY_INFO!C44)","v":"Mani"},{"$f":"IF(OR(COUNTRY_INFO!$U$9:$U$1000=\"T1 (PZQ+ALB/MBD)\",COUNTRY_INFO!$V$9:$V$1000=\"T1 (PZQ+ALB/MBD)\"), \"T1 (PZQ+ALB/MBD)\", \" \")","v":" "},null,0,null,null,0,null,0,null,0,null,0," "," "," "," ",{"$f":"COUNTRY_INFO!Y44","v":10684}]
[{"$f":"IF(COUNTRY_INFO!A45=0,\" \",COUNTRY_INFO!A45)","v":"Chad"},{"$f":"IF(COUNTRY_INFO!B45=0,\" \",COUNTRY_INFO!B45)","v":"Hadjer Lamis"},{"$f":"IF(COUNTRY_INFO!C45=0,\" \",COUNTRY_INFO!C45)","v":"Massaguet"},{"$f":"IF(OR(COUNTRY_INFO!$U$9:$U$1000=\"T1 (PZQ+ALB/MBD)\",COUNTRY_INFO!$V$9:$V$1000=\"T1 (PZQ+ALB/MBD)\"), \"T1 (PZQ+ALB/MBD)\", \" \")","v":" "},null,0,null,null,0,null,0,null,0,null,0," "," "," "," ",{"$f":"COUNTRY_INFO!Y45","v":10685}]
[{"$f":"IF(COUNTRY_INFO!A46=0,\" \",COUNTRY_INFO!A46)","v":"Chad"},{"$f":"IF(COUNTRY_INFO!B46=0,\" \",COUNTRY_INFO!B46)","v":"Hadjer Lamis"},{"$f":"IF(COUNTRY_INFO!C46=0,\" \",COUNTRY_INFO!C46)","v":"Massakory"},{"$f":"IF(OR(COUNTRY_INFO!$U$9:$U$1000=\"T1 (PZQ+ALB/MBD)\",COUNTRY_INFO!$V$9:$V$1000=\"T1 (PZQ+ALB/MBD)\"), \"T1 (PZQ+ALB/MBD)\", \" \")","v":" "},null,0,null,null,0,null,0,null,0,null,0," "," "," "," ",{"$f":"COUNTRY_INFO!Y46","v":10686}]
[{"$f":"IF(COUNTRY_INFO!A47=0,\" \",COUNTRY_INFO!A47)","v":"Chad"},{"$f":"IF(COUNTRY_INFO!B47=0,\" \",COUNTRY_INFO!B47)","v":"Kanem"},{"$f":"IF(COUNTRY_INFO!C47=0,\" \",COUNTRY_INFO!C47)","v":"Amdoback"},{"$f":"IF(OR(COUNTRY_INFO!$U$9:$U$1000=\"T1 (PZQ+ALB/MBD)\",COUNTRY_INFO!$V$9:$V$1000=\"T1 (PZQ+ALB/MBD)\"), \"T1 (PZQ+ALB/MBD)\", \" \")","v":" "},null,null,null,null,null,null,0,null,null,null,0," "," "," "," ",{"$f":"COUNTRY_INFO!Y47","v":10787}]
[{"$f":"IF(COUNTRY_INFO!A48=0,\" \",COUNTRY_INFO!A48)","v":"Chad"},{"$f":"IF(COUNTRY_INFO!B48=0,\" \",COUNTRY_INFO!B48)","v":"Kanem"},{"$f":"IF(COUNTRY_INFO!C48=0,\" \",COUNTRY_INFO!C48)","v":"Kekedina"},{"$f":"IF(OR(COUNTRY_INFO!$U$9:$U$1000=\"T1 (PZQ+ALB/MBD)\",COUNTRY_INFO!$V$9:$V$1000=\"T1 (PZQ+ALB/MBD)\"), \"T1 (PZQ+ALB/MBD)\", \" \")","v":" "},null,null,null,null,null,null,0,null,null,null,0," "," "," "," ",{"$f":"COUNTRY_INFO!Y48","v":10788}]
[{"$f":"IF(COUNTRY_INFO!A49=0,\" \",COUNTRY_INFO!A49)","v":"Chad"},{"$f":"IF(COUNTRY_INFO!B49=0,\" \",COUNTRY_INFO!B49)","v":"Kanem"},{"$f":"IF(COUNTRY_INFO!C49=0,\" \",COUNTRY_INFO!C49)","v":"Mao"},{"$f":"IF(OR(COUNTRY_INFO!$U$9:$U$1000=\"T1 (PZQ+ALB/MBD)\",COUNTRY_INFO!$V$9:$V$1000=\"T1 (PZQ+ALB/MBD)\"), \"T1 (PZQ+ALB/MBD)\", \" \")","v":" "},null,0,null,null,0,null,0,null,0,null,0," "," "," "," ",{"$f":"COUNTRY_INFO!Y49","v":10687}]
[{"$f":"IF(COUNTRY_INFO!A50=0,\" \",COUNTRY_INFO!A50)","v":"Chad"},{"$f":"IF(COUNTRY_INFO!B50=0,\" \",COUNTRY_INFO!B50)","v":"Kanem"},{"$f":"IF(COUNTRY_INFO!C50=0,\" \",COUNTRY_INFO!C50)","v":"Mondo"},{"$f":"IF(OR(COUNTRY_INFO!$U$9:$U$1000=\"T1 (PZQ+ALB/MBD)\",COUNTRY_INFO!$V$9:$V$1000=\"T1 (PZQ+ALB/MBD)\"), \"T1 (PZQ+ALB/MBD)\", \" \")","v":" "},null,0,null,null,0,null,0,null,0,null,0," "," "," "," ",{"$f":"COUNTRY_INFO!Y50","v":10688}]
[{"$f":"IF(COUNTRY_INFO!A51=0,\" \",COUNTRY_INFO!A51)","v":"Chad"},{"$f":"IF(COUNTRY_INFO!B51=0,\" \",COUNTRY_INFO!B51)","v":"Kanem"},{"$f":"IF(COUNTRY_INFO!C51=0,\" \",COUNTRY_INFO!C51)","v":"Nokou"},{"$f":"IF(OR(COUNTRY_INFO!$U$9:$U$1000=\"T1 (PZQ+ALB/MBD)\",COUNTRY_INFO!$V$9:$V$1000=\"T1 (PZQ+ALB/MBD)\"), \"T1 (PZQ+ALB/MBD)\", \" \")","v":" "},null,0,null,null,0,null,0,null,0,null,0," "," "," "," ",{"$f":"COUNTRY_INFO!Y51","v":10689}]
[{"$f":"IF(COUNTRY_INFO!A52=0,\" \",COUNTRY_INFO!A52)","v":"Chad"},{"$f":"IF(COUNTRY_INFO!B52=0,\" \",COUNTRY_INFO!B52)","v":"Kanem"},{"$f":"IF(COUNTRY_INFO!C52=0,\" \",COUNTRY_INFO!C52)","v":"Ntiona"},{"$f":"IF(OR(COUNTRY_INFO!$U$9:$U$1000=\"T1 (PZQ+ALB/MBD)\",COUNTRY_INFO!$V$9:$V$1000=\"T1 (PZQ+ALB/MBD)\"), \"T1 (PZQ+ALB/MBD)\", \" \")","v":" "},null,0,null,null,0,null,0,null,0,null,0," "," "," "," ",{"$f":"COUNTRY_INFO!Y52","v":10764}]
[{"$f":"IF(COUNTRY_INFO!A53=0,\" \",COUNTRY_INFO!A53)","v":"Chad"},{"$f":"IF(COUNTRY_INFO!B53=0,\" \",COUNTRY_INFO!B53)","v":"Kanem"},{"$f":"IF(COUNTRY_INFO!C53=0,\" \",COUNTRY_INFO!C53)","v":"Rig-Rig"},{"$f":"IF(OR(COUNTRY_INFO!$U$9:$U$1000=\"T1 (PZQ+ALB/MBD)\",COUNTRY_INFO!$V$9:$V$1000=\"T1 (PZQ+ALB/MBD)\"), \"T1 (PZQ+ALB/MBD)\", \" \")","v":" "},null,0,null,null,0,null,0,null,0,null,0," "," "," "," ",{"$f":"COUNTRY_INFO!Y53","v":10690}]
[{"$f":"IF(COUNTRY_INFO!A54=0,\" \",COUNTRY_INFO!A54)","v":"Chad"},{"$f":"IF(COUNTRY_INFO!B54=0,\" \",COUNTRY_INFO!B54)","v":"Lac"},{"$f":"IF(COUNTRY_INFO!C54=0,\" \",COUNTRY_INFO!C54)","v":"Bagassola"},{"$f":"IF(OR(COUNTRY_INFO!$U$9:$U$1000=\"T1 (PZQ+ALB/MBD)\",COUNTRY_INFO!$V$9:$V$1000=\"T1 (PZQ+ALB/MBD)\"), \"T1 (PZQ+ALB/MBD)\", \" \")","v":" "},null,0,null,null,0,null,0,null,0,null,0," "," "," "," ",{"$f":"COUNTRY_INFO!Y54","v":10691}]
[{"$f":"IF(COUNTRY_INFO!A55=0,\" \",COUNTRY_INFO!A55)","v":"Chad"},{"$f":"IF(COUNTRY_INFO!B55=0,\" \",COUNTRY_INFO!B55)","v":"Lac"},{"$f":"IF(COUNTRY_INFO!C55=0,\" \",COUNTRY_INFO!C55)","v":"Bol"},{"$f":"IF(OR(COUNTRY_INFO!$U$9:$U$1000=\"T1 (PZQ+ALB/MBD)\",COUNTRY_INFO!$V$9:$V$1000=\"T1 (PZQ+ALB/MBD)\"), \"T1 (PZQ+ALB/MBD)\", \" \")","v":" "},null,0,null,null,0,null,0,null,0,null,0," "," "," "," ",{"$f":"COUNTRY_INFO!Y55","v":10692}]
[{"$f":"IF(COUNTRY_INFO!A56=0,\" \",COUNTRY_INFO!A56)","v":"Chad"},{"$f":"IF(COUNTRY_INFO!B56=0,\" \",COUNTRY_INFO!B56)","v":"Lac"},{"$f":"IF(COUNTRY_INFO!C56=0,\" \",COUNTRY_INFO!C56)","v":"Isserom"},{"$f":"IF(OR(COUNTRY_INFO!$U$9:$U$1000=\"T1 (PZQ+ALB/MBD)\",COUNTRY_INFO!$V$9:$V$1000=\"T1 (PZQ+ALB/MBD)\"), \"T1 (PZQ+ALB/MBD)\", \" \")","v":" "},null,0,null,null,0,null,0,null,0,null,0," "," "," "," ",{"$f":"COUNTRY_INFO!Y56","v":10749}]
[{"$f":"IF(COUNTRY_INFO!A57=0,\" \",COUNTRY_INFO!A57)","v":"Chad"},{"$f":"IF(COUNTRY_INFO!B57=0,\" \",COUNTRY_INFO!B57)","v":"Lac"},{"$f":"IF(COUNTRY_INFO!C57=0,\" \",COUNTRY_INFO!C57)","v":"Kouloudia"},{"$f":"IF(OR(COUNTRY_INFO!$U$9:$U$1000=\"T1 (PZQ+ALB/MBD)\",COUNTRY_INFO!$V$9:$V$1000=\"T1 (PZQ+ALB/MBD)\"), \"T1 (PZQ+ALB/MBD)\", \" \")","v":" "},null,0,null,null,0,null,0,null,0,null,0," "," "," "," ",{"$f":"COUNTRY_INFO!Y57","v":10693}]
[{"$f":"IF(COUNTRY_INFO!A58=0,\" \",COUNTRY_INFO!A58)","v":"Chad"},{"$f":"IF(COUNTRY_INFO!B58=0,\" \",COUNTRY_INFO!B58)","v":"Lac"},{"$f":"IF(COUNTRY_INFO!C58=0,\" \",COUNTRY_INFO!C58)","v":"Liwa"},{"$f":"IF(OR(COUNTRY_INFO!$U$9:$U$1000=\"T1 (PZQ+ALB/MBD)\",COUNTRY_INFO!$V$9:$V$1000=\"T1 (PZQ+ALB/MBD)\"), \"T1 (PZQ+ALB/MBD)\", \" \")","v":" "},null,0,null,null,0,null,0,null,0,null,0," "," "," "," ",{"$f":"COUNTRY_INFO!Y58","v":10694}]
[{"$f":"IF(COUNTRY_INFO!A59=0,\" \",COUNTRY_INFO!A59)","v":"Chad"},{"$f":"IF(COUNTRY_INFO!B59=0,\" \",COUNTRY_INFO!B59)","v":"Lac"},{"$f":"IF(COUNTRY_INFO!C59=0,\" \",COUNTRY_INFO!C59)","v":"Ngouri"},{"$f":"IF(OR(COUNTRY_INFO!$U$9:$U$1000=\"T1 (PZQ+ALB/MBD)\",COUNTRY_INFO!$V$9:$V$1000=\"T1 (PZQ+ALB/MBD)\"), \"T1 (PZQ+ALB/MBD)\", \" \")","v":" "},null,0,null,null,0,null,0,null,0,null,0," "," "," "," ",{"$f":"COUNTRY_INFO!Y59","v":10695}]
[{"$f":"IF(COUNTRY_INFO!A60=0,\" \",COUNTRY_INFO!A60)","v":"Chad"},{"$f":"IF(COUNTRY_INFO!B60=0,\" \",COUNTRY_INFO!B60)","v":"Logone Occidental"},{"$f":"IF(COUNTRY_INFO!C60=0,\" \",COUNTRY_INFO!C60)","v":"Benamar"},{"$f":"IF(OR(COUNTRY_INFO!$U$9:$U$1000=\"T1 (PZQ+ALB/MBD)\",COUNTRY_INFO!$V$9:$V$1000=\"T1 (PZQ+ALB/MBD)\"), \"T1 (PZQ+ALB/MBD)\", \" \")","v":" "},null,0,null,null,0,null,0,null,0,null,0," "," "," "," ",{"$f":"COUNTRY_INFO!Y60","v":10765}]
[{"$f":"IF(COUNTRY_INFO!A61=0,\" \",COUNTRY_INFO!A61)","v":"Chad"},{"$f":"IF(COUNTRY_INFO!B61=0,\" \",COUNTRY_INFO!B61)","v":"Logone Occidental"},{"$f":"IF(COUNTRY_INFO!C61=0,\" \",COUNTRY_INFO!C61)","v":"Benoye"},{"$f":"IF(OR(COUNTRY_INFO!$U$9:$U$1000=\"T1 (PZQ+ALB/MBD)\",COUNTRY_INFO!$V$9:$V$1000=\"T1 (PZQ+ALB/MBD)\"), \"T1 (PZQ+ALB/MBD)\", \" \")","v":" "},null,0,null,null,0,null,0,null,0,null,0," "," "," "," ",{"$f":"COUNTRY_INFO!Y61","v":10696}]
[{"$f":"IF(COUNTRY_INFO!A62=0,\" \",COUNTRY_INFO!A62)","v":"Chad"},{"$f":"IF(COUNTRY_INFO!B62=0,\" \",COUNTRY_INFO!B62)","v":"Logone Occidental"},{"$f":"IF(COUNTRY_INFO!C62=0,\" \",COUNTRY_INFO!C62)","v":"Laokassy"},{"$f":"IF(OR(COUNTRY_INFO!$U$9:$U$1000=\"T1 (PZQ+ALB/MBD)\",COUNTRY_INFO!$V$9:$V$1000=\"T1 (PZQ+ALB/MBD)\"), \"T1 (PZQ+ALB/MBD)\", \" \")","v":" "},null,0,null,null,0,null,0,null,0,null,0," "," "," "," ",{"$f":"COUNTRY_INFO!Y62","v":10697}]
[{"$f":"IF(COUNTRY_INFO!A63=0,\" \",COUNTRY_INFO!A63)","v":"Chad"},{"$f":"IF(COUNTRY_INFO!B63=0,\" \",COUNTRY_INFO!B63)","v":"Logone Occidental"},{"$f":"IF(COUNTRY_INFO!C63=0,\" \",COUNTRY_INFO!C63)","v":"Moundou"},{"$f":"IF(OR(COUNTRY_INFO!$U$9:$U$1000=\"T1 (PZQ+ALB/MBD)\",COUNTRY_INFO!$V$9:$V$1000=\"T1 (PZQ+ALB/MBD)\"), \"T1 (PZQ+ALB/MBD)\", \" \")","v":" "},null,0,null,null,0,null,0,null,0,null,0," "," "," "," ",{"$f":"COUNTRY_INFO!Y63","v":10698}]
[{"$f":"IF(COUNTRY_INFO!A64=0,\" \",COUNTRY_INFO!A64)","v":"Chad"},{"$f":"IF(COUNTRY_INFO!B64=0,\" \",COUNTRY_INFO!B64)","v":"Logone Orientlal"},{"$f":"IF(COUNTRY_INFO!C64=0,\" \",COUNTRY_INFO!C64)","v":"Baibokoum"},{"$f":"IF(OR(COUNTRY_INFO!$U$9:$U$1000=\"T1 (PZQ+ALB/MBD)\",COUNTRY_INFO!$V$9:$V$1000=\"T1 (PZQ+ALB/MBD)\"), \"T1 (PZQ+ALB/MBD)\", \" \")","v":" "},null,0,null,null,0,null,0,null,0,null,0," "," "," "," ",{"$f":"COUNTRY_INFO!Y64","v":10766}]
[{"$f":"IF(COUNTRY_INFO!A65=0,\" \",COUNTRY_INFO!A65)","v":"Chad"},{"$f":"IF(COUNTRY_INFO!B65=0,\" \",COUNTRY_INFO!B65)","v":"Logone Orientlal"},{"$f":"IF(COUNTRY_INFO!C65=0,\" \",COUNTRY_INFO!C65)","v":"Bebedja"},{"$f":"IF(OR(COUNTRY_INFO!$U$9:$U$1000=\"T1 (PZQ+ALB/MBD)\",COUNTRY_INFO!$V$9:$V$1000=\"T1 (PZQ+ALB/MBD)\"), \"T1 (PZQ+ALB/MBD)\", \" \")","v":" "},null,0,null,null,0,null,0,null,0,null,0," "," "," "," ",{"$f":"COUNTRY_INFO!Y65","v":10699}]
[{"$f":"IF(COUNTRY_INFO!A66=0,\" \",COUNTRY_INFO!A66)","v":"Chad"},{"$f":"IF(COUNTRY_INFO!B66=0,\" \",COUNTRY_INFO!B66)","v":"Logone Orientlal"},{"$f":"IF(COUNTRY_INFO!C66=0,\" \",COUNTRY_INFO!C66)","v":"Beboto"},{"$f":"IF(OR(COUNTRY_INFO!$U$9:$U$1000=\"T1 (PZQ+ALB/MBD)\",COUNTRY_INFO!$V$9:$V$1000=\"T1 (PZQ+ALB/MBD)\"), \"T1 (PZQ+ALB/MBD)\", \" \")","v":" "},null,0,null,null,0,null,0,null,0,null,0," "," "," "," ",{"$f":"COUNTRY_INFO!Y66","v":10700}]
[{"$f":"IF(COUNTRY_INFO!A67=0,\" \",COUNTRY_INFO!A67)","v":"Chad"},{"$f":"IF(COUNTRY_INFO!B67=0,\" \",COUNTRY_INFO!B67)","v":"Logone Orientlal"},{"$f":"IF(COUNTRY_INFO!C67=0,\" \",COUNTRY_INFO!C67)","v":"Bessao"},{"$f":"IF(OR(COUNTRY_INFO!$U$9:$U$1000=\"T1 (PZQ+ALB/MBD)\",COUNTRY_INFO!$V$9:$V$1000=\"T1 (PZQ+ALB/MBD)\"), \"T1 (PZQ+ALB/MBD)\", \" \")","v":" "},null,0,null,null,0,null,0,null,0,null,0," "," "," "," ",{"$f":"COUNTRY_INFO!Y67","v":10701}]
[{"$f":"IF(COUNTRY_INFO!A68=0,\" \",COUNTRY_INFO!A68)","v":"Chad"},{"$f":"IF(COUNTRY_INFO!B68=0,\" \",COUNTRY_INFO!B68)","v":"Logone Orientlal"},{"$f":"IF(COUNTRY_INFO!C68=0,\" \",COUNTRY_INFO!C68)","v":"Bodo"},{"$f":"IF(OR(COUNTRY_INFO!$U$9:$U$1000=\"T1 (PZQ+ALB/MBD)\",COUNTRY_INFO!$V$9:$V$1000=\"T1 (PZQ+ALB/MBD)\"), \"T1 (PZQ+ALB/MBD)\", \" \")","v":" "},null,0,null,null,0,null,0,null,0,null,0," "," "," "," ",{"$f":"COUNTRY_INFO!Y68","v":10702}]
[{"$f":"IF(COUNTRY_INFO!A69=0,\" \",COUNTRY_INFO!A69)","v":"Chad"},{"$f":"IF(COUNTRY_INFO!B69=0,\" \",COUNTRY_INFO!B69)","v":"Logone Orientlal"},{"$f":"IF(COUNTRY_INFO!C69=0,\" \",COUNTRY_INFO!C69)","v":"Doba"},{"$f":"IF(OR(COUNTRY_INFO!$U$9:$U$1000=\"T1 (PZQ+ALB/MBD)\",COUNTRY_INFO!$V$9:$V$1000=\"T1 (PZQ+ALB/MBD)\"), \"T1 (PZQ+ALB/MBD)\", \" \")","v":" "},null,0,null,null,0,null,0,null,0,null,0," "," "," "," ",{"$f":"COUNTRY_INFO!Y69","v":10703}]
[{"$f":"IF(COUNTRY_INFO!A70=0,\" \",COUNTRY_INFO!A70)","v":"Chad"},{"$f":"IF(COUNTRY_INFO!B70=0,\" \",COUNTRY_INFO!B70)","v":"Logone Orientlal"},{"$f":"IF(COUNTRY_INFO!C70=0,\" \",COUNTRY_INFO!C70)","v":"DONIA"},{"$f":"IF(OR(COUNTRY_INFO!$U$9:$U$1000=\"T1 (PZQ+ALB/MBD)\",COUNTRY_INFO!$V$9:$V$1000=\"T1 (PZQ+ALB/MBD)\"), \"T1 (PZQ+ALB/MBD)\", \" \")","v":" "},null,0,null,null,0,null,0,null,0,null,0," "," "," "," ",{"$f":"COUNTRY_INFO!Y70","v":10767}]
[{"$f":"IF(COUNTRY_INFO!A71=0,\" \",COUNTRY_INFO!A71)","v":"Chad"},{"$f":"IF(COUNTRY_INFO!B71=0,\" \",COUNTRY_INFO!B71)","v":"Logone Orientlal"},{"$f":"IF(COUNTRY_INFO!C71=0,\" \",COUNTRY_INFO!C71)","v":"Goré"},{"$f":"IF(OR(COUNTRY_INFO!$U$9:$U$1000=\"T1 (PZQ+ALB/MBD)\",COUNTRY_INFO!$V$9:$V$1000=\"T1 (PZQ+ALB/MBD)\"), \"T1 (PZQ+ALB/MBD)\", \" \")","v":" "},null,0,null,null,0,null,0,null,0,null,0," "," "," "," ",{"$f":"COUNTRY_INFO!Y71","v":10704}]
[{"$f":"IF(COUNTRY_INFO!A72=0,\" \",COUNTRY_INFO!A72)","v":"Chad"},{"$f":"IF(COUNTRY_INFO!B72=0,\" \",COUNTRY_INFO!B72)","v":"Logone Orientlal"},{"$f":"IF(COUNTRY_INFO!C72=0,\" \",COUNTRY_INFO!C72)","v":"Kara"},{"$f":"IF(OR(COUNTRY_INFO!$U$9:$U$1000=\"T1 (PZQ+ALB/MBD)\",COUNTRY_INFO!$V$9:$V$1000=\"T1 (PZQ+ALB/MBD)\"), \"T1 (PZQ+ALB/MBD)\", \" \")","v":" "},null,0,null,null,0,null,0,null,0,null,0," "," "," "," ",{"$f":"COUNTRY_INFO!Y72","v":10768}]
[{"$f":"IF(COUNTRY_INFO!A73=0,\" \",COUNTRY_INFO!A73)","v":"Chad"},{"$f":"IF(COUNTRY_INFO!B73=0,\" \",COUNTRY_INFO!B73)","v":"Logone Orientlal"},{"$f":"IF(COUNTRY_INFO!C73=0,\" \",COUNTRY_INFO!C73)","v":"Larmanaye"},{"$f":"IF(OR(COUNTRY_INFO!$U$9:$U$1000=\"T1 (PZQ+ALB/MBD)\",COUNTRY_INFO!$V$9:$V$1000=\"T1 (PZQ+ALB/MBD)\"), \"T1 (PZQ+ALB/MBD)\", \" \")","v":" "},null,0,null,null,0,null,0,null,0,null,0," "," "," "," ",{"$f":"COUNTRY_INFO!Y73","v":10705}]
[{"$f":"IF(COUNTRY_INFO!A74=0,\" \",COUNTRY_INFO!A74)","v":"Chad"},{"$f":"IF(COUNTRY_INFO!B74=0,\" \",COUNTRY_INFO!B74)","v":"Mandoul"},{"$f":"IF(COUNTRY_INFO!C74=0,\" \",COUNTRY_INFO!C74)","v":"Bedaya"},{"$f":"IF(OR(COUNTRY_INFO!$U$9:$U$1000=\"T1 (PZQ+ALB/MBD)\",COUNTRY_INFO!$V$9:$V$1000=\"T1 (PZQ+ALB/MBD)\"), \"T1 (PZQ+ALB/MBD)\", \" \")","v":" "},null,0,null,null,0,null,0,null,null,null,{"$f":"SUM(L74:N74)","v":0},{"$f":"IF(G74<>0, IF(L74/G74*100=0, \"-\", L74/G74*100), \" \")","v":" "},{"$f":"IF(OR(I74<>0,H74<>0), IF(M74/MAX(H74,I74)*100=0, \"-\", M74/MAX(H74,I74)*100), \" \")","v":" "},{"$f":"IF(J74<>0, IF(N74/J74*100=0, \"-\", N74/J74*100), \" \")","v":" "},{"$f":"IF(K74<>0, IF(O74/K74*100=0, \"-\", O74/K74*100), \" \")","v":" "},{"$f":"COUNTRY_INFO!Y74","v":10769}]
[{"$f":"IF(COUNTRY_INFO!A75=0,\" \",COUNTRY_INFO!A75)","v":"Chad"},{"$f":"IF(COUNTRY_INFO!B75=0,\" \",COUNTRY_INFO!B75)","v":"Mandoul"},{"$f":"IF(COUNTRY_INFO!C75=0,\" \",COUNTRY_INFO!C75)","v":"Bedjondo"},{"$f":"IF(OR(COUNTRY_INFO!$U$9:$U$1000=\"T1 (PZQ+ALB/MBD)\",COUNTRY_INFO!$V$9:$V$1000=\"T1 (PZQ+ALB/MBD)\"), \"T1 (PZQ+ALB/MBD)\", \" \")","v":" "},null,null,null,null,null,null,{"$f":"MAX(H75:I75)+G75+J75","v":0},null,null,null,null,null," "," "," ",{"$f":"COUNTRY_INFO!Y75","v":10706}]
[{"$f":"IF(COUNTRY_INFO!A76=0,\" \",COUNTRY_INFO!A76)","v":"Chad"},{"$f":"IF(COUNTRY_INFO!B76=0,\" \",COUNTRY_INFO!B76)","v":"Mandoul"},{"$f":"IF(COUNTRY_INFO!C76=0,\" \",COUNTRY_INFO!C76)","v":"Bekourou"},{"$f":"IF(OR(COUNTRY_INFO!$U$9:$U$1000=\"T1 (PZQ+ALB/MBD)\",COUNTRY_INFO!$V$9:$V$1000=\"T1 (PZQ+ALB/MBD)\"), \"T1 (PZQ+ALB/MBD)\", \" \")","v":" "},null,null,null,null,0,null,0,null,null,null,0," "," "," "," ",{"$f":"COUNTRY_INFO!Y76","v":10770}]
[{"$f":"IF(COUNTRY_INFO!A77=0,\" \",COUNTRY_INFO!A77)","v":"Chad"},{"$f":"IF(COUNTRY_INFO!B77=0,\" \",COUNTRY_INFO!B77)","v":"Mandoul"},{"$f":"IF(COUNTRY_INFO!C77=0,\" \",COUNTRY_INFO!C77)","v":"Bouna"},{"$f":"IF(OR(COUNTRY_INFO!$U$9:$U$1000=\"T1 (PZQ+ALB/MBD)\",COUNTRY_INFO!$V$9:$V$1000=\"T1 (PZQ+ALB/MBD)\"), \"T1 (PZQ+ALB/MBD)\", \" \")","v":" "},null,null,null,null,0,null,0,null,null,null,0," "," "," "," ",{"$f":"COUNTRY_INFO!Y77","v":10707}]
[{"$f":"IF(COUNTRY_INFO!A78=0,\" \",COUNTRY_INFO!A78)","v":"Chad"},{"$f":"IF(COUNTRY_INFO!B78=0,\" \",COUNTRY_INFO!B78)","v":"Mandoul"},{"$f":"IF(COUNTRY_INFO!C78=0,\" \",COUNTRY_INFO!C78)","v":"Goundi"},{"$f":"IF(OR(COUNTRY_INFO!$U$9:$U$1000=\"T1 (PZQ+ALB/MBD)\",COUNTRY_INFO!$V$9:$V$1000=\"T1 (PZQ+ALB/MBD)\"), \"T1 (PZQ+ALB/MBD)\", \" \")","v":" "},null,0,null,null,0,null,0,null,null,null,0," "," "," "," ",{"$f":"COUNTRY_INFO!Y78","v":10708}]
[{"$f":"IF(COUNTRY_INFO!A79=0,\" \",COUNTRY_INFO!A79)","v":"Chad"},{"$f":"IF(COUNTRY_INFO!B79=0,\" \",COUNTRY_INFO!B79)","v":"Mandoul"},{"$f":"IF(COUNTRY_INFO!C79=0,\" \",COUNTRY_INFO!C79)","v":"Koumra"},{"$f":"IF(OR(COUNTRY_INFO!$U$9:$U$1000=\"T1 (PZQ+ALB/MBD)\",COUNTRY_INFO!$V$9:$V$1000=\"T1 (PZQ+ALB/MBD)\"), \"T1 (PZQ+ALB/MBD)\", \" \")","v":" "},null,0,null,null,0,null,0,null,0,null,0," "," "," "," ",{"$f":"COUNTRY_INFO!Y79","v":10709}]
[{"$f":"IF(COUNTRY_INFO!A80=0,\" \",COUNTRY_INFO!A80)","v":"Chad"},{"$f":"IF(COUNTRY_INFO!B80=0,\" \",COUNTRY_INFO!B80)","v":"Mandoul"},{"$f":"IF(COUNTRY_INFO!C80=0,\" \",COUNTRY_INFO!C80)","v":"Moissala"},{"$f":"IF(OR(COUNTRY_INFO!$U$9:$U$1000=\"T1 (PZQ+ALB/MBD)\",COUNTRY_INFO!$V$9:$V$1000=\"T1 (PZQ+ALB/MBD)\"), \"T1 (PZQ+ALB/MBD)\", \" \")","v":" "},null,null,null,null,null,null,0,null,null,null,0," "," "," "," ",{"$f":"COUNTRY_INFO!Y80","v":10710}]
[{"$f":"IF(COUNTRY_INFO!A81=0,\" \",COUNTRY_INFO!A81)","v":"Chad"},{"$f":"IF(COUNTRY_INFO!B81=0,\" \",COUNTRY_INFO!B81)","v":"Mayo Kebbi Est"},{"$f":"IF(COUNTRY_INFO!C81=0,\" \",COUNTRY_INFO!C81)","v":"Bongor"},{"$f":"IF(OR(COUNTRY_INFO!$U$9:$U$1000=\"T1 (PZQ+ALB/MBD)\",COUNTRY_INFO!$V$9:$V$1000=\"T1 (PZQ+ALB/MBD)\"), \"T1 (PZQ+ALB/MBD)\", \" \")","v":"T1 (PZQ+ALB/MBD)"},"PZQ+ALB","Fevrier 2022",null,50649,50649,null,50649,null,59802,null,59802," ",118.07143280222709," ",118.07143280222709,{"$f":"COUNTRY_INFO!Y81","v":10753},{"$f":"H81/V81*100","v":100},{"$f":"COUNTRY_INFO!F81","v":50649},{"$f":"COUNTRY_INFO!G81","v":82524},null,{"$f":"M81/H81*100","v":118.07143280222709},{"$f":"AA81-V81","v":11803},62452,62452]
[{"$f":"IF(COUNTRY_INFO!A82=0,\" \",COUNTRY_INFO!A82)","v":"Chad"},{"$f":"IF(COUNTRY_INFO!B82=0,\" \",COUNTRY_INFO!B82)","v":"Mayo Kebbi Est"},{"$f":"IF(COUNTRY_INFO!C82=0,\" \",COUNTRY_INFO!C82)","v":"Fianga"},{"$f":"IF(OR(COUNTRY_INFO!$U$9:$U$1000=\"T1 (PZQ+ALB/MBD)\",COUNTRY_INFO!$V$9:$V$1000=\"T1 (PZQ+ALB/MBD)\"), \"T1 (PZQ+ALB/MBD)\", \" \")","v":"T1 (PZQ+ALB/MBD)"},"PZQ+ALB","Fevrier 2022",null,46012,46012,null,{"$f":"MAX(H82:I82)+G82+J82","v":46012},null,45826,null,45826," ",99.595757628444758," ",99.595757628444758,{"$f":"COUNTRY_INFO!Y82","v":10712},{"$f":"H82/V82*100","v":100.03696053918904},{"$f":"COUNTRY_INFO!F82","v":45995},{"$f":"COUNTRY_INFO!G82","v":74941},null,null,{"$f":"AA82-V82","v":8},46003,46052]
[{"$f":"IF(COUNTRY_INFO!A83=0,\" \",COUNTRY_INFO!A83)","v":"Chad"},{"$f":"IF(COUNTRY_INFO!B83=0,\" \",COUNTRY_INFO!B83)","v":"Mayo Kebbi Est"},{"$f":"IF(COUNTRY_INFO!C83=0,\" \",COUNTRY_INFO!C83)","v":"Gounou Gaya"},{"$f":"IF(OR(COUNTRY_INFO!$U$9:$U$1000=\"T1 (PZQ+ALB/MBD)\",COUNTRY_INFO!$V$9:$V$1000=\"T1 (PZQ+ALB/MBD)\"), \"T1 (PZQ+ALB/MBD)\", \" \")","v":"T1 (PZQ+ALB/MBD)"},"PZQ+ALB","Fevrier 2022",null,39847,39847,null,39847,null,37459,null,37459," ",94.007077069791961," ",94.007077069791961,{"$f":"COUNTRY_INFO!Y83","v":10713},101.209011709126,{"$f":"COUNTRY_INFO!F83","v":39371},{"$f":"COUNTRY_INFO!G83","v":64149},null,{"$f":"M83/H83*100","v":94.007077069791961},31604,70975,70975]
[{"$f":"IF(COUNTRY_INFO!A84=0,\" \",COUNTRY_INFO!A84)","v":"Chad"},{"$f":"IF(COUNTRY_INFO!B84=0,\" \",COUNTRY_INFO!B84)","v":"Mayo Kebbi Est"},{"$f":"IF(COUNTRY_INFO!C84=0,\" \",COUNTRY_INFO!C84)","v":"Guelinding"},{"$f":"IF(OR(COUNTRY_INFO!$U$9:$U$1000=\"T1 (PZQ+ALB/MBD)\",COUNTRY_INFO!$V$9:$V$1000=\"T1 (PZQ+ALB/MBD)\"), \"T1 (PZQ+ALB/MBD)\", \" \")","v":" "},"PZQ+ALB","Fevrier 2022",null,28009,28009,null,28009,null,27633,null,27633," ",98.657574351101431," ",98.657574351101431,{"$f":"COUNTRY_INFO!Y84","v":10714},100.85700911022289,{"$f":"COUNTRY_INFO!F84","v":27771},{"$f":"COUNTRY_INFO!G84","v":45247},null,98.657574351101431,238,28009,28009]
[{"$f":"IF(COUNTRY_INFO!A85=0,\" \",COUNTRY_INFO!A85)","v":"Chad"},{"$f":"IF(COUNTRY_INFO!B85=0,\" \",COUNTRY_INFO!B85)","v":"Mayo Kebbi Est"},{"$f":"IF(COUNTRY_INFO!C85=0,\" \",COUNTRY_INFO!C85)","v":"Moulkou"},{"$f":"IF(OR(COUNTRY_INFO!$U$9:$U$1000=\"T1 (PZQ+ALB/MBD)\",COUNTRY_INFO!$V$9:$V$1000=\"T1 (PZQ+ALB/MBD)\"), \"T1 (PZQ+ALB/MBD)\", \" \")","v":" "},null,0,null,null,null,null,0,null,0,null,0," "," "," "," ",{"$f":"COUNTRY_INFO!Y85","v":10750},{"$error":"#DIV/0!"}]
[{"$f":"IF(COUNTRY_INFO!A86=0,\" \",COUNTRY_INFO!A86)","v":"Chad"},{"$f":"IF(COUNTRY_INFO!B86=0,\" \",COUNTRY_INFO!B86)","v":"Mayo Kebbi Est"},{"$f":"IF(COUNTRY_INFO!C86=0,\" \",COUNTRY_INFO!C86)","v":"Pont Carol"},{"$f":"IF(OR(COUNTRY_INFO!$U$9:$U$1000=\"T1 (PZQ+ALB/MBD)\",COUNTRY_INFO!$V$9:$V$1000=\"T1 (PZQ+ALB/MBD)\"), \"T1 (PZQ+ALB/MBD)\", \" \")","v":"T1 (PZQ+ALB/MBD)"},"PZQ+ALB","Fevrier 2022",null,25770,25770,null,25770,null,22618,null,22618," ",87.768723321691894," ",87.768723321691894,{"$f":"COUNTRY_INFO!Y86","v":10751},100,{"$f":"COUNTRY_INFO!F86","v":25770},{"$f":"COUNTRY_INFO!G86","v":41988},null,null,0,25770,25770]
[{"$f":"IF(COUNTRY_INFO!A87=0,\" \",COUNTRY_INFO!A87)","v":"Chad"},{"$f":"IF(COUNTRY_INFO!B87=0,\" \",COUNTRY_INFO!B87)","v":"Mayo Kebbi Est"},{"$f":"IF(COUNTRY_INFO!C87=0,\" \",COUNTRY_INFO!C87)","v":"Youé"},{"$f":"IF(OR(COUNTRY_INFO!$U$9:$U$1000=\"T1 (PZQ+ALB/MBD)\",COUNTRY_INFO!$V$9:$V$1000=\"T1 (PZQ+ALB/MBD)\"), \"T1 (PZQ+ALB/MBD)\", \" \")","v":"T1 (PZQ+ALB/MBD)"},"PZQ+ALB","Fevrier 2022",null,22014,22014,null,22014,null,20334,null,20334," ",92.368492777323524," ",92.368492777323524,{"$f":"COUNTRY_INFO!Y87","v":10752},104.75873227372227,{"$f":"COUNTRY_INFO!F87","v":21014},{"$f":"COUNTRY_INFO!G87","v":34238},null,null,0,21014,21014]
[{"$f":"IF(COUNTRY_INFO!A88=0,\" \",COUNTRY_INFO!A88)","v":"Chad"},{"$f":"IF(COUNTRY_INFO!B88=0,\" \",COUNTRY_INFO!B88)","v":"Mayo Kebbi Ouest"},{"$f":"IF(COUNTRY_INFO!C88=0,\" \",COUNTRY_INFO!C88)","v":"Binder"},{"$f":"IF(OR(COUNTRY_INFO!$U$9:$U$1000=\"T1 (PZQ+ALB/MBD)\",COUNTRY_INFO!$V$9:$V$1000=\"T1 (PZQ+ALB/MBD)\"), \"T1 (PZQ+ALB/MBD)\", \" \")","v":"T1 (PZQ+ALB/MBD)"},"PZQ+ALB","Fevrier 2022",null,25360,25360,null,25360,null,23641,null,23641," ",93.221608832807561," ",93.221608832807561,{"$f":"COUNTRY_INFO!Y88","v":10754},100,{"$f":"COUNTRY_INFO!F88","v":25360},{"$f":"COUNTRY_INFO!G88","v":41320},null,{"$f":"M88/H88*100","v":93.221608832807561},488,25848,25848]
[{"$f":"IF(COUNTRY_INFO!A89=0,\" \",COUNTRY_INFO!A89)","v":"Chad"},{"$f":"IF(COUNTRY_INFO!B89=0,\" \",COUNTRY_INFO!B89)","v":"Mayo Kebbi Ouest"},{"$f":"IF(COUNTRY_INFO!C89=0,\" \",COUNTRY_INFO!C89)","v":"Gagal"},{"$f":"IF(OR(COUNTRY_INFO!$U$9:$U$1000=\"T1 (PZQ+ALB/MBD)\",COUNTRY_INFO!$V$9:$V$1000=\"T1 (PZQ+ALB/MBD)\"), \"T1 (PZQ+ALB/MBD)\", \" \")","v":"T1 (PZQ+ALB/MBD)"},"PZQ+ALB","Fevrier 2022",null,45929,45929,null,45929,null,44873,null,44873," ",97.700799059417804," ",97.700799059417804,{"$f":"COUNTRY_INFO!Y89","v":10755},100,{"$f":"COUNTRY_INFO!F89","v":45929},{"$f":"COUNTRY_INFO!G89","v":74833},null,null,0,45929,45929]
[{"$f":"IF(COUNTRY_INFO!A90=0,\" \",COUNTRY_INFO!A90)","v":"Chad"},{"$f":"IF(COUNTRY_INFO!B90=0,\" \",COUNTRY_INFO!B90)","v":"Mayo Kebbi Ouest"},{"$f":"IF(COUNTRY_INFO!C90=0,\" \",COUNTRY_INFO!C90)","v":"Guegou"},{"$f":"IF(OR(COUNTRY_INFO!$U$9:$U$1000=\"T1 (PZQ+ALB/MBD)\",COUNTRY_INFO!$V$9:$V$1000=\"T1 (PZQ+ALB/MBD)\"), \"T1 (PZQ+ALB/MBD)\", \" \")","v":"T1 (PZQ+ALB/MBD)"},"PZQ+ALB","Fevrier 2022",null,12749,12749,null,12749,null,10546,null,10546," ",82.720213350066672," ",82.720213350066672,{"$f":"COUNTRY_INFO!Y90","v":10771},99.593781735801883,{"$f":"COUNTRY_INFO!F90","v":12801},{"$f":"COUNTRY_INFO!G90","v":20857},null,{"$f":"M90/H90*100","v":82.720213350066672},155,12956,12956]
[{"$f":"IF(COUNTRY_INFO!A91=0,\" \",COUNTRY_INFO!A91)","v":"Chad"},{"$f":"IF(COUNTRY_INFO!B91=0,\" \",COUNTRY_INFO!B91)","v":"Mayo Kebbi Ouest"},{"$f":"IF(COUNTRY_INFO!C91=0,\" \",COUNTRY_INFO!C91)","v":"GUELO"},{"$f":"IF(OR(COUNTRY_INFO!$U$9:$U$1000=\"T1 (PZQ+ALB/MBD)\",COUNTRY_INFO!$V$9:$V$1000=\"T1 (PZQ+ALB/MBD)\"), \"T1 (PZQ+ALB/MBD)\", \" \")","v":"T1 (PZQ+ALB/MBD)"},"PZQ+ALB","Fevrier 2022",null,17104,17104,null,17104,null,15897,null,15897," ",92.943171188026199," ",92.943171188026199,{"$f":"COUNTRY_INFO!Y91","v":10772},105.8743423088827,{"$f":"COUNTRY_INFO!F91","v":16155},{"$f":"COUNTRY_INFO!G91","v":26321},null,{"$f":"M91/H91*100","v":92.943171188026199},949,17104,17104]
[{"$f":"IF(COUNTRY_INFO!A92=0,\" \",COUNTRY_INFO!A92)","v":"Chad"},{"$f":"IF(COUNTRY_INFO!B92=0,\" \",COUNTRY_INFO!B92)","v":"Mayo Kebbi Ouest"},{"$f":"IF(COUNTRY_INFO!C92=0,\" \",COUNTRY_INFO!C92)","v":"Lagon"},{"$f":"IF(OR(COUNTRY_INFO!$U$9:$U$1000=\"T1 (PZQ+ALB/MBD)\",COUNTRY_INFO!$V$9:$V$1000=\"T1 (PZQ+ALB/MBD)\"), \"T1 (PZQ+ALB/MBD)\", \" \")","v":"T1 (PZQ+ALB/MBD)"},"PZQ+ALB","Fevrier 2022",null,30174,30174,null,30174,null,25009,null,25009," ",82.882614171140716," ",82.882614171140716,{"$f":"COUNTRY_INFO!Y92","v":10756},117.53661576815206,{"$f":"COUNTRY_INFO!F92","v":25672},{"$f":"COUNTRY_INFO!G92","v":41828},null,null,0,25672,25672]
[{"$f":"IF(COUNTRY_INFO!A93=0,\" \",COUNTRY_INFO!A93)","v":"Chad"},{"$f":"IF(COUNTRY_INFO!B93=0,\" \",COUNTRY_INFO!B93)","v":"Mayo Kebbi Ouest"},{"$f":"IF(COUNTRY_INFO!C93=0,\" \",COUNTRY_INFO!C93)","v":"Lamé"},{"$f":"IF(OR(COUNTRY_INFO!$U$9:$U$1000=\"T1 (PZQ+ALB/MBD)\",COUNTRY_INFO!$V$9:$V$1000=\"T1 (PZQ+ALB/MBD)\"), \"T1 (PZQ+ALB/MBD)\", \" \")","v":"T1 (PZQ+ALB/MBD)"},"PZQ+ALB","Fevrier 2022",null,27407,27407,null,27407,null,26888,null,26888," ",98.106323202101649," ",98.106323202101649,{"$f":"COUNTRY_INFO!Y93","v":10757},100,{"$f":"COUNTRY_INFO!F93","v":27407},{"$f":"COUNTRY_INFO!G93","v":44654},null,null,0,27407,27407]
[{"$f":"IF(COUNTRY_INFO!A94=0,\" \",COUNTRY_INFO!A94)","v":"Chad"},{"$f":"IF(COUNTRY_INFO!B94=0,\" \",COUNTRY_INFO!B94)","v":"Mayo Kebbi Ouest"},{"$f":"IF(COUNTRY_INFO!C94=0,\" \",COUNTRY_INFO!C94)","v":"Lere"},{"$f":"IF(OR(COUNTRY_INFO!$U$9:$U$1000=\"T1 (PZQ+ALB/MBD)\",COUNTRY_INFO!$V$9:$V$1000=\"T1 (PZQ+ALB/MBD)\"), \"T1 (PZQ+ALB/MBD)\", \" \")","v":"T1 (PZQ+ALB/MBD)"},"PZQ+ALB","Fevrier 2022",null,47226,47226,null,47226,null,46321,null,46321," ",98.08368271714734," ",98.08368271714734,{"$f":"COUNTRY_INFO!Y94","v":10715},101.96256234212061,{"$f":"COUNTRY_INFO!F94","v":46317},{"$f":"COUNTRY_INFO!G94","v":75466},null,null,0,46317,46317]
[{"$f":"IF(COUNTRY_INFO!A95=0,\" \",COUNTRY_INFO!A95)","v":"Chad"},{"$f":"IF(COUNTRY_INFO!B95=0,\" \",COUNTRY_INFO!B95)","v":"Mayo Kebbi Ouest"},{"$f":"IF(COUNTRY_INFO!C95=0,\" \",COUNTRY_INFO!C95)","v":"Pala"},{"$f":"IF(OR(COUNTRY_INFO!$U$9:$U$1000=\"T1 (PZQ+ALB/MBD)\",COUNTRY_INFO!$V$9:$V$1000=\"T1 (PZQ+ALB/MBD)\"), \"T1 (PZQ+ALB/MBD)\", \" \")","v":"T1 (PZQ+ALB/MBD)"},"PZQ+ALB","Fevrier 2022",null,43652,43652,null,43652,null,42006,null,42006," ",96.229267845688625," ",96.229267845688625,{"$f":"COUNTRY_INFO!Y95","v":10716},102.15773461268429,{"$f":"COUNTRY_INFO!F95","v":42730},{"$f":"COUNTRY_INFO!G95","v":69622},null,null,0,42730,42730]
[{"$f":"IF(COUNTRY_INFO!A96=0,\" \",COUNTRY_INFO!A96)","v":"Chad"},{"$f":"IF(COUNTRY_INFO!B96=0,\" \",COUNTRY_INFO!B96)","v":"Mayo Kebbi Ouest"},{"$f":"IF(COUNTRY_INFO!C96=0,\" \",COUNTRY_INFO!C96)","v":"Torrock"},{"$f":"IF(OR(COUNTRY_INFO!$U$9:$U$1000=\"T1 (PZQ+ALB/MBD)\",COUNTRY_INFO!$V$9:$V$1000=\"T1 (PZQ+ALB/MBD)\"), \"T1 (PZQ+ALB/MBD)\", \" \")","v":"T1 (PZQ+ALB/MBD)"},"PZQ+ALB","Fevrier 2022",null,25759,25759,null,25759,null,22416,null,22416," ",87.02201172405762," ",87.02201172405762,{"$f":"COUNTRY_INFO!Y96","v":10758},100,{"$f":"COUNTRY_INFO!F96","v":25759},{"$f":"COUNTRY_INFO!G96","v":41970},null,null,0,25759,25759]
[{"$f":"IF(COUNTRY_INFO!A97=0,\" \",COUNTRY_INFO!A97)","v":"Chad"},{"$f":"IF(COUNTRY_INFO!B97=0,\" \",COUNTRY_INFO!B97)","v":"Moyen Chari"},{"$f":"IF(COUNTRY_INFO!C97=0,\" \",COUNTRY_INFO!C97)","v":"Balimba"},{"$f":"IF(OR(COUNTRY_INFO!$U$9:$U$1000=\"T1 (PZQ+ALB/MBD)\",COUNTRY_INFO!$V$9:$V$1000=\"T1 (PZQ+ALB/MBD)\"), \"T1 (PZQ+ALB/MBD)\", \" \")","v":" "},null,0,null,null,0,null,0,null,0,null,0," "," "," "," ",{"$f":"COUNTRY_INFO!Y97","v":10780}]
[{"$f":"IF(COUNTRY_INFO!A98=0,\" \",COUNTRY_INFO!A98)","v":"Chad"},{"$f":"IF(COUNTRY_INFO!B98=0,\" \",COUNTRY_INFO!B98)","v":"Moyen Chari"},{"$f":"IF(COUNTRY_INFO!C98=0,\" \",COUNTRY_INFO!C98)","v":"Biobe Singako"},{"$f":"IF(OR(COUNTRY_INFO!$U$9:$U$1000=\"T1 (PZQ+ALB/MBD)\",COUNTRY_INFO!$V$9:$V$1000=\"T1 (PZQ+ALB/MBD)\"), \"T1 (PZQ+ALB/MBD)\", \" \")","v":" "},null,0,null,null,0,null,0,null,0,null,0," "," "," "," ",{"$f":"COUNTRY_INFO!Y98","v":10717}]
[{"$f":"IF(COUNTRY_INFO!A99=0,\" \",COUNTRY_INFO!A99)","v":"Chad"},{"$f":"IF(COUNTRY_INFO!B99=0,\" \",COUNTRY_INFO!B99)","v":"Moyen Chari"},{"$f":"IF(COUNTRY_INFO!C99=0,\" \",COUNTRY_INFO!C99)","v":"Danamadji"},{"$f":"IF(OR(COUNTRY_INFO!$U$9:$U$1000=\"T1 (PZQ+ALB/MBD)\",COUNTRY_INFO!$V$9:$V$1000=\"T1 (PZQ+ALB/MBD)\"), \"T1 (PZQ+ALB/MBD)\", \" \")","v":" "},null,0,null,null,0,null,0,null,0,null,0," "," "," "," ",{"$f":"COUNTRY_INFO!Y99","v":10718}]
[{"$f":"IF(COUNTRY_INFO!A100=0,\" \",COUNTRY_INFO!A100)","v":"Chad"},{"$f":"IF(COUNTRY_INFO!B100=0,\" \",COUNTRY_INFO!B100)","v":"Moyen Chari"},{"$f":"IF(COUNTRY_INFO!C100=0,\" \",COUNTRY_INFO!C100)","v":"Korbol"},{"$f":"IF(OR(COUNTRY_INFO!$U$9:$U$1000=\"T1 (PZQ+ALB/MBD)\",COUNTRY_INFO!$V$9:$V$1000=\"T1 (PZQ+ALB/MBD)\"), \"T1 (PZQ+ALB/MBD)\", \" \")","v":" "},null,0,null,null,0,null,0,null,0,null,0," "," "," "," ",{"$f":"COUNTRY_INFO!Y100","v":10773}]
[{"$f":"IF(COUNTRY_INFO!A101=0,\" \",COUNTRY_INFO!A101)","v":"Chad"},{"$f":"IF(COUNTRY_INFO!B101=0,\" \",COUNTRY_INFO!B101)","v":"Moyen Chari"},{"$f":"IF(COUNTRY_INFO!C101=0,\" \",COUNTRY_INFO!C101)","v":"Koumogo"},{"$f":"IF(OR(COUNTRY_INFO!$U$9:$U$1000=\"T1 (PZQ+ALB/MBD)\",COUNTRY_INFO!$V$9:$V$1000=\"T1 (PZQ+ALB/MBD)\"), \"T1 (PZQ+ALB/MBD)\", \" \")","v":" "},null,0,null,null,0,null,0,null,0,null,0," "," "," "," ",{"$f":"COUNTRY_INFO!Y101","v":10781}]
[{"$f":"IF(COUNTRY_INFO!A102=0,\" \",COUNTRY_INFO!A102)","v":"Chad"},{"$f":"IF(COUNTRY_INFO!B102=0,\" \",COUNTRY_INFO!B102)","v":"Moyen Chari"},{"$f":"IF(COUNTRY_INFO!C102=0,\" \",COUNTRY_INFO!C102)","v":"Kyabe"},{"$f":"IF(OR(COUNTRY_INFO!$U$9:$U$1000=\"T1 (PZQ+ALB/MBD)\",COUNTRY_INFO!$V$9:$V$1000=\"T1 (PZQ+ALB/MBD)\"), \"T1 (PZQ+ALB/MBD)\", \" \")","v":" "},null,0,null,null,0,null,0,null,0,null,0," "," "," "," ",{"$f":"COUNTRY_INFO!Y102","v":10719}]
[{"$f":"IF(COUNTRY_INFO!A103=0,\" \",COUNTRY_INFO!A103)","v":"Chad"},{"$f":"IF(COUNTRY_INFO!B103=0,\" \",COUNTRY_INFO!B103)","v":"Moyen Chari"},{"$f":"IF(COUNTRY_INFO!C103=0,\" \",COUNTRY_INFO!C103)","v":"Maro"},{"$f":"IF(OR(COUNTRY_INFO!$U$9:$U$1000=\"T1 (PZQ+ALB/MBD)\",COUNTRY_INFO!$V$9:$V$1000=\"T1 (PZQ+ALB/MBD)\"), \"T1 (PZQ+ALB/MBD)\", \" \")","v":" "},null,0,null,null,0,null,0,null,0,null,0," "," "," "," ",{"$f":"COUNTRY_INFO!Y103","v":10774}]
[{"$f":"IF(COUNTRY_INFO!A104=0,\" \",COUNTRY_INFO!A104)","v":"Chad"},{"$f":"IF(COUNTRY_INFO!B104=0,\" \",COUNTRY_INFO!B104)","v":"Moyen Chari"},{"$f":"IF(COUNTRY_INFO!C104=0,\" \",COUNTRY_INFO!C104)","v":"Sarh"},{"$f":"IF(OR(COUNTRY_INFO!$U$9:$U$1000=\"T1 (PZQ+ALB/MBD)\",COUNTRY_INFO!$V$9:$V$1000=\"T1 (PZQ+ALB/MBD)\"), \"T1 (PZQ+ALB/MBD)\", \" \")","v":" "},null,0,null,null,0,null,0,null,0,null,0," "," "," "," ",{"$f":"COUNTRY_INFO!Y104","v":10720}]
[{"$f":"IF(COUNTRY_INFO!A105=0,\" \",COUNTRY_INFO!A105)","v":"Chad"},{"$f":"IF(COUNTRY_INFO!B105=0,\" \",COUNTRY_INFO!B105)","v":"N'Djaména"},{"$f":"IF(COUNTRY_INFO!C105=0,\" \",COUNTRY_INFO!C105)","v":"N'Djaména Centre"},{"$f":"IF(OR(COUNTRY_INFO!$U$9:$U$1000=\"T1 (PZQ+ALB/MBD)\",COUNTRY_INFO!$V$9:$V$1000=\"T1 (PZQ+ALB/MBD)\"), \"T1 (PZQ+ALB/MBD)\", \" \")","v":" "},null,0,null,null,0,null,0,null,0,null,0," "," "," "," ",{"$f":"COUNTRY_INFO!Y105","v":10721}]
[{"$f":"IF(COUNTRY_INFO!A106=0,\" \",COUNTRY_INFO!A106)","v":"Chad"},{"$f":"IF(COUNTRY_INFO!B106=0,\" \",COUNTRY_INFO!B106)","v":"N'Djaména"},{"$f":"IF(COUNTRY_INFO!C106=0,\" \",COUNTRY_INFO!C106)","v":"N'Djaména Est"},{"$f":"IF(OR(COUNTRY_INFO!$U$9:$U$1000=\"T1 (PZQ+ALB/MBD)\",COUNTRY_INFO!$V$9:$V$1000=\"T1 (PZQ+ALB/MBD)\"), \"T1 (PZQ+ALB/MBD)\", \" \")","v":" "},null,0,null,null,0,null,0,null,0,null,0," "," "," "," ",{"$f":"COUNTRY_INFO!Y106","v":10722}]
[{"$f":"IF(COUNTRY_INFO!A107=0,\" \",COUNTRY_INFO!A107)","v":"Chad"},{"$f":"IF(COUNTRY_INFO!B107=0,\" \",COUNTRY_INFO!B107)","v":"N'Djaména"},{"$f":"IF(COUNTRY_INFO!C107=0,\" \",COUNTRY_INFO!C107)","v":"N'Djaména Nord"},{"$f":"IF(OR(COUNTRY_INFO!$U$9:$U$1000=\"T1 (PZQ+ALB/MBD)\",COUNTRY_INFO!$V$9:$V$1000=\"T1 (PZQ+ALB/MBD)\"), \"T1 (PZQ+ALB/MBD)\", \" \")","v":" "},null,0,null,null,0,null,0,null,0,null,0," "," "," "," ",{"$f":"COUNTRY_INFO!Y107","v":10723}]
[{"$f":"IF(COUNTRY_INFO!A108=0,\" \",COUNTRY_INFO!A108)","v":"Chad"},{"$f":"IF(COUNTRY_INFO!B108=0,\" \",COUNTRY_INFO!B108)","v":"N'Djaména"},{"$f":"IF(COUNTRY_INFO!C108=0,\" \",COUNTRY_INFO!C108)","v":"N'Djaména Sud"},{"$f":"IF(OR(COUNTRY_INFO!$U$9:$U$1000=\"T1 (PZQ+ALB/MBD)\",COUNTRY_INFO!$V$9:$V$1000=\"T1 (PZQ+ALB/MBD)\"), \"T1 (PZQ+ALB/MBD)\", \" \")","v":" "},null,0,null,null,0,null,0,null,0,null,0," "," "," "," ",{"$f":"COUNTRY_INFO!Y108","v":10724}]
[{"$f":"IF(COUNTRY_INFO!A109=0,\" \",COUNTRY_INFO!A109)","v":"Chad"},{"$f":"IF(COUNTRY_INFO!B109=0,\" \",COUNTRY_INFO!B109)","v":"N'Djamena"},{"$f":"IF(COUNTRY_INFO!C109=0,\" \",COUNTRY_INFO!C109)","v":"9eme Arrondissement"},{"$f":"IF(OR(COUNTRY_INFO!$U$9:$U$1000=\"T1 (PZQ+ALB/MBD)\",COUNTRY_INFO!$V$9:$V$1000=\"T1 (PZQ+ALB/MBD)\"), \"T1 (PZQ+ALB/MBD)\", \" \")","v":" "},null,null,null,null,null,null,0,null,null,null,0," "," "," "," ",{"$f":"COUNTRY_INFO!Y109","v":10789}]
[{"$f":"IF(COUNTRY_INFO!A110=0,\" \",COUNTRY_INFO!A110)","v":"Chad"},{"$f":"IF(COUNTRY_INFO!B110=0,\" \",COUNTRY_INFO!B110)","v":"Ouaddai"},{"$f":"IF(COUNTRY_INFO!C110=0,\" \",COUNTRY_INFO!C110)","v":"Abdi"},{"$f":"IF(OR(COUNTRY_INFO!$U$9:$U$1000=\"T1 (PZQ+ALB/MBD)\",COUNTRY_INFO!$V$9:$V$1000=\"T1 (PZQ+ALB/MBD)\"), \"T1 (PZQ+ALB/MBD)\", \" \")","v":" "},null,0,null,null,0,null,0,null,0,null,0," "," "," "," ",{"$f":"COUNTRY_INFO!Y110","v":10727}]
[{"$f":"IF(COUNTRY_INFO!A111=0,\" \",COUNTRY_INFO!A111)","v":"Chad"},{"$f":"IF(COUNTRY_INFO!B111=0,\" \",COUNTRY_INFO!B111)","v":"Ouaddai"},{"$f":"IF(COUNTRY_INFO!C111=0,\" \",COUNTRY_INFO!C111)","v":"Abeche"},{"$f":"IF(OR(COUNTRY_INFO!$U$9:$U$1000=\"T1 (PZQ+ALB/MBD)\",COUNTRY_INFO!$V$9:$V$1000=\"T1 (PZQ+ALB/MBD)\"), \"T1 (PZQ+ALB/MBD)\", \" \")","v":" "},null,0,null,null,0,null,0,null,0,null,0," "," "," "," ",{"$f":"COUNTRY_INFO!Y111","v":10728}]
[{"$f":"IF(COUNTRY_INFO!A112=0,\" \",COUNTRY_INFO!A112)","v":"Chad"},{"$f":"IF(COUNTRY_INFO!B112=0,\" \",COUNTRY_INFO!B112)","v":"Ouaddai"},{"$f":"IF(COUNTRY_INFO!C112=0,\" \",COUNTRY_INFO!C112)","v":"Abougoudam"},{"$f":"IF(OR(COUNTRY_INFO!$U$9:$U$1000=\"T1 (PZQ+ALB/MBD)\",COUNTRY_INFO!$V$9:$V$1000=\"T1 (PZQ+ALB/MBD)\"), \"T1 (PZQ+ALB/MBD)\", \" \")","v":" "},null,0,null,null,0,null,0,null,0,null,0," "," "," "," ",{"$f":"COUNTRY_INFO!Y112","v":10729}]
[{"$f":"IF(COUNTRY_INFO!A113=0,\" \",COUNTRY_INFO!A113)","v":"Chad"},{"$f":"IF(COUNTRY_INFO!B113=0,\" \",COUNTRY_INFO!B113)","v":"Ouaddai"},{"$f":"IF(COUNTRY_INFO!C113=0,\" \",COUNTRY_INFO!C113)","v":"Adré"},{"$f":"IF(OR(COUNTRY_INFO!$U$9:$U$1000=\"T1 (PZQ+ALB/MBD)\",COUNTRY_INFO!$V$9:$V$1000=\"T1 (PZQ+ALB/MBD)\"), \"T1 (PZQ+ALB/MBD)\", \" \")","v":" "},null,0,null,null,0,null,0,null,0,null,0," "," "," "," ",{"$f":"COUNTRY_INFO!Y113","v":10730}]
[{"$f":"IF(COUNTRY_INFO!A114=0,\" \",COUNTRY_INFO!A114)","v":"Chad"},{"$f":"IF(COUNTRY_INFO!B114=0,\" \",COUNTRY_INFO!B114)","v":"Salamat"},{"$f":"IF(COUNTRY_INFO!C114=0,\" \",COUNTRY_INFO!C114)","v":"Aboudeia"},{"$f":"IF(OR(COUNTRY_INFO!$U$9:$U$1000=\"T1 (PZQ+ALB/MBD)\",COUNTRY_INFO!$V$9:$V$1000=\"T1 (PZQ+ALB/MBD)\"), \"T1 (PZQ+ALB/MBD)\", \" \")","v":" "},null,0,null,null,0,null,0,null,0,null,0," "," "," "," ",{"$f":"COUNTRY_INFO!Y114","v":10731}]
[{"$f":"IF(COUNTRY_INFO!A115=0,\" \",COUNTRY_INFO!A115)","v":"Chad"},{"$f":"IF(COUNTRY_INFO!B115=0,\" \",COUNTRY_INFO!B115)","v":"Salamat"},{"$f":"IF(COUNTRY_INFO!C115=0,\" \",COUNTRY_INFO!C115)","v":"Am-Timan"},{"$f":"IF(OR(COUNTRY_INFO!$U$9:$U$1000=\"T1 (PZQ+ALB/MBD)\",COUNTRY_INFO!$V$9:$V$1000=\"T1 (PZQ+ALB/MBD)\"), \"T1 (PZQ+ALB/MBD)\", \" \")","v":" "},null,0,null,null,0,null,0,null,0,null,0," "," "," "," ",{"$f":"COUNTRY_INFO!Y115","v":10732}]
[{"$f":"IF(COUNTRY_INFO!A116=0,\" \",COUNTRY_INFO!A116)","v":"Chad"},{"$f":"IF(COUNTRY_INFO!B116=0,\" \",COUNTRY_INFO!B116)","v":"Salamat"},{"$f":"IF(COUNTRY_INFO!C116=0,\" \",COUNTRY_INFO!C116)","v":"Haraze"},{"$f":"IF(OR(COUNTRY_INFO!$U$9:$U$1000=\"T1 (PZQ+ALB/MBD)\",COUNTRY_INFO!$V$9:$V$1000=\"T1 (PZQ+ALB/MBD)\"), \"T1 (PZQ+ALB/MBD)\", \" \")","v":" "},null,0,null,null,0,null,0,null,0,null,0," "," "," "," ",{"$f":"COUNTRY_INFO!Y116","v":10733}]
[{"$f":"IF(COUNTRY_INFO!A117=0,\" \",COUNTRY_INFO!A117)","v":"Chad"},{"$f":"IF(COUNTRY_INFO!B117=0,\" \",COUNTRY_INFO!B117)","v":"Sila"},{"$f":"IF(COUNTRY_INFO!C117=0,\" \",COUNTRY_INFO!C117)","v":"Am-dam"},{"$f":"IF(OR(COUNTRY_INFO!$U$9:$U$1000=\"T1 (PZQ+ALB/MBD)\",COUNTRY_INFO!$V$9:$V$1000=\"T1 (PZQ+ALB/MBD)\"), \"T1 (PZQ+ALB/MBD)\", \" \")","v":" "},null,0,null,null,0,null,0,null,0,null,0," "," "," "," ",{"$f":"COUNTRY_INFO!Y117","v":10725}]
[{"$f":"IF(COUNTRY_INFO!A118=0,\" \",COUNTRY_INFO!A118)","v":"Chad"},{"$f":"IF(COUNTRY_INFO!B118=0,\" \",COUNTRY_INFO!B118)","v":"Sila"},{"$f":"IF(COUNTRY_INFO!C118=0,\" \",COUNTRY_INFO!C118)","v":"Goz-beida"},{"$f":"IF(OR(COUNTRY_INFO!$U$9:$U$1000=\"T1 (PZQ+ALB/MBD)\",COUNTRY_INFO!$V$9:$V$1000=\"T1 (PZQ+ALB/MBD)\"), \"T1 (PZQ+ALB/MBD)\", \" \")","v":" "},null,0,null,null,0,null,0,null,0,null,0," "," "," "," ",{"$f":"COUNTRY_INFO!Y118","v":10726}]
[{"$f":"IF(COUNTRY_INFO!A119=0,\" \",COUNTRY_INFO!A119)","v":"Chad"},{"$f":"IF(COUNTRY_INFO!B119=0,\" \",COUNTRY_INFO!B119)","v":"Sila"},{"$f":"IF(COUNTRY_INFO!C119=0,\" \",COUNTRY_INFO!C119)","v":"Koukou"},{"$f":"IF(OR(COUNTRY_INFO!$U$9:$U$1000=\"T1 (PZQ+ALB/MBD)\",COUNTRY_INFO!$V$9:$V$1000=\"T1 (PZQ+ALB/MBD)\"), \"T1 (PZQ+ALB/MBD)\", \" \")","v":" "},null,0,null,null,0,null,0,null,0,null,0," "," "," "," ",{"$f":"COUNTRY_INFO!Y119","v":10673}]
[{"$f":"IF(COUNTRY_INFO!A120=0,\" \",COUNTRY_INFO!A120)","v":"Chad"},{"$f":"IF(COUNTRY_INFO!B120=0,\" \",COUNTRY_INFO!B120)","v":"Sila"},{"$f":"IF(COUNTRY_INFO!C120=0,\" \",COUNTRY_INFO!C120)","v":"Tissi"},{"$f":"IF(OR(COUNTRY_INFO!$U$9:$U$1000=\"T1 (PZQ+ALB/MBD)\",COUNTRY_INFO!$V$9:$V$1000=\"T1 (PZQ+ALB/MBD)\"), \"T1 (PZQ+ALB/MBD)\", \" \")","v":" "},null,0,null,null,0,null,0,null,0,null,0," "," "," "," ",{"$f":"COUNTRY_INFO!Y120","v":10674}]
[{"$f":"IF(COUNTRY_INFO!A121=0,\" \",COUNTRY_INFO!A121)","v":"Chad"},{"$f":"IF(COUNTRY_INFO!B121=0,\" \",COUNTRY_INFO!B121)","v":"Tandjile"},{"$f":"IF(COUNTRY_INFO!C121=0,\" \",COUNTRY_INFO!C121)","v":"Batchoro"},{"$f":"IF(OR(COUNTRY_INFO!$U$9:$U$1000=\"T1 (PZQ+ALB/MBD)\",COUNTRY_INFO!$V$9:$V$1000=\"T1 (PZQ+ALB/MBD)\"), \"T1 (PZQ+ALB/MBD)\", \" \")","v":" "},null,0,null,null,0,null,0,null,0,null,0," "," "," "," ",{"$f":"COUNTRY_INFO!Y121","v":10775}]
[{"$f":"IF(COUNTRY_INFO!A122=0,\" \",COUNTRY_INFO!A122)","v":"Chad"},{"$f":"IF(COUNTRY_INFO!B122=0,\" \",COUNTRY_INFO!B122)","v":"Tandjile"},{"$f":"IF(COUNTRY_INFO!C122=0,\" \",COUNTRY_INFO!C122)","v":"Bere"},{"$f":"IF(OR(COUNTRY_INFO!$U$9:$U$1000=\"T1 (PZQ+ALB/MBD)\",COUNTRY_INFO!$V$9:$V$1000=\"T1 (PZQ+ALB/MBD)\"), \"T1 (PZQ+ALB/MBD)\", \" \")","v":" "},null,0,null,null,0,null,0,null,0,null,0," "," "," "," ",{"$f":"COUNTRY_INFO!Y122","v":10734}]
[{"$f":"IF(COUNTRY_INFO!A123=0,\" \",COUNTRY_INFO!A123)","v":"Chad"},{"$f":"IF(COUNTRY_INFO!B123=0,\" \",COUNTRY_INFO!B123)","v":"Tandjile"},{"$f":"IF(COUNTRY_INFO!C123=0,\" \",COUNTRY_INFO!C123)","v":"Bologo"},{"$f":"IF(OR(COUNTRY_INFO!$U$9:$U$1000=\"T1 (PZQ+ALB/MBD)\",COUNTRY_INFO!$V$9:$V$1000=\"T1 (PZQ+ALB/MBD)\"), \"T1 (PZQ+ALB/MBD)\", \" \")","v":" "},null,0,null,null,0,null,0,null,0,null,0," "," "," "," ",{"$f":"COUNTRY_INFO!Y123","v":10790}]
[{"$f":"IF(COUNTRY_INFO!A124=0,\" \",COUNTRY_INFO!A124)","v":"Chad"},{"$f":"IF(COUNTRY_INFO!B124=0,\" \",COUNTRY_INFO!B124)","v":"Tandjile"},{"$f":"IF(COUNTRY_INFO!C124=0,\" \",COUNTRY_INFO!C124)","v":"Dafra"},{"$f":"IF(OR(COUNTRY_INFO!$U$9:$U$1000=\"T1 (PZQ+ALB/MBD)\",COUNTRY_INFO!$V$9:$V$1000=\"T1 (PZQ+ALB/MBD)\"), \"T1 (PZQ+ALB/MBD)\", \" \")","v":" "},null,0,null,null,0,null,0,null,0,null,0," "," "," "," ",{"$f":"COUNTRY_INFO!Y124","v":10759}]
[{"$f":"IF(COUNTRY_INFO!A125=0,\" \",COUNTRY_INFO!A125)","v":"Chad"},{"$f":"IF(COUNTRY_INFO!B125=0,\" \",COUNTRY_INFO!B125)","v":"Tandjile"},{"$f":"IF(COUNTRY_INFO!C125=0,\" \",COUNTRY_INFO!C125)","v":"Deressia"},{"$f":"IF(OR(COUNTRY_INFO!$U$9:$U$1000=\"T1 (PZQ+ALB/MBD)\",COUNTRY_INFO!$V$9:$V$1000=\"T1 (PZQ+ALB/MBD)\"), \"T1 (PZQ+ALB/MBD)\", \" \")","v":" "},null,0,null,null,0,null,0,null,0,null,0," "," "," "," ",{"$f":"COUNTRY_INFO!Y125","v":10782}]
[{"$f":"IF(COUNTRY_INFO!A126=0,\" \",COUNTRY_INFO!A126)","v":"Chad"},{"$f":"IF(COUNTRY_INFO!B126=0,\" \",COUNTRY_INFO!B126)","v":"Tandjile"},{"$f":"IF(COUNTRY_INFO!C126=0,\" \",COUNTRY_INFO!C126)","v":"Donamanga"},{"$f":"IF(OR(COUNTRY_INFO!$U$9:$U$1000=\"T1 (PZQ+ALB/MBD)\",COUNTRY_INFO!$V$9:$V$1000=\"T1 (PZQ+ALB/MBD)\"), \"T1 (PZQ+ALB/MBD)\", \" \")","v":" "},null,0,null,null,0,null,0,null,0,null,0," "," "," "," ",{"$f":"COUNTRY_INFO!Y126","v":10735}]
[{"$f":"IF(COUNTRY_INFO!A127=0,\" \",COUNTRY_INFO!A127)","v":"Chad"},{"$f":"IF(COUNTRY_INFO!B127=0,\" \",COUNTRY_INFO!B127)","v":"Tandjile"},{"$f":"IF(COUNTRY_INFO!C127=0,\" \",COUNTRY_INFO!C127)","v":"Guidari"},{"$f":"IF(OR(COUNTRY_INFO!$U$9:$U$1000=\"T1 (PZQ+ALB/MBD)\",COUNTRY_INFO!$V$9:$V$1000=\"T1 (PZQ+ALB/MBD)\"), \"T1 (PZQ+ALB/MBD)\", \" \")","v":" "},null,0,null,null,0,null,0,null,0,null,0," "," "," "," ",{"$f":"COUNTRY_INFO!Y127","v":10776}]
[{"$f":"IF(COUNTRY_INFO!A128=0,\" \",COUNTRY_INFO!A128)","v":"Chad"},{"$f":"IF(COUNTRY_INFO!B128=0,\" \",COUNTRY_INFO!B128)","v":"Tandjile"},{"$f":"IF(COUNTRY_INFO!C128=0,\" \",COUNTRY_INFO!C128)","v":"Kelo"},{"$f":"IF(OR(COUNTRY_INFO!$U$9:$U$1000=\"T1 (PZQ+ALB/MBD)\",COUNTRY_INFO!$V$9:$V$1000=\"T1 (PZQ+ALB/MBD)\"), \"T1 (PZQ+ALB/MBD)\", \" \")","v":" "},null,0,null,null,0,null,0,null,0,null,0," "," "," "," ",{"$f":"COUNTRY_INFO!Y128","v":10736}]
[{"$f":"IF(COUNTRY_INFO!A129=0,\" \",COUNTRY_INFO!A129)","v":"Chad"},{"$f":"IF(COUNTRY_INFO!B129=0,\" \",COUNTRY_INFO!B129)","v":"Tandjile"},{"$f":"IF(COUNTRY_INFO!C129=0,\" \",COUNTRY_INFO!C129)","v":"Kolon"},{"$f":"IF(OR(COUNTRY_INFO!$U$9:$U$1000=\"T1 (PZQ+ALB/MBD)\",COUNTRY_INFO!$V$9:$V$1000=\"T1 (PZQ+ALB/MBD)\"), \"T1 (PZQ+ALB/MBD)\", \" \")","v":" "},null,0,null,null,0,null,0,null,0,null,0," "," "," "," ",{"$f":"COUNTRY_INFO!Y129","v":10777}]
[{"$f":"IF(COUNTRY_INFO!A130=0,\" \",COUNTRY_INFO!A130)","v":"Chad"},{"$f":"IF(COUNTRY_INFO!B130=0,\" \",COUNTRY_INFO!B130)","v":"Tandjile"},{"$f":"IF(COUNTRY_INFO!C130=0,\" \",COUNTRY_INFO!C130)","v":"Lai"},{"$f":"IF(OR(COUNTRY_INFO!$U$9:$U$1000=\"T1 (PZQ+ALB/MBD)\",COUNTRY_INFO!$V$9:$V$1000=\"T1 (PZQ+ALB/MBD)\"), \"T1 (PZQ+ALB/MBD)\", \" \")","v":" "},null,0,null,null,0,null,0,null,0,null,0," "," "," "," ",{"$f":"COUNTRY_INFO!Y130","v":10737}]
[{"$f":"IF(COUNTRY_INFO!A131=0,\" \",COUNTRY_INFO!A131)","v":"Chad"},{"$f":"IF(COUNTRY_INFO!B131=0,\" \",COUNTRY_INFO!B131)","v":"Tibesti"},{"$f":"IF(COUNTRY_INFO!C131=0,\" \",COUNTRY_INFO!C131)","v":"Bardaï"},{"$f":"IF(OR(COUNTRY_INFO!$U$9:$U$1000=\"T1 (PZQ+ALB/MBD)\",COUNTRY_INFO!$V$9:$V$1000=\"T1 (PZQ+ALB/MBD)\"), \"T1 (PZQ+ALB/MBD)\", \" \")","v":" "},null,0,null,null,0,null,0,null,0,null,0," "," "," "," ",{"$f":"COUNTRY_INFO!Y131","v":10738}]
[{"$f":"IF(COUNTRY_INFO!A132=0,\" \",COUNTRY_INFO!A132)","v":"Chad"},{"$f":"IF(COUNTRY_INFO!B132=0,\" \",COUNTRY_INFO!B132)","v":"Tibesti"},{"$f":"IF(COUNTRY_INFO!C132=0,\" \",COUNTRY_INFO!C132)","v":"Zouar"},{"$f":"IF(OR(COUNTRY_INFO!$U$9:$U$1000=\"T1 (PZQ+ALB/MBD)\",COUNTRY_INFO!$V$9:$V$1000=\"T1 (PZQ+ALB/MBD)\"), \"T1 (PZQ+ALB/MBD)\", \" \")","v":" "},null,0,null,null,0,null,0,null,0,null,0," "," "," "," ",{"$f":"COUNTRY_INFO!Y132","v":10760}]
[{"$f":"IF(COUNTRY_INFO!A133=0,\" \",COUNTRY_INFO!A133)","v":"Chad"},{"$f":"IF(COUNTRY_INFO!B133=0,\" \",COUNTRY_INFO!B133)","v":"Wadi Fira"},{"$f":"IF(COUNTRY_INFO!C133=0,\" \",COUNTRY_INFO!C133)","v":"amzoer"},{"$f":"IF(OR(COUNTRY_INFO!$U$9:$U$1000=\"T1 (PZQ+ALB/MBD)\",COUNTRY_INFO!$V$9:$V$1000=\"T1 (PZQ+ALB/MBD)\"), \"T1 (PZQ+ALB/MBD)\", \" \")","v":" "},null,0,null,null,0,null,0,null,0,null,0," "," "," "," ",{"$f":"COUNTRY_INFO!Y133","v":10778}]
[{"$f":"IF(COUNTRY_INFO!A134=0,\" \",COUNTRY_INFO!A134)","v":"Chad"},{"$f":"IF(COUNTRY_INFO!B134=0,\" \",COUNTRY_INFO!B134)","v":"Wadi Fira"},{"$f":"IF(COUNTRY_INFO!C134=0,\" \",COUNTRY_INFO!C134)","v":"Arada"},{"$f":"IF(OR(COUNTRY_INFO!$U$9:$U$1000=\"T1 (PZQ+ALB/MBD)\",COUNTRY_INFO!$V$9:$V$1000=\"T1 (PZQ+ALB/MBD)\"), \"T1 (PZQ+ALB/MBD)\", \" \")","v":" "},null,0,null,null,0,null,0,null,0,null,0," "," "," "," ",{"$f":"COUNTRY_INFO!Y134","v":10779}]
[{"$f":"IF(COUNTRY_INFO!A135=0,\" \",COUNTRY_INFO!A135)","v":"Chad"},{"$f":"IF(COUNTRY_INFO!B135=0,\" \",COUNTRY_INFO!B135)","v":"Wadi Fira"},{"$f":"IF(COUNTRY_INFO!C135=0,\" \",COUNTRY_INFO!C135)","v":"Biltine"},{"$f":"IF(OR(COUNTRY_INFO!$U$9:$U$1000=\"T1 (PZQ+ALB/MBD)\",COUNTRY_INFO!$V$9:$V$1000=\"T1 (PZQ+ALB/MBD)\"), \"T1 (PZQ+ALB/MBD)\", \" \")","v":" "},null,0,null,null,0,null,0,null,0,null,0," "," "," "," ",{"$f":"COUNTRY_INFO!Y135","v":10740}]
[{"$f":"IF(COUNTRY_INFO!A136=0,\" \",COUNTRY_INFO!A136)","v":"Chad"},{"$f":"IF(COUNTRY_INFO!B136=0,\" \",COUNTRY_INFO!B136)","v":"Wadi Fira"},{"$f":"IF(COUNTRY_INFO!C136=0,\" \",COUNTRY_INFO!C136)","v":"Guéréda"},{"$f":"IF(OR(COUNTRY_INFO!$U$9:$U$1000=\"T1 (PZQ+ALB/MBD)\",COUNTRY_INFO!$V$9:$V$1000=\"T1 (PZQ+ALB/MBD)\"), \"T1 (PZQ+ALB/MBD)\", \" \")","v":" "},null,0,null,null,0,null,0,null,0,null,0," "," "," "," ",{"$f":"COUNTRY_INFO!Y136","v":10741}]
[{"$f":"IF(COUNTRY_INFO!A137=0,\" \",COUNTRY_INFO!A137)","v":"Chad"},{"$f":"IF(COUNTRY_INFO!B137=0,\" \",COUNTRY_INFO!B137)","v":"Wadi Fira"},{"$f":"IF(COUNTRY_INFO!C137=0,\" \",COUNTRY_INFO!C137)","v":"Iriba"},{"$f":"IF(OR(COUNTRY_INFO!$U$9:$U$1000=\"T1 (PZQ+ALB/MBD)\",COUNTRY_INFO!$V$9:$V$1000=\"T1 (PZQ+ALB/MBD)\"), \"T1 (PZQ+ALB/MBD)\", \" \")","v":" "},null,0,null,null,0,null,0,null,0,null,0," "," "," "," ",{"$f":"COUNTRY_INFO!Y137","v":10742}]
[{"$f":"IF(COUNTRY_INFO!A138=0,\" \",COUNTRY_INFO!A138)","v":"Chad"},{"$f":"IF(COUNTRY_INFO!B138=0,\" \",COUNTRY_INFO!B138)","v":"Wadi Fira"},{"$f":"IF(COUNTRY_INFO!C138=0,\" \",COUNTRY_INFO!C138)","v":"Matadjana"},{"$f":"IF(OR(COUNTRY_INFO!$U$9:$U$1000=\"T1 (PZQ+ALB/MBD)\",COUNTRY_INFO!$V$9:$V$1000=\"T1 (PZQ+ALB/MBD)\"), \"T1 (PZQ+ALB/MBD)\", \" \")","v":" "},null,0,null,null,0,null,{"$f":"MAX(H138:I138)+G138+J138","v":0},null,0,null,{"$f":"SUM(L138:N138)","v":0},{"$f":"IF(G138<>0, IF(L138/G138*100=0, \"-\", L138/G138*100), \" \")","v":" "},{"$f":"IF(OR(I138<>0,H138<>0), IF(M138/MAX(H138,I138)*100=0, \"-\", M138/MAX(H138,I138)*100), \" \")","v":" "},{"$f":"IF(J138<>0, IF(N138/J138*100=0, \"-\", N138/J138*100), \" \")","v":" "},{"$f":"IF(K138<>0, IF(O138/K138*100=0, \"-\", O138/K138*100), \" \")","v":" "},{"$f":"COUNTRY_INFO!Y138","v":10743}]

{"sheet":"T2","index":6,"n_rows":138,"n_cols":28,"rows_kept":138,"cut":false,"hidden":false,"merged":[[5,5,5,8],[5,9,5,12],[5,13,5,16],[3,0,3,2],[5,0,5,2],[5,3,6,3],[5,4,6,4]]}
["T 2 - Praziquantel (PZQ) "]
["Structure administrative, population nécessitant une chimioprévention par groupe d'âge, population traitée par groupe d'âge et couverture"]
[]
["TOTAL",null,null,null,null,{"$f":"SUM(F$9:F$1000)","v":0},1578743,0,1578743,0,1416072,0,1416072,{"$f":"IF(F4<>0, IF(J4/F4*100=0, \"-\", J4/F4*100), \" \")","v":" "},{"$f":"IF(G4<>0, IF(K4/G4*100=0, \"-\", K4/G4*100), \" \")","v":89.696169674228159},{"$f":"IF(H4<>0, IF(L4/H4*100=0, \"-\", L4/H4*100), \" \")","v":" "},{"$f":"IF(I4<>0, IF(M4/I4*100=0, \"-\", M4/I4*100), \" \")","v":89.696169674228159}]
[]
["Structure administrative du pays",null,null,"Mise en oeuvre \nde la CP","Date","Population ciblée pour T2",null,null,null,"Population traitée",null,null,null,"Couverture du Programme (%)"]
["Pays","Région/Département","District",null,null,"EAPréS","EAS","Adultes","Total","EAPréS","EAS","Adultes","Total","EAPréS","EAS","Adultes","Total","x","x","x","x","x","x","x","x","x","x","x"]
[]
[{"$f":"IF(COUNTRY_INFO!A9=0,\" \",COUNTRY_INFO!A9)","v":"Chad"},{"$f":"IF(COUNTRY_INFO!B9=0,\" \",COUNTRY_INFO!B9)","v":"Bahr El Gazel"},{"$f":"IF(COUNTRY_INFO!C9=0,\" \",COUNTRY_INFO!C9)","v":"Chadra"},{"$f":"IF(OR(COUNTRY_INFO!$U$9:$U$1000=\"T2 (PZQ)\",COUNTRY_INFO!$V$9:$V$1000=\"T2 (PZQ)\"), \"T2 (PZQ)\", \" \")","v":" "},0,null,0,null,{"$f":"SUM(F9:H9)","v":0},null,0,null,{"$f":"SUM(J9:L9)","v":0},{"$f":"IF(F9<>0, IF(J9/F9*100=0, \"-\", J9/F9*100), \" \")","v":" "}," "," "," ",{"$f":"COUNTRY_INFO!Y9","v":10660}]
[{"$f":"IF(COUNTRY_INFO!A10=0,\" \",COUNTRY_INFO!A10)","v":"Chad"},{"$f":"IF(COUNTRY_INFO!B10=0,\" \",COUNTRY_INFO!B10)","v":"Bahr El Gazel"},{"$f":"IF(COUNTRY_INFO!C10=0,\" \",COUNTRY_INFO!C10)","v":"Michemire"},{"$f":"IF(OR(COUNTRY_INFO!$U$9:$U$1000=\"T2 (PZQ)\",COUNTRY_INFO!$V$9:$V$1000=\"T2 (PZQ)\"), \"T2 (PZQ)\", \" \")","v":" "},0,null,0,null,{"$f":"SUM(F10:H10)","v":0},null,0,null,{"$f":"SUM(J10:L10)","v":0},{"$f":"IF(F10<>0, IF(J10/F10*100=0, \"-\", J10/F10*100), \" \")","v":" "},{"$f":"IF(G10<>0, IF(K10/G10*100=0, \"-\", K10/G10*100), \" \")","v":" "},{"$f":"IF(H10<>0, IF(L10/H10*100=0, \"-\", L10/H10*100), \" \")","v":" "},{"$f":"IF(I10<>0, IF(M10/I10*100=0, \"-\", M10/I10*100), \" \")","v":" "},{"$f":"COUNTRY_INFO!Y10","v":10670}]
[{"$f":"IF(COUNTRY_INFO!A11=0,\" \",COUNTRY_INFO!A11)","v":"Chad"},{"$f":"IF(COUNTRY_INFO!B11=0,\" \",COUNTRY_INFO!B11)","v":"Bahr El Gazel"},{"$f":"IF(COUNTRY_INFO!C11=0,\" \",COUNTRY_INFO!C11)","v":"Moussoro"},{"$f":"IF(OR(COUNTRY_INFO!$U$9:$U$1000=\"T2 (PZQ)\",COUNTRY_INFO!$V$9:$V$1000=\"T2 (PZQ)\"), \"T2 (PZQ)\", \" \")","v":" "},0,null,0,null,0,null,0,null,0," "," "," "," ",{"$f":"COUNTRY_INFO!Y11","v":10661}]
[{"$f":"IF(COUNTRY_INFO!A12=0,\" \",COUNTRY_INFO!A12)","v":"Chad"},{"$f":"IF(COUNTRY_INFO!B12=0,\" \",COUNTRY_INFO!B12)","v":"Bahr El Gazel"},{"$f":"IF(COUNTRY_INFO!C12=0,\" \",COUNTRY_INFO!C12)","v":"Salal"},{"$f":"IF(OR(COUNTRY_INFO!$U$9:$U$1000=\"T2 (PZQ)\",COUNTRY_INFO!$V$9:$V$1000=\"T2 (PZQ)\"), \"T2 (PZQ)\", \" \")","v":" "},0,null,0,null,0,null,0,null,0," "," "," "," ",{"$f":"COUNTRY_INFO!Y12","v":10711}]
[{"$f":"IF(COUNTRY_INFO!A13=0,\" \",COUNTRY_INFO!A13)","v":"Chad"},{"$f":"IF(COUNTRY_INFO!B13=0,\" \",COUNTRY_INFO!B13)","v":"Batha"},{"$f":"IF(COUNTRY_INFO!C13=0,\" \",COUNTRY_INFO!C13)","v":"Alifa"},{"$f":"IF(OR(COUNTRY_INFO!$U$9:$U$1000=\"T2 (PZQ)\",COUNTRY_INFO!$V$9:$V$1000=\"T2 (PZQ)\"), \"T2 (PZQ)\", \" \")","v":" "},0,null,0,null,0,null,0,null,0," "," "," "," ",{"$f":"COUNTRY_INFO!Y13","v":10739}]
[{"$f":"IF(COUNTRY_INFO!A14=0,\" \",COUNTRY_INFO!A14)","v":"Chad"},{"$f":"IF(COUNTRY_INFO!B14=0,\" \",COUNTRY_INFO!B14)","v":"Batha"},{"$f":"IF(COUNTRY_INFO!C14=0,\" \",COUNTRY_INFO!C14)","v":"Assinet"},{"$f":"IF(OR(COUNTRY_INFO!$U$9:$U$1000=\"T2 (PZQ)\",COUNTRY_INFO!$V$9:$V$1000=\"T2 (PZQ)\"), \"T2 (PZQ)\", \" \")","v":" "},0,null,0,null,0,null,0,null,0," "," "," "," ",{"$f":"COUNTRY_INFO!Y14","v":10745}]
[{"$f":"IF(COUNTRY_INFO!A15=0,\" \",COUNTRY_INFO!A15)","v":"Chad"},{"$f":"IF(COUNTRY_INFO!B15=0,\" \",COUNTRY_INFO!B15)","v":"Batha"},{"$f":"IF(COUNTRY_INFO!C15=0,\" \",COUNTRY_INFO!C15)","v":"Ati"},{"$f":"IF(OR(COUNTRY_INFO!$U$9:$U$1000=\"T2 (PZQ)\",COUNTRY_INFO!$V$9:$V$1000=\"T2 (PZQ)\"), \"T2 (PZQ)\", \" \")","v":" "},0,null,0,null,0,null,0,null,0," "," "," "," ",{"$f":"COUNTRY_INFO!Y15","v":10662}]
[{"$f":"IF(COUNTRY_INFO!A16=0,\" \",COUNTRY_INFO!A16)","v":"Chad"},{"$f":"IF(COUNTRY_INFO!B16=0,\" \",COUNTRY_INFO!B16)","v":"Batha"},{"$f":"IF(COUNTRY_INFO!C16=0,\" \",COUNTRY_INFO!C16)","v":"Djedda"},{"$f":"IF(OR(COUNTRY_INFO!$U$9:$U$1000=\"T2 (PZQ)\",COUNTRY_INFO!$V$9:$V$1000=\"T2 (PZQ)\"), \"T2 (PZQ)\", \" \")","v":" "},0,null,0,null,0,null,0,null,0," "," "," "," ",{"$f":"COUNTRY_INFO!Y16","v":10761}]
[{"$f":"IF(COUNTRY_INFO!A17=0,\" \",COUNTRY_INFO!A17)","v":"Chad"},{"$f":"IF(COUNTRY_INFO!B17=0,\" \",COUNTRY_INFO!B17)","v":"Batha"},{"$f":"IF(COUNTRY_INFO!C17=0,\" \",COUNTRY_INFO!C17)","v":"Koundjourou"},{"$f":"IF(OR(COUNTRY_INFO!$U$9:$U$1000=\"T2 (PZQ)\",COUNTRY_INFO!$V$9:$V$1000=\"T2 (PZQ)\"), \"T2 (PZQ)\", \" \")","v":" "},0,null,0,null,0,null,0,null,0," "," "," "," ",{"$f":"COUNTRY_INFO!Y17","v":10762}]
[{"$f":"IF(COUNTRY_INFO!A18=0,\" \",COUNTRY_INFO!A18)","v":"Chad"},{"$f":"IF(COUNTRY_INFO!B18=0,\" \",COUNTRY_INFO!B18)","v":"Batha"},{"$f":"IF(COUNTRY_INFO!C18=0,\" \",COUNTRY_INFO!C18)","v":"Oum-Hadjer"},{"$f":"IF(OR(COUNTRY_INFO!$U$9:$U$1000=\"T2 (PZQ)\",COUNTRY_INFO!$V$9:$V$1000=\"T2 (PZQ)\"), \"T2 (PZQ)\", \" \")","v":" "},0,null,0,null,0,null,0,null,0," "," "," "," ",{"$f":"COUNTRY_INFO!Y18","v":10663}]
[{"$f":"IF(COUNTRY_INFO!A19=0,\" \",COUNTRY_INFO!A19)","v":"Chad"},{"$f":"IF(COUNTRY_INFO!B19=0,\" \",COUNTRY_INFO!B19)","v":"Batha"},{"$f":"IF(COUNTRY_INFO!C19=0,\" \",COUNTRY_INFO!C19)","v":"Yao"},{"$f":"IF(OR(COUNTRY_INFO!$U$9:$U$1000=\"T2 (PZQ)\",COUNTRY_INFO!$V$9:$V$1000=\"T2 (PZQ)\"), \"T2 (PZQ)\", \" \")","v":" "},0,null,0,null,0,null,0,null,0," "," "," "," ",{"$f":"COUNTRY_INFO!Y19","v":10664}]
[{"$f":"IF(COUNTRY_INFO!A20=0,\" \",COUNTRY_INFO!A20)","v":"Chad"},{"$f":"IF(COUNTRY_INFO!B20=0,\" \",COUNTRY_INFO!B20)","v":"Borkou"},{"$f":"IF(COUNTRY_INFO!C20=0,\" \",COUNTRY_INFO!C20)","v":"Faya"},{"$f":"IF(OR(COUNTRY_INFO!$U$9:$U$1000=\"T2 (PZQ)\",COUNTRY_INFO!$V$9:$V$1000=\"T2 (PZQ)\"), \"T2 (PZQ)\", \" \")","v":" "},0,null,0,null,0,null,0,null,0," "," "," "," ",{"$f":"COUNTRY_INFO!Y20","v":10666}]
[{"$f":"IF(COUNTRY_INFO!A21=0,\" \",COUNTRY_INFO!A21)","v":"Chad"},{"$f":"IF(COUNTRY_INFO!B21=0,\" \",COUNTRY_INFO!B21)","v":"Borkou"},{"$f":"IF(COUNTRY_INFO!C21=0,\" \",COUNTRY_INFO!C21)","v":"Kirdimi"},{"$f":"IF(OR(COUNTRY_INFO!$U$9:$U$1000=\"T2 (PZQ)\",COUNTRY_INFO!$V$9:$V$1000=\"T2 (PZQ)\"), \"T2 (PZQ)\", \" \")","v":" "},0,null,0,null,0,null,0,null,0," "," "," "," ",{"$f":"COUNTRY_INFO!Y21","v":10746}]
[{"$f":"IF(COUNTRY_INFO!A22=0,\" \",COUNTRY_INFO!A22)","v":"Chad"},{"$f":"IF(COUNTRY_INFO!B22=0,\" \",COUNTRY_INFO!B22)","v":"Borkou"},{"$f":"IF(COUNTRY_INFO!C22=0,\" \",COUNTRY_INFO!C22)","v":"Kouba Olanga"},{"$f":"IF(OR(COUNTRY_INFO!$U$9:$U$1000=\"T2 (PZQ)\",COUNTRY_INFO!$V$9:$V$1000=\"T2 (PZQ)\"), \"T2 (PZQ)\", \" \")","v":" "},null,null,null,null,0,null,null,null,0," "," "," "," ",{"$f":"COUNTRY_INFO!Y22","v":10783}]
[{"$f":"IF(COUNTRY_INFO!A23=0,\" \",COUNTRY_INFO!A23)","v":"Chad"},{"$f":"IF(COUNTRY_INFO!B23=0,\" \",COUNTRY_INFO!B23)","v":"Chari  Baguirmi"},{"$f":"IF(COUNTRY_INFO!C23=0,\" \",COUNTRY_INFO!C23)","v":"Ba-Illi"},{"$f":"IF(OR(COUNTRY_INFO!$U$9:$U$1000=\"T2 (PZQ)\",COUNTRY_INFO!$V$9:$V$1000=\"T2 (PZQ)\"), \"T2 (PZQ)\", \" \")","v":" "},0,null,0,null,0,null,0,null,0," "," "," "," ",{"$f":"COUNTRY_INFO!Y23","v":10667}]
[{"$f":"IF(COUNTRY_INFO!A24=0,\" \",COUNTRY_INFO!A24)","v":"Chad"},{"$f":"IF(COUNTRY_INFO!B24=0,\" \",COUNTRY_INFO!B24)","v":"Chari  Baguirmi"},{"$f":"IF(COUNTRY_INFO!C24=0,\" \",COUNTRY_INFO!C24)","v":"Bousso"},{"$f":"IF(OR(COUNTRY_INFO!$U$9:$U$1000=\"T2 (PZQ)\",COUNTRY_INFO!$V$9:$V$1000=\"T2 (PZQ)\"), \"T2 (PZQ)\", \" \")","v":" "},0,null,0,null,0,null,0,null,0," "," "," "," ",{"$f":"COUNTRY_INFO!Y24","v":10668}]
[{"$f":"IF(COUNTRY_INFO!A25=0,\" \",COUNTRY_INFO!A25)","v":"Chad"},{"$f":"IF(COUNTRY_INFO!B25=0,\" \",COUNTRY_INFO!B25)","v":"Chari  Baguirmi"},{"$f":"IF(COUNTRY_INFO!C25=0,\" \",COUNTRY_INFO!C25)","v":"Dourbali"},{"$f":"IF(OR(COUNTRY_INFO!$U$9:$U$1000=\"T2 (PZQ)\",COUNTRY_INFO!$V$9:$V$1000=\"T2 (PZQ)\"), \"T2 (PZQ)\", \" \")","v":" "},0,null,0,null,0,null,0,null,0," "," "," "," ",{"$f":"COUNTRY_INFO!Y25","v":10669}]
[{"$f":"IF(COUNTRY_INFO!A26=0,\" \",COUNTRY_INFO!A26)","v":"Chad"},{"$f":"IF(COUNTRY_INFO!B26=0,\" \",COUNTRY_INFO!B26)","v":"Chari  Baguirmi"},{"$f":"IF(COUNTRY_INFO!C26=0,\" \",COUNTRY_INFO!C26)","v":"Koulno"},{"$f":"IF(OR(COUNTRY_INFO!$U$9:$U$1000=\"T2 (PZQ)\",COUNTRY_INFO!$V$9:$V$1000=\"T2 (PZQ)\"), \"T2 (PZQ)\", \" \")","v":" "},0,null,0,null,0,null,0,null,0," "," "," "," ",{"$f":"COUNTRY_INFO!Y26","v":10747}]
[{"$f":"IF(COUNTRY_INFO!A27=0,\" \",COUNTRY_INFO!A27)","v":"Chad"},{"$f":"IF(COUNTRY_INFO!B27=0,\" \",COUNTRY_INFO!B27)","v":"Chari  Baguirmi"},{"$f":"IF(COUNTRY_INFO!C27=0,\" \",COUNTRY_INFO!C27)","v":"Mandélia"},{"$f":"IF(OR(COUNTRY_INFO!$U$9:$U$1000=\"T2 (PZQ)\",COUNTRY_INFO!$V$9:$V$1000=\"T2 (PZQ)\"), \"T2 (PZQ)\", \" \")","v":" "},0,null,0,null,0,null,0,null,0," "," "," "," ",{"$f":"COUNTRY_INFO!Y27","v":10671}]
[{"$f":"IF(COUNTRY_INFO!A28=0,\" \",COUNTRY_INFO!A28)","v":"Chad"},{"$f":"IF(COUNTRY_INFO!B28=0,\" \",COUNTRY_INFO!B28)","v":"Chari  Baguirmi"},{"$f":"IF(COUNTRY_INFO!C28=0,\" \",COUNTRY_INFO!C28)","v":"Massenya"},{"$f":"IF(OR(COUNTRY_INFO!$U$9:$U$1000=\"T2 (PZQ)\",COUNTRY_INFO!$V$9:$V$1000=\"T2 (PZQ)\"), \"T2 (PZQ)\", \" \")","v":" "},0,null,0,null,0,null,0,null,0," "," "," "," ",{"$f":"COUNTRY_INFO!Y28","v":10672}]
[{"$f":"IF(COUNTRY_INFO!A29=0,\" \",COUNTRY_INFO!A29)","v":"Chad"},{"$f":"IF(COUNTRY_INFO!B29=0,\" \",COUNTRY_INFO!B29)","v":"Ennedi Est"},{"$f":"IF(COUNTRY_INFO!C29=0,\" \",COUNTRY_INFO!C29)","v":"Amdjarass"},{"$f":"IF(OR(COUNTRY_INFO!$U$9:$U$1000=\"T2 (PZQ)\",COUNTRY_INFO!$V$9:$V$1000=\"T2 (PZQ)\"), \"T2 (PZQ)\", \" \")","v":" "},0,null,0,null,0,null,0,null,0," "," "," "," ",{"$f":"COUNTRY_INFO!Y29","v":10675}]
[{"$f":"IF(COUNTRY_INFO!A30=0,\" \",COUNTRY_INFO!A30)","v":"Chad"},{"$f":"IF(COUNTRY_INFO!B30=0,\" \",COUNTRY_INFO!B30)","v":"Ennedi Est"},{"$f":"IF(COUNTRY_INFO!C30=0,\" \",COUNTRY_INFO!C30)","v":"Bahaï"},{"$f":"IF(OR(COUNTRY_INFO!$U$9:$U$1000=\"T2 (PZQ)\",COUNTRY_INFO!$V$9:$V$1000=\"T2 (PZQ)\"), \"T2 (PZQ)\", \" \")","v":" "},0,null,0,null,0,null,0,null,0," "," "," "," ",{"$f":"COUNTRY_INFO!Y30","v":10676}]
[{"$f":"IF(COUNTRY_INFO!A31=0,\" \",COUNTRY_INFO!A31)","v":"Chad"},{"$f":"IF(COUNTRY_INFO!B31=0,\" \",COUNTRY_INFO!B31)","v":"Ennedi Est"},{"$f":"IF(COUNTRY_INFO!C31=0,\" \",COUNTRY_INFO!C31)","v":"Kaoura"},{"$f":"IF(OR(COUNTRY_INFO!$U$9:$U$1000=\"T2 (PZQ)\",COUNTRY_INFO!$V$9:$V$1000=\"T2 (PZQ)\"), \"T2 (PZQ)\", \" \")","v":" "},0,null,0,null,0,null,0,null,0," "," "," "," ",{"$f":"COUNTRY_INFO!Y31","v":10678}]
[{"$f":"IF(COUNTRY_INFO!A32=0,\" \",COUNTRY_INFO!A32)","v":"Chad"},{"$f":"IF(COUNTRY_INFO!B32=0,\" \",COUNTRY_INFO!B32)","v":"Ennedi Est"},{"$f":"IF(COUNTRY_INFO!C32=0,\" \",COUNTRY_INFO!C32)","v":"Mourdi"},{"$f":"IF(OR(COUNTRY_INFO!$U$9:$U$1000=\"T2 (PZQ)\",COUNTRY_INFO!$V$9:$V$1000=\"T2 (PZQ)\"), \"T2 (PZQ)\", \" \")","v":" "},null,null,null,null,0,null,null,null,0," "," "," "," ",{"$f":"COUNTRY_INFO!Y32","v":10784}]
[{"$f":"IF(COUNTRY_INFO!A33=0,\" \",COUNTRY_INFO!A33)","v":"Chad"},{"$f":"IF(COUNTRY_INFO!B33=0,\" \",COUNTRY_INFO!B33)","v":"Ennedi Ouest"},{"$f":"IF(COUNTRY_INFO!C33=0,\" \",COUNTRY_INFO!C33)","v":"Fada"},{"$f":"IF(OR(COUNTRY_INFO!$U$9:$U$1000=\"T2 (PZQ)\",COUNTRY_INFO!$V$9:$V$1000=\"T2 (PZQ)\"), \"T2 (PZQ)\", \" \")","v":" "},0,null,0,null,0,null,0,null,0," "," "," "," ",{"$f":"COUNTRY_INFO!Y33","v":10665}]
[{"$f":"IF(COUNTRY_INFO!A34=0,\" \",COUNTRY_INFO!A34)","v":"Chad"},{"$f":"IF(COUNTRY_INFO!B34=0,\" \",COUNTRY_INFO!B34)","v":"Ennedi Ouest"},{"$f":"IF(COUNTRY_INFO!C34=0,\" \",COUNTRY_INFO!C34)","v":"Kalaït"},{"$f":"IF(OR(COUNTRY_INFO!$U$9:$U$1000=\"T2 (PZQ)\",COUNTRY_INFO!$V$9:$V$1000=\"T2 (PZQ)\"), \"T2 (PZQ)\", \" \")","v":" "},0,null,0,null,0,null,0,null,0," "," "," "," ",{"$f":"COUNTRY_INFO!Y34","v":10677}]
[{"$f":"IF(COUNTRY_INFO!A35=0,\" \",COUNTRY_INFO!A35)","v":"Chad"},{"$f":"IF(COUNTRY_INFO!B35=0,\" \",COUNTRY_INFO!B35)","v":"Ennedi Ouest"},{"$f":"IF(COUNTRY_INFO!C35=0,\" \",COUNTRY_INFO!C35)","v":"Ounianga Kebbir"},{"$f":"IF(OR(COUNTRY_INFO!$U$9:$U$1000=\"T2 (PZQ)\",COUNTRY_INFO!$V$9:$V$1000=\"T2 (PZQ)\"), \"T2 (PZQ)\", \" \")","v":" "},null,null,null,null,0,null,null,null,0," "," "," "," ",{"$f":"COUNTRY_INFO!Y35","v":10785}]
[{"$f":"IF(COUNTRY_INFO!A36=0,\" \",COUNTRY_INFO!A36)","v":"Chad"},{"$f":"IF(COUNTRY_INFO!B36=0,\" \",COUNTRY_INFO!B36)","v":"Guéra"},{"$f":"IF(COUNTRY_INFO!C36=0,\" \",COUNTRY_INFO!C36)","v":"Barou"},{"$f":"IF(OR(COUNTRY_INFO!$U$9:$U$1000=\"T2 (PZQ)\",COUNTRY_INFO!$V$9:$V$1000=\"T2 (PZQ)\"), \"T2 (PZQ)\", \" \")","v":" "},0,null,0,null,0,null,0,null,0," "," "," "," ",{"$f":"COUNTRY_INFO!Y36","v":10763}]
[{"$f":"IF(COUNTRY_INFO!A37=0,\" \",COUNTRY_INFO!A37)","v":"Chad"},{"$f":"IF(COUNTRY_INFO!B37=0,\" \",COUNTRY_INFO!B37)","v":"Guéra"},{"$f":"IF(COUNTRY_INFO!C37=0,\" \",COUNTRY_INFO!C37)","v":"Bitkine"},{"$f":"IF(OR(COUNTRY_INFO!$U$9:$U$1000=\"T2 (PZQ)\",COUNTRY_INFO!$V$9:$V$1000=\"T2 (PZQ)\"), \"T2 (PZQ)\", \" \")","v":" "},0,null,0,null,0,null,0,null,0," "," "," "," ",{"$f":"COUNTRY_INFO!Y37","v":10679}]
[{"$f":"IF(COUNTRY_INFO!A38=0,\" \",COUNTRY_INFO!A38)","v":"Chad"},{"$f":"IF(COUNTRY_INFO!B38=0,\" \",COUNTRY_INFO!B38)","v":"Guéra"},{"$f":"IF(COUNTRY_INFO!C38=0,\" \",COUNTRY_INFO!C38)","v":"Mangalmé"},{"$f":"IF(OR(COUNTRY_INFO!$U$9:$U$1000=\"T2 (PZQ)\",COUNTRY_INFO!$V$9:$V$1000=\"T2 (PZQ)\"), \"T2 (PZQ)\", \" \")","v":" "},0,null,0,null,0,null,0,null,0," "," "," "," ",{"$f":"COUNTRY_INFO!Y38","v":10680}]
[{"$f":"IF(COUNTRY_INFO!A39=0,\" \",COUNTRY_INFO!A39)","v":"Chad"},{"$f":"IF(COUNTRY_INFO!B39=0,\" \",COUNTRY_INFO!B39)","v":"Guéra"},{"$f":"IF(COUNTRY_INFO!C39=0,\" \",COUNTRY_INFO!C39)","v":"Melfi"},{"$f":"IF(OR(COUNTRY_INFO!$U$9:$U$1000=\"T2 (PZQ)\",COUNTRY_INFO!$V$9:$V$1000=\"T2 (PZQ)\"), \"T2 (PZQ)\", \" \")","v":" "},0,null,0,null,0,null,0,null,0," "," "," "," ",{"$f":"COUNTRY_INFO!Y39","v":10681}]
[{"$f":"IF(COUNTRY_INFO!A40=0,\" \",COUNTRY_INFO!A40)","v":"Chad"},{"$f":"IF(COUNTRY_INFO!B40=0,\" \",COUNTRY_INFO!B40)","v":"Guéra"},{"$f":"IF(COUNTRY_INFO!C40=0,\" \",COUNTRY_INFO!C40)","v":"Mongo"},{"$f":"IF(OR(COUNTRY_INFO!$U$9:$U$1000=\"T2 (PZQ)\",COUNTRY_INFO!$V$9:$V$1000=\"T2 (PZQ)\"), \"T2 (PZQ)\", \" \")","v":" "},0,null,0,null,0,null,0,null,0," "," "," "," ",{"$f":"COUNTRY_INFO!Y40","v":10682}]
[{"$f":"IF(COUNTRY_INFO!A41=0,\" \",COUNTRY_INFO!A41)","v":"Chad"},{"$f":"IF(COUNTRY_INFO!B41=0,\" \",COUNTRY_INFO!B41)","v":"Hadjer Lamis"},{"$f":"IF(COUNTRY_INFO!C41=0,\" \",COUNTRY_INFO!C41)","v":"Bokoro"},{"$f":"IF(OR(COUNTRY_INFO!$U$9:$U$1000=\"T2 (PZQ)\",COUNTRY_INFO!$V$9:$V$1000=\"T2 (PZQ)\"), \"T2 (PZQ)\", \" \")","v":" "},0,null,0,null,0,null,0,null,0," "," "," "," ",{"$f":"COUNTRY_INFO!Y41","v":10683}]
[{"$f":"IF(COUNTRY_INFO!A42=0,\" \",COUNTRY_INFO!A42)","v":"Chad"},{"$f":"IF(COUNTRY_INFO!B42=0,\" \",COUNTRY_INFO!B42)","v":"Hadjer Lamis"},{"$f":"IF(COUNTRY_INFO!C42=0,\" \",COUNTRY_INFO!C42)","v":"Gama"},{"$f":"IF(OR(COUNTRY_INFO!$U$9:$U$1000=\"T2 (PZQ)\",COUNTRY_INFO!$V$9:$V$1000=\"T2 (PZQ)\"), \"T2 (PZQ)\", \" \")","v":" "},0,null,0,null,0,null,0,null,0," "," "," "," ",{"$f":"COUNTRY_INFO!Y42","v":10748}]
[{"$f":"IF(COUNTRY_INFO!A43=0,\" \",COUNTRY_INFO!A43)","v":"Chad"},{"$f":"IF(COUNTRY_INFO!B43=0,\" \",COUNTRY_INFO!B43)","v":"Hadjar Lamis"},{"$f":"IF(COUNTRY_INFO!C43=0,\" \",COUNTRY_INFO!C43)","v":"Karal"},{"$f":"IF(OR(COUNTRY_INFO!$U$9:$U$1000=\"T2 (PZQ)\",COUNTRY_INFO!$V$9:$V$1000=\"T2 (PZQ)\"), \"T2 (PZQ)\", \" \")","v":" "},null,null,null,null,0,null,null,null,0," "," "," "," ",{"$f":"COUNTRY_INFO!Y43","v":10786}]
[{"$f":"IF(COUNTRY_INFO!A44=0,\" \",COUNTRY_INFO!A44)","v":"Chad"},{"$f":"IF(COUNTRY_INFO!B44=0,\" \",COUNTRY_INFO!B44)","v":"Hadjer Lamis"},{"$f":"IF(COUNTRY_INFO!C44=0,\" \",COUNTRY_INFO!C44)","v":"Mani"},{"$f":"IF(OR(COUNTRY_INFO!$U$9:$U$1000=\"T2 (PZQ)\",COUNTRY_INFO!$V$9:$V$1000=\"T2 (PZQ)\"), \"T2 (PZQ)\", \" \")","v":" "},0,null,0,null,0,null,0,null,0," "," "," "," ",{"$f":"COUNTRY_INFO!Y44","v":10684}]
[{"$f":"IF(COUNTRY_INFO!A45=0,\" \",COUNTRY_INFO!A45)","v":"Chad"},{"$f":"IF(COUNTRY_INFO!B45=0,\" \",COUNTRY_INFO!B45)","v":"Hadjer Lamis"},{"$f":"IF(COUNTRY_INFO!C45=0,\" \",COUNTRY_INFO!C45)","v":"Massaguet"},{"$f":"IF(OR(COUNTRY_INFO!$U$9:$U$1000=\"T2 (PZQ)\",COUNTRY_INFO!$V$9:$V$1000=\"T2 (PZQ)\"), \"T2 (PZQ)\", \" \")","v":" "},0,null,0,null,0,null,0,null,0," "," "," "," ",{"$f":"COUNTRY_INFO!Y45","v":10685}]
[{"$f":"IF(COUNTRY_INFO!A46=0,\" \",COUNTRY_INFO!A46)","v":"Chad"},{"$f":"IF(COUNTRY_INFO!B46=0,\" \",COUNTRY_INFO!B46)","v":"Hadjer Lamis"},{"$f":"IF(COUNTRY_INFO!C46=0,\" \",COUNTRY_INFO!C46)","v":"Massakory"},{"$f":"IF(OR(COUNTRY_INFO!$U$9:$U$1000=\"T2 (PZQ)\",COUNTRY_INFO!$V$9:$V$1000=\"T2 (PZQ)\"), \"T2 (PZQ)\", \" \")","v":" "},0,null,0,null,0,null,0,null,0," "," "," "," ",{"$f":"COUNTRY_INFO!Y46","v":10686}]
[{"$f":"IF(COUNTRY_INFO!A47=0,\" \",COUNTRY_INFO!A47)","v":"Chad"},{"$f":"IF(COUNTRY_INFO!B47=0,\" \",COUNTRY_INFO!B47)","v":"Kanem"},{"$f":"IF(COUNTRY_INFO!C47=0,\" \",COUNTRY_INFO!C47)","v":"Amdoback"},{"$f":"IF(OR(COUNTRY_INFO!$U$9:$U$1000=\"T2 (PZQ)\",COUNTRY_INFO!$V$9:$V$1000=\"T2 (PZQ)\"), \"T2 (PZQ)\", \" \")","v":" "},null,null,null,null,0,null,null,null,0," "," "," "," ",{"$f":"COUNTRY_INFO!Y47","v":10787}]
[{"$f":"IF(COUNTRY_INFO!A48=0,\" \",COUNTRY_INFO!A48)","v":"Chad"},{"$f":"IF(COUNTRY_INFO!B48=0,\" \",COUNTRY_INFO!B48)","v":"Kanem"},{"$f":"IF(COUNTRY_INFO!C48=0,\" \",COUNTRY_INFO!C48)","v":"Kekedina"},{"$f":"IF(OR(COUNTRY_INFO!$U$9:$U$1000=\"T2 (PZQ)\",COUNTRY_INFO!$V$9:$V$1000=\"T2 (PZQ)\"), \"T2 (PZQ)\", \" \")","v":" "},null,null,null,null,0,null,null,null,0," "," "," "," ",{"$f":"COUNTRY_INFO!Y48","v":10788}]
[{"$f":"IF(COUNTRY_INFO!A49=0,\" \",COUNTRY_INFO!A49)","v":"Chad"},{"$f":"IF(COUNTRY_INFO!B49=0,\" \",COUNTRY_INFO!B49)","v":"Kanem"},{"$f":"IF(COUNTRY_INFO!C49=0,\" \",COUNTRY_INFO!C49)","v":"Mao"},{"$f":"IF(OR(COUNTRY_INFO!$U$9:$U$1000=\"T2 (PZQ)\",COUNTRY_INFO!$V$9:$V$1000=\"T2 (PZQ)\"), \"T2 (PZQ)\", \" \")","v":" "},0,null,0,null,0,null,0,null,0," "," "," "," ",{"$f":"COUNTRY_INFO!Y49","v":10687}]
[{"$f":"IF(COUNTRY_INFO!A50=0,\" \",COUNTRY_INFO!A50)","v":"Chad"},{"$f":"IF(COUNTRY_INFO!B50=0,\" \",COUNTRY_INFO!B50)","v":"Kanem"},{"$f":"IF(COUNTRY_INFO!C50=0,\" \",COUNTRY_INFO!C50)","v":"Mondo"},{"$f":"IF(OR(COUNTRY_INFO!$U$9:$U$1000=\"T2 (PZQ)\",COUNTRY_INFO!$V$9:$V$1000=\"T2 (PZQ)\"), \"T2 (PZQ)\", \" \")","v":" "},0,null,0,null,0,null,0,null,0," "," "," "," ",{"$f":"COUNTRY_INFO!Y50","v":10688}]
[{"$f":"IF(COUNTRY_INFO!A51=0,\" \",COUNTRY_INFO!A51)","v":"Chad"},{"$f":"IF(COUNTRY_INFO!B51=0,\" \",COUNTRY_INFO!B51)","v":"Kanem"},{"$f":"IF(COUNTRY_INFO!C51=0,\" \",COUNTRY_INFO!C51)","v":"Nokou"},{"$f":"IF(OR(COUNTRY_INFO!$U$9:$U$1000=\"T2 (PZQ)\",COUNTRY_INFO!$V$9:$V$1000=\"T2 (PZQ)\"), \"T2 (PZQ)\", \" \")","v":" "},0,null,0,null,0,null,0,null,0," "," "," "," ",{"$f":"COUNTRY_INFO!Y51","v":10689}]
[{"$f":"IF(COUNTRY_INFO!A52=0,\" \",COUNTRY_INFO!A52)","v":"Chad"},{"$f":"IF(COUNTRY_INFO!B52=0,\" \",COUNTRY_INFO!B52)","v":"Kanem"},{"$f":"IF(COUNTRY_INFO!C52=0,\" \",COUNTRY_INFO!C52)","v":"Ntiona"},{"$f":"IF(OR(COUNTRY_INFO!$U$9:$U$1000=\"T2 (PZQ)\",COUNTRY_INFO!$V$9:$V$1000=\"T2 (PZQ)\"), \"T2 (PZQ)\", \" \")","v":" "},0,null,0,null,0,null,0,null,0," "," "," "," ",{"$f":"COUNTRY_INFO!Y52","v":10764}]
[{"$f":"IF(COUNTRY_INFO!A53=0,\" \",COUNTRY_INFO!A53)","v":"Chad"},{"$f":"IF(COUNTRY_INFO!B53=0,\" \",COUNTRY_INFO!B53)","v":"Kanem"},{"$f":"IF(COUNTRY_INFO!C53=0,\" \",COUNTRY_INFO!C53)","v":"Rig-Rig"},{"$f":"IF(OR(COUNTRY_INFO!$U$9:$U$1000=\"T2 (PZQ)\",COUNTRY_INFO!$V$9:$V$1000=\"T2 (PZQ)\"), \"T2 (PZQ)\", \" \")","v":" "},0,null,0,null,0,null,0,null,0," "," "," "," ",{"$f":"COUNTRY_INFO!Y53","v":10690}]
[{"$f":"IF(COUNTRY_INFO!A54=0,\" \",COUNTRY_INFO!A54)","v":"Chad"},{"$f":"IF(COUNTRY_INFO!B54=0,\" \",COUNTRY_INFO!B54)","v":"Lac"},{"$f":"IF(COUNTRY_INFO!C54=0,\" \",COUNTRY_INFO!C54)","v":"Bagassola"},{"$f":"IF(OR(COUNTRY_INFO!$U$9:$U$1000=\"T2 (PZQ)\",COUNTRY_INFO!$V$9:$V$1000=\"T2 (PZQ)\"), \"T2 (PZQ)\", \" \")","v":" "},0,null,0,null,0,null,0,null,0," "," "," "," ",{"$f":"COUNTRY_INFO!Y54","v":10691}]
[{"$f":"IF(COUNTRY_INFO!A55=0,\" \",COUNTRY_INFO!A55)","v":"Chad"},{"$f":"IF(COUNTRY_INFO!B55=0,\" \",COUNTRY_INFO!B55)","v":"Lac"},{"$f":"IF(COUNTRY_INFO!C55=0,\" \",COUNTRY_INFO!C55)","v":"Bol"},{"$f":"IF(OR(COUNTRY_INFO!$U$9:$U$1000=\"T2 (PZQ)\",COUNTRY_INFO!$V$9:$V$1000=\"T2 (PZQ)\"), \"T2 (PZQ)\", \" \")","v":" "},0,null,0,null,0,null,0,null,0," "," "," "," ",{"$f":"COUNTRY_INFO!Y55","v":10692}]
[{"$f":"IF(COUNTRY_INFO!A56=0,\" \",COUNTRY_INFO!A56)","v":"Chad"},{"$f":"IF(COUNTRY_INFO!B56=0,\" \",COUNTRY_INFO!B56)","v":"Lac"},{"$f":"IF(COUNTRY_INFO!C56=0,\" \",COUNTRY_INFO!C56)","v":"Isserom"},{"$f":"IF(OR(COUNTRY_INFO!$U$9:$U$1000=\"T2 (PZQ)\",COUNTRY_INFO!$V$9:$V$1000=\"T2 (PZQ)\"), \"T2 (PZQ)\", \" \")","v":" "},0,null,0,null,0,null,0,null,0," "," "," "," ",{"$f":"COUNTRY_INFO!Y56","v":10749}]
[{"$f":"IF(COUNTRY_INFO!A57=0,\" \",COUNTRY_INFO!A57)","v":"Chad"},{"$f":"IF(COUNTRY_INFO!B57=0,\" \",COUNTRY_INFO!B57)","v":"Lac"},{"$f":"IF(COUNTRY_INFO!C57=0,\" \",COUNTRY_INFO!C57)","v":"Kouloudia"},{"$f":"IF(OR(COUNTRY_INFO!$U$9:$U$1000=\"T2 (PZQ)\",COUNTRY_INFO!$V$9:$V$1000=\"T2 (PZQ)\"), \"T2 (PZQ)\", \" \")","v":" "},0,null,0,null,0,null,0,null,0," "," "," "," ",{"$f":"COUNTRY_INFO!Y57","v":10693}]
[{"$f":"IF(COUNTRY_INFO!A58=0,\" \",COUNTRY_INFO!A58)","v":"Chad"},{"$f":"IF(COUNTRY_INFO!B58=0,\" \",COUNTRY_INFO!B58)","v":"Lac"},{"$f":"IF(COUNTRY_INFO!C58=0,\" \",COUNTRY_INFO!C58)","v":"Liwa"},{"$f":"IF(OR(COUNTRY_INFO!$U$9:$U$1000=\"T2 (PZQ)\",COUNTRY_INFO!$V$9:$V$1000=\"T2 (PZQ)\"), \"T2 (PZQ)\", \" \")","v":" "},0,null,0,null,0,null,0,null,0," "," "," "," ",{"$f":"COUNTRY_INFO!Y58","v":10694}]
[{"$f":"IF(COUNTRY_INFO!A59=0,\" \",COUNTRY_INFO!A59)","v":"Chad"},{"$f":"IF(COUNTRY_INFO!B59=0,\" \",COUNTRY_INFO!B59)","v":"Lac"},{"$f":"IF(COUNTRY_INFO!C59=0,\" \",COUNTRY_INFO!C59)","v":"Ngouri"},{"$f":"IF(OR(COUNTRY_INFO!$U$9:$U$1000=\"T2 (PZQ)\",COUNTRY_INFO!$V$9:$V$1000=\"T2 (PZQ)\"), \"T2 (PZQ)\", \" \")","v":" "},0,null,0,null,0,null,0,null,0," "," "," "," ",{"$f":"COUNTRY_INFO!Y59","v":10695}]
[{"$f":"IF(COUNTRY_INFO!A60=0,\" \",COUNTRY_INFO!A60)","v":"Chad"},{"$f":"IF(COUNTRY_INFO!B60=0,\" \",COUNTRY_INFO!B60)","v":"Logone Occidental"},{"$f":"IF(COUNTRY_INFO!C60=0,\" \",COUNTRY_INFO!C60)","v":"Benamar"},{"$f":"IF(OR(COUNTRY_INFO!$U$9:$U$1000=\"T2 (PZQ)\",COUNTRY_INFO!$V$9:$V$1000=\"T2 (PZQ)\"), \"T2 (PZQ)\", \" \")","v":"T2 (PZQ)"},"Fevrier 2022",null,42915,null,42915,null,40312,null,40312," ",93.934521728999187," ",93.934521728999187,{"$f":"COUNTRY_INFO!Y60","v":10765},{"$f":"G60/T60*100","v":100},{"$f":"COUNTRY_INFO!F60","v":42915},{"$f":"M60-T60","v":-2603}]
[{"$f":"IF(COUNTRY_INFO!A61=0,\" \",COUNTRY_INFO!A61)","v":"Chad"},{"$f":"IF(COUNTRY_INFO!B61=0,\" \",COUNTRY_INFO!B61)","v":"Logone Occidental"},{"$f":"IF(COUNTRY_INFO!C61=0,\" \",COUNTRY_INFO!C61)","v":"Benoye"},{"$f":"IF(OR(COUNTRY_INFO!$U$9:$U$1000=\"T2 (PZQ)\",COUNTRY_INFO!$V$9:$V$1000=\"T2 (PZQ)\"), \"T2 (PZQ)\", \" \")","v":"T2 (PZQ)"},"Fevrier 2022",null,81469,null,81469,null,74322,null,74322," ",91.227338005867267," ",91.227338005867267,{"$f":"COUNTRY_INFO!Y61","v":10696},{"$f":"G61/T61*100","v":104.13369975075095},{"$f":"COUNTRY_INFO!F61","v":78235},{"$f":"M61-T61","v":-3913}]
[{"$f":"IF(COUNTRY_INFO!A62=0,\" \",COUNTRY_INFO!A62)","v":"Chad"},{"$f":"IF(COUNTRY_INFO!B62=0,\" \",COUNTRY_INFO!B62)","v":"Logone Occidental"},{"$f":"IF(COUNTRY_INFO!C62=0,\" \",COUNTRY_INFO!C62)","v":"Laokassy"},{"$f":"IF(OR(COUNTRY_INFO!$U$9:$U$1000=\"T2 (PZQ)\",COUNTRY_INFO!$V$9:$V$1000=\"T2 (PZQ)\"), \"T2 (PZQ)\", \" \")","v":"T2 (PZQ)"},"Fevrier 2022",null,63114,null,63114,null,60123,null,60123," ",95.260956364673447," ",95.260956364673447,{"$f":"COUNTRY_INFO!Y62","v":10697},101.51025331724969,{"$f":"COUNTRY_INFO!F62","v":62175},-2052]
[{"$f":"IF(COUNTRY_INFO!A63=0,\" \",COUNTRY_INFO!A63)","v":"Chad"},{"$f":"IF(COUNTRY_INFO!B63=0,\" \",COUNTRY_INFO!B63)","v":"Logone Occidental"},{"$f":"IF(COUNTRY_INFO!C63=0,\" \",COUNTRY_INFO!C63)","v":"Moundou"},{"$f":"IF(OR(COUNTRY_INFO!$U$9:$U$1000=\"T2 (PZQ)\",COUNTRY_INFO!$V$9:$V$1000=\"T2 (PZQ)\"), \"T2 (PZQ)\", \" \")","v":"T2 (PZQ)"},"Fevrier 2022",null,108612,null,108612,null,24887,null,24887," ",22.913674363790374," ",22.913674363790374,{"$f":"COUNTRY_INFO!Y63","v":10698},104.57136255102826,{"$f":"COUNTRY_INFO!F63","v":103864},-78977]
[{"$f":"IF(COUNTRY_INFO!A64=0,\" \",COUNTRY_INFO!A64)","v":"Chad"},{"$f":"IF(COUNTRY_INFO!B64=0,\" \",COUNTRY_INFO!B64)","v":"Logone Orientlal"},{"$f":"IF(COUNTRY_INFO!C64=0,\" \",COUNTRY_INFO!C64)","v":"Baibokoum"},{"$f":"IF(OR(COUNTRY_INFO!$U$9:$U$1000=\"T2 (PZQ)\",COUNTRY_INFO!$V$9:$V$1000=\"T2 (PZQ)\"), \"T2 (PZQ)\", \" \")","v":"T2 (PZQ)"},"Fevrier 2022",null,23502,null,23502,null,20996,null,20996," ",89.337077695515276," ",89.337077695515276,{"$f":"COUNTRY_INFO!Y64","v":10766},85.55203669324014,{"$f":"COUNTRY_INFO!F64","v":27471},-6475]
[{"$f":"IF(COUNTRY_INFO!A65=0,\" \",COUNTRY_INFO!A65)","v":"Chad"},{"$f":"IF(COUNTRY_INFO!B65=0,\" \",COUNTRY_INFO!B65)","v":"Logone Orientlal"},{"$f":"IF(COUNTRY_INFO!C65=0,\" \",COUNTRY_INFO!C65)","v":"Bebedja"},{"$f":"IF(OR(COUNTRY_INFO!$U$9:$U$1000=\"T2 (PZQ)\",COUNTRY_INFO!$V$9:$V$1000=\"T2 (PZQ)\"), \"T2 (PZQ)\", \" \")","v":"T2 (PZQ)"},"Fevrier 2022",null,58660,null,58660,null,54395,null,54395," ",92.729287419024885," ",92.729287419024885,{"$f":"COUNTRY_INFO!Y65","v":10699},102.05111254153547,{"$f":"COUNTRY_INFO!F65","v":57481},-3086]
[{"$f":"IF(COUNTRY_INFO!A66=0,\" \",COUNTRY_INFO!A66)","v":"Chad"},{"$f":"IF(COUNTRY_INFO!B66=0,\" \",COUNTRY_INFO!B66)","v":"Logone Orientlal"},{"$f":"IF(COUNTRY_INFO!C66=0,\" \",COUNTRY_INFO!C66)","v":"Beboto"},{"$f":"IF(OR(COUNTRY_INFO!$U$9:$U$1000=\"T2 (PZQ)\",COUNTRY_INFO!$V$9:$V$1000=\"T2 (PZQ)\"), \"T2 (PZQ)\", \" \")","v":"T2 (PZQ)"},"Fevrier 2022",null,32418,null,32418,null,19679,null,19679," ",60.703929915479058," ",60.703929915479058,{"$f":"COUNTRY_INFO!Y66","v":10700},103.0615164520744,{"$f":"COUNTRY_INFO!F66","v":31455},-11776]
[{"$f":"IF(COUNTRY_INFO!A67=0,\" \",COUNTRY_INFO!A67)","v":"Chad"},{"$f":"IF(COUNTRY_INFO!B67=0,\" \",COUNTRY_INFO!B67)","v":"Logone Orientlal"},{"$f":"IF(COUNTRY_INFO!C67=0,\" \",COUNTRY_INFO!C67)","v":"Bessao"},{"$f":"IF(OR(COUNTRY_INFO!$U$9:$U$1000=\"T2 (PZQ)\",COUNTRY_INFO!$V$9:$V$1000=\"T2 (PZQ)\"), \"T2 (PZQ)\", \" \")","v":"T2 (PZQ)"},"Fevrier 2022",null,57294,null,57294,null,54990,null,54990," ",95.978636506440466," ",95.978636506440466,{"$f":"COUNTRY_INFO!Y67","v":10701},103.19152768272035,{"$f":"COUNTRY_INFO!F67","v":55522},-532]
[{"$f":"IF(COUNTRY_INFO!A68=0,\" \",COUNTRY_INFO!A68)","v":"Chad"},{"$f":"IF(COUNTRY_INFO!B68=0,\" \",COUNTRY_INFO!B68)","v":"Logone Orientlal"},{"$f":"IF(COUNTRY_INFO!C68=0,\" \",COUNTRY_INFO!C68)","v":"Bodo"},{"$f":"IF(OR(COUNTRY_INFO!$U$9:$U$1000=\"T2 (PZQ)\",COUNTRY_INFO!$V$9:$V$1000=\"T2 (PZQ)\"), \"T2 (PZQ)\", \" \")","v":"T2 (PZQ)"},"Fevrier 2022",null,48022,null,48022,null,42680,null,42680," ",88.875931864562077," ",88.875931864562077,{"$f":"COUNTRY_INFO!Y68","v":10702},100.45182613061121,{"$f":"COUNTRY_INFO!F68","v":47806},-5126]
[{"$f":"IF(COUNTRY_INFO!A69=0,\" \",COUNTRY_INFO!A69)","v":"Chad"},{"$f":"IF(COUNTRY_INFO!B69=0,\" \",COUNTRY_INFO!B69)","v":"Logone Orientlal"},{"$f":"IF(COUNTRY_INFO!C69=0,\" \",COUNTRY_INFO!C69)","v":"Doba"},{"$f":"IF(OR(COUNTRY_INFO!$U$9:$U$1000=\"T2 (PZQ)\",COUNTRY_INFO!$V$9:$V$1000=\"T2 (PZQ)\"), \"T2 (PZQ)\", \" \")","v":"T2 (PZQ)"},"Fevrier 2022",null,69829,null,69829,null,66417,null,66417," ",95.113777943261397," ",95.113777943261397,{"$f":"COUNTRY_INFO!Y69","v":10703},100,{"$f":"COUNTRY_INFO!F69","v":69829},-3412]
[{"$f":"IF(COUNTRY_INFO!A70=0,\" \",COUNTRY_INFO!A70)","v":"Chad"},{"$f":"IF(COUNTRY_INFO!B70=0,\" \",COUNTRY_INFO!B70)","v":"Logone Orientlal"},{"$f":"IF(COUNTRY_INFO!C70=0,\" \",COUNTRY_INFO!C70)","v":"DONIA"},{"$f":"IF(OR(COUNTRY_INFO!$U$9:$U$1000=\"T2 (PZQ)\",COUNTRY_INFO!$V$9:$V$1000=\"T2 (PZQ)\"), \"T2 (PZQ)\", \" \")","v":"T2 (PZQ)"},"Fevrier 2022",null,27641,null,27641,null,25782,null,25782," ",93.274483557034841," ",93.274483557034841,{"$f":"COUNTRY_INFO!Y70","v":10767},103.20737808976178,{"$f":"COUNTRY_INFO!F70","v":26782},-1000]
[{"$f":"IF(COUNTRY_INFO!A71=0,\" \",COUNTRY_INFO!A71)","v":"Chad"},{"$f":"IF(COUNTRY_INFO!B71=0,\" \",COUNTRY_INFO!B71)","v":"Logone Orientlal"},{"$f":"IF(COUNTRY_INFO!C71=0,\" \",COUNTRY_INFO!C71)","v":"Goré"},{"$f":"IF(OR(COUNTRY_INFO!$U$9:$U$1000=\"T2 (PZQ)\",COUNTRY_INFO!$V$9:$V$1000=\"T2 (PZQ)\"), \"T2 (PZQ)\", \" \")","v":"T2 (PZQ)"},"Fevrier 2022",null,52331,null,52331,null,46232,null,46232," ",88.345340238099794," ",88.345340238099794,{"$f":"COUNTRY_INFO!Y71","v":10704},101.8548795204173,{"$f":"COUNTRY_INFO!F71","v":51378},-5146]
[{"$f":"IF(COUNTRY_INFO!A72=0,\" \",COUNTRY_INFO!A72)","v":"Chad"},{"$f":"IF(COUNTRY_INFO!B72=0,\" \",COUNTRY_INFO!B72)","v":"Logone Orientlal"},{"$f":"IF(COUNTRY_INFO!C72=0,\" \",COUNTRY_INFO!C72)","v":"Kara"},{"$f":"IF(OR(COUNTRY_INFO!$U$9:$U$1000=\"T2 (PZQ)\",COUNTRY_INFO!$V$9:$V$1000=\"T2 (PZQ)\"), \"T2 (PZQ)\", \" \")","v":"T2 (PZQ)"},"Fevrier 2022",null,19956,null,19956,null,17544,null,17544," ",87.913409500901992," ",87.913409500901992,{"$f":"COUNTRY_INFO!Y72","v":10768},100,{"$f":"COUNTRY_INFO!F72","v":19956},-2412]
[{"$f":"IF(COUNTRY_INFO!A73=0,\" \",COUNTRY_INFO!A73)","v":"Chad"},{"$f":"IF(COUNTRY_INFO!B73=0,\" \",COUNTRY_INFO!B73)","v":"Logone Orientlal"},{"$f":"IF(COUNTRY_INFO!C73=0,\" \",COUNTRY_INFO!C73)","v":"Larmanaye"},{"$f":"IF(OR(COUNTRY_INFO!$U$9:$U$1000=\"T2 (PZQ)\",COUNTRY_INFO!$V$9:$V$1000=\"T2 (PZQ)\"), \"T2 (PZQ)\", \" \")","v":"T2 (PZQ)"},"Fevrier 2022",null,25608,null,25608,null,24651,null,24651," ",96.262886597938149," ",96.262886597938149,{"$f":"COUNTRY_INFO!Y73","v":10705},100,{"$f":"COUNTRY_INFO!F73","v":25608},-957]
[{"$f":"IF(COUNTRY_INFO!A74=0,\" \",COUNTRY_INFO!A74)","v":"Chad"},{"$f":"IF(COUNTRY_INFO!B74=0,\" \",COUNTRY_INFO!B74)","v":"Mandoul"},{"$f":"IF(COUNTRY_INFO!C74=0,\" \",COUNTRY_INFO!C74)","v":"Bedaya"},{"$f":"IF(OR(COUNTRY_INFO!$U$9:$U$1000=\"T2 (PZQ)\",COUNTRY_INFO!$V$9:$V$1000=\"T2 (PZQ)\"), \"T2 (PZQ)\", \" \")","v":" "},null,null,33123,null,{"$f":"SUM(F74:H74)","v":33123},null,32114,null,{"$f":"SUM(J74:L74)","v":32114},{"$f":"IF(F74<>0, IF(J74/F74*100=0, \"-\", J74/F74*100), \" \")","v":" "},{"$f":"IF(G74<>0, IF(K74/G74*100=0, \"-\", K74/G74*100), \" \")","v":96.953778341333816},{"$f":"IF(H74<>0, IF(L74/H74*100=0, \"-\", L74/H74*100), \" \")","v":" "},{"$f":"IF(I74<>0, IF(M74/I74*100=0, \"-\", M74/I74*100), \" \")","v":96.953778341333816},{"$f":"COUNTRY_INFO!Y74","v":10769}]
[{"$f":"IF(COUNTRY_INFO!A75=0,\" \",COUNTRY_INFO!A75)","v":"Chad"},{"$f":"IF(COUNTRY_INFO!B75=0,\" \",COUNTRY_INFO!B75)","v":"Mandoul"},{"$f":"IF(COUNTRY_INFO!C75=0,\" \",COUNTRY_INFO!C75)","v":"Bedjondo"},{"$f":"IF(OR(COUNTRY_INFO!$U$9:$U$1000=\"T2 (PZQ)\",COUNTRY_INFO!$V$9:$V$1000=\"T2 (PZQ)\"), \"T2 (PZQ)\", \" \")","v":" "},0,null,0,null,0,null,0,null,0," "," "," "," ",{"$f":"COUNTRY_INFO!Y75","v":10706}]
[{"$f":"IF(COUNTRY_INFO!A76=0,\" \",COUNTRY_INFO!A76)","v":"Chad"},{"$f":"IF(COUNTRY_INFO!B76=0,\" \",COUNTRY_INFO!B76)","v":"Mandoul"},{"$f":"IF(COUNTRY_INFO!C76=0,\" \",COUNTRY_INFO!C76)","v":"Bekourou"},{"$f":"IF(OR(COUNTRY_INFO!$U$9:$U$1000=\"T2 (PZQ)\",COUNTRY_INFO!$V$9:$V$1000=\"T2 (PZQ)\"), \"T2 (PZQ)\", \" \")","v":" "},0,null,0,null,0,null,0,null,0," "," "," "," ",{"$f":"COUNTRY_INFO!Y76","v":10770}]
[{"$f":"IF(COUNTRY_INFO!A77=0,\" \",COUNTRY_INFO!A77)","v":"Chad"},{"$f":"IF(COUNTRY_INFO!B77=0,\" \",COUNTRY_INFO!B77)","v":"Mandoul"},{"$f":"IF(COUNTRY_INFO!C77=0,\" \",COUNTRY_INFO!C77)","v":"Bouna"},{"$f":"IF(OR(COUNTRY_INFO!$U$9:$U$1000=\"T2 (PZQ)\",COUNTRY_INFO!$V$9:$V$1000=\"T2 (PZQ)\"), \"T2 (PZQ)\", \" \")","v":" "},0,null,0,null,0,null,0,null,0," "," "," "," ",{"$f":"COUNTRY_INFO!Y77","v":10707}]
[{"$f":"IF(COUNTRY_INFO!A78=0,\" \",COUNTRY_INFO!A78)","v":"Chad"},{"$f":"IF(COUNTRY_INFO!B78=0,\" \",COUNTRY_INFO!B78)","v":"Mandoul"},{"$f":"IF(COUNTRY_INFO!C78=0,\" \",COUNTRY_INFO!C78)","v":"Goundi"},{"$f":"IF(OR(COUNTRY_INFO!$U$9:$U$1000=\"T2 (PZQ)\",COUNTRY_INFO!$V$9:$V$1000=\"T2 (PZQ)\"), \"T2 (PZQ)\", \" \")","v":" "},0,null,0,null,0,null,0,null,0," "," "," "," ",{"$f":"COUNTRY_INFO!Y78","v":10708}]
[{"$f":"IF(COUNTRY_INFO!A79=0,\" \",COUNTRY_INFO!A79)","v":"Chad"},{"$f":"IF(COUNTRY_INFO!B79=0,\" \",COUNTRY_INFO!B79)","v":"Mandoul"},{"$f":"IF(COUNTRY_INFO!C79=0,\" \",COUNTRY_INFO!C79)","v":"Koumra"},{"$f":"IF(OR(COUNTRY_INFO!$U$9:$U$1000=\"T2 (PZQ)\",COUNTRY_INFO!$V$9:$V$1000=\"T2 (PZQ)\"), \"T2 (PZQ)\", \" \")","v":" "},null,null,0,null,0,null,0,null,0," "," "," "," ",{"$f":"COUNTRY_INFO!Y79","v":10709}]
[{"$f":"IF(COUNTRY_INFO!A80=0,\" \",COUNTRY_INFO!A80)","v":"Chad"},{"$f":"IF(COUNTRY_INFO!B80=0,\" \",COUNTRY_INFO!B80)","v":"Mandoul"},{"$f":"IF(COUNTRY_INFO!C80=0,\" \",COUNTRY_INFO!C80)","v":"Moissala"},{"$f":"IF(OR(COUNTRY_INFO!$U$9:$U$1000=\"T2 (PZQ)\",COUNTRY_INFO!$V$9:$V$1000=\"T2 (PZQ)\"), \"T2 (PZQ)\", \" \")","v":" "},0,null,0,null,0,null,0,null,0," "," "," "," ",{"$f":"COUNTRY_INFO!Y80","v":10710}]
[{"$f":"IF(COUNTRY_INFO!A81=0,\" \",COUNTRY_INFO!A81)","v":"Chad"},{"$f":"IF(COUNTRY_INFO!B81=0,\" \",COUNTRY_INFO!B81)","v":"Mayo Kebbi Est"},{"$f":"IF(COUNTRY_INFO!C81=0,\" \",COUNTRY_INFO!C81)","v":"Bongor"},{"$f":"IF(OR(COUNTRY_INFO!$U$9:$U$1000=\"T2 (PZQ)\",COUNTRY_INFO!$V$9:$V$1000=\"T2 (PZQ)\"), \"T2 (PZQ)\", \" \")","v":" "},0,null,0,null,0,null,0,null,0," "," "," "," ",{"$f":"COUNTRY_INFO!Y81","v":10753}]
[{"$f":"IF(COUNTRY_INFO!A82=0,\" \",COUNTRY_INFO!A82)","v":"Chad"},{"$f":"IF(COUNTRY_INFO!B82=0,\" \",COUNTRY_INFO!B82)","v":"Mayo Kebbi Est"},{"$f":"IF(COUNTRY_INFO!C82=0,\" \",COUNTRY_INFO!C82)","v":"Fianga"},{"$f":"IF(OR(COUNTRY_INFO!$U$9:$U$1000=\"T2 (PZQ)\",COUNTRY_INFO!$V$9:$V$1000=\"T2 (PZQ)\"), \"T2 (PZQ)\", \" \")","v":" "},0,null,0,null,0,null,0,null,0," "," "," "," ",{"$f":"COUNTRY_INFO!Y82","v":10712}]
[{"$f":"IF(COUNTRY_INFO!A83=0,\" \",COUNTRY_INFO!A83)","v":"Chad"},{"$f":"IF(COUNTRY_INFO!B83=0,\" \",COUNTRY_INFO!B83)","v":"Mayo Kebbi Est"},{"$f":"IF(COUNTRY_INFO!C83=0,\" \",COUNTRY_INFO!C83)","v":"Gounou Gaya"},{"$f":"IF(OR(COUNTRY_INFO!$U$9:$U$1000=\"T2 (PZQ)\",COUNTRY_INFO!$V$9:$V$1000=\"T2 (PZQ)\"), \"T2 (PZQ)\", \" \")","v":" "},0,null,0,null,0,null,0,null,0," "," "," "," ",{"$f":"COUNTRY_INFO!Y83","v":10713}]
[{"$f":"IF(COUNTRY_INFO!A84=0,\" \",COUNTRY_INFO!A84)","v":"Chad"},{"$f":"IF(COUNTRY_INFO!B84=0,\" \",COUNTRY_INFO!B84)","v":"Mayo Kebbi Est"},{"$f":"IF(COUNTRY_INFO!C84=0,\" \",COUNTRY_INFO!C84)","v":"Guelinding"},{"$f":"IF(OR(COUNTRY_INFO!$U$9:$U$1000=\"T2 (PZQ)\",COUNTRY_INFO!$V$9:$V$1000=\"T2 (PZQ)\"), \"T2 (PZQ)\", \" \")","v":"T2 (PZQ)"},"Fevrier 2022",null,28912,null,28912,null,29328,null,29328," ",101.43884892086331," ",101.43884892086331,{"$f":"COUNTRY_INFO!Y84","v":10714},{"$f":"G84/T84*100","v":104.10860249900975},{"$f":"COUNTRY_INFO!F84","v":27771},{"$f":"M84-T84","v":1557}]
[{"$f":"IF(COUNTRY_INFO!A85=0,\" \",COUNTRY_INFO!A85)","v":"Chad"},{"$f":"IF(COUNTRY_INFO!B85=0,\" \",COUNTRY_INFO!B85)","v":"Mayo Kebbi Est"},{"$f":"IF(COUNTRY_INFO!C85=0,\" \",COUNTRY_INFO!C85)","v":"Moulkou"},{"$f":"IF(OR(COUNTRY_INFO!$U$9:$U$1000=\"T2 (PZQ)\",COUNTRY_INFO!$V$9:$V$1000=\"T2 (PZQ)\"), \"T2 (PZQ)\", \" \")","v":"T2 (PZQ)"},"Fevrier 2022",null,38698,null,38698,null,37442,null,37442," ",96.754354230192774," ",96.754354230192774,{"$f":"COUNTRY_INFO!Y85","v":10750},100,{"$f":"COUNTRY_INFO!F85","v":38698},-1256]
[{"$f":"IF(COUNTRY_INFO!A86=0,\" \",COUNTRY_INFO!A86)","v":"Chad"},{"$f":"IF(COUNTRY_INFO!B86=0,\" \",COUNTRY_INFO!B86)","v":"Mayo Kebbi Est"},{"$f":"IF(COUNTRY_INFO!C86=0,\" \",COUNTRY_INFO!C86)","v":"Pont Carol"},{"$f":"IF(OR(COUNTRY_INFO!$U$9:$U$1000=\"T2 (PZQ)\",COUNTRY_INFO!$V$9:$V$1000=\"T2 (PZQ)\"), \"T2 (PZQ)\", \" \")","v":" "},0,null,0,null,0,null,0,null,0," "," "," "," ",{"$f":"COUNTRY_INFO!Y86","v":10751}]
[{"$f":"IF(COUNTRY_INFO!A87=0,\" \",COUNTRY_INFO!A87)","v":"Chad"},{"$f":"IF(COUNTRY_INFO!B87=0,\" \",COUNTRY_INFO!B87)","v":"Mayo Kebbi Est"},{"$f":"IF(COUNTRY_INFO!C87=0,\" \",COUNTRY_INFO!C87)","v":"Youé"},{"$f":"IF(OR(COUNTRY_INFO!$U$9:$U$1000=\"T2 (PZQ)\",COUNTRY_INFO!$V$9:$V$1000=\"T2 (PZQ)\"), \"T2 (PZQ)\", \" \")","v":" "},0,null,0,null,0,null,0,null,0," "," "," "," ",{"$f":"COUNTRY_INFO!Y87","v":10752}]
[{"$f":"IF(COUNTRY_INFO!A88=0,\" \",COUNTRY_INFO!A88)","v":"Chad"},{"$f":"IF(COUNTRY_INFO!B88=0,\" \",COUNTRY_INFO!B88)","v":"Mayo Kebbi Ouest"},{"$f":"IF(COUNTRY_INFO!C88=0,\" \",COUNTRY_INFO!C88)","v":"Binder"},{"$f":"IF(OR(COUNTRY_INFO!$U$9:$U$1000=\"T2 (PZQ)\",COUNTRY_INFO!$V$9:$V$1000=\"T2 (PZQ)\"), \"T2 (PZQ)\", \" \")","v":" "},0,null,0,null,0,null,0,null,0," "," "," "," ",{"$f":"COUNTRY_INFO!Y88","v":10754}]
[{"$f":"IF(COUNTRY_INFO!A89=0,\" \",COUNTRY_INFO!A89)","v":"Chad"},{"$f":"IF(COUNTRY_INFO!B89=0,\" \",COUNTRY_INFO!B89)","v":"Mayo Kebbi Ouest"},{"$f":"IF(COUNTRY_INFO!C89=0,\" \",COUNTRY_INFO!C89)","v":"Gagal"},{"$f":"IF(OR(COUNTRY_INFO!$U$9:$U$1000=\"T2 (PZQ)\",COUNTRY_INFO!$V$9:$V$1000=\"T2 (PZQ)\"), \"T2 (PZQ)\", \" \")","v":" "},0,null,0,null,0,null,0,null,0," "," "," "," ",{"$f":"COUNTRY_INFO!Y89","v":10755}]
[{"$f":"IF(COUNTRY_INFO!A90=0,\" \",COUNTRY_INFO!A90)","v":"Chad"},{"$f":"IF(COUNTRY_INFO!B90=0,\" \",COUNTRY_INFO!B90)","v":"Mayo Kebbi Ouest"},{"$f":"IF(COUNTRY_INFO!C90=0,\" \",COUNTRY_INFO!C90)","v":"Guegou"},{"$f":"IF(OR(COUNTRY_INFO!$U$9:$U$1000=\"T2 (PZQ)\",COUNTRY_INFO!$V$9:$V$1000=\"T2 (PZQ)\"), \"T2 (PZQ)\", \" \")","v":" "},0,null,0,null,0,null,0,null,0," "," "," "," ",{"$f":"COUNTRY_INFO!Y90","v":10771}]
[{"$f":"IF(COUNTRY_INFO!A91=0,\" \",COUNTRY_INFO!A91)","v":"Chad"},{"$f":"IF(COUNTRY_INFO!B91=0,\" \",COUNTRY_INFO!B91)","v":"Mayo Kebbi Ouest"},{"$f":"IF(COUNTRY_INFO!C91=0,\" \",COUNTRY_INFO!C91)","v":"GUELO"},{"$f":"IF(OR(COUNTRY_INFO!$U$9:$U$1000=\"T2 (PZQ)\",COUNTRY_INFO!$V$9:$V$1000=\"T2 (PZQ)\"), \"T2 (PZQ)\", \" \")","v":" "},0,null,0,null,0,null,0,null,0," "," "," "," ",{"$f":"COUNTRY_INFO!Y91","v":10772}]
[{"$f":"IF(COUNTRY_INFO!A92=0,\" \",COUNTRY_INFO!A92)","v":"Chad"},{"$f":"IF(COUNTRY_INFO!B92=0,\" \",COUNTRY_INFO!B92)","v":"Mayo Kebbi Ouest"},{"$f":"IF(COUNTRY_INFO!C92=0,\" \",COUNTRY_INFO!C92)","v":"Lagon"},{"$f":"IF(OR(COUNTRY_INFO!$U$9:$U$1000=\"T2 (PZQ)\",COUNTRY_INFO!$V$9:$V$1000=\"T2 (PZQ)\"), \"T2 (PZQ)\", \" \")","v":" "},0,null,0,null,0,null,0,null,0," "," "," "," ",{"$f":"COUNTRY_INFO!Y92","v":10756}]
[{"$f":"IF(COUNTRY_INFO!A93=0,\" \",COUNTRY_INFO!A93)","v":"Chad"},{"$f":"IF(COUNTRY_INFO!B93=0,\" \",COUNTRY_INFO!B93)","v":"Mayo Kebbi Ouest"},{"$f":"IF(COUNTRY_INFO!C93=0,\" \",COUNTRY_INFO!C93)","v":"Lamé"},{"$f":"IF(OR(COUNTRY_INFO!$U$9:$U$1000=\"T2 (PZQ)\",COUNTRY_INFO!$V$9:$V$1000=\"T2 (PZQ)\"), \"T2 (PZQ)\", \" \")","v":" "},0,null,0,null,0,null,0,null,0," "," "," "," ",{"$f":"COUNTRY_INFO!Y93","v":10757}]
[{"$f":"IF(COUNTRY_INFO!A94=0,\" \",COUNTRY_INFO!A94)","v":"Chad"},{"$f":"IF(COUNTRY_INFO!B94=0,\" \",COUNTRY_INFO!B94)","v":"Mayo Kebbi Ouest"},{"$f":"IF(COUNTRY_INFO!C94=0,\" \",COUNTRY_INFO!C94)","v":"Lere"},{"$f":"IF(OR(COUNTRY_INFO!$U$9:$U$1000=\"T2 (PZQ)\",COUNTRY_INFO!$V$9:$V$1000=\"T2 (PZQ)\"), \"T2 (PZQ)\", \" \")","v":" "},0,null,0,null,0,null,0,null,0," "," "," "," ",{"$f":"COUNTRY_INFO!Y94","v":10715}]
[{"$f":"IF(COUNTRY_INFO!A95=0,\" \",COUNTRY_INFO!A95)","v":"Chad"},{"$f":"IF(COUNTRY_INFO!B95=0,\" \",COUNTRY_INFO!B95)","v":"Mayo Kebbi Ouest"},{"$f":"IF(COUNTRY_INFO!C95=0,\" \",COUNTRY_INFO!C95)","v":"Pala"},{"$f":"IF(OR(COUNTRY_INFO!$U$9:$U$1000=\"T2 (PZQ)\",COUNTRY_INFO!$V$9:$V$1000=\"T2 (PZQ)\"), \"T2 (PZQ)\", \" \")","v":" "},0,null,0,null,0,null,0,null,0," "," "," "," ",{"$f":"COUNTRY_INFO!Y95","v":10716}]
[{"$f":"IF(COUNTRY_INFO!A96=0,\" \",COUNTRY_INFO!A96)","v":"Chad"},{"$f":"IF(COUNTRY_INFO!B96=0,\" \",COUNTRY_INFO!B96)","v":"Mayo Kebbi Ouest"},{"$f":"IF(COUNTRY_INFO!C96=0,\" \",COUNTRY_INFO!C96)","v":"Torrock"},{"$f":"IF(OR(COUNTRY_INFO!$U$9:$U$1000=\"T2 (PZQ)\",COUNTRY_INFO!$V$9:$V$1000=\"T2 (PZQ)\"), \"T2 (PZQ)\", \" \")","v":" "},0,null,0,null,0,null,0,null,0," "," "," "," ",{"$f":"COUNTRY_INFO!Y96","v":10758}]
[{"$f":"IF(COUNTRY_INFO!A97=0,\" \",COUNTRY_INFO!A97)","v":"Chad"},{"$f":"IF(COUNTRY_INFO!B97=0,\" \",COUNTRY_INFO!B97)","v":"Moyen Chari"},{"$f":"IF(COUNTRY_INFO!C97=0,\" \",COUNTRY_INFO!C97)","v":"Balimba"},{"$f":"IF(OR(COUNTRY_INFO!$U$9:$U$1000=\"T2 (PZQ)\",COUNTRY_INFO!$V$9:$V$1000=\"T2 (PZQ)\"), \"T2 (PZQ)\", \" \")","v":"T2 (PZQ)"},"Fevrier 2022",null,26113,null,26113,null,25741,null,25741," ",98.575422203500167," ",98.575422203500167,{"$f":"COUNTRY_INFO!Y97","v":10780},{"$f":"G97/T97*100","v":100.99787275188552},{"$f":"COUNTRY_INFO!F97","v":25855},{"$f":"M97-T97","v":-114}]
[{"$f":"IF(COUNTRY_INFO!A98=0,\" \",COUNTRY_INFO!A98)","v":"Chad"},{"$f":"IF(COUNTRY_INFO!B98=0,\" \",COUNTRY_INFO!B98)","v":"Moyen Chari"},{"$f":"IF(COUNTRY_INFO!C98=0,\" \",COUNTRY_INFO!C98)","v":"Biobe Singako"},{"$f":"IF(OR(COUNTRY_INFO!$U$9:$U$1000=\"T2 (PZQ)\",COUNTRY_INFO!$V$9:$V$1000=\"T2 (PZQ)\"), \"T2 (PZQ)\", \" \")","v":"T2 (PZQ)"},"Fevrier 2022",null,27910,null,27910,null,26008,null,26008," ",93.185238265854537," ",93.185238265854537,{"$f":"COUNTRY_INFO!Y98","v":10717},100,{"$f":"COUNTRY_INFO!F98","v":27910},-1902,{"$f":"U98/T98*100","v":-6.8147617341454678}]
[{"$f":"IF(COUNTRY_INFO!A99=0,\" \",COUNTRY_INFO!A99)","v":"Chad"},{"$f":"IF(COUNTRY_INFO!B99=0,\" \",COUNTRY_INFO!B99)","v":"Moyen Chari"},{"$f":"IF(COUNTRY_INFO!C99=0,\" \",COUNTRY_INFO!C99)","v":"Danamadji"},{"$f":"IF(OR(COUNTRY_INFO!$U$9:$U$1000=\"T2 (PZQ)\",COUNTRY_INFO!$V$9:$V$1000=\"T2 (PZQ)\"), \"T2 (PZQ)\", \" \")","v":"T2 (PZQ)"},"Fevrier 2022",null,61223,null,61223,null,60235,null,60235," ",98.38622739820002," ",98.38622739820002,{"$f":"COUNTRY_INFO!Y99","v":10718},100,{"$f":"COUNTRY_INFO!F99","v":61223},-988,{"$f":"U99/T99*100","v":-1.6137726017999769}]
[{"$f":"IF(COUNTRY_INFO!A100=0,\" \",COUNTRY_INFO!A100)","v":"Chad"},{"$f":"IF(COUNTRY_INFO!B100=0,\" \",COUNTRY_INFO!B100)","v":"Moyen Chari"},{"$f":"IF(COUNTRY_INFO!C100=0,\" \",COUNTRY_INFO!C100)","v":"Korbol"},{"$f":"IF(OR(COUNTRY_INFO!$U$9:$U$1000=\"T2 (PZQ)\",COUNTRY_INFO!$V$9:$V$1000=\"T2 (PZQ)\"), \"T2 (PZQ)\", \" \")","v":"T2 (PZQ)"},"Fevrier 2022",null,46071,null,46071,null,45632,null,45632," ",99.047122918972889," ",99.047122918972889,{"$f":"COUNTRY_INFO!Y100","v":10773},100,{"$f":"COUNTRY_INFO!F100","v":46071},-439]
[{"$f":"IF(COUNTRY_INFO!A101=0,\" \",COUNTRY_INFO!A101)","v":"Chad"},{"$f":"IF(COUNTRY_INFO!B101=0,\" \",COUNTRY_INFO!B101)","v":"Moyen Chari"},{"$f":"IF(COUNTRY_INFO!C101=0,\" \",COUNTRY_INFO!C101)","v":"Koumogo"},{"$f":"IF(OR(COUNTRY_INFO!$U$9:$U$1000=\"T2 (PZQ)\",COUNTRY_INFO!$V$9:$V$1000=\"T2 (PZQ)\"), \"T2 (PZQ)\", \" \")","v":"T2 (PZQ)"},"Fevrier 2022",null,33102,null,33102,null,31004,null,31004," ",93.662014379795792," ",93.662014379795792,{"$f":"COUNTRY_INFO!Y101","v":10781},101.16438984138627,{"$f":"COUNTRY_INFO!F101","v":32721},-1717]
[{"$f":"IF(COUNTRY_INFO!A102=0,\" \",COUNTRY_INFO!A102)","v":"Chad"},{"$f":"IF(COUNTRY_INFO!B102=0,\" \",COUNTRY_INFO!B102)","v":"Moyen Chari"},{"$f":"IF(COUNTRY_INFO!C102=0,\" \",COUNTRY_INFO!C102)","v":"Kyabe"},{"$f":"IF(OR(COUNTRY_INFO!$U$9:$U$1000=\"T2 (PZQ)\",COUNTRY_INFO!$V$9:$V$1000=\"T2 (PZQ)\"), \"T2 (PZQ)\", \" \")","v":"T2 (PZQ)"},"Fevrier 2022",null,38917,null,38917,null,37142,null,37142," ",95.439011229025866," ",95.439011229025866,{"$f":"COUNTRY_INFO!Y102","v":10719},103.10777871979653,{"$f":"COUNTRY_INFO!F102","v":37744},-602,{"$f":"U102/T102*100","v":-1.5949554896142433}]
[{"$f":"IF(COUNTRY_INFO!A103=0,\" \",COUNTRY_INFO!A103)","v":"Chad"},{"$f":"IF(COUNTRY_INFO!B103=0,\" \",COUNTRY_INFO!B103)","v":"Moyen Chari"},{"$f":"IF(COUNTRY_INFO!C103=0,\" \",COUNTRY_INFO!C103)","v":"Maro"},{"$f":"IF(OR(COUNTRY_INFO!$U$9:$U$1000=\"T2 (PZQ)\",COUNTRY_INFO!$V$9:$V$1000=\"T2 (PZQ)\"), \"T2 (PZQ)\", \" \")","v":"T2 (PZQ)"},"Fevrier 2022",null,81181,null,81181,null,80023,null,80023," ",98.57355785220679," ",98.57355785220679,{"$f":"COUNTRY_INFO!Y103","v":10774},100,{"$f":"COUNTRY_INFO!F103","v":81181},-1158,-1.4264421477932028]
[{"$f":"IF(COUNTRY_INFO!A104=0,\" \",COUNTRY_INFO!A104)","v":"Chad"},{"$f":"IF(COUNTRY_INFO!B104=0,\" \",COUNTRY_INFO!B104)","v":"Moyen Chari"},{"$f":"IF(COUNTRY_INFO!C104=0,\" \",COUNTRY_INFO!C104)","v":"Sarh"},{"$f":"IF(OR(COUNTRY_INFO!$U$9:$U$1000=\"T2 (PZQ)\",COUNTRY_INFO!$V$9:$V$1000=\"T2 (PZQ)\"), \"T2 (PZQ)\", \" \")","v":"T2 (PZQ)"},"Fevrier 2022",null,61973,null,61973,null,60087,null,60087," ",96.956739225146436," ",96.956739225146436,{"$f":"COUNTRY_INFO!Y104","v":10720},100,{"$f":"COUNTRY_INFO!F104","v":61973},-1886]
[{"$f":"IF(COUNTRY_INFO!A105=0,\" \",COUNTRY_INFO!A105)","v":"Chad"},{"$f":"IF(COUNTRY_INFO!B105=0,\" \",COUNTRY_INFO!B105)","v":"N'Djaména"},{"$f":"IF(COUNTRY_INFO!C105=0,\" \",COUNTRY_INFO!C105)","v":"N'Djaména Centre"},{"$f":"IF(OR(COUNTRY_INFO!$U$9:$U$1000=\"T2 (PZQ)\",COUNTRY_INFO!$V$9:$V$1000=\"T2 (PZQ)\"), \"T2 (PZQ)\", \" \")","v":" "},0,null,0,null,0,null,0,null,0," "," "," "," ",{"$f":"COUNTRY_INFO!Y105","v":10721}]
[{"$f":"IF(COUNTRY_INFO!A106=0,\" \",COUNTRY_INFO!A106)","v":"Chad"},{"$f":"IF(COUNTRY_INFO!B106=0,\" \",COUNTRY_INFO!B106)","v":"N'Djaména"},{"$f":"IF(COUNTRY_INFO!C106=0,\" \",COUNTRY_INFO!C106)","v":"N'Djaména Est"},{"$f":"IF(OR(COUNTRY_INFO!$U$9:$U$1000=\"T2 (PZQ)\",COUNTRY_INFO!$V$9:$V$1000=\"T2 (PZQ)\"), \"T2 (PZQ)\", \" \")","v":" "},0,null,0,null,0,null,0,null,0," "," "," "," ",{"$f":"COUNTRY_INFO!Y106","v":10722}]
[{"$f":"IF(COUNTRY_INFO!A107=0,\" \",COUNTRY_INFO!A107)","v":"Chad"},{"$f":"IF(COUNTRY_INFO!B107=0,\" \",COUNTRY_INFO!B107)","v":"N'Djaména"},{"$f":"IF(COUNTRY_INFO!C107=0,\" \",COUNTRY_INFO!C107)","v":"N'Djaména Nord"},{"$f":"IF(OR(COUNTRY_INFO!$U$9:$U$1000=\"T2 (PZQ)\",COUNTRY_INFO!$V$9:$V$1000=\"T2 (PZQ)\"), \"T2 (PZQ)\", \" \")","v":" "},0,null,0,null,0,null,0,null,0," "," "," "," ",{"$f":"COUNTRY_INFO!Y107","v":10723}]
[{"$f":"IF(COUNTRY_INFO!A108=0,\" \",COUNTRY_INFO!A108)","v":"Chad"},{"$f":"IF(COUNTRY_INFO!B108=0,\" \",COUNTRY_INFO!B108)","v":"N'Djaména"},{"$f":"IF(COUNTRY_INFO!C108=0,\" \",COUNTRY_INFO!C108)","v":"N'Djaména Sud"},{"$f":"IF(OR(COUNTRY_INFO!$U$9:$U$1000=\"T2 (PZQ)\",COUNTRY_INFO!$V$9:$V$1000=\"T2 (PZQ)\"), \"T2 (PZQ)\", \" \")","v":" "},0,null,0,null,0,null,0,null,0," "," "," "," ",{"$f":"COUNTRY_INFO!Y108","v":10724}]
[{"$f":"IF(COUNTRY_INFO!A109=0,\" \",COUNTRY_INFO!A109)","v":"Chad"},{"$f":"IF(COUNTRY_INFO!B109=0,\" \",COUNTRY_INFO!B109)","v":"N'Djamena"},{"$f":"IF(COUNTRY_INFO!C109=0,\" \",COUNTRY_INFO!C109)","v":"9eme Arrondissement"},{"$f":"IF(OR(COUNTRY_INFO!$U$9:$U$1000=\"T2 (PZQ)\",COUNTRY_INFO!$V$9:$V$1000=\"T2 (PZQ)\"), \"T2 (PZQ)\", \" \")","v":" "},null,null,null,null,0,null,null,null,0," "," "," "," ",{"$f":"COUNTRY_INFO!Y109","v":10789}]
[{"$f":"IF(COUNTRY_INFO!A110=0,\" \",COUNTRY_INFO!A110)","v":"Chad"},{"$f":"IF(COUNTRY_INFO!B110=0,\" \",COUNTRY_INFO!B110)","v":"Ouaddai"},{"$f":"IF(COUNTRY_INFO!C110=0,\" \",COUNTRY_INFO!C110)","v":"Abdi"},{"$f":"IF(OR(COUNTRY_INFO!$U$9:$U$1000=\"T2 (PZQ)\",COUNTRY_INFO!$V$9:$V$1000=\"T2 (PZQ)\"), \"T2 (PZQ)\", \" \")","v":" "},0,null,0,null,0,null,0,null,0," "," "," "," ",{"$f":"COUNTRY_INFO!Y110","v":10727}]
[{"$f":"IF(COUNTRY_INFO!A111=0,\" \",COUNTRY_INFO!A111)","v":"Chad"},{"$f":"IF(COUNTRY_INFO!B111=0,\" \",COUNTRY_INFO!B111)","v":"Ouaddai"},{"$f":"IF(COUNTRY_INFO!C111=0,\" \",COUNTRY_INFO!C111)","v":"Abeche"},{"$f":"IF(OR(COUNTRY_INFO!$U$9:$U$1000=\"T2 (PZQ)\",COUNTRY_INFO!$V$9:$V$1000=\"T2 (PZQ)\"), \"T2 (PZQ)\", \" \")","v":" "},0,null,0,null,0,null,0,null,0," "," "," "," ",{"$f":"COUNTRY_INFO!Y111","v":10728}]
[{"$f":"IF(COUNTRY_INFO!A112=0,\" \",COUNTRY_INFO!A112)","v":"Chad"},{"$f":"IF(COUNTRY_INFO!B112=0,\" \",COUNTRY_INFO!B112)","v":"Ouaddai"},{"$f":"IF(COUNTRY_INFO!C112=0,\" \",COUNTRY_INFO!C112)","v":"Abougoudam"},{"$f":"IF(OR(COUNTRY_INFO!$U$9:$U$1000=\"T2 (PZQ)\",COUNTRY_INFO!$V$9:$V$1000=\"T2 (PZQ)\"), \"T2 (PZQ)\", \" \")","v":" "},0,null,0,null,0,null,0,null,0," "," "," "," ",{"$f":"COUNTRY_INFO!Y112","v":10729}]
[{"$f":"IF(COUNTRY_INFO!A113=0,\" \",COUNTRY_INFO!A113)","v":"Chad"},{"$f":"IF(COUNTRY_INFO!B113=0,\" \",COUNTRY_INFO!B113)","v":"Ouaddai"},{"$f":"IF(COUNTRY_INFO!C113=0,\" \",COUNTRY_INFO!C113)","v":"Adré"},{"$f":"IF(OR(COUNTRY_INFO!$U$9:$U$1000=\"T2 (PZQ)\",COUNTRY_INFO!$V$9:$V$1000=\"T2 (PZQ)\"), \"T2 (PZQ)\", \" \")","v":" "},0,null,0,null,0,null,0,null,0," "," "," "," ",{"$f":"COUNTRY_INFO!Y113","v":10730}]
[{"$f":"IF(COUNTRY_INFO!A114=0,\" \",COUNTRY_INFO!A114)","v":"Chad"},{"$f":"IF(COUNTRY_INFO!B114=0,\" \",COUNTRY_INFO!B114)","v":"Salamat"},{"$f":"IF(COUNTRY_INFO!C114=0,\" \",COUNTRY_INFO!C114)","v":"Aboudeia"},{"$f":"IF(OR(COUNTRY_INFO!$U$9:$U$1000=\"T2 (PZQ)\",COUNTRY_INFO!$V$9:$V$1000=\"T2 (PZQ)\"), \"T2 (PZQ)\", \" \")","v":" "},0,null,0,null,0,null,0,null,0," "," "," "," ",{"$f":"COUNTRY_INFO!Y114","v":10731}]
[{"$f":"IF(COUNTRY_INFO!A115=0,\" \",COUNTRY_INFO!A115)","v":"Chad"},{"$f":"IF(COUNTRY_INFO!B115=0,\" \",COUNTRY_INFO!B115)","v":"Salamat"},{"$f":"IF(COUNTRY_INFO!C115=0,\" \",COUNTRY_INFO!C115)","v":"Am-Timan"},{"$f":"IF(OR(COUNTRY_INFO!$U$9:$U$1000=\"T2 (PZQ)\",COUNTRY_INFO!$V$9:$V$1000=\"T2 (PZQ)\"), \"T2 (PZQ)\", \" \")","v":" "},0,null,0,null,0,null,0,null,0," "," "," "," ",{"$f":"COUNTRY_INFO!Y115","v":10732}]
[{"$f":"IF(COUNTRY_INFO!A116=0,\" \",COUNTRY_INFO!A116)","v":"Chad"},{"$f":"IF(COUNTRY_INFO!B116=0,\" \",COUNTRY_INFO!B116)","v":"Salamat"},{"$f":"IF(COUNTRY_INFO!C116=0,\" \",COUNTRY_INFO!C116)","v":"Haraze"},{"$f":"IF(OR(COUNTRY_INFO!$U$9:$U$1000=\"T2 (PZQ)\",COUNTRY_INFO!$V$9:$V$1000=\"T2 (PZQ)\"), \"T2 (PZQ)\", \" \")","v":" "},0,null,0,null,0,null,0,null,0," "," "," "," ",{"$f":"COUNTRY_INFO!Y116","v":10733}]
[{"$f":"IF(COUNTRY_INFO!A117=0,\" \",COUNTRY_INFO!A117)","v":"Chad"},{"$f":"IF(COUNTRY_INFO!B117=0,\" \",COUNTRY_INFO!B117)","v":"Sila"},{"$f":"IF(COUNTRY_INFO!C117=0,\" \",COUNTRY_INFO!C117)","v":"Am-dam"},{"$f":"IF(OR(COUNTRY_INFO!$U$9:$U$1000=\"T2 (PZQ)\",COUNTRY_INFO!$V$9:$V$1000=\"T2 (PZQ)\"), \"T2 (PZQ)\", \" \")","v":" "},0,null,0,null,0,null,0,null,0," "," "," "," ",{"$f":"COUNTRY_INFO!Y117","v":10725}]
[{"$f":"IF(COUNTRY_INFO!A118=0,\" \",COUNTRY_INFO!A118)","v":"Chad"},{"$f":"IF(COUNTRY_INFO!B118=0,\" \",COUNTRY_INFO!B118)","v":"Sila"},{"$f":"IF(COUNTRY_INFO!C118=0,\" \",COUNTRY_INFO!C118)","v":"Goz-beida"},{"$f":"IF(OR(COUNTRY_INFO!$U$9:$U$1000=\"T2 (PZQ)\",COUNTRY_INFO!$V$9:$V$1000=\"T2 (PZQ)\"), \"T2 (PZQ)\", \" \")","v":" "},0,null,0,null,0,null,0,null,0," "," "," "," ",{"$f":"COUNTRY_INFO!Y118","v":10726}]
[{"$f":"IF(COUNTRY_INFO!A119=0,\" \",COUNTRY_INFO!A119)","v":"Chad"},{"$f":"IF(COUNTRY_INFO!B119=0,\" \",COUNTRY_INFO!B119)","v":"Sila"},{"$f":"IF(COUNTRY_INFO!C119=0,\" \",COUNTRY_INFO!C119)","v":"Koukou"},{"$f":"IF(OR(COUNTRY_INFO!$U$9:$U$1000=\"T2 (PZQ)\",COUNTRY_INFO!$V$9:$V$1000=\"T2 (PZQ)\"), \"T2 (PZQ)\", \" \")","v":" "},0,null,0,null,0,null,0,null,0," "," "," "," ",{"$f":"COUNTRY_INFO!Y119","v":10673}]
[{"$f":"IF(COUNTRY_INFO!A120=0,\" \",COUNTRY_INFO!A120)","v":"Chad"},{"$f":"IF(COUNTRY_INFO!B120=0,\" \",COUNTRY_INFO!B120)","v":"Sila"},{"$f":"IF(COUNTRY_INFO!C120=0,\" \",COUNTRY_INFO!C120)","v":"Tissi"},{"$f":"IF(OR(COUNTRY_INFO!$U$9:$U$1000=\"T2 (PZQ)\",COUNTRY_INFO!$V$9:$V$1000=\"T2 (PZQ)\"), \"T2 (PZQ)\", \" \")","v":" "},0,null,0,null,0,null,0,null,0," "," "," "," ",{"$f":"COUNTRY_INFO!Y120","v":10674}]
[{"$f":"IF(COUNTRY_INFO!A121=0,\" \",COUNTRY_INFO!A121)","v":"Chad"},{"$f":"IF(COUNTRY_INFO!B121=0,\" \",COUNTRY_INFO!B121)","v":"Tandjile"},{"$f":"IF(COUNTRY_INFO!C121=0,\" \",COUNTRY_INFO!C121)","v":"Batchoro"},{"$f":"IF(OR(COUNTRY_INFO!$U$9:$U$1000=\"T2 (PZQ)\",COUNTRY_INFO!$V$9:$V$1000=\"T2 (PZQ)\"), \"T2 (PZQ)\", \" \")","v":"T2 (PZQ)"},"Fevrier 2022",null,30835,null,30835,null,28874,null,28874," ",93.640343765201877," ",93.640343765201877,{"$f":"COUNTRY_INFO!Y121","v":10775},{"$f":"G121/T121*100","v":100},{"$f":"COUNTRY_INFO!F121","v":30835},{"$f":"M121-T121","v":-1961}]
[{"$f":"IF(COUNTRY_INFO!A122=0,\" \",COUNTRY_INFO!A122)","v":"Chad"},{"$f":"IF(COUNTRY_INFO!B122=0,\" \",COUNTRY_INFO!B122)","v":"Tandjile"},{"$f":"IF(COUNTRY_INFO!C122=0,\" \",COUNTRY_INFO!C122)","v":"Bere"},{"$f":"IF(OR(COUNTRY_INFO!$U$9:$U$1000=\"T2 (PZQ)\",COUNTRY_INFO!$V$9:$V$1000=\"T2 (PZQ)\"), \"T2 (PZQ)\", \" \")","v":"T2 (PZQ)"},"Fevrier 2022",null,54254,null,54254,null,53211,null,53211," ",98.0775611014856," ",98.0775611014856,{"$f":"COUNTRY_INFO!Y122","v":10734},100,{"$f":"COUNTRY_INFO!F122","v":54254},-1043]
[{"$f":"IF(COUNTRY_INFO!A123=0,\" \",COUNTRY_INFO!A123)","v":"Chad"},{"$f":"IF(COUNTRY_INFO!B123=0,\" \",COUNTRY_INFO!B123)","v":"Tandjile"},{"$f":"IF(COUNTRY_INFO!C123=0,\" \",COUNTRY_INFO!C123)","v":"Bologo"},{"$f":"IF(OR(COUNTRY_INFO!$U$9:$U$1000=\"T2 (PZQ)\",COUNTRY_INFO!$V$9:$V$1000=\"T2 (PZQ)\"), \"T2 (PZQ)\", \" \")","v":"T2 (PZQ)"},"Fevrier 2022",null,17204,null,17204,null,16812,null,16812," ",97.721460125552198," ",97.721460125552198,{"$f":"COUNTRY_INFO!Y123","v":10790},100,{"$f":"COUNTRY_INFO!F123","v":17204},-392]
[{"$f":"IF(COUNTRY_INFO!A124=0,\" \",COUNTRY_INFO!A124)","v":"Chad"},{"$f":"IF(COUNTRY_INFO!B124=0,\" \",COUNTRY_INFO!B124)","v":"Tandjile"},{"$f":"IF(COUNTRY_INFO!C124=0,\" \",COUNTRY_INFO!C124)","v":"Dafra"},{"$f":"IF(OR(COUNTRY_INFO!$U$9:$U$1000=\"T2 (PZQ)\",COUNTRY_INFO!$V$9:$V$1000=\"T2 (PZQ)\"), \"T2 (PZQ)\", \" \")","v":"T2 (PZQ)"},"Fevrier 2022",null,28924,null,28924,null,27449,null,27449," ",94.900428709722036," ",94.900428709722036,{"$f":"COUNTRY_INFO!Y124","v":10759},100,{"$f":"COUNTRY_INFO!F124","v":28924},-1475,{"$f":"U124/T124*100","v":-5.0995712902779697}]
[{"$f":"IF(COUNTRY_INFO!A125=0,\" \",COUNTRY_INFO!A125)","v":"Chad"},{"$f":"IF(COUNTRY_INFO!B125=0,\" \",COUNTRY_INFO!B125)","v":"Tandjile"},{"$f":"IF(COUNTRY_INFO!C125=0,\" \",COUNTRY_INFO!C125)","v":"Deressia"},{"$f":"IF(OR(COUNTRY_INFO!$U$9:$U$1000=\"T2 (PZQ)\",COUNTRY_INFO!$V$9:$V$1000=\"T2 (PZQ)\"), \"T2 (PZQ)\", \" \")","v":"T2 (PZQ)"},"Fevrier 2022",null,27676,null,27676,null,26894,null,26894," ",97.174447174447181," ",97.174447174447181,{"$f":"COUNTRY_INFO!Y125","v":10782},103.74868795921428,{"$f":"COUNTRY_INFO!F125","v":26676},218]
[{"$f":"IF(COUNTRY_INFO!A126=0,\" \",COUNTRY_INFO!A126)","v":"Chad"},{"$f":"IF(COUNTRY_INFO!B126=0,\" \",COUNTRY_INFO!B126)","v":"Tandjile"},{"$f":"IF(COUNTRY_INFO!C126=0,\" \",COUNTRY_INFO!C126)","v":"Donamanga"},{"$f":"IF(OR(COUNTRY_INFO!$U$9:$U$1000=\"T2 (PZQ)\",COUNTRY_INFO!$V$9:$V$1000=\"T2 (PZQ)\"), \"T2 (PZQ)\", \" \")","v":"T2 (PZQ)"},"Fevrier 2022",null,39379,null,39379,null,38814,null,38814," ",98.565225119987815," ",98.565225119987815,{"$f":"COUNTRY_INFO!Y126","v":10735},100,{"$f":"COUNTRY_INFO!F126","v":39379},-565,{"$f":"U126/T126*100","v":-1.4347748800121893}]
[{"$f":"IF(COUNTRY_INFO!A127=0,\" \",COUNTRY_INFO!A127)","v":"Chad"},{"$f":"IF(COUNTRY_INFO!B127=0,\" \",COUNTRY_INFO!B127)","v":"Tandjile"},{"$f":"IF(COUNTRY_INFO!C127=0,\" \",COUNTRY_INFO!C127)","v":"Guidari"},{"$f":"IF(OR(COUNTRY_INFO!$U$9:$U$1000=\"T2 (PZQ)\",COUNTRY_INFO!$V$9:$V$1000=\"T2 (PZQ)\"), \"T2 (PZQ)\", \" \")","v":"T2 (PZQ)"},"Fevrier 2022",null,60091,null,60091,null,59213,null,59213," ",98.538882694579883," ",98.538882694579883,{"$f":"COUNTRY_INFO!Y127","v":10776},100,{"$f":"COUNTRY_INFO!F127","v":60091},-878]
[{"$f":"IF(COUNTRY_INFO!A128=0,\" \",COUNTRY_INFO!A128)","v":"Chad"},{"$f":"IF(COUNTRY_INFO!B128=0,\" \",COUNTRY_INFO!B128)","v":"Tandjile"},{"$f":"IF(COUNTRY_INFO!C128=0,\" \",COUNTRY_INFO!C128)","v":"Kelo"},{"$f":"IF(OR(COUNTRY_INFO!$U$9:$U$1000=\"T2 (PZQ)\",COUNTRY_INFO!$V$9:$V$1000=\"T2 (PZQ)\"), \"T2 (PZQ)\", \" \")","v":"T2 (PZQ)"},"Fevrier 2022",null,71377,null,71377,null,69443,null,69443," ",97.290443700351659," ",97.290443700351659,{"$f":"COUNTRY_INFO!Y128","v":10736},100,{"$f":"COUNTRY_INFO!F128","v":71377},-1934]
[{"$f":"IF(COUNTRY_INFO!A129=0,\" \",COUNTRY_INFO!A129)","v":"Chad"},{"$f":"IF(COUNTRY_INFO!B129=0,\" \",COUNTRY_INFO!B129)","v":"Tandjile"},{"$f":"IF(COUNTRY_INFO!C129=0,\" \",COUNTRY_INFO!C129)","v":"Kolon"},{"$f":"IF(OR(COUNTRY_INFO!$U$9:$U$1000=\"T2 (PZQ)\",COUNTRY_INFO!$V$9:$V$1000=\"T2 (PZQ)\"), \"T2 (PZQ)\", \" \")","v":"T2 (PZQ)"},"Fevrier 2022",null,25751,null,25751,null,24478,null,24478," ",95.056502660090871," ",95.056502660090871,{"$f":"COUNTRY_INFO!Y129","v":10777},100,{"$f":"COUNTRY_INFO!F129","v":25751},-1273]
[{"$f":"IF(COUNTRY_INFO!A130=0,\" \",COUNTRY_INFO!A130)","v":"Chad"},{"$f":"IF(COUNTRY_INFO!B130=0,\" \",COUNTRY_INFO!B130)","v":"Tandjile"},{"$f":"IF(COUNTRY_INFO!C130=0,\" \",COUNTRY_INFO!C130)","v":"Lai"},{"$f":"IF(OR(COUNTRY_INFO!$U$9:$U$1000=\"T2 (PZQ)\",COUNTRY_INFO!$V$9:$V$1000=\"T2 (PZQ)\"), \"T2 (PZQ)\", \" \")","v":"T2 (PZQ)"},"Fevrier 2022",null,34658,null,34658,null,33118,null,33118," ",95.556581453055571," ",95.556581453055571,{"$f":"COUNTRY_INFO!Y130","v":10737},104.0312171694432,{"$f":"COUNTRY_INFO!F130","v":33315},-197,{"$f":"U130/T130*100","v":-0.59132522887588168}]
[{"$f":"IF(COUNTRY_INFO!A131=0,\" \",COUNTRY_INFO!A131)","v":"Chad"},{"$f":"IF(COUNTRY_INFO!B131=0,\" \",COUNTRY_INFO!B131)","v":"Tibesti"},{"$f":"IF(COUNTRY_INFO!C131=0,\" \",COUNTRY_INFO!C131)","v":"Bardaï"},{"$f":"IF(OR(COUNTRY_INFO!$U$9:$U$1000=\"T2 (PZQ)\",COUNTRY_INFO!$V$9:$V$1000=\"T2 (PZQ)\"), \"T2 (PZQ)\", \" \")","v":" "},0,null,0,null,0,null,0,null,0," "," "," "," ",{"$f":"COUNTRY_INFO!Y131","v":10738}]
[{"$f":"IF(COUNTRY_INFO!A132=0,\" \",COUNTRY_INFO!A132)","v":"Chad"},{"$f":"IF(COUNTRY_INFO!B132=0,\" \",COUNTRY_INFO!B132)","v":"Tibesti"},{"$f":"IF(COUNTRY_INFO!C132=0,\" \",COUNTRY_INFO!C132)","v":"Zouar"},{"$f":"IF(OR(COUNTRY_INFO!$U$9:$U$1000=\"T2 (PZQ)\",COUNTRY_INFO!$V$9:$V$1000=\"T2 (PZQ)\"), \"T2 (PZQ)\", \" \")","v":" "},0,null,0,null,0,null,0,null,0," "," "," "," ",{"$f":"COUNTRY_INFO!Y132","v":10760}]
[{"$f":"IF(COUNTRY_INFO!A133=0,\" \",COUNTRY_INFO!A133)","v":"Chad"},{"$f":"IF(COUNTRY_INFO!B133=0,\" \",COUNTRY_INFO!B133)","v":"Wadi Fira"},{"$f":"IF(COUNTRY_INFO!C133=0,\" \",COUNTRY_INFO!C133)","v":"amzoer"},{"$f":"IF(OR(COUNTRY_INFO!$U$9:$U$1000=\"T2 (PZQ)\",COUNTRY_INFO!$V$9:$V$1000=\"T2 (PZQ)\"), \"T2 (PZQ)\", \" \")","v":" "},0,null,0,null,0,null,0,null,0," "," "," "," ",{"$f":"COUNTRY_INFO!Y133","v":10778}]
[{"$f":"IF(COUNTRY_INFO!A134=0,\" \",COUNTRY_INFO!A134)","v":"Chad"},{"$f":"IF(COUNTRY_INFO!B134=0,\" \",COUNTRY_INFO!B134)","v":"Wadi Fira"},{"$f":"IF(COUNTRY_INFO!C134=0,\" \",COUNTRY_INFO!C134)","v":"Arada"},{"$f":"IF(OR(COUNTRY_INFO!$U$9:$U$1000=\"T2 (PZQ)\",COUNTRY_INFO!$V$9:$V$1000=\"T2 (PZQ)\"), \"T2 (PZQ)\", \" \")","v":" "},0,null,0,null,0,null,0,null,0," "," "," "," ",{"$f":"COUNTRY_INFO!Y134","v":10779}]
[{"$f":"IF(COUNTRY_INFO!A135=0,\" \",COUNTRY_INFO!A135)","v":"Chad"},{"$f":"IF(COUNTRY_INFO!B135=0,\" \",COUNTRY_INFO!B135)","v":"Wadi Fira"},{"$f":"IF(COUNTRY_INFO!C135=0,\" \",COUNTRY_INFO!C135)","v":"Biltine"},{"$f":"IF(OR(COUNTRY_INFO!$U$9:$U$1000=\"T2 (PZQ)\",COUNTRY_INFO!$V$9:$V$1000=\"T2 (PZQ)\"), \"T2 (PZQ)\", \" \")","v":" "},0,null,0,null,0,null,0,null,0," "," "," "," ",{"$f":"COUNTRY_INFO!Y135","v":10740}]
[{"$f":"IF(COUNTRY_INFO!A136=0,\" \",COUNTRY_INFO!A136)","v":"Chad"},{"$f":"IF(COUNTRY_INFO!B136=0,\" \",COUNTRY_INFO!B136)","v":"Wadi Fira"},{"$f":"IF(COUNTRY_INFO!C136=0,\" \",COUNTRY_INFO!C136)","v":"Guéréda"},{"$f":"IF(OR(COUNTRY_INFO!$U$9:$U$1000=\"T2 (PZQ)\",COUNTRY_INFO!$V$9:$V$1000=\"T2 (PZQ)\"), \"T2 (PZQ)\", \" \")","v":" "},0,null,0,null,0,null,0,null,0," "," "," "," ",{"$f":"COUNTRY_INFO!Y136","v":10741}]
[{"$f":"IF(COUNTRY_INFO!A137=0,\" \",COUNTRY_INFO!A137)","v":"Chad"},{"$f":"IF(COUNTRY_INFO!B137=0,\" \",COUNTRY_INFO!B137)","v":"Wadi Fira"},{"$f":"IF(COUNTRY_INFO!C137=0,\" \",COUNTRY_INFO!C137)","v":"Iriba"},{"$f":"IF(OR(COUNTRY_INFO!$U$9:$U$1000=\"T2 (PZQ)\",COUNTRY_INFO!$V$9:$V$1000=\"T2 (PZQ)\"), \"T2 (PZQ)\", \" \")","v":" "},0,null,0,null,0,null,0,null,0," "," "," "," ",{"$f":"COUNTRY_INFO!Y137","v":10742}]
[{"$f":"IF(COUNTRY_INFO!A138=0,\" \",COUNTRY_INFO!A138)","v":"Chad"},{"$f":"IF(COUNTRY_INFO!B138=0,\" \",COUNTRY_INFO!B138)","v":"Wadi Fira"},{"$f":"IF(COUNTRY_INFO!C138=0,\" \",COUNTRY_INFO!C138)","v":"Matadjana"},{"$f":"IF(OR(COUNTRY_INFO!$U$9:$U$1000=\"T2 (PZQ)\",COUNTRY_INFO!$V$9:$V$1000=\"T2 (PZQ)\"), \"T2 (PZQ)\", \" \")","v":" "},0,null,0,null,{"$f":"SUM(F138:H138)","v":0},null,0,null,{"$f":"SUM(J138:L138)","v":0},{"$f":"IF(F138<>0, IF(J138/F138*100=0, \"-\", J138/F138*100), \" \")","v":" "},{"$f":"IF(G138<>0, IF(K138/G138*100=0, \"-\", K138/G138*100), \" \")","v":" "},{"$f":"IF(H138<>0, IF(L138/H138*100=0, \"-\", L138/H138*100), \" \")","v":" "},{"$f":"IF(I138<>0, IF(M138/I138*100=0, \"-\", M138/I138*100), \" \")","v":" "},{"$f":"COUNTRY_INFO!Y138","v":10743}]

{"sheet":"T3_R1","index":7,"n_rows":138,"n_cols":18,"rows_kept":138,"cut":false,"hidden":false,"merged":[[5,6,5,9],[5,10,5,13],[5,14,5,17],[3,0,3,2],[5,0,5,2],[5,3,6,3],[5,5,6,5],[5,4,6,4]]}
["T 3 - Albendazole (ALB) ou Mebendazole (MBD) - Tournée 1"]
["Structure administrative, population nécessitant une chimioprévention par groupe d'âge, population traitée par groupe d'âge et couverture"]
[]
["TOTAL",null,null,null,null,null,{"$f":"SUM(G$9:G$1000)","v":0},0,0,0,0,0,0,0,{"$f":"IF(G4<>0, IF(K4/G4*100=0, \"-\", K4/G4*100), \" \")","v":" "},{"$f":"IF(H4<>0, IF(L4/H4*100=0, \"-\", L4/H4*100), \" \")","v":" "},{"$f":"IF(I4<>0, IF(M4/I4*100=0, \"-\", M4/I4*100), \" \")","v":" "},{"$f":"IF(J4<>0, IF(N4/J4*100=0, \"-\", N4/J4*100), \" \")","v":" "}]
[]
["Structure administrative du pays",null,null,"Mise en oeuvre \nde la CP","Médica-ment","Date","Population ciblée pour T3",null,null,null,"Population traitée",null,null,null,"Couverture du Programme (%)"]
["Pays","Région/Département","District",null,null,null,"EAPréS","EAS","Adultes","Total","EAPréS","EAS","Adultes","Total","EAPréS","EAS","Adultes","Total"]
[]
[{"$f":"IF(COUNTRY_INFO!A9=0,\" \",COUNTRY_INFO!A9)","v":"Chad"},{"$f":"IF(COUNTRY_INFO!B9=0,\" \",COUNTRY_INFO!B9)","v":"Bahr El Gazel"},{"$f":"IF(COUNTRY_INFO!C9=0,\" \",COUNTRY_INFO!C9)","v":"Chadra"},{"$f":"IF(OR(COUNTRY_INFO!$U$9:$U$1000=\"T3 (ALB/MBD)\",COUNTRY_INFO!$V$9:$V$1000=\"T3 (ALB/MBD)\"), \"T3 (ALB/MBD)\", \" \")","v":" "},null,null,null,null,null,{"$f":"SUM(G9:I9)","v":0},null,null,null,{"$f":"SUM(K9:M9)","v":0},{"$f":"IF(G9<>0, IF(K9/G9*100=0, \"-\", K9/G9*100), \" \")","v":" "}," "," "," "]
[{"$f":"IF(COUNTRY_INFO!A10=0,\" \",COUNTRY_INFO!A10)","v":"Chad"},{"$f":"IF(COUNTRY_INFO!B10=0,\" \",COUNTRY_INFO!B10)","v":"Bahr El Gazel"},{"$f":"IF(COUNTRY_INFO!C10=0,\" \",COUNTRY_INFO!C10)","v":"Michemire"},{"$f":"IF(OR(COUNTRY_INFO!$U$9:$U$1000=\"T3 (ALB/MBD)\",COUNTRY_INFO!$V$9:$V$1000=\"T3 (ALB/MBD)\"), \"T3 (ALB/MBD)\", \" \")","v":" "},null,null,null,null,null,{"$f":"SUM(G10:I10)","v":0},null,null,null,{"$f":"SUM(K10:M10)","v":0},{"$f":"IF(G10<>0, IF(K10/G10*100=0, \"-\", K10/G10*100), \" \")","v":" "},{"$f":"IF(H10<>0, IF(L10/H10*100=0, \"-\", L10/H10*100), \" \")","v":" "},{"$f":"IF(I10<>0, IF(M10/I10*100=0, \"-\", M10/I10*100), \" \")","v":" "},{"$f":"IF(J10<>0, IF(N10/J10*100=0, \"-\", N10/J10*100), \" \")","v":" "}]
[{"$f":"IF(COUNTRY_INFO!A11=0,\" \",COUNTRY_INFO!A11)","v":"Chad"},{"$f":"IF(COUNTRY_INFO!B11=0,\" \",COUNTRY_INFO!B11)","v":"Bahr El Gazel"},{"$f":"IF(COUNTRY_INFO!C11=0,\" \",COUNTRY_INFO!C11)","v":"Moussoro"},{"$f":"IF(OR(COUNTRY_INFO!$U$9:$U$1000=\"T3 (ALB/MBD)\",COUNTRY_INFO!$V$9:$V$1000=\"T3 (ALB/MBD)\"), \"T3 (ALB/MBD)\", \" \")","v":" "},null,null,null,null,null,0,null,null,null,0," "," "," "," "]
[{"$f":"IF(COUNTRY_INFO!A12=0,\" \",COUNTRY_INFO!A12)","v":"Chad"},{"$f":"IF(COUNTRY_INFO!B12=0,\" \",COUNTRY_INFO!B12)","v":"Bahr El Gazel"},{"$f":"IF(COUNTRY_INFO!C12=0,\" \",COUNTRY_INFO!C12)","v":"Salal"},{"$f":"IF(OR(COUNTRY_INFO!$U$9:$U$1000=\"T3 (ALB/MBD)\",COUNTRY_INFO!$V$9:$V$1000=\"T3 (ALB/MBD)\"), \"T3 (ALB/MBD)\", \" \")","v":" "},null,null,null,null,null,0,null,null,null,0," "," "," "," "]
[{"$f":"IF(COUNTRY_INFO!A13=0,\" \",COUNTRY_INFO!A13)","v":"Chad"},{"$f":"IF(COUNTRY_INFO!B13=0,\" \",COUNTRY_INFO!B13)","v":"Batha"},{"$f":"IF(COUNTRY_INFO!C13=0,\" \",COUNTRY_INFO!C13)","v":"Alifa"},{"$f":"IF(OR(COUNTRY_INFO!$U$9:$U$1000=\"T3 (ALB/MBD)\",COUNTRY_INFO!$V$9:$V$1000=\"T3 (ALB/MBD)\"), \"T3 (ALB/MBD)\", \" \")","v":" "},null,null,null,null,null,0,null,null,null,0," "," "," "," "]
[{"$f":"IF(COUNTRY_INFO!A14=0,\" \",COUNTRY_INFO!A14)","v":"Chad"},{"$f":"IF(COUNTRY_INFO!B14=0,\" \",COUNTRY_INFO!B14)","v":"Batha"},{"$f":"IF(COUNTRY_INFO!C14=0,\" \",COUNTRY_INFO!C14)","v":"Assinet"},{"$f":"IF(OR(COUNTRY_INFO!$U$9:$U$1000=\"T3 (ALB/MBD)\",COUNTRY_INFO!$V$9:$V$1000=\"T3 (ALB/MBD)\"), \"T3 (ALB/MBD)\", \" \")","v":" "},null,null,null,null,null,0,null,null,null,0," "," "," "," "]
[{"$f":"IF(COUNTRY_INFO!A15=0,\" \",COUNTRY_INFO!A15)","v":"Chad"},{"$f":"IF(COUNTRY_INFO!B15=0,\" \",COUNTRY_INFO!B15)","v":"Batha"},{"$f":"IF(COUNTRY_INFO!C15=0,\" \",COUNTRY_INFO!C15)","v":"Ati"},{"$f":"IF(OR(COUNTRY_INFO!$U$9:$U$1000=\"T3 (ALB/MBD)\",COUNTRY_INFO!$V$9:$V$1000=\"T3 (ALB/MBD)\"), \"T3 (ALB/MBD)\", \" \")","v":" "},null,null,null,null,null,0,null,null,null,0," "," "," "," "]
[{"$f":"IF(COUNTRY_INFO!A16=0,\" \",COUNTRY_INFO!A16)","v":"Chad"},{"$f":"IF(COUNTRY_INFO!B16=0,\" \",COUNTRY_INFO!B16)","v":"Batha"},{"$f":"IF(COUNTRY_INFO!C16=0,\" \",COUNTRY_INFO!C16)","v":"Djedda"},{"$f":"IF(OR(COUNTRY_INFO!$U$9:$U$1000=\"T3 (ALB/MBD)\",COUNTRY_INFO!$V$9:$V$1000=\"T3 (ALB/MBD)\"), \"T3 (ALB/MBD)\", \" \")","v":" "},null,null,null,null,null,0,null,null,null,0," "," "," "," "]
[{"$f":"IF(COUNTRY_INFO!A17=0,\" \",COUNTRY_INFO!A17)","v":"Chad"},{"$f":"IF(COUNTRY_INFO!B17=0,\" \",COUNTRY_INFO!B17)","v":"Batha"},{"$f":"IF(COUNTRY_INFO!C17=0,\" \",COUNTRY_INFO!C17)","v":"Koundjourou"},{"$f":"IF(OR(COUNTRY_INFO!$U$9:$U$1000=\"T3 (ALB/MBD)\",COUNTRY_INFO!$V$9:$V$1000=\"T3 (ALB/MBD)\"), \"T3 (ALB/MBD)\", \" \")","v":" "},null,null,null,null,null,0,null,null,null,0," "," "," "," "]
[{"$f":"IF(COUNTRY_INFO!A18=0,\" \",COUNTRY_INFO!A18)","v":"Chad"},{"$f":"IF(COUNTRY_INFO!B18=0,\" \",COUNTRY_INFO!B18)","v":"Batha"},{"$f":"IF(COUNTRY_INFO!C18=0,\" \",COUNTRY_INFO!C18)","v":"Oum-Hadjer"},{"$f":"IF(OR(COUNTRY_INFO!$U$9:$U$1000=\"T3 (ALB/MBD)\",COUNTRY_INFO!$V$9:$V$1000=\"T3 (ALB/MBD)\"), \"T3 (ALB/MBD)\", \" \")","v":" "},null,null,null,null,null,0,null,null,null,0," "," "," "," "]
[{"$f":"IF(COUNTRY_INFO!A19=0,\" \",COUNTRY_INFO!A19)","v":"Chad"},{"$f":"IF(COUNTRY_INFO!B19=0,\" \",COUNTRY_INFO!B19)","v":"Batha"},{"$f":"IF(COUNTRY_INFO!C19=0,\" \",COUNTRY_INFO!C19)","v":"Yao"},{"$f":"IF(OR(COUNTRY_INFO!$U$9:$U$1000=\"T3 (ALB/MBD)\",COUNTRY_INFO!$V$9:$V$1000=\"T3 (ALB/MBD)\"), \"T3 (ALB/MBD)\", \" \")","v":" "},null,null,null,null,null,0,null,null,null,0," "," "," "," "]
[{"$f":"IF(COUNTRY_INFO!A20=0,\" \",COUNTRY_INFO!A20)","v":"Chad"},{"$f":"IF(COUNTRY_INFO!B20=0,\" \",COUNTRY_INFO!B20)","v":"Borkou"},{"$f":"IF(COUNTRY_INFO!C20=0,\" \",COUNTRY_INFO!C20)","v":"Faya"},{"$f":"IF(OR(COUNTRY_INFO!$U$9:$U$1000=\"T3 (ALB/MBD)\",COUNTRY_INFO!$V$9:$V$1000=\"T3 (ALB/MBD)\"), \"T3 (ALB/MBD)\", \" \")","v":" "},null,null,null,null,null,0,null,null,null,0," "," "," "," "]
[{"$f":"IF(COUNTRY_INFO!A21=0,\" \",COUNTRY_INFO!A21)","v":"Chad"},{"$f":"IF(COUNTRY_INFO!B21=0,\" \",COUNTRY_INFO!B21)","v":"Borkou"},{"$f":"IF(COUNTRY_INFO!C21=0,\" \",COUNTRY_INFO!C21)","v":"Kirdimi"},{"$f":"IF(OR(COUNTRY_INFO!$U$9:$U$1000=\"T3 (ALB/MBD)\",COUNTRY_INFO!$V$9:$V$1000=\"T3 (ALB/MBD)\"), \"T3 (ALB/MBD)\", \" \")","v":" "},null,null,null,null,null,0,null,null,null,0," "," "," "," "]
[{"$f":"IF(COUNTRY_INFO!A22=0,\" \",COUNTRY_INFO!A22)","v":"Chad"},{"$f":"IF(COUNTRY_INFO!B22=0,\" \",COUNTRY_INFO!B22)","v":"Borkou"},{"$f":"IF(COUNTRY_INFO!C22=0,\" \",COUNTRY_INFO!C22)","v":"Kouba Olanga"},{"$f":"IF(OR(COUNTRY_INFO!$U$9:$U$1000=\"T3 (ALB/MBD)\",COUNTRY_INFO!$V$9:$V$1000=\"T3 (ALB/MBD)\"), \"T3 (ALB/MBD)\", \" \")","v":" "},null,null,null,null,null,0,null,null,null,0," "," "," "," "]
[{"$f":"IF(COUNTRY_INFO!A23=0,\" \",COUNTRY_INFO!A23)","v":"Chad"},{"$f":"IF(COUNTRY_INFO!B23=0,\" \",COUNTRY_INFO!B23)","v":"Chari  Baguirmi"},{"$f":"IF(COUNTRY_INFO!C23=0,\" \",COUNTRY_INFO!C23)","v":"Ba-Illi"},{"$f":"IF(OR(COUNTRY_INFO!$U$9:$U$1000=\"T3 (ALB/MBD)\",COUNTRY_INFO!$V$9:$V$1000=\"T3 (ALB/MBD)\"), \"T3 (ALB/MBD)\", \" \")","v":" "},null,null,null,null,null,0,null,null,null,0," "," "," "," "]
[{"$f":"IF(COUNTRY_INFO!A24=0,\" \",COUNTRY_INFO!A24)","v":"Chad"},{"$f":"IF(COUNTRY_INFO!B24=0,\" \",COUNTRY_INFO!B24)","v":"Chari  Baguirmi"},{"$f":"IF(COUNTRY_INFO!C24=0,\" \",COUNTRY_INFO!C24)","v":"Bousso"},{"$f":"IF(OR(COUNTRY_INFO!$U$9:$U$1000=\"T3 (ALB/MBD)\",COUNTRY_INFO!$V$9:$V$1000=\"T3 (ALB/MBD)\"), \"T3 (ALB/MBD)\", \" \")","v":" "},null,null,null,null,null,0,null,null,null,0," "," "," "," "]
[{"$f":"IF(COUNTRY_INFO!A25=0,\" \",COUNTRY_INFO!A25)","v":"Chad"},{"$f":"IF(COUNTRY_INFO!B25=0,\" \",COUNTRY_INFO!B25)","v":"Chari  Baguirmi"},{"$f":"IF(COUNTRY_INFO!C25=0,\" \",COUNTRY_INFO!C25)","v":"Dourbali"},{"$f":"IF(OR(COUNTRY_INFO!$U$9:$U$1000=\"T3 (ALB/MBD)\",COUNTRY_INFO!$V$9:$V$1000=\"T3 (ALB/MBD)\"), \"T3 (ALB/MBD)\", \" \")","v":" "},null,null,null,null,null,0,null,null,null,0," "," "," "," "]
[{"$f":"IF(COUNTRY_INFO!A26=0,\" \",COUNTRY_INFO!A26)","v":"Chad"},{"$f":"IF(COUNTRY_INFO!B26=0,\" \",COUNTRY_INFO!B26)","v":"Chari  Baguirmi"},{"$f":"IF(COUNTRY_INFO!C26=0,\" \",COUNTRY_INFO!C26)","v":"Koulno"},{"$f":"IF(OR(COUNTRY_INFO!$U$9:$U$1000=\"T3 (ALB/MBD)\",COUNTRY_INFO!$V$9:$V$1000=\"T3 (ALB/MBD)\"), \"T3 (ALB/MBD)\", \" \")","v":" "},null,null,null,null,null,0,null,null,null,0," "," "," "," "]
[{"$f":"IF(COUNTRY_INFO!A27=0,\" \",COUNTRY_INFO!A27)","v":"Chad"},{"$f":"IF(COUNTRY_INFO!B27=0,\" \",COUNTRY_INFO!B27)","v":"Chari  Baguirmi"},{"$f":"IF(COUNTRY_INFO!C27=0,\" \",COUNTRY_INFO!C27)","v":"Mandélia"},{"$f":"IF(OR(COUNTRY_INFO!$U$9:$U$1000=\"T3 (ALB/MBD)\",COUNTRY_INFO!$V$9:$V$1000=\"T3 (ALB/MBD)\"), \"T3 (ALB/MBD)\", \" \")","v":" "},null,null,null,null,null,0,null,null,null,0," "," "," "," "]
[{"$f":"IF(COUNTRY_INFO!A28=0,\" \",COUNTRY_INFO!A28)","v":"Chad"},{"$f":"IF(COUNTRY_INFO!B28=0,\" \",COUNTRY_INFO!B28)","v":"Chari  Baguirmi"},{"$f":"IF(COUNTRY_INFO!C28=0,\" \",COUNTRY_INFO!C28)","v":"Massenya"},{"$f":"IF(OR(COUNTRY_INFO!$U$9:$U$1000=\"T3 (ALB/MBD)\",COUNTRY_INFO!$V$9:$V$1000=\"T3 (ALB/MBD)\"), \"T3 (ALB/MBD)\", \" \")","v":" "},null,null,null,null,null,0,null,null,null,0," "," "," "," "]
[{"$f":"IF(COUNTRY_INFO!A29=0,\" \",COUNTRY_INFO!A29)","v":"Chad"},{"$f":"IF(COUNTRY_INFO!B29=0,\" \",COUNTRY_INFO!B29)","v":"Ennedi Est"},{"$f":"IF(COUNTRY_INFO!C29=0,\" \",COUNTRY_INFO!C29)","v":"Amdjarass"},{"$f":"IF(OR(COUNTRY_INFO!$U$9:$U$1000=\"T3 (ALB/MBD)\",COUNTRY_INFO!$V$9:$V$1000=\"T3 (ALB/MBD)\"), \"T3 (ALB/MBD)\", \" \")","v":" "},null,null,null,null,null,0,null,null,null,0," "," "," "," "]
[{"$f":"IF(COUNTRY_INFO!A30=0,\" \",COUNTRY_INFO!A30)","v":"Chad"},{"$f":"IF(COUNTRY_INFO!B30=0,\" \",COUNTRY_INFO!B30)","v":"Ennedi Est"},{"$f":"IF(COUNTRY_INFO!C30=0,\" \",COUNTRY_INFO!C30)","v":"Bahaï"},{"$f":"IF(OR(COUNTRY_INFO!$U$9:$U$1000=\"T3 (ALB/MBD)\",COUNTRY_INFO!$V$9:$V$1000=\"T3 (ALB/MBD)\"), \"T3 (ALB/MBD)\", \" \")","v":" "},null,null,null,null,null,0,null,null,null,0," "," "," "," "]
[{"$f":"IF(COUNTRY_INFO!A31=0,\" \",COUNTRY_INFO!A31)","v":"Chad"},{"$f":"IF(COUNTRY_INFO!B31=0,\" \",COUNTRY_INFO!B31)","v":"Ennedi Est"},{"$f":"IF(COUNTRY_INFO!C31=0,\" \",COUNTRY_INFO!C31)","v":"Kaoura"},{"$f":"IF(OR(COUNTRY_INFO!$U$9:$U$1000=\"T3 (ALB/MBD)\",COUNTRY_INFO!$V$9:$V$1000=\"T3 (ALB/MBD)\"), \"T3 (ALB/MBD)\", \" \")","v":" "},null,null,null,null,null,0,null,null,null,0," "," "," "," "]
[{"$f":"IF(COUNTRY_INFO!A32=0,\" \",COUNTRY_INFO!A32)","v":"Chad"},{"$f":"IF(COUNTRY_INFO!B32=0,\" \",COUNTRY_INFO!B32)","v":"Ennedi Est"},{"$f":"IF(COUNTRY_INFO!C32=0,\" \",COUNTRY_INFO!C32)","v":"Mourdi"},{"$f":"IF(OR(COUNTRY_INFO!$U$9:$U$1000=\"T3 (ALB/MBD)\",COUNTRY_INFO!$V$9:$V$1000=\"T3 (ALB/MBD)\"), \"T3 (ALB/MBD)\", \" \")","v":" "},null,null,null,null,null,0,null,null,null,0," "," "," "," "]
[{"$f":"IF(COUNTRY_INFO!A33=0,\" \",COUNTRY_INFO!A33)","v":"Chad"},{"$f":"IF(COUNTRY_INFO!B33=0,\" \",COUNTRY_INFO!B33)","v":"Ennedi Ouest"},{"$f":"IF(COUNTRY_INFO!C33=0,\" \",COUNTRY_INFO!C33)","v":"Fada"},{"$f":"IF(OR(COUNTRY_INFO!$U$9:$U$1000=\"T3 (ALB/MBD)\",COUNTRY_INFO!$V$9:$V$1000=\"T3 (ALB/MBD)\"), \"T3 (ALB/MBD)\", \" \")","v":" "},null,null,null,null,null,0,null,null,null,0," "," "," "," "]
[{"$f":"IF(COUNTRY_INFO!A34=0,\" \",COUNTRY_INFO!A34)","v":"Chad"},{"$f":"IF(COUNTRY_INFO!B34=0,\" \",COUNTRY_INFO!B34)","v":"Ennedi Ouest"},{"$f":"IF(COUNTRY_INFO!C34=0,\" \",COUNTRY_INFO!C34)","v":"Kalaït"},{"$f":"IF(OR(COUNTRY_INFO!$U$9:$U$1000=\"T3 (ALB/MBD)\",COUNTRY_INFO!$V$9:$V$1000=\"T3 (ALB/MBD)\"), \"T3 (ALB/MBD)\", \" \")","v":" "},null,null,null,null,null,0,null,null,null,0," "," "," "," "]
[{"$f":"IF(COUNTRY_INFO!A35=0,\" \",COUNTRY_INFO!A35)","v":"Chad"},{"$f":"IF(COUNTRY_INFO!B35=0,\" \",COUNTRY_INFO!B35)","v":"Ennedi Ouest"},{"$f":"IF(COUNTRY_INFO!C35=0,\" \",COUNTRY_INFO!C35)","v":"Ounianga Kebbir"},{"$f":"IF(OR(COUNTRY_INFO!$U$9:$U$1000=\"T3 (ALB/MBD)\",COUNTRY_INFO!$V$9:$V$1000=\"T3 (ALB/MBD)\"), \"T3 (ALB/MBD)\", \" \")","v":" "},null,null,null,null,null,0,null,null,null,0," "," "," "," "]
[{"$f":"IF(COUNTRY_INFO!A36=0,\" \",COUNTRY_INFO!A36)","v":"Chad"},{"$f":"IF(COUNTRY_INFO!B36=0,\" \",COUNTRY_INFO!B36)","v":"Guéra"},{"$f":"IF(COUNTRY_INFO!C36=0,\" \",COUNTRY_INFO!C36)","v":"Barou"},{"$f":"IF(OR(COUNTRY_INFO!$U$9:$U$1000=\"T3 (ALB/MBD)\",COUNTRY_INFO!$V$9:$V$1000=\"T3 (ALB/MBD)\"), \"T3 (ALB/MBD)\", \" \")","v":" "},null,null,null,null,null,0,null,null,null,0," "," "," "," "]
[{"$f":"IF(COUNTRY_INFO!A37=0,\" \",COUNTRY_INFO!A37)","v":"Chad"},{"$f":"IF(COUNTRY_INFO!B37=0,\" \",COUNTRY_INFO!B37)","v":"Guéra"},{"$f":"IF(COUNTRY_INFO!C37=0,\" \",COUNTRY_INFO!C37)","v":"Bitkine"},{"$f":"IF(OR(COUNTRY_INFO!$U$9:$U$1000=\"T3 (ALB/MBD)\",COUNTRY_INFO!$V$9:$V$1000=\"T3 (ALB/MBD)\"), \"T3 (ALB/MBD)\", \" \")","v":" "},null,null,null,null,null,0,null,null,null,0," "," "," "," "]
[{"$f":"IF(COUNTRY_INFO!A38=0,\" \",COUNTRY_INFO!A38)","v":"Chad"},{"$f":"IF(COUNTRY_INFO!B38=0,\" \",COUNTRY_INFO!B38)","v":"Guéra"},{"$f":"IF(COUNTRY_INFO!C38=0,\" \",COUNTRY_INFO!C38)","v":"Mangalmé"},{"$f":"IF(OR(COUNTRY_INFO!$U$9:$U$1000=\"T3 (ALB/MBD)\",COUNTRY_INFO!$V$9:$V$1000=\"T3 (ALB/MBD)\"), \"T3 (ALB/MBD)\", \" \")","v":" "},null,null,null,null,null,0,null,null,null,0," "," "," "," "]
[{"$f":"IF(COUNTRY_INFO!A39=0,\" \",COUNTRY_INFO!A39)","v":"Chad"},{"$f":"IF(COUNTRY_INFO!B39=0,\" \",COUNTRY_INFO!B39)","v":"Guéra"},{"$f":"IF(COUNTRY_INFO!C39=0,\" \",COUNTRY_INFO!C39)","v":"Melfi"},{"$f":"IF(OR(COUNTRY_INFO!$U$9:$U$1000=\"T3 (ALB/MBD)\",COUNTRY_INFO!$V$9:$V$1000=\"T3 (ALB/MBD)\"), \"T3 (ALB/MBD)\", \" \")","v":" "},null,null,null,null,null,0,null,null,null,0," "," "," "," "]
[{"$f":"IF(COUNTRY_INFO!A40=0,\" \",COUNTRY_INFO!A40)","v":"Chad"},{"$f":"IF(COUNTRY_INFO!B40=0,\" \",COUNTRY_INFO!B40)","v":"Guéra"},{"$f":"IF(COUNTRY_INFO!C40=0,\" \",COUNTRY_INFO!C40)","v":"Mongo"},{"$f":"IF(OR(COUNTRY_INFO!$U$9:$U$1000=\"T3 (ALB/MBD)\",COUNTRY_INFO!$V$9:$V$1000=\"T3 (ALB/MBD)\"), \"T3 (ALB/MBD)\", \" \")","v":" "},null,null,null,null,null,0,null,null,null,0," "," "," "," "]
[{"$f":"IF(COUNTRY_INFO!A41=0,\" \",COUNTRY_INFO!A41)","v":"Chad"},{"$f":"IF(COUNTRY_INFO!B41=0,\" \",COUNTRY_INFO!B41)","v":"Hadjer Lamis"},{"$f":"IF(COUNTRY_INFO!C41=0,\" \",COUNTRY_INFO!C41)","v":"Bokoro"},{"$f":"IF(OR(COUNTRY_INFO!$U$9:$U$1000=\"T3 (ALB/MBD)\",COUNTRY_INFO!$V$9:$V$1000=\"T3 (ALB/MBD)\"), \"T3 (ALB/MBD)\", \" \")","v":" "},null,null,null,null,null,0,null,null,null,0," "," "," "," "]
[{"$f":"IF(COUNTRY_INFO!A42=0,\" \",COUNTRY_INFO!A42)","v":"Chad"},{"$f":"IF(COUNTRY_INFO!B42=0,\" \",COUNTRY_INFO!B42)","v":"Hadjer Lamis"},{"$f":"IF(COUNTRY_INFO!C42=0,\" \",COUNTRY_INFO!C42)","v":"Gama"},{"$f":"IF(OR(COUNTRY_INFO!$U$9:$U$1000=\"T3 (ALB/MBD)\",COUNTRY_INFO!$V$9:$V$1000=\"T3 (ALB/MBD)\"), \"T3 (ALB/MBD)\", \" \")","v":" "},null,null,null,null,null,0,null,null,null,0," "," "," "," "]
[{"$f":"IF(COUNTRY_INFO!A43=0,\" \",COUNTRY_INFO!A43)","v":"Chad"},{"$f":"IF(COUNTRY_INFO!B43=0,\" \",COUNTRY_INFO!B43)","v":"Hadjar Lamis"},{"$f":"IF(COUNTRY_INFO!C43=0,\" \",COUNTRY_INFO!C43)","v":"Karal"},{"$f":"IF(OR(COUNTRY_INFO!$U$9:$U$1000=\"T3 (ALB/MBD)\",COUNTRY_INFO!$V$9:$V$1000=\"T3 (ALB/MBD)\"), \"T3 (ALB/MBD)\", \" \")","v":" "},null,null,null,null,null,0,null,null,null,0," "," "," "," "]
[{"$f":"IF(COUNTRY_INFO!A44=0,\" \",COUNTRY_INFO!A44)","v":"Chad"},{"$f":"IF(COUNTRY_INFO!B44=0,\" \",COUNTRY_INFO!B44)","v":"Hadjer Lamis"},{"$f":"IF(COUNTRY_INFO!C44=0,\" \",COUNTRY_INFO!C44)","v":"Mani"},{"$f":"IF(OR(COUNTRY_INFO!$U$9:$U$1000=\"T3 (ALB/MBD)\",COUNTRY_INFO!$V$9:$V$1000=\"T3 (ALB/MBD)\"), \"T3 (ALB/MBD)\", \" \")","v":" "},null,null,null,null,null,0,null,null,null,0," "," "," "," "]
[{"$f":"IF(COUNTRY_INFO!A45=0,\" \",COUNTRY_INFO!A45)","v":"Chad"},{"$f":"IF(COUNTRY_INFO!B45=0,\" \",COUNTRY_INFO!B45)","v":"Hadjer Lamis"},{"$f":"IF(COUNTRY_INFO!C45=0,\" \",COUNTRY_INFO!C45)","v":"Massaguet"},{"$f":"IF(OR(COUNTRY_INFO!$U$9:$U$1000=\"T3 (ALB/MBD)\",COUNTRY_INFO!$V$9:$V$1000=\"T3 (ALB/MBD)\"), \"T3 (ALB/MBD)\", \" \")","v":" "},null,null,null,null,null,0,null,null,null,0," "," "," "," "]
[{"$f":"IF(COUNTRY_INFO!A46=0,\" \",COUNTRY_INFO!A46)","v":"Chad"},{"$f":"IF(COUNTRY_INFO!B46=0,\" \",COUNTRY_INFO!B46)","v":"Hadjer Lamis"},{"$f":"IF(COUNTRY_INFO!C46=0,\" \",COUNTRY_INFO!C46)","v":"Massakory"},{"$f":"IF(OR(COUNTRY_INFO!$U$9:$U$1000=\"T3 (ALB/MBD)\",COUNTRY_INFO!$V$9:$V$1000=\"T3 (ALB/MBD)\"), \"T3 (ALB/MBD)\", \" \")","v":" "},null,null,null,null,null,0,null,null,null,0," "," "," "," "]
[{"$f":"IF(COUNTRY_INFO!A47=0,\" \",COUNTRY_INFO!A47)","v":"Chad"},{"$f":"IF(COUNTRY_INFO!B47=0,\" \",COUNTRY_INFO!B47)","v":"Kanem"},{"$f":"IF(COUNTRY_INFO!C47=0,\" \",COUNTRY_INFO!C47)","v":"Amdoback"},{"$f":"IF(OR(COUNTRY_INFO!$U$9:$U$1000=\"T3 (ALB/MBD)\",COUNTRY_INFO!$V$9:$V$1000=\"T3 (ALB/MBD)\"), \"T3 (ALB/MBD)\", \" \")","v":" "},null,null,null,null,null,0,null,null,null,0," "," "," "," "]
[{"$f":"IF(COUNTRY_INFO!A48=0,\" \",COUNTRY_INFO!A48)","v":"Chad"},{"$f":"IF(COUNTRY_INFO!B48=0,\" \",COUNTRY_INFO!B48)","v":"Kanem"},{"$f":"IF(COUNTRY_INFO!C48=0,\" \",COUNTRY_INFO!C48)","v":"Kekedina"},{"$f":"IF(OR(COUNTRY_INFO!$U$9:$U$1000=\"T3 (ALB/MBD)\",COUNTRY_INFO!$V$9:$V$1000=\"T3 (ALB/MBD)\"), \"T3 (ALB/MBD)\", \" \")","v":" "},null,null,null,null,null,0,null,null,null,0," "," "," "," "]
[{"$f":"IF(COUNTRY_INFO!A49=0,\" \",COUNTRY_INFO!A49)","v":"Chad"},{"$f":"IF(COUNTRY_INFO!B49=0,\" \",COUNTRY_INFO!B49)","v":"Kanem"},{"$f":"IF(COUNTRY_INFO!C49=0,\" \",COUNTRY_INFO!C49)","v":"Mao"},{"$f":"IF(OR(COUNTRY_INFO!$U$9:$U$1000=\"T3 (ALB/MBD)\",COUNTRY_INFO!$V$9:$V$1000=\"T3 (ALB/MBD)\"), \"T3 (ALB/MBD)\", \" \")","v":" "},null,null,null,null,null,0,null,null,null,0," "," "," "," "]
[{"$f":"IF(COUNTRY_INFO!A50=0,\" \",COUNTRY_INFO!A50)","v":"Chad"},{"$f":"IF(COUNTRY_INFO!B50=0,\" \",COUNTRY_INFO!B50)","v":"Kanem"},{"$f":"IF(COUNTRY_INFO!C50=0,\" \",COUNTRY_INFO!C50)","v":"Mondo"},{"$f":"IF(OR(COUNTRY_INFO!$U$9:$U$1000=\"T3 (ALB/MBD)\",COUNTRY_INFO!$V$9:$V$1000=\"T3 (ALB/MBD)\"), \"T3 (ALB/MBD)\", \" \")","v":" "},null,null,null,null,null,0,null,null,null,0," "," "," "," "]
[{"$f":"IF(COUNTRY_INFO!A51=0,\" \",COUNTRY_INFO!A51)","v":"Chad"},{"$f":"IF(COUNTRY_INFO!B51=0,\" \",COUNTRY_INFO!B51)","v":"Kanem"},{"$f":"IF(COUNTRY_INFO!C51=0,\" \",COUNTRY_INFO!C51)","v":"Nokou"},{"$f":"IF(OR(COUNTRY_INFO!$U$9:$U$1000=\"T3 (ALB/MBD)\",COUNTRY_INFO!$V$9:$V$1000=\"T3 (ALB/MBD)\"), \"T3 (ALB/MBD)\", \" \")","v":" "},null,null,null,null,null,0,null,null,null,0," "," "," "," "]
[{"$f":"IF(COUNTRY_INFO!A52=0,\" \",COUNTRY_INFO!A52)","v":"Chad"},{"$f":"IF(COUNTRY_INFO!B52=0,\" \",COUNTRY_INFO!B52)","v":"Kanem"},{"$f":"IF(COUNTRY_INFO!C52=0,\" \",COUNTRY_INFO!C52)","v":"Ntiona"},{"$f":"IF(OR(COUNTRY_INFO!$U$9:$U$1000=\"T3 (ALB/MBD)\",COUNTRY_INFO!$V$9:$V$1000=\"T3 (ALB/MBD)\"), \"T3 (ALB/MBD)\", \" \")","v":" "},null,null,null,null,null,0,null,null,null,0," "," "," "," "]
[{"$f":"IF(COUNTRY_INFO!A53=0,\" \",COUNTRY_INFO!A53)","v":"Chad"},{"$f":"IF(COUNTRY_INFO!B53=0,\" \",COUNTRY_INFO!B53)","v":"Kanem"},{"$f":"IF(COUNTRY_INFO!C53=0,\" \",COUNTRY_INFO!C53)","v":"Rig-Rig"},{"$f":"IF(OR(COUNTRY_INFO!$U$9:$U$1000=\"T3 (ALB/MBD)\",COUNTRY_INFO!$V$9:$V$1000=\"T3 (ALB/MBD)\"), \"T3 (ALB/MBD)\", \" \")","v":" "},null,null,null,null,null,0,null,null,null,0," "," "," "," "]
[{"$f":"IF(COUNTRY_INFO!A54=0,\" \",COUNTRY_INFO!A54)","v":"Chad"},{"$f":"IF(COUNTRY_INFO!B54=0,\" \",COUNTRY_INFO!B54)","v":"Lac"},{"$f":"IF(COUNTRY_INFO!C54=0,\" \",COUNTRY_INFO!C54)","v":"Bagassola"},{"$f":"IF(OR(COUNTRY_INFO!$U$9:$U$1000=\"T3 (ALB/MBD)\",COUNTRY_INFO!$V$9:$V$1000=\"T3 (ALB/MBD)\"), \"T3 (ALB/MBD)\", \" \")","v":" "},null,null,null,null,null,0,null,null,null,0," "," "," "," "]
[{"$f":"IF(COUNTRY_INFO!A55=0,\" \",COUNTRY_INFO!A55)","v":"Chad"},{"$f":"IF(COUNTRY_INFO!B55=0,\" \",COUNTRY_INFO!B55)","v":"Lac"},{"$f":"IF(COUNTRY_INFO!C55=0,\" \",COUNTRY_INFO!C55)","v":"Bol"},{"$f":"IF(OR(COUNTRY_INFO!$U$9:$U$1000=\"T3 (ALB/MBD)\",COUNTRY_INFO!$V$9:$V$1000=\"T3 (ALB/MBD)\"), \"T3 (ALB/MBD)\", \" \")","v":" "},null,null,null,null,null,0,null,null,null,0," "," "," "," "]
[{"$f":"IF(COUNTRY_INFO!A56=0,\" \",COUNTRY_INFO!A56)","v":"Chad"},{"$f":"IF(COUNTRY_INFO!B56=0,\" \",COUNTRY_INFO!B56)","v":"Lac"},{"$f":"IF(COUNTRY_INFO!C56=0,\" \",COUNTRY_INFO!C56)","v":"Isserom"},{"$f":"IF(OR(COUNTRY_INFO!$U$9:$U$1000=\"T3 (ALB/MBD)\",COUNTRY_INFO!$V$9:$V$1000=\"T3 (ALB/MBD)\"), \"T3 (ALB/MBD)\", \" \")","v":" "},null,null,null,null,null,0,null,null,null,0," "," "," "," "]
[{"$f":"IF(COUNTRY_INFO!A57=0,\" \",COUNTRY_INFO!A57)","v":"Chad"},{"$f":"IF(COUNTRY_INFO!B57=0,\" \",COUNTRY_INFO!B57)","v":"Lac"},{"$f":"IF(COUNTRY_INFO!C57=0,\" \",COUNTRY_INFO!C57)","v":"Kouloudia"},{"$f":"IF(OR(COUNTRY_INFO!$U$9:$U$1000=\"T3 (ALB/MBD)\",COUNTRY_INFO!$V$9:$V$1000=\"T3 (ALB/MBD)\"), \"T3 (ALB/MBD)\", \" \")","v":" "},null,null,null,null,null,0,null,null,null,0," "," "," "," "]
[{"$f":"IF(COUNTRY_INFO!A58=0,\" \",COUNTRY_INFO!A58)","v":"Chad"},{"$f":"IF(COUNTRY_INFO!B58=0,\" \",COUNTRY_INFO!B58)","v":"Lac"},{"$f":"IF(COUNTRY_INFO!C58=0,\" \",COUNTRY_INFO!C58)","v":"Liwa"},{"$f":"IF(OR(COUNTRY_INFO!$U$9:$U$1000=\"T3 (ALB/MBD)\",COUNTRY_INFO!$V$9:$V$1000=\"T3 (ALB/MBD)\"), \"T3 (ALB/MBD)\", \" \")","v":" "},null,null,null,null,null,0,null,null,null,0," "," "," "," "]
[{"$f":"IF(COUNTRY_INFO!A59=0,\" \",COUNTRY_INFO!A59)","v":"Chad"},{"$f":"IF(COUNTRY_INFO!B59=0,\" \",COUNTRY_INFO!B59)","v":"Lac"},{"$f":"IF(COUNTRY_INFO!C59=0,\" \",COUNTRY_INFO!C59)","v":"Ngouri"},{"$f":"IF(OR(COUNTRY_INFO!$U$9:$U$1000=\"T3 (ALB/MBD)\",COUNTRY_INFO!$V$9:$V$1000=\"T3 (ALB/MBD)\"), \"T3 (ALB/MBD)\", \" \")","v":" "},null,null,null,null,null,0,null,null,null,0," "," "," "," "]
[{"$f":"IF(COUNTRY_INFO!A60=0,\" \",COUNTRY_INFO!A60)","v":"Chad"},{"$f":"IF(COUNTRY_INFO!B60=0,\" \",COUNTRY_INFO!B60)","v":"Logone Occidental"},{"$f":"IF(COUNTRY_INFO!C60=0,\" \",COUNTRY_INFO!C60)","v":"Benamar"},{"$f":"IF(OR(COUNTRY_INFO!$U$9:$U$1000=\"T3 (ALB/MBD)\",COUNTRY_INFO!$V$9:$V$1000=\"T3 (ALB/MBD)\"), \"T3 (ALB/MBD)\", \" \")","v":" "},null,null,null,null,null,0,null,null,null,0," "," "," "," "]
[{"$f":"IF(COUNTRY_INFO!A61=0,\" \",COUNTRY_INFO!A61)","v":"Chad"},{"$f":"IF(COUNTRY_INFO!B61=0,\" \",COUNTRY_INFO!B61)","v":"Logone Occidental"},{"$f":"IF(COUNTRY_INFO!C61=0,\" \",COUNTRY_INFO!C61)","v":"Benoye"},{"$f":"IF(OR(COUNTRY_INFO!$U$9:$U$1000=\"T3 (ALB/MBD)\",COUNTRY_INFO!$V$9:$V$1000=\"T3 (ALB/MBD)\"), \"T3 (ALB/MBD)\", \" \")","v":" "},null,null,null,null,null,0,null,null,null,0," "," "," "," "]
[{"$f":"IF(COUNTRY_INFO!A62=0,\" \",COUNTRY_INFO!A62)","v":"Chad"},{"$f":"IF(COUNTRY_INFO!B62=0,\" \",COUNTRY_INFO!B62)","v":"Logone Occidental"},{"$f":"IF(COUNTRY_INFO!C62=0,\" \",COUNTRY_INFO!C62)","v":"Laokassy"},{"$f":"IF(OR(COUNTRY_INFO!$U$9:$U$1000=\"T3 (ALB/MBD)\",COUNTRY_INFO!$V$9:$V$1000=\"T3 (ALB/MBD)\"), \"T3 (ALB/MBD)\", \" \")","v":" "},null,null,null,null,null,0,null,null,null,0," "," "," "," "]
[{"$f":"IF(COUNTRY_INFO!A63=0,\" \",COUNTRY_INFO!A63)","v":"Chad"},{"$f":"IF(COUNTRY_INFO!B63=0,\" \",COUNTRY_INFO!B63)","v":"Logone Occidental"},{"$f":"IF(COUNTRY_INFO!C63=0,\" \",COUNTRY_INFO!C63)","v":"Moundou"},{"$f":"IF(OR(COUNTRY_INFO!$U$9:$U$1000=\"T3 (ALB/MBD)\",COUNTRY_INFO!$V$9:$V$1000=\"T3 (ALB/MBD)\"), \"T3 (ALB/MBD)\", \" \")","v":" "},null,null,null,null,null,0,null,null,null,0," "," "," "," "]
[{"$f":"IF(COUNTRY_INFO!A64=0,\" \",COUNTRY_INFO!A64)","v":"Chad"},{"$f":"IF(COUNTRY_INFO!B64=0,\" \",COUNTRY_INFO!B64)","v":"Logone Orientlal"},{"$f":"IF(COUNTRY_INFO!C64=0,\" \",COUNTRY_INFO!C64)","v":"Baibokoum"},{"$f":"IF(OR(COUNTRY_INFO!$U$9:$U$1000=\"T3 (ALB/MBD)\",COUNTRY_INFO!$V$9:$V$1000=\"T3 (ALB/MBD)\"), \"T3 (ALB/MBD)\", \" \")","v":" "},null,null,null,null,null,0,null,null,null,0," "," "," "," "]
[{"$f":"IF(COUNTRY_INFO!A65=0,\" \",COUNTRY_INFO!A65)","v":"Chad"},{"$f":"IF(COUNTRY_INFO!B65=0,\" \",COUNTRY_INFO!B65)","v":"Logone Orientlal"},{"$f":"IF(COUNTRY_INFO!C65=0,\" \",COUNTRY_INFO!C65)","v":"Bebedja"},{"$f":"IF(OR(COUNTRY_INFO!$U$9:$U$1000=\"T3 (ALB/MBD)\",COUNTRY_INFO!$V$9:$V$1000=\"T3 (ALB/MBD)\"), \"T3 (ALB/MBD)\", \" \")","v":" "},null,null,null,null,null,0,null,null,null,0," "," "," "," "]
[{"$f":"IF(COUNTRY_INFO!A66=0,\" \",COUNTRY_INFO!A66)","v":"Chad"},{"$f":"IF(COUNTRY_INFO!B66=0,\" \",COUNTRY_INFO!B66)","v":"Logone Orientlal"},{"$f":"IF(COUNTRY_INFO!C66=0,\" \",COUNTRY_INFO!C66)","v":"Beboto"},{"$f":"IF(OR(COUNTRY_INFO!$U$9:$U$1000=\"T3 (ALB/MBD)\",COUNTRY_INFO!$V$9:$V$1000=\"T3 (ALB/MBD)\"), \"T3 (ALB/MBD)\", \" \")","v":" "},null,null,null,null,null,0,null,null,null,0," "," "," "," "]
[{"$f":"IF(COUNTRY_INFO!A67=0,\" \",COUNTRY_INFO!A67)","v":"Chad"},{"$f":"IF(COUNTRY_INFO!B67=0,\" \",COUNTRY_INFO!B67)","v":"Logone Orientlal"},{"$f":"IF(COUNTRY_INFO!C67=0,\" \",COUNTRY_INFO!C67)","v":"Bessao"},{"$f":"IF(OR(COUNTRY_INFO!$U$9:$U$1000=\"T3 (ALB/MBD)\",COUNTRY_INFO!$V$9:$V$1000=\"T3 (ALB/MBD)\"), \"T3 (ALB/MBD)\", \" \")","v":" "},null,null,null,null,null,0,null,null,null,0," "," "," "," "]
[{"$f":"IF(COUNTRY_INFO!A68=0,\" \",COUNTRY_INFO!A68)","v":"Chad"},{"$f":"IF(COUNTRY_INFO!B68=0,\" \",COUNTRY_INFO!B68)","v":"Logone Orientlal"},{"$f":"IF(COUNTRY_INFO!C68=0,\" \",COUNTRY_INFO!C68)","v":"Bodo"},{"$f":"IF(OR(COUNTRY_INFO!$U$9:$U$1000=\"T3 (ALB/MBD)\",COUNTRY_INFO!$V$9:$V$1000=\"T3 (ALB/MBD)\"), \"T3 (ALB/MBD)\", \" \")","v":" "},null,null,null,null,null,0,null,null,null,0," "," "," "," "]
[{"$f":"IF(COUNTRY_INFO!A69=0,\" \",COUNTRY_INFO!A69)","v":"Chad"},{"$f":"IF(COUNTRY_INFO!B69=0,\" \",COUNTRY_INFO!B69)","v":"Logone Orientlal"},{"$f":"IF(COUNTRY_INFO!C69=0,\" \",COUNTRY_INFO!C69)","v":"Doba"},{"$f":"IF(OR(COUNTRY_INFO!$U$9:$U$1000=\"T3 (ALB/MBD)\",COUNTRY_INFO!$V$9:$V$1000=\"T3 (ALB/MBD)\"), \"T3 (ALB/MBD)\", \" \")","v":" "},null,null,null,null,null,0,null,null,null,0," "," "," "," "]
[{"$f":"IF(COUNTRY_INFO!A70=0,\" \",COUNTRY_INFO!A70)","v":"Chad"},{"$f":"IF(COUNTRY_INFO!B70=0,\" \",COUNTRY_INFO!B70)","v":"Logone Orientlal"},{"$f":"IF(COUNTRY_INFO!C70=0,\" \",COUNTRY_INFO!C70)","v":"DONIA"},{"$f":"IF(OR(COUNTRY_INFO!$U$9:$U$1000=\"T3 (ALB/MBD)\",COUNTRY_INFO!$V$9:$V$1000=\"T3 (ALB/MBD)\"), \"T3 (ALB/MBD)\", \" \")","v":" "},null,null,null,null,null,0,null,null,null,0," "," "," "," "]
[{"$f":"IF(COUNTRY_INFO!A71=0,\" \",COUNTRY_INFO!A71)","v":"Chad"},{"$f":"IF(COUNTRY_INFO!B71=0,\" \",COUNTRY_INFO!B71)","v":"Logone Orientlal"},{"$f":"IF(COUNTRY_INFO!C71=0,\" \",COUNTRY_INFO!C71)","v":"Goré"},{"$f":"IF(OR(COUNTRY_INFO!$U$9:$U$1000=\"T3 (ALB/MBD)\",COUNTRY_INFO!$V$9:$V$1000=\"T3 (ALB/MBD)\"), \"T3 (ALB/MBD)\", \" \")","v":" "},null,null,null,null,null,0,null,null,null,0," "," "," "," "]
[{"$f":"IF(COUNTRY_INFO!A72=0,\" \",COUNTRY_INFO!A72)","v":"Chad"},{"$f":"IF(COUNTRY_INFO!B72=0,\" \",COUNTRY_INFO!B72)","v":"Logone Orientlal"},{"$f":"IF(COUNTRY_INFO!C72=0,\" \",COUNTRY_INFO!C72)","v":"Kara"},{"$f":"IF(OR(COUNTRY_INFO!$U$9:$U$1000=\"T3 (ALB/MBD)\",COUNTRY_INFO!$V$9:$V$1000=\"T3 (ALB/MBD)\"), \"T3 (ALB/MBD)\", \" \")","v":" "},null,null,null,null,null,0,null,null,null,0," "," "," "," "]
[{"$f":"IF(COUNTRY_INFO!A73=0,\" \",COUNTRY_INFO!A73)","v":"Chad"},{"$f":"IF(COUNTRY_INFO!B73=0,\" \",COUNTRY_INFO!B73)","v":"Logone Orientlal"},{"$f":"IF(COUNTRY_INFO!C73=0,\" \",COUNTRY_INFO!C73)","v":"Larmanaye"},{"$f":"IF(OR(COUNTRY_INFO!$U$9:$U$1000=\"T3 (ALB/MBD)\",COUNTRY_INFO!$V$9:$V$1000=\"T3 (ALB/MBD)\"), \"T3 (ALB/MBD)\", \" \")","v":" "},null,null,null,null,null,0,null,null,null,0," "," "," "," "]
[{"$f":"IF(COUNTRY_INFO!A74=0,\" \",COUNTRY_INFO!A74)","v":"Chad"},{"$f":"IF(COUNTRY_INFO!B74=0,\" \",COUNTRY_INFO!B74)","v":"Mandoul"},{"$f":"IF(COUNTRY_INFO!C74=0,\" \",COUNTRY_INFO!C74)","v":"Bedaya"},{"$f":"IF(OR(COUNTRY_INFO!$U$9:$U$1000=\"T3 (ALB/MBD)\",COUNTRY_INFO!$V$9:$V$1000=\"T3 (ALB/MBD)\"), \"T3 (ALB/MBD)\", \" \")","v":" "},null,null,null,null,null,{"$f":"SUM(G74:I74)","v":0},null,null,null,{"$f":"SUM(K74:M74)","v":0},{"$f":"IF(G74<>0, IF(K74/G74*100=0, \"-\", K74/G74*100), \" \")","v":" "},{"$f":"IF(H74<>0, IF(L74/H74*100=0, \"-\", L74/H74*100), \" \")","v":" "},{"$f":"IF(I74<>0, IF(M74/I74*100=0, \"-\", M74/I74*100), \" \")","v":" "},{"$f":"IF(J74<>0, IF(N74/J74*100=0, \"-\", N74/J74*100), \" \")","v":" "}]
[{"$f":"IF(COUNTRY_INFO!A75=0,\" \",COUNTRY_INFO!A75)","v":"Chad"},{"$f":"IF(COUNTRY_INFO!B75=0,\" \",COUNTRY_INFO!B75)","v":"Mandoul"},{"$f":"IF(COUNTRY_INFO!C75=0,\" \",COUNTRY_INFO!C75)","v":"Bedjondo"},{"$f":"IF(OR(COUNTRY_INFO!$U$9:$U$1000=\"T3 (ALB/MBD)\",COUNTRY_INFO!$V$9:$V$1000=\"T3 (ALB/MBD)\"), \"T3 (ALB/MBD)\", \" \")","v":" "},null,null,null,null,null,0,null,null,null,0," "," "," "," "]
[{"$f":"IF(COUNTRY_INFO!A76=0,\" \",COUNTRY_INFO!A76)","v":"Chad"},{"$f":"IF(COUNTRY_INFO!B76=0,\" \",COUNTRY_INFO!B76)","v":"Mandoul"},{"$f":"IF(COUNTRY_INFO!C76=0,\" \",COUNTRY_INFO!C76)","v":"Bekourou"},{"$f":"IF(OR(COUNTRY_INFO!$U$9:$U$1000=\"T3 (ALB/MBD)\",COUNTRY_INFO!$V$9:$V$1000=\"T3 (ALB/MBD)\"), \"T3 (ALB/MBD)\", \" \")","v":" "},null,null,null,null,null,0,null,null,null,0," "," "," "," "]
[{"$f":"IF(COUNTRY_INFO!A77=0,\" \",COUNTRY_INFO!A77)","v":"Chad"},{"$f":"IF(COUNTRY_INFO!B77=0,\" \",COUNTRY_INFO!B77)","v":"Mandoul"},{"$f":"IF(COUNTRY_INFO!C77=0,\" \",COUNTRY_INFO!C77)","v":"Bouna"},{"$f":"IF(OR(COUNTRY_INFO!$U$9:$U$1000=\"T3 (ALB/MBD)\",COUNTRY_INFO!$V$9:$V$1000=\"T3 (ALB/MBD)\"), \"T3 (ALB/MBD)\", \" \")","v":" "},null,null,null,null,null,0,null,null,null,0," "," "," "," "]
[{"$f":"IF(COUNTRY_INFO!A78=0,\" \",COUNTRY_INFO!A78)","v":"Chad"},{"$f":"IF(COUNTRY_INFO!B78=0,\" \",COUNTRY_INFO!B78)","v":"Mandoul"},{"$f":"IF(COUNTRY_INFO!C78=0,\" \",COUNTRY_INFO!C78)","v":"Goundi"},{"$f":"IF(OR(COUNTRY_INFO!$U$9:$U$1000=\"T3 (ALB/MBD)\",COUNTRY_INFO!$V$9:$V$1000=\"T3 (ALB/MBD)\"), \"T3 (ALB/MBD)\", \" \")","v":" "},null,null,null,null,null,0,null,null,null,0," "," "," "," "]
[{"$f":"IF(COUNTRY_INFO!A79=0,\" \",COUNTRY_INFO!A79)","v":"Chad"},{"$f":"IF(COUNTRY_INFO!B79=0,\" \",COUNTRY_INFO!B79)","v":"Mandoul"},{"$f":"IF(COUNTRY_INFO!C79=0,\" \",COUNTRY_INFO!C79)","v":"Koumra"},{"$f":"IF(OR(COUNTRY_INFO!$U$9:$U$1000=\"T3 (ALB/MBD)\",COUNTRY_INFO!$V$9:$V$1000=\"T3 (ALB/MBD)\"), \"T3 (ALB/MBD)\", \" \")","v":" "},null,null,null,null,null,0,null,null,null,0," "," "," "," "]
[{"$f":"IF(COUNTRY_INFO!A80=0,\" \",COUNTRY_INFO!A80)","v":"Chad"},{"$f":"IF(COUNTRY_INFO!B80=0,\" \",COUNTRY_INFO!B80)","v":"Mandoul"},{"$f":"IF(COUNTRY_INFO!C80=0,\" \",COUNTRY_INFO!C80)","v":"Moissala"},{"$f":"IF(OR(COUNTRY_INFO!$U$9:$U$1000=\"T3 (ALB/MBD)\",COUNTRY_INFO!$V$9:$V$1000=\"T3 (ALB/MBD)\"), \"T3 (ALB/MBD)\", \" \")","v":" "},null,null,null,null,null,0,null,null,null,0," "," "," "," "]
[{"$f":"IF(COUNTRY_INFO!A81=0,\" \",COUNTRY_INFO!A81)","v":"Chad"},{"$f":"IF(COUNTRY_INFO!B81=0,\" \",COUNTRY_INFO!B81)","v":"Mayo Kebbi Est"},{"$f":"IF(COUNTRY_INFO!C81=0,\" \",COUNTRY_INFO!C81)","v":"Bongor"},{"$f":"IF(OR(COUNTRY_INFO!$U$9:$U$1000=\"T3 (ALB/MBD)\",COUNTRY_INFO!$V$9:$V$1000=\"T3 (ALB/MBD)\"), \"T3 (ALB/MBD)\", \" \")","v":" "},null,null,null,null,null,0,null,null,null,0," "," "," "," "]
[{"$f":"IF(COUNTRY_INFO!A82=0,\" \",COUNTRY_INFO!A82)","v":"Chad"},{"$f":"IF(COUNTRY_INFO!B82=0,\" \",COUNTRY_INFO!B82)","v":"Mayo Kebbi Est"},{"$f":"IF(COUNTRY_INFO!C82=0,\" \",COUNTRY_INFO!C82)","v":"Fianga"},{"$f":"IF(OR(COUNTRY_INFO!$U$9:$U$1000=\"T3 (ALB/MBD)\",COUNTRY_INFO!$V$9:$V$1000=\"T3 (ALB/MBD)\"), \"T3 (ALB/MBD)\", \" \")","v":" "},null,null,null,null,null,0,null,null,null,0," "," "," "," "]
[{"$f":"IF(COUNTRY_INFO!A83=0,\" \",COUNTRY_INFO!A83)","v":"Chad"},{"$f":"IF(COUNTRY_INFO!B83=0,\" \",COUNTRY_INFO!B83)","v":"Mayo Kebbi Est"},{"$f":"IF(COUNTRY_INFO!C83=0,\" \",COUNTRY_INFO!C83)","v":"Gounou Gaya"},{"$f":"IF(OR(COUNTRY_INFO!$U$9:$U$1000=\"T3 (ALB/MBD)\",COUNTRY_INFO!$V$9:$V$1000=\"T3 (ALB/MBD)\"), \"T3 (ALB/MBD)\", \" \")","v":" "},null,null,null,null,null,0,null,null,null,0," "," "," "," "]
[{"$f":"IF(COUNTRY_INFO!A84=0,\" \",COUNTRY_INFO!A84)","v":"Chad"},{"$f":"IF(COUNTRY_INFO!B84=0,\" \",COUNTRY_INFO!B84)","v":"Mayo Kebbi Est"},{"$f":"IF(COUNTRY_INFO!C84=0,\" \",COUNTRY_INFO!C84)","v":"Guelinding"},{"$f":"IF(OR(COUNTRY_INFO!$U$9:$U$1000=\"T3 (ALB/MBD)\",COUNTRY_INFO!$V$9:$V$1000=\"T3 (ALB/MBD)\"), \"T3 (ALB/MBD)\", \" \")","v":" "},null,null,null,null,null,0,null,null,null,0," "," "," "," "]
[{"$f":"IF(COUNTRY_INFO!A85=0,\" \",COUNTRY_INFO!A85)","v":"Chad"},{"$f":"IF(COUNTRY_INFO!B85=0,\" \",COUNTRY_INFO!B85)","v":"Mayo Kebbi Est"},{"$f":"IF(COUNTRY_INFO!C85=0,\" \",COUNTRY_INFO!C85)","v":"Moulkou"},{"$f":"IF(OR(COUNTRY_INFO!$U$9:$U$1000=\"T3 (ALB/MBD)\",COUNTRY_INFO!$V$9:$V$1000=\"T3 (ALB/MBD)\"), \"T3 (ALB/MBD)\", \" \")","v":" "},null,null,null,null,null,0,null,null,null,0," "," "," "," "]
[{"$f":"IF(COUNTRY_INFO!A86=0,\" \",COUNTRY_INFO!A86)","v":"Chad"},{"$f":"IF(COUNTRY_INFO!B86=0,\" \",COUNTRY_INFO!B86)","v":"Mayo Kebbi Est"},{"$f":"IF(COUNTRY_INFO!C86=0,\" \",COUNTRY_INFO!C86)","v":"Pont Carol"},{"$f":"IF(OR(COUNTRY_INFO!$U$9:$U$1000=\"T3 (ALB/MBD)\",COUNTRY_INFO!$V$9:$V$1000=\"T3 (ALB/MBD)\"), \"T3 (ALB/MBD)\", \" \")","v":" "},null,null,null,null,null,0,null,null,null,0," "," "," "," "]
[{"$f":"IF(COUNTRY_INFO!A87=0,\" \",COUNTRY_INFO!A87)","v":"Chad"},{"$f":"IF(COUNTRY_INFO!B87=0,\" \",COUNTRY_INFO!B87)","v":"Mayo Kebbi Est"},{"$f":"IF(COUNTRY_INFO!C87=0,\" \",COUNTRY_INFO!C87)","v":"Youé"},{"$f":"IF(OR(COUNTRY_INFO!$U$9:$U$1000=\"T3 (ALB/MBD)\",COUNTRY_INFO!$V$9:$V$1000=\"T3 (ALB/MBD)\"), \"T3 (ALB/MBD)\", \" \")","v":" "},null,null,null,null,null,0,null,null,null,0," "," "," "," "]
[{"$f":"IF(COUNTRY_INFO!A88=0,\" \",COUNTRY_INFO!A88)","v":"Chad"},{"$f":"IF(COUNTRY_INFO!B88=0,\" \",COUNTRY_INFO!B88)","v":"Mayo Kebbi Ouest"},{"$f":"IF(COUNTRY_INFO!C88=0,\" \",COUNTRY_INFO!C88)","v":"Binder"},{"$f":"IF(OR(COUNTRY_INFO!$U$9:$U$1000=\"T3 (ALB/MBD)\",COUNTRY_INFO!$V$9:$V$1000=\"T3 (ALB/MBD)\"), \"T3 (ALB/MBD)\", \" \")","v":" "},null,null,null,null,null,0,null,null,null,0," "," "," "," "]
[{"$f":"IF(COUNTRY_INFO!A89=0,\" \",COUNTRY_INFO!A89)","v":"Chad"},{"$f":"IF(COUNTRY_INFO!B89=0,\" \",COUNTRY_INFO!B89)","v":"Mayo Kebbi Ouest"},{"$f":"IF(COUNTRY_INFO!C89=0,\" \",COUNTRY_INFO!C89)","v":"Gagal"},{"$f":"IF(OR(COUNTRY_INFO!$U$9:$U$1000=\"T3 (ALB/MBD)\",COUNTRY_INFO!$V$9:$V$1000=\"T3 (ALB/MBD)\"), \"T3 (ALB/MBD)\", \" \")","v":" "},null,null,null,null,null,0,null,null,null,0," "," "," "," "]
[{"$f":"IF(COUNTRY_INFO!A90=0,\" \",COUNTRY_INFO!A90)","v":"Chad"},{"$f":"IF(COUNTRY_INFO!B90=0,\" \",COUNTRY_INFO!B90)","v":"Mayo Kebbi Ouest"},{"$f":"IF(COUNTRY_INFO!C90=0,\" \",COUNTRY_INFO!C90)","v":"Guegou"},{"$f":"IF(OR(COUNTRY_INFO!$U$9:$U$1000=\"T3 (ALB/MBD)\",COUNTRY_INFO!$V$9:$V$1000=\"T3 (ALB/MBD)\"), \"T3 (ALB/MBD)\", \" \")","v":" "},null,null,null,null,null,0,null,null,null,0," "," "," "," "]
[{"$f":"IF(COUNTRY_INFO!A91=0,\" \",COUNTRY_INFO!A91)","v":"Chad"},{"$f":"IF(COUNTRY_INFO!B91=0,\" \",COUNTRY_INFO!B91)","v":"Mayo Kebbi Ouest"},{"$f":"IF(COUNTRY_INFO!C91=0,\" \",COUNTRY_INFO!C91)","v":"GUELO"},{"$f":"IF(OR(COUNTRY_INFO!$U$9:$U$1000=\"T3 (ALB/MBD)\",COUNTRY_INFO!$V$9:$V$1000=\"T3 (ALB/MBD)\"), \"T3 (ALB/MBD)\", \" \")","v":" "},null,null,null,null,null,0,null,null,null,0," "," "," "," "]
[{"$f":"IF(COUNTRY_INFO!A92=0,\" \",COUNTRY_INFO!A92)","v":"Chad"},{"$f":"IF(COUNTRY_INFO!B92=0,\" \",COUNTRY_INFO!B92)","v":"Mayo Kebbi Ouest"},{"$f":"IF(COUNTRY_INFO!C92=0,\" \",COUNTRY_INFO!C92)","v":"Lagon"},{"$f":"IF(OR(COUNTRY_INFO!$U$9:$U$1000=\"T3 (ALB/MBD)\",COUNTRY_INFO!$V$9:$V$1000=\"T3 (ALB/MBD)\"), \"T3 (ALB/MBD)\", \" \")","v":" "},null,null,null,null,null,0,null,null,null,0," "," "," "," "]
[{"$f":"IF(COUNTRY_INFO!A93=0,\" \",COUNTRY_INFO!A93)","v":"Chad"},{"$f":"IF(COUNTRY_INFO!B93=0,\" \",COUNTRY_INFO!B93)","v":"Mayo Kebbi Ouest"},{"$f":"IF(COUNTRY_INFO!C93=0,\" \",COUNTRY_INFO!C93)","v":"Lamé"},{"$f":"IF(OR(COUNTRY_INFO!$U$9:$U$1000=\"T3 (ALB/MBD)\",COUNTRY_INFO!$V$9:$V$1000=\"T3 (ALB/MBD)\"), \"T3 (ALB/MBD)\", \" \")","v":" "},null,null,null,null,null,0,null,null,null,0," "," "," "," "]
[{"$f":"IF(COUNTRY_INFO!A94=0,\" \",COUNTRY_INFO!A94)","v":"Chad"},{"$f":"IF(COUNTRY_INFO!B94=0,\" \",COUNTRY_INFO!B94)","v":"Mayo Kebbi Ouest"},{"$f":"IF(COUNTRY_INFO!C94=0,\" \",COUNTRY_INFO!C94)","v":"Lere"},{"$f":"IF(OR(COUNTRY_INFO!$U$9:$U$1000=\"T3 (ALB/MBD)\",COUNTRY_INFO!$V$9:$V$1000=\"T3 (ALB/MBD)\"), \"T3 (ALB/MBD)\", \" \")","v":" "},null,null,null,null,null,0,null,null,null,0," "," "," "," "]
[{"$f":"IF(COUNTRY_INFO!A95=0,\" \",COUNTRY_INFO!A95)","v":"Chad"},{"$f":"IF(COUNTRY_INFO!B95=0,\" \",COUNTRY_INFO!B95)","v":"Mayo Kebbi Ouest"},{"$f":"IF(COUNTRY_INFO!C95=0,\" \",COUNTRY_INFO!C95)","v":"Pala"},{"$f":"IF(OR(COUNTRY_INFO!$U$9:$U$1000=\"T3 (ALB/MBD)\",COUNTRY_INFO!$V$9:$V$1000=\"T3 (ALB/MBD)\"), \"T3 (ALB/MBD)\", \" \")","v":" "},null,null,null,null,null,0,null,null,null,0," "," "," "," "]
[{"$f":"IF(COUNTRY_INFO!A96=0,\" \",COUNTRY_INFO!A96)","v":"Chad"},{"$f":"IF(COUNTRY_INFO!B96=0,\" \",COUNTRY_INFO!B96)","v":"Mayo Kebbi Ouest"},{"$f":"IF(COUNTRY_INFO!C96=0,\" \",COUNTRY_INFO!C96)","v":"Torrock"},{"$f":"IF(OR(COUNTRY_INFO!$U$9:$U$1000=\"T3 (ALB/MBD)\",COUNTRY_INFO!$V$9:$V$1000=\"T3 (ALB/MBD)\"), \"T3 (ALB/MBD)\", \" \")","v":" "},null,null,null,null,null,0,null,null,null,0," "," "," "," "]
[{"$f":"IF(COUNTRY_INFO!A97=0,\" \",COUNTRY_INFO!A97)","v":"Chad"},{"$f":"IF(COUNTRY_INFO!B97=0,\" \",COUNTRY_INFO!B97)","v":"Moyen Chari"},{"$f":"IF(COUNTRY_INFO!C97=0,\" \",COUNTRY_INFO!C97)","v":"Balimba"},{"$f":"IF(OR(COUNTRY_INFO!$U$9:$U$1000=\"T3 (ALB/MBD)\",COUNTRY_INFO!$V$9:$V$1000=\"T3 (ALB/MBD)\"), \"T3 (ALB/MBD)\", \" \")","v":" "},null,null,null,null,null,0,null,null,null,0," "," "," "," "]
[{"$f":"IF(COUNTRY_INFO!A98=0,\" \",COUNTRY_INFO!A98)","v":"Chad"},{"$f":"IF(COUNTRY_INFO!B98=0,\" \",COUNTRY_INFO!B98)","v":"Moyen Chari"},{"$f":"IF(COUNTRY_INFO!C98=0,\" \",COUNTRY_INFO!C98)","v":"Biobe Singako"},{"$f":"IF(OR(COUNTRY_INFO!$U$9:$U$1000=\"T3 (ALB/MBD)\",COUNTRY_INFO!$V$9:$V$1000=\"T3 (ALB/MBD)\"), \"T3 (ALB/MBD)\", \" \")","v":" "},null,null,null,null,null,0,null,null,null,0," "," "," "," "]
[{"$f":"IF(COUNTRY_INFO!A99=0,\" \",COUNTRY_INFO!A99)","v":"Chad"},{"$f":"IF(COUNTRY_INFO!B99=0,\" \",COUNTRY_INFO!B99)","v":"Moyen Chari"},{"$f":"IF(COUNTRY_INFO!C99=0,\" \",COUNTRY_INFO!C99)","v":"Danamadji"},{"$f":"IF(OR(COUNTRY_INFO!$U$9:$U$1000=\"T3 (ALB/MBD)\",COUNTRY_INFO!$V$9:$V$1000=\"T3 (ALB/MBD)\"), \"T3 (ALB/MBD)\", \" \")","v":" "},null,null,null,null,null,0,null,null,null,0," "," "," "," "]
[{"$f":"IF(COUNTRY_INFO!A100=0,\" \",COUNTRY_INFO!A100)","v":"Chad"},{"$f":"IF(COUNTRY_INFO!B100=0,\" \",COUNTRY_INFO!B100)","v":"Moyen Chari"},{"$f":"IF(COUNTRY_INFO!C100=0,\" \",COUNTRY_INFO!C100)","v":"Korbol"},{"$f":"IF(OR(COUNTRY_INFO!$U$9:$U$1000=\"T3 (ALB/MBD)\",COUNTRY_INFO!$V$9:$V$1000=\"T3 (ALB/MBD)\"), \"T3 (ALB/MBD)\", \" \")","v":" "},null,null,null,null,null,0,null,null,null,0," "," "," "," "]
[{"$f":"IF(COUNTRY_INFO!A101=0,\" \",COUNTRY_INFO!A101)","v":"Chad"},{"$f":"IF(COUNTRY_INFO!B101=0,\" \",COUNTRY_INFO!B101)","v":"Moyen Chari"},{"$f":"IF(COUNTRY_INFO!C101=0,\" \",COUNTRY_INFO!C101)","v":"Koumogo"},{"$f":"IF(OR(COUNTRY_INFO!$U$9:$U$1000=\"T3 (ALB/MBD)\",COUNTRY_INFO!$V$9:$V$1000=\"T3 (ALB/MBD)\"), \"T3 (ALB/MBD)\", \" \")","v":" "},null,null,null,null,null,0,null,null,null,0," "," "," "," "]
[{"$f":"IF(COUNTRY_INFO!A102=0,\" \",COUNTRY_INFO!A102)","v":"Chad"},{"$f":"IF(COUNTRY_INFO!B102=0,\" \",COUNTRY_INFO!B102)","v":"Moyen Chari"},{"$f":"IF(COUNTRY_INFO!C102=0,\" \",COUNTRY_INFO!C102)","v":"Kyabe"},{"$f":"IF(OR(COUNTRY_INFO!$U$9:$U$1000=\"T3 (ALB/MBD)\",COUNTRY_INFO!$V$9:$V$1000=\"T3 (ALB/MBD)\"), \"T3 (ALB/MBD)\", \" \")","v":" "},null,null,null,null,null,0,null,null,null,0," "," "," "," "]
[{"$f":"IF(COUNTRY_INFO!A103=0,\" \",COUNTRY_INFO!A103)","v":"Chad"},{"$f":"IF(COUNTRY_INFO!B103=0,\" \",COUNTRY_INFO!B103)","v":"Moyen Chari"},{"$f":"IF(COUNTRY_INFO!C103=0,\" \",COUNTRY_INFO!C103)","v":"Maro"},{"$f":"IF(OR(COUNTRY_INFO!$U$9:$U$1000=\"T3 (ALB/MBD)\",COUNTRY_INFO!$V$9:$V$1000=\"T3 (ALB/MBD)\"), \"T3 (ALB/MBD)\", \" \")","v":" "},null,null,null,null,null,0,null,null,null,0," "," "," "," "]
[{"$f":"IF(COUNTRY_INFO!A104=0,\" \",COUNTRY_INFO!A104)","v":"Chad"},{"$f":"IF(COUNTRY_INFO!B104=0,\" \",COUNTRY_INFO!B104)","v":"Moyen Chari"},{"$f":"IF(COUNTRY_INFO!C104=0,\" \",COUNTRY_INFO!C104)","v":"Sarh"},{"$f":"IF(OR(COUNTRY_INFO!$U$9:$U$1000=\"T3 (ALB/MBD)\",COUNTRY_INFO!$V$9:$V$1000=\"T3 (ALB/MBD)\"), \"T3 (ALB/MBD)\", \" \")","v":" "},null,null,null,null,null,0,null,null,null,0," "," "," "," "]
[{"$f":"IF(COUNTRY_INFO!A105=0,\" \",COUNTRY_INFO!A105)","v":"Chad"},{"$f":"IF(COUNTRY_INFO!B105=0,\" \",COUNTRY_INFO!B105)","v":"N'Djaména"},{"$f":"IF(COUNTRY_INFO!C105=0,\" \",COUNTRY_INFO!C105)","v":"N'Djaména Centre"},{"$f":"IF(OR(COUNTRY_INFO!$U$9:$U$1000=\"T3 (ALB/MBD)\",COUNTRY_INFO!$V$9:$V$1000=\"T3 (ALB/MBD)\"), \"T3 (ALB/MBD)\", \" \")","v":" "},null,null,null,null,null,0,null,null,null,0," "," "," "," "]
[{"$f":"IF(COUNTRY_INFO!A106=0,\" \",COUNTRY_INFO!A106)","v":"Chad"},{"$f":"IF(COUNTRY_INFO!B106=0,\" \",COUNTRY_INFO!B106)","v":"N'Djaména"},{"$f":"IF(COUNTRY_INFO!C106=0,\" \",COUNTRY_INFO!C106)","v":"N'Djaména Est"},{"$f":"IF(OR(COUNTRY_INFO!$U$9:$U$1000=\"T3 (ALB/MBD)\",COUNTRY_INFO!$V$9:$V$1000=\"T3 (ALB/MBD)\"), \"T3 (ALB/MBD)\", \" \")","v":" "},null,null,null,null,null,0,null,null,null,0," "," "," "," "]
[{"$f":"IF(COUNTRY_INFO!A107=0,\" \",COUNTRY_INFO!A107)","v":"Chad"},{"$f":"IF(COUNTRY_INFO!B107=0,\" \",COUNTRY_INFO!B107)","v":"N'Djaména"},{"$f":"IF(COUNTRY_INFO!C107=0,\" \",COUNTRY_INFO!C107)","v":"N'Djaména Nord"},{"$f":"IF(OR(COUNTRY_INFO!$U$9:$U$1000=\"T3 (ALB/MBD)\",COUNTRY_INFO!$V$9:$V$1000=\"T3 (ALB/MBD)\"), \"T3 (ALB/MBD)\", \" \")","v":" "},null,null,null,null,null,0,null,null,null,0," "," "," "," "]
[{"$f":"IF(COUNTRY_INFO!A108=0,\" \",COUNTRY_INFO!A108)","v":"Chad"},{"$f":"IF(COUNTRY_INFO!B108=0,\" \",COUNTRY_INFO!B108)","v":"N'Djaména"},{"$f":"IF(COUNTRY_INFO!C108=0,\" \",COUNTRY_INFO!C108)","v":"N'Djaména Sud"},{"$f":"IF(OR(COUNTRY_INFO!$U$9:$U$1000=\"T3 (ALB/MBD)\",COUNTRY_INFO!$V$9:$V$1000=\"T3 (ALB/MBD)\"), \"T3 (ALB/MBD)\", \" \")","v":" "},null,null,null,null,null,0,null,null,null,0," "," "," "," "]
[{"$f":"IF(COUNTRY_INFO!A109=0,\" \",COUNTRY_INFO!A109)","v":"Chad"},{"$f":"IF(COUNTRY_INFO!B109=0,\" \",COUNTRY_INFO!B109)","v":"N'Djamena"},{"$f":"IF(COUNTRY_INFO!C109=0,\" \",COUNTRY_INFO!C109)","v":"9eme Arrondissement"},{"$f":"IF(OR(COUNTRY_INFO!$U$9:$U$1000=\"T3 (ALB/MBD)\",COUNTRY_INFO!$V$9:$V$1000=\"T3 (ALB/MBD)\"), \"T3 (ALB/MBD)\", \" \")","v":" "},null,null,null,null,null,0,null,null,null,0," "," "," "," "]
[{"$f":"IF(COUNTRY_INFO!A110=0,\" \",COUNTRY_INFO!A110)","v":"Chad"},{"$f":"IF(COUNTRY_INFO!B110=0,\" \",COUNTRY_INFO!B110)","v":"Ouaddai"},{"$f":"IF(COUNTRY_INFO!C110=0,\" \",COUNTRY_INFO!C110)","v":"Abdi"},{"$f":"IF(OR(COUNTRY_INFO!$U$9:$U$1000=\"T3 (ALB/MBD)\",COUNTRY_INFO!$V$9:$V$1000=\"T3 (ALB/MBD)\"), \"T3 (ALB/MBD)\", \" \")","v":" "},null,null,null,null,null,0,null,null,null,0," "," "," "," "]
[{"$f":"IF(COUNTRY_INFO!A111=0,\" \",COUNTRY_INFO!A111)","v":"Chad"},{"$f":"IF(COUNTRY_INFO!B111=0,\" \",COUNTRY_INFO!B111)","v":"Ouaddai"},{"$f":"IF(COUNTRY_INFO!C111=0,\" \",COUNTRY_INFO!C111)","v":"Abeche"},{"$f":"IF(OR(COUNTRY_INFO!$U$9:$U$1000=\"T3 (ALB/MBD)\",COUNTRY_INFO!$V$9:$V$1000=\"T3 (ALB/MBD)\"), \"T3 (ALB/MBD)\", \" \")","v":" "},null,null,null,null,null,0,null,null,null,0," "," "," "," "]
[{"$f":"IF(COUNTRY_INFO!A112=0,\" \",COUNTRY_INFO!A112)","v":"Chad"},{"$f":"IF(COUNTRY_INFO!B112=0,\" \",COUNTRY_INFO!B112)","v":"Ouaddai"},{"$f":"IF(COUNTRY_INFO!C112=0,\" \",COUNTRY_INFO!C112)","v":"Abougoudam"},{"$f":"IF(OR(COUNTRY_INFO!$U$9:$U$1000=\"T3 (ALB/MBD)\",COUNTRY_INFO!$V$9:$V$1000=\"T3 (ALB/MBD)\"), \"T3 (ALB/MBD)\", \" \")","v":" "},null,null,null,null,null,0,null,null,null,0," "," "," "," "]
[{"$f":"IF(COUNTRY_INFO!A113=0,\" \",COUNTRY_INFO!A113)","v":"Chad"},{"$f":"IF(COUNTRY_INFO!B113=0,\" \",COUNTRY_INFO!B113)","v":"Ouaddai"},{"$f":"IF(COUNTRY_INFO!C113=0,\" \",COUNTRY_INFO!C113)","v":"Adré"},{"$f":"IF(OR(COUNTRY_INFO!$U$9:$U$1000=\"T3 (ALB/MBD)\",COUNTRY_INFO!$V$9:$V$1000=\"T3 (ALB/MBD)\"), \"T3 (ALB/MBD)\", \" \")","v":" "},null,null,null,null,null,0,null,null,null,0," "," "," "," "]
[{"$f":"IF(COUNTRY_INFO!A114=0,\" \",COUNTRY_INFO!A114)","v":"Chad"},{"$f":"IF(COUNTRY_INFO!B114=0,\" \",COUNTRY_INFO!B114)","v":"Salamat"},{"$f":"IF(COUNTRY_INFO!C114=0,\" \",COUNTRY_INFO!C114)","v":"Aboudeia"},{"$f":"IF(OR(COUNTRY_INFO!$U$9:$U$1000=\"T3 (ALB/MBD)\",COUNTRY_INFO!$V$9:$V$1000=\"T3 (ALB/MBD)\"), \"T3 (ALB/MBD)\", \" \")","v":" "},null,null,null,null,null,0,null,null,null,0," "," "," "," "]
[{"$f":"IF(COUNTRY_INFO!A115=0,\" \",COUNTRY_INFO!A115)","v":"Chad"},{"$f":"IF(COUNTRY_INFO!B115=0,\" \",COUNTRY_INFO!B115)","v":"Salamat"},{"$f":"IF(COUNTRY_INFO!C115=0,\" \",COUNTRY_INFO!C115)","v":"Am-Timan"},{"$f":"IF(OR(COUNTRY_INFO!$U$9:$U$1000=\"T3 (ALB/MBD)\",COUNTRY_INFO!$V$9:$V$1000=\"T3 (ALB/MBD)\"), \"T3 (ALB/MBD)\", \" \")","v":" "},null,null,null,null,null,0,null,null,null,0," "," "," "," "]
[{"$f":"IF(COUNTRY_INFO!A116=0,\" \",COUNTRY_INFO!A116)","v":"Chad"},{"$f":"IF(COUNTRY_INFO!B116=0,\" \",COUNTRY_INFO!B116)","v":"Salamat"},{"$f":"IF(COUNTRY_INFO!C116=0,\" \",COUNTRY_INFO!C116)","v":"Haraze"},{"$f":"IF(OR(COUNTRY_INFO!$U$9:$U$1000=\"T3 (ALB/MBD)\",COUNTRY_INFO!$V$9:$V$1000=\"T3 (ALB/MBD)\"), \"T3 (ALB/MBD)\", \" \")","v":" "},null,null,null,null,null,0,null,null,null,0," "," "," "," "]
[{"$f":"IF(COUNTRY_INFO!A117=0,\" \",COUNTRY_INFO!A117)","v":"Chad"},{"$f":"IF(COUNTRY_INFO!B117=0,\" \",COUNTRY_INFO!B117)","v":"Sila"},{"$f":"IF(COUNTRY_INFO!C117=0,\" \",COUNTRY_INFO!C117)","v":"Am-dam"},{"$f":"IF(OR(COUNTRY_INFO!$U$9:$U$1000=\"T3 (ALB/MBD)\",COUNTRY_INFO!$V$9:$V$1000=\"T3 (ALB/MBD)\"), \"T3 (ALB/MBD)\", \" \")","v":" "},null,null,null,null,null,0,null,null,null,0," "," "," "," "]
[{"$f":"IF(COUNTRY_INFO!A118=0,\" \",COUNTRY_INFO!A118)","v":"Chad"},{"$f":"IF(COUNTRY_INFO!B118=0,\" \",COUNTRY_INFO!B118)","v":"Sila"},{"$f":"IF(COUNTRY_INFO!C118=0,\" \",COUNTRY_INFO!C118)","v":"Goz-beida"},{"$f":"IF(OR(COUNTRY_INFO!$U$9:$U$1000=\"T3 (ALB/MBD)\",COUNTRY_INFO!$V$9:$V$1000=\"T3 (ALB/MBD)\"), \"T3 (ALB/MBD)\", \" \")","v":" "},null,null,null,null,null,0,null,null,null,0," "," "," "," "]
[{"$f":"IF(COUNTRY_INFO!A119=0,\" \",COUNTRY_INFO!A119)","v":"Chad"},{"$f":"IF(COUNTRY_INFO!B119=0,\" \",COUNTRY_INFO!B119)","v":"Sila"},{"$f":"IF(COUNTRY_INFO!C119=0,\" \",COUNTRY_INFO!C119)","v":"Koukou"},{"$f":"IF(OR(COUNTRY_INFO!$U$9:$U$1000=\"T3 (ALB/MBD)\",COUNTRY_INFO!$V$9:$V$1000=\"T3 (ALB/MBD)\"), \"T3 (ALB/MBD)\", \" \")","v":" "},null,null,null,null,null,0,null,null,null,0," "," "," "," "]
[{"$f":"IF(COUNTRY_INFO!A120=0,\" \",COUNTRY_INFO!A120)","v":"Chad"},{"$f":"IF(COUNTRY_INFO!B120=0,\" \",COUNTRY_INFO!B120)","v":"Sila"},{"$f":"IF(COUNTRY_INFO!C120=0,\" \",COUNTRY_INFO!C120)","v":"Tissi"},{"$f":"IF(OR(COUNTRY_INFO!$U$9:$U$1000=\"T3 (ALB/MBD)\",COUNTRY_INFO!$V$9:$V$1000=\"T3 (ALB/MBD)\"), \"T3 (ALB/MBD)\", \" \")","v":" "},null,null,null,null,null,0,null,null,null,0," "," "," "," "]
[{"$f":"IF(COUNTRY_INFO!A121=0,\" \",COUNTRY_INFO!A121)","v":"Chad"},{"$f":"IF(COUNTRY_INFO!B121=0,\" \",COUNTRY_INFO!B121)","v":"Tandjile"},{"$f":"IF(COUNTRY_INFO!C121=0,\" \",COUNTRY_INFO!C121)","v":"Batchoro"},{"$f":"IF(OR(COUNTRY_INFO!$U$9:$U$1000=\"T3 (ALB/MBD)\",COUNTRY_INFO!$V$9:$V$1000=\"T3 (ALB/MBD)\"), \"T3 (ALB/MBD)\", \" \")","v":" "},null,null,null,null,null,0,null,null,null,0," "," "," "," "]
[{"$f":"IF(COUNTRY_INFO!A122=0,\" \",COUNTRY_INFO!A122)","v":"Chad"},{"$f":"IF(COUNTRY_INFO!B122=0,\" \",COUNTRY_INFO!B122)","v":"Tandjile"},{"$f":"IF(COUNTRY_INFO!C122=0,\" \",COUNTRY_INFO!C122)","v":"Bere"},{"$f":"IF(OR(COUNTRY_INFO!$U$9:$U$1000=\"T3 (ALB/MBD)\",COUNTRY_INFO!$V$9:$V$1000=\"T3 (ALB/MBD)\"), \"T3 (ALB/MBD)\", \" \")","v":" "},null,null,null,null,null,0,null,null,null,0," "," "," "," "]
[{"$f":"IF(COUNTRY_INFO!A123=0,\" \",COUNTRY_INFO!A123)","v":"Chad"},{"$f":"IF(COUNTRY_INFO!B123=0,\" \",COUNTRY_INFO!B123)","v":"Tandjile"},{"$f":"IF(COUNTRY_INFO!C123=0,\" \",COUNTRY_INFO!C123)","v":"Bologo"},{"$f":"IF(OR(COUNTRY_INFO!$U$9:$U$1000=\"T3 (ALB/MBD)\",COUNTRY_INFO!$V$9:$V$1000=\"T3 (ALB/MBD)\"), \"T3 (ALB/MBD)\", \" \")","v":" "},null,null,null,null,null,0,null,null,null,0," "," "," "," "]
[{"$f":"IF(COUNTRY_INFO!A124=0,\" \",COUNTRY_INFO!A124)","v":"Chad"},{"$f":"IF(COUNTRY_INFO!B124=0,\" \",COUNTRY_INFO!B124)","v":"Tandjile"},{"$f":"IF(COUNTRY_INFO!C124=0,\" \",COUNTRY_INFO!C124)","v":"Dafra"},{"$f":"IF(OR(COUNTRY_INFO!$U$9:$U$1000=\"T3 (ALB/MBD)\",COUNTRY_INFO!$V$9:$V$1000=\"T3 (ALB/MBD)\"), \"T3 (ALB/MBD)\", \" \")","v":" "},null,null,null,null,null,0,null,null,null,0," "," "," "," "]
[{"$f":"IF(COUNTRY_INFO!A125=0,\" \",COUNTRY_INFO!A125)","v":"Chad"},{"$f":"IF(COUNTRY_INFO!B125=0,\" \",COUNTRY_INFO!B125)","v":"Tandjile"},{"$f":"IF(COUNTRY_INFO!C125=0,\" \",COUNTRY_INFO!C125)","v":"Deressia"},{"$f":"IF(OR(COUNTRY_INFO!$U$9:$U$1000=\"T3 (ALB/MBD)\",COUNTRY_INFO!$V$9:$V$1000=\"T3 (ALB/MBD)\"), \"T3 (ALB/MBD)\", \" \")","v":" "},null,null,null,null,null,0,null,null,null,0," "," "," "," "]
[{"$f":"IF(COUNTRY_INFO!A126=0,\" \",COUNTRY_INFO!A126)","v":"Chad"},{"$f":"IF(COUNTRY_INFO!B126=0,\" \",COUNTRY_INFO!B126)","v":"Tandjile"},{"$f":"IF(COUNTRY_INFO!C126=0,\" \",COUNTRY_INFO!C126)","v":"Donamanga"},{"$f":"IF(OR(COUNTRY_INFO!$U$9:$U$1000=\"T3 (ALB/MBD)\",COUNTRY_INFO!$V$9:$V$1000=\"T3 (ALB/MBD)\"), \"T3 (ALB/MBD)\", \" \")","v":" "},null,null,null,null,null,0,null,null,null,0," "," "," "," "]
[{"$f":"IF(COUNTRY_INFO!A127=0,\" \",COUNTRY_INFO!A127)","v":"Chad"},{"$f":"IF(COUNTRY_INFO!B127=0,\" \",COUNTRY_INFO!B127)","v":"Tandjile"},{"$f":"IF(COUNTRY_INFO!C127=0,\" \",COUNTRY_INFO!C127)","v":"Guidari"},{"$f":"IF(OR(COUNTRY_INFO!$U$9:$U$1000=\"T3 (ALB/MBD)\",COUNTRY_INFO!$V$9:$V$1000=\"T3 (ALB/MBD)\"), \"T3 (ALB/MBD)\", \" \")","v":" "},null,null,null,null,null,0,null,null,null,0," "," "," "," "]
[{"$f":"IF(COUNTRY_INFO!A128=0,\" \",COUNTRY_INFO!A128)","v":"Chad"},{"$f":"IF(COUNTRY_INFO!B128=0,\" \",COUNTRY_INFO!B128)","v":"Tandjile"},{"$f":"IF(COUNTRY_INFO!C128=0,\" \",COUNTRY_INFO!C128)","v":"Kelo"},{"$f":"IF(OR(COUNTRY_INFO!$U$9:$U$1000=\"T3 (ALB/MBD)\",COUNTRY_INFO!$V$9:$V$1000=\"T3 (ALB/MBD)\"), \"T3 (ALB/MBD)\", \" \")","v":" "},null,null,null,null,null,0,null,null,null,0," "," "," "," "]
[{"$f":"IF(COUNTRY_INFO!A129=0,\" \",COUNTRY_INFO!A129)","v":"Chad"},{"$f":"IF(COUNTRY_INFO!B129=0,\" \",COUNTRY_INFO!B129)","v":"Tandjile"},{"$f":"IF(COUNTRY_INFO!C129=0,\" \",COUNTRY_INFO!C129)","v":"Kolon"},{"$f":"IF(OR(COUNTRY_INFO!$U$9:$U$1000=\"T3 (ALB/MBD)\",COUNTRY_INFO!$V$9:$V$1000=\"T3 (ALB/MBD)\"), \"T3 (ALB/MBD)\", \" \")","v":" "},null,null,null,null,null,0,null,null,null,0," "," "," "," "]
[{"$f":"IF(COUNTRY_INFO!A130=0,\" \",COUNTRY_INFO!A130)","v":"Chad"},{"$f":"IF(COUNTRY_INFO!B130=0,\" \",COUNTRY_INFO!B130)","v":"Tandjile"},{"$f":"IF(COUNTRY_INFO!C130=0,\" \",COUNTRY_INFO!C130)","v":"Lai"},{"$f":"IF(OR(COUNTRY_INFO!$U$9:$U$1000=\"T3 (ALB/MBD)\",COUNTRY_INFO!$V$9:$V$1000=\"T3 (ALB/MBD)\"), \"T3 (ALB/MBD)\", \" \")","v":" "},null,null,null,null,null,0,null,null,null,0," "," "," "," "]
[{"$f":"IF(COUNTRY_INFO!A131=0,\" \",COUNTRY_INFO!A131)","v":"Chad"},{"$f":"IF(COUNTRY_INFO!B131=0,\" \",COUNTRY_INFO!B131)","v":"Tibesti"},{"$f":"IF(COUNTRY_INFO!C131=0,\" \",COUNTRY_INFO!C131)","v":"Bardaï"},{"$f":"IF(OR(COUNTRY_INFO!$U$9:$U$1000=\"T3 (ALB/MBD)\",COUNTRY_INFO!$V$9:$V$1000=\"T3 (ALB/MBD)\"), \"T3 (ALB/MBD)\", \" \")","v":" "},null,null,null,null,null,0,null,null,null,0," "," "," "," "]
[{"$f":"IF(COUNTRY_INFO!A132=0,\" \",COUNTRY_INFO!A132)","v":"Chad"},{"$f":"IF(COUNTRY_INFO!B132=0,\" \",COUNTRY_INFO!B132)","v":"Tibesti"},{"$f":"IF(COUNTRY_INFO!C132=0,\" \",COUNTRY_INFO!C132)","v":"Zouar"},{"$f":"IF(OR(COUNTRY_INFO!$U$9:$U$1000=\"T3 (ALB/MBD)\",COUNTRY_INFO!$V$9:$V$1000=\"T3 (ALB/MBD)\"), \"T3 (ALB/MBD)\", \" \")","v":" "},null,null,null,null,null,0,null,null,null,0," "," "," "," "]
[{"$f":"IF(COUNTRY_INFO!A133=0,\" \",COUNTRY_INFO!A133)","v":"Chad"},{"$f":"IF(COUNTRY_INFO!B133=0,\" \",COUNTRY_INFO!B133)","v":"Wadi Fira"},{"$f":"IF(COUNTRY_INFO!C133=0,\" \",COUNTRY_INFO!C133)","v":"amzoer"},{"$f":"IF(OR(COUNTRY_INFO!$U$9:$U$1000=\"T3 (ALB/MBD)\",COUNTRY_INFO!$V$9:$V$1000=\"T3 (ALB/MBD)\"), \"T3 (ALB/MBD)\", \" \")","v":" "},null,null,null,null,null,0,null,null,null,0," "," "," "," "]
[{"$f":"IF(COUNTRY_INFO!A134=0,\" \",COUNTRY_INFO!A134)","v":"Chad"},{"$f":"IF(COUNTRY_INFO!B134=0,\" \",COUNTRY_INFO!B134)","v":"Wadi Fira"},{"$f":"IF(COUNTRY_INFO!C134=0,\" \",COUNTRY_INFO!C134)","v":"Arada"},{"$f":"IF(OR(COUNTRY_INFO!$U$9:$U$1000=\"T3 (ALB/MBD)\",COUNTRY_INFO!$V$9:$V$1000=\"T3 (ALB/MBD)\"), \"T3 (ALB/MBD)\", \" \")","v":" "},null,null,null,null,null,0,null,null,null,0," "," "," "," "]
[{"$f":"IF(COUNTRY_INFO!A135=0,\" \",COUNTRY_INFO!A135)","v":"Chad"},{"$f":"IF(COUNTRY_INFO!B135=0,\" \",COUNTRY_INFO!B135)","v":"Wadi Fira"},{"$f":"IF(COUNTRY_INFO!C135=0,\" \",COUNTRY_INFO!C135)","v":"Biltine"},{"$f":"IF(OR(COUNTRY_INFO!$U$9:$U$1000=\"T3 (ALB/MBD)\",COUNTRY_INFO!$V$9:$V$1000=\"T3 (ALB/MBD)\"), \"T3 (ALB/MBD)\", \" \")","v":" "},null,null,null,null,null,0,null,null,null,0," "," "," "," "]
[{"$f":"IF(COUNTRY_INFO!A136=0,\" \",COUNTRY_INFO!A136)","v":"Chad"},{"$f":"IF(COUNTRY_INFO!B136=0,\" \",COUNTRY_INFO!B136)","v":"Wadi Fira"},{"$f":"IF(COUNTRY_INFO!C136=0,\" \",COUNTRY_INFO!C136)","v":"Guéréda"},{"$f":"IF(OR(COUNTRY_INFO!$U$9:$U$1000=\"T3 (ALB/MBD)\",COUNTRY_INFO!$V$9:$V$1000=\"T3 (ALB/MBD)\"), \"T3 (ALB/MBD)\", \" \")","v":" "},null,null,null,null,null,0,null,null,null,0," "," "," "," "]
[{"$f":"IF(COUNTRY_INFO!A137=0,\" \",COUNTRY_INFO!A137)","v":"Chad"},{"$f":"IF(COUNTRY_INFO!B137=0,\" \",COUNTRY_INFO!B137)","v":"Wadi Fira"},{"$f":"IF(COUNTRY_INFO!C137=0,\" \",COUNTRY_INFO!C137)","v":"Iriba"},{"$f":"IF(OR(COUNTRY_INFO!$U$9:$U$1000=\"T3 (ALB/MBD)\",COUNTRY_INFO!$V$9:$V$1000=\"T3 (ALB/MBD)\"), \"T3 (ALB/MBD)\", \" \")","v":" "},null,null,null,null,null,0,null,null,null,0," "," "," "," "]
[{"$f":"IF(COUNTRY_INFO!A138=0,\" \",COUNTRY_INFO!A138)","v":"Chad"},{"$f":"IF(COUNTRY_INFO!B138=0,\" \",COUNTRY_INFO!B138)","v":"Wadi Fira"},{"$f":"IF(COUNTRY_INFO!C138=0,\" \",COUNTRY_INFO!C138)","v":"Matadjana"},{"$f":"IF(OR(COUNTRY_INFO!$U$9:$U$1000=\"T3 (ALB/MBD)\",COUNTRY_INFO!$V$9:$V$1000=\"T3 (ALB/MBD)\"), \"T3 (ALB/MBD)\", \" \")","v":" "},null,null,null,null,null,{"$f":"SUM(G138:I138)","v":0},null,null,null,{"$f":"SUM(K138:M138)","v":0},{"$f":"IF(G138<>0, IF(K138/G138*100=0, \"-\", K138/G138*100), \" \")","v":" "},{"$f":"IF(H138<>0, IF(L138/H138*100=0, \"-\", L138/H138*100), \" \")","v":" "},{"$f":"IF(I138<>0, IF(M138/I138*100=0, \"-\", M138/I138*100), \" \")","v":" "},{"$f":"IF(J138<>0, IF(N138/J138*100=0, \"-\", N138/J138*100), \" \")","v":" "}]

{"sheet":"T3_R2","index":8,"n_rows":138,"n_cols":18,"rows_kept":138,"cut":false,"hidden":false,"merged":[[5,6,5,9],[5,10,5,13],[5,14,5,17],[3,0,3,2],[5,0,5,2],[5,3,6,3],[5,5,6,5],[5,4,6,4]]}
["T 3 - Albendazole (ALB) ou Mebendazole (MBD) - Tournée 2"]
["Structure administrative, population nécessitant une chimioprévention par groupe d'âge, population traitée par groupe d'âge et couverture"]
[]
["TOTAL",null,null,null,null,null,{"$f":"SUM(G$9:G$1000)","v":0},0,0,0,0,0,0,0,{"$f":"IF(G4<>0, IF(K4/G4*100=0, \"-\", K4/G4*100), \" \")","v":" "},{"$f":"IF(H4<>0, IF(L4/H4*100=0, \"-\", L4/H4*100), \" \")","v":" "},{"$f":"IF(I4<>0, IF(M4/I4*100=0, \"-\", M4/I4*100), \" \")","v":" "},{"$f":"IF(J4<>0, IF(N4/J4*100=0, \"-\", N4/J4*100), \" \")","v":" "}]
[]
["Structure administrative du pays",null,null,"Mise en oeuvre \nde la CP","Médica-ment","Date","Population ciblée pour T3",null,null,null,"Population traitée",null,null,null,"Couverture du Programme (%)"]
["Pays","Région/Département","District",null,null,null,"EAPréS","EAS","Adultes","Total","EAPréS","EAS","Adultes","Total","EAPréS","EAS","Adultes","Total"]
[]
[{"$f":"IF(COUNTRY_INFO!A9=0,\" \",COUNTRY_INFO!A9)","v":"Chad"},{"$f":"IF(COUNTRY_INFO!B9=0,\" \",COUNTRY_INFO!B9)","v":"Bahr El Gazel"},{"$f":"IF(COUNTRY_INFO!C9=0,\" \",COUNTRY_INFO!C9)","v":"Chadra"},{"$f":"IF(AND(COUNTRY_INFO!$U$9:$U$1000=\"T3 (ALB/MBD)\",COUNTRY_INFO!$V$9:$V$1000=\"T3 (ALB/MBD)\"), \"T3 (ALB/MBD)\", \" \")","v":" "},null,null,null,null,null,{"$f":"SUM(G9:I9)","v":0},null,null,null,{"$f":"SUM(K9:M9)","v":0},{"$f":"IF(G9<>0, IF(K9/G9*100=0, \"-\", K9/G9*100), \" \")","v":" "}," "," "," "]
[{"$f":"IF(COUNTRY_INFO!A10=0,\" \",COUNTRY_INFO!A10)","v":"Chad"},{"$f":"IF(COUNTRY_INFO!B10=0,\" \",COUNTRY_INFO!B10)","v":"Bahr El Gazel"},{"$f":"IF(COUNTRY_INFO!C10=0,\" \",COUNTRY_INFO!C10)","v":"Michemire"},{"$f":"IF(AND(COUNTRY_INFO!$U$9:$U$1000=\"T3 (ALB/MBD)\",COUNTRY_INFO!$V$9:$V$1000=\"T3 (ALB/MBD)\"), \"T3 (ALB/MBD)\", \" \")","v":" "},null,null,null,null,null,{"$f":"SUM(G10:I10)","v":0},null,null,null,{"$f":"SUM(K10:M10)","v":0},{"$f":"IF(G10<>0, IF(K10/G10*100=0, \"-\", K10/G10*100), \" \")","v":" "},{"$f":"IF(H10<>0, IF(L10/H10*100=0, \"-\", L10/H10*100), \" \")","v":" "},{"$f":"IF(I10<>0, IF(M10/I10*100=0, \"-\", M10/I10*100), \" \")","v":" "},{"$f":"IF(J10<>0, IF(N10/J10*100=0, \"-\", N10/J10*100), \" \")","v":" "}]
[{"$f":"IF(COUNTRY_INFO!A11=0,\" \",COUNTRY_INFO!A11)","v":"Chad"},{"$f":"IF(COUNTRY_INFO!B11=0,\" \",COUNTRY_INFO!B11)","v":"Bahr El Gazel"},{"$f":"IF(COUNTRY_INFO!C11=0,\" \",COUNTRY_INFO!C11)","v":"Moussoro"},{"$f":"IF(AND(COUNTRY_INFO!$U$9:$U$1000=\"T3 (ALB/MBD)\",COUNTRY_INFO!$V$9:$V$1000=\"T3 (ALB/MBD)\"), \"T3 (ALB/MBD)\", \" \")","v":" "},null,null,null,null,null,0,null,null,null,0," "," "," "," "]
[{"$f":"IF(COUNTRY_INFO!A12=0,\" \",COUNTRY_INFO!A12)","v":"Chad"},{"$f":"IF(COUNTRY_INFO!B12=0,\" \",COUNTRY_INFO!B12)","v":"Bahr El Gazel"},{"$f":"IF(COUNTRY_INFO!C12=0,\" \",COUNTRY_INFO!C12)","v":"Salal"},{"$f":"IF(AND(COUNTRY_INFO!$U$9:$U$1000=\"T3 (ALB/MBD)\",COUNTRY_INFO!$V$9:$V$1000=\"T3 (ALB/MBD)\"), \"T3 (ALB/MBD)\", \" \")","v":" "},null,null,null,null,null,0,null,null,null,0," "," "," "," "]
[{"$f":"IF(COUNTRY_INFO!A13=0,\" \",COUNTRY_INFO!A13)","v":"Chad"},{"$f":"IF(COUNTRY_INFO!B13=0,\" \",COUNTRY_INFO!B13)","v":"Batha"},{"$f":"IF(COUNTRY_INFO!C13=0,\" \",COUNTRY_INFO!C13)","v":"Alifa"},{"$f":"IF(AND(COUNTRY_INFO!$U$9:$U$1000=\"T3 (ALB/MBD)\",COUNTRY_INFO!$V$9:$V$1000=\"T3 (ALB/MBD)\"), \"T3 (ALB/MBD)\", \" \")","v":" "},null,null,null,null,null,0,null,null,null,0," "," "," "," "]
[{"$f":"IF(COUNTRY_INFO!A14=0,\" \",COUNTRY_INFO!A14)","v":"Chad"},{"$f":"IF(COUNTRY_INFO!B14=0,\" \",COUNTRY_INFO!B14)","v":"Batha"},{"$f":"IF(COUNTRY_INFO!C14=0,\" \",COUNTRY_INFO!C14)","v":"Assinet"},{"$f":"IF(AND(COUNTRY_INFO!$U$9:$U$1000=\"T3 (ALB/MBD)\",COUNTRY_INFO!$V$9:$V$1000=\"T3 (ALB/MBD)\"), \"T3 (ALB/MBD)\", \" \")","v":" "},null,null,null,null,null,0,null,null,null,0," "," "," "," "]
[{"$f":"IF(COUNTRY_INFO!A15=0,\" \",COUNTRY_INFO!A15)","v":"Chad"},{"$f":"IF(COUNTRY_INFO!B15=0,\" \",COUNTRY_INFO!B15)","v":"Batha"},{"$f":"IF(COUNTRY_INFO!C15=0,\" \",COUNTRY_INFO!C15)","v":"Ati"},{"$f":"IF(AND(COUNTRY_INFO!$U$9:$U$1000=\"T3 (ALB/MBD)\",COUNTRY_INFO!$V$9:$V$1000=\"T3 (ALB/MBD)\"), \"T3 (ALB/MBD)\", \" \")","v":" "},null,null,null,null,null,0,null,null,null,0," "," "," "," "]
[{"$f":"IF(COUNTRY_INFO!A16=0,\" \",COUNTRY_INFO!A16)","v":"Chad"},{"$f":"IF(COUNTRY_INFO!B16=0,\" \",COUNTRY_INFO!B16)","v":"Batha"},{"$f":"IF(COUNTRY_INFO!C16=0,\" \",COUNTRY_INFO!C16)","v":"Djedda"},{"$f":"IF(AND(COUNTRY_INFO!$U$9:$U$1000=\"T3 (ALB/MBD)\",COUNTRY_INFO!$V$9:$V$1000=\"T3 (ALB/MBD)\"), \"T3 (ALB/MBD)\", \" \")","v":" "},null,null,null,null,null,0,null,null,null,0," "," "," "," "]
[{"$f":"IF(COUNTRY_INFO!A17=0,\" \",COUNTRY_INFO!A17)","v":"Chad"},{"$f":"IF(COUNTRY_INFO!B17=0,\" \",COUNTRY_INFO!B17)","v":"Batha"},{"$f":"IF(COUNTRY_INFO!C17=0,\" \",COUNTRY_INFO!C17)","v":"Koundjourou"},{"$f":"IF(AND(COUNTRY_INFO!$U$9:$U$1000=\"T3 (ALB/MBD)\",COUNTRY_INFO!$V$9:$V$1000=\"T3 (ALB/MBD)\"), \"T3 (ALB/MBD)\", \" \")","v":" "},null,null,null,null,null,0,null,null,null,0," "," "," "," "]
[{"$f":"IF(COUNTRY_INFO!A18=0,\" \",COUNTRY_INFO!A18)","v":"Chad"},{"$f":"IF(COUNTRY_INFO!B18=0,\" \",COUNTRY_INFO!B18)","v":"Batha"},{"$f":"IF(COUNTRY_INFO!C18=0,\" \",COUNTRY_INFO!C18)","v":"Oum-Hadjer"},{"$f":"IF(AND(COUNTRY_INFO!$U$9:$U$1000=\"T3 (ALB/MBD)\",COUNTRY_INFO!$V$9:$V$1000=\"T3 (ALB/MBD)\"), \"T3 (ALB/MBD)\", \" \")","v":" "},null,null,null,null,null,0,null,null,null,0," "," "," "," "]
[{"$f":"IF(COUNTRY_INFO!A19=0,\" \",COUNTRY_INFO!A19)","v":"Chad"},{"$f":"IF(COUNTRY_INFO!B19=0,\" \",COUNTRY_INFO!B19)","v":"Batha"},{"$f":"IF(COUNTRY_INFO!C19=0,\" \",COUNTRY_INFO!C19)","v":"Yao"},{"$f":"IF(AND(COUNTRY_INFO!$U$9:$U$1000=\"T3 (ALB/MBD)\",COUNTRY_INFO!$V$9:$V$1000=\"T3 (ALB/MBD)\"), \"T3 (ALB/MBD)\", \" \")","v":" "},null,null,null,null,null,0,null,null,null,0," "," "," "," "]
[{"$f":"IF(COUNTRY_INFO!A20=0,\" \",COUNTRY_INFO!A20)","v":"Chad"},{"$f":"IF(COUNTRY_INFO!B20=0,\" \",COUNTRY_INFO!B20)","v":"Borkou"},{"$f":"IF(COUNTRY_INFO!C20=0,\" \",COUNTRY_INFO!C20)","v":"Faya"},{"$f":"IF(AND(COUNTRY_INFO!$U$9:$U$1000=\"T3 (ALB/MBD)\",COUNTRY_INFO!$V$9:$V$1000=\"T3 (ALB/MBD)\"), \"T3 (ALB/MBD)\", \" \")","v":" "},null,null,null,null,null,0,null,null,null,0," "," "," "," "]
[{"$f":"IF(COUNTRY_INFO!A21=0,\" \",COUNTRY_INFO!A21)","v":"Chad"},{"$f":"IF(COUNTRY_INFO!B21=0,\" \",COUNTRY_INFO!B21)","v":"Borkou"},{"$f":"IF(COUNTRY_INFO!C21=0,\" \",COUNTRY_INFO!C21)","v":"Kirdimi"},{"$f":"IF(AND(COUNTRY_INFO!$U$9:$U$1000=\"T3 (ALB/MBD)\",COUNTRY_INFO!$V$9:$V$1000=\"T3 (ALB/MBD)\"), \"T3 (ALB/MBD)\", \" \")","v":" "},null,null,null,null,null,0,null,null,null,0," "," "," "," "]
[{"$f":"IF(COUNTRY_INFO!A22=0,\" \",COUNTRY_INFO!A22)","v":"Chad"},{"$f":"IF(COUNTRY_INFO!B22=0,\" \",COUNTRY_INFO!B22)","v":"Borkou"},{"$f":"IF(COUNTRY_INFO!C22=0,\" \",COUNTRY_INFO!C22)","v":"Kouba Olanga"},{"$f":"IF(AND(COUNTRY_INFO!$U$9:$U$1000=\"T3 (ALB/MBD)\",COUNTRY_INFO!$V$9:$V$1000=\"T3 (ALB/MBD)\"), \"T3 (ALB/MBD)\", \" \")","v":" "},null,null,null,null,null,0,null,null,null,0," "," "," "," "]
[{"$f":"IF(COUNTRY_INFO!A23=0,\" \",COUNTRY_INFO!A23)","v":"Chad"},{"$f":"IF(COUNTRY_INFO!B23=0,\" \",COUNTRY_INFO!B23)","v":"Chari  Baguirmi"},{"$f":"IF(COUNTRY_INFO!C23=0,\" \",COUNTRY_INFO!C23)","v":"Ba-Illi"},{"$f":"IF(AND(COUNTRY_INFO!$U$9:$U$1000=\"T3 (ALB/MBD)\",COUNTRY_INFO!$V$9:$V$1000=\"T3 (ALB/MBD)\"), \"T3 (ALB/MBD)\", \" \")","v":" "},null,null,null,null,null,0,null,null,null,0," "," "," "," "]
[{"$f":"IF(COUNTRY_INFO!A24=0,\" \",COUNTRY_INFO!A24)","v":"Chad"},{"$f":"IF(COUNTRY_INFO!B24=0,\" \",COUNTRY_INFO!B24)","v":"Chari  Baguirmi"},{"$f":"IF(COUNTRY_INFO!C24=0,\" \",COUNTRY_INFO!C24)","v":"Bousso"},{"$f":"IF(AND(COUNTRY_INFO!$U$9:$U$1000=\"T3 (ALB/MBD)\",COUNTRY_INFO!$V$9:$V$1000=\"T3 (ALB/MBD)\"), \"T3 (ALB/MBD)\", \" \")","v":" "},null,null,null,null,null,0,null,null,null,0," "," "," "," "]
[{"$f":"IF(COUNTRY_INFO!A25=0,\" \",COUNTRY_INFO!A25)","v":"Chad"},{"$f":"IF(COUNTRY_INFO!B25=0,\" \",COUNTRY_INFO!B25)","v":"Chari  Baguirmi"},{"$f":"IF(COUNTRY_INFO!C25=0,\" \",COUNTRY_INFO!C25)","v":"Dourbali"},{"$f":"IF(AND(COUNTRY_INFO!$U$9:$U$1000=\"T3 (ALB/MBD)\",COUNTRY_INFO!$V$9:$V$1000=\"T3 (ALB/MBD)\"), \"T3 (ALB/MBD)\", \" \")","v":" "},null,null,null,null,null,0,null,null,null,0," "," "," "," "]
[{"$f":"IF(COUNTRY_INFO!A26=0,\" \",COUNTRY_INFO!A26)","v":"Chad"},{"$f":"IF(COUNTRY_INFO!B26=0,\" \",COUNTRY_INFO!B26)","v":"Chari  Baguirmi"},{"$f":"IF(COUNTRY_INFO!C26=0,\" \",COUNTRY_INFO!C26)","v":"Koulno"},{"$f":"IF(AND(COUNTRY_INFO!$U$9:$U$1000=\"T3 (ALB/MBD)\",COUNTRY_INFO!$V$9:$V$1000=\"T3 (ALB/MBD)\"), \"T3 (ALB/MBD)\", \" \")","v":" "},null,null,null,null,null,0,null,null,null,0," "," "," "," "]
[{"$f":"IF(COUNTRY_INFO!A27=0,\" \",COUNTRY_INFO!A27)","v":"Chad"},{"$f":"IF(COUNTRY_INFO!B27=0,\" \",COUNTRY_INFO!B27)","v":"Chari  Baguirmi"},{"$f":"IF(COUNTRY_INFO!C27=0,\" \",COUNTRY_INFO!C27)","v":"Mandélia"},{"$f":"IF(AND(COUNTRY_INFO!$U$9:$U$1000=\"T3 (ALB/MBD)\",COUNTRY_INFO!$V$9:$V$1000=\"T3 (ALB/MBD)\"), \"T3 (ALB/MBD)\", \" \")","v":" "},null,null,null,null,null,0,null,null,null,0," "," "," "," "]
[{"$f":"IF(COUNTRY_INFO!A28=0,\" \",COUNTRY_INFO!A28)","v":"Chad"},{"$f":"IF(COUNTRY_INFO!B28=0,\" \",COUNTRY_INFO!B28)","v":"Chari  Baguirmi"},{"$f":"IF(COUNTRY_INFO!C28=0,\" \",COUNTRY_INFO!C28)","v":"Massenya"},{"$f":"IF(AND(COUNTRY_INFO!$U$9:$U$1000=\"T3 (ALB/MBD)\",COUNTRY_INFO!$V$9:$V$1000=\"T3 (ALB/MBD)\"), \"T3 (ALB/MBD)\", \" \")","v":" "},null,null,null,null,null,0,null,null,null,0," "," "," "," "]
[{"$f":"IF(COUNTRY_INFO!A29=0,\" \",COUNTRY_INFO!A29)","v":"Chad"},{"$f":"IF(COUNTRY_INFO!B29=0,\" \",COUNTRY_INFO!B29)","v":"Ennedi Est"},{"$f":"IF(COUNTRY_INFO!C29=0,\" \",COUNTRY_INFO!C29)","v":"Amdjarass"},{"$f":"IF(AND(COUNTRY_INFO!$U$9:$U$1000=\"T3 (ALB/MBD)\",COUNTRY_INFO!$V$9:$V$1000=\"T3 (ALB/MBD)\"), \"T3 (ALB/MBD)\", \" \")","v":" "},null,null,null,null,null,0,null,null,null,0," "," "," "," "]
[{"$f":"IF(COUNTRY_INFO!A30=0,\" \",COUNTRY_INFO!A30)","v":"Chad"},{"$f":"IF(COUNTRY_INFO!B30=0,\" \",COUNTRY_INFO!B30)","v":"Ennedi Est"},{"$f":"IF(COUNTRY_INFO!C30=0,\" \",COUNTRY_INFO!C30)","v":"Bahaï"},{"$f":"IF(AND(COUNTRY_INFO!$U$9:$U$1000=\"T3 (ALB/MBD)\",COUNTRY_INFO!$V$9:$V$1000=\"T3 (ALB/MBD)\"), \"T3 (ALB/MBD)\", \" \")","v":" "},null,null,null,null,null,0,null,null,null,0," "," "," "," "]
[{"$f":"IF(COUNTRY_INFO!A31=0,\" \",COUNTRY_INFO!A31)","v":"Chad"},{"$f":"IF(COUNTRY_INFO!B31=0,\" \",COUNTRY_INFO!B31)","v":"Ennedi Est"},{"$f":"IF(COUNTRY_INFO!C31=0,\" \",COUNTRY_INFO!C31)","v":"Kaoura"},{"$f":"IF(AND(COUNTRY_INFO!$U$9:$U$1000=\"T3 (ALB/MBD)\",COUNTRY_INFO!$V$9:$V$1000=\"T3 (ALB/MBD)\"), \"T3 (ALB/MBD)\", \" \")","v":" "},null,null,null,null,null,0,null,null,null,0," "," "," "," "]
[{"$f":"IF(COUNTRY_INFO!A32=0,\" \",COUNTRY_INFO!A32)","v":"Chad"},{"$f":"IF(COUNTRY_INFO!B32=0,\" \",COUNTRY_INFO!B32)","v":"Ennedi Est"},{"$f":"IF(COUNTRY_INFO!C32=0,\" \",COUNTRY_INFO!C32)","v":"Mourdi"},{"$f":"IF(AND(COUNTRY_INFO!$U$9:$U$1000=\"T3 (ALB/MBD)\",COUNTRY_INFO!$V$9:$V$1000=\"T3 (ALB/MBD)\"), \"T3 (ALB/MBD)\", \" \")","v":" "},null,null,null,null,null,0,null,null,null,0," "," "," "," "]
[{"$f":"IF(COUNTRY_INFO!A33=0,\" \",COUNTRY_INFO!A33)","v":"Chad"},{"$f":"IF(COUNTRY_INFO!B33=0,\" \",COUNTRY_INFO!B33)","v":"Ennedi Ouest"},{"$f":"IF(COUNTRY_INFO!C33=0,\" \",COUNTRY_INFO!C33)","v":"Fada"},{"$f":"IF(AND(COUNTRY_INFO!$U$9:$U$1000=\"T3 (ALB/MBD)\",COUNTRY_INFO!$V$9:$V$1000=\"T3 (ALB/MBD)\"), \"T3 (ALB/MBD)\", \" \")","v":" "},null,null,null,null,null,0,null,null,null,0," "," "," "," "]
[{"$f":"IF(COUNTRY_INFO!A34=0,\" \",COUNTRY_INFO!A34)","v":"Chad"},{"$f":"IF(COUNTRY_INFO!B34=0,\" \",COUNTRY_INFO!B34)","v":"Ennedi Ouest"},{"$f":"IF(COUNTRY_INFO!C34=0,\" \",COUNTRY_INFO!C34)","v":"Kalaït"},{"$f":"IF(AND(COUNTRY_INFO!$U$9:$U$1000=\"T3 (ALB/MBD)\",COUNTRY_INFO!$V$9:$V$1000=\"T3 (ALB/MBD)\"), \"T3 (ALB/MBD)\", \" \")","v":" "},null,null,null,null,null,0,null,null,null,0," "," "," "," "]
[{"$f":"IF(COUNTRY_INFO!A35=0,\" \",COUNTRY_INFO!A35)","v":"Chad"},{"$f":"IF(COUNTRY_INFO!B35=0,\" \",COUNTRY_INFO!B35)","v":"Ennedi Ouest"},{"$f":"IF(COUNTRY_INFO!C35=0,\" \",COUNTRY_INFO!C35)","v":"Ounianga Kebbir"},{"$f":"IF(AND(COUNTRY_INFO!$U$9:$U$1000=\"T3 (ALB/MBD)\",COUNTRY_INFO!$V$9:$V$1000=\"T3 (ALB/MBD)\"), \"T3 (ALB/MBD)\", \" \")","v":" "},null,null,null,null,null,0,null,null,null,0," "," "," "," "]
[{"$f":"IF(COUNTRY_INFO!A36=0,\" \",COUNTRY_INFO!A36)","v":"Chad"},{"$f":"IF(COUNTRY_INFO!B36=0,\" \",COUNTRY_INFO!B36)","v":"Guéra"},{"$f":"IF(COUNTRY_INFO!C36=0,\" \",COUNTRY_INFO!C36)","v":"Barou"},{"$f":"IF(AND(COUNTRY_INFO!$U$9:$U$1000=\"T3 (ALB/MBD)\",COUNTRY_INFO!$V$9:$V$1000=\"T3 (ALB/MBD)\"), \"T3 (ALB/MBD)\", \" \")","v":" "},null,null,null,null,null,0,null,null,null,0," "," "," "," "]
[{"$f":"IF(COUNTRY_INFO!A37=0,\" \",COUNTRY_INFO!A37)","v":"Chad"},{"$f":"IF(COUNTRY_INFO!B37=0,\" \",COUNTRY_INFO!B37)","v":"Guéra"},{"$f":"IF(COUNTRY_INFO!C37=0,\" \",COUNTRY_INFO!C37)","v":"Bitkine"},{"$f":"IF(AND(COUNTRY_INFO!$U$9:$U$1000=\"T3 (ALB/MBD)\",COUNTRY_INFO!$V$9:$V$1000=\"T3 (ALB/MBD)\"), \"T3 (ALB/MBD)\", \" \")","v":" "},null,null,null,null,null,0,null,null,null,0," "," "," "," "]
[{"$f":"IF(COUNTRY_INFO!A38=0,\" \",COUNTRY_INFO!A38)","v":"Chad"},{"$f":"IF(COUNTRY_INFO!B38=0,\" \",COUNTRY_INFO!B38)","v":"Guéra"},{"$f":"IF(COUNTRY_INFO!C38=0,\" \",COUNTRY_INFO!C38)","v":"Mangalmé"},{"$f":"IF(AND(COUNTRY_INFO!$U$9:$U$1000=\"T3 (ALB/MBD)\",COUNTRY_INFO!$V$9:$V$1000=\"T3 (ALB/MBD)\"), \"T3 (ALB/MBD)\", \" \")","v":" "},null,null,null,null,null,0,null,null,null,0," "," "," "," "]
[{"$f":"IF(COUNTRY_INFO!A39=0,\" \",COUNTRY_INFO!A39)","v":"Chad"},{"$f":"IF(COUNTRY_INFO!B39=0,\" \",COUNTRY_INFO!B39)","v":"Guéra"},{"$f":"IF(COUNTRY_INFO!C39=0,\" \",COUNTRY_INFO!C39)","v":"Melfi"},{"$f":"IF(AND(COUNTRY_INFO!$U$9:$U$1000=\"T3 (ALB/MBD)\",COUNTRY_INFO!$V$9:$V$1000=\"T3 (ALB/MBD)\"), \"T3 (ALB/MBD)\", \" \")","v":" "},null,null,null,null,null,0,null,null,null,0," "," "," "," "]
[{"$f":"IF(COUNTRY_INFO!A40=0,\" \",COUNTRY_INFO!A40)","v":"Chad"},{"$f":"IF(COUNTRY_INFO!B40=0,\" \",COUNTRY_INFO!B40)","v":"Guéra"},{"$f":"IF(COUNTRY_INFO!C40=0,\" \",COUNTRY_INFO!C40)","v":"Mongo"},{"$f":"IF(AND(COUNTRY_INFO!$U$9:$U$1000=\"T3 (ALB/MBD)\",COUNTRY_INFO!$V$9:$V$1000=\"T3 (ALB/MBD)\"), \"T3 (ALB/MBD)\", \" \")","v":" "},null,null,null,null,null,0,null,null,null,0," "," "," "," "]
[{"$f":"IF(COUNTRY_INFO!A41=0,\" \",COUNTRY_INFO!A41)","v":"Chad"},{"$f":"IF(COUNTRY_INFO!B41=0,\" \",COUNTRY_INFO!B41)","v":"Hadjer Lamis"},{"$f":"IF(COUNTRY_INFO!C41=0,\" \",COUNTRY_INFO!C41)","v":"Bokoro"},{"$f":"IF(AND(COUNTRY_INFO!$U$9:$U$1000=\"T3 (ALB/MBD)\",COUNTRY_INFO!$V$9:$V$1000=\"T3 (ALB/MBD)\"), \"T3 (ALB/MBD)\", \" \")","v":" "},null,null,null,null,null,0,null,null,null,0," "," "," "," "]
[{"$f":"IF(COUNTRY_INFO!A42=0,\" \",COUNTRY_INFO!A42)","v":"Chad"},{"$f":"IF(COUNTRY_INFO!B42=0,\" \",COUNTRY_INFO!B42)","v":"Hadjer Lamis"},{"$f":"IF(COUNTRY_INFO!C42=0,\" \",COUNTRY_INFO!C42)","v":"Gama"},{"$f":"IF(AND(COUNTRY_INFO!$U$9:$U$1000=\"T3 (ALB/MBD)\",COUNTRY_INFO!$V$9:$V$1000=\"T3 (ALB/MBD)\"), \"T3 (ALB/MBD)\", \" \")","v":" "},null,null,null,null,null,0,null,null,null,0," "," "," "," "]
[{"$f":"IF(COUNTRY_INFO!A43=0,\" \",COUNTRY_INFO!A43)","v":"Chad"},{"$f":"IF(COUNTRY_INFO!B43=0,\" \",COUNTRY_INFO!B43)","v":"Hadjar Lamis"},{"$f":"IF(COUNTRY_INFO!C43=0,\" \",COUNTRY_INFO!C43)","v":"Karal"},{"$f":"IF(AND(COUNTRY_INFO!$U$9:$U$1000=\"T3 (ALB/MBD)\",COUNTRY_INFO!$V$9:$V$1000=\"T3 (ALB/MBD)\"), \"T3 (ALB/MBD)\", \" \")","v":" "},null,null,null,null,null,0,null,null,null,0," "," "," "," "]
[{"$f":"IF(COUNTRY_INFO!A44=0,\" \",COUNTRY_INFO!A44)","v":"Chad"},{"$f":"IF(COUNTRY_INFO!B44=0,\" \",COUNTRY_INFO!B44)","v":"Hadjer Lamis"},{"$f":"IF(COUNTRY_INFO!C44=0,\" \",COUNTRY_INFO!C44)","v":"Mani"},{"$f":"IF(AND(COUNTRY_INFO!$U$9:$U$1000=\"T3 (ALB/MBD)\",COUNTRY_INFO!$V$9:$V$1000=\"T3 (ALB/MBD)\"), \"T3 (ALB/MBD)\", \" \")","v":" "},null,null,null,null,null,0,null,null,null,0," "," "," "," "]
[{"$f":"IF(COUNTRY_INFO!A45=0,\" \",COUNTRY_INFO!A45)","v":"Chad"},{"$f":"IF(COUNTRY_INFO!B45=0,\" \",COUNTRY_INFO!B45)","v":"Hadjer Lamis"},{"$f":"IF(COUNTRY_INFO!C45=0,\" \",COUNTRY_INFO!C45)","v":"Massaguet"},{"$f":"IF(AND(COUNTRY_INFO!$U$9:$U$1000=\"T3 (ALB/MBD)\",COUNTRY_INFO!$V$9:$V$1000=\"T3 (ALB/MBD)\"), \"T3 (ALB/MBD)\", \" \")","v":" "},null,null,null,null,null,0,null,null,null,0," "," "," "," "]
[{"$f":"IF(COUNTRY_INFO!A46=0,\" \",COUNTRY_INFO!A46)","v":"Chad"},{"$f":"IF(COUNTRY_INFO!B46=0,\" \",COUNTRY_INFO!B46)","v":"Hadjer Lamis"},{"$f":"IF(COUNTRY_INFO!C46=0,\" \",COUNTRY_INFO!C46)","v":"Massakory"},{"$f":"IF(AND(COUNTRY_INFO!$U$9:$U$1000=\"T3 (ALB/MBD)\",COUNTRY_INFO!$V$9:$V$1000=\"T3 (ALB/MBD)\"), \"T3 (ALB/MBD)\", \" \")","v":" "},null,null,null,null,null,0,null,null,null,0," "," "," "," "]
[{"$f":"IF(COUNTRY_INFO!A47=0,\" \",COUNTRY_INFO!A47)","v":"Chad"},{"$f":"IF(COUNTRY_INFO!B47=0,\" \",COUNTRY_INFO!B47)","v":"Kanem"},{"$f":"IF(COUNTRY_INFO!C47=0,\" \",COUNTRY_INFO!C47)","v":"Amdoback"},{"$f":"IF(AND(COUNTRY_INFO!$U$9:$U$1000=\"T3 (ALB/MBD)\",COUNTRY_INFO!$V$9:$V$1000=\"T3 (ALB/MBD)\"), \"T3 (ALB/MBD)\", \" \")","v":" "},null,null,null,null,null,0,null,null,null,0," "," "," "," "]
[{"$f":"IF(COUNTRY_INFO!A48=0,\" \",COUNTRY_INFO!A48)","v":"Chad"},{"$f":"IF(COUNTRY_INFO!B48=0,\" \",COUNTRY_INFO!B48)","v":"Kanem"},{"$f":"IF(COUNTRY_INFO!C48=0,\" \",COUNTRY_INFO!C48)","v":"Kekedina"},{"$f":"IF(AND(COUNTRY_INFO!$U$9:$U$1000=\"T3 (ALB/MBD)\",COUNTRY_INFO!$V$9:$V$1000=\"T3 (ALB/MBD)\"), \"T3 (ALB/MBD)\", \" \")","v":" "},null,null,null,null,null,0,null,null,null,0," "," "," "," "]
[{"$f":"IF(COUNTRY_INFO!A49=0,\" \",COUNTRY_INFO!A49)","v":"Chad"},{"$f":"IF(COUNTRY_INFO!B49=0,\" \",COUNTRY_INFO!B49)","v":"Kanem"},{"$f":"IF(COUNTRY_INFO!C49=0,\" \",COUNTRY_INFO!C49)","v":"Mao"},{"$f":"IF(AND(COUNTRY_INFO!$U$9:$U$1000=\"T3 (ALB/MBD)\",COUNTRY_INFO!$V$9:$V$1000=\"T3 (ALB/MBD)\"), \"T3 (ALB/MBD)\", \" \")","v":" "},null,null,null,null,null,0,null,null,null,0," "," "," "," "]
[{"$f":"IF(COUNTRY_INFO!A50=0,\" \",COUNTRY_INFO!A50)","v":"Chad"},{"$f":"IF(COUNTRY_INFO!B50=0,\" \",COUNTRY_INFO!B50)","v":"Kanem"},{"$f":"IF(COUNTRY_INFO!C50=0,\" \",COUNTRY_INFO!C50)","v":"Mondo"},{"$f":"IF(AND(COUNTRY_INFO!$U$9:$U$1000=\"T3 (ALB/MBD)\",COUNTRY_INFO!$V$9:$V$1000=\"T3 (ALB/MBD)\"), \"T3 (ALB/MBD)\", \" \")","v":" "},null,null,null,null,null,0,null,null,null,0," "," "," "," "]
[{"$f":"IF(COUNTRY_INFO!A51=0,\" \",COUNTRY_INFO!A51)","v":"Chad"},{"$f":"IF(COUNTRY_INFO!B51=0,\" \",COUNTRY_INFO!B51)","v":"Kanem"},{"$f":"IF(COUNTRY_INFO!C51=0,\" \",COUNTRY_INFO!C51)","v":"Nokou"},{"$f":"IF(AND(COUNTRY_INFO!$U$9:$U$1000=\"T3 (ALB/MBD)\",COUNTRY_INFO!$V$9:$V$1000=\"T3 (ALB/MBD)\"), \"T3 (ALB/MBD)\", \" \")","v":" "},null,null,null,null,null,0,null,null,null,0," "," "," "," "]
[{"$f":"IF(COUNTRY_INFO!A52=0,\" \",COUNTRY_INFO!A52)","v":"Chad"},{"$f":"IF(COUNTRY_INFO!B52=0,\" \",COUNTRY_INFO!B52)","v":"Kanem"},{"$f":"IF(COUNTRY_INFO!C52=0,\" \",COUNTRY_INFO!C52)","v":"Ntiona"},{"$f":"IF(AND(COUNTRY_INFO!$U$9:$U$1000=\"T3 (ALB/MBD)\",COUNTRY_INFO!$V$9:$V$1000=\"T3 (ALB/MBD)\"), \"T3 (ALB/MBD)\", \" \")","v":" "},null,null,null,null,null,0,null,null,null,0," "," "," "," "]
[{"$f":"IF(COUNTRY_INFO!A53=0,\" \",COUNTRY_INFO!A53)","v":"Chad"},{"$f":"IF(COUNTRY_INFO!B53=0,\" \",COUNTRY_INFO!B53)","v":"Kanem"},{"$f":"IF(COUNTRY_INFO!C53=0,\" \",COUNTRY_INFO!C53)","v":"Rig-Rig"},{"$f":"IF(AND(COUNTRY_INFO!$U$9:$U$1000=\"T3 (ALB/MBD)\",COUNTRY_INFO!$V$9:$V$1000=\"T3 (ALB/MBD)\"), \"T3 (ALB/MBD)\", \" \")","v":" "},null,null,null,null,null,0,null,null,null,0," "," "," "," "]
[{"$f":"IF(COUNTRY_INFO!A54=0,\" \",COUNTRY_INFO!A54)","v":"Chad"},{"$f":"IF(COUNTRY_INFO!B54=0,\" \",COUNTRY_INFO!B54)","v":"Lac"},{"$f":"IF(COUNTRY_INFO!C54=0,\" \",COUNTRY_INFO!C54)","v":"Bagassola"},{"$f":"IF(AND(COUNTRY_INFO!$U$9:$U$1000=\"T3 (ALB/MBD)\",COUNTRY_INFO!$V$9:$V$1000=\"T3 (ALB/MBD)\"), \"T3 (ALB/MBD)\", \" \")","v":" "},null,null,null,null,null,0,null,null,null,0," "," "," "," "]
[{"$f":"IF(COUNTRY_INFO!A55=0,\" \",COUNTRY_INFO!A55)","v":"Chad"},{"$f":"IF(COUNTRY_INFO!B55=0,\" \",COUNTRY_INFO!B55)","v":"Lac"},{"$f":"IF(COUNTRY_INFO!C55=0,\" \",COUNTRY_INFO!C55)","v":"Bol"},{"$f":"IF(AND(COUNTRY_INFO!$U$9:$U$1000=\"T3 (ALB/MBD)\",COUNTRY_INFO!$V$9:$V$1000=\"T3 (ALB/MBD)\"), \"T3 (ALB/MBD)\", \" \")","v":" "},null,null,null,null,null,0,null,null,null,0," "," "," "," "]
[{"$f":"IF(COUNTRY_INFO!A56=0,\" \",COUNTRY_INFO!A56)","v":"Chad"},{"$f":"IF(COUNTRY_INFO!B56=0,\" \",COUNTRY_INFO!B56)","v":"Lac"},{"$f":"IF(COUNTRY_INFO!C56=0,\" \",COUNTRY_INFO!C56)","v":"Isserom"},{"$f":"IF(AND(COUNTRY_INFO!$U$9:$U$1000=\"T3 (ALB/MBD)\",COUNTRY_INFO!$V$9:$V$1000=\"T3 (ALB/MBD)\"), \"T3 (ALB/MBD)\", \" \")","v":" "},null,null,null,null,null,0,null,null,null,0," "," "," "," "]
[{"$f":"IF(COUNTRY_INFO!A57=0,\" \",COUNTRY_INFO!A57)","v":"Chad"},{"$f":"IF(COUNTRY_INFO!B57=0,\" \",COUNTRY_INFO!B57)","v":"Lac"},{"$f":"IF(COUNTRY_INFO!C57=0,\" \",COUNTRY_INFO!C57)","v":"Kouloudia"},{"$f":"IF(AND(COUNTRY_INFO!$U$9:$U$1000=\"T3 (ALB/MBD)\",COUNTRY_INFO!$V$9:$V$1000=\"T3 (ALB/MBD)\"), \"T3 (ALB/MBD)\", \" \")","v":" "},null,null,null,null,null,0,null,null,null,0," "," "," "," "]
[{"$f":"IF(COUNTRY_INFO!A58=0,\" \",COUNTRY_INFO!A58)","v":"Chad"},{"$f":"IF(COUNTRY_INFO!B58=0,\" \",COUNTRY_INFO!B58)","v":"Lac"},{"$f":"IF(COUNTRY_INFO!C58=0,\" \",COUNTRY_INFO!C58)","v":"Liwa"},{"$f":"IF(AND(COUNTRY_INFO!$U$9:$U$1000=\"T3 (ALB/MBD)\",COUNTRY_INFO!$V$9:$V$1000=\"T3 (ALB/MBD)\"), \"T3 (ALB/MBD)\", \" \")","v":" "},null,null,null,null,null,0,null,null,null,0," "," "," "," "]
[{"$f":"IF(COUNTRY_INFO!A59=0,\" \",COUNTRY_INFO!A59)","v":"Chad"},{"$f":"IF(COUNTRY_INFO!B59=0,\" \",COUNTRY_INFO!B59)","v":"Lac"},{"$f":"IF(COUNTRY_INFO!C59=0,\" \",COUNTRY_INFO!C59)","v":"Ngouri"},{"$f":"IF(AND(COUNTRY_INFO!$U$9:$U$1000=\"T3 (ALB/MBD)\",COUNTRY_INFO!$V$9:$V$1000=\"T3 (ALB/MBD)\"), \"T3 (ALB/MBD)\", \" \")","v":" "},null,null,null,null,null,0,null,null,null,0," "," "," "," "]
[{"$f":"IF(COUNTRY_INFO!A60=0,\" \",COUNTRY_INFO!A60)","v":"Chad"},{"$f":"IF(COUNTRY_INFO!B60=0,\" \",COUNTRY_INFO!B60)","v":"Logone Occidental"},{"$f":"IF(COUNTRY_INFO!C60=0,\" \",COUNTRY_INFO!C60)","v":"Benamar"},{"$f":"IF(AND(COUNTRY_INFO!$U$9:$U$1000=\"T3 (ALB/MBD)\",COUNTRY_INFO!$V$9:$V$1000=\"T3 (ALB/MBD)\"), \"T3 (ALB/MBD)\", \" \")","v":" "},null,null,null,null,null,0,null,null,null,0," "," "," "," "]
[{"$f":"IF(COUNTRY_INFO!A61=0,\" \",COUNTRY_INFO!A61)","v":"Chad"},{"$f":"IF(COUNTRY_INFO!B61=0,\" \",COUNTRY_INFO!B61)","v":"Logone Occidental"},{"$f":"IF(COUNTRY_INFO!C61=0,\" \",COUNTRY_INFO!C61)","v":"Benoye"},{"$f":"IF(AND(COUNTRY_INFO!$U$9:$U$1000=\"T3 (ALB/MBD)\",COUNTRY_INFO!$V$9:$V$1000=\"T3 (ALB/MBD)\"), \"T3 (ALB/MBD)\", \" \")","v":" "},null,null,null,null,null,0,null,null,null,0," "," "," "," "]
[{"$f":"IF(COUNTRY_INFO!A62=0,\" \",COUNTRY_INFO!A62)","v":"Chad"},{"$f":"IF(COUNTRY_INFO!B62=0,\" \",COUNTRY_INFO!B62)","v":"Logone Occidental"},{"$f":"IF(COUNTRY_INFO!C62=0,\" \",COUNTRY_INFO!C62)","v":"Laokassy"},{"$f":"IF(AND(COUNTRY_INFO!$U$9:$U$1000=\"T3 (ALB/MBD)\",COUNTRY_INFO!$V$9:$V$1000=\"T3 (ALB/MBD)\"), \"T3 (ALB/MBD)\", \" \")","v":" "},null,null,null,null,null,0,null,null,null,0," "," "," "," "]
[{"$f":"IF(COUNTRY_INFO!A63=0,\" \",COUNTRY_INFO!A63)","v":"Chad"},{"$f":"IF(COUNTRY_INFO!B63=0,\" \",COUNTRY_INFO!B63)","v":"Logone Occidental"},{"$f":"IF(COUNTRY_INFO!C63=0,\" \",COUNTRY_INFO!C63)","v":"Moundou"},{"$f":"IF(AND(COUNTRY_INFO!$U$9:$U$1000=\"T3 (ALB/MBD)\",COUNTRY_INFO!$V$9:$V$1000=\"T3 (ALB/MBD)\"), \"T3 (ALB/MBD)\", \" \")","v":" "},null,null,null,null,null,0,null,null,null,0," "," "," "," "]
[{"$f":"IF(COUNTRY_INFO!A64=0,\" \",COUNTRY_INFO!A64)","v":"Chad"},{"$f":"IF(COUNTRY_INFO!B64=0,\" \",COUNTRY_INFO!B64)","v":"Logone Orientlal"},{"$f":"IF(COUNTRY_INFO!C64=0,\" \",COUNTRY_INFO!C64)","v":"Baibokoum"},{"$f":"IF(AND(COUNTRY_INFO!$U$9:$U$1000=\"T3 (ALB/MBD)\",COUNTRY_INFO!$V$9:$V$1000=\"T3 (ALB/MBD)\"), \"T3 (ALB/MBD)\", \" \")","v":" "},null,null,null,null,null,0,null,null,null,0," "," "," "," "]
[{"$f":"IF(COUNTRY_INFO!A65=0,\" \",COUNTRY_INFO!A65)","v":"Chad"},{"$f":"IF(COUNTRY_INFO!B65=0,\" \",COUNTRY_INFO!B65)","v":"Logone Orientlal"},{"$f":"IF(COUNTRY_INFO!C65=0,\" \",COUNTRY_INFO!C65)","v":"Bebedja"},{"$f":"IF(AND(COUNTRY_INFO!$U$9:$U$1000=\"T3 (ALB/MBD)\",COUNTRY_INFO!$V$9:$V$1000=\"T3 (ALB/MBD)\"), \"T3 (ALB/MBD)\", \" \")","v":" "},null,null,null,null,null,0,null,null,null,0," "," "," "," "]
[{"$f":"IF(COUNTRY_INFO!A66=0,\" \",COUNTRY_INFO!A66)","v":"Chad"},{"$f":"IF(COUNTRY_INFO!B66=0,\" \",COUNTRY_INFO!B66)","v":"Logone Orientlal"},{"$f":"IF(COUNTRY_INFO!C66=0,\" \",COUNTRY_INFO!C66)","v":"Beboto"},{"$f":"IF(AND(COUNTRY_INFO!$U$9:$U$1000=\"T3 (ALB/MBD)\",COUNTRY_INFO!$V$9:$V$1000=\"T3 (ALB/MBD)\"), \"T3 (ALB/MBD)\", \" \")","v":" "},null,null,null,null,null,0,null,null,null,0," "," "," "," "]
[{"$f":"IF(COUNTRY_INFO!A67=0,\" \",COUNTRY_INFO!A67)","v":"Chad"},{"$f":"IF(COUNTRY_INFO!B67=0,\" \",COUNTRY_INFO!B67)","v":"Logone Orientlal"},{"$f":"IF(COUNTRY_INFO!C67=0,\" \",COUNTRY_INFO!C67)","v":"Bessao"},{"$f":"IF(AND(COUNTRY_INFO!$U$9:$U$1000=\"T3 (ALB/MBD)\",COUNTRY_INFO!$V$9:$V$1000=\"T3 (ALB/MBD)\"), \"T3 (ALB/MBD)\", \" \")","v":" "},null,null,null,null,null,0,null,null,null,0," "," "," "," "]
[{"$f":"IF(COUNTRY_INFO!A68=0,\" \",COUNTRY_INFO!A68)","v":"Chad"},{"$f":"IF(COUNTRY_INFO!B68=0,\" \",COUNTRY_INFO!B68)","v":"Logone Orientlal"},{"$f":"IF(COUNTRY_INFO!C68=0,\" \",COUNTRY_INFO!C68)","v":"Bodo"},{"$f":"IF(AND(COUNTRY_INFO!$U$9:$U$1000=\"T3 (ALB/MBD)\",COUNTRY_INFO!$V$9:$V$1000=\"T3 (ALB/MBD)\"), \"T3 (ALB/MBD)\", \" \")","v":" "},null,null,null,null,null,0,null,null,null,0," "," "," "," "]
[{"$f":"IF(COUNTRY_INFO!A69=0,\" \",COUNTRY_INFO!A69)","v":"Chad"},{"$f":"IF(COUNTRY_INFO!B69=0,\" \",COUNTRY_INFO!B69)","v":"Logone Orientlal"},{"$f":"IF(COUNTRY_INFO!C69=0,\" \",COUNTRY_INFO!C69)","v":"Doba"},{"$f":"IF(AND(COUNTRY_INFO!$U$9:$U$1000=\"T3 (ALB/MBD)\",COUNTRY_INFO!$V$9:$V$1000=\"T3 (ALB/MBD)\"), \"T3 (ALB/MBD)\", \" \")","v":" "},null,null,null,null,null,0,null,null,null,0," "," "," "," "]
[{"$f":"IF(COUNTRY_INFO!A70=0,\" \",COUNTRY_INFO!A70)","v":"Chad"},{"$f":"IF(COUNTRY_INFO!B70=0,\" \",COUNTRY_INFO!B70)","v":"Logone Orientlal"},{"$f":"IF(COUNTRY_INFO!C70=0,\" \",COUNTRY_INFO!C70)","v":"DONIA"},{"$f":"IF(AND(COUNTRY_INFO!$U$9:$U$1000=\"T3 (ALB/MBD)\",COUNTRY_INFO!$V$9:$V$1000=\"T3 (ALB/MBD)\"), \"T3 (ALB/MBD)\", \" \")","v":" "},null,null,null,null,null,0,null,null,null,0," "," "," "," "]
[{"$f":"IF(COUNTRY_INFO!A71=0,\" \",COUNTRY_INFO!A71)","v":"Chad"},{"$f":"IF(COUNTRY_INFO!B71=0,\" \",COUNTRY_INFO!B71)","v":"Logone Orientlal"},{"$f":"IF(COUNTRY_INFO!C71=0,\" \",COUNTRY_INFO!C71)","v":"Goré"},{"$f":"IF(AND(COUNTRY_INFO!$U$9:$U$1000=\"T3 (ALB/MBD)\",COUNTRY_INFO!$V$9:$V$1000=\"T3 (ALB/MBD)\"), \"T3 (ALB/MBD)\", \" \")","v":" "},null,null,null,null,null,0,null,null,null,0," "," "," "," "]
[{"$f":"IF(COUNTRY_INFO!A72=0,\" \",COUNTRY_INFO!A72)","v":"Chad"},{"$f":"IF(COUNTRY_INFO!B72=0,\" \",COUNTRY_INFO!B72)","v":"Logone Orientlal"},{"$f":"IF(COUNTRY_INFO!C72=0,\" \",COUNTRY_INFO!C72)","v":"Kara"},{"$f":"IF(AND(COUNTRY_INFO!$U$9:$U$1000=\"T3 (ALB/MBD)\",COUNTRY_INFO!$V$9:$V$1000=\"T3 (ALB/MBD)\"), \"T3 (ALB/MBD)\", \" \")","v":" "},null,null,null,null,null,0,null,null,null,0," "," "," "," "]
[{"$f":"IF(COUNTRY_INFO!A73=0,\" \",COUNTRY_INFO!A73)","v":"Chad"},{"$f":"IF(COUNTRY_INFO!B73=0,\" \",COUNTRY_INFO!B73)","v":"Logone Orientlal"},{"$f":"IF(COUNTRY_INFO!C73=0,\" \",COUNTRY_INFO!C73)","v":"Larmanaye"},{"$f":"IF(AND(COUNTRY_INFO!$U$9:$U$1000=\"T3 (ALB/MBD)\",COUNTRY_INFO!$V$9:$V$1000=\"T3 (ALB/MBD)\"), \"T3 (ALB/MBD)\", \" \")","v":" "},null,null,null,null,null,0,null,null,null,0," "," "," "," "]
[{"$f":"IF(COUNTRY_INFO!A74=0,\" \",COUNTRY_INFO!A74)","v":"Chad"},{"$f":"IF(COUNTRY_INFO!B74=0,\" \",COUNTRY_INFO!B74)","v":"Mandoul"},{"$f":"IF(COUNTRY_INFO!C74=0,\" \",COUNTRY_INFO!C74)","v":"Bedaya"},{"$f":"IF(AND(COUNTRY_INFO!$U$9:$U$1000=\"T3 (ALB/MBD)\",COUNTRY_INFO!$V$9:$V$1000=\"T3 (ALB/MBD)\"), \"T3 (ALB/MBD)\", \" \")","v":" "},null,null,null,null,null,{"$f":"SUM(G74:I74)","v":0},null,null,null,{"$f":"SUM(K74:M74)","v":0},{"$f":"IF(G74<>0, IF(K74/G74*100=0, \"-\", K74/G74*100), \" \")","v":" "},{"$f":"IF(H74<>0, IF(L74/H74*100=0, \"-\", L74/H74*100), \" \")","v":" "},{"$f":"IF(I74<>0, IF(M74/I74*100=0, \"-\", M74/I74*100), \" \")","v":" "},{"$f":"IF(J74<>0, IF(N74/J74*100=0, \"-\", N74/J74*100), \" \")","v":" "}]
[{"$f":"IF(COUNTRY_INFO!A75=0,\" \",COUNTRY_INFO!A75)","v":"Chad"},{"$f":"IF(COUNTRY_INFO!B75=0,\" \",COUNTRY_INFO!B75)","v":"Mandoul"},{"$f":"IF(COUNTRY_INFO!C75=0,\" \",COUNTRY_INFO!C75)","v":"Bedjondo"},{"$f":"IF(AND(COUNTRY_INFO!$U$9:$U$1000=\"T3 (ALB/MBD)\",COUNTRY_INFO!$V$9:$V$1000=\"T3 (ALB/MBD)\"), \"T3 (ALB/MBD)\", \" \")","v":" "},null,null,null,null,null,0,null,null,null,0," "," "," "," "]
[{"$f":"IF(COUNTRY_INFO!A76=0,\" \",COUNTRY_INFO!A76)","v":"Chad"},{"$f":"IF(COUNTRY_INFO!B76=0,\" \",COUNTRY_INFO!B76)","v":"Mandoul"},{"$f":"IF(COUNTRY_INFO!C76=0,\" \",COUNTRY_INFO!C76)","v":"Bekourou"},{"$f":"IF(AND(COUNTRY_INFO!$U$9:$U$1000=\"T3 (ALB/MBD)\",COUNTRY_INFO!$V$9:$V$1000=\"T3 (ALB/MBD)\"), \"T3 (ALB/MBD)\", \" \")","v":" "},null,null,null,null,null,0,null,null,null,0," "," "," "," "]
[{"$f":"IF(COUNTRY_INFO!A77=0,\" \",COUNTRY_INFO!A77)","v":"Chad"},{"$f":"IF(COUNTRY_INFO!B77=0,\" \",COUNTRY_INFO!B77)","v":"Mandoul"},{"$f":"IF(COUNTRY_INFO!C77=0,\" \",COUNTRY_INFO!C77)","v":"Bouna"},{"$f":"IF(AND(COUNTRY_INFO!$U$9:$U$1000=\"T3 (ALB/MBD)\",COUNTRY_INFO!$V$9:$V$1000=\"T3 (ALB/MBD)\"), \"T3 (ALB/MBD)\", \" \")","v":" "},null,null,null,null,null,0,null,null,null,0," "," "," "," "]
[{"$f":"IF(COUNTRY_INFO!A78=0,\" \",COUNTRY_INFO!A78)","v":"Chad"},{"$f":"IF(COUNTRY_INFO!B78=0,\" \",COUNTRY_INFO!B78)","v":"Mandoul"},{"$f":"IF(COUNTRY_INFO!C78=0,\" \",COUNTRY_INFO!C78)","v":"Goundi"},{"$f":"IF(AND(COUNTRY_INFO!$U$9:$U$1000=\"T3 (ALB/MBD)\",COUNTRY_INFO!$V$9:$V$1000=\"T3 (ALB/MBD)\"), \"T3 (ALB/MBD)\", \" \")","v":" "},null,null,null,null,null,0,null,null,null,0," "," "," "," "]
[{"$f":"IF(COUNTRY_INFO!A79=0,\" \",COUNTRY_INFO!A79)","v":"Chad"},{"$f":"IF(COUNTRY_INFO!B79=0,\" \",COUNTRY_INFO!B79)","v":"Mandoul"},{"$f":"IF(COUNTRY_INFO!C79=0,\" \",COUNTRY_INFO!C79)","v":"Koumra"},{"$f":"IF(AND(COUNTRY_INFO!$U$9:$U$1000=\"T3 (ALB/MBD)\",COUNTRY_INFO!$V$9:$V$1000=\"T3 (ALB/MBD)\"), \"T3 (ALB/MBD)\", \" \")","v":" "},null,null,null,null,null,0,null,null,null,0," "," "," "," "]
[{"$f":"IF(COUNTRY_INFO!A80=0,\" \",COUNTRY_INFO!A80)","v":"Chad"},{"$f":"IF(COUNTRY_INFO!B80=0,\" \",COUNTRY_INFO!B80)","v":"Mandoul"},{"$f":"IF(COUNTRY_INFO!C80=0,\" \",COUNTRY_INFO!C80)","v":"Moissala"},{"$f":"IF(AND(COUNTRY_INFO!$U$9:$U$1000=\"T3 (ALB/MBD)\",COUNTRY_INFO!$V$9:$V$1000=\"T3 (ALB/MBD)\"), \"T3 (ALB/MBD)\", \" \")","v":" "},null,null,null,null,null,0,null,null,null,0," "," "," "," "]
[{"$f":"IF(COUNTRY_INFO!A81=0,\" \",COUNTRY_INFO!A81)","v":"Chad"},{"$f":"IF(COUNTRY_INFO!B81=0,\" \",COUNTRY_INFO!B81)","v":"Mayo Kebbi Est"},{"$f":"IF(COUNTRY_INFO!C81=0,\" \",COUNTRY_INFO!C81)","v":"Bongor"},{"$f":"IF(AND(COUNTRY_INFO!$U$9:$U$1000=\"T3 (ALB/MBD)\",COUNTRY_INFO!$V$9:$V$1000=\"T3 (ALB/MBD)\"), \"T3 (ALB/MBD)\", \" \")","v":" "},null,null,null,null,null,0,null,null,null,0," "," "," "," "]
[{"$f":"IF(COUNTRY_INFO!A82=0,\" \",COUNTRY_INFO!A82)","v":"Chad"},{"$f":"IF(COUNTRY_INFO!B82=0,\" \",COUNTRY_INFO!B82)","v":"Mayo Kebbi Est"},{"$f":"IF(COUNTRY_INFO!C82=0,\" \",COUNTRY_INFO!C82)","v":"Fianga"},{"$f":"IF(AND(COUNTRY_INFO!$U$9:$U$1000=\"T3 (ALB/MBD)\",COUNTRY_INFO!$V$9:$V$1000=\"T3 (ALB/MBD)\"), \"T3 (ALB/MBD)\", \" \")","v":" "},null,null,null,null,null,0,null,null,null,0," "," "," "," "]
[{"$f":"IF(COUNTRY_INFO!A83=0,\" \",COUNTRY_INFO!A83)","v":"Chad"},{"$f":"IF(COUNTRY_INFO!B83=0,\" \",COUNTRY_INFO!B83)","v":"Mayo Kebbi Est"},{"$f":"IF(COUNTRY_INFO!C83=0,\" \",COUNTRY_INFO!C83)","v":"Gounou Gaya"},{"$f":"IF(AND(COUNTRY_INFO!$U$9:$U$1000=\"T3 (ALB/MBD)\",COUNTRY_INFO!$V$9:$V$1000=\"T3 (ALB/MBD)\"), \"T3 (ALB/MBD)\", \" \")","v":" "},null,null,null,null,null,0,null,null,null,0," "," "," "," "]
[{"$f":"IF(COUNTRY_INFO!A84=0,\" \",COUNTRY_INFO!A84)","v":"Chad"},{"$f":"IF(COUNTRY_INFO!B84=0,\" \",COUNTRY_INFO!B84)","v":"Mayo Kebbi Est"},{"$f":"IF(COUNTRY_INFO!C84=0,\" \",COUNTRY_INFO!C84)","v":"Guelinding"},{"$f":"IF(AND(COUNTRY_INFO!$U$9:$U$1000=\"T3 (ALB/MBD)\",COUNTRY_INFO!$V$9:$V$1000=\"T3 (ALB/MBD)\"), \"T3 (ALB/MBD)\", \" \")","v":" "},null,null,null,null,null,0,null,null,null,0," "," "," "," "]
[{"$f":"IF(COUNTRY_INFO!A85=0,\" \",COUNTRY_INFO!A85)","v":"Chad"},{"$f":"IF(COUNTRY_INFO!B85=0,\" \",COUNTRY_INFO!B85)","v":"Mayo Kebbi Est"},{"$f":"IF(COUNTRY_INFO!C85=0,\" \",COUNTRY_INFO!C85)","v":"Moulkou"},{"$f":"IF(AND(COUNTRY_INFO!$U$9:$U$1000=\"T3 (ALB/MBD)\",COUNTRY_INFO!$V$9:$V$1000=\"T3 (ALB/MBD)\"), \"T3 (ALB/MBD)\", \" \")","v":" "},null,null,null,null,null,0,null,null,null,0," "," "," "," "]
[{"$f":"IF(COUNTRY_INFO!A86=0,\" \",COUNTRY_INFO!A86)","v":"Chad"},{"$f":"IF(COUNTRY_INFO!B86=0,\" \",COUNTRY_INFO!B86)","v":"Mayo Kebbi Est"},{"$f":"IF(COUNTRY_INFO!C86=0,\" \",COUNTRY_INFO!C86)","v":"Pont Carol"},{"$f":"IF(AND(COUNTRY_INFO!$U$9:$U$1000=\"T3 (ALB/MBD)\",COUNTRY_INFO!$V$9:$V$1000=\"T3 (ALB/MBD)\"), \"T3 (ALB/MBD)\", \" \")","v":" "},null,null,null,null,null,0,null,null,null,0," "," "," "," "]
[{"$f":"IF(COUNTRY_INFO!A87=0,\" \",COUNTRY_INFO!A87)","v":"Chad"},{"$f":"IF(COUNTRY_INFO!B87=0,\" \",COUNTRY_INFO!B87)","v":"Mayo Kebbi Est"},{"$f":"IF(COUNTRY_INFO!C87=0,\" \",COUNTRY_INFO!C87)","v":"Youé"},{"$f":"IF(AND(COUNTRY_INFO!$U$9:$U$1000=\"T3 (ALB/MBD)\",COUNTRY_INFO!$V$9:$V$1000=\"T3 (ALB/MBD)\"), \"T3 (ALB/MBD)\", \" \")","v":" "},null,null,null,null,null,0,null,null,null,0," "," "," "," "]
[{"$f":"IF(COUNTRY_INFO!A88=0,\" \",COUNTRY_INFO!A88)","v":"Chad"},{"$f":"IF(COUNTRY_INFO!B88=0,\" \",COUNTRY_INFO!B88)","v":"Mayo Kebbi Ouest"},{"$f":"IF(COUNTRY_INFO!C88=0,\" \",COUNTRY_INFO!C88)","v":"Binder"},{"$f":"IF(AND(COUNTRY_INFO!$U$9:$U$1000=\"T3 (ALB/MBD)\",COUNTRY_INFO!$V$9:$V$1000=\"T3 (ALB/MBD)\"), \"T3 (ALB/MBD)\", \" \")","v":" "},null,null,null,null,null,0,null,null,null,0," "," "," "," "]
[{"$f":"IF(COUNTRY_INFO!A89=0,\" \",COUNTRY_INFO!A89)","v":"Chad"},{"$f":"IF(COUNTRY_INFO!B89=0,\" \",COUNTRY_INFO!B89)","v":"Mayo Kebbi Ouest"},{"$f":"IF(COUNTRY_INFO!C89=0,\" \",COUNTRY_INFO!C89)","v":"Gagal"},{"$f":"IF(AND(COUNTRY_INFO!$U$9:$U$1000=\"T3 (ALB/MBD)\",COUNTRY_INFO!$V$9:$V$1000=\"T3 (ALB/MBD)\"), \"T3 (ALB/MBD)\", \" \")","v":" "},null,null,null,null,null,0,null,null,null,0," "," "," "," "]
[{"$f":"IF(COUNTRY_INFO!A90=0,\" \",COUNTRY_INFO!A90)","v":"Chad"},{"$f":"IF(COUNTRY_INFO!B90=0,\" \",COUNTRY_INFO!B90)","v":"Mayo Kebbi Ouest"},{"$f":"IF(COUNTRY_INFO!C90=0,\" \",COUNTRY_INFO!C90)","v":"Guegou"},{"$f":"IF(AND(COUNTRY_INFO!$U$9:$U$1000=\"T3 (ALB/MBD)\",COUNTRY_INFO!$V$9:$V$1000=\"T3 (ALB/MBD)\"), \"T3 (ALB/MBD)\", \" \")","v":" "},null,null,null,null,null,0,null,null,null,0," "," "," "," "]
[{"$f":"IF(COUNTRY_INFO!A91=0,\" \",COUNTRY_INFO!A91)","v":"Chad"},{"$f":"IF(COUNTRY_INFO!B91=0,\" \",COUNTRY_INFO!B91)","v":"Mayo Kebbi Ouest"},{"$f":"IF(COUNTRY_INFO!C91=0,\" \",COUNTRY_INFO!C91)","v":"GUELO"},{"$f":"IF(AND(COUNTRY_INFO!$U$9:$U$1000=\"T3 (ALB/MBD)\",COUNTRY_INFO!$V$9:$V$1000=\"T3 (ALB/MBD)\"), \"T3 (ALB/MBD)\", \" \")","v":" "},null,null,null,null,null,0,null,null,null,0," "," "," "," "]
[{"$f":"IF(COUNTRY_INFO!A92=0,\" \",COUNTRY_INFO!A92)","v":"Chad"},{"$f":"IF(COUNTRY_INFO!B92=0,\" \",COUNTRY_INFO!B92)","v":"Mayo Kebbi Ouest"},{"$f":"IF(COUNTRY_INFO!C92=0,\" \",COUNTRY_INFO!C92)","v":"Lagon"},{"$f":"IF(AND(COUNTRY_INFO!$U$9:$U$1000=\"T3 (ALB/MBD)\",COUNTRY_INFO!$V$9:$V$1000=\"T3 (ALB/MBD)\"), \"T3 (ALB/MBD)\", \" \")","v":" "},null,null,null,null,null,0,null,null,null,0," "," "," "," "]
[{"$f":"IF(COUNTRY_INFO!A93=0,\" \",COUNTRY_INFO!A93)","v":"Chad"},{"$f":"IF(COUNTRY_INFO!B93=0,\" \",COUNTRY_INFO!B93)","v":"Mayo Kebbi Ouest"},{"$f":"IF(COUNTRY_INFO!C93=0,\" \",COUNTRY_INFO!C93)","v":"Lamé"},{"$f":"IF(AND(COUNTRY_INFO!$U$9:$U$1000=\"T3 (ALB/MBD)\",COUNTRY_INFO!$V$9:$V$1000=\"T3 (ALB/MBD)\"), \"T3 (ALB/MBD)\", \" \")","v":" "},null,null,null,null,null,0,null,null,null,0," "," "," "," "]
[{"$f":"IF(COUNTRY_INFO!A94=0,\" \",COUNTRY_INFO!A94)","v":"Chad"},{"$f":"IF(COUNTRY_INFO!B94=0,\" \",COUNTRY_INFO!B94)","v":"Mayo Kebbi Ouest"},{"$f":"IF(COUNTRY_INFO!C94=0,\" \",COUNTRY_INFO!C94)","v":"Lere"},{"$f":"IF(AND(COUNTRY_INFO!$U$9:$U$1000=\"T3 (ALB/MBD)\",COUNTRY_INFO!$V$9:$V$1000=\"T3 (ALB/MBD)\"), \"T3 (ALB/MBD)\", \" \")","v":" "},null,null,null,null,null,0,null,null,null,0," "," "," "," "]
[{"$f":"IF(COUNTRY_INFO!A95=0,\" \",COUNTRY_INFO!A95)","v":"Chad"},{"$f":"IF(COUNTRY_INFO!B95=0,\" \",COUNTRY_INFO!B95)","v":"Mayo Kebbi Ouest"},{"$f":"IF(COUNTRY_INFO!C95=0,\" \",COUNTRY_INFO!C95)","v":"Pala"},{"$f":"IF(AND(COUNTRY_INFO!$U$9:$U$1000=\"T3 (ALB/MBD)\",COUNTRY_INFO!$V$9:$V$1000=\"T3 (ALB/MBD)\"), \"T3 (ALB/MBD)\", \" \")","v":" "},null,null,null,null,null,0,null,null,null,0," "," "," "," "]
[{"$f":"IF(COUNTRY_INFO!A96=0,\" \",COUNTRY_INFO!A96)","v":"Chad"},{"$f":"IF(COUNTRY_INFO!B96=0,\" \",COUNTRY_INFO!B96)","v":"Mayo Kebbi Ouest"},{"$f":"IF(COUNTRY_INFO!C96=0,\" \",COUNTRY_INFO!C96)","v":"Torrock"},{"$f":"IF(AND(COUNTRY_INFO!$U$9:$U$1000=\"T3 (ALB/MBD)\",COUNTRY_INFO!$V$9:$V$1000=\"T3 (ALB/MBD)\"), \"T3 (ALB/MBD)\", \" \")","v":" "},null,null,null,null,null,0,null,null,null,0," "," "," "," "]
[{"$f":"IF(COUNTRY_INFO!A97=0,\" \",COUNTRY_INFO!A97)","v":"Chad"},{"$f":"IF(COUNTRY_INFO!B97=0,\" \",COUNTRY_INFO!B97)","v":"Moyen Chari"},{"$f":"IF(COUNTRY_INFO!C97=0,\" \",COUNTRY_INFO!C97)","v":"Balimba"},{"$f":"IF(AND(COUNTRY_INFO!$U$9:$U$1000=\"T3 (ALB/MBD)\",COUNTRY_INFO!$V$9:$V$1000=\"T3 (ALB/MBD)\"), \"T3 (ALB/MBD)\", \" \")","v":" "},null,null,null,null,null,0,null,null,null,0," "," "," "," "]
[{"$f":"IF(COUNTRY_INFO!A98=0,\" \",COUNTRY_INFO!A98)","v":"Chad"},{"$f":"IF(COUNTRY_INFO!B98=0,\" \",COUNTRY_INFO!B98)","v":"Moyen Chari"},{"$f":"IF(COUNTRY_INFO!C98=0,\" \",COUNTRY_INFO!C98)","v":"Biobe Singako"},{"$f":"IF(AND(COUNTRY_INFO!$U$9:$U$1000=\"T3 (ALB/MBD)\",COUNTRY_INFO!$V$9:$V$1000=\"T3 (ALB/MBD)\"), \"T3 (ALB/MBD)\", \" \")","v":" "},null,null,null,null,null,0,null,null,null,0," "," "," "," "]
[{"$f":"IF(COUNTRY_INFO!A99=0,\" \",COUNTRY_INFO!A99)","v":"Chad"},{"$f":"IF(COUNTRY_INFO!B99=0,\" \",COUNTRY_INFO!B99)","v":"Moyen Chari"},{"$f":"IF(COUNTRY_INFO!C99=0,\" \",COUNTRY_INFO!C99)","v":"Danamadji"},{"$f":"IF(AND(COUNTRY_INFO!$U$9:$U$1000=\"T3 (ALB/MBD)\",COUNTRY_INFO!$V$9:$V$1000=\"T3 (ALB/MBD)\"), \"T3 (ALB/MBD)\", \" \")","v":" "},null,null,null,null,null,0,null,null,null,0," "," "," "," "]
[{"$f":"IF(COUNTRY_INFO!A100=0,\" \",COUNTRY_INFO!A100)","v":"Chad"},{"$f":"IF(COUNTRY_INFO!B100=0,\" \",COUNTRY_INFO!B100)","v":"Moyen Chari"},{"$f":"IF(COUNTRY_INFO!C100=0,\" \",COUNTRY_INFO!C100)","v":"Korbol"},{"$f":"IF(AND(COUNTRY_INFO!$U$9:$U$1000=\"T3 (ALB/MBD)\",COUNTRY_INFO!$V$9:$V$1000=\"T3 (ALB/MBD)\"), \"T3 (ALB/MBD)\", \" \")","v":" "},null,null,null,null,null,0,null,null,null,0," "," "," "," "]
[{"$f":"IF(COUNTRY_INFO!A101=0,\" \",COUNTRY_INFO!A101)","v":"Chad"},{"$f":"IF(COUNTRY_INFO!B101=0,\" \",COUNTRY_INFO!B101)","v":"Moyen Chari"},{"$f":"IF(COUNTRY_INFO!C101=0,\" \",COUNTRY_INFO!C101)","v":"Koumogo"},{"$f":"IF(AND(COUNTRY_INFO!$U$9:$U$1000=\"T3 (ALB/MBD)\",COUNTRY_INFO!$V$9:$V$1000=\"T3 (ALB/MBD)\"), \"T3 (ALB/MBD)\", \" \")","v":" "},null,null,null,null,null,0,null,null,null,0," "," "," "," "]
[{"$f":"IF(COUNTRY_INFO!A102=0,\" \",COUNTRY_INFO!A102)","v":"Chad"},{"$f":"IF(COUNTRY_INFO!B102=0,\" \",COUNTRY_INFO!B102)","v":"Moyen Chari"},{"$f":"IF(COUNTRY_INFO!C102=0,\" \",COUNTRY_INFO!C102)","v":"Kyabe"},{"$f":"IF(AND(COUNTRY_INFO!$U$9:$U$1000=\"T3 (ALB/MBD)\",COUNTRY_INFO!$V$9:$V$1000=\"T3 (ALB/MBD)\"), \"T3 (ALB/MBD)\", \" \")","v":" "},null,null,null,null,null,0,null,null,null,0," "," "," "," "]
[{"$f":"IF(COUNTRY_INFO!A103=0,\" \",COUNTRY_INFO!A103)","v":"Chad"},{"$f":"IF(COUNTRY_INFO!B103=0,\" \",COUNTRY_INFO!B103)","v":"Moyen Chari"},{"$f":"IF(COUNTRY_INFO!C103=0,\" \",COUNTRY_INFO!C103)","v":"Maro"},{"$f":"IF(AND(COUNTRY_INFO!$U$9:$U$1000=\"T3 (ALB/MBD)\",COUNTRY_INFO!$V$9:$V$1000=\"T3 (ALB/MBD)\"), \"T3 (ALB/MBD)\", \" \")","v":" "},null,null,null,null,null,0,null,null,null,0," "," "," "," "]
[{"$f":"IF(COUNTRY_INFO!A104=0,\" \",COUNTRY_INFO!A104)","v":"Chad"},{"$f":"IF(COUNTRY_INFO!B104=0,\" \",COUNTRY_INFO!B104)","v":"Moyen Chari"},{"$f":"IF(COUNTRY_INFO!C104=0,\" \",COUNTRY_INFO!C104)","v":"Sarh"},{"$f":"IF(AND(COUNTRY_INFO!$U$9:$U$1000=\"T3 (ALB/MBD)\",COUNTRY_INFO!$V$9:$V$1000=\"T3 (ALB/MBD)\"), \"T3 (ALB/MBD)\", \" \")","v":" "},null,null,null,null,null,0,null,null,null,0," "," "," "," "]
[{"$f":"IF(COUNTRY_INFO!A105=0,\" \",COUNTRY_INFO!A105)","v":"Chad"},{"$f":"IF(COUNTRY_INFO!B105=0,\" \",COUNTRY_INFO!B105)","v":"N'Djaména"},{"$f":"IF(COUNTRY_INFO!C105=0,\" \",COUNTRY_INFO!C105)","v":"N'Djaména Centre"},{"$f":"IF(AND(COUNTRY_INFO!$U$9:$U$1000=\"T3 (ALB/MBD)\",COUNTRY_INFO!$V$9:$V$1000=\"T3 (ALB/MBD)\"), \"T3 (ALB/MBD)\", \" \")","v":" "},null,null,null,null,null,0,null,null,null,0," "," "," "," "]
[{"$f":"IF(COUNTRY_INFO!A106=0,\" \",COUNTRY_INFO!A106)","v":"Chad"},{"$f":"IF(COUNTRY_INFO!B106=0,\" \",COUNTRY_INFO!B106)","v":"N'Djaména"},{"$f":"IF(COUNTRY_INFO!C106=0,\" \",COUNTRY_INFO!C106)","v":"N'Djaména Est"},{"$f":"IF(AND(COUNTRY_INFO!$U$9:$U$1000=\"T3 (ALB/MBD)\",COUNTRY_INFO!$V$9:$V$1000=\"T3 (ALB/MBD)\"), \"T3 (ALB/MBD)\", \" \")","v":" "},null,null,null,null,null,0,null,null,null,0," "," "," "," "]
[{"$f":"IF(COUNTRY_INFO!A107=0,\" \",COUNTRY_INFO!A107)","v":"Chad"},{"$f":"IF(COUNTRY_INFO!B107=0,\" \",COUNTRY_INFO!B107)","v":"N'Djaména"},{"$f":"IF(COUNTRY_INFO!C107=0,\" \",COUNTRY_INFO!C107)","v":"N'Djaména Nord"},{"$f":"IF(AND(COUNTRY_INFO!$U$9:$U$1000=\"T3 (ALB/MBD)\",COUNTRY_INFO!$V$9:$V$1000=\"T3 (ALB/MBD)\"), \"T3 (ALB/MBD)\", \" \")","v":" "},null,null,null,null,null,0,null,null,null,0," "," "," "," "]
[{"$f":"IF(COUNTRY_INFO!A108=0,\" \",COUNTRY_INFO!A108)","v":"Chad"},{"$f":"IF(COUNTRY_INFO!B108=0,\" \",COUNTRY_INFO!B108)","v":"N'Djaména"},{"$f":"IF(COUNTRY_INFO!C108=0,\" \",COUNTRY_INFO!C108)","v":"N'Djaména Sud"},{"$f":"IF(AND(COUNTRY_INFO!$U$9:$U$1000=\"T3 (ALB/MBD)\",COUNTRY_INFO!$V$9:$V$1000=\"T3 (ALB/MBD)\"), \"T3 (ALB/MBD)\", \" \")","v":" "},null,null,null,null,null,0,null,null,null,0," "," "," "," "]
[{"$f":"IF(COUNTRY_INFO!A109=0,\" \",COUNTRY_INFO!A109)","v":"Chad"},{"$f":"IF(COUNTRY_INFO!B109=0,\" \",COUNTRY_INFO!B109)","v":"N'Djamena"},{"$f":"IF(COUNTRY_INFO!C109=0,\" \",COUNTRY_INFO!C109)","v":"9eme Arrondissement"},{"$f":"IF(AND(COUNTRY_INFO!$U$9:$U$1000=\"T3 (ALB/MBD)\",COUNTRY_INFO!$V$9:$V$1000=\"T3 (ALB/MBD)\"), \"T3 (ALB/MBD)\", \" \")","v":" "},null,null,null,null,null,0,null,null,null,0," "," "," "," "]
[{"$f":"IF(COUNTRY_INFO!A110=0,\" \",COUNTRY_INFO!A110)","v":"Chad"},{"$f":"IF(COUNTRY_INFO!B110=0,\" \",COUNTRY_INFO!B110)","v":"Ouaddai"},{"$f":"IF(COUNTRY_INFO!C110=0,\" \",COUNTRY_INFO!C110)","v":"Abdi"},{"$f":"IF(AND(COUNTRY_INFO!$U$9:$U$1000=\"T3 (ALB/MBD)\",COUNTRY_INFO!$V$9:$V$1000=\"T3 (ALB/MBD)\"), \"T3 (ALB/MBD)\", \" \")","v":" "},null,null,null,null,null,0,null,null,null,0," "," "," "," "]
[{"$f":"IF(COUNTRY_INFO!A111=0,\" \",COUNTRY_INFO!A111)","v":"Chad"},{"$f":"IF(COUNTRY_INFO!B111=0,\" \",COUNTRY_INFO!B111)","v":"Ouaddai"},{"$f":"IF(COUNTRY_INFO!C111=0,\" \",COUNTRY_INFO!C111)","v":"Abeche"},{"$f":"IF(AND(COUNTRY_INFO!$U$9:$U$1000=\"T3 (ALB/MBD)\",COUNTRY_INFO!$V$9:$V$1000=\"T3 (ALB/MBD)\"), \"T3 (ALB/MBD)\", \" \")","v":" "},null,null,null,null,null,0,null,null,null,0," "," "," "," "]
[{"$f":"IF(COUNTRY_INFO!A112=0,\" \",COUNTRY_INFO!A112)","v":"Chad"},{"$f":"IF(COUNTRY_INFO!B112=0,\" \",COUNTRY_INFO!B112)","v":"Ouaddai"},{"$f":"IF(COUNTRY_INFO!C112=0,\" \",COUNTRY_INFO!C112)","v":"Abougoudam"},{"$f":"IF(AND(COUNTRY_INFO!$U$9:$U$1000=\"T3 (ALB/MBD)\",COUNTRY_INFO!$V$9:$V$1000=\"T3 (ALB/MBD)\"), \"T3 (ALB/MBD)\", \" \")","v":" "},null,null,null,null,null,0,null,null,null,0," "," "," "," "]
[{"$f":"IF(COUNTRY_INFO!A113=0,\" \",COUNTRY_INFO!A113)","v":"Chad"},{"$f":"IF(COUNTRY_INFO!B113=0,\" \",COUNTRY_INFO!B113)","v":"Ouaddai"},{"$f":"IF(COUNTRY_INFO!C113=0,\" \",COUNTRY_INFO!C113)","v":"Adré"},{"$f":"IF(AND(COUNTRY_INFO!$U$9:$U$1000=\"T3 (ALB/MBD)\",COUNTRY_INFO!$V$9:$V$1000=\"T3 (ALB/MBD)\"), \"T3 (ALB/MBD)\", \" \")","v":" "},null,null,null,null,null,0,null,null,null,0," "," "," "," "]
[{"$f":"IF(COUNTRY_INFO!A114=0,\" \",COUNTRY_INFO!A114)","v":"Chad"},{"$f":"IF(COUNTRY_INFO!B114=0,\" \",COUNTRY_INFO!B114)","v":"Salamat"},{"$f":"IF(COUNTRY_INFO!C114=0,\" \",COUNTRY_INFO!C114)","v":"Aboudeia"},{"$f":"IF(AND(COUNTRY_INFO!$U$9:$U$1000=\"T3 (ALB/MBD)\",COUNTRY_INFO!$V$9:$V$1000=\"T3 (ALB/MBD)\"), \"T3 (ALB/MBD)\", \" \")","v":" "},null,null,null,null,null,0,null,null,null,0," "," "," "," "]
[{"$f":"IF(COUNTRY_INFO!A115=0,\" \",COUNTRY_INFO!A115)","v":"Chad"},{"$f":"IF(COUNTRY_INFO!B115=0,\" \",COUNTRY_INFO!B115)","v":"Salamat"},{"$f":"IF(COUNTRY_INFO!C115=0,\" \",COUNTRY_INFO!C115)","v":"Am-Timan"},{"$f":"IF(AND(COUNTRY_INFO!$U$9:$U$1000=\"T3 (ALB/MBD)\",COUNTRY_INFO!$V$9:$V$1000=\"T3 (ALB/MBD)\"), \"T3 (ALB/MBD)\", \" \")","v":" "},null,null,null,null,null,0,null,null,null,0," "," "," "," "]
[{"$f":"IF(COUNTRY_INFO!A116=0,\" \",COUNTRY_INFO!A116)","v":"Chad"},{"$f":"IF(COUNTRY_INFO!B116=0,\" \",COUNTRY_INFO!B116)","v":"Salamat"},{"$f":"IF(COUNTRY_INFO!C116=0,\" \",COUNTRY_INFO!C116)","v":"Haraze"},{"$f":"IF(AND(COUNTRY_INFO!$U$9:$U$1000=\"T3 (ALB/MBD)\",COUNTRY_INFO!$V$9:$V$1000=\"T3 (ALB/MBD)\"), \"T3 (ALB/MBD)\", \" \")","v":" "},null,null,null,null,null,0,null,null,null,0," "," "," "," "]
[{"$f":"IF(COUNTRY_INFO!A117=0,\" \",COUNTRY_INFO!A117)","v":"Chad"},{"$f":"IF(COUNTRY_INFO!B117=0,\" \",COUNTRY_INFO!B117)","v":"Sila"},{"$f":"IF(COUNTRY_INFO!C117=0,\" \",COUNTRY_INFO!C117)","v":"Am-dam"},{"$f":"IF(AND(COUNTRY_INFO!$U$9:$U$1000=\"T3 (ALB/MBD)\",COUNTRY_INFO!$V$9:$V$1000=\"T3 (ALB/MBD)\"), \"T3 (ALB/MBD)\", \" \")","v":" "},null,null,null,null,null,0,null,null,null,0," "," "," "," "]
[{"$f":"IF(COUNTRY_INFO!A118=0,\" \",COUNTRY_INFO!A118)","v":"Chad"},{"$f":"IF(COUNTRY_INFO!B118=0,\" \",COUNTRY_INFO!B118)","v":"Sila"},{"$f":"IF(COUNTRY_INFO!C118=0,\" \",COUNTRY_INFO!C118)","v":"Goz-beida"},{"$f":"IF(AND(COUNTRY_INFO!$U$9:$U$1000=\"T3 (ALB/MBD)\",COUNTRY_INFO!$V$9:$V$1000=\"T3 (ALB/MBD)\"), \"T3 (ALB/MBD)\", \" \")","v":" "},null,null,null,null,null,0,null,null,null,0," "," "," "," "]
[{"$f":"IF(COUNTRY_INFO!A119=0,\" \",COUNTRY_INFO!A119)","v":"Chad"},{"$f":"IF(COUNTRY_INFO!B119=0,\" \",COUNTRY_INFO!B119)","v":"Sila"},{"$f":"IF(COUNTRY_INFO!C119=0,\" \",COUNTRY_INFO!C119)","v":"Koukou"},{"$f":"IF(AND(COUNTRY_INFO!$U$9:$U$1000=\"T3 (ALB/MBD)\",COUNTRY_INFO!$V$9:$V$1000=\"T3 (ALB/MBD)\"), \"T3 (ALB/MBD)\", \" \")","v":" "},null,null,null,null,null,0,null,null,null,0," "," "," "," "]
[{"$f":"IF(COUNTRY_INFO!A120=0,\" \",COUNTRY_INFO!A120)","v":"Chad"},{"$f":"IF(COUNTRY_INFO!B120=0,\" \",COUNTRY_INFO!B120)","v":"Sila"},{"$f":"IF(COUNTRY_INFO!C120=0,\" \",COUNTRY_INFO!C120)","v":"Tissi"},{"$f":"IF(AND(COUNTRY_INFO!$U$9:$U$1000=\"T3 (ALB/MBD)\",COUNTRY_INFO!$V$9:$V$1000=\"T3 (ALB/MBD)\"), \"T3 (ALB/MBD)\", \" \")","v":" "},null,null,null,null,null,0,null,null,null,0," "," "," "," "]
[{"$f":"IF(COUNTRY_INFO!A121=0,\" \",COUNTRY_INFO!A121)","v":"Chad"},{"$f":"IF(COUNTRY_INFO!B121=0,\" \",COUNTRY_INFO!B121)","v":"Tandjile"},{"$f":"IF(COUNTRY_INFO!C121=0,\" \",COUNTRY_INFO!C121)","v":"Batchoro"},{"$f":"IF(AND(COUNTRY_INFO!$U$9:$U$1000=\"T3 (ALB/MBD)\",COUNTRY_INFO!$V$9:$V$1000=\"T3 (ALB/MBD)\"), \"T3 (ALB/MBD)\", \" \")","v":" "},null,null,null,null,null,0,null,null,null,0," "," "," "," "]
[{"$f":"IF(COUNTRY_INFO!A122=0,\" \",COUNTRY_INFO!A122)","v":"Chad"},{"$f":"IF(COUNTRY_INFO!B122=0,\" \",COUNTRY_INFO!B122)","v":"Tandjile"},{"$f":"IF(COUNTRY_INFO!C122=0,\" \",COUNTRY_INFO!C122)","v":"Bere"},{"$f":"IF(AND(COUNTRY_INFO!$U$9:$U$1000=\"T3 (ALB/MBD)\",COUNTRY_INFO!$V$9:$V$1000=\"T3 (ALB/MBD)\"), \"T3 (ALB/MBD)\", \" \")","v":" "},null,null,null,null,null,0,null,null,null,0," "," "," "," "]
[{"$f":"IF(COUNTRY_INFO!A123=0,\" \",COUNTRY_INFO!A123)","v":"Chad"},{"$f":"IF(COUNTRY_INFO!B123=0,\" \",COUNTRY_INFO!B123)","v":"Tandjile"},{"$f":"IF(COUNTRY_INFO!C123=0,\" \",COUNTRY_INFO!C123)","v":"Bologo"},{"$f":"IF(AND(COUNTRY_INFO!$U$9:$U$1000=\"T3 (ALB/MBD)\",COUNTRY_INFO!$V$9:$V$1000=\"T3 (ALB/MBD)\"), \"T3 (ALB/MBD)\", \" \")","v":" "},null,null,null,null,null,0,null,null,null,0," "," "," "," "]
[{"$f":"IF(COUNTRY_INFO!A124=0,\" \",COUNTRY_INFO!A124)","v":"Chad"},{"$f":"IF(COUNTRY_INFO!B124=0,\" \",COUNTRY_INFO!B124)","v":"Tandjile"},{"$f":"IF(COUNTRY_INFO!C124=0,\" \",COUNTRY_INFO!C124)","v":"Dafra"},{"$f":"IF(AND(COUNTRY_INFO!$U$9:$U$1000=\"T3 (ALB/MBD)\",COUNTRY_INFO!$V$9:$V$1000=\"T3 (ALB/MBD)\"), \"T3 (ALB/MBD)\", \" \")","v":" "},null,null,null,null,null,0,null,null,null,0," "," "," "," "]
[{"$f":"IF(COUNTRY_INFO!A125=0,\" \",COUNTRY_INFO!A125)","v":"Chad"},{"$f":"IF(COUNTRY_INFO!B125=0,\" \",COUNTRY_INFO!B125)","v":"Tandjile"},{"$f":"IF(COUNTRY_INFO!C125=0,\" \",COUNTRY_INFO!C125)","v":"Deressia"},{"$f":"IF(AND(COUNTRY_INFO!$U$9:$U$1000=\"T3 (ALB/MBD)\",COUNTRY_INFO!$V$9:$V$1000=\"T3 (ALB/MBD)\"), \"T3 (ALB/MBD)\", \" \")","v":" "},null,null,null,null,null,0,null,null,null,0," "," "," "," "]
[{"$f":"IF(COUNTRY_INFO!A126=0,\" \",COUNTRY_INFO!A126)","v":"Chad"},{"$f":"IF(COUNTRY_INFO!B126=0,\" \",COUNTRY_INFO!B126)","v":"Tandjile"},{"$f":"IF(COUNTRY_INFO!C126=0,\" \",COUNTRY_INFO!C126)","v":"Donamanga"},{"$f":"IF(AND(COUNTRY_INFO!$U$9:$U$1000=\"T3 (ALB/MBD)\",COUNTRY_INFO!$V$9:$V$1000=\"T3 (ALB/MBD)\"), \"T3 (ALB/MBD)\", \" \")","v":" "},null,null,null,null,null,0,null,null,null,0," "," "," "," "]
[{"$f":"IF(COUNTRY_INFO!A127=0,\" \",COUNTRY_INFO!A127)","v":"Chad"},{"$f":"IF(COUNTRY_INFO!B127=0,\" \",COUNTRY_INFO!B127)","v":"Tandjile"},{"$f":"IF(COUNTRY_INFO!C127=0,\" \",COUNTRY_INFO!C127)","v":"Guidari"},{"$f":"IF(AND(COUNTRY_INFO!$U$9:$U$1000=\"T3 (ALB/MBD)\",COUNTRY_INFO!$V$9:$V$1000=\"T3 (ALB/MBD)\"), \"T3 (ALB/MBD)\", \" \")","v":" "},null,null,null,null,null,0,null,null,null,0," "," "," "," "]
[{"$f":"IF(COUNTRY_INFO!A128=0,\" \",COUNTRY_INFO!A128)","v":"Chad"},{"$f":"IF(COUNTRY_INFO!B128=0,\" \",COUNTRY_INFO!B128)","v":"Tandjile"},{"$f":"IF(COUNTRY_INFO!C128=0,\" \",COUNTRY_INFO!C128)","v":"Kelo"},{"$f":"IF(AND(COUNTRY_INFO!$U$9:$U$1000=\"T3 (ALB/MBD)\",COUNTRY_INFO!$V$9:$V$1000=\"T3 (ALB/MBD)\"), \"T3 (ALB/MBD)\", \" \")","v":" "},null,null,null,null,null,0,null,null,null,0," "," "," "," "]
[{"$f":"IF(COUNTRY_INFO!A129=0,\" \",COUNTRY_INFO!A129)","v":"Chad"},{"$f":"IF(COUNTRY_INFO!B129=0,\" \",COUNTRY_INFO!B129)","v":"Tandjile"},{"$f":"IF(COUNTRY_INFO!C129=0,\" \",COUNTRY_INFO!C129)","v":"Kolon"},{"$f":"IF(AND(COUNTRY_INFO!$U$9:$U$1000=\"T3 (ALB/MBD)\",COUNTRY_INFO!$V$9:$V$1000=\"T3 (ALB/MBD)\"), \"T3 (ALB/MBD)\", \" \")","v":" "},null,null,null,null,null,0,null,null,null,0," "," "," "," "]
[{"$f":"IF(COUNTRY_INFO!A130=0,\" \",COUNTRY_INFO!A130)","v":"Chad"},{"$f":"IF(COUNTRY_INFO!B130=0,\" \",COUNTRY_INFO!B130)","v":"Tandjile"},{"$f":"IF(COUNTRY_INFO!C130=0,\" \",COUNTRY_INFO!C130)","v":"Lai"},{"$f":"IF(AND(COUNTRY_INFO!$U$9:$U$1000=\"T3 (ALB/MBD)\",COUNTRY_INFO!$V$9:$V$1000=\"T3 (ALB/MBD)\"), \"T3 (ALB/MBD)\", \" \")","v":" "},null,null,null,null,null,0,null,null,null,0," "," "," "," "]
[{"$f":"IF(COUNTRY_INFO!A131=0,\" \",COUNTRY_INFO!A131)","v":"Chad"},{"$f":"IF(COUNTRY_INFO!B131=0,\" \",COUNTRY_INFO!B131)","v":"Tibesti"},{"$f":"IF(COUNTRY_INFO!C131=0,\" \",COUNTRY_INFO!C131)","v":"Bardaï"},{"$f":"IF(AND(COUNTRY_INFO!$U$9:$U$1000=\"T3 (ALB/MBD)\",COUNTRY_INFO!$V$9:$V$1000=\"T3 (ALB/MBD)\"), \"T3 (ALB/MBD)\", \" \")","v":" "},null,null,null,null,null,0,null,null,null,0," "," "," "," "]
[{"$f":"IF(COUNTRY_INFO!A132=0,\" \",COUNTRY_INFO!A132)","v":"Chad"},{"$f":"IF(COUNTRY_INFO!B132=0,\" \",COUNTRY_INFO!B132)","v":"Tibesti"},{"$f":"IF(COUNTRY_INFO!C132=0,\" \",COUNTRY_INFO!C132)","v":"Zouar"},{"$f":"IF(AND(COUNTRY_INFO!$U$9:$U$1000=\"T3 (ALB/MBD)\",COUNTRY_INFO!$V$9:$V$1000=\"T3 (ALB/MBD)\"), \"T3 (ALB/MBD)\", \" \")","v":" "},null,null,null,null,null,0,null,null,null,0," "," "," "," "]
[{"$f":"IF(COUNTRY_INFO!A133=0,\" \",COUNTRY_INFO!A133)","v":"Chad"},{"$f":"IF(COUNTRY_INFO!B133=0,\" \",COUNTRY_INFO!B133)","v":"Wadi Fira"},{"$f":"IF(COUNTRY_INFO!C133=0,\" \",COUNTRY_INFO!C133)","v":"amzoer"},{"$f":"IF(AND(COUNTRY_INFO!$U$9:$U$1000=\"T3 (ALB/MBD)\",COUNTRY_INFO!$V$9:$V$1000=\"T3 (ALB/MBD)\"), \"T3 (ALB/MBD)\", \" \")","v":" "},null,null,null,null,null,0,null,null,null,0," "," "," "," "]
[{"$f":"IF(COUNTRY_INFO!A134=0,\" \",COUNTRY_INFO!A134)","v":"Chad"},{"$f":"IF(COUNTRY_INFO!B134=0,\" \",COUNTRY_INFO!B134)","v":"Wadi Fira"},{"$f":"IF(COUNTRY_INFO!C134=0,\" \",COUNTRY_INFO!C134)","v":"Arada"},{"$f":"IF(AND(COUNTRY_INFO!$U$9:$U$1000=\"T3 (ALB/MBD)\",COUNTRY_INFO!$V$9:$V$1000=\"T3 (ALB/MBD)\"), \"T3 (ALB/MBD)\", \" \")","v":" "},null,null,null,null,null,0,null,null,null,0," "," "," "," "]
[{"$f":"IF(COUNTRY_INFO!A135=0,\" \",COUNTRY_INFO!A135)","v":"Chad"},{"$f":"IF(COUNTRY_INFO!B135=0,\" \",COUNTRY_INFO!B135)","v":"Wadi Fira"},{"$f":"IF(COUNTRY_INFO!C135=0,\" \",COUNTRY_INFO!C135)","v":"Biltine"},{"$f":"IF(AND(COUNTRY_INFO!$U$9:$U$1000=\"T3 (ALB/MBD)\",COUNTRY_INFO!$V$9:$V$1000=\"T3 (ALB/MBD)\"), \"T3 (ALB/MBD)\", \" \")","v":" "},null,null,null,null,null,0,null,null,null,0," "," "," "," "]
[{"$f":"IF(COUNTRY_INFO!A136=0,\" \",COUNTRY_INFO!A136)","v":"Chad"},{"$f":"IF(COUNTRY_INFO!B136=0,\" \",COUNTRY_INFO!B136)","v":"Wadi Fira"},{"$f":"IF(COUNTRY_INFO!C136=0,\" \",COUNTRY_INFO!C136)","v":"Guéréda"},{"$f":"IF(AND(COUNTRY_INFO!$U$9:$U$1000=\"T3 (ALB/MBD)\",COUNTRY_INFO!$V$9:$V$1000=\"T3 (ALB/MBD)\"), \"T3 (ALB/MBD)\", \" \")","v":" "},null,null,null,null,null,0,null,null,null,0," "," "," "," "]
[{"$f":"IF(COUNTRY_INFO!A137=0,\" \",COUNTRY_INFO!A137)","v":"Chad"},{"$f":"IF(COUNTRY_INFO!B137=0,\" \",COUNTRY_INFO!B137)","v":"Wadi Fira"},{"$f":"IF(COUNTRY_INFO!C137=0,\" \",COUNTRY_INFO!C137)","v":"Iriba"},{"$f":"IF(AND(COUNTRY_INFO!$U$9:$U$1000=\"T3 (ALB/MBD)\",COUNTRY_INFO!$V$9:$V$1000=\"T3 (ALB/MBD)\"), \"T3 (ALB/MBD)\", \" \")","v":" "},null,null,null,null,null,0,null,null,null,0," "," "," "," "]
[{"$f":"IF(COUNTRY_INFO!A138=0,\" \",COUNTRY_INFO!A138)","v":"Chad"},{"$f":"IF(COUNTRY_INFO!B138=0,\" \",COUNTRY_INFO!B138)","v":"Wadi Fira"},{"$f":"IF(COUNTRY_INFO!C138=0,\" \",COUNTRY_INFO!C138)","v":"Matadjana"},{"$f":"IF(AND(COUNTRY_INFO!$U$9:$U$1000=\"T3 (ALB/MBD)\",COUNTRY_INFO!$V$9:$V$1000=\"T3 (ALB/MBD)\"), \"T3 (ALB/MBD)\", \" \")","v":" "},null,null,null,null,null,{"$f":"SUM(G138:I138)","v":0},null,null,null,{"$f":"SUM(K138:M138)","v":0},{"$f":"IF(G138<>0, IF(K138/G138*100=0, \"-\", K138/G138*100), \" \")","v":" "},{"$f":"IF(H138<>0, IF(L138/H138*100=0, \"-\", L138/H138*100), \" \")","v":" "},{"$f":"IF(I138<>0, IF(M138/I138*100=0, \"-\", M138/I138*100), \" \")","v":" "},{"$f":"IF(J138<>0, IF(N138/J138*100=0, \"-\", N138/J138*100), \" \")","v":" "}]

{"sheet":"DISTRICT","index":9,"n_rows":138,"n_cols":56,"rows_kept":138,"cut":false,"hidden":false,"merged":[[3,0,3,2],[5,0,5,2],[5,4,5,8],[5,10,5,14],[5,16,5,24],[5,26,5,34],[5,3,6,3],[5,9,6,9],[5,15,6,15],[5,25,6,25]]}
["Nombre d'individus traités"]
["Structure administrative, population traitée par groupe d'âge et sexe"]
[]
["TOTAL",null,null,{"$f":"SUM(D$9:D$1000)","v":5394895},{"$f":"SUM(E$9:E$1000)","v":0},{"$f":"SUM(F$9:F$1000)","v":0},{"$f":"SUM(G$9:G$1000)","v":4190702},{"$f":"SUM(H$9:H$1000)","v":4190702},{"$f":"IF(D4>0, IF(H4/D4*100<>0, H4/D4*100, \"-\"),0)","v":77.679028044104655},{"$f":"SUM(J$9:J$1000)","v":6089228},{"$f":"SUM(K$9:K$1000)","v":0},{"$f":"SUM(L$9:L$1000)","v":0},{"$f":"SUM(M$9:M$1000)","v":5634019},{"$f":"SUM(N$9:N$1000)","v":4723824},{"$f":"IF(J4>0, IF(N4/J4*100<>0, N4/J4*100, \"-\"),0)","v":77.576730580625338},{"$f":"SUM(P$9:P$1000)","v":575546},{"$f":"SUM(Q$9:Q$1000)","v":0},{"$f":"SUM(R$9:R$1000)","v":0},{"$f":"SUM(S$9:S$1000)","v":4634850},{"$f":"SUM(T$9:T$1000)","v":0},null,206450,null,{"$f":"SUM(X$9:X$1000)","v":206450},{"$f":"IF(P4>0, IF(X4/P4*100<>0, X4/P4*100, \"-\"),0)","v":35.870286649546692},{"$f":"SUM(Z$9:Z$1000)","v":4145301.9899999998},0,0,1859708,1065230.73,null,0,null,1065230.73,{"$f":"IF(Z4>0, IF(AH4/Z4*100<>0, AH4/Z4*100, \"-\"),0)","v":25.697301006530527}]
[]
["Structure administrative du pays",null,null,"Population nécessitant la CP pour FL","Population traitée pour la filariose lymphatique",null,null,null,null,"Population nécessitant la CP pour ONCHO","Population traitée pour l'onchocercose",null,null,null,null,"Population nécessitant la CP pour STH","Population traitée pour les géohelminthiases",null,null,null,null,null,null,null,null,"Population nécessitant la CP pour SCH","Population traitée pour la schistosomiase",null,null,null,null,null,null,null,null,null,null,null,null,null,null,{"$f":"SUM(AP9:AP1000)","v":268210.3624432158},1276646.7018366549,3630761.3583772136,4389185.2630856242,{"$f":"SUM(AT9:AT1000)","v":9564803.6857427098},{"$f":"COUNTIF(AU9:AU1000,\"Y\")","v":52},{"$f":"SUM(AV9:AV1000)","v":0},2201902,3534817,{"$f":"SUM(AY9:AY1000)","v":5736719},0,2137453.5,3534817,5672270.5,{"$f":"IF(AT6<>0,BC6/AT6,0)","v":0.59303574713771523}]
["Pays","Région/Département","District",null,"Masculine","Féminine","Total traité","Total traité ayant besoin de CP","(%)",null,"Masculine","Féminine","Total traité","Total traité ayant besoin de CP","(%)",null,"Masculine","Féminine","Total traité","EAPréS traité ayant besoin de CP","EAPréS (%)","EAS traité ayant besoin de CP","EAS (%)","Total traité ayant besoin de CP","(%)",null,"Masculine","Féminine","Total traité","EAS traité ayant besoin de CP","EAS (%)","Adultes traité ayant besoin de CP","Adultes (%)","Total traité ayant besoin de CP","(%)",null,"LF","ONCHO","STH","SCH-SAC","SCH_Adults","<1","PreSAC","SAC","Adults","Total","Dis","PreSAC","SAC","Adults","Total","PreSAC","SAC","Adults","Total","Coverage"]
[]
[{"$f":"IF(COUNTRY_INFO!A9=0,\" \",COUNTRY_INFO!A9)","v":"Chad"},{"$f":"IF(COUNTRY_INFO!B9=0,\" \",COUNTRY_INFO!B9)","v":"Bahr El Gazel"},{"$f":"IF(COUNTRY_INFO!C9=0,\" \",COUNTRY_INFO!C9)","v":"Chadra"},{"$f":"COUNTRY_INFO!M9","v":0},null,null,{"$f":"MAX('MDA1'!M9,'MDA4'!U9)","v":0},{"$f":"IF(AND(COUNTRY_INFO!H9>0,COUNTRY_INFO!H9<4),IF(D9>MAX('MDA1'!M9,'MDA4'!U9),MAX('MDA1'!M9,'MDA4'!U9),D9),0)","v":0},{"$f":"IF(AND(COUNTRY_INFO!H9>0,COUNTRY_INFO!H9<4), IF(G9/D9*100<>0, IF(G9/D9*100>100,100,G9/D9*100), \"-\"),0)","v":0},{"$f":"COUNTRY_INFO!N9","v":0},null,null,{"$f":"MAX('MDA1'!M9,MAX('MDA3'!I9,'MDA3'!L9)+MAX('MDA3'!J9,'MDA3'!M9))","v":0},{"$f":"IF(AND(COUNTRY_INFO!I9>0,COUNTRY_INFO!I9<4),IF(J9>MAX('MDA1'!M9,MAX('MDA3'!I9,'MDA3'!L9)+MAX('MDA3'!J9,'MDA3'!M9)),MAX('MDA1'!M9,MAX('MDA3'!I9,'MDA3'!L9)+MAX('MDA3'!J9,'MDA3'!M9)),J9),0)","v":0},{"$f":"IF(AND(COUNTRY_INFO!I9>0,COUNTRY_INFO!I9<4), IF(M9/J9*100<>0, IF(M9/J9*100>100,100,M9/J9*100), \"-\"),0)","v":0},{"$f":"COUNTRY_INFO!O9","v":47279},null,null,{"$f":"SUM(MAX('MDA4'!R9, 'T1'!L9, MAX(T3_R1!K9, T3_R2!K9)), MAX('MDA1'!K9, 'MDA4'!S9, 'T1'!M9, MAX(T3_R1!L9, T3_R2!L9)), MAX('MDA1'!L9, 'MDA4'!T9, 'T1'!N9, MAX(T3_R1!M9, T3_R2!M9)))","v":0},{"$f":"IF(AND(COUNTRY_INFO!J9>1,COUNTRY_INFO!J9<4),IF(COUNTRY_INFO!E9>MAX('MDA4'!R9,'T1'!L9,MAX(T3_R1!K9,T3_R2!K9)),MAX('MDA4'!R9,'T1'!L9,MAX(T3_R1!K9,T3_R2!K9)),COUNTRY_INFO!E9),0)","v":0},{"$f":"IF(AND(COUNTRY_INFO!J9>1,COUNTRY_INFO!J9<4), IF(T9/COUNTRY_INFO!E9*100<>0, IF(T9/COUNTRY_INFO!E9*100>100,100,T9/COUNTRY_INFO!E9*100), \"-\"),0)","v":"-"},{"$f":"IF(AND(COUNTRY_INFO!J9>1,COUNTRY_INFO!J9<4),IF(COUNTRY_INFO!F9>MAX('MDA1'!K9,'MDA4'!S9,'T1'!M9,MAX(T3_R1!L9,T3_R2!L9)),MAX('MDA1'!K9,'MDA4'!S9,'T1'!M9,MAX(T3_R1!L9,T3_R2!L9)),COUNTRY_INFO!F9),0)","v":0},{"$f":"IF(AND(COUNTRY_INFO!J9>1,COUNTRY_INFO!J9<4), IF(V9/COUNTRY_INFO!F9*100<>0, IF(V9/COUNTRY_INFO!F9*100>100,100,V9/COUNTRY_INFO!F9*100), \"-\"),0)","v":"-"},{"$f":"SUM(T9,V9)","v":0},{"$f":"IF(AND(COUNTRY_INFO!J9>1,COUNTRY_INFO!J9<4), IF(S9/P9*100<>0, IF(X9/P9*100>100,100,X9/P9*100), \"-\"),0)","v":"-"},{"$f":"COUNTRY_INFO!P9","v":25294.6},null,null,{"$f":"MAX('T1'!L9,'T2'!J9)+MAX('T1'!M9,'T2'!K9)+MAX('T1'!N9,'T2'!L9)","v":0},{"$f":"IF(COUNTRY_INFO!K9=1,IF(COUNTRY_INFO!F9*0.33>MAX('T1'!M9,'T2'!K9),MAX('T1'!M9,'T2'!K9),COUNTRY_INFO!F9*0.33),IF(COUNTRY_INFO!K9=2,IF(COUNTRY_INFO!F9*0.5>MAX('T1'!M9,'T2'!K9),MAX('T1'!M9,'T2'!K9),COUNTRY_INFO!F9*0.5),IF(COUNTRY_INFO!K9=3,IF(COUNTRY_INFO!F9>MAX('T1'!M9,'T2'!K9),MAX('T1'!M9,'T2'!K9),COUNTRY_INFO!F9),0)))","v":0},{"$f":"IF(AND(COUNTRY_INFO!K9>0,COUNTRY_INFO!K9<4),IF(Z9>0,IF(COUNTRY_INFO!K9=1, AD9/(COUNTRY_INFO!F9*0.33)*100, IF(COUNTRY_INFO!K9=2, AD9/(COUNTRY_INFO!F9*0.5)*100, IF(COUNTRY_INFO!K9=3, AD9/COUNTRY_INFO!F9*100))),\"-\"),0)","v":0},{"$f":"IF(COUNTRY_INFO!K9=2,IF(COUNTRY_INFO!G9*0.2>MAX('T1'!N9,'T2'!L9),MAX('T1'!N9,'T2'!L9),COUNTRY_INFO!G9*0.2),IF(COUNTRY_INFO!K9=3,IF(COUNTRY_INFO!G9>MAX('T1'!N9,'T2'!L9),MAX('T1'!N9,'T2'!L9),COUNTRY_INFO!G9),0))","v":0},{"$f":"IF(AND(COUNTRY_INFO!K9>0,COUNTRY_INFO!K9<4),IF(Z9>0,IF(COUNTRY_INFO!K9=1, 0, IF(COUNTRY_INFO!K9=2, AF9/(COUNTRY_INFO!G9*0.2)*100, IF(COUNTRY_INFO!K9=3, AF9/COUNTRY_INFO!G9*100))),\"-\"),0)","v":0},{"$f":"SUM(AD9,AF9)","v":0},{"$f":"IF(AND(COUNTRY_INFO!K9>0,COUNTRY_INFO!K9<4), IF(AC9/Z9*100<>0, IF(AH9/Z9*100>100,100,AH9/Z9*100), \"-\"),0)","v":"-"},null,{"$f":"IF(AND(D9<>0, D9<>\"Inconnu\",D9<>\"Interrompu\",D9<>\"Non requis\"),D9/COUNTRY_INFO!D9, 0)","v":0},{"$f":"IF(AND(J9<>0,J9<>\"Inconnu\",J9<>\"Interrompu\",J9<>\"Non requis\"),J9/COUNTRY_INFO!D9, 0)","v":0},{"$f":"IF(AND(P9<>0,P9<>\"Inconnu\",P9<>\"Non requis\"),P9/(COUNTRY_INFO!E9+COUNTRY_INFO!F9), 0)","v":1},{"$f":"IF(AND(Z9<>0,Z9<>\"Inconnu\",Z9<>\"Non requis\"),IF(COUNTRY_INFO!K9=1,1,IF(COUNTRY_INFO!K9=2,0.5*COUNTRY_INFO!F9/(0.5*COUNTRY_INFO!F9+0.2*COUNTRY_INFO!G9),IF(COUNTRY_INFO!K9=3,COUNTRY_INFO!F9/(COUNTRY_INFO!F9+COUNTRY_INFO!G9)))),0)","v":0.60542566397571029},{"$f":"IF(AND(Z9<>0,Z9<>\"Inconnu\",Z9<>\"Non requis\"),IF(COUNTRY_INFO!K9=1,0,IF(COUNTRY_INFO!K9=2,0.2*COUNTRY_INFO!G9/(0.5*COUNTRY_INFO!F9+0.2*COUNTRY_INFO!G9),IF(COUNTRY_INFO!K9=3,COUNTRY_INFO!G9/(COUNTRY_INFO!F9+COUNTRY_INFO!G9)))),0)","v":0.39457433602428982},{"$f":"MAX(COUNTRY_INFO!D9*AK9*PROFILE!$G$7,COUNTRY_INFO!D9*AL9*PROFILE!$G$7)","v":0},{"$f":"MAX(COUNTRY_INFO!D9*AK9*PROFILE!$G$8,COUNTRY_INFO!D9*AL9*PROFILE!$G$8,COUNTRY_INFO!D9*AM9*PROFILE!$G$8)","v":16651.341022717897},{"$f":"MAX(COUNTRY_INFO!D9*AK9*PROFILE!$G$9,COUNTRY_INFO!D9*AL9*PROFILE!$G$9,COUNTRY_INFO!D9*AM9*PROFILE!$G$9,IF(AND(DISTRICT!Z9<>\"Inconnu\",Z9<>\"Non requis\"),COUNTRY_INFO!P9*DISTRICT!AN9,0))","v":30628.28267217473},{"$f":"MAX(COUNTRY_INFO!D9*AK9*PROFILE!$G$10,COUNTRY_INFO!D9*AL9*PROFILE!$G$10,IF(AND(DISTRICT!Z9<>\"Inconnu\",Z9<>\"Non requis\"),COUNTRY_INFO!P9*DISTRICT!AO9,0))","v":9980.6},{"$f":"SUM(AP9:AS9)","v":57260.223694892622},{"$f":"IF(COUNTIFS(AK9:AN9,\">0\")=0,0, IF(COUNTIFS(AK9:AN9,\">0\")<=IF(AND(OR(D9>=0,D9=\"Non requis\",D9=\"Inconnu\",D9=\"Interrompu\"),D9>0,H9>0),1,0)+IF(AND(OR(J9>=0,J9=\"Non requis\",J9=\"Inconnu\",J9=\"Interrompu\"),J9>0,N9>0),1,0)+IF(AND(OR(P9>=0,P9=\"Non requis\",P9=\"Inconnu\"),P9>0,X9>0),1,0)+IF(AND(OR(Z9>=0,Z9=\"Non requis\",Z9=\"Inconnu\"),Z9>0,AH9>0),1,0),\"Y\",0))","v":0},{"$f":"MAX('MDA4'!R9,'T1'!L9,'T2'!J9,T3_R1!K9,T3_R2!K9)","v":0},{"$f":"MAX('MDA1'!K9,'MDA4'!S9,'MDA3'!I9,'MDA3'!L9,'T1'!M9,'T2'!K9,T3_R1!L9,T3_R2!L9)","v":0},{"$f":"MAX('MDA1'!L9,'MDA4'!T9,'MDA3'!J9,'MDA3'!M9,'T1'!N9,'T2'!L9,T3_R1!M9,T3_R2!M9)","v":0},{"$f":"SUM(AV9:AX9)","v":0},{"$f":"MAX('MDA4'!R9,T9)","v":0},{"$f":"MAX('MDA1'!K9,'MDA4'!S9,'MDA3'!I9,'MDA3'!L9,V9,AD9)","v":0},{"$f":"MAX('MDA1'!L9,'MDA4'!T9,'MDA3'!J9,'MDA3'!M9,AF9)","v":0},{"$f":"IF(AT9<SUM(AZ9:BB9), AT9,SUM(AZ9:BB9))","v":0},{"$f":"IF(AT9<>0,BC9/AT9*100,0)","v":0}]
[{"$f":"IF(COUNTRY_INFO!A10=0,\" \",COUNTRY_INFO!A10)","v":"Chad"},{"$f":"IF(COUNTRY_INFO!B10=0,\" \",COUNTRY_INFO!B10)","v":"Bahr El Gazel"},{"$f":"IF(COUNTRY_INFO!C10=0,\" \",COUNTRY_INFO!C10)","v":"Michemire"},{"$f":"COUNTRY_INFO!M10","v":0},null,null,{"$f":"MAX('MDA1'!M10,'MDA4'!U10)","v":0},{"$f":"IF(AND(COUNTRY_INFO!H10>0,COUNTRY_INFO!H10<4),IF(D10>MAX('MDA1'!M10,'MDA4'!U10),MAX('MDA1'!M10,'MDA4'!U10),D10),0)","v":0},{"$f":"IF(AND(COUNTRY_INFO!H10>0,COUNTRY_INFO!H10<4), IF(G10/D10*100<>0, IF(G10/D10*100>100,100,G10/D10*100), \"-\"),0)","v":0},{"$f":"COUNTRY_INFO!N10","v":0},null,null,{"$f":"MAX('MDA1'!M10,MAX('MDA3'!I10,'MDA3'!L10)+MAX('MDA3'!J10,'MDA3'!M10))","v":0},{"$f":"IF(AND(COUNTRY_INFO!I10>0,COUNTRY_INFO!I10<4),IF(J10>MAX('MDA1'!M10,MAX('MDA3'!I10,'MDA3'!L10)+MAX('MDA3'!J10,'MDA3'!M10)),MAX('MDA1'!M10,MAX('MDA3'!I10,'MDA3'!L10)+MAX('MDA3'!J10,'MDA3'!M10)),J10),0)","v":0},{"$f":"IF(AND(COUNTRY_INFO!I10>0,COUNTRY_INFO!I10<4), IF(M10/J10*100<>0, IF(M10/J10*100>100,100,M10/J10*100), \"-\"),0)","v":0},{"$f":"COUNTRY_INFO!O10","v":0},null,null,{"$f":"SUM(MAX('MDA4'!R10, 'T1'!L10, MAX(T3_R1!K10, T3_R2!K10)), MAX('MDA1'!K10, 'MDA4'!S10, 'T1'!M10, MAX(T3_R1!L10, T3_R2!L10)), MAX('MDA1'!L10, 'MDA4'!T10, 'T1'!N10, MAX(T3_R1!M10, T3_R2!M10)))","v":0},{"$f":"IF(AND(COUNTRY_INFO!J10>1,COUNTRY_INFO!J10<4),IF(COUNTRY_INFO!E10>MAX('MDA4'!R10,'T1'!L10,MAX(T3_R1!K10,T3_R2!K10)),MAX('MDA4'!R10,'T1'!L10,MAX(T3_R1!K10,T3_R2!K10)),COUNTRY_INFO!E10),0)","v":0},{"$f":"IF(AND(COUNTRY_INFO!J10>1,COUNTRY_INFO!J10<4), IF(T10/COUNTRY_INFO!E10*100<>0, IF(T10/COUNTRY_INFO!E10*100>100,100,T10/COUNTRY_INFO!E10*100), \"-\"),0)","v":0},{"$f":"IF(AND(COUNTRY_INFO!J10>1,COUNTRY_INFO!J10<4),IF(COUNTRY_INFO!F10>MAX('MDA1'!K10,'MDA4'!S10,'T1'!M10,MAX(T3_R1!L10,T3_R2!L10)),MAX('MDA1'!K10,'MDA4'!S10,'T1'!M10,MAX(T3_R1!L10,T3_R2!L10)),COUNTRY_INFO!F10),0)","v":0},{"$f":"IF(AND(COUNTRY_INFO!J10>1,COUNTRY_INFO!J10<4), IF(V10/COUNTRY_INFO!F10*100<>0, IF(V10/COUNTRY_INFO!F10*100>100,100,V10/COUNTRY_INFO!F10*100), \"-\"),0)","v":0},{"$f":"SUM(T10,V10)","v":0},{"$f":"IF(AND(COUNTRY_INFO!J10>1,COUNTRY_INFO!J10<4), IF(S10/P10*100<>0, IF(X10/P10*100>100,100,X10/P10*100), \"-\"),0)","v":0},{"$f":"COUNTRY_INFO!P10","v":12141.8},null,null,{"$f":"MAX('T1'!L10,'T2'!J10)+MAX('T1'!M10,'T2'!K10)+MAX('T1'!N10,'T2'!L10)","v":0},{"$f":"IF(COUNTRY_INFO!K10=1,IF(COUNTRY_INFO!F10*0.33>MAX('T1'!M10,'T2'!K10),MAX('T1'!M10,'T2'!K10),COUNTRY_INFO!F10*0.33),IF(COUNTRY_INFO!K10=2,IF(COUNTRY_INFO!F10*0.5>MAX('T1'!M10,'T2'!K10),MAX('T1'!M10,'T2'!K10),COUNTRY_INFO!F10*0.5),IF(COUNTRY_INFO!K10=3,IF(COUNTRY_INFO!F10>MAX('T1'!M10,'T2'!K10),MAX('T1'!M10,'T2'!K10),COUNTRY_INFO!F10),0)))","v":0},{"$f":"IF(AND(COUNTRY_INFO!K10>0,COUNTRY_INFO!K10<4),IF(Z10>0,IF(COUNTRY_INFO!K10=1, AD10/(COUNTRY_INFO!F10*0.33)*100, IF(COUNTRY_INFO!K10=2, AD10/(COUNTRY_INFO!F10*0.5)*100, IF(COUNTRY_INFO!K10=3, AD10/COUNTRY_INFO!F10*100))),\"-\"),0)","v":0},{"$f":"IF(COUNTRY_INFO!K10=2,IF(COUNTRY_INFO!G10*0.2>MAX('T1'!N10,'T2'!L10),MAX('T1'!N10,'T2'!L10),COUNTRY_INFO!G10*0.2),IF(COUNTRY_INFO!K10=3,IF(COUNTRY_INFO!G10>MAX('T1'!N10,'T2'!L10),MAX('T1'!N10,'T2'!L10),COUNTRY_INFO!G10),0))","v":0},{"$f":"IF(AND(COUNTRY_INFO!K10>0,COUNTRY_INFO!K10<4),IF(Z10>0,IF(COUNTRY_INFO!K10=1, 0, IF(COUNTRY_INFO!K10=2, AF10/(COUNTRY_INFO!G10*0.2)*100, IF(COUNTRY_INFO!K10=3, AF10/COUNTRY_INFO!G10*100))),\"-\"),0)","v":0},{"$f":"SUM(AD10,AF10)","v":0},{"$f":"IF(AND(COUNTRY_INFO!K10>0,COUNTRY_INFO!K10<4), IF(AC10/Z10*100<>0, IF(AH10/Z10*100>100,100,AH10/Z10*100), \"-\"),0)","v":"-"},null,{"$f":"IF(AND(D10<>0, D10<>\"Inconnu\",D10<>\"Interrompu\",D10<>\"Non requis\"),D10/COUNTRY_INFO!D10, 0)","v":0},{"$f":"IF(AND(J10<>0,J10<>\"Inconnu\",J10<>\"Interrompu\",J10<>\"Non requis\"),J10/COUNTRY_INFO!D10, 0)","v":0},{"$f":"IF(AND(P10<>0,P10<>\"Inconnu\",P10<>\"Non requis\"),P10/(COUNTRY_INFO!E10+COUNTRY_INFO!F10), 0)","v":0},{"$f":"IF(AND(Z10<>0,Z10<>\"Inconnu\",Z10<>\"Non requis\"),IF(COUNTRY_INFO!K10=1,1,IF(COUNTRY_INFO!K10=2,0.5*COUNTRY_INFO!F10/(0.5*COUNTRY_INFO!F10+0.2*COUNTRY_INFO!G10),IF(COUNTRY_INFO!K10=3,COUNTRY_INFO!F10/(COUNTRY_INFO!F10+COUNTRY_INFO!G10)))),0)","v":0.60542917854024947},{"$f":"IF(AND(Z10<>0,Z10<>\"Inconnu\",Z10<>\"Non requis\"),IF(COUNTRY_INFO!K10=1,0,IF(COUNTRY_INFO!K10=2,0.2*COUNTRY_INFO!G10/(0.5*COUNTRY_INFO!F10+0.2*COUNTRY_INFO!G10),IF(COUNTRY_INFO!K10=3,COUNTRY_INFO!G10/(COUNTRY_INFO!F10+COUNTRY_INFO!G10)))),0)","v":0.39457082145975064},{"$f":"MAX(COUNTRY_INFO!D10*AK10*PROFILE!$G$7,COUNTRY_INFO!D10*AL10*PROFILE!$G$7)","v":0},{"$f":"MAX(COUNTRY_INFO!D10*AK10*PROFILE!$G$8,COUNTRY_INFO!D10*AL10*PROFILE!$G$8,COUNTRY_INFO!D10*AM10*PROFILE!$G$8)","v":0},{"$f":"MAX(COUNTRY_INFO!D10*AK10*PROFILE!$G$9,COUNTRY_INFO!D10*AL10*PROFILE!$G$9,COUNTRY_INFO!D10*AM10*PROFILE!$G$9,IF(AND(DISTRICT!Z10<>\"Inconnu\",Z10<>\"Non requis\"),COUNTRY_INFO!P10*DISTRICT!AN10,0))","v":7351.0000000000009},{"$f":"MAX(COUNTRY_INFO!D10*AK10*PROFILE!$G$10,COUNTRY_INFO!D10*AL10*PROFILE!$G$10,IF(AND(DISTRICT!Z10<>\"Inconnu\",Z10<>\"Non requis\"),COUNTRY_INFO!P10*DISTRICT!AO10,0))","v":4790.8},{"$f":"SUM(AP10:AS10)","v":12141.800000000001},0,{"$f":"MAX('MDA4'!R10,'T1'!L10,'T2'!J10,T3_R1!K10,T3_R2!K10)","v":0},{"$f":"MAX('MDA1'!K10,'MDA4'!S10,'MDA3'!I10,'MDA3'!L10,'T1'!M10,'T2'!K10,T3_R1!L10,T3_R2!L10)","v":0},{"$f":"MAX('MDA1'!L10,'MDA4'!T10,'MDA3'!J10,'MDA3'!M10,'T1'!N10,'T2'!L10,T3_R1!M10,T3_R2!M10)","v":0},{"$f":"SUM(AV10:AX10)","v":0},{"$f":"MAX('MDA4'!R10,T10)","v":0},{"$f":"MAX('MDA1'!K10,'MDA4'!S10,'MDA3'!I10,'MDA3'!L10,V10,AD10)","v":0},{"$f":"MAX('MDA1'!L10,'MDA4'!T10,'MDA3'!J10,'MDA3'!M10,AF10)","v":0},0,0]
[{"$f":"IF(COUNTRY_INFO!A11=0,\" \",COUNTRY_INFO!A11)","v":"Chad"},{"$f":"IF(COUNTRY_INFO!B11=0,\" \",COUNTRY_INFO!B11)","v":"Bahr El Gazel"},{"$f":"IF(COUNTRY_INFO!C11=0,\" \",COUNTRY_INFO!C11)","v":"Moussoro"},{"$f":"COUNTRY_INFO!M11","v":0},null,null,{"$f":"MAX('MDA1'!M11,'MDA4'!U11)","v":0},{"$f":"IF(AND(COUNTRY_INFO!H11>0,COUNTRY_INFO!H11<4),IF(D11>MAX('MDA1'!M11,'MDA4'!U11),MAX('MDA1'!M11,'MDA4'!U11),D11),0)","v":0},{"$f":"IF(AND(COUNTRY_INFO!H11>0,COUNTRY_INFO!H11<4), IF(G11/D11*100<>0, IF(G11/D11*100>100,100,G11/D11*100), \"-\"),0)","v":0},{"$f":"COUNTRY_INFO!N11","v":0},null,null,{"$f":"MAX('MDA1'!M11,MAX('MDA3'!I11,'MDA3'!L11)+MAX('MDA3'!J11,'MDA3'!M11))","v":0},{"$f":"IF(AND(COUNTRY_INFO!I11>0,COUNTRY_INFO!I11<4),IF(J11>MAX('MDA1'!M11,MAX('MDA3'!I11,'MDA3'!L11)+MAX('MDA3'!J11,'MDA3'!M11)),MAX('MDA1'!M11,MAX('MDA3'!I11,'MDA3'!L11)+MAX('MDA3'!J11,'MDA3'!M11)),J11),0)","v":0},{"$f":"IF(AND(COUNTRY_INFO!I11>0,COUNTRY_INFO!I11<4), IF(M11/J11*100<>0, IF(M11/J11*100>100,100,M11/J11*100), \"-\"),0)","v":0},{"$f":"COUNTRY_INFO!O11","v":0},null,null,{"$f":"SUM(MAX('MDA4'!R11, 'T1'!L11, MAX(T3_R1!K11, T3_R2!K11)), MAX('MDA1'!K11, 'MDA4'!S11, 'T1'!M11, MAX(T3_R1!L11, T3_R2!L11)), MAX('MDA1'!L11, 'MDA4'!T11, 'T1'!N11, MAX(T3_R1!M11, T3_R2!M11)))","v":0},{"$f":"IF(AND(COUNTRY_INFO!J11>1,COUNTRY_INFO!J11<4),IF(COUNTRY_INFO!E11>MAX('MDA4'!R11,'T1'!L11,MAX(T3_R1!K11,T3_R2!K11)),MAX('MDA4'!R11,'T1'!L11,MAX(T3_R1!K11,T3_R2!K11)),COUNTRY_INFO!E11),0)","v":0},{"$f":"IF(AND(COUNTRY_INFO!J11>1,COUNTRY_INFO!J11<4), IF(T11/COUNTRY_INFO!E11*100<>0, IF(T11/COUNTRY_INFO!E11*100>100,100,T11/COUNTRY_INFO!E11*100), \"-\"),0)","v":0},{"$f":"IF(AND(COUNTRY_INFO!J11>1,COUNTRY_INFO!J11<4),IF(COUNTRY_INFO!F11>MAX('MDA1'!K11,'MDA4'!S11,'T1'!M11,MAX(T3_R1!L11,T3_R2!L11)),MAX('MDA1'!K11,'MDA4'!S11,'T1'!M11,MAX(T3_R1!L11,T3_R2!L11)),COUNTRY_INFO!F11),0)","v":0},{"$f":"IF(AND(COUNTRY_INFO!J11>1,COUNTRY_INFO!J11<4), IF(V11/COUNTRY_INFO!F11*100<>0, IF(V11/COUNTRY_INFO!F11*100>100,100,V11/COUNTRY_INFO!F11*100), \"-\"),0)","v":0},0,{"$f":"IF(AND(COUNTRY_INFO!J11>1,COUNTRY_INFO!J11<4), IF(S11/P11*100<>0, IF(X11/P11*100>100,100,X11/P11*100), \"-\"),0)","v":0},{"$f":"COUNTRY_INFO!P11","v":50589.9},null,null,{"$f":"MAX('T1'!L11,'T2'!J11)+MAX('T1'!M11,'T2'!K11)+MAX('T1'!N11,'T2'!L11)","v":0},{"$f":"IF(COUNTRY_INFO!K11=1,IF(COUNTRY_INFO!F11*0.33>MAX('T1'!M11,'T2'!K11),MAX('T1'!M11,'T2'!K11),COUNTRY_INFO!F11*0.33),IF(COUNTRY_INFO!K11=2,IF(COUNTRY_INFO!F11*0.5>MAX('T1'!M11,'T2'!K11),MAX('T1'!M11,'T2'!K11),COUNTRY_INFO!F11*0.5),IF(COUNTRY_INFO!K11=3,IF(COUNTRY_INFO!F11>MAX('T1'!M11,'T2'!K11),MAX('T1'!M11,'T2'!K11),COUNTRY_INFO!F11),0)))","v":0},{"$f":"IF(AND(COUNTRY_INFO!K11>0,COUNTRY_INFO!K11<4),IF(Z11>0,IF(COUNTRY_INFO!K11=1, AD11/(COUNTRY_INFO!F11*0.33)*100, IF(COUNTRY_INFO!K11=2, AD11/(COUNTRY_INFO!F11*0.5)*100, IF(COUNTRY_INFO!K11=3, AD11/COUNTRY_INFO!F11*100))),\"-\"),0)","v":0},{"$f":"IF(COUNTRY_INFO!K11=2,IF(COUNTRY_INFO!G11*0.2>MAX('T1'!N11,'T2'!L11),MAX('T1'!N11,'T2'!L11),COUNTRY_INFO!G11*0.2),IF(COUNTRY_INFO!K11=3,IF(COUNTRY_INFO!G11>MAX('T1'!N11,'T2'!L11),MAX('T1'!N11,'T2'!L11),COUNTRY_INFO!G11),0))","v":0},{"$f":"IF(AND(COUNTRY_INFO!K11>0,COUNTRY_INFO!K11<4),IF(Z11>0,IF(COUNTRY_INFO!K11=1, 0, IF(COUNTRY_INFO!K11=2, AF11/(COUNTRY_INFO!G11*0.2)*100, IF(COUNTRY_INFO!K11=3, AF11/COUNTRY_INFO!G11*100))),\"-\"),0)","v":0},0,{"$f":"IF(AND(COUNTRY_INFO!K11>0,COUNTRY_INFO!K11<4), IF(AC11/Z11*100<>0, IF(AH11/Z11*100>100,100,AH11/Z11*100), \"-\"),0)","v":"-"},null,{"$f":"IF(AND(D11<>0, D11<>\"Inconnu\",D11<>\"Interrompu\",D11<>\"Non requis\"),D11/COUNTRY_INFO!D11, 0)","v":0},{"$f":"IF(AND(J11<>0,J11<>\"Inconnu\",J11<>\"Interrompu\",J11<>\"Non requis\"),J11/COUNTRY_INFO!D11, 0)","v":0},{"$f":"IF(AND(P11<>0,P11<>\"Inconnu\",P11<>\"Non requis\"),P11/(COUNTRY_INFO!E11+COUNTRY_INFO!F11), 0)","v":0},{"$f":"IF(AND(Z11<>0,Z11<>\"Inconnu\",Z11<>\"Non requis\"),IF(COUNTRY_INFO!K11=1,1,IF(COUNTRY_INFO!K11=2,0.5*COUNTRY_INFO!F11/(0.5*COUNTRY_INFO!F11+0.2*COUNTRY_INFO!G11),IF(COUNTRY_INFO!K11=3,COUNTRY_INFO!F11/(COUNTRY_INFO!F11+COUNTRY_INFO!G11)))),0)","v":0.60542717024544423},{"$f":"IF(AND(Z11<>0,Z11<>\"Inconnu\",Z11<>\"Non requis\"),IF(COUNTRY_INFO!K11=1,0,IF(COUNTRY_INFO!K11=2,0.2*COUNTRY_INFO!G11/(0.5*COUNTRY_INFO!F11+0.2*COUNTRY_INFO!G11),IF(COUNTRY_INFO!K11=3,COUNTRY_INFO!G11/(COUNTRY_INFO!F11+COUNTRY_INFO!G11)))),0)","v":0.39457282975455577},{"$f":"MAX(COUNTRY_INFO!D11*AK11*PROFILE!$G$7,COUNTRY_INFO!D11*AL11*PROFILE!$G$7)","v":0},{"$f":"MAX(COUNTRY_INFO!D11*AK11*PROFILE!$G$8,COUNTRY_INFO!D11*AL11*PROFILE!$G$8,COUNTRY_INFO!D11*AM11*PROFILE!$G$8)","v":0},{"$f":"MAX(COUNTRY_INFO!D11*AK11*PROFILE!$G$9,COUNTRY_INFO!D11*AL11*PROFILE!$G$9,COUNTRY_INFO!D11*AM11*PROFILE!$G$9,IF(AND(DISTRICT!Z11<>\"Inconnu\",Z11<>\"Non requis\"),COUNTRY_INFO!P11*DISTRICT!AN11,0))","v":30628.5},{"$f":"MAX(COUNTRY_INFO!D11*AK11*PROFILE!$G$10,COUNTRY_INFO!D11*AL11*PROFILE!$G$10,IF(AND(DISTRICT!Z11<>\"Inconnu\",Z11<>\"Non requis\"),COUNTRY_INFO!P11*DISTRICT!AO11,0))","v":19961.400000000001},50589.9,0,{"$f":"MAX('MDA4'!R11,'T1'!L11,'T2'!J11,T3_R1!K11,T3_R2!K11)","v":0},{"$f":"MAX('MDA1'!K11,'MDA4'!S11,'MDA3'!I11,'MDA3'!L11,'T1'!M11,'T2'!K11,T3_R1!L11,T3_R2!L11)","v":0},{"$f":"MAX('MDA1'!L11,'MDA4'!T11,'MDA3'!J11,'MDA3'!M11,'T1'!N11,'T2'!L11,T3_R1!M11,T3_R2!M11)","v":0},0,{"$f":"MAX('MDA4'!R11,T11)","v":0},{"$f":"MAX('MDA1'!K11,'MDA4'!S11,'MDA3'!I11,'MDA3'!L11,V11,AD11)","v":0},{"$f":"MAX('MDA1'!L11,'MDA4'!T11,'MDA3'!J11,'MDA3'!M11,AF11)","v":0},0,0]
[{"$f":"IF(COUNTRY_INFO!A12=0,\" \",COUNTRY_INFO!A12)","v":"Chad"},{"$f":"IF(COUNTRY_INFO!B12=0,\" \",COUNTRY_INFO!B12)","v":"Bahr El Gazel"},{"$f":"IF(COUNTRY_INFO!C12=0,\" \",COUNTRY_INFO!C12)","v":"Salal"},{"$f":"COUNTRY_INFO!M12","v":0},null,null,{"$f":"MAX('MDA1'!M12,'MDA4'!U12)","v":0},{"$f":"IF(AND(COUNTRY_INFO!H12>0,COUNTRY_INFO!H12<4),IF(D12>MAX('MDA1'!M12,'MDA4'!U12),MAX('MDA1'!M12,'MDA4'!U12),D12),0)","v":0},{"$f":"IF(AND(COUNTRY_INFO!H12>0,COUNTRY_INFO!H12<4), IF(G12/D12*100<>0, IF(G12/D12*100>100,100,G12/D12*100), \"-\"),0)","v":0},{"$f":"COUNTRY_INFO!N12","v":0},null,null,{"$f":"MAX('MDA1'!M12,MAX('MDA3'!I12,'MDA3'!L12)+MAX('MDA3'!J12,'MDA3'!M12))","v":0},{"$f":"IF(AND(COUNTRY_INFO!I12>0,COUNTRY_INFO!I12<4),IF(J12>MAX('MDA1'!M12,MAX('MDA3'!I12,'MDA3'!L12)+MAX('MDA3'!J12,'MDA3'!M12)),MAX('MDA1'!M12,MAX('MDA3'!I12,'MDA3'!L12)+MAX('MDA3'!J12,'MDA3'!M12)),J12),0)","v":0},{"$f":"IF(AND(COUNTRY_INFO!I12>0,COUNTRY_INFO!I12<4), IF(M12/J12*100<>0, IF(M12/J12*100>100,100,M12/J12*100), \"-\"),0)","v":0},{"$f":"COUNTRY_INFO!O12","v":0},null,null,{"$f":"SUM(MAX('MDA4'!R12, 'T1'!L12, MAX(T3_R1!K12, T3_R2!K12)), MAX('MDA1'!K12, 'MDA4'!S12, 'T1'!M12, MAX(T3_R1!L12, T3_R2!L12)), MAX('MDA1'!L12, 'MDA4'!T12, 'T1'!N12, MAX(T3_R1!M12, T3_R2!M12)))","v":0},{"$f":"IF(AND(COUNTRY_INFO!J12>1,COUNTRY_INFO!J12<4),IF(COUNTRY_INFO!E12>MAX('MDA4'!R12,'T1'!L12,MAX(T3_R1!K12,T3_R2!K12)),MAX('MDA4'!R12,'T1'!L12,MAX(T3_R1!K12,T3_R2!K12)),COUNTRY_INFO!E12),0)","v":0},{"$f":"IF(AND(COUNTRY_INFO!J12>1,COUNTRY_INFO!J12<4), IF(T12/COUNTRY_INFO!E12*100<>0, IF(T12/COUNTRY_INFO!E12*100>100,100,T12/COUNTRY_INFO!E12*100), \"-\"),0)","v":0},{"$f":"IF(AND(COUNTRY_INFO!J12>1,COUNTRY_INFO!J12<4),IF(COUNTRY_INFO!F12>MAX('MDA1'!K12,'MDA4'!S12,'T1'!M12,MAX(T3_R1!L12,T3_R2!L12)),MAX('MDA1'!K12,'MDA4'!S12,'T1'!M12,MAX(T3_R1!L12,T3_R2!L12)),COUNTRY_INFO!F12),0)","v":0},{"$f":"IF(AND(COUNTRY_INFO!J12>1,COUNTRY_INFO!J12<4), IF(V12/COUNTRY_INFO!F12*100<>0, IF(V12/COUNTRY_INFO!F12*100>100,100,V12/COUNTRY_INFO!F12*100), \"-\"),0)","v":0},0,{"$f":"IF(AND(COUNTRY_INFO!J12>1,COUNTRY_INFO!J12<4), IF(S12/P12*100<>0, IF(X12/P12*100>100,100,X12/P12*100), \"-\"),0)","v":0},{"$f":"COUNTRY_INFO!P12","v":13153.5},null,null,{"$f":"MAX('T1'!L12,'T2'!J12)+MAX('T1'!M12,'T2'!K12)+MAX('T1'!N12,'T2'!L12)","v":0},{"$f":"IF(COUNTRY_INFO!K12=1,IF(COUNTRY_INFO!F12*0.33>MAX('T1'!M12,'T2'!K12),MAX('T1'!M12,'T2'!K12),COUNTRY_INFO!F12*0.33),IF(COUNTRY_INFO!K12=2,IF(COUNTRY_INFO!F12*0.5>MAX('T1'!M12,'T2'!K12),MAX('T1'!M12,'T2'!K12),COUNTRY_INFO!F12*0.5),IF(COUNTRY_INFO!K12=3,IF(COUNTRY_INFO!F12>MAX('T1'!M12,'T2'!K12),MAX('T1'!M12,'T2'!K12),COUNTRY_INFO!F12),0)))","v":0},{"$f":"IF(AND(COUNTRY_INFO!K12>0,COUNTRY_INFO!K12<4),IF(Z12>0,IF(COUNTRY_INFO!K12=1, AD12/(COUNTRY_INFO!F12*0.33)*100, IF(COUNTRY_INFO!K12=2, AD12/(COUNTRY_INFO!F12*0.5)*100, IF(COUNTRY_INFO!K12=3, AD12/COUNTRY_INFO!F12*100))),\"-\"),0)","v":0},{"$f":"IF(COUNTRY_INFO!K12=2,IF(COUNTRY_INFO!G12*0.2>MAX('T1'!N12,'T2'!L12),MAX('T1'!N12,'T2'!L12),COUNTRY_INFO!G12*0.2),IF(COUNTRY_INFO!K12=3,IF(COUNTRY_INFO!G12>MAX('T1'!N12,'T2'!L12),MAX('T1'!N12,'T2'!L12),COUNTRY_INFO!G12),0))","v":0},{"$f":"IF(AND(COUNTRY_INFO!K12>0,COUNTRY_INFO!K12<4),IF(Z12>0,IF(COUNTRY_INFO!K12=1, 0, IF(COUNTRY_INFO!K12=2, AF12/(COUNTRY_INFO!G12*0.2)*100, IF(COUNTRY_INFO!K12=3, AF12/COUNTRY_INFO!G12*100))),\"-\"),0)","v":0},0,{"$f":"IF(AND(COUNTRY_INFO!K12>0,COUNTRY_INFO!K12<4), IF(AC12/Z12*100<>0, IF(AH12/Z12*100>100,100,AH12/Z12*100), \"-\"),0)","v":"-"},null,{"$f":"IF(AND(D12<>0, D12<>\"Inconnu\",D12<>\"Interrompu\",D12<>\"Non requis\"),D12/COUNTRY_INFO!D12, 0)","v":0},{"$f":"IF(AND(J12<>0,J12<>\"Inconnu\",J12<>\"Interrompu\",J12<>\"Non requis\"),J12/COUNTRY_INFO!D12, 0)","v":0},{"$f":"IF(AND(P12<>0,P12<>\"Inconnu\",P12<>\"Non requis\"),P12/(COUNTRY_INFO!E12+COUNTRY_INFO!F12), 0)","v":0},{"$f":"IF(AND(Z12<>0,Z12<>\"Inconnu\",Z12<>\"Non requis\"),IF(COUNTRY_INFO!K12=1,1,IF(COUNTRY_INFO!K12=2,0.5*COUNTRY_INFO!F12/(0.5*COUNTRY_INFO!F12+0.2*COUNTRY_INFO!G12),IF(COUNTRY_INFO!K12=3,COUNTRY_INFO!F12/(COUNTRY_INFO!F12+COUNTRY_INFO!G12)))),0)","v":0.60542821302314975},{"$f":"IF(AND(Z12<>0,Z12<>\"Inconnu\",Z12<>\"Non requis\"),IF(COUNTRY_INFO!K12=1,0,IF(COUNTRY_INFO!K12=2,0.2*COUNTRY_INFO!G12/(0.5*COUNTRY_INFO!F12+0.2*COUNTRY_INFO!G12),IF(COUNTRY_INFO!K12=3,COUNTRY_INFO!G12/(COUNTRY_INFO!F12+COUNTRY_INFO!G12)))),0)","v":0.39457178697685025},{"$f":"MAX(COUNTRY_INFO!D12*AK12*PROFILE!$G$7,COUNTRY_INFO!D12*AL12*PROFILE!$G$7)","v":0},{"$f":"MAX(COUNTRY_INFO!D12*AK12*PROFILE!$G$8,COUNTRY_INFO!D12*AL12*PROFILE!$G$8,COUNTRY_INFO!D12*AM12*PROFILE!$G$8)","v":0},{"$f":"MAX(COUNTRY_INFO!D12*AK12*PROFILE!$G$9,COUNTRY_INFO!D12*AL12*PROFILE!$G$9,COUNTRY_INFO!D12*AM12*PROFILE!$G$9,IF(AND(DISTRICT!Z12<>\"Inconnu\",Z12<>\"Non requis\"),COUNTRY_INFO!P12*DISTRICT!AN12,0))","v":7963.5},{"$f":"MAX(COUNTRY_INFO!D12*AK12*PROFILE!$G$10,COUNTRY_INFO!D12*AL12*PROFILE!$G$10,IF(AND(DISTRICT!Z12<>\"Inconnu\",Z12<>\"Non requis\"),COUNTRY_INFO!P12*DISTRICT!AO12,0))","v":5190},13153.5,0,{"$f":"MAX('MDA4'!R12,'T1'!L12,'T2'!J12,T3_R1!K12,T3_R2!K12)","v":0},{"$f":"MAX('MDA1'!K12,'MDA4'!S12,'MDA3'!I12,'MDA3'!L12,'T1'!M12,'T2'!K12,T3_R1!L12,T3_R2!L12)","v":0},{"$f":"MAX('MDA1'!L12,'MDA4'!T12,'MDA3'!J12,'MDA3'!M12,'T1'!N12,'T2'!L12,T3_R1!M12,T3_R2!M12)","v":0},0,{"$f":"MAX('MDA4'!R12,T12)","v":0},{"$f":"MAX('MDA1'!K12,'MDA4'!S12,'MDA3'!I12,'MDA3'!L12,V12,AD12)","v":0},{"$f":"MAX('MDA1'!L12,'MDA4'!T12,'MDA3'!J12,'MDA3'!M12,AF12)","v":0},0,0]
[{"$f":"IF(COUNTRY_INFO!A13=0,\" \",COUNTRY_INFO!A13)","v":"Chad"},{"$f":"IF(COUNTRY_INFO!B13=0,\" \",COUNTRY_INFO!B13)","v":"Batha"},{"$f":"IF(COUNTRY_INFO!C13=0,\" \",COUNTRY_INFO!C13)","v":"Alifa"},{"$f":"COUNTRY_INFO!M13","v":0},null,null,{"$f":"MAX('MDA1'!M13,'MDA4'!U13)","v":0},{"$f":"IF(AND(COUNTRY_INFO!H13>0,COUNTRY_INFO!H13<4),IF(D13>MAX('MDA1'!M13,'MDA4'!U13),MAX('MDA1'!M13,'MDA4'!U13),D13),0)","v":0},{"$f":"IF(AND(COUNTRY_INFO!H13>0,COUNTRY_INFO!H13<4), IF(G13/D13*100<>0, IF(G13/D13*100>100,100,G13/D13*100), \"-\"),0)","v":0},{"$f":"COUNTRY_INFO!N13","v":0},null,null,{"$f":"MAX('MDA1'!M13,MAX('MDA3'!I13,'MDA3'!L13)+MAX('MDA3'!J13,'MDA3'!M13))","v":0},{"$f":"IF(AND(COUNTRY_INFO!I13>0,COUNTRY_INFO!I13<4),IF(J13>MAX('MDA1'!M13,MAX('MDA3'!I13,'MDA3'!L13)+MAX('MDA3'!J13,'MDA3'!M13)),MAX('MDA1'!M13,MAX('MDA3'!I13,'MDA3'!L13)+MAX('MDA3'!J13,'MDA3'!M13)),J13),0)","v":0},{"$f":"IF(AND(COUNTRY_INFO!I13>0,COUNTRY_INFO!I13<4), IF(M13/J13*100<>0, IF(M13/J13*100>100,100,M13/J13*100), \"-\"),0)","v":0},{"$f":"COUNTRY_INFO!O13","v":0},null,null,{"$f":"SUM(MAX('MDA4'!R13, 'T1'!L13, MAX(T3_R1!K13, T3_R2!K13)), MAX('MDA1'!K13, 'MDA4'!S13, 'T1'!M13, MAX(T3_R1!L13, T3_R2!L13)), MAX('MDA1'!L13, 'MDA4'!T13, 'T1'!N13, MAX(T3_R1!M13, T3_R2!M13)))","v":0},{"$f":"IF(AND(COUNTRY_INFO!J13>1,COUNTRY_INFO!J13<4),IF(COUNTRY_INFO!E13>MAX('MDA4'!R13,'T1'!L13,MAX(T3_R1!K13,T3_R2!K13)),MAX('MDA4'!R13,'T1'!L13,MAX(T3_R1!K13,T3_R2!K13)),COUNTRY_INFO!E13),0)","v":0},{"$f":"IF(AND(COUNTRY_INFO!J13>1,COUNTRY_INFO!J13<4), IF(T13/COUNTRY_INFO!E13*100<>0, IF(T13/COUNTRY_INFO!E13*100>100,100,T13/COUNTRY_INFO!E13*100), \"-\"),0)","v":0},{"$f":"IF(AND(COUNTRY_INFO!J13>1,COUNTRY_INFO!J13<4),IF(COUNTRY_INFO!F13>MAX('MDA1'!K13,'MDA4'!S13,'T1'!M13,MAX(T3_R1!L13,T3_R2!L13)),MAX('MDA1'!K13,'MDA4'!S13,'T1'!M13,MAX(T3_R1!L13,T3_R2!L13)),COUNTRY_INFO!F13),0)","v":0},{"$f":"IF(AND(COUNTRY_INFO!J13>1,COUNTRY_INFO!J13<4), IF(V13/COUNTRY_INFO!F13*100<>0, IF(V13/COUNTRY_INFO!F13*100>100,100,V13/COUNTRY_INFO!F13*100), \"-\"),0)","v":0},0,{"$f":"IF(AND(COUNTRY_INFO!J13>1,COUNTRY_INFO!J13<4), IF(S13/P13*100<>0, IF(X13/P13*100>100,100,X13/P13*100), \"-\"),0)","v":0},{"$f":"COUNTRY_INFO!P13","v":28815.300000000003},null,null,{"$f":"MAX('T1'!L13,'T2'!J13)+MAX('T1'!M13,'T2'!K13)+MAX('T1'!N13,'T2'!L13)","v":0},{"$f":"IF(COUNTRY_INFO!K13=1,IF(COUNTRY_INFO!F13*0.33>MAX('T1'!M13,'T2'!K13),MAX('T1'!M13,'T2'!K13),COUNTRY_INFO!F13*0.33),IF(COUNTRY_INFO!K13=2,IF(COUNTRY_INFO!F13*0.5>MAX('T1'!M13,'T2'!K13),MAX('T1'!M13,'T2'!K13),COUNTRY_INFO!F13*0.5),IF(COUNTRY_INFO!K13=3,IF(COUNTRY_INFO!F13>MAX('T1'!M13,'T2'!K13),MAX('T1'!M13,'T2'!K13),COUNTRY_INFO!F13),0)))","v":0},{"$f":"IF(AND(COUNTRY_INFO!K13>0,COUNTRY_INFO!K13<4),IF(Z13>0,IF(COUNTRY_INFO!K13=1, AD13/(COUNTRY_INFO!F13*0.33)*100, IF(COUNTRY_INFO!K13=2, AD13/(COUNTRY_INFO!F13*0.5)*100, IF(COUNTRY_INFO!K13=3, AD13/COUNTRY_INFO!F13*100))),\"-\"),0)","v":0},{"$f":"IF(COUNTRY_INFO!K13=2,IF(COUNTRY_INFO!G13*0.2>MAX('T1'!N13,'T2'!L13),MAX('T1'!N13,'T2'!L13),COUNTRY_INFO!G13*0.2),IF(COUNTRY_INFO!K13=3,IF(COUNTRY_INFO!G13>MAX('T1'!N13,'T2'!L13),MAX('T1'!N13,'T2'!L13),COUNTRY_INFO!G13),0))","v":0},{"$f":"IF(AND(COUNTRY_INFO!K13>0,COUNTRY_INFO!K13<4),IF(Z13>0,IF(COUNTRY_INFO!K13=1, 0, IF(COUNTRY_INFO!K13=2, AF13/(COUNTRY_INFO!G13*0.2)*100, IF(COUNTRY_INFO!K13=3, AF13/COUNTRY_INFO!G13*100))),\"-\"),0)","v":0},0,{"$f":"IF(AND(COUNTRY_INFO!K13>0,COUNTRY_INFO!K13<4), IF(AC13/Z13*100<>0, IF(AH13/Z13*100>100,100,AH13/Z13*100), \"-\"),0)","v":"-"},null,{"$f":"IF(AND(D13<>0, D13<>\"Inconnu\",D13<>\"Interrompu\",D13<>\"Non requis\"),D13/COUNTRY_INFO!D13, 0)","v":0},{"$f":"IF(AND(J13<>0,J13<>\"Inconnu\",J13<>\"Interrompu\",J13<>\"Non requis\"),J13/COUNTRY_INFO!D13, 0)","v":0},{"$f":"IF(AND(P13<>0,P13<>\"Inconnu\",P13<>\"Non requis\"),P13/(COUNTRY_INFO!E13+COUNTRY_INFO!F13), 0)","v":0},{"$f":"IF(AND(Z13<>0,Z13<>\"Inconnu\",Z13<>\"Non requis\"),IF(COUNTRY_INFO!K13=1,1,IF(COUNTRY_INFO!K13=2,0.5*COUNTRY_INFO!F13/(0.5*COUNTRY_INFO!F13+0.2*COUNTRY_INFO!G13),IF(COUNTRY_INFO!K13=3,COUNTRY_INFO!F13/(COUNTRY_INFO!F13+COUNTRY_INFO!G13)))),0)","v":0.60542489580188297},{"$f":"IF(AND(Z13<>0,Z13<>\"Inconnu\",Z13<>\"Non requis\"),IF(COUNTRY_INFO!K13=1,0,IF(COUNTRY_INFO!K13=2,0.2*COUNTRY_INFO!G13/(0.5*COUNTRY_INFO!F13+0.2*COUNTRY_INFO!G13),IF(COUNTRY_INFO!K13=3,COUNTRY_INFO!G13/(COUNTRY_INFO!F13+COUNTRY_INFO!G13)))),0)","v":0.39457510419811698},{"$f":"MAX(COUNTRY_INFO!D13*AK13*PROFILE!$G$7,COUNTRY_INFO!D13*AL13*PROFILE!$G$7)","v":0},{"$f":"MAX(COUNTRY_INFO!D13*AK13*PROFILE!$G$8,COUNTRY_INFO!D13*AL13*PROFILE!$G$8,COUNTRY_INFO!D13*AM13*PROFILE!$G$8)","v":0},{"$f":"MAX(COUNTRY_INFO!D13*AK13*PROFILE!$G$9,COUNTRY_INFO!D13*AL13*PROFILE!$G$9,COUNTRY_INFO!D13*AM13*PROFILE!$G$9,IF(AND(DISTRICT!Z13<>\"Inconnu\",Z13<>\"Non requis\"),COUNTRY_INFO!P13*DISTRICT!AN13,0))","v":17445.5},{"$f":"MAX(COUNTRY_INFO!D13*AK13*PROFILE!$G$10,COUNTRY_INFO!D13*AL13*PROFILE!$G$10,IF(AND(DISTRICT!Z13<>\"Inconnu\",Z13<>\"Non requis\"),COUNTRY_INFO!P13*DISTRICT!AO13,0))","v":11369.800000000001},28815.300000000003,0,{"$f":"MAX('MDA4'!R13,'T1'!L13,'T2'!J13,T3_R1!K13,T3_R2!K13)","v":0},{"$f":"MAX('MDA1'!K13,'MDA4'!S13,'MDA3'!I13,'MDA3'!L13,'T1'!M13,'T2'!K13,T3_R1!L13,T3_R2!L13)","v":0},{"$f":"MAX('MDA1'!L13,'MDA4'!T13,'MDA3'!J13,'MDA3'!M13,'T1'!N13,'T2'!L13,T3_R1!M13,T3_R2!M13)","v":0},0,{"$f":"MAX('MDA4'!R13,T13)","v":0},{"$f":"MAX('MDA1'!K13,'MDA4'!S13,'MDA3'!I13,'MDA3'!L13,V13,AD13)","v":0},{"$f":"MAX('MDA1'!L13,'MDA4'!T13,'MDA3'!J13,'MDA3'!M13,AF13)","v":0},0,0]
[{"$f":"IF(COUNTRY_INFO!A14=0,\" \",COUNTRY_INFO!A14)","v":"Chad"},{"$f":"IF(COUNTRY_INFO!B14=0,\" \",COUNTRY_INFO!B14)","v":"Batha"},{"$f":"IF(COUNTRY_INFO!C14=0,\" \",COUNTRY_INFO!C14)","v":"Assinet"},{"$f":"COUNTRY_INFO!M14","v":0},null,null,{"$f":"MAX('MDA1'!M14,'MDA4'!U14)","v":0},{"$f":"IF(AND(COUNTRY_INFO!H14>0,COUNTRY_INFO!H14<4),IF(D14>MAX('MDA1'!M14,'MDA4'!U14),MAX('MDA1'!M14,'MDA4'!U14),D14),0)","v":0},{"$f":"IF(AND(COUNTRY_INFO!H14>0,COUNTRY_INFO!H14<4), IF(G14/D14*100<>0, IF(G14/D14*100>100,100,G14/D14*100), \"-\"),0)","v":0},{"$f":"COUNTRY_INFO!N14","v":0},null,null,{"$f":"MAX('MDA1'!M14,MAX('MDA3'!I14,'MDA3'!L14)+MAX('MDA3'!J14,'MDA3'!M14))","v":0},{"$f":"IF(AND(COUNTRY_INFO!I14>0,COUNTRY_INFO!I14<4),IF(J14>MAX('MDA1'!M14,MAX('MDA3'!I14,'MDA3'!L14)+MAX('MDA3'!J14,'MDA3'!M14)),MAX('MDA1'!M14,MAX('MDA3'!I14,'MDA3'!L14)+MAX('MDA3'!J14,'MDA3'!M14)),J14),0)","v":0},{"$f":"IF(AND(COUNTRY_INFO!I14>0,COUNTRY_INFO!I14<4), IF(M14/J14*100<>0, IF(M14/J14*100>100,100,M14/J14*100), \"-\"),0)","v":0},{"$f":"COUNTRY_INFO!O14","v":0},null,null,{"$f":"SUM(MAX('MDA4'!R14, 'T1'!L14, MAX(T3_R1!K14, T3_R2!K14)), MAX('MDA1'!K14, 'MDA4'!S14, 'T1'!M14, MAX(T3_R1!L14, T3_R2!L14)), MAX('MDA1'!L14, 'MDA4'!T14, 'T1'!N14, MAX(T3_R1!M14, T3_R2!M14)))","v":0},{"$f":"IF(AND(COUNTRY_INFO!J14>1,COUNTRY_INFO!J14<4),IF(COUNTRY_INFO!E14>MAX('MDA4'!R14,'T1'!L14,MAX(T3_R1!K14,T3_R2!K14)),MAX('MDA4'!R14,'T1'!L14,MAX(T3_R1!K14,T3_R2!K14)),COUNTRY_INFO!E14),0)","v":0},{"$f":"IF(AND(COUNTRY_INFO!J14>1,COUNTRY_INFO!J14<4), IF(T14/COUNTRY_INFO!E14*100<>0, IF(T14/COUNTRY_INFO!E14*100>100,100,T14/COUNTRY_INFO!E14*100), \"-\"),0)","v":0},{"$f":"IF(AND(COUNTRY_INFO!J14>1,COUNTRY_INFO!J14<4),IF(COUNTRY_INFO!F14>MAX('MDA1'!K14,'MDA4'!S14,'T1'!M14,MAX(T3_R1!L14,T3_R2!L14)),MAX('MDA1'!K14,'MDA4'!S14,'T1'!M14,MAX(T3_R1!L14,T3_R2!L14)),COUNTRY_INFO!F14),0)","v":0},{"$f":"IF(AND(COUNTRY_INFO!J14>1,COUNTRY_INFO!J14<4), IF(V14/COUNTRY_INFO!F14*100<>0, IF(V14/COUNTRY_INFO!F14*100>100,100,V14/COUNTRY_INFO!F14*100), \"-\"),0)","v":0},0,{"$f":"IF(AND(COUNTRY_INFO!J14>1,COUNTRY_INFO!J14<4), IF(S14/P14*100<>0, IF(X14/P14*100>100,100,X14/P14*100), \"-\"),0)","v":0},{"$f":"COUNTRY_INFO!P14","v":23052.300000000003},null,null,{"$f":"MAX('T1'!L14,'T2'!J14)+MAX('T1'!M14,'T2'!K14)+MAX('T1'!N14,'T2'!L14)","v":0},{"$f":"IF(COUNTRY_INFO!K14=1,IF(COUNTRY_INFO!F14*0.33>MAX('T1'!M14,'T2'!K14),MAX('T1'!M14,'T2'!K14),COUNTRY_INFO!F14*0.33),IF(COUNTRY_INFO!K14=2,IF(COUNTRY_INFO!F14*0.5>MAX('T1'!M14,'T2'!K14),MAX('T1'!M14,'T2'!K14),COUNTRY_INFO!F14*0.5),IF(COUNTRY_INFO!K14=3,IF(COUNTRY_INFO!F14>MAX('T1'!M14,'T2'!K14),MAX('T1'!M14,'T2'!K14),COUNTRY_INFO!F14),0)))","v":0},{"$f":"IF(AND(COUNTRY_INFO!K14>0,COUNTRY_INFO!K14<4),IF(Z14>0,IF(COUNTRY_INFO!K14=1, AD14/(COUNTRY_INFO!F14*0.33)*100, IF(COUNTRY_INFO!K14=2, AD14/(COUNTRY_INFO!F14*0.5)*100, IF(COUNTRY_INFO!K14=3, AD14/COUNTRY_INFO!F14*100))),\"-\"),0)","v":0},{"$f":"IF(COUNTRY_INFO!K14=2,IF(COUNTRY_INFO!G14*0.2>MAX('T1'!N14,'T2'!L14),MAX('T1'!N14,'T2'!L14),COUNTRY_INFO!G14*0.2),IF(COUNTRY_INFO!K14=3,IF(COUNTRY_INFO!G14>MAX('T1'!N14,'T2'!L14),MAX('T1'!N14,'T2'!L14),COUNTRY_INFO!G14),0))","v":0},{"$f":"IF(AND(COUNTRY_INFO!K14>0,COUNTRY_INFO!K14<4),IF(Z14>0,IF(COUNTRY_INFO!K14=1, 0, IF(COUNTRY_INFO!K14=2, AF14/(COUNTRY_INFO!G14*0.2)*100, IF(COUNTRY_INFO!K14=3, AF14/COUNTRY_INFO!G14*100))),\"-\"),0)","v":0},0,{"$f":"IF(AND(COUNTRY_INFO!K14>0,COUNTRY_INFO!K14<4), IF(AC14/Z14*100<>0, IF(AH14/Z14*100>100,100,AH14/Z14*100), \"-\"),0)","v":"-"},null,{"$f":"IF(AND(D14<>0, D14<>\"Inconnu\",D14<>\"Interrompu\",D14<>\"Non requis\"),D14/COUNTRY_INFO!D14, 0)","v":0},{"$f":"IF(AND(J14<>0,J14<>\"Inconnu\",J14<>\"Interrompu\",J14<>\"Non requis\"),J14/COUNTRY_INFO!D14, 0)","v":0},{"$f":"IF(AND(P14<>0,P14<>\"Inconnu\",P14<>\"Non requis\"),P14/(COUNTRY_INFO!E14+COUNTRY_INFO!F14), 0)","v":0},{"$f":"IF(AND(Z14<>0,Z14<>\"Inconnu\",Z14<>\"Non requis\"),IF(COUNTRY_INFO!K14=1,1,IF(COUNTRY_INFO!K14=2,0.5*COUNTRY_INFO!F14/(0.5*COUNTRY_INFO!F14+0.2*COUNTRY_INFO!G14),IF(COUNTRY_INFO!K14=3,COUNTRY_INFO!F14/(COUNTRY_INFO!F14+COUNTRY_INFO!G14)))),0)","v":0.60542765797772879},{"$f":"IF(AND(Z14<>0,Z14<>\"Inconnu\",Z14<>\"Non requis\"),IF(COUNTRY_INFO!K14=1,0,IF(COUNTRY_INFO!K14=2,0.2*COUNTRY_INFO!G14/(0.5*COUNTRY_INFO!F14+0.2*COUNTRY_INFO!G14),IF(COUNTRY_INFO!K14=3,COUNTRY_INFO!G14/(COUNTRY_INFO!F14+COUNTRY_INFO!G14)))),0)","v":0.39457234202227109},{"$f":"MAX(COUNTRY_INFO!D14*AK14*PROFILE!$G$7,COUNTRY_INFO!D14*AL14*PROFILE!$G$7)","v":0},{"$f":"MAX(COUNTRY_INFO!D14*AK14*PROFILE!$G$8,COUNTRY_INFO!D14*AL14*PROFILE!$G$8,COUNTRY_INFO!D14*AM14*PROFILE!$G$8)","v":0},{"$f":"MAX(COUNTRY_INFO!D14*AK14*PROFILE!$G$9,COUNTRY_INFO!D14*AL14*PROFILE!$G$9,COUNTRY_INFO!D14*AM14*PROFILE!$G$9,IF(AND(DISTRICT!Z14<>\"Inconnu\",Z14<>\"Non requis\"),COUNTRY_INFO!P14*DISTRICT!AN14,0))","v":13956.5},{"$f":"MAX(COUNTRY_INFO!D14*AK14*PROFILE!$G$10,COUNTRY_INFO!D14*AL14*PROFILE!$G$10,IF(AND(DISTRICT!Z14<>\"Inconnu\",Z14<>\"Non requis\"),COUNTRY_INFO!P14*DISTRICT!AO14,0))","v":9095.8000000000011},23052.300000000003,0,{"$f":"MAX('MDA4'!R14,'T1'!L14,'T2'!J14,T3_R1!K14,T3_R2!K14)","v":0},{"$f":"MAX('MDA1'!K14,'MDA4'!S14,'MDA3'!I14,'MDA3'!L14,'T1'!M14,'T2'!K14,T3_R1!L14,T3_R2!L14)","v":0},{"$f":"MAX('MDA1'!L14,'MDA4'!T14,'MDA3'!J14,'MDA3'!M14,'T1'!N14,'T2'!L14,T3_R1!M14,T3_R2!M14)","v":0},0,{"$f":"MAX('MDA4'!R14,T14)","v":0},{"$f":"MAX('MDA1'!K14,'MDA4'!S14,'MDA3'!I14,'MDA3'!L14,V14,AD14)","v":0},{"$f":"MAX('MDA1'!L14,'MDA4'!T14,'MDA3'!J14,'MDA3'!M14,AF14)","v":0},0,0]
[{"$f":"IF(COUNTRY_INFO!A15=0,\" \",COUNTRY_INFO!A15)","v":"Chad"},{"$f":"IF(COUNTRY_INFO!B15=0,\" \",COUNTRY_INFO!B15)","v":"Batha"},{"$f":"IF(COUNTRY_INFO!C15=0,\" \",COUNTRY_INFO!C15)","v":"Ati"},{"$f":"COUNTRY_INFO!M15","v":0},null,null,{"$f":"MAX('MDA1'!M15,'MDA4'!U15)","v":0},{"$f":"IF(AND(COUNTRY_INFO!H15>0,COUNTRY_INFO!H15<4),IF(D15>MAX('MDA1'!M15,'MDA4'!U15),MAX('MDA1'!M15,'MDA4'!U15),D15),0)","v":0},{"$f":"IF(AND(COUNTRY_INFO!H15>0,COUNTRY_INFO!H15<4), IF(G15/D15*100<>0, IF(G15/D15*100>100,100,G15/D15*100), \"-\"),0)","v":0},{"$f":"COUNTRY_INFO!N15","v":0},null,null,{"$f":"MAX('MDA1'!M15,MAX('MDA3'!I15,'MDA3'!L15)+MAX('MDA3'!J15,'MDA3'!M15))","v":0},{"$f":"IF(AND(COUNTRY_INFO!I15>0,COUNTRY_INFO!I15<4),IF(J15>MAX('MDA1'!M15,MAX('MDA3'!I15,'MDA3'!L15)+MAX('MDA3'!J15,'MDA3'!M15)),MAX('MDA1'!M15,MAX('MDA3'!I15,'MDA3'!L15)+MAX('MDA3'!J15,'MDA3'!M15)),J15),0)","v":0},{"$f":"IF(AND(COUNTRY_INFO!I15>0,COUNTRY_INFO!I15<4), IF(M15/J15*100<>0, IF(M15/J15*100>100,100,M15/J15*100), \"-\"),0)","v":0},{"$f":"COUNTRY_INFO!O15","v":0},null,null,{"$f":"SUM(MAX('MDA4'!R15, 'T1'!L15, MAX(T3_R1!K15, T3_R2!K15)), MAX('MDA1'!K15, 'MDA4'!S15, 'T1'!M15, MAX(T3_R1!L15, T3_R2!L15)), MAX('MDA1'!L15, 'MDA4'!T15, 'T1'!N15, MAX(T3_R1!M15, T3_R2!M15)))","v":0},{"$f":"IF(AND(COUNTRY_INFO!J15>1,COUNTRY_INFO!J15<4),IF(COUNTRY_INFO!E15>MAX('MDA4'!R15,'T1'!L15,MAX(T3_R1!K15,T3_R2!K15)),MAX('MDA4'!R15,'T1'!L15,MAX(T3_R1!K15,T3_R2!K15)),COUNTRY_INFO!E15),0)","v":0},{"$f":"IF(AND(COUNTRY_INFO!J15>1,COUNTRY_INFO!J15<4), IF(T15/COUNTRY_INFO!E15*100<>0, IF(T15/COUNTRY_INFO!E15*100>100,100,T15/COUNTRY_INFO!E15*100), \"-\"),0)","v":0},{"$f":"IF(AND(COUNTRY_INFO!J15>1,COUNTRY_INFO!J15<4),IF(COUNTRY_INFO!F15>MAX('MDA1'!K15,'MDA4'!S15,'T1'!M15,MAX(T3_R1!L15,T3_R2!L15)),MAX('MDA1'!K15,'MDA4'!S15,'T1'!M15,MAX(T3_R1!L15,T3_R2!L15)),COUNTRY_INFO!F15),0)","v":0},{"$f":"IF(AND(COUNTRY_INFO!J15>1,COUNTRY_INFO!J15<4), IF(V15/COUNTRY_INFO!F15*100<>0, IF(V15/COUNTRY_INFO!F15*100>100,100,V15/COUNTRY_INFO!F15*100), \"-\"),0)","v":0},0,{"$f":"IF(AND(COUNTRY_INFO!J15>1,COUNTRY_INFO!J15<4), IF(S15/P15*100<>0, IF(X15/P15*100>100,100,X15/P15*100), \"-\"),0)","v":0},{"$f":"COUNTRY_INFO!P15","v":14983.7},null,null,{"$f":"MAX('T1'!L15,'T2'!J15)+MAX('T1'!M15,'T2'!K15)+MAX('T1'!N15,'T2'!L15)","v":0},{"$f":"IF(COUNTRY_INFO!K15=1,IF(COUNTRY_INFO!F15*0.33>MAX('T1'!M15,'T2'!K15),MAX('T1'!M15,'T2'!K15),COUNTRY_INFO!F15*0.33),IF(COUNTRY_INFO!K15=2,IF(COUNTRY_INFO!F15*0.5>MAX('T1'!M15,'T2'!K15),MAX('T1'!M15,'T2'!K15),COUNTRY_INFO!F15*0.5),IF(COUNTRY_INFO!K15=3,IF(COUNTRY_INFO!F15>MAX('T1'!M15,'T2'!K15),MAX('T1'!M15,'T2'!K15),COUNTRY_INFO!F15),0)))","v":0},{"$f":"IF(AND(COUNTRY_INFO!K15>0,COUNTRY_INFO!K15<4),IF(Z15>0,IF(COUNTRY_INFO!K15=1, AD15/(COUNTRY_INFO!F15*0.33)*100, IF(COUNTRY_INFO!K15=2, AD15/(COUNTRY_INFO!F15*0.5)*100, IF(COUNTRY_INFO!K15=3, AD15/COUNTRY_INFO!F15*100))),\"-\"),0)","v":0},{"$f":"IF(COUNTRY_INFO!K15=2,IF(COUNTRY_INFO!G15*0.2>MAX('T1'!N15,'T2'!L15),MAX('T1'!N15,'T2'!L15),COUNTRY_INFO!G15*0.2),IF(COUNTRY_INFO!K15=3,IF(COUNTRY_INFO!G15>MAX('T1'!N15,'T2'!L15),MAX('T1'!N15,'T2'!L15),COUNTRY_INFO!G15),0))","v":0},{"$f":"IF(AND(COUNTRY_INFO!K15>0,COUNTRY_INFO!K15<4),IF(Z15>0,IF(COUNTRY_INFO!K15=1, 0, IF(COUNTRY_INFO!K15=2, AF15/(COUNTRY_INFO!G15*0.2)*100, IF(COUNTRY_INFO!K15=3, AF15/COUNTRY_INFO!G15*100))),\"-\"),0)","v":0},0,{"$f":"IF(AND(COUNTRY_INFO!K15>0,COUNTRY_INFO!K15<4), IF(AC15/Z15*100<>0, IF(AH15/Z15*100>100,100,AH15/Z15*100), \"-\"),0)","v":"-"},null,{"$f":"IF(AND(D15<>0, D15<>\"Inconnu\",D15<>\"Interrompu\",D15<>\"Non requis\"),D15/COUNTRY_INFO!D15, 0)","v":0},{"$f":"IF(AND(J15<>0,J15<>\"Inconnu\",J15<>\"Interrompu\",J15<>\"Non requis\"),J15/COUNTRY_INFO!D15, 0)","v":0},{"$f":"IF(AND(P15<>0,P15<>\"Inconnu\",P15<>\"Non requis\"),P15/(COUNTRY_INFO!E15+COUNTRY_INFO!F15), 0)","v":0},{"$f":"IF(AND(Z15<>0,Z15<>\"Inconnu\",Z15<>\"Non requis\"),IF(COUNTRY_INFO!K15=1,1,IF(COUNTRY_INFO!K15=2,0.5*COUNTRY_INFO!F15/(0.5*COUNTRY_INFO!F15+0.2*COUNTRY_INFO!G15),IF(COUNTRY_INFO!K15=3,COUNTRY_INFO!F15/(COUNTRY_INFO!F15+COUNTRY_INFO!G15)))),0)","v":0.60542456135667422},{"$f":"IF(AND(Z15<>0,Z15<>\"Inconnu\",Z15<>\"Non requis\"),IF(COUNTRY_INFO!K15=1,0,IF(COUNTRY_INFO!K15=2,0.2*COUNTRY_INFO!G15/(0.5*COUNTRY_INFO!F15+0.2*COUNTRY_INFO!G15),IF(COUNTRY_INFO!K15=3,COUNTRY_INFO!G15/(COUNTRY_INFO!F15+COUNTRY_INFO!G15)))),0)","v":0.39457543864332578},{"$f":"MAX(COUNTRY_INFO!D15*AK15*PROFILE!$G$7,COUNTRY_INFO!D15*AL15*PROFILE!$G$7)","v":0},{"$f":"MAX(COUNTRY_INFO!D15*AK15*PROFILE!$G$8,COUNTRY_INFO!D15*AL15*PROFILE!$G$8,COUNTRY_INFO!D15*AM15*PROFILE!$G$8)","v":0},{"$f":"MAX(COUNTRY_INFO!D15*AK15*PROFILE!$G$9,COUNTRY_INFO!D15*AL15*PROFILE!$G$9,COUNTRY_INFO!D15*AM15*PROFILE!$G$9,IF(AND(DISTRICT!Z15<>\"Inconnu\",Z15<>\"Non requis\"),COUNTRY_INFO!P15*DISTRICT!AN15,0))","v":9071.5},{"$f":"MAX(COUNTRY_INFO!D15*AK15*PROFILE!$G$10,COUNTRY_INFO!D15*AL15*PROFILE!$G$10,IF(AND(DISTRICT!Z15<>\"Inconnu\",Z15<>\"Non requis\"),COUNTRY_INFO!P15*DISTRICT!AO15,0))","v":5912.2000000000007},14983.7,0,{"$f":"MAX('MDA4'!R15,'T1'!L15,'T2'!J15,T3_R1!K15,T3_R2!K15)","v":0},{"$f":"MAX('MDA1'!K15,'MDA4'!S15,'MDA3'!I15,'MDA3'!L15,'T1'!M15,'T2'!K15,T3_R1!L15,T3_R2!L15)","v":0},{"$f":"MAX('MDA1'!L15,'MDA4'!T15,'MDA3'!J15,'MDA3'!M15,'T1'!N15,'T2'!L15,T3_R1!M15,T3_R2!M15)","v":0},0,{"$f":"MAX('MDA4'!R15,T15)","v":0},{"$f":"MAX('MDA1'!K15,'MDA4'!S15,'MDA3'!I15,'MDA3'!L15,V15,AD15)","v":0},{"$f":"MAX('MDA1'!L15,'MDA4'!T15,'MDA3'!J15,'MDA3'!M15,AF15)","v":0},0,0]
[{"$f":"IF(COUNTRY_INFO!A16=0,\" \",COUNTRY_INFO!A16)","v":"Chad"},{"$f":"IF(COUNTRY_INFO!B16=0,\" \",COUNTRY_INFO!B16)","v":"Batha"},{"$f":"IF(COUNTRY_INFO!C16=0,\" \",COUNTRY_INFO!C16)","v":"Djedda"},{"$f":"COUNTRY_INFO!M16","v":0},null,null,{"$f":"MAX('MDA1'!M16,'MDA4'!U16)","v":0},{"$f":"IF(AND(COUNTRY_INFO!H16>0,COUNTRY_INFO!H16<4),IF(D16>MAX('MDA1'!M16,'MDA4'!U16),MAX('MDA1'!M16,'MDA4'!U16),D16),0)","v":0},{"$f":"IF(AND(COUNTRY_INFO!H16>0,COUNTRY_INFO!H16<4), IF(G16/D16*100<>0, IF(G16/D16*100>100,100,G16/D16*100), \"-\"),0)","v":0},{"$f":"COUNTRY_INFO!N16","v":0},null,null,{"$f":"MAX('MDA1'!M16,MAX('MDA3'!I16,'MDA3'!L16)+MAX('MDA3'!J16,'MDA3'!M16))","v":0},{"$f":"IF(AND(COUNTRY_INFO!I16>0,COUNTRY_INFO!I16<4),IF(J16>MAX('MDA1'!M16,MAX('MDA3'!I16,'MDA3'!L16)+MAX('MDA3'!J16,'MDA3'!M16)),MAX('MDA1'!M16,MAX('MDA3'!I16,'MDA3'!L16)+MAX('MDA3'!J16,'MDA3'!M16)),J16),0)","v":0},{"$f":"IF(AND(COUNTRY_INFO!I16>0,COUNTRY_INFO!I16<4), IF(M16/J16*100<>0, IF(M16/J16*100>100,100,M16/J16*100), \"-\"),0)","v":0},{"$f":"COUNTRY_INFO!O16","v":0},null,null,{"$f":"SUM(MAX('MDA4'!R16, 'T1'!L16, MAX(T3_R1!K16, T3_R2!K16)), MAX('MDA1'!K16, 'MDA4'!S16, 'T1'!M16, MAX(T3_R1!L16, T3_R2!L16)), MAX('MDA1'!L16, 'MDA4'!T16, 'T1'!N16, MAX(T3_R1!M16, T3_R2!M16)))","v":0},{"$f":"IF(AND(COUNTRY_INFO!J16>1,COUNTRY_INFO!J16<4),IF(COUNTRY_INFO!E16>MAX('MDA4'!R16,'T1'!L16,MAX(T3_R1!K16,T3_R2!K16)),MAX('MDA4'!R16,'T1'!L16,MAX(T3_R1!K16,T3_R2!K16)),COUNTRY_INFO!E16),0)","v":0},{"$f":"IF(AND(COUNTRY_INFO!J16>1,COUNTRY_INFO!J16<4), IF(T16/COUNTRY_INFO!E16*100<>0, IF(T16/COUNTRY_INFO!E16*100>100,100,T16/COUNTRY_INFO!E16*100), \"-\"),0)","v":0},{"$f":"IF(AND(COUNTRY_INFO!J16>1,COUNTRY_INFO!J16<4),IF(COUNTRY_INFO!F16>MAX('MDA1'!K16,'MDA4'!S16,'T1'!M16,MAX(T3_R1!L16,T3_R2!L16)),MAX('MDA1'!K16,'MDA4'!S16,'T1'!M16,MAX(T3_R1!L16,T3_R2!L16)),COUNTRY_INFO!F16),0)","v":0},{"$f":"IF(AND(COUNTRY_INFO!J16>1,COUNTRY_INFO!J16<4), IF(V16/COUNTRY_INFO!F16*100<>0, IF(V16/COUNTRY_INFO!F16*100>100,100,V16/COUNTRY_INFO!F16*100), \"-\"),0)","v":0},0,{"$f":"IF(AND(COUNTRY_INFO!J16>1,COUNTRY_INFO!J16<4), IF(S16/P16*100<>0, IF(X16/P16*100>100,100,X16/P16*100), \"-\"),0)","v":0},{"$f":"COUNTRY_INFO!P16","v":13485.7},null,null,{"$f":"MAX('T1'!L16,'T2'!J16)+MAX('T1'!M16,'T2'!K16)+MAX('T1'!N16,'T2'!L16)","v":0},{"$f":"IF(COUNTRY_INFO!K16=1,IF(COUNTRY_INFO!F16*0.33>MAX('T1'!M16,'T2'!K16),MAX('T1'!M16,'T2'!K16),COUNTRY_INFO!F16*0.33),IF(COUNTRY_INFO!K16=2,IF(COUNTRY_INFO!F16*0.5>MAX('T1'!M16,'T2'!K16),MAX('T1'!M16,'T2'!K16),COUNTRY_INFO!F16*0.5),IF(COUNTRY_INFO!K16=3,IF(COUNTRY_INFO!F16>MAX('T1'!M16,'T2'!K16),MAX('T1'!M16,'T2'!K16),COUNTRY_INFO!F16),0)))","v":0},{"$f":"IF(AND(COUNTRY_INFO!K16>0,COUNTRY_INFO!K16<4),IF(Z16>0,IF(COUNTRY_INFO!K16=1, AD16/(COUNTRY_INFO!F16*0.33)*100, IF(COUNTRY_INFO!K16=2, AD16/(COUNTRY_INFO!F16*0.5)*100, IF(COUNTRY_INFO!K16=3, AD16/COUNTRY_INFO!F16*100))),\"-\"),0)","v":0},{"$f":"IF(COUNTRY_INFO!K16=2,IF(COUNTRY_INFO!G16*0.2>MAX('T1'!N16,'T2'!L16),MAX('T1'!N16,'T2'!L16),COUNTRY_INFO!G16*0.2),IF(COUNTRY_INFO!K16=3,IF(COUNTRY_INFO!G16>MAX('T1'!N16,'T2'!L16),MAX('T1'!N16,'T2'!L16),COUNTRY_INFO!G16),0))","v":0},{"$f":"IF(AND(COUNTRY_INFO!K16>0,COUNTRY_INFO!K16<4),IF(Z16>0,IF(COUNTRY_INFO!K16=1, 0, IF(COUNTRY_INFO!K16=2, AF16/(COUNTRY_INFO!G16*0.2)*100, IF(COUNTRY_INFO!K16=3, AF16/COUNTRY_INFO!G16*100))),\"-\"),0)","v":0},0,{"$f":"IF(AND(COUNTRY_INFO!K16>0,COUNTRY_INFO!K16<4), IF(AC16/Z16*100<>0, IF(AH16/Z16*100>100,100,AH16/Z16*100), \"-\"),0)","v":"-"},null,{"$f":"IF(AND(D16<>0, D16<>\"Inconnu\",D16<>\"Interrompu\",D16<>\"Non requis\"),D16/COUNTRY_INFO!D16, 0)","v":0},{"$f":"IF(AND(J16<>0,J16<>\"Inconnu\",J16<>\"Interrompu\",J16<>\"Non requis\"),J16/COUNTRY_INFO!D16, 0)","v":0},{"$f":"IF(AND(P16<>0,P16<>\"Inconnu\",P16<>\"Non requis\"),P16/(COUNTRY_INFO!E16+COUNTRY_INFO!F16), 0)","v":0},{"$f":"IF(AND(Z16<>0,Z16<>\"Inconnu\",Z16<>\"Non requis\"),IF(COUNTRY_INFO!K16=1,1,IF(COUNTRY_INFO!K16=2,0.5*COUNTRY_INFO!F16/(0.5*COUNTRY_INFO!F16+0.2*COUNTRY_INFO!G16),IF(COUNTRY_INFO!K16=3,COUNTRY_INFO!F16/(COUNTRY_INFO!F16+COUNTRY_INFO!G16)))),0)","v":0.60541907353715418},{"$f":"IF(AND(Z16<>0,Z16<>\"Inconnu\",Z16<>\"Non requis\"),IF(COUNTRY_INFO!K16=1,0,IF(COUNTRY_INFO!K16=2,0.2*COUNTRY_INFO!G16/(0.5*COUNTRY_INFO!F16+0.2*COUNTRY_INFO!G16),IF(COUNTRY_INFO!K16=3,COUNTRY_INFO!G16/(COUNTRY_INFO!F16+COUNTRY_INFO!G16)))),0)","v":0.39458092646284587},{"$f":"MAX(COUNTRY_INFO!D16*AK16*PROFILE!$G$7,COUNTRY_INFO!D16*AL16*PROFILE!$G$7)","v":0},{"$f":"MAX(COUNTRY_INFO!D16*AK16*PROFILE!$G$8,COUNTRY_INFO!D16*AL16*PROFILE!$G$8,COUNTRY_INFO!D16*AM16*PROFILE!$G$8)","v":0},{"$f":"MAX(COUNTRY_INFO!D16*AK16*PROFILE!$G$9,COUNTRY_INFO!D16*AL16*PROFILE!$G$9,COUNTRY_INFO!D16*AM16*PROFILE!$G$9,IF(AND(DISTRICT!Z16<>\"Inconnu\",Z16<>\"Non requis\"),COUNTRY_INFO!P16*DISTRICT!AN16,0))","v":8164.5000000000009},{"$f":"MAX(COUNTRY_INFO!D16*AK16*PROFILE!$G$10,COUNTRY_INFO!D16*AL16*PROFILE!$G$10,IF(AND(DISTRICT!Z16<>\"Inconnu\",Z16<>\"Non requis\"),COUNTRY_INFO!P16*DISTRICT!AO16,0))","v":5321.2000000000007},13485.7,0,{"$f":"MAX('MDA4'!R16,'T1'!L16,'T2'!J16,T3_R1!K16,T3_R2!K16)","v":0},{"$f":"MAX('MDA1'!K16,'MDA4'!S16,'MDA3'!I16,'MDA3'!L16,'T1'!M16,'T2'!K16,T3_R1!L16,T3_R2!L16)","v":0},{"$f":"MAX('MDA1'!L16,'MDA4'!T16,'MDA3'!J16,'MDA3'!M16,'T1'!N16,'T2'!L16,T3_R1!M16,T3_R2!M16)","v":0},0,{"$f":"MAX('MDA4'!R16,T16)","v":0},{"$f":"MAX('MDA1'!K16,'MDA4'!S16,'MDA3'!I16,'MDA3'!L16,V16,AD16)","v":0},{"$f":"MAX('MDA1'!L16,'MDA4'!T16,'MDA3'!J16,'MDA3'!M16,AF16)","v":0},0,0]
[{"$f":"IF(COUNTRY_INFO!A17=0,\" \",COUNTRY_INFO!A17)","v":"Chad"},{"$f":"IF(COUNTRY_INFO!B17=0,\" \",COUNTRY_INFO!B17)","v":"Batha"},{"$f":"IF(COUNTRY_INFO!C17=0,\" \",COUNTRY_INFO!C17)","v":"Koundjourou"},{"$f":"COUNTRY_INFO!M17","v":0},null,null,{"$f":"MAX('MDA1'!M17,'MDA4'!U17)","v":0},{"$f":"IF(AND(COUNTRY_INFO!H17>0,COUNTRY_INFO!H17<4),IF(D17>MAX('MDA1'!M17,'MDA4'!U17),MAX('MDA1'!M17,'MDA4'!U17),D17),0)","v":0},{"$f":"IF(AND(COUNTRY_INFO!H17>0,COUNTRY_INFO!H17<4), IF(G17/D17*100<>0, IF(G17/D17*100>100,100,G17/D17*100), \"-\"),0)","v":0},{"$f":"COUNTRY_INFO!N17","v":0},null,null,{"$f":"MAX('MDA1'!M17,MAX('MDA3'!I17,'MDA3'!L17)+MAX('MDA3'!J17,'MDA3'!M17))","v":0},{"$f":"IF(AND(COUNTRY_INFO!I17>0,COUNTRY_INFO!I17<4),IF(J17>MAX('MDA1'!M17,MAX('MDA3'!I17,'MDA3'!L17)+MAX('MDA3'!J17,'MDA3'!M17)),MAX('MDA1'!M17,MAX('MDA3'!I17,'MDA3'!L17)+MAX('MDA3'!J17,'MDA3'!M17)),J17),0)","v":0},{"$f":"IF(AND(COUNTRY_INFO!I17>0,COUNTRY_INFO!I17<4), IF(M17/J17*100<>0, IF(M17/J17*100>100,100,M17/J17*100), \"-\"),0)","v":0},{"$f":"COUNTRY_INFO!O17","v":0},null,null,{"$f":"SUM(MAX('MDA4'!R17, 'T1'!L17, MAX(T3_R1!K17, T3_R2!K17)), MAX('MDA1'!K17, 'MDA4'!S17, 'T1'!M17, MAX(T3_R1!L17, T3_R2!L17)), MAX('MDA1'!L17, 'MDA4'!T17, 'T1'!N17, MAX(T3_R1!M17, T3_R2!M17)))","v":0},{"$f":"IF(AND(COUNTRY_INFO!J17>1,COUNTRY_INFO!J17<4),IF(COUNTRY_INFO!E17>MAX('MDA4'!R17,'T1'!L17,MAX(T3_R1!K17,T3_R2!K17)),MAX('MDA4'!R17,'T1'!L17,MAX(T3_R1!K17,T3_R2!K17)),COUNTRY_INFO!E17),0)","v":0},{"$f":"IF(AND(COUNTRY_INFO!J17>1,COUNTRY_INFO!J17<4), IF(T17/COUNTRY_INFO!E17*100<>0, IF(T17/COUNTRY_INFO!E17*100>100,100,T17/COUNTRY_INFO!E17*100), \"-\"),0)","v":0},{"$f":"IF(AND(COUNTRY_INFO!J17>1,COUNTRY_INFO!J17<4),IF(COUNTRY_INFO!F17>MAX('MDA1'!K17,'MDA4'!S17,'T1'!M17,MAX(T3_R1!L17,T3_R2!L17)),MAX('MDA1'!K17,'MDA4'!S17,'T1'!M17,MAX(T3_R1!L17,T3_R2!L17)),COUNTRY_INFO!F17),0)","v":0},{"$f":"IF(AND(COUNTRY_INFO!J17>1,COUNTRY_INFO!J17<4), IF(V17/COUNTRY_INFO!F17*100<>0, IF(V17/COUNTRY_INFO!F17*100>100,100,V17/COUNTRY_INFO!F17*100), \"-\"),0)","v":0},0,{"$f":"IF(AND(COUNTRY_INFO!J17>1,COUNTRY_INFO!J17<4), IF(S17/P17*100<>0, IF(X17/P17*100>100,100,X17/P17*100), \"-\"),0)","v":0},{"$f":"COUNTRY_INFO!P17","v":21476.7},null,null,{"$f":"MAX('T1'!L17,'T2'!J17)+MAX('T1'!M17,'T2'!K17)+MAX('T1'!N17,'T2'!L17)","v":0},{"$f":"IF(COUNTRY_INFO!K17=1,IF(COUNTRY_INFO!F17*0.33>MAX('T1'!M17,'T2'!K17),MAX('T1'!M17,'T2'!K17),COUNTRY_INFO!F17*0.33),IF(COUNTRY_INFO!K17=2,IF(COUNTRY_INFO!F17*0.5>MAX('T1'!M17,'T2'!K17),MAX('T1'!M17,'T2'!K17),COUNTRY_INFO!F17*0.5),IF(COUNTRY_INFO!K17=3,IF(COUNTRY_INFO!F17>MAX('T1'!M17,'T2'!K17),MAX('T1'!M17,'T2'!K17),COUNTRY_INFO!F17),0)))","v":0},{"$f":"IF(AND(COUNTRY_INFO!K17>0,COUNTRY_INFO!K17<4),IF(Z17>0,IF(COUNTRY_INFO!K17=1, AD17/(COUNTRY_INFO!F17*0.33)*100, IF(COUNTRY_INFO!K17=2, AD17/(COUNTRY_INFO!F17*0.5)*100, IF(COUNTRY_INFO!K17=3, AD17/COUNTRY_INFO!F17*100))),\"-\"),0)","v":0},{"$f":"IF(COUNTRY_INFO!K17=2,IF(COUNTRY_INFO!G17*0.2>MAX('T1'!N17,'T2'!L17),MAX('T1'!N17,'T2'!L17),COUNTRY_INFO!G17*0.2),IF(COUNTRY_INFO!K17=3,IF(COUNTRY_INFO!G17>MAX('T1'!N17,'T2'!L17),MAX('T1'!N17,'T2'!L17),COUNTRY_INFO!G17),0))","v":0},{"$f":"IF(AND(COUNTRY_INFO!K17>0,COUNTRY_INFO!K17<4),IF(Z17>0,IF(COUNTRY_INFO!K17=1, 0, IF(COUNTRY_INFO!K17=2, AF17/(COUNTRY_INFO!G17*0.2)*100, IF(COUNTRY_INFO!K17=3, AF17/COUNTRY_INFO!G17*100))),\"-\"),0)","v":0},0,{"$f":"IF(AND(COUNTRY_INFO!K17>0,COUNTRY_INFO!K17<4), IF(AC17/Z17*100<>0, IF(AH17/Z17*100>100,100,AH17/Z17*100), \"-\"),0)","v":"-"},null,{"$f":"IF(AND(D17<>0, D17<>\"Inconnu\",D17<>\"Interrompu\",D17<>\"Non requis\"),D17/COUNTRY_INFO!D17, 0)","v":0},{"$f":"IF(AND(J17<>0,J17<>\"Inconnu\",J17<>\"Interrompu\",J17<>\"Non requis\"),J17/COUNTRY_INFO!D17, 0)","v":0},{"$f":"IF(AND(P17<>0,P17<>\"Inconnu\",P17<>\"Non requis\"),P17/(COUNTRY_INFO!E17+COUNTRY_INFO!F17), 0)","v":0},{"$f":"IF(AND(Z17<>0,Z17<>\"Inconnu\",Z17<>\"Non requis\"),IF(COUNTRY_INFO!K17=1,1,IF(COUNTRY_INFO!K17=2,0.5*COUNTRY_INFO!F17/(0.5*COUNTRY_INFO!F17+0.2*COUNTRY_INFO!G17),IF(COUNTRY_INFO!K17=3,COUNTRY_INFO!F17/(COUNTRY_INFO!F17+COUNTRY_INFO!G17)))),0)","v":0.60542355203546172},{"$f":"IF(AND(Z17<>0,Z17<>\"Inconnu\",Z17<>\"Non requis\"),IF(COUNTRY_INFO!K17=1,0,IF(COUNTRY_INFO!K17=2,0.2*COUNTRY_INFO!G17/(0.5*COUNTRY_INFO!F17+0.2*COUNTRY_INFO!G17),IF(COUNTRY_INFO!K17=3,COUNTRY_INFO!G17/(COUNTRY_INFO!F17+COUNTRY_INFO!G17)))),0)","v":0.39457644796453833},{"$f":"MAX(COUNTRY_INFO!D17*AK17*PROFILE!$G$7,COUNTRY_INFO!D17*AL17*PROFILE!$G$7)","v":0},{"$f":"MAX(COUNTRY_INFO!D17*AK17*PROFILE!$G$8,COUNTRY_INFO!D17*AL17*PROFILE!$G$8,COUNTRY_INFO!D17*AM17*PROFILE!$G$8)","v":0},{"$f":"MAX(COUNTRY_INFO!D17*AK17*PROFILE!$G$9,COUNTRY_INFO!D17*AL17*PROFILE!$G$9,COUNTRY_INFO!D17*AM17*PROFILE!$G$9,IF(AND(DISTRICT!Z17<>\"Inconnu\",Z17<>\"Non requis\"),COUNTRY_INFO!P17*DISTRICT!AN17,0))","v":13002.500000000002},{"$f":"MAX(COUNTRY_INFO!D17*AK17*PROFILE!$G$10,COUNTRY_INFO!D17*AL17*PROFILE!$G$10,IF(AND(DISTRICT!Z17<>\"Inconnu\",Z17<>\"Non requis\"),COUNTRY_INFO!P17*DISTRICT!AO17,0))","v":8474.2000000000007},21476.700000000004,0,{"$f":"MAX('MDA4'!R17,'T1'!L17,'T2'!J17,T3_R1!K17,T3_R2!K17)","v":0},{"$f":"MAX('MDA1'!K17,'MDA4'!S17,'MDA3'!I17,'MDA3'!L17,'T1'!M17,'T2'!K17,T3_R1!L17,T3_R2!L17)","v":0},{"$f":"MAX('MDA1'!L17,'MDA4'!T17,'MDA3'!J17,'MDA3'!M17,'T1'!N17,'T2'!L17,T3_R1!M17,T3_R2!M17)","v":0},0,{"$f":"MAX('MDA4'!R17,T17)","v":0},{"$f":"MAX('MDA1'!K17,'MDA4'!S17,'MDA3'!I17,'MDA3'!L17,V17,AD17)","v":0},{"$f":"MAX('MDA1'!L17,'MDA4'!T17,'MDA3'!J17,'MDA3'!M17,AF17)","v":0},0,0]
[{"$f":"IF(COUNTRY_INFO!A18=0,\" \",COUNTRY_INFO!A18)","v":"Chad"},{"$f":"IF(COUNTRY_INFO!B18=0,\" \",COUNTRY_INFO!B18)","v":"Batha"},{"$f":"IF(COUNTRY_INFO!C18=0,\" \",COUNTRY_INFO!C18)","v":"Oum-Hadjer"},{"$f":"COUNTRY_INFO!M18","v":0},null,null,{"$f":"MAX('MDA1'!M18,'MDA4'!U18)","v":0},{"$f":"IF(AND(COUNTRY_INFO!H18>0,COUNTRY_INFO!H18<4),IF(D18>MAX('MDA1'!M18,'MDA4'!U18),MAX('MDA1'!M18,'MDA4'!U18),D18),0)","v":0},{"$f":"IF(AND(COUNTRY_INFO!H18>0,COUNTRY_INFO!H18<4), IF(G18/D18*100<>0, IF(G18/D18*100>100,100,G18/D18*100), \"-\"),0)","v":0},{"$f":"COUNTRY_INFO!N18","v":0},null,null,{"$f":"MAX('MDA1'!M18,MAX('MDA3'!I18,'MDA3'!L18)+MAX('MDA3'!J18,'MDA3'!M18))","v":0},{"$f":"IF(AND(COUNTRY_INFO!I18>0,COUNTRY_INFO!I18<4),IF(J18>MAX('MDA1'!M18,MAX('MDA3'!I18,'MDA3'!L18)+MAX('MDA3'!J18,'MDA3'!M18)),MAX('MDA1'!M18,MAX('MDA3'!I18,'MDA3'!L18)+MAX('MDA3'!J18,'MDA3'!M18)),J18),0)","v":0},{"$f":"IF(AND(COUNTRY_INFO!I18>0,COUNTRY_INFO!I18<4), IF(M18/J18*100<>0, IF(M18/J18*100>100,100,M18/J18*100), \"-\"),0)","v":0},{"$f":"COUNTRY_INFO!O18","v":0},null,null,{"$f":"SUM(MAX('MDA4'!R18, 'T1'!L18, MAX(T3_R1!K18, T3_R2!K18)), MAX('MDA1'!K18, 'MDA4'!S18, 'T1'!M18, MAX(T3_R1!L18, T3_R2!L18)), MAX('MDA1'!L18, 'MDA4'!T18, 'T1'!N18, MAX(T3_R1!M18, T3_R2!M18)))","v":0},{"$f":"IF(AND(COUNTRY_INFO!J18>1,COUNTRY_INFO!J18<4),IF(COUNTRY_INFO!E18>MAX('MDA4'!R18,'T1'!L18,MAX(T3_R1!K18,T3_R2!K18)),MAX('MDA4'!R18,'T1'!L18,MAX(T3_R1!K18,T3_R2!K18)),COUNTRY_INFO!E18),0)","v":0},{"$f":"IF(AND(COUNTRY_INFO!J18>1,COUNTRY_INFO!J18<4), IF(T18/COUNTRY_INFO!E18*100<>0, IF(T18/COUNTRY_INFO!E18*100>100,100,T18/COUNTRY_INFO!E18*100), \"-\"),0)","v":0},{"$f":"IF(AND(COUNTRY_INFO!J18>1,COUNTRY_INFO!J18<4),IF(COUNTRY_INFO!F18>MAX('MDA1'!K18,'MDA4'!S18,'T1'!M18,MAX(T3_R1!L18,T3_R2!L18)),MAX('MDA1'!K18,'MDA4'!S18,'T1'!M18,MAX(T3_R1!L18,T3_R2!L18)),COUNTRY_INFO!F18),0)","v":0},{"$f":"IF(AND(COUNTRY_INFO!J18>1,COUNTRY_INFO!J18<4), IF(V18/COUNTRY_INFO!F18*100<>0, IF(V18/COUNTRY_INFO!F18*100>100,100,V18/COUNTRY_INFO!F18*100), \"-\"),0)","v":0},0,{"$f":"IF(AND(COUNTRY_INFO!J18>1,COUNTRY_INFO!J18<4), IF(S18/P18*100<>0, IF(X18/P18*100>100,100,X18/P18*100), \"-\"),0)","v":0},{"$f":"COUNTRY_INFO!P18","v":46104.600000000006},null,null,{"$f":"MAX('T1'!L18,'T2'!J18)+MAX('T1'!M18,'T2'!K18)+MAX('T1'!N18,'T2'!L18)","v":0},{"$f":"IF(COUNTRY_INFO!K18=1,IF(COUNTRY_INFO!F18*0.33>MAX('T1'!M18,'T2'!K18),MAX('T1'!M18,'T2'!K18),COUNTRY_INFO!F18*0.33),IF(COUNTRY_INFO!K18=2,IF(COUNTRY_INFO!F18*0.5>MAX('T1'!M18,'T2'!K18),MAX('T1'!M18,'T2'!K18),COUNTRY_INFO!F18*0.5),IF(COUNTRY_INFO!K18=3,IF(COUNTRY_INFO!F18>MAX('T1'!M18,'T2'!K18),MAX('T1'!M18,'T2'!K18),COUNTRY_INFO!F18),0)))","v":0},{"$f":"IF(AND(COUNTRY_INFO!K18>0,COUNTRY_INFO!K18<4),IF(Z18>0,IF(COUNTRY_INFO!K18=1, AD18/(COUNTRY_INFO!F18*0.33)*100, IF(COUNTRY_INFO!K18=2, AD18/(COUNTRY_INFO!F18*0.5)*100, IF(COUNTRY_INFO!K18=3, AD18/COUNTRY_INFO!F18*100))),\"-\"),0)","v":0},{"$f":"IF(COUNTRY_INFO!K18=2,IF(COUNTRY_INFO!G18*0.2>MAX('T1'!N18,'T2'!L18),MAX('T1'!N18,'T2'!L18),COUNTRY_INFO!G18*0.2),IF(COUNTRY_INFO!K18=3,IF(COUNTRY_INFO!G18>MAX('T1'!N18,'T2'!L18),MAX('T1'!N18,'T2'!L18),COUNTRY_INFO!G18),0))","v":0},{"$f":"IF(AND(COUNTRY_INFO!K18>0,COUNTRY_INFO!K18<4),IF(Z18>0,IF(COUNTRY_INFO!K18=1, 0, IF(COUNTRY_INFO!K18=2, AF18/(COUNTRY_INFO!G18*0.2)*100, IF(COUNTRY_INFO!K18=3, AF18/COUNTRY_INFO!G18*100))),\"-\"),0)","v":0},0,{"$f":"IF(AND(COUNTRY_INFO!K18>0,COUNTRY_INFO!K18<4), IF(AC18/Z18*100<>0, IF(AH18/Z18*100>100,100,AH18/Z18*100), \"-\"),0)","v":"-"},null,{"$f":"IF(AND(D18<>0, D18<>\"Inconnu\",D18<>\"Interrompu\",D18<>\"Non requis\"),D18/COUNTRY_INFO!D18, 0)","v":0},{"$f":"IF(AND(J18<>0,J18<>\"Inconnu\",J18<>\"Interrompu\",J18<>\"Non requis\"),J18/COUNTRY_INFO!D18, 0)","v":0},{"$f":"IF(AND(P18<>0,P18<>\"Inconnu\",P18<>\"Non requis\"),P18/(COUNTRY_INFO!E18+COUNTRY_INFO!F18), 0)","v":0},{"$f":"IF(AND(Z18<>0,Z18<>\"Inconnu\",Z18<>\"Non requis\"),IF(COUNTRY_INFO!K18=1,1,IF(COUNTRY_INFO!K18=2,0.5*COUNTRY_INFO!F18/(0.5*COUNTRY_INFO!F18+0.2*COUNTRY_INFO!G18),IF(COUNTRY_INFO!K18=3,COUNTRY_INFO!F18/(COUNTRY_INFO!F18+COUNTRY_INFO!G18)))),0)","v":0.60542765797772879},{"$f":"IF(AND(Z18<>0,Z18<>\"Inconnu\",Z18<>\"Non requis\"),IF(COUNTRY_INFO!K18=1,0,IF(COUNTRY_INFO!K18=2,0.2*COUNTRY_INFO!G18/(0.5*COUNTRY_INFO!F18+0.2*COUNTRY_INFO!G18),IF(COUNTRY_INFO!K18=3,COUNTRY_INFO!G18/(COUNTRY_INFO!F18+COUNTRY_INFO!G18)))),0)","v":0.39457234202227109},{"$f":"MAX(COUNTRY_INFO!D18*AK18*PROFILE!$G$7,COUNTRY_INFO!D18*AL18*PROFILE!$G$7)","v":0},{"$f":"MAX(COUNTRY_INFO!D18*AK18*PROFILE!$G$8,COUNTRY_INFO!D18*AL18*PROFILE!$G$8,COUNTRY_INFO!D18*AM18*PROFILE!$G$8)","v":0},{"$f":"MAX(COUNTRY_INFO!D18*AK18*PROFILE!$G$9,COUNTRY_INFO!D18*AL18*PROFILE!$G$9,COUNTRY_INFO!D18*AM18*PROFILE!$G$9,IF(AND(DISTRICT!Z18<>\"Inconnu\",Z18<>\"Non requis\"),COUNTRY_INFO!P18*DISTRICT!AN18,0))","v":27913},{"$f":"MAX(COUNTRY_INFO!D18*AK18*PROFILE!$G$10,COUNTRY_INFO!D18*AL18*PROFILE!$G$10,IF(AND(DISTRICT!Z18<>\"Inconnu\",Z18<>\"Non requis\"),COUNTRY_INFO!P18*DISTRICT!AO18,0))","v":18191.600000000002},46104.600000000006,0,{"$f":"MAX('MDA4'!R18,'T1'!L18,'T2'!J18,T3_R1!K18,T3_R2!K18)","v":0},{"$f":"MAX('MDA1'!K18,'MDA4'!S18,'MDA3'!I18,'MDA3'!L18,'T1'!M18,'T2'!K18,T3_R1!L18,T3_R2!L18)","v":0},{"$f":"MAX('MDA1'!L18,'MDA4'!T18,'MDA3'!J18,'MDA3'!M18,'T1'!N18,'T2'!L18,T3_R1!M18,T3_R2!M18)","v":0},0,{"$f":"MAX('MDA4'!R18,T18)","v":0},{"$f":"MAX('MDA1'!K18,'MDA4'!S18,'MDA3'!I18,'MDA3'!L18,V18,AD18)","v":0},{"$f":"MAX('MDA1'!L18,'MDA4'!T18,'MDA3'!J18,'MDA3'!M18,AF18)","v":0},0,0]
[{"$f":"IF(COUNTRY_INFO!A19=0,\" \",COUNTRY_INFO!A19)","v":"Chad"},{"$f":"IF(COUNTRY_INFO!B19=0,\" \",COUNTRY_INFO!B19)","v":"Batha"},{"$f":"IF(COUNTRY_INFO!C19=0,\" \",COUNTRY_INFO!C19)","v":"Yao"},{"$f":"COUNTRY_INFO!M19","v":0},null,null,{"$f":"MAX('MDA1'!M19,'MDA4'!U19)","v":0},{"$f":"IF(AND(COUNTRY_INFO!H19>0,COUNTRY_INFO!H19<4),IF(D19>MAX('MDA1'!M19,'MDA4'!U19),MAX('MDA1'!M19,'MDA4'!U19),D19),0)","v":0},{"$f":"IF(AND(COUNTRY_INFO!H19>0,COUNTRY_INFO!H19<4), IF(G19/D19*100<>0, IF(G19/D19*100>100,100,G19/D19*100), \"-\"),0)","v":0},{"$f":"COUNTRY_INFO!N19","v":0},null,null,{"$f":"MAX('MDA1'!M19,MAX('MDA3'!I19,'MDA3'!L19)+MAX('MDA3'!J19,'MDA3'!M19))","v":0},{"$f":"IF(AND(COUNTRY_INFO!I19>0,COUNTRY_INFO!I19<4),IF(J19>MAX('MDA1'!M19,MAX('MDA3'!I19,'MDA3'!L19)+MAX('MDA3'!J19,'MDA3'!M19)),MAX('MDA1'!M19,MAX('MDA3'!I19,'MDA3'!L19)+MAX('MDA3'!J19,'MDA3'!M19)),J19),0)","v":0},{"$f":"IF(AND(COUNTRY_INFO!I19>0,COUNTRY_INFO!I19<4), IF(M19/J19*100<>0, IF(M19/J19*100>100,100,M19/J19*100), \"-\"),0)","v":0},{"$f":"COUNTRY_INFO!O19","v":0},null,null,{"$f":"SUM(MAX('MDA4'!R19, 'T1'!L19, MAX(T3_R1!K19, T3_R2!K19)), MAX('MDA1'!K19, 'MDA4'!S19, 'T1'!M19, MAX(T3_R1!L19, T3_R2!L19)), MAX('MDA1'!L19, 'MDA4'!T19, 'T1'!N19, MAX(T3_R1!M19, T3_R2!M19)))","v":0},{"$f":"IF(AND(COUNTRY_INFO!J19>1,COUNTRY_INFO!J19<4),IF(COUNTRY_INFO!E19>MAX('MDA4'!R19,'T1'!L19,MAX(T3_R1!K19,T3_R2!K19)),MAX('MDA4'!R19,'T1'!L19,MAX(T3_R1!K19,T3_R2!K19)),COUNTRY_INFO!E19),0)","v":0},{"$f":"IF(AND(COUNTRY_INFO!J19>1,COUNTRY_INFO!J19<4), IF(T19/COUNTRY_INFO!E19*100<>0, IF(T19/COUNTRY_INFO!E19*100>100,100,T19/COUNTRY_INFO!E19*100), \"-\"),0)","v":0},{"$f":"IF(AND(COUNTRY_INFO!J19>1,COUNTRY_INFO!J19<4),IF(COUNTRY_INFO!F19>MAX('MDA1'!K19,'MDA4'!S19,'T1'!M19,MAX(T3_R1!L19,T3_R2!L19)),MAX('MDA1'!K19,'MDA4'!S19,'T1'!M19,MAX(T3_R1!L19,T3_R2!L19)),COUNTRY_INFO!F19),0)","v":0},{"$f":"IF(AND(COUNTRY_INFO!J19>1,COUNTRY_INFO!J19<4), IF(V19/COUNTRY_INFO!F19*100<>0, IF(V19/COUNTRY_INFO!F19*100>100,100,V19/COUNTRY_INFO!F19*100), \"-\"),0)","v":0},0,{"$f":"IF(AND(COUNTRY_INFO!J19>1,COUNTRY_INFO!J19<4), IF(S19/P19*100<>0, IF(X19/P19*100>100,100,X19/P19*100), \"-\"),0)","v":0},{"$f":"COUNTRY_INFO!P19","v":44183.8},null,null,{"$f":"MAX('T1'!L19,'T2'!J19)+MAX('T1'!M19,'T2'!K19)+MAX('T1'!N19,'T2'!L19)","v":0},{"$f":"IF(COUNTRY_INFO!K19=1,IF(COUNTRY_INFO!F19*0.33>MAX('T1'!M19,'T2'!K19),MAX('T1'!M19,'T2'!K19),COUNTRY_INFO!F19*0.33),IF(COUNTRY_INFO!K19=2,IF(COUNTRY_INFO!F19*0.5>MAX('T1'!M19,'T2'!K19),MAX('T1'!M19,'T2'!K19),COUNTRY_INFO!F19*0.5),IF(COUNTRY_INFO!K19=3,IF(COUNTRY_INFO!F19>MAX('T1'!M19,'T2'!K19),MAX('T1'!M19,'T2'!K19),COUNTRY_INFO!F19),0)))","v":0},{"$f":"IF(AND(COUNTRY_INFO!K19>0,COUNTRY_INFO!K19<4),IF(Z19>0,IF(COUNTRY_INFO!K19=1, AD19/(COUNTRY_INFO!F19*0.33)*100, IF(COUNTRY_INFO!K19=2, AD19/(COUNTRY_INFO!F19*0.5)*100, IF(COUNTRY_INFO!K19=3, AD19/COUNTRY_INFO!F19*100))),\"-\"),0)","v":0},{"$f":"IF(COUNTRY_INFO!K19=2,IF(COUNTRY_INFO!G19*0.2>MAX('T1'!N19,'T2'!L19),MAX('T1'!N19,'T2'!L19),COUNTRY_INFO!G19*0.2),IF(COUNTRY_INFO!K19=3,IF(COUNTRY_INFO!G19>MAX('T1'!N19,'T2'!L19),MAX('T1'!N19,'T2'!L19),COUNTRY_INFO!G19),0))","v":0},{"$f":"IF(AND(COUNTRY_INFO!K19>0,COUNTRY_INFO!K19<4),IF(Z19>0,IF(COUNTRY_INFO!K19=1, 0, IF(COUNTRY_INFO!K19=2, AF19/(COUNTRY_INFO!G19*0.2)*100, IF(COUNTRY_INFO!K19=3, AF19/COUNTRY_INFO!G19*100))),\"-\"),0)","v":0},0,{"$f":"IF(AND(COUNTRY_INFO!K19>0,COUNTRY_INFO!K19<4), IF(AC19/Z19*100<>0, IF(AH19/Z19*100>100,100,AH19/Z19*100), \"-\"),0)","v":"-"},null,{"$f":"IF(AND(D19<>0, D19<>\"Inconnu\",D19<>\"Interrompu\",D19<>\"Non requis\"),D19/COUNTRY_INFO!D19, 0)","v":0},{"$f":"IF(AND(J19<>0,J19<>\"Inconnu\",J19<>\"Interrompu\",J19<>\"Non requis\"),J19/COUNTRY_INFO!D19, 0)","v":0},{"$f":"IF(AND(P19<>0,P19<>\"Inconnu\",P19<>\"Non requis\"),P19/(COUNTRY_INFO!E19+COUNTRY_INFO!F19), 0)","v":0},{"$f":"IF(AND(Z19<>0,Z19<>\"Inconnu\",Z19<>\"Non requis\"),IF(COUNTRY_INFO!K19=1,1,IF(COUNTRY_INFO!K19=2,0.5*COUNTRY_INFO!F19/(0.5*COUNTRY_INFO!F19+0.2*COUNTRY_INFO!G19),IF(COUNTRY_INFO!K19=3,COUNTRY_INFO!F19/(COUNTRY_INFO!F19+COUNTRY_INFO!G19)))),0)","v":0.60542551795001787},{"$f":"IF(AND(Z19<>0,Z19<>\"Inconnu\",Z19<>\"Non requis\"),IF(COUNTRY_INFO!K19=1,0,IF(COUNTRY_INFO!K19=2,0.2*COUNTRY_INFO!G19/(0.5*COUNTRY_INFO!F19+0.2*COUNTRY_INFO!G19),IF(COUNTRY_INFO!K19=3,COUNTRY_INFO!G19/(COUNTRY_INFO!F19+COUNTRY_INFO!G19)))),0)","v":0.39457448204998208},{"$f":"MAX(COUNTRY_INFO!D19*AK19*PROFILE!$G$7,COUNTRY_INFO!D19*AL19*PROFILE!$G$7)","v":0},{"$f":"MAX(COUNTRY_INFO!D19*AK19*PROFILE!$G$8,COUNTRY_INFO!D19*AL19*PROFILE!$G$8,COUNTRY_INFO!D19*AM19*PROFILE!$G$8)","v":0},{"$f":"MAX(COUNTRY_INFO!D19*AK19*PROFILE!$G$9,COUNTRY_INFO!D19*AL19*PROFILE!$G$9,COUNTRY_INFO!D19*AM19*PROFILE!$G$9,IF(AND(DISTRICT!Z19<>\"Inconnu\",Z19<>\"Non requis\"),COUNTRY_INFO!P19*DISTRICT!AN19,0))","v":26750},{"$f":"MAX(COUNTRY_INFO!D19*AK19*PROFILE!$G$10,COUNTRY_INFO!D19*AL19*PROFILE!$G$10,IF(AND(DISTRICT!Z19<>\"Inconnu\",Z19<>\"Non requis\"),COUNTRY_INFO!P19*DISTRICT!AO19,0))","v":17433.8},44183.8,0,{"$f":"MAX('MDA4'!R19,'T1'!L19,'T2'!J19,T3_R1!K19,T3_R2!K19)","v":0},{"$f":"MAX('MDA1'!K19,'MDA4'!S19,'MDA3'!I19,'MDA3'!L19,'T1'!M19,'T2'!K19,T3_R1!L19,T3_R2!L19)","v":0},{"$f":"MAX('MDA1'!L19,'MDA4'!T19,'MDA3'!J19,'MDA3'!M19,'T1'!N19,'T2'!L19,T3_R1!M19,T3_R2!M19)","v":0},0,{"$f":"MAX('MDA4'!R19,T19)","v":0},{"$f":"MAX('MDA1'!K19,'MDA4'!S19,'MDA3'!I19,'MDA3'!L19,V19,AD19)","v":0},{"$f":"MAX('MDA1'!L19,'MDA4'!T19,'MDA3'!J19,'MDA3'!M19,AF19)","v":0},0,0]
[{"$f":"IF(COUNTRY_INFO!A20=0,\" \",COUNTRY_INFO!A20)","v":"Chad"},{"$f":"IF(COUNTRY_INFO!B20=0,\" \",COUNTRY_INFO!B20)","v":"Borkou"},{"$f":"IF(COUNTRY_INFO!C20=0,\" \",COUNTRY_INFO!C20)","v":"Faya"},{"$f":"COUNTRY_INFO!M20","v":0},null,null,{"$f":"MAX('MDA1'!M20,'MDA4'!U20)","v":0},{"$f":"IF(AND(COUNTRY_INFO!H20>0,COUNTRY_INFO!H20<4),IF(D20>MAX('MDA1'!M20,'MDA4'!U20),MAX('MDA1'!M20,'MDA4'!U20),D20),0)","v":0},{"$f":"IF(AND(COUNTRY_INFO!H20>0,COUNTRY_INFO!H20<4), IF(G20/D20*100<>0, IF(G20/D20*100>100,100,G20/D20*100), \"-\"),0)","v":0},{"$f":"COUNTRY_INFO!N20","v":0},null,null,{"$f":"MAX('MDA1'!M20,MAX('MDA3'!I20,'MDA3'!L20)+MAX('MDA3'!J20,'MDA3'!M20))","v":0},{"$f":"IF(AND(COUNTRY_INFO!I20>0,COUNTRY_INFO!I20<4),IF(J20>MAX('MDA1'!M20,MAX('MDA3'!I20,'MDA3'!L20)+MAX('MDA3'!J20,'MDA3'!M20)),MAX('MDA1'!M20,MAX('MDA3'!I20,'MDA3'!L20)+MAX('MDA3'!J20,'MDA3'!M20)),J20),0)","v":0},{"$f":"IF(AND(COUNTRY_INFO!I20>0,COUNTRY_INFO!I20<4), IF(M20/J20*100<>0, IF(M20/J20*100>100,100,M20/J20*100), \"-\"),0)","v":0},{"$f":"COUNTRY_INFO!O20","v":0},null,null,{"$f":"SUM(MAX('MDA4'!R20, 'T1'!L20, MAX(T3_R1!K20, T3_R2!K20)), MAX('MDA1'!K20, 'MDA4'!S20, 'T1'!M20, MAX(T3_R1!L20, T3_R2!L20)), MAX('MDA1'!L20, 'MDA4'!T20, 'T1'!N20, MAX(T3_R1!M20, T3_R2!M20)))","v":0},{"$f":"IF(AND(COUNTRY_INFO!J20>1,COUNTRY_INFO!J20<4),IF(COUNTRY_INFO!E20>MAX('MDA4'!R20,'T1'!L20,MAX(T3_R1!K20,T3_R2!K20)),MAX('MDA4'!R20,'T1'!L20,MAX(T3_R1!K20,T3_R2!K20)),COUNTRY_INFO!E20),0)","v":0},{"$f":"IF(AND(COUNTRY_INFO!J20>1,COUNTRY_INFO!J20<4), IF(T20/COUNTRY_INFO!E20*100<>0, IF(T20/COUNTRY_INFO!E20*100>100,100,T20/COUNTRY_INFO!E20*100), \"-\"),0)","v":0},{"$f":"IF(AND(COUNTRY_INFO!J20>1,COUNTRY_INFO!J20<4),IF(COUNTRY_INFO!F20>MAX('MDA1'!K20,'MDA4'!S20,'T1'!M20,MAX(T3_R1!L20,T3_R2!L20)),MAX('MDA1'!K20,'MDA4'!S20,'T1'!M20,MAX(T3_R1!L20,T3_R2!L20)),COUNTRY_INFO!F20),0)","v":0},{"$f":"IF(AND(COUNTRY_INFO!J20>1,COUNTRY_INFO!J20<4), IF(V20/COUNTRY_INFO!F20*100<>0, IF(V20/COUNTRY_INFO!F20*100>100,100,V20/COUNTRY_INFO!F20*100), \"-\"),0)","v":0},0,{"$f":"IF(AND(COUNTRY_INFO!J20>1,COUNTRY_INFO!J20<4), IF(S20/P20*100<>0, IF(X20/P20*100>100,100,X20/P20*100), \"-\"),0)","v":0},{"$f":"COUNTRY_INFO!P20","v":4512.75},null,null,{"$f":"MAX('T1'!L20,'T2'!J20)+MAX('T1'!M20,'T2'!K20)+MAX('T1'!N20,'T2'!L20)","v":0},{"$f":"IF(COUNTRY_INFO!K20=1,IF(COUNTRY_INFO!F20*0.33>MAX('T1'!M20,'T2'!K20),MAX('T1'!M20,'T2'!K20),COUNTRY_INFO!F20*0.33),IF(COUNTRY_INFO!K20=2,IF(COUNTRY_INFO!F20*0.5>MAX('T1'!M20,'T2'!K20),MAX('T1'!M20,'T2'!K20),COUNTRY_INFO!F20*0.5),IF(COUNTRY_INFO!K20=3,IF(COUNTRY_INFO!F20>MAX('T1'!M20,'T2'!K20),MAX('T1'!M20,'T2'!K20),COUNTRY_INFO!F20),0)))","v":0},{"$f":"IF(AND(COUNTRY_INFO!K20>0,COUNTRY_INFO!K20<4),IF(Z20>0,IF(COUNTRY_INFO!K20=1, AD20/(COUNTRY_INFO!F20*0.33)*100, IF(COUNTRY_INFO!K20=2, AD20/(COUNTRY_INFO!F20*0.5)*100, IF(COUNTRY_INFO!K20=3, AD20/COUNTRY_INFO!F20*100))),\"-\"),0)","v":0},{"$f":"IF(COUNTRY_INFO!K20=2,IF(COUNTRY_INFO!G20*0.2>MAX('T1'!N20,'T2'!L20),MAX('T1'!N20,'T2'!L20),COUNTRY_INFO!G20*0.2),IF(COUNTRY_INFO!K20=3,IF(COUNTRY_INFO!G20>MAX('T1'!N20,'T2'!L20),MAX('T1'!N20,'T2'!L20),COUNTRY_INFO!G20),0))","v":0},{"$f":"IF(AND(COUNTRY_INFO!K20>0,COUNTRY_INFO!K20<4),IF(Z20>0,IF(COUNTRY_INFO!K20=1, 0, IF(COUNTRY_INFO!K20=2, AF20/(COUNTRY_INFO!G20*0.2)*100, IF(COUNTRY_INFO!K20=3, AF20/COUNTRY_INFO!G20*100))),\"-\"),0)","v":0},0,{"$f":"IF(AND(COUNTRY_INFO!K20>0,COUNTRY_INFO!K20<4), IF(AC20/Z20*100<>0, IF(AH20/Z20*100>100,100,AH20/Z20*100), \"-\"),0)","v":"-"},null,{"$f":"IF(AND(D20<>0, D20<>\"Inconnu\",D20<>\"Interrompu\",D20<>\"Non requis\"),D20/COUNTRY_INFO!D20, 0)","v":0},{"$f":"IF(AND(J20<>0,J20<>\"Inconnu\",J20<>\"Interrompu\",J20<>\"Non requis\"),J20/COUNTRY_INFO!D20, 0)","v":0},{"$f":"IF(AND(P20<>0,P20<>\"Inconnu\",P20<>\"Non requis\"),P20/(COUNTRY_INFO!E20+COUNTRY_INFO!F20), 0)","v":0},{"$f":"IF(AND(Z20<>0,Z20<>\"Inconnu\",Z20<>\"Non requis\"),IF(COUNTRY_INFO!K20=1,1,IF(COUNTRY_INFO!K20=2,0.5*COUNTRY_INFO!F20/(0.5*COUNTRY_INFO!F20+0.2*COUNTRY_INFO!G20),IF(COUNTRY_INFO!K20=3,COUNTRY_INFO!F20/(COUNTRY_INFO!F20+COUNTRY_INFO!G20)))),0)","v":1},{"$f":"IF(AND(Z20<>0,Z20<>\"Inconnu\",Z20<>\"Non requis\"),IF(COUNTRY_INFO!K20=1,0,IF(COUNTRY_INFO!K20=2,0.2*COUNTRY_INFO!G20/(0.5*COUNTRY_INFO!F20+0.2*COUNTRY_INFO!G20),IF(COUNTRY_INFO!K20=3,COUNTRY_INFO!G20/(COUNTRY_INFO!F20+COUNTRY_INFO!G20)))),0)","v":0},{"$f":"MAX(COUNTRY_INFO!D20*AK20*PROFILE!$G$7,COUNTRY_INFO!D20*AL20*PROFILE!$G$7)","v":0},{"$f":"MAX(COUNTRY_INFO!D20*AK20*PROFILE!$G$8,COUNTRY_INFO!D20*AL20*PROFILE!$G$8,COUNTRY_INFO!D20*AM20*PROFILE!$G$8)","v":0},{"$f":"MAX(COUNTRY_INFO!D20*AK20*PROFILE!$G$9,COUNTRY_INFO!D20*AL20*PROFILE!$G$9,COUNTRY_INFO!D20*AM20*PROFILE!$G$9,IF(AND(DISTRICT!Z20<>\"Inconnu\",Z20<>\"Non requis\"),COUNTRY_INFO!P20*DISTRICT!AN20,0))","v":4512.75},{"$f":"MAX(COUNTRY_INFO!D20*AK20*PROFILE!$G$10,COUNTRY_INFO!D20*AL20*PROFILE!$G$10,IF(AND(DISTRICT!Z20<>\"Inconnu\",Z20<>\"Non requis\"),COUNTRY_INFO!P20*DISTRICT!AO20,0))","v":0},4512.75,0,{"$f":"MAX('MDA4'!R20,'T1'!L20,'T2'!J20,T3_R1!K20,T3_R2!K20)","v":0},{"$f":"MAX('MDA1'!K20,'MDA4'!S20,'MDA3'!I20,'MDA3'!L20,'T1'!M20,'T2'!K20,T3_R1!L20,T3_R2!L20)","v":0},{"$f":"MAX('MDA1'!L20,'MDA4'!T20,'MDA3'!J20,'MDA3'!M20,'T1'!N20,'T2'!L20,T3_R1!M20,T3_R2!M20)","v":0},0,{"$f":"MAX('MDA4'!R20,T20)","v":0},{"$f":"MAX('MDA1'!K20,'MDA4'!S20,'MDA3'!I20,'MDA3'!L20,V20,AD20)","v":0},{"$f":"MAX('MDA1'!L20,'MDA4'!T20,'MDA3'!J20,'MDA3'!M20,AF20)","v":0},0,0]
[{"$f":"IF(COUNTRY_INFO!A21=0,\" \",COUNTRY_INFO!A21)","v":"Chad"},{"$f":"IF(COUNTRY_INFO!B21=0,\" \",COUNTRY_INFO!B21)","v":"Borkou"},{"$f":"IF(COUNTRY_INFO!C21=0,\" \",COUNTRY_INFO!C21)","v":"Kirdimi"},{"$f":"COUNTRY_INFO!M21","v":0},null,null,{"$f":"MAX('MDA1'!M21,'MDA4'!U21)","v":0},{"$f":"IF(AND(COUNTRY_INFO!H21>0,COUNTRY_INFO!H21<4),IF(D21>MAX('MDA1'!M21,'MDA4'!U21),MAX('MDA1'!M21,'MDA4'!U21),D21),0)","v":0},{"$f":"IF(AND(COUNTRY_INFO!H21>0,COUNTRY_INFO!H21<4), IF(G21/D21*100<>0, IF(G21/D21*100>100,100,G21/D21*100), \"-\"),0)","v":0},{"$f":"COUNTRY_INFO!N21","v":0},null,null,{"$f":"MAX('MDA1'!M21,MAX('MDA3'!I21,'MDA3'!L21)+MAX('MDA3'!J21,'MDA3'!M21))","v":0},{"$f":"IF(AND(COUNTRY_INFO!I21>0,COUNTRY_INFO!I21<4),IF(J21>MAX('MDA1'!M21,MAX('MDA3'!I21,'MDA3'!L21)+MAX('MDA3'!J21,'MDA3'!M21)),MAX('MDA1'!M21,MAX('MDA3'!I21,'MDA3'!L21)+MAX('MDA3'!J21,'MDA3'!M21)),J21),0)","v":0},{"$f":"IF(AND(COUNTRY_INFO!I21>0,COUNTRY_INFO!I21<4), IF(M21/J21*100<>0, IF(M21/J21*100>100,100,M21/J21*100), \"-\"),0)","v":0},{"$f":"COUNTRY_INFO!O21","v":0},null,null,{"$f":"SUM(MAX('MDA4'!R21, 'T1'!L21, MAX(T3_R1!K21, T3_R2!K21)), MAX('MDA1'!K21, 'MDA4'!S21, 'T1'!M21, MAX(T3_R1!L21, T3_R2!L21)), MAX('MDA1'!L21, 'MDA4'!T21, 'T1'!N21, MAX(T3_R1!M21, T3_R2!M21)))","v":0},{"$f":"IF(AND(COUNTRY_INFO!J21>1,COUNTRY_INFO!J21<4),IF(COUNTRY_INFO!E21>MAX('MDA4'!R21,'T1'!L21,MAX(T3_R1!K21,T3_R2!K21)),MAX('MDA4'!R21,'T1'!L21,MAX(T3_R1!K21,T3_R2!K21)),COUNTRY_INFO!E21),0)","v":0},{"$f":"IF(AND(COUNTRY_INFO!J21>1,COUNTRY_INFO!J21<4), IF(T21/COUNTRY_INFO!E21*100<>0, IF(T21/COUNTRY_INFO!E21*100>100,100,T21/COUNTRY_INFO!E21*100), \"-\"),0)","v":0},{"$f":"IF(AND(COUNTRY_INFO!J21>1,COUNTRY_INFO!J21<4),IF(COUNTRY_INFO!F21>MAX('MDA1'!K21,'MDA4'!S21,'T1'!M21,MAX(T3_R1!L21,T3_R2!L21)),MAX('MDA1'!K21,'MDA4'!S21,'T1'!M21,MAX(T3_R1!L21,T3_R2!L21)),COUNTRY_INFO!F21),0)","v":0},{"$f":"IF(AND(COUNTRY_INFO!J21>1,COUNTRY_INFO!J21<4), IF(V21/COUNTRY_INFO!F21*100<>0, IF(V21/COUNTRY_INFO!F21*100>100,100,V21/COUNTRY_INFO!F21*100), \"-\"),0)","v":0},0,{"$f":"IF(AND(COUNTRY_INFO!J21>1,COUNTRY_INFO!J21<4), IF(S21/P21*100<>0, IF(X21/P21*100>100,100,X21/P21*100), \"-\"),0)","v":0},{"$f":"COUNTRY_INFO!P21","v":3970.8900000000003},null,null,{"$f":"MAX('T1'!L21,'T2'!J21)+MAX('T1'!M21,'T2'!K21)+MAX('T1'!N21,'T2'!L21)","v":0},{"$f":"IF(COUNTRY_INFO!K21=1,IF(COUNTRY_INFO!F21*0.33>MAX('T1'!M21,'T2'!K21),MAX('T1'!M21,'T2'!K21),COUNTRY_INFO!F21*0.33),IF(COUNTRY_INFO!K21=2,IF(COUNTRY_INFO!F21*0.5>MAX('T1'!M21,'T2'!K21),MAX('T1'!M21,'T2'!K21),COUNTRY_INFO!F21*0.5),IF(COUNTRY_INFO!K21=3,IF(COUNTRY_INFO!F21>MAX('T1'!M21,'T2'!K21),MAX('T1'!M21,'T2'!K21),COUNTRY_INFO!F21),0)))","v":0},{"$f":"IF(AND(COUNTRY_INFO!K21>0,COUNTRY_INFO!K21<4),IF(Z21>0,IF(COUNTRY_INFO!K21=1, AD21/(COUNTRY_INFO!F21*0.33)*100, IF(COUNTRY_INFO!K21=2, AD21/(COUNTRY_INFO!F21*0.5)*100, IF(COUNTRY_INFO!K21=3, AD21/COUNTRY_INFO!F21*100))),\"-\"),0)","v":0},{"$f":"IF(COUNTRY_INFO!K21=2,IF(COUNTRY_INFO!G21*0.2>MAX('T1'!N21,'T2'!L21),MAX('T1'!N21,'T2'!L21),COUNTRY_INFO!G21*0.2),IF(COUNTRY_INFO!K21=3,IF(COUNTRY_INFO!G21>MAX('T1'!N21,'T2'!L21),MAX('T1'!N21,'T2'!L21),COUNTRY_INFO!G21),0))","v":0},{"$f":"IF(AND(COUNTRY_INFO!K21>0,COUNTRY_INFO!K21<4),IF(Z21>0,IF(COUNTRY_INFO!K21=1, 0, IF(COUNTRY_INFO!K21=2, AF21/(COUNTRY_INFO!G21*0.2)*100, IF(COUNTRY_INFO!K21=3, AF21/COUNTRY_INFO!G21*100))),\"-\"),0)","v":0},0,{"$f":"IF(AND(COUNTRY_INFO!K21>0,COUNTRY_INFO!K21<4), IF(AC21/Z21*100<>0, IF(AH21/Z21*100>100,100,AH21/Z21*100), \"-\"),0)","v":"-"},null,{"$f":"IF(AND(D21<>0, D21<>\"Inconnu\",D21<>\"Interrompu\",D21<>\"Non requis\"),D21/COUNTRY_INFO!D21, 0)","v":0},{"$f":"IF(AND(J21<>0,J21<>\"Inconnu\",J21<>\"Interrompu\",J21<>\"Non requis\"),J21/COUNTRY_INFO!D21, 0)","v":0},{"$f":"IF(AND(P21<>0,P21<>\"Inconnu\",P21<>\"Non requis\"),P21/(COUNTRY_INFO!E21+COUNTRY_INFO!F21), 0)","v":0},{"$f":"IF(AND(Z21<>0,Z21<>\"Inconnu\",Z21<>\"Non requis\"),IF(COUNTRY_INFO!K21=1,1,IF(COUNTRY_INFO!K21=2,0.5*COUNTRY_INFO!F21/(0.5*COUNTRY_INFO!F21+0.2*COUNTRY_INFO!G21),IF(COUNTRY_INFO!K21=3,COUNTRY_INFO!F21/(COUNTRY_INFO!F21+COUNTRY_INFO!G21)))),0)","v":1},{"$f":"IF(AND(Z21<>0,Z21<>\"Inconnu\",Z21<>\"Non requis\"),IF(COUNTRY_INFO!K21=1,0,IF(COUNTRY_INFO!K21=2,0.2*COUNTRY_INFO!G21/(0.5*COUNTRY_INFO!F21+0.2*COUNTRY_INFO!G21),IF(COUNTRY_INFO!K21=3,COUNTRY_INFO!G21/(COUNTRY_INFO!F21+COUNTRY_INFO!G21)))),0)","v":0},{"$f":"MAX(COUNTRY_INFO!D21*AK21*PROFILE!$G$7,COUNTRY_INFO!D21*AL21*PROFILE!$G$7)","v":0},{"$f":"MAX(COUNTRY_INFO!D21*AK21*PROFILE!$G$8,COUNTRY_INFO!D21*AL21*PROFILE!$G$8,COUNTRY_INFO!D21*AM21*PROFILE!$G$8)","v":0},{"$f":"MAX(COUNTRY_INFO!D21*AK21*PROFILE!$G$9,COUNTRY_INFO!D21*AL21*PROFILE!$G$9,COUNTRY_INFO!D21*AM21*PROFILE!$G$9,IF(AND(DISTRICT!Z21<>\"Inconnu\",Z21<>\"Non requis\"),COUNTRY_INFO!P21*DISTRICT!AN21,0))","v":3970.8900000000003},{"$f":"MAX(COUNTRY_INFO!D21*AK21*PROFILE!$G$10,COUNTRY_INFO!D21*AL21*PROFILE!$G$10,IF(AND(DISTRICT!Z21<>\"Inconnu\",Z21<>\"Non requis\"),COUNTRY_INFO!P21*DISTRICT!AO21,0))","v":0},3970.8900000000003,0,{"$f":"MAX('MDA4'!R21,'T1'!L21,'T2'!J21,T3_R1!K21,T3_R2!K21)","v":0},{"$f":"MAX('MDA1'!K21,'MDA4'!S21,'MDA3'!I21,'MDA3'!L21,'T1'!M21,'T2'!K21,T3_R1!L21,T3_R2!L21)","v":0},{"$f":"MAX('MDA1'!L21,'MDA4'!T21,'MDA3'!J21,'MDA3'!M21,'T1'!N21,'T2'!L21,T3_R1!M21,T3_R2!M21)","v":0},0,{"$f":"MAX('MDA4'!R21,T21)","v":0},{"$f":"MAX('MDA1'!K21,'MDA4'!S21,'MDA3'!I21,'MDA3'!L21,V21,AD21)","v":0},{"$f":"MAX('MDA1'!L21,'MDA4'!T21,'MDA3'!J21,'MDA3'!M21,AF21)","v":0},0,0]
[{"$f":"IF(COUNTRY_INFO!A22=0,\" \",COUNTRY_INFO!A22)","v":"Chad"},{"$f":"IF(COUNTRY_INFO!B22=0,\" \",COUNTRY_INFO!B22)","v":"Borkou"},{"$f":"IF(COUNTRY_INFO!C22=0,\" \",COUNTRY_INFO!C22)","v":"Kouba Olanga"},{"$f":"COUNTRY_INFO!M22","v":0},null,null,{"$f":"MAX('MDA1'!M22,'MDA4'!U22)","v":0},{"$f":"IF(AND(COUNTRY_INFO!H22>0,COUNTRY_INFO!H22<4),IF(D22>MAX('MDA1'!M22,'MDA4'!U22),MAX('MDA1'!M22,'MDA4'!U22),D22),0)","v":0},{"$f":"IF(AND(COUNTRY_INFO!H22>0,COUNTRY_INFO!H22<4), IF(G22/D22*100<>0, IF(G22/D22*100>100,100,G22/D22*100), \"-\"),0)","v":0},{"$f":"COUNTRY_INFO!N22","v":0},null,null,{"$f":"MAX('MDA1'!M22,MAX('MDA3'!I22,'MDA3'!L22)+MAX('MDA3'!J22,'MDA3'!M22))","v":0},{"$f":"IF(AND(COUNTRY_INFO!I22>0,COUNTRY_INFO!I22<4),IF(J22>MAX('MDA1'!M22,MAX('MDA3'!I22,'MDA3'!L22)+MAX('MDA3'!J22,'MDA3'!M22)),MAX('MDA1'!M22,MAX('MDA3'!I22,'MDA3'!L22)+MAX('MDA3'!J22,'MDA3'!M22)),J22),0)","v":0},{"$f":"IF(AND(COUNTRY_INFO!I22>0,COUNTRY_INFO!I22<4), IF(M22/J22*100<>0, IF(M22/J22*100>100,100,M22/J22*100), \"-\"),0)","v":0},{"$f":"COUNTRY_INFO!O22","v":0},null,null,{"$f":"SUM(MAX('MDA4'!R22, 'T1'!L22, MAX(T3_R1!K22, T3_R2!K22)), MAX('MDA1'!K22, 'MDA4'!S22, 'T1'!M22, MAX(T3_R1!L22, T3_R2!L22)), MAX('MDA1'!L22, 'MDA4'!T22, 'T1'!N22, MAX(T3_R1!M22, T3_R2!M22)))","v":0},{"$f":"IF(AND(COUNTRY_INFO!J22>1,COUNTRY_INFO!J22<4),IF(COUNTRY_INFO!E22>MAX('MDA4'!R22,'T1'!L22,MAX(T3_R1!K22,T3_R2!K22)),MAX('MDA4'!R22,'T1'!L22,MAX(T3_R1!K22,T3_R2!K22)),COUNTRY_INFO!E22),0)","v":0},{"$f":"IF(AND(COUNTRY_INFO!J22>1,COUNTRY_INFO!J22<4), IF(T22/COUNTRY_INFO!E22*100<>0, IF(T22/COUNTRY_INFO!E22*100>100,100,T22/COUNTRY_INFO!E22*100), \"-\"),0)","v":0},{"$f":"IF(AND(COUNTRY_INFO!J22>1,COUNTRY_INFO!J22<4),IF(COUNTRY_INFO!F22>MAX('MDA1'!K22,'MDA4'!S22,'T1'!M22,MAX(T3_R1!L22,T3_R2!L22)),MAX('MDA1'!K22,'MDA4'!S22,'T1'!M22,MAX(T3_R1!L22,T3_R2!L22)),COUNTRY_INFO!F22),0)","v":0},{"$f":"IF(AND(COUNTRY_INFO!J22>1,COUNTRY_INFO!J22<4), IF(V22/COUNTRY_INFO!F22*100<>0, IF(V22/COUNTRY_INFO!F22*100>100,100,V22/COUNTRY_INFO!F22*100), \"-\"),0)","v":0},0,{"$f":"IF(AND(COUNTRY_INFO!J22>1,COUNTRY_INFO!J22<4), IF(S22/P22*100<>0, IF(X22/P22*100>100,100,X22/P22*100), \"-\"),0)","v":0},{"$f":"COUNTRY_INFO!P22","v":5623.5300000000007},null,null,{"$f":"MAX('T1'!L22,'T2'!J22)+MAX('T1'!M22,'T2'!K22)+MAX('T1'!N22,'T2'!L22)","v":0},{"$f":"IF(COUNTRY_INFO!K22=1,IF(COUNTRY_INFO!F22*0.33>MAX('T1'!M22,'T2'!K22),MAX('T1'!M22,'T2'!K22),COUNTRY_INFO!F22*0.33),IF(COUNTRY_INFO!K22=2,IF(COUNTRY_INFO!F22*0.5>MAX('T1'!M22,'T2'!K22),MAX('T1'!M22,'T2'!K22),COUNTRY_INFO!F22*0.5),IF(COUNTRY_INFO!K22=3,IF(COUNTRY_INFO!F22>MAX('T1'!M22,'T2'!K22),MAX('T1'!M22,'T2'!K22),COUNTRY_INFO!F22),0)))","v":0},{"$f":"IF(AND(COUNTRY_INFO!K22>0,COUNTRY_INFO!K22<4),IF(Z22>0,IF(COUNTRY_INFO!K22=1, AD22/(COUNTRY_INFO!F22*0.33)*100, IF(COUNTRY_INFO!K22=2, AD22/(COUNTRY_INFO!F22*0.5)*100, IF(COUNTRY_INFO!K22=3, AD22/COUNTRY_INFO!F22*100))),\"-\"),0)","v":0},{"$f":"IF(COUNTRY_INFO!K22=2,IF(COUNTRY_INFO!G22*0.2>MAX('T1'!N22,'T2'!L22),MAX('T1'!N22,'T2'!L22),COUNTRY_INFO!G22*0.2),IF(COUNTRY_INFO!K22=3,IF(COUNTRY_INFO!G22>MAX('T1'!N22,'T2'!L22),MAX('T1'!N22,'T2'!L22),COUNTRY_INFO!G22),0))","v":0},{"$f":"IF(AND(COUNTRY_INFO!K22>0,COUNTRY_INFO!K22<4),IF(Z22>0,IF(COUNTRY_INFO!K22=1, 0, IF(COUNTRY_INFO!K22=2, AF22/(COUNTRY_INFO!G22*0.2)*100, IF(COUNTRY_INFO!K22=3, AF22/COUNTRY_INFO!G22*100))),\"-\"),0)","v":0},0,{"$f":"IF(AND(COUNTRY_INFO!K22>0,COUNTRY_INFO!K22<4), IF(AC22/Z22*100<>0, IF(AH22/Z22*100>100,100,AH22/Z22*100), \"-\"),0)","v":"-"},null,{"$f":"IF(AND(D22<>0, D22<>\"Inconnu\",D22<>\"Interrompu\",D22<>\"Non requis\"),D22/COUNTRY_INFO!D22, 0)","v":0},{"$f":"IF(AND(J22<>0,J22<>\"Inconnu\",J22<>\"Interrompu\",J22<>\"Non requis\"),J22/COUNTRY_INFO!D22, 0)","v":0},{"$f":"IF(AND(P22<>0,P22<>\"Inconnu\",P22<>\"Non requis\"),P22/(COUNTRY_INFO!E22+COUNTRY_INFO!F22), 0)","v":0},{"$f":"IF(AND(Z22<>0,Z22<>\"Inconnu\",Z22<>\"Non requis\"),IF(COUNTRY_INFO!K22=1,1,IF(COUNTRY_INFO!K22=2,0.5*COUNTRY_INFO!F22/(0.5*COUNTRY_INFO!F22+0.2*COUNTRY_INFO!G22),IF(COUNTRY_INFO!K22=3,COUNTRY_INFO!F22/(COUNTRY_INFO!F22+COUNTRY_INFO!G22)))),0)","v":1},{"$f":"IF(AND(Z22<>0,Z22<>\"Inconnu\",Z22<>\"Non requis\"),IF(COUNTRY_INFO!K22=1,0,IF(COUNTRY_INFO!K22=2,0.2*COUNTRY_INFO!G22/(0.5*COUNTRY_INFO!F22+0.2*COUNTRY_INFO!G22),IF(COUNTRY_INFO!K22=3,COUNTRY_INFO!G22/(COUNTRY_INFO!F22+COUNTRY_INFO!G22)))),0)","v":0},{"$f":"MAX(COUNTRY_INFO!D22*AK22*PROFILE!$G$7,COUNTRY_INFO!D22*AL22*PROFILE!$G$7)","v":0},{"$f":"MAX(COUNTRY_INFO!D22*AK22*PROFILE!$G$8,COUNTRY_INFO!D22*AL22*PROFILE!$G$8,COUNTRY_INFO!D22*AM22*PROFILE!$G$8)","v":0},{"$f":"MAX(COUNTRY_INFO!D22*AK22*PROFILE!$G$9,COUNTRY_INFO!D22*AL22*PROFILE!$G$9,COUNTRY_INFO!D22*AM22*PROFILE!$G$9,IF(AND(DISTRICT!Z22<>\"Inconnu\",Z22<>\"Non requis\"),COUNTRY_INFO!P22*DISTRICT!AN22,0))","v":5623.5300000000007},{"$f":"MAX(COUNTRY_INFO!D22*AK22*PROFILE!$G$10,COUNTRY_INFO!D22*AL22*PROFILE!$G$10,IF(AND(DISTRICT!Z22<>\"Inconnu\",Z22<>\"Non requis\"),COUNTRY_INFO!P22*DISTRICT!AO22,0))","v":0},5623.5300000000007,0,{"$f":"MAX('MDA4'!R22,'T1'!L22,'T2'!J22,T3_R1!K22,T3_R2!K22)","v":0},{"$f":"MAX('MDA1'!K22,'MDA4'!S22,'MDA3'!I22,'MDA3'!L22,'T1'!M22,'T2'!K22,T3_R1!L22,T3_R2!L22)","v":0},{"$f":"MAX('MDA1'!L22,'MDA4'!T22,'MDA3'!J22,'MDA3'!M22,'T1'!N22,'T2'!L22,T3_R1!M22,T3_R2!M22)","v":0},0,{"$f":"MAX('MDA4'!R22,T22)","v":0},{"$f":"MAX('MDA1'!K22,'MDA4'!S22,'MDA3'!I22,'MDA3'!L22,V22,AD22)","v":0},{"$f":"MAX('MDA1'!L22,'MDA4'!T22,'MDA3'!J22,'MDA3'!M22,AF22)","v":0},0,0]
[{"$f":"IF(COUNTRY_INFO!A23=0,\" \",COUNTRY_INFO!A23)","v":"Chad"},{"$f":"IF(COUNTRY_INFO!B23=0,\" \",COUNTRY_INFO!B23)","v":"Chari  Baguirmi"},{"$f":"IF(COUNTRY_INFO!C23=0,\" \",COUNTRY_INFO!C23)","v":"Ba-Illi"},{"$f":"COUNTRY_INFO!M23","v":0},null,null,{"$f":"MAX('MDA1'!M23,'MDA4'!U23)","v":0},{"$f":"IF(AND(COUNTRY_INFO!H23>0,COUNTRY_INFO!H23<4),IF(D23>MAX('MDA1'!M23,'MDA4'!U23),MAX('MDA1'!M23,'MDA4'!U23),D23),0)","v":0},{"$f":"IF(AND(COUNTRY_INFO!H23>0,COUNTRY_INFO!H23<4), IF(G23/D23*100<>0, IF(G23/D23*100>100,100,G23/D23*100), \"-\"),0)","v":0},{"$f":"COUNTRY_INFO!N23","v":"Inconnu"},null,null,{"$f":"MAX('MDA1'!M23,MAX('MDA3'!I23,'MDA3'!L23)+MAX('MDA3'!J23,'MDA3'!M23))","v":0},{"$f":"IF(AND(COUNTRY_INFO!I23>0,COUNTRY_INFO!I23<4),IF(J23>MAX('MDA1'!M23,MAX('MDA3'!I23,'MDA3'!L23)+MAX('MDA3'!J23,'MDA3'!M23)),MAX('MDA1'!M23,MAX('MDA3'!I23,'MDA3'!L23)+MAX('MDA3'!J23,'MDA3'!M23)),J23),0)","v":0},{"$f":"IF(AND(COUNTRY_INFO!I23>0,COUNTRY_INFO!I23<4), IF(M23/J23*100<>0, IF(M23/J23*100>100,100,M23/J23*100), \"-\"),0)","v":0},{"$f":"COUNTRY_INFO!O23","v":0},null,null,{"$f":"SUM(MAX('MDA4'!R23, 'T1'!L23, MAX(T3_R1!K23, T3_R2!K23)), MAX('MDA1'!K23, 'MDA4'!S23, 'T1'!M23, MAX(T3_R1!L23, T3_R2!L23)), MAX('MDA1'!L23, 'MDA4'!T23, 'T1'!N23, MAX(T3_R1!M23, T3_R2!M23)))","v":0},{"$f":"IF(AND(COUNTRY_INFO!J23>1,COUNTRY_INFO!J23<4),IF(COUNTRY_INFO!E23>MAX('MDA4'!R23,'T1'!L23,MAX(T3_R1!K23,T3_R2!K23)),MAX('MDA4'!R23,'T1'!L23,MAX(T3_R1!K23,T3_R2!K23)),COUNTRY_INFO!E23),0)","v":0},{"$f":"IF(AND(COUNTRY_INFO!J23>1,COUNTRY_INFO!J23<4), IF(T23/COUNTRY_INFO!E23*100<>0, IF(T23/COUNTRY_INFO!E23*100>100,100,T23/COUNTRY_INFO!E23*100), \"-\"),0)","v":0},{"$f":"IF(AND(COUNTRY_INFO!J23>1,COUNTRY_INFO!J23<4),IF(COUNTRY_INFO!F23>MAX('MDA1'!K23,'MDA4'!S23,'T1'!M23,MAX(T3_R1!L23,T3_R2!L23)),MAX('MDA1'!K23,'MDA4'!S23,'T1'!M23,MAX(T3_R1!L23,T3_R2!L23)),COUNTRY_INFO!F23),0)","v":0},{"$f":"IF(AND(COUNTRY_INFO!J23>1,COUNTRY_INFO!J23<4), IF(V23/COUNTRY_INFO!F23*100<>0, IF(V23/COUNTRY_INFO!F23*100>100,100,V23/COUNTRY_INFO!F23*100), \"-\"),0)","v":0},0,{"$f":"IF(AND(COUNTRY_INFO!J23>1,COUNTRY_INFO!J23<4), IF(S23/P23*100<>0, IF(X23/P23*100>100,100,X23/P23*100), \"-\"),0)","v":0},{"$f":"COUNTRY_INFO!P23","v":25321.200000000001},null,null,{"$f":"MAX('T1'!L23,'T2'!J23)+MAX('T1'!M23,'T2'!K23)+MAX('T1'!N23,'T2'!L23)","v":0},{"$f":"IF(COUNTRY_INFO!K23=1,IF(COUNTRY_INFO!F23*0.33>MAX('T1'!M23,'T2'!K23),MAX('T1'!M23,'T2'!K23),COUNTRY_INFO!F23*0.33),IF(COUNTRY_INFO!K23=2,IF(COUNTRY_INFO!F23*0.5>MAX('T1'!M23,'T2'!K23),MAX('T1'!M23,'T2'!K23),COUNTRY_INFO!F23*0.5),IF(COUNTRY_INFO!K23=3,IF(COUNTRY_INFO!F23>MAX('T1'!M23,'T2'!K23),MAX('T1'!M23,'T2'!K23),COUNTRY_INFO!F23),0)))","v":0},{"$f":"IF(AND(COUNTRY_INFO!K23>0,COUNTRY_INFO!K23<4),IF(Z23>0,IF(COUNTRY_INFO!K23=1, AD23/(COUNTRY_INFO!F23*0.33)*100, IF(COUNTRY_INFO!K23=2, AD23/(COUNTRY_INFO!F23*0.5)*100, IF(COUNTRY_INFO!K23=3, AD23/COUNTRY_INFO!F23*100))),\"-\"),0)","v":0},{"$f":"IF(COUNTRY_INFO!K23=2,IF(COUNTRY_INFO!G23*0.2>MAX('T1'!N23,'T2'!L23),MAX('T1'!N23,'T2'!L23),COUNTRY_INFO!G23*0.2),IF(COUNTRY_INFO!K23=3,IF(COUNTRY_INFO!G23>MAX('T1'!N23,'T2'!L23),MAX('T1'!N23,'T2'!L23),COUNTRY_INFO!G23),0))","v":0},{"$f":"IF(AND(COUNTRY_INFO!K23>0,COUNTRY_INFO!K23<4),IF(Z23>0,IF(COUNTRY_INFO!K23=1, 0, IF(COUNTRY_INFO!K23=2, AF23/(COUNTRY_INFO!G23*0.2)*100, IF(COUNTRY_INFO!K23=3, AF23/COUNTRY_INFO!G23*100))),\"-\"),0)","v":0},0,{"$f":"IF(AND(COUNTRY_INFO!K23>0,COUNTRY_INFO!K23<4), IF(AC23/Z23*100<>0, IF(AH23/Z23*100>100,100,AH23/Z23*100), \"-\"),0)","v":"-"},null,{"$f":"IF(AND(D23<>0, D23<>\"Inconnu\",D23<>\"Interrompu\",D23<>\"Non requis\"),D23/COUNTRY_INFO!D23, 0)","v":0},{"$f":"IF(AND(J23<>0,J23<>\"Inconnu\",J23<>\"Interrompu\",J23<>\"Non requis\"),J23/COUNTRY_INFO!D23, 0)","v":0},{"$f":"IF(AND(P23<>0,P23<>\"Inconnu\",P23<>\"Non requis\"),P23/(COUNTRY_INFO!E23+COUNTRY_INFO!F23), 0)","v":0},{"$f":"IF(AND(Z23<>0,Z23<>\"Inconnu\",Z23<>\"Non requis\"),IF(COUNTRY_INFO!K23=1,1,IF(COUNTRY_INFO!K23=2,0.5*COUNTRY_INFO!F23/(0.5*COUNTRY_INFO!F23+0.2*COUNTRY_INFO!G23),IF(COUNTRY_INFO!K23=3,COUNTRY_INFO!F23/(COUNTRY_INFO!F23+COUNTRY_INFO!G23)))),0)","v":0.60542154400265391},{"$f":"IF(AND(Z23<>0,Z23<>\"Inconnu\",Z23<>\"Non requis\"),IF(COUNTRY_INFO!K23=1,0,IF(COUNTRY_INFO!K23=2,0.2*COUNTRY_INFO!G23/(0.5*COUNTRY_INFO!F23+0.2*COUNTRY_INFO!G23),IF(COUNTRY_INFO!K23=3,COUNTRY_INFO!G23/(COUNTRY_INFO!F23+COUNTRY_INFO!G23)))),0)","v":0.39457845599734609},{"$f":"MAX(COUNTRY_INFO!D23*AK23*PROFILE!$G$7,COUNTRY_INFO!D23*AL23*PROFILE!$G$7)","v":0},{"$f":"MAX(COUNTRY_INFO!D23*AK23*PROFILE!$G$8,COUNTRY_INFO!D23*AL23*PROFILE!$G$8,COUNTRY_INFO!D23*AM23*PROFILE!$G$8)","v":0},{"$f":"MAX(COUNTRY_INFO!D23*AK23*PROFILE!$G$9,COUNTRY_INFO!D23*AL23*PROFILE!$G$9,COUNTRY_INFO!D23*AM23*PROFILE!$G$9,IF(AND(DISTRICT!Z23<>\"Inconnu\",Z23<>\"Non requis\"),COUNTRY_INFO!P23*DISTRICT!AN23,0))","v":15330},{"$f":"MAX(COUNTRY_INFO!D23*AK23*PROFILE!$G$10,COUNTRY_INFO!D23*AL23*PROFILE!$G$10,IF(AND(DISTRICT!Z23<>\"Inconnu\",Z23<>\"Non requis\"),COUNTRY_INFO!P23*DISTRICT!AO23,0))","v":9991.2000000000007},25321.200000000001,0,{"$f":"MAX('MDA4'!R23,'T1'!L23,'T2'!J23,T3_R1!K23,T3_R2!K23)","v":0},{"$f":"MAX('MDA1'!K23,'MDA4'!S23,'MDA3'!I23,'MDA3'!L23,'T1'!M23,'T2'!K23,T3_R1!L23,T3_R2!L23)","v":0},{"$f":"MAX('MDA1'!L23,'MDA4'!T23,'MDA3'!J23,'MDA3'!M23,'T1'!N23,'T2'!L23,T3_R1!M23,T3_R2!M23)","v":0},0,{"$f":"MAX('MDA4'!R23,T23)","v":0},{"$f":"MAX('MDA1'!K23,'MDA4'!S23,'MDA3'!I23,'MDA3'!L23,V23,AD23)","v":0},{"$f":"MAX('MDA1'!L23,'MDA4'!T23,'MDA3'!J23,'MDA3'!M23,AF23)","v":0},0,0]
[{"$f":"IF(COUNTRY_INFO!A24=0,\" \",COUNTRY_INFO!A24)","v":"Chad"},{"$f":"IF(COUNTRY_INFO!B24=0,\" \",COUNTRY_INFO!B24)","v":"Chari  Baguirmi"},{"$f":"IF(COUNTRY_INFO!C24=0,\" \",COUNTRY_INFO!C24)","v":"Bousso"},{"$f":"COUNTRY_INFO!M24","v":0},null,null,{"$f":"MAX('MDA1'!M24,'MDA4'!U24)","v":0},{"$f":"IF(AND(COUNTRY_INFO!H24>0,COUNTRY_INFO!H24<4),IF(D24>MAX('MDA1'!M24,'MDA4'!U24),MAX('MDA1'!M24,'MDA4'!U24),D24),0)","v":0},{"$f":"IF(AND(COUNTRY_INFO!H24>0,COUNTRY_INFO!H24<4), IF(G24/D24*100<>0, IF(G24/D24*100>100,100,G24/D24*100), \"-\"),0)","v":0},{"$f":"COUNTRY_INFO!N24","v":"Inconnu"},null,null,{"$f":"MAX('MDA1'!M24,MAX('MDA3'!I24,'MDA3'!L24)+MAX('MDA3'!J24,'MDA3'!M24))","v":0},{"$f":"IF(AND(COUNTRY_INFO!I24>0,COUNTRY_INFO!I24<4),IF(J24>MAX('MDA1'!M24,MAX('MDA3'!I24,'MDA3'!L24)+MAX('MDA3'!J24,'MDA3'!M24)),MAX('MDA1'!M24,MAX('MDA3'!I24,'MDA3'!L24)+MAX('MDA3'!J24,'MDA3'!M24)),J24),0)","v":0},{"$f":"IF(AND(COUNTRY_INFO!I24>0,COUNTRY_INFO!I24<4), IF(M24/J24*100<>0, IF(M24/J24*100>100,100,M24/J24*100), \"-\"),0)","v":0},{"$f":"COUNTRY_INFO!O24","v":0},null,null,{"$f":"SUM(MAX('MDA4'!R24, 'T1'!L24, MAX(T3_R1!K24, T3_R2!K24)), MAX('MDA1'!K24, 'MDA4'!S24, 'T1'!M24, MAX(T3_R1!L24, T3_R2!L24)), MAX('MDA1'!L24, 'MDA4'!T24, 'T1'!N24, MAX(T3_R1!M24, T3_R2!M24)))","v":0},{"$f":"IF(AND(COUNTRY_INFO!J24>1,COUNTRY_INFO!J24<4),IF(COUNTRY_INFO!E24>MAX('MDA4'!R24,'T1'!L24,MAX(T3_R1!K24,T3_R2!K24)),MAX('MDA4'!R24,'T1'!L24,MAX(T3_R1!K24,T3_R2!K24)),COUNTRY_INFO!E24),0)","v":0},{"$f":"IF(AND(COUNTRY_INFO!J24>1,COUNTRY_INFO!J24<4), IF(T24/COUNTRY_INFO!E24*100<>0, IF(T24/COUNTRY_INFO!E24*100>100,100,T24/COUNTRY_INFO!E24*100), \"-\"),0)","v":0},{"$f":"IF(AND(COUNTRY_INFO!J24>1,COUNTRY_INFO!J24<4),IF(COUNTRY_INFO!F24>MAX('MDA1'!K24,'MDA4'!S24,'T1'!M24,MAX(T3_R1!L24,T3_R2!L24)),MAX('MDA1'!K24,'MDA4'!S24,'T1'!M24,MAX(T3_R1!L24,T3_R2!L24)),COUNTRY_INFO!F24),0)","v":0},{"$f":"IF(AND(COUNTRY_INFO!J24>1,COUNTRY_INFO!J24<4), IF(V24/COUNTRY_INFO!F24*100<>0, IF(V24/COUNTRY_INFO!F24*100>100,100,V24/COUNTRY_INFO!F24*100), \"-\"),0)","v":0},0,{"$f":"IF(AND(COUNTRY_INFO!J24>1,COUNTRY_INFO!J24<4), IF(S24/P24*100<>0, IF(X24/P24*100>100,100,X24/P24*100), \"-\"),0)","v":0},{"$f":"COUNTRY_INFO!P24","v":40539.300000000003},null,null,{"$f":"MAX('T1'!L24,'T2'!J24)+MAX('T1'!M24,'T2'!K24)+MAX('T1'!N24,'T2'!L24)","v":0},{"$f":"IF(COUNTRY_INFO!K24=1,IF(COUNTRY_INFO!F24*0.33>MAX('T1'!M24,'T2'!K24),MAX('T1'!M24,'T2'!K24),COUNTRY_INFO!F24*0.33),IF(COUNTRY_INFO!K24=2,IF(COUNTRY_INFO!F24*0.5>MAX('T1'!M24,'T2'!K24),MAX('T1'!M24,'T2'!K24),COUNTRY_INFO!F24*0.5),IF(COUNTRY_INFO!K24=3,IF(COUNTRY_INFO!F24>MAX('T1'!M24,'T2'!K24),MAX('T1'!M24,'T2'!K24),COUNTRY_INFO!F24),0)))","v":0},{"$f":"IF(AND(COUNTRY_INFO!K24>0,COUNTRY_INFO!K24<4),IF(Z24>0,IF(COUNTRY_INFO!K24=1, AD24/(COUNTRY_INFO!F24*0.33)*100, IF(COUNTRY_INFO!K24=2, AD24/(COUNTRY_INFO!F24*0.5)*100, IF(COUNTRY_INFO!K24=3, AD24/COUNTRY_INFO!F24*100))),\"-\"),0)","v":0},{"$f":"IF(COUNTRY_INFO!K24=2,IF(COUNTRY_INFO!G24*0.2>MAX('T1'!N24,'T2'!L24),MAX('T1'!N24,'T2'!L24),COUNTRY_INFO!G24*0.2),IF(COUNTRY_INFO!K24=3,IF(COUNTRY_INFO!G24>MAX('T1'!N24,'T2'!L24),MAX('T1'!N24,'T2'!L24),COUNTRY_INFO!G24),0))","v":0},{"$f":"IF(AND(COUNTRY_INFO!K24>0,COUNTRY_INFO!K24<4),IF(Z24>0,IF(COUNTRY_INFO!K24=1, 0, IF(COUNTRY_INFO!K24=2, AF24/(COUNTRY_INFO!G24*0.2)*100, IF(COUNTRY_INFO!K24=3, AF24/COUNTRY_INFO!G24*100))),\"-\"),0)","v":0},0,{"$f":"IF(AND(COUNTRY_INFO!K24>0,COUNTRY_INFO!K24<4), IF(AC24/Z24*100<>0, IF(AH24/Z24*100>100,100,AH24/Z24*100), \"-\"),0)","v":"-"},null,{"$f":"IF(AND(D24<>0, D24<>\"Inconnu\",D24<>\"Interrompu\",D24<>\"Non requis\"),D24/COUNTRY_INFO!D24, 0)","v":0},{"$f":"IF(AND(J24<>0,J24<>\"Inconnu\",J24<>\"Interrompu\",J24<>\"Non requis\"),J24/COUNTRY_INFO!D24, 0)","v":0},{"$f":"IF(AND(P24<>0,P24<>\"Inconnu\",P24<>\"Non requis\"),P24/(COUNTRY_INFO!E24+COUNTRY_INFO!F24), 0)","v":0},{"$f":"IF(AND(Z24<>0,Z24<>\"Inconnu\",Z24<>\"Non requis\"),IF(COUNTRY_INFO!K24=1,1,IF(COUNTRY_INFO!K24=2,0.5*COUNTRY_INFO!F24/(0.5*COUNTRY_INFO!F24+0.2*COUNTRY_INFO!G24),IF(COUNTRY_INFO!K24=3,COUNTRY_INFO!F24/(COUNTRY_INFO!F24+COUNTRY_INFO!G24)))),0)","v":0.6054248593340289},{"$f":"IF(AND(Z24<>0,Z24<>\"Inconnu\",Z24<>\"Non requis\"),IF(COUNTRY_INFO!K24=1,0,IF(COUNTRY_INFO!K24=2,0.2*COUNTRY_INFO!G24/(0.5*COUNTRY_INFO!F24+0.2*COUNTRY_INFO!G24),IF(COUNTRY_INFO!K24=3,COUNTRY_INFO!G24/(COUNTRY_INFO!F24+COUNTRY_INFO!G24)))),0)","v":0.39457514066597105},{"$f":"MAX(COUNTRY_INFO!D24*AK24*PROFILE!$G$7,COUNTRY_INFO!D24*AL24*PROFILE!$G$7)","v":0},{"$f":"MAX(COUNTRY_INFO!D24*AK24*PROFILE!$G$8,COUNTRY_INFO!D24*AL24*PROFILE!$G$8,COUNTRY_INFO!D24*AM24*PROFILE!$G$8)","v":0},{"$f":"MAX(COUNTRY_INFO!D24*AK24*PROFILE!$G$9,COUNTRY_INFO!D24*AL24*PROFILE!$G$9,COUNTRY_INFO!D24*AM24*PROFILE!$G$9,IF(AND(DISTRICT!Z24<>\"Inconnu\",Z24<>\"Non requis\"),COUNTRY_INFO!P24*DISTRICT!AN24,0))","v":24543.5},{"$f":"MAX(COUNTRY_INFO!D24*AK24*PROFILE!$G$10,COUNTRY_INFO!D24*AL24*PROFILE!$G$10,IF(AND(DISTRICT!Z24<>\"Inconnu\",Z24<>\"Non requis\"),COUNTRY_INFO!P24*DISTRICT!AO24,0))","v":15995.800000000001},40539.300000000003,0,{"$f":"MAX('MDA4'!R24,'T1'!L24,'T2'!J24,T3_R1!K24,T3_R2!K24)","v":0},{"$f":"MAX('MDA1'!K24,'MDA4'!S24,'MDA3'!I24,'MDA3'!L24,'T1'!M24,'T2'!K24,T3_R1!L24,T3_R2!L24)","v":0},{"$f":"MAX('MDA1'!L24,'MDA4'!T24,'MDA3'!J24,'MDA3'!M24,'T1'!N24,'T2'!L24,T3_R1!M24,T3_R2!M24)","v":0},0,{"$f":"MAX('MDA4'!R24,T24)","v":0},{"$f":"MAX('MDA1'!K24,'MDA4'!S24,'MDA3'!I24,'MDA3'!L24,V24,AD24)","v":0},{"$f":"MAX('MDA1'!L24,'MDA4'!T24,'MDA3'!J24,'MDA3'!M24,AF24)","v":0},0,0]
[{"$f":"IF(COUNTRY_INFO!A25=0,\" \",COUNTRY_INFO!A25)","v":"Chad"},{"$f":"IF(COUNTRY_INFO!B25=0,\" \",COUNTRY_INFO!B25)","v":"Chari  Baguirmi"},{"$f":"IF(COUNTRY_INFO!C25=0,\" \",COUNTRY_INFO!C25)","v":"Dourbali"},{"$f":"COUNTRY_INFO!M25","v":0},null,null,{"$f":"MAX('MDA1'!M25,'MDA4'!U25)","v":0},{"$f":"IF(AND(COUNTRY_INFO!H25>0,COUNTRY_INFO!H25<4),IF(D25>MAX('MDA1'!M25,'MDA4'!U25),MAX('MDA1'!M25,'MDA4'!U25),D25),0)","v":0},{"$f":"IF(AND(COUNTRY_INFO!H25>0,COUNTRY_INFO!H25<4), IF(G25/D25*100<>0, IF(G25/D25*100>100,100,G25/D25*100), \"-\"),0)","v":0},{"$f":"COUNTRY_INFO!N25","v":"Inconnu"},null,null,{"$f":"MAX('MDA1'!M25,MAX('MDA3'!I25,'MDA3'!L25)+MAX('MDA3'!J25,'MDA3'!M25))","v":0},{"$f":"IF(AND(COUNTRY_INFO!I25>0,COUNTRY_INFO!I25<4),IF(J25>MAX('MDA1'!M25,MAX('MDA3'!I25,'MDA3'!L25)+MAX('MDA3'!J25,'MDA3'!M25)),MAX('MDA1'!M25,MAX('MDA3'!I25,'MDA3'!L25)+MAX('MDA3'!J25,'MDA3'!M25)),J25),0)","v":0},{"$f":"IF(AND(COUNTRY_INFO!I25>0,COUNTRY_INFO!I25<4), IF(M25/J25*100<>0, IF(M25/J25*100>100,100,M25/J25*100), \"-\"),0)","v":0},{"$f":"COUNTRY_INFO!O25","v":0},null,null,{"$f":"SUM(MAX('MDA4'!R25, 'T1'!L25, MAX(T3_R1!K25, T3_R2!K25)), MAX('MDA1'!K25, 'MDA4'!S25, 'T1'!M25, MAX(T3_R1!L25, T3_R2!L25)), MAX('MDA1'!L25, 'MDA4'!T25, 'T1'!N25, MAX(T3_R1!M25, T3_R2!M25)))","v":0},{"$f":"IF(AND(COUNTRY_INFO!J25>1,COUNTRY_INFO!J25<4),IF(COUNTRY_INFO!E25>MAX('MDA4'!R25,'T1'!L25,MAX(T3_R1!K25,T3_R2!K25)),MAX('MDA4'!R25,'T1'!L25,MAX(T3_R1!K25,T3_R2!K25)),COUNTRY_INFO!E25),0)","v":0},{"$f":"IF(AND(COUNTRY_INFO!J25>1,COUNTRY_INFO!J25<4), IF(T25/COUNTRY_INFO!E25*100<>0, IF(T25/COUNTRY_INFO!E25*100>100,100,T25/COUNTRY_INFO!E25*100), \"-\"),0)","v":0},{"$f":"IF(AND(COUNTRY_INFO!J25>1,COUNTRY_INFO!J25<4),IF(COUNTRY_INFO!F25>MAX('MDA1'!K25,'MDA4'!S25,'T1'!M25,MAX(T3_R1!L25,T3_R2!L25)),MAX('MDA1'!K25,'MDA4'!S25,'T1'!M25,MAX(T3_R1!L25,T3_R2!L25)),COUNTRY_INFO!F25),0)","v":0},{"$f":"IF(AND(COUNTRY_INFO!J25>1,COUNTRY_INFO!J25<4), IF(V25/COUNTRY_INFO!F25*100<>0, IF(V25/COUNTRY_INFO!F25*100>100,100,V25/COUNTRY_INFO!F25*100), \"-\"),0)","v":0},0,{"$f":"IF(AND(COUNTRY_INFO!J25>1,COUNTRY_INFO!J25<4), IF(S25/P25*100<>0, IF(X25/P25*100>100,100,X25/P25*100), \"-\"),0)","v":0},{"$f":"COUNTRY_INFO!P25","v":43727.100000000006},null,null,{"$f":"MAX('T1'!L25,'T2'!J25)+MAX('T1'!M25,'T2'!K25)+MAX('T1'!N25,'T2'!L25)","v":0},{"$f":"IF(COUNTRY_INFO!K25=1,IF(COUNTRY_INFO!F25*0.33>MAX('T1'!M25,'T2'!K25),MAX('T1'!M25,'T2'!K25),COUNTRY_INFO!F25*0.33),IF(COUNTRY_INFO!K25=2,IF(COUNTRY_INFO!F25*0.5>MAX('T1'!M25,'T2'!K25),MAX('T1'!M25,'T2'!K25),COUNTRY_INFO!F25*0.5),IF(COUNTRY_INFO!K25=3,IF(COUNTRY_INFO!F25>MAX('T1'!M25,'T2'!K25),MAX('T1'!M25,'T2'!K25),COUNTRY_INFO!F25),0)))","v":0},{"$f":"IF(AND(COUNTRY_INFO!K25>0,COUNTRY_INFO!K25<4),IF(Z25>0,IF(COUNTRY_INFO!K25=1, AD25/(COUNTRY_INFO!F25*0.33)*100, IF(COUNTRY_INFO!K25=2, AD25/(COUNTRY_INFO!F25*0.5)*100, IF(COUNTRY_INFO!K25=3, AD25/COUNTRY_INFO!F25*100))),\"-\"),0)","v":0},{"$f":"IF(COUNTRY_INFO!K25=2,IF(COUNTRY_INFO!G25*0.2>MAX('T1'!N25,'T2'!L25),MAX('T1'!N25,'T2'!L25),COUNTRY_INFO!G25*0.2),IF(COUNTRY_INFO!K25=3,IF(COUNTRY_INFO!G25>MAX('T1'!N25,'T2'!L25),MAX('T1'!N25,'T2'!L25),COUNTRY_INFO!G25),0))","v":0},{"$f":"IF(AND(COUNTRY_INFO!K25>0,COUNTRY_INFO!K25<4),IF(Z25>0,IF(COUNTRY_INFO!K25=1, 0, IF(COUNTRY_INFO!K25=2, AF25/(COUNTRY_INFO!G25*0.2)*100, IF(COUNTRY_INFO!K25=3, AF25/COUNTRY_INFO!G25*100))),\"-\"),0)","v":0},0,{"$f":"IF(AND(COUNTRY_INFO!K25>0,COUNTRY_INFO!K25<4), IF(AC25/Z25*100<>0, IF(AH25/Z25*100>100,100,AH25/Z25*100), \"-\"),0)","v":"-"},null,{"$f":"IF(AND(D25<>0, D25<>\"Inconnu\",D25<>\"Interrompu\",D25<>\"Non requis\"),D25/COUNTRY_INFO!D25, 0)","v":0},{"$f":"IF(AND(J25<>0,J25<>\"Inconnu\",J25<>\"Interrompu\",J25<>\"Non requis\"),J25/COUNTRY_INFO!D25, 0)","v":0},{"$f":"IF(AND(P25<>0,P25<>\"Inconnu\",P25<>\"Non requis\"),P25/(COUNTRY_INFO!E25+COUNTRY_INFO!F25), 0)","v":0},{"$f":"IF(AND(Z25<>0,Z25<>\"Inconnu\",Z25<>\"Non requis\"),IF(COUNTRY_INFO!K25=1,1,IF(COUNTRY_INFO!K25=2,0.5*COUNTRY_INFO!F25/(0.5*COUNTRY_INFO!F25+0.2*COUNTRY_INFO!G25),IF(COUNTRY_INFO!K25=3,COUNTRY_INFO!F25/(COUNTRY_INFO!F25+COUNTRY_INFO!G25)))),0)","v":0.60542546841661116},{"$f":"IF(AND(Z25<>0,Z25<>\"Inconnu\",Z25<>\"Non requis\"),IF(COUNTRY_INFO!K25=1,0,IF(COUNTRY_INFO!K25=2,0.2*COUNTRY_INFO!G25/(0.5*COUNTRY_INFO!F25+0.2*COUNTRY_INFO!G25),IF(COUNTRY_INFO!K25=3,COUNTRY_INFO!G25/(COUNTRY_INFO!F25+COUNTRY_INFO!G25)))),0)","v":0.39457453158338879},{"$f":"MAX(COUNTRY_INFO!D25*AK25*PROFILE!$G$7,COUNTRY_INFO!D25*AL25*PROFILE!$G$7)","v":0},{"$f":"MAX(COUNTRY_INFO!D25*AK25*PROFILE!$G$8,COUNTRY_INFO!D25*AL25*PROFILE!$G$8,COUNTRY_INFO!D25*AM25*PROFILE!$G$8)","v":0},{"$f":"MAX(COUNTRY_INFO!D25*AK25*PROFILE!$G$9,COUNTRY_INFO!D25*AL25*PROFILE!$G$9,COUNTRY_INFO!D25*AM25*PROFILE!$G$9,IF(AND(DISTRICT!Z25<>\"Inconnu\",Z25<>\"Non requis\"),COUNTRY_INFO!P25*DISTRICT!AN25,0))","v":26473.5},{"$f":"MAX(COUNTRY_INFO!D25*AK25*PROFILE!$G$10,COUNTRY_INFO!D25*AL25*PROFILE!$G$10,IF(AND(DISTRICT!Z25<>\"Inconnu\",Z25<>\"Non requis\"),COUNTRY_INFO!P25*DISTRICT!AO25,0))","v":17253.600000000002},43727.100000000006,0,{"$f":"MAX('MDA4'!R25,'T1'!L25,'T2'!J25,T3_R1!K25,T3_R2!K25)","v":0},{"$f":"MAX('MDA1'!K25,'MDA4'!S25,'MDA3'!I25,'MDA3'!L25,'T1'!M25,'T2'!K25,T3_R1!L25,T3_R2!L25)","v":0},{"$f":"MAX('MDA1'!L25,'MDA4'!T25,'MDA3'!J25,'MDA3'!M25,'T1'!N25,'T2'!L25,T3_R1!M25,T3_R2!M25)","v":0},0,{"$f":"MAX('MDA4'!R25,T25)","v":0},{"$f":"MAX('MDA1'!K25,'MDA4'!S25,'MDA3'!I25,'MDA3'!L25,V25,AD25)","v":0},{"$f":"MAX('MDA1'!L25,'MDA4'!T25,'MDA3'!J25,'MDA3'!M25,AF25)","v":0},0,0]
[{"$f":"IF(COUNTRY_INFO!A26=0,\" \",COUNTRY_INFO!A26)","v":"Chad"},{"$f":"IF(COUNTRY_INFO!B26=0,\" \",COUNTRY_INFO!B26)","v":"Chari  Baguirmi"},{"$f":"IF(COUNTRY_INFO!C26=0,\" \",COUNTRY_INFO!C26)","v":"Koulno"},{"$f":"COUNTRY_INFO!M26","v":0},null,null,{"$f":"MAX('MDA1'!M26,'MDA4'!U26)","v":0},{"$f":"IF(AND(COUNTRY_INFO!H26>0,COUNTRY_INFO!H26<4),IF(D26>MAX('MDA1'!M26,'MDA4'!U26),MAX('MDA1'!M26,'MDA4'!U26),D26),0)","v":0},{"$f":"IF(AND(COUNTRY_INFO!H26>0,COUNTRY_INFO!H26<4), IF(G26/D26*100<>0, IF(G26/D26*100>100,100,G26/D26*100), \"-\"),0)","v":0},{"$f":"COUNTRY_INFO!N26","v":"Inconnu"},null,null,{"$f":"MAX('MDA1'!M26,MAX('MDA3'!I26,'MDA3'!L26)+MAX('MDA3'!J26,'MDA3'!M26))","v":0},{"$f":"IF(AND(COUNTRY_INFO!I26>0,COUNTRY_INFO!I26<4),IF(J26>MAX('MDA1'!M26,MAX('MDA3'!I26,'MDA3'!L26)+MAX('MDA3'!J26,'MDA3'!M26)),MAX('MDA1'!M26,MAX('MDA3'!I26,'MDA3'!L26)+MAX('MDA3'!J26,'MDA3'!M26)),J26),0)","v":0},{"$f":"IF(AND(COUNTRY_INFO!I26>0,COUNTRY_INFO!I26<4), IF(M26/J26*100<>0, IF(M26/J26*100>100,100,M26/J26*100), \"-\"),0)","v":0},{"$f":"COUNTRY_INFO!O26","v":0},null,null,{"$f":"SUM(MAX('MDA4'!R26, 'T1'!L26, MAX(T3_R1!K26, T3_R2!K26)), MAX('MDA1'!K26, 'MDA4'!S26, 'T1'!M26, MAX(T3_R1!L26, T3_R2!L26)), MAX('MDA1'!L26, 'MDA4'!T26, 'T1'!N26, MAX(T3_R1!M26, T3_R2!M26)))","v":0},{"$f":"IF(AND(COUNTRY_INFO!J26>1,COUNTRY_INFO!J26<4),IF(COUNTRY_INFO!E26>MAX('MDA4'!R26,'T1'!L26,MAX(T3_R1!K26,T3_R2!K26)),MAX('MDA4'!R26,'T1'!L26,MAX(T3_R1!K26,T3_R2!K26)),COUNTRY_INFO!E26),0)","v":0},{"$f":"IF(AND(COUNTRY_INFO!J26>1,COUNTRY_INFO!J26<4), IF(T26/COUNTRY_INFO!E26*100<>0, IF(T26/COUNTRY_INFO!E26*100>100,100,T26/COUNTRY_INFO!E26*100), \"-\"),0)","v":0},{"$f":"IF(AND(COUNTRY_INFO!J26>1,COUNTRY_INFO!J26<4),IF(COUNTRY_INFO!F26>MAX('MDA1'!K26,'MDA4'!S26,'T1'!M26,MAX(T3_R1!L26,T3_R2!L26)),MAX('MDA1'!K26,'MDA4'!S26,'T1'!M26,MAX(T3_R1!L26,T3_R2!L26)),COUNTRY_INFO!F26),0)","v":0},{"$f":"IF(AND(COUNTRY_INFO!J26>1,COUNTRY_INFO!J26<4), IF(V26/COUNTRY_INFO!F26*100<>0, IF(V26/COUNTRY_INFO!F26*100>100,100,V26/COUNTRY_INFO!F26*100), \"-\"),0)","v":0},0,{"$f":"IF(AND(COUNTRY_INFO!J26>1,COUNTRY_INFO!J26<4), IF(S26/P26*100<>0, IF(X26/P26*100>100,100,X26/P26*100), \"-\"),0)","v":0},{"$f":"COUNTRY_INFO!P26","v":69617},null,null,{"$f":"MAX('T1'!L26,'T2'!J26)+MAX('T1'!M26,'T2'!K26)+MAX('T1'!N26,'T2'!L26)","v":0},{"$f":"IF(COUNTRY_INFO!K26=1,IF(COUNTRY_INFO!F26*0.33>MAX('T1'!M26,'T2'!K26),MAX('T1'!M26,'T2'!K26),COUNTRY_INFO!F26*0.33),IF(COUNTRY_INFO!K26=2,IF(COUNTRY_INFO!F26*0.5>MAX('T1'!M26,'T2'!K26),MAX('T1'!M26,'T2'!K26),COUNTRY_INFO!F26*0.5),IF(COUNTRY_INFO!K26=3,IF(COUNTRY_INFO!F26>MAX('T1'!M26,'T2'!K26),MAX('T1'!M26,'T2'!K26),COUNTRY_INFO!F26),0)))","v":0},{"$f":"IF(AND(COUNTRY_INFO!K26>0,COUNTRY_INFO!K26<4),IF(Z26>0,IF(COUNTRY_INFO!K26=1, AD26/(COUNTRY_INFO!F26*0.33)*100, IF(COUNTRY_INFO!K26=2, AD26/(COUNTRY_INFO!F26*0.5)*100, IF(COUNTRY_INFO!K26=3, AD26/COUNTRY_INFO!F26*100))),\"-\"),0)","v":0},{"$f":"IF(COUNTRY_INFO!K26=2,IF(COUNTRY_INFO!G26*0.2>MAX('T1'!N26,'T2'!L26),MAX('T1'!N26,'T2'!L26),COUNTRY_INFO!G26*0.2),IF(COUNTRY_INFO!K26=3,IF(COUNTRY_INFO!G26>MAX('T1'!N26,'T2'!L26),MAX('T1'!N26,'T2'!L26),COUNTRY_INFO!G26),0))","v":0},{"$f":"IF(AND(COUNTRY_INFO!K26>0,COUNTRY_INFO!K26<4),IF(Z26>0,IF(COUNTRY_INFO!K26=1, 0, IF(COUNTRY_INFO!K26=2, AF26/(COUNTRY_INFO!G26*0.2)*100, IF(COUNTRY_INFO!K26=3, AF26/COUNTRY_INFO!G26*100))),\"-\"),0)","v":0},0,{"$f":"IF(AND(COUNTRY_INFO!K26>0,COUNTRY_INFO!K26<4), IF(AC26/Z26*100<>0, IF(AH26/Z26*100>100,100,AH26/Z26*100), \"-\"),0)","v":"-"},null,{"$f":"IF(AND(D26<>0, D26<>\"Inconnu\",D26<>\"Interrompu\",D26<>\"Non requis\"),D26/COUNTRY_INFO!D26, 0)","v":0},{"$f":"IF(AND(J26<>0,J26<>\"Inconnu\",J26<>\"Interrompu\",J26<>\"Non requis\"),J26/COUNTRY_INFO!D26, 0)","v":0},{"$f":"IF(AND(P26<>0,P26<>\"Inconnu\",P26<>\"Non requis\"),P26/(COUNTRY_INFO!E26+COUNTRY_INFO!F26), 0)","v":0},{"$f":"IF(AND(Z26<>0,Z26<>\"Inconnu\",Z26<>\"Non requis\"),IF(COUNTRY_INFO!K26=1,1,IF(COUNTRY_INFO!K26=2,0.5*COUNTRY_INFO!F26/(0.5*COUNTRY_INFO!F26+0.2*COUNTRY_INFO!G26),IF(COUNTRY_INFO!K26=3,COUNTRY_INFO!F26/(COUNTRY_INFO!F26+COUNTRY_INFO!G26)))),0)","v":0.60542683539939957},{"$f":"IF(AND(Z26<>0,Z26<>\"Inconnu\",Z26<>\"Non requis\"),IF(COUNTRY_INFO!K26=1,0,IF(COUNTRY_INFO!K26=2,0.2*COUNTRY_INFO!G26/(0.5*COUNTRY_INFO!F26+0.2*COUNTRY_INFO!G26),IF(COUNTRY_INFO!K26=3,COUNTRY_INFO!G26/(COUNTRY_INFO!F26+COUNTRY_INFO!G26)))),0)","v":0.39457316460060043},{"$f":"MAX(COUNTRY_INFO!D26*AK26*PROFILE!$G$7,COUNTRY_INFO!D26*AL26*PROFILE!$G$7)","v":0},{"$f":"MAX(COUNTRY_INFO!D26*AK26*PROFILE!$G$8,COUNTRY_INFO!D26*AL26*PROFILE!$G$8,COUNTRY_INFO!D26*AM26*PROFILE!$G$8)","v":0},{"$f":"MAX(COUNTRY_INFO!D26*AK26*PROFILE!$G$9,COUNTRY_INFO!D26*AL26*PROFILE!$G$9,COUNTRY_INFO!D26*AM26*PROFILE!$G$9,IF(AND(DISTRICT!Z26<>\"Inconnu\",Z26<>\"Non requis\"),COUNTRY_INFO!P26*DISTRICT!AN26,0))","v":42148},{"$f":"MAX(COUNTRY_INFO!D26*AK26*PROFILE!$G$10,COUNTRY_INFO!D26*AL26*PROFILE!$G$10,IF(AND(DISTRICT!Z26<>\"Inconnu\",Z26<>\"Non requis\"),COUNTRY_INFO!P26*DISTRICT!AO26,0))","v":27469},69617,0,{"$f":"MAX('MDA4'!R26,'T1'!L26,'T2'!J26,T3_R1!K26,T3_R2!K26)","v":0},{"$f":"MAX('MDA1'!K26,'MDA4'!S26,'MDA3'!I26,'MDA3'!L26,'T1'!M26,'T2'!K26,T3_R1!L26,T3_R2!L26)","v":0},{"$f":"MAX('MDA1'!L26,'MDA4'!T26,'MDA3'!J26,'MDA3'!M26,'T1'!N26,'T2'!L26,T3_R1!M26,T3_R2!M26)","v":0},0,{"$f":"MAX('MDA4'!R26,T26)","v":0},{"$f":"MAX('MDA1'!K26,'MDA4'!S26,'MDA3'!I26,'MDA3'!L26,V26,AD26)","v":0},{"$f":"MAX('MDA1'!L26,'MDA4'!T26,'MDA3'!J26,'MDA3'!M26,AF26)","v":0},0,0]
[{"$f":"IF(COUNTRY_INFO!A27=0,\" \",COUNTRY_INFO!A27)","v":"Chad"},{"$f":"IF(COUNTRY_INFO!B27=0,\" \",COUNTRY_INFO!B27)","v":"Chari  Baguirmi"},{"$f":"IF(COUNTRY_INFO!C27=0,\" \",COUNTRY_INFO!C27)","v":"Mandélia"},{"$f":"COUNTRY_INFO!M27","v":0},null,null,{"$f":"MAX('MDA1'!M27,'MDA4'!U27)","v":0},{"$f":"IF(AND(COUNTRY_INFO!H27>0,COUNTRY_INFO!H27<4),IF(D27>MAX('MDA1'!M27,'MDA4'!U27),MAX('MDA1'!M27,'MDA4'!U27),D27),0)","v":0},{"$f":"IF(AND(COUNTRY_INFO!H27>0,COUNTRY_INFO!H27<4), IF(G27/D27*100<>0, IF(G27/D27*100>100,100,G27/D27*100), \"-\"),0)","v":0},{"$f":"COUNTRY_INFO!N27","v":"Inconnu"},null,null,{"$f":"MAX('MDA1'!M27,MAX('MDA3'!I27,'MDA3'!L27)+MAX('MDA3'!J27,'MDA3'!M27))","v":0},{"$f":"IF(AND(COUNTRY_INFO!I27>0,COUNTRY_INFO!I27<4),IF(J27>MAX('MDA1'!M27,MAX('MDA3'!I27,'MDA3'!L27)+MAX('MDA3'!J27,'MDA3'!M27)),MAX('MDA1'!M27,MAX('MDA3'!I27,'MDA3'!L27)+MAX('MDA3'!J27,'MDA3'!M27)),J27),0)","v":0},{"$f":"IF(AND(COUNTRY_INFO!I27>0,COUNTRY_INFO!I27<4), IF(M27/J27*100<>0, IF(M27/J27*100>100,100,M27/J27*100), \"-\"),0)","v":0},{"$f":"COUNTRY_INFO!O27","v":0},null,null,{"$f":"SUM(MAX('MDA4'!R27, 'T1'!L27, MAX(T3_R1!K27, T3_R2!K27)), MAX('MDA1'!K27, 'MDA4'!S27, 'T1'!M27, MAX(T3_R1!L27, T3_R2!L27)), MAX('MDA1'!L27, 'MDA4'!T27, 'T1'!N27, MAX(T3_R1!M27, T3_R2!M27)))","v":0},{"$f":"IF(AND(COUNTRY_INFO!J27>1,COUNTRY_INFO!J27<4),IF(COUNTRY_INFO!E27>MAX('MDA4'!R27,'T1'!L27,MAX(T3_R1!K27,T3_R2!K27)),MAX('MDA4'!R27,'T1'!L27,MAX(T3_R1!K27,T3_R2!K27)),COUNTRY_INFO!E27),0)","v":0},{"$f":"IF(AND(COUNTRY_INFO!J27>1,COUNTRY_INFO!J27<4), IF(T27/COUNTRY_INFO!E27*100<>0, IF(T27/COUNTRY_INFO!E27*100>100,100,T27/COUNTRY_INFO!E27*100), \"-\"),0)","v":0},{"$f":"IF(AND(COUNTRY_INFO!J27>1,COUNTRY_INFO!J27<4),IF(COUNTRY_INFO!F27>MAX('MDA1'!K27,'MDA4'!S27,'T1'!M27,MAX(T3_R1!L27,T3_R2!L27)),MAX('MDA1'!K27,'MDA4'!S27,'T1'!M27,MAX(T3_R1!L27,T3_R2!L27)),COUNTRY_INFO!F27),0)","v":0},{"$f":"IF(AND(COUNTRY_INFO!J27>1,COUNTRY_INFO!J27<4), IF(V27/COUNTRY_INFO!F27*100<>0, IF(V27/COUNTRY_INFO!F27*100>100,100,V27/COUNTRY_INFO!F27*100), \"-\"),0)","v":0},0,{"$f":"IF(AND(COUNTRY_INFO!J27>1,COUNTRY_INFO!J27<4), IF(S27/P27*100<>0, IF(X27/P27*100>100,100,X27/P27*100), \"-\"),0)","v":0},{"$f":"COUNTRY_INFO!P27","v":38097.9},null,null,{"$f":"MAX('T1'!L27,'T2'!J27)+MAX('T1'!M27,'T2'!K27)+MAX('T1'!N27,'T2'!L27)","v":0},{"$f":"IF(COUNTRY_INFO!K27=1,IF(COUNTRY_INFO!F27*0.33>MAX('T1'!M27,'T2'!K27),MAX('T1'!M27,'T2'!K27),COUNTRY_INFO!F27*0.33),IF(COUNTRY_INFO!K27=2,IF(COUNTRY_INFO!F27*0.5>MAX('T1'!M27,'T2'!K27),MAX('T1'!M27,'T2'!K27),COUNTRY_INFO!F27*0.5),IF(COUNTRY_INFO!K27=3,IF(COUNTRY_INFO!F27>MAX('T1'!M27,'T2'!K27),MAX('T1'!M27,'T2'!K27),COUNTRY_INFO!F27),0)))","v":0},{"$f":"IF(AND(COUNTRY_INFO!K27>0,COUNTRY_INFO!K27<4),IF(Z27>0,IF(COUNTRY_INFO!K27=1, AD27/(COUNTRY_INFO!F27*0.33)*100, IF(COUNTRY_INFO!K27=2, AD27/(COUNTRY_INFO!F27*0.5)*100, IF(COUNTRY_INFO!K27=3, AD27/COUNTRY_INFO!F27*100))),\"-\"),0)","v":0},{"$f":"IF(COUNTRY_INFO!K27=2,IF(COUNTRY_INFO!G27*0.2>MAX('T1'!N27,'T2'!L27),MAX('T1'!N27,'T2'!L27),COUNTRY_INFO!G27*0.2),IF(COUNTRY_INFO!K27=3,IF(COUNTRY_INFO!G27>MAX('T1'!N27,'T2'!L27),MAX('T1'!N27,'T2'!L27),COUNTRY_INFO!G27),0))","v":0},{"$f":"IF(AND(COUNTRY_INFO!K27>0,COUNTRY_INFO!K27<4),IF(Z27>0,IF(COUNTRY_INFO!K27=1, 0, IF(COUNTRY_INFO!K27=2, AF27/(COUNTRY_INFO!G27*0.2)*100, IF(COUNTRY_INFO!K27=3, AF27/COUNTRY_INFO!G27*100))),\"-\"),0)","v":0},0,{"$f":"IF(AND(COUNTRY_INFO!K27>0,COUNTRY_INFO!K27<4), IF(AC27/Z27*100<>0, IF(AH27/Z27*100>100,100,AH27/Z27*100), \"-\"),0)","v":"-"},null,{"$f":"IF(AND(D27<>0, D27<>\"Inconnu\",D27<>\"Interrompu\",D27<>\"Non requis\"),D27/COUNTRY_INFO!D27, 0)","v":0},{"$f":"IF(AND(J27<>0,J27<>\"Inconnu\",J27<>\"Interrompu\",J27<>\"Non requis\"),J27/COUNTRY_INFO!D27, 0)","v":0},{"$f":"IF(AND(P27<>0,P27<>\"Inconnu\",P27<>\"Non requis\"),P27/(COUNTRY_INFO!E27+COUNTRY_INFO!F27), 0)","v":0},{"$f":"IF(AND(Z27<>0,Z27<>\"Inconnu\",Z27<>\"Non requis\"),IF(COUNTRY_INFO!K27=1,1,IF(COUNTRY_INFO!K27=2,0.5*COUNTRY_INFO!F27/(0.5*COUNTRY_INFO!F27+0.2*COUNTRY_INFO!G27),IF(COUNTRY_INFO!K27=3,COUNTRY_INFO!F27/(COUNTRY_INFO!F27+COUNTRY_INFO!G27)))),0)","v":0.60542707078342894},{"$f":"IF(AND(Z27<>0,Z27<>\"Inconnu\",Z27<>\"Non requis\"),IF(COUNTRY_INFO!K27=1,0,IF(COUNTRY_INFO!K27=2,0.2*COUNTRY_INFO!G27/(0.5*COUNTRY_INFO!F27+0.2*COUNTRY_INFO!G27),IF(COUNTRY_INFO!K27=3,COUNTRY_INFO!G27/(COUNTRY_INFO!F27+COUNTRY_INFO!G27)))),0)","v":0.394572929216571},{"$f":"MAX(COUNTRY_INFO!D27*AK27*PROFILE!$G$7,COUNTRY_INFO!D27*AL27*PROFILE!$G$7)","v":0},{"$f":"MAX(COUNTRY_INFO!D27*AK27*PROFILE!$G$8,COUNTRY_INFO!D27*AL27*PROFILE!$G$8,COUNTRY_INFO!D27*AM27*PROFILE!$G$8)","v":0},{"$f":"MAX(COUNTRY_INFO!D27*AK27*PROFILE!$G$9,COUNTRY_INFO!D27*AL27*PROFILE!$G$9,COUNTRY_INFO!D27*AM27*PROFILE!$G$9,IF(AND(DISTRICT!Z27<>\"Inconnu\",Z27<>\"Non requis\"),COUNTRY_INFO!P27*DISTRICT!AN27,0))","v":23065.5},{"$f":"MAX(COUNTRY_INFO!D27*AK27*PROFILE!$G$10,COUNTRY_INFO!D27*AL27*PROFILE!$G$10,IF(AND(DISTRICT!Z27<>\"Inconnu\",Z27<>\"Non requis\"),COUNTRY_INFO!P27*DISTRICT!AO27,0))","v":15032.400000000001},38097.9,0,{"$f":"MAX('MDA4'!R27,'T1'!L27,'T2'!J27,T3_R1!K27,T3_R2!K27)","v":0},{"$f":"MAX('MDA1'!K27,'MDA4'!S27,'MDA3'!I27,'MDA3'!L27,'T1'!M27,'T2'!K27,T3_R1!L27,T3_R2!L27)","v":0},{"$f":"MAX('MDA1'!L27,'MDA4'!T27,'MDA3'!J27,'MDA3'!M27,'T1'!N27,'T2'!L27,T3_R1!M27,T3_R2!M27)","v":0},0,{"$f":"MAX('MDA4'!R27,T27)","v":0},{"$f":"MAX('MDA1'!K27,'MDA4'!S27,'MDA3'!I27,'MDA3'!L27,V27,AD27)","v":0},{"$f":"MAX('MDA1'!L27,'MDA4'!T27,'MDA3'!J27,'MDA3'!M27,AF27)","v":0},0,0]
[{"$f":"IF(COUNTRY_INFO!A28=0,\" \",COUNTRY_INFO!A28)","v":"Chad"},{"$f":"IF(COUNTRY_INFO!B28=0,\" \",COUNTRY_INFO!B28)","v":"Chari  Baguirmi"},{"$f":"IF(COUNTRY_INFO!C28=0,\" \",COUNTRY_INFO!C28)","v":"Massenya"},{"$f":"COUNTRY_INFO!M28","v":0},null,null,{"$f":"MAX('MDA1'!M28,'MDA4'!U28)","v":0},{"$f":"IF(AND(COUNTRY_INFO!H28>0,COUNTRY_INFO!H28<4),IF(D28>MAX('MDA1'!M28,'MDA4'!U28),MAX('MDA1'!M28,'MDA4'!U28),D28),0)","v":0},{"$f":"IF(AND(COUNTRY_INFO!H28>0,COUNTRY_INFO!H28<4), IF(G28/D28*100<>0, IF(G28/D28*100>100,100,G28/D28*100), \"-\"),0)","v":0},{"$f":"COUNTRY_INFO!N28","v":"Inconnu"},null,null,{"$f":"MAX('MDA1'!M28,MAX('MDA3'!I28,'MDA3'!L28)+MAX('MDA3'!J28,'MDA3'!M28))","v":0},{"$f":"IF(AND(COUNTRY_INFO!I28>0,COUNTRY_INFO!I28<4),IF(J28>MAX('MDA1'!M28,MAX('MDA3'!I28,'MDA3'!L28)+MAX('MDA3'!J28,'MDA3'!M28)),MAX('MDA1'!M28,MAX('MDA3'!I28,'MDA3'!L28)+MAX('MDA3'!J28,'MDA3'!M28)),J28),0)","v":0},{"$f":"IF(AND(COUNTRY_INFO!I28>0,COUNTRY_INFO!I28<4), IF(M28/J28*100<>0, IF(M28/J28*100>100,100,M28/J28*100), \"-\"),0)","v":0},{"$f":"COUNTRY_INFO!O28","v":0},null,null,{"$f":"SUM(MAX('MDA4'!R28, 'T1'!L28, MAX(T3_R1!K28, T3_R2!K28)), MAX('MDA1'!K28, 'MDA4'!S28, 'T1'!M28, MAX(T3_R1!L28, T3_R2!L28)), MAX('MDA1'!L28, 'MDA4'!T28, 'T1'!N28, MAX(T3_R1!M28, T3_R2!M28)))","v":0},{"$f":"IF(AND(COUNTRY_INFO!J28>1,COUNTRY_INFO!J28<4),IF(COUNTRY_INFO!E28>MAX('MDA4'!R28,'T1'!L28,MAX(T3_R1!K28,T3_R2!K28)),MAX('MDA4'!R28,'T1'!L28,MAX(T3_R1!K28,T3_R2!K28)),COUNTRY_INFO!E28),0)","v":0},{"$f":"IF(AND(COUNTRY_INFO!J28>1,COUNTRY_INFO!J28<4), IF(T28/COUNTRY_INFO!E28*100<>0, IF(T28/COUNTRY_INFO!E28*100>100,100,T28/COUNTRY_INFO!E28*100), \"-\"),0)","v":0},{"$f":"IF(AND(COUNTRY_INFO!J28>1,COUNTRY_INFO!J28<4),IF(COUNTRY_INFO!F28>MAX('MDA1'!K28,'MDA4'!S28,'T1'!M28,MAX(T3_R1!L28,T3_R2!L28)),MAX('MDA1'!K28,'MDA4'!S28,'T1'!M28,MAX(T3_R1!L28,T3_R2!L28)),COUNTRY_INFO!F28),0)","v":0},{"$f":"IF(AND(COUNTRY_INFO!J28>1,COUNTRY_INFO!J28<4), IF(V28/COUNTRY_INFO!F28*100<>0, IF(V28/COUNTRY_INFO!F28*100>100,100,V28/COUNTRY_INFO!F28*100), \"-\"),0)","v":0},0,{"$f":"IF(AND(COUNTRY_INFO!J28>1,COUNTRY_INFO!J28<4), IF(S28/P28*100<>0, IF(X28/P28*100>100,100,X28/P28*100), \"-\"),0)","v":0},{"$f":"COUNTRY_INFO!P28","v":38305.199999999997},null,null,{"$f":"MAX('T1'!L28,'T2'!J28)+MAX('T1'!M28,'T2'!K28)+MAX('T1'!N28,'T2'!L28)","v":0},{"$f":"IF(COUNTRY_INFO!K28=1,IF(COUNTRY_INFO!F28*0.33>MAX('T1'!M28,'T2'!K28),MAX('T1'!M28,'T2'!K28),COUNTRY_INFO!F28*0.33),IF(COUNTRY_INFO!K28=2,IF(COUNTRY_INFO!F28*0.5>MAX('T1'!M28,'T2'!K28),MAX('T1'!M28,'T2'!K28),COUNTRY_INFO!F28*0.5),IF(COUNTRY_INFO!K28=3,IF(COUNTRY_INFO!F28>MAX('T1'!M28,'T2'!K28),MAX('T1'!M28,'T2'!K28),COUNTRY_INFO!F28),0)))","v":0},{"$f":"IF(AND(COUNTRY_INFO!K28>0,COUNTRY_INFO!K28<4),IF(Z28>0,IF(COUNTRY_INFO!K28=1, AD28/(COUNTRY_INFO!F28*0.33)*100, IF(COUNTRY_INFO!K28=2, AD28/(COUNTRY_INFO!F28*0.5)*100, IF(COUNTRY_INFO!K28=3, AD28/COUNTRY_INFO!F28*100))),\"-\"),0)","v":0},{"$f":"IF(COUNTRY_INFO!K28=2,IF(COUNTRY_INFO!G28*0.2>MAX('T1'!N28,'T2'!L28),MAX('T1'!N28,'T2'!L28),COUNTRY_INFO!G28*0.2),IF(COUNTRY_INFO!K28=3,IF(COUNTRY_INFO!G28>MAX('T1'!N28,'T2'!L28),MAX('T1'!N28,'T2'!L28),COUNTRY_INFO!G28),0))","v":0},{"$f":"IF(AND(COUNTRY_INFO!K28>0,COUNTRY_INFO!K28<4),IF(Z28>0,IF(COUNTRY_INFO!K28=1, 0, IF(COUNTRY_INFO!K28=2, AF28/(COUNTRY_INFO!G28*0.2)*100, IF(COUNTRY_INFO!K28=3, AF28/COUNTRY_INFO!G28*100))),\"-\"),0)","v":0},0,{"$f":"IF(AND(COUNTRY_INFO!K28>0,COUNTRY_INFO!K28<4), IF(AC28/Z28*100<>0, IF(AH28/Z28*100>100,100,AH28/Z28*100), \"-\"),0)","v":"-"},null,{"$f":"IF(AND(D28<>0, D28<>\"Inconnu\",D28<>\"Interrompu\",D28<>\"Non requis\"),D28/COUNTRY_INFO!D28, 0)","v":0},{"$f":"IF(AND(J28<>0,J28<>\"Inconnu\",J28<>\"Interrompu\",J28<>\"Non requis\"),J28/COUNTRY_INFO!D28, 0)","v":0},{"$f":"IF(AND(P28<>0,P28<>\"Inconnu\",P28<>\"Non requis\"),P28/(COUNTRY_INFO!E28+COUNTRY_INFO!F28), 0)","v":0},{"$f":"IF(AND(Z28<>0,Z28<>\"Inconnu\",Z28<>\"Non requis\"),IF(COUNTRY_INFO!K28=1,1,IF(COUNTRY_INFO!K28=2,0.5*COUNTRY_INFO!F28/(0.5*COUNTRY_INFO!F28+0.2*COUNTRY_INFO!G28),IF(COUNTRY_INFO!K28=3,COUNTRY_INFO!F28/(COUNTRY_INFO!F28+COUNTRY_INFO!G28)))),0)","v":0.60542693942336812},{"$f":"IF(AND(Z28<>0,Z28<>\"Inconnu\",Z28<>\"Non requis\"),IF(COUNTRY_INFO!K28=1,0,IF(COUNTRY_INFO!K28=2,0.2*COUNTRY_INFO!G28/(0.5*COUNTRY_INFO!F28+0.2*COUNTRY_INFO!G28),IF(COUNTRY_INFO!K28=3,COUNTRY_INFO!G28/(COUNTRY_INFO!F28+COUNTRY_INFO!G28)))),0)","v":0.39457306057663194},{"$f":"MAX(COUNTRY_INFO!D28*AK28*PROFILE!$G$7,COUNTRY_INFO!D28*AL28*PROFILE!$G$7)","v":0},{"$f":"MAX(COUNTRY_INFO!D28*AK28*PROFILE!$G$8,COUNTRY_INFO!D28*AL28*PROFILE!$G$8,COUNTRY_INFO!D28*AM28*PROFILE!$G$8)","v":0},{"$f":"MAX(COUNTRY_INFO!D28*AK28*PROFILE!$G$9,COUNTRY_INFO!D28*AL28*PROFILE!$G$9,COUNTRY_INFO!D28*AM28*PROFILE!$G$9,IF(AND(DISTRICT!Z28<>\"Inconnu\",Z28<>\"Non requis\"),COUNTRY_INFO!P28*DISTRICT!AN28,0))","v":23191},{"$f":"MAX(COUNTRY_INFO!D28*AK28*PROFILE!$G$10,COUNTRY_INFO!D28*AL28*PROFILE!$G$10,IF(AND(DISTRICT!Z28<>\"Inconnu\",Z28<>\"Non requis\"),COUNTRY_INFO!P28*DISTRICT!AO28,0))","v":15114.2},38305.199999999997,0,{"$f":"MAX('MDA4'!R28,'T1'!L28,'T2'!J28,T3_R1!K28,T3_R2!K28)","v":0},{"$f":"MAX('MDA1'!K28,'MDA4'!S28,'MDA3'!I28,'MDA3'!L28,'T1'!M28,'T2'!K28,T3_R1!L28,T3_R2!L28)","v":0},{"$f":"MAX('MDA1'!L28,'MDA4'!T28,'MDA3'!J28,'MDA3'!M28,'T1'!N28,'T2'!L28,T3_R1!M28,T3_R2!M28)","v":0},0,{"$f":"MAX('MDA4'!R28,T28)","v":0},{"$f":"MAX('MDA1'!K28,'MDA4'!S28,'MDA3'!I28,'MDA3'!L28,V28,AD28)","v":0},{"$f":"MAX('MDA1'!L28,'MDA4'!T28,'MDA3'!J28,'MDA3'!M28,AF28)","v":0},0,0]
[{"$f":"IF(COUNTRY_INFO!A29=0,\" \",COUNTRY_INFO!A29)","v":"Chad"},{"$f":"IF(COUNTRY_INFO!B29=0,\" \",COUNTRY_INFO!B29)","v":"Ennedi Est"},{"$f":"IF(COUNTRY_INFO!C29=0,\" \",COUNTRY_INFO!C29)","v":"Amdjarass"},{"$f":"COUNTRY_INFO!M29","v":0},null,null,{"$f":"MAX('MDA1'!M29,'MDA4'!U29)","v":0},{"$f":"IF(AND(COUNTRY_INFO!H29>0,COUNTRY_INFO!H29<4),IF(D29>MAX('MDA1'!M29,'MDA4'!U29),MAX('MDA1'!M29,'MDA4'!U29),D29),0)","v":0},{"$f":"IF(AND(COUNTRY_INFO!H29>0,COUNTRY_INFO!H29<4), IF(G29/D29*100<>0, IF(G29/D29*100>100,100,G29/D29*100), \"-\"),0)","v":0},{"$f":"COUNTRY_INFO!N29","v":0},null,null,{"$f":"MAX('MDA1'!M29,MAX('MDA3'!I29,'MDA3'!L29)+MAX('MDA3'!J29,'MDA3'!M29))","v":0},{"$f":"IF(AND(COUNTRY_INFO!I29>0,COUNTRY_INFO!I29<4),IF(J29>MAX('MDA1'!M29,MAX('MDA3'!I29,'MDA3'!L29)+MAX('MDA3'!J29,'MDA3'!M29)),MAX('MDA1'!M29,MAX('MDA3'!I29,'MDA3'!L29)+MAX('MDA3'!J29,'MDA3'!M29)),J29),0)","v":0},{"$f":"IF(AND(COUNTRY_INFO!I29>0,COUNTRY_INFO!I29<4), IF(M29/J29*100<>0, IF(M29/J29*100>100,100,M29/J29*100), \"-\"),0)","v":0},{"$f":"COUNTRY_INFO!O29","v":0},null,null,{"$f":"SUM(MAX('MDA4'!R29, 'T1'!L29, MAX(T3_R1!K29, T3_R2!K29)), MAX('MDA1'!K29, 'MDA4'!S29, 'T1'!M29, MAX(T3_R1!L29, T3_R2!L29)), MAX('MDA1'!L29, 'MDA4'!T29, 'T1'!N29, MAX(T3_R1!M29, T3_R2!M29)))","v":0},{"$f":"IF(AND(COUNTRY_INFO!J29>1,COUNTRY_INFO!J29<4),IF(COUNTRY_INFO!E29>MAX('MDA4'!R29,'T1'!L29,MAX(T3_R1!K29,T3_R2!K29)),MAX('MDA4'!R29,'T1'!L29,MAX(T3_R1!K29,T3_R2!K29)),COUNTRY_INFO!E29),0)","v":0},{"$f":"IF(AND(COUNTRY_INFO!J29>1,COUNTRY_INFO!J29<4), IF(T29/COUNTRY_INFO!E29*100<>0, IF(T29/COUNTRY_INFO!E29*100>100,100,T29/COUNTRY_INFO!E29*100), \"-\"),0)","v":0},{"$f":"IF(AND(COUNTRY_INFO!J29>1,COUNTRY_INFO!J29<4),IF(COUNTRY_INFO!F29>MAX('MDA1'!K29,'MDA4'!S29,'T1'!M29,MAX(T3_R1!L29,T3_R2!L29)),MAX('MDA1'!K29,'MDA4'!S29,'T1'!M29,MAX(T3_R1!L29,T3_R2!L29)),COUNTRY_INFO!F29),0)","v":0},{"$f":"IF(AND(COUNTRY_INFO!J29>1,COUNTRY_INFO!J29<4), IF(V29/COUNTRY_INFO!F29*100<>0, IF(V29/COUNTRY_INFO!F29*100>100,100,V29/COUNTRY_INFO!F29*100), \"-\"),0)","v":0},0,{"$f":"IF(AND(COUNTRY_INFO!J29>1,COUNTRY_INFO!J29<4), IF(S29/P29*100<>0, IF(X29/P29*100>100,100,X29/P29*100), \"-\"),0)","v":0},{"$f":"COUNTRY_INFO!P29","v":0},null,null,{"$f":"MAX('T1'!L29,'T2'!J29)+MAX('T1'!M29,'T2'!K29)+MAX('T1'!N29,'T2'!L29)","v":0},{"$f":"IF(COUNTRY_INFO!K29=1,IF(COUNTRY_INFO!F29*0.33>MAX('T1'!M29,'T2'!K29),MAX('T1'!M29,'T2'!K29),COUNTRY_INFO!F29*0.33),IF(COUNTRY_INFO!K29=2,IF(COUNTRY_INFO!F29*0.5>MAX('T1'!M29,'T2'!K29),MAX('T1'!M29,'T2'!K29),COUNTRY_INFO!F29*0.5),IF(COUNTRY_INFO!K29=3,IF(COUNTRY_INFO!F29>MAX('T1'!M29,'T2'!K29),MAX('T1'!M29,'T2'!K29),COUNTRY_INFO!F29),0)))","v":0},{"$f":"IF(AND(COUNTRY_INFO!K29>0,COUNTRY_INFO!K29<4),IF(Z29>0,IF(COUNTRY_INFO!K29=1, AD29/(COUNTRY_INFO!F29*0.33)*100, IF(COUNTRY_INFO!K29=2, AD29/(COUNTRY_INFO!F29*0.5)*100, IF(COUNTRY_INFO!K29=3, AD29/COUNTRY_INFO!F29*100))),\"-\"),0)","v":0},{"$f":"IF(COUNTRY_INFO!K29=2,IF(COUNTRY_INFO!G29*0.2>MAX('T1'!N29,'T2'!L29),MAX('T1'!N29,'T2'!L29),COUNTRY_INFO!G29*0.2),IF(COUNTRY_INFO!K29=3,IF(COUNTRY_INFO!G29>MAX('T1'!N29,'T2'!L29),MAX('T1'!N29,'T2'!L29),COUNTRY_INFO!G29),0))","v":0},{"$f":"IF(AND(COUNTRY_INFO!K29>0,COUNTRY_INFO!K29<4),IF(Z29>0,IF(COUNTRY_INFO!K29=1, 0, IF(COUNTRY_INFO!K29=2, AF29/(COUNTRY_INFO!G29*0.2)*100, IF(COUNTRY_INFO!K29=3, AF29/COUNTRY_INFO!G29*100))),\"-\"),0)","v":0},0,{"$f":"IF(AND(COUNTRY_INFO!K29>0,COUNTRY_INFO!K29<4), IF(AC29/Z29*100<>0, IF(AH29/Z29*100>100,100,AH29/Z29*100), \"-\"),0)","v":0},null,{"$f":"IF(AND(D29<>0, D29<>\"Inconnu\",D29<>\"Interrompu\",D29<>\"Non requis\"),D29/COUNTRY_INFO!D29, 0)","v":0},{"$f":"IF(AND(J29<>0,J29<>\"Inconnu\",J29<>\"Interrompu\",J29<>\"Non requis\"),J29/COUNTRY_INFO!D29, 0)","v":0},{"$f":"IF(AND(P29<>0,P29<>\"Inconnu\",P29<>\"Non requis\"),P29/(COUNTRY_INFO!E29+COUNTRY_INFO!F29), 0)","v":0},{"$f":"IF(AND(Z29<>0,Z29<>\"Inconnu\",Z29<>\"Non requis\"),IF(COUNTRY_INFO!K29=1,1,IF(COUNTRY_INFO!K29=2,0.5*COUNTRY_INFO!F29/(0.5*COUNTRY_INFO!F29+0.2*COUNTRY_INFO!G29),IF(COUNTRY_INFO!K29=3,COUNTRY_INFO!F29/(COUNTRY_INFO!F29+COUNTRY_INFO!G29)))),0)","v":0},{"$f":"IF(AND(Z29<>0,Z29<>\"Inconnu\",Z29<>\"Non requis\"),IF(COUNTRY_INFO!K29=1,0,IF(COUNTRY_INFO!K29=2,0.2*COUNTRY_INFO!G29/(0.5*COUNTRY_INFO!F29+0.2*COUNTRY_INFO!G29),IF(COUNTRY_INFO!K29=3,COUNTRY_INFO!G29/(COUNTRY_INFO!F29+COUNTRY_INFO!G29)))),0)","v":0},{"$f":"MAX(COUNTRY_INFO!D29*AK29*PROFILE!$G$7,COUNTRY_INFO!D29*AL29*PROFILE!$G$7)","v":0},{"$f":"MAX(COUNTRY_INFO!D29*AK29*PROFILE!$G$8,COUNTRY_INFO!D29*AL29*PROFILE!$G$8,COUNTRY_INFO!D29*AM29*PROFILE!$G$8)","v":0},{"$f":"MAX(COUNTRY_INFO!D29*AK29*PROFILE!$G$9,COUNTRY_INFO!D29*AL29*PROFILE!$G$9,COUNTRY_INFO!D29*AM29*PROFILE!$G$9,IF(AND(DISTRICT!Z29<>\"Inconnu\",Z29<>\"Non requis\"),COUNTRY_INFO!P29*DISTRICT!AN29,0))","v":0},{"$f":"MAX(COUNTRY_INFO!D29*AK29*PROFILE!$G$10,COUNTRY_INFO!D29*AL29*PROFILE!$G$10,IF(AND(DISTRICT!Z29<>\"Inconnu\",Z29<>\"Non requis\"),COUNTRY_INFO!P29*DISTRICT!AO29,0))","v":0},0,0,{"$f":"MAX('MDA4'!R29,'T1'!L29,'T2'!J29,T3_R1!K29,T3_R2!K29)","v":0},{"$f":"MAX('MDA1'!K29,'MDA4'!S29,'MDA3'!I29,'MDA3'!L29,'T1'!M29,'T2'!K29,T3_R1!L29,T3_R2!L29)","v":0},{"$f":"MAX('MDA1'!L29,'MDA4'!T29,'MDA3'!J29,'MDA3'!M29,'T1'!N29,'T2'!L29,T3_R1!M29,T3_R2!M29)","v":0},0,{"$f":"MAX('MDA4'!R29,T29)","v":0},{"$f":"MAX('MDA1'!K29,'MDA4'!S29,'MDA3'!I29,'MDA3'!L29,V29,AD29)","v":0},{"$f":"MAX('MDA1'!L29,'MDA4'!T29,'MDA3'!J29,'MDA3'!M29,AF29)","v":0},0,0]
[{"$f":"IF(COUNTRY_INFO!A30=0,\" \",COUNTRY_INFO!A30)","v":"Chad"},{"$f":"IF(COUNTRY_INFO!B30=0,\" \",COUNTRY_INFO!B30)","v":"Ennedi Est"},{"$f":"IF(COUNTRY_INFO!C30=0,\" \",COUNTRY_INFO!C30)","v":"Bahaï"},{"$f":"COUNTRY_INFO!M30","v":0},null,null,{"$f":"MAX('MDA1'!M30,'MDA4'!U30)","v":0},{"$f":"IF(AND(COUNTRY_INFO!H30>0,COUNTRY_INFO!H30<4),IF(D30>MAX('MDA1'!M30,'MDA4'!U30),MAX('MDA1'!M30,'MDA4'!U30),D30),0)","v":0},{"$f":"IF(AND(COUNTRY_INFO!H30>0,COUNTRY_INFO!H30<4), IF(G30/D30*100<>0, IF(G30/D30*100>100,100,G30/D30*100), \"-\"),0)","v":0},{"$f":"COUNTRY_INFO!N30","v":0},null,null,{"$f":"MAX('MDA1'!M30,MAX('MDA3'!I30,'MDA3'!L30)+MAX('MDA3'!J30,'MDA3'!M30))","v":0},{"$f":"IF(AND(COUNTRY_INFO!I30>0,COUNTRY_INFO!I30<4),IF(J30>MAX('MDA1'!M30,MAX('MDA3'!I30,'MDA3'!L30)+MAX('MDA3'!J30,'MDA3'!M30)),MAX('MDA1'!M30,MAX('MDA3'!I30,'MDA3'!L30)+MAX('MDA3'!J30,'MDA3'!M30)),J30),0)","v":0},{"$f":"IF(AND(COUNTRY_INFO!I30>0,COUNTRY_INFO!I30<4), IF(M30/J30*100<>0, IF(M30/J30*100>100,100,M30/J30*100), \"-\"),0)","v":0},{"$f":"COUNTRY_INFO!O30","v":0},null,null,{"$f":"SUM(MAX('MDA4'!R30, 'T1'!L30, MAX(T3_R1!K30, T3_R2!K30)), MAX('MDA1'!K30, 'MDA4'!S30, 'T1'!M30, MAX(T3_R1!L30, T3_R2!L30)), MAX('MDA1'!L30, 'MDA4'!T30, 'T1'!N30, MAX(T3_R1!M30, T3_R2!M30)))","v":0},{"$f":"IF(AND(COUNTRY_INFO!J30>1,COUNTRY_INFO!J30<4),IF(COUNTRY_INFO!E30>MAX('MDA4'!R30,'T1'!L30,MAX(T3_R1!K30,T3_R2!K30)),MAX('MDA4'!R30,'T1'!L30,MAX(T3_R1!K30,T3_R2!K30)),COUNTRY_INFO!E30),0)","v":0},{"$f":"IF(AND(COUNTRY_INFO!J30>1,COUNTRY_INFO!J30<4), IF(T30/COUNTRY_INFO!E30*100<>0, IF(T30/COUNTRY_INFO!E30*100>100,100,T30/COUNTRY_INFO!E30*100), \"-\"),0)","v":0},{"$f":"IF(AND(COUNTRY_INFO!J30>1,COUNTRY_INFO!J30<4),IF(COUNTRY_INFO!F30>MAX('MDA1'!K30,'MDA4'!S30,'T1'!M30,MAX(T3_R1!L30,T3_R2!L30)),MAX('MDA1'!K30,'MDA4'!S30,'T1'!M30,MAX(T3_R1!L30,T3_R2!L30)),COUNTRY_INFO!F30),0)","v":0},{"$f":"IF(AND(COUNTRY_INFO!J30>1,COUNTRY_INFO!J30<4), IF(V30/COUNTRY_INFO!F30*100<>0, IF(V30/COUNTRY_INFO!F30*100>100,100,V30/COUNTRY_INFO!F30*100), \"-\"),0)","v":0},0,{"$f":"IF(AND(COUNTRY_INFO!J30>1,COUNTRY_INFO!J30<4), IF(S30/P30*100<>0, IF(X30/P30*100>100,100,X30/P30*100), \"-\"),0)","v":0},{"$f":"COUNTRY_INFO!P30","v":0},null,null,{"$f":"MAX('T1'!L30,'T2'!J30)+MAX('T1'!M30,'T2'!K30)+MAX('T1'!N30,'T2'!L30)","v":0},{"$f":"IF(COUNTRY_INFO!K30=1,IF(COUNTRY_INFO!F30*0.33>MAX('T1'!M30,'T2'!K30),MAX('T1'!M30,'T2'!K30),COUNTRY_INFO!F30*0.33),IF(COUNTRY_INFO!K30=2,IF(COUNTRY_INFO!F30*0.5>MAX('T1'!M30,'T2'!K30),MAX('T1'!M30,'T2'!K30),COUNTRY_INFO!F30*0.5),IF(COUNTRY_INFO!K30=3,IF(COUNTRY_INFO!F30>MAX('T1'!M30,'T2'!K30),MAX('T1'!M30,'T2'!K30),COUNTRY_INFO!F30),0)))","v":0},{"$f":"IF(AND(COUNTRY_INFO!K30>0,COUNTRY_INFO!K30<4),IF(Z30>0,IF(COUNTRY_INFO!K30=1, AD30/(COUNTRY_INFO!F30*0.33)*100, IF(COUNTRY_INFO!K30=2, AD30/(COUNTRY_INFO!F30*0.5)*100, IF(COUNTRY_INFO!K30=3, AD30/COUNTRY_INFO!F30*100))),\"-\"),0)","v":0},{"$f":"IF(COUNTRY_INFO!K30=2,IF(COUNTRY_INFO!G30*0.2>MAX('T1'!N30,'T2'!L30),MAX('T1'!N30,'T2'!L30),COUNTRY_INFO!G30*0.2),IF(COUNTRY_INFO!K30=3,IF(COUNTRY_INFO!G30>MAX('T1'!N30,'T2'!L30),MAX('T1'!N30,'T2'!L30),COUNTRY_INFO!G30),0))","v":0},{"$f":"IF(AND(COUNTRY_INFO!K30>0,COUNTRY_INFO!K30<4),IF(Z30>0,IF(COUNTRY_INFO!K30=1, 0, IF(COUNTRY_INFO!K30=2, AF30/(COUNTRY_INFO!G30*0.2)*100, IF(COUNTRY_INFO!K30=3, AF30/COUNTRY_INFO!G30*100))),\"-\"),0)","v":0},0,{"$f":"IF(AND(COUNTRY_INFO!K30>0,COUNTRY_INFO!K30<4), IF(AC30/Z30*100<>0, IF(AH30/Z30*100>100,100,AH30/Z30*100), \"-\"),0)","v":0},null,{"$f":"IF(AND(D30<>0, D30<>\"Inconnu\",D30<>\"Interrompu\",D30<>\"Non requis\"),D30/COUNTRY_INFO!D30, 0)","v":0},{"$f":"IF(AND(J30<>0,J30<>\"Inconnu\",J30<>\"Interrompu\",J30<>\"Non requis\"),J30/COUNTRY_INFO!D30, 0)","v":0},{"$f":"IF(AND(P30<>0,P30<>\"Inconnu\",P30<>\"Non requis\"),P30/(COUNTRY_INFO!E30+COUNTRY_INFO!F30), 0)","v":0},{"$f":"IF(AND(Z30<>0,Z30<>\"Inconnu\",Z30<>\"Non requis\"),IF(COUNTRY_INFO!K30=1,1,IF(COUNTRY_INFO!K30=2,0.5*COUNTRY_INFO!F30/(0.5*COUNTRY_INFO!F30+0.2*COUNTRY_INFO!G30),IF(COUNTRY_INFO!K30=3,COUNTRY_INFO!F30/(COUNTRY_INFO!F30+COUNTRY_INFO!G30)))),0)","v":0},{"$f":"IF(AND(Z30<>0,Z30<>\"Inconnu\",Z30<>\"Non requis\"),IF(COUNTRY_INFO!K30=1,0,IF(COUNTRY_INFO!K30=2,0.2*COUNTRY_INFO!G30/(0.5*COUNTRY_INFO!F30+0.2*COUNTRY_INFO!G30),IF(COUNTRY_INFO!K30=3,COUNTRY_INFO!G30/(COUNTRY_INFO!F30+COUNTRY_INFO!G30)))),0)","v":0},{"$f":"MAX(COUNTRY_INFO!D30*AK30*PROFILE!$G$7,COUNTRY_INFO!D30*AL30*PROFILE!$G$7)","v":0},{"$f":"MAX(COUNTRY_INFO!D30*AK30*PROFILE!$G$8,COUNTRY_INFO!D30*AL30*PROFILE!$G$8,COUNTRY_INFO!D30*AM30*PROFILE!$G$8)","v":0},{"$f":"MAX(COUNTRY_INFO!D30*AK30*PROFILE!$G$9,COUNTRY_INFO!D30*AL30*PROFILE!$G$9,COUNTRY_INFO!D30*AM30*PROFILE!$G$9,IF(AND(DISTRICT!Z30<>\"Inconnu\",Z30<>\"Non requis\"),COUNTRY_INFO!P30*DISTRICT!AN30,0))","v":0},{"$f":"MAX(COUNTRY_INFO!D30*AK30*PROFILE!$G$10,COUNTRY_INFO!D30*AL30*PROFILE!$G$10,IF(AND(DISTRICT!Z30<>\"Inconnu\",Z30<>\"Non requis\"),COUNTRY_INFO!P30*DISTRICT!AO30,0))","v":0},0,0,{"$f":"MAX('MDA4'!R30,'T1'!L30,'T2'!J30,T3_R1!K30,T3_R2!K30)","v":0},{"$f":"MAX('MDA1'!K30,'MDA4'!S30,'MDA3'!I30,'MDA3'!L30,'T1'!M30,'T2'!K30,T3_R1!L30,T3_R2!L30)","v":0},{"$f":"MAX('MDA1'!L30,'MDA4'!T30,'MDA3'!J30,'MDA3'!M30,'T1'!N30,'T2'!L30,T3_R1!M30,T3_R2!M30)","v":0},0,{"$f":"MAX('MDA4'!R30,T30)","v":0},{"$f":"MAX('MDA1'!K30,'MDA4'!S30,'MDA3'!I30,'MDA3'!L30,V30,AD30)","v":0},{"$f":"MAX('MDA1'!L30,'MDA4'!T30,'MDA3'!J30,'MDA3'!M30,AF30)","v":0},0,0]
[{"$f":"IF(COUNTRY_INFO!A31=0,\" \",COUNTRY_INFO!A31)","v":"Chad"},{"$f":"IF(COUNTRY_INFO!B31=0,\" \",COUNTRY_INFO!B31)","v":"Ennedi Est"},{"$f":"IF(COUNTRY_INFO!C31=0,\" \",COUNTRY_INFO!C31)","v":"Kaoura"},{"$f":"COUNTRY_INFO!M31","v":0},null,null,{"$f":"MAX('MDA1'!M31,'MDA4'!U31)","v":0},{"$f":"IF(AND(COUNTRY_INFO!H31>0,COUNTRY_INFO!H31<4),IF(D31>MAX('MDA1'!M31,'MDA4'!U31),MAX('MDA1'!M31,'MDA4'!U31),D31),0)","v":0},{"$f":"IF(AND(COUNTRY_INFO!H31>0,COUNTRY_INFO!H31<4), IF(G31/D31*100<>0, IF(G31/D31*100>100,100,G31/D31*100), \"-\"),0)","v":0},{"$f":"COUNTRY_INFO!N31","v":0},null,null,{"$f":"MAX('MDA1'!M31,MAX('MDA3'!I31,'MDA3'!L31)+MAX('MDA3'!J31,'MDA3'!M31))","v":0},{"$f":"IF(AND(COUNTRY_INFO!I31>0,COUNTRY_INFO!I31<4),IF(J31>MAX('MDA1'!M31,MAX('MDA3'!I31,'MDA3'!L31)+MAX('MDA3'!J31,'MDA3'!M31)),MAX('MDA1'!M31,MAX('MDA3'!I31,'MDA3'!L31)+MAX('MDA3'!J31,'MDA3'!M31)),J31),0)","v":0},{"$f":"IF(AND(COUNTRY_INFO!I31>0,COUNTRY_INFO!I31<4), IF(M31/J31*100<>0, IF(M31/J31*100>100,100,M31/J31*100), \"-\"),0)","v":0},{"$f":"COUNTRY_INFO!O31","v":0},null,null,{"$f":"SUM(MAX('MDA4'!R31, 'T1'!L31, MAX(T3_R1!K31, T3_R2!K31)), MAX('MDA1'!K31, 'MDA4'!S31, 'T1'!M31, MAX(T3_R1!L31, T3_R2!L31)), MAX('MDA1'!L31, 'MDA4'!T31, 'T1'!N31, MAX(T3_R1!M31, T3_R2!M31)))","v":0},{"$f":"IF(AND(COUNTRY_INFO!J31>1,COUNTRY_INFO!J31<4),IF(COUNTRY_INFO!E31>MAX('MDA4'!R31,'T1'!L31,MAX(T3_R1!K31,T3_R2!K31)),MAX('MDA4'!R31,'T1'!L31,MAX(T3_R1!K31,T3_R2!K31)),COUNTRY_INFO!E31),0)","v":0},{"$f":"IF(AND(COUNTRY_INFO!J31>1,COUNTRY_INFO!J31<4), IF(T31/COUNTRY_INFO!E31*100<>0, IF(T31/COUNTRY_INFO!E31*100>100,100,T31/COUNTRY_INFO!E31*100), \"-\"),0)","v":0},{"$f":"IF(AND(COUNTRY_INFO!J31>1,COUNTRY_INFO!J31<4),IF(COUNTRY_INFO!F31>MAX('MDA1'!K31,'MDA4'!S31,'T1'!M31,MAX(T3_R1!L31,T3_R2!L31)),MAX('MDA1'!K31,'MDA4'!S31,'T1'!M31,MAX(T3_R1!L31,T3_R2!L31)),COUNTRY_INFO!F31),0)","v":0},{"$f":"IF(AND(COUNTRY_INFO!J31>1,COUNTRY_INFO!J31<4), IF(V31/COUNTRY_INFO!F31*100<>0, IF(V31/COUNTRY_INFO!F31*100>100,100,V31/COUNTRY_INFO!F31*100), \"-\"),0)","v":0},0,{"$f":"IF(AND(COUNTRY_INFO!J31>1,COUNTRY_INFO!J31<4), IF(S31/P31*100<>0, IF(X31/P31*100>100,100,X31/P31*100), \"-\"),0)","v":0},{"$f":"COUNTRY_INFO!P31","v":3599.9700000000003},null,null,{"$f":"MAX('T1'!L31,'T2'!J31)+MAX('T1'!M31,'T2'!K31)+MAX('T1'!N31,'T2'!L31)","v":0},{"$f":"IF(COUNTRY_INFO!K31=1,IF(COUNTRY_INFO!F31*0.33>MAX('T1'!M31,'T2'!K31),MAX('T1'!M31,'T2'!K31),COUNTRY_INFO!F31*0.33),IF(COUNTRY_INFO!K31=2,IF(COUNTRY_INFO!F31*0.5>MAX('T1'!M31,'T2'!K31),MAX('T1'!M31,'T2'!K31),COUNTRY_INFO!F31*0.5),IF(COUNTRY_INFO!K31=3,IF(COUNTRY_INFO!F31>MAX('T1'!M31,'T2'!K31),MAX('T1'!M31,'T2'!K31),COUNTRY_INFO!F31),0)))","v":0},{"$f":"IF(AND(COUNTRY_INFO!K31>0,COUNTRY_INFO!K31<4),IF(Z31>0,IF(COUNTRY_INFO!K31=1, AD31/(COUNTRY_INFO!F31*0.33)*100, IF(COUNTRY_INFO!K31=2, AD31/(COUNTRY_INFO!F31*0.5)*100, IF(COUNTRY_INFO!K31=3, AD31/COUNTRY_INFO!F31*100))),\"-\"),0)","v":0},{"$f":"IF(COUNTRY_INFO!K31=2,IF(COUNTRY_INFO!G31*0.2>MAX('T1'!N31,'T2'!L31),MAX('T1'!N31,'T2'!L31),COUNTRY_INFO!G31*0.2),IF(COUNTRY_INFO!K31=3,IF(COUNTRY_INFO!G31>MAX('T1'!N31,'T2'!L31),MAX('T1'!N31,'T2'!L31),COUNTRY_INFO!G31),0))","v":0},{"$f":"IF(AND(COUNTRY_INFO!K31>0,COUNTRY_INFO!K31<4),IF(Z31>0,IF(COUNTRY_INFO!K31=1, 0, IF(COUNTRY_INFO!K31=2, AF31/(COUNTRY_INFO!G31*0.2)*100, IF(COUNTRY_INFO!K31=3, AF31/COUNTRY_INFO!G31*100))),\"-\"),0)","v":0},0,{"$f":"IF(AND(COUNTRY_INFO!K31>0,COUNTRY_INFO!K31<4), IF(AC31/Z31*100<>0, IF(AH31/Z31*100>100,100,AH31/Z31*100), \"-\"),0)","v":"-"},null,{"$f":"IF(AND(D31<>0, D31<>\"Inconnu\",D31<>\"Interrompu\",D31<>\"Non requis\"),D31/COUNTRY_INFO!D31, 0)","v":0},{"$f":"IF(AND(J31<>0,J31<>\"Inconnu\",J31<>\"Interrompu\",J31<>\"Non requis\"),J31/COUNTRY_INFO!D31, 0)","v":0},{"$f":"IF(AND(P31<>0,P31<>\"Inconnu\",P31<>\"Non requis\"),P31/(COUNTRY_INFO!E31+COUNTRY_INFO!F31), 0)","v":0},{"$f":"IF(AND(Z31<>0,Z31<>\"Inconnu\",Z31<>\"Non requis\"),IF(COUNTRY_INFO!K31=1,1,IF(COUNTRY_INFO!K31=2,0.5*COUNTRY_INFO!F31/(0.5*COUNTRY_INFO!F31+0.2*COUNTRY_INFO!G31),IF(COUNTRY_INFO!K31=3,COUNTRY_INFO!F31/(COUNTRY_INFO!F31+COUNTRY_INFO!G31)))),0)","v":1},{"$f":"IF(AND(Z31<>0,Z31<>\"Inconnu\",Z31<>\"Non requis\"),IF(COUNTRY_INFO!K31=1,0,IF(COUNTRY_INFO!K31=2,0.2*COUNTRY_INFO!G31/(0.5*COUNTRY_INFO!F31+0.2*COUNTRY_INFO!G31),IF(COUNTRY_INFO!K31=3,COUNTRY_INFO!G31/(COUNTRY_INFO!F31+COUNTRY_INFO!G31)))),0)","v":0},{"$f":"MAX(COUNTRY_INFO!D31*AK31*PROFILE!$G$7,COUNTRY_INFO!D31*AL31*PROFILE!$G$7)","v":0},{"$f":"MAX(COUNTRY_INFO!D31*AK31*PROFILE!$G$8,COUNTRY_INFO!D31*AL31*PROFILE!$G$8,COUNTRY_INFO!D31*AM31*PROFILE!$G$8)","v":0},{"$f":"MAX(COUNTRY_INFO!D31*AK31*PROFILE!$G$9,COUNTRY_INFO!D31*AL31*PROFILE!$G$9,COUNTRY_INFO!D31*AM31*PROFILE!$G$9,IF(AND(DISTRICT!Z31<>\"Inconnu\",Z31<>\"Non requis\"),COUNTRY_INFO!P31*DISTRICT!AN31,0))","v":3599.9700000000003},{"$f":"MAX(COUNTRY_INFO!D31*AK31*PROFILE!$G$10,COUNTRY_INFO!D31*AL31*PROFILE!$G$10,IF(AND(DISTRICT!Z31<>\"Inconnu\",Z31<>\"Non requis\"),COUNTRY_INFO!P31*DISTRICT!AO31,0))","v":0},3599.9700000000003,0,{"$f":"MAX('MDA4'!R31,'T1'!L31,'T2'!J31,T3_R1!K31,T3_R2!K31)","v":0},{"$f":"MAX('MDA1'!K31,'MDA4'!S31,'MDA3'!I31,'MDA3'!L31,'T1'!M31,'T2'!K31,T3_R1!L31,T3_R2!L31)","v":0},{"$f":"MAX('MDA1'!L31,'MDA4'!T31,'MDA3'!J31,'MDA3'!M31,'T1'!N31,'T2'!L31,T3_R1!M31,T3_R2!M31)","v":0},0,{"$f":"MAX('MDA4'!R31,T31)","v":0},{"$f":"MAX('MDA1'!K31,'MDA4'!S31,'MDA3'!I31,'MDA3'!L31,V31,AD31)","v":0},{"$f":"MAX('MDA1'!L31,'MDA4'!T31,'MDA3'!J31,'MDA3'!M31,AF31)","v":0},0,0]
[{"$f":"IF(COUNTRY_INFO!A32=0,\" \",COUNTRY_INFO!A32)","v":"Chad"},{"$f":"IF(COUNTRY_INFO!B32=0,\" \",COUNTRY_INFO!B32)","v":"Ennedi Est"},{"$f":"IF(COUNTRY_INFO!C32=0,\" \",COUNTRY_INFO!C32)","v":"Mourdi"},{"$f":"COUNTRY_INFO!M32","v":0},null,null,{"$f":"MAX('MDA1'!M32,'MDA4'!U32)","v":0},{"$f":"IF(AND(COUNTRY_INFO!H32>0,COUNTRY_INFO!H32<4),IF(D32>MAX('MDA1'!M32,'MDA4'!U32),MAX('MDA1'!M32,'MDA4'!U32),D32),0)","v":0},{"$f":"IF(AND(COUNTRY_INFO!H32>0,COUNTRY_INFO!H32<4), IF(G32/D32*100<>0, IF(G32/D32*100>100,100,G32/D32*100), \"-\"),0)","v":0},{"$f":"COUNTRY_INFO!N32","v":0},null,null,{"$f":"MAX('MDA1'!M32,MAX('MDA3'!I32,'MDA3'!L32)+MAX('MDA3'!J32,'MDA3'!M32))","v":0},{"$f":"IF(AND(COUNTRY_INFO!I32>0,COUNTRY_INFO!I32<4),IF(J32>MAX('MDA1'!M32,MAX('MDA3'!I32,'MDA3'!L32)+MAX('MDA3'!J32,'MDA3'!M32)),MAX('MDA1'!M32,MAX('MDA3'!I32,'MDA3'!L32)+MAX('MDA3'!J32,'MDA3'!M32)),J32),0)","v":0},{"$f":"IF(AND(COUNTRY_INFO!I32>0,COUNTRY_INFO!I32<4), IF(M32/J32*100<>0, IF(M32/J32*100>100,100,M32/J32*100), \"-\"),0)","v":0},{"$f":"COUNTRY_INFO!O32","v":0},null,null,{"$f":"SUM(MAX('MDA4'!R32, 'T1'!L32, MAX(T3_R1!K32, T3_R2!K32)), MAX('MDA1'!K32, 'MDA4'!S32, 'T1'!M32, MAX(T3_R1!L32, T3_R2!L32)), MAX('MDA1'!L32, 'MDA4'!T32, 'T1'!N32, MAX(T3_R1!M32, T3_R2!M32)))","v":0},{"$f":"IF(AND(COUNTRY_INFO!J32>1,COUNTRY_INFO!J32<4),IF(COUNTRY_INFO!E32>MAX('MDA4'!R32,'T1'!L32,MAX(T3_R1!K32,T3_R2!K32)),MAX('MDA4'!R32,'T1'!L32,MAX(T3_R1!K32,T3_R2!K32)),COUNTRY_INFO!E32),0)","v":0},{"$f":"IF(AND(COUNTRY_INFO!J32>1,COUNTRY_INFO!J32<4), IF(T32/COUNTRY_INFO!E32*100<>0, IF(T32/COUNTRY_INFO!E32*100>100,100,T32/COUNTRY_INFO!E32*100), \"-\"),0)","v":0},{"$f":"IF(AND(COUNTRY_INFO!J32>1,COUNTRY_INFO!J32<4),IF(COUNTRY_INFO!F32>MAX('MDA1'!K32,'MDA4'!S32,'T1'!M32,MAX(T3_R1!L32,T3_R2!L32)),MAX('MDA1'!K32,'MDA4'!S32,'T1'!M32,MAX(T3_R1!L32,T3_R2!L32)),COUNTRY_INFO!F32),0)","v":0},{"$f":"IF(AND(COUNTRY_INFO!J32>1,COUNTRY_INFO!J32<4), IF(V32/COUNTRY_INFO!F32*100<>0, IF(V32/COUNTRY_INFO!F32*100>100,100,V32/COUNTRY_INFO!F32*100), \"-\"),0)","v":0},0,{"$f":"IF(AND(COUNTRY_INFO!J32>1,COUNTRY_INFO!J32<4), IF(S32/P32*100<>0, IF(X32/P32*100>100,100,X32/P32*100), \"-\"),0)","v":0},{"$f":"COUNTRY_INFO!P32","v":1308.45},null,null,{"$f":"MAX('T1'!L32,'T2'!J32)+MAX('T1'!M32,'T2'!K32)+MAX('T1'!N32,'T2'!L32)","v":0},{"$f":"IF(COUNTRY_INFO!K32=1,IF(COUNTRY_INFO!F32*0.33>MAX('T1'!M32,'T2'!K32),MAX('T1'!M32,'T2'!K32),COUNTRY_INFO!F32*0.33),IF(COUNTRY_INFO!K32=2,IF(COUNTRY_INFO!F32*0.5>MAX('T1'!M32,'T2'!K32),MAX('T1'!M32,'T2'!K32),COUNTRY_INFO!F32*0.5),IF(COUNTRY_INFO!K32=3,IF(COUNTRY_INFO!F32>MAX('T1'!M32,'T2'!K32),MAX('T1'!M32,'T2'!K32),COUNTRY_INFO!F32),0)))","v":0},{"$f":"IF(AND(COUNTRY_INFO!K32>0,COUNTRY_INFO!K32<4),IF(Z32>0,IF(COUNTRY_INFO!K32=1, AD32/(COUNTRY_INFO!F32*0.33)*100, IF(COUNTRY_INFO!K32=2, AD32/(COUNTRY_INFO!F32*0.5)*100, IF(COUNTRY_INFO!K32=3, AD32/COUNTRY_INFO!F32*100))),\"-\"),0)","v":0},{"$f":"IF(COUNTRY_INFO!K32=2,IF(COUNTRY_INFO!G32*0.2>MAX('T1'!N32,'T2'!L32),MAX('T1'!N32,'T2'!L32),COUNTRY_INFO!G32*0.2),IF(COUNTRY_INFO!K32=3,IF(COUNTRY_INFO!G32>MAX('T1'!N32,'T2'!L32),MAX('T1'!N32,'T2'!L32),COUNTRY_INFO!G32),0))","v":0},{"$f":"IF(AND(COUNTRY_INFO!K32>0,COUNTRY_INFO!K32<4),IF(Z32>0,IF(COUNTRY_INFO!K32=1, 0, IF(COUNTRY_INFO!K32=2, AF32/(COUNTRY_INFO!G32*0.2)*100, IF(COUNTRY_INFO!K32=3, AF32/COUNTRY_INFO!G32*100))),\"-\"),0)","v":0},0,{"$f":"IF(AND(COUNTRY_INFO!K32>0,COUNTRY_INFO!K32<4), IF(AC32/Z32*100<>0, IF(AH32/Z32*100>100,100,AH32/Z32*100), \"-\"),0)","v":"-"},null,{"$f":"IF(AND(D32<>0, D32<>\"Inconnu\",D32<>\"Interrompu\",D32<>\"Non requis\"),D32/COUNTRY_INFO!D32, 0)","v":0},{"$f":"IF(AND(J32<>0,J32<>\"Inconnu\",J32<>\"Interrompu\",J32<>\"Non requis\"),J32/COUNTRY_INFO!D32, 0)","v":0},{"$f":"IF(AND(P32<>0,P32<>\"Inconnu\",P32<>\"Non requis\"),P32/(COUNTRY_INFO!E32+COUNTRY_INFO!F32), 0)","v":0},{"$f":"IF(AND(Z32<>0,Z32<>\"Inconnu\",Z32<>\"Non requis\"),IF(COUNTRY_INFO!K32=1,1,IF(COUNTRY_INFO!K32=2,0.5*COUNTRY_INFO!F32/(0.5*COUNTRY_INFO!F32+0.2*COUNTRY_INFO!G32),IF(COUNTRY_INFO!K32=3,COUNTRY_INFO!F32/(COUNTRY_INFO!F32+COUNTRY_INFO!G32)))),0)","v":1},{"$f":"IF(AND(Z32<>0,Z32<>\"Inconnu\",Z32<>\"Non requis\"),IF(COUNTRY_INFO!K32=1,0,IF(COUNTRY_INFO!K32=2,0.2*COUNTRY_INFO!G32/(0.5*COUNTRY_INFO!F32+0.2*COUNTRY_INFO!G32),IF(COUNTRY_INFO!K32=3,COUNTRY_INFO!G32/(COUNTRY_INFO!F32+COUNTRY_INFO!G32)))),0)","v":0},{"$f":"MAX(COUNTRY_INFO!D32*AK32*PROFILE!$G$7,COUNTRY_INFO!D32*AL32*PROFILE!$G$7)","v":0},{"$f":"MAX(COUNTRY_INFO!D32*AK32*PROFILE!$G$8,COUNTRY_INFO!D32*AL32*PROFILE!$G$8,COUNTRY_INFO!D32*AM32*PROFILE!$G$8)","v":0},{"$f":"MAX(COUNTRY_INFO!D32*AK32*PROFILE!$G$9,COUNTRY_INFO!D32*AL32*PROFILE!$G$9,COUNTRY_INFO!D32*AM32*PROFILE!$G$9,IF(AND(DISTRICT!Z32<>\"Inconnu\",Z32<>\"Non requis\"),COUNTRY_INFO!P32*DISTRICT!AN32,0))","v":1308.45},{"$f":"MAX(COUNTRY_INFO!D32*AK32*PROFILE!$G$10,COUNTRY_INFO!D32*AL32*PROFILE!$G$10,IF(AND(DISTRICT!Z32<>\"Inconnu\",Z32<>\"Non requis\"),COUNTRY_INFO!P32*DISTRICT!AO32,0))","v":0},1308.45,0,{"$f":"MAX('MDA4'!R32,'T1'!L32,'T2'!J32,T3_R1!K32,T3_R2!K32)","v":0},{"$f":"MAX('MDA1'!K32,'MDA4'!S32,'MDA3'!I32,'MDA3'!L32,'T1'!M32,'T2'!K32,T3_R1!L32,T3_R2!L32)","v":0},{"$f":"MAX('MDA1'!L32,'MDA4'!T32,'MDA3'!J32,'MDA3'!M32,'T1'!N32,'T2'!L32,T3_R1!M32,T3_R2!M32)","v":0},0,{"$f":"MAX('MDA4'!R32,T32)","v":0},{"$f":"MAX('MDA1'!K32,'MDA4'!S32,'MDA3'!I32,'MDA3'!L32,V32,AD32)","v":0},{"$f":"MAX('MDA1'!L32,'MDA4'!T32,'MDA3'!J32,'MDA3'!M32,AF32)","v":0},0,0]
[{"$f":"IF(COUNTRY_INFO!A33=0,\" \",COUNTRY_INFO!A33)","v":"Chad"},{"$f":"IF(COUNTRY_INFO!B33=0,\" \",COUNTRY_INFO!B33)","v":"Ennedi Ouest"},{"$f":"IF(COUNTRY_INFO!C33=0,\" \",COUNTRY_INFO!C33)","v":"Fada"},{"$f":"COUNTRY_INFO!M33","v":0},null,null,{"$f":"MAX('MDA1'!M33,'MDA4'!U33)","v":0},{"$f":"IF(AND(COUNTRY_INFO!H33>0,COUNTRY_INFO!H33<4),IF(D33>MAX('MDA1'!M33,'MDA4'!U33),MAX('MDA1'!M33,'MDA4'!U33),D33),0)","v":0},{"$f":"IF(AND(COUNTRY_INFO!H33>0,COUNTRY_INFO!H33<4), IF(G33/D33*100<>0, IF(G33/D33*100>100,100,G33/D33*100), \"-\"),0)","v":0},{"$f":"COUNTRY_INFO!N33","v":0},null,null,{"$f":"MAX('MDA1'!M33,MAX('MDA3'!I33,'MDA3'!L33)+MAX('MDA3'!J33,'MDA3'!M33))","v":0},{"$f":"IF(AND(COUNTRY_INFO!I33>0,COUNTRY_INFO!I33<4),IF(J33>MAX('MDA1'!M33,MAX('MDA3'!I33,'MDA3'!L33)+MAX('MDA3'!J33,'MDA3'!M33)),MAX('MDA1'!M33,MAX('MDA3'!I33,'MDA3'!L33)+MAX('MDA3'!J33,'MDA3'!M33)),J33),0)","v":0},{"$f":"IF(AND(COUNTRY_INFO!I33>0,COUNTRY_INFO!I33<4), IF(M33/J33*100<>0, IF(M33/J33*100>100,100,M33/J33*100), \"-\"),0)","v":0},{"$f":"COUNTRY_INFO!O33","v":0},null,null,{"$f":"SUM(MAX('MDA4'!R33, 'T1'!L33, MAX(T3_R1!K33, T3_R2!K33)), MAX('MDA1'!K33, 'MDA4'!S33, 'T1'!M33, MAX(T3_R1!L33, T3_R2!L33)), MAX('MDA1'!L33, 'MDA4'!T33, 'T1'!N33, MAX(T3_R1!M33, T3_R2!M33)))","v":0},{"$f":"IF(AND(COUNTRY_INFO!J33>1,COUNTRY_INFO!J33<4),IF(COUNTRY_INFO!E33>MAX('MDA4'!R33,'T1'!L33,MAX(T3_R1!K33,T3_R2!K33)),MAX('MDA4'!R33,'T1'!L33,MAX(T3_R1!K33,T3_R2!K33)),COUNTRY_INFO!E33),0)","v":0},{"$f":"IF(AND(COUNTRY_INFO!J33>1,COUNTRY_INFO!J33<4), IF(T33/COUNTRY_INFO!E33*100<>0, IF(T33/COUNTRY_INFO!E33*100>100,100,T33/COUNTRY_INFO!E33*100), \"-\"),0)","v":0},{"$f":"IF(AND(COUNTRY_INFO!J33>1,COUNTRY_INFO!J33<4),IF(COUNTRY_INFO!F33>MAX('MDA1'!K33,'MDA4'!S33,'T1'!M33,MAX(T3_R1!L33,T3_R2!L33)),MAX('MDA1'!K33,'MDA4'!S33,'T1'!M33,MAX(T3_R1!L33,T3_R2!L33)),COUNTRY_INFO!F33),0)","v":0},{"$f":"IF(AND(COUNTRY_INFO!J33>1,COUNTRY_INFO!J33<4), IF(V33/COUNTRY_INFO!F33*100<>0, IF(V33/COUNTRY_INFO!F33*100>100,100,V33/COUNTRY_INFO!F33*100), \"-\"),0)","v":0},0,{"$f":"IF(AND(COUNTRY_INFO!J33>1,COUNTRY_INFO!J33<4), IF(S33/P33*100<>0, IF(X33/P33*100>100,100,X33/P33*100), \"-\"),0)","v":0},{"$f":"COUNTRY_INFO!P33","v":2565.09},null,null,{"$f":"MAX('T1'!L33,'T2'!J33)+MAX('T1'!M33,'T2'!K33)+MAX('T1'!N33,'T2'!L33)","v":0},{"$f":"IF(COUNTRY_INFO!K33=1,IF(COUNTRY_INFO!F33*0.33>MAX('T1'!M33,'T2'!K33),MAX('T1'!M33,'T2'!K33),COUNTRY_INFO!F33*0.33),IF(COUNTRY_INFO!K33=2,IF(COUNTRY_INFO!F33*0.5>MAX('T1'!M33,'T2'!K33),MAX('T1'!M33,'T2'!K33),COUNTRY_INFO!F33*0.5),IF(COUNTRY_INFO!K33=3,IF(COUNTRY_INFO!F33>MAX('T1'!M33,'T2'!K33),MAX('T1'!M33,'T2'!K33),COUNTRY_INFO!F33),0)))","v":0},{"$f":"IF(AND(COUNTRY_INFO!K33>0,COUNTRY_INFO!K33<4),IF(Z33>0,IF(COUNTRY_INFO!K33=1, AD33/(COUNTRY_INFO!F33*0.33)*100, IF(COUNTRY_INFO!K33=2, AD33/(COUNTRY_INFO!F33*0.5)*100, IF(COUNTRY_INFO!K33=3, AD33/COUNTRY_INFO!F33*100))),\"-\"),0)","v":0},{"$f":"IF(COUNTRY_INFO!K33=2,IF(COUNTRY_INFO!G33*0.2>MAX('T1'!N33,'T2'!L33),MAX('T1'!N33,'T2'!L33),COUNTRY_INFO!G33*0.2),IF(COUNTRY_INFO!K33=3,IF(COUNTRY_INFO!G33>MAX('T1'!N33,'T2'!L33),MAX('T1'!N33,'T2'!L33),COUNTRY_INFO!G33),0))","v":0},{"$f":"IF(AND(COUNTRY_INFO!K33>0,COUNTRY_INFO!K33<4),IF(Z33>0,IF(COUNTRY_INFO!K33=1, 0, IF(COUNTRY_INFO!K33=2, AF33/(COUNTRY_INFO!G33*0.2)*100, IF(COUNTRY_INFO!K33=3, AF33/COUNTRY_INFO!G33*100))),\"-\"),0)","v":0},0,{"$f":"IF(AND(COUNTRY_INFO!K33>0,COUNTRY_INFO!K33<4), IF(AC33/Z33*100<>0, IF(AH33/Z33*100>100,100,AH33/Z33*100), \"-\"),0)","v":"-"},null,{"$f":"IF(AND(D33<>0, D33<>\"Inconnu\",D33<>\"Interrompu\",D33<>\"Non requis\"),D33/COUNTRY_INFO!D33, 0)","v":0},{"$f":"IF(AND(J33<>0,J33<>\"Inconnu\",J33<>\"Interrompu\",J33<>\"Non requis\"),J33/COUNTRY_INFO!D33, 0)","v":0},{"$f":"IF(AND(P33<>0,P33<>\"Inconnu\",P33<>\"Non requis\"),P33/(COUNTRY_INFO!E33+COUNTRY_INFO!F33), 0)","v":0},{"$f":"IF(AND(Z33<>0,Z33<>\"Inconnu\",Z33<>\"Non requis\"),IF(COUNTRY_INFO!K33=1,1,IF(COUNTRY_INFO!K33=2,0.5*COUNTRY_INFO!F33/(0.5*COUNTRY_INFO!F33+0.2*COUNTRY_INFO!G33),IF(COUNTRY_INFO!K33=3,COUNTRY_INFO!F33/(COUNTRY_INFO!F33+COUNTRY_INFO!G33)))),0)","v":1},{"$f":"IF(AND(Z33<>0,Z33<>\"Inconnu\",Z33<>\"Non requis\"),IF(COUNTRY_INFO!K33=1,0,IF(COUNTRY_INFO!K33=2,0.2*COUNTRY_INFO!G33/(0.5*COUNTRY_INFO!F33+0.2*COUNTRY_INFO!G33),IF(COUNTRY_INFO!K33=3,COUNTRY_INFO!G33/(COUNTRY_INFO!F33+COUNTRY_INFO!G33)))),0)","v":0},{"$f":"MAX(COUNTRY_INFO!D33*AK33*PROFILE!$G$7,COUNTRY_INFO!D33*AL33*PROFILE!$G$7)","v":0},{"$f":"MAX(COUNTRY_INFO!D33*AK33*PROFILE!$G$8,COUNTRY_INFO!D33*AL33*PROFILE!$G$8,COUNTRY_INFO!D33*AM33*PROFILE!$G$8)","v":0},{"$f":"MAX(COUNTRY_INFO!D33*AK33*PROFILE!$G$9,COUNTRY_INFO!D33*AL33*PROFILE!$G$9,COUNTRY_INFO!D33*AM33*PROFILE!$G$9,IF(AND(DISTRICT!Z33<>\"Inconnu\",Z33<>\"Non requis\"),COUNTRY_INFO!P33*DISTRICT!AN33,0))","v":2565.09},{"$f":"MAX(COUNTRY_INFO!D33*AK33*PROFILE!$G$10,COUNTRY_INFO!D33*AL33*PROFILE!$G$10,IF(AND(DISTRICT!Z33<>\"Inconnu\",Z33<>\"Non requis\"),COUNTRY_INFO!P33*DISTRICT!AO33,0))","v":0},2565.09,0,{"$f":"MAX('MDA4'!R33,'T1'!L33,'T2'!J33,T3_R1!K33,T3_R2!K33)","v":0},{"$f":"MAX('MDA1'!K33,'MDA4'!S33,'MDA3'!I33,'MDA3'!L33,'T1'!M33,'T2'!K33,T3_R1!L33,T3_R2!L33)","v":0},{"$f":"MAX('MDA1'!L33,'MDA4'!T33,'MDA3'!J33,'MDA3'!M33,'T1'!N33,'T2'!L33,T3_R1!M33,T3_R2!M33)","v":0},0,{"$f":"MAX('MDA4'!R33,T33)","v":0},{"$f":"MAX('MDA1'!K33,'MDA4'!S33,'MDA3'!I33,'MDA3'!L33,V33,AD33)","v":0},{"$f":"MAX('MDA1'!L33,'MDA4'!T33,'MDA3'!J33,'MDA3'!M33,AF33)","v":0},0,0]
[{"$f":"IF(COUNTRY_INFO!A34=0,\" \",COUNTRY_INFO!A34)","v":"Chad"},{"$f":"IF(COUNTRY_INFO!B34=0,\" \",COUNTRY_INFO!B34)","v":"Ennedi Ouest"},{"$f":"IF(COUNTRY_INFO!C34=0,\" \",COUNTRY_INFO!C34)","v":"Kalaït"},{"$f":"COUNTRY_INFO!M34","v":0},null,null,{"$f":"MAX('MDA1'!M34,'MDA4'!U34)","v":0},{"$f":"IF(AND(COUNTRY_INFO!H34>0,COUNTRY_INFO!H34<4),IF(D34>MAX('MDA1'!M34,'MDA4'!U34),MAX('MDA1'!M34,'MDA4'!U34),D34),0)","v":0},{"$f":"IF(AND(COUNTRY_INFO!H34>0,COUNTRY_INFO!H34<4), IF(G34/D34*100<>0, IF(G34/D34*100>100,100,G34/D34*100), \"-\"),0)","v":0},{"$f":"COUNTRY_INFO!N34","v":0},null,null,{"$f":"MAX('MDA1'!M34,MAX('MDA3'!I34,'MDA3'!L34)+MAX('MDA3'!J34,'MDA3'!M34))","v":0},{"$f":"IF(AND(COUNTRY_INFO!I34>0,COUNTRY_INFO!I34<4),IF(J34>MAX('MDA1'!M34,MAX('MDA3'!I34,'MDA3'!L34)+MAX('MDA3'!J34,'MDA3'!M34)),MAX('MDA1'!M34,MAX('MDA3'!I34,'MDA3'!L34)+MAX('MDA3'!J34,'MDA3'!M34)),J34),0)","v":0},{"$f":"IF(AND(COUNTRY_INFO!I34>0,COUNTRY_INFO!I34<4), IF(M34/J34*100<>0, IF(M34/J34*100>100,100,M34/J34*100), \"-\"),0)","v":0},{"$f":"COUNTRY_INFO!O34","v":0},null,null,{"$f":"SUM(MAX('MDA4'!R34, 'T1'!L34, MAX(T3_R1!K34, T3_R2!K34)), MAX('MDA1'!K34, 'MDA4'!S34, 'T1'!M34, MAX(T3_R1!L34, T3_R2!L34)), MAX('MDA1'!L34, 'MDA4'!T34, 'T1'!N34, MAX(T3_R1!M34, T3_R2!M34)))","v":0},{"$f":"IF(AND(COUNTRY_INFO!J34>1,COUNTRY_INFO!J34<4),IF(COUNTRY_INFO!E34>MAX('MDA4'!R34,'T1'!L34,MAX(T3_R1!K34,T3_R2!K34)),MAX('MDA4'!R34,'T1'!L34,MAX(T3_R1!K34,T3_R2!K34)),COUNTRY_INFO!E34),0)","v":0},{"$f":"IF(AND(COUNTRY_INFO!J34>1,COUNTRY_INFO!J34<4), IF(T34/COUNTRY_INFO!E34*100<>0, IF(T34/COUNTRY_INFO!E34*100>100,100,T34/COUNTRY_INFO!E34*100), \"-\"),0)","v":0},{"$f":"IF(AND(COUNTRY_INFO!J34>1,COUNTRY_INFO!J34<4),IF(COUNTRY_INFO!F34>MAX('MDA1'!K34,'MDA4'!S34,'T1'!M34,MAX(T3_R1!L34,T3_R2!L34)),MAX('MDA1'!K34,'MDA4'!S34,'T1'!M34,MAX(T3_R1!L34,T3_R2!L34)),COUNTRY_INFO!F34),0)","v":0},{"$f":"IF(AND(COUNTRY_INFO!J34>1,COUNTRY_INFO!J34<4), IF(V34/COUNTRY_INFO!F34*100<>0, IF(V34/COUNTRY_INFO!F34*100>100,100,V34/COUNTRY_INFO!F34*100), \"-\"),0)","v":0},0,{"$f":"IF(AND(COUNTRY_INFO!J34>1,COUNTRY_INFO!J34<4), IF(S34/P34*100<>0, IF(X34/P34*100>100,100,X34/P34*100), \"-\"),0)","v":0},{"$f":"COUNTRY_INFO!P34","v":3349.17},null,null,{"$f":"MAX('T1'!L34,'T2'!J34)+MAX('T1'!M34,'T2'!K34)+MAX('T1'!N34,'T2'!L34)","v":0},{"$f":"IF(COUNTRY_INFO!K34=1,IF(COUNTRY_INFO!F34*0.33>MAX('T1'!M34,'T2'!K34),MAX('T1'!M34,'T2'!K34),COUNTRY_INFO!F34*0.33),IF(COUNTRY_INFO!K34=2,IF(COUNTRY_INFO!F34*0.5>MAX('T1'!M34,'T2'!K34),MAX('T1'!M34,'T2'!K34),COUNTRY_INFO!F34*0.5),IF(COUNTRY_INFO!K34=3,IF(COUNTRY_INFO!F34>MAX('T1'!M34,'T2'!K34),MAX('T1'!M34,'T2'!K34),COUNTRY_INFO!F34),0)))","v":0},{"$f":"IF(AND(COUNTRY_INFO!K34>0,COUNTRY_INFO!K34<4),IF(Z34>0,IF(COUNTRY_INFO!K34=1, AD34/(COUNTRY_INFO!F34*0.33)*100, IF(COUNTRY_INFO!K34=2, AD34/(COUNTRY_INFO!F34*0.5)*100, IF(COUNTRY_INFO!K34=3, AD34/COUNTRY_INFO!F34*100))),\"-\"),0)","v":0},{"$f":"IF(COUNTRY_INFO!K34=2,IF(COUNTRY_INFO!G34*0.2>MAX('T1'!N34,'T2'!L34),MAX('T1'!N34,'T2'!L34),COUNTRY_INFO!G34*0.2),IF(COUNTRY_INFO!K34=3,IF(COUNTRY_INFO!G34>MAX('T1'!N34,'T2'!L34),MAX('T1'!N34,'T2'!L34),COUNTRY_INFO!G34),0))","v":0},{"$f":"IF(AND(COUNTRY_INFO!K34>0,COUNTRY_INFO!K34<4),IF(Z34>0,IF(COUNTRY_INFO!K34=1, 0, IF(COUNTRY_INFO!K34=2, AF34/(COUNTRY_INFO!G34*0.2)*100, IF(COUNTRY_INFO!K34=3, AF34/COUNTRY_INFO!G34*100))),\"-\"),0)","v":0},0,{"$f":"IF(AND(COUNTRY_INFO!K34>0,COUNTRY_INFO!K34<4), IF(AC34/Z34*100<>0, IF(AH34/Z34*100>100,100,AH34/Z34*100), \"-\"),0)","v":"-"},null,{"$f":"IF(AND(D34<>0, D34<>\"Inconnu\",D34<>\"Interrompu\",D34<>\"Non requis\"),D34/COUNTRY_INFO!D34, 0)","v":0},{"$f":"IF(AND(J34<>0,J34<>\"Inconnu\",J34<>\"Interrompu\",J34<>\"Non requis\"),J34/COUNTRY_INFO!D34, 0)","v":0},{"$f":"IF(AND(P34<>0,P34<>\"Inconnu\",P34<>\"Non requis\"),P34/(COUNTRY_INFO!E34+COUNTRY_INFO!F34), 0)","v":0},{"$f":"IF(AND(Z34<>0,Z34<>\"Inconnu\",Z34<>\"Non requis\"),IF(COUNTRY_INFO!K34=1,1,IF(COUNTRY_INFO!K34=2,0.5*COUNTRY_INFO!F34/(0.5*COUNTRY_INFO!F34+0.2*COUNTRY_INFO!G34),IF(COUNTRY_INFO!K34=3,COUNTRY_INFO!F34/(COUNTRY_INFO!F34+COUNTRY_INFO!G34)))),0)","v":1},{"$f":"IF(AND(Z34<>0,Z34<>\"Inconnu\",Z34<>\"Non requis\"),IF(COUNTRY_INFO!K34=1,0,IF(COUNTRY_INFO!K34=2,0.2*COUNTRY_INFO!G34/(0.5*COUNTRY_INFO!F34+0.2*COUNTRY_INFO!G34),IF(COUNTRY_INFO!K34=3,COUNTRY_INFO!G34/(COUNTRY_INFO!F34+COUNTRY_INFO!G34)))),0)","v":0},{"$f":"MAX(COUNTRY_INFO!D34*AK34*PROFILE!$G$7,COUNTRY_INFO!D34*AL34*PROFILE!$G$7)","v":0},{"$f":"MAX(COUNTRY_INFO!D34*AK34*PROFILE!$G$8,COUNTRY_INFO!D34*AL34*PROFILE!$G$8,COUNTRY_INFO!D34*AM34*PROFILE!$G$8)","v":0},{"$f":"MAX(COUNTRY_INFO!D34*AK34*PROFILE!$G$9,COUNTRY_INFO!D34*AL34*PROFILE!$G$9,COUNTRY_INFO!D34*AM34*PROFILE!$G$9,IF(AND(DISTRICT!Z34<>\"Inconnu\",Z34<>\"Non requis\"),COUNTRY_INFO!P34*DISTRICT!AN34,0))","v":3349.17},{"$f":"MAX(COUNTRY_INFO!D34*AK34*PROFILE!$G$10,COUNTRY_INFO!D34*AL34*PROFILE!$G$10,IF(AND(DISTRICT!Z34<>\"Inconnu\",Z34<>\"Non requis\"),COUNTRY_INFO!P34*DISTRICT!AO34,0))","v":0},3349.17,0,{"$f":"MAX('MDA4'!R34,'T1'!L34,'T2'!J34,T3_R1!K34,T3_R2!K34)","v":0},{"$f":"MAX('MDA1'!K34,'MDA4'!S34,'MDA3'!I34,'MDA3'!L34,'T1'!M34,'T2'!K34,T3_R1!L34,T3_R2!L34)","v":0},{"$f":"MAX('MDA1'!L34,'MDA4'!T34,'MDA3'!J34,'MDA3'!M34,'T1'!N34,'T2'!L34,T3_R1!M34,T3_R2!M34)","v":0},0,{"$f":"MAX('MDA4'!R34,T34)","v":0},{"$f":"MAX('MDA1'!K34,'MDA4'!S34,'MDA3'!I34,'MDA3'!L34,V34,AD34)","v":0},{"$f":"MAX('MDA1'!L34,'MDA4'!T34,'MDA3'!J34,'MDA3'!M34,AF34)","v":0},0,0]
[{"$f":"IF(COUNTRY_INFO!A35=0,\" \",COUNTRY_INFO!A35)","v":"Chad"},{"$f":"IF(COUNTRY_INFO!B35=0,\" \",COUNTRY_INFO!B35)","v":"Ennedi Ouest"},{"$f":"IF(COUNTRY_INFO!C35=0,\" \",COUNTRY_INFO!C35)","v":"Ounianga Kebbir"},{"$f":"COUNTRY_INFO!M35","v":0},null,null,{"$f":"MAX('MDA1'!M35,'MDA4'!U35)","v":0},{"$f":"IF(AND(COUNTRY_INFO!H35>0,COUNTRY_INFO!H35<4),IF(D35>MAX('MDA1'!M35,'MDA4'!U35),MAX('MDA1'!M35,'MDA4'!U35),D35),0)","v":0},{"$f":"IF(AND(COUNTRY_INFO!H35>0,COUNTRY_INFO!H35<4), IF(G35/D35*100<>0, IF(G35/D35*100>100,100,G35/D35*100), \"-\"),0)","v":0},{"$f":"COUNTRY_INFO!N35","v":0},null,null,{"$f":"MAX('MDA1'!M35,MAX('MDA3'!I35,'MDA3'!L35)+MAX('MDA3'!J35,'MDA3'!M35))","v":0},{"$f":"IF(AND(COUNTRY_INFO!I35>0,COUNTRY_INFO!I35<4),IF(J35>MAX('MDA1'!M35,MAX('MDA3'!I35,'MDA3'!L35)+MAX('MDA3'!J35,'MDA3'!M35)),MAX('MDA1'!M35,MAX('MDA3'!I35,'MDA3'!L35)+MAX('MDA3'!J35,'MDA3'!M35)),J35),0)","v":0},{"$f":"IF(AND(COUNTRY_INFO!I35>0,COUNTRY_INFO!I35<4), IF(M35/J35*100<>0, IF(M35/J35*100>100,100,M35/J35*100), \"-\"),0)","v":0},{"$f":"COUNTRY_INFO!O35","v":0},null,null,{"$f":"SUM(MAX('MDA4'!R35, 'T1'!L35, MAX(T3_R1!K35, T3_R2!K35)), MAX('MDA1'!K35, 'MDA4'!S35, 'T1'!M35, MAX(T3_R1!L35, T3_R2!L35)), MAX('MDA1'!L35, 'MDA4'!T35, 'T1'!N35, MAX(T3_R1!M35, T3_R2!M35)))","v":0},{"$f":"IF(AND(COUNTRY_INFO!J35>1,COUNTRY_INFO!J35<4),IF(COUNTRY_INFO!E35>MAX('MDA4'!R35,'T1'!L35,MAX(T3_R1!K35,T3_R2!K35)),MAX('MDA4'!R35,'T1'!L35,MAX(T3_R1!K35,T3_R2!K35)),COUNTRY_INFO!E35),0)","v":0},{"$f":"IF(AND(COUNTRY_INFO!J35>1,COUNTRY_INFO!J35<4), IF(T35/COUNTRY_INFO!E35*100<>0, IF(T35/COUNTRY_INFO!E35*100>100,100,T35/COUNTRY_INFO!E35*100), \"-\"),0)","v":0},{"$f":"IF(AND(COUNTRY_INFO!J35>1,COUNTRY_INFO!J35<4),IF(COUNTRY_INFO!F35>MAX('MDA1'!K35,'MDA4'!S35,'T1'!M35,MAX(T3_R1!L35,T3_R2!L35)),MAX('MDA1'!K35,'MDA4'!S35,'T1'!M35,MAX(T3_R1!L35,T3_R2!L35)),COUNTRY_INFO!F35),0)","v":0},{"$f":"IF(AND(COUNTRY_INFO!J35>1,COUNTRY_INFO!J35<4), IF(V35/COUNTRY_INFO!F35*100<>0, IF(V35/COUNTRY_INFO!F35*100>100,100,V35/COUNTRY_INFO!F35*100), \"-\"),0)","v":0},0,{"$f":"IF(AND(COUNTRY_INFO!J35>1,COUNTRY_INFO!J35<4), IF(S35/P35*100<>0, IF(X35/P35*100>100,100,X35/P35*100), \"-\"),0)","v":0},{"$f":"COUNTRY_INFO!P35","v":3134.67},null,null,{"$f":"MAX('T1'!L35,'T2'!J35)+MAX('T1'!M35,'T2'!K35)+MAX('T1'!N35,'T2'!L35)","v":0},{"$f":"IF(COUNTRY_INFO!K35=1,IF(COUNTRY_INFO!F35*0.33>MAX('T1'!M35,'T2'!K35),MAX('T1'!M35,'T2'!K35),COUNTRY_INFO!F35*0.33),IF(COUNTRY_INFO!K35=2,IF(COUNTRY_INFO!F35*0.5>MAX('T1'!M35,'T2'!K35),MAX('T1'!M35,'T2'!K35),COUNTRY_INFO!F35*0.5),IF(COUNTRY_INFO!K35=3,IF(COUNTRY_INFO!F35>MAX('T1'!M35,'T2'!K35),MAX('T1'!M35,'T2'!K35),COUNTRY_INFO!F35),0)))","v":0},{"$f":"IF(AND(COUNTRY_INFO!K35>0,COUNTRY_INFO!K35<4),IF(Z35>0,IF(COUNTRY_INFO!K35=1, AD35/(COUNTRY_INFO!F35*0.33)*100, IF(COUNTRY_INFO!K35=2, AD35/(COUNTRY_INFO!F35*0.5)*100, IF(COUNTRY_INFO!K35=3, AD35/COUNTRY_INFO!F35*100))),\"-\"),0)","v":0},{"$f":"IF(COUNTRY_INFO!K35=2,IF(COUNTRY_INFO!G35*0.2>MAX('T1'!N35,'T2'!L35),MAX('T1'!N35,'T2'!L35),COUNTRY_INFO!G35*0.2),IF(COUNTRY_INFO!K35=3,IF(COUNTRY_INFO!G35>MAX('T1'!N35,'T2'!L35),MAX('T1'!N35,'T2'!L35),COUNTRY_INFO!G35),0))","v":0},{"$f":"IF(AND(COUNTRY_INFO!K35>0,COUNTRY_INFO!K35<4),IF(Z35>0,IF(COUNTRY_INFO!K35=1, 0, IF(COUNTRY_INFO!K35=2, AF35/(COUNTRY_INFO!G35*0.2)*100, IF(COUNTRY_INFO!K35=3, AF35/COUNTRY_INFO!G35*100))),\"-\"),0)","v":0},0,{"$f":"IF(AND(COUNTRY_INFO!K35>0,COUNTRY_INFO!K35<4), IF(AC35/Z35*100<>0, IF(AH35/Z35*100>100,100,AH35/Z35*100), \"-\"),0)","v":"-"},null,{"$f":"IF(AND(D35<>0, D35<>\"Inconnu\",D35<>\"Interrompu\",D35<>\"Non requis\"),D35/COUNTRY_INFO!D35, 0)","v":0},{"$f":"IF(AND(J35<>0,J35<>\"Inconnu\",J35<>\"Interrompu\",J35<>\"Non requis\"),J35/COUNTRY_INFO!D35, 0)","v":0},{"$f":"IF(AND(P35<>0,P35<>\"Inconnu\",P35<>\"Non requis\"),P35/(COUNTRY_INFO!E35+COUNTRY_INFO!F35), 0)","v":0},{"$f":"IF(AND(Z35<>0,Z35<>\"Inconnu\",Z35<>\"Non requis\"),IF(COUNTRY_INFO!K35=1,1,IF(COUNTRY_INFO!K35=2,0.5*COUNTRY_INFO!F35/(0.5*COUNTRY_INFO!F35+0.2*COUNTRY_INFO!G35),IF(COUNTRY_INFO!K35=3,COUNTRY_INFO!F35/(COUNTRY_INFO!F35+COUNTRY_INFO!G35)))),0)","v":1},{"$f":"IF(AND(Z35<>0,Z35<>\"Inconnu\",Z35<>\"Non requis\"),IF(COUNTRY_INFO!K35=1,0,IF(COUNTRY_INFO!K35=2,0.2*COUNTRY_INFO!G35/(0.5*COUNTRY_INFO!F35+0.2*COUNTRY_INFO!G35),IF(COUNTRY_INFO!K35=3,COUNTRY_INFO!G35/(COUNTRY_INFO!F35+COUNTRY_INFO!G35)))),0)","v":0},{"$f":"MAX(COUNTRY_INFO!D35*AK35*PROFILE!$G$7,COUNTRY_INFO!D35*AL35*PROFILE!$G$7)","v":0},{"$f":"MAX(COUNTRY_INFO!D35*AK35*PROFILE!$G$8,COUNTRY_INFO!D35*AL35*PROFILE!$G$8,COUNTRY_INFO!D35*AM35*PROFILE!$G$8)","v":0},{"$f":"MAX(COUNTRY_INFO!D35*AK35*PROFILE!$G$9,COUNTRY_INFO!D35*AL35*PROFILE!$G$9,COUNTRY_INFO!D35*AM35*PROFILE!$G$9,IF(AND(DISTRICT!Z35<>\"Inconnu\",Z35<>\"Non requis\"),COUNTRY_INFO!P35*DISTRICT!AN35,0))","v":3134.67},{"$f":"MAX(COUNTRY_INFO!D35*AK35*PROFILE!$G$10,COUNTRY_INFO!D35*AL35*PROFILE!$G$10,IF(AND(DISTRICT!Z35<>\"Inconnu\",Z35<>\"Non requis\"),COUNTRY_INFO!P35*DISTRICT!AO35,0))","v":0},3134.67,0,{"$f":"MAX('MDA4'!R35,'T1'!L35,'T2'!J35,T3_R1!K35,T3_R2!K35)","v":0},{"$f":"MAX('MDA1'!K35,'MDA4'!S35,'MDA3'!I35,'MDA3'!L35,'T1'!M35,'T2'!K35,T3_R1!L35,T3_R2!L35)","v":0},{"$f":"MAX('MDA1'!L35,'MDA4'!T35,'MDA3'!J35,'MDA3'!M35,'T1'!N35,'T2'!L35,T3_R1!M35,T3_R2!M35)","v":0},0,{"$f":"MAX('MDA4'!R35,T35)","v":0},{"$f":"MAX('MDA1'!K35,'MDA4'!S35,'MDA3'!I35,'MDA3'!L35,V35,AD35)","v":0},{"$f":"MAX('MDA1'!L35,'MDA4'!T35,'MDA3'!J35,'MDA3'!M35,AF35)","v":0},0,0]
[{"$f":"IF(COUNTRY_INFO!A36=0,\" \",COUNTRY_INFO!A36)","v":"Chad"},{"$f":"IF(COUNTRY_INFO!B36=0,\" \",COUNTRY_INFO!B36)","v":"Guéra"},{"$f":"IF(COUNTRY_INFO!C36=0,\" \",COUNTRY_INFO!C36)","v":"Barou"},{"$f":"COUNTRY_INFO!M36","v":0},null,null,{"$f":"MAX('MDA1'!M36,'MDA4'!U36)","v":0},{"$f":"IF(AND(COUNTRY_INFO!H36>0,COUNTRY_INFO!H36<4),IF(D36>MAX('MDA1'!M36,'MDA4'!U36),MAX('MDA1'!M36,'MDA4'!U36),D36),0)","v":0},{"$f":"IF(AND(COUNTRY_INFO!H36>0,COUNTRY_INFO!H36<4), IF(G36/D36*100<>0, IF(G36/D36*100>100,100,G36/D36*100), \"-\"),0)","v":0},{"$f":"COUNTRY_INFO!N36","v":"Inconnu"},null,null,{"$f":"MAX('MDA1'!M36,MAX('MDA3'!I36,'MDA3'!L36)+MAX('MDA3'!J36,'MDA3'!M36))","v":0},{"$f":"IF(AND(COUNTRY_INFO!I36>0,COUNTRY_INFO!I36<4),IF(J36>MAX('MDA1'!M36,MAX('MDA3'!I36,'MDA3'!L36)+MAX('MDA3'!J36,'MDA3'!M36)),MAX('MDA1'!M36,MAX('MDA3'!I36,'MDA3'!L36)+MAX('MDA3'!J36,'MDA3'!M36)),J36),0)","v":0},{"$f":"IF(AND(COUNTRY_INFO!I36>0,COUNTRY_INFO!I36<4), IF(M36/J36*100<>0, IF(M36/J36*100>100,100,M36/J36*100), \"-\"),0)","v":0},{"$f":"COUNTRY_INFO!O36","v":0},null,null,{"$f":"SUM(MAX('MDA4'!R36, 'T1'!L36, MAX(T3_R1!K36, T3_R2!K36)), MAX('MDA1'!K36, 'MDA4'!S36, 'T1'!M36, MAX(T3_R1!L36, T3_R2!L36)), MAX('MDA1'!L36, 'MDA4'!T36, 'T1'!N36, MAX(T3_R1!M36, T3_R2!M36)))","v":0},{"$f":"IF(AND(COUNTRY_INFO!J36>1,COUNTRY_INFO!J36<4),IF(COUNTRY_INFO!E36>MAX('MDA4'!R36,'T1'!L36,MAX(T3_R1!K36,T3_R2!K36)),MAX('MDA4'!R36,'T1'!L36,MAX(T3_R1!K36,T3_R2!K36)),COUNTRY_INFO!E36),0)","v":0},{"$f":"IF(AND(COUNTRY_INFO!J36>1,COUNTRY_INFO!J36<4), IF(T36/COUNTRY_INFO!E36*100<>0, IF(T36/COUNTRY_INFO!E36*100>100,100,T36/COUNTRY_INFO!E36*100), \"-\"),0)","v":0},{"$f":"IF(AND(COUNTRY_INFO!J36>1,COUNTRY_INFO!J36<4),IF(COUNTRY_INFO!F36>MAX('MDA1'!K36,'MDA4'!S36,'T1'!M36,MAX(T3_R1!L36,T3_R2!L36)),MAX('MDA1'!K36,'MDA4'!S36,'T1'!M36,MAX(T3_R1!L36,T3_R2!L36)),COUNTRY_INFO!F36),0)","v":0},{"$f":"IF(AND(COUNTRY_INFO!J36>1,COUNTRY_INFO!J36<4), IF(V36/COUNTRY_INFO!F36*100<>0, IF(V36/COUNTRY_INFO!F36*100>100,100,V36/COUNTRY_INFO!F36*100), \"-\"),0)","v":0},0,{"$f":"IF(AND(COUNTRY_INFO!J36>1,COUNTRY_INFO!J36<4), IF(S36/P36*100<>0, IF(X36/P36*100>100,100,X36/P36*100), \"-\"),0)","v":0},{"$f":"COUNTRY_INFO!P36","v":17633.099999999999},null,null,{"$f":"MAX('T1'!L36,'T2'!J36)+MAX('T1'!M36,'T2'!K36)+MAX('T1'!N36,'T2'!L36)","v":0},{"$f":"IF(COUNTRY_INFO!K36=1,IF(COUNTRY_INFO!F36*0.33>MAX('T1'!M36,'T2'!K36),MAX('T1'!M36,'T2'!K36),COUNTRY_INFO!F36*0.33),IF(COUNTRY_INFO!K36=2,IF(COUNTRY_INFO!F36*0.5>MAX('T1'!M36,'T2'!K36),MAX('T1'!M36,'T2'!K36),COUNTRY_INFO!F36*0.5),IF(COUNTRY_INFO!K36=3,IF(COUNTRY_INFO!F36>MAX('T1'!M36,'T2'!K36),MAX('T1'!M36,'T2'!K36),COUNTRY_INFO!F36),0)))","v":0},{"$f":"IF(AND(COUNTRY_INFO!K36>0,COUNTRY_INFO!K36<4),IF(Z36>0,IF(COUNTRY_INFO!K36=1, AD36/(COUNTRY_INFO!F36*0.33)*100, IF(COUNTRY_INFO!K36=2, AD36/(COUNTRY_INFO!F36*0.5)*100, IF(COUNTRY_INFO!K36=3, AD36/COUNTRY_INFO!F36*100))),\"-\"),0)","v":0},{"$f":"IF(COUNTRY_INFO!K36=2,IF(COUNTRY_INFO!G36*0.2>MAX('T1'!N36,'T2'!L36),MAX('T1'!N36,'T2'!L36),COUNTRY_INFO!G36*0.2),IF(COUNTRY_INFO!K36=3,IF(COUNTRY_INFO!G36>MAX('T1'!N36,'T2'!L36),MAX('T1'!N36,'T2'!L36),COUNTRY_INFO!G36),0))","v":0},{"$f":"IF(AND(COUNTRY_INFO!K36>0,COUNTRY_INFO!K36<4),IF(Z36>0,IF(COUNTRY_INFO!K36=1, 0, IF(COUNTRY_INFO!K36=2, AF36/(COUNTRY_INFO!G36*0.2)*100, IF(COUNTRY_INFO!K36=3, AF36/COUNTRY_INFO!G36*100))),\"-\"),0)","v":0},0,{"$f":"IF(AND(COUNTRY_INFO!K36>0,COUNTRY_INFO!K36<4), IF(AC36/Z36*100<>0, IF(AH36/Z36*100>100,100,AH36/Z36*100), \"-\"),0)","v":"-"},null,{"$f":"IF(AND(D36<>0, D36<>\"Inconnu\",D36<>\"Interrompu\",D36<>\"Non requis\"),D36/COUNTRY_INFO!D36, 0)","v":0},{"$f":"IF(AND(J36<>0,J36<>\"Inconnu\",J36<>\"Interrompu\",J36<>\"Non requis\"),J36/COUNTRY_INFO!D36, 0)","v":0},{"$f":"IF(AND(P36<>0,P36<>\"Inconnu\",P36<>\"Non requis\"),P36/(COUNTRY_INFO!E36+COUNTRY_INFO!F36), 0)","v":0},{"$f":"IF(AND(Z36<>0,Z36<>\"Inconnu\",Z36<>\"Non requis\"),IF(COUNTRY_INFO!K36=1,1,IF(COUNTRY_INFO!K36=2,0.5*COUNTRY_INFO!F36/(0.5*COUNTRY_INFO!F36+0.2*COUNTRY_INFO!G36),IF(COUNTRY_INFO!K36=3,COUNTRY_INFO!F36/(COUNTRY_INFO!F36+COUNTRY_INFO!G36)))),0)","v":0.60542389029722521},{"$f":"IF(AND(Z36<>0,Z36<>\"Inconnu\",Z36<>\"Non requis\"),IF(COUNTRY_INFO!K36=1,0,IF(COUNTRY_INFO!K36=2,0.2*COUNTRY_INFO!G36/(0.5*COUNTRY_INFO!F36+0.2*COUNTRY_INFO!G36),IF(COUNTRY_INFO!K36=3,COUNTRY_INFO!G36/(COUNTRY_INFO!F36+COUNTRY_INFO!G36)))),0)","v":0.39457610970277496},{"$f":"MAX(COUNTRY_INFO!D36*AK36*PROFILE!$G$7,COUNTRY_INFO!D36*AL36*PROFILE!$G$7)","v":0},{"$f":"MAX(COUNTRY_INFO!D36*AK36*PROFILE!$G$8,COUNTRY_INFO!D36*AL36*PROFILE!$G$8,COUNTRY_INFO!D36*AM36*PROFILE!$G$8)","v":0},{"$f":"MAX(COUNTRY_INFO!D36*AK36*PROFILE!$G$9,COUNTRY_INFO!D36*AL36*PROFILE!$G$9,COUNTRY_INFO!D36*AM36*PROFILE!$G$9,IF(AND(DISTRICT!Z36<>\"Inconnu\",Z36<>\"Non requis\"),COUNTRY_INFO!P36*DISTRICT!AN36,0))","v":10675.500000000002},{"$f":"MAX(COUNTRY_INFO!D36*AK36*PROFILE!$G$10,COUNTRY_INFO!D36*AL36*PROFILE!$G$10,IF(AND(DISTRICT!Z36<>\"Inconnu\",Z36<>\"Non requis\"),COUNTRY_INFO!P36*DISTRICT!AO36,0))","v":6957.6},17633.100000000002,0,{"$f":"MAX('MDA4'!R36,'T1'!L36,'T2'!J36,T3_R1!K36,T3_R2!K36)","v":0},{"$f":"MAX('MDA1'!K36,'MDA4'!S36,'MDA3'!I36,'MDA3'!L36,'T1'!M36,'T2'!K36,T3_R1!L36,T3_R2!L36)","v":0},{"$f":"MAX('MDA1'!L36,'MDA4'!T36,'MDA3'!J36,'MDA3'!M36,'T1'!N36,'T2'!L36,T3_R1!M36,T3_R2!M36)","v":0},0,{"$f":"MAX('MDA4'!R36,T36)","v":0},{"$f":"MAX('MDA1'!K36,'MDA4'!S36,'MDA3'!I36,'MDA3'!L36,V36,AD36)","v":0},{"$f":"MAX('MDA1'!L36,'MDA4'!T36,'MDA3'!J36,'MDA3'!M36,AF36)","v":0},0,0]
[{"$f":"IF(COUNTRY_INFO!A37=0,\" \",COUNTRY_INFO!A37)","v":"Chad"},{"$f":"IF(COUNTRY_INFO!B37=0,\" \",COUNTRY_INFO!B37)","v":"Guéra"},{"$f":"IF(COUNTRY_INFO!C37=0,\" \",COUNTRY_INFO!C37)","v":"Bitkine"},{"$f":"COUNTRY_INFO!M37","v":0},null,null,{"$f":"MAX('MDA1'!M37,'MDA4'!U37)","v":0},{"$f":"IF(AND(COUNTRY_INFO!H37>0,COUNTRY_INFO!H37<4),IF(D37>MAX('MDA1'!M37,'MDA4'!U37),MAX('MDA1'!M37,'MDA4'!U37),D37),0)","v":0},{"$f":"IF(AND(COUNTRY_INFO!H37>0,COUNTRY_INFO!H37<4), IF(G37/D37*100<>0, IF(G37/D37*100>100,100,G37/D37*100), \"-\"),0)","v":0},{"$f":"COUNTRY_INFO!N37","v":"Inconnu"},null,null,{"$f":"MAX('MDA1'!M37,MAX('MDA3'!I37,'MDA3'!L37)+MAX('MDA3'!J37,'MDA3'!M37))","v":0},{"$f":"IF(AND(COUNTRY_INFO!I37>0,COUNTRY_INFO!I37<4),IF(J37>MAX('MDA1'!M37,MAX('MDA3'!I37,'MDA3'!L37)+MAX('MDA3'!J37,'MDA3'!M37)),MAX('MDA1'!M37,MAX('MDA3'!I37,'MDA3'!L37)+MAX('MDA3'!J37,'MDA3'!M37)),J37),0)","v":0},{"$f":"IF(AND(COUNTRY_INFO!I37>0,COUNTRY_INFO!I37<4), IF(M37/J37*100<>0, IF(M37/J37*100>100,100,M37/J37*100), \"-\"),0)","v":0},{"$f":"COUNTRY_INFO!O37","v":0},null,null,{"$f":"SUM(MAX('MDA4'!R37, 'T1'!L37, MAX(T3_R1!K37, T3_R2!K37)), MAX('MDA1'!K37, 'MDA4'!S37, 'T1'!M37, MAX(T3_R1!L37, T3_R2!L37)), MAX('MDA1'!L37, 'MDA4'!T37, 'T1'!N37, MAX(T3_R1!M37, T3_R2!M37)))","v":0},{"$f":"IF(AND(COUNTRY_INFO!J37>1,COUNTRY_INFO!J37<4),IF(COUNTRY_INFO!E37>MAX('MDA4'!R37,'T1'!L37,MAX(T3_R1!K37,T3_R2!K37)),MAX('MDA4'!R37,'T1'!L37,MAX(T3_R1!K37,T3_R2!K37)),COUNTRY_INFO!E37),0)","v":0},{"$f":"IF(AND(COUNTRY_INFO!J37>1,COUNTRY_INFO!J37<4), IF(T37/COUNTRY_INFO!E37*100<>0, IF(T37/COUNTRY_INFO!E37*100>100,100,T37/COUNTRY_INFO!E37*100), \"-\"),0)","v":0},{"$f":"IF(AND(COUNTRY_INFO!J37>1,COUNTRY_INFO!J37<4),IF(COUNTRY_INFO!F37>MAX('MDA1'!K37,'MDA4'!S37,'T1'!M37,MAX(T3_R1!L37,T3_R2!L37)),MAX('MDA1'!K37,'MDA4'!S37,'T1'!M37,MAX(T3_R1!L37,T3_R2!L37)),COUNTRY_INFO!F37),0)","v":0},{"$f":"IF(AND(COUNTRY_INFO!J37>1,COUNTRY_INFO!J37<4), IF(V37/COUNTRY_INFO!F37*100<>0, IF(V37/COUNTRY_INFO!F37*100>100,100,V37/COUNTRY_INFO!F37*100), \"-\"),0)","v":0},0,{"$f":"IF(AND(COUNTRY_INFO!J37>1,COUNTRY_INFO!J37<4), IF(S37/P37*100<>0, IF(X37/P37*100>100,100,X37/P37*100), \"-\"),0)","v":0},{"$f":"COUNTRY_INFO!P37","v":65849.399999999994},null,null,{"$f":"MAX('T1'!L37,'T2'!J37)+MAX('T1'!M37,'T2'!K37)+MAX('T1'!N37,'T2'!L37)","v":0},{"$f":"IF(COUNTRY_INFO!K37=1,IF(COUNTRY_INFO!F37*0.33>MAX('T1'!M37,'T2'!K37),MAX('T1'!M37,'T2'!K37),COUNTRY_INFO!F37*0.33),IF(COUNTRY_INFO!K37=2,IF(COUNTRY_INFO!F37*0.5>MAX('T1'!M37,'T2'!K37),MAX('T1'!M37,'T2'!K37),COUNTRY_INFO!F37*0.5),IF(COUNTRY_INFO!K37=3,IF(COUNTRY_INFO!F37>MAX('T1'!M37,'T2'!K37),MAX('T1'!M37,'T2'!K37),COUNTRY_INFO!F37),0)))","v":0},{"$f":"IF(AND(COUNTRY_INFO!K37>0,COUNTRY_INFO!K37<4),IF(Z37>0,IF(COUNTRY_INFO!K37=1, AD37/(COUNTRY_INFO!F37*0.33)*100, IF(COUNTRY_INFO!K37=2, AD37/(COUNTRY_INFO!F37*0.5)*100, IF(COUNTRY_INFO!K37=3, AD37/COUNTRY_INFO!F37*100))),\"-\"),0)","v":0},{"$f":"IF(COUNTRY_INFO!K37=2,IF(COUNTRY_INFO!G37*0.2>MAX('T1'!N37,'T2'!L37),MAX('T1'!N37,'T2'!L37),COUNTRY_INFO!G37*0.2),IF(COUNTRY_INFO!K37=3,IF(COUNTRY_INFO!G37>MAX('T1'!N37,'T2'!L37),MAX('T1'!N37,'T2'!L37),COUNTRY_INFO!G37),0))","v":0},{"$f":"IF(AND(COUNTRY_INFO!K37>0,COUNTRY_INFO!K37<4),IF(Z37>0,IF(COUNTRY_INFO!K37=1, 0, IF(COUNTRY_INFO!K37=2, AF37/(COUNTRY_INFO!G37*0.2)*100, IF(COUNTRY_INFO!K37=3, AF37/COUNTRY_INFO!G37*100))),\"-\"),0)","v":0},0,{"$f":"IF(AND(COUNTRY_INFO!K37>0,COUNTRY_INFO!K37<4), IF(AC37/Z37*100<>0, IF(AH37/Z37*100>100,100,AH37/Z37*100), \"-\"),0)","v":"-"},null,{"$f":"IF(AND(D37<>0, D37<>\"Inconnu\",D37<>\"Interrompu\",D37<>\"Non requis\"),D37/COUNTRY_INFO!D37, 0)","v":0},{"$f":"IF(AND(J37<>0,J37<>\"Inconnu\",J37<>\"Interrompu\",J37<>\"Non requis\"),J37/COUNTRY_INFO!D37, 0)","v":0},{"$f":"IF(AND(P37<>0,P37<>\"Inconnu\",P37<>\"Non requis\"),P37/(COUNTRY_INFO!E37+COUNTRY_INFO!F37), 0)","v":0},{"$f":"IF(AND(Z37<>0,Z37<>\"Inconnu\",Z37<>\"Non requis\"),IF(COUNTRY_INFO!K37=1,1,IF(COUNTRY_INFO!K37=2,0.5*COUNTRY_INFO!F37/(0.5*COUNTRY_INFO!F37+0.2*COUNTRY_INFO!G37),IF(COUNTRY_INFO!K37=3,COUNTRY_INFO!F37/(COUNTRY_INFO!F37+COUNTRY_INFO!G37)))),0)","v":0.60542692871916837},{"$f":"IF(AND(Z37<>0,Z37<>\"Inconnu\",Z37<>\"Non requis\"),IF(COUNTRY_INFO!K37=1,0,IF(COUNTRY_INFO!K37=2,0.2*COUNTRY_INFO!G37/(0.5*COUNTRY_INFO!F37+0.2*COUNTRY_INFO!G37),IF(COUNTRY_INFO!K37=3,COUNTRY_INFO!G37/(COUNTRY_INFO!F37+COUNTRY_INFO!G37)))),0)","v":0.3945730712808318},{"$f":"MAX(COUNTRY_INFO!D37*AK37*PROFILE!$G$7,COUNTRY_INFO!D37*AL37*PROFILE!$G$7)","v":0},{"$f":"MAX(COUNTRY_INFO!D37*AK37*PROFILE!$G$8,COUNTRY_INFO!D37*AL37*PROFILE!$G$8,COUNTRY_INFO!D37*AM37*PROFILE!$G$8)","v":0},{"$f":"MAX(COUNTRY_INFO!D37*AK37*PROFILE!$G$9,COUNTRY_INFO!D37*AL37*PROFILE!$G$9,COUNTRY_INFO!D37*AM37*PROFILE!$G$9,IF(AND(DISTRICT!Z37<>\"Inconnu\",Z37<>\"Non requis\"),COUNTRY_INFO!P37*DISTRICT!AN37,0))","v":39867},{"$f":"MAX(COUNTRY_INFO!D37*AK37*PROFILE!$G$10,COUNTRY_INFO!D37*AL37*PROFILE!$G$10,IF(AND(DISTRICT!Z37<>\"Inconnu\",Z37<>\"Non requis\"),COUNTRY_INFO!P37*DISTRICT!AO37,0))","v":25982.400000000001},65849.399999999994,0,{"$f":"MAX('MDA4'!R37,'T1'!L37,'T2'!J37,T3_R1!K37,T3_R2!K37)","v":0},{"$f":"MAX('MDA1'!K37,'MDA4'!S37,'MDA3'!I37,'MDA3'!L37,'T1'!M37,'T2'!K37,T3_R1!L37,T3_R2!L37)","v":0},{"$f":"MAX('MDA1'!L37,'MDA4'!T37,'MDA3'!J37,'MDA3'!M37,'T1'!N37,'T2'!L37,T3_R1!M37,T3_R2!M37)","v":0},0,{"$f":"MAX('MDA4'!R37,T37)","v":0},{"$f":"MAX('MDA1'!K37,'MDA4'!S37,'MDA3'!I37,'MDA3'!L37,V37,AD37)","v":0},{"$f":"MAX('MDA1'!L37,'MDA4'!T37,'MDA3'!J37,'MDA3'!M37,AF37)","v":0},0,0]
[{"$f":"IF(COUNTRY_INFO!A38=0,\" \",COUNTRY_INFO!A38)","v":"Chad"},{"$f":"IF(COUNTRY_INFO!B38=0,\" \",COUNTRY_INFO!B38)","v":"Guéra"},{"$f":"IF(COUNTRY_INFO!C38=0,\" \",COUNTRY_INFO!C38)","v":"Mangalmé"},{"$f":"COUNTRY_INFO!M38","v":0},null,null,{"$f":"MAX('MDA1'!M38,'MDA4'!U38)","v":0},{"$f":"IF(AND(COUNTRY_INFO!H38>0,COUNTRY_INFO!H38<4),IF(D38>MAX('MDA1'!M38,'MDA4'!U38),MAX('MDA1'!M38,'MDA4'!U38),D38),0)","v":0},{"$f":"IF(AND(COUNTRY_INFO!H38>0,COUNTRY_INFO!H38<4), IF(G38/D38*100<>0, IF(G38/D38*100>100,100,G38/D38*100), \"-\"),0)","v":0},{"$f":"COUNTRY_INFO!N38","v":"Inconnu"},null,null,{"$f":"MAX('MDA1'!M38,MAX('MDA3'!I38,'MDA3'!L38)+MAX('MDA3'!J38,'MDA3'!M38))","v":0},{"$f":"IF(AND(COUNTRY_INFO!I38>0,COUNTRY_INFO!I38<4),IF(J38>MAX('MDA1'!M38,MAX('MDA3'!I38,'MDA3'!L38)+MAX('MDA3'!J38,'MDA3'!M38)),MAX('MDA1'!M38,MAX('MDA3'!I38,'MDA3'!L38)+MAX('MDA3'!J38,'MDA3'!M38)),J38),0)","v":0},{"$f":"IF(AND(COUNTRY_INFO!I38>0,COUNTRY_INFO!I38<4), IF(M38/J38*100<>0, IF(M38/J38*100>100,100,M38/J38*100), \"-\"),0)","v":0},{"$f":"COUNTRY_INFO!O38","v":0},null,null,{"$f":"SUM(MAX('MDA4'!R38, 'T1'!L38, MAX(T3_R1!K38, T3_R2!K38)), MAX('MDA1'!K38, 'MDA4'!S38, 'T1'!M38, MAX(T3_R1!L38, T3_R2!L38)), MAX('MDA1'!L38, 'MDA4'!T38, 'T1'!N38, MAX(T3_R1!M38, T3_R2!M38)))","v":0},{"$f":"IF(AND(COUNTRY_INFO!J38>1,COUNTRY_INFO!J38<4),IF(COUNTRY_INFO!E38>MAX('MDA4'!R38,'T1'!L38,MAX(T3_R1!K38,T3_R2!K38)),MAX('MDA4'!R38,'T1'!L38,MAX(T3_R1!K38,T3_R2!K38)),COUNTRY_INFO!E38),0)","v":0},{"$f":"IF(AND(COUNTRY_INFO!J38>1,COUNTRY_INFO!J38<4), IF(T38/COUNTRY_INFO!E38*100<>0, IF(T38/COUNTRY_INFO!E38*100>100,100,T38/COUNTRY_INFO!E38*100), \"-\"),0)","v":0},{"$f":"IF(AND(COUNTRY_INFO!J38>1,COUNTRY_INFO!J38<4),IF(COUNTRY_INFO!F38>MAX('MDA1'!K38,'MDA4'!S38,'T1'!M38,MAX(T3_R1!L38,T3_R2!L38)),MAX('MDA1'!K38,'MDA4'!S38,'T1'!M38,MAX(T3_R1!L38,T3_R2!L38)),COUNTRY_INFO!F38),0)","v":0},{"$f":"IF(AND(COUNTRY_INFO!J38>1,COUNTRY_INFO!J38<4), IF(V38/COUNTRY_INFO!F38*100<>0, IF(V38/COUNTRY_INFO!F38*100>100,100,V38/COUNTRY_INFO!F38*100), \"-\"),0)","v":0},0,{"$f":"IF(AND(COUNTRY_INFO!J38>1,COUNTRY_INFO!J38<4), IF(S38/P38*100<>0, IF(X38/P38*100>100,100,X38/P38*100), \"-\"),0)","v":0},{"$f":"COUNTRY_INFO!P38","v":37325.800000000003},null,null,{"$f":"MAX('T1'!L38,'T2'!J38)+MAX('T1'!M38,'T2'!K38)+MAX('T1'!N38,'T2'!L38)","v":0},{"$f":"IF(COUNTRY_INFO!K38=1,IF(COUNTRY_INFO!F38*0.33>MAX('T1'!M38,'T2'!K38),MAX('T1'!M38,'T2'!K38),COUNTRY_INFO!F38*0.33),IF(COUNTRY_INFO!K38=2,IF(COUNTRY_INFO!F38*0.5>MAX('T1'!M38,'T2'!K38),MAX('T1'!M38,'T2'!K38),COUNTRY_INFO!F38*0.5),IF(COUNTRY_INFO!K38=3,IF(COUNTRY_INFO!F38>MAX('T1'!M38,'T2'!K38),MAX('T1'!M38,'T2'!K38),COUNTRY_INFO!F38),0)))","v":0},{"$f":"IF(AND(COUNTRY_INFO!K38>0,COUNTRY_INFO!K38<4),IF(Z38>0,IF(COUNTRY_INFO!K38=1, AD38/(COUNTRY_INFO!F38*0.33)*100, IF(COUNTRY_INFO!K38=2, AD38/(COUNTRY_INFO!F38*0.5)*100, IF(COUNTRY_INFO!K38=3, AD38/COUNTRY_INFO!F38*100))),\"-\"),0)","v":0},{"$f":"IF(COUNTRY_INFO!K38=2,IF(COUNTRY_INFO!G38*0.2>MAX('T1'!N38,'T2'!L38),MAX('T1'!N38,'T2'!L38),COUNTRY_INFO!G38*0.2),IF(COUNTRY_INFO!K38=3,IF(COUNTRY_INFO!G38>MAX('T1'!N38,'T2'!L38),MAX('T1'!N38,'T2'!L38),COUNTRY_INFO!G38),0))","v":0},{"$f":"IF(AND(COUNTRY_INFO!K38>0,COUNTRY_INFO!K38<4),IF(Z38>0,IF(COUNTRY_INFO!K38=1, 0, IF(COUNTRY_INFO!K38=2, AF38/(COUNTRY_INFO!G38*0.2)*100, IF(COUNTRY_INFO!K38=3, AF38/COUNTRY_INFO!G38*100))),\"-\"),0)","v":0},0,{"$f":"IF(AND(COUNTRY_INFO!K38>0,COUNTRY_INFO!K38<4), IF(AC38/Z38*100<>0, IF(AH38/Z38*100>100,100,AH38/Z38*100), \"-\"),0)","v":"-"},null,{"$f":"IF(AND(D38<>0, D38<>\"Inconnu\",D38<>\"Interrompu\",D38<>\"Non requis\"),D38/COUNTRY_INFO!D38, 0)","v":0},{"$f":"IF(AND(J38<>0,J38<>\"Inconnu\",J38<>\"Interrompu\",J38<>\"Non requis\"),J38/COUNTRY_INFO!D38, 0)","v":0},{"$f":"IF(AND(P38<>0,P38<>\"Inconnu\",P38<>\"Non requis\"),P38/(COUNTRY_INFO!E38+COUNTRY_INFO!F38), 0)","v":0},{"$f":"IF(AND(Z38<>0,Z38<>\"Inconnu\",Z38<>\"Non requis\"),IF(COUNTRY_INFO!K38=1,1,IF(COUNTRY_INFO!K38=2,0.5*COUNTRY_INFO!F38/(0.5*COUNTRY_INFO!F38+0.2*COUNTRY_INFO!G38),IF(COUNTRY_INFO!K38=3,COUNTRY_INFO!F38/(COUNTRY_INFO!F38+COUNTRY_INFO!G38)))),0)","v":0.60542573769349883},{"$f":"IF(AND(Z38<>0,Z38<>\"Inconnu\",Z38<>\"Non requis\"),IF(COUNTRY_INFO!K38=1,0,IF(COUNTRY_INFO!K38=2,0.2*COUNTRY_INFO!G38/(0.5*COUNTRY_INFO!F38+0.2*COUNTRY_INFO!G38),IF(COUNTRY_INFO!K38=3,COUNTRY_INFO!G38/(COUNTRY_INFO!F38+COUNTRY_INFO!G38)))),0)","v":0.39457426230650111},{"$f":"MAX(COUNTRY_INFO!D38*AK38*PROFILE!$G$7,COUNTRY_INFO!D38*AL38*PROFILE!$G$7)","v":0},{"$f":"MAX(COUNTRY_INFO!D38*AK38*PROFILE!$G$8,COUNTRY_INFO!D38*AL38*PROFILE!$G$8,COUNTRY_INFO!D38*AM38*PROFILE!$G$8)","v":0},{"$f":"MAX(COUNTRY_INFO!D38*AK38*PROFILE!$G$9,COUNTRY_INFO!D38*AL38*PROFILE!$G$9,COUNTRY_INFO!D38*AM38*PROFILE!$G$9,IF(AND(DISTRICT!Z38<>\"Inconnu\",Z38<>\"Non requis\"),COUNTRY_INFO!P38*DISTRICT!AN38,0))","v":22598},{"$f":"MAX(COUNTRY_INFO!D38*AK38*PROFILE!$G$10,COUNTRY_INFO!D38*AL38*PROFILE!$G$10,IF(AND(DISTRICT!Z38<>\"Inconnu\",Z38<>\"Non requis\"),COUNTRY_INFO!P38*DISTRICT!AO38,0))","v":14727.800000000001},37325.800000000003,0,{"$f":"MAX('MDA4'!R38,'T1'!L38,'T2'!J38,T3_R1!K38,T3_R2!K38)","v":0},{"$f":"MAX('MDA1'!K38,'MDA4'!S38,'MDA3'!I38,'MDA3'!L38,'T1'!M38,'T2'!K38,T3_R1!L38,T3_R2!L38)","v":0},{"$f":"MAX('MDA1'!L38,'MDA4'!T38,'MDA3'!J38,'MDA3'!M38,'T1'!N38,'T2'!L38,T3_R1!M38,T3_R2!M38)","v":0},0,{"$f":"MAX('MDA4'!R38,T38)","v":0},{"$f":"MAX('MDA1'!K38,'MDA4'!S38,'MDA3'!I38,'MDA3'!L38,V38,AD38)","v":0},{"$f":"MAX('MDA1'!L38,'MDA4'!T38,'MDA3'!J38,'MDA3'!M38,AF38)","v":0},0,0]
[{"$f":"IF(COUNTRY_INFO!A39=0,\" \",COUNTRY_INFO!A39)","v":"Chad"},{"$f":"IF(COUNTRY_INFO!B39=0,\" \",COUNTRY_INFO!B39)","v":"Guéra"},{"$f":"IF(COUNTRY_INFO!C39=0,\" \",COUNTRY_INFO!C39)","v":"Melfi"},{"$f":"COUNTRY_INFO!M39","v":0},null,null,{"$f":"MAX('MDA1'!M39,'MDA4'!U39)","v":0},{"$f":"IF(AND(COUNTRY_INFO!H39>0,COUNTRY_INFO!H39<4),IF(D39>MAX('MDA1'!M39,'MDA4'!U39),MAX('MDA1'!M39,'MDA4'!U39),D39),0)","v":0},{"$f":"IF(AND(COUNTRY_INFO!H39>0,COUNTRY_INFO!H39<4), IF(G39/D39*100<>0, IF(G39/D39*100>100,100,G39/D39*100), \"-\"),0)","v":0},{"$f":"COUNTRY_INFO!N39","v":"Inconnu"},null,null,{"$f":"MAX('MDA1'!M39,MAX('MDA3'!I39,'MDA3'!L39)+MAX('MDA3'!J39,'MDA3'!M39))","v":0},{"$f":"IF(AND(COUNTRY_INFO!I39>0,COUNTRY_INFO!I39<4),IF(J39>MAX('MDA1'!M39,MAX('MDA3'!I39,'MDA3'!L39)+MAX('MDA3'!J39,'MDA3'!M39)),MAX('MDA1'!M39,MAX('MDA3'!I39,'MDA3'!L39)+MAX('MDA3'!J39,'MDA3'!M39)),J39),0)","v":0},{"$f":"IF(AND(COUNTRY_INFO!I39>0,COUNTRY_INFO!I39<4), IF(M39/J39*100<>0, IF(M39/J39*100>100,100,M39/J39*100), \"-\"),0)","v":0},{"$f":"COUNTRY_INFO!O39","v":0},null,null,{"$f":"SUM(MAX('MDA4'!R39, 'T1'!L39, MAX(T3_R1!K39, T3_R2!K39)), MAX('MDA1'!K39, 'MDA4'!S39, 'T1'!M39, MAX(T3_R1!L39, T3_R2!L39)), MAX('MDA1'!L39, 'MDA4'!T39, 'T1'!N39, MAX(T3_R1!M39, T3_R2!M39)))","v":0},{"$f":"IF(AND(COUNTRY_INFO!J39>1,COUNTRY_INFO!J39<4),IF(COUNTRY_INFO!E39>MAX('MDA4'!R39,'T1'!L39,MAX(T3_R1!K39,T3_R2!K39)),MAX('MDA4'!R39,'T1'!L39,MAX(T3_R1!K39,T3_R2!K39)),COUNTRY_INFO!E39),0)","v":0},{"$f":"IF(AND(COUNTRY_INFO!J39>1,COUNTRY_INFO!J39<4), IF(T39/COUNTRY_INFO!E39*100<>0, IF(T39/COUNTRY_INFO!E39*100>100,100,T39/COUNTRY_INFO!E39*100), \"-\"),0)","v":0},{"$f":"IF(AND(COUNTRY_INFO!J39>1,COUNTRY_INFO!J39<4),IF(COUNTRY_INFO!F39>MAX('MDA1'!K39,'MDA4'!S39,'T1'!M39,MAX(T3_R1!L39,T3_R2!L39)),MAX('MDA1'!K39,'MDA4'!S39,'T1'!M39,MAX(T3_R1!L39,T3_R2!L39)),COUNTRY_INFO!F39),0)","v":0},{"$f":"IF(AND(COUNTRY_INFO!J39>1,COUNTRY_INFO!J39<4), IF(V39/COUNTRY_INFO!F39*100<>0, IF(V39/COUNTRY_INFO!F39*100>100,100,V39/COUNTRY_INFO!F39*100), \"-\"),0)","v":0},0,{"$f":"IF(AND(COUNTRY_INFO!J39>1,COUNTRY_INFO!J39<4), IF(S39/P39*100<>0, IF(X39/P39*100>100,100,X39/P39*100), \"-\"),0)","v":0},{"$f":"COUNTRY_INFO!P39","v":40733.4},null,null,{"$f":"MAX('T1'!L39,'T2'!J39)+MAX('T1'!M39,'T2'!K39)+MAX('T1'!N39,'T2'!L39)","v":0},{"$f":"IF(COUNTRY_INFO!K39=1,IF(COUNTRY_INFO!F39*0.33>MAX('T1'!M39,'T2'!K39),MAX('T1'!M39,'T2'!K39),COUNTRY_INFO!F39*0.33),IF(COUNTRY_INFO!K39=2,IF(COUNTRY_INFO!F39*0.5>MAX('T1'!M39,'T2'!K39),MAX('T1'!M39,'T2'!K39),COUNTRY_INFO!F39*0.5),IF(COUNTRY_INFO!K39=3,IF(COUNTRY_INFO!F39>MAX('T1'!M39,'T2'!K39),MAX('T1'!M39,'T2'!K39),COUNTRY_INFO!F39),0)))","v":0},{"$f":"IF(AND(COUNTRY_INFO!K39>0,COUNTRY_INFO!K39<4),IF(Z39>0,IF(COUNTRY_INFO!K39=1, AD39/(COUNTRY_INFO!F39*0.33)*100, IF(COUNTRY_INFO!K39=2, AD39/(COUNTRY_INFO!F39*0.5)*100, IF(COUNTRY_INFO!K39=3, AD39/COUNTRY_INFO!F39*100))),\"-\"),0)","v":0},{"$f":"IF(COUNTRY_INFO!K39=2,IF(COUNTRY_INFO!G39*0.2>MAX('T1'!N39,'T2'!L39),MAX('T1'!N39,'T2'!L39),COUNTRY_INFO!G39*0.2),IF(COUNTRY_INFO!K39=3,IF(COUNTRY_INFO!G39>MAX('T1'!N39,'T2'!L39),MAX('T1'!N39,'T2'!L39),COUNTRY_INFO!G39),0))","v":0},{"$f":"IF(AND(COUNTRY_INFO!K39>0,COUNTRY_INFO!K39<4),IF(Z39>0,IF(COUNTRY_INFO!K39=1, 0, IF(COUNTRY_INFO!K39=2, AF39/(COUNTRY_INFO!G39*0.2)*100, IF(COUNTRY_INFO!K39=3, AF39/COUNTRY_INFO!G39*100))),\"-\"),0)","v":0},0,{"$f":"IF(AND(COUNTRY_INFO!K39>0,COUNTRY_INFO!K39<4), IF(AC39/Z39*100<>0, IF(AH39/Z39*100>100,100,AH39/Z39*100), \"-\"),0)","v":"-"},null,{"$f":"IF(AND(D39<>0, D39<>\"Inconnu\",D39<>\"Interrompu\",D39<>\"Non requis\"),D39/COUNTRY_INFO!D39, 0)","v":0},{"$f":"IF(AND(J39<>0,J39<>\"Inconnu\",J39<>\"Interrompu\",J39<>\"Non requis\"),J39/COUNTRY_INFO!D39, 0)","v":0},{"$f":"IF(AND(P39<>0,P39<>\"Inconnu\",P39<>\"Non requis\"),P39/(COUNTRY_INFO!E39+COUNTRY_INFO!F39), 0)","v":0},{"$f":"IF(AND(Z39<>0,Z39<>\"Inconnu\",Z39<>\"Non requis\"),IF(COUNTRY_INFO!K39=1,1,IF(COUNTRY_INFO!K39=2,0.5*COUNTRY_INFO!F39/(0.5*COUNTRY_INFO!F39+0.2*COUNTRY_INFO!G39),IF(COUNTRY_INFO!K39=3,COUNTRY_INFO!F39/(COUNTRY_INFO!F39+COUNTRY_INFO!G39)))),0)","v":0.60542454104003096},{"$f":"IF(AND(Z39<>0,Z39<>\"Inconnu\",Z39<>\"Non requis\"),IF(COUNTRY_INFO!K39=1,0,IF(COUNTRY_INFO!K39=2,0.2*COUNTRY_INFO!G39/(0.5*COUNTRY_INFO!F39+0.2*COUNTRY_INFO!G39),IF(COUNTRY_INFO!K39=3,COUNTRY_INFO!G39/(COUNTRY_INFO!F39+COUNTRY_INFO!G39)))),0)","v":0.39457545895996898},{"$f":"MAX(COUNTRY_INFO!D39*AK39*PROFILE!$G$7,COUNTRY_INFO!D39*AL39*PROFILE!$G$7)","v":0},{"$f":"MAX(COUNTRY_INFO!D39*AK39*PROFILE!$G$8,COUNTRY_INFO!D39*AL39*PROFILE!$G$8,COUNTRY_INFO!D39*AM39*PROFILE!$G$8)","v":0},{"$f":"MAX(COUNTRY_INFO!D39*AK39*PROFILE!$G$9,COUNTRY_INFO!D39*AL39*PROFILE!$G$9,COUNTRY_INFO!D39*AM39*PROFILE!$G$9,IF(AND(DISTRICT!Z39<>\"Inconnu\",Z39<>\"Non requis\"),COUNTRY_INFO!P39*DISTRICT!AN39,0))","v":24660.999999999996},{"$f":"MAX(COUNTRY_INFO!D39*AK39*PROFILE!$G$10,COUNTRY_INFO!D39*AL39*PROFILE!$G$10,IF(AND(DISTRICT!Z39<>\"Inconnu\",Z39<>\"Non requis\"),COUNTRY_INFO!P39*DISTRICT!AO39,0))","v":16072.400000000001},40733.399999999994,0,{"$f":"MAX('MDA4'!R39,'T1'!L39,'T2'!J39,T3_R1!K39,T3_R2!K39)","v":0},{"$f":"MAX('MDA1'!K39,'MDA4'!S39,'MDA3'!I39,'MDA3'!L39,'T1'!M39,'T2'!K39,T3_R1!L39,T3_R2!L39)","v":0},{"$f":"MAX('MDA1'!L39,'MDA4'!T39,'MDA3'!J39,'MDA3'!M39,'T1'!N39,'T2'!L39,T3_R1!M39,T3_R2!M39)","v":0},0,{"$f":"MAX('MDA4'!R39,T39)","v":0},{"$f":"MAX('MDA1'!K39,'MDA4'!S39,'MDA3'!I39,'MDA3'!L39,V39,AD39)","v":0},{"$f":"MAX('MDA1'!L39,'MDA4'!T39,'MDA3'!J39,'MDA3'!M39,AF39)","v":0},0,0]
[{"$f":"IF(COUNTRY_INFO!A40=0,\" \",COUNTRY_INFO!A40)","v":"Chad"},{"$f":"IF(COUNTRY_INFO!B40=0,\" \",COUNTRY_INFO!B40)","v":"Guéra"},{"$f":"IF(COUNTRY_INFO!C40=0,\" \",COUNTRY_INFO!C40)","v":"Mongo"},{"$f":"COUNTRY_INFO!M40","v":0},null,null,{"$f":"MAX('MDA1'!M40,'MDA4'!U40)","v":0},{"$f":"IF(AND(COUNTRY_INFO!H40>0,COUNTRY_INFO!H40<4),IF(D40>MAX('MDA1'!M40,'MDA4'!U40),MAX('MDA1'!M40,'MDA4'!U40),D40),0)","v":0},{"$f":"IF(AND(COUNTRY_INFO!H40>0,COUNTRY_INFO!H40<4), IF(G40/D40*100<>0, IF(G40/D40*100>100,100,G40/D40*100), \"-\"),0)","v":0},{"$f":"COUNTRY_INFO!N40","v":"Inconnu"},null,null,{"$f":"MAX('MDA1'!M40,MAX('MDA3'!I40,'MDA3'!L40)+MAX('MDA3'!J40,'MDA3'!M40))","v":0},{"$f":"IF(AND(COUNTRY_INFO!I40>0,COUNTRY_INFO!I40<4),IF(J40>MAX('MDA1'!M40,MAX('MDA3'!I40,'MDA3'!L40)+MAX('MDA3'!J40,'MDA3'!M40)),MAX('MDA1'!M40,MAX('MDA3'!I40,'MDA3'!L40)+MAX('MDA3'!J40,'MDA3'!M40)),J40),0)","v":0},{"$f":"IF(AND(COUNTRY_INFO!I40>0,COUNTRY_INFO!I40<4), IF(M40/J40*100<>0, IF(M40/J40*100>100,100,M40/J40*100), \"-\"),0)","v":0},{"$f":"COUNTRY_INFO!O40","v":0},null,null,{"$f":"SUM(MAX('MDA4'!R40, 'T1'!L40, MAX(T3_R1!K40, T3_R2!K40)), MAX('MDA1'!K40, 'MDA4'!S40, 'T1'!M40, MAX(T3_R1!L40, T3_R2!L40)), MAX('MDA1'!L40, 'MDA4'!T40, 'T1'!N40, MAX(T3_R1!M40, T3_R2!M40)))","v":0},{"$f":"IF(AND(COUNTRY_INFO!J40>1,COUNTRY_INFO!J40<4),IF(COUNTRY_INFO!E40>MAX('MDA4'!R40,'T1'!L40,MAX(T3_R1!K40,T3_R2!K40)),MAX('MDA4'!R40,'T1'!L40,MAX(T3_R1!K40,T3_R2!K40)),COUNTRY_INFO!E40),0)","v":0},{"$f":"IF(AND(COUNTRY_INFO!J40>1,COUNTRY_INFO!J40<4), IF(T40/COUNTRY_INFO!E40*100<>0, IF(T40/COUNTRY_INFO!E40*100>100,100,T40/COUNTRY_INFO!E40*100), \"-\"),0)","v":0},{"$f":"IF(AND(COUNTRY_INFO!J40>1,COUNTRY_INFO!J40<4),IF(COUNTRY_INFO!F40>MAX('MDA1'!K40,'MDA4'!S40,'T1'!M40,MAX(T3_R1!L40,T3_R2!L40)),MAX('MDA1'!K40,'MDA4'!S40,'T1'!M40,MAX(T3_R1!L40,T3_R2!L40)),COUNTRY_INFO!F40),0)","v":0},{"$f":"IF(AND(COUNTRY_INFO!J40>1,COUNTRY_INFO!J40<4), IF(V40/COUNTRY_INFO!F40*100<>0, IF(V40/COUNTRY_INFO!F40*100>100,100,V40/COUNTRY_INFO!F40*100), \"-\"),0)","v":0},0,{"$f":"IF(AND(COUNTRY_INFO!J40>1,COUNTRY_INFO!J40<4), IF(S40/P40*100<>0, IF(X40/P40*100>100,100,X40/P40*100), \"-\"),0)","v":0},{"$f":"COUNTRY_INFO!P40","v":50187.100000000006},null,null,{"$f":"MAX('T1'!L40,'T2'!J40)+MAX('T1'!M40,'T2'!K40)+MAX('T1'!N40,'T2'!L40)","v":0},{"$f":"IF(COUNTRY_INFO!K40=1,IF(COUNTRY_INFO!F40*0.33>MAX('T1'!M40,'T2'!K40),MAX('T1'!M40,'T2'!K40),COUNTRY_INFO!F40*0.33),IF(COUNTRY_INFO!K40=2,IF(COUNTRY_INFO!F40*0.5>MAX('T1'!M40,'T2'!K40),MAX('T1'!M40,'T2'!K40),COUNTRY_INFO!F40*0.5),IF(COUNTRY_INFO!K40=3,IF(COUNTRY_INFO!F40>MAX('T1'!M40,'T2'!K40),MAX('T1'!M40,'T2'!K40),COUNTRY_INFO!F40),0)))","v":0},{"$f":"IF(AND(COUNTRY_INFO!K40>0,COUNTRY_INFO!K40<4),IF(Z40>0,IF(COUNTRY_INFO!K40=1, AD40/(COUNTRY_INFO!F40*0.33)*100, IF(COUNTRY_INFO!K40=2, AD40/(COUNTRY_INFO!F40*0.5)*100, IF(COUNTRY_INFO!K40=3, AD40/COUNTRY_INFO!F40*100))),\"-\"),0)","v":0},{"$f":"IF(COUNTRY_INFO!K40=2,IF(COUNTRY_INFO!G40*0.2>MAX('T1'!N40,'T2'!L40),MAX('T1'!N40,'T2'!L40),COUNTRY_INFO!G40*0.2),IF(COUNTRY_INFO!K40=3,IF(COUNTRY_INFO!G40>MAX('T1'!N40,'T2'!L40),MAX('T1'!N40,'T2'!L40),COUNTRY_INFO!G40),0))","v":0},{"$f":"IF(AND(COUNTRY_INFO!K40>0,COUNTRY_INFO!K40<4),IF(Z40>0,IF(COUNTRY_INFO!K40=1, 0, IF(COUNTRY_INFO!K40=2, AF40/(COUNTRY_INFO!G40*0.2)*100, IF(COUNTRY_INFO!K40=3, AF40/COUNTRY_INFO!G40*100))),\"-\"),0)","v":0},0,{"$f":"IF(AND(COUNTRY_INFO!K40>0,COUNTRY_INFO!K40<4), IF(AC40/Z40*100<>0, IF(AH40/Z40*100>100,100,AH40/Z40*100), \"-\"),0)","v":"-"},null,{"$f":"IF(AND(D40<>0, D40<>\"Inconnu\",D40<>\"Interrompu\",D40<>\"Non requis\"),D40/COUNTRY_INFO!D40, 0)","v":0},{"$f":"IF(AND(J40<>0,J40<>\"Inconnu\",J40<>\"Interrompu\",J40<>\"Non requis\"),J40/COUNTRY_INFO!D40, 0)","v":0},{"$f":"IF(AND(P40<>0,P40<>\"Inconnu\",P40<>\"Non requis\"),P40/(COUNTRY_INFO!E40+COUNTRY_INFO!F40), 0)","v":0},{"$f":"IF(AND(Z40<>0,Z40<>\"Inconnu\",Z40<>\"Non requis\"),IF(COUNTRY_INFO!K40=1,1,IF(COUNTRY_INFO!K40=2,0.5*COUNTRY_INFO!F40/(0.5*COUNTRY_INFO!F40+0.2*COUNTRY_INFO!G40),IF(COUNTRY_INFO!K40=3,COUNTRY_INFO!F40/(COUNTRY_INFO!F40+COUNTRY_INFO!G40)))),0)","v":0.60542450151532956},{"$f":"IF(AND(Z40<>0,Z40<>\"Inconnu\",Z40<>\"Non requis\"),IF(COUNTRY_INFO!K40=1,0,IF(COUNTRY_INFO!K40=2,0.2*COUNTRY_INFO!G40/(0.5*COUNTRY_INFO!F40+0.2*COUNTRY_INFO!G40),IF(COUNTRY_INFO!K40=3,COUNTRY_INFO!G40/(COUNTRY_INFO!F40+COUNTRY_INFO!G40)))),0)","v":0.39457549848467038},{"$f":"MAX(COUNTRY_INFO!D40*AK40*PROFILE!$G$7,COUNTRY_INFO!D40*AL40*PROFILE!$G$7)","v":0},{"$f":"MAX(COUNTRY_INFO!D40*AK40*PROFILE!$G$8,COUNTRY_INFO!D40*AL40*PROFILE!$G$8,COUNTRY_INFO!D40*AM40*PROFILE!$G$8)","v":0},{"$f":"MAX(COUNTRY_INFO!D40*AK40*PROFILE!$G$9,COUNTRY_INFO!D40*AL40*PROFILE!$G$9,COUNTRY_INFO!D40*AM40*PROFILE!$G$9,IF(AND(DISTRICT!Z40<>\"Inconnu\",Z40<>\"Non requis\"),COUNTRY_INFO!P40*DISTRICT!AN40,0))","v":30384.5},{"$f":"MAX(COUNTRY_INFO!D40*AK40*PROFILE!$G$10,COUNTRY_INFO!D40*AL40*PROFILE!$G$10,IF(AND(DISTRICT!Z40<>\"Inconnu\",Z40<>\"Non requis\"),COUNTRY_INFO!P40*DISTRICT!AO40,0))","v":19802.600000000002},50187.100000000006,0,{"$f":"MAX('MDA4'!R40,'T1'!L40,'T2'!J40,T3_R1!K40,T3_R2!K40)","v":0},{"$f":"MAX('MDA1'!K40,'MDA4'!S40,'MDA3'!I40,'MDA3'!L40,'T1'!M40,'T2'!K40,T3_R1!L40,T3_R2!L40)","v":0},{"$f":"MAX('MDA1'!L40,'MDA4'!T40,'MDA3'!J40,'MDA3'!M40,'T1'!N40,'T2'!L40,T3_R1!M40,T3_R2!M40)","v":0},0,{"$f":"MAX('MDA4'!R40,T40)","v":0},{"$f":"MAX('MDA1'!K40,'MDA4'!S40,'MDA3'!I40,'MDA3'!L40,V40,AD40)","v":0},{"$f":"MAX('MDA1'!L40,'MDA4'!T40,'MDA3'!J40,'MDA3'!M40,AF40)","v":0},0,0]
[{"$f":"IF(COUNTRY_INFO!A41=0,\" \",COUNTRY_INFO!A41)","v":"Chad"},{"$f":"IF(COUNTRY_INFO!B41=0,\" \",COUNTRY_INFO!B41)","v":"Hadjer Lamis"},{"$f":"IF(COUNTRY_INFO!C41=0,\" \",COUNTRY_INFO!C41)","v":"Bokoro"},{"$f":"COUNTRY_INFO!M41","v":0},null,null,{"$f":"MAX('MDA1'!M41,'MDA4'!U41)","v":0},{"$f":"IF(AND(COUNTRY_INFO!H41>0,COUNTRY_INFO!H41<4),IF(D41>MAX('MDA1'!M41,'MDA4'!U41),MAX('MDA1'!M41,'MDA4'!U41),D41),0)","v":0},{"$f":"IF(AND(COUNTRY_INFO!H41>0,COUNTRY_INFO!H41<4), IF(G41/D41*100<>0, IF(G41/D41*100>100,100,G41/D41*100), \"-\"),0)","v":0},{"$f":"COUNTRY_INFO!N41","v":0},null,null,{"$f":"MAX('MDA1'!M41,MAX('MDA3'!I41,'MDA3'!L41)+MAX('MDA3'!J41,'MDA3'!M41))","v":0},{"$f":"IF(AND(COUNTRY_INFO!I41>0,COUNTRY_INFO!I41<4),IF(J41>MAX('MDA1'!M41,MAX('MDA3'!I41,'MDA3'!L41)+MAX('MDA3'!J41,'MDA3'!M41)),MAX('MDA1'!M41,MAX('MDA3'!I41,'MDA3'!L41)+MAX('MDA3'!J41,'MDA3'!M41)),J41),0)","v":0},{"$f":"IF(AND(COUNTRY_INFO!I41>0,COUNTRY_INFO!I41<4), IF(M41/J41*100<>0, IF(M41/J41*100>100,100,M41/J41*100), \"-\"),0)","v":0},{"$f":"COUNTRY_INFO!O41","v":0},null,null,{"$f":"SUM(MAX('MDA4'!R41, 'T1'!L41, MAX(T3_R1!K41, T3_R2!K41)), MAX('MDA1'!K41, 'MDA4'!S41, 'T1'!M41, MAX(T3_R1!L41, T3_R2!L41)), MAX('MDA1'!L41, 'MDA4'!T41, 'T1'!N41, MAX(T3_R1!M41, T3_R2!M41)))","v":0},{"$f":"IF(AND(COUNTRY_INFO!J41>1,COUNTRY_INFO!J41<4),IF(COUNTRY_INFO!E41>MAX('MDA4'!R41,'T1'!L41,MAX(T3_R1!K41,T3_R2!K41)),MAX('MDA4'!R41,'T1'!L41,MAX(T3_R1!K41,T3_R2!K41)),COUNTRY_INFO!E41),0)","v":0},{"$f":"IF(AND(COUNTRY_INFO!J41>1,COUNTRY_INFO!J41<4), IF(T41/COUNTRY_INFO!E41*100<>0, IF(T41/COUNTRY_INFO!E41*100>100,100,T41/COUNTRY_INFO!E41*100), \"-\"),0)","v":0},{"$f":"IF(AND(COUNTRY_INFO!J41>1,COUNTRY_INFO!J41<4),IF(COUNTRY_INFO!F41>MAX('MDA1'!K41,'MDA4'!S41,'T1'!M41,MAX(T3_R1!L41,T3_R2!L41)),MAX('MDA1'!K41,'MDA4'!S41,'T1'!M41,MAX(T3_R1!L41,T3_R2!L41)),COUNTRY_INFO!F41),0)","v":0},{"$f":"IF(AND(COUNTRY_INFO!J41>1,COUNTRY_INFO!J41<4), IF(V41/COUNTRY_INFO!F41*100<>0, IF(V41/COUNTRY_INFO!F41*100>100,100,V41/COUNTRY_INFO!F41*100), \"-\"),0)","v":0},0,{"$f":"IF(AND(COUNTRY_INFO!J41>1,COUNTRY_INFO!J41<4), IF(S41/P41*100<>0, IF(X41/P41*100>100,100,X41/P41*100), \"-\"),0)","v":0},{"$f":"COUNTRY_INFO!P41","v":203082},null,null,{"$f":"MAX('T1'!L41,'T2'!J41)+MAX('T1'!M41,'T2'!K41)+MAX('T1'!N41,'T2'!L41)","v":0},{"$f":"IF(COUNTRY_INFO!K41=1,IF(COUNTRY_INFO!F41*0.33>MAX('T1'!M41,'T2'!K41),MAX('T1'!M41,'T2'!K41),COUNTRY_INFO!F41*0.33),IF(COUNTRY_INFO!K41=2,IF(COUNTRY_INFO!F41*0.5>MAX('T1'!M41,'T2'!K41),MAX('T1'!M41,'T2'!K41),COUNTRY_INFO!F41*0.5),IF(COUNTRY_INFO!K41=3,IF(COUNTRY_INFO!F41>MAX('T1'!M41,'T2'!K41),MAX('T1'!M41,'T2'!K41),COUNTRY_INFO!F41),0)))","v":0},{"$f":"IF(AND(COUNTRY_INFO!K41>0,COUNTRY_INFO!K41<4),IF(Z41>0,IF(COUNTRY_INFO!K41=1, AD41/(COUNTRY_INFO!F41*0.33)*100, IF(COUNTRY_INFO!K41=2, AD41/(COUNTRY_INFO!F41*0.5)*100, IF(COUNTRY_INFO!K41=3, AD41/COUNTRY_INFO!F41*100))),\"-\"),0)","v":0},{"$f":"IF(COUNTRY_INFO!K41=2,IF(COUNTRY_INFO!G41*0.2>MAX('T1'!N41,'T2'!L41),MAX('T1'!N41,'T2'!L41),COUNTRY_INFO!G41*0.2),IF(COUNTRY_INFO!K41=3,IF(COUNTRY_INFO!G41>MAX('T1'!N41,'T2'!L41),MAX('T1'!N41,'T2'!L41),COUNTRY_INFO!G41),0))","v":0},{"$f":"IF(AND(COUNTRY_INFO!K41>0,COUNTRY_INFO!K41<4),IF(Z41>0,IF(COUNTRY_INFO!K41=1, 0, IF(COUNTRY_INFO!K41=2, AF41/(COUNTRY_INFO!G41*0.2)*100, IF(COUNTRY_INFO!K41=3, AF41/COUNTRY_INFO!G41*100))),\"-\"),0)","v":0},0,{"$f":"IF(AND(COUNTRY_INFO!K41>0,COUNTRY_INFO!K41<4), IF(AC41/Z41*100<>0, IF(AH41/Z41*100>100,100,AH41/Z41*100), \"-\"),0)","v":"-"},null,{"$f":"IF(AND(D41<>0, D41<>\"Inconnu\",D41<>\"Interrompu\",D41<>\"Non requis\"),D41/COUNTRY_INFO!D41, 0)","v":0},{"$f":"IF(AND(J41<>0,J41<>\"Inconnu\",J41<>\"Interrompu\",J41<>\"Non requis\"),J41/COUNTRY_INFO!D41, 0)","v":0},{"$f":"IF(AND(P41<>0,P41<>\"Inconnu\",P41<>\"Non requis\"),P41/(COUNTRY_INFO!E41+COUNTRY_INFO!F41), 0)","v":0},{"$f":"IF(AND(Z41<>0,Z41<>\"Inconnu\",Z41<>\"Non requis\"),IF(COUNTRY_INFO!K41=1,1,IF(COUNTRY_INFO!K41=2,0.5*COUNTRY_INFO!F41/(0.5*COUNTRY_INFO!F41+0.2*COUNTRY_INFO!G41),IF(COUNTRY_INFO!K41=3,COUNTRY_INFO!F41/(COUNTRY_INFO!F41+COUNTRY_INFO!G41)))),0)","v":0.38032420401611172},{"$f":"IF(AND(Z41<>0,Z41<>\"Inconnu\",Z41<>\"Non requis\"),IF(COUNTRY_INFO!K41=1,0,IF(COUNTRY_INFO!K41=2,0.2*COUNTRY_INFO!G41/(0.5*COUNTRY_INFO!F41+0.2*COUNTRY_INFO!G41),IF(COUNTRY_INFO!K41=3,COUNTRY_INFO!G41/(COUNTRY_INFO!F41+COUNTRY_INFO!G41)))),0)","v":0.61967579598388833},{"$f":"MAX(COUNTRY_INFO!D41*AK41*PROFILE!$G$7,COUNTRY_INFO!D41*AL41*PROFILE!$G$7)","v":0},{"$f":"MAX(COUNTRY_INFO!D41*AK41*PROFILE!$G$8,COUNTRY_INFO!D41*AL41*PROFILE!$G$8,COUNTRY_INFO!D41*AM41*PROFILE!$G$8)","v":0},{"$f":"MAX(COUNTRY_INFO!D41*AK41*PROFILE!$G$9,COUNTRY_INFO!D41*AL41*PROFILE!$G$9,COUNTRY_INFO!D41*AM41*PROFILE!$G$9,IF(AND(DISTRICT!Z41<>\"Inconnu\",Z41<>\"Non requis\"),COUNTRY_INFO!P41*DISTRICT!AN41,0))","v":77237},{"$f":"MAX(COUNTRY_INFO!D41*AK41*PROFILE!$G$10,COUNTRY_INFO!D41*AL41*PROFILE!$G$10,IF(AND(DISTRICT!Z41<>\"Inconnu\",Z41<>\"Non requis\"),COUNTRY_INFO!P41*DISTRICT!AO41,0))","v":125845.00000000001},203082,{"$f":"IF(COUNTIFS(AK41:AN41,\">0\")=0,0, IF(COUNTIFS(AK41:AN41,\">0\")<=IF(AND(OR(D41>=0,D41=\"Non requis\",D41=\"Inconnu\",D41=\"Interrompu\"),D41>0,H41>0),1,0)+IF(AND(OR(J41>=0,J41=\"Non requis\",J41=\"Inconnu\",J41=\"Interrompu\"),J41>0,N41>0),1,0)+IF(AND(OR(P41>=0,P41=\"Non requis\",P41=\"Inconnu\"),P41>0,X41>0),1,0)+IF(AND(OR(Z41>=0,Z41=\"Non requis\",Z41=\"Inconnu\"),Z41>0,AH41>0),1,0),\"Y\",0))","v":0},{"$f":"MAX('MDA4'!R41,'T1'!L41,'T2'!J41,T3_R1!K41,T3_R2!K41)","v":0},{"$f":"MAX('MDA1'!K41,'MDA4'!S41,'MDA3'!I41,'MDA3'!L41,'T1'!M41,'T2'!K41,T3_R1!L41,T3_R2!L41)","v":0},{"$f":"MAX('MDA1'!L41,'MDA4'!T41,'MDA3'!J41,'MDA3'!M41,'T1'!N41,'T2'!L41,T3_R1!M41,T3_R2!M41)","v":0},0,{"$f":"MAX('MDA4'!R41,T41)","v":0},{"$f":"MAX('MDA1'!K41,'MDA4'!S41,'MDA3'!I41,'MDA3'!L41,V41,AD41)","v":0},{"$f":"MAX('MDA1'!L41,'MDA4'!T41,'MDA3'!J41,'MDA3'!M41,AF41)","v":0},{"$f":"IF(AT41<SUM(AZ41:BB41), AT41,SUM(AZ41:BB41))","v":0},{"$f":"IF(AT41<>0,BC41/AT41*100,0)","v":0}]
[{"$f":"IF(COUNTRY_INFO!A42=0,\" \",COUNTRY_INFO!A42)","v":"Chad"},{"$f":"IF(COUNTRY_INFO!B42=0,\" \",COUNTRY_INFO!B42)","v":"Hadjer Lamis"},{"$f":"IF(COUNTRY_INFO!C42=0,\" \",COUNTRY_INFO!C42)","v":"Gama"},{"$f":"COUNTRY_INFO!M42","v":0},null,null,{"$f":"MAX('MDA1'!M42,'MDA4'!U42)","v":0},{"$f":"IF(AND(COUNTRY_INFO!H42>0,COUNTRY_INFO!H42<4),IF(D42>MAX('MDA1'!M42,'MDA4'!U42),MAX('MDA1'!M42,'MDA4'!U42),D42),0)","v":0},{"$f":"IF(AND(COUNTRY_INFO!H42>0,COUNTRY_INFO!H42<4), IF(G42/D42*100<>0, IF(G42/D42*100>100,100,G42/D42*100), \"-\"),0)","v":0},{"$f":"COUNTRY_INFO!N42","v":0},null,null,{"$f":"MAX('MDA1'!M42,MAX('MDA3'!I42,'MDA3'!L42)+MAX('MDA3'!J42,'MDA3'!M42))","v":0},{"$f":"IF(AND(COUNTRY_INFO!I42>0,COUNTRY_INFO!I42<4),IF(J42>MAX('MDA1'!M42,MAX('MDA3'!I42,'MDA3'!L42)+MAX('MDA3'!J42,'MDA3'!M42)),MAX('MDA1'!M42,MAX('MDA3'!I42,'MDA3'!L42)+MAX('MDA3'!J42,'MDA3'!M42)),J42),0)","v":0},{"$f":"IF(AND(COUNTRY_INFO!I42>0,COUNTRY_INFO!I42<4), IF(M42/J42*100<>0, IF(M42/J42*100>100,100,M42/J42*100), \"-\"),0)","v":0},{"$f":"COUNTRY_INFO!O42","v":0},null,null,{"$f":"SUM(MAX('MDA4'!R42, 'T1'!L42, MAX(T3_R1!K42, T3_R2!K42)), MAX('MDA1'!K42, 'MDA4'!S42, 'T1'!M42, MAX(T3_R1!L42, T3_R2!L42)), MAX('MDA1'!L42, 'MDA4'!T42, 'T1'!N42, MAX(T3_R1!M42, T3_R2!M42)))","v":0},{"$f":"IF(AND(COUNTRY_INFO!J42>1,COUNTRY_INFO!J42<4),IF(COUNTRY_INFO!E42>MAX('MDA4'!R42,'T1'!L42,MAX(T3_R1!K42,T3_R2!K42)),MAX('MDA4'!R42,'T1'!L42,MAX(T3_R1!K42,T3_R2!K42)),COUNTRY_INFO!E42),0)","v":0},{"$f":"IF(AND(COUNTRY_INFO!J42>1,COUNTRY_INFO!J42<4), IF(T42/COUNTRY_INFO!E42*100<>0, IF(T42/COUNTRY_INFO!E42*100>100,100,T42/COUNTRY_INFO!E42*100), \"-\"),0)","v":0},{"$f":"IF(AND(COUNTRY_INFO!J42>1,COUNTRY_INFO!J42<4),IF(COUNTRY_INFO!F42>MAX('MDA1'!K42,'MDA4'!S42,'T1'!M42,MAX(T3_R1!L42,T3_R2!L42)),MAX('MDA1'!K42,'MDA4'!S42,'T1'!M42,MAX(T3_R1!L42,T3_R2!L42)),COUNTRY_INFO!F42),0)","v":0},{"$f":"IF(AND(COUNTRY_INFO!J42>1,COUNTRY_INFO!J42<4), IF(V42/COUNTRY_INFO!F42*100<>0, IF(V42/COUNTRY_INFO!F42*100>100,100,V42/COUNTRY_INFO!F42*100), \"-\"),0)","v":0},0,{"$f":"IF(AND(COUNTRY_INFO!J42>1,COUNTRY_INFO!J42<4), IF(S42/P42*100<>0, IF(X42/P42*100>100,100,X42/P42*100), \"-\"),0)","v":0},{"$f":"COUNTRY_INFO!P42","v":82970},null,null,{"$f":"MAX('T1'!L42,'T2'!J42)+MAX('T1'!M42,'T2'!K42)+MAX('T1'!N42,'T2'!L42)","v":0},{"$f":"IF(COUNTRY_INFO!K42=1,IF(COUNTRY_INFO!F42*0.33>MAX('T1'!M42,'T2'!K42),MAX('T1'!M42,'T2'!K42),COUNTRY_INFO!F42*0.33),IF(COUNTRY_INFO!K42=2,IF(COUNTRY_INFO!F42*0.5>MAX('T1'!M42,'T2'!K42),MAX('T1'!M42,'T2'!K42),COUNTRY_INFO!F42*0.5),IF(COUNTRY_INFO!K42=3,IF(COUNTRY_INFO!F42>MAX('T1'!M42,'T2'!K42),MAX('T1'!M42,'T2'!K42),COUNTRY_INFO!F42),0)))","v":0},{"$f":"IF(AND(COUNTRY_INFO!K42>0,COUNTRY_INFO!K42<4),IF(Z42>0,IF(COUNTRY_INFO!K42=1, AD42/(COUNTRY_INFO!F42*0.33)*100, IF(COUNTRY_INFO!K42=2, AD42/(COUNTRY_INFO!F42*0.5)*100, IF(COUNTRY_INFO!K42=3, AD42/COUNTRY_INFO!F42*100))),\"-\"),0)","v":0},{"$f":"IF(COUNTRY_INFO!K42=2,IF(COUNTRY_INFO!G42*0.2>MAX('T1'!N42,'T2'!L42),MAX('T1'!N42,'T2'!L42),COUNTRY_INFO!G42*0.2),IF(COUNTRY_INFO!K42=3,IF(COUNTRY_INFO!G42>MAX('T1'!N42,'T2'!L42),MAX('T1'!N42,'T2'!L42),COUNTRY_INFO!G42),0))","v":0},{"$f":"IF(AND(COUNTRY_INFO!K42>0,COUNTRY_INFO!K42<4),IF(Z42>0,IF(COUNTRY_INFO!K42=1, 0, IF(COUNTRY_INFO!K42=2, AF42/(COUNTRY_INFO!G42*0.2)*100, IF(COUNTRY_INFO!K42=3, AF42/COUNTRY_INFO!G42*100))),\"-\"),0)","v":0},0,{"$f":"IF(AND(COUNTRY_INFO!K42>0,COUNTRY_INFO!K42<4), IF(AC42/Z42*100<>0, IF(AH42/Z42*100>100,100,AH42/Z42*100), \"-\"),0)","v":"-"},null,{"$f":"IF(AND(D42<>0, D42<>\"Inconnu\",D42<>\"Interrompu\",D42<>\"Non requis\"),D42/COUNTRY_INFO!D42, 0)","v":0},{"$f":"IF(AND(J42<>0,J42<>\"Inconnu\",J42<>\"Interrompu\",J42<>\"Non requis\"),J42/COUNTRY_INFO!D42, 0)","v":0},{"$f":"IF(AND(P42<>0,P42<>\"Inconnu\",P42<>\"Non requis\"),P42/(COUNTRY_INFO!E42+COUNTRY_INFO!F42), 0)","v":0},{"$f":"IF(AND(Z42<>0,Z42<>\"Inconnu\",Z42<>\"Non requis\"),IF(COUNTRY_INFO!K42=1,1,IF(COUNTRY_INFO!K42=2,0.5*COUNTRY_INFO!F42/(0.5*COUNTRY_INFO!F42+0.2*COUNTRY_INFO!G42),IF(COUNTRY_INFO!K42=3,COUNTRY_INFO!F42/(COUNTRY_INFO!F42+COUNTRY_INFO!G42)))),0)","v":0.38033023984572739},{"$f":"IF(AND(Z42<>0,Z42<>\"Inconnu\",Z42<>\"Non requis\"),IF(COUNTRY_INFO!K42=1,0,IF(COUNTRY_INFO!K42=2,0.2*COUNTRY_INFO!G42/(0.5*COUNTRY_INFO!F42+0.2*COUNTRY_INFO!G42),IF(COUNTRY_INFO!K42=3,COUNTRY_INFO!G42/(COUNTRY_INFO!F42+COUNTRY_INFO!G42)))),0)","v":0.61966976015427266},{"$f":"MAX(COUNTRY_INFO!D42*AK42*PROFILE!$G$7,COUNTRY_INFO!D42*AL42*PROFILE!$G$7)","v":0},{"$f":"MAX(COUNTRY_INFO!D42*AK42*PROFILE!$G$8,COUNTRY_INFO!D42*AL42*PROFILE!$G$8,COUNTRY_INFO!D42*AM42*PROFILE!$G$8)","v":0},{"$f":"MAX(COUNTRY_INFO!D42*AK42*PROFILE!$G$9,COUNTRY_INFO!D42*AL42*PROFILE!$G$9,COUNTRY_INFO!D42*AM42*PROFILE!$G$9,IF(AND(DISTRICT!Z42<>\"Inconnu\",Z42<>\"Non requis\"),COUNTRY_INFO!P42*DISTRICT!AN42,0))","v":31556},{"$f":"MAX(COUNTRY_INFO!D42*AK42*PROFILE!$G$10,COUNTRY_INFO!D42*AL42*PROFILE!$G$10,IF(AND(DISTRICT!Z42<>\"Inconnu\",Z42<>\"Non requis\"),COUNTRY_INFO!P42*DISTRICT!AO42,0))","v":51414},82970,0,{"$f":"MAX('MDA4'!R42,'T1'!L42,'T2'!J42,T3_R1!K42,T3_R2!K42)","v":0},{"$f":"MAX('MDA1'!K42,'MDA4'!S42,'MDA3'!I42,'MDA3'!L42,'T1'!M42,'T2'!K42,T3_R1!L42,T3_R2!L42)","v":0},{"$f":"MAX('MDA1'!L42,'MDA4'!T42,'MDA3'!J42,'MDA3'!M42,'T1'!N42,'T2'!L42,T3_R1!M42,T3_R2!M42)","v":0},0,{"$f":"MAX('MDA4'!R42,T42)","v":0},{"$f":"MAX('MDA1'!K42,'MDA4'!S42,'MDA3'!I42,'MDA3'!L42,V42,AD42)","v":0},{"$f":"MAX('MDA1'!L42,'MDA4'!T42,'MDA3'!J42,'MDA3'!M42,AF42)","v":0},0,0]
[{"$f":"IF(COUNTRY_INFO!A43=0,\" \",COUNTRY_INFO!A43)","v":"Chad"},{"$f":"IF(COUNTRY_INFO!B43=0,\" \",COUNTRY_INFO!B43)","v":"Hadjar Lamis"},{"$f":"IF(COUNTRY_INFO!C43=0,\" \",COUNTRY_INFO!C43)","v":"Karal"},{"$f":"COUNTRY_INFO!M43","v":0},null,null,{"$f":"MAX('MDA1'!M43,'MDA4'!U43)","v":0},{"$f":"IF(AND(COUNTRY_INFO!H43>0,COUNTRY_INFO!H43<4),IF(D43>MAX('MDA1'!M43,'MDA4'!U43),MAX('MDA1'!M43,'MDA4'!U43),D43),0)","v":0},{"$f":"IF(AND(COUNTRY_INFO!H43>0,COUNTRY_INFO!H43<4), IF(G43/D43*100<>0, IF(G43/D43*100>100,100,G43/D43*100), \"-\"),0)","v":0},{"$f":"COUNTRY_INFO!N43","v":0},null,null,{"$f":"MAX('MDA1'!M43,MAX('MDA3'!I43,'MDA3'!L43)+MAX('MDA3'!J43,'MDA3'!M43))","v":0},{"$f":"IF(AND(COUNTRY_INFO!I43>0,COUNTRY_INFO!I43<4),IF(J43>MAX('MDA1'!M43,MAX('MDA3'!I43,'MDA3'!L43)+MAX('MDA3'!J43,'MDA3'!M43)),MAX('MDA1'!M43,MAX('MDA3'!I43,'MDA3'!L43)+MAX('MDA3'!J43,'MDA3'!M43)),J43),0)","v":0},{"$f":"IF(AND(COUNTRY_INFO!I43>0,COUNTRY_INFO!I43<4), IF(M43/J43*100<>0, IF(M43/J43*100>100,100,M43/J43*100), \"-\"),0)","v":0},{"$f":"COUNTRY_INFO!O43","v":0},null,null,{"$f":"SUM(MAX('MDA4'!R43, 'T1'!L43, MAX(T3_R1!K43, T3_R2!K43)), MAX('MDA1'!K43, 'MDA4'!S43, 'T1'!M43, MAX(T3_R1!L43, T3_R2!L43)), MAX('MDA1'!L43, 'MDA4'!T43, 'T1'!N43, MAX(T3_R1!M43, T3_R2!M43)))","v":0},{"$f":"IF(AND(COUNTRY_INFO!J43>1,COUNTRY_INFO!J43<4),IF(COUNTRY_INFO!E43>MAX('MDA4'!R43,'T1'!L43,MAX(T3_R1!K43,T3_R2!K43)),MAX('MDA4'!R43,'T1'!L43,MAX(T3_R1!K43,T3_R2!K43)),COUNTRY_INFO!E43),0)","v":0},{"$f":"IF(AND(COUNTRY_INFO!J43>1,COUNTRY_INFO!J43<4), IF(T43/COUNTRY_INFO!E43*100<>0, IF(T43/COUNTRY_INFO!E43*100>100,100,T43/COUNTRY_INFO!E43*100), \"-\"),0)","v":0},{"$f":"IF(AND(COUNTRY_INFO!J43>1,COUNTRY_INFO!J43<4),IF(COUNTRY_INFO!F43>MAX('MDA1'!K43,'MDA4'!S43,'T1'!M43,MAX(T3_R1!L43,T3_R2!L43)),MAX('MDA1'!K43,'MDA4'!S43,'T1'!M43,MAX(T3_R1!L43,T3_R2!L43)),COUNTRY_INFO!F43),0)","v":0},{"$f":"IF(AND(COUNTRY_INFO!J43>1,COUNTRY_INFO!J43<4), IF(V43/COUNTRY_INFO!F43*100<>0, IF(V43/COUNTRY_INFO!F43*100>100,100,V43/COUNTRY_INFO!F43*100), \"-\"),0)","v":0},0,{"$f":"IF(AND(COUNTRY_INFO!J43>1,COUNTRY_INFO!J43<4), IF(S43/P43*100<>0, IF(X43/P43*100>100,100,X43/P43*100), \"-\"),0)","v":0},{"$f":"COUNTRY_INFO!P43","v":25780.2},null,null,{"$f":"MAX('T1'!L43,'T2'!J43)+MAX('T1'!M43,'T2'!K43)+MAX('T1'!N43,'T2'!L43)","v":0},{"$f":"IF(COUNTRY_INFO!K43=1,IF(COUNTRY_INFO!F43*0.33>MAX('T1'!M43,'T2'!K43),MAX('T1'!M43,'T2'!K43),COUNTRY_INFO!F43*0.33),IF(COUNTRY_INFO!K43=2,IF(COUNTRY_INFO!F43*0.5>MAX('T1'!M43,'T2'!K43),MAX('T1'!M43,'T2'!K43),COUNTRY_INFO!F43*0.5),IF(COUNTRY_INFO!K43=3,IF(COUNTRY_INFO!F43>MAX('T1'!M43,'T2'!K43),MAX('T1'!M43,'T2'!K43),COUNTRY_INFO!F43),0)))","v":0},{"$f":"IF(AND(COUNTRY_INFO!K43>0,COUNTRY_INFO!K43<4),IF(Z43>0,IF(COUNTRY_INFO!K43=1, AD43/(COUNTRY_INFO!F43*0.33)*100, IF(COUNTRY_INFO!K43=2, AD43/(COUNTRY_INFO!F43*0.5)*100, IF(COUNTRY_INFO!K43=3, AD43/COUNTRY_INFO!F43*100))),\"-\"),0)","v":0},{"$f":"IF(COUNTRY_INFO!K43=2,IF(COUNTRY_INFO!G43*0.2>MAX('T1'!N43,'T2'!L43),MAX('T1'!N43,'T2'!L43),COUNTRY_INFO!G43*0.2),IF(COUNTRY_INFO!K43=3,IF(COUNTRY_INFO!G43>MAX('T1'!N43,'T2'!L43),MAX('T1'!N43,'T2'!L43),COUNTRY_INFO!G43),0))","v":0},{"$f":"IF(AND(COUNTRY_INFO!K43>0,COUNTRY_INFO!K43<4),IF(Z43>0,IF(COUNTRY_INFO!K43=1, 0, IF(COUNTRY_INFO!K43=2, AF43/(COUNTRY_INFO!G43*0.2)*100, IF(COUNTRY_INFO!K43=3, AF43/COUNTRY_INFO!G43*100))),\"-\"),0)","v":0},0,{"$f":"IF(AND(COUNTRY_INFO!K43>0,COUNTRY_INFO!K43<4), IF(AC43/Z43*100<>0, IF(AH43/Z43*100>100,100,AH43/Z43*100), \"-\"),0)","v":"-"},null,{"$f":"IF(AND(D43<>0, D43<>\"Inconnu\",D43<>\"Interrompu\",D43<>\"Non requis\"),D43/COUNTRY_INFO!D43, 0)","v":0},{"$f":"IF(AND(J43<>0,J43<>\"Inconnu\",J43<>\"Interrompu\",J43<>\"Non requis\"),J43/COUNTRY_INFO!D43, 0)","v":0},{"$f":"IF(AND(P43<>0,P43<>\"Inconnu\",P43<>\"Non requis\"),P43/(COUNTRY_INFO!E43+COUNTRY_INFO!F43), 0)","v":0},{"$f":"IF(AND(Z43<>0,Z43<>\"Inconnu\",Z43<>\"Non requis\"),IF(COUNTRY_INFO!K43=1,1,IF(COUNTRY_INFO!K43=2,0.5*COUNTRY_INFO!F43/(0.5*COUNTRY_INFO!F43+0.2*COUNTRY_INFO!G43),IF(COUNTRY_INFO!K43=3,COUNTRY_INFO!F43/(COUNTRY_INFO!F43+COUNTRY_INFO!G43)))),0)","v":0.60542586946571397},{"$f":"IF(AND(Z43<>0,Z43<>\"Inconnu\",Z43<>\"Non requis\"),IF(COUNTRY_INFO!K43=1,0,IF(COUNTRY_INFO!K43=2,0.2*COUNTRY_INFO!G43/(0.5*COUNTRY_INFO!F43+0.2*COUNTRY_INFO!G43),IF(COUNTRY_INFO!K43=3,COUNTRY_INFO!G43/(COUNTRY_INFO!F43+COUNTRY_INFO!G43)))),0)","v":0.39457413053428603},{"$f":"MAX(COUNTRY_INFO!D43*AK43*PROFILE!$G$7,COUNTRY_INFO!D43*AL43*PROFILE!$G$7)","v":0},{"$f":"MAX(COUNTRY_INFO!D43*AK43*PROFILE!$G$8,COUNTRY_INFO!D43*AL43*PROFILE!$G$8,COUNTRY_INFO!D43*AM43*PROFILE!$G$8)","v":0},{"$f":"MAX(COUNTRY_INFO!D43*AK43*PROFILE!$G$9,COUNTRY_INFO!D43*AL43*PROFILE!$G$9,COUNTRY_INFO!D43*AM43*PROFILE!$G$9,IF(AND(DISTRICT!Z43<>\"Inconnu\",Z43<>\"Non requis\"),COUNTRY_INFO!P43*DISTRICT!AN43,0))","v":15608},{"$f":"MAX(COUNTRY_INFO!D43*AK43*PROFILE!$G$10,COUNTRY_INFO!D43*AL43*PROFILE!$G$10,IF(AND(DISTRICT!Z43<>\"Inconnu\",Z43<>\"Non requis\"),COUNTRY_INFO!P43*DISTRICT!AO43,0))","v":10172.200000000001},25780.2,0,{"$f":"MAX('MDA4'!R43,'T1'!L43,'T2'!J43,T3_R1!K43,T3_R2!K43)","v":0},{"$f":"MAX('MDA1'!K43,'MDA4'!S43,'MDA3'!I43,'MDA3'!L43,'T1'!M43,'T2'!K43,T3_R1!L43,T3_R2!L43)","v":0},{"$f":"MAX('MDA1'!L43,'MDA4'!T43,'MDA3'!J43,'MDA3'!M43,'T1'!N43,'T2'!L43,T3_R1!M43,T3_R2!M43)","v":0},0,{"$f":"MAX('MDA4'!R43,T43)","v":0},{"$f":"MAX('MDA1'!K43,'MDA4'!S43,'MDA3'!I43,'MDA3'!L43,V43,AD43)","v":0},{"$f":"MAX('MDA1'!L43,'MDA4'!T43,'MDA3'!J43,'MDA3'!M43,AF43)","v":0},0,0]
[{"$f":"IF(COUNTRY_INFO!A44=0,\" \",COUNTRY_INFO!A44)","v":"Chad"},{"$f":"IF(COUNTRY_INFO!B44=0,\" \",COUNTRY_INFO!B44)","v":"Hadjer Lamis"},{"$f":"IF(COUNTRY_INFO!C44=0,\" \",COUNTRY_INFO!C44)","v":"Mani"},{"$f":"COUNTRY_INFO!M44","v":0},null,null,{"$f":"MAX('MDA1'!M44,'MDA4'!U44)","v":0},{"$f":"IF(AND(COUNTRY_INFO!H44>0,COUNTRY_INFO!H44<4),IF(D44>MAX('MDA1'!M44,'MDA4'!U44),MAX('MDA1'!M44,'MDA4'!U44),D44),0)","v":0},{"$f":"IF(AND(COUNTRY_INFO!H44>0,COUNTRY_INFO!H44<4), IF(G44/D44*100<>0, IF(G44/D44*100>100,100,G44/D44*100), \"-\"),0)","v":0},{"$f":"COUNTRY_INFO!N44","v":0},null,null,{"$f":"MAX('MDA1'!M44,MAX('MDA3'!I44,'MDA3'!L44)+MAX('MDA3'!J44,'MDA3'!M44))","v":0},{"$f":"IF(AND(COUNTRY_INFO!I44>0,COUNTRY_INFO!I44<4),IF(J44>MAX('MDA1'!M44,MAX('MDA3'!I44,'MDA3'!L44)+MAX('MDA3'!J44,'MDA3'!M44)),MAX('MDA1'!M44,MAX('MDA3'!I44,'MDA3'!L44)+MAX('MDA3'!J44,'MDA3'!M44)),J44),0)","v":0},{"$f":"IF(AND(COUNTRY_INFO!I44>0,COUNTRY_INFO!I44<4), IF(M44/J44*100<>0, IF(M44/J44*100>100,100,M44/J44*100), \"-\"),0)","v":0},{"$f":"COUNTRY_INFO!O44","v":0},null,null,{"$f":"SUM(MAX('MDA4'!R44, 'T1'!L44, MAX(T3_R1!K44, T3_R2!K44)), MAX('MDA1'!K44, 'MDA4'!S44, 'T1'!M44, MAX(T3_R1!L44, T3_R2!L44)), MAX('MDA1'!L44, 'MDA4'!T44, 'T1'!N44, MAX(T3_R1!M44, T3_R2!M44)))","v":0},{"$f":"IF(AND(COUNTRY_INFO!J44>1,COUNTRY_INFO!J44<4),IF(COUNTRY_INFO!E44>MAX('MDA4'!R44,'T1'!L44,MAX(T3_R1!K44,T3_R2!K44)),MAX('MDA4'!R44,'T1'!L44,MAX(T3_R1!K44,T3_R2!K44)),COUNTRY_INFO!E44),0)","v":0},{"$f":"IF(AND(COUNTRY_INFO!J44>1,COUNTRY_INFO!J44<4), IF(T44/COUNTRY_INFO!E44*100<>0, IF(T44/COUNTRY_INFO!E44*100>100,100,T44/COUNTRY_INFO!E44*100), \"-\"),0)","v":0},{"$f":"IF(AND(COUNTRY_INFO!J44>1,COUNTRY_INFO!J44<4),IF(COUNTRY_INFO!F44>MAX('MDA1'!K44,'MDA4'!S44,'T1'!M44,MAX(T3_R1!L44,T3_R2!L44)),MAX('MDA1'!K44,'MDA4'!S44,'T1'!M44,MAX(T3_R1!L44,T3_R2!L44)),COUNTRY_INFO!F44),0)","v":0},{"$f":"IF(AND(COUNTRY_INFO!J44>1,COUNTRY_INFO!J44<4), IF(V44/COUNTRY_INFO!F44*100<>0, IF(V44/COUNTRY_INFO!F44*100>100,100,V44/COUNTRY_INFO!F44*100), \"-\"),0)","v":0},0,{"$f":"IF(AND(COUNTRY_INFO!J44>1,COUNTRY_INFO!J44<4), IF(S44/P44*100<>0, IF(X44/P44*100>100,100,X44/P44*100), \"-\"),0)","v":0},{"$f":"COUNTRY_INFO!P44","v":38511.800000000003},null,null,{"$f":"MAX('T1'!L44,'T2'!J44)+MAX('T1'!M44,'T2'!K44)+MAX('T1'!N44,'T2'!L44)","v":0},{"$f":"IF(COUNTRY_INFO!K44=1,IF(COUNTRY_INFO!F44*0.33>MAX('T1'!M44,'T2'!K44),MAX('T1'!M44,'T2'!K44),COUNTRY_INFO!F44*0.33),IF(COUNTRY_INFO!K44=2,IF(COUNTRY_INFO!F44*0.5>MAX('T1'!M44,'T2'!K44),MAX('T1'!M44,'T2'!K44),COUNTRY_INFO!F44*0.5),IF(COUNTRY_INFO!K44=3,IF(COUNTRY_INFO!F44>MAX('T1'!M44,'T2'!K44),MAX('T1'!M44,'T2'!K44),COUNTRY_INFO!F44),0)))","v":0},{"$f":"IF(AND(COUNTRY_INFO!K44>0,COUNTRY_INFO!K44<4),IF(Z44>0,IF(COUNTRY_INFO!K44=1, AD44/(COUNTRY_INFO!F44*0.33)*100, IF(COUNTRY_INFO!K44=2, AD44/(COUNTRY_INFO!F44*0.5)*100, IF(COUNTRY_INFO!K44=3, AD44/COUNTRY_INFO!F44*100))),\"-\"),0)","v":0},{"$f":"IF(COUNTRY_INFO!K44=2,IF(COUNTRY_INFO!G44*0.2>MAX('T1'!N44,'T2'!L44),MAX('T1'!N44,'T2'!L44),COUNTRY_INFO!G44*0.2),IF(COUNTRY_INFO!K44=3,IF(COUNTRY_INFO!G44>MAX('T1'!N44,'T2'!L44),MAX('T1'!N44,'T2'!L44),COUNTRY_INFO!G44),0))","v":0},{"$f":"IF(AND(COUNTRY_INFO!K44>0,COUNTRY_INFO!K44<4),IF(Z44>0,IF(COUNTRY_INFO!K44=1, 0, IF(COUNTRY_INFO!K44=2, AF44/(COUNTRY_INFO!G44*0.2)*100, IF(COUNTRY_INFO!K44=3, AF44/COUNTRY_INFO!G44*100))),\"-\"),0)","v":0},0,{"$f":"IF(AND(COUNTRY_INFO!K44>0,COUNTRY_INFO!K44<4), IF(AC44/Z44*100<>0, IF(AH44/Z44*100>100,100,AH44/Z44*100), \"-\"),0)","v":"-"},null,{"$f":"IF(AND(D44<>0, D44<>\"Inconnu\",D44<>\"Interrompu\",D44<>\"Non requis\"),D44/COUNTRY_INFO!D44, 0)","v":0},{"$f":"IF(AND(J44<>0,J44<>\"Inconnu\",J44<>\"Interrompu\",J44<>\"Non requis\"),J44/COUNTRY_INFO!D44, 0)","v":0},{"$f":"IF(AND(P44<>0,P44<>\"Inconnu\",P44<>\"Non requis\"),P44/(COUNTRY_INFO!E44+COUNTRY_INFO!F44), 0)","v":0},{"$f":"IF(AND(Z44<>0,Z44<>\"Inconnu\",Z44<>\"Non requis\"),IF(COUNTRY_INFO!K44=1,1,IF(COUNTRY_INFO!K44=2,0.5*COUNTRY_INFO!F44/(0.5*COUNTRY_INFO!F44+0.2*COUNTRY_INFO!G44),IF(COUNTRY_INFO!K44=3,COUNTRY_INFO!F44/(COUNTRY_INFO!F44+COUNTRY_INFO!G44)))),0)","v":0.6054248308310699},{"$f":"IF(AND(Z44<>0,Z44<>\"Inconnu\",Z44<>\"Non requis\"),IF(COUNTRY_INFO!K44=1,0,IF(COUNTRY_INFO!K44=2,0.2*COUNTRY_INFO!G44/(0.5*COUNTRY_INFO!F44+0.2*COUNTRY_INFO!G44),IF(COUNTRY_INFO!K44=3,COUNTRY_INFO!G44/(COUNTRY_INFO!F44+COUNTRY_INFO!G44)))),0)","v":0.39457516916893004},{"$f":"MAX(COUNTRY_INFO!D44*AK44*PROFILE!$G$7,COUNTRY_INFO!D44*AL44*PROFILE!$G$7)","v":0},{"$f":"MAX(COUNTRY_INFO!D44*AK44*PROFILE!$G$8,COUNTRY_INFO!D44*AL44*PROFILE!$G$8,COUNTRY_INFO!D44*AM44*PROFILE!$G$8)","v":0},{"$f":"MAX(COUNTRY_INFO!D44*AK44*PROFILE!$G$9,COUNTRY_INFO!D44*AL44*PROFILE!$G$9,COUNTRY_INFO!D44*AM44*PROFILE!$G$9,IF(AND(DISTRICT!Z44<>\"Inconnu\",Z44<>\"Non requis\"),COUNTRY_INFO!P44*DISTRICT!AN44,0))","v":23316},{"$f":"MAX(COUNTRY_INFO!D44*AK44*PROFILE!$G$10,COUNTRY_INFO!D44*AL44*PROFILE!$G$10,IF(AND(DISTRICT!Z44<>\"Inconnu\",Z44<>\"Non requis\"),COUNTRY_INFO!P44*DISTRICT!AO44,0))","v":15195.800000000001},38511.800000000003,0,{"$f":"MAX('MDA4'!R44,'T1'!L44,'T2'!J44,T3_R1!K44,T3_R2!K44)","v":0},{"$f":"MAX('MDA1'!K44,'MDA4'!S44,'MDA3'!I44,'MDA3'!L44,'T1'!M44,'T2'!K44,T3_R1!L44,T3_R2!L44)","v":0},{"$f":"MAX('MDA1'!L44,'MDA4'!T44,'MDA3'!J44,'MDA3'!M44,'T1'!N44,'T2'!L44,T3_R1!M44,T3_R2!M44)","v":0},0,{"$f":"MAX('MDA4'!R44,T44)","v":0},{"$f":"MAX('MDA1'!K44,'MDA4'!S44,'MDA3'!I44,'MDA3'!L44,V44,AD44)","v":0},{"$f":"MAX('MDA1'!L44,'MDA4'!T44,'MDA3'!J44,'MDA3'!M44,AF44)","v":0},0,0]
[{"$f":"IF(COUNTRY_INFO!A45=0,\" \",COUNTRY_INFO!A45)","v":"Chad"},{"$f":"IF(COUNTRY_INFO!B45=0,\" \",COUNTRY_INFO!B45)","v":"Hadjer Lamis"},{"$f":"IF(COUNTRY_INFO!C45=0,\" \",COUNTRY_INFO!C45)","v":"Massaguet"},{"$f":"COUNTRY_INFO!M45","v":0},null,null,{"$f":"MAX('MDA1'!M45,'MDA4'!U45)","v":0},{"$f":"IF(AND(COUNTRY_INFO!H45>0,COUNTRY_INFO!H45<4),IF(D45>MAX('MDA1'!M45,'MDA4'!U45),MAX('MDA1'!M45,'MDA4'!U45),D45),0)","v":0},{"$f":"IF(AND(COUNTRY_INFO!H45>0,COUNTRY_INFO!H45<4), IF(G45/D45*100<>0, IF(G45/D45*100>100,100,G45/D45*100), \"-\"),0)","v":0},{"$f":"COUNTRY_INFO!N45","v":0},null,null,{"$f":"MAX('MDA1'!M45,MAX('MDA3'!I45,'MDA3'!L45)+MAX('MDA3'!J45,'MDA3'!M45))","v":0},{"$f":"IF(AND(COUNTRY_INFO!I45>0,COUNTRY_INFO!I45<4),IF(J45>MAX('MDA1'!M45,MAX('MDA3'!I45,'MDA3'!L45)+MAX('MDA3'!J45,'MDA3'!M45)),MAX('MDA1'!M45,MAX('MDA3'!I45,'MDA3'!L45)+MAX('MDA3'!J45,'MDA3'!M45)),J45),0)","v":0},{"$f":"IF(AND(COUNTRY_INFO!I45>0,COUNTRY_INFO!I45<4), IF(M45/J45*100<>0, IF(M45/J45*100>100,100,M45/J45*100), \"-\"),0)","v":0},{"$f":"COUNTRY_INFO!O45","v":0},null,null,{"$f":"SUM(MAX('MDA4'!R45, 'T1'!L45, MAX(T3_R1!K45, T3_R2!K45)), MAX('MDA1'!K45, 'MDA4'!S45, 'T1'!M45, MAX(T3_R1!L45, T3_R2!L45)), MAX('MDA1'!L45, 'MDA4'!T45, 'T1'!N45, MAX(T3_R1!M45, T3_R2!M45)))","v":0},{"$f":"IF(AND(COUNTRY_INFO!J45>1,COUNTRY_INFO!J45<4),IF(COUNTRY_INFO!E45>MAX('MDA4'!R45,'T1'!L45,MAX(T3_R1!K45,T3_R2!K45)),MAX('MDA4'!R45,'T1'!L45,MAX(T3_R1!K45,T3_R2!K45)),COUNTRY_INFO!E45),0)","v":0},{"$f":"IF(AND(COUNTRY_INFO!J45>1,COUNTRY_INFO!J45<4), IF(T45/COUNTRY_INFO!E45*100<>0, IF(T45/COUNTRY_INFO!E45*100>100,100,T45/COUNTRY_INFO!E45*100), \"-\"),0)","v":0},{"$f":"IF(AND(COUNTRY_INFO!J45>1,COUNTRY_INFO!J45<4),IF(COUNTRY_INFO!F45>MAX('MDA1'!K45,'MDA4'!S45,'T1'!M45,MAX(T3_R1!L45,T3_R2!L45)),MAX('MDA1'!K45,'MDA4'!S45,'T1'!M45,MAX(T3_R1!L45,T3_R2!L45)),COUNTRY_INFO!F45),0)","v":0},{"$f":"IF(AND(COUNTRY_INFO!J45>1,COUNTRY_INFO!J45<4), IF(V45/COUNTRY_INFO!F45*100<>0, IF(V45/COUNTRY_INFO!F45*100>100,100,V45/COUNTRY_INFO!F45*100), \"-\"),0)","v":0},0,{"$f":"IF(AND(COUNTRY_INFO!J45>1,COUNTRY_INFO!J45<4), IF(S45/P45*100<>0, IF(X45/P45*100>100,100,X45/P45*100), \"-\"),0)","v":0},{"$f":"COUNTRY_INFO!P45","v":36039},null,null,{"$f":"MAX('T1'!L45,'T2'!J45)+MAX('T1'!M45,'T2'!K45)+MAX('T1'!N45,'T2'!L45)","v":0},{"$f":"IF(COUNTRY_INFO!K45=1,IF(COUNTRY_INFO!F45*0.33>MAX('T1'!M45,'T2'!K45),MAX('T1'!M45,'T2'!K45),COUNTRY_INFO!F45*0.33),IF(COUNTRY_INFO!K45=2,IF(COUNTRY_INFO!F45*0.5>MAX('T1'!M45,'T2'!K45),MAX('T1'!M45,'T2'!K45),COUNTRY_INFO!F45*0.5),IF(COUNTRY_INFO!K45=3,IF(COUNTRY_INFO!F45>MAX('T1'!M45,'T2'!K45),MAX('T1'!M45,'T2'!K45),COUNTRY_INFO!F45),0)))","v":0},{"$f":"IF(AND(COUNTRY_INFO!K45>0,COUNTRY_INFO!K45<4),IF(Z45>0,IF(COUNTRY_INFO!K45=1, AD45/(COUNTRY_INFO!F45*0.33)*100, IF(COUNTRY_INFO!K45=2, AD45/(COUNTRY_INFO!F45*0.5)*100, IF(COUNTRY_INFO!K45=3, AD45/COUNTRY_INFO!F45*100))),\"-\"),0)","v":0},{"$f":"IF(COUNTRY_INFO!K45=2,IF(COUNTRY_INFO!G45*0.2>MAX('T1'!N45,'T2'!L45),MAX('T1'!N45,'T2'!L45),COUNTRY_INFO!G45*0.2),IF(COUNTRY_INFO!K45=3,IF(COUNTRY_INFO!G45>MAX('T1'!N45,'T2'!L45),MAX('T1'!N45,'T2'!L45),COUNTRY_INFO!G45),0))","v":0},{"$f":"IF(AND(COUNTRY_INFO!K45>0,COUNTRY_INFO!K45<4),IF(Z45>0,IF(COUNTRY_INFO!K45=1, 0, IF(COUNTRY_INFO!K45=2, AF45/(COUNTRY_INFO!G45*0.2)*100, IF(COUNTRY_INFO!K45=3, AF45/COUNTRY_INFO!G45*100))),\"-\"),0)","v":0},0,{"$f":"IF(AND(COUNTRY_INFO!K45>0,COUNTRY_INFO!K45<4), IF(AC45/Z45*100<>0, IF(AH45/Z45*100>100,100,AH45/Z45*100), \"-\"),0)","v":"-"},null,{"$f":"IF(AND(D45<>0, D45<>\"Inconnu\",D45<>\"Interrompu\",D45<>\"Non requis\"),D45/COUNTRY_INFO!D45, 0)","v":0},{"$f":"IF(AND(J45<>0,J45<>\"Inconnu\",J45<>\"Interrompu\",J45<>\"Non requis\"),J45/COUNTRY_INFO!D45, 0)","v":0},{"$f":"IF(AND(P45<>0,P45<>\"Inconnu\",P45<>\"Non requis\"),P45/(COUNTRY_INFO!E45+COUNTRY_INFO!F45), 0)","v":0},{"$f":"IF(AND(Z45<>0,Z45<>\"Inconnu\",Z45<>\"Non requis\"),IF(COUNTRY_INFO!K45=1,1,IF(COUNTRY_INFO!K45=2,0.5*COUNTRY_INFO!F45/(0.5*COUNTRY_INFO!F45+0.2*COUNTRY_INFO!G45),IF(COUNTRY_INFO!K45=3,COUNTRY_INFO!F45/(COUNTRY_INFO!F45+COUNTRY_INFO!G45)))),0)","v":0.60542745359194206},{"$f":"IF(AND(Z45<>0,Z45<>\"Inconnu\",Z45<>\"Non requis\"),IF(COUNTRY_INFO!K45=1,0,IF(COUNTRY_INFO!K45=2,0.2*COUNTRY_INFO!G45/(0.5*COUNTRY_INFO!F45+0.2*COUNTRY_INFO!G45),IF(COUNTRY_INFO!K45=3,COUNTRY_INFO!G45/(COUNTRY_INFO!F45+COUNTRY_INFO!G45)))),0)","v":0.39457254640805794},{"$f":"MAX(COUNTRY_INFO!D45*AK45*PROFILE!$G$7,COUNTRY_INFO!D45*AL45*PROFILE!$G$7)","v":0},{"$f":"MAX(COUNTRY_INFO!D45*AK45*PROFILE!$G$8,COUNTRY_INFO!D45*AL45*PROFILE!$G$8,COUNTRY_INFO!D45*AM45*PROFILE!$G$8)","v":0},{"$f":"MAX(COUNTRY_INFO!D45*AK45*PROFILE!$G$9,COUNTRY_INFO!D45*AL45*PROFILE!$G$9,COUNTRY_INFO!D45*AM45*PROFILE!$G$9,IF(AND(DISTRICT!Z45<>\"Inconnu\",Z45<>\"Non requis\"),COUNTRY_INFO!P45*DISTRICT!AN45,0))","v":21819},{"$f":"MAX(COUNTRY_INFO!D45*AK45*PROFILE!$G$10,COUNTRY_INFO!D45*AL45*PROFILE!$G$10,IF(AND(DISTRICT!Z45<>\"Inconnu\",Z45<>\"Non requis\"),COUNTRY_INFO!P45*DISTRICT!AO45,0))","v":14220},36039,0,{"$f":"MAX('MDA4'!R45,'T1'!L45,'T2'!J45,T3_R1!K45,T3_R2!K45)","v":0},{"$f":"MAX('MDA1'!K45,'MDA4'!S45,'MDA3'!I45,'MDA3'!L45,'T1'!M45,'T2'!K45,T3_R1!L45,T3_R2!L45)","v":0},{"$f":"MAX('MDA1'!L45,'MDA4'!T45,'MDA3'!J45,'MDA3'!M45,'T1'!N45,'T2'!L45,T3_R1!M45,T3_R2!M45)","v":0},0,{"$f":"MAX('MDA4'!R45,T45)","v":0},{"$f":"MAX('MDA1'!K45,'MDA4'!S45,'MDA3'!I45,'MDA3'!L45,V45,AD45)","v":0},{"$f":"MAX('MDA1'!L45,'MDA4'!T45,'MDA3'!J45,'MDA3'!M45,AF45)","v":0},0,0]
[{"$f":"IF(COUNTRY_INFO!A46=0,\" \",COUNTRY_INFO!A46)","v":"Chad"},{"$f":"IF(COUNTRY_INFO!B46=0,\" \",COUNTRY_INFO!B46)","v":"Hadjer Lamis"},{"$f":"IF(COUNTRY_INFO!C46=0,\" \",COUNTRY_INFO!C46)","v":"Massakory"},{"$f":"COUNTRY_INFO!M46","v":0},null,null,{"$f":"MAX('MDA1'!M46,'MDA4'!U46)","v":0},{"$f":"IF(AND(COUNTRY_INFO!H46>0,COUNTRY_INFO!H46<4),IF(D46>MAX('MDA1'!M46,'MDA4'!U46),MAX('MDA1'!M46,'MDA4'!U46),D46),0)","v":0},{"$f":"IF(AND(COUNTRY_INFO!H46>0,COUNTRY_INFO!H46<4), IF(G46/D46*100<>0, IF(G46/D46*100>100,100,G46/D46*100), \"-\"),0)","v":0},{"$f":"COUNTRY_INFO!N46","v":0},null,null,{"$f":"MAX('MDA1'!M46,MAX('MDA3'!I46,'MDA3'!L46)+MAX('MDA3'!J46,'MDA3'!M46))","v":0},{"$f":"IF(AND(COUNTRY_INFO!I46>0,COUNTRY_INFO!I46<4),IF(J46>MAX('MDA1'!M46,MAX('MDA3'!I46,'MDA3'!L46)+MAX('MDA3'!J46,'MDA3'!M46)),MAX('MDA1'!M46,MAX('MDA3'!I46,'MDA3'!L46)+MAX('MDA3'!J46,'MDA3'!M46)),J46),0)","v":0},{"$f":"IF(AND(COUNTRY_INFO!I46>0,COUNTRY_INFO!I46<4), IF(M46/J46*100<>0, IF(M46/J46*100>100,100,M46/J46*100), \"-\"),0)","v":0},{"$f":"COUNTRY_INFO!O46","v":0},null,null,{"$f":"SUM(MAX('MDA4'!R46, 'T1'!L46, MAX(T3_R1!K46, T3_R2!K46)), MAX('MDA1'!K46, 'MDA4'!S46, 'T1'!M46, MAX(T3_R1!L46, T3_R2!L46)), MAX('MDA1'!L46, 'MDA4'!T46, 'T1'!N46, MAX(T3_R1!M46, T3_R2!M46)))","v":0},{"$f":"IF(AND(COUNTRY_INFO!J46>1,COUNTRY_INFO!J46<4),IF(COUNTRY_INFO!E46>MAX('MDA4'!R46,'T1'!L46,MAX(T3_R1!K46,T3_R2!K46)),MAX('MDA4'!R46,'T1'!L46,MAX(T3_R1!K46,T3_R2!K46)),COUNTRY_INFO!E46),0)","v":0},{"$f":"IF(AND(COUNTRY_INFO!J46>1,COUNTRY_INFO!J46<4), IF(T46/COUNTRY_INFO!E46*100<>0, IF(T46/COUNTRY_INFO!E46*100>100,100,T46/COUNTRY_INFO!E46*100), \"-\"),0)","v":0},{"$f":"IF(AND(COUNTRY_INFO!J46>1,COUNTRY_INFO!J46<4),IF(COUNTRY_INFO!F46>MAX('MDA1'!K46,'MDA4'!S46,'T1'!M46,MAX(T3_R1!L46,T3_R2!L46)),MAX('MDA1'!K46,'MDA4'!S46,'T1'!M46,MAX(T3_R1!L46,T3_R2!L46)),COUNTRY_INFO!F46),0)","v":0},{"$f":"IF(AND(COUNTRY_INFO!J46>1,COUNTRY_INFO!J46<4), IF(V46/COUNTRY_INFO!F46*100<>0, IF(V46/COUNTRY_INFO!F46*100>100,100,V46/COUNTRY_INFO!F46*100), \"-\"),0)","v":0},0,{"$f":"IF(AND(COUNTRY_INFO!J46>1,COUNTRY_INFO!J46<4), IF(S46/P46*100<>0, IF(X46/P46*100>100,100,X46/P46*100), \"-\"),0)","v":0},{"$f":"COUNTRY_INFO!P46","v":74075},null,null,{"$f":"MAX('T1'!L46,'T2'!J46)+MAX('T1'!M46,'T2'!K46)+MAX('T1'!N46,'T2'!L46)","v":0},{"$f":"IF(COUNTRY_INFO!K46=1,IF(COUNTRY_INFO!F46*0.33>MAX('T1'!M46,'T2'!K46),MAX('T1'!M46,'T2'!K46),COUNTRY_INFO!F46*0.33),IF(COUNTRY_INFO!K46=2,IF(COUNTRY_INFO!F46*0.5>MAX('T1'!M46,'T2'!K46),MAX('T1'!M46,'T2'!K46),COUNTRY_INFO!F46*0.5),IF(COUNTRY_INFO!K46=3,IF(COUNTRY_INFO!F46>MAX('T1'!M46,'T2'!K46),MAX('T1'!M46,'T2'!K46),COUNTRY_INFO!F46),0)))","v":0},{"$f":"IF(AND(COUNTRY_INFO!K46>0,COUNTRY_INFO!K46<4),IF(Z46>0,IF(COUNTRY_INFO!K46=1, AD46/(COUNTRY_INFO!F46*0.33)*100, IF(COUNTRY_INFO!K46=2, AD46/(COUNTRY_INFO!F46*0.5)*100, IF(COUNTRY_INFO!K46=3, AD46/COUNTRY_INFO!F46*100))),\"-\"),0)","v":0},{"$f":"IF(COUNTRY_INFO!K46=2,IF(COUNTRY_INFO!G46*0.2>MAX('T1'!N46,'T2'!L46),MAX('T1'!N46,'T2'!L46),COUNTRY_INFO!G46*0.2),IF(COUNTRY_INFO!K46=3,IF(COUNTRY_INFO!G46>MAX('T1'!N46,'T2'!L46),MAX('T1'!N46,'T2'!L46),COUNTRY_INFO!G46),0))","v":0},{"$f":"IF(AND(COUNTRY_INFO!K46>0,COUNTRY_INFO!K46<4),IF(Z46>0,IF(COUNTRY_INFO!K46=1, 0, IF(COUNTRY_INFO!K46=2, AF46/(COUNTRY_INFO!G46*0.2)*100, IF(COUNTRY_INFO!K46=3, AF46/COUNTRY_INFO!G46*100))),\"-\"),0)","v":0},0,{"$f":"IF(AND(COUNTRY_INFO!K46>0,COUNTRY_INFO!K46<4), IF(AC46/Z46*100<>0, IF(AH46/Z46*100>100,100,AH46/Z46*100), \"-\"),0)","v":"-"},null,{"$f":"IF(AND(D46<>0, D46<>\"Inconnu\",D46<>\"Interrompu\",D46<>\"Non requis\"),D46/COUNTRY_INFO!D46, 0)","v":0},{"$f":"IF(AND(J46<>0,J46<>\"Inconnu\",J46<>\"Interrompu\",J46<>\"Non requis\"),J46/COUNTRY_INFO!D46, 0)","v":0},{"$f":"IF(AND(P46<>0,P46<>\"Inconnu\",P46<>\"Non requis\"),P46/(COUNTRY_INFO!E46+COUNTRY_INFO!F46), 0)","v":0},{"$f":"IF(AND(Z46<>0,Z46<>\"Inconnu\",Z46<>\"Non requis\"),IF(COUNTRY_INFO!K46=1,1,IF(COUNTRY_INFO!K46=2,0.5*COUNTRY_INFO!F46/(0.5*COUNTRY_INFO!F46+0.2*COUNTRY_INFO!G46),IF(COUNTRY_INFO!K46=3,COUNTRY_INFO!F46/(COUNTRY_INFO!F46+COUNTRY_INFO!G46)))),0)","v":0.60542693216334798},{"$f":"IF(AND(Z46<>0,Z46<>\"Inconnu\",Z46<>\"Non requis\"),IF(COUNTRY_INFO!K46=1,0,IF(COUNTRY_INFO!K46=2,0.2*COUNTRY_INFO!G46/(0.5*COUNTRY_INFO!F46+0.2*COUNTRY_INFO!G46),IF(COUNTRY_INFO!K46=3,COUNTRY_INFO!G46/(COUNTRY_INFO!F46+COUNTRY_INFO!G46)))),0)","v":0.39457306783665202},{"$f":"MAX(COUNTRY_INFO!D46*AK46*PROFILE!$G$7,COUNTRY_INFO!D46*AL46*PROFILE!$G$7)","v":0},{"$f":"MAX(COUNTRY_INFO!D46*AK46*PROFILE!$G$8,COUNTRY_INFO!D46*AL46*PROFILE!$G$8,COUNTRY_INFO!D46*AM46*PROFILE!$G$8)","v":0},{"$f":"MAX(COUNTRY_INFO!D46*AK46*PROFILE!$G$9,COUNTRY_INFO!D46*AL46*PROFILE!$G$9,COUNTRY_INFO!D46*AM46*PROFILE!$G$9,IF(AND(DISTRICT!Z46<>\"Inconnu\",Z46<>\"Non requis\"),COUNTRY_INFO!P46*DISTRICT!AN46,0))","v":44847},{"$f":"MAX(COUNTRY_INFO!D46*AK46*PROFILE!$G$10,COUNTRY_INFO!D46*AL46*PROFILE!$G$10,IF(AND(DISTRICT!Z46<>\"Inconnu\",Z46<>\"Non requis\"),COUNTRY_INFO!P46*DISTRICT!AO46,0))","v":29228},74075,0,{"$f":"MAX('MDA4'!R46,'T1'!L46,'T2'!J46,T3_R1!K46,T3_R2!K46)","v":0},{"$f":"MAX('MDA1'!K46,'MDA4'!S46,'MDA3'!I46,'MDA3'!L46,'T1'!M46,'T2'!K46,T3_R1!L46,T3_R2!L46)","v":0},{"$f":"MAX('MDA1'!L46,'MDA4'!T46,'MDA3'!J46,'MDA3'!M46,'T1'!N46,'T2'!L46,T3_R1!M46,T3_R2!M46)","v":0},0,{"$f":"MAX('MDA4'!R46,T46)","v":0},{"$f":"MAX('MDA1'!K46,'MDA4'!S46,'MDA3'!I46,'MDA3'!L46,V46,AD46)","v":0},{"$f":"MAX('MDA1'!L46,'MDA4'!T46,'MDA3'!J46,'MDA3'!M46,AF46)","v":0},0,0]
[{"$f":"IF(COUNTRY_INFO!A47=0,\" \",COUNTRY_INFO!A47)","v":"Chad"},{"$f":"IF(COUNTRY_INFO!B47=0,\" \",COUNTRY_INFO!B47)","v":"Kanem"},{"$f":"IF(COUNTRY_INFO!C47=0,\" \",COUNTRY_INFO!C47)","v":"Amdoback"},{"$f":"COUNTRY_INFO!M47","v":0},null,null,{"$f":"MAX('MDA1'!M47,'MDA4'!U47)","v":0},{"$f":"IF(AND(COUNTRY_INFO!H47>0,COUNTRY_INFO!H47<4),IF(D47>MAX('MDA1'!M47,'MDA4'!U47),MAX('MDA1'!M47,'MDA4'!U47),D47),0)","v":0},{"$f":"IF(AND(COUNTRY_INFO!H47>0,COUNTRY_INFO!H47<4), IF(G47/D47*100<>0, IF(G47/D47*100>100,100,G47/D47*100), \"-\"),0)","v":0},{"$f":"COUNTRY_INFO!N47","v":0},null,null,{"$f":"MAX('MDA1'!M47,MAX('MDA3'!I47,'MDA3'!L47)+MAX('MDA3'!J47,'MDA3'!M47))","v":0},{"$f":"IF(AND(COUNTRY_INFO!I47>0,COUNTRY_INFO!I47<4),IF(J47>MAX('MDA1'!M47,MAX('MDA3'!I47,'MDA3'!L47)+MAX('MDA3'!J47,'MDA3'!M47)),MAX('MDA1'!M47,MAX('MDA3'!I47,'MDA3'!L47)+MAX('MDA3'!J47,'MDA3'!M47)),J47),0)","v":0},{"$f":"IF(AND(COUNTRY_INFO!I47>0,COUNTRY_INFO!I47<4), IF(M47/J47*100<>0, IF(M47/J47*100>100,100,M47/J47*100), \"-\"),0)","v":0},{"$f":"COUNTRY_INFO!O47","v":0},null,null,{"$f":"SUM(MAX('MDA4'!R47, 'T1'!L47, MAX(T3_R1!K47, T3_R2!K47)), MAX('MDA1'!K47, 'MDA4'!S47, 'T1'!M47, MAX(T3_R1!L47, T3_R2!L47)), MAX('MDA1'!L47, 'MDA4'!T47, 'T1'!N47, MAX(T3_R1!M47, T3_R2!M47)))","v":0},{"$f":"IF(AND(COUNTRY_INFO!J47>1,COUNTRY_INFO!J47<4),IF(COUNTRY_INFO!E47>MAX('MDA4'!R47,'T1'!L47,MAX(T3_R1!K47,T3_R2!K47)),MAX('MDA4'!R47,'T1'!L47,MAX(T3_R1!K47,T3_R2!K47)),COUNTRY_INFO!E47),0)","v":0},{"$f":"IF(AND(COUNTRY_INFO!J47>1,COUNTRY_INFO!J47<4), IF(T47/COUNTRY_INFO!E47*100<>0, IF(T47/COUNTRY_INFO!E47*100>100,100,T47/COUNTRY_INFO!E47*100), \"-\"),0)","v":0},{"$f":"IF(AND(COUNTRY_INFO!J47>1,COUNTRY_INFO!J47<4),IF(COUNTRY_INFO!F47>MAX('MDA1'!K47,'MDA4'!S47,'T1'!M47,MAX(T3_R1!L47,T3_R2!L47)),MAX('MDA1'!K47,'MDA4'!S47,'T1'!M47,MAX(T3_R1!L47,T3_R2!L47)),COUNTRY_INFO!F47),0)","v":0},{"$f":"IF(AND(COUNTRY_INFO!J47>1,COUNTRY_INFO!J47<4), IF(V47/COUNTRY_INFO!F47*100<>0, IF(V47/COUNTRY_INFO!F47*100>100,100,V47/COUNTRY_INFO!F47*100), \"-\"),0)","v":0},0,{"$f":"IF(AND(COUNTRY_INFO!J47>1,COUNTRY_INFO!J47<4), IF(S47/P47*100<>0, IF(X47/P47*100>100,100,X47/P47*100), \"-\"),0)","v":0},{"$f":"COUNTRY_INFO!P47","v":0},null,null,{"$f":"MAX('T1'!L47,'T2'!J47)+MAX('T1'!M47,'T2'!K47)+MAX('T1'!N47,'T2'!L47)","v":0},{"$f":"IF(COUNTRY_INFO!K47=1,IF(COUNTRY_INFO!F47*0.33>MAX('T1'!M47,'T2'!K47),MAX('T1'!M47,'T2'!K47),COUNTRY_INFO!F47*0.33),IF(COUNTRY_INFO!K47=2,IF(COUNTRY_INFO!F47*0.5>MAX('T1'!M47,'T2'!K47),MAX('T1'!M47,'T2'!K47),COUNTRY_INFO!F47*0.5),IF(COUNTRY_INFO!K47=3,IF(COUNTRY_INFO!F47>MAX('T1'!M47,'T2'!K47),MAX('T1'!M47,'T2'!K47),COUNTRY_INFO!F47),0)))","v":0},{"$f":"IF(AND(COUNTRY_INFO!K47>0,COUNTRY_INFO!K47<4),IF(Z47>0,IF(COUNTRY_INFO!K47=1, AD47/(COUNTRY_INFO!F47*0.33)*100, IF(COUNTRY_INFO!K47=2, AD47/(COUNTRY_INFO!F47*0.5)*100, IF(COUNTRY_INFO!K47=3, AD47/COUNTRY_INFO!F47*100))),\"-\"),0)","v":0},{"$f":"IF(COUNTRY_INFO!K47=2,IF(COUNTRY_INFO!G47*0.2>MAX('T1'!N47,'T2'!L47),MAX('T1'!N47,'T2'!L47),COUNTRY_INFO!G47*0.2),IF(COUNTRY_INFO!K47=3,IF(COUNTRY_INFO!G47>MAX('T1'!N47,'T2'!L47),MAX('T1'!N47,'T2'!L47),COUNTRY_INFO!G47),0))","v":0},{"$f":"IF(AND(COUNTRY_INFO!K47>0,COUNTRY_INFO!K47<4),IF(Z47>0,IF(COUNTRY_INFO!K47=1, 0, IF(COUNTRY_INFO!K47=2, AF47/(COUNTRY_INFO!G47*0.2)*100, IF(COUNTRY_INFO!K47=3, AF47/COUNTRY_INFO!G47*100))),\"-\"),0)","v":0},0,{"$f":"IF(AND(COUNTRY_INFO!K47>0,COUNTRY_INFO!K47<4), IF(AC47/Z47*100<>0, IF(AH47/Z47*100>100,100,AH47/Z47*100), \"-\"),0)","v":0},null,{"$f":"IF(AND(D47<>0, D47<>\"Inconnu\",D47<>\"Interrompu\",D47<>\"Non requis\"),D47/COUNTRY_INFO!D47, 0)","v":0},{"$f":"IF(AND(J47<>0,J47<>\"Inconnu\",J47<>\"Interrompu\",J47<>\"Non requis\"),J47/COUNTRY_INFO!D47, 0)","v":0},{"$f":"IF(AND(P47<>0,P47<>\"Inconnu\",P47<>\"Non requis\"),P47/(COUNTRY_INFO!E47+COUNTRY_INFO!F47), 0)","v":0},{"$f":"IF(AND(Z47<>0,Z47<>\"Inconnu\",Z47<>\"Non requis\"),IF(COUNTRY_INFO!K47=1,1,IF(COUNTRY_INFO!K47=2,0.5*COUNTRY_INFO!F47/(0.5*COUNTRY_INFO!F47+0.2*COUNTRY_INFO!G47),IF(COUNTRY_INFO!K47=3,COUNTRY_INFO!F47/(COUNTRY_INFO!F47+COUNTRY_INFO!G47)))),0)","v":0},{"$f":"IF(AND(Z47<>0,Z47<>\"Inconnu\",Z47<>\"Non requis\"),IF(COUNTRY_INFO!K47=1,0,IF(COUNTRY_INFO!K47=2,0.2*COUNTRY_INFO!G47/(0.5*COUNTRY_INFO!F47+0.2*COUNTRY_INFO!G47),IF(COUNTRY_INFO!K47=3,COUNTRY_INFO!G47/(COUNTRY_INFO!F47+COUNTRY_INFO!G47)))),0)","v":0},{"$f":"MAX(COUNTRY_INFO!D47*AK47*PROFILE!$G$7,COUNTRY_INFO!D47*AL47*PROFILE!$G$7)","v":0},{"$f":"MAX(COUNTRY_INFO!D47*AK47*PROFILE!$G$8,COUNTRY_INFO!D47*AL47*PROFILE!$G$8,COUNTRY_INFO!D47*AM47*PROFILE!$G$8)","v":0},{"$f":"MAX(COUNTRY_INFO!D47*AK47*PROFILE!$G$9,COUNTRY_INFO!D47*AL47*PROFILE!$G$9,COUNTRY_INFO!D47*AM47*PROFILE!$G$9,IF(AND(DISTRICT!Z47<>\"Inconnu\",Z47<>\"Non requis\"),COUNTRY_INFO!P47*DISTRICT!AN47,0))","v":0},{"$f":"MAX(COUNTRY_INFO!D47*AK47*PROFILE!$G$10,COUNTRY_INFO!D47*AL47*PROFILE!$G$10,IF(AND(DISTRICT!Z47<>\"Inconnu\",Z47<>\"Non requis\"),COUNTRY_INFO!P47*DISTRICT!AO47,0))","v":0},0,0,{"$f":"MAX('MDA4'!R47,'T1'!L47,'T2'!J47,T3_R1!K47,T3_R2!K47)","v":0},{"$f":"MAX('MDA1'!K47,'MDA4'!S47,'MDA3'!I47,'MDA3'!L47,'T1'!M47,'T2'!K47,T3_R1!L47,T3_R2!L47)","v":0},{"$f":"MAX('MDA1'!L47,'MDA4'!T47,'MDA3'!J47,'MDA3'!M47,'T1'!N47,'T2'!L47,T3_R1!M47,T3_R2!M47)","v":0},0,{"$f":"MAX('MDA4'!R47,T47)","v":0},{"$f":"MAX('MDA1'!K47,'MDA4'!S47,'MDA3'!I47,'MDA3'!L47,V47,AD47)","v":0},{"$f":"MAX('MDA1'!L47,'MDA4'!T47,'MDA3'!J47,'MDA3'!M47,AF47)","v":0},0,0]
[{"$f":"IF(COUNTRY_INFO!A48=0,\" \",COUNTRY_INFO!A48)","v":"Chad"},{"$f":"IF(COUNTRY_INFO!B48=0,\" \",COUNTRY_INFO!B48)","v":"Kanem"},{"$f":"IF(COUNTRY_INFO!C48=0,\" \",COUNTRY_INFO!C48)","v":"Kekedina"},{"$f":"COUNTRY_INFO!M48","v":0},null,null,{"$f":"MAX('MDA1'!M48,'MDA4'!U48)","v":0},{"$f":"IF(AND(COUNTRY_INFO!H48>0,COUNTRY_INFO!H48<4),IF(D48>MAX('MDA1'!M48,'MDA4'!U48),MAX('MDA1'!M48,'MDA4'!U48),D48),0)","v":0},{"$f":"IF(AND(COUNTRY_INFO!H48>0,COUNTRY_INFO!H48<4), IF(G48/D48*100<>0, IF(G48/D48*100>100,100,G48/D48*100), \"-\"),0)","v":0},{"$f":"COUNTRY_INFO!N48","v":0},null,null,{"$f":"MAX('MDA1'!M48,MAX('MDA3'!I48,'MDA3'!L48)+MAX('MDA3'!J48,'MDA3'!M48))","v":0},{"$f":"IF(AND(COUNTRY_INFO!I48>0,COUNTRY_INFO!I48<4),IF(J48>MAX('MDA1'!M48,MAX('MDA3'!I48,'MDA3'!L48)+MAX('MDA3'!J48,'MDA3'!M48)),MAX('MDA1'!M48,MAX('MDA3'!I48,'MDA3'!L48)+MAX('MDA3'!J48,'MDA3'!M48)),J48),0)","v":0},{"$f":"IF(AND(COUNTRY_INFO!I48>0,COUNTRY_INFO!I48<4), IF(M48/J48*100<>0, IF(M48/J48*100>100,100,M48/J48*100), \"-\"),0)","v":0},{"$f":"COUNTRY_INFO!O48","v":0},null,null,{"$f":"SUM(MAX('MDA4'!R48, 'T1'!L48, MAX(T3_R1!K48, T3_R2!K48)), MAX('MDA1'!K48, 'MDA4'!S48, 'T1'!M48, MAX(T3_R1!L48, T3_R2!L48)), MAX('MDA1'!L48, 'MDA4'!T48, 'T1'!N48, MAX(T3_R1!M48, T3_R2!M48)))","v":0},{"$f":"IF(AND(COUNTRY_INFO!J48>1,COUNTRY_INFO!J48<4),IF(COUNTRY_INFO!E48>MAX('MDA4'!R48,'T1'!L48,MAX(T3_R1!K48,T3_R2!K48)),MAX('MDA4'!R48,'T1'!L48,MAX(T3_R1!K48,T3_R2!K48)),COUNTRY_INFO!E48),0)","v":0},{"$f":"IF(AND(COUNTRY_INFO!J48>1,COUNTRY_INFO!J48<4), IF(T48/COUNTRY_INFO!E48*100<>0, IF(T48/COUNTRY_INFO!E48*100>100,100,T48/COUNTRY_INFO!E48*100), \"-\"),0)","v":0},{"$f":"IF(AND(COUNTRY_INFO!J48>1,COUNTRY_INFO!J48<4),IF(COUNTRY_INFO!F48>MAX('MDA1'!K48,'MDA4'!S48,'T1'!M48,MAX(T3_R1!L48,T3_R2!L48)),MAX('MDA1'!K48,'MDA4'!S48,'T1'!M48,MAX(T3_R1!L48,T3_R2!L48)),COUNTRY_INFO!F48),0)","v":0},{"$f":"IF(AND(COUNTRY_INFO!J48>1,COUNTRY_INFO!J48<4), IF(V48/COUNTRY_INFO!F48*100<>0, IF(V48/COUNTRY_INFO!F48*100>100,100,V48/COUNTRY_INFO!F48*100), \"-\"),0)","v":0},0,{"$f":"IF(AND(COUNTRY_INFO!J48>1,COUNTRY_INFO!J48<4), IF(S48/P48*100<>0, IF(X48/P48*100>100,100,X48/P48*100), \"-\"),0)","v":0},{"$f":"COUNTRY_INFO!P48","v":2568.7200000000003},null,null,{"$f":"MAX('T1'!L48,'T2'!J48)+MAX('T1'!M48,'T2'!K48)+MAX('T1'!N48,'T2'!L48)","v":0},{"$f":"IF(COUNTRY_INFO!K48=1,IF(COUNTRY_INFO!F48*0.33>MAX('T1'!M48,'T2'!K48),MAX('T1'!M48,'T2'!K48),COUNTRY_INFO!F48*0.33),IF(COUNTRY_INFO!K48=2,IF(COUNTRY_INFO!F48*0.5>MAX('T1'!M48,'T2'!K48),MAX('T1'!M48,'T2'!K48),COUNTRY_INFO!F48*0.5),IF(COUNTRY_INFO!K48=3,IF(COUNTRY_INFO!F48>MAX('T1'!M48,'T2'!K48),MAX('T1'!M48,'T2'!K48),COUNTRY_INFO!F48),0)))","v":0},{"$f":"IF(AND(COUNTRY_INFO!K48>0,COUNTRY_INFO!K48<4),IF(Z48>0,IF(COUNTRY_INFO!K48=1, AD48/(COUNTRY_INFO!F48*0.33)*100, IF(COUNTRY_INFO!K48=2, AD48/(COUNTRY_INFO!F48*0.5)*100, IF(COUNTRY_INFO!K48=3, AD48/COUNTRY_INFO!F48*100))),\"-\"),0)","v":0},{"$f":"IF(COUNTRY_INFO!K48=2,IF(COUNTRY_INFO!G48*0.2>MAX('T1'!N48,'T2'!L48),MAX('T1'!N48,'T2'!L48),COUNTRY_INFO!G48*0.2),IF(COUNTRY_INFO!K48=3,IF(COUNTRY_INFO!G48>MAX('T1'!N48,'T2'!L48),MAX('T1'!N48,'T2'!L48),COUNTRY_INFO!G48),0))","v":0},{"$f":"IF(AND(COUNTRY_INFO!K48>0,COUNTRY_INFO!K48<4),IF(Z48>0,IF(COUNTRY_INFO!K48=1, 0, IF(COUNTRY_INFO!K48=2, AF48/(COUNTRY_INFO!G48*0.2)*100, IF(COUNTRY_INFO!K48=3, AF48/COUNTRY_INFO!G48*100))),\"-\"),0)","v":0},0,{"$f":"IF(AND(COUNTRY_INFO!K48>0,COUNTRY_INFO!K48<4), IF(AC48/Z48*100<>0, IF(AH48/Z48*100>100,100,AH48/Z48*100), \"-\"),0)","v":"-"},null,{"$f":"IF(AND(D48<>0, D48<>\"Inconnu\",D48<>\"Interrompu\",D48<>\"Non requis\"),D48/COUNTRY_INFO!D48, 0)","v":0},{"$f":"IF(AND(J48<>0,J48<>\"Inconnu\",J48<>\"Interrompu\",J48<>\"Non requis\"),J48/COUNTRY_INFO!D48, 0)","v":0},{"$f":"IF(AND(P48<>0,P48<>\"Inconnu\",P48<>\"Non requis\"),P48/(COUNTRY_INFO!E48+COUNTRY_INFO!F48), 0)","v":0},{"$f":"IF(AND(Z48<>0,Z48<>\"Inconnu\",Z48<>\"Non requis\"),IF(COUNTRY_INFO!K48=1,1,IF(COUNTRY_INFO!K48=2,0.5*COUNTRY_INFO!F48/(0.5*COUNTRY_INFO!F48+0.2*COUNTRY_INFO!G48),IF(COUNTRY_INFO!K48=3,COUNTRY_INFO!F48/(COUNTRY_INFO!F48+COUNTRY_INFO!G48)))),0)","v":1},{"$f":"IF(AND(Z48<>0,Z48<>\"Inconnu\",Z48<>\"Non requis\"),IF(COUNTRY_INFO!K48=1,0,IF(COUNTRY_INFO!K48=2,0.2*COUNTRY_INFO!G48/(0.5*COUNTRY_INFO!F48+0.2*COUNTRY_INFO!G48),IF(COUNTRY_INFO!K48=3,COUNTRY_INFO!G48/(COUNTRY_INFO!F48+COUNTRY_INFO!G48)))),0)","v":0},{"$f":"MAX(COUNTRY_INFO!D48*AK48*PROFILE!$G$7,COUNTRY_INFO!D48*AL48*PROFILE!$G$7)","v":0},{"$f":"MAX(COUNTRY_INFO!D48*AK48*PROFILE!$G$8,COUNTRY_INFO!D48*AL48*PROFILE!$G$8,COUNTRY_INFO!D48*AM48*PROFILE!$G$8)","v":0},{"$f":"MAX(COUNTRY_INFO!D48*AK48*PROFILE!$G$9,COUNTRY_INFO!D48*AL48*PROFILE!$G$9,COUNTRY_INFO!D48*AM48*PROFILE!$G$9,IF(AND(DISTRICT!Z48<>\"Inconnu\",Z48<>\"Non requis\"),COUNTRY_INFO!P48*DISTRICT!AN48,0))","v":2568.7200000000003},{"$f":"MAX(COUNTRY_INFO!D48*AK48*PROFILE!$G$10,COUNTRY_INFO!D48*AL48*PROFILE!$G$10,IF(AND(DISTRICT!Z48<>\"Inconnu\",Z48<>\"Non requis\"),COUNTRY_INFO!P48*DISTRICT!AO48,0))","v":0},2568.7200000000003,0,{"$f":"MAX('MDA4'!R48,'T1'!L48,'T2'!J48,T3_R1!K48,T3_R2!K48)","v":0},{"$f":"MAX('MDA1'!K48,'MDA4'!S48,'MDA3'!I48,'MDA3'!L48,'T1'!M48,'T2'!K48,T3_R1!L48,T3_R2!L48)","v":0},{"$f":"MAX('MDA1'!L48,'MDA4'!T48,'MDA3'!J48,'MDA3'!M48,'T1'!N48,'T2'!L48,T3_R1!M48,T3_R2!M48)","v":0},0,{"$f":"MAX('MDA4'!R48,T48)","v":0},{"$f":"MAX('MDA1'!K48,'MDA4'!S48,'MDA3'!I48,'MDA3'!L48,V48,AD48)","v":0},{"$f":"MAX('MDA1'!L48,'MDA4'!T48,'MDA3'!J48,'MDA3'!M48,AF48)","v":0},0,0]
[{"$f":"IF(COUNTRY_INFO!A49=0,\" \",COUNTRY_INFO!A49)","v":"Chad"},{"$f":"IF(COUNTRY_INFO!B49=0,\" \",COUNTRY_INFO!B49)","v":"Kanem"},{"$f":"IF(COUNTRY_INFO!C49=0,\" \",COUNTRY_INFO!C49)","v":"Mao"},{"$f":"COUNTRY_INFO!M49","v":0},null,null,{"$f":"MAX('MDA1'!M49,'MDA4'!U49)","v":0},{"$f":"IF(AND(COUNTRY_INFO!H49>0,COUNTRY_INFO!H49<4),IF(D49>MAX('MDA1'!M49,'MDA4'!U49),MAX('MDA1'!M49,'MDA4'!U49),D49),0)","v":0},{"$f":"IF(AND(COUNTRY_INFO!H49>0,COUNTRY_INFO!H49<4), IF(G49/D49*100<>0, IF(G49/D49*100>100,100,G49/D49*100), \"-\"),0)","v":0},{"$f":"COUNTRY_INFO!N49","v":0},null,null,{"$f":"MAX('MDA1'!M49,MAX('MDA3'!I49,'MDA3'!L49)+MAX('MDA3'!J49,'MDA3'!M49))","v":0},{"$f":"IF(AND(COUNTRY_INFO!I49>0,COUNTRY_INFO!I49<4),IF(J49>MAX('MDA1'!M49,MAX('MDA3'!I49,'MDA3'!L49)+MAX('MDA3'!J49,'MDA3'!M49)),MAX('MDA1'!M49,MAX('MDA3'!I49,'MDA3'!L49)+MAX('MDA3'!J49,'MDA3'!M49)),J49),0)","v":0},{"$f":"IF(AND(COUNTRY_INFO!I49>0,COUNTRY_INFO!I49<4), IF(M49/J49*100<>0, IF(M49/J49*100>100,100,M49/J49*100), \"-\"),0)","v":0},{"$f":"COUNTRY_INFO!O49","v":0},null,null,{"$f":"SUM(MAX('MDA4'!R49, 'T1'!L49, MAX(T3_R1!K49, T3_R2!K49)), MAX('MDA1'!K49, 'MDA4'!S49, 'T1'!M49, MAX(T3_R1!L49, T3_R2!L49)), MAX('MDA1'!L49, 'MDA4'!T49, 'T1'!N49, MAX(T3_R1!M49, T3_R2!M49)))","v":0},{"$f":"IF(AND(COUNTRY_INFO!J49>1,COUNTRY_INFO!J49<4),IF(COUNTRY_INFO!E49>MAX('MDA4'!R49,'T1'!L49,MAX(T3_R1!K49,T3_R2!K49)),MAX('MDA4'!R49,'T1'!L49,MAX(T3_R1!K49,T3_R2!K49)),COUNTRY_INFO!E49),0)","v":0},{"$f":"IF(AND(COUNTRY_INFO!J49>1,COUNTRY_INFO!J49<4), IF(T49/COUNTRY_INFO!E49*100<>0, IF(T49/COUNTRY_INFO!E49*100>100,100,T49/COUNTRY_INFO!E49*100), \"-\"),0)","v":0},{"$f":"IF(AND(COUNTRY_INFO!J49>1,COUNTRY_INFO!J49<4),IF(COUNTRY_INFO!F49>MAX('MDA1'!K49,'MDA4'!S49,'T1'!M49,MAX(T3_R1!L49,T3_R2!L49)),MAX('MDA1'!K49,'MDA4'!S49,'T1'!M49,MAX(T3_R1!L49,T3_R2!L49)),COUNTRY_INFO!F49),0)","v":0},{"$f":"IF(AND(COUNTRY_INFO!J49>1,COUNTRY_INFO!J49<4), IF(V49/COUNTRY_INFO!F49*100<>0, IF(V49/COUNTRY_INFO!F49*100>100,100,V49/COUNTRY_INFO!F49*100), \"-\"),0)","v":0},0,{"$f":"IF(AND(COUNTRY_INFO!J49>1,COUNTRY_INFO!J49<4), IF(S49/P49*100<>0, IF(X49/P49*100>100,100,X49/P49*100), \"-\"),0)","v":0},{"$f":"COUNTRY_INFO!P49","v":19690.77},null,null,{"$f":"MAX('T1'!L49,'T2'!J49)+MAX('T1'!M49,'T2'!K49)+MAX('T1'!N49,'T2'!L49)","v":0},{"$f":"IF(COUNTRY_INFO!K49=1,IF(COUNTRY_INFO!F49*0.33>MAX('T1'!M49,'T2'!K49),MAX('T1'!M49,'T2'!K49),COUNTRY_INFO!F49*0.33),IF(COUNTRY_INFO!K49=2,IF(COUNTRY_INFO!F49*0.5>MAX('T1'!M49,'T2'!K49),MAX('T1'!M49,'T2'!K49),COUNTRY_INFO!F49*0.5),IF(COUNTRY_INFO!K49=3,IF(COUNTRY_INFO!F49>MAX('T1'!M49,'T2'!K49),MAX('T1'!M49,'T2'!K49),COUNTRY_INFO!F49),0)))","v":0},{"$f":"IF(AND(COUNTRY_INFO!K49>0,COUNTRY_INFO!K49<4),IF(Z49>0,IF(COUNTRY_INFO!K49=1, AD49/(COUNTRY_INFO!F49*0.33)*100, IF(COUNTRY_INFO!K49=2, AD49/(COUNTRY_INFO!F49*0.5)*100, IF(COUNTRY_INFO!K49=3, AD49/COUNTRY_INFO!F49*100))),\"-\"),0)","v":0},{"$f":"IF(COUNTRY_INFO!K49=2,IF(COUNTRY_INFO!G49*0.2>MAX('T1'!N49,'T2'!L49),MAX('T1'!N49,'T2'!L49),COUNTRY_INFO!G49*0.2),IF(COUNTRY_INFO!K49=3,IF(COUNTRY_INFO!G49>MAX('T1'!N49,'T2'!L49),MAX('T1'!N49,'T2'!L49),COUNTRY_INFO!G49),0))","v":0},{"$f":"IF(AND(COUNTRY_INFO!K49>0,COUNTRY_INFO!K49<4),IF(Z49>0,IF(COUNTRY_INFO!K49=1, 0, IF(COUNTRY_INFO!K49=2, AF49/(COUNTRY_INFO!G49*0.2)*100, IF(COUNTRY_INFO!K49=3, AF49/COUNTRY_INFO!G49*100))),\"-\"),0)","v":0},0,{"$f":"IF(AND(COUNTRY_INFO!K49>0,COUNTRY_INFO!K49<4), IF(AC49/Z49*100<>0, IF(AH49/Z49*100>100,100,AH49/Z49*100), \"-\"),0)","v":"-"},null,{"$f":"IF(AND(D49<>0, D49<>\"Inconnu\",D49<>\"Interrompu\",D49<>\"Non requis\"),D49/COUNTRY_INFO!D49, 0)","v":0},{"$f":"IF(AND(J49<>0,J49<>\"Inconnu\",J49<>\"Interrompu\",J49<>\"Non requis\"),J49/COUNTRY_INFO!D49, 0)","v":0},{"$f":"IF(AND(P49<>0,P49<>\"Inconnu\",P49<>\"Non requis\"),P49/(COUNTRY_INFO!E49+COUNTRY_INFO!F49), 0)","v":0},{"$f":"IF(AND(Z49<>0,Z49<>\"Inconnu\",Z49<>\"Non requis\"),IF(COUNTRY_INFO!K49=1,1,IF(COUNTRY_INFO!K49=2,0.5*COUNTRY_INFO!F49/(0.5*COUNTRY_INFO!F49+0.2*COUNTRY_INFO!G49),IF(COUNTRY_INFO!K49=3,COUNTRY_INFO!F49/(COUNTRY_INFO!F49+COUNTRY_INFO!G49)))),0)","v":1},{"$f":"IF(AND(Z49<>0,Z49<>\"Inconnu\",Z49<>\"Non requis\"),IF(COUNTRY_INFO!K49=1,0,IF(COUNTRY_INFO!K49=2,0.2*COUNTRY_INFO!G49/(0.5*COUNTRY_INFO!F49+0.2*COUNTRY_INFO!G49),IF(COUNTRY_INFO!K49=3,COUNTRY_INFO!G49/(COUNTRY_INFO!F49+COUNTRY_INFO!G49)))),0)","v":0},{"$f":"MAX(COUNTRY_INFO!D49*AK49*PROFILE!$G$7,COUNTRY_INFO!D49*AL49*PROFILE!$G$7)","v":0},{"$f":"MAX(COUNTRY_INFO!D49*AK49*PROFILE!$G$8,COUNTRY_INFO!D49*AL49*PROFILE!$G$8,COUNTRY_INFO!D49*AM49*PROFILE!$G$8)","v":0},{"$f":"MAX(COUNTRY_INFO!D49*AK49*PROFILE!$G$9,COUNTRY_INFO!D49*AL49*PROFILE!$G$9,COUNTRY_INFO!D49*AM49*PROFILE!$G$9,IF(AND(DISTRICT!Z49<>\"Inconnu\",Z49<>\"Non requis\"),COUNTRY_INFO!P49*DISTRICT!AN49,0))","v":19690.77},{"$f":"MAX(COUNTRY_INFO!D49*AK49*PROFILE!$G$10,COUNTRY_INFO!D49*AL49*PROFILE!$G$10,IF(AND(DISTRICT!Z49<>\"Inconnu\",Z49<>\"Non requis\"),COUNTRY_INFO!P49*DISTRICT!AO49,0))","v":0},19690.77,0,{"$f":"MAX('MDA4'!R49,'T1'!L49,'T2'!J49,T3_R1!K49,T3_R2!K49)","v":0},{"$f":"MAX('MDA1'!K49,'MDA4'!S49,'MDA3'!I49,'MDA3'!L49,'T1'!M49,'T2'!K49,T3_R1!L49,T3_R2!L49)","v":0},{"$f":"MAX('MDA1'!L49,'MDA4'!T49,'MDA3'!J49,'MDA3'!M49,'T1'!N49,'T2'!L49,T3_R1!M49,T3_R2!M49)","v":0},0,{"$f":"MAX('MDA4'!R49,T49)","v":0},{"$f":"MAX('MDA1'!K49,'MDA4'!S49,'MDA3'!I49,'MDA3'!L49,V49,AD49)","v":0},{"$f":"MAX('MDA1'!L49,'MDA4'!T49,'MDA3'!J49,'MDA3'!M49,AF49)","v":0},0,0]
[{"$f":"IF(COUNTRY_INFO!A50=0,\" \",COUNTRY_INFO!A50)","v":"Chad"},{"$f":"IF(COUNTRY_INFO!B50=0,\" \",COUNTRY_INFO!B50)","v":"Kanem"},{"$f":"IF(COUNTRY_INFO!C50=0,\" \",COUNTRY_INFO!C50)","v":"Mondo"},{"$f":"COUNTRY_INFO!M50","v":0},null,null,{"$f":"MAX('MDA1'!M50,'MDA4'!U50)","v":0},{"$f":"IF(AND(COUNTRY_INFO!H50>0,COUNTRY_INFO!H50<4),IF(D50>MAX('MDA1'!M50,'MDA4'!U50),MAX('MDA1'!M50,'MDA4'!U50),D50),0)","v":0},{"$f":"IF(AND(COUNTRY_INFO!H50>0,COUNTRY_INFO!H50<4), IF(G50/D50*100<>0, IF(G50/D50*100>100,100,G50/D50*100), \"-\"),0)","v":0},{"$f":"COUNTRY_INFO!N50","v":0},null,null,{"$f":"MAX('MDA1'!M50,MAX('MDA3'!I50,'MDA3'!L50)+MAX('MDA3'!J50,'MDA3'!M50))","v":0},{"$f":"IF(AND(COUNTRY_INFO!I50>0,COUNTRY_INFO!I50<4),IF(J50>MAX('MDA1'!M50,MAX('MDA3'!I50,'MDA3'!L50)+MAX('MDA3'!J50,'MDA3'!M50)),MAX('MDA1'!M50,MAX('MDA3'!I50,'MDA3'!L50)+MAX('MDA3'!J50,'MDA3'!M50)),J50),0)","v":0},{"$f":"IF(AND(COUNTRY_INFO!I50>0,COUNTRY_INFO!I50<4), IF(M50/J50*100<>0, IF(M50/J50*100>100,100,M50/J50*100), \"-\"),0)","v":0},{"$f":"COUNTRY_INFO!O50","v":0},null,null,{"$f":"SUM(MAX('MDA4'!R50, 'T1'!L50, MAX(T3_R1!K50, T3_R2!K50)), MAX('MDA1'!K50, 'MDA4'!S50, 'T1'!M50, MAX(T3_R1!L50, T3_R2!L50)), MAX('MDA1'!L50, 'MDA4'!T50, 'T1'!N50, MAX(T3_R1!M50, T3_R2!M50)))","v":0},{"$f":"IF(AND(COUNTRY_INFO!J50>1,COUNTRY_INFO!J50<4),IF(COUNTRY_INFO!E50>MAX('MDA4'!R50,'T1'!L50,MAX(T3_R1!K50,T3_R2!K50)),MAX('MDA4'!R50,'T1'!L50,MAX(T3_R1!K50,T3_R2!K50)),COUNTRY_INFO!E50),0)","v":0},{"$f":"IF(AND(COUNTRY_INFO!J50>1,COUNTRY_INFO!J50<4), IF(T50/COUNTRY_INFO!E50*100<>0, IF(T50/COUNTRY_INFO!E50*100>100,100,T50/COUNTRY_INFO!E50*100), \"-\"),0)","v":0},{"$f":"IF(AND(COUNTRY_INFO!J50>1,COUNTRY_INFO!J50<4),IF(COUNTRY_INFO!F50>MAX('MDA1'!K50,'MDA4'!S50,'T1'!M50,MAX(T3_R1!L50,T3_R2!L50)),MAX('MDA1'!K50,'MDA4'!S50,'T1'!M50,MAX(T3_R1!L50,T3_R2!L50)),COUNTRY_INFO!F50),0)","v":0},{"$f":"IF(AND(COUNTRY_INFO!J50>1,COUNTRY_INFO!J50<4), IF(V50/COUNTRY_INFO!F50*100<>0, IF(V50/COUNTRY_INFO!F50*100>100,100,V50/COUNTRY_INFO!F50*100), \"-\"),0)","v":0},0,{"$f":"IF(AND(COUNTRY_INFO!J50>1,COUNTRY_INFO!J50<4), IF(S50/P50*100<>0, IF(X50/P50*100>100,100,X50/P50*100), \"-\"),0)","v":0},{"$f":"COUNTRY_INFO!P50","v":14025},null,null,{"$f":"MAX('T1'!L50,'T2'!J50)+MAX('T1'!M50,'T2'!K50)+MAX('T1'!N50,'T2'!L50)","v":0},{"$f":"IF(COUNTRY_INFO!K50=1,IF(COUNTRY_INFO!F50*0.33>MAX('T1'!M50,'T2'!K50),MAX('T1'!M50,'T2'!K50),COUNTRY_INFO!F50*0.33),IF(COUNTRY_INFO!K50=2,IF(COUNTRY_INFO!F50*0.5>MAX('T1'!M50,'T2'!K50),MAX('T1'!M50,'T2'!K50),COUNTRY_INFO!F50*0.5),IF(COUNTRY_INFO!K50=3,IF(COUNTRY_INFO!F50>MAX('T1'!M50,'T2'!K50),MAX('T1'!M50,'T2'!K50),COUNTRY_INFO!F50),0)))","v":0},{"$f":"IF(AND(COUNTRY_INFO!K50>0,COUNTRY_INFO!K50<4),IF(Z50>0,IF(COUNTRY_INFO!K50=1, AD50/(COUNTRY_INFO!F50*0.33)*100, IF(COUNTRY_INFO!K50=2, AD50/(COUNTRY_INFO!F50*0.5)*100, IF(COUNTRY_INFO!K50=3, AD50/COUNTRY_INFO!F50*100))),\"-\"),0)","v":0},{"$f":"IF(COUNTRY_INFO!K50=2,IF(COUNTRY_INFO!G50*0.2>MAX('T1'!N50,'T2'!L50),MAX('T1'!N50,'T2'!L50),COUNTRY_INFO!G50*0.2),IF(COUNTRY_INFO!K50=3,IF(COUNTRY_INFO!G50>MAX('T1'!N50,'T2'!L50),MAX('T1'!N50,'T2'!L50),COUNTRY_INFO!G50),0))","v":0},{"$f":"IF(AND(COUNTRY_INFO!K50>0,COUNTRY_INFO!K50<4),IF(Z50>0,IF(COUNTRY_INFO!K50=1, 0, IF(COUNTRY_INFO!K50=2, AF50/(COUNTRY_INFO!G50*0.2)*100, IF(COUNTRY_INFO!K50=3, AF50/COUNTRY_INFO!G50*100))),\"-\"),0)","v":0},0,{"$f":"IF(AND(COUNTRY_INFO!K50>0,COUNTRY_INFO!K50<4), IF(AC50/Z50*100<>0, IF(AH50/Z50*100>100,100,AH50/Z50*100), \"-\"),0)","v":"-"},null,{"$f":"IF(AND(D50<>0, D50<>\"Inconnu\",D50<>\"Interrompu\",D50<>\"Non requis\"),D50/COUNTRY_INFO!D50, 0)","v":0},{"$f":"IF(AND(J50<>0,J50<>\"Inconnu\",J50<>\"Interrompu\",J50<>\"Non requis\"),J50/COUNTRY_INFO!D50, 0)","v":0},{"$f":"IF(AND(P50<>0,P50<>\"Inconnu\",P50<>\"Non requis\"),P50/(COUNTRY_INFO!E50+COUNTRY_INFO!F50), 0)","v":0},{"$f":"IF(AND(Z50<>0,Z50<>\"Inconnu\",Z50<>\"Non requis\"),IF(COUNTRY_INFO!K50=1,1,IF(COUNTRY_INFO!K50=2,0.5*COUNTRY_INFO!F50/(0.5*COUNTRY_INFO!F50+0.2*COUNTRY_INFO!G50),IF(COUNTRY_INFO!K50=3,COUNTRY_INFO!F50/(COUNTRY_INFO!F50+COUNTRY_INFO!G50)))),0)","v":1},{"$f":"IF(AND(Z50<>0,Z50<>\"Inconnu\",Z50<>\"Non requis\"),IF(COUNTRY_INFO!K50=1,0,IF(COUNTRY_INFO!K50=2,0.2*COUNTRY_INFO!G50/(0.5*COUNTRY_INFO!F50+0.2*COUNTRY_INFO!G50),IF(COUNTRY_INFO!K50=3,COUNTRY_INFO!G50/(COUNTRY_INFO!F50+COUNTRY_INFO!G50)))),0)","v":0},{"$f":"MAX(COUNTRY_INFO!D50*AK50*PROFILE!$G$7,COUNTRY_INFO!D50*AL50*PROFILE!$G$7)","v":0},{"$f":"MAX(COUNTRY_INFO!D50*AK50*PROFILE!$G$8,COUNTRY_INFO!D50*AL50*PROFILE!$G$8,COUNTRY_INFO!D50*AM50*PROFILE!$G$8)","v":0},{"$f":"MAX(COUNTRY_INFO!D50*AK50*PROFILE!$G$9,COUNTRY_INFO!D50*AL50*PROFILE!$G$9,COUNTRY_INFO!D50*AM50*PROFILE!$G$9,IF(AND(DISTRICT!Z50<>\"Inconnu\",Z50<>\"Non requis\"),COUNTRY_INFO!P50*DISTRICT!AN50,0))","v":14025},{"$f":"MAX(COUNTRY_INFO!D50*AK50*PROFILE!$G$10,COUNTRY_INFO!D50*AL50*PROFILE!$G$10,IF(AND(DISTRICT!Z50<>\"Inconnu\",Z50<>\"Non requis\"),COUNTRY_INFO!P50*DISTRICT!AO50,0))","v":0},14025,0,{"$f":"MAX('MDA4'!R50,'T1'!L50,'T2'!J50,T3_R1!K50,T3_R2!K50)","v":0},{"$f":"MAX('MDA1'!K50,'MDA4'!S50,'MDA3'!I50,'MDA3'!L50,'T1'!M50,'T2'!K50,T3_R1!L50,T3_R2!L50)","v":0},{"$f":"MAX('MDA1'!L50,'MDA4'!T50,'MDA3'!J50,'MDA3'!M50,'T1'!N50,'T2'!L50,T3_R1!M50,T3_R2!M50)","v":0},0,{"$f":"MAX('MDA4'!R50,T50)","v":0},{"$f":"MAX('MDA1'!K50,'MDA4'!S50,'MDA3'!I50,'MDA3'!L50,V50,AD50)","v":0},{"$f":"MAX('MDA1'!L50,'MDA4'!T50,'MDA3'!J50,'MDA3'!M50,AF50)","v":0},0,0]
[{"$f":"IF(COUNTRY_INFO!A51=0,\" \",COUNTRY_INFO!A51)","v":"Chad"},{"$f":"IF(COUNTRY_INFO!B51=0,\" \",COUNTRY_INFO!B51)","v":"Kanem"},{"$f":"IF(COUNTRY_INFO!C51=0,\" \",COUNTRY_INFO!C51)","v":"Nokou"},{"$f":"COUNTRY_INFO!M51","v":0},null,null,{"$f":"MAX('MDA1'!M51,'MDA4'!U51)","v":0},{"$f":"IF(AND(COUNTRY_INFO!H51>0,COUNTRY_INFO!H51<4),IF(D51>MAX('MDA1'!M51,'MDA4'!U51),MAX('MDA1'!M51,'MDA4'!U51),D51),0)","v":0},{"$f":"IF(AND(COUNTRY_INFO!H51>0,COUNTRY_INFO!H51<4), IF(G51/D51*100<>0, IF(G51/D51*100>100,100,G51/D51*100), \"-\"),0)","v":0},{"$f":"COUNTRY_INFO!N51","v":0},null,null,{"$f":"MAX('MDA1'!M51,MAX('MDA3'!I51,'MDA3'!L51)+MAX('MDA3'!J51,'MDA3'!M51))","v":0},{"$f":"IF(AND(COUNTRY_INFO!I51>0,COUNTRY_INFO!I51<4),IF(J51>MAX('MDA1'!M51,MAX('MDA3'!I51,'MDA3'!L51)+MAX('MDA3'!J51,'MDA3'!M51)),MAX('MDA1'!M51,MAX('MDA3'!I51,'MDA3'!L51)+MAX('MDA3'!J51,'MDA3'!M51)),J51),0)","v":0},{"$f":"IF(AND(COUNTRY_INFO!I51>0,COUNTRY_INFO!I51<4), IF(M51/J51*100<>0, IF(M51/J51*100>100,100,M51/J51*100), \"-\"),0)","v":0},{"$f":"COUNTRY_INFO!O51","v":0},null,null,{"$f":"SUM(MAX('MDA4'!R51, 'T1'!L51, MAX(T3_R1!K51, T3_R2!K51)), MAX('MDA1'!K51, 'MDA4'!S51, 'T1'!M51, MAX(T3_R1!L51, T3_R2!L51)), MAX('MDA1'!L51, 'MDA4'!T51, 'T1'!N51, MAX(T3_R1!M51, T3_R2!M51)))","v":0},{"$f":"IF(AND(COUNTRY_INFO!J51>1,COUNTRY_INFO!J51<4),IF(COUNTRY_INFO!E51>MAX('MDA4'!R51,'T1'!L51,MAX(T3_R1!K51,T3_R2!K51)),MAX('MDA4'!R51,'T1'!L51,MAX(T3_R1!K51,T3_R2!K51)),COUNTRY_INFO!E51),0)","v":0},{"$f":"IF(AND(COUNTRY_INFO!J51>1,COUNTRY_INFO!J51<4), IF(T51/COUNTRY_INFO!E51*100<>0, IF(T51/COUNTRY_INFO!E51*100>100,100,T51/COUNTRY_INFO!E51*100), \"-\"),0)","v":0},{"$f":"IF(AND(COUNTRY_INFO!J51>1,COUNTRY_INFO!J51<4),IF(COUNTRY_INFO!F51>MAX('MDA1'!K51,'MDA4'!S51,'T1'!M51,MAX(T3_R1!L51,T3_R2!L51)),MAX('MDA1'!K51,'MDA4'!S51,'T1'!M51,MAX(T3_R1!L51,T3_R2!L51)),COUNTRY_INFO!F51),0)","v":0},{"$f":"IF(AND(COUNTRY_INFO!J51>1,COUNTRY_INFO!J51<4), IF(V51/COUNTRY_INFO!F51*100<>0, IF(V51/COUNTRY_INFO!F51*100>100,100,V51/COUNTRY_INFO!F51*100), \"-\"),0)","v":0},0,{"$f":"IF(AND(COUNTRY_INFO!J51>1,COUNTRY_INFO!J51<4), IF(S51/P51*100<>0, IF(X51/P51*100>100,100,X51/P51*100), \"-\"),0)","v":0},{"$f":"COUNTRY_INFO!P51","v":0},null,null,{"$f":"MAX('T1'!L51,'T2'!J51)+MAX('T1'!M51,'T2'!K51)+MAX('T1'!N51,'T2'!L51)","v":0},{"$f":"IF(COUNTRY_INFO!K51=1,IF(COUNTRY_INFO!F51*0.33>MAX('T1'!M51,'T2'!K51),MAX('T1'!M51,'T2'!K51),COUNTRY_INFO!F51*0.33),IF(COUNTRY_INFO!K51=2,IF(COUNTRY_INFO!F51*0.5>MAX('T1'!M51,'T2'!K51),MAX('T1'!M51,'T2'!K51),COUNTRY_INFO!F51*0.5),IF(COUNTRY_INFO!K51=3,IF(COUNTRY_INFO!F51>MAX('T1'!M51,'T2'!K51),MAX('T1'!M51,'T2'!K51),COUNTRY_INFO!F51),0)))","v":0},{"$f":"IF(AND(COUNTRY_INFO!K51>0,COUNTRY_INFO!K51<4),IF(Z51>0,IF(COUNTRY_INFO!K51=1, AD51/(COUNTRY_INFO!F51*0.33)*100, IF(COUNTRY_INFO!K51=2, AD51/(COUNTRY_INFO!F51*0.5)*100, IF(COUNTRY_INFO!K51=3, AD51/COUNTRY_INFO!F51*100))),\"-\"),0)","v":0},{"$f":"IF(COUNTRY_INFO!K51=2,IF(COUNTRY_INFO!G51*0.2>MAX('T1'!N51,'T2'!L51),MAX('T1'!N51,'T2'!L51),COUNTRY_INFO!G51*0.2),IF(COUNTRY_INFO!K51=3,IF(COUNTRY_INFO!G51>MAX('T1'!N51,'T2'!L51),MAX('T1'!N51,'T2'!L51),COUNTRY_INFO!G51),0))","v":0},{"$f":"IF(AND(COUNTRY_INFO!K51>0,COUNTRY_INFO!K51<4),IF(Z51>0,IF(COUNTRY_INFO!K51=1, 0, IF(COUNTRY_INFO!K51=2, AF51/(COUNTRY_INFO!G51*0.2)*100, IF(COUNTRY_INFO!K51=3, AF51/COUNTRY_INFO!G51*100))),\"-\"),0)","v":0},0,{"$f":"IF(AND(COUNTRY_INFO!K51>0,COUNTRY_INFO!K51<4), IF(AC51/Z51*100<>0, IF(AH51/Z51*100>100,100,AH51/Z51*100), \"-\"),0)","v":0},null,{"$f":"IF(AND(D51<>0, D51<>\"Inconnu\",D51<>\"Interrompu\",D51<>\"Non requis\"),D51/COUNTRY_INFO!D51, 0)","v":0},{"$f":"IF(AND(J51<>0,J51<>\"Inconnu\",J51<>\"Interrompu\",J51<>\"Non requis\"),J51/COUNTRY_INFO!D51, 0)","v":0},{"$f":"IF(AND(P51<>0,P51<>\"Inconnu\",P51<>\"Non requis\"),P51/(COUNTRY_INFO!E51+COUNTRY_INFO!F51), 0)","v":0},{"$f":"IF(AND(Z51<>0,Z51<>\"Inconnu\",Z51<>\"Non requis\"),IF(COUNTRY_INFO!K51=1,1,IF(COUNTRY_INFO!K51=2,0.5*COUNTRY_INFO!F51/(0.5*COUNTRY_INFO!F51+0.2*COUNTRY_INFO!G51),IF(COUNTRY_INFO!K51=3,COUNTRY_INFO!F51/(COUNTRY_INFO!F51+COUNTRY_INFO!G51)))),0)","v":0},{"$f":"IF(AND(Z51<>0,Z51<>\"Inconnu\",Z51<>\"Non requis\"),IF(COUNTRY_INFO!K51=1,0,IF(COUNTRY_INFO!K51=2,0.2*COUNTRY_INFO!G51/(0.5*COUNTRY_INFO!F51+0.2*COUNTRY_INFO!G51),IF(COUNTRY_INFO!K51=3,COUNTRY_INFO!G51/(COUNTRY_INFO!F51+COUNTRY_INFO!G51)))),0)","v":0},{"$f":"MAX(COUNTRY_INFO!D51*AK51*PROFILE!$G$7,COUNTRY_INFO!D51*AL51*PROFILE!$G$7)","v":0},{"$f":"MAX(COUNTRY_INFO!D51*AK51*PROFILE!$G$8,COUNTRY_INFO!D51*AL51*PROFILE!$G$8,COUNTRY_INFO!D51*AM51*PROFILE!$G$8)","v":0},{"$f":"MAX(COUNTRY_INFO!D51*AK51*PROFILE!$G$9,COUNTRY_INFO!D51*AL51*PROFILE!$G$9,COUNTRY_INFO!D51*AM51*PROFILE!$G$9,IF(AND(DISTRICT!Z51<>\"Inconnu\",Z51<>\"Non requis\"),COUNTRY_INFO!P51*DISTRICT!AN51,0))","v":0},{"$f":"MAX(COUNTRY_INFO!D51*AK51*PROFILE!$G$10,COUNTRY_INFO!D51*AL51*PROFILE!$G$10,IF(AND(DISTRICT!Z51<>\"Inconnu\",Z51<>\"Non requis\"),COUNTRY_INFO!P51*DISTRICT!AO51,0))","v":0},0,0,{"$f":"MAX('MDA4'!R51,'T1'!L51,'T2'!J51,T3_R1!K51,T3_R2!K51)","v":0},{"$f":"MAX('MDA1'!K51,'MDA4'!S51,'MDA3'!I51,'MDA3'!L51,'T1'!M51,'T2'!K51,T3_R1!L51,T3_R2!L51)","v":0},{"$f":"MAX('MDA1'!L51,'MDA4'!T51,'MDA3'!J51,'MDA3'!M51,'T1'!N51,'T2'!L51,T3_R1!M51,T3_R2!M51)","v":0},0,{"$f":"MAX('MDA4'!R51,T51)","v":0},{"$f":"MAX('MDA1'!K51,'MDA4'!S51,'MDA3'!I51,'MDA3'!L51,V51,AD51)","v":0},{"$f":"MAX('MDA1'!L51,'MDA4'!T51,'MDA3'!J51,'MDA3'!M51,AF51)","v":0},0,0]
[{"$f":"IF(COUNTRY_INFO!A52=0,\" \",COUNTRY_INFO!A52)","v":"Chad"},{"$f":"IF(COUNTRY_INFO!B52=0,\" \",COUNTRY_INFO!B52)","v":"Kanem"},{"$f":"IF(COUNTRY_INFO!C52=0,\" \",COUNTRY_INFO!C52)","v":"Ntiona"},{"$f":"COUNTRY_INFO!M52","v":0},null,null,{"$f":"MAX('MDA1'!M52,'MDA4'!U52)","v":0},{"$f":"IF(AND(COUNTRY_INFO!H52>0,COUNTRY_INFO!H52<4),IF(D52>MAX('MDA1'!M52,'MDA4'!U52),MAX('MDA1'!M52,'MDA4'!U52),D52),0)","v":0},{"$f":"IF(AND(COUNTRY_INFO!H52>0,COUNTRY_INFO!H52<4), IF(G52/D52*100<>0, IF(G52/D52*100>100,100,G52/D52*100), \"-\"),0)","v":0},{"$f":"COUNTRY_INFO!N52","v":0},null,null,{"$f":"MAX('MDA1'!M52,MAX('MDA3'!I52,'MDA3'!L52)+MAX('MDA3'!J52,'MDA3'!M52))","v":0},{"$f":"IF(AND(COUNTRY_INFO!I52>0,COUNTRY_INFO!I52<4),IF(J52>MAX('MDA1'!M52,MAX('MDA3'!I52,'MDA3'!L52)+MAX('MDA3'!J52,'MDA3'!M52)),MAX('MDA1'!M52,MAX('MDA3'!I52,'MDA3'!L52)+MAX('MDA3'!J52,'MDA3'!M52)),J52),0)","v":0},{"$f":"IF(AND(COUNTRY_INFO!I52>0,COUNTRY_INFO!I52<4), IF(M52/J52*100<>0, IF(M52/J52*100>100,100,M52/J52*100), \"-\"),0)","v":0},{"$f":"COUNTRY_INFO!O52","v":0},null,null,{"$f":"SUM(MAX('MDA4'!R52, 'T1'!L52, MAX(T3_R1!K52, T3_R2!K52)), MAX('MDA1'!K52, 'MDA4'!S52, 'T1'!M52, MAX(T3_R1!L52, T3_R2!L52)), MAX('MDA1'!L52, 'MDA4'!T52, 'T1'!N52, MAX(T3_R1!M52, T3_R2!M52)))","v":0},{"$f":"IF(AND(COUNTRY_INFO!J52>1,COUNTRY_INFO!J52<4),IF(COUNTRY_INFO!E52>MAX('MDA4'!R52,'T1'!L52,MAX(T3_R1!K52,T3_R2!K52)),MAX('MDA4'!R52,'T1'!L52,MAX(T3_R1!K52,T3_R2!K52)),COUNTRY_INFO!E52),0)","v":0},{"$f":"IF(AND(COUNTRY_INFO!J52>1,COUNTRY_INFO!J52<4), IF(T52/COUNTRY_INFO!E52*100<>0, IF(T52/COUNTRY_INFO!E52*100>100,100,T52/COUNTRY_INFO!E52*100), \"-\"),0)","v":0},{"$f":"IF(AND(COUNTRY_INFO!J52>1,COUNTRY_INFO!J52<4),IF(COUNTRY_INFO!F52>MAX('MDA1'!K52,'MDA4'!S52,'T1'!M52,MAX(T3_R1!L52,T3_R2!L52)),MAX('MDA1'!K52,'MDA4'!S52,'T1'!M52,MAX(T3_R1!L52,T3_R2!L52)),COUNTRY_INFO!F52),0)","v":0},{"$f":"IF(AND(COUNTRY_INFO!J52>1,COUNTRY_INFO!J52<4), IF(V52/COUNTRY_INFO!F52*100<>0, IF(V52/COUNTRY_INFO!F52*100>100,100,V52/COUNTRY_INFO!F52*100), \"-\"),0)","v":0},0,{"$f":"IF(AND(COUNTRY_INFO!J52>1,COUNTRY_INFO!J52<4), IF(S52/P52*100<>0, IF(X52/P52*100>100,100,X52/P52*100), \"-\"),0)","v":0},{"$f":"COUNTRY_INFO!P52","v":5536.41},null,null,{"$f":"MAX('T1'!L52,'T2'!J52)+MAX('T1'!M52,'T2'!K52)+MAX('T1'!N52,'T2'!L52)","v":0},{"$f":"IF(COUNTRY_INFO!K52=1,IF(COUNTRY_INFO!F52*0.33>MAX('T1'!M52,'T2'!K52),MAX('T1'!M52,'T2'!K52),COUNTRY_INFO!F52*0.33),IF(COUNTRY_INFO!K52=2,IF(COUNTRY_INFO!F52*0.5>MAX('T1'!M52,'T2'!K52),MAX('T1'!M52,'T2'!K52),COUNTRY_INFO!F52*0.5),IF(COUNTRY_INFO!K52=3,IF(COUNTRY_INFO!F52>MAX('T1'!M52,'T2'!K52),MAX('T1'!M52,'T2'!K52),COUNTRY_INFO!F52),0)))","v":0},{"$f":"IF(AND(COUNTRY_INFO!K52>0,COUNTRY_INFO!K52<4),IF(Z52>0,IF(COUNTRY_INFO!K52=1, AD52/(COUNTRY_INFO!F52*0.33)*100, IF(COUNTRY_INFO!K52=2, AD52/(COUNTRY_INFO!F52*0.5)*100, IF(COUNTRY_INFO!K52=3, AD52/COUNTRY_INFO!F52*100))),\"-\"),0)","v":0},{"$f":"IF(COUNTRY_INFO!K52=2,IF(COUNTRY_INFO!G52*0.2>MAX('T1'!N52,'T2'!L52),MAX('T1'!N52,'T2'!L52),COUNTRY_INFO!G52*0.2),IF(COUNTRY_INFO!K52=3,IF(COUNTRY_INFO!G52>MAX('T1'!N52,'T2'!L52),MAX('T1'!N52,'T2'!L52),COUNTRY_INFO!G52),0))","v":0},{"$f":"IF(AND(COUNTRY_INFO!K52>0,COUNTRY_INFO!K52<4),IF(Z52>0,IF(COUNTRY_INFO!K52=1, 0, IF(COUNTRY_INFO!K52=2, AF52/(COUNTRY_INFO!G52*0.2)*100, IF(COUNTRY_INFO!K52=3, AF52/COUNTRY_INFO!G52*100))),\"-\"),0)","v":0},0,{"$f":"IF(AND(COUNTRY_INFO!K52>0,COUNTRY_INFO!K52<4), IF(AC52/Z52*100<>0, IF(AH52/Z52*100>100,100,AH52/Z52*100), \"-\"),0)","v":"-"},null,{"$f":"IF(AND(D52<>0, D52<>\"Inconnu\",D52<>\"Interrompu\",D52<>\"Non requis\"),D52/COUNTRY_INFO!D52, 0)","v":0},{"$f":"IF(AND(J52<>0,J52<>\"Inconnu\",J52<>\"Interrompu\",J52<>\"Non requis\"),J52/COUNTRY_INFO!D52, 0)","v":0},{"$f":"IF(AND(P52<>0,P52<>\"Inconnu\",P52<>\"Non requis\"),P52/(COUNTRY_INFO!E52+COUNTRY_INFO!F52), 0)","v":0},{"$f":"IF(AND(Z52<>0,Z52<>\"Inconnu\",Z52<>\"Non requis\"),IF(COUNTRY_INFO!K52=1,1,IF(COUNTRY_INFO!K52=2,0.5*COUNTRY_INFO!F52/(0.5*COUNTRY_INFO!F52+0.2*COUNTRY_INFO!G52),IF(COUNTRY_INFO!K52=3,COUNTRY_INFO!F52/(COUNTRY_INFO!F52+COUNTRY_INFO!G52)))),0)","v":1},{"$f":"IF(AND(Z52<>0,Z52<>\"Inconnu\",Z52<>\"Non requis\"),IF(COUNTRY_INFO!K52=1,0,IF(COUNTRY_INFO!K52=2,0.2*COUNTRY_INFO!G52/(0.5*COUNTRY_INFO!F52+0.2*COUNTRY_INFO!G52),IF(COUNTRY_INFO!K52=3,COUNTRY_INFO!G52/(COUNTRY_INFO!F52+COUNTRY_INFO!G52)))),0)","v":0},{"$f":"MAX(COUNTRY_INFO!D52*AK52*PROFILE!$G$7,COUNTRY_INFO!D52*AL52*PROFILE!$G$7)","v":0},{"$f":"MAX(COUNTRY_INFO!D52*AK52*PROFILE!$G$8,COUNTRY_INFO!D52*AL52*PROFILE!$G$8,COUNTRY_INFO!D52*AM52*PROFILE!$G$8)","v":0},{"$f":"MAX(COUNTRY_INFO!D52*AK52*PROFILE!$G$9,COUNTRY_INFO!D52*AL52*PROFILE!$G$9,COUNTRY_INFO!D52*AM52*PROFILE!$G$9,IF(AND(DISTRICT!Z52<>\"Inconnu\",Z52<>\"Non requis\"),COUNTRY_INFO!P52*DISTRICT!AN52,0))","v":5536.41},{"$f":"MAX(COUNTRY_INFO!D52*AK52*PROFILE!$G$10,COUNTRY_INFO!D52*AL52*PROFILE!$G$10,IF(AND(DISTRICT!Z52<>\"Inconnu\",Z52<>\"Non requis\"),COUNTRY_INFO!P52*DISTRICT!AO52,0))","v":0},5536.41,0,{"$f":"MAX('MDA4'!R52,'T1'!L52,'T2'!J52,T3_R1!K52,T3_R2!K52)","v":0},{"$f":"MAX('MDA1'!K52,'MDA4'!S52,'MDA3'!I52,'MDA3'!L52,'T1'!M52,'T2'!K52,T3_R1!L52,T3_R2!L52)","v":0},{"$f":"MAX('MDA1'!L52,'MDA4'!T52,'MDA3'!J52,'MDA3'!M52,'T1'!N52,'T2'!L52,T3_R1!M52,T3_R2!M52)","v":0},0,{"$f":"MAX('MDA4'!R52,T52)","v":0},{"$f":"MAX('MDA1'!K52,'MDA4'!S52,'MDA3'!I52,'MDA3'!L52,V52,AD52)","v":0},{"$f":"MAX('MDA1'!L52,'MDA4'!T52,'MDA3'!J52,'MDA3'!M52,AF52)","v":0},0,0]
[{"$f":"IF(COUNTRY_INFO!A53=0,\" \",COUNTRY_INFO!A53)","v":"Chad"},{"$f":"IF(COUNTRY_INFO!B53=0,\" \",COUNTRY_INFO!B53)","v":"Kanem"},{"$f":"IF(COUNTRY_INFO!C53=0,\" \",COUNTRY_INFO!C53)","v":"Rig-Rig"},{"$f":"COUNTRY_INFO!M53","v":0},null,null,{"$f":"MAX('MDA1'!M53,'MDA4'!U53)","v":0},{"$f":"IF(AND(COUNTRY_INFO!H53>0,COUNTRY_INFO!H53<4),IF(D53>MAX('MDA1'!M53,'MDA4'!U53),MAX('MDA1'!M53,'MDA4'!U53),D53),0)","v":0},{"$f":"IF(AND(COUNTRY_INFO!H53>0,COUNTRY_INFO!H53<4), IF(G53/D53*100<>0, IF(G53/D53*100>100,100,G53/D53*100), \"-\"),0)","v":0},{"$f":"COUNTRY_INFO!N53","v":0},null,null,{"$f":"MAX('MDA1'!M53,MAX('MDA3'!I53,'MDA3'!L53)+MAX('MDA3'!J53,'MDA3'!M53))","v":0},{"$f":"IF(AND(COUNTRY_INFO!I53>0,COUNTRY_INFO!I53<4),IF(J53>MAX('MDA1'!M53,MAX('MDA3'!I53,'MDA3'!L53)+MAX('MDA3'!J53,'MDA3'!M53)),MAX('MDA1'!M53,MAX('MDA3'!I53,'MDA3'!L53)+MAX('MDA3'!J53,'MDA3'!M53)),J53),0)","v":0},{"$f":"IF(AND(COUNTRY_INFO!I53>0,COUNTRY_INFO!I53<4), IF(M53/J53*100<>0, IF(M53/J53*100>100,100,M53/J53*100), \"-\"),0)","v":0},{"$f":"COUNTRY_INFO!O53","v":0},null,null,{"$f":"SUM(MAX('MDA4'!R53, 'T1'!L53, MAX(T3_R1!K53, T3_R2!K53)), MAX('MDA1'!K53, 'MDA4'!S53, 'T1'!M53, MAX(T3_R1!L53, T3_R2!L53)), MAX('MDA1'!L53, 'MDA4'!T53, 'T1'!N53, MAX(T3_R1!M53, T3_R2!M53)))","v":0},{"$f":"IF(AND(COUNTRY_INFO!J53>1,COUNTRY_INFO!J53<4),IF(COUNTRY_INFO!E53>MAX('MDA4'!R53,'T1'!L53,MAX(T3_R1!K53,T3_R2!K53)),MAX('MDA4'!R53,'T1'!L53,MAX(T3_R1!K53,T3_R2!K53)),COUNTRY_INFO!E53),0)","v":0},{"$f":"IF(AND(COUNTRY_INFO!J53>1,COUNTRY_INFO!J53<4), IF(T53/COUNTRY_INFO!E53*100<>0, IF(T53/COUNTRY_INFO!E53*100>100,100,T53/COUNTRY_INFO!E53*100), \"-\"),0)","v":0},{"$f":"IF(AND(COUNTRY_INFO!J53>1,COUNTRY_INFO!J53<4),IF(COUNTRY_INFO!F53>MAX('MDA1'!K53,'MDA4'!S53,'T1'!M53,MAX(T3_R1!L53,T3_R2!L53)),MAX('MDA1'!K53,'MDA4'!S53,'T1'!M53,MAX(T3_R1!L53,T3_R2!L53)),COUNTRY_INFO!F53),0)","v":0},{"$f":"IF(AND(COUNTRY_INFO!J53>1,COUNTRY_INFO!J53<4), IF(V53/COUNTRY_INFO!F53*100<>0, IF(V53/COUNTRY_INFO!F53*100>100,100,V53/COUNTRY_INFO!F53*100), \"-\"),0)","v":0},0,{"$f":"IF(AND(COUNTRY_INFO!J53>1,COUNTRY_INFO!J53<4), IF(S53/P53*100<>0, IF(X53/P53*100>100,100,X53/P53*100), \"-\"),0)","v":0},{"$f":"COUNTRY_INFO!P53","v":0},null,null,{"$f":"MAX('T1'!L53,'T2'!J53)+MAX('T1'!M53,'T2'!K53)+MAX('T1'!N53,'T2'!L53)","v":0},{"$f":"IF(COUNTRY_INFO!K53=1,IF(COUNTRY_INFO!F53*0.33>MAX('T1'!M53,'T2'!K53),MAX('T1'!M53,'T2'!K53),COUNTRY_INFO!F53*0.33),IF(COUNTRY_INFO!K53=2,IF(COUNTRY_INFO!F53*0.5>MAX('T1'!M53,'T2'!K53),MAX('T1'!M53,'T2'!K53),COUNTRY_INFO!F53*0.5),IF(COUNTRY_INFO!K53=3,IF(COUNTRY_INFO!F53>MAX('T1'!M53,'T2'!K53),MAX('T1'!M53,'T2'!K53),COUNTRY_INFO!F53),0)))","v":0},{"$f":"IF(AND(COUNTRY_INFO!K53>0,COUNTRY_INFO!K53<4),IF(Z53>0,IF(COUNTRY_INFO!K53=1, AD53/(COUNTRY_INFO!F53*0.33)*100, IF(COUNTRY_INFO!K53=2, AD53/(COUNTRY_INFO!F53*0.5)*100, IF(COUNTRY_INFO!K53=3, AD53/COUNTRY_INFO!F53*100))),\"-\"),0)","v":0},{"$f":"IF(COUNTRY_INFO!K53=2,IF(COUNTRY_INFO!G53*0.2>MAX('T1'!N53,'T2'!L53),MAX('T1'!N53,'T2'!L53),COUNTRY_INFO!G53*0.2),IF(COUNTRY_INFO!K53=3,IF(COUNTRY_INFO!G53>MAX('T1'!N53,'T2'!L53),MAX('T1'!N53,'T2'!L53),COUNTRY_INFO!G53),0))","v":0},{"$f":"IF(AND(COUNTRY_INFO!K53>0,COUNTRY_INFO!K53<4),IF(Z53>0,IF(COUNTRY_INFO!K53=1, 0, IF(COUNTRY_INFO!K53=2, AF53/(COUNTRY_INFO!G53*0.2)*100, IF(COUNTRY_INFO!K53=3, AF53/COUNTRY_INFO!G53*100))),\"-\"),0)","v":0},0,{"$f":"IF(AND(COUNTRY_INFO!K53>0,COUNTRY_INFO!K53<4), IF(AC53/Z53*100<>0, IF(AH53/Z53*100>100,100,AH53/Z53*100), \"-\"),0)","v":0},null,{"$f":"IF(AND(D53<>0, D53<>\"Inconnu\",D53<>\"Interrompu\",D53<>\"Non requis\"),D53/COUNTRY_INFO!D53, 0)","v":0},{"$f":"IF(AND(J53<>0,J53<>\"Inconnu\",J53<>\"Interrompu\",J53<>\"Non requis\"),J53/COUNTRY_INFO!D53, 0)","v":0},{"$f":"IF(AND(P53<>0,P53<>\"Inconnu\",P53<>\"Non requis\"),P53/(COUNTRY_INFO!E53+COUNTRY_INFO!F53), 0)","v":0},{"$f":"IF(AND(Z53<>0,Z53<>\"Inconnu\",Z53<>\"Non requis\"),IF(COUNTRY_INFO!K53=1,1,IF(COUNTRY_INFO!K53=2,0.5*COUNTRY_INFO!F53/(0.5*COUNTRY_INFO!F53+0.2*COUNTRY_INFO!G53),IF(COUNTRY_INFO!K53=3,COUNTRY_INFO!F53/(COUNTRY_INFO!F53+COUNTRY_INFO!G53)))),0)","v":0},{"$f":"IF(AND(Z53<>0,Z53<>\"Inconnu\",Z53<>\"Non requis\"),IF(COUNTRY_INFO!K53=1,0,IF(COUNTRY_INFO!K53=2,0.2*COUNTRY_INFO!G53/(0.5*COUNTRY_INFO!F53+0.2*COUNTRY_INFO!G53),IF(COUNTRY_INFO!K53=3,COUNTRY_INFO!G53/(COUNTRY_INFO!F53+COUNTRY_INFO!G53)))),0)","v":0},{"$f":"MAX(COUNTRY_INFO!D53*AK53*PROFILE!$G$7,COUNTRY_INFO!D53*AL53*PROFILE!$G$7)","v":0},{"$f":"MAX(COUNTRY_INFO!D53*AK53*PROFILE!$G$8,COUNTRY_INFO!D53*AL53*PROFILE!$G$8,COUNTRY_INFO!D53*AM53*PROFILE!$G$8)","v":0},{"$f":"MAX(COUNTRY_INFO!D53*AK53*PROFILE!$G$9,COUNTRY_INFO!D53*AL53*PROFILE!$G$9,COUNTRY_INFO!D53*AM53*PROFILE!$G$9,IF(AND(DISTRICT!Z53<>\"Inconnu\",Z53<>\"Non requis\"),COUNTRY_INFO!P53*DISTRICT!AN53,0))","v":0},{"$f":"MAX(COUNTRY_INFO!D53*AK53*PROFILE!$G$10,COUNTRY_INFO!D53*AL53*PROFILE!$G$10,IF(AND(DISTRICT!Z53<>\"Inconnu\",Z53<>\"Non requis\"),COUNTRY_INFO!P53*DISTRICT!AO53,0))","v":0},0,0,{"$f":"MAX('MDA4'!R53,'T1'!L53,'T2'!J53,T3_R1!K53,T3_R2!K53)","v":0},{"$f":"MAX('MDA1'!K53,'MDA4'!S53,'MDA3'!I53,'MDA3'!L53,'T1'!M53,'T2'!K53,T3_R1!L53,T3_R2!L53)","v":0},{"$f":"MAX('MDA1'!L53,'MDA4'!T53,'MDA3'!J53,'MDA3'!M53,'T1'!N53,'T2'!L53,T3_R1!M53,T3_R2!M53)","v":0},0,{"$f":"MAX('MDA4'!R53,T53)","v":0},{"$f":"MAX('MDA1'!K53,'MDA4'!S53,'MDA3'!I53,'MDA3'!L53,V53,AD53)","v":0},{"$f":"MAX('MDA1'!L53,'MDA4'!T53,'MDA3'!J53,'MDA3'!M53,AF53)","v":0},0,0]
[{"$f":"IF(COUNTRY_INFO!A54=0,\" \",COUNTRY_INFO!A54)","v":"Chad"},{"$f":"IF(COUNTRY_INFO!B54=0,\" \",COUNTRY_INFO!B54)","v":"Lac"},{"$f":"IF(COUNTRY_INFO!C54=0,\" \",COUNTRY_INFO!C54)","v":"Bagassola"},{"$f":"COUNTRY_INFO!M54","v":0},null,null,{"$f":"MAX('MDA1'!M54,'MDA4'!U54)","v":0},{"$f":"IF(AND(COUNTRY_INFO!H54>0,COUNTRY_INFO!H54<4),IF(D54>MAX('MDA1'!M54,'MDA4'!U54),MAX('MDA1'!M54,'MDA4'!U54),D54),0)","v":0},{"$f":"IF(AND(COUNTRY_INFO!H54>0,COUNTRY_INFO!H54<4), IF(G54/D54*100<>0, IF(G54/D54*100>100,100,G54/D54*100), \"-\"),0)","v":0},{"$f":"COUNTRY_INFO!N54","v":0},null,null,{"$f":"MAX('MDA1'!M54,MAX('MDA3'!I54,'MDA3'!L54)+MAX('MDA3'!J54,'MDA3'!M54))","v":0},{"$f":"IF(AND(COUNTRY_INFO!I54>0,COUNTRY_INFO!I54<4),IF(J54>MAX('MDA1'!M54,MAX('MDA3'!I54,'MDA3'!L54)+MAX('MDA3'!J54,'MDA3'!M54)),MAX('MDA1'!M54,MAX('MDA3'!I54,'MDA3'!L54)+MAX('MDA3'!J54,'MDA3'!M54)),J54),0)","v":0},{"$f":"IF(AND(COUNTRY_INFO!I54>0,COUNTRY_INFO!I54<4), IF(M54/J54*100<>0, IF(M54/J54*100>100,100,M54/J54*100), \"-\"),0)","v":0},{"$f":"COUNTRY_INFO!O54","v":0},null,null,{"$f":"SUM(MAX('MDA4'!R54, 'T1'!L54, MAX(T3_R1!K54, T3_R2!K54)), MAX('MDA1'!K54, 'MDA4'!S54, 'T1'!M54, MAX(T3_R1!L54, T3_R2!L54)), MAX('MDA1'!L54, 'MDA4'!T54, 'T1'!N54, MAX(T3_R1!M54, T3_R2!M54)))","v":0},{"$f":"IF(AND(COUNTRY_INFO!J54>1,COUNTRY_INFO!J54<4),IF(COUNTRY_INFO!E54>MAX('MDA4'!R54,'T1'!L54,MAX(T3_R1!K54,T3_R2!K54)),MAX('MDA4'!R54,'T1'!L54,MAX(T3_R1!K54,T3_R2!K54)),COUNTRY_INFO!E54),0)","v":0},{"$f":"IF(AND(COUNTRY_INFO!J54>1,COUNTRY_INFO!J54<4), IF(T54/COUNTRY_INFO!E54*100<>0, IF(T54/COUNTRY_INFO!E54*100>100,100,T54/COUNTRY_INFO!E54*100), \"-\"),0)","v":0},{"$f":"IF(AND(COUNTRY_INFO!J54>1,COUNTRY_INFO!J54<4),IF(COUNTRY_INFO!F54>MAX('MDA1'!K54,'MDA4'!S54,'T1'!M54,MAX(T3_R1!L54,T3_R2!L54)),MAX('MDA1'!K54,'MDA4'!S54,'T1'!M54,MAX(T3_R1!L54,T3_R2!L54)),COUNTRY_INFO!F54),0)","v":0},{"$f":"IF(AND(COUNTRY_INFO!J54>1,COUNTRY_INFO!J54<4), IF(V54/COUNTRY_INFO!F54*100<>0, IF(V54/COUNTRY_INFO!F54*100>100,100,V54/COUNTRY_INFO!F54*100), \"-\"),0)","v":0},0,{"$f":"IF(AND(COUNTRY_INFO!J54>1,COUNTRY_INFO!J54<4), IF(S54/P54*100<>0, IF(X54/P54*100>100,100,X54/P54*100), \"-\"),0)","v":0},{"$f":"COUNTRY_INFO!P54","v":23498.300000000003},null,null,{"$f":"MAX('T1'!L54,'T2'!J54)+MAX('T1'!M54,'T2'!K54)+MAX('T1'!N54,'T2'!L54)","v":0},{"$f":"IF(COUNTRY_INFO!K54=1,IF(COUNTRY_INFO!F54*0.33>MAX('T1'!M54,'T2'!K54),MAX('T1'!M54,'T2'!K54),COUNTRY_INFO!F54*0.33),IF(COUNTRY_INFO!K54=2,IF(COUNTRY_INFO!F54*0.5>MAX('T1'!M54,'T2'!K54),MAX('T1'!M54,'T2'!K54),COUNTRY_INFO!F54*0.5),IF(COUNTRY_INFO!K54=3,IF(COUNTRY_INFO!F54>MAX('T1'!M54,'T2'!K54),MAX('T1'!M54,'T2'!K54),COUNTRY_INFO!F54),0)))","v":0},{"$f":"IF(AND(COUNTRY_INFO!K54>0,COUNTRY_INFO!K54<4),IF(Z54>0,IF(COUNTRY_INFO!K54=1, AD54/(COUNTRY_INFO!F54*0.33)*100, IF(COUNTRY_INFO!K54=2, AD54/(COUNTRY_INFO!F54*0.5)*100, IF(COUNTRY_INFO!K54=3, AD54/COUNTRY_INFO!F54*100))),\"-\"),0)","v":0},{"$f":"IF(COUNTRY_INFO!K54=2,IF(COUNTRY_INFO!G54*0.2>MAX('T1'!N54,'T2'!L54),MAX('T1'!N54,'T2'!L54),COUNTRY_INFO!G54*0.2),IF(COUNTRY_INFO!K54=3,IF(COUNTRY_INFO!G54>MAX('T1'!N54,'T2'!L54),MAX('T1'!N54,'T2'!L54),COUNTRY_INFO!G54),0))","v":0},{"$f":"IF(AND(COUNTRY_INFO!K54>0,COUNTRY_INFO!K54<4),IF(Z54>0,IF(COUNTRY_INFO!K54=1, 0, IF(COUNTRY_INFO!K54=2, AF54/(COUNTRY_INFO!G54*0.2)*100, IF(COUNTRY_INFO!K54=3, AF54/COUNTRY_INFO!G54*100))),\"-\"),0)","v":0},0,{"$f":"IF(AND(COUNTRY_INFO!K54>0,COUNTRY_INFO!K54<4), IF(AC54/Z54*100<>0, IF(AH54/Z54*100>100,100,AH54/Z54*100), \"-\"),0)","v":"-"},null,{"$f":"IF(AND(D54<>0, D54<>\"Inconnu\",D54<>\"Interrompu\",D54<>\"Non requis\"),D54/COUNTRY_INFO!D54, 0)","v":0},{"$f":"IF(AND(J54<>0,J54<>\"Inconnu\",J54<>\"Interrompu\",J54<>\"Non requis\"),J54/COUNTRY_INFO!D54, 0)","v":0},{"$f":"IF(AND(P54<>0,P54<>\"Inconnu\",P54<>\"Non requis\"),P54/(COUNTRY_INFO!E54+COUNTRY_INFO!F54), 0)","v":0},{"$f":"IF(AND(Z54<>0,Z54<>\"Inconnu\",Z54<>\"Non requis\"),IF(COUNTRY_INFO!K54=1,1,IF(COUNTRY_INFO!K54=2,0.5*COUNTRY_INFO!F54/(0.5*COUNTRY_INFO!F54+0.2*COUNTRY_INFO!G54),IF(COUNTRY_INFO!K54=3,COUNTRY_INFO!F54/(COUNTRY_INFO!F54+COUNTRY_INFO!G54)))),0)","v":0.60542677555397617},{"$f":"IF(AND(Z54<>0,Z54<>\"Inconnu\",Z54<>\"Non requis\"),IF(COUNTRY_INFO!K54=1,0,IF(COUNTRY_INFO!K54=2,0.2*COUNTRY_INFO!G54/(0.5*COUNTRY_INFO!F54+0.2*COUNTRY_INFO!G54),IF(COUNTRY_INFO!K54=3,COUNTRY_INFO!G54/(COUNTRY_INFO!F54+COUNTRY_INFO!G54)))),0)","v":0.39457322444602377},{"$f":"MAX(COUNTRY_INFO!D54*AK54*PROFILE!$G$7,COUNTRY_INFO!D54*AL54*PROFILE!$G$7)","v":0},{"$f":"MAX(COUNTRY_INFO!D54*AK54*PROFILE!$G$8,COUNTRY_INFO!D54*AL54*PROFILE!$G$8,COUNTRY_INFO!D54*AM54*PROFILE!$G$8)","v":0},{"$f":"MAX(COUNTRY_INFO!D54*AK54*PROFILE!$G$9,COUNTRY_INFO!D54*AL54*PROFILE!$G$9,COUNTRY_INFO!D54*AM54*PROFILE!$G$9,IF(AND(DISTRICT!Z54<>\"Inconnu\",Z54<>\"Non requis\"),COUNTRY_INFO!P54*DISTRICT!AN54,0))","v":14226.5},{"$f":"MAX(COUNTRY_INFO!D54*AK54*PROFILE!$G$10,COUNTRY_INFO!D54*AL54*PROFILE!$G$10,IF(AND(DISTRICT!Z54<>\"Inconnu\",Z54<>\"Non requis\"),COUNTRY_INFO!P54*DISTRICT!AO54,0))","v":9271.8000000000011},23498.300000000003,0,{"$f":"MAX('MDA4'!R54,'T1'!L54,'T2'!J54,T3_R1!K54,T3_R2!K54)","v":0},{"$f":"MAX('MDA1'!K54,'MDA4'!S54,'MDA3'!I54,'MDA3'!L54,'T1'!M54,'T2'!K54,T3_R1!L54,T3_R2!L54)","v":0},{"$f":"MAX('MDA1'!L54,'MDA4'!T54,'MDA3'!J54,'MDA3'!M54,'T1'!N54,'T2'!L54,T3_R1!M54,T3_R2!M54)","v":0},0,{"$f":"MAX('MDA4'!R54,T54)","v":0},{"$f":"MAX('MDA1'!K54,'MDA4'!S54,'MDA3'!I54,'MDA3'!L54,V54,AD54)","v":0},{"$f":"MAX('MDA1'!L54,'MDA4'!T54,'MDA3'!J54,'MDA3'!M54,AF54)","v":0},0,0]
[{"$f":"IF(COUNTRY_INFO!A55=0,\" \",COUNTRY_INFO!A55)","v":"Chad"},{"$f":"IF(COUNTRY_INFO!B55=0,\" \",COUNTRY_INFO!B55)","v":"Lac"},{"$f":"IF(COUNTRY_INFO!C55=0,\" \",COUNTRY_INFO!C55)","v":"Bol"},{"$f":"COUNTRY_INFO!M55","v":0},null,null,{"$f":"MAX('MDA1'!M55,'MDA4'!U55)","v":0},{"$f":"IF(AND(COUNTRY_INFO!H55>0,COUNTRY_INFO!H55<4),IF(D55>MAX('MDA1'!M55,'MDA4'!U55),MAX('MDA1'!M55,'MDA4'!U55),D55),0)","v":0},{"$f":"IF(AND(COUNTRY_INFO!H55>0,COUNTRY_INFO!H55<4), IF(G55/D55*100<>0, IF(G55/D55*100>100,100,G55/D55*100), \"-\"),0)","v":0},{"$f":"COUNTRY_INFO!N55","v":0},null,null,{"$f":"MAX('MDA1'!M55,MAX('MDA3'!I55,'MDA3'!L55)+MAX('MDA3'!J55,'MDA3'!M55))","v":0},{"$f":"IF(AND(COUNTRY_INFO!I55>0,COUNTRY_INFO!I55<4),IF(J55>MAX('MDA1'!M55,MAX('MDA3'!I55,'MDA3'!L55)+MAX('MDA3'!J55,'MDA3'!M55)),MAX('MDA1'!M55,MAX('MDA3'!I55,'MDA3'!L55)+MAX('MDA3'!J55,'MDA3'!M55)),J55),0)","v":0},{"$f":"IF(AND(COUNTRY_INFO!I55>0,COUNTRY_INFO!I55<4), IF(M55/J55*100<>0, IF(M55/J55*100>100,100,M55/J55*100), \"-\"),0)","v":0},{"$f":"COUNTRY_INFO!O55","v":0},null,null,{"$f":"SUM(MAX('MDA4'!R55, 'T1'!L55, MAX(T3_R1!K55, T3_R2!K55)), MAX('MDA1'!K55, 'MDA4'!S55, 'T1'!M55, MAX(T3_R1!L55, T3_R2!L55)), MAX('MDA1'!L55, 'MDA4'!T55, 'T1'!N55, MAX(T3_R1!M55, T3_R2!M55)))","v":0},{"$f":"IF(AND(COUNTRY_INFO!J55>1,COUNTRY_INFO!J55<4),IF(COUNTRY_INFO!E55>MAX('MDA4'!R55,'T1'!L55,MAX(T3_R1!K55,T3_R2!K55)),MAX('MDA4'!R55,'T1'!L55,MAX(T3_R1!K55,T3_R2!K55)),COUNTRY_INFO!E55),0)","v":0},{"$f":"IF(AND(COUNTRY_INFO!J55>1,COUNTRY_INFO!J55<4), IF(T55/COUNTRY_INFO!E55*100<>0, IF(T55/COUNTRY_INFO!E55*100>100,100,T55/COUNTRY_INFO!E55*100), \"-\"),0)","v":0},{"$f":"IF(AND(COUNTRY_INFO!J55>1,COUNTRY_INFO!J55<4),IF(COUNTRY_INFO!F55>MAX('MDA1'!K55,'MDA4'!S55,'T1'!M55,MAX(T3_R1!L55,T3_R2!L55)),MAX('MDA1'!K55,'MDA4'!S55,'T1'!M55,MAX(T3_R1!L55,T3_R2!L55)),COUNTRY_INFO!F55),0)","v":0},{"$f":"IF(AND(COUNTRY_INFO!J55>1,COUNTRY_INFO!J55<4), IF(V55/COUNTRY_INFO!F55*100<>0, IF(V55/COUNTRY_INFO!F55*100>100,100,V55/COUNTRY_INFO!F55*100), \"-\"),0)","v":0},0,{"$f":"IF(AND(COUNTRY_INFO!J55>1,COUNTRY_INFO!J55<4), IF(S55/P55*100<>0, IF(X55/P55*100>100,100,X55/P55*100), \"-\"),0)","v":0},{"$f":"COUNTRY_INFO!P55","v":48857.3},null,null,{"$f":"MAX('T1'!L55,'T2'!J55)+MAX('T1'!M55,'T2'!K55)+MAX('T1'!N55,'T2'!L55)","v":0},{"$f":"IF(COUNTRY_INFO!K55=1,IF(COUNTRY_INFO!F55*0.33>MAX('T1'!M55,'T2'!K55),MAX('T1'!M55,'T2'!K55),COUNTRY_INFO!F55*0.33),IF(COUNTRY_INFO!K55=2,IF(COUNTRY_INFO!F55*0.5>MAX('T1'!M55,'T2'!K55),MAX('T1'!M55,'T2'!K55),COUNTRY_INFO!F55*0.5),IF(COUNTRY_INFO!K55=3,IF(COUNTRY_INFO!F55>MAX('T1'!M55,'T2'!K55),MAX('T1'!M55,'T2'!K55),COUNTRY_INFO!F55),0)))","v":0},{"$f":"IF(AND(COUNTRY_INFO!K55>0,COUNTRY_INFO!K55<4),IF(Z55>0,IF(COUNTRY_INFO!K55=1, AD55/(COUNTRY_INFO!F55*0.33)*100, IF(COUNTRY_INFO!K55=2, AD55/(COUNTRY_INFO!F55*0.5)*100, IF(COUNTRY_INFO!K55=3, AD55/COUNTRY_INFO!F55*100))),\"-\"),0)","v":0},{"$f":"IF(COUNTRY_INFO!K55=2,IF(COUNTRY_INFO!G55*0.2>MAX('T1'!N55,'T2'!L55),MAX('T1'!N55,'T2'!L55),COUNTRY_INFO!G55*0.2),IF(COUNTRY_INFO!K55=3,IF(COUNTRY_INFO!G55>MAX('T1'!N55,'T2'!L55),MAX('T1'!N55,'T2'!L55),COUNTRY_INFO!G55),0))","v":0},{"$f":"IF(AND(COUNTRY_INFO!K55>0,COUNTRY_INFO!K55<4),IF(Z55>0,IF(COUNTRY_INFO!K55=1, 0, IF(COUNTRY_INFO!K55=2, AF55/(COUNTRY_INFO!G55*0.2)*100, IF(COUNTRY_INFO!K55=3, AF55/COUNTRY_INFO!G55*100))),\"-\"),0)","v":0},0,{"$f":"IF(AND(COUNTRY_INFO!K55>0,COUNTRY_INFO!K55<4), IF(AC55/Z55*100<>0, IF(AH55/Z55*100>100,100,AH55/Z55*100), \"-\"),0)","v":"-"},null,{"$f":"IF(AND(D55<>0, D55<>\"Inconnu\",D55<>\"Interrompu\",D55<>\"Non requis\"),D55/COUNTRY_INFO!D55, 0)","v":0},{"$f":"IF(AND(J55<>0,J55<>\"Inconnu\",J55<>\"Interrompu\",J55<>\"Non requis\"),J55/COUNTRY_INFO!D55, 0)","v":0},{"$f":"IF(AND(P55<>0,P55<>\"Inconnu\",P55<>\"Non requis\"),P55/(COUNTRY_INFO!E55+COUNTRY_INFO!F55), 0)","v":0},{"$f":"IF(AND(Z55<>0,Z55<>\"Inconnu\",Z55<>\"Non requis\"),IF(COUNTRY_INFO!K55=1,1,IF(COUNTRY_INFO!K55=2,0.5*COUNTRY_INFO!F55/(0.5*COUNTRY_INFO!F55+0.2*COUNTRY_INFO!G55),IF(COUNTRY_INFO!K55=3,COUNTRY_INFO!F55/(COUNTRY_INFO!F55+COUNTRY_INFO!G55)))),0)","v":0.6054264152951554},{"$f":"IF(AND(Z55<>0,Z55<>\"Inconnu\",Z55<>\"Non requis\"),IF(COUNTRY_INFO!K55=1,0,IF(COUNTRY_INFO!K55=2,0.2*COUNTRY_INFO!G55/(0.5*COUNTRY_INFO!F55+0.2*COUNTRY_INFO!G55),IF(COUNTRY_INFO!K55=3,COUNTRY_INFO!G55/(COUNTRY_INFO!F55+COUNTRY_INFO!G55)))),0)","v":0.39457358470484449},{"$f":"MAX(COUNTRY_INFO!D55*AK55*PROFILE!$G$7,COUNTRY_INFO!D55*AL55*PROFILE!$G$7)","v":0},{"$f":"MAX(COUNTRY_INFO!D55*AK55*PROFILE!$G$8,COUNTRY_INFO!D55*AL55*PROFILE!$G$8,COUNTRY_INFO!D55*AM55*PROFILE!$G$8)","v":0},{"$f":"MAX(COUNTRY_INFO!D55*AK55*PROFILE!$G$9,COUNTRY_INFO!D55*AL55*PROFILE!$G$9,COUNTRY_INFO!D55*AM55*PROFILE!$G$9,IF(AND(DISTRICT!Z55<>\"Inconnu\",Z55<>\"Non requis\"),COUNTRY_INFO!P55*DISTRICT!AN55,0))","v":29579.499999999996},{"$f":"MAX(COUNTRY_INFO!D55*AK55*PROFILE!$G$10,COUNTRY_INFO!D55*AL55*PROFILE!$G$10,IF(AND(DISTRICT!Z55<>\"Inconnu\",Z55<>\"Non requis\"),COUNTRY_INFO!P55*DISTRICT!AO55,0))","v":19277.8},48857.299999999996,0,{"$f":"MAX('MDA4'!R55,'T1'!L55,'T2'!J55,T3_R1!K55,T3_R2!K55)","v":0},{"$f":"MAX('MDA1'!K55,'MDA4'!S55,'MDA3'!I55,'MDA3'!L55,'T1'!M55,'T2'!K55,T3_R1!L55,T3_R2!L55)","v":0},{"$f":"MAX('MDA1'!L55,'MDA4'!T55,'MDA3'!J55,'MDA3'!M55,'T1'!N55,'T2'!L55,T3_R1!M55,T3_R2!M55)","v":0},0,{"$f":"MAX('MDA4'!R55,T55)","v":0},{"$f":"MAX('MDA1'!K55,'MDA4'!S55,'MDA3'!I55,'MDA3'!L55,V55,AD55)","v":0},{"$f":"MAX('MDA1'!L55,'MDA4'!T55,'MDA3'!J55,'MDA3'!M55,AF55)","v":0},0,0]
[{"$f":"IF(COUNTRY_INFO!A56=0,\" \",COUNTRY_INFO!A56)","v":"Chad"},{"$f":"IF(COUNTRY_INFO!B56=0,\" \",COUNTRY_INFO!B56)","v":"Lac"},{"$f":"IF(COUNTRY_INFO!C56=0,\" \",COUNTRY_INFO!C56)","v":"Isserom"},{"$f":"COUNTRY_INFO!M56","v":0},null,null,{"$f":"MAX('MDA1'!M56,'MDA4'!U56)","v":0},{"$f":"IF(AND(COUNTRY_INFO!H56>0,COUNTRY_INFO!H56<4),IF(D56>MAX('MDA1'!M56,'MDA4'!U56),MAX('MDA1'!M56,'MDA4'!U56),D56),0)","v":0},{"$f":"IF(AND(COUNTRY_INFO!H56>0,COUNTRY_INFO!H56<4), IF(G56/D56*100<>0, IF(G56/D56*100>100,100,G56/D56*100), \"-\"),0)","v":0},{"$f":"COUNTRY_INFO!N56","v":0},null,null,{"$f":"MAX('MDA1'!M56,MAX('MDA3'!I56,'MDA3'!L56)+MAX('MDA3'!J56,'MDA3'!M56))","v":0},{"$f":"IF(AND(COUNTRY_INFO!I56>0,COUNTRY_INFO!I56<4),IF(J56>MAX('MDA1'!M56,MAX('MDA3'!I56,'MDA3'!L56)+MAX('MDA3'!J56,'MDA3'!M56)),MAX('MDA1'!M56,MAX('MDA3'!I56,'MDA3'!L56)+MAX('MDA3'!J56,'MDA3'!M56)),J56),0)","v":0},{"$f":"IF(AND(COUNTRY_INFO!I56>0,COUNTRY_INFO!I56<4), IF(M56/J56*100<>0, IF(M56/J56*100>100,100,M56/J56*100), \"-\"),0)","v":0},{"$f":"COUNTRY_INFO!O56","v":0},null,null,{"$f":"SUM(MAX('MDA4'!R56, 'T1'!L56, MAX(T3_R1!K56, T3_R2!K56)), MAX('MDA1'!K56, 'MDA4'!S56, 'T1'!M56, MAX(T3_R1!L56, T3_R2!L56)), MAX('MDA1'!L56, 'MDA4'!T56, 'T1'!N56, MAX(T3_R1!M56, T3_R2!M56)))","v":0},{"$f":"IF(AND(COUNTRY_INFO!J56>1,COUNTRY_INFO!J56<4),IF(COUNTRY_INFO!E56>MAX('MDA4'!R56,'T1'!L56,MAX(T3_R1!K56,T3_R2!K56)),MAX('MDA4'!R56,'T1'!L56,MAX(T3_R1!K56,T3_R2!K56)),COUNTRY_INFO!E56),0)","v":0},{"$f":"IF(AND(COUNTRY_INFO!J56>1,COUNTRY_INFO!J56<4), IF(T56/COUNTRY_INFO!E56*100<>0, IF(T56/COUNTRY_INFO!E56*100>100,100,T56/COUNTRY_INFO!E56*100), \"-\"),0)","v":0},{"$f":"IF(AND(COUNTRY_INFO!J56>1,COUNTRY_INFO!J56<4),IF(COUNTRY_INFO!F56>MAX('MDA1'!K56,'MDA4'!S56,'T1'!M56,MAX(T3_R1!L56,T3_R2!L56)),MAX('MDA1'!K56,'MDA4'!S56,'T1'!M56,MAX(T3_R1!L56,T3_R2!L56)),COUNTRY_INFO!F56),0)","v":0},{"$f":"IF(AND(COUNTRY_INFO!J56>1,COUNTRY_INFO!J56<4), IF(V56/COUNTRY_INFO!F56*100<>0, IF(V56/COUNTRY_INFO!F56*100>100,100,V56/COUNTRY_INFO!F56*100), \"-\"),0)","v":0},0,{"$f":"IF(AND(COUNTRY_INFO!J56>1,COUNTRY_INFO!J56<4), IF(S56/P56*100<>0, IF(X56/P56*100>100,100,X56/P56*100), \"-\"),0)","v":0},{"$f":"COUNTRY_INFO!P56","v":6737.9400000000005},null,null,{"$f":"MAX('T1'!L56,'T2'!J56)+MAX('T1'!M56,'T2'!K56)+MAX('T1'!N56,'T2'!L56)","v":0},{"$f":"IF(COUNTRY_INFO!K56=1,IF(COUNTRY_INFO!F56*0.33>MAX('T1'!M56,'T2'!K56),MAX('T1'!M56,'T2'!K56),COUNTRY_INFO!F56*0.33),IF(COUNTRY_INFO!K56=2,IF(COUNTRY_INFO!F56*0.5>MAX('T1'!M56,'T2'!K56),MAX('T1'!M56,'T2'!K56),COUNTRY_INFO!F56*0.5),IF(COUNTRY_INFO!K56=3,IF(COUNTRY_INFO!F56>MAX('T1'!M56,'T2'!K56),MAX('T1'!M56,'T2'!K56),COUNTRY_INFO!F56),0)))","v":0},{"$f":"IF(AND(COUNTRY_INFO!K56>0,COUNTRY_INFO!K56<4),IF(Z56>0,IF(COUNTRY_INFO!K56=1, AD56/(COUNTRY_INFO!F56*0.33)*100, IF(COUNTRY_INFO!K56=2, AD56/(COUNTRY_INFO!F56*0.5)*100, IF(COUNTRY_INFO!K56=3, AD56/COUNTRY_INFO!F56*100))),\"-\"),0)","v":0},{"$f":"IF(COUNTRY_INFO!K56=2,IF(COUNTRY_INFO!G56*0.2>MAX('T1'!N56,'T2'!L56),MAX('T1'!N56,'T2'!L56),COUNTRY_INFO!G56*0.2),IF(COUNTRY_INFO!K56=3,IF(COUNTRY_INFO!G56>MAX('T1'!N56,'T2'!L56),MAX('T1'!N56,'T2'!L56),COUNTRY_INFO!G56),0))","v":0},{"$f":"IF(AND(COUNTRY_INFO!K56>0,COUNTRY_INFO!K56<4),IF(Z56>0,IF(COUNTRY_INFO!K56=1, 0, IF(COUNTRY_INFO!K56=2, AF56/(COUNTRY_INFO!G56*0.2)*100, IF(COUNTRY_INFO!K56=3, AF56/COUNTRY_INFO!G56*100))),\"-\"),0)","v":0},0,{"$f":"IF(AND(COUNTRY_INFO!K56>0,COUNTRY_INFO!K56<4), IF(AC56/Z56*100<>0, IF(AH56/Z56*100>100,100,AH56/Z56*100), \"-\"),0)","v":"-"},null,{"$f":"IF(AND(D56<>0, D56<>\"Inconnu\",D56<>\"Interrompu\",D56<>\"Non requis\"),D56/COUNTRY_INFO!D56, 0)","v":0},{"$f":"IF(AND(J56<>0,J56<>\"Inconnu\",J56<>\"Interrompu\",J56<>\"Non requis\"),J56/COUNTRY_INFO!D56, 0)","v":0},{"$f":"IF(AND(P56<>0,P56<>\"Inconnu\",P56<>\"Non requis\"),P56/(COUNTRY_INFO!E56+COUNTRY_INFO!F56), 0)","v":0},{"$f":"IF(AND(Z56<>0,Z56<>\"Inconnu\",Z56<>\"Non requis\"),IF(COUNTRY_INFO!K56=1,1,IF(COUNTRY_INFO!K56=2,0.5*COUNTRY_INFO!F56/(0.5*COUNTRY_INFO!F56+0.2*COUNTRY_INFO!G56),IF(COUNTRY_INFO!K56=3,COUNTRY_INFO!F56/(COUNTRY_INFO!F56+COUNTRY_INFO!G56)))),0)","v":1},{"$f":"IF(AND(Z56<>0,Z56<>\"Inconnu\",Z56<>\"Non requis\"),IF(COUNTRY_INFO!K56=1,0,IF(COUNTRY_INFO!K56=2,0.2*COUNTRY_INFO!G56/(0.5*COUNTRY_INFO!F56+0.2*COUNTRY_INFO!G56),IF(COUNTRY_INFO!K56=3,COUNTRY_INFO!G56/(COUNTRY_INFO!F56+COUNTRY_INFO!G56)))),0)","v":0},{"$f":"MAX(COUNTRY_INFO!D56*AK56*PROFILE!$G$7,COUNTRY_INFO!D56*AL56*PROFILE!$G$7)","v":0},{"$f":"MAX(COUNTRY_INFO!D56*AK56*PROFILE!$G$8,COUNTRY_INFO!D56*AL56*PROFILE!$G$8,COUNTRY_INFO!D56*AM56*PROFILE!$G$8)","v":0},{"$f":"MAX(COUNTRY_INFO!D56*AK56*PROFILE!$G$9,COUNTRY_INFO!D56*AL56*PROFILE!$G$9,COUNTRY_INFO!D56*AM56*PROFILE!$G$9,IF(AND(DISTRICT!Z56<>\"Inconnu\",Z56<>\"Non requis\"),COUNTRY_INFO!P56*DISTRICT!AN56,0))","v":6737.9400000000005},{"$f":"MAX(COUNTRY_INFO!D56*AK56*PROFILE!$G$10,COUNTRY_INFO!D56*AL56*PROFILE!$G$10,IF(AND(DISTRICT!Z56<>\"Inconnu\",Z56<>\"Non requis\"),COUNTRY_INFO!P56*DISTRICT!AO56,0))","v":0},6737.9400000000005,0,{"$f":"MAX('MDA4'!R56,'T1'!L56,'T2'!J56,T3_R1!K56,T3_R2!K56)","v":0},{"$f":"MAX('MDA1'!K56,'MDA4'!S56,'MDA3'!I56,'MDA3'!L56,'T1'!M56,'T2'!K56,T3_R1!L56,T3_R2!L56)","v":0},{"$f":"MAX('MDA1'!L56,'MDA4'!T56,'MDA3'!J56,'MDA3'!M56,'T1'!N56,'T2'!L56,T3_R1!M56,T3_R2!M56)","v":0},0,{"$f":"MAX('MDA4'!R56,T56)","v":0},{"$f":"MAX('MDA1'!K56,'MDA4'!S56,'MDA3'!I56,'MDA3'!L56,V56,AD56)","v":0},{"$f":"MAX('MDA1'!L56,'MDA4'!T56,'MDA3'!J56,'MDA3'!M56,AF56)","v":0},0,0]
[{"$f":"IF(COUNTRY_INFO!A57=0,\" \",COUNTRY_INFO!A57)","v":"Chad"},{"$f":"IF(COUNTRY_INFO!B57=0,\" \",COUNTRY_INFO!B57)","v":"Lac"},{"$f":"IF(COUNTRY_INFO!C57=0,\" \",COUNTRY_INFO!C57)","v":"Kouloudia"},{"$f":"COUNTRY_INFO!M57","v":0},null,null,{"$f":"MAX('MDA1'!M57,'MDA4'!U57)","v":0},{"$f":"IF(AND(COUNTRY_INFO!H57>0,COUNTRY_INFO!H57<4),IF(D57>MAX('MDA1'!M57,'MDA4'!U57),MAX('MDA1'!M57,'MDA4'!U57),D57),0)","v":0},{"$f":"IF(AND(COUNTRY_INFO!H57>0,COUNTRY_INFO!H57<4), IF(G57/D57*100<>0, IF(G57/D57*100>100,100,G57/D57*100), \"-\"),0)","v":0},{"$f":"COUNTRY_INFO!N57","v":0},null,null,{"$f":"MAX('MDA1'!M57,MAX('MDA3'!I57,'MDA3'!L57)+MAX('MDA3'!J57,'MDA3'!M57))","v":0},{"$f":"IF(AND(COUNTRY_INFO!I57>0,COUNTRY_INFO!I57<4),IF(J57>MAX('MDA1'!M57,MAX('MDA3'!I57,'MDA3'!L57)+MAX('MDA3'!J57,'MDA3'!M57)),MAX('MDA1'!M57,MAX('MDA3'!I57,'MDA3'!L57)+MAX('MDA3'!J57,'MDA3'!M57)),J57),0)","v":0},{"$f":"IF(AND(COUNTRY_INFO!I57>0,COUNTRY_INFO!I57<4), IF(M57/J57*100<>0, IF(M57/J57*100>100,100,M57/J57*100), \"-\"),0)","v":0},{"$f":"COUNTRY_INFO!O57","v":0},null,null,{"$f":"SUM(MAX('MDA4'!R57, 'T1'!L57, MAX(T3_R1!K57, T3_R2!K57)), MAX('MDA1'!K57, 'MDA4'!S57, 'T1'!M57, MAX(T3_R1!L57, T3_R2!L57)), MAX('MDA1'!L57, 'MDA4'!T57, 'T1'!N57, MAX(T3_R1!M57, T3_R2!M57)))","v":0},{"$f":"IF(AND(COUNTRY_INFO!J57>1,COUNTRY_INFO!J57<4),IF(COUNTRY_INFO!E57>MAX('MDA4'!R57,'T1'!L57,MAX(T3_R1!K57,T3_R2!K57)),MAX('MDA4'!R57,'T1'!L57,MAX(T3_R1!K57,T3_R2!K57)),COUNTRY_INFO!E57),0)","v":0},{"$f":"IF(AND(COUNTRY_INFO!J57>1,COUNTRY_INFO!J57<4), IF(T57/COUNTRY_INFO!E57*100<>0, IF(T57/COUNTRY_INFO!E57*100>100,100,T57/COUNTRY_INFO!E57*100), \"-\"),0)","v":0},{"$f":"IF(AND(COUNTRY_INFO!J57>1,COUNTRY_INFO!J57<4),IF(COUNTRY_INFO!F57>MAX('MDA1'!K57,'MDA4'!S57,'T1'!M57,MAX(T3_R1!L57,T3_R2!L57)),MAX('MDA1'!K57,'MDA4'!S57,'T1'!M57,MAX(T3_R1!L57,T3_R2!L57)),COUNTRY_INFO!F57),0)","v":0},{"$f":"IF(AND(COUNTRY_INFO!J57>1,COUNTRY_INFO!J57<4), IF(V57/COUNTRY_INFO!F57*100<>0, IF(V57/COUNTRY_INFO!F57*100>100,100,V57/COUNTRY_INFO!F57*100), \"-\"),0)","v":0},0,{"$f":"IF(AND(COUNTRY_INFO!J57>1,COUNTRY_INFO!J57<4), IF(S57/P57*100<>0, IF(X57/P57*100>100,100,X57/P57*100), \"-\"),0)","v":0},{"$f":"COUNTRY_INFO!P57","v":20488},null,null,{"$f":"MAX('T1'!L57,'T2'!J57)+MAX('T1'!M57,'T2'!K57)+MAX('T1'!N57,'T2'!L57)","v":0},{"$f":"IF(COUNTRY_INFO!K57=1,IF(COUNTRY_INFO!F57*0.33>MAX('T1'!M57,'T2'!K57),MAX('T1'!M57,'T2'!K57),COUNTRY_INFO!F57*0.33),IF(COUNTRY_INFO!K57=2,IF(COUNTRY_INFO!F57*0.5>MAX('T1'!M57,'T2'!K57),MAX('T1'!M57,'T2'!K57),COUNTRY_INFO!F57*0.5),IF(COUNTRY_INFO!K57=3,IF(COUNTRY_INFO!F57>MAX('T1'!M57,'T2'!K57),MAX('T1'!M57,'T2'!K57),COUNTRY_INFO!F57),0)))","v":0},{"$f":"IF(AND(COUNTRY_INFO!K57>0,COUNTRY_INFO!K57<4),IF(Z57>0,IF(COUNTRY_INFO!K57=1, AD57/(COUNTRY_INFO!F57*0.33)*100, IF(COUNTRY_INFO!K57=2, AD57/(COUNTRY_INFO!F57*0.5)*100, IF(COUNTRY_INFO!K57=3, AD57/COUNTRY_INFO!F57*100))),\"-\"),0)","v":0},{"$f":"IF(COUNTRY_INFO!K57=2,IF(COUNTRY_INFO!G57*0.2>MAX('T1'!N57,'T2'!L57),MAX('T1'!N57,'T2'!L57),COUNTRY_INFO!G57*0.2),IF(COUNTRY_INFO!K57=3,IF(COUNTRY_INFO!G57>MAX('T1'!N57,'T2'!L57),MAX('T1'!N57,'T2'!L57),COUNTRY_INFO!G57),0))","v":0},{"$f":"IF(AND(COUNTRY_INFO!K57>0,COUNTRY_INFO!K57<4),IF(Z57>0,IF(COUNTRY_INFO!K57=1, 0, IF(COUNTRY_INFO!K57=2, AF57/(COUNTRY_INFO!G57*0.2)*100, IF(COUNTRY_INFO!K57=3, AF57/COUNTRY_INFO!G57*100))),\"-\"),0)","v":0},0,{"$f":"IF(AND(COUNTRY_INFO!K57>0,COUNTRY_INFO!K57<4), IF(AC57/Z57*100<>0, IF(AH57/Z57*100>100,100,AH57/Z57*100), \"-\"),0)","v":"-"},null,{"$f":"IF(AND(D57<>0, D57<>\"Inconnu\",D57<>\"Interrompu\",D57<>\"Non requis\"),D57/COUNTRY_INFO!D57, 0)","v":0},{"$f":"IF(AND(J57<>0,J57<>\"Inconnu\",J57<>\"Interrompu\",J57<>\"Non requis\"),J57/COUNTRY_INFO!D57, 0)","v":0},{"$f":"IF(AND(P57<>0,P57<>\"Inconnu\",P57<>\"Non requis\"),P57/(COUNTRY_INFO!E57+COUNTRY_INFO!F57), 0)","v":0},{"$f":"IF(AND(Z57<>0,Z57<>\"Inconnu\",Z57<>\"Non requis\"),IF(COUNTRY_INFO!K57=1,1,IF(COUNTRY_INFO!K57=2,0.5*COUNTRY_INFO!F57/(0.5*COUNTRY_INFO!F57+0.2*COUNTRY_INFO!G57),IF(COUNTRY_INFO!K57=3,COUNTRY_INFO!F57/(COUNTRY_INFO!F57+COUNTRY_INFO!G57)))),0)","v":0.60542756735650138},{"$f":"IF(AND(Z57<>0,Z57<>\"Inconnu\",Z57<>\"Non requis\"),IF(COUNTRY_INFO!K57=1,0,IF(COUNTRY_INFO!K57=2,0.2*COUNTRY_INFO!G57/(0.5*COUNTRY_INFO!F57+0.2*COUNTRY_INFO!G57),IF(COUNTRY_INFO!K57=3,COUNTRY_INFO!G57/(COUNTRY_INFO!F57+COUNTRY_INFO!G57)))),0)","v":0.39457243264349862},{"$f":"MAX(COUNTRY_INFO!D57*AK57*PROFILE!$G$7,COUNTRY_INFO!D57*AL57*PROFILE!$G$7)","v":0},{"$f":"MAX(COUNTRY_INFO!D57*AK57*PROFILE!$G$8,COUNTRY_INFO!D57*AL57*PROFILE!$G$8,COUNTRY_INFO!D57*AM57*PROFILE!$G$8)","v":0},{"$f":"MAX(COUNTRY_INFO!D57*AK57*PROFILE!$G$9,COUNTRY_INFO!D57*AL57*PROFILE!$G$9,COUNTRY_INFO!D57*AM57*PROFILE!$G$9,IF(AND(DISTRICT!Z57<>\"Inconnu\",Z57<>\"Non requis\"),COUNTRY_INFO!P57*DISTRICT!AN57,0))","v":12404},{"$f":"MAX(COUNTRY_INFO!D57*AK57*PROFILE!$G$10,COUNTRY_INFO!D57*AL57*PROFILE!$G$10,IF(AND(DISTRICT!Z57<>\"Inconnu\",Z57<>\"Non requis\"),COUNTRY_INFO!P57*DISTRICT!AO57,0))","v":8084},20488,0,{"$f":"MAX('MDA4'!R57,'T1'!L57,'T2'!J57,T3_R1!K57,T3_R2!K57)","v":0},{"$f":"MAX('MDA1'!K57,'MDA4'!S57,'MDA3'!I57,'MDA3'!L57,'T1'!M57,'T2'!K57,T3_R1!L57,T3_R2!L57)","v":0},{"$f":"MAX('MDA1'!L57,'MDA4'!T57,'MDA3'!J57,'MDA3'!M57,'T1'!N57,'T2'!L57,T3_R1!M57,T3_R2!M57)","v":0},0,{"$f":"MAX('MDA4'!R57,T57)","v":0},{"$f":"MAX('MDA1'!K57,'MDA4'!S57,'MDA3'!I57,'MDA3'!L57,V57,AD57)","v":0},{"$f":"MAX('MDA1'!L57,'MDA4'!T57,'MDA3'!J57,'MDA3'!M57,AF57)","v":0},0,0]
[{"$f":"IF(COUNTRY_INFO!A58=0,\" \",COUNTRY_INFO!A58)","v":"Chad"},{"$f":"IF(COUNTRY_INFO!B58=0,\" \",COUNTRY_INFO!B58)","v":"Lac"},{"$f":"IF(COUNTRY_INFO!C58=0,\" \",COUNTRY_INFO!C58)","v":"Liwa"},{"$f":"COUNTRY_INFO!M58","v":0},null,null,{"$f":"MAX('MDA1'!M58,'MDA4'!U58)","v":0},{"$f":"IF(AND(COUNTRY_INFO!H58>0,COUNTRY_INFO!H58<4),IF(D58>MAX('MDA1'!M58,'MDA4'!U58),MAX('MDA1'!M58,'MDA4'!U58),D58),0)","v":0},{"$f":"IF(AND(COUNTRY_INFO!H58>0,COUNTRY_INFO!H58<4), IF(G58/D58*100<>0, IF(G58/D58*100>100,100,G58/D58*100), \"-\"),0)","v":0},{"$f":"COUNTRY_INFO!N58","v":0},null,null,{"$f":"MAX('MDA1'!M58,MAX('MDA3'!I58,'MDA3'!L58)+MAX('MDA3'!J58,'MDA3'!M58))","v":0},{"$f":"IF(AND(COUNTRY_INFO!I58>0,COUNTRY_INFO!I58<4),IF(J58>MAX('MDA1'!M58,MAX('MDA3'!I58,'MDA3'!L58)+MAX('MDA3'!J58,'MDA3'!M58)),MAX('MDA1'!M58,MAX('MDA3'!I58,'MDA3'!L58)+MAX('MDA3'!J58,'MDA3'!M58)),J58),0)","v":0},{"$f":"IF(AND(COUNTRY_INFO!I58>0,COUNTRY_INFO!I58<4), IF(M58/J58*100<>0, IF(M58/J58*100>100,100,M58/J58*100), \"-\"),0)","v":0},{"$f":"COUNTRY_INFO!O58","v":0},null,null,{"$f":"SUM(MAX('MDA4'!R58, 'T1'!L58, MAX(T3_R1!K58, T3_R2!K58)), MAX('MDA1'!K58, 'MDA4'!S58, 'T1'!M58, MAX(T3_R1!L58, T3_R2!L58)), MAX('MDA1'!L58, 'MDA4'!T58, 'T1'!N58, MAX(T3_R1!M58, T3_R2!M58)))","v":0},{"$f":"IF(AND(COUNTRY_INFO!J58>1,COUNTRY_INFO!J58<4),IF(COUNTRY_INFO!E58>MAX('MDA4'!R58,'T1'!L58,MAX(T3_R1!K58,T3_R2!K58)),MAX('MDA4'!R58,'T1'!L58,MAX(T3_R1!K58,T3_R2!K58)),COUNTRY_INFO!E58),0)","v":0},{"$f":"IF(AND(COUNTRY_INFO!J58>1,COUNTRY_INFO!J58<4), IF(T58/COUNTRY_INFO!E58*100<>0, IF(T58/COUNTRY_INFO!E58*100>100,100,T58/COUNTRY_INFO!E58*100), \"-\"),0)","v":0},{"$f":"IF(AND(COUNTRY_INFO!J58>1,COUNTRY_INFO!J58<4),IF(COUNTRY_INFO!F58>MAX('MDA1'!K58,'MDA4'!S58,'T1'!M58,MAX(T3_R1!L58,T3_R2!L58)),MAX('MDA1'!K58,'MDA4'!S58,'T1'!M58,MAX(T3_R1!L58,T3_R2!L58)),COUNTRY_INFO!F58),0)","v":0},{"$f":"IF(AND(COUNTRY_INFO!J58>1,COUNTRY_INFO!J58<4), IF(V58/COUNTRY_INFO!F58*100<>0, IF(V58/COUNTRY_INFO!F58*100>100,100,V58/COUNTRY_INFO!F58*100), \"-\"),0)","v":0},0,{"$f":"IF(AND(COUNTRY_INFO!J58>1,COUNTRY_INFO!J58<4), IF(S58/P58*100<>0, IF(X58/P58*100>100,100,X58/P58*100), \"-\"),0)","v":0},{"$f":"COUNTRY_INFO!P58","v":6115.89},null,null,{"$f":"MAX('T1'!L58,'T2'!J58)+MAX('T1'!M58,'T2'!K58)+MAX('T1'!N58,'T2'!L58)","v":0},{"$f":"IF(COUNTRY_INFO!K58=1,IF(COUNTRY_INFO!F58*0.33>MAX('T1'!M58,'T2'!K58),MAX('T1'!M58,'T2'!K58),COUNTRY_INFO!F58*0.33),IF(COUNTRY_INFO!K58=2,IF(COUNTRY_INFO!F58*0.5>MAX('T1'!M58,'T2'!K58),MAX('T1'!M58,'T2'!K58),COUNTRY_INFO!F58*0.5),IF(COUNTRY_INFO!K58=3,IF(COUNTRY_INFO!F58>MAX('T1'!M58,'T2'!K58),MAX('T1'!M58,'T2'!K58),COUNTRY_INFO!F58),0)))","v":0},{"$f":"IF(AND(COUNTRY_INFO!K58>0,COUNTRY_INFO!K58<4),IF(Z58>0,IF(COUNTRY_INFO!K58=1, AD58/(COUNTRY_INFO!F58*0.33)*100, IF(COUNTRY_INFO!K58=2, AD58/(COUNTRY_INFO!F58*0.5)*100, IF(COUNTRY_INFO!K58=3, AD58/COUNTRY_INFO!F58*100))),\"-\"),0)","v":0},{"$f":"IF(COUNTRY_INFO!K58=2,IF(COUNTRY_INFO!G58*0.2>MAX('T1'!N58,'T2'!L58),MAX('T1'!N58,'T2'!L58),COUNTRY_INFO!G58*0.2),IF(COUNTRY_INFO!K58=3,IF(COUNTRY_INFO!G58>MAX('T1'!N58,'T2'!L58),MAX('T1'!N58,'T2'!L58),COUNTRY_INFO!G58),0))","v":0},{"$f":"IF(AND(COUNTRY_INFO!K58>0,COUNTRY_INFO!K58<4),IF(Z58>0,IF(COUNTRY_INFO!K58=1, 0, IF(COUNTRY_INFO!K58=2, AF58/(COUNTRY_INFO!G58*0.2)*100, IF(COUNTRY_INFO!K58=3, AF58/COUNTRY_INFO!G58*100))),\"-\"),0)","v":0},0,{"$f":"IF(AND(COUNTRY_INFO!K58>0,COUNTRY_INFO!K58<4), IF(AC58/Z58*100<>0, IF(AH58/Z58*100>100,100,AH58/Z58*100), \"-\"),0)","v":"-"},null,{"$f":"IF(AND(D58<>0, D58<>\"Inconnu\",D58<>\"Interrompu\",D58<>\"Non requis\"),D58/COUNTRY_INFO!D58, 0)","v":0},{"$f":"IF(AND(J58<>0,J58<>\"Inconnu\",J58<>\"Interrompu\",J58<>\"Non requis\"),J58/COUNTRY_INFO!D58, 0)","v":0},{"$f":"IF(AND(P58<>0,P58<>\"Inconnu\",P58<>\"Non requis\"),P58/(COUNTRY_INFO!E58+COUNTRY_INFO!F58), 0)","v":0},{"$f":"IF(AND(Z58<>0,Z58<>\"Inconnu\",Z58<>\"Non requis\"),IF(COUNTRY_INFO!K58=1,1,IF(COUNTRY_INFO!K58=2,0.5*COUNTRY_INFO!F58/(0.5*COUNTRY_INFO!F58+0.2*COUNTRY_INFO!G58),IF(COUNTRY_INFO!K58=3,COUNTRY_INFO!F58/(COUNTRY_INFO!F58+COUNTRY_INFO!G58)))),0)","v":1},{"$f":"IF(AND(Z58<>0,Z58<>\"Inconnu\",Z58<>\"Non requis\"),IF(COUNTRY_INFO!K58=1,0,IF(COUNTRY_INFO!K58=2,0.2*COUNTRY_INFO!G58/(0.5*COUNTRY_INFO!F58+0.2*COUNTRY_INFO!G58),IF(COUNTRY_INFO!K58=3,COUNTRY_INFO!G58/(COUNTRY_INFO!F58+COUNTRY_INFO!G58)))),0)","v":0},{"$f":"MAX(COUNTRY_INFO!D58*AK58*PROFILE!$G$7,COUNTRY_INFO!D58*AL58*PROFILE!$G$7)","v":0},{"$f":"MAX(COUNTRY_INFO!D58*AK58*PROFILE!$G$8,COUNTRY_INFO!D58*AL58*PROFILE!$G$8,COUNTRY_INFO!D58*AM58*PROFILE!$G$8)","v":0},{"$f":"MAX(COUNTRY_INFO!D58*AK58*PROFILE!$G$9,COUNTRY_INFO!D58*AL58*PROFILE!$G$9,COUNTRY_INFO!D58*AM58*PROFILE!$G$9,IF(AND(DISTRICT!Z58<>\"Inconnu\",Z58<>\"Non requis\"),COUNTRY_INFO!P58*DISTRICT!AN58,0))","v":6115.89},{"$f":"MAX(COUNTRY_INFO!D58*AK58*PROFILE!$G$10,COUNTRY_INFO!D58*AL58*PROFILE!$G$10,IF(AND(DISTRICT!Z58<>\"Inconnu\",Z58<>\"Non requis\"),COUNTRY_INFO!P58*DISTRICT!AO58,0))","v":0},6115.89,0,{"$f":"MAX('MDA4'!R58,'T1'!L58,'T2'!J58,T3_R1!K58,T3_R2!K58)","v":0},{"$f":"MAX('MDA1'!K58,'MDA4'!S58,'MDA3'!I58,'MDA3'!L58,'T1'!M58,'T2'!K58,T3_R1!L58,T3_R2!L58)","v":0},{"$f":"MAX('MDA1'!L58,'MDA4'!T58,'MDA3'!J58,'MDA3'!M58,'T1'!N58,'T2'!L58,T3_R1!M58,T3_R2!M58)","v":0},0,{"$f":"MAX('MDA4'!R58,T58)","v":0},{"$f":"MAX('MDA1'!K58,'MDA4'!S58,'MDA3'!I58,'MDA3'!L58,V58,AD58)","v":0},{"$f":"MAX('MDA1'!L58,'MDA4'!T58,'MDA3'!J58,'MDA3'!M58,AF58)","v":0},0,0]
[{"$f":"IF(COUNTRY_INFO!A59=0,\" \",COUNTRY_INFO!A59)","v":"Chad"},{"$f":"IF(COUNTRY_INFO!B59=0,\" \",COUNTRY_INFO!B59)","v":"Lac"},{"$f":"IF(COUNTRY_INFO!C59=0,\" \",COUNTRY_INFO!C59)","v":"Ngouri"},{"$f":"COUNTRY_INFO!M59","v":0},null,null,{"$f":"MAX('MDA1'!M59,'MDA4'!U59)","v":0},{"$f":"IF(AND(COUNTRY_INFO!H59>0,COUNTRY_INFO!H59<4),IF(D59>MAX('MDA1'!M59,'MDA4'!U59),MAX('MDA1'!M59,'MDA4'!U59),D59),0)","v":0},{"$f":"IF(AND(COUNTRY_INFO!H59>0,COUNTRY_INFO!H59<4), IF(G59/D59*100<>0, IF(G59/D59*100>100,100,G59/D59*100), \"-\"),0)","v":0},{"$f":"COUNTRY_INFO!N59","v":0},null,null,{"$f":"MAX('MDA1'!M59,MAX('MDA3'!I59,'MDA3'!L59)+MAX('MDA3'!J59,'MDA3'!M59))","v":0},{"$f":"IF(AND(COUNTRY_INFO!I59>0,COUNTRY_INFO!I59<4),IF(J59>MAX('MDA1'!M59,MAX('MDA3'!I59,'MDA3'!L59)+MAX('MDA3'!J59,'MDA3'!M59)),MAX('MDA1'!M59,MAX('MDA3'!I59,'MDA3'!L59)+MAX('MDA3'!J59,'MDA3'!M59)),J59),0)","v":0},{"$f":"IF(AND(COUNTRY_INFO!I59>0,COUNTRY_INFO!I59<4), IF(M59/J59*100<>0, IF(M59/J59*100>100,100,M59/J59*100), \"-\"),0)","v":0},{"$f":"COUNTRY_INFO!O59","v":0},null,null,{"$f":"SUM(MAX('MDA4'!R59, 'T1'!L59, MAX(T3_R1!K59, T3_R2!K59)), MAX('MDA1'!K59, 'MDA4'!S59, 'T1'!M59, MAX(T3_R1!L59, T3_R2!L59)), MAX('MDA1'!L59, 'MDA4'!T59, 'T1'!N59, MAX(T3_R1!M59, T3_R2!M59)))","v":0},{"$f":"IF(AND(COUNTRY_INFO!J59>1,COUNTRY_INFO!J59<4),IF(COUNTRY_INFO!E59>MAX('MDA4'!R59,'T1'!L59,MAX(T3_R1!K59,T3_R2!K59)),MAX('MDA4'!R59,'T1'!L59,MAX(T3_R1!K59,T3_R2!K59)),COUNTRY_INFO!E59),0)","v":0},{"$f":"IF(AND(COUNTRY_INFO!J59>1,COUNTRY_INFO!J59<4), IF(T59/COUNTRY_INFO!E59*100<>0, IF(T59/COUNTRY_INFO!E59*100>100,100,T59/COUNTRY_INFO!E59*100), \"-\"),0)","v":0},{"$f":"IF(AND(COUNTRY_INFO!J59>1,COUNTRY_INFO!J59<4),IF(COUNTRY_INFO!F59>MAX('MDA1'!K59,'MDA4'!S59,'T1'!M59,MAX(T3_R1!L59,T3_R2!L59)),MAX('MDA1'!K59,'MDA4'!S59,'T1'!M59,MAX(T3_R1!L59,T3_R2!L59)),COUNTRY_INFO!F59),0)","v":0},{"$f":"IF(AND(COUNTRY_INFO!J59>1,COUNTRY_INFO!J59<4), IF(V59/COUNTRY_INFO!F59*100<>0, IF(V59/COUNTRY_INFO!F59*100>100,100,V59/COUNTRY_INFO!F59*100), \"-\"),0)","v":0},0,{"$f":"IF(AND(COUNTRY_INFO!J59>1,COUNTRY_INFO!J59<4), IF(S59/P59*100<>0, IF(X59/P59*100>100,100,X59/P59*100), \"-\"),0)","v":0},{"$f":"COUNTRY_INFO!P59","v":18217.32},null,null,{"$f":"MAX('T1'!L59,'T2'!J59)+MAX('T1'!M59,'T2'!K59)+MAX('T1'!N59,'T2'!L59)","v":0},{"$f":"IF(COUNTRY_INFO!K59=1,IF(COUNTRY_INFO!F59*0.33>MAX('T1'!M59,'T2'!K59),MAX('T1'!M59,'T2'!K59),COUNTRY_INFO!F59*0.33),IF(COUNTRY_INFO!K59=2,IF(COUNTRY_INFO!F59*0.5>MAX('T1'!M59,'T2'!K59),MAX('T1'!M59,'T2'!K59),COUNTRY_INFO!F59*0.5),IF(COUNTRY_INFO!K59=3,IF(COUNTRY_INFO!F59>MAX('T1'!M59,'T2'!K59),MAX('T1'!M59,'T2'!K59),COUNTRY_INFO!F59),0)))","v":0},{"$f":"IF(AND(COUNTRY_INFO!K59>0,COUNTRY_INFO!K59<4),IF(Z59>0,IF(COUNTRY_INFO!K59=1, AD59/(COUNTRY_INFO!F59*0.33)*100, IF(COUNTRY_INFO!K59=2, AD59/(COUNTRY_INFO!F59*0.5)*100, IF(COUNTRY_INFO!K59=3, AD59/COUNTRY_INFO!F59*100))),\"-\"),0)","v":0},{"$f":"IF(COUNTRY_INFO!K59=2,IF(COUNTRY_INFO!G59*0.2>MAX('T1'!N59,'T2'!L59),MAX('T1'!N59,'T2'!L59),COUNTRY_INFO!G59*0.2),IF(COUNTRY_INFO!K59=3,IF(COUNTRY_INFO!G59>MAX('T1'!N59,'T2'!L59),MAX('T1'!N59,'T2'!L59),COUNTRY_INFO!G59),0))","v":0},{"$f":"IF(AND(COUNTRY_INFO!K59>0,COUNTRY_INFO!K59<4),IF(Z59>0,IF(COUNTRY_INFO!K59=1, 0, IF(COUNTRY_INFO!K59=2, AF59/(COUNTRY_INFO!G59*0.2)*100, IF(COUNTRY_INFO!K59=3, AF59/COUNTRY_INFO!G59*100))),\"-\"),0)","v":0},0,{"$f":"IF(AND(COUNTRY_INFO!K59>0,COUNTRY_INFO!K59<4), IF(AC59/Z59*100<>0, IF(AH59/Z59*100>100,100,AH59/Z59*100), \"-\"),0)","v":"-"},null,{"$f":"IF(AND(D59<>0, D59<>\"Inconnu\",D59<>\"Interrompu\",D59<>\"Non requis\"),D59/COUNTRY_INFO!D59, 0)","v":0},{"$f":"IF(AND(J59<>0,J59<>\"Inconnu\",J59<>\"Interrompu\",J59<>\"Non requis\"),J59/COUNTRY_INFO!D59, 0)","v":0},{"$f":"IF(AND(P59<>0,P59<>\"Inconnu\",P59<>\"Non requis\"),P59/(COUNTRY_INFO!E59+COUNTRY_INFO!F59), 0)","v":0},{"$f":"IF(AND(Z59<>0,Z59<>\"Inconnu\",Z59<>\"Non requis\"),IF(COUNTRY_INFO!K59=1,1,IF(COUNTRY_INFO!K59=2,0.5*COUNTRY_INFO!F59/(0.5*COUNTRY_INFO!F59+0.2*COUNTRY_INFO!G59),IF(COUNTRY_INFO!K59=3,COUNTRY_INFO!F59/(COUNTRY_INFO!F59+COUNTRY_INFO!G59)))),0)","v":1},{"$f":"IF(AND(Z59<>0,Z59<>\"Inconnu\",Z59<>\"Non requis\"),IF(COUNTRY_INFO!K59=1,0,IF(COUNTRY_INFO!K59=2,0.2*COUNTRY_INFO!G59/(0.5*COUNTRY_INFO!F59+0.2*COUNTRY_INFO!G59),IF(COUNTRY_INFO!K59=3,COUNTRY_INFO!G59/(COUNTRY_INFO!F59+COUNTRY_INFO!G59)))),0)","v":0},{"$f":"MAX(COUNTRY_INFO!D59*AK59*PROFILE!$G$7,COUNTRY_INFO!D59*AL59*PROFILE!$G$7)","v":0},{"$f":"MAX(COUNTRY_INFO!D59*AK59*PROFILE!$G$8,COUNTRY_INFO!D59*AL59*PROFILE!$G$8,COUNTRY_INFO!D59*AM59*PROFILE!$G$8)","v":0},{"$f":"MAX(COUNTRY_INFO!D59*AK59*PROFILE!$G$9,COUNTRY_INFO!D59*AL59*PROFILE!$G$9,COUNTRY_INFO!D59*AM59*PROFILE!$G$9,IF(AND(DISTRICT!Z59<>\"Inconnu\",Z59<>\"Non requis\"),COUNTRY_INFO!P59*DISTRICT!AN59,0))","v":18217.32},{"$f":"MAX(COUNTRY_INFO!D59*AK59*PROFILE!$G$10,COUNTRY_INFO!D59*AL59*PROFILE!$G$10,IF(AND(DISTRICT!Z59<>\"Inconnu\",Z59<>\"Non requis\"),COUNTRY_INFO!P59*DISTRICT!AO59,0))","v":0},18217.32,0,{"$f":"MAX('MDA4'!R59,'T1'!L59,'T2'!J59,T3_R1!K59,T3_R2!K59)","v":0},{"$f":"MAX('MDA1'!K59,'MDA4'!S59,'MDA3'!I59,'MDA3'!L59,'T1'!M59,'T2'!K59,T3_R1!L59,T3_R2!L59)","v":0},{"$f":"MAX('MDA1'!L59,'MDA4'!T59,'MDA3'!J59,'MDA3'!M59,'T1'!N59,'T2'!L59,T3_R1!M59,T3_R2!M59)","v":0},0,{"$f":"MAX('MDA4'!R59,T59)","v":0},{"$f":"MAX('MDA1'!K59,'MDA4'!S59,'MDA3'!I59,'MDA3'!L59,V59,AD59)","v":0},{"$f":"MAX('MDA1'!L59,'MDA4'!T59,'MDA3'!J59,'MDA3'!M59,AF59)","v":0},0,0]
[{"$f":"IF(COUNTRY_INFO!A60=0,\" \",COUNTRY_INFO!A60)","v":"Chad"},{"$f":"IF(COUNTRY_INFO!B60=0,\" \",COUNTRY_INFO!B60)","v":"Logone Occidental"},{"$f":"IF(COUNTRY_INFO!C60=0,\" \",COUNTRY_INFO!C60)","v":"Benamar"},{"$f":"COUNTRY_INFO!M60","v":141400},null,null,{"$f":"MAX('MDA1'!M60,'MDA4'!U60)","v":110741},{"$f":"IF(AND(COUNTRY_INFO!H60>0,COUNTRY_INFO!H60<4),IF(D60>MAX('MDA1'!M60,'MDA4'!U60),MAX('MDA1'!M60,'MDA4'!U60),D60),0)","v":110741},{"$f":"IF(AND(COUNTRY_INFO!H60>0,COUNTRY_INFO!H60<4), IF(G60/D60*100<>0, IF(G60/D60*100>100,100,G60/D60*100), \"-\"),0)","v":78.317538896746825},{"$f":"COUNTRY_INFO!N60","v":141400},null,null,{"$f":"MAX('MDA1'!M60,MAX('MDA3'!I60,'MDA3'!L60)+MAX('MDA3'!J60,'MDA3'!M60))","v":110741},{"$f":"IF(AND(COUNTRY_INFO!I60>0,COUNTRY_INFO!I60<4),IF(J60>MAX('MDA1'!M60,MAX('MDA3'!I60,'MDA3'!L60)+MAX('MDA3'!J60,'MDA3'!M60)),MAX('MDA1'!M60,MAX('MDA3'!I60,'MDA3'!L60)+MAX('MDA3'!J60,'MDA3'!M60)),J60),0)","v":110741},{"$f":"IF(AND(COUNTRY_INFO!I60>0,COUNTRY_INFO!I60<4), IF(M60/J60*100<>0, IF(M60/J60*100>100,100,M60/J60*100), \"-\"),0)","v":78.317538896746825},{"$f":"COUNTRY_INFO!O60","v":0},null,null,{"$f":"SUM(MAX('MDA4'!R60, 'T1'!L60, MAX(T3_R1!K60, T3_R2!K60)), MAX('MDA1'!K60, 'MDA4'!S60, 'T1'!M60, MAX(T3_R1!L60, T3_R2!L60)), MAX('MDA1'!L60, 'MDA4'!T60, 'T1'!N60, MAX(T3_R1!M60, T3_R2!M60)))","v":110741},{"$f":"IF(AND(COUNTRY_INFO!J60>1,COUNTRY_INFO!J60<4),IF(COUNTRY_INFO!E60>MAX('MDA4'!R60,'T1'!L60,MAX(T3_R1!K60,T3_R2!K60)),MAX('MDA4'!R60,'T1'!L60,MAX(T3_R1!K60,T3_R2!K60)),COUNTRY_INFO!E60),0)","v":0},{"$f":"IF(AND(COUNTRY_INFO!J60>1,COUNTRY_INFO!J60<4), IF(T60/COUNTRY_INFO!E60*100<>0, IF(T60/COUNTRY_INFO!E60*100>100,100,T60/COUNTRY_INFO!E60*100), \"-\"),0)","v":0},{"$f":"IF(AND(COUNTRY_INFO!J60>1,COUNTRY_INFO!J60<4),IF(COUNTRY_INFO!F60>MAX('MDA1'!K60,'MDA4'!S60,'T1'!M60,MAX(T3_R1!L60,T3_R2!L60)),MAX('MDA1'!K60,'MDA4'!S60,'T1'!M60,MAX(T3_R1!L60,T3_R2!L60)),COUNTRY_INFO!F60),0)","v":0},{"$f":"IF(AND(COUNTRY_INFO!J60>1,COUNTRY_INFO!J60<4), IF(V60/COUNTRY_INFO!F60*100<>0, IF(V60/COUNTRY_INFO!F60*100>100,100,V60/COUNTRY_INFO!F60*100), \"-\"),0)","v":0},0,{"$f":"IF(AND(COUNTRY_INFO!J60>1,COUNTRY_INFO!J60<4), IF(S60/P60*100<>0, IF(X60/P60*100>100,100,X60/P60*100), \"-\"),0)","v":0},{"$f":"COUNTRY_INFO!P60","v":35441.9},null,null,{"$f":"MAX('T1'!L60,'T2'!J60)+MAX('T1'!M60,'T2'!K60)+MAX('T1'!N60,'T2'!L60)","v":40312},{"$f":"IF(COUNTRY_INFO!K60=1,IF(COUNTRY_INFO!F60*0.33>MAX('T1'!M60,'T2'!K60),MAX('T1'!M60,'T2'!K60),COUNTRY_INFO!F60*0.33),IF(COUNTRY_INFO!K60=2,IF(COUNTRY_INFO!F60*0.5>MAX('T1'!M60,'T2'!K60),MAX('T1'!M60,'T2'!K60),COUNTRY_INFO!F60*0.5),IF(COUNTRY_INFO!K60=3,IF(COUNTRY_INFO!F60>MAX('T1'!M60,'T2'!K60),MAX('T1'!M60,'T2'!K60),COUNTRY_INFO!F60),0)))","v":21457.5},{"$f":"IF(AND(COUNTRY_INFO!K60>0,COUNTRY_INFO!K60<4),IF(Z60>0,IF(COUNTRY_INFO!K60=1, AD60/(COUNTRY_INFO!F60*0.33)*100, IF(COUNTRY_INFO!K60=2, AD60/(COUNTRY_INFO!F60*0.5)*100, IF(COUNTRY_INFO!K60=3, AD60/COUNTRY_INFO!F60*100))),\"-\"),0)","v":100},{"$f":"IF(COUNTRY_INFO!K60=2,IF(COUNTRY_INFO!G60*0.2>MAX('T1'!N60,'T2'!L60),MAX('T1'!N60,'T2'!L60),COUNTRY_INFO!G60*0.2),IF(COUNTRY_INFO!K60=3,IF(COUNTRY_INFO!G60>MAX('T1'!N60,'T2'!L60),MAX('T1'!N60,'T2'!L60),COUNTRY_INFO!G60),0))","v":0},{"$f":"IF(AND(COUNTRY_INFO!K60>0,COUNTRY_INFO!K60<4),IF(Z60>0,IF(COUNTRY_INFO!K60=1, 0, IF(COUNTRY_INFO!K60=2, AF60/(COUNTRY_INFO!G60*0.2)*100, IF(COUNTRY_INFO!K60=3, AF60/COUNTRY_INFO!G60*100))),\"-\"),0)","v":0},21457.5,{"$f":"IF(AND(COUNTRY_INFO!K60>0,COUNTRY_INFO!K60<4), IF(AC60/Z60*100<>0, IF(AH60/Z60*100>100,100,AH60/Z60*100), \"-\"),0)","v":60.542747426069141},null,{"$f":"IF(AND(D60<>0, D60<>\"Inconnu\",D60<>\"Interrompu\",D60<>\"Non requis\"),D60/COUNTRY_INFO!D60, 0)","v":1},{"$f":"IF(AND(J60<>0,J60<>\"Inconnu\",J60<>\"Interrompu\",J60<>\"Non requis\"),J60/COUNTRY_INFO!D60, 0)","v":1},{"$f":"IF(AND(P60<>0,P60<>\"Inconnu\",P60<>\"Non requis\"),P60/(COUNTRY_INFO!E60+COUNTRY_INFO!F60), 0)","v":0},{"$f":"IF(AND(Z60<>0,Z60<>\"Inconnu\",Z60<>\"Non requis\"),IF(COUNTRY_INFO!K60=1,1,IF(COUNTRY_INFO!K60=2,0.5*COUNTRY_INFO!F60/(0.5*COUNTRY_INFO!F60+0.2*COUNTRY_INFO!G60),IF(COUNTRY_INFO!K60=3,COUNTRY_INFO!F60/(COUNTRY_INFO!F60+COUNTRY_INFO!G60)))),0)","v":0.60542747426069143},{"$f":"IF(AND(Z60<>0,Z60<>\"Inconnu\",Z60<>\"Non requis\"),IF(COUNTRY_INFO!K60=1,0,IF(COUNTRY_INFO!K60=2,0.2*COUNTRY_INFO!G60/(0.5*COUNTRY_INFO!F60+0.2*COUNTRY_INFO!G60),IF(COUNTRY_INFO!K60=3,COUNTRY_INFO!G60/(COUNTRY_INFO!F60+COUNTRY_INFO!G60)))),0)","v":0.39457252573930857},{"$f":"MAX(COUNTRY_INFO!D60*AK60*PROFILE!$G$7,COUNTRY_INFO!D60*AL60*PROFILE!$G$7)","v":5231.7925767440884},{"$f":"MAX(COUNTRY_INFO!D60*AK60*PROFILE!$G$8,COUNTRY_INFO!D60*AL60*PROFILE!$G$8,COUNTRY_INFO!D60*AM60*PROFILE!$G$8)","v":23331.0504732831},{"$f":"MAX(COUNTRY_INFO!D60*AK60*PROFILE!$G$9,COUNTRY_INFO!D60*AL60*PROFILE!$G$9,COUNTRY_INFO!D60*AM60*PROFILE!$G$9,IF(AND(DISTRICT!Z60<>\"Inconnu\",Z60<>\"Non requis\"),COUNTRY_INFO!P60*DISTRICT!AN60,0))","v":42914.862410153961},{"$f":"MAX(COUNTRY_INFO!D60*AK60*PROFILE!$G$10,COUNTRY_INFO!D60*AL60*PROFILE!$G$10,IF(AND(DISTRICT!Z60<>\"Inconnu\",Z60<>\"Non requis\"),COUNTRY_INFO!P60*DISTRICT!AO60,0))","v":69922.29453981886},141400,"Y",{"$f":"MAX('MDA4'!R60,'T1'!L60,'T2'!J60,T3_R1!K60,T3_R2!K60)","v":0},{"$f":"MAX('MDA1'!K60,'MDA4'!S60,'MDA3'!I60,'MDA3'!L60,'T1'!M60,'T2'!K60,T3_R1!L60,T3_R2!L60)","v":41927},{"$f":"MAX('MDA1'!L60,'MDA4'!T60,'MDA3'!J60,'MDA3'!M60,'T1'!N60,'T2'!L60,T3_R1!M60,T3_R2!M60)","v":68814},110741,{"$f":"MAX('MDA4'!R60,T60)","v":0},{"$f":"MAX('MDA1'!K60,'MDA4'!S60,'MDA3'!I60,'MDA3'!L60,V60,AD60)","v":41927},{"$f":"MAX('MDA1'!L60,'MDA4'!T60,'MDA3'!J60,'MDA3'!M60,AF60)","v":68814},110741,78.317538896746825]
[{"$f":"IF(COUNTRY_INFO!A61=0,\" \",COUNTRY_INFO!A61)","v":"Chad"},{"$f":"IF(COUNTRY_INFO!B61=0,\" \",COUNTRY_INFO!B61)","v":"Logone Occidental"},{"$f":"IF(COUNTRY_INFO!C61=0,\" \",COUNTRY_INFO!C61)","v":"Benoye"},{"$f":"COUNTRY_INFO!M61","v":257775},null,null,{"$f":"MAX('MDA1'!M61,'MDA4'!U61)","v":204682},{"$f":"IF(AND(COUNTRY_INFO!H61>0,COUNTRY_INFO!H61<4),IF(D61>MAX('MDA1'!M61,'MDA4'!U61),MAX('MDA1'!M61,'MDA4'!U61),D61),0)","v":204682},{"$f":"IF(AND(COUNTRY_INFO!H61>0,COUNTRY_INFO!H61<4), IF(G61/D61*100<>0, IF(G61/D61*100>100,100,G61/D61*100), \"-\"),0)","v":79.403355639608179},{"$f":"COUNTRY_INFO!N61","v":0},null,null,{"$f":"MAX('MDA1'!M61,MAX('MDA3'!I61,'MDA3'!L61)+MAX('MDA3'!J61,'MDA3'!M61))","v":204682},{"$f":"IF(AND(COUNTRY_INFO!I61>0,COUNTRY_INFO!I61<4),IF(J61>MAX('MDA1'!M61,MAX('MDA3'!I61,'MDA3'!L61)+MAX('MDA3'!J61,'MDA3'!M61)),MAX('MDA1'!M61,MAX('MDA3'!I61,'MDA3'!L61)+MAX('MDA3'!J61,'MDA3'!M61)),J61),0)","v":0},{"$f":"IF(AND(COUNTRY_INFO!I61>0,COUNTRY_INFO!I61<4), IF(M61/J61*100<>0, IF(M61/J61*100>100,100,M61/J61*100), \"-\"),0)","v":0},{"$f":"COUNTRY_INFO!O61","v":0},null,null,{"$f":"SUM(MAX('MDA4'!R61, 'T1'!L61, MAX(T3_R1!K61, T3_R2!K61)), MAX('MDA1'!K61, 'MDA4'!S61, 'T1'!M61, MAX(T3_R1!L61, T3_R2!L61)), MAX('MDA1'!L61, 'MDA4'!T61, 'T1'!N61, MAX(T3_R1!M61, T3_R2!M61)))","v":204682},{"$f":"IF(AND(COUNTRY_INFO!J61>1,COUNTRY_INFO!J61<4),IF(COUNTRY_INFO!E61>MAX('MDA4'!R61,'T1'!L61,MAX(T3_R1!K61,T3_R2!K61)),MAX('MDA4'!R61,'T1'!L61,MAX(T3_R1!K61,T3_R2!K61)),COUNTRY_INFO!E61),0)","v":0},{"$f":"IF(AND(COUNTRY_INFO!J61>1,COUNTRY_INFO!J61<4), IF(T61/COUNTRY_INFO!E61*100<>0, IF(T61/COUNTRY_INFO!E61*100>100,100,T61/COUNTRY_INFO!E61*100), \"-\"),0)","v":0},{"$f":"IF(AND(COUNTRY_INFO!J61>1,COUNTRY_INFO!J61<4),IF(COUNTRY_INFO!F61>MAX('MDA1'!K61,'MDA4'!S61,'T1'!M61,MAX(T3_R1!L61,T3_R2!L61)),MAX('MDA1'!K61,'MDA4'!S61,'T1'!M61,MAX(T3_R1!L61,T3_R2!L61)),COUNTRY_INFO!F61),0)","v":0},{"$f":"IF(AND(COUNTRY_INFO!J61>1,COUNTRY_INFO!J61<4), IF(V61/COUNTRY_INFO!F61*100<>0, IF(V61/COUNTRY_INFO!F61*100>100,100,V61/COUNTRY_INFO!F61*100), \"-\"),0)","v":0},0,{"$f":"IF(AND(COUNTRY_INFO!J61>1,COUNTRY_INFO!J61<4), IF(S61/P61*100<>0, IF(X61/P61*100>100,100,X61/P61*100), \"-\"),0)","v":0},{"$f":"COUNTRY_INFO!P61","v":64611.5},null,null,{"$f":"MAX('T1'!L61,'T2'!J61)+MAX('T1'!M61,'T2'!K61)+MAX('T1'!N61,'T2'!L61)","v":74322},{"$f":"IF(COUNTRY_INFO!K61=1,IF(COUNTRY_INFO!F61*0.33>MAX('T1'!M61,'T2'!K61),MAX('T1'!M61,'T2'!K61),COUNTRY_INFO!F61*0.33),IF(COUNTRY_INFO!K61=2,IF(COUNTRY_INFO!F61*0.5>MAX('T1'!M61,'T2'!K61),MAX('T1'!M61,'T2'!K61),COUNTRY_INFO!F61*0.5),IF(COUNTRY_INFO!K61=3,IF(COUNTRY_INFO!F61>MAX('T1'!M61,'T2'!K61),MAX('T1'!M61,'T2'!K61),COUNTRY_INFO!F61),0)))","v":39117.5},{"$f":"IF(AND(COUNTRY_INFO!K61>0,COUNTRY_INFO!K61<4),IF(Z61>0,IF(COUNTRY_INFO!K61=1, AD61/(COUNTRY_INFO!F61*0.33)*100, IF(COUNTRY_INFO!K61=2, AD61/(COUNTRY_INFO!F61*0.5)*100, IF(COUNTRY_INFO!K61=3, AD61/COUNTRY_INFO!F61*100))),\"-\"),0)","v":100},{"$f":"IF(COUNTRY_INFO!K61=2,IF(COUNTRY_INFO!G61*0.2>MAX('T1'!N61,'T2'!L61),MAX('T1'!N61,'T2'!L61),COUNTRY_INFO!G61*0.2),IF(COUNTRY_INFO!K61=3,IF(COUNTRY_INFO!G61>MAX('T1'!N61,'T2'!L61),MAX('T1'!N61,'T2'!L61),COUNTRY_INFO!G61),0))","v":0},{"$f":"IF(AND(COUNTRY_INFO!K61>0,COUNTRY_INFO!K61<4),IF(Z61>0,IF(COUNTRY_INFO!K61=1, 0, IF(COUNTRY_INFO!K61=2, AF61/(COUNTRY_INFO!G61*0.2)*100, IF(COUNTRY_INFO!K61=3, AF61/COUNTRY_INFO!G61*100))),\"-\"),0)","v":0},39117.5,{"$f":"IF(AND(COUNTRY_INFO!K61>0,COUNTRY_INFO!K61<4), IF(AC61/Z61*100<>0, IF(AH61/Z61*100>100,100,AH61/Z61*100), \"-\"),0)","v":60.542627860365414},null,{"$f":"IF(AND(D61<>0, D61<>\"Inconnu\",D61<>\"Interrompu\",D61<>\"Non requis\"),D61/COUNTRY_INFO!D61, 0)","v":1},{"$f":"IF(AND(J61<>0,J61<>\"Inconnu\",J61<>\"Interrompu\",J61<>\"Non requis\"),J61/COUNTRY_INFO!D61, 0)","v":0},{"$f":"IF(AND(P61<>0,P61<>\"Inconnu\",P61<>\"Non requis\"),P61/(COUNTRY_INFO!E61+COUNTRY_INFO!F61), 0)","v":0},{"$f":"IF(AND(Z61<>0,Z61<>\"Inconnu\",Z61<>\"Non requis\"),IF(COUNTRY_INFO!K61=1,1,IF(COUNTRY_INFO!K61=2,0.5*COUNTRY_INFO!F61/(0.5*COUNTRY_INFO!F61+0.2*COUNTRY_INFO!G61),IF(COUNTRY_INFO!K61=3,COUNTRY_INFO!F61/(COUNTRY_INFO!F61+COUNTRY_INFO!G61)))),0)","v":0.60542627860365417},{"$f":"IF(AND(Z61<>0,Z61<>\"Inconnu\",Z61<>\"Non requis\"),IF(COUNTRY_INFO!K61=1,0,IF(COUNTRY_INFO!K61=2,0.2*COUNTRY_INFO!G61/(0.5*COUNTRY_INFO!F61+0.2*COUNTRY_INFO!G61),IF(COUNTRY_INFO!K61=3,COUNTRY_INFO!G61/(COUNTRY_INFO!F61+COUNTRY_INFO!G61)))),0)","v":0.39457372139634583},{"$f":"MAX(COUNTRY_INFO!D61*AK61*PROFILE!$G$7,COUNTRY_INFO!D61*AL61*PROFILE!$G$7)","v":9537.6614672574779},{"$f":"MAX(COUNTRY_INFO!D61*AK61*PROFILE!$G$8,COUNTRY_INFO!D61*AL61*PROFILE!$G$8,COUNTRY_INFO!D61*AM61*PROFILE!$G$8)","v":42532.967013794565},{"$f":"MAX(COUNTRY_INFO!D61*AK61*PROFILE!$G$9,COUNTRY_INFO!D61*AL61*PROFILE!$G$9,COUNTRY_INFO!D61*AM61*PROFILE!$G$9,IF(AND(DISTRICT!Z61<>\"Inconnu\",Z61<>\"Non requis\"),COUNTRY_INFO!P61*DISTRICT!AN61,0))","v":78234.643972966311},{"$f":"MAX(COUNTRY_INFO!D61*AK61*PROFILE!$G$10,COUNTRY_INFO!D61*AL61*PROFILE!$G$10,IF(AND(DISTRICT!Z61<>\"Inconnu\",Z61<>\"Non requis\"),COUNTRY_INFO!P61*DISTRICT!AO61,0))","v":127469.72754598164},257775,"Y",{"$f":"MAX('MDA4'!R61,'T1'!L61,'T2'!J61,T3_R1!K61,T3_R2!K61)","v":0},{"$f":"MAX('MDA1'!K61,'MDA4'!S61,'MDA3'!I61,'MDA3'!L61,'T1'!M61,'T2'!K61,T3_R1!L61,T3_R2!L61)","v":78235},{"$f":"MAX('MDA1'!L61,'MDA4'!T61,'MDA3'!J61,'MDA3'!M61,'T1'!N61,'T2'!L61,T3_R1!M61,T3_R2!M61)","v":126447},204682,{"$f":"MAX('MDA4'!R61,T61)","v":0},{"$f":"MAX('MDA1'!K61,'MDA4'!S61,'MDA3'!I61,'MDA3'!L61,V61,AD61)","v":78235},{"$f":"MAX('MDA1'!L61,'MDA4'!T61,'MDA3'!J61,'MDA3'!M61,AF61)","v":126447},204682,79.403355639608179]
[{"$f":"IF(COUNTRY_INFO!A62=0,\" \",COUNTRY_INFO!A62)","v":"Chad"},{"$f":"IF(COUNTRY_INFO!B62=0,\" \",COUNTRY_INFO!B62)","v":"Logone Occidental"},{"$f":"IF(COUNTRY_INFO!C62=0,\" \",COUNTRY_INFO!C62)","v":"Laokassy"},{"$f":"COUNTRY_INFO!M62","v":204860},null,null,{"$f":"MAX('MDA1'!M62,'MDA4'!U62)","v":155678},{"$f":"IF(AND(COUNTRY_INFO!H62>0,COUNTRY_INFO!H62<4),IF(D62>MAX('MDA1'!M62,'MDA4'!U62),MAX('MDA1'!M62,'MDA4'!U62),D62),0)","v":155678},{"$f":"IF(AND(COUNTRY_INFO!H62>0,COUNTRY_INFO!H62<4), IF(G62/D62*100<>0, IF(G62/D62*100>100,100,G62/D62*100), \"-\"),0)","v":75.992385043444301},{"$f":"COUNTRY_INFO!N62","v":204860},null,null,{"$f":"MAX('MDA1'!M62,MAX('MDA3'!I62,'MDA3'!L62)+MAX('MDA3'!J62,'MDA3'!M62))","v":155678},{"$f":"IF(AND(COUNTRY_INFO!I62>0,COUNTRY_INFO!I62<4),IF(J62>MAX('MDA1'!M62,MAX('MDA3'!I62,'MDA3'!L62)+MAX('MDA3'!J62,'MDA3'!M62)),MAX('MDA1'!M62,MAX('MDA3'!I62,'MDA3'!L62)+MAX('MDA3'!J62,'MDA3'!M62)),J62),0)","v":155678},{"$f":"IF(AND(COUNTRY_INFO!I62>0,COUNTRY_INFO!I62<4), IF(M62/J62*100<>0, IF(M62/J62*100>100,100,M62/J62*100), \"-\"),0)","v":75.992385043444301},{"$f":"COUNTRY_INFO!O62","v":0},null,null,{"$f":"SUM(MAX('MDA4'!R62, 'T1'!L62, MAX(T3_R1!K62, T3_R2!K62)), MAX('MDA1'!K62, 'MDA4'!S62, 'T1'!M62, MAX(T3_R1!L62, T3_R2!L62)), MAX('MDA1'!L62, 'MDA4'!T62, 'T1'!N62, MAX(T3_R1!M62, T3_R2!M62)))","v":155678},{"$f":"IF(AND(COUNTRY_INFO!J62>1,COUNTRY_INFO!J62<4),IF(COUNTRY_INFO!E62>MAX('MDA4'!R62,'T1'!L62,MAX(T3_R1!K62,T3_R2!K62)),MAX('MDA4'!R62,'T1'!L62,MAX(T3_R1!K62,T3_R2!K62)),COUNTRY_INFO!E62),0)","v":0},{"$f":"IF(AND(COUNTRY_INFO!J62>1,COUNTRY_INFO!J62<4), IF(T62/COUNTRY_INFO!E62*100<>0, IF(T62/COUNTRY_INFO!E62*100>100,100,T62/COUNTRY_INFO!E62*100), \"-\"),0)","v":0},{"$f":"IF(AND(COUNTRY_INFO!J62>1,COUNTRY_INFO!J62<4),IF(COUNTRY_INFO!F62>MAX('MDA1'!K62,'MDA4'!S62,'T1'!M62,MAX(T3_R1!L62,T3_R2!L62)),MAX('MDA1'!K62,'MDA4'!S62,'T1'!M62,MAX(T3_R1!L62,T3_R2!L62)),COUNTRY_INFO!F62),0)","v":0},{"$f":"IF(AND(COUNTRY_INFO!J62>1,COUNTRY_INFO!J62<4), IF(V62/COUNTRY_INFO!F62*100<>0, IF(V62/COUNTRY_INFO!F62*100>100,100,V62/COUNTRY_INFO!F62*100), \"-\"),0)","v":0},0,{"$f":"IF(AND(COUNTRY_INFO!J62>1,COUNTRY_INFO!J62<4), IF(S62/P62*100<>0, IF(X62/P62*100>100,100,X62/P62*100), \"-\"),0)","v":0},{"$f":"COUNTRY_INFO!P62","v":51348.100000000006},null,null,{"$f":"MAX('T1'!L62,'T2'!J62)+MAX('T1'!M62,'T2'!K62)+MAX('T1'!N62,'T2'!L62)","v":60123},{"$f":"IF(COUNTRY_INFO!K62=1,IF(COUNTRY_INFO!F62*0.33>MAX('T1'!M62,'T2'!K62),MAX('T1'!M62,'T2'!K62),COUNTRY_INFO!F62*0.33),IF(COUNTRY_INFO!K62=2,IF(COUNTRY_INFO!F62*0.5>MAX('T1'!M62,'T2'!K62),MAX('T1'!M62,'T2'!K62),COUNTRY_INFO!F62*0.5),IF(COUNTRY_INFO!K62=3,IF(COUNTRY_INFO!F62>MAX('T1'!M62,'T2'!K62),MAX('T1'!M62,'T2'!K62),COUNTRY_INFO!F62),0)))","v":31087.5},{"$f":"IF(AND(COUNTRY_INFO!K62>0,COUNTRY_INFO!K62<4),IF(Z62>0,IF(COUNTRY_INFO!K62=1, AD62/(COUNTRY_INFO!F62*0.33)*100, IF(COUNTRY_INFO!K62=2, AD62/(COUNTRY_INFO!F62*0.5)*100, IF(COUNTRY_INFO!K62=3, AD62/COUNTRY_INFO!F62*100))),\"-\"),0)","v":100},{"$f":"IF(COUNTRY_INFO!K62=2,IF(COUNTRY_INFO!G62*0.2>MAX('T1'!N62,'T2'!L62),MAX('T1'!N62,'T2'!L62),COUNTRY_INFO!G62*0.2),IF(COUNTRY_INFO!K62=3,IF(COUNTRY_INFO!G62>MAX('T1'!N62,'T2'!L62),MAX('T1'!N62,'T2'!L62),COUNTRY_INFO!G62),0))","v":0},{"$f":"IF(AND(COUNTRY_INFO!K62>0,COUNTRY_INFO!K62<4),IF(Z62>0,IF(COUNTRY_INFO!K62=1, 0, IF(COUNTRY_INFO!K62=2, AF62/(COUNTRY_INFO!G62*0.2)*100, IF(COUNTRY_INFO!K62=3, AF62/COUNTRY_INFO!G62*100))),\"-\"),0)","v":0},31087.5,{"$f":"IF(AND(COUNTRY_INFO!K62>0,COUNTRY_INFO!K62<4), IF(AC62/Z62*100<>0, IF(AH62/Z62*100>100,100,AH62/Z62*100), \"-\"),0)","v":60.542649095097964},null,{"$f":"IF(AND(D62<>0, D62<>\"Inconnu\",D62<>\"Interrompu\",D62<>\"Non requis\"),D62/COUNTRY_INFO!D62, 0)","v":1},{"$f":"IF(AND(J62<>0,J62<>\"Inconnu\",J62<>\"Interrompu\",J62<>\"Non requis\"),J62/COUNTRY_INFO!D62, 0)","v":1},{"$f":"IF(AND(P62<>0,P62<>\"Inconnu\",P62<>\"Non requis\"),P62/(COUNTRY_INFO!E62+COUNTRY_INFO!F62), 0)","v":0},{"$f":"IF(AND(Z62<>0,Z62<>\"Inconnu\",Z62<>\"Non requis\"),IF(COUNTRY_INFO!K62=1,1,IF(COUNTRY_INFO!K62=2,0.5*COUNTRY_INFO!F62/(0.5*COUNTRY_INFO!F62+0.2*COUNTRY_INFO!G62),IF(COUNTRY_INFO!K62=3,COUNTRY_INFO!F62/(COUNTRY_INFO!F62+COUNTRY_INFO!G62)))),0)","v":0.60542649095097967},{"$f":"IF(AND(Z62<>0,Z62<>\"Inconnu\",Z62<>\"Non requis\"),IF(COUNTRY_INFO!K62=1,0,IF(COUNTRY_INFO!K62=2,0.2*COUNTRY_INFO!G62/(0.5*COUNTRY_INFO!F62+0.2*COUNTRY_INFO!G62),IF(COUNTRY_INFO!K62=3,COUNTRY_INFO!G62/(COUNTRY_INFO!F62+COUNTRY_INFO!G62)))),0)","v":0.39457350904902033},{"$f":"MAX(COUNTRY_INFO!D62*AK62*PROFILE!$G$7,COUNTRY_INFO!D62*AL62*PROFILE!$G$7)","v":7579.8092452036353},{"$f":"MAX(COUNTRY_INFO!D62*AK62*PROFILE!$G$8,COUNTRY_INFO!D62*AL62*PROFILE!$G$8,COUNTRY_INFO!D62*AM62*PROFILE!$G$8)","v":33801.973125578334},{"$f":"MAX(COUNTRY_INFO!D62*AK62*PROFILE!$G$9,COUNTRY_INFO!D62*AL62*PROFILE!$G$9,COUNTRY_INFO!D62*AM62*PROFILE!$G$9,IF(AND(DISTRICT!Z62<>\"Inconnu\",Z62<>\"Non requis\"),COUNTRY_INFO!P62*DISTRICT!AN62,0))","v":62174.955539916125},{"$f":"MAX(COUNTRY_INFO!D62*AK62*PROFILE!$G$10,COUNTRY_INFO!D62*AL62*PROFILE!$G$10,IF(AND(DISTRICT!Z62<>\"Inconnu\",Z62<>\"Non requis\"),COUNTRY_INFO!P62*DISTRICT!AO62,0))","v":101303.26208930192},204860,"Y",{"$f":"MAX('MDA4'!R62,'T1'!L62,'T2'!J62,T3_R1!K62,T3_R2!K62)","v":0},{"$f":"MAX('MDA1'!K62,'MDA4'!S62,'MDA3'!I62,'MDA3'!L62,'T1'!M62,'T2'!K62,T3_R1!L62,T3_R2!L62)","v":60123},{"$f":"MAX('MDA1'!L62,'MDA4'!T62,'MDA3'!J62,'MDA3'!M62,'T1'!N62,'T2'!L62,T3_R1!M62,T3_R2!M62)","v":96036},156159,{"$f":"MAX('MDA4'!R62,T62)","v":0},{"$f":"MAX('MDA1'!K62,'MDA4'!S62,'MDA3'!I62,'MDA3'!L62,V62,AD62)","v":59642},{"$f":"MAX('MDA1'!L62,'MDA4'!T62,'MDA3'!J62,'MDA3'!M62,AF62)","v":96036},155678,75.992385043444301]
[{"$f":"IF(COUNTRY_INFO!A63=0,\" \",COUNTRY_INFO!A63)","v":"Chad"},{"$f":"IF(COUNTRY_INFO!B63=0,\" \",COUNTRY_INFO!B63)","v":"Logone Occidental"},{"$f":"IF(COUNTRY_INFO!C63=0,\" \",COUNTRY_INFO!C63)","v":"Moundou"},{"$f":"COUNTRY_INFO!M63","v":342222},null,null,{"$f":"MAX('MDA1'!M63,'MDA4'!U63)","v":272007},{"$f":"IF(AND(COUNTRY_INFO!H63>0,COUNTRY_INFO!H63<4),IF(D63>MAX('MDA1'!M63,'MDA4'!U63),MAX('MDA1'!M63,'MDA4'!U63),D63),0)","v":272007},{"$f":"IF(AND(COUNTRY_INFO!H63>0,COUNTRY_INFO!H63<4), IF(G63/D63*100<>0, IF(G63/D63*100>100,100,G63/D63*100), \"-\"),0)","v":79.482616547153611},{"$f":"COUNTRY_INFO!N63","v":342222},null,null,{"$f":"MAX('MDA1'!M63,MAX('MDA3'!I63,'MDA3'!L63)+MAX('MDA3'!J63,'MDA3'!M63))","v":272007},{"$f":"IF(AND(COUNTRY_INFO!I63>0,COUNTRY_INFO!I63<4),IF(J63>MAX('MDA1'!M63,MAX('MDA3'!I63,'MDA3'!L63)+MAX('MDA3'!J63,'MDA3'!M63)),MAX('MDA1'!M63,MAX('MDA3'!I63,'MDA3'!L63)+MAX('MDA3'!J63,'MDA3'!M63)),J63),0)","v":272007},{"$f":"IF(AND(COUNTRY_INFO!I63>0,COUNTRY_INFO!I63<4), IF(M63/J63*100<>0, IF(M63/J63*100>100,100,M63/J63*100), \"-\"),0)","v":79.482616547153611},{"$f":"COUNTRY_INFO!O63","v":0},null,null,{"$f":"SUM(MAX('MDA4'!R63, 'T1'!L63, MAX(T3_R1!K63, T3_R2!K63)), MAX('MDA1'!K63, 'MDA4'!S63, 'T1'!M63, MAX(T3_R1!L63, T3_R2!L63)), MAX('MDA1'!L63, 'MDA4'!T63, 'T1'!N63, MAX(T3_R1!M63, T3_R2!M63)))","v":272007},{"$f":"IF(AND(COUNTRY_INFO!J63>1,COUNTRY_INFO!J63<4),IF(COUNTRY_INFO!E63>MAX('MDA4'!R63,'T1'!L63,MAX(T3_R1!K63,T3_R2!K63)),MAX('MDA4'!R63,'T1'!L63,MAX(T3_R1!K63,T3_R2!K63)),COUNTRY_INFO!E63),0)","v":0},{"$f":"IF(AND(COUNTRY_INFO!J63>1,COUNTRY_INFO!J63<4), IF(T63/COUNTRY_INFO!E63*100<>0, IF(T63/COUNTRY_INFO!E63*100>100,100,T63/COUNTRY_INFO!E63*100), \"-\"),0)","v":0},{"$f":"IF(AND(COUNTRY_INFO!J63>1,COUNTRY_INFO!J63<4),IF(COUNTRY_INFO!F63>MAX('MDA1'!K63,'MDA4'!S63,'T1'!M63,MAX(T3_R1!L63,T3_R2!L63)),MAX('MDA1'!K63,'MDA4'!S63,'T1'!M63,MAX(T3_R1!L63,T3_R2!L63)),COUNTRY_INFO!F63),0)","v":0},{"$f":"IF(AND(COUNTRY_INFO!J63>1,COUNTRY_INFO!J63<4), IF(V63/COUNTRY_INFO!F63*100<>0, IF(V63/COUNTRY_INFO!F63*100>100,100,V63/COUNTRY_INFO!F63*100), \"-\"),0)","v":0},0,{"$f":"IF(AND(COUNTRY_INFO!J63>1,COUNTRY_INFO!J63<4), IF(S63/P63*100<>0, IF(X63/P63*100>100,100,X63/P63*100), \"-\"),0)","v":0},{"$f":"COUNTRY_INFO!P63","v":34275.120000000003},null,null,{"$f":"MAX('T1'!L63,'T2'!J63)+MAX('T1'!M63,'T2'!K63)+MAX('T1'!N63,'T2'!L63)","v":24887},{"$f":"IF(COUNTRY_INFO!K63=1,IF(COUNTRY_INFO!F63*0.33>MAX('T1'!M63,'T2'!K63),MAX('T1'!M63,'T2'!K63),COUNTRY_INFO!F63*0.33),IF(COUNTRY_INFO!K63=2,IF(COUNTRY_INFO!F63*0.5>MAX('T1'!M63,'T2'!K63),MAX('T1'!M63,'T2'!K63),COUNTRY_INFO!F63*0.5),IF(COUNTRY_INFO!K63=3,IF(COUNTRY_INFO!F63>MAX('T1'!M63,'T2'!K63),MAX('T1'!M63,'T2'!K63),COUNTRY_INFO!F63),0)))","v":24887},{"$f":"IF(AND(COUNTRY_INFO!K63>0,COUNTRY_INFO!K63<4),IF(Z63>0,IF(COUNTRY_INFO!K63=1, AD63/(COUNTRY_INFO!F63*0.33)*100, IF(COUNTRY_INFO!K63=2, AD63/(COUNTRY_INFO!F63*0.5)*100, IF(COUNTRY_INFO!K63=3, AD63/COUNTRY_INFO!F63*100))),\"-\"),0)","v":72.609519674912875},{"$f":"IF(COUNTRY_INFO!K63=2,IF(COUNTRY_INFO!G63*0.2>MAX('T1'!N63,'T2'!L63),MAX('T1'!N63,'T2'!L63),COUNTRY_INFO!G63*0.2),IF(COUNTRY_INFO!K63=3,IF(COUNTRY_INFO!G63>MAX('T1'!N63,'T2'!L63),MAX('T1'!N63,'T2'!L63),COUNTRY_INFO!G63),0))","v":0},{"$f":"IF(AND(COUNTRY_INFO!K63>0,COUNTRY_INFO!K63<4),IF(Z63>0,IF(COUNTRY_INFO!K63=1, 0, IF(COUNTRY_INFO!K63=2, AF63/(COUNTRY_INFO!G63*0.2)*100, IF(COUNTRY_INFO!K63=3, AF63/COUNTRY_INFO!G63*100))),\"-\"),0)","v":0},24887,{"$f":"IF(AND(COUNTRY_INFO!K63>0,COUNTRY_INFO!K63<4), IF(AC63/Z63*100<>0, IF(AH63/Z63*100>100,100,AH63/Z63*100), \"-\"),0)","v":72.609519674912875},null,{"$f":"IF(AND(D63<>0, D63<>\"Inconnu\",D63<>\"Interrompu\",D63<>\"Non requis\"),D63/COUNTRY_INFO!D63, 0)","v":1},{"$f":"IF(AND(J63<>0,J63<>\"Inconnu\",J63<>\"Interrompu\",J63<>\"Non requis\"),J63/COUNTRY_INFO!D63, 0)","v":1},{"$f":"IF(AND(P63<>0,P63<>\"Inconnu\",P63<>\"Non requis\"),P63/(COUNTRY_INFO!E63+COUNTRY_INFO!F63), 0)","v":0},{"$f":"IF(AND(Z63<>0,Z63<>\"Inconnu\",Z63<>\"Non requis\"),IF(COUNTRY_INFO!K63=1,1,IF(COUNTRY_INFO!K63=2,0.5*COUNTRY_INFO!F63/(0.5*COUNTRY_INFO!F63+0.2*COUNTRY_INFO!G63),IF(COUNTRY_INFO!K63=3,COUNTRY_INFO!F63/(COUNTRY_INFO!F63+COUNTRY_INFO!G63)))),0)","v":1},{"$f":"IF(AND(Z63<>0,Z63<>\"Inconnu\",Z63<>\"Non requis\"),IF(COUNTRY_INFO!K63=1,0,IF(COUNTRY_INFO!K63=2,0.2*COUNTRY_INFO!G63/(0.5*COUNTRY_INFO!F63+0.2*COUNTRY_INFO!G63),IF(COUNTRY_INFO!K63=3,COUNTRY_INFO!G63/(COUNTRY_INFO!F63+COUNTRY_INFO!G63)))),0)","v":0},{"$f":"MAX(COUNTRY_INFO!D63*AK63*PROFILE!$G$7,COUNTRY_INFO!D63*AL63*PROFILE!$G$7)","v":12662.196033935754},{"$f":"MAX(COUNTRY_INFO!D63*AK63*PROFILE!$G$8,COUNTRY_INFO!D63*AL63*PROFILE!$G$8,COUNTRY_INFO!D63*AM63*PROFILE!$G$8)","v":56466.75215748154},{"$f":"MAX(COUNTRY_INFO!D63*AK63*PROFILE!$G$9,COUNTRY_INFO!D63*AL63*PROFILE!$G$9,COUNTRY_INFO!D63*AM63*PROFILE!$G$9,IF(AND(DISTRICT!Z63<>\"Inconnu\",Z63<>\"Non requis\"),COUNTRY_INFO!P63*DISTRICT!AN63,0))","v":103864.286023534},{"$f":"MAX(COUNTRY_INFO!D63*AK63*PROFILE!$G$10,COUNTRY_INFO!D63*AL63*PROFILE!$G$10,IF(AND(DISTRICT!Z63<>\"Inconnu\",Z63<>\"Non requis\"),COUNTRY_INFO!P63*DISTRICT!AO63,0))","v":169228.76578504872},342222,"Y",{"$f":"MAX('MDA4'!R63,'T1'!L63,'T2'!J63,T3_R1!K63,T3_R2!K63)","v":0},{"$f":"MAX('MDA1'!K63,'MDA4'!S63,'MDA3'!I63,'MDA3'!L63,'T1'!M63,'T2'!K63,T3_R1!L63,T3_R2!L63)","v":107884},{"$f":"MAX('MDA1'!L63,'MDA4'!T63,'MDA3'!J63,'MDA3'!M63,'T1'!N63,'T2'!L63,T3_R1!M63,T3_R2!M63)","v":164123},272007,{"$f":"MAX('MDA4'!R63,T63)","v":0},{"$f":"MAX('MDA1'!K63,'MDA4'!S63,'MDA3'!I63,'MDA3'!L63,V63,AD63)","v":107884},{"$f":"MAX('MDA1'!L63,'MDA4'!T63,'MDA3'!J63,'MDA3'!M63,AF63)","v":164123},272007,79.482616547153611]
[{"$f":"IF(COUNTRY_INFO!A64=0,\" \",COUNTRY_INFO!A64)","v":"Chad"},{"$f":"IF(COUNTRY_INFO!B64=0,\" \",COUNTRY_INFO!B64)","v":"Logone Orientlal"},{"$f":"IF(COUNTRY_INFO!C64=0,\" \",COUNTRY_INFO!C64)","v":"Baibokoum"},{"$f":"COUNTRY_INFO!M64","v":90514},null,null,{"$f":"MAX('MDA1'!M64,'MDA4'!U64)","v":73393},{"$f":"IF(AND(COUNTRY_INFO!H64>0,COUNTRY_INFO!H64<4),IF(D64>MAX('MDA1'!M64,'MDA4'!U64),MAX('MDA1'!M64,'MDA4'!U64),D64),0)","v":73393},{"$f":"IF(AND(COUNTRY_INFO!H64>0,COUNTRY_INFO!H64<4), IF(G64/D64*100<>0, IF(G64/D64*100>100,100,G64/D64*100), \"-\"),0)","v":81.084694080473739},{"$f":"COUNTRY_INFO!N64","v":90514},null,null,{"$f":"MAX('MDA1'!M64,MAX('MDA3'!I64,'MDA3'!L64)+MAX('MDA3'!J64,'MDA3'!M64))","v":73393},{"$f":"IF(AND(COUNTRY_INFO!I64>0,COUNTRY_INFO!I64<4),IF(J64>MAX('MDA1'!M64,MAX('MDA3'!I64,'MDA3'!L64)+MAX('MDA3'!J64,'MDA3'!M64)),MAX('MDA1'!M64,MAX('MDA3'!I64,'MDA3'!L64)+MAX('MDA3'!J64,'MDA3'!M64)),J64),0)","v":73393},{"$f":"IF(AND(COUNTRY_INFO!I64>0,COUNTRY_INFO!I64<4), IF(M64/J64*100<>0, IF(M64/J64*100>100,100,M64/J64*100), \"-\"),0)","v":81.084694080473739},{"$f":"COUNTRY_INFO!O64","v":0},null,null,{"$f":"SUM(MAX('MDA4'!R64, 'T1'!L64, MAX(T3_R1!K64, T3_R2!K64)), MAX('MDA1'!K64, 'MDA4'!S64, 'T1'!M64, MAX(T3_R1!L64, T3_R2!L64)), MAX('MDA1'!L64, 'MDA4'!T64, 'T1'!N64, MAX(T3_R1!M64, T3_R2!M64)))","v":73393},{"$f":"IF(AND(COUNTRY_INFO!J64>1,COUNTRY_INFO!J64<4),IF(COUNTRY_INFO!E64>MAX('MDA4'!R64,'T1'!L64,MAX(T3_R1!K64,T3_R2!K64)),MAX('MDA4'!R64,'T1'!L64,MAX(T3_R1!K64,T3_R2!K64)),COUNTRY_INFO!E64),0)","v":0},{"$f":"IF(AND(COUNTRY_INFO!J64>1,COUNTRY_INFO!J64<4), IF(T64/COUNTRY_INFO!E64*100<>0, IF(T64/COUNTRY_INFO!E64*100>100,100,T64/COUNTRY_INFO!E64*100), \"-\"),0)","v":0},{"$f":"IF(AND(COUNTRY_INFO!J64>1,COUNTRY_INFO!J64<4),IF(COUNTRY_INFO!F64>MAX('MDA1'!K64,'MDA4'!S64,'T1'!M64,MAX(T3_R1!L64,T3_R2!L64)),MAX('MDA1'!K64,'MDA4'!S64,'T1'!M64,MAX(T3_R1!L64,T3_R2!L64)),COUNTRY_INFO!F64),0)","v":0},{"$f":"IF(AND(COUNTRY_INFO!J64>1,COUNTRY_INFO!J64<4), IF(V64/COUNTRY_INFO!F64*100<>0, IF(V64/COUNTRY_INFO!F64*100>100,100,V64/COUNTRY_INFO!F64*100), \"-\"),0)","v":0},0,{"$f":"IF(AND(COUNTRY_INFO!J64>1,COUNTRY_INFO!J64<4), IF(S64/P64*100<>0, IF(X64/P64*100>100,100,X64/P64*100), \"-\"),0)","v":0},{"$f":"COUNTRY_INFO!P64","v":22687.300000000003},null,null,{"$f":"MAX('T1'!L64,'T2'!J64)+MAX('T1'!M64,'T2'!K64)+MAX('T1'!N64,'T2'!L64)","v":20996},{"$f":"IF(COUNTRY_INFO!K64=1,IF(COUNTRY_INFO!F64*0.33>MAX('T1'!M64,'T2'!K64),MAX('T1'!M64,'T2'!K64),COUNTRY_INFO!F64*0.33),IF(COUNTRY_INFO!K64=2,IF(COUNTRY_INFO!F64*0.5>MAX('T1'!M64,'T2'!K64),MAX('T1'!M64,'T2'!K64),COUNTRY_INFO!F64*0.5),IF(COUNTRY_INFO!K64=3,IF(COUNTRY_INFO!F64>MAX('T1'!M64,'T2'!K64),MAX('T1'!M64,'T2'!K64),COUNTRY_INFO!F64),0)))","v":13735.5},{"$f":"IF(AND(COUNTRY_INFO!K64>0,COUNTRY_INFO!K64<4),IF(Z64>0,IF(COUNTRY_INFO!K64=1, AD64/(COUNTRY_INFO!F64*0.33)*100, IF(COUNTRY_INFO!K64=2, AD64/(COUNTRY_INFO!F64*0.5)*100, IF(COUNTRY_INFO!K64=3, AD64/COUNTRY_INFO!F64*100))),\"-\"),0)","v":100},{"$f":"IF(COUNTRY_INFO!K64=2,IF(COUNTRY_INFO!G64*0.2>MAX('T1'!N64,'T2'!L64),MAX('T1'!N64,'T2'!L64),COUNTRY_INFO!G64*0.2),IF(COUNTRY_INFO!K64=3,IF(COUNTRY_INFO!G64>MAX('T1'!N64,'T2'!L64),MAX('T1'!N64,'T2'!L64),COUNTRY_INFO!G64),0))","v":0},{"$f":"IF(AND(COUNTRY_INFO!K64>0,COUNTRY_INFO!K64<4),IF(Z64>0,IF(COUNTRY_INFO!K64=1, 0, IF(COUNTRY_INFO!K64=2, AF64/(COUNTRY_INFO!G64*0.2)*100, IF(COUNTRY_INFO!K64=3, AF64/COUNTRY_INFO!G64*100))),\"-\"),0)","v":0},13735.5,{"$f":"IF(AND(COUNTRY_INFO!K64>0,COUNTRY_INFO!K64<4), IF(AC64/Z64*100<>0, IF(AH64/Z64*100>100,100,AH64/Z64*100), \"-\"),0)","v":60.542682469928103},null,{"$f":"IF(AND(D64<>0, D64<>\"Inconnu\",D64<>\"Interrompu\",D64<>\"Non requis\"),D64/COUNTRY_INFO!D64, 0)","v":1},{"$f":"IF(AND(J64<>0,J64<>\"Inconnu\",J64<>\"Interrompu\",J64<>\"Non requis\"),J64/COUNTRY_INFO!D64, 0)","v":1},{"$f":"IF(AND(P64<>0,P64<>\"Inconnu\",P64<>\"Non requis\"),P64/(COUNTRY_INFO!E64+COUNTRY_INFO!F64), 0)","v":0},{"$f":"IF(AND(Z64<>0,Z64<>\"Inconnu\",Z64<>\"Non requis\"),IF(COUNTRY_INFO!K64=1,1,IF(COUNTRY_INFO!K64=2,0.5*COUNTRY_INFO!F64/(0.5*COUNTRY_INFO!F64+0.2*COUNTRY_INFO!G64),IF(COUNTRY_INFO!K64=3,COUNTRY_INFO!F64/(COUNTRY_INFO!F64+COUNTRY_INFO!G64)))),0)","v":0.605426824699281},{"$f":"IF(AND(Z64<>0,Z64<>\"Inconnu\",Z64<>\"Non requis\"),IF(COUNTRY_INFO!K64=1,0,IF(COUNTRY_INFO!K64=2,0.2*COUNTRY_INFO!G64/(0.5*COUNTRY_INFO!F64+0.2*COUNTRY_INFO!G64),IF(COUNTRY_INFO!K64=3,COUNTRY_INFO!G64/(COUNTRY_INFO!F64+COUNTRY_INFO!G64)))),0)","v":0.39457317530071889},{"$f":"MAX(COUNTRY_INFO!D64*AK64*PROFILE!$G$7,COUNTRY_INFO!D64*AL64*PROFILE!$G$7)","v":3349.0132481712481},{"$f":"MAX(COUNTRY_INFO!D64*AK64*PROFILE!$G$8,COUNTRY_INFO!D64*AL64*PROFILE!$G$8,COUNTRY_INFO!D64*AM64*PROFILE!$G$8)","v":14934.842309326355},{"$f":"MAX(COUNTRY_INFO!D64*AK64*PROFILE!$G$9,COUNTRY_INFO!D64*AL64*PROFILE!$G$9,COUNTRY_INFO!D64*AM64*PROFILE!$G$9,IF(AND(DISTRICT!Z64<>\"Inconnu\",Z64<>\"Non requis\"),COUNTRY_INFO!P64*DISTRICT!AN64,0))","v":27470.974937713403},{"$f":"MAX(COUNTRY_INFO!D64*AK64*PROFILE!$G$10,COUNTRY_INFO!D64*AL64*PROFILE!$G$10,IF(AND(DISTRICT!Z64<>\"Inconnu\",Z64<>\"Non requis\"),COUNTRY_INFO!P64*DISTRICT!AO64,0))","v":44759.169504788995},90514,"Y",{"$f":"MAX('MDA4'!R64,'T1'!L64,'T2'!J64,T3_R1!K64,T3_R2!K64)","v":0},{"$f":"MAX('MDA1'!K64,'MDA4'!S64,'MDA3'!I64,'MDA3'!L64,'T1'!M64,'T2'!K64,T3_R1!L64,T3_R2!L64)","v":22531},{"$f":"MAX('MDA1'!L64,'MDA4'!T64,'MDA3'!J64,'MDA3'!M64,'T1'!N64,'T2'!L64,T3_R1!M64,T3_R2!M64)","v":50862},73393,{"$f":"MAX('MDA4'!R64,T64)","v":0},{"$f":"MAX('MDA1'!K64,'MDA4'!S64,'MDA3'!I64,'MDA3'!L64,V64,AD64)","v":22531},{"$f":"MAX('MDA1'!L64,'MDA4'!T64,'MDA3'!J64,'MDA3'!M64,AF64)","v":50862},73393,81.084694080473739]
[{"$f":"IF(COUNTRY_INFO!A65=0,\" \",COUNTRY_INFO!A65)","v":"Chad"},{"$f":"IF(COUNTRY_INFO!B65=0,\" \",COUNTRY_INFO!B65)","v":"Logone Orientlal"},{"$f":"IF(COUNTRY_INFO!C65=0,\" \",COUNTRY_INFO!C65)","v":"Bebedja"},{"$f":"COUNTRY_INFO!M65","v":189395},null,null,{"$f":"MAX('MDA1'!M65,'MDA4'!U65)","v":157380},{"$f":"IF(AND(COUNTRY_INFO!H65>0,COUNTRY_INFO!H65<4),IF(D65>MAX('MDA1'!M65,'MDA4'!U65),MAX('MDA1'!M65,'MDA4'!U65),D65),0)","v":157380},{"$f":"IF(AND(COUNTRY_INFO!H65>0,COUNTRY_INFO!H65<4), IF(G65/D65*100<>0, IF(G65/D65*100>100,100,G65/D65*100), \"-\"),0)","v":83.096174661421898},{"$f":"COUNTRY_INFO!N65","v":189395},null,null,{"$f":"MAX('MDA1'!M65,MAX('MDA3'!I65,'MDA3'!L65)+MAX('MDA3'!J65,'MDA3'!M65))","v":157380},{"$f":"IF(AND(COUNTRY_INFO!I65>0,COUNTRY_INFO!I65<4),IF(J65>MAX('MDA1'!M65,MAX('MDA3'!I65,'MDA3'!L65)+MAX('MDA3'!J65,'MDA3'!M65)),MAX('MDA1'!M65,MAX('MDA3'!I65,'MDA3'!L65)+MAX('MDA3'!J65,'MDA3'!M65)),J65),0)","v":157380},{"$f":"IF(AND(COUNTRY_INFO!I65>0,COUNTRY_INFO!I65<4), IF(M65/J65*100<>0, IF(M65/J65*100>100,100,M65/J65*100), \"-\"),0)","v":83.096174661421898},{"$f":"COUNTRY_INFO!O65","v":0},null,null,{"$f":"SUM(MAX('MDA4'!R65, 'T1'!L65, MAX(T3_R1!K65, T3_R2!K65)), MAX('MDA1'!K65, 'MDA4'!S65, 'T1'!M65, MAX(T3_R1!L65, T3_R2!L65)), MAX('MDA1'!L65, 'MDA4'!T65, 'T1'!N65, MAX(T3_R1!M65, T3_R2!M65)))","v":157380},{"$f":"IF(AND(COUNTRY_INFO!J65>1,COUNTRY_INFO!J65<4),IF(COUNTRY_INFO!E65>MAX('MDA4'!R65,'T1'!L65,MAX(T3_R1!K65,T3_R2!K65)),MAX('MDA4'!R65,'T1'!L65,MAX(T3_R1!K65,T3_R2!K65)),COUNTRY_INFO!E65),0)","v":0},{"$f":"IF(AND(COUNTRY_INFO!J65>1,COUNTRY_INFO!J65<4), IF(T65/COUNTRY_INFO!E65*100<>0, IF(T65/COUNTRY_INFO!E65*100>100,100,T65/COUNTRY_INFO!E65*100), \"-\"),0)","v":0},{"$f":"IF(AND(COUNTRY_INFO!J65>1,COUNTRY_INFO!J65<4),IF(COUNTRY_INFO!F65>MAX('MDA1'!K65,'MDA4'!S65,'T1'!M65,MAX(T3_R1!L65,T3_R2!L65)),MAX('MDA1'!K65,'MDA4'!S65,'T1'!M65,MAX(T3_R1!L65,T3_R2!L65)),COUNTRY_INFO!F65),0)","v":0},{"$f":"IF(AND(COUNTRY_INFO!J65>1,COUNTRY_INFO!J65<4), IF(V65/COUNTRY_INFO!F65*100<>0, IF(V65/COUNTRY_INFO!F65*100>100,100,V65/COUNTRY_INFO!F65*100), \"-\"),0)","v":0},0,{"$f":"IF(AND(COUNTRY_INFO!J65>1,COUNTRY_INFO!J65<4), IF(S65/P65*100<>0, IF(X65/P65*100>100,100,X65/P65*100), \"-\"),0)","v":0},{"$f":"COUNTRY_INFO!P65","v":47471.7},null,null,{"$f":"MAX('T1'!L65,'T2'!J65)+MAX('T1'!M65,'T2'!K65)+MAX('T1'!N65,'T2'!L65)","v":54395},{"$f":"IF(COUNTRY_INFO!K65=1,IF(COUNTRY_INFO!F65*0.33>MAX('T1'!M65,'T2'!K65),MAX('T1'!M65,'T2'!K65),COUNTRY_INFO!F65*0.33),IF(COUNTRY_INFO!K65=2,IF(COUNTRY_INFO!F65*0.5>MAX('T1'!M65,'T2'!K65),MAX('T1'!M65,'T2'!K65),COUNTRY_INFO!F65*0.5),IF(COUNTRY_INFO!K65=3,IF(COUNTRY_INFO!F65>MAX('T1'!M65,'T2'!K65),MAX('T1'!M65,'T2'!K65),COUNTRY_INFO!F65),0)))","v":28740.5},{"$f":"IF(AND(COUNTRY_INFO!K65>0,COUNTRY_INFO!K65<4),IF(Z65>0,IF(COUNTRY_INFO!K65=1, AD65/(COUNTRY_INFO!F65*0.33)*100, IF(COUNTRY_INFO!K65=2, AD65/(COUNTRY_INFO!F65*0.5)*100, IF(COUNTRY_INFO!K65=3, AD65/COUNTRY_INFO!F65*100))),\"-\"),0)","v":100},{"$f":"IF(COUNTRY_INFO!K65=2,IF(COUNTRY_INFO!G65*0.2>MAX('T1'!N65,'T2'!L65),MAX('T1'!N65,'T2'!L65),COUNTRY_INFO!G65*0.2),IF(COUNTRY_INFO!K65=3,IF(COUNTRY_INFO!G65>MAX('T1'!N65,'T2'!L65),MAX('T1'!N65,'T2'!L65),COUNTRY_INFO!G65),0))","v":0},{"$f":"IF(AND(COUNTRY_INFO!K65>0,COUNTRY_INFO!K65<4),IF(Z65>0,IF(COUNTRY_INFO!K65=1, 0, IF(COUNTRY_INFO!K65=2, AF65/(COUNTRY_INFO!G65*0.2)*100, IF(COUNTRY_INFO!K65=3, AF65/COUNTRY_INFO!G65*100))),\"-\"),0)","v":0},28740.5,{"$f":"IF(AND(COUNTRY_INFO!K65>0,COUNTRY_INFO!K65<4), IF(AC65/Z65*100<>0, IF(AH65/Z65*100>100,100,AH65/Z65*100), \"-\"),0)","v":60.542386305946494},null,{"$f":"IF(AND(D65<>0, D65<>\"Inconnu\",D65<>\"Interrompu\",D65<>\"Non requis\"),D65/COUNTRY_INFO!D65, 0)","v":1},{"$f":"IF(AND(J65<>0,J65<>\"Inconnu\",J65<>\"Interrompu\",J65<>\"Non requis\"),J65/COUNTRY_INFO!D65, 0)","v":1},{"$f":"IF(AND(P65<>0,P65<>\"Inconnu\",P65<>\"Non requis\"),P65/(COUNTRY_INFO!E65+COUNTRY_INFO!F65), 0)","v":0},{"$f":"IF(AND(Z65<>0,Z65<>\"Inconnu\",Z65<>\"Non requis\"),IF(COUNTRY_INFO!K65=1,1,IF(COUNTRY_INFO!K65=2,0.5*COUNTRY_INFO!F65/(0.5*COUNTRY_INFO!F65+0.2*COUNTRY_INFO!G65),IF(COUNTRY_INFO!K65=3,COUNTRY_INFO!F65/(COUNTRY_INFO!F65+COUNTRY_INFO!G65)))),0)","v":0.60542386305946494},{"$f":"IF(AND(Z65<>0,Z65<>\"Inconnu\",Z65<>\"Non requis\"),IF(COUNTRY_INFO!K65=1,0,IF(COUNTRY_INFO!K65=2,0.2*COUNTRY_INFO!G65/(0.5*COUNTRY_INFO!F65+0.2*COUNTRY_INFO!G65),IF(COUNTRY_INFO!K65=3,COUNTRY_INFO!G65/(COUNTRY_INFO!F65+COUNTRY_INFO!G65)))),0)","v":0.39457613694053512},{"$f":"MAX(COUNTRY_INFO!D65*AK65*PROFILE!$G$7,COUNTRY_INFO!D65*AL65*PROFILE!$G$7)","v":7007.6050570894386},{"$f":"MAX(COUNTRY_INFO!D65*AK65*PROFILE!$G$8,COUNTRY_INFO!D65*AL65*PROFILE!$G$8,COUNTRY_INFO!D65*AM65*PROFILE!$G$8)","v":31250.242605286086},{"$f":"MAX(COUNTRY_INFO!D65*AK65*PROFILE!$G$9,COUNTRY_INFO!D65*AL65*PROFILE!$G$9,COUNTRY_INFO!D65*AM65*PROFILE!$G$9,IF(AND(DISTRICT!Z65<>\"Inconnu\",Z65<>\"Non requis\"),COUNTRY_INFO!P65*DISTRICT!AN65,0))","v":57481.332151139381},{"$f":"MAX(COUNTRY_INFO!D65*AK65*PROFILE!$G$10,COUNTRY_INFO!D65*AL65*PROFILE!$G$10,IF(AND(DISTRICT!Z65<>\"Inconnu\",Z65<>\"Non requis\"),COUNTRY_INFO!P65*DISTRICT!AO65,0))","v":93655.820186485085},189395,"Y",{"$f":"MAX('MDA4'!R65,'T1'!L65,'T2'!J65,T3_R1!K65,T3_R2!K65)","v":0},{"$f":"MAX('MDA1'!K65,'MDA4'!S65,'MDA3'!I65,'MDA3'!L65,'T1'!M65,'T2'!K65,T3_R1!L65,T3_R2!L65)","v":56156},{"$f":"MAX('MDA1'!L65,'MDA4'!T65,'MDA3'!J65,'MDA3'!M65,'T1'!N65,'T2'!L65,T3_R1!M65,T3_R2!M65)","v":101224},157380,{"$f":"MAX('MDA4'!R65,T65)","v":0},{"$f":"MAX('MDA1'!K65,'MDA4'!S65,'MDA3'!I65,'MDA3'!L65,V65,AD65)","v":56156},{"$f":"MAX('MDA1'!L65,'MDA4'!T65,'MDA3'!J65,'MDA3'!M65,AF65)","v":101224},157380,83.096174661421898]
[{"$f":"IF(COUNTRY_INFO!A66=0,\" \",COUNTRY_INFO!A66)","v":"Chad"},{"$f":"IF(COUNTRY_INFO!B66=0,\" \",COUNTRY_INFO!B66)","v":"Logone Orientlal"},{"$f":"IF(COUNTRY_INFO!C66=0,\" \",COUNTRY_INFO!C66)","v":"Beboto"},{"$f":"COUNTRY_INFO!M66","v":103640},null,null,{"$f":"MAX('MDA1'!M66,'MDA4'!U66)","v":81103},{"$f":"IF(AND(COUNTRY_INFO!H66>0,COUNTRY_INFO!H66<4),IF(D66>MAX('MDA1'!M66,'MDA4'!U66),MAX('MDA1'!M66,'MDA4'!U66),D66),0)","v":81103},{"$f":"IF(AND(COUNTRY_INFO!H66>0,COUNTRY_INFO!H66<4), IF(G66/D66*100<>0, IF(G66/D66*100>100,100,G66/D66*100), \"-\"),0)","v":78.254534928599},{"$f":"COUNTRY_INFO!N66","v":103640},null,null,{"$f":"MAX('MDA1'!M66,MAX('MDA3'!I66,'MDA3'!L66)+MAX('MDA3'!J66,'MDA3'!M66))","v":81103},{"$f":"IF(AND(COUNTRY_INFO!I66>0,COUNTRY_INFO!I66<4),IF(J66>MAX('MDA1'!M66,MAX('MDA3'!I66,'MDA3'!L66)+MAX('MDA3'!J66,'MDA3'!M66)),MAX('MDA1'!M66,MAX('MDA3'!I66,'MDA3'!L66)+MAX('MDA3'!J66,'MDA3'!M66)),J66),0)","v":81103},{"$f":"IF(AND(COUNTRY_INFO!I66>0,COUNTRY_INFO!I66<4), IF(M66/J66*100<>0, IF(M66/J66*100>100,100,M66/J66*100), \"-\"),0)","v":78.254534928599},{"$f":"COUNTRY_INFO!O66","v":0},null,null,{"$f":"SUM(MAX('MDA4'!R66, 'T1'!L66, MAX(T3_R1!K66, T3_R2!K66)), MAX('MDA1'!K66, 'MDA4'!S66, 'T1'!M66, MAX(T3_R1!L66, T3_R2!L66)), MAX('MDA1'!L66, 'MDA4'!T66, 'T1'!N66, MAX(T3_R1!M66, T3_R2!M66)))","v":81103},{"$f":"IF(AND(COUNTRY_INFO!J66>1,COUNTRY_INFO!J66<4),IF(COUNTRY_INFO!E66>MAX('MDA4'!R66,'T1'!L66,MAX(T3_R1!K66,T3_R2!K66)),MAX('MDA4'!R66,'T1'!L66,MAX(T3_R1!K66,T3_R2!K66)),COUNTRY_INFO!E66),0)","v":0},{"$f":"IF(AND(COUNTRY_INFO!J66>1,COUNTRY_INFO!J66<4), IF(T66/COUNTRY_INFO!E66*100<>0, IF(T66/COUNTRY_INFO!E66*100>100,100,T66/COUNTRY_INFO!E66*100), \"-\"),0)","v":0},{"$f":"IF(AND(COUNTRY_INFO!J66>1,COUNTRY_INFO!J66<4),IF(COUNTRY_INFO!F66>MAX('MDA1'!K66,'MDA4'!S66,'T1'!M66,MAX(T3_R1!L66,T3_R2!L66)),MAX('MDA1'!K66,'MDA4'!S66,'T1'!M66,MAX(T3_R1!L66,T3_R2!L66)),COUNTRY_INFO!F66),0)","v":0},{"$f":"IF(AND(COUNTRY_INFO!J66>1,COUNTRY_INFO!J66<4), IF(V66/COUNTRY_INFO!F66*100<>0, IF(V66/COUNTRY_INFO!F66*100>100,100,V66/COUNTRY_INFO!F66*100), \"-\"),0)","v":0},0,{"$f":"IF(AND(COUNTRY_INFO!J66>1,COUNTRY_INFO!J66<4), IF(S66/P66*100<>0, IF(X66/P66*100>100,100,X66/P66*100), \"-\"),0)","v":0},{"$f":"COUNTRY_INFO!P66","v":25977.5},null,null,{"$f":"MAX('T1'!L66,'T2'!J66)+MAX('T1'!M66,'T2'!K66)+MAX('T1'!N66,'T2'!L66)","v":19679},{"$f":"IF(COUNTRY_INFO!K66=1,IF(COUNTRY_INFO!F66*0.33>MAX('T1'!M66,'T2'!K66),MAX('T1'!M66,'T2'!K66),COUNTRY_INFO!F66*0.33),IF(COUNTRY_INFO!K66=2,IF(COUNTRY_INFO!F66*0.5>MAX('T1'!M66,'T2'!K66),MAX('T1'!M66,'T2'!K66),COUNTRY_INFO!F66*0.5),IF(COUNTRY_INFO!K66=3,IF(COUNTRY_INFO!F66>MAX('T1'!M66,'T2'!K66),MAX('T1'!M66,'T2'!K66),COUNTRY_INFO!F66),0)))","v":15727.5},{"$f":"IF(AND(COUNTRY_INFO!K66>0,COUNTRY_INFO!K66<4),IF(Z66>0,IF(COUNTRY_INFO!K66=1, AD66/(COUNTRY_INFO!F66*0.33)*100, IF(COUNTRY_INFO!K66=2, AD66/(COUNTRY_INFO!F66*0.5)*100, IF(COUNTRY_INFO!K66=3, AD66/COUNTRY_INFO!F66*100))),\"-\"),0)","v":100},{"$f":"IF(COUNTRY_INFO!K66=2,IF(COUNTRY_INFO!G66*0.2>MAX('T1'!N66,'T2'!L66),MAX('T1'!N66,'T2'!L66),COUNTRY_INFO!G66*0.2),IF(COUNTRY_INFO!K66=3,IF(COUNTRY_INFO!G66>MAX('T1'!N66,'T2'!L66),MAX('T1'!N66,'T2'!L66),COUNTRY_INFO!G66),0))","v":0},{"$f":"IF(AND(COUNTRY_INFO!K66>0,COUNTRY_INFO!K66<4),IF(Z66>0,IF(COUNTRY_INFO!K66=1, 0, IF(COUNTRY_INFO!K66=2, AF66/(COUNTRY_INFO!G66*0.2)*100, IF(COUNTRY_INFO!K66=3, AF66/COUNTRY_INFO!G66*100))),\"-\"),0)","v":0},15727.5,{"$f":"IF(AND(COUNTRY_INFO!K66>0,COUNTRY_INFO!K66<4), IF(AC66/Z66*100<>0, IF(AH66/Z66*100>100,100,AH66/Z66*100), \"-\"),0)","v":60.542777403522273},null,{"$f":"IF(AND(D66<>0, D66<>\"Inconnu\",D66<>\"Interrompu\",D66<>\"Non requis\"),D66/COUNTRY_INFO!D66, 0)","v":1},{"$f":"IF(AND(J66<>0,J66<>\"Inconnu\",J66<>\"Interrompu\",J66<>\"Non requis\"),J66/COUNTRY_INFO!D66, 0)","v":1},{"$f":"IF(AND(P66<>0,P66<>\"Inconnu\",P66<>\"Non requis\"),P66/(COUNTRY_INFO!E66+COUNTRY_INFO!F66), 0)","v":0},{"$f":"IF(AND(Z66<>0,Z66<>\"Inconnu\",Z66<>\"Non requis\"),IF(COUNTRY_INFO!K66=1,1,IF(COUNTRY_INFO!K66=2,0.5*COUNTRY_INFO!F66/(0.5*COUNTRY_INFO!F66+0.2*COUNTRY_INFO!G66),IF(COUNTRY_INFO!K66=3,COUNTRY_INFO!F66/(COUNTRY_INFO!F66+COUNTRY_INFO!G66)))),0)","v":0.60542777403522274},{"$f":"IF(AND(Z66<>0,Z66<>\"Inconnu\",Z66<>\"Non requis\"),IF(COUNTRY_INFO!K66=1,0,IF(COUNTRY_INFO!K66=2,0.2*COUNTRY_INFO!G66/(0.5*COUNTRY_INFO!F66+0.2*COUNTRY_INFO!G66),IF(COUNTRY_INFO!K66=3,COUNTRY_INFO!G66/(COUNTRY_INFO!F66+COUNTRY_INFO!G66)))),0)","v":0.3945722259647772},{"$f":"MAX(COUNTRY_INFO!D66*AK66*PROFILE!$G$7,COUNTRY_INFO!D66*AL66*PROFILE!$G$7)","v":3834.6745590789064},{"$f":"MAX(COUNTRY_INFO!D66*AK66*PROFILE!$G$8,COUNTRY_INFO!D66*AL66*PROFILE!$G$8,COUNTRY_INFO!D66*AM66*PROFILE!$G$8)","v":17100.6369947034},{"$f":"MAX(COUNTRY_INFO!D66*AK66*PROFILE!$G$9,COUNTRY_INFO!D66*AL66*PROFILE!$G$9,COUNTRY_INFO!D66*AM66*PROFILE!$G$9,IF(AND(DISTRICT!Z66<>\"Inconnu\",Z66<>\"Non requis\"),COUNTRY_INFO!P66*DISTRICT!AN66,0))","v":31454.712448291062},{"$f":"MAX(COUNTRY_INFO!D66*AK66*PROFILE!$G$10,COUNTRY_INFO!D66*AL66*PROFILE!$G$10,IF(AND(DISTRICT!Z66<>\"Inconnu\",Z66<>\"Non requis\"),COUNTRY_INFO!P66*DISTRICT!AO66,0))","v":51249.975997926631},103640,"Y",{"$f":"MAX('MDA4'!R66,'T1'!L66,'T2'!J66,T3_R1!K66,T3_R2!K66)","v":0},{"$f":"MAX('MDA1'!K66,'MDA4'!S66,'MDA3'!I66,'MDA3'!L66,'T1'!M66,'T2'!K66,T3_R1!L66,T3_R2!L66)","v":30441},{"$f":"MAX('MDA1'!L66,'MDA4'!T66,'MDA3'!J66,'MDA3'!M66,'T1'!N66,'T2'!L66,T3_R1!M66,T3_R2!M66)","v":50662},81103,{"$f":"MAX('MDA4'!R66,T66)","v":0},{"$f":"MAX('MDA1'!K66,'MDA4'!S66,'MDA3'!I66,'MDA3'!L66,V66,AD66)","v":30441},{"$f":"MAX('MDA1'!L66,'MDA4'!T66,'MDA3'!J66,'MDA3'!M66,AF66)","v":50662},81103,78.254534928599]
[{"$f":"IF(COUNTRY_INFO!A67=0,\" \",COUNTRY_INFO!A67)","v":"Chad"},{"$f":"IF(COUNTRY_INFO!B67=0,\" \",COUNTRY_INFO!B67)","v":"Logone Orientlal"},{"$f":"IF(COUNTRY_INFO!C67=0,\" \",COUNTRY_INFO!C67)","v":"Bessao"},{"$f":"COUNTRY_INFO!M67","v":182938},null,null,{"$f":"MAX('MDA1'!M67,'MDA4'!U67)","v":145165},{"$f":"IF(AND(COUNTRY_INFO!H67>0,COUNTRY_INFO!H67<4),IF(D67>MAX('MDA1'!M67,'MDA4'!U67),MAX('MDA1'!M67,'MDA4'!U67),D67),0)","v":145165},{"$f":"IF(AND(COUNTRY_INFO!H67>0,COUNTRY_INFO!H67<4), IF(G67/D67*100<>0, IF(G67/D67*100>100,100,G67/D67*100), \"-\"),0)","v":79.352020903256843},{"$f":"COUNTRY_INFO!N67","v":182938},null,null,{"$f":"MAX('MDA1'!M67,MAX('MDA3'!I67,'MDA3'!L67)+MAX('MDA3'!J67,'MDA3'!M67))","v":145165},{"$f":"IF(AND(COUNTRY_INFO!I67>0,COUNTRY_INFO!I67<4),IF(J67>MAX('MDA1'!M67,MAX('MDA3'!I67,'MDA3'!L67)+MAX('MDA3'!J67,'MDA3'!M67)),MAX('MDA1'!M67,MAX('MDA3'!I67,'MDA3'!L67)+MAX('MDA3'!J67,'MDA3'!M67)),J67),0)","v":145165},{"$f":"IF(AND(COUNTRY_INFO!I67>0,COUNTRY_INFO!I67<4), IF(M67/J67*100<>0, IF(M67/J67*100>100,100,M67/J67*100), \"-\"),0)","v":79.352020903256843},{"$f":"COUNTRY_INFO!O67","v":0},null,null,{"$f":"SUM(MAX('MDA4'!R67, 'T1'!L67, MAX(T3_R1!K67, T3_R2!K67)), MAX('MDA1'!K67, 'MDA4'!S67, 'T1'!M67, MAX(T3_R1!L67, T3_R2!L67)), MAX('MDA1'!L67, 'MDA4'!T67, 'T1'!N67, MAX(T3_R1!M67, T3_R2!M67)))","v":145165},{"$f":"IF(AND(COUNTRY_INFO!J67>1,COUNTRY_INFO!J67<4),IF(COUNTRY_INFO!E67>MAX('MDA4'!R67,'T1'!L67,MAX(T3_R1!K67,T3_R2!K67)),MAX('MDA4'!R67,'T1'!L67,MAX(T3_R1!K67,T3_R2!K67)),COUNTRY_INFO!E67),0)","v":0},{"$f":"IF(AND(COUNTRY_INFO!J67>1,COUNTRY_INFO!J67<4), IF(T67/COUNTRY_INFO!E67*100<>0, IF(T67/COUNTRY_INFO!E67*100>100,100,T67/COUNTRY_INFO!E67*100), \"-\"),0)","v":0},{"$f":"IF(AND(COUNTRY_INFO!J67>1,COUNTRY_INFO!J67<4),IF(COUNTRY_INFO!F67>MAX('MDA1'!K67,'MDA4'!S67,'T1'!M67,MAX(T3_R1!L67,T3_R2!L67)),MAX('MDA1'!K67,'MDA4'!S67,'T1'!M67,MAX(T3_R1!L67,T3_R2!L67)),COUNTRY_INFO!F67),0)","v":0},{"$f":"IF(AND(COUNTRY_INFO!J67>1,COUNTRY_INFO!J67<4), IF(V67/COUNTRY_INFO!F67*100<>0, IF(V67/COUNTRY_INFO!F67*100>100,100,V67/COUNTRY_INFO!F67*100), \"-\"),0)","v":0},0,{"$f":"IF(AND(COUNTRY_INFO!J67>1,COUNTRY_INFO!J67<4), IF(S67/P67*100<>0, IF(X67/P67*100>100,100,X67/P67*100), \"-\"),0)","v":0},{"$f":"COUNTRY_INFO!P67","v":45853.600000000006},null,null,{"$f":"MAX('T1'!L67,'T2'!J67)+MAX('T1'!M67,'T2'!K67)+MAX('T1'!N67,'T2'!L67)","v":54990},{"$f":"IF(COUNTRY_INFO!K67=1,IF(COUNTRY_INFO!F67*0.33>MAX('T1'!M67,'T2'!K67),MAX('T1'!M67,'T2'!K67),COUNTRY_INFO!F67*0.33),IF(COUNTRY_INFO!K67=2,IF(COUNTRY_INFO!F67*0.5>MAX('T1'!M67,'T2'!K67),MAX('T1'!M67,'T2'!K67),COUNTRY_INFO!F67*0.5),IF(COUNTRY_INFO!K67=3,IF(COUNTRY_INFO!F67>MAX('T1'!M67,'T2'!K67),MAX('T1'!M67,'T2'!K67),COUNTRY_INFO!F67),0)))","v":27761},{"$f":"IF(AND(COUNTRY_INFO!K67>0,COUNTRY_INFO!K67<4),IF(Z67>0,IF(COUNTRY_INFO!K67=1, AD67/(COUNTRY_INFO!F67*0.33)*100, IF(COUNTRY_INFO!K67=2, AD67/(COUNTRY_INFO!F67*0.5)*100, IF(COUNTRY_INFO!K67=3, AD67/COUNTRY_INFO!F67*100))),\"-\"),0)","v":100},{"$f":"IF(COUNTRY_INFO!K67=2,IF(COUNTRY_INFO!G67*0.2>MAX('T1'!N67,'T2'!L67),MAX('T1'!N67,'T2'!L67),COUNTRY_INFO!G67*0.2),IF(COUNTRY_INFO!K67=3,IF(COUNTRY_INFO!G67>MAX('T1'!N67,'T2'!L67),MAX('T1'!N67,'T2'!L67),COUNTRY_INFO!G67),0))","v":0},{"$f":"IF(AND(COUNTRY_INFO!K67>0,COUNTRY_INFO!K67<4),IF(Z67>0,IF(COUNTRY_INFO!K67=1, 0, IF(COUNTRY_INFO!K67=2, AF67/(COUNTRY_INFO!G67*0.2)*100, IF(COUNTRY_INFO!K67=3, AF67/COUNTRY_INFO!G67*100))),\"-\"),0)","v":0},27761,{"$f":"IF(AND(COUNTRY_INFO!K67>0,COUNTRY_INFO!K67<4), IF(AC67/Z67*100<>0, IF(AH67/Z67*100>100,100,AH67/Z67*100), \"-\"),0)","v":60.542683671511064},null,{"$f":"IF(AND(D67<>0, D67<>\"Inconnu\",D67<>\"Interrompu\",D67<>\"Non requis\"),D67/COUNTRY_INFO!D67, 0)","v":1},{"$f":"IF(AND(J67<>0,J67<>\"Inconnu\",J67<>\"Interrompu\",J67<>\"Non requis\"),J67/COUNTRY_INFO!D67, 0)","v":1},{"$f":"IF(AND(P67<>0,P67<>\"Inconnu\",P67<>\"Non requis\"),P67/(COUNTRY_INFO!E67+COUNTRY_INFO!F67), 0)","v":0},{"$f":"IF(AND(Z67<>0,Z67<>\"Inconnu\",Z67<>\"Non requis\"),IF(COUNTRY_INFO!K67=1,1,IF(COUNTRY_INFO!K67=2,0.5*COUNTRY_INFO!F67/(0.5*COUNTRY_INFO!F67+0.2*COUNTRY_INFO!G67),IF(COUNTRY_INFO!K67=3,COUNTRY_INFO!F67/(COUNTRY_INFO!F67+COUNTRY_INFO!G67)))),0)","v":0.60542683671511066},{"$f":"IF(AND(Z67<>0,Z67<>\"Inconnu\",Z67<>\"Non requis\"),IF(COUNTRY_INFO!K67=1,0,IF(COUNTRY_INFO!K67=2,0.2*COUNTRY_INFO!G67/(0.5*COUNTRY_INFO!F67+0.2*COUNTRY_INFO!G67),IF(COUNTRY_INFO!K67=3,COUNTRY_INFO!G67/(COUNTRY_INFO!F67+COUNTRY_INFO!G67)))),0)","v":0.39457316328488928},{"$f":"MAX(COUNTRY_INFO!D67*AK67*PROFILE!$G$7,COUNTRY_INFO!D67*AL67*PROFILE!$G$7)","v":6768.6963960707926},{"$f":"MAX(COUNTRY_INFO!D67*AK67*PROFILE!$G$8,COUNTRY_INFO!D67*AL67*PROFILE!$G$8,COUNTRY_INFO!D67*AM67*PROFILE!$G$8)","v":30184.835300434679},{"$f":"MAX(COUNTRY_INFO!D67*AK67*PROFILE!$G$9,COUNTRY_INFO!D67*AL67*PROFILE!$G$9,COUNTRY_INFO!D67*AM67*PROFILE!$G$9,IF(AND(DISTRICT!Z67<>\"Inconnu\",Z67<>\"Non requis\"),COUNTRY_INFO!P67*DISTRICT!AN67,0))","v":55521.63436767146},{"$f":"MAX(COUNTRY_INFO!D67*AK67*PROFILE!$G$10,COUNTRY_INFO!D67*AL67*PROFILE!$G$10,IF(AND(DISTRICT!Z67<>\"Inconnu\",Z67<>\"Non requis\"),COUNTRY_INFO!P67*DISTRICT!AO67,0))","v":90462.833935823059},182938,"Y",{"$f":"MAX('MDA4'!R67,'T1'!L67,'T2'!J67,T3_R1!K67,T3_R2!K67)","v":0},{"$f":"MAX('MDA1'!K67,'MDA4'!S67,'MDA3'!I67,'MDA3'!L67,'T1'!M67,'T2'!K67,T3_R1!L67,T3_R2!L67)","v":55518},{"$f":"MAX('MDA1'!L67,'MDA4'!T67,'MDA3'!J67,'MDA3'!M67,'T1'!N67,'T2'!L67,T3_R1!M67,T3_R2!M67)","v":89647},145165,{"$f":"MAX('MDA4'!R67,T67)","v":0},{"$f":"MAX('MDA1'!K67,'MDA4'!S67,'MDA3'!I67,'MDA3'!L67,V67,AD67)","v":55518},{"$f":"MAX('MDA1'!L67,'MDA4'!T67,'MDA3'!J67,'MDA3'!M67,AF67)","v":89647},145165,79.352020903256843]
[{"$f":"IF(COUNTRY_INFO!A68=0,\" \",COUNTRY_INFO!A68)","v":"Chad"},{"$f":"IF(COUNTRY_INFO!B68=0,\" \",COUNTRY_INFO!B68)","v":"Logone Orientlal"},{"$f":"IF(COUNTRY_INFO!C68=0,\" \",COUNTRY_INFO!C68)","v":"Bodo"},{"$f":"COUNTRY_INFO!M68","v":157517},null,null,{"$f":"MAX('MDA1'!M68,'MDA4'!U68)","v":123373},{"$f":"IF(AND(COUNTRY_INFO!H68>0,COUNTRY_INFO!H68<4),IF(D68>MAX('MDA1'!M68,'MDA4'!U68),MAX('MDA1'!M68,'MDA4'!U68),D68),0)","v":123373},{"$f":"IF(AND(COUNTRY_INFO!H68>0,COUNTRY_INFO!H68<4), IF(G68/D68*100<>0, IF(G68/D68*100>100,100,G68/D68*100), \"-\"),0)","v":78.32360951516344},{"$f":"COUNTRY_INFO!N68","v":0},null,null,{"$f":"MAX('MDA1'!M68,MAX('MDA3'!I68,'MDA3'!L68)+MAX('MDA3'!J68,'MDA3'!M68))","v":123373},{"$f":"IF(AND(COUNTRY_INFO!I68>0,COUNTRY_INFO!I68<4),IF(J68>MAX('MDA1'!M68,MAX('MDA3'!I68,'MDA3'!L68)+MAX('MDA3'!J68,'MDA3'!M68)),MAX('MDA1'!M68,MAX('MDA3'!I68,'MDA3'!L68)+MAX('MDA3'!J68,'MDA3'!M68)),J68),0)","v":0},{"$f":"IF(AND(COUNTRY_INFO!I68>0,COUNTRY_INFO!I68<4), IF(M68/J68*100<>0, IF(M68/J68*100>100,100,M68/J68*100), \"-\"),0)","v":0},{"$f":"COUNTRY_INFO!O68","v":0},null,null,{"$f":"SUM(MAX('MDA4'!R68, 'T1'!L68, MAX(T3_R1!K68, T3_R2!K68)), MAX('MDA1'!K68, 'MDA4'!S68, 'T1'!M68, MAX(T3_R1!L68, T3_R2!L68)), MAX('MDA1'!L68, 'MDA4'!T68, 'T1'!N68, MAX(T3_R1!M68, T3_R2!M68)))","v":123373},{"$f":"IF(AND(COUNTRY_INFO!J68>1,COUNTRY_INFO!J68<4),IF(COUNTRY_INFO!E68>MAX('MDA4'!R68,'T1'!L68,MAX(T3_R1!K68,T3_R2!K68)),MAX('MDA4'!R68,'T1'!L68,MAX(T3_R1!K68,T3_R2!K68)),COUNTRY_INFO!E68),0)","v":0},{"$f":"IF(AND(COUNTRY_INFO!J68>1,COUNTRY_INFO!J68<4), IF(T68/COUNTRY_INFO!E68*100<>0, IF(T68/COUNTRY_INFO!E68*100>100,100,T68/COUNTRY_INFO!E68*100), \"-\"),0)","v":0},{"$f":"IF(AND(COUNTRY_INFO!J68>1,COUNTRY_INFO!J68<4),IF(COUNTRY_INFO!F68>MAX('MDA1'!K68,'MDA4'!S68,'T1'!M68,MAX(T3_R1!L68,T3_R2!L68)),MAX('MDA1'!K68,'MDA4'!S68,'T1'!M68,MAX(T3_R1!L68,T3_R2!L68)),COUNTRY_INFO!F68),0)","v":0},{"$f":"IF(AND(COUNTRY_INFO!J68>1,COUNTRY_INFO!J68<4), IF(V68/COUNTRY_INFO!F68*100<>0, IF(V68/COUNTRY_INFO!F68*100>100,100,V68/COUNTRY_INFO!F68*100), \"-\"),0)","v":0},0,{"$f":"IF(AND(COUNTRY_INFO!J68>1,COUNTRY_INFO!J68<4), IF(S68/P68*100<>0, IF(X68/P68*100>100,100,X68/P68*100), \"-\"),0)","v":0},{"$f":"COUNTRY_INFO!P68","v":39481.4},null,null,{"$f":"MAX('T1'!L68,'T2'!J68)+MAX('T1'!M68,'T2'!K68)+MAX('T1'!N68,'T2'!L68)","v":42680},{"$f":"IF(COUNTRY_INFO!K68=1,IF(COUNTRY_INFO!F68*0.33>MAX('T1'!M68,'T2'!K68),MAX('T1'!M68,'T2'!K68),COUNTRY_INFO!F68*0.33),IF(COUNTRY_INFO!K68=2,IF(COUNTRY_INFO!F68*0.5>MAX('T1'!M68,'T2'!K68),MAX('T1'!M68,'T2'!K68),COUNTRY_INFO!F68*0.5),IF(COUNTRY_INFO!K68=3,IF(COUNTRY_INFO!F68>MAX('T1'!M68,'T2'!K68),MAX('T1'!M68,'T2'!K68),COUNTRY_INFO!F68),0)))","v":23903},{"$f":"IF(AND(COUNTRY_INFO!K68>0,COUNTRY_INFO!K68<4),IF(Z68>0,IF(COUNTRY_INFO!K68=1, AD68/(COUNTRY_INFO!F68*0.33)*100, IF(COUNTRY_INFO!K68=2, AD68/(COUNTRY_INFO!F68*0.5)*100, IF(COUNTRY_INFO!K68=3, AD68/COUNTRY_INFO!F68*100))),\"-\"),0)","v":100},{"$f":"IF(COUNTRY_INFO!K68=2,IF(COUNTRY_INFO!G68*0.2>MAX('T1'!N68,'T2'!L68),MAX('T1'!N68,'T2'!L68),COUNTRY_INFO!G68*0.2),IF(COUNTRY_INFO!K68=3,IF(COUNTRY_INFO!G68>MAX('T1'!N68,'T2'!L68),MAX('T1'!N68,'T2'!L68),COUNTRY_INFO!G68),0))","v":0},{"$f":"IF(AND(COUNTRY_INFO!K68>0,COUNTRY_INFO!K68<4),IF(Z68>0,IF(COUNTRY_INFO!K68=1, 0, IF(COUNTRY_INFO!K68=2, AF68/(COUNTRY_INFO!G68*0.2)*100, IF(COUNTRY_INFO!K68=3, AF68/COUNTRY_INFO!G68*100))),\"-\"),0)","v":0},23903,{"$f":"IF(AND(COUNTRY_INFO!K68>0,COUNTRY_INFO!K68<4), IF(AC68/Z68*100<>0, IF(AH68/Z68*100>100,100,AH68/Z68*100), \"-\"),0)","v":60.542432639166798},null,{"$f":"IF(AND(D68<>0, D68<>\"Inconnu\",D68<>\"Interrompu\",D68<>\"Non requis\"),D68/COUNTRY_INFO!D68, 0)","v":1},{"$f":"IF(AND(J68<>0,J68<>\"Inconnu\",J68<>\"Interrompu\",J68<>\"Non requis\"),J68/COUNTRY_INFO!D68, 0)","v":0},{"$f":"IF(AND(P68<>0,P68<>\"Inconnu\",P68<>\"Non requis\"),P68/(COUNTRY_INFO!E68+COUNTRY_INFO!F68), 0)","v":0},{"$f":"IF(AND(Z68<>0,Z68<>\"Inconnu\",Z68<>\"Non requis\"),IF(COUNTRY_INFO!K68=1,1,IF(COUNTRY_INFO!K68=2,0.5*COUNTRY_INFO!F68/(0.5*COUNTRY_INFO!F68+0.2*COUNTRY_INFO!G68),IF(COUNTRY_INFO!K68=3,COUNTRY_INFO!F68/(COUNTRY_INFO!F68+COUNTRY_INFO!G68)))),0)","v":0.60542432639166799},{"$f":"IF(AND(Z68<>0,Z68<>\"Inconnu\",Z68<>\"Non requis\"),IF(COUNTRY_INFO!K68=1,0,IF(COUNTRY_INFO!K68=2,0.2*COUNTRY_INFO!G68/(0.5*COUNTRY_INFO!F68+0.2*COUNTRY_INFO!G68),IF(COUNTRY_INFO!K68=3,COUNTRY_INFO!G68/(COUNTRY_INFO!F68+COUNTRY_INFO!G68)))),0)","v":0.39457567360833207},{"$f":"MAX(COUNTRY_INFO!D68*AK68*PROFILE!$G$7,COUNTRY_INFO!D68*AL68*PROFILE!$G$7)","v":5828.12073062941},{"$f":"MAX(COUNTRY_INFO!D68*AK68*PROFILE!$G$8,COUNTRY_INFO!D68*AL68*PROFILE!$G$8,COUNTRY_INFO!D68*AM68*PROFILE!$G$8)","v":25990.361226309295},{"$f":"MAX(COUNTRY_INFO!D68*AK68*PROFILE!$G$9,COUNTRY_INFO!D68*AL68*PROFILE!$G$9,COUNTRY_INFO!D68*AM68*PROFILE!$G$9,IF(AND(DISTRICT!Z68<>\"Inconnu\",Z68<>\"Non requis\"),COUNTRY_INFO!P68*DISTRICT!AN68,0))","v":47806.367625602696},{"$f":"MAX(COUNTRY_INFO!D68*AK68*PROFILE!$G$10,COUNTRY_INFO!D68*AL68*PROFILE!$G$10,IF(AND(DISTRICT!Z68<>\"Inconnu\",Z68<>\"Non requis\"),COUNTRY_INFO!P68*DISTRICT!AO68,0))","v":77892.150417458601},157517,"Y",{"$f":"MAX('MDA4'!R68,'T1'!L68,'T2'!J68,T3_R1!K68,T3_R2!K68)","v":0},{"$f":"MAX('MDA1'!K68,'MDA4'!S68,'MDA3'!I68,'MDA3'!L68,'T1'!M68,'T2'!K68,T3_R1!L68,T3_R2!L68)","v":46257},{"$f":"MAX('MDA1'!L68,'MDA4'!T68,'MDA3'!J68,'MDA3'!M68,'T1'!N68,'T2'!L68,T3_R1!M68,T3_R2!M68)","v":77116},123373,{"$f":"MAX('MDA4'!R68,T68)","v":0},{"$f":"MAX('MDA1'!K68,'MDA4'!S68,'MDA3'!I68,'MDA3'!L68,V68,AD68)","v":46257},{"$f":"MAX('MDA1'!L68,'MDA4'!T68,'MDA3'!J68,'MDA3'!M68,AF68)","v":77116},123373,78.32360951516344]
[{"$f":"IF(COUNTRY_INFO!A69=0,\" \",COUNTRY_INFO!A69)","v":"Chad"},{"$f":"IF(COUNTRY_INFO!B69=0,\" \",COUNTRY_INFO!B69)","v":"Logone Orientlal"},{"$f":"IF(COUNTRY_INFO!C69=0,\" \",COUNTRY_INFO!C69)","v":"Doba"},{"$f":"COUNTRY_INFO!M69","v":230080},null,null,{"$f":"MAX('MDA1'!M69,'MDA4'!U69)","v":159773},{"$f":"IF(AND(COUNTRY_INFO!H69>0,COUNTRY_INFO!H69<4),IF(D69>MAX('MDA1'!M69,'MDA4'!U69),MAX('MDA1'!M69,'MDA4'!U69),D69),0)","v":159773},{"$f":"IF(AND(COUNTRY_INFO!H69>0,COUNTRY_INFO!H69<4), IF(G69/D69*100<>0, IF(G69/D69*100>100,100,G69/D69*100), \"-\"),0)","v":69.442367872044514},{"$f":"COUNTRY_INFO!N69","v":230080},null,null,{"$f":"MAX('MDA1'!M69,MAX('MDA3'!I69,'MDA3'!L69)+MAX('MDA3'!J69,'MDA3'!M69))","v":159773},{"$f":"IF(AND(COUNTRY_INFO!I69>0,COUNTRY_INFO!I69<4),IF(J69>MAX('MDA1'!M69,MAX('MDA3'!I69,'MDA3'!L69)+MAX('MDA3'!J69,'MDA3'!M69)),MAX('MDA1'!M69,MAX('MDA3'!I69,'MDA3'!L69)+MAX('MDA3'!J69,'MDA3'!M69)),J69),0)","v":159773},{"$f":"IF(AND(COUNTRY_INFO!I69>0,COUNTRY_INFO!I69<4), IF(M69/J69*100<>0, IF(M69/J69*100>100,100,M69/J69*100), \"-\"),0)","v":69.442367872044514},{"$f":"COUNTRY_INFO!O69","v":0},null,null,{"$f":"SUM(MAX('MDA4'!R69, 'T1'!L69, MAX(T3_R1!K69, T3_R2!K69)), MAX('MDA1'!K69, 'MDA4'!S69, 'T1'!M69, MAX(T3_R1!L69, T3_R2!L69)), MAX('MDA1'!L69, 'MDA4'!T69, 'T1'!N69, MAX(T3_R1!M69, T3_R2!M69)))","v":159773},{"$f":"IF(AND(COUNTRY_INFO!J69>1,COUNTRY_INFO!J69<4),IF(COUNTRY_INFO!E69>MAX('MDA4'!R69,'T1'!L69,MAX(T3_R1!K69,T3_R2!K69)),MAX('MDA4'!R69,'T1'!L69,MAX(T3_R1!K69,T3_R2!K69)),COUNTRY_INFO!E69),0)","v":0},{"$f":"IF(AND(COUNTRY_INFO!J69>1,COUNTRY_INFO!J69<4), IF(T69/COUNTRY_INFO!E69*100<>0, IF(T69/COUNTRY_INFO!E69*100>100,100,T69/COUNTRY_INFO!E69*100), \"-\"),0)","v":0},{"$f":"IF(AND(COUNTRY_INFO!J69>1,COUNTRY_INFO!J69<4),IF(COUNTRY_INFO!F69>MAX('MDA1'!K69,'MDA4'!S69,'T1'!M69,MAX(T3_R1!L69,T3_R2!L69)),MAX('MDA1'!K69,'MDA4'!S69,'T1'!M69,MAX(T3_R1!L69,T3_R2!L69)),COUNTRY_INFO!F69),0)","v":0},{"$f":"IF(AND(COUNTRY_INFO!J69>1,COUNTRY_INFO!J69<4), IF(V69/COUNTRY_INFO!F69*100<>0, IF(V69/COUNTRY_INFO!F69*100>100,100,V69/COUNTRY_INFO!F69*100), \"-\"),0)","v":0},0,{"$f":"IF(AND(COUNTRY_INFO!J69>1,COUNTRY_INFO!J69<4), IF(S69/P69*100<>0, IF(X69/P69*100>100,100,X69/P69*100), \"-\"),0)","v":0},{"$f":"COUNTRY_INFO!P69","v":23043.57},null,null,{"$f":"MAX('T1'!L69,'T2'!J69)+MAX('T1'!M69,'T2'!K69)+MAX('T1'!N69,'T2'!L69)","v":66417},{"$f":"IF(COUNTRY_INFO!K69=1,IF(COUNTRY_INFO!F69*0.33>MAX('T1'!M69,'T2'!K69),MAX('T1'!M69,'T2'!K69),COUNTRY_INFO!F69*0.33),IF(COUNTRY_INFO!K69=2,IF(COUNTRY_INFO!F69*0.5>MAX('T1'!M69,'T2'!K69),MAX('T1'!M69,'T2'!K69),COUNTRY_INFO!F69*0.5),IF(COUNTRY_INFO!K69=3,IF(COUNTRY_INFO!F69>MAX('T1'!M69,'T2'!K69),MAX('T1'!M69,'T2'!K69),COUNTRY_INFO!F69),0)))","v":23043.57},{"$f":"IF(AND(COUNTRY_INFO!K69>0,COUNTRY_INFO!K69<4),IF(Z69>0,IF(COUNTRY_INFO!K69=1, AD69/(COUNTRY_INFO!F69*0.33)*100, IF(COUNTRY_INFO!K69=2, AD69/(COUNTRY_INFO!F69*0.5)*100, IF(COUNTRY_INFO!K69=3, AD69/COUNTRY_INFO!F69*100))),\"-\"),0)","v":100},{"$f":"IF(COUNTRY_INFO!K69=2,IF(COUNTRY_INFO!G69*0.2>MAX('T1'!N69,'T2'!L69),MAX('T1'!N69,'T2'!L69),COUNTRY_INFO!G69*0.2),IF(COUNTRY_INFO!K69=3,IF(COUNTRY_INFO!G69>MAX('T1'!N69,'T2'!L69),MAX('T1'!N69,'T2'!L69),COUNTRY_INFO!G69),0))","v":0},{"$f":"IF(AND(COUNTRY_INFO!K69>0,COUNTRY_INFO!K69<4),IF(Z69>0,IF(COUNTRY_INFO!K69=1, 0, IF(COUNTRY_INFO!K69=2, AF69/(COUNTRY_INFO!G69*0.2)*100, IF(COUNTRY_INFO!K69=3, AF69/COUNTRY_INFO!G69*100))),\"-\"),0)","v":0},23043.57,{"$f":"IF(AND(COUNTRY_INFO!K69>0,COUNTRY_INFO!K69<4), IF(AC69/Z69*100<>0, IF(AH69/Z69*100>100,100,AH69/Z69*100), \"-\"),0)","v":100},null,{"$f":"IF(AND(D69<>0, D69<>\"Inconnu\",D69<>\"Interrompu\",D69<>\"Non requis\"),D69/COUNTRY_INFO!D69, 0)","v":1},{"$f":"IF(AND(J69<>0,J69<>\"Inconnu\",J69<>\"Interrompu\",J69<>\"Non requis\"),J69/COUNTRY_INFO!D69, 0)","v":1},{"$f":"IF(AND(P69<>0,P69<>\"Inconnu\",P69<>\"Non requis\"),P69/(COUNTRY_INFO!E69+COUNTRY_INFO!F69), 0)","v":0},{"$f":"IF(AND(Z69<>0,Z69<>\"Inconnu\",Z69<>\"Non requis\"),IF(COUNTRY_INFO!K69=1,1,IF(COUNTRY_INFO!K69=2,0.5*COUNTRY_INFO!F69/(0.5*COUNTRY_INFO!F69+0.2*COUNTRY_INFO!G69),IF(COUNTRY_INFO!K69=3,COUNTRY_INFO!F69/(COUNTRY_INFO!F69+COUNTRY_INFO!G69)))),0)","v":1},{"$f":"IF(AND(Z69<>0,Z69<>\"Inconnu\",Z69<>\"Non requis\"),IF(COUNTRY_INFO!K69=1,0,IF(COUNTRY_INFO!K69=2,0.2*COUNTRY_INFO!G69/(0.5*COUNTRY_INFO!F69+0.2*COUNTRY_INFO!G69),IF(COUNTRY_INFO!K69=3,COUNTRY_INFO!G69/(COUNTRY_INFO!F69+COUNTRY_INFO!G69)))),0)","v":0},{"$f":"MAX(COUNTRY_INFO!D69*AK69*PROFILE!$G$7,COUNTRY_INFO!D69*AL69*PROFILE!$G$7)","v":8512.9479211971702},{"$f":"MAX(COUNTRY_INFO!D69*AK69*PROFILE!$G$8,COUNTRY_INFO!D69*AL69*PROFILE!$G$8,COUNTRY_INFO!D69*AM69*PROFILE!$G$8)","v":37963.282127955979},{"$f":"MAX(COUNTRY_INFO!D69*AK69*PROFILE!$G$9,COUNTRY_INFO!D69*AL69*PROFILE!$G$9,COUNTRY_INFO!D69*AM69*PROFILE!$G$9,IF(AND(DISTRICT!Z69<>\"Inconnu\",Z69<>\"Non requis\"),COUNTRY_INFO!P69*DISTRICT!AN69,0))","v":69829.218835418826},{"$f":"MAX(COUNTRY_INFO!D69*AK69*PROFILE!$G$10,COUNTRY_INFO!D69*AL69*PROFILE!$G$10,IF(AND(DISTRICT!Z69<>\"Inconnu\",Z69<>\"Non requis\"),COUNTRY_INFO!P69*DISTRICT!AO69,0))","v":113774.55111542802},230080,"Y",{"$f":"MAX('MDA4'!R69,'T1'!L69,'T2'!J69,T3_R1!K69,T3_R2!K69)","v":0},{"$f":"MAX('MDA1'!K69,'MDA4'!S69,'MDA3'!I69,'MDA3'!L69,'T1'!M69,'T2'!K69,T3_R1!L69,T3_R2!L69)","v":68241},{"$f":"MAX('MDA1'!L69,'MDA4'!T69,'MDA3'!J69,'MDA3'!M69,'T1'!N69,'T2'!L69,T3_R1!M69,T3_R2!M69)","v":91532},159773,{"$f":"MAX('MDA4'!R69,T69)","v":0},{"$f":"MAX('MDA1'!K69,'MDA4'!S69,'MDA3'!I69,'MDA3'!L69,V69,AD69)","v":68241},{"$f":"MAX('MDA1'!L69,'MDA4'!T69,'MDA3'!J69,'MDA3'!M69,AF69)","v":91532},159773,69.442367872044514]
[{"$f":"IF(COUNTRY_INFO!A70=0,\" \",COUNTRY_INFO!A70)","v":"Chad"},{"$f":"IF(COUNTRY_INFO!B70=0,\" \",COUNTRY_INFO!B70)","v":"Logone Orientlal"},{"$f":"IF(COUNTRY_INFO!C70=0,\" \",COUNTRY_INFO!C70)","v":"DONIA"},{"$f":"COUNTRY_INFO!M70","v":88245},null,null,{"$f":"MAX('MDA1'!M70,'MDA4'!U70)","v":78508},{"$f":"IF(AND(COUNTRY_INFO!H70>0,COUNTRY_INFO!H70<4),IF(D70>MAX('MDA1'!M70,'MDA4'!U70),MAX('MDA1'!M70,'MDA4'!U70),D70),0)","v":78508},{"$f":"IF(AND(COUNTRY_INFO!H70>0,COUNTRY_INFO!H70<4), IF(G70/D70*100<>0, IF(G70/D70*100>100,100,G70/D70*100), \"-\"),0)","v":88.965947079154631},{"$f":"COUNTRY_INFO!N70","v":88245},null,null,{"$f":"MAX('MDA1'!M70,MAX('MDA3'!I70,'MDA3'!L70)+MAX('MDA3'!J70,'MDA3'!M70))","v":78508},{"$f":"IF(AND(COUNTRY_INFO!I70>0,COUNTRY_INFO!I70<4),IF(J70>MAX('MDA1'!M70,MAX('MDA3'!I70,'MDA3'!L70)+MAX('MDA3'!J70,'MDA3'!M70)),MAX('MDA1'!M70,MAX('MDA3'!I70,'MDA3'!L70)+MAX('MDA3'!J70,'MDA3'!M70)),J70),0)","v":78508},{"$f":"IF(AND(COUNTRY_INFO!I70>0,COUNTRY_INFO!I70<4), IF(M70/J70*100<>0, IF(M70/J70*100>100,100,M70/J70*100), \"-\"),0)","v":88.965947079154631},{"$f":"COUNTRY_INFO!O70","v":0},null,null,{"$f":"SUM(MAX('MDA4'!R70, 'T1'!L70, MAX(T3_R1!K70, T3_R2!K70)), MAX('MDA1'!K70, 'MDA4'!S70, 'T1'!M70, MAX(T3_R1!L70, T3_R2!L70)), MAX('MDA1'!L70, 'MDA4'!T70, 'T1'!N70, MAX(T3_R1!M70, T3_R2!M70)))","v":78508},{"$f":"IF(AND(COUNTRY_INFO!J70>1,COUNTRY_INFO!J70<4),IF(COUNTRY_INFO!E70>MAX('MDA4'!R70,'T1'!L70,MAX(T3_R1!K70,T3_R2!K70)),MAX('MDA4'!R70,'T1'!L70,MAX(T3_R1!K70,T3_R2!K70)),COUNTRY_INFO!E70),0)","v":0},{"$f":"IF(AND(COUNTRY_INFO!J70>1,COUNTRY_INFO!J70<4), IF(T70/COUNTRY_INFO!E70*100<>0, IF(T70/COUNTRY_INFO!E70*100>100,100,T70/COUNTRY_INFO!E70*100), \"-\"),0)","v":0},{"$f":"IF(AND(COUNTRY_INFO!J70>1,COUNTRY_INFO!J70<4),IF(COUNTRY_INFO!F70>MAX('MDA1'!K70,'MDA4'!S70,'T1'!M70,MAX(T3_R1!L70,T3_R2!L70)),MAX('MDA1'!K70,'MDA4'!S70,'T1'!M70,MAX(T3_R1!L70,T3_R2!L70)),COUNTRY_INFO!F70),0)","v":0},{"$f":"IF(AND(COUNTRY_INFO!J70>1,COUNTRY_INFO!J70<4), IF(V70/COUNTRY_INFO!F70*100<>0, IF(V70/COUNTRY_INFO!F70*100>100,100,V70/COUNTRY_INFO!F70*100), \"-\"),0)","v":0},0,{"$f":"IF(AND(COUNTRY_INFO!J70>1,COUNTRY_INFO!J70<4), IF(S70/P70*100<>0, IF(X70/P70*100>100,100,X70/P70*100), \"-\"),0)","v":0},{"$f":"COUNTRY_INFO!P70","v":22118.400000000001},null,null,{"$f":"MAX('T1'!L70,'T2'!J70)+MAX('T1'!M70,'T2'!K70)+MAX('T1'!N70,'T2'!L70)","v":25782},{"$f":"IF(COUNTRY_INFO!K70=1,IF(COUNTRY_INFO!F70*0.33>MAX('T1'!M70,'T2'!K70),MAX('T1'!M70,'T2'!K70),COUNTRY_INFO!F70*0.33),IF(COUNTRY_INFO!K70=2,IF(COUNTRY_INFO!F70*0.5>MAX('T1'!M70,'T2'!K70),MAX('T1'!M70,'T2'!K70),COUNTRY_INFO!F70*0.5),IF(COUNTRY_INFO!K70=3,IF(COUNTRY_INFO!F70>MAX('T1'!M70,'T2'!K70),MAX('T1'!M70,'T2'!K70),COUNTRY_INFO!F70),0)))","v":13391},{"$f":"IF(AND(COUNTRY_INFO!K70>0,COUNTRY_INFO!K70<4),IF(Z70>0,IF(COUNTRY_INFO!K70=1, AD70/(COUNTRY_INFO!F70*0.33)*100, IF(COUNTRY_INFO!K70=2, AD70/(COUNTRY_INFO!F70*0.5)*100, IF(COUNTRY_INFO!K70=3, AD70/COUNTRY_INFO!F70*100))),\"-\"),0)","v":100},{"$f":"IF(COUNTRY_INFO!K70=2,IF(COUNTRY_INFO!G70*0.2>MAX('T1'!N70,'T2'!L70),MAX('T1'!N70,'T2'!L70),COUNTRY_INFO!G70*0.2),IF(COUNTRY_INFO!K70=3,IF(COUNTRY_INFO!G70>MAX('T1'!N70,'T2'!L70),MAX('T1'!N70,'T2'!L70),COUNTRY_INFO!G70),0))","v":0},{"$f":"IF(AND(COUNTRY_INFO!K70>0,COUNTRY_INFO!K70<4),IF(Z70>0,IF(COUNTRY_INFO!K70=1, 0, IF(COUNTRY_INFO!K70=2, AF70/(COUNTRY_INFO!G70*0.2)*100, IF(COUNTRY_INFO!K70=3, AF70/COUNTRY_INFO!G70*100))),\"-\"),0)","v":0},13391,{"$f":"IF(AND(COUNTRY_INFO!K70>0,COUNTRY_INFO!K70<4), IF(AC70/Z70*100<>0, IF(AH70/Z70*100>100,100,AH70/Z70*100), \"-\"),0)","v":60.542353877314817},null,{"$f":"IF(AND(D70<>0, D70<>\"Inconnu\",D70<>\"Interrompu\",D70<>\"Non requis\"),D70/COUNTRY_INFO!D70, 0)","v":1},{"$f":"IF(AND(J70<>0,J70<>\"Inconnu\",J70<>\"Interrompu\",J70<>\"Non requis\"),J70/COUNTRY_INFO!D70, 0)","v":1},{"$f":"IF(AND(P70<>0,P70<>\"Inconnu\",P70<>\"Non requis\"),P70/(COUNTRY_INFO!E70+COUNTRY_INFO!F70), 0)","v":0},{"$f":"IF(AND(Z70<>0,Z70<>\"Inconnu\",Z70<>\"Non requis\"),IF(COUNTRY_INFO!K70=1,1,IF(COUNTRY_INFO!K70=2,0.5*COUNTRY_INFO!F70/(0.5*COUNTRY_INFO!F70+0.2*COUNTRY_INFO!G70),IF(COUNTRY_INFO!K70=3,COUNTRY_INFO!F70/(COUNTRY_INFO!F70+COUNTRY_INFO!G70)))),0)","v":0.60542353877314814},{"$f":"IF(AND(Z70<>0,Z70<>\"Inconnu\",Z70<>\"Non requis\"),IF(COUNTRY_INFO!K70=1,0,IF(COUNTRY_INFO!K70=2,0.2*COUNTRY_INFO!G70/(0.5*COUNTRY_INFO!F70+0.2*COUNTRY_INFO!G70),IF(COUNTRY_INFO!K70=3,COUNTRY_INFO!G70/(COUNTRY_INFO!F70+COUNTRY_INFO!G70)))),0)","v":0.3945764612268518},{"$f":"MAX(COUNTRY_INFO!D70*AK70*PROFILE!$G$7,COUNTRY_INFO!D70*AL70*PROFILE!$G$7)","v":3265.060367289831},{"$f":"MAX(COUNTRY_INFO!D70*AK70*PROFILE!$G$8,COUNTRY_INFO!D70*AL70*PROFILE!$G$8,COUNTRY_INFO!D70*AM70*PROFILE!$G$8)","v":14560.456499397929},{"$f":"MAX(COUNTRY_INFO!D70*AK70*PROFILE!$G$9,COUNTRY_INFO!D70*AL70*PROFILE!$G$9,COUNTRY_INFO!D70*AM70*PROFILE!$G$9,IF(AND(DISTRICT!Z70<>\"Inconnu\",Z70<>\"Non requis\"),COUNTRY_INFO!P70*DISTRICT!AN70,0))","v":26782.334040905487},{"$f":"MAX(COUNTRY_INFO!D70*AK70*PROFILE!$G$10,COUNTRY_INFO!D70*AL70*PROFILE!$G$10,IF(AND(DISTRICT!Z70<>\"Inconnu\",Z70<>\"Non requis\"),COUNTRY_INFO!P70*DISTRICT!AO70,0))","v":43637.149092406755},88245,"Y",{"$f":"MAX('MDA4'!R70,'T1'!L70,'T2'!J70,T3_R1!K70,T3_R2!K70)","v":0},{"$f":"MAX('MDA1'!K70,'MDA4'!S70,'MDA3'!I70,'MDA3'!L70,'T1'!M70,'T2'!K70,T3_R1!L70,T3_R2!L70)","v":26796},{"$f":"MAX('MDA1'!L70,'MDA4'!T70,'MDA3'!J70,'MDA3'!M70,'T1'!N70,'T2'!L70,T3_R1!M70,T3_R2!M70)","v":51712},78508,{"$f":"MAX('MDA4'!R70,T70)","v":0},{"$f":"MAX('MDA1'!K70,'MDA4'!S70,'MDA3'!I70,'MDA3'!L70,V70,AD70)","v":26796},{"$f":"MAX('MDA1'!L70,'MDA4'!T70,'MDA3'!J70,'MDA3'!M70,AF70)","v":51712},78508,88.965947079154631]
[{"$f":"IF(COUNTRY_INFO!A71=0,\" \",COUNTRY_INFO!A71)","v":"Chad"},{"$f":"IF(COUNTRY_INFO!B71=0,\" \",COUNTRY_INFO!B71)","v":"Logone Orientlal"},{"$f":"IF(COUNTRY_INFO!C71=0,\" \",COUNTRY_INFO!C71)","v":"Goré"},{"$f":"COUNTRY_INFO!M71","v":169285},null,null,{"$f":"MAX('MDA1'!M71,'MDA4'!U71)","v":134452},{"$f":"IF(AND(COUNTRY_INFO!H71>0,COUNTRY_INFO!H71<4),IF(D71>MAX('MDA1'!M71,'MDA4'!U71),MAX('MDA1'!M71,'MDA4'!U71),D71),0)","v":134452},{"$f":"IF(AND(COUNTRY_INFO!H71>0,COUNTRY_INFO!H71<4), IF(G71/D71*100<>0, IF(G71/D71*100>100,100,G71/D71*100), \"-\"),0)","v":79.423457482942965},{"$f":"COUNTRY_INFO!N71","v":169285},null,null,{"$f":"MAX('MDA1'!M71,MAX('MDA3'!I71,'MDA3'!L71)+MAX('MDA3'!J71,'MDA3'!M71))","v":134452},{"$f":"IF(AND(COUNTRY_INFO!I71>0,COUNTRY_INFO!I71<4),IF(J71>MAX('MDA1'!M71,MAX('MDA3'!I71,'MDA3'!L71)+MAX('MDA3'!J71,'MDA3'!M71)),MAX('MDA1'!M71,MAX('MDA3'!I71,'MDA3'!L71)+MAX('MDA3'!J71,'MDA3'!M71)),J71),0)","v":134452},{"$f":"IF(AND(COUNTRY_INFO!I71>0,COUNTRY_INFO!I71<4), IF(M71/J71*100<>0, IF(M71/J71*100>100,100,M71/J71*100), \"-\"),0)","v":79.423457482942965},{"$f":"COUNTRY_INFO!O71","v":0},null,null,{"$f":"SUM(MAX('MDA4'!R71, 'T1'!L71, MAX(T3_R1!K71, T3_R2!K71)), MAX('MDA1'!K71, 'MDA4'!S71, 'T1'!M71, MAX(T3_R1!L71, T3_R2!L71)), MAX('MDA1'!L71, 'MDA4'!T71, 'T1'!N71, MAX(T3_R1!M71, T3_R2!M71)))","v":134452},{"$f":"IF(AND(COUNTRY_INFO!J71>1,COUNTRY_INFO!J71<4),IF(COUNTRY_INFO!E71>MAX('MDA4'!R71,'T1'!L71,MAX(T3_R1!K71,T3_R2!K71)),MAX('MDA4'!R71,'T1'!L71,MAX(T3_R1!K71,T3_R2!K71)),COUNTRY_INFO!E71),0)","v":0},{"$f":"IF(AND(COUNTRY_INFO!J71>1,COUNTRY_INFO!J71<4), IF(T71/COUNTRY_INFO!E71*100<>0, IF(T71/COUNTRY_INFO!E71*100>100,100,T71/COUNTRY_INFO!E71*100), \"-\"),0)","v":0},{"$f":"IF(AND(COUNTRY_INFO!J71>1,COUNTRY_INFO!J71<4),IF(COUNTRY_INFO!F71>MAX('MDA1'!K71,'MDA4'!S71,'T1'!M71,MAX(T3_R1!L71,T3_R2!L71)),MAX('MDA1'!K71,'MDA4'!S71,'T1'!M71,MAX(T3_R1!L71,T3_R2!L71)),COUNTRY_INFO!F71),0)","v":0},{"$f":"IF(AND(COUNTRY_INFO!J71>1,COUNTRY_INFO!J71<4), IF(V71/COUNTRY_INFO!F71*100<>0, IF(V71/COUNTRY_INFO!F71*100>100,100,V71/COUNTRY_INFO!F71*100), \"-\"),0)","v":0},0,{"$f":"IF(AND(COUNTRY_INFO!J71>1,COUNTRY_INFO!J71<4), IF(S71/P71*100<>0, IF(X71/P71*100>100,100,X71/P71*100), \"-\"),0)","v":0},{"$f":"COUNTRY_INFO!P71","v":42431.199999999997},null,null,{"$f":"MAX('T1'!L71,'T2'!J71)+MAX('T1'!M71,'T2'!K71)+MAX('T1'!N71,'T2'!L71)","v":46232},{"$f":"IF(COUNTRY_INFO!K71=1,IF(COUNTRY_INFO!F71*0.33>MAX('T1'!M71,'T2'!K71),MAX('T1'!M71,'T2'!K71),COUNTRY_INFO!F71*0.33),IF(COUNTRY_INFO!K71=2,IF(COUNTRY_INFO!F71*0.5>MAX('T1'!M71,'T2'!K71),MAX('T1'!M71,'T2'!K71),COUNTRY_INFO!F71*0.5),IF(COUNTRY_INFO!K71=3,IF(COUNTRY_INFO!F71>MAX('T1'!M71,'T2'!K71),MAX('T1'!M71,'T2'!K71),COUNTRY_INFO!F71),0)))","v":25689},{"$f":"IF(AND(COUNTRY_INFO!K71>0,COUNTRY_INFO!K71<4),IF(Z71>0,IF(COUNTRY_INFO!K71=1, AD71/(COUNTRY_INFO!F71*0.33)*100, IF(COUNTRY_INFO!K71=2, AD71/(COUNTRY_INFO!F71*0.5)*100, IF(COUNTRY_INFO!K71=3, AD71/COUNTRY_INFO!F71*100))),\"-\"),0)","v":100},{"$f":"IF(COUNTRY_INFO!K71=2,IF(COUNTRY_INFO!G71*0.2>MAX('T1'!N71,'T2'!L71),MAX('T1'!N71,'T2'!L71),COUNTRY_INFO!G71*0.2),IF(COUNTRY_INFO!K71=3,IF(COUNTRY_INFO!G71>MAX('T1'!N71,'T2'!L71),MAX('T1'!N71,'T2'!L71),COUNTRY_INFO!G71),0))","v":0},{"$f":"IF(AND(COUNTRY_INFO!K71>0,COUNTRY_INFO!K71<4),IF(Z71>0,IF(COUNTRY_INFO!K71=1, 0, IF(COUNTRY_INFO!K71=2, AF71/(COUNTRY_INFO!G71*0.2)*100, IF(COUNTRY_INFO!K71=3, AF71/COUNTRY_INFO!G71*100))),\"-\"),0)","v":0},25689,{"$f":"IF(AND(COUNTRY_INFO!K71>0,COUNTRY_INFO!K71<4), IF(AC71/Z71*100<>0, IF(AH71/Z71*100>100,100,AH71/Z71*100), \"-\"),0)","v":60.542713852071117},null,{"$f":"IF(AND(D71<>0, D71<>\"Inconnu\",D71<>\"Interrompu\",D71<>\"Non requis\"),D71/COUNTRY_INFO!D71, 0)","v":1},{"$f":"IF(AND(J71<>0,J71<>\"Inconnu\",J71<>\"Interrompu\",J71<>\"Non requis\"),J71/COUNTRY_INFO!D71, 0)","v":1},{"$f":"IF(AND(P71<>0,P71<>\"Inconnu\",P71<>\"Non requis\"),P71/(COUNTRY_INFO!E71+COUNTRY_INFO!F71), 0)","v":0},{"$f":"IF(AND(Z71<>0,Z71<>\"Inconnu\",Z71<>\"Non requis\"),IF(COUNTRY_INFO!K71=1,1,IF(COUNTRY_INFO!K71=2,0.5*COUNTRY_INFO!F71/(0.5*COUNTRY_INFO!F71+0.2*COUNTRY_INFO!G71),IF(COUNTRY_INFO!K71=3,COUNTRY_INFO!F71/(COUNTRY_INFO!F71+COUNTRY_INFO!G71)))),0)","v":0.60542713852071117},{"$f":"IF(AND(Z71<>0,Z71<>\"Inconnu\",Z71<>\"Non requis\"),IF(COUNTRY_INFO!K71=1,0,IF(COUNTRY_INFO!K71=2,0.2*COUNTRY_INFO!G71/(0.5*COUNTRY_INFO!F71+0.2*COUNTRY_INFO!G71),IF(COUNTRY_INFO!K71=3,COUNTRY_INFO!G71/(COUNTRY_INFO!F71+COUNTRY_INFO!G71)))),0)","v":0.39457286147928888},{"$f":"MAX(COUNTRY_INFO!D71*AK71*PROFILE!$G$7,COUNTRY_INFO!D71*AL71*PROFILE!$G$7)","v":6263.5361128297245},{"$f":"MAX(COUNTRY_INFO!D71*AK71*PROFILE!$G$8,COUNTRY_INFO!D71*AL71*PROFILE!$G$8,COUNTRY_INFO!D71*AM71*PROFILE!$G$8)","v":27932.085426942926},{"$f":"MAX(COUNTRY_INFO!D71*AK71*PROFILE!$G$9,COUNTRY_INFO!D71*AL71*PROFILE!$G$9,COUNTRY_INFO!D71*AM71*PROFILE!$G$9,IF(AND(DISTRICT!Z71<>\"Inconnu\",Z71<>\"Non requis\"),COUNTRY_INFO!P71*DISTRICT!AN71,0))","v":51377.952497191742},{"$f":"MAX(COUNTRY_INFO!D71*AK71*PROFILE!$G$10,COUNTRY_INFO!D71*AL71*PROFILE!$G$10,IF(AND(DISTRICT!Z71<>\"Inconnu\",Z71<>\"Non requis\"),COUNTRY_INFO!P71*DISTRICT!AO71,0))","v":83711.42596303561},169285,"Y",{"$f":"MAX('MDA4'!R71,'T1'!L71,'T2'!J71,T3_R1!K71,T3_R2!K71)","v":0},{"$f":"MAX('MDA1'!K71,'MDA4'!S71,'MDA3'!I71,'MDA3'!L71,'T1'!M71,'T2'!K71,T3_R1!L71,T3_R2!L71)","v":51226},{"$f":"MAX('MDA1'!L71,'MDA4'!T71,'MDA3'!J71,'MDA3'!M71,'T1'!N71,'T2'!L71,T3_R1!M71,T3_R2!M71)","v":83226},134452,{"$f":"MAX('MDA4'!R71,T71)","v":0},{"$f":"MAX('MDA1'!K71,'MDA4'!S71,'MDA3'!I71,'MDA3'!L71,V71,AD71)","v":51226},{"$f":"MAX('MDA1'!L71,'MDA4'!T71,'MDA3'!J71,'MDA3'!M71,AF71)","v":83226},134452,79.423457482942965]
[{"$f":"IF(COUNTRY_INFO!A72=0,\" \",COUNTRY_INFO!A72)","v":"Chad"},{"$f":"IF(COUNTRY_INFO!B72=0,\" \",COUNTRY_INFO!B72)","v":"Logone Orientlal"},{"$f":"IF(COUNTRY_INFO!C72=0,\" \",COUNTRY_INFO!C72)","v":"Kara"},{"$f":"COUNTRY_INFO!M72","v":65754},null,null,{"$f":"MAX('MDA1'!M72,'MDA4'!U72)","v":48894},{"$f":"IF(AND(COUNTRY_INFO!H72>0,COUNTRY_INFO!H72<4),IF(D72>MAX('MDA1'!M72,'MDA4'!U72),MAX('MDA1'!M72,'MDA4'!U72),D72),0)","v":48894},{"$f":"IF(AND(COUNTRY_INFO!H72>0,COUNTRY_INFO!H72<4), IF(G72/D72*100<>0, IF(G72/D72*100>100,100,G72/D72*100), \"-\"),0)","v":74.358974358974365},{"$f":"COUNTRY_INFO!N72","v":65754},null,null,{"$f":"MAX('MDA1'!M72,MAX('MDA3'!I72,'MDA3'!L72)+MAX('MDA3'!J72,'MDA3'!M72))","v":48894},{"$f":"IF(AND(COUNTRY_INFO!I72>0,COUNTRY_INFO!I72<4),IF(J72>MAX('MDA1'!M72,MAX('MDA3'!I72,'MDA3'!L72)+MAX('MDA3'!J72,'MDA3'!M72)),MAX('MDA1'!M72,MAX('MDA3'!I72,'MDA3'!L72)+MAX('MDA3'!J72,'MDA3'!M72)),J72),0)","v":48894},{"$f":"IF(AND(COUNTRY_INFO!I72>0,COUNTRY_INFO!I72<4), IF(M72/J72*100<>0, IF(M72/J72*100>100,100,M72/J72*100), \"-\"),0)","v":74.358974358974365},{"$f":"COUNTRY_INFO!O72","v":0},null,null,{"$f":"SUM(MAX('MDA4'!R72, 'T1'!L72, MAX(T3_R1!K72, T3_R2!K72)), MAX('MDA1'!K72, 'MDA4'!S72, 'T1'!M72, MAX(T3_R1!L72, T3_R2!L72)), MAX('MDA1'!L72, 'MDA4'!T72, 'T1'!N72, MAX(T3_R1!M72, T3_R2!M72)))","v":48894},{"$f":"IF(AND(COUNTRY_INFO!J72>1,COUNTRY_INFO!J72<4),IF(COUNTRY_INFO!E72>MAX('MDA4'!R72,'T1'!L72,MAX(T3_R1!K72,T3_R2!K72)),MAX('MDA4'!R72,'T1'!L72,MAX(T3_R1!K72,T3_R2!K72)),COUNTRY_INFO!E72),0)","v":0},{"$f":"IF(AND(COUNTRY_INFO!J72>1,COUNTRY_INFO!J72<4), IF(T72/COUNTRY_INFO!E72*100<>0, IF(T72/COUNTRY_INFO!E72*100>100,100,T72/COUNTRY_INFO!E72*100), \"-\"),0)","v":0},{"$f":"IF(AND(COUNTRY_INFO!J72>1,COUNTRY_INFO!J72<4),IF(COUNTRY_INFO!F72>MAX('MDA1'!K72,'MDA4'!S72,'T1'!M72,MAX(T3_R1!L72,T3_R2!L72)),MAX('MDA1'!K72,'MDA4'!S72,'T1'!M72,MAX(T3_R1!L72,T3_R2!L72)),COUNTRY_INFO!F72),0)","v":0},{"$f":"IF(AND(COUNTRY_INFO!J72>1,COUNTRY_INFO!J72<4), IF(V72/COUNTRY_INFO!F72*100<>0, IF(V72/COUNTRY_INFO!F72*100>100,100,V72/COUNTRY_INFO!F72*100), \"-\"),0)","v":0},0,{"$f":"IF(AND(COUNTRY_INFO!J72>1,COUNTRY_INFO!J72<4), IF(S72/P72*100<>0, IF(X72/P72*100>100,100,X72/P72*100), \"-\"),0)","v":0},{"$f":"COUNTRY_INFO!P72","v":6585.4800000000005},null,null,{"$f":"MAX('T1'!L72,'T2'!J72)+MAX('T1'!M72,'T2'!K72)+MAX('T1'!N72,'T2'!L72)","v":17544},{"$f":"IF(COUNTRY_INFO!K72=1,IF(COUNTRY_INFO!F72*0.33>MAX('T1'!M72,'T2'!K72),MAX('T1'!M72,'T2'!K72),COUNTRY_INFO!F72*0.33),IF(COUNTRY_INFO!K72=2,IF(COUNTRY_INFO!F72*0.5>MAX('T1'!M72,'T2'!K72),MAX('T1'!M72,'T2'!K72),COUNTRY_INFO!F72*0.5),IF(COUNTRY_INFO!K72=3,IF(COUNTRY_INFO!F72>MAX('T1'!M72,'T2'!K72),MAX('T1'!M72,'T2'!K72),COUNTRY_INFO!F72),0)))","v":6585.4800000000005},{"$f":"IF(AND(COUNTRY_INFO!K72>0,COUNTRY_INFO!K72<4),IF(Z72>0,IF(COUNTRY_INFO!K72=1, AD72/(COUNTRY_INFO!F72*0.33)*100, IF(COUNTRY_INFO!K72=2, AD72/(COUNTRY_INFO!F72*0.5)*100, IF(COUNTRY_INFO!K72=3, AD72/COUNTRY_INFO!F72*100))),\"-\"),0)","v":100},{"$f":"IF(COUNTRY_INFO!K72=2,IF(COUNTRY_INFO!G72*0.2>MAX('T1'!N72,'T2'!L72),MAX('T1'!N72,'T2'!L72),COUNTRY_INFO!G72*0.2),IF(COUNTRY_INFO!K72=3,IF(COUNTRY_INFO!G72>MAX('T1'!N72,'T2'!L72),MAX('T1'!N72,'T2'!L72),COUNTRY_INFO!G72),0))","v":0},{"$f":"IF(AND(COUNTRY_INFO!K72>0,COUNTRY_INFO!K72<4),IF(Z72>0,IF(COUNTRY_INFO!K72=1, 0, IF(COUNTRY_INFO!K72=2, AF72/(COUNTRY_INFO!G72*0.2)*100, IF(COUNTRY_INFO!K72=3, AF72/COUNTRY_INFO!G72*100))),\"-\"),0)","v":0},6585.4800000000005,{"$f":"IF(AND(COUNTRY_INFO!K72>0,COUNTRY_INFO!K72<4), IF(AC72/Z72*100<>0, IF(AH72/Z72*100>100,100,AH72/Z72*100), \"-\"),0)","v":100},null,{"$f":"IF(AND(D72<>0, D72<>\"Inconnu\",D72<>\"Interrompu\",D72<>\"Non requis\"),D72/COUNTRY_INFO!D72, 0)","v":1},{"$f":"IF(AND(J72<>0,J72<>\"Inconnu\",J72<>\"Interrompu\",J72<>\"Non requis\"),J72/COUNTRY_INFO!D72, 0)","v":1},{"$f":"IF(AND(P72<>0,P72<>\"Inconnu\",P72<>\"Non requis\"),P72/(COUNTRY_INFO!E72+COUNTRY_INFO!F72), 0)","v":0},{"$f":"IF(AND(Z72<>0,Z72<>\"Inconnu\",Z72<>\"Non requis\"),IF(COUNTRY_INFO!K72=1,1,IF(COUNTRY_INFO!K72=2,0.5*COUNTRY_INFO!F72/(0.5*COUNTRY_INFO!F72+0.2*COUNTRY_INFO!G72),IF(COUNTRY_INFO!K72=3,COUNTRY_INFO!F72/(COUNTRY_INFO!F72+COUNTRY_INFO!G72)))),0)","v":1},{"$f":"IF(AND(Z72<>0,Z72<>\"Inconnu\",Z72<>\"Non requis\"),IF(COUNTRY_INFO!K72=1,0,IF(COUNTRY_INFO!K72=2,0.2*COUNTRY_INFO!G72/(0.5*COUNTRY_INFO!F72+0.2*COUNTRY_INFO!G72),IF(COUNTRY_INFO!K72=3,COUNTRY_INFO!G72/(COUNTRY_INFO!F72+COUNTRY_INFO!G72)))),0)","v":0},{"$f":"MAX(COUNTRY_INFO!D72*AK72*PROFILE!$G$7,COUNTRY_INFO!D72*AL72*PROFILE!$G$7)","v":2432.8945480285065},{"$f":"MAX(COUNTRY_INFO!D72*AK72*PROFILE!$G$8,COUNTRY_INFO!D72*AL72*PROFILE!$G$8,COUNTRY_INFO!D72*AM72*PROFILE!$G$8)","v":10849.433471147504},{"$f":"MAX(COUNTRY_INFO!D72*AK72*PROFILE!$G$9,COUNTRY_INFO!D72*AL72*PROFILE!$G$9,COUNTRY_INFO!D72*AM72*PROFILE!$G$9,IF(AND(DISTRICT!Z72<>\"Inconnu\",Z72<>\"Non requis\"),COUNTRY_INFO!P72*DISTRICT!AN72,0))","v":19956.321519924069},{"$f":"MAX(COUNTRY_INFO!D72*AK72*PROFILE!$G$10,COUNTRY_INFO!D72*AL72*PROFILE!$G$10,IF(AND(DISTRICT!Z72<>\"Inconnu\",Z72<>\"Non requis\"),COUNTRY_INFO!P72*DISTRICT!AO72,0))","v":32515.350460899921},65754,"Y",{"$f":"MAX('MDA4'!R72,'T1'!L72,'T2'!J72,T3_R1!K72,T3_R2!K72)","v":0},{"$f":"MAX('MDA1'!K72,'MDA4'!S72,'MDA3'!I72,'MDA3'!L72,'T1'!M72,'T2'!K72,T3_R1!L72,T3_R2!L72)","v":18712},{"$f":"MAX('MDA1'!L72,'MDA4'!T72,'MDA3'!J72,'MDA3'!M72,'T1'!N72,'T2'!L72,T3_R1!M72,T3_R2!M72)","v":30182},48894,{"$f":"MAX('MDA4'!R72,T72)","v":0},{"$f":"MAX('MDA1'!K72,'MDA4'!S72,'MDA3'!I72,'MDA3'!L72,V72,AD72)","v":18712},{"$f":"MAX('MDA1'!L72,'MDA4'!T72,'MDA3'!J72,'MDA3'!M72,AF72)","v":30182},48894,74.358974358974365]
[{"$f":"IF(COUNTRY_INFO!A73=0,\" \",COUNTRY_INFO!A73)","v":"Chad"},{"$f":"IF(COUNTRY_INFO!B73=0,\" \",COUNTRY_INFO!B73)","v":"Logone Orientlal"},{"$f":"IF(COUNTRY_INFO!C73=0,\" \",COUNTRY_INFO!C73)","v":"Larmanaye"},{"$f":"COUNTRY_INFO!M73","v":84376},null,null,{"$f":"MAX('MDA1'!M73,'MDA4'!U73)","v":77223},{"$f":"IF(AND(COUNTRY_INFO!H73>0,COUNTRY_INFO!H73<4),IF(D73>MAX('MDA1'!M73,'MDA4'!U73),MAX('MDA1'!M73,'MDA4'!U73),D73),0)","v":77223},{"$f":"IF(AND(COUNTRY_INFO!H73>0,COUNTRY_INFO!H73<4), IF(G73/D73*100<>0, IF(G73/D73*100>100,100,G73/D73*100), \"-\"),0)","v":91.522470844789979},{"$f":"COUNTRY_INFO!N73","v":84376},null,null,{"$f":"MAX('MDA1'!M73,MAX('MDA3'!I73,'MDA3'!L73)+MAX('MDA3'!J73,'MDA3'!M73))","v":77223},{"$f":"IF(AND(COUNTRY_INFO!I73>0,COUNTRY_INFO!I73<4),IF(J73>MAX('MDA1'!M73,MAX('MDA3'!I73,'MDA3'!L73)+MAX('MDA3'!J73,'MDA3'!M73)),MAX('MDA1'!M73,MAX('MDA3'!I73,'MDA3'!L73)+MAX('MDA3'!J73,'MDA3'!M73)),J73),0)","v":77223},{"$f":"IF(AND(COUNTRY_INFO!I73>0,COUNTRY_INFO!I73<4), IF(M73/J73*100<>0, IF(M73/J73*100>100,100,M73/J73*100), \"-\"),0)","v":91.522470844789979},{"$f":"COUNTRY_INFO!O73","v":39530},null,null,{"$f":"SUM(MAX('MDA4'!R73, 'T1'!L73, MAX(T3_R1!K73, T3_R2!K73)), MAX('MDA1'!K73, 'MDA4'!S73, 'T1'!M73, MAX(T3_R1!L73, T3_R2!L73)), MAX('MDA1'!L73, 'MDA4'!T73, 'T1'!N73, MAX(T3_R1!M73, T3_R2!M73)))","v":77223},{"$f":"IF(AND(COUNTRY_INFO!J73>1,COUNTRY_INFO!J73<4),IF(COUNTRY_INFO!E73>MAX('MDA4'!R73,'T1'!L73,MAX(T3_R1!K73,T3_R2!K73)),MAX('MDA4'!R73,'T1'!L73,MAX(T3_R1!K73,T3_R2!K73)),COUNTRY_INFO!E73),0)","v":0},{"$f":"IF(AND(COUNTRY_INFO!J73>1,COUNTRY_INFO!J73<4), IF(T73/COUNTRY_INFO!E73*100<>0, IF(T73/COUNTRY_INFO!E73*100>100,100,T73/COUNTRY_INFO!E73*100), \"-\"),0)","v":"-"},{"$f":"IF(AND(COUNTRY_INFO!J73>1,COUNTRY_INFO!J73<4),IF(COUNTRY_INFO!F73>MAX('MDA1'!K73,'MDA4'!S73,'T1'!M73,MAX(T3_R1!L73,T3_R2!L73)),MAX('MDA1'!K73,'MDA4'!S73,'T1'!M73,MAX(T3_R1!L73,T3_R2!L73)),COUNTRY_INFO!F73),0)","v":20707},{"$f":"IF(AND(COUNTRY_INFO!J73>1,COUNTRY_INFO!J73<4), IF(V73/COUNTRY_INFO!F73*100<>0, IF(V73/COUNTRY_INFO!F73*100>100,100,V73/COUNTRY_INFO!F73*100), \"-\"),0)","v":80.861449547016562},20707,{"$f":"IF(AND(COUNTRY_INFO!J73>1,COUNTRY_INFO!J73<4), IF(S73/P73*100<>0, IF(X73/P73*100>100,100,X73/P73*100), \"-\"),0)","v":52.383000252972423},{"$f":"COUNTRY_INFO!P73","v":21148.800000000003},null,null,{"$f":"MAX('T1'!L73,'T2'!J73)+MAX('T1'!M73,'T2'!K73)+MAX('T1'!N73,'T2'!L73)","v":24651},{"$f":"IF(COUNTRY_INFO!K73=1,IF(COUNTRY_INFO!F73*0.33>MAX('T1'!M73,'T2'!K73),MAX('T1'!M73,'T2'!K73),COUNTRY_INFO!F73*0.33),IF(COUNTRY_INFO!K73=2,IF(COUNTRY_INFO!F73*0.5>MAX('T1'!M73,'T2'!K73),MAX('T1'!M73,'T2'!K73),COUNTRY_INFO!F73*0.5),IF(COUNTRY_INFO!K73=3,IF(COUNTRY_INFO!F73>MAX('T1'!M73,'T2'!K73),MAX('T1'!M73,'T2'!K73),COUNTRY_INFO!F73),0)))","v":12804},{"$f":"IF(AND(COUNTRY_INFO!K73>0,COUNTRY_INFO!K73<4),IF(Z73>0,IF(COUNTRY_INFO!K73=1, AD73/(COUNTRY_INFO!F73*0.33)*100, IF(COUNTRY_INFO!K73=2, AD73/(COUNTRY_INFO!F73*0.5)*100, IF(COUNTRY_INFO!K73=3, AD73/COUNTRY_INFO!F73*100))),\"-\"),0)","v":100},{"$f":"IF(COUNTRY_INFO!K73=2,IF(COUNTRY_INFO!G73*0.2>MAX('T1'!N73,'T2'!L73),MAX('T1'!N73,'T2'!L73),COUNTRY_INFO!G73*0.2),IF(COUNTRY_INFO!K73=3,IF(COUNTRY_INFO!G73>MAX('T1'!N73,'T2'!L73),MAX('T1'!N73,'T2'!L73),COUNTRY_INFO!G73),0))","v":0},{"$f":"IF(AND(COUNTRY_INFO!K73>0,COUNTRY_INFO!K73<4),IF(Z73>0,IF(COUNTRY_INFO!K73=1, 0, IF(COUNTRY_INFO!K73=2, AF73/(COUNTRY_INFO!G73*0.2)*100, IF(COUNTRY_INFO!K73=3, AF73/COUNTRY_INFO!G73*100))),\"-\"),0)","v":0},12804,{"$f":"IF(AND(COUNTRY_INFO!K73>0,COUNTRY_INFO!K73<4), IF(AC73/Z73*100<>0, IF(AH73/Z73*100>100,100,AH73/Z73*100), \"-\"),0)","v":60.542442124375839},null,{"$f":"IF(AND(D73<>0, D73<>\"Inconnu\",D73<>\"Interrompu\",D73<>\"Non requis\"),D73/COUNTRY_INFO!D73, 0)","v":1},{"$f":"IF(AND(J73<>0,J73<>\"Inconnu\",J73<>\"Interrompu\",J73<>\"Non requis\"),J73/COUNTRY_INFO!D73, 0)","v":1},{"$f":"IF(AND(P73<>0,P73<>\"Inconnu\",P73<>\"Non requis\"),P73/(COUNTRY_INFO!E73+COUNTRY_INFO!F73), 0)","v":1},{"$f":"IF(AND(Z73<>0,Z73<>\"Inconnu\",Z73<>\"Non requis\"),IF(COUNTRY_INFO!K73=1,1,IF(COUNTRY_INFO!K73=2,0.5*COUNTRY_INFO!F73/(0.5*COUNTRY_INFO!F73+0.2*COUNTRY_INFO!G73),IF(COUNTRY_INFO!K73=3,COUNTRY_INFO!F73/(COUNTRY_INFO!F73+COUNTRY_INFO!G73)))),0)","v":0.60542442124375839},{"$f":"IF(AND(Z73<>0,Z73<>\"Inconnu\",Z73<>\"Non requis\"),IF(COUNTRY_INFO!K73=1,0,IF(COUNTRY_INFO!K73=2,0.2*COUNTRY_INFO!G73/(0.5*COUNTRY_INFO!F73+0.2*COUNTRY_INFO!G73),IF(COUNTRY_INFO!K73=3,COUNTRY_INFO!G73/(COUNTRY_INFO!F73+COUNTRY_INFO!G73)))),0)","v":0.3945755787562415},{"$f":"MAX(COUNTRY_INFO!D73*AK73*PROFILE!$G$7,COUNTRY_INFO!D73*AL73*PROFILE!$G$7)","v":3121.9075704056522},{"$f":"MAX(COUNTRY_INFO!D73*AK73*PROFILE!$G$8,COUNTRY_INFO!D73*AL73*PROFILE!$G$8,COUNTRY_INFO!D73*AM73*PROFILE!$G$8)","v":13922.070118343245},{"$f":"MAX(COUNTRY_INFO!D73*AK73*PROFILE!$G$9,COUNTRY_INFO!D73*AL73*PROFILE!$G$9,COUNTRY_INFO!D73*AM73*PROFILE!$G$9,IF(AND(DISTRICT!Z73<>\"Inconnu\",Z73<>\"Non requis\"),COUNTRY_INFO!P73*DISTRICT!AN73,0))","v":25608.093569442364},{"$f":"MAX(COUNTRY_INFO!D73*AK73*PROFILE!$G$10,COUNTRY_INFO!D73*AL73*PROFILE!$G$10,IF(AND(DISTRICT!Z73<>\"Inconnu\",Z73<>\"Non requis\"),COUNTRY_INFO!P73*DISTRICT!AO73,0))","v":41723.928741808741},84376,{"$f":"IF(COUNTIFS(AK73:AN73,\">0\")=0,0, IF(COUNTIFS(AK73:AN73,\">0\")<=IF(AND(OR(D73>=0,D73=\"Non requis\",D73=\"Inconnu\",D73=\"Interrompu\"),D73>0,H73>0),1,0)+IF(AND(OR(J73>=0,J73=\"Non requis\",J73=\"Inconnu\",J73=\"Interrompu\"),J73>0,N73>0),1,0)+IF(AND(OR(P73>=0,P73=\"Non requis\",P73=\"Inconnu\"),P73>0,X73>0),1,0)+IF(AND(OR(Z73>=0,Z73=\"Non requis\",Z73=\"Inconnu\"),Z73>0,AH73>0),1,0),\"Y\",0))","v":"Y"},{"$f":"MAX('MDA4'!R73,'T1'!L73,'T2'!J73,T3_R1!K73,T3_R2!K73)","v":0},{"$f":"MAX('MDA1'!K73,'MDA4'!S73,'MDA3'!I73,'MDA3'!L73,'T1'!M73,'T2'!K73,T3_R1!L73,T3_R2!L73)","v":24651},{"$f":"MAX('MDA1'!L73,'MDA4'!T73,'MDA3'!J73,'MDA3'!M73,'T1'!N73,'T2'!L73,T3_R1!M73,T3_R2!M73)","v":56516},81167,{"$f":"MAX('MDA4'!R73,T73)","v":0},{"$f":"MAX('MDA1'!K73,'MDA4'!S73,'MDA3'!I73,'MDA3'!L73,V73,AD73)","v":20707},{"$f":"MAX('MDA1'!L73,'MDA4'!T73,'MDA3'!J73,'MDA3'!M73,AF73)","v":56516},{"$f":"IF(AT73<SUM(AZ73:BB73), AT73,SUM(AZ73:BB73))","v":77223},{"$f":"IF(AT73<>0,BC73/AT73*100,0)","v":91.522470844789979}]
[{"$f":"IF(COUNTRY_INFO!A74=0,\" \",COUNTRY_INFO!A74)","v":"Chad"},{"$f":"IF(COUNTRY_INFO!B74=0,\" \",COUNTRY_INFO!B74)","v":"Mandoul"},{"$f":"IF(COUNTRY_INFO!C74=0,\" \",COUNTRY_INFO!C74)","v":"Bedaya"},{"$f":"COUNTRY_INFO!M74","v":109137},null,null,{"$f":"MAX('MDA1'!M74,'MDA4'!U74)","v":84857},{"$f":"IF(AND(COUNTRY_INFO!H74>0,COUNTRY_INFO!H74<4),IF(D74>MAX('MDA1'!M74,'MDA4'!U74),MAX('MDA1'!M74,'MDA4'!U74),D74),0)","v":84857},{"$f":"IF(AND(COUNTRY_INFO!H74>0,COUNTRY_INFO!H74<4), IF(G74/D74*100<>0, IF(G74/D74*100>100,100,G74/D74*100), \"-\"),0)","v":77.75273280372376},{"$f":"COUNTRY_INFO!N74","v":109137},null,null,{"$f":"MAX('MDA1'!M74,MAX('MDA3'!I74,'MDA3'!L74)+MAX('MDA3'!J74,'MDA3'!M74))","v":84857},{"$f":"IF(AND(COUNTRY_INFO!I74>0,COUNTRY_INFO!I74<4),IF(J74>MAX('MDA1'!M74,MAX('MDA3'!I74,'MDA3'!L74)+MAX('MDA3'!J74,'MDA3'!M74)),MAX('MDA1'!M74,MAX('MDA3'!I74,'MDA3'!L74)+MAX('MDA3'!J74,'MDA3'!M74)),J74),0)","v":84857},{"$f":"IF(AND(COUNTRY_INFO!I74>0,COUNTRY_INFO!I74<4), IF(M74/J74*100<>0, IF(M74/J74*100>100,100,M74/J74*100), \"-\"),0)","v":77.75273280372376},{"$f":"COUNTRY_INFO!O74","v":0},null,null,{"$f":"SUM(MAX('MDA4'!R74, 'T1'!L74, MAX(T3_R1!K74, T3_R2!K74)), MAX('MDA1'!K74, 'MDA4'!S74, 'T1'!M74, MAX(T3_R1!L74, T3_R2!L74)), MAX('MDA1'!L74, 'MDA4'!T74, 'T1'!N74, MAX(T3_R1!M74, T3_R2!M74)))","v":84857},{"$f":"IF(AND(COUNTRY_INFO!J74>1,COUNTRY_INFO!J74<4),IF(COUNTRY_INFO!E74>MAX('MDA4'!R74,'T1'!L74,MAX(T3_R1!K74,T3_R2!K74)),MAX('MDA4'!R74,'T1'!L74,MAX(T3_R1!K74,T3_R2!K74)),COUNTRY_INFO!E74),0)","v":0},{"$f":"IF(AND(COUNTRY_INFO!J74>1,COUNTRY_INFO!J74<4), IF(T74/COUNTRY_INFO!E74*100<>0, IF(T74/COUNTRY_INFO!E74*100>100,100,T74/COUNTRY_INFO!E74*100), \"-\"),0)","v":0},{"$f":"IF(AND(COUNTRY_INFO!J74>1,COUNTRY_INFO!J74<4),IF(COUNTRY_INFO!F74>MAX('MDA1'!K74,'MDA4'!S74,'T1'!M74,MAX(T3_R1!L74,T3_R2!L74)),MAX('MDA1'!K74,'MDA4'!S74,'T1'!M74,MAX(T3_R1!L74,T3_R2!L74)),COUNTRY_INFO!F74),0)","v":0},{"$f":"IF(AND(COUNTRY_INFO!J74>1,COUNTRY_INFO!J74<4), IF(V74/COUNTRY_INFO!F74*100<>0, IF(V74/COUNTRY_INFO!F74*100>100,100,V74/COUNTRY_INFO!F74*100), \"-\"),0)","v":0},{"$f":"SUM(T74,V74)","v":0},{"$f":"IF(AND(COUNTRY_INFO!J74>1,COUNTRY_INFO!J74<4), IF(S74/P74*100<>0, IF(X74/P74*100>100,100,X74/P74*100), \"-\"),0)","v":0},{"$f":"COUNTRY_INFO!P74","v":10930.59},null,null,{"$f":"MAX('T1'!L74,'T2'!J74)+MAX('T1'!M74,'T2'!K74)+MAX('T1'!N74,'T2'!L74)","v":32114},{"$f":"IF(COUNTRY_INFO!K74=1,IF(COUNTRY_INFO!F74*0.33>MAX('T1'!M74,'T2'!K74),MAX('T1'!M74,'T2'!K74),COUNTRY_INFO!F74*0.33),IF(COUNTRY_INFO!K74=2,IF(COUNTRY_INFO!F74*0.5>MAX('T1'!M74,'T2'!K74),MAX('T1'!M74,'T2'!K74),COUNTRY_INFO!F74*0.5),IF(COUNTRY_INFO!K74=3,IF(COUNTRY_INFO!F74>MAX('T1'!M74,'T2'!K74),MAX('T1'!M74,'T2'!K74),COUNTRY_INFO!F74),0)))","v":10930.59},{"$f":"IF(AND(COUNTRY_INFO!K74>0,COUNTRY_INFO!K74<4),IF(Z74>0,IF(COUNTRY_INFO!K74=1, AD74/(COUNTRY_INFO!F74*0.33)*100, IF(COUNTRY_INFO!K74=2, AD74/(COUNTRY_INFO!F74*0.5)*100, IF(COUNTRY_INFO!K74=3, AD74/COUNTRY_INFO!F74*100))),\"-\"),0)","v":100},{"$f":"IF(COUNTRY_INFO!K74=2,IF(COUNTRY_INFO!G74*0.2>MAX('T1'!N74,'T2'!L74),MAX('T1'!N74,'T2'!L74),COUNTRY_INFO!G74*0.2),IF(COUNTRY_INFO!K74=3,IF(COUNTRY_INFO!G74>MAX('T1'!N74,'T2'!L74),MAX('T1'!N74,'T2'!L74),COUNTRY_INFO!G74),0))","v":0},{"$f":"IF(AND(COUNTRY_INFO!K74>0,COUNTRY_INFO!K74<4),IF(Z74>0,IF(COUNTRY_INFO!K74=1, 0, IF(COUNTRY_INFO!K74=2, AF74/(COUNTRY_INFO!G74*0.2)*100, IF(COUNTRY_INFO!K74=3, AF74/COUNTRY_INFO!G74*100))),\"-\"),0)","v":0},{"$f":"SUM(AD74,AF74)","v":10930.59},{"$f":"IF(AND(COUNTRY_INFO!K74>0,COUNTRY_INFO!K74<4), IF(AC74/Z74*100<>0, IF(AH74/Z74*100>100,100,AH74/Z74*100), \"-\"),0)","v":100},null,{"$f":"IF(AND(D74<>0, D74<>\"Inconnu\",D74<>\"Interrompu\",D74<>\"Non requis\"),D74/COUNTRY_INFO!D74, 0)","v":1},{"$f":"IF(AND(J74<>0,J74<>\"Inconnu\",J74<>\"Interrompu\",J74<>\"Non requis\"),J74/COUNTRY_INFO!D74, 0)","v":1},{"$f":"IF(AND(P74<>0,P74<>\"Inconnu\",P74<>\"Non requis\"),P74/(COUNTRY_INFO!E74+COUNTRY_INFO!F74), 0)","v":0},{"$f":"IF(AND(Z74<>0,Z74<>\"Inconnu\",Z74<>\"Non requis\"),IF(COUNTRY_INFO!K74=1,1,IF(COUNTRY_INFO!K74=2,0.5*COUNTRY_INFO!F74/(0.5*COUNTRY_INFO!F74+0.2*COUNTRY_INFO!G74),IF(COUNTRY_INFO!K74=3,COUNTRY_INFO!F74/(COUNTRY_INFO!F74+COUNTRY_INFO!G74)))),0)","v":1},{"$f":"IF(AND(Z74<>0,Z74<>\"Inconnu\",Z74<>\"Non requis\"),IF(COUNTRY_INFO!K74=1,0,IF(COUNTRY_INFO!K74=2,0.2*COUNTRY_INFO!G74/(0.5*COUNTRY_INFO!F74+0.2*COUNTRY_INFO!G74),IF(COUNTRY_INFO!K74=3,COUNTRY_INFO!G74/(COUNTRY_INFO!F74+COUNTRY_INFO!G74)))),0)","v":0},{"$f":"MAX(COUNTRY_INFO!D74*AK74*PROFILE!$G$7,COUNTRY_INFO!D74*AL74*PROFILE!$G$7)","v":4038.0632704958953},{"$f":"MAX(COUNTRY_INFO!D74*AK74*PROFILE!$G$8,COUNTRY_INFO!D74*AL74*PROFILE!$G$8,COUNTRY_INFO!D74*AM74*PROFILE!$G$8)","v":18007.643956879052},{"$f":"MAX(COUNTRY_INFO!D74*AK74*PROFILE!$G$9,COUNTRY_INFO!D74*AL74*PROFILE!$G$9,COUNTRY_INFO!D74*AM74*PROFILE!$G$9,IF(AND(DISTRICT!Z74<>\"Inconnu\",Z74<>\"Non requis\"),COUNTRY_INFO!P74*DISTRICT!AN74,0))","v":33123.050486965862},{"$f":"MAX(COUNTRY_INFO!D74*AK74*PROFILE!$G$10,COUNTRY_INFO!D74*AL74*PROFILE!$G$10,IF(AND(DISTRICT!Z74<>\"Inconnu\",Z74<>\"Non requis\"),COUNTRY_INFO!P74*DISTRICT!AO74,0))","v":53968.242285659195},{"$f":"SUM(AP74:AS74)","v":109137},"Y",{"$f":"MAX('MDA4'!R74,'T1'!L74,'T2'!J74,T3_R1!K74,T3_R2!K74)","v":0},{"$f":"MAX('MDA1'!K74,'MDA4'!S74,'MDA3'!I74,'MDA3'!L74,'T1'!M74,'T2'!K74,T3_R1!L74,T3_R2!L74)","v":32568},{"$f":"MAX('MDA1'!L74,'MDA4'!T74,'MDA3'!J74,'MDA3'!M74,'T1'!N74,'T2'!L74,T3_R1!M74,T3_R2!M74)","v":52289},{"$f":"SUM(AV74:AX74)","v":84857},{"$f":"MAX('MDA4'!R74,T74)","v":0},{"$f":"MAX('MDA1'!K74,'MDA4'!S74,'MDA3'!I74,'MDA3'!L74,V74,AD74)","v":32568},{"$f":"MAX('MDA1'!L74,'MDA4'!T74,'MDA3'!J74,'MDA3'!M74,AF74)","v":52289},84857,77.75273280372376]
[{"$f":"IF(COUNTRY_INFO!A75=0,\" \",COUNTRY_INFO!A75)","v":"Chad"},{"$f":"IF(COUNTRY_INFO!B75=0,\" \",COUNTRY_INFO!B75)","v":"Mandoul"},{"$f":"IF(COUNTRY_INFO!C75=0,\" \",COUNTRY_INFO!C75)","v":"Bedjondo"},{"$f":"COUNTRY_INFO!M75","v":0},null,null,{"$f":"MAX('MDA1'!M75,'MDA4'!U75)","v":0},{"$f":"IF(AND(COUNTRY_INFO!H75>0,COUNTRY_INFO!H75<4),IF(D75>MAX('MDA1'!M75,'MDA4'!U75),MAX('MDA1'!M75,'MDA4'!U75),D75),0)","v":0},{"$f":"IF(AND(COUNTRY_INFO!H75>0,COUNTRY_INFO!H75<4), IF(G75/D75*100<>0, IF(G75/D75*100>100,100,G75/D75*100), \"-\"),0)","v":0},{"$f":"COUNTRY_INFO!N75","v":127111},null,null,{"$f":"MAX('MDA1'!M75,MAX('MDA3'!I75,'MDA3'!L75)+MAX('MDA3'!J75,'MDA3'!M75))","v":100114},{"$f":"IF(AND(COUNTRY_INFO!I75>0,COUNTRY_INFO!I75<4),IF(J75>MAX('MDA1'!M75,MAX('MDA3'!I75,'MDA3'!L75)+MAX('MDA3'!J75,'MDA3'!M75)),MAX('MDA1'!M75,MAX('MDA3'!I75,'MDA3'!L75)+MAX('MDA3'!J75,'MDA3'!M75)),J75),0)","v":100114},{"$f":"IF(AND(COUNTRY_INFO!I75>0,COUNTRY_INFO!I75<4), IF(M75/J75*100<>0, IF(M75/J75*100>100,100,M75/J75*100), \"-\"),0)","v":78.761082833114358},{"$f":"COUNTRY_INFO!O75","v":0},null,null,{"$f":"SUM(MAX('MDA4'!R75, 'T1'!L75, MAX(T3_R1!K75, T3_R2!K75)), MAX('MDA1'!K75, 'MDA4'!S75, 'T1'!M75, MAX(T3_R1!L75, T3_R2!L75)), MAX('MDA1'!L75, 'MDA4'!T75, 'T1'!N75, MAX(T3_R1!M75, T3_R2!M75)))","v":0},{"$f":"IF(AND(COUNTRY_INFO!J75>1,COUNTRY_INFO!J75<4),IF(COUNTRY_INFO!E75>MAX('MDA4'!R75,'T1'!L75,MAX(T3_R1!K75,T3_R2!K75)),MAX('MDA4'!R75,'T1'!L75,MAX(T3_R1!K75,T3_R2!K75)),COUNTRY_INFO!E75),0)","v":0},{"$f":"IF(AND(COUNTRY_INFO!J75>1,COUNTRY_INFO!J75<4), IF(T75/COUNTRY_INFO!E75*100<>0, IF(T75/COUNTRY_INFO!E75*100>100,100,T75/COUNTRY_INFO!E75*100), \"-\"),0)","v":0},{"$f":"IF(AND(COUNTRY_INFO!J75>1,COUNTRY_INFO!J75<4),IF(COUNTRY_INFO!F75>MAX('MDA1'!K75,'MDA4'!S75,'T1'!M75,MAX(T3_R1!L75,T3_R2!L75)),MAX('MDA1'!K75,'MDA4'!S75,'T1'!M75,MAX(T3_R1!L75,T3_R2!L75)),COUNTRY_INFO!F75),0)","v":0},{"$f":"IF(AND(COUNTRY_INFO!J75>1,COUNTRY_INFO!J75<4), IF(V75/COUNTRY_INFO!F75*100<>0, IF(V75/COUNTRY_INFO!F75*100>100,100,V75/COUNTRY_INFO!F75*100), \"-\"),0)","v":0},0,{"$f":"IF(AND(COUNTRY_INFO!J75>1,COUNTRY_INFO!J75<4), IF(S75/P75*100<>0, IF(X75/P75*100>100,100,X75/P75*100), \"-\"),0)","v":0},{"$f":"COUNTRY_INFO!P75","v":12730.74},null,null,{"$f":"MAX('T1'!L75,'T2'!J75)+MAX('T1'!M75,'T2'!K75)+MAX('T1'!N75,'T2'!L75)","v":0},{"$f":"IF(COUNTRY_INFO!K75=1,IF(COUNTRY_INFO!F75*0.33>MAX('T1'!M75,'T2'!K75),MAX('T1'!M75,'T2'!K75),COUNTRY_INFO!F75*0.33),IF(COUNTRY_INFO!K75=2,IF(COUNTRY_INFO!F75*0.5>MAX('T1'!M75,'T2'!K75),MAX('T1'!M75,'T2'!K75),COUNTRY_INFO!F75*0.5),IF(COUNTRY_INFO!K75=3,IF(COUNTRY_INFO!F75>MAX('T1'!M75,'T2'!K75),MAX('T1'!M75,'T2'!K75),COUNTRY_INFO!F75),0)))","v":0},{"$f":"IF(AND(COUNTRY_INFO!K75>0,COUNTRY_INFO!K75<4),IF(Z75>0,IF(COUNTRY_INFO!K75=1, AD75/(COUNTRY_INFO!F75*0.33)*100, IF(COUNTRY_INFO!K75=2, AD75/(COUNTRY_INFO!F75*0.5)*100, IF(COUNTRY_INFO!K75=3, AD75/COUNTRY_INFO!F75*100))),\"-\"),0)","v":0},{"$f":"IF(COUNTRY_INFO!K75=2,IF(COUNTRY_INFO!G75*0.2>MAX('T1'!N75,'T2'!L75),MAX('T1'!N75,'T2'!L75),COUNTRY_INFO!G75*0.2),IF(COUNTRY_INFO!K75=3,IF(COUNTRY_INFO!G75>MAX('T1'!N75,'T2'!L75),MAX('T1'!N75,'T2'!L75),COUNTRY_INFO!G75),0))","v":0},{"$f":"IF(AND(COUNTRY_INFO!K75>0,COUNTRY_INFO!K75<4),IF(Z75>0,IF(COUNTRY_INFO!K75=1, 0, IF(COUNTRY_INFO!K75=2, AF75/(COUNTRY_INFO!G75*0.2)*100, IF(COUNTRY_INFO!K75=3, AF75/COUNTRY_INFO!G75*100))),\"-\"),0)","v":0},0,{"$f":"IF(AND(COUNTRY_INFO!K75>0,COUNTRY_INFO!K75<4), IF(AC75/Z75*100<>0, IF(AH75/Z75*100>100,100,AH75/Z75*100), \"-\"),0)","v":"-"},null,{"$f":"IF(AND(D75<>0, D75<>\"Inconnu\",D75<>\"Interrompu\",D75<>\"Non requis\"),D75/COUNTRY_INFO!D75, 0)","v":0},{"$f":"IF(AND(J75<>0,J75<>\"Inconnu\",J75<>\"Interrompu\",J75<>\"Non requis\"),J75/COUNTRY_INFO!D75, 0)","v":1},{"$f":"IF(AND(P75<>0,P75<>\"Inconnu\",P75<>\"Non requis\"),P75/(COUNTRY_INFO!E75+COUNTRY_INFO!F75), 0)","v":0},{"$f":"IF(AND(Z75<>0,Z75<>\"Inconnu\",Z75<>\"Non requis\"),IF(COUNTRY_INFO!K75=1,1,IF(COUNTRY_INFO!K75=2,0.5*COUNTRY_INFO!F75/(0.5*COUNTRY_INFO!F75+0.2*COUNTRY_INFO!G75),IF(COUNTRY_INFO!K75=3,COUNTRY_INFO!F75/(COUNTRY_INFO!F75+COUNTRY_INFO!G75)))),0)","v":1},{"$f":"IF(AND(Z75<>0,Z75<>\"Inconnu\",Z75<>\"Non requis\"),IF(COUNTRY_INFO!K75=1,0,IF(COUNTRY_INFO!K75=2,0.2*COUNTRY_INFO!G75/(0.5*COUNTRY_INFO!F75+0.2*COUNTRY_INFO!G75),IF(COUNTRY_INFO!K75=3,COUNTRY_INFO!G75/(COUNTRY_INFO!F75+COUNTRY_INFO!G75)))),0)","v":0},{"$f":"MAX(COUNTRY_INFO!D75*AK75*PROFILE!$G$7,COUNTRY_INFO!D75*AL75*PROFILE!$G$7)","v":4703.100326891923},{"$f":"MAX(COUNTRY_INFO!D75*AK75*PROFILE!$G$8,COUNTRY_INFO!D75*AL75*PROFILE!$G$8,COUNTRY_INFO!D75*AM75*PROFILE!$G$8)","v":20973.360372768657},{"$f":"MAX(COUNTRY_INFO!D75*AK75*PROFILE!$G$9,COUNTRY_INFO!D75*AL75*PROFILE!$G$9,COUNTRY_INFO!D75*AM75*PROFILE!$G$9,IF(AND(DISTRICT!Z75<>\"Inconnu\",Z75<>\"Non requis\"),COUNTRY_INFO!P75*DISTRICT!AN75,0))","v":38578.154708748792},{"$f":"MAX(COUNTRY_INFO!D75*AK75*PROFILE!$G$10,COUNTRY_INFO!D75*AL75*PROFILE!$G$10,IF(AND(DISTRICT!Z75<>\"Inconnu\",Z75<>\"Non requis\"),COUNTRY_INFO!P75*DISTRICT!AO75,0))","v":62856.384591590628},127111,0,{"$f":"MAX('MDA4'!R75,'T1'!L75,'T2'!J75,T3_R1!K75,T3_R2!K75)","v":0},{"$f":"MAX('MDA1'!K75,'MDA4'!S75,'MDA3'!I75,'MDA3'!L75,'T1'!M75,'T2'!K75,T3_R1!L75,T3_R2!L75)","v":38671},{"$f":"MAX('MDA1'!L75,'MDA4'!T75,'MDA3'!J75,'MDA3'!M75,'T1'!N75,'T2'!L75,T3_R1!M75,T3_R2!M75)","v":61443},100114,{"$f":"MAX('MDA4'!R75,T75)","v":0},{"$f":"MAX('MDA1'!K75,'MDA4'!S75,'MDA3'!I75,'MDA3'!L75,V75,AD75)","v":38671},{"$f":"MAX('MDA1'!L75,'MDA4'!T75,'MDA3'!J75,'MDA3'!M75,AF75)","v":61443},100114,78.761082833114358]
[{"$f":"IF(COUNTRY_INFO!A76=0,\" \",COUNTRY_INFO!A76)","v":"Chad"},{"$f":"IF(COUNTRY_INFO!B76=0,\" \",COUNTRY_INFO!B76)","v":"Mandoul"},{"$f":"IF(COUNTRY_INFO!C76=0,\" \",COUNTRY_INFO!C76)","v":"Bekourou"},{"$f":"COUNTRY_INFO!M76","v":0},null,null,{"$f":"MAX('MDA1'!M76,'MDA4'!U76)","v":0},{"$f":"IF(AND(COUNTRY_INFO!H76>0,COUNTRY_INFO!H76<4),IF(D76>MAX('MDA1'!M76,'MDA4'!U76),MAX('MDA1'!M76,'MDA4'!U76),D76),0)","v":0},{"$f":"IF(AND(COUNTRY_INFO!H76>0,COUNTRY_INFO!H76<4), IF(G76/D76*100<>0, IF(G76/D76*100>100,100,G76/D76*100), \"-\"),0)","v":0},{"$f":"COUNTRY_INFO!N76","v":92789},null,null,{"$f":"MAX('MDA1'!M76,MAX('MDA3'!I76,'MDA3'!L76)+MAX('MDA3'!J76,'MDA3'!M76))","v":73827},{"$f":"IF(AND(COUNTRY_INFO!I76>0,COUNTRY_INFO!I76<4),IF(J76>MAX('MDA1'!M76,MAX('MDA3'!I76,'MDA3'!L76)+MAX('MDA3'!J76,'MDA3'!M76)),MAX('MDA1'!M76,MAX('MDA3'!I76,'MDA3'!L76)+MAX('MDA3'!J76,'MDA3'!M76)),J76),0)","v":73827},{"$f":"IF(AND(COUNTRY_INFO!I76>0,COUNTRY_INFO!I76<4), IF(M76/J76*100<>0, IF(M76/J76*100>100,100,M76/J76*100), \"-\"),0)","v":79.564388020131688},{"$f":"COUNTRY_INFO!O76","v":0},null,null,{"$f":"SUM(MAX('MDA4'!R76, 'T1'!L76, MAX(T3_R1!K76, T3_R2!K76)), MAX('MDA1'!K76, 'MDA4'!S76, 'T1'!M76, MAX(T3_R1!L76, T3_R2!L76)), MAX('MDA1'!L76, 'MDA4'!T76, 'T1'!N76, MAX(T3_R1!M76, T3_R2!M76)))","v":0},{"$f":"IF(AND(COUNTRY_INFO!J76>1,COUNTRY_INFO!J76<4),IF(COUNTRY_INFO!E76>MAX('MDA4'!R76,'T1'!L76,MAX(T3_R1!K76,T3_R2!K76)),MAX('MDA4'!R76,'T1'!L76,MAX(T3_R1!K76,T3_R2!K76)),COUNTRY_INFO!E76),0)","v":0},{"$f":"IF(AND(COUNTRY_INFO!J76>1,COUNTRY_INFO!J76<4), IF(T76/COUNTRY_INFO!E76*100<>0, IF(T76/COUNTRY_INFO!E76*100>100,100,T76/COUNTRY_INFO!E76*100), \"-\"),0)","v":0},{"$f":"IF(AND(COUNTRY_INFO!J76>1,COUNTRY_INFO!J76<4),IF(COUNTRY_INFO!F76>MAX('MDA1'!K76,'MDA4'!S76,'T1'!M76,MAX(T3_R1!L76,T3_R2!L76)),MAX('MDA1'!K76,'MDA4'!S76,'T1'!M76,MAX(T3_R1!L76,T3_R2!L76)),COUNTRY_INFO!F76),0)","v":0},{"$f":"IF(AND(COUNTRY_INFO!J76>1,COUNTRY_INFO!J76<4), IF(V76/COUNTRY_INFO!F76*100<>0, IF(V76/COUNTRY_INFO!F76*100>100,100,V76/COUNTRY_INFO!F76*100), \"-\"),0)","v":0},0,{"$f":"IF(AND(COUNTRY_INFO!J76>1,COUNTRY_INFO!J76<4), IF(S76/P76*100<>0, IF(X76/P76*100>100,100,X76/P76*100), \"-\"),0)","v":0},{"$f":"COUNTRY_INFO!P76","v":0},null,null,{"$f":"MAX('T1'!L76,'T2'!J76)+MAX('T1'!M76,'T2'!K76)+MAX('T1'!N76,'T2'!L76)","v":0},{"$f":"IF(COUNTRY_INFO!K76=1,IF(COUNTRY_INFO!F76*0.33>MAX('T1'!M76,'T2'!K76),MAX('T1'!M76,'T2'!K76),COUNTRY_INFO!F76*0.33),IF(COUNTRY_INFO!K76=2,IF(COUNTRY_INFO!F76*0.5>MAX('T1'!M76,'T2'!K76),MAX('T1'!M76,'T2'!K76),COUNTRY_INFO!F76*0.5),IF(COUNTRY_INFO!K76=3,IF(COUNTRY_INFO!F76>MAX('T1'!M76,'T2'!K76),MAX('T1'!M76,'T2'!K76),COUNTRY_INFO!F76),0)))","v":0},{"$f":"IF(AND(COUNTRY_INFO!K76>0,COUNTRY_INFO!K76<4),IF(Z76>0,IF(COUNTRY_INFO!K76=1, AD76/(COUNTRY_INFO!F76*0.33)*100, IF(COUNTRY_INFO!K76=2, AD76/(COUNTRY_INFO!F76*0.5)*100, IF(COUNTRY_INFO!K76=3, AD76/COUNTRY_INFO!F76*100))),\"-\"),0)","v":0},{"$f":"IF(COUNTRY_INFO!K76=2,IF(COUNTRY_INFO!G76*0.2>MAX('T1'!N76,'T2'!L76),MAX('T1'!N76,'T2'!L76),COUNTRY_INFO!G76*0.2),IF(COUNTRY_INFO!K76=3,IF(COUNTRY_INFO!G76>MAX('T1'!N76,'T2'!L76),MAX('T1'!N76,'T2'!L76),COUNTRY_INFO!G76),0))","v":0},{"$f":"IF(AND(COUNTRY_INFO!K76>0,COUNTRY_INFO!K76<4),IF(Z76>0,IF(COUNTRY_INFO!K76=1, 0, IF(COUNTRY_INFO!K76=2, AF76/(COUNTRY_INFO!G76*0.2)*100, IF(COUNTRY_INFO!K76=3, AF76/COUNTRY_INFO!G76*100))),\"-\"),0)","v":0},0,{"$f":"IF(AND(COUNTRY_INFO!K76>0,COUNTRY_INFO!K76<4), IF(AC76/Z76*100<>0, IF(AH76/Z76*100>100,100,AH76/Z76*100), \"-\"),0)","v":0},null,{"$f":"IF(AND(D76<>0, D76<>\"Inconnu\",D76<>\"Interrompu\",D76<>\"Non requis\"),D76/COUNTRY_INFO!D76, 0)","v":0},{"$f":"IF(AND(J76<>0,J76<>\"Inconnu\",J76<>\"Interrompu\",J76<>\"Non requis\"),J76/COUNTRY_INFO!D76, 0)","v":1},{"$f":"IF(AND(P76<>0,P76<>\"Inconnu\",P76<>\"Non requis\"),P76/(COUNTRY_INFO!E76+COUNTRY_INFO!F76), 0)","v":0},{"$f":"IF(AND(Z76<>0,Z76<>\"Inconnu\",Z76<>\"Non requis\"),IF(COUNTRY_INFO!K76=1,1,IF(COUNTRY_INFO!K76=2,0.5*COUNTRY_INFO!F76/(0.5*COUNTRY_INFO!F76+0.2*COUNTRY_INFO!G76),IF(COUNTRY_INFO!K76=3,COUNTRY_INFO!F76/(COUNTRY_INFO!F76+COUNTRY_INFO!G76)))),0)","v":0},{"$f":"IF(AND(Z76<>0,Z76<>\"Inconnu\",Z76<>\"Non requis\"),IF(COUNTRY_INFO!K76=1,0,IF(COUNTRY_INFO!K76=2,0.2*COUNTRY_INFO!G76/(0.5*COUNTRY_INFO!F76+0.2*COUNTRY_INFO!G76),IF(COUNTRY_INFO!K76=3,COUNTRY_INFO!G76/(COUNTRY_INFO!F76+COUNTRY_INFO!G76)))),0)","v":0},{"$f":"MAX(COUNTRY_INFO!D76*AK76*PROFILE!$G$7,COUNTRY_INFO!D76*AL76*PROFILE!$G$7)","v":3433.188128737675},{"$f":"MAX(COUNTRY_INFO!D76*AK76*PROFILE!$G$8,COUNTRY_INFO!D76*AL76*PROFILE!$G$8,COUNTRY_INFO!D76*AM76*PROFILE!$G$8)","v":15310.218121396503},{"$f":"MAX(COUNTRY_INFO!D76*AK76*PROFILE!$G$9,COUNTRY_INFO!D76*AL76*PROFILE!$G$9,COUNTRY_INFO!D76*AM76*PROFILE!$G$9,IF(AND(DISTRICT!Z76<>\"Inconnu\",Z76<>\"Non requis\"),COUNTRY_INFO!P76*DISTRICT!AN76,0))","v":28161.436832926276},{"$f":"MAX(COUNTRY_INFO!D76*AK76*PROFILE!$G$10,COUNTRY_INFO!D76*AL76*PROFILE!$G$10,IF(AND(DISTRICT!Z76<>\"Inconnu\",Z76<>\"Non requis\"),COUNTRY_INFO!P76*DISTRICT!AO76,0))","v":45884.156916939544},92789,"Y",{"$f":"MAX('MDA4'!R76,'T1'!L76,'T2'!J76,T3_R1!K76,T3_R2!K76)","v":0},{"$f":"MAX('MDA1'!K76,'MDA4'!S76,'MDA3'!I76,'MDA3'!L76,'T1'!M76,'T2'!K76,T3_R1!L76,T3_R2!L76)","v":28411},{"$f":"MAX('MDA1'!L76,'MDA4'!T76,'MDA3'!J76,'MDA3'!M76,'T1'!N76,'T2'!L76,T3_R1!M76,T3_R2!M76)","v":45416},73827,{"$f":"MAX('MDA4'!R76,T76)","v":0},{"$f":"MAX('MDA1'!K76,'MDA4'!S76,'MDA3'!I76,'MDA3'!L76,V76,AD76)","v":28411},{"$f":"MAX('MDA1'!L76,'MDA4'!T76,'MDA3'!J76,'MDA3'!M76,AF76)","v":45416},73827,79.564388020131688]
[{"$f":"IF(COUNTRY_INFO!A77=0,\" \",COUNTRY_INFO!A77)","v":"Chad"},{"$f":"IF(COUNTRY_INFO!B77=0,\" \",COUNTRY_INFO!B77)","v":"Mandoul"},{"$f":"IF(COUNTRY_INFO!C77=0,\" \",COUNTRY_INFO!C77)","v":"Bouna"},{"$f":"COUNTRY_INFO!M77","v":0},null,null,{"$f":"MAX('MDA1'!M77,'MDA4'!U77)","v":0},{"$f":"IF(AND(COUNTRY_INFO!H77>0,COUNTRY_INFO!H77<4),IF(D77>MAX('MDA1'!M77,'MDA4'!U77),MAX('MDA1'!M77,'MDA4'!U77),D77),0)","v":0},{"$f":"IF(AND(COUNTRY_INFO!H77>0,COUNTRY_INFO!H77<4), IF(G77/D77*100<>0, IF(G77/D77*100>100,100,G77/D77*100), \"-\"),0)","v":0},{"$f":"COUNTRY_INFO!N77","v":109137},null,null,{"$f":"MAX('MDA1'!M77,MAX('MDA3'!I77,'MDA3'!L77)+MAX('MDA3'!J77,'MDA3'!M77))","v":86089},{"$f":"IF(AND(COUNTRY_INFO!I77>0,COUNTRY_INFO!I77<4),IF(J77>MAX('MDA1'!M77,MAX('MDA3'!I77,'MDA3'!L77)+MAX('MDA3'!J77,'MDA3'!M77)),MAX('MDA1'!M77,MAX('MDA3'!I77,'MDA3'!L77)+MAX('MDA3'!J77,'MDA3'!M77)),J77),0)","v":86089},{"$f":"IF(AND(COUNTRY_INFO!I77>0,COUNTRY_INFO!I77<4), IF(M77/J77*100<>0, IF(M77/J77*100>100,100,M77/J77*100), \"-\"),0)","v":78.881589195231683},{"$f":"COUNTRY_INFO!O77","v":0},null,null,{"$f":"SUM(MAX('MDA4'!R77, 'T1'!L77, MAX(T3_R1!K77, T3_R2!K77)), MAX('MDA1'!K77, 'MDA4'!S77, 'T1'!M77, MAX(T3_R1!L77, T3_R2!L77)), MAX('MDA1'!L77, 'MDA4'!T77, 'T1'!N77, MAX(T3_R1!M77, T3_R2!M77)))","v":0},{"$f":"IF(AND(COUNTRY_INFO!J77>1,COUNTRY_INFO!J77<4),IF(COUNTRY_INFO!E77>MAX('MDA4'!R77,'T1'!L77,MAX(T3_R1!K77,T3_R2!K77)),MAX('MDA4'!R77,'T1'!L77,MAX(T3_R1!K77,T3_R2!K77)),COUNTRY_INFO!E77),0)","v":0},{"$f":"IF(AND(COUNTRY_INFO!J77>1,COUNTRY_INFO!J77<4), IF(T77/COUNTRY_INFO!E77*100<>0, IF(T77/COUNTRY_INFO!E77*100>100,100,T77/COUNTRY_INFO!E77*100), \"-\"),0)","v":0},{"$f":"IF(AND(COUNTRY_INFO!J77>1,COUNTRY_INFO!J77<4),IF(COUNTRY_INFO!F77>MAX('MDA1'!K77,'MDA4'!S77,'T1'!M77,MAX(T3_R1!L77,T3_R2!L77)),MAX('MDA1'!K77,'MDA4'!S77,'T1'!M77,MAX(T3_R1!L77,T3_R2!L77)),COUNTRY_INFO!F77),0)","v":0},{"$f":"IF(AND(COUNTRY_INFO!J77>1,COUNTRY_INFO!J77<4), IF(V77/COUNTRY_INFO!F77*100<>0, IF(V77/COUNTRY_INFO!F77*100>100,100,V77/COUNTRY_INFO!F77*100), \"-\"),0)","v":0},0,{"$f":"IF(AND(COUNTRY_INFO!J77>1,COUNTRY_INFO!J77<4), IF(S77/P77*100<>0, IF(X77/P77*100>100,100,X77/P77*100), \"-\"),0)","v":0},{"$f":"COUNTRY_INFO!P77","v":0},null,null,{"$f":"MAX('T1'!L77,'T2'!J77)+MAX('T1'!M77,'T2'!K77)+MAX('T1'!N77,'T2'!L77)","v":0},{"$f":"IF(COUNTRY_INFO!K77=1,IF(COUNTRY_INFO!F77*0.33>MAX('T1'!M77,'T2'!K77),MAX('T1'!M77,'T2'!K77),COUNTRY_INFO!F77*0.33),IF(COUNTRY_INFO!K77=2,IF(COUNTRY_INFO!F77*0.5>MAX('T1'!M77,'T2'!K77),MAX('T1'!M77,'T2'!K77),COUNTRY_INFO!F77*0.5),IF(COUNTRY_INFO!K77=3,IF(COUNTRY_INFO!F77>MAX('T1'!M77,'T2'!K77),MAX('T1'!M77,'T2'!K77),COUNTRY_INFO!F77),0)))","v":0},{"$f":"IF(AND(COUNTRY_INFO!K77>0,COUNTRY_INFO!K77<4),IF(Z77>0,IF(COUNTRY_INFO!K77=1, AD77/(COUNTRY_INFO!F77*0.33)*100, IF(COUNTRY_INFO!K77=2, AD77/(COUNTRY_INFO!F77*0.5)*100, IF(COUNTRY_INFO!K77=3, AD77/COUNTRY_INFO!F77*100))),\"-\"),0)","v":0},{"$f":"IF(COUNTRY_INFO!K77=2,IF(COUNTRY_INFO!G77*0.2>MAX('T1'!N77,'T2'!L77),MAX('T1'!N77,'T2'!L77),COUNTRY_INFO!G77*0.2),IF(COUNTRY_INFO!K77=3,IF(COUNTRY_INFO!G77>MAX('T1'!N77,'T2'!L77),MAX('T1'!N77,'T2'!L77),COUNTRY_INFO!G77),0))","v":0},{"$f":"IF(AND(COUNTRY_INFO!K77>0,COUNTRY_INFO!K77<4),IF(Z77>0,IF(COUNTRY_INFO!K77=1, 0, IF(COUNTRY_INFO!K77=2, AF77/(COUNTRY_INFO!G77*0.2)*100, IF(COUNTRY_INFO!K77=3, AF77/COUNTRY_INFO!G77*100))),\"-\"),0)","v":0},0,{"$f":"IF(AND(COUNTRY_INFO!K77>0,COUNTRY_INFO!K77<4), IF(AC77/Z77*100<>0, IF(AH77/Z77*100>100,100,AH77/Z77*100), \"-\"),0)","v":0},null,{"$f":"IF(AND(D77<>0, D77<>\"Inconnu\",D77<>\"Interrompu\",D77<>\"Non requis\"),D77/COUNTRY_INFO!D77, 0)","v":0},{"$f":"IF(AND(J77<>0,J77<>\"Inconnu\",J77<>\"Interrompu\",J77<>\"Non requis\"),J77/COUNTRY_INFO!D77, 0)","v":1},{"$f":"IF(AND(P77<>0,P77<>\"Inconnu\",P77<>\"Non requis\"),P77/(COUNTRY_INFO!E77+COUNTRY_INFO!F77), 0)","v":0},{"$f":"IF(AND(Z77<>0,Z77<>\"Inconnu\",Z77<>\"Non requis\"),IF(COUNTRY_INFO!K77=1,1,IF(COUNTRY_INFO!K77=2,0.5*COUNTRY_INFO!F77/(0.5*COUNTRY_INFO!F77+0.2*COUNTRY_INFO!G77),IF(COUNTRY_INFO!K77=3,COUNTRY_INFO!F77/(COUNTRY_INFO!F77+COUNTRY_INFO!G77)))),0)","v":0},{"$f":"IF(AND(Z77<>0,Z77<>\"Inconnu\",Z77<>\"Non requis\"),IF(COUNTRY_INFO!K77=1,0,IF(COUNTRY_INFO!K77=2,0.2*COUNTRY_INFO!G77/(0.5*COUNTRY_INFO!F77+0.2*COUNTRY_INFO!G77),IF(COUNTRY_INFO!K77=3,COUNTRY_INFO!G77/(COUNTRY_INFO!F77+COUNTRY_INFO!G77)))),0)","v":0},{"$f":"MAX(COUNTRY_INFO!D77*AK77*PROFILE!$G$7,COUNTRY_INFO!D77*AL77*PROFILE!$G$7)","v":4038.0632704958953},{"$f":"MAX(COUNTRY_INFO!D77*AK77*PROFILE!$G$8,COUNTRY_INFO!D77*AL77*PROFILE!$G$8,COUNTRY_INFO!D77*AM77*PROFILE!$G$8)","v":18007.643956879052},{"$f":"MAX(COUNTRY_INFO!D77*AK77*PROFILE!$G$9,COUNTRY_INFO!D77*AL77*PROFILE!$G$9,COUNTRY_INFO!D77*AM77*PROFILE!$G$9,IF(AND(DISTRICT!Z77<>\"Inconnu\",Z77<>\"Non requis\"),COUNTRY_INFO!P77*DISTRICT!AN77,0))","v":33123.050486965862},{"$f":"MAX(COUNTRY_INFO!D77*AK77*PROFILE!$G$10,COUNTRY_INFO!D77*AL77*PROFILE!$G$10,IF(AND(DISTRICT!Z77<>\"Inconnu\",Z77<>\"Non requis\"),COUNTRY_INFO!P77*DISTRICT!AO77,0))","v":53968.242285659195},109137,"Y",{"$f":"MAX('MDA4'!R77,'T1'!L77,'T2'!J77,T3_R1!K77,T3_R2!K77)","v":0},{"$f":"MAX('MDA1'!K77,'MDA4'!S77,'MDA3'!I77,'MDA3'!L77,'T1'!M77,'T2'!K77,T3_R1!L77,T3_R2!L77)","v":32363},{"$f":"MAX('MDA1'!L77,'MDA4'!T77,'MDA3'!J77,'MDA3'!M77,'T1'!N77,'T2'!L77,T3_R1!M77,T3_R2!M77)","v":53726},86089,{"$f":"MAX('MDA4'!R77,T77)","v":0},{"$f":"MAX('MDA1'!K77,'MDA4'!S77,'MDA3'!I77,'MDA3'!L77,V77,AD77)","v":32363},{"$f":"MAX('MDA1'!L77,'MDA4'!T77,'MDA3'!J77,'MDA3'!M77,AF77)","v":53726},86089,78.881589195231683]
[{"$f":"IF(COUNTRY_INFO!A78=0,\" \",COUNTRY_INFO!A78)","v":"Chad"},{"$f":"IF(COUNTRY_INFO!B78=0,\" \",COUNTRY_INFO!B78)","v":"Mandoul"},{"$f":"IF(COUNTRY_INFO!C78=0,\" \",COUNTRY_INFO!C78)","v":"Goundi"},{"$f":"COUNTRY_INFO!M78","v":0},null,null,{"$f":"MAX('MDA1'!M78,'MDA4'!U78)","v":0},{"$f":"IF(AND(COUNTRY_INFO!H78>0,COUNTRY_INFO!H78<4),IF(D78>MAX('MDA1'!M78,'MDA4'!U78),MAX('MDA1'!M78,'MDA4'!U78),D78),0)","v":0},{"$f":"IF(AND(COUNTRY_INFO!H78>0,COUNTRY_INFO!H78<4), IF(G78/D78*100<>0, IF(G78/D78*100>100,100,G78/D78*100), \"-\"),0)","v":0},{"$f":"COUNTRY_INFO!N78","v":0},null,null,{"$f":"MAX('MDA1'!M78,MAX('MDA3'!I78,'MDA3'!L78)+MAX('MDA3'!J78,'MDA3'!M78))","v":0},{"$f":"IF(AND(COUNTRY_INFO!I78>0,COUNTRY_INFO!I78<4),IF(J78>MAX('MDA1'!M78,MAX('MDA3'!I78,'MDA3'!L78)+MAX('MDA3'!J78,'MDA3'!M78)),MAX('MDA1'!M78,MAX('MDA3'!I78,'MDA3'!L78)+MAX('MDA3'!J78,'MDA3'!M78)),J78),0)","v":0},{"$f":"IF(AND(COUNTRY_INFO!I78>0,COUNTRY_INFO!I78<4), IF(M78/J78*100<>0, IF(M78/J78*100>100,100,M78/J78*100), \"-\"),0)","v":0},{"$f":"COUNTRY_INFO!O78","v":0},null,null,{"$f":"SUM(MAX('MDA4'!R78, 'T1'!L78, MAX(T3_R1!K78, T3_R2!K78)), MAX('MDA1'!K78, 'MDA4'!S78, 'T1'!M78, MAX(T3_R1!L78, T3_R2!L78)), MAX('MDA1'!L78, 'MDA4'!T78, 'T1'!N78, MAX(T3_R1!M78, T3_R2!M78)))","v":0},{"$f":"IF(AND(COUNTRY_INFO!J78>1,COUNTRY_INFO!J78<4),IF(COUNTRY_INFO!E78>MAX('MDA4'!R78,'T1'!L78,MAX(T3_R1!K78,T3_R2!K78)),MAX('MDA4'!R78,'T1'!L78,MAX(T3_R1!K78,T3_R2!K78)),COUNTRY_INFO!E78),0)","v":0},{"$f":"IF(AND(COUNTRY_INFO!J78>1,COUNTRY_INFO!J78<4), IF(T78/COUNTRY_INFO!E78*100<>0, IF(T78/COUNTRY_INFO!E78*100>100,100,T78/COUNTRY_INFO!E78*100), \"-\"),0)","v":0},{"$f":"IF(AND(COUNTRY_INFO!J78>1,COUNTRY_INFO!J78<4),IF(COUNTRY_INFO!F78>MAX('MDA1'!K78,'MDA4'!S78,'T1'!M78,MAX(T3_R1!L78,T3_R2!L78)),MAX('MDA1'!K78,'MDA4'!S78,'T1'!M78,MAX(T3_R1!L78,T3_R2!L78)),COUNTRY_INFO!F78),0)","v":0},{"$f":"IF(AND(COUNTRY_INFO!J78>1,COUNTRY_INFO!J78<4), IF(V78/COUNTRY_INFO!F78*100<>0, IF(V78/COUNTRY_INFO!F78*100>100,100,V78/COUNTRY_INFO!F78*100), \"-\"),0)","v":0},0,{"$f":"IF(AND(COUNTRY_INFO!J78>1,COUNTRY_INFO!J78<4), IF(S78/P78*100<>0, IF(X78/P78*100>100,100,X78/P78*100), \"-\"),0)","v":0},{"$f":"COUNTRY_INFO!P78","v":20822.670000000002},null,null,{"$f":"MAX('T1'!L78,'T2'!J78)+MAX('T1'!M78,'T2'!K78)+MAX('T1'!N78,'T2'!L78)","v":0},{"$f":"IF(COUNTRY_INFO!K78=1,IF(COUNTRY_INFO!F78*0.33>MAX('T1'!M78,'T2'!K78),MAX('T1'!M78,'T2'!K78),COUNTRY_INFO!F78*0.33),IF(COUNTRY_INFO!K78=2,IF(COUNTRY_INFO!F78*0.5>MAX('T1'!M78,'T2'!K78),MAX('T1'!M78,'T2'!K78),COUNTRY_INFO!F78*0.5),IF(COUNTRY_INFO!K78=3,IF(COUNTRY_INFO!F78>MAX('T1'!M78,'T2'!K78),MAX('T1'!M78,'T2'!K78),COUNTRY_INFO!F78),0)))","v":0},{"$f":"IF(AND(COUNTRY_INFO!K78>0,COUNTRY_INFO!K78<4),IF(Z78>0,IF(COUNTRY_INFO!K78=1, AD78/(COUNTRY_INFO!F78*0.33)*100, IF(COUNTRY_INFO!K78=2, AD78/(COUNTRY_INFO!F78*0.5)*100, IF(COUNTRY_INFO!K78=3, AD78/COUNTRY_INFO!F78*100))),\"-\"),0)","v":0},{"$f":"IF(COUNTRY_INFO!K78=2,IF(COUNTRY_INFO!G78*0.2>MAX('T1'!N78,'T2'!L78),MAX('T1'!N78,'T2'!L78),COUNTRY_INFO!G78*0.2),IF(COUNTRY_INFO!K78=3,IF(COUNTRY_INFO!G78>MAX('T1'!N78,'T2'!L78),MAX('T1'!N78,'T2'!L78),COUNTRY_INFO!G78),0))","v":0},{"$f":"IF(AND(COUNTRY_INFO!K78>0,COUNTRY_INFO!K78<4),IF(Z78>0,IF(COUNTRY_INFO!K78=1, 0, IF(COUNTRY_INFO!K78=2, AF78/(COUNTRY_INFO!G78*0.2)*100, IF(COUNTRY_INFO!K78=3, AF78/COUNTRY_INFO!G78*100))),\"-\"),0)","v":0},0,{"$f":"IF(AND(COUNTRY_INFO!K78>0,COUNTRY_INFO!K78<4), IF(AC78/Z78*100<>0, IF(AH78/Z78*100>100,100,AH78/Z78*100), \"-\"),0)","v":"-"},null,{"$f":"IF(AND(D78<>0, D78<>\"Inconnu\",D78<>\"Interrompu\",D78<>\"Non requis\"),D78/COUNTRY_INFO!D78, 0)","v":0},{"$f":"IF(AND(J78<>0,J78<>\"Inconnu\",J78<>\"Interrompu\",J78<>\"Non requis\"),J78/COUNTRY_INFO!D78, 0)","v":0},{"$f":"IF(AND(P78<>0,P78<>\"Inconnu\",P78<>\"Non requis\"),P78/(COUNTRY_INFO!E78+COUNTRY_INFO!F78), 0)","v":0},{"$f":"IF(AND(Z78<>0,Z78<>\"Inconnu\",Z78<>\"Non requis\"),IF(COUNTRY_INFO!K78=1,1,IF(COUNTRY_INFO!K78=2,0.5*COUNTRY_INFO!F78/(0.5*COUNTRY_INFO!F78+0.2*COUNTRY_INFO!G78),IF(COUNTRY_INFO!K78=3,COUNTRY_INFO!F78/(COUNTRY_INFO!F78+COUNTRY_INFO!G78)))),0)","v":1},{"$f":"IF(AND(Z78<>0,Z78<>\"Inconnu\",Z78<>\"Non requis\"),IF(COUNTRY_INFO!K78=1,0,IF(COUNTRY_INFO!K78=2,0.2*COUNTRY_INFO!G78/(0.5*COUNTRY_INFO!F78+0.2*COUNTRY_INFO!G78),IF(COUNTRY_INFO!K78=3,COUNTRY_INFO!G78/(COUNTRY_INFO!F78+COUNTRY_INFO!G78)))),0)","v":0},{"$f":"MAX(COUNTRY_INFO!D78*AK78*PROFILE!$G$7,COUNTRY_INFO!D78*AL78*PROFILE!$G$7)","v":0},{"$f":"MAX(COUNTRY_INFO!D78*AK78*PROFILE!$G$8,COUNTRY_INFO!D78*AL78*PROFILE!$G$8,COUNTRY_INFO!D78*AM78*PROFILE!$G$8)","v":0},{"$f":"MAX(COUNTRY_INFO!D78*AK78*PROFILE!$G$9,COUNTRY_INFO!D78*AL78*PROFILE!$G$9,COUNTRY_INFO!D78*AM78*PROFILE!$G$9,IF(AND(DISTRICT!Z78<>\"Inconnu\",Z78<>\"Non requis\"),COUNTRY_INFO!P78*DISTRICT!AN78,0))","v":20822.670000000002},{"$f":"MAX(COUNTRY_INFO!D78*AK78*PROFILE!$G$10,COUNTRY_INFO!D78*AL78*PROFILE!$G$10,IF(AND(DISTRICT!Z78<>\"Inconnu\",Z78<>\"Non requis\"),COUNTRY_INFO!P78*DISTRICT!AO78,0))","v":0},20822.670000000002,0,{"$f":"MAX('MDA4'!R78,'T1'!L78,'T2'!J78,T3_R1!K78,T3_R2!K78)","v":0},{"$f":"MAX('MDA1'!K78,'MDA4'!S78,'MDA3'!I78,'MDA3'!L78,'T1'!M78,'T2'!K78,T3_R1!L78,T3_R2!L78)","v":0},{"$f":"MAX('MDA1'!L78,'MDA4'!T78,'MDA3'!J78,'MDA3'!M78,'T1'!N78,'T2'!L78,T3_R1!M78,T3_R2!M78)","v":0},0,{"$f":"MAX('MDA4'!R78,T78)","v":0},{"$f":"MAX('MDA1'!K78,'MDA4'!S78,'MDA3'!I78,'MDA3'!L78,V78,AD78)","v":0},{"$f":"MAX('MDA1'!L78,'MDA4'!T78,'MDA3'!J78,'MDA3'!M78,AF78)","v":0},0,0]
[{"$f":"IF(COUNTRY_INFO!A79=0,\" \",COUNTRY_INFO!A79)","v":"Chad"},{"$f":"IF(COUNTRY_INFO!B79=0,\" \",COUNTRY_INFO!B79)","v":"Mandoul"},{"$f":"IF(COUNTRY_INFO!C79=0,\" \",COUNTRY_INFO!C79)","v":"Koumra"},{"$f":"COUNTRY_INFO!M79","v":246432},null,null,{"$f":"MAX('MDA1'!M79,'MDA4'!U79)","v":191711},{"$f":"IF(AND(COUNTRY_INFO!H79>0,COUNTRY_INFO!H79<4),IF(D79>MAX('MDA1'!M79,'MDA4'!U79),MAX('MDA1'!M79,'MDA4'!U79),D79),0)","v":191711},{"$f":"IF(AND(COUNTRY_INFO!H79>0,COUNTRY_INFO!H79<4), IF(G79/D79*100<>0, IF(G79/D79*100>100,100,G79/D79*100), \"-\"),0)","v":77.794685755096737},{"$f":"COUNTRY_INFO!N79","v":246432},null,null,{"$f":"MAX('MDA1'!M79,MAX('MDA3'!I79,'MDA3'!L79)+MAX('MDA3'!J79,'MDA3'!M79))","v":191711},{"$f":"IF(AND(COUNTRY_INFO!I79>0,COUNTRY_INFO!I79<4),IF(J79>MAX('MDA1'!M79,MAX('MDA3'!I79,'MDA3'!L79)+MAX('MDA3'!J79,'MDA3'!M79)),MAX('MDA1'!M79,MAX('MDA3'!I79,'MDA3'!L79)+MAX('MDA3'!J79,'MDA3'!M79)),J79),0)","v":191711},{"$f":"IF(AND(COUNTRY_INFO!I79>0,COUNTRY_INFO!I79<4), IF(M79/J79*100<>0, IF(M79/J79*100>100,100,M79/J79*100), \"-\"),0)","v":77.794685755096737},{"$f":"COUNTRY_INFO!O79","v":0},null,null,{"$f":"SUM(MAX('MDA4'!R79, 'T1'!L79, MAX(T3_R1!K79, T3_R2!K79)), MAX('MDA1'!K79, 'MDA4'!S79, 'T1'!M79, MAX(T3_R1!L79, T3_R2!L79)), MAX('MDA1'!L79, 'MDA4'!T79, 'T1'!N79, MAX(T3_R1!M79, T3_R2!M79)))","v":191711},{"$f":"IF(AND(COUNTRY_INFO!J79>1,COUNTRY_INFO!J79<4),IF(COUNTRY_INFO!E79>MAX('MDA4'!R79,'T1'!L79,MAX(T3_R1!K79,T3_R2!K79)),MAX('MDA4'!R79,'T1'!L79,MAX(T3_R1!K79,T3_R2!K79)),COUNTRY_INFO!E79),0)","v":0},{"$f":"IF(AND(COUNTRY_INFO!J79>1,COUNTRY_INFO!J79<4), IF(T79/COUNTRY_INFO!E79*100<>0, IF(T79/COUNTRY_INFO!E79*100>100,100,T79/COUNTRY_INFO!E79*100), \"-\"),0)","v":0},{"$f":"IF(AND(COUNTRY_INFO!J79>1,COUNTRY_INFO!J79<4),IF(COUNTRY_INFO!F79>MAX('MDA1'!K79,'MDA4'!S79,'T1'!M79,MAX(T3_R1!L79,T3_R2!L79)),MAX('MDA1'!K79,'MDA4'!S79,'T1'!M79,MAX(T3_R1!L79,T3_R2!L79)),COUNTRY_INFO!F79),0)","v":0},{"$f":"IF(AND(COUNTRY_INFO!J79>1,COUNTRY_INFO!J79<4), IF(V79/COUNTRY_INFO!F79*100<>0, IF(V79/COUNTRY_INFO!F79*100>100,100,V79/COUNTRY_INFO!F79*100), \"-\"),0)","v":0},0,{"$f":"IF(AND(COUNTRY_INFO!J79>1,COUNTRY_INFO!J79<4), IF(S79/P79*100<>0, IF(X79/P79*100>100,100,X79/P79*100), \"-\"),0)","v":0},{"$f":"COUNTRY_INFO!P79","v":24681.360000000001},null,null,{"$f":"MAX('T1'!L79,'T2'!J79)+MAX('T1'!M79,'T2'!K79)+MAX('T1'!N79,'T2'!L79)","v":0},{"$f":"IF(COUNTRY_INFO!K79=1,IF(COUNTRY_INFO!F79*0.33>MAX('T1'!M79,'T2'!K79),MAX('T1'!M79,'T2'!K79),COUNTRY_INFO!F79*0.33),IF(COUNTRY_INFO!K79=2,IF(COUNTRY_INFO!F79*0.5>MAX('T1'!M79,'T2'!K79),MAX('T1'!M79,'T2'!K79),COUNTRY_INFO!F79*0.5),IF(COUNTRY_INFO!K79=3,IF(COUNTRY_INFO!F79>MAX('T1'!M79,'T2'!K79),MAX('T1'!M79,'T2'!K79),COUNTRY_INFO!F79),0)))","v":0},{"$f":"IF(AND(COUNTRY_INFO!K79>0,COUNTRY_INFO!K79<4),IF(Z79>0,IF(COUNTRY_INFO!K79=1, AD79/(COUNTRY_INFO!F79*0.33)*100, IF(COUNTRY_INFO!K79=2, AD79/(COUNTRY_INFO!F79*0.5)*100, IF(COUNTRY_INFO!K79=3, AD79/COUNTRY_INFO!F79*100))),\"-\"),0)","v":0},{"$f":"IF(COUNTRY_INFO!K79=2,IF(COUNTRY_INFO!G79*0.2>MAX('T1'!N79,'T2'!L79),MAX('T1'!N79,'T2'!L79),COUNTRY_INFO!G79*0.2),IF(COUNTRY_INFO!K79=3,IF(COUNTRY_INFO!G79>MAX('T1'!N79,'T2'!L79),MAX('T1'!N79,'T2'!L79),COUNTRY_INFO!G79),0))","v":0},{"$f":"IF(AND(COUNTRY_INFO!K79>0,COUNTRY_INFO!K79<4),IF(Z79>0,IF(COUNTRY_INFO!K79=1, 0, IF(COUNTRY_INFO!K79=2, AF79/(COUNTRY_INFO!G79*0.2)*100, IF(COUNTRY_INFO!K79=3, AF79/COUNTRY_INFO!G79*100))),\"-\"),0)","v":0},0,{"$f":"IF(AND(COUNTRY_INFO!K79>0,COUNTRY_INFO!K79<4), IF(AC79/Z79*100<>0, IF(AH79/Z79*100>100,100,AH79/Z79*100), \"-\"),0)","v":"-"},null,{"$f":"IF(AND(D79<>0, D79<>\"Inconnu\",D79<>\"Interrompu\",D79<>\"Non requis\"),D79/COUNTRY_INFO!D79, 0)","v":1},{"$f":"IF(AND(J79<>0,J79<>\"Inconnu\",J79<>\"Interrompu\",J79<>\"Non requis\"),J79/COUNTRY_INFO!D79, 0)","v":1},{"$f":"IF(AND(P79<>0,P79<>\"Inconnu\",P79<>\"Non requis\"),P79/(COUNTRY_INFO!E79+COUNTRY_INFO!F79), 0)","v":0},{"$f":"IF(AND(Z79<>0,Z79<>\"Inconnu\",Z79<>\"Non requis\"),IF(COUNTRY_INFO!K79=1,1,IF(COUNTRY_INFO!K79=2,0.5*COUNTRY_INFO!F79/(0.5*COUNTRY_INFO!F79+0.2*COUNTRY_INFO!G79),IF(COUNTRY_INFO!K79=3,COUNTRY_INFO!F79/(COUNTRY_INFO!F79+COUNTRY_INFO!G79)))),0)","v":1},{"$f":"IF(AND(Z79<>0,Z79<>\"Inconnu\",Z79<>\"Non requis\"),IF(COUNTRY_INFO!K79=1,0,IF(COUNTRY_INFO!K79=2,0.2*COUNTRY_INFO!G79/(0.5*COUNTRY_INFO!F79+0.2*COUNTRY_INFO!G79),IF(COUNTRY_INFO!K79=3,COUNTRY_INFO!G79/(COUNTRY_INFO!F79+COUNTRY_INFO!G79)))),0)","v":0},{"$f":"MAX(COUNTRY_INFO!D79*AK79*PROFILE!$G$7,COUNTRY_INFO!D79*AL79*PROFILE!$G$7)","v":9117.9710627453987},{"$f":"MAX(COUNTRY_INFO!D79*AK79*PROFILE!$G$8,COUNTRY_INFO!D79*AL79*PROFILE!$G$8,COUNTRY_INFO!D79*AM79*PROFILE!$G$8)","v":40661.367964866346},{"$f":"MAX(COUNTRY_INFO!D79*AK79*PROFILE!$G$9,COUNTRY_INFO!D79*AL79*PROFILE!$G$9,COUNTRY_INFO!D79*AM79*PROFILE!$G$9,IF(AND(DISTRICT!Z79<>\"Inconnu\",Z79<>\"Non requis\"),COUNTRY_INFO!P79*DISTRICT!AN79,0))","v":74792.046488395048},{"$f":"MAX(COUNTRY_INFO!D79*AK79*PROFILE!$G$10,COUNTRY_INFO!D79*AL79*PROFILE!$G$10,IF(AND(DISTRICT!Z79<>\"Inconnu\",Z79<>\"Non requis\"),COUNTRY_INFO!P79*DISTRICT!AO79,0))","v":121860.61448399321},246432,0,{"$f":"MAX('MDA4'!R79,'T1'!L79,'T2'!J79,T3_R1!K79,T3_R2!K79)","v":0},{"$f":"MAX('MDA1'!K79,'MDA4'!S79,'MDA3'!I79,'MDA3'!L79,'T1'!M79,'T2'!K79,T3_R1!L79,T3_R2!L79)","v":72166},{"$f":"MAX('MDA1'!L79,'MDA4'!T79,'MDA3'!J79,'MDA3'!M79,'T1'!N79,'T2'!L79,T3_R1!M79,T3_R2!M79)","v":119545},191711,{"$f":"MAX('MDA4'!R79,T79)","v":0},{"$f":"MAX('MDA1'!K79,'MDA4'!S79,'MDA3'!I79,'MDA3'!L79,V79,AD79)","v":72166},{"$f":"MAX('MDA1'!L79,'MDA4'!T79,'MDA3'!J79,'MDA3'!M79,AF79)","v":119545},191711,77.794685755096737]
[{"$f":"IF(COUNTRY_INFO!A80=0,\" \",COUNTRY_INFO!A80)","v":"Chad"},{"$f":"IF(COUNTRY_INFO!B80=0,\" \",COUNTRY_INFO!B80)","v":"Mandoul"},{"$f":"IF(COUNTRY_INFO!C80=0,\" \",COUNTRY_INFO!C80)","v":"Moissala"},{"$f":"COUNTRY_INFO!M80","v":0},null,null,{"$f":"MAX('MDA1'!M80,'MDA4'!U80)","v":0},{"$f":"IF(AND(COUNTRY_INFO!H80>0,COUNTRY_INFO!H80<4),IF(D80>MAX('MDA1'!M80,'MDA4'!U80),MAX('MDA1'!M80,'MDA4'!U80),D80),0)","v":0},{"$f":"IF(AND(COUNTRY_INFO!H80>0,COUNTRY_INFO!H80<4), IF(G80/D80*100<>0, IF(G80/D80*100>100,100,G80/D80*100), \"-\"),0)","v":0},{"$f":"COUNTRY_INFO!N80","v":206127},null,null,{"$f":"MAX('MDA1'!M80,MAX('MDA3'!I80,'MDA3'!L80)+MAX('MDA3'!J80,'MDA3'!M80))","v":132800},{"$f":"IF(AND(COUNTRY_INFO!I80>0,COUNTRY_INFO!I80<4),IF(J80>MAX('MDA1'!M80,MAX('MDA3'!I80,'MDA3'!L80)+MAX('MDA3'!J80,'MDA3'!M80)),MAX('MDA1'!M80,MAX('MDA3'!I80,'MDA3'!L80)+MAX('MDA3'!J80,'MDA3'!M80)),J80),0)","v":132800},{"$f":"IF(AND(COUNTRY_INFO!I80>0,COUNTRY_INFO!I80<4), IF(M80/J80*100<>0, IF(M80/J80*100>100,100,M80/J80*100), \"-\"),0)","v":64.426300290597553},{"$f":"COUNTRY_INFO!O80","v":0},null,null,{"$f":"SUM(MAX('MDA4'!R80, 'T1'!L80, MAX(T3_R1!K80, T3_R2!K80)), MAX('MDA1'!K80, 'MDA4'!S80, 'T1'!M80, MAX(T3_R1!L80, T3_R2!L80)), MAX('MDA1'!L80, 'MDA4'!T80, 'T1'!N80, MAX(T3_R1!M80, T3_R2!M80)))","v":0},{"$f":"IF(AND(COUNTRY_INFO!J80>1,COUNTRY_INFO!J80<4),IF(COUNTRY_INFO!E80>MAX('MDA4'!R80,'T1'!L80,MAX(T3_R1!K80,T3_R2!K80)),MAX('MDA4'!R80,'T1'!L80,MAX(T3_R1!K80,T3_R2!K80)),COUNTRY_INFO!E80),0)","v":0},{"$f":"IF(AND(COUNTRY_INFO!J80>1,COUNTRY_INFO!J80<4), IF(T80/COUNTRY_INFO!E80*100<>0, IF(T80/COUNTRY_INFO!E80*100>100,100,T80/COUNTRY_INFO!E80*100), \"-\"),0)","v":0},{"$f":"IF(AND(COUNTRY_INFO!J80>1,COUNTRY_INFO!J80<4),IF(COUNTRY_INFO!F80>MAX('MDA1'!K80,'MDA4'!S80,'T1'!M80,MAX(T3_R1!L80,T3_R2!L80)),MAX('MDA1'!K80,'MDA4'!S80,'T1'!M80,MAX(T3_R1!L80,T3_R2!L80)),COUNTRY_INFO!F80),0)","v":0},{"$f":"IF(AND(COUNTRY_INFO!J80>1,COUNTRY_INFO!J80<4), IF(V80/COUNTRY_INFO!F80*100<>0, IF(V80/COUNTRY_INFO!F80*100>100,100,V80/COUNTRY_INFO!F80*100), \"-\"),0)","v":0},0,{"$f":"IF(AND(COUNTRY_INFO!J80>1,COUNTRY_INFO!J80<4), IF(S80/P80*100<>0, IF(X80/P80*100>100,100,X80/P80*100), \"-\"),0)","v":0},{"$f":"COUNTRY_INFO!P80","v":0},null,null,{"$f":"MAX('T1'!L80,'T2'!J80)+MAX('T1'!M80,'T2'!K80)+MAX('T1'!N80,'T2'!L80)","v":0},{"$f":"IF(COUNTRY_INFO!K80=1,IF(COUNTRY_INFO!F80*0.33>MAX('T1'!M80,'T2'!K80),MAX('T1'!M80,'T2'!K80),COUNTRY_INFO!F80*0.33),IF(COUNTRY_INFO!K80=2,IF(COUNTRY_INFO!F80*0.5>MAX('T1'!M80,'T2'!K80),MAX('T1'!M80,'T2'!K80),COUNTRY_INFO!F80*0.5),IF(COUNTRY_INFO!K80=3,IF(COUNTRY_INFO!F80>MAX('T1'!M80,'T2'!K80),MAX('T1'!M80,'T2'!K80),COUNTRY_INFO!F80),0)))","v":0},{"$f":"IF(AND(COUNTRY_INFO!K80>0,COUNTRY_INFO!K80<4),IF(Z80>0,IF(COUNTRY_INFO!K80=1, AD80/(COUNTRY_INFO!F80*0.33)*100, IF(COUNTRY_INFO!K80=2, AD80/(COUNTRY_INFO!F80*0.5)*100, IF(COUNTRY_INFO!K80=3, AD80/COUNTRY_INFO!F80*100))),\"-\"),0)","v":0},{"$f":"IF(COUNTRY_INFO!K80=2,IF(COUNTRY_INFO!G80*0.2>MAX('T1'!N80,'T2'!L80),MAX('T1'!N80,'T2'!L80),COUNTRY_INFO!G80*0.2),IF(COUNTRY_INFO!K80=3,IF(COUNTRY_INFO!G80>MAX('T1'!N80,'T2'!L80),MAX('T1'!N80,'T2'!L80),COUNTRY_INFO!G80),0))","v":0},{"$f":"IF(AND(COUNTRY_INFO!K80>0,COUNTRY_INFO!K80<4),IF(Z80>0,IF(COUNTRY_INFO!K80=1, 0, IF(COUNTRY_INFO!K80=2, AF80/(COUNTRY_INFO!G80*0.2)*100, IF(COUNTRY_INFO!K80=3, AF80/COUNTRY_INFO!G80*100))),\"-\"),0)","v":0},0,{"$f":"IF(AND(COUNTRY_INFO!K80>0,COUNTRY_INFO!K80<4), IF(AC80/Z80*100<>0, IF(AH80/Z80*100>100,100,AH80/Z80*100), \"-\"),0)","v":0},null,{"$f":"IF(AND(D80<>0, D80<>\"Inconnu\",D80<>\"Interrompu\",D80<>\"Non requis\"),D80/COUNTRY_INFO!D80, 0)","v":0},{"$f":"IF(AND(J80<>0,J80<>\"Inconnu\",J80<>\"Interrompu\",J80<>\"Non requis\"),J80/COUNTRY_INFO!D80, 0)","v":1},{"$f":"IF(AND(P80<>0,P80<>\"Inconnu\",P80<>\"Non requis\"),P80/(COUNTRY_INFO!E80+COUNTRY_INFO!F80), 0)","v":0},{"$f":"IF(AND(Z80<>0,Z80<>\"Inconnu\",Z80<>\"Non requis\"),IF(COUNTRY_INFO!K80=1,1,IF(COUNTRY_INFO!K80=2,0.5*COUNTRY_INFO!F80/(0.5*COUNTRY_INFO!F80+0.2*COUNTRY_INFO!G80),IF(COUNTRY_INFO!K80=3,COUNTRY_INFO!F80/(COUNTRY_INFO!F80+COUNTRY_INFO!G80)))),0)","v":0},{"$f":"IF(AND(Z80<>0,Z80<>\"Inconnu\",Z80<>\"Non requis\"),IF(COUNTRY_INFO!K80=1,0,IF(COUNTRY_INFO!K80=2,0.2*COUNTRY_INFO!G80/(0.5*COUNTRY_INFO!F80+0.2*COUNTRY_INFO!G80),IF(COUNTRY_INFO!K80=3,COUNTRY_INFO!G80/(COUNTRY_INFO!F80+COUNTRY_INFO!G80)))),0)","v":0},{"$f":"MAX(COUNTRY_INFO!D80*AK80*PROFILE!$G$7,COUNTRY_INFO!D80*AL80*PROFILE!$G$7)","v":7626.6881786883223},{"$f":"MAX(COUNTRY_INFO!D80*AK80*PROFILE!$G$8,COUNTRY_INFO!D80*AL80*PROFILE!$G$8,COUNTRY_INFO!D80*AM80*PROFILE!$G$8)","v":34011.028577838937},{"$f":"MAX(COUNTRY_INFO!D80*AK80*PROFILE!$G$9,COUNTRY_INFO!D80*AL80*PROFILE!$G$9,COUNTRY_INFO!D80*AM80*PROFILE!$G$9,IF(AND(DISTRICT!Z80<>\"Inconnu\",Z80<>\"Non requis\"),COUNTRY_INFO!P80*DISTRICT!AN80,0))","v":62559.489703096217},{"$f":"MAX(COUNTRY_INFO!D80*AK80*PROFILE!$G$10,COUNTRY_INFO!D80*AL80*PROFILE!$G$10,IF(AND(DISTRICT!Z80<>\"Inconnu\",Z80<>\"Non requis\"),COUNTRY_INFO!P80*DISTRICT!AO80,0))","v":101929.79354037653},206127,"Y",{"$f":"MAX('MDA4'!R80,'T1'!L80,'T2'!J80,T3_R1!K80,T3_R2!K80)","v":0},{"$f":"MAX('MDA1'!K80,'MDA4'!S80,'MDA3'!I80,'MDA3'!L80,'T1'!M80,'T2'!K80,T3_R1!L80,T3_R2!L80)","v":42496},{"$f":"MAX('MDA1'!L80,'MDA4'!T80,'MDA3'!J80,'MDA3'!M80,'T1'!N80,'T2'!L80,T3_R1!M80,T3_R2!M80)","v":90304},132800,{"$f":"MAX('MDA4'!R80,T80)","v":0},{"$f":"MAX('MDA1'!K80,'MDA4'!S80,'MDA3'!I80,'MDA3'!L80,V80,AD80)","v":42496},{"$f":"MAX('MDA1'!L80,'MDA4'!T80,'MDA3'!J80,'MDA3'!M80,AF80)","v":90304},132800,64.426300290597553]
[{"$f":"IF(COUNTRY_INFO!A81=0,\" \",COUNTRY_INFO!A81)","v":"Chad"},{"$f":"IF(COUNTRY_INFO!B81=0,\" \",COUNTRY_INFO!B81)","v":"Mayo Kebbi Est"},{"$f":"IF(COUNTRY_INFO!C81=0,\" \",COUNTRY_INFO!C81)","v":"Bongor"},{"$f":"COUNTRY_INFO!M81","v":0},null,null,{"$f":"MAX('MDA1'!M81,'MDA4'!U81)","v":0},{"$f":"IF(AND(COUNTRY_INFO!H81>0,COUNTRY_INFO!H81<4),IF(D81>MAX('MDA1'!M81,'MDA4'!U81),MAX('MDA1'!M81,'MDA4'!U81),D81),0)","v":0},{"$f":"IF(AND(COUNTRY_INFO!H81>0,COUNTRY_INFO!H81<4), IF(G81/D81*100<>0, IF(G81/D81*100>100,100,G81/D81*100), \"-\"),0)","v":0},{"$f":"COUNTRY_INFO!N81","v":0},null,null,{"$f":"MAX('MDA1'!M81,MAX('MDA3'!I81,'MDA3'!L81)+MAX('MDA3'!J81,'MDA3'!M81))","v":0},{"$f":"IF(AND(COUNTRY_INFO!I81>0,COUNTRY_INFO!I81<4),IF(J81>MAX('MDA1'!M81,MAX('MDA3'!I81,'MDA3'!L81)+MAX('MDA3'!J81,'MDA3'!M81)),MAX('MDA1'!M81,MAX('MDA3'!I81,'MDA3'!L81)+MAX('MDA3'!J81,'MDA3'!M81)),J81),0)","v":0},{"$f":"IF(AND(COUNTRY_INFO!I81>0,COUNTRY_INFO!I81<4), IF(M81/J81*100<>0, IF(M81/J81*100>100,100,M81/J81*100), \"-\"),0)","v":0},{"$f":"COUNTRY_INFO!O81","v":0},null,null,{"$f":"SUM(MAX('MDA4'!R81, 'T1'!L81, MAX(T3_R1!K81, T3_R2!K81)), MAX('MDA1'!K81, 'MDA4'!S81, 'T1'!M81, MAX(T3_R1!L81, T3_R2!L81)), MAX('MDA1'!L81, 'MDA4'!T81, 'T1'!N81, MAX(T3_R1!M81, T3_R2!M81)))","v":59802},{"$f":"IF(AND(COUNTRY_INFO!J81>1,COUNTRY_INFO!J81<4),IF(COUNTRY_INFO!E81>MAX('MDA4'!R81,'T1'!L81,MAX(T3_R1!K81,T3_R2!K81)),MAX('MDA4'!R81,'T1'!L81,MAX(T3_R1!K81,T3_R2!K81)),COUNTRY_INFO!E81),0)","v":0},{"$f":"IF(AND(COUNTRY_INFO!J81>1,COUNTRY_INFO!J81<4), IF(T81/COUNTRY_INFO!E81*100<>0, IF(T81/COUNTRY_INFO!E81*100>100,100,T81/COUNTRY_INFO!E81*100), \"-\"),0)","v":0},{"$f":"IF(AND(COUNTRY_INFO!J81>1,COUNTRY_INFO!J81<4),IF(COUNTRY_INFO!F81>MAX('MDA1'!K81,'MDA4'!S81,'T1'!M81,MAX(T3_R1!L81,T3_R2!L81)),MAX('MDA1'!K81,'MDA4'!S81,'T1'!M81,MAX(T3_R1!L81,T3_R2!L81)),COUNTRY_INFO!F81),0)","v":0},{"$f":"IF(AND(COUNTRY_INFO!J81>1,COUNTRY_INFO!J81<4), IF(V81/COUNTRY_INFO!F81*100<>0, IF(V81/COUNTRY_INFO!F81*100>100,100,V81/COUNTRY_INFO!F81*100), \"-\"),0)","v":0},0,{"$f":"IF(AND(COUNTRY_INFO!J81>1,COUNTRY_INFO!J81<4), IF(S81/P81*100<>0, IF(X81/P81*100>100,100,X81/P81*100), \"-\"),0)","v":0},{"$f":"COUNTRY_INFO!P81","v":41829.300000000003},null,null,{"$f":"MAX('T1'!L81,'T2'!J81)+MAX('T1'!M81,'T2'!K81)+MAX('T1'!N81,'T2'!L81)","v":59802},{"$f":"IF(COUNTRY_INFO!K81=1,IF(COUNTRY_INFO!F81*0.33>MAX('T1'!M81,'T2'!K81),MAX('T1'!M81,'T2'!K81),COUNTRY_INFO!F81*0.33),IF(COUNTRY_INFO!K81=2,IF(COUNTRY_INFO!F81*0.5>MAX('T1'!M81,'T2'!K81),MAX('T1'!M81,'T2'!K81),COUNTRY_INFO!F81*0.5),IF(COUNTRY_INFO!K81=3,IF(COUNTRY_INFO!F81>MAX('T1'!M81,'T2'!K81),MAX('T1'!M81,'T2'!K81),COUNTRY_INFO!F81),0)))","v":25324.5},{"$f":"IF(AND(COUNTRY_INFO!K81>0,COUNTRY_INFO!K81<4),IF(Z81>0,IF(COUNTRY_INFO!K81=1, AD81/(COUNTRY_INFO!F81*0.33)*100, IF(COUNTRY_INFO!K81=2, AD81/(COUNTRY_INFO!F81*0.5)*100, IF(COUNTRY_INFO!K81=3, AD81/COUNTRY_INFO!F81*100))),\"-\"),0)","v":100},{"$f":"IF(COUNTRY_INFO!K81=2,IF(COUNTRY_INFO!G81*0.2>MAX('T1'!N81,'T2'!L81),MAX('T1'!N81,'T2'!L81),COUNTRY_INFO!G81*0.2),IF(COUNTRY_INFO!K81=3,IF(COUNTRY_INFO!G81>MAX('T1'!N81,'T2'!L81),MAX('T1'!N81,'T2'!L81),COUNTRY_INFO!G81),0))","v":0},{"$f":"IF(AND(COUNTRY_INFO!K81>0,COUNTRY_INFO!K81<4),IF(Z81>0,IF(COUNTRY_INFO!K81=1, 0, IF(COUNTRY_INFO!K81=2, AF81/(COUNTRY_INFO!G81*0.2)*100, IF(COUNTRY_INFO!K81=3, AF81/COUNTRY_INFO!G81*100))),\"-\"),0)","v":0},25324.5,{"$f":"IF(AND(COUNTRY_INFO!K81>0,COUNTRY_INFO!K81<4), IF(AC81/Z81*100<>0, IF(AH81/Z81*100>100,100,AH81/Z81*100), \"-\"),0)","v":60.542490550881787},null,{"$f":"IF(AND(D81<>0, D81<>\"Inconnu\",D81<>\"Interrompu\",D81<>\"Non requis\"),D81/COUNTRY_INFO!D81, 0)","v":0},{"$f":"IF(AND(J81<>0,J81<>\"Inconnu\",J81<>\"Interrompu\",J81<>\"Non requis\"),J81/COUNTRY_INFO!D81, 0)","v":0},{"$f":"IF(AND(P81<>0,P81<>\"Inconnu\",P81<>\"Non requis\"),P81/(COUNTRY_INFO!E81+COUNTRY_INFO!F81), 0)","v":0},{"$f":"IF(AND(Z81<>0,Z81<>\"Inconnu\",Z81<>\"Non requis\"),IF(COUNTRY_INFO!K81=1,1,IF(COUNTRY_INFO!K81=2,0.5*COUNTRY_INFO!F81/(0.5*COUNTRY_INFO!F81+0.2*COUNTRY_INFO!G81),IF(COUNTRY_INFO!K81=3,COUNTRY_INFO!F81/(COUNTRY_INFO!F81+COUNTRY_INFO!G81)))),0)","v":0.60542490550881789},{"$f":"IF(AND(Z81<>0,Z81<>\"Inconnu\",Z81<>\"Non requis\"),IF(COUNTRY_INFO!K81=1,0,IF(COUNTRY_INFO!K81=2,0.2*COUNTRY_INFO!G81/(0.5*COUNTRY_INFO!F81+0.2*COUNTRY_INFO!G81),IF(COUNTRY_INFO!K81=3,COUNTRY_INFO!G81/(COUNTRY_INFO!F81+COUNTRY_INFO!G81)))),0)","v":0.394575094491182},{"$f":"MAX(COUNTRY_INFO!D81*AK81*PROFILE!$G$7,COUNTRY_INFO!D81*AL81*PROFILE!$G$7)","v":0},{"$f":"MAX(COUNTRY_INFO!D81*AK81*PROFILE!$G$8,COUNTRY_INFO!D81*AL81*PROFILE!$G$8,COUNTRY_INFO!D81*AM81*PROFILE!$G$8)","v":0},{"$f":"MAX(COUNTRY_INFO!D81*AK81*PROFILE!$G$9,COUNTRY_INFO!D81*AL81*PROFILE!$G$9,COUNTRY_INFO!D81*AM81*PROFILE!$G$9,IF(AND(DISTRICT!Z81<>\"Inconnu\",Z81<>\"Non requis\"),COUNTRY_INFO!P81*DISTRICT!AN81,0))","v":25324.499999999996},{"$f":"MAX(COUNTRY_INFO!D81*AK81*PROFILE!$G$10,COUNTRY_INFO!D81*AL81*PROFILE!$G$10,IF(AND(DISTRICT!Z81<>\"Inconnu\",Z81<>\"Non requis\"),COUNTRY_INFO!P81*DISTRICT!AO81,0))","v":16504.8},41829.299999999996,"Y",{"$f":"MAX('MDA4'!R81,'T1'!L81,'T2'!J81,T3_R1!K81,T3_R2!K81)","v":0},{"$f":"MAX('MDA1'!K81,'MDA4'!S81,'MDA3'!I81,'MDA3'!L81,'T1'!M81,'T2'!K81,T3_R1!L81,T3_R2!L81)","v":59802},{"$f":"MAX('MDA1'!L81,'MDA4'!T81,'MDA3'!J81,'MDA3'!M81,'T1'!N81,'T2'!L81,T3_R1!M81,T3_R2!M81)","v":0},59802,{"$f":"MAX('MDA4'!R81,T81)","v":0},{"$f":"MAX('MDA1'!K81,'MDA4'!S81,'MDA3'!I81,'MDA3'!L81,V81,AD81)","v":25324.5},{"$f":"MAX('MDA1'!L81,'MDA4'!T81,'MDA3'!J81,'MDA3'!M81,AF81)","v":0},25324.5,60.542490550881801]
[{"$f":"IF(COUNTRY_INFO!A82=0,\" \",COUNTRY_INFO!A82)","v":"Chad"},{"$f":"IF(COUNTRY_INFO!B82=0,\" \",COUNTRY_INFO!B82)","v":"Mayo Kebbi Est"},{"$f":"IF(COUNTRY_INFO!C82=0,\" \",COUNTRY_INFO!C82)","v":"Fianga"},{"$f":"COUNTRY_INFO!M82","v":0},null,null,{"$f":"MAX('MDA1'!M82,'MDA4'!U82)","v":0},{"$f":"IF(AND(COUNTRY_INFO!H82>0,COUNTRY_INFO!H82<4),IF(D82>MAX('MDA1'!M82,'MDA4'!U82),MAX('MDA1'!M82,'MDA4'!U82),D82),0)","v":0},{"$f":"IF(AND(COUNTRY_INFO!H82>0,COUNTRY_INFO!H82<4), IF(G82/D82*100<>0, IF(G82/D82*100>100,100,G82/D82*100), \"-\"),0)","v":0},{"$f":"COUNTRY_INFO!N82","v":151549},null,null,{"$f":"MAX('MDA1'!M82,MAX('MDA3'!I82,'MDA3'!L82)+MAX('MDA3'!J82,'MDA3'!M82))","v":118828},{"$f":"IF(AND(COUNTRY_INFO!I82>0,COUNTRY_INFO!I82<4),IF(J82>MAX('MDA1'!M82,MAX('MDA3'!I82,'MDA3'!L82)+MAX('MDA3'!J82,'MDA3'!M82)),MAX('MDA1'!M82,MAX('MDA3'!I82,'MDA3'!L82)+MAX('MDA3'!J82,'MDA3'!M82)),J82),0)","v":118828},{"$f":"IF(AND(COUNTRY_INFO!I82>0,COUNTRY_INFO!I82<4), IF(M82/J82*100<>0, IF(M82/J82*100>100,100,M82/J82*100), \"-\"),0)","v":78.408963437568048},{"$f":"COUNTRY_INFO!O82","v":0},null,null,{"$f":"SUM(MAX('MDA4'!R82, 'T1'!L82, MAX(T3_R1!K82, T3_R2!K82)), MAX('MDA1'!K82, 'MDA4'!S82, 'T1'!M82, MAX(T3_R1!L82, T3_R2!L82)), MAX('MDA1'!L82, 'MDA4'!T82, 'T1'!N82, MAX(T3_R1!M82, T3_R2!M82)))","v":45826},{"$f":"IF(AND(COUNTRY_INFO!J82>1,COUNTRY_INFO!J82<4),IF(COUNTRY_INFO!E82>MAX('MDA4'!R82,'T1'!L82,MAX(T3_R1!K82,T3_R2!K82)),MAX('MDA4'!R82,'T1'!L82,MAX(T3_R1!K82,T3_R2!K82)),COUNTRY_INFO!E82),0)","v":0},{"$f":"IF(AND(COUNTRY_INFO!J82>1,COUNTRY_INFO!J82<4), IF(T82/COUNTRY_INFO!E82*100<>0, IF(T82/COUNTRY_INFO!E82*100>100,100,T82/COUNTRY_INFO!E82*100), \"-\"),0)","v":0},{"$f":"IF(AND(COUNTRY_INFO!J82>1,COUNTRY_INFO!J82<4),IF(COUNTRY_INFO!F82>MAX('MDA1'!K82,'MDA4'!S82,'T1'!M82,MAX(T3_R1!L82,T3_R2!L82)),MAX('MDA1'!K82,'MDA4'!S82,'T1'!M82,MAX(T3_R1!L82,T3_R2!L82)),COUNTRY_INFO!F82),0)","v":0},{"$f":"IF(AND(COUNTRY_INFO!J82>1,COUNTRY_INFO!J82<4), IF(V82/COUNTRY_INFO!F82*100<>0, IF(V82/COUNTRY_INFO!F82*100>100,100,V82/COUNTRY_INFO!F82*100), \"-\"),0)","v":0},0,{"$f":"IF(AND(COUNTRY_INFO!J82>1,COUNTRY_INFO!J82<4), IF(S82/P82*100<>0, IF(X82/P82*100>100,100,X82/P82*100), \"-\"),0)","v":0},{"$f":"COUNTRY_INFO!P82","v":120936},null,null,{"$f":"MAX('T1'!L82,'T2'!J82)+MAX('T1'!M82,'T2'!K82)+MAX('T1'!N82,'T2'!L82)","v":45826},{"$f":"IF(COUNTRY_INFO!K82=1,IF(COUNTRY_INFO!F82*0.33>MAX('T1'!M82,'T2'!K82),MAX('T1'!M82,'T2'!K82),COUNTRY_INFO!F82*0.33),IF(COUNTRY_INFO!K82=2,IF(COUNTRY_INFO!F82*0.5>MAX('T1'!M82,'T2'!K82),MAX('T1'!M82,'T2'!K82),COUNTRY_INFO!F82*0.5),IF(COUNTRY_INFO!K82=3,IF(COUNTRY_INFO!F82>MAX('T1'!M82,'T2'!K82),MAX('T1'!M82,'T2'!K82),COUNTRY_INFO!F82),0)))","v":45826},{"$f":"IF(AND(COUNTRY_INFO!K82>0,COUNTRY_INFO!K82<4),IF(Z82>0,IF(COUNTRY_INFO!K82=1, AD82/(COUNTRY_INFO!F82*0.33)*100, IF(COUNTRY_INFO!K82=2, AD82/(COUNTRY_INFO!F82*0.5)*100, IF(COUNTRY_INFO!K82=3, AD82/COUNTRY_INFO!F82*100))),\"-\"),0)","v":99.632568757473635},{"$f":"IF(COUNTRY_INFO!K82=2,IF(COUNTRY_INFO!G82*0.2>MAX('T1'!N82,'T2'!L82),MAX('T1'!N82,'T2'!L82),COUNTRY_INFO!G82*0.2),IF(COUNTRY_INFO!K82=3,IF(COUNTRY_INFO!G82>MAX('T1'!N82,'T2'!L82),MAX('T1'!N82,'T2'!L82),COUNTRY_INFO!G82),0))","v":0},{"$f":"IF(AND(COUNTRY_INFO!K82>0,COUNTRY_INFO!K82<4),IF(Z82>0,IF(COUNTRY_INFO!K82=1, 0, IF(COUNTRY_INFO!K82=2, AF82/(COUNTRY_INFO!G82*0.2)*100, IF(COUNTRY_INFO!K82=3, AF82/COUNTRY_INFO!G82*100))),\"-\"),0)","v":0},45826,{"$f":"IF(AND(COUNTRY_INFO!K82>0,COUNTRY_INFO!K82<4), IF(AC82/Z82*100<>0, IF(AH82/Z82*100>100,100,AH82/Z82*100), \"-\"),0)","v":37.892769729443671},null,{"$f":"IF(AND(D82<>0, D82<>\"Inconnu\",D82<>\"Interrompu\",D82<>\"Non requis\"),D82/COUNTRY_INFO!D82, 0)","v":0},{"$f":"IF(AND(J82<>0,J82<>\"Inconnu\",J82<>\"Interrompu\",J82<>\"Non requis\"),J82/COUNTRY_INFO!D82, 0)","v":1},{"$f":"IF(AND(P82<>0,P82<>\"Inconnu\",P82<>\"Non requis\"),P82/(COUNTRY_INFO!E82+COUNTRY_INFO!F82), 0)","v":0},{"$f":"IF(AND(Z82<>0,Z82<>\"Inconnu\",Z82<>\"Non requis\"),IF(COUNTRY_INFO!K82=1,1,IF(COUNTRY_INFO!K82=2,0.5*COUNTRY_INFO!F82/(0.5*COUNTRY_INFO!F82+0.2*COUNTRY_INFO!G82),IF(COUNTRY_INFO!K82=3,COUNTRY_INFO!F82/(COUNTRY_INFO!F82+COUNTRY_INFO!G82)))),0)","v":0.38032513064761525},{"$f":"IF(AND(Z82<>0,Z82<>\"Inconnu\",Z82<>\"Non requis\"),IF(COUNTRY_INFO!K82=1,0,IF(COUNTRY_INFO!K82=2,0.2*COUNTRY_INFO!G82/(0.5*COUNTRY_INFO!F82+0.2*COUNTRY_INFO!G82),IF(COUNTRY_INFO!K82=3,COUNTRY_INFO!G82/(COUNTRY_INFO!F82+COUNTRY_INFO!G82)))),0)","v":0.61967486935238469},{"$f":"MAX(COUNTRY_INFO!D82*AK82*PROFILE!$G$7,COUNTRY_INFO!D82*AL82*PROFILE!$G$7)","v":5607.3050439391081},{"$f":"MAX(COUNTRY_INFO!D82*AK82*PROFILE!$G$8,COUNTRY_INFO!D82*AL82*PROFILE!$G$8,COUNTRY_INFO!D82*AM82*PROFILE!$G$8)","v":25005.639096008348},{"$f":"MAX(COUNTRY_INFO!D82*AK82*PROFILE!$G$9,COUNTRY_INFO!D82*AL82*PROFILE!$G$9,COUNTRY_INFO!D82*AM82*PROFILE!$G$9,IF(AND(DISTRICT!Z82<>\"Inconnu\",Z82<>\"Non requis\"),COUNTRY_INFO!P82*DISTRICT!AN82,0))","v":45995.081212138772},{"$f":"MAX(COUNTRY_INFO!D82*AK82*PROFILE!$G$10,COUNTRY_INFO!D82*AL82*PROFILE!$G$10,IF(AND(DISTRICT!Z82<>\"Inconnu\",Z82<>\"Non requis\"),COUNTRY_INFO!P82*DISTRICT!AO82,0))","v":74941},151549.02535208623,"Y",{"$f":"MAX('MDA4'!R82,'T1'!L82,'T2'!J82,T3_R1!K82,T3_R2!K82)","v":0},{"$f":"MAX('MDA1'!K82,'MDA4'!S82,'MDA3'!I82,'MDA3'!L82,'T1'!M82,'T2'!K82,T3_R1!L82,T3_R2!L82)","v":45826},{"$f":"MAX('MDA1'!L82,'MDA4'!T82,'MDA3'!J82,'MDA3'!M82,'T1'!N82,'T2'!L82,T3_R1!M82,T3_R2!M82)","v":73826},119652,{"$f":"MAX('MDA4'!R82,T82)","v":0},{"$f":"MAX('MDA1'!K82,'MDA4'!S82,'MDA3'!I82,'MDA3'!L82,V82,AD82)","v":45826},{"$f":"MAX('MDA1'!L82,'MDA4'!T82,'MDA3'!J82,'MDA3'!M82,AF82)","v":73826},119652,78.952668763140196]
[{"$f":"IF(COUNTRY_INFO!A83=0,\" \",COUNTRY_INFO!A83)","v":"Chad"},{"$f":"IF(COUNTRY_INFO!B83=0,\" \",COUNTRY_INFO!B83)","v":"Mayo Kebbi Est"},{"$f":"IF(COUNTRY_INFO!C83=0,\" \",COUNTRY_INFO!C83)","v":"Gounou Gaya"},{"$f":"COUNTRY_INFO!M83","v":0},null,null,{"$f":"MAX('MDA1'!M83,'MDA4'!U83)","v":0},{"$f":"IF(AND(COUNTRY_INFO!H83>0,COUNTRY_INFO!H83<4),IF(D83>MAX('MDA1'!M83,'MDA4'!U83),MAX('MDA1'!M83,'MDA4'!U83),D83),0)","v":0},{"$f":"IF(AND(COUNTRY_INFO!H83>0,COUNTRY_INFO!H83<4), IF(G83/D83*100<>0, IF(G83/D83*100>100,100,G83/D83*100), \"-\"),0)","v":0},{"$f":"COUNTRY_INFO!N83","v":129724},null,null,{"$f":"MAX('MDA1'!M83,MAX('MDA3'!I83,'MDA3'!L83)+MAX('MDA3'!J83,'MDA3'!M83))","v":102753},{"$f":"IF(AND(COUNTRY_INFO!I83>0,COUNTRY_INFO!I83<4),IF(J83>MAX('MDA1'!M83,MAX('MDA3'!I83,'MDA3'!L83)+MAX('MDA3'!J83,'MDA3'!M83)),MAX('MDA1'!M83,MAX('MDA3'!I83,'MDA3'!L83)+MAX('MDA3'!J83,'MDA3'!M83)),J83),0)","v":102753},{"$f":"IF(AND(COUNTRY_INFO!I83>0,COUNTRY_INFO!I83<4), IF(M83/J83*100<>0, IF(M83/J83*100>100,100,M83/J83*100), \"-\"),0)","v":79.208935894668684},{"$f":"COUNTRY_INFO!O83","v":60775},null,null,{"$f":"SUM(MAX('MDA4'!R83, 'T1'!L83, MAX(T3_R1!K83, T3_R2!K83)), MAX('MDA1'!K83, 'MDA4'!S83, 'T1'!M83, MAX(T3_R1!L83, T3_R2!L83)), MAX('MDA1'!L83, 'MDA4'!T83, 'T1'!N83, MAX(T3_R1!M83, T3_R2!M83)))","v":37459},{"$f":"IF(AND(COUNTRY_INFO!J83>1,COUNTRY_INFO!J83<4),IF(COUNTRY_INFO!E83>MAX('MDA4'!R83,'T1'!L83,MAX(T3_R1!K83,T3_R2!K83)),MAX('MDA4'!R83,'T1'!L83,MAX(T3_R1!K83,T3_R2!K83)),COUNTRY_INFO!E83),0)","v":0},{"$f":"IF(AND(COUNTRY_INFO!J83>1,COUNTRY_INFO!J83<4), IF(T83/COUNTRY_INFO!E83*100<>0, IF(T83/COUNTRY_INFO!E83*100>100,100,T83/COUNTRY_INFO!E83*100), \"-\"),0)","v":"-"},{"$f":"IF(AND(COUNTRY_INFO!J83>1,COUNTRY_INFO!J83<4),IF(COUNTRY_INFO!F83>MAX('MDA1'!K83,'MDA4'!S83,'T1'!M83,MAX(T3_R1!L83,T3_R2!L83)),MAX('MDA1'!K83,'MDA4'!S83,'T1'!M83,MAX(T3_R1!L83,T3_R2!L83)),COUNTRY_INFO!F83),0)","v":37459},{"$f":"IF(AND(COUNTRY_INFO!J83>1,COUNTRY_INFO!J83<4), IF(V83/COUNTRY_INFO!F83*100<>0, IF(V83/COUNTRY_INFO!F83*100>100,100,V83/COUNTRY_INFO!F83*100), \"-\"),0)","v":95.143633638972844},37459,{"$f":"IF(AND(COUNTRY_INFO!J83>1,COUNTRY_INFO!J83<4), IF(S83/P83*100<>0, IF(X83/P83*100>100,100,X83/P83*100), \"-\"),0)","v":61.635540929658575},{"$f":"COUNTRY_INFO!P83","v":32515.300000000003},null,null,{"$f":"MAX('T1'!L83,'T2'!J83)+MAX('T1'!M83,'T2'!K83)+MAX('T1'!N83,'T2'!L83)","v":37459},{"$f":"IF(COUNTRY_INFO!K83=1,IF(COUNTRY_INFO!F83*0.33>MAX('T1'!M83,'T2'!K83),MAX('T1'!M83,'T2'!K83),COUNTRY_INFO!F83*0.33),IF(COUNTRY_INFO!K83=2,IF(COUNTRY_INFO!F83*0.5>MAX('T1'!M83,'T2'!K83),MAX('T1'!M83,'T2'!K83),COUNTRY_INFO!F83*0.5),IF(COUNTRY_INFO!K83=3,IF(COUNTRY_INFO!F83>MAX('T1'!M83,'T2'!K83),MAX('T1'!M83,'T2'!K83),COUNTRY_INFO!F83),0)))","v":19685.5},{"$f":"IF(AND(COUNTRY_INFO!K83>0,COUNTRY_INFO!K83<4),IF(Z83>0,IF(COUNTRY_INFO!K83=1, AD83/(COUNTRY_INFO!F83*0.33)*100, IF(COUNTRY_INFO!K83=2, AD83/(COUNTRY_INFO!F83*0.5)*100, IF(COUNTRY_INFO!K83=3, AD83/COUNTRY_INFO!F83*100))),\"-\"),0)","v":100},{"$f":"IF(COUNTRY_INFO!K83=2,IF(COUNTRY_INFO!G83*0.2>MAX('T1'!N83,'T2'!L83),MAX('T1'!N83,'T2'!L83),COUNTRY_INFO!G83*0.2),IF(COUNTRY_INFO!K83=3,IF(COUNTRY_INFO!G83>MAX('T1'!N83,'T2'!L83),MAX('T1'!N83,'T2'!L83),COUNTRY_INFO!G83),0))","v":0},{"$f":"IF(AND(COUNTRY_INFO!K83>0,COUNTRY_INFO!K83<4),IF(Z83>0,IF(COUNTRY_INFO!K83=1, 0, IF(COUNTRY_INFO!K83=2, AF83/(COUNTRY_INFO!G83*0.2)*100, IF(COUNTRY_INFO!K83=3, AF83/COUNTRY_INFO!G83*100))),\"-\"),0)","v":0},19685.5,{"$f":"IF(AND(COUNTRY_INFO!K83>0,COUNTRY_INFO!K83<4), IF(AC83/Z83*100<>0, IF(AH83/Z83*100>100,100,AH83/Z83*100), \"-\"),0)","v":60.542267793930847},null,{"$f":"IF(AND(D83<>0, D83<>\"Inconnu\",D83<>\"Interrompu\",D83<>\"Non requis\"),D83/COUNTRY_INFO!D83, 0)","v":0},{"$f":"IF(AND(J83<>0,J83<>\"Inconnu\",J83<>\"Interrompu\",J83<>\"Non requis\"),J83/COUNTRY_INFO!D83, 0)","v":1},{"$f":"IF(AND(P83<>0,P83<>\"Inconnu\",P83<>\"Non requis\"),P83/(COUNTRY_INFO!E83+COUNTRY_INFO!F83), 0)","v":1},{"$f":"IF(AND(Z83<>0,Z83<>\"Inconnu\",Z83<>\"Non requis\"),IF(COUNTRY_INFO!K83=1,1,IF(COUNTRY_INFO!K83=2,0.5*COUNTRY_INFO!F83/(0.5*COUNTRY_INFO!F83+0.2*COUNTRY_INFO!G83),IF(COUNTRY_INFO!K83=3,COUNTRY_INFO!F83/(COUNTRY_INFO!F83+COUNTRY_INFO!G83)))),0)","v":0.60542267793930848},{"$f":"IF(AND(Z83<>0,Z83<>\"Inconnu\",Z83<>\"Non requis\"),IF(COUNTRY_INFO!K83=1,0,IF(COUNTRY_INFO!K83=2,0.2*COUNTRY_INFO!G83/(0.5*COUNTRY_INFO!F83+0.2*COUNTRY_INFO!G83),IF(COUNTRY_INFO!K83=3,COUNTRY_INFO!G83/(COUNTRY_INFO!F83+COUNTRY_INFO!G83)))),0)","v":0.3945773220606914},{"$f":"MAX(COUNTRY_INFO!D83*AK83*PROFILE!$G$7,COUNTRY_INFO!D83*AL83*PROFILE!$G$7)","v":4799.7811897139336},{"$f":"MAX(COUNTRY_INFO!D83*AK83*PROFILE!$G$8,COUNTRY_INFO!D83*AL83*PROFILE!$G$8,COUNTRY_INFO!D83*AM83*PROFILE!$G$8)","v":21404.506305489227},{"$f":"MAX(COUNTRY_INFO!D83*AK83*PROFILE!$G$9,COUNTRY_INFO!D83*AL83*PROFILE!$G$9,COUNTRY_INFO!D83*AM83*PROFILE!$G$9,IF(AND(DISTRICT!Z83<>\"Inconnu\",Z83<>\"Non requis\"),COUNTRY_INFO!P83*DISTRICT!AN83,0))","v":39371.199514107582},{"$f":"MAX(COUNTRY_INFO!D83*AK83*PROFILE!$G$10,COUNTRY_INFO!D83*AL83*PROFILE!$G$10,IF(AND(DISTRICT!Z83<>\"Inconnu\",Z83<>\"Non requis\"),COUNTRY_INFO!P83*DISTRICT!AO83,0))","v":64148.512990689254},129724,"Y",{"$f":"MAX('MDA4'!R83,'T1'!L83,'T2'!J83,T3_R1!K83,T3_R2!K83)","v":0},{"$f":"MAX('MDA1'!K83,'MDA4'!S83,'MDA3'!I83,'MDA3'!L83,'T1'!M83,'T2'!K83,T3_R1!L83,T3_R2!L83)","v":38742},{"$f":"MAX('MDA1'!L83,'MDA4'!T83,'MDA3'!J83,'MDA3'!M83,'T1'!N83,'T2'!L83,T3_R1!M83,T3_R2!M83)","v":64011},102753,{"$f":"MAX('MDA4'!R83,T83)","v":0},{"$f":"MAX('MDA1'!K83,'MDA4'!S83,'MDA3'!I83,'MDA3'!L83,V83,AD83)","v":38742},{"$f":"MAX('MDA1'!L83,'MDA4'!T83,'MDA3'!J83,'MDA3'!M83,AF83)","v":64011},102753,79.208935894668684]
[{"$f":"IF(COUNTRY_INFO!A84=0,\" \",COUNTRY_INFO!A84)","v":"Chad"},{"$f":"IF(COUNTRY_INFO!B84=0,\" \",COUNTRY_INFO!B84)","v":"Mayo Kebbi Est"},{"$f":"IF(COUNTRY_INFO!C84=0,\" \",COUNTRY_INFO!C84)","v":"Guelinding"},{"$f":"COUNTRY_INFO!M84","v":91501},null,null,{"$f":"MAX('MDA1'!M84,'MDA4'!U84)","v":72342},{"$f":"IF(AND(COUNTRY_INFO!H84>0,COUNTRY_INFO!H84<4),IF(D84>MAX('MDA1'!M84,'MDA4'!U84),MAX('MDA1'!M84,'MDA4'!U84),D84),0)","v":72342},{"$f":"IF(AND(COUNTRY_INFO!H84>0,COUNTRY_INFO!H84<4), IF(G84/D84*100<>0, IF(G84/D84*100>100,100,G84/D84*100), \"-\"),0)","v":79.061431022611771},{"$f":"COUNTRY_INFO!N84","v":0},null,null,{"$f":"MAX('MDA1'!M84,MAX('MDA3'!I84,'MDA3'!L84)+MAX('MDA3'!J84,'MDA3'!M84))","v":72342},{"$f":"IF(AND(COUNTRY_INFO!I84>0,COUNTRY_INFO!I84<4),IF(J84>MAX('MDA1'!M84,MAX('MDA3'!I84,'MDA3'!L84)+MAX('MDA3'!J84,'MDA3'!M84)),MAX('MDA1'!M84,MAX('MDA3'!I84,'MDA3'!L84)+MAX('MDA3'!J84,'MDA3'!M84)),J84),0)","v":0},{"$f":"IF(AND(COUNTRY_INFO!I84>0,COUNTRY_INFO!I84<4), IF(M84/J84*100<>0, IF(M84/J84*100>100,100,M84/J84*100), \"-\"),0)","v":0},{"$f":"COUNTRY_INFO!O84","v":0},null,null,{"$f":"SUM(MAX('MDA4'!R84, 'T1'!L84, MAX(T3_R1!K84, T3_R2!K84)), MAX('MDA1'!K84, 'MDA4'!S84, 'T1'!M84, MAX(T3_R1!L84, T3_R2!L84)), MAX('MDA1'!L84, 'MDA4'!T84, 'T1'!N84, MAX(T3_R1!M84, T3_R2!M84)))","v":72854},{"$f":"IF(AND(COUNTRY_INFO!J84>1,COUNTRY_INFO!J84<4),IF(COUNTRY_INFO!E84>MAX('MDA4'!R84,'T1'!L84,MAX(T3_R1!K84,T3_R2!K84)),MAX('MDA4'!R84,'T1'!L84,MAX(T3_R1!K84,T3_R2!K84)),COUNTRY_INFO!E84),0)","v":0},{"$f":"IF(AND(COUNTRY_INFO!J84>1,COUNTRY_INFO!J84<4), IF(T84/COUNTRY_INFO!E84*100<>0, IF(T84/COUNTRY_INFO!E84*100>100,100,T84/COUNTRY_INFO!E84*100), \"-\"),0)","v":0},{"$f":"IF(AND(COUNTRY_INFO!J84>1,COUNTRY_INFO!J84<4),IF(COUNTRY_INFO!F84>MAX('MDA1'!K84,'MDA4'!S84,'T1'!M84,MAX(T3_R1!L84,T3_R2!L84)),MAX('MDA1'!K84,'MDA4'!S84,'T1'!M84,MAX(T3_R1!L84,T3_R2!L84)),COUNTRY_INFO!F84),0)","v":0},{"$f":"IF(AND(COUNTRY_INFO!J84>1,COUNTRY_INFO!J84<4), IF(V84/COUNTRY_INFO!F84*100<>0, IF(V84/COUNTRY_INFO!F84*100>100,100,V84/COUNTRY_INFO!F84*100), \"-\"),0)","v":0},0,{"$f":"IF(AND(COUNTRY_INFO!J84>1,COUNTRY_INFO!J84<4), IF(S84/P84*100<>0, IF(X84/P84*100>100,100,X84/P84*100), \"-\"),0)","v":0},{"$f":"COUNTRY_INFO!P84","v":9164.43},null,null,{"$f":"MAX('T1'!L84,'T2'!J84)+MAX('T1'!M84,'T2'!K84)+MAX('T1'!N84,'T2'!L84)","v":29328},{"$f":"IF(COUNTRY_INFO!K84=1,IF(COUNTRY_INFO!F84*0.33>MAX('T1'!M84,'T2'!K84),MAX('T1'!M84,'T2'!K84),COUNTRY_INFO!F84*0.33),IF(COUNTRY_INFO!K84=2,IF(COUNTRY_INFO!F84*0.5>MAX('T1'!M84,'T2'!K84),MAX('T1'!M84,'T2'!K84),COUNTRY_INFO!F84*0.5),IF(COUNTRY_INFO!K84=3,IF(COUNTRY_INFO!F84>MAX('T1'!M84,'T2'!K84),MAX('T1'!M84,'T2'!K84),COUNTRY_INFO!F84),0)))","v":9164.43},{"$f":"IF(AND(COUNTRY_INFO!K84>0,COUNTRY_INFO!K84<4),IF(Z84>0,IF(COUNTRY_INFO!K84=1, AD84/(COUNTRY_INFO!F84*0.33)*100, IF(COUNTRY_INFO!K84=2, AD84/(COUNTRY_INFO!F84*0.5)*100, IF(COUNTRY_INFO!K84=3, AD84/COUNTRY_INFO!F84*100))),\"-\"),0)","v":100},{"$f":"IF(COUNTRY_INFO!K84=2,IF(COUNTRY_INFO!G84*0.2>MAX('T1'!N84,'T2'!L84),MAX('T1'!N84,'T2'!L84),COUNTRY_INFO!G84*0.2),IF(COUNTRY_INFO!K84=3,IF(COUNTRY_INFO!G84>MAX('T1'!N84,'T2'!L84),MAX('T1'!N84,'T2'!L84),COUNTRY_INFO!G84),0))","v":0},{"$f":"IF(AND(COUNTRY_INFO!K84>0,COUNTRY_INFO!K84<4),IF(Z84>0,IF(COUNTRY_INFO!K84=1, 0, IF(COUNTRY_INFO!K84=2, AF84/(COUNTRY_INFO!G84*0.2)*100, IF(COUNTRY_INFO!K84=3, AF84/COUNTRY_INFO!G84*100))),\"-\"),0)","v":0},9164.43,{"$f":"IF(AND(COUNTRY_INFO!K84>0,COUNTRY_INFO!K84<4), IF(AC84/Z84*100<>0, IF(AH84/Z84*100>100,100,AH84/Z84*100), \"-\"),0)","v":100},null,{"$f":"IF(AND(D84<>0, D84<>\"Inconnu\",D84<>\"Interrompu\",D84<>\"Non requis\"),D84/COUNTRY_INFO!D84, 0)","v":1},{"$f":"IF(AND(J84<>0,J84<>\"Inconnu\",J84<>\"Interrompu\",J84<>\"Non requis\"),J84/COUNTRY_INFO!D84, 0)","v":0},{"$f":"IF(AND(P84<>0,P84<>\"Inconnu\",P84<>\"Non requis\"),P84/(COUNTRY_INFO!E84+COUNTRY_INFO!F84), 0)","v":0},{"$f":"IF(AND(Z84<>0,Z84<>\"Inconnu\",Z84<>\"Non requis\"),IF(COUNTRY_INFO!K84=1,1,IF(COUNTRY_INFO!K84=2,0.5*COUNTRY_INFO!F84/(0.5*COUNTRY_INFO!F84+0.2*COUNTRY_INFO!G84),IF(COUNTRY_INFO!K84=3,COUNTRY_INFO!F84/(COUNTRY_INFO!F84+COUNTRY_INFO!G84)))),0)","v":1},{"$f":"IF(AND(Z84<>0,Z84<>\"Inconnu\",Z84<>\"Non requis\"),IF(COUNTRY_INFO!K84=1,0,IF(COUNTRY_INFO!K84=2,0.2*COUNTRY_INFO!G84/(0.5*COUNTRY_INFO!F84+0.2*COUNTRY_INFO!G84),IF(COUNTRY_INFO!K84=3,COUNTRY_INFO!G84/(COUNTRY_INFO!F84+COUNTRY_INFO!G84)))),0)","v":0},{"$f":"MAX(COUNTRY_INFO!D84*AK84*PROFILE!$G$7,COUNTRY_INFO!D84*AL84*PROFILE!$G$7)","v":3385.5321963554516},{"$f":"MAX(COUNTRY_INFO!D84*AK84*PROFILE!$G$8,COUNTRY_INFO!D84*AL84*PROFILE!$G$8,COUNTRY_INFO!D84*AM84*PROFILE!$G$8)","v":15097.697661639866},{"$f":"MAX(COUNTRY_INFO!D84*AK84*PROFILE!$G$9,COUNTRY_INFO!D84*AL84*PROFILE!$G$9,COUNTRY_INFO!D84*AM84*PROFILE!$G$9,IF(AND(DISTRICT!Z84<>\"Inconnu\",Z84<>\"Non requis\"),COUNTRY_INFO!P84*DISTRICT!AN84,0))","v":27770.529175328837},{"$f":"MAX(COUNTRY_INFO!D84*AK84*PROFILE!$G$10,COUNTRY_INFO!D84*AL84*PROFILE!$G$10,IF(AND(DISTRICT!Z84<>\"Inconnu\",Z84<>\"Non requis\"),COUNTRY_INFO!P84*DISTRICT!AO84,0))","v":45247.240966675847},91501,"Y",{"$f":"MAX('MDA4'!R84,'T1'!L84,'T2'!J84,T3_R1!K84,T3_R2!K84)","v":0},{"$f":"MAX('MDA1'!K84,'MDA4'!S84,'MDA3'!I84,'MDA3'!L84,'T1'!M84,'T2'!K84,T3_R1!L84,T3_R2!L84)","v":29328},{"$f":"MAX('MDA1'!L84,'MDA4'!T84,'MDA3'!J84,'MDA3'!M84,'T1'!N84,'T2'!L84,T3_R1!M84,T3_R2!M84)","v":45221},74549,{"$f":"MAX('MDA4'!R84,T84)","v":0},{"$f":"MAX('MDA1'!K84,'MDA4'!S84,'MDA3'!I84,'MDA3'!L84,V84,AD84)","v":27121},{"$f":"MAX('MDA1'!L84,'MDA4'!T84,'MDA3'!J84,'MDA3'!M84,AF84)","v":45221},72342,79.061431022611771]
[{"$f":"IF(COUNTRY_INFO!A85=0,\" \",COUNTRY_INFO!A85)","v":"Chad"},{"$f":"IF(COUNTRY_INFO!B85=0,\" \",COUNTRY_INFO!B85)","v":"Mayo Kebbi Est"},{"$f":"IF(COUNTRY_INFO!C85=0,\" \",COUNTRY_INFO!C85)","v":"Moulkou"},{"$f":"COUNTRY_INFO!M85","v":127507},null,null,{"$f":"MAX('MDA1'!M85,'MDA4'!U85)","v":98914},{"$f":"IF(AND(COUNTRY_INFO!H85>0,COUNTRY_INFO!H85<4),IF(D85>MAX('MDA1'!M85,'MDA4'!U85),MAX('MDA1'!M85,'MDA4'!U85),D85),0)","v":98914},{"$f":"IF(AND(COUNTRY_INFO!H85>0,COUNTRY_INFO!H85<4), IF(G85/D85*100<>0, IF(G85/D85*100>100,100,G85/D85*100), \"-\"),0)","v":77.57534880437936},{"$f":"COUNTRY_INFO!N85","v":0},null,null,{"$f":"MAX('MDA1'!M85,MAX('MDA3'!I85,'MDA3'!L85)+MAX('MDA3'!J85,'MDA3'!M85))","v":98914},{"$f":"IF(AND(COUNTRY_INFO!I85>0,COUNTRY_INFO!I85<4),IF(J85>MAX('MDA1'!M85,MAX('MDA3'!I85,'MDA3'!L85)+MAX('MDA3'!J85,'MDA3'!M85)),MAX('MDA1'!M85,MAX('MDA3'!I85,'MDA3'!L85)+MAX('MDA3'!J85,'MDA3'!M85)),J85),0)","v":0},{"$f":"IF(AND(COUNTRY_INFO!I85>0,COUNTRY_INFO!I85<4), IF(M85/J85*100<>0, IF(M85/J85*100>100,100,M85/J85*100), \"-\"),0)","v":0},{"$f":"COUNTRY_INFO!O85","v":0},null,null,{"$f":"SUM(MAX('MDA4'!R85, 'T1'!L85, MAX(T3_R1!K85, T3_R2!K85)), MAX('MDA1'!K85, 'MDA4'!S85, 'T1'!M85, MAX(T3_R1!L85, T3_R2!L85)), MAX('MDA1'!L85, 'MDA4'!T85, 'T1'!N85, MAX(T3_R1!M85, T3_R2!M85)))","v":98914},{"$f":"IF(AND(COUNTRY_INFO!J85>1,COUNTRY_INFO!J85<4),IF(COUNTRY_INFO!E85>MAX('MDA4'!R85,'T1'!L85,MAX(T3_R1!K85,T3_R2!K85)),MAX('MDA4'!R85,'T1'!L85,MAX(T3_R1!K85,T3_R2!K85)),COUNTRY_INFO!E85),0)","v":0},{"$f":"IF(AND(COUNTRY_INFO!J85>1,COUNTRY_INFO!J85<4), IF(T85/COUNTRY_INFO!E85*100<>0, IF(T85/COUNTRY_INFO!E85*100>100,100,T85/COUNTRY_INFO!E85*100), \"-\"),0)","v":0},{"$f":"IF(AND(COUNTRY_INFO!J85>1,COUNTRY_INFO!J85<4),IF(COUNTRY_INFO!F85>MAX('MDA1'!K85,'MDA4'!S85,'T1'!M85,MAX(T3_R1!L85,T3_R2!L85)),MAX('MDA1'!K85,'MDA4'!S85,'T1'!M85,MAX(T3_R1!L85,T3_R2!L85)),COUNTRY_INFO!F85),0)","v":0},{"$f":"IF(AND(COUNTRY_INFO!J85>1,COUNTRY_INFO!J85<4), IF(V85/COUNTRY_INFO!F85*100<>0, IF(V85/COUNTRY_INFO!F85*100>100,100,V85/COUNTRY_INFO!F85*100), \"-\"),0)","v":0},0,{"$f":"IF(AND(COUNTRY_INFO!J85>1,COUNTRY_INFO!J85<4), IF(S85/P85*100<>0, IF(X85/P85*100>100,100,X85/P85*100), \"-\"),0)","v":0},{"$f":"COUNTRY_INFO!P85","v":12770.34},null,null,{"$f":"MAX('T1'!L85,'T2'!J85)+MAX('T1'!M85,'T2'!K85)+MAX('T1'!N85,'T2'!L85)","v":37442},{"$f":"IF(COUNTRY_INFO!K85=1,IF(COUNTRY_INFO!F85*0.33>MAX('T1'!M85,'T2'!K85),MAX('T1'!M85,'T2'!K85),COUNTRY_INFO!F85*0.33),IF(COUNTRY_INFO!K85=2,IF(COUNTRY_INFO!F85*0.5>MAX('T1'!M85,'T2'!K85),MAX('T1'!M85,'T2'!K85),COUNTRY_INFO!F85*0.5),IF(COUNTRY_INFO!K85=3,IF(COUNTRY_INFO!F85>MAX('T1'!M85,'T2'!K85),MAX('T1'!M85,'T2'!K85),COUNTRY_INFO!F85),0)))","v":12770.34},{"$f":"IF(AND(COUNTRY_INFO!K85>0,COUNTRY_INFO!K85<4),IF(Z85>0,IF(COUNTRY_INFO!K85=1, AD85/(COUNTRY_INFO!F85*0.33)*100, IF(COUNTRY_INFO!K85=2, AD85/(COUNTRY_INFO!F85*0.5)*100, IF(COUNTRY_INFO!K85=3, AD85/COUNTRY_INFO!F85*100))),\"-\"),0)","v":100},{"$f":"IF(COUNTRY_INFO!K85=2,IF(COUNTRY_INFO!G85*0.2>MAX('T1'!N85,'T2'!L85),MAX('T1'!N85,'T2'!L85),COUNTRY_INFO!G85*0.2),IF(COUNTRY_INFO!K85=3,IF(COUNTRY_INFO!G85>MAX('T1'!N85,'T2'!L85),MAX('T1'!N85,'T2'!L85),COUNTRY_INFO!G85),0))","v":0},{"$f":"IF(AND(COUNTRY_INFO!K85>0,COUNTRY_INFO!K85<4),IF(Z85>0,IF(COUNTRY_INFO!K85=1, 0, IF(COUNTRY_INFO!K85=2, AF85/(COUNTRY_INFO!G85*0.2)*100, IF(COUNTRY_INFO!K85=3, AF85/COUNTRY_INFO!G85*100))),\"-\"),0)","v":0},12770.34,{"$f":"IF(AND(COUNTRY_INFO!K85>0,COUNTRY_INFO!K85<4), IF(AC85/Z85*100<>0, IF(AH85/Z85*100>100,100,AH85/Z85*100), \"-\"),0)","v":100},null,{"$f":"IF(AND(D85<>0, D85<>\"Inconnu\",D85<>\"Interrompu\",D85<>\"Non requis\"),D85/COUNTRY_INFO!D85, 0)","v":1},{"$f":"IF(AND(J85<>0,J85<>\"Inconnu\",J85<>\"Interrompu\",J85<>\"Non requis\"),J85/COUNTRY_INFO!D85, 0)","v":0},{"$f":"IF(AND(P85<>0,P85<>\"Inconnu\",P85<>\"Non requis\"),P85/(COUNTRY_INFO!E85+COUNTRY_INFO!F85), 0)","v":0},{"$f":"IF(AND(Z85<>0,Z85<>\"Inconnu\",Z85<>\"Non requis\"),IF(COUNTRY_INFO!K85=1,1,IF(COUNTRY_INFO!K85=2,0.5*COUNTRY_INFO!F85/(0.5*COUNTRY_INFO!F85+0.2*COUNTRY_INFO!G85),IF(COUNTRY_INFO!K85=3,COUNTRY_INFO!F85/(COUNTRY_INFO!F85+COUNTRY_INFO!G85)))),0)","v":1},{"$f":"IF(AND(Z85<>0,Z85<>\"Inconnu\",Z85<>\"Non requis\"),IF(COUNTRY_INFO!K85=1,0,IF(COUNTRY_INFO!K85=2,0.2*COUNTRY_INFO!G85/(0.5*COUNTRY_INFO!F85+0.2*COUNTRY_INFO!G85),IF(COUNTRY_INFO!K85=3,COUNTRY_INFO!G85/(COUNTRY_INFO!F85+COUNTRY_INFO!G85)))),0)","v":0},{"$f":"MAX(COUNTRY_INFO!D85*AK85*PROFILE!$G$7,COUNTRY_INFO!D85*AL85*PROFILE!$G$7)","v":4717.7523061026059},{"$f":"MAX(COUNTRY_INFO!D85*AK85*PROFILE!$G$8,COUNTRY_INFO!D85*AL85*PROFILE!$G$8,COUNTRY_INFO!D85*AM85*PROFILE!$G$8)","v":21038.700514122407},{"$f":"MAX(COUNTRY_INFO!D85*AK85*PROFILE!$G$9,COUNTRY_INFO!D85*AL85*PROFILE!$G$9,COUNTRY_INFO!D85*AM85*PROFILE!$G$9,IF(AND(DISTRICT!Z85<>\"Inconnu\",Z85<>\"Non requis\"),COUNTRY_INFO!P85*DISTRICT!AN85,0))","v":38698.340603475961},{"$f":"MAX(COUNTRY_INFO!D85*AK85*PROFILE!$G$10,COUNTRY_INFO!D85*AL85*PROFILE!$G$10,IF(AND(DISTRICT!Z85<>\"Inconnu\",Z85<>\"Non requis\"),COUNTRY_INFO!P85*DISTRICT!AO85,0))","v":63052.206576299031},127507,"Y",{"$f":"MAX('MDA4'!R85,'T1'!L85,'T2'!J85,T3_R1!K85,T3_R2!K85)","v":0},{"$f":"MAX('MDA1'!K85,'MDA4'!S85,'MDA3'!I85,'MDA3'!L85,'T1'!M85,'T2'!K85,T3_R1!L85,T3_R2!L85)","v":37687},{"$f":"MAX('MDA1'!L85,'MDA4'!T85,'MDA3'!J85,'MDA3'!M85,'T1'!N85,'T2'!L85,T3_R1!M85,T3_R2!M85)","v":61227},98914,{"$f":"MAX('MDA4'!R85,T85)","v":0},{"$f":"MAX('MDA1'!K85,'MDA4'!S85,'MDA3'!I85,'MDA3'!L85,V85,AD85)","v":37687},{"$f":"MAX('MDA1'!L85,'MDA4'!T85,'MDA3'!J85,'MDA3'!M85,AF85)","v":61227},98914,77.57534880437936]
[{"$f":"IF(COUNTRY_INFO!A86=0,\" \",COUNTRY_INFO!A86)","v":"Chad"},{"$f":"IF(COUNTRY_INFO!B86=0,\" \",COUNTRY_INFO!B86)","v":"Mayo Kebbi Est"},{"$f":"IF(COUNTRY_INFO!C86=0,\" \",COUNTRY_INFO!C86)","v":"Pont Carol"},{"$f":"COUNTRY_INFO!M86","v":0},null,null,{"$f":"MAX('MDA1'!M86,'MDA4'!U86)","v":0},{"$f":"IF(AND(COUNTRY_INFO!H86>0,COUNTRY_INFO!H86<4),IF(D86>MAX('MDA1'!M86,'MDA4'!U86),MAX('MDA1'!M86,'MDA4'!U86),D86),0)","v":0},{"$f":"IF(AND(COUNTRY_INFO!H86>0,COUNTRY_INFO!H86<4), IF(G86/D86*100<>0, IF(G86/D86*100>100,100,G86/D86*100), \"-\"),0)","v":0},{"$f":"COUNTRY_INFO!N86","v":84909},null,null,{"$f":"MAX('MDA1'!M86,MAX('MDA3'!I86,'MDA3'!L86)+MAX('MDA3'!J86,'MDA3'!M86))","v":65543},{"$f":"IF(AND(COUNTRY_INFO!I86>0,COUNTRY_INFO!I86<4),IF(J86>MAX('MDA1'!M86,MAX('MDA3'!I86,'MDA3'!L86)+MAX('MDA3'!J86,'MDA3'!M86)),MAX('MDA1'!M86,MAX('MDA3'!I86,'MDA3'!L86)+MAX('MDA3'!J86,'MDA3'!M86)),J86),0)","v":65543},{"$f":"IF(AND(COUNTRY_INFO!I86>0,COUNTRY_INFO!I86<4), IF(M86/J86*100<>0, IF(M86/J86*100>100,100,M86/J86*100), \"-\"),0)","v":77.192052668150609},{"$f":"COUNTRY_INFO!O86","v":39780},null,null,{"$f":"SUM(MAX('MDA4'!R86, 'T1'!L86, MAX(T3_R1!K86, T3_R2!K86)), MAX('MDA1'!K86, 'MDA4'!S86, 'T1'!M86, MAX(T3_R1!L86, T3_R2!L86)), MAX('MDA1'!L86, 'MDA4'!T86, 'T1'!N86, MAX(T3_R1!M86, T3_R2!M86)))","v":22618},{"$f":"IF(AND(COUNTRY_INFO!J86>1,COUNTRY_INFO!J86<4),IF(COUNTRY_INFO!E86>MAX('MDA4'!R86,'T1'!L86,MAX(T3_R1!K86,T3_R2!K86)),MAX('MDA4'!R86,'T1'!L86,MAX(T3_R1!K86,T3_R2!K86)),COUNTRY_INFO!E86),0)","v":0},{"$f":"IF(AND(COUNTRY_INFO!J86>1,COUNTRY_INFO!J86<4), IF(T86/COUNTRY_INFO!E86*100<>0, IF(T86/COUNTRY_INFO!E86*100>100,100,T86/COUNTRY_INFO!E86*100), \"-\"),0)","v":"-"},{"$f":"IF(AND(COUNTRY_INFO!J86>1,COUNTRY_INFO!J86<4),IF(COUNTRY_INFO!F86>MAX('MDA1'!K86,'MDA4'!S86,'T1'!M86,MAX(T3_R1!L86,T3_R2!L86)),MAX('MDA1'!K86,'MDA4'!S86,'T1'!M86,MAX(T3_R1!L86,T3_R2!L86)),COUNTRY_INFO!F86),0)","v":22618},{"$f":"IF(AND(COUNTRY_INFO!J86>1,COUNTRY_INFO!J86<4), IF(V86/COUNTRY_INFO!F86*100<>0, IF(V86/COUNTRY_INFO!F86*100>100,100,V86/COUNTRY_INFO!F86*100), \"-\"),0)","v":87.768723321691894},22618,{"$f":"IF(AND(COUNTRY_INFO!J86>1,COUNTRY_INFO!J86<4), IF(S86/P86*100<>0, IF(X86/P86*100>100,100,X86/P86*100), \"-\"),0)","v":56.857717445952737},{"$f":"COUNTRY_INFO!P86","v":21282.6},null,null,{"$f":"MAX('T1'!L86,'T2'!J86)+MAX('T1'!M86,'T2'!K86)+MAX('T1'!N86,'T2'!L86)","v":22618},{"$f":"IF(COUNTRY_INFO!K86=1,IF(COUNTRY_INFO!F86*0.33>MAX('T1'!M86,'T2'!K86),MAX('T1'!M86,'T2'!K86),COUNTRY_INFO!F86*0.33),IF(COUNTRY_INFO!K86=2,IF(COUNTRY_INFO!F86*0.5>MAX('T1'!M86,'T2'!K86),MAX('T1'!M86,'T2'!K86),COUNTRY_INFO!F86*0.5),IF(COUNTRY_INFO!K86=3,IF(COUNTRY_INFO!F86>MAX('T1'!M86,'T2'!K86),MAX('T1'!M86,'T2'!K86),COUNTRY_INFO!F86),0)))","v":12885},{"$f":"IF(AND(COUNTRY_INFO!K86>0,COUNTRY_INFO!K86<4),IF(Z86>0,IF(COUNTRY_INFO!K86=1, AD86/(COUNTRY_INFO!F86*0.33)*100, IF(COUNTRY_INFO!K86=2, AD86/(COUNTRY_INFO!F86*0.5)*100, IF(COUNTRY_INFO!K86=3, AD86/COUNTRY_INFO!F86*100))),\"-\"),0)","v":100},{"$f":"IF(COUNTRY_INFO!K86=2,IF(COUNTRY_INFO!G86*0.2>MAX('T1'!N86,'T2'!L86),MAX('T1'!N86,'T2'!L86),COUNTRY_INFO!G86*0.2),IF(COUNTRY_INFO!K86=3,IF(COUNTRY_INFO!G86>MAX('T1'!N86,'T2'!L86),MAX('T1'!N86,'T2'!L86),COUNTRY_INFO!G86),0))","v":0},{"$f":"IF(AND(COUNTRY_INFO!K86>0,COUNTRY_INFO!K86<4),IF(Z86>0,IF(COUNTRY_INFO!K86=1, 0, IF(COUNTRY_INFO!K86=2, AF86/(COUNTRY_INFO!G86*0.2)*100, IF(COUNTRY_INFO!K86=3, AF86/COUNTRY_INFO!G86*100))),\"-\"),0)","v":0},12885,{"$f":"IF(AND(COUNTRY_INFO!K86>0,COUNTRY_INFO!K86<4), IF(AC86/Z86*100<>0, IF(AH86/Z86*100>100,100,AH86/Z86*100), \"-\"),0)","v":60.542414930506617},null,{"$f":"IF(AND(D86<>0, D86<>\"Inconnu\",D86<>\"Interrompu\",D86<>\"Non requis\"),D86/COUNTRY_INFO!D86, 0)","v":0},{"$f":"IF(AND(J86<>0,J86<>\"Inconnu\",J86<>\"Interrompu\",J86<>\"Non requis\"),J86/COUNTRY_INFO!D86, 0)","v":1},{"$f":"IF(AND(P86<>0,P86<>\"Inconnu\",P86<>\"Non requis\"),P86/(COUNTRY_INFO!E86+COUNTRY_INFO!F86), 0)","v":1},{"$f":"IF(AND(Z86<>0,Z86<>\"Inconnu\",Z86<>\"Non requis\"),IF(COUNTRY_INFO!K86=1,1,IF(COUNTRY_INFO!K86=2,0.5*COUNTRY_INFO!F86/(0.5*COUNTRY_INFO!F86+0.2*COUNTRY_INFO!G86),IF(COUNTRY_INFO!K86=3,COUNTRY_INFO!F86/(COUNTRY_INFO!F86+COUNTRY_INFO!G86)))),0)","v":0.60542414930506616},{"$f":"IF(AND(Z86<>0,Z86<>\"Inconnu\",Z86<>\"Non requis\"),IF(COUNTRY_INFO!K86=1,0,IF(COUNTRY_INFO!K86=2,0.2*COUNTRY_INFO!G86/(0.5*COUNTRY_INFO!F86+0.2*COUNTRY_INFO!G86),IF(COUNTRY_INFO!K86=3,COUNTRY_INFO!G86/(COUNTRY_INFO!F86+COUNTRY_INFO!G86)))),0)","v":0.39457585069493395},{"$f":"MAX(COUNTRY_INFO!D86*AK86*PROFILE!$G$7,COUNTRY_INFO!D86*AL86*PROFILE!$G$7)","v":3141.6285424240723},{"$f":"MAX(COUNTRY_INFO!D86*AK86*PROFILE!$G$8,COUNTRY_INFO!D86*AL86*PROFILE!$G$8,COUNTRY_INFO!D86*AM86*PROFILE!$G$8)","v":14010.015308599681},{"$f":"MAX(COUNTRY_INFO!D86*AK86*PROFILE!$G$9,COUNTRY_INFO!D86*AL86*PROFILE!$G$9,COUNTRY_INFO!D86*AM86*PROFILE!$G$9,IF(AND(DISTRICT!Z86<>\"Inconnu\",Z86<>\"Non requis\"),COUNTRY_INFO!P86*DISTRICT!AN86,0))","v":25769.858927749381},{"$f":"MAX(COUNTRY_INFO!D86*AK86*PROFILE!$G$10,COUNTRY_INFO!D86*AL86*PROFILE!$G$10,IF(AND(DISTRICT!Z86<>\"Inconnu\",Z86<>\"Non requis\"),COUNTRY_INFO!P86*DISTRICT!AO86,0))","v":41987.497221226869},84909,"Y",{"$f":"MAX('MDA4'!R86,'T1'!L86,'T2'!J86,T3_R1!K86,T3_R2!K86)","v":0},{"$f":"MAX('MDA1'!K86,'MDA4'!S86,'MDA3'!I86,'MDA3'!L86,'T1'!M86,'T2'!K86,T3_R1!L86,T3_R2!L86)","v":24567},{"$f":"MAX('MDA1'!L86,'MDA4'!T86,'MDA3'!J86,'MDA3'!M86,'T1'!N86,'T2'!L86,T3_R1!M86,T3_R2!M86)","v":40976},65543,{"$f":"MAX('MDA4'!R86,T86)","v":0},{"$f":"MAX('MDA1'!K86,'MDA4'!S86,'MDA3'!I86,'MDA3'!L86,V86,AD86)","v":24567},{"$f":"MAX('MDA1'!L86,'MDA4'!T86,'MDA3'!J86,'MDA3'!M86,AF86)","v":40976},65543,77.192052668150609]
[{"$f":"IF(COUNTRY_INFO!A87=0,\" \",COUNTRY_INFO!A87)","v":"Chad"},{"$f":"IF(COUNTRY_INFO!B87=0,\" \",COUNTRY_INFO!B87)","v":"Mayo Kebbi Est"},{"$f":"IF(COUNTRY_INFO!C87=0,\" \",COUNTRY_INFO!C87)","v":"Youé"},{"$f":"COUNTRY_INFO!M87","v":0},null,null,{"$f":"MAX('MDA1'!M87,'MDA4'!U87)","v":0},{"$f":"IF(AND(COUNTRY_INFO!H87>0,COUNTRY_INFO!H87<4),IF(D87>MAX('MDA1'!M87,'MDA4'!U87),MAX('MDA1'!M87,'MDA4'!U87),D87),0)","v":0},{"$f":"IF(AND(COUNTRY_INFO!H87>0,COUNTRY_INFO!H87<4), IF(G87/D87*100<>0, IF(G87/D87*100>100,100,G87/D87*100), \"-\"),0)","v":0},{"$f":"COUNTRY_INFO!N87","v":69238},null,null,{"$f":"MAX('MDA1'!M87,MAX('MDA3'!I87,'MDA3'!L87)+MAX('MDA3'!J87,'MDA3'!M87))","v":54069},{"$f":"IF(AND(COUNTRY_INFO!I87>0,COUNTRY_INFO!I87<4),IF(J87>MAX('MDA1'!M87,MAX('MDA3'!I87,'MDA3'!L87)+MAX('MDA3'!J87,'MDA3'!M87)),MAX('MDA1'!M87,MAX('MDA3'!I87,'MDA3'!L87)+MAX('MDA3'!J87,'MDA3'!M87)),J87),0)","v":54069},{"$f":"IF(AND(COUNTRY_INFO!I87>0,COUNTRY_INFO!I87<4), IF(M87/J87*100<>0, IF(M87/J87*100>100,100,M87/J87*100), \"-\"),0)","v":78.091510442242694},{"$f":"COUNTRY_INFO!O87","v":0},null,null,{"$f":"SUM(MAX('MDA4'!R87, 'T1'!L87, MAX(T3_R1!K87, T3_R2!K87)), MAX('MDA1'!K87, 'MDA4'!S87, 'T1'!M87, MAX(T3_R1!L87, T3_R2!L87)), MAX('MDA1'!L87, 'MDA4'!T87, 'T1'!N87, MAX(T3_R1!M87, T3_R2!M87)))","v":20334},{"$f":"IF(AND(COUNTRY_INFO!J87>1,COUNTRY_INFO!J87<4),IF(COUNTRY_INFO!E87>MAX('MDA4'!R87,'T1'!L87,MAX(T3_R1!K87,T3_R2!K87)),MAX('MDA4'!R87,'T1'!L87,MAX(T3_R1!K87,T3_R2!K87)),COUNTRY_INFO!E87),0)","v":0},{"$f":"IF(AND(COUNTRY_INFO!J87>1,COUNTRY_INFO!J87<4), IF(T87/COUNTRY_INFO!E87*100<>0, IF(T87/COUNTRY_INFO!E87*100>100,100,T87/COUNTRY_INFO!E87*100), \"-\"),0)","v":0},{"$f":"IF(AND(COUNTRY_INFO!J87>1,COUNTRY_INFO!J87<4),IF(COUNTRY_INFO!F87>MAX('MDA1'!K87,'MDA4'!S87,'T1'!M87,MAX(T3_R1!L87,T3_R2!L87)),MAX('MDA1'!K87,'MDA4'!S87,'T1'!M87,MAX(T3_R1!L87,T3_R2!L87)),COUNTRY_INFO!F87),0)","v":0},{"$f":"IF(AND(COUNTRY_INFO!J87>1,COUNTRY_INFO!J87<4), IF(V87/COUNTRY_INFO!F87*100<>0, IF(V87/COUNTRY_INFO!F87*100>100,100,V87/COUNTRY_INFO!F87*100), \"-\"),0)","v":0},0,{"$f":"IF(AND(COUNTRY_INFO!J87>1,COUNTRY_INFO!J87<4), IF(S87/P87*100<>0, IF(X87/P87*100>100,100,X87/P87*100), \"-\"),0)","v":0},{"$f":"COUNTRY_INFO!P87","v":55252},null,null,{"$f":"MAX('T1'!L87,'T2'!J87)+MAX('T1'!M87,'T2'!K87)+MAX('T1'!N87,'T2'!L87)","v":20334},{"$f":"IF(COUNTRY_INFO!K87=1,IF(COUNTRY_INFO!F87*0.33>MAX('T1'!M87,'T2'!K87),MAX('T1'!M87,'T2'!K87),COUNTRY_INFO!F87*0.33),IF(COUNTRY_INFO!K87=2,IF(COUNTRY_INFO!F87*0.5>MAX('T1'!M87,'T2'!K87),MAX('T1'!M87,'T2'!K87),COUNTRY_INFO!F87*0.5),IF(COUNTRY_INFO!K87=3,IF(COUNTRY_INFO!F87>MAX('T1'!M87,'T2'!K87),MAX('T1'!M87,'T2'!K87),COUNTRY_INFO!F87),0)))","v":20334},{"$f":"IF(AND(COUNTRY_INFO!K87>0,COUNTRY_INFO!K87<4),IF(Z87>0,IF(COUNTRY_INFO!K87=1, AD87/(COUNTRY_INFO!F87*0.33)*100, IF(COUNTRY_INFO!K87=2, AD87/(COUNTRY_INFO!F87*0.5)*100, IF(COUNTRY_INFO!K87=3, AD87/COUNTRY_INFO!F87*100))),\"-\"),0)","v":96.764062053868855},{"$f":"IF(COUNTRY_INFO!K87=2,IF(COUNTRY_INFO!G87*0.2>MAX('T1'!N87,'T2'!L87),MAX('T1'!N87,'T2'!L87),COUNTRY_INFO!G87*0.2),IF(COUNTRY_INFO!K87=3,IF(COUNTRY_INFO!G87>MAX('T1'!N87,'T2'!L87),MAX('T1'!N87,'T2'!L87),COUNTRY_INFO!G87),0))","v":0},{"$f":"IF(AND(COUNTRY_INFO!K87>0,COUNTRY_INFO!K87<4),IF(Z87>0,IF(COUNTRY_INFO!K87=1, 0, IF(COUNTRY_INFO!K87=2, AF87/(COUNTRY_INFO!G87*0.2)*100, IF(COUNTRY_INFO!K87=3, AF87/COUNTRY_INFO!G87*100))),\"-\"),0)","v":0},20334,{"$f":"IF(AND(COUNTRY_INFO!K87>0,COUNTRY_INFO!K87<4), IF(AC87/Z87*100<>0, IF(AH87/Z87*100>100,100,AH87/Z87*100), \"-\"),0)","v":36.80228769999276},null,{"$f":"IF(AND(D87<>0, D87<>\"Inconnu\",D87<>\"Interrompu\",D87<>\"Non requis\"),D87/COUNTRY_INFO!D87, 0)","v":0},{"$f":"IF(AND(J87<>0,J87<>\"Inconnu\",J87<>\"Interrompu\",J87<>\"Non requis\"),J87/COUNTRY_INFO!D87, 0)","v":1},{"$f":"IF(AND(P87<>0,P87<>\"Inconnu\",P87<>\"Non requis\"),P87/(COUNTRY_INFO!E87+COUNTRY_INFO!F87), 0)","v":0},{"$f":"IF(AND(Z87<>0,Z87<>\"Inconnu\",Z87<>\"Non requis\"),IF(COUNTRY_INFO!K87=1,1,IF(COUNTRY_INFO!K87=2,0.5*COUNTRY_INFO!F87/(0.5*COUNTRY_INFO!F87+0.2*COUNTRY_INFO!G87),IF(COUNTRY_INFO!K87=3,COUNTRY_INFO!F87/(COUNTRY_INFO!F87+COUNTRY_INFO!G87)))),0)","v":0.38033012379642367},{"$f":"IF(AND(Z87<>0,Z87<>\"Inconnu\",Z87<>\"Non requis\"),IF(COUNTRY_INFO!K87=1,0,IF(COUNTRY_INFO!K87=2,0.2*COUNTRY_INFO!G87/(0.5*COUNTRY_INFO!F87+0.2*COUNTRY_INFO!G87),IF(COUNTRY_INFO!K87=3,COUNTRY_INFO!G87/(COUNTRY_INFO!F87+COUNTRY_INFO!G87)))),0)","v":0.61966987620357639},{"$f":"MAX(COUNTRY_INFO!D87*AK87*PROFILE!$G$7,COUNTRY_INFO!D87*AL87*PROFILE!$G$7)","v":2561.8023651245207},{"$f":"MAX(COUNTRY_INFO!D87*AK87*PROFILE!$G$8,COUNTRY_INFO!D87*AL87*PROFILE!$G$8,COUNTRY_INFO!D87*AM87*PROFILE!$G$8)","v":11424.294714774931},{"$f":"MAX(COUNTRY_INFO!D87*AK87*PROFILE!$G$9,COUNTRY_INFO!D87*AL87*PROFILE!$G$9,COUNTRY_INFO!D87*AM87*PROFILE!$G$9,IF(AND(DISTRICT!Z87<>\"Inconnu\",Z87<>\"Non requis\"),COUNTRY_INFO!P87*DISTRICT!AN87,0))","v":21014},{"$f":"MAX(COUNTRY_INFO!D87*AK87*PROFILE!$G$10,COUNTRY_INFO!D87*AL87*PROFILE!$G$10,IF(AND(DISTRICT!Z87<>\"Inconnu\",Z87<>\"Non requis\"),COUNTRY_INFO!P87*DISTRICT!AO87,0))","v":34238.188326364769},69238.285406264215,"Y",{"$f":"MAX('MDA4'!R87,'T1'!L87,'T2'!J87,T3_R1!K87,T3_R2!K87)","v":0},{"$f":"MAX('MDA1'!K87,'MDA4'!S87,'MDA3'!I87,'MDA3'!L87,'T1'!M87,'T2'!K87,T3_R1!L87,T3_R2!L87)","v":21026},{"$f":"MAX('MDA1'!L87,'MDA4'!T87,'MDA3'!J87,'MDA3'!M87,'T1'!N87,'T2'!L87,T3_R1!M87,T3_R2!M87)","v":33043},54069,{"$f":"MAX('MDA4'!R87,T87)","v":0},{"$f":"MAX('MDA1'!K87,'MDA4'!S87,'MDA3'!I87,'MDA3'!L87,V87,AD87)","v":21026},{"$f":"MAX('MDA1'!L87,'MDA4'!T87,'MDA3'!J87,'MDA3'!M87,AF87)","v":33043},54069,78.091188542211071]
[{"$f":"IF(COUNTRY_INFO!A88=0,\" \",COUNTRY_INFO!A88)","v":"Chad"},{"$f":"IF(COUNTRY_INFO!B88=0,\" \",COUNTRY_INFO!B88)","v":"Mayo Kebbi Ouest"},{"$f":"IF(COUNTRY_INFO!C88=0,\" \",COUNTRY_INFO!C88)","v":"Binder"},{"$f":"COUNTRY_INFO!M88","v":0},null,null,{"$f":"MAX('MDA1'!M88,'MDA4'!U88)","v":0},{"$f":"IF(AND(COUNTRY_INFO!H88>0,COUNTRY_INFO!H88<4),IF(D88>MAX('MDA1'!M88,'MDA4'!U88),MAX('MDA1'!M88,'MDA4'!U88),D88),0)","v":0},{"$f":"IF(AND(COUNTRY_INFO!H88>0,COUNTRY_INFO!H88<4), IF(G88/D88*100<>0, IF(G88/D88*100>100,100,G88/D88*100), \"-\"),0)","v":0},{"$f":"COUNTRY_INFO!N88","v":83559},null,null,{"$f":"MAX('MDA1'!M88,MAX('MDA3'!I88,'MDA3'!L88)+MAX('MDA3'!J88,'MDA3'!M88))","v":69160},{"$f":"IF(AND(COUNTRY_INFO!I88>0,COUNTRY_INFO!I88<4),IF(J88>MAX('MDA1'!M88,MAX('MDA3'!I88,'MDA3'!L88)+MAX('MDA3'!J88,'MDA3'!M88)),MAX('MDA1'!M88,MAX('MDA3'!I88,'MDA3'!L88)+MAX('MDA3'!J88,'MDA3'!M88)),J88),0)","v":69160},{"$f":"IF(AND(COUNTRY_INFO!I88>0,COUNTRY_INFO!I88<4), IF(M88/J88*100<>0, IF(M88/J88*100>100,100,M88/J88*100), \"-\"),0)","v":82.767864622601991},{"$f":"COUNTRY_INFO!O88","v":0},null,null,{"$f":"SUM(MAX('MDA4'!R88, 'T1'!L88, MAX(T3_R1!K88, T3_R2!K88)), MAX('MDA1'!K88, 'MDA4'!S88, 'T1'!M88, MAX(T3_R1!L88, T3_R2!L88)), MAX('MDA1'!L88, 'MDA4'!T88, 'T1'!N88, MAX(T3_R1!M88, T3_R2!M88)))","v":23641},{"$f":"IF(AND(COUNTRY_INFO!J88>1,COUNTRY_INFO!J88<4),IF(COUNTRY_INFO!E88>MAX('MDA4'!R88,'T1'!L88,MAX(T3_R1!K88,T3_R2!K88)),MAX('MDA4'!R88,'T1'!L88,MAX(T3_R1!K88,T3_R2!K88)),COUNTRY_INFO!E88),0)","v":0},{"$f":"IF(AND(COUNTRY_INFO!J88>1,COUNTRY_INFO!J88<4), IF(T88/COUNTRY_INFO!E88*100<>0, IF(T88/COUNTRY_INFO!E88*100>100,100,T88/COUNTRY_INFO!E88*100), \"-\"),0)","v":0},{"$f":"IF(AND(COUNTRY_INFO!J88>1,COUNTRY_INFO!J88<4),IF(COUNTRY_INFO!F88>MAX('MDA1'!K88,'MDA4'!S88,'T1'!M88,MAX(T3_R1!L88,T3_R2!L88)),MAX('MDA1'!K88,'MDA4'!S88,'T1'!M88,MAX(T3_R1!L88,T3_R2!L88)),COUNTRY_INFO!F88),0)","v":0},{"$f":"IF(AND(COUNTRY_INFO!J88>1,COUNTRY_INFO!J88<4), IF(V88/COUNTRY_INFO!F88*100<>0, IF(V88/COUNTRY_INFO!F88*100>100,100,V88/COUNTRY_INFO!F88*100), \"-\"),0)","v":0},0,{"$f":"IF(AND(COUNTRY_INFO!J88>1,COUNTRY_INFO!J88<4), IF(S88/P88*100<>0, IF(X88/P88*100>100,100,X88/P88*100), \"-\"),0)","v":0},{"$f":"COUNTRY_INFO!P88","v":66680},null,null,{"$f":"MAX('T1'!L88,'T2'!J88)+MAX('T1'!M88,'T2'!K88)+MAX('T1'!N88,'T2'!L88)","v":23641},{"$f":"IF(COUNTRY_INFO!K88=1,IF(COUNTRY_INFO!F88*0.33>MAX('T1'!M88,'T2'!K88),MAX('T1'!M88,'T2'!K88),COUNTRY_INFO!F88*0.33),IF(COUNTRY_INFO!K88=2,IF(COUNTRY_INFO!F88*0.5>MAX('T1'!M88,'T2'!K88),MAX('T1'!M88,'T2'!K88),COUNTRY_INFO!F88*0.5),IF(COUNTRY_INFO!K88=3,IF(COUNTRY_INFO!F88>MAX('T1'!M88,'T2'!K88),MAX('T1'!M88,'T2'!K88),COUNTRY_INFO!F88),0)))","v":23641},{"$f":"IF(AND(COUNTRY_INFO!K88>0,COUNTRY_INFO!K88<4),IF(Z88>0,IF(COUNTRY_INFO!K88=1, AD88/(COUNTRY_INFO!F88*0.33)*100, IF(COUNTRY_INFO!K88=2, AD88/(COUNTRY_INFO!F88*0.5)*100, IF(COUNTRY_INFO!K88=3, AD88/COUNTRY_INFO!F88*100))),\"-\"),0)","v":93.221608832807561},{"$f":"IF(COUNTRY_INFO!K88=2,IF(COUNTRY_INFO!G88*0.2>MAX('T1'!N88,'T2'!L88),MAX('T1'!N88,'T2'!L88),COUNTRY_INFO!G88*0.2),IF(COUNTRY_INFO!K88=3,IF(COUNTRY_INFO!G88>MAX('T1'!N88,'T2'!L88),MAX('T1'!N88,'T2'!L88),COUNTRY_INFO!G88),0))","v":0},{"$f":"IF(AND(COUNTRY_INFO!K88>0,COUNTRY_INFO!K88<4),IF(Z88>0,IF(COUNTRY_INFO!K88=1, 0, IF(COUNTRY_INFO!K88=2, AF88/(COUNTRY_INFO!G88*0.2)*100, IF(COUNTRY_INFO!K88=3, AF88/COUNTRY_INFO!G88*100))),\"-\"),0)","v":0},23641,{"$f":"IF(AND(COUNTRY_INFO!K88>0,COUNTRY_INFO!K88<4), IF(AC88/Z88*100<>0, IF(AH88/Z88*100>100,100,AH88/Z88*100), \"-\"),0)","v":35.454409118176365},null,{"$f":"IF(AND(D88<>0, D88<>\"Inconnu\",D88<>\"Interrompu\",D88<>\"Non requis\"),D88/COUNTRY_INFO!D88, 0)","v":0},{"$f":"IF(AND(J88<>0,J88<>\"Inconnu\",J88<>\"Interrompu\",J88<>\"Non requis\"),J88/COUNTRY_INFO!D88, 0)","v":1},{"$f":"IF(AND(P88<>0,P88<>\"Inconnu\",P88<>\"Non requis\"),P88/(COUNTRY_INFO!E88+COUNTRY_INFO!F88), 0)","v":0},{"$f":"IF(AND(Z88<>0,Z88<>\"Inconnu\",Z88<>\"Non requis\"),IF(COUNTRY_INFO!K88=1,1,IF(COUNTRY_INFO!K88=2,0.5*COUNTRY_INFO!F88/(0.5*COUNTRY_INFO!F88+0.2*COUNTRY_INFO!G88),IF(COUNTRY_INFO!K88=3,COUNTRY_INFO!F88/(COUNTRY_INFO!F88+COUNTRY_INFO!G88)))),0)","v":0.38032393521295743},{"$f":"IF(AND(Z88<>0,Z88<>\"Inconnu\",Z88<>\"Non requis\"),IF(COUNTRY_INFO!K88=1,0,IF(COUNTRY_INFO!K88=2,0.2*COUNTRY_INFO!G88/(0.5*COUNTRY_INFO!F88+0.2*COUNTRY_INFO!G88),IF(COUNTRY_INFO!K88=3,COUNTRY_INFO!G88/(COUNTRY_INFO!F88+COUNTRY_INFO!G88)))),0)","v":0.61967606478704262},{"$f":"MAX(COUNTRY_INFO!D88*AK88*PROFILE!$G$7,COUNTRY_INFO!D88*AL88*PROFILE!$G$7)","v":3091.6786132967418},{"$f":"MAX(COUNTRY_INFO!D88*AK88*PROFILE!$G$8,COUNTRY_INFO!D88*AL88*PROFILE!$G$8,COUNTRY_INFO!D88*AM88*PROFILE!$G$8)","v":13787.2648267119},{"$f":"MAX(COUNTRY_INFO!D88*AK88*PROFILE!$G$9,COUNTRY_INFO!D88*AL88*PROFILE!$G$9,COUNTRY_INFO!D88*AM88*PROFILE!$G$9,IF(AND(DISTRICT!Z88<>\"Inconnu\",Z88<>\"Non requis\"),COUNTRY_INFO!P88*DISTRICT!AN88,0))","v":25360.134286634049},{"$f":"MAX(COUNTRY_INFO!D88*AK88*PROFILE!$G$10,COUNTRY_INFO!D88*AL88*PROFILE!$G$10,IF(AND(DISTRICT!Z88<>\"Inconnu\",Z88<>\"Non requis\"),COUNTRY_INFO!P88*DISTRICT!AO88,0))","v":41320},83559.077726642689,"Y",{"$f":"MAX('MDA4'!R88,'T1'!L88,'T2'!J88,T3_R1!K88,T3_R2!K88)","v":0},{"$f":"MAX('MDA1'!K88,'MDA4'!S88,'MDA3'!I88,'MDA3'!L88,'T1'!M88,'T2'!K88,T3_R1!L88,T3_R2!L88)","v":23939},{"$f":"MAX('MDA1'!L88,'MDA4'!T88,'MDA3'!J88,'MDA3'!M88,'T1'!N88,'T2'!L88,T3_R1!M88,T3_R2!M88)","v":45221},69160,{"$f":"MAX('MDA4'!R88,T88)","v":0},{"$f":"MAX('MDA1'!K88,'MDA4'!S88,'MDA3'!I88,'MDA3'!L88,V88,AD88)","v":23939},{"$f":"MAX('MDA1'!L88,'MDA4'!T88,'MDA3'!J88,'MDA3'!M88,AF88)","v":45221},69160,82.767787631945623]
[{"$f":"IF(COUNTRY_INFO!A89=0,\" \",COUNTRY_INFO!A89)","v":"Chad"},{"$f":"IF(COUNTRY_INFO!B89=0,\" \",COUNTRY_INFO!B89)","v":"Mayo Kebbi Ouest"},{"$f":"IF(COUNTRY_INFO!C89=0,\" \",COUNTRY_INFO!C89)","v":"Gagal"},{"$f":"COUNTRY_INFO!M89","v":0},null,null,{"$f":"MAX('MDA1'!M89,'MDA4'!U89)","v":0},{"$f":"IF(AND(COUNTRY_INFO!H89>0,COUNTRY_INFO!H89<4),IF(D89>MAX('MDA1'!M89,'MDA4'!U89),MAX('MDA1'!M89,'MDA4'!U89),D89),0)","v":0},{"$f":"IF(AND(COUNTRY_INFO!H89>0,COUNTRY_INFO!H89<4), IF(G89/D89*100<>0, IF(G89/D89*100>100,100,G89/D89*100), \"-\"),0)","v":0},{"$f":"COUNTRY_INFO!N89","v":151331},null,null,{"$f":"MAX('MDA1'!M89,MAX('MDA3'!I89,'MDA3'!L89)+MAX('MDA3'!J89,'MDA3'!M89))","v":130955},{"$f":"IF(AND(COUNTRY_INFO!I89>0,COUNTRY_INFO!I89<4),IF(J89>MAX('MDA1'!M89,MAX('MDA3'!I89,'MDA3'!L89)+MAX('MDA3'!J89,'MDA3'!M89)),MAX('MDA1'!M89,MAX('MDA3'!I89,'MDA3'!L89)+MAX('MDA3'!J89,'MDA3'!M89)),J89),0)","v":130955},{"$f":"IF(AND(COUNTRY_INFO!I89>0,COUNTRY_INFO!I89<4), IF(M89/J89*100<>0, IF(M89/J89*100>100,100,M89/J89*100), \"-\"),0)","v":86.535475216578234},{"$f":"COUNTRY_INFO!O89","v":0},null,null,{"$f":"SUM(MAX('MDA4'!R89, 'T1'!L89, MAX(T3_R1!K89, T3_R2!K89)), MAX('MDA1'!K89, 'MDA4'!S89, 'T1'!M89, MAX(T3_R1!L89, T3_R2!L89)), MAX('MDA1'!L89, 'MDA4'!T89, 'T1'!N89, MAX(T3_R1!M89, T3_R2!M89)))","v":44873},{"$f":"IF(AND(COUNTRY_INFO!J89>1,COUNTRY_INFO!J89<4),IF(COUNTRY_INFO!E89>MAX('MDA4'!R89,'T1'!L89,MAX(T3_R1!K89,T3_R2!K89)),MAX('MDA4'!R89,'T1'!L89,MAX(T3_R1!K89,T3_R2!K89)),COUNTRY_INFO!E89),0)","v":0},{"$f":"IF(AND(COUNTRY_INFO!J89>1,COUNTRY_INFO!J89<4), IF(T89/COUNTRY_INFO!E89*100<>0, IF(T89/COUNTRY_INFO!E89*100>100,100,T89/COUNTRY_INFO!E89*100), \"-\"),0)","v":0},{"$f":"IF(AND(COUNTRY_INFO!J89>1,COUNTRY_INFO!J89<4),IF(COUNTRY_INFO!F89>MAX('MDA1'!K89,'MDA4'!S89,'T1'!M89,MAX(T3_R1!L89,T3_R2!L89)),MAX('MDA1'!K89,'MDA4'!S89,'T1'!M89,MAX(T3_R1!L89,T3_R2!L89)),COUNTRY_INFO!F89),0)","v":0},{"$f":"IF(AND(COUNTRY_INFO!J89>1,COUNTRY_INFO!J89<4), IF(V89/COUNTRY_INFO!F89*100<>0, IF(V89/COUNTRY_INFO!F89*100>100,100,V89/COUNTRY_INFO!F89*100), \"-\"),0)","v":0},0,{"$f":"IF(AND(COUNTRY_INFO!J89>1,COUNTRY_INFO!J89<4), IF(S89/P89*100<>0, IF(X89/P89*100>100,100,X89/P89*100), \"-\"),0)","v":0},{"$f":"COUNTRY_INFO!P89","v":37931.1},null,null,{"$f":"MAX('T1'!L89,'T2'!J89)+MAX('T1'!M89,'T2'!K89)+MAX('T1'!N89,'T2'!L89)","v":44873},{"$f":"IF(COUNTRY_INFO!K89=1,IF(COUNTRY_INFO!F89*0.33>MAX('T1'!M89,'T2'!K89),MAX('T1'!M89,'T2'!K89),COUNTRY_INFO!F89*0.33),IF(COUNTRY_INFO!K89=2,IF(COUNTRY_INFO!F89*0.5>MAX('T1'!M89,'T2'!K89),MAX('T1'!M89,'T2'!K89),COUNTRY_INFO!F89*0.5),IF(COUNTRY_INFO!K89=3,IF(COUNTRY_INFO!F89>MAX('T1'!M89,'T2'!K89),MAX('T1'!M89,'T2'!K89),COUNTRY_INFO!F89),0)))","v":22964.5},{"$f":"IF(AND(COUNTRY_INFO!K89>0,COUNTRY_INFO!K89<4),IF(Z89>0,IF(COUNTRY_INFO!K89=1, AD89/(COUNTRY_INFO!F89*0.33)*100, IF(COUNTRY_INFO!K89=2, AD89/(COUNTRY_INFO!F89*0.5)*100, IF(COUNTRY_INFO!K89=3, AD89/COUNTRY_INFO!F89*100))),\"-\"),0)","v":100},{"$f":"IF(COUNTRY_INFO!K89=2,IF(COUNTRY_INFO!G89*0.2>MAX('T1'!N89,'T2'!L89),MAX('T1'!N89,'T2'!L89),COUNTRY_INFO!G89*0.2),IF(COUNTRY_INFO!K89=3,IF(COUNTRY_INFO!G89>MAX('T1'!N89,'T2'!L89),MAX('T1'!N89,'T2'!L89),COUNTRY_INFO!G89),0))","v":0},{"$f":"IF(AND(COUNTRY_INFO!K89>0,COUNTRY_INFO!K89<4),IF(Z89>0,IF(COUNTRY_INFO!K89=1, 0, IF(COUNTRY_INFO!K89=2, AF89/(COUNTRY_INFO!G89*0.2)*100, IF(COUNTRY_INFO!K89=3, AF89/COUNTRY_INFO!G89*100))),\"-\"),0)","v":0},22964.5,{"$f":"IF(AND(COUNTRY_INFO!K89>0,COUNTRY_INFO!K89<4), IF(AC89/Z89*100<>0, IF(AH89/Z89*100>100,100,AH89/Z89*100), \"-\"),0)","v":60.542668153573189},null,{"$f":"IF(AND(D89<>0, D89<>\"Inconnu\",D89<>\"Interrompu\",D89<>\"Non requis\"),D89/COUNTRY_INFO!D89, 0)","v":0},{"$f":"IF(AND(J89<>0,J89<>\"Inconnu\",J89<>\"Interrompu\",J89<>\"Non requis\"),J89/COUNTRY_INFO!D89, 0)","v":1},{"$f":"IF(AND(P89<>0,P89<>\"Inconnu\",P89<>\"Non requis\"),P89/(COUNTRY_INFO!E89+COUNTRY_INFO!F89), 0)","v":0},{"$f":"IF(AND(Z89<>0,Z89<>\"Inconnu\",Z89<>\"Non requis\"),IF(COUNTRY_INFO!K89=1,1,IF(COUNTRY_INFO!K89=2,0.5*COUNTRY_INFO!F89/(0.5*COUNTRY_INFO!F89+0.2*COUNTRY_INFO!G89),IF(COUNTRY_INFO!K89=3,COUNTRY_INFO!F89/(COUNTRY_INFO!F89+COUNTRY_INFO!G89)))),0)","v":0.60542668153573187},{"$f":"IF(AND(Z89<>0,Z89<>\"Inconnu\",Z89<>\"Non requis\"),IF(COUNTRY_INFO!K89=1,0,IF(COUNTRY_INFO!K89=2,0.2*COUNTRY_INFO!G89/(0.5*COUNTRY_INFO!F89+0.2*COUNTRY_INFO!G89),IF(COUNTRY_INFO!K89=3,COUNTRY_INFO!G89/(COUNTRY_INFO!F89+COUNTRY_INFO!G89)))),0)","v":0.39457331846426813},{"$f":"MAX(COUNTRY_INFO!D89*AK89*PROFILE!$G$7,COUNTRY_INFO!D89*AL89*PROFILE!$G$7)","v":5599.2390553837322},{"$f":"MAX(COUNTRY_INFO!D89*AK89*PROFILE!$G$8,COUNTRY_INFO!D89*AL89*PROFILE!$G$8,COUNTRY_INFO!D89*AM89*PROFILE!$G$8)","v":24969.669018192399},{"$f":"MAX(COUNTRY_INFO!D89*AK89*PROFILE!$G$9,COUNTRY_INFO!D89*AL89*PROFILE!$G$9,COUNTRY_INFO!D89*AM89*PROFILE!$G$9,IF(AND(DISTRICT!Z89<>\"Inconnu\",Z89<>\"Non requis\"),COUNTRY_INFO!P89*DISTRICT!AN89,0))","v":45928.918270091999},{"$f":"MAX(COUNTRY_INFO!D89*AK89*PROFILE!$G$10,COUNTRY_INFO!D89*AL89*PROFILE!$G$10,IF(AND(DISTRICT!Z89<>\"Inconnu\",Z89<>\"Non requis\"),COUNTRY_INFO!P89*DISTRICT!AO89,0))","v":74833.17365633187},151331,"Y",{"$f":"MAX('MDA4'!R89,'T1'!L89,'T2'!J89,T3_R1!K89,T3_R2!K89)","v":0},{"$f":"MAX('MDA1'!K89,'MDA4'!S89,'MDA3'!I89,'MDA3'!L89,'T1'!M89,'T2'!K89,T3_R1!L89,T3_R2!L89)","v":44873},{"$f":"MAX('MDA1'!L89,'MDA4'!T89,'MDA3'!J89,'MDA3'!M89,'T1'!N89,'T2'!L89,T3_R1!M89,T3_R2!M89)","v":86256},131129,{"$f":"MAX('MDA4'!R89,T89)","v":0},{"$f":"MAX('MDA1'!K89,'MDA4'!S89,'MDA3'!I89,'MDA3'!L89,V89,AD89)","v":44699},{"$f":"MAX('MDA1'!L89,'MDA4'!T89,'MDA3'!J89,'MDA3'!M89,AF89)","v":86256},130955,86.535475216578234]
[{"$f":"IF(COUNTRY_INFO!A90=0,\" \",COUNTRY_INFO!A90)","v":"Chad"},{"$f":"IF(COUNTRY_INFO!B90=0,\" \",COUNTRY_INFO!B90)","v":"Mayo Kebbi Ouest"},{"$f":"IF(COUNTRY_INFO!C90=0,\" \",COUNTRY_INFO!C90)","v":"Guegou"},{"$f":"COUNTRY_INFO!M90","v":0},null,null,{"$f":"MAX('MDA1'!M90,'MDA4'!U90)","v":0},{"$f":"IF(AND(COUNTRY_INFO!H90>0,COUNTRY_INFO!H90<4),IF(D90>MAX('MDA1'!M90,'MDA4'!U90),MAX('MDA1'!M90,'MDA4'!U90),D90),0)","v":0},{"$f":"IF(AND(COUNTRY_INFO!H90>0,COUNTRY_INFO!H90<4), IF(G90/D90*100<>0, IF(G90/D90*100>100,100,G90/D90*100), \"-\"),0)","v":0},{"$f":"COUNTRY_INFO!N90","v":42177},null,null,{"$f":"MAX('MDA1'!M90,MAX('MDA3'!I90,'MDA3'!L90)+MAX('MDA3'!J90,'MDA3'!M90))","v":31475},{"$f":"IF(AND(COUNTRY_INFO!I90>0,COUNTRY_INFO!I90<4),IF(J90>MAX('MDA1'!M90,MAX('MDA3'!I90,'MDA3'!L90)+MAX('MDA3'!J90,'MDA3'!M90)),MAX('MDA1'!M90,MAX('MDA3'!I90,'MDA3'!L90)+MAX('MDA3'!J90,'MDA3'!M90)),J90),0)","v":31475},{"$f":"IF(AND(COUNTRY_INFO!I90>0,COUNTRY_INFO!I90<4), IF(M90/J90*100<>0, IF(M90/J90*100>100,100,M90/J90*100), \"-\"),0)","v":74.625980984896984},{"$f":"COUNTRY_INFO!O90","v":0},null,null,{"$f":"SUM(MAX('MDA4'!R90, 'T1'!L90, MAX(T3_R1!K90, T3_R2!K90)), MAX('MDA1'!K90, 'MDA4'!S90, 'T1'!M90, MAX(T3_R1!L90, T3_R2!L90)), MAX('MDA1'!L90, 'MDA4'!T90, 'T1'!N90, MAX(T3_R1!M90, T3_R2!M90)))","v":10546},{"$f":"IF(AND(COUNTRY_INFO!J90>1,COUNTRY_INFO!J90<4),IF(COUNTRY_INFO!E90>MAX('MDA4'!R90,'T1'!L90,MAX(T3_R1!K90,T3_R2!K90)),MAX('MDA4'!R90,'T1'!L90,MAX(T3_R1!K90,T3_R2!K90)),COUNTRY_INFO!E90),0)","v":0},{"$f":"IF(AND(COUNTRY_INFO!J90>1,COUNTRY_INFO!J90<4), IF(T90/COUNTRY_INFO!E90*100<>0, IF(T90/COUNTRY_INFO!E90*100>100,100,T90/COUNTRY_INFO!E90*100), \"-\"),0)","v":0},{"$f":"IF(AND(COUNTRY_INFO!J90>1,COUNTRY_INFO!J90<4),IF(COUNTRY_INFO!F90>MAX('MDA1'!K90,'MDA4'!S90,'T1'!M90,MAX(T3_R1!L90,T3_R2!L90)),MAX('MDA1'!K90,'MDA4'!S90,'T1'!M90,MAX(T3_R1!L90,T3_R2!L90)),COUNTRY_INFO!F90),0)","v":0},{"$f":"IF(AND(COUNTRY_INFO!J90>1,COUNTRY_INFO!J90<4), IF(V90/COUNTRY_INFO!F90*100<>0, IF(V90/COUNTRY_INFO!F90*100>100,100,V90/COUNTRY_INFO!F90*100), \"-\"),0)","v":0},0,{"$f":"IF(AND(COUNTRY_INFO!J90>1,COUNTRY_INFO!J90<4), IF(S90/P90*100<>0, IF(X90/P90*100>100,100,X90/P90*100), \"-\"),0)","v":0},{"$f":"COUNTRY_INFO!P90","v":33658},null,null,{"$f":"MAX('T1'!L90,'T2'!J90)+MAX('T1'!M90,'T2'!K90)+MAX('T1'!N90,'T2'!L90)","v":10546},{"$f":"IF(COUNTRY_INFO!K90=1,IF(COUNTRY_INFO!F90*0.33>MAX('T1'!M90,'T2'!K90),MAX('T1'!M90,'T2'!K90),COUNTRY_INFO!F90*0.33),IF(COUNTRY_INFO!K90=2,IF(COUNTRY_INFO!F90*0.5>MAX('T1'!M90,'T2'!K90),MAX('T1'!M90,'T2'!K90),COUNTRY_INFO!F90*0.5),IF(COUNTRY_INFO!K90=3,IF(COUNTRY_INFO!F90>MAX('T1'!M90,'T2'!K90),MAX('T1'!M90,'T2'!K90),COUNTRY_INFO!F90),0)))","v":10546},{"$f":"IF(AND(COUNTRY_INFO!K90>0,COUNTRY_INFO!K90<4),IF(Z90>0,IF(COUNTRY_INFO!K90=1, AD90/(COUNTRY_INFO!F90*0.33)*100, IF(COUNTRY_INFO!K90=2, AD90/(COUNTRY_INFO!F90*0.5)*100, IF(COUNTRY_INFO!K90=3, AD90/COUNTRY_INFO!F90*100))),\"-\"),0)","v":82.384188735255066},{"$f":"IF(COUNTRY_INFO!K90=2,IF(COUNTRY_INFO!G90*0.2>MAX('T1'!N90,'T2'!L90),MAX('T1'!N90,'T2'!L90),COUNTRY_INFO!G90*0.2),IF(COUNTRY_INFO!K90=3,IF(COUNTRY_INFO!G90>MAX('T1'!N90,'T2'!L90),MAX('T1'!N90,'T2'!L90),COUNTRY_INFO!G90),0))","v":0},{"$f":"IF(AND(COUNTRY_INFO!K90>0,COUNTRY_INFO!K90<4),IF(Z90>0,IF(COUNTRY_INFO!K90=1, 0, IF(COUNTRY_INFO!K90=2, AF90/(COUNTRY_INFO!G90*0.2)*100, IF(COUNTRY_INFO!K90=3, AF90/COUNTRY_INFO!G90*100))),\"-\"),0)","v":0},10546,{"$f":"IF(AND(COUNTRY_INFO!K90>0,COUNTRY_INFO!K90<4), IF(AC90/Z90*100<>0, IF(AH90/Z90*100>100,100,AH90/Z90*100), \"-\"),0)","v":31.332818349278028},null,{"$f":"IF(AND(D90<>0, D90<>\"Inconnu\",D90<>\"Interrompu\",D90<>\"Non requis\"),D90/COUNTRY_INFO!D90, 0)","v":0},{"$f":"IF(AND(J90<>0,J90<>\"Inconnu\",J90<>\"Interrompu\",J90<>\"Non requis\"),J90/COUNTRY_INFO!D90, 0)","v":1},{"$f":"IF(AND(P90<>0,P90<>\"Inconnu\",P90<>\"Non requis\"),P90/(COUNTRY_INFO!E90+COUNTRY_INFO!F90), 0)","v":0},{"$f":"IF(AND(Z90<>0,Z90<>\"Inconnu\",Z90<>\"Non requis\"),IF(COUNTRY_INFO!K90=1,1,IF(COUNTRY_INFO!K90=2,0.5*COUNTRY_INFO!F90/(0.5*COUNTRY_INFO!F90+0.2*COUNTRY_INFO!G90),IF(COUNTRY_INFO!K90=3,COUNTRY_INFO!F90/(COUNTRY_INFO!F90+COUNTRY_INFO!G90)))),0)","v":0.38032562837958284},{"$f":"IF(AND(Z90<>0,Z90<>\"Inconnu\",Z90<>\"Non requis\"),IF(COUNTRY_INFO!K90=1,0,IF(COUNTRY_INFO!K90=2,0.2*COUNTRY_INFO!G90/(0.5*COUNTRY_INFO!F90+0.2*COUNTRY_INFO!G90),IF(COUNTRY_INFO!K90=3,COUNTRY_INFO!G90/(COUNTRY_INFO!F90+COUNTRY_INFO!G90)))),0)","v":0.61967437162041716},{"$f":"MAX(COUNTRY_INFO!D90*AK90*PROFILE!$G$7,COUNTRY_INFO!D90*AL90*PROFILE!$G$7)","v":1560.5467857803071},{"$f":"MAX(COUNTRY_INFO!D90*AK90*PROFILE!$G$8,COUNTRY_INFO!D90*AL90*PROFILE!$G$8,COUNTRY_INFO!D90*AM90*PROFILE!$G$8)","v":6959.2200552451295},{"$f":"MAX(COUNTRY_INFO!D90*AK90*PROFILE!$G$9,COUNTRY_INFO!D90*AL90*PROFILE!$G$9,COUNTRY_INFO!D90*AM90*PROFILE!$G$9,IF(AND(DISTRICT!Z90<>\"Inconnu\",Z90<>\"Non requis\"),COUNTRY_INFO!P90*DISTRICT!AN90,0))","v":12801},{"$f":"MAX(COUNTRY_INFO!D90*AK90*PROFILE!$G$10,COUNTRY_INFO!D90*AL90*PROFILE!$G$10,IF(AND(DISTRICT!Z90<>\"Inconnu\",Z90<>\"Non requis\"),COUNTRY_INFO!P90*DISTRICT!AO90,0))","v":20857},42177.766841025441,"Y",{"$f":"MAX('MDA4'!R90,'T1'!L90,'T2'!J90,T3_R1!K90,T3_R2!K90)","v":0},{"$f":"MAX('MDA1'!K90,'MDA4'!S90,'MDA3'!I90,'MDA3'!L90,'T1'!M90,'T2'!K90,T3_R1!L90,T3_R2!L90)","v":11812},{"$f":"MAX('MDA1'!L90,'MDA4'!T90,'MDA3'!J90,'MDA3'!M90,'T1'!N90,'T2'!L90,T3_R1!M90,T3_R2!M90)","v":19663},31475,{"$f":"MAX('MDA4'!R90,T90)","v":0},{"$f":"MAX('MDA1'!K90,'MDA4'!S90,'MDA3'!I90,'MDA3'!L90,V90,AD90)","v":11812},{"$f":"MAX('MDA1'!L90,'MDA4'!T90,'MDA3'!J90,'MDA3'!M90,AF90)","v":19663},31475,74.624624197469174]
[{"$f":"IF(COUNTRY_INFO!A91=0,\" \",COUNTRY_INFO!A91)","v":"Chad"},{"$f":"IF(COUNTRY_INFO!B91=0,\" \",COUNTRY_INFO!B91)","v":"Mayo Kebbi Ouest"},{"$f":"IF(COUNTRY_INFO!C91=0,\" \",COUNTRY_INFO!C91)","v":"GUELO"},{"$f":"COUNTRY_INFO!M91","v":0},null,null,{"$f":"MAX('MDA1'!M91,'MDA4'!U91)","v":0},{"$f":"IF(AND(COUNTRY_INFO!H91>0,COUNTRY_INFO!H91<4),IF(D91>MAX('MDA1'!M91,'MDA4'!U91),MAX('MDA1'!M91,'MDA4'!U91),D91),0)","v":0},{"$f":"IF(AND(COUNTRY_INFO!H91>0,COUNTRY_INFO!H91<4), IF(G91/D91*100<>0, IF(G91/D91*100>100,100,G91/D91*100), \"-\"),0)","v":0},{"$f":"COUNTRY_INFO!N91","v":53228},null,null,{"$f":"MAX('MDA1'!M91,MAX('MDA3'!I91,'MDA3'!L91)+MAX('MDA3'!J91,'MDA3'!M91))","v":41340},{"$f":"IF(AND(COUNTRY_INFO!I91>0,COUNTRY_INFO!I91<4),IF(J91>MAX('MDA1'!M91,MAX('MDA3'!I91,'MDA3'!L91)+MAX('MDA3'!J91,'MDA3'!M91)),MAX('MDA1'!M91,MAX('MDA3'!I91,'MDA3'!L91)+MAX('MDA3'!J91,'MDA3'!M91)),J91),0)","v":41340},{"$f":"IF(AND(COUNTRY_INFO!I91>0,COUNTRY_INFO!I91<4), IF(M91/J91*100<>0, IF(M91/J91*100>100,100,M91/J91*100), \"-\"),0)","v":77.665890133012709},{"$f":"COUNTRY_INFO!O91","v":0},null,null,{"$f":"SUM(MAX('MDA4'!R91, 'T1'!L91, MAX(T3_R1!K91, T3_R2!K91)), MAX('MDA1'!K91, 'MDA4'!S91, 'T1'!M91, MAX(T3_R1!L91, T3_R2!L91)), MAX('MDA1'!L91, 'MDA4'!T91, 'T1'!N91, MAX(T3_R1!M91, T3_R2!M91)))","v":15897},{"$f":"IF(AND(COUNTRY_INFO!J91>1,COUNTRY_INFO!J91<4),IF(COUNTRY_INFO!E91>MAX('MDA4'!R91,'T1'!L91,MAX(T3_R1!K91,T3_R2!K91)),MAX('MDA4'!R91,'T1'!L91,MAX(T3_R1!K91,T3_R2!K91)),COUNTRY_INFO!E91),0)","v":0},{"$f":"IF(AND(COUNTRY_INFO!J91>1,COUNTRY_INFO!J91<4), IF(T91/COUNTRY_INFO!E91*100<>0, IF(T91/COUNTRY_INFO!E91*100>100,100,T91/COUNTRY_INFO!E91*100), \"-\"),0)","v":0},{"$f":"IF(AND(COUNTRY_INFO!J91>1,COUNTRY_INFO!J91<4),IF(COUNTRY_INFO!F91>MAX('MDA1'!K91,'MDA4'!S91,'T1'!M91,MAX(T3_R1!L91,T3_R2!L91)),MAX('MDA1'!K91,'MDA4'!S91,'T1'!M91,MAX(T3_R1!L91,T3_R2!L91)),COUNTRY_INFO!F91),0)","v":0},{"$f":"IF(AND(COUNTRY_INFO!J91>1,COUNTRY_INFO!J91<4), IF(V91/COUNTRY_INFO!F91*100<>0, IF(V91/COUNTRY_INFO!F91*100>100,100,V91/COUNTRY_INFO!F91*100), \"-\"),0)","v":0},0,{"$f":"IF(AND(COUNTRY_INFO!J91>1,COUNTRY_INFO!J91<4), IF(S91/P91*100<>0, IF(X91/P91*100>100,100,X91/P91*100), \"-\"),0)","v":0},{"$f":"COUNTRY_INFO!P91","v":42476},null,null,{"$f":"MAX('T1'!L91,'T2'!J91)+MAX('T1'!M91,'T2'!K91)+MAX('T1'!N91,'T2'!L91)","v":15897},{"$f":"IF(COUNTRY_INFO!K91=1,IF(COUNTRY_INFO!F91*0.33>MAX('T1'!M91,'T2'!K91),MAX('T1'!M91,'T2'!K91),COUNTRY_INFO!F91*0.33),IF(COUNTRY_INFO!K91=2,IF(COUNTRY_INFO!F91*0.5>MAX('T1'!M91,'T2'!K91),MAX('T1'!M91,'T2'!K91),COUNTRY_INFO!F91*0.5),IF(COUNTRY_INFO!K91=3,IF(COUNTRY_INFO!F91>MAX('T1'!M91,'T2'!K91),MAX('T1'!M91,'T2'!K91),COUNTRY_INFO!F91),0)))","v":15897},{"$f":"IF(AND(COUNTRY_INFO!K91>0,COUNTRY_INFO!K91<4),IF(Z91>0,IF(COUNTRY_INFO!K91=1, AD91/(COUNTRY_INFO!F91*0.33)*100, IF(COUNTRY_INFO!K91=2, AD91/(COUNTRY_INFO!F91*0.5)*100, IF(COUNTRY_INFO!K91=3, AD91/COUNTRY_INFO!F91*100))),\"-\"),0)","v":98.402971216341697},{"$f":"IF(COUNTRY_INFO!K91=2,IF(COUNTRY_INFO!G91*0.2>MAX('T1'!N91,'T2'!L91),MAX('T1'!N91,'T2'!L91),COUNTRY_INFO!G91*0.2),IF(COUNTRY_INFO!K91=3,IF(COUNTRY_INFO!G91>MAX('T1'!N91,'T2'!L91),MAX('T1'!N91,'T2'!L91),COUNTRY_INFO!G91),0))","v":0},{"$f":"IF(AND(COUNTRY_INFO!K91>0,COUNTRY_INFO!K91<4),IF(Z91>0,IF(COUNTRY_INFO!K91=1, 0, IF(COUNTRY_INFO!K91=2, AF91/(COUNTRY_INFO!G91*0.2)*100, IF(COUNTRY_INFO!K91=3, AF91/COUNTRY_INFO!G91*100))),\"-\"),0)","v":0},15897,{"$f":"IF(AND(COUNTRY_INFO!K91>0,COUNTRY_INFO!K91<4), IF(AC91/Z91*100<>0, IF(AH91/Z91*100>100,100,AH91/Z91*100), \"-\"),0)","v":37.425840474620962},null,{"$f":"IF(AND(D91<>0, D91<>\"Inconnu\",D91<>\"Interrompu\",D91<>\"Non requis\"),D91/COUNTRY_INFO!D91, 0)","v":0},{"$f":"IF(AND(J91<>0,J91<>\"Inconnu\",J91<>\"Interrompu\",J91<>\"Non requis\"),J91/COUNTRY_INFO!D91, 0)","v":1},{"$f":"IF(AND(P91<>0,P91<>\"Inconnu\",P91<>\"Non requis\"),P91/(COUNTRY_INFO!E91+COUNTRY_INFO!F91), 0)","v":0},{"$f":"IF(AND(Z91<>0,Z91<>\"Inconnu\",Z91<>\"Non requis\"),IF(COUNTRY_INFO!K91=1,1,IF(COUNTRY_INFO!K91=2,0.5*COUNTRY_INFO!F91/(0.5*COUNTRY_INFO!F91+0.2*COUNTRY_INFO!G91),IF(COUNTRY_INFO!K91=3,COUNTRY_INFO!F91/(COUNTRY_INFO!F91+COUNTRY_INFO!G91)))),0)","v":0.38033242301534986},{"$f":"IF(AND(Z91<>0,Z91<>\"Inconnu\",Z91<>\"Non requis\"),IF(COUNTRY_INFO!K91=1,0,IF(COUNTRY_INFO!K91=2,0.2*COUNTRY_INFO!G91/(0.5*COUNTRY_INFO!F91+0.2*COUNTRY_INFO!G91),IF(COUNTRY_INFO!K91=3,COUNTRY_INFO!G91/(COUNTRY_INFO!F91+COUNTRY_INFO!G91)))),0)","v":0.61966757698465014},{"$f":"MAX(COUNTRY_INFO!D91*AK91*PROFILE!$G$7,COUNTRY_INFO!D91*AL91*PROFILE!$G$7)","v":1969.4332056218836},{"$f":"MAX(COUNTRY_INFO!D91*AK91*PROFILE!$G$8,COUNTRY_INFO!D91*AL91*PROFILE!$G$8,COUNTRY_INFO!D91*AM91*PROFILE!$G$8)","v":8782.6389999428065},{"$f":"MAX(COUNTRY_INFO!D91*AK91*PROFILE!$G$9,COUNTRY_INFO!D91*AL91*PROFILE!$G$9,COUNTRY_INFO!D91*AM91*PROFILE!$G$9,IF(AND(DISTRICT!Z91<>\"Inconnu\",Z91<>\"Non requis\"),COUNTRY_INFO!P91*DISTRICT!AN91,0))","v":16155},{"$f":"MAX(COUNTRY_INFO!D91*AK91*PROFILE!$G$10,COUNTRY_INFO!D91*AL91*PROFILE!$G$10,IF(AND(DISTRICT!Z91<>\"Inconnu\",Z91<>\"Non requis\"),COUNTRY_INFO!P91*DISTRICT!AO91,0))","v":26321.243944593196},53228.316150157887,"Y",{"$f":"MAX('MDA4'!R91,'T1'!L91,'T2'!J91,T3_R1!K91,T3_R2!K91)","v":0},{"$f":"MAX('MDA1'!K91,'MDA4'!S91,'MDA3'!I91,'MDA3'!L91,'T1'!M91,'T2'!K91,T3_R1!L91,T3_R2!L91)","v":15897},{"$f":"MAX('MDA1'!L91,'MDA4'!T91,'MDA3'!J91,'MDA3'!M91,'T1'!N91,'T2'!L91,T3_R1!M91,T3_R2!M91)","v":25443},41340,{"$f":"MAX('MDA4'!R91,T91)","v":0},{"$f":"MAX('MDA1'!K91,'MDA4'!S91,'MDA3'!I91,'MDA3'!L91,V91,AD91)","v":15897},{"$f":"MAX('MDA1'!L91,'MDA4'!T91,'MDA3'!J91,'MDA3'!M91,AF91)","v":25443},41340,77.66542883562056]
[{"$f":"IF(COUNTRY_INFO!A92=0,\" \",COUNTRY_INFO!A92)","v":"Chad"},{"$f":"IF(COUNTRY_INFO!B92=0,\" \",COUNTRY_INFO!B92)","v":"Mayo Kebbi Ouest"},{"$f":"IF(COUNTRY_INFO!C92=0,\" \",COUNTRY_INFO!C92)","v":"Lagon"},{"$f":"COUNTRY_INFO!M92","v":0},null,null,{"$f":"MAX('MDA1'!M92,'MDA4'!U92)","v":0},{"$f":"IF(AND(COUNTRY_INFO!H92>0,COUNTRY_INFO!H92<4),IF(D92>MAX('MDA1'!M92,'MDA4'!U92),MAX('MDA1'!M92,'MDA4'!U92),D92),0)","v":0},{"$f":"IF(AND(COUNTRY_INFO!H92>0,COUNTRY_INFO!H92<4), IF(G92/D92*100<>0, IF(G92/D92*100>100,100,G92/D92*100), \"-\"),0)","v":0},{"$f":"COUNTRY_INFO!N92","v":84587},null,null,{"$f":"MAX('MDA1'!M92,MAX('MDA3'!I92,'MDA3'!L92)+MAX('MDA3'!J92,'MDA3'!M92))","v":70151},{"$f":"IF(AND(COUNTRY_INFO!I92>0,COUNTRY_INFO!I92<4),IF(J92>MAX('MDA1'!M92,MAX('MDA3'!I92,'MDA3'!L92)+MAX('MDA3'!J92,'MDA3'!M92)),MAX('MDA1'!M92,MAX('MDA3'!I92,'MDA3'!L92)+MAX('MDA3'!J92,'MDA3'!M92)),J92),0)","v":70151},{"$f":"IF(AND(COUNTRY_INFO!I92>0,COUNTRY_INFO!I92<4), IF(M92/J92*100<>0, IF(M92/J92*100>100,100,M92/J92*100), \"-\"),0)","v":82.933547708276691},{"$f":"COUNTRY_INFO!O92","v":0},null,null,{"$f":"SUM(MAX('MDA4'!R92, 'T1'!L92, MAX(T3_R1!K92, T3_R2!K92)), MAX('MDA1'!K92, 'MDA4'!S92, 'T1'!M92, MAX(T3_R1!L92, T3_R2!L92)), MAX('MDA1'!L92, 'MDA4'!T92, 'T1'!N92, MAX(T3_R1!M92, T3_R2!M92)))","v":25009},{"$f":"IF(AND(COUNTRY_INFO!J92>1,COUNTRY_INFO!J92<4),IF(COUNTRY_INFO!E92>MAX('MDA4'!R92,'T1'!L92,MAX(T3_R1!K92,T3_R2!K92)),MAX('MDA4'!R92,'T1'!L92,MAX(T3_R1!K92,T3_R2!K92)),COUNTRY_INFO!E92),0)","v":0},{"$f":"IF(AND(COUNTRY_INFO!J92>1,COUNTRY_INFO!J92<4), IF(T92/COUNTRY_INFO!E92*100<>0, IF(T92/COUNTRY_INFO!E92*100>100,100,T92/COUNTRY_INFO!E92*100), \"-\"),0)","v":0},{"$f":"IF(AND(COUNTRY_INFO!J92>1,COUNTRY_INFO!J92<4),IF(COUNTRY_INFO!F92>MAX('MDA1'!K92,'MDA4'!S92,'T1'!M92,MAX(T3_R1!L92,T3_R2!L92)),MAX('MDA1'!K92,'MDA4'!S92,'T1'!M92,MAX(T3_R1!L92,T3_R2!L92)),COUNTRY_INFO!F92),0)","v":0},{"$f":"IF(AND(COUNTRY_INFO!J92>1,COUNTRY_INFO!J92<4), IF(V92/COUNTRY_INFO!F92*100<>0, IF(V92/COUNTRY_INFO!F92*100>100,100,V92/COUNTRY_INFO!F92*100), \"-\"),0)","v":0},0,{"$f":"IF(AND(COUNTRY_INFO!J92>1,COUNTRY_INFO!J92<4), IF(S92/P92*100<>0, IF(X92/P92*100>100,100,X92/P92*100), \"-\"),0)","v":0},{"$f":"COUNTRY_INFO!P92","v":67500},null,null,{"$f":"MAX('T1'!L92,'T2'!J92)+MAX('T1'!M92,'T2'!K92)+MAX('T1'!N92,'T2'!L92)","v":25009},{"$f":"IF(COUNTRY_INFO!K92=1,IF(COUNTRY_INFO!F92*0.33>MAX('T1'!M92,'T2'!K92),MAX('T1'!M92,'T2'!K92),COUNTRY_INFO!F92*0.33),IF(COUNTRY_INFO!K92=2,IF(COUNTRY_INFO!F92*0.5>MAX('T1'!M92,'T2'!K92),MAX('T1'!M92,'T2'!K92),COUNTRY_INFO!F92*0.5),IF(COUNTRY_INFO!K92=3,IF(COUNTRY_INFO!F92>MAX('T1'!M92,'T2'!K92),MAX('T1'!M92,'T2'!K92),COUNTRY_INFO!F92),0)))","v":25009},{"$f":"IF(AND(COUNTRY_INFO!K92>0,COUNTRY_INFO!K92<4),IF(Z92>0,IF(COUNTRY_INFO!K92=1, AD92/(COUNTRY_INFO!F92*0.33)*100, IF(COUNTRY_INFO!K92=2, AD92/(COUNTRY_INFO!F92*0.5)*100, IF(COUNTRY_INFO!K92=3, AD92/COUNTRY_INFO!F92*100))),\"-\"),0)","v":97.417419756933626},{"$f":"IF(COUNTRY_INFO!K92=2,IF(COUNTRY_INFO!G92*0.2>MAX('T1'!N92,'T2'!L92),MAX('T1'!N92,'T2'!L92),COUNTRY_INFO!G92*0.2),IF(COUNTRY_INFO!K92=3,IF(COUNTRY_INFO!G92>MAX('T1'!N92,'T2'!L92),MAX('T1'!N92,'T2'!L92),COUNTRY_INFO!G92),0))","v":0},{"$f":"IF(AND(COUNTRY_INFO!K92>0,COUNTRY_INFO!K92<4),IF(Z92>0,IF(COUNTRY_INFO!K92=1, 0, IF(COUNTRY_INFO!K92=2, AF92/(COUNTRY_INFO!G92*0.2)*100, IF(COUNTRY_INFO!K92=3, AF92/COUNTRY_INFO!G92*100))),\"-\"),0)","v":0},25009,{"$f":"IF(AND(COUNTRY_INFO!K92>0,COUNTRY_INFO!K92<4), IF(AC92/Z92*100<>0, IF(AH92/Z92*100>100,100,AH92/Z92*100), \"-\"),0)","v":37.050370370370374},null,{"$f":"IF(AND(D92<>0, D92<>\"Inconnu\",D92<>\"Interrompu\",D92<>\"Non requis\"),D92/COUNTRY_INFO!D92, 0)","v":0},{"$f":"IF(AND(J92<>0,J92<>\"Inconnu\",J92<>\"Interrompu\",J92<>\"Non requis\"),J92/COUNTRY_INFO!D92, 0)","v":1},{"$f":"IF(AND(P92<>0,P92<>\"Inconnu\",P92<>\"Non requis\"),P92/(COUNTRY_INFO!E92+COUNTRY_INFO!F92), 0)","v":0},{"$f":"IF(AND(Z92<>0,Z92<>\"Inconnu\",Z92<>\"Non requis\"),IF(COUNTRY_INFO!K92=1,1,IF(COUNTRY_INFO!K92=2,0.5*COUNTRY_INFO!F92/(0.5*COUNTRY_INFO!F92+0.2*COUNTRY_INFO!G92),IF(COUNTRY_INFO!K92=3,COUNTRY_INFO!F92/(COUNTRY_INFO!F92+COUNTRY_INFO!G92)))),0)","v":0.3803259259259259},{"$f":"IF(AND(Z92<>0,Z92<>\"Inconnu\",Z92<>\"Non requis\"),IF(COUNTRY_INFO!K92=1,0,IF(COUNTRY_INFO!K92=2,0.2*COUNTRY_INFO!G92/(0.5*COUNTRY_INFO!F92+0.2*COUNTRY_INFO!G92),IF(COUNTRY_INFO!K92=3,COUNTRY_INFO!G92/(COUNTRY_INFO!F92+COUNTRY_INFO!G92)))),0)","v":0.61967407407407404},{"$f":"MAX(COUNTRY_INFO!D92*AK92*PROFILE!$G$7,COUNTRY_INFO!D92*AL92*PROFILE!$G$7)","v":3129.7145593285163},{"$f":"MAX(COUNTRY_INFO!D92*AK92*PROFILE!$G$8,COUNTRY_INFO!D92*AL92*PROFILE!$G$8,COUNTRY_INFO!D92*AM92*PROFILE!$G$8)","v":13956.885193660521},{"$f":"MAX(COUNTRY_INFO!D92*AK92*PROFILE!$G$9,COUNTRY_INFO!D92*AL92*PROFILE!$G$9,COUNTRY_INFO!D92*AM92*PROFILE!$G$9,IF(AND(DISTRICT!Z92<>\"Inconnu\",Z92<>\"Non requis\"),COUNTRY_INFO!P92*DISTRICT!AN92,0))","v":25672.132013350019},{"$f":"MAX(COUNTRY_INFO!D92*AK92*PROFILE!$G$10,COUNTRY_INFO!D92*AL92*PROFILE!$G$10,IF(AND(DISTRICT!Z92<>\"Inconnu\",Z92<>\"Non requis\"),COUNTRY_INFO!P92*DISTRICT!AO92,0))","v":41828.268233660943},84587,"Y",{"$f":"MAX('MDA4'!R92,'T1'!L92,'T2'!J92,T3_R1!K92,T3_R2!K92)","v":0},{"$f":"MAX('MDA1'!K92,'MDA4'!S92,'MDA3'!I92,'MDA3'!L92,'T1'!M92,'T2'!K92,T3_R1!L92,T3_R2!L92)","v":25009},{"$f":"MAX('MDA1'!L92,'MDA4'!T92,'MDA3'!J92,'MDA3'!M92,'T1'!N92,'T2'!L92,T3_R1!M92,T3_R2!M92)","v":48615},73624,{"$f":"MAX('MDA4'!R92,T92)","v":0},{"$f":"MAX('MDA1'!K92,'MDA4'!S92,'MDA3'!I92,'MDA3'!L92,V92,AD92)","v":25009},{"$f":"MAX('MDA1'!L92,'MDA4'!T92,'MDA3'!J92,'MDA3'!M92,AF92)","v":48615},73624,87.039379573693353]
[{"$f":"IF(COUNTRY_INFO!A93=0,\" \",COUNTRY_INFO!A93)","v":"Chad"},{"$f":"IF(COUNTRY_INFO!B93=0,\" \",COUNTRY_INFO!B93)","v":"Mayo Kebbi Ouest"},{"$f":"IF(COUNTRY_INFO!C93=0,\" \",COUNTRY_INFO!C93)","v":"Lamé"},{"$f":"COUNTRY_INFO!M93","v":0},null,null,{"$f":"MAX('MDA1'!M93,'MDA4'!U93)","v":0},{"$f":"IF(AND(COUNTRY_INFO!H93>0,COUNTRY_INFO!H93<4),IF(D93>MAX('MDA1'!M93,'MDA4'!U93),MAX('MDA1'!M93,'MDA4'!U93),D93),0)","v":0},{"$f":"IF(AND(COUNTRY_INFO!H93>0,COUNTRY_INFO!H93<4), IF(G93/D93*100<>0, IF(G93/D93*100>100,100,G93/D93*100), \"-\"),0)","v":0},{"$f":"COUNTRY_INFO!N93","v":90302},null,null,{"$f":"MAX('MDA1'!M93,MAX('MDA3'!I93,'MDA3'!L93)+MAX('MDA3'!J93,'MDA3'!M93))","v":69373},{"$f":"IF(AND(COUNTRY_INFO!I93>0,COUNTRY_INFO!I93<4),IF(J93>MAX('MDA1'!M93,MAX('MDA3'!I93,'MDA3'!L93)+MAX('MDA3'!J93,'MDA3'!M93)),MAX('MDA1'!M93,MAX('MDA3'!I93,'MDA3'!L93)+MAX('MDA3'!J93,'MDA3'!M93)),J93),0)","v":69373},{"$f":"IF(AND(COUNTRY_INFO!I93>0,COUNTRY_INFO!I93<4), IF(M93/J93*100<>0, IF(M93/J93*100>100,100,M93/J93*100), \"-\"),0)","v":76.823326172177815},{"$f":"COUNTRY_INFO!O93","v":0},null,null,{"$f":"SUM(MAX('MDA4'!R93, 'T1'!L93, MAX(T3_R1!K93, T3_R2!K93)), MAX('MDA1'!K93, 'MDA4'!S93, 'T1'!M93, MAX(T3_R1!L93, T3_R2!L93)), MAX('MDA1'!L93, 'MDA4'!T93, 'T1'!N93, MAX(T3_R1!M93, T3_R2!M93)))","v":26888},{"$f":"IF(AND(COUNTRY_INFO!J93>1,COUNTRY_INFO!J93<4),IF(COUNTRY_INFO!E93>MAX('MDA4'!R93,'T1'!L93,MAX(T3_R1!K93,T3_R2!K93)),MAX('MDA4'!R93,'T1'!L93,MAX(T3_R1!K93,T3_R2!K93)),COUNTRY_INFO!E93),0)","v":0},{"$f":"IF(AND(COUNTRY_INFO!J93>1,COUNTRY_INFO!J93<4), IF(T93/COUNTRY_INFO!E93*100<>0, IF(T93/COUNTRY_INFO!E93*100>100,100,T93/COUNTRY_INFO!E93*100), \"-\"),0)","v":0},{"$f":"IF(AND(COUNTRY_INFO!J93>1,COUNTRY_INFO!J93<4),IF(COUNTRY_INFO!F93>MAX('MDA1'!K93,'MDA4'!S93,'T1'!M93,MAX(T3_R1!L93,T3_R2!L93)),MAX('MDA1'!K93,'MDA4'!S93,'T1'!M93,MAX(T3_R1!L93,T3_R2!L93)),COUNTRY_INFO!F93),0)","v":0},{"$f":"IF(AND(COUNTRY_INFO!J93>1,COUNTRY_INFO!J93<4), IF(V93/COUNTRY_INFO!F93*100<>0, IF(V93/COUNTRY_INFO!F93*100>100,100,V93/COUNTRY_INFO!F93*100), \"-\"),0)","v":0},0,{"$f":"IF(AND(COUNTRY_INFO!J93>1,COUNTRY_INFO!J93<4), IF(S93/P93*100<>0, IF(X93/P93*100>100,100,X93/P93*100), \"-\"),0)","v":0},{"$f":"COUNTRY_INFO!P93","v":22634.300000000003},null,null,{"$f":"MAX('T1'!L93,'T2'!J93)+MAX('T1'!M93,'T2'!K93)+MAX('T1'!N93,'T2'!L93)","v":26888},{"$f":"IF(COUNTRY_INFO!K93=1,IF(COUNTRY_INFO!F93*0.33>MAX('T1'!M93,'T2'!K93),MAX('T1'!M93,'T2'!K93),COUNTRY_INFO!F93*0.33),IF(COUNTRY_INFO!K93=2,IF(COUNTRY_INFO!F93*0.5>MAX('T1'!M93,'T2'!K93),MAX('T1'!M93,'T2'!K93),COUNTRY_INFO!F93*0.5),IF(COUNTRY_INFO!K93=3,IF(COUNTRY_INFO!F93>MAX('T1'!M93,'T2'!K93),MAX('T1'!M93,'T2'!K93),COUNTRY_INFO!F93),0)))","v":13703.5},{"$f":"IF(AND(COUNTRY_INFO!K93>0,COUNTRY_INFO!K93<4),IF(Z93>0,IF(COUNTRY_INFO!K93=1, AD93/(COUNTRY_INFO!F93*0.33)*100, IF(COUNTRY_INFO!K93=2, AD93/(COUNTRY_INFO!F93*0.5)*100, IF(COUNTRY_INFO!K93=3, AD93/COUNTRY_INFO!F93*100))),\"-\"),0)","v":100},{"$f":"IF(COUNTRY_INFO!K93=2,IF(COUNTRY_INFO!G93*0.2>MAX('T1'!N93,'T2'!L93),MAX('T1'!N93,'T2'!L93),COUNTRY_INFO!G93*0.2),IF(COUNTRY_INFO!K93=3,IF(COUNTRY_INFO!G93>MAX('T1'!N93,'T2'!L93),MAX('T1'!N93,'T2'!L93),COUNTRY_INFO!G93),0))","v":0},{"$f":"IF(AND(COUNTRY_INFO!K93>0,COUNTRY_INFO!K93<4),IF(Z93>0,IF(COUNTRY_INFO!K93=1, 0, IF(COUNTRY_INFO!K93=2, AF93/(COUNTRY_INFO!G93*0.2)*100, IF(COUNTRY_INFO!K93=3, AF93/COUNTRY_INFO!G93*100))),\"-\"),0)","v":0},13703.5,{"$f":"IF(AND(COUNTRY_INFO!K93>0,COUNTRY_INFO!K93<4), IF(AC93/Z93*100<>0, IF(AH93/Z93*100>100,100,AH93/Z93*100), \"-\"),0)","v":60.543069589074982},null,{"$f":"IF(AND(D93<>0, D93<>\"Inconnu\",D93<>\"Interrompu\",D93<>\"Non requis\"),D93/COUNTRY_INFO!D93, 0)","v":0},{"$f":"IF(AND(J93<>0,J93<>\"Inconnu\",J93<>\"Interrompu\",J93<>\"Non requis\"),J93/COUNTRY_INFO!D93, 0)","v":1},{"$f":"IF(AND(P93<>0,P93<>\"Inconnu\",P93<>\"Non requis\"),P93/(COUNTRY_INFO!E93+COUNTRY_INFO!F93), 0)","v":0},{"$f":"IF(AND(Z93<>0,Z93<>\"Inconnu\",Z93<>\"Non requis\"),IF(COUNTRY_INFO!K93=1,1,IF(COUNTRY_INFO!K93=2,0.5*COUNTRY_INFO!F93/(0.5*COUNTRY_INFO!F93+0.2*COUNTRY_INFO!G93),IF(COUNTRY_INFO!K93=3,COUNTRY_INFO!F93/(COUNTRY_INFO!F93+COUNTRY_INFO!G93)))),0)","v":0.60543069589074983},{"$f":"IF(AND(Z93<>0,Z93<>\"Inconnu\",Z93<>\"Non requis\"),IF(COUNTRY_INFO!K93=1,0,IF(COUNTRY_INFO!K93=2,0.2*COUNTRY_INFO!G93/(0.5*COUNTRY_INFO!F93+0.2*COUNTRY_INFO!G93),IF(COUNTRY_INFO!K93=3,COUNTRY_INFO!G93/(COUNTRY_INFO!F93+COUNTRY_INFO!G93)))),0)","v":0.39456930410925012},{"$f":"MAX(COUNTRY_INFO!D93*AK93*PROFILE!$G$7,COUNTRY_INFO!D93*AL93*PROFILE!$G$7)","v":3341.169259300882},{"$f":"MAX(COUNTRY_INFO!D93*AK93*PROFILE!$G$8,COUNTRY_INFO!D93*AL93*PROFILE!$G$8,COUNTRY_INFO!D93*AM93*PROFILE!$G$8)","v":14899.862233652126},{"$f":"MAX(COUNTRY_INFO!D93*AK93*PROFILE!$G$9,COUNTRY_INFO!D93*AL93*PROFILE!$G$9,COUNTRY_INFO!D93*AM93*PROFILE!$G$9,IF(AND(DISTRICT!Z93<>\"Inconnu\",Z93<>\"Non requis\"),COUNTRY_INFO!P93*DISTRICT!AN93,0))","v":27406.632994071588},{"$f":"MAX(COUNTRY_INFO!D93*AK93*PROFILE!$G$10,COUNTRY_INFO!D93*AL93*PROFILE!$G$10,IF(AND(DISTRICT!Z93<>\"Inconnu\",Z93<>\"Non requis\"),COUNTRY_INFO!P93*DISTRICT!AO93,0))","v":44654.335512975405},90302,"Y",{"$f":"MAX('MDA4'!R93,'T1'!L93,'T2'!J93,T3_R1!K93,T3_R2!K93)","v":0},{"$f":"MAX('MDA1'!K93,'MDA4'!S93,'MDA3'!I93,'MDA3'!L93,'T1'!M93,'T2'!K93,T3_R1!L93,T3_R2!L93)","v":26888},{"$f":"MAX('MDA1'!L93,'MDA4'!T93,'MDA3'!J93,'MDA3'!M93,'T1'!N93,'T2'!L93,T3_R1!M93,T3_R2!M93)","v":47507},74395,{"$f":"MAX('MDA4'!R93,T93)","v":0},{"$f":"MAX('MDA1'!K93,'MDA4'!S93,'MDA3'!I93,'MDA3'!L93,V93,AD93)","v":21866},{"$f":"MAX('MDA1'!L93,'MDA4'!T93,'MDA3'!J93,'MDA3'!M93,AF93)","v":47507},69373,76.823326172177815]
[{"$f":"IF(COUNTRY_INFO!A94=0,\" \",COUNTRY_INFO!A94)","v":"Chad"},{"$f":"IF(COUNTRY_INFO!B94=0,\" \",COUNTRY_INFO!B94)","v":"Mayo Kebbi Ouest"},{"$f":"IF(COUNTRY_INFO!C94=0,\" \",COUNTRY_INFO!C94)","v":"Lere"},{"$f":"COUNTRY_INFO!M94","v":0},null,null,{"$f":"MAX('MDA1'!M94,'MDA4'!U94)","v":0},{"$f":"IF(AND(COUNTRY_INFO!H94>0,COUNTRY_INFO!H94<4),IF(D94>MAX('MDA1'!M94,'MDA4'!U94),MAX('MDA1'!M94,'MDA4'!U94),D94),0)","v":0},{"$f":"IF(AND(COUNTRY_INFO!H94>0,COUNTRY_INFO!H94<4), IF(G94/D94*100<>0, IF(G94/D94*100>100,100,G94/D94*100), \"-\"),0)","v":0},{"$f":"COUNTRY_INFO!N94","v":152611},null,null,{"$f":"MAX('MDA1'!M94,MAX('MDA3'!I94,'MDA3'!L94)+MAX('MDA3'!J94,'MDA3'!M94))","v":120827},{"$f":"IF(AND(COUNTRY_INFO!I94>0,COUNTRY_INFO!I94<4),IF(J94>MAX('MDA1'!M94,MAX('MDA3'!I94,'MDA3'!L94)+MAX('MDA3'!J94,'MDA3'!M94)),MAX('MDA1'!M94,MAX('MDA3'!I94,'MDA3'!L94)+MAX('MDA3'!J94,'MDA3'!M94)),J94),0)","v":120827},{"$f":"IF(AND(COUNTRY_INFO!I94>0,COUNTRY_INFO!I94<4), IF(M94/J94*100<>0, IF(M94/J94*100>100,100,M94/J94*100), \"-\"),0)","v":79.173191971745155},{"$f":"COUNTRY_INFO!O94","v":0},null,null,{"$f":"SUM(MAX('MDA4'!R94, 'T1'!L94, MAX(T3_R1!K94, T3_R2!K94)), MAX('MDA1'!K94, 'MDA4'!S94, 'T1'!M94, MAX(T3_R1!L94, T3_R2!L94)), MAX('MDA1'!L94, 'MDA4'!T94, 'T1'!N94, MAX(T3_R1!M94, T3_R2!M94)))","v":46321},{"$f":"IF(AND(COUNTRY_INFO!J94>1,COUNTRY_INFO!J94<4),IF(COUNTRY_INFO!E94>MAX('MDA4'!R94,'T1'!L94,MAX(T3_R1!K94,T3_R2!K94)),MAX('MDA4'!R94,'T1'!L94,MAX(T3_R1!K94,T3_R2!K94)),COUNTRY_INFO!E94),0)","v":0},{"$f":"IF(AND(COUNTRY_INFO!J94>1,COUNTRY_INFO!J94<4), IF(T94/COUNTRY_INFO!E94*100<>0, IF(T94/COUNTRY_INFO!E94*100>100,100,T94/COUNTRY_INFO!E94*100), \"-\"),0)","v":0},{"$f":"IF(AND(COUNTRY_INFO!J94>1,COUNTRY_INFO!J94<4),IF(COUNTRY_INFO!F94>MAX('MDA1'!K94,'MDA4'!S94,'T1'!M94,MAX(T3_R1!L94,T3_R2!L94)),MAX('MDA1'!K94,'MDA4'!S94,'T1'!M94,MAX(T3_R1!L94,T3_R2!L94)),COUNTRY_INFO!F94),0)","v":0},{"$f":"IF(AND(COUNTRY_INFO!J94>1,COUNTRY_INFO!J94<4), IF(V94/COUNTRY_INFO!F94*100<>0, IF(V94/COUNTRY_INFO!F94*100>100,100,V94/COUNTRY_INFO!F94*100), \"-\"),0)","v":0},0,{"$f":"IF(AND(COUNTRY_INFO!J94>1,COUNTRY_INFO!J94<4), IF(S94/P94*100<>0, IF(X94/P94*100>100,100,X94/P94*100), \"-\"),0)","v":0},{"$f":"COUNTRY_INFO!P94","v":121783},null,null,{"$f":"MAX('T1'!L94,'T2'!J94)+MAX('T1'!M94,'T2'!K94)+MAX('T1'!N94,'T2'!L94)","v":46321},{"$f":"IF(COUNTRY_INFO!K94=1,IF(COUNTRY_INFO!F94*0.33>MAX('T1'!M94,'T2'!K94),MAX('T1'!M94,'T2'!K94),COUNTRY_INFO!F94*0.33),IF(COUNTRY_INFO!K94=2,IF(COUNTRY_INFO!F94*0.5>MAX('T1'!M94,'T2'!K94),MAX('T1'!M94,'T2'!K94),COUNTRY_INFO!F94*0.5),IF(COUNTRY_INFO!K94=3,IF(COUNTRY_INFO!F94>MAX('T1'!M94,'T2'!K94),MAX('T1'!M94,'T2'!K94),COUNTRY_INFO!F94),0)))","v":46317},{"$f":"IF(AND(COUNTRY_INFO!K94>0,COUNTRY_INFO!K94<4),IF(Z94>0,IF(COUNTRY_INFO!K94=1, AD94/(COUNTRY_INFO!F94*0.33)*100, IF(COUNTRY_INFO!K94=2, AD94/(COUNTRY_INFO!F94*0.5)*100, IF(COUNTRY_INFO!K94=3, AD94/COUNTRY_INFO!F94*100))),\"-\"),0)","v":100},{"$f":"IF(COUNTRY_INFO!K94=2,IF(COUNTRY_INFO!G94*0.2>MAX('T1'!N94,'T2'!L94),MAX('T1'!N94,'T2'!L94),COUNTRY_INFO!G94*0.2),IF(COUNTRY_INFO!K94=3,IF(COUNTRY_INFO!G94>MAX('T1'!N94,'T2'!L94),MAX('T1'!N94,'T2'!L94),COUNTRY_INFO!G94),0))","v":0},{"$f":"IF(AND(COUNTRY_INFO!K94>0,COUNTRY_INFO!K94<4),IF(Z94>0,IF(COUNTRY_INFO!K94=1, 0, IF(COUNTRY_INFO!K94=2, AF94/(COUNTRY_INFO!G94*0.2)*100, IF(COUNTRY_INFO!K94=3, AF94/COUNTRY_INFO!G94*100))),\"-\"),0)","v":0},46317,{"$f":"IF(AND(COUNTRY_INFO!K94>0,COUNTRY_INFO!K94<4), IF(AC94/Z94*100<>0, IF(AH94/Z94*100>100,100,AH94/Z94*100), \"-\"),0)","v":38.032401895174203},null,{"$f":"IF(AND(D94<>0, D94<>\"Inconnu\",D94<>\"Interrompu\",D94<>\"Non requis\"),D94/COUNTRY_INFO!D94, 0)","v":0},{"$f":"IF(AND(J94<>0,J94<>\"Inconnu\",J94<>\"Interrompu\",J94<>\"Non requis\"),J94/COUNTRY_INFO!D94, 0)","v":1},{"$f":"IF(AND(P94<>0,P94<>\"Inconnu\",P94<>\"Non requis\"),P94/(COUNTRY_INFO!E94+COUNTRY_INFO!F94), 0)","v":0},{"$f":"IF(AND(Z94<>0,Z94<>\"Inconnu\",Z94<>\"Non requis\"),IF(COUNTRY_INFO!K94=1,1,IF(COUNTRY_INFO!K94=2,0.5*COUNTRY_INFO!F94/(0.5*COUNTRY_INFO!F94+0.2*COUNTRY_INFO!G94),IF(COUNTRY_INFO!K94=3,COUNTRY_INFO!F94/(COUNTRY_INFO!F94+COUNTRY_INFO!G94)))),0)","v":0.38032401895174206},{"$f":"IF(AND(Z94<>0,Z94<>\"Inconnu\",Z94<>\"Non requis\"),IF(COUNTRY_INFO!K94=1,0,IF(COUNTRY_INFO!K94=2,0.2*COUNTRY_INFO!G94/(0.5*COUNTRY_INFO!F94+0.2*COUNTRY_INFO!G94),IF(COUNTRY_INFO!K94=3,COUNTRY_INFO!G94/(COUNTRY_INFO!F94+COUNTRY_INFO!G94)))),0)","v":0.61967598104825794},{"$f":"MAX(COUNTRY_INFO!D94*AK94*PROFILE!$G$7,COUNTRY_INFO!D94*AL94*PROFILE!$G$7)","v":5646.5989881859414},{"$f":"MAX(COUNTRY_INFO!D94*AK94*PROFILE!$G$8,COUNTRY_INFO!D94*AL94*PROFILE!$G$8,COUNTRY_INFO!D94*AM94*PROFILE!$G$8)","v":25180.869475093405},{"$f":"MAX(COUNTRY_INFO!D94*AK94*PROFILE!$G$9,COUNTRY_INFO!D94*AL94*PROFILE!$G$9,COUNTRY_INFO!D94*AM94*PROFILE!$G$9,IF(AND(DISTRICT!Z94<>\"Inconnu\",Z94<>\"Non requis\"),COUNTRY_INFO!P94*DISTRICT!AN94,0))","v":46317.397929816165},{"$f":"MAX(COUNTRY_INFO!D94*AK94*PROFILE!$G$10,COUNTRY_INFO!D94*AL94*PROFILE!$G$10,IF(AND(DISTRICT!Z94<>\"Inconnu\",Z94<>\"Non requis\"),COUNTRY_INFO!P94*DISTRICT!AO94,0))","v":75466.133606904492},152611,"Y",{"$f":"MAX('MDA4'!R94,'T1'!L94,'T2'!J94,T3_R1!K94,T3_R2!K94)","v":0},{"$f":"MAX('MDA1'!K94,'MDA4'!S94,'MDA3'!I94,'MDA3'!L94,'T1'!M94,'T2'!K94,T3_R1!L94,T3_R2!L94)","v":46321},{"$f":"MAX('MDA1'!L94,'MDA4'!T94,'MDA3'!J94,'MDA3'!M94,'T1'!N94,'T2'!L94,T3_R1!M94,T3_R2!M94)","v":74824},121145,{"$f":"MAX('MDA4'!R94,T94)","v":0},{"$f":"MAX('MDA1'!K94,'MDA4'!S94,'MDA3'!I94,'MDA3'!L94,V94,AD94)","v":46317},{"$f":"MAX('MDA1'!L94,'MDA4'!T94,'MDA3'!J94,'MDA3'!M94,AF94)","v":74824},121141,79.378943850705383]
[{"$f":"IF(COUNTRY_INFO!A95=0,\" \",COUNTRY_INFO!A95)","v":"Chad"},{"$f":"IF(COUNTRY_INFO!B95=0,\" \",COUNTRY_INFO!B95)","v":"Mayo Kebbi Ouest"},{"$f":"IF(COUNTRY_INFO!C95=0,\" \",COUNTRY_INFO!C95)","v":"Pala"},{"$f":"COUNTRY_INFO!M95","v":0},null,null,{"$f":"MAX('MDA1'!M95,'MDA4'!U95)","v":0},{"$f":"IF(AND(COUNTRY_INFO!H95>0,COUNTRY_INFO!H95<4),IF(D95>MAX('MDA1'!M95,'MDA4'!U95),MAX('MDA1'!M95,'MDA4'!U95),D95),0)","v":0},{"$f":"IF(AND(COUNTRY_INFO!H95>0,COUNTRY_INFO!H95<4), IF(G95/D95*100<>0, IF(G95/D95*100>100,100,G95/D95*100), \"-\"),0)","v":0},{"$f":"COUNTRY_INFO!N95","v":140792},null,null,{"$f":"MAX('MDA1'!M95,MAX('MDA3'!I95,'MDA3'!L95)+MAX('MDA3'!J95,'MDA3'!M95))","v":110923},{"$f":"IF(AND(COUNTRY_INFO!I95>0,COUNTRY_INFO!I95<4),IF(J95>MAX('MDA1'!M95,MAX('MDA3'!I95,'MDA3'!L95)+MAX('MDA3'!J95,'MDA3'!M95)),MAX('MDA1'!M95,MAX('MDA3'!I95,'MDA3'!L95)+MAX('MDA3'!J95,'MDA3'!M95)),J95),0)","v":110923},{"$f":"IF(AND(COUNTRY_INFO!I95>0,COUNTRY_INFO!I95<4), IF(M95/J95*100<>0, IF(M95/J95*100>100,100,M95/J95*100), \"-\"),0)","v":78.785016194101942},{"$f":"COUNTRY_INFO!O95","v":0},null,null,{"$f":"SUM(MAX('MDA4'!R95, 'T1'!L95, MAX(T3_R1!K95, T3_R2!K95)), MAX('MDA1'!K95, 'MDA4'!S95, 'T1'!M95, MAX(T3_R1!L95, T3_R2!L95)), MAX('MDA1'!L95, 'MDA4'!T95, 'T1'!N95, MAX(T3_R1!M95, T3_R2!M95)))","v":42006},{"$f":"IF(AND(COUNTRY_INFO!J95>1,COUNTRY_INFO!J95<4),IF(COUNTRY_INFO!E95>MAX('MDA4'!R95,'T1'!L95,MAX(T3_R1!K95,T3_R2!K95)),MAX('MDA4'!R95,'T1'!L95,MAX(T3_R1!K95,T3_R2!K95)),COUNTRY_INFO!E95),0)","v":0},{"$f":"IF(AND(COUNTRY_INFO!J95>1,COUNTRY_INFO!J95<4), IF(T95/COUNTRY_INFO!E95*100<>0, IF(T95/COUNTRY_INFO!E95*100>100,100,T95/COUNTRY_INFO!E95*100), \"-\"),0)","v":0},{"$f":"IF(AND(COUNTRY_INFO!J95>1,COUNTRY_INFO!J95<4),IF(COUNTRY_INFO!F95>MAX('MDA1'!K95,'MDA4'!S95,'T1'!M95,MAX(T3_R1!L95,T3_R2!L95)),MAX('MDA1'!K95,'MDA4'!S95,'T1'!M95,MAX(T3_R1!L95,T3_R2!L95)),COUNTRY_INFO!F95),0)","v":0},{"$f":"IF(AND(COUNTRY_INFO!J95>1,COUNTRY_INFO!J95<4), IF(V95/COUNTRY_INFO!F95*100<>0, IF(V95/COUNTRY_INFO!F95*100>100,100,V95/COUNTRY_INFO!F95*100), \"-\"),0)","v":0},0,{"$f":"IF(AND(COUNTRY_INFO!J95>1,COUNTRY_INFO!J95<4), IF(S95/P95*100<>0, IF(X95/P95*100>100,100,X95/P95*100), \"-\"),0)","v":0},{"$f":"COUNTRY_INFO!P95","v":35289.4},null,null,{"$f":"MAX('T1'!L95,'T2'!J95)+MAX('T1'!M95,'T2'!K95)+MAX('T1'!N95,'T2'!L95)","v":42006},{"$f":"IF(COUNTRY_INFO!K95=1,IF(COUNTRY_INFO!F95*0.33>MAX('T1'!M95,'T2'!K95),MAX('T1'!M95,'T2'!K95),COUNTRY_INFO!F95*0.33),IF(COUNTRY_INFO!K95=2,IF(COUNTRY_INFO!F95*0.5>MAX('T1'!M95,'T2'!K95),MAX('T1'!M95,'T2'!K95),COUNTRY_INFO!F95*0.5),IF(COUNTRY_INFO!K95=3,IF(COUNTRY_INFO!F95>MAX('T1'!M95,'T2'!K95),MAX('T1'!M95,'T2'!K95),COUNTRY_INFO!F95),0)))","v":21365},{"$f":"IF(AND(COUNTRY_INFO!K95>0,COUNTRY_INFO!K95<4),IF(Z95>0,IF(COUNTRY_INFO!K95=1, AD95/(COUNTRY_INFO!F95*0.33)*100, IF(COUNTRY_INFO!K95=2, AD95/(COUNTRY_INFO!F95*0.5)*100, IF(COUNTRY_INFO!K95=3, AD95/COUNTRY_INFO!F95*100))),\"-\"),0)","v":100},{"$f":"IF(COUNTRY_INFO!K95=2,IF(COUNTRY_INFO!G95*0.2>MAX('T1'!N95,'T2'!L95),MAX('T1'!N95,'T2'!L95),COUNTRY_INFO!G95*0.2),IF(COUNTRY_INFO!K95=3,IF(COUNTRY_INFO!G95>MAX('T1'!N95,'T2'!L95),MAX('T1'!N95,'T2'!L95),COUNTRY_INFO!G95),0))","v":0},{"$f":"IF(AND(COUNTRY_INFO!K95>0,COUNTRY_INFO!K95<4),IF(Z95>0,IF(COUNTRY_INFO!K95=1, 0, IF(COUNTRY_INFO!K95=2, AF95/(COUNTRY_INFO!G95*0.2)*100, IF(COUNTRY_INFO!K95=3, AF95/COUNTRY_INFO!G95*100))),\"-\"),0)","v":0},21365,{"$f":"IF(AND(COUNTRY_INFO!K95>0,COUNTRY_INFO!K95<4), IF(AC95/Z95*100<>0, IF(AH95/Z95*100>100,100,AH95/Z95*100), \"-\"),0)","v":60.542259148639531},null,{"$f":"IF(AND(D95<>0, D95<>\"Inconnu\",D95<>\"Interrompu\",D95<>\"Non requis\"),D95/COUNTRY_INFO!D95, 0)","v":0},{"$f":"IF(AND(J95<>0,J95<>\"Inconnu\",J95<>\"Interrompu\",J95<>\"Non requis\"),J95/COUNTRY_INFO!D95, 0)","v":1},{"$f":"IF(AND(P95<>0,P95<>\"Inconnu\",P95<>\"Non requis\"),P95/(COUNTRY_INFO!E95+COUNTRY_INFO!F95), 0)","v":0},{"$f":"IF(AND(Z95<>0,Z95<>\"Inconnu\",Z95<>\"Non requis\"),IF(COUNTRY_INFO!K95=1,1,IF(COUNTRY_INFO!K95=2,0.5*COUNTRY_INFO!F95/(0.5*COUNTRY_INFO!F95+0.2*COUNTRY_INFO!G95),IF(COUNTRY_INFO!K95=3,COUNTRY_INFO!F95/(COUNTRY_INFO!F95+COUNTRY_INFO!G95)))),0)","v":0.60542259148639532},{"$f":"IF(AND(Z95<>0,Z95<>\"Inconnu\",Z95<>\"Non requis\"),IF(COUNTRY_INFO!K95=1,0,IF(COUNTRY_INFO!K95=2,0.2*COUNTRY_INFO!G95/(0.5*COUNTRY_INFO!F95+0.2*COUNTRY_INFO!G95),IF(COUNTRY_INFO!K95=3,COUNTRY_INFO!G95/(COUNTRY_INFO!F95+COUNTRY_INFO!G95)))),0)","v":0.39457740851360468},{"$f":"MAX(COUNTRY_INFO!D95*AK95*PROFILE!$G$7,COUNTRY_INFO!D95*AL95*PROFILE!$G$7)","v":5209.2966086630395},{"$f":"MAX(COUNTRY_INFO!D95*AK95*PROFILE!$G$8,COUNTRY_INFO!D95*AL95*PROFILE!$G$8,COUNTRY_INFO!D95*AM95*PROFILE!$G$8)","v":23230.730256255123},{"$f":"MAX(COUNTRY_INFO!D95*AK95*PROFILE!$G$9,COUNTRY_INFO!D95*AL95*PROFILE!$G$9,COUNTRY_INFO!D95*AM95*PROFILE!$G$9,IF(AND(DISTRICT!Z95<>\"Inconnu\",Z95<>\"Non requis\"),COUNTRY_INFO!P95*DISTRICT!AN95,0))","v":42730.334571784981},{"$f":"MAX(COUNTRY_INFO!D95*AK95*PROFILE!$G$10,COUNTRY_INFO!D95*AL95*PROFILE!$G$10,IF(AND(DISTRICT!Z95<>\"Inconnu\",Z95<>\"Non requis\"),COUNTRY_INFO!P95*DISTRICT!AO95,0))","v":69621.63856329686},140792,"Y",{"$f":"MAX('MDA4'!R95,'T1'!L95,'T2'!J95,T3_R1!K95,T3_R2!K95)","v":0},{"$f":"MAX('MDA1'!K95,'MDA4'!S95,'MDA3'!I95,'MDA3'!L95,'T1'!M95,'T2'!K95,T3_R1!L95,T3_R2!L95)","v":42009},{"$f":"MAX('MDA1'!L95,'MDA4'!T95,'MDA3'!J95,'MDA3'!M95,'T1'!N95,'T2'!L95,T3_R1!M95,T3_R2!M95)","v":68914},110923,{"$f":"MAX('MDA4'!R95,T95)","v":0},{"$f":"MAX('MDA1'!K95,'MDA4'!S95,'MDA3'!I95,'MDA3'!L95,V95,AD95)","v":42009},{"$f":"MAX('MDA1'!L95,'MDA4'!T95,'MDA3'!J95,'MDA3'!M95,AF95)","v":68914},110923,78.785016194101942]
[{"$f":"IF(COUNTRY_INFO!A96=0,\" \",COUNTRY_INFO!A96)","v":"Chad"},{"$f":"IF(COUNTRY_INFO!B96=0,\" \",COUNTRY_INFO!B96)","v":"Mayo Kebbi Ouest"},{"$f":"IF(COUNTRY_INFO!C96=0,\" \",COUNTRY_INFO!C96)","v":"Torrock"},{"$f":"COUNTRY_INFO!M96","v":0},null,null,{"$f":"MAX('MDA1'!M96,'MDA4'!U96)","v":0},{"$f":"IF(AND(COUNTRY_INFO!H96>0,COUNTRY_INFO!H96<4),IF(D96>MAX('MDA1'!M96,'MDA4'!U96),MAX('MDA1'!M96,'MDA4'!U96),D96),0)","v":0},{"$f":"IF(AND(COUNTRY_INFO!H96>0,COUNTRY_INFO!H96<4), IF(G96/D96*100<>0, IF(G96/D96*100>100,100,G96/D96*100), \"-\"),0)","v":0},{"$f":"COUNTRY_INFO!N96","v":84873},null,null,{"$f":"MAX('MDA1'!M96,MAX('MDA3'!I96,'MDA3'!L96)+MAX('MDA3'!J96,'MDA3'!M96))","v":65090},{"$f":"IF(AND(COUNTRY_INFO!I96>0,COUNTRY_INFO!I96<4),IF(J96>MAX('MDA1'!M96,MAX('MDA3'!I96,'MDA3'!L96)+MAX('MDA3'!J96,'MDA3'!M96)),MAX('MDA1'!M96,MAX('MDA3'!I96,'MDA3'!L96)+MAX('MDA3'!J96,'MDA3'!M96)),J96),0)","v":65090},{"$f":"IF(AND(COUNTRY_INFO!I96>0,COUNTRY_INFO!I96<4), IF(M96/J96*100<>0, IF(M96/J96*100>100,100,M96/J96*100), \"-\"),0)","v":76.691056048448857},{"$f":"COUNTRY_INFO!O96","v":0},null,null,{"$f":"SUM(MAX('MDA4'!R96, 'T1'!L96, MAX(T3_R1!K96, T3_R2!K96)), MAX('MDA1'!K96, 'MDA4'!S96, 'T1'!M96, MAX(T3_R1!L96, T3_R2!L96)), MAX('MDA1'!L96, 'MDA4'!T96, 'T1'!N96, MAX(T3_R1!M96, T3_R2!M96)))","v":22416},{"$f":"IF(AND(COUNTRY_INFO!J96>1,COUNTRY_INFO!J96<4),IF(COUNTRY_INFO!E96>MAX('MDA4'!R96,'T1'!L96,MAX(T3_R1!K96,T3_R2!K96)),MAX('MDA4'!R96,'T1'!L96,MAX(T3_R1!K96,T3_R2!K96)),COUNTRY_INFO!E96),0)","v":0},{"$f":"IF(AND(COUNTRY_INFO!J96>1,COUNTRY_INFO!J96<4), IF(T96/COUNTRY_INFO!E96*100<>0, IF(T96/COUNTRY_INFO!E96*100>100,100,T96/COUNTRY_INFO!E96*100), \"-\"),0)","v":0},{"$f":"IF(AND(COUNTRY_INFO!J96>1,COUNTRY_INFO!J96<4),IF(COUNTRY_INFO!F96>MAX('MDA1'!K96,'MDA4'!S96,'T1'!M96,MAX(T3_R1!L96,T3_R2!L96)),MAX('MDA1'!K96,'MDA4'!S96,'T1'!M96,MAX(T3_R1!L96,T3_R2!L96)),COUNTRY_INFO!F96),0)","v":0},{"$f":"IF(AND(COUNTRY_INFO!J96>1,COUNTRY_INFO!J96<4), IF(V96/COUNTRY_INFO!F96*100<>0, IF(V96/COUNTRY_INFO!F96*100>100,100,V96/COUNTRY_INFO!F96*100), \"-\"),0)","v":0},0,{"$f":"IF(AND(COUNTRY_INFO!J96>1,COUNTRY_INFO!J96<4), IF(S96/P96*100<>0, IF(X96/P96*100>100,100,X96/P96*100), \"-\"),0)","v":0},{"$f":"COUNTRY_INFO!P96","v":21273.5},null,null,{"$f":"MAX('T1'!L96,'T2'!J96)+MAX('T1'!M96,'T2'!K96)+MAX('T1'!N96,'T2'!L96)","v":22416},{"$f":"IF(COUNTRY_INFO!K96=1,IF(COUNTRY_INFO!F96*0.33>MAX('T1'!M96,'T2'!K96),MAX('T1'!M96,'T2'!K96),COUNTRY_INFO!F96*0.33),IF(COUNTRY_INFO!K96=2,IF(COUNTRY_INFO!F96*0.5>MAX('T1'!M96,'T2'!K96),MAX('T1'!M96,'T2'!K96),COUNTRY_INFO!F96*0.5),IF(COUNTRY_INFO!K96=3,IF(COUNTRY_INFO!F96>MAX('T1'!M96,'T2'!K96),MAX('T1'!M96,'T2'!K96),COUNTRY_INFO!F96),0)))","v":12879.5},{"$f":"IF(AND(COUNTRY_INFO!K96>0,COUNTRY_INFO!K96<4),IF(Z96>0,IF(COUNTRY_INFO!K96=1, AD96/(COUNTRY_INFO!F96*0.33)*100, IF(COUNTRY_INFO!K96=2, AD96/(COUNTRY_INFO!F96*0.5)*100, IF(COUNTRY_INFO!K96=3, AD96/COUNTRY_INFO!F96*100))),\"-\"),0)","v":100},{"$f":"IF(COUNTRY_INFO!K96=2,IF(COUNTRY_INFO!G96*0.2>MAX('T1'!N96,'T2'!L96),MAX('T1'!N96,'T2'!L96),COUNTRY_INFO!G96*0.2),IF(COUNTRY_INFO!K96=3,IF(COUNTRY_INFO!G96>MAX('T1'!N96,'T2'!L96),MAX('T1'!N96,'T2'!L96),COUNTRY_INFO!G96),0))","v":0},{"$f":"IF(AND(COUNTRY_INFO!K96>0,COUNTRY_INFO!K96<4),IF(Z96>0,IF(COUNTRY_INFO!K96=1, 0, IF(COUNTRY_INFO!K96=2, AF96/(COUNTRY_INFO!G96*0.2)*100, IF(COUNTRY_INFO!K96=3, AF96/COUNTRY_INFO!G96*100))),\"-\"),0)","v":0},12879.5,{"$f":"IF(AND(COUNTRY_INFO!K96>0,COUNTRY_INFO!K96<4), IF(AC96/Z96*100<>0, IF(AH96/Z96*100>100,100,AH96/Z96*100), \"-\"),0)","v":60.542458927773993},null,{"$f":"IF(AND(D96<>0, D96<>\"Inconnu\",D96<>\"Interrompu\",D96<>\"Non requis\"),D96/COUNTRY_INFO!D96, 0)","v":0},{"$f":"IF(AND(J96<>0,J96<>\"Inconnu\",J96<>\"Interrompu\",J96<>\"Non requis\"),J96/COUNTRY_INFO!D96, 0)","v":1},{"$f":"IF(AND(P96<>0,P96<>\"Inconnu\",P96<>\"Non requis\"),P96/(COUNTRY_INFO!E96+COUNTRY_INFO!F96), 0)","v":0},{"$f":"IF(AND(Z96<>0,Z96<>\"Inconnu\",Z96<>\"Non requis\"),IF(COUNTRY_INFO!K96=1,1,IF(COUNTRY_INFO!K96=2,0.5*COUNTRY_INFO!F96/(0.5*COUNTRY_INFO!F96+0.2*COUNTRY_INFO!G96),IF(COUNTRY_INFO!K96=3,COUNTRY_INFO!F96/(COUNTRY_INFO!F96+COUNTRY_INFO!G96)))),0)","v":0.6054245892777399},{"$f":"IF(AND(Z96<>0,Z96<>\"Inconnu\",Z96<>\"Non requis\"),IF(COUNTRY_INFO!K96=1,0,IF(COUNTRY_INFO!K96=2,0.2*COUNTRY_INFO!G96/(0.5*COUNTRY_INFO!F96+0.2*COUNTRY_INFO!G96),IF(COUNTRY_INFO!K96=3,COUNTRY_INFO!G96/(COUNTRY_INFO!F96+COUNTRY_INFO!G96)))),0)","v":0.3945754107222601},{"$f":"MAX(COUNTRY_INFO!D96*AK96*PROFILE!$G$7,COUNTRY_INFO!D96*AL96*PROFILE!$G$7)","v":3140.2965443140101},{"$f":"MAX(COUNTRY_INFO!D96*AK96*PROFILE!$G$8,COUNTRY_INFO!D96*AL96*PROFILE!$G$8,COUNTRY_INFO!D96*AM96*PROFILE!$G$8)","v":14004.075295749339},{"$f":"MAX(COUNTRY_INFO!D96*AK96*PROFILE!$G$9,COUNTRY_INFO!D96*AL96*PROFILE!$G$9,COUNTRY_INFO!D96*AM96*PROFILE!$G$9,IF(AND(DISTRICT!Z96<>\"Inconnu\",Z96<>\"Non requis\"),COUNTRY_INFO!P96*DISTRICT!AN96,0))","v":25758.932937319638},{"$f":"MAX(COUNTRY_INFO!D96*AK96*PROFILE!$G$10,COUNTRY_INFO!D96*AL96*PROFILE!$G$10,IF(AND(DISTRICT!Z96<>\"Inconnu\",Z96<>\"Non requis\"),COUNTRY_INFO!P96*DISTRICT!AO96,0))","v":41969.695222617011},84873,"Y",{"$f":"MAX('MDA4'!R96,'T1'!L96,'T2'!J96,T3_R1!K96,T3_R2!K96)","v":0},{"$f":"MAX('MDA1'!K96,'MDA4'!S96,'MDA3'!I96,'MDA3'!L96,'T1'!M96,'T2'!K96,T3_R1!L96,T3_R2!L96)","v":24066},{"$f":"MAX('MDA1'!L96,'MDA4'!T96,'MDA3'!J96,'MDA3'!M96,'T1'!N96,'T2'!L96,T3_R1!M96,T3_R2!M96)","v":41024},65090,{"$f":"MAX('MDA4'!R96,T96)","v":0},{"$f":"MAX('MDA1'!K96,'MDA4'!S96,'MDA3'!I96,'MDA3'!L96,V96,AD96)","v":24066},{"$f":"MAX('MDA1'!L96,'MDA4'!T96,'MDA3'!J96,'MDA3'!M96,AF96)","v":41024},65090,76.691056048448857]
[{"$f":"IF(COUNTRY_INFO!A97=0,\" \",COUNTRY_INFO!A97)","v":"Chad"},{"$f":"IF(COUNTRY_INFO!B97=0,\" \",COUNTRY_INFO!B97)","v":"Moyen Chari"},{"$f":"IF(COUNTRY_INFO!C97=0,\" \",COUNTRY_INFO!C97)","v":"Balimba"},{"$f":"COUNTRY_INFO!M97","v":85188},null,null,{"$f":"MAX('MDA1'!M97,'MDA4'!U97)","v":66767},{"$f":"IF(AND(COUNTRY_INFO!H97>0,COUNTRY_INFO!H97<4),IF(D97>MAX('MDA1'!M97,'MDA4'!U97),MAX('MDA1'!M97,'MDA4'!U97),D97),0)","v":66767},{"$f":"IF(AND(COUNTRY_INFO!H97>0,COUNTRY_INFO!H97<4), IF(G97/D97*100<>0, IF(G97/D97*100>100,100,G97/D97*100), \"-\"),0)","v":78.376062356200407},{"$f":"COUNTRY_INFO!N97","v":85188},null,null,{"$f":"MAX('MDA1'!M97,MAX('MDA3'!I97,'MDA3'!L97)+MAX('MDA3'!J97,'MDA3'!M97))","v":66767},{"$f":"IF(AND(COUNTRY_INFO!I97>0,COUNTRY_INFO!I97<4),IF(J97>MAX('MDA1'!M97,MAX('MDA3'!I97,'MDA3'!L97)+MAX('MDA3'!J97,'MDA3'!M97)),MAX('MDA1'!M97,MAX('MDA3'!I97,'MDA3'!L97)+MAX('MDA3'!J97,'MDA3'!M97)),J97),0)","v":66767},{"$f":"IF(AND(COUNTRY_INFO!I97>0,COUNTRY_INFO!I97<4), IF(M97/J97*100<>0, IF(M97/J97*100>100,100,M97/J97*100), \"-\"),0)","v":78.376062356200407},{"$f":"COUNTRY_INFO!O97","v":39911},null,null,{"$f":"SUM(MAX('MDA4'!R97, 'T1'!L97, MAX(T3_R1!K97, T3_R2!K97)), MAX('MDA1'!K97, 'MDA4'!S97, 'T1'!M97, MAX(T3_R1!L97, T3_R2!L97)), MAX('MDA1'!L97, 'MDA4'!T97, 'T1'!N97, MAX(T3_R1!M97, T3_R2!M97)))","v":66767},{"$f":"IF(AND(COUNTRY_INFO!J97>1,COUNTRY_INFO!J97<4),IF(COUNTRY_INFO!E97>MAX('MDA4'!R97,'T1'!L97,MAX(T3_R1!K97,T3_R2!K97)),MAX('MDA4'!R97,'T1'!L97,MAX(T3_R1!K97,T3_R2!K97)),COUNTRY_INFO!E97),0)","v":0},{"$f":"IF(AND(COUNTRY_INFO!J97>1,COUNTRY_INFO!J97<4), IF(T97/COUNTRY_INFO!E97*100<>0, IF(T97/COUNTRY_INFO!E97*100>100,100,T97/COUNTRY_INFO!E97*100), \"-\"),0)","v":"-"},{"$f":"IF(AND(COUNTRY_INFO!J97>1,COUNTRY_INFO!J97<4),IF(COUNTRY_INFO!F97>MAX('MDA1'!K97,'MDA4'!S97,'T1'!M97,MAX(T3_R1!L97,T3_R2!L97)),MAX('MDA1'!K97,'MDA4'!S97,'T1'!M97,MAX(T3_R1!L97,T3_R2!L97)),COUNTRY_INFO!F97),0)","v":25144},{"$f":"IF(AND(COUNTRY_INFO!J97>1,COUNTRY_INFO!J97<4), IF(V97/COUNTRY_INFO!F97*100<>0, IF(V97/COUNTRY_INFO!F97*100>100,100,V97/COUNTRY_INFO!F97*100), \"-\"),0)","v":97.250048346548056},25144,{"$f":"IF(AND(COUNTRY_INFO!J97>1,COUNTRY_INFO!J97<4), IF(S97/P97*100<>0, IF(X97/P97*100>100,100,X97/P97*100), \"-\"),0)","v":63.000175390243299},{"$f":"COUNTRY_INFO!P97","v":21352.5},null,null,{"$f":"MAX('T1'!L97,'T2'!J97)+MAX('T1'!M97,'T2'!K97)+MAX('T1'!N97,'T2'!L97)","v":25741},{"$f":"IF(COUNTRY_INFO!K97=1,IF(COUNTRY_INFO!F97*0.33>MAX('T1'!M97,'T2'!K97),MAX('T1'!M97,'T2'!K97),COUNTRY_INFO!F97*0.33),IF(COUNTRY_INFO!K97=2,IF(COUNTRY_INFO!F97*0.5>MAX('T1'!M97,'T2'!K97),MAX('T1'!M97,'T2'!K97),COUNTRY_INFO!F97*0.5),IF(COUNTRY_INFO!K97=3,IF(COUNTRY_INFO!F97>MAX('T1'!M97,'T2'!K97),MAX('T1'!M97,'T2'!K97),COUNTRY_INFO!F97),0)))","v":12927.5},{"$f":"IF(AND(COUNTRY_INFO!K97>0,COUNTRY_INFO!K97<4),IF(Z97>0,IF(COUNTRY_INFO!K97=1, AD97/(COUNTRY_INFO!F97*0.33)*100, IF(COUNTRY_INFO!K97=2, AD97/(COUNTRY_INFO!F97*0.5)*100, IF(COUNTRY_INFO!K97=3, AD97/COUNTRY_INFO!F97*100))),\"-\"),0)","v":100},{"$f":"IF(COUNTRY_INFO!K97=2,IF(COUNTRY_INFO!G97*0.2>MAX('T1'!N97,'T2'!L97),MAX('T1'!N97,'T2'!L97),COUNTRY_INFO!G97*0.2),IF(COUNTRY_INFO!K97=3,IF(COUNTRY_INFO!G97>MAX('T1'!N97,'T2'!L97),MAX('T1'!N97,'T2'!L97),COUNTRY_INFO!G97),0))","v":0},{"$f":"IF(AND(COUNTRY_INFO!K97>0,COUNTRY_INFO!K97<4),IF(Z97>0,IF(COUNTRY_INFO!K97=1, 0, IF(COUNTRY_INFO!K97=2, AF97/(COUNTRY_INFO!G97*0.2)*100, IF(COUNTRY_INFO!K97=3, AF97/COUNTRY_INFO!G97*100))),\"-\"),0)","v":0},12927.5,{"$f":"IF(AND(COUNTRY_INFO!K97>0,COUNTRY_INFO!K97<4), IF(AC97/Z97*100<>0, IF(AH97/Z97*100>100,100,AH97/Z97*100), \"-\"),0)","v":60.543261913124923},null,{"$f":"IF(AND(D97<>0, D97<>\"Inconnu\",D97<>\"Interrompu\",D97<>\"Non requis\"),D97/COUNTRY_INFO!D97, 0)","v":1},{"$f":"IF(AND(J97<>0,J97<>\"Inconnu\",J97<>\"Interrompu\",J97<>\"Non requis\"),J97/COUNTRY_INFO!D97, 0)","v":1},{"$f":"IF(AND(P97<>0,P97<>\"Inconnu\",P97<>\"Non requis\"),P97/(COUNTRY_INFO!E97+COUNTRY_INFO!F97), 0)","v":1},{"$f":"IF(AND(Z97<>0,Z97<>\"Inconnu\",Z97<>\"Non requis\"),IF(COUNTRY_INFO!K97=1,1,IF(COUNTRY_INFO!K97=2,0.5*COUNTRY_INFO!F97/(0.5*COUNTRY_INFO!F97+0.2*COUNTRY_INFO!G97),IF(COUNTRY_INFO!K97=3,COUNTRY_INFO!F97/(COUNTRY_INFO!F97+COUNTRY_INFO!G97)))),0)","v":0.60543261913124924},{"$f":"IF(AND(Z97<>0,Z97<>\"Inconnu\",Z97<>\"Non requis\"),IF(COUNTRY_INFO!K97=1,0,IF(COUNTRY_INFO!K97=2,0.2*COUNTRY_INFO!G97/(0.5*COUNTRY_INFO!F97+0.2*COUNTRY_INFO!G97),IF(COUNTRY_INFO!K97=3,COUNTRY_INFO!G97/(COUNTRY_INFO!F97+COUNTRY_INFO!G97)))),0)","v":0.39456738086875071},{"$f":"MAX(COUNTRY_INFO!D97*AK97*PROFILE!$G$7,COUNTRY_INFO!D97*AL97*PROFILE!$G$7)","v":3151.9515277770538},{"$f":"MAX(COUNTRY_INFO!D97*AK97*PROFILE!$G$8,COUNTRY_INFO!D97*AL97*PROFILE!$G$8,COUNTRY_INFO!D97*AM97*PROFILE!$G$8)","v":14056.050408189822},{"$f":"MAX(COUNTRY_INFO!D97*AK97*PROFILE!$G$9,COUNTRY_INFO!D97*AL97*PROFILE!$G$9,COUNTRY_INFO!D97*AM97*PROFILE!$G$9,IF(AND(DISTRICT!Z97<>\"Inconnu\",Z97<>\"Non requis\"),COUNTRY_INFO!P97*DISTRICT!AN97,0))","v":25854.535353579882},{"$f":"MAX(COUNTRY_INFO!D97*AK97*PROFILE!$G$10,COUNTRY_INFO!D97*AL97*PROFILE!$G$10,IF(AND(DISTRICT!Z97<>\"Inconnu\",Z97<>\"Non requis\"),COUNTRY_INFO!P97*DISTRICT!AO97,0))","v":42125.462710453241},85188,"Y",{"$f":"MAX('MDA4'!R97,'T1'!L97,'T2'!J97,T3_R1!K97,T3_R2!K97)","v":0},{"$f":"MAX('MDA1'!K97,'MDA4'!S97,'MDA3'!I97,'MDA3'!L97,'T1'!M97,'T2'!K97,T3_R1!L97,T3_R2!L97)","v":25741},{"$f":"MAX('MDA1'!L97,'MDA4'!T97,'MDA3'!J97,'MDA3'!M97,'T1'!N97,'T2'!L97,T3_R1!M97,T3_R2!M97)","v":41623},67364,{"$f":"MAX('MDA4'!R97,T97)","v":0},{"$f":"MAX('MDA1'!K97,'MDA4'!S97,'MDA3'!I97,'MDA3'!L97,V97,AD97)","v":25144},{"$f":"MAX('MDA1'!L97,'MDA4'!T97,'MDA3'!J97,'MDA3'!M97,AF97)","v":41623},66767,78.376062356200407]
[{"$f":"IF(COUNTRY_INFO!A98=0,\" \",COUNTRY_INFO!A98)","v":"Chad"},{"$f":"IF(COUNTRY_INFO!B98=0,\" \",COUNTRY_INFO!B98)","v":"Moyen Chari"},{"$f":"IF(COUNTRY_INFO!C98=0,\" \",COUNTRY_INFO!C98)","v":"Biobe Singako"},{"$f":"COUNTRY_INFO!M98","v":91962},null,null,{"$f":"MAX('MDA1'!M98,'MDA4'!U98)","v":71714},{"$f":"IF(AND(COUNTRY_INFO!H98>0,COUNTRY_INFO!H98<4),IF(D98>MAX('MDA1'!M98,'MDA4'!U98),MAX('MDA1'!M98,'MDA4'!U98),D98),0)","v":71714},{"$f":"IF(AND(COUNTRY_INFO!H98>0,COUNTRY_INFO!H98<4), IF(G98/D98*100<>0, IF(G98/D98*100>100,100,G98/D98*100), \"-\"),0)","v":77.982210043278741},{"$f":"COUNTRY_INFO!N98","v":91962},null,null,{"$f":"MAX('MDA1'!M98,MAX('MDA3'!I98,'MDA3'!L98)+MAX('MDA3'!J98,'MDA3'!M98))","v":71714},{"$f":"IF(AND(COUNTRY_INFO!I98>0,COUNTRY_INFO!I98<4),IF(J98>MAX('MDA1'!M98,MAX('MDA3'!I98,'MDA3'!L98)+MAX('MDA3'!J98,'MDA3'!M98)),MAX('MDA1'!M98,MAX('MDA3'!I98,'MDA3'!L98)+MAX('MDA3'!J98,'MDA3'!M98)),J98),0)","v":71714},{"$f":"IF(AND(COUNTRY_INFO!I98>0,COUNTRY_INFO!I98<4), IF(M98/J98*100<>0, IF(M98/J98*100>100,100,M98/J98*100), \"-\"),0)","v":77.982210043278741},{"$f":"COUNTRY_INFO!O98","v":0},null,null,{"$f":"SUM(MAX('MDA4'!R98, 'T1'!L98, MAX(T3_R1!K98, T3_R2!K98)), MAX('MDA1'!K98, 'MDA4'!S98, 'T1'!M98, MAX(T3_R1!L98, T3_R2!L98)), MAX('MDA1'!L98, 'MDA4'!T98, 'T1'!N98, MAX(T3_R1!M98, T3_R2!M98)))","v":71714},{"$f":"IF(AND(COUNTRY_INFO!J98>1,COUNTRY_INFO!J98<4),IF(COUNTRY_INFO!E98>MAX('MDA4'!R98,'T1'!L98,MAX(T3_R1!K98,T3_R2!K98)),MAX('MDA4'!R98,'T1'!L98,MAX(T3_R1!K98,T3_R2!K98)),COUNTRY_INFO!E98),0)","v":0},{"$f":"IF(AND(COUNTRY_INFO!J98>1,COUNTRY_INFO!J98<4), IF(T98/COUNTRY_INFO!E98*100<>0, IF(T98/COUNTRY_INFO!E98*100>100,100,T98/COUNTRY_INFO!E98*100), \"-\"),0)","v":0},{"$f":"IF(AND(COUNTRY_INFO!J98>1,COUNTRY_INFO!J98<4),IF(COUNTRY_INFO!F98>MAX('MDA1'!K98,'MDA4'!S98,'T1'!M98,MAX(T3_R1!L98,T3_R2!L98)),MAX('MDA1'!K98,'MDA4'!S98,'T1'!M98,MAX(T3_R1!L98,T3_R2!L98)),COUNTRY_INFO!F98),0)","v":0},{"$f":"IF(AND(COUNTRY_INFO!J98>1,COUNTRY_INFO!J98<4), IF(V98/COUNTRY_INFO!F98*100<>0, IF(V98/COUNTRY_INFO!F98*100>100,100,V98/COUNTRY_INFO!F98*100), \"-\"),0)","v":0},0,{"$f":"IF(AND(COUNTRY_INFO!J98>1,COUNTRY_INFO!J98<4), IF(S98/P98*100<>0, IF(X98/P98*100>100,100,X98/P98*100), \"-\"),0)","v":0},{"$f":"COUNTRY_INFO!P98","v":23050},null,null,{"$f":"MAX('T1'!L98,'T2'!J98)+MAX('T1'!M98,'T2'!K98)+MAX('T1'!N98,'T2'!L98)","v":26008},{"$f":"IF(COUNTRY_INFO!K98=1,IF(COUNTRY_INFO!F98*0.33>MAX('T1'!M98,'T2'!K98),MAX('T1'!M98,'T2'!K98),COUNTRY_INFO!F98*0.33),IF(COUNTRY_INFO!K98=2,IF(COUNTRY_INFO!F98*0.5>MAX('T1'!M98,'T2'!K98),MAX('T1'!M98,'T2'!K98),COUNTRY_INFO!F98*0.5),IF(COUNTRY_INFO!K98=3,IF(COUNTRY_INFO!F98>MAX('T1'!M98,'T2'!K98),MAX('T1'!M98,'T2'!K98),COUNTRY_INFO!F98),0)))","v":13955},{"$f":"IF(AND(COUNTRY_INFO!K98>0,COUNTRY_INFO!K98<4),IF(Z98>0,IF(COUNTRY_INFO!K98=1, AD98/(COUNTRY_INFO!F98*0.33)*100, IF(COUNTRY_INFO!K98=2, AD98/(COUNTRY_INFO!F98*0.5)*100, IF(COUNTRY_INFO!K98=3, AD98/COUNTRY_INFO!F98*100))),\"-\"),0)","v":100},{"$f":"IF(COUNTRY_INFO!K98=2,IF(COUNTRY_INFO!G98*0.2>MAX('T1'!N98,'T2'!L98),MAX('T1'!N98,'T2'!L98),COUNTRY_INFO!G98*0.2),IF(COUNTRY_INFO!K98=3,IF(COUNTRY_INFO!G98>MAX('T1'!N98,'T2'!L98),MAX('T1'!N98,'T2'!L98),COUNTRY_INFO!G98),0))","v":0},{"$f":"IF(AND(COUNTRY_INFO!K98>0,COUNTRY_INFO!K98<4),IF(Z98>0,IF(COUNTRY_INFO!K98=1, 0, IF(COUNTRY_INFO!K98=2, AF98/(COUNTRY_INFO!G98*0.2)*100, IF(COUNTRY_INFO!K98=3, AF98/COUNTRY_INFO!G98*100))),\"-\"),0)","v":0},13955,{"$f":"IF(AND(COUNTRY_INFO!K98>0,COUNTRY_INFO!K98<4), IF(AC98/Z98*100<>0, IF(AH98/Z98*100>100,100,AH98/Z98*100), \"-\"),0)","v":60.542299349240778},null,{"$f":"IF(AND(D98<>0, D98<>\"Inconnu\",D98<>\"Interrompu\",D98<>\"Non requis\"),D98/COUNTRY_INFO!D98, 0)","v":1},{"$f":"IF(AND(J98<>0,J98<>\"Inconnu\",J98<>\"Interrompu\",J98<>\"Non requis\"),J98/COUNTRY_INFO!D98, 0)","v":1},{"$f":"IF(AND(P98<>0,P98<>\"Inconnu\",P98<>\"Non requis\"),P98/(COUNTRY_INFO!E98+COUNTRY_INFO!F98), 0)","v":0},{"$f":"IF(AND(Z98<>0,Z98<>\"Inconnu\",Z98<>\"Non requis\"),IF(COUNTRY_INFO!K98=1,1,IF(COUNTRY_INFO!K98=2,0.5*COUNTRY_INFO!F98/(0.5*COUNTRY_INFO!F98+0.2*COUNTRY_INFO!G98),IF(COUNTRY_INFO!K98=3,COUNTRY_INFO!F98/(COUNTRY_INFO!F98+COUNTRY_INFO!G98)))),0)","v":0.6054229934924078},{"$f":"IF(AND(Z98<>0,Z98<>\"Inconnu\",Z98<>\"Non requis\"),IF(COUNTRY_INFO!K98=1,0,IF(COUNTRY_INFO!K98=2,0.2*COUNTRY_INFO!G98/(0.5*COUNTRY_INFO!F98+0.2*COUNTRY_INFO!G98),IF(COUNTRY_INFO!K98=3,COUNTRY_INFO!G98/(COUNTRY_INFO!F98+COUNTRY_INFO!G98)))),0)","v":0.3945770065075922},{"$f":"MAX(COUNTRY_INFO!D98*AK98*PROFILE!$G$7,COUNTRY_INFO!D98*AL98*PROFILE!$G$7)","v":3402.5891721537473},{"$f":"MAX(COUNTRY_INFO!D98*AK98*PROFILE!$G$8,COUNTRY_INFO!D98*AL98*PROFILE!$G$8,COUNTRY_INFO!D98*AM98*PROFILE!$G$8)","v":15173.76282619562},{"$f":"MAX(COUNTRY_INFO!D98*AK98*PROFILE!$G$9,COUNTRY_INFO!D98*AL98*PROFILE!$G$9,COUNTRY_INFO!D98*AM98*PROFILE!$G$9,IF(AND(DISTRICT!Z98<>\"Inconnu\",Z98<>\"Non requis\"),COUNTRY_INFO!P98*DISTRICT!AN98,0))","v":27910.442552776367},{"$f":"MAX(COUNTRY_INFO!D98*AK98*PROFILE!$G$10,COUNTRY_INFO!D98*AL98*PROFILE!$G$10,IF(AND(DISTRICT!Z98<>\"Inconnu\",Z98<>\"Non requis\"),COUNTRY_INFO!P98*DISTRICT!AO98,0))","v":45475.205448874265},91962,"Y",{"$f":"MAX('MDA4'!R98,'T1'!L98,'T2'!J98,T3_R1!K98,T3_R2!K98)","v":0},{"$f":"MAX('MDA1'!K98,'MDA4'!S98,'MDA3'!I98,'MDA3'!L98,'T1'!M98,'T2'!K98,T3_R1!L98,T3_R2!L98)","v":27769},{"$f":"MAX('MDA1'!L98,'MDA4'!T98,'MDA3'!J98,'MDA3'!M98,'T1'!N98,'T2'!L98,T3_R1!M98,T3_R2!M98)","v":43945},71714,{"$f":"MAX('MDA4'!R98,T98)","v":0},{"$f":"MAX('MDA1'!K98,'MDA4'!S98,'MDA3'!I98,'MDA3'!L98,V98,AD98)","v":27769},{"$f":"MAX('MDA1'!L98,'MDA4'!T98,'MDA3'!J98,'MDA3'!M98,AF98)","v":43945},71714,77.982210043278741]
[{"$f":"IF(COUNTRY_INFO!A99=0,\" \",COUNTRY_INFO!A99)","v":"Chad"},{"$f":"IF(COUNTRY_INFO!B99=0,\" \",COUNTRY_INFO!B99)","v":"Moyen Chari"},{"$f":"IF(COUNTRY_INFO!C99=0,\" \",COUNTRY_INFO!C99)","v":"Danamadji"},{"$f":"COUNTRY_INFO!M99","v":201723},null,null,{"$f":"MAX('MDA1'!M99,'MDA4'!U99)","v":141266},{"$f":"IF(AND(COUNTRY_INFO!H99>0,COUNTRY_INFO!H99<4),IF(D99>MAX('MDA1'!M99,'MDA4'!U99),MAX('MDA1'!M99,'MDA4'!U99),D99),0)","v":141266},{"$f":"IF(AND(COUNTRY_INFO!H99>0,COUNTRY_INFO!H99<4), IF(G99/D99*100<>0, IF(G99/D99*100>100,100,G99/D99*100), \"-\"),0)","v":70.029694184599677},{"$f":"COUNTRY_INFO!N99","v":201723},null,null,{"$f":"MAX('MDA1'!M99,MAX('MDA3'!I99,'MDA3'!L99)+MAX('MDA3'!J99,'MDA3'!M99))","v":141266},{"$f":"IF(AND(COUNTRY_INFO!I99>0,COUNTRY_INFO!I99<4),IF(J99>MAX('MDA1'!M99,MAX('MDA3'!I99,'MDA3'!L99)+MAX('MDA3'!J99,'MDA3'!M99)),MAX('MDA1'!M99,MAX('MDA3'!I99,'MDA3'!L99)+MAX('MDA3'!J99,'MDA3'!M99)),J99),0)","v":141266},{"$f":"IF(AND(COUNTRY_INFO!I99>0,COUNTRY_INFO!I99<4), IF(M99/J99*100<>0, IF(M99/J99*100>100,100,M99/J99*100), \"-\"),0)","v":70.029694184599677},{"$f":"COUNTRY_INFO!O99","v":0},null,null,{"$f":"SUM(MAX('MDA4'!R99, 'T1'!L99, MAX(T3_R1!K99, T3_R2!K99)), MAX('MDA1'!K99, 'MDA4'!S99, 'T1'!M99, MAX(T3_R1!L99, T3_R2!L99)), MAX('MDA1'!L99, 'MDA4'!T99, 'T1'!N99, MAX(T3_R1!M99, T3_R2!M99)))","v":141266},{"$f":"IF(AND(COUNTRY_INFO!J99>1,COUNTRY_INFO!J99<4),IF(COUNTRY_INFO!E99>MAX('MDA4'!R99,'T1'!L99,MAX(T3_R1!K99,T3_R2!K99)),MAX('MDA4'!R99,'T1'!L99,MAX(T3_R1!K99,T3_R2!K99)),COUNTRY_INFO!E99),0)","v":0},{"$f":"IF(AND(COUNTRY_INFO!J99>1,COUNTRY_INFO!J99<4), IF(T99/COUNTRY_INFO!E99*100<>0, IF(T99/COUNTRY_INFO!E99*100>100,100,T99/COUNTRY_INFO!E99*100), \"-\"),0)","v":0},{"$f":"IF(AND(COUNTRY_INFO!J99>1,COUNTRY_INFO!J99<4),IF(COUNTRY_INFO!F99>MAX('MDA1'!K99,'MDA4'!S99,'T1'!M99,MAX(T3_R1!L99,T3_R2!L99)),MAX('MDA1'!K99,'MDA4'!S99,'T1'!M99,MAX(T3_R1!L99,T3_R2!L99)),COUNTRY_INFO!F99),0)","v":0},{"$f":"IF(AND(COUNTRY_INFO!J99>1,COUNTRY_INFO!J99<4), IF(V99/COUNTRY_INFO!F99*100<>0, IF(V99/COUNTRY_INFO!F99*100>100,100,V99/COUNTRY_INFO!F99*100), \"-\"),0)","v":0},0,{"$f":"IF(AND(COUNTRY_INFO!J99>1,COUNTRY_INFO!J99<4), IF(S99/P99*100<>0, IF(X99/P99*100>100,100,X99/P99*100), \"-\"),0)","v":0},{"$f":"COUNTRY_INFO!P99","v":20203.59},null,null,{"$f":"MAX('T1'!L99,'T2'!J99)+MAX('T1'!M99,'T2'!K99)+MAX('T1'!N99,'T2'!L99)","v":60235},{"$f":"IF(COUNTRY_INFO!K99=1,IF(COUNTRY_INFO!F99*0.33>MAX('T1'!M99,'T2'!K99),MAX('T1'!M99,'T2'!K99),COUNTRY_INFO!F99*0.33),IF(COUNTRY_INFO!K99=2,IF(COUNTRY_INFO!F99*0.5>MAX('T1'!M99,'T2'!K99),MAX('T1'!M99,'T2'!K99),COUNTRY_INFO!F99*0.5),IF(COUNTRY_INFO!K99=3,IF(COUNTRY_INFO!F99>MAX('T1'!M99,'T2'!K99),MAX('T1'!M99,'T2'!K99),COUNTRY_INFO!F99),0)))","v":20203.59},{"$f":"IF(AND(COUNTRY_INFO!K99>0,COUNTRY_INFO!K99<4),IF(Z99>0,IF(COUNTRY_INFO!K99=1, AD99/(COUNTRY_INFO!F99*0.33)*100, IF(COUNTRY_INFO!K99=2, AD99/(COUNTRY_INFO!F99*0.5)*100, IF(COUNTRY_INFO!K99=3, AD99/COUNTRY_INFO!F99*100))),\"-\"),0)","v":100},{"$f":"IF(COUNTRY_INFO!K99=2,IF(COUNTRY_INFO!G99*0.2>MAX('T1'!N99,'T2'!L99),MAX('T1'!N99,'T2'!L99),COUNTRY_INFO!G99*0.2),IF(COUNTRY_INFO!K99=3,IF(COUNTRY_INFO!G99>MAX('T1'!N99,'T2'!L99),MAX('T1'!N99,'T2'!L99),COUNTRY_INFO!G99),0))","v":0},{"$f":"IF(AND(COUNTRY_INFO!K99>0,COUNTRY_INFO!K99<4),IF(Z99>0,IF(COUNTRY_INFO!K99=1, 0, IF(COUNTRY_INFO!K99=2, AF99/(COUNTRY_INFO!G99*0.2)*100, IF(COUNTRY_INFO!K99=3, AF99/COUNTRY_INFO!G99*100))),\"-\"),0)","v":0},20203.59,{"$f":"IF(AND(COUNTRY_INFO!K99>0,COUNTRY_INFO!K99<4), IF(AC99/Z99*100<>0, IF(AH99/Z99*100>100,100,AH99/Z99*100), \"-\"),0)","v":100},null,{"$f":"IF(AND(D99<>0, D99<>\"Inconnu\",D99<>\"Interrompu\",D99<>\"Non requis\"),D99/COUNTRY_INFO!D99, 0)","v":1},{"$f":"IF(AND(J99<>0,J99<>\"Inconnu\",J99<>\"Interrompu\",J99<>\"Non requis\"),J99/COUNTRY_INFO!D99, 0)","v":1},{"$f":"IF(AND(P99<>0,P99<>\"Inconnu\",P99<>\"Non requis\"),P99/(COUNTRY_INFO!E99+COUNTRY_INFO!F99), 0)","v":0},{"$f":"IF(AND(Z99<>0,Z99<>\"Inconnu\",Z99<>\"Non requis\"),IF(COUNTRY_INFO!K99=1,1,IF(COUNTRY_INFO!K99=2,0.5*COUNTRY_INFO!F99/(0.5*COUNTRY_INFO!F99+0.2*COUNTRY_INFO!G99),IF(COUNTRY_INFO!K99=3,COUNTRY_INFO!F99/(COUNTRY_INFO!F99+COUNTRY_INFO!G99)))),0)","v":1},{"$f":"IF(AND(Z99<>0,Z99<>\"Inconnu\",Z99<>\"Non requis\"),IF(COUNTRY_INFO!K99=1,0,IF(COUNTRY_INFO!K99=2,0.2*COUNTRY_INFO!G99/(0.5*COUNTRY_INFO!F99+0.2*COUNTRY_INFO!G99),IF(COUNTRY_INFO!K99=3,COUNTRY_INFO!G99/(COUNTRY_INFO!F99+COUNTRY_INFO!G99)))),0)","v":0},{"$f":"MAX(COUNTRY_INFO!D99*AK99*PROFILE!$G$7,COUNTRY_INFO!D99*AL99*PROFILE!$G$7)","v":7463.74040989072},{"$f":"MAX(COUNTRY_INFO!D99*AK99*PROFILE!$G$8,COUNTRY_INFO!D99*AL99*PROFILE!$G$8,COUNTRY_INFO!D99*AM99*PROFILE!$G$8)","v":33284.367005813911},{"$f":"MAX(COUNTRY_INFO!D99*AK99*PROFILE!$G$9,COUNTRY_INFO!D99*AL99*PROFILE!$G$9,COUNTRY_INFO!D99*AM99*PROFILE!$G$9,IF(AND(DISTRICT!Z99<>\"Inconnu\",Z99<>\"Non requis\"),COUNTRY_INFO!P99*DISTRICT!AN99,0))","v":61222.876873857756},{"$f":"MAX(COUNTRY_INFO!D99*AK99*PROFILE!$G$10,COUNTRY_INFO!D99*AL99*PROFILE!$G$10,IF(AND(DISTRICT!Z99<>\"Inconnu\",Z99<>\"Non requis\"),COUNTRY_INFO!P99*DISTRICT!AO99,0))","v":99752.015710437612},201723,"Y",{"$f":"MAX('MDA4'!R99,'T1'!L99,'T2'!J99,T3_R1!K99,T3_R2!K99)","v":0},{"$f":"MAX('MDA1'!K99,'MDA4'!S99,'MDA3'!I99,'MDA3'!L99,'T1'!M99,'T2'!K99,T3_R1!L99,T3_R2!L99)","v":60235},{"$f":"MAX('MDA1'!L99,'MDA4'!T99,'MDA3'!J99,'MDA3'!M99,'T1'!N99,'T2'!L99,T3_R1!M99,T3_R2!M99)","v":89036},149271,{"$f":"MAX('MDA4'!R99,T99)","v":0},{"$f":"MAX('MDA1'!K99,'MDA4'!S99,'MDA3'!I99,'MDA3'!L99,V99,AD99)","v":52230},{"$f":"MAX('MDA1'!L99,'MDA4'!T99,'MDA3'!J99,'MDA3'!M99,AF99)","v":89036},141266,70.029694184599677]
[{"$f":"IF(COUNTRY_INFO!A100=0,\" \",COUNTRY_INFO!A100)","v":"Chad"},{"$f":"IF(COUNTRY_INFO!B100=0,\" \",COUNTRY_INFO!B100)","v":"Moyen Chari"},{"$f":"IF(COUNTRY_INFO!C100=0,\" \",COUNTRY_INFO!C100)","v":"Korbol"},{"$f":"COUNTRY_INFO!M100","v":151799},null,null,{"$f":"MAX('MDA1'!M100,'MDA4'!U100)","v":115811},{"$f":"IF(AND(COUNTRY_INFO!H100>0,COUNTRY_INFO!H100<4),IF(D100>MAX('MDA1'!M100,'MDA4'!U100),MAX('MDA1'!M100,'MDA4'!U100),D100),0)","v":115811},{"$f":"IF(AND(COUNTRY_INFO!H100>0,COUNTRY_INFO!H100<4), IF(G100/D100*100<>0, IF(G100/D100*100>100,100,G100/D100*100), \"-\"),0)","v":76.29233394159381},{"$f":"COUNTRY_INFO!N100","v":151799},null,null,{"$f":"MAX('MDA1'!M100,MAX('MDA3'!I100,'MDA3'!L100)+MAX('MDA3'!J100,'MDA3'!M100))","v":115811},{"$f":"IF(AND(COUNTRY_INFO!I100>0,COUNTRY_INFO!I100<4),IF(J100>MAX('MDA1'!M100,MAX('MDA3'!I100,'MDA3'!L100)+MAX('MDA3'!J100,'MDA3'!M100)),MAX('MDA1'!M100,MAX('MDA3'!I100,'MDA3'!L100)+MAX('MDA3'!J100,'MDA3'!M100)),J100),0)","v":115811},{"$f":"IF(AND(COUNTRY_INFO!I100>0,COUNTRY_INFO!I100<4), IF(M100/J100*100<>0, IF(M100/J100*100>100,100,M100/J100*100), \"-\"),0)","v":76.29233394159381},{"$f":"COUNTRY_INFO!O100","v":71118},null,null,{"$f":"SUM(MAX('MDA4'!R100, 'T1'!L100, MAX(T3_R1!K100, T3_R2!K100)), MAX('MDA1'!K100, 'MDA4'!S100, 'T1'!M100, MAX(T3_R1!L100, T3_R2!L100)), MAX('MDA1'!L100, 'MDA4'!T100, 'T1'!N100, MAX(T3_R1!M100, T3_R2!M100)))","v":115811},{"$f":"IF(AND(COUNTRY_INFO!J100>1,COUNTRY_INFO!J100<4),IF(COUNTRY_INFO!E100>MAX('MDA4'!R100,'T1'!L100,MAX(T3_R1!K100,T3_R2!K100)),MAX('MDA4'!R100,'T1'!L100,MAX(T3_R1!K100,T3_R2!K100)),COUNTRY_INFO!E100),0)","v":0},{"$f":"IF(AND(COUNTRY_INFO!J100>1,COUNTRY_INFO!J100<4), IF(T100/COUNTRY_INFO!E100*100<>0, IF(T100/COUNTRY_INFO!E100*100>100,100,T100/COUNTRY_INFO!E100*100), \"-\"),0)","v":"-"},{"$f":"IF(AND(COUNTRY_INFO!J100>1,COUNTRY_INFO!J100<4),IF(COUNTRY_INFO!F100>MAX('MDA1'!K100,'MDA4'!S100,'T1'!M100,MAX(T3_R1!L100,T3_R2!L100)),MAX('MDA1'!K100,'MDA4'!S100,'T1'!M100,MAX(T3_R1!L100,T3_R2!L100)),COUNTRY_INFO!F100),0)","v":43161},{"$f":"IF(AND(COUNTRY_INFO!J100>1,COUNTRY_INFO!J100<4), IF(V100/COUNTRY_INFO!F100*100<>0, IF(V100/COUNTRY_INFO!F100*100>100,100,V100/COUNTRY_INFO!F100*100), \"-\"),0)","v":93.683662173601618},43161,{"$f":"IF(AND(COUNTRY_INFO!J100>1,COUNTRY_INFO!J100<4), IF(S100/P100*100<>0, IF(X100/P100*100>100,100,X100/P100*100), \"-\"),0)","v":60.689276976292916},{"$f":"COUNTRY_INFO!P100","v":38048.5},null,null,{"$f":"MAX('T1'!L100,'T2'!J100)+MAX('T1'!M100,'T2'!K100)+MAX('T1'!N100,'T2'!L100)","v":45632},{"$f":"IF(COUNTRY_INFO!K100=1,IF(COUNTRY_INFO!F100*0.33>MAX('T1'!M100,'T2'!K100),MAX('T1'!M100,'T2'!K100),COUNTRY_INFO!F100*0.33),IF(COUNTRY_INFO!K100=2,IF(COUNTRY_INFO!F100*0.5>MAX('T1'!M100,'T2'!K100),MAX('T1'!M100,'T2'!K100),COUNTRY_INFO!F100*0.5),IF(COUNTRY_INFO!K100=3,IF(COUNTRY_INFO!F100>MAX('T1'!M100,'T2'!K100),MAX('T1'!M100,'T2'!K100),COUNTRY_INFO!F100),0)))","v":23035.5},{"$f":"IF(AND(COUNTRY_INFO!K100>0,COUNTRY_INFO!K100<4),IF(Z100>0,IF(COUNTRY_INFO!K100=1, AD100/(COUNTRY_INFO!F100*0.33)*100, IF(COUNTRY_INFO!K100=2, AD100/(COUNTRY_INFO!F100*0.5)*100, IF(COUNTRY_INFO!K100=3, AD100/COUNTRY_INFO!F100*100))),\"-\"),0)","v":100},{"$f":"IF(COUNTRY_INFO!K100=2,IF(COUNTRY_INFO!G100*0.2>MAX('T1'!N100,'T2'!L100),MAX('T1'!N100,'T2'!L100),COUNTRY_INFO!G100*0.2),IF(COUNTRY_INFO!K100=3,IF(COUNTRY_INFO!G100>MAX('T1'!N100,'T2'!L100),MAX('T1'!N100,'T2'!L100),COUNTRY_INFO!G100),0))","v":0},{"$f":"IF(AND(COUNTRY_INFO!K100>0,COUNTRY_INFO!K100<4),IF(Z100>0,IF(COUNTRY_INFO!K100=1, 0, IF(COUNTRY_INFO!K100=2, AF100/(COUNTRY_INFO!G100*0.2)*100, IF(COUNTRY_INFO!K100=3, AF100/COUNTRY_INFO!G100*100))),\"-\"),0)","v":0},23035.5,{"$f":"IF(AND(COUNTRY_INFO!K100>0,COUNTRY_INFO!K100<4), IF(AC100/Z100*100<>0, IF(AH100/Z100*100>100,100,AH100/Z100*100), \"-\"),0)","v":60.542465537406208},null,{"$f":"IF(AND(D100<>0, D100<>\"Inconnu\",D100<>\"Interrompu\",D100<>\"Non requis\"),D100/COUNTRY_INFO!D100, 0)","v":1},{"$f":"IF(AND(J100<>0,J100<>\"Inconnu\",J100<>\"Interrompu\",J100<>\"Non requis\"),J100/COUNTRY_INFO!D100, 0)","v":1},{"$f":"IF(AND(P100<>0,P100<>\"Inconnu\",P100<>\"Non requis\"),P100/(COUNTRY_INFO!E100+COUNTRY_INFO!F100), 0)","v":1},{"$f":"IF(AND(Z100<>0,Z100<>\"Inconnu\",Z100<>\"Non requis\"),IF(COUNTRY_INFO!K100=1,1,IF(COUNTRY_INFO!K100=2,0.5*COUNTRY_INFO!F100/(0.5*COUNTRY_INFO!F100+0.2*COUNTRY_INFO!G100),IF(COUNTRY_INFO!K100=3,COUNTRY_INFO!F100/(COUNTRY_INFO!F100+COUNTRY_INFO!G100)))),0)","v":0.60542465537406209},{"$f":"IF(AND(Z100<>0,Z100<>\"Inconnu\",Z100<>\"Non requis\"),IF(COUNTRY_INFO!K100=1,0,IF(COUNTRY_INFO!K100=2,0.2*COUNTRY_INFO!G100/(0.5*COUNTRY_INFO!F100+0.2*COUNTRY_INFO!G100),IF(COUNTRY_INFO!K100=3,COUNTRY_INFO!G100/(COUNTRY_INFO!F100+COUNTRY_INFO!G100)))),0)","v":0.39457534462593796},{"$f":"MAX(COUNTRY_INFO!D100*AK100*PROFILE!$G$7,COUNTRY_INFO!D100*AL100*PROFILE!$G$7)","v":5616.5550308145394},{"$f":"MAX(COUNTRY_INFO!D100*AK100*PROFILE!$G$8,COUNTRY_INFO!D100*AL100*PROFILE!$G$8,COUNTRY_INFO!D100*AM100*PROFILE!$G$8)","v":25046.889185246826},{"$f":"MAX(COUNTRY_INFO!D100*AK100*PROFILE!$G$9,COUNTRY_INFO!D100*AL100*PROFILE!$G$9,COUNTRY_INFO!D100*AM100*PROFILE!$G$9,IF(AND(DISTRICT!Z100<>\"Inconnu\",Z100<>\"Non requis\"),COUNTRY_INFO!P100*DISTRICT!AN100,0))","v":46070.956145678647},{"$f":"MAX(COUNTRY_INFO!D100*AK100*PROFILE!$G$10,COUNTRY_INFO!D100*AL100*PROFILE!$G$10,IF(AND(DISTRICT!Z100<>\"Inconnu\",Z100<>\"Non requis\"),COUNTRY_INFO!P100*DISTRICT!AO100,0))","v":75064.599638259984},151799,"Y",{"$f":"MAX('MDA4'!R100,'T1'!L100,'T2'!J100,T3_R1!K100,T3_R2!K100)","v":0},{"$f":"MAX('MDA1'!K100,'MDA4'!S100,'MDA3'!I100,'MDA3'!L100,'T1'!M100,'T2'!K100,T3_R1!L100,T3_R2!L100)","v":45632},{"$f":"MAX('MDA1'!L100,'MDA4'!T100,'MDA3'!J100,'MDA3'!M100,'T1'!N100,'T2'!L100,T3_R1!M100,T3_R2!M100)","v":72650},118282,{"$f":"MAX('MDA4'!R100,T100)","v":0},{"$f":"MAX('MDA1'!K100,'MDA4'!S100,'MDA3'!I100,'MDA3'!L100,V100,AD100)","v":43161},{"$f":"MAX('MDA1'!L100,'MDA4'!T100,'MDA3'!J100,'MDA3'!M100,AF100)","v":72650},115811,76.29233394159381]
[{"$f":"IF(COUNTRY_INFO!A101=0,\" \",COUNTRY_INFO!A101)","v":"Chad"},{"$f":"IF(COUNTRY_INFO!B101=0,\" \",COUNTRY_INFO!B101)","v":"Moyen Chari"},{"$f":"IF(COUNTRY_INFO!C101=0,\" \",COUNTRY_INFO!C101)","v":"Koumogo"},{"$f":"COUNTRY_INFO!M101","v":107813},null,null,{"$f":"MAX('MDA1'!M101,'MDA4'!U101)","v":85821},{"$f":"IF(AND(COUNTRY_INFO!H101>0,COUNTRY_INFO!H101<4),IF(D101>MAX('MDA1'!M101,'MDA4'!U101),MAX('MDA1'!M101,'MDA4'!U101),D101),0)","v":85821},{"$f":"IF(AND(COUNTRY_INFO!H101>0,COUNTRY_INFO!H101<4), IF(G101/D101*100<>0, IF(G101/D101*100>100,100,G101/D101*100), \"-\"),0)","v":79.601717789134895},{"$f":"COUNTRY_INFO!N101","v":107813},null,null,{"$f":"MAX('MDA1'!M101,MAX('MDA3'!I101,'MDA3'!L101)+MAX('MDA3'!J101,'MDA3'!M101))","v":85821},{"$f":"IF(AND(COUNTRY_INFO!I101>0,COUNTRY_INFO!I101<4),IF(J101>MAX('MDA1'!M101,MAX('MDA3'!I101,'MDA3'!L101)+MAX('MDA3'!J101,'MDA3'!M101)),MAX('MDA1'!M101,MAX('MDA3'!I101,'MDA3'!L101)+MAX('MDA3'!J101,'MDA3'!M101)),J101),0)","v":85821},{"$f":"IF(AND(COUNTRY_INFO!I101>0,COUNTRY_INFO!I101<4), IF(M101/J101*100<>0, IF(M101/J101*100>100,100,M101/J101*100), \"-\"),0)","v":79.601717789134895},{"$f":"COUNTRY_INFO!O101","v":0},null,null,{"$f":"SUM(MAX('MDA4'!R101, 'T1'!L101, MAX(T3_R1!K101, T3_R2!K101)), MAX('MDA1'!K101, 'MDA4'!S101, 'T1'!M101, MAX(T3_R1!L101, T3_R2!L101)), MAX('MDA1'!L101, 'MDA4'!T101, 'T1'!N101, MAX(T3_R1!M101, T3_R2!M101)))","v":85821},{"$f":"IF(AND(COUNTRY_INFO!J101>1,COUNTRY_INFO!J101<4),IF(COUNTRY_INFO!E101>MAX('MDA4'!R101,'T1'!L101,MAX(T3_R1!K101,T3_R2!K101)),MAX('MDA4'!R101,'T1'!L101,MAX(T3_R1!K101,T3_R2!K101)),COUNTRY_INFO!E101),0)","v":0},{"$f":"IF(AND(COUNTRY_INFO!J101>1,COUNTRY_INFO!J101<4), IF(T101/COUNTRY_INFO!E101*100<>0, IF(T101/COUNTRY_INFO!E101*100>100,100,T101/COUNTRY_INFO!E101*100), \"-\"),0)","v":0},{"$f":"IF(AND(COUNTRY_INFO!J101>1,COUNTRY_INFO!J101<4),IF(COUNTRY_INFO!F101>MAX('MDA1'!K101,'MDA4'!S101,'T1'!M101,MAX(T3_R1!L101,T3_R2!L101)),MAX('MDA1'!K101,'MDA4'!S101,'T1'!M101,MAX(T3_R1!L101,T3_R2!L101)),COUNTRY_INFO!F101),0)","v":0},{"$f":"IF(AND(COUNTRY_INFO!J101>1,COUNTRY_INFO!J101<4), IF(V101/COUNTRY_INFO!F101*100<>0, IF(V101/COUNTRY_INFO!F101*100>100,100,V101/COUNTRY_INFO!F101*100), \"-\"),0)","v":0},0,{"$f":"IF(AND(COUNTRY_INFO!J101>1,COUNTRY_INFO!J101<4), IF(S101/P101*100<>0, IF(X101/P101*100>100,100,X101/P101*100), \"-\"),0)","v":0},{"$f":"COUNTRY_INFO!P101","v":27023.300000000003},null,null,{"$f":"MAX('T1'!L101,'T2'!J101)+MAX('T1'!M101,'T2'!K101)+MAX('T1'!N101,'T2'!L101)","v":31004},{"$f":"IF(COUNTRY_INFO!K101=1,IF(COUNTRY_INFO!F101*0.33>MAX('T1'!M101,'T2'!K101),MAX('T1'!M101,'T2'!K101),COUNTRY_INFO!F101*0.33),IF(COUNTRY_INFO!K101=2,IF(COUNTRY_INFO!F101*0.5>MAX('T1'!M101,'T2'!K101),MAX('T1'!M101,'T2'!K101),COUNTRY_INFO!F101*0.5),IF(COUNTRY_INFO!K101=3,IF(COUNTRY_INFO!F101>MAX('T1'!M101,'T2'!K101),MAX('T1'!M101,'T2'!K101),COUNTRY_INFO!F101),0)))","v":16360.5},{"$f":"IF(AND(COUNTRY_INFO!K101>0,COUNTRY_INFO!K101<4),IF(Z101>0,IF(COUNTRY_INFO!K101=1, AD101/(COUNTRY_INFO!F101*0.33)*100, IF(COUNTRY_INFO!K101=2, AD101/(COUNTRY_INFO!F101*0.5)*100, IF(COUNTRY_INFO!K101=3, AD101/COUNTRY_INFO!F101*100))),\"-\"),0)","v":100},{"$f":"IF(COUNTRY_INFO!K101=2,IF(COUNTRY_INFO!G101*0.2>MAX('T1'!N101,'T2'!L101),MAX('T1'!N101,'T2'!L101),COUNTRY_INFO!G101*0.2),IF(COUNTRY_INFO!K101=3,IF(COUNTRY_INFO!G101>MAX('T1'!N101,'T2'!L101),MAX('T1'!N101,'T2'!L101),COUNTRY_INFO!G101),0))","v":0},{"$f":"IF(AND(COUNTRY_INFO!K101>0,COUNTRY_INFO!K101<4),IF(Z101>0,IF(COUNTRY_INFO!K101=1, 0, IF(COUNTRY_INFO!K101=2, AF101/(COUNTRY_INFO!G101*0.2)*100, IF(COUNTRY_INFO!K101=3, AF101/COUNTRY_INFO!G101*100))),\"-\"),0)","v":0},16360.5,{"$f":"IF(AND(COUNTRY_INFO!K101>0,COUNTRY_INFO!K101<4), IF(AC101/Z101*100<>0, IF(AH101/Z101*100>100,100,AH101/Z101*100), \"-\"),0)","v":60.542198769210266},null,{"$f":"IF(AND(D101<>0, D101<>\"Inconnu\",D101<>\"Interrompu\",D101<>\"Non requis\"),D101/COUNTRY_INFO!D101, 0)","v":1},{"$f":"IF(AND(J101<>0,J101<>\"Inconnu\",J101<>\"Interrompu\",J101<>\"Non requis\"),J101/COUNTRY_INFO!D101, 0)","v":1},{"$f":"IF(AND(P101<>0,P101<>\"Inconnu\",P101<>\"Non requis\"),P101/(COUNTRY_INFO!E101+COUNTRY_INFO!F101), 0)","v":0},{"$f":"IF(AND(Z101<>0,Z101<>\"Inconnu\",Z101<>\"Non requis\"),IF(COUNTRY_INFO!K101=1,1,IF(COUNTRY_INFO!K101=2,0.5*COUNTRY_INFO!F101/(0.5*COUNTRY_INFO!F101+0.2*COUNTRY_INFO!G101),IF(COUNTRY_INFO!K101=3,COUNTRY_INFO!F101/(COUNTRY_INFO!F101+COUNTRY_INFO!G101)))),0)","v":0.60542198769210265},{"$f":"IF(AND(Z101<>0,Z101<>\"Inconnu\",Z101<>\"Non requis\"),IF(COUNTRY_INFO!K101=1,0,IF(COUNTRY_INFO!K101=2,0.2*COUNTRY_INFO!G101/(0.5*COUNTRY_INFO!F101+0.2*COUNTRY_INFO!G101),IF(COUNTRY_INFO!K101=3,COUNTRY_INFO!G101/(COUNTRY_INFO!F101+COUNTRY_INFO!G101)))),0)","v":0.39457801230789724},{"$f":"MAX(COUNTRY_INFO!D101*AK101*PROFILE!$G$7,COUNTRY_INFO!D101*AL101*PROFILE!$G$7)","v":3989.0753400036097},{"$f":"MAX(COUNTRY_INFO!D101*AK101*PROFILE!$G$8,COUNTRY_INFO!D101*AL101*PROFILE!$G$8,COUNTRY_INFO!D101*AM101*PROFILE!$G$8)","v":17789.183484272071},{"$f":"MAX(COUNTRY_INFO!D101*AK101*PROFILE!$G$9,COUNTRY_INFO!D101*AL101*PROFILE!$G$9,COUNTRY_INFO!D101*AM101*PROFILE!$G$9,IF(AND(DISTRICT!Z101<>\"Inconnu\",Z101<>\"Non requis\"),COUNTRY_INFO!P101*DISTRICT!AN101,0))","v":32721.216838938675},{"$f":"MAX(COUNTRY_INFO!D101*AK101*PROFILE!$G$10,COUNTRY_INFO!D101*AL101*PROFILE!$G$10,IF(AND(DISTRICT!Z101<>\"Inconnu\",Z101<>\"Non requis\"),COUNTRY_INFO!P101*DISTRICT!AO101,0))","v":53313.524336785646},107813,"Y",{"$f":"MAX('MDA4'!R101,'T1'!L101,'T2'!J101,T3_R1!K101,T3_R2!K101)","v":0},{"$f":"MAX('MDA1'!K101,'MDA4'!S101,'MDA3'!I101,'MDA3'!L101,'T1'!M101,'T2'!K101,T3_R1!L101,T3_R2!L101)","v":32009},{"$f":"MAX('MDA1'!L101,'MDA4'!T101,'MDA3'!J101,'MDA3'!M101,'T1'!N101,'T2'!L101,T3_R1!M101,T3_R2!M101)","v":53812},85821,{"$f":"MAX('MDA4'!R101,T101)","v":0},{"$f":"MAX('MDA1'!K101,'MDA4'!S101,'MDA3'!I101,'MDA3'!L101,V101,AD101)","v":32009},{"$f":"MAX('MDA1'!L101,'MDA4'!T101,'MDA3'!J101,'MDA3'!M101,AF101)","v":53812},85821,79.601717789134895]
[{"$f":"IF(COUNTRY_INFO!A102=0,\" \",COUNTRY_INFO!A102)","v":"Chad"},{"$f":"IF(COUNTRY_INFO!B102=0,\" \",COUNTRY_INFO!B102)","v":"Moyen Chari"},{"$f":"IF(COUNTRY_INFO!C102=0,\" \",COUNTRY_INFO!C102)","v":"Kyabe"},{"$f":"COUNTRY_INFO!M102","v":124364},null,null,{"$f":"MAX('MDA1'!M102,'MDA4'!U102)","v":97894},{"$f":"IF(AND(COUNTRY_INFO!H102>0,COUNTRY_INFO!H102<4),IF(D102>MAX('MDA1'!M102,'MDA4'!U102),MAX('MDA1'!M102,'MDA4'!U102),D102),0)","v":97894},{"$f":"IF(AND(COUNTRY_INFO!H102>0,COUNTRY_INFO!H102<4), IF(G102/D102*100<>0, IF(G102/D102*100>100,100,G102/D102*100), \"-\"),0)","v":78.715705509633011},{"$f":"COUNTRY_INFO!N102","v":124364},null,null,{"$f":"MAX('MDA1'!M102,MAX('MDA3'!I102,'MDA3'!L102)+MAX('MDA3'!J102,'MDA3'!M102))","v":97894},{"$f":"IF(AND(COUNTRY_INFO!I102>0,COUNTRY_INFO!I102<4),IF(J102>MAX('MDA1'!M102,MAX('MDA3'!I102,'MDA3'!L102)+MAX('MDA3'!J102,'MDA3'!M102)),MAX('MDA1'!M102,MAX('MDA3'!I102,'MDA3'!L102)+MAX('MDA3'!J102,'MDA3'!M102)),J102),0)","v":97894},{"$f":"IF(AND(COUNTRY_INFO!I102>0,COUNTRY_INFO!I102<4), IF(M102/J102*100<>0, IF(M102/J102*100>100,100,M102/J102*100), \"-\"),0)","v":78.715705509633011},{"$f":"COUNTRY_INFO!O102","v":0},null,null,{"$f":"SUM(MAX('MDA4'!R102, 'T1'!L102, MAX(T3_R1!K102, T3_R2!K102)), MAX('MDA1'!K102, 'MDA4'!S102, 'T1'!M102, MAX(T3_R1!L102, T3_R2!L102)), MAX('MDA1'!L102, 'MDA4'!T102, 'T1'!N102, MAX(T3_R1!M102, T3_R2!M102)))","v":97894},{"$f":"IF(AND(COUNTRY_INFO!J102>1,COUNTRY_INFO!J102<4),IF(COUNTRY_INFO!E102>MAX('MDA4'!R102,'T1'!L102,MAX(T3_R1!K102,T3_R2!K102)),MAX('MDA4'!R102,'T1'!L102,MAX(T3_R1!K102,T3_R2!K102)),COUNTRY_INFO!E102),0)","v":0},{"$f":"IF(AND(COUNTRY_INFO!J102>1,COUNTRY_INFO!J102<4), IF(T102/COUNTRY_INFO!E102*100<>0, IF(T102/COUNTRY_INFO!E102*100>100,100,T102/COUNTRY_INFO!E102*100), \"-\"),0)","v":0},{"$f":"IF(AND(COUNTRY_INFO!J102>1,COUNTRY_INFO!J102<4),IF(COUNTRY_INFO!F102>MAX('MDA1'!K102,'MDA4'!S102,'T1'!M102,MAX(T3_R1!L102,T3_R2!L102)),MAX('MDA1'!K102,'MDA4'!S102,'T1'!M102,MAX(T3_R1!L102,T3_R2!L102)),COUNTRY_INFO!F102),0)","v":0},{"$f":"IF(AND(COUNTRY_INFO!J102>1,COUNTRY_INFO!J102<4), IF(V102/COUNTRY_INFO!F102*100<>0, IF(V102/COUNTRY_INFO!F102*100>100,100,V102/COUNTRY_INFO!F102*100), \"-\"),0)","v":0},0,{"$f":"IF(AND(COUNTRY_INFO!J102>1,COUNTRY_INFO!J102<4), IF(S102/P102*100<>0, IF(X102/P102*100>100,100,X102/P102*100), \"-\"),0)","v":0},{"$f":"COUNTRY_INFO!P102","v":31171.599999999999},null,null,{"$f":"MAX('T1'!L102,'T2'!J102)+MAX('T1'!M102,'T2'!K102)+MAX('T1'!N102,'T2'!L102)","v":37142},{"$f":"IF(COUNTRY_INFO!K102=1,IF(COUNTRY_INFO!F102*0.33>MAX('T1'!M102,'T2'!K102),MAX('T1'!M102,'T2'!K102),COUNTRY_INFO!F102*0.33),IF(COUNTRY_INFO!K102=2,IF(COUNTRY_INFO!F102*0.5>MAX('T1'!M102,'T2'!K102),MAX('T1'!M102,'T2'!K102),COUNTRY_INFO!F102*0.5),IF(COUNTRY_INFO!K102=3,IF(COUNTRY_INFO!F102>MAX('T1'!M102,'T2'!K102),MAX('T1'!M102,'T2'!K102),COUNTRY_INFO!F102),0)))","v":18872},{"$f":"IF(AND(COUNTRY_INFO!K102>0,COUNTRY_INFO!K102<4),IF(Z102>0,IF(COUNTRY_INFO!K102=1, AD102/(COUNTRY_INFO!F102*0.33)*100, IF(COUNTRY_INFO!K102=2, AD102/(COUNTRY_INFO!F102*0.5)*100, IF(COUNTRY_INFO!K102=3, AD102/COUNTRY_INFO!F102*100))),\"-\"),0)","v":100},{"$f":"IF(COUNTRY_INFO!K102=2,IF(COUNTRY_INFO!G102*0.2>MAX('T1'!N102,'T2'!L102),MAX('T1'!N102,'T2'!L102),COUNTRY_INFO!G102*0.2),IF(COUNTRY_INFO!K102=3,IF(COUNTRY_INFO!G102>MAX('T1'!N102,'T2'!L102),MAX('T1'!N102,'T2'!L102),COUNTRY_INFO!G102),0))","v":0},{"$f":"IF(AND(COUNTRY_INFO!K102>0,COUNTRY_INFO!K102<4),IF(Z102>0,IF(COUNTRY_INFO!K102=1, 0, IF(COUNTRY_INFO!K102=2, AF102/(COUNTRY_INFO!G102*0.2)*100, IF(COUNTRY_INFO!K102=3, AF102/COUNTRY_INFO!G102*100))),\"-\"),0)","v":0},18872,{"$f":"IF(AND(COUNTRY_INFO!K102>0,COUNTRY_INFO!K102<4), IF(AC102/Z102*100<>0, IF(AH102/Z102*100>100,100,AH102/Z102*100), \"-\"),0)","v":60.542288493372176},null,{"$f":"IF(AND(D102<>0, D102<>\"Inconnu\",D102<>\"Interrompu\",D102<>\"Non requis\"),D102/COUNTRY_INFO!D102, 0)","v":1},{"$f":"IF(AND(J102<>0,J102<>\"Inconnu\",J102<>\"Interrompu\",J102<>\"Non requis\"),J102/COUNTRY_INFO!D102, 0)","v":1},{"$f":"IF(AND(P102<>0,P102<>\"Inconnu\",P102<>\"Non requis\"),P102/(COUNTRY_INFO!E102+COUNTRY_INFO!F102), 0)","v":0},{"$f":"IF(AND(Z102<>0,Z102<>\"Inconnu\",Z102<>\"Non requis\"),IF(COUNTRY_INFO!K102=1,1,IF(COUNTRY_INFO!K102=2,0.5*COUNTRY_INFO!F102/(0.5*COUNTRY_INFO!F102+0.2*COUNTRY_INFO!G102),IF(COUNTRY_INFO!K102=3,COUNTRY_INFO!F102/(COUNTRY_INFO!F102+COUNTRY_INFO!G102)))),0)","v":0.60542288493372176},{"$f":"IF(AND(Z102<>0,Z102<>\"Inconnu\",Z102<>\"Non requis\"),IF(COUNTRY_INFO!K102=1,0,IF(COUNTRY_INFO!K102=2,0.2*COUNTRY_INFO!G102/(0.5*COUNTRY_INFO!F102+0.2*COUNTRY_INFO!G102),IF(COUNTRY_INFO!K102=3,COUNTRY_INFO!G102/(COUNTRY_INFO!F102+COUNTRY_INFO!G102)))),0)","v":0.39457711506627829},{"$f":"MAX(COUNTRY_INFO!D102*AK102*PROFILE!$G$7,COUNTRY_INFO!D102*AL102*PROFILE!$G$7)","v":4601.4614711046806},{"$f":"MAX(COUNTRY_INFO!D102*AK102*PROFILE!$G$8,COUNTRY_INFO!D102*AL102*PROFILE!$G$8,COUNTRY_INFO!D102*AM102*PROFILE!$G$8)","v":20520.104392216264},{"$f":"MAX(COUNTRY_INFO!D102*AK102*PROFILE!$G$9,COUNTRY_INFO!D102*AL102*PROFILE!$G$9,COUNTRY_INFO!D102*AM102*PROFILE!$G$9,IF(AND(DISTRICT!Z102<>\"Inconnu\",Z102<>\"Non requis\"),COUNTRY_INFO!P102*DISTRICT!AN102,0))","v":37744.440939012638},{"$f":"MAX(COUNTRY_INFO!D102*AK102*PROFILE!$G$10,COUNTRY_INFO!D102*AL102*PROFILE!$G$10,IF(AND(DISTRICT!Z102<>\"Inconnu\",Z102<>\"Non requis\"),COUNTRY_INFO!P102*DISTRICT!AO102,0))","v":61497.993197666423},124364,"Y",{"$f":"MAX('MDA4'!R102,'T1'!L102,'T2'!J102,T3_R1!K102,T3_R2!K102)","v":0},{"$f":"MAX('MDA1'!K102,'MDA4'!S102,'MDA3'!I102,'MDA3'!L102,'T1'!M102,'T2'!K102,T3_R1!L102,T3_R2!L102)","v":37416},{"$f":"MAX('MDA1'!L102,'MDA4'!T102,'MDA3'!J102,'MDA3'!M102,'T1'!N102,'T2'!L102,T3_R1!M102,T3_R2!M102)","v":60478},97894,{"$f":"MAX('MDA4'!R102,T102)","v":0},{"$f":"MAX('MDA1'!K102,'MDA4'!S102,'MDA3'!I102,'MDA3'!L102,V102,AD102)","v":37416},{"$f":"MAX('MDA1'!L102,'MDA4'!T102,'MDA3'!J102,'MDA3'!M102,AF102)","v":60478},97894,78.715705509633011]
[{"$f":"IF(COUNTRY_INFO!A103=0,\" \",COUNTRY_INFO!A103)","v":"Chad"},{"$f":"IF(COUNTRY_INFO!B103=0,\" \",COUNTRY_INFO!B103)","v":"Moyen Chari"},{"$f":"IF(COUNTRY_INFO!C103=0,\" \",COUNTRY_INFO!C103)","v":"Maro"},{"$f":"COUNTRY_INFO!M103","v":267483},null,null,{"$f":"MAX('MDA1'!M103,'MDA4'!U103)","v":207892},{"$f":"IF(AND(COUNTRY_INFO!H103>0,COUNTRY_INFO!H103<4),IF(D103>MAX('MDA1'!M103,'MDA4'!U103),MAX('MDA1'!M103,'MDA4'!U103),D103),0)","v":207892},{"$f":"IF(AND(COUNTRY_INFO!H103>0,COUNTRY_INFO!H103<4), IF(G103/D103*100<>0, IF(G103/D103*100>100,100,G103/D103*100), \"-\"),0)","v":77.721574829054546},{"$f":"COUNTRY_INFO!N103","v":267483},null,null,{"$f":"MAX('MDA1'!M103,MAX('MDA3'!I103,'MDA3'!L103)+MAX('MDA3'!J103,'MDA3'!M103))","v":207892},{"$f":"IF(AND(COUNTRY_INFO!I103>0,COUNTRY_INFO!I103<4),IF(J103>MAX('MDA1'!M103,MAX('MDA3'!I103,'MDA3'!L103)+MAX('MDA3'!J103,'MDA3'!M103)),MAX('MDA1'!M103,MAX('MDA3'!I103,'MDA3'!L103)+MAX('MDA3'!J103,'MDA3'!M103)),J103),0)","v":207892},{"$f":"IF(AND(COUNTRY_INFO!I103>0,COUNTRY_INFO!I103<4), IF(M103/J103*100<>0, IF(M103/J103*100>100,100,M103/J103*100), \"-\"),0)","v":77.721574829054546},{"$f":"COUNTRY_INFO!O103","v":0},null,null,{"$f":"SUM(MAX('MDA4'!R103, 'T1'!L103, MAX(T3_R1!K103, T3_R2!K103)), MAX('MDA1'!K103, 'MDA4'!S103, 'T1'!M103, MAX(T3_R1!L103, T3_R2!L103)), MAX('MDA1'!L103, 'MDA4'!T103, 'T1'!N103, MAX(T3_R1!M103, T3_R2!M103)))","v":207892},{"$f":"IF(AND(COUNTRY_INFO!J103>1,COUNTRY_INFO!J103<4),IF(COUNTRY_INFO!E103>MAX('MDA4'!R103,'T1'!L103,MAX(T3_R1!K103,T3_R2!K103)),MAX('MDA4'!R103,'T1'!L103,MAX(T3_R1!K103,T3_R2!K103)),COUNTRY_INFO!E103),0)","v":0},{"$f":"IF(AND(COUNTRY_INFO!J103>1,COUNTRY_INFO!J103<4), IF(T103/COUNTRY_INFO!E103*100<>0, IF(T103/COUNTRY_INFO!E103*100>100,100,T103/COUNTRY_INFO!E103*100), \"-\"),0)","v":0},{"$f":"IF(AND(COUNTRY_INFO!J103>1,COUNTRY_INFO!J103<4),IF(COUNTRY_INFO!F103>MAX('MDA1'!K103,'MDA4'!S103,'T1'!M103,MAX(T3_R1!L103,T3_R2!L103)),MAX('MDA1'!K103,'MDA4'!S103,'T1'!M103,MAX(T3_R1!L103,T3_R2!L103)),COUNTRY_INFO!F103),0)","v":0},{"$f":"IF(AND(COUNTRY_INFO!J103>1,COUNTRY_INFO!J103<4), IF(V103/COUNTRY_INFO!F103*100<>0, IF(V103/COUNTRY_INFO!F103*100>100,100,V103/COUNTRY_INFO!F103*100), \"-\"),0)","v":0},0,{"$f":"IF(AND(COUNTRY_INFO!J103>1,COUNTRY_INFO!J103<4), IF(S103/P103*100<>0, IF(X103/P103*100>100,100,X103/P103*100), \"-\"),0)","v":0},{"$f":"COUNTRY_INFO!P103","v":26789.73},null,null,{"$f":"MAX('T1'!L103,'T2'!J103)+MAX('T1'!M103,'T2'!K103)+MAX('T1'!N103,'T2'!L103)","v":80023},{"$f":"IF(COUNTRY_INFO!K103=1,IF(COUNTRY_INFO!F103*0.33>MAX('T1'!M103,'T2'!K103),MAX('T1'!M103,'T2'!K103),COUNTRY_INFO!F103*0.33),IF(COUNTRY_INFO!K103=2,IF(COUNTRY_INFO!F103*0.5>MAX('T1'!M103,'T2'!K103),MAX('T1'!M103,'T2'!K103),COUNTRY_INFO!F103*0.5),IF(COUNTRY_INFO!K103=3,IF(COUNTRY_INFO!F103>MAX('T1'!M103,'T2'!K103),MAX('T1'!M103,'T2'!K103),COUNTRY_INFO!F103),0)))","v":26789.73},{"$f":"IF(AND(COUNTRY_INFO!K103>0,COUNTRY_INFO!K103<4),IF(Z103>0,IF(COUNTRY_INFO!K103=1, AD103/(COUNTRY_INFO!F103*0.33)*100, IF(COUNTRY_INFO!K103=2, AD103/(COUNTRY_INFO!F103*0.5)*100, IF(COUNTRY_INFO!K103=3, AD103/COUNTRY_INFO!F103*100))),\"-\"),0)","v":100},{"$f":"IF(COUNTRY_INFO!K103=2,IF(COUNTRY_INFO!G103*0.2>MAX('T1'!N103,'T2'!L103),MAX('T1'!N103,'T2'!L103),COUNTRY_INFO!G103*0.2),IF(COUNTRY_INFO!K103=3,IF(COUNTRY_INFO!G103>MAX('T1'!N103,'T2'!L103),MAX('T1'!N103,'T2'!L103),COUNTRY_INFO!G103),0))","v":0},{"$f":"IF(AND(COUNTRY_INFO!K103>0,COUNTRY_INFO!K103<4),IF(Z103>0,IF(COUNTRY_INFO!K103=1, 0, IF(COUNTRY_INFO!K103=2, AF103/(COUNTRY_INFO!G103*0.2)*100, IF(COUNTRY_INFO!K103=3, AF103/COUNTRY_INFO!G103*100))),\"-\"),0)","v":0},26789.73,{"$f":"IF(AND(COUNTRY_INFO!K103>0,COUNTRY_INFO!K103<4), IF(AC103/Z103*100<>0, IF(AH103/Z103*100>100,100,AH103/Z103*100), \"-\"),0)","v":100},null,{"$f":"IF(AND(D103<>0, D103<>\"Inconnu\",D103<>\"Interrompu\",D103<>\"Non requis\"),D103/COUNTRY_INFO!D103, 0)","v":1},{"$f":"IF(AND(J103<>0,J103<>\"Inconnu\",J103<>\"Interrompu\",J103<>\"Non requis\"),J103/COUNTRY_INFO!D103, 0)","v":1},{"$f":"IF(AND(P103<>0,P103<>\"Inconnu\",P103<>\"Non requis\"),P103/(COUNTRY_INFO!E103+COUNTRY_INFO!F103), 0)","v":0},{"$f":"IF(AND(Z103<>0,Z103<>\"Inconnu\",Z103<>\"Non requis\"),IF(COUNTRY_INFO!K103=1,1,IF(COUNTRY_INFO!K103=2,0.5*COUNTRY_INFO!F103/(0.5*COUNTRY_INFO!F103+0.2*COUNTRY_INFO!G103),IF(COUNTRY_INFO!K103=3,COUNTRY_INFO!F103/(COUNTRY_INFO!F103+COUNTRY_INFO!G103)))),0)","v":1},{"$f":"IF(AND(Z103<>0,Z103<>\"Inconnu\",Z103<>\"Non requis\"),IF(COUNTRY_INFO!K103=1,0,IF(COUNTRY_INFO!K103=2,0.2*COUNTRY_INFO!G103/(0.5*COUNTRY_INFO!F103+0.2*COUNTRY_INFO!G103),IF(COUNTRY_INFO!K103=3,COUNTRY_INFO!G103/(COUNTRY_INFO!F103+COUNTRY_INFO!G103)))),0)","v":0},{"$f":"MAX(COUNTRY_INFO!D103*AK103*PROFILE!$G$7,COUNTRY_INFO!D103*AL103*PROFILE!$G$7)","v":9896.8569576042373},{"$f":"MAX(COUNTRY_INFO!D103*AK103*PROFILE!$G$8,COUNTRY_INFO!D103*AL103*PROFILE!$G$8,COUNTRY_INFO!D103*AM103*PROFILE!$G$8)","v":44134.79047910314},{"$f":"MAX(COUNTRY_INFO!D103*AK103*PROFILE!$G$9,COUNTRY_INFO!D103*AL103*PROFILE!$G$9,COUNTRY_INFO!D103*AM103*PROFILE!$G$9,IF(AND(DISTRICT!Z103<>\"Inconnu\",Z103<>\"Non requis\"),COUNTRY_INFO!P103*DISTRICT!AN103,0))","v":81181.019392186776},{"$f":"MAX(COUNTRY_INFO!D103*AK103*PROFILE!$G$10,COUNTRY_INFO!D103*AL103*PROFILE!$G$10,IF(AND(DISTRICT!Z103<>\"Inconnu\",Z103<>\"Non requis\"),COUNTRY_INFO!P103*DISTRICT!AO103,0))","v":132270.33317110586},267483,"Y",{"$f":"MAX('MDA4'!R103,'T1'!L103,'T2'!J103,T3_R1!K103,T3_R2!K103)","v":0},{"$f":"MAX('MDA1'!K103,'MDA4'!S103,'MDA3'!I103,'MDA3'!L103,'T1'!M103,'T2'!K103,T3_R1!L103,T3_R2!L103)","v":80023},{"$f":"MAX('MDA1'!L103,'MDA4'!T103,'MDA3'!J103,'MDA3'!M103,'T1'!N103,'T2'!L103,T3_R1!M103,T3_R2!M103)","v":129448},209471,{"$f":"MAX('MDA4'!R103,T103)","v":0},{"$f":"MAX('MDA1'!K103,'MDA4'!S103,'MDA3'!I103,'MDA3'!L103,V103,AD103)","v":78444},{"$f":"MAX('MDA1'!L103,'MDA4'!T103,'MDA3'!J103,'MDA3'!M103,AF103)","v":129448},207892,77.721574829054546]
[{"$f":"IF(COUNTRY_INFO!A104=0,\" \",COUNTRY_INFO!A104)","v":"Chad"},{"$f":"IF(COUNTRY_INFO!B104=0,\" \",COUNTRY_INFO!B104)","v":"Moyen Chari"},{"$f":"IF(COUNTRY_INFO!C104=0,\" \",COUNTRY_INFO!C104)","v":"Sarh"},{"$f":"COUNTRY_INFO!M104","v":204196},null,null,{"$f":"MAX('MDA1'!M104,'MDA4'!U104)","v":154123},{"$f":"IF(AND(COUNTRY_INFO!H104>0,COUNTRY_INFO!H104<4),IF(D104>MAX('MDA1'!M104,'MDA4'!U104),MAX('MDA1'!M104,'MDA4'!U104),D104),0)","v":154123},{"$f":"IF(AND(COUNTRY_INFO!H104>0,COUNTRY_INFO!H104<4), IF(G104/D104*100<>0, IF(G104/D104*100>100,100,G104/D104*100), \"-\"),0)","v":75.477972144410273},{"$f":"COUNTRY_INFO!N104","v":204196},null,null,{"$f":"MAX('MDA1'!M104,MAX('MDA3'!I104,'MDA3'!L104)+MAX('MDA3'!J104,'MDA3'!M104))","v":154123},{"$f":"IF(AND(COUNTRY_INFO!I104>0,COUNTRY_INFO!I104<4),IF(J104>MAX('MDA1'!M104,MAX('MDA3'!I104,'MDA3'!L104)+MAX('MDA3'!J104,'MDA3'!M104)),MAX('MDA1'!M104,MAX('MDA3'!I104,'MDA3'!L104)+MAX('MDA3'!J104,'MDA3'!M104)),J104),0)","v":154123},{"$f":"IF(AND(COUNTRY_INFO!I104>0,COUNTRY_INFO!I104<4), IF(M104/J104*100<>0, IF(M104/J104*100>100,100,M104/J104*100), \"-\"),0)","v":75.477972144410273},{"$f":"COUNTRY_INFO!O104","v":95665},null,null,{"$f":"SUM(MAX('MDA4'!R104, 'T1'!L104, MAX(T3_R1!K104, T3_R2!K104)), MAX('MDA1'!K104, 'MDA4'!S104, 'T1'!M104, MAX(T3_R1!L104, T3_R2!L104)), MAX('MDA1'!L104, 'MDA4'!T104, 'T1'!N104, MAX(T3_R1!M104, T3_R2!M104)))","v":154123},{"$f":"IF(AND(COUNTRY_INFO!J104>1,COUNTRY_INFO!J104<4),IF(COUNTRY_INFO!E104>MAX('MDA4'!R104,'T1'!L104,MAX(T3_R1!K104,T3_R2!K104)),MAX('MDA4'!R104,'T1'!L104,MAX(T3_R1!K104,T3_R2!K104)),COUNTRY_INFO!E104),0)","v":0},{"$f":"IF(AND(COUNTRY_INFO!J104>1,COUNTRY_INFO!J104<4), IF(T104/COUNTRY_INFO!E104*100<>0, IF(T104/COUNTRY_INFO!E104*100>100,100,T104/COUNTRY_INFO!E104*100), \"-\"),0)","v":"-"},{"$f":"IF(AND(COUNTRY_INFO!J104>1,COUNTRY_INFO!J104<4),IF(COUNTRY_INFO!F104>MAX('MDA1'!K104,'MDA4'!S104,'T1'!M104,MAX(T3_R1!L104,T3_R2!L104)),MAX('MDA1'!K104,'MDA4'!S104,'T1'!M104,MAX(T3_R1!L104,T3_R2!L104)),COUNTRY_INFO!F104),0)","v":57361},{"$f":"IF(AND(COUNTRY_INFO!J104>1,COUNTRY_INFO!J104<4), IF(V104/COUNTRY_INFO!F104*100<>0, IF(V104/COUNTRY_INFO!F104*100>100,100,V104/COUNTRY_INFO!F104*100), \"-\"),0)","v":92.558049473157666},57361,{"$f":"IF(AND(COUNTRY_INFO!J104>1,COUNTRY_INFO!J104<4), IF(S104/P104*100<>0, IF(X104/P104*100>100,100,X104/P104*100), \"-\"),0)","v":59.960278053624627},{"$f":"COUNTRY_INFO!P104","v":51181.5},null,null,{"$f":"MAX('T1'!L104,'T2'!J104)+MAX('T1'!M104,'T2'!K104)+MAX('T1'!N104,'T2'!L104)","v":60087},{"$f":"IF(COUNTRY_INFO!K104=1,IF(COUNTRY_INFO!F104*0.33>MAX('T1'!M104,'T2'!K104),MAX('T1'!M104,'T2'!K104),COUNTRY_INFO!F104*0.33),IF(COUNTRY_INFO!K104=2,IF(COUNTRY_INFO!F104*0.5>MAX('T1'!M104,'T2'!K104),MAX('T1'!M104,'T2'!K104),COUNTRY_INFO!F104*0.5),IF(COUNTRY_INFO!K104=3,IF(COUNTRY_INFO!F104>MAX('T1'!M104,'T2'!K104),MAX('T1'!M104,'T2'!K104),COUNTRY_INFO!F104),0)))","v":30986.5},{"$f":"IF(AND(COUNTRY_INFO!K104>0,COUNTRY_INFO!K104<4),IF(Z104>0,IF(COUNTRY_INFO!K104=1, AD104/(COUNTRY_INFO!F104*0.33)*100, IF(COUNTRY_INFO!K104=2, AD104/(COUNTRY_INFO!F104*0.5)*100, IF(COUNTRY_INFO!K104=3, AD104/COUNTRY_INFO!F104*100))),\"-\"),0)","v":100},{"$f":"IF(COUNTRY_INFO!K104=2,IF(COUNTRY_INFO!G104*0.2>MAX('T1'!N104,'T2'!L104),MAX('T1'!N104,'T2'!L104),COUNTRY_INFO!G104*0.2),IF(COUNTRY_INFO!K104=3,IF(COUNTRY_INFO!G104>MAX('T1'!N104,'T2'!L104),MAX('T1'!N104,'T2'!L104),COUNTRY_INFO!G104),0))","v":0},{"$f":"IF(AND(COUNTRY_INFO!K104>0,COUNTRY_INFO!K104<4),IF(Z104>0,IF(COUNTRY_INFO!K104=1, 0, IF(COUNTRY_INFO!K104=2, AF104/(COUNTRY_INFO!G104*0.2)*100, IF(COUNTRY_INFO!K104=3, AF104/COUNTRY_INFO!G104*100))),\"-\"),0)","v":0},30986.5,{"$f":"IF(AND(COUNTRY_INFO!K104>0,COUNTRY_INFO!K104<4), IF(AC104/Z104*100<>0, IF(AH104/Z104*100>100,100,AH104/Z104*100), \"-\"),0)","v":60.542383478405284},null,{"$f":"IF(AND(D104<>0, D104<>\"Inconnu\",D104<>\"Interrompu\",D104<>\"Non requis\"),D104/COUNTRY_INFO!D104, 0)","v":1},{"$f":"IF(AND(J104<>0,J104<>\"Inconnu\",J104<>\"Interrompu\",J104<>\"Non requis\"),J104/COUNTRY_INFO!D104, 0)","v":1},{"$f":"IF(AND(P104<>0,P104<>\"Inconnu\",P104<>\"Non requis\"),P104/(COUNTRY_INFO!E104+COUNTRY_INFO!F104), 0)","v":1},{"$f":"IF(AND(Z104<>0,Z104<>\"Inconnu\",Z104<>\"Non requis\"),IF(COUNTRY_INFO!K104=1,1,IF(COUNTRY_INFO!K104=2,0.5*COUNTRY_INFO!F104/(0.5*COUNTRY_INFO!F104+0.2*COUNTRY_INFO!G104),IF(COUNTRY_INFO!K104=3,COUNTRY_INFO!F104/(COUNTRY_INFO!F104+COUNTRY_INFO!G104)))),0)","v":0.60542383478405282},{"$f":"IF(AND(Z104<>0,Z104<>\"Inconnu\",Z104<>\"Non requis\"),IF(COUNTRY_INFO!K104=1,0,IF(COUNTRY_INFO!K104=2,0.2*COUNTRY_INFO!G104/(0.5*COUNTRY_INFO!F104+0.2*COUNTRY_INFO!G104),IF(COUNTRY_INFO!K104=3,COUNTRY_INFO!G104/(COUNTRY_INFO!F104+COUNTRY_INFO!G104)))),0)","v":0.39457616521594718},{"$f":"MAX(COUNTRY_INFO!D104*AK104*PROFILE!$G$7,COUNTRY_INFO!D104*AL104*PROFILE!$G$7)","v":7555.2412800624888},{"$f":"MAX(COUNTRY_INFO!D104*AK104*PROFILE!$G$8,COUNTRY_INFO!D104*AL104*PROFILE!$G$8,COUNTRY_INFO!D104*AM104*PROFILE!$G$8)","v":33692.412888560932},{"$f":"MAX(COUNTRY_INFO!D104*AK104*PROFILE!$G$9,COUNTRY_INFO!D104*AL104*PROFILE!$G$9,COUNTRY_INFO!D104*AM104*PROFILE!$G$9,IF(AND(DISTRICT!Z104<>\"Inconnu\",Z104<>\"Non requis\"),COUNTRY_INFO!P104*DISTRICT!AN104,0))","v":61973.431716434214},{"$f":"MAX(COUNTRY_INFO!D104*AK104*PROFILE!$G$10,COUNTRY_INFO!D104*AL104*PROFILE!$G$10,IF(AND(DISTRICT!Z104<>\"Inconnu\",Z104<>\"Non requis\"),COUNTRY_INFO!P104*DISTRICT!AO104,0))","v":100974.91411494237},204196,"Y",{"$f":"MAX('MDA4'!R104,'T1'!L104,'T2'!J104,T3_R1!K104,T3_R2!K104)","v":0},{"$f":"MAX('MDA1'!K104,'MDA4'!S104,'MDA3'!I104,'MDA3'!L104,'T1'!M104,'T2'!K104,T3_R1!L104,T3_R2!L104)","v":60087},{"$f":"MAX('MDA1'!L104,'MDA4'!T104,'MDA3'!J104,'MDA3'!M104,'T1'!N104,'T2'!L104,T3_R1!M104,T3_R2!M104)","v":96762},156849,{"$f":"MAX('MDA4'!R104,T104)","v":0},{"$f":"MAX('MDA1'!K104,'MDA4'!S104,'MDA3'!I104,'MDA3'!L104,V104,AD104)","v":57361},{"$f":"MAX('MDA1'!L104,'MDA4'!T104,'MDA3'!J104,'MDA3'!M104,AF104)","v":96762},154123,75.477972144410273]
[{"$f":"IF(COUNTRY_INFO!A105=0,\" \",COUNTRY_INFO!A105)","v":"Chad"},{"$f":"IF(COUNTRY_INFO!B105=0,\" \",COUNTRY_INFO!B105)","v":"N'Djaména"},{"$f":"IF(COUNTRY_INFO!C105=0,\" \",COUNTRY_INFO!C105)","v":"N'Djaména Centre"},{"$f":"COUNTRY_INFO!M105","v":0},null,null,{"$f":"MAX('MDA1'!M105,'MDA4'!U105)","v":0},{"$f":"IF(AND(COUNTRY_INFO!H105>0,COUNTRY_INFO!H105<4),IF(D105>MAX('MDA1'!M105,'MDA4'!U105),MAX('MDA1'!M105,'MDA4'!U105),D105),0)","v":0},{"$f":"IF(AND(COUNTRY_INFO!H105>0,COUNTRY_INFO!H105<4), IF(G105/D105*100<>0, IF(G105/D105*100>100,100,G105/D105*100), \"-\"),0)","v":0},{"$f":"COUNTRY_INFO!N105","v":0},null,null,{"$f":"MAX('MDA1'!M105,MAX('MDA3'!I105,'MDA3'!L105)+MAX('MDA3'!J105,'MDA3'!M105))","v":0},{"$f":"IF(AND(COUNTRY_INFO!I105>0,COUNTRY_INFO!I105<4),IF(J105>MAX('MDA1'!M105,MAX('MDA3'!I105,'MDA3'!L105)+MAX('MDA3'!J105,'MDA3'!M105)),MAX('MDA1'!M105,MAX('MDA3'!I105,'MDA3'!L105)+MAX('MDA3'!J105,'MDA3'!M105)),J105),0)","v":0},{"$f":"IF(AND(COUNTRY_INFO!I105>0,COUNTRY_INFO!I105<4), IF(M105/J105*100<>0, IF(M105/J105*100>100,100,M105/J105*100), \"-\"),0)","v":0},{"$f":"COUNTRY_INFO!O105","v":0},null,null,{"$f":"SUM(MAX('MDA4'!R105, 'T1'!L105, MAX(T3_R1!K105, T3_R2!K105)), MAX('MDA1'!K105, 'MDA4'!S105, 'T1'!M105, MAX(T3_R1!L105, T3_R2!L105)), MAX('MDA1'!L105, 'MDA4'!T105, 'T1'!N105, MAX(T3_R1!M105, T3_R2!M105)))","v":0},{"$f":"IF(AND(COUNTRY_INFO!J105>1,COUNTRY_INFO!J105<4),IF(COUNTRY_INFO!E105>MAX('MDA4'!R105,'T1'!L105,MAX(T3_R1!K105,T3_R2!K105)),MAX('MDA4'!R105,'T1'!L105,MAX(T3_R1!K105,T3_R2!K105)),COUNTRY_INFO!E105),0)","v":0},{"$f":"IF(AND(COUNTRY_INFO!J105>1,COUNTRY_INFO!J105<4), IF(T105/COUNTRY_INFO!E105*100<>0, IF(T105/COUNTRY_INFO!E105*100>100,100,T105/COUNTRY_INFO!E105*100), \"-\"),0)","v":0},{"$f":"IF(AND(COUNTRY_INFO!J105>1,COUNTRY_INFO!J105<4),IF(COUNTRY_INFO!F105>MAX('MDA1'!K105,'MDA4'!S105,'T1'!M105,MAX(T3_R1!L105,T3_R2!L105)),MAX('MDA1'!K105,'MDA4'!S105,'T1'!M105,MAX(T3_R1!L105,T3_R2!L105)),COUNTRY_INFO!F105),0)","v":0},{"$f":"IF(AND(COUNTRY_INFO!J105>1,COUNTRY_INFO!J105<4), IF(V105/COUNTRY_INFO!F105*100<>0, IF(V105/COUNTRY_INFO!F105*100>100,100,V105/COUNTRY_INFO!F105*100), \"-\"),0)","v":0},0,{"$f":"IF(AND(COUNTRY_INFO!J105>1,COUNTRY_INFO!J105<4), IF(S105/P105*100<>0, IF(X105/P105*100>100,100,X105/P105*100), \"-\"),0)","v":0},{"$f":"COUNTRY_INFO!P105","v":47620.65},null,null,{"$f":"MAX('T1'!L105,'T2'!J105)+MAX('T1'!M105,'T2'!K105)+MAX('T1'!N105,'T2'!L105)","v":0},{"$f":"IF(COUNTRY_INFO!K105=1,IF(COUNTRY_INFO!F105*0.33>MAX('T1'!M105,'T2'!K105),MAX('T1'!M105,'T2'!K105),COUNTRY_INFO!F105*0.33),IF(COUNTRY_INFO!K105=2,IF(COUNTRY_INFO!F105*0.5>MAX('T1'!M105,'T2'!K105),MAX('T1'!M105,'T2'!K105),COUNTRY_INFO!F105*0.5),IF(COUNTRY_INFO!K105=3,IF(COUNTRY_INFO!F105>MAX('T1'!M105,'T2'!K105),MAX('T1'!M105,'T2'!K105),COUNTRY_INFO!F105),0)))","v":0},{"$f":"IF(AND(COUNTRY_INFO!K105>0,COUNTRY_INFO!K105<4),IF(Z105>0,IF(COUNTRY_INFO!K105=1, AD105/(COUNTRY_INFO!F105*0.33)*100, IF(COUNTRY_INFO!K105=2, AD105/(COUNTRY_INFO!F105*0.5)*100, IF(COUNTRY_INFO!K105=3, AD105/COUNTRY_INFO!F105*100))),\"-\"),0)","v":0},{"$f":"IF(COUNTRY_INFO!K105=2,IF(COUNTRY_INFO!G105*0.2>MAX('T1'!N105,'T2'!L105),MAX('T1'!N105,'T2'!L105),COUNTRY_INFO!G105*0.2),IF(COUNTRY_INFO!K105=3,IF(COUNTRY_INFO!G105>MAX('T1'!N105,'T2'!L105),MAX('T1'!N105,'T2'!L105),COUNTRY_INFO!G105),0))","v":0},{"$f":"IF(AND(COUNTRY_INFO!K105>0,COUNTRY_INFO!K105<4),IF(Z105>0,IF(COUNTRY_INFO!K105=1, 0, IF(COUNTRY_INFO!K105=2, AF105/(COUNTRY_INFO!G105*0.2)*100, IF(COUNTRY_INFO!K105=3, AF105/COUNTRY_INFO!G105*100))),\"-\"),0)","v":0},0,{"$f":"IF(AND(COUNTRY_INFO!K105>0,COUNTRY_INFO!K105<4), IF(AC105/Z105*100<>0, IF(AH105/Z105*100>100,100,AH105/Z105*100), \"-\"),0)","v":"-"},null,{"$f":"IF(AND(D105<>0, D105<>\"Inconnu\",D105<>\"Interrompu\",D105<>\"Non requis\"),D105/COUNTRY_INFO!D105, 0)","v":0},{"$f":"IF(AND(J105<>0,J105<>\"Inconnu\",J105<>\"Interrompu\",J105<>\"Non requis\"),J105/COUNTRY_INFO!D105, 0)","v":0},{"$f":"IF(AND(P105<>0,P105<>\"Inconnu\",P105<>\"Non requis\"),P105/(COUNTRY_INFO!E105+COUNTRY_INFO!F105), 0)","v":0},{"$f":"IF(AND(Z105<>0,Z105<>\"Inconnu\",Z105<>\"Non requis\"),IF(COUNTRY_INFO!K105=1,1,IF(COUNTRY_INFO!K105=2,0.5*COUNTRY_INFO!F105/(0.5*COUNTRY_INFO!F105+0.2*COUNTRY_INFO!G105),IF(COUNTRY_INFO!K105=3,COUNTRY_INFO!F105/(COUNTRY_INFO!F105+COUNTRY_INFO!G105)))),0)","v":1},{"$f":"IF(AND(Z105<>0,Z105<>\"Inconnu\",Z105<>\"Non requis\"),IF(COUNTRY_INFO!K105=1,0,IF(COUNTRY_INFO!K105=2,0.2*COUNTRY_INFO!G105/(0.5*COUNTRY_INFO!F105+0.2*COUNTRY_INFO!G105),IF(COUNTRY_INFO!K105=3,COUNTRY_INFO!G105/(COUNTRY_INFO!F105+COUNTRY_INFO!G105)))),0)","v":0},{"$f":"MAX(COUNTRY_INFO!D105*AK105*PROFILE!$G$7,COUNTRY_INFO!D105*AL105*PROFILE!$G$7)","v":0},{"$f":"MAX(COUNTRY_INFO!D105*AK105*PROFILE!$G$8,COUNTRY_INFO!D105*AL105*PROFILE!$G$8,COUNTRY_INFO!D105*AM105*PROFILE!$G$8)","v":0},{"$f":"MAX(COUNTRY_INFO!D105*AK105*PROFILE!$G$9,COUNTRY_INFO!D105*AL105*PROFILE!$G$9,COUNTRY_INFO!D105*AM105*PROFILE!$G$9,IF(AND(DISTRICT!Z105<>\"Inconnu\",Z105<>\"Non requis\"),COUNTRY_INFO!P105*DISTRICT!AN105,0))","v":47620.65},{"$f":"MAX(COUNTRY_INFO!D105*AK105*PROFILE!$G$10,COUNTRY_INFO!D105*AL105*PROFILE!$G$10,IF(AND(DISTRICT!Z105<>\"Inconnu\",Z105<>\"Non requis\"),COUNTRY_INFO!P105*DISTRICT!AO105,0))","v":0},47620.65,{"$f":"IF(COUNTIFS(AK105:AN105,\">0\")=0,0, IF(COUNTIFS(AK105:AN105,\">0\")<=IF(AND(OR(D105>=0,D105=\"Non requis\",D105=\"Inconnu\",D105=\"Interrompu\"),D105>0,H105>0),1,0)+IF(AND(OR(J105>=0,J105=\"Non requis\",J105=\"Inconnu\",J105=\"Interrompu\"),J105>0,N105>0),1,0)+IF(AND(OR(P105>=0,P105=\"Non requis\",P105=\"Inconnu\"),P105>0,X105>0),1,0)+IF(AND(OR(Z105>=0,Z105=\"Non requis\",Z105=\"Inconnu\"),Z105>0,AH105>0),1,0),\"Y\",0))","v":0},{"$f":"MAX('MDA4'!R105,'T1'!L105,'T2'!J105,T3_R1!K105,T3_R2!K105)","v":0},{"$f":"MAX('MDA1'!K105,'MDA4'!S105,'MDA3'!I105,'MDA3'!L105,'T1'!M105,'T2'!K105,T3_R1!L105,T3_R2!L105)","v":0},{"$f":"MAX('MDA1'!L105,'MDA4'!T105,'MDA3'!J105,'MDA3'!M105,'T1'!N105,'T2'!L105,T3_R1!M105,T3_R2!M105)","v":0},0,{"$f":"MAX('MDA4'!R105,T105)","v":0},{"$f":"MAX('MDA1'!K105,'MDA4'!S105,'MDA3'!I105,'MDA3'!L105,V105,AD105)","v":0},{"$f":"MAX('MDA1'!L105,'MDA4'!T105,'MDA3'!J105,'MDA3'!M105,AF105)","v":0},{"$f":"IF(AT105<SUM(AZ105:BB105), AT105,SUM(AZ105:BB105))","v":0},{"$f":"IF(AT105<>0,BC105/AT105*100,0)","v":0}]
[{"$f":"IF(COUNTRY_INFO!A106=0,\" \",COUNTRY_INFO!A106)","v":"Chad"},{"$f":"IF(COUNTRY_INFO!B106=0,\" \",COUNTRY_INFO!B106)","v":"N'Djaména"},{"$f":"IF(COUNTRY_INFO!C106=0,\" \",COUNTRY_INFO!C106)","v":"N'Djaména Est"},{"$f":"COUNTRY_INFO!M106","v":0},null,null,{"$f":"MAX('MDA1'!M106,'MDA4'!U106)","v":0},{"$f":"IF(AND(COUNTRY_INFO!H106>0,COUNTRY_INFO!H106<4),IF(D106>MAX('MDA1'!M106,'MDA4'!U106),MAX('MDA1'!M106,'MDA4'!U106),D106),0)","v":0},{"$f":"IF(AND(COUNTRY_INFO!H106>0,COUNTRY_INFO!H106<4), IF(G106/D106*100<>0, IF(G106/D106*100>100,100,G106/D106*100), \"-\"),0)","v":0},{"$f":"COUNTRY_INFO!N106","v":0},null,null,{"$f":"MAX('MDA1'!M106,MAX('MDA3'!I106,'MDA3'!L106)+MAX('MDA3'!J106,'MDA3'!M106))","v":0},{"$f":"IF(AND(COUNTRY_INFO!I106>0,COUNTRY_INFO!I106<4),IF(J106>MAX('MDA1'!M106,MAX('MDA3'!I106,'MDA3'!L106)+MAX('MDA3'!J106,'MDA3'!M106)),MAX('MDA1'!M106,MAX('MDA3'!I106,'MDA3'!L106)+MAX('MDA3'!J106,'MDA3'!M106)),J106),0)","v":0},{"$f":"IF(AND(COUNTRY_INFO!I106>0,COUNTRY_INFO!I106<4), IF(M106/J106*100<>0, IF(M106/J106*100>100,100,M106/J106*100), \"-\"),0)","v":0},{"$f":"COUNTRY_INFO!O106","v":0},null,null,{"$f":"SUM(MAX('MDA4'!R106, 'T1'!L106, MAX(T3_R1!K106, T3_R2!K106)), MAX('MDA1'!K106, 'MDA4'!S106, 'T1'!M106, MAX(T3_R1!L106, T3_R2!L106)), MAX('MDA1'!L106, 'MDA4'!T106, 'T1'!N106, MAX(T3_R1!M106, T3_R2!M106)))","v":0},{"$f":"IF(AND(COUNTRY_INFO!J106>1,COUNTRY_INFO!J106<4),IF(COUNTRY_INFO!E106>MAX('MDA4'!R106,'T1'!L106,MAX(T3_R1!K106,T3_R2!K106)),MAX('MDA4'!R106,'T1'!L106,MAX(T3_R1!K106,T3_R2!K106)),COUNTRY_INFO!E106),0)","v":0},{"$f":"IF(AND(COUNTRY_INFO!J106>1,COUNTRY_INFO!J106<4), IF(T106/COUNTRY_INFO!E106*100<>0, IF(T106/COUNTRY_INFO!E106*100>100,100,T106/COUNTRY_INFO!E106*100), \"-\"),0)","v":0},{"$f":"IF(AND(COUNTRY_INFO!J106>1,COUNTRY_INFO!J106<4),IF(COUNTRY_INFO!F106>MAX('MDA1'!K106,'MDA4'!S106,'T1'!M106,MAX(T3_R1!L106,T3_R2!L106)),MAX('MDA1'!K106,'MDA4'!S106,'T1'!M106,MAX(T3_R1!L106,T3_R2!L106)),COUNTRY_INFO!F106),0)","v":0},{"$f":"IF(AND(COUNTRY_INFO!J106>1,COUNTRY_INFO!J106<4), IF(V106/COUNTRY_INFO!F106*100<>0, IF(V106/COUNTRY_INFO!F106*100>100,100,V106/COUNTRY_INFO!F106*100), \"-\"),0)","v":0},0,{"$f":"IF(AND(COUNTRY_INFO!J106>1,COUNTRY_INFO!J106<4), IF(S106/P106*100<>0, IF(X106/P106*100>100,100,X106/P106*100), \"-\"),0)","v":0},{"$f":"COUNTRY_INFO!P106","v":17463.27},null,null,{"$f":"MAX('T1'!L106,'T2'!J106)+MAX('T1'!M106,'T2'!K106)+MAX('T1'!N106,'T2'!L106)","v":0},{"$f":"IF(COUNTRY_INFO!K106=1,IF(COUNTRY_INFO!F106*0.33>MAX('T1'!M106,'T2'!K106),MAX('T1'!M106,'T2'!K106),COUNTRY_INFO!F106*0.33),IF(COUNTRY_INFO!K106=2,IF(COUNTRY_INFO!F106*0.5>MAX('T1'!M106,'T2'!K106),MAX('T1'!M106,'T2'!K106),COUNTRY_INFO!F106*0.5),IF(COUNTRY_INFO!K106=3,IF(COUNTRY_INFO!F106>MAX('T1'!M106,'T2'!K106),MAX('T1'!M106,'T2'!K106),COUNTRY_INFO!F106),0)))","v":0},{"$f":"IF(AND(COUNTRY_INFO!K106>0,COUNTRY_INFO!K106<4),IF(Z106>0,IF(COUNTRY_INFO!K106=1, AD106/(COUNTRY_INFO!F106*0.33)*100, IF(COUNTRY_INFO!K106=2, AD106/(COUNTRY_INFO!F106*0.5)*100, IF(COUNTRY_INFO!K106=3, AD106/COUNTRY_INFO!F106*100))),\"-\"),0)","v":0},{"$f":"IF(COUNTRY_INFO!K106=2,IF(COUNTRY_INFO!G106*0.2>MAX('T1'!N106,'T2'!L106),MAX('T1'!N106,'T2'!L106),COUNTRY_INFO!G106*0.2),IF(COUNTRY_INFO!K106=3,IF(COUNTRY_INFO!G106>MAX('T1'!N106,'T2'!L106),MAX('T1'!N106,'T2'!L106),COUNTRY_INFO!G106),0))","v":0},{"$f":"IF(AND(COUNTRY_INFO!K106>0,COUNTRY_INFO!K106<4),IF(Z106>0,IF(COUNTRY_INFO!K106=1, 0, IF(COUNTRY_INFO!K106=2, AF106/(COUNTRY_INFO!G106*0.2)*100, IF(COUNTRY_INFO!K106=3, AF106/COUNTRY_INFO!G106*100))),\"-\"),0)","v":0},0,{"$f":"IF(AND(COUNTRY_INFO!K106>0,COUNTRY_INFO!K106<4), IF(AC106/Z106*100<>0, IF(AH106/Z106*100>100,100,AH106/Z106*100), \"-\"),0)","v":"-"},null,{"$f":"IF(AND(D106<>0, D106<>\"Inconnu\",D106<>\"Interrompu\",D106<>\"Non requis\"),D106/COUNTRY_INFO!D106, 0)","v":0},{"$f":"IF(AND(J106<>0,J106<>\"Inconnu\",J106<>\"Interrompu\",J106<>\"Non requis\"),J106/COUNTRY_INFO!D106, 0)","v":0},{"$f":"IF(AND(P106<>0,P106<>\"Inconnu\",P106<>\"Non requis\"),P106/(COUNTRY_INFO!E106+COUNTRY_INFO!F106), 0)","v":0},{"$f":"IF(AND(Z106<>0,Z106<>\"Inconnu\",Z106<>\"Non requis\"),IF(COUNTRY_INFO!K106=1,1,IF(COUNTRY_INFO!K106=2,0.5*COUNTRY_INFO!F106/(0.5*COUNTRY_INFO!F106+0.2*COUNTRY_INFO!G106),IF(COUNTRY_INFO!K106=3,COUNTRY_INFO!F106/(COUNTRY_INFO!F106+COUNTRY_INFO!G106)))),0)","v":1},{"$f":"IF(AND(Z106<>0,Z106<>\"Inconnu\",Z106<>\"Non requis\"),IF(COUNTRY_INFO!K106=1,0,IF(COUNTRY_INFO!K106=2,0.2*COUNTRY_INFO!G106/(0.5*COUNTRY_INFO!F106+0.2*COUNTRY_INFO!G106),IF(COUNTRY_INFO!K106=3,COUNTRY_INFO!G106/(COUNTRY_INFO!F106+COUNTRY_INFO!G106)))),0)","v":0},{"$f":"MAX(COUNTRY_INFO!D106*AK106*PROFILE!$G$7,COUNTRY_INFO!D106*AL106*PROFILE!$G$7)","v":0},{"$f":"MAX(COUNTRY_INFO!D106*AK106*PROFILE!$G$8,COUNTRY_INFO!D106*AL106*PROFILE!$G$8,COUNTRY_INFO!D106*AM106*PROFILE!$G$8)","v":0},{"$f":"MAX(COUNTRY_INFO!D106*AK106*PROFILE!$G$9,COUNTRY_INFO!D106*AL106*PROFILE!$G$9,COUNTRY_INFO!D106*AM106*PROFILE!$G$9,IF(AND(DISTRICT!Z106<>\"Inconnu\",Z106<>\"Non requis\"),COUNTRY_INFO!P106*DISTRICT!AN106,0))","v":17463.27},{"$f":"MAX(COUNTRY_INFO!D106*AK106*PROFILE!$G$10,COUNTRY_INFO!D106*AL106*PROFILE!$G$10,IF(AND(DISTRICT!Z106<>\"Inconnu\",Z106<>\"Non requis\"),COUNTRY_INFO!P106*DISTRICT!AO106,0))","v":0},17463.27,0,{"$f":"MAX('MDA4'!R106,'T1'!L106,'T2'!J106,T3_R1!K106,T3_R2!K106)","v":0},{"$f":"MAX('MDA1'!K106,'MDA4'!S106,'MDA3'!I106,'MDA3'!L106,'T1'!M106,'T2'!K106,T3_R1!L106,T3_R2!L106)","v":0},{"$f":"MAX('MDA1'!L106,'MDA4'!T106,'MDA3'!J106,'MDA3'!M106,'T1'!N106,'T2'!L106,T3_R1!M106,T3_R2!M106)","v":0},0,{"$f":"MAX('MDA4'!R106,T106)","v":0},{"$f":"MAX('MDA1'!K106,'MDA4'!S106,'MDA3'!I106,'MDA3'!L106,V106,AD106)","v":0},{"$f":"MAX('MDA1'!L106,'MDA4'!T106,'MDA3'!J106,'MDA3'!M106,AF106)","v":0},0,0]
[{"$f":"IF(COUNTRY_INFO!A107=0,\" \",COUNTRY_INFO!A107)","v":"Chad"},{"$f":"IF(COUNTRY_INFO!B107=0,\" \",COUNTRY_INFO!B107)","v":"N'Djaména"},{"$f":"IF(COUNTRY_INFO!C107=0,\" \",COUNTRY_INFO!C107)","v":"N'Djaména Nord"},{"$f":"COUNTRY_INFO!M107","v":0},null,null,{"$f":"MAX('MDA1'!M107,'MDA4'!U107)","v":0},{"$f":"IF(AND(COUNTRY_INFO!H107>0,COUNTRY_INFO!H107<4),IF(D107>MAX('MDA1'!M107,'MDA4'!U107),MAX('MDA1'!M107,'MDA4'!U107),D107),0)","v":0},{"$f":"IF(AND(COUNTRY_INFO!H107>0,COUNTRY_INFO!H107<4), IF(G107/D107*100<>0, IF(G107/D107*100>100,100,G107/D107*100), \"-\"),0)","v":0},{"$f":"COUNTRY_INFO!N107","v":0},null,null,{"$f":"MAX('MDA1'!M107,MAX('MDA3'!I107,'MDA3'!L107)+MAX('MDA3'!J107,'MDA3'!M107))","v":0},{"$f":"IF(AND(COUNTRY_INFO!I107>0,COUNTRY_INFO!I107<4),IF(J107>MAX('MDA1'!M107,MAX('MDA3'!I107,'MDA3'!L107)+MAX('MDA3'!J107,'MDA3'!M107)),MAX('MDA1'!M107,MAX('MDA3'!I107,'MDA3'!L107)+MAX('MDA3'!J107,'MDA3'!M107)),J107),0)","v":0},{"$f":"IF(AND(COUNTRY_INFO!I107>0,COUNTRY_INFO!I107<4), IF(M107/J107*100<>0, IF(M107/J107*100>100,100,M107/J107*100), \"-\"),0)","v":0},{"$f":"COUNTRY_INFO!O107","v":0},null,null,{"$f":"SUM(MAX('MDA4'!R107, 'T1'!L107, MAX(T3_R1!K107, T3_R2!K107)), MAX('MDA1'!K107, 'MDA4'!S107, 'T1'!M107, MAX(T3_R1!L107, T3_R2!L107)), MAX('MDA1'!L107, 'MDA4'!T107, 'T1'!N107, MAX(T3_R1!M107, T3_R2!M107)))","v":0},{"$f":"IF(AND(COUNTRY_INFO!J107>1,COUNTRY_INFO!J107<4),IF(COUNTRY_INFO!E107>MAX('MDA4'!R107,'T1'!L107,MAX(T3_R1!K107,T3_R2!K107)),MAX('MDA4'!R107,'T1'!L107,MAX(T3_R1!K107,T3_R2!K107)),COUNTRY_INFO!E107),0)","v":0},{"$f":"IF(AND(COUNTRY_INFO!J107>1,COUNTRY_INFO!J107<4), IF(T107/COUNTRY_INFO!E107*100<>0, IF(T107/COUNTRY_INFO!E107*100>100,100,T107/COUNTRY_INFO!E107*100), \"-\"),0)","v":0},{"$f":"IF(AND(COUNTRY_INFO!J107>1,COUNTRY_INFO!J107<4),IF(COUNTRY_INFO!F107>MAX('MDA1'!K107,'MDA4'!S107,'T1'!M107,MAX(T3_R1!L107,T3_R2!L107)),MAX('MDA1'!K107,'MDA4'!S107,'T1'!M107,MAX(T3_R1!L107,T3_R2!L107)),COUNTRY_INFO!F107),0)","v":0},{"$f":"IF(AND(COUNTRY_INFO!J107>1,COUNTRY_INFO!J107<4), IF(V107/COUNTRY_INFO!F107*100<>0, IF(V107/COUNTRY_INFO!F107*100>100,100,V107/COUNTRY_INFO!F107*100), \"-\"),0)","v":0},0,{"$f":"IF(AND(COUNTRY_INFO!J107>1,COUNTRY_INFO!J107<4), IF(S107/P107*100<>0, IF(X107/P107*100>100,100,X107/P107*100), \"-\"),0)","v":0},{"$f":"COUNTRY_INFO!P107","v":16925.04},null,null,{"$f":"MAX('T1'!L107,'T2'!J107)+MAX('T1'!M107,'T2'!K107)+MAX('T1'!N107,'T2'!L107)","v":0},{"$f":"IF(COUNTRY_INFO!K107=1,IF(COUNTRY_INFO!F107*0.33>MAX('T1'!M107,'T2'!K107),MAX('T1'!M107,'T2'!K107),COUNTRY_INFO!F107*0.33),IF(COUNTRY_INFO!K107=2,IF(COUNTRY_INFO!F107*0.5>MAX('T1'!M107,'T2'!K107),MAX('T1'!M107,'T2'!K107),COUNTRY_INFO!F107*0.5),IF(COUNTRY_INFO!K107=3,IF(COUNTRY_INFO!F107>MAX('T1'!M107,'T2'!K107),MAX('T1'!M107,'T2'!K107),COUNTRY_INFO!F107),0)))","v":0},{"$f":"IF(AND(COUNTRY_INFO!K107>0,COUNTRY_INFO!K107<4),IF(Z107>0,IF(COUNTRY_INFO!K107=1, AD107/(COUNTRY_INFO!F107*0.33)*100, IF(COUNTRY_INFO!K107=2, AD107/(COUNTRY_INFO!F107*0.5)*100, IF(COUNTRY_INFO!K107=3, AD107/COUNTRY_INFO!F107*100))),\"-\"),0)","v":0},{"$f":"IF(COUNTRY_INFO!K107=2,IF(COUNTRY_INFO!G107*0.2>MAX('T1'!N107,'T2'!L107),MAX('T1'!N107,'T2'!L107),COUNTRY_INFO!G107*0.2),IF(COUNTRY_INFO!K107=3,IF(COUNTRY_INFO!G107>MAX('T1'!N107,'T2'!L107),MAX('T1'!N107,'T2'!L107),COUNTRY_INFO!G107),0))","v":0},{"$f":"IF(AND(COUNTRY_INFO!K107>0,COUNTRY_INFO!K107<4),IF(Z107>0,IF(COUNTRY_INFO!K107=1, 0, IF(COUNTRY_INFO!K107=2, AF107/(COUNTRY_INFO!G107*0.2)*100, IF(COUNTRY_INFO!K107=3, AF107/COUNTRY_INFO!G107*100))),\"-\"),0)","v":0},0,{"$f":"IF(AND(COUNTRY_INFO!K107>0,COUNTRY_INFO!K107<4), IF(AC107/Z107*100<>0, IF(AH107/Z107*100>100,100,AH107/Z107*100), \"-\"),0)","v":"-"},null,{"$f":"IF(AND(D107<>0, D107<>\"Inconnu\",D107<>\"Interrompu\",D107<>\"Non requis\"),D107/COUNTRY_INFO!D107, 0)","v":0},{"$f":"IF(AND(J107<>0,J107<>\"Inconnu\",J107<>\"Interrompu\",J107<>\"Non requis\"),J107/COUNTRY_INFO!D107, 0)","v":0},{"$f":"IF(AND(P107<>0,P107<>\"Inconnu\",P107<>\"Non requis\"),P107/(COUNTRY_INFO!E107+COUNTRY_INFO!F107), 0)","v":0},{"$f":"IF(AND(Z107<>0,Z107<>\"Inconnu\",Z107<>\"Non requis\"),IF(COUNTRY_INFO!K107=1,1,IF(COUNTRY_INFO!K107=2,0.5*COUNTRY_INFO!F107/(0.5*COUNTRY_INFO!F107+0.2*COUNTRY_INFO!G107),IF(COUNTRY_INFO!K107=3,COUNTRY_INFO!F107/(COUNTRY_INFO!F107+COUNTRY_INFO!G107)))),0)","v":1},{"$f":"IF(AND(Z107<>0,Z107<>\"Inconnu\",Z107<>\"Non requis\"),IF(COUNTRY_INFO!K107=1,0,IF(COUNTRY_INFO!K107=2,0.2*COUNTRY_INFO!G107/(0.5*COUNTRY_INFO!F107+0.2*COUNTRY_INFO!G107),IF(COUNTRY_INFO!K107=3,COUNTRY_INFO!G107/(COUNTRY_INFO!F107+COUNTRY_INFO!G107)))),0)","v":0},{"$f":"MAX(COUNTRY_INFO!D107*AK107*PROFILE!$G$7,COUNTRY_INFO!D107*AL107*PROFILE!$G$7)","v":0},{"$f":"MAX(COUNTRY_INFO!D107*AK107*PROFILE!$G$8,COUNTRY_INFO!D107*AL107*PROFILE!$G$8,COUNTRY_INFO!D107*AM107*PROFILE!$G$8)","v":0},{"$f":"MAX(COUNTRY_INFO!D107*AK107*PROFILE!$G$9,COUNTRY_INFO!D107*AL107*PROFILE!$G$9,COUNTRY_INFO!D107*AM107*PROFILE!$G$9,IF(AND(DISTRICT!Z107<>\"Inconnu\",Z107<>\"Non requis\"),COUNTRY_INFO!P107*DISTRICT!AN107,0))","v":16925.04},{"$f":"MAX(COUNTRY_INFO!D107*AK107*PROFILE!$G$10,COUNTRY_INFO!D107*AL107*PROFILE!$G$10,IF(AND(DISTRICT!Z107<>\"Inconnu\",Z107<>\"Non requis\"),COUNTRY_INFO!P107*DISTRICT!AO107,0))","v":0},16925.04,0,{"$f":"MAX('MDA4'!R107,'T1'!L107,'T2'!J107,T3_R1!K107,T3_R2!K107)","v":0},{"$f":"MAX('MDA1'!K107,'MDA4'!S107,'MDA3'!I107,'MDA3'!L107,'T1'!M107,'T2'!K107,T3_R1!L107,T3_R2!L107)","v":0},{"$f":"MAX('MDA1'!L107,'MDA4'!T107,'MDA3'!J107,'MDA3'!M107,'T1'!N107,'T2'!L107,T3_R1!M107,T3_R2!M107)","v":0},0,{"$f":"MAX('MDA4'!R107,T107)","v":0},{"$f":"MAX('MDA1'!K107,'MDA4'!S107,'MDA3'!I107,'MDA3'!L107,V107,AD107)","v":0},{"$f":"MAX('MDA1'!L107,'MDA4'!T107,'MDA3'!J107,'MDA3'!M107,AF107)","v":0},0,0]
[{"$f":"IF(COUNTRY_INFO!A108=0,\" \",COUNTRY_INFO!A108)","v":"Chad"},{"$f":"IF(COUNTRY_INFO!B108=0,\" \",COUNTRY_INFO!B108)","v":"N'Djaména"},{"$f":"IF(COUNTRY_INFO!C108=0,\" \",COUNTRY_INFO!C108)","v":"N'Djaména Sud"},{"$f":"COUNTRY_INFO!M108","v":0},null,null,{"$f":"MAX('MDA1'!M108,'MDA4'!U108)","v":0},{"$f":"IF(AND(COUNTRY_INFO!H108>0,COUNTRY_INFO!H108<4),IF(D108>MAX('MDA1'!M108,'MDA4'!U108),MAX('MDA1'!M108,'MDA4'!U108),D108),0)","v":0},{"$f":"IF(AND(COUNTRY_INFO!H108>0,COUNTRY_INFO!H108<4), IF(G108/D108*100<>0, IF(G108/D108*100>100,100,G108/D108*100), \"-\"),0)","v":0},{"$f":"COUNTRY_INFO!N108","v":0},null,null,{"$f":"MAX('MDA1'!M108,MAX('MDA3'!I108,'MDA3'!L108)+MAX('MDA3'!J108,'MDA3'!M108))","v":0},{"$f":"IF(AND(COUNTRY_INFO!I108>0,COUNTRY_INFO!I108<4),IF(J108>MAX('MDA1'!M108,MAX('MDA3'!I108,'MDA3'!L108)+MAX('MDA3'!J108,'MDA3'!M108)),MAX('MDA1'!M108,MAX('MDA3'!I108,'MDA3'!L108)+MAX('MDA3'!J108,'MDA3'!M108)),J108),0)","v":0},{"$f":"IF(AND(COUNTRY_INFO!I108>0,COUNTRY_INFO!I108<4), IF(M108/J108*100<>0, IF(M108/J108*100>100,100,M108/J108*100), \"-\"),0)","v":0},{"$f":"COUNTRY_INFO!O108","v":0},null,null,{"$f":"SUM(MAX('MDA4'!R108, 'T1'!L108, MAX(T3_R1!K108, T3_R2!K108)), MAX('MDA1'!K108, 'MDA4'!S108, 'T1'!M108, MAX(T3_R1!L108, T3_R2!L108)), MAX('MDA1'!L108, 'MDA4'!T108, 'T1'!N108, MAX(T3_R1!M108, T3_R2!M108)))","v":0},{"$f":"IF(AND(COUNTRY_INFO!J108>1,COUNTRY_INFO!J108<4),IF(COUNTRY_INFO!E108>MAX('MDA4'!R108,'T1'!L108,MAX(T3_R1!K108,T3_R2!K108)),MAX('MDA4'!R108,'T1'!L108,MAX(T3_R1!K108,T3_R2!K108)),COUNTRY_INFO!E108),0)","v":0},{"$f":"IF(AND(COUNTRY_INFO!J108>1,COUNTRY_INFO!J108<4), IF(T108/COUNTRY_INFO!E108*100<>0, IF(T108/COUNTRY_INFO!E108*100>100,100,T108/COUNTRY_INFO!E108*100), \"-\"),0)","v":0},{"$f":"IF(AND(COUNTRY_INFO!J108>1,COUNTRY_INFO!J108<4),IF(COUNTRY_INFO!F108>MAX('MDA1'!K108,'MDA4'!S108,'T1'!M108,MAX(T3_R1!L108,T3_R2!L108)),MAX('MDA1'!K108,'MDA4'!S108,'T1'!M108,MAX(T3_R1!L108,T3_R2!L108)),COUNTRY_INFO!F108),0)","v":0},{"$f":"IF(AND(COUNTRY_INFO!J108>1,COUNTRY_INFO!J108<4), IF(V108/COUNTRY_INFO!F108*100<>0, IF(V108/COUNTRY_INFO!F108*100>100,100,V108/COUNTRY_INFO!F108*100), \"-\"),0)","v":0},0,{"$f":"IF(AND(COUNTRY_INFO!J108>1,COUNTRY_INFO!J108<4), IF(S108/P108*100<>0, IF(X108/P108*100>100,100,X108/P108*100), \"-\"),0)","v":0},{"$f":"COUNTRY_INFO!P108","v":44659.560000000005},null,null,{"$f":"MAX('T1'!L108,'T2'!J108)+MAX('T1'!M108,'T2'!K108)+MAX('T1'!N108,'T2'!L108)","v":0},{"$f":"IF(COUNTRY_INFO!K108=1,IF(COUNTRY_INFO!F108*0.33>MAX('T1'!M108,'T2'!K108),MAX('T1'!M108,'T2'!K108),COUNTRY_INFO!F108*0.33),IF(COUNTRY_INFO!K108=2,IF(COUNTRY_INFO!F108*0.5>MAX('T1'!M108,'T2'!K108),MAX('T1'!M108,'T2'!K108),COUNTRY_INFO!F108*0.5),IF(COUNTRY_INFO!K108=3,IF(COUNTRY_INFO!F108>MAX('T1'!M108,'T2'!K108),MAX('T1'!M108,'T2'!K108),COUNTRY_INFO!F108),0)))","v":0},{"$f":"IF(AND(COUNTRY_INFO!K108>0,COUNTRY_INFO!K108<4),IF(Z108>0,IF(COUNTRY_INFO!K108=1, AD108/(COUNTRY_INFO!F108*0.33)*100, IF(COUNTRY_INFO!K108=2, AD108/(COUNTRY_INFO!F108*0.5)*100, IF(COUNTRY_INFO!K108=3, AD108/COUNTRY_INFO!F108*100))),\"-\"),0)","v":0},{"$f":"IF(COUNTRY_INFO!K108=2,IF(COUNTRY_INFO!G108*0.2>MAX('T1'!N108,'T2'!L108),MAX('T1'!N108,'T2'!L108),COUNTRY_INFO!G108*0.2),IF(COUNTRY_INFO!K108=3,IF(COUNTRY_INFO!G108>MAX('T1'!N108,'T2'!L108),MAX('T1'!N108,'T2'!L108),COUNTRY_INFO!G108),0))","v":0},{"$f":"IF(AND(COUNTRY_INFO!K108>0,COUNTRY_INFO!K108<4),IF(Z108>0,IF(COUNTRY_INFO!K108=1, 0, IF(COUNTRY_INFO!K108=2, AF108/(COUNTRY_INFO!G108*0.2)*100, IF(COUNTRY_INFO!K108=3, AF108/COUNTRY_INFO!G108*100))),\"-\"),0)","v":0},0,{"$f":"IF(AND(COUNTRY_INFO!K108>0,COUNTRY_INFO!K108<4), IF(AC108/Z108*100<>0, IF(AH108/Z108*100>100,100,AH108/Z108*100), \"-\"),0)","v":"-"},null,{"$f":"IF(AND(D108<>0, D108<>\"Inconnu\",D108<>\"Interrompu\",D108<>\"Non requis\"),D108/COUNTRY_INFO!D108, 0)","v":0},{"$f":"IF(AND(J108<>0,J108<>\"Inconnu\",J108<>\"Interrompu\",J108<>\"Non requis\"),J108/COUNTRY_INFO!D108, 0)","v":0},{"$f":"IF(AND(P108<>0,P108<>\"Inconnu\",P108<>\"Non requis\"),P108/(COUNTRY_INFO!E108+COUNTRY_INFO!F108), 0)","v":0},{"$f":"IF(AND(Z108<>0,Z108<>\"Inconnu\",Z108<>\"Non requis\"),IF(COUNTRY_INFO!K108=1,1,IF(COUNTRY_INFO!K108=2,0.5*COUNTRY_INFO!F108/(0.5*COUNTRY_INFO!F108+0.2*COUNTRY_INFO!G108),IF(COUNTRY_INFO!K108=3,COUNTRY_INFO!F108/(COUNTRY_INFO!F108+COUNTRY_INFO!G108)))),0)","v":1},{"$f":"IF(AND(Z108<>0,Z108<>\"Inconnu\",Z108<>\"Non requis\"),IF(COUNTRY_INFO!K108=1,0,IF(COUNTRY_INFO!K108=2,0.2*COUNTRY_INFO!G108/(0.5*COUNTRY_INFO!F108+0.2*COUNTRY_INFO!G108),IF(COUNTRY_INFO!K108=3,COUNTRY_INFO!G108/(COUNTRY_INFO!F108+COUNTRY_INFO!G108)))),0)","v":0},{"$f":"MAX(COUNTRY_INFO!D108*AK108*PROFILE!$G$7,COUNTRY_INFO!D108*AL108*PROFILE!$G$7)","v":0},{"$f":"MAX(COUNTRY_INFO!D108*AK108*PROFILE!$G$8,COUNTRY_INFO!D108*AL108*PROFILE!$G$8,COUNTRY_INFO!D108*AM108*PROFILE!$G$8)","v":0},{"$f":"MAX(COUNTRY_INFO!D108*AK108*PROFILE!$G$9,COUNTRY_INFO!D108*AL108*PROFILE!$G$9,COUNTRY_INFO!D108*AM108*PROFILE!$G$9,IF(AND(DISTRICT!Z108<>\"Inconnu\",Z108<>\"Non requis\"),COUNTRY_INFO!P108*DISTRICT!AN108,0))","v":44659.560000000005},{"$f":"MAX(COUNTRY_INFO!D108*AK108*PROFILE!$G$10,COUNTRY_INFO!D108*AL108*PROFILE!$G$10,IF(AND(DISTRICT!Z108<>\"Inconnu\",Z108<>\"Non requis\"),COUNTRY_INFO!P108*DISTRICT!AO108,0))","v":0},44659.560000000005,0,{"$f":"MAX('MDA4'!R108,'T1'!L108,'T2'!J108,T3_R1!K108,T3_R2!K108)","v":0},{"$f":"MAX('MDA1'!K108,'MDA4'!S108,'MDA3'!I108,'MDA3'!L108,'T1'!M108,'T2'!K108,T3_R1!L108,T3_R2!L108)","v":0},{"$f":"MAX('MDA1'!L108,'MDA4'!T108,'MDA3'!J108,'MDA3'!M108,'T1'!N108,'T2'!L108,T3_R1!M108,T3_R2!M108)","v":0},0,{"$f":"MAX('MDA4'!R108,T108)","v":0},{"$f":"MAX('MDA1'!K108,'MDA4'!S108,'MDA3'!I108,'MDA3'!L108,V108,AD108)","v":0},{"$f":"MAX('MDA1'!L108,'MDA4'!T108,'MDA3'!J108,'MDA3'!M108,AF108)","v":0},0,0]
[{"$f":"IF(COUNTRY_INFO!A109=0,\" \",COUNTRY_INFO!A109)","v":"Chad"},{"$f":"IF(COUNTRY_INFO!B109=0,\" \",COUNTRY_INFO!B109)","v":"N'Djamena"},{"$f":"IF(COUNTRY_INFO!C109=0,\" \",COUNTRY_INFO!C109)","v":"9eme Arrondissement"},{"$f":"COUNTRY_INFO!M109","v":0},null,null,{"$f":"MAX('MDA1'!M109,'MDA4'!U109)","v":0},{"$f":"IF(AND(COUNTRY_INFO!H109>0,COUNTRY_INFO!H109<4),IF(D109>MAX('MDA1'!M109,'MDA4'!U109),MAX('MDA1'!M109,'MDA4'!U109),D109),0)","v":0},{"$f":"IF(AND(COUNTRY_INFO!H109>0,COUNTRY_INFO!H109<4), IF(G109/D109*100<>0, IF(G109/D109*100>100,100,G109/D109*100), \"-\"),0)","v":0},{"$f":"COUNTRY_INFO!N109","v":0},null,null,{"$f":"MAX('MDA1'!M109,MAX('MDA3'!I109,'MDA3'!L109)+MAX('MDA3'!J109,'MDA3'!M109))","v":0},{"$f":"IF(AND(COUNTRY_INFO!I109>0,COUNTRY_INFO!I109<4),IF(J109>MAX('MDA1'!M109,MAX('MDA3'!I109,'MDA3'!L109)+MAX('MDA3'!J109,'MDA3'!M109)),MAX('MDA1'!M109,MAX('MDA3'!I109,'MDA3'!L109)+MAX('MDA3'!J109,'MDA3'!M109)),J109),0)","v":0},{"$f":"IF(AND(COUNTRY_INFO!I109>0,COUNTRY_INFO!I109<4), IF(M109/J109*100<>0, IF(M109/J109*100>100,100,M109/J109*100), \"-\"),0)","v":0},{"$f":"COUNTRY_INFO!O109","v":0},null,null,{"$f":"SUM(MAX('MDA4'!R109, 'T1'!L109, MAX(T3_R1!K109, T3_R2!K109)), MAX('MDA1'!K109, 'MDA4'!S109, 'T1'!M109, MAX(T3_R1!L109, T3_R2!L109)), MAX('MDA1'!L109, 'MDA4'!T109, 'T1'!N109, MAX(T3_R1!M109, T3_R2!M109)))","v":0},{"$f":"IF(AND(COUNTRY_INFO!J109>1,COUNTRY_INFO!J109<4),IF(COUNTRY_INFO!E109>MAX('MDA4'!R109,'T1'!L109,MAX(T3_R1!K109,T3_R2!K109)),MAX('MDA4'!R109,'T1'!L109,MAX(T3_R1!K109,T3_R2!K109)),COUNTRY_INFO!E109),0)","v":0},{"$f":"IF(AND(COUNTRY_INFO!J109>1,COUNTRY_INFO!J109<4), IF(T109/COUNTRY_INFO!E109*100<>0, IF(T109/COUNTRY_INFO!E109*100>100,100,T109/COUNTRY_INFO!E109*100), \"-\"),0)","v":0},{"$f":"IF(AND(COUNTRY_INFO!J109>1,COUNTRY_INFO!J109<4),IF(COUNTRY_INFO!F109>MAX('MDA1'!K109,'MDA4'!S109,'T1'!M109,MAX(T3_R1!L109,T3_R2!L109)),MAX('MDA1'!K109,'MDA4'!S109,'T1'!M109,MAX(T3_R1!L109,T3_R2!L109)),COUNTRY_INFO!F109),0)","v":0},{"$f":"IF(AND(COUNTRY_INFO!J109>1,COUNTRY_INFO!J109<4), IF(V109/COUNTRY_INFO!F109*100<>0, IF(V109/COUNTRY_INFO!F109*100>100,100,V109/COUNTRY_INFO!F109*100), \"-\"),0)","v":0},0,{"$f":"IF(AND(COUNTRY_INFO!J109>1,COUNTRY_INFO!J109<4), IF(S109/P109*100<>0, IF(X109/P109*100>100,100,X109/P109*100), \"-\"),0)","v":0},{"$f":"COUNTRY_INFO!P109","v":15918.54},null,null,{"$f":"MAX('T1'!L109,'T2'!J109)+MAX('T1'!M109,'T2'!K109)+MAX('T1'!N109,'T2'!L109)","v":0},{"$f":"IF(COUNTRY_INFO!K109=1,IF(COUNTRY_INFO!F109*0.33>MAX('T1'!M109,'T2'!K109),MAX('T1'!M109,'T2'!K109),COUNTRY_INFO!F109*0.33),IF(COUNTRY_INFO!K109=2,IF(COUNTRY_INFO!F109*0.5>MAX('T1'!M109,'T2'!K109),MAX('T1'!M109,'T2'!K109),COUNTRY_INFO!F109*0.5),IF(COUNTRY_INFO!K109=3,IF(COUNTRY_INFO!F109>MAX('T1'!M109,'T2'!K109),MAX('T1'!M109,'T2'!K109),COUNTRY_INFO!F109),0)))","v":0},{"$f":"IF(AND(COUNTRY_INFO!K109>0,COUNTRY_INFO!K109<4),IF(Z109>0,IF(COUNTRY_INFO!K109=1, AD109/(COUNTRY_INFO!F109*0.33)*100, IF(COUNTRY_INFO!K109=2, AD109/(COUNTRY_INFO!F109*0.5)*100, IF(COUNTRY_INFO!K109=3, AD109/COUNTRY_INFO!F109*100))),\"-\"),0)","v":0},{"$f":"IF(COUNTRY_INFO!K109=2,IF(COUNTRY_INFO!G109*0.2>MAX('T1'!N109,'T2'!L109),MAX('T1'!N109,'T2'!L109),COUNTRY_INFO!G109*0.2),IF(COUNTRY_INFO!K109=3,IF(COUNTRY_INFO!G109>MAX('T1'!N109,'T2'!L109),MAX('T1'!N109,'T2'!L109),COUNTRY_INFO!G109),0))","v":0},{"$f":"IF(AND(COUNTRY_INFO!K109>0,COUNTRY_INFO!K109<4),IF(Z109>0,IF(COUNTRY_INFO!K109=1, 0, IF(COUNTRY_INFO!K109=2, AF109/(COUNTRY_INFO!G109*0.2)*100, IF(COUNTRY_INFO!K109=3, AF109/COUNTRY_INFO!G109*100))),\"-\"),0)","v":0},0,{"$f":"IF(AND(COUNTRY_INFO!K109>0,COUNTRY_INFO!K109<4), IF(AC109/Z109*100<>0, IF(AH109/Z109*100>100,100,AH109/Z109*100), \"-\"),0)","v":"-"},null,{"$f":"IF(AND(D109<>0, D109<>\"Inconnu\",D109<>\"Interrompu\",D109<>\"Non requis\"),D109/COUNTRY_INFO!D109, 0)","v":0},{"$f":"IF(AND(J109<>0,J109<>\"Inconnu\",J109<>\"Interrompu\",J109<>\"Non requis\"),J109/COUNTRY_INFO!D109, 0)","v":0},{"$f":"IF(AND(P109<>0,P109<>\"Inconnu\",P109<>\"Non requis\"),P109/(COUNTRY_INFO!E109+COUNTRY_INFO!F109), 0)","v":0},{"$f":"IF(AND(Z109<>0,Z109<>\"Inconnu\",Z109<>\"Non requis\"),IF(COUNTRY_INFO!K109=1,1,IF(COUNTRY_INFO!K109=2,0.5*COUNTRY_INFO!F109/(0.5*COUNTRY_INFO!F109+0.2*COUNTRY_INFO!G109),IF(COUNTRY_INFO!K109=3,COUNTRY_INFO!F109/(COUNTRY_INFO!F109+COUNTRY_INFO!G109)))),0)","v":1},{"$f":"IF(AND(Z109<>0,Z109<>\"Inconnu\",Z109<>\"Non requis\"),IF(COUNTRY_INFO!K109=1,0,IF(COUNTRY_INFO!K109=2,0.2*COUNTRY_INFO!G109/(0.5*COUNTRY_INFO!F109+0.2*COUNTRY_INFO!G109),IF(COUNTRY_INFO!K109=3,COUNTRY_INFO!G109/(COUNTRY_INFO!F109+COUNTRY_INFO!G109)))),0)","v":0},{"$f":"MAX(COUNTRY_INFO!D109*AK109*PROFILE!$G$7,COUNTRY_INFO!D109*AL109*PROFILE!$G$7)","v":0},{"$f":"MAX(COUNTRY_INFO!D109*AK109*PROFILE!$G$8,COUNTRY_INFO!D109*AL109*PROFILE!$G$8,COUNTRY_INFO!D109*AM109*PROFILE!$G$8)","v":0},{"$f":"MAX(COUNTRY_INFO!D109*AK109*PROFILE!$G$9,COUNTRY_INFO!D109*AL109*PROFILE!$G$9,COUNTRY_INFO!D109*AM109*PROFILE!$G$9,IF(AND(DISTRICT!Z109<>\"Inconnu\",Z109<>\"Non requis\"),COUNTRY_INFO!P109*DISTRICT!AN109,0))","v":15918.54},{"$f":"MAX(COUNTRY_INFO!D109*AK109*PROFILE!$G$10,COUNTRY_INFO!D109*AL109*PROFILE!$G$10,IF(AND(DISTRICT!Z109<>\"Inconnu\",Z109<>\"Non requis\"),COUNTRY_INFO!P109*DISTRICT!AO109,0))","v":0},15918.54,0,{"$f":"MAX('MDA4'!R109,'T1'!L109,'T2'!J109,T3_R1!K109,T3_R2!K109)","v":0},{"$f":"MAX('MDA1'!K109,'MDA4'!S109,'MDA3'!I109,'MDA3'!L109,'T1'!M109,'T2'!K109,T3_R1!L109,T3_R2!L109)","v":0},{"$f":"MAX('MDA1'!L109,'MDA4'!T109,'MDA3'!J109,'MDA3'!M109,'T1'!N109,'T2'!L109,T3_R1!M109,T3_R2!M109)","v":0},0,{"$f":"MAX('MDA4'!R109,T109)","v":0},{"$f":"MAX('MDA1'!K109,'MDA4'!S109,'MDA3'!I109,'MDA3'!L109,V109,AD109)","v":0},{"$f":"MAX('MDA1'!L109,'MDA4'!T109,'MDA3'!J109,'MDA3'!M109,AF109)","v":0},0,0]
[{"$f":"IF(COUNTRY_INFO!A110=0,\" \",COUNTRY_INFO!A110)","v":"Chad"},{"$f":"IF(COUNTRY_INFO!B110=0,\" \",COUNTRY_INFO!B110)","v":"Ouaddai"},{"$f":"IF(COUNTRY_INFO!C110=0,\" \",COUNTRY_INFO!C110)","v":"Abdi"},{"$f":"COUNTRY_INFO!M110","v":0},null,null,{"$f":"MAX('MDA1'!M110,'MDA4'!U110)","v":0},{"$f":"IF(AND(COUNTRY_INFO!H110>0,COUNTRY_INFO!H110<4),IF(D110>MAX('MDA1'!M110,'MDA4'!U110),MAX('MDA1'!M110,'MDA4'!U110),D110),0)","v":0},{"$f":"IF(AND(COUNTRY_INFO!H110>0,COUNTRY_INFO!H110<4), IF(G110/D110*100<>0, IF(G110/D110*100>100,100,G110/D110*100), \"-\"),0)","v":0},{"$f":"COUNTRY_INFO!N110","v":0},null,null,{"$f":"MAX('MDA1'!M110,MAX('MDA3'!I110,'MDA3'!L110)+MAX('MDA3'!J110,'MDA3'!M110))","v":0},{"$f":"IF(AND(COUNTRY_INFO!I110>0,COUNTRY_INFO!I110<4),IF(J110>MAX('MDA1'!M110,MAX('MDA3'!I110,'MDA3'!L110)+MAX('MDA3'!J110,'MDA3'!M110)),MAX('MDA1'!M110,MAX('MDA3'!I110,'MDA3'!L110)+MAX('MDA3'!J110,'MDA3'!M110)),J110),0)","v":0},{"$f":"IF(AND(COUNTRY_INFO!I110>0,COUNTRY_INFO!I110<4), IF(M110/J110*100<>0, IF(M110/J110*100>100,100,M110/J110*100), \"-\"),0)","v":0},{"$f":"COUNTRY_INFO!O110","v":0},null,null,{"$f":"SUM(MAX('MDA4'!R110, 'T1'!L110, MAX(T3_R1!K110, T3_R2!K110)), MAX('MDA1'!K110, 'MDA4'!S110, 'T1'!M110, MAX(T3_R1!L110, T3_R2!L110)), MAX('MDA1'!L110, 'MDA4'!T110, 'T1'!N110, MAX(T3_R1!M110, T3_R2!M110)))","v":0},{"$f":"IF(AND(COUNTRY_INFO!J110>1,COUNTRY_INFO!J110<4),IF(COUNTRY_INFO!E110>MAX('MDA4'!R110,'T1'!L110,MAX(T3_R1!K110,T3_R2!K110)),MAX('MDA4'!R110,'T1'!L110,MAX(T3_R1!K110,T3_R2!K110)),COUNTRY_INFO!E110),0)","v":0},{"$f":"IF(AND(COUNTRY_INFO!J110>1,COUNTRY_INFO!J110<4), IF(T110/COUNTRY_INFO!E110*100<>0, IF(T110/COUNTRY_INFO!E110*100>100,100,T110/COUNTRY_INFO!E110*100), \"-\"),0)","v":0},{"$f":"IF(AND(COUNTRY_INFO!J110>1,COUNTRY_INFO!J110<4),IF(COUNTRY_INFO!F110>MAX('MDA1'!K110,'MDA4'!S110,'T1'!M110,MAX(T3_R1!L110,T3_R2!L110)),MAX('MDA1'!K110,'MDA4'!S110,'T1'!M110,MAX(T3_R1!L110,T3_R2!L110)),COUNTRY_INFO!F110),0)","v":0},{"$f":"IF(AND(COUNTRY_INFO!J110>1,COUNTRY_INFO!J110<4), IF(V110/COUNTRY_INFO!F110*100<>0, IF(V110/COUNTRY_INFO!F110*100>100,100,V110/COUNTRY_INFO!F110*100), \"-\"),0)","v":0},0,{"$f":"IF(AND(COUNTRY_INFO!J110>1,COUNTRY_INFO!J110<4), IF(S110/P110*100<>0, IF(X110/P110*100>100,100,X110/P110*100), \"-\"),0)","v":0},{"$f":"COUNTRY_INFO!P110","v":42035},null,null,{"$f":"MAX('T1'!L110,'T2'!J110)+MAX('T1'!M110,'T2'!K110)+MAX('T1'!N110,'T2'!L110)","v":0},{"$f":"IF(COUNTRY_INFO!K110=1,IF(COUNTRY_INFO!F110*0.33>MAX('T1'!M110,'T2'!K110),MAX('T1'!M110,'T2'!K110),COUNTRY_INFO!F110*0.33),IF(COUNTRY_INFO!K110=2,IF(COUNTRY_INFO!F110*0.5>MAX('T1'!M110,'T2'!K110),MAX('T1'!M110,'T2'!K110),COUNTRY_INFO!F110*0.5),IF(COUNTRY_INFO!K110=3,IF(COUNTRY_INFO!F110>MAX('T1'!M110,'T2'!K110),MAX('T1'!M110,'T2'!K110),COUNTRY_INFO!F110),0)))","v":0},{"$f":"IF(AND(COUNTRY_INFO!K110>0,COUNTRY_INFO!K110<4),IF(Z110>0,IF(COUNTRY_INFO!K110=1, AD110/(COUNTRY_INFO!F110*0.33)*100, IF(COUNTRY_INFO!K110=2, AD110/(COUNTRY_INFO!F110*0.5)*100, IF(COUNTRY_INFO!K110=3, AD110/COUNTRY_INFO!F110*100))),\"-\"),0)","v":0},{"$f":"IF(COUNTRY_INFO!K110=2,IF(COUNTRY_INFO!G110*0.2>MAX('T1'!N110,'T2'!L110),MAX('T1'!N110,'T2'!L110),COUNTRY_INFO!G110*0.2),IF(COUNTRY_INFO!K110=3,IF(COUNTRY_INFO!G110>MAX('T1'!N110,'T2'!L110),MAX('T1'!N110,'T2'!L110),COUNTRY_INFO!G110),0))","v":0},{"$f":"IF(AND(COUNTRY_INFO!K110>0,COUNTRY_INFO!K110<4),IF(Z110>0,IF(COUNTRY_INFO!K110=1, 0, IF(COUNTRY_INFO!K110=2, AF110/(COUNTRY_INFO!G110*0.2)*100, IF(COUNTRY_INFO!K110=3, AF110/COUNTRY_INFO!G110*100))),\"-\"),0)","v":0},0,{"$f":"IF(AND(COUNTRY_INFO!K110>0,COUNTRY_INFO!K110<4), IF(AC110/Z110*100<>0, IF(AH110/Z110*100>100,100,AH110/Z110*100), \"-\"),0)","v":"-"},null,{"$f":"IF(AND(D110<>0, D110<>\"Inconnu\",D110<>\"Interrompu\",D110<>\"Non requis\"),D110/COUNTRY_INFO!D110, 0)","v":0},{"$f":"IF(AND(J110<>0,J110<>\"Inconnu\",J110<>\"Interrompu\",J110<>\"Non requis\"),J110/COUNTRY_INFO!D110, 0)","v":0},{"$f":"IF(AND(P110<>0,P110<>\"Inconnu\",P110<>\"Non requis\"),P110/(COUNTRY_INFO!E110+COUNTRY_INFO!F110), 0)","v":0},{"$f":"IF(AND(Z110<>0,Z110<>\"Inconnu\",Z110<>\"Non requis\"),IF(COUNTRY_INFO!K110=1,1,IF(COUNTRY_INFO!K110=2,0.5*COUNTRY_INFO!F110/(0.5*COUNTRY_INFO!F110+0.2*COUNTRY_INFO!G110),IF(COUNTRY_INFO!K110=3,COUNTRY_INFO!F110/(COUNTRY_INFO!F110+COUNTRY_INFO!G110)))),0)","v":0.60542405138574995},{"$f":"IF(AND(Z110<>0,Z110<>\"Inconnu\",Z110<>\"Non requis\"),IF(COUNTRY_INFO!K110=1,0,IF(COUNTRY_INFO!K110=2,0.2*COUNTRY_INFO!G110/(0.5*COUNTRY_INFO!F110+0.2*COUNTRY_INFO!G110),IF(COUNTRY_INFO!K110=3,COUNTRY_INFO!G110/(COUNTRY_INFO!F110+COUNTRY_INFO!G110)))),0)","v":0.39457594861425005},{"$f":"MAX(COUNTRY_INFO!D110*AK110*PROFILE!$G$7,COUNTRY_INFO!D110*AL110*PROFILE!$G$7)","v":0},{"$f":"MAX(COUNTRY_INFO!D110*AK110*PROFILE!$G$8,COUNTRY_INFO!D110*AL110*PROFILE!$G$8,COUNTRY_INFO!D110*AM110*PROFILE!$G$8)","v":0},{"$f":"MAX(COUNTRY_INFO!D110*AK110*PROFILE!$G$9,COUNTRY_INFO!D110*AL110*PROFILE!$G$9,COUNTRY_INFO!D110*AM110*PROFILE!$G$9,IF(AND(DISTRICT!Z110<>\"Inconnu\",Z110<>\"Non requis\"),COUNTRY_INFO!P110*DISTRICT!AN110,0))","v":25449},{"$f":"MAX(COUNTRY_INFO!D110*AK110*PROFILE!$G$10,COUNTRY_INFO!D110*AL110*PROFILE!$G$10,IF(AND(DISTRICT!Z110<>\"Inconnu\",Z110<>\"Non requis\"),COUNTRY_INFO!P110*DISTRICT!AO110,0))","v":16586},42035,0,{"$f":"MAX('MDA4'!R110,'T1'!L110,'T2'!J110,T3_R1!K110,T3_R2!K110)","v":0},{"$f":"MAX('MDA1'!K110,'MDA4'!S110,'MDA3'!I110,'MDA3'!L110,'T1'!M110,'T2'!K110,T3_R1!L110,T3_R2!L110)","v":0},{"$f":"MAX('MDA1'!L110,'MDA4'!T110,'MDA3'!J110,'MDA3'!M110,'T1'!N110,'T2'!L110,T3_R1!M110,T3_R2!M110)","v":0},0,{"$f":"MAX('MDA4'!R110,T110)","v":0},{"$f":"MAX('MDA1'!K110,'MDA4'!S110,'MDA3'!I110,'MDA3'!L110,V110,AD110)","v":0},{"$f":"MAX('MDA1'!L110,'MDA4'!T110,'MDA3'!J110,'MDA3'!M110,AF110)","v":0},0,0]
[{"$f":"IF(COUNTRY_INFO!A111=0,\" \",COUNTRY_INFO!A111)","v":"Chad"},{"$f":"IF(COUNTRY_INFO!B111=0,\" \",COUNTRY_INFO!B111)","v":"Ouaddai"},{"$f":"IF(COUNTRY_INFO!C111=0,\" \",COUNTRY_INFO!C111)","v":"Abeche"},{"$f":"COUNTRY_INFO!M111","v":0},null,null,{"$f":"MAX('MDA1'!M111,'MDA4'!U111)","v":0},{"$f":"IF(AND(COUNTRY_INFO!H111>0,COUNTRY_INFO!H111<4),IF(D111>MAX('MDA1'!M111,'MDA4'!U111),MAX('MDA1'!M111,'MDA4'!U111),D111),0)","v":0},{"$f":"IF(AND(COUNTRY_INFO!H111>0,COUNTRY_INFO!H111<4), IF(G111/D111*100<>0, IF(G111/D111*100>100,100,G111/D111*100), \"-\"),0)","v":0},{"$f":"COUNTRY_INFO!N111","v":0},null,null,{"$f":"MAX('MDA1'!M111,MAX('MDA3'!I111,'MDA3'!L111)+MAX('MDA3'!J111,'MDA3'!M111))","v":0},{"$f":"IF(AND(COUNTRY_INFO!I111>0,COUNTRY_INFO!I111<4),IF(J111>MAX('MDA1'!M111,MAX('MDA3'!I111,'MDA3'!L111)+MAX('MDA3'!J111,'MDA3'!M111)),MAX('MDA1'!M111,MAX('MDA3'!I111,'MDA3'!L111)+MAX('MDA3'!J111,'MDA3'!M111)),J111),0)","v":0},{"$f":"IF(AND(COUNTRY_INFO!I111>0,COUNTRY_INFO!I111<4), IF(M111/J111*100<>0, IF(M111/J111*100>100,100,M111/J111*100), \"-\"),0)","v":0},{"$f":"COUNTRY_INFO!O111","v":0},null,null,{"$f":"SUM(MAX('MDA4'!R111, 'T1'!L111, MAX(T3_R1!K111, T3_R2!K111)), MAX('MDA1'!K111, 'MDA4'!S111, 'T1'!M111, MAX(T3_R1!L111, T3_R2!L111)), MAX('MDA1'!L111, 'MDA4'!T111, 'T1'!N111, MAX(T3_R1!M111, T3_R2!M111)))","v":0},{"$f":"IF(AND(COUNTRY_INFO!J111>1,COUNTRY_INFO!J111<4),IF(COUNTRY_INFO!E111>MAX('MDA4'!R111,'T1'!L111,MAX(T3_R1!K111,T3_R2!K111)),MAX('MDA4'!R111,'T1'!L111,MAX(T3_R1!K111,T3_R2!K111)),COUNTRY_INFO!E111),0)","v":0},{"$f":"IF(AND(COUNTRY_INFO!J111>1,COUNTRY_INFO!J111<4), IF(T111/COUNTRY_INFO!E111*100<>0, IF(T111/COUNTRY_INFO!E111*100>100,100,T111/COUNTRY_INFO!E111*100), \"-\"),0)","v":0},{"$f":"IF(AND(COUNTRY_INFO!J111>1,COUNTRY_INFO!J111<4),IF(COUNTRY_INFO!F111>MAX('MDA1'!K111,'MDA4'!S111,'T1'!M111,MAX(T3_R1!L111,T3_R2!L111)),MAX('MDA1'!K111,'MDA4'!S111,'T1'!M111,MAX(T3_R1!L111,T3_R2!L111)),COUNTRY_INFO!F111),0)","v":0},{"$f":"IF(AND(COUNTRY_INFO!J111>1,COUNTRY_INFO!J111<4), IF(V111/COUNTRY_INFO!F111*100<>0, IF(V111/COUNTRY_INFO!F111*100>100,100,V111/COUNTRY_INFO!F111*100), \"-\"),0)","v":0},0,{"$f":"IF(AND(COUNTRY_INFO!J111>1,COUNTRY_INFO!J111<4), IF(S111/P111*100<>0, IF(X111/P111*100>100,100,X111/P111*100), \"-\"),0)","v":0},{"$f":"COUNTRY_INFO!P111","v":94841.5},null,null,{"$f":"MAX('T1'!L111,'T2'!J111)+MAX('T1'!M111,'T2'!K111)+MAX('T1'!N111,'T2'!L111)","v":0},{"$f":"IF(COUNTRY_INFO!K111=1,IF(COUNTRY_INFO!F111*0.33>MAX('T1'!M111,'T2'!K111),MAX('T1'!M111,'T2'!K111),COUNTRY_INFO!F111*0.33),IF(COUNTRY_INFO!K111=2,IF(COUNTRY_INFO!F111*0.5>MAX('T1'!M111,'T2'!K111),MAX('T1'!M111,'T2'!K111),COUNTRY_INFO!F111*0.5),IF(COUNTRY_INFO!K111=3,IF(COUNTRY_INFO!F111>MAX('T1'!M111,'T2'!K111),MAX('T1'!M111,'T2'!K111),COUNTRY_INFO!F111),0)))","v":0},{"$f":"IF(AND(COUNTRY_INFO!K111>0,COUNTRY_INFO!K111<4),IF(Z111>0,IF(COUNTRY_INFO!K111=1, AD111/(COUNTRY_INFO!F111*0.33)*100, IF(COUNTRY_INFO!K111=2, AD111/(COUNTRY_INFO!F111*0.5)*100, IF(COUNTRY_INFO!K111=3, AD111/COUNTRY_INFO!F111*100))),\"-\"),0)","v":0},{"$f":"IF(COUNTRY_INFO!K111=2,IF(COUNTRY_INFO!G111*0.2>MAX('T1'!N111,'T2'!L111),MAX('T1'!N111,'T2'!L111),COUNTRY_INFO!G111*0.2),IF(COUNTRY_INFO!K111=3,IF(COUNTRY_INFO!G111>MAX('T1'!N111,'T2'!L111),MAX('T1'!N111,'T2'!L111),COUNTRY_INFO!G111),0))","v":0},{"$f":"IF(AND(COUNTRY_INFO!K111>0,COUNTRY_INFO!K111<4),IF(Z111>0,IF(COUNTRY_INFO!K111=1, 0, IF(COUNTRY_INFO!K111=2, AF111/(COUNTRY_INFO!G111*0.2)*100, IF(COUNTRY_INFO!K111=3, AF111/COUNTRY_INFO!G111*100))),\"-\"),0)","v":0},0,{"$f":"IF(AND(COUNTRY_INFO!K111>0,COUNTRY_INFO!K111<4), IF(AC111/Z111*100<>0, IF(AH111/Z111*100>100,100,AH111/Z111*100), \"-\"),0)","v":"-"},null,{"$f":"IF(AND(D111<>0, D111<>\"Inconnu\",D111<>\"Interrompu\",D111<>\"Non requis\"),D111/COUNTRY_INFO!D111, 0)","v":0},{"$f":"IF(AND(J111<>0,J111<>\"Inconnu\",J111<>\"Interrompu\",J111<>\"Non requis\"),J111/COUNTRY_INFO!D111, 0)","v":0},{"$f":"IF(AND(P111<>0,P111<>\"Inconnu\",P111<>\"Non requis\"),P111/(COUNTRY_INFO!E111+COUNTRY_INFO!F111), 0)","v":0},{"$f":"IF(AND(Z111<>0,Z111<>\"Inconnu\",Z111<>\"Non requis\"),IF(COUNTRY_INFO!K111=1,1,IF(COUNTRY_INFO!K111=2,0.5*COUNTRY_INFO!F111/(0.5*COUNTRY_INFO!F111+0.2*COUNTRY_INFO!G111),IF(COUNTRY_INFO!K111=3,COUNTRY_INFO!F111/(COUNTRY_INFO!F111+COUNTRY_INFO!G111)))),0)","v":0.60542589478234743},{"$f":"IF(AND(Z111<>0,Z111<>\"Inconnu\",Z111<>\"Non requis\"),IF(COUNTRY_INFO!K111=1,0,IF(COUNTRY_INFO!K111=2,0.2*COUNTRY_INFO!G111/(0.5*COUNTRY_INFO!F111+0.2*COUNTRY_INFO!G111),IF(COUNTRY_INFO!K111=3,COUNTRY_INFO!G111/(COUNTRY_INFO!F111+COUNTRY_INFO!G111)))),0)","v":0.39457410521765263},{"$f":"MAX(COUNTRY_INFO!D111*AK111*PROFILE!$G$7,COUNTRY_INFO!D111*AL111*PROFILE!$G$7)","v":0},{"$f":"MAX(COUNTRY_INFO!D111*AK111*PROFILE!$G$8,COUNTRY_INFO!D111*AL111*PROFILE!$G$8,COUNTRY_INFO!D111*AM111*PROFILE!$G$8)","v":0},{"$f":"MAX(COUNTRY_INFO!D111*AK111*PROFILE!$G$9,COUNTRY_INFO!D111*AL111*PROFILE!$G$9,COUNTRY_INFO!D111*AM111*PROFILE!$G$9,IF(AND(DISTRICT!Z111<>\"Inconnu\",Z111<>\"Non requis\"),COUNTRY_INFO!P111*DISTRICT!AN111,0))","v":57419.500000000007},{"$f":"MAX(COUNTRY_INFO!D111*AK111*PROFILE!$G$10,COUNTRY_INFO!D111*AL111*PROFILE!$G$10,IF(AND(DISTRICT!Z111<>\"Inconnu\",Z111<>\"Non requis\"),COUNTRY_INFO!P111*DISTRICT!AO111,0))","v":37422},94841.5,0,{"$f":"MAX('MDA4'!R111,'T1'!L111,'T2'!J111,T3_R1!K111,T3_R2!K111)","v":0},{"$f":"MAX('MDA1'!K111,'MDA4'!S111,'MDA3'!I111,'MDA3'!L111,'T1'!M111,'T2'!K111,T3_R1!L111,T3_R2!L111)","v":0},{"$f":"MAX('MDA1'!L111,'MDA4'!T111,'MDA3'!J111,'MDA3'!M111,'T1'!N111,'T2'!L111,T3_R1!M111,T3_R2!M111)","v":0},0,{"$f":"MAX('MDA4'!R111,T111)","v":0},{"$f":"MAX('MDA1'!K111,'MDA4'!S111,'MDA3'!I111,'MDA3'!L111,V111,AD111)","v":0},{"$f":"MAX('MDA1'!L111,'MDA4'!T111,'MDA3'!J111,'MDA3'!M111,AF111)","v":0},0,0]
[{"$f":"IF(COUNTRY_INFO!A112=0,\" \",COUNTRY_INFO!A112)","v":"Chad"},{"$f":"IF(COUNTRY_INFO!B112=0,\" \",COUNTRY_INFO!B112)","v":"Ouaddai"},{"$f":"IF(COUNTRY_INFO!C112=0,\" \",COUNTRY_INFO!C112)","v":"Abougoudam"},{"$f":"COUNTRY_INFO!M112","v":0},null,null,{"$f":"MAX('MDA1'!M112,'MDA4'!U112)","v":0},{"$f":"IF(AND(COUNTRY_INFO!H112>0,COUNTRY_INFO!H112<4),IF(D112>MAX('MDA1'!M112,'MDA4'!U112),MAX('MDA1'!M112,'MDA4'!U112),D112),0)","v":0},{"$f":"IF(AND(COUNTRY_INFO!H112>0,COUNTRY_INFO!H112<4), IF(G112/D112*100<>0, IF(G112/D112*100>100,100,G112/D112*100), \"-\"),0)","v":0},{"$f":"COUNTRY_INFO!N112","v":0},null,null,{"$f":"MAX('MDA1'!M112,MAX('MDA3'!I112,'MDA3'!L112)+MAX('MDA3'!J112,'MDA3'!M112))","v":0},{"$f":"IF(AND(COUNTRY_INFO!I112>0,COUNTRY_INFO!I112<4),IF(J112>MAX('MDA1'!M112,MAX('MDA3'!I112,'MDA3'!L112)+MAX('MDA3'!J112,'MDA3'!M112)),MAX('MDA1'!M112,MAX('MDA3'!I112,'MDA3'!L112)+MAX('MDA3'!J112,'MDA3'!M112)),J112),0)","v":0},{"$f":"IF(AND(COUNTRY_INFO!I112>0,COUNTRY_INFO!I112<4), IF(M112/J112*100<>0, IF(M112/J112*100>100,100,M112/J112*100), \"-\"),0)","v":0},{"$f":"COUNTRY_INFO!O112","v":0},null,null,{"$f":"SUM(MAX('MDA4'!R112, 'T1'!L112, MAX(T3_R1!K112, T3_R2!K112)), MAX('MDA1'!K112, 'MDA4'!S112, 'T1'!M112, MAX(T3_R1!L112, T3_R2!L112)), MAX('MDA1'!L112, 'MDA4'!T112, 'T1'!N112, MAX(T3_R1!M112, T3_R2!M112)))","v":0},{"$f":"IF(AND(COUNTRY_INFO!J112>1,COUNTRY_INFO!J112<4),IF(COUNTRY_INFO!E112>MAX('MDA4'!R112,'T1'!L112,MAX(T3_R1!K112,T3_R2!K112)),MAX('MDA4'!R112,'T1'!L112,MAX(T3_R1!K112,T3_R2!K112)),COUNTRY_INFO!E112),0)","v":0},{"$f":"IF(AND(COUNTRY_INFO!J112>1,COUNTRY_INFO!J112<4), IF(T112/COUNTRY_INFO!E112*100<>0, IF(T112/COUNTRY_INFO!E112*100>100,100,T112/COUNTRY_INFO!E112*100), \"-\"),0)","v":0},{"$f":"IF(AND(COUNTRY_INFO!J112>1,COUNTRY_INFO!J112<4),IF(COUNTRY_INFO!F112>MAX('MDA1'!K112,'MDA4'!S112,'T1'!M112,MAX(T3_R1!L112,T3_R2!L112)),MAX('MDA1'!K112,'MDA4'!S112,'T1'!M112,MAX(T3_R1!L112,T3_R2!L112)),COUNTRY_INFO!F112),0)","v":0},{"$f":"IF(AND(COUNTRY_INFO!J112>1,COUNTRY_INFO!J112<4), IF(V112/COUNTRY_INFO!F112*100<>0, IF(V112/COUNTRY_INFO!F112*100>100,100,V112/COUNTRY_INFO!F112*100), \"-\"),0)","v":0},0,{"$f":"IF(AND(COUNTRY_INFO!J112>1,COUNTRY_INFO!J112<4), IF(S112/P112*100<>0, IF(X112/P112*100>100,100,X112/P112*100), \"-\"),0)","v":0},{"$f":"COUNTRY_INFO!P112","v":34410.400000000001},null,null,{"$f":"MAX('T1'!L112,'T2'!J112)+MAX('T1'!M112,'T2'!K112)+MAX('T1'!N112,'T2'!L112)","v":0},{"$f":"IF(COUNTRY_INFO!K112=1,IF(COUNTRY_INFO!F112*0.33>MAX('T1'!M112,'T2'!K112),MAX('T1'!M112,'T2'!K112),COUNTRY_INFO!F112*0.33),IF(COUNTRY_INFO!K112=2,IF(COUNTRY_INFO!F112*0.5>MAX('T1'!M112,'T2'!K112),MAX('T1'!M112,'T2'!K112),COUNTRY_INFO!F112*0.5),IF(COUNTRY_INFO!K112=3,IF(COUNTRY_INFO!F112>MAX('T1'!M112,'T2'!K112),MAX('T1'!M112,'T2'!K112),COUNTRY_INFO!F112),0)))","v":0},{"$f":"IF(AND(COUNTRY_INFO!K112>0,COUNTRY_INFO!K112<4),IF(Z112>0,IF(COUNTRY_INFO!K112=1, AD112/(COUNTRY_INFO!F112*0.33)*100, IF(COUNTRY_INFO!K112=2, AD112/(COUNTRY_INFO!F112*0.5)*100, IF(COUNTRY_INFO!K112=3, AD112/COUNTRY_INFO!F112*100))),\"-\"),0)","v":0},{"$f":"IF(COUNTRY_INFO!K112=2,IF(COUNTRY_INFO!G112*0.2>MAX('T1'!N112,'T2'!L112),MAX('T1'!N112,'T2'!L112),COUNTRY_INFO!G112*0.2),IF(COUNTRY_INFO!K112=3,IF(COUNTRY_INFO!G112>MAX('T1'!N112,'T2'!L112),MAX('T1'!N112,'T2'!L112),COUNTRY_INFO!G112),0))","v":0},{"$f":"IF(AND(COUNTRY_INFO!K112>0,COUNTRY_INFO!K112<4),IF(Z112>0,IF(COUNTRY_INFO!K112=1, 0, IF(COUNTRY_INFO!K112=2, AF112/(COUNTRY_INFO!G112*0.2)*100, IF(COUNTRY_INFO!K112=3, AF112/COUNTRY_INFO!G112*100))),\"-\"),0)","v":0},0,{"$f":"IF(AND(COUNTRY_INFO!K112>0,COUNTRY_INFO!K112<4), IF(AC112/Z112*100<>0, IF(AH112/Z112*100>100,100,AH112/Z112*100), \"-\"),0)","v":"-"},null,{"$f":"IF(AND(D112<>0, D112<>\"Inconnu\",D112<>\"Interrompu\",D112<>\"Non requis\"),D112/COUNTRY_INFO!D112, 0)","v":0},{"$f":"IF(AND(J112<>0,J112<>\"Inconnu\",J112<>\"Interrompu\",J112<>\"Non requis\"),J112/COUNTRY_INFO!D112, 0)","v":0},{"$f":"IF(AND(P112<>0,P112<>\"Inconnu\",P112<>\"Non requis\"),P112/(COUNTRY_INFO!E112+COUNTRY_INFO!F112), 0)","v":0},{"$f":"IF(AND(Z112<>0,Z112<>\"Inconnu\",Z112<>\"Non requis\"),IF(COUNTRY_INFO!K112=1,1,IF(COUNTRY_INFO!K112=2,0.5*COUNTRY_INFO!F112/(0.5*COUNTRY_INFO!F112+0.2*COUNTRY_INFO!G112),IF(COUNTRY_INFO!K112=3,COUNTRY_INFO!F112/(COUNTRY_INFO!F112+COUNTRY_INFO!G112)))),0)","v":0.60542742891683909},{"$f":"IF(AND(Z112<>0,Z112<>\"Inconnu\",Z112<>\"Non requis\"),IF(COUNTRY_INFO!K112=1,0,IF(COUNTRY_INFO!K112=2,0.2*COUNTRY_INFO!G112/(0.5*COUNTRY_INFO!F112+0.2*COUNTRY_INFO!G112),IF(COUNTRY_INFO!K112=3,COUNTRY_INFO!G112/(COUNTRY_INFO!F112+COUNTRY_INFO!G112)))),0)","v":0.39457257108316091},{"$f":"MAX(COUNTRY_INFO!D112*AK112*PROFILE!$G$7,COUNTRY_INFO!D112*AL112*PROFILE!$G$7)","v":0},{"$f":"MAX(COUNTRY_INFO!D112*AK112*PROFILE!$G$8,COUNTRY_INFO!D112*AL112*PROFILE!$G$8,COUNTRY_INFO!D112*AM112*PROFILE!$G$8)","v":0},{"$f":"MAX(COUNTRY_INFO!D112*AK112*PROFILE!$G$9,COUNTRY_INFO!D112*AL112*PROFILE!$G$9,COUNTRY_INFO!D112*AM112*PROFILE!$G$9,IF(AND(DISTRICT!Z112<>\"Inconnu\",Z112<>\"Non requis\"),COUNTRY_INFO!P112*DISTRICT!AN112,0))","v":20833},{"$f":"MAX(COUNTRY_INFO!D112*AK112*PROFILE!$G$10,COUNTRY_INFO!D112*AL112*PROFILE!$G$10,IF(AND(DISTRICT!Z112<>\"Inconnu\",Z112<>\"Non requis\"),COUNTRY_INFO!P112*DISTRICT!AO112,0))","v":13577.400000000001},34410.400000000001,0,{"$f":"MAX('MDA4'!R112,'T1'!L112,'T2'!J112,T3_R1!K112,T3_R2!K112)","v":0},{"$f":"MAX('MDA1'!K112,'MDA4'!S112,'MDA3'!I112,'MDA3'!L112,'T1'!M112,'T2'!K112,T3_R1!L112,T3_R2!L112)","v":0},{"$f":"MAX('MDA1'!L112,'MDA4'!T112,'MDA3'!J112,'MDA3'!M112,'T1'!N112,'T2'!L112,T3_R1!M112,T3_R2!M112)","v":0},0,{"$f":"MAX('MDA4'!R112,T112)","v":0},{"$f":"MAX('MDA1'!K112,'MDA4'!S112,'MDA3'!I112,'MDA3'!L112,V112,AD112)","v":0},{"$f":"MAX('MDA1'!L112,'MDA4'!T112,'MDA3'!J112,'MDA3'!M112,AF112)","v":0},0,0]
[{"$f":"IF(COUNTRY_INFO!A113=0,\" \",COUNTRY_INFO!A113)","v":"Chad"},{"$f":"IF(COUNTRY_INFO!B113=0,\" \",COUNTRY_INFO!B113)","v":"Ouaddai"},{"$f":"IF(COUNTRY_INFO!C113=0,\" \",COUNTRY_INFO!C113)","v":"Adré"},{"$f":"COUNTRY_INFO!M113","v":0},null,null,{"$f":"MAX('MDA1'!M113,'MDA4'!U113)","v":0},{"$f":"IF(AND(COUNTRY_INFO!H113>0,COUNTRY_INFO!H113<4),IF(D113>MAX('MDA1'!M113,'MDA4'!U113),MAX('MDA1'!M113,'MDA4'!U113),D113),0)","v":0},{"$f":"IF(AND(COUNTRY_INFO!H113>0,COUNTRY_INFO!H113<4), IF(G113/D113*100<>0, IF(G113/D113*100>100,100,G113/D113*100), \"-\"),0)","v":0},{"$f":"COUNTRY_INFO!N113","v":0},null,null,{"$f":"MAX('MDA1'!M113,MAX('MDA3'!I113,'MDA3'!L113)+MAX('MDA3'!J113,'MDA3'!M113))","v":0},{"$f":"IF(AND(COUNTRY_INFO!I113>0,COUNTRY_INFO!I113<4),IF(J113>MAX('MDA1'!M113,MAX('MDA3'!I113,'MDA3'!L113)+MAX('MDA3'!J113,'MDA3'!M113)),MAX('MDA1'!M113,MAX('MDA3'!I113,'MDA3'!L113)+MAX('MDA3'!J113,'MDA3'!M113)),J113),0)","v":0},{"$f":"IF(AND(COUNTRY_INFO!I113>0,COUNTRY_INFO!I113<4), IF(M113/J113*100<>0, IF(M113/J113*100>100,100,M113/J113*100), \"-\"),0)","v":0},{"$f":"COUNTRY_INFO!O113","v":0},null,null,{"$f":"SUM(MAX('MDA4'!R113, 'T1'!L113, MAX(T3_R1!K113, T3_R2!K113)), MAX('MDA1'!K113, 'MDA4'!S113, 'T1'!M113, MAX(T3_R1!L113, T3_R2!L113)), MAX('MDA1'!L113, 'MDA4'!T113, 'T1'!N113, MAX(T3_R1!M113, T3_R2!M113)))","v":0},{"$f":"IF(AND(COUNTRY_INFO!J113>1,COUNTRY_INFO!J113<4),IF(COUNTRY_INFO!E113>MAX('MDA4'!R113,'T1'!L113,MAX(T3_R1!K113,T3_R2!K113)),MAX('MDA4'!R113,'T1'!L113,MAX(T3_R1!K113,T3_R2!K113)),COUNTRY_INFO!E113),0)","v":0},{"$f":"IF(AND(COUNTRY_INFO!J113>1,COUNTRY_INFO!J113<4), IF(T113/COUNTRY_INFO!E113*100<>0, IF(T113/COUNTRY_INFO!E113*100>100,100,T113/COUNTRY_INFO!E113*100), \"-\"),0)","v":0},{"$f":"IF(AND(COUNTRY_INFO!J113>1,COUNTRY_INFO!J113<4),IF(COUNTRY_INFO!F113>MAX('MDA1'!K113,'MDA4'!S113,'T1'!M113,MAX(T3_R1!L113,T3_R2!L113)),MAX('MDA1'!K113,'MDA4'!S113,'T1'!M113,MAX(T3_R1!L113,T3_R2!L113)),COUNTRY_INFO!F113),0)","v":0},{"$f":"IF(AND(COUNTRY_INFO!J113>1,COUNTRY_INFO!J113<4), IF(V113/COUNTRY_INFO!F113*100<>0, IF(V113/COUNTRY_INFO!F113*100>100,100,V113/COUNTRY_INFO!F113*100), \"-\"),0)","v":0},0,{"$f":"IF(AND(COUNTRY_INFO!J113>1,COUNTRY_INFO!J113<4), IF(S113/P113*100<>0, IF(X113/P113*100>100,100,X113/P113*100), \"-\"),0)","v":0},{"$f":"COUNTRY_INFO!P113","v":112337.20000000001},null,null,{"$f":"MAX('T1'!L113,'T2'!J113)+MAX('T1'!M113,'T2'!K113)+MAX('T1'!N113,'T2'!L113)","v":0},{"$f":"IF(COUNTRY_INFO!K113=1,IF(COUNTRY_INFO!F113*0.33>MAX('T1'!M113,'T2'!K113),MAX('T1'!M113,'T2'!K113),COUNTRY_INFO!F113*0.33),IF(COUNTRY_INFO!K113=2,IF(COUNTRY_INFO!F113*0.5>MAX('T1'!M113,'T2'!K113),MAX('T1'!M113,'T2'!K113),COUNTRY_INFO!F113*0.5),IF(COUNTRY_INFO!K113=3,IF(COUNTRY_INFO!F113>MAX('T1'!M113,'T2'!K113),MAX('T1'!M113,'T2'!K113),COUNTRY_INFO!F113),0)))","v":0},{"$f":"IF(AND(COUNTRY_INFO!K113>0,COUNTRY_INFO!K113<4),IF(Z113>0,IF(COUNTRY_INFO!K113=1, AD113/(COUNTRY_INFO!F113*0.33)*100, IF(COUNTRY_INFO!K113=2, AD113/(COUNTRY_INFO!F113*0.5)*100, IF(COUNTRY_INFO!K113=3, AD113/COUNTRY_INFO!F113*100))),\"-\"),0)","v":0},{"$f":"IF(COUNTRY_INFO!K113=2,IF(COUNTRY_INFO!G113*0.2>MAX('T1'!N113,'T2'!L113),MAX('T1'!N113,'T2'!L113),COUNTRY_INFO!G113*0.2),IF(COUNTRY_INFO!K113=3,IF(COUNTRY_INFO!G113>MAX('T1'!N113,'T2'!L113),MAX('T1'!N113,'T2'!L113),COUNTRY_INFO!G113),0))","v":0},{"$f":"IF(AND(COUNTRY_INFO!K113>0,COUNTRY_INFO!K113<4),IF(Z113>0,IF(COUNTRY_INFO!K113=1, 0, IF(COUNTRY_INFO!K113=2, AF113/(COUNTRY_INFO!G113*0.2)*100, IF(COUNTRY_INFO!K113=3, AF113/COUNTRY_INFO!G113*100))),\"-\"),0)","v":0},0,{"$f":"IF(AND(COUNTRY_INFO!K113>0,COUNTRY_INFO!K113<4), IF(AC113/Z113*100<>0, IF(AH113/Z113*100>100,100,AH113/Z113*100), \"-\"),0)","v":"-"},null,{"$f":"IF(AND(D113<>0, D113<>\"Inconnu\",D113<>\"Interrompu\",D113<>\"Non requis\"),D113/COUNTRY_INFO!D113, 0)","v":0},{"$f":"IF(AND(J113<>0,J113<>\"Inconnu\",J113<>\"Interrompu\",J113<>\"Non requis\"),J113/COUNTRY_INFO!D113, 0)","v":0},{"$f":"IF(AND(P113<>0,P113<>\"Inconnu\",P113<>\"Non requis\"),P113/(COUNTRY_INFO!E113+COUNTRY_INFO!F113), 0)","v":0},{"$f":"IF(AND(Z113<>0,Z113<>\"Inconnu\",Z113<>\"Non requis\"),IF(COUNTRY_INFO!K113=1,1,IF(COUNTRY_INFO!K113=2,0.5*COUNTRY_INFO!F113/(0.5*COUNTRY_INFO!F113+0.2*COUNTRY_INFO!G113),IF(COUNTRY_INFO!K113=3,COUNTRY_INFO!F113/(COUNTRY_INFO!F113+COUNTRY_INFO!G113)))),0)","v":0.60542723158490686},{"$f":"IF(AND(Z113<>0,Z113<>\"Inconnu\",Z113<>\"Non requis\"),IF(COUNTRY_INFO!K113=1,0,IF(COUNTRY_INFO!K113=2,0.2*COUNTRY_INFO!G113/(0.5*COUNTRY_INFO!F113+0.2*COUNTRY_INFO!G113),IF(COUNTRY_INFO!K113=3,COUNTRY_INFO!G113/(COUNTRY_INFO!F113+COUNTRY_INFO!G113)))),0)","v":0.39457276841509314},{"$f":"MAX(COUNTRY_INFO!D113*AK113*PROFILE!$G$7,COUNTRY_INFO!D113*AL113*PROFILE!$G$7)","v":0},{"$f":"MAX(COUNTRY_INFO!D113*AK113*PROFILE!$G$8,COUNTRY_INFO!D113*AL113*PROFILE!$G$8,COUNTRY_INFO!D113*AM113*PROFILE!$G$8)","v":0},{"$f":"MAX(COUNTRY_INFO!D113*AK113*PROFILE!$G$9,COUNTRY_INFO!D113*AL113*PROFILE!$G$9,COUNTRY_INFO!D113*AM113*PROFILE!$G$9,IF(AND(DISTRICT!Z113<>\"Inconnu\",Z113<>\"Non requis\"),COUNTRY_INFO!P113*DISTRICT!AN113,0))","v":68012},{"$f":"MAX(COUNTRY_INFO!D113*AK113*PROFILE!$G$10,COUNTRY_INFO!D113*AL113*PROFILE!$G$10,IF(AND(DISTRICT!Z113<>\"Inconnu\",Z113<>\"Non requis\"),COUNTRY_INFO!P113*DISTRICT!AO113,0))","v":44325.200000000004},112337.20000000001,0,{"$f":"MAX('MDA4'!R113,'T1'!L113,'T2'!J113,T3_R1!K113,T3_R2!K113)","v":0},{"$f":"MAX('MDA1'!K113,'MDA4'!S113,'MDA3'!I113,'MDA3'!L113,'T1'!M113,'T2'!K113,T3_R1!L113,T3_R2!L113)","v":0},{"$f":"MAX('MDA1'!L113,'MDA4'!T113,'MDA3'!J113,'MDA3'!M113,'T1'!N113,'T2'!L113,T3_R1!M113,T3_R2!M113)","v":0},0,{"$f":"MAX('MDA4'!R113,T113)","v":0},{"$f":"MAX('MDA1'!K113,'MDA4'!S113,'MDA3'!I113,'MDA3'!L113,V113,AD113)","v":0},{"$f":"MAX('MDA1'!L113,'MDA4'!T113,'MDA3'!J113,'MDA3'!M113,AF113)","v":0},0,0]
[{"$f":"IF(COUNTRY_INFO!A114=0,\" \",COUNTRY_INFO!A114)","v":"Chad"},{"$f":"IF(COUNTRY_INFO!B114=0,\" \",COUNTRY_INFO!B114)","v":"Salamat"},{"$f":"IF(COUNTRY_INFO!C114=0,\" \",COUNTRY_INFO!C114)","v":"Aboudeia"},{"$f":"COUNTRY_INFO!M114","v":0},null,null,{"$f":"MAX('MDA1'!M114,'MDA4'!U114)","v":0},{"$f":"IF(AND(COUNTRY_INFO!H114>0,COUNTRY_INFO!H114<4),IF(D114>MAX('MDA1'!M114,'MDA4'!U114),MAX('MDA1'!M114,'MDA4'!U114),D114),0)","v":0},{"$f":"IF(AND(COUNTRY_INFO!H114>0,COUNTRY_INFO!H114<4), IF(G114/D114*100<>0, IF(G114/D114*100>100,100,G114/D114*100), \"-\"),0)","v":0},{"$f":"COUNTRY_INFO!N114","v":"Inconnu"},null,null,{"$f":"MAX('MDA1'!M114,MAX('MDA3'!I114,'MDA3'!L114)+MAX('MDA3'!J114,'MDA3'!M114))","v":0},{"$f":"IF(AND(COUNTRY_INFO!I114>0,COUNTRY_INFO!I114<4),IF(J114>MAX('MDA1'!M114,MAX('MDA3'!I114,'MDA3'!L114)+MAX('MDA3'!J114,'MDA3'!M114)),MAX('MDA1'!M114,MAX('MDA3'!I114,'MDA3'!L114)+MAX('MDA3'!J114,'MDA3'!M114)),J114),0)","v":0},{"$f":"IF(AND(COUNTRY_INFO!I114>0,COUNTRY_INFO!I114<4), IF(M114/J114*100<>0, IF(M114/J114*100>100,100,M114/J114*100), \"-\"),0)","v":0},{"$f":"COUNTRY_INFO!O114","v":47546},null,null,{"$f":"SUM(MAX('MDA4'!R114, 'T1'!L114, MAX(T3_R1!K114, T3_R2!K114)), MAX('MDA1'!K114, 'MDA4'!S114, 'T1'!M114, MAX(T3_R1!L114, T3_R2!L114)), MAX('MDA1'!L114, 'MDA4'!T114, 'T1'!N114, MAX(T3_R1!M114, T3_R2!M114)))","v":0},{"$f":"IF(AND(COUNTRY_INFO!J114>1,COUNTRY_INFO!J114<4),IF(COUNTRY_INFO!E114>MAX('MDA4'!R114,'T1'!L114,MAX(T3_R1!K114,T3_R2!K114)),MAX('MDA4'!R114,'T1'!L114,MAX(T3_R1!K114,T3_R2!K114)),COUNTRY_INFO!E114),0)","v":0},{"$f":"IF(AND(COUNTRY_INFO!J114>1,COUNTRY_INFO!J114<4), IF(T114/COUNTRY_INFO!E114*100<>0, IF(T114/COUNTRY_INFO!E114*100>100,100,T114/COUNTRY_INFO!E114*100), \"-\"),0)","v":"-"},{"$f":"IF(AND(COUNTRY_INFO!J114>1,COUNTRY_INFO!J114<4),IF(COUNTRY_INFO!F114>MAX('MDA1'!K114,'MDA4'!S114,'T1'!M114,MAX(T3_R1!L114,T3_R2!L114)),MAX('MDA1'!K114,'MDA4'!S114,'T1'!M114,MAX(T3_R1!L114,T3_R2!L114)),COUNTRY_INFO!F114),0)","v":0},{"$f":"IF(AND(COUNTRY_INFO!J114>1,COUNTRY_INFO!J114<4), IF(V114/COUNTRY_INFO!F114*100<>0, IF(V114/COUNTRY_INFO!F114*100>100,100,V114/COUNTRY_INFO!F114*100), \"-\"),0)","v":"-"},0,{"$f":"IF(AND(COUNTRY_INFO!J114>1,COUNTRY_INFO!J114<4), IF(S114/P114*100<>0, IF(X114/P114*100>100,100,X114/P114*100), \"-\"),0)","v":"-"},{"$f":"COUNTRY_INFO!P114","v":80986},null,null,{"$f":"MAX('T1'!L114,'T2'!J114)+MAX('T1'!M114,'T2'!K114)+MAX('T1'!N114,'T2'!L114)","v":0},{"$f":"IF(COUNTRY_INFO!K114=1,IF(COUNTRY_INFO!F114*0.33>MAX('T1'!M114,'T2'!K114),MAX('T1'!M114,'T2'!K114),COUNTRY_INFO!F114*0.33),IF(COUNTRY_INFO!K114=2,IF(COUNTRY_INFO!F114*0.5>MAX('T1'!M114,'T2'!K114),MAX('T1'!M114,'T2'!K114),COUNTRY_INFO!F114*0.5),IF(COUNTRY_INFO!K114=3,IF(COUNTRY_INFO!F114>MAX('T1'!M114,'T2'!K114),MAX('T1'!M114,'T2'!K114),COUNTRY_INFO!F114),0)))","v":0},{"$f":"IF(AND(COUNTRY_INFO!K114>0,COUNTRY_INFO!K114<4),IF(Z114>0,IF(COUNTRY_INFO!K114=1, AD114/(COUNTRY_INFO!F114*0.33)*100, IF(COUNTRY_INFO!K114=2, AD114/(COUNTRY_INFO!F114*0.5)*100, IF(COUNTRY_INFO!K114=3, AD114/COUNTRY_INFO!F114*100))),\"-\"),0)","v":0},{"$f":"IF(COUNTRY_INFO!K114=2,IF(COUNTRY_INFO!G114*0.2>MAX('T1'!N114,'T2'!L114),MAX('T1'!N114,'T2'!L114),COUNTRY_INFO!G114*0.2),IF(COUNTRY_INFO!K114=3,IF(COUNTRY_INFO!G114>MAX('T1'!N114,'T2'!L114),MAX('T1'!N114,'T2'!L114),COUNTRY_INFO!G114),0))","v":0},{"$f":"IF(AND(COUNTRY_INFO!K114>0,COUNTRY_INFO!K114<4),IF(Z114>0,IF(COUNTRY_INFO!K114=1, 0, IF(COUNTRY_INFO!K114=2, AF114/(COUNTRY_INFO!G114*0.2)*100, IF(COUNTRY_INFO!K114=3, AF114/COUNTRY_INFO!G114*100))),\"-\"),0)","v":0},0,{"$f":"IF(AND(COUNTRY_INFO!K114>0,COUNTRY_INFO!K114<4), IF(AC114/Z114*100<>0, IF(AH114/Z114*100>100,100,AH114/Z114*100), \"-\"),0)","v":"-"},null,{"$f":"IF(AND(D114<>0, D114<>\"Inconnu\",D114<>\"Interrompu\",D114<>\"Non requis\"),D114/COUNTRY_INFO!D114, 0)","v":0},{"$f":"IF(AND(J114<>0,J114<>\"Inconnu\",J114<>\"Interrompu\",J114<>\"Non requis\"),J114/COUNTRY_INFO!D114, 0)","v":0},{"$f":"IF(AND(P114<>0,P114<>\"Inconnu\",P114<>\"Non requis\"),P114/(COUNTRY_INFO!E114+COUNTRY_INFO!F114), 0)","v":1},{"$f":"IF(AND(Z114<>0,Z114<>\"Inconnu\",Z114<>\"Non requis\"),IF(COUNTRY_INFO!K114=1,1,IF(COUNTRY_INFO!K114=2,0.5*COUNTRY_INFO!F114/(0.5*COUNTRY_INFO!F114+0.2*COUNTRY_INFO!G114),IF(COUNTRY_INFO!K114=3,COUNTRY_INFO!F114/(COUNTRY_INFO!F114+COUNTRY_INFO!G114)))),0)","v":0.38032499444348405},{"$f":"IF(AND(Z114<>0,Z114<>\"Inconnu\",Z114<>\"Non requis\"),IF(COUNTRY_INFO!K114=1,0,IF(COUNTRY_INFO!K114=2,0.2*COUNTRY_INFO!G114/(0.5*COUNTRY_INFO!F114+0.2*COUNTRY_INFO!G114),IF(COUNTRY_INFO!K114=3,COUNTRY_INFO!G114/(COUNTRY_INFO!F114+COUNTRY_INFO!G114)))),0)","v":0.61967500555651589},{"$f":"MAX(COUNTRY_INFO!D114*AK114*PROFILE!$G$7,COUNTRY_INFO!D114*AL114*PROFILE!$G$7)","v":0},{"$f":"MAX(COUNTRY_INFO!D114*AK114*PROFILE!$G$8,COUNTRY_INFO!D114*AL114*PROFILE!$G$8,COUNTRY_INFO!D114*AM114*PROFILE!$G$8)","v":16745.226225824674},{"$f":"MAX(COUNTRY_INFO!D114*AK114*PROFILE!$G$9,COUNTRY_INFO!D114*AL114*PROFILE!$G$9,COUNTRY_INFO!D114*AM114*PROFILE!$G$9,IF(AND(DISTRICT!Z114<>\"Inconnu\",Z114<>\"Non requis\"),COUNTRY_INFO!P114*DISTRICT!AN114,0))","v":30801},{"$f":"MAX(COUNTRY_INFO!D114*AK114*PROFILE!$G$10,COUNTRY_INFO!D114*AL114*PROFILE!$G$10,IF(AND(DISTRICT!Z114<>\"Inconnu\",Z114<>\"Non requis\"),COUNTRY_INFO!P114*DISTRICT!AO114,0))","v":50184.999999999993},97731.226225824677,0,{"$f":"MAX('MDA4'!R114,'T1'!L114,'T2'!J114,T3_R1!K114,T3_R2!K114)","v":0},{"$f":"MAX('MDA1'!K114,'MDA4'!S114,'MDA3'!I114,'MDA3'!L114,'T1'!M114,'T2'!K114,T3_R1!L114,T3_R2!L114)","v":0},{"$f":"MAX('MDA1'!L114,'MDA4'!T114,'MDA3'!J114,'MDA3'!M114,'T1'!N114,'T2'!L114,T3_R1!M114,T3_R2!M114)","v":0},0,{"$f":"MAX('MDA4'!R114,T114)","v":0},{"$f":"MAX('MDA1'!K114,'MDA4'!S114,'MDA3'!I114,'MDA3'!L114,V114,AD114)","v":0},{"$f":"MAX('MDA1'!L114,'MDA4'!T114,'MDA3'!J114,'MDA3'!M114,AF114)","v":0},0,0]
[{"$f":"IF(COUNTRY_INFO!A115=0,\" \",COUNTRY_INFO!A115)","v":"Chad"},{"$f":"IF(COUNTRY_INFO!B115=0,\" \",COUNTRY_INFO!B115)","v":"Salamat"},{"$f":"IF(COUNTRY_INFO!C115=0,\" \",COUNTRY_INFO!C115)","v":"Am-Timan"},{"$f":"COUNTRY_INFO!M115","v":0},null,null,{"$f":"MAX('MDA1'!M115,'MDA4'!U115)","v":0},{"$f":"IF(AND(COUNTRY_INFO!H115>0,COUNTRY_INFO!H115<4),IF(D115>MAX('MDA1'!M115,'MDA4'!U115),MAX('MDA1'!M115,'MDA4'!U115),D115),0)","v":0},{"$f":"IF(AND(COUNTRY_INFO!H115>0,COUNTRY_INFO!H115<4), IF(G115/D115*100<>0, IF(G115/D115*100>100,100,G115/D115*100), \"-\"),0)","v":0},{"$f":"COUNTRY_INFO!N115","v":"Inconnu"},null,null,{"$f":"MAX('MDA1'!M115,MAX('MDA3'!I115,'MDA3'!L115)+MAX('MDA3'!J115,'MDA3'!M115))","v":0},{"$f":"IF(AND(COUNTRY_INFO!I115>0,COUNTRY_INFO!I115<4),IF(J115>MAX('MDA1'!M115,MAX('MDA3'!I115,'MDA3'!L115)+MAX('MDA3'!J115,'MDA3'!M115)),MAX('MDA1'!M115,MAX('MDA3'!I115,'MDA3'!L115)+MAX('MDA3'!J115,'MDA3'!M115)),J115),0)","v":0},{"$f":"IF(AND(COUNTRY_INFO!I115>0,COUNTRY_INFO!I115<4), IF(M115/J115*100<>0, IF(M115/J115*100>100,100,M115/J115*100), \"-\"),0)","v":0},{"$f":"COUNTRY_INFO!O115","v":133942},null,null,{"$f":"SUM(MAX('MDA4'!R115, 'T1'!L115, MAX(T3_R1!K115, T3_R2!K115)), MAX('MDA1'!K115, 'MDA4'!S115, 'T1'!M115, MAX(T3_R1!L115, T3_R2!L115)), MAX('MDA1'!L115, 'MDA4'!T115, 'T1'!N115, MAX(T3_R1!M115, T3_R2!M115)))","v":0},{"$f":"IF(AND(COUNTRY_INFO!J115>1,COUNTRY_INFO!J115<4),IF(COUNTRY_INFO!E115>MAX('MDA4'!R115,'T1'!L115,MAX(T3_R1!K115,T3_R2!K115)),MAX('MDA4'!R115,'T1'!L115,MAX(T3_R1!K115,T3_R2!K115)),COUNTRY_INFO!E115),0)","v":0},{"$f":"IF(AND(COUNTRY_INFO!J115>1,COUNTRY_INFO!J115<4), IF(T115/COUNTRY_INFO!E115*100<>0, IF(T115/COUNTRY_INFO!E115*100>100,100,T115/COUNTRY_INFO!E115*100), \"-\"),0)","v":"-"},{"$f":"IF(AND(COUNTRY_INFO!J115>1,COUNTRY_INFO!J115<4),IF(COUNTRY_INFO!F115>MAX('MDA1'!K115,'MDA4'!S115,'T1'!M115,MAX(T3_R1!L115,T3_R2!L115)),MAX('MDA1'!K115,'MDA4'!S115,'T1'!M115,MAX(T3_R1!L115,T3_R2!L115)),COUNTRY_INFO!F115),0)","v":0},{"$f":"IF(AND(COUNTRY_INFO!J115>1,COUNTRY_INFO!J115<4), IF(V115/COUNTRY_INFO!F115*100<>0, IF(V115/COUNTRY_INFO!F115*100>100,100,V115/COUNTRY_INFO!F115*100), \"-\"),0)","v":"-"},0,{"$f":"IF(AND(COUNTRY_INFO!J115>1,COUNTRY_INFO!J115<4), IF(S115/P115*100<>0, IF(X115/P115*100>100,100,X115/P115*100), \"-\"),0)","v":"-"},{"$f":"COUNTRY_INFO!P115","v":28633.77},null,null,{"$f":"MAX('T1'!L115,'T2'!J115)+MAX('T1'!M115,'T2'!K115)+MAX('T1'!N115,'T2'!L115)","v":0},{"$f":"IF(COUNTRY_INFO!K115=1,IF(COUNTRY_INFO!F115*0.33>MAX('T1'!M115,'T2'!K115),MAX('T1'!M115,'T2'!K115),COUNTRY_INFO!F115*0.33),IF(COUNTRY_INFO!K115=2,IF(COUNTRY_INFO!F115*0.5>MAX('T1'!M115,'T2'!K115),MAX('T1'!M115,'T2'!K115),COUNTRY_INFO!F115*0.5),IF(COUNTRY_INFO!K115=3,IF(COUNTRY_INFO!F115>MAX('T1'!M115,'T2'!K115),MAX('T1'!M115,'T2'!K115),COUNTRY_INFO!F115),0)))","v":0},{"$f":"IF(AND(COUNTRY_INFO!K115>0,COUNTRY_INFO!K115<4),IF(Z115>0,IF(COUNTRY_INFO!K115=1, AD115/(COUNTRY_INFO!F115*0.33)*100, IF(COUNTRY_INFO!K115=2, AD115/(COUNTRY_INFO!F115*0.5)*100, IF(COUNTRY_INFO!K115=3, AD115/COUNTRY_INFO!F115*100))),\"-\"),0)","v":0},{"$f":"IF(COUNTRY_INFO!K115=2,IF(COUNTRY_INFO!G115*0.2>MAX('T1'!N115,'T2'!L115),MAX('T1'!N115,'T2'!L115),COUNTRY_INFO!G115*0.2),IF(COUNTRY_INFO!K115=3,IF(COUNTRY_INFO!G115>MAX('T1'!N115,'T2'!L115),MAX('T1'!N115,'T2'!L115),COUNTRY_INFO!G115),0))","v":0},{"$f":"IF(AND(COUNTRY_INFO!K115>0,COUNTRY_INFO!K115<4),IF(Z115>0,IF(COUNTRY_INFO!K115=1, 0, IF(COUNTRY_INFO!K115=2, AF115/(COUNTRY_INFO!G115*0.2)*100, IF(COUNTRY_INFO!K115=3, AF115/COUNTRY_INFO!G115*100))),\"-\"),0)","v":0},0,{"$f":"IF(AND(COUNTRY_INFO!K115>0,COUNTRY_INFO!K115<4), IF(AC115/Z115*100<>0, IF(AH115/Z115*100>100,100,AH115/Z115*100), \"-\"),0)","v":"-"},null,{"$f":"IF(AND(D115<>0, D115<>\"Inconnu\",D115<>\"Interrompu\",D115<>\"Non requis\"),D115/COUNTRY_INFO!D115, 0)","v":0},{"$f":"IF(AND(J115<>0,J115<>\"Inconnu\",J115<>\"Interrompu\",J115<>\"Non requis\"),J115/COUNTRY_INFO!D115, 0)","v":0},{"$f":"IF(AND(P115<>0,P115<>\"Inconnu\",P115<>\"Non requis\"),P115/(COUNTRY_INFO!E115+COUNTRY_INFO!F115), 0)","v":1},{"$f":"IF(AND(Z115<>0,Z115<>\"Inconnu\",Z115<>\"Non requis\"),IF(COUNTRY_INFO!K115=1,1,IF(COUNTRY_INFO!K115=2,0.5*COUNTRY_INFO!F115/(0.5*COUNTRY_INFO!F115+0.2*COUNTRY_INFO!G115),IF(COUNTRY_INFO!K115=3,COUNTRY_INFO!F115/(COUNTRY_INFO!F115+COUNTRY_INFO!G115)))),0)","v":1},{"$f":"IF(AND(Z115<>0,Z115<>\"Inconnu\",Z115<>\"Non requis\"),IF(COUNTRY_INFO!K115=1,0,IF(COUNTRY_INFO!K115=2,0.2*COUNTRY_INFO!G115/(0.5*COUNTRY_INFO!F115+0.2*COUNTRY_INFO!G115),IF(COUNTRY_INFO!K115=3,COUNTRY_INFO!G115/(COUNTRY_INFO!F115+COUNTRY_INFO!G115)))),0)","v":0},{"$f":"MAX(COUNTRY_INFO!D115*AK115*PROFILE!$G$7,COUNTRY_INFO!D115*AL115*PROFILE!$G$7)","v":0},{"$f":"MAX(COUNTRY_INFO!D115*AK115*PROFILE!$G$8,COUNTRY_INFO!D115*AL115*PROFILE!$G$8,COUNTRY_INFO!D115*AM115*PROFILE!$G$8)","v":47172.612050981603},{"$f":"MAX(COUNTRY_INFO!D115*AK115*PROFILE!$G$9,COUNTRY_INFO!D115*AL115*PROFILE!$G$9,COUNTRY_INFO!D115*AM115*PROFILE!$G$9,IF(AND(DISTRICT!Z115<>\"Inconnu\",Z115<>\"Non requis\"),COUNTRY_INFO!P115*DISTRICT!AN115,0))","v":86768.752997797419},{"$f":"MAX(COUNTRY_INFO!D115*AK115*PROFILE!$G$10,COUNTRY_INFO!D115*AL115*PROFILE!$G$10,IF(AND(DISTRICT!Z115<>\"Inconnu\",Z115<>\"Non requis\"),COUNTRY_INFO!P115*DISTRICT!AO115,0))","v":0},133941.36504877903,0,{"$f":"MAX('MDA4'!R115,'T1'!L115,'T2'!J115,T3_R1!K115,T3_R2!K115)","v":0},{"$f":"MAX('MDA1'!K115,'MDA4'!S115,'MDA3'!I115,'MDA3'!L115,'T1'!M115,'T2'!K115,T3_R1!L115,T3_R2!L115)","v":0},{"$f":"MAX('MDA1'!L115,'MDA4'!T115,'MDA3'!J115,'MDA3'!M115,'T1'!N115,'T2'!L115,T3_R1!M115,T3_R2!M115)","v":0},0,{"$f":"MAX('MDA4'!R115,T115)","v":0},{"$f":"MAX('MDA1'!K115,'MDA4'!S115,'MDA3'!I115,'MDA3'!L115,V115,AD115)","v":0},{"$f":"MAX('MDA1'!L115,'MDA4'!T115,'MDA3'!J115,'MDA3'!M115,AF115)","v":0},0,0]
[{"$f":"IF(COUNTRY_INFO!A116=0,\" \",COUNTRY_INFO!A116)","v":"Chad"},{"$f":"IF(COUNTRY_INFO!B116=0,\" \",COUNTRY_INFO!B116)","v":"Salamat"},{"$f":"IF(COUNTRY_INFO!C116=0,\" \",COUNTRY_INFO!C116)","v":"Haraze"},{"$f":"COUNTRY_INFO!M116","v":0},null,null,{"$f":"MAX('MDA1'!M116,'MDA4'!U116)","v":0},{"$f":"IF(AND(COUNTRY_INFO!H116>0,COUNTRY_INFO!H116<4),IF(D116>MAX('MDA1'!M116,'MDA4'!U116),MAX('MDA1'!M116,'MDA4'!U116),D116),0)","v":0},{"$f":"IF(AND(COUNTRY_INFO!H116>0,COUNTRY_INFO!H116<4), IF(G116/D116*100<>0, IF(G116/D116*100>100,100,G116/D116*100), \"-\"),0)","v":0},{"$f":"COUNTRY_INFO!N116","v":"Inconnu"},null,null,{"$f":"MAX('MDA1'!M116,MAX('MDA3'!I116,'MDA3'!L116)+MAX('MDA3'!J116,'MDA3'!M116))","v":0},{"$f":"IF(AND(COUNTRY_INFO!I116>0,COUNTRY_INFO!I116<4),IF(J116>MAX('MDA1'!M116,MAX('MDA3'!I116,'MDA3'!L116)+MAX('MDA3'!J116,'MDA3'!M116)),MAX('MDA1'!M116,MAX('MDA3'!I116,'MDA3'!L116)+MAX('MDA3'!J116,'MDA3'!M116)),J116),0)","v":0},{"$f":"IF(AND(COUNTRY_INFO!I116>0,COUNTRY_INFO!I116<4), IF(M116/J116*100<>0, IF(M116/J116*100>100,100,M116/J116*100), \"-\"),0)","v":0},{"$f":"COUNTRY_INFO!O116","v":0},null,null,{"$f":"SUM(MAX('MDA4'!R116, 'T1'!L116, MAX(T3_R1!K116, T3_R2!K116)), MAX('MDA1'!K116, 'MDA4'!S116, 'T1'!M116, MAX(T3_R1!L116, T3_R2!L116)), MAX('MDA1'!L116, 'MDA4'!T116, 'T1'!N116, MAX(T3_R1!M116, T3_R2!M116)))","v":0},{"$f":"IF(AND(COUNTRY_INFO!J116>1,COUNTRY_INFO!J116<4),IF(COUNTRY_INFO!E116>MAX('MDA4'!R116,'T1'!L116,MAX(T3_R1!K116,T3_R2!K116)),MAX('MDA4'!R116,'T1'!L116,MAX(T3_R1!K116,T3_R2!K116)),COUNTRY_INFO!E116),0)","v":0},{"$f":"IF(AND(COUNTRY_INFO!J116>1,COUNTRY_INFO!J116<4), IF(T116/COUNTRY_INFO!E116*100<>0, IF(T116/COUNTRY_INFO!E116*100>100,100,T116/COUNTRY_INFO!E116*100), \"-\"),0)","v":0},{"$f":"IF(AND(COUNTRY_INFO!J116>1,COUNTRY_INFO!J116<4),IF(COUNTRY_INFO!F116>MAX('MDA1'!K116,'MDA4'!S116,'T1'!M116,MAX(T3_R1!L116,T3_R2!L116)),MAX('MDA1'!K116,'MDA4'!S116,'T1'!M116,MAX(T3_R1!L116,T3_R2!L116)),COUNTRY_INFO!F116),0)","v":0},{"$f":"IF(AND(COUNTRY_INFO!J116>1,COUNTRY_INFO!J116<4), IF(V116/COUNTRY_INFO!F116*100<>0, IF(V116/COUNTRY_INFO!F116*100>100,100,V116/COUNTRY_INFO!F116*100), \"-\"),0)","v":0},0,{"$f":"IF(AND(COUNTRY_INFO!J116>1,COUNTRY_INFO!J116<4), IF(S116/P116*100<>0, IF(X116/P116*100>100,100,X116/P116*100), \"-\"),0)","v":0},{"$f":"COUNTRY_INFO!P116","v":21793.7},null,null,{"$f":"MAX('T1'!L116,'T2'!J116)+MAX('T1'!M116,'T2'!K116)+MAX('T1'!N116,'T2'!L116)","v":0},{"$f":"IF(COUNTRY_INFO!K116=1,IF(COUNTRY_INFO!F116*0.33>MAX('T1'!M116,'T2'!K116),MAX('T1'!M116,'T2'!K116),COUNTRY_INFO!F116*0.33),IF(COUNTRY_INFO!K116=2,IF(COUNTRY_INFO!F116*0.5>MAX('T1'!M116,'T2'!K116),MAX('T1'!M116,'T2'!K116),COUNTRY_INFO!F116*0.5),IF(COUNTRY_INFO!K116=3,IF(COUNTRY_INFO!F116>MAX('T1'!M116,'T2'!K116),MAX('T1'!M116,'T2'!K116),COUNTRY_INFO!F116),0)))","v":0},{"$f":"IF(AND(COUNTRY_INFO!K116>0,COUNTRY_INFO!K116<4),IF(Z116>0,IF(COUNTRY_INFO!K116=1, AD116/(COUNTRY_INFO!F116*0.33)*100, IF(COUNTRY_INFO!K116=2, AD116/(COUNTRY_INFO!F116*0.5)*100, IF(COUNTRY_INFO!K116=3, AD116/COUNTRY_INFO!F116*100))),\"-\"),0)","v":0},{"$f":"IF(COUNTRY_INFO!K116=2,IF(COUNTRY_INFO!G116*0.2>MAX('T1'!N116,'T2'!L116),MAX('T1'!N116,'T2'!L116),COUNTRY_INFO!G116*0.2),IF(COUNTRY_INFO!K116=3,IF(COUNTRY_INFO!G116>MAX('T1'!N116,'T2'!L116),MAX('T1'!N116,'T2'!L116),COUNTRY_INFO!G116),0))","v":0},{"$f":"IF(AND(COUNTRY_INFO!K116>0,COUNTRY_INFO!K116<4),IF(Z116>0,IF(COUNTRY_INFO!K116=1, 0, IF(COUNTRY_INFO!K116=2, AF116/(COUNTRY_INFO!G116*0.2)*100, IF(COUNTRY_INFO!K116=3, AF116/COUNTRY_INFO!G116*100))),\"-\"),0)","v":0},0,{"$f":"IF(AND(COUNTRY_INFO!K116>0,COUNTRY_INFO!K116<4), IF(AC116/Z116*100<>0, IF(AH116/Z116*100>100,100,AH116/Z116*100), \"-\"),0)","v":"-"},null,{"$f":"IF(AND(D116<>0, D116<>\"Inconnu\",D116<>\"Interrompu\",D116<>\"Non requis\"),D116/COUNTRY_INFO!D116, 0)","v":0},{"$f":"IF(AND(J116<>0,J116<>\"Inconnu\",J116<>\"Interrompu\",J116<>\"Non requis\"),J116/COUNTRY_INFO!D116, 0)","v":0},{"$f":"IF(AND(P116<>0,P116<>\"Inconnu\",P116<>\"Non requis\"),P116/(COUNTRY_INFO!E116+COUNTRY_INFO!F116), 0)","v":0},{"$f":"IF(AND(Z116<>0,Z116<>\"Inconnu\",Z116<>\"Non requis\"),IF(COUNTRY_INFO!K116=1,1,IF(COUNTRY_INFO!K116=2,0.5*COUNTRY_INFO!F116/(0.5*COUNTRY_INFO!F116+0.2*COUNTRY_INFO!G116),IF(COUNTRY_INFO!K116=3,COUNTRY_INFO!F116/(COUNTRY_INFO!F116+COUNTRY_INFO!G116)))),0)","v":0.60542725650073181},{"$f":"IF(AND(Z116<>0,Z116<>\"Inconnu\",Z116<>\"Non requis\"),IF(COUNTRY_INFO!K116=1,0,IF(COUNTRY_INFO!K116=2,0.2*COUNTRY_INFO!G116/(0.5*COUNTRY_INFO!F116+0.2*COUNTRY_INFO!G116),IF(COUNTRY_INFO!K116=3,COUNTRY_INFO!G116/(COUNTRY_INFO!F116+COUNTRY_INFO!G116)))),0)","v":0.39457274349926813},{"$f":"MAX(COUNTRY_INFO!D116*AK116*PROFILE!$G$7,COUNTRY_INFO!D116*AL116*PROFILE!$G$7)","v":0},{"$f":"MAX(COUNTRY_INFO!D116*AK116*PROFILE!$G$8,COUNTRY_INFO!D116*AL116*PROFILE!$G$8,COUNTRY_INFO!D116*AM116*PROFILE!$G$8)","v":0},{"$f":"MAX(COUNTRY_INFO!D116*AK116*PROFILE!$G$9,COUNTRY_INFO!D116*AL116*PROFILE!$G$9,COUNTRY_INFO!D116*AM116*PROFILE!$G$9,IF(AND(DISTRICT!Z116<>\"Inconnu\",Z116<>\"Non requis\"),COUNTRY_INFO!P116*DISTRICT!AN116,0))","v":13194.5},{"$f":"MAX(COUNTRY_INFO!D116*AK116*PROFILE!$G$10,COUNTRY_INFO!D116*AL116*PROFILE!$G$10,IF(AND(DISTRICT!Z116<>\"Inconnu\",Z116<>\"Non requis\"),COUNTRY_INFO!P116*DISTRICT!AO116,0))","v":8599.2000000000007},21793.7,0,{"$f":"MAX('MDA4'!R116,'T1'!L116,'T2'!J116,T3_R1!K116,T3_R2!K116)","v":0},{"$f":"MAX('MDA1'!K116,'MDA4'!S116,'MDA3'!I116,'MDA3'!L116,'T1'!M116,'T2'!K116,T3_R1!L116,T3_R2!L116)","v":0},{"$f":"MAX('MDA1'!L116,'MDA4'!T116,'MDA3'!J116,'MDA3'!M116,'T1'!N116,'T2'!L116,T3_R1!M116,T3_R2!M116)","v":0},0,{"$f":"MAX('MDA4'!R116,T116)","v":0},{"$f":"MAX('MDA1'!K116,'MDA4'!S116,'MDA3'!I116,'MDA3'!L116,V116,AD116)","v":0},{"$f":"MAX('MDA1'!L116,'MDA4'!T116,'MDA3'!J116,'MDA3'!M116,AF116)","v":0},0,0]
[{"$f":"IF(COUNTRY_INFO!A117=0,\" \",COUNTRY_INFO!A117)","v":"Chad"},{"$f":"IF(COUNTRY_INFO!B117=0,\" \",COUNTRY_INFO!B117)","v":"Sila"},{"$f":"IF(COUNTRY_INFO!C117=0,\" \",COUNTRY_INFO!C117)","v":"Am-dam"},{"$f":"COUNTRY_INFO!M117","v":0},null,null,{"$f":"MAX('MDA1'!M117,'MDA4'!U117)","v":0},{"$f":"IF(AND(COUNTRY_INFO!H117>0,COUNTRY_INFO!H117<4),IF(D117>MAX('MDA1'!M117,'MDA4'!U117),MAX('MDA1'!M117,'MDA4'!U117),D117),0)","v":0},{"$f":"IF(AND(COUNTRY_INFO!H117>0,COUNTRY_INFO!H117<4), IF(G117/D117*100<>0, IF(G117/D117*100>100,100,G117/D117*100), \"-\"),0)","v":0},{"$f":"COUNTRY_INFO!N117","v":"Inconnu"},null,null,{"$f":"MAX('MDA1'!M117,MAX('MDA3'!I117,'MDA3'!L117)+MAX('MDA3'!J117,'MDA3'!M117))","v":0},{"$f":"IF(AND(COUNTRY_INFO!I117>0,COUNTRY_INFO!I117<4),IF(J117>MAX('MDA1'!M117,MAX('MDA3'!I117,'MDA3'!L117)+MAX('MDA3'!J117,'MDA3'!M117)),MAX('MDA1'!M117,MAX('MDA3'!I117,'MDA3'!L117)+MAX('MDA3'!J117,'MDA3'!M117)),J117),0)","v":0},{"$f":"IF(AND(COUNTRY_INFO!I117>0,COUNTRY_INFO!I117<4), IF(M117/J117*100<>0, IF(M117/J117*100>100,100,M117/J117*100), \"-\"),0)","v":0},{"$f":"COUNTRY_INFO!O117","v":0},null,null,{"$f":"SUM(MAX('MDA4'!R117, 'T1'!L117, MAX(T3_R1!K117, T3_R2!K117)), MAX('MDA1'!K117, 'MDA4'!S117, 'T1'!M117, MAX(T3_R1!L117, T3_R2!L117)), MAX('MDA1'!L117, 'MDA4'!T117, 'T1'!N117, MAX(T3_R1!M117, T3_R2!M117)))","v":0},{"$f":"IF(AND(COUNTRY_INFO!J117>1,COUNTRY_INFO!J117<4),IF(COUNTRY_INFO!E117>MAX('MDA4'!R117,'T1'!L117,MAX(T3_R1!K117,T3_R2!K117)),MAX('MDA4'!R117,'T1'!L117,MAX(T3_R1!K117,T3_R2!K117)),COUNTRY_INFO!E117),0)","v":0},{"$f":"IF(AND(COUNTRY_INFO!J117>1,COUNTRY_INFO!J117<4), IF(T117/COUNTRY_INFO!E117*100<>0, IF(T117/COUNTRY_INFO!E117*100>100,100,T117/COUNTRY_INFO!E117*100), \"-\"),0)","v":0},{"$f":"IF(AND(COUNTRY_INFO!J117>1,COUNTRY_INFO!J117<4),IF(COUNTRY_INFO!F117>MAX('MDA1'!K117,'MDA4'!S117,'T1'!M117,MAX(T3_R1!L117,T3_R2!L117)),MAX('MDA1'!K117,'MDA4'!S117,'T1'!M117,MAX(T3_R1!L117,T3_R2!L117)),COUNTRY_INFO!F117),0)","v":0},{"$f":"IF(AND(COUNTRY_INFO!J117>1,COUNTRY_INFO!J117<4), IF(V117/COUNTRY_INFO!F117*100<>0, IF(V117/COUNTRY_INFO!F117*100>100,100,V117/COUNTRY_INFO!F117*100), \"-\"),0)","v":0},0,{"$f":"IF(AND(COUNTRY_INFO!J117>1,COUNTRY_INFO!J117<4), IF(S117/P117*100<>0, IF(X117/P117*100>100,100,X117/P117*100), \"-\"),0)","v":0},{"$f":"COUNTRY_INFO!P117","v":1341.2},null,null,{"$f":"MAX('T1'!L117,'T2'!J117)+MAX('T1'!M117,'T2'!K117)+MAX('T1'!N117,'T2'!L117)","v":0},{"$f":"IF(COUNTRY_INFO!K117=1,IF(COUNTRY_INFO!F117*0.33>MAX('T1'!M117,'T2'!K117),MAX('T1'!M117,'T2'!K117),COUNTRY_INFO!F117*0.33),IF(COUNTRY_INFO!K117=2,IF(COUNTRY_INFO!F117*0.5>MAX('T1'!M117,'T2'!K117),MAX('T1'!M117,'T2'!K117),COUNTRY_INFO!F117*0.5),IF(COUNTRY_INFO!K117=3,IF(COUNTRY_INFO!F117>MAX('T1'!M117,'T2'!K117),MAX('T1'!M117,'T2'!K117),COUNTRY_INFO!F117),0)))","v":0},{"$f":"IF(AND(COUNTRY_INFO!K117>0,COUNTRY_INFO!K117<4),IF(Z117>0,IF(COUNTRY_INFO!K117=1, AD117/(COUNTRY_INFO!F117*0.33)*100, IF(COUNTRY_INFO!K117=2, AD117/(COUNTRY_INFO!F117*0.5)*100, IF(COUNTRY_INFO!K117=3, AD117/COUNTRY_INFO!F117*100))),\"-\"),0)","v":0},{"$f":"IF(COUNTRY_INFO!K117=2,IF(COUNTRY_INFO!G117*0.2>MAX('T1'!N117,'T2'!L117),MAX('T1'!N117,'T2'!L117),COUNTRY_INFO!G117*0.2),IF(COUNTRY_INFO!K117=3,IF(COUNTRY_INFO!G117>MAX('T1'!N117,'T2'!L117),MAX('T1'!N117,'T2'!L117),COUNTRY_INFO!G117),0))","v":0},{"$f":"IF(AND(COUNTRY_INFO!K117>0,COUNTRY_INFO!K117<4),IF(Z117>0,IF(COUNTRY_INFO!K117=1, 0, IF(COUNTRY_INFO!K117=2, AF117/(COUNTRY_INFO!G117*0.2)*100, IF(COUNTRY_INFO!K117=3, AF117/COUNTRY_INFO!G117*100))),\"-\"),0)","v":0},0,{"$f":"IF(AND(COUNTRY_INFO!K117>0,COUNTRY_INFO!K117<4), IF(AC117/Z117*100<>0, IF(AH117/Z117*100>100,100,AH117/Z117*100), \"-\"),0)","v":"-"},null,{"$f":"IF(AND(D117<>0, D117<>\"Inconnu\",D117<>\"Interrompu\",D117<>\"Non requis\"),D117/COUNTRY_INFO!D117, 0)","v":0},{"$f":"IF(AND(J117<>0,J117<>\"Inconnu\",J117<>\"Interrompu\",J117<>\"Non requis\"),J117/COUNTRY_INFO!D117, 0)","v":0},{"$f":"IF(AND(P117<>0,P117<>\"Inconnu\",P117<>\"Non requis\"),P117/(COUNTRY_INFO!E117+COUNTRY_INFO!F117), 0)","v":0},{"$f":"IF(AND(Z117<>0,Z117<>\"Inconnu\",Z117<>\"Non requis\"),IF(COUNTRY_INFO!K117=1,1,IF(COUNTRY_INFO!K117=2,0.5*COUNTRY_INFO!F117/(0.5*COUNTRY_INFO!F117+0.2*COUNTRY_INFO!G117),IF(COUNTRY_INFO!K117=3,COUNTRY_INFO!F117/(COUNTRY_INFO!F117+COUNTRY_INFO!G117)))),0)","v":0.60542797494780787},{"$f":"IF(AND(Z117<>0,Z117<>\"Inconnu\",Z117<>\"Non requis\"),IF(COUNTRY_INFO!K117=1,0,IF(COUNTRY_INFO!K117=2,0.2*COUNTRY_INFO!G117/(0.5*COUNTRY_INFO!F117+0.2*COUNTRY_INFO!G117),IF(COUNTRY_INFO!K117=3,COUNTRY_INFO!G117/(COUNTRY_INFO!F117+COUNTRY_INFO!G117)))),0)","v":0.39457202505219208},{"$f":"MAX(COUNTRY_INFO!D117*AK117*PROFILE!$G$7,COUNTRY_INFO!D117*AL117*PROFILE!$G$7)","v":0},{"$f":"MAX(COUNTRY_INFO!D117*AK117*PROFILE!$G$8,COUNTRY_INFO!D117*AL117*PROFILE!$G$8,COUNTRY_INFO!D117*AM117*PROFILE!$G$8)","v":0},{"$f":"MAX(COUNTRY_INFO!D117*AK117*PROFILE!$G$9,COUNTRY_INFO!D117*AL117*PROFILE!$G$9,COUNTRY_INFO!D117*AM117*PROFILE!$G$9,IF(AND(DISTRICT!Z117<>\"Inconnu\",Z117<>\"Non requis\"),COUNTRY_INFO!P117*DISTRICT!AN117,0))","v":811.99999999999989},{"$f":"MAX(COUNTRY_INFO!D117*AK117*PROFILE!$G$10,COUNTRY_INFO!D117*AL117*PROFILE!$G$10,IF(AND(DISTRICT!Z117<>\"Inconnu\",Z117<>\"Non requis\"),COUNTRY_INFO!P117*DISTRICT!AO117,0))","v":529.20000000000005},1341.1999999999998,0,{"$f":"MAX('MDA4'!R117,'T1'!L117,'T2'!J117,T3_R1!K117,T3_R2!K117)","v":0},{"$f":"MAX('MDA1'!K117,'MDA4'!S117,'MDA3'!I117,'MDA3'!L117,'T1'!M117,'T2'!K117,T3_R1!L117,T3_R2!L117)","v":0},{"$f":"MAX('MDA1'!L117,'MDA4'!T117,'MDA3'!J117,'MDA3'!M117,'T1'!N117,'T2'!L117,T3_R1!M117,T3_R2!M117)","v":0},0,{"$f":"MAX('MDA4'!R117,T117)","v":0},{"$f":"MAX('MDA1'!K117,'MDA4'!S117,'MDA3'!I117,'MDA3'!L117,V117,AD117)","v":0},{"$f":"MAX('MDA1'!L117,'MDA4'!T117,'MDA3'!J117,'MDA3'!M117,AF117)","v":0},0,0]
[{"$f":"IF(COUNTRY_INFO!A118=0,\" \",COUNTRY_INFO!A118)","v":"Chad"},{"$f":"IF(COUNTRY_INFO!B118=0,\" \",COUNTRY_INFO!B118)","v":"Sila"},{"$f":"IF(COUNTRY_INFO!C118=0,\" \",COUNTRY_INFO!C118)","v":"Goz-beida"},{"$f":"COUNTRY_INFO!M118","v":0},null,null,{"$f":"MAX('MDA1'!M118,'MDA4'!U118)","v":0},{"$f":"IF(AND(COUNTRY_INFO!H118>0,COUNTRY_INFO!H118<4),IF(D118>MAX('MDA1'!M118,'MDA4'!U118),MAX('MDA1'!M118,'MDA4'!U118),D118),0)","v":0},{"$f":"IF(AND(COUNTRY_INFO!H118>0,COUNTRY_INFO!H118<4), IF(G118/D118*100<>0, IF(G118/D118*100>100,100,G118/D118*100), \"-\"),0)","v":0},{"$f":"COUNTRY_INFO!N118","v":"Inconnu"},null,null,{"$f":"MAX('MDA1'!M118,MAX('MDA3'!I118,'MDA3'!L118)+MAX('MDA3'!J118,'MDA3'!M118))","v":0},{"$f":"IF(AND(COUNTRY_INFO!I118>0,COUNTRY_INFO!I118<4),IF(J118>MAX('MDA1'!M118,MAX('MDA3'!I118,'MDA3'!L118)+MAX('MDA3'!J118,'MDA3'!M118)),MAX('MDA1'!M118,MAX('MDA3'!I118,'MDA3'!L118)+MAX('MDA3'!J118,'MDA3'!M118)),J118),0)","v":0},{"$f":"IF(AND(COUNTRY_INFO!I118>0,COUNTRY_INFO!I118<4), IF(M118/J118*100<>0, IF(M118/J118*100>100,100,M118/J118*100), \"-\"),0)","v":0},{"$f":"COUNTRY_INFO!O118","v":0},null,null,{"$f":"SUM(MAX('MDA4'!R118, 'T1'!L118, MAX(T3_R1!K118, T3_R2!K118)), MAX('MDA1'!K118, 'MDA4'!S118, 'T1'!M118, MAX(T3_R1!L118, T3_R2!L118)), MAX('MDA1'!L118, 'MDA4'!T118, 'T1'!N118, MAX(T3_R1!M118, T3_R2!M118)))","v":0},{"$f":"IF(AND(COUNTRY_INFO!J118>1,COUNTRY_INFO!J118<4),IF(COUNTRY_INFO!E118>MAX('MDA4'!R118,'T1'!L118,MAX(T3_R1!K118,T3_R2!K118)),MAX('MDA4'!R118,'T1'!L118,MAX(T3_R1!K118,T3_R2!K118)),COUNTRY_INFO!E118),0)","v":0},{"$f":"IF(AND(COUNTRY_INFO!J118>1,COUNTRY_INFO!J118<4), IF(T118/COUNTRY_INFO!E118*100<>0, IF(T118/COUNTRY_INFO!E118*100>100,100,T118/COUNTRY_INFO!E118*100), \"-\"),0)","v":0},{"$f":"IF(AND(COUNTRY_INFO!J118>1,COUNTRY_INFO!J118<4),IF(COUNTRY_INFO!F118>MAX('MDA1'!K118,'MDA4'!S118,'T1'!M118,MAX(T3_R1!L118,T3_R2!L118)),MAX('MDA1'!K118,'MDA4'!S118,'T1'!M118,MAX(T3_R1!L118,T3_R2!L118)),COUNTRY_INFO!F118),0)","v":0},{"$f":"IF(AND(COUNTRY_INFO!J118>1,COUNTRY_INFO!J118<4), IF(V118/COUNTRY_INFO!F118*100<>0, IF(V118/COUNTRY_INFO!F118*100>100,100,V118/COUNTRY_INFO!F118*100), \"-\"),0)","v":0},0,{"$f":"IF(AND(COUNTRY_INFO!J118>1,COUNTRY_INFO!J118<4), IF(S118/P118*100<>0, IF(X118/P118*100>100,100,X118/P118*100), \"-\"),0)","v":0},{"$f":"COUNTRY_INFO!P118","v":65646.399999999994},null,null,{"$f":"MAX('T1'!L118,'T2'!J118)+MAX('T1'!M118,'T2'!K118)+MAX('T1'!N118,'T2'!L118)","v":0},{"$f":"IF(COUNTRY_INFO!K118=1,IF(COUNTRY_INFO!F118*0.33>MAX('T1'!M118,'T2'!K118),MAX('T1'!M118,'T2'!K118),COUNTRY_INFO!F118*0.33),IF(COUNTRY_INFO!K118=2,IF(COUNTRY_INFO!F118*0.5>MAX('T1'!M118,'T2'!K118),MAX('T1'!M118,'T2'!K118),COUNTRY_INFO!F118*0.5),IF(COUNTRY_INFO!K118=3,IF(COUNTRY_INFO!F118>MAX('T1'!M118,'T2'!K118),MAX('T1'!M118,'T2'!K118),COUNTRY_INFO!F118),0)))","v":0},{"$f":"IF(AND(COUNTRY_INFO!K118>0,COUNTRY_INFO!K118<4),IF(Z118>0,IF(COUNTRY_INFO!K118=1, AD118/(COUNTRY_INFO!F118*0.33)*100, IF(COUNTRY_INFO!K118=2, AD118/(COUNTRY_INFO!F118*0.5)*100, IF(COUNTRY_INFO!K118=3, AD118/COUNTRY_INFO!F118*100))),\"-\"),0)","v":0},{"$f":"IF(COUNTRY_INFO!K118=2,IF(COUNTRY_INFO!G118*0.2>MAX('T1'!N118,'T2'!L118),MAX('T1'!N118,'T2'!L118),COUNTRY_INFO!G118*0.2),IF(COUNTRY_INFO!K118=3,IF(COUNTRY_INFO!G118>MAX('T1'!N118,'T2'!L118),MAX('T1'!N118,'T2'!L118),COUNTRY_INFO!G118),0))","v":0},{"$f":"IF(AND(COUNTRY_INFO!K118>0,COUNTRY_INFO!K118<4),IF(Z118>0,IF(COUNTRY_INFO!K118=1, 0, IF(COUNTRY_INFO!K118=2, AF118/(COUNTRY_INFO!G118*0.2)*100, IF(COUNTRY_INFO!K118=3, AF118/COUNTRY_INFO!G118*100))),\"-\"),0)","v":0},0,{"$f":"IF(AND(COUNTRY_INFO!K118>0,COUNTRY_INFO!K118<4), IF(AC118/Z118*100<>0, IF(AH118/Z118*100>100,100,AH118/Z118*100), \"-\"),0)","v":"-"},null,{"$f":"IF(AND(D118<>0, D118<>\"Inconnu\",D118<>\"Interrompu\",D118<>\"Non requis\"),D118/COUNTRY_INFO!D118, 0)","v":0},{"$f":"IF(AND(J118<>0,J118<>\"Inconnu\",J118<>\"Interrompu\",J118<>\"Non requis\"),J118/COUNTRY_INFO!D118, 0)","v":0},{"$f":"IF(AND(P118<>0,P118<>\"Inconnu\",P118<>\"Non requis\"),P118/(COUNTRY_INFO!E118+COUNTRY_INFO!F118), 0)","v":0},{"$f":"IF(AND(Z118<>0,Z118<>\"Inconnu\",Z118<>\"Non requis\"),IF(COUNTRY_INFO!K118=1,1,IF(COUNTRY_INFO!K118=2,0.5*COUNTRY_INFO!F118/(0.5*COUNTRY_INFO!F118+0.2*COUNTRY_INFO!G118),IF(COUNTRY_INFO!K118=3,COUNTRY_INFO!F118/(COUNTRY_INFO!F118+COUNTRY_INFO!G118)))),0)","v":0.60542543079285394},{"$f":"IF(AND(Z118<>0,Z118<>\"Inconnu\",Z118<>\"Non requis\"),IF(COUNTRY_INFO!K118=1,0,IF(COUNTRY_INFO!K118=2,0.2*COUNTRY_INFO!G118/(0.5*COUNTRY_INFO!F118+0.2*COUNTRY_INFO!G118),IF(COUNTRY_INFO!K118=3,COUNTRY_INFO!G118/(COUNTRY_INFO!F118+COUNTRY_INFO!G118)))),0)","v":0.39457456920714623},{"$f":"MAX(COUNTRY_INFO!D118*AK118*PROFILE!$G$7,COUNTRY_INFO!D118*AL118*PROFILE!$G$7)","v":0},{"$f":"MAX(COUNTRY_INFO!D118*AK118*PROFILE!$G$8,COUNTRY_INFO!D118*AL118*PROFILE!$G$8,COUNTRY_INFO!D118*AM118*PROFILE!$G$8)","v":0},{"$f":"MAX(COUNTRY_INFO!D118*AK118*PROFILE!$G$9,COUNTRY_INFO!D118*AL118*PROFILE!$G$9,COUNTRY_INFO!D118*AM118*PROFILE!$G$9,IF(AND(DISTRICT!Z118<>\"Inconnu\",Z118<>\"Non requis\"),COUNTRY_INFO!P118*DISTRICT!AN118,0))","v":39744},{"$f":"MAX(COUNTRY_INFO!D118*AK118*PROFILE!$G$10,COUNTRY_INFO!D118*AL118*PROFILE!$G$10,IF(AND(DISTRICT!Z118<>\"Inconnu\",Z118<>\"Non requis\"),COUNTRY_INFO!P118*DISTRICT!AO118,0))","v":25902.400000000001},65646.399999999994,0,{"$f":"MAX('MDA4'!R118,'T1'!L118,'T2'!J118,T3_R1!K118,T3_R2!K118)","v":0},{"$f":"MAX('MDA1'!K118,'MDA4'!S118,'MDA3'!I118,'MDA3'!L118,'T1'!M118,'T2'!K118,T3_R1!L118,T3_R2!L118)","v":0},{"$f":"MAX('MDA1'!L118,'MDA4'!T118,'MDA3'!J118,'MDA3'!M118,'T1'!N118,'T2'!L118,T3_R1!M118,T3_R2!M118)","v":0},0,{"$f":"MAX('MDA4'!R118,T118)","v":0},{"$f":"MAX('MDA1'!K118,'MDA4'!S118,'MDA3'!I118,'MDA3'!L118,V118,AD118)","v":0},{"$f":"MAX('MDA1'!L118,'MDA4'!T118,'MDA3'!J118,'MDA3'!M118,AF118)","v":0},0,0]
[{"$f":"IF(COUNTRY_INFO!A119=0,\" \",COUNTRY_INFO!A119)","v":"Chad"},{"$f":"IF(COUNTRY_INFO!B119=0,\" \",COUNTRY_INFO!B119)","v":"Sila"},{"$f":"IF(COUNTRY_INFO!C119=0,\" \",COUNTRY_INFO!C119)","v":"Koukou"},{"$f":"COUNTRY_INFO!M119","v":0},null,null,{"$f":"MAX('MDA1'!M119,'MDA4'!U119)","v":0},{"$f":"IF(AND(COUNTRY_INFO!H119>0,COUNTRY_INFO!H119<4),IF(D119>MAX('MDA1'!M119,'MDA4'!U119),MAX('MDA1'!M119,'MDA4'!U119),D119),0)","v":0},{"$f":"IF(AND(COUNTRY_INFO!H119>0,COUNTRY_INFO!H119<4), IF(G119/D119*100<>0, IF(G119/D119*100>100,100,G119/D119*100), \"-\"),0)","v":0},{"$f":"COUNTRY_INFO!N119","v":"Inconnu"},null,null,{"$f":"MAX('MDA1'!M119,MAX('MDA3'!I119,'MDA3'!L119)+MAX('MDA3'!J119,'MDA3'!M119))","v":0},{"$f":"IF(AND(COUNTRY_INFO!I119>0,COUNTRY_INFO!I119<4),IF(J119>MAX('MDA1'!M119,MAX('MDA3'!I119,'MDA3'!L119)+MAX('MDA3'!J119,'MDA3'!M119)),MAX('MDA1'!M119,MAX('MDA3'!I119,'MDA3'!L119)+MAX('MDA3'!J119,'MDA3'!M119)),J119),0)","v":0},{"$f":"IF(AND(COUNTRY_INFO!I119>0,COUNTRY_INFO!I119<4), IF(M119/J119*100<>0, IF(M119/J119*100>100,100,M119/J119*100), \"-\"),0)","v":0},{"$f":"COUNTRY_INFO!O119","v":0},null,null,{"$f":"SUM(MAX('MDA4'!R119, 'T1'!L119, MAX(T3_R1!K119, T3_R2!K119)), MAX('MDA1'!K119, 'MDA4'!S119, 'T1'!M119, MAX(T3_R1!L119, T3_R2!L119)), MAX('MDA1'!L119, 'MDA4'!T119, 'T1'!N119, MAX(T3_R1!M119, T3_R2!M119)))","v":0},{"$f":"IF(AND(COUNTRY_INFO!J119>1,COUNTRY_INFO!J119<4),IF(COUNTRY_INFO!E119>MAX('MDA4'!R119,'T1'!L119,MAX(T3_R1!K119,T3_R2!K119)),MAX('MDA4'!R119,'T1'!L119,MAX(T3_R1!K119,T3_R2!K119)),COUNTRY_INFO!E119),0)","v":0},{"$f":"IF(AND(COUNTRY_INFO!J119>1,COUNTRY_INFO!J119<4), IF(T119/COUNTRY_INFO!E119*100<>0, IF(T119/COUNTRY_INFO!E119*100>100,100,T119/COUNTRY_INFO!E119*100), \"-\"),0)","v":0},{"$f":"IF(AND(COUNTRY_INFO!J119>1,COUNTRY_INFO!J119<4),IF(COUNTRY_INFO!F119>MAX('MDA1'!K119,'MDA4'!S119,'T1'!M119,MAX(T3_R1!L119,T3_R2!L119)),MAX('MDA1'!K119,'MDA4'!S119,'T1'!M119,MAX(T3_R1!L119,T3_R2!L119)),COUNTRY_INFO!F119),0)","v":0},{"$f":"IF(AND(COUNTRY_INFO!J119>1,COUNTRY_INFO!J119<4), IF(V119/COUNTRY_INFO!F119*100<>0, IF(V119/COUNTRY_INFO!F119*100>100,100,V119/COUNTRY_INFO!F119*100), \"-\"),0)","v":0},0,{"$f":"IF(AND(COUNTRY_INFO!J119>1,COUNTRY_INFO!J119<4), IF(S119/P119*100<>0, IF(X119/P119*100>100,100,X119/P119*100), \"-\"),0)","v":0},{"$f":"COUNTRY_INFO!P119","v":20588.8},null,null,{"$f":"MAX('T1'!L119,'T2'!J119)+MAX('T1'!M119,'T2'!K119)+MAX('T1'!N119,'T2'!L119)","v":0},{"$f":"IF(COUNTRY_INFO!K119=1,IF(COUNTRY_INFO!F119*0.33>MAX('T1'!M119,'T2'!K119),MAX('T1'!M119,'T2'!K119),COUNTRY_INFO!F119*0.33),IF(COUNTRY_INFO!K119=2,IF(COUNTRY_INFO!F119*0.5>MAX('T1'!M119,'T2'!K119),MAX('T1'!M119,'T2'!K119),COUNTRY_INFO!F119*0.5),IF(COUNTRY_INFO!K119=3,IF(COUNTRY_INFO!F119>MAX('T1'!M119,'T2'!K119),MAX('T1'!M119,'T2'!K119),COUNTRY_INFO!F119),0)))","v":0},{"$f":"IF(AND(COUNTRY_INFO!K119>0,COUNTRY_INFO!K119<4),IF(Z119>0,IF(COUNTRY_INFO!K119=1, AD119/(COUNTRY_INFO!F119*0.33)*100, IF(COUNTRY_INFO!K119=2, AD119/(COUNTRY_INFO!F119*0.5)*100, IF(COUNTRY_INFO!K119=3, AD119/COUNTRY_INFO!F119*100))),\"-\"),0)","v":0},{"$f":"IF(COUNTRY_INFO!K119=2,IF(COUNTRY_INFO!G119*0.2>MAX('T1'!N119,'T2'!L119),MAX('T1'!N119,'T2'!L119),COUNTRY_INFO!G119*0.2),IF(COUNTRY_INFO!K119=3,IF(COUNTRY_INFO!G119>MAX('T1'!N119,'T2'!L119),MAX('T1'!N119,'T2'!L119),COUNTRY_INFO!G119),0))","v":0},{"$f":"IF(AND(COUNTRY_INFO!K119>0,COUNTRY_INFO!K119<4),IF(Z119>0,IF(COUNTRY_INFO!K119=1, 0, IF(COUNTRY_INFO!K119=2, AF119/(COUNTRY_INFO!G119*0.2)*100, IF(COUNTRY_INFO!K119=3, AF119/COUNTRY_INFO!G119*100))),\"-\"),0)","v":0},0,{"$f":"IF(AND(COUNTRY_INFO!K119>0,COUNTRY_INFO!K119<4), IF(AC119/Z119*100<>0, IF(AH119/Z119*100>100,100,AH119/Z119*100), \"-\"),0)","v":"-"},null,{"$f":"IF(AND(D119<>0, D119<>\"Inconnu\",D119<>\"Interrompu\",D119<>\"Non requis\"),D119/COUNTRY_INFO!D119, 0)","v":0},{"$f":"IF(AND(J119<>0,J119<>\"Inconnu\",J119<>\"Interrompu\",J119<>\"Non requis\"),J119/COUNTRY_INFO!D119, 0)","v":0},{"$f":"IF(AND(P119<>0,P119<>\"Inconnu\",P119<>\"Non requis\"),P119/(COUNTRY_INFO!E119+COUNTRY_INFO!F119), 0)","v":0},{"$f":"IF(AND(Z119<>0,Z119<>\"Inconnu\",Z119<>\"Non requis\"),IF(COUNTRY_INFO!K119=1,1,IF(COUNTRY_INFO!K119=2,0.5*COUNTRY_INFO!F119/(0.5*COUNTRY_INFO!F119+0.2*COUNTRY_INFO!G119),IF(COUNTRY_INFO!K119=3,COUNTRY_INFO!F119/(COUNTRY_INFO!F119+COUNTRY_INFO!G119)))),0)","v":0.60542625116568238},{"$f":"IF(AND(Z119<>0,Z119<>\"Inconnu\",Z119<>\"Non requis\"),IF(COUNTRY_INFO!K119=1,0,IF(COUNTRY_INFO!K119=2,0.2*COUNTRY_INFO!G119/(0.5*COUNTRY_INFO!F119+0.2*COUNTRY_INFO!G119),IF(COUNTRY_INFO!K119=3,COUNTRY_INFO!G119/(COUNTRY_INFO!F119+COUNTRY_INFO!G119)))),0)","v":0.39457374883431773},{"$f":"MAX(COUNTRY_INFO!D119*AK119*PROFILE!$G$7,COUNTRY_INFO!D119*AL119*PROFILE!$G$7)","v":0},{"$f":"MAX(COUNTRY_INFO!D119*AK119*PROFILE!$G$8,COUNTRY_INFO!D119*AL119*PROFILE!$G$8,COUNTRY_INFO!D119*AM119*PROFILE!$G$8)","v":0},{"$f":"MAX(COUNTRY_INFO!D119*AK119*PROFILE!$G$9,COUNTRY_INFO!D119*AL119*PROFILE!$G$9,COUNTRY_INFO!D119*AM119*PROFILE!$G$9,IF(AND(DISTRICT!Z119<>\"Inconnu\",Z119<>\"Non requis\"),COUNTRY_INFO!P119*DISTRICT!AN119,0))","v":12465.000000000002},{"$f":"MAX(COUNTRY_INFO!D119*AK119*PROFILE!$G$10,COUNTRY_INFO!D119*AL119*PROFILE!$G$10,IF(AND(DISTRICT!Z119<>\"Inconnu\",Z119<>\"Non requis\"),COUNTRY_INFO!P119*DISTRICT!AO119,0))","v":8123.8},20588.800000000003,0,{"$f":"MAX('MDA4'!R119,'T1'!L119,'T2'!J119,T3_R1!K119,T3_R2!K119)","v":0},{"$f":"MAX('MDA1'!K119,'MDA4'!S119,'MDA3'!I119,'MDA3'!L119,'T1'!M119,'T2'!K119,T3_R1!L119,T3_R2!L119)","v":0},{"$f":"MAX('MDA1'!L119,'MDA4'!T119,'MDA3'!J119,'MDA3'!M119,'T1'!N119,'T2'!L119,T3_R1!M119,T3_R2!M119)","v":0},0,{"$f":"MAX('MDA4'!R119,T119)","v":0},{"$f":"MAX('MDA1'!K119,'MDA4'!S119,'MDA3'!I119,'MDA3'!L119,V119,AD119)","v":0},{"$f":"MAX('MDA1'!L119,'MDA4'!T119,'MDA3'!J119,'MDA3'!M119,AF119)","v":0},0,0]
[{"$f":"IF(COUNTRY_INFO!A120=0,\" \",COUNTRY_INFO!A120)","v":"Chad"},{"$f":"IF(COUNTRY_INFO!B120=0,\" \",COUNTRY_INFO!B120)","v":"Sila"},{"$f":"IF(COUNTRY_INFO!C120=0,\" \",COUNTRY_INFO!C120)","v":"Tissi"},{"$f":"COUNTRY_INFO!M120","v":0},null,null,{"$f":"MAX('MDA1'!M120,'MDA4'!U120)","v":0},{"$f":"IF(AND(COUNTRY_INFO!H120>0,COUNTRY_INFO!H120<4),IF(D120>MAX('MDA1'!M120,'MDA4'!U120),MAX('MDA1'!M120,'MDA4'!U120),D120),0)","v":0},{"$f":"IF(AND(COUNTRY_INFO!H120>0,COUNTRY_INFO!H120<4), IF(G120/D120*100<>0, IF(G120/D120*100>100,100,G120/D120*100), \"-\"),0)","v":0},{"$f":"COUNTRY_INFO!N120","v":"Inconnu"},null,null,{"$f":"MAX('MDA1'!M120,MAX('MDA3'!I120,'MDA3'!L120)+MAX('MDA3'!J120,'MDA3'!M120))","v":0},{"$f":"IF(AND(COUNTRY_INFO!I120>0,COUNTRY_INFO!I120<4),IF(J120>MAX('MDA1'!M120,MAX('MDA3'!I120,'MDA3'!L120)+MAX('MDA3'!J120,'MDA3'!M120)),MAX('MDA1'!M120,MAX('MDA3'!I120,'MDA3'!L120)+MAX('MDA3'!J120,'MDA3'!M120)),J120),0)","v":0},{"$f":"IF(AND(COUNTRY_INFO!I120>0,COUNTRY_INFO!I120<4), IF(M120/J120*100<>0, IF(M120/J120*100>100,100,M120/J120*100), \"-\"),0)","v":0},{"$f":"COUNTRY_INFO!O120","v":"Inconnu"},null,null,{"$f":"SUM(MAX('MDA4'!R120, 'T1'!L120, MAX(T3_R1!K120, T3_R2!K120)), MAX('MDA1'!K120, 'MDA4'!S120, 'T1'!M120, MAX(T3_R1!L120, T3_R2!L120)), MAX('MDA1'!L120, 'MDA4'!T120, 'T1'!N120, MAX(T3_R1!M120, T3_R2!M120)))","v":0},{"$f":"IF(AND(COUNTRY_INFO!J120>1,COUNTRY_INFO!J120<4),IF(COUNTRY_INFO!E120>MAX('MDA4'!R120,'T1'!L120,MAX(T3_R1!K120,T3_R2!K120)),MAX('MDA4'!R120,'T1'!L120,MAX(T3_R1!K120,T3_R2!K120)),COUNTRY_INFO!E120),0)","v":0},{"$f":"IF(AND(COUNTRY_INFO!J120>1,COUNTRY_INFO!J120<4), IF(T120/COUNTRY_INFO!E120*100<>0, IF(T120/COUNTRY_INFO!E120*100>100,100,T120/COUNTRY_INFO!E120*100), \"-\"),0)","v":0},{"$f":"IF(AND(COUNTRY_INFO!J120>1,COUNTRY_INFO!J120<4),IF(COUNTRY_INFO!F120>MAX('MDA1'!K120,'MDA4'!S120,'T1'!M120,MAX(T3_R1!L120,T3_R2!L120)),MAX('MDA1'!K120,'MDA4'!S120,'T1'!M120,MAX(T3_R1!L120,T3_R2!L120)),COUNTRY_INFO!F120),0)","v":0},{"$f":"IF(AND(COUNTRY_INFO!J120>1,COUNTRY_INFO!J120<4), IF(V120/COUNTRY_INFO!F120*100<>0, IF(V120/COUNTRY_INFO!F120*100>100,100,V120/COUNTRY_INFO!F120*100), \"-\"),0)","v":0},0,{"$f":"IF(AND(COUNTRY_INFO!J120>1,COUNTRY_INFO!J120<4), IF(S120/P120*100<>0, IF(X120/P120*100>100,100,X120/P120*100), \"-\"),0)","v":0},{"$f":"COUNTRY_INFO!P120","v":"Inconnu"},null,null,{"$f":"MAX('T1'!L120,'T2'!J120)+MAX('T1'!M120,'T2'!K120)+MAX('T1'!N120,'T2'!L120)","v":0},{"$f":"IF(COUNTRY_INFO!K120=1,IF(COUNTRY_INFO!F120*0.33>MAX('T1'!M120,'T2'!K120),MAX('T1'!M120,'T2'!K120),COUNTRY_INFO!F120*0.33),IF(COUNTRY_INFO!K120=2,IF(COUNTRY_INFO!F120*0.5>MAX('T1'!M120,'T2'!K120),MAX('T1'!M120,'T2'!K120),COUNTRY_INFO!F120*0.5),IF(COUNTRY_INFO!K120=3,IF(COUNTRY_INFO!F120>MAX('T1'!M120,'T2'!K120),MAX('T1'!M120,'T2'!K120),COUNTRY_INFO!F120),0)))","v":0},{"$f":"IF(AND(COUNTRY_INFO!K120>0,COUNTRY_INFO!K120<4),IF(Z120>0,IF(COUNTRY_INFO!K120=1, AD120/(COUNTRY_INFO!F120*0.33)*100, IF(COUNTRY_INFO!K120=2, AD120/(COUNTRY_INFO!F120*0.5)*100, IF(COUNTRY_INFO!K120=3, AD120/COUNTRY_INFO!F120*100))),\"-\"),0)","v":0},{"$f":"IF(COUNTRY_INFO!K120=2,IF(COUNTRY_INFO!G120*0.2>MAX('T1'!N120,'T2'!L120),MAX('T1'!N120,'T2'!L120),COUNTRY_INFO!G120*0.2),IF(COUNTRY_INFO!K120=3,IF(COUNTRY_INFO!G120>MAX('T1'!N120,'T2'!L120),MAX('T1'!N120,'T2'!L120),COUNTRY_INFO!G120),0))","v":0},{"$f":"IF(AND(COUNTRY_INFO!K120>0,COUNTRY_INFO!K120<4),IF(Z120>0,IF(COUNTRY_INFO!K120=1, 0, IF(COUNTRY_INFO!K120=2, AF120/(COUNTRY_INFO!G120*0.2)*100, IF(COUNTRY_INFO!K120=3, AF120/COUNTRY_INFO!G120*100))),\"-\"),0)","v":0},0,{"$f":"IF(AND(COUNTRY_INFO!K120>0,COUNTRY_INFO!K120<4), IF(AC120/Z120*100<>0, IF(AH120/Z120*100>100,100,AH120/Z120*100), \"-\"),0)","v":0},null,{"$f":"IF(AND(D120<>0, D120<>\"Inconnu\",D120<>\"Interrompu\",D120<>\"Non requis\"),D120/COUNTRY_INFO!D120, 0)","v":0},{"$f":"IF(AND(J120<>0,J120<>\"Inconnu\",J120<>\"Interrompu\",J120<>\"Non requis\"),J120/COUNTRY_INFO!D120, 0)","v":0},{"$f":"IF(AND(P120<>0,P120<>\"Inconnu\",P120<>\"Non requis\"),P120/(COUNTRY_INFO!E120+COUNTRY_INFO!F120), 0)","v":0},{"$f":"IF(AND(Z120<>0,Z120<>\"Inconnu\",Z120<>\"Non requis\"),IF(COUNTRY_INFO!K120=1,1,IF(COUNTRY_INFO!K120=2,0.5*COUNTRY_INFO!F120/(0.5*COUNTRY_INFO!F120+0.2*COUNTRY_INFO!G120),IF(COUNTRY_INFO!K120=3,COUNTRY_INFO!F120/(COUNTRY_INFO!F120+COUNTRY_INFO!G120)))),0)","v":0},{"$f":"IF(AND(Z120<>0,Z120<>\"Inconnu\",Z120<>\"Non requis\"),IF(COUNTRY_INFO!K120=1,0,IF(COUNTRY_INFO!K120=2,0.2*COUNTRY_INFO!G120/(0.5*COUNTRY_INFO!F120+0.2*COUNTRY_INFO!G120),IF(COUNTRY_INFO!K120=3,COUNTRY_INFO!G120/(COUNTRY_INFO!F120+COUNTRY_INFO!G120)))),0)","v":0},{"$f":"MAX(COUNTRY_INFO!D120*AK120*PROFILE!$G$7,COUNTRY_INFO!D120*AL120*PROFILE!$G$7)","v":0},{"$f":"MAX(COUNTRY_INFO!D120*AK120*PROFILE!$G$8,COUNTRY_INFO!D120*AL120*PROFILE!$G$8,COUNTRY_INFO!D120*AM120*PROFILE!$G$8)","v":0},{"$f":"MAX(COUNTRY_INFO!D120*AK120*PROFILE!$G$9,COUNTRY_INFO!D120*AL120*PROFILE!$G$9,COUNTRY_INFO!D120*AM120*PROFILE!$G$9,IF(AND(DISTRICT!Z120<>\"Inconnu\",Z120<>\"Non requis\"),COUNTRY_INFO!P120*DISTRICT!AN120,0))","v":0},{"$f":"MAX(COUNTRY_INFO!D120*AK120*PROFILE!$G$10,COUNTRY_INFO!D120*AL120*PROFILE!$G$10,IF(AND(DISTRICT!Z120<>\"Inconnu\",Z120<>\"Non requis\"),COUNTRY_INFO!P120*DISTRICT!AO120,0))","v":0},0,0,{"$f":"MAX('MDA4'!R120,'T1'!L120,'T2'!J120,T3_R1!K120,T3_R2!K120)","v":0},{"$f":"MAX('MDA1'!K120,'MDA4'!S120,'MDA3'!I120,'MDA3'!L120,'T1'!M120,'T2'!K120,T3_R1!L120,T3_R2!L120)","v":0},{"$f":"MAX('MDA1'!L120,'MDA4'!T120,'MDA3'!J120,'MDA3'!M120,'T1'!N120,'T2'!L120,T3_R1!M120,T3_R2!M120)","v":0},0,{"$f":"MAX('MDA4'!R120,T120)","v":0},{"$f":"MAX('MDA1'!K120,'MDA4'!S120,'MDA3'!I120,'MDA3'!L120,V120,AD120)","v":0},{"$f":"MAX('MDA1'!L120,'MDA4'!T120,'MDA3'!J120,'MDA3'!M120,AF120)","v":0},0,0]
[{"$f":"IF(COUNTRY_INFO!A121=0,\" \",COUNTRY_INFO!A121)","v":"Chad"},{"$f":"IF(COUNTRY_INFO!B121=0,\" \",COUNTRY_INFO!B121)","v":"Tandjile"},{"$f":"IF(COUNTRY_INFO!C121=0,\" \",COUNTRY_INFO!C121)","v":"Batchoro"},{"$f":"COUNTRY_INFO!M121","v":101599},null,null,{"$f":"MAX('MDA1'!M121,'MDA4'!U121)","v":77444},{"$f":"IF(AND(COUNTRY_INFO!H121>0,COUNTRY_INFO!H121<4),IF(D121>MAX('MDA1'!M121,'MDA4'!U121),MAX('MDA1'!M121,'MDA4'!U121),D121),0)","v":77444},{"$f":"IF(AND(COUNTRY_INFO!H121>0,COUNTRY_INFO!H121<4), IF(G121/D121*100<>0, IF(G121/D121*100>100,100,G121/D121*100), \"-\"),0)","v":76.225159696453701},{"$f":"COUNTRY_INFO!N121","v":101599},null,null,{"$f":"MAX('MDA1'!M121,MAX('MDA3'!I121,'MDA3'!L121)+MAX('MDA3'!J121,'MDA3'!M121))","v":77444},{"$f":"IF(AND(COUNTRY_INFO!I121>0,COUNTRY_INFO!I121<4),IF(J121>MAX('MDA1'!M121,MAX('MDA3'!I121,'MDA3'!L121)+MAX('MDA3'!J121,'MDA3'!M121)),MAX('MDA1'!M121,MAX('MDA3'!I121,'MDA3'!L121)+MAX('MDA3'!J121,'MDA3'!M121)),J121),0)","v":77444},{"$f":"IF(AND(COUNTRY_INFO!I121>0,COUNTRY_INFO!I121<4), IF(M121/J121*100<>0, IF(M121/J121*100>100,100,M121/J121*100), \"-\"),0)","v":76.225159696453701},{"$f":"COUNTRY_INFO!O121","v":0},null,null,{"$f":"SUM(MAX('MDA4'!R121, 'T1'!L121, MAX(T3_R1!K121, T3_R2!K121)), MAX('MDA1'!K121, 'MDA4'!S121, 'T1'!M121, MAX(T3_R1!L121, T3_R2!L121)), MAX('MDA1'!L121, 'MDA4'!T121, 'T1'!N121, MAX(T3_R1!M121, T3_R2!M121)))","v":77444},{"$f":"IF(AND(COUNTRY_INFO!J121>1,COUNTRY_INFO!J121<4),IF(COUNTRY_INFO!E121>MAX('MDA4'!R121,'T1'!L121,MAX(T3_R1!K121,T3_R2!K121)),MAX('MDA4'!R121,'T1'!L121,MAX(T3_R1!K121,T3_R2!K121)),COUNTRY_INFO!E121),0)","v":0},{"$f":"IF(AND(COUNTRY_INFO!J121>1,COUNTRY_INFO!J121<4), IF(T121/COUNTRY_INFO!E121*100<>0, IF(T121/COUNTRY_INFO!E121*100>100,100,T121/COUNTRY_INFO!E121*100), \"-\"),0)","v":0},{"$f":"IF(AND(COUNTRY_INFO!J121>1,COUNTRY_INFO!J121<4),IF(COUNTRY_INFO!F121>MAX('MDA1'!K121,'MDA4'!S121,'T1'!M121,MAX(T3_R1!L121,T3_R2!L121)),MAX('MDA1'!K121,'MDA4'!S121,'T1'!M121,MAX(T3_R1!L121,T3_R2!L121)),COUNTRY_INFO!F121),0)","v":0},{"$f":"IF(AND(COUNTRY_INFO!J121>1,COUNTRY_INFO!J121<4), IF(V121/COUNTRY_INFO!F121*100<>0, IF(V121/COUNTRY_INFO!F121*100>100,100,V121/COUNTRY_INFO!F121*100), \"-\"),0)","v":0},0,{"$f":"IF(AND(COUNTRY_INFO!J121>1,COUNTRY_INFO!J121<4), IF(S121/P121*100<>0, IF(X121/P121*100>100,100,X121/P121*100), \"-\"),0)","v":0},{"$f":"COUNTRY_INFO!P121","v":25465.7},null,null,{"$f":"MAX('T1'!L121,'T2'!J121)+MAX('T1'!M121,'T2'!K121)+MAX('T1'!N121,'T2'!L121)","v":28874},{"$f":"IF(COUNTRY_INFO!K121=1,IF(COUNTRY_INFO!F121*0.33>MAX('T1'!M121,'T2'!K121),MAX('T1'!M121,'T2'!K121),COUNTRY_INFO!F121*0.33),IF(COUNTRY_INFO!K121=2,IF(COUNTRY_INFO!F121*0.5>MAX('T1'!M121,'T2'!K121),MAX('T1'!M121,'T2'!K121),COUNTRY_INFO!F121*0.5),IF(COUNTRY_INFO!K121=3,IF(COUNTRY_INFO!F121>MAX('T1'!M121,'T2'!K121),MAX('T1'!M121,'T2'!K121),COUNTRY_INFO!F121),0)))","v":15417.5},{"$f":"IF(AND(COUNTRY_INFO!K121>0,COUNTRY_INFO!K121<4),IF(Z121>0,IF(COUNTRY_INFO!K121=1, AD121/(COUNTRY_INFO!F121*0.33)*100, IF(COUNTRY_INFO!K121=2, AD121/(COUNTRY_INFO!F121*0.5)*100, IF(COUNTRY_INFO!K121=3, AD121/COUNTRY_INFO!F121*100))),\"-\"),0)","v":100},{"$f":"IF(COUNTRY_INFO!K121=2,IF(COUNTRY_INFO!G121*0.2>MAX('T1'!N121,'T2'!L121),MAX('T1'!N121,'T2'!L121),COUNTRY_INFO!G121*0.2),IF(COUNTRY_INFO!K121=3,IF(COUNTRY_INFO!G121>MAX('T1'!N121,'T2'!L121),MAX('T1'!N121,'T2'!L121),COUNTRY_INFO!G121),0))","v":0},{"$f":"IF(AND(COUNTRY_INFO!K121>0,COUNTRY_INFO!K121<4),IF(Z121>0,IF(COUNTRY_INFO!K121=1, 0, IF(COUNTRY_INFO!K121=2, AF121/(COUNTRY_INFO!G121*0.2)*100, IF(COUNTRY_INFO!K121=3, AF121/COUNTRY_INFO!G121*100))),\"-\"),0)","v":0},15417.5,{"$f":"IF(AND(COUNTRY_INFO!K121>0,COUNTRY_INFO!K121<4), IF(AC121/Z121*100<>0, IF(AH121/Z121*100>100,100,AH121/Z121*100), \"-\"),0)","v":60.542219534511119},null,{"$f":"IF(AND(D121<>0, D121<>\"Inconnu\",D121<>\"Interrompu\",D121<>\"Non requis\"),D121/COUNTRY_INFO!D121, 0)","v":1},{"$f":"IF(AND(J121<>0,J121<>\"Inconnu\",J121<>\"Interrompu\",J121<>\"Non requis\"),J121/COUNTRY_INFO!D121, 0)","v":1},{"$f":"IF(AND(P121<>0,P121<>\"Inconnu\",P121<>\"Non requis\"),P121/(COUNTRY_INFO!E121+COUNTRY_INFO!F121), 0)","v":0},{"$f":"IF(AND(Z121<>0,Z121<>\"Inconnu\",Z121<>\"Non requis\"),IF(COUNTRY_INFO!K121=1,1,IF(COUNTRY_INFO!K121=2,0.5*COUNTRY_INFO!F121/(0.5*COUNTRY_INFO!F121+0.2*COUNTRY_INFO!G121),IF(COUNTRY_INFO!K121=3,COUNTRY_INFO!F121/(COUNTRY_INFO!F121+COUNTRY_INFO!G121)))),0)","v":0.60542219534511121},{"$f":"IF(AND(Z121<>0,Z121<>\"Inconnu\",Z121<>\"Non requis\"),IF(COUNTRY_INFO!K121=1,0,IF(COUNTRY_INFO!K121=2,0.2*COUNTRY_INFO!G121/(0.5*COUNTRY_INFO!F121+0.2*COUNTRY_INFO!G121),IF(COUNTRY_INFO!K121=3,COUNTRY_INFO!G121/(COUNTRY_INFO!F121+COUNTRY_INFO!G121)))),0)","v":0.39457780465488873},{"$f":"MAX(COUNTRY_INFO!D121*AK121*PROFILE!$G$7,COUNTRY_INFO!D121*AL121*PROFILE!$G$7)","v":3759.1576662278831},{"$f":"MAX(COUNTRY_INFO!D121*AK121*PROFILE!$G$8,COUNTRY_INFO!D121*AL121*PROFILE!$G$8,COUNTRY_INFO!D121*AM121*PROFILE!$G$8)","v":16763.871266160466},{"$f":"MAX(COUNTRY_INFO!D121*AK121*PROFILE!$G$9,COUNTRY_INFO!D121*AL121*PROFILE!$G$9,COUNTRY_INFO!D121*AM121*PROFILE!$G$9,IF(AND(DISTRICT!Z121<>\"Inconnu\",Z121<>\"Non requis\"),COUNTRY_INFO!P121*DISTRICT!AN121,0))","v":30835.269490871513},{"$f":"MAX(COUNTRY_INFO!D121*AK121*PROFILE!$G$10,COUNTRY_INFO!D121*AL121*PROFILE!$G$10,IF(AND(DISTRICT!Z121<>\"Inconnu\",Z121<>\"Non requis\"),COUNTRY_INFO!P121*DISTRICT!AO121,0))","v":50240.701576740139},101599,"Y",{"$f":"MAX('MDA4'!R121,'T1'!L121,'T2'!J121,T3_R1!K121,T3_R2!K121)","v":0},{"$f":"MAX('MDA1'!K121,'MDA4'!S121,'MDA3'!I121,'MDA3'!L121,'T1'!M121,'T2'!K121,T3_R1!L121,T3_R2!L121)","v":29389},{"$f":"MAX('MDA1'!L121,'MDA4'!T121,'MDA3'!J121,'MDA3'!M121,'T1'!N121,'T2'!L121,T3_R1!M121,T3_R2!M121)","v":48055},77444,{"$f":"MAX('MDA4'!R121,T121)","v":0},{"$f":"MAX('MDA1'!K121,'MDA4'!S121,'MDA3'!I121,'MDA3'!L121,V121,AD121)","v":29389},{"$f":"MAX('MDA1'!L121,'MDA4'!T121,'MDA3'!J121,'MDA3'!M121,AF121)","v":48055},77444,76.225159696453701]
[{"$f":"IF(COUNTRY_INFO!A122=0,\" \",COUNTRY_INFO!A122)","v":"Chad"},{"$f":"IF(COUNTRY_INFO!B122=0,\" \",COUNTRY_INFO!B122)","v":"Tandjile"},{"$f":"IF(COUNTRY_INFO!C122=0,\" \",COUNTRY_INFO!C122)","v":"Bere"},{"$f":"COUNTRY_INFO!M122","v":178762},null,null,{"$f":"MAX('MDA1'!M122,'MDA4'!U122)","v":120361},{"$f":"IF(AND(COUNTRY_INFO!H122>0,COUNTRY_INFO!H122<4),IF(D122>MAX('MDA1'!M122,'MDA4'!U122),MAX('MDA1'!M122,'MDA4'!U122),D122),0)","v":120361},{"$f":"IF(AND(COUNTRY_INFO!H122>0,COUNTRY_INFO!H122<4), IF(G122/D122*100<>0, IF(G122/D122*100>100,100,G122/D122*100), \"-\"),0)","v":67.330305098398995},{"$f":"COUNTRY_INFO!N122","v":178762},null,null,{"$f":"MAX('MDA1'!M122,MAX('MDA3'!I122,'MDA3'!L122)+MAX('MDA3'!J122,'MDA3'!M122))","v":120361},{"$f":"IF(AND(COUNTRY_INFO!I122>0,COUNTRY_INFO!I122<4),IF(J122>MAX('MDA1'!M122,MAX('MDA3'!I122,'MDA3'!L122)+MAX('MDA3'!J122,'MDA3'!M122)),MAX('MDA1'!M122,MAX('MDA3'!I122,'MDA3'!L122)+MAX('MDA3'!J122,'MDA3'!M122)),J122),0)","v":120361},{"$f":"IF(AND(COUNTRY_INFO!I122>0,COUNTRY_INFO!I122<4), IF(M122/J122*100<>0, IF(M122/J122*100>100,100,M122/J122*100), \"-\"),0)","v":67.330305098398995},{"$f":"COUNTRY_INFO!O122","v":0},null,null,{"$f":"SUM(MAX('MDA4'!R122, 'T1'!L122, MAX(T3_R1!K122, T3_R2!K122)), MAX('MDA1'!K122, 'MDA4'!S122, 'T1'!M122, MAX(T3_R1!L122, T3_R2!L122)), MAX('MDA1'!L122, 'MDA4'!T122, 'T1'!N122, MAX(T3_R1!M122, T3_R2!M122)))","v":120361},{"$f":"IF(AND(COUNTRY_INFO!J122>1,COUNTRY_INFO!J122<4),IF(COUNTRY_INFO!E122>MAX('MDA4'!R122,'T1'!L122,MAX(T3_R1!K122,T3_R2!K122)),MAX('MDA4'!R122,'T1'!L122,MAX(T3_R1!K122,T3_R2!K122)),COUNTRY_INFO!E122),0)","v":0},{"$f":"IF(AND(COUNTRY_INFO!J122>1,COUNTRY_INFO!J122<4), IF(T122/COUNTRY_INFO!E122*100<>0, IF(T122/COUNTRY_INFO!E122*100>100,100,T122/COUNTRY_INFO!E122*100), \"-\"),0)","v":0},{"$f":"IF(AND(COUNTRY_INFO!J122>1,COUNTRY_INFO!J122<4),IF(COUNTRY_INFO!F122>MAX('MDA1'!K122,'MDA4'!S122,'T1'!M122,MAX(T3_R1!L122,T3_R2!L122)),MAX('MDA1'!K122,'MDA4'!S122,'T1'!M122,MAX(T3_R1!L122,T3_R2!L122)),COUNTRY_INFO!F122),0)","v":0},{"$f":"IF(AND(COUNTRY_INFO!J122>1,COUNTRY_INFO!J122<4), IF(V122/COUNTRY_INFO!F122*100<>0, IF(V122/COUNTRY_INFO!F122*100>100,100,V122/COUNTRY_INFO!F122*100), \"-\"),0)","v":0},0,{"$f":"IF(AND(COUNTRY_INFO!J122>1,COUNTRY_INFO!J122<4), IF(S122/P122*100<>0, IF(X122/P122*100>100,100,X122/P122*100), \"-\"),0)","v":0},{"$f":"COUNTRY_INFO!P122","v":142652},null,null,{"$f":"MAX('T1'!L122,'T2'!J122)+MAX('T1'!M122,'T2'!K122)+MAX('T1'!N122,'T2'!L122)","v":53211},{"$f":"IF(COUNTRY_INFO!K122=1,IF(COUNTRY_INFO!F122*0.33>MAX('T1'!M122,'T2'!K122),MAX('T1'!M122,'T2'!K122),COUNTRY_INFO!F122*0.33),IF(COUNTRY_INFO!K122=2,IF(COUNTRY_INFO!F122*0.5>MAX('T1'!M122,'T2'!K122),MAX('T1'!M122,'T2'!K122),COUNTRY_INFO!F122*0.5),IF(COUNTRY_INFO!K122=3,IF(COUNTRY_INFO!F122>MAX('T1'!M122,'T2'!K122),MAX('T1'!M122,'T2'!K122),COUNTRY_INFO!F122),0)))","v":53211},{"$f":"IF(AND(COUNTRY_INFO!K122>0,COUNTRY_INFO!K122<4),IF(Z122>0,IF(COUNTRY_INFO!K122=1, AD122/(COUNTRY_INFO!F122*0.33)*100, IF(COUNTRY_INFO!K122=2, AD122/(COUNTRY_INFO!F122*0.5)*100, IF(COUNTRY_INFO!K122=3, AD122/COUNTRY_INFO!F122*100))),\"-\"),0)","v":98.0775611014856},{"$f":"IF(COUNTRY_INFO!K122=2,IF(COUNTRY_INFO!G122*0.2>MAX('T1'!N122,'T2'!L122),MAX('T1'!N122,'T2'!L122),COUNTRY_INFO!G122*0.2),IF(COUNTRY_INFO!K122=3,IF(COUNTRY_INFO!G122>MAX('T1'!N122,'T2'!L122),MAX('T1'!N122,'T2'!L122),COUNTRY_INFO!G122),0))","v":0},{"$f":"IF(AND(COUNTRY_INFO!K122>0,COUNTRY_INFO!K122<4),IF(Z122>0,IF(COUNTRY_INFO!K122=1, 0, IF(COUNTRY_INFO!K122=2, AF122/(COUNTRY_INFO!G122*0.2)*100, IF(COUNTRY_INFO!K122=3, AF122/COUNTRY_INFO!G122*100))),\"-\"),0)","v":0},53211,{"$f":"IF(AND(COUNTRY_INFO!K122>0,COUNTRY_INFO!K122<4), IF(AC122/Z122*100<>0, IF(AH122/Z122*100>100,100,AH122/Z122*100), \"-\"),0)","v":37.301264615988558},null,{"$f":"IF(AND(D122<>0, D122<>\"Inconnu\",D122<>\"Interrompu\",D122<>\"Non requis\"),D122/COUNTRY_INFO!D122, 0)","v":1},{"$f":"IF(AND(J122<>0,J122<>\"Inconnu\",J122<>\"Interrompu\",J122<>\"Non requis\"),J122/COUNTRY_INFO!D122, 0)","v":1},{"$f":"IF(AND(P122<>0,P122<>\"Inconnu\",P122<>\"Non requis\"),P122/(COUNTRY_INFO!E122+COUNTRY_INFO!F122), 0)","v":0},{"$f":"IF(AND(Z122<>0,Z122<>\"Inconnu\",Z122<>\"Non requis\"),IF(COUNTRY_INFO!K122=1,1,IF(COUNTRY_INFO!K122=2,0.5*COUNTRY_INFO!F122/(0.5*COUNTRY_INFO!F122+0.2*COUNTRY_INFO!G122),IF(COUNTRY_INFO!K122=3,COUNTRY_INFO!F122/(COUNTRY_INFO!F122+COUNTRY_INFO!G122)))),0)","v":0.38032414547289906},{"$f":"IF(AND(Z122<>0,Z122<>\"Inconnu\",Z122<>\"Non requis\"),IF(COUNTRY_INFO!K122=1,0,IF(COUNTRY_INFO!K122=2,0.2*COUNTRY_INFO!G122/(0.5*COUNTRY_INFO!F122+0.2*COUNTRY_INFO!G122),IF(COUNTRY_INFO!K122=3,COUNTRY_INFO!G122/(COUNTRY_INFO!F122+COUNTRY_INFO!G122)))),0)","v":0.61967585452710094},{"$f":"MAX(COUNTRY_INFO!D122*AK122*PROFILE!$G$7,COUNTRY_INFO!D122*AL122*PROFILE!$G$7)","v":6614.184615303584},{"$f":"MAX(COUNTRY_INFO!D122*AK122*PROFILE!$G$8,COUNTRY_INFO!D122*AL122*PROFILE!$G$8,COUNTRY_INFO!D122*AM122*PROFILE!$G$8)","v":29495.793809795145},{"$f":"MAX(COUNTRY_INFO!D122*AK122*PROFILE!$G$9,COUNTRY_INFO!D122*AL122*PROFILE!$G$9,COUNTRY_INFO!D122*AM122*PROFILE!$G$9,IF(AND(DISTRICT!Z122<>\"Inconnu\",Z122<>\"Non requis\"),COUNTRY_INFO!P122*DISTRICT!AN122,0))","v":54254.219477821374},{"$f":"MAX(COUNTRY_INFO!D122*AK122*PROFILE!$G$10,COUNTRY_INFO!D122*AL122*PROFILE!$G$10,IF(AND(DISTRICT!Z122<>\"Inconnu\",Z122<>\"Non requis\"),COUNTRY_INFO!P122*DISTRICT!AO122,0))","v":88398},178762.1979029201,"Y",{"$f":"MAX('MDA4'!R122,'T1'!L122,'T2'!J122,T3_R1!K122,T3_R2!K122)","v":0},{"$f":"MAX('MDA1'!K122,'MDA4'!S122,'MDA3'!I122,'MDA3'!L122,'T1'!M122,'T2'!K122,T3_R1!L122,T3_R2!L122)","v":53211},{"$f":"MAX('MDA1'!L122,'MDA4'!T122,'MDA3'!J122,'MDA3'!M122,'T1'!N122,'T2'!L122,T3_R1!M122,T3_R2!M122)","v":74225},127436,{"$f":"MAX('MDA4'!R122,T122)","v":0},{"$f":"MAX('MDA1'!K122,'MDA4'!S122,'MDA3'!I122,'MDA3'!L122,V122,AD122)","v":53211},{"$f":"MAX('MDA1'!L122,'MDA4'!T122,'MDA3'!J122,'MDA3'!M122,AF122)","v":74225},127436,71.288002438416157]
[{"$f":"IF(COUNTRY_INFO!A123=0,\" \",COUNTRY_INFO!A123)","v":"Chad"},{"$f":"IF(COUNTRY_INFO!B123=0,\" \",COUNTRY_INFO!B123)","v":"Tandjile"},{"$f":"IF(COUNTRY_INFO!C123=0,\" \",COUNTRY_INFO!C123)","v":"Bologo"},{"$f":"COUNTRY_INFO!M123","v":56686},null,null,{"$f":"MAX('MDA1'!M123,'MDA4'!U123)","v":43470},{"$f":"IF(AND(COUNTRY_INFO!H123>0,COUNTRY_INFO!H123<4),IF(D123>MAX('MDA1'!M123,'MDA4'!U123),MAX('MDA1'!M123,'MDA4'!U123),D123),0)","v":43470},{"$f":"IF(AND(COUNTRY_INFO!H123>0,COUNTRY_INFO!H123<4), IF(G123/D123*100<>0, IF(G123/D123*100>100,100,G123/D123*100), \"-\"),0)","v":76.685601383057545},{"$f":"COUNTRY_INFO!N123","v":56686},null,null,{"$f":"MAX('MDA1'!M123,MAX('MDA3'!I123,'MDA3'!L123)+MAX('MDA3'!J123,'MDA3'!M123))","v":43470},{"$f":"IF(AND(COUNTRY_INFO!I123>0,COUNTRY_INFO!I123<4),IF(J123>MAX('MDA1'!M123,MAX('MDA3'!I123,'MDA3'!L123)+MAX('MDA3'!J123,'MDA3'!M123)),MAX('MDA1'!M123,MAX('MDA3'!I123,'MDA3'!L123)+MAX('MDA3'!J123,'MDA3'!M123)),J123),0)","v":43470},{"$f":"IF(AND(COUNTRY_INFO!I123>0,COUNTRY_INFO!I123<4), IF(M123/J123*100<>0, IF(M123/J123*100>100,100,M123/J123*100), \"-\"),0)","v":76.685601383057545},{"$f":"COUNTRY_INFO!O123","v":0},null,null,{"$f":"SUM(MAX('MDA4'!R123, 'T1'!L123, MAX(T3_R1!K123, T3_R2!K123)), MAX('MDA1'!K123, 'MDA4'!S123, 'T1'!M123, MAX(T3_R1!L123, T3_R2!L123)), MAX('MDA1'!L123, 'MDA4'!T123, 'T1'!N123, MAX(T3_R1!M123, T3_R2!M123)))","v":43470},{"$f":"IF(AND(COUNTRY_INFO!J123>1,COUNTRY_INFO!J123<4),IF(COUNTRY_INFO!E123>MAX('MDA4'!R123,'T1'!L123,MAX(T3_R1!K123,T3_R2!K123)),MAX('MDA4'!R123,'T1'!L123,MAX(T3_R1!K123,T3_R2!K123)),COUNTRY_INFO!E123),0)","v":0},{"$f":"IF(AND(COUNTRY_INFO!J123>1,COUNTRY_INFO!J123<4), IF(T123/COUNTRY_INFO!E123*100<>0, IF(T123/COUNTRY_INFO!E123*100>100,100,T123/COUNTRY_INFO!E123*100), \"-\"),0)","v":0},{"$f":"IF(AND(COUNTRY_INFO!J123>1,COUNTRY_INFO!J123<4),IF(COUNTRY_INFO!F123>MAX('MDA1'!K123,'MDA4'!S123,'T1'!M123,MAX(T3_R1!L123,T3_R2!L123)),MAX('MDA1'!K123,'MDA4'!S123,'T1'!M123,MAX(T3_R1!L123,T3_R2!L123)),COUNTRY_INFO!F123),0)","v":0},{"$f":"IF(AND(COUNTRY_INFO!J123>1,COUNTRY_INFO!J123<4), IF(V123/COUNTRY_INFO!F123*100<>0, IF(V123/COUNTRY_INFO!F123*100>100,100,V123/COUNTRY_INFO!F123*100), \"-\"),0)","v":0},0,{"$f":"IF(AND(COUNTRY_INFO!J123>1,COUNTRY_INFO!J123<4), IF(S123/P123*100<>0, IF(X123/P123*100>100,100,X123/P123*100), \"-\"),0)","v":0},{"$f":"COUNTRY_INFO!P123","v":14208.2},null,null,{"$f":"MAX('T1'!L123,'T2'!J123)+MAX('T1'!M123,'T2'!K123)+MAX('T1'!N123,'T2'!L123)","v":16812},{"$f":"IF(COUNTRY_INFO!K123=1,IF(COUNTRY_INFO!F123*0.33>MAX('T1'!M123,'T2'!K123),MAX('T1'!M123,'T2'!K123),COUNTRY_INFO!F123*0.33),IF(COUNTRY_INFO!K123=2,IF(COUNTRY_INFO!F123*0.5>MAX('T1'!M123,'T2'!K123),MAX('T1'!M123,'T2'!K123),COUNTRY_INFO!F123*0.5),IF(COUNTRY_INFO!K123=3,IF(COUNTRY_INFO!F123>MAX('T1'!M123,'T2'!K123),MAX('T1'!M123,'T2'!K123),COUNTRY_INFO!F123),0)))","v":8602},{"$f":"IF(AND(COUNTRY_INFO!K123>0,COUNTRY_INFO!K123<4),IF(Z123>0,IF(COUNTRY_INFO!K123=1, AD123/(COUNTRY_INFO!F123*0.33)*100, IF(COUNTRY_INFO!K123=2, AD123/(COUNTRY_INFO!F123*0.5)*100, IF(COUNTRY_INFO!K123=3, AD123/COUNTRY_INFO!F123*100))),\"-\"),0)","v":100},{"$f":"IF(COUNTRY_INFO!K123=2,IF(COUNTRY_INFO!G123*0.2>MAX('T1'!N123,'T2'!L123),MAX('T1'!N123,'T2'!L123),COUNTRY_INFO!G123*0.2),IF(COUNTRY_INFO!K123=3,IF(COUNTRY_INFO!G123>MAX('T1'!N123,'T2'!L123),MAX('T1'!N123,'T2'!L123),COUNTRY_INFO!G123),0))","v":0},{"$f":"IF(AND(COUNTRY_INFO!K123>0,COUNTRY_INFO!K123<4),IF(Z123>0,IF(COUNTRY_INFO!K123=1, 0, IF(COUNTRY_INFO!K123=2, AF123/(COUNTRY_INFO!G123*0.2)*100, IF(COUNTRY_INFO!K123=3, AF123/COUNTRY_INFO!G123*100))),\"-\"),0)","v":0},8602,{"$f":"IF(AND(COUNTRY_INFO!K123>0,COUNTRY_INFO!K123<4), IF(AC123/Z123*100<>0, IF(AH123/Z123*100>100,100,AH123/Z123*100), \"-\"),0)","v":60.542503624667447},null,{"$f":"IF(AND(D123<>0, D123<>\"Inconnu\",D123<>\"Interrompu\",D123<>\"Non requis\"),D123/COUNTRY_INFO!D123, 0)","v":1},{"$f":"IF(AND(J123<>0,J123<>\"Inconnu\",J123<>\"Interrompu\",J123<>\"Non requis\"),J123/COUNTRY_INFO!D123, 0)","v":1},{"$f":"IF(AND(P123<>0,P123<>\"Inconnu\",P123<>\"Non requis\"),P123/(COUNTRY_INFO!E123+COUNTRY_INFO!F123), 0)","v":0},{"$f":"IF(AND(Z123<>0,Z123<>\"Inconnu\",Z123<>\"Non requis\"),IF(COUNTRY_INFO!K123=1,1,IF(COUNTRY_INFO!K123=2,0.5*COUNTRY_INFO!F123/(0.5*COUNTRY_INFO!F123+0.2*COUNTRY_INFO!G123),IF(COUNTRY_INFO!K123=3,COUNTRY_INFO!F123/(COUNTRY_INFO!F123+COUNTRY_INFO!G123)))),0)","v":0.60542503624667443},{"$f":"IF(AND(Z123<>0,Z123<>\"Inconnu\",Z123<>\"Non requis\"),IF(COUNTRY_INFO!K123=1,0,IF(COUNTRY_INFO!K123=2,0.2*COUNTRY_INFO!G123/(0.5*COUNTRY_INFO!F123+0.2*COUNTRY_INFO!G123),IF(COUNTRY_INFO!K123=3,COUNTRY_INFO!G123/(COUNTRY_INFO!F123+COUNTRY_INFO!G123)))),0)","v":0.39457496375332557},{"$f":"MAX(COUNTRY_INFO!D123*AK123*PROFILE!$G$7,COUNTRY_INFO!D123*AL123*PROFILE!$G$7)","v":2097.379024082853},{"$f":"MAX(COUNTRY_INFO!D123*AK123*PROFILE!$G$8,COUNTRY_INFO!D123*AL123*PROFILE!$G$8,COUNTRY_INFO!D123*AM123*PROFILE!$G$8)","v":9353.2102342894323},{"$f":"MAX(COUNTRY_INFO!D123*AK123*PROFILE!$G$9,COUNTRY_INFO!D123*AL123*PROFILE!$G$9,COUNTRY_INFO!D123*AM123*PROFILE!$G$9,IF(AND(DISTRICT!Z123<>\"Inconnu\",Z123<>\"Non requis\"),COUNTRY_INFO!P123*DISTRICT!AN123,0))","v":17204.18593056568},{"$f":"MAX(COUNTRY_INFO!D123*AK123*PROFILE!$G$10,COUNTRY_INFO!D123*AL123*PROFILE!$G$10,IF(AND(DISTRICT!Z123<>\"Inconnu\",Z123<>\"Non requis\"),COUNTRY_INFO!P123*DISTRICT!AO123,0))","v":28031.224811062035},56686,"Y",{"$f":"MAX('MDA4'!R123,'T1'!L123,'T2'!J123,T3_R1!K123,T3_R2!K123)","v":0},{"$f":"MAX('MDA1'!K123,'MDA4'!S123,'MDA3'!I123,'MDA3'!L123,'T1'!M123,'T2'!K123,T3_R1!L123,T3_R2!L123)","v":16812},{"$f":"MAX('MDA1'!L123,'MDA4'!T123,'MDA3'!J123,'MDA3'!M123,'T1'!N123,'T2'!L123,T3_R1!M123,T3_R2!M123)","v":27019},43831,{"$f":"MAX('MDA4'!R123,T123)","v":0},{"$f":"MAX('MDA1'!K123,'MDA4'!S123,'MDA3'!I123,'MDA3'!L123,V123,AD123)","v":16451},{"$f":"MAX('MDA1'!L123,'MDA4'!T123,'MDA3'!J123,'MDA3'!M123,AF123)","v":27019},43470,76.685601383057545]
[{"$f":"IF(COUNTRY_INFO!A124=0,\" \",COUNTRY_INFO!A124)","v":"Chad"},{"$f":"IF(COUNTRY_INFO!B124=0,\" \",COUNTRY_INFO!B124)","v":"Tandjile"},{"$f":"IF(COUNTRY_INFO!C124=0,\" \",COUNTRY_INFO!C124)","v":"Dafra"},{"$f":"COUNTRY_INFO!M124","v":95302},null,null,{"$f":"MAX('MDA1'!M124,'MDA4'!U124)","v":72670},{"$f":"IF(AND(COUNTRY_INFO!H124>0,COUNTRY_INFO!H124<4),IF(D124>MAX('MDA1'!M124,'MDA4'!U124),MAX('MDA1'!M124,'MDA4'!U124),D124),0)","v":72670},{"$f":"IF(AND(COUNTRY_INFO!H124>0,COUNTRY_INFO!H124<4), IF(G124/D124*100<>0, IF(G124/D124*100>100,100,G124/D124*100), \"-\"),0)","v":76.252334683427421},{"$f":"COUNTRY_INFO!N124","v":95302},null,null,{"$f":"MAX('MDA1'!M124,MAX('MDA3'!I124,'MDA3'!L124)+MAX('MDA3'!J124,'MDA3'!M124))","v":72670},{"$f":"IF(AND(COUNTRY_INFO!I124>0,COUNTRY_INFO!I124<4),IF(J124>MAX('MDA1'!M124,MAX('MDA3'!I124,'MDA3'!L124)+MAX('MDA3'!J124,'MDA3'!M124)),MAX('MDA1'!M124,MAX('MDA3'!I124,'MDA3'!L124)+MAX('MDA3'!J124,'MDA3'!M124)),J124),0)","v":72670},{"$f":"IF(AND(COUNTRY_INFO!I124>0,COUNTRY_INFO!I124<4), IF(M124/J124*100<>0, IF(M124/J124*100>100,100,M124/J124*100), \"-\"),0)","v":76.252334683427421},{"$f":"COUNTRY_INFO!O124","v":0},null,null,{"$f":"SUM(MAX('MDA4'!R124, 'T1'!L124, MAX(T3_R1!K124, T3_R2!K124)), MAX('MDA1'!K124, 'MDA4'!S124, 'T1'!M124, MAX(T3_R1!L124, T3_R2!L124)), MAX('MDA1'!L124, 'MDA4'!T124, 'T1'!N124, MAX(T3_R1!M124, T3_R2!M124)))","v":72670},{"$f":"IF(AND(COUNTRY_INFO!J124>1,COUNTRY_INFO!J124<4),IF(COUNTRY_INFO!E124>MAX('MDA4'!R124,'T1'!L124,MAX(T3_R1!K124,T3_R2!K124)),MAX('MDA4'!R124,'T1'!L124,MAX(T3_R1!K124,T3_R2!K124)),COUNTRY_INFO!E124),0)","v":0},{"$f":"IF(AND(COUNTRY_INFO!J124>1,COUNTRY_INFO!J124<4), IF(T124/COUNTRY_INFO!E124*100<>0, IF(T124/COUNTRY_INFO!E124*100>100,100,T124/COUNTRY_INFO!E124*100), \"-\"),0)","v":0},{"$f":"IF(AND(COUNTRY_INFO!J124>1,COUNTRY_INFO!J124<4),IF(COUNTRY_INFO!F124>MAX('MDA1'!K124,'MDA4'!S124,'T1'!M124,MAX(T3_R1!L124,T3_R2!L124)),MAX('MDA1'!K124,'MDA4'!S124,'T1'!M124,MAX(T3_R1!L124,T3_R2!L124)),COUNTRY_INFO!F124),0)","v":0},{"$f":"IF(AND(COUNTRY_INFO!J124>1,COUNTRY_INFO!J124<4), IF(V124/COUNTRY_INFO!F124*100<>0, IF(V124/COUNTRY_INFO!F124*100>100,100,V124/COUNTRY_INFO!F124*100), \"-\"),0)","v":0},0,{"$f":"IF(AND(COUNTRY_INFO!J124>1,COUNTRY_INFO!J124<4), IF(S124/P124*100<>0, IF(X124/P124*100>100,100,X124/P124*100), \"-\"),0)","v":0},{"$f":"COUNTRY_INFO!P124","v":23887.4},null,null,{"$f":"MAX('T1'!L124,'T2'!J124)+MAX('T1'!M124,'T2'!K124)+MAX('T1'!N124,'T2'!L124)","v":27449},{"$f":"IF(COUNTRY_INFO!K124=1,IF(COUNTRY_INFO!F124*0.33>MAX('T1'!M124,'T2'!K124),MAX('T1'!M124,'T2'!K124),COUNTRY_INFO!F124*0.33),IF(COUNTRY_INFO!K124=2,IF(COUNTRY_INFO!F124*0.5>MAX('T1'!M124,'T2'!K124),MAX('T1'!M124,'T2'!K124),COUNTRY_INFO!F124*0.5),IF(COUNTRY_INFO!K124=3,IF(COUNTRY_INFO!F124>MAX('T1'!M124,'T2'!K124),MAX('T1'!M124,'T2'!K124),COUNTRY_INFO!F124),0)))","v":14462},{"$f":"IF(AND(COUNTRY_INFO!K124>0,COUNTRY_INFO!K124<4),IF(Z124>0,IF(COUNTRY_INFO!K124=1, AD124/(COUNTRY_INFO!F124*0.33)*100, IF(COUNTRY_INFO!K124=2, AD124/(COUNTRY_INFO!F124*0.5)*100, IF(COUNTRY_INFO!K124=3, AD124/COUNTRY_INFO!F124*100))),\"-\"),0)","v":100},{"$f":"IF(COUNTRY_INFO!K124=2,IF(COUNTRY_INFO!G124*0.2>MAX('T1'!N124,'T2'!L124),MAX('T1'!N124,'T2'!L124),COUNTRY_INFO!G124*0.2),IF(COUNTRY_INFO!K124=3,IF(COUNTRY_INFO!G124>MAX('T1'!N124,'T2'!L124),MAX('T1'!N124,'T2'!L124),COUNTRY_INFO!G124),0))","v":0},{"$f":"IF(AND(COUNTRY_INFO!K124>0,COUNTRY_INFO!K124<4),IF(Z124>0,IF(COUNTRY_INFO!K124=1, 0, IF(COUNTRY_INFO!K124=2, AF124/(COUNTRY_INFO!G124*0.2)*100, IF(COUNTRY_INFO!K124=3, AF124/COUNTRY_INFO!G124*100))),\"-\"),0)","v":0},14462,{"$f":"IF(AND(COUNTRY_INFO!K124>0,COUNTRY_INFO!K124<4), IF(AC124/Z124*100<>0, IF(AH124/Z124*100>100,100,AH124/Z124*100), \"-\"),0)","v":60.542377990070072},null,{"$f":"IF(AND(D124<>0, D124<>\"Inconnu\",D124<>\"Interrompu\",D124<>\"Non requis\"),D124/COUNTRY_INFO!D124, 0)","v":1},{"$f":"IF(AND(J124<>0,J124<>\"Inconnu\",J124<>\"Interrompu\",J124<>\"Non requis\"),J124/COUNTRY_INFO!D124, 0)","v":1},{"$f":"IF(AND(P124<>0,P124<>\"Inconnu\",P124<>\"Non requis\"),P124/(COUNTRY_INFO!E124+COUNTRY_INFO!F124), 0)","v":0},{"$f":"IF(AND(Z124<>0,Z124<>\"Inconnu\",Z124<>\"Non requis\"),IF(COUNTRY_INFO!K124=1,1,IF(COUNTRY_INFO!K124=2,0.5*COUNTRY_INFO!F124/(0.5*COUNTRY_INFO!F124+0.2*COUNTRY_INFO!G124),IF(COUNTRY_INFO!K124=3,COUNTRY_INFO!F124/(COUNTRY_INFO!F124+COUNTRY_INFO!G124)))),0)","v":0.60542377990070073},{"$f":"IF(AND(Z124<>0,Z124<>\"Inconnu\",Z124<>\"Non requis\"),IF(COUNTRY_INFO!K124=1,0,IF(COUNTRY_INFO!K124=2,0.2*COUNTRY_INFO!G124/(0.5*COUNTRY_INFO!F124+0.2*COUNTRY_INFO!G124),IF(COUNTRY_INFO!K124=3,COUNTRY_INFO!G124/(COUNTRY_INFO!F124+COUNTRY_INFO!G124)))),0)","v":0.39457622009929916},{"$f":"MAX(COUNTRY_INFO!D124*AK124*PROFILE!$G$7,COUNTRY_INFO!D124*AL124*PROFILE!$G$7)","v":3526.1689968095129},{"$f":"MAX(COUNTRY_INFO!D124*AK124*PROFILE!$G$8,COUNTRY_INFO!D124*AL124*PROFILE!$G$8,COUNTRY_INFO!D124*AM124*PROFILE!$G$8)","v":15724.864018421684},{"$f":"MAX(COUNTRY_INFO!D124*AK124*PROFILE!$G$9,COUNTRY_INFO!D124*AL124*PROFILE!$G$9,COUNTRY_INFO!D124*AM124*PROFILE!$G$9,IF(AND(DISTRICT!Z124<>\"Inconnu\",Z124<>\"Non requis\"),COUNTRY_INFO!P124*DISTRICT!AN124,0))","v":28924.131664869114},{"$f":"MAX(COUNTRY_INFO!D124*AK124*PROFILE!$G$10,COUNTRY_INFO!D124*AL124*PROFILE!$G$10,IF(AND(DISTRICT!Z124<>\"Inconnu\",Z124<>\"Non requis\"),COUNTRY_INFO!P124*DISTRICT!AO124,0))","v":47126.835319899692},95302,"Y",{"$f":"MAX('MDA4'!R124,'T1'!L124,'T2'!J124,T3_R1!K124,T3_R2!K124)","v":0},{"$f":"MAX('MDA1'!K124,'MDA4'!S124,'MDA3'!I124,'MDA3'!L124,'T1'!M124,'T2'!K124,T3_R1!L124,T3_R2!L124)","v":28360},{"$f":"MAX('MDA1'!L124,'MDA4'!T124,'MDA3'!J124,'MDA3'!M124,'T1'!N124,'T2'!L124,T3_R1!M124,T3_R2!M124)","v":44310},72670,{"$f":"MAX('MDA4'!R124,T124)","v":0},{"$f":"MAX('MDA1'!K124,'MDA4'!S124,'MDA3'!I124,'MDA3'!L124,V124,AD124)","v":28360},{"$f":"MAX('MDA1'!L124,'MDA4'!T124,'MDA3'!J124,'MDA3'!M124,AF124)","v":44310},72670,76.252334683427421]
[{"$f":"IF(COUNTRY_INFO!A125=0,\" \",COUNTRY_INFO!A125)","v":"Chad"},{"$f":"IF(COUNTRY_INFO!B125=0,\" \",COUNTRY_INFO!B125)","v":"Tandjile"},{"$f":"IF(COUNTRY_INFO!C125=0,\" \",COUNTRY_INFO!C125)","v":"Deressia"},{"$f":"COUNTRY_INFO!M125","v":87896},null,null,{"$f":"MAX('MDA1'!M125,'MDA4'!U125)","v":69529},{"$f":"IF(AND(COUNTRY_INFO!H125>0,COUNTRY_INFO!H125<4),IF(D125>MAX('MDA1'!M125,'MDA4'!U125),MAX('MDA1'!M125,'MDA4'!U125),D125),0)","v":69529},{"$f":"IF(AND(COUNTRY_INFO!H125>0,COUNTRY_INFO!H125<4), IF(G125/D125*100<>0, IF(G125/D125*100>100,100,G125/D125*100), \"-\"),0)","v":79.103713479566764},{"$f":"COUNTRY_INFO!N125","v":0},null,null,{"$f":"MAX('MDA1'!M125,MAX('MDA3'!I125,'MDA3'!L125)+MAX('MDA3'!J125,'MDA3'!M125))","v":69529},{"$f":"IF(AND(COUNTRY_INFO!I125>0,COUNTRY_INFO!I125<4),IF(J125>MAX('MDA1'!M125,MAX('MDA3'!I125,'MDA3'!L125)+MAX('MDA3'!J125,'MDA3'!M125)),MAX('MDA1'!M125,MAX('MDA3'!I125,'MDA3'!L125)+MAX('MDA3'!J125,'MDA3'!M125)),J125),0)","v":0},{"$f":"IF(AND(COUNTRY_INFO!I125>0,COUNTRY_INFO!I125<4), IF(M125/J125*100<>0, IF(M125/J125*100>100,100,M125/J125*100), \"-\"),0)","v":0},{"$f":"COUNTRY_INFO!O125","v":0},null,null,{"$f":"SUM(MAX('MDA4'!R125, 'T1'!L125, MAX(T3_R1!K125, T3_R2!K125)), MAX('MDA1'!K125, 'MDA4'!S125, 'T1'!M125, MAX(T3_R1!L125, T3_R2!L125)), MAX('MDA1'!L125, 'MDA4'!T125, 'T1'!N125, MAX(T3_R1!M125, T3_R2!M125)))","v":69529},{"$f":"IF(AND(COUNTRY_INFO!J125>1,COUNTRY_INFO!J125<4),IF(COUNTRY_INFO!E125>MAX('MDA4'!R125,'T1'!L125,MAX(T3_R1!K125,T3_R2!K125)),MAX('MDA4'!R125,'T1'!L125,MAX(T3_R1!K125,T3_R2!K125)),COUNTRY_INFO!E125),0)","v":0},{"$f":"IF(AND(COUNTRY_INFO!J125>1,COUNTRY_INFO!J125<4), IF(T125/COUNTRY_INFO!E125*100<>0, IF(T125/COUNTRY_INFO!E125*100>100,100,T125/COUNTRY_INFO!E125*100), \"-\"),0)","v":0},{"$f":"IF(AND(COUNTRY_INFO!J125>1,COUNTRY_INFO!J125<4),IF(COUNTRY_INFO!F125>MAX('MDA1'!K125,'MDA4'!S125,'T1'!M125,MAX(T3_R1!L125,T3_R2!L125)),MAX('MDA1'!K125,'MDA4'!S125,'T1'!M125,MAX(T3_R1!L125,T3_R2!L125)),COUNTRY_INFO!F125),0)","v":0},{"$f":"IF(AND(COUNTRY_INFO!J125>1,COUNTRY_INFO!J125<4), IF(V125/COUNTRY_INFO!F125*100<>0, IF(V125/COUNTRY_INFO!F125*100>100,100,V125/COUNTRY_INFO!F125*100), \"-\"),0)","v":0},0,{"$f":"IF(AND(COUNTRY_INFO!J125>1,COUNTRY_INFO!J125<4), IF(S125/P125*100<>0, IF(X125/P125*100>100,100,X125/P125*100), \"-\"),0)","v":0},{"$f":"COUNTRY_INFO!P125","v":70141},null,null,{"$f":"MAX('T1'!L125,'T2'!J125)+MAX('T1'!M125,'T2'!K125)+MAX('T1'!N125,'T2'!L125)","v":26894},{"$f":"IF(COUNTRY_INFO!K125=1,IF(COUNTRY_INFO!F125*0.33>MAX('T1'!M125,'T2'!K125),MAX('T1'!M125,'T2'!K125),COUNTRY_INFO!F125*0.33),IF(COUNTRY_INFO!K125=2,IF(COUNTRY_INFO!F125*0.5>MAX('T1'!M125,'T2'!K125),MAX('T1'!M125,'T2'!K125),COUNTRY_INFO!F125*0.5),IF(COUNTRY_INFO!K125=3,IF(COUNTRY_INFO!F125>MAX('T1'!M125,'T2'!K125),MAX('T1'!M125,'T2'!K125),COUNTRY_INFO!F125),0)))","v":26676},{"$f":"IF(AND(COUNTRY_INFO!K125>0,COUNTRY_INFO!K125<4),IF(Z125>0,IF(COUNTRY_INFO!K125=1, AD125/(COUNTRY_INFO!F125*0.33)*100, IF(COUNTRY_INFO!K125=2, AD125/(COUNTRY_INFO!F125*0.5)*100, IF(COUNTRY_INFO!K125=3, AD125/COUNTRY_INFO!F125*100))),\"-\"),0)","v":100},{"$f":"IF(COUNTRY_INFO!K125=2,IF(COUNTRY_INFO!G125*0.2>MAX('T1'!N125,'T2'!L125),MAX('T1'!N125,'T2'!L125),COUNTRY_INFO!G125*0.2),IF(COUNTRY_INFO!K125=3,IF(COUNTRY_INFO!G125>MAX('T1'!N125,'T2'!L125),MAX('T1'!N125,'T2'!L125),COUNTRY_INFO!G125),0))","v":0},{"$f":"IF(AND(COUNTRY_INFO!K125>0,COUNTRY_INFO!K125<4),IF(Z125>0,IF(COUNTRY_INFO!K125=1, 0, IF(COUNTRY_INFO!K125=2, AF125/(COUNTRY_INFO!G125*0.2)*100, IF(COUNTRY_INFO!K125=3, AF125/COUNTRY_INFO!G125*100))),\"-\"),0)","v":0},26676,{"$f":"IF(AND(COUNTRY_INFO!K125>0,COUNTRY_INFO!K125<4), IF(AC125/Z125*100<>0, IF(AH125/Z125*100>100,100,AH125/Z125*100), \"-\"),0)","v":38.031964186424489},null,{"$f":"IF(AND(D125<>0, D125<>\"Inconnu\",D125<>\"Interrompu\",D125<>\"Non requis\"),D125/COUNTRY_INFO!D125, 0)","v":1},{"$f":"IF(AND(J125<>0,J125<>\"Inconnu\",J125<>\"Interrompu\",J125<>\"Non requis\"),J125/COUNTRY_INFO!D125, 0)","v":0},{"$f":"IF(AND(P125<>0,P125<>\"Inconnu\",P125<>\"Non requis\"),P125/(COUNTRY_INFO!E125+COUNTRY_INFO!F125), 0)","v":0},{"$f":"IF(AND(Z125<>0,Z125<>\"Inconnu\",Z125<>\"Non requis\"),IF(COUNTRY_INFO!K125=1,1,IF(COUNTRY_INFO!K125=2,0.5*COUNTRY_INFO!F125/(0.5*COUNTRY_INFO!F125+0.2*COUNTRY_INFO!G125),IF(COUNTRY_INFO!K125=3,COUNTRY_INFO!F125/(COUNTRY_INFO!F125+COUNTRY_INFO!G125)))),0)","v":0.38031964186424488},{"$f":"IF(AND(Z125<>0,Z125<>\"Inconnu\",Z125<>\"Non requis\"),IF(COUNTRY_INFO!K125=1,0,IF(COUNTRY_INFO!K125=2,0.2*COUNTRY_INFO!G125/(0.5*COUNTRY_INFO!F125+0.2*COUNTRY_INFO!G125),IF(COUNTRY_INFO!K125=3,COUNTRY_INFO!G125/(COUNTRY_INFO!F125+COUNTRY_INFO!G125)))),0)","v":0.61968035813575517},{"$f":"MAX(COUNTRY_INFO!D125*AK125*PROFILE!$G$7,COUNTRY_INFO!D125*AL125*PROFILE!$G$7)","v":3252.1473856117286},{"$f":"MAX(COUNTRY_INFO!D125*AK125*PROFILE!$G$8,COUNTRY_INFO!D125*AL125*PROFILE!$G$8,COUNTRY_INFO!D125*AM125*PROFILE!$G$8)","v":14502.871374821014},{"$f":"MAX(COUNTRY_INFO!D125*AK125*PROFILE!$G$9,COUNTRY_INFO!D125*AL125*PROFILE!$G$9,COUNTRY_INFO!D125*AM125*PROFILE!$G$9,IF(AND(DISTRICT!Z125<>\"Inconnu\",Z125<>\"Non requis\"),COUNTRY_INFO!P125*DISTRICT!AN125,0))","v":26676.41263368382},{"$f":"MAX(COUNTRY_INFO!D125*AK125*PROFILE!$G$10,COUNTRY_INFO!D125*AL125*PROFILE!$G$10,IF(AND(DISTRICT!Z125<>\"Inconnu\",Z125<>\"Non requis\"),COUNTRY_INFO!P125*DISTRICT!AO125,0))","v":43465},87896.43139411656,"Y",{"$f":"MAX('MDA4'!R125,'T1'!L125,'T2'!J125,T3_R1!K125,T3_R2!K125)","v":0},{"$f":"MAX('MDA1'!K125,'MDA4'!S125,'MDA3'!I125,'MDA3'!L125,'T1'!M125,'T2'!K125,T3_R1!L125,T3_R2!L125)","v":26894},{"$f":"MAX('MDA1'!L125,'MDA4'!T125,'MDA3'!J125,'MDA3'!M125,'T1'!N125,'T2'!L125,T3_R1!M125,T3_R2!M125)","v":43218},70112,{"$f":"MAX('MDA4'!R125,T125)","v":0},{"$f":"MAX('MDA1'!K125,'MDA4'!S125,'MDA3'!I125,'MDA3'!L125,V125,AD125)","v":26676},{"$f":"MAX('MDA1'!L125,'MDA4'!T125,'MDA3'!J125,'MDA3'!M125,AF125)","v":43218},69894,79.518586695066233]
[{"$f":"IF(COUNTRY_INFO!A126=0,\" \",COUNTRY_INFO!A126)","v":"Chad"},{"$f":"IF(COUNTRY_INFO!B126=0,\" \",COUNTRY_INFO!B126)","v":"Tandjile"},{"$f":"IF(COUNTRY_INFO!C126=0,\" \",COUNTRY_INFO!C126)","v":"Donamanga"},{"$f":"COUNTRY_INFO!M126","v":129750},null,null,{"$f":"MAX('MDA1'!M126,'MDA4'!U126)","v":99079},{"$f":"IF(AND(COUNTRY_INFO!H126>0,COUNTRY_INFO!H126<4),IF(D126>MAX('MDA1'!M126,'MDA4'!U126),MAX('MDA1'!M126,'MDA4'!U126),D126),0)","v":99079},{"$f":"IF(AND(COUNTRY_INFO!H126>0,COUNTRY_INFO!H126<4), IF(G126/D126*100<>0, IF(G126/D126*100>100,100,G126/D126*100), \"-\"),0)","v":76.361464354527939},{"$f":"COUNTRY_INFO!N126","v":0},null,null,{"$f":"MAX('MDA1'!M126,MAX('MDA3'!I126,'MDA3'!L126)+MAX('MDA3'!J126,'MDA3'!M126))","v":99079},{"$f":"IF(AND(COUNTRY_INFO!I126>0,COUNTRY_INFO!I126<4),IF(J126>MAX('MDA1'!M126,MAX('MDA3'!I126,'MDA3'!L126)+MAX('MDA3'!J126,'MDA3'!M126)),MAX('MDA1'!M126,MAX('MDA3'!I126,'MDA3'!L126)+MAX('MDA3'!J126,'MDA3'!M126)),J126),0)","v":0},{"$f":"IF(AND(COUNTRY_INFO!I126>0,COUNTRY_INFO!I126<4), IF(M126/J126*100<>0, IF(M126/J126*100>100,100,M126/J126*100), \"-\"),0)","v":0},{"$f":"COUNTRY_INFO!O126","v":0},null,null,{"$f":"SUM(MAX('MDA4'!R126, 'T1'!L126, MAX(T3_R1!K126, T3_R2!K126)), MAX('MDA1'!K126, 'MDA4'!S126, 'T1'!M126, MAX(T3_R1!L126, T3_R2!L126)), MAX('MDA1'!L126, 'MDA4'!T126, 'T1'!N126, MAX(T3_R1!M126, T3_R2!M126)))","v":99079},{"$f":"IF(AND(COUNTRY_INFO!J126>1,COUNTRY_INFO!J126<4),IF(COUNTRY_INFO!E126>MAX('MDA4'!R126,'T1'!L126,MAX(T3_R1!K126,T3_R2!K126)),MAX('MDA4'!R126,'T1'!L126,MAX(T3_R1!K126,T3_R2!K126)),COUNTRY_INFO!E126),0)","v":0},{"$f":"IF(AND(COUNTRY_INFO!J126>1,COUNTRY_INFO!J126<4), IF(T126/COUNTRY_INFO!E126*100<>0, IF(T126/COUNTRY_INFO!E126*100>100,100,T126/COUNTRY_INFO!E126*100), \"-\"),0)","v":0},{"$f":"IF(AND(COUNTRY_INFO!J126>1,COUNTRY_INFO!J126<4),IF(COUNTRY_INFO!F126>MAX('MDA1'!K126,'MDA4'!S126,'T1'!M126,MAX(T3_R1!L126,T3_R2!L126)),MAX('MDA1'!K126,'MDA4'!S126,'T1'!M126,MAX(T3_R1!L126,T3_R2!L126)),COUNTRY_INFO!F126),0)","v":0},{"$f":"IF(AND(COUNTRY_INFO!J126>1,COUNTRY_INFO!J126<4), IF(V126/COUNTRY_INFO!F126*100<>0, IF(V126/COUNTRY_INFO!F126*100>100,100,V126/COUNTRY_INFO!F126*100), \"-\"),0)","v":0},0,{"$f":"IF(AND(COUNTRY_INFO!J126>1,COUNTRY_INFO!J126<4), IF(S126/P126*100<>0, IF(X126/P126*100>100,100,X126/P126*100), \"-\"),0)","v":0},{"$f":"COUNTRY_INFO!P126","v":32521.7},null,null,{"$f":"MAX('T1'!L126,'T2'!J126)+MAX('T1'!M126,'T2'!K126)+MAX('T1'!N126,'T2'!L126)","v":38814},{"$f":"IF(COUNTRY_INFO!K126=1,IF(COUNTRY_INFO!F126*0.33>MAX('T1'!M126,'T2'!K126),MAX('T1'!M126,'T2'!K126),COUNTRY_INFO!F126*0.33),IF(COUNTRY_INFO!K126=2,IF(COUNTRY_INFO!F126*0.5>MAX('T1'!M126,'T2'!K126),MAX('T1'!M126,'T2'!K126),COUNTRY_INFO!F126*0.5),IF(COUNTRY_INFO!K126=3,IF(COUNTRY_INFO!F126>MAX('T1'!M126,'T2'!K126),MAX('T1'!M126,'T2'!K126),COUNTRY_INFO!F126),0)))","v":19689.5},{"$f":"IF(AND(COUNTRY_INFO!K126>0,COUNTRY_INFO!K126<4),IF(Z126>0,IF(COUNTRY_INFO!K126=1, AD126/(COUNTRY_INFO!F126*0.33)*100, IF(COUNTRY_INFO!K126=2, AD126/(COUNTRY_INFO!F126*0.5)*100, IF(COUNTRY_INFO!K126=3, AD126/COUNTRY_INFO!F126*100))),\"-\"),0)","v":100},{"$f":"IF(COUNTRY_INFO!K126=2,IF(COUNTRY_INFO!G126*0.2>MAX('T1'!N126,'T2'!L126),MAX('T1'!N126,'T2'!L126),COUNTRY_INFO!G126*0.2),IF(COUNTRY_INFO!K126=3,IF(COUNTRY_INFO!G126>MAX('T1'!N126,'T2'!L126),MAX('T1'!N126,'T2'!L126),COUNTRY_INFO!G126),0))","v":0},{"$f":"IF(AND(COUNTRY_INFO!K126>0,COUNTRY_INFO!K126<4),IF(Z126>0,IF(COUNTRY_INFO!K126=1, 0, IF(COUNTRY_INFO!K126=2, AF126/(COUNTRY_INFO!G126*0.2)*100, IF(COUNTRY_INFO!K126=3, AF126/COUNTRY_INFO!G126*100))),\"-\"),0)","v":0},19689.5,{"$f":"IF(AND(COUNTRY_INFO!K126>0,COUNTRY_INFO!K126<4), IF(AC126/Z126*100<>0, IF(AH126/Z126*100>100,100,AH126/Z126*100), \"-\"),0)","v":60.542653059341909},null,{"$f":"IF(AND(D126<>0, D126<>\"Inconnu\",D126<>\"Interrompu\",D126<>\"Non requis\"),D126/COUNTRY_INFO!D126, 0)","v":1},{"$f":"IF(AND(J126<>0,J126<>\"Inconnu\",J126<>\"Interrompu\",J126<>\"Non requis\"),J126/COUNTRY_INFO!D126, 0)","v":0},{"$f":"IF(AND(P126<>0,P126<>\"Inconnu\",P126<>\"Non requis\"),P126/(COUNTRY_INFO!E126+COUNTRY_INFO!F126), 0)","v":0},{"$f":"IF(AND(Z126<>0,Z126<>\"Inconnu\",Z126<>\"Non requis\"),IF(COUNTRY_INFO!K126=1,1,IF(COUNTRY_INFO!K126=2,0.5*COUNTRY_INFO!F126/(0.5*COUNTRY_INFO!F126+0.2*COUNTRY_INFO!G126),IF(COUNTRY_INFO!K126=3,COUNTRY_INFO!F126/(COUNTRY_INFO!F126+COUNTRY_INFO!G126)))),0)","v":0.60542653059341911},{"$f":"IF(AND(Z126<>0,Z126<>\"Inconnu\",Z126<>\"Non requis\"),IF(COUNTRY_INFO!K126=1,0,IF(COUNTRY_INFO!K126=2,0.2*COUNTRY_INFO!G126/(0.5*COUNTRY_INFO!F126+0.2*COUNTRY_INFO!G126),IF(COUNTRY_INFO!K126=3,COUNTRY_INFO!G126/(COUNTRY_INFO!F126+COUNTRY_INFO!G126)))),0)","v":0.39457346940658083},{"$f":"MAX(COUNTRY_INFO!D126*AK126*PROFILE!$G$7,COUNTRY_INFO!D126*AL126*PROFILE!$G$7)","v":4800.743188348978},{"$f":"MAX(COUNTRY_INFO!D126*AK126*PROFILE!$G$8,COUNTRY_INFO!D126*AL126*PROFILE!$G$8,COUNTRY_INFO!D126*AM126*PROFILE!$G$8)","v":21408.796314770032},{"$f":"MAX(COUNTRY_INFO!D126*AK126*PROFILE!$G$9,COUNTRY_INFO!D126*AL126*PROFILE!$G$9,COUNTRY_INFO!D126*AM126*PROFILE!$G$9,IF(AND(DISTRICT!Z126<>\"Inconnu\",Z126<>\"Non requis\"),COUNTRY_INFO!P126*DISTRICT!AN126,0))","v":39379.090507195731},{"$f":"MAX(COUNTRY_INFO!D126*AK126*PROFILE!$G$10,COUNTRY_INFO!D126*AL126*PROFILE!$G$10,IF(AND(DISTRICT!Z126<>\"Inconnu\",Z126<>\"Non requis\"),COUNTRY_INFO!P126*DISTRICT!AO126,0))","v":64161.369989685263},129750,"Y",{"$f":"MAX('MDA4'!R126,'T1'!L126,'T2'!J126,T3_R1!K126,T3_R2!K126)","v":0},{"$f":"MAX('MDA1'!K126,'MDA4'!S126,'MDA3'!I126,'MDA3'!L126,'T1'!M126,'T2'!K126,T3_R1!L126,T3_R2!L126)","v":38814},{"$f":"MAX('MDA1'!L126,'MDA4'!T126,'MDA3'!J126,'MDA3'!M126,'T1'!N126,'T2'!L126,T3_R1!M126,T3_R2!M126)","v":61403},100217,{"$f":"MAX('MDA4'!R126,T126)","v":0},{"$f":"MAX('MDA1'!K126,'MDA4'!S126,'MDA3'!I126,'MDA3'!L126,V126,AD126)","v":37676},{"$f":"MAX('MDA1'!L126,'MDA4'!T126,'MDA3'!J126,'MDA3'!M126,AF126)","v":61403},99079,76.361464354527939]
[{"$f":"IF(COUNTRY_INFO!A127=0,\" \",COUNTRY_INFO!A127)","v":"Chad"},{"$f":"IF(COUNTRY_INFO!B127=0,\" \",COUNTRY_INFO!B127)","v":"Tandjile"},{"$f":"IF(COUNTRY_INFO!C127=0,\" \",COUNTRY_INFO!C127)","v":"Guidari"},{"$f":"COUNTRY_INFO!M127","v":197994},null,null,{"$f":"MAX('MDA1'!M127,'MDA4'!U127)","v":155837},{"$f":"IF(AND(COUNTRY_INFO!H127>0,COUNTRY_INFO!H127<4),IF(D127>MAX('MDA1'!M127,'MDA4'!U127),MAX('MDA1'!M127,'MDA4'!U127),D127),0)","v":155837},{"$f":"IF(AND(COUNTRY_INFO!H127>0,COUNTRY_INFO!H127<4), IF(G127/D127*100<>0, IF(G127/D127*100>100,100,G127/D127*100), \"-\"),0)","v":78.707940644665996},{"$f":"COUNTRY_INFO!N127","v":0},null,null,{"$f":"MAX('MDA1'!M127,MAX('MDA3'!I127,'MDA3'!L127)+MAX('MDA3'!J127,'MDA3'!M127))","v":155837},{"$f":"IF(AND(COUNTRY_INFO!I127>0,COUNTRY_INFO!I127<4),IF(J127>MAX('MDA1'!M127,MAX('MDA3'!I127,'MDA3'!L127)+MAX('MDA3'!J127,'MDA3'!M127)),MAX('MDA1'!M127,MAX('MDA3'!I127,'MDA3'!L127)+MAX('MDA3'!J127,'MDA3'!M127)),J127),0)","v":0},{"$f":"IF(AND(COUNTRY_INFO!I127>0,COUNTRY_INFO!I127<4), IF(M127/J127*100<>0, IF(M127/J127*100>100,100,M127/J127*100), \"-\"),0)","v":0},{"$f":"COUNTRY_INFO!O127","v":0},null,null,{"$f":"SUM(MAX('MDA4'!R127, 'T1'!L127, MAX(T3_R1!K127, T3_R2!K127)), MAX('MDA1'!K127, 'MDA4'!S127, 'T1'!M127, MAX(T3_R1!L127, T3_R2!L127)), MAX('MDA1'!L127, 'MDA4'!T127, 'T1'!N127, MAX(T3_R1!M127, T3_R2!M127)))","v":155837},{"$f":"IF(AND(COUNTRY_INFO!J127>1,COUNTRY_INFO!J127<4),IF(COUNTRY_INFO!E127>MAX('MDA4'!R127,'T1'!L127,MAX(T3_R1!K127,T3_R2!K127)),MAX('MDA4'!R127,'T1'!L127,MAX(T3_R1!K127,T3_R2!K127)),COUNTRY_INFO!E127),0)","v":0},{"$f":"IF(AND(COUNTRY_INFO!J127>1,COUNTRY_INFO!J127<4), IF(T127/COUNTRY_INFO!E127*100<>0, IF(T127/COUNTRY_INFO!E127*100>100,100,T127/COUNTRY_INFO!E127*100), \"-\"),0)","v":0},{"$f":"IF(AND(COUNTRY_INFO!J127>1,COUNTRY_INFO!J127<4),IF(COUNTRY_INFO!F127>MAX('MDA1'!K127,'MDA4'!S127,'T1'!M127,MAX(T3_R1!L127,T3_R2!L127)),MAX('MDA1'!K127,'MDA4'!S127,'T1'!M127,MAX(T3_R1!L127,T3_R2!L127)),COUNTRY_INFO!F127),0)","v":0},{"$f":"IF(AND(COUNTRY_INFO!J127>1,COUNTRY_INFO!J127<4), IF(V127/COUNTRY_INFO!F127*100<>0, IF(V127/COUNTRY_INFO!F127*100>100,100,V127/COUNTRY_INFO!F127*100), \"-\"),0)","v":0},0,{"$f":"IF(AND(COUNTRY_INFO!J127>1,COUNTRY_INFO!J127<4), IF(S127/P127*100<>0, IF(X127/P127*100>100,100,X127/P127*100), \"-\"),0)","v":0},{"$f":"COUNTRY_INFO!P127","v":49627.100000000006},null,null,{"$f":"MAX('T1'!L127,'T2'!J127)+MAX('T1'!M127,'T2'!K127)+MAX('T1'!N127,'T2'!L127)","v":59213},{"$f":"IF(COUNTRY_INFO!K127=1,IF(COUNTRY_INFO!F127*0.33>MAX('T1'!M127,'T2'!K127),MAX('T1'!M127,'T2'!K127),COUNTRY_INFO!F127*0.33),IF(COUNTRY_INFO!K127=2,IF(COUNTRY_INFO!F127*0.5>MAX('T1'!M127,'T2'!K127),MAX('T1'!M127,'T2'!K127),COUNTRY_INFO!F127*0.5),IF(COUNTRY_INFO!K127=3,IF(COUNTRY_INFO!F127>MAX('T1'!M127,'T2'!K127),MAX('T1'!M127,'T2'!K127),COUNTRY_INFO!F127),0)))","v":30045.5},{"$f":"IF(AND(COUNTRY_INFO!K127>0,COUNTRY_INFO!K127<4),IF(Z127>0,IF(COUNTRY_INFO!K127=1, AD127/(COUNTRY_INFO!F127*0.33)*100, IF(COUNTRY_INFO!K127=2, AD127/(COUNTRY_INFO!F127*0.5)*100, IF(COUNTRY_INFO!K127=3, AD127/COUNTRY_INFO!F127*100))),\"-\"),0)","v":100},{"$f":"IF(COUNTRY_INFO!K127=2,IF(COUNTRY_INFO!G127*0.2>MAX('T1'!N127,'T2'!L127),MAX('T1'!N127,'T2'!L127),COUNTRY_INFO!G127*0.2),IF(COUNTRY_INFO!K127=3,IF(COUNTRY_INFO!G127>MAX('T1'!N127,'T2'!L127),MAX('T1'!N127,'T2'!L127),COUNTRY_INFO!G127),0))","v":0},{"$f":"IF(AND(COUNTRY_INFO!K127>0,COUNTRY_INFO!K127<4),IF(Z127>0,IF(COUNTRY_INFO!K127=1, 0, IF(COUNTRY_INFO!K127=2, AF127/(COUNTRY_INFO!G127*0.2)*100, IF(COUNTRY_INFO!K127=3, AF127/COUNTRY_INFO!G127*100))),\"-\"),0)","v":0},30045.5,{"$f":"IF(AND(COUNTRY_INFO!K127>0,COUNTRY_INFO!K127<4), IF(AC127/Z127*100<>0, IF(AH127/Z127*100>100,100,AH127/Z127*100), \"-\"),0)","v":60.542526160102042},null,{"$f":"IF(AND(D127<>0, D127<>\"Inconnu\",D127<>\"Interrompu\",D127<>\"Non requis\"),D127/COUNTRY_INFO!D127, 0)","v":1},{"$f":"IF(AND(J127<>0,J127<>\"Inconnu\",J127<>\"Interrompu\",J127<>\"Non requis\"),J127/COUNTRY_INFO!D127, 0)","v":0},{"$f":"IF(AND(P127<>0,P127<>\"Inconnu\",P127<>\"Non requis\"),P127/(COUNTRY_INFO!E127+COUNTRY_INFO!F127), 0)","v":0},{"$f":"IF(AND(Z127<>0,Z127<>\"Inconnu\",Z127<>\"Non requis\"),IF(COUNTRY_INFO!K127=1,1,IF(COUNTRY_INFO!K127=2,0.5*COUNTRY_INFO!F127/(0.5*COUNTRY_INFO!F127+0.2*COUNTRY_INFO!G127),IF(COUNTRY_INFO!K127=3,COUNTRY_INFO!F127/(COUNTRY_INFO!F127+COUNTRY_INFO!G127)))),0)","v":0.60542526160102039},{"$f":"IF(AND(Z127<>0,Z127<>\"Inconnu\",Z127<>\"Non requis\"),IF(COUNTRY_INFO!K127=1,0,IF(COUNTRY_INFO!K127=2,0.2*COUNTRY_INFO!G127/(0.5*COUNTRY_INFO!F127+0.2*COUNTRY_INFO!G127),IF(COUNTRY_INFO!K127=3,COUNTRY_INFO!G127/(COUNTRY_INFO!F127+COUNTRY_INFO!G127)))),0)","v":0.39457473839897961},{"$f":"MAX(COUNTRY_INFO!D127*AK127*PROFILE!$G$7,COUNTRY_INFO!D127*AL127*PROFILE!$G$7)","v":7325.7676056567825},{"$f":"MAX(COUNTRY_INFO!D127*AK127*PROFILE!$G$8,COUNTRY_INFO!D127*AL127*PROFILE!$G$8,COUNTRY_INFO!D127*AM127*PROFILE!$G$8)","v":32669.080674732773},{"$f":"MAX(COUNTRY_INFO!D127*AK127*PROFILE!$G$9,COUNTRY_INFO!D127*AL127*PROFILE!$G$9,COUNTRY_INFO!D127*AM127*PROFILE!$G$9,IF(AND(DISTRICT!Z127<>\"Inconnu\",Z127<>\"Non requis\"),COUNTRY_INFO!P127*DISTRICT!AN127,0))","v":60091.126365176962},{"$f":"MAX(COUNTRY_INFO!D127*AK127*PROFILE!$G$10,COUNTRY_INFO!D127*AL127*PROFILE!$G$10,IF(AND(DISTRICT!Z127<>\"Inconnu\",Z127<>\"Non requis\"),COUNTRY_INFO!P127*DISTRICT!AO127,0))","v":97908.025354433485},197994,"Y",{"$f":"MAX('MDA4'!R127,'T1'!L127,'T2'!J127,T3_R1!K127,T3_R2!K127)","v":0},{"$f":"MAX('MDA1'!K127,'MDA4'!S127,'MDA3'!I127,'MDA3'!L127,'T1'!M127,'T2'!K127,T3_R1!L127,T3_R2!L127)","v":59213},{"$f":"MAX('MDA1'!L127,'MDA4'!T127,'MDA3'!J127,'MDA3'!M127,'T1'!N127,'T2'!L127,T3_R1!M127,T3_R2!M127)","v":96695},155908,{"$f":"MAX('MDA4'!R127,T127)","v":0},{"$f":"MAX('MDA1'!K127,'MDA4'!S127,'MDA3'!I127,'MDA3'!L127,V127,AD127)","v":59142},{"$f":"MAX('MDA1'!L127,'MDA4'!T127,'MDA3'!J127,'MDA3'!M127,AF127)","v":96695},155837,78.707940644665996]
[{"$f":"IF(COUNTRY_INFO!A128=0,\" \",COUNTRY_INFO!A128)","v":"Chad"},{"$f":"IF(COUNTRY_INFO!B128=0,\" \",COUNTRY_INFO!B128)","v":"Tandjile"},{"$f":"IF(COUNTRY_INFO!C128=0,\" \",COUNTRY_INFO!C128)","v":"Kelo"},{"$f":"COUNTRY_INFO!M128","v":235181},null,null,{"$f":"MAX('MDA1'!M128,'MDA4'!U128)","v":191824},{"$f":"IF(AND(COUNTRY_INFO!H128>0,COUNTRY_INFO!H128<4),IF(D128>MAX('MDA1'!M128,'MDA4'!U128),MAX('MDA1'!M128,'MDA4'!U128),D128),0)","v":191824},{"$f":"IF(AND(COUNTRY_INFO!H128>0,COUNTRY_INFO!H128<4), IF(G128/D128*100<>0, IF(G128/D128*100>100,100,G128/D128*100), \"-\"),0)","v":81.5644120911128},{"$f":"COUNTRY_INFO!N128","v":235181},null,null,{"$f":"MAX('MDA1'!M128,MAX('MDA3'!I128,'MDA3'!L128)+MAX('MDA3'!J128,'MDA3'!M128))","v":191824},{"$f":"IF(AND(COUNTRY_INFO!I128>0,COUNTRY_INFO!I128<4),IF(J128>MAX('MDA1'!M128,MAX('MDA3'!I128,'MDA3'!L128)+MAX('MDA3'!J128,'MDA3'!M128)),MAX('MDA1'!M128,MAX('MDA3'!I128,'MDA3'!L128)+MAX('MDA3'!J128,'MDA3'!M128)),J128),0)","v":191824},{"$f":"IF(AND(COUNTRY_INFO!I128>0,COUNTRY_INFO!I128<4), IF(M128/J128*100<>0, IF(M128/J128*100>100,100,M128/J128*100), \"-\"),0)","v":81.5644120911128},{"$f":"COUNTRY_INFO!O128","v":0},null,null,{"$f":"SUM(MAX('MDA4'!R128, 'T1'!L128, MAX(T3_R1!K128, T3_R2!K128)), MAX('MDA1'!K128, 'MDA4'!S128, 'T1'!M128, MAX(T3_R1!L128, T3_R2!L128)), MAX('MDA1'!L128, 'MDA4'!T128, 'T1'!N128, MAX(T3_R1!M128, T3_R2!M128)))","v":191824},{"$f":"IF(AND(COUNTRY_INFO!J128>1,COUNTRY_INFO!J128<4),IF(COUNTRY_INFO!E128>MAX('MDA4'!R128,'T1'!L128,MAX(T3_R1!K128,T3_R2!K128)),MAX('MDA4'!R128,'T1'!L128,MAX(T3_R1!K128,T3_R2!K128)),COUNTRY_INFO!E128),0)","v":0},{"$f":"IF(AND(COUNTRY_INFO!J128>1,COUNTRY_INFO!J128<4), IF(T128/COUNTRY_INFO!E128*100<>0, IF(T128/COUNTRY_INFO!E128*100>100,100,T128/COUNTRY_INFO!E128*100), \"-\"),0)","v":0},{"$f":"IF(AND(COUNTRY_INFO!J128>1,COUNTRY_INFO!J128<4),IF(COUNTRY_INFO!F128>MAX('MDA1'!K128,'MDA4'!S128,'T1'!M128,MAX(T3_R1!L128,T3_R2!L128)),MAX('MDA1'!K128,'MDA4'!S128,'T1'!M128,MAX(T3_R1!L128,T3_R2!L128)),COUNTRY_INFO!F128),0)","v":0},{"$f":"IF(AND(COUNTRY_INFO!J128>1,COUNTRY_INFO!J128<4), IF(V128/COUNTRY_INFO!F128*100<>0, IF(V128/COUNTRY_INFO!F128*100>100,100,V128/COUNTRY_INFO!F128*100), \"-\"),0)","v":0},0,{"$f":"IF(AND(COUNTRY_INFO!J128>1,COUNTRY_INFO!J128<4), IF(S128/P128*100<>0, IF(X128/P128*100>100,100,X128/P128*100), \"-\"),0)","v":0},{"$f":"COUNTRY_INFO!P128","v":58947.9},null,null,{"$f":"MAX('T1'!L128,'T2'!J128)+MAX('T1'!M128,'T2'!K128)+MAX('T1'!N128,'T2'!L128)","v":69443},{"$f":"IF(COUNTRY_INFO!K128=1,IF(COUNTRY_INFO!F128*0.33>MAX('T1'!M128,'T2'!K128),MAX('T1'!M128,'T2'!K128),COUNTRY_INFO!F128*0.33),IF(COUNTRY_INFO!K128=2,IF(COUNTRY_INFO!F128*0.5>MAX('T1'!M128,'T2'!K128),MAX('T1'!M128,'T2'!K128),COUNTRY_INFO!F128*0.5),IF(COUNTRY_INFO!K128=3,IF(COUNTRY_INFO!F128>MAX('T1'!M128,'T2'!K128),MAX('T1'!M128,'T2'!K128),COUNTRY_INFO!F128),0)))","v":35688.5},{"$f":"IF(AND(COUNTRY_INFO!K128>0,COUNTRY_INFO!K128<4),IF(Z128>0,IF(COUNTRY_INFO!K128=1, AD128/(COUNTRY_INFO!F128*0.33)*100, IF(COUNTRY_INFO!K128=2, AD128/(COUNTRY_INFO!F128*0.5)*100, IF(COUNTRY_INFO!K128=3, AD128/COUNTRY_INFO!F128*100))),\"-\"),0)","v":100},{"$f":"IF(COUNTRY_INFO!K128=2,IF(COUNTRY_INFO!G128*0.2>MAX('T1'!N128,'T2'!L128),MAX('T1'!N128,'T2'!L128),COUNTRY_INFO!G128*0.2),IF(COUNTRY_INFO!K128=3,IF(COUNTRY_INFO!G128>MAX('T1'!N128,'T2'!L128),MAX('T1'!N128,'T2'!L128),COUNTRY_INFO!G128),0))","v":0},{"$f":"IF(AND(COUNTRY_INFO!K128>0,COUNTRY_INFO!K128<4),IF(Z128>0,IF(COUNTRY_INFO!K128=1, 0, IF(COUNTRY_INFO!K128=2, AF128/(COUNTRY_INFO!G128*0.2)*100, IF(COUNTRY_INFO!K128=3, AF128/COUNTRY_INFO!G128*100))),\"-\"),0)","v":0},35688.5,{"$f":"IF(AND(COUNTRY_INFO!K128>0,COUNTRY_INFO!K128<4), IF(AC128/Z128*100<>0, IF(AH128/Z128*100>100,100,AH128/Z128*100), \"-\"),0)","v":60.542445108307504},null,{"$f":"IF(AND(D128<>0, D128<>\"Inconnu\",D128<>\"Interrompu\",D128<>\"Non requis\"),D128/COUNTRY_INFO!D128, 0)","v":1},{"$f":"IF(AND(J128<>0,J128<>\"Inconnu\",J128<>\"Interrompu\",J128<>\"Non requis\"),J128/COUNTRY_INFO!D128, 0)","v":1},{"$f":"IF(AND(P128<>0,P128<>\"Inconnu\",P128<>\"Non requis\"),P128/(COUNTRY_INFO!E128+COUNTRY_INFO!F128), 0)","v":0},{"$f":"IF(AND(Z128<>0,Z128<>\"Inconnu\",Z128<>\"Non requis\"),IF(COUNTRY_INFO!K128=1,1,IF(COUNTRY_INFO!K128=2,0.5*COUNTRY_INFO!F128/(0.5*COUNTRY_INFO!F128+0.2*COUNTRY_INFO!G128),IF(COUNTRY_INFO!K128=3,COUNTRY_INFO!F128/(COUNTRY_INFO!F128+COUNTRY_INFO!G128)))),0)","v":0.60542445108307508},{"$f":"IF(AND(Z128<>0,Z128<>\"Inconnu\",Z128<>\"Non requis\"),IF(COUNTRY_INFO!K128=1,0,IF(COUNTRY_INFO!K128=2,0.2*COUNTRY_INFO!G128/(0.5*COUNTRY_INFO!F128+0.2*COUNTRY_INFO!G128),IF(COUNTRY_INFO!K128=3,COUNTRY_INFO!G128/(COUNTRY_INFO!F128+COUNTRY_INFO!G128)))),0)","v":0.39457554891692498},{"$f":"MAX(COUNTRY_INFO!D128*AK128*PROFILE!$G$7,COUNTRY_INFO!D128*AL128*PROFILE!$G$7)","v":8701.6846534034757},{"$f":"MAX(COUNTRY_INFO!D128*AK128*PROFILE!$G$8,COUNTRY_INFO!D128*AL128*PROFILE!$G$8,COUNTRY_INFO!D128*AM128*PROFILE!$G$8)","v":38804.948948777885},{"$f":"MAX(COUNTRY_INFO!D128*AK128*PROFILE!$G$9,COUNTRY_INFO!D128*AL128*PROFILE!$G$9,COUNTRY_INFO!D128*AM128*PROFILE!$G$9,IF(AND(DISTRICT!Z128<>\"Inconnu\",Z128<>\"Non requis\"),COUNTRY_INFO!P128*DISTRICT!AN128,0))","v":71377.37097936646},{"$f":"MAX(COUNTRY_INFO!D128*AK128*PROFILE!$G$10,COUNTRY_INFO!D128*AL128*PROFILE!$G$10,IF(AND(DISTRICT!Z128<>\"Inconnu\",Z128<>\"Non requis\"),COUNTRY_INFO!P128*DISTRICT!AO128,0))","v":116296.99541845218},235181,"Y",{"$f":"MAX('MDA4'!R128,'T1'!L128,'T2'!J128,T3_R1!K128,T3_R2!K128)","v":0},{"$f":"MAX('MDA1'!K128,'MDA4'!S128,'MDA3'!I128,'MDA3'!L128,'T1'!M128,'T2'!K128,T3_R1!L128,T3_R2!L128)","v":69443},{"$f":"MAX('MDA1'!L128,'MDA4'!T128,'MDA3'!J128,'MDA3'!M128,'T1'!N128,'T2'!L128,T3_R1!M128,T3_R2!M128)","v":123354},192797,{"$f":"MAX('MDA4'!R128,T128)","v":0},{"$f":"MAX('MDA1'!K128,'MDA4'!S128,'MDA3'!I128,'MDA3'!L128,V128,AD128)","v":68470},{"$f":"MAX('MDA1'!L128,'MDA4'!T128,'MDA3'!J128,'MDA3'!M128,AF128)","v":123354},191824,81.5644120911128]
[{"$f":"IF(COUNTRY_INFO!A129=0,\" \",COUNTRY_INFO!A129)","v":"Chad"},{"$f":"IF(COUNTRY_INFO!B129=0,\" \",COUNTRY_INFO!B129)","v":"Tandjile"},{"$f":"IF(COUNTRY_INFO!C129=0,\" \",COUNTRY_INFO!C129)","v":"Kolon"},{"$f":"COUNTRY_INFO!M129","v":84848},null,null,{"$f":"MAX('MDA1'!M129,'MDA4'!U129)","v":62565},{"$f":"IF(AND(COUNTRY_INFO!H129>0,COUNTRY_INFO!H129<4),IF(D129>MAX('MDA1'!M129,'MDA4'!U129),MAX('MDA1'!M129,'MDA4'!U129),D129),0)","v":62565},{"$f":"IF(AND(COUNTRY_INFO!H129>0,COUNTRY_INFO!H129<4), IF(G129/D129*100<>0, IF(G129/D129*100>100,100,G129/D129*100), \"-\"),0)","v":73.737742787101652},{"$f":"COUNTRY_INFO!N129","v":84848},null,null,{"$f":"MAX('MDA1'!M129,MAX('MDA3'!I129,'MDA3'!L129)+MAX('MDA3'!J129,'MDA3'!M129))","v":62565},{"$f":"IF(AND(COUNTRY_INFO!I129>0,COUNTRY_INFO!I129<4),IF(J129>MAX('MDA1'!M129,MAX('MDA3'!I129,'MDA3'!L129)+MAX('MDA3'!J129,'MDA3'!M129)),MAX('MDA1'!M129,MAX('MDA3'!I129,'MDA3'!L129)+MAX('MDA3'!J129,'MDA3'!M129)),J129),0)","v":62565},{"$f":"IF(AND(COUNTRY_INFO!I129>0,COUNTRY_INFO!I129<4), IF(M129/J129*100<>0, IF(M129/J129*100>100,100,M129/J129*100), \"-\"),0)","v":73.737742787101652},{"$f":"COUNTRY_INFO!O129","v":0},null,null,{"$f":"SUM(MAX('MDA4'!R129, 'T1'!L129, MAX(T3_R1!K129, T3_R2!K129)), MAX('MDA1'!K129, 'MDA4'!S129, 'T1'!M129, MAX(T3_R1!L129, T3_R2!L129)), MAX('MDA1'!L129, 'MDA4'!T129, 'T1'!N129, MAX(T3_R1!M129, T3_R2!M129)))","v":62565},{"$f":"IF(AND(COUNTRY_INFO!J129>1,COUNTRY_INFO!J129<4),IF(COUNTRY_INFO!E129>MAX('MDA4'!R129,'T1'!L129,MAX(T3_R1!K129,T3_R2!K129)),MAX('MDA4'!R129,'T1'!L129,MAX(T3_R1!K129,T3_R2!K129)),COUNTRY_INFO!E129),0)","v":0},{"$f":"IF(AND(COUNTRY_INFO!J129>1,COUNTRY_INFO!J129<4), IF(T129/COUNTRY_INFO!E129*100<>0, IF(T129/COUNTRY_INFO!E129*100>100,100,T129/COUNTRY_INFO!E129*100), \"-\"),0)","v":0},{"$f":"IF(AND(COUNTRY_INFO!J129>1,COUNTRY_INFO!J129<4),IF(COUNTRY_INFO!F129>MAX('MDA1'!K129,'MDA4'!S129,'T1'!M129,MAX(T3_R1!L129,T3_R2!L129)),MAX('MDA1'!K129,'MDA4'!S129,'T1'!M129,MAX(T3_R1!L129,T3_R2!L129)),COUNTRY_INFO!F129),0)","v":0},{"$f":"IF(AND(COUNTRY_INFO!J129>1,COUNTRY_INFO!J129<4), IF(V129/COUNTRY_INFO!F129*100<>0, IF(V129/COUNTRY_INFO!F129*100>100,100,V129/COUNTRY_INFO!F129*100), \"-\"),0)","v":0},0,{"$f":"IF(AND(COUNTRY_INFO!J129>1,COUNTRY_INFO!J129<4), IF(S129/P129*100<>0, IF(X129/P129*100>100,100,X129/P129*100), \"-\"),0)","v":0},{"$f":"COUNTRY_INFO!P129","v":67708},null,null,{"$f":"MAX('T1'!L129,'T2'!J129)+MAX('T1'!M129,'T2'!K129)+MAX('T1'!N129,'T2'!L129)","v":24478},{"$f":"IF(COUNTRY_INFO!K129=1,IF(COUNTRY_INFO!F129*0.33>MAX('T1'!M129,'T2'!K129),MAX('T1'!M129,'T2'!K129),COUNTRY_INFO!F129*0.33),IF(COUNTRY_INFO!K129=2,IF(COUNTRY_INFO!F129*0.5>MAX('T1'!M129,'T2'!K129),MAX('T1'!M129,'T2'!K129),COUNTRY_INFO!F129*0.5),IF(COUNTRY_INFO!K129=3,IF(COUNTRY_INFO!F129>MAX('T1'!M129,'T2'!K129),MAX('T1'!M129,'T2'!K129),COUNTRY_INFO!F129),0)))","v":24478},{"$f":"IF(AND(COUNTRY_INFO!K129>0,COUNTRY_INFO!K129<4),IF(Z129>0,IF(COUNTRY_INFO!K129=1, AD129/(COUNTRY_INFO!F129*0.33)*100, IF(COUNTRY_INFO!K129=2, AD129/(COUNTRY_INFO!F129*0.5)*100, IF(COUNTRY_INFO!K129=3, AD129/COUNTRY_INFO!F129*100))),\"-\"),0)","v":95.056502660090871},{"$f":"IF(COUNTRY_INFO!K129=2,IF(COUNTRY_INFO!G129*0.2>MAX('T1'!N129,'T2'!L129),MAX('T1'!N129,'T2'!L129),COUNTRY_INFO!G129*0.2),IF(COUNTRY_INFO!K129=3,IF(COUNTRY_INFO!G129>MAX('T1'!N129,'T2'!L129),MAX('T1'!N129,'T2'!L129),COUNTRY_INFO!G129),0))","v":0},{"$f":"IF(AND(COUNTRY_INFO!K129>0,COUNTRY_INFO!K129<4),IF(Z129>0,IF(COUNTRY_INFO!K129=1, 0, IF(COUNTRY_INFO!K129=2, AF129/(COUNTRY_INFO!G129*0.2)*100, IF(COUNTRY_INFO!K129=3, AF129/COUNTRY_INFO!G129*100))),\"-\"),0)","v":0},24478,{"$f":"IF(AND(COUNTRY_INFO!K129>0,COUNTRY_INFO!K129<4), IF(AC129/Z129*100<>0, IF(AH129/Z129*100>100,100,AH129/Z129*100), \"-\"),0)","v":36.152301057482127},null,{"$f":"IF(AND(D129<>0, D129<>\"Inconnu\",D129<>\"Interrompu\",D129<>\"Non requis\"),D129/COUNTRY_INFO!D129, 0)","v":1},{"$f":"IF(AND(J129<>0,J129<>\"Inconnu\",J129<>\"Interrompu\",J129<>\"Non requis\"),J129/COUNTRY_INFO!D129, 0)","v":1},{"$f":"IF(AND(P129<>0,P129<>\"Inconnu\",P129<>\"Non requis\"),P129/(COUNTRY_INFO!E129+COUNTRY_INFO!F129), 0)","v":0},{"$f":"IF(AND(Z129<>0,Z129<>\"Inconnu\",Z129<>\"Non requis\"),IF(COUNTRY_INFO!K129=1,1,IF(COUNTRY_INFO!K129=2,0.5*COUNTRY_INFO!F129/(0.5*COUNTRY_INFO!F129+0.2*COUNTRY_INFO!G129),IF(COUNTRY_INFO!K129=3,COUNTRY_INFO!F129/(COUNTRY_INFO!F129+COUNTRY_INFO!G129)))),0)","v":0.38032433390441306},{"$f":"IF(AND(Z129<>0,Z129<>\"Inconnu\",Z129<>\"Non requis\"),IF(COUNTRY_INFO!K129=1,0,IF(COUNTRY_INFO!K129=2,0.2*COUNTRY_INFO!G129/(0.5*COUNTRY_INFO!F129+0.2*COUNTRY_INFO!G129),IF(COUNTRY_INFO!K129=3,COUNTRY_INFO!G129/(COUNTRY_INFO!F129+COUNTRY_INFO!G129)))),0)","v":0.61967566609558689},{"$f":"MAX(COUNTRY_INFO!D129*AK129*PROFILE!$G$7,COUNTRY_INFO!D129*AL129*PROFILE!$G$7)","v":3139.3715456264672},{"$f":"MAX(COUNTRY_INFO!D129*AK129*PROFILE!$G$8,COUNTRY_INFO!D129*AL129*PROFILE!$G$8,COUNTRY_INFO!D129*AM129*PROFILE!$G$8)","v":13999.950286825491},{"$f":"MAX(COUNTRY_INFO!D129*AK129*PROFILE!$G$9,COUNTRY_INFO!D129*AL129*PROFILE!$G$9,COUNTRY_INFO!D129*AM129*PROFILE!$G$9,IF(AND(DISTRICT!Z129<>\"Inconnu\",Z129<>\"Non requis\"),COUNTRY_INFO!P129*DISTRICT!AN129,0))","v":25751.345443965653},{"$f":"MAX(COUNTRY_INFO!D129*AK129*PROFILE!$G$10,COUNTRY_INFO!D129*AL129*PROFILE!$G$10,IF(AND(DISTRICT!Z129<>\"Inconnu\",Z129<>\"Non requis\"),COUNTRY_INFO!P129*DISTRICT!AO129,0))","v":41957.332723582389},84848,"Y",{"$f":"MAX('MDA4'!R129,'T1'!L129,'T2'!J129,T3_R1!K129,T3_R2!K129)","v":0},{"$f":"MAX('MDA1'!K129,'MDA4'!S129,'MDA3'!I129,'MDA3'!L129,'T1'!M129,'T2'!K129,T3_R1!L129,T3_R2!L129)","v":24478},{"$f":"MAX('MDA1'!L129,'MDA4'!T129,'MDA3'!J129,'MDA3'!M129,'T1'!N129,'T2'!L129,T3_R1!M129,T3_R2!M129)","v":38963},63441,{"$f":"MAX('MDA4'!R129,T129)","v":0},{"$f":"MAX('MDA1'!K129,'MDA4'!S129,'MDA3'!I129,'MDA3'!L129,V129,AD129)","v":24478},{"$f":"MAX('MDA1'!L129,'MDA4'!T129,'MDA3'!J129,'MDA3'!M129,AF129)","v":38963},63441,74.770177258155755]
[{"$f":"IF(COUNTRY_INFO!A130=0,\" \",COUNTRY_INFO!A130)","v":"Chad"},{"$f":"IF(COUNTRY_INFO!B130=0,\" \",COUNTRY_INFO!B130)","v":"Tandjile"},{"$f":"IF(COUNTRY_INFO!C130=0,\" \",COUNTRY_INFO!C130)","v":"Lai"},{"$f":"COUNTRY_INFO!M130","v":109771},null,null,{"$f":"MAX('MDA1'!M130,'MDA4'!U130)","v":86439},{"$f":"IF(AND(COUNTRY_INFO!H130>0,COUNTRY_INFO!H130<4),IF(D130>MAX('MDA1'!M130,'MDA4'!U130),MAX('MDA1'!M130,'MDA4'!U130),D130),0)","v":86439},{"$f":"IF(AND(COUNTRY_INFO!H130>0,COUNTRY_INFO!H130<4), IF(G130/D130*100<>0, IF(G130/D130*100>100,100,G130/D130*100), \"-\"),0)","v":78.744841533738423},{"$f":"COUNTRY_INFO!N130","v":0},null,null,{"$f":"MAX('MDA1'!M130,MAX('MDA3'!I130,'MDA3'!L130)+MAX('MDA3'!J130,'MDA3'!M130))","v":86439},{"$f":"IF(AND(COUNTRY_INFO!I130>0,COUNTRY_INFO!I130<4),IF(J130>MAX('MDA1'!M130,MAX('MDA3'!I130,'MDA3'!L130)+MAX('MDA3'!J130,'MDA3'!M130)),MAX('MDA1'!M130,MAX('MDA3'!I130,'MDA3'!L130)+MAX('MDA3'!J130,'MDA3'!M130)),J130),0)","v":0},{"$f":"IF(AND(COUNTRY_INFO!I130>0,COUNTRY_INFO!I130<4), IF(M130/J130*100<>0, IF(M130/J130*100>100,100,M130/J130*100), \"-\"),0)","v":0},{"$f":"COUNTRY_INFO!O130","v":0},null,null,{"$f":"SUM(MAX('MDA4'!R130, 'T1'!L130, MAX(T3_R1!K130, T3_R2!K130)), MAX('MDA1'!K130, 'MDA4'!S130, 'T1'!M130, MAX(T3_R1!L130, T3_R2!L130)), MAX('MDA1'!L130, 'MDA4'!T130, 'T1'!N130, MAX(T3_R1!M130, T3_R2!M130)))","v":86439},{"$f":"IF(AND(COUNTRY_INFO!J130>1,COUNTRY_INFO!J130<4),IF(COUNTRY_INFO!E130>MAX('MDA4'!R130,'T1'!L130,MAX(T3_R1!K130,T3_R2!K130)),MAX('MDA4'!R130,'T1'!L130,MAX(T3_R1!K130,T3_R2!K130)),COUNTRY_INFO!E130),0)","v":0},{"$f":"IF(AND(COUNTRY_INFO!J130>1,COUNTRY_INFO!J130<4), IF(T130/COUNTRY_INFO!E130*100<>0, IF(T130/COUNTRY_INFO!E130*100>100,100,T130/COUNTRY_INFO!E130*100), \"-\"),0)","v":0},{"$f":"IF(AND(COUNTRY_INFO!J130>1,COUNTRY_INFO!J130<4),IF(COUNTRY_INFO!F130>MAX('MDA1'!K130,'MDA4'!S130,'T1'!M130,MAX(T3_R1!L130,T3_R2!L130)),MAX('MDA1'!K130,'MDA4'!S130,'T1'!M130,MAX(T3_R1!L130,T3_R2!L130)),COUNTRY_INFO!F130),0)","v":0},{"$f":"IF(AND(COUNTRY_INFO!J130>1,COUNTRY_INFO!J130<4), IF(V130/COUNTRY_INFO!F130*100<>0, IF(V130/COUNTRY_INFO!F130*100>100,100,V130/COUNTRY_INFO!F130*100), \"-\"),0)","v":0},0,{"$f":"IF(AND(COUNTRY_INFO!J130>1,COUNTRY_INFO!J130<4), IF(S130/P130*100<>0, IF(X130/P130*100>100,100,X130/P130*100), \"-\"),0)","v":0},{"$f":"COUNTRY_INFO!P130","v":27513.9},null,null,{"$f":"MAX('T1'!L130,'T2'!J130)+MAX('T1'!M130,'T2'!K130)+MAX('T1'!N130,'T2'!L130)","v":33118},{"$f":"IF(COUNTRY_INFO!K130=1,IF(COUNTRY_INFO!F130*0.33>MAX('T1'!M130,'T2'!K130),MAX('T1'!M130,'T2'!K130),COUNTRY_INFO!F130*0.33),IF(COUNTRY_INFO!K130=2,IF(COUNTRY_INFO!F130*0.5>MAX('T1'!M130,'T2'!K130),MAX('T1'!M130,'T2'!K130),COUNTRY_INFO!F130*0.5),IF(COUNTRY_INFO!K130=3,IF(COUNTRY_INFO!F130>MAX('T1'!M130,'T2'!K130),MAX('T1'!M130,'T2'!K130),COUNTRY_INFO!F130),0)))","v":16657.5},{"$f":"IF(AND(COUNTRY_INFO!K130>0,COUNTRY_INFO!K130<4),IF(Z130>0,IF(COUNTRY_INFO!K130=1, AD130/(COUNTRY_INFO!F130*0.33)*100, IF(COUNTRY_INFO!K130=2, AD130/(COUNTRY_INFO!F130*0.5)*100, IF(COUNTRY_INFO!K130=3, AD130/COUNTRY_INFO!F130*100))),\"-\"),0)","v":100},{"$f":"IF(COUNTRY_INFO!K130=2,IF(COUNTRY_INFO!G130*0.2>MAX('T1'!N130,'T2'!L130),MAX('T1'!N130,'T2'!L130),COUNTRY_INFO!G130*0.2),IF(COUNTRY_INFO!K130=3,IF(COUNTRY_INFO!G130>MAX('T1'!N130,'T2'!L130),MAX('T1'!N130,'T2'!L130),COUNTRY_INFO!G130),0))","v":0},{"$f":"IF(AND(COUNTRY_INFO!K130>0,COUNTRY_INFO!K130<4),IF(Z130>0,IF(COUNTRY_INFO!K130=1, 0, IF(COUNTRY_INFO!K130=2, AF130/(COUNTRY_INFO!G130*0.2)*100, IF(COUNTRY_INFO!K130=3, AF130/COUNTRY_INFO!G130*100))),\"-\"),0)","v":0},16657.5,{"$f":"IF(AND(COUNTRY_INFO!K130>0,COUNTRY_INFO!K130<4), IF(AC130/Z130*100<>0, IF(AH130/Z130*100>100,100,AH130/Z130*100), \"-\"),0)","v":60.542125979959216},null,{"$f":"IF(AND(D130<>0, D130<>\"Inconnu\",D130<>\"Interrompu\",D130<>\"Non requis\"),D130/COUNTRY_INFO!D130, 0)","v":1},{"$f":"IF(AND(J130<>0,J130<>\"Inconnu\",J130<>\"Interrompu\",J130<>\"Non requis\"),J130/COUNTRY_INFO!D130, 0)","v":0},{"$f":"IF(AND(P130<>0,P130<>\"Inconnu\",P130<>\"Non requis\"),P130/(COUNTRY_INFO!E130+COUNTRY_INFO!F130), 0)","v":0},{"$f":"IF(AND(Z130<>0,Z130<>\"Inconnu\",Z130<>\"Non requis\"),IF(COUNTRY_INFO!K130=1,1,IF(COUNTRY_INFO!K130=2,0.5*COUNTRY_INFO!F130/(0.5*COUNTRY_INFO!F130+0.2*COUNTRY_INFO!G130),IF(COUNTRY_INFO!K130=3,COUNTRY_INFO!F130/(COUNTRY_INFO!F130+COUNTRY_INFO!G130)))),0)","v":0.60542125979959216},{"$f":"IF(AND(Z130<>0,Z130<>\"Inconnu\",Z130<>\"Non requis\"),IF(COUNTRY_INFO!K130=1,0,IF(COUNTRY_INFO!K130=2,0.2*COUNTRY_INFO!G130/(0.5*COUNTRY_INFO!F130+0.2*COUNTRY_INFO!G130),IF(COUNTRY_INFO!K130=3,COUNTRY_INFO!G130/(COUNTRY_INFO!F130+COUNTRY_INFO!G130)))),0)","v":0.39457874020040784},{"$f":"MAX(COUNTRY_INFO!D130*AK130*PROFILE!$G$7,COUNTRY_INFO!D130*AL130*PROFILE!$G$7)","v":4061.52123721199},{"$f":"MAX(COUNTRY_INFO!D130*AK130*PROFILE!$G$8,COUNTRY_INFO!D130*AL130*PROFILE!$G$8,COUNTRY_INFO!D130*AM130*PROFILE!$G$8)","v":18112.25418318783},{"$f":"MAX(COUNTRY_INFO!D130*AK130*PROFILE!$G$9,COUNTRY_INFO!D130*AL130*PROFILE!$G$9,COUNTRY_INFO!D130*AM130*PROFILE!$G$9,IF(AND(DISTRICT!Z130<>\"Inconnu\",Z130<>\"Non requis\"),COUNTRY_INFO!P130*DISTRICT!AN130,0))","v":33315.469318422984},{"$f":"MAX(COUNTRY_INFO!D130*AK130*PROFILE!$G$10,COUNTRY_INFO!D130*AL130*PROFILE!$G$10,IF(AND(DISTRICT!Z130<>\"Inconnu\",Z130<>\"Non requis\"),COUNTRY_INFO!P130*DISTRICT!AO130,0))","v":54281.755261177197},109771,"Y",{"$f":"MAX('MDA4'!R130,'T1'!L130,'T2'!J130,T3_R1!K130,T3_R2!K130)","v":0},{"$f":"MAX('MDA1'!K130,'MDA4'!S130,'MDA3'!I130,'MDA3'!L130,'T1'!M130,'T2'!K130,T3_R1!L130,T3_R2!L130)","v":33211},{"$f":"MAX('MDA1'!L130,'MDA4'!T130,'MDA3'!J130,'MDA3'!M130,'T1'!N130,'T2'!L130,T3_R1!M130,T3_R2!M130)","v":53228},86439,{"$f":"MAX('MDA4'!R130,T130)","v":0},{"$f":"MAX('MDA1'!K130,'MDA4'!S130,'MDA3'!I130,'MDA3'!L130,V130,AD130)","v":33211},{"$f":"MAX('MDA1'!L130,'MDA4'!T130,'MDA3'!J130,'MDA3'!M130,AF130)","v":53228},86439,78.744841533738423]
[{"$f":"IF(COUNTRY_INFO!A131=0,\" \",COUNTRY_INFO!A131)","v":"Chad"},{"$f":"IF(COUNTRY_INFO!B131=0,\" \",COUNTRY_INFO!B131)","v":"Tibesti"},{"$f":"IF(COUNTRY_INFO!C131=0,\" \",COUNTRY_INFO!C131)","v":"Bardaï"},{"$f":"COUNTRY_INFO!M131","v":0},null,null,{"$f":"MAX('MDA1'!M131,'MDA4'!U131)","v":0},{"$f":"IF(AND(COUNTRY_INFO!H131>0,COUNTRY_INFO!H131<4),IF(D131>MAX('MDA1'!M131,'MDA4'!U131),MAX('MDA1'!M131,'MDA4'!U131),D131),0)","v":0},{"$f":"IF(AND(COUNTRY_INFO!H131>0,COUNTRY_INFO!H131<4), IF(G131/D131*100<>0, IF(G131/D131*100>100,100,G131/D131*100), \"-\"),0)","v":0},{"$f":"COUNTRY_INFO!N131","v":0},null,null,{"$f":"MAX('MDA1'!M131,MAX('MDA3'!I131,'MDA3'!L131)+MAX('MDA3'!J131,'MDA3'!M131))","v":0},{"$f":"IF(AND(COUNTRY_INFO!I131>0,COUNTRY_INFO!I131<4),IF(J131>MAX('MDA1'!M131,MAX('MDA3'!I131,'MDA3'!L131)+MAX('MDA3'!J131,'MDA3'!M131)),MAX('MDA1'!M131,MAX('MDA3'!I131,'MDA3'!L131)+MAX('MDA3'!J131,'MDA3'!M131)),J131),0)","v":0},{"$f":"IF(AND(COUNTRY_INFO!I131>0,COUNTRY_INFO!I131<4), IF(M131/J131*100<>0, IF(M131/J131*100>100,100,M131/J131*100), \"-\"),0)","v":0},{"$f":"COUNTRY_INFO!O131","v":0},null,null,{"$f":"SUM(MAX('MDA4'!R131, 'T1'!L131, MAX(T3_R1!K131, T3_R2!K131)), MAX('MDA1'!K131, 'MDA4'!S131, 'T1'!M131, MAX(T3_R1!L131, T3_R2!L131)), MAX('MDA1'!L131, 'MDA4'!T131, 'T1'!N131, MAX(T3_R1!M131, T3_R2!M131)))","v":0},{"$f":"IF(AND(COUNTRY_INFO!J131>1,COUNTRY_INFO!J131<4),IF(COUNTRY_INFO!E131>MAX('MDA4'!R131,'T1'!L131,MAX(T3_R1!K131,T3_R2!K131)),MAX('MDA4'!R131,'T1'!L131,MAX(T3_R1!K131,T3_R2!K131)),COUNTRY_INFO!E131),0)","v":0},{"$f":"IF(AND(COUNTRY_INFO!J131>1,COUNTRY_INFO!J131<4), IF(T131/COUNTRY_INFO!E131*100<>0, IF(T131/COUNTRY_INFO!E131*100>100,100,T131/COUNTRY_INFO!E131*100), \"-\"),0)","v":0},{"$f":"IF(AND(COUNTRY_INFO!J131>1,COUNTRY_INFO!J131<4),IF(COUNTRY_INFO!F131>MAX('MDA1'!K131,'MDA4'!S131,'T1'!M131,MAX(T3_R1!L131,T3_R2!L131)),MAX('MDA1'!K131,'MDA4'!S131,'T1'!M131,MAX(T3_R1!L131,T3_R2!L131)),COUNTRY_INFO!F131),0)","v":0},{"$f":"IF(AND(COUNTRY_INFO!J131>1,COUNTRY_INFO!J131<4), IF(V131/COUNTRY_INFO!F131*100<>0, IF(V131/COUNTRY_INFO!F131*100>100,100,V131/COUNTRY_INFO!F131*100), \"-\"),0)","v":0},0,{"$f":"IF(AND(COUNTRY_INFO!J131>1,COUNTRY_INFO!J131<4), IF(S131/P131*100<>0, IF(X131/P131*100>100,100,X131/P131*100), \"-\"),0)","v":0},{"$f":"COUNTRY_INFO!P131","v":0},null,null,{"$f":"MAX('T1'!L131,'T2'!J131)+MAX('T1'!M131,'T2'!K131)+MAX('T1'!N131,'T2'!L131)","v":0},{"$f":"IF(COUNTRY_INFO!K131=1,IF(COUNTRY_INFO!F131*0.33>MAX('T1'!M131,'T2'!K131),MAX('T1'!M131,'T2'!K131),COUNTRY_INFO!F131*0.33),IF(COUNTRY_INFO!K131=2,IF(COUNTRY_INFO!F131*0.5>MAX('T1'!M131,'T2'!K131),MAX('T1'!M131,'T2'!K131),COUNTRY_INFO!F131*0.5),IF(COUNTRY_INFO!K131=3,IF(COUNTRY_INFO!F131>MAX('T1'!M131,'T2'!K131),MAX('T1'!M131,'T2'!K131),COUNTRY_INFO!F131),0)))","v":0},{"$f":"IF(AND(COUNTRY_INFO!K131>0,COUNTRY_INFO!K131<4),IF(Z131>0,IF(COUNTRY_INFO!K131=1, AD131/(COUNTRY_INFO!F131*0.33)*100, IF(COUNTRY_INFO!K131=2, AD131/(COUNTRY_INFO!F131*0.5)*100, IF(COUNTRY_INFO!K131=3, AD131/COUNTRY_INFO!F131*100))),\"-\"),0)","v":0},{"$f":"IF(COUNTRY_INFO!K131=2,IF(COUNTRY_INFO!G131*0.2>MAX('T1'!N131,'T2'!L131),MAX('T1'!N131,'T2'!L131),COUNTRY_INFO!G131*0.2),IF(COUNTRY_INFO!K131=3,IF(COUNTRY_INFO!G131>MAX('T1'!N131,'T2'!L131),MAX('T1'!N131,'T2'!L131),COUNTRY_INFO!G131),0))","v":0},{"$f":"IF(AND(COUNTRY_INFO!K131>0,COUNTRY_INFO!K131<4),IF(Z131>0,IF(COUNTRY_INFO!K131=1, 0, IF(COUNTRY_INFO!K131=2, AF131/(COUNTRY_INFO!G131*0.2)*100, IF(COUNTRY_INFO!K131=3, AF131/COUNTRY_INFO!G131*100))),\"-\"),0)","v":0},0,{"$f":"IF(AND(COUNTRY_INFO!K131>0,COUNTRY_INFO!K131<4), IF(AC131/Z131*100<>0, IF(AH131/Z131*100>100,100,AH131/Z131*100), \"-\"),0)","v":0},null,{"$f":"IF(AND(D131<>0, D131<>\"Inconnu\",D131<>\"Interrompu\",D131<>\"Non requis\"),D131/COUNTRY_INFO!D131, 0)","v":0},{"$f":"IF(AND(J131<>0,J131<>\"Inconnu\",J131<>\"Interrompu\",J131<>\"Non requis\"),J131/COUNTRY_INFO!D131, 0)","v":0},{"$f":"IF(AND(P131<>0,P131<>\"Inconnu\",P131<>\"Non requis\"),P131/(COUNTRY_INFO!E131+COUNTRY_INFO!F131), 0)","v":0},{"$f":"IF(AND(Z131<>0,Z131<>\"Inconnu\",Z131<>\"Non requis\"),IF(COUNTRY_INFO!K131=1,1,IF(COUNTRY_INFO!K131=2,0.5*COUNTRY_INFO!F131/(0.5*COUNTRY_INFO!F131+0.2*COUNTRY_INFO!G131),IF(COUNTRY_INFO!K131=3,COUNTRY_INFO!F131/(COUNTRY_INFO!F131+COUNTRY_INFO!G131)))),0)","v":0},{"$f":"IF(AND(Z131<>0,Z131<>\"Inconnu\",Z131<>\"Non requis\"),IF(COUNTRY_INFO!K131=1,0,IF(COUNTRY_INFO!K131=2,0.2*COUNTRY_INFO!G131/(0.5*COUNTRY_INFO!F131+0.2*COUNTRY_INFO!G131),IF(COUNTRY_INFO!K131=3,COUNTRY_INFO!G131/(COUNTRY_INFO!F131+COUNTRY_INFO!G131)))),0)","v":0},{"$f":"MAX(COUNTRY_INFO!D131*AK131*PROFILE!$G$7,COUNTRY_INFO!D131*AL131*PROFILE!$G$7)","v":0},{"$f":"MAX(COUNTRY_INFO!D131*AK131*PROFILE!$G$8,COUNTRY_INFO!D131*AL131*PROFILE!$G$8,COUNTRY_INFO!D131*AM131*PROFILE!$G$8)","v":0},{"$f":"MAX(COUNTRY_INFO!D131*AK131*PROFILE!$G$9,COUNTRY_INFO!D131*AL131*PROFILE!$G$9,COUNTRY_INFO!D131*AM131*PROFILE!$G$9,IF(AND(DISTRICT!Z131<>\"Inconnu\",Z131<>\"Non requis\"),COUNTRY_INFO!P131*DISTRICT!AN131,0))","v":0},{"$f":"MAX(COUNTRY_INFO!D131*AK131*PROFILE!$G$10,COUNTRY_INFO!D131*AL131*PROFILE!$G$10,IF(AND(DISTRICT!Z131<>\"Inconnu\",Z131<>\"Non requis\"),COUNTRY_INFO!P131*DISTRICT!AO131,0))","v":0},0,0,{"$f":"MAX('MDA4'!R131,'T1'!L131,'T2'!J131,T3_R1!K131,T3_R2!K131)","v":0},{"$f":"MAX('MDA1'!K131,'MDA4'!S131,'MDA3'!I131,'MDA3'!L131,'T1'!M131,'T2'!K131,T3_R1!L131,T3_R2!L131)","v":0},{"$f":"MAX('MDA1'!L131,'MDA4'!T131,'MDA3'!J131,'MDA3'!M131,'T1'!N131,'T2'!L131,T3_R1!M131,T3_R2!M131)","v":0},0,{"$f":"MAX('MDA4'!R131,T131)","v":0},{"$f":"MAX('MDA1'!K131,'MDA4'!S131,'MDA3'!I131,'MDA3'!L131,V131,AD131)","v":0},{"$f":"MAX('MDA1'!L131,'MDA4'!T131,'MDA3'!J131,'MDA3'!M131,AF131)","v":0},0,0]
[{"$f":"IF(COUNTRY_INFO!A132=0,\" \",COUNTRY_INFO!A132)","v":"Chad"},{"$f":"IF(COUNTRY_INFO!B132=0,\" \",COUNTRY_INFO!B132)","v":"Tibesti"},{"$f":"IF(COUNTRY_INFO!C132=0,\" \",COUNTRY_INFO!C132)","v":"Zouar"},{"$f":"COUNTRY_INFO!M132","v":0},null,null,{"$f":"MAX('MDA1'!M132,'MDA4'!U132)","v":0},{"$f":"IF(AND(COUNTRY_INFO!H132>0,COUNTRY_INFO!H132<4),IF(D132>MAX('MDA1'!M132,'MDA4'!U132),MAX('MDA1'!M132,'MDA4'!U132),D132),0)","v":0},{"$f":"IF(AND(COUNTRY_INFO!H132>0,COUNTRY_INFO!H132<4), IF(G132/D132*100<>0, IF(G132/D132*100>100,100,G132/D132*100), \"-\"),0)","v":0},{"$f":"COUNTRY_INFO!N132","v":0},null,null,{"$f":"MAX('MDA1'!M132,MAX('MDA3'!I132,'MDA3'!L132)+MAX('MDA3'!J132,'MDA3'!M132))","v":0},{"$f":"IF(AND(COUNTRY_INFO!I132>0,COUNTRY_INFO!I132<4),IF(J132>MAX('MDA1'!M132,MAX('MDA3'!I132,'MDA3'!L132)+MAX('MDA3'!J132,'MDA3'!M132)),MAX('MDA1'!M132,MAX('MDA3'!I132,'MDA3'!L132)+MAX('MDA3'!J132,'MDA3'!M132)),J132),0)","v":0},{"$f":"IF(AND(COUNTRY_INFO!I132>0,COUNTRY_INFO!I132<4), IF(M132/J132*100<>0, IF(M132/J132*100>100,100,M132/J132*100), \"-\"),0)","v":0},{"$f":"COUNTRY_INFO!O132","v":0},null,null,{"$f":"SUM(MAX('MDA4'!R132, 'T1'!L132, MAX(T3_R1!K132, T3_R2!K132)), MAX('MDA1'!K132, 'MDA4'!S132, 'T1'!M132, MAX(T3_R1!L132, T3_R2!L132)), MAX('MDA1'!L132, 'MDA4'!T132, 'T1'!N132, MAX(T3_R1!M132, T3_R2!M132)))","v":0},{"$f":"IF(AND(COUNTRY_INFO!J132>1,COUNTRY_INFO!J132<4),IF(COUNTRY_INFO!E132>MAX('MDA4'!R132,'T1'!L132,MAX(T3_R1!K132,T3_R2!K132)),MAX('MDA4'!R132,'T1'!L132,MAX(T3_R1!K132,T3_R2!K132)),COUNTRY_INFO!E132),0)","v":0},{"$f":"IF(AND(COUNTRY_INFO!J132>1,COUNTRY_INFO!J132<4), IF(T132/COUNTRY_INFO!E132*100<>0, IF(T132/COUNTRY_INFO!E132*100>100,100,T132/COUNTRY_INFO!E132*100), \"-\"),0)","v":0},{"$f":"IF(AND(COUNTRY_INFO!J132>1,COUNTRY_INFO!J132<4),IF(COUNTRY_INFO!F132>MAX('MDA1'!K132,'MDA4'!S132,'T1'!M132,MAX(T3_R1!L132,T3_R2!L132)),MAX('MDA1'!K132,'MDA4'!S132,'T1'!M132,MAX(T3_R1!L132,T3_R2!L132)),COUNTRY_INFO!F132),0)","v":0},{"$f":"IF(AND(COUNTRY_INFO!J132>1,COUNTRY_INFO!J132<4), IF(V132/COUNTRY_INFO!F132*100<>0, IF(V132/COUNTRY_INFO!F132*100>100,100,V132/COUNTRY_INFO!F132*100), \"-\"),0)","v":0},0,{"$f":"IF(AND(COUNTRY_INFO!J132>1,COUNTRY_INFO!J132<4), IF(S132/P132*100<>0, IF(X132/P132*100>100,100,X132/P132*100), \"-\"),0)","v":0},{"$f":"COUNTRY_INFO!P132","v":0},null,null,{"$f":"MAX('T1'!L132,'T2'!J132)+MAX('T1'!M132,'T2'!K132)+MAX('T1'!N132,'T2'!L132)","v":0},{"$f":"IF(COUNTRY_INFO!K132=1,IF(COUNTRY_INFO!F132*0.33>MAX('T1'!M132,'T2'!K132),MAX('T1'!M132,'T2'!K132),COUNTRY_INFO!F132*0.33),IF(COUNTRY_INFO!K132=2,IF(COUNTRY_INFO!F132*0.5>MAX('T1'!M132,'T2'!K132),MAX('T1'!M132,'T2'!K132),COUNTRY_INFO!F132*0.5),IF(COUNTRY_INFO!K132=3,IF(COUNTRY_INFO!F132>MAX('T1'!M132,'T2'!K132),MAX('T1'!M132,'T2'!K132),COUNTRY_INFO!F132),0)))","v":0},{"$f":"IF(AND(COUNTRY_INFO!K132>0,COUNTRY_INFO!K132<4),IF(Z132>0,IF(COUNTRY_INFO!K132=1, AD132/(COUNTRY_INFO!F132*0.33)*100, IF(COUNTRY_INFO!K132=2, AD132/(COUNTRY_INFO!F132*0.5)*100, IF(COUNTRY_INFO!K132=3, AD132/COUNTRY_INFO!F132*100))),\"-\"),0)","v":0},{"$f":"IF(COUNTRY_INFO!K132=2,IF(COUNTRY_INFO!G132*0.2>MAX('T1'!N132,'T2'!L132),MAX('T1'!N132,'T2'!L132),COUNTRY_INFO!G132*0.2),IF(COUNTRY_INFO!K132=3,IF(COUNTRY_INFO!G132>MAX('T1'!N132,'T2'!L132),MAX('T1'!N132,'T2'!L132),COUNTRY_INFO!G132),0))","v":0},{"$f":"IF(AND(COUNTRY_INFO!K132>0,COUNTRY_INFO!K132<4),IF(Z132>0,IF(COUNTRY_INFO!K132=1, 0, IF(COUNTRY_INFO!K132=2, AF132/(COUNTRY_INFO!G132*0.2)*100, IF(COUNTRY_INFO!K132=3, AF132/COUNTRY_INFO!G132*100))),\"-\"),0)","v":0},0,{"$f":"IF(AND(COUNTRY_INFO!K132>0,COUNTRY_INFO!K132<4), IF(AC132/Z132*100<>0, IF(AH132/Z132*100>100,100,AH132/Z132*100), \"-\"),0)","v":0},null,{"$f":"IF(AND(D132<>0, D132<>\"Inconnu\",D132<>\"Interrompu\",D132<>\"Non requis\"),D132/COUNTRY_INFO!D132, 0)","v":0},{"$f":"IF(AND(J132<>0,J132<>\"Inconnu\",J132<>\"Interrompu\",J132<>\"Non requis\"),J132/COUNTRY_INFO!D132, 0)","v":0},{"$f":"IF(AND(P132<>0,P132<>\"Inconnu\",P132<>\"Non requis\"),P132/(COUNTRY_INFO!E132+COUNTRY_INFO!F132), 0)","v":0},{"$f":"IF(AND(Z132<>0,Z132<>\"Inconnu\",Z132<>\"Non requis\"),IF(COUNTRY_INFO!K132=1,1,IF(COUNTRY_INFO!K132=2,0.5*COUNTRY_INFO!F132/(0.5*COUNTRY_INFO!F132+0.2*COUNTRY_INFO!G132),IF(COUNTRY_INFO!K132=3,COUNTRY_INFO!F132/(COUNTRY_INFO!F132+COUNTRY_INFO!G132)))),0)","v":0},{"$f":"IF(AND(Z132<>0,Z132<>\"Inconnu\",Z132<>\"Non requis\"),IF(COUNTRY_INFO!K132=1,0,IF(COUNTRY_INFO!K132=2,0.2*COUNTRY_INFO!G132/(0.5*COUNTRY_INFO!F132+0.2*COUNTRY_INFO!G132),IF(COUNTRY_INFO!K132=3,COUNTRY_INFO!G132/(COUNTRY_INFO!F132+COUNTRY_INFO!G132)))),0)","v":0},{"$f":"MAX(COUNTRY_INFO!D132*AK132*PROFILE!$G$7,COUNTRY_INFO!D132*AL132*PROFILE!$G$7)","v":0},{"$f":"MAX(COUNTRY_INFO!D132*AK132*PROFILE!$G$8,COUNTRY_INFO!D132*AL132*PROFILE!$G$8,COUNTRY_INFO!D132*AM132*PROFILE!$G$8)","v":0},{"$f":"MAX(COUNTRY_INFO!D132*AK132*PROFILE!$G$9,COUNTRY_INFO!D132*AL132*PROFILE!$G$9,COUNTRY_INFO!D132*AM132*PROFILE!$G$9,IF(AND(DISTRICT!Z132<>\"Inconnu\",Z132<>\"Non requis\"),COUNTRY_INFO!P132*DISTRICT!AN132,0))","v":0},{"$f":"MAX(COUNTRY_INFO!D132*AK132*PROFILE!$G$10,COUNTRY_INFO!D132*AL132*PROFILE!$G$10,IF(AND(DISTRICT!Z132<>\"Inconnu\",Z132<>\"Non requis\"),COUNTRY_INFO!P132*DISTRICT!AO132,0))","v":0},0,0,{"$f":"MAX('MDA4'!R132,'T1'!L132,'T2'!J132,T3_R1!K132,T3_R2!K132)","v":0},{"$f":"MAX('MDA1'!K132,'MDA4'!S132,'MDA3'!I132,'MDA3'!L132,'T1'!M132,'T2'!K132,T3_R1!L132,T3_R2!L132)","v":0},{"$f":"MAX('MDA1'!L132,'MDA4'!T132,'MDA3'!J132,'MDA3'!M132,'T1'!N132,'T2'!L132,T3_R1!M132,T3_R2!M132)","v":0},0,{"$f":"MAX('MDA4'!R132,T132)","v":0},{"$f":"MAX('MDA1'!K132,'MDA4'!S132,'MDA3'!I132,'MDA3'!L132,V132,AD132)","v":0},{"$f":"MAX('MDA1'!L132,'MDA4'!T132,'MDA3'!J132,'MDA3'!M132,AF132)","v":0},0,0]
[{"$f":"IF(COUNTRY_INFO!A133=0,\" \",COUNTRY_INFO!A133)","v":"Chad"},{"$f":"IF(COUNTRY_INFO!B133=0,\" \",COUNTRY_INFO!B133)","v":"Wadi Fira"},{"$f":"IF(COUNTRY_INFO!C133=0,\" \",COUNTRY_INFO!C133)","v":"amzoer"},{"$f":"COUNTRY_INFO!M133","v":0},null,null,{"$f":"MAX('MDA1'!M133,'MDA4'!U133)","v":0},{"$f":"IF(AND(COUNTRY_INFO!H133>0,COUNTRY_INFO!H133<4),IF(D133>MAX('MDA1'!M133,'MDA4'!U133),MAX('MDA1'!M133,'MDA4'!U133),D133),0)","v":0},{"$f":"IF(AND(COUNTRY_INFO!H133>0,COUNTRY_INFO!H133<4), IF(G133/D133*100<>0, IF(G133/D133*100>100,100,G133/D133*100), \"-\"),0)","v":0},{"$f":"COUNTRY_INFO!N133","v":0},null,null,{"$f":"MAX('MDA1'!M133,MAX('MDA3'!I133,'MDA3'!L133)+MAX('MDA3'!J133,'MDA3'!M133))","v":0},{"$f":"IF(AND(COUNTRY_INFO!I133>0,COUNTRY_INFO!I133<4),IF(J133>MAX('MDA1'!M133,MAX('MDA3'!I133,'MDA3'!L133)+MAX('MDA3'!J133,'MDA3'!M133)),MAX('MDA1'!M133,MAX('MDA3'!I133,'MDA3'!L133)+MAX('MDA3'!J133,'MDA3'!M133)),J133),0)","v":0},{"$f":"IF(AND(COUNTRY_INFO!I133>0,COUNTRY_INFO!I133<4), IF(M133/J133*100<>0, IF(M133/J133*100>100,100,M133/J133*100), \"-\"),0)","v":0},{"$f":"COUNTRY_INFO!O133","v":0},null,null,{"$f":"SUM(MAX('MDA4'!R133, 'T1'!L133, MAX(T3_R1!K133, T3_R2!K133)), MAX('MDA1'!K133, 'MDA4'!S133, 'T1'!M133, MAX(T3_R1!L133, T3_R2!L133)), MAX('MDA1'!L133, 'MDA4'!T133, 'T1'!N133, MAX(T3_R1!M133, T3_R2!M133)))","v":0},{"$f":"IF(AND(COUNTRY_INFO!J133>1,COUNTRY_INFO!J133<4),IF(COUNTRY_INFO!E133>MAX('MDA4'!R133,'T1'!L133,MAX(T3_R1!K133,T3_R2!K133)),MAX('MDA4'!R133,'T1'!L133,MAX(T3_R1!K133,T3_R2!K133)),COUNTRY_INFO!E133),0)","v":0},{"$f":"IF(AND(COUNTRY_INFO!J133>1,COUNTRY_INFO!J133<4), IF(T133/COUNTRY_INFO!E133*100<>0, IF(T133/COUNTRY_INFO!E133*100>100,100,T133/COUNTRY_INFO!E133*100), \"-\"),0)","v":0},{"$f":"IF(AND(COUNTRY_INFO!J133>1,COUNTRY_INFO!J133<4),IF(COUNTRY_INFO!F133>MAX('MDA1'!K133,'MDA4'!S133,'T1'!M133,MAX(T3_R1!L133,T3_R2!L133)),MAX('MDA1'!K133,'MDA4'!S133,'T1'!M133,MAX(T3_R1!L133,T3_R2!L133)),COUNTRY_INFO!F133),0)","v":0},{"$f":"IF(AND(COUNTRY_INFO!J133>1,COUNTRY_INFO!J133<4), IF(V133/COUNTRY_INFO!F133*100<>0, IF(V133/COUNTRY_INFO!F133*100>100,100,V133/COUNTRY_INFO!F133*100), \"-\"),0)","v":0},0,{"$f":"IF(AND(COUNTRY_INFO!J133>1,COUNTRY_INFO!J133<4), IF(S133/P133*100<>0, IF(X133/P133*100>100,100,X133/P133*100), \"-\"),0)","v":0},{"$f":"COUNTRY_INFO!P133","v":5992.47},null,null,{"$f":"MAX('T1'!L133,'T2'!J133)+MAX('T1'!M133,'T2'!K133)+MAX('T1'!N133,'T2'!L133)","v":0},{"$f":"IF(COUNTRY_INFO!K133=1,IF(COUNTRY_INFO!F133*0.33>MAX('T1'!M133,'T2'!K133),MAX('T1'!M133,'T2'!K133),COUNTRY_INFO!F133*0.33),IF(COUNTRY_INFO!K133=2,IF(COUNTRY_INFO!F133*0.5>MAX('T1'!M133,'T2'!K133),MAX('T1'!M133,'T2'!K133),COUNTRY_INFO!F133*0.5),IF(COUNTRY_INFO!K133=3,IF(COUNTRY_INFO!F133>MAX('T1'!M133,'T2'!K133),MAX('T1'!M133,'T2'!K133),COUNTRY_INFO!F133),0)))","v":0},{"$f":"IF(AND(COUNTRY_INFO!K133>0,COUNTRY_INFO!K133<4),IF(Z133>0,IF(COUNTRY_INFO!K133=1, AD133/(COUNTRY_INFO!F133*0.33)*100, IF(COUNTRY_INFO!K133=2, AD133/(COUNTRY_INFO!F133*0.5)*100, IF(COUNTRY_INFO!K133=3, AD133/COUNTRY_INFO!F133*100))),\"-\"),0)","v":0},{"$f":"IF(COUNTRY_INFO!K133=2,IF(COUNTRY_INFO!G133*0.2>MAX('T1'!N133,'T2'!L133),MAX('T1'!N133,'T2'!L133),COUNTRY_INFO!G133*0.2),IF(COUNTRY_INFO!K133=3,IF(COUNTRY_INFO!G133>MAX('T1'!N133,'T2'!L133),MAX('T1'!N133,'T2'!L133),COUNTRY_INFO!G133),0))","v":0},{"$f":"IF(AND(COUNTRY_INFO!K133>0,COUNTRY_INFO!K133<4),IF(Z133>0,IF(COUNTRY_INFO!K133=1, 0, IF(COUNTRY_INFO!K133=2, AF133/(COUNTRY_INFO!G133*0.2)*100, IF(COUNTRY_INFO!K133=3, AF133/COUNTRY_INFO!G133*100))),\"-\"),0)","v":0},0,{"$f":"IF(AND(COUNTRY_INFO!K133>0,COUNTRY_INFO!K133<4), IF(AC133/Z133*100<>0, IF(AH133/Z133*100>100,100,AH133/Z133*100), \"-\"),0)","v":"-"},null,{"$f":"IF(AND(D133<>0, D133<>\"Inconnu\",D133<>\"Interrompu\",D133<>\"Non requis\"),D133/COUNTRY_INFO!D133, 0)","v":0},{"$f":"IF(AND(J133<>0,J133<>\"Inconnu\",J133<>\"Interrompu\",J133<>\"Non requis\"),J133/COUNTRY_INFO!D133, 0)","v":0},{"$f":"IF(AND(P133<>0,P133<>\"Inconnu\",P133<>\"Non requis\"),P133/(COUNTRY_INFO!E133+COUNTRY_INFO!F133), 0)","v":0},{"$f":"IF(AND(Z133<>0,Z133<>\"Inconnu\",Z133<>\"Non requis\"),IF(COUNTRY_INFO!K133=1,1,IF(COUNTRY_INFO!K133=2,0.5*COUNTRY_INFO!F133/(0.5*COUNTRY_INFO!F133+0.2*COUNTRY_INFO!G133),IF(COUNTRY_INFO!K133=3,COUNTRY_INFO!F133/(COUNTRY_INFO!F133+COUNTRY_INFO!G133)))),0)","v":1},{"$f":"IF(AND(Z133<>0,Z133<>\"Inconnu\",Z133<>\"Non requis\"),IF(COUNTRY_INFO!K133=1,0,IF(COUNTRY_INFO!K133=2,0.2*COUNTRY_INFO!G133/(0.5*COUNTRY_INFO!F133+0.2*COUNTRY_INFO!G133),IF(COUNTRY_INFO!K133=3,COUNTRY_INFO!G133/(COUNTRY_INFO!F133+COUNTRY_INFO!G133)))),0)","v":0},{"$f":"MAX(COUNTRY_INFO!D133*AK133*PROFILE!$G$7,COUNTRY_INFO!D133*AL133*PROFILE!$G$7)","v":0},{"$f":"MAX(COUNTRY_INFO!D133*AK133*PROFILE!$G$8,COUNTRY_INFO!D133*AL133*PROFILE!$G$8,COUNTRY_INFO!D133*AM133*PROFILE!$G$8)","v":0},{"$f":"MAX(COUNTRY_INFO!D133*AK133*PROFILE!$G$9,COUNTRY_INFO!D133*AL133*PROFILE!$G$9,COUNTRY_INFO!D133*AM133*PROFILE!$G$9,IF(AND(DISTRICT!Z133<>\"Inconnu\",Z133<>\"Non requis\"),COUNTRY_INFO!P133*DISTRICT!AN133,0))","v":5992.47},{"$f":"MAX(COUNTRY_INFO!D133*AK133*PROFILE!$G$10,COUNTRY_INFO!D133*AL133*PROFILE!$G$10,IF(AND(DISTRICT!Z133<>\"Inconnu\",Z133<>\"Non requis\"),COUNTRY_INFO!P133*DISTRICT!AO133,0))","v":0},5992.47,0,{"$f":"MAX('MDA4'!R133,'T1'!L133,'T2'!J133,T3_R1!K133,T3_R2!K133)","v":0},{"$f":"MAX('MDA1'!K133,'MDA4'!S133,'MDA3'!I133,'MDA3'!L133,'T1'!M133,'T2'!K133,T3_R1!L133,T3_R2!L133)","v":0},{"$f":"MAX('MDA1'!L133,'MDA4'!T133,'MDA3'!J133,'MDA3'!M133,'T1'!N133,'T2'!L133,T3_R1!M133,T3_R2!M133)","v":0},0,{"$f":"MAX('MDA4'!R133,T133)","v":0},{"$f":"MAX('MDA1'!K133,'MDA4'!S133,'MDA3'!I133,'MDA3'!L133,V133,AD133)","v":0},{"$f":"MAX('MDA1'!L133,'MDA4'!T133,'MDA3'!J133,'MDA3'!M133,AF133)","v":0},0,0]
[{"$f":"IF(COUNTRY_INFO!A134=0,\" \",COUNTRY_INFO!A134)","v":"Chad"},{"$f":"IF(COUNTRY_INFO!B134=0,\" \",COUNTRY_INFO!B134)","v":"Wadi Fira"},{"$f":"IF(COUNTRY_INFO!C134=0,\" \",COUNTRY_INFO!C134)","v":"Arada"},{"$f":"COUNTRY_INFO!M134","v":0},null,null,{"$f":"MAX('MDA1'!M134,'MDA4'!U134)","v":0},{"$f":"IF(AND(COUNTRY_INFO!H134>0,COUNTRY_INFO!H134<4),IF(D134>MAX('MDA1'!M134,'MDA4'!U134),MAX('MDA1'!M134,'MDA4'!U134),D134),0)","v":0},{"$f":"IF(AND(COUNTRY_INFO!H134>0,COUNTRY_INFO!H134<4), IF(G134/D134*100<>0, IF(G134/D134*100>100,100,G134/D134*100), \"-\"),0)","v":0},{"$f":"COUNTRY_INFO!N134","v":0},null,null,{"$f":"MAX('MDA1'!M134,MAX('MDA3'!I134,'MDA3'!L134)+MAX('MDA3'!J134,'MDA3'!M134))","v":0},{"$f":"IF(AND(COUNTRY_INFO!I134>0,COUNTRY_INFO!I134<4),IF(J134>MAX('MDA1'!M134,MAX('MDA3'!I134,'MDA3'!L134)+MAX('MDA3'!J134,'MDA3'!M134)),MAX('MDA1'!M134,MAX('MDA3'!I134,'MDA3'!L134)+MAX('MDA3'!J134,'MDA3'!M134)),J134),0)","v":0},{"$f":"IF(AND(COUNTRY_INFO!I134>0,COUNTRY_INFO!I134<4), IF(M134/J134*100<>0, IF(M134/J134*100>100,100,M134/J134*100), \"-\"),0)","v":0},{"$f":"COUNTRY_INFO!O134","v":0},null,null,{"$f":"SUM(MAX('MDA4'!R134, 'T1'!L134, MAX(T3_R1!K134, T3_R2!K134)), MAX('MDA1'!K134, 'MDA4'!S134, 'T1'!M134, MAX(T3_R1!L134, T3_R2!L134)), MAX('MDA1'!L134, 'MDA4'!T134, 'T1'!N134, MAX(T3_R1!M134, T3_R2!M134)))","v":0},{"$f":"IF(AND(COUNTRY_INFO!J134>1,COUNTRY_INFO!J134<4),IF(COUNTRY_INFO!E134>MAX('MDA4'!R134,'T1'!L134,MAX(T3_R1!K134,T3_R2!K134)),MAX('MDA4'!R134,'T1'!L134,MAX(T3_R1!K134,T3_R2!K134)),COUNTRY_INFO!E134),0)","v":0},{"$f":"IF(AND(COUNTRY_INFO!J134>1,COUNTRY_INFO!J134<4), IF(T134/COUNTRY_INFO!E134*100<>0, IF(T134/COUNTRY_INFO!E134*100>100,100,T134/COUNTRY_INFO!E134*100), \"-\"),0)","v":0},{"$f":"IF(AND(COUNTRY_INFO!J134>1,COUNTRY_INFO!J134<4),IF(COUNTRY_INFO!F134>MAX('MDA1'!K134,'MDA4'!S134,'T1'!M134,MAX(T3_R1!L134,T3_R2!L134)),MAX('MDA1'!K134,'MDA4'!S134,'T1'!M134,MAX(T3_R1!L134,T3_R2!L134)),COUNTRY_INFO!F134),0)","v":0},{"$f":"IF(AND(COUNTRY_INFO!J134>1,COUNTRY_INFO!J134<4), IF(V134/COUNTRY_INFO!F134*100<>0, IF(V134/COUNTRY_INFO!F134*100>100,100,V134/COUNTRY_INFO!F134*100), \"-\"),0)","v":0},0,{"$f":"IF(AND(COUNTRY_INFO!J134>1,COUNTRY_INFO!J134<4), IF(S134/P134*100<>0, IF(X134/P134*100>100,100,X134/P134*100), \"-\"),0)","v":0},{"$f":"COUNTRY_INFO!P134","v":4244.79},null,null,{"$f":"MAX('T1'!L134,'T2'!J134)+MAX('T1'!M134,'T2'!K134)+MAX('T1'!N134,'T2'!L134)","v":0},{"$f":"IF(COUNTRY_INFO!K134=1,IF(COUNTRY_INFO!F134*0.33>MAX('T1'!M134,'T2'!K134),MAX('T1'!M134,'T2'!K134),COUNTRY_INFO!F134*0.33),IF(COUNTRY_INFO!K134=2,IF(COUNTRY_INFO!F134*0.5>MAX('T1'!M134,'T2'!K134),MAX('T1'!M134,'T2'!K134),COUNTRY_INFO!F134*0.5),IF(COUNTRY_INFO!K134=3,IF(COUNTRY_INFO!F134>MAX('T1'!M134,'T2'!K134),MAX('T1'!M134,'T2'!K134),COUNTRY_INFO!F134),0)))","v":0},{"$f":"IF(AND(COUNTRY_INFO!K134>0,COUNTRY_INFO!K134<4),IF(Z134>0,IF(COUNTRY_INFO!K134=1, AD134/(COUNTRY_INFO!F134*0.33)*100, IF(COUNTRY_INFO!K134=2, AD134/(COUNTRY_INFO!F134*0.5)*100, IF(COUNTRY_INFO!K134=3, AD134/COUNTRY_INFO!F134*100))),\"-\"),0)","v":0},{"$f":"IF(COUNTRY_INFO!K134=2,IF(COUNTRY_INFO!G134*0.2>MAX('T1'!N134,'T2'!L134),MAX('T1'!N134,'T2'!L134),COUNTRY_INFO!G134*0.2),IF(COUNTRY_INFO!K134=3,IF(COUNTRY_INFO!G134>MAX('T1'!N134,'T2'!L134),MAX('T1'!N134,'T2'!L134),COUNTRY_INFO!G134),0))","v":0},{"$f":"IF(AND(COUNTRY_INFO!K134>0,COUNTRY_INFO!K134<4),IF(Z134>0,IF(COUNTRY_INFO!K134=1, 0, IF(COUNTRY_INFO!K134=2, AF134/(COUNTRY_INFO!G134*0.2)*100, IF(COUNTRY_INFO!K134=3, AF134/COUNTRY_INFO!G134*100))),\"-\"),0)","v":0},0,{"$f":"IF(AND(COUNTRY_INFO!K134>0,COUNTRY_INFO!K134<4), IF(AC134/Z134*100<>0, IF(AH134/Z134*100>100,100,AH134/Z134*100), \"-\"),0)","v":"-"},null,{"$f":"IF(AND(D134<>0, D134<>\"Inconnu\",D134<>\"Interrompu\",D134<>\"Non requis\"),D134/COUNTRY_INFO!D134, 0)","v":0},{"$f":"IF(AND(J134<>0,J134<>\"Inconnu\",J134<>\"Interrompu\",J134<>\"Non requis\"),J134/COUNTRY_INFO!D134, 0)","v":0},{"$f":"IF(AND(P134<>0,P134<>\"Inconnu\",P134<>\"Non requis\"),P134/(COUNTRY_INFO!E134+COUNTRY_INFO!F134), 0)","v":0},{"$f":"IF(AND(Z134<>0,Z134<>\"Inconnu\",Z134<>\"Non requis\"),IF(COUNTRY_INFO!K134=1,1,IF(COUNTRY_INFO!K134=2,0.5*COUNTRY_INFO!F134/(0.5*COUNTRY_INFO!F134+0.2*COUNTRY_INFO!G134),IF(COUNTRY_INFO!K134=3,COUNTRY_INFO!F134/(COUNTRY_INFO!F134+COUNTRY_INFO!G134)))),0)","v":1},{"$f":"IF(AND(Z134<>0,Z134<>\"Inconnu\",Z134<>\"Non requis\"),IF(COUNTRY_INFO!K134=1,0,IF(COUNTRY_INFO!K134=2,0.2*COUNTRY_INFO!G134/(0.5*COUNTRY_INFO!F134+0.2*COUNTRY_INFO!G134),IF(COUNTRY_INFO!K134=3,COUNTRY_INFO!G134/(COUNTRY_INFO!F134+COUNTRY_INFO!G134)))),0)","v":0},{"$f":"MAX(COUNTRY_INFO!D134*AK134*PROFILE!$G$7,COUNTRY_INFO!D134*AL134*PROFILE!$G$7)","v":0},{"$f":"MAX(COUNTRY_INFO!D134*AK134*PROFILE!$G$8,COUNTRY_INFO!D134*AL134*PROFILE!$G$8,COUNTRY_INFO!D134*AM134*PROFILE!$G$8)","v":0},{"$f":"MAX(COUNTRY_INFO!D134*AK134*PROFILE!$G$9,COUNTRY_INFO!D134*AL134*PROFILE!$G$9,COUNTRY_INFO!D134*AM134*PROFILE!$G$9,IF(AND(DISTRICT!Z134<>\"Inconnu\",Z134<>\"Non requis\"),COUNTRY_INFO!P134*DISTRICT!AN134,0))","v":4244.79},{"$f":"MAX(COUNTRY_INFO!D134*AK134*PROFILE!$G$10,COUNTRY_INFO!D134*AL134*PROFILE!$G$10,IF(AND(DISTRICT!Z134<>\"Inconnu\",Z134<>\"Non requis\"),COUNTRY_INFO!P134*DISTRICT!AO134,0))","v":0},4244.79,0,{"$f":"MAX('MDA4'!R134,'T1'!L134,'T2'!J134,T3_R1!K134,T3_R2!K134)","v":0},{"$f":"MAX('MDA1'!K134,'MDA4'!S134,'MDA3'!I134,'MDA3'!L134,'T1'!M134,'T2'!K134,T3_R1!L134,T3_R2!L134)","v":0},{"$f":"MAX('MDA1'!L134,'MDA4'!T134,'MDA3'!J134,'MDA3'!M134,'T1'!N134,'T2'!L134,T3_R1!M134,T3_R2!M134)","v":0},0,{"$f":"MAX('MDA4'!R134,T134)","v":0},{"$f":"MAX('MDA1'!K134,'MDA4'!S134,'MDA3'!I134,'MDA3'!L134,V134,AD134)","v":0},{"$f":"MAX('MDA1'!L134,'MDA4'!T134,'MDA3'!J134,'MDA3'!M134,AF134)","v":0},0,0]
[{"$f":"IF(COUNTRY_INFO!A135=0,\" \",COUNTRY_INFO!A135)","v":"Chad"},{"$f":"IF(COUNTRY_INFO!B135=0,\" \",COUNTRY_INFO!B135)","v":"Wadi Fira"},{"$f":"IF(COUNTRY_INFO!C135=0,\" \",COUNTRY_INFO!C135)","v":"Biltine"},{"$f":"COUNTRY_INFO!M135","v":0},null,null,{"$f":"MAX('MDA1'!M135,'MDA4'!U135)","v":0},{"$f":"IF(AND(COUNTRY_INFO!H135>0,COUNTRY_INFO!H135<4),IF(D135>MAX('MDA1'!M135,'MDA4'!U135),MAX('MDA1'!M135,'MDA4'!U135),D135),0)","v":0},{"$f":"IF(AND(COUNTRY_INFO!H135>0,COUNTRY_INFO!H135<4), IF(G135/D135*100<>0, IF(G135/D135*100>100,100,G135/D135*100), \"-\"),0)","v":0},{"$f":"COUNTRY_INFO!N135","v":0},null,null,{"$f":"MAX('MDA1'!M135,MAX('MDA3'!I135,'MDA3'!L135)+MAX('MDA3'!J135,'MDA3'!M135))","v":0},{"$f":"IF(AND(COUNTRY_INFO!I135>0,COUNTRY_INFO!I135<4),IF(J135>MAX('MDA1'!M135,MAX('MDA3'!I135,'MDA3'!L135)+MAX('MDA3'!J135,'MDA3'!M135)),MAX('MDA1'!M135,MAX('MDA3'!I135,'MDA3'!L135)+MAX('MDA3'!J135,'MDA3'!M135)),J135),0)","v":0},{"$f":"IF(AND(COUNTRY_INFO!I135>0,COUNTRY_INFO!I135<4), IF(M135/J135*100<>0, IF(M135/J135*100>100,100,M135/J135*100), \"-\"),0)","v":0},{"$f":"COUNTRY_INFO!O135","v":0},null,null,{"$f":"SUM(MAX('MDA4'!R135, 'T1'!L135, MAX(T3_R1!K135, T3_R2!K135)), MAX('MDA1'!K135, 'MDA4'!S135, 'T1'!M135, MAX(T3_R1!L135, T3_R2!L135)), MAX('MDA1'!L135, 'MDA4'!T135, 'T1'!N135, MAX(T3_R1!M135, T3_R2!M135)))","v":0},{"$f":"IF(AND(COUNTRY_INFO!J135>1,COUNTRY_INFO!J135<4),IF(COUNTRY_INFO!E135>MAX('MDA4'!R135,'T1'!L135,MAX(T3_R1!K135,T3_R2!K135)),MAX('MDA4'!R135,'T1'!L135,MAX(T3_R1!K135,T3_R2!K135)),COUNTRY_INFO!E135),0)","v":0},{"$f":"IF(AND(COUNTRY_INFO!J135>1,COUNTRY_INFO!J135<4), IF(T135/COUNTRY_INFO!E135*100<>0, IF(T135/COUNTRY_INFO!E135*100>100,100,T135/COUNTRY_INFO!E135*100), \"-\"),0)","v":0},{"$f":"IF(AND(COUNTRY_INFO!J135>1,COUNTRY_INFO!J135<4),IF(COUNTRY_INFO!F135>MAX('MDA1'!K135,'MDA4'!S135,'T1'!M135,MAX(T3_R1!L135,T3_R2!L135)),MAX('MDA1'!K135,'MDA4'!S135,'T1'!M135,MAX(T3_R1!L135,T3_R2!L135)),COUNTRY_INFO!F135),0)","v":0},{"$f":"IF(AND(COUNTRY_INFO!J135>1,COUNTRY_INFO!J135<4), IF(V135/COUNTRY_INFO!F135*100<>0, IF(V135/COUNTRY_INFO!F135*100>100,100,V135/COUNTRY_INFO!F135*100), \"-\"),0)","v":0},0,{"$f":"IF(AND(COUNTRY_INFO!J135>1,COUNTRY_INFO!J135<4), IF(S135/P135*100<>0, IF(X135/P135*100>100,100,X135/P135*100), \"-\"),0)","v":0},{"$f":"COUNTRY_INFO!P135","v":14731.53},null,null,{"$f":"MAX('T1'!L135,'T2'!J135)+MAX('T1'!M135,'T2'!K135)+MAX('T1'!N135,'T2'!L135)","v":0},{"$f":"IF(COUNTRY_INFO!K135=1,IF(COUNTRY_INFO!F135*0.33>MAX('T1'!M135,'T2'!K135),MAX('T1'!M135,'T2'!K135),COUNTRY_INFO!F135*0.33),IF(COUNTRY_INFO!K135=2,IF(COUNTRY_INFO!F135*0.5>MAX('T1'!M135,'T2'!K135),MAX('T1'!M135,'T2'!K135),COUNTRY_INFO!F135*0.5),IF(COUNTRY_INFO!K135=3,IF(COUNTRY_INFO!F135>MAX('T1'!M135,'T2'!K135),MAX('T1'!M135,'T2'!K135),COUNTRY_INFO!F135),0)))","v":0},{"$f":"IF(AND(COUNTRY_INFO!K135>0,COUNTRY_INFO!K135<4),IF(Z135>0,IF(COUNTRY_INFO!K135=1, AD135/(COUNTRY_INFO!F135*0.33)*100, IF(COUNTRY_INFO!K135=2, AD135/(COUNTRY_INFO!F135*0.5)*100, IF(COUNTRY_INFO!K135=3, AD135/COUNTRY_INFO!F135*100))),\"-\"),0)","v":0},{"$f":"IF(COUNTRY_INFO!K135=2,IF(COUNTRY_INFO!G135*0.2>MAX('T1'!N135,'T2'!L135),MAX('T1'!N135,'T2'!L135),COUNTRY_INFO!G135*0.2),IF(COUNTRY_INFO!K135=3,IF(COUNTRY_INFO!G135>MAX('T1'!N135,'T2'!L135),MAX('T1'!N135,'T2'!L135),COUNTRY_INFO!G135),0))","v":0},{"$f":"IF(AND(COUNTRY_INFO!K135>0,COUNTRY_INFO!K135<4),IF(Z135>0,IF(COUNTRY_INFO!K135=1, 0, IF(COUNTRY_INFO!K135=2, AF135/(COUNTRY_INFO!G135*0.2)*100, IF(COUNTRY_INFO!K135=3, AF135/COUNTRY_INFO!G135*100))),\"-\"),0)","v":0},0,{"$f":"IF(AND(COUNTRY_INFO!K135>0,COUNTRY_INFO!K135<4), IF(AC135/Z135*100<>0, IF(AH135/Z135*100>100,100,AH135/Z135*100), \"-\"),0)","v":"-"},null,{"$f":"IF(AND(D135<>0, D135<>\"Inconnu\",D135<>\"Interrompu\",D135<>\"Non requis\"),D135/COUNTRY_INFO!D135, 0)","v":0},{"$f":"IF(AND(J135<>0,J135<>\"Inconnu\",J135<>\"Interrompu\",J135<>\"Non requis\"),J135/COUNTRY_INFO!D135, 0)","v":0},{"$f":"IF(AND(P135<>0,P135<>\"Inconnu\",P135<>\"Non requis\"),P135/(COUNTRY_INFO!E135+COUNTRY_INFO!F135), 0)","v":0},{"$f":"IF(AND(Z135<>0,Z135<>\"Inconnu\",Z135<>\"Non requis\"),IF(COUNTRY_INFO!K135=1,1,IF(COUNTRY_INFO!K135=2,0.5*COUNTRY_INFO!F135/(0.5*COUNTRY_INFO!F135+0.2*COUNTRY_INFO!G135),IF(COUNTRY_INFO!K135=3,COUNTRY_INFO!F135/(COUNTRY_INFO!F135+COUNTRY_INFO!G135)))),0)","v":1},{"$f":"IF(AND(Z135<>0,Z135<>\"Inconnu\",Z135<>\"Non requis\"),IF(COUNTRY_INFO!K135=1,0,IF(COUNTRY_INFO!K135=2,0.2*COUNTRY_INFO!G135/(0.5*COUNTRY_INFO!F135+0.2*COUNTRY_INFO!G135),IF(COUNTRY_INFO!K135=3,COUNTRY_INFO!G135/(COUNTRY_INFO!F135+COUNTRY_INFO!G135)))),0)","v":0},{"$f":"MAX(COUNTRY_INFO!D135*AK135*PROFILE!$G$7,COUNTRY_INFO!D135*AL135*PROFILE!$G$7)","v":0},{"$f":"MAX(COUNTRY_INFO!D135*AK135*PROFILE!$G$8,COUNTRY_INFO!D135*AL135*PROFILE!$G$8,COUNTRY_INFO!D135*AM135*PROFILE!$G$8)","v":0},{"$f":"MAX(COUNTRY_INFO!D135*AK135*PROFILE!$G$9,COUNTRY_INFO!D135*AL135*PROFILE!$G$9,COUNTRY_INFO!D135*AM135*PROFILE!$G$9,IF(AND(DISTRICT!Z135<>\"Inconnu\",Z135<>\"Non requis\"),COUNTRY_INFO!P135*DISTRICT!AN135,0))","v":14731.53},{"$f":"MAX(COUNTRY_INFO!D135*AK135*PROFILE!$G$10,COUNTRY_INFO!D135*AL135*PROFILE!$G$10,IF(AND(DISTRICT!Z135<>\"Inconnu\",Z135<>\"Non requis\"),COUNTRY_INFO!P135*DISTRICT!AO135,0))","v":0},14731.53,0,{"$f":"MAX('MDA4'!R135,'T1'!L135,'T2'!J135,T3_R1!K135,T3_R2!K135)","v":0},{"$f":"MAX('MDA1'!K135,'MDA4'!S135,'MDA3'!I135,'MDA3'!L135,'T1'!M135,'T2'!K135,T3_R1!L135,T3_R2!L135)","v":0},{"$f":"MAX('MDA1'!L135,'MDA4'!T135,'MDA3'!J135,'MDA3'!M135,'T1'!N135,'T2'!L135,T3_R1!M135,T3_R2!M135)","v":0},0,{"$f":"MAX('MDA4'!R135,T135)","v":0},{"$f":"MAX('MDA1'!K135,'MDA4'!S135,'MDA3'!I135,'MDA3'!L135,V135,AD135)","v":0},{"$f":"MAX('MDA1'!L135,'MDA4'!T135,'MDA3'!J135,'MDA3'!M135,AF135)","v":0},0,0]
[{"$f":"IF(COUNTRY_INFO!A136=0,\" \",COUNTRY_INFO!A136)","v":"Chad"},{"$f":"IF(COUNTRY_INFO!B136=0,\" \",COUNTRY_INFO!B136)","v":"Wadi Fira"},{"$f":"IF(COUNTRY_INFO!C136=0,\" \",COUNTRY_INFO!C136)","v":"Guéréda"},{"$f":"COUNTRY_INFO!M136","v":0},null,null,{"$f":"MAX('MDA1'!M136,'MDA4'!U136)","v":0},{"$f":"IF(AND(COUNTRY_INFO!H136>0,COUNTRY_INFO!H136<4),IF(D136>MAX('MDA1'!M136,'MDA4'!U136),MAX('MDA1'!M136,'MDA4'!U136),D136),0)","v":0},{"$f":"IF(AND(COUNTRY_INFO!H136>0,COUNTRY_INFO!H136<4), IF(G136/D136*100<>0, IF(G136/D136*100>100,100,G136/D136*100), \"-\"),0)","v":0},{"$f":"COUNTRY_INFO!N136","v":0},null,null,{"$f":"MAX('MDA1'!M136,MAX('MDA3'!I136,'MDA3'!L136)+MAX('MDA3'!J136,'MDA3'!M136))","v":0},{"$f":"IF(AND(COUNTRY_INFO!I136>0,COUNTRY_INFO!I136<4),IF(J136>MAX('MDA1'!M136,MAX('MDA3'!I136,'MDA3'!L136)+MAX('MDA3'!J136,'MDA3'!M136)),MAX('MDA1'!M136,MAX('MDA3'!I136,'MDA3'!L136)+MAX('MDA3'!J136,'MDA3'!M136)),J136),0)","v":0},{"$f":"IF(AND(COUNTRY_INFO!I136>0,COUNTRY_INFO!I136<4), IF(M136/J136*100<>0, IF(M136/J136*100>100,100,M136/J136*100), \"-\"),0)","v":0},{"$f":"COUNTRY_INFO!O136","v":0},null,null,{"$f":"SUM(MAX('MDA4'!R136, 'T1'!L136, MAX(T3_R1!K136, T3_R2!K136)), MAX('MDA1'!K136, 'MDA4'!S136, 'T1'!M136, MAX(T3_R1!L136, T3_R2!L136)), MAX('MDA1'!L136, 'MDA4'!T136, 'T1'!N136, MAX(T3_R1!M136, T3_R2!M136)))","v":0},{"$f":"IF(AND(COUNTRY_INFO!J136>1,COUNTRY_INFO!J136<4),IF(COUNTRY_INFO!E136>MAX('MDA4'!R136,'T1'!L136,MAX(T3_R1!K136,T3_R2!K136)),MAX('MDA4'!R136,'T1'!L136,MAX(T3_R1!K136,T3_R2!K136)),COUNTRY_INFO!E136),0)","v":0},{"$f":"IF(AND(COUNTRY_INFO!J136>1,COUNTRY_INFO!J136<4), IF(T136/COUNTRY_INFO!E136*100<>0, IF(T136/COUNTRY_INFO!E136*100>100,100,T136/COUNTRY_INFO!E136*100), \"-\"),0)","v":0},{"$f":"IF(AND(COUNTRY_INFO!J136>1,COUNTRY_INFO!J136<4),IF(COUNTRY_INFO!F136>MAX('MDA1'!K136,'MDA4'!S136,'T1'!M136,MAX(T3_R1!L136,T3_R2!L136)),MAX('MDA1'!K136,'MDA4'!S136,'T1'!M136,MAX(T3_R1!L136,T3_R2!L136)),COUNTRY_INFO!F136),0)","v":0},{"$f":"IF(AND(COUNTRY_INFO!J136>1,COUNTRY_INFO!J136<4), IF(V136/COUNTRY_INFO!F136*100<>0, IF(V136/COUNTRY_INFO!F136*100>100,100,V136/COUNTRY_INFO!F136*100), \"-\"),0)","v":0},0,{"$f":"IF(AND(COUNTRY_INFO!J136>1,COUNTRY_INFO!J136<4), IF(S136/P136*100<>0, IF(X136/P136*100>100,100,X136/P136*100), \"-\"),0)","v":0},{"$f":"COUNTRY_INFO!P136","v":10966.230000000001},null,null,{"$f":"MAX('T1'!L136,'T2'!J136)+MAX('T1'!M136,'T2'!K136)+MAX('T1'!N136,'T2'!L136)","v":0},{"$f":"IF(COUNTRY_INFO!K136=1,IF(COUNTRY_INFO!F136*0.33>MAX('T1'!M136,'T2'!K136),MAX('T1'!M136,'T2'!K136),COUNTRY_INFO!F136*0.33),IF(COUNTRY_INFO!K136=2,IF(COUNTRY_INFO!F136*0.5>MAX('T1'!M136,'T2'!K136),MAX('T1'!M136,'T2'!K136),COUNTRY_INFO!F136*0.5),IF(COUNTRY_INFO!K136=3,IF(COUNTRY_INFO!F136>MAX('T1'!M136,'T2'!K136),MAX('T1'!M136,'T2'!K136),COUNTRY_INFO!F136),0)))","v":0},{"$f":"IF(AND(COUNTRY_INFO!K136>0,COUNTRY_INFO!K136<4),IF(Z136>0,IF(COUNTRY_INFO!K136=1, AD136/(COUNTRY_INFO!F136*0.33)*100, IF(COUNTRY_INFO!K136=2, AD136/(COUNTRY_INFO!F136*0.5)*100, IF(COUNTRY_INFO!K136=3, AD136/COUNTRY_INFO!F136*100))),\"-\"),0)","v":0},{"$f":"IF(COUNTRY_INFO!K136=2,IF(COUNTRY_INFO!G136*0.2>MAX('T1'!N136,'T2'!L136),MAX('T1'!N136,'T2'!L136),COUNTRY_INFO!G136*0.2),IF(COUNTRY_INFO!K136=3,IF(COUNTRY_INFO!G136>MAX('T1'!N136,'T2'!L136),MAX('T1'!N136,'T2'!L136),COUNTRY_INFO!G136),0))","v":0},{"$f":"IF(AND(COUNTRY_INFO!K136>0,COUNTRY_INFO!K136<4),IF(Z136>0,IF(COUNTRY_INFO!K136=1, 0, IF(COUNTRY_INFO!K136=2, AF136/(COUNTRY_INFO!G136*0.2)*100, IF(COUNTRY_INFO!K136=3, AF136/COUNTRY_INFO!G136*100))),\"-\"),0)","v":0},0,{"$f":"IF(AND(COUNTRY_INFO!K136>0,COUNTRY_INFO!K136<4), IF(AC136/Z136*100<>0, IF(AH136/Z136*100>100,100,AH136/Z136*100), \"-\"),0)","v":"-"},null,{"$f":"IF(AND(D136<>0, D136<>\"Inconnu\",D136<>\"Interrompu\",D136<>\"Non requis\"),D136/COUNTRY_INFO!D136, 0)","v":0},{"$f":"IF(AND(J136<>0,J136<>\"Inconnu\",J136<>\"Interrompu\",J136<>\"Non requis\"),J136/COUNTRY_INFO!D136, 0)","v":0},{"$f":"IF(AND(P136<>0,P136<>\"Inconnu\",P136<>\"Non requis\"),P136/(COUNTRY_INFO!E136+COUNTRY_INFO!F136), 0)","v":0},{"$f":"IF(AND(Z136<>0,Z136<>\"Inconnu\",Z136<>\"Non requis\"),IF(COUNTRY_INFO!K136=1,1,IF(COUNTRY_INFO!K136=2,0.5*COUNTRY_INFO!F136/(0.5*COUNTRY_INFO!F136+0.2*COUNTRY_INFO!G136),IF(COUNTRY_INFO!K136=3,COUNTRY_INFO!F136/(COUNTRY_INFO!F136+COUNTRY_INFO!G136)))),0)","v":1},{"$f":"IF(AND(Z136<>0,Z136<>\"Inconnu\",Z136<>\"Non requis\"),IF(COUNTRY_INFO!K136=1,0,IF(COUNTRY_INFO!K136=2,0.2*COUNTRY_INFO!G136/(0.5*COUNTRY_INFO!F136+0.2*COUNTRY_INFO!G136),IF(COUNTRY_INFO!K136=3,COUNTRY_INFO!G136/(COUNTRY_INFO!F136+COUNTRY_INFO!G136)))),0)","v":0},{"$f":"MAX(COUNTRY_INFO!D136*AK136*PROFILE!$G$7,COUNTRY_INFO!D136*AL136*PROFILE!$G$7)","v":0},{"$f":"MAX(COUNTRY_INFO!D136*AK136*PROFILE!$G$8,COUNTRY_INFO!D136*AL136*PROFILE!$G$8,COUNTRY_INFO!D136*AM136*PROFILE!$G$8)","v":0},{"$f":"MAX(COUNTRY_INFO!D136*AK136*PROFILE!$G$9,COUNTRY_INFO!D136*AL136*PROFILE!$G$9,COUNTRY_INFO!D136*AM136*PROFILE!$G$9,IF(AND(DISTRICT!Z136<>\"Inconnu\",Z136<>\"Non requis\"),COUNTRY_INFO!P136*DISTRICT!AN136,0))","v":10966.230000000001},{"$f":"MAX(COUNTRY_INFO!D136*AK136*PROFILE!$G$10,COUNTRY_INFO!D136*AL136*PROFILE!$G$10,IF(AND(DISTRICT!Z136<>\"Inconnu\",Z136<>\"Non requis\"),COUNTRY_INFO!P136*DISTRICT!AO136,0))","v":0},10966.230000000001,0,{"$f":"MAX('MDA4'!R136,'T1'!L136,'T2'!J136,T3_R1!K136,T3_R2!K136)","v":0},{"$f":"MAX('MDA1'!K136,'MDA4'!S136,'MDA3'!I136,'MDA3'!L136,'T1'!M136,'T2'!K136,T3_R1!L136,T3_R2!L136)","v":0},{"$f":"MAX('MDA1'!L136,'MDA4'!T136,'MDA3'!J136,'MDA3'!M136,'T1'!N136,'T2'!L136,T3_R1!M136,T3_R2!M136)","v":0},0,{"$f":"MAX('MDA4'!R136,T136)","v":0},{"$f":"MAX('MDA1'!K136,'MDA4'!S136,'MDA3'!I136,'MDA3'!L136,V136,AD136)","v":0},{"$f":"MAX('MDA1'!L136,'MDA4'!T136,'MDA3'!J136,'MDA3'!M136,AF136)","v":0},0,0]
[{"$f":"IF(COUNTRY_INFO!A137=0,\" \",COUNTRY_INFO!A137)","v":"Chad"},{"$f":"IF(COUNTRY_INFO!B137=0,\" \",COUNTRY_INFO!B137)","v":"Wadi Fira"},{"$f":"IF(COUNTRY_INFO!C137=0,\" \",COUNTRY_INFO!C137)","v":"Iriba"},{"$f":"COUNTRY_INFO!M137","v":0},null,null,{"$f":"MAX('MDA1'!M137,'MDA4'!U137)","v":0},{"$f":"IF(AND(COUNTRY_INFO!H137>0,COUNTRY_INFO!H137<4),IF(D137>MAX('MDA1'!M137,'MDA4'!U137),MAX('MDA1'!M137,'MDA4'!U137),D137),0)","v":0},{"$f":"IF(AND(COUNTRY_INFO!H137>0,COUNTRY_INFO!H137<4), IF(G137/D137*100<>0, IF(G137/D137*100>100,100,G137/D137*100), \"-\"),0)","v":0},{"$f":"COUNTRY_INFO!N137","v":0},null,null,{"$f":"MAX('MDA1'!M137,MAX('MDA3'!I137,'MDA3'!L137)+MAX('MDA3'!J137,'MDA3'!M137))","v":0},{"$f":"IF(AND(COUNTRY_INFO!I137>0,COUNTRY_INFO!I137<4),IF(J137>MAX('MDA1'!M137,MAX('MDA3'!I137,'MDA3'!L137)+MAX('MDA3'!J137,'MDA3'!M137)),MAX('MDA1'!M137,MAX('MDA3'!I137,'MDA3'!L137)+MAX('MDA3'!J137,'MDA3'!M137)),J137),0)","v":0},{"$f":"IF(AND(COUNTRY_INFO!I137>0,COUNTRY_INFO!I137<4), IF(M137/J137*100<>0, IF(M137/J137*100>100,100,M137/J137*100), \"-\"),0)","v":0},{"$f":"COUNTRY_INFO!O137","v":0},null,null,{"$f":"SUM(MAX('MDA4'!R137, 'T1'!L137, MAX(T3_R1!K137, T3_R2!K137)), MAX('MDA1'!K137, 'MDA4'!S137, 'T1'!M137, MAX(T3_R1!L137, T3_R2!L137)), MAX('MDA1'!L137, 'MDA4'!T137, 'T1'!N137, MAX(T3_R1!M137, T3_R2!M137)))","v":0},{"$f":"IF(AND(COUNTRY_INFO!J137>1,COUNTRY_INFO!J137<4),IF(COUNTRY_INFO!E137>MAX('MDA4'!R137,'T1'!L137,MAX(T3_R1!K137,T3_R2!K137)),MAX('MDA4'!R137,'T1'!L137,MAX(T3_R1!K137,T3_R2!K137)),COUNTRY_INFO!E137),0)","v":0},{"$f":"IF(AND(COUNTRY_INFO!J137>1,COUNTRY_INFO!J137<4), IF(T137/COUNTRY_INFO!E137*100<>0, IF(T137/COUNTRY_INFO!E137*100>100,100,T137/COUNTRY_INFO!E137*100), \"-\"),0)","v":0},{"$f":"IF(AND(COUNTRY_INFO!J137>1,COUNTRY_INFO!J137<4),IF(COUNTRY_INFO!F137>MAX('MDA1'!K137,'MDA4'!S137,'T1'!M137,MAX(T3_R1!L137,T3_R2!L137)),MAX('MDA1'!K137,'MDA4'!S137,'T1'!M137,MAX(T3_R1!L137,T3_R2!L137)),COUNTRY_INFO!F137),0)","v":0},{"$f":"IF(AND(COUNTRY_INFO!J137>1,COUNTRY_INFO!J137<4), IF(V137/COUNTRY_INFO!F137*100<>0, IF(V137/COUNTRY_INFO!F137*100>100,100,V137/COUNTRY_INFO!F137*100), \"-\"),0)","v":0},0,{"$f":"IF(AND(COUNTRY_INFO!J137>1,COUNTRY_INFO!J137<4), IF(S137/P137*100<>0, IF(X137/P137*100>100,100,X137/P137*100), \"-\"),0)","v":0},{"$f":"COUNTRY_INFO!P137","v":0},null,null,{"$f":"MAX('T1'!L137,'T2'!J137)+MAX('T1'!M137,'T2'!K137)+MAX('T1'!N137,'T2'!L137)","v":0},{"$f":"IF(COUNTRY_INFO!K137=1,IF(COUNTRY_INFO!F137*0.33>MAX('T1'!M137,'T2'!K137),MAX('T1'!M137,'T2'!K137),COUNTRY_INFO!F137*0.33),IF(COUNTRY_INFO!K137=2,IF(COUNTRY_INFO!F137*0.5>MAX('T1'!M137,'T2'!K137),MAX('T1'!M137,'T2'!K137),COUNTRY_INFO!F137*0.5),IF(COUNTRY_INFO!K137=3,IF(COUNTRY_INFO!F137>MAX('T1'!M137,'T2'!K137),MAX('T1'!M137,'T2'!K137),COUNTRY_INFO!F137),0)))","v":0},{"$f":"IF(AND(COUNTRY_INFO!K137>0,COUNTRY_INFO!K137<4),IF(Z137>0,IF(COUNTRY_INFO!K137=1, AD137/(COUNTRY_INFO!F137*0.33)*100, IF(COUNTRY_INFO!K137=2, AD137/(COUNTRY_INFO!F137*0.5)*100, IF(COUNTRY_INFO!K137=3, AD137/COUNTRY_INFO!F137*100))),\"-\"),0)","v":0},{"$f":"IF(COUNTRY_INFO!K137=2,IF(COUNTRY_INFO!G137*0.2>MAX('T1'!N137,'T2'!L137),MAX('T1'!N137,'T2'!L137),COUNTRY_INFO!G137*0.2),IF(COUNTRY_INFO!K137=3,IF(COUNTRY_INFO!G137>MAX('T1'!N137,'T2'!L137),MAX('T1'!N137,'T2'!L137),COUNTRY_INFO!G137),0))","v":0},{"$f":"IF(AND(COUNTRY_INFO!K137>0,COUNTRY_INFO!K137<4),IF(Z137>0,IF(COUNTRY_INFO!K137=1, 0, IF(COUNTRY_INFO!K137=2, AF137/(COUNTRY_INFO!G137*0.2)*100, IF(COUNTRY_INFO!K137=3, AF137/COUNTRY_INFO!G137*100))),\"-\"),0)","v":0},0,{"$f":"IF(AND(COUNTRY_INFO!K137>0,COUNTRY_INFO!K137<4), IF(AC137/Z137*100<>0, IF(AH137/Z137*100>100,100,AH137/Z137*100), \"-\"),0)","v":0},null,{"$f":"IF(AND(D137<>0, D137<>\"Inconnu\",D137<>\"Interrompu\",D137<>\"Non requis\"),D137/COUNTRY_INFO!D137, 0)","v":0},{"$f":"IF(AND(J137<>0,J137<>\"Inconnu\",J137<>\"Interrompu\",J137<>\"Non requis\"),J137/COUNTRY_INFO!D137, 0)","v":0},{"$f":"IF(AND(P137<>0,P137<>\"Inconnu\",P137<>\"Non requis\"),P137/(COUNTRY_INFO!E137+COUNTRY_INFO!F137), 0)","v":0},{"$f":"IF(AND(Z137<>0,Z137<>\"Inconnu\",Z137<>\"Non requis\"),IF(COUNTRY_INFO!K137=1,1,IF(COUNTRY_INFO!K137=2,0.5*COUNTRY_INFO!F137/(0.5*COUNTRY_INFO!F137+0.2*COUNTRY_INFO!G137),IF(COUNTRY_INFO!K137=3,COUNTRY_INFO!F137/(COUNTRY_INFO!F137+COUNTRY_INFO!G137)))),0)","v":0},{"$f":"IF(AND(Z137<>0,Z137<>\"Inconnu\",Z137<>\"Non requis\"),IF(COUNTRY_INFO!K137=1,0,IF(COUNTRY_INFO!K137=2,0.2*COUNTRY_INFO!G137/(0.5*COUNTRY_INFO!F137+0.2*COUNTRY_INFO!G137),IF(COUNTRY_INFO!K137=3,COUNTRY_INFO!G137/(COUNTRY_INFO!F137+COUNTRY_INFO!G137)))),0)","v":0},{"$f":"MAX(COUNTRY_INFO!D137*AK137*PROFILE!$G$7,COUNTRY_INFO!D137*AL137*PROFILE!$G$7)","v":0},{"$f":"MAX(COUNTRY_INFO!D137*AK137*PROFILE!$G$8,COUNTRY_INFO!D137*AL137*PROFILE!$G$8,COUNTRY_INFO!D137*AM137*PROFILE!$G$8)","v":0},{"$f":"MAX(COUNTRY_INFO!D137*AK137*PROFILE!$G$9,COUNTRY_INFO!D137*AL137*PROFILE!$G$9,COUNTRY_INFO!D137*AM137*PROFILE!$G$9,IF(AND(DISTRICT!Z137<>\"Inconnu\",Z137<>\"Non requis\"),COUNTRY_INFO!P137*DISTRICT!AN137,0))","v":0},{"$f":"MAX(COUNTRY_INFO!D137*AK137*PROFILE!$G$10,COUNTRY_INFO!D137*AL137*PROFILE!$G$10,IF(AND(DISTRICT!Z137<>\"Inconnu\",Z137<>\"Non requis\"),COUNTRY_INFO!P137*DISTRICT!AO137,0))","v":0},0,0,{"$f":"MAX('MDA4'!R137,'T1'!L137,'T2'!J137,T3_R1!K137,T3_R2!K137)","v":0},{"$f":"MAX('MDA1'!K137,'MDA4'!S137,'MDA3'!I137,'MDA3'!L137,'T1'!M137,'T2'!K137,T3_R1!L137,T3_R2!L137)","v":0},{"$f":"MAX('MDA1'!L137,'MDA4'!T137,'MDA3'!J137,'MDA3'!M137,'T1'!N137,'T2'!L137,T3_R1!M137,T3_R2!M137)","v":0},0,{"$f":"MAX('MDA4'!R137,T137)","v":0},{"$f":"MAX('MDA1'!K137,'MDA4'!S137,'MDA3'!I137,'MDA3'!L137,V137,AD137)","v":0},{"$f":"MAX('MDA1'!L137,'MDA4'!T137,'MDA3'!J137,'MDA3'!M137,AF137)","v":0},{"$f":"IF(AT137<SUM(AZ137:BB137), AT137,SUM(AZ137:BB137))","v":0},{"$f":"IF(AT137<>0,BC137/AT137*100,0)","v":0}]
[{"$f":"IF(COUNTRY_INFO!A138=0,\" \",COUNTRY_INFO!A138)","v":"Chad"},{"$f":"IF(COUNTRY_INFO!B138=0,\" \",COUNTRY_INFO!B138)","v":"Wadi Fira"},{"$f":"IF(COUNTRY_INFO!C138=0,\" \",COUNTRY_INFO!C138)","v":"Matadjana"},{"$f":"COUNTRY_INFO!M138","v":0},null,null,{"$f":"MAX('MDA1'!M138,'MDA4'!U138)","v":0},{"$f":"IF(AND(COUNTRY_INFO!H138>0,COUNTRY_INFO!H138<4),IF(D138>MAX('MDA1'!M138,'MDA4'!U138),MAX('MDA1'!M138,'MDA4'!U138),D138),0)","v":0},{"$f":"IF(AND(COUNTRY_INFO!H138>0,COUNTRY_INFO!H138<4), IF(G138/D138*100<>0, IF(G138/D138*100>100,100,G138/D138*100), \"-\"),0)","v":0},{"$f":"COUNTRY_INFO!N138","v":0},null,null,{"$f":"MAX('MDA1'!M138,MAX('MDA3'!I138,'MDA3'!L138)+MAX('MDA3'!J138,'MDA3'!M138))","v":0},{"$f":"IF(AND(COUNTRY_INFO!I138>0,COUNTRY_INFO!I138<4),IF(J138>MAX('MDA1'!M138,MAX('MDA3'!I138,'MDA3'!L138)+MAX('MDA3'!J138,'MDA3'!M138)),MAX('MDA1'!M138,MAX('MDA3'!I138,'MDA3'!L138)+MAX('MDA3'!J138,'MDA3'!M138)),J138),0)","v":0},{"$f":"IF(AND(COUNTRY_INFO!I138>0,COUNTRY_INFO!I138<4), IF(M138/J138*100<>0, IF(M138/J138*100>100,100,M138/J138*100), \"-\"),0)","v":0},{"$f":"COUNTRY_INFO!O138","v":0},null,null,{"$f":"SUM(MAX('MDA4'!R138, 'T1'!L138, MAX(T3_R1!K138, T3_R2!K138)), MAX('MDA1'!K138, 'MDA4'!S138, 'T1'!M138, MAX(T3_R1!L138, T3_R2!L138)), MAX('MDA1'!L138, 'MDA4'!T138, 'T1'!N138, MAX(T3_R1!M138, T3_R2!M138)))","v":0},{"$f":"IF(AND(COUNTRY_INFO!J138>1,COUNTRY_INFO!J138<4),IF(COUNTRY_INFO!E138>MAX('MDA4'!R138,'T1'!L138,MAX(T3_R1!K138,T3_R2!K138)),MAX('MDA4'!R138,'T1'!L138,MAX(T3_R1!K138,T3_R2!K138)),COUNTRY_INFO!E138),0)","v":0},{"$f":"IF(AND(COUNTRY_INFO!J138>1,COUNTRY_INFO!J138<4), IF(T138/COUNTRY_INFO!E138*100<>0, IF(T138/COUNTRY_INFO!E138*100>100,100,T138/COUNTRY_INFO!E138*100), \"-\"),0)","v":0},{"$f":"IF(AND(COUNTRY_INFO!J138>1,COUNTRY_INFO!J138<4),IF(COUNTRY_INFO!F138>MAX('MDA1'!K138,'MDA4'!S138,'T1'!M138,MAX(T3_R1!L138,T3_R2!L138)),MAX('MDA1'!K138,'MDA4'!S138,'T1'!M138,MAX(T3_R1!L138,T3_R2!L138)),COUNTRY_INFO!F138),0)","v":0},{"$f":"IF(AND(COUNTRY_INFO!J138>1,COUNTRY_INFO!J138<4), IF(V138/COUNTRY_INFO!F138*100<>0, IF(V138/COUNTRY_INFO!F138*100>100,100,V138/COUNTRY_INFO!F138*100), \"-\"),0)","v":0},{"$f":"SUM(T138,V138)","v":0},{"$f":"IF(AND(COUNTRY_INFO!J138>1,COUNTRY_INFO!J138<4), IF(S138/P138*100<>0, IF(X138/P138*100>100,100,X138/P138*100), \"-\"),0)","v":0},{"$f":"COUNTRY_INFO!P138","v":3179.55},null,null,{"$f":"MAX('T1'!L138,'T2'!J138)+MAX('T1'!M138,'T2'!K138)+MAX('T1'!N138,'T2'!L138)","v":0},{"$f":"IF(COUNTRY_INFO!K138=1,IF(COUNTRY_INFO!F138*0.33>MAX('T1'!M138,'T2'!K138),MAX('T1'!M138,'T2'!K138),COUNTRY_INFO!F138*0.33),IF(COUNTRY_INFO!K138=2,IF(COUNTRY_INFO!F138*0.5>MAX('T1'!M138,'T2'!K138),MAX('T1'!M138,'T2'!K138),COUNTRY_INFO!F138*0.5),IF(COUNTRY_INFO!K138=3,IF(COUNTRY_INFO!F138>MAX('T1'!M138,'T2'!K138),MAX('T1'!M138,'T2'!K138),COUNTRY_INFO!F138),0)))","v":0},{"$f":"IF(AND(COUNTRY_INFO!K138>0,COUNTRY_INFO!K138<4),IF(Z138>0,IF(COUNTRY_INFO!K138=1, AD138/(COUNTRY_INFO!F138*0.33)*100, IF(COUNTRY_INFO!K138=2, AD138/(COUNTRY_INFO!F138*0.5)*100, IF(COUNTRY_INFO!K138=3, AD138/COUNTRY_INFO!F138*100))),\"-\"),0)","v":0},{"$f":"IF(COUNTRY_INFO!K138=2,IF(COUNTRY_INFO!G138*0.2>MAX('T1'!N138,'T2'!L138),MAX('T1'!N138,'T2'!L138),COUNTRY_INFO!G138*0.2),IF(COUNTRY_INFO!K138=3,IF(COUNTRY_INFO!G138>MAX('T1'!N138,'T2'!L138),MAX('T1'!N138,'T2'!L138),COUNTRY_INFO!G138),0))","v":0},{"$f":"IF(AND(COUNTRY_INFO!K138>0,COUNTRY_INFO!K138<4),IF(Z138>0,IF(COUNTRY_INFO!K138=1, 0, IF(COUNTRY_INFO!K138=2, AF138/(COUNTRY_INFO!G138*0.2)*100, IF(COUNTRY_INFO!K138=3, AF138/COUNTRY_INFO!G138*100))),\"-\"),0)","v":0},{"$f":"SUM(AD138,AF138)","v":0},{"$f":"IF(AND(COUNTRY_INFO!K138>0,COUNTRY_INFO!K138<4), IF(AC138/Z138*100<>0, IF(AH138/Z138*100>100,100,AH138/Z138*100), \"-\"),0)","v":"-"},null,{"$f":"IF(AND(D138<>0, D138<>\"Inconnu\",D138<>\"Interrompu\",D138<>\"Non requis\"),D138/COUNTRY_INFO!D138, 0)","v":0},{"$f":"IF(AND(J138<>0,J138<>\"Inconnu\",J138<>\"Interrompu\",J138<>\"Non requis\"),J138/COUNTRY_INFO!D138, 0)","v":0},{"$f":"IF(AND(P138<>0,P138<>\"Inconnu\",P138<>\"Non requis\"),P138/(COUNTRY_INFO!E138+COUNTRY_INFO!F138), 0)","v":0},{"$f":"IF(AND(Z138<>0,Z138<>\"Inconnu\",Z138<>\"Non requis\"),IF(COUNTRY_INFO!K138=1,1,IF(COUNTRY_INFO!K138=2,0.5*COUNTRY_INFO!F138/(0.5*COUNTRY_INFO!F138+0.2*COUNTRY_INFO!G138),IF(COUNTRY_INFO!K138=3,COUNTRY_INFO!F138/(COUNTRY_INFO!F138+COUNTRY_INFO!G138)))),0)","v":1},{"$f":"IF(AND(Z138<>0,Z138<>\"Inconnu\",Z138<>\"Non requis\"),IF(COUNTRY_INFO!K138=1,0,IF(COUNTRY_INFO!K138=2,0.2*COUNTRY_INFO!G138/(0.5*COUNTRY_INFO!F138+0.2*COUNTRY_INFO!G138),IF(COUNTRY_INFO!K138=3,COUNTRY_INFO!G138/(COUNTRY_INFO!F138+COUNTRY_INFO!G138)))),0)","v":0},{"$f":"MAX(COUNTRY_INFO!D138*AK138*PROFILE!$G$7,COUNTRY_INFO!D138*AL138*PROFILE!$G$7)","v":0},{"$f":"MAX(COUNTRY_INFO!D138*AK138*PROFILE!$G$8,COUNTRY_INFO!D138*AL138*PROFILE!$G$8,COUNTRY_INFO!D138*AM138*PROFILE!$G$8)","v":0},{"$f":"MAX(COUNTRY_INFO!D138*AK138*PROFILE!$G$9,COUNTRY_INFO!D138*AL138*PROFILE!$G$9,COUNTRY_INFO!D138*AM138*PROFILE!$G$9,IF(AND(DISTRICT!Z138<>\"Inconnu\",Z138<>\"Non requis\"),COUNTRY_INFO!P138*DISTRICT!AN138,0))","v":3179.55},{"$f":"MAX(COUNTRY_INFO!D138*AK138*PROFILE!$G$10,COUNTRY_INFO!D138*AL138*PROFILE!$G$10,IF(AND(DISTRICT!Z138<>\"Inconnu\",Z138<>\"Non requis\"),COUNTRY_INFO!P138*DISTRICT!AO138,0))","v":0},{"$f":"SUM(AP138:AS138)","v":3179.55},0,{"$f":"MAX('MDA4'!R138,'T1'!L138,'T2'!J138,T3_R1!K138,T3_R2!K138)","v":0},{"$f":"MAX('MDA1'!K138,'MDA4'!S138,'MDA3'!I138,'MDA3'!L138,'T1'!M138,'T2'!K138,T3_R1!L138,T3_R2!L138)","v":0},{"$f":"MAX('MDA1'!L138,'MDA4'!T138,'MDA3'!J138,'MDA3'!M138,'T1'!N138,'T2'!L138,T3_R1!M138,T3_R2!M138)","v":0},{"$f":"SUM(AV138:AX138)","v":0},{"$f":"MAX('MDA4'!R138,T138)","v":0},{"$f":"MAX('MDA1'!K138,'MDA4'!S138,'MDA3'!I138,'MDA3'!L138,V138,AD138)","v":0},{"$f":"MAX('MDA1'!L138,'MDA4'!T138,'MDA3'!J138,'MDA3'!M138,AF138)","v":0},0,0]

{"sheet":"SUMMARY","index":10,"n_rows":71,"n_cols":8,"rows_kept":71,"cut":false,"hidden":false,"merged":[[70,1,70,2],[36,1,36,2],[37,1,37,2],[38,1,38,2],[67,1,67,7],[54,1,60,7],[69,1,69,2],[49,1,49,7],[50,3,50,4],[63,1,63,3],[63,4,63,7],[64,4,65,7],[65,1,65,3],[62,1,62,7],[32,1,32,2],[33,1,33,2],[34,1,34,2],[35,1,35,2],[23,1,23,5],[31,1,31,2],[24,1,24,5],[25,1,25,5],[26,1,26,5],[27,1,27,5],[15,1,15,3],[1,1,1,7],[5,1,11,7],[3,3,3,5],[0,3,0,7]]}
[null,null,null,"Cette version sera utilisée par les pays endémiques à la Loase"]
[null,"Formulaire de Rapport Commun v.3.1 (L)"]
[]
[null,"Pays",null,{"$f":"IF(INTRO!$E$34<>0,INTRO!$E$34,\" \")","v":"Chad"},null,null,"Année",{"$f":"IF(INTRO!$E$36<>0,INTRO!$E$36,\" \")","v":2021}]
[]
[null,"Les autorités nationales sont priées de compléter ce formulaire de rapport commun et de le soumettre à l'Organisation mondiale de la Santé avant le 15 août de l'année en cours pour rapporter les données des activités de chimioprévention mises en oeuvre l'année précédente. "]
[]
[]
[]
[]
[]
[]
[]
[null,"Nombre de personnes ayant reçu un traitement (au moins une fois) pour les maladies"]
[]
[null,null,null,null,"EAPréS","EAS","Adultes","Total"]
[null,"Filariose lymphatique",null,null,0,1576097,2614605,{"$f":"SUM(E17:G17)","v":4190702}]
[null,"Onchocercose",null,null,"Not eligible",2099202,3534817,{"$f":"SUM(E18:G18)","v":5634019}]
[null,"Géohelminthiases",null,null,0,2020245,2614605,{"$f":"SUM(E19:G19)","v":4634850}]
[null,"Schistosomiase",null,null,"Not targeted",1887341,0,{"$f":"SUM(E20:G20)","v":1887341}]
[]
[null,"Couverture des interventions de CP contre les maladies (%) "]
[]
[null,null,null,null,null,null,"Géographique","National"]
[null,"Filariose lymphatique",null,null,null,null,100,77.679028044104655]
[null,"Onchocercose",null,null,null,null,100,77.576730580625338]
[null,"Géohelminthiases",null,null,null,null,66.666666666666671,35.870286649546692]
[null,"Schistosomiase",null,null,null,null,41.525423728813557,25.697301006530527]
[]
[null,"Nombre de personnes traitées et couverture du programme en pourcentage, par intervention de CP"]
[]
[null,null,null,"EAPréS","EAS","Adultes","Total","Couverture"]
[null,"MDA 1 (IVM+ALB)",null,"Non admissible",{"$f":"'MDA1'!$K$4","v":1576097},{"$f":"'MDA1'!$L$4","v":2614605},{"$f":"'MDA1'!$M$4","v":4190702},{"$f":"'MDA1'!$Q$4","v":97.43038439961434}]
[null,"MDA 4 (ALB/2*ALB)",null,{"$f":"'MDA4'!$R$4","v":0},{"$f":"'MDA4'!$S$4","v":0},{"$f":"'MDA4'!$T$4","v":0},{"$f":"'MDA4'!$U$4","v":0},{"$f":"'MDA4'!$Y$4","v":" "}]
[null,"MDA 3 (IVM)",null,"Non admissible",{"$f":"'MDA3'!$O$4","v":523105},{"$f":"'MDA3'!$P$4","v":920212},{"$f":"'MDA3'!$Q$4","v":1443317},{"$f":"'MDA3'!$T$4","v":93.908052782561796}]
[null,"T 1 (PZQ+ALB/MBD)",null,{"$f":"IF('T1'!$L$4<>0,'T1'!$L$4,\"Non ciblé\")","v":"Non ciblé"},{"$f":"'T1'!$M$4","v":471269},{"$f":"IF('T1'!$N$4<>0,'T1'!$N$4,\"Non ciblé\")","v":"Non ciblé"},{"$f":"'T1'!$O$4","v":471269},{"$f":"'T1'!$S$4","v":96.638648569395542}]
[null,"T 2 (PZQ)",null,{"$f":"IF('T2'!$J$4<>0,'T2'!$J$4,\"Non ciblé\")","v":"Non ciblé"},{"$f":"'T2'!$K$4","v":1416072},{"$f":"'T2'!$L$4","v":0},{"$f":"'T2'!$M$4","v":1416072},{"$f":"'T2'!$Q$4","v":89.696169674228159}]
[null,"T 3 (ALB/MBD) - tournée 1",null,{"$f":"T3_R1!$K$4","v":0},{"$f":"T3_R1!$L$4","v":0},{"$f":"IF(T3_R1!$M$4<>0,T3_R1!$M$4,\"Non ciblé\")","v":"Non ciblé"},{"$f":"T3_R1!$N$4","v":0},{"$f":"T3_R1!$R$4","v":" "}]
[null,"T 3 (ALB/MBD) - tournée 2",null,{"$f":"T3_R2!$K$4","v":0},{"$f":"T3_R2!$L$4","v":0},{"$f":"IF(T3_R2!$M$4<>0,T3_R2!$M$4,\"Non ciblé\")","v":"Non ciblé"},{"$f":"T3_R2!$N$4","v":0},{"$f":"T3_R2!$R$4","v":" "}]
[]
[null,"Inventaire des médicaments pour la chimiothérapie préventive dans le pays"]
[]
[null,null,"IVM","DEC","ALB (FL)","ALB (STH)","MBD","PZQ"]
[null,"Disponible"]
[null,"Distribué"]
[null,"Gaspillé"]
[null,"Reçus"]
[null,"Restant",{"$f":"C44-C45-C46+C47","v":0},0,0,0,0,0]
[]
[null,"Veuillez indiquer le médicament qui a été utilisé pour traiter les EAPréS, et les mécanismes de distribution"]
[null,"Médicament",null,"Mécanismes de distribution",null,null,"Source"]
[]
[null,"Remarques supplémentaires évenuelles concernant le rapport"]
[]
[null,"Les districts de Bongor Fianga Youé, Binder, Gagal, Guegou, Guelo, Langon, Lame, Lere, Pala et Torrock qui ne necetaient pas de traitement ont  été soumis au traitement contre les géo helminthiases  du fait qu'il restait des comprimés  l'Albendazole prévus pour les districts non endémiques à l'onchocercose/filariose lymphatique . Etant donné que le programme ne disposait pas de fonds pour intervenir dans ces districts hors ONCHO/FL endémiques aux géo helminthiases  avec des prévalences faibles qui ne necessite pas des interventions de masse et surtout que les médicaments risquent d'entrer dans la phase de péremption, nous  avons jugé mieux de soulager  les enfants  de ces districts.\nLe traitement de 2021 a eu lieu en fevrier 2022  pour des raisons  liées à la mobilisation des ressources financières pour mettre en oeuvre à temps les activités. Il est à noter que le projet Ascend qui financait les MTN au Tchad s'est retirait en 2021 et nous devrions rechercher un autre partenaire et c'était au plustard en juin 2021 que GiveWell et Arise se sont engagés pour le Tchad. De ce fait les arrangements administratifs avaient pris l'essentiel du temps. Les activités (plaidoyer/sensibilisation/formation des acteurs) ont commencé qu'en novembre 2020 pour aboutir au traitement en fevrier 2022.\nPour le traitement de 2022, nous l'avions prévu pour octobre 2022."]
[]
[]
[]
[]
[]
[]
[]
[null,"         J’ai pris connaissance et accepté la politique de la communication de données de l’OMS"]
[null,"Nom et signature du Coordonnateur MTN \nou du Représentant du Ministère de la Santé :",null,null,"NADJILAR LOKEMLA, COORD PNEOFL"]
[null,null,null,null,"2022-06-07"]
[null,"Date:"]
[]
[null,"Veuillez envoyer le rapport national (signé et sous format électronique) au représentant de l'OMS du pays en mettant en copie :"]
[]
[null,"Siège de l'OMS ",null,"PC_JointForms@who.int"]
[null,"Bureau régional de l'OMS",null,"Conseiller régional MTN"]

{"sheet":"PROFILE","index":11,"n_rows":124,"n_cols":8,"rows_kept":124,"cut":false,"hidden":false,"merged":[[123,1,124,7],[85,6,85,7],[87,6,87,7],[89,6,89,7],[86,6,86,7],[88,6,88,7],[81,1,81,3],[19,1,19,6],[43,1,43,3],[77,1,77,3],[80,1,80,3],[78,1,78,3],[23,1,23,3],[20,1,20,6],[79,1,79,3],[55,1,55,3],[65,1,65,3],[29,1,29,3],[21,1,21,6],[69,1,69,3],[73,1,73,3],[26,1,26,3],[28,1,28,3],[59,1,59,3],[30,1,30,3],[34,1,34,3],[42,1,42,3],[63,1,63,3],[25,1,25,3],[0,1,0,5],[1,1,1,7],[3,3,3,5],[5,3,5,5],[4,1,4,7],[5,1,5,2],[11,1,11,6],[6,1,6,3],[6,4,6,5],[12,1,12,6],[47,1,47,3],[51,1,51,3],[13,1,13,6],[27,1,27,3],[16,1,16,6],[18,1,18,6],[14,1,14,6],[15,1,15,6],[7,4,7,5],[8,4,8,5],[9,4,9,5],[7,1,7,3],[8,1,8,3],[9,1,9,3],[17,1,17,6]]}
[]
[null,"Formulaire de Rapport Commun v.3.1 - CP"]
[]
[null,"Pays",null,{"$f":"IF(INTRO!$E$34<>0,INTRO!$E$34,\" \")","v":"Chad"},null,null,"Année",{"$f":"IF(INTRO!$E$36<>0,INTRO!$E$36,\" \")","v":2021}]
[null,"!!! ATTENTION !!!\nAvant d’analyser les données dans le profil du pays, merci de vous assurer que le rapport dans l’onglet SUMMARY est bien mis à jour"]
[null,"Population totale ",null,null,null,null,1,{"$f":"COUNTRY_INFO!D4","v":17467241}]
[null,"Population — autres groupes d’âge",null,null,null,null,{"$f":"IF($H$6<>0,H7/$H$6,0)","v":3.6999947501726228E-2},{"$f":"H6-SUM(H8:H10)","v":646287}]
[null,"Population — EAPréS",null,null,{"$f":"INTRO!B48","v":"1-4 ans"},null,{"$f":"IF($H$6<>0,H8/$H$6,0)","v":0.1650003569539116},{"$f":"COUNTRY_INFO!E4","v":2882101}]
[null,"Population — EAS",null,null,{"$f":"INTRO!B49","v":"5-14 ans"},null,{"$f":"IF($H$6<>0,H9/$H$6,0)","v":0.30349973415950465},{"$f":"COUNTRY_INFO!F4","v":5301303}]
[null,"Population — Adults",null,null,{"$f":"INTRO!B50","v":"15 ans et plus"},null,0.49449996138485752,{"$f":"COUNTRY_INFO!G4","v":8637550}]
[]
[null,"Nombre total d’individus nécessitant une CP pour au moins une des maladies (FL, Oncho, STH, SCH)",null,null,null,null,null,{"$f":"DISTRICT!AT6","v":9564803.6857427098}]
[null,"Proportion du nombre d’individus nécessitant un CP pour au moins une maladie parmi la population totale",null,null,null,null,null,{"$f":"IF(H6<>0,H12/H6,0)","v":0.54758525892799614}]
[null,"Nombre d’UMOs nécessitant une CP pour au moins une des maladies (FL, Oncho, STH, SCH)",null,null,null,null,null,{"$f":"COUNTIF(DISTRICT!AT9:AT1000,\">0\")","v":121}]
[null,"Nombre d’UMOs ayant reçu une CP pour au moins une des maladies (FL, Oncho, STH, SCH)",null,null,null,null,null,{"$f":"COUNTIF(DISTRICT!AY9:AY1000,\">0\")","v":54}]
[null,"Proportion d’UMOs nécessitant une CP pour au moins une maladie et l’ayant reçue",null,null,null,null,null,{"$f":"IF(H14<>0,H15/H14,0)","v":0.4462809917355372}]
[null,"Nombre total d’individus ayant été traités pour au moins une maladie (FL, Oncho, STH, SCH)",null,null,null,null,null,{"$f":"DISTRICT!AY6","v":5736719}]
[null,"Nombre total d’individus nécessitant un traitement ayant reçu une CP pour au moins une maladie (FL, Oncho, STH, SCH)",null,null,null,null,null,{"$f":"DISTRICT!BC6","v":5672270.5}]
[null,"Couverture CP pour au moins une maladie (FL, Oncho, STH, SCH)",null,null,null,null,null,{"$f":"DISTRICT!BD6","v":0.59303574713771523}]
[null,"Nombre d’UMOs ayant été traitées pour toutes les maladies nécessitant une CP dans ces unités",null,null,null,null,null,{"$f":"DISTRICT!AU6","v":52}]
[null,"Population nécessitant une CP dans des UMOs qui ont été traitées pour toutes les maladies requérant une CP",null,null,null,null,null,{"$f":"SUMIF(DISTRICT!AU9:AU1000,\"Y\",DISTRICT!AT9:AT1000)","v":6917227.4007732123}]
[null,"Population ayant reçu une CP dans des UMOs qui ont été traitées pour toutes les maladies nécessitant une CP",null,null,null,null,null,{"$f":"SUMIF(DISTRICT!AU9:AU1000,\"Y\",DISTRICT!AY9:AY1000)","v":5444894}]
[]
[null,null,null,null,"FL","ONCHO","STH","SCH"]
[]
[null,"Maladies nécessitant une CP dans la pays",null,null,{"$f":"IF(INTRO!E38=\"Endémique\",\"Yes\",\"No\")","v":"Yes"},{"$f":"IF(INTRO!E40=\"Endémique\",\"Yes\",\"No\")","v":"Yes"},{"$f":"IF(INTRO!E42=\"Endémique\",\"Yes\",\"No\")","v":"Yes"},{"$f":"IF(INTRO!E44=\"Endémique\",\"Yes\",\"No\")","v":"Yes"}]
[null,"Nombre d’UMOs dans le pays",null,null,{"$f":"IF(E26=\"Yes\",INTRO!$E$46,\"-\")","v":130},{"$f":"IF(F26=\"Yes\",INTRO!$E$46,\"-\")","v":130},{"$f":"IF(G26=\"Yes\",INTRO!$E$46,\"-\")","v":130},{"$f":"IF(H26=\"Yes\",INTRO!$E$46,\"-\")","v":130}]
[null,"Nombre d’UMOs dont le statut d’endémicité est connu",null,null,{"$f":"IF(E26=\"Yes\",E27-E29,\"-\")","v":130},{"$f":"IF(F26=\"Yes\",F27-F29,\"-\")","v":112},{"$f":"IF(G26=\"Yes\",G27-G29,\"-\")","v":129},{"$f":"IF(H26=\"Yes\",H27-H29,\"-\")","v":129}]
[null,"Nombre d’UMOs dont le statut d’endémicité est inconnu",null,null,{"$f":"IF(E26=\"Yes\",E27-(992-COUNTIF(COUNTRY_INFO!H$9:H$1000,\"\"))+COUNTIF(COUNTRY_INFO!H$9:H$1000,\"=4\"),\"-\")","v":0},{"$f":"IF(F26=\"Yes\",F27-(992-COUNTIF(COUNTRY_INFO!I$9:I$1000,\"\"))+COUNTIF(COUNTRY_INFO!I$9:I$1000,\"=4\"),\"-\")","v":18},{"$f":"IF(G26=\"Yes\",G27-(992-COUNTIF(COUNTRY_INFO!J$9:J$1000,\"\"))+COUNTIF(COUNTRY_INFO!J$9:J$1000,\"=4\")+COUNTIF(COUNTRY_INFO!J$9:J$1000,\"=5\"),\"-\")","v":1},{"$f":"IF(H26=\"Yes\",H27-(992-COUNTIF(COUNTRY_INFO!K$9:K$1000,\"\"))+COUNTIF(COUNTRY_INFO!K$9:K$1000,\"=4\")+COUNTIF(COUNTRY_INFO!K$9:K$1000,\"=5\"),\"-\")","v":1}]
[null,"Nombre d’UMOs non-endémiques",null,null,{"$f":"IF(E26=\"Yes\",COUNTIF(COUNTRY_INFO!H$9:H$1000,\"=0\"),\"-\")","v":94},{"$f":"IF(F26=\"Yes\",COUNTIF(COUNTRY_INFO!I$9:I$1000,\"=0\"),\"-\")","v":67},{"$f":"IF(G26=\"Yes\",COUNTIF(COUNTRY_INFO!J$9:J$1000,\"=0\"),\"-\")","v":22},{"$f":"IF(H26=\"Yes\",COUNTIF(COUNTRY_INFO!K$9:K$1000,\"=0\"),\"-\")","v":11}]
[null,"Nombre d’UMOs nécessitant une CP (total)",null,null,{"$f":"COUNTIF(COUNTRY_INFO!H$9:H$1000,\"=1\")","v":36},{"$f":"COUNTIF(COUNTRY_INFO!I$9:I$1000,\"=1\")","v":45},{"$f":"SUM(G33:G34)","v":9},{"$f":"SUM(H32:H34)","v":118}]
[null,null,null,"prevalence basse",null,null,{"$f":"COUNTIF(COUNTRY_INFO!J$9:J$1000,\"=1\")","v":98},{"$f":"COUNTIF(COUNTRY_INFO!K$9:K$1000,\"=1\")","v":37}]
[null,null,null,"prevalence modérée",null,null,{"$f":"COUNTIF(COUNTRY_INFO!J$9:J$1000,\"=2\")","v":9},{"$f":"COUNTIF(COUNTRY_INFO!K$9:K$1000,\"=2\")","v":68}]
[null,null,null,"prevalence haute",null,null,{"$f":"COUNTIF(COUNTRY_INFO!J$9:J$1000,\"=3\")","v":0},{"$f":"COUNTIF(COUNTRY_INFO!K$9:K$1000,\"=3\")","v":13}]
[null,"Population nécessitant une CP dans le pays (total) ",null,null,{"$f":"COUNTRY_INFO!M4","v":5394895},{"$f":"COUNTRY_INFO!N4","v":6089228},{"$f":"COUNTRY_INFO!O4","v":575546},{"$f":"COUNTRY_INFO!P4","v":4145301.9899999998}]
[null,null,"EAPréS","prevalence modérée",null,null,{"$f":"SUMIF(COUNTRY_INFO!J$9:J$1000,\"=2\",COUNTRY_INFO!E$9:E$1000)","v":202700}]
[null,null,null,"prevalence haute",null,null,{"$f":"SUMIF(COUNTRY_INFO!J$9:J$1000,\"=3\",COUNTRY_INFO!E$9:E$1000)","v":0}]
[null,null,"EAS","prevalence basse",null,null,null,{"$f":"SUMIF(COUNTRY_INFO!K$9:K$1000,\"=1\",COUNTRY_INFO!F$9:F$1000)*0.33","v":513289.59}]
[null,null,null,"prevalence modérée",null,null,{"$f":"SUMIF(COUNTRY_INFO!J$9:J$1000,\"=2\",COUNTRY_INFO!F$9:F$1000)","v":372846},{"$f":"SUMIF(COUNTRY_INFO!K$9:K$1000,\"=2\",COUNTRY_INFO!F$9:F$1000)*0.5","v":1499148}]
[null,null,null,"prevalence haute",null,null,{"$f":"SUMIF(COUNTRY_INFO!J$9:J$1000,\"=3\",COUNTRY_INFO!F$9:F$1000)","v":0},{"$f":"SUMIF(COUNTRY_INFO!K$9:K$1000,\"=3\",COUNTRY_INFO!F$9:F$1000)","v":439589}]
[null,null,"Adults","prevalence modérée",null,null,null,{"$f":"SUMIF(COUNTRY_INFO!K$9:K$1000,\"=2\",COUNTRY_INFO!G$9:G$1000)*0.2","v":977040.4}]
[null,null,null,"prevalence haute",null,null,null,{"$f":"SUMIF(COUNTRY_INFO!K$9:K$1000,\"=3\",COUNTRY_INFO!G$9:G$1000)","v":716235}]
[null,"Nombre d’UMOs où une CP a été mise en oeuvre (total)",null,null,{"$f":"COUNTIF(DISTRICT!G$9:G$1000,\">0\")","v":36},{"$f":"COUNTIF(DISTRICT!M$9:M$1000,\">0\")","v":53},{"$f":"COUNTIF(DISTRICT!S$9:S$1000,\">0\")","v":50},{"$f":"COUNTIF(DISTRICT!AC$9:AC$1000,\">0\")","v":49}]
[null,"Nombre d’UMOs nécessitant une CP et  où elle a été mise en oeuvre",null,null,{"$f":"COUNTIF(DISTRICT!H$9:H$1000,\">0\")","v":36},{"$f":"COUNTIF(DISTRICT!N$9:N$1000,\">0\")","v":45},{"$f":"COUNTIF(DISTRICT!X$9:X$1000,\">0\")","v":6},{"$f":"COUNTIF(DISTRICT!AH$9:AH$1000,\">0\")","v":49}]
[null,null,"EAPréS",null,null,null,{"$f":"COUNTIF(DISTRICT!T$9:T$1000,\">0\")","v":0}]
[null,null,"EAS",null,null,null,{"$f":"COUNTIF(DISTRICT!V$9:V$1000,\">0\")","v":6},{"$f":"COUNTIF(DISTRICT!AD$9:AD$1000,\">0\")","v":49}]
[null,null,"Adults",null,null,null,null,{"$f":"COUNTIF(DISTRICT!AF$9:AF$1000,\">0\")","v":0}]
[null,"Nombre d’individus traités (total)",null,null,{"$f":"DISTRICT!G4","v":4190702},{"$f":"DISTRICT!M4","v":5634019},{"$f":"DISTRICT!S4","v":4634850},{"$f":"DISTRICT!AC4","v":1859708}]
[null,null,"EAPréS",null,{"$f":"SUMMARY!$E17","v":0},{"$f":"SUMMARY!$E18","v":"Not eligible"},{"$f":"SUMMARY!$E19","v":0},{"$f":"SUMMARY!$E20","v":"Not targeted"}]
[null,null,"EAS",null,{"$f":"SUMMARY!$F17","v":1576097},{"$f":"SUMMARY!$F18","v":2099202},{"$f":"SUMMARY!$F19","v":2020245},{"$f":"SUMMARY!$F20","v":1887341}]
[null,null,"Adults",null,{"$f":"SUMMARY!$G17","v":2614605},{"$f":"SUMMARY!$G18","v":3534817},{"$f":"SUMMARY!$G19","v":2614605},{"$f":"SUMMARY!$G20","v":0}]
[null,"Nombre d’individus nécessitant CP et traités (total)",null,null,{"$f":"DISTRICT!H4","v":4190702},{"$f":"DISTRICT!N4","v":4723824},{"$f":"DISTRICT!X4","v":206450},{"$f":"DISTRICT!AH4","v":1065230.73}]
[null,null,"EAPréS",null,null,null,{"$f":"DISTRICT!T4","v":0}]
[null,null,"EAS",null,null,null,{"$f":"DISTRICT!V4","v":206450},{"$f":"DISTRICT!AD4","v":1065230.73}]
[null,null,"Adults",null,null,null,null,{"$f":"DISTRICT!AF4","v":0}]
[null,"Couverture géographique (tous âges)",null,null,{"$f":"IF(E31<>0,E44/E31,0)","v":1},{"$f":"IF(F31<>0,F44/F31,0)","v":1},{"$f":"IF(G31<>0,G44/G31,0)","v":0.66666666666666663},{"$f":"IF(H31<>0,H44/H31,0)","v":0.4152542372881356}]
[null,null,"EAPréS",null,null,null,{"$f":"IF(G31<>0,G45/G31,0)","v":0}]
[null,null,"EAS",null,null,null,{"$f":"IF(G31<>0,G46/G31,0)","v":0.66666666666666663},{"$f":"IF(H31<>0,H46/H31,0)","v":0.4152542372881356}]
[null,null,"Adults",null,null,null,null,{"$f":"IF(SUM(H33:H34)<>0,H47/SUM(H33:H34),0)","v":0}]
[null,"Couverture nationale (total)",null,null,{"$f":"IF(E35<>0,E52/E35,0)","v":0.77679028044104659},{"$f":"IF(F35<>0,F52/F35,0)","v":0.7757673058062533},{"$f":"IF(G35<>0,G52/G35,0)","v":0.3587028664954669},{"$f":"IF(H35<>0,H52/H35,0)","v":0.25697301006530526}]
[null,null,"EAPréS",null,null,null,{"$f":"IF(SUM(G36:G37)<>0,G53/SUM(G36:G37),0)","v":0}]
[null,null,"EAS",null,null,null,{"$f":"IF(SUM(G39:G40)<>0,G54/SUM(G39:G40),0)","v":0.55371386577836423},{"$f":"IF(SUM(H38:H40)<>0,H54/SUM(H38:H40),0)","v":0.43442870250440474}]
[null,null,"Adults",null,null,null,null,{"$f":"IF(SUM(H41:H42)<>0,H55/SUM(H41:H42),0)","v":0}]
[null,null,null,null,"FL","ONCHO","STH","SCH"]
[]
[null,"Nombre d’UMOs ayant réalisé une couverture efficace (tous âges)",null,null,{"$f":"COUNTIF(DISTRICT!I$9:I$1000,\">=65\")","v":36},{"$f":"COUNTIF(DISTRICT!O$9:O$1000,\">=65\")","v":44},{"$f":"COUNTIF(DISTRICT!Y$9:Y$1000,\">=75\")","v":0},{"$f":"COUNTIF(DISTRICT!AI$9:AI$1000,\">=75\")","v":7}]
[null,null,"EAPréS",null,null,null,{"$f":"COUNTIF(DISTRICT!U$9:U$1000,\">=75\")","v":0}]
[null,null,"EAS",null,null,null,{"$f":"COUNTIF(DISTRICT!W$9:W$1000,\">=75\")","v":6},{"$f":"COUNTIF(DISTRICT!AE$9:AE$1000,\">=75\")","v":48}]
[null,null,"Adults",null,null,null,null,{"$f":"COUNTIF(DISTRICT!AG$9:AG$1000,\">=75\")","v":0}]
[null,"Nombre d’individus nécessitant un traitement dans des UMOs ayant réalisé une couverture efficace (total)",null,null,{"$f":"SUMIF(DISTRICT!I9:I1000,\">=65\",DISTRICT!H9:H1000)","v":4190702},{"$f":"SUMIF(DISTRICT!O9:O1000,\">=65\",DISTRICT!N9:N1000)","v":4591024},{"$f":"SUMIF(DISTRICT!Y9:Y1000,\">=75\",DISTRICT!X9:X1000)","v":0},{"$f":"SUMIF(DISTRICT!AI9:AI1000,\">=75\",DISTRICT!AH9:AH1000)","v":109487.73}]
[null,null,"EAPréS",null,null,null,{"$f":"SUMIF(DISTRICT!U9:U1000,\">=75\",DISTRICT!T9:T1000)","v":0}]
[null,null,"EAS",null,null,null,{"$f":"SUMIF(DISTRICT!W9:W1000,\">=75\",DISTRICT!V9:V1000)","v":206450},{"$f":"SUMIF(DISTRICT!AE9:AE1000,\">=75\",DISTRICT!AD9:AD1000)","v":1040343.73}]
[null,null,"Adults",null,null,null,null,{"$f":"SUMIF(DISTRICT!AG9:AG1000,\">=75\",DISTRICT!AF9:AF1000)","v":0}]
[null,"Proportion d’UMOs nécessitant une CP and ayant réalisé une couverture efficace (total)",null,null,{"$f":"IF(E44<>0,E66/E44,0)","v":1},{"$f":"IF(F44<>0,F66/F44,0)","v":0.97777777777777775},{"$f":"IF(G44<>0,G66/G44,0)","v":0},{"$f":"IF(H44<>0,H66/H44,0)","v":0.14285714285714285}]
[null,null,"EAPréS",null,null,null,{"$f":"IF(G45<>0,G67/G45,0)","v":0}]
[null,null,"EAS",null,null,null,{"$f":"IF(G46<>0,G68/G46,0)","v":1},{"$f":"IF(H46<>0,H68/H46,0)","v":0.97959183673469385}]
[null,null,"Adults",null,null,null,null,{"$f":"IF(H47<>0,H69/H47,0)","v":0}]
[null,"Nombre d’UMOs où la CP a été stoppée (càd sous surveillance)",null,null,{"$f":"COUNTIF(COUNTRY_INFO!H$9:H$1000,\"=99\")","v":0},{"$f":"COUNTIF(COUNTRY_INFO!I$9:I$1000,\"=99\")","v":0}]
[null,"Nombre d’individus dans les UMOs ne nécessitant plus de CP (stoppée)",null,null,{"$f":"SUMIF(COUNTRY_INFO!H$9:H$1000,\"=99\",COUNTRY_INFO!D$9:D$1000)","v":0},{"$f":"SUMIF(COUNTRY_INFO!I$9:I$1000,\"=99\",COUNTRY_INFO!D$9:D$1000)","v":0}]
[null,"Nombre d’individus nécessitant une CP vivants dans des UMOs ciblées pour la CP",null,null,{"$f":"SUMIF(DISTRICT!H$9:H$1000,\">0\",DISTRICT!D$9:D$1000)","v":5394895},{"$f":"SUMIF(DISTRICT!N$9:N$1000,\">0\",DISTRICT!J$9:J$1000)","v":6089228},{"$f":"SUMIF(DISTRICT!X$9:X$1000,\">0\",DISTRICT!P$9:P$1000)","v":346779},{"$f":"SUMIF(DISTRICT!AH$9:AH$1000,\">0\",DISTRICT!Z$9:Z$1000)","v":1987875.0499999998}]
[null,"Nombre d’individus nécessitant une CP vivant dans des UMOs non ciblées pour la CP",null,null,{"$f":"SUMIF(DISTRICT!H$9:H$1000,\"=0\",DISTRICT!D$9:D$1000)","v":0},{"$f":"SUMIF(DISTRICT!N$9:N$1000,\"=0\",DISTRICT!J$9:J$1000)","v":0},{"$f":"SUMIF(DISTRICT!X$9:X$1000,\"=0\",DISTRICT!P$9:P$1000)","v":228767},{"$f":"SUMIF(DISTRICT!AH$9:AH$1000,\"=0\",DISTRICT!Z$9:Z$1000)","v":2157426.9399999995}]
[null,null,null,null,{"$f":"E35-E52","v":1204193},{"$f":"F35-F52","v":1365404},369096,3080071.26]
[null,"Nombre d’UMOs nécessitant et recevant la CP",null,null,{"$f":"E31-E44","v":0},{"$f":"F31-F44","v":0},3,69]
[null,null,null,null,{"$f":"E27-E31-E29","v":94},67,120,{"$f":"H27-H31-H29","v":11}]
[]
[null,null,null,null,null,null,"Nécessitant et recevant une CP"]
[null,null,null,null,null,null,"Nécessitant mais ne recevant pas de CP"]
[null,null,null,null,null,null,"Ne nécessitant pas de CP"]
[null,null,null,null,null,null,"Statut inconnu"]
[]
[]
[]
[]
[]
[]
[]
[]
[]
[]
[]
[]
[]
[]
[]
[]
[]
[]
[]
[]
[]
[]
[]
[]
[]
[]
[]
[]
[]
[]
[]
[]
[]
[]
[null,"Cliquer ici pour accéder au portail des données de la CP"]

{"sheet":"DATA_POLICY","index":12,"n_rows":39,"n_cols":8,"rows_kept":39,"cut":false,"hidden":true,"merged":[[55,1,55,2],[0,1,0,5],[1,1,1,7],[3,3,3,5],[6,1,6,7],[8,1,12,7],[13,1,16,7],[17,1,21,7],[22,1,25,7],[26,2,36,7],[38,1,45,7]]}
[]
[null,"Formulaire de Rapport Commun v.3.1"]
[]
[null,"Pays",null,{"$f":"IF(INTRO!$E$34<>0,INTRO!$E$34,\" \")","v":"Chad"},null,null,"Année",{"$f":"IF(INTRO!$E$36<>0,INTRO!$E$36,\" \")","v":2021}]
[]
[]
[null,"Déclaration de principe sur la communication de données par l’OMS"]
[]
[null,"Les données sont le fondement de toutes les mesures rationnelles de santé publique et les avantages de la communication de données, y compris pour la science et la santé publique, sont largement reconnus. L’OMS souhaite promouvoir autant que possible la communication de données sanitaires, y compris, mais pas uniquement, de données épidémiologiques et de surveillance."]
[]
[]
[]
[]
[null,{"$f":"\"À cet égard, et sans préjudice des instruments juridiquement contraignants régissant la communication et la publication d’informations, le Ministère de la santé de \" & D4 & \", en fournissant des données à l’OMS :\"","v":"À cet égard, et sans préjudice des instruments juridiquement contraignants régissant la communication et la publication d’informations, le Ministère de la santé de Chad, en fournissant des données à l’OMS :"}]
[]
[]
[]
[null,"confirme que toutes les données à fournir à l’OMS, ont été collectées conformément à la législation nationale applicable, y compris aux lois de protection des données visant à préserver l’anonymat des personnes identifiables ;"]
[]
[]
[]
[]
[null,{"$f":"\"convient que l’OMS aura le droit, toujours sous réserve des mesures visant à garantir l’utilisation éthique et sécurisée des données et toujours sous réserve d’une reconnaissance appropriée de la part de \"&D4&\":\"","v":"convient que l’OMS aura le droit, toujours sous réserve des mesures visant à garantir l’utilisation éthique et sécurisée des données et toujours sous réserve d’une reconnaissance appropriée de la part de Chad:"}]
[]
[]
[]
[null,null,"de publier les données, dépourvues de tout élément d’identification personnelle (ci-après dénommées « les données ») et de les mettre à la disposition de toute partie intéressée, sur demande (dans la mesure où elles n’ont pas, ou pas encore, été publiées par l’OMS), selon des modalités autorisant leur utilisation non commerciale et sans but lucratif à des fins de santé publique (pour autant que l’OMS garde la maîtrise de la publication des données) ;\nd’utiliser, de compiler, d’agréger, d’évaluer et d’analyser les données et de publier et de diffuser les résultats obtenus grâce à ces données en rapport avec des travaux de l’OMS et conformément aux politiques et pratiques de l’Organisation."]
[]
[]
[]
[]
[]
[]
[]
[]
[]
[]
[]
[null,{"$f":"CONCATENATE(\"Sauf lorsque des instruments juridiquement contraignants (RSI, Règlement de Nomenclature de l’OMS, de 1967, etc.) disposent que les données doivent être communiquées et publiées, le Ministère de la santé de \", D4,\" peut, pour certaines données, décider de ne pas appliquer (tout ou partie des) (les) dispositions qui précèdent,\" & \" en informant l’OMS par écrit à l’adresse suivante, à condition que cette notification précise clairement les données, \" & \"dont il s’agit et indique clairement lesquelles des dispositions qui précèdent ne seront pas appliquées, et pour quels motifs.\")","v":"Sauf lorsque des instruments juridiquement contraignants (RSI, Règlement de Nomenclature de l’OMS, de 1967, etc.) disposent que les données doivent être communiquées et publiées, le Ministère de la santé de Chad peut, pour certaines données, décider de ne pas appliquer (tout ou partie des) (les) dispositions qui précèdent, en informant l’OMS par écrit à l’adresse suivante, à condition que cette notification précise clairement les données, dont il s’agit et indique clairement lesquelles des dispositions qui précèdent ne seront pas appliquées, et pour quels motifs."}]