{"text_format":"1","workbook":"xlsx","n_sheets":8,"sheets":["INTRO","COUNTRY_INFO","ALB_MBD","PZQ","IVM","SUMMARY","SHIPMENT","DATA_POLICY"],"not_rendered":{"charts":0,"images":3,"macros":1,"external_links":0,"defined_names":8,"comments":1,"pivot_tables":0},"unopened":[],"bounds":{"document_bytes":16777216,"sheet_cells":100000,"rows_first":2000,"rows_last":500,"rows_between":2000,"halvings":0,"cell_chars":16384,"cell_head_chars":4096},"cells_cut":0,"cells_raw":0,"read":"whole","date_system":"1900"}

{"sheet":"INTRO","index":0,"n_rows":51,"n_cols":8,"rows_kept":51,"cut":false,"hidden":false,"merged":[[7,2,7,4],[11,1,11,4],[4,1,4,4],[10,2,10,4],[20,2,20,4],[17,1,17,4],[13,1,13,4],[18,2,18,4],[8,2,8,4],[9,2,9,4],[19,1,19,4],[12,1,12,4],[16,1,16,4],[14,1,14,4],[15,1,15,4],[0,1,0,4],[2,1,2,4],[1,1,1,4],[5,1,5,4],[3,1,3,4],[21,1,21,4],[46,1,46,4],[38,1,38,2],[40,1,40,2],[42,1,42,2],[44,1,44,2],[36,1,36,2],[22,2,23,4],[25,2,26,4],[27,1,27,4],[32,1,32,2],[29,1,29,4],[30,1,30,4],[28,2,28,4],[24,1,24,4],[34,1,34,2]]}
[]
[null,"Joint request for selected PC medicines v.4.1 (Loa)"]
[]
[null,"As part of global efforts to accelerate expansion of preventive chemotherapy (PC) for control and elimination of lymphatic filariasis, schistosomiasis and soil-transmitted helminthiases, the World Health Organization (WHO) facilitates the supply of albendazole 400 mg tablets (GSK) to national lymphatic filariasis elimination programmes and national soil-transmitted helminth control programmes; diethylcarbamazine citrate 100 mg tablets (Eisai) to national lymphatic filariasis elimination programmes; mebendazole 500 mg tablets (J&J) for national soil-transmitted helminth control programmes; and praziquantel 600 mg tablets (Merck KGaA)  for school-age children to national schistosomiasis control programmes. WHO also collaborates to supply ivermectin 3 mg tablets (Merck) for onchocerciasis and lymphatic filariasis donation programmes.  \nThis Excel-based tool is designed to assist countries in quantifying the number of tablets of relevant PC medicines required to reach the planned target population and districts for the year of request. Output of the tool is a joint request for PC medicines, which can be printed, signed and submitted to WHO to request these medicines."]
[]
[null,"Structure of the application (worksheets):"]
[]
[null,"INTRO","This worksheet includes guides on how to complete the joint request for selected PC medicines and information about the status of PC for endemic diseases in the country."]
[null,"COUNTRY_INFO","This worksheet includes information about administrative structure of the country, population by age group, status of endemicity for each disease, population requiring PC and planned interventions."]
[null,"DEC, ALB_MBD, PZQ and IVM","These worksheets include information about endemic districts targeted for treatment with specified PC medicines, treatment plan, and number of tablets required and requested. "]
[null,"SUMMARY","This worksheet includes summary of number of tablets requested, information about stock, and date for submission of requested medicines. Before generating the report (run macros) please select the medicine for which the report is needed. Follow the same rule to see the number of people to be treated for the specific disease. \nThis worksheet should be printed and submitted as a joint request for selected PC medicines (see the instruction for submission in the SUMMARY worksheet)."]
[]
[null,"Instruction for data entry"]
[]
[null,"Most of the cells in the above-mentioned worksheets include formula that are calculated automatically according to the treatment policy recommended by WHO for each disease.\nSee the link https://www.who.int/publications/i/item/9789241599993."]
[]
[null,"Please enter your data into the cells according to their colour code:"]
[]
[null,null,"White - cell is not protected. Please enter the value of the requested indicator."]
[]
[null,null,"Yellow - cell is protected and includes name of indicator. No data entry required."]
[]
[null,null,"Orange - cell is not protected and includes a drop-down menu. Please select the value from the drop-down list."]
[]
[]
[null,null,"Green - cell is not protected and includes formula. Please change the value only if your data are different from those that are calculated automatically."]
[]
[]
[null,null,"Blue - cell is protected and includes formula. No data entry required."]
[]
[null,"Country data"]
[]
[null,"COUNTRY",null,null,"Cameroun",null,"CM","CMR"]
[null,null,null,null,5]
[null,"Year for request of the medicine",null,null,2024]
[]
[null,"Is country endemic for lymphatic filariasis (LF)?",null,null,"Endemic"]
[]
[null,"Is country endemic for onchocerciasis (ONCHO)?",null,null,"Endemic"]
[]
[null,"Is country endemic for soil-transmitted helminthiases (STH)?",null,null,"Endemic"]
[]
[null,"Is country endemic for schistosomiasis (SCH)?",null,null,"Endemic"]
[]
[null,"How many administrative units in the country?",null,null,200]
[]
[null,"If demographical data at the second administrative level are not available by age group, please enter the proportion (%) of population by age group in the country. If data are available, please leave these cells blank."]
[null,"1-4 years age","Preschool-age children (PreSAC)",null,0.12640000000000001]
[null,"5-14 years age","School-age children (SAC)",null,0.26450000000000001]
[null,"15 years +","Adults",null,0.57569999999999999]
[null,"15-49 years","Women of reproductive age (WRA)",null,3.6999999999999998E-2]

{"sheet":"COUNTRY_INFO","index":1,"n_rows":209,"n_cols":41,"rows_kept":209,"cut":false,"hidden":false,"merged":[[6,28,7,28],[6,29,7,29],[6,18,6,21],[6,23,7,23],[6,24,7,24],[6,25,7,25],[6,26,7,26],[6,27,7,27],[6,3,7,3],[6,2,7,2],[6,1,7,1],[6,0,7,0],[6,22,7,22],[6,14,6,17],[6,12,7,12],[6,13,7,13],[6,7,7,7],[6,8,7,8],[6,9,7,9],[6,11,7,11],[6,6,7,6],[6,5,7,5],[6,4,7,4],[6,10,7,10],[3,0,3,2],[3,7,3,11],[3,22,3,25],[5,0,5,2],[3,26,3,29],[5,26,5,29],[5,3,5,6],[5,7,5,11],[5,12,5,21],[5,22,5,25]]}
["COUNTRY INFORMATION"]
["Administrative structure, population by age group, status of endemicity and planned interventions"]
[]
["TOTAL",null,null,{"$f":"SUBTOTAL(9,D$10:D$1010)","v":29151460.338607594},{"$f":"SUBTOTAL(9,E$10:E$1010)","v":5371568.877756251},7710565,16782501,null,null,null,null,null,{"$f":"SUBTOTAL(9,M$10:M$1010)","v":64165},13411170.212816456,3575007.9937562463,5213175,729250,9517432.9937562421,2650466,4205031,9152499,16007996]
[]
["Country administrative structure",null,null,"Population",null,null,null,"Endemicity",null,null,null,null,"Population requiring PC",null,null,null,null,null,null,null,null,null,"Number of treatment rounds planned for the year",null,null,null,"Epidemiological surveys planned for the year"]
["Country","Province/State","District","Total","PreSAC","SAC","Adults","LF","Oncho","STH","SCH","Loa","LF","ONCHO","STH",null,null,null,"SCH",null,null,null,"LF","Oncho","STH","SCH","LF","Oncho","STH","SCH"]
[null,null,null,null,null,null,null,null,null,null,null,null,null,null,"PreSAC","SAC","WRA","TOTAL","PreSAC","SAC","Adults","TOTAL",null,null,null,null,null,null,null,null,null,null,null,"IU_ID","IU_NAME","Paent_ID_ID","Parent_Name"]
[null,null,null,null,null,null,null,null,null,null,null,null,null,null,null,null,null,null,null,null,null,null,null,null,null,null,null,null,null,null,"x","x","x","x","x","x","x","x","x","x","x"]
[{"$f":"IF(INTRO!$E$33<>0,INTRO!$E$33, \" \")","v":"Cameroun"},"Adamaoua","Bankim",127866,29488.266,{"$f":"IF(INTRO!$E$49=\"\",\"\",ROUND($D10*INTRO!$E$49,0))","v":33821},{"$f":"IF(INTRO!$E$50=\"\",\"\",ROUND($D10*INTRO!$E$50,0))","v":73612},99,1,3,2,1,{"$f":"IF(INTRO!$E$37=\"Endemic\",IF($H10>0,IF($H10=4,\"Unknown\",IF($H10=99,\"Stopped\",$D10)),0),\"Not required\")","v":"Stopped"},{"$f":"IF(INTRO!$E$39=\"Endemic\", IF($I10>0, IF($I10=4,\"Unknown\",IF($I10=99,\"Stopped\",$D10)), 0),\"Not required\")","v":127866},{"$f":"IF(INTRO!$E$41=\"Endemic\", IF($J10>1, IF($J10=4, \"Unknown\", IF($J10=99, \"Surveillance\", E10)), 0),\"Not required\")","v":29488.266},{"$f":"IF(INTRO!$E$41=\"Endemic\", IF($J10>1, IF($J10=4, \"Unknown\", IF($J10=99, \"Surveillance\", F10)), 0),\"Not required\")","v":33821},{"$f":"IF(INTRO!$E$41=\"Endemic\", IF($J10>1, IF($J10=4, \"Unknown\", IF($J10=99, \"Surveillance\", ROUND(D10*INTRO!$E$51,0))), 0),\"Not required\")","v":4731},{"$f":"IF(INTRO!$E$41=\"Endemic\", IF($J10>1, IF($J10=4, \"Unknown\", IF($J10=99, \"Surveillance\", SUM($O10:$Q10))), 0),\"Not required\")","v":68040.266000000003},{"$f":"IF(INTRO!$E$43=\"Endemic\", IF($K10>1, IF($K10=4, \"Unknown\", IF($K10=99, \"Surveillance\", ROUND(E10*0.75,0))), 0),\"Not required\")","v":22116},{"$f":"IF(INTRO!$E$43=\"Endemic\", IF($K10>1, IF($K10=4, \"Unknown\", IF($K10=99, \"Surveillance\", F10)), 0),\"Not required\")","v":33821},{"$f":"IF(INTRO!$E$43=\"Endemic\", IF($K10>1, IF($K10=4, \"Unknown\", IF($K10=99, \"Surveillance\", G10)), 0),\"Not required\")","v":73612},{"$f":"IF(INTRO!$E$43=\"Endemic\", IF($K10>1, IF($K10=4, \"Unknown\", IF($K10=99, \"Surveillance\", SUM($S10:$U10))), 0),\"Not required\")","v":129549},0,1,1,1,null,null,null,null,null,null,null,7420,"BANKIM"]
[{"$f":"IF(INTRO!$E$33<>0,INTRO!$E$33, \" \")","v":"Cameroun"},"Adamaoua","Banyo",176351,96423.48,{"$f":"IF(INTRO!$E$49=\"\",\"\",ROUND($D11*INTRO!$E$49,0))","v":46645},{"$f":"IF(INTRO!$E$50=\"\",\"\",ROUND($D11*INTRO!$E$50,0))","v":101525},99,1,2,3,1,{"$f":"IF(INTRO!$E$37=\"Endemic\",IF($H11>0,IF($H11=4,\"Unknown\",IF($H11=99,\"Stopped\",$D11)),0),\"Not required\")","v":"Stopped"},{"$f":"IF(INTRO!$E$39=\"Endemic\", IF($I11>0, IF($I11=4,\"Unknown\",IF($I11=99,\"Stopped\",$D11)), 0),\"Not required\")","v":176351},{"$f":"IF(INTRO!$E$41=\"Endemic\", IF($J11>1, IF($J11=4, \"Unknown\", IF($J11=99, \"Surveillance\", E11)), 0),\"Not required\")","v":96423.48},{"$f":"IF(INTRO!$E$41=\"Endemic\", IF($J11>1, IF($J11=4, \"Unknown\", IF($J11=99, \"Surveillance\", F11)), 0),\"Not required\")","v":46645},{"$f":"IF(INTRO!$E$41=\"Endemic\", IF($J11>1, IF($J11=4, \"Unknown\", IF($J11=99, \"Surveillance\", ROUND(D11*INTRO!$E$51,0))), 0),\"Not required\")","v":6525},{"$f":"IF(INTRO!$E$41=\"Endemic\", IF($J11>1, IF($J11=4, \"Unknown\", IF($J11=99, \"Surveillance\", SUM($O11:$Q11))), 0),\"Not required\")","v":149593.47999999998},{"$f":"IF(INTRO!$E$43=\"Endemic\", IF($K11>1, IF($K11=4, \"Unknown\", IF($K11=99, \"Surveillance\", ROUND(E11*0.75,0))), 0),\"Not required\")","v":72318},{"$f":"IF(INTRO!$E$43=\"Endemic\", IF($K11>1, IF($K11=4, \"Unknown\", IF($K11=99, \"Surveillance\", F11)), 0),\"Not required\")","v":46645},{"$f":"IF(INTRO!$E$43=\"Endemic\", IF($K11>1, IF($K11=4, \"Unknown\", IF($K11=99, \"Surveillance\", G11)), 0),\"Not required\")","v":101525},{"$f":"IF(INTRO!$E$43=\"Endemic\", IF($K11>1, IF($K11=4, \"Unknown\", IF($K11=99, \"Surveillance\", SUM($S11:$U11))), 0),\"Not required\")","v":220488},0,1,1,1,null,null,null,null,null,null,null,7421,"BANYO"]
[{"$f":"IF(INTRO!$E$33<>0,INTRO!$E$33, \" \")","v":"Cameroun"},"Adamaoua","Belel ",22321.372626582277,17308.94617331812,{"$f":"IF(INTRO!$E$49=\"\",\"\",ROUND($D12*INTRO!$E$49,0))","v":5904},{"$f":"IF(INTRO!$E$50=\"\",\"\",ROUND($D12*INTRO!$E$50,0))","v":12850},99,1,3,3,1,{"$f":"IF(INTRO!$E$37=\"Endemic\",IF($H12>0,IF($H12=4,\"Unknown\",IF($H12=99,\"Stopped\",$D12)),0),\"Not required\")","v":"Stopped"},{"$f":"IF(INTRO!$E$39=\"Endemic\", IF($I12>0, IF($I12=4,\"Unknown\",IF($I12=99,\"Stopped\",$D12)), 0),\"Not required\")","v":22321.372626582277},{"$f":"IF(INTRO!$E$41=\"Endemic\", IF($J12>1, IF($J12=4, \"Unknown\", IF($J12=99, \"Surveillance\", E12)), 0),\"Not required\")","v":17308.94617331812},{"$f":"IF(INTRO!$E$41=\"Endemic\", IF($J12>1, IF($J12=4, \"Unknown\", IF($J12=99, \"Surveillance\", F12)), 0),\"Not required\")","v":5904},{"$f":"IF(INTRO!$E$41=\"Endemic\", IF($J12>1, IF($J12=4, \"Unknown\", IF($J12=99, \"Surveillance\", ROUND(D12*INTRO!$E$51,0))), 0),\"Not required\")","v":826},{"$f":"IF(INTRO!$E$41=\"Endemic\", IF($J12>1, IF($J12=4, \"Unknown\", IF($J12=99, \"Surveillance\", SUM($O12:$Q12))), 0),\"Not required\")","v":24038.94617331812},{"$f":"IF(INTRO!$E$43=\"Endemic\", IF($K12>1, IF($K12=4, \"Unknown\", IF($K12=99, \"Surveillance\", ROUND(E12*0.75,0))), 0),\"Not required\")","v":12982},{"$f":"IF(INTRO!$E$43=\"Endemic\", IF($K12>1, IF($K12=4, \"Unknown\", IF($K12=99, \"Surveillance\", F12)), 0),\"Not required\")","v":5904},{"$f":"IF(INTRO!$E$43=\"Endemic\", IF($K12>1, IF($K12=4, \"Unknown\", IF($K12=99, \"Surveillance\", G12)), 0),\"Not required\")","v":12850},{"$f":"IF(INTRO!$E$43=\"Endemic\", IF($K12>1, IF($K12=4, \"Unknown\", IF($K12=99, \"Surveillance\", SUM($S12:$U12))), 0),\"Not required\")","v":31736},0,1,1,1,null,null,null,null,null,null,null,7617,"Belel ",7425,"NGAOUNDERE RURAL"]
[{"$f":"IF(INTRO!$E$33<>0,INTRO!$E$33, \" \")","v":"Cameroun"},"Adamaoua","Dang",95139,22153.392,{"$f":"IF(INTRO!$E$49=\"\",\"\",ROUND($D13*INTRO!$E$49,0))","v":25164},{"$f":"IF(INTRO!$E$50=\"\",\"\",ROUND($D13*INTRO!$E$50,0))","v":54772},99,1,3,3,1,{"$f":"IF(INTRO!$E$37=\"Endemic\",IF($H13>0,IF($H13=4,\"Unknown\",IF($H13=99,\"Stopped\",$D13)),0),\"Not required\")","v":"Stopped"},{"$f":"IF(INTRO!$E$39=\"Endemic\", IF($I13>0, IF($I13=4,\"Unknown\",IF($I13=99,\"Stopped\",$D13)), 0),\"Not required\")","v":95139},{"$f":"IF(INTRO!$E$41=\"Endemic\", IF($J13>1, IF($J13=4, \"Unknown\", IF($J13=99, \"Surveillance\", E13)), 0),\"Not required\")","v":22153.392},{"$f":"IF(INTRO!$E$41=\"Endemic\", IF($J13>1, IF($J13=4, \"Unknown\", IF($J13=99, \"Surveillance\", F13)), 0),\"Not required\")","v":25164},{"$f":"IF(INTRO!$E$41=\"Endemic\", IF($J13>1, IF($J13=4, \"Unknown\", IF($J13=99, \"Surveillance\", ROUND(D13*INTRO!$E$51,0))), 0),\"Not required\")","v":3520},{"$f":"IF(INTRO!$E$41=\"Endemic\", IF($J13>1, IF($J13=4, \"Unknown\", IF($J13=99, \"Surveillance\", SUM($O13:$Q13))), 0),\"Not required\")","v":50837.392},{"$f":"IF(INTRO!$E$43=\"Endemic\", IF($K13>1, IF($K13=4, \"Unknown\", IF($K13=99, \"Surveillance\", ROUND(E13*0.75,0))), 0),\"Not required\")","v":16615},{"$f":"IF(INTRO!$E$43=\"Endemic\", IF($K13>1, IF($K13=4, \"Unknown\", IF($K13=99, \"Surveillance\", F13)), 0),\"Not required\")","v":25164},{"$f":"IF(INTRO!$E$43=\"Endemic\", IF($K13>1, IF($K13=4, \"Unknown\", IF($K13=99, \"Surveillance\", G13)), 0),\"Not required\")","v":54772},{"$f":"IF(INTRO!$E$43=\"Endemic\", IF($K13>1, IF($K13=4, \"Unknown\", IF($K13=99, \"Surveillance\", SUM($S13:$U13))), 0),\"Not required\")","v":96551},0,1,1,1,null,null,null,null,null,null,null,7613,"Dang"]
[{"$f":"IF(INTRO!$E$33<>0,INTRO!$E$33, \" \")","v":"Cameroun"},"Adamaoua","Djohong",87766,46792.781999999999,{"$f":"IF(INTRO!$E$49=\"\",\"\",ROUND($D14*INTRO!$E$49,0))","v":23214},{"$f":"IF(INTRO!$E$50=\"\",\"\",ROUND($D14*INTRO!$E$50,0))","v":50527},0,1,3,2,1,{"$f":"IF(INTRO!$E$37=\"Endemic\",IF($H14>0,IF($H14=4,\"Unknown\",IF($H14=99,\"Stopped\",$D14)),0),\"Not required\")","v":0},{"$f":"IF(INTRO!$E$39=\"Endemic\", IF($I14>0, IF($I14=4,\"Unknown\",IF($I14=99,\"Stopped\",$D14)), 0),\"Not required\")","v":87766},{"$f":"IF(INTRO!$E$41=\"Endemic\", IF($J14>1, IF($J14=4, \"Unknown\", IF($J14=99, \"Surveillance\", E14)), 0),\"Not required\")","v":46792.781999999999},{"$f":"IF(INTRO!$E$41=\"Endemic\", IF($J14>1, IF($J14=4, \"Unknown\", IF($J14=99, \"Surveillance\", F14)), 0),\"Not required\")","v":23214},{"$f":"IF(INTRO!$E$41=\"Endemic\", IF($J14>1, IF($J14=4, \"Unknown\", IF($J14=99, \"Surveillance\", ROUND(D14*INTRO!$E$51,0))), 0),\"Not required\")","v":3247},{"$f":"IF(INTRO!$E$41=\"Endemic\", IF($J14>1, IF($J14=4, \"Unknown\", IF($J14=99, \"Surveillance\", SUM($O14:$Q14))), 0),\"Not required\")","v":73253.782000000007},{"$f":"IF(INTRO!$E$43=\"Endemic\", IF($K14>1, IF($K14=4, \"Unknown\", IF($K14=99, \"Surveillance\", ROUND(E14*0.75,0))), 0),\"Not required\")","v":35095},{"$f":"IF(INTRO!$E$43=\"Endemic\", IF($K14>1, IF($K14=4, \"Unknown\", IF($K14=99, \"Surveillance\", F14)), 0),\"Not required\")","v":23214},{"$f":"IF(INTRO!$E$43=\"Endemic\", IF($K14>1, IF($K14=4, \"Unknown\", IF($K14=99, \"Surveillance\", G14)), 0),\"Not required\")","v":50527},{"$f":"IF(INTRO!$E$43=\"Endemic\", IF($K14>1, IF($K14=4, \"Unknown\", IF($K14=99, \"Surveillance\", SUM($S14:$U14))), 0),\"Not required\")","v":108836},0,1,1,1,null,null,null,null,null,null,null,7422,"DJOHONG"]
[{"$f":"IF(INTRO!$E$33<>0,INTRO!$E$33, \" \")","v":"Cameroun"},"Adamaoua","Meiganga",183125,42764.705999999998,{"$f":"IF(INTRO!$E$49=\"\",\"\",ROUND($D15*INTRO!$E$49,0))","v":48437},{"$f":"IF(INTRO!$E$50=\"\",\"\",ROUND($D15*INTRO!$E$50,0))","v":105425},99,1,3,2,1,{"$f":"IF(INTRO!$E$37=\"Endemic\",IF($H15>0,IF($H15=4,\"Unknown\",IF($H15=99,\"Stopped\",$D15)),0),\"Not required\")","v":"Stopped"},{"$f":"IF(INTRO!$E$39=\"Endemic\", IF($I15>0, IF($I15=4,\"Unknown\",IF($I15=99,\"Stopped\",$D15)), 0),\"Not required\")","v":183125},{"$f":"IF(INTRO!$E$41=\"Endemic\", IF($J15>1, IF($J15=4, \"Unknown\", IF($J15=99, \"Surveillance\", E15)), 0),\"Not required\")","v":42764.705999999998},{"$f":"IF(INTRO!$E$41=\"Endemic\", IF($J15>1, IF($J15=4, \"Unknown\", IF($J15=99, \"Surveillance\", F15)), 0),\"Not required\")","v":48437},{"$f":"IF(INTRO!$E$41=\"Endemic\", IF($J15>1, IF($J15=4, \"Unknown\", IF($J15=99, \"Surveillance\", ROUND(D15*INTRO!$E$51,0))), 0),\"Not required\")","v":6776},{"$f":"IF(INTRO!$E$41=\"Endemic\", IF($J15>1, IF($J15=4, \"Unknown\", IF($J15=99, \"Surveillance\", SUM($O15:$Q15))), 0),\"Not required\")","v":97977.706000000006},{"$f":"IF(INTRO!$E$43=\"Endemic\", IF($K15>1, IF($K15=4, \"Unknown\", IF($K15=99, \"Surveillance\", ROUND(E15*0.75,0))), 0),\"Not required\")","v":32074},{"$f":"IF(INTRO!$E$43=\"Endemic\", IF($K15>1, IF($K15=4, \"Unknown\", IF($K15=99, \"Surveillance\", F15)), 0),\"Not required\")","v":48437},{"$f":"IF(INTRO!$E$43=\"Endemic\", IF($K15>1, IF($K15=4, \"Unknown\", IF($K15=99, \"Surveillance\", G15)), 0),\"Not required\")","v":105425},{"$f":"IF(INTRO!$E$43=\"Endemic\", IF($K15>1, IF($K15=4, \"Unknown\", IF($K15=99, \"Surveillance\", SUM($S15:$U15))), 0),\"Not required\")","v":185936},0,1,1,1,"TAS",null,null,null,null,null,null,7423,"MEIGANGA"]
[{"$f":"IF(INTRO!$E$33<>0,INTRO!$E$33, \" \")","v":"Cameroun"},"Adamaoua","Ngaoundal",101325,18841.464,{"$f":"IF(INTRO!$E$49=\"\",\"\",ROUND($D16*INTRO!$E$49,0))","v":26800},{"$f":"IF(INTRO!$E$50=\"\",\"\",ROUND($D16*INTRO!$E$50,0))","v":58333},0,1,3,2,1,{"$f":"IF(INTRO!$E$37=\"Endemic\",IF($H16>0,IF($H16=4,\"Unknown\",IF($H16=99,\"Stopped\",$D16)),0),\"Not required\")","v":0},{"$f":"IF(INTRO!$E$39=\"Endemic\", IF($I16>0, IF($I16=4,\"Unknown\",IF($I16=99,\"Stopped\",$D16)), 0),\"Not required\")","v":101325},{"$f":"IF(INTRO!$E$41=\"Endemic\", IF($J16>1, IF($J16=4, \"Unknown\", IF($J16=99, \"Surveillance\", E16)), 0),\"Not required\")","v":18841.464},{"$f":"IF(INTRO!$E$41=\"Endemic\", IF($J16>1, IF($J16=4, \"Unknown\", IF($J16=99, \"Surveillance\", F16)), 0),\"Not required\")","v":26800},{"$f":"IF(INTRO!$E$41=\"Endemic\", IF($J16>1, IF($J16=4, \"Unknown\", IF($J16=99, \"Surveillance\", ROUND(D16*INTRO!$E$51,0))), 0),\"Not required\")","v":3749},{"$f":"IF(INTRO!$E$41=\"Endemic\", IF($J16>1, IF($J16=4, \"Unknown\", IF($J16=99, \"Surveillance\", SUM($O16:$Q16))), 0),\"Not required\")","v":49390.464},{"$f":"IF(INTRO!$E$43=\"Endemic\", IF($K16>1, IF($K16=4, \"Unknown\", IF($K16=99, \"Surveillance\", ROUND(E16*0.75,0))), 0),\"Not required\")","v":14131},{"$f":"IF(INTRO!$E$43=\"Endemic\", IF($K16>1, IF($K16=4, \"Unknown\", IF($K16=99, \"Surveillance\", F16)), 0),\"Not required\")","v":26800},{"$f":"IF(INTRO!$E$43=\"Endemic\", IF($K16>1, IF($K16=4, \"Unknown\", IF($K16=99, \"Surveillance\", G16)), 0),\"Not required\")","v":58333},{"$f":"IF(INTRO!$E$43=\"Endemic\", IF($K16>1, IF($K16=4, \"Unknown\", IF($K16=99, \"Surveillance\", SUM($S16:$U16))), 0),\"Not required\")","v":99264},0,1,1,1,null,null,null,null,null,null,null,7424,"NGAOUNDAL"]
[{"$f":"IF(INTRO!$E$33<>0,INTRO!$E$33, \" \")","v":"Cameroun"},"Adamaoua","Ngaoundere Rural",177775,21255.315826681886,{"$f":"IF(INTRO!$E$49=\"\",\"\",ROUND($D17*INTRO!$E$49,0))","v":47021},{"$f":"IF(INTRO!$E$50=\"\",\"\",ROUND($D17*INTRO!$E$50,0))","v":102345},99,1,3,3,1,{"$f":"IF(INTRO!$E$37=\"Endemic\",IF($H17>0,IF($H17=4,\"Unknown\",IF($H17=99,\"Stopped\",$D17)),0),\"Not required\")","v":"Stopped"},{"$f":"IF(INTRO!$E$39=\"Endemic\", IF($I17>0, IF($I17=4,\"Unknown\",IF($I17=99,\"Stopped\",$D17)), 0),\"Not required\")","v":177775},{"$f":"IF(INTRO!$E$41=\"Endemic\", IF($J17>1, IF($J17=4, \"Unknown\", IF($J17=99, \"Surveillance\", E17)), 0),\"Not required\")","v":21255.315826681886},{"$f":"IF(INTRO!$E$41=\"Endemic\", IF($J17>1, IF($J17=4, \"Unknown\", IF($J17=99, \"Surveillance\", F17)), 0),\"Not required\")","v":47021},{"$f":"IF(INTRO!$E$41=\"Endemic\", IF($J17>1, IF($J17=4, \"Unknown\", IF($J17=99, \"Surveillance\", ROUND(D17*INTRO!$E$51,0))), 0),\"Not required\")","v":6578},{"$f":"IF(INTRO!$E$41=\"Endemic\", IF($J17>1, IF($J17=4, \"Unknown\", IF($J17=99, \"Surveillance\", SUM($O17:$Q17))), 0),\"Not required\")","v":74854.315826681879},{"$f":"IF(INTRO!$E$43=\"Endemic\", IF($K17>1, IF($K17=4, \"Unknown\", IF($K17=99, \"Surveillance\", ROUND(E17*0.75,0))), 0),\"Not required\")","v":15941},{"$f":"IF(INTRO!$E$43=\"Endemic\", IF($K17>1, IF($K17=4, \"Unknown\", IF($K17=99, \"Surveillance\", F17)), 0),\"Not required\")","v":47021},{"$f":"IF(INTRO!$E$43=\"Endemic\", IF($K17>1, IF($K17=4, \"Unknown\", IF($K17=99, \"Surveillance\", G17)), 0),\"Not required\")","v":102345},{"$f":"IF(INTRO!$E$43=\"Endemic\", IF($K17>1, IF($K17=4, \"Unknown\", IF($K17=99, \"Surveillance\", SUM($S17:$U17))), 0),\"Not required\")","v":165307},0,1,1,1,null,null,null,null,null,null,null,7425,"NGAOUNDERE RURAL"]
[{"$f":"IF(INTRO!$E$33<>0,INTRO!$E$33, \" \")","v":"Cameroun"},"Adamaoua","Ngaoundere Urbain",437927,72335.051999999996,{"$f":"IF(INTRO!$E$49=\"\",\"\",ROUND($D18*INTRO!$E$49,0))","v":115832},{"$f":"IF(INTRO!$E$50=\"\",\"\",ROUND($D18*INTRO!$E$50,0))","v":252115},99,1,2,1,1,{"$f":"IF(INTRO!$E$37=\"Endemic\",IF($H18>0,IF($H18=4,\"Unknown\",IF($H18=99,\"Stopped\",$D18)),0),\"Not required\")","v":"Stopped"},{"$f":"IF(INTRO!$E$39=\"Endemic\", IF($I18>0, IF($I18=4,\"Unknown\",IF($I18=99,\"Stopped\",$D18)), 0),\"Not required\")","v":437927},{"$f":"IF(INTRO!$E$41=\"Endemic\", IF($J18>1, IF($J18=4, \"Unknown\", IF($J18=99, \"Surveillance\", E18)), 0),\"Not required\")","v":72335.051999999996},{"$f":"IF(INTRO!$E$41=\"Endemic\", IF($J18>1, IF($J18=4, \"Unknown\", IF($J18=99, \"Surveillance\", F18)), 0),\"Not required\")","v":115832},{"$f":"IF(INTRO!$E$41=\"Endemic\", IF($J18>1, IF($J18=4, \"Unknown\", IF($J18=99, \"Surveillance\", ROUND(D18*INTRO!$E$51,0))), 0),\"Not required\")","v":16203},{"$f":"IF(INTRO!$E$41=\"Endemic\", IF($J18>1, IF($J18=4, \"Unknown\", IF($J18=99, \"Surveillance\", SUM($O18:$Q18))), 0),\"Not required\")","v":204370.052},{"$f":"IF(INTRO!$E$43=\"Endemic\", IF($K18>1, IF($K18=4, \"Unknown\", IF($K18=99, \"Surveillance\", ROUND(E18*0.75,0))), 0),\"Not required\")","v":0},{"$f":"IF(INTRO!$E$43=\"Endemic\", IF($K18>1, IF($K18=4, \"Unknown\", IF($K18=99, \"Surveillance\", F18)), 0),\"Not required\")","v":0},{"$f":"IF(INTRO!$E$43=\"Endemic\", IF($K18>1, IF($K18=4, \"Unknown\", IF($K18=99, \"Surveillance\", G18)), 0),\"Not required\")","v":0},{"$f":"IF(INTRO!$E$43=\"Endemic\", IF($K18>1, IF($K18=4, \"Unknown\", IF($K18=99, \"Surveillance\", SUM($S18:$U18))), 0),\"Not required\")","v":0},0,1,1,0,"TAS",null,null,null,null,null,null,7426,"NGAOUNDERE URBAIN"]
[{"$f":"IF(INTRO!$E$33<>0,INTRO!$E$33, \" \")","v":"Cameroun"},"Adamaoua","Tibati",119308,25010.802,{"$f":"IF(INTRO!$E$49=\"\",\"\",ROUND($D19*INTRO!$E$49,0))","v":31557},{"$f":"IF(INTRO!$E$50=\"\",\"\",ROUND($D19*INTRO!$E$50,0))","v":68686},0,1,3,1,1,{"$f":"IF(INTRO!$E$37=\"Endemic\",IF($H19>0,IF($H19=4,\"Unknown\",IF($H19=99,\"Stopped\",$D19)),0),\"Not required\")","v":0},{"$f":"IF(INTRO!$E$39=\"Endemic\", IF($I19>0, IF($I19=4,\"Unknown\",IF($I19=99,\"Stopped\",$D19)), 0),\"Not required\")","v":119308},{"$f":"IF(INTRO!$E$41=\"Endemic\", IF($J19>1, IF($J19=4, \"Unknown\", IF($J19=99, \"Surveillance\", E19)), 0),\"Not required\")","v":25010.802},{"$f":"IF(INTRO!$E$41=\"Endemic\", IF($J19>1, IF($J19=4, \"Unknown\", IF($J19=99, \"Surveillance\", F19)), 0),\"Not required\")","v":31557},{"$f":"IF(INTRO!$E$41=\"Endemic\", IF($J19>1, IF($J19=4, \"Unknown\", IF($J19=99, \"Surveillance\", ROUND(D19*INTRO!$E$51,0))), 0),\"Not required\")","v":4414},{"$f":"IF(INTRO!$E$41=\"Endemic\", IF($J19>1, IF($J19=4, \"Unknown\", IF($J19=99, \"Surveillance\", SUM($O19:$Q19))), 0),\"Not required\")","v":60981.801999999996},{"$f":"IF(INTRO!$E$43=\"Endemic\", IF($K19>1, IF($K19=4, \"Unknown\", IF($K19=99, \"Surveillance\", ROUND(E19*0.75,0))), 0),\"Not required\")","v":0},{"$f":"IF(INTRO!$E$43=\"Endemic\", IF($K19>1, IF($K19=4, \"Unknown\", IF($K19=99, \"Surveillance\", F19)), 0),\"Not required\")","v":0},{"$f":"IF(INTRO!$E$43=\"Endemic\", IF($K19>1, IF($K19=4, \"Unknown\", IF($K19=99, \"Surveillance\", G19)), 0),\"Not required\")","v":0},{"$f":"IF(INTRO!$E$43=\"Endemic\", IF($K19>1, IF($K19=4, \"Unknown\", IF($K19=99, \"Surveillance\", SUM($S19:$U19))), 0),\"Not required\")","v":0},0,1,1,0,null,null,null,null,null,null,null,7427,"TIBATI"]
[{"$f":"IF(INTRO!$E$33<>0,INTRO!$E$33, \" \")","v":"Cameroun"},"Adamaoua","Tignere",133132,33919.56,{"$f":"IF(INTRO!$E$49=\"\",\"\",ROUND($D20*INTRO!$E$49,0))","v":35213},{"$f":"IF(INTRO!$E$50=\"\",\"\",ROUND($D20*INTRO!$E$50,0))","v":76644},99,1,3,3,0,{"$f":"IF(INTRO!$E$37=\"Endemic\",IF($H20>0,IF($H20=4,\"Unknown\",IF($H20=99,\"Stopped\",$D20)),0),\"Not required\")","v":"Stopped"},{"$f":"IF(INTRO!$E$39=\"Endemic\", IF($I20>0, IF($I20=4,\"Unknown\",IF($I20=99,\"Stopped\",$D20)), 0),\"Not required\")","v":133132},{"$f":"IF(INTRO!$E$41=\"Endemic\", IF($J20>1, IF($J20=4, \"Unknown\", IF($J20=99, \"Surveillance\", E20)), 0),\"Not required\")","v":33919.56},{"$f":"IF(INTRO!$E$41=\"Endemic\", IF($J20>1, IF($J20=4, \"Unknown\", IF($J20=99, \"Surveillance\", F20)), 0),\"Not required\")","v":35213},{"$f":"IF(INTRO!$E$41=\"Endemic\", IF($J20>1, IF($J20=4, \"Unknown\", IF($J20=99, \"Surveillance\", ROUND(D20*INTRO!$E$51,0))), 0),\"Not required\")","v":4926},{"$f":"IF(INTRO!$E$41=\"Endemic\", IF($J20>1, IF($J20=4, \"Unknown\", IF($J20=99, \"Surveillance\", SUM($O20:$Q20))), 0),\"Not required\")","v":74058.559999999998},{"$f":"IF(INTRO!$E$43=\"Endemic\", IF($K20>1, IF($K20=4, \"Unknown\", IF($K20=99, \"Surveillance\", ROUND(E20*0.75,0))), 0),\"Not required\")","v":25440},{"$f":"IF(INTRO!$E$43=\"Endemic\", IF($K20>1, IF($K20=4, \"Unknown\", IF($K20=99, \"Surveillance\", F20)), 0),\"Not required\")","v":35213},{"$f":"IF(INTRO!$E$43=\"Endemic\", IF($K20>1, IF($K20=4, \"Unknown\", IF($K20=99, \"Surveillance\", G20)), 0),\"Not required\")","v":76644},{"$f":"IF(INTRO!$E$43=\"Endemic\", IF($K20>1, IF($K20=4, \"Unknown\", IF($K20=99, \"Surveillance\", SUM($S20:$U20))), 0),\"Not required\")","v":137297},0,1,1,1,"TAS",null,null,null,null,null,null,7428,"TIGNERE"]
[{"$f":"IF(INTRO!$E$33<>0,INTRO!$E$33, \" \")","v":"Cameroun"},"Centre","Akonolinga",96193,31048.812000000002,{"$f":"IF(INTRO!$E$49=\"\",\"\",ROUND($D21*INTRO!$E$49,0))","v":25443},{"$f":"IF(INTRO!$E$50=\"\",\"\",ROUND($D21*INTRO!$E$50,0))","v":55378},0,4,3,1,1,{"$f":"IF(INTRO!$E$37=\"Endemic\",IF($H21>0,IF($H21=4,\"Unknown\",IF($H21=99,\"Stopped\",$D21)),0),\"Not required\")","v":0},{"$f":"IF(INTRO!$E$39=\"Endemic\", IF($I21>0, IF($I21=4,\"Unknown\",IF($I21=99,\"Stopped\",$D21)), 0),\"Not required\")","v":"Unknown"},{"$f":"IF(INTRO!$E$41=\"Endemic\", IF($J21>1, IF($J21=4, \"Unknown\", IF($J21=99, \"Surveillance\", E21)), 0),\"Not required\")","v":31048.812000000002},{"$f":"IF(INTRO!$E$41=\"Endemic\", IF($J21>1, IF($J21=4, \"Unknown\", IF($J21=99, \"Surveillance\", F21)), 0),\"Not required\")","v":25443},{"$f":"IF(INTRO!$E$41=\"Endemic\", IF($J21>1, IF($J21=4, \"Unknown\", IF($J21=99, \"Surveillance\", ROUND(D21*INTRO!$E$51,0))), 0),\"Not required\")","v":3559},{"$f":"IF(INTRO!$E$41=\"Endemic\", IF($J21>1, IF($J21=4, \"Unknown\", IF($J21=99, \"Surveillance\", SUM($O21:$Q21))), 0),\"Not required\")","v":60050.812000000005},{"$f":"IF(INTRO!$E$43=\"Endemic\", IF($K21>1, IF($K21=4, \"Unknown\", IF($K21=99, \"Surveillance\", ROUND(E21*0.75,0))), 0),\"Not required\")","v":0},{"$f":"IF(INTRO!$E$43=\"Endemic\", IF($K21>1, IF($K21=4, \"Unknown\", IF($K21=99, \"Surveillance\", F21)), 0),\"Not required\")","v":0},{"$f":"IF(INTRO!$E$43=\"Endemic\", IF($K21>1, IF($K21=4, \"Unknown\", IF($K21=99, \"Surveillance\", G21)), 0),\"Not required\")","v":0},{"$f":"IF(INTRO!$E$43=\"Endemic\", IF($K21>1, IF($K21=4, \"Unknown\", IF($K21=99, \"Surveillance\", SUM($S21:$U21))), 0),\"Not required\")","v":0},0,0,1,0,null,"Yes",null,null,null,null,null,7429,"AKONOLINGA"]
[{"$f":"IF(INTRO!$E$33<>0,INTRO!$E$33, \" \")","v":"Cameroun"},"Centre","Awae",31187,6658.74,{"$f":"IF(INTRO!$E$49=\"\",\"\",ROUND($D22*INTRO!$E$49,0))","v":8249},{"$f":"IF(INTRO!$E$50=\"\",\"\",ROUND($D22*INTRO!$E$50,0))","v":17954},0,4,3,1,1,{"$f":"IF(INTRO!$E$37=\"Endemic\",IF($H22>0,IF($H22=4,\"Unknown\",IF($H22=99,\"Stopped\",$D22)),0),\"Not required\")","v":0},{"$f":"IF(INTRO!$E$39=\"Endemic\", IF($I22>0, IF($I22=4,\"Unknown\",IF($I22=99,\"Stopped\",$D22)), 0),\"Not required\")","v":"Unknown"},{"$f":"IF(INTRO!$E$41=\"Endemic\", IF($J22>1, IF($J22=4, \"Unknown\", IF($J22=99, \"Surveillance\", E22)), 0),\"Not required\")","v":6658.74},{"$f":"IF(INTRO!$E$41=\"Endemic\", IF($J22>1, IF($J22=4, \"Unknown\", IF($J22=99, \"Surveillance\", F22)), 0),\"Not required\")","v":8249},{"$f":"IF(INTRO!$E$41=\"Endemic\", IF($J22>1, IF($J22=4, \"Unknown\", IF($J22=99, \"Surveillance\", ROUND(D22*INTRO!$E$51,0))), 0),\"Not required\")","v":1154},{"$f":"IF(INTRO!$E$41=\"Endemic\", IF($J22>1, IF($J22=4, \"Unknown\", IF($J22=99, \"Surveillance\", SUM($O22:$Q22))), 0),\"Not required\")","v":16061.74},{"$f":"IF(INTRO!$E$43=\"Endemic\", IF($K22>1, IF($K22=4, \"Unknown\", IF($K22=99, \"Surveillance\", ROUND(E22*0.75,0))), 0),\"Not required\")","v":0},{"$f":"IF(INTRO!$E$43=\"Endemic\", IF($K22>1, IF($K22=4, \"Unknown\", IF($K22=99, \"Surveillance\", F22)), 0),\"Not required\")","v":0},{"$f":"IF(INTRO!$E$43=\"Endemic\", IF($K22>1, IF($K22=4, \"Unknown\", IF($K22=99, \"Surveillance\", G22)), 0),\"Not required\")","v":0},{"$f":"IF(INTRO!$E$43=\"Endemic\", IF($K22>1, IF($K22=4, \"Unknown\", IF($K22=99, \"Surveillance\", SUM($S22:$U22))), 0),\"Not required\")","v":0},0,0,1,0,null,"Yes",null,null,null,null,null,7430,"AWAE"]
[{"$f":"IF(INTRO!$E$33<>0,INTRO!$E$33, \" \")","v":"Cameroun"},"Centre","Ayos",46897,12306.87,{"$f":"IF(INTRO!$E$49=\"\",\"\",ROUND($D23*INTRO!$E$49,0))","v":12404},{"$f":"IF(INTRO!$E$50=\"\",\"\",ROUND($D23*INTRO!$E$50,0))","v":26999},0,4,3,2,1,{"$f":"IF(INTRO!$E$37=\"Endemic\",IF($H23>0,IF($H23=4,\"Unknown\",IF($H23=99,\"Stopped\",$D23)),0),\"Not required\")","v":0},{"$f":"IF(INTRO!$E$39=\"Endemic\", IF($I23>0, IF($I23=4,\"Unknown\",IF($I23=99,\"Stopped\",$D23)), 0),\"Not required\")","v":"Unknown"},{"$f":"IF(INTRO!$E$41=\"Endemic\", IF($J23>1, IF($J23=4, \"Unknown\", IF($J23=99, \"Surveillance\", E23)), 0),\"Not required\")","v":12306.87},{"$f":"IF(INTRO!$E$41=\"Endemic\", IF($J23>1, IF($J23=4, \"Unknown\", IF($J23=99, \"Surveillance\", F23)), 0),\"Not required\")","v":12404},{"$f":"IF(INTRO!$E$41=\"Endemic\", IF($J23>1, IF($J23=4, \"Unknown\", IF($J23=99, \"Surveillance\", ROUND(D23*INTRO!$E$51,0))), 0),\"Not required\")","v":1735},{"$f":"IF(INTRO!$E$41=\"Endemic\", IF($J23>1, IF($J23=4, \"Unknown\", IF($J23=99, \"Surveillance\", SUM($O23:$Q23))), 0),\"Not required\")","v":26445.870000000003},{"$f":"IF(INTRO!$E$43=\"Endemic\", IF($K23>1, IF($K23=4, \"Unknown\", IF($K23=99, \"Surveillance\", ROUND(E23*0.75,0))), 0),\"Not required\")","v":9230},{"$f":"IF(INTRO!$E$43=\"Endemic\", IF($K23>1, IF($K23=4, \"Unknown\", IF($K23=99, \"Surveillance\", F23)), 0),\"Not required\")","v":12404},{"$f":"IF(INTRO!$E$43=\"Endemic\", IF($K23>1, IF($K23=4, \"Unknown\", IF($K23=99, \"Surveillance\", G23)), 0),\"Not required\")","v":26999},{"$f":"IF(INTRO!$E$43=\"Endemic\", IF($K23>1, IF($K23=4, \"Unknown\", IF($K23=99, \"Surveillance\", SUM($S23:$U23))), 0),\"Not required\")","v":48633},0,0,1,1,null,"Yes",null,null,null,null,null,7431,"AYOS"]
[{"$f":"IF(INTRO!$E$33<>0,INTRO!$E$33, \" \")","v":"Cameroun"},"Centre","Bafia",186015,25252.938000000002,{"$f":"IF(INTRO!$E$49=\"\",\"\",ROUND($D24*INTRO!$E$49,0))","v":49201},{"$f":"IF(INTRO!$E$50=\"\",\"\",ROUND($D24*INTRO!$E$50,0))","v":107089},99,1,3,3,1,{"$f":"IF(INTRO!$E$37=\"Endemic\",IF($H24>0,IF($H24=4,\"Unknown\",IF($H24=99,\"Stopped\",$D24)),0),\"Not required\")","v":"Stopped"},{"$f":"IF(INTRO!$E$39=\"Endemic\", IF($I24>0, IF($I24=4,\"Unknown\",IF($I24=99,\"Stopped\",$D24)), 0),\"Not required\")","v":186015},{"$f":"IF(INTRO!$E$41=\"Endemic\", IF($J24>1, IF($J24=4, \"Unknown\", IF($J24=99, \"Surveillance\", E24)), 0),\"Not required\")","v":25252.938000000002},{"$f":"IF(INTRO!$E$41=\"Endemic\", IF($J24>1, IF($J24=4, \"Unknown\", IF($J24=99, \"Surveillance\", F24)), 0),\"Not required\")","v":49201},{"$f":"IF(INTRO!$E$41=\"Endemic\", IF($J24>1, IF($J24=4, \"Unknown\", IF($J24=99, \"Surveillance\", ROUND(D24*INTRO!$E$51,0))), 0),\"Not required\")","v":6883},{"$f":"IF(INTRO!$E$41=\"Endemic\", IF($J24>1, IF($J24=4, \"Unknown\", IF($J24=99, \"Surveillance\", SUM($O24:$Q24))), 0),\"Not required\")","v":81336.937999999995},{"$f":"IF(INTRO!$E$43=\"Endemic\", IF($K24>1, IF($K24=4, \"Unknown\", IF($K24=99, \"Surveillance\", ROUND(E24*0.75,0))), 0),\"Not required\")","v":18940},{"$f":"IF(INTRO!$E$43=\"Endemic\", IF($K24>1, IF($K24=4, \"Unknown\", IF($K24=99, \"Surveillance\", F24)), 0),\"Not required\")","v":49201},{"$f":"IF(INTRO!$E$43=\"Endemic\", IF($K24>1, IF($K24=4, \"Unknown\", IF($K24=99, \"Surveillance\", G24)), 0),\"Not required\")","v":107089},{"$f":"IF(INTRO!$E$43=\"Endemic\", IF($K24>1, IF($K24=4, \"Unknown\", IF($K24=99, \"Surveillance\", SUM($S24:$U24))), 0),\"Not required\")","v":175230},0,1,1,1,null,"Yes",null,null,null,null,null,7432,"BAFIA"]
[{"$f":"IF(INTRO!$E$33<>0,INTRO!$E$33, \" \")","v":"Cameroun"},"Centre","Biyem Assi",430366,96731.28,{"$f":"IF(INTRO!$E$49=\"\",\"\",ROUND($D25*INTRO!$E$49,0))","v":113832},{"$f":"IF(INTRO!$E$50=\"\",\"\",ROUND($D25*INTRO!$E$50,0))","v":247762},0,4,2,1,1,{"$f":"IF(INTRO!$E$37=\"Endemic\",IF($H25>0,IF($H25=4,\"Unknown\",IF($H25=99,\"Stopped\",$D25)),0),\"Not required\")","v":0},{"$f":"IF(INTRO!$E$39=\"Endemic\", IF($I25>0, IF($I25=4,\"Unknown\",IF($I25=99,\"Stopped\",$D25)), 0),\"Not required\")","v":"Unknown"},{"$f":"IF(INTRO!$E$41=\"Endemic\", IF($J25>1, IF($J25=4, \"Unknown\", IF($J25=99, \"Surveillance\", E25)), 0),\"Not required\")","v":96731.28},{"$f":"IF(INTRO!$E$41=\"Endemic\", IF($J25>1, IF($J25=4, \"Unknown\", IF($J25=99, \"Surveillance\", F25)), 0),\"Not required\")","v":113832},{"$f":"IF(INTRO!$E$41=\"Endemic\", IF($J25>1, IF($J25=4, \"Unknown\", IF($J25=99, \"Surveillance\", ROUND(D25*INTRO!$E$51,0))), 0),\"Not required\")","v":15924},{"$f":"IF(INTRO!$E$41=\"Endemic\", IF($J25>1, IF($J25=4, \"Unknown\", IF($J25=99, \"Surveillance\", SUM($O25:$Q25))), 0),\"Not required\")","v":226487.28},{"$f":"IF(INTRO!$E$43=\"Endemic\", IF($K25>1, IF($K25=4, \"Unknown\", IF($K25=99, \"Surveillance\", ROUND(E25*0.75,0))), 0),\"Not required\")","v":0},{"$f":"IF(INTRO!$E$43=\"Endemic\", IF($K25>1, IF($K25=4, \"Unknown\", IF($K25=99, \"Surveillance\", F25)), 0),\"Not required\")","v":0},{"$f":"IF(INTRO!$E$43=\"Endemic\", IF($K25>1, IF($K25=4, \"Unknown\", IF($K25=99, \"Surveillance\", G25)), 0),\"Not required\")","v":0},{"$f":"IF(INTRO!$E$43=\"Endemic\", IF($K25>1, IF($K25=4, \"Unknown\", IF($K25=99, \"Surveillance\", SUM($S25:$U25))), 0),\"Not required\")","v":0},0,0,1,0,null,"Yes",null,null,null,null,null,7433,"BIYEM ASSI"]
[{"$f":"IF(INTRO!$E$33<>0,INTRO!$E$33, \" \")","v":"Cameroun"},"Centre","Cite Verte",481065,77701.032000000007,{"$f":"IF(INTRO!$E$49=\"\",\"\",ROUND($D26*INTRO!$E$49,0))","v":127242},{"$f":"IF(INTRO!$E$50=\"\",\"\",ROUND($D26*INTRO!$E$50,0))","v":276949},0,4,1,1,1,{"$f":"IF(INTRO!$E$37=\"Endemic\",IF($H26>0,IF($H26=4,\"Unknown\",IF($H26=99,\"Stopped\",$D26)),0),\"Not required\")","v":0},{"$f":"IF(INTRO!$E$39=\"Endemic\", IF($I26>0, IF($I26=4,\"Unknown\",IF($I26=99,\"Stopped\",$D26)), 0),\"Not required\")","v":"Unknown"},{"$f":"IF(INTRO!$E$41=\"Endemic\", IF($J26>1, IF($J26=4, \"Unknown\", IF($J26=99, \"Surveillance\", E26)), 0),\"Not required\")","v":0},{"$f":"IF(INTRO!$E$41=\"Endemic\", IF($J26>1, IF($J26=4, \"Unknown\", IF($J26=99, \"Surveillance\", F26)), 0),\"Not required\")","v":0},{"$f":"IF(INTRO!$E$41=\"Endemic\", IF($J26>1, IF($J26=4, \"Unknown\", IF($J26=99, \"Surveillance\", ROUND(D26*INTRO!$E$51,0))), 0),\"Not required\")","v":0},{"$f":"IF(INTRO!$E$41=\"Endemic\", IF($J26>1, IF($J26=4, \"Unknown\", IF($J26=99, \"Surveillance\", SUM($O26:$Q26))), 0),\"Not required\")","v":0},{"$f":"IF(INTRO!$E$43=\"Endemic\", IF($K26>1, IF($K26=4, \"Unknown\", IF($K26=99, \"Surveillance\", ROUND(E26*0.75,0))), 0),\"Not required\")","v":0},{"$f":"IF(INTRO!$E$43=\"Endemic\", IF($K26>1, IF($K26=4, \"Unknown\", IF($K26=99, \"Surveillance\", F26)), 0),\"Not required\")","v":0},{"$f":"IF(INTRO!$E$43=\"Endemic\", IF($K26>1, IF($K26=4, \"Unknown\", IF($K26=99, \"Surveillance\", G26)), 0),\"Not required\")","v":0},{"$f":"IF(INTRO!$E$43=\"Endemic\", IF($K26>1, IF($K26=4, \"Unknown\", IF($K26=99, \"Surveillance\", SUM($S26:$U26))), 0),\"Not required\")","v":0},0,0,0,0,null,"Yes",null,null,null,null,null,7434,"CITE VERTE"]
[{"$f":"IF(INTRO!$E$33<>0,INTRO!$E$33, \" \")","v":"Cameroun"},"Centre","Djoungolo",562641,115025.886,{"$f":"IF(INTRO!$E$49=\"\",\"\",ROUND($D27*INTRO!$E$49,0))","v":148819},{"$f":"IF(INTRO!$E$50=\"\",\"\",ROUND($D27*INTRO!$E$50,0))","v":323912},0,4,2,2,1,{"$f":"IF(INTRO!$E$37=\"Endemic\",IF($H27>0,IF($H27=4,\"Unknown\",IF($H27=99,\"Stopped\",$D27)),0),\"Not required\")","v":0},{"$f":"IF(INTRO!$E$39=\"Endemic\", IF($I27>0, IF($I27=4,\"Unknown\",IF($I27=99,\"Stopped\",$D27)), 0),\"Not required\")","v":"Unknown"},{"$f":"IF(INTRO!$E$41=\"Endemic\", IF($J27>1, IF($J27=4, \"Unknown\", IF($J27=99, \"Surveillance\", E27)), 0),\"Not required\")","v":115025.886},{"$f":"IF(INTRO!$E$41=\"Endemic\", IF($J27>1, IF($J27=4, \"Unknown\", IF($J27=99, \"Surveillance\", F27)), 0),\"Not required\")","v":148819},{"$f":"IF(INTRO!$E$41=\"Endemic\", IF($J27>1, IF($J27=4, \"Unknown\", IF($J27=99, \"Surveillance\", ROUND(D27*INTRO!$E$51,0))), 0),\"Not required\")","v":20818},{"$f":"IF(INTRO!$E$41=\"Endemic\", IF($J27>1, IF($J27=4, \"Unknown\", IF($J27=99, \"Surveillance\", SUM($O27:$Q27))), 0),\"Not required\")","v":284662.886},{"$f":"IF(INTRO!$E$43=\"Endemic\", IF($K27>1, IF($K27=4, \"Unknown\", IF($K27=99, \"Surveillance\", ROUND(E27*0.75,0))), 0),\"Not required\")","v":86269},{"$f":"IF(INTRO!$E$43=\"Endemic\", IF($K27>1, IF($K27=4, \"Unknown\", IF($K27=99, \"Surveillance\", F27)), 0),\"Not required\")","v":148819},{"$f":"IF(INTRO!$E$43=\"Endemic\", IF($K27>1, IF($K27=4, \"Unknown\", IF($K27=99, \"Surveillance\", G27)), 0),\"Not required\")","v":323912},{"$f":"IF(INTRO!$E$43=\"Endemic\", IF($K27>1, IF($K27=4, \"Unknown\", IF($K27=99, \"Surveillance\", SUM($S27:$U27))), 0),\"Not required\")","v":559000},0,0,1,1,null,"Yes",null,null,null,null,null,7435,"DJOUNGOLO"]
[{"$f":"IF(INTRO!$E$33<>0,INTRO!$E$33, \" \")","v":"Cameroun"},"Centre","Ebebda",24675,3150.846,{"$f":"IF(INTRO!$E$49=\"\",\"\",ROUND($D28*INTRO!$E$49,0))","v":6527},{"$f":"IF(INTRO!$E$50=\"\",\"\",ROUND($D28*INTRO!$E$50,0))","v":14205},99,1,3,0,1,{"$f":"IF(INTRO!$E$37=\"Endemic\",IF($H28>0,IF($H28=4,\"Unknown\",IF($H28=99,\"Stopped\",$D28)),0),\"Not required\")","v":"Stopped"},{"$f":"IF(INTRO!$E$39=\"Endemic\", IF($I28>0, IF($I28=4,\"Unknown\",IF($I28=99,\"Stopped\",$D28)), 0),\"Not required\")","v":24675},{"$f":"IF(INTRO!$E$41=\"Endemic\", IF($J28>1, IF($J28=4, \"Unknown\", IF($J28=99, \"Surveillance\", E28)), 0),\"Not required\")","v":3150.846},{"$f":"IF(INTRO!$E$41=\"Endemic\", IF($J28>1, IF($J28=4, \"Unknown\", IF($J28=99, \"Surveillance\", F28)), 0),\"Not required\")","v":6527},{"$f":"IF(INTRO!$E$41=\"Endemic\", IF($J28>1, IF($J28=4, \"Unknown\", IF($J28=99, \"Surveillance\", ROUND(D28*INTRO!$E$51,0))), 0),\"Not required\")","v":913},{"$f":"IF(INTRO!$E$41=\"Endemic\", IF($J28>1, IF($J28=4, \"Unknown\", IF($J28=99, \"Surveillance\", SUM($O28:$Q28))), 0),\"Not required\")","v":10590.846},{"$f":"IF(INTRO!$E$43=\"Endemic\", IF($K28>1, IF($K28=4, \"Unknown\", IF($K28=99, \"Surveillance\", ROUND(E28*0.75,0))), 0),\"Not required\")","v":0},{"$f":"IF(INTRO!$E$43=\"Endemic\", IF($K28>1, IF($K28=4, \"Unknown\", IF($K28=99, \"Surveillance\", F28)), 0),\"Not required\")","v":0},{"$f":"IF(INTRO!$E$43=\"Endemic\", IF($K28>1, IF($K28=4, \"Unknown\", IF($K28=99, \"Surveillance\", G28)), 0),\"Not required\")","v":0},{"$f":"IF(INTRO!$E$43=\"Endemic\", IF($K28>1, IF($K28=4, \"Unknown\", IF($K28=99, \"Surveillance\", SUM($S28:$U28))), 0),\"Not required\")","v":0},0,1,1,0,null,"Yes",null,null,null,null,null,7436,"EBEBDA"]
[{"$f":"IF(INTRO!$E$33<>0,INTRO!$E$33, \" \")","v":"Cameroun"},"Centre","Efoulan",489314,51818.130000000005,{"$f":"IF(INTRO!$E$49=\"\",\"\",ROUND($D29*INTRO!$E$49,0))","v":129424},{"$f":"IF(INTRO!$E$50=\"\",\"\",ROUND($D29*INTRO!$E$50,0))","v":281698},0,4,2,2,1,{"$f":"IF(INTRO!$E$37=\"Endemic\",IF($H29>0,IF($H29=4,\"Unknown\",IF($H29=99,\"Stopped\",$D29)),0),\"Not required\")","v":0},{"$f":"IF(INTRO!$E$39=\"Endemic\", IF($I29>0, IF($I29=4,\"Unknown\",IF($I29=99,\"Stopped\",$D29)), 0),\"Not required\")","v":"Unknown"},{"$f":"IF(INTRO!$E$41=\"Endemic\", IF($J29>1, IF($J29=4, \"Unknown\", IF($J29=99, \"Surveillance\", E29)), 0),\"Not required\")","v":51818.130000000005},{"$f":"IF(INTRO!$E$41=\"Endemic\", IF($J29>1, IF($J29=4, \"Unknown\", IF($J29=99, \"Surveillance\", F29)), 0),\"Not required\")","v":129424},{"$f":"IF(INTRO!$E$41=\"Endemic\", IF($J29>1, IF($J29=4, \"Unknown\", IF($J29=99, \"Surveillance\", ROUND(D29*INTRO!$E$51,0))), 0),\"Not required\")","v":18105},{"$f":"IF(INTRO!$E$41=\"Endemic\", IF($J29>1, IF($J29=4, \"Unknown\", IF($J29=99, \"Surveillance\", SUM($O29:$Q29))), 0),\"Not required\")","v":199347.13},{"$f":"IF(INTRO!$E$43=\"Endemic\", IF($K29>1, IF($K29=4, \"Unknown\", IF($K29=99, \"Surveillance\", ROUND(E29*0.75,0))), 0),\"Not required\")","v":38864},{"$f":"IF(INTRO!$E$43=\"Endemic\", IF($K29>1, IF($K29=4, \"Unknown\", IF($K29=99, \"Surveillance\", F29)), 0),\"Not required\")","v":129424},{"$f":"IF(INTRO!$E$43=\"Endemic\", IF($K29>1, IF($K29=4, \"Unknown\", IF($K29=99, \"Surveillance\", G29)), 0),\"Not required\")","v":281698},{"$f":"IF(INTRO!$E$43=\"Endemic\", IF($K29>1, IF($K29=4, \"Unknown\", IF($K29=99, \"Surveillance\", SUM($S29:$U29))), 0),\"Not required\")","v":449986},0,0,1,1,null,"Yes",null,null,null,null,null,7437,"EFOULAN"]
[{"$f":"IF(INTRO!$E$33<>0,INTRO!$E$33, \" \")","v":"Cameroun"},"Centre","Elig Mfomo",18714,2423.4120000000003,{"$f":"IF(INTRO!$E$49=\"\",\"\",ROUND($D30*INTRO!$E$49,0))","v":4950},{"$f":"IF(INTRO!$E$50=\"\",\"\",ROUND($D30*INTRO!$E$50,0))","v":10774},0,0,2,1,1,{"$f":"IF(INTRO!$E$37=\"Endemic\",IF($H30>0,IF($H30=4,\"Unknown\",IF($H30=99,\"Stopped\",$D30)),0),\"Not required\")","v":0},{"$f":"IF(INTRO!$E$39=\"Endemic\", IF($I30>0, IF($I30=4,\"Unknown\",IF($I30=99,\"Stopped\",$D30)), 0),\"Not required\")","v":0},{"$f":"IF(INTRO!$E$41=\"Endemic\", IF($J30>1, IF($J30=4, \"Unknown\", IF($J30=99, \"Surveillance\", E30)), 0),\"Not required\")","v":2423.4120000000003},{"$f":"IF(INTRO!$E$41=\"Endemic\", IF($J30>1, IF($J30=4, \"Unknown\", IF($J30=99, \"Surveillance\", F30)), 0),\"Not required\")","v":4950},{"$f":"IF(INTRO!$E$41=\"Endemic\", IF($J30>1, IF($J30=4, \"Unknown\", IF($J30=99, \"Surveillance\", ROUND(D30*INTRO!$E$51,0))), 0),\"Not required\")","v":692},{"$f":"IF(INTRO!$E$41=\"Endemic\", IF($J30>1, IF($J30=4, \"Unknown\", IF($J30=99, \"Surveillance\", SUM($O30:$Q30))), 0),\"Not required\")","v":8065.4120000000003},{"$f":"IF(INTRO!$E$43=\"Endemic\", IF($K30>1, IF($K30=4, \"Unknown\", IF($K30=99, \"Surveillance\", ROUND(E30*0.75,0))), 0),\"Not required\")","v":0},{"$f":"IF(INTRO!$E$43=\"Endemic\", IF($K30>1, IF($K30=4, \"Unknown\", IF($K30=99, \"Surveillance\", F30)), 0),\"Not required\")","v":0},{"$f":"IF(INTRO!$E$43=\"Endemic\", IF($K30>1, IF($K30=4, \"Unknown\", IF($K30=99, \"Surveillance\", G30)), 0),\"Not required\")","v":0},{"$f":"IF(INTRO!$E$43=\"Endemic\", IF($K30>1, IF($K30=4, \"Unknown\", IF($K30=99, \"Surveillance\", SUM($S30:$U30))), 0),\"Not required\")","v":0},0,0,1,0,null,"Yes",null,null,null,null,null,7438,"ELIG MFOMO"]
[{"$f":"IF(INTRO!$E$33<>0,INTRO!$E$33, \" \")","v":"Cameroun"},"Centre","Eseka",92456,14601.006000000001,{"$f":"IF(INTRO!$E$49=\"\",\"\",ROUND($D31*INTRO!$E$49,0))","v":24455},{"$f":"IF(INTRO!$E$50=\"\",\"\",ROUND($D31*INTRO!$E$50,0))","v":53227},0,1,3,2,1,{"$f":"IF(INTRO!$E$37=\"Endemic\",IF($H31>0,IF($H31=4,\"Unknown\",IF($H31=99,\"Stopped\",$D31)),0),\"Not required\")","v":0},{"$f":"IF(INTRO!$E$39=\"Endemic\", IF($I31>0, IF($I31=4,\"Unknown\",IF($I31=99,\"Stopped\",$D31)), 0),\"Not required\")","v":92456},{"$f":"IF(INTRO!$E$41=\"Endemic\", IF($J31>1, IF($J31=4, \"Unknown\", IF($J31=99, \"Surveillance\", E31)), 0),\"Not required\")","v":14601.006000000001},{"$f":"IF(INTRO!$E$41=\"Endemic\", IF($J31>1, IF($J31=4, \"Unknown\", IF($J31=99, \"Surveillance\", F31)), 0),\"Not required\")","v":24455},{"$f":"IF(INTRO!$E$41=\"Endemic\", IF($J31>1, IF($J31=4, \"Unknown\", IF($J31=99, \"Surveillance\", ROUND(D31*INTRO!$E$51,0))), 0),\"Not required\")","v":3421},{"$f":"IF(INTRO!$E$41=\"Endemic\", IF($J31>1, IF($J31=4, \"Unknown\", IF($J31=99, \"Surveillance\", SUM($O31:$Q31))), 0),\"Not required\")","v":42477.006000000001},{"$f":"IF(INTRO!$E$43=\"Endemic\", IF($K31>1, IF($K31=4, \"Unknown\", IF($K31=99, \"Surveillance\", ROUND(E31*0.75,0))), 0),\"Not required\")","v":10951},{"$f":"IF(INTRO!$E$43=\"Endemic\", IF($K31>1, IF($K31=4, \"Unknown\", IF($K31=99, \"Surveillance\", F31)), 0),\"Not required\")","v":24455},{"$f":"IF(INTRO!$E$43=\"Endemic\", IF($K31>1, IF($K31=4, \"Unknown\", IF($K31=99, \"Surveillance\", G31)), 0),\"Not required\")","v":53227},{"$f":"IF(INTRO!$E$43=\"Endemic\", IF($K31>1, IF($K31=4, \"Unknown\", IF($K31=99, \"Surveillance\", SUM($S31:$U31))), 0),\"Not required\")","v":88633},0,1,1,1,null,"Yes",null,null,null,null,null,7439,"ESEKA"]
[{"$f":"IF(INTRO!$E$33<>0,INTRO!$E$33, \" \")","v":"Cameroun"},"Centre","Esse",29592,4187.1059999999998,{"$f":"IF(INTRO!$E$49=\"\",\"\",ROUND($D32*INTRO!$E$49,0))","v":7827},{"$f":"IF(INTRO!$E$50=\"\",\"\",ROUND($D32*INTRO!$E$50,0))","v":17036},99,1,3,1,1,{"$f":"IF(INTRO!$E$37=\"Endemic\",IF($H32>0,IF($H32=4,\"Unknown\",IF($H32=99,\"Stopped\",$D32)),0),\"Not required\")","v":"Stopped"},{"$f":"IF(INTRO!$E$39=\"Endemic\", IF($I32>0, IF($I32=4,\"Unknown\",IF($I32=99,\"Stopped\",$D32)), 0),\"Not required\")","v":29592},{"$f":"IF(INTRO!$E$41=\"Endemic\", IF($J32>1, IF($J32=4, \"Unknown\", IF($J32=99, \"Surveillance\", E32)), 0),\"Not required\")","v":4187.1059999999998},{"$f":"IF(INTRO!$E$41=\"Endemic\", IF($J32>1, IF($J32=4, \"Unknown\", IF($J32=99, \"Surveillance\", F32)), 0),\"Not required\")","v":7827},{"$f":"IF(INTRO!$E$41=\"Endemic\", IF($J32>1, IF($J32=4, \"Unknown\", IF($J32=99, \"Surveillance\", ROUND(D32*INTRO!$E$51,0))), 0),\"Not required\")","v":1095},{"$f":"IF(INTRO!$E$41=\"Endemic\", IF($J32>1, IF($J32=4, \"Unknown\", IF($J32=99, \"Surveillance\", SUM($O32:$Q32))), 0),\"Not required\")","v":13109.106},{"$f":"IF(INTRO!$E$43=\"Endemic\", IF($K32>1, IF($K32=4, \"Unknown\", IF($K32=99, \"Surveillance\", ROUND(E32*0.75,0))), 0),\"Not required\")","v":0},{"$f":"IF(INTRO!$E$43=\"Endemic\", IF($K32>1, IF($K32=4, \"Unknown\", IF($K32=99, \"Surveillance\", F32)), 0),\"Not required\")","v":0},{"$f":"IF(INTRO!$E$43=\"Endemic\", IF($K32>1, IF($K32=4, \"Unknown\", IF($K32=99, \"Surveillance\", G32)), 0),\"Not required\")","v":0},{"$f":"IF(INTRO!$E$43=\"Endemic\", IF($K32>1, IF($K32=4, \"Unknown\", IF($K32=99, \"Surveillance\", SUM($S32:$U32))), 0),\"Not required\")","v":0},0,1,1,0,"TAS","Yes",null,null,null,null,null,7440,"ESSE"]
[{"$f":"IF(INTRO!$E$33<>0,INTRO!$E$33, \" \")","v":"Cameroun"},"Centre","Evodoula",23174,4038.3360000000002,{"$f":"IF(INTRO!$E$49=\"\",\"\",ROUND($D33*INTRO!$E$49,0))","v":6130},{"$f":"IF(INTRO!$E$50=\"\",\"\",ROUND($D33*INTRO!$E$50,0))","v":13341},99,1,3,0,1,{"$f":"IF(INTRO!$E$37=\"Endemic\",IF($H33>0,IF($H33=4,\"Unknown\",IF($H33=99,\"Stopped\",$D33)),0),\"Not required\")","v":"Stopped"},{"$f":"IF(INTRO!$E$39=\"Endemic\", IF($I33>0, IF($I33=4,\"Unknown\",IF($I33=99,\"Stopped\",$D33)), 0),\"Not required\")","v":23174},{"$f":"IF(INTRO!$E$41=\"Endemic\", IF($J33>1, IF($J33=4, \"Unknown\", IF($J33=99, \"Surveillance\", E33)), 0),\"Not required\")","v":4038.3360000000002},{"$f":"IF(INTRO!$E$41=\"Endemic\", IF($J33>1, IF($J33=4, \"Unknown\", IF($J33=99, \"Surveillance\", F33)), 0),\"Not required\")","v":6130},{"$f":"IF(INTRO!$E$41=\"Endemic\", IF($J33>1, IF($J33=4, \"Unknown\", IF($J33=99, \"Surveillance\", ROUND(D33*INTRO!$E$51,0))), 0),\"Not required\")","v":857},{"$f":"IF(INTRO!$E$41=\"Endemic\", IF($J33>1, IF($J33=4, \"Unknown\", IF($J33=99, \"Surveillance\", SUM($O33:$Q33))), 0),\"Not required\")","v":11025.335999999999},{"$f":"IF(INTRO!$E$43=\"Endemic\", IF($K33>1, IF($K33=4, \"Unknown\", IF($K33=99, \"Surveillance\", ROUND(E33*0.75,0))), 0),\"Not required\")","v":0},{"$f":"IF(INTRO!$E$43=\"Endemic\", IF($K33>1, IF($K33=4, \"Unknown\", IF($K33=99, \"Surveillance\", F33)), 0),\"Not required\")","v":0},{"$f":"IF(INTRO!$E$43=\"Endemic\", IF($K33>1, IF($K33=4, \"Unknown\", IF($K33=99, \"Surveillance\", G33)), 0),\"Not required\")","v":0},{"$f":"IF(INTRO!$E$43=\"Endemic\", IF($K33>1, IF($K33=4, \"Unknown\", IF($K33=99, \"Surveillance\", SUM($S33:$U33))), 0),\"Not required\")","v":0},0,1,1,0,"TAS",null,null,null,null,null,null,7441,"EVODOULA"]
[{"$f":"IF(INTRO!$E$33<>0,INTRO!$E$33, \" \")","v":"Cameroun"},"Centre","Mbalmayo",138501,20569.248,{"$f":"IF(INTRO!$E$49=\"\",\"\",ROUND($D34*INTRO!$E$49,0))","v":36634},{"$f":"IF(INTRO!$E$50=\"\",\"\",ROUND($D34*INTRO!$E$50,0))","v":79735},0,4,3,2,1,{"$f":"IF(INTRO!$E$37=\"Endemic\",IF($H34>0,IF($H34=4,\"Unknown\",IF($H34=99,\"Stopped\",$D34)),0),\"Not required\")","v":0},{"$f":"IF(INTRO!$E$39=\"Endemic\", IF($I34>0, IF($I34=4,\"Unknown\",IF($I34=99,\"Stopped\",$D34)), 0),\"Not required\")","v":"Unknown"},{"$f":"IF(INTRO!$E$41=\"Endemic\", IF($J34>1, IF($J34=4, \"Unknown\", IF($J34=99, \"Surveillance\", E34)), 0),\"Not required\")","v":20569.248},{"$f":"IF(INTRO!$E$41=\"Endemic\", IF($J34>1, IF($J34=4, \"Unknown\", IF($J34=99, \"Surveillance\", F34)), 0),\"Not required\")","v":36634},{"$f":"IF(INTRO!$E$41=\"Endemic\", IF($J34>1, IF($J34=4, \"Unknown\", IF($J34=99, \"Surveillance\", ROUND(D34*INTRO!$E$51,0))), 0),\"Not required\")","v":5125},{"$f":"IF(INTRO!$E$41=\"Endemic\", IF($J34>1, IF($J34=4, \"Unknown\", IF($J34=99, \"Surveillance\", SUM($O34:$Q34))), 0),\"Not required\")","v":62328.248},{"$f":"IF(INTRO!$E$43=\"Endemic\", IF($K34>1, IF($K34=4, \"Unknown\", IF($K34=99, \"Surveillance\", ROUND(E34*0.75,0))), 0),\"Not required\")","v":15427},{"$f":"IF(INTRO!$E$43=\"Endemic\", IF($K34>1, IF($K34=4, \"Unknown\", IF($K34=99, \"Surveillance\", F34)), 0),\"Not required\")","v":36634},{"$f":"IF(INTRO!$E$43=\"Endemic\", IF($K34>1, IF($K34=4, \"Unknown\", IF($K34=99, \"Surveillance\", G34)), 0),\"Not required\")","v":79735},{"$f":"IF(INTRO!$E$43=\"Endemic\", IF($K34>1, IF($K34=4, \"Unknown\", IF($K34=99, \"Surveillance\", SUM($S34:$U34))), 0),\"Not required\")","v":131796},0,0,1,1,null,"Yes",null,null,null,null,null,7442,"MBALMAYO"]
[{"$f":"IF(INTRO!$E$33<>0,INTRO!$E$33, \" \")","v":"Cameroun"},"Centre","Mbandjock",67413,8911.8359999999993,{"$f":"IF(INTRO!$E$49=\"\",\"\",ROUND($D35*INTRO!$E$49,0))","v":17831},{"$f":"IF(INTRO!$E$50=\"\",\"\",ROUND($D35*INTRO!$E$50,0))","v":38810},99,1,3,1,1,{"$f":"IF(INTRO!$E$37=\"Endemic\",IF($H35>0,IF($H35=4,\"Unknown\",IF($H35=99,\"Stopped\",$D35)),0),\"Not required\")","v":"Stopped"},{"$f":"IF(INTRO!$E$39=\"Endemic\", IF($I35>0, IF($I35=4,\"Unknown\",IF($I35=99,\"Stopped\",$D35)), 0),\"Not required\")","v":67413},{"$f":"IF(INTRO!$E$41=\"Endemic\", IF($J35>1, IF($J35=4, \"Unknown\", IF($J35=99, \"Surveillance\", E35)), 0),\"Not required\")","v":8911.8359999999993},{"$f":"IF(INTRO!$E$41=\"Endemic\", IF($J35>1, IF($J35=4, \"Unknown\", IF($J35=99, \"Surveillance\", F35)), 0),\"Not required\")","v":17831},{"$f":"IF(INTRO!$E$41=\"Endemic\", IF($J35>1, IF($J35=4, \"Unknown\", IF($J35=99, \"Surveillance\", ROUND(D35*INTRO!$E$51,0))), 0),\"Not required\")","v":2494},{"$f":"IF(INTRO!$E$41=\"Endemic\", IF($J35>1, IF($J35=4, \"Unknown\", IF($J35=99, \"Surveillance\", SUM($O35:$Q35))), 0),\"Not required\")","v":29236.835999999999},{"$f":"IF(INTRO!$E$43=\"Endemic\", IF($K35>1, IF($K35=4, \"Unknown\", IF($K35=99, \"Surveillance\", ROUND(E35*0.75,0))), 0),\"Not required\")","v":0},{"$f":"IF(INTRO!$E$43=\"Endemic\", IF($K35>1, IF($K35=4, \"Unknown\", IF($K35=99, \"Surveillance\", F35)), 0),\"Not required\")","v":0},{"$f":"IF(INTRO!$E$43=\"Endemic\", IF($K35>1, IF($K35=4, \"Unknown\", IF($K35=99, \"Surveillance\", G35)), 0),\"Not required\")","v":0},{"$f":"IF(INTRO!$E$43=\"Endemic\", IF($K35>1, IF($K35=4, \"Unknown\", IF($K35=99, \"Surveillance\", SUM($S35:$U35))), 0),\"Not required\")","v":0},0,1,1,0,null,"Yes",null,null,null,null,null,7443,"MBANDJOCK"]
[{"$f":"IF(INTRO!$E$33<>0,INTRO!$E$33, \" \")","v":"Cameroun"},"Centre","Mbankomo",35662,6175.4939999999997,{"$f":"IF(INTRO!$E$49=\"\",\"\",ROUND($D36*INTRO!$E$49,0))","v":9433},{"$f":"IF(INTRO!$E$50=\"\",\"\",ROUND($D36*INTRO!$E$50,0))","v":20531},0,4,3,2,1,{"$f":"IF(INTRO!$E$37=\"Endemic\",IF($H36>0,IF($H36=4,\"Unknown\",IF($H36=99,\"Stopped\",$D36)),0),\"Not required\")","v":0},{"$f":"IF(INTRO!$E$39=\"Endemic\", IF($I36>0, IF($I36=4,\"Unknown\",IF($I36=99,\"Stopped\",$D36)), 0),\"Not required\")","v":"Unknown"},{"$f":"IF(INTRO!$E$41=\"Endemic\", IF($J36>1, IF($J36=4, \"Unknown\", IF($J36=99, \"Surveillance\", E36)), 0),\"Not required\")","v":6175.4939999999997},{"$f":"IF(INTRO!$E$41=\"Endemic\", IF($J36>1, IF($J36=4, \"Unknown\", IF($J36=99, \"Surveillance\", F36)), 0),\"Not required\")","v":9433},{"$f":"IF(INTRO!$E$41=\"Endemic\", IF($J36>1, IF($J36=4, \"Unknown\", IF($J36=99, \"Surveillance\", ROUND(D36*INTRO!$E$51,0))), 0),\"Not required\")","v":1319},{"$f":"IF(INTRO!$E$41=\"Endemic\", IF($J36>1, IF($J36=4, \"Unknown\", IF($J36=99, \"Surveillance\", SUM($O36:$Q36))), 0),\"Not required\")","v":16927.493999999999},{"$f":"IF(INTRO!$E$43=\"Endemic\", IF($K36>1, IF($K36=4, \"Unknown\", IF($K36=99, \"Surveillance\", ROUND(E36*0.75,0))), 0),\"Not required\")","v":4632},{"$f":"IF(INTRO!$E$43=\"Endemic\", IF($K36>1, IF($K36=4, \"Unknown\", IF($K36=99, \"Surveillance\", F36)), 0),\"Not required\")","v":9433},{"$f":"IF(INTRO!$E$43=\"Endemic\", IF($K36>1, IF($K36=4, \"Unknown\", IF($K36=99, \"Surveillance\", G36)), 0),\"Not required\")","v":20531},{"$f":"IF(INTRO!$E$43=\"Endemic\", IF($K36>1, IF($K36=4, \"Unknown\", IF($K36=99, \"Surveillance\", SUM($S36:$U36))), 0),\"Not required\")","v":34596},0,0,1,1,null,"Yes",null,null,null,null,null,7444,"MBANKOMO"]
[{"$f":"IF(INTRO!$E$33<>0,INTRO!$E$33, \" \")","v":"Cameroun"},"Centre","Mfou",117306,27661.986000000001,{"$f":"IF(INTRO!$E$49=\"\",\"\",ROUND($D37*INTRO!$E$49,0))","v":31027},{"$f":"IF(INTRO!$E$50=\"\",\"\",ROUND($D37*INTRO!$E$50,0))","v":67533},0,4,3,3,1,{"$f":"IF(INTRO!$E$37=\"Endemic\",IF($H37>0,IF($H37=4,\"Unknown\",IF($H37=99,\"Stopped\",$D37)),0),\"Not required\")","v":0},{"$f":"IF(INTRO!$E$39=\"Endemic\", IF($I37>0, IF($I37=4,\"Unknown\",IF($I37=99,\"Stopped\",$D37)), 0),\"Not required\")","v":"Unknown"},{"$f":"IF(INTRO!$E$41=\"Endemic\", IF($J37>1, IF($J37=4, \"Unknown\", IF($J37=99, \"Surveillance\", E37)), 0),\"Not required\")","v":27661.986000000001},{"$f":"IF(INTRO!$E$41=\"Endemic\", IF($J37>1, IF($J37=4, \"Unknown\", IF($J37=99, \"Surveillance\", F37)), 0),\"Not required\")","v":31027},{"$f":"IF(INTRO!$E$41=\"Endemic\", IF($J37>1, IF($J37=4, \"Unknown\", IF($J37=99, \"Surveillance\", ROUND(D37*INTRO!$E$51,0))), 0),\"Not required\")","v":4340},{"$f":"IF(INTRO!$E$41=\"Endemic\", IF($J37>1, IF($J37=4, \"Unknown\", IF($J37=99, \"Surveillance\", SUM($O37:$Q37))), 0),\"Not required\")","v":63028.986000000004},{"$f":"IF(INTRO!$E$43=\"Endemic\", IF($K37>1, IF($K37=4, \"Unknown\", IF($K37=99, \"Surveillance\", ROUND(E37*0.75,0))), 0),\"Not required\")","v":20746},{"$f":"IF(INTRO!$E$43=\"Endemic\", IF($K37>1, IF($K37=4, \"Unknown\", IF($K37=99, \"Surveillance\", F37)), 0),\"Not required\")","v":31027},{"$f":"IF(INTRO!$E$43=\"Endemic\", IF($K37>1, IF($K37=4, \"Unknown\", IF($K37=99, \"Surveillance\", G37)), 0),\"Not required\")","v":67533},{"$f":"IF(INTRO!$E$43=\"Endemic\", IF($K37>1, IF($K37=4, \"Unknown\", IF($K37=99, \"Surveillance\", SUM($S37:$U37))), 0),\"Not required\")","v":119306},0,0,1,1,null,"Yes",null,null,null,null,null,7445,"MFOU"]
[{"$f":"IF(INTRO!$E$33<>0,INTRO!$E$33, \" \")","v":"Cameroun"},"Centre","Monatele",55894,6689.52,{"$f":"IF(INTRO!$E$49=\"\",\"\",ROUND($D38*INTRO!$E$49,0))","v":14784},{"$f":"IF(INTRO!$E$50=\"\",\"\",ROUND($D38*INTRO!$E$50,0))","v":32178},99,1,3,1,1,{"$f":"IF(INTRO!$E$37=\"Endemic\",IF($H38>0,IF($H38=4,\"Unknown\",IF($H38=99,\"Stopped\",$D38)),0),\"Not required\")","v":"Stopped"},{"$f":"IF(INTRO!$E$39=\"Endemic\", IF($I38>0, IF($I38=4,\"Unknown\",IF($I38=99,\"Stopped\",$D38)), 0),\"Not required\")","v":55894},{"$f":"IF(INTRO!$E$41=\"Endemic\", IF($J38>1, IF($J38=4, \"Unknown\", IF($J38=99, \"Surveillance\", E38)), 0),\"Not required\")","v":6689.52},{"$f":"IF(INTRO!$E$41=\"Endemic\", IF($J38>1, IF($J38=4, \"Unknown\", IF($J38=99, \"Surveillance\", F38)), 0),\"Not required\")","v":14784},{"$f":"IF(INTRO!$E$41=\"Endemic\", IF($J38>1, IF($J38=4, \"Unknown\", IF($J38=99, \"Surveillance\", ROUND(D38*INTRO!$E$51,0))), 0),\"Not required\")","v":2068},{"$f":"IF(INTRO!$E$41=\"Endemic\", IF($J38>1, IF($J38=4, \"Unknown\", IF($J38=99, \"Surveillance\", SUM($O38:$Q38))), 0),\"Not required\")","v":23541.52},{"$f":"IF(INTRO!$E$43=\"Endemic\", IF($K38>1, IF($K38=4, \"Unknown\", IF($K38=99, \"Surveillance\", ROUND(E38*0.75,0))), 0),\"Not required\")","v":0},{"$f":"IF(INTRO!$E$43=\"Endemic\", IF($K38>1, IF($K38=4, \"Unknown\", IF($K38=99, \"Surveillance\", F38)), 0),\"Not required\")","v":0},{"$f":"IF(INTRO!$E$43=\"Endemic\", IF($K38>1, IF($K38=4, \"Unknown\", IF($K38=99, \"Surveillance\", G38)), 0),\"Not required\")","v":0},{"$f":"IF(INTRO!$E$43=\"Endemic\", IF($K38>1, IF($K38=4, \"Unknown\", IF($K38=99, \"Surveillance\", SUM($S38:$U38))), 0),\"Not required\")","v":0},0,1,1,0,null,"Yes",null,null,null,null,null,7446,"MONATELE"]
[{"$f":"IF(INTRO!$E$33<>0,INTRO!$E$33, \" \")","v":"Cameroun"},"Centre","Mvog-Ada",475878,80867.267999999996,{"$f":"IF(INTRO!$E$49=\"\",\"\",ROUND($D39*INTRO!$E$49,0))","v":125870},{"$f":"IF(INTRO!$E$50=\"\",\"\",ROUND($D39*INTRO!$E$50,0))","v":273963},0,4,3,2,1,{"$f":"IF(INTRO!$E$37=\"Endemic\",IF($H39>0,IF($H39=4,\"Unknown\",IF($H39=99,\"Stopped\",$D39)),0),\"Not required\")","v":0},{"$f":"IF(INTRO!$E$39=\"Endemic\", IF($I39>0, IF($I39=4,\"Unknown\",IF($I39=99,\"Stopped\",$D39)), 0),\"Not required\")","v":"Unknown"},{"$f":"IF(INTRO!$E$41=\"Endemic\", IF($J39>1, IF($J39=4, \"Unknown\", IF($J39=99, \"Surveillance\", E39)), 0),\"Not required\")","v":80867.267999999996},{"$f":"IF(INTRO!$E$41=\"Endemic\", IF($J39>1, IF($J39=4, \"Unknown\", IF($J39=99, \"Surveillance\", F39)), 0),\"Not required\")","v":125870},{"$f":"IF(INTRO!$E$41=\"Endemic\", IF($J39>1, IF($J39=4, \"Unknown\", IF($J39=99, \"Surveillance\", ROUND(D39*INTRO!$E$51,0))), 0),\"Not required\")","v":17607},{"$f":"IF(INTRO!$E$41=\"Endemic\", IF($J39>1, IF($J39=4, \"Unknown\", IF($J39=99, \"Surveillance\", SUM($O39:$Q39))), 0),\"Not required\")","v":224344.26799999998},{"$f":"IF(INTRO!$E$43=\"Endemic\", IF($K39>1, IF($K39=4, \"Unknown\", IF($K39=99, \"Surveillance\", ROUND(E39*0.75,0))), 0),\"Not required\")","v":60650},{"$f":"IF(INTRO!$E$43=\"Endemic\", IF($K39>1, IF($K39=4, \"Unknown\", IF($K39=99, \"Surveillance\", F39)), 0),\"Not required\")","v":125870},{"$f":"IF(INTRO!$E$43=\"Endemic\", IF($K39>1, IF($K39=4, \"Unknown\", IF($K39=99, \"Surveillance\", G39)), 0),\"Not required\")","v":273963},{"$f":"IF(INTRO!$E$43=\"Endemic\", IF($K39>1, IF($K39=4, \"Unknown\", IF($K39=99, \"Surveillance\", SUM($S39:$U39))), 0),\"Not required\")","v":460483},0,0,1,1,null,"Yes",null,null,null,null,null,7610,"Mvog-Ada"]
[{"$f":"IF(INTRO!$E$33<>0,INTRO!$E$33, \" \")","v":"Cameroun"},"Centre","Nanga Eboko",72698,18126.342000000001,{"$f":"IF(INTRO!$E$49=\"\",\"\",ROUND($D40*INTRO!$E$49,0))","v":19229},{"$f":"IF(INTRO!$E$50=\"\",\"\",ROUND($D40*INTRO!$E$50,0))","v":41852},99,1,3,1,1,{"$f":"IF(INTRO!$E$37=\"Endemic\",IF($H40>0,IF($H40=4,\"Unknown\",IF($H40=99,\"Stopped\",$D40)),0),\"Not required\")","v":"Stopped"},{"$f":"IF(INTRO!$E$39=\"Endemic\", IF($I40>0, IF($I40=4,\"Unknown\",IF($I40=99,\"Stopped\",$D40)), 0),\"Not required\")","v":72698},{"$f":"IF(INTRO!$E$41=\"Endemic\", IF($J40>1, IF($J40=4, \"Unknown\", IF($J40=99, \"Surveillance\", E40)), 0),\"Not required\")","v":18126.342000000001},{"$f":"IF(INTRO!$E$41=\"Endemic\", IF($J40>1, IF($J40=4, \"Unknown\", IF($J40=99, \"Surveillance\", F40)), 0),\"Not required\")","v":19229},{"$f":"IF(INTRO!$E$41=\"Endemic\", IF($J40>1, IF($J40=4, \"Unknown\", IF($J40=99, \"Surveillance\", ROUND(D40*INTRO!$E$51,0))), 0),\"Not required\")","v":2690},{"$f":"IF(INTRO!$E$41=\"Endemic\", IF($J40>1, IF($J40=4, \"Unknown\", IF($J40=99, \"Surveillance\", SUM($O40:$Q40))), 0),\"Not required\")","v":40045.342000000004},{"$f":"IF(INTRO!$E$43=\"Endemic\", IF($K40>1, IF($K40=4, \"Unknown\", IF($K40=99, \"Surveillance\", ROUND(E40*0.75,0))), 0),\"Not required\")","v":0},{"$f":"IF(INTRO!$E$43=\"Endemic\", IF($K40>1, IF($K40=4, \"Unknown\", IF($K40=99, \"Surveillance\", F40)), 0),\"Not required\")","v":0},{"$f":"IF(INTRO!$E$43=\"Endemic\", IF($K40>1, IF($K40=4, \"Unknown\", IF($K40=99, \"Surveillance\", G40)), 0),\"Not required\")","v":0},{"$f":"IF(INTRO!$E$43=\"Endemic\", IF($K40>1, IF($K40=4, \"Unknown\", IF($K40=99, \"Surveillance\", SUM($S40:$U40))), 0),\"Not required\")","v":0},0,1,1,0,"TAS","Yes",null,null,null,null,null,7447,"NANGA EBOKO"]
[{"$f":"IF(INTRO!$E$33<>0,INTRO!$E$33, \" \")","v":"Cameroun"},"Centre","Ndikinimeki",51308,6852.6540000000005,{"$f":"IF(INTRO!$E$49=\"\",\"\",ROUND($D41*INTRO!$E$49,0))","v":13571},{"$f":"IF(INTRO!$E$50=\"\",\"\",ROUND($D41*INTRO!$E$50,0))","v":29538},99,1,3,3,1,{"$f":"IF(INTRO!$E$37=\"Endemic\",IF($H41>0,IF($H41=4,\"Unknown\",IF($H41=99,\"Stopped\",$D41)),0),\"Not required\")","v":"Stopped"},{"$f":"IF(INTRO!$E$39=\"Endemic\", IF($I41>0, IF($I41=4,\"Unknown\",IF($I41=99,\"Stopped\",$D41)), 0),\"Not required\")","v":51308},{"$f":"IF(INTRO!$E$41=\"Endemic\", IF($J41>1, IF($J41=4, \"Unknown\", IF($J41=99, \"Surveillance\", E41)), 0),\"Not required\")","v":6852.6540000000005},{"$f":"IF(INTRO!$E$41=\"Endemic\", IF($J41>1, IF($J41=4, \"Unknown\", IF($J41=99, \"Surveillance\", F41)), 0),\"Not required\")","v":13571},{"$f":"IF(INTRO!$E$41=\"Endemic\", IF($J41>1, IF($J41=4, \"Unknown\", IF($J41=99, \"Surveillance\", ROUND(D41*INTRO!$E$51,0))), 0),\"Not required\")","v":1898},{"$f":"IF(INTRO!$E$41=\"Endemic\", IF($J41>1, IF($J41=4, \"Unknown\", IF($J41=99, \"Surveillance\", SUM($O41:$Q41))), 0),\"Not required\")","v":22321.654000000002},{"$f":"IF(INTRO!$E$43=\"Endemic\", IF($K41>1, IF($K41=4, \"Unknown\", IF($K41=99, \"Surveillance\", ROUND(E41*0.75,0))), 0),\"Not required\")","v":5139},{"$f":"IF(INTRO!$E$43=\"Endemic\", IF($K41>1, IF($K41=4, \"Unknown\", IF($K41=99, \"Surveillance\", F41)), 0),\"Not required\")","v":13571},{"$f":"IF(INTRO!$E$43=\"Endemic\", IF($K41>1, IF($K41=4, \"Unknown\", IF($K41=99, \"Surveillance\", G41)), 0),\"Not required\")","v":29538},{"$f":"IF(INTRO!$E$43=\"Endemic\", IF($K41>1, IF($K41=4, \"Unknown\", IF($K41=99, \"Surveillance\", SUM($S41:$U41))), 0),\"Not required\")","v":48248},0,1,1,1,null,"Yes",null,null,null,null,null,7448,"NDIKINIMEKI"]
[{"$f":"IF(INTRO!$E$33<>0,INTRO!$E$33, \" \")","v":"Cameroun"},"Centre","Ngog Mapubi",61284,8735.3639999999996,{"$f":"IF(INTRO!$E$49=\"\",\"\",ROUND($D42*INTRO!$E$49,0))","v":16210},{"$f":"IF(INTRO!$E$50=\"\",\"\",ROUND($D42*INTRO!$E$50,0))","v":35281},99,1,3,1,1,{"$f":"IF(INTRO!$E$37=\"Endemic\",IF($H42>0,IF($H42=4,\"Unknown\",IF($H42=99,\"Stopped\",$D42)),0),\"Not required\")","v":"Stopped"},{"$f":"IF(INTRO!$E$39=\"Endemic\", IF($I42>0, IF($I42=4,\"Unknown\",IF($I42=99,\"Stopped\",$D42)), 0),\"Not required\")","v":61284},{"$f":"IF(INTRO!$E$41=\"Endemic\", IF($J42>1, IF($J42=4, \"Unknown\", IF($J42=99, \"Surveillance\", E42)), 0),\"Not required\")","v":8735.3639999999996},{"$f":"IF(INTRO!$E$41=\"Endemic\", IF($J42>1, IF($J42=4, \"Unknown\", IF($J42=99, \"Surveillance\", F42)), 0),\"Not required\")","v":16210},{"$f":"IF(INTRO!$E$41=\"Endemic\", IF($J42>1, IF($J42=4, \"Unknown\", IF($J42=99, \"Surveillance\", ROUND(D42*INTRO!$E$51,0))), 0),\"Not required\")","v":2268},{"$f":"IF(INTRO!$E$41=\"Endemic\", IF($J42>1, IF($J42=4, \"Unknown\", IF($J42=99, \"Surveillance\", SUM($O42:$Q42))), 0),\"Not required\")","v":27213.364000000001},{"$f":"IF(INTRO!$E$43=\"Endemic\", IF($K42>1, IF($K42=4, \"Unknown\", IF($K42=99, \"Surveillance\", ROUND(E42*0.75,0))), 0),\"Not required\")","v":0},{"$f":"IF(INTRO!$E$43=\"Endemic\", IF($K42>1, IF($K42=4, \"Unknown\", IF($K42=99, \"Surveillance\", F42)), 0),\"Not required\")","v":0},{"$f":"IF(INTRO!$E$43=\"Endemic\", IF($K42>1, IF($K42=4, \"Unknown\", IF($K42=99, \"Surveillance\", G42)), 0),\"Not required\")","v":0},{"$f":"IF(INTRO!$E$43=\"Endemic\", IF($K42>1, IF($K42=4, \"Unknown\", IF($K42=99, \"Surveillance\", SUM($S42:$U42))), 0),\"Not required\")","v":0},0,1,1,0,"TAS","Yes",null,null,null,null,null,7449,"NGOG MAPUBI"]
[{"$f":"IF(INTRO!$E$33<>0,INTRO!$E$33, \" \")","v":"Cameroun"},"Centre","Ngoumou",49813,7436.4480000000003,{"$f":"IF(INTRO!$E$49=\"\",\"\",ROUND($D43*INTRO!$E$49,0))","v":13176},{"$f":"IF(INTRO!$E$50=\"\",\"\",ROUND($D43*INTRO!$E$50,0))","v":28677},0,4,3,2,1,{"$f":"IF(INTRO!$E$37=\"Endemic\",IF($H43>0,IF($H43=4,\"Unknown\",IF($H43=99,\"Stopped\",$D43)),0),\"Not required\")","v":0},{"$f":"IF(INTRO!$E$39=\"Endemic\", IF($I43>0, IF($I43=4,\"Unknown\",IF($I43=99,\"Stopped\",$D43)), 0),\"Not required\")","v":"Unknown"},{"$f":"IF(INTRO!$E$41=\"Endemic\", IF($J43>1, IF($J43=4, \"Unknown\", IF($J43=99, \"Surveillance\", E43)), 0),\"Not required\")","v":7436.4480000000003},{"$f":"IF(INTRO!$E$41=\"Endemic\", IF($J43>1, IF($J43=4, \"Unknown\", IF($J43=99, \"Surveillance\", F43)), 0),\"Not required\")","v":13176},{"$f":"IF(INTRO!$E$41=\"Endemic\", IF($J43>1, IF($J43=4, \"Unknown\", IF($J43=99, \"Surveillance\", ROUND(D43*INTRO!$E$51,0))), 0),\"Not required\")","v":1843},{"$f":"IF(INTRO!$E$41=\"Endemic\", IF($J43>1, IF($J43=4, \"Unknown\", IF($J43=99, \"Surveillance\", SUM($O43:$Q43))), 0),\"Not required\")","v":22455.448},{"$f":"IF(INTRO!$E$43=\"Endemic\", IF($K43>1, IF($K43=4, \"Unknown\", IF($K43=99, \"Surveillance\", ROUND(E43*0.75,0))), 0),\"Not required\")","v":5577},{"$f":"IF(INTRO!$E$43=\"Endemic\", IF($K43>1, IF($K43=4, \"Unknown\", IF($K43=99, \"Surveillance\", F43)), 0),\"Not required\")","v":13176},{"$f":"IF(INTRO!$E$43=\"Endemic\", IF($K43>1, IF($K43=4, \"Unknown\", IF($K43=99, \"Surveillance\", G43)), 0),\"Not required\")","v":28677},{"$f":"IF(INTRO!$E$43=\"Endemic\", IF($K43>1, IF($K43=4, \"Unknown\", IF($K43=99, \"Surveillance\", SUM($S43:$U43))), 0),\"Not required\")","v":47430},0,0,1,1,null,"Yes",null,null,null,null,null,7450,"NGOUMOU"]
[{"$f":"IF(INTRO!$E$33<>0,INTRO!$E$33, \" \")","v":"Cameroun"},"Centre","Nkolbisson",196128,56721.383999999998,{"$f":"IF(INTRO!$E$49=\"\",\"\",ROUND($D44*INTRO!$E$49,0))","v":51876},{"$f":"IF(INTRO!$E$50=\"\",\"\",ROUND($D44*INTRO!$E$50,0))","v":112911},0,4,2,2,1,{"$f":"IF(INTRO!$E$37=\"Endemic\",IF($H44>0,IF($H44=4,\"Unknown\",IF($H44=99,\"Stopped\",$D44)),0),\"Not required\")","v":0},{"$f":"IF(INTRO!$E$39=\"Endemic\", IF($I44>0, IF($I44=4,\"Unknown\",IF($I44=99,\"Stopped\",$D44)), 0),\"Not required\")","v":"Unknown"},{"$f":"IF(INTRO!$E$41=\"Endemic\", IF($J44>1, IF($J44=4, \"Unknown\", IF($J44=99, \"Surveillance\", E44)), 0),\"Not required\")","v":56721.383999999998},{"$f":"IF(INTRO!$E$41=\"Endemic\", IF($J44>1, IF($J44=4, \"Unknown\", IF($J44=99, \"Surveillance\", F44)), 0),\"Not required\")","v":51876},{"$f":"IF(INTRO!$E$41=\"Endemic\", IF($J44>1, IF($J44=4, \"Unknown\", IF($J44=99, \"Surveillance\", ROUND(D44*INTRO!$E$51,0))), 0),\"Not required\")","v":7257},{"$f":"IF(INTRO!$E$41=\"Endemic\", IF($J44>1, IF($J44=4, \"Unknown\", IF($J44=99, \"Surveillance\", SUM($O44:$Q44))), 0),\"Not required\")","v":115854.38399999999},{"$f":"IF(INTRO!$E$43=\"Endemic\", IF($K44>1, IF($K44=4, \"Unknown\", IF($K44=99, \"Surveillance\", ROUND(E44*0.75,0))), 0),\"Not required\")","v":42541},{"$f":"IF(INTRO!$E$43=\"Endemic\", IF($K44>1, IF($K44=4, \"Unknown\", IF($K44=99, \"Surveillance\", F44)), 0),\"Not required\")","v":51876},{"$f":"IF(INTRO!$E$43=\"Endemic\", IF($K44>1, IF($K44=4, \"Unknown\", IF($K44=99, \"Surveillance\", G44)), 0),\"Not required\")","v":112911},{"$f":"IF(INTRO!$E$43=\"Endemic\", IF($K44>1, IF($K44=4, \"Unknown\", IF($K44=99, \"Surveillance\", SUM($S44:$U44))), 0),\"Not required\")","v":207328},0,0,1,1,null,"Yes",null,null,null,null,null,7451,"NKOLBISSON"]
[{"$f":"IF(INTRO!$E$33<>0,INTRO!$E$33, \" \")","v":"Cameroun"},"Centre","Nkolndongo",485934,46249.002,{"$f":"IF(INTRO!$E$49=\"\",\"\",ROUND($D45*INTRO!$E$49,0))","v":128530},{"$f":"IF(INTRO!$E$50=\"\",\"\",ROUND($D45*INTRO!$E$50,0))","v":279752},0,4,2,2,1,{"$f":"IF(INTRO!$E$37=\"Endemic\",IF($H45>0,IF($H45=4,\"Unknown\",IF($H45=99,\"Stopped\",$D45)),0),\"Not required\")","v":0},{"$f":"IF(INTRO!$E$39=\"Endemic\", IF($I45>0, IF($I45=4,\"Unknown\",IF($I45=99,\"Stopped\",$D45)), 0),\"Not required\")","v":"Unknown"},{"$f":"IF(INTRO!$E$41=\"Endemic\", IF($J45>1, IF($J45=4, \"Unknown\", IF($J45=99, \"Surveillance\", E45)), 0),\"Not required\")","v":46249.002},{"$f":"IF(INTRO!$E$41=\"Endemic\", IF($J45>1, IF($J45=4, \"Unknown\", IF($J45=99, \"Surveillance\", F45)), 0),\"Not required\")","v":128530},{"$f":"IF(INTRO!$E$41=\"Endemic\", IF($J45>1, IF($J45=4, \"Unknown\", IF($J45=99, \"Surveillance\", ROUND(D45*INTRO!$E$51,0))), 0),\"Not required\")","v":17980},{"$f":"IF(INTRO!$E$41=\"Endemic\", IF($J45>1, IF($J45=4, \"Unknown\", IF($J45=99, \"Surveillance\", SUM($O45:$Q45))), 0),\"Not required\")","v":192759.00200000001},{"$f":"IF(INTRO!$E$43=\"Endemic\", IF($K45>1, IF($K45=4, \"Unknown\", IF($K45=99, \"Surveillance\", ROUND(E45*0.75,0))), 0),\"Not required\")","v":34687},{"$f":"IF(INTRO!$E$43=\"Endemic\", IF($K45>1, IF($K45=4, \"Unknown\", IF($K45=99, \"Surveillance\", F45)), 0),\"Not required\")","v":128530},{"$f":"IF(INTRO!$E$43=\"Endemic\", IF($K45>1, IF($K45=4, \"Unknown\", IF($K45=99, \"Surveillance\", G45)), 0),\"Not required\")","v":279752},{"$f":"IF(INTRO!$E$43=\"Endemic\", IF($K45>1, IF($K45=4, \"Unknown\", IF($K45=99, \"Surveillance\", SUM($S45:$U45))), 0),\"Not required\")","v":442969},0,0,1,1,null,"Yes",null,null,null,null,null,7452,"NKOLNDONGO"]
[{"$f":"IF(INTRO!$E$33<>0,INTRO!$E$33, \" \")","v":"Cameroun"},"Centre","Ntui",147835,27591.191999999999,{"$f":"IF(INTRO!$E$49=\"\",\"\",ROUND($D46*INTRO!$E$49,0))","v":39102},{"$f":"IF(INTRO!$E$50=\"\",\"\",ROUND($D46*INTRO!$E$50,0))","v":85109},99,1,3,2,1,{"$f":"IF(INTRO!$E$37=\"Endemic\",IF($H46>0,IF($H46=4,\"Unknown\",IF($H46=99,\"Stopped\",$D46)),0),\"Not required\")","v":"Stopped"},{"$f":"IF(INTRO!$E$39=\"Endemic\", IF($I46>0, IF($I46=4,\"Unknown\",IF($I46=99,\"Stopped\",$D46)), 0),\"Not required\")","v":147835},{"$f":"IF(INTRO!$E$41=\"Endemic\", IF($J46>1, IF($J46=4, \"Unknown\", IF($J46=99, \"Surveillance\", E46)), 0),\"Not required\")","v":27591.191999999999},{"$f":"IF(INTRO!$E$41=\"Endemic\", IF($J46>1, IF($J46=4, \"Unknown\", IF($J46=99, \"Surveillance\", F46)), 0),\"Not required\")","v":39102},{"$f":"IF(INTRO!$E$41=\"Endemic\", IF($J46>1, IF($J46=4, \"Unknown\", IF($J46=99, \"Surveillance\", ROUND(D46*INTRO!$E$51,0))), 0),\"Not required\")","v":5470},{"$f":"IF(INTRO!$E$41=\"Endemic\", IF($J46>1, IF($J46=4, \"Unknown\", IF($J46=99, \"Surveillance\", SUM($O46:$Q46))), 0),\"Not required\")","v":72163.191999999995},{"$f":"IF(INTRO!$E$43=\"Endemic\", IF($K46>1, IF($K46=4, \"Unknown\", IF($K46=99, \"Surveillance\", ROUND(E46*0.75,0))), 0),\"Not required\")","v":20693},{"$f":"IF(INTRO!$E$43=\"Endemic\", IF($K46>1, IF($K46=4, \"Unknown\", IF($K46=99, \"Surveillance\", F46)), 0),\"Not required\")","v":39102},{"$f":"IF(INTRO!$E$43=\"Endemic\", IF($K46>1, IF($K46=4, \"Unknown\", IF($K46=99, \"Surveillance\", G46)), 0),\"Not required\")","v":85109},{"$f":"IF(INTRO!$E$43=\"Endemic\", IF($K46>1, IF($K46=4, \"Unknown\", IF($K46=99, \"Surveillance\", SUM($S46:$U46))), 0),\"Not required\")","v":144904},0,1,1,1,null,"Yes",null,null,null,null,null,7453,"NTUI"]
[{"$f":"IF(INTRO!$E$33<>0,INTRO!$E$33, \" \")","v":"Cameroun"},"Centre","Obala",154252,26711.91,{"$f":"IF(INTRO!$E$49=\"\",\"\",ROUND($D47*INTRO!$E$49,0))","v":40800},{"$f":"IF(INTRO!$E$50=\"\",\"\",ROUND($D47*INTRO!$E$50,0))","v":88803},99,1,3,1,1,{"$f":"IF(INTRO!$E$37=\"Endemic\",IF($H47>0,IF($H47=4,\"Unknown\",IF($H47=99,\"Stopped\",$D47)),0),\"Not required\")","v":"Stopped"},{"$f":"IF(INTRO!$E$39=\"Endemic\", IF($I47>0, IF($I47=4,\"Unknown\",IF($I47=99,\"Stopped\",$D47)), 0),\"Not required\")","v":154252},{"$f":"IF(INTRO!$E$41=\"Endemic\", IF($J47>1, IF($J47=4, \"Unknown\", IF($J47=99, \"Surveillance\", E47)), 0),\"Not required\")","v":26711.91},{"$f":"IF(INTRO!$E$41=\"Endemic\", IF($J47>1, IF($J47=4, \"Unknown\", IF($J47=99, \"Surveillance\", F47)), 0),\"Not required\")","v":40800},{"$f":"IF(INTRO!$E$41=\"Endemic\", IF($J47>1, IF($J47=4, \"Unknown\", IF($J47=99, \"Surveillance\", ROUND(D47*INTRO!$E$51,0))), 0),\"Not required\")","v":5707},{"$f":"IF(INTRO!$E$41=\"Endemic\", IF($J47>1, IF($J47=4, \"Unknown\", IF($J47=99, \"Surveillance\", SUM($O47:$Q47))), 0),\"Not required\")","v":73218.91},{"$f":"IF(INTRO!$E$43=\"Endemic\", IF($K47>1, IF($K47=4, \"Unknown\", IF($K47=99, \"Surveillance\", ROUND(E47*0.75,0))), 0),\"Not required\")","v":0},{"$f":"IF(INTRO!$E$43=\"Endemic\", IF($K47>1, IF($K47=4, \"Unknown\", IF($K47=99, \"Surveillance\", F47)), 0),\"Not required\")","v":0},{"$f":"IF(INTRO!$E$43=\"Endemic\", IF($K47>1, IF($K47=4, \"Unknown\", IF($K47=99, \"Surveillance\", G47)), 0),\"Not required\")","v":0},{"$f":"IF(INTRO!$E$43=\"Endemic\", IF($K47>1, IF($K47=4, \"Unknown\", IF($K47=99, \"Surveillance\", SUM($S47:$U47))), 0),\"Not required\")","v":0},0,1,1,0,null,"Yes",null,null,null,null,null,7454,"OBALA"]
[{"$f":"IF(INTRO!$E$33<>0,INTRO!$E$33, \" \")","v":"Cameroun"},"Centre","Odza",496898,34951.716,{"$f":"IF(INTRO!$E$49=\"\",\"\",ROUND($D48*INTRO!$E$49,0))","v":131430},{"$f":"IF(INTRO!$E$50=\"\",\"\",ROUND($D48*INTRO!$E$50,0))","v":286064},0,4,3,1,1,{"$f":"IF(INTRO!$E$37=\"Endemic\",IF($H48>0,IF($H48=4,\"Unknown\",IF($H48=99,\"Stopped\",$D48)),0),\"Not required\")","v":0},{"$f":"IF(INTRO!$E$39=\"Endemic\", IF($I48>0, IF($I48=4,\"Unknown\",IF($I48=99,\"Stopped\",$D48)), 0),\"Not required\")","v":"Unknown"},{"$f":"IF(INTRO!$E$41=\"Endemic\", IF($J48>1, IF($J48=4, \"Unknown\", IF($J48=99, \"Surveillance\", E48)), 0),\"Not required\")","v":34951.716},{"$f":"IF(INTRO!$E$41=\"Endemic\", IF($J48>1, IF($J48=4, \"Unknown\", IF($J48=99, \"Surveillance\", F48)), 0),\"Not required\")","v":131430},{"$f":"IF(INTRO!$E$41=\"Endemic\", IF($J48>1, IF($J48=4, \"Unknown\", IF($J48=99, \"Surveillance\", ROUND(D48*INTRO!$E$51,0))), 0),\"Not required\")","v":18385},{"$f":"IF(INTRO!$E$41=\"Endemic\", IF($J48>1, IF($J48=4, \"Unknown\", IF($J48=99, \"Surveillance\", SUM($O48:$Q48))), 0),\"Not required\")","v":184766.71600000001},{"$f":"IF(INTRO!$E$43=\"Endemic\", IF($K48>1, IF($K48=4, \"Unknown\", IF($K48=99, \"Surveillance\", ROUND(E48*0.75,0))), 0),\"Not required\")","v":0},{"$f":"IF(INTRO!$E$43=\"Endemic\", IF($K48>1, IF($K48=4, \"Unknown\", IF($K48=99, \"Surveillance\", F48)), 0),\"Not required\")","v":0},{"$f":"IF(INTRO!$E$43=\"Endemic\", IF($K48>1, IF($K48=4, \"Unknown\", IF($K48=99, \"Surveillance\", G48)), 0),\"Not required\")","v":0},{"$f":"IF(INTRO!$E$43=\"Endemic\", IF($K48>1, IF($K48=4, \"Unknown\", IF($K48=99, \"Surveillance\", SUM($S48:$U48))), 0),\"Not required\")","v":0},0,0,1,0,null,"Yes",null,null,null,null,null,7611,"Odza"]
[{"$f":"IF(INTRO!$E$33<>0,INTRO!$E$33, \" \")","v":"Cameroun"},"Centre","Okola",63236,8926.2000000000007,{"$f":"IF(INTRO!$E$49=\"\",\"\",ROUND($D49*INTRO!$E$49,0))","v":16726},{"$f":"IF(INTRO!$E$50=\"\",\"\",ROUND($D49*INTRO!$E$50,0))","v":36405},99,1,3,1,1,{"$f":"IF(INTRO!$E$37=\"Endemic\",IF($H49>0,IF($H49=4,\"Unknown\",IF($H49=99,\"Stopped\",$D49)),0),\"Not required\")","v":"Stopped"},{"$f":"IF(INTRO!$E$39=\"Endemic\", IF($I49>0, IF($I49=4,\"Unknown\",IF($I49=99,\"Stopped\",$D49)), 0),\"Not required\")","v":63236},{"$f":"IF(INTRO!$E$41=\"Endemic\", IF($J49>1, IF($J49=4, \"Unknown\", IF($J49=99, \"Surveillance\", E49)), 0),\"Not required\")","v":8926.2000000000007},{"$f":"IF(INTRO!$E$41=\"Endemic\", IF($J49>1, IF($J49=4, \"Unknown\", IF($J49=99, \"Surveillance\", F49)), 0),\"Not required\")","v":16726},{"$f":"IF(INTRO!$E$41=\"Endemic\", IF($J49>1, IF($J49=4, \"Unknown\", IF($J49=99, \"Surveillance\", ROUND(D49*INTRO!$E$51,0))), 0),\"Not required\")","v":2340},{"$f":"IF(INTRO!$E$41=\"Endemic\", IF($J49>1, IF($J49=4, \"Unknown\", IF($J49=99, \"Surveillance\", SUM($O49:$Q49))), 0),\"Not required\")","v":27992.2},{"$f":"IF(INTRO!$E$43=\"Endemic\", IF($K49>1, IF($K49=4, \"Unknown\", IF($K49=99, \"Surveillance\", ROUND(E49*0.75,0))), 0),\"Not required\")","v":0},{"$f":"IF(INTRO!$E$43=\"Endemic\", IF($K49>1, IF($K49=4, \"Unknown\", IF($K49=99, \"Surveillance\", F49)), 0),\"Not required\")","v":0},{"$f":"IF(INTRO!$E$43=\"Endemic\", IF($K49>1, IF($K49=4, \"Unknown\", IF($K49=99, \"Surveillance\", G49)), 0),\"Not required\")","v":0},{"$f":"IF(INTRO!$E$43=\"Endemic\", IF($K49>1, IF($K49=4, \"Unknown\", IF($K49=99, \"Surveillance\", SUM($S49:$U49))), 0),\"Not required\")","v":0},0,1,1,0,"TAS","Yes",null,null,null,null,null,7455,"OKOLA"]
[{"$f":"IF(INTRO!$E$33<>0,INTRO!$E$33, \" \")","v":"Cameroun"},"Centre","Sa'a",80457,10426.212,{"$f":"IF(INTRO!$E$49=\"\",\"\",ROUND($D50*INTRO!$E$49,0))","v":21281},{"$f":"IF(INTRO!$E$50=\"\",\"\",ROUND($D50*INTRO!$E$50,0))","v":46319},99,1,3,1,1,{"$f":"IF(INTRO!$E$37=\"Endemic\",IF($H50>0,IF($H50=4,\"Unknown\",IF($H50=99,\"Stopped\",$D50)),0),\"Not required\")","v":"Stopped"},{"$f":"IF(INTRO!$E$39=\"Endemic\", IF($I50>0, IF($I50=4,\"Unknown\",IF($I50=99,\"Stopped\",$D50)), 0),\"Not required\")","v":80457},{"$f":"IF(INTRO!$E$41=\"Endemic\", IF($J50>1, IF($J50=4, \"Unknown\", IF($J50=99, \"Surveillance\", E50)), 0),\"Not required\")","v":10426.212},{"$f":"IF(INTRO!$E$41=\"Endemic\", IF($J50>1, IF($J50=4, \"Unknown\", IF($J50=99, \"Surveillance\", F50)), 0),\"Not required\")","v":21281},{"$f":"IF(INTRO!$E$41=\"Endemic\", IF($J50>1, IF($J50=4, \"Unknown\", IF($J50=99, \"Surveillance\", ROUND(D50*INTRO!$E$51,0))), 0),\"Not required\")","v":2977},{"$f":"IF(INTRO!$E$41=\"Endemic\", IF($J50>1, IF($J50=4, \"Unknown\", IF($J50=99, \"Surveillance\", SUM($O50:$Q50))), 0),\"Not required\")","v":34684.212},{"$f":"IF(INTRO!$E$43=\"Endemic\", IF($K50>1, IF($K50=4, \"Unknown\", IF($K50=99, \"Surveillance\", ROUND(E50*0.75,0))), 0),\"Not required\")","v":0},{"$f":"IF(INTRO!$E$43=\"Endemic\", IF($K50>1, IF($K50=4, \"Unknown\", IF($K50=99, \"Surveillance\", F50)), 0),\"Not required\")","v":0},{"$f":"IF(INTRO!$E$43=\"Endemic\", IF($K50>1, IF($K50=4, \"Unknown\", IF($K50=99, \"Surveillance\", G50)), 0),\"Not required\")","v":0},{"$f":"IF(INTRO!$E$43=\"Endemic\", IF($K50>1, IF($K50=4, \"Unknown\", IF($K50=99, \"Surveillance\", SUM($S50:$U50))), 0),\"Not required\")","v":0},0,1,1,0,null,"Yes",null,null,null,null,null,7456,"SAA"]
[{"$f":"IF(INTRO!$E$33<>0,INTRO!$E$33, \" \")","v":"Cameroun"},"Centre","Soa",51610,13891.014000000001,{"$f":"IF(INTRO!$E$49=\"\",\"\",ROUND($D51*INTRO!$E$49,0))","v":13651},{"$f":"IF(INTRO!$E$50=\"\",\"\",ROUND($D51*INTRO!$E$50,0))","v":29712},0,4,2,1,1,{"$f":"IF(INTRO!$E$37=\"Endemic\",IF($H51>0,IF($H51=4,\"Unknown\",IF($H51=99,\"Stopped\",$D51)),0),\"Not required\")","v":0},{"$f":"IF(INTRO!$E$39=\"Endemic\", IF($I51>0, IF($I51=4,\"Unknown\",IF($I51=99,\"Stopped\",$D51)), 0),\"Not required\")","v":"Unknown"},{"$f":"IF(INTRO!$E$41=\"Endemic\", IF($J51>1, IF($J51=4, \"Unknown\", IF($J51=99, \"Surveillance\", E51)), 0),\"Not required\")","v":13891.014000000001},{"$f":"IF(INTRO!$E$41=\"Endemic\", IF($J51>1, IF($J51=4, \"Unknown\", IF($J51=99, \"Surveillance\", F51)), 0),\"Not required\")","v":13651},{"$f":"IF(INTRO!$E$41=\"Endemic\", IF($J51>1, IF($J51=4, \"Unknown\", IF($J51=99, \"Surveillance\", ROUND(D51*INTRO!$E$51,0))), 0),\"Not required\")","v":1910},{"$f":"IF(INTRO!$E$41=\"Endemic\", IF($J51>1, IF($J51=4, \"Unknown\", IF($J51=99, \"Surveillance\", SUM($O51:$Q51))), 0),\"Not required\")","v":29452.014000000003},{"$f":"IF(INTRO!$E$43=\"Endemic\", IF($K51>1, IF($K51=4, \"Unknown\", IF($K51=99, \"Surveillance\", ROUND(E51*0.75,0))), 0),\"Not required\")","v":0},{"$f":"IF(INTRO!$E$43=\"Endemic\", IF($K51>1, IF($K51=4, \"Unknown\", IF($K51=99, \"Surveillance\", F51)), 0),\"Not required\")","v":0},{"$f":"IF(INTRO!$E$43=\"Endemic\", IF($K51>1, IF($K51=4, \"Unknown\", IF($K51=99, \"Surveillance\", G51)), 0),\"Not required\")","v":0},{"$f":"IF(INTRO!$E$43=\"Endemic\", IF($K51>1, IF($K51=4, \"Unknown\", IF($K51=99, \"Surveillance\", SUM($S51:$U51))), 0),\"Not required\")","v":0},0,0,1,0,null,"Yes",null,null,null,null,null,7457,"SOA"]
[{"$f":"IF(INTRO!$E$33<>0,INTRO!$E$33, \" \")","v":"Cameroun"},"Centre","Yoko",48954,12137.58,{"$f":"IF(INTRO!$E$49=\"\",\"\",ROUND($D52*INTRO!$E$49,0))","v":12948},{"$f":"IF(INTRO!$E$50=\"\",\"\",ROUND($D52*INTRO!$E$50,0))","v":28183},99,1,3,0,1,{"$f":"IF(INTRO!$E$37=\"Endemic\",IF($H52>0,IF($H52=4,\"Unknown\",IF($H52=99,\"Stopped\",$D52)),0),\"Not required\")","v":"Stopped"},{"$f":"IF(INTRO!$E$39=\"Endemic\", IF($I52>0, IF($I52=4,\"Unknown\",IF($I52=99,\"Stopped\",$D52)), 0),\"Not required\")","v":48954},{"$f":"IF(INTRO!$E$41=\"Endemic\", IF($J52>1, IF($J52=4, \"Unknown\", IF($J52=99, \"Surveillance\", E52)), 0),\"Not required\")","v":12137.58},{"$f":"IF(INTRO!$E$41=\"Endemic\", IF($J52>1, IF($J52=4, \"Unknown\", IF($J52=99, \"Surveillance\", F52)), 0),\"Not required\")","v":12948},{"$f":"IF(INTRO!$E$41=\"Endemic\", IF($J52>1, IF($J52=4, \"Unknown\", IF($J52=99, \"Surveillance\", ROUND(D52*INTRO!$E$51,0))), 0),\"Not required\")","v":1811},{"$f":"IF(INTRO!$E$41=\"Endemic\", IF($J52>1, IF($J52=4, \"Unknown\", IF($J52=99, \"Surveillance\", SUM($O52:$Q52))), 0),\"Not required\")","v":26896.58},{"$f":"IF(INTRO!$E$43=\"Endemic\", IF($K52>1, IF($K52=4, \"Unknown\", IF($K52=99, \"Surveillance\", ROUND(E52*0.75,0))), 0),\"Not required\")","v":0},{"$f":"IF(INTRO!$E$43=\"Endemic\", IF($K52>1, IF($K52=4, \"Unknown\", IF($K52=99, \"Surveillance\", F52)), 0),\"Not required\")","v":0},{"$f":"IF(INTRO!$E$43=\"Endemic\", IF($K52>1, IF($K52=4, \"Unknown\", IF($K52=99, \"Surveillance\", G52)), 0),\"Not required\")","v":0},{"$f":"IF(INTRO!$E$43=\"Endemic\", IF($K52>1, IF($K52=4, \"Unknown\", IF($K52=99, \"Surveillance\", SUM($S52:$U52))), 0),\"Not required\")","v":0},0,1,1,0,null,"Yes",null,null,null,null,null,7458,"YOKO"]
[{"$f":"IF(INTRO!$E$33<>0,INTRO!$E$33, \" \")","v":"Cameroun"},"Est","Abong Mbang",90434,19130.796000000002,{"$f":"IF(INTRO!$E$49=\"\",\"\",ROUND($D53*INTRO!$E$49,0))","v":23920},{"$f":"IF(INTRO!$E$50=\"\",\"\",ROUND($D53*INTRO!$E$50,0))","v":52063},0,4,3,0,1,{"$f":"IF(INTRO!$E$37=\"Endemic\",IF($H53>0,IF($H53=4,\"Unknown\",IF($H53=99,\"Stopped\",$D53)),0),\"Not required\")","v":0},{"$f":"IF(INTRO!$E$39=\"Endemic\", IF($I53>0, IF($I53=4,\"Unknown\",IF($I53=99,\"Stopped\",$D53)), 0),\"Not required\")","v":"Unknown"},{"$f":"IF(INTRO!$E$41=\"Endemic\", IF($J53>1, IF($J53=4, \"Unknown\", IF($J53=99, \"Surveillance\", E53)), 0),\"Not required\")","v":19130.796000000002},{"$f":"IF(INTRO!$E$41=\"Endemic\", IF($J53>1, IF($J53=4, \"Unknown\", IF($J53=99, \"Surveillance\", F53)), 0),\"Not required\")","v":23920},{"$f":"IF(INTRO!$E$41=\"Endemic\", IF($J53>1, IF($J53=4, \"Unknown\", IF($J53=99, \"Surveillance\", ROUND(D53*INTRO!$E$51,0))), 0),\"Not required\")","v":3346},{"$f":"IF(INTRO!$E$41=\"Endemic\", IF($J53>1, IF($J53=4, \"Unknown\", IF($J53=99, \"Surveillance\", SUM($O53:$Q53))), 0),\"Not required\")","v":46396.796000000002},{"$f":"IF(INTRO!$E$43=\"Endemic\", IF($K53>1, IF($K53=4, \"Unknown\", IF($K53=99, \"Surveillance\", ROUND(E53*0.75,0))), 0),\"Not required\")","v":0},{"$f":"IF(INTRO!$E$43=\"Endemic\", IF($K53>1, IF($K53=4, \"Unknown\", IF($K53=99, \"Surveillance\", F53)), 0),\"Not required\")","v":0},{"$f":"IF(INTRO!$E$43=\"Endemic\", IF($K53>1, IF($K53=4, \"Unknown\", IF($K53=99, \"Surveillance\", G53)), 0),\"Not required\")","v":0},{"$f":"IF(INTRO!$E$43=\"Endemic\", IF($K53>1, IF($K53=4, \"Unknown\", IF($K53=99, \"Surveillance\", SUM($S53:$U53))), 0),\"Not required\")","v":0},0,0,1,0,null,"Yes",null,null,null,null,null,7459,"ABONG MBANG"]
[{"$f":"IF(INTRO!$E$33<>0,INTRO!$E$33, \" \")","v":"Cameroun"},"Est","Batouri",127905,27208.494000000002,{"$f":"IF(INTRO!$E$49=\"\",\"\",ROUND($D54*INTRO!$E$49,0))","v":33831},{"$f":"IF(INTRO!$E$50=\"\",\"\",ROUND($D54*INTRO!$E$50,0))","v":73635},0,4,3,1,1,{"$f":"IF(INTRO!$E$37=\"Endemic\",IF($H54>0,IF($H54=4,\"Unknown\",IF($H54=99,\"Stopped\",$D54)),0),\"Not required\")","v":0},{"$f":"IF(INTRO!$E$39=\"Endemic\", IF($I54>0, IF($I54=4,\"Unknown\",IF($I54=99,\"Stopped\",$D54)), 0),\"Not required\")","v":"Unknown"},{"$f":"IF(INTRO!$E$41=\"Endemic\", IF($J54>1, IF($J54=4, \"Unknown\", IF($J54=99, \"Surveillance\", E54)), 0),\"Not required\")","v":27208.494000000002},{"$f":"IF(INTRO!$E$41=\"Endemic\", IF($J54>1, IF($J54=4, \"Unknown\", IF($J54=99, \"Surveillance\", F54)), 0),\"Not required\")","v":33831},{"$f":"IF(INTRO!$E$41=\"Endemic\", IF($J54>1, IF($J54=4, \"Unknown\", IF($J54=99, \"Surveillance\", ROUND(D54*INTRO!$E$51,0))), 0),\"Not required\")","v":4732},{"$f":"IF(INTRO!$E$41=\"Endemic\", IF($J54>1, IF($J54=4, \"Unknown\", IF($J54=99, \"Surveillance\", SUM($O54:$Q54))), 0),\"Not required\")","v":65771.494000000006},{"$f":"IF(INTRO!$E$43=\"Endemic\", IF($K54>1, IF($K54=4, \"Unknown\", IF($K54=99, \"Surveillance\", ROUND(E54*0.75,0))), 0),\"Not required\")","v":0},{"$f":"IF(INTRO!$E$43=\"Endemic\", IF($K54>1, IF($K54=4, \"Unknown\", IF($K54=99, \"Surveillance\", F54)), 0),\"Not required\")","v":0},{"$f":"IF(INTRO!$E$43=\"Endemic\", IF($K54>1, IF($K54=4, \"Unknown\", IF($K54=99, \"Surveillance\", G54)), 0),\"Not required\")","v":0},{"$f":"IF(INTRO!$E$43=\"Endemic\", IF($K54>1, IF($K54=4, \"Unknown\", IF($K54=99, \"Surveillance\", SUM($S54:$U54))), 0),\"Not required\")","v":0},0,0,1,0,null,"Yes",null,null,null,null,null,7460,"BATOURI"]
[{"$f":"IF(INTRO!$E$33<>0,INTRO!$E$33, \" \")","v":"Cameroun"},"Est","Belabo",130726,15198.138000000001,{"$f":"IF(INTRO!$E$49=\"\",\"\",ROUND($D55*INTRO!$E$49,0))","v":34577},{"$f":"IF(INTRO!$E$50=\"\",\"\",ROUND($D55*INTRO!$E$50,0))","v":75259},99,1,3,2,1,{"$f":"IF(INTRO!$E$37=\"Endemic\",IF($H55>0,IF($H55=4,\"Unknown\",IF($H55=99,\"Stopped\",$D55)),0),\"Not required\")","v":"Stopped"},{"$f":"IF(INTRO!$E$39=\"Endemic\", IF($I55>0, IF($I55=4,\"Unknown\",IF($I55=99,\"Stopped\",$D55)), 0),\"Not required\")","v":130726},{"$f":"IF(INTRO!$E$41=\"Endemic\", IF($J55>1, IF($J55=4, \"Unknown\", IF($J55=99, \"Surveillance\", E55)), 0),\"Not required\")","v":15198.138000000001},{"$f":"IF(INTRO!$E$41=\"Endemic\", IF($J55>1, IF($J55=4, \"Unknown\", IF($J55=99, \"Surveillance\", F55)), 0),\"Not required\")","v":34577},{"$f":"IF(INTRO!$E$41=\"Endemic\", IF($J55>1, IF($J55=4, \"Unknown\", IF($J55=99, \"Surveillance\", ROUND(D55*INTRO!$E$51,0))), 0),\"Not required\")","v":4837},{"$f":"IF(INTRO!$E$41=\"Endemic\", IF($J55>1, IF($J55=4, \"Unknown\", IF($J55=99, \"Surveillance\", SUM($O55:$Q55))), 0),\"Not required\")","v":54612.137999999999},{"$f":"IF(INTRO!$E$43=\"Endemic\", IF($K55>1, IF($K55=4, \"Unknown\", IF($K55=99, \"Surveillance\", ROUND(E55*0.75,0))), 0),\"Not required\")","v":11399},{"$f":"IF(INTRO!$E$43=\"Endemic\", IF($K55>1, IF($K55=4, \"Unknown\", IF($K55=99, \"Surveillance\", F55)), 0),\"Not required\")","v":34577},{"$f":"IF(INTRO!$E$43=\"Endemic\", IF($K55>1, IF($K55=4, \"Unknown\", IF($K55=99, \"Surveillance\", G55)), 0),\"Not required\")","v":75259},{"$f":"IF(INTRO!$E$43=\"Endemic\", IF($K55>1, IF($K55=4, \"Unknown\", IF($K55=99, \"Surveillance\", SUM($S55:$U55))), 0),\"Not required\")","v":121235},0,1,1,1,"TAS","Yes",null,null,null,null,null,7612,"BELABO"]
[{"$f":"IF(INTRO!$E$33<>0,INTRO!$E$33, \" \")","v":"Cameroun"},"Est","Bertoua",255484,58267.565999999999,{"$f":"IF(INTRO!$E$49=\"\",\"\",ROUND($D56*INTRO!$E$49,0))","v":67576},{"$f":"IF(INTRO!$E$50=\"\",\"\",ROUND($D56*INTRO!$E$50,0))","v":147082},99,4,3,2,1,{"$f":"IF(INTRO!$E$37=\"Endemic\",IF($H56>0,IF($H56=4,\"Unknown\",IF($H56=99,\"Stopped\",$D56)),0),\"Not required\")","v":"Stopped"},{"$f":"IF(INTRO!$E$39=\"Endemic\", IF($I56>0, IF($I56=4,\"Unknown\",IF($I56=99,\"Stopped\",$D56)), 0),\"Not required\")","v":"Unknown"},{"$f":"IF(INTRO!$E$41=\"Endemic\", IF($J56>1, IF($J56=4, \"Unknown\", IF($J56=99, \"Surveillance\", E56)), 0),\"Not required\")","v":58267.565999999999},{"$f":"IF(INTRO!$E$41=\"Endemic\", IF($J56>1, IF($J56=4, \"Unknown\", IF($J56=99, \"Surveillance\", F56)), 0),\"Not required\")","v":67576},{"$f":"IF(INTRO!$E$41=\"Endemic\", IF($J56>1, IF($J56=4, \"Unknown\", IF($J56=99, \"Surveillance\", ROUND(D56*INTRO!$E$51,0))), 0),\"Not required\")","v":9453},{"$f":"IF(INTRO!$E$41=\"Endemic\", IF($J56>1, IF($J56=4, \"Unknown\", IF($J56=99, \"Surveillance\", SUM($O56:$Q56))), 0),\"Not required\")","v":135296.56599999999},{"$f":"IF(INTRO!$E$43=\"Endemic\", IF($K56>1, IF($K56=4, \"Unknown\", IF($K56=99, \"Surveillance\", ROUND(E56*0.75,0))), 0),\"Not required\")","v":43701},{"$f":"IF(INTRO!$E$43=\"Endemic\", IF($K56>1, IF($K56=4, \"Unknown\", IF($K56=99, \"Surveillance\", F56)), 0),\"Not required\")","v":67576},{"$f":"IF(INTRO!$E$43=\"Endemic\", IF($K56>1, IF($K56=4, \"Unknown\", IF($K56=99, \"Surveillance\", G56)), 0),\"Not required\")","v":147082},{"$f":"IF(INTRO!$E$43=\"Endemic\", IF($K56>1, IF($K56=4, \"Unknown\", IF($K56=99, \"Surveillance\", SUM($S56:$U56))), 0),\"Not required\")","v":258359},0,0,1,1,null,"Yes",null,null,null,null,null,7461,"BERTOUA"]
[{"$f":"IF(INTRO!$E$33<>0,INTRO!$E$33, \" \")","v":"Cameroun"},"Est","Betare Oya",149226,40708.601999999999,{"$f":"IF(INTRO!$E$49=\"\",\"\",ROUND($D57*INTRO!$E$49,0))","v":39470},{"$f":"IF(INTRO!$E$50=\"\",\"\",ROUND($D57*INTRO!$E$50,0))","v":85909},99,1,3,2,1,{"$f":"IF(INTRO!$E$37=\"Endemic\",IF($H57>0,IF($H57=4,\"Unknown\",IF($H57=99,\"Stopped\",$D57)),0),\"Not required\")","v":"Stopped"},{"$f":"IF(INTRO!$E$39=\"Endemic\", IF($I57>0, IF($I57=4,\"Unknown\",IF($I57=99,\"Stopped\",$D57)), 0),\"Not required\")","v":149226},{"$f":"IF(INTRO!$E$41=\"Endemic\", IF($J57>1, IF($J57=4, \"Unknown\", IF($J57=99, \"Surveillance\", E57)), 0),\"Not required\")","v":40708.601999999999},{"$f":"IF(INTRO!$E$41=\"Endemic\", IF($J57>1, IF($J57=4, \"Unknown\", IF($J57=99, \"Surveillance\", F57)), 0),\"Not required\")","v":39470},{"$f":"IF(INTRO!$E$41=\"Endemic\", IF($J57>1, IF($J57=4, \"Unknown\", IF($J57=99, \"Surveillance\", ROUND(D57*INTRO!$E$51,0))), 0),\"Not required\")","v":5521},{"$f":"IF(INTRO!$E$41=\"Endemic\", IF($J57>1, IF($J57=4, \"Unknown\", IF($J57=99, \"Surveillance\", SUM($O57:$Q57))), 0),\"Not required\")","v":85699.601999999999},{"$f":"IF(INTRO!$E$43=\"Endemic\", IF($K57>1, IF($K57=4, \"Unknown\", IF($K57=99, \"Surveillance\", ROUND(E57*0.75,0))), 0),\"Not required\")","v":30531},{"$f":"IF(INTRO!$E$43=\"Endemic\", IF($K57>1, IF($K57=4, \"Unknown\", IF($K57=99, \"Surveillance\", F57)), 0),\"Not required\")","v":39470},{"$f":"IF(INTRO!$E$43=\"Endemic\", IF($K57>1, IF($K57=4, \"Unknown\", IF($K57=99, \"Surveillance\", G57)), 0),\"Not required\")","v":85909},{"$f":"IF(INTRO!$E$43=\"Endemic\", IF($K57>1, IF($K57=4, \"Unknown\", IF($K57=99, \"Surveillance\", SUM($S57:$U57))), 0),\"Not required\")","v":155910},0,1,1,1,"TAS","Yes",null,null,null,null,null,7462,"BETARE OYA"]
[{"$f":"IF(INTRO!$E$33<>0,INTRO!$E$33, \" \")","v":"Cameroun"},"Est","Doume",56236,8996.9940000000006,{"$f":"IF(INTRO!$E$49=\"\",\"\",ROUND($D58*INTRO!$E$49,0))","v":14874},{"$f":"IF(INTRO!$E$50=\"\",\"\",ROUND($D58*INTRO!$E$50,0))","v":32375},0,4,3,2,1,{"$f":"IF(INTRO!$E$37=\"Endemic\",IF($H58>0,IF($H58=4,\"Unknown\",IF($H58=99,\"Stopped\",$D58)),0),\"Not required\")","v":0},{"$f":"IF(INTRO!$E$39=\"Endemic\", IF($I58>0, IF($I58=4,\"Unknown\",IF($I58=99,\"Stopped\",$D58)), 0),\"Not required\")","v":"Unknown"},{"$f":"IF(INTRO!$E$41=\"Endemic\", IF($J58>1, IF($J58=4, \"Unknown\", IF($J58=99, \"Surveillance\", E58)), 0),\"Not required\")","v":8996.9940000000006},{"$f":"IF(INTRO!$E$41=\"Endemic\", IF($J58>1, IF($J58=4, \"Unknown\", IF($J58=99, \"Surveillance\", F58)), 0),\"Not required\")","v":14874},{"$f":"IF(INTRO!$E$41=\"Endemic\", IF($J58>1, IF($J58=4, \"Unknown\", IF($J58=99, \"Surveillance\", ROUND(D58*INTRO!$E$51,0))), 0),\"Not required\")","v":2081},{"$f":"IF(INTRO!$E$41=\"Endemic\", IF($J58>1, IF($J58=4, \"Unknown\", IF($J58=99, \"Surveillance\", SUM($O58:$Q58))), 0),\"Not required\")","v":25951.993999999999},{"$f":"IF(INTRO!$E$43=\"Endemic\", IF($K58>1, IF($K58=4, \"Unknown\", IF($K58=99, \"Surveillance\", ROUND(E58*0.75,0))), 0),\"Not required\")","v":6748},{"$f":"IF(INTRO!$E$43=\"Endemic\", IF($K58>1, IF($K58=4, \"Unknown\", IF($K58=99, \"Surveillance\", F58)), 0),\"Not required\")","v":14874},{"$f":"IF(INTRO!$E$43=\"Endemic\", IF($K58>1, IF($K58=4, \"Unknown\", IF($K58=99, \"Surveillance\", G58)), 0),\"Not required\")","v":32375},{"$f":"IF(INTRO!$E$43=\"Endemic\", IF($K58>1, IF($K58=4, \"Unknown\", IF($K58=99, \"Surveillance\", SUM($S58:$U58))), 0),\"Not required\")","v":53997},0,0,1,1,null,"Yes",null,null,null,null,null,7463,"DOUME"]
[{"$f":"IF(INTRO!$E$33<>0,INTRO!$E$33, \" \")","v":"Cameroun"},"Est","Garoua Boulai",129102,39757.5,{"$f":"IF(INTRO!$E$49=\"\",\"\",ROUND($D59*INTRO!$E$49,0))","v":34147},{"$f":"IF(INTRO!$E$50=\"\",\"\",ROUND($D59*INTRO!$E$50,0))","v":74324},0,4,3,1,1,{"$f":"IF(INTRO!$E$37=\"Endemic\",IF($H59>0,IF($H59=4,\"Unknown\",IF($H59=99,\"Stopped\",$D59)),0),\"Not required\")","v":0},{"$f":"IF(INTRO!$E$39=\"Endemic\", IF($I59>0, IF($I59=4,\"Unknown\",IF($I59=99,\"Stopped\",$D59)), 0),\"Not required\")","v":"Unknown"},{"$f":"IF(INTRO!$E$41=\"Endemic\", IF($J59>1, IF($J59=4, \"Unknown\", IF($J59=99, \"Surveillance\", E59)), 0),\"Not required\")","v":39757.5},{"$f":"IF(INTRO!$E$41=\"Endemic\", IF($J59>1, IF($J59=4, \"Unknown\", IF($J59=99, \"Surveillance\", F59)), 0),\"Not required\")","v":34147},{"$f":"IF(INTRO!$E$41=\"Endemic\", IF($J59>1, IF($J59=4, \"Unknown\", IF($J59=99, \"Surveillance\", ROUND(D59*INTRO!$E$51,0))), 0),\"Not required\")","v":4777},{"$f":"IF(INTRO!$E$41=\"Endemic\", IF($J59>1, IF($J59=4, \"Unknown\", IF($J59=99, \"Surveillance\", SUM($O59:$Q59))), 0),\"Not required\")","v":78681.5},{"$f":"IF(INTRO!$E$43=\"Endemic\", IF($K59>1, IF($K59=4, \"Unknown\", IF($K59=99, \"Surveillance\", ROUND(E59*0.75,0))), 0),\"Not required\")","v":0},{"$f":"IF(INTRO!$E$43=\"Endemic\", IF($K59>1, IF($K59=4, \"Unknown\", IF($K59=99, \"Surveillance\", F59)), 0),\"Not required\")","v":0},{"$f":"IF(INTRO!$E$43=\"Endemic\", IF($K59>1, IF($K59=4, \"Unknown\", IF($K59=99, \"Surveillance\", G59)), 0),\"Not required\")","v":0},{"$f":"IF(INTRO!$E$43=\"Endemic\", IF($K59>1, IF($K59=4, \"Unknown\", IF($K59=99, \"Surveillance\", SUM($S59:$U59))), 0),\"Not required\")","v":0},0,0,1,0,null,"Yes",null,null,null,null,null,7464,"GAROUA BOULAI"]
[{"$f":"IF(INTRO!$E$33<>0,INTRO!$E$33, \" \")","v":"Cameroun"},"Est","Kette",84039,40989.726000000002,{"$f":"IF(INTRO!$E$49=\"\",\"\",ROUND($D60*INTRO!$E$49,0))","v":22228},{"$f":"IF(INTRO!$E$50=\"\",\"\",ROUND($D60*INTRO!$E$50,0))","v":48381},0,4,3,2,1,{"$f":"IF(INTRO!$E$37=\"Endemic\",IF($H60>0,IF($H60=4,\"Unknown\",IF($H60=99,\"Stopped\",$D60)),0),\"Not required\")","v":0},{"$f":"IF(INTRO!$E$39=\"Endemic\", IF($I60>0, IF($I60=4,\"Unknown\",IF($I60=99,\"Stopped\",$D60)), 0),\"Not required\")","v":"Unknown"},{"$f":"IF(INTRO!$E$41=\"Endemic\", IF($J60>1, IF($J60=4, \"Unknown\", IF($J60=99, \"Surveillance\", E60)), 0),\"Not required\")","v":40989.726000000002},{"$f":"IF(INTRO!$E$41=\"Endemic\", IF($J60>1, IF($J60=4, \"Unknown\", IF($J60=99, \"Surveillance\", F60)), 0),\"Not required\")","v":22228},{"$f":"IF(INTRO!$E$41=\"Endemic\", IF($J60>1, IF($J60=4, \"Unknown\", IF($J60=99, \"Surveillance\", ROUND(D60*INTRO!$E$51,0))), 0),\"Not required\")","v":3109},{"$f":"IF(INTRO!$E$41=\"Endemic\", IF($J60>1, IF($J60=4, \"Unknown\", IF($J60=99, \"Surveillance\", SUM($O60:$Q60))), 0),\"Not required\")","v":66326.725999999995},{"$f":"IF(INTRO!$E$43=\"Endemic\", IF($K60>1, IF($K60=4, \"Unknown\", IF($K60=99, \"Surveillance\", ROUND(E60*0.75,0))), 0),\"Not required\")","v":30742},{"$f":"IF(INTRO!$E$43=\"Endemic\", IF($K60>1, IF($K60=4, \"Unknown\", IF($K60=99, \"Surveillance\", F60)), 0),\"Not required\")","v":22228},{"$f":"IF(INTRO!$E$43=\"Endemic\", IF($K60>1, IF($K60=4, \"Unknown\", IF($K60=99, \"Surveillance\", G60)), 0),\"Not required\")","v":48381},{"$f":"IF(INTRO!$E$43=\"Endemic\", IF($K60>1, IF($K60=4, \"Unknown\", IF($K60=99, \"Surveillance\", SUM($S60:$U60))), 0),\"Not required\")","v":101351},0,0,1,1,null,"Yes",null,null,null,null,null,7465,"KETTE"]
[{"$f":"IF(INTRO!$E$33<>0,INTRO!$E$33, \" \")","v":"Cameroun"},"Est","Lomie",50335,7618.05,{"$f":"IF(INTRO!$E$49=\"\",\"\",ROUND($D61*INTRO!$E$49,0))","v":13314},{"$f":"IF(INTRO!$E$50=\"\",\"\",ROUND($D61*INTRO!$E$50,0))","v":28978},99,1,3,1,1,{"$f":"IF(INTRO!$E$37=\"Endemic\",IF($H61>0,IF($H61=4,\"Unknown\",IF($H61=99,\"Stopped\",$D61)),0),\"Not required\")","v":"Stopped"},{"$f":"IF(INTRO!$E$39=\"Endemic\", IF($I61>0, IF($I61=4,\"Unknown\",IF($I61=99,\"Stopped\",$D61)), 0),\"Not required\")","v":50335},{"$f":"IF(INTRO!$E$41=\"Endemic\", IF($J61>1, IF($J61=4, \"Unknown\", IF($J61=99, \"Surveillance\", E61)), 0),\"Not required\")","v":7618.05},{"$f":"IF(INTRO!$E$41=\"Endemic\", IF($J61>1, IF($J61=4, \"Unknown\", IF($J61=99, \"Surveillance\", F61)), 0),\"Not required\")","v":13314},{"$f":"IF(INTRO!$E$41=\"Endemic\", IF($J61>1, IF($J61=4, \"Unknown\", IF($J61=99, \"Surveillance\", ROUND(D61*INTRO!$E$51,0))), 0),\"Not required\")","v":1862},{"$f":"IF(INTRO!$E$41=\"Endemic\", IF($J61>1, IF($J61=4, \"Unknown\", IF($J61=99, \"Surveillance\", SUM($O61:$Q61))), 0),\"Not required\")","v":22794.05},{"$f":"IF(INTRO!$E$43=\"Endemic\", IF($K61>1, IF($K61=4, \"Unknown\", IF($K61=99, \"Surveillance\", ROUND(E61*0.75,0))), 0),\"Not required\")","v":0},{"$f":"IF(INTRO!$E$43=\"Endemic\", IF($K61>1, IF($K61=4, \"Unknown\", IF($K61=99, \"Surveillance\", F61)), 0),\"Not required\")","v":0},{"$f":"IF(INTRO!$E$43=\"Endemic\", IF($K61>1, IF($K61=4, \"Unknown\", IF($K61=99, \"Surveillance\", G61)), 0),\"Not required\")","v":0},{"$f":"IF(INTRO!$E$43=\"Endemic\", IF($K61>1, IF($K61=4, \"Unknown\", IF($K61=99, \"Surveillance\", SUM($S61:$U61))), 0),\"Not required\")","v":0},0,1,1,0,"TAS","Yes",null,null,null,null,null,7466,"LOMIE"]
[{"$f":"IF(INTRO!$E$33<>0,INTRO!$E$33, \" \")","v":"Cameroun"},"Est","Mbang",36218,7962.7860000000001,{"$f":"IF(INTRO!$E$49=\"\",\"\",ROUND($D62*INTRO!$E$49,0))","v":9580},{"$f":"IF(INTRO!$E$50=\"\",\"\",ROUND($D62*INTRO!$E$50,0))","v":20851},0,4,3,1,1,{"$f":"IF(INTRO!$E$37=\"Endemic\",IF($H62>0,IF($H62=4,\"Unknown\",IF($H62=99,\"Stopped\",$D62)),0),\"Not required\")","v":0},{"$f":"IF(INTRO!$E$39=\"Endemic\", IF($I62>0, IF($I62=4,\"Unknown\",IF($I62=99,\"Stopped\",$D62)), 0),\"Not required\")","v":"Unknown"},{"$f":"IF(INTRO!$E$41=\"Endemic\", IF($J62>1, IF($J62=4, \"Unknown\", IF($J62=99, \"Surveillance\", E62)), 0),\"Not required\")","v":7962.7860000000001},{"$f":"IF(INTRO!$E$41=\"Endemic\", IF($J62>1, IF($J62=4, \"Unknown\", IF($J62=99, \"Surveillance\", F62)), 0),\"Not required\")","v":9580},{"$f":"IF(INTRO!$E$41=\"Endemic\", IF($J62>1, IF($J62=4, \"Unknown\", IF($J62=99, \"Surveillance\", ROUND(D62*INTRO!$E$51,0))), 0),\"Not required\")","v":1340},{"$f":"IF(INTRO!$E$41=\"Endemic\", IF($J62>1, IF($J62=4, \"Unknown\", IF($J62=99, \"Surveillance\", SUM($O62:$Q62))), 0),\"Not required\")","v":18882.786},{"$f":"IF(INTRO!$E$43=\"Endemic\", IF($K62>1, IF($K62=4, \"Unknown\", IF($K62=99, \"Surveillance\", ROUND(E62*0.75,0))), 0),\"Not required\")","v":0},{"$f":"IF(INTRO!$E$43=\"Endemic\", IF($K62>1, IF($K62=4, \"Unknown\", IF($K62=99, \"Surveillance\", F62)), 0),\"Not required\")","v":0},{"$f":"IF(INTRO!$E$43=\"Endemic\", IF($K62>1, IF($K62=4, \"Unknown\", IF($K62=99, \"Surveillance\", G62)), 0),\"Not required\")","v":0},{"$f":"IF(INTRO!$E$43=\"Endemic\", IF($K62>1, IF($K62=4, \"Unknown\", IF($K62=99, \"Surveillance\", SUM($S62:$U62))), 0),\"Not required\")","v":0},0,0,1,0,null,"Yes",null,null,null,null,null,7467,"MBANG"]
[{"$f":"IF(INTRO!$E$33<>0,INTRO!$E$33, \" \")","v":"Cameroun"},"Est","Messamena",34015,4497.9840000000004,{"$f":"IF(INTRO!$E$49=\"\",\"\",ROUND($D63*INTRO!$E$49,0))","v":8997},{"$f":"IF(INTRO!$E$50=\"\",\"\",ROUND($D63*INTRO!$E$50,0))","v":19582},99,1,3,1,1,{"$f":"IF(INTRO!$E$37=\"Endemic\",IF($H63>0,IF($H63=4,\"Unknown\",IF($H63=99,\"Stopped\",$D63)),0),\"Not required\")","v":"Stopped"},{"$f":"IF(INTRO!$E$39=\"Endemic\", IF($I63>0, IF($I63=4,\"Unknown\",IF($I63=99,\"Stopped\",$D63)), 0),\"Not required\")","v":34015},{"$f":"IF(INTRO!$E$41=\"Endemic\", IF($J63>1, IF($J63=4, \"Unknown\", IF($J63=99, \"Surveillance\", E63)), 0),\"Not required\")","v":4497.9840000000004},{"$f":"IF(INTRO!$E$41=\"Endemic\", IF($J63>1, IF($J63=4, \"Unknown\", IF($J63=99, \"Surveillance\", F63)), 0),\"Not required\")","v":8997},{"$f":"IF(INTRO!$E$41=\"Endemic\", IF($J63>1, IF($J63=4, \"Unknown\", IF($J63=99, \"Surveillance\", ROUND(D63*INTRO!$E$51,0))), 0),\"Not required\")","v":1259},{"$f":"IF(INTRO!$E$41=\"Endemic\", IF($J63>1, IF($J63=4, \"Unknown\", IF($J63=99, \"Surveillance\", SUM($O63:$Q63))), 0),\"Not required\")","v":14753.984},{"$f":"IF(INTRO!$E$43=\"Endemic\", IF($K63>1, IF($K63=4, \"Unknown\", IF($K63=99, \"Surveillance\", ROUND(E63*0.75,0))), 0),\"Not required\")","v":0},{"$f":"IF(INTRO!$E$43=\"Endemic\", IF($K63>1, IF($K63=4, \"Unknown\", IF($K63=99, \"Surveillance\", F63)), 0),\"Not required\")","v":0},{"$f":"IF(INTRO!$E$43=\"Endemic\", IF($K63>1, IF($K63=4, \"Unknown\", IF($K63=99, \"Surveillance\", G63)), 0),\"Not required\")","v":0},{"$f":"IF(INTRO!$E$43=\"Endemic\", IF($K63>1, IF($K63=4, \"Unknown\", IF($K63=99, \"Surveillance\", SUM($S63:$U63))), 0),\"Not required\")","v":0},0,1,1,0,null,"Yes",null,null,null,null,null,7468,"MESSAMENA"]
[{"$f":"IF(INTRO!$E$33<>0,INTRO!$E$33, \" \")","v":"Cameroun"},"Est","Moloundou",53868,8229.5460000000003,{"$f":"IF(INTRO!$E$49=\"\",\"\",ROUND($D64*INTRO!$E$49,0))","v":14248},{"$f":"IF(INTRO!$E$50=\"\",\"\",ROUND($D64*INTRO!$E$50,0))","v":31012},0,4,3,1,1,{"$f":"IF(INTRO!$E$37=\"Endemic\",IF($H64>0,IF($H64=4,\"Unknown\",IF($H64=99,\"Stopped\",$D64)),0),\"Not required\")","v":0},{"$f":"IF(INTRO!$E$39=\"Endemic\", IF($I64>0, IF($I64=4,\"Unknown\",IF($I64=99,\"Stopped\",$D64)), 0),\"Not required\")","v":"Unknown"},{"$f":"IF(INTRO!$E$41=\"Endemic\", IF($J64>1, IF($J64=4, \"Unknown\", IF($J64=99, \"Surveillance\", E64)), 0),\"Not required\")","v":8229.5460000000003},{"$f":"IF(INTRO!$E$41=\"Endemic\", IF($J64>1, IF($J64=4, \"Unknown\", IF($J64=99, \"Surveillance\", F64)), 0),\"Not required\")","v":14248},{"$f":"IF(INTRO!$E$41=\"Endemic\", IF($J64>1, IF($J64=4, \"Unknown\", IF($J64=99, \"Surveillance\", ROUND(D64*INTRO!$E$51,0))), 0),\"Not required\")","v":1993},{"$f":"IF(INTRO!$E$41=\"Endemic\", IF($J64>1, IF($J64=4, \"Unknown\", IF($J64=99, \"Surveillance\", SUM($O64:$Q64))), 0),\"Not required\")","v":24470.546000000002},{"$f":"IF(INTRO!$E$43=\"Endemic\", IF($K64>1, IF($K64=4, \"Unknown\", IF($K64=99, \"Surveillance\", ROUND(E64*0.75,0))), 0),\"Not required\")","v":0},{"$f":"IF(INTRO!$E$43=\"Endemic\", IF($K64>1, IF($K64=4, \"Unknown\", IF($K64=99, \"Surveillance\", F64)), 0),\"Not required\")","v":0},{"$f":"IF(INTRO!$E$43=\"Endemic\", IF($K64>1, IF($K64=4, \"Unknown\", IF($K64=99, \"Surveillance\", G64)), 0),\"Not required\")","v":0},{"$f":"IF(INTRO!$E$43=\"Endemic\", IF($K64>1, IF($K64=4, \"Unknown\", IF($K64=99, \"Surveillance\", SUM($S64:$U64))), 0),\"Not required\")","v":0},0,0,1,0,null,"Yes",null,null,null,null,null,7469,"MOLOUNDOU"]
[{"$f":"IF(INTRO!$E$33<>0,INTRO!$E$33, \" \")","v":"Cameroun"},"Est","Ndelele",107317,20494.350000000002,{"$f":"IF(INTRO!$E$49=\"\",\"\",ROUND($D65*INTRO!$E$49,0))","v":28385},{"$f":"IF(INTRO!$E$50=\"\",\"\",ROUND($D65*INTRO!$E$50,0))","v":61782},0,4,3,1,1,{"$f":"IF(INTRO!$E$37=\"Endemic\",IF($H65>0,IF($H65=4,\"Unknown\",IF($H65=99,\"Stopped\",$D65)),0),\"Not required\")","v":0},{"$f":"IF(INTRO!$E$39=\"Endemic\", IF($I65>0, IF($I65=4,\"Unknown\",IF($I65=99,\"Stopped\",$D65)), 0),\"Not required\")","v":"Unknown"},{"$f":"IF(INTRO!$E$41=\"Endemic\", IF($J65>1, IF($J65=4, \"Unknown\", IF($J65=99, \"Surveillance\", E65)), 0),\"Not required\")","v":20494.350000000002},{"$f":"IF(INTRO!$E$41=\"Endemic\", IF($J65>1, IF($J65=4, \"Unknown\", IF($J65=99, \"Surveillance\", F65)), 0),\"Not required\")","v":28385},{"$f":"IF(INTRO!$E$41=\"Endemic\", IF($J65>1, IF($J65=4, \"Unknown\", IF($J65=99, \"Surveillance\", ROUND(D65*INTRO!$E$51,0))), 0),\"Not required\")","v":3971},{"$f":"IF(INTRO!$E$41=\"Endemic\", IF($J65>1, IF($J65=4, \"Unknown\", IF($J65=99, \"Surveillance\", SUM($O65:$Q65))), 0),\"Not required\")","v":52850.350000000006},{"$f":"IF(INTRO!$E$43=\"Endemic\", IF($K65>1, IF($K65=4, \"Unknown\", IF($K65=99, \"Surveillance\", ROUND(E65*0.75,0))), 0),\"Not required\")","v":0},{"$f":"IF(INTRO!$E$43=\"Endemic\", IF($K65>1, IF($K65=4, \"Unknown\", IF($K65=99, \"Surveillance\", F65)), 0),\"Not required\")","v":0},{"$f":"IF(INTRO!$E$43=\"Endemic\", IF($K65>1, IF($K65=4, \"Unknown\", IF($K65=99, \"Surveillance\", G65)), 0),\"Not required\")","v":0},{"$f":"IF(INTRO!$E$43=\"Endemic\", IF($K65>1, IF($K65=4, \"Unknown\", IF($K65=99, \"Surveillance\", SUM($S65:$U65))), 0),\"Not required\")","v":0},0,0,1,0,null,"Yes",null,null,null,null,null,7470,"NDELELE"]
[{"$f":"IF(INTRO!$E$33<>0,INTRO!$E$33, \" \")","v":"Cameroun"},"Est","Nguelemendouka",33993,7323.5879999999997,{"$f":"IF(INTRO!$E$49=\"\",\"\",ROUND($D66*INTRO!$E$49,0))","v":8991},{"$f":"IF(INTRO!$E$50=\"\",\"\",ROUND($D66*INTRO!$E$50,0))","v":19570},0,4,3,1,1,{"$f":"IF(INTRO!$E$37=\"Endemic\",IF($H66>0,IF($H66=4,\"Unknown\",IF($H66=99,\"Stopped\",$D66)),0),\"Not required\")","v":0},{"$f":"IF(INTRO!$E$39=\"Endemic\", IF($I66>0, IF($I66=4,\"Unknown\",IF($I66=99,\"Stopped\",$D66)), 0),\"Not required\")","v":"Unknown"},{"$f":"IF(INTRO!$E$41=\"Endemic\", IF($J66>1, IF($J66=4, \"Unknown\", IF($J66=99, \"Surveillance\", E66)), 0),\"Not required\")","v":7323.5879999999997},{"$f":"IF(INTRO!$E$41=\"Endemic\", IF($J66>1, IF($J66=4, \"Unknown\", IF($J66=99, \"Surveillance\", F66)), 0),\"Not required\")","v":8991},{"$f":"IF(INTRO!$E$41=\"Endemic\", IF($J66>1, IF($J66=4, \"Unknown\", IF($J66=99, \"Surveillance\", ROUND(D66*INTRO!$E$51,0))), 0),\"Not required\")","v":1258},{"$f":"IF(INTRO!$E$41=\"Endemic\", IF($J66>1, IF($J66=4, \"Unknown\", IF($J66=99, \"Surveillance\", SUM($O66:$Q66))), 0),\"Not required\")","v":17572.588},{"$f":"IF(INTRO!$E$43=\"Endemic\", IF($K66>1, IF($K66=4, \"Unknown\", IF($K66=99, \"Surveillance\", ROUND(E66*0.75,0))), 0),\"Not required\")","v":0},{"$f":"IF(INTRO!$E$43=\"Endemic\", IF($K66>1, IF($K66=4, \"Unknown\", IF($K66=99, \"Surveillance\", F66)), 0),\"Not required\")","v":0},{"$f":"IF(INTRO!$E$43=\"Endemic\", IF($K66>1, IF($K66=4, \"Unknown\", IF($K66=99, \"Surveillance\", G66)), 0),\"Not required\")","v":0},{"$f":"IF(INTRO!$E$43=\"Endemic\", IF($K66>1, IF($K66=4, \"Unknown\", IF($K66=99, \"Surveillance\", SUM($S66:$U66))), 0),\"Not required\")","v":0},0,0,1,0,null,"Yes",null,null,null,null,null,7471,"NGUELEMENDOUKA"]
[{"$f":"IF(INTRO!$E$33<>0,INTRO!$E$33, \" \")","v":"Cameroun"},"Est","Yokadouma",130454,27857.952000000001,{"$f":"IF(INTRO!$E$49=\"\",\"\",ROUND($D67*INTRO!$E$49,0))","v":34505},{"$f":"IF(INTRO!$E$50=\"\",\"\",ROUND($D67*INTRO!$E$50,0))","v":75102},0,4,3,1,1,{"$f":"IF(INTRO!$E$37=\"Endemic\",IF($H67>0,IF($H67=4,\"Unknown\",IF($H67=99,\"Stopped\",$D67)),0),\"Not required\")","v":0},{"$f":"IF(INTRO!$E$39=\"Endemic\", IF($I67>0, IF($I67=4,\"Unknown\",IF($I67=99,\"Stopped\",$D67)), 0),\"Not required\")","v":"Unknown"},{"$f":"IF(INTRO!$E$41=\"Endemic\", IF($J67>1, IF($J67=4, \"Unknown\", IF($J67=99, \"Surveillance\", E67)), 0),\"Not required\")","v":27857.952000000001},{"$f":"IF(INTRO!$E$41=\"Endemic\", IF($J67>1, IF($J67=4, \"Unknown\", IF($J67=99, \"Surveillance\", F67)), 0),\"Not required\")","v":34505},{"$f":"IF(INTRO!$E$41=\"Endemic\", IF($J67>1, IF($J67=4, \"Unknown\", IF($J67=99, \"Surveillance\", ROUND(D67*INTRO!$E$51,0))), 0),\"Not required\")","v":4827},{"$f":"IF(INTRO!$E$41=\"Endemic\", IF($J67>1, IF($J67=4, \"Unknown\", IF($J67=99, \"Surveillance\", SUM($O67:$Q67))), 0),\"Not required\")","v":67189.952000000005},{"$f":"IF(INTRO!$E$43=\"Endemic\", IF($K67>1, IF($K67=4, \"Unknown\", IF($K67=99, \"Surveillance\", ROUND(E67*0.75,0))), 0),\"Not required\")","v":0},{"$f":"IF(INTRO!$E$43=\"Endemic\", IF($K67>1, IF($K67=4, \"Unknown\", IF($K67=99, \"Surveillance\", F67)), 0),\"Not required\")","v":0},{"$f":"IF(INTRO!$E$43=\"Endemic\", IF($K67>1, IF($K67=4, \"Unknown\", IF($K67=99, \"Surveillance\", G67)), 0),\"Not required\")","v":0},{"$f":"IF(INTRO!$E$43=\"Endemic\", IF($K67>1, IF($K67=4, \"Unknown\", IF($K67=99, \"Surveillance\", SUM($S67:$U67))), 0),\"Not required\")","v":0},0,0,1,0,null,"Yes",null,null,null,null,null,7472,"YOKADOUMA"]
[{"$f":"IF(INTRO!$E$33<>0,INTRO!$E$33, \" \")","v":"Cameroun"},"Extreme Nord","Bogo",133175,43004.79,{"$f":"IF(INTRO!$E$49=\"\",\"\",ROUND($D68*INTRO!$E$49,0))","v":35225},{"$f":"IF(INTRO!$E$50=\"\",\"\",ROUND($D68*INTRO!$E$50,0))","v":76669},99,4,1,2,0,{"$f":"IF(INTRO!$E$37=\"Endemic\",IF($H68>0,IF($H68=4,\"Unknown\",IF($H68=99,\"Stopped\",$D68)),0),\"Not required\")","v":"Stopped"},{"$f":"IF(INTRO!$E$39=\"Endemic\", IF($I68>0, IF($I68=4,\"Unknown\",IF($I68=99,\"Stopped\",$D68)), 0),\"Not required\")","v":"Unknown"},{"$f":"IF(INTRO!$E$41=\"Endemic\", IF($J68>1, IF($J68=4, \"Unknown\", IF($J68=99, \"Surveillance\", E68)), 0),\"Not required\")","v":0},{"$f":"IF(INTRO!$E$41=\"Endemic\", IF($J68>1, IF($J68=4, \"Unknown\", IF($J68=99, \"Surveillance\", F68)), 0),\"Not required\")","v":0},{"$f":"IF(INTRO!$E$41=\"Endemic\", IF($J68>1, IF($J68=4, \"Unknown\", IF($J68=99, \"Surveillance\", ROUND(D68*INTRO!$E$51,0))), 0),\"Not required\")","v":0},{"$f":"IF(INTRO!$E$41=\"Endemic\", IF($J68>1, IF($J68=4, \"Unknown\", IF($J68=99, \"Surveillance\", SUM($O68:$Q68))), 0),\"Not required\")","v":0},{"$f":"IF(INTRO!$E$43=\"Endemic\", IF($K68>1, IF($K68=4, \"Unknown\", IF($K68=99, \"Surveillance\", ROUND(E68*0.75,0))), 0),\"Not required\")","v":32254},{"$f":"IF(INTRO!$E$43=\"Endemic\", IF($K68>1, IF($K68=4, \"Unknown\", IF($K68=99, \"Surveillance\", F68)), 0),\"Not required\")","v":35225},{"$f":"IF(INTRO!$E$43=\"Endemic\", IF($K68>1, IF($K68=4, \"Unknown\", IF($K68=99, \"Surveillance\", G68)), 0),\"Not required\")","v":76669},{"$f":"IF(INTRO!$E$43=\"Endemic\", IF($K68>1, IF($K68=4, \"Unknown\", IF($K68=99, \"Surveillance\", SUM($S68:$U68))), 0),\"Not required\")","v":144148},0,0,0,1,null,"Yes",null,null,null,null,null,7473,"BOGO"]
[{"$f":"IF(INTRO!$E$33<>0,INTRO!$E$33, \" \")","v":"Cameroun"},"Extreme Nord","Bourha",87832,43854.317999999999,{"$f":"IF(INTRO!$E$49=\"\",\"\",ROUND($D69*INTRO!$E$49,0))","v":23232},{"$f":"IF(INTRO!$E$50=\"\",\"\",ROUND($D69*INTRO!$E$50,0))","v":50565},99,4,2,3,4,{"$f":"IF(INTRO!$E$37=\"Endemic\",IF($H69>0,IF($H69=4,\"Unknown\",IF($H69=99,\"Stopped\",$D69)),0),\"Not required\")","v":"Stopped"},{"$f":"IF(INTRO!$E$39=\"Endemic\", IF($I69>0, IF($I69=4,\"Unknown\",IF($I69=99,\"Stopped\",$D69)), 0),\"Not required\")","v":"Unknown"},{"$f":"IF(INTRO!$E$41=\"Endemic\", IF($J69>1, IF($J69=4, \"Unknown\", IF($J69=99, \"Surveillance\", E69)), 0),\"Not required\")","v":43854.317999999999},{"$f":"IF(INTRO!$E$41=\"Endemic\", IF($J69>1, IF($J69=4, \"Unknown\", IF($J69=99, \"Surveillance\", F69)), 0),\"Not required\")","v":23232},{"$f":"IF(INTRO!$E$41=\"Endemic\", IF($J69>1, IF($J69=4, \"Unknown\", IF($J69=99, \"Surveillance\", ROUND(D69*INTRO!$E$51,0))), 0),\"Not required\")","v":3250},{"$f":"IF(INTRO!$E$41=\"Endemic\", IF($J69>1, IF($J69=4, \"Unknown\", IF($J69=99, \"Surveillance\", SUM($O69:$Q69))), 0),\"Not required\")","v":70336.317999999999},{"$f":"IF(INTRO!$E$43=\"Endemic\", IF($K69>1, IF($K69=4, \"Unknown\", IF($K69=99, \"Surveillance\", ROUND(E69*0.75,0))), 0),\"Not required\")","v":32891},{"$f":"IF(INTRO!$E$43=\"Endemic\", IF($K69>1, IF($K69=4, \"Unknown\", IF($K69=99, \"Surveillance\", F69)), 0),\"Not required\")","v":23232},{"$f":"IF(INTRO!$E$43=\"Endemic\", IF($K69>1, IF($K69=4, \"Unknown\", IF($K69=99, \"Surveillance\", G69)), 0),\"Not required\")","v":50565},{"$f":"IF(INTRO!$E$43=\"Endemic\", IF($K69>1, IF($K69=4, \"Unknown\", IF($K69=99, \"Surveillance\", SUM($S69:$U69))), 0),\"Not required\")","v":106688},0,0,1,1,null,"Yes",null,null,null,null,null,7474,"BOURHA"]
[{"$f":"IF(INTRO!$E$33<>0,INTRO!$E$33, \" \")","v":"Cameroun"},"Extreme Nord","Fotokol",75912,20799.072,{"$f":"IF(INTRO!$E$49=\"\",\"\",ROUND($D70*INTRO!$E$49,0))","v":20079},{"$f":"IF(INTRO!$E$50=\"\",\"\",ROUND($D70*INTRO!$E$50,0))","v":43703},99,4,0,3,0,{"$f":"IF(INTRO!$E$37=\"Endemic\",IF($H70>0,IF($H70=4,\"Unknown\",IF($H70=99,\"Stopped\",$D70)),0),\"Not required\")","v":"Stopped"},{"$f":"IF(INTRO!$E$39=\"Endemic\", IF($I70>0, IF($I70=4,\"Unknown\",IF($I70=99,\"Stopped\",$D70)), 0),\"Not required\")","v":"Unknown"},{"$f":"IF(INTRO!$E$41=\"Endemic\", IF($J70>1, IF($J70=4, \"Unknown\", IF($J70=99, \"Surveillance\", E70)), 0),\"Not required\")","v":0},{"$f":"IF(INTRO!$E$41=\"Endemic\", IF($J70>1, IF($J70=4, \"Unknown\", IF($J70=99, \"Surveillance\", F70)), 0),\"Not required\")","v":0},{"$f":"IF(INTRO!$E$41=\"Endemic\", IF($J70>1, IF($J70=4, \"Unknown\", IF($J70=99, \"Surveillance\", ROUND(D70*INTRO!$E$51,0))), 0),\"Not required\")","v":0},{"$f":"IF(INTRO!$E$41=\"Endemic\", IF($J70>1, IF($J70=4, \"Unknown\", IF($J70=99, \"Surveillance\", SUM($O70:$Q70))), 0),\"Not required\")","v":0},{"$f":"IF(INTRO!$E$43=\"Endemic\", IF($K70>1, IF($K70=4, \"Unknown\", IF($K70=99, \"Surveillance\", ROUND(E70*0.75,0))), 0),\"Not required\")","v":15599},{"$f":"IF(INTRO!$E$43=\"Endemic\", IF($K70>1, IF($K70=4, \"Unknown\", IF($K70=99, \"Surveillance\", F70)), 0),\"Not required\")","v":20079},{"$f":"IF(INTRO!$E$43=\"Endemic\", IF($K70>1, IF($K70=4, \"Unknown\", IF($K70=99, \"Surveillance\", G70)), 0),\"Not required\")","v":43703},{"$f":"IF(INTRO!$E$43=\"Endemic\", IF($K70>1, IF($K70=4, \"Unknown\", IF($K70=99, \"Surveillance\", SUM($S70:$U70))), 0),\"Not required\")","v":79381},0,0,0,1,null,"Yes",null,null,null,null,null,7609,"Fotokol"]
[{"$f":"IF(INTRO!$E$33<>0,INTRO!$E$33, \" \")","v":"Cameroun"},"Extreme Nord","Gazawa",84230,65516.256000000001,{"$f":"IF(INTRO!$E$49=\"\",\"\",ROUND($D71*INTRO!$E$49,0))","v":22279},{"$f":"IF(INTRO!$E$50=\"\",\"\",ROUND($D71*INTRO!$E$50,0))","v":48491},99,4,1,2,0,{"$f":"IF(INTRO!$E$37=\"Endemic\",IF($H71>0,IF($H71=4,\"Unknown\",IF($H71=99,\"Stopped\",$D71)),0),\"Not required\")","v":"Stopped"},{"$f":"IF(INTRO!$E$39=\"Endemic\", IF($I71>0, IF($I71=4,\"Unknown\",IF($I71=99,\"Stopped\",$D71)), 0),\"Not required\")","v":"Unknown"},{"$f":"IF(INTRO!$E$41=\"Endemic\", IF($J71>1, IF($J71=4, \"Unknown\", IF($J71=99, \"Surveillance\", E71)), 0),\"Not required\")","v":0},{"$f":"IF(INTRO!$E$41=\"Endemic\", IF($J71>1, IF($J71=4, \"Unknown\", IF($J71=99, \"Surveillance\", F71)), 0),\"Not required\")","v":0},{"$f":"IF(INTRO!$E$41=\"Endemic\", IF($J71>1, IF($J71=4, \"Unknown\", IF($J71=99, \"Surveillance\", ROUND(D71*INTRO!$E$51,0))), 0),\"Not required\")","v":0},{"$f":"IF(INTRO!$E$41=\"Endemic\", IF($J71>1, IF($J71=4, \"Unknown\", IF($J71=99, \"Surveillance\", SUM($O71:$Q71))), 0),\"Not required\")","v":0},{"$f":"IF(INTRO!$E$43=\"Endemic\", IF($K71>1, IF($K71=4, \"Unknown\", IF($K71=99, \"Surveillance\", ROUND(E71*0.75,0))), 0),\"Not required\")","v":49137},{"$f":"IF(INTRO!$E$43=\"Endemic\", IF($K71>1, IF($K71=4, \"Unknown\", IF($K71=99, \"Surveillance\", F71)), 0),\"Not required\")","v":22279},{"$f":"IF(INTRO!$E$43=\"Endemic\", IF($K71>1, IF($K71=4, \"Unknown\", IF($K71=99, \"Surveillance\", G71)), 0),\"Not required\")","v":48491},{"$f":"IF(INTRO!$E$43=\"Endemic\", IF($K71>1, IF($K71=4, \"Unknown\", IF($K71=99, \"Surveillance\", SUM($S71:$U71))), 0),\"Not required\")","v":119907},0,0,0,1,null,"Yes",null,null,null,null,null,7475,"GAZAWA"]
[{"$f":"IF(INTRO!$E$33<>0,INTRO!$E$33, \" \")","v":"Cameroun"},"Extreme Nord","Goulfey",109534,32310.792000000001,{"$f":"IF(INTRO!$E$49=\"\",\"\",ROUND($D72*INTRO!$E$49,0))","v":28972},{"$f":"IF(INTRO!$E$50=\"\",\"\",ROUND($D72*INTRO!$E$50,0))","v":63059},99,4,1,2,0,{"$f":"IF(INTRO!$E$37=\"Endemic\",IF($H72>0,IF($H72=4,\"Unknown\",IF($H72=99,\"Stopped\",$D72)),0),\"Not required\")","v":"Stopped"},{"$f":"IF(INTRO!$E$39=\"Endemic\", IF($I72>0, IF($I72=4,\"Unknown\",IF($I72=99,\"Stopped\",$D72)), 0),\"Not required\")","v":"Unknown"},{"$f":"IF(INTRO!$E$41=\"Endemic\", IF($J72>1, IF($J72=4, \"Unknown\", IF($J72=99, \"Surveillance\", E72)), 0),\"Not required\")","v":0},{"$f":"IF(INTRO!$E$41=\"Endemic\", IF($J72>1, IF($J72=4, \"Unknown\", IF($J72=99, \"Surveillance\", F72)), 0),\"Not required\")","v":0},{"$f":"IF(INTRO!$E$41=\"Endemic\", IF($J72>1, IF($J72=4, \"Unknown\", IF($J72=99, \"Surveillance\", ROUND(D72*INTRO!$E$51,0))), 0),\"Not required\")","v":0},{"$f":"IF(INTRO!$E$41=\"Endemic\", IF($J72>1, IF($J72=4, \"Unknown\", IF($J72=99, \"Surveillance\", SUM($O72:$Q72))), 0),\"Not required\")","v":0},{"$f":"IF(INTRO!$E$43=\"Endemic\", IF($K72>1, IF($K72=4, \"Unknown\", IF($K72=99, \"Surveillance\", ROUND(E72*0.75,0))), 0),\"Not required\")","v":24233},{"$f":"IF(INTRO!$E$43=\"Endemic\", IF($K72>1, IF($K72=4, \"Unknown\", IF($K72=99, \"Surveillance\", F72)), 0),\"Not required\")","v":28972},{"$f":"IF(INTRO!$E$43=\"Endemic\", IF($K72>1, IF($K72=4, \"Unknown\", IF($K72=99, \"Surveillance\", G72)), 0),\"Not required\")","v":63059},{"$f":"IF(INTRO!$E$43=\"Endemic\", IF($K72>1, IF($K72=4, \"Unknown\", IF($K72=99, \"Surveillance\", SUM($S72:$U72))), 0),\"Not required\")","v":116264},0,0,0,1,null,"Yes",null,null,null,null,null,7476,"GOULFEY"]
[{"$f":"IF(INTRO!$E$33<>0,INTRO!$E$33, \" \")","v":"Cameroun"},"Extreme Nord","Guere",152822,27996.462,{"$f":"IF(INTRO!$E$49=\"\",\"\",ROUND($D73*INTRO!$E$49,0))","v":40421},{"$f":"IF(INTRO!$E$50=\"\",\"\",ROUND($D73*INTRO!$E$50,0))","v":87980},99,4,1,3,1,{"$f":"IF(INTRO!$E$37=\"Endemic\",IF($H73>0,IF($H73=4,\"Unknown\",IF($H73=99,\"Stopped\",$D73)),0),\"Not required\")","v":"Stopped"},{"$f":"IF(INTRO!$E$39=\"Endemic\", IF($I73>0, IF($I73=4,\"Unknown\",IF($I73=99,\"Stopped\",$D73)), 0),\"Not required\")","v":"Unknown"},{"$f":"IF(INTRO!$E$41=\"Endemic\", IF($J73>1, IF($J73=4, \"Unknown\", IF($J73=99, \"Surveillance\", E73)), 0),\"Not required\")","v":0},{"$f":"IF(INTRO!$E$41=\"Endemic\", IF($J73>1, IF($J73=4, \"Unknown\", IF($J73=99, \"Surveillance\", F73)), 0),\"Not required\")","v":0},{"$f":"IF(INTRO!$E$41=\"Endemic\", IF($J73>1, IF($J73=4, \"Unknown\", IF($J73=99, \"Surveillance\", ROUND(D73*INTRO!$E$51,0))), 0),\"Not required\")","v":0},{"$f":"IF(INTRO!$E$41=\"Endemic\", IF($J73>1, IF($J73=4, \"Unknown\", IF($J73=99, \"Surveillance\", SUM($O73:$Q73))), 0),\"Not required\")","v":0},{"$f":"IF(INTRO!$E$43=\"Endemic\", IF($K73>1, IF($K73=4, \"Unknown\", IF($K73=99, \"Surveillance\", ROUND(E73*0.75,0))), 0),\"Not required\")","v":20997},{"$f":"IF(INTRO!$E$43=\"Endemic\", IF($K73>1, IF($K73=4, \"Unknown\", IF($K73=99, \"Surveillance\", F73)), 0),\"Not required\")","v":40421},{"$f":"IF(INTRO!$E$43=\"Endemic\", IF($K73>1, IF($K73=4, \"Unknown\", IF($K73=99, \"Surveillance\", G73)), 0),\"Not required\")","v":87980},{"$f":"IF(INTRO!$E$43=\"Endemic\", IF($K73>1, IF($K73=4, \"Unknown\", IF($K73=99, \"Surveillance\", SUM($S73:$U73))), 0),\"Not required\")","v":149398},0,0,0,1,null,"Yes",null,null,null,null,null,7477,"GUERE"]
[{"$f":"IF(INTRO!$E$33<>0,INTRO!$E$33, \" \")","v":"Cameroun"},"Extreme Nord","Guidiguis",200247,54109.188000000002,{"$f":"IF(INTRO!$E$49=\"\",\"\",ROUND($D74*INTRO!$E$49,0))","v":52965},{"$f":"IF(INTRO!$E$50=\"\",\"\",ROUND($D74*INTRO!$E$50,0))","v":115282},99,4,2,3,0,{"$f":"IF(INTRO!$E$37=\"Endemic\",IF($H74>0,IF($H74=4,\"Unknown\",IF($H74=99,\"Stopped\",$D74)),0),\"Not required\")","v":"Stopped"},{"$f":"IF(INTRO!$E$39=\"Endemic\", IF($I74>0, IF($I74=4,\"Unknown\",IF($I74=99,\"Stopped\",$D74)), 0),\"Not required\")","v":"Unknown"},{"$f":"IF(INTRO!$E$41=\"Endemic\", IF($J74>1, IF($J74=4, \"Unknown\", IF($J74=99, \"Surveillance\", E74)), 0),\"Not required\")","v":54109.188000000002},{"$f":"IF(INTRO!$E$41=\"Endemic\", IF($J74>1, IF($J74=4, \"Unknown\", IF($J74=99, \"Surveillance\", F74)), 0),\"Not required\")","v":52965},{"$f":"IF(INTRO!$E$41=\"Endemic\", IF($J74>1, IF($J74=4, \"Unknown\", IF($J74=99, \"Surveillance\", ROUND(D74*INTRO!$E$51,0))), 0),\"Not required\")","v":7409},{"$f":"IF(INTRO!$E$41=\"Endemic\", IF($J74>1, IF($J74=4, \"Unknown\", IF($J74=99, \"Surveillance\", SUM($O74:$Q74))), 0),\"Not required\")","v":114483.18799999999},{"$f":"IF(INTRO!$E$43=\"Endemic\", IF($K74>1, IF($K74=4, \"Unknown\", IF($K74=99, \"Surveillance\", ROUND(E74*0.75,0))), 0),\"Not required\")","v":40582},{"$f":"IF(INTRO!$E$43=\"Endemic\", IF($K74>1, IF($K74=4, \"Unknown\", IF($K74=99, \"Surveillance\", F74)), 0),\"Not required\")","v":52965},{"$f":"IF(INTRO!$E$43=\"Endemic\", IF($K74>1, IF($K74=4, \"Unknown\", IF($K74=99, \"Surveillance\", G74)), 0),\"Not required\")","v":115282},{"$f":"IF(INTRO!$E$43=\"Endemic\", IF($K74>1, IF($K74=4, \"Unknown\", IF($K74=99, \"Surveillance\", SUM($S74:$U74))), 0),\"Not required\")","v":208829},0,0,1,1,null,"Yes",null,null,null,null,null,7478,"GUIDIGUIS"]
[{"$f":"IF(INTRO!$E$33<>0,INTRO!$E$33, \" \")","v":"Cameroun"},"Extreme Nord","Hina",149200,36742.086000000003,{"$f":"IF(INTRO!$E$49=\"\",\"\",ROUND($D75*INTRO!$E$49,0))","v":39463},{"$f":"IF(INTRO!$E$50=\"\",\"\",ROUND($D75*INTRO!$E$50,0))","v":85894},99,4,0,3,4,{"$f":"IF(INTRO!$E$37=\"Endemic\",IF($H75>0,IF($H75=4,\"Unknown\",IF($H75=99,\"Stopped\",$D75)),0),\"Not required\")","v":"Stopped"},{"$f":"IF(INTRO!$E$39=\"Endemic\", IF($I75>0, IF($I75=4,\"Unknown\",IF($I75=99,\"Stopped\",$D75)), 0),\"Not required\")","v":"Unknown"},{"$f":"IF(INTRO!$E$41=\"Endemic\", IF($J75>1, IF($J75=4, \"Unknown\", IF($J75=99, \"Surveillance\", E75)), 0),\"Not required\")","v":0},{"$f":"IF(INTRO!$E$41=\"Endemic\", IF($J75>1, IF($J75=4, \"Unknown\", IF($J75=99, \"Surveillance\", F75)), 0),\"Not required\")","v":0},{"$f":"IF(INTRO!$E$41=\"Endemic\", IF($J75>1, IF($J75=4, \"Unknown\", IF($J75=99, \"Surveillance\", ROUND(D75*INTRO!$E$51,0))), 0),\"Not required\")","v":0},{"$f":"IF(INTRO!$E$41=\"Endemic\", IF($J75>1, IF($J75=4, \"Unknown\", IF($J75=99, \"Surveillance\", SUM($O75:$Q75))), 0),\"Not required\")","v":0},{"$f":"IF(INTRO!$E$43=\"Endemic\", IF($K75>1, IF($K75=4, \"Unknown\", IF($K75=99, \"Surveillance\", ROUND(E75*0.75,0))), 0),\"Not required\")","v":27557},{"$f":"IF(INTRO!$E$43=\"Endemic\", IF($K75>1, IF($K75=4, \"Unknown\", IF($K75=99, \"Surveillance\", F75)), 0),\"Not required\")","v":39463},{"$f":"IF(INTRO!$E$43=\"Endemic\", IF($K75>1, IF($K75=4, \"Unknown\", IF($K75=99, \"Surveillance\", G75)), 0),\"Not required\")","v":85894},{"$f":"IF(INTRO!$E$43=\"Endemic\", IF($K75>1, IF($K75=4, \"Unknown\", IF($K75=99, \"Surveillance\", SUM($S75:$U75))), 0),\"Not required\")","v":152914},0,0,0,1,null,"Yes",null,null,null,null,null,7479,"HINA"]
[{"$f":"IF(INTRO!$E$33<>0,INTRO!$E$33, \" \")","v":"Cameroun"},"Extreme Nord","Kaele",130318,30105.918000000001,{"$f":"IF(INTRO!$E$49=\"\",\"\",ROUND($D76*INTRO!$E$49,0))","v":34469},{"$f":"IF(INTRO!$E$50=\"\",\"\",ROUND($D76*INTRO!$E$50,0))","v":75024},99,4,1,3,0,{"$f":"IF(INTRO!$E$37=\"Endemic\",IF($H76>0,IF($H76=4,\"Unknown\",IF($H76=99,\"Stopped\",$D76)),0),\"Not required\")","v":"Stopped"},{"$f":"IF(INTRO!$E$39=\"Endemic\", IF($I76>0, IF($I76=4,\"Unknown\",IF($I76=99,\"Stopped\",$D76)), 0),\"Not required\")","v":"Unknown"},{"$f":"IF(INTRO!$E$41=\"Endemic\", IF($J76>1, IF($J76=4, \"Unknown\", IF($J76=99, \"Surveillance\", E76)), 0),\"Not required\")","v":0},{"$f":"IF(INTRO!$E$41=\"Endemic\", IF($J76>1, IF($J76=4, \"Unknown\", IF($J76=99, \"Surveillance\", F76)), 0),\"Not required\")","v":0},{"$f":"IF(INTRO!$E$41=\"Endemic\", IF($J76>1, IF($J76=4, \"Unknown\", IF($J76=99, \"Surveillance\", ROUND(D76*INTRO!$E$51,0))), 0),\"Not required\")","v":0},{"$f":"IF(INTRO!$E$41=\"Endemic\", IF($J76>1, IF($J76=4, \"Unknown\", IF($J76=99, \"Surveillance\", SUM($O76:$Q76))), 0),\"Not required\")","v":0},{"$f":"IF(INTRO!$E$43=\"Endemic\", IF($K76>1, IF($K76=4, \"Unknown\", IF($K76=99, \"Surveillance\", ROUND(E76*0.75,0))), 0),\"Not required\")","v":22579},{"$f":"IF(INTRO!$E$43=\"Endemic\", IF($K76>1, IF($K76=4, \"Unknown\", IF($K76=99, \"Surveillance\", F76)), 0),\"Not required\")","v":34469},{"$f":"IF(INTRO!$E$43=\"Endemic\", IF($K76>1, IF($K76=4, \"Unknown\", IF($K76=99, \"Surveillance\", G76)), 0),\"Not required\")","v":75024},{"$f":"IF(INTRO!$E$43=\"Endemic\", IF($K76>1, IF($K76=4, \"Unknown\", IF($K76=99, \"Surveillance\", SUM($S76:$U76))), 0),\"Not required\")","v":132072},0,0,0,1,null,"Yes",null,null,null,null,null,7480,"KAELE"]
[{"$f":"IF(INTRO!$E$33<>0,INTRO!$E$33, \" \")","v":"Cameroun"},"Extreme Nord","Kar Hay",150656,24079.194,{"$f":"IF(INTRO!$E$49=\"\",\"\",ROUND($D77*INTRO!$E$49,0))","v":39849},{"$f":"IF(INTRO!$E$50=\"\",\"\",ROUND($D77*INTRO!$E$50,0))","v":86733},99,4,2,3,0,{"$f":"IF(INTRO!$E$37=\"Endemic\",IF($H77>0,IF($H77=4,\"Unknown\",IF($H77=99,\"Stopped\",$D77)),0),\"Not required\")","v":"Stopped"},{"$f":"IF(INTRO!$E$39=\"Endemic\", IF($I77>0, IF($I77=4,\"Unknown\",IF($I77=99,\"Stopped\",$D77)), 0),\"Not required\")","v":"Unknown"},{"$f":"IF(INTRO!$E$41=\"Endemic\", IF($J77>1, IF($J77=4, \"Unknown\", IF($J77=99, \"Surveillance\", E77)), 0),\"Not required\")","v":24079.194},{"$f":"IF(INTRO!$E$41=\"Endemic\", IF($J77>1, IF($J77=4, \"Unknown\", IF($J77=99, \"Surveillance\", F77)), 0),\"Not required\")","v":39849},{"$f":"IF(INTRO!$E$41=\"Endemic\", IF($J77>1, IF($J77=4, \"Unknown\", IF($J77=99, \"Surveillance\", ROUND(D77*INTRO!$E$51,0))), 0),\"Not required\")","v":5574},{"$f":"IF(INTRO!$E$41=\"Endemic\", IF($J77>1, IF($J77=4, \"Unknown\", IF($J77=99, \"Surveillance\", SUM($O77:$Q77))), 0),\"Not required\")","v":69502.194000000003},{"$f":"IF(INTRO!$E$43=\"Endemic\", IF($K77>1, IF($K77=4, \"Unknown\", IF($K77=99, \"Surveillance\", ROUND(E77*0.75,0))), 0),\"Not required\")","v":18059},{"$f":"IF(INTRO!$E$43=\"Endemic\", IF($K77>1, IF($K77=4, \"Unknown\", IF($K77=99, \"Surveillance\", F77)), 0),\"Not required\")","v":39849},{"$f":"IF(INTRO!$E$43=\"Endemic\", IF($K77>1, IF($K77=4, \"Unknown\", IF($K77=99, \"Surveillance\", G77)), 0),\"Not required\")","v":86733},{"$f":"IF(INTRO!$E$43=\"Endemic\", IF($K77>1, IF($K77=4, \"Unknown\", IF($K77=99, \"Surveillance\", SUM($S77:$U77))), 0),\"Not required\")","v":144641},0,0,1,1,null,"Yes",null,null,null,null,null,7481,"KAR HAY"]
[{"$f":"IF(INTRO!$E$33<>0,INTRO!$E$33, \" \")","v":"Cameroun"},"Extreme Nord","Kolofata",133512,41172.353999999999,{"$f":"IF(INTRO!$E$49=\"\",\"\",ROUND($D78*INTRO!$E$49,0))","v":35314},{"$f":"IF(INTRO!$E$50=\"\",\"\",ROUND($D78*INTRO!$E$50,0))","v":76863},99,4,2,3,4,{"$f":"IF(INTRO!$E$37=\"Endemic\",IF($H78>0,IF($H78=4,\"Unknown\",IF($H78=99,\"Stopped\",$D78)),0),\"Not required\")","v":"Stopped"},{"$f":"IF(INTRO!$E$39=\"Endemic\", IF($I78>0, IF($I78=4,\"Unknown\",IF($I78=99,\"Stopped\",$D78)), 0),\"Not required\")","v":"Unknown"},{"$f":"IF(INTRO!$E$41=\"Endemic\", IF($J78>1, IF($J78=4, \"Unknown\", IF($J78=99, \"Surveillance\", E78)), 0),\"Not required\")","v":41172.353999999999},{"$f":"IF(INTRO!$E$41=\"Endemic\", IF($J78>1, IF($J78=4, \"Unknown\", IF($J78=99, \"Surveillance\", F78)), 0),\"Not required\")","v":35314},{"$f":"IF(INTRO!$E$41=\"Endemic\", IF($J78>1, IF($J78=4, \"Unknown\", IF($J78=99, \"Surveillance\", ROUND(D78*INTRO!$E$51,0))), 0),\"Not required\")","v":4940},{"$f":"IF(INTRO!$E$41=\"Endemic\", IF($J78>1, IF($J78=4, \"Unknown\", IF($J78=99, \"Surveillance\", SUM($O78:$Q78))), 0),\"Not required\")","v":81426.353999999992},{"$f":"IF(INTRO!$E$43=\"Endemic\", IF($K78>1, IF($K78=4, \"Unknown\", IF($K78=99, \"Surveillance\", ROUND(E78*0.75,0))), 0),\"Not required\")","v":30879},{"$f":"IF(INTRO!$E$43=\"Endemic\", IF($K78>1, IF($K78=4, \"Unknown\", IF($K78=99, \"Surveillance\", F78)), 0),\"Not required\")","v":35314},{"$f":"IF(INTRO!$E$43=\"Endemic\", IF($K78>1, IF($K78=4, \"Unknown\", IF($K78=99, \"Surveillance\", G78)), 0),\"Not required\")","v":76863},{"$f":"IF(INTRO!$E$43=\"Endemic\", IF($K78>1, IF($K78=4, \"Unknown\", IF($K78=99, \"Surveillance\", SUM($S78:$U78))), 0),\"Not required\")","v":143056},0,0,1,1,"TAS","Yes",null,null,null,null,null,7482,"KOLOFATA"]
[{"$f":"IF(INTRO!$E$33<>0,INTRO!$E$33, \" \")","v":"Cameroun"},"Extreme Nord","Kousseri",491386,84556.763999999996,{"$f":"IF(INTRO!$E$49=\"\",\"\",ROUND($D79*INTRO!$E$49,0))","v":129972},{"$f":"IF(INTRO!$E$50=\"\",\"\",ROUND($D79*INTRO!$E$50,0))","v":282891},99,4,1,2,0,{"$f":"IF(INTRO!$E$37=\"Endemic\",IF($H79>0,IF($H79=4,\"Unknown\",IF($H79=99,\"Stopped\",$D79)),0),\"Not required\")","v":"Stopped"},{"$f":"IF(INTRO!$E$39=\"Endemic\", IF($I79>0, IF($I79=4,\"Unknown\",IF($I79=99,\"Stopped\",$D79)), 0),\"Not required\")","v":"Unknown"},{"$f":"IF(INTRO!$E$41=\"Endemic\", IF($J79>1, IF($J79=4, \"Unknown\", IF($J79=99, \"Surveillance\", E79)), 0),\"Not required\")","v":0},{"$f":"IF(INTRO!$E$41=\"Endemic\", IF($J79>1, IF($J79=4, \"Unknown\", IF($J79=99, \"Surveillance\", F79)), 0),\"Not required\")","v":0},{"$f":"IF(INTRO!$E$41=\"Endemic\", IF($J79>1, IF($J79=4, \"Unknown\", IF($J79=99, \"Surveillance\", ROUND(D79*INTRO!$E$51,0))), 0),\"Not required\")","v":0},{"$f":"IF(INTRO!$E$41=\"Endemic\", IF($J79>1, IF($J79=4, \"Unknown\", IF($J79=99, \"Surveillance\", SUM($O79:$Q79))), 0),\"Not required\")","v":0},{"$f":"IF(INTRO!$E$43=\"Endemic\", IF($K79>1, IF($K79=4, \"Unknown\", IF($K79=99, \"Surveillance\", ROUND(E79*0.75,0))), 0),\"Not required\")","v":63418},{"$f":"IF(INTRO!$E$43=\"Endemic\", IF($K79>1, IF($K79=4, \"Unknown\", IF($K79=99, \"Surveillance\", F79)), 0),\"Not required\")","v":129972},{"$f":"IF(INTRO!$E$43=\"Endemic\", IF($K79>1, IF($K79=4, \"Unknown\", IF($K79=99, \"Surveillance\", G79)), 0),\"Not required\")","v":282891},{"$f":"IF(INTRO!$E$43=\"Endemic\", IF($K79>1, IF($K79=4, \"Unknown\", IF($K79=99, \"Surveillance\", SUM($S79:$U79))), 0),\"Not required\")","v":476281},0,0,0,1,null,"Yes",null,null,null,null,null,7483,"KOUSSERI"]
[{"$f":"IF(INTRO!$E$33<>0,INTRO!$E$33, \" \")","v":"Cameroun"},"Extreme Nord","Koza",106379,21066.858,{"$f":"IF(INTRO!$E$49=\"\",\"\",ROUND($D80*INTRO!$E$49,0))","v":28137},{"$f":"IF(INTRO!$E$50=\"\",\"\",ROUND($D80*INTRO!$E$50,0))","v":61242},99,1,2,3,4,{"$f":"IF(INTRO!$E$37=\"Endemic\",IF($H80>0,IF($H80=4,\"Unknown\",IF($H80=99,\"Stopped\",$D80)),0),\"Not required\")","v":"Stopped"},{"$f":"IF(INTRO!$E$39=\"Endemic\", IF($I80>0, IF($I80=4,\"Unknown\",IF($I80=99,\"Stopped\",$D80)), 0),\"Not required\")","v":106379},{"$f":"IF(INTRO!$E$41=\"Endemic\", IF($J80>1, IF($J80=4, \"Unknown\", IF($J80=99, \"Surveillance\", E80)), 0),\"Not required\")","v":21066.858},{"$f":"IF(INTRO!$E$41=\"Endemic\", IF($J80>1, IF($J80=4, \"Unknown\", IF($J80=99, \"Surveillance\", F80)), 0),\"Not required\")","v":28137},{"$f":"IF(INTRO!$E$41=\"Endemic\", IF($J80>1, IF($J80=4, \"Unknown\", IF($J80=99, \"Surveillance\", ROUND(D80*INTRO!$E$51,0))), 0),\"Not required\")","v":3936},{"$f":"IF(INTRO!$E$41=\"Endemic\", IF($J80>1, IF($J80=4, \"Unknown\", IF($J80=99, \"Surveillance\", SUM($O80:$Q80))), 0),\"Not required\")","v":53139.858},{"$f":"IF(INTRO!$E$43=\"Endemic\", IF($K80>1, IF($K80=4, \"Unknown\", IF($K80=99, \"Surveillance\", ROUND(E80*0.75,0))), 0),\"Not required\")","v":15800},{"$f":"IF(INTRO!$E$43=\"Endemic\", IF($K80>1, IF($K80=4, \"Unknown\", IF($K80=99, \"Surveillance\", F80)), 0),\"Not required\")","v":28137},{"$f":"IF(INTRO!$E$43=\"Endemic\", IF($K80>1, IF($K80=4, \"Unknown\", IF($K80=99, \"Surveillance\", G80)), 0),\"Not required\")","v":61242},{"$f":"IF(INTRO!$E$43=\"Endemic\", IF($K80>1, IF($K80=4, \"Unknown\", IF($K80=99, \"Surveillance\", SUM($S80:$U80))), 0),\"Not required\")","v":105179},0,1,1,1,null,"Yes",null,null,null,null,null,7484,"KOZA"]
[{"$f":"IF(INTRO!$E$33<>0,INTRO!$E$33, \" \")","v":"Cameroun"},"Extreme Nord","Mada",181704,50919.353999999999,{"$f":"IF(INTRO!$E$49=\"\",\"\",ROUND($D81*INTRO!$E$49,0))","v":48061},{"$f":"IF(INTRO!$E$50=\"\",\"\",ROUND($D81*INTRO!$E$50,0))","v":104607},99,4,2,3,0,{"$f":"IF(INTRO!$E$37=\"Endemic\",IF($H81>0,IF($H81=4,\"Unknown\",IF($H81=99,\"Stopped\",$D81)),0),\"Not required\")","v":"Stopped"},{"$f":"IF(INTRO!$E$39=\"Endemic\", IF($I81>0, IF($I81=4,\"Unknown\",IF($I81=99,\"Stopped\",$D81)), 0),\"Not required\")","v":"Unknown"},{"$f":"IF(INTRO!$E$41=\"Endemic\", IF($J81>1, IF($J81=4, \"Unknown\", IF($J81=99, \"Surveillance\", E81)), 0),\"Not required\")","v":50919.353999999999},{"$f":"IF(INTRO!$E$41=\"Endemic\", IF($J81>1, IF($J81=4, \"Unknown\", IF($J81=99, \"Surveillance\", F81)), 0),\"Not required\")","v":48061},{"$f":"IF(INTRO!$E$41=\"Endemic\", IF($J81>1, IF($J81=4, \"Unknown\", IF($J81=99, \"Surveillance\", ROUND(D81*INTRO!$E$51,0))), 0),\"Not required\")","v":6723},{"$f":"IF(INTRO!$E$41=\"Endemic\", IF($J81>1, IF($J81=4, \"Unknown\", IF($J81=99, \"Surveillance\", SUM($O81:$Q81))), 0),\"Not required\")","v":105703.35399999999},{"$f":"IF(INTRO!$E$43=\"Endemic\", IF($K81>1, IF($K81=4, \"Unknown\", IF($K81=99, \"Surveillance\", ROUND(E81*0.75,0))), 0),\"Not required\")","v":38190},{"$f":"IF(INTRO!$E$43=\"Endemic\", IF($K81>1, IF($K81=4, \"Unknown\", IF($K81=99, \"Surveillance\", F81)), 0),\"Not required\")","v":48061},{"$f":"IF(INTRO!$E$43=\"Endemic\", IF($K81>1, IF($K81=4, \"Unknown\", IF($K81=99, \"Surveillance\", G81)), 0),\"Not required\")","v":104607},{"$f":"IF(INTRO!$E$43=\"Endemic\", IF($K81>1, IF($K81=4, \"Unknown\", IF($K81=99, \"Surveillance\", SUM($S81:$U81))), 0),\"Not required\")","v":190858},0,0,1,1,null,"Yes",null,null,null,null,null,7485,"MADA"]
[{"$f":"IF(INTRO!$E$33<>0,INTRO!$E$33, \" \")","v":"Cameroun"},"Extreme Nord","Maga",218674,41486.31,{"$f":"IF(INTRO!$E$49=\"\",\"\",ROUND($D82*INTRO!$E$49,0))","v":57839},{"$f":"IF(INTRO!$E$50=\"\",\"\",ROUND($D82*INTRO!$E$50,0))","v":125891},99,4,1,3,0,{"$f":"IF(INTRO!$E$37=\"Endemic\",IF($H82>0,IF($H82=4,\"Unknown\",IF($H82=99,\"Stopped\",$D82)),0),\"Not required\")","v":"Stopped"},{"$f":"IF(INTRO!$E$39=\"Endemic\", IF($I82>0, IF($I82=4,\"Unknown\",IF($I82=99,\"Stopped\",$D82)), 0),\"Not required\")","v":"Unknown"},{"$f":"IF(INTRO!$E$41=\"Endemic\", IF($J82>1, IF($J82=4, \"Unknown\", IF($J82=99, \"Surveillance\", E82)), 0),\"Not required\")","v":0},{"$f":"IF(INTRO!$E$41=\"Endemic\", IF($J82>1, IF($J82=4, \"Unknown\", IF($J82=99, \"Surveillance\", F82)), 0),\"Not required\")","v":0},{"$f":"IF(INTRO!$E$41=\"Endemic\", IF($J82>1, IF($J82=4, \"Unknown\", IF($J82=99, \"Surveillance\", ROUND(D82*INTRO!$E$51,0))), 0),\"Not required\")","v":0},{"$f":"IF(INTRO!$E$41=\"Endemic\", IF($J82>1, IF($J82=4, \"Unknown\", IF($J82=99, \"Surveillance\", SUM($O82:$Q82))), 0),\"Not required\")","v":0},{"$f":"IF(INTRO!$E$43=\"Endemic\", IF($K82>1, IF($K82=4, \"Unknown\", IF($K82=99, \"Surveillance\", ROUND(E82*0.75,0))), 0),\"Not required\")","v":31115},{"$f":"IF(INTRO!$E$43=\"Endemic\", IF($K82>1, IF($K82=4, \"Unknown\", IF($K82=99, \"Surveillance\", F82)), 0),\"Not required\")","v":57839},{"$f":"IF(INTRO!$E$43=\"Endemic\", IF($K82>1, IF($K82=4, \"Unknown\", IF($K82=99, \"Surveillance\", G82)), 0),\"Not required\")","v":125891},{"$f":"IF(INTRO!$E$43=\"Endemic\", IF($K82>1, IF($K82=4, \"Unknown\", IF($K82=99, \"Surveillance\", SUM($S82:$U82))), 0),\"Not required\")","v":214845},0,0,0,1,null,"Yes",null,null,null,null,null,7486,"MAGA"]
[{"$f":"IF(INTRO!$E$33<>0,INTRO!$E$33, \" \")","v":"Cameroun"},"Extreme Nord","Makary",146864,39403.53,{"$f":"IF(INTRO!$E$49=\"\",\"\",ROUND($D83*INTRO!$E$49,0))","v":38846},{"$f":"IF(INTRO!$E$50=\"\",\"\",ROUND($D83*INTRO!$E$50,0))","v":84550},99,4,1,1,0,{"$f":"IF(INTRO!$E$37=\"Endemic\",IF($H83>0,IF($H83=4,\"Unknown\",IF($H83=99,\"Stopped\",$D83)),0),\"Not required\")","v":"Stopped"},{"$f":"IF(INTRO!$E$39=\"Endemic\", IF($I83>0, IF($I83=4,\"Unknown\",IF($I83=99,\"Stopped\",$D83)), 0),\"Not required\")","v":"Unknown"},{"$f":"IF(INTRO!$E$41=\"Endemic\", IF($J83>1, IF($J83=4, \"Unknown\", IF($J83=99, \"Surveillance\", E83)), 0),\"Not required\")","v":0},{"$f":"IF(INTRO!$E$41=\"Endemic\", IF($J83>1, IF($J83=4, \"Unknown\", IF($J83=99, \"Surveillance\", F83)), 0),\"Not required\")","v":0},{"$f":"IF(INTRO!$E$41=\"Endemic\", IF($J83>1, IF($J83=4, \"Unknown\", IF($J83=99, \"Surveillance\", ROUND(D83*INTRO!$E$51,0))), 0),\"Not required\")","v":0},{"$f":"IF(INTRO!$E$41=\"Endemic\", IF($J83>1, IF($J83=4, \"Unknown\", IF($J83=99, \"Surveillance\", SUM($O83:$Q83))), 0),\"Not required\")","v":0},{"$f":"IF(INTRO!$E$43=\"Endemic\", IF($K83>1, IF($K83=4, \"Unknown\", IF($K83=99, \"Surveillance\", ROUND(E83*0.75,0))), 0),\"Not required\")","v":0},{"$f":"IF(INTRO!$E$43=\"Endemic\", IF($K83>1, IF($K83=4, \"Unknown\", IF($K83=99, \"Surveillance\", F83)), 0),\"Not required\")","v":0},{"$f":"IF(INTRO!$E$43=\"Endemic\", IF($K83>1, IF($K83=4, \"Unknown\", IF($K83=99, \"Surveillance\", G83)), 0),\"Not required\")","v":0},{"$f":"IF(INTRO!$E$43=\"Endemic\", IF($K83>1, IF($K83=4, \"Unknown\", IF($K83=99, \"Surveillance\", SUM($S83:$U83))), 0),\"Not required\")","v":0},0,0,0,0,null,"Yes",null,null,null,null,null,7487,"MAKARY"]
[{"$f":"IF(INTRO!$E$33<>0,INTRO!$E$33, \" \")","v":"Cameroun"},"Extreme Nord","Maroua 1",218207,55843.128000000004,{"$f":"IF(INTRO!$E$49=\"\",\"\",ROUND($D84*INTRO!$E$49,0))","v":57716},{"$f":"IF(INTRO!$E$50=\"\",\"\",ROUND($D84*INTRO!$E$50,0))","v":125622},99,4,1,2,0,{"$f":"IF(INTRO!$E$37=\"Endemic\",IF($H84>0,IF($H84=4,\"Unknown\",IF($H84=99,\"Stopped\",$D84)),0),\"Not required\")","v":"Stopped"},{"$f":"IF(INTRO!$E$39=\"Endemic\", IF($I84>0, IF($I84=4,\"Unknown\",IF($I84=99,\"Stopped\",$D84)), 0),\"Not required\")","v":"Unknown"},{"$f":"IF(INTRO!$E$41=\"Endemic\", IF($J84>1, IF($J84=4, \"Unknown\", IF($J84=99, \"Surveillance\", E84)), 0),\"Not required\")","v":0},{"$f":"IF(INTRO!$E$41=\"Endemic\", IF($J84>1, IF($J84=4, \"Unknown\", IF($J84=99, \"Surveillance\", F84)), 0),\"Not required\")","v":0},{"$f":"IF(INTRO!$E$41=\"Endemic\", IF($J84>1, IF($J84=4, \"Unknown\", IF($J84=99, \"Surveillance\", ROUND(D84*INTRO!$E$51,0))), 0),\"Not required\")","v":0},{"$f":"IF(INTRO!$E$41=\"Endemic\", IF($J84>1, IF($J84=4, \"Unknown\", IF($J84=99, \"Surveillance\", SUM($O84:$Q84))), 0),\"Not required\")","v":0},{"$f":"IF(INTRO!$E$43=\"Endemic\", IF($K84>1, IF($K84=4, \"Unknown\", IF($K84=99, \"Surveillance\", ROUND(E84*0.75,0))), 0),\"Not required\")","v":41882},{"$f":"IF(INTRO!$E$43=\"Endemic\", IF($K84>1, IF($K84=4, \"Unknown\", IF($K84=99, \"Surveillance\", F84)), 0),\"Not required\")","v":57716},{"$f":"IF(INTRO!$E$43=\"Endemic\", IF($K84>1, IF($K84=4, \"Unknown\", IF($K84=99, \"Surveillance\", G84)), 0),\"Not required\")","v":125622},{"$f":"IF(INTRO!$E$43=\"Endemic\", IF($K84>1, IF($K84=4, \"Unknown\", IF($K84=99, \"Surveillance\", SUM($S84:$U84))), 0),\"Not required\")","v":225220},0,0,0,1,null,"Yes",null,null,null,null,null,7488,"MAROUA 1"]
[{"$f":"IF(INTRO!$E$33<>0,INTRO!$E$33, \" \")","v":"Cameroun"},"Extreme Nord","Maroua 2",225494,137795.90400000001,{"$f":"IF(INTRO!$E$49=\"\",\"\",ROUND($D85*INTRO!$E$49,0))","v":59643},{"$f":"IF(INTRO!$E$50=\"\",\"\",ROUND($D85*INTRO!$E$50,0))","v":129817},99,4,0,2,4,{"$f":"IF(INTRO!$E$37=\"Endemic\",IF($H85>0,IF($H85=4,\"Unknown\",IF($H85=99,\"Stopped\",$D85)),0),\"Not required\")","v":"Stopped"},{"$f":"IF(INTRO!$E$39=\"Endemic\", IF($I85>0, IF($I85=4,\"Unknown\",IF($I85=99,\"Stopped\",$D85)), 0),\"Not required\")","v":"Unknown"},{"$f":"IF(INTRO!$E$41=\"Endemic\", IF($J85>1, IF($J85=4, \"Unknown\", IF($J85=99, \"Surveillance\", E85)), 0),\"Not required\")","v":0},{"$f":"IF(INTRO!$E$41=\"Endemic\", IF($J85>1, IF($J85=4, \"Unknown\", IF($J85=99, \"Surveillance\", F85)), 0),\"Not required\")","v":0},{"$f":"IF(INTRO!$E$41=\"Endemic\", IF($J85>1, IF($J85=4, \"Unknown\", IF($J85=99, \"Surveillance\", ROUND(D85*INTRO!$E$51,0))), 0),\"Not required\")","v":0},{"$f":"IF(INTRO!$E$41=\"Endemic\", IF($J85>1, IF($J85=4, \"Unknown\", IF($J85=99, \"Surveillance\", SUM($O85:$Q85))), 0),\"Not required\")","v":0},{"$f":"IF(INTRO!$E$43=\"Endemic\", IF($K85>1, IF($K85=4, \"Unknown\", IF($K85=99, \"Surveillance\", ROUND(E85*0.75,0))), 0),\"Not required\")","v":103347},{"$f":"IF(INTRO!$E$43=\"Endemic\", IF($K85>1, IF($K85=4, \"Unknown\", IF($K85=99, \"Surveillance\", F85)), 0),\"Not required\")","v":59643},{"$f":"IF(INTRO!$E$43=\"Endemic\", IF($K85>1, IF($K85=4, \"Unknown\", IF($K85=99, \"Surveillance\", G85)), 0),\"Not required\")","v":129817},{"$f":"IF(INTRO!$E$43=\"Endemic\", IF($K85>1, IF($K85=4, \"Unknown\", IF($K85=99, \"Surveillance\", SUM($S85:$U85))), 0),\"Not required\")","v":292807},0,0,0,1,null,"Yes",null,null,null,null,null,7489,"MAROUA 2"]
[{"$f":"IF(INTRO!$E$33<>0,INTRO!$E$33, \" \")","v":"Cameroun"},"Extreme Nord","Maroua 3",197560,54717.606,{"$f":"IF(INTRO!$E$49=\"\",\"\",ROUND($D86*INTRO!$E$49,0))","v":52255},{"$f":"IF(INTRO!$E$50=\"\",\"\",ROUND($D86*INTRO!$E$50,0))","v":113735},99,4,1,3,0,{"$f":"IF(INTRO!$E$37=\"Endemic\",IF($H86>0,IF($H86=4,\"Unknown\",IF($H86=99,\"Stopped\",$D86)),0),\"Not required\")","v":"Stopped"},{"$f":"IF(INTRO!$E$39=\"Endemic\", IF($I86>0, IF($I86=4,\"Unknown\",IF($I86=99,\"Stopped\",$D86)), 0),\"Not required\")","v":"Unknown"},{"$f":"IF(INTRO!$E$41=\"Endemic\", IF($J86>1, IF($J86=4, \"Unknown\", IF($J86=99, \"Surveillance\", E86)), 0),\"Not required\")","v":0},{"$f":"IF(INTRO!$E$41=\"Endemic\", IF($J86>1, IF($J86=4, \"Unknown\", IF($J86=99, \"Surveillance\", F86)), 0),\"Not required\")","v":0},{"$f":"IF(INTRO!$E$41=\"Endemic\", IF($J86>1, IF($J86=4, \"Unknown\", IF($J86=99, \"Surveillance\", ROUND(D86*INTRO!$E$51,0))), 0),\"Not required\")","v":0},{"$f":"IF(INTRO!$E$41=\"Endemic\", IF($J86>1, IF($J86=4, \"Unknown\", IF($J86=99, \"Surveillance\", SUM($O86:$Q86))), 0),\"Not required\")","v":0},{"$f":"IF(INTRO!$E$43=\"Endemic\", IF($K86>1, IF($K86=4, \"Unknown\", IF($K86=99, \"Surveillance\", ROUND(E86*0.75,0))), 0),\"Not required\")","v":41038},{"$f":"IF(INTRO!$E$43=\"Endemic\", IF($K86>1, IF($K86=4, \"Unknown\", IF($K86=99, \"Surveillance\", F86)), 0),\"Not required\")","v":52255},{"$f":"IF(INTRO!$E$43=\"Endemic\", IF($K86>1, IF($K86=4, \"Unknown\", IF($K86=99, \"Surveillance\", G86)), 0),\"Not required\")","v":113735},{"$f":"IF(INTRO!$E$43=\"Endemic\", IF($K86>1, IF($K86=4, \"Unknown\", IF($K86=99, \"Surveillance\", SUM($S86:$U86))), 0),\"Not required\")","v":207028},0,0,0,1,null,"Yes",null,null,null,null,null,7490,"MAROUA 3"]
[{"$f":"IF(INTRO!$E$33<>0,INTRO!$E$33, \" \")","v":"Cameroun"},"Extreme Nord","Meri",182178,42781.122000000003,{"$f":"IF(INTRO!$E$49=\"\",\"\",ROUND($D87*INTRO!$E$49,0))","v":48186},{"$f":"IF(INTRO!$E$50=\"\",\"\",ROUND($D87*INTRO!$E$50,0))","v":104880},99,4,1,3,4,{"$f":"IF(INTRO!$E$37=\"Endemic\",IF($H87>0,IF($H87=4,\"Unknown\",IF($H87=99,\"Stopped\",$D87)),0),\"Not required\")","v":"Stopped"},{"$f":"IF(INTRO!$E$39=\"Endemic\", IF($I87>0, IF($I87=4,\"Unknown\",IF($I87=99,\"Stopped\",$D87)), 0),\"Not required\")","v":"Unknown"},{"$f":"IF(INTRO!$E$41=\"Endemic\", IF($J87>1, IF($J87=4, \"Unknown\", IF($J87=99, \"Surveillance\", E87)), 0),\"Not required\")","v":0},{"$f":"IF(INTRO!$E$41=\"Endemic\", IF($J87>1, IF($J87=4, \"Unknown\", IF($J87=99, \"Surveillance\", F87)), 0),\"Not required\")","v":0},{"$f":"IF(INTRO!$E$41=\"Endemic\", IF($J87>1, IF($J87=4, \"Unknown\", IF($J87=99, \"Surveillance\", ROUND(D87*INTRO!$E$51,0))), 0),\"Not required\")","v":0},{"$f":"IF(INTRO!$E$41=\"Endemic\", IF($J87>1, IF($J87=4, \"Unknown\", IF($J87=99, \"Surveillance\", SUM($O87:$Q87))), 0),\"Not required\")","v":0},{"$f":"IF(INTRO!$E$43=\"Endemic\", IF($K87>1, IF($K87=4, \"Unknown\", IF($K87=99, \"Surveillance\", ROUND(E87*0.75,0))), 0),\"Not required\")","v":32086},{"$f":"IF(INTRO!$E$43=\"Endemic\", IF($K87>1, IF($K87=4, \"Unknown\", IF($K87=99, \"Surveillance\", F87)), 0),\"Not required\")","v":48186},{"$f":"IF(INTRO!$E$43=\"Endemic\", IF($K87>1, IF($K87=4, \"Unknown\", IF($K87=99, \"Surveillance\", G87)), 0),\"Not required\")","v":104880},{"$f":"IF(INTRO!$E$43=\"Endemic\", IF($K87>1, IF($K87=4, \"Unknown\", IF($K87=99, \"Surveillance\", SUM($S87:$U87))), 0),\"Not required\")","v":185152},0,0,0,1,null,"Yes",null,null,null,null,null,7491,"MERI"]
[{"$f":"IF(INTRO!$E$33<>0,INTRO!$E$33, \" \")","v":"Cameroun"},"Extreme Nord","Mindif",64959,15815.79,{"$f":"IF(INTRO!$E$49=\"\",\"\",ROUND($D88*INTRO!$E$49,0))","v":17182},{"$f":"IF(INTRO!$E$50=\"\",\"\",ROUND($D88*INTRO!$E$50,0))","v":37397},99,4,1,2,0,{"$f":"IF(INTRO!$E$37=\"Endemic\",IF($H88>0,IF($H88=4,\"Unknown\",IF($H88=99,\"Stopped\",$D88)),0),\"Not required\")","v":"Stopped"},{"$f":"IF(INTRO!$E$39=\"Endemic\", IF($I88>0, IF($I88=4,\"Unknown\",IF($I88=99,\"Stopped\",$D88)), 0),\"Not required\")","v":"Unknown"},{"$f":"IF(INTRO!$E$41=\"Endemic\", IF($J88>1, IF($J88=4, \"Unknown\", IF($J88=99, \"Surveillance\", E88)), 0),\"Not required\")","v":0},{"$f":"IF(INTRO!$E$41=\"Endemic\", IF($J88>1, IF($J88=4, \"Unknown\", IF($J88=99, \"Surveillance\", F88)), 0),\"Not required\")","v":0},{"$f":"IF(INTRO!$E$41=\"Endemic\", IF($J88>1, IF($J88=4, \"Unknown\", IF($J88=99, \"Surveillance\", ROUND(D88*INTRO!$E$51,0))), 0),\"Not required\")","v":0},{"$f":"IF(INTRO!$E$41=\"Endemic\", IF($J88>1, IF($J88=4, \"Unknown\", IF($J88=99, \"Surveillance\", SUM($O88:$Q88))), 0),\"Not required\")","v":0},{"$f":"IF(INTRO!$E$43=\"Endemic\", IF($K88>1, IF($K88=4, \"Unknown\", IF($K88=99, \"Surveillance\", ROUND(E88*0.75,0))), 0),\"Not required\")","v":11862},{"$f":"IF(INTRO!$E$43=\"Endemic\", IF($K88>1, IF($K88=4, \"Unknown\", IF($K88=99, \"Surveillance\", F88)), 0),\"Not required\")","v":17182},{"$f":"IF(INTRO!$E$43=\"Endemic\", IF($K88>1, IF($K88=4, \"Unknown\", IF($K88=99, \"Surveillance\", G88)), 0),\"Not required\")","v":37397},{"$f":"IF(INTRO!$E$43=\"Endemic\", IF($K88>1, IF($K88=4, \"Unknown\", IF($K88=99, \"Surveillance\", SUM($S88:$U88))), 0),\"Not required\")","v":66441},0,0,0,1,null,"Yes",null,null,null,null,null,7492,"MINDIF"]
[{"$f":"IF(INTRO!$E$33<>0,INTRO!$E$33, \" \")","v":"Cameroun"},"Extreme Nord","Mogode",140451,29483.136000000002,{"$f":"IF(INTRO!$E$49=\"\",\"\",ROUND($D89*INTRO!$E$49,0))","v":37149},{"$f":"IF(INTRO!$E$50=\"\",\"\",ROUND($D89*INTRO!$E$50,0))","v":80858},99,4,1,3,4,{"$f":"IF(INTRO!$E$37=\"Endemic\",IF($H89>0,IF($H89=4,\"Unknown\",IF($H89=99,\"Stopped\",$D89)),0),\"Not required\")","v":"Stopped"},{"$f":"IF(INTRO!$E$39=\"Endemic\", IF($I89>0, IF($I89=4,\"Unknown\",IF($I89=99,\"Stopped\",$D89)), 0),\"Not required\")","v":"Unknown"},{"$f":"IF(INTRO!$E$41=\"Endemic\", IF($J89>1, IF($J89=4, \"Unknown\", IF($J89=99, \"Surveillance\", E89)), 0),\"Not required\")","v":0},{"$f":"IF(INTRO!$E$41=\"Endemic\", IF($J89>1, IF($J89=4, \"Unknown\", IF($J89=99, \"Surveillance\", F89)), 0),\"Not required\")","v":0},{"$f":"IF(INTRO!$E$41=\"Endemic\", IF($J89>1, IF($J89=4, \"Unknown\", IF($J89=99, \"Surveillance\", ROUND(D89*INTRO!$E$51,0))), 0),\"Not required\")","v":0},{"$f":"IF(INTRO!$E$41=\"Endemic\", IF($J89>1, IF($J89=4, \"Unknown\", IF($J89=99, \"Surveillance\", SUM($O89:$Q89))), 0),\"Not required\")","v":0},{"$f":"IF(INTRO!$E$43=\"Endemic\", IF($K89>1, IF($K89=4, \"Unknown\", IF($K89=99, \"Surveillance\", ROUND(E89*0.75,0))), 0),\"Not required\")","v":22112},{"$f":"IF(INTRO!$E$43=\"Endemic\", IF($K89>1, IF($K89=4, \"Unknown\", IF($K89=99, \"Surveillance\", F89)), 0),\"Not required\")","v":37149},{"$f":"IF(INTRO!$E$43=\"Endemic\", IF($K89>1, IF($K89=4, \"Unknown\", IF($K89=99, \"Surveillance\", G89)), 0),\"Not required\")","v":80858},{"$f":"IF(INTRO!$E$43=\"Endemic\", IF($K89>1, IF($K89=4, \"Unknown\", IF($K89=99, \"Surveillance\", SUM($S89:$U89))), 0),\"Not required\")","v":140119},0,0,0,1,null,"Yes",null,null,null,null,null,7493,"MOGODE"]
[{"$f":"IF(INTRO!$E$33<>0,INTRO!$E$33, \" \")","v":"Cameroun"},"Extreme Nord","Mokolo",327637,90374.184000000008,{"$f":"IF(INTRO!$E$49=\"\",\"\",ROUND($D90*INTRO!$E$49,0))","v":86660},{"$f":"IF(INTRO!$E$50=\"\",\"\",ROUND($D90*INTRO!$E$50,0))","v":188621},99,1,1,3,4,{"$f":"IF(INTRO!$E$37=\"Endemic\",IF($H90>0,IF($H90=4,\"Unknown\",IF($H90=99,\"Stopped\",$D90)),0),\"Not required\")","v":"Stopped"},{"$f":"IF(INTRO!$E$39=\"Endemic\", IF($I90>0, IF($I90=4,\"Unknown\",IF($I90=99,\"Stopped\",$D90)), 0),\"Not required\")","v":327637},{"$f":"IF(INTRO!$E$41=\"Endemic\", IF($J90>1, IF($J90=4, \"Unknown\", IF($J90=99, \"Surveillance\", E90)), 0),\"Not required\")","v":0},{"$f":"IF(INTRO!$E$41=\"Endemic\", IF($J90>1, IF($J90=4, \"Unknown\", IF($J90=99, \"Surveillance\", F90)), 0),\"Not required\")","v":0},{"$f":"IF(INTRO!$E$41=\"Endemic\", IF($J90>1, IF($J90=4, \"Unknown\", IF($J90=99, \"Surveillance\", ROUND(D90*INTRO!$E$51,0))), 0),\"Not required\")","v":0},{"$f":"IF(INTRO!$E$41=\"Endemic\", IF($J90>1, IF($J90=4, \"Unknown\", IF($J90=99, \"Surveillance\", SUM($O90:$Q90))), 0),\"Not required\")","v":0},{"$f":"IF(INTRO!$E$43=\"Endemic\", IF($K90>1, IF($K90=4, \"Unknown\", IF($K90=99, \"Surveillance\", ROUND(E90*0.75,0))), 0),\"Not required\")","v":67781},{"$f":"IF(INTRO!$E$43=\"Endemic\", IF($K90>1, IF($K90=4, \"Unknown\", IF($K90=99, \"Surveillance\", F90)), 0),\"Not required\")","v":86660},{"$f":"IF(INTRO!$E$43=\"Endemic\", IF($K90>1, IF($K90=4, \"Unknown\", IF($K90=99, \"Surveillance\", G90)), 0),\"Not required\")","v":188621},{"$f":"IF(INTRO!$E$43=\"Endemic\", IF($K90>1, IF($K90=4, \"Unknown\", IF($K90=99, \"Surveillance\", SUM($S90:$U90))), 0),\"Not required\")","v":343062},0,1,0,1,null,"Yes",null,null,null,null,null,7494,"MOKOLO"]
[{"$f":"IF(INTRO!$E$33<>0,INTRO!$E$33, \" \")","v":"Cameroun"},"Extreme Nord","Mora",334276,78156.576000000001,{"$f":"IF(INTRO!$E$49=\"\",\"\",ROUND($D91*INTRO!$E$49,0))","v":88416},{"$f":"IF(INTRO!$E$50=\"\",\"\",ROUND($D91*INTRO!$E$50,0))","v":192443},99,4,1,3,4,{"$f":"IF(INTRO!$E$37=\"Endemic\",IF($H91>0,IF($H91=4,\"Unknown\",IF($H91=99,\"Stopped\",$D91)),0),\"Not required\")","v":"Stopped"},{"$f":"IF(INTRO!$E$39=\"Endemic\", IF($I91>0, IF($I91=4,\"Unknown\",IF($I91=99,\"Stopped\",$D91)), 0),\"Not required\")","v":"Unknown"},{"$f":"IF(INTRO!$E$41=\"Endemic\", IF($J91>1, IF($J91=4, \"Unknown\", IF($J91=99, \"Surveillance\", E91)), 0),\"Not required\")","v":0},{"$f":"IF(INTRO!$E$41=\"Endemic\", IF($J91>1, IF($J91=4, \"Unknown\", IF($J91=99, \"Surveillance\", F91)), 0),\"Not required\")","v":0},{"$f":"IF(INTRO!$E$41=\"Endemic\", IF($J91>1, IF($J91=4, \"Unknown\", IF($J91=99, \"Surveillance\", ROUND(D91*INTRO!$E$51,0))), 0),\"Not required\")","v":0},{"$f":"IF(INTRO!$E$41=\"Endemic\", IF($J91>1, IF($J91=4, \"Unknown\", IF($J91=99, \"Surveillance\", SUM($O91:$Q91))), 0),\"Not required\")","v":0},{"$f":"IF(INTRO!$E$43=\"Endemic\", IF($K91>1, IF($K91=4, \"Unknown\", IF($K91=99, \"Surveillance\", ROUND(E91*0.75,0))), 0),\"Not required\")","v":58617},{"$f":"IF(INTRO!$E$43=\"Endemic\", IF($K91>1, IF($K91=4, \"Unknown\", IF($K91=99, \"Surveillance\", F91)), 0),\"Not required\")","v":88416},{"$f":"IF(INTRO!$E$43=\"Endemic\", IF($K91>1, IF($K91=4, \"Unknown\", IF($K91=99, \"Surveillance\", G91)), 0),\"Not required\")","v":192443},{"$f":"IF(INTRO!$E$43=\"Endemic\", IF($K91>1, IF($K91=4, \"Unknown\", IF($K91=99, \"Surveillance\", SUM($S91:$U91))), 0),\"Not required\")","v":339476},0,0,0,1,null,"Yes",null,null,null,null,null,7495,"MORA"]
[{"$f":"IF(INTRO!$E$33<>0,INTRO!$E$33, \" \")","v":"Cameroun"},"Extreme Nord","Moulvoudaye",167444,43303.356,{"$f":"IF(INTRO!$E$49=\"\",\"\",ROUND($D92*INTRO!$E$49,0))","v":44289},{"$f":"IF(INTRO!$E$50=\"\",\"\",ROUND($D92*INTRO!$E$50,0))","v":96398},99,4,1,3,0,{"$f":"IF(INTRO!$E$37=\"Endemic\",IF($H92>0,IF($H92=4,\"Unknown\",IF($H92=99,\"Stopped\",$D92)),0),\"Not required\")","v":"Stopped"},{"$f":"IF(INTRO!$E$39=\"Endemic\", IF($I92>0, IF($I92=4,\"Unknown\",IF($I92=99,\"Stopped\",$D92)), 0),\"Not required\")","v":"Unknown"},{"$f":"IF(INTRO!$E$41=\"Endemic\", IF($J92>1, IF($J92=4, \"Unknown\", IF($J92=99, \"Surveillance\", E92)), 0),\"Not required\")","v":0},{"$f":"IF(INTRO!$E$41=\"Endemic\", IF($J92>1, IF($J92=4, \"Unknown\", IF($J92=99, \"Surveillance\", F92)), 0),\"Not required\")","v":0},{"$f":"IF(INTRO!$E$41=\"Endemic\", IF($J92>1, IF($J92=4, \"Unknown\", IF($J92=99, \"Surveillance\", ROUND(D92*INTRO!$E$51,0))), 0),\"Not required\")","v":0},{"$f":"IF(INTRO!$E$41=\"Endemic\", IF($J92>1, IF($J92=4, \"Unknown\", IF($J92=99, \"Surveillance\", SUM($O92:$Q92))), 0),\"Not required\")","v":0},{"$f":"IF(INTRO!$E$43=\"Endemic\", IF($K92>1, IF($K92=4, \"Unknown\", IF($K92=99, \"Surveillance\", ROUND(E92*0.75,0))), 0),\"Not required\")","v":32478},{"$f":"IF(INTRO!$E$43=\"Endemic\", IF($K92>1, IF($K92=4, \"Unknown\", IF($K92=99, \"Surveillance\", F92)), 0),\"Not required\")","v":44289},{"$f":"IF(INTRO!$E$43=\"Endemic\", IF($K92>1, IF($K92=4, \"Unknown\", IF($K92=99, \"Surveillance\", G92)), 0),\"Not required\")","v":96398},{"$f":"IF(INTRO!$E$43=\"Endemic\", IF($K92>1, IF($K92=4, \"Unknown\", IF($K92=99, \"Surveillance\", SUM($S92:$U92))), 0),\"Not required\")","v":173165},0,0,0,1,null,"Yes",null,null,null,null,null,7496,"MOULVOUDAYE"]
[{"$f":"IF(INTRO!$E$33<>0,INTRO!$E$33, \" \")","v":"Cameroun"},"Extreme Nord","Moutourwa",61645,17559.990000000002,{"$f":"IF(INTRO!$E$49=\"\",\"\",ROUND($D93*INTRO!$E$49,0))","v":16305},{"$f":"IF(INTRO!$E$50=\"\",\"\",ROUND($D93*INTRO!$E$50,0))","v":35489},99,4,1,2,0,{"$f":"IF(INTRO!$E$37=\"Endemic\",IF($H93>0,IF($H93=4,\"Unknown\",IF($H93=99,\"Stopped\",$D93)),0),\"Not required\")","v":"Stopped"},{"$f":"IF(INTRO!$E$39=\"Endemic\", IF($I93>0, IF($I93=4,\"Unknown\",IF($I93=99,\"Stopped\",$D93)), 0),\"Not required\")","v":"Unknown"},{"$f":"IF(INTRO!$E$41=\"Endemic\", IF($J93>1, IF($J93=4, \"Unknown\", IF($J93=99, \"Surveillance\", E93)), 0),\"Not required\")","v":0},{"$f":"IF(INTRO!$E$41=\"Endemic\", IF($J93>1, IF($J93=4, \"Unknown\", IF($J93=99, \"Surveillance\", F93)), 0),\"Not required\")","v":0},{"$f":"IF(INTRO!$E$41=\"Endemic\", IF($J93>1, IF($J93=4, \"Unknown\", IF($J93=99, \"Surveillance\", ROUND(D93*INTRO!$E$51,0))), 0),\"Not required\")","v":0},{"$f":"IF(INTRO!$E$41=\"Endemic\", IF($J93>1, IF($J93=4, \"Unknown\", IF($J93=99, \"Surveillance\", SUM($O93:$Q93))), 0),\"Not required\")","v":0},{"$f":"IF(INTRO!$E$43=\"Endemic\", IF($K93>1, IF($K93=4, \"Unknown\", IF($K93=99, \"Surveillance\", ROUND(E93*0.75,0))), 0),\"Not required\")","v":13170},{"$f":"IF(INTRO!$E$43=\"Endemic\", IF($K93>1, IF($K93=4, \"Unknown\", IF($K93=99, \"Surveillance\", F93)), 0),\"Not required\")","v":16305},{"$f":"IF(INTRO!$E$43=\"Endemic\", IF($K93>1, IF($K93=4, \"Unknown\", IF($K93=99, \"Surveillance\", G93)), 0),\"Not required\")","v":35489},{"$f":"IF(INTRO!$E$43=\"Endemic\", IF($K93>1, IF($K93=4, \"Unknown\", IF($K93=99, \"Surveillance\", SUM($S93:$U93))), 0),\"Not required\")","v":64964},0,0,0,1,null,"Yes",null,null,null,null,null,7497,"MOUTOURWA"]
[{"$f":"IF(INTRO!$E$33<>0,INTRO!$E$33, \" \")","v":"Cameroun"},"Extreme Nord","Mozogo",94815,17793.918000000001,{"$f":"IF(INTRO!$E$49=\"\",\"\",ROUND($D94*INTRO!$E$49,0))","v":25079},{"$f":"IF(INTRO!$E$50=\"\",\"\",ROUND($D94*INTRO!$E$50,0))","v":54585},99,1,1,3,4,{"$f":"IF(INTRO!$E$37=\"Endemic\",IF($H94>0,IF($H94=4,\"Unknown\",IF($H94=99,\"Stopped\",$D94)),0),\"Not required\")","v":"Stopped"},{"$f":"IF(INTRO!$E$39=\"Endemic\", IF($I94>0, IF($I94=4,\"Unknown\",IF($I94=99,\"Stopped\",$D94)), 0),\"Not required\")","v":94815},{"$f":"IF(INTRO!$E$41=\"Endemic\", IF($J94>1, IF($J94=4, \"Unknown\", IF($J94=99, \"Surveillance\", E94)), 0),\"Not required\")","v":0},{"$f":"IF(INTRO!$E$41=\"Endemic\", IF($J94>1, IF($J94=4, \"Unknown\", IF($J94=99, \"Surveillance\", F94)), 0),\"Not required\")","v":0},{"$f":"IF(INTRO!$E$41=\"Endemic\", IF($J94>1, IF($J94=4, \"Unknown\", IF($J94=99, \"Surveillance\", ROUND(D94*INTRO!$E$51,0))), 0),\"Not required\")","v":0},{"$f":"IF(INTRO!$E$41=\"Endemic\", IF($J94>1, IF($J94=4, \"Unknown\", IF($J94=99, \"Surveillance\", SUM($O94:$Q94))), 0),\"Not required\")","v":0},{"$f":"IF(INTRO!$E$43=\"Endemic\", IF($K94>1, IF($K94=4, \"Unknown\", IF($K94=99, \"Surveillance\", ROUND(E94*0.75,0))), 0),\"Not required\")","v":13345},{"$f":"IF(INTRO!$E$43=\"Endemic\", IF($K94>1, IF($K94=4, \"Unknown\", IF($K94=99, \"Surveillance\", F94)), 0),\"Not required\")","v":25079},{"$f":"IF(INTRO!$E$43=\"Endemic\", IF($K94>1, IF($K94=4, \"Unknown\", IF($K94=99, \"Surveillance\", G94)), 0),\"Not required\")","v":54585},{"$f":"IF(INTRO!$E$43=\"Endemic\", IF($K94>1, IF($K94=4, \"Unknown\", IF($K94=99, \"Surveillance\", SUM($S94:$U94))), 0),\"Not required\")","v":93009},0,1,0,1,null,"Yes",null,null,null,null,null,7614,"Mozogo"]
[{"$f":"IF(INTRO!$E$33<>0,INTRO!$E$33, \" \")","v":"Cameroun"},"Extreme Nord","Pette",69362,23989.932000000001,{"$f":"IF(INTRO!$E$49=\"\",\"\",ROUND($D95*INTRO!$E$49,0))","v":18346},{"$f":"IF(INTRO!$E$50=\"\",\"\",ROUND($D95*INTRO!$E$50,0))","v":39932},99,4,2,3,4,{"$f":"IF(INTRO!$E$37=\"Endemic\",IF($H95>0,IF($H95=4,\"Unknown\",IF($H95=99,\"Stopped\",$D95)),0),\"Not required\")","v":"Stopped"},{"$f":"IF(INTRO!$E$39=\"Endemic\", IF($I95>0, IF($I95=4,\"Unknown\",IF($I95=99,\"Stopped\",$D95)), 0),\"Not required\")","v":"Unknown"},{"$f":"IF(INTRO!$E$41=\"Endemic\", IF($J95>1, IF($J95=4, \"Unknown\", IF($J95=99, \"Surveillance\", E95)), 0),\"Not required\")","v":23989.932000000001},{"$f":"IF(INTRO!$E$41=\"Endemic\", IF($J95>1, IF($J95=4, \"Unknown\", IF($J95=99, \"Surveillance\", F95)), 0),\"Not required\")","v":18346},{"$f":"IF(INTRO!$E$41=\"Endemic\", IF($J95>1, IF($J95=4, \"Unknown\", IF($J95=99, \"Surveillance\", ROUND(D95*INTRO!$E$51,0))), 0),\"Not required\")","v":2566},{"$f":"IF(INTRO!$E$41=\"Endemic\", IF($J95>1, IF($J95=4, \"Unknown\", IF($J95=99, \"Surveillance\", SUM($O95:$Q95))), 0),\"Not required\")","v":44901.932000000001},{"$f":"IF(INTRO!$E$43=\"Endemic\", IF($K95>1, IF($K95=4, \"Unknown\", IF($K95=99, \"Surveillance\", ROUND(E95*0.75,0))), 0),\"Not required\")","v":17992},{"$f":"IF(INTRO!$E$43=\"Endemic\", IF($K95>1, IF($K95=4, \"Unknown\", IF($K95=99, \"Surveillance\", F95)), 0),\"Not required\")","v":18346},{"$f":"IF(INTRO!$E$43=\"Endemic\", IF($K95>1, IF($K95=4, \"Unknown\", IF($K95=99, \"Surveillance\", G95)), 0),\"Not required\")","v":39932},{"$f":"IF(INTRO!$E$43=\"Endemic\", IF($K95>1, IF($K95=4, \"Unknown\", IF($K95=99, \"Surveillance\", SUM($S95:$U95))), 0),\"Not required\")","v":76270},0,0,1,1,null,"Yes",null,null,null,null,null,7498,"PETTE"]
[{"$f":"IF(INTRO!$E$33<>0,INTRO!$E$33, \" \")","v":"Cameroun"},"Extreme Nord","Roua",109517,29997.162,{"$f":"IF(INTRO!$E$49=\"\",\"\",ROUND($D96*INTRO!$E$49,0))","v":28967},{"$f":"IF(INTRO!$E$50=\"\",\"\",ROUND($D96*INTRO!$E$50,0))","v":63049},99,1,1,3,4,{"$f":"IF(INTRO!$E$37=\"Endemic\",IF($H96>0,IF($H96=4,\"Unknown\",IF($H96=99,\"Stopped\",$D96)),0),\"Not required\")","v":"Stopped"},{"$f":"IF(INTRO!$E$39=\"Endemic\", IF($I96>0, IF($I96=4,\"Unknown\",IF($I96=99,\"Stopped\",$D96)), 0),\"Not required\")","v":109517},{"$f":"IF(INTRO!$E$41=\"Endemic\", IF($J96>1, IF($J96=4, \"Unknown\", IF($J96=99, \"Surveillance\", E96)), 0),\"Not required\")","v":0},{"$f":"IF(INTRO!$E$41=\"Endemic\", IF($J96>1, IF($J96=4, \"Unknown\", IF($J96=99, \"Surveillance\", F96)), 0),\"Not required\")","v":0},{"$f":"IF(INTRO!$E$41=\"Endemic\", IF($J96>1, IF($J96=4, \"Unknown\", IF($J96=99, \"Surveillance\", ROUND(D96*INTRO!$E$51,0))), 0),\"Not required\")","v":0},{"$f":"IF(INTRO!$E$41=\"Endemic\", IF($J96>1, IF($J96=4, \"Unknown\", IF($J96=99, \"Surveillance\", SUM($O96:$Q96))), 0),\"Not required\")","v":0},{"$f":"IF(INTRO!$E$43=\"Endemic\", IF($K96>1, IF($K96=4, \"Unknown\", IF($K96=99, \"Surveillance\", ROUND(E96*0.75,0))), 0),\"Not required\")","v":22498},{"$f":"IF(INTRO!$E$43=\"Endemic\", IF($K96>1, IF($K96=4, \"Unknown\", IF($K96=99, \"Surveillance\", F96)), 0),\"Not required\")","v":28967},{"$f":"IF(INTRO!$E$43=\"Endemic\", IF($K96>1, IF($K96=4, \"Unknown\", IF($K96=99, \"Surveillance\", G96)), 0),\"Not required\")","v":63049},{"$f":"IF(INTRO!$E$43=\"Endemic\", IF($K96>1, IF($K96=4, \"Unknown\", IF($K96=99, \"Surveillance\", SUM($S96:$U96))), 0),\"Not required\")","v":114514},0,1,0,1,null,"Yes",null,null,null,null,null,7499,"ROUA"]
[{"$f":"IF(INTRO!$E$33<>0,INTRO!$E$33, \" \")","v":"Cameroun"},"Extreme Nord","Tokombere",165298,48017.826000000001,{"$f":"IF(INTRO!$E$49=\"\",\"\",ROUND($D97*INTRO!$E$49,0))","v":43721},{"$f":"IF(INTRO!$E$50=\"\",\"\",ROUND($D97*INTRO!$E$50,0))","v":95162},99,4,2,2,4,{"$f":"IF(INTRO!$E$37=\"Endemic\",IF($H97>0,IF($H97=4,\"Unknown\",IF($H97=99,\"Stopped\",$D97)),0),\"Not required\")","v":"Stopped"},{"$f":"IF(INTRO!$E$39=\"Endemic\", IF($I97>0, IF($I97=4,\"Unknown\",IF($I97=99,\"Stopped\",$D97)), 0),\"Not required\")","v":"Unknown"},{"$f":"IF(INTRO!$E$41=\"Endemic\", IF($J97>1, IF($J97=4, \"Unknown\", IF($J97=99, \"Surveillance\", E97)), 0),\"Not required\")","v":48017.826000000001},{"$f":"IF(INTRO!$E$41=\"Endemic\", IF($J97>1, IF($J97=4, \"Unknown\", IF($J97=99, \"Surveillance\", F97)), 0),\"Not required\")","v":43721},{"$f":"IF(INTRO!$E$41=\"Endemic\", IF($J97>1, IF($J97=4, \"Unknown\", IF($J97=99, \"Surveillance\", ROUND(D97*INTRO!$E$51,0))), 0),\"Not required\")","v":6116},{"$f":"IF(INTRO!$E$41=\"Endemic\", IF($J97>1, IF($J97=4, \"Unknown\", IF($J97=99, \"Surveillance\", SUM($O97:$Q97))), 0),\"Not required\")","v":97854.826000000001},{"$f":"IF(INTRO!$E$43=\"Endemic\", IF($K97>1, IF($K97=4, \"Unknown\", IF($K97=99, \"Surveillance\", ROUND(E97*0.75,0))), 0),\"Not required\")","v":36013},{"$f":"IF(INTRO!$E$43=\"Endemic\", IF($K97>1, IF($K97=4, \"Unknown\", IF($K97=99, \"Surveillance\", F97)), 0),\"Not required\")","v":43721},{"$f":"IF(INTRO!$E$43=\"Endemic\", IF($K97>1, IF($K97=4, \"Unknown\", IF($K97=99, \"Surveillance\", G97)), 0),\"Not required\")","v":95162},{"$f":"IF(INTRO!$E$43=\"Endemic\", IF($K97>1, IF($K97=4, \"Unknown\", IF($K97=99, \"Surveillance\", SUM($S97:$U97))), 0),\"Not required\")","v":174896},0,0,1,1,null,"Yes",null,null,null,null,null,7500,"TOKOMBERE"]
[{"$f":"IF(INTRO!$E$33<>0,INTRO!$E$33, \" \")","v":"Cameroun"},"Extreme Nord","Vele",170428,53906.04,{"$f":"IF(INTRO!$E$49=\"\",\"\",ROUND($D98*INTRO!$E$49,0))","v":45078},{"$f":"IF(INTRO!$E$50=\"\",\"\",ROUND($D98*INTRO!$E$50,0))","v":98115},99,4,2,3,0,{"$f":"IF(INTRO!$E$37=\"Endemic\",IF($H98>0,IF($H98=4,\"Unknown\",IF($H98=99,\"Stopped\",$D98)),0),\"Not required\")","v":"Stopped"},{"$f":"IF(INTRO!$E$39=\"Endemic\", IF($I98>0, IF($I98=4,\"Unknown\",IF($I98=99,\"Stopped\",$D98)), 0),\"Not required\")","v":"Unknown"},{"$f":"IF(INTRO!$E$41=\"Endemic\", IF($J98>1, IF($J98=4, \"Unknown\", IF($J98=99, \"Surveillance\", E98)), 0),\"Not required\")","v":53906.04},{"$f":"IF(INTRO!$E$41=\"Endemic\", IF($J98>1, IF($J98=4, \"Unknown\", IF($J98=99, \"Surveillance\", F98)), 0),\"Not required\")","v":45078},{"$f":"IF(INTRO!$E$41=\"Endemic\", IF($J98>1, IF($J98=4, \"Unknown\", IF($J98=99, \"Surveillance\", ROUND(D98*INTRO!$E$51,0))), 0),\"Not required\")","v":6306},{"$f":"IF(INTRO!$E$41=\"Endemic\", IF($J98>1, IF($J98=4, \"Unknown\", IF($J98=99, \"Surveillance\", SUM($O98:$Q98))), 0),\"Not required\")","v":105290.04000000001},{"$f":"IF(INTRO!$E$43=\"Endemic\", IF($K98>1, IF($K98=4, \"Unknown\", IF($K98=99, \"Surveillance\", ROUND(E98*0.75,0))), 0),\"Not required\")","v":40430},{"$f":"IF(INTRO!$E$43=\"Endemic\", IF($K98>1, IF($K98=4, \"Unknown\", IF($K98=99, \"Surveillance\", F98)), 0),\"Not required\")","v":45078},{"$f":"IF(INTRO!$E$43=\"Endemic\", IF($K98>1, IF($K98=4, \"Unknown\", IF($K98=99, \"Surveillance\", G98)), 0),\"Not required\")","v":98115},{"$f":"IF(INTRO!$E$43=\"Endemic\", IF($K98>1, IF($K98=4, \"Unknown\", IF($K98=99, \"Surveillance\", SUM($S98:$U98))), 0),\"Not required\")","v":183623},0,0,1,1,null,"Yes",null,null,null,null,null,7501,"VELE"]
[{"$f":"IF(INTRO!$E$33<>0,INTRO!$E$33, \" \")","v":"Cameroun"},"Extreme Nord","Yagoua",277109,77437.350000000006,{"$f":"IF(INTRO!$E$49=\"\",\"\",ROUND($D99*INTRO!$E$49,0))","v":73295},{"$f":"IF(INTRO!$E$50=\"\",\"\",ROUND($D99*INTRO!$E$50,0))","v":159532},99,4,2,3,0,{"$f":"IF(INTRO!$E$37=\"Endemic\",IF($H99>0,IF($H99=4,\"Unknown\",IF($H99=99,\"Stopped\",$D99)),0),\"Not required\")","v":"Stopped"},{"$f":"IF(INTRO!$E$39=\"Endemic\", IF($I99>0, IF($I99=4,\"Unknown\",IF($I99=99,\"Stopped\",$D99)), 0),\"Not required\")","v":"Unknown"},{"$f":"IF(INTRO!$E$41=\"Endemic\", IF($J99>1, IF($J99=4, \"Unknown\", IF($J99=99, \"Surveillance\", E99)), 0),\"Not required\")","v":77437.350000000006},{"$f":"IF(INTRO!$E$41=\"Endemic\", IF($J99>1, IF($J99=4, \"Unknown\", IF($J99=99, \"Surveillance\", F99)), 0),\"Not required\")","v":73295},{"$f":"IF(INTRO!$E$41=\"Endemic\", IF($J99>1, IF($J99=4, \"Unknown\", IF($J99=99, \"Surveillance\", ROUND(D99*INTRO!$E$51,0))), 0),\"Not required\")","v":10253},{"$f":"IF(INTRO!$E$41=\"Endemic\", IF($J99>1, IF($J99=4, \"Unknown\", IF($J99=99, \"Surveillance\", SUM($O99:$Q99))), 0),\"Not required\")","v":160985.35},{"$f":"IF(INTRO!$E$43=\"Endemic\", IF($K99>1, IF($K99=4, \"Unknown\", IF($K99=99, \"Surveillance\", ROUND(E99*0.75,0))), 0),\"Not required\")","v":58078},{"$f":"IF(INTRO!$E$43=\"Endemic\", IF($K99>1, IF($K99=4, \"Unknown\", IF($K99=99, \"Surveillance\", F99)), 0),\"Not required\")","v":73295},{"$f":"IF(INTRO!$E$43=\"Endemic\", IF($K99>1, IF($K99=4, \"Unknown\", IF($K99=99, \"Surveillance\", G99)), 0),\"Not required\")","v":159532},{"$f":"IF(INTRO!$E$43=\"Endemic\", IF($K99>1, IF($K99=4, \"Unknown\", IF($K99=99, \"Surveillance\", SUM($S99:$U99))), 0),\"Not required\")","v":290905},0,0,1,1,null,"Yes",null,null,null,null,null,7502,"YAGOUA"]
[{"$f":"IF(INTRO!$E$33<>0,INTRO!$E$33, \" \")","v":"Cameroun"},"Littoral","Abo",32885,4483.62,{"$f":"IF(INTRO!$E$49=\"\",\"\",ROUND($D100*INTRO!$E$49,0))","v":8698},{"$f":"IF(INTRO!$E$50=\"\",\"\",ROUND($D100*INTRO!$E$50,0))","v":18932},0,4,3,1,1,{"$f":"IF(INTRO!$E$37=\"Endemic\",IF($H100>0,IF($H100=4,\"Unknown\",IF($H100=99,\"Stopped\",$D100)),0),\"Not required\")","v":0},{"$f":"IF(INTRO!$E$39=\"Endemic\", IF($I100>0, IF($I100=4,\"Unknown\",IF($I100=99,\"Stopped\",$D100)), 0),\"Not required\")","v":"Unknown"},{"$f":"IF(INTRO!$E$41=\"Endemic\", IF($J100>1, IF($J100=4, \"Unknown\", IF($J100=99, \"Surveillance\", E100)), 0),\"Not required\")","v":4483.62},{"$f":"IF(INTRO!$E$41=\"Endemic\", IF($J100>1, IF($J100=4, \"Unknown\", IF($J100=99, \"Surveillance\", F100)), 0),\"Not required\")","v":8698},{"$f":"IF(INTRO!$E$41=\"Endemic\", IF($J100>1, IF($J100=4, \"Unknown\", IF($J100=99, \"Surveillance\", ROUND(D100*INTRO!$E$51,0))), 0),\"Not required\")","v":1217},{"$f":"IF(INTRO!$E$41=\"Endemic\", IF($J100>1, IF($J100=4, \"Unknown\", IF($J100=99, \"Surveillance\", SUM($O100:$Q100))), 0),\"Not required\")","v":14398.619999999999},{"$f":"IF(INTRO!$E$43=\"Endemic\", IF($K100>1, IF($K100=4, \"Unknown\", IF($K100=99, \"Surveillance\", ROUND(E100*0.75,0))), 0),\"Not required\")","v":0},{"$f":"IF(INTRO!$E$43=\"Endemic\", IF($K100>1, IF($K100=4, \"Unknown\", IF($K100=99, \"Surveillance\", F100)), 0),\"Not required\")","v":0},{"$f":"IF(INTRO!$E$43=\"Endemic\", IF($K100>1, IF($K100=4, \"Unknown\", IF($K100=99, \"Surveillance\", G100)), 0),\"Not required\")","v":0},{"$f":"IF(INTRO!$E$43=\"Endemic\", IF($K100>1, IF($K100=4, \"Unknown\", IF($K100=99, \"Surveillance\", SUM($S100:$U100))), 0),\"Not required\")","v":0},0,0,1,0,null,"Yes",null,null,null,null,null,7503,"ABO"]
[{"$f":"IF(INTRO!$E$33<>0,INTRO!$E$33, \" \")","v":"Cameroun"},"Littoral","Bangue",382523,35514.99,{"$f":"IF(INTRO!$E$49=\"\",\"\",ROUND($D101*INTRO!$E$49,0))","v":101177},{"$f":"IF(INTRO!$E$50=\"\",\"\",ROUND($D101*INTRO!$E$50,0))","v":220218},0,4,1,1,1,{"$f":"IF(INTRO!$E$37=\"Endemic\",IF($H101>0,IF($H101=4,\"Unknown\",IF($H101=99,\"Stopped\",$D101)),0),\"Not required\")","v":0},{"$f":"IF(INTRO!$E$39=\"Endemic\", IF($I101>0, IF($I101=4,\"Unknown\",IF($I101=99,\"Stopped\",$D101)), 0),\"Not required\")","v":"Unknown"},{"$f":"IF(INTRO!$E$41=\"Endemic\", IF($J101>1, IF($J101=4, \"Unknown\", IF($J101=99, \"Surveillance\", E101)), 0),\"Not required\")","v":0},{"$f":"IF(INTRO!$E$41=\"Endemic\", IF($J101>1, IF($J101=4, \"Unknown\", IF($J101=99, \"Surveillance\", F101)), 0),\"Not required\")","v":0},{"$f":"IF(INTRO!$E$41=\"Endemic\", IF($J101>1, IF($J101=4, \"Unknown\", IF($J101=99, \"Surveillance\", ROUND(D101*INTRO!$E$51,0))), 0),\"Not required\")","v":0},{"$f":"IF(INTRO!$E$41=\"Endemic\", IF($J101>1, IF($J101=4, \"Unknown\", IF($J101=99, \"Surveillance\", SUM($O101:$Q101))), 0),\"Not required\")","v":0},{"$f":"IF(INTRO!$E$43=\"Endemic\", IF($K101>1, IF($K101=4, \"Unknown\", IF($K101=99, \"Surveillance\", ROUND(E101*0.75,0))), 0),\"Not required\")","v":0},{"$f":"IF(INTRO!$E$43=\"Endemic\", IF($K101>1, IF($K101=4, \"Unknown\", IF($K101=99, \"Surveillance\", F101)), 0),\"Not required\")","v":0},{"$f":"IF(INTRO!$E$43=\"Endemic\", IF($K101>1, IF($K101=4, \"Unknown\", IF($K101=99, \"Surveillance\", G101)), 0),\"Not required\")","v":0},{"$f":"IF(INTRO!$E$43=\"Endemic\", IF($K101>1, IF($K101=4, \"Unknown\", IF($K101=99, \"Surveillance\", SUM($S101:$U101))), 0),\"Not required\")","v":0},0,0,0,0,null,"Yes",null,null,null,null,null,7516,"MBANGUE"]
[{"$f":"IF(INTRO!$E$33<>0,INTRO!$E$33, \" \")","v":"Cameroun"},"Littoral","Boko",450027,55343.466,{"$f":"IF(INTRO!$E$49=\"\",\"\",ROUND($D102*INTRO!$E$49,0))","v":119032},{"$f":"IF(INTRO!$E$50=\"\",\"\",ROUND($D102*INTRO!$E$50,0))","v":259081},0,4,1,0,1,{"$f":"IF(INTRO!$E$37=\"Endemic\",IF($H102>0,IF($H102=4,\"Unknown\",IF($H102=99,\"Stopped\",$D102)),0),\"Not required\")","v":0},{"$f":"IF(INTRO!$E$39=\"Endemic\", IF($I102>0, IF($I102=4,\"Unknown\",IF($I102=99,\"Stopped\",$D102)), 0),\"Not required\")","v":"Unknown"},{"$f":"IF(INTRO!$E$41=\"Endemic\", IF($J102>1, IF($J102=4, \"Unknown\", IF($J102=99, \"Surveillance\", E102)), 0),\"Not required\")","v":0},{"$f":"IF(INTRO!$E$41=\"Endemic\", IF($J102>1, IF($J102=4, \"Unknown\", IF($J102=99, \"Surveillance\", F102)), 0),\"Not required\")","v":0},{"$f":"IF(INTRO!$E$41=\"Endemic\", IF($J102>1, IF($J102=4, \"Unknown\", IF($J102=99, \"Surveillance\", ROUND(D102*INTRO!$E$51,0))), 0),\"Not required\")","v":0},{"$f":"IF(INTRO!$E$41=\"Endemic\", IF($J102>1, IF($J102=4, \"Unknown\", IF($J102=99, \"Surveillance\", SUM($O102:$Q102))), 0),\"Not required\")","v":0},{"$f":"IF(INTRO!$E$43=\"Endemic\", IF($K102>1, IF($K102=4, \"Unknown\", IF($K102=99, \"Surveillance\", ROUND(E102*0.75,0))), 0),\"Not required\")","v":0},{"$f":"IF(INTRO!$E$43=\"Endemic\", IF($K102>1, IF($K102=4, \"Unknown\", IF($K102=99, \"Surveillance\", F102)), 0),\"Not required\")","v":0},{"$f":"IF(INTRO!$E$43=\"Endemic\", IF($K102>1, IF($K102=4, \"Unknown\", IF($K102=99, \"Surveillance\", G102)), 0),\"Not required\")","v":0},{"$f":"IF(INTRO!$E$43=\"Endemic\", IF($K102>1, IF($K102=4, \"Unknown\", IF($K102=99, \"Surveillance\", SUM($S102:$U102))), 0),\"Not required\")","v":0},0,0,0,0,null,"Yes",null,null,null,null,null,7504,"BOKO"]
[{"$f":"IF(INTRO!$E$33<>0,INTRO!$E$33, \" \")","v":"Cameroun"},"Littoral","Bonassama",355948,28697.22,{"$f":"IF(INTRO!$E$49=\"\",\"\",ROUND($D103*INTRO!$E$49,0))","v":94148},{"$f":"IF(INTRO!$E$50=\"\",\"\",ROUND($D103*INTRO!$E$50,0))","v":204919},0,4,0,0,1,{"$f":"IF(INTRO!$E$37=\"Endemic\",IF($H103>0,IF($H103=4,\"Unknown\",IF($H103=99,\"Stopped\",$D103)),0),\"Not required\")","v":0},{"$f":"IF(INTRO!$E$39=\"Endemic\", IF($I103>0, IF($I103=4,\"Unknown\",IF($I103=99,\"Stopped\",$D103)), 0),\"Not required\")","v":"Unknown"},{"$f":"IF(INTRO!$E$41=\"Endemic\", IF($J103>1, IF($J103=4, \"Unknown\", IF($J103=99, \"Surveillance\", E103)), 0),\"Not required\")","v":0},{"$f":"IF(INTRO!$E$41=\"Endemic\", IF($J103>1, IF($J103=4, \"Unknown\", IF($J103=99, \"Surveillance\", F103)), 0),\"Not required\")","v":0},{"$f":"IF(INTRO!$E$41=\"Endemic\", IF($J103>1, IF($J103=4, \"Unknown\", IF($J103=99, \"Surveillance\", ROUND(D103*INTRO!$E$51,0))), 0),\"Not required\")","v":0},{"$f":"IF(INTRO!$E$41=\"Endemic\", IF($J103>1, IF($J103=4, \"Unknown\", IF($J103=99, \"Surveillance\", SUM($O103:$Q103))), 0),\"Not required\")","v":0},{"$f":"IF(INTRO!$E$43=\"Endemic\", IF($K103>1, IF($K103=4, \"Unknown\", IF($K103=99, \"Surveillance\", ROUND(E103*0.75,0))), 0),\"Not required\")","v":0},{"$f":"IF(INTRO!$E$43=\"Endemic\", IF($K103>1, IF($K103=4, \"Unknown\", IF($K103=99, \"Surveillance\", F103)), 0),\"Not required\")","v":0},{"$f":"IF(INTRO!$E$43=\"Endemic\", IF($K103>1, IF($K103=4, \"Unknown\", IF($K103=99, \"Surveillance\", G103)), 0),\"Not required\")","v":0},{"$f":"IF(INTRO!$E$43=\"Endemic\", IF($K103>1, IF($K103=4, \"Unknown\", IF($K103=99, \"Surveillance\", SUM($S103:$U103))), 0),\"Not required\")","v":0},0,0,0,0,null,"Yes",null,null,null,null,null,7505,"BONASSAMA"]
[{"$f":"IF(INTRO!$E$33<>0,INTRO!$E$33, \" \")","v":"Cameroun"},"Littoral","Cite Des Palmiers",655236,63211.86,{"$f":"IF(INTRO!$E$49=\"\",\"\",ROUND($D104*INTRO!$E$49,0))","v":173310},{"$f":"IF(INTRO!$E$50=\"\",\"\",ROUND($D104*INTRO!$E$50,0))","v":377219},0,4,0,0,1,{"$f":"IF(INTRO!$E$37=\"Endemic\",IF($H104>0,IF($H104=4,\"Unknown\",IF($H104=99,\"Stopped\",$D104)),0),\"Not required\")","v":0},{"$f":"IF(INTRO!$E$39=\"Endemic\", IF($I104>0, IF($I104=4,\"Unknown\",IF($I104=99,\"Stopped\",$D104)), 0),\"Not required\")","v":"Unknown"},{"$f":"IF(INTRO!$E$41=\"Endemic\", IF($J104>1, IF($J104=4, \"Unknown\", IF($J104=99, \"Surveillance\", E104)), 0),\"Not required\")","v":0},{"$f":"IF(INTRO!$E$41=\"Endemic\", IF($J104>1, IF($J104=4, \"Unknown\", IF($J104=99, \"Surveillance\", F104)), 0),\"Not required\")","v":0},{"$f":"IF(INTRO!$E$41=\"Endemic\", IF($J104>1, IF($J104=4, \"Unknown\", IF($J104=99, \"Surveillance\", ROUND(D104*INTRO!$E$51,0))), 0),\"Not required\")","v":0},{"$f":"IF(INTRO!$E$41=\"Endemic\", IF($J104>1, IF($J104=4, \"Unknown\", IF($J104=99, \"Surveillance\", SUM($O104:$Q104))), 0),\"Not required\")","v":0},{"$f":"IF(INTRO!$E$43=\"Endemic\", IF($K104>1, IF($K104=4, \"Unknown\", IF($K104=99, \"Surveillance\", ROUND(E104*0.75,0))), 0),\"Not required\")","v":0},{"$f":"IF(INTRO!$E$43=\"Endemic\", IF($K104>1, IF($K104=4, \"Unknown\", IF($K104=99, \"Surveillance\", F104)), 0),\"Not required\")","v":0},{"$f":"IF(INTRO!$E$43=\"Endemic\", IF($K104>1, IF($K104=4, \"Unknown\", IF($K104=99, \"Surveillance\", G104)), 0),\"Not required\")","v":0},{"$f":"IF(INTRO!$E$43=\"Endemic\", IF($K104>1, IF($K104=4, \"Unknown\", IF($K104=99, \"Surveillance\", SUM($S104:$U104))), 0),\"Not required\")","v":0},0,0,0,0,null,"Yes",null,null,null,null,null,7506,"CITE PALMIERS"]
[{"$f":"IF(INTRO!$E$33<>0,INTRO!$E$33, \" \")","v":"Cameroun"},"Littoral","Deido",46737,7047.5940000000001,{"$f":"IF(INTRO!$E$49=\"\",\"\",ROUND($D105*INTRO!$E$49,0))","v":12362},{"$f":"IF(INTRO!$E$50=\"\",\"\",ROUND($D105*INTRO!$E$50,0))","v":26906},0,4,1,1,1,{"$f":"IF(INTRO!$E$37=\"Endemic\",IF($H105>0,IF($H105=4,\"Unknown\",IF($H105=99,\"Stopped\",$D105)),0),\"Not required\")","v":0},{"$f":"IF(INTRO!$E$39=\"Endemic\", IF($I105>0, IF($I105=4,\"Unknown\",IF($I105=99,\"Stopped\",$D105)), 0),\"Not required\")","v":"Unknown"},{"$f":"IF(INTRO!$E$41=\"Endemic\", IF($J105>1, IF($J105=4, \"Unknown\", IF($J105=99, \"Surveillance\", E105)), 0),\"Not required\")","v":0},{"$f":"IF(INTRO!$E$41=\"Endemic\", IF($J105>1, IF($J105=4, \"Unknown\", IF($J105=99, \"Surveillance\", F105)), 0),\"Not required\")","v":0},{"$f":"IF(INTRO!$E$41=\"Endemic\", IF($J105>1, IF($J105=4, \"Unknown\", IF($J105=99, \"Surveillance\", ROUND(D105*INTRO!$E$51,0))), 0),\"Not required\")","v":0},{"$f":"IF(INTRO!$E$41=\"Endemic\", IF($J105>1, IF($J105=4, \"Unknown\", IF($J105=99, \"Surveillance\", SUM($O105:$Q105))), 0),\"Not required\")","v":0},{"$f":"IF(INTRO!$E$43=\"Endemic\", IF($K105>1, IF($K105=4, \"Unknown\", IF($K105=99, \"Surveillance\", ROUND(E105*0.75,0))), 0),\"Not required\")","v":0},{"$f":"IF(INTRO!$E$43=\"Endemic\", IF($K105>1, IF($K105=4, \"Unknown\", IF($K105=99, \"Surveillance\", F105)), 0),\"Not required\")","v":0},{"$f":"IF(INTRO!$E$43=\"Endemic\", IF($K105>1, IF($K105=4, \"Unknown\", IF($K105=99, \"Surveillance\", G105)), 0),\"Not required\")","v":0},{"$f":"IF(INTRO!$E$43=\"Endemic\", IF($K105>1, IF($K105=4, \"Unknown\", IF($K105=99, \"Surveillance\", SUM($S105:$U105))), 0),\"Not required\")","v":0},0,0,0,0,null,"Yes",null,null,null,null,null,7507,"DEIDO"]
[{"$f":"IF(INTRO!$E$33<>0,INTRO!$E$33, \" \")","v":"Cameroun"},"Littoral","Dibombari",196122,19627.38,{"$f":"IF(INTRO!$E$49=\"\",\"\",ROUND($D106*INTRO!$E$49,0))","v":51874},{"$f":"IF(INTRO!$E$50=\"\",\"\",ROUND($D106*INTRO!$E$50,0))","v":112907},0,4,3,1,1,{"$f":"IF(INTRO!$E$37=\"Endemic\",IF($H106>0,IF($H106=4,\"Unknown\",IF($H106=99,\"Stopped\",$D106)),0),\"Not required\")","v":0},{"$f":"IF(INTRO!$E$39=\"Endemic\", IF($I106>0, IF($I106=4,\"Unknown\",IF($I106=99,\"Stopped\",$D106)), 0),\"Not required\")","v":"Unknown"},{"$f":"IF(INTRO!$E$41=\"Endemic\", IF($J106>1, IF($J106=4, \"Unknown\", IF($J106=99, \"Surveillance\", E106)), 0),\"Not required\")","v":19627.38},{"$f":"IF(INTRO!$E$41=\"Endemic\", IF($J106>1, IF($J106=4, \"Unknown\", IF($J106=99, \"Surveillance\", F106)), 0),\"Not required\")","v":51874},{"$f":"IF(INTRO!$E$41=\"Endemic\", IF($J106>1, IF($J106=4, \"Unknown\", IF($J106=99, \"Surveillance\", ROUND(D106*INTRO!$E$51,0))), 0),\"Not required\")","v":7257},{"$f":"IF(INTRO!$E$41=\"Endemic\", IF($J106>1, IF($J106=4, \"Unknown\", IF($J106=99, \"Surveillance\", SUM($O106:$Q106))), 0),\"Not required\")","v":78758.38},{"$f":"IF(INTRO!$E$43=\"Endemic\", IF($K106>1, IF($K106=4, \"Unknown\", IF($K106=99, \"Surveillance\", ROUND(E106*0.75,0))), 0),\"Not required\")","v":0},{"$f":"IF(INTRO!$E$43=\"Endemic\", IF($K106>1, IF($K106=4, \"Unknown\", IF($K106=99, \"Surveillance\", F106)), 0),\"Not required\")","v":0},{"$f":"IF(INTRO!$E$43=\"Endemic\", IF($K106>1, IF($K106=4, \"Unknown\", IF($K106=99, \"Surveillance\", G106)), 0),\"Not required\")","v":0},{"$f":"IF(INTRO!$E$43=\"Endemic\", IF($K106>1, IF($K106=4, \"Unknown\", IF($K106=99, \"Surveillance\", SUM($S106:$U106))), 0),\"Not required\")","v":0},0,0,1,0,null,"Yes",null,null,null,null,null,7508,"DIBOMBARI"]
[{"$f":"IF(INTRO!$E$33<>0,INTRO!$E$33, \" \")","v":"Cameroun"},"Littoral","Edea",191276,21319.254000000001,{"$f":"IF(INTRO!$E$49=\"\",\"\",ROUND($D107*INTRO!$E$49,0))","v":50593},{"$f":"IF(INTRO!$E$50=\"\",\"\",ROUND($D107*INTRO!$E$50,0))","v":110118},99,1,3,2,1,{"$f":"IF(INTRO!$E$37=\"Endemic\",IF($H107>0,IF($H107=4,\"Unknown\",IF($H107=99,\"Stopped\",$D107)),0),\"Not required\")","v":"Stopped"},{"$f":"IF(INTRO!$E$39=\"Endemic\", IF($I107>0, IF($I107=4,\"Unknown\",IF($I107=99,\"Stopped\",$D107)), 0),\"Not required\")","v":191276},{"$f":"IF(INTRO!$E$41=\"Endemic\", IF($J107>1, IF($J107=4, \"Unknown\", IF($J107=99, \"Surveillance\", E107)), 0),\"Not required\")","v":21319.254000000001},{"$f":"IF(INTRO!$E$41=\"Endemic\", IF($J107>1, IF($J107=4, \"Unknown\", IF($J107=99, \"Surveillance\", F107)), 0),\"Not required\")","v":50593},{"$f":"IF(INTRO!$E$41=\"Endemic\", IF($J107>1, IF($J107=4, \"Unknown\", IF($J107=99, \"Surveillance\", ROUND(D107*INTRO!$E$51,0))), 0),\"Not required\")","v":7077},{"$f":"IF(INTRO!$E$41=\"Endemic\", IF($J107>1, IF($J107=4, \"Unknown\", IF($J107=99, \"Surveillance\", SUM($O107:$Q107))), 0),\"Not required\")","v":78989.254000000001},{"$f":"IF(INTRO!$E$43=\"Endemic\", IF($K107>1, IF($K107=4, \"Unknown\", IF($K107=99, \"Surveillance\", ROUND(E107*0.75,0))), 0),\"Not required\")","v":15989},{"$f":"IF(INTRO!$E$43=\"Endemic\", IF($K107>1, IF($K107=4, \"Unknown\", IF($K107=99, \"Surveillance\", F107)), 0),\"Not required\")","v":50593},{"$f":"IF(INTRO!$E$43=\"Endemic\", IF($K107>1, IF($K107=4, \"Unknown\", IF($K107=99, \"Surveillance\", G107)), 0),\"Not required\")","v":110118},{"$f":"IF(INTRO!$E$43=\"Endemic\", IF($K107>1, IF($K107=4, \"Unknown\", IF($K107=99, \"Surveillance\", SUM($S107:$U107))), 0),\"Not required\")","v":176700},0,1,1,1,null,"Yes",null,null,null,null,null,7509,"EDEA"]
[{"$f":"IF(INTRO!$E$33<>0,INTRO!$E$33, \" \")","v":"Cameroun"},"Littoral","Japoma",286315,29834.028000000002,{"$f":"IF(INTRO!$E$49=\"\",\"\",ROUND($D108*INTRO!$E$49,0))","v":75730},{"$f":"IF(INTRO!$E$50=\"\",\"\",ROUND($D108*INTRO!$E$50,0))","v":164832},0,4,3,0,1,{"$f":"IF(INTRO!$E$37=\"Endemic\",IF($H108>0,IF($H108=4,\"Unknown\",IF($H108=99,\"Stopped\",$D108)),0),\"Not required\")","v":0},{"$f":"IF(INTRO!$E$39=\"Endemic\", IF($I108>0, IF($I108=4,\"Unknown\",IF($I108=99,\"Stopped\",$D108)), 0),\"Not required\")","v":"Unknown"},{"$f":"IF(INTRO!$E$41=\"Endemic\", IF($J108>1, IF($J108=4, \"Unknown\", IF($J108=99, \"Surveillance\", E108)), 0),\"Not required\")","v":29834.028000000002},{"$f":"IF(INTRO!$E$41=\"Endemic\", IF($J108>1, IF($J108=4, \"Unknown\", IF($J108=99, \"Surveillance\", F108)), 0),\"Not required\")","v":75730},{"$f":"IF(INTRO!$E$41=\"Endemic\", IF($J108>1, IF($J108=4, \"Unknown\", IF($J108=99, \"Surveillance\", ROUND(D108*INTRO!$E$51,0))), 0),\"Not required\")","v":10594},{"$f":"IF(INTRO!$E$41=\"Endemic\", IF($J108>1, IF($J108=4, \"Unknown\", IF($J108=99, \"Surveillance\", SUM($O108:$Q108))), 0),\"Not required\")","v":116158.02800000001},{"$f":"IF(INTRO!$E$43=\"Endemic\", IF($K108>1, IF($K108=4, \"Unknown\", IF($K108=99, \"Surveillance\", ROUND(E108*0.75,0))), 0),\"Not required\")","v":0},{"$f":"IF(INTRO!$E$43=\"Endemic\", IF($K108>1, IF($K108=4, \"Unknown\", IF($K108=99, \"Surveillance\", F108)), 0),\"Not required\")","v":0},{"$f":"IF(INTRO!$E$43=\"Endemic\", IF($K108>1, IF($K108=4, \"Unknown\", IF($K108=99, \"Surveillance\", G108)), 0),\"Not required\")","v":0},{"$f":"IF(INTRO!$E$43=\"Endemic\", IF($K108>1, IF($K108=4, \"Unknown\", IF($K108=99, \"Surveillance\", SUM($S108:$U108))), 0),\"Not required\")","v":0},0,0,1,0,null,"Yes",null,null,null,null,null,7510,"JAPOMA"]
[{"$f":"IF(INTRO!$E$33<>0,INTRO!$E$33, \" \")","v":"Cameroun"},"Littoral","Logbaba",77029,12558.24,{"$f":"IF(INTRO!$E$49=\"\",\"\",ROUND($D109*INTRO!$E$49,0))","v":20374},{"$f":"IF(INTRO!$E$50=\"\",\"\",ROUND($D109*INTRO!$E$50,0))","v":44346},0,4,1,1,1,{"$f":"IF(INTRO!$E$37=\"Endemic\",IF($H109>0,IF($H109=4,\"Unknown\",IF($H109=99,\"Stopped\",$D109)),0),\"Not required\")","v":0},{"$f":"IF(INTRO!$E$39=\"Endemic\", IF($I109>0, IF($I109=4,\"Unknown\",IF($I109=99,\"Stopped\",$D109)), 0),\"Not required\")","v":"Unknown"},{"$f":"IF(INTRO!$E$41=\"Endemic\", IF($J109>1, IF($J109=4, \"Unknown\", IF($J109=99, \"Surveillance\", E109)), 0),\"Not required\")","v":0},{"$f":"IF(INTRO!$E$41=\"Endemic\", IF($J109>1, IF($J109=4, \"Unknown\", IF($J109=99, \"Surveillance\", F109)), 0),\"Not required\")","v":0},{"$f":"IF(INTRO!$E$41=\"Endemic\", IF($J109>1, IF($J109=4, \"Unknown\", IF($J109=99, \"Surveillance\", ROUND(D109*INTRO!$E$51,0))), 0),\"Not required\")","v":0},{"$f":"IF(INTRO!$E$41=\"Endemic\", IF($J109>1, IF($J109=4, \"Unknown\", IF($J109=99, \"Surveillance\", SUM($O109:$Q109))), 0),\"Not required\")","v":0},{"$f":"IF(INTRO!$E$43=\"Endemic\", IF($K109>1, IF($K109=4, \"Unknown\", IF($K109=99, \"Surveillance\", ROUND(E109*0.75,0))), 0),\"Not required\")","v":0},{"$f":"IF(INTRO!$E$43=\"Endemic\", IF($K109>1, IF($K109=4, \"Unknown\", IF($K109=99, \"Surveillance\", F109)), 0),\"Not required\")","v":0},{"$f":"IF(INTRO!$E$43=\"Endemic\", IF($K109>1, IF($K109=4, \"Unknown\", IF($K109=99, \"Surveillance\", G109)), 0),\"Not required\")","v":0},{"$f":"IF(INTRO!$E$43=\"Endemic\", IF($K109>1, IF($K109=4, \"Unknown\", IF($K109=99, \"Surveillance\", SUM($S109:$U109))), 0),\"Not required\")","v":0},0,0,0,0,null,"Yes",null,null,null,null,null,7511,"LOGBABA"]
[{"$f":"IF(INTRO!$E$33<>0,INTRO!$E$33, \" \")","v":"Cameroun"},"Littoral","Loum",44617,7075.2960000000003,{"$f":"IF(INTRO!$E$49=\"\",\"\",ROUND($D110*INTRO!$E$49,0))","v":11801},{"$f":"IF(INTRO!$E$50=\"\",\"\",ROUND($D110*INTRO!$E$50,0))","v":25686},99,1,3,3,1,{"$f":"IF(INTRO!$E$37=\"Endemic\",IF($H110>0,IF($H110=4,\"Unknown\",IF($H110=99,\"Stopped\",$D110)),0),\"Not required\")","v":"Stopped"},{"$f":"IF(INTRO!$E$39=\"Endemic\", IF($I110>0, IF($I110=4,\"Unknown\",IF($I110=99,\"Stopped\",$D110)), 0),\"Not required\")","v":44617},{"$f":"IF(INTRO!$E$41=\"Endemic\", IF($J110>1, IF($J110=4, \"Unknown\", IF($J110=99, \"Surveillance\", E110)), 0),\"Not required\")","v":7075.2960000000003},{"$f":"IF(INTRO!$E$41=\"Endemic\", IF($J110>1, IF($J110=4, \"Unknown\", IF($J110=99, \"Surveillance\", F110)), 0),\"Not required\")","v":11801},{"$f":"IF(INTRO!$E$41=\"Endemic\", IF($J110>1, IF($J110=4, \"Unknown\", IF($J110=99, \"Surveillance\", ROUND(D110*INTRO!$E$51,0))), 0),\"Not required\")","v":1651},{"$f":"IF(INTRO!$E$41=\"Endemic\", IF($J110>1, IF($J110=4, \"Unknown\", IF($J110=99, \"Surveillance\", SUM($O110:$Q110))), 0),\"Not required\")","v":20527.296000000002},{"$f":"IF(INTRO!$E$43=\"Endemic\", IF($K110>1, IF($K110=4, \"Unknown\", IF($K110=99, \"Surveillance\", ROUND(E110*0.75,0))), 0),\"Not required\")","v":5306},{"$f":"IF(INTRO!$E$43=\"Endemic\", IF($K110>1, IF($K110=4, \"Unknown\", IF($K110=99, \"Surveillance\", F110)), 0),\"Not required\")","v":11801},{"$f":"IF(INTRO!$E$43=\"Endemic\", IF($K110>1, IF($K110=4, \"Unknown\", IF($K110=99, \"Surveillance\", G110)), 0),\"Not required\")","v":25686},{"$f":"IF(INTRO!$E$43=\"Endemic\", IF($K110>1, IF($K110=4, \"Unknown\", IF($K110=99, \"Surveillance\", SUM($S110:$U110))), 0),\"Not required\")","v":42793},0,1,1,1,null,"Yes",null,null,null,null,null,7512,"LOUM"]
[{"$f":"IF(INTRO!$E$33<>0,INTRO!$E$33, \" \")","v":"Cameroun"},"Littoral","Manjo",33181,2380.3200000000002,{"$f":"IF(INTRO!$E$49=\"\",\"\",ROUND($D111*INTRO!$E$49,0))","v":8776},{"$f":"IF(INTRO!$E$50=\"\",\"\",ROUND($D111*INTRO!$E$50,0))","v":19102},99,1,3,1,1,{"$f":"IF(INTRO!$E$37=\"Endemic\",IF($H111>0,IF($H111=4,\"Unknown\",IF($H111=99,\"Stopped\",$D111)),0),\"Not required\")","v":"Stopped"},{"$f":"IF(INTRO!$E$39=\"Endemic\", IF($I111>0, IF($I111=4,\"Unknown\",IF($I111=99,\"Stopped\",$D111)), 0),\"Not required\")","v":33181},{"$f":"IF(INTRO!$E$41=\"Endemic\", IF($J111>1, IF($J111=4, \"Unknown\", IF($J111=99, \"Surveillance\", E111)), 0),\"Not required\")","v":2380.3200000000002},{"$f":"IF(INTRO!$E$41=\"Endemic\", IF($J111>1, IF($J111=4, \"Unknown\", IF($J111=99, \"Surveillance\", F111)), 0),\"Not required\")","v":8776},{"$f":"IF(INTRO!$E$41=\"Endemic\", IF($J111>1, IF($J111=4, \"Unknown\", IF($J111=99, \"Surveillance\", ROUND(D111*INTRO!$E$51,0))), 0),\"Not required\")","v":1228},{"$f":"IF(INTRO!$E$41=\"Endemic\", IF($J111>1, IF($J111=4, \"Unknown\", IF($J111=99, \"Surveillance\", SUM($O111:$Q111))), 0),\"Not required\")","v":12384.32},{"$f":"IF(INTRO!$E$43=\"Endemic\", IF($K111>1, IF($K111=4, \"Unknown\", IF($K111=99, \"Surveillance\", ROUND(E111*0.75,0))), 0),\"Not required\")","v":0},{"$f":"IF(INTRO!$E$43=\"Endemic\", IF($K111>1, IF($K111=4, \"Unknown\", IF($K111=99, \"Surveillance\", F111)), 0),\"Not required\")","v":0},{"$f":"IF(INTRO!$E$43=\"Endemic\", IF($K111>1, IF($K111=4, \"Unknown\", IF($K111=99, \"Surveillance\", G111)), 0),\"Not required\")","v":0},{"$f":"IF(INTRO!$E$43=\"Endemic\", IF($K111>1, IF($K111=4, \"Unknown\", IF($K111=99, \"Surveillance\", SUM($S111:$U111))), 0),\"Not required\")","v":0},0,1,1,0,null,"Yes",null,null,null,null,null,7513,"MANJO"]
[{"$f":"IF(INTRO!$E$33<>0,INTRO!$E$33, \" \")","v":"Cameroun"},"Littoral","Manoka",89805,11949.822,{"$f":"IF(INTRO!$E$49=\"\",\"\",ROUND($D112*INTRO!$E$49,0))","v":23753},{"$f":"IF(INTRO!$E$50=\"\",\"\",ROUND($D112*INTRO!$E$50,0))","v":51701},0,4,3,0,1,{"$f":"IF(INTRO!$E$37=\"Endemic\",IF($H112>0,IF($H112=4,\"Unknown\",IF($H112=99,\"Stopped\",$D112)),0),\"Not required\")","v":0},{"$f":"IF(INTRO!$E$39=\"Endemic\", IF($I112>0, IF($I112=4,\"Unknown\",IF($I112=99,\"Stopped\",$D112)), 0),\"Not required\")","v":"Unknown"},{"$f":"IF(INTRO!$E$41=\"Endemic\", IF($J112>1, IF($J112=4, \"Unknown\", IF($J112=99, \"Surveillance\", E112)), 0),\"Not required\")","v":11949.822},{"$f":"IF(INTRO!$E$41=\"Endemic\", IF($J112>1, IF($J112=4, \"Unknown\", IF($J112=99, \"Surveillance\", F112)), 0),\"Not required\")","v":23753},{"$f":"IF(INTRO!$E$41=\"Endemic\", IF($J112>1, IF($J112=4, \"Unknown\", IF($J112=99, \"Surveillance\", ROUND(D112*INTRO!$E$51,0))), 0),\"Not required\")","v":3323},{"$f":"IF(INTRO!$E$41=\"Endemic\", IF($J112>1, IF($J112=4, \"Unknown\", IF($J112=99, \"Surveillance\", SUM($O112:$Q112))), 0),\"Not required\")","v":39025.822},{"$f":"IF(INTRO!$E$43=\"Endemic\", IF($K112>1, IF($K112=4, \"Unknown\", IF($K112=99, \"Surveillance\", ROUND(E112*0.75,0))), 0),\"Not required\")","v":0},{"$f":"IF(INTRO!$E$43=\"Endemic\", IF($K112>1, IF($K112=4, \"Unknown\", IF($K112=99, \"Surveillance\", F112)), 0),\"Not required\")","v":0},{"$f":"IF(INTRO!$E$43=\"Endemic\", IF($K112>1, IF($K112=4, \"Unknown\", IF($K112=99, \"Surveillance\", G112)), 0),\"Not required\")","v":0},{"$f":"IF(INTRO!$E$43=\"Endemic\", IF($K112>1, IF($K112=4, \"Unknown\", IF($K112=99, \"Surveillance\", SUM($S112:$U112))), 0),\"Not required\")","v":0},0,0,1,0,null,"Yes",null,null,null,null,null,7514,"MANOKA"]
[{"$f":"IF(INTRO!$E$33<>0,INTRO!$E$33, \" \")","v":"Cameroun"},"Littoral","Mbanga",404342,34077.563999999998,{"$f":"IF(INTRO!$E$49=\"\",\"\",ROUND($D113*INTRO!$E$49,0))","v":106948},{"$f":"IF(INTRO!$E$50=\"\",\"\",ROUND($D113*INTRO!$E$50,0))","v":232780},99,1,3,1,1,{"$f":"IF(INTRO!$E$37=\"Endemic\",IF($H113>0,IF($H113=4,\"Unknown\",IF($H113=99,\"Stopped\",$D113)),0),\"Not required\")","v":"Stopped"},{"$f":"IF(INTRO!$E$39=\"Endemic\", IF($I113>0, IF($I113=4,\"Unknown\",IF($I113=99,\"Stopped\",$D113)), 0),\"Not required\")","v":404342},{"$f":"IF(INTRO!$E$41=\"Endemic\", IF($J113>1, IF($J113=4, \"Unknown\", IF($J113=99, \"Surveillance\", E113)), 0),\"Not required\")","v":34077.563999999998},{"$f":"IF(INTRO!$E$41=\"Endemic\", IF($J113>1, IF($J113=4, \"Unknown\", IF($J113=99, \"Surveillance\", F113)), 0),\"Not required\")","v":106948},{"$f":"IF(INTRO!$E$41=\"Endemic\", IF($J113>1, IF($J113=4, \"Unknown\", IF($J113=99, \"Surveillance\", ROUND(D113*INTRO!$E$51,0))), 0),\"Not required\")","v":14961},{"$f":"IF(INTRO!$E$41=\"Endemic\", IF($J113>1, IF($J113=4, \"Unknown\", IF($J113=99, \"Surveillance\", SUM($O113:$Q113))), 0),\"Not required\")","v":155986.56400000001},{"$f":"IF(INTRO!$E$43=\"Endemic\", IF($K113>1, IF($K113=4, \"Unknown\", IF($K113=99, \"Surveillance\", ROUND(E113*0.75,0))), 0),\"Not required\")","v":0},{"$f":"IF(INTRO!$E$43=\"Endemic\", IF($K113>1, IF($K113=4, \"Unknown\", IF($K113=99, \"Surveillance\", F113)), 0),\"Not required\")","v":0},{"$f":"IF(INTRO!$E$43=\"Endemic\", IF($K113>1, IF($K113=4, \"Unknown\", IF($K113=99, \"Surveillance\", G113)), 0),\"Not required\")","v":0},{"$f":"IF(INTRO!$E$43=\"Endemic\", IF($K113>1, IF($K113=4, \"Unknown\", IF($K113=99, \"Surveillance\", SUM($S113:$U113))), 0),\"Not required\")","v":0},0,1,1,0,null,"Yes",null,null,null,null,null,7515,"MBANGA"]
[{"$f":"IF(INTRO!$E$33<>0,INTRO!$E$33, \" \")","v":"Cameroun"},"Littoral","Melong",120692,16458.065999999999,{"$f":"IF(INTRO!$E$49=\"\",\"\",ROUND($D114*INTRO!$E$49,0))","v":31923},{"$f":"IF(INTRO!$E$50=\"\",\"\",ROUND($D114*INTRO!$E$50,0))","v":69482},99,1,3,2,1,{"$f":"IF(INTRO!$E$37=\"Endemic\",IF($H114>0,IF($H114=4,\"Unknown\",IF($H114=99,\"Stopped\",$D114)),0),\"Not required\")","v":"Stopped"},{"$f":"IF(INTRO!$E$39=\"Endemic\", IF($I114>0, IF($I114=4,\"Unknown\",IF($I114=99,\"Stopped\",$D114)), 0),\"Not required\")","v":120692},{"$f":"IF(INTRO!$E$41=\"Endemic\", IF($J114>1, IF($J114=4, \"Unknown\", IF($J114=99, \"Surveillance\", E114)), 0),\"Not required\")","v":16458.065999999999},{"$f":"IF(INTRO!$E$41=\"Endemic\", IF($J114>1, IF($J114=4, \"Unknown\", IF($J114=99, \"Surveillance\", F114)), 0),\"Not required\")","v":31923},{"$f":"IF(INTRO!$E$41=\"Endemic\", IF($J114>1, IF($J114=4, \"Unknown\", IF($J114=99, \"Surveillance\", ROUND(D114*INTRO!$E$51,0))), 0),\"Not required\")","v":4466},{"$f":"IF(INTRO!$E$41=\"Endemic\", IF($J114>1, IF($J114=4, \"Unknown\", IF($J114=99, \"Surveillance\", SUM($O114:$Q114))), 0),\"Not required\")","v":52847.065999999999},{"$f":"IF(INTRO!$E$43=\"Endemic\", IF($K114>1, IF($K114=4, \"Unknown\", IF($K114=99, \"Surveillance\", ROUND(E114*0.75,0))), 0),\"Not required\")","v":12344},{"$f":"IF(INTRO!$E$43=\"Endemic\", IF($K114>1, IF($K114=4, \"Unknown\", IF($K114=99, \"Surveillance\", F114)), 0),\"Not required\")","v":31923},{"$f":"IF(INTRO!$E$43=\"Endemic\", IF($K114>1, IF($K114=4, \"Unknown\", IF($K114=99, \"Surveillance\", G114)), 0),\"Not required\")","v":69482},{"$f":"IF(INTRO!$E$43=\"Endemic\", IF($K114>1, IF($K114=4, \"Unknown\", IF($K114=99, \"Surveillance\", SUM($S114:$U114))), 0),\"Not required\")","v":113749},0,1,1,1,null,"Yes",null,null,null,null,null,7517,"MELONG"]
[{"$f":"IF(INTRO!$E$33<>0,INTRO!$E$33, \" \")","v":"Cameroun"},"Littoral","Ndom",29605,3505.8420000000001,{"$f":"IF(INTRO!$E$49=\"\",\"\",ROUND($D115*INTRO!$E$49,0))","v":7831},{"$f":"IF(INTRO!$E$50=\"\",\"\",ROUND($D115*INTRO!$E$50,0))","v":17044},99,1,3,1,1,{"$f":"IF(INTRO!$E$37=\"Endemic\",IF($H115>0,IF($H115=4,\"Unknown\",IF($H115=99,\"Stopped\",$D115)),0),\"Not required\")","v":"Stopped"},{"$f":"IF(INTRO!$E$39=\"Endemic\", IF($I115>0, IF($I115=4,\"Unknown\",IF($I115=99,\"Stopped\",$D115)), 0),\"Not required\")","v":29605},{"$f":"IF(INTRO!$E$41=\"Endemic\", IF($J115>1, IF($J115=4, \"Unknown\", IF($J115=99, \"Surveillance\", E115)), 0),\"Not required\")","v":3505.8420000000001},{"$f":"IF(INTRO!$E$41=\"Endemic\", IF($J115>1, IF($J115=4, \"Unknown\", IF($J115=99, \"Surveillance\", F115)), 0),\"Not required\")","v":7831},{"$f":"IF(INTRO!$E$41=\"Endemic\", IF($J115>1, IF($J115=4, \"Unknown\", IF($J115=99, \"Surveillance\", ROUND(D115*INTRO!$E$51,0))), 0),\"Not required\")","v":1095},{"$f":"IF(INTRO!$E$41=\"Endemic\", IF($J115>1, IF($J115=4, \"Unknown\", IF($J115=99, \"Surveillance\", SUM($O115:$Q115))), 0),\"Not required\")","v":12431.842000000001},{"$f":"IF(INTRO!$E$43=\"Endemic\", IF($K115>1, IF($K115=4, \"Unknown\", IF($K115=99, \"Surveillance\", ROUND(E115*0.75,0))), 0),\"Not required\")","v":0},{"$f":"IF(INTRO!$E$43=\"Endemic\", IF($K115>1, IF($K115=4, \"Unknown\", IF($K115=99, \"Surveillance\", F115)), 0),\"Not required\")","v":0},{"$f":"IF(INTRO!$E$43=\"Endemic\", IF($K115>1, IF($K115=4, \"Unknown\", IF($K115=99, \"Surveillance\", G115)), 0),\"Not required\")","v":0},{"$f":"IF(INTRO!$E$43=\"Endemic\", IF($K115>1, IF($K115=4, \"Unknown\", IF($K115=99, \"Surveillance\", SUM($S115:$U115))), 0),\"Not required\")","v":0},0,1,1,0,null,"Yes",null,null,null,null,null,7518,"NDOM"]
[{"$f":"IF(INTRO!$E$33<>0,INTRO!$E$33, \" \")","v":"Cameroun"},"Littoral","New Bell",331570,34359.714,{"$f":"IF(INTRO!$E$49=\"\",\"\",ROUND($D116*INTRO!$E$49,0))","v":87700},{"$f":"IF(INTRO!$E$50=\"\",\"\",ROUND($D116*INTRO!$E$50,0))","v":190885},0,4,1,1,1,{"$f":"IF(INTRO!$E$37=\"Endemic\",IF($H116>0,IF($H116=4,\"Unknown\",IF($H116=99,\"Stopped\",$D116)),0),\"Not required\")","v":0},{"$f":"IF(INTRO!$E$39=\"Endemic\", IF($I116>0, IF($I116=4,\"Unknown\",IF($I116=99,\"Stopped\",$D116)), 0),\"Not required\")","v":"Unknown"},{"$f":"IF(INTRO!$E$41=\"Endemic\", IF($J116>1, IF($J116=4, \"Unknown\", IF($J116=99, \"Surveillance\", E116)), 0),\"Not required\")","v":0},{"$f":"IF(INTRO!$E$41=\"Endemic\", IF($J116>1, IF($J116=4, \"Unknown\", IF($J116=99, \"Surveillance\", F116)), 0),\"Not required\")","v":0},{"$f":"IF(INTRO!$E$41=\"Endemic\", IF($J116>1, IF($J116=4, \"Unknown\", IF($J116=99, \"Surveillance\", ROUND(D116*INTRO!$E$51,0))), 0),\"Not required\")","v":0},{"$f":"IF(INTRO!$E$41=\"Endemic\", IF($J116>1, IF($J116=4, \"Unknown\", IF($J116=99, \"Surveillance\", SUM($O116:$Q116))), 0),\"Not required\")","v":0},{"$f":"IF(INTRO!$E$43=\"Endemic\", IF($K116>1, IF($K116=4, \"Unknown\", IF($K116=99, \"Surveillance\", ROUND(E116*0.75,0))), 0),\"Not required\")","v":0},{"$f":"IF(INTRO!$E$43=\"Endemic\", IF($K116>1, IF($K116=4, \"Unknown\", IF($K116=99, \"Surveillance\", F116)), 0),\"Not required\")","v":0},{"$f":"IF(INTRO!$E$43=\"Endemic\", IF($K116>1, IF($K116=4, \"Unknown\", IF($K116=99, \"Surveillance\", G116)), 0),\"Not required\")","v":0},{"$f":"IF(INTRO!$E$43=\"Endemic\", IF($K116>1, IF($K116=4, \"Unknown\", IF($K116=99, \"Surveillance\", SUM($S116:$U116))), 0),\"Not required\")","v":0},0,0,0,0,null,"Yes",null,null,null,null,null,7519,"NEW BELL"]
[{"$f":"IF(INTRO!$E$33<>0,INTRO!$E$33, \" \")","v":"Cameroun"},"Littoral","Ngambe",16252,2084.8319999999999,{"$f":"IF(INTRO!$E$49=\"\",\"\",ROUND($D117*INTRO!$E$49,0))","v":4299},{"$f":"IF(INTRO!$E$50=\"\",\"\",ROUND($D117*INTRO!$E$50,0))","v":9356},99,1,3,1,1,{"$f":"IF(INTRO!$E$37=\"Endemic\",IF($H117>0,IF($H117=4,\"Unknown\",IF($H117=99,\"Stopped\",$D117)),0),\"Not required\")","v":"Stopped"},{"$f":"IF(INTRO!$E$39=\"Endemic\", IF($I117>0, IF($I117=4,\"Unknown\",IF($I117=99,\"Stopped\",$D117)), 0),\"Not required\")","v":16252},{"$f":"IF(INTRO!$E$41=\"Endemic\", IF($J117>1, IF($J117=4, \"Unknown\", IF($J117=99, \"Surveillance\", E117)), 0),\"Not required\")","v":2084.8319999999999},{"$f":"IF(INTRO!$E$41=\"Endemic\", IF($J117>1, IF($J117=4, \"Unknown\", IF($J117=99, \"Surveillance\", F117)), 0),\"Not required\")","v":4299},{"$f":"IF(INTRO!$E$41=\"Endemic\", IF($J117>1, IF($J117=4, \"Unknown\", IF($J117=99, \"Surveillance\", ROUND(D117*INTRO!$E$51,0))), 0),\"Not required\")","v":601},{"$f":"IF(INTRO!$E$41=\"Endemic\", IF($J117>1, IF($J117=4, \"Unknown\", IF($J117=99, \"Surveillance\", SUM($O117:$Q117))), 0),\"Not required\")","v":6984.8320000000003},{"$f":"IF(INTRO!$E$43=\"Endemic\", IF($K117>1, IF($K117=4, \"Unknown\", IF($K117=99, \"Surveillance\", ROUND(E117*0.75,0))), 0),\"Not required\")","v":0},{"$f":"IF(INTRO!$E$43=\"Endemic\", IF($K117>1, IF($K117=4, \"Unknown\", IF($K117=99, \"Surveillance\", F117)), 0),\"Not required\")","v":0},{"$f":"IF(INTRO!$E$43=\"Endemic\", IF($K117>1, IF($K117=4, \"Unknown\", IF($K117=99, \"Surveillance\", G117)), 0),\"Not required\")","v":0},{"$f":"IF(INTRO!$E$43=\"Endemic\", IF($K117>1, IF($K117=4, \"Unknown\", IF($K117=99, \"Surveillance\", SUM($S117:$U117))), 0),\"Not required\")","v":0},0,1,1,0,null,"Yes",null,null,null,null,null,7520,"NGAMBE"]
[{"$f":"IF(INTRO!$E$33<>0,INTRO!$E$33, \" \")","v":"Cameroun"},"Littoral","Njombe Penja",63313,11231.621999999999,{"$f":"IF(INTRO!$E$49=\"\",\"\",ROUND($D118*INTRO!$E$49,0))","v":16746},{"$f":"IF(INTRO!$E$50=\"\",\"\",ROUND($D118*INTRO!$E$50,0))","v":36449},99,1,3,3,1,{"$f":"IF(INTRO!$E$37=\"Endemic\",IF($H118>0,IF($H118=4,\"Unknown\",IF($H118=99,\"Stopped\",$D118)),0),\"Not required\")","v":"Stopped"},{"$f":"IF(INTRO!$E$39=\"Endemic\", IF($I118>0, IF($I118=4,\"Unknown\",IF($I118=99,\"Stopped\",$D118)), 0),\"Not required\")","v":63313},{"$f":"IF(INTRO!$E$41=\"Endemic\", IF($J118>1, IF($J118=4, \"Unknown\", IF($J118=99, \"Surveillance\", E118)), 0),\"Not required\")","v":11231.621999999999},{"$f":"IF(INTRO!$E$41=\"Endemic\", IF($J118>1, IF($J118=4, \"Unknown\", IF($J118=99, \"Surveillance\", F118)), 0),\"Not required\")","v":16746},{"$f":"IF(INTRO!$E$41=\"Endemic\", IF($J118>1, IF($J118=4, \"Unknown\", IF($J118=99, \"Surveillance\", ROUND(D118*INTRO!$E$51,0))), 0),\"Not required\")","v":2343},{"$f":"IF(INTRO!$E$41=\"Endemic\", IF($J118>1, IF($J118=4, \"Unknown\", IF($J118=99, \"Surveillance\", SUM($O118:$Q118))), 0),\"Not required\")","v":30320.621999999999},{"$f":"IF(INTRO!$E$43=\"Endemic\", IF($K118>1, IF($K118=4, \"Unknown\", IF($K118=99, \"Surveillance\", ROUND(E118*0.75,0))), 0),\"Not required\")","v":8424},{"$f":"IF(INTRO!$E$43=\"Endemic\", IF($K118>1, IF($K118=4, \"Unknown\", IF($K118=99, \"Surveillance\", F118)), 0),\"Not required\")","v":16746},{"$f":"IF(INTRO!$E$43=\"Endemic\", IF($K118>1, IF($K118=4, \"Unknown\", IF($K118=99, \"Surveillance\", G118)), 0),\"Not required\")","v":36449},{"$f":"IF(INTRO!$E$43=\"Endemic\", IF($K118>1, IF($K118=4, \"Unknown\", IF($K118=99, \"Surveillance\", SUM($S118:$U118))), 0),\"Not required\")","v":61619},0,1,1,1,null,"Yes",null,null,null,null,null,7521,"NJOMBE PENJA"]
[{"$f":"IF(INTRO!$E$33<>0,INTRO!$E$33, \" \")","v":"Cameroun"},"Littoral","Nkondjock",28720,4486.6980000000003,{"$f":"IF(INTRO!$E$49=\"\",\"\",ROUND($D119*INTRO!$E$49,0))","v":7596},{"$f":"IF(INTRO!$E$50=\"\",\"\",ROUND($D119*INTRO!$E$50,0))","v":16534},99,1,3,1,1,{"$f":"IF(INTRO!$E$37=\"Endemic\",IF($H119>0,IF($H119=4,\"Unknown\",IF($H119=99,\"Stopped\",$D119)),0),\"Not required\")","v":"Stopped"},{"$f":"IF(INTRO!$E$39=\"Endemic\", IF($I119>0, IF($I119=4,\"Unknown\",IF($I119=99,\"Stopped\",$D119)), 0),\"Not required\")","v":28720},{"$f":"IF(INTRO!$E$41=\"Endemic\", IF($J119>1, IF($J119=4, \"Unknown\", IF($J119=99, \"Surveillance\", E119)), 0),\"Not required\")","v":4486.6980000000003},{"$f":"IF(INTRO!$E$41=\"Endemic\", IF($J119>1, IF($J119=4, \"Unknown\", IF($J119=99, \"Surveillance\", F119)), 0),\"Not required\")","v":7596},{"$f":"IF(INTRO!$E$41=\"Endemic\", IF($J119>1, IF($J119=4, \"Unknown\", IF($J119=99, \"Surveillance\", ROUND(D119*INTRO!$E$51,0))), 0),\"Not required\")","v":1063},{"$f":"IF(INTRO!$E$41=\"Endemic\", IF($J119>1, IF($J119=4, \"Unknown\", IF($J119=99, \"Surveillance\", SUM($O119:$Q119))), 0),\"Not required\")","v":13145.698},{"$f":"IF(INTRO!$E$43=\"Endemic\", IF($K119>1, IF($K119=4, \"Unknown\", IF($K119=99, \"Surveillance\", ROUND(E119*0.75,0))), 0),\"Not required\")","v":0},{"$f":"IF(INTRO!$E$43=\"Endemic\", IF($K119>1, IF($K119=4, \"Unknown\", IF($K119=99, \"Surveillance\", F119)), 0),\"Not required\")","v":0},{"$f":"IF(INTRO!$E$43=\"Endemic\", IF($K119>1, IF($K119=4, \"Unknown\", IF($K119=99, \"Surveillance\", G119)), 0),\"Not required\")","v":0},{"$f":"IF(INTRO!$E$43=\"Endemic\", IF($K119>1, IF($K119=4, \"Unknown\", IF($K119=99, \"Surveillance\", SUM($S119:$U119))), 0),\"Not required\")","v":0},0,1,1,0,null,"Yes",null,null,null,null,null,7522,"NKONDJOCK"]
[{"$f":"IF(INTRO!$E$33<>0,INTRO!$E$33, \" \")","v":"Cameroun"},"Littoral","Nkongsamba",130263,16024.068000000001,{"$f":"IF(INTRO!$E$49=\"\",\"\",ROUND($D120*INTRO!$E$49,0))","v":34455},{"$f":"IF(INTRO!$E$50=\"\",\"\",ROUND($D120*INTRO!$E$50,0))","v":74992},99,1,3,0,1,{"$f":"IF(INTRO!$E$37=\"Endemic\",IF($H120>0,IF($H120=4,\"Unknown\",IF($H120=99,\"Stopped\",$D120)),0),\"Not required\")","v":"Stopped"},{"$f":"IF(INTRO!$E$39=\"Endemic\", IF($I120>0, IF($I120=4,\"Unknown\",IF($I120=99,\"Stopped\",$D120)), 0),\"Not required\")","v":130263},{"$f":"IF(INTRO!$E$41=\"Endemic\", IF($J120>1, IF($J120=4, \"Unknown\", IF($J120=99, \"Surveillance\", E120)), 0),\"Not required\")","v":16024.068000000001},{"$f":"IF(INTRO!$E$41=\"Endemic\", IF($J120>1, IF($J120=4, \"Unknown\", IF($J120=99, \"Surveillance\", F120)), 0),\"Not required\")","v":34455},{"$f":"IF(INTRO!$E$41=\"Endemic\", IF($J120>1, IF($J120=4, \"Unknown\", IF($J120=99, \"Surveillance\", ROUND(D120*INTRO!$E$51,0))), 0),\"Not required\")","v":4820},{"$f":"IF(INTRO!$E$41=\"Endemic\", IF($J120>1, IF($J120=4, \"Unknown\", IF($J120=99, \"Surveillance\", SUM($O120:$Q120))), 0),\"Not required\")","v":55299.067999999999},{"$f":"IF(INTRO!$E$43=\"Endemic\", IF($K120>1, IF($K120=4, \"Unknown\", IF($K120=99, \"Surveillance\", ROUND(E120*0.75,0))), 0),\"Not required\")","v":0},{"$f":"IF(INTRO!$E$43=\"Endemic\", IF($K120>1, IF($K120=4, \"Unknown\", IF($K120=99, \"Surveillance\", F120)), 0),\"Not required\")","v":0},{"$f":"IF(INTRO!$E$43=\"Endemic\", IF($K120>1, IF($K120=4, \"Unknown\", IF($K120=99, \"Surveillance\", G120)), 0),\"Not required\")","v":0},{"$f":"IF(INTRO!$E$43=\"Endemic\", IF($K120>1, IF($K120=4, \"Unknown\", IF($K120=99, \"Surveillance\", SUM($S120:$U120))), 0),\"Not required\")","v":0},0,1,1,0,null,"Yes",null,null,null,null,null,7523,"NKONGSAMBA"]
[{"$f":"IF(INTRO!$E$33<>0,INTRO!$E$33, \" \")","v":"Cameroun"},"Littoral","Nylon",473383,50965.523999999998,{"$f":"IF(INTRO!$E$49=\"\",\"\",ROUND($D121*INTRO!$E$49,0))","v":125210},{"$f":"IF(INTRO!$E$50=\"\",\"\",ROUND($D121*INTRO!$E$50,0))","v":272527},0,4,0,0,1,{"$f":"IF(INTRO!$E$37=\"Endemic\",IF($H121>0,IF($H121=4,\"Unknown\",IF($H121=99,\"Stopped\",$D121)),0),\"Not required\")","v":0},{"$f":"IF(INTRO!$E$39=\"Endemic\", IF($I121>0, IF($I121=4,\"Unknown\",IF($I121=99,\"Stopped\",$D121)), 0),\"Not required\")","v":"Unknown"},{"$f":"IF(INTRO!$E$41=\"Endemic\", IF($J121>1, IF($J121=4, \"Unknown\", IF($J121=99, \"Surveillance\", E121)), 0),\"Not required\")","v":0},{"$f":"IF(INTRO!$E$41=\"Endemic\", IF($J121>1, IF($J121=4, \"Unknown\", IF($J121=99, \"Surveillance\", F121)), 0),\"Not required\")","v":0},{"$f":"IF(INTRO!$E$41=\"Endemic\", IF($J121>1, IF($J121=4, \"Unknown\", IF($J121=99, \"Surveillance\", ROUND(D121*INTRO!$E$51,0))), 0),\"Not required\")","v":0},{"$f":"IF(INTRO!$E$41=\"Endemic\", IF($J121>1, IF($J121=4, \"Unknown\", IF($J121=99, \"Surveillance\", SUM($O121:$Q121))), 0),\"Not required\")","v":0},{"$f":"IF(INTRO!$E$43=\"Endemic\", IF($K121>1, IF($K121=4, \"Unknown\", IF($K121=99, \"Surveillance\", ROUND(E121*0.75,0))), 0),\"Not required\")","v":0},{"$f":"IF(INTRO!$E$43=\"Endemic\", IF($K121>1, IF($K121=4, \"Unknown\", IF($K121=99, \"Surveillance\", F121)), 0),\"Not required\")","v":0},{"$f":"IF(INTRO!$E$43=\"Endemic\", IF($K121>1, IF($K121=4, \"Unknown\", IF($K121=99, \"Surveillance\", G121)), 0),\"Not required\")","v":0},{"$f":"IF(INTRO!$E$43=\"Endemic\", IF($K121>1, IF($K121=4, \"Unknown\", IF($K121=99, \"Surveillance\", SUM($S121:$U121))), 0),\"Not required\")","v":0},0,0,0,0,null,"Yes",null,null,null,null,null,7524,"NYLON"]
[{"$f":"IF(INTRO!$E$33<>0,INTRO!$E$33, \" \")","v":"Cameroun"},"Littoral","Pouma",22093,2359.8000000000002,{"$f":"IF(INTRO!$E$49=\"\",\"\",ROUND($D122*INTRO!$E$49,0))","v":5844},{"$f":"IF(INTRO!$E$50=\"\",\"\",ROUND($D122*INTRO!$E$50,0))","v":12719},99,1,3,1,1,{"$f":"IF(INTRO!$E$37=\"Endemic\",IF($H122>0,IF($H122=4,\"Unknown\",IF($H122=99,\"Stopped\",$D122)),0),\"Not required\")","v":"Stopped"},{"$f":"IF(INTRO!$E$39=\"Endemic\", IF($I122>0, IF($I122=4,\"Unknown\",IF($I122=99,\"Stopped\",$D122)), 0),\"Not required\")","v":22093},{"$f":"IF(INTRO!$E$41=\"Endemic\", IF($J122>1, IF($J122=4, \"Unknown\", IF($J122=99, \"Surveillance\", E122)), 0),\"Not required\")","v":2359.8000000000002},{"$f":"IF(INTRO!$E$41=\"Endemic\", IF($J122>1, IF($J122=4, \"Unknown\", IF($J122=99, \"Surveillance\", F122)), 0),\"Not required\")","v":5844},{"$f":"IF(INTRO!$E$41=\"Endemic\", IF($J122>1, IF($J122=4, \"Unknown\", IF($J122=99, \"Surveillance\", ROUND(D122*INTRO!$E$51,0))), 0),\"Not required\")","v":817},{"$f":"IF(INTRO!$E$41=\"Endemic\", IF($J122>1, IF($J122=4, \"Unknown\", IF($J122=99, \"Surveillance\", SUM($O122:$Q122))), 0),\"Not required\")","v":9020.7999999999993},{"$f":"IF(INTRO!$E$43=\"Endemic\", IF($K122>1, IF($K122=4, \"Unknown\", IF($K122=99, \"Surveillance\", ROUND(E122*0.75,0))), 0),\"Not required\")","v":0},{"$f":"IF(INTRO!$E$43=\"Endemic\", IF($K122>1, IF($K122=4, \"Unknown\", IF($K122=99, \"Surveillance\", F122)), 0),\"Not required\")","v":0},{"$f":"IF(INTRO!$E$43=\"Endemic\", IF($K122>1, IF($K122=4, \"Unknown\", IF($K122=99, \"Surveillance\", G122)), 0),\"Not required\")","v":0},{"$f":"IF(INTRO!$E$43=\"Endemic\", IF($K122>1, IF($K122=4, \"Unknown\", IF($K122=99, \"Surveillance\", SUM($S122:$U122))), 0),\"Not required\")","v":0},0,1,1,0,null,"Yes",null,null,null,null,null,7525,"POUMA"]
[{"$f":"IF(INTRO!$E$33<>0,INTRO!$E$33, \" \")","v":"Cameroun"},"Littoral","Yabassi",26038,3458.6460000000002,{"$f":"IF(INTRO!$E$49=\"\",\"\",ROUND($D123*INTRO!$E$49,0))","v":6887},{"$f":"IF(INTRO!$E$50=\"\",\"\",ROUND($D123*INTRO!$E$50,0))","v":14990},99,1,3,1,1,{"$f":"IF(INTRO!$E$37=\"Endemic\",IF($H123>0,IF($H123=4,\"Unknown\",IF($H123=99,\"Stopped\",$D123)),0),\"Not required\")","v":"Stopped"},{"$f":"IF(INTRO!$E$39=\"Endemic\", IF($I123>0, IF($I123=4,\"Unknown\",IF($I123=99,\"Stopped\",$D123)), 0),\"Not required\")","v":26038},{"$f":"IF(INTRO!$E$41=\"Endemic\", IF($J123>1, IF($J123=4, \"Unknown\", IF($J123=99, \"Surveillance\", E123)), 0),\"Not required\")","v":3458.6460000000002},{"$f":"IF(INTRO!$E$41=\"Endemic\", IF($J123>1, IF($J123=4, \"Unknown\", IF($J123=99, \"Surveillance\", F123)), 0),\"Not required\")","v":6887},{"$f":"IF(INTRO!$E$41=\"Endemic\", IF($J123>1, IF($J123=4, \"Unknown\", IF($J123=99, \"Surveillance\", ROUND(D123*INTRO!$E$51,0))), 0),\"Not required\")","v":963},{"$f":"IF(INTRO!$E$41=\"Endemic\", IF($J123>1, IF($J123=4, \"Unknown\", IF($J123=99, \"Surveillance\", SUM($O123:$Q123))), 0),\"Not required\")","v":11308.646000000001},{"$f":"IF(INTRO!$E$43=\"Endemic\", IF($K123>1, IF($K123=4, \"Unknown\", IF($K123=99, \"Surveillance\", ROUND(E123*0.75,0))), 0),\"Not required\")","v":0},{"$f":"IF(INTRO!$E$43=\"Endemic\", IF($K123>1, IF($K123=4, \"Unknown\", IF($K123=99, \"Surveillance\", F123)), 0),\"Not required\")","v":0},{"$f":"IF(INTRO!$E$43=\"Endemic\", IF($K123>1, IF($K123=4, \"Unknown\", IF($K123=99, \"Surveillance\", G123)), 0),\"Not required\")","v":0},{"$f":"IF(INTRO!$E$43=\"Endemic\", IF($K123>1, IF($K123=4, \"Unknown\", IF($K123=99, \"Surveillance\", SUM($S123:$U123))), 0),\"Not required\")","v":0},0,1,1,0,null,"Yes",null,null,null,null,null,7526,"YABASSI"]
[{"$f":"IF(INTRO!$E$33<>0,INTRO!$E$33, \" \")","v":"Cameroun"},"Nord","Bibemi",178429,43620.39,{"$f":"IF(INTRO!$E$49=\"\",\"\",ROUND($D124*INTRO!$E$49,0))","v":47194},{"$f":"IF(INTRO!$E$50=\"\",\"\",ROUND($D124*INTRO!$E$50,0))","v":102722},99,4,2,3,0,{"$f":"IF(INTRO!$E$37=\"Endemic\",IF($H124>0,IF($H124=4,\"Unknown\",IF($H124=99,\"Stopped\",$D124)),0),\"Not required\")","v":"Stopped"},{"$f":"IF(INTRO!$E$39=\"Endemic\", IF($I124>0, IF($I124=4,\"Unknown\",IF($I124=99,\"Stopped\",$D124)), 0),\"Not required\")","v":"Unknown"},{"$f":"IF(INTRO!$E$41=\"Endemic\", IF($J124>1, IF($J124=4, \"Unknown\", IF($J124=99, \"Surveillance\", E124)), 0),\"Not required\")","v":43620.39},{"$f":"IF(INTRO!$E$41=\"Endemic\", IF($J124>1, IF($J124=4, \"Unknown\", IF($J124=99, \"Surveillance\", F124)), 0),\"Not required\")","v":47194},{"$f":"IF(INTRO!$E$41=\"Endemic\", IF($J124>1, IF($J124=4, \"Unknown\", IF($J124=99, \"Surveillance\", ROUND(D124*INTRO!$E$51,0))), 0),\"Not required\")","v":6602},{"$f":"IF(INTRO!$E$41=\"Endemic\", IF($J124>1, IF($J124=4, \"Unknown\", IF($J124=99, \"Surveillance\", SUM($O124:$Q124))), 0),\"Not required\")","v":97416.39},{"$f":"IF(INTRO!$E$43=\"Endemic\", IF($K124>1, IF($K124=4, \"Unknown\", IF($K124=99, \"Surveillance\", ROUND(E124*0.75,0))), 0),\"Not required\")","v":32715},{"$f":"IF(INTRO!$E$43=\"Endemic\", IF($K124>1, IF($K124=4, \"Unknown\", IF($K124=99, \"Surveillance\", F124)), 0),\"Not required\")","v":47194},{"$f":"IF(INTRO!$E$43=\"Endemic\", IF($K124>1, IF($K124=4, \"Unknown\", IF($K124=99, \"Surveillance\", G124)), 0),\"Not required\")","v":102722},{"$f":"IF(INTRO!$E$43=\"Endemic\", IF($K124>1, IF($K124=4, \"Unknown\", IF($K124=99, \"Surveillance\", SUM($S124:$U124))), 0),\"Not required\")","v":182631},0,0,1,1,null,"Yes",null,null,null,null,null,7527,"BIBEMI"]
[{"$f":"IF(INTRO!$E$33<>0,INTRO!$E$33, \" \")","v":"Cameroun"},"Nord","Figuil",110739,19954.673999999999,{"$f":"IF(INTRO!$E$49=\"\",\"\",ROUND($D125*INTRO!$E$49,0))","v":29290},{"$f":"IF(INTRO!$E$50=\"\",\"\",ROUND($D125*INTRO!$E$50,0))","v":63752},99,4,2,3,0,{"$f":"IF(INTRO!$E$37=\"Endemic\",IF($H125>0,IF($H125=4,\"Unknown\",IF($H125=99,\"Stopped\",$D125)),0),\"Not required\")","v":"Stopped"},{"$f":"IF(INTRO!$E$39=\"Endemic\", IF($I125>0, IF($I125=4,\"Unknown\",IF($I125=99,\"Stopped\",$D125)), 0),\"Not required\")","v":"Unknown"},{"$f":"IF(INTRO!$E$41=\"Endemic\", IF($J125>1, IF($J125=4, \"Unknown\", IF($J125=99, \"Surveillance\", E125)), 0),\"Not required\")","v":19954.673999999999},{"$f":"IF(INTRO!$E$41=\"Endemic\", IF($J125>1, IF($J125=4, \"Unknown\", IF($J125=99, \"Surveillance\", F125)), 0),\"Not required\")","v":29290},{"$f":"IF(INTRO!$E$41=\"Endemic\", IF($J125>1, IF($J125=4, \"Unknown\", IF($J125=99, \"Surveillance\", ROUND(D125*INTRO!$E$51,0))), 0),\"Not required\")","v":4097},{"$f":"IF(INTRO!$E$41=\"Endemic\", IF($J125>1, IF($J125=4, \"Unknown\", IF($J125=99, \"Surveillance\", SUM($O125:$Q125))), 0),\"Not required\")","v":53341.673999999999},{"$f":"IF(INTRO!$E$43=\"Endemic\", IF($K125>1, IF($K125=4, \"Unknown\", IF($K125=99, \"Surveillance\", ROUND(E125*0.75,0))), 0),\"Not required\")","v":14966},{"$f":"IF(INTRO!$E$43=\"Endemic\", IF($K125>1, IF($K125=4, \"Unknown\", IF($K125=99, \"Surveillance\", F125)), 0),\"Not required\")","v":29290},{"$f":"IF(INTRO!$E$43=\"Endemic\", IF($K125>1, IF($K125=4, \"Unknown\", IF($K125=99, \"Surveillance\", G125)), 0),\"Not required\")","v":63752},{"$f":"IF(INTRO!$E$43=\"Endemic\", IF($K125>1, IF($K125=4, \"Unknown\", IF($K125=99, \"Surveillance\", SUM($S125:$U125))), 0),\"Not required\")","v":108008},0,0,1,1,null,"Yes",null,null,null,null,null,7528,"FIGUIL"]
[{"$f":"IF(INTRO!$E$33<>0,INTRO!$E$33, \" \")","v":"Cameroun"},"Nord","Garoua I",319428,66593.555999999997,{"$f":"IF(INTRO!$E$49=\"\",\"\",ROUND($D126*INTRO!$E$49,0))","v":84489},{"$f":"IF(INTRO!$E$50=\"\",\"\",ROUND($D126*INTRO!$E$50,0))","v":183895},99,4,1,2,0,{"$f":"IF(INTRO!$E$37=\"Endemic\",IF($H126>0,IF($H126=4,\"Unknown\",IF($H126=99,\"Stopped\",$D126)),0),\"Not required\")","v":"Stopped"},{"$f":"IF(INTRO!$E$39=\"Endemic\", IF($I126>0, IF($I126=4,\"Unknown\",IF($I126=99,\"Stopped\",$D126)), 0),\"Not required\")","v":"Unknown"},{"$f":"IF(INTRO!$E$41=\"Endemic\", IF($J126>1, IF($J126=4, \"Unknown\", IF($J126=99, \"Surveillance\", E126)), 0),\"Not required\")","v":0},{"$f":"IF(INTRO!$E$41=\"Endemic\", IF($J126>1, IF($J126=4, \"Unknown\", IF($J126=99, \"Surveillance\", F126)), 0),\"Not required\")","v":0},{"$f":"IF(INTRO!$E$41=\"Endemic\", IF($J126>1, IF($J126=4, \"Unknown\", IF($J126=99, \"Surveillance\", ROUND(D126*INTRO!$E$51,0))), 0),\"Not required\")","v":0},{"$f":"IF(INTRO!$E$41=\"Endemic\", IF($J126>1, IF($J126=4, \"Unknown\", IF($J126=99, \"Surveillance\", SUM($O126:$Q126))), 0),\"Not required\")","v":0},{"$f":"IF(INTRO!$E$43=\"Endemic\", IF($K126>1, IF($K126=4, \"Unknown\", IF($K126=99, \"Surveillance\", ROUND(E126*0.75,0))), 0),\"Not required\")","v":49945},{"$f":"IF(INTRO!$E$43=\"Endemic\", IF($K126>1, IF($K126=4, \"Unknown\", IF($K126=99, \"Surveillance\", F126)), 0),\"Not required\")","v":84489},{"$f":"IF(INTRO!$E$43=\"Endemic\", IF($K126>1, IF($K126=4, \"Unknown\", IF($K126=99, \"Surveillance\", G126)), 0),\"Not required\")","v":183895},{"$f":"IF(INTRO!$E$43=\"Endemic\", IF($K126>1, IF($K126=4, \"Unknown\", IF($K126=99, \"Surveillance\", SUM($S126:$U126))), 0),\"Not required\")","v":318329},0,0,0,1,null,"Yes",null,null,null,null,null,7529,"GAROUA I"]
[{"$f":"IF(INTRO!$E$33<>0,INTRO!$E$33, \" \")","v":"Cameroun"},"Nord","Garoua II",348352,71163.360000000001,{"$f":"IF(INTRO!$E$49=\"\",\"\",ROUND($D127*INTRO!$E$49,0))","v":92139},{"$f":"IF(INTRO!$E$50=\"\",\"\",ROUND($D127*INTRO!$E$50,0))","v":200546},99,4,1,2,0,{"$f":"IF(INTRO!$E$37=\"Endemic\",IF($H127>0,IF($H127=4,\"Unknown\",IF($H127=99,\"Stopped\",$D127)),0),\"Not required\")","v":"Stopped"},{"$f":"IF(INTRO!$E$39=\"Endemic\", IF($I127>0, IF($I127=4,\"Unknown\",IF($I127=99,\"Stopped\",$D127)), 0),\"Not required\")","v":"Unknown"},{"$f":"IF(INTRO!$E$41=\"Endemic\", IF($J127>1, IF($J127=4, \"Unknown\", IF($J127=99, \"Surveillance\", E127)), 0),\"Not required\")","v":0},{"$f":"IF(INTRO!$E$41=\"Endemic\", IF($J127>1, IF($J127=4, \"Unknown\", IF($J127=99, \"Surveillance\", F127)), 0),\"Not required\")","v":0},{"$f":"IF(INTRO!$E$41=\"Endemic\", IF($J127>1, IF($J127=4, \"Unknown\", IF($J127=99, \"Surveillance\", ROUND(D127*INTRO!$E$51,0))), 0),\"Not required\")","v":0},{"$f":"IF(INTRO!$E$41=\"Endemic\", IF($J127>1, IF($J127=4, \"Unknown\", IF($J127=99, \"Surveillance\", SUM($O127:$Q127))), 0),\"Not required\")","v":0},{"$f":"IF(INTRO!$E$43=\"Endemic\", IF($K127>1, IF($K127=4, \"Unknown\", IF($K127=99, \"Surveillance\", ROUND(E127*0.75,0))), 0),\"Not required\")","v":53373},{"$f":"IF(INTRO!$E$43=\"Endemic\", IF($K127>1, IF($K127=4, \"Unknown\", IF($K127=99, \"Surveillance\", F127)), 0),\"Not required\")","v":92139},{"$f":"IF(INTRO!$E$43=\"Endemic\", IF($K127>1, IF($K127=4, \"Unknown\", IF($K127=99, \"Surveillance\", G127)), 0),\"Not required\")","v":200546},{"$f":"IF(INTRO!$E$43=\"Endemic\", IF($K127>1, IF($K127=4, \"Unknown\", IF($K127=99, \"Surveillance\", SUM($S127:$U127))), 0),\"Not required\")","v":346058},0,0,0,1,null,"Yes",null,null,null,null,null,7530,"GAROUA II"]
[{"$f":"IF(INTRO!$E$33<>0,INTRO!$E$33, \" \")","v":"Cameroun"},"Nord","Gaschiga",163539,35641.188000000002,{"$f":"IF(INTRO!$E$49=\"\",\"\",ROUND($D128*INTRO!$E$49,0))","v":43256},{"$f":"IF(INTRO!$E$50=\"\",\"\",ROUND($D128*INTRO!$E$50,0))","v":94149},99,4,1,3,0,{"$f":"IF(INTRO!$E$37=\"Endemic\",IF($H128>0,IF($H128=4,\"Unknown\",IF($H128=99,\"Stopped\",$D128)),0),\"Not required\")","v":"Stopped"},{"$f":"IF(INTRO!$E$39=\"Endemic\", IF($I128>0, IF($I128=4,\"Unknown\",IF($I128=99,\"Stopped\",$D128)), 0),\"Not required\")","v":"Unknown"},{"$f":"IF(INTRO!$E$41=\"Endemic\", IF($J128>1, IF($J128=4, \"Unknown\", IF($J128=99, \"Surveillance\", E128)), 0),\"Not required\")","v":0},{"$f":"IF(INTRO!$E$41=\"Endemic\", IF($J128>1, IF($J128=4, \"Unknown\", IF($J128=99, \"Surveillance\", F128)), 0),\"Not required\")","v":0},{"$f":"IF(INTRO!$E$41=\"Endemic\", IF($J128>1, IF($J128=4, \"Unknown\", IF($J128=99, \"Surveillance\", ROUND(D128*INTRO!$E$51,0))), 0),\"Not required\")","v":0},{"$f":"IF(INTRO!$E$41=\"Endemic\", IF($J128>1, IF($J128=4, \"Unknown\", IF($J128=99, \"Surveillance\", SUM($O128:$Q128))), 0),\"Not required\")","v":0},{"$f":"IF(INTRO!$E$43=\"Endemic\", IF($K128>1, IF($K128=4, \"Unknown\", IF($K128=99, \"Surveillance\", ROUND(E128*0.75,0))), 0),\"Not required\")","v":26731},{"$f":"IF(INTRO!$E$43=\"Endemic\", IF($K128>1, IF($K128=4, \"Unknown\", IF($K128=99, \"Surveillance\", F128)), 0),\"Not required\")","v":43256},{"$f":"IF(INTRO!$E$43=\"Endemic\", IF($K128>1, IF($K128=4, \"Unknown\", IF($K128=99, \"Surveillance\", G128)), 0),\"Not required\")","v":94149},{"$f":"IF(INTRO!$E$43=\"Endemic\", IF($K128>1, IF($K128=4, \"Unknown\", IF($K128=99, \"Surveillance\", SUM($S128:$U128))), 0),\"Not required\")","v":164136},0,0,0,1,null,"Yes",null,null,null,null,null,7531,"GASCHIGA"]
[{"$f":"IF(INTRO!$E$33<>0,INTRO!$E$33, \" \")","v":"Cameroun"},"Nord","Golombe",73466,24760.458000000002,{"$f":"IF(INTRO!$E$49=\"\",\"\",ROUND($D129*INTRO!$E$49,0))","v":19432},{"$f":"IF(INTRO!$E$50=\"\",\"\",ROUND($D129*INTRO!$E$50,0))","v":42294},99,4,1,2,0,{"$f":"IF(INTRO!$E$37=\"Endemic\",IF($H129>0,IF($H129=4,\"Unknown\",IF($H129=99,\"Stopped\",$D129)),0),\"Not required\")","v":"Stopped"},{"$f":"IF(INTRO!$E$39=\"Endemic\", IF($I129>0, IF($I129=4,\"Unknown\",IF($I129=99,\"Stopped\",$D129)), 0),\"Not required\")","v":"Unknown"},{"$f":"IF(INTRO!$E$41=\"Endemic\", IF($J129>1, IF($J129=4, \"Unknown\", IF($J129=99, \"Surveillance\", E129)), 0),\"Not required\")","v":0},{"$f":"IF(INTRO!$E$41=\"Endemic\", IF($J129>1, IF($J129=4, \"Unknown\", IF($J129=99, \"Surveillance\", F129)), 0),\"Not required\")","v":0},{"$f":"IF(INTRO!$E$41=\"Endemic\", IF($J129>1, IF($J129=4, \"Unknown\", IF($J129=99, \"Surveillance\", ROUND(D129*INTRO!$E$51,0))), 0),\"Not required\")","v":0},{"$f":"IF(INTRO!$E$41=\"Endemic\", IF($J129>1, IF($J129=4, \"Unknown\", IF($J129=99, \"Surveillance\", SUM($O129:$Q129))), 0),\"Not required\")","v":0},{"$f":"IF(INTRO!$E$43=\"Endemic\", IF($K129>1, IF($K129=4, \"Unknown\", IF($K129=99, \"Surveillance\", ROUND(E129*0.75,0))), 0),\"Not required\")","v":18570},{"$f":"IF(INTRO!$E$43=\"Endemic\", IF($K129>1, IF($K129=4, \"Unknown\", IF($K129=99, \"Surveillance\", F129)), 0),\"Not required\")","v":19432},{"$f":"IF(INTRO!$E$43=\"Endemic\", IF($K129>1, IF($K129=4, \"Unknown\", IF($K129=99, \"Surveillance\", G129)), 0),\"Not required\")","v":42294},{"$f":"IF(INTRO!$E$43=\"Endemic\", IF($K129>1, IF($K129=4, \"Unknown\", IF($K129=99, \"Surveillance\", SUM($S129:$U129))), 0),\"Not required\")","v":80296},0,0,0,1,null,"Yes",null,null,null,null,null,7532,"GOLOMBE"]
[{"$f":"IF(INTRO!$E$33<>0,INTRO!$E$33, \" \")","v":"Cameroun"},"Nord","Guider",268725,66834.665999999997,{"$f":"IF(INTRO!$E$49=\"\",\"\",ROUND($D130*INTRO!$E$49,0))","v":71078},{"$f":"IF(INTRO!$E$50=\"\",\"\",ROUND($D130*INTRO!$E$50,0))","v":154705},99,4,2,3,0,{"$f":"IF(INTRO!$E$37=\"Endemic\",IF($H130>0,IF($H130=4,\"Unknown\",IF($H130=99,\"Stopped\",$D130)),0),\"Not required\")","v":"Stopped"},{"$f":"IF(INTRO!$E$39=\"Endemic\", IF($I130>0, IF($I130=4,\"Unknown\",IF($I130=99,\"Stopped\",$D130)), 0),\"Not required\")","v":"Unknown"},{"$f":"IF(INTRO!$E$41=\"Endemic\", IF($J130>1, IF($J130=4, \"Unknown\", IF($J130=99, \"Surveillance\", E130)), 0),\"Not required\")","v":66834.665999999997},{"$f":"IF(INTRO!$E$41=\"Endemic\", IF($J130>1, IF($J130=4, \"Unknown\", IF($J130=99, \"Surveillance\", F130)), 0),\"Not required\")","v":71078},{"$f":"IF(INTRO!$E$41=\"Endemic\", IF($J130>1, IF($J130=4, \"Unknown\", IF($J130=99, \"Surveillance\", ROUND(D130*INTRO!$E$51,0))), 0),\"Not required\")","v":9943},{"$f":"IF(INTRO!$E$41=\"Endemic\", IF($J130>1, IF($J130=4, \"Unknown\", IF($J130=99, \"Surveillance\", SUM($O130:$Q130))), 0),\"Not required\")","v":147855.666},{"$f":"IF(INTRO!$E$43=\"Endemic\", IF($K130>1, IF($K130=4, \"Unknown\", IF($K130=99, \"Surveillance\", ROUND(E130*0.75,0))), 0),\"Not required\")","v":50126},{"$f":"IF(INTRO!$E$43=\"Endemic\", IF($K130>1, IF($K130=4, \"Unknown\", IF($K130=99, \"Surveillance\", F130)), 0),\"Not required\")","v":71078},{"$f":"IF(INTRO!$E$43=\"Endemic\", IF($K130>1, IF($K130=4, \"Unknown\", IF($K130=99, \"Surveillance\", G130)), 0),\"Not required\")","v":154705},{"$f":"IF(INTRO!$E$43=\"Endemic\", IF($K130>1, IF($K130=4, \"Unknown\", IF($K130=99, \"Surveillance\", SUM($S130:$U130))), 0),\"Not required\")","v":275909},0,0,1,1,null,"Yes",null,null,null,null,null,7533,"GUIDER"]
[{"$f":"IF(INTRO!$E$33<>0,INTRO!$E$33, \" \")","v":"Cameroun"},"Nord","Lagdo",242276,39045.455999999998,{"$f":"IF(INTRO!$E$49=\"\",\"\",ROUND($D131*INTRO!$E$49,0))","v":64082},{"$f":"IF(INTRO!$E$50=\"\",\"\",ROUND($D131*INTRO!$E$50,0))","v":139478},99,1,0,3,0,{"$f":"IF(INTRO!$E$37=\"Endemic\",IF($H131>0,IF($H131=4,\"Unknown\",IF($H131=99,\"Stopped\",$D131)),0),\"Not required\")","v":"Stopped"},{"$f":"IF(INTRO!$E$39=\"Endemic\", IF($I131>0, IF($I131=4,\"Unknown\",IF($I131=99,\"Stopped\",$D131)), 0),\"Not required\")","v":242276},{"$f":"IF(INTRO!$E$41=\"Endemic\", IF($J131>1, IF($J131=4, \"Unknown\", IF($J131=99, \"Surveillance\", E131)), 0),\"Not required\")","v":0},{"$f":"IF(INTRO!$E$41=\"Endemic\", IF($J131>1, IF($J131=4, \"Unknown\", IF($J131=99, \"Surveillance\", F131)), 0),\"Not required\")","v":0},{"$f":"IF(INTRO!$E$41=\"Endemic\", IF($J131>1, IF($J131=4, \"Unknown\", IF($J131=99, \"Surveillance\", ROUND(D131*INTRO!$E$51,0))), 0),\"Not required\")","v":0},{"$f":"IF(INTRO!$E$41=\"Endemic\", IF($J131>1, IF($J131=4, \"Unknown\", IF($J131=99, \"Surveillance\", SUM($O131:$Q131))), 0),\"Not required\")","v":0},{"$f":"IF(INTRO!$E$43=\"Endemic\", IF($K131>1, IF($K131=4, \"Unknown\", IF($K131=99, \"Surveillance\", ROUND(E131*0.75,0))), 0),\"Not required\")","v":29284},{"$f":"IF(INTRO!$E$43=\"Endemic\", IF($K131>1, IF($K131=4, \"Unknown\", IF($K131=99, \"Surveillance\", F131)), 0),\"Not required\")","v":64082},{"$f":"IF(INTRO!$E$43=\"Endemic\", IF($K131>1, IF($K131=4, \"Unknown\", IF($K131=99, \"Surveillance\", G131)), 0),\"Not required\")","v":139478},{"$f":"IF(INTRO!$E$43=\"Endemic\", IF($K131>1, IF($K131=4, \"Unknown\", IF($K131=99, \"Surveillance\", SUM($S131:$U131))), 0),\"Not required\")","v":232844},0,1,0,1,null,"Yes",null,null,null,null,null,7534,"LAGDO"]
[{"$f":"IF(INTRO!$E$33<>0,INTRO!$E$33, \" \")","v":"Cameroun"},"Nord","Mayo Oulo",159525,57122.55,{"$f":"IF(INTRO!$E$49=\"\",\"\",ROUND($D132*INTRO!$E$49,0))","v":42194},{"$f":"IF(INTRO!$E$50=\"\",\"\",ROUND($D132*INTRO!$E$50,0))","v":91839},99,4,2,3,0,{"$f":"IF(INTRO!$E$37=\"Endemic\",IF($H132>0,IF($H132=4,\"Unknown\",IF($H132=99,\"Stopped\",$D132)),0),\"Not required\")","v":"Stopped"},{"$f":"IF(INTRO!$E$39=\"Endemic\", IF($I132>0, IF($I132=4,\"Unknown\",IF($I132=99,\"Stopped\",$D132)), 0),\"Not required\")","v":"Unknown"},{"$f":"IF(INTRO!$E$41=\"Endemic\", IF($J132>1, IF($J132=4, \"Unknown\", IF($J132=99, \"Surveillance\", E132)), 0),\"Not required\")","v":57122.55},{"$f":"IF(INTRO!$E$41=\"Endemic\", IF($J132>1, IF($J132=4, \"Unknown\", IF($J132=99, \"Surveillance\", F132)), 0),\"Not required\")","v":42194},{"$f":"IF(INTRO!$E$41=\"Endemic\", IF($J132>1, IF($J132=4, \"Unknown\", IF($J132=99, \"Surveillance\", ROUND(D132*INTRO!$E$51,0))), 0),\"Not required\")","v":5902},{"$f":"IF(INTRO!$E$41=\"Endemic\", IF($J132>1, IF($J132=4, \"Unknown\", IF($J132=99, \"Surveillance\", SUM($O132:$Q132))), 0),\"Not required\")","v":105218.55},{"$f":"IF(INTRO!$E$43=\"Endemic\", IF($K132>1, IF($K132=4, \"Unknown\", IF($K132=99, \"Surveillance\", ROUND(E132*0.75,0))), 0),\"Not required\")","v":42842},{"$f":"IF(INTRO!$E$43=\"Endemic\", IF($K132>1, IF($K132=4, \"Unknown\", IF($K132=99, \"Surveillance\", F132)), 0),\"Not required\")","v":42194},{"$f":"IF(INTRO!$E$43=\"Endemic\", IF($K132>1, IF($K132=4, \"Unknown\", IF($K132=99, \"Surveillance\", G132)), 0),\"Not required\")","v":91839},{"$f":"IF(INTRO!$E$43=\"Endemic\", IF($K132>1, IF($K132=4, \"Unknown\", IF($K132=99, \"Surveillance\", SUM($S132:$U132))), 0),\"Not required\")","v":176875},0,0,1,1,null,"Yes",null,null,null,null,null,7535,"MAYO OULO"]
[{"$f":"IF(INTRO!$E$33<>0,INTRO!$E$33, \" \")","v":"Cameroun"},"Nord","Ngong",301714,79544.754000000001,{"$f":"IF(INTRO!$E$49=\"\",\"\",ROUND($D133*INTRO!$E$49,0))","v":79803},{"$f":"IF(INTRO!$E$50=\"\",\"\",ROUND($D133*INTRO!$E$50,0))","v":173697},99,1,2,2,0,{"$f":"IF(INTRO!$E$37=\"Endemic\",IF($H133>0,IF($H133=4,\"Unknown\",IF($H133=99,\"Stopped\",$D133)),0),\"Not required\")","v":"Stopped"},{"$f":"IF(INTRO!$E$39=\"Endemic\", IF($I133>0, IF($I133=4,\"Unknown\",IF($I133=99,\"Stopped\",$D133)), 0),\"Not required\")","v":301714},{"$f":"IF(INTRO!$E$41=\"Endemic\", IF($J133>1, IF($J133=4, \"Unknown\", IF($J133=99, \"Surveillance\", E133)), 0),\"Not required\")","v":79544.754000000001},{"$f":"IF(INTRO!$E$41=\"Endemic\", IF($J133>1, IF($J133=4, \"Unknown\", IF($J133=99, \"Surveillance\", F133)), 0),\"Not required\")","v":79803},{"$f":"IF(INTRO!$E$41=\"Endemic\", IF($J133>1, IF($J133=4, \"Unknown\", IF($J133=99, \"Surveillance\", ROUND(D133*INTRO!$E$51,0))), 0),\"Not required\")","v":11163},{"$f":"IF(INTRO!$E$41=\"Endemic\", IF($J133>1, IF($J133=4, \"Unknown\", IF($J133=99, \"Surveillance\", SUM($O133:$Q133))), 0),\"Not required\")","v":170510.75400000002},{"$f":"IF(INTRO!$E$43=\"Endemic\", IF($K133>1, IF($K133=4, \"Unknown\", IF($K133=99, \"Surveillance\", ROUND(E133*0.75,0))), 0),\"Not required\")","v":59659},{"$f":"IF(INTRO!$E$43=\"Endemic\", IF($K133>1, IF($K133=4, \"Unknown\", IF($K133=99, \"Surveillance\", F133)), 0),\"Not required\")","v":79803},{"$f":"IF(INTRO!$E$43=\"Endemic\", IF($K133>1, IF($K133=4, \"Unknown\", IF($K133=99, \"Surveillance\", G133)), 0),\"Not required\")","v":173697},{"$f":"IF(INTRO!$E$43=\"Endemic\", IF($K133>1, IF($K133=4, \"Unknown\", IF($K133=99, \"Surveillance\", SUM($S133:$U133))), 0),\"Not required\")","v":313159},0,1,1,1,null,"Yes",null,null,null,null,null,7536,"NGONG"]
[{"$f":"IF(INTRO!$E$33<>0,INTRO!$E$33, \" \")","v":"Cameroun"},"Nord","Pitoa",175013,38887.451999999997,{"$f":"IF(INTRO!$E$49=\"\",\"\",ROUND($D134*INTRO!$E$49,0))","v":46291},{"$f":"IF(INTRO!$E$50=\"\",\"\",ROUND($D134*INTRO!$E$50,0))","v":100755},99,4,1,3,0,{"$f":"IF(INTRO!$E$37=\"Endemic\",IF($H134>0,IF($H134=4,\"Unknown\",IF($H134=99,\"Stopped\",$D134)),0),\"Not required\")","v":"Stopped"},{"$f":"IF(INTRO!$E$39=\"Endemic\", IF($I134>0, IF($I134=4,\"Unknown\",IF($I134=99,\"Stopped\",$D134)), 0),\"Not required\")","v":"Unknown"},{"$f":"IF(INTRO!$E$41=\"Endemic\", IF($J134>1, IF($J134=4, \"Unknown\", IF($J134=99, \"Surveillance\", E134)), 0),\"Not required\")","v":0},{"$f":"IF(INTRO!$E$41=\"Endemic\", IF($J134>1, IF($J134=4, \"Unknown\", IF($J134=99, \"Surveillance\", F134)), 0),\"Not required\")","v":0},{"$f":"IF(INTRO!$E$41=\"Endemic\", IF($J134>1, IF($J134=4, \"Unknown\", IF($J134=99, \"Surveillance\", ROUND(D134*INTRO!$E$51,0))), 0),\"Not required\")","v":0},{"$f":"IF(INTRO!$E$41=\"Endemic\", IF($J134>1, IF($J134=4, \"Unknown\", IF($J134=99, \"Surveillance\", SUM($O134:$Q134))), 0),\"Not required\")","v":0},{"$f":"IF(INTRO!$E$43=\"Endemic\", IF($K134>1, IF($K134=4, \"Unknown\", IF($K134=99, \"Surveillance\", ROUND(E134*0.75,0))), 0),\"Not required\")","v":29166},{"$f":"IF(INTRO!$E$43=\"Endemic\", IF($K134>1, IF($K134=4, \"Unknown\", IF($K134=99, \"Surveillance\", F134)), 0),\"Not required\")","v":46291},{"$f":"IF(INTRO!$E$43=\"Endemic\", IF($K134>1, IF($K134=4, \"Unknown\", IF($K134=99, \"Surveillance\", G134)), 0),\"Not required\")","v":100755},{"$f":"IF(INTRO!$E$43=\"Endemic\", IF($K134>1, IF($K134=4, \"Unknown\", IF($K134=99, \"Surveillance\", SUM($S134:$U134))), 0),\"Not required\")","v":176212},0,0,0,1,null,"Yes",null,null,null,null,null,7537,"PITOA"]
[{"$f":"IF(INTRO!$E$33<>0,INTRO!$E$33, \" \")","v":"Cameroun"},"Nord","Poli",126657,28684.907999999999,{"$f":"IF(INTRO!$E$49=\"\",\"\",ROUND($D135*INTRO!$E$49,0))","v":33501},{"$f":"IF(INTRO!$E$50=\"\",\"\",ROUND($D135*INTRO!$E$50,0))","v":72916},99,1,2,3,0,{"$f":"IF(INTRO!$E$37=\"Endemic\",IF($H135>0,IF($H135=4,\"Unknown\",IF($H135=99,\"Stopped\",$D135)),0),\"Not required\")","v":"Stopped"},{"$f":"IF(INTRO!$E$39=\"Endemic\", IF($I135>0, IF($I135=4,\"Unknown\",IF($I135=99,\"Stopped\",$D135)), 0),\"Not required\")","v":126657},{"$f":"IF(INTRO!$E$41=\"Endemic\", IF($J135>1, IF($J135=4, \"Unknown\", IF($J135=99, \"Surveillance\", E135)), 0),\"Not required\")","v":28684.907999999999},{"$f":"IF(INTRO!$E$41=\"Endemic\", IF($J135>1, IF($J135=4, \"Unknown\", IF($J135=99, \"Surveillance\", F135)), 0),\"Not required\")","v":33501},{"$f":"IF(INTRO!$E$41=\"Endemic\", IF($J135>1, IF($J135=4, \"Unknown\", IF($J135=99, \"Surveillance\", ROUND(D135*INTRO!$E$51,0))), 0),\"Not required\")","v":4686},{"$f":"IF(INTRO!$E$41=\"Endemic\", IF($J135>1, IF($J135=4, \"Unknown\", IF($J135=99, \"Surveillance\", SUM($O135:$Q135))), 0),\"Not required\")","v":66871.907999999996},{"$f":"IF(INTRO!$E$43=\"Endemic\", IF($K135>1, IF($K135=4, \"Unknown\", IF($K135=99, \"Surveillance\", ROUND(E135*0.75,0))), 0),\"Not required\")","v":21514},{"$f":"IF(INTRO!$E$43=\"Endemic\", IF($K135>1, IF($K135=4, \"Unknown\", IF($K135=99, \"Surveillance\", F135)), 0),\"Not required\")","v":33501},{"$f":"IF(INTRO!$E$43=\"Endemic\", IF($K135>1, IF($K135=4, \"Unknown\", IF($K135=99, \"Surveillance\", G135)), 0),\"Not required\")","v":72916},{"$f":"IF(INTRO!$E$43=\"Endemic\", IF($K135>1, IF($K135=4, \"Unknown\", IF($K135=99, \"Surveillance\", SUM($S135:$U135))), 0),\"Not required\")","v":127931},0,1,1,1,null,"Yes",null,null,null,null,null,7538,"POLI"]
[{"$f":"IF(INTRO!$E$33<>0,INTRO!$E$33, \" \")","v":"Cameroun"},"Nord","Rey Bouba",205397,53152.955999999998,{"$f":"IF(INTRO!$E$49=\"\",\"\",ROUND($D136*INTRO!$E$49,0))","v":54328},{"$f":"IF(INTRO!$E$50=\"\",\"\",ROUND($D136*INTRO!$E$50,0))","v":118247},99,1,2,3,1,{"$f":"IF(INTRO!$E$37=\"Endemic\",IF($H136>0,IF($H136=4,\"Unknown\",IF($H136=99,\"Stopped\",$D136)),0),\"Not required\")","v":"Stopped"},{"$f":"IF(INTRO!$E$39=\"Endemic\", IF($I136>0, IF($I136=4,\"Unknown\",IF($I136=99,\"Stopped\",$D136)), 0),\"Not required\")","v":205397},{"$f":"IF(INTRO!$E$41=\"Endemic\", IF($J136>1, IF($J136=4, \"Unknown\", IF($J136=99, \"Surveillance\", E136)), 0),\"Not required\")","v":53152.955999999998},{"$f":"IF(INTRO!$E$41=\"Endemic\", IF($J136>1, IF($J136=4, \"Unknown\", IF($J136=99, \"Surveillance\", F136)), 0),\"Not required\")","v":54328},{"$f":"IF(INTRO!$E$41=\"Endemic\", IF($J136>1, IF($J136=4, \"Unknown\", IF($J136=99, \"Surveillance\", ROUND(D136*INTRO!$E$51,0))), 0),\"Not required\")","v":7600},{"$f":"IF(INTRO!$E$41=\"Endemic\", IF($J136>1, IF($J136=4, \"Unknown\", IF($J136=99, \"Surveillance\", SUM($O136:$Q136))), 0),\"Not required\")","v":115080.95600000001},{"$f":"IF(INTRO!$E$43=\"Endemic\", IF($K136>1, IF($K136=4, \"Unknown\", IF($K136=99, \"Surveillance\", ROUND(E136*0.75,0))), 0),\"Not required\")","v":39865},{"$f":"IF(INTRO!$E$43=\"Endemic\", IF($K136>1, IF($K136=4, \"Unknown\", IF($K136=99, \"Surveillance\", F136)), 0),\"Not required\")","v":54328},{"$f":"IF(INTRO!$E$43=\"Endemic\", IF($K136>1, IF($K136=4, \"Unknown\", IF($K136=99, \"Surveillance\", G136)), 0),\"Not required\")","v":118247},{"$f":"IF(INTRO!$E$43=\"Endemic\", IF($K136>1, IF($K136=4, \"Unknown\", IF($K136=99, \"Surveillance\", SUM($S136:$U136))), 0),\"Not required\")","v":212440},0,1,1,1,null,"Yes",null,null,null,null,null,7539,"REY BOUBA"]
[{"$f":"IF(INTRO!$E$33<>0,INTRO!$E$33, \" \")","v":"Cameroun"},"Nord","Tchollire",229793,51483.654000000002,{"$f":"IF(INTRO!$E$49=\"\",\"\",ROUND($D137*INTRO!$E$49,0))","v":60780},{"$f":"IF(INTRO!$E$50=\"\",\"\",ROUND($D137*INTRO!$E$50,0))","v":132292},99,1,3,3,1,{"$f":"IF(INTRO!$E$37=\"Endemic\",IF($H137>0,IF($H137=4,\"Unknown\",IF($H137=99,\"Stopped\",$D137)),0),\"Not required\")","v":"Stopped"},{"$f":"IF(INTRO!$E$39=\"Endemic\", IF($I137>0, IF($I137=4,\"Unknown\",IF($I137=99,\"Stopped\",$D137)), 0),\"Not required\")","v":229793},{"$f":"IF(INTRO!$E$41=\"Endemic\", IF($J137>1, IF($J137=4, \"Unknown\", IF($J137=99, \"Surveillance\", E137)), 0),\"Not required\")","v":51483.654000000002},{"$f":"IF(INTRO!$E$41=\"Endemic\", IF($J137>1, IF($J137=4, \"Unknown\", IF($J137=99, \"Surveillance\", F137)), 0),\"Not required\")","v":60780},{"$f":"IF(INTRO!$E$41=\"Endemic\", IF($J137>1, IF($J137=4, \"Unknown\", IF($J137=99, \"Surveillance\", ROUND(D137*INTRO!$E$51,0))), 0),\"Not required\")","v":8502},{"$f":"IF(INTRO!$E$41=\"Endemic\", IF($J137>1, IF($J137=4, \"Unknown\", IF($J137=99, \"Surveillance\", SUM($O137:$Q137))), 0),\"Not required\")","v":120765.65400000001},{"$f":"IF(INTRO!$E$43=\"Endemic\", IF($K137>1, IF($K137=4, \"Unknown\", IF($K137=99, \"Surveillance\", ROUND(E137*0.75,0))), 0),\"Not required\")","v":38613},{"$f":"IF(INTRO!$E$43=\"Endemic\", IF($K137>1, IF($K137=4, \"Unknown\", IF($K137=99, \"Surveillance\", F137)), 0),\"Not required\")","v":60780},{"$f":"IF(INTRO!$E$43=\"Endemic\", IF($K137>1, IF($K137=4, \"Unknown\", IF($K137=99, \"Surveillance\", G137)), 0),\"Not required\")","v":132292},{"$f":"IF(INTRO!$E$43=\"Endemic\", IF($K137>1, IF($K137=4, \"Unknown\", IF($K137=99, \"Surveillance\", SUM($S137:$U137))), 0),\"Not required\")","v":231685},0,1,1,1,null,"Yes",null,null,null,null,null,7540,"TCHOLLIRE"]
[{"$f":"IF(INTRO!$E$33<>0,INTRO!$E$33, \" \")","v":"Cameroun"},"Nord","Touboro",339672,82874.123999999996,{"$f":"IF(INTRO!$E$49=\"\",\"\",ROUND($D138*INTRO!$E$49,0))","v":89843},{"$f":"IF(INTRO!$E$50=\"\",\"\",ROUND($D138*INTRO!$E$50,0))","v":195549},99,1,3,3,1,{"$f":"IF(INTRO!$E$37=\"Endemic\",IF($H138>0,IF($H138=4,\"Unknown\",IF($H138=99,\"Stopped\",$D138)),0),\"Not required\")","v":"Stopped"},{"$f":"IF(INTRO!$E$39=\"Endemic\", IF($I138>0, IF($I138=4,\"Unknown\",IF($I138=99,\"Stopped\",$D138)), 0),\"Not required\")","v":339672},{"$f":"IF(INTRO!$E$41=\"Endemic\", IF($J138>1, IF($J138=4, \"Unknown\", IF($J138=99, \"Surveillance\", E138)), 0),\"Not required\")","v":82874.123999999996},{"$f":"IF(INTRO!$E$41=\"Endemic\", IF($J138>1, IF($J138=4, \"Unknown\", IF($J138=99, \"Surveillance\", F138)), 0),\"Not required\")","v":89843},{"$f":"IF(INTRO!$E$41=\"Endemic\", IF($J138>1, IF($J138=4, \"Unknown\", IF($J138=99, \"Surveillance\", ROUND(D138*INTRO!$E$51,0))), 0),\"Not required\")","v":12568},{"$f":"IF(INTRO!$E$41=\"Endemic\", IF($J138>1, IF($J138=4, \"Unknown\", IF($J138=99, \"Surveillance\", SUM($O138:$Q138))), 0),\"Not required\")","v":185285.12400000001},{"$f":"IF(INTRO!$E$43=\"Endemic\", IF($K138>1, IF($K138=4, \"Unknown\", IF($K138=99, \"Surveillance\", ROUND(E138*0.75,0))), 0),\"Not required\")","v":62156},{"$f":"IF(INTRO!$E$43=\"Endemic\", IF($K138>1, IF($K138=4, \"Unknown\", IF($K138=99, \"Surveillance\", F138)), 0),\"Not required\")","v":89843},{"$f":"IF(INTRO!$E$43=\"Endemic\", IF($K138>1, IF($K138=4, \"Unknown\", IF($K138=99, \"Surveillance\", G138)), 0),\"Not required\")","v":195549},{"$f":"IF(INTRO!$E$43=\"Endemic\", IF($K138>1, IF($K138=4, \"Unknown\", IF($K138=99, \"Surveillance\", SUM($S138:$U138))), 0),\"Not required\")","v":347548},0,1,1,1,null,"Yes",null,null,null,null,null,7541,"TOUBORO"]
[{"$f":"IF(INTRO!$E$33<>0,INTRO!$E$33, \" \")","v":"Cameroun"},"Nord Ouest","Ako ",69617,9236.0519999999997,{"$f":"IF(INTRO!$E$49=\"\",\"\",ROUND($D139*INTRO!$E$49,0))","v":18414},{"$f":"IF(INTRO!$E$50=\"\",\"\",ROUND($D139*INTRO!$E$50,0))","v":40079},99,1,1,3,1,{"$f":"IF(INTRO!$E$37=\"Endemic\",IF($H139>0,IF($H139=4,\"Unknown\",IF($H139=99,\"Stopped\",$D139)),0),\"Not required\")","v":"Stopped"},{"$f":"IF(INTRO!$E$39=\"Endemic\", IF($I139>0, IF($I139=4,\"Unknown\",IF($I139=99,\"Stopped\",$D139)), 0),\"Not required\")","v":69617},{"$f":"IF(INTRO!$E$41=\"Endemic\", IF($J139>1, IF($J139=4, \"Unknown\", IF($J139=99, \"Surveillance\", E139)), 0),\"Not required\")","v":0},{"$f":"IF(INTRO!$E$41=\"Endemic\", IF($J139>1, IF($J139=4, \"Unknown\", IF($J139=99, \"Surveillance\", F139)), 0),\"Not required\")","v":0},{"$f":"IF(INTRO!$E$41=\"Endemic\", IF($J139>1, IF($J139=4, \"Unknown\", IF($J139=99, \"Surveillance\", ROUND(D139*INTRO!$E$51,0))), 0),\"Not required\")","v":0},{"$f":"IF(INTRO!$E$41=\"Endemic\", IF($J139>1, IF($J139=4, \"Unknown\", IF($J139=99, \"Surveillance\", SUM($O139:$Q139))), 0),\"Not required\")","v":0},{"$f":"IF(INTRO!$E$43=\"Endemic\", IF($K139>1, IF($K139=4, \"Unknown\", IF($K139=99, \"Surveillance\", ROUND(E139*0.75,0))), 0),\"Not required\")","v":6927},{"$f":"IF(INTRO!$E$43=\"Endemic\", IF($K139>1, IF($K139=4, \"Unknown\", IF($K139=99, \"Surveillance\", F139)), 0),\"Not required\")","v":18414},{"$f":"IF(INTRO!$E$43=\"Endemic\", IF($K139>1, IF($K139=4, \"Unknown\", IF($K139=99, \"Surveillance\", G139)), 0),\"Not required\")","v":40079},{"$f":"IF(INTRO!$E$43=\"Endemic\", IF($K139>1, IF($K139=4, \"Unknown\", IF($K139=99, \"Surveillance\", SUM($S139:$U139))), 0),\"Not required\")","v":65420},0,1,0,1,"TAS",null,null,null,null,null,null,7542,"AKO "]
[{"$f":"IF(INTRO!$E$33<>0,INTRO!$E$33, \" \")","v":"Cameroun"},"Nord Ouest","Bafut",45912,3995.2440000000001,{"$f":"IF(INTRO!$E$49=\"\",\"\",ROUND($D140*INTRO!$E$49,0))","v":12144},{"$f":"IF(INTRO!$E$50=\"\",\"\",ROUND($D140*INTRO!$E$50,0))","v":26432},99,1,3,1,1,{"$f":"IF(INTRO!$E$37=\"Endemic\",IF($H140>0,IF($H140=4,\"Unknown\",IF($H140=99,\"Stopped\",$D140)),0),\"Not required\")","v":"Stopped"},{"$f":"IF(INTRO!$E$39=\"Endemic\", IF($I140>0, IF($I140=4,\"Unknown\",IF($I140=99,\"Stopped\",$D140)), 0),\"Not required\")","v":45912},{"$f":"IF(INTRO!$E$41=\"Endemic\", IF($J140>1, IF($J140=4, \"Unknown\", IF($J140=99, \"Surveillance\", E140)), 0),\"Not required\")","v":3995.2440000000001},{"$f":"IF(INTRO!$E$41=\"Endemic\", IF($J140>1, IF($J140=4, \"Unknown\", IF($J140=99, \"Surveillance\", F140)), 0),\"Not required\")","v":12144},{"$f":"IF(INTRO!$E$41=\"Endemic\", IF($J140>1, IF($J140=4, \"Unknown\", IF($J140=99, \"Surveillance\", ROUND(D140*INTRO!$E$51,0))), 0),\"Not required\")","v":1699},{"$f":"IF(INTRO!$E$41=\"Endemic\", IF($J140>1, IF($J140=4, \"Unknown\", IF($J140=99, \"Surveillance\", SUM($O140:$Q140))), 0),\"Not required\")","v":17838.243999999999},{"$f":"IF(INTRO!$E$43=\"Endemic\", IF($K140>1, IF($K140=4, \"Unknown\", IF($K140=99, \"Surveillance\", ROUND(E140*0.75,0))), 0),\"Not required\")","v":0},{"$f":"IF(INTRO!$E$43=\"Endemic\", IF($K140>1, IF($K140=4, \"Unknown\", IF($K140=99, \"Surveillance\", F140)), 0),\"Not required\")","v":0},{"$f":"IF(INTRO!$E$43=\"Endemic\", IF($K140>1, IF($K140=4, \"Unknown\", IF($K140=99, \"Surveillance\", G140)), 0),\"Not required\")","v":0},{"$f":"IF(INTRO!$E$43=\"Endemic\", IF($K140>1, IF($K140=4, \"Unknown\", IF($K140=99, \"Surveillance\", SUM($S140:$U140))), 0),\"Not required\")","v":0},0,1,1,0,"TAS",null,null,null,null,null,null,7543,"BAFUT"]
[{"$f":"IF(INTRO!$E$33<>0,INTRO!$E$33, \" \")","v":"Cameroun"},"Nord Ouest","Bali",30496,4076.2980000000002,{"$f":"IF(INTRO!$E$49=\"\",\"\",ROUND($D141*INTRO!$E$49,0))","v":8066},{"$f":"IF(INTRO!$E$50=\"\",\"\",ROUND($D141*INTRO!$E$50,0))","v":17557},99,1,1,0,1,{"$f":"IF(INTRO!$E$37=\"Endemic\",IF($H141>0,IF($H141=4,\"Unknown\",IF($H141=99,\"Stopped\",$D141)),0),\"Not required\")","v":"Stopped"},{"$f":"IF(INTRO!$E$39=\"Endemic\", IF($I141>0, IF($I141=4,\"Unknown\",IF($I141=99,\"Stopped\",$D141)), 0),\"Not required\")","v":30496},{"$f":"IF(INTRO!$E$41=\"Endemic\", IF($J141>1, IF($J141=4, \"Unknown\", IF($J141=99, \"Surveillance\", E141)), 0),\"Not required\")","v":0},{"$f":"IF(INTRO!$E$41=\"Endemic\", IF($J141>1, IF($J141=4, \"Unknown\", IF($J141=99, \"Surveillance\", F141)), 0),\"Not required\")","v":0},{"$f":"IF(INTRO!$E$41=\"Endemic\", IF($J141>1, IF($J141=4, \"Unknown\", IF($J141=99, \"Surveillance\", ROUND(D141*INTRO!$E$51,0))), 0),\"Not required\")","v":0},{"$f":"IF(INTRO!$E$41=\"Endemic\", IF($J141>1, IF($J141=4, \"Unknown\", IF($J141=99, \"Surveillance\", SUM($O141:$Q141))), 0),\"Not required\")","v":0},{"$f":"IF(INTRO!$E$43=\"Endemic\", IF($K141>1, IF($K141=4, \"Unknown\", IF($K141=99, \"Surveillance\", ROUND(E141*0.75,0))), 0),\"Not required\")","v":0},{"$f":"IF(INTRO!$E$43=\"Endemic\", IF($K141>1, IF($K141=4, \"Unknown\", IF($K141=99, \"Surveillance\", F141)), 0),\"Not required\")","v":0},{"$f":"IF(INTRO!$E$43=\"Endemic\", IF($K141>1, IF($K141=4, \"Unknown\", IF($K141=99, \"Surveillance\", G141)), 0),\"Not required\")","v":0},{"$f":"IF(INTRO!$E$43=\"Endemic\", IF($K141>1, IF($K141=4, \"Unknown\", IF($K141=99, \"Surveillance\", SUM($S141:$U141))), 0),\"Not required\")","v":0},0,1,0,0,"TAS",null,null,null,null,null,null,7544,"BALI"]
[{"$f":"IF(INTRO!$E$33<>0,INTRO!$E$33, \" \")","v":"Cameroun"},"Nord Ouest","Bamenda",285945,33494.796000000002,{"$f":"IF(INTRO!$E$49=\"\",\"\",ROUND($D142*INTRO!$E$49,0))","v":75632},{"$f":"IF(INTRO!$E$50=\"\",\"\",ROUND($D142*INTRO!$E$50,0))","v":164619},99,1,1,1,1,{"$f":"IF(INTRO!$E$37=\"Endemic\",IF($H142>0,IF($H142=4,\"Unknown\",IF($H142=99,\"Stopped\",$D142)),0),\"Not required\")","v":"Stopped"},{"$f":"IF(INTRO!$E$39=\"Endemic\", IF($I142>0, IF($I142=4,\"Unknown\",IF($I142=99,\"Stopped\",$D142)), 0),\"Not required\")","v":285945},{"$f":"IF(INTRO!$E$41=\"Endemic\", IF($J142>1, IF($J142=4, \"Unknown\", IF($J142=99, \"Surveillance\", E142)), 0),\"Not required\")","v":0},{"$f":"IF(INTRO!$E$41=\"Endemic\", IF($J142>1, IF($J142=4, \"Unknown\", IF($J142=99, \"Surveillance\", F142)), 0),\"Not required\")","v":0},{"$f":"IF(INTRO!$E$41=\"Endemic\", IF($J142>1, IF($J142=4, \"Unknown\", IF($J142=99, \"Surveillance\", ROUND(D142*INTRO!$E$51,0))), 0),\"Not required\")","v":0},{"$f":"IF(INTRO!$E$41=\"Endemic\", IF($J142>1, IF($J142=4, \"Unknown\", IF($J142=99, \"Surveillance\", SUM($O142:$Q142))), 0),\"Not required\")","v":0},{"$f":"IF(INTRO!$E$43=\"Endemic\", IF($K142>1, IF($K142=4, \"Unknown\", IF($K142=99, \"Surveillance\", ROUND(E142*0.75,0))), 0),\"Not required\")","v":0},{"$f":"IF(INTRO!$E$43=\"Endemic\", IF($K142>1, IF($K142=4, \"Unknown\", IF($K142=99, \"Surveillance\", F142)), 0),\"Not required\")","v":0},{"$f":"IF(INTRO!$E$43=\"Endemic\", IF($K142>1, IF($K142=4, \"Unknown\", IF($K142=99, \"Surveillance\", G142)), 0),\"Not required\")","v":0},{"$f":"IF(INTRO!$E$43=\"Endemic\", IF($K142>1, IF($K142=4, \"Unknown\", IF($K142=99, \"Surveillance\", SUM($S142:$U142))), 0),\"Not required\")","v":0},0,1,0,0,"TAS",null,null,null,null,null,null,7545,"BAMENDA"]
[{"$f":"IF(INTRO!$E$33<>0,INTRO!$E$33, \" \")","v":"Cameroun"},"Nord Ouest","Bamenda 3",187735,20066.508000000002,{"$f":"IF(INTRO!$E$49=\"\",\"\",ROUND($D143*INTRO!$E$49,0))","v":49656},{"$f":"IF(INTRO!$E$50=\"\",\"\",ROUND($D143*INTRO!$E$50,0))","v":108079},99,1,1,1,1,{"$f":"IF(INTRO!$E$37=\"Endemic\",IF($H143>0,IF($H143=4,\"Unknown\",IF($H143=99,\"Stopped\",$D143)),0),\"Not required\")","v":"Stopped"},{"$f":"IF(INTRO!$E$39=\"Endemic\", IF($I143>0, IF($I143=4,\"Unknown\",IF($I143=99,\"Stopped\",$D143)), 0),\"Not required\")","v":187735},{"$f":"IF(INTRO!$E$41=\"Endemic\", IF($J143>1, IF($J143=4, \"Unknown\", IF($J143=99, \"Surveillance\", E143)), 0),\"Not required\")","v":0},{"$f":"IF(INTRO!$E$41=\"Endemic\", IF($J143>1, IF($J143=4, \"Unknown\", IF($J143=99, \"Surveillance\", F143)), 0),\"Not required\")","v":0},{"$f":"IF(INTRO!$E$41=\"Endemic\", IF($J143>1, IF($J143=4, \"Unknown\", IF($J143=99, \"Surveillance\", ROUND(D143*INTRO!$E$51,0))), 0),\"Not required\")","v":0},{"$f":"IF(INTRO!$E$41=\"Endemic\", IF($J143>1, IF($J143=4, \"Unknown\", IF($J143=99, \"Surveillance\", SUM($O143:$Q143))), 0),\"Not required\")","v":0},{"$f":"IF(INTRO!$E$43=\"Endemic\", IF($K143>1, IF($K143=4, \"Unknown\", IF($K143=99, \"Surveillance\", ROUND(E143*0.75,0))), 0),\"Not required\")","v":0},{"$f":"IF(INTRO!$E$43=\"Endemic\", IF($K143>1, IF($K143=4, \"Unknown\", IF($K143=99, \"Surveillance\", F143)), 0),\"Not required\")","v":0},{"$f":"IF(INTRO!$E$43=\"Endemic\", IF($K143>1, IF($K143=4, \"Unknown\", IF($K143=99, \"Surveillance\", G143)), 0),\"Not required\")","v":0},{"$f":"IF(INTRO!$E$43=\"Endemic\", IF($K143>1, IF($K143=4, \"Unknown\", IF($K143=99, \"Surveillance\", SUM($S143:$U143))), 0),\"Not required\")","v":0},0,1,0,0,"TAS",null,null,null,null,null,null,7615,"Bamenda 3"]
[{"$f":"IF(INTRO!$E$33<>0,INTRO!$E$33, \" \")","v":"Cameroun"},"Nord Ouest","Batibo",79057,8696.3760000000002,{"$f":"IF(INTRO!$E$49=\"\",\"\",ROUND($D144*INTRO!$E$49,0))","v":20911},{"$f":"IF(INTRO!$E$50=\"\",\"\",ROUND($D144*INTRO!$E$50,0))","v":45513},99,1,3,0,1,{"$f":"IF(INTRO!$E$37=\"Endemic\",IF($H144>0,IF($H144=4,\"Unknown\",IF($H144=99,\"Stopped\",$D144)),0),\"Not required\")","v":"Stopped"},{"$f":"IF(INTRO!$E$39=\"Endemic\", IF($I144>0, IF($I144=4,\"Unknown\",IF($I144=99,\"Stopped\",$D144)), 0),\"Not required\")","v":79057},{"$f":"IF(INTRO!$E$41=\"Endemic\", IF($J144>1, IF($J144=4, \"Unknown\", IF($J144=99, \"Surveillance\", E144)), 0),\"Not required\")","v":8696.3760000000002},{"$f":"IF(INTRO!$E$41=\"Endemic\", IF($J144>1, IF($J144=4, \"Unknown\", IF($J144=99, \"Surveillance\", F144)), 0),\"Not required\")","v":20911},{"$f":"IF(INTRO!$E$41=\"Endemic\", IF($J144>1, IF($J144=4, \"Unknown\", IF($J144=99, \"Surveillance\", ROUND(D144*INTRO!$E$51,0))), 0),\"Not required\")","v":2925},{"$f":"IF(INTRO!$E$41=\"Endemic\", IF($J144>1, IF($J144=4, \"Unknown\", IF($J144=99, \"Surveillance\", SUM($O144:$Q144))), 0),\"Not required\")","v":32532.376},{"$f":"IF(INTRO!$E$43=\"Endemic\", IF($K144>1, IF($K144=4, \"Unknown\", IF($K144=99, \"Surveillance\", ROUND(E144*0.75,0))), 0),\"Not required\")","v":0},{"$f":"IF(INTRO!$E$43=\"Endemic\", IF($K144>1, IF($K144=4, \"Unknown\", IF($K144=99, \"Surveillance\", F144)), 0),\"Not required\")","v":0},{"$f":"IF(INTRO!$E$43=\"Endemic\", IF($K144>1, IF($K144=4, \"Unknown\", IF($K144=99, \"Surveillance\", G144)), 0),\"Not required\")","v":0},{"$f":"IF(INTRO!$E$43=\"Endemic\", IF($K144>1, IF($K144=4, \"Unknown\", IF($K144=99, \"Surveillance\", SUM($S144:$U144))), 0),\"Not required\")","v":0},0,1,1,0,"TAS",null,null,null,null,null,null,7546,"BATIBO"]
[{"$f":"IF(INTRO!$E$33<>0,INTRO!$E$33, \" \")","v":"Cameroun"},"Nord Ouest","Benakuma",56040,14696.424000000001,{"$f":"IF(INTRO!$E$49=\"\",\"\",ROUND($D145*INTRO!$E$49,0))","v":14823},{"$f":"IF(INTRO!$E$50=\"\",\"\",ROUND($D145*INTRO!$E$50,0))","v":32262},99,1,2,1,1,{"$f":"IF(INTRO!$E$37=\"Endemic\",IF($H145>0,IF($H145=4,\"Unknown\",IF($H145=99,\"Stopped\",$D145)),0),\"Not required\")","v":"Stopped"},{"$f":"IF(INTRO!$E$39=\"Endemic\", IF($I145>0, IF($I145=4,\"Unknown\",IF($I145=99,\"Stopped\",$D145)), 0),\"Not required\")","v":56040},{"$f":"IF(INTRO!$E$41=\"Endemic\", IF($J145>1, IF($J145=4, \"Unknown\", IF($J145=99, \"Surveillance\", E145)), 0),\"Not required\")","v":14696.424000000001},{"$f":"IF(INTRO!$E$41=\"Endemic\", IF($J145>1, IF($J145=4, \"Unknown\", IF($J145=99, \"Surveillance\", F145)), 0),\"Not required\")","v":14823},{"$f":"IF(INTRO!$E$41=\"Endemic\", IF($J145>1, IF($J145=4, \"Unknown\", IF($J145=99, \"Surveillance\", ROUND(D145*INTRO!$E$51,0))), 0),\"Not required\")","v":2073},{"$f":"IF(INTRO!$E$41=\"Endemic\", IF($J145>1, IF($J145=4, \"Unknown\", IF($J145=99, \"Surveillance\", SUM($O145:$Q145))), 0),\"Not required\")","v":31592.423999999999},{"$f":"IF(INTRO!$E$43=\"Endemic\", IF($K145>1, IF($K145=4, \"Unknown\", IF($K145=99, \"Surveillance\", ROUND(E145*0.75,0))), 0),\"Not required\")","v":0},{"$f":"IF(INTRO!$E$43=\"Endemic\", IF($K145>1, IF($K145=4, \"Unknown\", IF($K145=99, \"Surveillance\", F145)), 0),\"Not required\")","v":0},{"$f":"IF(INTRO!$E$43=\"Endemic\", IF($K145>1, IF($K145=4, \"Unknown\", IF($K145=99, \"Surveillance\", G145)), 0),\"Not required\")","v":0},{"$f":"IF(INTRO!$E$43=\"Endemic\", IF($K145>1, IF($K145=4, \"Unknown\", IF($K145=99, \"Surveillance\", SUM($S145:$U145))), 0),\"Not required\")","v":0},0,1,1,0,"TAS",null,null,null,null,null,null,7547,"BENAKUMA"]
[{"$f":"IF(INTRO!$E$33<>0,INTRO!$E$33, \" \")","v":"Cameroun"},"Nord Ouest","Fundong",137887,15764.49,{"$f":"IF(INTRO!$E$49=\"\",\"\",ROUND($D146*INTRO!$E$49,0))","v":36471},{"$f":"IF(INTRO!$E$50=\"\",\"\",ROUND($D146*INTRO!$E$50,0))","v":79382},99,1,3,0,1,{"$f":"IF(INTRO!$E$37=\"Endemic\",IF($H146>0,IF($H146=4,\"Unknown\",IF($H146=99,\"Stopped\",$D146)),0),\"Not required\")","v":"Stopped"},{"$f":"IF(INTRO!$E$39=\"Endemic\", IF($I146>0, IF($I146=4,\"Unknown\",IF($I146=99,\"Stopped\",$D146)), 0),\"Not required\")","v":137887},{"$f":"IF(INTRO!$E$41=\"Endemic\", IF($J146>1, IF($J146=4, \"Unknown\", IF($J146=99, \"Surveillance\", E146)), 0),\"Not required\")","v":15764.49},{"$f":"IF(INTRO!$E$41=\"Endemic\", IF($J146>1, IF($J146=4, \"Unknown\", IF($J146=99, \"Surveillance\", F146)), 0),\"Not required\")","v":36471},{"$f":"IF(INTRO!$E$41=\"Endemic\", IF($J146>1, IF($J146=4, \"Unknown\", IF($J146=99, \"Surveillance\", ROUND(D146*INTRO!$E$51,0))), 0),\"Not required\")","v":5102},{"$f":"IF(INTRO!$E$41=\"Endemic\", IF($J146>1, IF($J146=4, \"Unknown\", IF($J146=99, \"Surveillance\", SUM($O146:$Q146))), 0),\"Not required\")","v":57337.49},{"$f":"IF(INTRO!$E$43=\"Endemic\", IF($K146>1, IF($K146=4, \"Unknown\", IF($K146=99, \"Surveillance\", ROUND(E146*0.75,0))), 0),\"Not required\")","v":0},{"$f":"IF(INTRO!$E$43=\"Endemic\", IF($K146>1, IF($K146=4, \"Unknown\", IF($K146=99, \"Surveillance\", F146)), 0),\"Not required\")","v":0},{"$f":"IF(INTRO!$E$43=\"Endemic\", IF($K146>1, IF($K146=4, \"Unknown\", IF($K146=99, \"Surveillance\", G146)), 0),\"Not required\")","v":0},{"$f":"IF(INTRO!$E$43=\"Endemic\", IF($K146>1, IF($K146=4, \"Unknown\", IF($K146=99, \"Surveillance\", SUM($S146:$U146))), 0),\"Not required\")","v":0},0,1,1,0,"TAS",null,null,null,null,null,null,7548,"FUNDONG"]
[{"$f":"IF(INTRO!$E$33<>0,INTRO!$E$33, \" \")","v":"Cameroun"},"Nord Ouest","Kumbo East",126157,14046.966,{"$f":"IF(INTRO!$E$49=\"\",\"\",ROUND($D147*INTRO!$E$49,0))","v":33369},{"$f":"IF(INTRO!$E$50=\"\",\"\",ROUND($D147*INTRO!$E$50,0))","v":72629},99,1,1,2,1,{"$f":"IF(INTRO!$E$37=\"Endemic\",IF($H147>0,IF($H147=4,\"Unknown\",IF($H147=99,\"Stopped\",$D147)),0),\"Not required\")","v":"Stopped"},{"$f":"IF(INTRO!$E$39=\"Endemic\", IF($I147>0, IF($I147=4,\"Unknown\",IF($I147=99,\"Stopped\",$D147)), 0),\"Not required\")","v":126157},{"$f":"IF(INTRO!$E$41=\"Endemic\", IF($J147>1, IF($J147=4, \"Unknown\", IF($J147=99, \"Surveillance\", E147)), 0),\"Not required\")","v":0},{"$f":"IF(INTRO!$E$41=\"Endemic\", IF($J147>1, IF($J147=4, \"Unknown\", IF($J147=99, \"Surveillance\", F147)), 0),\"Not required\")","v":0},{"$f":"IF(INTRO!$E$41=\"Endemic\", IF($J147>1, IF($J147=4, \"Unknown\", IF($J147=99, \"Surveillance\", ROUND(D147*INTRO!$E$51,0))), 0),\"Not required\")","v":0},{"$f":"IF(INTRO!$E$41=\"Endemic\", IF($J147>1, IF($J147=4, \"Unknown\", IF($J147=99, \"Surveillance\", SUM($O147:$Q147))), 0),\"Not required\")","v":0},{"$f":"IF(INTRO!$E$43=\"Endemic\", IF($K147>1, IF($K147=4, \"Unknown\", IF($K147=99, \"Surveillance\", ROUND(E147*0.75,0))), 0),\"Not required\")","v":10535},{"$f":"IF(INTRO!$E$43=\"Endemic\", IF($K147>1, IF($K147=4, \"Unknown\", IF($K147=99, \"Surveillance\", F147)), 0),\"Not required\")","v":33369},{"$f":"IF(INTRO!$E$43=\"Endemic\", IF($K147>1, IF($K147=4, \"Unknown\", IF($K147=99, \"Surveillance\", G147)), 0),\"Not required\")","v":72629},{"$f":"IF(INTRO!$E$43=\"Endemic\", IF($K147>1, IF($K147=4, \"Unknown\", IF($K147=99, \"Surveillance\", SUM($S147:$U147))), 0),\"Not required\")","v":116533},0,1,0,1,"TAS",null,null,null,null,null,null,7549,"KUMBO EAST"]
[{"$f":"IF(INTRO!$E$33<>0,INTRO!$E$33, \" \")","v":"Cameroun"},"Nord Ouest","Kumbo West",114554,10334.898000000001,{"$f":"IF(INTRO!$E$49=\"\",\"\",ROUND($D148*INTRO!$E$49,0))","v":30300},{"$f":"IF(INTRO!$E$50=\"\",\"\",ROUND($D148*INTRO!$E$50,0))","v":65949},99,1,3,0,1,{"$f":"IF(INTRO!$E$37=\"Endemic\",IF($H148>0,IF($H148=4,\"Unknown\",IF($H148=99,\"Stopped\",$D148)),0),\"Not required\")","v":"Stopped"},{"$f":"IF(INTRO!$E$39=\"Endemic\", IF($I148>0, IF($I148=4,\"Unknown\",IF($I148=99,\"Stopped\",$D148)), 0),\"Not required\")","v":114554},{"$f":"IF(INTRO!$E$41=\"Endemic\", IF($J148>1, IF($J148=4, \"Unknown\", IF($J148=99, \"Surveillance\", E148)), 0),\"Not required\")","v":10334.898000000001},{"$f":"IF(INTRO!$E$41=\"Endemic\", IF($J148>1, IF($J148=4, \"Unknown\", IF($J148=99, \"Surveillance\", F148)), 0),\"Not required\")","v":30300},{"$f":"IF(INTRO!$E$41=\"Endemic\", IF($J148>1, IF($J148=4, \"Unknown\", IF($J148=99, \"Surveillance\", ROUND(D148*INTRO!$E$51,0))), 0),\"Not required\")","v":4238},{"$f":"IF(INTRO!$E$41=\"Endemic\", IF($J148>1, IF($J148=4, \"Unknown\", IF($J148=99, \"Surveillance\", SUM($O148:$Q148))), 0),\"Not required\")","v":44872.898000000001},{"$f":"IF(INTRO!$E$43=\"Endemic\", IF($K148>1, IF($K148=4, \"Unknown\", IF($K148=99, \"Surveillance\", ROUND(E148*0.75,0))), 0),\"Not required\")","v":0},{"$f":"IF(INTRO!$E$43=\"Endemic\", IF($K148>1, IF($K148=4, \"Unknown\", IF($K148=99, \"Surveillance\", F148)), 0),\"Not required\")","v":0},{"$f":"IF(INTRO!$E$43=\"Endemic\", IF($K148>1, IF($K148=4, \"Unknown\", IF($K148=99, \"Surveillance\", G148)), 0),\"Not required\")","v":0},{"$f":"IF(INTRO!$E$43=\"Endemic\", IF($K148>1, IF($K148=4, \"Unknown\", IF($K148=99, \"Surveillance\", SUM($S148:$U148))), 0),\"Not required\")","v":0},0,1,1,0,"TAS",null,null,null,null,null,null,7550,"KUMBO WEST"]
[{"$f":"IF(INTRO!$E$33<>0,INTRO!$E$33, \" \")","v":"Cameroun"},"Nord Ouest","Mbengwi",48758,4688.82,{"$f":"IF(INTRO!$E$49=\"\",\"\",ROUND($D149*INTRO!$E$49,0))","v":12896},{"$f":"IF(INTRO!$E$50=\"\",\"\",ROUND($D149*INTRO!$E$50,0))","v":28070},99,1,1,0,1,{"$f":"IF(INTRO!$E$37=\"Endemic\",IF($H149>0,IF($H149=4,\"Unknown\",IF($H149=99,\"Stopped\",$D149)),0),\"Not required\")","v":"Stopped"},{"$f":"IF(INTRO!$E$39=\"Endemic\", IF($I149>0, IF($I149=4,\"Unknown\",IF($I149=99,\"Stopped\",$D149)), 0),\"Not required\")","v":48758},{"$f":"IF(INTRO!$E$41=\"Endemic\", IF($J149>1, IF($J149=4, \"Unknown\", IF($J149=99, \"Surveillance\", E149)), 0),\"Not required\")","v":0},{"$f":"IF(INTRO!$E$41=\"Endemic\", IF($J149>1, IF($J149=4, \"Unknown\", IF($J149=99, \"Surveillance\", F149)), 0),\"Not required\")","v":0},{"$f":"IF(INTRO!$E$41=\"Endemic\", IF($J149>1, IF($J149=4, \"Unknown\", IF($J149=99, \"Surveillance\", ROUND(D149*INTRO!$E$51,0))), 0),\"Not required\")","v":0},{"$f":"IF(INTRO!$E$41=\"Endemic\", IF($J149>1, IF($J149=4, \"Unknown\", IF($J149=99, \"Surveillance\", SUM($O149:$Q149))), 0),\"Not required\")","v":0},{"$f":"IF(INTRO!$E$43=\"Endemic\", IF($K149>1, IF($K149=4, \"Unknown\", IF($K149=99, \"Surveillance\", ROUND(E149*0.75,0))), 0),\"Not required\")","v":0},{"$f":"IF(INTRO!$E$43=\"Endemic\", IF($K149>1, IF($K149=4, \"Unknown\", IF($K149=99, \"Surveillance\", F149)), 0),\"Not required\")","v":0},{"$f":"IF(INTRO!$E$43=\"Endemic\", IF($K149>1, IF($K149=4, \"Unknown\", IF($K149=99, \"Surveillance\", G149)), 0),\"Not required\")","v":0},{"$f":"IF(INTRO!$E$43=\"Endemic\", IF($K149>1, IF($K149=4, \"Unknown\", IF($K149=99, \"Surveillance\", SUM($S149:$U149))), 0),\"Not required\")","v":0},0,1,0,0,"TAS",null,null,null,null,null,null,7551,"MBENGWI"]
[{"$f":"IF(INTRO!$E$33<>0,INTRO!$E$33, \" \")","v":"Cameroun"},"Nord Ouest","Ndop",203473,22547.376,{"$f":"IF(INTRO!$E$49=\"\",\"\",ROUND($D150*INTRO!$E$49,0))","v":53819},{"$f":"IF(INTRO!$E$50=\"\",\"\",ROUND($D150*INTRO!$E$50,0))","v":117139},99,1,3,0,1,{"$f":"IF(INTRO!$E$37=\"Endemic\",IF($H150>0,IF($H150=4,\"Unknown\",IF($H150=99,\"Stopped\",$D150)),0),\"Not required\")","v":"Stopped"},{"$f":"IF(INTRO!$E$39=\"Endemic\", IF($I150>0, IF($I150=4,\"Unknown\",IF($I150=99,\"Stopped\",$D150)), 0),\"Not required\")","v":203473},{"$f":"IF(INTRO!$E$41=\"Endemic\", IF($J150>1, IF($J150=4, \"Unknown\", IF($J150=99, \"Surveillance\", E150)), 0),\"Not required\")","v":22547.376},{"$f":"IF(INTRO!$E$41=\"Endemic\", IF($J150>1, IF($J150=4, \"Unknown\", IF($J150=99, \"Surveillance\", F150)), 0),\"Not required\")","v":53819},{"$f":"IF(INTRO!$E$41=\"Endemic\", IF($J150>1, IF($J150=4, \"Unknown\", IF($J150=99, \"Surveillance\", ROUND(D150*INTRO!$E$51,0))), 0),\"Not required\")","v":7529},{"$f":"IF(INTRO!$E$41=\"Endemic\", IF($J150>1, IF($J150=4, \"Unknown\", IF($J150=99, \"Surveillance\", SUM($O150:$Q150))), 0),\"Not required\")","v":83895.376000000004},{"$f":"IF(INTRO!$E$43=\"Endemic\", IF($K150>1, IF($K150=4, \"Unknown\", IF($K150=99, \"Surveillance\", ROUND(E150*0.75,0))), 0),\"Not required\")","v":0},{"$f":"IF(INTRO!$E$43=\"Endemic\", IF($K150>1, IF($K150=4, \"Unknown\", IF($K150=99, \"Surveillance\", F150)), 0),\"Not required\")","v":0},{"$f":"IF(INTRO!$E$43=\"Endemic\", IF($K150>1, IF($K150=4, \"Unknown\", IF($K150=99, \"Surveillance\", G150)), 0),\"Not required\")","v":0},{"$f":"IF(INTRO!$E$43=\"Endemic\", IF($K150>1, IF($K150=4, \"Unknown\", IF($K150=99, \"Surveillance\", SUM($S150:$U150))), 0),\"Not required\")","v":0},0,1,1,0,"TAS",null,null,null,null,null,null,7552,"NDOP"]
[{"$f":"IF(INTRO!$E$33<>0,INTRO!$E$33, \" \")","v":"Cameroun"},"Nord Ouest","Ndu",74042,7795.5479999999998,{"$f":"IF(INTRO!$E$49=\"\",\"\",ROUND($D151*INTRO!$E$49,0))","v":19584},{"$f":"IF(INTRO!$E$50=\"\",\"\",ROUND($D151*INTRO!$E$50,0))","v":42626},99,1,2,2,1,{"$f":"IF(INTRO!$E$37=\"Endemic\",IF($H151>0,IF($H151=4,\"Unknown\",IF($H151=99,\"Stopped\",$D151)),0),\"Not required\")","v":"Stopped"},{"$f":"IF(INTRO!$E$39=\"Endemic\", IF($I151>0, IF($I151=4,\"Unknown\",IF($I151=99,\"Stopped\",$D151)), 0),\"Not required\")","v":74042},{"$f":"IF(INTRO!$E$41=\"Endemic\", IF($J151>1, IF($J151=4, \"Unknown\", IF($J151=99, \"Surveillance\", E151)), 0),\"Not required\")","v":7795.5479999999998},{"$f":"IF(INTRO!$E$41=\"Endemic\", IF($J151>1, IF($J151=4, \"Unknown\", IF($J151=99, \"Surveillance\", F151)), 0),\"Not required\")","v":19584},{"$f":"IF(INTRO!$E$41=\"Endemic\", IF($J151>1, IF($J151=4, \"Unknown\", IF($J151=99, \"Surveillance\", ROUND(D151*INTRO!$E$51,0))), 0),\"Not required\")","v":2740},{"$f":"IF(INTRO!$E$41=\"Endemic\", IF($J151>1, IF($J151=4, \"Unknown\", IF($J151=99, \"Surveillance\", SUM($O151:$Q151))), 0),\"Not required\")","v":30119.547999999999},{"$f":"IF(INTRO!$E$43=\"Endemic\", IF($K151>1, IF($K151=4, \"Unknown\", IF($K151=99, \"Surveillance\", ROUND(E151*0.75,0))), 0),\"Not required\")","v":5847},{"$f":"IF(INTRO!$E$43=\"Endemic\", IF($K151>1, IF($K151=4, \"Unknown\", IF($K151=99, \"Surveillance\", F151)), 0),\"Not required\")","v":19584},{"$f":"IF(INTRO!$E$43=\"Endemic\", IF($K151>1, IF($K151=4, \"Unknown\", IF($K151=99, \"Surveillance\", G151)), 0),\"Not required\")","v":42626},{"$f":"IF(INTRO!$E$43=\"Endemic\", IF($K151>1, IF($K151=4, \"Unknown\", IF($K151=99, \"Surveillance\", SUM($S151:$U151))), 0),\"Not required\")","v":68057},0,1,1,1,"TAS",null,null,null,null,null,null,7553,"NDU"]
[{"$f":"IF(INTRO!$E$33<>0,INTRO!$E$33, \" \")","v":"Cameroun"},"Nord Ouest","Njikwa",24071,2889.2159999999999,{"$f":"IF(INTRO!$E$49=\"\",\"\",ROUND($D152*INTRO!$E$49,0))","v":6367},{"$f":"IF(INTRO!$E$50=\"\",\"\",ROUND($D152*INTRO!$E$50,0))","v":13858},99,1,1,0,1,{"$f":"IF(INTRO!$E$37=\"Endemic\",IF($H152>0,IF($H152=4,\"Unknown\",IF($H152=99,\"Stopped\",$D152)),0),\"Not required\")","v":"Stopped"},{"$f":"IF(INTRO!$E$39=\"Endemic\", IF($I152>0, IF($I152=4,\"Unknown\",IF($I152=99,\"Stopped\",$D152)), 0),\"Not required\")","v":24071},{"$f":"IF(INTRO!$E$41=\"Endemic\", IF($J152>1, IF($J152=4, \"Unknown\", IF($J152=99, \"Surveillance\", E152)), 0),\"Not required\")","v":0},{"$f":"IF(INTRO!$E$41=\"Endemic\", IF($J152>1, IF($J152=4, \"Unknown\", IF($J152=99, \"Surveillance\", F152)), 0),\"Not required\")","v":0},{"$f":"IF(INTRO!$E$41=\"Endemic\", IF($J152>1, IF($J152=4, \"Unknown\", IF($J152=99, \"Surveillance\", ROUND(D152*INTRO!$E$51,0))), 0),\"Not required\")","v":0},{"$f":"IF(INTRO!$E$41=\"Endemic\", IF($J152>1, IF($J152=4, \"Unknown\", IF($J152=99, \"Surveillance\", SUM($O152:$Q152))), 0),\"Not required\")","v":0},{"$f":"IF(INTRO!$E$43=\"Endemic\", IF($K152>1, IF($K152=4, \"Unknown\", IF($K152=99, \"Surveillance\", ROUND(E152*0.75,0))), 0),\"Not required\")","v":0},{"$f":"IF(INTRO!$E$43=\"Endemic\", IF($K152>1, IF($K152=4, \"Unknown\", IF($K152=99, \"Surveillance\", F152)), 0),\"Not required\")","v":0},{"$f":"IF(INTRO!$E$43=\"Endemic\", IF($K152>1, IF($K152=4, \"Unknown\", IF($K152=99, \"Surveillance\", G152)), 0),\"Not required\")","v":0},{"$f":"IF(INTRO!$E$43=\"Endemic\", IF($K152>1, IF($K152=4, \"Unknown\", IF($K152=99, \"Surveillance\", SUM($S152:$U152))), 0),\"Not required\")","v":0},0,1,0,0,"TAS",null,null,null,null,null,null,7554,"NJIKWA"]
[{"$f":"IF(INTRO!$E$33<>0,INTRO!$E$33, \" \")","v":"Cameroun"},"Nord Ouest","Nkambe",133351,21482.387999999999,{"$f":"IF(INTRO!$E$49=\"\",\"\",ROUND($D153*INTRO!$E$49,0))","v":35271},{"$f":"IF(INTRO!$E$50=\"\",\"\",ROUND($D153*INTRO!$E$50,0))","v":76770},99,1,3,1,1,{"$f":"IF(INTRO!$E$37=\"Endemic\",IF($H153>0,IF($H153=4,\"Unknown\",IF($H153=99,\"Stopped\",$D153)),0),\"Not required\")","v":"Stopped"},{"$f":"IF(INTRO!$E$39=\"Endemic\", IF($I153>0, IF($I153=4,\"Unknown\",IF($I153=99,\"Stopped\",$D153)), 0),\"Not required\")","v":133351},{"$f":"IF(INTRO!$E$41=\"Endemic\", IF($J153>1, IF($J153=4, \"Unknown\", IF($J153=99, \"Surveillance\", E153)), 0),\"Not required\")","v":21482.387999999999},{"$f":"IF(INTRO!$E$41=\"Endemic\", IF($J153>1, IF($J153=4, \"Unknown\", IF($J153=99, \"Surveillance\", F153)), 0),\"Not required\")","v":35271},{"$f":"IF(INTRO!$E$41=\"Endemic\", IF($J153>1, IF($J153=4, \"Unknown\", IF($J153=99, \"Surveillance\", ROUND(D153*INTRO!$E$51,0))), 0),\"Not required\")","v":4934},{"$f":"IF(INTRO!$E$41=\"Endemic\", IF($J153>1, IF($J153=4, \"Unknown\", IF($J153=99, \"Surveillance\", SUM($O153:$Q153))), 0),\"Not required\")","v":61687.387999999999},{"$f":"IF(INTRO!$E$43=\"Endemic\", IF($K153>1, IF($K153=4, \"Unknown\", IF($K153=99, \"Surveillance\", ROUND(E153*0.75,0))), 0),\"Not required\")","v":0},{"$f":"IF(INTRO!$E$43=\"Endemic\", IF($K153>1, IF($K153=4, \"Unknown\", IF($K153=99, \"Surveillance\", F153)), 0),\"Not required\")","v":0},{"$f":"IF(INTRO!$E$43=\"Endemic\", IF($K153>1, IF($K153=4, \"Unknown\", IF($K153=99, \"Surveillance\", G153)), 0),\"Not required\")","v":0},{"$f":"IF(INTRO!$E$43=\"Endemic\", IF($K153>1, IF($K153=4, \"Unknown\", IF($K153=99, \"Surveillance\", SUM($S153:$U153))), 0),\"Not required\")","v":0},0,1,1,0,"TAS",null,null,null,null,null,null,7555,"NKAMBE"]
[{"$f":"IF(INTRO!$E$33<>0,INTRO!$E$33, \" \")","v":"Cameroun"},"Nord Ouest","Nwa",64199,8140.2840000000006,{"$f":"IF(INTRO!$E$49=\"\",\"\",ROUND($D154*INTRO!$E$49,0))","v":16981},{"$f":"IF(INTRO!$E$50=\"\",\"\",ROUND($D154*INTRO!$E$50,0))","v":36959},99,1,3,0,1,{"$f":"IF(INTRO!$E$37=\"Endemic\",IF($H154>0,IF($H154=4,\"Unknown\",IF($H154=99,\"Stopped\",$D154)),0),\"Not required\")","v":"Stopped"},{"$f":"IF(INTRO!$E$39=\"Endemic\", IF($I154>0, IF($I154=4,\"Unknown\",IF($I154=99,\"Stopped\",$D154)), 0),\"Not required\")","v":64199},{"$f":"IF(INTRO!$E$41=\"Endemic\", IF($J154>1, IF($J154=4, \"Unknown\", IF($J154=99, \"Surveillance\", E154)), 0),\"Not required\")","v":8140.2840000000006},{"$f":"IF(INTRO!$E$41=\"Endemic\", IF($J154>1, IF($J154=4, \"Unknown\", IF($J154=99, \"Surveillance\", F154)), 0),\"Not required\")","v":16981},{"$f":"IF(INTRO!$E$41=\"Endemic\", IF($J154>1, IF($J154=4, \"Unknown\", IF($J154=99, \"Surveillance\", ROUND(D154*INTRO!$E$51,0))), 0),\"Not required\")","v":2375},{"$f":"IF(INTRO!$E$41=\"Endemic\", IF($J154>1, IF($J154=4, \"Unknown\", IF($J154=99, \"Surveillance\", SUM($O154:$Q154))), 0),\"Not required\")","v":27496.284},{"$f":"IF(INTRO!$E$43=\"Endemic\", IF($K154>1, IF($K154=4, \"Unknown\", IF($K154=99, \"Surveillance\", ROUND(E154*0.75,0))), 0),\"Not required\")","v":0},{"$f":"IF(INTRO!$E$43=\"Endemic\", IF($K154>1, IF($K154=4, \"Unknown\", IF($K154=99, \"Surveillance\", F154)), 0),\"Not required\")","v":0},{"$f":"IF(INTRO!$E$43=\"Endemic\", IF($K154>1, IF($K154=4, \"Unknown\", IF($K154=99, \"Surveillance\", G154)), 0),\"Not required\")","v":0},{"$f":"IF(INTRO!$E$43=\"Endemic\", IF($K154>1, IF($K154=4, \"Unknown\", IF($K154=99, \"Surveillance\", SUM($S154:$U154))), 0),\"Not required\")","v":0},0,1,1,0,"TAS",null,null,null,null,null,null,7556,"NWA"]
[{"$f":"IF(INTRO!$E$33<>0,INTRO!$E$33, \" \")","v":"Cameroun"},"Nord Ouest","Oku",66497,12076.02,{"$f":"IF(INTRO!$E$49=\"\",\"\",ROUND($D155*INTRO!$E$49,0))","v":17588},{"$f":"IF(INTRO!$E$50=\"\",\"\",ROUND($D155*INTRO!$E$50,0))","v":38282},99,1,2,0,1,{"$f":"IF(INTRO!$E$37=\"Endemic\",IF($H155>0,IF($H155=4,\"Unknown\",IF($H155=99,\"Stopped\",$D155)),0),\"Not required\")","v":"Stopped"},{"$f":"IF(INTRO!$E$39=\"Endemic\", IF($I155>0, IF($I155=4,\"Unknown\",IF($I155=99,\"Stopped\",$D155)), 0),\"Not required\")","v":66497},{"$f":"IF(INTRO!$E$41=\"Endemic\", IF($J155>1, IF($J155=4, \"Unknown\", IF($J155=99, \"Surveillance\", E155)), 0),\"Not required\")","v":12076.02},{"$f":"IF(INTRO!$E$41=\"Endemic\", IF($J155>1, IF($J155=4, \"Unknown\", IF($J155=99, \"Surveillance\", F155)), 0),\"Not required\")","v":17588},{"$f":"IF(INTRO!$E$41=\"Endemic\", IF($J155>1, IF($J155=4, \"Unknown\", IF($J155=99, \"Surveillance\", ROUND(D155*INTRO!$E$51,0))), 0),\"Not required\")","v":2460},{"$f":"IF(INTRO!$E$41=\"Endemic\", IF($J155>1, IF($J155=4, \"Unknown\", IF($J155=99, \"Surveillance\", SUM($O155:$Q155))), 0),\"Not required\")","v":32124.02},{"$f":"IF(INTRO!$E$43=\"Endemic\", IF($K155>1, IF($K155=4, \"Unknown\", IF($K155=99, \"Surveillance\", ROUND(E155*0.75,0))), 0),\"Not required\")","v":0},{"$f":"IF(INTRO!$E$43=\"Endemic\", IF($K155>1, IF($K155=4, \"Unknown\", IF($K155=99, \"Surveillance\", F155)), 0),\"Not required\")","v":0},{"$f":"IF(INTRO!$E$43=\"Endemic\", IF($K155>1, IF($K155=4, \"Unknown\", IF($K155=99, \"Surveillance\", G155)), 0),\"Not required\")","v":0},{"$f":"IF(INTRO!$E$43=\"Endemic\", IF($K155>1, IF($K155=4, \"Unknown\", IF($K155=99, \"Surveillance\", SUM($S155:$U155))), 0),\"Not required\")","v":0},0,1,1,0,"TAS",null,null,null,null,null,null,7557,"OKU"]
[{"$f":"IF(INTRO!$E$33<>0,INTRO!$E$33, \" \")","v":"Cameroun"},"Nord Ouest","Santa",82831,12825,{"$f":"IF(INTRO!$E$49=\"\",\"\",ROUND($D156*INTRO!$E$49,0))","v":21909},{"$f":"IF(INTRO!$E$50=\"\",\"\",ROUND($D156*INTRO!$E$50,0))","v":47686},99,1,3,1,1,{"$f":"IF(INTRO!$E$37=\"Endemic\",IF($H156>0,IF($H156=4,\"Unknown\",IF($H156=99,\"Stopped\",$D156)),0),\"Not required\")","v":"Stopped"},{"$f":"IF(INTRO!$E$39=\"Endemic\", IF($I156>0, IF($I156=4,\"Unknown\",IF($I156=99,\"Stopped\",$D156)), 0),\"Not required\")","v":82831},{"$f":"IF(INTRO!$E$41=\"Endemic\", IF($J156>1, IF($J156=4, \"Unknown\", IF($J156=99, \"Surveillance\", E156)), 0),\"Not required\")","v":12825},{"$f":"IF(INTRO!$E$41=\"Endemic\", IF($J156>1, IF($J156=4, \"Unknown\", IF($J156=99, \"Surveillance\", F156)), 0),\"Not required\")","v":21909},{"$f":"IF(INTRO!$E$41=\"Endemic\", IF($J156>1, IF($J156=4, \"Unknown\", IF($J156=99, \"Surveillance\", ROUND(D156*INTRO!$E$51,0))), 0),\"Not required\")","v":3065},{"$f":"IF(INTRO!$E$41=\"Endemic\", IF($J156>1, IF($J156=4, \"Unknown\", IF($J156=99, \"Surveillance\", SUM($O156:$Q156))), 0),\"Not required\")","v":37799},{"$f":"IF(INTRO!$E$43=\"Endemic\", IF($K156>1, IF($K156=4, \"Unknown\", IF($K156=99, \"Surveillance\", ROUND(E156*0.75,0))), 0),\"Not required\")","v":0},{"$f":"IF(INTRO!$E$43=\"Endemic\", IF($K156>1, IF($K156=4, \"Unknown\", IF($K156=99, \"Surveillance\", F156)), 0),\"Not required\")","v":0},{"$f":"IF(INTRO!$E$43=\"Endemic\", IF($K156>1, IF($K156=4, \"Unknown\", IF($K156=99, \"Surveillance\", G156)), 0),\"Not required\")","v":0},{"$f":"IF(INTRO!$E$43=\"Endemic\", IF($K156>1, IF($K156=4, \"Unknown\", IF($K156=99, \"Surveillance\", SUM($S156:$U156))), 0),\"Not required\")","v":0},0,1,1,0,"TAS",null,null,null,null,null,null,7558,"SANTA"]
[{"$f":"IF(INTRO!$E$33<>0,INTRO!$E$33, \" \")","v":"Cameroun"},"Nord Ouest","Tubah",65123,6197.04,{"$f":"IF(INTRO!$E$49=\"\",\"\",ROUND($D157*INTRO!$E$49,0))","v":17225},{"$f":"IF(INTRO!$E$50=\"\",\"\",ROUND($D157*INTRO!$E$50,0))","v":37491},99,1,1,0,1,{"$f":"IF(INTRO!$E$37=\"Endemic\",IF($H157>0,IF($H157=4,\"Unknown\",IF($H157=99,\"Stopped\",$D157)),0),\"Not required\")","v":"Stopped"},{"$f":"IF(INTRO!$E$39=\"Endemic\", IF($I157>0, IF($I157=4,\"Unknown\",IF($I157=99,\"Stopped\",$D157)), 0),\"Not required\")","v":65123},{"$f":"IF(INTRO!$E$41=\"Endemic\", IF($J157>1, IF($J157=4, \"Unknown\", IF($J157=99, \"Surveillance\", E157)), 0),\"Not required\")","v":0},{"$f":"IF(INTRO!$E$41=\"Endemic\", IF($J157>1, IF($J157=4, \"Unknown\", IF($J157=99, \"Surveillance\", F157)), 0),\"Not required\")","v":0},{"$f":"IF(INTRO!$E$41=\"Endemic\", IF($J157>1, IF($J157=4, \"Unknown\", IF($J157=99, \"Surveillance\", ROUND(D157*INTRO!$E$51,0))), 0),\"Not required\")","v":0},{"$f":"IF(INTRO!$E$41=\"Endemic\", IF($J157>1, IF($J157=4, \"Unknown\", IF($J157=99, \"Surveillance\", SUM($O157:$Q157))), 0),\"Not required\")","v":0},{"$f":"IF(INTRO!$E$43=\"Endemic\", IF($K157>1, IF($K157=4, \"Unknown\", IF($K157=99, \"Surveillance\", ROUND(E157*0.75,0))), 0),\"Not required\")","v":0},{"$f":"IF(INTRO!$E$43=\"Endemic\", IF($K157>1, IF($K157=4, \"Unknown\", IF($K157=99, \"Surveillance\", F157)), 0),\"Not required\")","v":0},{"$f":"IF(INTRO!$E$43=\"Endemic\", IF($K157>1, IF($K157=4, \"Unknown\", IF($K157=99, \"Surveillance\", G157)), 0),\"Not required\")","v":0},{"$f":"IF(INTRO!$E$43=\"Endemic\", IF($K157>1, IF($K157=4, \"Unknown\", IF($K157=99, \"Surveillance\", SUM($S157:$U157))), 0),\"Not required\")","v":0},0,1,0,0,"TAS",null,null,null,null,null,null,7559,"TUBAH"]
[{"$f":"IF(INTRO!$E$33<>0,INTRO!$E$33, \" \")","v":"Cameroun"},"Nord Ouest","Wum",121811,11457.342000000001,{"$f":"IF(INTRO!$E$49=\"\",\"\",ROUND($D158*INTRO!$E$49,0))","v":32219},{"$f":"IF(INTRO!$E$50=\"\",\"\",ROUND($D158*INTRO!$E$50,0))","v":70127},99,1,3,1,1,{"$f":"IF(INTRO!$E$37=\"Endemic\",IF($H158>0,IF($H158=4,\"Unknown\",IF($H158=99,\"Stopped\",$D158)),0),\"Not required\")","v":"Stopped"},{"$f":"IF(INTRO!$E$39=\"Endemic\", IF($I158>0, IF($I158=4,\"Unknown\",IF($I158=99,\"Stopped\",$D158)), 0),\"Not required\")","v":121811},{"$f":"IF(INTRO!$E$41=\"Endemic\", IF($J158>1, IF($J158=4, \"Unknown\", IF($J158=99, \"Surveillance\", E158)), 0),\"Not required\")","v":11457.342000000001},{"$f":"IF(INTRO!$E$41=\"Endemic\", IF($J158>1, IF($J158=4, \"Unknown\", IF($J158=99, \"Surveillance\", F158)), 0),\"Not required\")","v":32219},{"$f":"IF(INTRO!$E$41=\"Endemic\", IF($J158>1, IF($J158=4, \"Unknown\", IF($J158=99, \"Surveillance\", ROUND(D158*INTRO!$E$51,0))), 0),\"Not required\")","v":4507},{"$f":"IF(INTRO!$E$41=\"Endemic\", IF($J158>1, IF($J158=4, \"Unknown\", IF($J158=99, \"Surveillance\", SUM($O158:$Q158))), 0),\"Not required\")","v":48183.342000000004},{"$f":"IF(INTRO!$E$43=\"Endemic\", IF($K158>1, IF($K158=4, \"Unknown\", IF($K158=99, \"Surveillance\", ROUND(E158*0.75,0))), 0),\"Not required\")","v":0},{"$f":"IF(INTRO!$E$43=\"Endemic\", IF($K158>1, IF($K158=4, \"Unknown\", IF($K158=99, \"Surveillance\", F158)), 0),\"Not required\")","v":0},{"$f":"IF(INTRO!$E$43=\"Endemic\", IF($K158>1, IF($K158=4, \"Unknown\", IF($K158=99, \"Surveillance\", G158)), 0),\"Not required\")","v":0},{"$f":"IF(INTRO!$E$43=\"Endemic\", IF($K158>1, IF($K158=4, \"Unknown\", IF($K158=99, \"Surveillance\", SUM($S158:$U158))), 0),\"Not required\")","v":0},0,1,1,0,"TAS",null,null,null,null,null,null,7560,"WUM"]
[{"$f":"IF(INTRO!$E$33<>0,INTRO!$E$33, \" \")","v":"Cameroun"},"Ouest","Bafang",87537,12707.01,{"$f":"IF(INTRO!$E$49=\"\",\"\",ROUND($D159*INTRO!$E$49,0))","v":23154},{"$f":"IF(INTRO!$E$50=\"\",\"\",ROUND($D159*INTRO!$E$50,0))","v":50395},99,1,3,1,1,{"$f":"IF(INTRO!$E$37=\"Endemic\",IF($H159>0,IF($H159=4,\"Unknown\",IF($H159=99,\"Stopped\",$D159)),0),\"Not required\")","v":"Stopped"},{"$f":"IF(INTRO!$E$39=\"Endemic\", IF($I159>0, IF($I159=4,\"Unknown\",IF($I159=99,\"Stopped\",$D159)), 0),\"Not required\")","v":87537},{"$f":"IF(INTRO!$E$41=\"Endemic\", IF($J159>1, IF($J159=4, \"Unknown\", IF($J159=99, \"Surveillance\", E159)), 0),\"Not required\")","v":12707.01},{"$f":"IF(INTRO!$E$41=\"Endemic\", IF($J159>1, IF($J159=4, \"Unknown\", IF($J159=99, \"Surveillance\", F159)), 0),\"Not required\")","v":23154},{"$f":"IF(INTRO!$E$41=\"Endemic\", IF($J159>1, IF($J159=4, \"Unknown\", IF($J159=99, \"Surveillance\", ROUND(D159*INTRO!$E$51,0))), 0),\"Not required\")","v":3239},{"$f":"IF(INTRO!$E$41=\"Endemic\", IF($J159>1, IF($J159=4, \"Unknown\", IF($J159=99, \"Surveillance\", SUM($O159:$Q159))), 0),\"Not required\")","v":39100.01},{"$f":"IF(INTRO!$E$43=\"Endemic\", IF($K159>1, IF($K159=4, \"Unknown\", IF($K159=99, \"Surveillance\", ROUND(E159*0.75,0))), 0),\"Not required\")","v":0},{"$f":"IF(INTRO!$E$43=\"Endemic\", IF($K159>1, IF($K159=4, \"Unknown\", IF($K159=99, \"Surveillance\", F159)), 0),\"Not required\")","v":0},{"$f":"IF(INTRO!$E$43=\"Endemic\", IF($K159>1, IF($K159=4, \"Unknown\", IF($K159=99, \"Surveillance\", G159)), 0),\"Not required\")","v":0},{"$f":"IF(INTRO!$E$43=\"Endemic\", IF($K159>1, IF($K159=4, \"Unknown\", IF($K159=99, \"Surveillance\", SUM($S159:$U159))), 0),\"Not required\")","v":0},0,1,1,0,null,"Yes",null,null,null,null,null,7561,"BAFANG"]
[{"$f":"IF(INTRO!$E$33<>0,INTRO!$E$33, \" \")","v":"Cameroun"},"Ouest","Baham",49935,7871.4719999999998,{"$f":"IF(INTRO!$E$49=\"\",\"\",ROUND($D160*INTRO!$E$49,0))","v":13208},{"$f":"IF(INTRO!$E$50=\"\",\"\",ROUND($D160*INTRO!$E$50,0))","v":28748},99,1,3,1,1,{"$f":"IF(INTRO!$E$37=\"Endemic\",IF($H160>0,IF($H160=4,\"Unknown\",IF($H160=99,\"Stopped\",$D160)),0),\"Not required\")","v":"Stopped"},{"$f":"IF(INTRO!$E$39=\"Endemic\", IF($I160>0, IF($I160=4,\"Unknown\",IF($I160=99,\"Stopped\",$D160)), 0),\"Not required\")","v":49935},{"$f":"IF(INTRO!$E$41=\"Endemic\", IF($J160>1, IF($J160=4, \"Unknown\", IF($J160=99, \"Surveillance\", E160)), 0),\"Not required\")","v":7871.4719999999998},{"$f":"IF(INTRO!$E$41=\"Endemic\", IF($J160>1, IF($J160=4, \"Unknown\", IF($J160=99, \"Surveillance\", F160)), 0),\"Not required\")","v":13208},{"$f":"IF(INTRO!$E$41=\"Endemic\", IF($J160>1, IF($J160=4, \"Unknown\", IF($J160=99, \"Surveillance\", ROUND(D160*INTRO!$E$51,0))), 0),\"Not required\")","v":1848},{"$f":"IF(INTRO!$E$41=\"Endemic\", IF($J160>1, IF($J160=4, \"Unknown\", IF($J160=99, \"Surveillance\", SUM($O160:$Q160))), 0),\"Not required\")","v":22927.472000000002},{"$f":"IF(INTRO!$E$43=\"Endemic\", IF($K160>1, IF($K160=4, \"Unknown\", IF($K160=99, \"Surveillance\", ROUND(E160*0.75,0))), 0),\"Not required\")","v":0},{"$f":"IF(INTRO!$E$43=\"Endemic\", IF($K160>1, IF($K160=4, \"Unknown\", IF($K160=99, \"Surveillance\", F160)), 0),\"Not required\")","v":0},{"$f":"IF(INTRO!$E$43=\"Endemic\", IF($K160>1, IF($K160=4, \"Unknown\", IF($K160=99, \"Surveillance\", G160)), 0),\"Not required\")","v":0},{"$f":"IF(INTRO!$E$43=\"Endemic\", IF($K160>1, IF($K160=4, \"Unknown\", IF($K160=99, \"Surveillance\", SUM($S160:$U160))), 0),\"Not required\")","v":0},0,1,1,0,null,"Yes",null,null,null,null,null,7562,"BAHAM"]
[{"$f":"IF(INTRO!$E$33<>0,INTRO!$E$33, \" \")","v":"Cameroun"},"Ouest","Bamendjou",45866,7487.7480000000005,{"$f":"IF(INTRO!$E$49=\"\",\"\",ROUND($D161*INTRO!$E$49,0))","v":12132},{"$f":"IF(INTRO!$E$50=\"\",\"\",ROUND($D161*INTRO!$E$50,0))","v":26405},99,1,3,0,1,{"$f":"IF(INTRO!$E$37=\"Endemic\",IF($H161>0,IF($H161=4,\"Unknown\",IF($H161=99,\"Stopped\",$D161)),0),\"Not required\")","v":"Stopped"},{"$f":"IF(INTRO!$E$39=\"Endemic\", IF($I161>0, IF($I161=4,\"Unknown\",IF($I161=99,\"Stopped\",$D161)), 0),\"Not required\")","v":45866},{"$f":"IF(INTRO!$E$41=\"Endemic\", IF($J161>1, IF($J161=4, \"Unknown\", IF($J161=99, \"Surveillance\", E161)), 0),\"Not required\")","v":7487.7480000000005},{"$f":"IF(INTRO!$E$41=\"Endemic\", IF($J161>1, IF($J161=4, \"Unknown\", IF($J161=99, \"Surveillance\", F161)), 0),\"Not required\")","v":12132},{"$f":"IF(INTRO!$E$41=\"Endemic\", IF($J161>1, IF($J161=4, \"Unknown\", IF($J161=99, \"Surveillance\", ROUND(D161*INTRO!$E$51,0))), 0),\"Not required\")","v":1697},{"$f":"IF(INTRO!$E$41=\"Endemic\", IF($J161>1, IF($J161=4, \"Unknown\", IF($J161=99, \"Surveillance\", SUM($O161:$Q161))), 0),\"Not required\")","v":21316.748},{"$f":"IF(INTRO!$E$43=\"Endemic\", IF($K161>1, IF($K161=4, \"Unknown\", IF($K161=99, \"Surveillance\", ROUND(E161*0.75,0))), 0),\"Not required\")","v":0},{"$f":"IF(INTRO!$E$43=\"Endemic\", IF($K161>1, IF($K161=4, \"Unknown\", IF($K161=99, \"Surveillance\", F161)), 0),\"Not required\")","v":0},{"$f":"IF(INTRO!$E$43=\"Endemic\", IF($K161>1, IF($K161=4, \"Unknown\", IF($K161=99, \"Surveillance\", G161)), 0),\"Not required\")","v":0},{"$f":"IF(INTRO!$E$43=\"Endemic\", IF($K161>1, IF($K161=4, \"Unknown\", IF($K161=99, \"Surveillance\", SUM($S161:$U161))), 0),\"Not required\")","v":0},0,1,1,0,null,"Yes",null,null,null,null,null,7563,"BAMENDJOU"]
[{"$f":"IF(INTRO!$E$33<>0,INTRO!$E$33, \" \")","v":"Cameroun"},"Ouest","Bandja",30547,5267.4840000000004,{"$f":"IF(INTRO!$E$49=\"\",\"\",ROUND($D162*INTRO!$E$49,0))","v":8080},{"$f":"IF(INTRO!$E$50=\"\",\"\",ROUND($D162*INTRO!$E$50,0))","v":17586},99,1,3,1,1,{"$f":"IF(INTRO!$E$37=\"Endemic\",IF($H162>0,IF($H162=4,\"Unknown\",IF($H162=99,\"Stopped\",$D162)),0),\"Not required\")","v":"Stopped"},{"$f":"IF(INTRO!$E$39=\"Endemic\", IF($I162>0, IF($I162=4,\"Unknown\",IF($I162=99,\"Stopped\",$D162)), 0),\"Not required\")","v":30547},{"$f":"IF(INTRO!$E$41=\"Endemic\", IF($J162>1, IF($J162=4, \"Unknown\", IF($J162=99, \"Surveillance\", E162)), 0),\"Not required\")","v":5267.4840000000004},{"$f":"IF(INTRO!$E$41=\"Endemic\", IF($J162>1, IF($J162=4, \"Unknown\", IF($J162=99, \"Surveillance\", F162)), 0),\"Not required\")","v":8080},{"$f":"IF(INTRO!$E$41=\"Endemic\", IF($J162>1, IF($J162=4, \"Unknown\", IF($J162=99, \"Surveillance\", ROUND(D162*INTRO!$E$51,0))), 0),\"Not required\")","v":1130},{"$f":"IF(INTRO!$E$41=\"Endemic\", IF($J162>1, IF($J162=4, \"Unknown\", IF($J162=99, \"Surveillance\", SUM($O162:$Q162))), 0),\"Not required\")","v":14477.484},{"$f":"IF(INTRO!$E$43=\"Endemic\", IF($K162>1, IF($K162=4, \"Unknown\", IF($K162=99, \"Surveillance\", ROUND(E162*0.75,0))), 0),\"Not required\")","v":0},{"$f":"IF(INTRO!$E$43=\"Endemic\", IF($K162>1, IF($K162=4, \"Unknown\", IF($K162=99, \"Surveillance\", F162)), 0),\"Not required\")","v":0},{"$f":"IF(INTRO!$E$43=\"Endemic\", IF($K162>1, IF($K162=4, \"Unknown\", IF($K162=99, \"Surveillance\", G162)), 0),\"Not required\")","v":0},{"$f":"IF(INTRO!$E$43=\"Endemic\", IF($K162>1, IF($K162=4, \"Unknown\", IF($K162=99, \"Surveillance\", SUM($S162:$U162))), 0),\"Not required\")","v":0},0,1,1,0,null,"Yes",null,null,null,null,null,7564,"BANDJA"]
[{"$f":"IF(INTRO!$E$33<>0,INTRO!$E$33, \" \")","v":"Cameroun"},"Ouest","Bandjoun",104947,22291.902000000002,{"$f":"IF(INTRO!$E$49=\"\",\"\",ROUND($D163*INTRO!$E$49,0))","v":27758},{"$f":"IF(INTRO!$E$50=\"\",\"\",ROUND($D163*INTRO!$E$50,0))","v":60418},99,1,3,0,1,{"$f":"IF(INTRO!$E$37=\"Endemic\",IF($H163>0,IF($H163=4,\"Unknown\",IF($H163=99,\"Stopped\",$D163)),0),\"Not required\")","v":"Stopped"},{"$f":"IF(INTRO!$E$39=\"Endemic\", IF($I163>0, IF($I163=4,\"Unknown\",IF($I163=99,\"Stopped\",$D163)), 0),\"Not required\")","v":104947},{"$f":"IF(INTRO!$E$41=\"Endemic\", IF($J163>1, IF($J163=4, \"Unknown\", IF($J163=99, \"Surveillance\", E163)), 0),\"Not required\")","v":22291.902000000002},{"$f":"IF(INTRO!$E$41=\"Endemic\", IF($J163>1, IF($J163=4, \"Unknown\", IF($J163=99, \"Surveillance\", F163)), 0),\"Not required\")","v":27758},{"$f":"IF(INTRO!$E$41=\"Endemic\", IF($J163>1, IF($J163=4, \"Unknown\", IF($J163=99, \"Surveillance\", ROUND(D163*INTRO!$E$51,0))), 0),\"Not required\")","v":3883},{"$f":"IF(INTRO!$E$41=\"Endemic\", IF($J163>1, IF($J163=4, \"Unknown\", IF($J163=99, \"Surveillance\", SUM($O163:$Q163))), 0),\"Not required\")","v":53932.902000000002},{"$f":"IF(INTRO!$E$43=\"Endemic\", IF($K163>1, IF($K163=4, \"Unknown\", IF($K163=99, \"Surveillance\", ROUND(E163*0.75,0))), 0),\"Not required\")","v":0},{"$f":"IF(INTRO!$E$43=\"Endemic\", IF($K163>1, IF($K163=4, \"Unknown\", IF($K163=99, \"Surveillance\", F163)), 0),\"Not required\")","v":0},{"$f":"IF(INTRO!$E$43=\"Endemic\", IF($K163>1, IF($K163=4, \"Unknown\", IF($K163=99, \"Surveillance\", G163)), 0),\"Not required\")","v":0},{"$f":"IF(INTRO!$E$43=\"Endemic\", IF($K163>1, IF($K163=4, \"Unknown\", IF($K163=99, \"Surveillance\", SUM($S163:$U163))), 0),\"Not required\")","v":0},0,1,1,0,null,"Yes",null,null,null,null,null,7565,"BANDJOUN"]
[{"$f":"IF(INTRO!$E$33<>0,INTRO!$E$33, \" \")","v":"Cameroun"},"Ouest","Bangangte",128592,18815.814000000002,{"$f":"IF(INTRO!$E$49=\"\",\"\",ROUND($D164*INTRO!$E$49,0))","v":34013},{"$f":"IF(INTRO!$E$50=\"\",\"\",ROUND($D164*INTRO!$E$50,0))","v":74030},99,1,3,2,1,{"$f":"IF(INTRO!$E$37=\"Endemic\",IF($H164>0,IF($H164=4,\"Unknown\",IF($H164=99,\"Stopped\",$D164)),0),\"Not required\")","v":"Stopped"},{"$f":"IF(INTRO!$E$39=\"Endemic\", IF($I164>0, IF($I164=4,\"Unknown\",IF($I164=99,\"Stopped\",$D164)), 0),\"Not required\")","v":128592},{"$f":"IF(INTRO!$E$41=\"Endemic\", IF($J164>1, IF($J164=4, \"Unknown\", IF($J164=99, \"Surveillance\", E164)), 0),\"Not required\")","v":18815.814000000002},{"$f":"IF(INTRO!$E$41=\"Endemic\", IF($J164>1, IF($J164=4, \"Unknown\", IF($J164=99, \"Surveillance\", F164)), 0),\"Not required\")","v":34013},{"$f":"IF(INTRO!$E$41=\"Endemic\", IF($J164>1, IF($J164=4, \"Unknown\", IF($J164=99, \"Surveillance\", ROUND(D164*INTRO!$E$51,0))), 0),\"Not required\")","v":4758},{"$f":"IF(INTRO!$E$41=\"Endemic\", IF($J164>1, IF($J164=4, \"Unknown\", IF($J164=99, \"Surveillance\", SUM($O164:$Q164))), 0),\"Not required\")","v":57586.813999999998},{"$f":"IF(INTRO!$E$43=\"Endemic\", IF($K164>1, IF($K164=4, \"Unknown\", IF($K164=99, \"Surveillance\", ROUND(E164*0.75,0))), 0),\"Not required\")","v":14112},{"$f":"IF(INTRO!$E$43=\"Endemic\", IF($K164>1, IF($K164=4, \"Unknown\", IF($K164=99, \"Surveillance\", F164)), 0),\"Not required\")","v":34013},{"$f":"IF(INTRO!$E$43=\"Endemic\", IF($K164>1, IF($K164=4, \"Unknown\", IF($K164=99, \"Surveillance\", G164)), 0),\"Not required\")","v":74030},{"$f":"IF(INTRO!$E$43=\"Endemic\", IF($K164>1, IF($K164=4, \"Unknown\", IF($K164=99, \"Surveillance\", SUM($S164:$U164))), 0),\"Not required\")","v":122155},0,1,1,1,null,"Yes",null,null,null,null,null,7566,"BANGANGTE"]
[{"$f":"IF(INTRO!$E$33<>0,INTRO!$E$33, \" \")","v":"Cameroun"},"Ouest","Bangourain",56317,10006.578,{"$f":"IF(INTRO!$E$49=\"\",\"\",ROUND($D165*INTRO!$E$49,0))","v":14896},{"$f":"IF(INTRO!$E$50=\"\",\"\",ROUND($D165*INTRO!$E$50,0))","v":32422},99,1,1,1,1,{"$f":"IF(INTRO!$E$37=\"Endemic\",IF($H165>0,IF($H165=4,\"Unknown\",IF($H165=99,\"Stopped\",$D165)),0),\"Not required\")","v":"Stopped"},{"$f":"IF(INTRO!$E$39=\"Endemic\", IF($I165>0, IF($I165=4,\"Unknown\",IF($I165=99,\"Stopped\",$D165)), 0),\"Not required\")","v":56317},{"$f":"IF(INTRO!$E$41=\"Endemic\", IF($J165>1, IF($J165=4, \"Unknown\", IF($J165=99, \"Surveillance\", E165)), 0),\"Not required\")","v":0},{"$f":"IF(INTRO!$E$41=\"Endemic\", IF($J165>1, IF($J165=4, \"Unknown\", IF($J165=99, \"Surveillance\", F165)), 0),\"Not required\")","v":0},{"$f":"IF(INTRO!$E$41=\"Endemic\", IF($J165>1, IF($J165=4, \"Unknown\", IF($J165=99, \"Surveillance\", ROUND(D165*INTRO!$E$51,0))), 0),\"Not required\")","v":0},{"$f":"IF(INTRO!$E$41=\"Endemic\", IF($J165>1, IF($J165=4, \"Unknown\", IF($J165=99, \"Surveillance\", SUM($O165:$Q165))), 0),\"Not required\")","v":0},{"$f":"IF(INTRO!$E$43=\"Endemic\", IF($K165>1, IF($K165=4, \"Unknown\", IF($K165=99, \"Surveillance\", ROUND(E165*0.75,0))), 0),\"Not required\")","v":0},{"$f":"IF(INTRO!$E$43=\"Endemic\", IF($K165>1, IF($K165=4, \"Unknown\", IF($K165=99, \"Surveillance\", F165)), 0),\"Not required\")","v":0},{"$f":"IF(INTRO!$E$43=\"Endemic\", IF($K165>1, IF($K165=4, \"Unknown\", IF($K165=99, \"Surveillance\", G165)), 0),\"Not required\")","v":0},{"$f":"IF(INTRO!$E$43=\"Endemic\", IF($K165>1, IF($K165=4, \"Unknown\", IF($K165=99, \"Surveillance\", SUM($S165:$U165))), 0),\"Not required\")","v":0},0,1,0,0,null,"Yes",null,null,null,null,null,7567,"BANGOURAIN"]
[{"$f":"IF(INTRO!$E$33<>0,INTRO!$E$33, \" \")","v":"Cameroun"},"Ouest","Batcham",97945,12368.43,{"$f":"IF(INTRO!$E$49=\"\",\"\",ROUND($D166*INTRO!$E$49,0))","v":25906},{"$f":"IF(INTRO!$E$50=\"\",\"\",ROUND($D166*INTRO!$E$50,0))","v":56387},99,1,3,1,1,{"$f":"IF(INTRO!$E$37=\"Endemic\",IF($H166>0,IF($H166=4,\"Unknown\",IF($H166=99,\"Stopped\",$D166)),0),\"Not required\")","v":"Stopped"},{"$f":"IF(INTRO!$E$39=\"Endemic\", IF($I166>0, IF($I166=4,\"Unknown\",IF($I166=99,\"Stopped\",$D166)), 0),\"Not required\")","v":97945},{"$f":"IF(INTRO!$E$41=\"Endemic\", IF($J166>1, IF($J166=4, \"Unknown\", IF($J166=99, \"Surveillance\", E166)), 0),\"Not required\")","v":12368.43},{"$f":"IF(INTRO!$E$41=\"Endemic\", IF($J166>1, IF($J166=4, \"Unknown\", IF($J166=99, \"Surveillance\", F166)), 0),\"Not required\")","v":25906},{"$f":"IF(INTRO!$E$41=\"Endemic\", IF($J166>1, IF($J166=4, \"Unknown\", IF($J166=99, \"Surveillance\", ROUND(D166*INTRO!$E$51,0))), 0),\"Not required\")","v":3624},{"$f":"IF(INTRO!$E$41=\"Endemic\", IF($J166>1, IF($J166=4, \"Unknown\", IF($J166=99, \"Surveillance\", SUM($O166:$Q166))), 0),\"Not required\")","v":41898.43},{"$f":"IF(INTRO!$E$43=\"Endemic\", IF($K166>1, IF($K166=4, \"Unknown\", IF($K166=99, \"Surveillance\", ROUND(E166*0.75,0))), 0),\"Not required\")","v":0},{"$f":"IF(INTRO!$E$43=\"Endemic\", IF($K166>1, IF($K166=4, \"Unknown\", IF($K166=99, \"Surveillance\", F166)), 0),\"Not required\")","v":0},{"$f":"IF(INTRO!$E$43=\"Endemic\", IF($K166>1, IF($K166=4, \"Unknown\", IF($K166=99, \"Surveillance\", G166)), 0),\"Not required\")","v":0},{"$f":"IF(INTRO!$E$43=\"Endemic\", IF($K166>1, IF($K166=4, \"Unknown\", IF($K166=99, \"Surveillance\", SUM($S166:$U166))), 0),\"Not required\")","v":0},0,1,1,0,null,"Yes",null,null,null,null,null,7568,"BATCHAM"]
[{"$f":"IF(INTRO!$E$33<>0,INTRO!$E$33, \" \")","v":"Cameroun"},"Ouest","Dschang",256865,41353.955999999998,{"$f":"IF(INTRO!$E$49=\"\",\"\",ROUND($D167*INTRO!$E$49,0))","v":67941},{"$f":"IF(INTRO!$E$50=\"\",\"\",ROUND($D167*INTRO!$E$50,0))","v":147877},99,1,3,0,1,{"$f":"IF(INTRO!$E$37=\"Endemic\",IF($H167>0,IF($H167=4,\"Unknown\",IF($H167=99,\"Stopped\",$D167)),0),\"Not required\")","v":"Stopped"},{"$f":"IF(INTRO!$E$39=\"Endemic\", IF($I167>0, IF($I167=4,\"Unknown\",IF($I167=99,\"Stopped\",$D167)), 0),\"Not required\")","v":256865},{"$f":"IF(INTRO!$E$41=\"Endemic\", IF($J167>1, IF($J167=4, \"Unknown\", IF($J167=99, \"Surveillance\", E167)), 0),\"Not required\")","v":41353.955999999998},{"$f":"IF(INTRO!$E$41=\"Endemic\", IF($J167>1, IF($J167=4, \"Unknown\", IF($J167=99, \"Surveillance\", F167)), 0),\"Not required\")","v":67941},{"$f":"IF(INTRO!$E$41=\"Endemic\", IF($J167>1, IF($J167=4, \"Unknown\", IF($J167=99, \"Surveillance\", ROUND(D167*INTRO!$E$51,0))), 0),\"Not required\")","v":9504},{"$f":"IF(INTRO!$E$41=\"Endemic\", IF($J167>1, IF($J167=4, \"Unknown\", IF($J167=99, \"Surveillance\", SUM($O167:$Q167))), 0),\"Not required\")","v":118798.95600000001},{"$f":"IF(INTRO!$E$43=\"Endemic\", IF($K167>1, IF($K167=4, \"Unknown\", IF($K167=99, \"Surveillance\", ROUND(E167*0.75,0))), 0),\"Not required\")","v":0},{"$f":"IF(INTRO!$E$43=\"Endemic\", IF($K167>1, IF($K167=4, \"Unknown\", IF($K167=99, \"Surveillance\", F167)), 0),\"Not required\")","v":0},{"$f":"IF(INTRO!$E$43=\"Endemic\", IF($K167>1, IF($K167=4, \"Unknown\", IF($K167=99, \"Surveillance\", G167)), 0),\"Not required\")","v":0},{"$f":"IF(INTRO!$E$43=\"Endemic\", IF($K167>1, IF($K167=4, \"Unknown\", IF($K167=99, \"Surveillance\", SUM($S167:$U167))), 0),\"Not required\")","v":0},0,1,1,0,null,"Yes",null,null,null,null,null,7569,"DSCHANG"]
[{"$f":"IF(INTRO!$E$33<>0,INTRO!$E$33, \" \")","v":"Cameroun"},"Ouest","Foumban",274904,54025.056000000004,{"$f":"IF(INTRO!$E$49=\"\",\"\",ROUND($D168*INTRO!$E$49,0))","v":72712},{"$f":"IF(INTRO!$E$50=\"\",\"\",ROUND($D168*INTRO!$E$50,0))","v":158262},0,1,3,2,1,{"$f":"IF(INTRO!$E$37=\"Endemic\",IF($H168>0,IF($H168=4,\"Unknown\",IF($H168=99,\"Stopped\",$D168)),0),\"Not required\")","v":0},{"$f":"IF(INTRO!$E$39=\"Endemic\", IF($I168>0, IF($I168=4,\"Unknown\",IF($I168=99,\"Stopped\",$D168)), 0),\"Not required\")","v":274904},{"$f":"IF(INTRO!$E$41=\"Endemic\", IF($J168>1, IF($J168=4, \"Unknown\", IF($J168=99, \"Surveillance\", E168)), 0),\"Not required\")","v":54025.056000000004},{"$f":"IF(INTRO!$E$41=\"Endemic\", IF($J168>1, IF($J168=4, \"Unknown\", IF($J168=99, \"Surveillance\", F168)), 0),\"Not required\")","v":72712},{"$f":"IF(INTRO!$E$41=\"Endemic\", IF($J168>1, IF($J168=4, \"Unknown\", IF($J168=99, \"Surveillance\", ROUND(D168*INTRO!$E$51,0))), 0),\"Not required\")","v":10171},{"$f":"IF(INTRO!$E$41=\"Endemic\", IF($J168>1, IF($J168=4, \"Unknown\", IF($J168=99, \"Surveillance\", SUM($O168:$Q168))), 0),\"Not required\")","v":136908.05600000001},{"$f":"IF(INTRO!$E$43=\"Endemic\", IF($K168>1, IF($K168=4, \"Unknown\", IF($K168=99, \"Surveillance\", ROUND(E168*0.75,0))), 0),\"Not required\")","v":40519},{"$f":"IF(INTRO!$E$43=\"Endemic\", IF($K168>1, IF($K168=4, \"Unknown\", IF($K168=99, \"Surveillance\", F168)), 0),\"Not required\")","v":72712},{"$f":"IF(INTRO!$E$43=\"Endemic\", IF($K168>1, IF($K168=4, \"Unknown\", IF($K168=99, \"Surveillance\", G168)), 0),\"Not required\")","v":158262},{"$f":"IF(INTRO!$E$43=\"Endemic\", IF($K168>1, IF($K168=4, \"Unknown\", IF($K168=99, \"Surveillance\", SUM($S168:$U168))), 0),\"Not required\")","v":271493},0,1,1,1,null,"Yes",null,null,null,null,null,7570,"FOUMBAN"]
[{"$f":"IF(INTRO!$E$33<>0,INTRO!$E$33, \" \")","v":"Cameroun"},"Ouest","Foumbot",146045,25259.094000000001,{"$f":"IF(INTRO!$E$49=\"\",\"\",ROUND($D169*INTRO!$E$49,0))","v":38629},{"$f":"IF(INTRO!$E$50=\"\",\"\",ROUND($D169*INTRO!$E$50,0))","v":84078},0,1,3,2,1,{"$f":"IF(INTRO!$E$37=\"Endemic\",IF($H169>0,IF($H169=4,\"Unknown\",IF($H169=99,\"Stopped\",$D169)),0),\"Not required\")","v":0},{"$f":"IF(INTRO!$E$39=\"Endemic\", IF($I169>0, IF($I169=4,\"Unknown\",IF($I169=99,\"Stopped\",$D169)), 0),\"Not required\")","v":146045},{"$f":"IF(INTRO!$E$41=\"Endemic\", IF($J169>1, IF($J169=4, \"Unknown\", IF($J169=99, \"Surveillance\", E169)), 0),\"Not required\")","v":25259.094000000001},{"$f":"IF(INTRO!$E$41=\"Endemic\", IF($J169>1, IF($J169=4, \"Unknown\", IF($J169=99, \"Surveillance\", F169)), 0),\"Not required\")","v":38629},{"$f":"IF(INTRO!$E$41=\"Endemic\", IF($J169>1, IF($J169=4, \"Unknown\", IF($J169=99, \"Surveillance\", ROUND(D169*INTRO!$E$51,0))), 0),\"Not required\")","v":5404},{"$f":"IF(INTRO!$E$41=\"Endemic\", IF($J169>1, IF($J169=4, \"Unknown\", IF($J169=99, \"Surveillance\", SUM($O169:$Q169))), 0),\"Not required\")","v":69292.093999999997},{"$f":"IF(INTRO!$E$43=\"Endemic\", IF($K169>1, IF($K169=4, \"Unknown\", IF($K169=99, \"Surveillance\", ROUND(E169*0.75,0))), 0),\"Not required\")","v":18944},{"$f":"IF(INTRO!$E$43=\"Endemic\", IF($K169>1, IF($K169=4, \"Unknown\", IF($K169=99, \"Surveillance\", F169)), 0),\"Not required\")","v":38629},{"$f":"IF(INTRO!$E$43=\"Endemic\", IF($K169>1, IF($K169=4, \"Unknown\", IF($K169=99, \"Surveillance\", G169)), 0),\"Not required\")","v":84078},{"$f":"IF(INTRO!$E$43=\"Endemic\", IF($K169>1, IF($K169=4, \"Unknown\", IF($K169=99, \"Surveillance\", SUM($S169:$U169))), 0),\"Not required\")","v":141651},0,1,1,1,null,"Yes",null,null,null,null,null,7571,"FOUMBOT"]
[{"$f":"IF(INTRO!$E$33<>0,INTRO!$E$33, \" \")","v":"Cameroun"},"Ouest","Galim",71924,12460.77,{"$f":"IF(INTRO!$E$49=\"\",\"\",ROUND($D170*INTRO!$E$49,0))","v":19024},{"$f":"IF(INTRO!$E$50=\"\",\"\",ROUND($D170*INTRO!$E$50,0))","v":41407},99,1,3,1,1,{"$f":"IF(INTRO!$E$37=\"Endemic\",IF($H170>0,IF($H170=4,\"Unknown\",IF($H170=99,\"Stopped\",$D170)),0),\"Not required\")","v":"Stopped"},{"$f":"IF(INTRO!$E$39=\"Endemic\", IF($I170>0, IF($I170=4,\"Unknown\",IF($I170=99,\"Stopped\",$D170)), 0),\"Not required\")","v":71924},{"$f":"IF(INTRO!$E$41=\"Endemic\", IF($J170>1, IF($J170=4, \"Unknown\", IF($J170=99, \"Surveillance\", E170)), 0),\"Not required\")","v":12460.77},{"$f":"IF(INTRO!$E$41=\"Endemic\", IF($J170>1, IF($J170=4, \"Unknown\", IF($J170=99, \"Surveillance\", F170)), 0),\"Not required\")","v":19024},{"$f":"IF(INTRO!$E$41=\"Endemic\", IF($J170>1, IF($J170=4, \"Unknown\", IF($J170=99, \"Surveillance\", ROUND(D170*INTRO!$E$51,0))), 0),\"Not required\")","v":2661},{"$f":"IF(INTRO!$E$41=\"Endemic\", IF($J170>1, IF($J170=4, \"Unknown\", IF($J170=99, \"Surveillance\", SUM($O170:$Q170))), 0),\"Not required\")","v":34145.770000000004},{"$f":"IF(INTRO!$E$43=\"Endemic\", IF($K170>1, IF($K170=4, \"Unknown\", IF($K170=99, \"Surveillance\", ROUND(E170*0.75,0))), 0),\"Not required\")","v":0},{"$f":"IF(INTRO!$E$43=\"Endemic\", IF($K170>1, IF($K170=4, \"Unknown\", IF($K170=99, \"Surveillance\", F170)), 0),\"Not required\")","v":0},{"$f":"IF(INTRO!$E$43=\"Endemic\", IF($K170>1, IF($K170=4, \"Unknown\", IF($K170=99, \"Surveillance\", G170)), 0),\"Not required\")","v":0},{"$f":"IF(INTRO!$E$43=\"Endemic\", IF($K170>1, IF($K170=4, \"Unknown\", IF($K170=99, \"Surveillance\", SUM($S170:$U170))), 0),\"Not required\")","v":0},0,1,1,0,null,"Yes",null,null,null,null,null,7572,"GALIM"]
[{"$f":"IF(INTRO!$E$33<>0,INTRO!$E$33, \" \")","v":"Cameroun"},"Ouest","Kekem",51900,6225.768,{"$f":"IF(INTRO!$E$49=\"\",\"\",ROUND($D171*INTRO!$E$49,0))","v":13728},{"$f":"IF(INTRO!$E$50=\"\",\"\",ROUND($D171*INTRO!$E$50,0))","v":29879},99,1,3,1,1,{"$f":"IF(INTRO!$E$37=\"Endemic\",IF($H171>0,IF($H171=4,\"Unknown\",IF($H171=99,\"Stopped\",$D171)),0),\"Not required\")","v":"Stopped"},{"$f":"IF(INTRO!$E$39=\"Endemic\", IF($I171>0, IF($I171=4,\"Unknown\",IF($I171=99,\"Stopped\",$D171)), 0),\"Not required\")","v":51900},{"$f":"IF(INTRO!$E$41=\"Endemic\", IF($J171>1, IF($J171=4, \"Unknown\", IF($J171=99, \"Surveillance\", E171)), 0),\"Not required\")","v":6225.768},{"$f":"IF(INTRO!$E$41=\"Endemic\", IF($J171>1, IF($J171=4, \"Unknown\", IF($J171=99, \"Surveillance\", F171)), 0),\"Not required\")","v":13728},{"$f":"IF(INTRO!$E$41=\"Endemic\", IF($J171>1, IF($J171=4, \"Unknown\", IF($J171=99, \"Surveillance\", ROUND(D171*INTRO!$E$51,0))), 0),\"Not required\")","v":1920},{"$f":"IF(INTRO!$E$41=\"Endemic\", IF($J171>1, IF($J171=4, \"Unknown\", IF($J171=99, \"Surveillance\", SUM($O171:$Q171))), 0),\"Not required\")","v":21873.768},{"$f":"IF(INTRO!$E$43=\"Endemic\", IF($K171>1, IF($K171=4, \"Unknown\", IF($K171=99, \"Surveillance\", ROUND(E171*0.75,0))), 0),\"Not required\")","v":0},{"$f":"IF(INTRO!$E$43=\"Endemic\", IF($K171>1, IF($K171=4, \"Unknown\", IF($K171=99, \"Surveillance\", F171)), 0),\"Not required\")","v":0},{"$f":"IF(INTRO!$E$43=\"Endemic\", IF($K171>1, IF($K171=4, \"Unknown\", IF($K171=99, \"Surveillance\", G171)), 0),\"Not required\")","v":0},{"$f":"IF(INTRO!$E$43=\"Endemic\", IF($K171>1, IF($K171=4, \"Unknown\", IF($K171=99, \"Surveillance\", SUM($S171:$U171))), 0),\"Not required\")","v":0},0,1,1,0,null,"Yes",null,null,null,null,null,7573,"KEKEM"]
[{"$f":"IF(INTRO!$E$33<>0,INTRO!$E$33, \" \")","v":"Cameroun"},"Ouest","Kouoptamo",75892,13424.184000000001,{"$f":"IF(INTRO!$E$49=\"\",\"\",ROUND($D172*INTRO!$E$49,0))","v":20073},{"$f":"IF(INTRO!$E$50=\"\",\"\",ROUND($D172*INTRO!$E$50,0))","v":43691},0,1,2,2,1,{"$f":"IF(INTRO!$E$37=\"Endemic\",IF($H172>0,IF($H172=4,\"Unknown\",IF($H172=99,\"Stopped\",$D172)),0),\"Not required\")","v":0},{"$f":"IF(INTRO!$E$39=\"Endemic\", IF($I172>0, IF($I172=4,\"Unknown\",IF($I172=99,\"Stopped\",$D172)), 0),\"Not required\")","v":75892},{"$f":"IF(INTRO!$E$41=\"Endemic\", IF($J172>1, IF($J172=4, \"Unknown\", IF($J172=99, \"Surveillance\", E172)), 0),\"Not required\")","v":13424.184000000001},{"$f":"IF(INTRO!$E$41=\"Endemic\", IF($J172>1, IF($J172=4, \"Unknown\", IF($J172=99, \"Surveillance\", F172)), 0),\"Not required\")","v":20073},{"$f":"IF(INTRO!$E$41=\"Endemic\", IF($J172>1, IF($J172=4, \"Unknown\", IF($J172=99, \"Surveillance\", ROUND(D172*INTRO!$E$51,0))), 0),\"Not required\")","v":2808},{"$f":"IF(INTRO!$E$41=\"Endemic\", IF($J172>1, IF($J172=4, \"Unknown\", IF($J172=99, \"Surveillance\", SUM($O172:$Q172))), 0),\"Not required\")","v":36305.184000000001},{"$f":"IF(INTRO!$E$43=\"Endemic\", IF($K172>1, IF($K172=4, \"Unknown\", IF($K172=99, \"Surveillance\", ROUND(E172*0.75,0))), 0),\"Not required\")","v":10068},{"$f":"IF(INTRO!$E$43=\"Endemic\", IF($K172>1, IF($K172=4, \"Unknown\", IF($K172=99, \"Surveillance\", F172)), 0),\"Not required\")","v":20073},{"$f":"IF(INTRO!$E$43=\"Endemic\", IF($K172>1, IF($K172=4, \"Unknown\", IF($K172=99, \"Surveillance\", G172)), 0),\"Not required\")","v":43691},{"$f":"IF(INTRO!$E$43=\"Endemic\", IF($K172>1, IF($K172=4, \"Unknown\", IF($K172=99, \"Surveillance\", SUM($S172:$U172))), 0),\"Not required\")","v":73832},0,1,1,1,null,"Yes",null,null,null,null,null,7574,"KOUOPTAMO"]
[{"$f":"IF(INTRO!$E$33<>0,INTRO!$E$33, \" \")","v":"Cameroun"},"Ouest","Malantouen",161864,31468.446,{"$f":"IF(INTRO!$E$49=\"\",\"\",ROUND($D173*INTRO!$E$49,0))","v":42813},{"$f":"IF(INTRO!$E$50=\"\",\"\",ROUND($D173*INTRO!$E$50,0))","v":93185},99,1,3,3,1,{"$f":"IF(INTRO!$E$37=\"Endemic\",IF($H173>0,IF($H173=4,\"Unknown\",IF($H173=99,\"Stopped\",$D173)),0),\"Not required\")","v":"Stopped"},{"$f":"IF(INTRO!$E$39=\"Endemic\", IF($I173>0, IF($I173=4,\"Unknown\",IF($I173=99,\"Stopped\",$D173)), 0),\"Not required\")","v":161864},{"$f":"IF(INTRO!$E$41=\"Endemic\", IF($J173>1, IF($J173=4, \"Unknown\", IF($J173=99, \"Surveillance\", E173)), 0),\"Not required\")","v":31468.446},{"$f":"IF(INTRO!$E$41=\"Endemic\", IF($J173>1, IF($J173=4, \"Unknown\", IF($J173=99, \"Surveillance\", F173)), 0),\"Not required\")","v":42813},{"$f":"IF(INTRO!$E$41=\"Endemic\", IF($J173>1, IF($J173=4, \"Unknown\", IF($J173=99, \"Surveillance\", ROUND(D173*INTRO!$E$51,0))), 0),\"Not required\")","v":5989},{"$f":"IF(INTRO!$E$41=\"Endemic\", IF($J173>1, IF($J173=4, \"Unknown\", IF($J173=99, \"Surveillance\", SUM($O173:$Q173))), 0),\"Not required\")","v":80270.445999999996},{"$f":"IF(INTRO!$E$43=\"Endemic\", IF($K173>1, IF($K173=4, \"Unknown\", IF($K173=99, \"Surveillance\", ROUND(E173*0.75,0))), 0),\"Not required\")","v":23601},{"$f":"IF(INTRO!$E$43=\"Endemic\", IF($K173>1, IF($K173=4, \"Unknown\", IF($K173=99, \"Surveillance\", F173)), 0),\"Not required\")","v":42813},{"$f":"IF(INTRO!$E$43=\"Endemic\", IF($K173>1, IF($K173=4, \"Unknown\", IF($K173=99, \"Surveillance\", G173)), 0),\"Not required\")","v":93185},{"$f":"IF(INTRO!$E$43=\"Endemic\", IF($K173>1, IF($K173=4, \"Unknown\", IF($K173=99, \"Surveillance\", SUM($S173:$U173))), 0),\"Not required\")","v":159599},0,1,1,1,null,"Yes",null,null,null,null,null,7575,"MALENTOUEN"]
[{"$f":"IF(INTRO!$E$33<>0,INTRO!$E$33, \" \")","v":"Cameroun"},"Ouest","Massangam",54416,9714.1679999999997,{"$f":"IF(INTRO!$E$49=\"\",\"\",ROUND($D174*INTRO!$E$49,0))","v":14393},{"$f":"IF(INTRO!$E$50=\"\",\"\",ROUND($D174*INTRO!$E$50,0))","v":31327},99,1,2,1,1,{"$f":"IF(INTRO!$E$37=\"Endemic\",IF($H174>0,IF($H174=4,\"Unknown\",IF($H174=99,\"Stopped\",$D174)),0),\"Not required\")","v":"Stopped"},{"$f":"IF(INTRO!$E$39=\"Endemic\", IF($I174>0, IF($I174=4,\"Unknown\",IF($I174=99,\"Stopped\",$D174)), 0),\"Not required\")","v":54416},{"$f":"IF(INTRO!$E$41=\"Endemic\", IF($J174>1, IF($J174=4, \"Unknown\", IF($J174=99, \"Surveillance\", E174)), 0),\"Not required\")","v":9714.1679999999997},{"$f":"IF(INTRO!$E$41=\"Endemic\", IF($J174>1, IF($J174=4, \"Unknown\", IF($J174=99, \"Surveillance\", F174)), 0),\"Not required\")","v":14393},{"$f":"IF(INTRO!$E$41=\"Endemic\", IF($J174>1, IF($J174=4, \"Unknown\", IF($J174=99, \"Surveillance\", ROUND(D174*INTRO!$E$51,0))), 0),\"Not required\")","v":2013},{"$f":"IF(INTRO!$E$41=\"Endemic\", IF($J174>1, IF($J174=4, \"Unknown\", IF($J174=99, \"Surveillance\", SUM($O174:$Q174))), 0),\"Not required\")","v":26120.167999999998},{"$f":"IF(INTRO!$E$43=\"Endemic\", IF($K174>1, IF($K174=4, \"Unknown\", IF($K174=99, \"Surveillance\", ROUND(E174*0.75,0))), 0),\"Not required\")","v":0},{"$f":"IF(INTRO!$E$43=\"Endemic\", IF($K174>1, IF($K174=4, \"Unknown\", IF($K174=99, \"Surveillance\", F174)), 0),\"Not required\")","v":0},{"$f":"IF(INTRO!$E$43=\"Endemic\", IF($K174>1, IF($K174=4, \"Unknown\", IF($K174=99, \"Surveillance\", G174)), 0),\"Not required\")","v":0},{"$f":"IF(INTRO!$E$43=\"Endemic\", IF($K174>1, IF($K174=4, \"Unknown\", IF($K174=99, \"Surveillance\", SUM($S174:$U174))), 0),\"Not required\")","v":0},0,1,1,0,null,"Yes",null,null,null,null,null,7576,"MASSANGAM"]
[{"$f":"IF(INTRO!$E$33<>0,INTRO!$E$33, \" \")","v":"Cameroun"},"Ouest","Mbouda",208164,30839.508000000002,{"$f":"IF(INTRO!$E$49=\"\",\"\",ROUND($D175*INTRO!$E$49,0))","v":55059},{"$f":"IF(INTRO!$E$50=\"\",\"\",ROUND($D175*INTRO!$E$50,0))","v":119840},99,1,3,1,1,{"$f":"IF(INTRO!$E$37=\"Endemic\",IF($H175>0,IF($H175=4,\"Unknown\",IF($H175=99,\"Stopped\",$D175)),0),\"Not required\")","v":"Stopped"},{"$f":"IF(INTRO!$E$39=\"Endemic\", IF($I175>0, IF($I175=4,\"Unknown\",IF($I175=99,\"Stopped\",$D175)), 0),\"Not required\")","v":208164},{"$f":"IF(INTRO!$E$41=\"Endemic\", IF($J175>1, IF($J175=4, \"Unknown\", IF($J175=99, \"Surveillance\", E175)), 0),\"Not required\")","v":30839.508000000002},{"$f":"IF(INTRO!$E$41=\"Endemic\", IF($J175>1, IF($J175=4, \"Unknown\", IF($J175=99, \"Surveillance\", F175)), 0),\"Not required\")","v":55059},{"$f":"IF(INTRO!$E$41=\"Endemic\", IF($J175>1, IF($J175=4, \"Unknown\", IF($J175=99, \"Surveillance\", ROUND(D175*INTRO!$E$51,0))), 0),\"Not required\")","v":7702},{"$f":"IF(INTRO!$E$41=\"Endemic\", IF($J175>1, IF($J175=4, \"Unknown\", IF($J175=99, \"Surveillance\", SUM($O175:$Q175))), 0),\"Not required\")","v":93600.508000000002},{"$f":"IF(INTRO!$E$43=\"Endemic\", IF($K175>1, IF($K175=4, \"Unknown\", IF($K175=99, \"Surveillance\", ROUND(E175*0.75,0))), 0),\"Not required\")","v":0},{"$f":"IF(INTRO!$E$43=\"Endemic\", IF($K175>1, IF($K175=4, \"Unknown\", IF($K175=99, \"Surveillance\", F175)), 0),\"Not required\")","v":0},{"$f":"IF(INTRO!$E$43=\"Endemic\", IF($K175>1, IF($K175=4, \"Unknown\", IF($K175=99, \"Surveillance\", G175)), 0),\"Not required\")","v":0},{"$f":"IF(INTRO!$E$43=\"Endemic\", IF($K175>1, IF($K175=4, \"Unknown\", IF($K175=99, \"Surveillance\", SUM($S175:$U175))), 0),\"Not required\")","v":0},0,1,1,0,null,"Yes",null,null,null,null,null,7577,"MBOUDA"]
[{"$f":"IF(INTRO!$E$33<>0,INTRO!$E$33, \" \")","v":"Cameroun"},"Ouest","Mifi",476444,80218.835999999996,{"$f":"IF(INTRO!$E$49=\"\",\"\",ROUND($D176*INTRO!$E$49,0))","v":126019},{"$f":"IF(INTRO!$E$50=\"\",\"\",ROUND($D176*INTRO!$E$50,0))","v":274289},99,1,3,1,1,{"$f":"IF(INTRO!$E$37=\"Endemic\",IF($H176>0,IF($H176=4,\"Unknown\",IF($H176=99,\"Stopped\",$D176)),0),\"Not required\")","v":"Stopped"},{"$f":"IF(INTRO!$E$39=\"Endemic\", IF($I176>0, IF($I176=4,\"Unknown\",IF($I176=99,\"Stopped\",$D176)), 0),\"Not required\")","v":476444},{"$f":"IF(INTRO!$E$41=\"Endemic\", IF($J176>1, IF($J176=4, \"Unknown\", IF($J176=99, \"Surveillance\", E176)), 0),\"Not required\")","v":80218.835999999996},{"$f":"IF(INTRO!$E$41=\"Endemic\", IF($J176>1, IF($J176=4, \"Unknown\", IF($J176=99, \"Surveillance\", F176)), 0),\"Not required\")","v":126019},{"$f":"IF(INTRO!$E$41=\"Endemic\", IF($J176>1, IF($J176=4, \"Unknown\", IF($J176=99, \"Surveillance\", ROUND(D176*INTRO!$E$51,0))), 0),\"Not required\")","v":17628},{"$f":"IF(INTRO!$E$41=\"Endemic\", IF($J176>1, IF($J176=4, \"Unknown\", IF($J176=99, \"Surveillance\", SUM($O176:$Q176))), 0),\"Not required\")","v":223865.83600000001},{"$f":"IF(INTRO!$E$43=\"Endemic\", IF($K176>1, IF($K176=4, \"Unknown\", IF($K176=99, \"Surveillance\", ROUND(E176*0.75,0))), 0),\"Not required\")","v":0},{"$f":"IF(INTRO!$E$43=\"Endemic\", IF($K176>1, IF($K176=4, \"Unknown\", IF($K176=99, \"Surveillance\", F176)), 0),\"Not required\")","v":0},{"$f":"IF(INTRO!$E$43=\"Endemic\", IF($K176>1, IF($K176=4, \"Unknown\", IF($K176=99, \"Surveillance\", G176)), 0),\"Not required\")","v":0},{"$f":"IF(INTRO!$E$43=\"Endemic\", IF($K176>1, IF($K176=4, \"Unknown\", IF($K176=99, \"Surveillance\", SUM($S176:$U176))), 0),\"Not required\")","v":0},0,1,1,0,null,"Yes",null,null,null,null,null,7578,"MIFI"]
[{"$f":"IF(INTRO!$E$33<>0,INTRO!$E$33, \" \")","v":"Cameroun"},"Ouest","Penka Michel",92904,13622.202000000001,{"$f":"IF(INTRO!$E$49=\"\",\"\",ROUND($D177*INTRO!$E$49,0))","v":24573},{"$f":"IF(INTRO!$E$50=\"\",\"\",ROUND($D177*INTRO!$E$50,0))","v":53485},99,1,3,1,1,{"$f":"IF(INTRO!$E$37=\"Endemic\",IF($H177>0,IF($H177=4,\"Unknown\",IF($H177=99,\"Stopped\",$D177)),0),\"Not required\")","v":"Stopped"},{"$f":"IF(INTRO!$E$39=\"Endemic\", IF($I177>0, IF($I177=4,\"Unknown\",IF($I177=99,\"Stopped\",$D177)), 0),\"Not required\")","v":92904},{"$f":"IF(INTRO!$E$41=\"Endemic\", IF($J177>1, IF($J177=4, \"Unknown\", IF($J177=99, \"Surveillance\", E177)), 0),\"Not required\")","v":13622.202000000001},{"$f":"IF(INTRO!$E$41=\"Endemic\", IF($J177>1, IF($J177=4, \"Unknown\", IF($J177=99, \"Surveillance\", F177)), 0),\"Not required\")","v":24573},{"$f":"IF(INTRO!$E$41=\"Endemic\", IF($J177>1, IF($J177=4, \"Unknown\", IF($J177=99, \"Surveillance\", ROUND(D177*INTRO!$E$51,0))), 0),\"Not required\")","v":3437},{"$f":"IF(INTRO!$E$41=\"Endemic\", IF($J177>1, IF($J177=4, \"Unknown\", IF($J177=99, \"Surveillance\", SUM($O177:$Q177))), 0),\"Not required\")","v":41632.202000000005},{"$f":"IF(INTRO!$E$43=\"Endemic\", IF($K177>1, IF($K177=4, \"Unknown\", IF($K177=99, \"Surveillance\", ROUND(E177*0.75,0))), 0),\"Not required\")","v":0},{"$f":"IF(INTRO!$E$43=\"Endemic\", IF($K177>1, IF($K177=4, \"Unknown\", IF($K177=99, \"Surveillance\", F177)), 0),\"Not required\")","v":0},{"$f":"IF(INTRO!$E$43=\"Endemic\", IF($K177>1, IF($K177=4, \"Unknown\", IF($K177=99, \"Surveillance\", G177)), 0),\"Not required\")","v":0},{"$f":"IF(INTRO!$E$43=\"Endemic\", IF($K177>1, IF($K177=4, \"Unknown\", IF($K177=99, \"Surveillance\", SUM($S177:$U177))), 0),\"Not required\")","v":0},0,1,1,0,null,"Yes",null,null,null,null,null,7579,"PENKA MICHEL"]
[{"$f":"IF(INTRO!$E$33<>0,INTRO!$E$33, \" \")","v":"Cameroun"},"Ouest","Santchou",41125,6219.6120000000001,{"$f":"IF(INTRO!$E$49=\"\",\"\",ROUND($D178*INTRO!$E$49,0))","v":10878},{"$f":"IF(INTRO!$E$50=\"\",\"\",ROUND($D178*INTRO!$E$50,0))","v":23676},0,1,3,0,1,{"$f":"IF(INTRO!$E$37=\"Endemic\",IF($H178>0,IF($H178=4,\"Unknown\",IF($H178=99,\"Stopped\",$D178)),0),\"Not required\")","v":0},{"$f":"IF(INTRO!$E$39=\"Endemic\", IF($I178>0, IF($I178=4,\"Unknown\",IF($I178=99,\"Stopped\",$D178)), 0),\"Not required\")","v":41125},{"$f":"IF(INTRO!$E$41=\"Endemic\", IF($J178>1, IF($J178=4, \"Unknown\", IF($J178=99, \"Surveillance\", E178)), 0),\"Not required\")","v":6219.6120000000001},{"$f":"IF(INTRO!$E$41=\"Endemic\", IF($J178>1, IF($J178=4, \"Unknown\", IF($J178=99, \"Surveillance\", F178)), 0),\"Not required\")","v":10878},{"$f":"IF(INTRO!$E$41=\"Endemic\", IF($J178>1, IF($J178=4, \"Unknown\", IF($J178=99, \"Surveillance\", ROUND(D178*INTRO!$E$51,0))), 0),\"Not required\")","v":1522},{"$f":"IF(INTRO!$E$41=\"Endemic\", IF($J178>1, IF($J178=4, \"Unknown\", IF($J178=99, \"Surveillance\", SUM($O178:$Q178))), 0),\"Not required\")","v":18619.612000000001},{"$f":"IF(INTRO!$E$43=\"Endemic\", IF($K178>1, IF($K178=4, \"Unknown\", IF($K178=99, \"Surveillance\", ROUND(E178*0.75,0))), 0),\"Not required\")","v":0},{"$f":"IF(INTRO!$E$43=\"Endemic\", IF($K178>1, IF($K178=4, \"Unknown\", IF($K178=99, \"Surveillance\", F178)), 0),\"Not required\")","v":0},{"$f":"IF(INTRO!$E$43=\"Endemic\", IF($K178>1, IF($K178=4, \"Unknown\", IF($K178=99, \"Surveillance\", G178)), 0),\"Not required\")","v":0},{"$f":"IF(INTRO!$E$43=\"Endemic\", IF($K178>1, IF($K178=4, \"Unknown\", IF($K178=99, \"Surveillance\", SUM($S178:$U178))), 0),\"Not required\")","v":0},0,1,1,0,null,"Yes",null,null,null,null,null,7580,"SANTCHOU"]
[{"$f":"IF(INTRO!$E$33<>0,INTRO!$E$33, \" \")","v":"Cameroun"},"Sud","Ambam",129358,12428.964,{"$f":"IF(INTRO!$E$49=\"\",\"\",ROUND($D179*INTRO!$E$49,0))","v":34215},{"$f":"IF(INTRO!$E$50=\"\",\"\",ROUND($D179*INTRO!$E$50,0))","v":74471},99,1,3,0,1,{"$f":"IF(INTRO!$E$37=\"Endemic\",IF($H179>0,IF($H179=4,\"Unknown\",IF($H179=99,\"Stopped\",$D179)),0),\"Not required\")","v":"Stopped"},{"$f":"IF(INTRO!$E$39=\"Endemic\", IF($I179>0, IF($I179=4,\"Unknown\",IF($I179=99,\"Stopped\",$D179)), 0),\"Not required\")","v":129358},{"$f":"IF(INTRO!$E$41=\"Endemic\", IF($J179>1, IF($J179=4, \"Unknown\", IF($J179=99, \"Surveillance\", E179)), 0),\"Not required\")","v":12428.964},{"$f":"IF(INTRO!$E$41=\"Endemic\", IF($J179>1, IF($J179=4, \"Unknown\", IF($J179=99, \"Surveillance\", F179)), 0),\"Not required\")","v":34215},{"$f":"IF(INTRO!$E$41=\"Endemic\", IF($J179>1, IF($J179=4, \"Unknown\", IF($J179=99, \"Surveillance\", ROUND(D179*INTRO!$E$51,0))), 0),\"Not required\")","v":4786},{"$f":"IF(INTRO!$E$41=\"Endemic\", IF($J179>1, IF($J179=4, \"Unknown\", IF($J179=99, \"Surveillance\", SUM($O179:$Q179))), 0),\"Not required\")","v":51429.964},{"$f":"IF(INTRO!$E$43=\"Endemic\", IF($K179>1, IF($K179=4, \"Unknown\", IF($K179=99, \"Surveillance\", ROUND(E179*0.75,0))), 0),\"Not required\")","v":0},{"$f":"IF(INTRO!$E$43=\"Endemic\", IF($K179>1, IF($K179=4, \"Unknown\", IF($K179=99, \"Surveillance\", F179)), 0),\"Not required\")","v":0},{"$f":"IF(INTRO!$E$43=\"Endemic\", IF($K179>1, IF($K179=4, \"Unknown\", IF($K179=99, \"Surveillance\", G179)), 0),\"Not required\")","v":0},{"$f":"IF(INTRO!$E$43=\"Endemic\", IF($K179>1, IF($K179=4, \"Unknown\", IF($K179=99, \"Surveillance\", SUM($S179:$U179))), 0),\"Not required\")","v":0},0,1,1,0,null,"Yes",null,null,null,null,null,7581,"AMBAM"]
[{"$f":"IF(INTRO!$E$33<>0,INTRO!$E$33, \" \")","v":"Cameroun"},"Sud","Djoum",45862,6000.0479999999998,{"$f":"IF(INTRO!$E$49=\"\",\"\",ROUND($D180*INTRO!$E$49,0))","v":12130},{"$f":"IF(INTRO!$E$50=\"\",\"\",ROUND($D180*INTRO!$E$50,0))","v":26403},99,1,3,0,1,{"$f":"IF(INTRO!$E$37=\"Endemic\",IF($H180>0,IF($H180=4,\"Unknown\",IF($H180=99,\"Stopped\",$D180)),0),\"Not required\")","v":"Stopped"},{"$f":"IF(INTRO!$E$39=\"Endemic\", IF($I180>0, IF($I180=4,\"Unknown\",IF($I180=99,\"Stopped\",$D180)), 0),\"Not required\")","v":45862},{"$f":"IF(INTRO!$E$41=\"Endemic\", IF($J180>1, IF($J180=4, \"Unknown\", IF($J180=99, \"Surveillance\", E180)), 0),\"Not required\")","v":6000.0479999999998},{"$f":"IF(INTRO!$E$41=\"Endemic\", IF($J180>1, IF($J180=4, \"Unknown\", IF($J180=99, \"Surveillance\", F180)), 0),\"Not required\")","v":12130},{"$f":"IF(INTRO!$E$41=\"Endemic\", IF($J180>1, IF($J180=4, \"Unknown\", IF($J180=99, \"Surveillance\", ROUND(D180*INTRO!$E$51,0))), 0),\"Not required\")","v":1697},{"$f":"IF(INTRO!$E$41=\"Endemic\", IF($J180>1, IF($J180=4, \"Unknown\", IF($J180=99, \"Surveillance\", SUM($O180:$Q180))), 0),\"Not required\")","v":19827.047999999999},{"$f":"IF(INTRO!$E$43=\"Endemic\", IF($K180>1, IF($K180=4, \"Unknown\", IF($K180=99, \"Surveillance\", ROUND(E180*0.75,0))), 0),\"Not required\")","v":0},{"$f":"IF(INTRO!$E$43=\"Endemic\", IF($K180>1, IF($K180=4, \"Unknown\", IF($K180=99, \"Surveillance\", F180)), 0),\"Not required\")","v":0},{"$f":"IF(INTRO!$E$43=\"Endemic\", IF($K180>1, IF($K180=4, \"Unknown\", IF($K180=99, \"Surveillance\", G180)), 0),\"Not required\")","v":0},{"$f":"IF(INTRO!$E$43=\"Endemic\", IF($K180>1, IF($K180=4, \"Unknown\", IF($K180=99, \"Surveillance\", SUM($S180:$U180))), 0),\"Not required\")","v":0},0,1,1,0,null,"Yes",null,null,null,null,null,7582,"DJOUM"]
[{"$f":"IF(INTRO!$E$33<>0,INTRO!$E$33, \" \")","v":"Cameroun"},"Sud","Ebolowa",253899,34993.781999999999,{"$f":"IF(INTRO!$E$49=\"\",\"\",ROUND($D181*INTRO!$E$49,0))","v":67156},{"$f":"IF(INTRO!$E$50=\"\",\"\",ROUND($D181*INTRO!$E$50,0))","v":146170},0,4,2,1,1,{"$f":"IF(INTRO!$E$37=\"Endemic\",IF($H181>0,IF($H181=4,\"Unknown\",IF($H181=99,\"Stopped\",$D181)),0),\"Not required\")","v":0},{"$f":"IF(INTRO!$E$39=\"Endemic\", IF($I181>0, IF($I181=4,\"Unknown\",IF($I181=99,\"Stopped\",$D181)), 0),\"Not required\")","v":"Unknown"},{"$f":"IF(INTRO!$E$41=\"Endemic\", IF($J181>1, IF($J181=4, \"Unknown\", IF($J181=99, \"Surveillance\", E181)), 0),\"Not required\")","v":34993.781999999999},{"$f":"IF(INTRO!$E$41=\"Endemic\", IF($J181>1, IF($J181=4, \"Unknown\", IF($J181=99, \"Surveillance\", F181)), 0),\"Not required\")","v":67156},{"$f":"IF(INTRO!$E$41=\"Endemic\", IF($J181>1, IF($J181=4, \"Unknown\", IF($J181=99, \"Surveillance\", ROUND(D181*INTRO!$E$51,0))), 0),\"Not required\")","v":9394},{"$f":"IF(INTRO!$E$41=\"Endemic\", IF($J181>1, IF($J181=4, \"Unknown\", IF($J181=99, \"Surveillance\", SUM($O181:$Q181))), 0),\"Not required\")","v":111543.78200000001},{"$f":"IF(INTRO!$E$43=\"Endemic\", IF($K181>1, IF($K181=4, \"Unknown\", IF($K181=99, \"Surveillance\", ROUND(E181*0.75,0))), 0),\"Not required\")","v":0},{"$f":"IF(INTRO!$E$43=\"Endemic\", IF($K181>1, IF($K181=4, \"Unknown\", IF($K181=99, \"Surveillance\", F181)), 0),\"Not required\")","v":0},{"$f":"IF(INTRO!$E$43=\"Endemic\", IF($K181>1, IF($K181=4, \"Unknown\", IF($K181=99, \"Surveillance\", G181)), 0),\"Not required\")","v":0},{"$f":"IF(INTRO!$E$43=\"Endemic\", IF($K181>1, IF($K181=4, \"Unknown\", IF($K181=99, \"Surveillance\", SUM($S181:$U181))), 0),\"Not required\")","v":0},0,0,1,0,null,"Yes",null,null,null,null,null,7583,"EBOLOWA"]
[{"$f":"IF(INTRO!$E$33<>0,INTRO!$E$33, \" \")","v":"Cameroun"},"Sud","Kribi",188500,15534.666000000001,{"$f":"IF(INTRO!$E$49=\"\",\"\",ROUND($D182*INTRO!$E$49,0))","v":49858},{"$f":"IF(INTRO!$E$50=\"\",\"\",ROUND($D182*INTRO!$E$50,0))","v":108519},0,4,2,0,1,{"$f":"IF(INTRO!$E$37=\"Endemic\",IF($H182>0,IF($H182=4,\"Unknown\",IF($H182=99,\"Stopped\",$D182)),0),\"Not required\")","v":0},{"$f":"IF(INTRO!$E$39=\"Endemic\", IF($I182>0, IF($I182=4,\"Unknown\",IF($I182=99,\"Stopped\",$D182)), 0),\"Not required\")","v":"Unknown"},{"$f":"IF(INTRO!$E$41=\"Endemic\", IF($J182>1, IF($J182=4, \"Unknown\", IF($J182=99, \"Surveillance\", E182)), 0),\"Not required\")","v":15534.666000000001},{"$f":"IF(INTRO!$E$41=\"Endemic\", IF($J182>1, IF($J182=4, \"Unknown\", IF($J182=99, \"Surveillance\", F182)), 0),\"Not required\")","v":49858},{"$f":"IF(INTRO!$E$41=\"Endemic\", IF($J182>1, IF($J182=4, \"Unknown\", IF($J182=99, \"Surveillance\", ROUND(D182*INTRO!$E$51,0))), 0),\"Not required\")","v":6975},{"$f":"IF(INTRO!$E$41=\"Endemic\", IF($J182>1, IF($J182=4, \"Unknown\", IF($J182=99, \"Surveillance\", SUM($O182:$Q182))), 0),\"Not required\")","v":72367.665999999997},{"$f":"IF(INTRO!$E$43=\"Endemic\", IF($K182>1, IF($K182=4, \"Unknown\", IF($K182=99, \"Surveillance\", ROUND(E182*0.75,0))), 0),\"Not required\")","v":0},{"$f":"IF(INTRO!$E$43=\"Endemic\", IF($K182>1, IF($K182=4, \"Unknown\", IF($K182=99, \"Surveillance\", F182)), 0),\"Not required\")","v":0},{"$f":"IF(INTRO!$E$43=\"Endemic\", IF($K182>1, IF($K182=4, \"Unknown\", IF($K182=99, \"Surveillance\", G182)), 0),\"Not required\")","v":0},{"$f":"IF(INTRO!$E$43=\"Endemic\", IF($K182>1, IF($K182=4, \"Unknown\", IF($K182=99, \"Surveillance\", SUM($S182:$U182))), 0),\"Not required\")","v":0},0,0,1,0,null,"Yes",null,null,null,null,null,7584,"KRIBI"]
[{"$f":"IF(INTRO!$E$33<>0,INTRO!$E$33, \" \")","v":"Cameroun"},"Sud","Kye ossi ",8767.8401898734173,5887.1879999999992,{"$f":"IF(INTRO!$E$49=\"\",\"\",ROUND($D183*INTRO!$E$49,0))","v":2319},{"$f":"IF(INTRO!$E$50=\"\",\"\",ROUND($D183*INTRO!$E$50,0))","v":5048},99,1,3,1,1,{"$f":"IF(INTRO!$E$37=\"Endemic\",IF($H183>0,IF($H183=4,\"Unknown\",IF($H183=99,\"Stopped\",$D183)),0),\"Not required\")","v":"Stopped"},{"$f":"IF(INTRO!$E$39=\"Endemic\", IF($I183>0, IF($I183=4,\"Unknown\",IF($I183=99,\"Stopped\",$D183)), 0),\"Not required\")","v":8767.8401898734173},{"$f":"IF(INTRO!$E$41=\"Endemic\", IF($J183>1, IF($J183=4, \"Unknown\", IF($J183=99, \"Surveillance\", E183)), 0),\"Not required\")","v":5887.1879999999992},{"$f":"IF(INTRO!$E$41=\"Endemic\", IF($J183>1, IF($J183=4, \"Unknown\", IF($J183=99, \"Surveillance\", F183)), 0),\"Not required\")","v":2319},{"$f":"IF(INTRO!$E$41=\"Endemic\", IF($J183>1, IF($J183=4, \"Unknown\", IF($J183=99, \"Surveillance\", ROUND(D183*INTRO!$E$51,0))), 0),\"Not required\")","v":324},{"$f":"IF(INTRO!$E$41=\"Endemic\", IF($J183>1, IF($J183=4, \"Unknown\", IF($J183=99, \"Surveillance\", SUM($O183:$Q183))), 0),\"Not required\")","v":8530.1879999999983},{"$f":"IF(INTRO!$E$43=\"Endemic\", IF($K183>1, IF($K183=4, \"Unknown\", IF($K183=99, \"Surveillance\", ROUND(E183*0.75,0))), 0),\"Not required\")","v":0},{"$f":"IF(INTRO!$E$43=\"Endemic\", IF($K183>1, IF($K183=4, \"Unknown\", IF($K183=99, \"Surveillance\", F183)), 0),\"Not required\")","v":0},{"$f":"IF(INTRO!$E$43=\"Endemic\", IF($K183>1, IF($K183=4, \"Unknown\", IF($K183=99, \"Surveillance\", G183)), 0),\"Not required\")","v":0},{"$f":"IF(INTRO!$E$43=\"Endemic\", IF($K183>1, IF($K183=4, \"Unknown\", IF($K183=99, \"Surveillance\", SUM($S183:$U183))), 0),\"Not required\")","v":0},0,1,1,0,null,null,null,null,null,null,null,7618,"Kye ossi ",7581,"AMBAM"]
[{"$f":"IF(INTRO!$E$33<>0,INTRO!$E$33, \" \")","v":"Cameroun"},"Sud","Lolodorf",46185,5447.0340000000006,{"$f":"IF(INTRO!$E$49=\"\",\"\",ROUND($D184*INTRO!$E$49,0))","v":12216},{"$f":"IF(INTRO!$E$50=\"\",\"\",ROUND($D184*INTRO!$E$50,0))","v":26589},0,4,3,0,1,{"$f":"IF(INTRO!$E$37=\"Endemic\",IF($H184>0,IF($H184=4,\"Unknown\",IF($H184=99,\"Stopped\",$D184)),0),\"Not required\")","v":0},{"$f":"IF(INTRO!$E$39=\"Endemic\", IF($I184>0, IF($I184=4,\"Unknown\",IF($I184=99,\"Stopped\",$D184)), 0),\"Not required\")","v":"Unknown"},{"$f":"IF(INTRO!$E$41=\"Endemic\", IF($J184>1, IF($J184=4, \"Unknown\", IF($J184=99, \"Surveillance\", E184)), 0),\"Not required\")","v":5447.0340000000006},{"$f":"IF(INTRO!$E$41=\"Endemic\", IF($J184>1, IF($J184=4, \"Unknown\", IF($J184=99, \"Surveillance\", F184)), 0),\"Not required\")","v":12216},{"$f":"IF(INTRO!$E$41=\"Endemic\", IF($J184>1, IF($J184=4, \"Unknown\", IF($J184=99, \"Surveillance\", ROUND(D184*INTRO!$E$51,0))), 0),\"Not required\")","v":1709},{"$f":"IF(INTRO!$E$41=\"Endemic\", IF($J184>1, IF($J184=4, \"Unknown\", IF($J184=99, \"Surveillance\", SUM($O184:$Q184))), 0),\"Not required\")","v":19372.034},{"$f":"IF(INTRO!$E$43=\"Endemic\", IF($K184>1, IF($K184=4, \"Unknown\", IF($K184=99, \"Surveillance\", ROUND(E184*0.75,0))), 0),\"Not required\")","v":0},{"$f":"IF(INTRO!$E$43=\"Endemic\", IF($K184>1, IF($K184=4, \"Unknown\", IF($K184=99, \"Surveillance\", F184)), 0),\"Not required\")","v":0},{"$f":"IF(INTRO!$E$43=\"Endemic\", IF($K184>1, IF($K184=4, \"Unknown\", IF($K184=99, \"Surveillance\", G184)), 0),\"Not required\")","v":0},{"$f":"IF(INTRO!$E$43=\"Endemic\", IF($K184>1, IF($K184=4, \"Unknown\", IF($K184=99, \"Surveillance\", SUM($S184:$U184))), 0),\"Not required\")","v":0},0,0,1,0,null,"Yes",null,null,null,null,null,7585,"LOLODORF"]
[{"$f":"IF(INTRO!$E$33<>0,INTRO!$E$33, \" \")","v":"Cameroun"},"Sud","Meyomessala",75553,7410.7979999999998,{"$f":"IF(INTRO!$E$49=\"\",\"\",ROUND($D185*INTRO!$E$49,0))","v":19984},{"$f":"IF(INTRO!$E$50=\"\",\"\",ROUND($D185*INTRO!$E$50,0))","v":43496},99,1,3,1,1,{"$f":"IF(INTRO!$E$37=\"Endemic\",IF($H185>0,IF($H185=4,\"Unknown\",IF($H185=99,\"Stopped\",$D185)),0),\"Not required\")","v":"Stopped"},{"$f":"IF(INTRO!$E$39=\"Endemic\", IF($I185>0, IF($I185=4,\"Unknown\",IF($I185=99,\"Stopped\",$D185)), 0),\"Not required\")","v":75553},{"$f":"IF(INTRO!$E$41=\"Endemic\", IF($J185>1, IF($J185=4, \"Unknown\", IF($J185=99, \"Surveillance\", E185)), 0),\"Not required\")","v":7410.7979999999998},{"$f":"IF(INTRO!$E$41=\"Endemic\", IF($J185>1, IF($J185=4, \"Unknown\", IF($J185=99, \"Surveillance\", F185)), 0),\"Not required\")","v":19984},{"$f":"IF(INTRO!$E$41=\"Endemic\", IF($J185>1, IF($J185=4, \"Unknown\", IF($J185=99, \"Surveillance\", ROUND(D185*INTRO!$E$51,0))), 0),\"Not required\")","v":2795},{"$f":"IF(INTRO!$E$41=\"Endemic\", IF($J185>1, IF($J185=4, \"Unknown\", IF($J185=99, \"Surveillance\", SUM($O185:$Q185))), 0),\"Not required\")","v":30189.797999999999},{"$f":"IF(INTRO!$E$43=\"Endemic\", IF($K185>1, IF($K185=4, \"Unknown\", IF($K185=99, \"Surveillance\", ROUND(E185*0.75,0))), 0),\"Not required\")","v":0},{"$f":"IF(INTRO!$E$43=\"Endemic\", IF($K185>1, IF($K185=4, \"Unknown\", IF($K185=99, \"Surveillance\", F185)), 0),\"Not required\")","v":0},{"$f":"IF(INTRO!$E$43=\"Endemic\", IF($K185>1, IF($K185=4, \"Unknown\", IF($K185=99, \"Surveillance\", G185)), 0),\"Not required\")","v":0},{"$f":"IF(INTRO!$E$43=\"Endemic\", IF($K185>1, IF($K185=4, \"Unknown\", IF($K185=99, \"Surveillance\", SUM($S185:$U185))), 0),\"Not required\")","v":0},0,1,1,0,null,"Yes",null,null,null,null,null,7586,"MEYOMESSALA"]
[{"$f":"IF(INTRO!$E$33<>0,INTRO!$E$33, \" \")","v":"Cameroun"},"Sud","Mvangan",39067,4047.57,{"$f":"IF(INTRO!$E$49=\"\",\"\",ROUND($D186*INTRO!$E$49,0))","v":10333},{"$f":"IF(INTRO!$E$50=\"\",\"\",ROUND($D186*INTRO!$E$50,0))","v":22491},0,4,3,0,1,{"$f":"IF(INTRO!$E$37=\"Endemic\",IF($H186>0,IF($H186=4,\"Unknown\",IF($H186=99,\"Stopped\",$D186)),0),\"Not required\")","v":0},{"$f":"IF(INTRO!$E$39=\"Endemic\", IF($I186>0, IF($I186=4,\"Unknown\",IF($I186=99,\"Stopped\",$D186)), 0),\"Not required\")","v":"Unknown"},{"$f":"IF(INTRO!$E$41=\"Endemic\", IF($J186>1, IF($J186=4, \"Unknown\", IF($J186=99, \"Surveillance\", E186)), 0),\"Not required\")","v":4047.57},{"$f":"IF(INTRO!$E$41=\"Endemic\", IF($J186>1, IF($J186=4, \"Unknown\", IF($J186=99, \"Surveillance\", F186)), 0),\"Not required\")","v":10333},{"$f":"IF(INTRO!$E$41=\"Endemic\", IF($J186>1, IF($J186=4, \"Unknown\", IF($J186=99, \"Surveillance\", ROUND(D186*INTRO!$E$51,0))), 0),\"Not required\")","v":1445},{"$f":"IF(INTRO!$E$41=\"Endemic\", IF($J186>1, IF($J186=4, \"Unknown\", IF($J186=99, \"Surveillance\", SUM($O186:$Q186))), 0),\"Not required\")","v":15825.57},{"$f":"IF(INTRO!$E$43=\"Endemic\", IF($K186>1, IF($K186=4, \"Unknown\", IF($K186=99, \"Surveillance\", ROUND(E186*0.75,0))), 0),\"Not required\")","v":0},{"$f":"IF(INTRO!$E$43=\"Endemic\", IF($K186>1, IF($K186=4, \"Unknown\", IF($K186=99, \"Surveillance\", F186)), 0),\"Not required\")","v":0},{"$f":"IF(INTRO!$E$43=\"Endemic\", IF($K186>1, IF($K186=4, \"Unknown\", IF($K186=99, \"Surveillance\", G186)), 0),\"Not required\")","v":0},{"$f":"IF(INTRO!$E$43=\"Endemic\", IF($K186>1, IF($K186=4, \"Unknown\", IF($K186=99, \"Surveillance\", SUM($S186:$U186))), 0),\"Not required\")","v":0},0,0,1,0,null,"Yes",null,null,null,null,null,7587,"MVANGAN"]
[{"$f":"IF(INTRO!$E$33<>0,INTRO!$E$33, \" \")","v":"Cameroun"},"Sud","Niete ",8209.1257911392404,7254.0757562450372,{"$f":"IF(INTRO!$E$49=\"\",\"\",ROUND($D187*INTRO!$E$49,0))","v":2171},{"$f":"IF(INTRO!$E$50=\"\",\"\",ROUND($D187*INTRO!$E$50,0))","v":4726},0,4,2,0,1,{"$f":"IF(INTRO!$E$37=\"Endemic\",IF($H187>0,IF($H187=4,\"Unknown\",IF($H187=99,\"Stopped\",$D187)),0),\"Not required\")","v":0},{"$f":"IF(INTRO!$E$39=\"Endemic\", IF($I187>0, IF($I187=4,\"Unknown\",IF($I187=99,\"Stopped\",$D187)), 0),\"Not required\")","v":"Unknown"},{"$f":"IF(INTRO!$E$41=\"Endemic\", IF($J187>1, IF($J187=4, \"Unknown\", IF($J187=99, \"Surveillance\", E187)), 0),\"Not required\")","v":7254.0757562450372},{"$f":"IF(INTRO!$E$41=\"Endemic\", IF($J187>1, IF($J187=4, \"Unknown\", IF($J187=99, \"Surveillance\", F187)), 0),\"Not required\")","v":2171},{"$f":"IF(INTRO!$E$41=\"Endemic\", IF($J187>1, IF($J187=4, \"Unknown\", IF($J187=99, \"Surveillance\", ROUND(D187*INTRO!$E$51,0))), 0),\"Not required\")","v":304},{"$f":"IF(INTRO!$E$41=\"Endemic\", IF($J187>1, IF($J187=4, \"Unknown\", IF($J187=99, \"Surveillance\", SUM($O187:$Q187))), 0),\"Not required\")","v":9729.0757562450381},{"$f":"IF(INTRO!$E$43=\"Endemic\", IF($K187>1, IF($K187=4, \"Unknown\", IF($K187=99, \"Surveillance\", ROUND(E187*0.75,0))), 0),\"Not required\")","v":0},{"$f":"IF(INTRO!$E$43=\"Endemic\", IF($K187>1, IF($K187=4, \"Unknown\", IF($K187=99, \"Surveillance\", F187)), 0),\"Not required\")","v":0},{"$f":"IF(INTRO!$E$43=\"Endemic\", IF($K187>1, IF($K187=4, \"Unknown\", IF($K187=99, \"Surveillance\", G187)), 0),\"Not required\")","v":0},{"$f":"IF(INTRO!$E$43=\"Endemic\", IF($K187>1, IF($K187=4, \"Unknown\", IF($K187=99, \"Surveillance\", SUM($S187:$U187))), 0),\"Not required\")","v":0},0,0,1,0,null,"Yes",null,null,null,null,null,7619,"Niete ",7584,"KRIBI"]
[{"$f":"IF(INTRO!$E$33<>0,INTRO!$E$33, \" \")","v":"Cameroun"},"Sud","Olamze",17253,2056.1040000000003,{"$f":"IF(INTRO!$E$49=\"\",\"\",ROUND($D188*INTRO!$E$49,0))","v":4563},{"$f":"IF(INTRO!$E$50=\"\",\"\",ROUND($D188*INTRO!$E$50,0))","v":9933},99,1,3,0,1,{"$f":"IF(INTRO!$E$37=\"Endemic\",IF($H188>0,IF($H188=4,\"Unknown\",IF($H188=99,\"Stopped\",$D188)),0),\"Not required\")","v":"Stopped"},{"$f":"IF(INTRO!$E$39=\"Endemic\", IF($I188>0, IF($I188=4,\"Unknown\",IF($I188=99,\"Stopped\",$D188)), 0),\"Not required\")","v":17253},{"$f":"IF(INTRO!$E$41=\"Endemic\", IF($J188>1, IF($J188=4, \"Unknown\", IF($J188=99, \"Surveillance\", E188)), 0),\"Not required\")","v":2056.1040000000003},{"$f":"IF(INTRO!$E$41=\"Endemic\", IF($J188>1, IF($J188=4, \"Unknown\", IF($J188=99, \"Surveillance\", F188)), 0),\"Not required\")","v":4563},{"$f":"IF(INTRO!$E$41=\"Endemic\", IF($J188>1, IF($J188=4, \"Unknown\", IF($J188=99, \"Surveillance\", ROUND(D188*INTRO!$E$51,0))), 0),\"Not required\")","v":638},{"$f":"IF(INTRO!$E$41=\"Endemic\", IF($J188>1, IF($J188=4, \"Unknown\", IF($J188=99, \"Surveillance\", SUM($O188:$Q188))), 0),\"Not required\")","v":7257.1040000000003},{"$f":"IF(INTRO!$E$43=\"Endemic\", IF($K188>1, IF($K188=4, \"Unknown\", IF($K188=99, \"Surveillance\", ROUND(E188*0.75,0))), 0),\"Not required\")","v":0},{"$f":"IF(INTRO!$E$43=\"Endemic\", IF($K188>1, IF($K188=4, \"Unknown\", IF($K188=99, \"Surveillance\", F188)), 0),\"Not required\")","v":0},{"$f":"IF(INTRO!$E$43=\"Endemic\", IF($K188>1, IF($K188=4, \"Unknown\", IF($K188=99, \"Surveillance\", G188)), 0),\"Not required\")","v":0},{"$f":"IF(INTRO!$E$43=\"Endemic\", IF($K188>1, IF($K188=4, \"Unknown\", IF($K188=99, \"Surveillance\", SUM($S188:$U188))), 0),\"Not required\")","v":0},0,1,1,0,null,null,null,null,null,null,null,7588,"OLAMZE"]
[{"$f":"IF(INTRO!$E$33<>0,INTRO!$E$33, \" \")","v":"Cameroun"},"Sud","Sangmelima",120213,15554.16,{"$f":"IF(INTRO!$E$49=\"\",\"\",ROUND($D189*INTRO!$E$49,0))","v":31796},{"$f":"IF(INTRO!$E$50=\"\",\"\",ROUND($D189*INTRO!$E$50,0))","v":69207},99,1,3,0,1,{"$f":"IF(INTRO!$E$37=\"Endemic\",IF($H189>0,IF($H189=4,\"Unknown\",IF($H189=99,\"Stopped\",$D189)),0),\"Not required\")","v":"Stopped"},{"$f":"IF(INTRO!$E$39=\"Endemic\", IF($I189>0, IF($I189=4,\"Unknown\",IF($I189=99,\"Stopped\",$D189)), 0),\"Not required\")","v":120213},{"$f":"IF(INTRO!$E$41=\"Endemic\", IF($J189>1, IF($J189=4, \"Unknown\", IF($J189=99, \"Surveillance\", E189)), 0),\"Not required\")","v":15554.16},{"$f":"IF(INTRO!$E$41=\"Endemic\", IF($J189>1, IF($J189=4, \"Unknown\", IF($J189=99, \"Surveillance\", F189)), 0),\"Not required\")","v":31796},{"$f":"IF(INTRO!$E$41=\"Endemic\", IF($J189>1, IF($J189=4, \"Unknown\", IF($J189=99, \"Surveillance\", ROUND(D189*INTRO!$E$51,0))), 0),\"Not required\")","v":4448},{"$f":"IF(INTRO!$E$41=\"Endemic\", IF($J189>1, IF($J189=4, \"Unknown\", IF($J189=99, \"Surveillance\", SUM($O189:$Q189))), 0),\"Not required\")","v":51798.16},{"$f":"IF(INTRO!$E$43=\"Endemic\", IF($K189>1, IF($K189=4, \"Unknown\", IF($K189=99, \"Surveillance\", ROUND(E189*0.75,0))), 0),\"Not required\")","v":0},{"$f":"IF(INTRO!$E$43=\"Endemic\", IF($K189>1, IF($K189=4, \"Unknown\", IF($K189=99, \"Surveillance\", F189)), 0),\"Not required\")","v":0},{"$f":"IF(INTRO!$E$43=\"Endemic\", IF($K189>1, IF($K189=4, \"Unknown\", IF($K189=99, \"Surveillance\", G189)), 0),\"Not required\")","v":0},{"$f":"IF(INTRO!$E$43=\"Endemic\", IF($K189>1, IF($K189=4, \"Unknown\", IF($K189=99, \"Surveillance\", SUM($S189:$U189))), 0),\"Not required\")","v":0},0,1,1,0,null,"Yes",null,null,null,null,null,7589,"SANGMELIMA"]
[{"$f":"IF(INTRO!$E$33<>0,INTRO!$E$33, \" \")","v":"Cameroun"},"Sud","Zoetele",50619,5081.7780000000002,{"$f":"IF(INTRO!$E$49=\"\",\"\",ROUND($D190*INTRO!$E$49,0))","v":13389},{"$f":"IF(INTRO!$E$50=\"\",\"\",ROUND($D190*INTRO!$E$50,0))","v":29141},99,1,2,0,1,{"$f":"IF(INTRO!$E$37=\"Endemic\",IF($H190>0,IF($H190=4,\"Unknown\",IF($H190=99,\"Stopped\",$D190)),0),\"Not required\")","v":"Stopped"},{"$f":"IF(INTRO!$E$39=\"Endemic\", IF($I190>0, IF($I190=4,\"Unknown\",IF($I190=99,\"Stopped\",$D190)), 0),\"Not required\")","v":50619},{"$f":"IF(INTRO!$E$41=\"Endemic\", IF($J190>1, IF($J190=4, \"Unknown\", IF($J190=99, \"Surveillance\", E190)), 0),\"Not required\")","v":5081.7780000000002},{"$f":"IF(INTRO!$E$41=\"Endemic\", IF($J190>1, IF($J190=4, \"Unknown\", IF($J190=99, \"Surveillance\", F190)), 0),\"Not required\")","v":13389},{"$f":"IF(INTRO!$E$41=\"Endemic\", IF($J190>1, IF($J190=4, \"Unknown\", IF($J190=99, \"Surveillance\", ROUND(D190*INTRO!$E$51,0))), 0),\"Not required\")","v":1873},{"$f":"IF(INTRO!$E$41=\"Endemic\", IF($J190>1, IF($J190=4, \"Unknown\", IF($J190=99, \"Surveillance\", SUM($O190:$Q190))), 0),\"Not required\")","v":20343.777999999998},{"$f":"IF(INTRO!$E$43=\"Endemic\", IF($K190>1, IF($K190=4, \"Unknown\", IF($K190=99, \"Surveillance\", ROUND(E190*0.75,0))), 0),\"Not required\")","v":0},{"$f":"IF(INTRO!$E$43=\"Endemic\", IF($K190>1, IF($K190=4, \"Unknown\", IF($K190=99, \"Surveillance\", F190)), 0),\"Not required\")","v":0},{"$f":"IF(INTRO!$E$43=\"Endemic\", IF($K190>1, IF($K190=4, \"Unknown\", IF($K190=99, \"Surveillance\", G190)), 0),\"Not required\")","v":0},{"$f":"IF(INTRO!$E$43=\"Endemic\", IF($K190>1, IF($K190=4, \"Unknown\", IF($K190=99, \"Surveillance\", SUM($S190:$U190))), 0),\"Not required\")","v":0},0,1,1,0,null,"Yes",null,null,null,null,null,7590,"ZOETELE"]
[{"$f":"IF(INTRO!$E$33<>0,INTRO!$E$33, \" \")","v":"Cameroun"},"Sud Ouest","Akwaya",64165,6844.4459999999999,{"$f":"IF(INTRO!$E$49=\"\",\"\",ROUND($D191*INTRO!$E$49,0))","v":16972},{"$f":"IF(INTRO!$E$50=\"\",\"\",ROUND($D191*INTRO!$E$50,0))","v":36940},1,1,2,0,1,{"$f":"IF(INTRO!$E$37=\"Endemic\",IF($H191>0,IF($H191=4,\"Unknown\",IF($H191=99,\"Stopped\",$D191)),0),\"Not required\")","v":64165},{"$f":"IF(INTRO!$E$39=\"Endemic\", IF($I191>0, IF($I191=4,\"Unknown\",IF($I191=99,\"Stopped\",$D191)), 0),\"Not required\")","v":64165},{"$f":"IF(INTRO!$E$41=\"Endemic\", IF($J191>1, IF($J191=4, \"Unknown\", IF($J191=99, \"Surveillance\", E191)), 0),\"Not required\")","v":6844.4459999999999},{"$f":"IF(INTRO!$E$41=\"Endemic\", IF($J191>1, IF($J191=4, \"Unknown\", IF($J191=99, \"Surveillance\", F191)), 0),\"Not required\")","v":16972},{"$f":"IF(INTRO!$E$41=\"Endemic\", IF($J191>1, IF($J191=4, \"Unknown\", IF($J191=99, \"Surveillance\", ROUND(D191*INTRO!$E$51,0))), 0),\"Not required\")","v":2374},{"$f":"IF(INTRO!$E$41=\"Endemic\", IF($J191>1, IF($J191=4, \"Unknown\", IF($J191=99, \"Surveillance\", SUM($O191:$Q191))), 0),\"Not required\")","v":26190.446},{"$f":"IF(INTRO!$E$43=\"Endemic\", IF($K191>1, IF($K191=4, \"Unknown\", IF($K191=99, \"Surveillance\", ROUND(E191*0.75,0))), 0),\"Not required\")","v":0},{"$f":"IF(INTRO!$E$43=\"Endemic\", IF($K191>1, IF($K191=4, \"Unknown\", IF($K191=99, \"Surveillance\", F191)), 0),\"Not required\")","v":0},{"$f":"IF(INTRO!$E$43=\"Endemic\", IF($K191>1, IF($K191=4, \"Unknown\", IF($K191=99, \"Surveillance\", G191)), 0),\"Not required\")","v":0},{"$f":"IF(INTRO!$E$43=\"Endemic\", IF($K191>1, IF($K191=4, \"Unknown\", IF($K191=99, \"Surveillance\", SUM($S191:$U191))), 0),\"Not required\")","v":0},1,1,1,0,"TAS",null,null,null,null,null,null,7591,"AKWAYA"]
[{"$f":"IF(INTRO!$E$33<>0,INTRO!$E$33, \" \")","v":"Cameroun"},"Sud Ouest","Bakassi",38785,6204.2219999999998,{"$f":"IF(INTRO!$E$49=\"\",\"\",ROUND($D192*INTRO!$E$49,0))","v":10259},{"$f":"IF(INTRO!$E$50=\"\",\"\",ROUND($D192*INTRO!$E$50,0))","v":22329},0,1,3,0,1,{"$f":"IF(INTRO!$E$37=\"Endemic\",IF($H192>0,IF($H192=4,\"Unknown\",IF($H192=99,\"Stopped\",$D192)),0),\"Not required\")","v":0},{"$f":"IF(INTRO!$E$39=\"Endemic\", IF($I192>0, IF($I192=4,\"Unknown\",IF($I192=99,\"Stopped\",$D192)), 0),\"Not required\")","v":38785},{"$f":"IF(INTRO!$E$41=\"Endemic\", IF($J192>1, IF($J192=4, \"Unknown\", IF($J192=99, \"Surveillance\", E192)), 0),\"Not required\")","v":6204.2219999999998},{"$f":"IF(INTRO!$E$41=\"Endemic\", IF($J192>1, IF($J192=4, \"Unknown\", IF($J192=99, \"Surveillance\", F192)), 0),\"Not required\")","v":10259},{"$f":"IF(INTRO!$E$41=\"Endemic\", IF($J192>1, IF($J192=4, \"Unknown\", IF($J192=99, \"Surveillance\", ROUND(D192*INTRO!$E$51,0))), 0),\"Not required\")","v":1435},{"$f":"IF(INTRO!$E$41=\"Endemic\", IF($J192>1, IF($J192=4, \"Unknown\", IF($J192=99, \"Surveillance\", SUM($O192:$Q192))), 0),\"Not required\")","v":17898.222000000002},{"$f":"IF(INTRO!$E$43=\"Endemic\", IF($K192>1, IF($K192=4, \"Unknown\", IF($K192=99, \"Surveillance\", ROUND(E192*0.75,0))), 0),\"Not required\")","v":0},{"$f":"IF(INTRO!$E$43=\"Endemic\", IF($K192>1, IF($K192=4, \"Unknown\", IF($K192=99, \"Surveillance\", F192)), 0),\"Not required\")","v":0},{"$f":"IF(INTRO!$E$43=\"Endemic\", IF($K192>1, IF($K192=4, \"Unknown\", IF($K192=99, \"Surveillance\", G192)), 0),\"Not required\")","v":0},{"$f":"IF(INTRO!$E$43=\"Endemic\", IF($K192>1, IF($K192=4, \"Unknown\", IF($K192=99, \"Surveillance\", SUM($S192:$U192))), 0),\"Not required\")","v":0},0,1,1,0,null,null,null,null,null,null,null,7592,"BAKASSI"]
[{"$f":"IF(INTRO!$E$33<>0,INTRO!$E$33, \" \")","v":"Cameroun"},"Sud Ouest","Bangem",28071,2193.5880000000002,{"$f":"IF(INTRO!$E$49=\"\",\"\",ROUND($D193*INTRO!$E$49,0))","v":7425},{"$f":"IF(INTRO!$E$50=\"\",\"\",ROUND($D193*INTRO!$E$50,0))","v":16160},99,1,1,0,1,{"$f":"IF(INTRO!$E$37=\"Endemic\",IF($H193>0,IF($H193=4,\"Unknown\",IF($H193=99,\"Stopped\",$D193)),0),\"Not required\")","v":"Stopped"},{"$f":"IF(INTRO!$E$39=\"Endemic\", IF($I193>0, IF($I193=4,\"Unknown\",IF($I193=99,\"Stopped\",$D193)), 0),\"Not required\")","v":28071},{"$f":"IF(INTRO!$E$41=\"Endemic\", IF($J193>1, IF($J193=4, \"Unknown\", IF($J193=99, \"Surveillance\", E193)), 0),\"Not required\")","v":0},{"$f":"IF(INTRO!$E$41=\"Endemic\", IF($J193>1, IF($J193=4, \"Unknown\", IF($J193=99, \"Surveillance\", F193)), 0),\"Not required\")","v":0},{"$f":"IF(INTRO!$E$41=\"Endemic\", IF($J193>1, IF($J193=4, \"Unknown\", IF($J193=99, \"Surveillance\", ROUND(D193*INTRO!$E$51,0))), 0),\"Not required\")","v":0},{"$f":"IF(INTRO!$E$41=\"Endemic\", IF($J193>1, IF($J193=4, \"Unknown\", IF($J193=99, \"Surveillance\", SUM($O193:$Q193))), 0),\"Not required\")","v":0},{"$f":"IF(INTRO!$E$43=\"Endemic\", IF($K193>1, IF($K193=4, \"Unknown\", IF($K193=99, \"Surveillance\", ROUND(E193*0.75,0))), 0),\"Not required\")","v":0},{"$f":"IF(INTRO!$E$43=\"Endemic\", IF($K193>1, IF($K193=4, \"Unknown\", IF($K193=99, \"Surveillance\", F193)), 0),\"Not required\")","v":0},{"$f":"IF(INTRO!$E$43=\"Endemic\", IF($K193>1, IF($K193=4, \"Unknown\", IF($K193=99, \"Surveillance\", G193)), 0),\"Not required\")","v":0},{"$f":"IF(INTRO!$E$43=\"Endemic\", IF($K193>1, IF($K193=4, \"Unknown\", IF($K193=99, \"Surveillance\", SUM($S193:$U193))), 0),\"Not required\")","v":0},0,1,0,0,"TAS",null,null,null,null,null,null,7593,"BANGEM"]
[{"$f":"IF(INTRO!$E$33<>0,INTRO!$E$33, \" \")","v":"Cameroun"},"Sud Ouest","Buea",195320,20076.768,{"$f":"IF(INTRO!$E$49=\"\",\"\",ROUND($D194*INTRO!$E$49,0))","v":51662},{"$f":"IF(INTRO!$E$50=\"\",\"\",ROUND($D194*INTRO!$E$50,0))","v":112446},99,1,2,2,1,{"$f":"IF(INTRO!$E$37=\"Endemic\",IF($H194>0,IF($H194=4,\"Unknown\",IF($H194=99,\"Stopped\",$D194)),0),\"Not required\")","v":"Stopped"},{"$f":"IF(INTRO!$E$39=\"Endemic\", IF($I194>0, IF($I194=4,\"Unknown\",IF($I194=99,\"Stopped\",$D194)), 0),\"Not required\")","v":195320},{"$f":"IF(INTRO!$E$41=\"Endemic\", IF($J194>1, IF($J194=4, \"Unknown\", IF($J194=99, \"Surveillance\", E194)), 0),\"Not required\")","v":20076.768},{"$f":"IF(INTRO!$E$41=\"Endemic\", IF($J194>1, IF($J194=4, \"Unknown\", IF($J194=99, \"Surveillance\", F194)), 0),\"Not required\")","v":51662},{"$f":"IF(INTRO!$E$41=\"Endemic\", IF($J194>1, IF($J194=4, \"Unknown\", IF($J194=99, \"Surveillance\", ROUND(D194*INTRO!$E$51,0))), 0),\"Not required\")","v":7227},{"$f":"IF(INTRO!$E$41=\"Endemic\", IF($J194>1, IF($J194=4, \"Unknown\", IF($J194=99, \"Surveillance\", SUM($O194:$Q194))), 0),\"Not required\")","v":78965.767999999996},{"$f":"IF(INTRO!$E$43=\"Endemic\", IF($K194>1, IF($K194=4, \"Unknown\", IF($K194=99, \"Surveillance\", ROUND(E194*0.75,0))), 0),\"Not required\")","v":15058},{"$f":"IF(INTRO!$E$43=\"Endemic\", IF($K194>1, IF($K194=4, \"Unknown\", IF($K194=99, \"Surveillance\", F194)), 0),\"Not required\")","v":51662},{"$f":"IF(INTRO!$E$43=\"Endemic\", IF($K194>1, IF($K194=4, \"Unknown\", IF($K194=99, \"Surveillance\", G194)), 0),\"Not required\")","v":112446},{"$f":"IF(INTRO!$E$43=\"Endemic\", IF($K194>1, IF($K194=4, \"Unknown\", IF($K194=99, \"Surveillance\", SUM($S194:$U194))), 0),\"Not required\")","v":179166},0,1,1,1,"TAS",null,null,null,null,null,null,7594,"BUEA"]
[{"$f":"IF(INTRO!$E$33<>0,INTRO!$E$33, \" \")","v":"Cameroun"},"Sud Ouest","Ekondo Titi",63309,8160.8040000000001,{"$f":"IF(INTRO!$E$49=\"\",\"\",ROUND($D195*INTRO!$E$49,0))","v":16745},{"$f":"IF(INTRO!$E$50=\"\",\"\",ROUND($D195*INTRO!$E$50,0))","v":36447},99,1,3,3,1,{"$f":"IF(INTRO!$E$37=\"Endemic\",IF($H195>0,IF($H195=4,\"Unknown\",IF($H195=99,\"Stopped\",$D195)),0),\"Not required\")","v":"Stopped"},{"$f":"IF(INTRO!$E$39=\"Endemic\", IF($I195>0, IF($I195=4,\"Unknown\",IF($I195=99,\"Stopped\",$D195)), 0),\"Not required\")","v":63309},{"$f":"IF(INTRO!$E$41=\"Endemic\", IF($J195>1, IF($J195=4, \"Unknown\", IF($J195=99, \"Surveillance\", E195)), 0),\"Not required\")","v":8160.8040000000001},{"$f":"IF(INTRO!$E$41=\"Endemic\", IF($J195>1, IF($J195=4, \"Unknown\", IF($J195=99, \"Surveillance\", F195)), 0),\"Not required\")","v":16745},{"$f":"IF(INTRO!$E$41=\"Endemic\", IF($J195>1, IF($J195=4, \"Unknown\", IF($J195=99, \"Surveillance\", ROUND(D195*INTRO!$E$51,0))), 0),\"Not required\")","v":2342},{"$f":"IF(INTRO!$E$41=\"Endemic\", IF($J195>1, IF($J195=4, \"Unknown\", IF($J195=99, \"Surveillance\", SUM($O195:$Q195))), 0),\"Not required\")","v":27247.804},{"$f":"IF(INTRO!$E$43=\"Endemic\", IF($K195>1, IF($K195=4, \"Unknown\", IF($K195=99, \"Surveillance\", ROUND(E195*0.75,0))), 0),\"Not required\")","v":6121},{"$f":"IF(INTRO!$E$43=\"Endemic\", IF($K195>1, IF($K195=4, \"Unknown\", IF($K195=99, \"Surveillance\", F195)), 0),\"Not required\")","v":16745},{"$f":"IF(INTRO!$E$43=\"Endemic\", IF($K195>1, IF($K195=4, \"Unknown\", IF($K195=99, \"Surveillance\", G195)), 0),\"Not required\")","v":36447},{"$f":"IF(INTRO!$E$43=\"Endemic\", IF($K195>1, IF($K195=4, \"Unknown\", IF($K195=99, \"Surveillance\", SUM($S195:$U195))), 0),\"Not required\")","v":59313},0,1,1,1,"TAS",null,null,null,null,null,null,7595,"EKONDO TITI"]
[{"$f":"IF(INTRO!$E$33<>0,INTRO!$E$33, \" \")","v":"Cameroun"},"Sud Ouest","Eyumodjock",46866,2526.0120000000002,{"$f":"IF(INTRO!$E$49=\"\",\"\",ROUND($D196*INTRO!$E$49,0))","v":12396},{"$f":"IF(INTRO!$E$50=\"\",\"\",ROUND($D196*INTRO!$E$50,0))","v":26981},99,1,2,1,1,{"$f":"IF(INTRO!$E$37=\"Endemic\",IF($H196>0,IF($H196=4,\"Unknown\",IF($H196=99,\"Stopped\",$D196)),0),\"Not required\")","v":"Stopped"},{"$f":"IF(INTRO!$E$39=\"Endemic\", IF($I196>0, IF($I196=4,\"Unknown\",IF($I196=99,\"Stopped\",$D196)), 0),\"Not required\")","v":46866},{"$f":"IF(INTRO!$E$41=\"Endemic\", IF($J196>1, IF($J196=4, \"Unknown\", IF($J196=99, \"Surveillance\", E196)), 0),\"Not required\")","v":2526.0120000000002},{"$f":"IF(INTRO!$E$41=\"Endemic\", IF($J196>1, IF($J196=4, \"Unknown\", IF($J196=99, \"Surveillance\", F196)), 0),\"Not required\")","v":12396},{"$f":"IF(INTRO!$E$41=\"Endemic\", IF($J196>1, IF($J196=4, \"Unknown\", IF($J196=99, \"Surveillance\", ROUND(D196*INTRO!$E$51,0))), 0),\"Not required\")","v":1734},{"$f":"IF(INTRO!$E$41=\"Endemic\", IF($J196>1, IF($J196=4, \"Unknown\", IF($J196=99, \"Surveillance\", SUM($O196:$Q196))), 0),\"Not required\")","v":16656.012000000002},{"$f":"IF(INTRO!$E$43=\"Endemic\", IF($K196>1, IF($K196=4, \"Unknown\", IF($K196=99, \"Surveillance\", ROUND(E196*0.75,0))), 0),\"Not required\")","v":0},{"$f":"IF(INTRO!$E$43=\"Endemic\", IF($K196>1, IF($K196=4, \"Unknown\", IF($K196=99, \"Surveillance\", F196)), 0),\"Not required\")","v":0},{"$f":"IF(INTRO!$E$43=\"Endemic\", IF($K196>1, IF($K196=4, \"Unknown\", IF($K196=99, \"Surveillance\", G196)), 0),\"Not required\")","v":0},{"$f":"IF(INTRO!$E$43=\"Endemic\", IF($K196>1, IF($K196=4, \"Unknown\", IF($K196=99, \"Surveillance\", SUM($S196:$U196))), 0),\"Not required\")","v":0},0,1,1,0,"TAS",null,null,null,null,null,null,7596,"EYUMODJOCK"]
[{"$f":"IF(INTRO!$E$33<>0,INTRO!$E$33, \" \")","v":"Cameroun"},"Sud Ouest","Fontem",138160,14686.164000000001,{"$f":"IF(INTRO!$E$49=\"\",\"\",ROUND($D197*INTRO!$E$49,0))","v":36543},{"$f":"IF(INTRO!$E$50=\"\",\"\",ROUND($D197*INTRO!$E$50,0))","v":79539},99,1,2,0,1,{"$f":"IF(INTRO!$E$37=\"Endemic\",IF($H197>0,IF($H197=4,\"Unknown\",IF($H197=99,\"Stopped\",$D197)),0),\"Not required\")","v":"Stopped"},{"$f":"IF(INTRO!$E$39=\"Endemic\", IF($I197>0, IF($I197=4,\"Unknown\",IF($I197=99,\"Stopped\",$D197)), 0),\"Not required\")","v":138160},{"$f":"IF(INTRO!$E$41=\"Endemic\", IF($J197>1, IF($J197=4, \"Unknown\", IF($J197=99, \"Surveillance\", E197)), 0),\"Not required\")","v":14686.164000000001},{"$f":"IF(INTRO!$E$41=\"Endemic\", IF($J197>1, IF($J197=4, \"Unknown\", IF($J197=99, \"Surveillance\", F197)), 0),\"Not required\")","v":36543},{"$f":"IF(INTRO!$E$41=\"Endemic\", IF($J197>1, IF($J197=4, \"Unknown\", IF($J197=99, \"Surveillance\", ROUND(D197*INTRO!$E$51,0))), 0),\"Not required\")","v":5112},{"$f":"IF(INTRO!$E$41=\"Endemic\", IF($J197>1, IF($J197=4, \"Unknown\", IF($J197=99, \"Surveillance\", SUM($O197:$Q197))), 0),\"Not required\")","v":56341.164000000004},{"$f":"IF(INTRO!$E$43=\"Endemic\", IF($K197>1, IF($K197=4, \"Unknown\", IF($K197=99, \"Surveillance\", ROUND(E197*0.75,0))), 0),\"Not required\")","v":0},{"$f":"IF(INTRO!$E$43=\"Endemic\", IF($K197>1, IF($K197=4, \"Unknown\", IF($K197=99, \"Surveillance\", F197)), 0),\"Not required\")","v":0},{"$f":"IF(INTRO!$E$43=\"Endemic\", IF($K197>1, IF($K197=4, \"Unknown\", IF($K197=99, \"Surveillance\", G197)), 0),\"Not required\")","v":0},{"$f":"IF(INTRO!$E$43=\"Endemic\", IF($K197>1, IF($K197=4, \"Unknown\", IF($K197=99, \"Surveillance\", SUM($S197:$U197))), 0),\"Not required\")","v":0},0,1,1,0,"TAS",null,null,null,null,null,null,7597,"FONTEM"]
[{"$f":"IF(INTRO!$E$33<>0,INTRO!$E$33, \" \")","v":"Cameroun"},"Sud Ouest","Konye",146553,12921.444,{"$f":"IF(INTRO!$E$49=\"\",\"\",ROUND($D198*INTRO!$E$49,0))","v":38763},{"$f":"IF(INTRO!$E$50=\"\",\"\",ROUND($D198*INTRO!$E$50,0))","v":84371},99,1,3,1,1,{"$f":"IF(INTRO!$E$37=\"Endemic\",IF($H198>0,IF($H198=4,\"Unknown\",IF($H198=99,\"Stopped\",$D198)),0),\"Not required\")","v":"Stopped"},{"$f":"IF(INTRO!$E$39=\"Endemic\", IF($I198>0, IF($I198=4,\"Unknown\",IF($I198=99,\"Stopped\",$D198)), 0),\"Not required\")","v":146553},{"$f":"IF(INTRO!$E$41=\"Endemic\", IF($J198>1, IF($J198=4, \"Unknown\", IF($J198=99, \"Surveillance\", E198)), 0),\"Not required\")","v":12921.444},{"$f":"IF(INTRO!$E$41=\"Endemic\", IF($J198>1, IF($J198=4, \"Unknown\", IF($J198=99, \"Surveillance\", F198)), 0),\"Not required\")","v":38763},{"$f":"IF(INTRO!$E$41=\"Endemic\", IF($J198>1, IF($J198=4, \"Unknown\", IF($J198=99, \"Surveillance\", ROUND(D198*INTRO!$E$51,0))), 0),\"Not required\")","v":5422},{"$f":"IF(INTRO!$E$41=\"Endemic\", IF($J198>1, IF($J198=4, \"Unknown\", IF($J198=99, \"Surveillance\", SUM($O198:$Q198))), 0),\"Not required\")","v":57106.444000000003},{"$f":"IF(INTRO!$E$43=\"Endemic\", IF($K198>1, IF($K198=4, \"Unknown\", IF($K198=99, \"Surveillance\", ROUND(E198*0.75,0))), 0),\"Not required\")","v":0},{"$f":"IF(INTRO!$E$43=\"Endemic\", IF($K198>1, IF($K198=4, \"Unknown\", IF($K198=99, \"Surveillance\", F198)), 0),\"Not required\")","v":0},{"$f":"IF(INTRO!$E$43=\"Endemic\", IF($K198>1, IF($K198=4, \"Unknown\", IF($K198=99, \"Surveillance\", G198)), 0),\"Not required\")","v":0},{"$f":"IF(INTRO!$E$43=\"Endemic\", IF($K198>1, IF($K198=4, \"Unknown\", IF($K198=99, \"Surveillance\", SUM($S198:$U198))), 0),\"Not required\")","v":0},0,1,1,0,"TAS",null,null,null,null,null,null,7598,"KONYE"]
[{"$f":"IF(INTRO!$E$33<>0,INTRO!$E$33, \" \")","v":"Cameroun"},"Sud Ouest","Kumba-North",142457,20463.57,{"$f":"IF(INTRO!$E$49=\"\",\"\",ROUND($D199*INTRO!$E$49,0))","v":37680},{"$f":"IF(INTRO!$E$50=\"\",\"\",ROUND($D199*INTRO!$E$50,0))","v":82012},99,1,3,2,1,{"$f":"IF(INTRO!$E$37=\"Endemic\",IF($H199>0,IF($H199=4,\"Unknown\",IF($H199=99,\"Stopped\",$D199)),0),\"Not required\")","v":"Stopped"},{"$f":"IF(INTRO!$E$39=\"Endemic\", IF($I199>0, IF($I199=4,\"Unknown\",IF($I199=99,\"Stopped\",$D199)), 0),\"Not required\")","v":142457},{"$f":"IF(INTRO!$E$41=\"Endemic\", IF($J199>1, IF($J199=4, \"Unknown\", IF($J199=99, \"Surveillance\", E199)), 0),\"Not required\")","v":20463.57},{"$f":"IF(INTRO!$E$41=\"Endemic\", IF($J199>1, IF($J199=4, \"Unknown\", IF($J199=99, \"Surveillance\", F199)), 0),\"Not required\")","v":37680},{"$f":"IF(INTRO!$E$41=\"Endemic\", IF($J199>1, IF($J199=4, \"Unknown\", IF($J199=99, \"Surveillance\", ROUND(D199*INTRO!$E$51,0))), 0),\"Not required\")","v":5271},{"$f":"IF(INTRO!$E$41=\"Endemic\", IF($J199>1, IF($J199=4, \"Unknown\", IF($J199=99, \"Surveillance\", SUM($O199:$Q199))), 0),\"Not required\")","v":63414.57},{"$f":"IF(INTRO!$E$43=\"Endemic\", IF($K199>1, IF($K199=4, \"Unknown\", IF($K199=99, \"Surveillance\", ROUND(E199*0.75,0))), 0),\"Not required\")","v":15348},{"$f":"IF(INTRO!$E$43=\"Endemic\", IF($K199>1, IF($K199=4, \"Unknown\", IF($K199=99, \"Surveillance\", F199)), 0),\"Not required\")","v":37680},{"$f":"IF(INTRO!$E$43=\"Endemic\", IF($K199>1, IF($K199=4, \"Unknown\", IF($K199=99, \"Surveillance\", G199)), 0),\"Not required\")","v":82012},{"$f":"IF(INTRO!$E$43=\"Endemic\", IF($K199>1, IF($K199=4, \"Unknown\", IF($K199=99, \"Surveillance\", SUM($S199:$U199))), 0),\"Not required\")","v":135040},0,1,1,1,"TAS",null,null,null,null,null,null,7616,"KUMBA-NORTH"]
[{"$f":"IF(INTRO!$E$33<>0,INTRO!$E$33, \" \")","v":"Cameroun"},"Sud Ouest","Kumba-South",267004,19166.706000000002,{"$f":"IF(INTRO!$E$49=\"\",\"\",ROUND($D200*INTRO!$E$49,0))","v":70623},{"$f":"IF(INTRO!$E$50=\"\",\"\",ROUND($D200*INTRO!$E$50,0))","v":153714},99,1,3,2,1,{"$f":"IF(INTRO!$E$37=\"Endemic\",IF($H200>0,IF($H200=4,\"Unknown\",IF($H200=99,\"Stopped\",$D200)),0),\"Not required\")","v":"Stopped"},{"$f":"IF(INTRO!$E$39=\"Endemic\", IF($I200>0, IF($I200=4,\"Unknown\",IF($I200=99,\"Stopped\",$D200)), 0),\"Not required\")","v":267004},{"$f":"IF(INTRO!$E$41=\"Endemic\", IF($J200>1, IF($J200=4, \"Unknown\", IF($J200=99, \"Surveillance\", E200)), 0),\"Not required\")","v":19166.706000000002},{"$f":"IF(INTRO!$E$41=\"Endemic\", IF($J200>1, IF($J200=4, \"Unknown\", IF($J200=99, \"Surveillance\", F200)), 0),\"Not required\")","v":70623},{"$f":"IF(INTRO!$E$41=\"Endemic\", IF($J200>1, IF($J200=4, \"Unknown\", IF($J200=99, \"Surveillance\", ROUND(D200*INTRO!$E$51,0))), 0),\"Not required\")","v":9879},{"$f":"IF(INTRO!$E$41=\"Endemic\", IF($J200>1, IF($J200=4, \"Unknown\", IF($J200=99, \"Surveillance\", SUM($O200:$Q200))), 0),\"Not required\")","v":99668.706000000006},{"$f":"IF(INTRO!$E$43=\"Endemic\", IF($K200>1, IF($K200=4, \"Unknown\", IF($K200=99, \"Surveillance\", ROUND(E200*0.75,0))), 0),\"Not required\")","v":14375},{"$f":"IF(INTRO!$E$43=\"Endemic\", IF($K200>1, IF($K200=4, \"Unknown\", IF($K200=99, \"Surveillance\", F200)), 0),\"Not required\")","v":70623},{"$f":"IF(INTRO!$E$43=\"Endemic\", IF($K200>1, IF($K200=4, \"Unknown\", IF($K200=99, \"Surveillance\", G200)), 0),\"Not required\")","v":153714},{"$f":"IF(INTRO!$E$43=\"Endemic\", IF($K200>1, IF($K200=4, \"Unknown\", IF($K200=99, \"Surveillance\", SUM($S200:$U200))), 0),\"Not required\")","v":238712},0,1,1,1,"TAS",null,null,null,null,null,null,7599,"KUMBA-SOUTH"]
[{"$f":"IF(INTRO!$E$33<>0,INTRO!$E$33, \" \")","v":"Cameroun"},"Sud Ouest","Limbe",223447,38258.514000000003,{"$f":"IF(INTRO!$E$49=\"\",\"\",ROUND($D201*INTRO!$E$49,0))","v":59102},{"$f":"IF(INTRO!$E$50=\"\",\"\",ROUND($D201*INTRO!$E$50,0))","v":128638},99,1,2,0,1,{"$f":"IF(INTRO!$E$37=\"Endemic\",IF($H201>0,IF($H201=4,\"Unknown\",IF($H201=99,\"Stopped\",$D201)),0),\"Not required\")","v":"Stopped"},{"$f":"IF(INTRO!$E$39=\"Endemic\", IF($I201>0, IF($I201=4,\"Unknown\",IF($I201=99,\"Stopped\",$D201)), 0),\"Not required\")","v":223447},{"$f":"IF(INTRO!$E$41=\"Endemic\", IF($J201>1, IF($J201=4, \"Unknown\", IF($J201=99, \"Surveillance\", E201)), 0),\"Not required\")","v":38258.514000000003},{"$f":"IF(INTRO!$E$41=\"Endemic\", IF($J201>1, IF($J201=4, \"Unknown\", IF($J201=99, \"Surveillance\", F201)), 0),\"Not required\")","v":59102},{"$f":"IF(INTRO!$E$41=\"Endemic\", IF($J201>1, IF($J201=4, \"Unknown\", IF($J201=99, \"Surveillance\", ROUND(D201*INTRO!$E$51,0))), 0),\"Not required\")","v":8268},{"$f":"IF(INTRO!$E$41=\"Endemic\", IF($J201>1, IF($J201=4, \"Unknown\", IF($J201=99, \"Surveillance\", SUM($O201:$Q201))), 0),\"Not required\")","v":105628.514},{"$f":"IF(INTRO!$E$43=\"Endemic\", IF($K201>1, IF($K201=4, \"Unknown\", IF($K201=99, \"Surveillance\", ROUND(E201*0.75,0))), 0),\"Not required\")","v":0},{"$f":"IF(INTRO!$E$43=\"Endemic\", IF($K201>1, IF($K201=4, \"Unknown\", IF($K201=99, \"Surveillance\", F201)), 0),\"Not required\")","v":0},{"$f":"IF(INTRO!$E$43=\"Endemic\", IF($K201>1, IF($K201=4, \"Unknown\", IF($K201=99, \"Surveillance\", G201)), 0),\"Not required\")","v":0},{"$f":"IF(INTRO!$E$43=\"Endemic\", IF($K201>1, IF($K201=4, \"Unknown\", IF($K201=99, \"Surveillance\", SUM($S201:$U201))), 0),\"Not required\")","v":0},0,1,1,0,"TAS",null,null,null,null,null,null,7600,"LIMBE"]
[{"$f":"IF(INTRO!$E$33<>0,INTRO!$E$33, \" \")","v":"Cameroun"},"Sud Ouest","Mamfe",92330,14644.098,{"$f":"IF(INTRO!$E$49=\"\",\"\",ROUND($D202*INTRO!$E$49,0))","v":24421},{"$f":"IF(INTRO!$E$50=\"\",\"\",ROUND($D202*INTRO!$E$50,0))","v":53154},99,1,3,0,1,{"$f":"IF(INTRO!$E$37=\"Endemic\",IF($H202>0,IF($H202=4,\"Unknown\",IF($H202=99,\"Stopped\",$D202)),0),\"Not required\")","v":"Stopped"},{"$f":"IF(INTRO!$E$39=\"Endemic\", IF($I202>0, IF($I202=4,\"Unknown\",IF($I202=99,\"Stopped\",$D202)), 0),\"Not required\")","v":92330},{"$f":"IF(INTRO!$E$41=\"Endemic\", IF($J202>1, IF($J202=4, \"Unknown\", IF($J202=99, \"Surveillance\", E202)), 0),\"Not required\")","v":14644.098},{"$f":"IF(INTRO!$E$41=\"Endemic\", IF($J202>1, IF($J202=4, \"Unknown\", IF($J202=99, \"Surveillance\", F202)), 0),\"Not required\")","v":24421},{"$f":"IF(INTRO!$E$41=\"Endemic\", IF($J202>1, IF($J202=4, \"Unknown\", IF($J202=99, \"Surveillance\", ROUND(D202*INTRO!$E$51,0))), 0),\"Not required\")","v":3416},{"$f":"IF(INTRO!$E$41=\"Endemic\", IF($J202>1, IF($J202=4, \"Unknown\", IF($J202=99, \"Surveillance\", SUM($O202:$Q202))), 0),\"Not required\")","v":42481.097999999998},{"$f":"IF(INTRO!$E$43=\"Endemic\", IF($K202>1, IF($K202=4, \"Unknown\", IF($K202=99, \"Surveillance\", ROUND(E202*0.75,0))), 0),\"Not required\")","v":0},{"$f":"IF(INTRO!$E$43=\"Endemic\", IF($K202>1, IF($K202=4, \"Unknown\", IF($K202=99, \"Surveillance\", F202)), 0),\"Not required\")","v":0},{"$f":"IF(INTRO!$E$43=\"Endemic\", IF($K202>1, IF($K202=4, \"Unknown\", IF($K202=99, \"Surveillance\", G202)), 0),\"Not required\")","v":0},{"$f":"IF(INTRO!$E$43=\"Endemic\", IF($K202>1, IF($K202=4, \"Unknown\", IF($K202=99, \"Surveillance\", SUM($S202:$U202))), 0),\"Not required\")","v":0},0,1,1,0,"TAS",null,null,null,null,null,null,7601,"MAMFE"]
[{"$f":"IF(INTRO!$E$33<>0,INTRO!$E$33, \" \")","v":"Cameroun"},"Sud Ouest","Mbonge",101655,13660.164000000001,{"$f":"IF(INTRO!$E$49=\"\",\"\",ROUND($D203*INTRO!$E$49,0))","v":26888},{"$f":"IF(INTRO!$E$50=\"\",\"\",ROUND($D203*INTRO!$E$50,0))","v":58523},99,1,2,3,1,{"$f":"IF(INTRO!$E$37=\"Endemic\",IF($H203>0,IF($H203=4,\"Unknown\",IF($H203=99,\"Stopped\",$D203)),0),\"Not required\")","v":"Stopped"},{"$f":"IF(INTRO!$E$39=\"Endemic\", IF($I203>0, IF($I203=4,\"Unknown\",IF($I203=99,\"Stopped\",$D203)), 0),\"Not required\")","v":101655},{"$f":"IF(INTRO!$E$41=\"Endemic\", IF($J203>1, IF($J203=4, \"Unknown\", IF($J203=99, \"Surveillance\", E203)), 0),\"Not required\")","v":13660.164000000001},{"$f":"IF(INTRO!$E$41=\"Endemic\", IF($J203>1, IF($J203=4, \"Unknown\", IF($J203=99, \"Surveillance\", F203)), 0),\"Not required\")","v":26888},{"$f":"IF(INTRO!$E$41=\"Endemic\", IF($J203>1, IF($J203=4, \"Unknown\", IF($J203=99, \"Surveillance\", ROUND(D203*INTRO!$E$51,0))), 0),\"Not required\")","v":3761},{"$f":"IF(INTRO!$E$41=\"Endemic\", IF($J203>1, IF($J203=4, \"Unknown\", IF($J203=99, \"Surveillance\", SUM($O203:$Q203))), 0),\"Not required\")","v":44309.164000000004},{"$f":"IF(INTRO!$E$43=\"Endemic\", IF($K203>1, IF($K203=4, \"Unknown\", IF($K203=99, \"Surveillance\", ROUND(E203*0.75,0))), 0),\"Not required\")","v":10245},{"$f":"IF(INTRO!$E$43=\"Endemic\", IF($K203>1, IF($K203=4, \"Unknown\", IF($K203=99, \"Surveillance\", F203)), 0),\"Not required\")","v":26888},{"$f":"IF(INTRO!$E$43=\"Endemic\", IF($K203>1, IF($K203=4, \"Unknown\", IF($K203=99, \"Surveillance\", G203)), 0),\"Not required\")","v":58523},{"$f":"IF(INTRO!$E$43=\"Endemic\", IF($K203>1, IF($K203=4, \"Unknown\", IF($K203=99, \"Surveillance\", SUM($S203:$U203))), 0),\"Not required\")","v":95656},0,1,1,1,"TAS",null,null,null,null,null,null,7602,"MBONGE"]
[{"$f":"IF(INTRO!$E$33<>0,INTRO!$E$33, \" \")","v":"Cameroun"},"Sud Ouest","Mundemba",24134,2883.06,{"$f":"IF(INTRO!$E$49=\"\",\"\",ROUND($D204*INTRO!$E$49,0))","v":6383},{"$f":"IF(INTRO!$E$50=\"\",\"\",ROUND($D204*INTRO!$E$50,0))","v":13894},99,1,2,0,1,{"$f":"IF(INTRO!$E$37=\"Endemic\",IF($H204>0,IF($H204=4,\"Unknown\",IF($H204=99,\"Stopped\",$D204)),0),\"Not required\")","v":"Stopped"},{"$f":"IF(INTRO!$E$39=\"Endemic\", IF($I204>0, IF($I204=4,\"Unknown\",IF($I204=99,\"Stopped\",$D204)), 0),\"Not required\")","v":24134},{"$f":"IF(INTRO!$E$41=\"Endemic\", IF($J204>1, IF($J204=4, \"Unknown\", IF($J204=99, \"Surveillance\", E204)), 0),\"Not required\")","v":2883.06},{"$f":"IF(INTRO!$E$41=\"Endemic\", IF($J204>1, IF($J204=4, \"Unknown\", IF($J204=99, \"Surveillance\", F204)), 0),\"Not required\")","v":6383},{"$f":"IF(INTRO!$E$41=\"Endemic\", IF($J204>1, IF($J204=4, \"Unknown\", IF($J204=99, \"Surveillance\", ROUND(D204*INTRO!$E$51,0))), 0),\"Not required\")","v":893},{"$f":"IF(INTRO!$E$41=\"Endemic\", IF($J204>1, IF($J204=4, \"Unknown\", IF($J204=99, \"Surveillance\", SUM($O204:$Q204))), 0),\"Not required\")","v":10159.06},{"$f":"IF(INTRO!$E$43=\"Endemic\", IF($K204>1, IF($K204=4, \"Unknown\", IF($K204=99, \"Surveillance\", ROUND(E204*0.75,0))), 0),\"Not required\")","v":0},{"$f":"IF(INTRO!$E$43=\"Endemic\", IF($K204>1, IF($K204=4, \"Unknown\", IF($K204=99, \"Surveillance\", F204)), 0),\"Not required\")","v":0},{"$f":"IF(INTRO!$E$43=\"Endemic\", IF($K204>1, IF($K204=4, \"Unknown\", IF($K204=99, \"Surveillance\", G204)), 0),\"Not required\")","v":0},{"$f":"IF(INTRO!$E$43=\"Endemic\", IF($K204>1, IF($K204=4, \"Unknown\", IF($K204=99, \"Surveillance\", SUM($S204:$U204))), 0),\"Not required\")","v":0},0,1,1,0,"TAS",null,null,null,null,null,null,7603,"MUNDEMBA"]
[{"$f":"IF(INTRO!$E$33<>0,INTRO!$E$33, \" \")","v":"Cameroun"},"Sud Ouest","Muyuka",127744,12630.06,{"$f":"IF(INTRO!$E$49=\"\",\"\",ROUND($D205*INTRO!$E$49,0))","v":33788},{"$f":"IF(INTRO!$E$50=\"\",\"\",ROUND($D205*INTRO!$E$50,0))","v":73542},99,1,1,2,1,{"$f":"IF(INTRO!$E$37=\"Endemic\",IF($H205>0,IF($H205=4,\"Unknown\",IF($H205=99,\"Stopped\",$D205)),0),\"Not required\")","v":"Stopped"},{"$f":"IF(INTRO!$E$39=\"Endemic\", IF($I205>0, IF($I205=4,\"Unknown\",IF($I205=99,\"Stopped\",$D205)), 0),\"Not required\")","v":127744},{"$f":"IF(INTRO!$E$41=\"Endemic\", IF($J205>1, IF($J205=4, \"Unknown\", IF($J205=99, \"Surveillance\", E205)), 0),\"Not required\")","v":0},{"$f":"IF(INTRO!$E$41=\"Endemic\", IF($J205>1, IF($J205=4, \"Unknown\", IF($J205=99, \"Surveillance\", F205)), 0),\"Not required\")","v":0},{"$f":"IF(INTRO!$E$41=\"Endemic\", IF($J205>1, IF($J205=4, \"Unknown\", IF($J205=99, \"Surveillance\", ROUND(D205*INTRO!$E$51,0))), 0),\"Not required\")","v":0},{"$f":"IF(INTRO!$E$41=\"Endemic\", IF($J205>1, IF($J205=4, \"Unknown\", IF($J205=99, \"Surveillance\", SUM($O205:$Q205))), 0),\"Not required\")","v":0},{"$f":"IF(INTRO!$E$43=\"Endemic\", IF($K205>1, IF($K205=4, \"Unknown\", IF($K205=99, \"Surveillance\", ROUND(E205*0.75,0))), 0),\"Not required\")","v":9473},{"$f":"IF(INTRO!$E$43=\"Endemic\", IF($K205>1, IF($K205=4, \"Unknown\", IF($K205=99, \"Surveillance\", F205)), 0),\"Not required\")","v":33788},{"$f":"IF(INTRO!$E$43=\"Endemic\", IF($K205>1, IF($K205=4, \"Unknown\", IF($K205=99, \"Surveillance\", G205)), 0),\"Not required\")","v":73542},{"$f":"IF(INTRO!$E$43=\"Endemic\", IF($K205>1, IF($K205=4, \"Unknown\", IF($K205=99, \"Surveillance\", SUM($S205:$U205))), 0),\"Not required\")","v":116803},0,1,0,1,"TAS",null,null,null,null,null,null,7604,"MUYUKA"]
[{"$f":"IF(INTRO!$E$33<>0,INTRO!$E$33, \" \")","v":"Cameroun"},"Sud Ouest","Nguti",42235,4216.8599999999997,{"$f":"IF(INTRO!$E$49=\"\",\"\",ROUND($D206*INTRO!$E$49,0))","v":11171},{"$f":"IF(INTRO!$E$50=\"\",\"\",ROUND($D206*INTRO!$E$50,0))","v":24315},99,1,2,2,1,{"$f":"IF(INTRO!$E$37=\"Endemic\",IF($H206>0,IF($H206=4,\"Unknown\",IF($H206=99,\"Stopped\",$D206)),0),\"Not required\")","v":"Stopped"},{"$f":"IF(INTRO!$E$39=\"Endemic\", IF($I206>0, IF($I206=4,\"Unknown\",IF($I206=99,\"Stopped\",$D206)), 0),\"Not required\")","v":42235},{"$f":"IF(INTRO!$E$41=\"Endemic\", IF($J206>1, IF($J206=4, \"Unknown\", IF($J206=99, \"Surveillance\", E206)), 0),\"Not required\")","v":4216.8599999999997},{"$f":"IF(INTRO!$E$41=\"Endemic\", IF($J206>1, IF($J206=4, \"Unknown\", IF($J206=99, \"Surveillance\", F206)), 0),\"Not required\")","v":11171},{"$f":"IF(INTRO!$E$41=\"Endemic\", IF($J206>1, IF($J206=4, \"Unknown\", IF($J206=99, \"Surveillance\", ROUND(D206*INTRO!$E$51,0))), 0),\"Not required\")","v":1563},{"$f":"IF(INTRO!$E$41=\"Endemic\", IF($J206>1, IF($J206=4, \"Unknown\", IF($J206=99, \"Surveillance\", SUM($O206:$Q206))), 0),\"Not required\")","v":16950.86},{"$f":"IF(INTRO!$E$43=\"Endemic\", IF($K206>1, IF($K206=4, \"Unknown\", IF($K206=99, \"Surveillance\", ROUND(E206*0.75,0))), 0),\"Not required\")","v":3163},{"$f":"IF(INTRO!$E$43=\"Endemic\", IF($K206>1, IF($K206=4, \"Unknown\", IF($K206=99, \"Surveillance\", F206)), 0),\"Not required\")","v":11171},{"$f":"IF(INTRO!$E$43=\"Endemic\", IF($K206>1, IF($K206=4, \"Unknown\", IF($K206=99, \"Surveillance\", G206)), 0),\"Not required\")","v":24315},{"$f":"IF(INTRO!$E$43=\"Endemic\", IF($K206>1, IF($K206=4, \"Unknown\", IF($K206=99, \"Surveillance\", SUM($S206:$U206))), 0),\"Not required\")","v":38649},0,1,1,1,"TAS",null,null,null,null,null,null,7605,"NGUTI"]
[{"$f":"IF(INTRO!$E$33<>0,INTRO!$E$33, \" \")","v":"Cameroun"},"Sud Ouest","Tiko",170413,19125.666000000001,{"$f":"IF(INTRO!$E$49=\"\",\"\",ROUND($D207*INTRO!$E$49,0))","v":45074},{"$f":"IF(INTRO!$E$50=\"\",\"\",ROUND($D207*INTRO!$E$50,0))","v":98107},99,1,2,2,1,{"$f":"IF(INTRO!$E$37=\"Endemic\",IF($H207>0,IF($H207=4,\"Unknown\",IF($H207=99,\"Stopped\",$D207)),0),\"Not required\")","v":"Stopped"},{"$f":"IF(INTRO!$E$39=\"Endemic\", IF($I207>0, IF($I207=4,\"Unknown\",IF($I207=99,\"Stopped\",$D207)), 0),\"Not required\")","v":170413},{"$f":"IF(INTRO!$E$41=\"Endemic\", IF($J207>1, IF($J207=4, \"Unknown\", IF($J207=99, \"Surveillance\", E207)), 0),\"Not required\")","v":19125.666000000001},{"$f":"IF(INTRO!$E$41=\"Endemic\", IF($J207>1, IF($J207=4, \"Unknown\", IF($J207=99, \"Surveillance\", F207)), 0),\"Not required\")","v":45074},{"$f":"IF(INTRO!$E$41=\"Endemic\", IF($J207>1, IF($J207=4, \"Unknown\", IF($J207=99, \"Surveillance\", ROUND(D207*INTRO!$E$51,0))), 0),\"Not required\")","v":6305},{"$f":"IF(INTRO!$E$41=\"Endemic\", IF($J207>1, IF($J207=4, \"Unknown\", IF($J207=99, \"Surveillance\", SUM($O207:$Q207))), 0),\"Not required\")","v":70504.665999999997},{"$f":"IF(INTRO!$E$43=\"Endemic\", IF($K207>1, IF($K207=4, \"Unknown\", IF($K207=99, \"Surveillance\", ROUND(E207*0.75,0))), 0),\"Not required\")","v":14344},{"$f":"IF(INTRO!$E$43=\"Endemic\", IF($K207>1, IF($K207=4, \"Unknown\", IF($K207=99, \"Surveillance\", F207)), 0),\"Not required\")","v":45074},{"$f":"IF(INTRO!$E$43=\"Endemic\", IF($K207>1, IF($K207=4, \"Unknown\", IF($K207=99, \"Surveillance\", G207)), 0),\"Not required\")","v":98107},{"$f":"IF(INTRO!$E$43=\"Endemic\", IF($K207>1, IF($K207=4, \"Unknown\", IF($K207=99, \"Surveillance\", SUM($S207:$U207))), 0),\"Not required\")","v":157525},0,1,1,1,"TAS",null,null,null,null,null,null,7606,"TIKO"]
[{"$f":"IF(INTRO!$E$33<>0,INTRO!$E$33, \" \")","v":"Cameroun"},"Sud Ouest","Tombel",88892,8798.9760000000006,{"$f":"IF(INTRO!$E$49=\"\",\"\",ROUND($D208*INTRO!$E$49,0))","v":23512},{"$f":"IF(INTRO!$E$50=\"\",\"\",ROUND($D208*INTRO!$E$50,0))","v":51175},99,1,3,0,1,{"$f":"IF(INTRO!$E$37=\"Endemic\",IF($H208>0,IF($H208=4,\"Unknown\",IF($H208=99,\"Stopped\",$D208)),0),\"Not required\")","v":"Stopped"},{"$f":"IF(INTRO!$E$39=\"Endemic\", IF($I208>0, IF($I208=4,\"Unknown\",IF($I208=99,\"Stopped\",$D208)), 0),\"Not required\")","v":88892},{"$f":"IF(INTRO!$E$41=\"Endemic\", IF($J208>1, IF($J208=4, \"Unknown\", IF($J208=99, \"Surveillance\", E208)), 0),\"Not required\")","v":8798.9760000000006},{"$f":"IF(INTRO!$E$41=\"Endemic\", IF($J208>1, IF($J208=4, \"Unknown\", IF($J208=99, \"Surveillance\", F208)), 0),\"Not required\")","v":23512},{"$f":"IF(INTRO!$E$41=\"Endemic\", IF($J208>1, IF($J208=4, \"Unknown\", IF($J208=99, \"Surveillance\", ROUND(D208*INTRO!$E$51,0))), 0),\"Not required\")","v":3289},{"$f":"IF(INTRO!$E$41=\"Endemic\", IF($J208>1, IF($J208=4, \"Unknown\", IF($J208=99, \"Surveillance\", SUM($O208:$Q208))), 0),\"Not required\")","v":35599.976000000002},{"$f":"IF(INTRO!$E$43=\"Endemic\", IF($K208>1, IF($K208=4, \"Unknown\", IF($K208=99, \"Surveillance\", ROUND(E208*0.75,0))), 0),\"Not required\")","v":0},{"$f":"IF(INTRO!$E$43=\"Endemic\", IF($K208>1, IF($K208=4, \"Unknown\", IF($K208=99, \"Surveillance\", F208)), 0),\"Not required\")","v":0},{"$f":"IF(INTRO!$E$43=\"Endemic\", IF($K208>1, IF($K208=4, \"Unknown\", IF($K208=99, \"Surveillance\", G208)), 0),\"Not required\")","v":0},{"$f":"IF(INTRO!$E$43=\"Endemic\", IF($K208>1, IF($K208=4, \"Unknown\", IF($K208=99, \"Surveillance\", SUM($S208:$U208))), 0),\"Not required\")","v":0},0,1,1,0,"TAS",null,null,null,null,null,null,7607,"TOMBEL"]
[{"$f":"IF(INTRO!$E$33<>0,INTRO!$E$33, \" \")","v":"Cameroun"},"Sud Ouest","Wabane",50486,9627.9840000000004,{"$f":"IF(INTRO!$E$49=\"\",\"\",ROUND($D209*INTRO!$E$49,0))","v":13354},{"$f":"IF(INTRO!$E$50=\"\",\"\",ROUND($D209*INTRO!$E$50,0))","v":29065},0,1,3,0,1,{"$f":"IF(INTRO!$E$37=\"Endemic\",IF($H209>0,IF($H209=4,\"Unknown\",IF($H209=99,\"Stopped\",$D209)),0),\"Not required\")","v":0},{"$f":"IF(INTRO!$E$39=\"Endemic\", IF($I209>0, IF($I209=4,\"Unknown\",IF($I209=99,\"Stopped\",$D209)), 0),\"Not required\")","v":50486},{"$f":"IF(INTRO!$E$41=\"Endemic\", IF($J209>1, IF($J209=4, \"Unknown\", IF($J209=99, \"Surveillance\", E209)), 0),\"Not required\")","v":9627.9840000000004},{"$f":"IF(INTRO!$E$41=\"Endemic\", IF($J209>1, IF($J209=4, \"Unknown\", IF($J209=99, \"Surveillance\", F209)), 0),\"Not required\")","v":13354},{"$f":"IF(INTRO!$E$41=\"Endemic\", IF($J209>1, IF($J209=4, \"Unknown\", IF($J209=99, \"Surveillance\", ROUND(D209*INTRO!$E$51,0))), 0),\"Not required\")","v":1868},{"$f":"IF(INTRO!$E$41=\"Endemic\", IF($J209>1, IF($J209=4, \"Unknown\", IF($J209=99, \"Surveillance\", SUM($O209:$Q209))), 0),\"Not required\")","v":24849.984},{"$f":"IF(INTRO!$E$43=\"Endemic\", IF($K209>1, IF($K209=4, \"Unknown\", IF($K209=99, \"Surveillance\", ROUND(E209*0.75,0))), 0),\"Not required\")","v":0},{"$f":"IF(INTRO!$E$43=\"Endemic\", IF($K209>1, IF($K209=4, \"Unknown\", IF($K209=99, \"Surveillance\", F209)), 0),\"Not required\")","v":0},{"$f":"IF(INTRO!$E$43=\"Endemic\", IF($K209>1, IF($K209=4, \"Unknown\", IF($K209=99, \"Surveillance\", G209)), 0),\"Not required\")","v":0},{"$f":"IF(INTRO!$E$43=\"Endemic\", IF($K209>1, IF($K209=4, \"Unknown\", IF($K209=99, \"Surveillance\", SUM($S209:$U209))), 0),\"Not required\")","v":0},0,1,1,0,null,null,null,null,null,null,null,7608,"WABANE"]

{"sheet":"ALB_MBD","index":2,"n_rows":209,"n_cols":23,"rows_kept":209,"cut":false,"hidden":false,"merged":[[5,6,5,7],[6,6,7,6],[6,7,7,7],[5,14,5,19],[6,22,7,22],[5,20,5,22],[6,20,7,20],[6,21,7,21],[6,18,7,18],[6,19,7,19],[6,17,7,17],[6,14,7,14],[6,15,7,15],[6,16,7,16],[6,11,6,12],[6,13,7,13],[3,0,3,2],[3,3,3,4],[5,0,5,2],[5,3,5,4],[5,5,7,5],[6,0,7,0],[6,1,7,1],[6,2,7,2],[6,3,7,3],[6,4,7,4],[0,8,0,12],[1,8,1,9],[1,11,1,12],[5,8,5,13],[6,8,6,9]]}
["Albendazole (ALB) and Mebendazole (MBD)",null,null,null,null,null,null,null,"Select medicine for treatment of STH for each age group"]
["Administrative structure, eligible population by age group, treatment plan and information about tablets",null,null,null,null,null,null,null,"MBD",null,"MBD","MBD"]
[]
["TOTAL",null,null,null,null,{"$f":"SUBTOTAL(9,F$10:F$1010)","v":53912},{"$f":"SUBTOTAL(9,G$10:G$1010)","v":0},null,null,{"$f":"SUBTOTAL(9,J$10:J$1010)","v":5371568.877756251},7710565,null,957267,14039400,53912,0,53912,0,0,0,14039400,0,14039400]
[]
["Country administrative structure",null,null,"Treatment plan",null,"People targeted by PELF with ALB","Loa endemic areas",null,"Target population for STH",null,null,null,null,null,"Albendazole (ALB)",null,null,null,null,null,"Mebendazole (MBD)"]
["Country","Province/State","District","LF","STH",null,"Population","Rounds planned","PreSAC",null,"SAC","WRA",null,"Total","Total required","Remaining in stock (LF)","Tablets to be procured (LF)","Total required","Remaining in stock (STH)","Tablets to be procured (STH)","Total required","Remaining in stock","Tablets to be procured"]
[null,null,null,null,null,null,null,null,"Rounds","People","People","Rounds","People"]
[]
[{"$f":"IF(AND(INTRO!$E$37=\"Non-endemic\",INTRO!$E$41=\"Non-endemic\"),\" \",IF(COUNTRY_INFO!A10=0,\" \",COUNTRY_INFO!A10))","v":"Cameroun"},{"$f":"IF(AND(INTRO!$E$37=\"Non-endemic\",INTRO!$E$41=\"Non-endemic\"),\" \",IF(COUNTRY_INFO!B10=0,\" \",COUNTRY_INFO!B10))","v":"Adamaoua"},{"$f":"IF(AND(INTRO!$E$37=\"Non-endemic\",INTRO!$E$41=\"Non-endemic\"),\" \",IF(COUNTRY_INFO!C10=0,\" \",COUNTRY_INFO!C10))","v":"Bankim"},{"$f":"IF(AND(INTRO!$E$37=\"Non-endemic\",INTRO!$E$41=\"Non-endemic\"),0,COUNTRY_INFO!W10)","v":0},{"$f":"IF(AND(INTRO!$E$37=\"Non-endemic\",INTRO!$E$41=\"Non-endemic\"),0,COUNTRY_INFO!Y10)","v":1},{"$f":"IF($D10=1,IVM!G10,0)","v":0},{"$f":"IF($D10=0, \" \", IF(COUNTRY_INFO!$H10=1, IF(COUNTRY_INFO!$L10=1, 0,\" \"),\" \"))","v":" "},null,1,29488.266,33821,null,11567,{"$f":"ROUND($J10,0)+ROUND($K10,0)+ROUND($M10,0)","v":74876},{"$f":"$F10+IF(OR(G10=0,G10=\" \"),0,G10*H10)","v":0},null,{"$f":"IF($O10>$P10, $O10-$P10,0)","v":0},{"$f":"ROUND((IF($I$2=\"ALB\",$J10,0)+IF($K$2=\"ALB\",$K10,0)+IF($L$2=\"ALB\",$M10,0)),0)","v":0},null,{"$f":"IF($R10>$S10,$R10-$S10,0)","v":0},{"$f":"ROUND((IF($I$2=\"MBD\",$J10,0)+IF($K$2=\"MBD\",$K10,0)+IF($L$2=\"MBD\",$M10,0)),0)","v":74876},null,{"$f":"IF($U10>$V10,$U10-$V10,0)","v":74876}]
[{"$f":"IF(AND(INTRO!$E$37=\"Non-endemic\",INTRO!$E$41=\"Non-endemic\"),\" \",IF(COUNTRY_INFO!A11=0,\" \",COUNTRY_INFO!A11))","v":"Cameroun"},{"$f":"IF(AND(INTRO!$E$37=\"Non-endemic\",INTRO!$E$41=\"Non-endemic\"),\" \",IF(COUNTRY_INFO!B11=0,\" \",COUNTRY_INFO!B11))","v":"Adamaoua"},{"$f":"IF(AND(INTRO!$E$37=\"Non-endemic\",INTRO!$E$41=\"Non-endemic\"),\" \",IF(COUNTRY_INFO!C11=0,\" \",COUNTRY_INFO!C11))","v":"Banyo"},{"$f":"IF(AND(INTRO!$E$37=\"Non-endemic\",INTRO!$E$41=\"Non-endemic\"),0,COUNTRY_INFO!W11)","v":0},{"$f":"IF(AND(INTRO!$E$37=\"Non-endemic\",INTRO!$E$41=\"Non-endemic\"),0,COUNTRY_INFO!Y11)","v":1},{"$f":"IF($D11=1,IVM!G11,0)","v":0},{"$f":"IF($D11=0, \" \", IF(COUNTRY_INFO!$H11=1, IF(COUNTRY_INFO!$L11=1, 0,\" \"),\" \"))","v":" "},null,1,96423.48,46645,null,0,143068,{"$f":"$F11+IF(OR(G11=0,G11=\" \"),0,G11*H11)","v":0},null,0,0,null,0,143068,null,143068]
[{"$f":"IF(AND(INTRO!$E$37=\"Non-endemic\",INTRO!$E$41=\"Non-endemic\"),\" \",IF(COUNTRY_INFO!A12=0,\" \",COUNTRY_INFO!A12))","v":"Cameroun"},{"$f":"IF(AND(INTRO!$E$37=\"Non-endemic\",INTRO!$E$41=\"Non-endemic\"),\" \",IF(COUNTRY_INFO!B12=0,\" \",COUNTRY_INFO!B12))","v":"Adamaoua"},{"$f":"IF(AND(INTRO!$E$37=\"Non-endemic\",INTRO!$E$41=\"Non-endemic\"),\" \",IF(COUNTRY_INFO!C12=0,\" \",COUNTRY_INFO!C12))","v":"Belel "},{"$f":"IF(AND(INTRO!$E$37=\"Non-endemic\",INTRO!$E$41=\"Non-endemic\"),0,COUNTRY_INFO!W12)","v":0},{"$f":"IF(AND(INTRO!$E$37=\"Non-endemic\",INTRO!$E$41=\"Non-endemic\"),0,COUNTRY_INFO!Y12)","v":1},{"$f":"IF($D12=1,IVM!G12,0)","v":0},{"$f":"IF($D12=0, \" \", IF(COUNTRY_INFO!$H12=1, IF(COUNTRY_INFO!$L12=1, 0,\" \"),\" \"))","v":" "},null,1,17308.94617331812,5904,null,0,23213,0,null,0,0,null,0,23213,null,23213]
[{"$f":"IF(AND(INTRO!$E$37=\"Non-endemic\",INTRO!$E$41=\"Non-endemic\"),\" \",IF(COUNTRY_INFO!A13=0,\" \",COUNTRY_INFO!A13))","v":"Cameroun"},{"$f":"IF(AND(INTRO!$E$37=\"Non-endemic\",INTRO!$E$41=\"Non-endemic\"),\" \",IF(COUNTRY_INFO!B13=0,\" \",COUNTRY_INFO!B13))","v":"Adamaoua"},{"$f":"IF(AND(INTRO!$E$37=\"Non-endemic\",INTRO!$E$41=\"Non-endemic\"),\" \",IF(COUNTRY_INFO!C13=0,\" \",COUNTRY_INFO!C13))","v":"Dang"},{"$f":"IF(AND(INTRO!$E$37=\"Non-endemic\",INTRO!$E$41=\"Non-endemic\"),0,COUNTRY_INFO!W13)","v":0},{"$f":"IF(AND(INTRO!$E$37=\"Non-endemic\",INTRO!$E$41=\"Non-endemic\"),0,COUNTRY_INFO!Y13)","v":1},{"$f":"IF($D13=1,IVM!G13,0)","v":0},{"$f":"IF($D13=0, \" \", IF(COUNTRY_INFO!$H13=1, IF(COUNTRY_INFO!$L13=1, 0,\" \"),\" \"))","v":" "},null,1,22153.392,25164,null,0,47317,0,null,0,0,null,0,47317,null,47317]
[{"$f":"IF(AND(INTRO!$E$37=\"Non-endemic\",INTRO!$E$41=\"Non-endemic\"),\" \",IF(COUNTRY_INFO!A14=0,\" \",COUNTRY_INFO!A14))","v":"Cameroun"},{"$f":"IF(AND(INTRO!$E$37=\"Non-endemic\",INTRO!$E$41=\"Non-endemic\"),\" \",IF(COUNTRY_INFO!B14=0,\" \",COUNTRY_INFO!B14))","v":"Adamaoua"},{"$f":"IF(AND(INTRO!$E$37=\"Non-endemic\",INTRO!$E$41=\"Non-endemic\"),\" \",IF(COUNTRY_INFO!C14=0,\" \",COUNTRY_INFO!C14))","v":"Djohong"},{"$f":"IF(AND(INTRO!$E$37=\"Non-endemic\",INTRO!$E$41=\"Non-endemic\"),0,COUNTRY_INFO!W14)","v":0},{"$f":"IF(AND(INTRO!$E$37=\"Non-endemic\",INTRO!$E$41=\"Non-endemic\"),0,COUNTRY_INFO!Y14)","v":1},{"$f":"IF($D14=1,IVM!G14,0)","v":0},{"$f":"IF($D14=0, \" \", IF(COUNTRY_INFO!$H14=1, IF(COUNTRY_INFO!$L14=1, 0,\" \"),\" \"))","v":" "},null,1,46792.781999999999,23214,null,0,70007,0,null,0,0,null,0,70007,null,70007]
[{"$f":"IF(AND(INTRO!$E$37=\"Non-endemic\",INTRO!$E$41=\"Non-endemic\"),\" \",IF(COUNTRY_INFO!A15=0,\" \",COUNTRY_INFO!A15))","v":"Cameroun"},{"$f":"IF(AND(INTRO!$E$37=\"Non-endemic\",INTRO!$E$41=\"Non-endemic\"),\" \",IF(COUNTRY_INFO!B15=0,\" \",COUNTRY_INFO!B15))","v":"Adamaoua"},{"$f":"IF(AND(INTRO!$E$37=\"Non-endemic\",INTRO!$E$41=\"Non-endemic\"),\" \",IF(COUNTRY_INFO!C15=0,\" \",COUNTRY_INFO!C15))","v":"Meiganga"},{"$f":"IF(AND(INTRO!$E$37=\"Non-endemic\",INTRO!$E$41=\"Non-endemic\"),0,COUNTRY_INFO!W15)","v":0},{"$f":"IF(AND(INTRO!$E$37=\"Non-endemic\",INTRO!$E$41=\"Non-endemic\"),0,COUNTRY_INFO!Y15)","v":1},{"$f":"IF($D15=1,IVM!G15,0)","v":0},{"$f":"IF($D15=0, \" \", IF(COUNTRY_INFO!$H15=1, IF(COUNTRY_INFO!$L15=1, 0,\" \"),\" \"))","v":" "},null,1,42764.705999999998,48437,null,0,91202,0,null,0,0,null,0,91202,null,91202]
[{"$f":"IF(AND(INTRO!$E$37=\"Non-endemic\",INTRO!$E$41=\"Non-endemic\"),\" \",IF(COUNTRY_INFO!A16=0,\" \",COUNTRY_INFO!A16))","v":"Cameroun"},{"$f":"IF(AND(INTRO!$E$37=\"Non-endemic\",INTRO!$E$41=\"Non-endemic\"),\" \",IF(COUNTRY_INFO!B16=0,\" \",COUNTRY_INFO!B16))","v":"Adamaoua"},{"$f":"IF(AND(INTRO!$E$37=\"Non-endemic\",INTRO!$E$41=\"Non-endemic\"),\" \",IF(COUNTRY_INFO!C16=0,\" \",COUNTRY_INFO!C16))","v":"Ngaoundal"},{"$f":"IF(AND(INTRO!$E$37=\"Non-endemic\",INTRO!$E$41=\"Non-endemic\"),0,COUNTRY_INFO!W16)","v":0},{"$f":"IF(AND(INTRO!$E$37=\"Non-endemic\",INTRO!$E$41=\"Non-endemic\"),0,COUNTRY_INFO!Y16)","v":1},{"$f":"IF($D16=1,IVM!G16,0)","v":0},{"$f":"IF($D16=0, \" \", IF(COUNTRY_INFO!$H16=1, IF(COUNTRY_INFO!$L16=1, 0,\" \"),\" \"))","v":" "},null,1,18841.464,26800,null,0,45641,0,null,0,0,null,0,45641,null,45641]
[{"$f":"IF(AND(INTRO!$E$37=\"Non-endemic\",INTRO!$E$41=\"Non-endemic\"),\" \",IF(COUNTRY_INFO!A17=0,\" \",COUNTRY_INFO!A17))","v":"Cameroun"},{"$f":"IF(AND(INTRO!$E$37=\"Non-endemic\",INTRO!$E$41=\"Non-endemic\"),\" \",IF(COUNTRY_INFO!B17=0,\" \",COUNTRY_INFO!B17))","v":"Adamaoua"},{"$f":"IF(AND(INTRO!$E$37=\"Non-endemic\",INTRO!$E$41=\"Non-endemic\"),\" \",IF(COUNTRY_INFO!C17=0,\" \",COUNTRY_INFO!C17))","v":"Ngaoundere Rural"},{"$f":"IF(AND(INTRO!$E$37=\"Non-endemic\",INTRO!$E$41=\"Non-endemic\"),0,COUNTRY_INFO!W17)","v":0},{"$f":"IF(AND(INTRO!$E$37=\"Non-endemic\",INTRO!$E$41=\"Non-endemic\"),0,COUNTRY_INFO!Y17)","v":1},{"$f":"IF($D17=1,IVM!G17,0)","v":0},{"$f":"IF($D17=0, \" \", IF(COUNTRY_INFO!$H17=1, IF(COUNTRY_INFO!$L17=1, 0,\" \"),\" \"))","v":" "},null,1,21255.315826681886,47021,null,0,68276,0,null,0,0,null,0,68276,null,68276]
[{"$f":"IF(AND(INTRO!$E$37=\"Non-endemic\",INTRO!$E$41=\"Non-endemic\"),\" \",IF(COUNTRY_INFO!A18=0,\" \",COUNTRY_INFO!A18))","v":"Cameroun"},{"$f":"IF(AND(INTRO!$E$37=\"Non-endemic\",INTRO!$E$41=\"Non-endemic\"),\" \",IF(COUNTRY_INFO!B18=0,\" \",COUNTRY_INFO!B18))","v":"Adamaoua"},{"$f":"IF(AND(INTRO!$E$37=\"Non-endemic\",INTRO!$E$41=\"Non-endemic\"),\" \",IF(COUNTRY_INFO!C18=0,\" \",COUNTRY_INFO!C18))","v":"Ngaoundere Urbain"},{"$f":"IF(AND(INTRO!$E$37=\"Non-endemic\",INTRO!$E$41=\"Non-endemic\"),0,COUNTRY_INFO!W18)","v":0},{"$f":"IF(AND(INTRO!$E$37=\"Non-endemic\",INTRO!$E$41=\"Non-endemic\"),0,COUNTRY_INFO!Y18)","v":1},{"$f":"IF($D18=1,IVM!G18,0)","v":0},{"$f":"IF($D18=0, \" \", IF(COUNTRY_INFO!$H18=1, IF(COUNTRY_INFO!$L18=1, 0,\" \"),\" \"))","v":" "},null,1,72335.051999999996,115832,null,0,188167,0,null,0,0,null,0,188167,null,188167]
[{"$f":"IF(AND(INTRO!$E$37=\"Non-endemic\",INTRO!$E$41=\"Non-endemic\"),\" \",IF(COUNTRY_INFO!A19=0,\" \",COUNTRY_INFO!A19))","v":"Cameroun"},{"$f":"IF(AND(INTRO!$E$37=\"Non-endemic\",INTRO!$E$41=\"Non-endemic\"),\" \",IF(COUNTRY_INFO!B19=0,\" \",COUNTRY_INFO!B19))","v":"Adamaoua"},{"$f":"IF(AND(INTRO!$E$37=\"Non-endemic\",INTRO!$E$41=\"Non-endemic\"),\" \",IF(COUNTRY_INFO!C19=0,\" \",COUNTRY_INFO!C19))","v":"Tibati"},{"$f":"IF(AND(INTRO!$E$37=\"Non-endemic\",INTRO!$E$41=\"Non-endemic\"),0,COUNTRY_INFO!W19)","v":0},{"$f":"IF(AND(INTRO!$E$37=\"Non-endemic\",INTRO!$E$41=\"Non-endemic\"),0,COUNTRY_INFO!Y19)","v":1},{"$f":"IF($D19=1,IVM!G19,0)","v":0},{"$f":"IF($D19=0, \" \", IF(COUNTRY_INFO!$H19=1, IF(COUNTRY_INFO!$L19=1, 0,\" \"),\" \"))","v":" "},null,1,25010.802,31557,null,0,56568,0,null,0,0,null,0,56568,null,56568]
[{"$f":"IF(AND(INTRO!$E$37=\"Non-endemic\",INTRO!$E$41=\"Non-endemic\"),\" \",IF(COUNTRY_INFO!A20=0,\" \",COUNTRY_INFO!A20))","v":"Cameroun"},{"$f":"IF(AND(INTRO!$E$37=\"Non-endemic\",INTRO!$E$41=\"Non-endemic\"),\" \",IF(COUNTRY_INFO!B20=0,\" \",COUNTRY_INFO!B20))","v":"Adamaoua"},{"$f":"IF(AND(INTRO!$E$37=\"Non-endemic\",INTRO!$E$41=\"Non-endemic\"),\" \",IF(COUNTRY_INFO!C20=0,\" \",COUNTRY_INFO!C20))","v":"Tignere"},{"$f":"IF(AND(INTRO!$E$37=\"Non-endemic\",INTRO!$E$41=\"Non-endemic\"),0,COUNTRY_INFO!W20)","v":0},{"$f":"IF(AND(INTRO!$E$37=\"Non-endemic\",INTRO!$E$41=\"Non-endemic\"),0,COUNTRY_INFO!Y20)","v":1},{"$f":"IF($D20=1,IVM!G20,0)","v":0},{"$f":"IF($D20=0, \" \", IF(COUNTRY_INFO!$H20=1, IF(COUNTRY_INFO!$L20=1, 0,\" \"),\" \"))","v":" "},null,1,33919.56,35213,null,12043,81176,0,null,0,0,null,0,81176,null,81176]
[{"$f":"IF(AND(INTRO!$E$37=\"Non-endemic\",INTRO!$E$41=\"Non-endemic\"),\" \",IF(COUNTRY_INFO!A21=0,\" \",COUNTRY_INFO!A21))","v":"Cameroun"},{"$f":"IF(AND(INTRO!$E$37=\"Non-endemic\",INTRO!$E$41=\"Non-endemic\"),\" \",IF(COUNTRY_INFO!B21=0,\" \",COUNTRY_INFO!B21))","v":"Centre"},{"$f":"IF(AND(INTRO!$E$37=\"Non-endemic\",INTRO!$E$41=\"Non-endemic\"),\" \",IF(COUNTRY_INFO!C21=0,\" \",COUNTRY_INFO!C21))","v":"Akonolinga"},{"$f":"IF(AND(INTRO!$E$37=\"Non-endemic\",INTRO!$E$41=\"Non-endemic\"),0,COUNTRY_INFO!W21)","v":0},{"$f":"IF(AND(INTRO!$E$37=\"Non-endemic\",INTRO!$E$41=\"Non-endemic\"),0,COUNTRY_INFO!Y21)","v":1},{"$f":"IF($D21=1,IVM!G21,0)","v":0},{"$f":"IF($D21=0, \" \", IF(COUNTRY_INFO!$H21=1, IF(COUNTRY_INFO!$L21=1, 0,\" \"),\" \"))","v":" "},null,1,31048.812000000002,25443,null,8511,65003,0,null,0,0,null,0,65003,null,65003]
[{"$f":"IF(AND(INTRO!$E$37=\"Non-endemic\",INTRO!$E$41=\"Non-endemic\"),\" \",IF(COUNTRY_INFO!A22=0,\" \",COUNTRY_INFO!A22))","v":"Cameroun"},{"$f":"IF(AND(INTRO!$E$37=\"Non-endemic\",INTRO!$E$41=\"Non-endemic\"),\" \",IF(COUNTRY_INFO!B22=0,\" \",COUNTRY_INFO!B22))","v":"Centre"},{"$f":"IF(AND(INTRO!$E$37=\"Non-endemic\",INTRO!$E$41=\"Non-endemic\"),\" \",IF(COUNTRY_INFO!C22=0,\" \",COUNTRY_INFO!C22))","v":"Awae"},{"$f":"IF(AND(INTRO!$E$37=\"Non-endemic\",INTRO!$E$41=\"Non-endemic\"),0,COUNTRY_INFO!W22)","v":0},{"$f":"IF(AND(INTRO!$E$37=\"Non-endemic\",INTRO!$E$41=\"Non-endemic\"),0,COUNTRY_INFO!Y22)","v":1},{"$f":"IF($D22=1,IVM!G22,0)","v":0},{"$f":"IF($D22=0, \" \", IF(COUNTRY_INFO!$H22=1, IF(COUNTRY_INFO!$L22=1, 0,\" \"),\" \"))","v":" "},null,1,6658.74,8249,null,2760,17668,0,null,0,0,null,0,17668,null,17668]
[{"$f":"IF(AND(INTRO!$E$37=\"Non-endemic\",INTRO!$E$41=\"Non-endemic\"),\" \",IF(COUNTRY_INFO!A23=0,\" \",COUNTRY_INFO!A23))","v":"Cameroun"},{"$f":"IF(AND(INTRO!$E$37=\"Non-endemic\",INTRO!$E$41=\"Non-endemic\"),\" \",IF(COUNTRY_INFO!B23=0,\" \",COUNTRY_INFO!B23))","v":"Centre"},{"$f":"IF(AND(INTRO!$E$37=\"Non-endemic\",INTRO!$E$41=\"Non-endemic\"),\" \",IF(COUNTRY_INFO!C23=0,\" \",COUNTRY_INFO!C23))","v":"Ayos"},{"$f":"IF(AND(INTRO!$E$37=\"Non-endemic\",INTRO!$E$41=\"Non-endemic\"),0,COUNTRY_INFO!W23)","v":0},{"$f":"IF(AND(INTRO!$E$37=\"Non-endemic\",INTRO!$E$41=\"Non-endemic\"),0,COUNTRY_INFO!Y23)","v":1},{"$f":"IF($D23=1,IVM!G23,0)","v":0},{"$f":"IF($D23=0, \" \", IF(COUNTRY_INFO!$H23=1, IF(COUNTRY_INFO!$L23=1, 0,\" \"),\" \"))","v":" "},null,1,12306.87,12404,null,0,24711,0,null,0,0,null,0,24711,null,24711]
[{"$f":"IF(AND(INTRO!$E$37=\"Non-endemic\",INTRO!$E$41=\"Non-endemic\"),\" \",IF(COUNTRY_INFO!A24=0,\" \",COUNTRY_INFO!A24))","v":"Cameroun"},{"$f":"IF(AND(INTRO!$E$37=\"Non-endemic\",INTRO!$E$41=\"Non-endemic\"),\" \",IF(COUNTRY_INFO!B24=0,\" \",COUNTRY_INFO!B24))","v":"Centre"},{"$f":"IF(AND(INTRO!$E$37=\"Non-endemic\",INTRO!$E$41=\"Non-endemic\"),\" \",IF(COUNTRY_INFO!C24=0,\" \",COUNTRY_INFO!C24))","v":"Bafia"},{"$f":"IF(AND(INTRO!$E$37=\"Non-endemic\",INTRO!$E$41=\"Non-endemic\"),0,COUNTRY_INFO!W24)","v":0},{"$f":"IF(AND(INTRO!$E$37=\"Non-endemic\",INTRO!$E$41=\"Non-endemic\"),0,COUNTRY_INFO!Y24)","v":1},{"$f":"IF($D24=1,IVM!G24,0)","v":0},{"$f":"IF($D24=0, \" \", IF(COUNTRY_INFO!$H24=1, IF(COUNTRY_INFO!$L24=1, 0,\" \"),\" \"))","v":" "},null,1,25252.938000000002,49201,null,16459,90913,0,null,0,0,null,0,90913,null,90913]
[{"$f":"IF(AND(INTRO!$E$37=\"Non-endemic\",INTRO!$E$41=\"Non-endemic\"),\" \",IF(COUNTRY_INFO!A25=0,\" \",COUNTRY_INFO!A25))","v":"Cameroun"},{"$f":"IF(AND(INTRO!$E$37=\"Non-endemic\",INTRO!$E$41=\"Non-endemic\"),\" \",IF(COUNTRY_INFO!B25=0,\" \",COUNTRY_INFO!B25))","v":"Centre"},{"$f":"IF(AND(INTRO!$E$37=\"Non-endemic\",INTRO!$E$41=\"Non-endemic\"),\" \",IF(COUNTRY_INFO!C25=0,\" \",COUNTRY_INFO!C25))","v":"Biyem Assi"},{"$f":"IF(AND(INTRO!$E$37=\"Non-endemic\",INTRO!$E$41=\"Non-endemic\"),0,COUNTRY_INFO!W25)","v":0},{"$f":"IF(AND(INTRO!$E$37=\"Non-endemic\",INTRO!$E$41=\"Non-endemic\"),0,COUNTRY_INFO!Y25)","v":1},{"$f":"IF($D25=1,IVM!G25,0)","v":0},{"$f":"IF($D25=0, \" \", IF(COUNTRY_INFO!$H25=1, IF(COUNTRY_INFO!$L25=1, 0,\" \"),\" \"))","v":" "},null,1,96731.28,113832,null,39060,249623,0,null,0,0,null,0,249623,null,249623]
[{"$f":"IF(AND(INTRO!$E$37=\"Non-endemic\",INTRO!$E$41=\"Non-endemic\"),\" \",IF(COUNTRY_INFO!A26=0,\" \",COUNTRY_INFO!A26))","v":"Cameroun"},{"$f":"IF(AND(INTRO!$E$37=\"Non-endemic\",INTRO!$E$41=\"Non-endemic\"),\" \",IF(COUNTRY_INFO!B26=0,\" \",COUNTRY_INFO!B26))","v":"Centre"},{"$f":"IF(AND(INTRO!$E$37=\"Non-endemic\",INTRO!$E$41=\"Non-endemic\"),\" \",IF(COUNTRY_INFO!C26=0,\" \",COUNTRY_INFO!C26))","v":"Cite Verte"},{"$f":"IF(AND(INTRO!$E$37=\"Non-endemic\",INTRO!$E$41=\"Non-endemic\"),0,COUNTRY_INFO!W26)","v":0},{"$f":"IF(AND(INTRO!$E$37=\"Non-endemic\",INTRO!$E$41=\"Non-endemic\"),0,COUNTRY_INFO!Y26)","v":0},{"$f":"IF($D26=1,IVM!G26,0)","v":0},{"$f":"IF($D26=0, \" \", IF(COUNTRY_INFO!$H26=1, IF(COUNTRY_INFO!$L26=1, 0,\" \"),\" \"))","v":" "},null,1,77701.032000000007,127242,null,0,204943,0,null,0,0,null,0,204943,null,204943]
[{"$f":"IF(AND(INTRO!$E$37=\"Non-endemic\",INTRO!$E$41=\"Non-endemic\"),\" \",IF(COUNTRY_INFO!A27=0,\" \",COUNTRY_INFO!A27))","v":"Cameroun"},{"$f":"IF(AND(INTRO!$E$37=\"Non-endemic\",INTRO!$E$41=\"Non-endemic\"),\" \",IF(COUNTRY_INFO!B27=0,\" \",COUNTRY_INFO!B27))","v":"Centre"},{"$f":"IF(AND(INTRO!$E$37=\"Non-endemic\",INTRO!$E$41=\"Non-endemic\"),\" \",IF(COUNTRY_INFO!C27=0,\" \",COUNTRY_INFO!C27))","v":"Djoungolo"},{"$f":"IF(AND(INTRO!$E$37=\"Non-endemic\",INTRO!$E$41=\"Non-endemic\"),0,COUNTRY_INFO!W27)","v":0},{"$f":"IF(AND(INTRO!$E$37=\"Non-endemic\",INTRO!$E$41=\"Non-endemic\"),0,COUNTRY_INFO!Y27)","v":1},{"$f":"IF($D27=1,IVM!G27,0)","v":0},{"$f":"IF($D27=0, \" \", IF(COUNTRY_INFO!$H27=1, IF(COUNTRY_INFO!$L27=1, 0,\" \"),\" \"))","v":" "},null,1,115025.886,148819,null,53225,317070,0,null,0,0,null,0,317070,null,317070]
[{"$f":"IF(AND(INTRO!$E$37=\"Non-endemic\",INTRO!$E$41=\"Non-endemic\"),\" \",IF(COUNTRY_INFO!A28=0,\" \",COUNTRY_INFO!A28))","v":"Cameroun"},{"$f":"IF(AND(INTRO!$E$37=\"Non-endemic\",INTRO!$E$41=\"Non-endemic\"),\" \",IF(COUNTRY_INFO!B28=0,\" \",COUNTRY_INFO!B28))","v":"Centre"},{"$f":"IF(AND(INTRO!$E$37=\"Non-endemic\",INTRO!$E$41=\"Non-endemic\"),\" \",IF(COUNTRY_INFO!C28=0,\" \",COUNTRY_INFO!C28))","v":"Ebebda"},{"$f":"IF(AND(INTRO!$E$37=\"Non-endemic\",INTRO!$E$41=\"Non-endemic\"),0,COUNTRY_INFO!W28)","v":0},{"$f":"IF(AND(INTRO!$E$37=\"Non-endemic\",INTRO!$E$41=\"Non-endemic\"),0,COUNTRY_INFO!Y28)","v":1},{"$f":"IF($D28=1,IVM!G28,0)","v":0},{"$f":"IF($D28=0, \" \", IF(COUNTRY_INFO!$H28=1, IF(COUNTRY_INFO!$L28=1, 0,\" \"),\" \"))","v":" "},null,1,3150.846,6527,null,0,9678,0,null,0,0,null,0,9678,null,9678]
[{"$f":"IF(AND(INTRO!$E$37=\"Non-endemic\",INTRO!$E$41=\"Non-endemic\"),\" \",IF(COUNTRY_INFO!A29=0,\" \",COUNTRY_INFO!A29))","v":"Cameroun"},{"$f":"IF(AND(INTRO!$E$37=\"Non-endemic\",INTRO!$E$41=\"Non-endemic\"),\" \",IF(COUNTRY_INFO!B29=0,\" \",COUNTRY_INFO!B29))","v":"Centre"},{"$f":"IF(AND(INTRO!$E$37=\"Non-endemic\",INTRO!$E$41=\"Non-endemic\"),\" \",IF(COUNTRY_INFO!C29=0,\" \",COUNTRY_INFO!C29))","v":"Efoulan"},{"$f":"IF(AND(INTRO!$E$37=\"Non-endemic\",INTRO!$E$41=\"Non-endemic\"),0,COUNTRY_INFO!W29)","v":0},{"$f":"IF(AND(INTRO!$E$37=\"Non-endemic\",INTRO!$E$41=\"Non-endemic\"),0,COUNTRY_INFO!Y29)","v":1},{"$f":"IF($D29=1,IVM!G29,0)","v":0},{"$f":"IF($D29=0, \" \", IF(COUNTRY_INFO!$H29=1, IF(COUNTRY_INFO!$L29=1, 0,\" \"),\" \"))","v":" "},null,1,51818.130000000005,129424,null,44410,225652,0,null,0,0,null,0,225652,null,225652]
[{"$f":"IF(AND(INTRO!$E$37=\"Non-endemic\",INTRO!$E$41=\"Non-endemic\"),\" \",IF(COUNTRY_INFO!A30=0,\" \",COUNTRY_INFO!A30))","v":"Cameroun"},{"$f":"IF(AND(INTRO!$E$37=\"Non-endemic\",INTRO!$E$41=\"Non-endemic\"),\" \",IF(COUNTRY_INFO!B30=0,\" \",COUNTRY_INFO!B30))","v":"Centre"},{"$f":"IF(AND(INTRO!$E$37=\"Non-endemic\",INTRO!$E$41=\"Non-endemic\"),\" \",IF(COUNTRY_INFO!C30=0,\" \",COUNTRY_INFO!C30))","v":"Elig Mfomo"},{"$f":"IF(AND(INTRO!$E$37=\"Non-endemic\",INTRO!$E$41=\"Non-endemic\"),0,COUNTRY_INFO!W30)","v":0},{"$f":"IF(AND(INTRO!$E$37=\"Non-endemic\",INTRO!$E$41=\"Non-endemic\"),0,COUNTRY_INFO!Y30)","v":1},{"$f":"IF($D30=1,IVM!G30,0)","v":0},{"$f":"IF($D30=0, \" \", IF(COUNTRY_INFO!$H30=1, IF(COUNTRY_INFO!$L30=1, 0,\" \"),\" \"))","v":" "},null,1,2423.4120000000003,4950,null,0,7373,0,null,0,0,null,0,7373,null,7373]
[{"$f":"IF(AND(INTRO!$E$37=\"Non-endemic\",INTRO!$E$41=\"Non-endemic\"),\" \",IF(COUNTRY_INFO!A31=0,\" \",COUNTRY_INFO!A31))","v":"Cameroun"},{"$f":"IF(AND(INTRO!$E$37=\"Non-endemic\",INTRO!$E$41=\"Non-endemic\"),\" \",IF(COUNTRY_INFO!B31=0,\" \",COUNTRY_INFO!B31))","v":"Centre"},{"$f":"IF(AND(INTRO!$E$37=\"Non-endemic\",INTRO!$E$41=\"Non-endemic\"),\" \",IF(COUNTRY_INFO!C31=0,\" \",COUNTRY_INFO!C31))","v":"Eseka"},{"$f":"IF(AND(INTRO!$E$37=\"Non-endemic\",INTRO!$E$41=\"Non-endemic\"),0,COUNTRY_INFO!W31)","v":0},{"$f":"IF(AND(INTRO!$E$37=\"Non-endemic\",INTRO!$E$41=\"Non-endemic\"),0,COUNTRY_INFO!Y31)","v":1},{"$f":"IF($D31=1,IVM!G31,0)","v":0},{"$f":"IF($D31=0, \" \", IF(COUNTRY_INFO!$H31=1, IF(COUNTRY_INFO!$L31=1, 0,\" \"),\" \"))","v":" "},null,1,14601.006000000001,24455,null,8181,47237,0,null,0,0,null,0,47237,null,47237]
[{"$f":"IF(AND(INTRO!$E$37=\"Non-endemic\",INTRO!$E$41=\"Non-endemic\"),\" \",IF(COUNTRY_INFO!A32=0,\" \",COUNTRY_INFO!A32))","v":"Cameroun"},{"$f":"IF(AND(INTRO!$E$37=\"Non-endemic\",INTRO!$E$41=\"Non-endemic\"),\" \",IF(COUNTRY_INFO!B32=0,\" \",COUNTRY_INFO!B32))","v":"Centre"},{"$f":"IF(AND(INTRO!$E$37=\"Non-endemic\",INTRO!$E$41=\"Non-endemic\"),\" \",IF(COUNTRY_INFO!C32=0,\" \",COUNTRY_INFO!C32))","v":"Esse"},{"$f":"IF(AND(INTRO!$E$37=\"Non-endemic\",INTRO!$E$41=\"Non-endemic\"),0,COUNTRY_INFO!W32)","v":0},{"$f":"IF(AND(INTRO!$E$37=\"Non-endemic\",INTRO!$E$41=\"Non-endemic\"),0,COUNTRY_INFO!Y32)","v":1},{"$f":"IF($D32=1,IVM!G32,0)","v":0},{"$f":"IF($D32=0, \" \", IF(COUNTRY_INFO!$H32=1, IF(COUNTRY_INFO!$L32=1, 0,\" \"),\" \"))","v":" "},null,1,4187.1059999999998,7827,null,2618,14632,0,null,0,0,null,0,14632,null,14632]
[{"$f":"IF(AND(INTRO!$E$37=\"Non-endemic\",INTRO!$E$41=\"Non-endemic\"),\" \",IF(COUNTRY_INFO!A33=0,\" \",COUNTRY_INFO!A33))","v":"Cameroun"},{"$f":"IF(AND(INTRO!$E$37=\"Non-endemic\",INTRO!$E$41=\"Non-endemic\"),\" \",IF(COUNTRY_INFO!B33=0,\" \",COUNTRY_INFO!B33))","v":"Centre"},{"$f":"IF(AND(INTRO!$E$37=\"Non-endemic\",INTRO!$E$41=\"Non-endemic\"),\" \",IF(COUNTRY_INFO!C33=0,\" \",COUNTRY_INFO!C33))","v":"Evodoula"},{"$f":"IF(AND(INTRO!$E$37=\"Non-endemic\",INTRO!$E$41=\"Non-endemic\"),0,COUNTRY_INFO!W33)","v":0},{"$f":"IF(AND(INTRO!$E$37=\"Non-endemic\",INTRO!$E$41=\"Non-endemic\"),0,COUNTRY_INFO!Y33)","v":1},{"$f":"IF($D33=1,IVM!G33,0)","v":0},{"$f":"IF($D33=0, \" \", IF(COUNTRY_INFO!$H33=1, IF(COUNTRY_INFO!$L33=1, 0,\" \"),\" \"))","v":" "},null,1,4038.3360000000002,6130,null,2051,12219,0,null,0,0,null,0,12219,null,12219]
[{"$f":"IF(AND(INTRO!$E$37=\"Non-endemic\",INTRO!$E$41=\"Non-endemic\"),\" \",IF(COUNTRY_INFO!A34=0,\" \",COUNTRY_INFO!A34))","v":"Cameroun"},{"$f":"IF(AND(INTRO!$E$37=\"Non-endemic\",INTRO!$E$41=\"Non-endemic\"),\" \",IF(COUNTRY_INFO!B34=0,\" \",COUNTRY_INFO!B34))","v":"Centre"},{"$f":"IF(AND(INTRO!$E$37=\"Non-endemic\",INTRO!$E$41=\"Non-endemic\"),\" \",IF(COUNTRY_INFO!C34=0,\" \",COUNTRY_INFO!C34))","v":"Mbalmayo"},{"$f":"IF(AND(INTRO!$E$37=\"Non-endemic\",INTRO!$E$41=\"Non-endemic\"),0,COUNTRY_INFO!W34)","v":0},{"$f":"IF(AND(INTRO!$E$37=\"Non-endemic\",INTRO!$E$41=\"Non-endemic\"),0,COUNTRY_INFO!Y34)","v":1},{"$f":"IF($D34=1,IVM!G34,0)","v":0},{"$f":"IF($D34=0, \" \", IF(COUNTRY_INFO!$H34=1, IF(COUNTRY_INFO!$L34=1, 0,\" \"),\" \"))","v":" "},null,1,20569.248,36634,null,0,57203,0,null,0,0,null,0,57203,null,57203]
[{"$f":"IF(AND(INTRO!$E$37=\"Non-endemic\",INTRO!$E$41=\"Non-endemic\"),\" \",IF(COUNTRY_INFO!A35=0,\" \",COUNTRY_INFO!A35))","v":"Cameroun"},{"$f":"IF(AND(INTRO!$E$37=\"Non-endemic\",INTRO!$E$41=\"Non-endemic\"),\" \",IF(COUNTRY_INFO!B35=0,\" \",COUNTRY_INFO!B35))","v":"Centre"},{"$f":"IF(AND(INTRO!$E$37=\"Non-endemic\",INTRO!$E$41=\"Non-endemic\"),\" \",IF(COUNTRY_INFO!C35=0,\" \",COUNTRY_INFO!C35))","v":"Mbandjock"},{"$f":"IF(AND(INTRO!$E$37=\"Non-endemic\",INTRO!$E$41=\"Non-endemic\"),0,COUNTRY_INFO!W35)","v":0},{"$f":"IF(AND(INTRO!$E$37=\"Non-endemic\",INTRO!$E$41=\"Non-endemic\"),0,COUNTRY_INFO!Y35)","v":1},{"$f":"IF($D35=1,IVM!G35,0)","v":0},{"$f":"IF($D35=0, \" \", IF(COUNTRY_INFO!$H35=1, IF(COUNTRY_INFO!$L35=1, 0,\" \"),\" \"))","v":" "},null,1,8911.8359999999993,17831,null,5965,32708,0,null,0,0,null,0,32708,null,32708]
[{"$f":"IF(AND(INTRO!$E$37=\"Non-endemic\",INTRO!$E$41=\"Non-endemic\"),\" \",IF(COUNTRY_INFO!A36=0,\" \",COUNTRY_INFO!A36))","v":"Cameroun"},{"$f":"IF(AND(INTRO!$E$37=\"Non-endemic\",INTRO!$E$41=\"Non-endemic\"),\" \",IF(COUNTRY_INFO!B36=0,\" \",COUNTRY_INFO!B36))","v":"Centre"},{"$f":"IF(AND(INTRO!$E$37=\"Non-endemic\",INTRO!$E$41=\"Non-endemic\"),\" \",IF(COUNTRY_INFO!C36=0,\" \",COUNTRY_INFO!C36))","v":"Mbankomo"},{"$f":"IF(AND(INTRO!$E$37=\"Non-endemic\",INTRO!$E$41=\"Non-endemic\"),0,COUNTRY_INFO!W36)","v":0},{"$f":"IF(AND(INTRO!$E$37=\"Non-endemic\",INTRO!$E$41=\"Non-endemic\"),0,COUNTRY_INFO!Y36)","v":1},{"$f":"IF($D36=1,IVM!G36,0)","v":0},{"$f":"IF($D36=0, \" \", IF(COUNTRY_INFO!$H36=1, IF(COUNTRY_INFO!$L36=1, 0,\" \"),\" \"))","v":" "},null,1,6175.4939999999997,9433,null,3155,18763,0,null,0,0,null,0,18763,null,18763]
[{"$f":"IF(AND(INTRO!$E$37=\"Non-endemic\",INTRO!$E$41=\"Non-endemic\"),\" \",IF(COUNTRY_INFO!A37=0,\" \",COUNTRY_INFO!A37))","v":"Cameroun"},{"$f":"IF(AND(INTRO!$E$37=\"Non-endemic\",INTRO!$E$41=\"Non-endemic\"),\" \",IF(COUNTRY_INFO!B37=0,\" \",COUNTRY_INFO!B37))","v":"Centre"},{"$f":"IF(AND(INTRO!$E$37=\"Non-endemic\",INTRO!$E$41=\"Non-endemic\"),\" \",IF(COUNTRY_INFO!C37=0,\" \",COUNTRY_INFO!C37))","v":"Mfou"},{"$f":"IF(AND(INTRO!$E$37=\"Non-endemic\",INTRO!$E$41=\"Non-endemic\"),0,COUNTRY_INFO!W37)","v":0},{"$f":"IF(AND(INTRO!$E$37=\"Non-endemic\",INTRO!$E$41=\"Non-endemic\"),0,COUNTRY_INFO!Y37)","v":1},{"$f":"IF($D37=1,IVM!G37,0)","v":0},{"$f":"IF($D37=0, \" \", IF(COUNTRY_INFO!$H37=1, IF(COUNTRY_INFO!$L37=1, 0,\" \"),\" \"))","v":" "},null,1,27661.986000000001,31027,null,10380,69069,0,null,0,0,null,0,69069,null,69069]
[{"$f":"IF(AND(INTRO!$E$37=\"Non-endemic\",INTRO!$E$41=\"Non-endemic\"),\" \",IF(COUNTRY_INFO!A38=0,\" \",COUNTRY_INFO!A38))","v":"Cameroun"},{"$f":"IF(AND(INTRO!$E$37=\"Non-endemic\",INTRO!$E$41=\"Non-endemic\"),\" \",IF(COUNTRY_INFO!B38=0,\" \",COUNTRY_INFO!B38))","v":"Centre"},{"$f":"IF(AND(INTRO!$E$37=\"Non-endemic\",INTRO!$E$41=\"Non-endemic\"),\" \",IF(COUNTRY_INFO!C38=0,\" \",COUNTRY_INFO!C38))","v":"Monatele"},{"$f":"IF(AND(INTRO!$E$37=\"Non-endemic\",INTRO!$E$41=\"Non-endemic\"),0,COUNTRY_INFO!W38)","v":0},{"$f":"IF(AND(INTRO!$E$37=\"Non-endemic\",INTRO!$E$41=\"Non-endemic\"),0,COUNTRY_INFO!Y38)","v":1},{"$f":"IF($D38=1,IVM!G38,0)","v":0},{"$f":"IF($D38=0, \" \", IF(COUNTRY_INFO!$H38=1, IF(COUNTRY_INFO!$L38=1, 0,\" \"),\" \"))","v":" "},null,1,6689.52,14784,null,0,21474,0,null,0,0,null,0,21474,null,21474]
[{"$f":"IF(AND(INTRO!$E$37=\"Non-endemic\",INTRO!$E$41=\"Non-endemic\"),\" \",IF(COUNTRY_INFO!A39=0,\" \",COUNTRY_INFO!A39))","v":"Cameroun"},{"$f":"IF(AND(INTRO!$E$37=\"Non-endemic\",INTRO!$E$41=\"Non-endemic\"),\" \",IF(COUNTRY_INFO!B39=0,\" \",COUNTRY_INFO!B39))","v":"Centre"},{"$f":"IF(AND(INTRO!$E$37=\"Non-endemic\",INTRO!$E$41=\"Non-endemic\"),\" \",IF(COUNTRY_INFO!C39=0,\" \",COUNTRY_INFO!C39))","v":"Mvog-Ada"},{"$f":"IF(AND(INTRO!$E$37=\"Non-endemic\",INTRO!$E$41=\"Non-endemic\"),0,COUNTRY_INFO!W39)","v":0},{"$f":"IF(AND(INTRO!$E$37=\"Non-endemic\",INTRO!$E$41=\"Non-endemic\"),0,COUNTRY_INFO!Y39)","v":1},{"$f":"IF($D39=1,IVM!G39,0)","v":0},{"$f":"IF($D39=0, \" \", IF(COUNTRY_INFO!$H39=1, IF(COUNTRY_INFO!$L39=1, 0,\" \"),\" \"))","v":" "},null,1,80867.267999999996,125870,null,38107,244844,0,null,0,0,null,0,244844,null,244844]
[{"$f":"IF(AND(INTRO!$E$37=\"Non-endemic\",INTRO!$E$41=\"Non-endemic\"),\" \",IF(COUNTRY_INFO!A40=0,\" \",COUNTRY_INFO!A40))","v":"Cameroun"},{"$f":"IF(AND(INTRO!$E$37=\"Non-endemic\",INTRO!$E$41=\"Non-endemic\"),\" \",IF(COUNTRY_INFO!B40=0,\" \",COUNTRY_INFO!B40))","v":"Centre"},{"$f":"IF(AND(INTRO!$E$37=\"Non-endemic\",INTRO!$E$41=\"Non-endemic\"),\" \",IF(COUNTRY_INFO!C40=0,\" \",COUNTRY_INFO!C40))","v":"Nanga Eboko"},{"$f":"IF(AND(INTRO!$E$37=\"Non-endemic\",INTRO!$E$41=\"Non-endemic\"),0,COUNTRY_INFO!W40)","v":0},{"$f":"IF(AND(INTRO!$E$37=\"Non-endemic\",INTRO!$E$41=\"Non-endemic\"),0,COUNTRY_INFO!Y40)","v":1},{"$f":"IF($D40=1,IVM!G40,0)","v":0},{"$f":"IF($D40=0, \" \", IF(COUNTRY_INFO!$H40=1, IF(COUNTRY_INFO!$L40=1, 0,\" \"),\" \"))","v":" "},null,1,18126.342000000001,19229,null,6432,43787,0,null,0,0,null,0,43787,null,43787]
[{"$f":"IF(AND(INTRO!$E$37=\"Non-endemic\",INTRO!$E$41=\"Non-endemic\"),\" \",IF(COUNTRY_INFO!A41=0,\" \",COUNTRY_INFO!A41))","v":"Cameroun"},{"$f":"IF(AND(INTRO!$E$37=\"Non-endemic\",INTRO!$E$41=\"Non-endemic\"),\" \",IF(COUNTRY_INFO!B41=0,\" \",COUNTRY_INFO!B41))","v":"Centre"},{"$f":"IF(AND(INTRO!$E$37=\"Non-endemic\",INTRO!$E$41=\"Non-endemic\"),\" \",IF(COUNTRY_INFO!C41=0,\" \",COUNTRY_INFO!C41))","v":"Ndikinimeki"},{"$f":"IF(AND(INTRO!$E$37=\"Non-endemic\",INTRO!$E$41=\"Non-endemic\"),0,COUNTRY_INFO!W41)","v":0},{"$f":"IF(AND(INTRO!$E$37=\"Non-endemic\",INTRO!$E$41=\"Non-endemic\"),0,COUNTRY_INFO!Y41)","v":1},{"$f":"IF($D41=1,IVM!G41,0)","v":0},{"$f":"IF($D41=0, \" \", IF(COUNTRY_INFO!$H41=1, IF(COUNTRY_INFO!$L41=1, 0,\" \"),\" \"))","v":" "},null,1,6852.6540000000005,13571,null,0,20424,0,null,0,0,null,0,20424,null,20424]
[{"$f":"IF(AND(INTRO!$E$37=\"Non-endemic\",INTRO!$E$41=\"Non-endemic\"),\" \",IF(COUNTRY_INFO!A42=0,\" \",COUNTRY_INFO!A42))","v":"Cameroun"},{"$f":"IF(AND(INTRO!$E$37=\"Non-endemic\",INTRO!$E$41=\"Non-endemic\"),\" \",IF(COUNTRY_INFO!B42=0,\" \",COUNTRY_INFO!B42))","v":"Centre"},{"$f":"IF(AND(INTRO!$E$37=\"Non-endemic\",INTRO!$E$41=\"Non-endemic\"),\" \",IF(COUNTRY_INFO!C42=0,\" \",COUNTRY_INFO!C42))","v":"Ngog Mapubi"},{"$f":"IF(AND(INTRO!$E$37=\"Non-endemic\",INTRO!$E$41=\"Non-endemic\"),0,COUNTRY_INFO!W42)","v":0},{"$f":"IF(AND(INTRO!$E$37=\"Non-endemic\",INTRO!$E$41=\"Non-endemic\"),0,COUNTRY_INFO!Y42)","v":1},{"$f":"IF($D42=1,IVM!G42,0)","v":0},{"$f":"IF($D42=0, \" \", IF(COUNTRY_INFO!$H42=1, IF(COUNTRY_INFO!$L42=1, 0,\" \"),\" \"))","v":" "},null,1,8735.3639999999996,16210,null,5423,30368,0,null,0,0,null,0,30368,null,30368]
[{"$f":"IF(AND(INTRO!$E$37=\"Non-endemic\",INTRO!$E$41=\"Non-endemic\"),\" \",IF(COUNTRY_INFO!A43=0,\" \",COUNTRY_INFO!A43))","v":"Cameroun"},{"$f":"IF(AND(INTRO!$E$37=\"Non-endemic\",INTRO!$E$41=\"Non-endemic\"),\" \",IF(COUNTRY_INFO!B43=0,\" \",COUNTRY_INFO!B43))","v":"Centre"},{"$f":"IF(AND(INTRO!$E$37=\"Non-endemic\",INTRO!$E$41=\"Non-endemic\"),\" \",IF(COUNTRY_INFO!C43=0,\" \",COUNTRY_INFO!C43))","v":"Ngoumou"},{"$f":"IF(AND(INTRO!$E$37=\"Non-endemic\",INTRO!$E$41=\"Non-endemic\"),0,COUNTRY_INFO!W43)","v":0},{"$f":"IF(AND(INTRO!$E$37=\"Non-endemic\",INTRO!$E$41=\"Non-endemic\"),0,COUNTRY_INFO!Y43)","v":1},{"$f":"IF($D43=1,IVM!G43,0)","v":0},{"$f":"IF($D43=0, \" \", IF(COUNTRY_INFO!$H43=1, IF(COUNTRY_INFO!$L43=1, 0,\" \"),\" \"))","v":" "},null,1,7436.4480000000003,13176,null,4408,25020,0,null,0,0,null,0,25020,null,25020]
[{"$f":"IF(AND(INTRO!$E$37=\"Non-endemic\",INTRO!$E$41=\"Non-endemic\"),\" \",IF(COUNTRY_INFO!A44=0,\" \",COUNTRY_INFO!A44))","v":"Cameroun"},{"$f":"IF(AND(INTRO!$E$37=\"Non-endemic\",INTRO!$E$41=\"Non-endemic\"),\" \",IF(COUNTRY_INFO!B44=0,\" \",COUNTRY_INFO!B44))","v":"Centre"},{"$f":"IF(AND(INTRO!$E$37=\"Non-endemic\",INTRO!$E$41=\"Non-endemic\"),\" \",IF(COUNTRY_INFO!C44=0,\" \",COUNTRY_INFO!C44))","v":"Nkolbisson"},{"$f":"IF(AND(INTRO!$E$37=\"Non-endemic\",INTRO!$E$41=\"Non-endemic\"),0,COUNTRY_INFO!W44)","v":0},{"$f":"IF(AND(INTRO!$E$37=\"Non-endemic\",INTRO!$E$41=\"Non-endemic\"),0,COUNTRY_INFO!Y44)","v":1},{"$f":"IF($D44=1,IVM!G44,0)","v":0},{"$f":"IF($D44=0, \" \", IF(COUNTRY_INFO!$H44=1, IF(COUNTRY_INFO!$L44=1, 0,\" \"),\" \"))","v":" "},null,1,56721.383999999998,51876,null,17801,126398,0,null,0,0,null,0,126398,null,126398]
[{"$f":"IF(AND(INTRO!$E$37=\"Non-endemic\",INTRO!$E$41=\"Non-endemic\"),\" \",IF(COUNTRY_INFO!A45=0,\" \",COUNTRY_INFO!A45))","v":"Cameroun"},{"$f":"IF(AND(INTRO!$E$37=\"Non-endemic\",INTRO!$E$41=\"Non-endemic\"),\" \",IF(COUNTRY_INFO!B45=0,\" \",COUNTRY_INFO!B45))","v":"Centre"},{"$f":"IF(AND(INTRO!$E$37=\"Non-endemic\",INTRO!$E$41=\"Non-endemic\"),\" \",IF(COUNTRY_INFO!C45=0,\" \",COUNTRY_INFO!C45))","v":"Nkolndongo"},{"$f":"IF(AND(INTRO!$E$37=\"Non-endemic\",INTRO!$E$41=\"Non-endemic\"),0,COUNTRY_INFO!W45)","v":0},{"$f":"IF(AND(INTRO!$E$37=\"Non-endemic\",INTRO!$E$41=\"Non-endemic\"),0,COUNTRY_INFO!Y45)","v":1},{"$f":"IF($D45=1,IVM!G45,0)","v":0},{"$f":"IF($D45=0, \" \", IF(COUNTRY_INFO!$H45=1, IF(COUNTRY_INFO!$L45=1, 0,\" \"),\" \"))","v":" "},null,1,46249.002,128530,null,0,174779,0,null,0,0,null,0,174779,null,174779]
[{"$f":"IF(AND(INTRO!$E$37=\"Non-endemic\",INTRO!$E$41=\"Non-endemic\"),\" \",IF(COUNTRY_INFO!A46=0,\" \",COUNTRY_INFO!A46))","v":"Cameroun"},{"$f":"IF(AND(INTRO!$E$37=\"Non-endemic\",INTRO!$E$41=\"Non-endemic\"),\" \",IF(COUNTRY_INFO!B46=0,\" \",COUNTRY_INFO!B46))","v":"Centre"},{"$f":"IF(AND(INTRO!$E$37=\"Non-endemic\",INTRO!$E$41=\"Non-endemic\"),\" \",IF(COUNTRY_INFO!C46=0,\" \",COUNTRY_INFO!C46))","v":"Ntui"},{"$f":"IF(AND(INTRO!$E$37=\"Non-endemic\",INTRO!$E$41=\"Non-endemic\"),0,COUNTRY_INFO!W46)","v":0},{"$f":"IF(AND(INTRO!$E$37=\"Non-endemic\",INTRO!$E$41=\"Non-endemic\"),0,COUNTRY_INFO!Y46)","v":1},{"$f":"IF($D46=1,IVM!G46,0)","v":0},{"$f":"IF($D46=0, \" \", IF(COUNTRY_INFO!$H46=1, IF(COUNTRY_INFO!$L46=1, 0,\" \"),\" \"))","v":" "},null,1,27591.191999999999,39102,null,13081,79774,0,null,0,0,null,0,79774,null,79774]
[{"$f":"IF(AND(INTRO!$E$37=\"Non-endemic\",INTRO!$E$41=\"Non-endemic\"),\" \",IF(COUNTRY_INFO!A47=0,\" \",COUNTRY_INFO!A47))","v":"Cameroun"},{"$f":"IF(AND(INTRO!$E$37=\"Non-endemic\",INTRO!$E$41=\"Non-endemic\"),\" \",IF(COUNTRY_INFO!B47=0,\" \",COUNTRY_INFO!B47))","v":"Centre"},{"$f":"IF(AND(INTRO!$E$37=\"Non-endemic\",INTRO!$E$41=\"Non-endemic\"),\" \",IF(COUNTRY_INFO!C47=0,\" \",COUNTRY_INFO!C47))","v":"Obala"},{"$f":"IF(AND(INTRO!$E$37=\"Non-endemic\",INTRO!$E$41=\"Non-endemic\"),0,COUNTRY_INFO!W47)","v":0},{"$f":"IF(AND(INTRO!$E$37=\"Non-endemic\",INTRO!$E$41=\"Non-endemic\"),0,COUNTRY_INFO!Y47)","v":1},{"$f":"IF($D47=1,IVM!G47,0)","v":0},{"$f":"IF($D47=0, \" \", IF(COUNTRY_INFO!$H47=1, IF(COUNTRY_INFO!$L47=1, 0,\" \"),\" \"))","v":" "},null,1,26711.91,40800,null,13648,81160,0,null,0,0,null,0,81160,null,81160]
[{"$f":"IF(AND(INTRO!$E$37=\"Non-endemic\",INTRO!$E$41=\"Non-endemic\"),\" \",IF(COUNTRY_INFO!A48=0,\" \",COUNTRY_INFO!A48))","v":"Cameroun"},{"$f":"IF(AND(INTRO!$E$37=\"Non-endemic\",INTRO!$E$41=\"Non-endemic\"),\" \",IF(COUNTRY_INFO!B48=0,\" \",COUNTRY_INFO!B48))","v":"Centre"},{"$f":"IF(AND(INTRO!$E$37=\"Non-endemic\",INTRO!$E$41=\"Non-endemic\"),\" \",IF(COUNTRY_INFO!C48=0,\" \",COUNTRY_INFO!C48))","v":"Odza"},{"$f":"IF(AND(INTRO!$E$37=\"Non-endemic\",INTRO!$E$41=\"Non-endemic\"),0,COUNTRY_INFO!W48)","v":0},{"$f":"IF(AND(INTRO!$E$37=\"Non-endemic\",INTRO!$E$41=\"Non-endemic\"),0,COUNTRY_INFO!Y48)","v":1},{"$f":"IF($D48=1,IVM!G48,0)","v":0},{"$f":"IF($D48=0, \" \", IF(COUNTRY_INFO!$H48=1, IF(COUNTRY_INFO!$L48=1, 0,\" \"),\" \"))","v":" "},null,1,34951.716,131430,null,40958,207340,0,null,0,0,null,0,207340,null,207340]
[{"$f":"IF(AND(INTRO!$E$37=\"Non-endemic\",INTRO!$E$41=\"Non-endemic\"),\" \",IF(COUNTRY_INFO!A49=0,\" \",COUNTRY_INFO!A49))","v":"Cameroun"},{"$f":"IF(AND(INTRO!$E$37=\"Non-endemic\",INTRO!$E$41=\"Non-endemic\"),\" \",IF(COUNTRY_INFO!B49=0,\" \",COUNTRY_INFO!B49))","v":"Centre"},{"$f":"IF(AND(INTRO!$E$37=\"Non-endemic\",INTRO!$E$41=\"Non-endemic\"),\" \",IF(COUNTRY_INFO!C49=0,\" \",COUNTRY_INFO!C49))","v":"Okola"},{"$f":"IF(AND(INTRO!$E$37=\"Non-endemic\",INTRO!$E$41=\"Non-endemic\"),0,COUNTRY_INFO!W49)","v":0},{"$f":"IF(AND(INTRO!$E$37=\"Non-endemic\",INTRO!$E$41=\"Non-endemic\"),0,COUNTRY_INFO!Y49)","v":1},{"$f":"IF($D49=1,IVM!G49,0)","v":0},{"$f":"IF($D49=0, \" \", IF(COUNTRY_INFO!$H49=1, IF(COUNTRY_INFO!$L49=1, 0,\" \"),\" \"))","v":" "},null,1,8926.2000000000007,16726,null,5595,31247,0,null,0,0,null,0,31247,null,31247]
[{"$f":"IF(AND(INTRO!$E$37=\"Non-endemic\",INTRO!$E$41=\"Non-endemic\"),\" \",IF(COUNTRY_INFO!A50=0,\" \",COUNTRY_INFO!A50))","v":"Cameroun"},{"$f":"IF(AND(INTRO!$E$37=\"Non-endemic\",INTRO!$E$41=\"Non-endemic\"),\" \",IF(COUNTRY_INFO!B50=0,\" \",COUNTRY_INFO!B50))","v":"Centre"},{"$f":"IF(AND(INTRO!$E$37=\"Non-endemic\",INTRO!$E$41=\"Non-endemic\"),\" \",IF(COUNTRY_INFO!C50=0,\" \",COUNTRY_INFO!C50))","v":"Sa'a"},{"$f":"IF(AND(INTRO!$E$37=\"Non-endemic\",INTRO!$E$41=\"Non-endemic\"),0,COUNTRY_INFO!W50)","v":0},{"$f":"IF(AND(INTRO!$E$37=\"Non-endemic\",INTRO!$E$41=\"Non-endemic\"),0,COUNTRY_INFO!Y50)","v":1},{"$f":"IF($D50=1,IVM!G50,0)","v":0},{"$f":"IF($D50=0, \" \", IF(COUNTRY_INFO!$H50=1, IF(COUNTRY_INFO!$L50=1, 0,\" \"),\" \"))","v":" "},null,1,10426.212,21281,null,0,31707,0,null,0,0,null,0,31707,null,31707]
[{"$f":"IF(AND(INTRO!$E$37=\"Non-endemic\",INTRO!$E$41=\"Non-endemic\"),\" \",IF(COUNTRY_INFO!A51=0,\" \",COUNTRY_INFO!A51))","v":"Cameroun"},{"$f":"IF(AND(INTRO!$E$37=\"Non-endemic\",INTRO!$E$41=\"Non-endemic\"),\" \",IF(COUNTRY_INFO!B51=0,\" \",COUNTRY_INFO!B51))","v":"Centre"},{"$f":"IF(AND(INTRO!$E$37=\"Non-endemic\",INTRO!$E$41=\"Non-endemic\"),\" \",IF(COUNTRY_INFO!C51=0,\" \",COUNTRY_INFO!C51))","v":"Soa"},{"$f":"IF(AND(INTRO!$E$37=\"Non-endemic\",INTRO!$E$41=\"Non-endemic\"),0,COUNTRY_INFO!W51)","v":0},{"$f":"IF(AND(INTRO!$E$37=\"Non-endemic\",INTRO!$E$41=\"Non-endemic\"),0,COUNTRY_INFO!Y51)","v":1},{"$f":"IF($D51=1,IVM!G51,0)","v":0},{"$f":"IF($D51=0, \" \", IF(COUNTRY_INFO!$H51=1, IF(COUNTRY_INFO!$L51=1, 0,\" \"),\" \"))","v":" "},null,1,13891.014000000001,13651,null,4567,32109,0,null,0,0,null,0,32109,null,32109]
[{"$f":"IF(AND(INTRO!$E$37=\"Non-endemic\",INTRO!$E$41=\"Non-endemic\"),\" \",IF(COUNTRY_INFO!A52=0,\" \",COUNTRY_INFO!A52))","v":"Cameroun"},{"$f":"IF(AND(INTRO!$E$37=\"Non-endemic\",INTRO!$E$41=\"Non-endemic\"),\" \",IF(COUNTRY_INFO!B52=0,\" \",COUNTRY_INFO!B52))","v":"Centre"},{"$f":"IF(AND(INTRO!$E$37=\"Non-endemic\",INTRO!$E$41=\"Non-endemic\"),\" \",IF(COUNTRY_INFO!C52=0,\" \",COUNTRY_INFO!C52))","v":"Yoko"},{"$f":"IF(AND(INTRO!$E$37=\"Non-endemic\",INTRO!$E$41=\"Non-endemic\"),0,COUNTRY_INFO!W52)","v":0},{"$f":"IF(AND(INTRO!$E$37=\"Non-endemic\",INTRO!$E$41=\"Non-endemic\"),0,COUNTRY_INFO!Y52)","v":1},{"$f":"IF($D52=1,IVM!G52,0)","v":0},{"$f":"IF($D52=0, \" \", IF(COUNTRY_INFO!$H52=1, IF(COUNTRY_INFO!$L52=1, 0,\" \"),\" \"))","v":" "},null,1,12137.58,12948,null,4331,29417,0,null,0,0,null,0,29417,null,29417]
[{"$f":"IF(AND(INTRO!$E$37=\"Non-endemic\",INTRO!$E$41=\"Non-endemic\"),\" \",IF(COUNTRY_INFO!A53=0,\" \",COUNTRY_INFO!A53))","v":"Cameroun"},{"$f":"IF(AND(INTRO!$E$37=\"Non-endemic\",INTRO!$E$41=\"Non-endemic\"),\" \",IF(COUNTRY_INFO!B53=0,\" \",COUNTRY_INFO!B53))","v":"Est"},{"$f":"IF(AND(INTRO!$E$37=\"Non-endemic\",INTRO!$E$41=\"Non-endemic\"),\" \",IF(COUNTRY_INFO!C53=0,\" \",COUNTRY_INFO!C53))","v":"Abong Mbang"},{"$f":"IF(AND(INTRO!$E$37=\"Non-endemic\",INTRO!$E$41=\"Non-endemic\"),0,COUNTRY_INFO!W53)","v":0},{"$f":"IF(AND(INTRO!$E$37=\"Non-endemic\",INTRO!$E$41=\"Non-endemic\"),0,COUNTRY_INFO!Y53)","v":1},{"$f":"IF($D53=1,IVM!G53,0)","v":0},{"$f":"IF($D53=0, \" \", IF(COUNTRY_INFO!$H53=1, IF(COUNTRY_INFO!$L53=1, 0,\" \"),\" \"))","v":" "},null,1,19130.796000000002,23920,null,8109,51160,0,null,0,0,null,0,51160,null,51160]
[{"$f":"IF(AND(INTRO!$E$37=\"Non-endemic\",INTRO!$E$41=\"Non-endemic\"),\" \",IF(COUNTRY_INFO!A54=0,\" \",COUNTRY_INFO!A54))","v":"Cameroun"},{"$f":"IF(AND(INTRO!$E$37=\"Non-endemic\",INTRO!$E$41=\"Non-endemic\"),\" \",IF(COUNTRY_INFO!B54=0,\" \",COUNTRY_INFO!B54))","v":"Est"},{"$f":"IF(AND(INTRO!$E$37=\"Non-endemic\",INTRO!$E$41=\"Non-endemic\"),\" \",IF(COUNTRY_INFO!C54=0,\" \",COUNTRY_INFO!C54))","v":"Batouri"},{"$f":"IF(AND(INTRO!$E$37=\"Non-endemic\",INTRO!$E$41=\"Non-endemic\"),0,COUNTRY_INFO!W54)","v":0},{"$f":"IF(AND(INTRO!$E$37=\"Non-endemic\",INTRO!$E$41=\"Non-endemic\"),0,COUNTRY_INFO!Y54)","v":1},{"$f":"IF($D54=1,IVM!G54,0)","v":0},{"$f":"IF($D54=0, \" \", IF(COUNTRY_INFO!$H54=1, IF(COUNTRY_INFO!$L54=1, 0,\" \"),\" \"))","v":" "},null,1,27208.494000000002,33831,null,11469,72508,0,null,0,0,null,0,72508,null,72508]
[{"$f":"IF(AND(INTRO!$E$37=\"Non-endemic\",INTRO!$E$41=\"Non-endemic\"),\" \",IF(COUNTRY_INFO!A55=0,\" \",COUNTRY_INFO!A55))","v":"Cameroun"},{"$f":"IF(AND(INTRO!$E$37=\"Non-endemic\",INTRO!$E$41=\"Non-endemic\"),\" \",IF(COUNTRY_INFO!B55=0,\" \",COUNTRY_INFO!B55))","v":"Est"},{"$f":"IF(AND(INTRO!$E$37=\"Non-endemic\",INTRO!$E$41=\"Non-endemic\"),\" \",IF(COUNTRY_INFO!C55=0,\" \",COUNTRY_INFO!C55))","v":"Belabo"},{"$f":"IF(AND(INTRO!$E$37=\"Non-endemic\",INTRO!$E$41=\"Non-endemic\"),0,COUNTRY_INFO!W55)","v":0},{"$f":"IF(AND(INTRO!$E$37=\"Non-endemic\",INTRO!$E$41=\"Non-endemic\"),0,COUNTRY_INFO!Y55)","v":1},{"$f":"IF($D55=1,IVM!G55,0)","v":0},{"$f":"IF($D55=0, \" \", IF(COUNTRY_INFO!$H55=1, IF(COUNTRY_INFO!$L55=1, 0,\" \"),\" \"))","v":" "},null,1,15198.138000000001,34577,null,7837,57612,0,null,0,0,null,0,57612,null,57612]
[{"$f":"IF(AND(INTRO!$E$37=\"Non-endemic\",INTRO!$E$41=\"Non-endemic\"),\" \",IF(COUNTRY_INFO!A56=0,\" \",COUNTRY_INFO!A56))","v":"Cameroun"},{"$f":"IF(AND(INTRO!$E$37=\"Non-endemic\",INTRO!$E$41=\"Non-endemic\"),\" \",IF(COUNTRY_INFO!B56=0,\" \",COUNTRY_INFO!B56))","v":"Est"},{"$f":"IF(AND(INTRO!$E$37=\"Non-endemic\",INTRO!$E$41=\"Non-endemic\"),\" \",IF(COUNTRY_INFO!C56=0,\" \",COUNTRY_INFO!C56))","v":"Bertoua"},{"$f":"IF(AND(INTRO!$E$37=\"Non-endemic\",INTRO!$E$41=\"Non-endemic\"),0,COUNTRY_INFO!W56)","v":0},{"$f":"IF(AND(INTRO!$E$37=\"Non-endemic\",INTRO!$E$41=\"Non-endemic\"),0,COUNTRY_INFO!Y56)","v":1},{"$f":"IF($D56=1,IVM!G56,0)","v":0},{"$f":"IF($D56=0, \" \", IF(COUNTRY_INFO!$H56=1, IF(COUNTRY_INFO!$L56=1, 0,\" \"),\" \"))","v":" "},null,1,58267.565999999999,67576,null,0,125844,0,null,0,0,null,0,125844,null,125844]
[{"$f":"IF(AND(INTRO!$E$37=\"Non-endemic\",INTRO!$E$41=\"Non-endemic\"),\" \",IF(COUNTRY_INFO!A57=0,\" \",COUNTRY_INFO!A57))","v":"Cameroun"},{"$f":"IF(AND(INTRO!$E$37=\"Non-endemic\",INTRO!$E$41=\"Non-endemic\"),\" \",IF(COUNTRY_INFO!B57=0,\" \",COUNTRY_INFO!B57))","v":"Est"},{"$f":"IF(AND(INTRO!$E$37=\"Non-endemic\",INTRO!$E$41=\"Non-endemic\"),\" \",IF(COUNTRY_INFO!C57=0,\" \",COUNTRY_INFO!C57))","v":"Betare Oya"},{"$f":"IF(AND(INTRO!$E$37=\"Non-endemic\",INTRO!$E$41=\"Non-endemic\"),0,COUNTRY_INFO!W57)","v":0},{"$f":"IF(AND(INTRO!$E$37=\"Non-endemic\",INTRO!$E$41=\"Non-endemic\"),0,COUNTRY_INFO!Y57)","v":1},{"$f":"IF($D57=1,IVM!G57,0)","v":0},{"$f":"IF($D57=0, \" \", IF(COUNTRY_INFO!$H57=1, IF(COUNTRY_INFO!$L57=1, 0,\" \"),\" \"))","v":" "},null,1,40708.601999999999,39470,null,13380,93559,0,null,0,0,null,0,93559,null,93559]
[{"$f":"IF(AND(INTRO!$E$37=\"Non-endemic\",INTRO!$E$41=\"Non-endemic\"),\" \",IF(COUNTRY_INFO!A58=0,\" \",COUNTRY_INFO!A58))","v":"Cameroun"},{"$f":"IF(AND(INTRO!$E$37=\"Non-endemic\",INTRO!$E$41=\"Non-endemic\"),\" \",IF(COUNTRY_INFO!B58=0,\" \",COUNTRY_INFO!B58))","v":"Est"},{"$f":"IF(AND(INTRO!$E$37=\"Non-endemic\",INTRO!$E$41=\"Non-endemic\"),\" \",IF(COUNTRY_INFO!C58=0,\" \",COUNTRY_INFO!C58))","v":"Doume"},{"$f":"IF(AND(INTRO!$E$37=\"Non-endemic\",INTRO!$E$41=\"Non-endemic\"),0,COUNTRY_INFO!W58)","v":0},{"$f":"IF(AND(INTRO!$E$37=\"Non-endemic\",INTRO!$E$41=\"Non-endemic\"),0,COUNTRY_INFO!Y58)","v":1},{"$f":"IF($D58=1,IVM!G58,0)","v":0},{"$f":"IF($D58=0, \" \", IF(COUNTRY_INFO!$H58=1, IF(COUNTRY_INFO!$L58=1, 0,\" \"),\" \"))","v":" "},null,1,8996.9940000000006,14874,null,0,23871,0,null,0,0,null,0,23871,null,23871]
[{"$f":"IF(AND(INTRO!$E$37=\"Non-endemic\",INTRO!$E$41=\"Non-endemic\"),\" \",IF(COUNTRY_INFO!A59=0,\" \",COUNTRY_INFO!A59))","v":"Cameroun"},{"$f":"IF(AND(INTRO!$E$37=\"Non-endemic\",INTRO!$E$41=\"Non-endemic\"),\" \",IF(COUNTRY_INFO!B59=0,\" \",COUNTRY_INFO!B59))","v":"Est"},{"$f":"IF(AND(INTRO!$E$37=\"Non-endemic\",INTRO!$E$41=\"Non-endemic\"),\" \",IF(COUNTRY_INFO!C59=0,\" \",COUNTRY_INFO!C59))","v":"Garoua Boulai"},{"$f":"IF(AND(INTRO!$E$37=\"Non-endemic\",INTRO!$E$41=\"Non-endemic\"),0,COUNTRY_INFO!W59)","v":0},{"$f":"IF(AND(INTRO!$E$37=\"Non-endemic\",INTRO!$E$41=\"Non-endemic\"),0,COUNTRY_INFO!Y59)","v":1},{"$f":"IF($D59=1,IVM!G59,0)","v":0},{"$f":"IF($D59=0, \" \", IF(COUNTRY_INFO!$H59=1, IF(COUNTRY_INFO!$L59=1, 0,\" \"),\" \"))","v":" "},null,1,39757.5,34147,null,0,73905,0,null,0,0,null,0,73905,null,73905]
[{"$f":"IF(AND(INTRO!$E$37=\"Non-endemic\",INTRO!$E$41=\"Non-endemic\"),\" \",IF(COUNTRY_INFO!A60=0,\" \",COUNTRY_INFO!A60))","v":"Cameroun"},{"$f":"IF(AND(INTRO!$E$37=\"Non-endemic\",INTRO!$E$41=\"Non-endemic\"),\" \",IF(COUNTRY_INFO!B60=0,\" \",COUNTRY_INFO!B60))","v":"Est"},{"$f":"IF(AND(INTRO!$E$37=\"Non-endemic\",INTRO!$E$41=\"Non-endemic\"),\" \",IF(COUNTRY_INFO!C60=0,\" \",COUNTRY_INFO!C60))","v":"Kette"},{"$f":"IF(AND(INTRO!$E$37=\"Non-endemic\",INTRO!$E$41=\"Non-endemic\"),0,COUNTRY_INFO!W60)","v":0},{"$f":"IF(AND(INTRO!$E$37=\"Non-endemic\",INTRO!$E$41=\"Non-endemic\"),0,COUNTRY_INFO!Y60)","v":1},{"$f":"IF($D60=1,IVM!G60,0)","v":0},{"$f":"IF($D60=0, \" \", IF(COUNTRY_INFO!$H60=1, IF(COUNTRY_INFO!$L60=1, 0,\" \"),\" \"))","v":" "},null,1,40989.726000000002,22228,null,7535,70753,0,null,0,0,null,0,70753,null,70753]
[{"$f":"IF(AND(INTRO!$E$37=\"Non-endemic\",INTRO!$E$41=\"Non-endemic\"),\" \",IF(COUNTRY_INFO!A61=0,\" \",COUNTRY_INFO!A61))","v":"Cameroun"},{"$f":"IF(AND(INTRO!$E$37=\"Non-endemic\",INTRO!$E$41=\"Non-endemic\"),\" \",IF(COUNTRY_INFO!B61=0,\" \",COUNTRY_INFO!B61))","v":"Est"},{"$f":"IF(AND(INTRO!$E$37=\"Non-endemic\",INTRO!$E$41=\"Non-endemic\"),\" \",IF(COUNTRY_INFO!C61=0,\" \",COUNTRY_INFO!C61))","v":"Lomie"},{"$f":"IF(AND(INTRO!$E$37=\"Non-endemic\",INTRO!$E$41=\"Non-endemic\"),0,COUNTRY_INFO!W61)","v":0},{"$f":"IF(AND(INTRO!$E$37=\"Non-endemic\",INTRO!$E$41=\"Non-endemic\"),0,COUNTRY_INFO!Y61)","v":1},{"$f":"IF($D61=1,IVM!G61,0)","v":0},{"$f":"IF($D61=0, \" \", IF(COUNTRY_INFO!$H61=1, IF(COUNTRY_INFO!$L61=1, 0,\" \"),\" \"))","v":" "},null,1,7618.05,13314,null,4513,25445,0,null,0,0,null,0,25445,null,25445]
[{"$f":"IF(AND(INTRO!$E$37=\"Non-endemic\",INTRO!$E$41=\"Non-endemic\"),\" \",IF(COUNTRY_INFO!A62=0,\" \",COUNTRY_INFO!A62))","v":"Cameroun"},{"$f":"IF(AND(INTRO!$E$37=\"Non-endemic\",INTRO!$E$41=\"Non-endemic\"),\" \",IF(COUNTRY_INFO!B62=0,\" \",COUNTRY_INFO!B62))","v":"Est"},{"$f":"IF(AND(INTRO!$E$37=\"Non-endemic\",INTRO!$E$41=\"Non-endemic\"),\" \",IF(COUNTRY_INFO!C62=0,\" \",COUNTRY_INFO!C62))","v":"Mbang"},{"$f":"IF(AND(INTRO!$E$37=\"Non-endemic\",INTRO!$E$41=\"Non-endemic\"),0,COUNTRY_INFO!W62)","v":0},{"$f":"IF(AND(INTRO!$E$37=\"Non-endemic\",INTRO!$E$41=\"Non-endemic\"),0,COUNTRY_INFO!Y62)","v":1},{"$f":"IF($D62=1,IVM!G62,0)","v":0},{"$f":"IF($D62=0, \" \", IF(COUNTRY_INFO!$H62=1, IF(COUNTRY_INFO!$L62=1, 0,\" \"),\" \"))","v":" "},null,1,7962.7860000000001,9580,null,3247,20790,0,null,0,0,null,0,20790,null,20790]
[{"$f":"IF(AND(INTRO!$E$37=\"Non-endemic\",INTRO!$E$41=\"Non-endemic\"),\" \",IF(COUNTRY_INFO!A63=0,\" \",COUNTRY_INFO!A63))","v":"Cameroun"},{"$f":"IF(AND(INTRO!$E$37=\"Non-endemic\",INTRO!$E$41=\"Non-endemic\"),\" \",IF(COUNTRY_INFO!B63=0,\" \",COUNTRY_INFO!B63))","v":"Est"},{"$f":"IF(AND(INTRO!$E$37=\"Non-endemic\",INTRO!$E$41=\"Non-endemic\"),\" \",IF(COUNTRY_INFO!C63=0,\" \",COUNTRY_INFO!C63))","v":"Messamena"},{"$f":"IF(AND(INTRO!$E$37=\"Non-endemic\",INTRO!$E$41=\"Non-endemic\"),0,COUNTRY_INFO!W63)","v":0},{"$f":"IF(AND(INTRO!$E$37=\"Non-endemic\",INTRO!$E$41=\"Non-endemic\"),0,COUNTRY_INFO!Y63)","v":1},{"$f":"IF($D63=1,IVM!G63,0)","v":0},{"$f":"IF($D63=0, \" \", IF(COUNTRY_INFO!$H63=1, IF(COUNTRY_INFO!$L63=1, 0,\" \"),\" \"))","v":" "},null,1,4497.9840000000004,8997,null,3050,16545,0,null,0,0,null,0,16545,null,16545]
[{"$f":"IF(AND(INTRO!$E$37=\"Non-endemic\",INTRO!$E$41=\"Non-endemic\"),\" \",IF(COUNTRY_INFO!A64=0,\" \",COUNTRY_INFO!A64))","v":"Cameroun"},{"$f":"IF(AND(INTRO!$E$37=\"Non-endemic\",INTRO!$E$41=\"Non-endemic\"),\" \",IF(COUNTRY_INFO!B64=0,\" \",COUNTRY_INFO!B64))","v":"Est"},{"$f":"IF(AND(INTRO!$E$37=\"Non-endemic\",INTRO!$E$41=\"Non-endemic\"),\" \",IF(COUNTRY_INFO!C64=0,\" \",COUNTRY_INFO!C64))","v":"Moloundou"},{"$f":"IF(AND(INTRO!$E$37=\"Non-endemic\",INTRO!$E$41=\"Non-endemic\"),0,COUNTRY_INFO!W64)","v":0},{"$f":"IF(AND(INTRO!$E$37=\"Non-endemic\",INTRO!$E$41=\"Non-endemic\"),0,COUNTRY_INFO!Y64)","v":1},{"$f":"IF($D64=1,IVM!G64,0)","v":0},{"$f":"IF($D64=0, \" \", IF(COUNTRY_INFO!$H64=1, IF(COUNTRY_INFO!$L64=1, 0,\" \"),\" \"))","v":" "},null,1,8229.5460000000003,14248,null,4830,27308,0,null,0,0,null,0,27308,null,27308]
[{"$f":"IF(AND(INTRO!$E$37=\"Non-endemic\",INTRO!$E$41=\"Non-endemic\"),\" \",IF(COUNTRY_INFO!A65=0,\" \",COUNTRY_INFO!A65))","v":"Cameroun"},{"$f":"IF(AND(INTRO!$E$37=\"Non-endemic\",INTRO!$E$41=\"Non-endemic\"),\" \",IF(COUNTRY_INFO!B65=0,\" \",COUNTRY_INFO!B65))","v":"Est"},{"$f":"IF(AND(INTRO!$E$37=\"Non-endemic\",INTRO!$E$41=\"Non-endemic\"),\" \",IF(COUNTRY_INFO!C65=0,\" \",COUNTRY_INFO!C65))","v":"Ndelele"},{"$f":"IF(AND(INTRO!$E$37=\"Non-endemic\",INTRO!$E$41=\"Non-endemic\"),0,COUNTRY_INFO!W65)","v":0},{"$f":"IF(AND(INTRO!$E$37=\"Non-endemic\",INTRO!$E$41=\"Non-endemic\"),0,COUNTRY_INFO!Y65)","v":1},{"$f":"IF($D65=1,IVM!G65,0)","v":0},{"$f":"IF($D65=0, \" \", IF(COUNTRY_INFO!$H65=1, IF(COUNTRY_INFO!$L65=1, 0,\" \"),\" \"))","v":" "},null,1,20494.350000000002,28385,null,9623,58502,0,null,0,0,null,0,58502,null,58502]
[{"$f":"IF(AND(INTRO!$E$37=\"Non-endemic\",INTRO!$E$41=\"Non-endemic\"),\" \",IF(COUNTRY_INFO!A66=0,\" \",COUNTRY_INFO!A66))","v":"Cameroun"},{"$f":"IF(AND(INTRO!$E$37=\"Non-endemic\",INTRO!$E$41=\"Non-endemic\"),\" \",IF(COUNTRY_INFO!B66=0,\" \",COUNTRY_INFO!B66))","v":"Est"},{"$f":"IF(AND(INTRO!$E$37=\"Non-endemic\",INTRO!$E$41=\"Non-endemic\"),\" \",IF(COUNTRY_INFO!C66=0,\" \",COUNTRY_INFO!C66))","v":"Nguelemendouka"},{"$f":"IF(AND(INTRO!$E$37=\"Non-endemic\",INTRO!$E$41=\"Non-endemic\"),0,COUNTRY_INFO!W66)","v":0},{"$f":"IF(AND(INTRO!$E$37=\"Non-endemic\",INTRO!$E$41=\"Non-endemic\"),0,COUNTRY_INFO!Y66)","v":1},{"$f":"IF($D66=1,IVM!G66,0)","v":0},{"$f":"IF($D66=0, \" \", IF(COUNTRY_INFO!$H66=1, IF(COUNTRY_INFO!$L66=1, 0,\" \"),\" \"))","v":" "},null,1,7323.5879999999997,8991,null,0,16315,0,null,0,0,null,0,16315,null,16315]
[{"$f":"IF(AND(INTRO!$E$37=\"Non-endemic\",INTRO!$E$41=\"Non-endemic\"),\" \",IF(COUNTRY_INFO!A67=0,\" \",COUNTRY_INFO!A67))","v":"Cameroun"},{"$f":"IF(AND(INTRO!$E$37=\"Non-endemic\",INTRO!$E$41=\"Non-endemic\"),\" \",IF(COUNTRY_INFO!B67=0,\" \",COUNTRY_INFO!B67))","v":"Est"},{"$f":"IF(AND(INTRO!$E$37=\"Non-endemic\",INTRO!$E$41=\"Non-endemic\"),\" \",IF(COUNTRY_INFO!C67=0,\" \",COUNTRY_INFO!C67))","v":"Yokadouma"},{"$f":"IF(AND(INTRO!$E$37=\"Non-endemic\",INTRO!$E$41=\"Non-endemic\"),0,COUNTRY_INFO!W67)","v":0},{"$f":"IF(AND(INTRO!$E$37=\"Non-endemic\",INTRO!$E$41=\"Non-endemic\"),0,COUNTRY_INFO!Y67)","v":1},{"$f":"IF($D67=1,IVM!G67,0)","v":0},{"$f":"IF($D67=0, \" \", IF(COUNTRY_INFO!$H67=1, IF(COUNTRY_INFO!$L67=1, 0,\" \"),\" \"))","v":" "},null,1,27857.952000000001,34505,null,0,62363,0,null,0,0,null,0,62363,null,62363]
[{"$f":"IF(AND(INTRO!$E$37=\"Non-endemic\",INTRO!$E$41=\"Non-endemic\"),\" \",IF(COUNTRY_INFO!A68=0,\" \",COUNTRY_INFO!A68))","v":"Cameroun"},{"$f":"IF(AND(INTRO!$E$37=\"Non-endemic\",INTRO!$E$41=\"Non-endemic\"),\" \",IF(COUNTRY_INFO!B68=0,\" \",COUNTRY_INFO!B68))","v":"Extreme Nord"},{"$f":"IF(AND(INTRO!$E$37=\"Non-endemic\",INTRO!$E$41=\"Non-endemic\"),\" \",IF(COUNTRY_INFO!C68=0,\" \",COUNTRY_INFO!C68))","v":"Bogo"},{"$f":"IF(AND(INTRO!$E$37=\"Non-endemic\",INTRO!$E$41=\"Non-endemic\"),0,COUNTRY_INFO!W68)","v":0},{"$f":"IF(AND(INTRO!$E$37=\"Non-endemic\",INTRO!$E$41=\"Non-endemic\"),0,COUNTRY_INFO!Y68)","v":0},{"$f":"IF($D68=1,IVM!G68,0)","v":0},{"$f":"IF($D68=0, \" \", IF(COUNTRY_INFO!$H68=1, IF(COUNTRY_INFO!$L68=1, 0,\" \"),\" \"))","v":" "},null,1,43004.79,35225,null,0,78230,0,null,0,0,null,0,78230,null,78230]
[{"$f":"IF(AND(INTRO!$E$37=\"Non-endemic\",INTRO!$E$41=\"Non-endemic\"),\" \",IF(COUNTRY_INFO!A69=0,\" \",COUNTRY_INFO!A69))","v":"Cameroun"},{"$f":"IF(AND(INTRO!$E$37=\"Non-endemic\",INTRO!$E$41=\"Non-endemic\"),\" \",IF(COUNTRY_INFO!B69=0,\" \",COUNTRY_INFO!B69))","v":"Extreme Nord"},{"$f":"IF(AND(INTRO!$E$37=\"Non-endemic\",INTRO!$E$41=\"Non-endemic\"),\" \",IF(COUNTRY_INFO!C69=0,\" \",COUNTRY_INFO!C69))","v":"Bourha"},{"$f":"IF(AND(INTRO!$E$37=\"Non-endemic\",INTRO!$E$41=\"Non-endemic\"),0,COUNTRY_INFO!W69)","v":0},{"$f":"IF(AND(INTRO!$E$37=\"Non-endemic\",INTRO!$E$41=\"Non-endemic\"),0,COUNTRY_INFO!Y69)","v":1},{"$f":"IF($D69=1,IVM!G69,0)","v":0},{"$f":"IF($D69=0, \" \", IF(COUNTRY_INFO!$H69=1, IF(COUNTRY_INFO!$L69=1, 0,\" \"),\" \"))","v":" "},null,1,43854.317999999999,23232,null,0,67086,0,null,0,0,null,0,67086,null,67086]
[{"$f":"IF(AND(INTRO!$E$37=\"Non-endemic\",INTRO!$E$41=\"Non-endemic\"),\" \",IF(COUNTRY_INFO!A70=0,\" \",COUNTRY_INFO!A70))","v":"Cameroun"},{"$f":"IF(AND(INTRO!$E$37=\"Non-endemic\",INTRO!$E$41=\"Non-endemic\"),\" \",IF(COUNTRY_INFO!B70=0,\" \",COUNTRY_INFO!B70))","v":"Extreme Nord"},{"$f":"IF(AND(INTRO!$E$37=\"Non-endemic\",INTRO!$E$41=\"Non-endemic\"),\" \",IF(COUNTRY_INFO!C70=0,\" \",COUNTRY_INFO!C70))","v":"Fotokol"},{"$f":"IF(AND(INTRO!$E$37=\"Non-endemic\",INTRO!$E$41=\"Non-endemic\"),0,COUNTRY_INFO!W70)","v":0},{"$f":"IF(AND(INTRO!$E$37=\"Non-endemic\",INTRO!$E$41=\"Non-endemic\"),0,COUNTRY_INFO!Y70)","v":0},{"$f":"IF($D70=1,IVM!G70,0)","v":0},{"$f":"IF($D70=0, \" \", IF(COUNTRY_INFO!$H70=1, IF(COUNTRY_INFO!$L70=1, 0,\" \"),\" \"))","v":" "},null,1,20799.072,20079,null,0,40878,0,null,0,0,null,0,40878,null,40878]
[{"$f":"IF(AND(INTRO!$E$37=\"Non-endemic\",INTRO!$E$41=\"Non-endemic\"),\" \",IF(COUNTRY_INFO!A71=0,\" \",COUNTRY_INFO!A71))","v":"Cameroun"},{"$f":"IF(AND(INTRO!$E$37=\"Non-endemic\",INTRO!$E$41=\"Non-endemic\"),\" \",IF(COUNTRY_INFO!B71=0,\" \",COUNTRY_INFO!B71))","v":"Extreme Nord"},{"$f":"IF(AND(INTRO!$E$37=\"Non-endemic\",INTRO!$E$41=\"Non-endemic\"),\" \",IF(COUNTRY_INFO!C71=0,\" \",COUNTRY_INFO!C71))","v":"Gazawa"},{"$f":"IF(AND(INTRO!$E$37=\"Non-endemic\",INTRO!$E$41=\"Non-endemic\"),0,COUNTRY_INFO!W71)","v":0},{"$f":"IF(AND(INTRO!$E$37=\"Non-endemic\",INTRO!$E$41=\"Non-endemic\"),0,COUNTRY_INFO!Y71)","v":0},{"$f":"IF($D71=1,IVM!G71,0)","v":0},{"$f":"IF($D71=0, \" \", IF(COUNTRY_INFO!$H71=1, IF(COUNTRY_INFO!$L71=1, 0,\" \"),\" \"))","v":" "},null,1,65516.256000000001,22279,null,0,87795,0,null,0,0,null,0,87795,null,87795]
[{"$f":"IF(AND(INTRO!$E$37=\"Non-endemic\",INTRO!$E$41=\"Non-endemic\"),\" \",IF(COUNTRY_INFO!A72=0,\" \",COUNTRY_INFO!A72))","v":"Cameroun"},{"$f":"IF(AND(INTRO!$E$37=\"Non-endemic\",INTRO!$E$41=\"Non-endemic\"),\" \",IF(COUNTRY_INFO!B72=0,\" \",COUNTRY_INFO!B72))","v":"Extreme Nord"},{"$f":"IF(AND(INTRO!$E$37=\"Non-endemic\",INTRO!$E$41=\"Non-endemic\"),\" \",IF(COUNTRY_INFO!C72=0,\" \",COUNTRY_INFO!C72))","v":"Goulfey"},{"$f":"IF(AND(INTRO!$E$37=\"Non-endemic\",INTRO!$E$41=\"Non-endemic\"),0,COUNTRY_INFO!W72)","v":0},{"$f":"IF(AND(INTRO!$E$37=\"Non-endemic\",INTRO!$E$41=\"Non-endemic\"),0,COUNTRY_INFO!Y72)","v":0},{"$f":"IF($D72=1,IVM!G72,0)","v":0},{"$f":"IF($D72=0, \" \", IF(COUNTRY_INFO!$H72=1, IF(COUNTRY_INFO!$L72=1, 0,\" \"),\" \"))","v":" "},null,1,32310.792000000001,28972,null,0,61283,0,null,0,0,null,0,61283,null,61283]
[{"$f":"IF(AND(INTRO!$E$37=\"Non-endemic\",INTRO!$E$41=\"Non-endemic\"),\" \",IF(COUNTRY_INFO!A73=0,\" \",COUNTRY_INFO!A73))","v":"Cameroun"},{"$f":"IF(AND(INTRO!$E$37=\"Non-endemic\",INTRO!$E$41=\"Non-endemic\"),\" \",IF(COUNTRY_INFO!B73=0,\" \",COUNTRY_INFO!B73))","v":"Extreme Nord"},{"$f":"IF(AND(INTRO!$E$37=\"Non-endemic\",INTRO!$E$41=\"Non-endemic\"),\" \",IF(COUNTRY_INFO!C73=0,\" \",COUNTRY_INFO!C73))","v":"Guere"},{"$f":"IF(AND(INTRO!$E$37=\"Non-endemic\",INTRO!$E$41=\"Non-endemic\"),0,COUNTRY_INFO!W73)","v":0},{"$f":"IF(AND(INTRO!$E$37=\"Non-endemic\",INTRO!$E$41=\"Non-endemic\"),0,COUNTRY_INFO!Y73)","v":0},{"$f":"IF($D73=1,IVM!G73,0)","v":0},{"$f":"IF($D73=0, \" \", IF(COUNTRY_INFO!$H73=1, IF(COUNTRY_INFO!$L73=1, 0,\" \"),\" \"))","v":" "},null,1,27996.462,40421,null,0,68417,0,null,0,0,null,0,68417,null,68417]
[{"$f":"IF(AND(INTRO!$E$37=\"Non-endemic\",INTRO!$E$41=\"Non-endemic\"),\" \",IF(COUNTRY_INFO!A74=0,\" \",COUNTRY_INFO!A74))","v":"Cameroun"},{"$f":"IF(AND(INTRO!$E$37=\"Non-endemic\",INTRO!$E$41=\"Non-endemic\"),\" \",IF(COUNTRY_INFO!B74=0,\" \",COUNTRY_INFO!B74))","v":"Extreme Nord"},{"$f":"IF(AND(INTRO!$E$37=\"Non-endemic\",INTRO!$E$41=\"Non-endemic\"),\" \",IF(COUNTRY_INFO!C74=0,\" \",COUNTRY_INFO!C74))","v":"Guidiguis"},{"$f":"IF(AND(INTRO!$E$37=\"Non-endemic\",INTRO!$E$41=\"Non-endemic\"),0,COUNTRY_INFO!W74)","v":0},{"$f":"IF(AND(INTRO!$E$37=\"Non-endemic\",INTRO!$E$41=\"Non-endemic\"),0,COUNTRY_INFO!Y74)","v":1},{"$f":"IF($D74=1,IVM!G74,0)","v":0},{"$f":"IF($D74=0, \" \", IF(COUNTRY_INFO!$H74=1, IF(COUNTRY_INFO!$L74=1, 0,\" \"),\" \"))","v":" "},null,1,54109.188000000002,52965,null,0,107074,0,null,0,0,null,0,107074,null,107074]
[{"$f":"IF(AND(INTRO!$E$37=\"Non-endemic\",INTRO!$E$41=\"Non-endemic\"),\" \",IF(COUNTRY_INFO!A75=0,\" \",COUNTRY_INFO!A75))","v":"Cameroun"},{"$f":"IF(AND(INTRO!$E$37=\"Non-endemic\",INTRO!$E$41=\"Non-endemic\"),\" \",IF(COUNTRY_INFO!B75=0,\" \",COUNTRY_INFO!B75))","v":"Extreme Nord"},{"$f":"IF(AND(INTRO!$E$37=\"Non-endemic\",INTRO!$E$41=\"Non-endemic\"),\" \",IF(COUNTRY_INFO!C75=0,\" \",COUNTRY_INFO!C75))","v":"Hina"},{"$f":"IF(AND(INTRO!$E$37=\"Non-endemic\",INTRO!$E$41=\"Non-endemic\"),0,COUNTRY_INFO!W75)","v":0},{"$f":"IF(AND(INTRO!$E$37=\"Non-endemic\",INTRO!$E$41=\"Non-endemic\"),0,COUNTRY_INFO!Y75)","v":0},{"$f":"IF($D75=1,IVM!G75,0)","v":0},{"$f":"IF($D75=0, \" \", IF(COUNTRY_INFO!$H75=1, IF(COUNTRY_INFO!$L75=1, 0,\" \"),\" \"))","v":" "},null,1,36742.086000000003,39463,null,0,76205,{"$f":"$F75+IF(OR(G75=0,G75=\" \"),0,G75*H75)","v":0},null,0,0,null,0,76205,null,76205]
[{"$f":"IF(AND(INTRO!$E$37=\"Non-endemic\",INTRO!$E$41=\"Non-endemic\"),\" \",IF(COUNTRY_INFO!A76=0,\" \",COUNTRY_INFO!A76))","v":"Cameroun"},{"$f":"IF(AND(INTRO!$E$37=\"Non-endemic\",INTRO!$E$41=\"Non-endemic\"),\" \",IF(COUNTRY_INFO!B76=0,\" \",COUNTRY_INFO!B76))","v":"Extreme Nord"},{"$f":"IF(AND(INTRO!$E$37=\"Non-endemic\",INTRO!$E$41=\"Non-endemic\"),\" \",IF(COUNTRY_INFO!C76=0,\" \",COUNTRY_INFO!C76))","v":"Kaele"},{"$f":"IF(AND(INTRO!$E$37=\"Non-endemic\",INTRO!$E$41=\"Non-endemic\"),0,COUNTRY_INFO!W76)","v":0},{"$f":"IF(AND(INTRO!$E$37=\"Non-endemic\",INTRO!$E$41=\"Non-endemic\"),0,COUNTRY_INFO!Y76)","v":0},{"$f":"IF($D76=1,IVM!G76,0)","v":0},{"$f":"IF($D76=0, \" \", IF(COUNTRY_INFO!$H76=1, IF(COUNTRY_INFO!$L76=1, 0,\" \"),\" \"))","v":" "},null,1,30105.918000000001,34469,null,0,64575,0,null,0,0,null,0,64575,null,64575]
[{"$f":"IF(AND(INTRO!$E$37=\"Non-endemic\",INTRO!$E$41=\"Non-endemic\"),\" \",IF(COUNTRY_INFO!A77=0,\" \",COUNTRY_INFO!A77))","v":"Cameroun"},{"$f":"IF(AND(INTRO!$E$37=\"Non-endemic\",INTRO!$E$41=\"Non-endemic\"),\" \",IF(COUNTRY_INFO!B77=0,\" \",COUNTRY_INFO!B77))","v":"Extreme Nord"},{"$f":"IF(AND(INTRO!$E$37=\"Non-endemic\",INTRO!$E$41=\"Non-endemic\"),\" \",IF(COUNTRY_INFO!C77=0,\" \",COUNTRY_INFO!C77))","v":"Kar Hay"},{"$f":"IF(AND(INTRO!$E$37=\"Non-endemic\",INTRO!$E$41=\"Non-endemic\"),0,COUNTRY_INFO!W77)","v":0},{"$f":"IF(AND(INTRO!$E$37=\"Non-endemic\",INTRO!$E$41=\"Non-endemic\"),0,COUNTRY_INFO!Y77)","v":1},{"$f":"IF($D77=1,IVM!G77,0)","v":0},{"$f":"IF($D77=0, \" \", IF(COUNTRY_INFO!$H77=1, IF(COUNTRY_INFO!$L77=1, 0,\" \"),\" \"))","v":" "},null,1,24079.194,39849,null,0,63928,0,null,0,0,null,0,63928,null,63928]
[{"$f":"IF(AND(INTRO!$E$37=\"Non-endemic\",INTRO!$E$41=\"Non-endemic\"),\" \",IF(COUNTRY_INFO!A78=0,\" \",COUNTRY_INFO!A78))","v":"Cameroun"},{"$f":"IF(AND(INTRO!$E$37=\"Non-endemic\",INTRO!$E$41=\"Non-endemic\"),\" \",IF(COUNTRY_INFO!B78=0,\" \",COUNTRY_INFO!B78))","v":"Extreme Nord"},{"$f":"IF(AND(INTRO!$E$37=\"Non-endemic\",INTRO!$E$41=\"Non-endemic\"),\" \",IF(COUNTRY_INFO!C78=0,\" \",COUNTRY_INFO!C78))","v":"Kolofata"},{"$f":"IF(AND(INTRO!$E$37=\"Non-endemic\",INTRO!$E$41=\"Non-endemic\"),0,COUNTRY_INFO!W78)","v":0},{"$f":"IF(AND(INTRO!$E$37=\"Non-endemic\",INTRO!$E$41=\"Non-endemic\"),0,COUNTRY_INFO!Y78)","v":1},{"$f":"IF($D78=1,IVM!G78,0)","v":0},{"$f":"IF($D78=0, \" \", IF(COUNTRY_INFO!$H78=1, IF(COUNTRY_INFO!$L78=1, 0,\" \"),\" \"))","v":" "},null,1,41172.353999999999,35314,null,0,76486,0,null,0,0,null,0,76486,null,76486]
[{"$f":"IF(AND(INTRO!$E$37=\"Non-endemic\",INTRO!$E$41=\"Non-endemic\"),\" \",IF(COUNTRY_INFO!A79=0,\" \",COUNTRY_INFO!A79))","v":"Cameroun"},{"$f":"IF(AND(INTRO!$E$37=\"Non-endemic\",INTRO!$E$41=\"Non-endemic\"),\" \",IF(COUNTRY_INFO!B79=0,\" \",COUNTRY_INFO!B79))","v":"Extreme Nord"},{"$f":"IF(AND(INTRO!$E$37=\"Non-endemic\",INTRO!$E$41=\"Non-endemic\"),\" \",IF(COUNTRY_INFO!C79=0,\" \",COUNTRY_INFO!C79))","v":"Kousseri"},{"$f":"IF(AND(INTRO!$E$37=\"Non-endemic\",INTRO!$E$41=\"Non-endemic\"),0,COUNTRY_INFO!W79)","v":0},{"$f":"IF(AND(INTRO!$E$37=\"Non-endemic\",INTRO!$E$41=\"Non-endemic\"),0,COUNTRY_INFO!Y79)","v":0},{"$f":"IF($D79=1,IVM!G79,0)","v":0},{"$f":"IF($D79=0, \" \", IF(COUNTRY_INFO!$H79=1, IF(COUNTRY_INFO!$L79=1, 0,\" \"),\" \"))","v":" "},null,1,84556.763999999996,129972,null,0,214529,0,null,0,0,null,0,214529,null,214529]
[{"$f":"IF(AND(INTRO!$E$37=\"Non-endemic\",INTRO!$E$41=\"Non-endemic\"),\" \",IF(COUNTRY_INFO!A80=0,\" \",COUNTRY_INFO!A80))","v":"Cameroun"},{"$f":"IF(AND(INTRO!$E$37=\"Non-endemic\",INTRO!$E$41=\"Non-endemic\"),\" \",IF(COUNTRY_INFO!B80=0,\" \",COUNTRY_INFO!B80))","v":"Extreme Nord"},{"$f":"IF(AND(INTRO!$E$37=\"Non-endemic\",INTRO!$E$41=\"Non-endemic\"),\" \",IF(COUNTRY_INFO!C80=0,\" \",COUNTRY_INFO!C80))","v":"Koza"},{"$f":"IF(AND(INTRO!$E$37=\"Non-endemic\",INTRO!$E$41=\"Non-endemic\"),0,COUNTRY_INFO!W80)","v":0},{"$f":"IF(AND(INTRO!$E$37=\"Non-endemic\",INTRO!$E$41=\"Non-endemic\"),0,COUNTRY_INFO!Y80)","v":1},{"$f":"IF($D80=1,IVM!G80,0)","v":0},{"$f":"IF($D80=0, \" \", IF(COUNTRY_INFO!$H80=1, IF(COUNTRY_INFO!$L80=1, 0,\" \"),\" \"))","v":" "},null,1,21066.858,28137,null,0,49204,0,null,0,0,null,0,49204,null,49204]
[{"$f":"IF(AND(INTRO!$E$37=\"Non-endemic\",INTRO!$E$41=\"Non-endemic\"),\" \",IF(COUNTRY_INFO!A81=0,\" \",COUNTRY_INFO!A81))","v":"Cameroun"},{"$f":"IF(AND(INTRO!$E$37=\"Non-endemic\",INTRO!$E$41=\"Non-endemic\"),\" \",IF(COUNTRY_INFO!B81=0,\" \",COUNTRY_INFO!B81))","v":"Extreme Nord"},{"$f":"IF(AND(INTRO!$E$37=\"Non-endemic\",INTRO!$E$41=\"Non-endemic\"),\" \",IF(COUNTRY_INFO!C81=0,\" \",COUNTRY_INFO!C81))","v":"Mada"},{"$f":"IF(AND(INTRO!$E$37=\"Non-endemic\",INTRO!$E$41=\"Non-endemic\"),0,COUNTRY_INFO!W81)","v":0},{"$f":"IF(AND(INTRO!$E$37=\"Non-endemic\",INTRO!$E$41=\"Non-endemic\"),0,COUNTRY_INFO!Y81)","v":1},{"$f":"IF($D81=1,IVM!G81,0)","v":0},{"$f":"IF($D81=0, \" \", IF(COUNTRY_INFO!$H81=1, IF(COUNTRY_INFO!$L81=1, 0,\" \"),\" \"))","v":" "},null,1,50919.353999999999,48061,null,0,98980,0,null,0,0,null,0,98980,null,98980]
[{"$f":"IF(AND(INTRO!$E$37=\"Non-endemic\",INTRO!$E$41=\"Non-endemic\"),\" \",IF(COUNTRY_INFO!A82=0,\" \",COUNTRY_INFO!A82))","v":"Cameroun"},{"$f":"IF(AND(INTRO!$E$37=\"Non-endemic\",INTRO!$E$41=\"Non-endemic\"),\" \",IF(COUNTRY_INFO!B82=0,\" \",COUNTRY_INFO!B82))","v":"Extreme Nord"},{"$f":"IF(AND(INTRO!$E$37=\"Non-endemic\",INTRO!$E$41=\"Non-endemic\"),\" \",IF(COUNTRY_INFO!C82=0,\" \",COUNTRY_INFO!C82))","v":"Maga"},{"$f":"IF(AND(INTRO!$E$37=\"Non-endemic\",INTRO!$E$41=\"Non-endemic\"),0,COUNTRY_INFO!W82)","v":0},{"$f":"IF(AND(INTRO!$E$37=\"Non-endemic\",INTRO!$E$41=\"Non-endemic\"),0,COUNTRY_INFO!Y82)","v":0},{"$f":"IF($D82=1,IVM!G82,0)","v":0},{"$f":"IF($D82=0, \" \", IF(COUNTRY_INFO!$H82=1, IF(COUNTRY_INFO!$L82=1, 0,\" \"),\" \"))","v":" "},null,1,41486.31,57839,null,0,99325,0,null,0,0,null,0,99325,null,99325]
[{"$f":"IF(AND(INTRO!$E$37=\"Non-endemic\",INTRO!$E$41=\"Non-endemic\"),\" \",IF(COUNTRY_INFO!A83=0,\" \",COUNTRY_INFO!A83))","v":"Cameroun"},{"$f":"IF(AND(INTRO!$E$37=\"Non-endemic\",INTRO!$E$41=\"Non-endemic\"),\" \",IF(COUNTRY_INFO!B83=0,\" \",COUNTRY_INFO!B83))","v":"Extreme Nord"},{"$f":"IF(AND(INTRO!$E$37=\"Non-endemic\",INTRO!$E$41=\"Non-endemic\"),\" \",IF(COUNTRY_INFO!C83=0,\" \",COUNTRY_INFO!C83))","v":"Makary"},{"$f":"IF(AND(INTRO!$E$37=\"Non-endemic\",INTRO!$E$41=\"Non-endemic\"),0,COUNTRY_INFO!W83)","v":0},{"$f":"IF(AND(INTRO!$E$37=\"Non-endemic\",INTRO!$E$41=\"Non-endemic\"),0,COUNTRY_INFO!Y83)","v":0},{"$f":"IF($D83=1,IVM!G83,0)","v":0},{"$f":"IF($D83=0, \" \", IF(COUNTRY_INFO!$H83=1, IF(COUNTRY_INFO!$L83=1, 0,\" \"),\" \"))","v":" "},null,1,39403.53,38846,null,0,78250,0,null,0,0,null,0,78250,null,78250]
[{"$f":"IF(AND(INTRO!$E$37=\"Non-endemic\",INTRO!$E$41=\"Non-endemic\"),\" \",IF(COUNTRY_INFO!A84=0,\" \",COUNTRY_INFO!A84))","v":"Cameroun"},{"$f":"IF(AND(INTRO!$E$37=\"Non-endemic\",INTRO!$E$41=\"Non-endemic\"),\" \",IF(COUNTRY_INFO!B84=0,\" \",COUNTRY_INFO!B84))","v":"Extreme Nord"},{"$f":"IF(AND(INTRO!$E$37=\"Non-endemic\",INTRO!$E$41=\"Non-endemic\"),\" \",IF(COUNTRY_INFO!C84=0,\" \",COUNTRY_INFO!C84))","v":"Maroua 1"},{"$f":"IF(AND(INTRO!$E$37=\"Non-endemic\",INTRO!$E$41=\"Non-endemic\"),0,COUNTRY_INFO!W84)","v":0},{"$f":"IF(AND(INTRO!$E$37=\"Non-endemic\",INTRO!$E$41=\"Non-endemic\"),0,COUNTRY_INFO!Y84)","v":0},{"$f":"IF($D84=1,IVM!G84,0)","v":0},{"$f":"IF($D84=0, \" \", IF(COUNTRY_INFO!$H84=1, IF(COUNTRY_INFO!$L84=1, 0,\" \"),\" \"))","v":" "},null,1,55843.128000000004,57716,null,0,113559,0,null,0,0,null,0,113559,null,113559]
[{"$f":"IF(AND(INTRO!$E$37=\"Non-endemic\",INTRO!$E$41=\"Non-endemic\"),\" \",IF(COUNTRY_INFO!A85=0,\" \",COUNTRY_INFO!A85))","v":"Cameroun"},{"$f":"IF(AND(INTRO!$E$37=\"Non-endemic\",INTRO!$E$41=\"Non-endemic\"),\" \",IF(COUNTRY_INFO!B85=0,\" \",COUNTRY_INFO!B85))","v":"Extreme Nord"},{"$f":"IF(AND(INTRO!$E$37=\"Non-endemic\",INTRO!$E$41=\"Non-endemic\"),\" \",IF(COUNTRY_INFO!C85=0,\" \",COUNTRY_INFO!C85))","v":"Maroua 2"},{"$f":"IF(AND(INTRO!$E$37=\"Non-endemic\",INTRO!$E$41=\"Non-endemic\"),0,COUNTRY_INFO!W85)","v":0},{"$f":"IF(AND(INTRO!$E$37=\"Non-endemic\",INTRO!$E$41=\"Non-endemic\"),0,COUNTRY_INFO!Y85)","v":0},{"$f":"IF($D85=1,IVM!G85,0)","v":0},{"$f":"IF($D85=0, \" \", IF(COUNTRY_INFO!$H85=1, IF(COUNTRY_INFO!$L85=1, 0,\" \"),\" \"))","v":" "},null,1,137795.90400000001,59643,null,0,197439,0,null,0,0,null,0,197439,null,197439]
[{"$f":"IF(AND(INTRO!$E$37=\"Non-endemic\",INTRO!$E$41=\"Non-endemic\"),\" \",IF(COUNTRY_INFO!A86=0,\" \",COUNTRY_INFO!A86))","v":"Cameroun"},{"$f":"IF(AND(INTRO!$E$37=\"Non-endemic\",INTRO!$E$41=\"Non-endemic\"),\" \",IF(COUNTRY_INFO!B86=0,\" \",COUNTRY_INFO!B86))","v":"Extreme Nord"},{"$f":"IF(AND(INTRO!$E$37=\"Non-endemic\",INTRO!$E$41=\"Non-endemic\"),\" \",IF(COUNTRY_INFO!C86=0,\" \",COUNTRY_INFO!C86))","v":"Maroua 3"},{"$f":"IF(AND(INTRO!$E$37=\"Non-endemic\",INTRO!$E$41=\"Non-endemic\"),0,COUNTRY_INFO!W86)","v":0},{"$f":"IF(AND(INTRO!$E$37=\"Non-endemic\",INTRO!$E$41=\"Non-endemic\"),0,COUNTRY_INFO!Y86)","v":0},{"$f":"IF($D86=1,IVM!G86,0)","v":0},{"$f":"IF($D86=0, \" \", IF(COUNTRY_INFO!$H86=1, IF(COUNTRY_INFO!$L86=1, 0,\" \"),\" \"))","v":" "},null,1,54717.606,52255,null,0,106973,0,null,0,0,null,0,106973,null,106973]
[{"$f":"IF(AND(INTRO!$E$37=\"Non-endemic\",INTRO!$E$41=\"Non-endemic\"),\" \",IF(COUNTRY_INFO!A87=0,\" \",COUNTRY_INFO!A87))","v":"Cameroun"},{"$f":"IF(AND(INTRO!$E$37=\"Non-endemic\",INTRO!$E$41=\"Non-endemic\"),\" \",IF(COUNTRY_INFO!B87=0,\" \",COUNTRY_INFO!B87))","v":"Extreme Nord"},{"$f":"IF(AND(INTRO!$E$37=\"Non-endemic\",INTRO!$E$41=\"Non-endemic\"),\" \",IF(COUNTRY_INFO!C87=0,\" \",COUNTRY_INFO!C87))","v":"Meri"},{"$f":"IF(AND(INTRO!$E$37=\"Non-endemic\",INTRO!$E$41=\"Non-endemic\"),0,COUNTRY_INFO!W87)","v":0},{"$f":"IF(AND(INTRO!$E$37=\"Non-endemic\",INTRO!$E$41=\"Non-endemic\"),0,COUNTRY_INFO!Y87)","v":0},{"$f":"IF($D87=1,IVM!G87,0)","v":0},{"$f":"IF($D87=0, \" \", IF(COUNTRY_INFO!$H87=1, IF(COUNTRY_INFO!$L87=1, 0,\" \"),\" \"))","v":" "},null,1,42781.122000000003,48186,null,0,90967,0,null,0,0,null,0,90967,null,90967]
[{"$f":"IF(AND(INTRO!$E$37=\"Non-endemic\",INTRO!$E$41=\"Non-endemic\"),\" \",IF(COUNTRY_INFO!A88=0,\" \",COUNTRY_INFO!A88))","v":"Cameroun"},{"$f":"IF(AND(INTRO!$E$37=\"Non-endemic\",INTRO!$E$41=\"Non-endemic\"),\" \",IF(COUNTRY_INFO!B88=0,\" \",COUNTRY_INFO!B88))","v":"Extreme Nord"},{"$f":"IF(AND(INTRO!$E$37=\"Non-endemic\",INTRO!$E$41=\"Non-endemic\"),\" \",IF(COUNTRY_INFO!C88=0,\" \",COUNTRY_INFO!C88))","v":"Mindif"},{"$f":"IF(AND(INTRO!$E$37=\"Non-endemic\",INTRO!$E$41=\"Non-endemic\"),0,COUNTRY_INFO!W88)","v":0},{"$f":"IF(AND(INTRO!$E$37=\"Non-endemic\",INTRO!$E$41=\"Non-endemic\"),0,COUNTRY_INFO!Y88)","v":0},{"$f":"IF($D88=1,IVM!G88,0)","v":0},{"$f":"IF($D88=0, \" \", IF(COUNTRY_INFO!$H88=1, IF(COUNTRY_INFO!$L88=1, 0,\" \"),\" \"))","v":" "},null,1,15815.79,17182,null,0,32998,0,null,0,0,null,0,32998,null,32998]
[{"$f":"IF(AND(INTRO!$E$37=\"Non-endemic\",INTRO!$E$41=\"Non-endemic\"),\" \",IF(COUNTRY_INFO!A89=0,\" \",COUNTRY_INFO!A89))","v":"Cameroun"},{"$f":"IF(AND(INTRO!$E$37=\"Non-endemic\",INTRO!$E$41=\"Non-endemic\"),\" \",IF(COUNTRY_INFO!B89=0,\" \",COUNTRY_INFO!B89))","v":"Extreme Nord"},{"$f":"IF(AND(INTRO!$E$37=\"Non-endemic\",INTRO!$E$41=\"Non-endemic\"),\" \",IF(COUNTRY_INFO!C89=0,\" \",COUNTRY_INFO!C89))","v":"Mogode"},{"$f":"IF(AND(INTRO!$E$37=\"Non-endemic\",INTRO!$E$41=\"Non-endemic\"),0,COUNTRY_INFO!W89)","v":0},{"$f":"IF(AND(INTRO!$E$37=\"Non-endemic\",INTRO!$E$41=\"Non-endemic\"),0,COUNTRY_INFO!Y89)","v":0},{"$f":"IF($D89=1,IVM!G89,0)","v":0},{"$f":"IF($D89=0, \" \", IF(COUNTRY_INFO!$H89=1, IF(COUNTRY_INFO!$L89=1, 0,\" \"),\" \"))","v":" "},null,1,29483.136000000002,37149,null,0,66632,0,null,0,0,null,0,66632,null,66632]
[{"$f":"IF(AND(INTRO!$E$37=\"Non-endemic\",INTRO!$E$41=\"Non-endemic\"),\" \",IF(COUNTRY_INFO!A90=0,\" \",COUNTRY_INFO!A90))","v":"Cameroun"},{"$f":"IF(AND(INTRO!$E$37=\"Non-endemic\",INTRO!$E$41=\"Non-endemic\"),\" \",IF(COUNTRY_INFO!B90=0,\" \",COUNTRY_INFO!B90))","v":"Extreme Nord"},{"$f":"IF(AND(INTRO!$E$37=\"Non-endemic\",INTRO!$E$41=\"Non-endemic\"),\" \",IF(COUNTRY_INFO!C90=0,\" \",COUNTRY_INFO!C90))","v":"Mokolo"},{"$f":"IF(AND(INTRO!$E$37=\"Non-endemic\",INTRO!$E$41=\"Non-endemic\"),0,COUNTRY_INFO!W90)","v":0},{"$f":"IF(AND(INTRO!$E$37=\"Non-endemic\",INTRO!$E$41=\"Non-endemic\"),0,COUNTRY_INFO!Y90)","v":0},{"$f":"IF($D90=1,IVM!G90,0)","v":0},{"$f":"IF($D90=0, \" \", IF(COUNTRY_INFO!$H90=1, IF(COUNTRY_INFO!$L90=1, 0,\" \"),\" \"))","v":" "},null,1,90374.184000000008,86660,null,0,177034,0,null,0,0,null,0,177034,null,177034]
[{"$f":"IF(AND(INTRO!$E$37=\"Non-endemic\",INTRO!$E$41=\"Non-endemic\"),\" \",IF(COUNTRY_INFO!A91=0,\" \",COUNTRY_INFO!A91))","v":"Cameroun"},{"$f":"IF(AND(INTRO!$E$37=\"Non-endemic\",INTRO!$E$41=\"Non-endemic\"),\" \",IF(COUNTRY_INFO!B91=0,\" \",COUNTRY_INFO!B91))","v":"Extreme Nord"},{"$f":"IF(AND(INTRO!$E$37=\"Non-endemic\",INTRO!$E$41=\"Non-endemic\"),\" \",IF(COUNTRY_INFO!C91=0,\" \",COUNTRY_INFO!C91))","v":"Mora"},{"$f":"IF(AND(INTRO!$E$37=\"Non-endemic\",INTRO!$E$41=\"Non-endemic\"),0,COUNTRY_INFO!W91)","v":0},{"$f":"IF(AND(INTRO!$E$37=\"Non-endemic\",INTRO!$E$41=\"Non-endemic\"),0,COUNTRY_INFO!Y91)","v":0},{"$f":"IF($D91=1,IVM!G91,0)","v":0},{"$f":"IF($D91=0, \" \", IF(COUNTRY_INFO!$H91=1, IF(COUNTRY_INFO!$L91=1, 0,\" \"),\" \"))","v":" "},null,1,78156.576000000001,88416,null,0,166573,0,null,0,0,null,0,166573,null,166573]
[{"$f":"IF(AND(INTRO!$E$37=\"Non-endemic\",INTRO!$E$41=\"Non-endemic\"),\" \",IF(COUNTRY_INFO!A92=0,\" \",COUNTRY_INFO!A92))","v":"Cameroun"},{"$f":"IF(AND(INTRO!$E$37=\"Non-endemic\",INTRO!$E$41=\"Non-endemic\"),\" \",IF(COUNTRY_INFO!B92=0,\" \",COUNTRY_INFO!B92))","v":"Extreme Nord"},{"$f":"IF(AND(INTRO!$E$37=\"Non-endemic\",INTRO!$E$41=\"Non-endemic\"),\" \",IF(COUNTRY_INFO!C92=0,\" \",COUNTRY_INFO!C92))","v":"Moulvoudaye"},{"$f":"IF(AND(INTRO!$E$37=\"Non-endemic\",INTRO!$E$41=\"Non-endemic\"),0,COUNTRY_INFO!W92)","v":0},{"$f":"IF(AND(INTRO!$E$37=\"Non-endemic\",INTRO!$E$41=\"Non-endemic\"),0,COUNTRY_INFO!Y92)","v":0},{"$f":"IF($D92=1,IVM!G92,0)","v":0},{"$f":"IF($D92=0, \" \", IF(COUNTRY_INFO!$H92=1, IF(COUNTRY_INFO!$L92=1, 0,\" \"),\" \"))","v":" "},null,1,43303.356,44289,null,0,87592,0,null,0,0,null,0,87592,null,87592]
[{"$f":"IF(AND(INTRO!$E$37=\"Non-endemic\",INTRO!$E$41=\"Non-endemic\"),\" \",IF(COUNTRY_INFO!A93=0,\" \",COUNTRY_INFO!A93))","v":"Cameroun"},{"$f":"IF(AND(INTRO!$E$37=\"Non-endemic\",INTRO!$E$41=\"Non-endemic\"),\" \",IF(COUNTRY_INFO!B93=0,\" \",COUNTRY_INFO!B93))","v":"Extreme Nord"},{"$f":"IF(AND(INTRO!$E$37=\"Non-endemic\",INTRO!$E$41=\"Non-endemic\"),\" \",IF(COUNTRY_INFO!C93=0,\" \",COUNTRY_INFO!C93))","v":"Moutourwa"},{"$f":"IF(AND(INTRO!$E$37=\"Non-endemic\",INTRO!$E$41=\"Non-endemic\"),0,COUNTRY_INFO!W93)","v":0},{"$f":"IF(AND(INTRO!$E$37=\"Non-endemic\",INTRO!$E$41=\"Non-endemic\"),0,COUNTRY_INFO!Y93)","v":0},{"$f":"IF($D93=1,IVM!G93,0)","v":0},{"$f":"IF($D93=0, \" \", IF(COUNTRY_INFO!$H93=1, IF(COUNTRY_INFO!$L93=1, 0,\" \"),\" \"))","v":" "},null,1,17559.990000000002,16305,null,0,33865,0,null,0,0,null,0,33865,null,33865]
[{"$f":"IF(AND(INTRO!$E$37=\"Non-endemic\",INTRO!$E$41=\"Non-endemic\"),\" \",IF(COUNTRY_INFO!A94=0,\" \",COUNTRY_INFO!A94))","v":"Cameroun"},{"$f":"IF(AND(INTRO!$E$37=\"Non-endemic\",INTRO!$E$41=\"Non-endemic\"),\" \",IF(COUNTRY_INFO!B94=0,\" \",COUNTRY_INFO!B94))","v":"Extreme Nord"},{"$f":"IF(AND(INTRO!$E$37=\"Non-endemic\",INTRO!$E$41=\"Non-endemic\"),\" \",IF(COUNTRY_INFO!C94=0,\" \",COUNTRY_INFO!C94))","v":"Mozogo"},{"$f":"IF(AND(INTRO!$E$37=\"Non-endemic\",INTRO!$E$41=\"Non-endemic\"),0,COUNTRY_INFO!W94)","v":0},{"$f":"IF(AND(INTRO!$E$37=\"Non-endemic\",INTRO!$E$41=\"Non-endemic\"),0,COUNTRY_INFO!Y94)","v":0},{"$f":"IF($D94=1,IVM!G94,0)","v":0},{"$f":"IF($D94=0, \" \", IF(COUNTRY_INFO!$H94=1, IF(COUNTRY_INFO!$L94=1, 0,\" \"),\" \"))","v":" "},null,1,17793.918000000001,25079,null,0,42873,0,null,0,0,null,0,42873,null,42873]
[{"$f":"IF(AND(INTRO!$E$37=\"Non-endemic\",INTRO!$E$41=\"Non-endemic\"),\" \",IF(COUNTRY_INFO!A95=0,\" \",COUNTRY_INFO!A95))","v":"Cameroun"},{"$f":"IF(AND(INTRO!$E$37=\"Non-endemic\",INTRO!$E$41=\"Non-endemic\"),\" \",IF(COUNTRY_INFO!B95=0,\" \",COUNTRY_INFO!B95))","v":"Extreme Nord"},{"$f":"IF(AND(INTRO!$E$37=\"Non-endemic\",INTRO!$E$41=\"Non-endemic\"),\" \",IF(COUNTRY_INFO!C95=0,\" \",COUNTRY_INFO!C95))","v":"Pette"},{"$f":"IF(AND(INTRO!$E$37=\"Non-endemic\",INTRO!$E$41=\"Non-endemic\"),0,COUNTRY_INFO!W95)","v":0},{"$f":"IF(AND(INTRO!$E$37=\"Non-endemic\",INTRO!$E$41=\"Non-endemic\"),0,COUNTRY_INFO!Y95)","v":1},{"$f":"IF($D95=1,IVM!G95,0)","v":0},{"$f":"IF($D95=0, \" \", IF(COUNTRY_INFO!$H95=1, IF(COUNTRY_INFO!$L95=1, 0,\" \"),\" \"))","v":" "},null,1,23989.932000000001,18346,null,0,42336,0,null,0,0,null,0,42336,null,42336]
[{"$f":"IF(AND(INTRO!$E$37=\"Non-endemic\",INTRO!$E$41=\"Non-endemic\"),\" \",IF(COUNTRY_INFO!A96=0,\" \",COUNTRY_INFO!A96))","v":"Cameroun"},{"$f":"IF(AND(INTRO!$E$37=\"Non-endemic\",INTRO!$E$41=\"Non-endemic\"),\" \",IF(COUNTRY_INFO!B96=0,\" \",COUNTRY_INFO!B96))","v":"Extreme Nord"},{"$f":"IF(AND(INTRO!$E$37=\"Non-endemic\",INTRO!$E$41=\"Non-endemic\"),\" \",IF(COUNTRY_INFO!C96=0,\" \",COUNTRY_INFO!C96))","v":"Roua"},{"$f":"IF(AND(INTRO!$E$37=\"Non-endemic\",INTRO!$E$41=\"Non-endemic\"),0,COUNTRY_INFO!W96)","v":0},{"$f":"IF(AND(INTRO!$E$37=\"Non-endemic\",INTRO!$E$41=\"Non-endemic\"),0,COUNTRY_INFO!Y96)","v":0},{"$f":"IF($D96=1,IVM!G96,0)","v":0},{"$f":"IF($D96=0, \" \", IF(COUNTRY_INFO!$H96=1, IF(COUNTRY_INFO!$L96=1, 0,\" \"),\" \"))","v":" "},null,1,29997.162,28967,null,0,58964,0,null,0,0,null,0,58964,null,58964]
[{"$f":"IF(AND(INTRO!$E$37=\"Non-endemic\",INTRO!$E$41=\"Non-endemic\"),\" \",IF(COUNTRY_INFO!A97=0,\" \",COUNTRY_INFO!A97))","v":"Cameroun"},{"$f":"IF(AND(INTRO!$E$37=\"Non-endemic\",INTRO!$E$41=\"Non-endemic\"),\" \",IF(COUNTRY_INFO!B97=0,\" \",COUNTRY_INFO!B97))","v":"Extreme Nord"},{"$f":"IF(AND(INTRO!$E$37=\"Non-endemic\",INTRO!$E$41=\"Non-endemic\"),\" \",IF(COUNTRY_INFO!C97=0,\" \",COUNTRY_INFO!C97))","v":"Tokombere"},{"$f":"IF(AND(INTRO!$E$37=\"Non-endemic\",INTRO!$E$41=\"Non-endemic\"),0,COUNTRY_INFO!W97)","v":0},{"$f":"IF(AND(INTRO!$E$37=\"Non-endemic\",INTRO!$E$41=\"Non-endemic\"),0,COUNTRY_INFO!Y97)","v":1},{"$f":"IF($D97=1,IVM!G97,0)","v":0},{"$f":"IF($D97=0, \" \", IF(COUNTRY_INFO!$H97=1, IF(COUNTRY_INFO!$L97=1, 0,\" \"),\" \"))","v":" "},null,1,48017.826000000001,43721,null,0,91739,0,null,0,0,null,0,91739,null,91739]
[{"$f":"IF(AND(INTRO!$E$37=\"Non-endemic\",INTRO!$E$41=\"Non-endemic\"),\" \",IF(COUNTRY_INFO!A98=0,\" \",COUNTRY_INFO!A98))","v":"Cameroun"},{"$f":"IF(AND(INTRO!$E$37=\"Non-endemic\",INTRO!$E$41=\"Non-endemic\"),\" \",IF(COUNTRY_INFO!B98=0,\" \",COUNTRY_INFO!B98))","v":"Extreme Nord"},{"$f":"IF(AND(INTRO!$E$37=\"Non-endemic\",INTRO!$E$41=\"Non-endemic\"),\" \",IF(COUNTRY_INFO!C98=0,\" \",COUNTRY_INFO!C98))","v":"Vele"},{"$f":"IF(AND(INTRO!$E$37=\"Non-endemic\",INTRO!$E$41=\"Non-endemic\"),0,COUNTRY_INFO!W98)","v":0},{"$f":"IF(AND(INTRO!$E$37=\"Non-endemic\",INTRO!$E$41=\"Non-endemic\"),0,COUNTRY_INFO!Y98)","v":1},{"$f":"IF($D98=1,IVM!G98,0)","v":0},{"$f":"IF($D98=0, \" \", IF(COUNTRY_INFO!$H98=1, IF(COUNTRY_INFO!$L98=1, 0,\" \"),\" \"))","v":" "},null,1,53906.04,45078,null,0,98984,0,null,0,0,null,0,98984,null,98984]
[{"$f":"IF(AND(INTRO!$E$37=\"Non-endemic\",INTRO!$E$41=\"Non-endemic\"),\" \",IF(COUNTRY_INFO!A99=0,\" \",COUNTRY_INFO!A99))","v":"Cameroun"},{"$f":"IF(AND(INTRO!$E$37=\"Non-endemic\",INTRO!$E$41=\"Non-endemic\"),\" \",IF(COUNTRY_INFO!B99=0,\" \",COUNTRY_INFO!B99))","v":"Extreme Nord"},{"$f":"IF(AND(INTRO!$E$37=\"Non-endemic\",INTRO!$E$41=\"Non-endemic\"),\" \",IF(COUNTRY_INFO!C99=0,\" \",COUNTRY_INFO!C99))","v":"Yagoua"},{"$f":"IF(AND(INTRO!$E$37=\"Non-endemic\",INTRO!$E$41=\"Non-endemic\"),0,COUNTRY_INFO!W99)","v":0},{"$f":"IF(AND(INTRO!$E$37=\"Non-endemic\",INTRO!$E$41=\"Non-endemic\"),0,COUNTRY_INFO!Y99)","v":1},{"$f":"IF($D99=1,IVM!G99,0)","v":0},{"$f":"IF($D99=0, \" \", IF(COUNTRY_INFO!$H99=1, IF(COUNTRY_INFO!$L99=1, 0,\" \"),\" \"))","v":" "},null,1,77437.350000000006,73295,null,25225,175957,0,null,0,0,null,0,175957,null,175957]
[{"$f":"IF(AND(INTRO!$E$37=\"Non-endemic\",INTRO!$E$41=\"Non-endemic\"),\" \",IF(COUNTRY_INFO!A100=0,\" \",COUNTRY_INFO!A100))","v":"Cameroun"},{"$f":"IF(AND(INTRO!$E$37=\"Non-endemic\",INTRO!$E$41=\"Non-endemic\"),\" \",IF(COUNTRY_INFO!B100=0,\" \",COUNTRY_INFO!B100))","v":"Littoral"},{"$f":"IF(AND(INTRO!$E$37=\"Non-endemic\",INTRO!$E$41=\"Non-endemic\"),\" \",IF(COUNTRY_INFO!C100=0,\" \",COUNTRY_INFO!C100))","v":"Abo"},{"$f":"IF(AND(INTRO!$E$37=\"Non-endemic\",INTRO!$E$41=\"Non-endemic\"),0,COUNTRY_INFO!W100)","v":0},{"$f":"IF(AND(INTRO!$E$37=\"Non-endemic\",INTRO!$E$41=\"Non-endemic\"),0,COUNTRY_INFO!Y100)","v":1},{"$f":"IF($D100=1,IVM!G100,0)","v":0},{"$f":"IF($D100=0, \" \", IF(COUNTRY_INFO!$H100=1, IF(COUNTRY_INFO!$L100=1, 0,\" \"),\" \"))","v":" "},null,1,4483.62,8698,null,2847,16029,0,null,0,0,null,0,16029,null,16029]
[{"$f":"IF(AND(INTRO!$E$37=\"Non-endemic\",INTRO!$E$41=\"Non-endemic\"),\" \",IF(COUNTRY_INFO!A101=0,\" \",COUNTRY_INFO!A101))","v":"Cameroun"},{"$f":"IF(AND(INTRO!$E$37=\"Non-endemic\",INTRO!$E$41=\"Non-endemic\"),\" \",IF(COUNTRY_INFO!B101=0,\" \",COUNTRY_INFO!B101))","v":"Littoral"},{"$f":"IF(AND(INTRO!$E$37=\"Non-endemic\",INTRO!$E$41=\"Non-endemic\"),\" \",IF(COUNTRY_INFO!C101=0,\" \",COUNTRY_INFO!C101))","v":"Bangue"},{"$f":"IF(AND(INTRO!$E$37=\"Non-endemic\",INTRO!$E$41=\"Non-endemic\"),0,COUNTRY_INFO!W101)","v":0},{"$f":"IF(AND(INTRO!$E$37=\"Non-endemic\",INTRO!$E$41=\"Non-endemic\"),0,COUNTRY_INFO!Y101)","v":0},{"$f":"IF($D101=1,IVM!G101,0)","v":0},{"$f":"IF($D101=0, \" \", IF(COUNTRY_INFO!$H101=1, IF(COUNTRY_INFO!$L101=1, 0,\" \"),\" \"))","v":" "},null,1,35514.99,101177,null,36567,173259,0,null,0,0,null,0,173259,null,173259]
[{"$f":"IF(AND(INTRO!$E$37=\"Non-endemic\",INTRO!$E$41=\"Non-endemic\"),\" \",IF(COUNTRY_INFO!A102=0,\" \",COUNTRY_INFO!A102))","v":"Cameroun"},{"$f":"IF(AND(INTRO!$E$37=\"Non-endemic\",INTRO!$E$41=\"Non-endemic\"),\" \",IF(COUNTRY_INFO!B102=0,\" \",COUNTRY_INFO!B102))","v":"Littoral"},{"$f":"IF(AND(INTRO!$E$37=\"Non-endemic\",INTRO!$E$41=\"Non-endemic\"),\" \",IF(COUNTRY_INFO!C102=0,\" \",COUNTRY_INFO!C102))","v":"Boko"},{"$f":"IF(AND(INTRO!$E$37=\"Non-endemic\",INTRO!$E$41=\"Non-endemic\"),0,COUNTRY_INFO!W102)","v":0},{"$f":"IF(AND(INTRO!$E$37=\"Non-endemic\",INTRO!$E$41=\"Non-endemic\"),0,COUNTRY_INFO!Y102)","v":0},{"$f":"IF($D102=1,IVM!G102,0)","v":0},{"$f":"IF($D102=0, \" \", IF(COUNTRY_INFO!$H102=1, IF(COUNTRY_INFO!$L102=1, 0,\" \"),\" \"))","v":" "},null,1,55343.466,119032,null,0,174375,0,null,0,0,null,0,174375,null,174375]
[{"$f":"IF(AND(INTRO!$E$37=\"Non-endemic\",INTRO!$E$41=\"Non-endemic\"),\" \",IF(COUNTRY_INFO!A103=0,\" \",COUNTRY_INFO!A103))","v":"Cameroun"},{"$f":"IF(AND(INTRO!$E$37=\"Non-endemic\",INTRO!$E$41=\"Non-endemic\"),\" \",IF(COUNTRY_INFO!B103=0,\" \",COUNTRY_INFO!B103))","v":"Littoral"},{"$f":"IF(AND(INTRO!$E$37=\"Non-endemic\",INTRO!$E$41=\"Non-endemic\"),\" \",IF(COUNTRY_INFO!C103=0,\" \",COUNTRY_INFO!C103))","v":"Bonassama"},{"$f":"IF(AND(INTRO!$E$37=\"Non-endemic\",INTRO!$E$41=\"Non-endemic\"),0,COUNTRY_INFO!W103)","v":0},{"$f":"IF(AND(INTRO!$E$37=\"Non-endemic\",INTRO!$E$41=\"Non-endemic\"),0,COUNTRY_INFO!Y103)","v":0},{"$f":"IF($D103=1,IVM!G103,0)","v":0},{"$f":"IF($D103=0, \" \", IF(COUNTRY_INFO!$H103=1, IF(COUNTRY_INFO!$L103=1, 0,\" \"),\" \"))","v":" "},null,1,28697.22,94148,null,0,122845,0,null,0,0,null,0,122845,null,122845]
[{"$f":"IF(AND(INTRO!$E$37=\"Non-endemic\",INTRO!$E$41=\"Non-endemic\"),\" \",IF(COUNTRY_INFO!A104=0,\" \",COUNTRY_INFO!A104))","v":"Cameroun"},{"$f":"IF(AND(INTRO!$E$37=\"Non-endemic\",INTRO!$E$41=\"Non-endemic\"),\" \",IF(COUNTRY_INFO!B104=0,\" \",COUNTRY_INFO!B104))","v":"Littoral"},{"$f":"IF(AND(INTRO!$E$37=\"Non-endemic\",INTRO!$E$41=\"Non-endemic\"),\" \",IF(COUNTRY_INFO!C104=0,\" \",COUNTRY_INFO!C104))","v":"Cite Des Palmiers"},{"$f":"IF(AND(INTRO!$E$37=\"Non-endemic\",INTRO!$E$41=\"Non-endemic\"),0,COUNTRY_INFO!W104)","v":0},{"$f":"IF(AND(INTRO!$E$37=\"Non-endemic\",INTRO!$E$41=\"Non-endemic\"),0,COUNTRY_INFO!Y104)","v":0},{"$f":"IF($D104=1,IVM!G104,0)","v":0},{"$f":"IF($D104=0, \" \", IF(COUNTRY_INFO!$H104=1, IF(COUNTRY_INFO!$L104=1, 0,\" \"),\" \"))","v":" "},null,1,63211.86,173310,null,0,236522,0,null,0,0,null,0,236522,null,236522]
[{"$f":"IF(AND(INTRO!$E$37=\"Non-endemic\",INTRO!$E$41=\"Non-endemic\"),\" \",IF(COUNTRY_INFO!A105=0,\" \",COUNTRY_INFO!A105))","v":"Cameroun"},{"$f":"IF(AND(INTRO!$E$37=\"Non-endemic\",INTRO!$E$41=\"Non-endemic\"),\" \",IF(COUNTRY_INFO!B105=0,\" \",COUNTRY_INFO!B105))","v":"Littoral"},{"$f":"IF(AND(INTRO!$E$37=\"Non-endemic\",INTRO!$E$41=\"Non-endemic\"),\" \",IF(COUNTRY_INFO!C105=0,\" \",COUNTRY_INFO!C105))","v":"Deido"},{"$f":"IF(AND(INTRO!$E$37=\"Non-endemic\",INTRO!$E$41=\"Non-endemic\"),0,COUNTRY_INFO!W105)","v":0},{"$f":"IF(AND(INTRO!$E$37=\"Non-endemic\",INTRO!$E$41=\"Non-endemic\"),0,COUNTRY_INFO!Y105)","v":0},{"$f":"IF($D105=1,IVM!G105,0)","v":0},{"$f":"IF($D105=0, \" \", IF(COUNTRY_INFO!$H105=1, IF(COUNTRY_INFO!$L105=1, 0,\" \"),\" \"))","v":" "},null,1,7047.5940000000001,12362,null,0,19410,0,null,0,0,null,0,19410,null,19410]
[{"$f":"IF(AND(INTRO!$E$37=\"Non-endemic\",INTRO!$E$41=\"Non-endemic\"),\" \",IF(COUNTRY_INFO!A106=0,\" \",COUNTRY_INFO!A106))","v":"Cameroun"},{"$f":"IF(AND(INTRO!$E$37=\"Non-endemic\",INTRO!$E$41=\"Non-endemic\"),\" \",IF(COUNTRY_INFO!B106=0,\" \",COUNTRY_INFO!B106))","v":"Littoral"},{"$f":"IF(AND(INTRO!$E$37=\"Non-endemic\",INTRO!$E$41=\"Non-endemic\"),\" \",IF(COUNTRY_INFO!C106=0,\" \",COUNTRY_INFO!C106))","v":"Dibombari"},{"$f":"IF(AND(INTRO!$E$37=\"Non-endemic\",INTRO!$E$41=\"Non-endemic\"),0,COUNTRY_INFO!W106)","v":0},{"$f":"IF(AND(INTRO!$E$37=\"Non-endemic\",INTRO!$E$41=\"Non-endemic\"),0,COUNTRY_INFO!Y106)","v":1},{"$f":"IF($D106=1,IVM!G106,0)","v":0},{"$f":"IF($D106=0, \" \", IF(COUNTRY_INFO!$H106=1, IF(COUNTRY_INFO!$L106=1, 0,\" \"),\" \"))","v":" "},null,1,19627.38,51874,null,0,71501,0,null,0,0,null,0,71501,null,71501]
[{"$f":"IF(AND(INTRO!$E$37=\"Non-endemic\",INTRO!$E$41=\"Non-endemic\"),\" \",IF(COUNTRY_INFO!A107=0,\" \",COUNTRY_INFO!A107))","v":"Cameroun"},{"$f":"IF(AND(INTRO!$E$37=\"Non-endemic\",INTRO!$E$41=\"Non-endemic\"),\" \",IF(COUNTRY_INFO!B107=0,\" \",COUNTRY_INFO!B107))","v":"Littoral"},{"$f":"IF(AND(INTRO!$E$37=\"Non-endemic\",INTRO!$E$41=\"Non-endemic\"),\" \",IF(COUNTRY_INFO!C107=0,\" \",COUNTRY_INFO!C107))","v":"Edea"},{"$f":"IF(AND(INTRO!$E$37=\"Non-endemic\",INTRO!$E$41=\"Non-endemic\"),0,COUNTRY_INFO!W107)","v":0},{"$f":"IF(AND(INTRO!$E$37=\"Non-endemic\",INTRO!$E$41=\"Non-endemic\"),0,COUNTRY_INFO!Y107)","v":1},{"$f":"IF($D107=1,IVM!G107,0)","v":0},{"$f":"IF($D107=0, \" \", IF(COUNTRY_INFO!$H107=1, IF(COUNTRY_INFO!$L107=1, 0,\" \"),\" \"))","v":" "},null,1,21319.254000000001,50593,null,16977,88889,0,null,0,0,null,0,88889,null,88889]
[{"$f":"IF(AND(INTRO!$E$37=\"Non-endemic\",INTRO!$E$41=\"Non-endemic\"),\" \",IF(COUNTRY_INFO!A108=0,\" \",COUNTRY_INFO!A108))","v":"Cameroun"},{"$f":"IF(AND(INTRO!$E$37=\"Non-endemic\",INTRO!$E$41=\"Non-endemic\"),\" \",IF(COUNTRY_INFO!B108=0,\" \",COUNTRY_INFO!B108))","v":"Littoral"},{"$f":"IF(AND(INTRO!$E$37=\"Non-endemic\",INTRO!$E$41=\"Non-endemic\"),\" \",IF(COUNTRY_INFO!C108=0,\" \",COUNTRY_INFO!C108))","v":"Japoma"},{"$f":"IF(AND(INTRO!$E$37=\"Non-endemic\",INTRO!$E$41=\"Non-endemic\"),0,COUNTRY_INFO!W108)","v":0},{"$f":"IF(AND(INTRO!$E$37=\"Non-endemic\",INTRO!$E$41=\"Non-endemic\"),0,COUNTRY_INFO!Y108)","v":1},{"$f":"IF($D108=1,IVM!G108,0)","v":0},{"$f":"IF($D108=0, \" \", IF(COUNTRY_INFO!$H108=1, IF(COUNTRY_INFO!$L108=1, 0,\" \"),\" \"))","v":" "},null,1,29834.028000000002,75730,null,17298,122862,0,null,0,0,null,0,122862,null,122862]
[{"$f":"IF(AND(INTRO!$E$37=\"Non-endemic\",INTRO!$E$41=\"Non-endemic\"),\" \",IF(COUNTRY_INFO!A109=0,\" \",COUNTRY_INFO!A109))","v":"Cameroun"},{"$f":"IF(AND(INTRO!$E$37=\"Non-endemic\",INTRO!$E$41=\"Non-endemic\"),\" \",IF(COUNTRY_INFO!B109=0,\" \",COUNTRY_INFO!B109))","v":"Littoral"},{"$f":"IF(AND(INTRO!$E$37=\"Non-endemic\",INTRO!$E$41=\"Non-endemic\"),\" \",IF(COUNTRY_INFO!C109=0,\" \",COUNTRY_INFO!C109))","v":"Logbaba"},{"$f":"IF(AND(INTRO!$E$37=\"Non-endemic\",INTRO!$E$41=\"Non-endemic\"),0,COUNTRY_INFO!W109)","v":0},{"$f":"IF(AND(INTRO!$E$37=\"Non-endemic\",INTRO!$E$41=\"Non-endemic\"),0,COUNTRY_INFO!Y109)","v":0},{"$f":"IF($D109=1,IVM!G109,0)","v":0},{"$f":"IF($D109=0, \" \", IF(COUNTRY_INFO!$H109=1, IF(COUNTRY_INFO!$L109=1, 0,\" \"),\" \"))","v":" "},null,1,12558.24,20374,null,0,32932,0,null,0,0,null,0,32932,null,32932]
[{"$f":"IF(AND(INTRO!$E$37=\"Non-endemic\",INTRO!$E$41=\"Non-endemic\"),\" \",IF(COUNTRY_INFO!A110=0,\" \",COUNTRY_INFO!A110))","v":"Cameroun"},{"$f":"IF(AND(INTRO!$E$37=\"Non-endemic\",INTRO!$E$41=\"Non-endemic\"),\" \",IF(COUNTRY_INFO!B110=0,\" \",COUNTRY_INFO!B110))","v":"Littoral"},{"$f":"IF(AND(INTRO!$E$37=\"Non-endemic\",INTRO!$E$41=\"Non-endemic\"),\" \",IF(COUNTRY_INFO!C110=0,\" \",COUNTRY_INFO!C110))","v":"Loum"},{"$f":"IF(AND(INTRO!$E$37=\"Non-endemic\",INTRO!$E$41=\"Non-endemic\"),0,COUNTRY_INFO!W110)","v":0},{"$f":"IF(AND(INTRO!$E$37=\"Non-endemic\",INTRO!$E$41=\"Non-endemic\"),0,COUNTRY_INFO!Y110)","v":1},{"$f":"IF($D110=1,IVM!G110,0)","v":0},{"$f":"IF($D110=0, \" \", IF(COUNTRY_INFO!$H110=1, IF(COUNTRY_INFO!$L110=1, 0,\" \"),\" \"))","v":" "},null,1,7075.2960000000003,11801,null,6668,25544,0,null,0,0,null,0,25544,null,25544]
[{"$f":"IF(AND(INTRO!$E$37=\"Non-endemic\",INTRO!$E$41=\"Non-endemic\"),\" \",IF(COUNTRY_INFO!A111=0,\" \",COUNTRY_INFO!A111))","v":"Cameroun"},{"$f":"IF(AND(INTRO!$E$37=\"Non-endemic\",INTRO!$E$41=\"Non-endemic\"),\" \",IF(COUNTRY_INFO!B111=0,\" \",COUNTRY_INFO!B111))","v":"Littoral"},{"$f":"IF(AND(INTRO!$E$37=\"Non-endemic\",INTRO!$E$41=\"Non-endemic\"),\" \",IF(COUNTRY_INFO!C111=0,\" \",COUNTRY_INFO!C111))","v":"Manjo"},{"$f":"IF(AND(INTRO!$E$37=\"Non-endemic\",INTRO!$E$41=\"Non-endemic\"),0,COUNTRY_INFO!W111)","v":0},{"$f":"IF(AND(INTRO!$E$37=\"Non-endemic\",INTRO!$E$41=\"Non-endemic\"),0,COUNTRY_INFO!Y111)","v":1},{"$f":"IF($D111=1,IVM!G111,0)","v":0},{"$f":"IF($D111=0, \" \", IF(COUNTRY_INFO!$H111=1, IF(COUNTRY_INFO!$L111=1, 0,\" \"),\" \"))","v":" "},null,1,2380.3200000000002,8776,null,3862,15018,0,null,0,0,null,0,15018,null,15018]
[{"$f":"IF(AND(INTRO!$E$37=\"Non-endemic\",INTRO!$E$41=\"Non-endemic\"),\" \",IF(COUNTRY_INFO!A112=0,\" \",COUNTRY_INFO!A112))","v":"Cameroun"},{"$f":"IF(AND(INTRO!$E$37=\"Non-endemic\",INTRO!$E$41=\"Non-endemic\"),\" \",IF(COUNTRY_INFO!B112=0,\" \",COUNTRY_INFO!B112))","v":"Littoral"},{"$f":"IF(AND(INTRO!$E$37=\"Non-endemic\",INTRO!$E$41=\"Non-endemic\"),\" \",IF(COUNTRY_INFO!C112=0,\" \",COUNTRY_INFO!C112))","v":"Manoka"},{"$f":"IF(AND(INTRO!$E$37=\"Non-endemic\",INTRO!$E$41=\"Non-endemic\"),0,COUNTRY_INFO!W112)","v":0},{"$f":"IF(AND(INTRO!$E$37=\"Non-endemic\",INTRO!$E$41=\"Non-endemic\"),0,COUNTRY_INFO!Y112)","v":1},{"$f":"IF($D112=1,IVM!G112,0)","v":0},{"$f":"IF($D112=0, \" \", IF(COUNTRY_INFO!$H112=1, IF(COUNTRY_INFO!$L112=1, 0,\" \"),\" \"))","v":" "},null,1,11949.822,23753,null,2872,38575,0,null,0,0,null,0,38575,null,38575]
[{"$f":"IF(AND(INTRO!$E$37=\"Non-endemic\",INTRO!$E$41=\"Non-endemic\"),\" \",IF(COUNTRY_INFO!A113=0,\" \",COUNTRY_INFO!A113))","v":"Cameroun"},{"$f":"IF(AND(INTRO!$E$37=\"Non-endemic\",INTRO!$E$41=\"Non-endemic\"),\" \",IF(COUNTRY_INFO!B113=0,\" \",COUNTRY_INFO!B113))","v":"Littoral"},{"$f":"IF(AND(INTRO!$E$37=\"Non-endemic\",INTRO!$E$41=\"Non-endemic\"),\" \",IF(COUNTRY_INFO!C113=0,\" \",COUNTRY_INFO!C113))","v":"Mbanga"},{"$f":"IF(AND(INTRO!$E$37=\"Non-endemic\",INTRO!$E$41=\"Non-endemic\"),0,COUNTRY_INFO!W113)","v":0},{"$f":"IF(AND(INTRO!$E$37=\"Non-endemic\",INTRO!$E$41=\"Non-endemic\"),0,COUNTRY_INFO!Y113)","v":1},{"$f":"IF($D113=1,IVM!G113,0)","v":0},{"$f":"IF($D113=0, \" \", IF(COUNTRY_INFO!$H113=1, IF(COUNTRY_INFO!$L113=1, 0,\" \"),\" \"))","v":" "},null,1,34077.563999999998,106948,null,7774,148800,0,null,0,0,null,0,148800,null,148800]
[{"$f":"IF(AND(INTRO!$E$37=\"Non-endemic\",INTRO!$E$41=\"Non-endemic\"),\" \",IF(COUNTRY_INFO!A114=0,\" \",COUNTRY_INFO!A114))","v":"Cameroun"},{"$f":"IF(AND(INTRO!$E$37=\"Non-endemic\",INTRO!$E$41=\"Non-endemic\"),\" \",IF(COUNTRY_INFO!B114=0,\" \",COUNTRY_INFO!B114))","v":"Littoral"},{"$f":"IF(AND(INTRO!$E$37=\"Non-endemic\",INTRO!$E$41=\"Non-endemic\"),\" \",IF(COUNTRY_INFO!C114=0,\" \",COUNTRY_INFO!C114))","v":"Melong"},{"$f":"IF(AND(INTRO!$E$37=\"Non-endemic\",INTRO!$E$41=\"Non-endemic\"),0,COUNTRY_INFO!W114)","v":0},{"$f":"IF(AND(INTRO!$E$37=\"Non-endemic\",INTRO!$E$41=\"Non-endemic\"),0,COUNTRY_INFO!Y114)","v":1},{"$f":"IF($D114=1,IVM!G114,0)","v":0},{"$f":"IF($D114=0, \" \", IF(COUNTRY_INFO!$H114=1, IF(COUNTRY_INFO!$L114=1, 0,\" \"),\" \"))","v":" "},null,1,16458.065999999999,31923,null,10448,58829,0,null,0,0,null,0,58829,null,58829]
[{"$f":"IF(AND(INTRO!$E$37=\"Non-endemic\",INTRO!$E$41=\"Non-endemic\"),\" \",IF(COUNTRY_INFO!A115=0,\" \",COUNTRY_INFO!A115))","v":"Cameroun"},{"$f":"IF(AND(INTRO!$E$37=\"Non-endemic\",INTRO!$E$41=\"Non-endemic\"),\" \",IF(COUNTRY_INFO!B115=0,\" \",COUNTRY_INFO!B115))","v":"Littoral"},{"$f":"IF(AND(INTRO!$E$37=\"Non-endemic\",INTRO!$E$41=\"Non-endemic\"),\" \",IF(COUNTRY_INFO!C115=0,\" \",COUNTRY_INFO!C115))","v":"Ndom"},{"$f":"IF(AND(INTRO!$E$37=\"Non-endemic\",INTRO!$E$41=\"Non-endemic\"),0,COUNTRY_INFO!W115)","v":0},{"$f":"IF(AND(INTRO!$E$37=\"Non-endemic\",INTRO!$E$41=\"Non-endemic\"),0,COUNTRY_INFO!Y115)","v":1},{"$f":"IF($D115=1,IVM!G115,0)","v":0},{"$f":"IF($D115=0, \" \", IF(COUNTRY_INFO!$H115=1, IF(COUNTRY_INFO!$L115=1, 0,\" \"),\" \"))","v":" "},null,1,3505.8420000000001,7831,null,0,11337,0,null,0,0,null,0,11337,null,11337]
[{"$f":"IF(AND(INTRO!$E$37=\"Non-endemic\",INTRO!$E$41=\"Non-endemic\"),\" \",IF(COUNTRY_INFO!A116=0,\" \",COUNTRY_INFO!A116))","v":"Cameroun"},{"$f":"IF(AND(INTRO!$E$37=\"Non-endemic\",INTRO!$E$41=\"Non-endemic\"),\" \",IF(COUNTRY_INFO!B116=0,\" \",COUNTRY_INFO!B116))","v":"Littoral"},{"$f":"IF(AND(INTRO!$E$37=\"Non-endemic\",INTRO!$E$41=\"Non-endemic\"),\" \",IF(COUNTRY_INFO!C116=0,\" \",COUNTRY_INFO!C116))","v":"New Bell"},{"$f":"IF(AND(INTRO!$E$37=\"Non-endemic\",INTRO!$E$41=\"Non-endemic\"),0,COUNTRY_INFO!W116)","v":0},{"$f":"IF(AND(INTRO!$E$37=\"Non-endemic\",INTRO!$E$41=\"Non-endemic\"),0,COUNTRY_INFO!Y116)","v":0},{"$f":"IF($D116=1,IVM!G116,0)","v":0},{"$f":"IF($D116=0, \" \", IF(COUNTRY_INFO!$H116=1, IF(COUNTRY_INFO!$L116=1, 0,\" \"),\" \"))","v":" "},null,1,34359.714,87700,null,0,122060,0,null,0,0,null,0,122060,null,122060]
[{"$f":"IF(AND(INTRO!$E$37=\"Non-endemic\",INTRO!$E$41=\"Non-endemic\"),\" \",IF(COUNTRY_INFO!A117=0,\" \",COUNTRY_INFO!A117))","v":"Cameroun"},{"$f":"IF(AND(INTRO!$E$37=\"Non-endemic\",INTRO!$E$41=\"Non-endemic\"),\" \",IF(COUNTRY_INFO!B117=0,\" \",COUNTRY_INFO!B117))","v":"Littoral"},{"$f":"IF(AND(INTRO!$E$37=\"Non-endemic\",INTRO!$E$41=\"Non-endemic\"),\" \",IF(COUNTRY_INFO!C117=0,\" \",COUNTRY_INFO!C117))","v":"Ngambe"},{"$f":"IF(AND(INTRO!$E$37=\"Non-endemic\",INTRO!$E$41=\"Non-endemic\"),0,COUNTRY_INFO!W117)","v":0},{"$f":"IF(AND(INTRO!$E$37=\"Non-endemic\",INTRO!$E$41=\"Non-endemic\"),0,COUNTRY_INFO!Y117)","v":1},{"$f":"IF($D117=1,IVM!G117,0)","v":0},{"$f":"IF($D117=0, \" \", IF(COUNTRY_INFO!$H117=1, IF(COUNTRY_INFO!$L117=1, 0,\" \"),\" \"))","v":" "},null,1,2084.8319999999999,4299,null,0,6384,0,null,0,0,null,0,6384,null,6384]
[{"$f":"IF(AND(INTRO!$E$37=\"Non-endemic\",INTRO!$E$41=\"Non-endemic\"),\" \",IF(COUNTRY_INFO!A118=0,\" \",COUNTRY_INFO!A118))","v":"Cameroun"},{"$f":"IF(AND(INTRO!$E$37=\"Non-endemic\",INTRO!$E$41=\"Non-endemic\"),\" \",IF(COUNTRY_INFO!B118=0,\" \",COUNTRY_INFO!B118))","v":"Littoral"},{"$f":"IF(AND(INTRO!$E$37=\"Non-endemic\",INTRO!$E$41=\"Non-endemic\"),\" \",IF(COUNTRY_INFO!C118=0,\" \",COUNTRY_INFO!C118))","v":"Njombe Penja"},{"$f":"IF(AND(INTRO!$E$37=\"Non-endemic\",INTRO!$E$41=\"Non-endemic\"),0,COUNTRY_INFO!W118)","v":0},{"$f":"IF(AND(INTRO!$E$37=\"Non-endemic\",INTRO!$E$41=\"Non-endemic\"),0,COUNTRY_INFO!Y118)","v":1},{"$f":"IF($D118=1,IVM!G118,0)","v":0},{"$f":"IF($D118=0, \" \", IF(COUNTRY_INFO!$H118=1, IF(COUNTRY_INFO!$L118=1, 0,\" \"),\" \"))","v":" "},null,1,11231.621999999999,16746,null,5481,33459,0,null,0,0,null,0,33459,null,33459]
[{"$f":"IF(AND(INTRO!$E$37=\"Non-endemic\",INTRO!$E$41=\"Non-endemic\"),\" \",IF(COUNTRY_INFO!A119=0,\" \",COUNTRY_INFO!A119))","v":"Cameroun"},{"$f":"IF(AND(INTRO!$E$37=\"Non-endemic\",INTRO!$E$41=\"Non-endemic\"),\" \",IF(COUNTRY_INFO!B119=0,\" \",COUNTRY_INFO!B119))","v":"Littoral"},{"$f":"IF(AND(INTRO!$E$37=\"Non-endemic\",INTRO!$E$41=\"Non-endemic\"),\" \",IF(COUNTRY_INFO!C119=0,\" \",COUNTRY_INFO!C119))","v":"Nkondjock"},{"$f":"IF(AND(INTRO!$E$37=\"Non-endemic\",INTRO!$E$41=\"Non-endemic\"),0,COUNTRY_INFO!W119)","v":0},{"$f":"IF(AND(INTRO!$E$37=\"Non-endemic\",INTRO!$E$41=\"Non-endemic\"),0,COUNTRY_INFO!Y119)","v":1},{"$f":"IF($D119=1,IVM!G119,0)","v":0},{"$f":"IF($D119=0, \" \", IF(COUNTRY_INFO!$H119=1, IF(COUNTRY_INFO!$L119=1, 0,\" \"),\" \"))","v":" "},null,1,4486.6980000000003,7596,null,0,12083,0,null,0,0,null,0,12083,null,12083]
[{"$f":"IF(AND(INTRO!$E$37=\"Non-endemic\",INTRO!$E$41=\"Non-endemic\"),\" \",IF(COUNTRY_INFO!A120=0,\" \",COUNTRY_INFO!A120))","v":"Cameroun"},{"$f":"IF(AND(INTRO!$E$37=\"Non-endemic\",INTRO!$E$41=\"Non-endemic\"),\" \",IF(COUNTRY_INFO!B120=0,\" \",COUNTRY_INFO!B120))","v":"Littoral"},{"$f":"IF(AND(INTRO!$E$37=\"Non-endemic\",INTRO!$E$41=\"Non-endemic\"),\" \",IF(COUNTRY_INFO!C120=0,\" \",COUNTRY_INFO!C120))","v":"Nkongsamba"},{"$f":"IF(AND(INTRO!$E$37=\"Non-endemic\",INTRO!$E$41=\"Non-endemic\"),0,COUNTRY_INFO!W120)","v":0},{"$f":"IF(AND(INTRO!$E$37=\"Non-endemic\",INTRO!$E$41=\"Non-endemic\"),0,COUNTRY_INFO!Y120)","v":1},{"$f":"IF($D120=1,IVM!G120,0)","v":0},{"$f":"IF($D120=0, \" \", IF(COUNTRY_INFO!$H120=1, IF(COUNTRY_INFO!$L120=1, 0,\" \"),\" \"))","v":" "},null,1,16024.068000000001,34455,null,0,50479,0,null,0,0,null,0,50479,null,50479]
[{"$f":"IF(AND(INTRO!$E$37=\"Non-endemic\",INTRO!$E$41=\"Non-endemic\"),\" \",IF(COUNTRY_INFO!A121=0,\" \",COUNTRY_INFO!A121))","v":"Cameroun"},{"$f":"IF(AND(INTRO!$E$37=\"Non-endemic\",INTRO!$E$41=\"Non-endemic\"),\" \",IF(COUNTRY_INFO!B121=0,\" \",COUNTRY_INFO!B121))","v":"Littoral"},{"$f":"IF(AND(INTRO!$E$37=\"Non-endemic\",INTRO!$E$41=\"Non-endemic\"),\" \",IF(COUNTRY_INFO!C121=0,\" \",COUNTRY_INFO!C121))","v":"Nylon"},{"$f":"IF(AND(INTRO!$E$37=\"Non-endemic\",INTRO!$E$41=\"Non-endemic\"),0,COUNTRY_INFO!W121)","v":0},{"$f":"IF(AND(INTRO!$E$37=\"Non-endemic\",INTRO!$E$41=\"Non-endemic\"),0,COUNTRY_INFO!Y121)","v":0},{"$f":"IF($D121=1,IVM!G121,0)","v":0},{"$f":"IF($D121=0, \" \", IF(COUNTRY_INFO!$H121=1, IF(COUNTRY_INFO!$L121=1, 0,\" \"),\" \"))","v":" "},null,1,50965.523999999998,125210,null,0,176176,0,null,0,0,null,0,176176,null,176176]
[{"$f":"IF(AND(INTRO!$E$37=\"Non-endemic\",INTRO!$E$41=\"Non-endemic\"),\" \",IF(COUNTRY_INFO!A122=0,\" \",COUNTRY_INFO!A122))","v":"Cameroun"},{"$f":"IF(AND(INTRO!$E$37=\"Non-endemic\",INTRO!$E$41=\"Non-endemic\"),\" \",IF(COUNTRY_INFO!B122=0,\" \",COUNTRY_INFO!B122))","v":"Littoral"},{"$f":"IF(AND(INTRO!$E$37=\"Non-endemic\",INTRO!$E$41=\"Non-endemic\"),\" \",IF(COUNTRY_INFO!C122=0,\" \",COUNTRY_INFO!C122))","v":"Pouma"},{"$f":"IF(AND(INTRO!$E$37=\"Non-endemic\",INTRO!$E$41=\"Non-endemic\"),0,COUNTRY_INFO!W122)","v":0},{"$f":"IF(AND(INTRO!$E$37=\"Non-endemic\",INTRO!$E$41=\"Non-endemic\"),0,COUNTRY_INFO!Y122)","v":1},{"$f":"IF($D122=1,IVM!G122,0)","v":0},{"$f":"IF($D122=0, \" \", IF(COUNTRY_INFO!$H122=1, IF(COUNTRY_INFO!$L122=1, 0,\" \"),\" \"))","v":" "},null,1,2359.8000000000002,5844,null,1912,10116,0,null,0,0,null,0,10116,null,10116]
[{"$f":"IF(AND(INTRO!$E$37=\"Non-endemic\",INTRO!$E$41=\"Non-endemic\"),\" \",IF(COUNTRY_INFO!A123=0,\" \",COUNTRY_INFO!A123))","v":"Cameroun"},{"$f":"IF(AND(INTRO!$E$37=\"Non-endemic\",INTRO!$E$41=\"Non-endemic\"),\" \",IF(COUNTRY_INFO!B123=0,\" \",COUNTRY_INFO!B123))","v":"Littoral"},{"$f":"IF(AND(INTRO!$E$37=\"Non-endemic\",INTRO!$E$41=\"Non-endemic\"),\" \",IF(COUNTRY_INFO!C123=0,\" \",COUNTRY_INFO!C123))","v":"Yabassi"},{"$f":"IF(AND(INTRO!$E$37=\"Non-endemic\",INTRO!$E$41=\"Non-endemic\"),0,COUNTRY_INFO!W123)","v":0},{"$f":"IF(AND(INTRO!$E$37=\"Non-endemic\",INTRO!$E$41=\"Non-endemic\"),0,COUNTRY_INFO!Y123)","v":1},{"$f":"IF($D123=1,IVM!G123,0)","v":0},{"$f":"IF($D123=0, \" \", IF(COUNTRY_INFO!$H123=1, IF(COUNTRY_INFO!$L123=1, 0,\" \"),\" \"))","v":" "},null,1,3458.6460000000002,6887,null,0,10346,0,null,0,0,null,0,10346,null,10346]
[{"$f":"IF(AND(INTRO!$E$37=\"Non-endemic\",INTRO!$E$41=\"Non-endemic\"),\" \",IF(COUNTRY_INFO!A124=0,\" \",COUNTRY_INFO!A124))","v":"Cameroun"},{"$f":"IF(AND(INTRO!$E$37=\"Non-endemic\",INTRO!$E$41=\"Non-endemic\"),\" \",IF(COUNTRY_INFO!B124=0,\" \",COUNTRY_INFO!B124))","v":"Nord"},{"$f":"IF(AND(INTRO!$E$37=\"Non-endemic\",INTRO!$E$41=\"Non-endemic\"),\" \",IF(COUNTRY_INFO!C124=0,\" \",COUNTRY_INFO!C124))","v":"Bibemi"},{"$f":"IF(AND(INTRO!$E$37=\"Non-endemic\",INTRO!$E$41=\"Non-endemic\"),0,COUNTRY_INFO!W124)","v":0},{"$f":"IF(AND(INTRO!$E$37=\"Non-endemic\",INTRO!$E$41=\"Non-endemic\"),0,COUNTRY_INFO!Y124)","v":1},{"$f":"IF($D124=1,IVM!G124,0)","v":0},{"$f":"IF($D124=0, \" \", IF(COUNTRY_INFO!$H124=1, IF(COUNTRY_INFO!$L124=1, 0,\" \"),\" \"))","v":" "},null,1,43620.39,47194,null,0,90814,0,null,0,0,null,0,90814,null,90814]
[{"$f":"IF(AND(INTRO!$E$37=\"Non-endemic\",INTRO!$E$41=\"Non-endemic\"),\" \",IF(COUNTRY_INFO!A125=0,\" \",COUNTRY_INFO!A125))","v":"Cameroun"},{"$f":"IF(AND(INTRO!$E$37=\"Non-endemic\",INTRO!$E$41=\"Non-endemic\"),\" \",IF(COUNTRY_INFO!B125=0,\" \",COUNTRY_INFO!B125))","v":"Nord"},{"$f":"IF(AND(INTRO!$E$37=\"Non-endemic\",INTRO!$E$41=\"Non-endemic\"),\" \",IF(COUNTRY_INFO!C125=0,\" \",COUNTRY_INFO!C125))","v":"Figuil"},{"$f":"IF(AND(INTRO!$E$37=\"Non-endemic\",INTRO!$E$41=\"Non-endemic\"),0,COUNTRY_INFO!W125)","v":0},{"$f":"IF(AND(INTRO!$E$37=\"Non-endemic\",INTRO!$E$41=\"Non-endemic\"),0,COUNTRY_INFO!Y125)","v":1},{"$f":"IF($D125=1,IVM!G125,0)","v":0},{"$f":"IF($D125=0, \" \", IF(COUNTRY_INFO!$H125=1, IF(COUNTRY_INFO!$L125=1, 0,\" \"),\" \"))","v":" "},null,1,19954.673999999999,29290,null,0,49245,0,null,0,0,null,0,49245,null,49245]
[{"$f":"IF(AND(INTRO!$E$37=\"Non-endemic\",INTRO!$E$41=\"Non-endemic\"),\" \",IF(COUNTRY_INFO!A126=0,\" \",COUNTRY_INFO!A126))","v":"Cameroun"},{"$f":"IF(AND(INTRO!$E$37=\"Non-endemic\",INTRO!$E$41=\"Non-endemic\"),\" \",IF(COUNTRY_INFO!B126=0,\" \",COUNTRY_INFO!B126))","v":"Nord"},{"$f":"IF(AND(INTRO!$E$37=\"Non-endemic\",INTRO!$E$41=\"Non-endemic\"),\" \",IF(COUNTRY_INFO!C126=0,\" \",COUNTRY_INFO!C126))","v":"Garoua I"},{"$f":"IF(AND(INTRO!$E$37=\"Non-endemic\",INTRO!$E$41=\"Non-endemic\"),0,COUNTRY_INFO!W126)","v":0},{"$f":"IF(AND(INTRO!$E$37=\"Non-endemic\",INTRO!$E$41=\"Non-endemic\"),0,COUNTRY_INFO!Y126)","v":0},{"$f":"IF($D126=1,IVM!G126,0)","v":0},{"$f":"IF($D126=0, \" \", IF(COUNTRY_INFO!$H126=1, IF(COUNTRY_INFO!$L126=1, 0,\" \"),\" \"))","v":" "},null,1,66593.555999999997,84489,null,0,151083,0,null,0,0,null,0,151083,null,151083]
[{"$f":"IF(AND(INTRO!$E$37=\"Non-endemic\",INTRO!$E$41=\"Non-endemic\"),\" \",IF(COUNTRY_INFO!A127=0,\" \",COUNTRY_INFO!A127))","v":"Cameroun"},{"$f":"IF(AND(INTRO!$E$37=\"Non-endemic\",INTRO!$E$41=\"Non-endemic\"),\" \",IF(COUNTRY_INFO!B127=0,\" \",COUNTRY_INFO!B127))","v":"Nord"},{"$f":"IF(AND(INTRO!$E$37=\"Non-endemic\",INTRO!$E$41=\"Non-endemic\"),\" \",IF(COUNTRY_INFO!C127=0,\" \",COUNTRY_INFO!C127))","v":"Garoua II"},{"$f":"IF(AND(INTRO!$E$37=\"Non-endemic\",INTRO!$E$41=\"Non-endemic\"),0,COUNTRY_INFO!W127)","v":0},{"$f":"IF(AND(INTRO!$E$37=\"Non-endemic\",INTRO!$E$41=\"Non-endemic\"),0,COUNTRY_INFO!Y127)","v":0},{"$f":"IF($D127=1,IVM!G127,0)","v":0},{"$f":"IF($D127=0, \" \", IF(COUNTRY_INFO!$H127=1, IF(COUNTRY_INFO!$L127=1, 0,\" \"),\" \"))","v":" "},null,1,71163.360000000001,92139,null,0,163302,0,null,0,0,null,0,163302,null,163302]
[{"$f":"IF(AND(INTRO!$E$37=\"Non-endemic\",INTRO!$E$41=\"Non-endemic\"),\" \",IF(COUNTRY_INFO!A128=0,\" \",COUNTRY_INFO!A128))","v":"Cameroun"},{"$f":"IF(AND(INTRO!$E$37=\"Non-endemic\",INTRO!$E$41=\"Non-endemic\"),\" \",IF(COUNTRY_INFO!B128=0,\" \",COUNTRY_INFO!B128))","v":"Nord"},{"$f":"IF(AND(INTRO!$E$37=\"Non-endemic\",INTRO!$E$41=\"Non-endemic\"),\" \",IF(COUNTRY_INFO!C128=0,\" \",COUNTRY_INFO!C128))","v":"Gaschiga"},{"$f":"IF(AND(INTRO!$E$37=\"Non-endemic\",INTRO!$E$41=\"Non-endemic\"),0,COUNTRY_INFO!W128)","v":0},{"$f":"IF(AND(INTRO!$E$37=\"Non-endemic\",INTRO!$E$41=\"Non-endemic\"),0,COUNTRY_INFO!Y128)","v":0},{"$f":"IF($D128=1,IVM!G128,0)","v":0},{"$f":"IF($D128=0, \" \", IF(COUNTRY_INFO!$H128=1, IF(COUNTRY_INFO!$L128=1, 0,\" \"),\" \"))","v":" "},null,1,35641.188000000002,43256,null,0,78897,0,null,0,0,null,0,78897,null,78897]
[{"$f":"IF(AND(INTRO!$E$37=\"Non-endemic\",INTRO!$E$41=\"Non-endemic\"),\" \",IF(COUNTRY_INFO!A129=0,\" \",COUNTRY_INFO!A129))","v":"Cameroun"},{"$f":"IF(AND(INTRO!$E$37=\"Non-endemic\",INTRO!$E$41=\"Non-endemic\"),\" \",IF(COUNTRY_INFO!B129=0,\" \",COUNTRY_INFO!B129))","v":"Nord"},{"$f":"IF(AND(INTRO!$E$37=\"Non-endemic\",INTRO!$E$41=\"Non-endemic\"),\" \",IF(COUNTRY_INFO!C129=0,\" \",COUNTRY_INFO!C129))","v":"Golombe"},{"$f":"IF(AND(INTRO!$E$37=\"Non-endemic\",INTRO!$E$41=\"Non-endemic\"),0,COUNTRY_INFO!W129)","v":0},{"$f":"IF(AND(INTRO!$E$37=\"Non-endemic\",INTRO!$E$41=\"Non-endemic\"),0,COUNTRY_INFO!Y129)","v":0},{"$f":"IF($D129=1,IVM!G129,0)","v":0},{"$f":"IF($D129=0, \" \", IF(COUNTRY_INFO!$H129=1, IF(COUNTRY_INFO!$L129=1, 0,\" \"),\" \"))","v":" "},null,1,24760.458000000002,19432,null,0,44192,0,null,0,0,null,0,44192,null,44192]
[{"$f":"IF(AND(INTRO!$E$37=\"Non-endemic\",INTRO!$E$41=\"Non-endemic\"),\" \",IF(COUNTRY_INFO!A130=0,\" \",COUNTRY_INFO!A130))","v":"Cameroun"},{"$f":"IF(AND(INTRO!$E$37=\"Non-endemic\",INTRO!$E$41=\"Non-endemic\"),\" \",IF(COUNTRY_INFO!B130=0,\" \",COUNTRY_INFO!B130))","v":"Nord"},{"$f":"IF(AND(INTRO!$E$37=\"Non-endemic\",INTRO!$E$41=\"Non-endemic\"),\" \",IF(COUNTRY_INFO!C130=0,\" \",COUNTRY_INFO!C130))","v":"Guider"},{"$f":"IF(AND(INTRO!$E$37=\"Non-endemic\",INTRO!$E$41=\"Non-endemic\"),0,COUNTRY_INFO!W130)","v":0},{"$f":"IF(AND(INTRO!$E$37=\"Non-endemic\",INTRO!$E$41=\"Non-endemic\"),0,COUNTRY_INFO!Y130)","v":1},{"$f":"IF($D130=1,IVM!G130,0)","v":0},{"$f":"IF($D130=0, \" \", IF(COUNTRY_INFO!$H130=1, IF(COUNTRY_INFO!$L130=1, 0,\" \"),\" \"))","v":" "},null,1,66834.665999999997,71078,null,0,137913,0,null,0,0,null,0,137913,null,137913]
[{"$f":"IF(AND(INTRO!$E$37=\"Non-endemic\",INTRO!$E$41=\"Non-endemic\"),\" \",IF(COUNTRY_INFO!A131=0,\" \",COUNTRY_INFO!A131))","v":"Cameroun"},{"$f":"IF(AND(INTRO!$E$37=\"Non-endemic\",INTRO!$E$41=\"Non-endemic\"),\" \",IF(COUNTRY_INFO!B131=0,\" \",COUNTRY_INFO!B131))","v":"Nord"},{"$f":"IF(AND(INTRO!$E$37=\"Non-endemic\",INTRO!$E$41=\"Non-endemic\"),\" \",IF(COUNTRY_INFO!C131=0,\" \",COUNTRY_INFO!C131))","v":"Lagdo"},{"$f":"IF(AND(INTRO!$E$37=\"Non-endemic\",INTRO!$E$41=\"Non-endemic\"),0,COUNTRY_INFO!W131)","v":0},{"$f":"IF(AND(INTRO!$E$37=\"Non-endemic\",INTRO!$E$41=\"Non-endemic\"),0,COUNTRY_INFO!Y131)","v":0},{"$f":"IF($D131=1,IVM!G131,0)","v":0},{"$f":"IF($D131=0, \" \", IF(COUNTRY_INFO!$H131=1, IF(COUNTRY_INFO!$L131=1, 0,\" \"),\" \"))","v":" "},null,1,39045.455999999998,64082,null,0,103127,0,null,0,0,null,0,103127,null,103127]
[{"$f":"IF(AND(INTRO!$E$37=\"Non-endemic\",INTRO!$E$41=\"Non-endemic\"),\" \",IF(COUNTRY_INFO!A132=0,\" \",COUNTRY_INFO!A132))","v":"Cameroun"},{"$f":"IF(AND(INTRO!$E$37=\"Non-endemic\",INTRO!$E$41=\"Non-endemic\"),\" \",IF(COUNTRY_INFO!B132=0,\" \",COUNTRY_INFO!B132))","v":"Nord"},{"$f":"IF(AND(INTRO!$E$37=\"Non-endemic\",INTRO!$E$41=\"Non-endemic\"),\" \",IF(COUNTRY_INFO!C132=0,\" \",COUNTRY_INFO!C132))","v":"Mayo Oulo"},{"$f":"IF(AND(INTRO!$E$37=\"Non-endemic\",INTRO!$E$41=\"Non-endemic\"),0,COUNTRY_INFO!W132)","v":0},{"$f":"IF(AND(INTRO!$E$37=\"Non-endemic\",INTRO!$E$41=\"Non-endemic\"),0,COUNTRY_INFO!Y132)","v":1},{"$f":"IF($D132=1,IVM!G132,0)","v":0},{"$f":"IF($D132=0, \" \", IF(COUNTRY_INFO!$H132=1, IF(COUNTRY_INFO!$L132=1, 0,\" \"),\" \"))","v":" "},null,1,57122.55,42194,null,0,99317,0,null,0,0,null,0,99317,null,99317]
[{"$f":"IF(AND(INTRO!$E$37=\"Non-endemic\",INTRO!$E$41=\"Non-endemic\"),\" \",IF(COUNTRY_INFO!A133=0,\" \",COUNTRY_INFO!A133))","v":"Cameroun"},{"$f":"IF(AND(INTRO!$E$37=\"Non-endemic\",INTRO!$E$41=\"Non-endemic\"),\" \",IF(COUNTRY_INFO!B133=0,\" \",COUNTRY_INFO!B133))","v":"Nord"},{"$f":"IF(AND(INTRO!$E$37=\"Non-endemic\",INTRO!$E$41=\"Non-endemic\"),\" \",IF(COUNTRY_INFO!C133=0,\" \",COUNTRY_INFO!C133))","v":"Ngong"},{"$f":"IF(AND(INTRO!$E$37=\"Non-endemic\",INTRO!$E$41=\"Non-endemic\"),0,COUNTRY_INFO!W133)","v":0},{"$f":"IF(AND(INTRO!$E$37=\"Non-endemic\",INTRO!$E$41=\"Non-endemic\"),0,COUNTRY_INFO!Y133)","v":1},{"$f":"IF($D133=1,IVM!G133,0)","v":0},{"$f":"IF($D133=0, \" \", IF(COUNTRY_INFO!$H133=1, IF(COUNTRY_INFO!$L133=1, 0,\" \"),\" \"))","v":" "},null,1,79544.754000000001,79803,null,0,159348,0,null,0,0,null,0,159348,null,159348]
[{"$f":"IF(AND(INTRO!$E$37=\"Non-endemic\",INTRO!$E$41=\"Non-endemic\"),\" \",IF(COUNTRY_INFO!A134=0,\" \",COUNTRY_INFO!A134))","v":"Cameroun"},{"$f":"IF(AND(INTRO!$E$37=\"Non-endemic\",INTRO!$E$41=\"Non-endemic\"),\" \",IF(COUNTRY_INFO!B134=0,\" \",COUNTRY_INFO!B134))","v":"Nord"},{"$f":"IF(AND(INTRO!$E$37=\"Non-endemic\",INTRO!$E$41=\"Non-endemic\"),\" \",IF(COUNTRY_INFO!C134=0,\" \",COUNTRY_INFO!C134))","v":"Pitoa"},{"$f":"IF(AND(INTRO!$E$37=\"Non-endemic\",INTRO!$E$41=\"Non-endemic\"),0,COUNTRY_INFO!W134)","v":0},{"$f":"IF(AND(INTRO!$E$37=\"Non-endemic\",INTRO!$E$41=\"Non-endemic\"),0,COUNTRY_INFO!Y134)","v":0},{"$f":"IF($D134=1,IVM!G134,0)","v":0},{"$f":"IF($D134=0, \" \", IF(COUNTRY_INFO!$H134=1, IF(COUNTRY_INFO!$L134=1, 0,\" \"),\" \"))","v":" "},null,1,38887.451999999997,46291,null,0,85178,0,null,0,0,null,0,85178,null,85178]
[{"$f":"IF(AND(INTRO!$E$37=\"Non-endemic\",INTRO!$E$41=\"Non-endemic\"),\" \",IF(COUNTRY_INFO!A135=0,\" \",COUNTRY_INFO!A135))","v":"Cameroun"},{"$f":"IF(AND(INTRO!$E$37=\"Non-endemic\",INTRO!$E$41=\"Non-endemic\"),\" \",IF(COUNTRY_INFO!B135=0,\" \",COUNTRY_INFO!B135))","v":"Nord"},{"$f":"IF(AND(INTRO!$E$37=\"Non-endemic\",INTRO!$E$41=\"Non-endemic\"),\" \",IF(COUNTRY_INFO!C135=0,\" \",COUNTRY_INFO!C135))","v":"Poli"},{"$f":"IF(AND(INTRO!$E$37=\"Non-endemic\",INTRO!$E$41=\"Non-endemic\"),0,COUNTRY_INFO!W135)","v":0},{"$f":"IF(AND(INTRO!$E$37=\"Non-endemic\",INTRO!$E$41=\"Non-endemic\"),0,COUNTRY_INFO!Y135)","v":1},{"$f":"IF($D135=1,IVM!G135,0)","v":0},{"$f":"IF($D135=0, \" \", IF(COUNTRY_INFO!$H135=1, IF(COUNTRY_INFO!$L135=1, 0,\" \"),\" \"))","v":" "},null,1,28684.907999999999,33501,null,0,62186,0,null,0,0,null,0,62186,null,62186]
[{"$f":"IF(AND(INTRO!$E$37=\"Non-endemic\",INTRO!$E$41=\"Non-endemic\"),\" \",IF(COUNTRY_INFO!A136=0,\" \",COUNTRY_INFO!A136))","v":"Cameroun"},{"$f":"IF(AND(INTRO!$E$37=\"Non-endemic\",INTRO!$E$41=\"Non-endemic\"),\" \",IF(COUNTRY_INFO!B136=0,\" \",COUNTRY_INFO!B136))","v":"Nord"},{"$f":"IF(AND(INTRO!$E$37=\"Non-endemic\",INTRO!$E$41=\"Non-endemic\"),\" \",IF(COUNTRY_INFO!C136=0,\" \",COUNTRY_INFO!C136))","v":"Rey Bouba"},{"$f":"IF(AND(INTRO!$E$37=\"Non-endemic\",INTRO!$E$41=\"Non-endemic\"),0,COUNTRY_INFO!W136)","v":0},{"$f":"IF(AND(INTRO!$E$37=\"Non-endemic\",INTRO!$E$41=\"Non-endemic\"),0,COUNTRY_INFO!Y136)","v":1},{"$f":"IF($D136=1,IVM!G136,0)","v":0},{"$f":"IF($D136=0, \" \", IF(COUNTRY_INFO!$H136=1, IF(COUNTRY_INFO!$L136=1, 0,\" \"),\" \"))","v":" "},null,1,53152.955999999998,54328,null,0,107481,0,null,0,0,null,0,107481,null,107481]
[{"$f":"IF(AND(INTRO!$E$37=\"Non-endemic\",INTRO!$E$41=\"Non-endemic\"),\" \",IF(COUNTRY_INFO!A137=0,\" \",COUNTRY_INFO!A137))","v":"Cameroun"},{"$f":"IF(AND(INTRO!$E$37=\"Non-endemic\",INTRO!$E$41=\"Non-endemic\"),\" \",IF(COUNTRY_INFO!B137=0,\" \",COUNTRY_INFO!B137))","v":"Nord"},{"$f":"IF(AND(INTRO!$E$37=\"Non-endemic\",INTRO!$E$41=\"Non-endemic\"),\" \",IF(COUNTRY_INFO!C137=0,\" \",COUNTRY_INFO!C137))","v":"Tchollire"},{"$f":"IF(AND(INTRO!$E$37=\"Non-endemic\",INTRO!$E$41=\"Non-endemic\"),0,COUNTRY_INFO!W137)","v":0},{"$f":"IF(AND(INTRO!$E$37=\"Non-endemic\",INTRO!$E$41=\"Non-endemic\"),0,COUNTRY_INFO!Y137)","v":1},{"$f":"IF($D137=1,IVM!G137,0)","v":0},{"$f":"IF($D137=0, \" \", IF(COUNTRY_INFO!$H137=1, IF(COUNTRY_INFO!$L137=1, 0,\" \"),\" \"))","v":" "},null,1,51483.654000000002,60780,null,0,112264,0,null,0,0,null,0,112264,null,112264]
[{"$f":"IF(AND(INTRO!$E$37=\"Non-endemic\",INTRO!$E$41=\"Non-endemic\"),\" \",IF(COUNTRY_INFO!A138=0,\" \",COUNTRY_INFO!A138))","v":"Cameroun"},{"$f":"IF(AND(INTRO!$E$37=\"Non-endemic\",INTRO!$E$41=\"Non-endemic\"),\" \",IF(COUNTRY_INFO!B138=0,\" \",COUNTRY_INFO!B138))","v":"Nord"},{"$f":"IF(AND(INTRO!$E$37=\"Non-endemic\",INTRO!$E$41=\"Non-endemic\"),\" \",IF(COUNTRY_INFO!C138=0,\" \",COUNTRY_INFO!C138))","v":"Touboro"},{"$f":"IF(AND(INTRO!$E$37=\"Non-endemic\",INTRO!$E$41=\"Non-endemic\"),0,COUNTRY_INFO!W138)","v":0},{"$f":"IF(AND(INTRO!$E$37=\"Non-endemic\",INTRO!$E$41=\"Non-endemic\"),0,COUNTRY_INFO!Y138)","v":1},{"$f":"IF($D138=1,IVM!G138,0)","v":0},{"$f":"IF($D138=0, \" \", IF(COUNTRY_INFO!$H138=1, IF(COUNTRY_INFO!$L138=1, 0,\" \"),\" \"))","v":" "},null,1,82874.123999999996,89843,null,0,172717,0,null,0,0,null,0,172717,null,172717]
[{"$f":"IF(AND(INTRO!$E$37=\"Non-endemic\",INTRO!$E$41=\"Non-endemic\"),\" \",IF(COUNTRY_INFO!A139=0,\" \",COUNTRY_INFO!A139))","v":"Cameroun"},{"$f":"IF(AND(INTRO!$E$37=\"Non-endemic\",INTRO!$E$41=\"Non-endemic\"),\" \",IF(COUNTRY_INFO!B139=0,\" \",COUNTRY_INFO!B139))","v":"Nord Ouest"},{"$f":"IF(AND(INTRO!$E$37=\"Non-endemic\",INTRO!$E$41=\"Non-endemic\"),\" \",IF(COUNTRY_INFO!C139=0,\" \",COUNTRY_INFO!C139))","v":"Ako "},{"$f":"IF(AND(INTRO!$E$37=\"Non-endemic\",INTRO!$E$41=\"Non-endemic\"),0,COUNTRY_INFO!W139)","v":0},{"$f":"IF(AND(INTRO!$E$37=\"Non-endemic\",INTRO!$E$41=\"Non-endemic\"),0,COUNTRY_INFO!Y139)","v":0},{"$f":"IF($D139=1,IVM!G139,0)","v":0},{"$f":"IF($D139=0, \" \", IF(COUNTRY_INFO!$H139=1, IF(COUNTRY_INFO!$L139=1, 0,\" \"),\" \"))","v":" "},null,1,9236.0519999999997,18414,null,6112,33762,{"$f":"$F139+IF(OR(G139=0,G139=\" \"),0,G139*H139)","v":0},null,0,0,null,0,33762,null,33762]
[{"$f":"IF(AND(INTRO!$E$37=\"Non-endemic\",INTRO!$E$41=\"Non-endemic\"),\" \",IF(COUNTRY_INFO!A140=0,\" \",COUNTRY_INFO!A140))","v":"Cameroun"},{"$f":"IF(AND(INTRO!$E$37=\"Non-endemic\",INTRO!$E$41=\"Non-endemic\"),\" \",IF(COUNTRY_INFO!B140=0,\" \",COUNTRY_INFO!B140))","v":"Nord Ouest"},{"$f":"IF(AND(INTRO!$E$37=\"Non-endemic\",INTRO!$E$41=\"Non-endemic\"),\" \",IF(COUNTRY_INFO!C140=0,\" \",COUNTRY_INFO!C140))","v":"Bafut"},{"$f":"IF(AND(INTRO!$E$37=\"Non-endemic\",INTRO!$E$41=\"Non-endemic\"),0,COUNTRY_INFO!W140)","v":0},{"$f":"IF(AND(INTRO!$E$37=\"Non-endemic\",INTRO!$E$41=\"Non-endemic\"),0,COUNTRY_INFO!Y140)","v":1},{"$f":"IF($D140=1,IVM!G140,0)","v":0},{"$f":"IF($D140=0, \" \", IF(COUNTRY_INFO!$H140=1, IF(COUNTRY_INFO!$L140=1, 0,\" \"),\" \"))","v":" "},null,1,3995.2440000000001,12144,null,0,16139,0,null,0,0,null,0,16139,null,16139]
[{"$f":"IF(AND(INTRO!$E$37=\"Non-endemic\",INTRO!$E$41=\"Non-endemic\"),\" \",IF(COUNTRY_INFO!A141=0,\" \",COUNTRY_INFO!A141))","v":"Cameroun"},{"$f":"IF(AND(INTRO!$E$37=\"Non-endemic\",INTRO!$E$41=\"Non-endemic\"),\" \",IF(COUNTRY_INFO!B141=0,\" \",COUNTRY_INFO!B141))","v":"Nord Ouest"},{"$f":"IF(AND(INTRO!$E$37=\"Non-endemic\",INTRO!$E$41=\"Non-endemic\"),\" \",IF(COUNTRY_INFO!C141=0,\" \",COUNTRY_INFO!C141))","v":"Bali"},{"$f":"IF(AND(INTRO!$E$37=\"Non-endemic\",INTRO!$E$41=\"Non-endemic\"),0,COUNTRY_INFO!W141)","v":0},{"$f":"IF(AND(INTRO!$E$37=\"Non-endemic\",INTRO!$E$41=\"Non-endemic\"),0,COUNTRY_INFO!Y141)","v":0},{"$f":"IF($D141=1,IVM!G141,0)","v":0},{"$f":"IF($D141=0, \" \", IF(COUNTRY_INFO!$H141=1, IF(COUNTRY_INFO!$L141=1, 0,\" \"),\" \"))","v":" "},null,1,4076.2980000000002,8066,null,0,12142,0,null,0,0,null,0,12142,null,12142]
[{"$f":"IF(AND(INTRO!$E$37=\"Non-endemic\",INTRO!$E$41=\"Non-endemic\"),\" \",IF(COUNTRY_INFO!A142=0,\" \",COUNTRY_INFO!A142))","v":"Cameroun"},{"$f":"IF(AND(INTRO!$E$37=\"Non-endemic\",INTRO!$E$41=\"Non-endemic\"),\" \",IF(COUNTRY_INFO!B142=0,\" \",COUNTRY_INFO!B142))","v":"Nord Ouest"},{"$f":"IF(AND(INTRO!$E$37=\"Non-endemic\",INTRO!$E$41=\"Non-endemic\"),\" \",IF(COUNTRY_INFO!C142=0,\" \",COUNTRY_INFO!C142))","v":"Bamenda"},{"$f":"IF(AND(INTRO!$E$37=\"Non-endemic\",INTRO!$E$41=\"Non-endemic\"),0,COUNTRY_INFO!W142)","v":0},{"$f":"IF(AND(INTRO!$E$37=\"Non-endemic\",INTRO!$E$41=\"Non-endemic\"),0,COUNTRY_INFO!Y142)","v":0},{"$f":"IF($D142=1,IVM!G142,0)","v":0},{"$f":"IF($D142=0, \" \", IF(COUNTRY_INFO!$H142=1, IF(COUNTRY_INFO!$L142=1, 0,\" \"),\" \"))","v":" "},null,1,33494.796000000002,75632,null,0,109127,0,null,0,0,null,0,109127,null,109127]
[{"$f":"IF(AND(INTRO!$E$37=\"Non-endemic\",INTRO!$E$41=\"Non-endemic\"),\" \",IF(COUNTRY_INFO!A143=0,\" \",COUNTRY_INFO!A143))","v":"Cameroun"},{"$f":"IF(AND(INTRO!$E$37=\"Non-endemic\",INTRO!$E$41=\"Non-endemic\"),\" \",IF(COUNTRY_INFO!B143=0,\" \",COUNTRY_INFO!B143))","v":"Nord Ouest"},{"$f":"IF(AND(INTRO!$E$37=\"Non-endemic\",INTRO!$E$41=\"Non-endemic\"),\" \",IF(COUNTRY_INFO!C143=0,\" \",COUNTRY_INFO!C143))","v":"Bamenda 3"},{"$f":"IF(AND(INTRO!$E$37=\"Non-endemic\",INTRO!$E$41=\"Non-endemic\"),0,COUNTRY_INFO!W143)","v":0},{"$f":"IF(AND(INTRO!$E$37=\"Non-endemic\",INTRO!$E$41=\"Non-endemic\"),0,COUNTRY_INFO!Y143)","v":0},{"$f":"IF($D143=1,IVM!G143,0)","v":0},{"$f":"IF($D143=0, \" \", IF(COUNTRY_INFO!$H143=1, IF(COUNTRY_INFO!$L143=1, 0,\" \"),\" \"))","v":" "},null,1,20066.508000000002,49656,null,18626,88349,0,null,0,0,null,0,88349,null,88349]
[{"$f":"IF(AND(INTRO!$E$37=\"Non-endemic\",INTRO!$E$41=\"Non-endemic\"),\" \",IF(COUNTRY_INFO!A144=0,\" \",COUNTRY_INFO!A144))","v":"Cameroun"},{"$f":"IF(AND(INTRO!$E$37=\"Non-endemic\",INTRO!$E$41=\"Non-endemic\"),\" \",IF(COUNTRY_INFO!B144=0,\" \",COUNTRY_INFO!B144))","v":"Nord Ouest"},{"$f":"IF(AND(INTRO!$E$37=\"Non-endemic\",INTRO!$E$41=\"Non-endemic\"),\" \",IF(COUNTRY_INFO!C144=0,\" \",COUNTRY_INFO!C144))","v":"Batibo"},{"$f":"IF(AND(INTRO!$E$37=\"Non-endemic\",INTRO!$E$41=\"Non-endemic\"),0,COUNTRY_INFO!W144)","v":0},{"$f":"IF(AND(INTRO!$E$37=\"Non-endemic\",INTRO!$E$41=\"Non-endemic\"),0,COUNTRY_INFO!Y144)","v":1},{"$f":"IF($D144=1,IVM!G144,0)","v":0},{"$f":"IF($D144=0, \" \", IF(COUNTRY_INFO!$H144=1, IF(COUNTRY_INFO!$L144=1, 0,\" \"),\" \"))","v":" "},null,1,8696.3760000000002,20911,null,6941,36548,0,null,0,0,null,0,36548,null,36548]
[{"$f":"IF(AND(INTRO!$E$37=\"Non-endemic\",INTRO!$E$41=\"Non-endemic\"),\" \",IF(COUNTRY_INFO!A145=0,\" \",COUNTRY_INFO!A145))","v":"Cameroun"},{"$f":"IF(AND(INTRO!$E$37=\"Non-endemic\",INTRO!$E$41=\"Non-endemic\"),\" \",IF(COUNTRY_INFO!B145=0,\" \",COUNTRY_INFO!B145))","v":"Nord Ouest"},{"$f":"IF(AND(INTRO!$E$37=\"Non-endemic\",INTRO!$E$41=\"Non-endemic\"),\" \",IF(COUNTRY_INFO!C145=0,\" \",COUNTRY_INFO!C145))","v":"Benakuma"},{"$f":"IF(AND(INTRO!$E$37=\"Non-endemic\",INTRO!$E$41=\"Non-endemic\"),0,COUNTRY_INFO!W145)","v":0},{"$f":"IF(AND(INTRO!$E$37=\"Non-endemic\",INTRO!$E$41=\"Non-endemic\"),0,COUNTRY_INFO!Y145)","v":1},{"$f":"IF($D145=1,IVM!G145,0)","v":0},{"$f":"IF($D145=0, \" \", IF(COUNTRY_INFO!$H145=1, IF(COUNTRY_INFO!$L145=1, 0,\" \"),\" \"))","v":" "},null,1,14696.424000000001,14823,null,4920,34439,0,null,0,0,null,0,34439,null,34439]
[{"$f":"IF(AND(INTRO!$E$37=\"Non-endemic\",INTRO!$E$41=\"Non-endemic\"),\" \",IF(COUNTRY_INFO!A146=0,\" \",COUNTRY_INFO!A146))","v":"Cameroun"},{"$f":"IF(AND(INTRO!$E$37=\"Non-endemic\",INTRO!$E$41=\"Non-endemic\"),\" \",IF(COUNTRY_INFO!B146=0,\" \",COUNTRY_INFO!B146))","v":"Nord Ouest"},{"$f":"IF(AND(INTRO!$E$37=\"Non-endemic\",INTRO!$E$41=\"Non-endemic\"),\" \",IF(COUNTRY_INFO!C146=0,\" \",COUNTRY_INFO!C146))","v":"Fundong"},{"$f":"IF(AND(INTRO!$E$37=\"Non-endemic\",INTRO!$E$41=\"Non-endemic\"),0,COUNTRY_INFO!W146)","v":0},{"$f":"IF(AND(INTRO!$E$37=\"Non-endemic\",INTRO!$E$41=\"Non-endemic\"),0,COUNTRY_INFO!Y146)","v":1},{"$f":"IF($D146=1,IVM!G146,0)","v":0},{"$f":"IF($D146=0, \" \", IF(COUNTRY_INFO!$H146=1, IF(COUNTRY_INFO!$L146=1, 0,\" \"),\" \"))","v":" "},null,1,15764.49,36471,null,0,52235,0,null,0,0,null,0,52235,null,52235]
[{"$f":"IF(AND(INTRO!$E$37=\"Non-endemic\",INTRO!$E$41=\"Non-endemic\"),\" \",IF(COUNTRY_INFO!A147=0,\" \",COUNTRY_INFO!A147))","v":"Cameroun"},{"$f":"IF(AND(INTRO!$E$37=\"Non-endemic\",INTRO!$E$41=\"Non-endemic\"),\" \",IF(COUNTRY_INFO!B147=0,\" \",COUNTRY_INFO!B147))","v":"Nord Ouest"},{"$f":"IF(AND(INTRO!$E$37=\"Non-endemic\",INTRO!$E$41=\"Non-endemic\"),\" \",IF(COUNTRY_INFO!C147=0,\" \",COUNTRY_INFO!C147))","v":"Kumbo East"},{"$f":"IF(AND(INTRO!$E$37=\"Non-endemic\",INTRO!$E$41=\"Non-endemic\"),0,COUNTRY_INFO!W147)","v":0},{"$f":"IF(AND(INTRO!$E$37=\"Non-endemic\",INTRO!$E$41=\"Non-endemic\"),0,COUNTRY_INFO!Y147)","v":0},{"$f":"IF($D147=1,IVM!G147,0)","v":0},{"$f":"IF($D147=0, \" \", IF(COUNTRY_INFO!$H147=1, IF(COUNTRY_INFO!$L147=1, 0,\" \"),\" \"))","v":" "},null,1,14046.966,33369,null,11076,58492,0,null,0,0,null,0,58492,null,58492]
[{"$f":"IF(AND(INTRO!$E$37=\"Non-endemic\",INTRO!$E$41=\"Non-endemic\"),\" \",IF(COUNTRY_INFO!A148=0,\" \",COUNTRY_INFO!A148))","v":"Cameroun"},{"$f":"IF(AND(INTRO!$E$37=\"Non-endemic\",INTRO!$E$41=\"Non-endemic\"),\" \",IF(COUNTRY_INFO!B148=0,\" \",COUNTRY_INFO!B148))","v":"Nord Ouest"},{"$f":"IF(AND(INTRO!$E$37=\"Non-endemic\",INTRO!$E$41=\"Non-endemic\"),\" \",IF(COUNTRY_INFO!C148=0,\" \",COUNTRY_INFO!C148))","v":"Kumbo West"},{"$f":"IF(AND(INTRO!$E$37=\"Non-endemic\",INTRO!$E$41=\"Non-endemic\"),0,COUNTRY_INFO!W148)","v":0},{"$f":"IF(AND(INTRO!$E$37=\"Non-endemic\",INTRO!$E$41=\"Non-endemic\"),0,COUNTRY_INFO!Y148)","v":1},{"$f":"IF($D148=1,IVM!G148,0)","v":0},{"$f":"IF($D148=0, \" \", IF(COUNTRY_INFO!$H148=1, IF(COUNTRY_INFO!$L148=1, 0,\" \"),\" \"))","v":" "},null,1,10334.898000000001,30300,null,0,40635,0,null,0,0,null,0,40635,null,40635]
[{"$f":"IF(AND(INTRO!$E$37=\"Non-endemic\",INTRO!$E$41=\"Non-endemic\"),\" \",IF(COUNTRY_INFO!A149=0,\" \",COUNTRY_INFO!A149))","v":"Cameroun"},{"$f":"IF(AND(INTRO!$E$37=\"Non-endemic\",INTRO!$E$41=\"Non-endemic\"),\" \",IF(COUNTRY_INFO!B149=0,\" \",COUNTRY_INFO!B149))","v":"Nord Ouest"},{"$f":"IF(AND(INTRO!$E$37=\"Non-endemic\",INTRO!$E$41=\"Non-endemic\"),\" \",IF(COUNTRY_INFO!C149=0,\" \",COUNTRY_INFO!C149))","v":"Mbengwi"},{"$f":"IF(AND(INTRO!$E$37=\"Non-endemic\",INTRO!$E$41=\"Non-endemic\"),0,COUNTRY_INFO!W149)","v":0},{"$f":"IF(AND(INTRO!$E$37=\"Non-endemic\",INTRO!$E$41=\"Non-endemic\"),0,COUNTRY_INFO!Y149)","v":0},{"$f":"IF($D149=1,IVM!G149,0)","v":0},{"$f":"IF($D149=0, \" \", IF(COUNTRY_INFO!$H149=1, IF(COUNTRY_INFO!$L149=1, 0,\" \"),\" \"))","v":" "},null,1,4688.82,12896,null,4281,21866,0,null,0,0,null,0,21866,null,21866]
[{"$f":"IF(AND(INTRO!$E$37=\"Non-endemic\",INTRO!$E$41=\"Non-endemic\"),\" \",IF(COUNTRY_INFO!A150=0,\" \",COUNTRY_INFO!A150))","v":"Cameroun"},{"$f":"IF(AND(INTRO!$E$37=\"Non-endemic\",INTRO!$E$41=\"Non-endemic\"),\" \",IF(COUNTRY_INFO!B150=0,\" \",COUNTRY_INFO!B150))","v":"Nord Ouest"},{"$f":"IF(AND(INTRO!$E$37=\"Non-endemic\",INTRO!$E$41=\"Non-endemic\"),\" \",IF(COUNTRY_INFO!C150=0,\" \",COUNTRY_INFO!C150))","v":"Ndop"},{"$f":"IF(AND(INTRO!$E$37=\"Non-endemic\",INTRO!$E$41=\"Non-endemic\"),0,COUNTRY_INFO!W150)","v":0},{"$f":"IF(AND(INTRO!$E$37=\"Non-endemic\",INTRO!$E$41=\"Non-endemic\"),0,COUNTRY_INFO!Y150)","v":1},{"$f":"IF($D150=1,IVM!G150,0)","v":0},{"$f":"IF($D150=0, \" \", IF(COUNTRY_INFO!$H150=1, IF(COUNTRY_INFO!$L150=1, 0,\" \"),\" \"))","v":" "},null,1,22547.376,53819,null,0,76366,0,null,0,0,null,0,76366,null,76366]
[{"$f":"IF(AND(INTRO!$E$37=\"Non-endemic\",INTRO!$E$41=\"Non-endemic\"),\" \",IF(COUNTRY_INFO!A151=0,\" \",COUNTRY_INFO!A151))","v":"Cameroun"},{"$f":"IF(AND(INTRO!$E$37=\"Non-endemic\",INTRO!$E$41=\"Non-endemic\"),\" \",IF(COUNTRY_INFO!B151=0,\" \",COUNTRY_INFO!B151))","v":"Nord Ouest"},{"$f":"IF(AND(INTRO!$E$37=\"Non-endemic\",INTRO!$E$41=\"Non-endemic\"),\" \",IF(COUNTRY_INFO!C151=0,\" \",COUNTRY_INFO!C151))","v":"Ndu"},{"$f":"IF(AND(INTRO!$E$37=\"Non-endemic\",INTRO!$E$41=\"Non-endemic\"),0,COUNTRY_INFO!W151)","v":0},{"$f":"IF(AND(INTRO!$E$37=\"Non-endemic\",INTRO!$E$41=\"Non-endemic\"),0,COUNTRY_INFO!Y151)","v":1},{"$f":"IF($D151=1,IVM!G151,0)","v":0},{"$f":"IF($D151=0, \" \", IF(COUNTRY_INFO!$H151=1, IF(COUNTRY_INFO!$L151=1, 0,\" \"),\" \"))","v":" "},null,1,7795.5479999999998,19584,null,0,27380,0,null,0,0,null,0,27380,null,27380]
[{"$f":"IF(AND(INTRO!$E$37=\"Non-endemic\",INTRO!$E$41=\"Non-endemic\"),\" \",IF(COUNTRY_INFO!A152=0,\" \",COUNTRY_INFO!A152))","v":"Cameroun"},{"$f":"IF(AND(INTRO!$E$37=\"Non-endemic\",INTRO!$E$41=\"Non-endemic\"),\" \",IF(COUNTRY_INFO!B152=0,\" \",COUNTRY_INFO!B152))","v":"Nord Ouest"},{"$f":"IF(AND(INTRO!$E$37=\"Non-endemic\",INTRO!$E$41=\"Non-endemic\"),\" \",IF(COUNTRY_INFO!C152=0,\" \",COUNTRY_INFO!C152))","v":"Njikwa"},{"$f":"IF(AND(INTRO!$E$37=\"Non-endemic\",INTRO!$E$41=\"Non-endemic\"),0,COUNTRY_INFO!W152)","v":0},{"$f":"IF(AND(INTRO!$E$37=\"Non-endemic\",INTRO!$E$41=\"Non-endemic\"),0,COUNTRY_INFO!Y152)","v":0},{"$f":"IF($D152=1,IVM!G152,0)","v":0},{"$f":"IF($D152=0, \" \", IF(COUNTRY_INFO!$H152=1, IF(COUNTRY_INFO!$L152=1, 0,\" \"),\" \"))","v":" "},null,1,2889.2159999999999,6367,null,2113,11369,0,null,0,0,null,0,11369,null,11369]
[{"$f":"IF(AND(INTRO!$E$37=\"Non-endemic\",INTRO!$E$41=\"Non-endemic\"),\" \",IF(COUNTRY_INFO!A153=0,\" \",COUNTRY_INFO!A153))","v":"Cameroun"},{"$f":"IF(AND(INTRO!$E$37=\"Non-endemic\",INTRO!$E$41=\"Non-endemic\"),\" \",IF(COUNTRY_INFO!B153=0,\" \",COUNTRY_INFO!B153))","v":"Nord Ouest"},{"$f":"IF(AND(INTRO!$E$37=\"Non-endemic\",INTRO!$E$41=\"Non-endemic\"),\" \",IF(COUNTRY_INFO!C153=0,\" \",COUNTRY_INFO!C153))","v":"Nkambe"},{"$f":"IF(AND(INTRO!$E$37=\"Non-endemic\",INTRO!$E$41=\"Non-endemic\"),0,COUNTRY_INFO!W153)","v":0},{"$f":"IF(AND(INTRO!$E$37=\"Non-endemic\",INTRO!$E$41=\"Non-endemic\"),0,COUNTRY_INFO!Y153)","v":1},{"$f":"IF($D153=1,IVM!G153,0)","v":0},{"$f":"IF($D153=0, \" \", IF(COUNTRY_INFO!$H153=1, IF(COUNTRY_INFO!$L153=1, 0,\" \"),\" \"))","v":" "},null,1,21482.387999999999,35271,null,11707,68460,0,null,0,0,null,0,68460,null,68460]
[{"$f":"IF(AND(INTRO!$E$37=\"Non-endemic\",INTRO!$E$41=\"Non-endemic\"),\" \",IF(COUNTRY_INFO!A154=0,\" \",COUNTRY_INFO!A154))","v":"Cameroun"},{"$f":"IF(AND(INTRO!$E$37=\"Non-endemic\",INTRO!$E$41=\"Non-endemic\"),\" \",IF(COUNTRY_INFO!B154=0,\" \",COUNTRY_INFO!B154))","v":"Nord Ouest"},{"$f":"IF(AND(INTRO!$E$37=\"Non-endemic\",INTRO!$E$41=\"Non-endemic\"),\" \",IF(COUNTRY_INFO!C154=0,\" \",COUNTRY_INFO!C154))","v":"Nwa"},{"$f":"IF(AND(INTRO!$E$37=\"Non-endemic\",INTRO!$E$41=\"Non-endemic\"),0,COUNTRY_INFO!W154)","v":0},{"$f":"IF(AND(INTRO!$E$37=\"Non-endemic\",INTRO!$E$41=\"Non-endemic\"),0,COUNTRY_INFO!Y154)","v":1},{"$f":"IF($D154=1,IVM!G154,0)","v":0},{"$f":"IF($D154=0, \" \", IF(COUNTRY_INFO!$H154=1, IF(COUNTRY_INFO!$L154=1, 0,\" \"),\" \"))","v":" "},null,1,8140.2840000000006,16981,null,5636,30757,0,null,0,0,null,0,30757,null,30757]
[{"$f":"IF(AND(INTRO!$E$37=\"Non-endemic\",INTRO!$E$41=\"Non-endemic\"),\" \",IF(COUNTRY_INFO!A155=0,\" \",COUNTRY_INFO!A155))","v":"Cameroun"},{"$f":"IF(AND(INTRO!$E$37=\"Non-endemic\",INTRO!$E$41=\"Non-endemic\"),\" \",IF(COUNTRY_INFO!B155=0,\" \",COUNTRY_INFO!B155))","v":"Nord Ouest"},{"$f":"IF(AND(INTRO!$E$37=\"Non-endemic\",INTRO!$E$41=\"Non-endemic\"),\" \",IF(COUNTRY_INFO!C155=0,\" \",COUNTRY_INFO!C155))","v":"Oku"},{"$f":"IF(AND(INTRO!$E$37=\"Non-endemic\",INTRO!$E$41=\"Non-endemic\"),0,COUNTRY_INFO!W155)","v":0},{"$f":"IF(AND(INTRO!$E$37=\"Non-endemic\",INTRO!$E$41=\"Non-endemic\"),0,COUNTRY_INFO!Y155)","v":1},{"$f":"IF($D155=1,IVM!G155,0)","v":0},{"$f":"IF($D155=0, \" \", IF(COUNTRY_INFO!$H155=1, IF(COUNTRY_INFO!$L155=1, 0,\" \"),\" \"))","v":" "},null,1,12076.02,17588,null,5838,35502,0,null,0,0,null,0,35502,null,35502]
[{"$f":"IF(AND(INTRO!$E$37=\"Non-endemic\",INTRO!$E$41=\"Non-endemic\"),\" \",IF(COUNTRY_INFO!A156=0,\" \",COUNTRY_INFO!A156))","v":"Cameroun"},{"$f":"IF(AND(INTRO!$E$37=\"Non-endemic\",INTRO!$E$41=\"Non-endemic\"),\" \",IF(COUNTRY_INFO!B156=0,\" \",COUNTRY_INFO!B156))","v":"Nord Ouest"},{"$f":"IF(AND(INTRO!$E$37=\"Non-endemic\",INTRO!$E$41=\"Non-endemic\"),\" \",IF(COUNTRY_INFO!C156=0,\" \",COUNTRY_INFO!C156))","v":"Santa"},{"$f":"IF(AND(INTRO!$E$37=\"Non-endemic\",INTRO!$E$41=\"Non-endemic\"),0,COUNTRY_INFO!W156)","v":0},{"$f":"IF(AND(INTRO!$E$37=\"Non-endemic\",INTRO!$E$41=\"Non-endemic\"),0,COUNTRY_INFO!Y156)","v":1},{"$f":"IF($D156=1,IVM!G156,0)","v":0},{"$f":"IF($D156=0, \" \", IF(COUNTRY_INFO!$H156=1, IF(COUNTRY_INFO!$L156=1, 0,\" \"),\" \"))","v":" "},null,1,12825,21909,null,0,34734,0,null,0,0,null,0,34734,null,34734]
[{"$f":"IF(AND(INTRO!$E$37=\"Non-endemic\",INTRO!$E$41=\"Non-endemic\"),\" \",IF(COUNTRY_INFO!A157=0,\" \",COUNTRY_INFO!A157))","v":"Cameroun"},{"$f":"IF(AND(INTRO!$E$37=\"Non-endemic\",INTRO!$E$41=\"Non-endemic\"),\" \",IF(COUNTRY_INFO!B157=0,\" \",COUNTRY_INFO!B157))","v":"Nord Ouest"},{"$f":"IF(AND(INTRO!$E$37=\"Non-endemic\",INTRO!$E$41=\"Non-endemic\"),\" \",IF(COUNTRY_INFO!C157=0,\" \",COUNTRY_INFO!C157))","v":"Tubah"},{"$f":"IF(AND(INTRO!$E$37=\"Non-endemic\",INTRO!$E$41=\"Non-endemic\"),0,COUNTRY_INFO!W157)","v":0},{"$f":"IF(AND(INTRO!$E$37=\"Non-endemic\",INTRO!$E$41=\"Non-endemic\"),0,COUNTRY_INFO!Y157)","v":0},{"$f":"IF($D157=1,IVM!G157,0)","v":0},{"$f":"IF($D157=0, \" \", IF(COUNTRY_INFO!$H157=1, IF(COUNTRY_INFO!$L157=1, 0,\" \"),\" \"))","v":" "},null,1,6197.04,17225,null,5717,29139,0,null,0,0,null,0,29139,null,29139]
[{"$f":"IF(AND(INTRO!$E$37=\"Non-endemic\",INTRO!$E$41=\"Non-endemic\"),\" \",IF(COUNTRY_INFO!A158=0,\" \",COUNTRY_INFO!A158))","v":"Cameroun"},{"$f":"IF(AND(INTRO!$E$37=\"Non-endemic\",INTRO!$E$41=\"Non-endemic\"),\" \",IF(COUNTRY_INFO!B158=0,\" \",COUNTRY_INFO!B158))","v":"Nord Ouest"},{"$f":"IF(AND(INTRO!$E$37=\"Non-endemic\",INTRO!$E$41=\"Non-endemic\"),\" \",IF(COUNTRY_INFO!C158=0,\" \",COUNTRY_INFO!C158))","v":"Wum"},{"$f":"IF(AND(INTRO!$E$37=\"Non-endemic\",INTRO!$E$41=\"Non-endemic\"),0,COUNTRY_INFO!W158)","v":0},{"$f":"IF(AND(INTRO!$E$37=\"Non-endemic\",INTRO!$E$41=\"Non-endemic\"),0,COUNTRY_INFO!Y158)","v":1},{"$f":"IF($D158=1,IVM!G158,0)","v":0},{"$f":"IF($D158=0, \" \", IF(COUNTRY_INFO!$H158=1, IF(COUNTRY_INFO!$L158=1, 0,\" \"),\" \"))","v":" "},null,1,11457.342000000001,32219,null,0,43676,0,null,0,0,null,0,43676,null,43676]
[{"$f":"IF(AND(INTRO!$E$37=\"Non-endemic\",INTRO!$E$41=\"Non-endemic\"),\" \",IF(COUNTRY_INFO!A159=0,\" \",COUNTRY_INFO!A159))","v":"Cameroun"},{"$f":"IF(AND(INTRO!$E$37=\"Non-endemic\",INTRO!$E$41=\"Non-endemic\"),\" \",IF(COUNTRY_INFO!B159=0,\" \",COUNTRY_INFO!B159))","v":"Ouest"},{"$f":"IF(AND(INTRO!$E$37=\"Non-endemic\",INTRO!$E$41=\"Non-endemic\"),\" \",IF(COUNTRY_INFO!C159=0,\" \",COUNTRY_INFO!C159))","v":"Bafang"},{"$f":"IF(AND(INTRO!$E$37=\"Non-endemic\",INTRO!$E$41=\"Non-endemic\"),0,COUNTRY_INFO!W159)","v":0},{"$f":"IF(AND(INTRO!$E$37=\"Non-endemic\",INTRO!$E$41=\"Non-endemic\"),0,COUNTRY_INFO!Y159)","v":1},{"$f":"IF($D159=1,IVM!G159,0)","v":0},{"$f":"IF($D159=0, \" \", IF(COUNTRY_INFO!$H159=1, IF(COUNTRY_INFO!$L159=1, 0,\" \"),\" \"))","v":" "},null,1,12707.01,23154,null,0,35861,0,null,0,0,null,0,35861,null,35861]
[{"$f":"IF(AND(INTRO!$E$37=\"Non-endemic\",INTRO!$E$41=\"Non-endemic\"),\" \",IF(COUNTRY_INFO!A160=0,\" \",COUNTRY_INFO!A160))","v":"Cameroun"},{"$f":"IF(AND(INTRO!$E$37=\"Non-endemic\",INTRO!$E$41=\"Non-endemic\"),\" \",IF(COUNTRY_INFO!B160=0,\" \",COUNTRY_INFO!B160))","v":"Ouest"},{"$f":"IF(AND(INTRO!$E$37=\"Non-endemic\",INTRO!$E$41=\"Non-endemic\"),\" \",IF(COUNTRY_INFO!C160=0,\" \",COUNTRY_INFO!C160))","v":"Baham"},{"$f":"IF(AND(INTRO!$E$37=\"Non-endemic\",INTRO!$E$41=\"Non-endemic\"),0,COUNTRY_INFO!W160)","v":0},{"$f":"IF(AND(INTRO!$E$37=\"Non-endemic\",INTRO!$E$41=\"Non-endemic\"),0,COUNTRY_INFO!Y160)","v":1},{"$f":"IF($D160=1,IVM!G160,0)","v":0},{"$f":"IF($D160=0, \" \", IF(COUNTRY_INFO!$H160=1, IF(COUNTRY_INFO!$L160=1, 0,\" \"),\" \"))","v":" "},null,1,7871.4719999999998,13208,null,4373,25452,0,null,0,0,null,0,25452,null,25452]
[{"$f":"IF(AND(INTRO!$E$37=\"Non-endemic\",INTRO!$E$41=\"Non-endemic\"),\" \",IF(COUNTRY_INFO!A161=0,\" \",COUNTRY_INFO!A161))","v":"Cameroun"},{"$f":"IF(AND(INTRO!$E$37=\"Non-endemic\",INTRO!$E$41=\"Non-endemic\"),\" \",IF(COUNTRY_INFO!B161=0,\" \",COUNTRY_INFO!B161))","v":"Ouest"},{"$f":"IF(AND(INTRO!$E$37=\"Non-endemic\",INTRO!$E$41=\"Non-endemic\"),\" \",IF(COUNTRY_INFO!C161=0,\" \",COUNTRY_INFO!C161))","v":"Bamendjou"},{"$f":"IF(AND(INTRO!$E$37=\"Non-endemic\",INTRO!$E$41=\"Non-endemic\"),0,COUNTRY_INFO!W161)","v":0},{"$f":"IF(AND(INTRO!$E$37=\"Non-endemic\",INTRO!$E$41=\"Non-endemic\"),0,COUNTRY_INFO!Y161)","v":1},{"$f":"IF($D161=1,IVM!G161,0)","v":0},{"$f":"IF($D161=0, \" \", IF(COUNTRY_INFO!$H161=1, IF(COUNTRY_INFO!$L161=1, 0,\" \"),\" \"))","v":" "},null,1,7487.7480000000005,12132,null,0,19620,0,null,0,0,null,0,19620,null,19620]
[{"$f":"IF(AND(INTRO!$E$37=\"Non-endemic\",INTRO!$E$41=\"Non-endemic\"),\" \",IF(COUNTRY_INFO!A162=0,\" \",COUNTRY_INFO!A162))","v":"Cameroun"},{"$f":"IF(AND(INTRO!$E$37=\"Non-endemic\",INTRO!$E$41=\"Non-endemic\"),\" \",IF(COUNTRY_INFO!B162=0,\" \",COUNTRY_INFO!B162))","v":"Ouest"},{"$f":"IF(AND(INTRO!$E$37=\"Non-endemic\",INTRO!$E$41=\"Non-endemic\"),\" \",IF(COUNTRY_INFO!C162=0,\" \",COUNTRY_INFO!C162))","v":"Bandja"},{"$f":"IF(AND(INTRO!$E$37=\"Non-endemic\",INTRO!$E$41=\"Non-endemic\"),0,COUNTRY_INFO!W162)","v":0},{"$f":"IF(AND(INTRO!$E$37=\"Non-endemic\",INTRO!$E$41=\"Non-endemic\"),0,COUNTRY_INFO!Y162)","v":1},{"$f":"IF($D162=1,IVM!G162,0)","v":0},{"$f":"IF($D162=0, \" \", IF(COUNTRY_INFO!$H162=1, IF(COUNTRY_INFO!$L162=1, 0,\" \"),\" \"))","v":" "},null,1,5267.4840000000004,8080,null,0,13347,0,null,0,0,null,0,13347,null,13347]
[{"$f":"IF(AND(INTRO!$E$37=\"Non-endemic\",INTRO!$E$41=\"Non-endemic\"),\" \",IF(COUNTRY_INFO!A163=0,\" \",COUNTRY_INFO!A163))","v":"Cameroun"},{"$f":"IF(AND(INTRO!$E$37=\"Non-endemic\",INTRO!$E$41=\"Non-endemic\"),\" \",IF(COUNTRY_INFO!B163=0,\" \",COUNTRY_INFO!B163))","v":"Ouest"},{"$f":"IF(AND(INTRO!$E$37=\"Non-endemic\",INTRO!$E$41=\"Non-endemic\"),\" \",IF(COUNTRY_INFO!C163=0,\" \",COUNTRY_INFO!C163))","v":"Bandjoun"},{"$f":"IF(AND(INTRO!$E$37=\"Non-endemic\",INTRO!$E$41=\"Non-endemic\"),0,COUNTRY_INFO!W163)","v":0},{"$f":"IF(AND(INTRO!$E$37=\"Non-endemic\",INTRO!$E$41=\"Non-endemic\"),0,COUNTRY_INFO!Y163)","v":1},{"$f":"IF($D163=1,IVM!G163,0)","v":0},{"$f":"IF($D163=0, \" \", IF(COUNTRY_INFO!$H163=1, IF(COUNTRY_INFO!$L163=1, 0,\" \"),\" \"))","v":" "},null,1,22291.902000000002,27758,null,0,50050,0,null,0,0,null,0,50050,null,50050]
[{"$f":"IF(AND(INTRO!$E$37=\"Non-endemic\",INTRO!$E$41=\"Non-endemic\"),\" \",IF(COUNTRY_INFO!A164=0,\" \",COUNTRY_INFO!A164))","v":"Cameroun"},{"$f":"IF(AND(INTRO!$E$37=\"Non-endemic\",INTRO!$E$41=\"Non-endemic\"),\" \",IF(COUNTRY_INFO!B164=0,\" \",COUNTRY_INFO!B164))","v":"Ouest"},{"$f":"IF(AND(INTRO!$E$37=\"Non-endemic\",INTRO!$E$41=\"Non-endemic\"),\" \",IF(COUNTRY_INFO!C164=0,\" \",COUNTRY_INFO!C164))","v":"Bangangte"},{"$f":"IF(AND(INTRO!$E$37=\"Non-endemic\",INTRO!$E$41=\"Non-endemic\"),0,COUNTRY_INFO!W164)","v":0},{"$f":"IF(AND(INTRO!$E$37=\"Non-endemic\",INTRO!$E$41=\"Non-endemic\"),0,COUNTRY_INFO!Y164)","v":1},{"$f":"IF($D164=1,IVM!G164,0)","v":0},{"$f":"IF($D164=0, \" \", IF(COUNTRY_INFO!$H164=1, IF(COUNTRY_INFO!$L164=1, 0,\" \"),\" \"))","v":" "},null,1,18815.814000000002,34013,null,0,52829,0,null,0,0,null,0,52829,null,52829]
[{"$f":"IF(AND(INTRO!$E$37=\"Non-endemic\",INTRO!$E$41=\"Non-endemic\"),\" \",IF(COUNTRY_INFO!A165=0,\" \",COUNTRY_INFO!A165))","v":"Cameroun"},{"$f":"IF(AND(INTRO!$E$37=\"Non-endemic\",INTRO!$E$41=\"Non-endemic\"),\" \",IF(COUNTRY_INFO!B165=0,\" \",COUNTRY_INFO!B165))","v":"Ouest"},{"$f":"IF(AND(INTRO!$E$37=\"Non-endemic\",INTRO!$E$41=\"Non-endemic\"),\" \",IF(COUNTRY_INFO!C165=0,\" \",COUNTRY_INFO!C165))","v":"Bangourain"},{"$f":"IF(AND(INTRO!$E$37=\"Non-endemic\",INTRO!$E$41=\"Non-endemic\"),0,COUNTRY_INFO!W165)","v":0},{"$f":"IF(AND(INTRO!$E$37=\"Non-endemic\",INTRO!$E$41=\"Non-endemic\"),0,COUNTRY_INFO!Y165)","v":0},{"$f":"IF($D165=1,IVM!G165,0)","v":0},{"$f":"IF($D165=0, \" \", IF(COUNTRY_INFO!$H165=1, IF(COUNTRY_INFO!$L165=1, 0,\" \"),\" \"))","v":" "},null,1,10006.578,14896,null,0,24903,0,null,0,0,null,0,24903,null,24903]
[{"$f":"IF(AND(INTRO!$E$37=\"Non-endemic\",INTRO!$E$41=\"Non-endemic\"),\" \",IF(COUNTRY_INFO!A166=0,\" \",COUNTRY_INFO!A166))","v":"Cameroun"},{"$f":"IF(AND(INTRO!$E$37=\"Non-endemic\",INTRO!$E$41=\"Non-endemic\"),\" \",IF(COUNTRY_INFO!B166=0,\" \",COUNTRY_INFO!B166))","v":"Ouest"},{"$f":"IF(AND(INTRO!$E$37=\"Non-endemic\",INTRO!$E$41=\"Non-endemic\"),\" \",IF(COUNTRY_INFO!C166=0,\" \",COUNTRY_INFO!C166))","v":"Batcham"},{"$f":"IF(AND(INTRO!$E$37=\"Non-endemic\",INTRO!$E$41=\"Non-endemic\"),0,COUNTRY_INFO!W166)","v":0},{"$f":"IF(AND(INTRO!$E$37=\"Non-endemic\",INTRO!$E$41=\"Non-endemic\"),0,COUNTRY_INFO!Y166)","v":1},{"$f":"IF($D166=1,IVM!G166,0)","v":0},{"$f":"IF($D166=0, \" \", IF(COUNTRY_INFO!$H166=1, IF(COUNTRY_INFO!$L166=1, 0,\" \"),\" \"))","v":" "},null,1,12368.43,25906,null,0,38274,0,null,0,0,null,0,38274,null,38274]
[{"$f":"IF(AND(INTRO!$E$37=\"Non-endemic\",INTRO!$E$41=\"Non-endemic\"),\" \",IF(COUNTRY_INFO!A167=0,\" \",COUNTRY_INFO!A167))","v":"Cameroun"},{"$f":"IF(AND(INTRO!$E$37=\"Non-endemic\",INTRO!$E$41=\"Non-endemic\"),\" \",IF(COUNTRY_INFO!B167=0,\" \",COUNTRY_INFO!B167))","v":"Ouest"},{"$f":"IF(AND(INTRO!$E$37=\"Non-endemic\",INTRO!$E$41=\"Non-endemic\"),\" \",IF(COUNTRY_INFO!C167=0,\" \",COUNTRY_INFO!C167))","v":"Dschang"},{"$f":"IF(AND(INTRO!$E$37=\"Non-endemic\",INTRO!$E$41=\"Non-endemic\"),0,COUNTRY_INFO!W167)","v":0},{"$f":"IF(AND(INTRO!$E$37=\"Non-endemic\",INTRO!$E$41=\"Non-endemic\"),0,COUNTRY_INFO!Y167)","v":1},{"$f":"IF($D167=1,IVM!G167,0)","v":0},{"$f":"IF($D167=0, \" \", IF(COUNTRY_INFO!$H167=1, IF(COUNTRY_INFO!$L167=1, 0,\" \"),\" \"))","v":" "},null,1,41353.955999999998,67941,null,0,109295,0,null,0,0,null,0,109295,null,109295]
[{"$f":"IF(AND(INTRO!$E$37=\"Non-endemic\",INTRO!$E$41=\"Non-endemic\"),\" \",IF(COUNTRY_INFO!A168=0,\" \",COUNTRY_INFO!A168))","v":"Cameroun"},{"$f":"IF(AND(INTRO!$E$37=\"Non-endemic\",INTRO!$E$41=\"Non-endemic\"),\" \",IF(COUNTRY_INFO!B168=0,\" \",COUNTRY_INFO!B168))","v":"Ouest"},{"$f":"IF(AND(INTRO!$E$37=\"Non-endemic\",INTRO!$E$41=\"Non-endemic\"),\" \",IF(COUNTRY_INFO!C168=0,\" \",COUNTRY_INFO!C168))","v":"Foumban"},{"$f":"IF(AND(INTRO!$E$37=\"Non-endemic\",INTRO!$E$41=\"Non-endemic\"),0,COUNTRY_INFO!W168)","v":0},{"$f":"IF(AND(INTRO!$E$37=\"Non-endemic\",INTRO!$E$41=\"Non-endemic\"),0,COUNTRY_INFO!Y168)","v":1},{"$f":"IF($D168=1,IVM!G168,0)","v":0},{"$f":"IF($D168=0, \" \", IF(COUNTRY_INFO!$H168=1, IF(COUNTRY_INFO!$L168=1, 0,\" \"),\" \"))","v":" "},null,1,54025.056000000004,72712,null,0,126737,0,null,0,0,null,0,126737,null,126737]
[{"$f":"IF(AND(INTRO!$E$37=\"Non-endemic\",INTRO!$E$41=\"Non-endemic\"),\" \",IF(COUNTRY_INFO!A169=0,\" \",COUNTRY_INFO!A169))","v":"Cameroun"},{"$f":"IF(AND(INTRO!$E$37=\"Non-endemic\",INTRO!$E$41=\"Non-endemic\"),\" \",IF(COUNTRY_INFO!B169=0,\" \",COUNTRY_INFO!B169))","v":"Ouest"},{"$f":"IF(AND(INTRO!$E$37=\"Non-endemic\",INTRO!$E$41=\"Non-endemic\"),\" \",IF(COUNTRY_INFO!C169=0,\" \",COUNTRY_INFO!C169))","v":"Foumbot"},{"$f":"IF(AND(INTRO!$E$37=\"Non-endemic\",INTRO!$E$41=\"Non-endemic\"),0,COUNTRY_INFO!W169)","v":0},{"$f":"IF(AND(INTRO!$E$37=\"Non-endemic\",INTRO!$E$41=\"Non-endemic\"),0,COUNTRY_INFO!Y169)","v":1},{"$f":"IF($D169=1,IVM!G169,0)","v":0},{"$f":"IF($D169=0, \" \", IF(COUNTRY_INFO!$H169=1, IF(COUNTRY_INFO!$L169=1, 0,\" \"),\" \"))","v":" "},null,1,25259.094000000001,38629,null,0,63888,0,null,0,0,null,0,63888,null,63888]
[{"$f":"IF(AND(INTRO!$E$37=\"Non-endemic\",INTRO!$E$41=\"Non-endemic\"),\" \",IF(COUNTRY_INFO!A170=0,\" \",COUNTRY_INFO!A170))","v":"Cameroun"},{"$f":"IF(AND(INTRO!$E$37=\"Non-endemic\",INTRO!$E$41=\"Non-endemic\"),\" \",IF(COUNTRY_INFO!B170=0,\" \",COUNTRY_INFO!B170))","v":"Ouest"},{"$f":"IF(AND(INTRO!$E$37=\"Non-endemic\",INTRO!$E$41=\"Non-endemic\"),\" \",IF(COUNTRY_INFO!C170=0,\" \",COUNTRY_INFO!C170))","v":"Galim"},{"$f":"IF(AND(INTRO!$E$37=\"Non-endemic\",INTRO!$E$41=\"Non-endemic\"),0,COUNTRY_INFO!W170)","v":0},{"$f":"IF(AND(INTRO!$E$37=\"Non-endemic\",INTRO!$E$41=\"Non-endemic\"),0,COUNTRY_INFO!Y170)","v":1},{"$f":"IF($D170=1,IVM!G170,0)","v":0},{"$f":"IF($D170=0, \" \", IF(COUNTRY_INFO!$H170=1, IF(COUNTRY_INFO!$L170=1, 0,\" \"),\" \"))","v":" "},null,1,12460.77,19024,null,6299,37784,0,null,0,0,null,0,37784,null,37784]
[{"$f":"IF(AND(INTRO!$E$37=\"Non-endemic\",INTRO!$E$41=\"Non-endemic\"),\" \",IF(COUNTRY_INFO!A171=0,\" \",COUNTRY_INFO!A171))","v":"Cameroun"},{"$f":"IF(AND(INTRO!$E$37=\"Non-endemic\",INTRO!$E$41=\"Non-endemic\"),\" \",IF(COUNTRY_INFO!B171=0,\" \",COUNTRY_INFO!B171))","v":"Ouest"},{"$f":"IF(AND(INTRO!$E$37=\"Non-endemic\",INTRO!$E$41=\"Non-endemic\"),\" \",IF(COUNTRY_INFO!C171=0,\" \",COUNTRY_INFO!C171))","v":"Kekem"},{"$f":"IF(AND(INTRO!$E$37=\"Non-endemic\",INTRO!$E$41=\"Non-endemic\"),0,COUNTRY_INFO!W171)","v":0},{"$f":"IF(AND(INTRO!$E$37=\"Non-endemic\",INTRO!$E$41=\"Non-endemic\"),0,COUNTRY_INFO!Y171)","v":1},{"$f":"IF($D171=1,IVM!G171,0)","v":0},{"$f":"IF($D171=0, \" \", IF(COUNTRY_INFO!$H171=1, IF(COUNTRY_INFO!$L171=1, 0,\" \"),\" \"))","v":" "},null,1,6225.768,13728,null,0,19954,0,null,0,0,null,0,19954,null,19954]
[{"$f":"IF(AND(INTRO!$E$37=\"Non-endemic\",INTRO!$E$41=\"Non-endemic\"),\" \",IF(COUNTRY_INFO!A172=0,\" \",COUNTRY_INFO!A172))","v":"Cameroun"},{"$f":"IF(AND(INTRO!$E$37=\"Non-endemic\",INTRO!$E$41=\"Non-endemic\"),\" \",IF(COUNTRY_INFO!B172=0,\" \",COUNTRY_INFO!B172))","v":"Ouest"},{"$f":"IF(AND(INTRO!$E$37=\"Non-endemic\",INTRO!$E$41=\"Non-endemic\"),\" \",IF(COUNTRY_INFO!C172=0,\" \",COUNTRY_INFO!C172))","v":"Kouoptamo"},{"$f":"IF(AND(INTRO!$E$37=\"Non-endemic\",INTRO!$E$41=\"Non-endemic\"),0,COUNTRY_INFO!W172)","v":0},{"$f":"IF(AND(INTRO!$E$37=\"Non-endemic\",INTRO!$E$41=\"Non-endemic\"),0,COUNTRY_INFO!Y172)","v":1},{"$f":"IF($D172=1,IVM!G172,0)","v":0},{"$f":"IF($D172=0, \" \", IF(COUNTRY_INFO!$H172=1, IF(COUNTRY_INFO!$L172=1, 0,\" \"),\" \"))","v":" "},null,1,13424.184000000001,20073,null,0,33497,0,null,0,0,null,0,33497,null,33497]
[{"$f":"IF(AND(INTRO!$E$37=\"Non-endemic\",INTRO!$E$41=\"Non-endemic\"),\" \",IF(COUNTRY_INFO!A173=0,\" \",COUNTRY_INFO!A173))","v":"Cameroun"},{"$f":"IF(AND(INTRO!$E$37=\"Non-endemic\",INTRO!$E$41=\"Non-endemic\"),\" \",IF(COUNTRY_INFO!B173=0,\" \",COUNTRY_INFO!B173))","v":"Ouest"},{"$f":"IF(AND(INTRO!$E$37=\"Non-endemic\",INTRO!$E$41=\"Non-endemic\"),\" \",IF(COUNTRY_INFO!C173=0,\" \",COUNTRY_INFO!C173))","v":"Malantouen"},{"$f":"IF(AND(INTRO!$E$37=\"Non-endemic\",INTRO!$E$41=\"Non-endemic\"),0,COUNTRY_INFO!W173)","v":0},{"$f":"IF(AND(INTRO!$E$37=\"Non-endemic\",INTRO!$E$41=\"Non-endemic\"),0,COUNTRY_INFO!Y173)","v":1},{"$f":"IF($D173=1,IVM!G173,0)","v":0},{"$f":"IF($D173=0, \" \", IF(COUNTRY_INFO!$H173=1, IF(COUNTRY_INFO!$L173=1, 0,\" \"),\" \"))","v":" "},null,1,31468.446,42813,null,0,74281,0,null,0,0,null,0,74281,null,74281]
[{"$f":"IF(AND(INTRO!$E$37=\"Non-endemic\",INTRO!$E$41=\"Non-endemic\"),\" \",IF(COUNTRY_INFO!A174=0,\" \",COUNTRY_INFO!A174))","v":"Cameroun"},{"$f":"IF(AND(INTRO!$E$37=\"Non-endemic\",INTRO!$E$41=\"Non-endemic\"),\" \",IF(COUNTRY_INFO!B174=0,\" \",COUNTRY_INFO!B174))","v":"Ouest"},{"$f":"IF(AND(INTRO!$E$37=\"Non-endemic\",INTRO!$E$41=\"Non-endemic\"),\" \",IF(COUNTRY_INFO!C174=0,\" \",COUNTRY_INFO!C174))","v":"Massangam"},{"$f":"IF(AND(INTRO!$E$37=\"Non-endemic\",INTRO!$E$41=\"Non-endemic\"),0,COUNTRY_INFO!W174)","v":0},{"$f":"IF(AND(INTRO!$E$37=\"Non-endemic\",INTRO!$E$41=\"Non-endemic\"),0,COUNTRY_INFO!Y174)","v":1},{"$f":"IF($D174=1,IVM!G174,0)","v":0},{"$f":"IF($D174=0, \" \", IF(COUNTRY_INFO!$H174=1, IF(COUNTRY_INFO!$L174=1, 0,\" \"),\" \"))","v":" "},null,1,9714.1679999999997,14393,null,0,24107,0,null,0,0,null,0,24107,null,24107]
[{"$f":"IF(AND(INTRO!$E$37=\"Non-endemic\",INTRO!$E$41=\"Non-endemic\"),\" \",IF(COUNTRY_INFO!A175=0,\" \",COUNTRY_INFO!A175))","v":"Cameroun"},{"$f":"IF(AND(INTRO!$E$37=\"Non-endemic\",INTRO!$E$41=\"Non-endemic\"),\" \",IF(COUNTRY_INFO!B175=0,\" \",COUNTRY_INFO!B175))","v":"Ouest"},{"$f":"IF(AND(INTRO!$E$37=\"Non-endemic\",INTRO!$E$41=\"Non-endemic\"),\" \",IF(COUNTRY_INFO!C175=0,\" \",COUNTRY_INFO!C175))","v":"Mbouda"},{"$f":"IF(AND(INTRO!$E$37=\"Non-endemic\",INTRO!$E$41=\"Non-endemic\"),0,COUNTRY_INFO!W175)","v":0},{"$f":"IF(AND(INTRO!$E$37=\"Non-endemic\",INTRO!$E$41=\"Non-endemic\"),0,COUNTRY_INFO!Y175)","v":1},{"$f":"IF($D175=1,IVM!G175,0)","v":0},{"$f":"IF($D175=0, \" \", IF(COUNTRY_INFO!$H175=1, IF(COUNTRY_INFO!$L175=1, 0,\" \"),\" \"))","v":" "},null,1,30839.508000000002,55059,null,0,85899,0,null,0,0,null,0,85899,null,85899]
[{"$f":"IF(AND(INTRO!$E$37=\"Non-endemic\",INTRO!$E$41=\"Non-endemic\"),\" \",IF(COUNTRY_INFO!A176=0,\" \",COUNTRY_INFO!A176))","v":"Cameroun"},{"$f":"IF(AND(INTRO!$E$37=\"Non-endemic\",INTRO!$E$41=\"Non-endemic\"),\" \",IF(COUNTRY_INFO!B176=0,\" \",COUNTRY_INFO!B176))","v":"Ouest"},{"$f":"IF(AND(INTRO!$E$37=\"Non-endemic\",INTRO!$E$41=\"Non-endemic\"),\" \",IF(COUNTRY_INFO!C176=0,\" \",COUNTRY_INFO!C176))","v":"Mifi"},{"$f":"IF(AND(INTRO!$E$37=\"Non-endemic\",INTRO!$E$41=\"Non-endemic\"),0,COUNTRY_INFO!W176)","v":0},{"$f":"IF(AND(INTRO!$E$37=\"Non-endemic\",INTRO!$E$41=\"Non-endemic\"),0,COUNTRY_INFO!Y176)","v":1},{"$f":"IF($D176=1,IVM!G176,0)","v":0},{"$f":"IF($D176=0, \" \", IF(COUNTRY_INFO!$H176=1, IF(COUNTRY_INFO!$L176=1, 0,\" \"),\" \"))","v":" "},null,1,80218.835999999996,126019,null,41723,247961,0,null,0,0,null,0,247961,null,247961]
[{"$f":"IF(AND(INTRO!$E$37=\"Non-endemic\",INTRO!$E$41=\"Non-endemic\"),\" \",IF(COUNTRY_INFO!A177=0,\" \",COUNTRY_INFO!A177))","v":"Cameroun"},{"$f":"IF(AND(INTRO!$E$37=\"Non-endemic\",INTRO!$E$41=\"Non-endemic\"),\" \",IF(COUNTRY_INFO!B177=0,\" \",COUNTRY_INFO!B177))","v":"Ouest"},{"$f":"IF(AND(INTRO!$E$37=\"Non-endemic\",INTRO!$E$41=\"Non-endemic\"),\" \",IF(COUNTRY_INFO!C177=0,\" \",COUNTRY_INFO!C177))","v":"Penka Michel"},{"$f":"IF(AND(INTRO!$E$37=\"Non-endemic\",INTRO!$E$41=\"Non-endemic\"),0,COUNTRY_INFO!W177)","v":0},{"$f":"IF(AND(INTRO!$E$37=\"Non-endemic\",INTRO!$E$41=\"Non-endemic\"),0,COUNTRY_INFO!Y177)","v":1},{"$f":"IF($D177=1,IVM!G177,0)","v":0},{"$f":"IF($D177=0, \" \", IF(COUNTRY_INFO!$H177=1, IF(COUNTRY_INFO!$L177=1, 0,\" \"),\" \"))","v":" "},null,1,13622.202000000001,24573,null,0,38195,0,null,0,0,null,0,38195,null,38195]
[{"$f":"IF(AND(INTRO!$E$37=\"Non-endemic\",INTRO!$E$41=\"Non-endemic\"),\" \",IF(COUNTRY_INFO!A178=0,\" \",COUNTRY_INFO!A178))","v":"Cameroun"},{"$f":"IF(AND(INTRO!$E$37=\"Non-endemic\",INTRO!$E$41=\"Non-endemic\"),\" \",IF(COUNTRY_INFO!B178=0,\" \",COUNTRY_INFO!B178))","v":"Ouest"},{"$f":"IF(AND(INTRO!$E$37=\"Non-endemic\",INTRO!$E$41=\"Non-endemic\"),\" \",IF(COUNTRY_INFO!C178=0,\" \",COUNTRY_INFO!C178))","v":"Santchou"},{"$f":"IF(AND(INTRO!$E$37=\"Non-endemic\",INTRO!$E$41=\"Non-endemic\"),0,COUNTRY_INFO!W178)","v":0},{"$f":"IF(AND(INTRO!$E$37=\"Non-endemic\",INTRO!$E$41=\"Non-endemic\"),0,COUNTRY_INFO!Y178)","v":1},{"$f":"IF($D178=1,IVM!G178,0)","v":0},{"$f":"IF($D178=0, \" \", IF(COUNTRY_INFO!$H178=1, IF(COUNTRY_INFO!$L178=1, 0,\" \"),\" \"))","v":" "},null,1,6219.6120000000001,10878,null,3601,20699,0,null,0,0,null,0,20699,null,20699]
[{"$f":"IF(AND(INTRO!$E$37=\"Non-endemic\",INTRO!$E$41=\"Non-endemic\"),\" \",IF(COUNTRY_INFO!A179=0,\" \",COUNTRY_INFO!A179))","v":"Cameroun"},{"$f":"IF(AND(INTRO!$E$37=\"Non-endemic\",INTRO!$E$41=\"Non-endemic\"),\" \",IF(COUNTRY_INFO!B179=0,\" \",COUNTRY_INFO!B179))","v":"Sud"},{"$f":"IF(AND(INTRO!$E$37=\"Non-endemic\",INTRO!$E$41=\"Non-endemic\"),\" \",IF(COUNTRY_INFO!C179=0,\" \",COUNTRY_INFO!C179))","v":"Ambam"},{"$f":"IF(AND(INTRO!$E$37=\"Non-endemic\",INTRO!$E$41=\"Non-endemic\"),0,COUNTRY_INFO!W179)","v":0},{"$f":"IF(AND(INTRO!$E$37=\"Non-endemic\",INTRO!$E$41=\"Non-endemic\"),0,COUNTRY_INFO!Y179)","v":1},{"$f":"IF($D179=1,IVM!G179,0)","v":0},{"$f":"IF($D179=0, \" \", IF(COUNTRY_INFO!$H179=1, IF(COUNTRY_INFO!$L179=1, 0,\" \"),\" \"))","v":" "},null,1,12428.964,34215,null,8323,54967,0,null,0,0,null,0,54967,null,54967]
[{"$f":"IF(AND(INTRO!$E$37=\"Non-endemic\",INTRO!$E$41=\"Non-endemic\"),\" \",IF(COUNTRY_INFO!A180=0,\" \",COUNTRY_INFO!A180))","v":"Cameroun"},{"$f":"IF(AND(INTRO!$E$37=\"Non-endemic\",INTRO!$E$41=\"Non-endemic\"),\" \",IF(COUNTRY_INFO!B180=0,\" \",COUNTRY_INFO!B180))","v":"Sud"},{"$f":"IF(AND(INTRO!$E$37=\"Non-endemic\",INTRO!$E$41=\"Non-endemic\"),\" \",IF(COUNTRY_INFO!C180=0,\" \",COUNTRY_INFO!C180))","v":"Djoum"},{"$f":"IF(AND(INTRO!$E$37=\"Non-endemic\",INTRO!$E$41=\"Non-endemic\"),0,COUNTRY_INFO!W180)","v":0},{"$f":"IF(AND(INTRO!$E$37=\"Non-endemic\",INTRO!$E$41=\"Non-endemic\"),0,COUNTRY_INFO!Y180)","v":1},{"$f":"IF($D180=1,IVM!G180,0)","v":0},{"$f":"IF($D180=0, \" \", IF(COUNTRY_INFO!$H180=1, IF(COUNTRY_INFO!$L180=1, 0,\" \"),\" \"))","v":" "},null,1,6000.0479999999998,12130,null,4054,22184,0,null,0,0,null,0,22184,null,22184]
[{"$f":"IF(AND(INTRO!$E$37=\"Non-endemic\",INTRO!$E$41=\"Non-endemic\"),\" \",IF(COUNTRY_INFO!A181=0,\" \",COUNTRY_INFO!A181))","v":"Cameroun"},{"$f":"IF(AND(INTRO!$E$37=\"Non-endemic\",INTRO!$E$41=\"Non-endemic\"),\" \",IF(COUNTRY_INFO!B181=0,\" \",COUNTRY_INFO!B181))","v":"Sud"},{"$f":"IF(AND(INTRO!$E$37=\"Non-endemic\",INTRO!$E$41=\"Non-endemic\"),\" \",IF(COUNTRY_INFO!C181=0,\" \",COUNTRY_INFO!C181))","v":"Ebolowa"},{"$f":"IF(AND(INTRO!$E$37=\"Non-endemic\",INTRO!$E$41=\"Non-endemic\"),0,COUNTRY_INFO!W181)","v":0},{"$f":"IF(AND(INTRO!$E$37=\"Non-endemic\",INTRO!$E$41=\"Non-endemic\"),0,COUNTRY_INFO!Y181)","v":1},{"$f":"IF($D181=1,IVM!G181,0)","v":0},{"$f":"IF($D181=0, \" \", IF(COUNTRY_INFO!$H181=1, IF(COUNTRY_INFO!$L181=1, 0,\" \"),\" \"))","v":" "},null,1,34993.781999999999,67156,null,22446,124596,0,null,0,0,null,0,124596,null,124596]
[{"$f":"IF(AND(INTRO!$E$37=\"Non-endemic\",INTRO!$E$41=\"Non-endemic\"),\" \",IF(COUNTRY_INFO!A182=0,\" \",COUNTRY_INFO!A182))","v":"Cameroun"},{"$f":"IF(AND(INTRO!$E$37=\"Non-endemic\",INTRO!$E$41=\"Non-endemic\"),\" \",IF(COUNTRY_INFO!B182=0,\" \",COUNTRY_INFO!B182))","v":"Sud"},{"$f":"IF(AND(INTRO!$E$37=\"Non-endemic\",INTRO!$E$41=\"Non-endemic\"),\" \",IF(COUNTRY_INFO!C182=0,\" \",COUNTRY_INFO!C182))","v":"Kribi"},{"$f":"IF(AND(INTRO!$E$37=\"Non-endemic\",INTRO!$E$41=\"Non-endemic\"),0,COUNTRY_INFO!W182)","v":0},{"$f":"IF(AND(INTRO!$E$37=\"Non-endemic\",INTRO!$E$41=\"Non-endemic\"),0,COUNTRY_INFO!Y182)","v":1},{"$f":"IF($D182=1,IVM!G182,0)","v":0},{"$f":"IF($D182=0, \" \", IF(COUNTRY_INFO!$H182=1, IF(COUNTRY_INFO!$L182=1, 0,\" \"),\" \"))","v":" "},null,1,15534.666000000001,49858,null,10969,76362,0,null,0,0,null,0,76362,null,76362]
[{"$f":"IF(AND(INTRO!$E$37=\"Non-endemic\",INTRO!$E$41=\"Non-endemic\"),\" \",IF(COUNTRY_INFO!A183=0,\" \",COUNTRY_INFO!A183))","v":"Cameroun"},{"$f":"IF(AND(INTRO!$E$37=\"Non-endemic\",INTRO!$E$41=\"Non-endemic\"),\" \",IF(COUNTRY_INFO!B183=0,\" \",COUNTRY_INFO!B183))","v":"Sud"},{"$f":"IF(AND(INTRO!$E$37=\"Non-endemic\",INTRO!$E$41=\"Non-endemic\"),\" \",IF(COUNTRY_INFO!C183=0,\" \",COUNTRY_INFO!C183))","v":"Kye ossi "},{"$f":"IF(AND(INTRO!$E$37=\"Non-endemic\",INTRO!$E$41=\"Non-endemic\"),0,COUNTRY_INFO!W183)","v":0},{"$f":"IF(AND(INTRO!$E$37=\"Non-endemic\",INTRO!$E$41=\"Non-endemic\"),0,COUNTRY_INFO!Y183)","v":1},{"$f":"IF($D183=1,IVM!G183,0)","v":0},{"$f":"IF($D183=0, \" \", IF(COUNTRY_INFO!$H183=1, IF(COUNTRY_INFO!$L183=1, 0,\" \"),\" \"))","v":" "},null,1,5887.1879999999992,2319,null,3473,11679,0,null,0,0,null,0,11679,null,11679]
[{"$f":"IF(AND(INTRO!$E$37=\"Non-endemic\",INTRO!$E$41=\"Non-endemic\"),\" \",IF(COUNTRY_INFO!A184=0,\" \",COUNTRY_INFO!A184))","v":"Cameroun"},{"$f":"IF(AND(INTRO!$E$37=\"Non-endemic\",INTRO!$E$41=\"Non-endemic\"),\" \",IF(COUNTRY_INFO!B184=0,\" \",COUNTRY_INFO!B184))","v":"Sud"},{"$f":"IF(AND(INTRO!$E$37=\"Non-endemic\",INTRO!$E$41=\"Non-endemic\"),\" \",IF(COUNTRY_INFO!C184=0,\" \",COUNTRY_INFO!C184))","v":"Lolodorf"},{"$f":"IF(AND(INTRO!$E$37=\"Non-endemic\",INTRO!$E$41=\"Non-endemic\"),0,COUNTRY_INFO!W184)","v":0},{"$f":"IF(AND(INTRO!$E$37=\"Non-endemic\",INTRO!$E$41=\"Non-endemic\"),0,COUNTRY_INFO!Y184)","v":1},{"$f":"IF($D184=1,IVM!G184,0)","v":0},{"$f":"IF($D184=0, \" \", IF(COUNTRY_INFO!$H184=1, IF(COUNTRY_INFO!$L184=1, 0,\" \"),\" \"))","v":" "},null,1,5447.0340000000006,12216,null,4083,21746,0,null,0,0,null,0,21746,null,21746]
[{"$f":"IF(AND(INTRO!$E$37=\"Non-endemic\",INTRO!$E$41=\"Non-endemic\"),\" \",IF(COUNTRY_INFO!A185=0,\" \",COUNTRY_INFO!A185))","v":"Cameroun"},{"$f":"IF(AND(INTRO!$E$37=\"Non-endemic\",INTRO!$E$41=\"Non-endemic\"),\" \",IF(COUNTRY_INFO!B185=0,\" \",COUNTRY_INFO!B185))","v":"Sud"},{"$f":"IF(AND(INTRO!$E$37=\"Non-endemic\",INTRO!$E$41=\"Non-endemic\"),\" \",IF(COUNTRY_INFO!C185=0,\" \",COUNTRY_INFO!C185))","v":"Meyomessala"},{"$f":"IF(AND(INTRO!$E$37=\"Non-endemic\",INTRO!$E$41=\"Non-endemic\"),0,COUNTRY_INFO!W185)","v":0},{"$f":"IF(AND(INTRO!$E$37=\"Non-endemic\",INTRO!$E$41=\"Non-endemic\"),0,COUNTRY_INFO!Y185)","v":1},{"$f":"IF($D185=1,IVM!G185,0)","v":0},{"$f":"IF($D185=0, \" \", IF(COUNTRY_INFO!$H185=1, IF(COUNTRY_INFO!$L185=1, 0,\" \"),\" \"))","v":" "},null,1,7410.7979999999998,19984,null,6679,34074,0,null,0,0,null,0,34074,null,34074]
[{"$f":"IF(AND(INTRO!$E$37=\"Non-endemic\",INTRO!$E$41=\"Non-endemic\"),\" \",IF(COUNTRY_INFO!A186=0,\" \",COUNTRY_INFO!A186))","v":"Cameroun"},{"$f":"IF(AND(INTRO!$E$37=\"Non-endemic\",INTRO!$E$41=\"Non-endemic\"),\" \",IF(COUNTRY_INFO!B186=0,\" \",COUNTRY_INFO!B186))","v":"Sud"},{"$f":"IF(AND(INTRO!$E$37=\"Non-endemic\",INTRO!$E$41=\"Non-endemic\"),\" \",IF(COUNTRY_INFO!C186=0,\" \",COUNTRY_INFO!C186))","v":"Mvangan"},{"$f":"IF(AND(INTRO!$E$37=\"Non-endemic\",INTRO!$E$41=\"Non-endemic\"),0,COUNTRY_INFO!W186)","v":0},{"$f":"IF(AND(INTRO!$E$37=\"Non-endemic\",INTRO!$E$41=\"Non-endemic\"),0,COUNTRY_INFO!Y186)","v":1},{"$f":"IF($D186=1,IVM!G186,0)","v":0},{"$f":"IF($D186=0, \" \", IF(COUNTRY_INFO!$H186=1, IF(COUNTRY_INFO!$L186=1, 0,\" \"),\" \"))","v":" "},null,1,4047.57,10333,null,3454,17835,0,null,0,0,null,0,17835,null,17835]
[{"$f":"IF(AND(INTRO!$E$37=\"Non-endemic\",INTRO!$E$41=\"Non-endemic\"),\" \",IF(COUNTRY_INFO!A187=0,\" \",COUNTRY_INFO!A187))","v":"Cameroun"},{"$f":"IF(AND(INTRO!$E$37=\"Non-endemic\",INTRO!$E$41=\"Non-endemic\"),\" \",IF(COUNTRY_INFO!B187=0,\" \",COUNTRY_INFO!B187))","v":"Sud"},{"$f":"IF(AND(INTRO!$E$37=\"Non-endemic\",INTRO!$E$41=\"Non-endemic\"),\" \",IF(COUNTRY_INFO!C187=0,\" \",COUNTRY_INFO!C187))","v":"Niete "},{"$f":"IF(AND(INTRO!$E$37=\"Non-endemic\",INTRO!$E$41=\"Non-endemic\"),0,COUNTRY_INFO!W187)","v":0},{"$f":"IF(AND(INTRO!$E$37=\"Non-endemic\",INTRO!$E$41=\"Non-endemic\"),0,COUNTRY_INFO!Y187)","v":1},{"$f":"IF($D187=1,IVM!G187,0)","v":0},{"$f":"IF($D187=0, \" \", IF(COUNTRY_INFO!$H187=1, IF(COUNTRY_INFO!$L187=1, 0,\" \"),\" \"))","v":" "},null,1,7254.0757562450372,2171,null,8128,17553,0,null,0,0,null,0,17553,null,17553]
[{"$f":"IF(AND(INTRO!$E$37=\"Non-endemic\",INTRO!$E$41=\"Non-endemic\"),\" \",IF(COUNTRY_INFO!A188=0,\" \",COUNTRY_INFO!A188))","v":"Cameroun"},{"$f":"IF(AND(INTRO!$E$37=\"Non-endemic\",INTRO!$E$41=\"Non-endemic\"),\" \",IF(COUNTRY_INFO!B188=0,\" \",COUNTRY_INFO!B188))","v":"Sud"},{"$f":"IF(AND(INTRO!$E$37=\"Non-endemic\",INTRO!$E$41=\"Non-endemic\"),\" \",IF(COUNTRY_INFO!C188=0,\" \",COUNTRY_INFO!C188))","v":"Olamze"},{"$f":"IF(AND(INTRO!$E$37=\"Non-endemic\",INTRO!$E$41=\"Non-endemic\"),0,COUNTRY_INFO!W188)","v":0},{"$f":"IF(AND(INTRO!$E$37=\"Non-endemic\",INTRO!$E$41=\"Non-endemic\"),0,COUNTRY_INFO!Y188)","v":1},{"$f":"IF($D188=1,IVM!G188,0)","v":0},{"$f":"IF($D188=0, \" \", IF(COUNTRY_INFO!$H188=1, IF(COUNTRY_INFO!$L188=1, 0,\" \"),\" \"))","v":" "},null,1,2056.1040000000003,4563,null,1525,8144,0,null,0,0,null,0,8144,null,8144]
[{"$f":"IF(AND(INTRO!$E$37=\"Non-endemic\",INTRO!$E$41=\"Non-endemic\"),\" \",IF(COUNTRY_INFO!A189=0,\" \",COUNTRY_INFO!A189))","v":"Cameroun"},{"$f":"IF(AND(INTRO!$E$37=\"Non-endemic\",INTRO!$E$41=\"Non-endemic\"),\" \",IF(COUNTRY_INFO!B189=0,\" \",COUNTRY_INFO!B189))","v":"Sud"},{"$f":"IF(AND(INTRO!$E$37=\"Non-endemic\",INTRO!$E$41=\"Non-endemic\"),\" \",IF(COUNTRY_INFO!C189=0,\" \",COUNTRY_INFO!C189))","v":"Sangmelima"},{"$f":"IF(AND(INTRO!$E$37=\"Non-endemic\",INTRO!$E$41=\"Non-endemic\"),0,COUNTRY_INFO!W189)","v":0},{"$f":"IF(AND(INTRO!$E$37=\"Non-endemic\",INTRO!$E$41=\"Non-endemic\"),0,COUNTRY_INFO!Y189)","v":1},{"$f":"IF($D189=1,IVM!G189,0)","v":0},{"$f":"IF($D189=0, \" \", IF(COUNTRY_INFO!$H189=1, IF(COUNTRY_INFO!$L189=1, 0,\" \"),\" \"))","v":" "},null,1,15554.16,31796,null,10628,57978,0,null,0,0,null,0,57978,null,57978]
[{"$f":"IF(AND(INTRO!$E$37=\"Non-endemic\",INTRO!$E$41=\"Non-endemic\"),\" \",IF(COUNTRY_INFO!A190=0,\" \",COUNTRY_INFO!A190))","v":"Cameroun"},{"$f":"IF(AND(INTRO!$E$37=\"Non-endemic\",INTRO!$E$41=\"Non-endemic\"),\" \",IF(COUNTRY_INFO!B190=0,\" \",COUNTRY_INFO!B190))","v":"Sud"},{"$f":"IF(AND(INTRO!$E$37=\"Non-endemic\",INTRO!$E$41=\"Non-endemic\"),\" \",IF(COUNTRY_INFO!C190=0,\" \",COUNTRY_INFO!C190))","v":"Zoetele"},{"$f":"IF(AND(INTRO!$E$37=\"Non-endemic\",INTRO!$E$41=\"Non-endemic\"),0,COUNTRY_INFO!W190)","v":0},{"$f":"IF(AND(INTRO!$E$37=\"Non-endemic\",INTRO!$E$41=\"Non-endemic\"),0,COUNTRY_INFO!Y190)","v":1},{"$f":"IF($D190=1,IVM!G190,0)","v":0},{"$f":"IF($D190=0, \" \", IF(COUNTRY_INFO!$H190=1, IF(COUNTRY_INFO!$L190=1, 0,\" \"),\" \"))","v":" "},null,1,5081.7780000000002,13389,null,0,18471,0,null,0,0,null,0,18471,null,18471]
[{"$f":"IF(AND(INTRO!$E$37=\"Non-endemic\",INTRO!$E$41=\"Non-endemic\"),\" \",IF(COUNTRY_INFO!A191=0,\" \",COUNTRY_INFO!A191))","v":"Cameroun"},{"$f":"IF(AND(INTRO!$E$37=\"Non-endemic\",INTRO!$E$41=\"Non-endemic\"),\" \",IF(COUNTRY_INFO!B191=0,\" \",COUNTRY_INFO!B191))","v":"Sud Ouest"},{"$f":"IF(AND(INTRO!$E$37=\"Non-endemic\",INTRO!$E$41=\"Non-endemic\"),\" \",IF(COUNTRY_INFO!C191=0,\" \",COUNTRY_INFO!C191))","v":"Akwaya"},{"$f":"IF(AND(INTRO!$E$37=\"Non-endemic\",INTRO!$E$41=\"Non-endemic\"),0,COUNTRY_INFO!W191)","v":1},{"$f":"IF(AND(INTRO!$E$37=\"Non-endemic\",INTRO!$E$41=\"Non-endemic\"),0,COUNTRY_INFO!Y191)","v":1},{"$f":"IF($D191=1,IVM!G191,0)","v":53912},{"$f":"IF($D191=0, \" \", IF(COUNTRY_INFO!$H191=1, IF(COUNTRY_INFO!$L191=1, 0,\" \"),\" \"))","v":0},null,1,6844.4459999999999,16972,null,5722,29538,53912,null,53912,0,null,0,29538,null,29538]
[{"$f":"IF(AND(INTRO!$E$37=\"Non-endemic\",INTRO!$E$41=\"Non-endemic\"),\" \",IF(COUNTRY_INFO!A192=0,\" \",COUNTRY_INFO!A192))","v":"Cameroun"},{"$f":"IF(AND(INTRO!$E$37=\"Non-endemic\",INTRO!$E$41=\"Non-endemic\"),\" \",IF(COUNTRY_INFO!B192=0,\" \",COUNTRY_INFO!B192))","v":"Sud Ouest"},{"$f":"IF(AND(INTRO!$E$37=\"Non-endemic\",INTRO!$E$41=\"Non-endemic\"),\" \",IF(COUNTRY_INFO!C192=0,\" \",COUNTRY_INFO!C192))","v":"Bakassi"},{"$f":"IF(AND(INTRO!$E$37=\"Non-endemic\",INTRO!$E$41=\"Non-endemic\"),0,COUNTRY_INFO!W192)","v":0},{"$f":"IF(AND(INTRO!$E$37=\"Non-endemic\",INTRO!$E$41=\"Non-endemic\"),0,COUNTRY_INFO!Y192)","v":1},{"$f":"IF($D192=1,IVM!G192,0)","v":0},{"$f":"IF($D192=0, \" \", IF(COUNTRY_INFO!$H192=1, IF(COUNTRY_INFO!$L192=1, 0,\" \"),\" \"))","v":" "},null,1,6204.2219999999998,10259,null,3459,19922,0,null,0,0,null,0,19922,null,19922]
[{"$f":"IF(AND(INTRO!$E$37=\"Non-endemic\",INTRO!$E$41=\"Non-endemic\"),\" \",IF(COUNTRY_INFO!A193=0,\" \",COUNTRY_INFO!A193))","v":"Cameroun"},{"$f":"IF(AND(INTRO!$E$37=\"Non-endemic\",INTRO!$E$41=\"Non-endemic\"),\" \",IF(COUNTRY_INFO!B193=0,\" \",COUNTRY_INFO!B193))","v":"Sud Ouest"},{"$f":"IF(AND(INTRO!$E$37=\"Non-endemic\",INTRO!$E$41=\"Non-endemic\"),\" \",IF(COUNTRY_INFO!C193=0,\" \",COUNTRY_INFO!C193))","v":"Bangem"},{"$f":"IF(AND(INTRO!$E$37=\"Non-endemic\",INTRO!$E$41=\"Non-endemic\"),0,COUNTRY_INFO!W193)","v":0},{"$f":"IF(AND(INTRO!$E$37=\"Non-endemic\",INTRO!$E$41=\"Non-endemic\"),0,COUNTRY_INFO!Y193)","v":0},{"$f":"IF($D193=1,IVM!G193,0)","v":0},{"$f":"IF($D193=0, \" \", IF(COUNTRY_INFO!$H193=1, IF(COUNTRY_INFO!$L193=1, 0,\" \"),\" \"))","v":" "},null,1,2193.5880000000002,7425,null,2503,12122,0,null,0,0,null,0,12122,null,12122]
[{"$f":"IF(AND(INTRO!$E$37=\"Non-endemic\",INTRO!$E$41=\"Non-endemic\"),\" \",IF(COUNTRY_INFO!A194=0,\" \",COUNTRY_INFO!A194))","v":"Cameroun"},{"$f":"IF(AND(INTRO!$E$37=\"Non-endemic\",INTRO!$E$41=\"Non-endemic\"),\" \",IF(COUNTRY_INFO!B194=0,\" \",COUNTRY_INFO!B194))","v":"Sud Ouest"},{"$f":"IF(AND(INTRO!$E$37=\"Non-endemic\",INTRO!$E$41=\"Non-endemic\"),\" \",IF(COUNTRY_INFO!C194=0,\" \",COUNTRY_INFO!C194))","v":"Buea"},{"$f":"IF(AND(INTRO!$E$37=\"Non-endemic\",INTRO!$E$41=\"Non-endemic\"),0,COUNTRY_INFO!W194)","v":0},{"$f":"IF(AND(INTRO!$E$37=\"Non-endemic\",INTRO!$E$41=\"Non-endemic\"),0,COUNTRY_INFO!Y194)","v":1},{"$f":"IF($D194=1,IVM!G194,0)","v":0},{"$f":"IF($D194=0, \" \", IF(COUNTRY_INFO!$H194=1, IF(COUNTRY_INFO!$L194=1, 0,\" \"),\" \"))","v":" "},null,1,20076.768,51662,null,17417,89156,0,null,0,0,null,0,89156,null,89156]
[{"$f":"IF(AND(INTRO!$E$37=\"Non-endemic\",INTRO!$E$41=\"Non-endemic\"),\" \",IF(COUNTRY_INFO!A195=0,\" \",COUNTRY_INFO!A195))","v":"Cameroun"},{"$f":"IF(AND(INTRO!$E$37=\"Non-endemic\",INTRO!$E$41=\"Non-endemic\"),\" \",IF(COUNTRY_INFO!B195=0,\" \",COUNTRY_INFO!B195))","v":"Sud Ouest"},{"$f":"IF(AND(INTRO!$E$37=\"Non-endemic\",INTRO!$E$41=\"Non-endemic\"),\" \",IF(COUNTRY_INFO!C195=0,\" \",COUNTRY_INFO!C195))","v":"Ekondo Titi"},{"$f":"IF(AND(INTRO!$E$37=\"Non-endemic\",INTRO!$E$41=\"Non-endemic\"),0,COUNTRY_INFO!W195)","v":0},{"$f":"IF(AND(INTRO!$E$37=\"Non-endemic\",INTRO!$E$41=\"Non-endemic\"),0,COUNTRY_INFO!Y195)","v":1},{"$f":"IF($D195=1,IVM!G195,0)","v":0},{"$f":"IF($D195=0, \" \", IF(COUNTRY_INFO!$H195=1, IF(COUNTRY_INFO!$L195=1, 0,\" \"),\" \"))","v":" "},null,1,8160.8040000000001,16745,null,5645,30551,0,null,0,0,null,0,30551,null,30551]
[{"$f":"IF(AND(INTRO!$E$37=\"Non-endemic\",INTRO!$E$41=\"Non-endemic\"),\" \",IF(COUNTRY_INFO!A196=0,\" \",COUNTRY_INFO!A196))","v":"Cameroun"},{"$f":"IF(AND(INTRO!$E$37=\"Non-endemic\",INTRO!$E$41=\"Non-endemic\"),\" \",IF(COUNTRY_INFO!B196=0,\" \",COUNTRY_INFO!B196))","v":"Sud Ouest"},{"$f":"IF(AND(INTRO!$E$37=\"Non-endemic\",INTRO!$E$41=\"Non-endemic\"),\" \",IF(COUNTRY_INFO!C196=0,\" \",COUNTRY_INFO!C196))","v":"Eyumodjock"},{"$f":"IF(AND(INTRO!$E$37=\"Non-endemic\",INTRO!$E$41=\"Non-endemic\"),0,COUNTRY_INFO!W196)","v":0},{"$f":"IF(AND(INTRO!$E$37=\"Non-endemic\",INTRO!$E$41=\"Non-endemic\"),0,COUNTRY_INFO!Y196)","v":1},{"$f":"IF($D196=1,IVM!G196,0)","v":0},{"$f":"IF($D196=0, \" \", IF(COUNTRY_INFO!$H196=1, IF(COUNTRY_INFO!$L196=1, 0,\" \"),\" \"))","v":" "},null,1,2526.0120000000002,12396,null,4179,19101,0,null,0,0,null,0,19101,null,19101]
[{"$f":"IF(AND(INTRO!$E$37=\"Non-endemic\",INTRO!$E$41=\"Non-endemic\"),\" \",IF(COUNTRY_INFO!A197=0,\" \",COUNTRY_INFO!A197))","v":"Cameroun"},{"$f":"IF(AND(INTRO!$E$37=\"Non-endemic\",INTRO!$E$41=\"Non-endemic\"),\" \",IF(COUNTRY_INFO!B197=0,\" \",COUNTRY_INFO!B197))","v":"Sud Ouest"},{"$f":"IF(AND(INTRO!$E$37=\"Non-endemic\",INTRO!$E$41=\"Non-endemic\"),\" \",IF(COUNTRY_INFO!C197=0,\" \",COUNTRY_INFO!C197))","v":"Fontem"},{"$f":"IF(AND(INTRO!$E$37=\"Non-endemic\",INTRO!$E$41=\"Non-endemic\"),0,COUNTRY_INFO!W197)","v":0},{"$f":"IF(AND(INTRO!$E$37=\"Non-endemic\",INTRO!$E$41=\"Non-endemic\"),0,COUNTRY_INFO!Y197)","v":1},{"$f":"IF($D197=1,IVM!G197,0)","v":0},{"$f":"IF($D197=0, \" \", IF(COUNTRY_INFO!$H197=1, IF(COUNTRY_INFO!$L197=1, 0,\" \"),\" \"))","v":" "},null,1,14686.164000000001,36543,null,12320,63549,0,null,0,0,null,0,63549,null,63549]
[{"$f":"IF(AND(INTRO!$E$37=\"Non-endemic\",INTRO!$E$41=\"Non-endemic\"),\" \",IF(COUNTRY_INFO!A198=0,\" \",COUNTRY_INFO!A198))","v":"Cameroun"},{"$f":"IF(AND(INTRO!$E$37=\"Non-endemic\",INTRO!$E$41=\"Non-endemic\"),\" \",IF(COUNTRY_INFO!B198=0,\" \",COUNTRY_INFO!B198))","v":"Sud Ouest"},{"$f":"IF(AND(INTRO!$E$37=\"Non-endemic\",INTRO!$E$41=\"Non-endemic\"),\" \",IF(COUNTRY_INFO!C198=0,\" \",COUNTRY_INFO!C198))","v":"Konye"},{"$f":"IF(AND(INTRO!$E$37=\"Non-endemic\",INTRO!$E$41=\"Non-endemic\"),0,COUNTRY_INFO!W198)","v":0},{"$f":"IF(AND(INTRO!$E$37=\"Non-endemic\",INTRO!$E$41=\"Non-endemic\"),0,COUNTRY_INFO!Y198)","v":1},{"$f":"IF($D198=1,IVM!G198,0)","v":0},{"$f":"IF($D198=0, \" \", IF(COUNTRY_INFO!$H198=1, IF(COUNTRY_INFO!$L198=1, 0,\" \"),\" \"))","v":" "},null,1,12921.444,38763,null,13068,64752,0,null,0,0,null,0,64752,null,64752]
[{"$f":"IF(AND(INTRO!$E$37=\"Non-endemic\",INTRO!$E$41=\"Non-endemic\"),\" \",IF(COUNTRY_INFO!A199=0,\" \",COUNTRY_INFO!A199))","v":"Cameroun"},{"$f":"IF(AND(INTRO!$E$37=\"Non-endemic\",INTRO!$E$41=\"Non-endemic\"),\" \",IF(COUNTRY_INFO!B199=0,\" \",COUNTRY_INFO!B199))","v":"Sud Ouest"},{"$f":"IF(AND(INTRO!$E$37=\"Non-endemic\",INTRO!$E$41=\"Non-endemic\"),\" \",IF(COUNTRY_INFO!C199=0,\" \",COUNTRY_INFO!C199))","v":"Kumba-North"},{"$f":"IF(AND(INTRO!$E$37=\"Non-endemic\",INTRO!$E$41=\"Non-endemic\"),0,COUNTRY_INFO!W199)","v":0},{"$f":"IF(AND(INTRO!$E$37=\"Non-endemic\",INTRO!$E$41=\"Non-endemic\"),0,COUNTRY_INFO!Y199)","v":1},{"$f":"IF($D199=1,IVM!G199,0)","v":0},{"$f":"IF($D199=0, \" \", IF(COUNTRY_INFO!$H199=1, IF(COUNTRY_INFO!$L199=1, 0,\" \"),\" \"))","v":" "},null,1,20463.57,37680,null,12703,70847,0,null,0,0,null,0,70847,null,70847]
[{"$f":"IF(AND(INTRO!$E$37=\"Non-endemic\",INTRO!$E$41=\"Non-endemic\"),\" \",IF(COUNTRY_INFO!A200=0,\" \",COUNTRY_INFO!A200))","v":"Cameroun"},{"$f":"IF(AND(INTRO!$E$37=\"Non-endemic\",INTRO!$E$41=\"Non-endemic\"),\" \",IF(COUNTRY_INFO!B200=0,\" \",COUNTRY_INFO!B200))","v":"Sud Ouest"},{"$f":"IF(AND(INTRO!$E$37=\"Non-endemic\",INTRO!$E$41=\"Non-endemic\"),\" \",IF(COUNTRY_INFO!C200=0,\" \",COUNTRY_INFO!C200))","v":"Kumba-South"},{"$f":"IF(AND(INTRO!$E$37=\"Non-endemic\",INTRO!$E$41=\"Non-endemic\"),0,COUNTRY_INFO!W200)","v":0},{"$f":"IF(AND(INTRO!$E$37=\"Non-endemic\",INTRO!$E$41=\"Non-endemic\"),0,COUNTRY_INFO!Y200)","v":1},{"$f":"IF($D200=1,IVM!G200,0)","v":0},{"$f":"IF($D200=0, \" \", IF(COUNTRY_INFO!$H200=1, IF(COUNTRY_INFO!$L200=1, 0,\" \"),\" \"))","v":" "},null,1,19166.706000000002,70623,null,24966,114756,0,null,0,0,null,0,114756,null,114756]
[{"$f":"IF(AND(INTRO!$E$37=\"Non-endemic\",INTRO!$E$41=\"Non-endemic\"),\" \",IF(COUNTRY_INFO!A201=0,\" \",COUNTRY_INFO!A201))","v":"Cameroun"},{"$f":"IF(AND(INTRO!$E$37=\"Non-endemic\",INTRO!$E$41=\"Non-endemic\"),\" \",IF(COUNTRY_INFO!B201=0,\" \",COUNTRY_INFO!B201))","v":"Sud Ouest"},{"$f":"IF(AND(INTRO!$E$37=\"Non-endemic\",INTRO!$E$41=\"Non-endemic\"),\" \",IF(COUNTRY_INFO!C201=0,\" \",COUNTRY_INFO!C201))","v":"Limbe"},{"$f":"IF(AND(INTRO!$E$37=\"Non-endemic\",INTRO!$E$41=\"Non-endemic\"),0,COUNTRY_INFO!W201)","v":0},{"$f":"IF(AND(INTRO!$E$37=\"Non-endemic\",INTRO!$E$41=\"Non-endemic\"),0,COUNTRY_INFO!Y201)","v":1},{"$f":"IF($D201=1,IVM!G201,0)","v":0},{"$f":"IF($D201=0, \" \", IF(COUNTRY_INFO!$H201=1, IF(COUNTRY_INFO!$L201=1, 0,\" \"),\" \"))","v":" "},null,1,38258.514000000003,59102,null,19926,117287,0,null,0,0,null,0,117287,null,117287]
[{"$f":"IF(AND(INTRO!$E$37=\"Non-endemic\",INTRO!$E$41=\"Non-endemic\"),\" \",IF(COUNTRY_INFO!A202=0,\" \",COUNTRY_INFO!A202))","v":"Cameroun"},{"$f":"IF(AND(INTRO!$E$37=\"Non-endemic\",INTRO!$E$41=\"Non-endemic\"),\" \",IF(COUNTRY_INFO!B202=0,\" \",COUNTRY_INFO!B202))","v":"Sud Ouest"},{"$f":"IF(AND(INTRO!$E$37=\"Non-endemic\",INTRO!$E$41=\"Non-endemic\"),\" \",IF(COUNTRY_INFO!C202=0,\" \",COUNTRY_INFO!C202))","v":"Mamfe"},{"$f":"IF(AND(INTRO!$E$37=\"Non-endemic\",INTRO!$E$41=\"Non-endemic\"),0,COUNTRY_INFO!W202)","v":0},{"$f":"IF(AND(INTRO!$E$37=\"Non-endemic\",INTRO!$E$41=\"Non-endemic\"),0,COUNTRY_INFO!Y202)","v":1},{"$f":"IF($D202=1,IVM!G202,0)","v":0},{"$f":"IF($D202=0, \" \", IF(COUNTRY_INFO!$H202=1, IF(COUNTRY_INFO!$L202=1, 0,\" \"),\" \"))","v":" "},null,1,14644.098,24421,null,0,39065,0,null,0,0,null,0,39065,null,39065]
[{"$f":"IF(AND(INTRO!$E$37=\"Non-endemic\",INTRO!$E$41=\"Non-endemic\"),\" \",IF(COUNTRY_INFO!A203=0,\" \",COUNTRY_INFO!A203))","v":"Cameroun"},{"$f":"IF(AND(INTRO!$E$37=\"Non-endemic\",INTRO!$E$41=\"Non-endemic\"),\" \",IF(COUNTRY_INFO!B203=0,\" \",COUNTRY_INFO!B203))","v":"Sud Ouest"},{"$f":"IF(AND(INTRO!$E$37=\"Non-endemic\",INTRO!$E$41=\"Non-endemic\"),\" \",IF(COUNTRY_INFO!C203=0,\" \",COUNTRY_INFO!C203))","v":"Mbonge"},{"$f":"IF(AND(INTRO!$E$37=\"Non-endemic\",INTRO!$E$41=\"Non-endemic\"),0,COUNTRY_INFO!W203)","v":0},{"$f":"IF(AND(INTRO!$E$37=\"Non-endemic\",INTRO!$E$41=\"Non-endemic\"),0,COUNTRY_INFO!Y203)","v":1},{"$f":"IF($D203=1,IVM!G203,0)","v":0},{"$f":"IF($D203=0, \" \", IF(COUNTRY_INFO!$H203=1, IF(COUNTRY_INFO!$L203=1, 0,\" \"),\" \"))","v":" "},null,1,13660.164000000001,26888,null,9065,49613,{"$f":"$F203+IF(OR(G203=0,G203=\" \"),0,G203*H203)","v":0},null,0,0,null,0,49613,null,49613]
[{"$f":"IF(AND(INTRO!$E$37=\"Non-endemic\",INTRO!$E$41=\"Non-endemic\"),\" \",IF(COUNTRY_INFO!A204=0,\" \",COUNTRY_INFO!A204))","v":"Cameroun"},{"$f":"IF(AND(INTRO!$E$37=\"Non-endemic\",INTRO!$E$41=\"Non-endemic\"),\" \",IF(COUNTRY_INFO!B204=0,\" \",COUNTRY_INFO!B204))","v":"Sud Ouest"},{"$f":"IF(AND(INTRO!$E$37=\"Non-endemic\",INTRO!$E$41=\"Non-endemic\"),\" \",IF(COUNTRY_INFO!C204=0,\" \",COUNTRY_INFO!C204))","v":"Mundemba"},{"$f":"IF(AND(INTRO!$E$37=\"Non-endemic\",INTRO!$E$41=\"Non-endemic\"),0,COUNTRY_INFO!W204)","v":0},{"$f":"IF(AND(INTRO!$E$37=\"Non-endemic\",INTRO!$E$41=\"Non-endemic\"),0,COUNTRY_INFO!Y204)","v":1},{"$f":"IF($D204=1,IVM!G204,0)","v":0},{"$f":"IF($D204=0, \" \", IF(COUNTRY_INFO!$H204=1, IF(COUNTRY_INFO!$L204=1, 0,\" \"),\" \"))","v":" "},null,1,2883.06,6383,null,2152,11418,0,null,0,0,null,0,11418,null,11418]
[{"$f":"IF(AND(INTRO!$E$37=\"Non-endemic\",INTRO!$E$41=\"Non-endemic\"),\" \",IF(COUNTRY_INFO!A205=0,\" \",COUNTRY_INFO!A205))","v":"Cameroun"},{"$f":"IF(AND(INTRO!$E$37=\"Non-endemic\",INTRO!$E$41=\"Non-endemic\"),\" \",IF(COUNTRY_INFO!B205=0,\" \",COUNTRY_INFO!B205))","v":"Sud Ouest"},{"$f":"IF(AND(INTRO!$E$37=\"Non-endemic\",INTRO!$E$41=\"Non-endemic\"),\" \",IF(COUNTRY_INFO!C205=0,\" \",COUNTRY_INFO!C205))","v":"Muyuka"},{"$f":"IF(AND(INTRO!$E$37=\"Non-endemic\",INTRO!$E$41=\"Non-endemic\"),0,COUNTRY_INFO!W205)","v":0},{"$f":"IF(AND(INTRO!$E$37=\"Non-endemic\",INTRO!$E$41=\"Non-endemic\"),0,COUNTRY_INFO!Y205)","v":0},{"$f":"IF($D205=1,IVM!G205,0)","v":0},{"$f":"IF($D205=0, \" \", IF(COUNTRY_INFO!$H205=1, IF(COUNTRY_INFO!$L205=1, 0,\" \"),\" \"))","v":" "},null,1,12630.06,33788,null,11391,57809,0,null,0,0,null,0,57809,null,57809]
[{"$f":"IF(AND(INTRO!$E$37=\"Non-endemic\",INTRO!$E$41=\"Non-endemic\"),\" \",IF(COUNTRY_INFO!A206=0,\" \",COUNTRY_INFO!A206))","v":"Cameroun"},{"$f":"IF(AND(INTRO!$E$37=\"Non-endemic\",INTRO!$E$41=\"Non-endemic\"),\" \",IF(COUNTRY_INFO!B206=0,\" \",COUNTRY_INFO!B206))","v":"Sud Ouest"},{"$f":"IF(AND(INTRO!$E$37=\"Non-endemic\",INTRO!$E$41=\"Non-endemic\"),\" \",IF(COUNTRY_INFO!C206=0,\" \",COUNTRY_INFO!C206))","v":"Nguti"},{"$f":"IF(AND(INTRO!$E$37=\"Non-endemic\",INTRO!$E$41=\"Non-endemic\"),0,COUNTRY_INFO!W206)","v":0},{"$f":"IF(AND(INTRO!$E$37=\"Non-endemic\",INTRO!$E$41=\"Non-endemic\"),0,COUNTRY_INFO!Y206)","v":1},{"$f":"IF($D206=1,IVM!G206,0)","v":0},{"$f":"IF($D206=0, \" \", IF(COUNTRY_INFO!$H206=1, IF(COUNTRY_INFO!$L206=1, 0,\" \"),\" \"))","v":" "},null,1,4216.8599999999997,11171,null,3766,19154,0,null,0,0,null,0,19154,null,19154]
[{"$f":"IF(AND(INTRO!$E$37=\"Non-endemic\",INTRO!$E$41=\"Non-endemic\"),\" \",IF(COUNTRY_INFO!A207=0,\" \",COUNTRY_INFO!A207))","v":"Cameroun"},{"$f":"IF(AND(INTRO!$E$37=\"Non-endemic\",INTRO!$E$41=\"Non-endemic\"),\" \",IF(COUNTRY_INFO!B207=0,\" \",COUNTRY_INFO!B207))","v":"Sud Ouest"},{"$f":"IF(AND(INTRO!$E$37=\"Non-endemic\",INTRO!$E$41=\"Non-endemic\"),\" \",IF(COUNTRY_INFO!C207=0,\" \",COUNTRY_INFO!C207))","v":"Tiko"},{"$f":"IF(AND(INTRO!$E$37=\"Non-endemic\",INTRO!$E$41=\"Non-endemic\"),0,COUNTRY_INFO!W207)","v":0},{"$f":"IF(AND(INTRO!$E$37=\"Non-endemic\",INTRO!$E$41=\"Non-endemic\"),0,COUNTRY_INFO!Y207)","v":1},{"$f":"IF($D207=1,IVM!G207,0)","v":0},{"$f":"IF($D207=0, \" \", IF(COUNTRY_INFO!$H207=1, IF(COUNTRY_INFO!$L207=1, 0,\" \"),\" \"))","v":" "},null,1,19125.666000000001,45074,null,0,64200,0,null,0,0,null,0,64200,null,64200]
[{"$f":"IF(AND(INTRO!$E$37=\"Non-endemic\",INTRO!$E$41=\"Non-endemic\"),\" \",IF(COUNTRY_INFO!A208=0,\" \",COUNTRY_INFO!A208))","v":"Cameroun"},{"$f":"IF(AND(INTRO!$E$37=\"Non-endemic\",INTRO!$E$41=\"Non-endemic\"),\" \",IF(COUNTRY_INFO!B208=0,\" \",COUNTRY_INFO!B208))","v":"Sud Ouest"},{"$f":"IF(AND(INTRO!$E$37=\"Non-endemic\",INTRO!$E$41=\"Non-endemic\"),\" \",IF(COUNTRY_INFO!C208=0,\" \",COUNTRY_INFO!C208))","v":"Tombel"},{"$f":"IF(AND(INTRO!$E$37=\"Non-endemic\",INTRO!$E$41=\"Non-endemic\"),0,COUNTRY_INFO!W208)","v":0},{"$f":"IF(AND(INTRO!$E$37=\"Non-endemic\",INTRO!$E$41=\"Non-endemic\"),0,COUNTRY_INFO!Y208)","v":1},{"$f":"IF($D208=1,IVM!G208,0)","v":0},{"$f":"IF($D208=0, \" \", IF(COUNTRY_INFO!$H208=1, IF(COUNTRY_INFO!$L208=1, 0,\" \"),\" \"))","v":" "},null,1,8798.9760000000006,23512,null,0,32311,0,null,0,0,null,0,32311,null,32311]
[{"$f":"IF(AND(INTRO!$E$37=\"Non-endemic\",INTRO!$E$41=\"Non-endemic\"),\" \",IF(COUNTRY_INFO!A209=0,\" \",COUNTRY_INFO!A209))","v":"Cameroun"},{"$f":"IF(AND(INTRO!$E$37=\"Non-endemic\",INTRO!$E$41=\"Non-endemic\"),\" \",IF(COUNTRY_INFO!B209=0,\" \",COUNTRY_INFO!B209))","v":"Sud Ouest"},{"$f":"IF(AND(INTRO!$E$37=\"Non-endemic\",INTRO!$E$41=\"Non-endemic\"),\" \",IF(COUNTRY_INFO!C209=0,\" \",COUNTRY_INFO!C209))","v":"Wabane"},{"$f":"IF(AND(INTRO!$E$37=\"Non-endemic\",INTRO!$E$41=\"Non-endemic\"),0,COUNTRY_INFO!W209)","v":0},{"$f":"IF(AND(INTRO!$E$37=\"Non-endemic\",INTRO!$E$41=\"Non-endemic\"),0,COUNTRY_INFO!Y209)","v":1},{"$f":"IF($D209=1,IVM!G209,0)","v":0},{"$f":"IF($D209=0, \" \", IF(COUNTRY_INFO!$H209=1, IF(COUNTRY_INFO!$L209=1, 0,\" \"),\" \"))","v":" "},null,1,9627.9840000000004,13354,null,0,22982,0,null,0,0,null,0,22982,null,22982]

{"sheet":"PZQ","index":3,"n_rows":209,"n_cols":18,"rows_kept":209,"cut":false,"hidden":false,"merged":[[5,12,5,17],[5,10,5,11],[6,10,7,10],[6,14,7,14],[6,15,7,15],[6,16,7,16],[6,13,7,13],[6,11,7,11],[3,0,3,2],[5,0,5,2],[5,4,5,7],[5,8,5,9],[6,17,7,17],[6,6,7,6],[6,7,7,7],[6,9,7,9],[6,0,7,0],[6,1,7,1],[6,2,7,2],[6,4,7,4],[5,3,7,3],[6,5,7,5],[6,8,7,8],[6,12,7,12]]}
["Praziquantel (PZQ)"]
["Administrative structure, eligible population by age group, treatment plan and information about tablets"]
[]
["TOTAL",null,null,null,{"$f":"SUBTOTAL(9,E$10:E$1010)","v":2535498},3979778,3507815,10023091,null,0,null,null,{"$f":"SUBTOTAL(9,M$10:M$1010)","v":0},7959556,10523445,18483001,0,18483001]
[]
["Country administrative structure",null,null,"Treatment plan\nSCH","Target population for SCH",null,null,null,"Hot spots",null,"Previous year MDA",null,"Praziquantel (PZQ)"]
["Country","Province/State","District",null,"PreSAC","SAC","Adults","Total","Planned","Population","Rounds","Age groups","PreSAC","SAC","Adults","Total required","Remaining in stock","Tablets to be procured"]
[]
[]
[{"$f":"IF(INTRO!$E$43=\"Non-endemic\",\" \", IF(COUNTRY_INFO!A10=0,\" \",COUNTRY_INFO!A10))","v":"Cameroun"},{"$f":"IF(INTRO!$E$43=\"Non-endemic\",\" \", IF(COUNTRY_INFO!B10=0,\" \",COUNTRY_INFO!B10))","v":"Adamaoua"},{"$f":"IF(INTRO!$E$43=\"Non-endemic\",\" \", IF(COUNTRY_INFO!C10=0,\" \",COUNTRY_INFO!C10))","v":"Bankim"},{"$f":"IF(INTRO!$E$43=\"Non-endemic\", \"Not required\", COUNTRY_INFO!Z10)","v":1},22116,33821,0,{"$f":"SUM(E10:G10)","v":55937},null,null,1,"SAC",null,{"$f":"IF($I10<>\"Yes\",$F10*2,($F10+ROUND(J10*$F10/SUM(COUNTRY_INFO!$E10:$G10),0))*2)","v":67642},{"$f":"IF($I10<>\"Yes\",$G10*3,($G10+ROUND(J10*$G10/SUM(COUNTRY_INFO!$E10:$G10),0))*3)","v":0},{"$f":"SUM(M10:O10)","v":67642},null,{"$f":"IF($P10>$Q10,P10-Q10,0)","v":67642}]
[{"$f":"IF(INTRO!$E$43=\"Non-endemic\",\" \", IF(COUNTRY_INFO!A11=0,\" \",COUNTRY_INFO!A11))","v":"Cameroun"},{"$f":"IF(INTRO!$E$43=\"Non-endemic\",\" \", IF(COUNTRY_INFO!B11=0,\" \",COUNTRY_INFO!B11))","v":"Adamaoua"},{"$f":"IF(INTRO!$E$43=\"Non-endemic\",\" \", IF(COUNTRY_INFO!C11=0,\" \",COUNTRY_INFO!C11))","v":"Banyo"},{"$f":"IF(INTRO!$E$43=\"Non-endemic\", \"Not required\", COUNTRY_INFO!Z11)","v":1},72318,46645,0,{"$f":"SUM(E11:G11)","v":118963},null,null,1,"SAC",null,{"$f":"IF($I11<>\"Yes\",$F11*2,($F11+ROUND(J11*$F11/SUM(COUNTRY_INFO!$E11:$G11),0))*2)","v":93290},{"$f":"IF($I11<>\"Yes\",$G11*3,($G11+ROUND(J11*$G11/SUM(COUNTRY_INFO!$E11:$G11),0))*3)","v":0},{"$f":"SUM(M11:O11)","v":93290},null,{"$f":"IF($P11>$Q11,P11-Q11,0)","v":93290}]
[{"$f":"IF(INTRO!$E$43=\"Non-endemic\",\" \", IF(COUNTRY_INFO!A12=0,\" \",COUNTRY_INFO!A12))","v":"Cameroun"},{"$f":"IF(INTRO!$E$43=\"Non-endemic\",\" \", IF(COUNTRY_INFO!B12=0,\" \",COUNTRY_INFO!B12))","v":"Adamaoua"},{"$f":"IF(INTRO!$E$43=\"Non-endemic\",\" \", IF(COUNTRY_INFO!C12=0,\" \",COUNTRY_INFO!C12))","v":"Belel "},{"$f":"IF(INTRO!$E$43=\"Non-endemic\", \"Not required\", COUNTRY_INFO!Z12)","v":1},12982,5904,0,18886,null,null,null,null,null,{"$f":"IF($I12<>\"Yes\",$F12*2,($F12+ROUND(J12*$F12/SUM(COUNTRY_INFO!$E12:$G12),0))*2)","v":11808},{"$f":"IF($I12<>\"Yes\",$G12*3,($G12+ROUND(J12*$G12/SUM(COUNTRY_INFO!$E12:$G12),0))*3)","v":0},11808,null,11808]
[{"$f":"IF(INTRO!$E$43=\"Non-endemic\",\" \", IF(COUNTRY_INFO!A13=0,\" \",COUNTRY_INFO!A13))","v":"Cameroun"},{"$f":"IF(INTRO!$E$43=\"Non-endemic\",\" \", IF(COUNTRY_INFO!B13=0,\" \",COUNTRY_INFO!B13))","v":"Adamaoua"},{"$f":"IF(INTRO!$E$43=\"Non-endemic\",\" \", IF(COUNTRY_INFO!C13=0,\" \",COUNTRY_INFO!C13))","v":"Dang"},{"$f":"IF(INTRO!$E$43=\"Non-endemic\", \"Not required\", COUNTRY_INFO!Z13)","v":1},16615,25164,0,41779,null,null,1,"SAC",null,{"$f":"IF($I13<>\"Yes\",$F13*2,($F13+ROUND(J13*$F13/SUM(COUNTRY_INFO!$E13:$G13),0))*2)","v":50328},{"$f":"IF($I13<>\"Yes\",$G13*3,($G13+ROUND(J13*$G13/SUM(COUNTRY_INFO!$E13:$G13),0))*3)","v":0},50328,null,50328]
[{"$f":"IF(INTRO!$E$43=\"Non-endemic\",\" \", IF(COUNTRY_INFO!A14=0,\" \",COUNTRY_INFO!A14))","v":"Cameroun"},{"$f":"IF(INTRO!$E$43=\"Non-endemic\",\" \", IF(COUNTRY_INFO!B14=0,\" \",COUNTRY_INFO!B14))","v":"Adamaoua"},{"$f":"IF(INTRO!$E$43=\"Non-endemic\",\" \", IF(COUNTRY_INFO!C14=0,\" \",COUNTRY_INFO!C14))","v":"Djohong"},{"$f":"IF(INTRO!$E$43=\"Non-endemic\", \"Not required\", COUNTRY_INFO!Z14)","v":1},35095,23214,0,58309,null,null,1,"SAC",null,{"$f":"IF($I14<>\"Yes\",$F14*2,($F14+ROUND(J14*$F14/SUM(COUNTRY_INFO!$E14:$G14),0))*2)","v":46428},{"$f":"IF($I14<>\"Yes\",$G14*3,($G14+ROUND(J14*$G14/SUM(COUNTRY_INFO!$E14:$G14),0))*3)","v":0},46428,null,46428]
[{"$f":"IF(INTRO!$E$43=\"Non-endemic\",\" \", IF(COUNTRY_INFO!A15=0,\" \",COUNTRY_INFO!A15))","v":"Cameroun"},{"$f":"IF(INTRO!$E$43=\"Non-endemic\",\" \", IF(COUNTRY_INFO!B15=0,\" \",COUNTRY_INFO!B15))","v":"Adamaoua"},{"$f":"IF(INTRO!$E$43=\"Non-endemic\",\" \", IF(COUNTRY_INFO!C15=0,\" \",COUNTRY_INFO!C15))","v":"Meiganga"},{"$f":"IF(INTRO!$E$43=\"Non-endemic\", \"Not required\", COUNTRY_INFO!Z15)","v":1},32074,48437,0,80511,null,null,1,"SAC",null,{"$f":"IF($I15<>\"Yes\",$F15*2,($F15+ROUND(J15*$F15/SUM(COUNTRY_INFO!$E15:$G15),0))*2)","v":96874},{"$f":"IF($I15<>\"Yes\",$G15*3,($G15+ROUND(J15*$G15/SUM(COUNTRY_INFO!$E15:$G15),0))*3)","v":0},96874,null,96874]
[{"$f":"IF(INTRO!$E$43=\"Non-endemic\",\" \", IF(COUNTRY_INFO!A16=0,\" \",COUNTRY_INFO!A16))","v":"Cameroun"},{"$f":"IF(INTRO!$E$43=\"Non-endemic\",\" \", IF(COUNTRY_INFO!B16=0,\" \",COUNTRY_INFO!B16))","v":"Adamaoua"},{"$f":"IF(INTRO!$E$43=\"Non-endemic\",\" \", IF(COUNTRY_INFO!C16=0,\" \",COUNTRY_INFO!C16))","v":"Ngaoundal"},{"$f":"IF(INTRO!$E$43=\"Non-endemic\", \"Not required\", COUNTRY_INFO!Z16)","v":1},14131,26800,0,40931,null,null,1,"SAC",null,{"$f":"IF($I16<>\"Yes\",$F16*2,($F16+ROUND(J16*$F16/SUM(COUNTRY_INFO!$E16:$G16),0))*2)","v":53600},{"$f":"IF($I16<>\"Yes\",$G16*3,($G16+ROUND(J16*$G16/SUM(COUNTRY_INFO!$E16:$G16),0))*3)","v":0},53600,null,53600]
[{"$f":"IF(INTRO!$E$43=\"Non-endemic\",\" \", IF(COUNTRY_INFO!A17=0,\" \",COUNTRY_INFO!A17))","v":"Cameroun"},{"$f":"IF(INTRO!$E$43=\"Non-endemic\",\" \", IF(COUNTRY_INFO!B17=0,\" \",COUNTRY_INFO!B17))","v":"Adamaoua"},{"$f":"IF(INTRO!$E$43=\"Non-endemic\",\" \", IF(COUNTRY_INFO!C17=0,\" \",COUNTRY_INFO!C17))","v":"Ngaoundere Rural"},{"$f":"IF(INTRO!$E$43=\"Non-endemic\", \"Not required\", COUNTRY_INFO!Z17)","v":1},0,0,0,0,null,null,null,null,null,{"$f":"IF($I17<>\"Yes\",$F17*2,($F17+ROUND(J17*$F17/SUM(COUNTRY_INFO!$E17:$G17),0))*2)","v":0},{"$f":"IF($I17<>\"Yes\",$G17*3,($G17+ROUND(J17*$G17/SUM(COUNTRY_INFO!$E17:$G17),0))*3)","v":0},0,null,0]
[{"$f":"IF(INTRO!$E$43=\"Non-endemic\",\" \", IF(COUNTRY_INFO!A18=0,\" \",COUNTRY_INFO!A18))","v":"Cameroun"},{"$f":"IF(INTRO!$E$43=\"Non-endemic\",\" \", IF(COUNTRY_INFO!B18=0,\" \",COUNTRY_INFO!B18))","v":"Adamaoua"},{"$f":"IF(INTRO!$E$43=\"Non-endemic\",\" \", IF(COUNTRY_INFO!C18=0,\" \",COUNTRY_INFO!C18))","v":"Ngaoundere Urbain"},{"$f":"IF(INTRO!$E$43=\"Non-endemic\", \"Not required\", COUNTRY_INFO!Z18)","v":0},0,0,0,0,null,null,null,null,null,{"$f":"IF($I18<>\"Yes\",$F18*2,($F18+ROUND(J18*$F18/SUM(COUNTRY_INFO!$E18:$G18),0))*2)","v":0},{"$f":"IF($I18<>\"Yes\",$G18*3,($G18+ROUND(J18*$G18/SUM(COUNTRY_INFO!$E18:$G18),0))*3)","v":0},0,null,0]
[{"$f":"IF(INTRO!$E$43=\"Non-endemic\",\" \", IF(COUNTRY_INFO!A19=0,\" \",COUNTRY_INFO!A19))","v":"Cameroun"},{"$f":"IF(INTRO!$E$43=\"Non-endemic\",\" \", IF(COUNTRY_INFO!B19=0,\" \",COUNTRY_INFO!B19))","v":"Adamaoua"},{"$f":"IF(INTRO!$E$43=\"Non-endemic\",\" \", IF(COUNTRY_INFO!C19=0,\" \",COUNTRY_INFO!C19))","v":"Tibati"},{"$f":"IF(INTRO!$E$43=\"Non-endemic\", \"Not required\", COUNTRY_INFO!Z19)","v":0},18758,31557,0,50315,null,null,1,"SAC",null,{"$f":"IF($I19<>\"Yes\",$F19*2,($F19+ROUND(J19*$F19/SUM(COUNTRY_INFO!$E19:$G19),0))*2)","v":63114},{"$f":"IF($I19<>\"Yes\",$G19*3,($G19+ROUND(J19*$G19/SUM(COUNTRY_INFO!$E19:$G19),0))*3)","v":0},63114,null,63114]
[{"$f":"IF(INTRO!$E$43=\"Non-endemic\",\" \", IF(COUNTRY_INFO!A20=0,\" \",COUNTRY_INFO!A20))","v":"Cameroun"},{"$f":"IF(INTRO!$E$43=\"Non-endemic\",\" \", IF(COUNTRY_INFO!B20=0,\" \",COUNTRY_INFO!B20))","v":"Adamaoua"},{"$f":"IF(INTRO!$E$43=\"Non-endemic\",\" \", IF(COUNTRY_INFO!C20=0,\" \",COUNTRY_INFO!C20))","v":"Tignere"},{"$f":"IF(INTRO!$E$43=\"Non-endemic\", \"Not required\", COUNTRY_INFO!Z20)","v":1},0,0,0,0,null,null,null,null,null,{"$f":"IF($I20<>\"Yes\",$F20*2,($F20+ROUND(J20*$F20/SUM(COUNTRY_INFO!$E20:$G20),0))*2)","v":0},{"$f":"IF($I20<>\"Yes\",$G20*3,($G20+ROUND(J20*$G20/SUM(COUNTRY_INFO!$E20:$G20),0))*3)","v":0},0,null,0]
[{"$f":"IF(INTRO!$E$43=\"Non-endemic\",\" \", IF(COUNTRY_INFO!A21=0,\" \",COUNTRY_INFO!A21))","v":"Cameroun"},{"$f":"IF(INTRO!$E$43=\"Non-endemic\",\" \", IF(COUNTRY_INFO!B21=0,\" \",COUNTRY_INFO!B21))","v":"Centre"},{"$f":"IF(INTRO!$E$43=\"Non-endemic\",\" \", IF(COUNTRY_INFO!C21=0,\" \",COUNTRY_INFO!C21))","v":"Akonolinga"},{"$f":"IF(INTRO!$E$43=\"Non-endemic\", \"Not required\", COUNTRY_INFO!Z21)","v":0},0,0,0,0,null,null,null,null,null,{"$f":"IF($I21<>\"Yes\",$F21*2,($F21+ROUND(J21*$F21/SUM(COUNTRY_INFO!$E21:$G21),0))*2)","v":0},{"$f":"IF($I21<>\"Yes\",$G21*3,($G21+ROUND(J21*$G21/SUM(COUNTRY_INFO!$E21:$G21),0))*3)","v":0},0,null,0]
[{"$f":"IF(INTRO!$E$43=\"Non-endemic\",\" \", IF(COUNTRY_INFO!A22=0,\" \",COUNTRY_INFO!A22))","v":"Cameroun"},{"$f":"IF(INTRO!$E$43=\"Non-endemic\",\" \", IF(COUNTRY_INFO!B22=0,\" \",COUNTRY_INFO!B22))","v":"Centre"},{"$f":"IF(INTRO!$E$43=\"Non-endemic\",\" \", IF(COUNTRY_INFO!C22=0,\" \",COUNTRY_INFO!C22))","v":"Awae"},{"$f":"IF(INTRO!$E$43=\"Non-endemic\", \"Not required\", COUNTRY_INFO!Z22)","v":0},0,0,0,0,null,null,null,null,null,{"$f":"IF($I22<>\"Yes\",$F22*2,($F22+ROUND(J22*$F22/SUM(COUNTRY_INFO!$E22:$G22),0))*2)","v":0},{"$f":"IF($I22<>\"Yes\",$G22*3,($G22+ROUND(J22*$G22/SUM(COUNTRY_INFO!$E22:$G22),0))*3)","v":0},0,null,0]
[{"$f":"IF(INTRO!$E$43=\"Non-endemic\",\" \", IF(COUNTRY_INFO!A23=0,\" \",COUNTRY_INFO!A23))","v":"Cameroun"},{"$f":"IF(INTRO!$E$43=\"Non-endemic\",\" \", IF(COUNTRY_INFO!B23=0,\" \",COUNTRY_INFO!B23))","v":"Centre"},{"$f":"IF(INTRO!$E$43=\"Non-endemic\",\" \", IF(COUNTRY_INFO!C23=0,\" \",COUNTRY_INFO!C23))","v":"Ayos"},{"$f":"IF(INTRO!$E$43=\"Non-endemic\", \"Not required\", COUNTRY_INFO!Z23)","v":1},9230,12404,0,21634,null,null,1,"SAC",null,{"$f":"IF($I23<>\"Yes\",$F23*2,($F23+ROUND(J23*$F23/SUM(COUNTRY_INFO!$E23:$G23),0))*2)","v":24808},{"$f":"IF($I23<>\"Yes\",$G23*3,($G23+ROUND(J23*$G23/SUM(COUNTRY_INFO!$E23:$G23),0))*3)","v":0},24808,null,24808]
[{"$f":"IF(INTRO!$E$43=\"Non-endemic\",\" \", IF(COUNTRY_INFO!A24=0,\" \",COUNTRY_INFO!A24))","v":"Cameroun"},{"$f":"IF(INTRO!$E$43=\"Non-endemic\",\" \", IF(COUNTRY_INFO!B24=0,\" \",COUNTRY_INFO!B24))","v":"Centre"},{"$f":"IF(INTRO!$E$43=\"Non-endemic\",\" \", IF(COUNTRY_INFO!C24=0,\" \",COUNTRY_INFO!C24))","v":"Bafia"},{"$f":"IF(INTRO!$E$43=\"Non-endemic\", \"Not required\", COUNTRY_INFO!Z24)","v":1},18940,49201,0,68141,null,null,1,"SAC",null,{"$f":"IF($I24<>\"Yes\",$F24*2,($F24+ROUND(J24*$F24/SUM(COUNTRY_INFO!$E24:$G24),0))*2)","v":98402},{"$f":"IF($I24<>\"Yes\",$G24*3,($G24+ROUND(J24*$G24/SUM(COUNTRY_INFO!$E24:$G24),0))*3)","v":0},98402,null,98402]
[{"$f":"IF(INTRO!$E$43=\"Non-endemic\",\" \", IF(COUNTRY_INFO!A25=0,\" \",COUNTRY_INFO!A25))","v":"Cameroun"},{"$f":"IF(INTRO!$E$43=\"Non-endemic\",\" \", IF(COUNTRY_INFO!B25=0,\" \",COUNTRY_INFO!B25))","v":"Centre"},{"$f":"IF(INTRO!$E$43=\"Non-endemic\",\" \", IF(COUNTRY_INFO!C25=0,\" \",COUNTRY_INFO!C25))","v":"Biyem Assi"},{"$f":"IF(INTRO!$E$43=\"Non-endemic\", \"Not required\", COUNTRY_INFO!Z25)","v":0},0,0,0,0,null,null,null,null,null,{"$f":"IF($I25<>\"Yes\",$F25*2,($F25+ROUND(J25*$F25/SUM(COUNTRY_INFO!$E25:$G25),0))*2)","v":0},{"$f":"IF($I25<>\"Yes\",$G25*3,($G25+ROUND(J25*$G25/SUM(COUNTRY_INFO!$E25:$G25),0))*3)","v":0},0,null,0]
[{"$f":"IF(INTRO!$E$43=\"Non-endemic\",\" \", IF(COUNTRY_INFO!A26=0,\" \",COUNTRY_INFO!A26))","v":"Cameroun"},{"$f":"IF(INTRO!$E$43=\"Non-endemic\",\" \", IF(COUNTRY_INFO!B26=0,\" \",COUNTRY_INFO!B26))","v":"Centre"},{"$f":"IF(INTRO!$E$43=\"Non-endemic\",\" \", IF(COUNTRY_INFO!C26=0,\" \",COUNTRY_INFO!C26))","v":"Cite Verte"},{"$f":"IF(INTRO!$E$43=\"Non-endemic\", \"Not required\", COUNTRY_INFO!Z26)","v":0},0,0,0,0,null,null,null,null,null,{"$f":"IF($I26<>\"Yes\",$F26*2,($F26+ROUND(J26*$F26/SUM(COUNTRY_INFO!$E26:$G26),0))*2)","v":0},{"$f":"IF($I26<>\"Yes\",$G26*3,($G26+ROUND(J26*$G26/SUM(COUNTRY_INFO!$E26:$G26),0))*3)","v":0},0,null,0]
[{"$f":"IF(INTRO!$E$43=\"Non-endemic\",\" \", IF(COUNTRY_INFO!A27=0,\" \",COUNTRY_INFO!A27))","v":"Cameroun"},{"$f":"IF(INTRO!$E$43=\"Non-endemic\",\" \", IF(COUNTRY_INFO!B27=0,\" \",COUNTRY_INFO!B27))","v":"Centre"},{"$f":"IF(INTRO!$E$43=\"Non-endemic\",\" \", IF(COUNTRY_INFO!C27=0,\" \",COUNTRY_INFO!C27))","v":"Djoungolo"},{"$f":"IF(INTRO!$E$43=\"Non-endemic\", \"Not required\", COUNTRY_INFO!Z27)","v":1},86269,148819,0,235088,null,null,1,"SAC",null,{"$f":"IF($I27<>\"Yes\",$F27*2,($F27+ROUND(J27*$F27/SUM(COUNTRY_INFO!$E27:$G27),0))*2)","v":297638},{"$f":"IF($I27<>\"Yes\",$G27*3,($G27+ROUND(J27*$G27/SUM(COUNTRY_INFO!$E27:$G27),0))*3)","v":0},297638,null,297638]
[{"$f":"IF(INTRO!$E$43=\"Non-endemic\",\" \", IF(COUNTRY_INFO!A28=0,\" \",COUNTRY_INFO!A28))","v":"Cameroun"},{"$f":"IF(INTRO!$E$43=\"Non-endemic\",\" \", IF(COUNTRY_INFO!B28=0,\" \",COUNTRY_INFO!B28))","v":"Centre"},{"$f":"IF(INTRO!$E$43=\"Non-endemic\",\" \", IF(COUNTRY_INFO!C28=0,\" \",COUNTRY_INFO!C28))","v":"Ebebda"},{"$f":"IF(INTRO!$E$43=\"Non-endemic\", \"Not required\", COUNTRY_INFO!Z28)","v":0},0,0,0,0,null,null,null,null,null,{"$f":"IF($I28<>\"Yes\",$F28*2,($F28+ROUND(J28*$F28/SUM(COUNTRY_INFO!$E28:$G28),0))*2)","v":0},{"$f":"IF($I28<>\"Yes\",$G28*3,($G28+ROUND(J28*$G28/SUM(COUNTRY_INFO!$E28:$G28),0))*3)","v":0},0,null,0]
[{"$f":"IF(INTRO!$E$43=\"Non-endemic\",\" \", IF(COUNTRY_INFO!A29=0,\" \",COUNTRY_INFO!A29))","v":"Cameroun"},{"$f":"IF(INTRO!$E$43=\"Non-endemic\",\" \", IF(COUNTRY_INFO!B29=0,\" \",COUNTRY_INFO!B29))","v":"Centre"},{"$f":"IF(INTRO!$E$43=\"Non-endemic\",\" \", IF(COUNTRY_INFO!C29=0,\" \",COUNTRY_INFO!C29))","v":"Efoulan"},{"$f":"IF(INTRO!$E$43=\"Non-endemic\", \"Not required\", COUNTRY_INFO!Z29)","v":1},38864,129424,0,168288,null,null,1,"SAC",null,{"$f":"IF($I29<>\"Yes\",$F29*2,($F29+ROUND(J29*$F29/SUM(COUNTRY_INFO!$E29:$G29),0))*2)","v":258848},{"$f":"IF($I29<>\"Yes\",$G29*3,($G29+ROUND(J29*$G29/SUM(COUNTRY_INFO!$E29:$G29),0))*3)","v":0},258848,null,258848]
[{"$f":"IF(INTRO!$E$43=\"Non-endemic\",\" \", IF(COUNTRY_INFO!A30=0,\" \",COUNTRY_INFO!A30))","v":"Cameroun"},{"$f":"IF(INTRO!$E$43=\"Non-endemic\",\" \", IF(COUNTRY_INFO!B30=0,\" \",COUNTRY_INFO!B30))","v":"Centre"},{"$f":"IF(INTRO!$E$43=\"Non-endemic\",\" \", IF(COUNTRY_INFO!C30=0,\" \",COUNTRY_INFO!C30))","v":"Elig Mfomo"},{"$f":"IF(INTRO!$E$43=\"Non-endemic\", \"Not required\", COUNTRY_INFO!Z30)","v":0},0,0,0,0,null,null,null,null,null,{"$f":"IF($I30<>\"Yes\",$F30*2,($F30+ROUND(J30*$F30/SUM(COUNTRY_INFO!$E30:$G30),0))*2)","v":0},{"$f":"IF($I30<>\"Yes\",$G30*3,($G30+ROUND(J30*$G30/SUM(COUNTRY_INFO!$E30:$G30),0))*3)","v":0},0,null,0]
[{"$f":"IF(INTRO!$E$43=\"Non-endemic\",\" \", IF(COUNTRY_INFO!A31=0,\" \",COUNTRY_INFO!A31))","v":"Cameroun"},{"$f":"IF(INTRO!$E$43=\"Non-endemic\",\" \", IF(COUNTRY_INFO!B31=0,\" \",COUNTRY_INFO!B31))","v":"Centre"},{"$f":"IF(INTRO!$E$43=\"Non-endemic\",\" \", IF(COUNTRY_INFO!C31=0,\" \",COUNTRY_INFO!C31))","v":"Eseka"},{"$f":"IF(INTRO!$E$43=\"Non-endemic\", \"Not required\", COUNTRY_INFO!Z31)","v":1},10951,24455,0,35406,null,null,1,"SAC",null,{"$f":"IF($I31<>\"Yes\",$F31*2,($F31+ROUND(J31*$F31/SUM(COUNTRY_INFO!$E31:$G31),0))*2)","v":48910},{"$f":"IF($I31<>\"Yes\",$G31*3,($G31+ROUND(J31*$G31/SUM(COUNTRY_INFO!$E31:$G31),0))*3)","v":0},48910,null,48910]
[{"$f":"IF(INTRO!$E$43=\"Non-endemic\",\" \", IF(COUNTRY_INFO!A32=0,\" \",COUNTRY_INFO!A32))","v":"Cameroun"},{"$f":"IF(INTRO!$E$43=\"Non-endemic\",\" \", IF(COUNTRY_INFO!B32=0,\" \",COUNTRY_INFO!B32))","v":"Centre"},{"$f":"IF(INTRO!$E$43=\"Non-endemic\",\" \", IF(COUNTRY_INFO!C32=0,\" \",COUNTRY_INFO!C32))","v":"Esse"},{"$f":"IF(INTRO!$E$43=\"Non-endemic\", \"Not required\", COUNTRY_INFO!Z32)","v":0},0,0,0,0,null,null,null,null,null,{"$f":"IF($I32<>\"Yes\",$F32*2,($F32+ROUND(J32*$F32/SUM(COUNTRY_INFO!$E32:$G32),0))*2)","v":0},{"$f":"IF($I32<>\"Yes\",$G32*3,($G32+ROUND(J32*$G32/SUM(COUNTRY_INFO!$E32:$G32),0))*3)","v":0},0,null,0]
[{"$f":"IF(INTRO!$E$43=\"Non-endemic\",\" \", IF(COUNTRY_INFO!A33=0,\" \",COUNTRY_INFO!A33))","v":"Cameroun"},{"$f":"IF(INTRO!$E$43=\"Non-endemic\",\" \", IF(COUNTRY_INFO!B33=0,\" \",COUNTRY_INFO!B33))","v":"Centre"},{"$f":"IF(INTRO!$E$43=\"Non-endemic\",\" \", IF(COUNTRY_INFO!C33=0,\" \",COUNTRY_INFO!C33))","v":"Evodoula"},{"$f":"IF(INTRO!$E$43=\"Non-endemic\", \"Not required\", COUNTRY_INFO!Z33)","v":0},0,0,0,0,null,null,null,null,null,{"$f":"IF($I33<>\"Yes\",$F33*2,($F33+ROUND(J33*$F33/SUM(COUNTRY_INFO!$E33:$G33),0))*2)","v":0},{"$f":"IF($I33<>\"Yes\",$G33*3,($G33+ROUND(J33*$G33/SUM(COUNTRY_INFO!$E33:$G33),0))*3)","v":0},0,null,0]
[{"$f":"IF(INTRO!$E$43=\"Non-endemic\",\" \", IF(COUNTRY_INFO!A34=0,\" \",COUNTRY_INFO!A34))","v":"Cameroun"},{"$f":"IF(INTRO!$E$43=\"Non-endemic\",\" \", IF(COUNTRY_INFO!B34=0,\" \",COUNTRY_INFO!B34))","v":"Centre"},{"$f":"IF(INTRO!$E$43=\"Non-endemic\",\" \", IF(COUNTRY_INFO!C34=0,\" \",COUNTRY_INFO!C34))","v":"Mbalmayo"},{"$f":"IF(INTRO!$E$43=\"Non-endemic\", \"Not required\", COUNTRY_INFO!Z34)","v":1},15427,36634,0,52061,null,null,1,"SAC",null,{"$f":"IF($I34<>\"Yes\",$F34*2,($F34+ROUND(J34*$F34/SUM(COUNTRY_INFO!$E34:$G34),0))*2)","v":73268},{"$f":"IF($I34<>\"Yes\",$G34*3,($G34+ROUND(J34*$G34/SUM(COUNTRY_INFO!$E34:$G34),0))*3)","v":0},73268,null,73268]
[{"$f":"IF(INTRO!$E$43=\"Non-endemic\",\" \", IF(COUNTRY_INFO!A35=0,\" \",COUNTRY_INFO!A35))","v":"Cameroun"},{"$f":"IF(INTRO!$E$43=\"Non-endemic\",\" \", IF(COUNTRY_INFO!B35=0,\" \",COUNTRY_INFO!B35))","v":"Centre"},{"$f":"IF(INTRO!$E$43=\"Non-endemic\",\" \", IF(COUNTRY_INFO!C35=0,\" \",COUNTRY_INFO!C35))","v":"Mbandjock"},{"$f":"IF(INTRO!$E$43=\"Non-endemic\", \"Not required\", COUNTRY_INFO!Z35)","v":0},0,0,0,0,null,null,null,null,null,{"$f":"IF($I35<>\"Yes\",$F35*2,($F35+ROUND(J35*$F35/SUM(COUNTRY_INFO!$E35:$G35),0))*2)","v":0},{"$f":"IF($I35<>\"Yes\",$G35*3,($G35+ROUND(J35*$G35/SUM(COUNTRY_INFO!$E35:$G35),0))*3)","v":0},0,null,0]
[{"$f":"IF(INTRO!$E$43=\"Non-endemic\",\" \", IF(COUNTRY_INFO!A36=0,\" \",COUNTRY_INFO!A36))","v":"Cameroun"},{"$f":"IF(INTRO!$E$43=\"Non-endemic\",\" \", IF(COUNTRY_INFO!B36=0,\" \",COUNTRY_INFO!B36))","v":"Centre"},{"$f":"IF(INTRO!$E$43=\"Non-endemic\",\" \", IF(COUNTRY_INFO!C36=0,\" \",COUNTRY_INFO!C36))","v":"Mbankomo"},{"$f":"IF(INTRO!$E$43=\"Non-endemic\", \"Not required\", COUNTRY_INFO!Z36)","v":1},4632,9433,0,14065,null,null,1,null,null,{"$f":"IF($I36<>\"Yes\",$F36*2,($F36+ROUND(J36*$F36/SUM(COUNTRY_INFO!$E36:$G36),0))*2)","v":18866},{"$f":"IF($I36<>\"Yes\",$G36*3,($G36+ROUND(J36*$G36/SUM(COUNTRY_INFO!$E36:$G36),0))*3)","v":0},18866,null,18866]
[{"$f":"IF(INTRO!$E$43=\"Non-endemic\",\" \", IF(COUNTRY_INFO!A37=0,\" \",COUNTRY_INFO!A37))","v":"Cameroun"},{"$f":"IF(INTRO!$E$43=\"Non-endemic\",\" \", IF(COUNTRY_INFO!B37=0,\" \",COUNTRY_INFO!B37))","v":"Centre"},{"$f":"IF(INTRO!$E$43=\"Non-endemic\",\" \", IF(COUNTRY_INFO!C37=0,\" \",COUNTRY_INFO!C37))","v":"Mfou"},{"$f":"IF(INTRO!$E$43=\"Non-endemic\", \"Not required\", COUNTRY_INFO!Z37)","v":1},20746,31027,0,51773,null,null,1,"SAC",null,{"$f":"IF($I37<>\"Yes\",$F37*2,($F37+ROUND(J37*$F37/SUM(COUNTRY_INFO!$E37:$G37),0))*2)","v":62054},{"$f":"IF($I37<>\"Yes\",$G37*3,($G37+ROUND(J37*$G37/SUM(COUNTRY_INFO!$E37:$G37),0))*3)","v":0},62054,null,62054]
[{"$f":"IF(INTRO!$E$43=\"Non-endemic\",\" \", IF(COUNTRY_INFO!A38=0,\" \",COUNTRY_INFO!A38))","v":"Cameroun"},{"$f":"IF(INTRO!$E$43=\"Non-endemic\",\" \", IF(COUNTRY_INFO!B38=0,\" \",COUNTRY_INFO!B38))","v":"Centre"},{"$f":"IF(INTRO!$E$43=\"Non-endemic\",\" \", IF(COUNTRY_INFO!C38=0,\" \",COUNTRY_INFO!C38))","v":"Monatele"},{"$f":"IF(INTRO!$E$43=\"Non-endemic\", \"Not required\", COUNTRY_INFO!Z38)","v":0},0,0,0,0,null,null,null,null,null,{"$f":"IF($I38<>\"Yes\",$F38*2,($F38+ROUND(J38*$F38/SUM(COUNTRY_INFO!$E38:$G38),0))*2)","v":0},{"$f":"IF($I38<>\"Yes\",$G38*3,($G38+ROUND(J38*$G38/SUM(COUNTRY_INFO!$E38:$G38),0))*3)","v":0},0,null,0]
[{"$f":"IF(INTRO!$E$43=\"Non-endemic\",\" \", IF(COUNTRY_INFO!A39=0,\" \",COUNTRY_INFO!A39))","v":"Cameroun"},{"$f":"IF(INTRO!$E$43=\"Non-endemic\",\" \", IF(COUNTRY_INFO!B39=0,\" \",COUNTRY_INFO!B39))","v":"Centre"},{"$f":"IF(INTRO!$E$43=\"Non-endemic\",\" \", IF(COUNTRY_INFO!C39=0,\" \",COUNTRY_INFO!C39))","v":"Mvog-Ada"},{"$f":"IF(INTRO!$E$43=\"Non-endemic\", \"Not required\", COUNTRY_INFO!Z39)","v":1},60650,125870,0,186520,null,null,1,"SAC",null,{"$f":"IF($I39<>\"Yes\",$F39*2,($F39+ROUND(J39*$F39/SUM(COUNTRY_INFO!$E39:$G39),0))*2)","v":251740},{"$f":"IF($I39<>\"Yes\",$G39*3,($G39+ROUND(J39*$G39/SUM(COUNTRY_INFO!$E39:$G39),0))*3)","v":0},251740,null,251740]
[{"$f":"IF(INTRO!$E$43=\"Non-endemic\",\" \", IF(COUNTRY_INFO!A40=0,\" \",COUNTRY_INFO!A40))","v":"Cameroun"},{"$f":"IF(INTRO!$E$43=\"Non-endemic\",\" \", IF(COUNTRY_INFO!B40=0,\" \",COUNTRY_INFO!B40))","v":"Centre"},{"$f":"IF(INTRO!$E$43=\"Non-endemic\",\" \", IF(COUNTRY_INFO!C40=0,\" \",COUNTRY_INFO!C40))","v":"Nanga Eboko"},{"$f":"IF(INTRO!$E$43=\"Non-endemic\", \"Not required\", COUNTRY_INFO!Z40)","v":0},0,0,0,0,null,null,null,null,null,{"$f":"IF($I40<>\"Yes\",$F40*2,($F40+ROUND(J40*$F40/SUM(COUNTRY_INFO!$E40:$G40),0))*2)","v":0},{"$f":"IF($I40<>\"Yes\",$G40*3,($G40+ROUND(J40*$G40/SUM(COUNTRY_INFO!$E40:$G40),0))*3)","v":0},0,null,0]
[{"$f":"IF(INTRO!$E$43=\"Non-endemic\",\" \", IF(COUNTRY_INFO!A41=0,\" \",COUNTRY_INFO!A41))","v":"Cameroun"},{"$f":"IF(INTRO!$E$43=\"Non-endemic\",\" \", IF(COUNTRY_INFO!B41=0,\" \",COUNTRY_INFO!B41))","v":"Centre"},{"$f":"IF(INTRO!$E$43=\"Non-endemic\",\" \", IF(COUNTRY_INFO!C41=0,\" \",COUNTRY_INFO!C41))","v":"Ndikinimeki"},{"$f":"IF(INTRO!$E$43=\"Non-endemic\", \"Not required\", COUNTRY_INFO!Z41)","v":1},5139,13571,0,18710,null,null,2,"SAC",null,{"$f":"IF($I41<>\"Yes\",$F41*2,($F41+ROUND(J41*$F41/SUM(COUNTRY_INFO!$E41:$G41),0))*2)","v":27142},{"$f":"IF($I41<>\"Yes\",$G41*3,($G41+ROUND(J41*$G41/SUM(COUNTRY_INFO!$E41:$G41),0))*3)","v":0},27142,null,27142]
[{"$f":"IF(INTRO!$E$43=\"Non-endemic\",\" \", IF(COUNTRY_INFO!A42=0,\" \",COUNTRY_INFO!A42))","v":"Cameroun"},{"$f":"IF(INTRO!$E$43=\"Non-endemic\",\" \", IF(COUNTRY_INFO!B42=0,\" \",COUNTRY_INFO!B42))","v":"Centre"},{"$f":"IF(INTRO!$E$43=\"Non-endemic\",\" \", IF(COUNTRY_INFO!C42=0,\" \",COUNTRY_INFO!C42))","v":"Ngog Mapubi"},{"$f":"IF(INTRO!$E$43=\"Non-endemic\", \"Not required\", COUNTRY_INFO!Z42)","v":0},0,0,0,0,null,null,null,null,null,{"$f":"IF($I42<>\"Yes\",$F42*2,($F42+ROUND(J42*$F42/SUM(COUNTRY_INFO!$E42:$G42),0))*2)","v":0},{"$f":"IF($I42<>\"Yes\",$G42*3,($G42+ROUND(J42*$G42/SUM(COUNTRY_INFO!$E42:$G42),0))*3)","v":0},0,null,0]
[{"$f":"IF(INTRO!$E$43=\"Non-endemic\",\" \", IF(COUNTRY_INFO!A43=0,\" \",COUNTRY_INFO!A43))","v":"Cameroun"},{"$f":"IF(INTRO!$E$43=\"Non-endemic\",\" \", IF(COUNTRY_INFO!B43=0,\" \",COUNTRY_INFO!B43))","v":"Centre"},{"$f":"IF(INTRO!$E$43=\"Non-endemic\",\" \", IF(COUNTRY_INFO!C43=0,\" \",COUNTRY_INFO!C43))","v":"Ngoumou"},{"$f":"IF(INTRO!$E$43=\"Non-endemic\", \"Not required\", COUNTRY_INFO!Z43)","v":1},5577,13176,0,18753,null,null,1,"SAC",null,{"$f":"IF($I43<>\"Yes\",$F43*2,($F43+ROUND(J43*$F43/SUM(COUNTRY_INFO!$E43:$G43),0))*2)","v":26352},{"$f":"IF($I43<>\"Yes\",$G43*3,($G43+ROUND(J43*$G43/SUM(COUNTRY_INFO!$E43:$G43),0))*3)","v":0},26352,null,26352]
[{"$f":"IF(INTRO!$E$43=\"Non-endemic\",\" \", IF(COUNTRY_INFO!A44=0,\" \",COUNTRY_INFO!A44))","v":"Cameroun"},{"$f":"IF(INTRO!$E$43=\"Non-endemic\",\" \", IF(COUNTRY_INFO!B44=0,\" \",COUNTRY_INFO!B44))","v":"Centre"},{"$f":"IF(INTRO!$E$43=\"Non-endemic\",\" \", IF(COUNTRY_INFO!C44=0,\" \",COUNTRY_INFO!C44))","v":"Nkolbisson"},{"$f":"IF(INTRO!$E$43=\"Non-endemic\", \"Not required\", COUNTRY_INFO!Z44)","v":1},42541,51876,0,94417,null,null,1,"SAC",null,{"$f":"IF($I44<>\"Yes\",$F44*2,($F44+ROUND(J44*$F44/SUM(COUNTRY_INFO!$E44:$G44),0))*2)","v":103752},{"$f":"IF($I44<>\"Yes\",$G44*3,($G44+ROUND(J44*$G44/SUM(COUNTRY_INFO!$E44:$G44),0))*3)","v":0},103752,null,103752]
[{"$f":"IF(INTRO!$E$43=\"Non-endemic\",\" \", IF(COUNTRY_INFO!A45=0,\" \",COUNTRY_INFO!A45))","v":"Cameroun"},{"$f":"IF(INTRO!$E$43=\"Non-endemic\",\" \", IF(COUNTRY_INFO!B45=0,\" \",COUNTRY_INFO!B45))","v":"Centre"},{"$f":"IF(INTRO!$E$43=\"Non-endemic\",\" \", IF(COUNTRY_INFO!C45=0,\" \",COUNTRY_INFO!C45))","v":"Nkolndongo"},{"$f":"IF(INTRO!$E$43=\"Non-endemic\", \"Not required\", COUNTRY_INFO!Z45)","v":1},34687,128530,0,163217,null,null,1,"SAC",null,{"$f":"IF($I45<>\"Yes\",$F45*2,($F45+ROUND(J45*$F45/SUM(COUNTRY_INFO!$E45:$G45),0))*2)","v":257060},{"$f":"IF($I45<>\"Yes\",$G45*3,($G45+ROUND(J45*$G45/SUM(COUNTRY_INFO!$E45:$G45),0))*3)","v":0},257060,null,257060]
[{"$f":"IF(INTRO!$E$43=\"Non-endemic\",\" \", IF(COUNTRY_INFO!A46=0,\" \",COUNTRY_INFO!A46))","v":"Cameroun"},{"$f":"IF(INTRO!$E$43=\"Non-endemic\",\" \", IF(COUNTRY_INFO!B46=0,\" \",COUNTRY_INFO!B46))","v":"Centre"},{"$f":"IF(INTRO!$E$43=\"Non-endemic\",\" \", IF(COUNTRY_INFO!C46=0,\" \",COUNTRY_INFO!C46))","v":"Ntui"},{"$f":"IF(INTRO!$E$43=\"Non-endemic\", \"Not required\", COUNTRY_INFO!Z46)","v":1},20693,39102,0,59795,null,null,1,"SAC",null,{"$f":"IF($I46<>\"Yes\",$F46*2,($F46+ROUND(J46*$F46/SUM(COUNTRY_INFO!$E46:$G46),0))*2)","v":78204},{"$f":"IF($I46<>\"Yes\",$G46*3,($G46+ROUND(J46*$G46/SUM(COUNTRY_INFO!$E46:$G46),0))*3)","v":0},78204,null,78204]
[{"$f":"IF(INTRO!$E$43=\"Non-endemic\",\" \", IF(COUNTRY_INFO!A47=0,\" \",COUNTRY_INFO!A47))","v":"Cameroun"},{"$f":"IF(INTRO!$E$43=\"Non-endemic\",\" \", IF(COUNTRY_INFO!B47=0,\" \",COUNTRY_INFO!B47))","v":"Centre"},{"$f":"IF(INTRO!$E$43=\"Non-endemic\",\" \", IF(COUNTRY_INFO!C47=0,\" \",COUNTRY_INFO!C47))","v":"Obala"},{"$f":"IF(INTRO!$E$43=\"Non-endemic\", \"Not required\", COUNTRY_INFO!Z47)","v":0},0,0,0,0,null,null,null,null,null,{"$f":"IF($I47<>\"Yes\",$F47*2,($F47+ROUND(J47*$F47/SUM(COUNTRY_INFO!$E47:$G47),0))*2)","v":0},{"$f":"IF($I47<>\"Yes\",$G47*3,($G47+ROUND(J47*$G47/SUM(COUNTRY_INFO!$E47:$G47),0))*3)","v":0},0,null,0]
[{"$f":"IF(INTRO!$E$43=\"Non-endemic\",\" \", IF(COUNTRY_INFO!A48=0,\" \",COUNTRY_INFO!A48))","v":"Cameroun"},{"$f":"IF(INTRO!$E$43=\"Non-endemic\",\" \", IF(COUNTRY_INFO!B48=0,\" \",COUNTRY_INFO!B48))","v":"Centre"},{"$f":"IF(INTRO!$E$43=\"Non-endemic\",\" \", IF(COUNTRY_INFO!C48=0,\" \",COUNTRY_INFO!C48))","v":"Odza"},{"$f":"IF(INTRO!$E$43=\"Non-endemic\", \"Not required\", COUNTRY_INFO!Z48)","v":0},0,0,0,0,null,null,null,null,null,{"$f":"IF($I48<>\"Yes\",$F48*2,($F48+ROUND(J48*$F48/SUM(COUNTRY_INFO!$E48:$G48),0))*2)","v":0},{"$f":"IF($I48<>\"Yes\",$G48*3,($G48+ROUND(J48*$G48/SUM(COUNTRY_INFO!$E48:$G48),0))*3)","v":0},0,null,0]
[{"$f":"IF(INTRO!$E$43=\"Non-endemic\",\" \", IF(COUNTRY_INFO!A49=0,\" \",COUNTRY_INFO!A49))","v":"Cameroun"},{"$f":"IF(INTRO!$E$43=\"Non-endemic\",\" \", IF(COUNTRY_INFO!B49=0,\" \",COUNTRY_INFO!B49))","v":"Centre"},{"$f":"IF(INTRO!$E$43=\"Non-endemic\",\" \", IF(COUNTRY_INFO!C49=0,\" \",COUNTRY_INFO!C49))","v":"Okola"},{"$f":"IF(INTRO!$E$43=\"Non-endemic\", \"Not required\", COUNTRY_INFO!Z49)","v":0},0,0,0,0,null,null,null,null,null,{"$f":"IF($I49<>\"Yes\",$F49*2,($F49+ROUND(J49*$F49/SUM(COUNTRY_INFO!$E49:$G49),0))*2)","v":0},{"$f":"IF($I49<>\"Yes\",$G49*3,($G49+ROUND(J49*$G49/SUM(COUNTRY_INFO!$E49:$G49),0))*3)","v":0},0,null,0]
[{"$f":"IF(INTRO!$E$43=\"Non-endemic\",\" \", IF(COUNTRY_INFO!A50=0,\" \",COUNTRY_INFO!A50))","v":"Cameroun"},{"$f":"IF(INTRO!$E$43=\"Non-endemic\",\" \", IF(COUNTRY_INFO!B50=0,\" \",COUNTRY_INFO!B50))","v":"Centre"},{"$f":"IF(INTRO!$E$43=\"Non-endemic\",\" \", IF(COUNTRY_INFO!C50=0,\" \",COUNTRY_INFO!C50))","v":"Sa'a"},{"$f":"IF(INTRO!$E$43=\"Non-endemic\", \"Not required\", COUNTRY_INFO!Z50)","v":0},0,0,0,0,null,null,null,null,null,{"$f":"IF($I50<>\"Yes\",$F50*2,($F50+ROUND(J50*$F50/SUM(COUNTRY_INFO!$E50:$G50),0))*2)","v":0},{"$f":"IF($I50<>\"Yes\",$G50*3,($G50+ROUND(J50*$G50/SUM(COUNTRY_INFO!$E50:$G50),0))*3)","v":0},0,null,0]
[{"$f":"IF(INTRO!$E$43=\"Non-endemic\",\" \", IF(COUNTRY_INFO!A51=0,\" \",COUNTRY_INFO!A51))","v":"Cameroun"},{"$f":"IF(INTRO!$E$43=\"Non-endemic\",\" \", IF(COUNTRY_INFO!B51=0,\" \",COUNTRY_INFO!B51))","v":"Centre"},{"$f":"IF(INTRO!$E$43=\"Non-endemic\",\" \", IF(COUNTRY_INFO!C51=0,\" \",COUNTRY_INFO!C51))","v":"Soa"},{"$f":"IF(INTRO!$E$43=\"Non-endemic\", \"Not required\", COUNTRY_INFO!Z51)","v":0},0,0,0,0,null,null,null,null,null,{"$f":"IF($I51<>\"Yes\",$F51*2,($F51+ROUND(J51*$F51/SUM(COUNTRY_INFO!$E51:$G51),0))*2)","v":0},{"$f":"IF($I51<>\"Yes\",$G51*3,($G51+ROUND(J51*$G51/SUM(COUNTRY_INFO!$E51:$G51),0))*3)","v":0},0,null,0]
[{"$f":"IF(INTRO!$E$43=\"Non-endemic\",\" \", IF(COUNTRY_INFO!A52=0,\" \",COUNTRY_INFO!A52))","v":"Cameroun"},{"$f":"IF(INTRO!$E$43=\"Non-endemic\",\" \", IF(COUNTRY_INFO!B52=0,\" \",COUNTRY_INFO!B52))","v":"Centre"},{"$f":"IF(INTRO!$E$43=\"Non-endemic\",\" \", IF(COUNTRY_INFO!C52=0,\" \",COUNTRY_INFO!C52))","v":"Yoko"},{"$f":"IF(INTRO!$E$43=\"Non-endemic\", \"Not required\", COUNTRY_INFO!Z52)","v":0},0,0,0,0,null,null,null,null,null,{"$f":"IF($I52<>\"Yes\",$F52*2,($F52+ROUND(J52*$F52/SUM(COUNTRY_INFO!$E52:$G52),0))*2)","v":0},{"$f":"IF($I52<>\"Yes\",$G52*3,($G52+ROUND(J52*$G52/SUM(COUNTRY_INFO!$E52:$G52),0))*3)","v":0},0,null,0]
[{"$f":"IF(INTRO!$E$43=\"Non-endemic\",\" \", IF(COUNTRY_INFO!A53=0,\" \",COUNTRY_INFO!A53))","v":"Cameroun"},{"$f":"IF(INTRO!$E$43=\"Non-endemic\",\" \", IF(COUNTRY_INFO!B53=0,\" \",COUNTRY_INFO!B53))","v":"Est"},{"$f":"IF(INTRO!$E$43=\"Non-endemic\",\" \", IF(COUNTRY_INFO!C53=0,\" \",COUNTRY_INFO!C53))","v":"Abong Mbang"},{"$f":"IF(INTRO!$E$43=\"Non-endemic\", \"Not required\", COUNTRY_INFO!Z53)","v":0},0,0,0,0,null,null,null,null,null,{"$f":"IF($I53<>\"Yes\",$F53*2,($F53+ROUND(J53*$F53/SUM(COUNTRY_INFO!$E53:$G53),0))*2)","v":0},{"$f":"IF($I53<>\"Yes\",$G53*3,($G53+ROUND(J53*$G53/SUM(COUNTRY_INFO!$E53:$G53),0))*3)","v":0},0,null,0]
[{"$f":"IF(INTRO!$E$43=\"Non-endemic\",\" \", IF(COUNTRY_INFO!A54=0,\" \",COUNTRY_INFO!A54))","v":"Cameroun"},{"$f":"IF(INTRO!$E$43=\"Non-endemic\",\" \", IF(COUNTRY_INFO!B54=0,\" \",COUNTRY_INFO!B54))","v":"Est"},{"$f":"IF(INTRO!$E$43=\"Non-endemic\",\" \", IF(COUNTRY_INFO!C54=0,\" \",COUNTRY_INFO!C54))","v":"Batouri"},{"$f":"IF(INTRO!$E$43=\"Non-endemic\", \"Not required\", COUNTRY_INFO!Z54)","v":0},0,0,0,0,null,null,null,null,null,{"$f":"IF($I54<>\"Yes\",$F54*2,($F54+ROUND(J54*$F54/SUM(COUNTRY_INFO!$E54:$G54),0))*2)","v":0},{"$f":"IF($I54<>\"Yes\",$G54*3,($G54+ROUND(J54*$G54/SUM(COUNTRY_INFO!$E54:$G54),0))*3)","v":0},0,null,0]
[{"$f":"IF(INTRO!$E$43=\"Non-endemic\",\" \", IF(COUNTRY_INFO!A55=0,\" \",COUNTRY_INFO!A55))","v":"Cameroun"},{"$f":"IF(INTRO!$E$43=\"Non-endemic\",\" \", IF(COUNTRY_INFO!B55=0,\" \",COUNTRY_INFO!B55))","v":"Est"},{"$f":"IF(INTRO!$E$43=\"Non-endemic\",\" \", IF(COUNTRY_INFO!C55=0,\" \",COUNTRY_INFO!C55))","v":"Belabo"},{"$f":"IF(INTRO!$E$43=\"Non-endemic\", \"Not required\", COUNTRY_INFO!Z55)","v":1},11399,34577,0,45976,null,null,1,"SAC",null,{"$f":"IF($I55<>\"Yes\",$F55*2,($F55+ROUND(J55*$F55/SUM(COUNTRY_INFO!$E55:$G55),0))*2)","v":69154},{"$f":"IF($I55<>\"Yes\",$G55*3,($G55+ROUND(J55*$G55/SUM(COUNTRY_INFO!$E55:$G55),0))*3)","v":0},69154,null,69154]
[{"$f":"IF(INTRO!$E$43=\"Non-endemic\",\" \", IF(COUNTRY_INFO!A56=0,\" \",COUNTRY_INFO!A56))","v":"Cameroun"},{"$f":"IF(INTRO!$E$43=\"Non-endemic\",\" \", IF(COUNTRY_INFO!B56=0,\" \",COUNTRY_INFO!B56))","v":"Est"},{"$f":"IF(INTRO!$E$43=\"Non-endemic\",\" \", IF(COUNTRY_INFO!C56=0,\" \",COUNTRY_INFO!C56))","v":"Bertoua"},{"$f":"IF(INTRO!$E$43=\"Non-endemic\", \"Not required\", COUNTRY_INFO!Z56)","v":1},43701,67576,0,111277,null,null,1,"SAC",null,{"$f":"IF($I56<>\"Yes\",$F56*2,($F56+ROUND(J56*$F56/SUM(COUNTRY_INFO!$E56:$G56),0))*2)","v":135152},{"$f":"IF($I56<>\"Yes\",$G56*3,($G56+ROUND(J56*$G56/SUM(COUNTRY_INFO!$E56:$G56),0))*3)","v":0},135152,null,135152]
[{"$f":"IF(INTRO!$E$43=\"Non-endemic\",\" \", IF(COUNTRY_INFO!A57=0,\" \",COUNTRY_INFO!A57))","v":"Cameroun"},{"$f":"IF(INTRO!$E$43=\"Non-endemic\",\" \", IF(COUNTRY_INFO!B57=0,\" \",COUNTRY_INFO!B57))","v":"Est"},{"$f":"IF(INTRO!$E$43=\"Non-endemic\",\" \", IF(COUNTRY_INFO!C57=0,\" \",COUNTRY_INFO!C57))","v":"Betare Oya"},{"$f":"IF(INTRO!$E$43=\"Non-endemic\", \"Not required\", COUNTRY_INFO!Z57)","v":1},0,0,0,0,null,null,null,null,null,{"$f":"IF($I57<>\"Yes\",$F57*2,($F57+ROUND(J57*$F57/SUM(COUNTRY_INFO!$E57:$G57),0))*2)","v":0},{"$f":"IF($I57<>\"Yes\",$G57*3,($G57+ROUND(J57*$G57/SUM(COUNTRY_INFO!$E57:$G57),0))*3)","v":0},0,null,0]
[{"$f":"IF(INTRO!$E$43=\"Non-endemic\",\" \", IF(COUNTRY_INFO!A58=0,\" \",COUNTRY_INFO!A58))","v":"Cameroun"},{"$f":"IF(INTRO!$E$43=\"Non-endemic\",\" \", IF(COUNTRY_INFO!B58=0,\" \",COUNTRY_INFO!B58))","v":"Est"},{"$f":"IF(INTRO!$E$43=\"Non-endemic\",\" \", IF(COUNTRY_INFO!C58=0,\" \",COUNTRY_INFO!C58))","v":"Doume"},{"$f":"IF(INTRO!$E$43=\"Non-endemic\", \"Not required\", COUNTRY_INFO!Z58)","v":1},6748,14874,0,21622,null,null,1,"SAC",null,{"$f":"IF($I58<>\"Yes\",$F58*2,($F58+ROUND(J58*$F58/SUM(COUNTRY_INFO!$E58:$G58),0))*2)","v":29748},{"$f":"IF($I58<>\"Yes\",$G58*3,($G58+ROUND(J58*$G58/SUM(COUNTRY_INFO!$E58:$G58),0))*3)","v":0},29748,null,29748]
[{"$f":"IF(INTRO!$E$43=\"Non-endemic\",\" \", IF(COUNTRY_INFO!A59=0,\" \",COUNTRY_INFO!A59))","v":"Cameroun"},{"$f":"IF(INTRO!$E$43=\"Non-endemic\",\" \", IF(COUNTRY_INFO!B59=0,\" \",COUNTRY_INFO!B59))","v":"Est"},{"$f":"IF(INTRO!$E$43=\"Non-endemic\",\" \", IF(COUNTRY_INFO!C59=0,\" \",COUNTRY_INFO!C59))","v":"Garoua Boulai"},{"$f":"IF(INTRO!$E$43=\"Non-endemic\", \"Not required\", COUNTRY_INFO!Z59)","v":0},0,0,0,0,null,null,null,null,null,{"$f":"IF($I59<>\"Yes\",$F59*2,($F59+ROUND(J59*$F59/SUM(COUNTRY_INFO!$E59:$G59),0))*2)","v":0},{"$f":"IF($I59<>\"Yes\",$G59*3,($G59+ROUND(J59*$G59/SUM(COUNTRY_INFO!$E59:$G59),0))*3)","v":0},0,null,0]
[{"$f":"IF(INTRO!$E$43=\"Non-endemic\",\" \", IF(COUNTRY_INFO!A60=0,\" \",COUNTRY_INFO!A60))","v":"Cameroun"},{"$f":"IF(INTRO!$E$43=\"Non-endemic\",\" \", IF(COUNTRY_INFO!B60=0,\" \",COUNTRY_INFO!B60))","v":"Est"},{"$f":"IF(INTRO!$E$43=\"Non-endemic\",\" \", IF(COUNTRY_INFO!C60=0,\" \",COUNTRY_INFO!C60))","v":"Kette"},{"$f":"IF(INTRO!$E$43=\"Non-endemic\", \"Not required\", COUNTRY_INFO!Z60)","v":1},30742,22228,0,52970,null,null,1,"SAC",null,{"$f":"IF($I60<>\"Yes\",$F60*2,($F60+ROUND(J60*$F60/SUM(COUNTRY_INFO!$E60:$G60),0))*2)","v":44456},{"$f":"IF($I60<>\"Yes\",$G60*3,($G60+ROUND(J60*$G60/SUM(COUNTRY_INFO!$E60:$G60),0))*3)","v":0},44456,null,44456]
[{"$f":"IF(INTRO!$E$43=\"Non-endemic\",\" \", IF(COUNTRY_INFO!A61=0,\" \",COUNTRY_INFO!A61))","v":"Cameroun"},{"$f":"IF(INTRO!$E$43=\"Non-endemic\",\" \", IF(COUNTRY_INFO!B61=0,\" \",COUNTRY_INFO!B61))","v":"Est"},{"$f":"IF(INTRO!$E$43=\"Non-endemic\",\" \", IF(COUNTRY_INFO!C61=0,\" \",COUNTRY_INFO!C61))","v":"Lomie"},{"$f":"IF(INTRO!$E$43=\"Non-endemic\", \"Not required\", COUNTRY_INFO!Z61)","v":0},0,0,0,0,null,null,null,null,null,{"$f":"IF($I61<>\"Yes\",$F61*2,($F61+ROUND(J61*$F61/SUM(COUNTRY_INFO!$E61:$G61),0))*2)","v":0},{"$f":"IF($I61<>\"Yes\",$G61*3,($G61+ROUND(J61*$G61/SUM(COUNTRY_INFO!$E61:$G61),0))*3)","v":0},0,null,0]
[{"$f":"IF(INTRO!$E$43=\"Non-endemic\",\" \", IF(COUNTRY_INFO!A62=0,\" \",COUNTRY_INFO!A62))","v":"Cameroun"},{"$f":"IF(INTRO!$E$43=\"Non-endemic\",\" \", IF(COUNTRY_INFO!B62=0,\" \",COUNTRY_INFO!B62))","v":"Est"},{"$f":"IF(INTRO!$E$43=\"Non-endemic\",\" \", IF(COUNTRY_INFO!C62=0,\" \",COUNTRY_INFO!C62))","v":"Mbang"},{"$f":"IF(INTRO!$E$43=\"Non-endemic\", \"Not required\", COUNTRY_INFO!Z62)","v":0},0,0,0,0,null,null,null,null,null,{"$f":"IF($I62<>\"Yes\",$F62*2,($F62+ROUND(J62*$F62/SUM(COUNTRY_INFO!$E62:$G62),0))*2)","v":0},{"$f":"IF($I62<>\"Yes\",$G62*3,($G62+ROUND(J62*$G62/SUM(COUNTRY_INFO!$E62:$G62),0))*3)","v":0},0,null,0]
[{"$f":"IF(INTRO!$E$43=\"Non-endemic\",\" \", IF(COUNTRY_INFO!A63=0,\" \",COUNTRY_INFO!A63))","v":"Cameroun"},{"$f":"IF(INTRO!$E$43=\"Non-endemic\",\" \", IF(COUNTRY_INFO!B63=0,\" \",COUNTRY_INFO!B63))","v":"Est"},{"$f":"IF(INTRO!$E$43=\"Non-endemic\",\" \", IF(COUNTRY_INFO!C63=0,\" \",COUNTRY_INFO!C63))","v":"Messamena"},{"$f":"IF(INTRO!$E$43=\"Non-endemic\", \"Not required\", COUNTRY_INFO!Z63)","v":0},0,0,0,0,null,null,null,null,null,{"$f":"IF($I63<>\"Yes\",$F63*2,($F63+ROUND(J63*$F63/SUM(COUNTRY_INFO!$E63:$G63),0))*2)","v":0},{"$f":"IF($I63<>\"Yes\",$G63*3,($G63+ROUND(J63*$G63/SUM(COUNTRY_INFO!$E63:$G63),0))*3)","v":0},0,null,0]
[{"$f":"IF(INTRO!$E$43=\"Non-endemic\",\" \", IF(COUNTRY_INFO!A64=0,\" \",COUNTRY_INFO!A64))","v":"Cameroun"},{"$f":"IF(INTRO!$E$43=\"Non-endemic\",\" \", IF(COUNTRY_INFO!B64=0,\" \",COUNTRY_INFO!B64))","v":"Est"},{"$f":"IF(INTRO!$E$43=\"Non-endemic\",\" \", IF(COUNTRY_INFO!C64=0,\" \",COUNTRY_INFO!C64))","v":"Moloundou"},{"$f":"IF(INTRO!$E$43=\"Non-endemic\", \"Not required\", COUNTRY_INFO!Z64)","v":0},0,0,0,0,null,null,null,null,null,{"$f":"IF($I64<>\"Yes\",$F64*2,($F64+ROUND(J64*$F64/SUM(COUNTRY_INFO!$E64:$G64),0))*2)","v":0},{"$f":"IF($I64<>\"Yes\",$G64*3,($G64+ROUND(J64*$G64/SUM(COUNTRY_INFO!$E64:$G64),0))*3)","v":0},0,null,0]
[{"$f":"IF(INTRO!$E$43=\"Non-endemic\",\" \", IF(COUNTRY_INFO!A65=0,\" \",COUNTRY_INFO!A65))","v":"Cameroun"},{"$f":"IF(INTRO!$E$43=\"Non-endemic\",\" \", IF(COUNTRY_INFO!B65=0,\" \",COUNTRY_INFO!B65))","v":"Est"},{"$f":"IF(INTRO!$E$43=\"Non-endemic\",\" \", IF(COUNTRY_INFO!C65=0,\" \",COUNTRY_INFO!C65))","v":"Ndelele"},{"$f":"IF(INTRO!$E$43=\"Non-endemic\", \"Not required\", COUNTRY_INFO!Z65)","v":0},0,0,0,0,null,null,null,null,null,{"$f":"IF($I65<>\"Yes\",$F65*2,($F65+ROUND(J65*$F65/SUM(COUNTRY_INFO!$E65:$G65),0))*2)","v":0},{"$f":"IF($I65<>\"Yes\",$G65*3,($G65+ROUND(J65*$G65/SUM(COUNTRY_INFO!$E65:$G65),0))*3)","v":0},0,null,0]
[{"$f":"IF(INTRO!$E$43=\"Non-endemic\",\" \", IF(COUNTRY_INFO!A66=0,\" \",COUNTRY_INFO!A66))","v":"Cameroun"},{"$f":"IF(INTRO!$E$43=\"Non-endemic\",\" \", IF(COUNTRY_INFO!B66=0,\" \",COUNTRY_INFO!B66))","v":"Est"},{"$f":"IF(INTRO!$E$43=\"Non-endemic\",\" \", IF(COUNTRY_INFO!C66=0,\" \",COUNTRY_INFO!C66))","v":"Nguelemendouka"},{"$f":"IF(INTRO!$E$43=\"Non-endemic\", \"Not required\", COUNTRY_INFO!Z66)","v":0},0,0,0,0,null,null,null,null,null,{"$f":"IF($I66<>\"Yes\",$F66*2,($F66+ROUND(J66*$F66/SUM(COUNTRY_INFO!$E66:$G66),0))*2)","v":0},{"$f":"IF($I66<>\"Yes\",$G66*3,($G66+ROUND(J66*$G66/SUM(COUNTRY_INFO!$E66:$G66),0))*3)","v":0},0,null,0]
[{"$f":"IF(INTRO!$E$43=\"Non-endemic\",\" \", IF(COUNTRY_INFO!A67=0,\" \",COUNTRY_INFO!A67))","v":"Cameroun"},{"$f":"IF(INTRO!$E$43=\"Non-endemic\",\" \", IF(COUNTRY_INFO!B67=0,\" \",COUNTRY_INFO!B67))","v":"Est"},{"$f":"IF(INTRO!$E$43=\"Non-endemic\",\" \", IF(COUNTRY_INFO!C67=0,\" \",COUNTRY_INFO!C67))","v":"Yokadouma"},{"$f":"IF(INTRO!$E$43=\"Non-endemic\", \"Not required\", COUNTRY_INFO!Z67)","v":0},0,0,0,0,null,null,null,null,null,{"$f":"IF($I67<>\"Yes\",$F67*2,($F67+ROUND(J67*$F67/SUM(COUNTRY_INFO!$E67:$G67),0))*2)","v":0},{"$f":"IF($I67<>\"Yes\",$G67*3,($G67+ROUND(J67*$G67/SUM(COUNTRY_INFO!$E67:$G67),0))*3)","v":0},0,null,0]
[{"$f":"IF(INTRO!$E$43=\"Non-endemic\",\" \", IF(COUNTRY_INFO!A68=0,\" \",COUNTRY_INFO!A68))","v":"Cameroun"},{"$f":"IF(INTRO!$E$43=\"Non-endemic\",\" \", IF(COUNTRY_INFO!B68=0,\" \",COUNTRY_INFO!B68))","v":"Extreme Nord"},{"$f":"IF(INTRO!$E$43=\"Non-endemic\",\" \", IF(COUNTRY_INFO!C68=0,\" \",COUNTRY_INFO!C68))","v":"Bogo"},{"$f":"IF(INTRO!$E$43=\"Non-endemic\", \"Not required\", COUNTRY_INFO!Z68)","v":1},32254,35225,0,67479,null,null,1,"SAC",null,{"$f":"IF($I68<>\"Yes\",$F68*2,($F68+ROUND(J68*$F68/SUM(COUNTRY_INFO!$E68:$G68),0))*2)","v":70450},{"$f":"IF($I68<>\"Yes\",$G68*3,($G68+ROUND(J68*$G68/SUM(COUNTRY_INFO!$E68:$G68),0))*3)","v":0},70450,null,70450]
[{"$f":"IF(INTRO!$E$43=\"Non-endemic\",\" \", IF(COUNTRY_INFO!A69=0,\" \",COUNTRY_INFO!A69))","v":"Cameroun"},{"$f":"IF(INTRO!$E$43=\"Non-endemic\",\" \", IF(COUNTRY_INFO!B69=0,\" \",COUNTRY_INFO!B69))","v":"Extreme Nord"},{"$f":"IF(INTRO!$E$43=\"Non-endemic\",\" \", IF(COUNTRY_INFO!C69=0,\" \",COUNTRY_INFO!C69))","v":"Bourha"},{"$f":"IF(INTRO!$E$43=\"Non-endemic\", \"Not required\", COUNTRY_INFO!Z69)","v":1},32891,23232,50565,106688,null,null,1,"SAC",null,{"$f":"IF($I69<>\"Yes\",$F69*2,($F69+ROUND(J69*$F69/SUM(COUNTRY_INFO!$E69:$G69),0))*2)","v":46464},{"$f":"IF($I69<>\"Yes\",$G69*3,($G69+ROUND(J69*$G69/SUM(COUNTRY_INFO!$E69:$G69),0))*3)","v":151695},198159,null,198159]
[{"$f":"IF(INTRO!$E$43=\"Non-endemic\",\" \", IF(COUNTRY_INFO!A70=0,\" \",COUNTRY_INFO!A70))","v":"Cameroun"},{"$f":"IF(INTRO!$E$43=\"Non-endemic\",\" \", IF(COUNTRY_INFO!B70=0,\" \",COUNTRY_INFO!B70))","v":"Extreme Nord"},{"$f":"IF(INTRO!$E$43=\"Non-endemic\",\" \", IF(COUNTRY_INFO!C70=0,\" \",COUNTRY_INFO!C70))","v":"Fotokol"},{"$f":"IF(INTRO!$E$43=\"Non-endemic\", \"Not required\", COUNTRY_INFO!Z70)","v":1},15599,20079,43703,79381,null,null,1,"SAC",null,{"$f":"IF($I70<>\"Yes\",$F70*2,($F70+ROUND(J70*$F70/SUM(COUNTRY_INFO!$E70:$G70),0))*2)","v":40158},{"$f":"IF($I70<>\"Yes\",$G70*3,($G70+ROUND(J70*$G70/SUM(COUNTRY_INFO!$E70:$G70),0))*3)","v":131109},171267,null,171267]
[{"$f":"IF(INTRO!$E$43=\"Non-endemic\",\" \", IF(COUNTRY_INFO!A71=0,\" \",COUNTRY_INFO!A71))","v":"Cameroun"},{"$f":"IF(INTRO!$E$43=\"Non-endemic\",\" \", IF(COUNTRY_INFO!B71=0,\" \",COUNTRY_INFO!B71))","v":"Extreme Nord"},{"$f":"IF(INTRO!$E$43=\"Non-endemic\",\" \", IF(COUNTRY_INFO!C71=0,\" \",COUNTRY_INFO!C71))","v":"Gazawa"},{"$f":"IF(INTRO!$E$43=\"Non-endemic\", \"Not required\", COUNTRY_INFO!Z71)","v":1},49137,22279,0,71416,null,null,1,"SAC",null,{"$f":"IF($I71<>\"Yes\",$F71*2,($F71+ROUND(J71*$F71/SUM(COUNTRY_INFO!$E71:$G71),0))*2)","v":44558},{"$f":"IF($I71<>\"Yes\",$G71*3,($G71+ROUND(J71*$G71/SUM(COUNTRY_INFO!$E71:$G71),0))*3)","v":0},44558,null,44558]
[{"$f":"IF(INTRO!$E$43=\"Non-endemic\",\" \", IF(COUNTRY_INFO!A72=0,\" \",COUNTRY_INFO!A72))","v":"Cameroun"},{"$f":"IF(INTRO!$E$43=\"Non-endemic\",\" \", IF(COUNTRY_INFO!B72=0,\" \",COUNTRY_INFO!B72))","v":"Extreme Nord"},{"$f":"IF(INTRO!$E$43=\"Non-endemic\",\" \", IF(COUNTRY_INFO!C72=0,\" \",COUNTRY_INFO!C72))","v":"Goulfey"},{"$f":"IF(INTRO!$E$43=\"Non-endemic\", \"Not required\", COUNTRY_INFO!Z72)","v":1},24233,28972,0,53205,null,null,1,"SAC",null,{"$f":"IF($I72<>\"Yes\",$F72*2,($F72+ROUND(J72*$F72/SUM(COUNTRY_INFO!$E72:$G72),0))*2)","v":57944},{"$f":"IF($I72<>\"Yes\",$G72*3,($G72+ROUND(J72*$G72/SUM(COUNTRY_INFO!$E72:$G72),0))*3)","v":0},57944,null,57944]
[{"$f":"IF(INTRO!$E$43=\"Non-endemic\",\" \", IF(COUNTRY_INFO!A73=0,\" \",COUNTRY_INFO!A73))","v":"Cameroun"},{"$f":"IF(INTRO!$E$43=\"Non-endemic\",\" \", IF(COUNTRY_INFO!B73=0,\" \",COUNTRY_INFO!B73))","v":"Extreme Nord"},{"$f":"IF(INTRO!$E$43=\"Non-endemic\",\" \", IF(COUNTRY_INFO!C73=0,\" \",COUNTRY_INFO!C73))","v":"Guere"},{"$f":"IF(INTRO!$E$43=\"Non-endemic\", \"Not required\", COUNTRY_INFO!Z73)","v":1},20997,40421,87980,149398,null,null,1,"SAC",null,{"$f":"IF($I73<>\"Yes\",$F73*2,($F73+ROUND(J73*$F73/SUM(COUNTRY_INFO!$E73:$G73),0))*2)","v":80842},{"$f":"IF($I73<>\"Yes\",$G73*3,($G73+ROUND(J73*$G73/SUM(COUNTRY_INFO!$E73:$G73),0))*3)","v":263940},344782,null,344782]
[{"$f":"IF(INTRO!$E$43=\"Non-endemic\",\" \", IF(COUNTRY_INFO!A74=0,\" \",COUNTRY_INFO!A74))","v":"Cameroun"},{"$f":"IF(INTRO!$E$43=\"Non-endemic\",\" \", IF(COUNTRY_INFO!B74=0,\" \",COUNTRY_INFO!B74))","v":"Extreme Nord"},{"$f":"IF(INTRO!$E$43=\"Non-endemic\",\" \", IF(COUNTRY_INFO!C74=0,\" \",COUNTRY_INFO!C74))","v":"Guidiguis"},{"$f":"IF(INTRO!$E$43=\"Non-endemic\", \"Not required\", COUNTRY_INFO!Z74)","v":1},40582,52965,115282,208829,null,null,1,"SAC",null,{"$f":"IF($I74<>\"Yes\",$F74*2,($F74+ROUND(J74*$F74/SUM(COUNTRY_INFO!$E74:$G74),0))*2)","v":105930},{"$f":"IF($I74<>\"Yes\",$G74*3,($G74+ROUND(J74*$G74/SUM(COUNTRY_INFO!$E74:$G74),0))*3)","v":345846},451776,null,451776]
[{"$f":"IF(INTRO!$E$43=\"Non-endemic\",\" \", IF(COUNTRY_INFO!A75=0,\" \",COUNTRY_INFO!A75))","v":"Cameroun"},{"$f":"IF(INTRO!$E$43=\"Non-endemic\",\" \", IF(COUNTRY_INFO!B75=0,\" \",COUNTRY_INFO!B75))","v":"Extreme Nord"},{"$f":"IF(INTRO!$E$43=\"Non-endemic\",\" \", IF(COUNTRY_INFO!C75=0,\" \",COUNTRY_INFO!C75))","v":"Hina"},{"$f":"IF(INTRO!$E$43=\"Non-endemic\", \"Not required\", COUNTRY_INFO!Z75)","v":1},27557,39463,85894,{"$f":"SUM(E75:G75)","v":152914},null,null,1,"SAC",null,{"$f":"IF($I75<>\"Yes\",$F75*2,($F75+ROUND(J75*$F75/SUM(COUNTRY_INFO!$E75:$G75),0))*2)","v":78926},{"$f":"IF($I75<>\"Yes\",$G75*3,($G75+ROUND(J75*$G75/SUM(COUNTRY_INFO!$E75:$G75),0))*3)","v":257682},{"$f":"SUM(M75:O75)","v":336608},null,{"$f":"IF($P75>$Q75,P75-Q75,0)","v":336608}]
[{"$f":"IF(INTRO!$E$43=\"Non-endemic\",\" \", IF(COUNTRY_INFO!A76=0,\" \",COUNTRY_INFO!A76))","v":"Cameroun"},{"$f":"IF(INTRO!$E$43=\"Non-endemic\",\" \", IF(COUNTRY_INFO!B76=0,\" \",COUNTRY_INFO!B76))","v":"Extreme Nord"},{"$f":"IF(INTRO!$E$43=\"Non-endemic\",\" \", IF(COUNTRY_INFO!C76=0,\" \",COUNTRY_INFO!C76))","v":"Kaele"},{"$f":"IF(INTRO!$E$43=\"Non-endemic\", \"Not required\", COUNTRY_INFO!Z76)","v":1},22579,34469,75024,132072,null,null,1,"SAC",null,{"$f":"IF($I76<>\"Yes\",$F76*2,($F76+ROUND(J76*$F76/SUM(COUNTRY_INFO!$E76:$G76),0))*2)","v":68938},{"$f":"IF($I76<>\"Yes\",$G76*3,($G76+ROUND(J76*$G76/SUM(COUNTRY_INFO!$E76:$G76),0))*3)","v":225072},294010,null,294010]
[{"$f":"IF(INTRO!$E$43=\"Non-endemic\",\" \", IF(COUNTRY_INFO!A77=0,\" \",COUNTRY_INFO!A77))","v":"Cameroun"},{"$f":"IF(INTRO!$E$43=\"Non-endemic\",\" \", IF(COUNTRY_INFO!B77=0,\" \",COUNTRY_INFO!B77))","v":"Extreme Nord"},{"$f":"IF(INTRO!$E$43=\"Non-endemic\",\" \", IF(COUNTRY_INFO!C77=0,\" \",COUNTRY_INFO!C77))","v":"Kar Hay"},{"$f":"IF(INTRO!$E$43=\"Non-endemic\", \"Not required\", COUNTRY_INFO!Z77)","v":1},18059,39849,86733,144641,null,null,1,"SAC",null,{"$f":"IF($I77<>\"Yes\",$F77*2,($F77+ROUND(J77*$F77/SUM(COUNTRY_INFO!$E77:$G77),0))*2)","v":79698},{"$f":"IF($I77<>\"Yes\",$G77*3,($G77+ROUND(J77*$G77/SUM(COUNTRY_INFO!$E77:$G77),0))*3)","v":260199},339897,null,339897]
[{"$f":"IF(INTRO!$E$43=\"Non-endemic\",\" \", IF(COUNTRY_INFO!A78=0,\" \",COUNTRY_INFO!A78))","v":"Cameroun"},{"$f":"IF(INTRO!$E$43=\"Non-endemic\",\" \", IF(COUNTRY_INFO!B78=0,\" \",COUNTRY_INFO!B78))","v":"Extreme Nord"},{"$f":"IF(INTRO!$E$43=\"Non-endemic\",\" \", IF(COUNTRY_INFO!C78=0,\" \",COUNTRY_INFO!C78))","v":"Kolofata"},{"$f":"IF(INTRO!$E$43=\"Non-endemic\", \"Not required\", COUNTRY_INFO!Z78)","v":1},30879,35314,76863,143056,null,null,1,"SAC",null,{"$f":"IF($I78<>\"Yes\",$F78*2,($F78+ROUND(J78*$F78/SUM(COUNTRY_INFO!$E78:$G78),0))*2)","v":70628},{"$f":"IF($I78<>\"Yes\",$G78*3,($G78+ROUND(J78*$G78/SUM(COUNTRY_INFO!$E78:$G78),0))*3)","v":230589},301217,null,301217]
[{"$f":"IF(INTRO!$E$43=\"Non-endemic\",\" \", IF(COUNTRY_INFO!A79=0,\" \",COUNTRY_INFO!A79))","v":"Cameroun"},{"$f":"IF(INTRO!$E$43=\"Non-endemic\",\" \", IF(COUNTRY_INFO!B79=0,\" \",COUNTRY_INFO!B79))","v":"Extreme Nord"},{"$f":"IF(INTRO!$E$43=\"Non-endemic\",\" \", IF(COUNTRY_INFO!C79=0,\" \",COUNTRY_INFO!C79))","v":"Kousseri"},{"$f":"IF(INTRO!$E$43=\"Non-endemic\", \"Not required\", COUNTRY_INFO!Z79)","v":1},63418,129972,0,193390,null,null,1,"SAC",null,{"$f":"IF($I79<>\"Yes\",$F79*2,($F79+ROUND(J79*$F79/SUM(COUNTRY_INFO!$E79:$G79),0))*2)","v":259944},{"$f":"IF($I79<>\"Yes\",$G79*3,($G79+ROUND(J79*$G79/SUM(COUNTRY_INFO!$E79:$G79),0))*3)","v":0},259944,null,259944]
[{"$f":"IF(INTRO!$E$43=\"Non-endemic\",\" \", IF(COUNTRY_INFO!A80=0,\" \",COUNTRY_INFO!A80))","v":"Cameroun"},{"$f":"IF(INTRO!$E$43=\"Non-endemic\",\" \", IF(COUNTRY_INFO!B80=0,\" \",COUNTRY_INFO!B80))","v":"Extreme Nord"},{"$f":"IF(INTRO!$E$43=\"Non-endemic\",\" \", IF(COUNTRY_INFO!C80=0,\" \",COUNTRY_INFO!C80))","v":"Koza"},{"$f":"IF(INTRO!$E$43=\"Non-endemic\", \"Not required\", COUNTRY_INFO!Z80)","v":1},15800,28137,61242,105179,null,null,1,"SAC",null,{"$f":"IF($I80<>\"Yes\",$F80*2,($F80+ROUND(J80*$F80/SUM(COUNTRY_INFO!$E80:$G80),0))*2)","v":56274},{"$f":"IF($I80<>\"Yes\",$G80*3,($G80+ROUND(J80*$G80/SUM(COUNTRY_INFO!$E80:$G80),0))*3)","v":183726},240000,null,240000]
[{"$f":"IF(INTRO!$E$43=\"Non-endemic\",\" \", IF(COUNTRY_INFO!A81=0,\" \",COUNTRY_INFO!A81))","v":"Cameroun"},{"$f":"IF(INTRO!$E$43=\"Non-endemic\",\" \", IF(COUNTRY_INFO!B81=0,\" \",COUNTRY_INFO!B81))","v":"Extreme Nord"},{"$f":"IF(INTRO!$E$43=\"Non-endemic\",\" \", IF(COUNTRY_INFO!C81=0,\" \",COUNTRY_INFO!C81))","v":"Mada"},{"$f":"IF(INTRO!$E$43=\"Non-endemic\", \"Not required\", COUNTRY_INFO!Z81)","v":1},38190,48061,104607,190858,null,null,1,"SAC",null,{"$f":"IF($I81<>\"Yes\",$F81*2,($F81+ROUND(J81*$F81/SUM(COUNTRY_INFO!$E81:$G81),0))*2)","v":96122},{"$f":"IF($I81<>\"Yes\",$G81*3,($G81+ROUND(J81*$G81/SUM(COUNTRY_INFO!$E81:$G81),0))*3)","v":313821},409943,null,409943]
[{"$f":"IF(INTRO!$E$43=\"Non-endemic\",\" \", IF(COUNTRY_INFO!A82=0,\" \",COUNTRY_INFO!A82))","v":"Cameroun"},{"$f":"IF(INTRO!$E$43=\"Non-endemic\",\" \", IF(COUNTRY_INFO!B82=0,\" \",COUNTRY_INFO!B82))","v":"Extreme Nord"},{"$f":"IF(INTRO!$E$43=\"Non-endemic\",\" \", IF(COUNTRY_INFO!C82=0,\" \",COUNTRY_INFO!C82))","v":"Maga"},{"$f":"IF(INTRO!$E$43=\"Non-endemic\", \"Not required\", COUNTRY_INFO!Z82)","v":1},31115,57839,125891,214845,null,null,1,"SAC",null,{"$f":"IF($I82<>\"Yes\",$F82*2,($F82+ROUND(J82*$F82/SUM(COUNTRY_INFO!$E82:$G82),0))*2)","v":115678},{"$f":"IF($I82<>\"Yes\",$G82*3,($G82+ROUND(J82*$G82/SUM(COUNTRY_INFO!$E82:$G82),0))*3)","v":377673},493351,null,493351]
[{"$f":"IF(INTRO!$E$43=\"Non-endemic\",\" \", IF(COUNTRY_INFO!A83=0,\" \",COUNTRY_INFO!A83))","v":"Cameroun"},{"$f":"IF(INTRO!$E$43=\"Non-endemic\",\" \", IF(COUNTRY_INFO!B83=0,\" \",COUNTRY_INFO!B83))","v":"Extreme Nord"},{"$f":"IF(INTRO!$E$43=\"Non-endemic\",\" \", IF(COUNTRY_INFO!C83=0,\" \",COUNTRY_INFO!C83))","v":"Makary"},{"$f":"IF(INTRO!$E$43=\"Non-endemic\", \"Not required\", COUNTRY_INFO!Z83)","v":0},0,0,0,0,null,null,null,null,null,{"$f":"IF($I83<>\"Yes\",$F83*2,($F83+ROUND(J83*$F83/SUM(COUNTRY_INFO!$E83:$G83),0))*2)","v":0},{"$f":"IF($I83<>\"Yes\",$G83*3,($G83+ROUND(J83*$G83/SUM(COUNTRY_INFO!$E83:$G83),0))*3)","v":0},0,null,0]
[{"$f":"IF(INTRO!$E$43=\"Non-endemic\",\" \", IF(COUNTRY_INFO!A84=0,\" \",COUNTRY_INFO!A84))","v":"Cameroun"},{"$f":"IF(INTRO!$E$43=\"Non-endemic\",\" \", IF(COUNTRY_INFO!B84=0,\" \",COUNTRY_INFO!B84))","v":"Extreme Nord"},{"$f":"IF(INTRO!$E$43=\"Non-endemic\",\" \", IF(COUNTRY_INFO!C84=0,\" \",COUNTRY_INFO!C84))","v":"Maroua 1"},{"$f":"IF(INTRO!$E$43=\"Non-endemic\", \"Not required\", COUNTRY_INFO!Z84)","v":1},41882,57716,0,99598,null,null,1,"SAC",null,{"$f":"IF($I84<>\"Yes\",$F84*2,($F84+ROUND(J84*$F84/SUM(COUNTRY_INFO!$E84:$G84),0))*2)","v":115432},{"$f":"IF($I84<>\"Yes\",$G84*3,($G84+ROUND(J84*$G84/SUM(COUNTRY_INFO!$E84:$G84),0))*3)","v":0},115432,null,115432]
[{"$f":"IF(INTRO!$E$43=\"Non-endemic\",\" \", IF(COUNTRY_INFO!A85=0,\" \",COUNTRY_INFO!A85))","v":"Cameroun"},{"$f":"IF(INTRO!$E$43=\"Non-endemic\",\" \", IF(COUNTRY_INFO!B85=0,\" \",COUNTRY_INFO!B85))","v":"Extreme Nord"},{"$f":"IF(INTRO!$E$43=\"Non-endemic\",\" \", IF(COUNTRY_INFO!C85=0,\" \",COUNTRY_INFO!C85))","v":"Maroua 2"},{"$f":"IF(INTRO!$E$43=\"Non-endemic\", \"Not required\", COUNTRY_INFO!Z85)","v":1},103347,59643,0,162990,null,null,1,"SAC",null,{"$f":"IF($I85<>\"Yes\",$F85*2,($F85+ROUND(J85*$F85/SUM(COUNTRY_INFO!$E85:$G85),0))*2)","v":119286},{"$f":"IF($I85<>\"Yes\",$G85*3,($G85+ROUND(J85*$G85/SUM(COUNTRY_INFO!$E85:$G85),0))*3)","v":0},119286,null,119286]
[{"$f":"IF(INTRO!$E$43=\"Non-endemic\",\" \", IF(COUNTRY_INFO!A86=0,\" \",COUNTRY_INFO!A86))","v":"Cameroun"},{"$f":"IF(INTRO!$E$43=\"Non-endemic\",\" \", IF(COUNTRY_INFO!B86=0,\" \",COUNTRY_INFO!B86))","v":"Extreme Nord"},{"$f":"IF(INTRO!$E$43=\"Non-endemic\",\" \", IF(COUNTRY_INFO!C86=0,\" \",COUNTRY_INFO!C86))","v":"Maroua 3"},{"$f":"IF(INTRO!$E$43=\"Non-endemic\", \"Not required\", COUNTRY_INFO!Z86)","v":1},41038,52255,113735,207028,null,null,1,"SAC",null,{"$f":"IF($I86<>\"Yes\",$F86*2,($F86+ROUND(J86*$F86/SUM(COUNTRY_INFO!$E86:$G86),0))*2)","v":104510},{"$f":"IF($I86<>\"Yes\",$G86*3,($G86+ROUND(J86*$G86/SUM(COUNTRY_INFO!$E86:$G86),0))*3)","v":341205},445715,null,445715]
[{"$f":"IF(INTRO!$E$43=\"Non-endemic\",\" \", IF(COUNTRY_INFO!A87=0,\" \",COUNTRY_INFO!A87))","v":"Cameroun"},{"$f":"IF(INTRO!$E$43=\"Non-endemic\",\" \", IF(COUNTRY_INFO!B87=0,\" \",COUNTRY_INFO!B87))","v":"Extreme Nord"},{"$f":"IF(INTRO!$E$43=\"Non-endemic\",\" \", IF(COUNTRY_INFO!C87=0,\" \",COUNTRY_INFO!C87))","v":"Meri"},{"$f":"IF(INTRO!$E$43=\"Non-endemic\", \"Not required\", COUNTRY_INFO!Z87)","v":1},32086,48186,104880,185152,null,null,1,"SAC",null,{"$f":"IF($I87<>\"Yes\",$F87*2,($F87+ROUND(J87*$F87/SUM(COUNTRY_INFO!$E87:$G87),0))*2)","v":96372},{"$f":"IF($I87<>\"Yes\",$G87*3,($G87+ROUND(J87*$G87/SUM(COUNTRY_INFO!$E87:$G87),0))*3)","v":314640},411012,null,411012]
[{"$f":"IF(INTRO!$E$43=\"Non-endemic\",\" \", IF(COUNTRY_INFO!A88=0,\" \",COUNTRY_INFO!A88))","v":"Cameroun"},{"$f":"IF(INTRO!$E$43=\"Non-endemic\",\" \", IF(COUNTRY_INFO!B88=0,\" \",COUNTRY_INFO!B88))","v":"Extreme Nord"},{"$f":"IF(INTRO!$E$43=\"Non-endemic\",\" \", IF(COUNTRY_INFO!C88=0,\" \",COUNTRY_INFO!C88))","v":"Mindif"},{"$f":"IF(INTRO!$E$43=\"Non-endemic\", \"Not required\", COUNTRY_INFO!Z88)","v":1},11862,17182,0,29044,null,null,1,"SAC",null,{"$f":"IF($I88<>\"Yes\",$F88*2,($F88+ROUND(J88*$F88/SUM(COUNTRY_INFO!$E88:$G88),0))*2)","v":34364},{"$f":"IF($I88<>\"Yes\",$G88*3,($G88+ROUND(J88*$G88/SUM(COUNTRY_INFO!$E88:$G88),0))*3)","v":0},34364,null,34364]
[{"$f":"IF(INTRO!$E$43=\"Non-endemic\",\" \", IF(COUNTRY_INFO!A89=0,\" \",COUNTRY_INFO!A89))","v":"Cameroun"},{"$f":"IF(INTRO!$E$43=\"Non-endemic\",\" \", IF(COUNTRY_INFO!B89=0,\" \",COUNTRY_INFO!B89))","v":"Extreme Nord"},{"$f":"IF(INTRO!$E$43=\"Non-endemic\",\" \", IF(COUNTRY_INFO!C89=0,\" \",COUNTRY_INFO!C89))","v":"Mogode"},{"$f":"IF(INTRO!$E$43=\"Non-endemic\", \"Not required\", COUNTRY_INFO!Z89)","v":1},22112,37149,80858,140119,null,null,1,"SAC",null,{"$f":"IF($I89<>\"Yes\",$F89*2,($F89+ROUND(J89*$F89/SUM(COUNTRY_INFO!$E89:$G89),0))*2)","v":74298},{"$f":"IF($I89<>\"Yes\",$G89*3,($G89+ROUND(J89*$G89/SUM(COUNTRY_INFO!$E89:$G89),0))*3)","v":242574},316872,null,316872]
[{"$f":"IF(INTRO!$E$43=\"Non-endemic\",\" \", IF(COUNTRY_INFO!A90=0,\" \",COUNTRY_INFO!A90))","v":"Cameroun"},{"$f":"IF(INTRO!$E$43=\"Non-endemic\",\" \", IF(COUNTRY_INFO!B90=0,\" \",COUNTRY_INFO!B90))","v":"Extreme Nord"},{"$f":"IF(INTRO!$E$43=\"Non-endemic\",\" \", IF(COUNTRY_INFO!C90=0,\" \",COUNTRY_INFO!C90))","v":"Mokolo"},{"$f":"IF(INTRO!$E$43=\"Non-endemic\", \"Not required\", COUNTRY_INFO!Z90)","v":1},67781,86660,188621,343062,null,null,1,"SAC",null,{"$f":"IF($I90<>\"Yes\",$F90*2,($F90+ROUND(J90*$F90/SUM(COUNTRY_INFO!$E90:$G90),0))*2)","v":173320},{"$f":"IF($I90<>\"Yes\",$G90*3,($G90+ROUND(J90*$G90/SUM(COUNTRY_INFO!$E90:$G90),0))*3)","v":565863},739183,null,739183]
[{"$f":"IF(INTRO!$E$43=\"Non-endemic\",\" \", IF(COUNTRY_INFO!A91=0,\" \",COUNTRY_INFO!A91))","v":"Cameroun"},{"$f":"IF(INTRO!$E$43=\"Non-endemic\",\" \", IF(COUNTRY_INFO!B91=0,\" \",COUNTRY_INFO!B91))","v":"Extreme Nord"},{"$f":"IF(INTRO!$E$43=\"Non-endemic\",\" \", IF(COUNTRY_INFO!C91=0,\" \",COUNTRY_INFO!C91))","v":"Mora"},{"$f":"IF(INTRO!$E$43=\"Non-endemic\", \"Not required\", COUNTRY_INFO!Z91)","v":1},58617,88416,192443,339476,null,null,1,"SAC",null,{"$f":"IF($I91<>\"Yes\",$F91*2,($F91+ROUND(J91*$F91/SUM(COUNTRY_INFO!$E91:$G91),0))*2)","v":176832},{"$f":"IF($I91<>\"Yes\",$G91*3,($G91+ROUND(J91*$G91/SUM(COUNTRY_INFO!$E91:$G91),0))*3)","v":577329},754161,null,754161]
[{"$f":"IF(INTRO!$E$43=\"Non-endemic\",\" \", IF(COUNTRY_INFO!A92=0,\" \",COUNTRY_INFO!A92))","v":"Cameroun"},{"$f":"IF(INTRO!$E$43=\"Non-endemic\",\" \", IF(COUNTRY_INFO!B92=0,\" \",COUNTRY_INFO!B92))","v":"Extreme Nord"},{"$f":"IF(INTRO!$E$43=\"Non-endemic\",\" \", IF(COUNTRY_INFO!C92=0,\" \",COUNTRY_INFO!C92))","v":"Moulvoudaye"},{"$f":"IF(INTRO!$E$43=\"Non-endemic\", \"Not required\", COUNTRY_INFO!Z92)","v":1},32478,44289,96398,173165,null,null,1,"SAC",null,{"$f":"IF($I92<>\"Yes\",$F92*2,($F92+ROUND(J92*$F92/SUM(COUNTRY_INFO!$E92:$G92),0))*2)","v":88578},{"$f":"IF($I92<>\"Yes\",$G92*3,($G92+ROUND(J92*$G92/SUM(COUNTRY_INFO!$E92:$G92),0))*3)","v":289194},377772,null,377772]
[{"$f":"IF(INTRO!$E$43=\"Non-endemic\",\" \", IF(COUNTRY_INFO!A93=0,\" \",COUNTRY_INFO!A93))","v":"Cameroun"},{"$f":"IF(INTRO!$E$43=\"Non-endemic\",\" \", IF(COUNTRY_INFO!B93=0,\" \",COUNTRY_INFO!B93))","v":"Extreme Nord"},{"$f":"IF(INTRO!$E$43=\"Non-endemic\",\" \", IF(COUNTRY_INFO!C93=0,\" \",COUNTRY_INFO!C93))","v":"Moutourwa"},{"$f":"IF(INTRO!$E$43=\"Non-endemic\", \"Not required\", COUNTRY_INFO!Z93)","v":1},13170,16305,0,29475,null,null,1,"SAC",null,{"$f":"IF($I93<>\"Yes\",$F93*2,($F93+ROUND(J93*$F93/SUM(COUNTRY_INFO!$E93:$G93),0))*2)","v":32610},{"$f":"IF($I93<>\"Yes\",$G93*3,($G93+ROUND(J93*$G93/SUM(COUNTRY_INFO!$E93:$G93),0))*3)","v":0},32610,null,32610]
[{"$f":"IF(INTRO!$E$43=\"Non-endemic\",\" \", IF(COUNTRY_INFO!A94=0,\" \",COUNTRY_INFO!A94))","v":"Cameroun"},{"$f":"IF(INTRO!$E$43=\"Non-endemic\",\" \", IF(COUNTRY_INFO!B94=0,\" \",COUNTRY_INFO!B94))","v":"Extreme Nord"},{"$f":"IF(INTRO!$E$43=\"Non-endemic\",\" \", IF(COUNTRY_INFO!C94=0,\" \",COUNTRY_INFO!C94))","v":"Mozogo"},{"$f":"IF(INTRO!$E$43=\"Non-endemic\", \"Not required\", COUNTRY_INFO!Z94)","v":1},13345,25079,54585,93009,null,null,1,"SAC",null,{"$f":"IF($I94<>\"Yes\",$F94*2,($F94+ROUND(J94*$F94/SUM(COUNTRY_INFO!$E94:$G94),0))*2)","v":50158},{"$f":"IF($I94<>\"Yes\",$G94*3,($G94+ROUND(J94*$G94/SUM(COUNTRY_INFO!$E94:$G94),0))*3)","v":163755},213913,null,213913]
[{"$f":"IF(INTRO!$E$43=\"Non-endemic\",\" \", IF(COUNTRY_INFO!A95=0,\" \",COUNTRY_INFO!A95))","v":"Cameroun"},{"$f":"IF(INTRO!$E$43=\"Non-endemic\",\" \", IF(COUNTRY_INFO!B95=0,\" \",COUNTRY_INFO!B95))","v":"Extreme Nord"},{"$f":"IF(INTRO!$E$43=\"Non-endemic\",\" \", IF(COUNTRY_INFO!C95=0,\" \",COUNTRY_INFO!C95))","v":"Pette"},{"$f":"IF(INTRO!$E$43=\"Non-endemic\", \"Not required\", COUNTRY_INFO!Z95)","v":1},17992,18346,39932,76270,null,null,1,"SAC",null,{"$f":"IF($I95<>\"Yes\",$F95*2,($F95+ROUND(J95*$F95/SUM(COUNTRY_INFO!$E95:$G95),0))*2)","v":36692},{"$f":"IF($I95<>\"Yes\",$G95*3,($G95+ROUND(J95*$G95/SUM(COUNTRY_INFO!$E95:$G95),0))*3)","v":119796},156488,null,156488]
[{"$f":"IF(INTRO!$E$43=\"Non-endemic\",\" \", IF(COUNTRY_INFO!A96=0,\" \",COUNTRY_INFO!A96))","v":"Cameroun"},{"$f":"IF(INTRO!$E$43=\"Non-endemic\",\" \", IF(COUNTRY_INFO!B96=0,\" \",COUNTRY_INFO!B96))","v":"Extreme Nord"},{"$f":"IF(INTRO!$E$43=\"Non-endemic\",\" \", IF(COUNTRY_INFO!C96=0,\" \",COUNTRY_INFO!C96))","v":"Roua"},{"$f":"IF(INTRO!$E$43=\"Non-endemic\", \"Not required\", COUNTRY_INFO!Z96)","v":1},22498,28967,63049,114514,null,null,1,"SAC",null,{"$f":"IF($I96<>\"Yes\",$F96*2,($F96+ROUND(J96*$F96/SUM(COUNTRY_INFO!$E96:$G96),0))*2)","v":57934},{"$f":"IF($I96<>\"Yes\",$G96*3,($G96+ROUND(J96*$G96/SUM(COUNTRY_INFO!$E96:$G96),0))*3)","v":189147},247081,null,247081]
[{"$f":"IF(INTRO!$E$43=\"Non-endemic\",\" \", IF(COUNTRY_INFO!A97=0,\" \",COUNTRY_INFO!A97))","v":"Cameroun"},{"$f":"IF(INTRO!$E$43=\"Non-endemic\",\" \", IF(COUNTRY_INFO!B97=0,\" \",COUNTRY_INFO!B97))","v":"Extreme Nord"},{"$f":"IF(INTRO!$E$43=\"Non-endemic\",\" \", IF(COUNTRY_INFO!C97=0,\" \",COUNTRY_INFO!C97))","v":"Tokombere"},{"$f":"IF(INTRO!$E$43=\"Non-endemic\", \"Not required\", COUNTRY_INFO!Z97)","v":1},36013,43721,0,79734,null,null,1,"SAC",null,{"$f":"IF($I97<>\"Yes\",$F97*2,($F97+ROUND(J97*$F97/SUM(COUNTRY_INFO!$E97:$G97),0))*2)","v":87442},{"$f":"IF($I97<>\"Yes\",$G97*3,($G97+ROUND(J97*$G97/SUM(COUNTRY_INFO!$E97:$G97),0))*3)","v":0},87442,null,87442]
[{"$f":"IF(INTRO!$E$43=\"Non-endemic\",\" \", IF(COUNTRY_INFO!A98=0,\" \",COUNTRY_INFO!A98))","v":"Cameroun"},{"$f":"IF(INTRO!$E$43=\"Non-endemic\",\" \", IF(COUNTRY_INFO!B98=0,\" \",COUNTRY_INFO!B98))","v":"Extreme Nord"},{"$f":"IF(INTRO!$E$43=\"Non-endemic\",\" \", IF(COUNTRY_INFO!C98=0,\" \",COUNTRY_INFO!C98))","v":"Vele"},{"$f":"IF(INTRO!$E$43=\"Non-endemic\", \"Not required\", COUNTRY_INFO!Z98)","v":1},40430,45078,98115,183623,null,null,1,"SAC",null,{"$f":"IF($I98<>\"Yes\",$F98*2,($F98+ROUND(J98*$F98/SUM(COUNTRY_INFO!$E98:$G98),0))*2)","v":90156},{"$f":"IF($I98<>\"Yes\",$G98*3,($G98+ROUND(J98*$G98/SUM(COUNTRY_INFO!$E98:$G98),0))*3)","v":294345},384501,null,384501]
[{"$f":"IF(INTRO!$E$43=\"Non-endemic\",\" \", IF(COUNTRY_INFO!A99=0,\" \",COUNTRY_INFO!A99))","v":"Cameroun"},{"$f":"IF(INTRO!$E$43=\"Non-endemic\",\" \", IF(COUNTRY_INFO!B99=0,\" \",COUNTRY_INFO!B99))","v":"Extreme Nord"},{"$f":"IF(INTRO!$E$43=\"Non-endemic\",\" \", IF(COUNTRY_INFO!C99=0,\" \",COUNTRY_INFO!C99))","v":"Yagoua"},{"$f":"IF(INTRO!$E$43=\"Non-endemic\", \"Not required\", COUNTRY_INFO!Z99)","v":1},58078,73295,159532,290905,null,null,1,"SAC",null,{"$f":"IF($I99<>\"Yes\",$F99*2,($F99+ROUND(J99*$F99/SUM(COUNTRY_INFO!$E99:$G99),0))*2)","v":146590},{"$f":"IF($I99<>\"Yes\",$G99*3,($G99+ROUND(J99*$G99/SUM(COUNTRY_INFO!$E99:$G99),0))*3)","v":478596},625186,null,625186]
[{"$f":"IF(INTRO!$E$43=\"Non-endemic\",\" \", IF(COUNTRY_INFO!A100=0,\" \",COUNTRY_INFO!A100))","v":"Cameroun"},{"$f":"IF(INTRO!$E$43=\"Non-endemic\",\" \", IF(COUNTRY_INFO!B100=0,\" \",COUNTRY_INFO!B100))","v":"Littoral"},{"$f":"IF(INTRO!$E$43=\"Non-endemic\",\" \", IF(COUNTRY_INFO!C100=0,\" \",COUNTRY_INFO!C100))","v":"Abo"},{"$f":"IF(INTRO!$E$43=\"Non-endemic\", \"Not required\", COUNTRY_INFO!Z100)","v":0},0,0,0,0,null,null,null,null,null,{"$f":"IF($I100<>\"Yes\",$F100*2,($F100+ROUND(J100*$F100/SUM(COUNTRY_INFO!$E100:$G100),0))*2)","v":0},{"$f":"IF($I100<>\"Yes\",$G100*3,($G100+ROUND(J100*$G100/SUM(COUNTRY_INFO!$E100:$G100),0))*3)","v":0},0,null,0]
[{"$f":"IF(INTRO!$E$43=\"Non-endemic\",\" \", IF(COUNTRY_INFO!A101=0,\" \",COUNTRY_INFO!A101))","v":"Cameroun"},{"$f":"IF(INTRO!$E$43=\"Non-endemic\",\" \", IF(COUNTRY_INFO!B101=0,\" \",COUNTRY_INFO!B101))","v":"Littoral"},{"$f":"IF(INTRO!$E$43=\"Non-endemic\",\" \", IF(COUNTRY_INFO!C101=0,\" \",COUNTRY_INFO!C101))","v":"Bangue"},{"$f":"IF(INTRO!$E$43=\"Non-endemic\", \"Not required\", COUNTRY_INFO!Z101)","v":0},0,0,0,0,null,null,null,null,null,{"$f":"IF($I101<>\"Yes\",$F101*2,($F101+ROUND(J101*$F101/SUM(COUNTRY_INFO!$E101:$G101),0))*2)","v":0},{"$f":"IF($I101<>\"Yes\",$G101*3,($G101+ROUND(J101*$G101/SUM(COUNTRY_INFO!$E101:$G101),0))*3)","v":0},0,null,0]
[{"$f":"IF(INTRO!$E$43=\"Non-endemic\",\" \", IF(COUNTRY_INFO!A102=0,\" \",COUNTRY_INFO!A102))","v":"Cameroun"},{"$f":"IF(INTRO!$E$43=\"Non-endemic\",\" \", IF(COUNTRY_INFO!B102=0,\" \",COUNTRY_INFO!B102))","v":"Littoral"},{"$f":"IF(INTRO!$E$43=\"Non-endemic\",\" \", IF(COUNTRY_INFO!C102=0,\" \",COUNTRY_INFO!C102))","v":"Boko"},{"$f":"IF(INTRO!$E$43=\"Non-endemic\", \"Not required\", COUNTRY_INFO!Z102)","v":0},0,0,0,0,null,null,null,null,null,{"$f":"IF($I102<>\"Yes\",$F102*2,($F102+ROUND(J102*$F102/SUM(COUNTRY_INFO!$E102:$G102),0))*2)","v":0},{"$f":"IF($I102<>\"Yes\",$G102*3,($G102+ROUND(J102*$G102/SUM(COUNTRY_INFO!$E102:$G102),0))*3)","v":0},0,null,0]
[{"$f":"IF(INTRO!$E$43=\"Non-endemic\",\" \", IF(COUNTRY_INFO!A103=0,\" \",COUNTRY_INFO!A103))","v":"Cameroun"},{"$f":"IF(INTRO!$E$43=\"Non-endemic\",\" \", IF(COUNTRY_INFO!B103=0,\" \",COUNTRY_INFO!B103))","v":"Littoral"},{"$f":"IF(INTRO!$E$43=\"Non-endemic\",\" \", IF(COUNTRY_INFO!C103=0,\" \",COUNTRY_INFO!C103))","v":"Bonassama"},{"$f":"IF(INTRO!$E$43=\"Non-endemic\", \"Not required\", COUNTRY_INFO!Z103)","v":0},0,0,0,0,null,null,null,null,null,{"$f":"IF($I103<>\"Yes\",$F103*2,($F103+ROUND(J103*$F103/SUM(COUNTRY_INFO!$E103:$G103),0))*2)","v":0},{"$f":"IF($I103<>\"Yes\",$G103*3,($G103+ROUND(J103*$G103/SUM(COUNTRY_INFO!$E103:$G103),0))*3)","v":0},0,null,0]
[{"$f":"IF(INTRO!$E$43=\"Non-endemic\",\" \", IF(COUNTRY_INFO!A104=0,\" \",COUNTRY_INFO!A104))","v":"Cameroun"},{"$f":"IF(INTRO!$E$43=\"Non-endemic\",\" \", IF(COUNTRY_INFO!B104=0,\" \",COUNTRY_INFO!B104))","v":"Littoral"},{"$f":"IF(INTRO!$E$43=\"Non-endemic\",\" \", IF(COUNTRY_INFO!C104=0,\" \",COUNTRY_INFO!C104))","v":"Cite Des Palmiers"},{"$f":"IF(INTRO!$E$43=\"Non-endemic\", \"Not required\", COUNTRY_INFO!Z104)","v":0},0,0,0,0,null,null,null,null,null,{"$f":"IF($I104<>\"Yes\",$F104*2,($F104+ROUND(J104*$F104/SUM(COUNTRY_INFO!$E104:$G104),0))*2)","v":0},{"$f":"IF($I104<>\"Yes\",$G104*3,($G104+ROUND(J104*$G104/SUM(COUNTRY_INFO!$E104:$G104),0))*3)","v":0},0,null,0]
[{"$f":"IF(INTRO!$E$43=\"Non-endemic\",\" \", IF(COUNTRY_INFO!A105=0,\" \",COUNTRY_INFO!A105))","v":"Cameroun"},{"$f":"IF(INTRO!$E$43=\"Non-endemic\",\" \", IF(COUNTRY_INFO!B105=0,\" \",COUNTRY_INFO!B105))","v":"Littoral"},{"$f":"IF(INTRO!$E$43=\"Non-endemic\",\" \", IF(COUNTRY_INFO!C105=0,\" \",COUNTRY_INFO!C105))","v":"Deido"},{"$f":"IF(INTRO!$E$43=\"Non-endemic\", \"Not required\", COUNTRY_INFO!Z105)","v":0},0,0,0,0,null,null,null,null,null,{"$f":"IF($I105<>\"Yes\",$F105*2,($F105+ROUND(J105*$F105/SUM(COUNTRY_INFO!$E105:$G105),0))*2)","v":0},{"$f":"IF($I105<>\"Yes\",$G105*3,($G105+ROUND(J105*$G105/SUM(COUNTRY_INFO!$E105:$G105),0))*3)","v":0},0,null,0]
[{"$f":"IF(INTRO!$E$43=\"Non-endemic\",\" \", IF(COUNTRY_INFO!A106=0,\" \",COUNTRY_INFO!A106))","v":"Cameroun"},{"$f":"IF(INTRO!$E$43=\"Non-endemic\",\" \", IF(COUNTRY_INFO!B106=0,\" \",COUNTRY_INFO!B106))","v":"Littoral"},{"$f":"IF(INTRO!$E$43=\"Non-endemic\",\" \", IF(COUNTRY_INFO!C106=0,\" \",COUNTRY_INFO!C106))","v":"Dibombari"},{"$f":"IF(INTRO!$E$43=\"Non-endemic\", \"Not required\", COUNTRY_INFO!Z106)","v":0},0,0,0,0,null,null,null,null,null,{"$f":"IF($I106<>\"Yes\",$F106*2,($F106+ROUND(J106*$F106/SUM(COUNTRY_INFO!$E106:$G106),0))*2)","v":0},{"$f":"IF($I106<>\"Yes\",$G106*3,($G106+ROUND(J106*$G106/SUM(COUNTRY_INFO!$E106:$G106),0))*3)","v":0},0,null,0]
[{"$f":"IF(INTRO!$E$43=\"Non-endemic\",\" \", IF(COUNTRY_INFO!A107=0,\" \",COUNTRY_INFO!A107))","v":"Cameroun"},{"$f":"IF(INTRO!$E$43=\"Non-endemic\",\" \", IF(COUNTRY_INFO!B107=0,\" \",COUNTRY_INFO!B107))","v":"Littoral"},{"$f":"IF(INTRO!$E$43=\"Non-endemic\",\" \", IF(COUNTRY_INFO!C107=0,\" \",COUNTRY_INFO!C107))","v":"Edea"},{"$f":"IF(INTRO!$E$43=\"Non-endemic\", \"Not required\", COUNTRY_INFO!Z107)","v":1},0,0,0,0,null,null,1,"SAC",null,{"$f":"IF($I107<>\"Yes\",$F107*2,($F107+ROUND(J107*$F107/SUM(COUNTRY_INFO!$E107:$G107),0))*2)","v":0},{"$f":"IF($I107<>\"Yes\",$G107*3,($G107+ROUND(J107*$G107/SUM(COUNTRY_INFO!$E107:$G107),0))*3)","v":0},0,null,0]
[{"$f":"IF(INTRO!$E$43=\"Non-endemic\",\" \", IF(COUNTRY_INFO!A108=0,\" \",COUNTRY_INFO!A108))","v":"Cameroun"},{"$f":"IF(INTRO!$E$43=\"Non-endemic\",\" \", IF(COUNTRY_INFO!B108=0,\" \",COUNTRY_INFO!B108))","v":"Littoral"},{"$f":"IF(INTRO!$E$43=\"Non-endemic\",\" \", IF(COUNTRY_INFO!C108=0,\" \",COUNTRY_INFO!C108))","v":"Japoma"},{"$f":"IF(INTRO!$E$43=\"Non-endemic\", \"Not required\", COUNTRY_INFO!Z108)","v":0},0,0,0,0,null,null,null,null,null,{"$f":"IF($I108<>\"Yes\",$F108*2,($F108+ROUND(J108*$F108/SUM(COUNTRY_INFO!$E108:$G108),0))*2)","v":0},{"$f":"IF($I108<>\"Yes\",$G108*3,($G108+ROUND(J108*$G108/SUM(COUNTRY_INFO!$E108:$G108),0))*3)","v":0},0,null,0]
[{"$f":"IF(INTRO!$E$43=\"Non-endemic\",\" \", IF(COUNTRY_INFO!A109=0,\" \",COUNTRY_INFO!A109))","v":"Cameroun"},{"$f":"IF(INTRO!$E$43=\"Non-endemic\",\" \", IF(COUNTRY_INFO!B109=0,\" \",COUNTRY_INFO!B109))","v":"Littoral"},{"$f":"IF(INTRO!$E$43=\"Non-endemic\",\" \", IF(COUNTRY_INFO!C109=0,\" \",COUNTRY_INFO!C109))","v":"Logbaba"},{"$f":"IF(INTRO!$E$43=\"Non-endemic\", \"Not required\", COUNTRY_INFO!Z109)","v":0},0,0,0,0,null,null,null,null,null,{"$f":"IF($I109<>\"Yes\",$F109*2,($F109+ROUND(J109*$F109/SUM(COUNTRY_INFO!$E109:$G109),0))*2)","v":0},{"$f":"IF($I109<>\"Yes\",$G109*3,($G109+ROUND(J109*$G109/SUM(COUNTRY_INFO!$E109:$G109),0))*3)","v":0},0,null,0]
[{"$f":"IF(INTRO!$E$43=\"Non-endemic\",\" \", IF(COUNTRY_INFO!A110=0,\" \",COUNTRY_INFO!A110))","v":"Cameroun"},{"$f":"IF(INTRO!$E$43=\"Non-endemic\",\" \", IF(COUNTRY_INFO!B110=0,\" \",COUNTRY_INFO!B110))","v":"Littoral"},{"$f":"IF(INTRO!$E$43=\"Non-endemic\",\" \", IF(COUNTRY_INFO!C110=0,\" \",COUNTRY_INFO!C110))","v":"Loum"},{"$f":"IF(INTRO!$E$43=\"Non-endemic\", \"Not required\", COUNTRY_INFO!Z110)","v":1},0,0,0,0,null,null,2,"SAC",null,{"$f":"IF($I110<>\"Yes\",$F110*2,($F110+ROUND(J110*$F110/SUM(COUNTRY_INFO!$E110:$G110),0))*2)","v":0},{"$f":"IF($I110<>\"Yes\",$G110*3,($G110+ROUND(J110*$G110/SUM(COUNTRY_INFO!$E110:$G110),0))*3)","v":0},0,null,0]
[{"$f":"IF(INTRO!$E$43=\"Non-endemic\",\" \", IF(COUNTRY_INFO!A111=0,\" \",COUNTRY_INFO!A111))","v":"Cameroun"},{"$f":"IF(INTRO!$E$43=\"Non-endemic\",\" \", IF(COUNTRY_INFO!B111=0,\" \",COUNTRY_INFO!B111))","v":"Littoral"},{"$f":"IF(INTRO!$E$43=\"Non-endemic\",\" \", IF(COUNTRY_INFO!C111=0,\" \",COUNTRY_INFO!C111))","v":"Manjo"},{"$f":"IF(INTRO!$E$43=\"Non-endemic\", \"Not required\", COUNTRY_INFO!Z111)","v":0},0,0,0,0,null,null,null,null,null,{"$f":"IF($I111<>\"Yes\",$F111*2,($F111+ROUND(J111*$F111/SUM(COUNTRY_INFO!$E111:$G111),0))*2)","v":0},{"$f":"IF($I111<>\"Yes\",$G111*3,($G111+ROUND(J111*$G111/SUM(COUNTRY_INFO!$E111:$G111),0))*3)","v":0},0,null,0]
[{"$f":"IF(INTRO!$E$43=\"Non-endemic\",\" \", IF(COUNTRY_INFO!A112=0,\" \",COUNTRY_INFO!A112))","v":"Cameroun"},{"$f":"IF(INTRO!$E$43=\"Non-endemic\",\" \", IF(COUNTRY_INFO!B112=0,\" \",COUNTRY_INFO!B112))","v":"Littoral"},{"$f":"IF(INTRO!$E$43=\"Non-endemic\",\" \", IF(COUNTRY_INFO!C112=0,\" \",COUNTRY_INFO!C112))","v":"Manoka"},{"$f":"IF(INTRO!$E$43=\"Non-endemic\", \"Not required\", COUNTRY_INFO!Z112)","v":0},0,0,0,0,null,null,null,null,null,{"$f":"IF($I112<>\"Yes\",$F112*2,($F112+ROUND(J112*$F112/SUM(COUNTRY_INFO!$E112:$G112),0))*2)","v":0},{"$f":"IF($I112<>\"Yes\",$G112*3,($G112+ROUND(J112*$G112/SUM(COUNTRY_INFO!$E112:$G112),0))*3)","v":0},0,null,0]
[{"$f":"IF(INTRO!$E$43=\"Non-endemic\",\" \", IF(COUNTRY_INFO!A113=0,\" \",COUNTRY_INFO!A113))","v":"Cameroun"},{"$f":"IF(INTRO!$E$43=\"Non-endemic\",\" \", IF(COUNTRY_INFO!B113=0,\" \",COUNTRY_INFO!B113))","v":"Littoral"},{"$f":"IF(INTRO!$E$43=\"Non-endemic\",\" \", IF(COUNTRY_INFO!C113=0,\" \",COUNTRY_INFO!C113))","v":"Mbanga"},{"$f":"IF(INTRO!$E$43=\"Non-endemic\", \"Not required\", COUNTRY_INFO!Z113)","v":0},0,0,0,0,null,null,null,null,null,{"$f":"IF($I113<>\"Yes\",$F113*2,($F113+ROUND(J113*$F113/SUM(COUNTRY_INFO!$E113:$G113),0))*2)","v":0},{"$f":"IF($I113<>\"Yes\",$G113*3,($G113+ROUND(J113*$G113/SUM(COUNTRY_INFO!$E113:$G113),0))*3)","v":0},0,null,0]
[{"$f":"IF(INTRO!$E$43=\"Non-endemic\",\" \", IF(COUNTRY_INFO!A114=0,\" \",COUNTRY_INFO!A114))","v":"Cameroun"},{"$f":"IF(INTRO!$E$43=\"Non-endemic\",\" \", IF(COUNTRY_INFO!B114=0,\" \",COUNTRY_INFO!B114))","v":"Littoral"},{"$f":"IF(INTRO!$E$43=\"Non-endemic\",\" \", IF(COUNTRY_INFO!C114=0,\" \",COUNTRY_INFO!C114))","v":"Melong"},{"$f":"IF(INTRO!$E$43=\"Non-endemic\", \"Not required\", COUNTRY_INFO!Z114)","v":1},12344,31923,0,44267,null,null,1,"SAC",null,{"$f":"IF($I114<>\"Yes\",$F114*2,($F114+ROUND(J114*$F114/SUM(COUNTRY_INFO!$E114:$G114),0))*2)","v":63846},{"$f":"IF($I114<>\"Yes\",$G114*3,($G114+ROUND(J114*$G114/SUM(COUNTRY_INFO!$E114:$G114),0))*3)","v":0},63846,null,63846]
[{"$f":"IF(INTRO!$E$43=\"Non-endemic\",\" \", IF(COUNTRY_INFO!A115=0,\" \",COUNTRY_INFO!A115))","v":"Cameroun"},{"$f":"IF(INTRO!$E$43=\"Non-endemic\",\" \", IF(COUNTRY_INFO!B115=0,\" \",COUNTRY_INFO!B115))","v":"Littoral"},{"$f":"IF(INTRO!$E$43=\"Non-endemic\",\" \", IF(COUNTRY_INFO!C115=0,\" \",COUNTRY_INFO!C115))","v":"Ndom"},{"$f":"IF(INTRO!$E$43=\"Non-endemic\", \"Not required\", COUNTRY_INFO!Z115)","v":0},0,0,0,0,null,null,null,null,null,{"$f":"IF($I115<>\"Yes\",$F115*2,($F115+ROUND(J115*$F115/SUM(COUNTRY_INFO!$E115:$G115),0))*2)","v":0},{"$f":"IF($I115<>\"Yes\",$G115*3,($G115+ROUND(J115*$G115/SUM(COUNTRY_INFO!$E115:$G115),0))*3)","v":0},0,null,0]
[{"$f":"IF(INTRO!$E$43=\"Non-endemic\",\" \", IF(COUNTRY_INFO!A116=0,\" \",COUNTRY_INFO!A116))","v":"Cameroun"},{"$f":"IF(INTRO!$E$43=\"Non-endemic\",\" \", IF(COUNTRY_INFO!B116=0,\" \",COUNTRY_INFO!B116))","v":"Littoral"},{"$f":"IF(INTRO!$E$43=\"Non-endemic\",\" \", IF(COUNTRY_INFO!C116=0,\" \",COUNTRY_INFO!C116))","v":"New Bell"},{"$f":"IF(INTRO!$E$43=\"Non-endemic\", \"Not required\", COUNTRY_INFO!Z116)","v":0},0,0,0,0,null,null,null,null,null,{"$f":"IF($I116<>\"Yes\",$F116*2,($F116+ROUND(J116*$F116/SUM(COUNTRY_INFO!$E116:$G116),0))*2)","v":0},{"$f":"IF($I116<>\"Yes\",$G116*3,($G116+ROUND(J116*$G116/SUM(COUNTRY_INFO!$E116:$G116),0))*3)","v":0},0,null,0]
[{"$f":"IF(INTRO!$E$43=\"Non-endemic\",\" \", IF(COUNTRY_INFO!A117=0,\" \",COUNTRY_INFO!A117))","v":"Cameroun"},{"$f":"IF(INTRO!$E$43=\"Non-endemic\",\" \", IF(COUNTRY_INFO!B117=0,\" \",COUNTRY_INFO!B117))","v":"Littoral"},{"$f":"IF(INTRO!$E$43=\"Non-endemic\",\" \", IF(COUNTRY_INFO!C117=0,\" \",COUNTRY_INFO!C117))","v":"Ngambe"},{"$f":"IF(INTRO!$E$43=\"Non-endemic\", \"Not required\", COUNTRY_INFO!Z117)","v":0},0,0,0,0,null,null,null,null,null,{"$f":"IF($I117<>\"Yes\",$F117*2,($F117+ROUND(J117*$F117/SUM(COUNTRY_INFO!$E117:$G117),0))*2)","v":0},{"$f":"IF($I117<>\"Yes\",$G117*3,($G117+ROUND(J117*$G117/SUM(COUNTRY_INFO!$E117:$G117),0))*3)","v":0},0,null,0]
[{"$f":"IF(INTRO!$E$43=\"Non-endemic\",\" \", IF(COUNTRY_INFO!A118=0,\" \",COUNTRY_INFO!A118))","v":"Cameroun"},{"$f":"IF(INTRO!$E$43=\"Non-endemic\",\" \", IF(COUNTRY_INFO!B118=0,\" \",COUNTRY_INFO!B118))","v":"Littoral"},{"$f":"IF(INTRO!$E$43=\"Non-endemic\",\" \", IF(COUNTRY_INFO!C118=0,\" \",COUNTRY_INFO!C118))","v":"Njombe Penja"},{"$f":"IF(INTRO!$E$43=\"Non-endemic\", \"Not required\", COUNTRY_INFO!Z118)","v":1},8424,16746,0,25170,null,null,2,"SAC",null,{"$f":"IF($I118<>\"Yes\",$F118*2,($F118+ROUND(J118*$F118/SUM(COUNTRY_INFO!$E118:$G118),0))*2)","v":33492},{"$f":"IF($I118<>\"Yes\",$G118*3,($G118+ROUND(J118*$G118/SUM(COUNTRY_INFO!$E118:$G118),0))*3)","v":0},33492,null,33492]
[{"$f":"IF(INTRO!$E$43=\"Non-endemic\",\" \", IF(COUNTRY_INFO!A119=0,\" \",COUNTRY_INFO!A119))","v":"Cameroun"},{"$f":"IF(INTRO!$E$43=\"Non-endemic\",\" \", IF(COUNTRY_INFO!B119=0,\" \",COUNTRY_INFO!B119))","v":"Littoral"},{"$f":"IF(INTRO!$E$43=\"Non-endemic\",\" \", IF(COUNTRY_INFO!C119=0,\" \",COUNTRY_INFO!C119))","v":"Nkondjock"},{"$f":"IF(INTRO!$E$43=\"Non-endemic\", \"Not required\", COUNTRY_INFO!Z119)","v":0},0,0,0,0,null,null,null,null,null,{"$f":"IF($I119<>\"Yes\",$F119*2,($F119+ROUND(J119*$F119/SUM(COUNTRY_INFO!$E119:$G119),0))*2)","v":0},{"$f":"IF($I119<>\"Yes\",$G119*3,($G119+ROUND(J119*$G119/SUM(COUNTRY_INFO!$E119:$G119),0))*3)","v":0},0,null,0]
[{"$f":"IF(INTRO!$E$43=\"Non-endemic\",\" \", IF(COUNTRY_INFO!A120=0,\" \",COUNTRY_INFO!A120))","v":"Cameroun"},{"$f":"IF(INTRO!$E$43=\"Non-endemic\",\" \", IF(COUNTRY_INFO!B120=0,\" \",COUNTRY_INFO!B120))","v":"Littoral"},{"$f":"IF(INTRO!$E$43=\"Non-endemic\",\" \", IF(COUNTRY_INFO!C120=0,\" \",COUNTRY_INFO!C120))","v":"Nkongsamba"},{"$f":"IF(INTRO!$E$43=\"Non-endemic\", \"Not required\", COUNTRY_INFO!Z120)","v":0},0,0,0,0,null,null,null,null,null,{"$f":"IF($I120<>\"Yes\",$F120*2,($F120+ROUND(J120*$F120/SUM(COUNTRY_INFO!$E120:$G120),0))*2)","v":0},{"$f":"IF($I120<>\"Yes\",$G120*3,($G120+ROUND(J120*$G120/SUM(COUNTRY_INFO!$E120:$G120),0))*3)","v":0},0,null,0]
[{"$f":"IF(INTRO!$E$43=\"Non-endemic\",\" \", IF(COUNTRY_INFO!A121=0,\" \",COUNTRY_INFO!A121))","v":"Cameroun"},{"$f":"IF(INTRO!$E$43=\"Non-endemic\",\" \", IF(COUNTRY_INFO!B121=0,\" \",COUNTRY_INFO!B121))","v":"Littoral"},{"$f":"IF(INTRO!$E$43=\"Non-endemic\",\" \", IF(COUNTRY_INFO!C121=0,\" \",COUNTRY_INFO!C121))","v":"Nylon"},{"$f":"IF(INTRO!$E$43=\"Non-endemic\", \"Not required\", COUNTRY_INFO!Z121)","v":0},0,0,0,0,null,null,null,null,null,{"$f":"IF($I121<>\"Yes\",$F121*2,($F121+ROUND(J121*$F121/SUM(COUNTRY_INFO!$E121:$G121),0))*2)","v":0},{"$f":"IF($I121<>\"Yes\",$G121*3,($G121+ROUND(J121*$G121/SUM(COUNTRY_INFO!$E121:$G121),0))*3)","v":0},0,null,0]
[{"$f":"IF(INTRO!$E$43=\"Non-endemic\",\" \", IF(COUNTRY_INFO!A122=0,\" \",COUNTRY_INFO!A122))","v":"Cameroun"},{"$f":"IF(INTRO!$E$43=\"Non-endemic\",\" \", IF(COUNTRY_INFO!B122=0,\" \",COUNTRY_INFO!B122))","v":"Littoral"},{"$f":"IF(INTRO!$E$43=\"Non-endemic\",\" \", IF(COUNTRY_INFO!C122=0,\" \",COUNTRY_INFO!C122))","v":"Pouma"},{"$f":"IF(INTRO!$E$43=\"Non-endemic\", \"Not required\", COUNTRY_INFO!Z122)","v":0},0,0,0,0,null,null,null,null,null,{"$f":"IF($I122<>\"Yes\",$F122*2,($F122+ROUND(J122*$F122/SUM(COUNTRY_INFO!$E122:$G122),0))*2)","v":0},{"$f":"IF($I122<>\"Yes\",$G122*3,($G122+ROUND(J122*$G122/SUM(COUNTRY_INFO!$E122:$G122),0))*3)","v":0},0,null,0]
[{"$f":"IF(INTRO!$E$43=\"Non-endemic\",\" \", IF(COUNTRY_INFO!A123=0,\" \",COUNTRY_INFO!A123))","v":"Cameroun"},{"$f":"IF(INTRO!$E$43=\"Non-endemic\",\" \", IF(COUNTRY_INFO!B123=0,\" \",COUNTRY_INFO!B123))","v":"Littoral"},{"$f":"IF(INTRO!$E$43=\"Non-endemic\",\" \", IF(COUNTRY_INFO!C123=0,\" \",COUNTRY_INFO!C123))","v":"Yabassi"},{"$f":"IF(INTRO!$E$43=\"Non-endemic\", \"Not required\", COUNTRY_INFO!Z123)","v":0},0,0,0,0,null,null,null,null,null,{"$f":"IF($I123<>\"Yes\",$F123*2,($F123+ROUND(J123*$F123/SUM(COUNTRY_INFO!$E123:$G123),0))*2)","v":0},{"$f":"IF($I123<>\"Yes\",$G123*3,($G123+ROUND(J123*$G123/SUM(COUNTRY_INFO!$E123:$G123),0))*3)","v":0},0,null,0]
[{"$f":"IF(INTRO!$E$43=\"Non-endemic\",\" \", IF(COUNTRY_INFO!A124=0,\" \",COUNTRY_INFO!A124))","v":"Cameroun"},{"$f":"IF(INTRO!$E$43=\"Non-endemic\",\" \", IF(COUNTRY_INFO!B124=0,\" \",COUNTRY_INFO!B124))","v":"Nord"},{"$f":"IF(INTRO!$E$43=\"Non-endemic\",\" \", IF(COUNTRY_INFO!C124=0,\" \",COUNTRY_INFO!C124))","v":"Bibemi"},{"$f":"IF(INTRO!$E$43=\"Non-endemic\", \"Not required\", COUNTRY_INFO!Z124)","v":1},32715,47194,102722,182631,null,null,1,"SAC",null,{"$f":"IF($I124<>\"Yes\",$F124*2,($F124+ROUND(J124*$F124/SUM(COUNTRY_INFO!$E124:$G124),0))*2)","v":94388},{"$f":"IF($I124<>\"Yes\",$G124*3,($G124+ROUND(J124*$G124/SUM(COUNTRY_INFO!$E124:$G124),0))*3)","v":308166},402554,null,402554]
[{"$f":"IF(INTRO!$E$43=\"Non-endemic\",\" \", IF(COUNTRY_INFO!A125=0,\" \",COUNTRY_INFO!A125))","v":"Cameroun"},{"$f":"IF(INTRO!$E$43=\"Non-endemic\",\" \", IF(COUNTRY_INFO!B125=0,\" \",COUNTRY_INFO!B125))","v":"Nord"},{"$f":"IF(INTRO!$E$43=\"Non-endemic\",\" \", IF(COUNTRY_INFO!C125=0,\" \",COUNTRY_INFO!C125))","v":"Figuil"},{"$f":"IF(INTRO!$E$43=\"Non-endemic\", \"Not required\", COUNTRY_INFO!Z125)","v":1},14966,29290,63752,108008,null,null,1,"SAC",null,{"$f":"IF($I125<>\"Yes\",$F125*2,($F125+ROUND(J125*$F125/SUM(COUNTRY_INFO!$E125:$G125),0))*2)","v":58580},{"$f":"IF($I125<>\"Yes\",$G125*3,($G125+ROUND(J125*$G125/SUM(COUNTRY_INFO!$E125:$G125),0))*3)","v":191256},249836,null,249836]
[{"$f":"IF(INTRO!$E$43=\"Non-endemic\",\" \", IF(COUNTRY_INFO!A126=0,\" \",COUNTRY_INFO!A126))","v":"Cameroun"},{"$f":"IF(INTRO!$E$43=\"Non-endemic\",\" \", IF(COUNTRY_INFO!B126=0,\" \",COUNTRY_INFO!B126))","v":"Nord"},{"$f":"IF(INTRO!$E$43=\"Non-endemic\",\" \", IF(COUNTRY_INFO!C126=0,\" \",COUNTRY_INFO!C126))","v":"Garoua I"},{"$f":"IF(INTRO!$E$43=\"Non-endemic\", \"Not required\", COUNTRY_INFO!Z126)","v":1},49945,84489,0,134434,null,null,1,"SAC",null,{"$f":"IF($I126<>\"Yes\",$F126*2,($F126+ROUND(J126*$F126/SUM(COUNTRY_INFO!$E126:$G126),0))*2)","v":168978},{"$f":"IF($I126<>\"Yes\",$G126*3,($G126+ROUND(J126*$G126/SUM(COUNTRY_INFO!$E126:$G126),0))*3)","v":0},168978,null,168978]
[{"$f":"IF(INTRO!$E$43=\"Non-endemic\",\" \", IF(COUNTRY_INFO!A127=0,\" \",COUNTRY_INFO!A127))","v":"Cameroun"},{"$f":"IF(INTRO!$E$43=\"Non-endemic\",\" \", IF(COUNTRY_INFO!B127=0,\" \",COUNTRY_INFO!B127))","v":"Nord"},{"$f":"IF(INTRO!$E$43=\"Non-endemic\",\" \", IF(COUNTRY_INFO!C127=0,\" \",COUNTRY_INFO!C127))","v":"Garoua II"},{"$f":"IF(INTRO!$E$43=\"Non-endemic\", \"Not required\", COUNTRY_INFO!Z127)","v":1},53373,92139,0,145512,null,null,1,"SAC",null,{"$f":"IF($I127<>\"Yes\",$F127*2,($F127+ROUND(J127*$F127/SUM(COUNTRY_INFO!$E127:$G127),0))*2)","v":184278},{"$f":"IF($I127<>\"Yes\",$G127*3,($G127+ROUND(J127*$G127/SUM(COUNTRY_INFO!$E127:$G127),0))*3)","v":0},184278,null,184278]
[{"$f":"IF(INTRO!$E$43=\"Non-endemic\",\" \", IF(COUNTRY_INFO!A128=0,\" \",COUNTRY_INFO!A128))","v":"Cameroun"},{"$f":"IF(INTRO!$E$43=\"Non-endemic\",\" \", IF(COUNTRY_INFO!B128=0,\" \",COUNTRY_INFO!B128))","v":"Nord"},{"$f":"IF(INTRO!$E$43=\"Non-endemic\",\" \", IF(COUNTRY_INFO!C128=0,\" \",COUNTRY_INFO!C128))","v":"Gaschiga"},{"$f":"IF(INTRO!$E$43=\"Non-endemic\", \"Not required\", COUNTRY_INFO!Z128)","v":1},26731,43256,94149,164136,null,null,1,"SAC",null,{"$f":"IF($I128<>\"Yes\",$F128*2,($F128+ROUND(J128*$F128/SUM(COUNTRY_INFO!$E128:$G128),0))*2)","v":86512},{"$f":"IF($I128<>\"Yes\",$G128*3,($G128+ROUND(J128*$G128/SUM(COUNTRY_INFO!$E128:$G128),0))*3)","v":282447},368959,null,368959]
[{"$f":"IF(INTRO!$E$43=\"Non-endemic\",\" \", IF(COUNTRY_INFO!A129=0,\" \",COUNTRY_INFO!A129))","v":"Cameroun"},{"$f":"IF(INTRO!$E$43=\"Non-endemic\",\" \", IF(COUNTRY_INFO!B129=0,\" \",COUNTRY_INFO!B129))","v":"Nord"},{"$f":"IF(INTRO!$E$43=\"Non-endemic\",\" \", IF(COUNTRY_INFO!C129=0,\" \",COUNTRY_INFO!C129))","v":"Golombe"},{"$f":"IF(INTRO!$E$43=\"Non-endemic\", \"Not required\", COUNTRY_INFO!Z129)","v":1},18570,19432,42294,80296,null,null,1,"SAC",null,{"$f":"IF($I129<>\"Yes\",$F129*2,($F129+ROUND(J129*$F129/SUM(COUNTRY_INFO!$E129:$G129),0))*2)","v":38864},{"$f":"IF($I129<>\"Yes\",$G129*3,($G129+ROUND(J129*$G129/SUM(COUNTRY_INFO!$E129:$G129),0))*3)","v":126882},165746,null,165746]
[{"$f":"IF(INTRO!$E$43=\"Non-endemic\",\" \", IF(COUNTRY_INFO!A130=0,\" \",COUNTRY_INFO!A130))","v":"Cameroun"},{"$f":"IF(INTRO!$E$43=\"Non-endemic\",\" \", IF(COUNTRY_INFO!B130=0,\" \",COUNTRY_INFO!B130))","v":"Nord"},{"$f":"IF(INTRO!$E$43=\"Non-endemic\",\" \", IF(COUNTRY_INFO!C130=0,\" \",COUNTRY_INFO!C130))","v":"Guider"},{"$f":"IF(INTRO!$E$43=\"Non-endemic\", \"Not required\", COUNTRY_INFO!Z130)","v":1},50126,71078,154705,275909,null,null,1,"SAC",null,{"$f":"IF($I130<>\"Yes\",$F130*2,($F130+ROUND(J130*$F130/SUM(COUNTRY_INFO!$E130:$G130),0))*2)","v":142156},{"$f":"IF($I130<>\"Yes\",$G130*3,($G130+ROUND(J130*$G130/SUM(COUNTRY_INFO!$E130:$G130),0))*3)","v":464115},606271,null,606271]
[{"$f":"IF(INTRO!$E$43=\"Non-endemic\",\" \", IF(COUNTRY_INFO!A131=0,\" \",COUNTRY_INFO!A131))","v":"Cameroun"},{"$f":"IF(INTRO!$E$43=\"Non-endemic\",\" \", IF(COUNTRY_INFO!B131=0,\" \",COUNTRY_INFO!B131))","v":"Nord"},{"$f":"IF(INTRO!$E$43=\"Non-endemic\",\" \", IF(COUNTRY_INFO!C131=0,\" \",COUNTRY_INFO!C131))","v":"Lagdo"},{"$f":"IF(INTRO!$E$43=\"Non-endemic\", \"Not required\", COUNTRY_INFO!Z131)","v":1},29284,64082,139478,232844,null,null,1,"SAC",null,{"$f":"IF($I131<>\"Yes\",$F131*2,($F131+ROUND(J131*$F131/SUM(COUNTRY_INFO!$E131:$G131),0))*2)","v":128164},{"$f":"IF($I131<>\"Yes\",$G131*3,($G131+ROUND(J131*$G131/SUM(COUNTRY_INFO!$E131:$G131),0))*3)","v":418434},546598,null,546598]
[{"$f":"IF(INTRO!$E$43=\"Non-endemic\",\" \", IF(COUNTRY_INFO!A132=0,\" \",COUNTRY_INFO!A132))","v":"Cameroun"},{"$f":"IF(INTRO!$E$43=\"Non-endemic\",\" \", IF(COUNTRY_INFO!B132=0,\" \",COUNTRY_INFO!B132))","v":"Nord"},{"$f":"IF(INTRO!$E$43=\"Non-endemic\",\" \", IF(COUNTRY_INFO!C132=0,\" \",COUNTRY_INFO!C132))","v":"Mayo Oulo"},{"$f":"IF(INTRO!$E$43=\"Non-endemic\", \"Not required\", COUNTRY_INFO!Z132)","v":1},42842,42194,91839,176875,null,null,1,"SAC",null,{"$f":"IF($I132<>\"Yes\",$F132*2,($F132+ROUND(J132*$F132/SUM(COUNTRY_INFO!$E132:$G132),0))*2)","v":84388},{"$f":"IF($I132<>\"Yes\",$G132*3,($G132+ROUND(J132*$G132/SUM(COUNTRY_INFO!$E132:$G132),0))*3)","v":275517},359905,null,359905]
[{"$f":"IF(INTRO!$E$43=\"Non-endemic\",\" \", IF(COUNTRY_INFO!A133=0,\" \",COUNTRY_INFO!A133))","v":"Cameroun"},{"$f":"IF(INTRO!$E$43=\"Non-endemic\",\" \", IF(COUNTRY_INFO!B133=0,\" \",COUNTRY_INFO!B133))","v":"Nord"},{"$f":"IF(INTRO!$E$43=\"Non-endemic\",\" \", IF(COUNTRY_INFO!C133=0,\" \",COUNTRY_INFO!C133))","v":"Ngong"},{"$f":"IF(INTRO!$E$43=\"Non-endemic\", \"Not required\", COUNTRY_INFO!Z133)","v":1},59659,79803,0,139462,null,null,1,"SAC",null,{"$f":"IF($I133<>\"Yes\",$F133*2,($F133+ROUND(J133*$F133/SUM(COUNTRY_INFO!$E133:$G133),0))*2)","v":159606},{"$f":"IF($I133<>\"Yes\",$G133*3,($G133+ROUND(J133*$G133/SUM(COUNTRY_INFO!$E133:$G133),0))*3)","v":0},159606,null,159606]
[{"$f":"IF(INTRO!$E$43=\"Non-endemic\",\" \", IF(COUNTRY_INFO!A134=0,\" \",COUNTRY_INFO!A134))","v":"Cameroun"},{"$f":"IF(INTRO!$E$43=\"Non-endemic\",\" \", IF(COUNTRY_INFO!B134=0,\" \",COUNTRY_INFO!B134))","v":"Nord"},{"$f":"IF(INTRO!$E$43=\"Non-endemic\",\" \", IF(COUNTRY_INFO!C134=0,\" \",COUNTRY_INFO!C134))","v":"Pitoa"},{"$f":"IF(INTRO!$E$43=\"Non-endemic\", \"Not required\", COUNTRY_INFO!Z134)","v":1},29166,46291,100755,176212,null,null,1,"SAC",null,{"$f":"IF($I134<>\"Yes\",$F134*2,($F134+ROUND(J134*$F134/SUM(COUNTRY_INFO!$E134:$G134),0))*2)","v":92582},{"$f":"IF($I134<>\"Yes\",$G134*3,($G134+ROUND(J134*$G134/SUM(COUNTRY_INFO!$E134:$G134),0))*3)","v":302265},394847,null,394847]
[{"$f":"IF(INTRO!$E$43=\"Non-endemic\",\" \", IF(COUNTRY_INFO!A135=0,\" \",COUNTRY_INFO!A135))","v":"Cameroun"},{"$f":"IF(INTRO!$E$43=\"Non-endemic\",\" \", IF(COUNTRY_INFO!B135=0,\" \",COUNTRY_INFO!B135))","v":"Nord"},{"$f":"IF(INTRO!$E$43=\"Non-endemic\",\" \", IF(COUNTRY_INFO!C135=0,\" \",COUNTRY_INFO!C135))","v":"Poli"},{"$f":"IF(INTRO!$E$43=\"Non-endemic\", \"Not required\", COUNTRY_INFO!Z135)","v":1},21514,33501,72916,127931,null,null,1,"SAC",null,{"$f":"IF($I135<>\"Yes\",$F135*2,($F135+ROUND(J135*$F135/SUM(COUNTRY_INFO!$E135:$G135),0))*2)","v":67002},{"$f":"IF($I135<>\"Yes\",$G135*3,($G135+ROUND(J135*$G135/SUM(COUNTRY_INFO!$E135:$G135),0))*3)","v":218748},285750,null,285750]
[{"$f":"IF(INTRO!$E$43=\"Non-endemic\",\" \", IF(COUNTRY_INFO!A136=0,\" \",COUNTRY_INFO!A136))","v":"Cameroun"},{"$f":"IF(INTRO!$E$43=\"Non-endemic\",\" \", IF(COUNTRY_INFO!B136=0,\" \",COUNTRY_INFO!B136))","v":"Nord"},{"$f":"IF(INTRO!$E$43=\"Non-endemic\",\" \", IF(COUNTRY_INFO!C136=0,\" \",COUNTRY_INFO!C136))","v":"Rey Bouba"},{"$f":"IF(INTRO!$E$43=\"Non-endemic\", \"Not required\", COUNTRY_INFO!Z136)","v":1},39865,54328,118247,212440,null,null,1,"SAC",null,{"$f":"IF($I136<>\"Yes\",$F136*2,($F136+ROUND(J136*$F136/SUM(COUNTRY_INFO!$E136:$G136),0))*2)","v":108656},{"$f":"IF($I136<>\"Yes\",$G136*3,($G136+ROUND(J136*$G136/SUM(COUNTRY_INFO!$E136:$G136),0))*3)","v":354741},463397,null,463397]
[{"$f":"IF(INTRO!$E$43=\"Non-endemic\",\" \", IF(COUNTRY_INFO!A137=0,\" \",COUNTRY_INFO!A137))","v":"Cameroun"},{"$f":"IF(INTRO!$E$43=\"Non-endemic\",\" \", IF(COUNTRY_INFO!B137=0,\" \",COUNTRY_INFO!B137))","v":"Nord"},{"$f":"IF(INTRO!$E$43=\"Non-endemic\",\" \", IF(COUNTRY_INFO!C137=0,\" \",COUNTRY_INFO!C137))","v":"Tchollire"},{"$f":"IF(INTRO!$E$43=\"Non-endemic\", \"Not required\", COUNTRY_INFO!Z137)","v":1},38613,60780,132292,231685,null,null,1,"SAC",null,{"$f":"IF($I137<>\"Yes\",$F137*2,($F137+ROUND(J137*$F137/SUM(COUNTRY_INFO!$E137:$G137),0))*2)","v":121560},{"$f":"IF($I137<>\"Yes\",$G137*3,($G137+ROUND(J137*$G137/SUM(COUNTRY_INFO!$E137:$G137),0))*3)","v":396876},518436,null,518436]
[{"$f":"IF(INTRO!$E$43=\"Non-endemic\",\" \", IF(COUNTRY_INFO!A138=0,\" \",COUNTRY_INFO!A138))","v":"Cameroun"},{"$f":"IF(INTRO!$E$43=\"Non-endemic\",\" \", IF(COUNTRY_INFO!B138=0,\" \",COUNTRY_INFO!B138))","v":"Nord"},{"$f":"IF(INTRO!$E$43=\"Non-endemic\",\" \", IF(COUNTRY_INFO!C138=0,\" \",COUNTRY_INFO!C138))","v":"Touboro"},{"$f":"IF(INTRO!$E$43=\"Non-endemic\", \"Not required\", COUNTRY_INFO!Z138)","v":1},62156,89843,195549,347548,null,null,1,"SAC",null,{"$f":"IF($I138<>\"Yes\",$F138*2,($F138+ROUND(J138*$F138/SUM(COUNTRY_INFO!$E138:$G138),0))*2)","v":179686},{"$f":"IF($I138<>\"Yes\",$G138*3,($G138+ROUND(J138*$G138/SUM(COUNTRY_INFO!$E138:$G138),0))*3)","v":586647},766333,null,766333]
[{"$f":"IF(INTRO!$E$43=\"Non-endemic\",\" \", IF(COUNTRY_INFO!A139=0,\" \",COUNTRY_INFO!A139))","v":"Cameroun"},{"$f":"IF(INTRO!$E$43=\"Non-endemic\",\" \", IF(COUNTRY_INFO!B139=0,\" \",COUNTRY_INFO!B139))","v":"Nord Ouest"},{"$f":"IF(INTRO!$E$43=\"Non-endemic\",\" \", IF(COUNTRY_INFO!C139=0,\" \",COUNTRY_INFO!C139))","v":"Ako "},{"$f":"IF(INTRO!$E$43=\"Non-endemic\", \"Not required\", COUNTRY_INFO!Z139)","v":1},6927,18414,0,{"$f":"SUM(E139:G139)","v":25341},null,null,1,"SAC",null,{"$f":"IF($I139<>\"Yes\",$F139*2,($F139+ROUND(J139*$F139/SUM(COUNTRY_INFO!$E139:$G139),0))*2)","v":36828},{"$f":"IF($I139<>\"Yes\",$G139*3,($G139+ROUND(J139*$G139/SUM(COUNTRY_INFO!$E139:$G139),0))*3)","v":0},{"$f":"SUM(M139:O139)","v":36828},null,{"$f":"IF($P139>$Q139,P139-Q139,0)","v":36828}]
[{"$f":"IF(INTRO!$E$43=\"Non-endemic\",\" \", IF(COUNTRY_INFO!A140=0,\" \",COUNTRY_INFO!A140))","v":"Cameroun"},{"$f":"IF(INTRO!$E$43=\"Non-endemic\",\" \", IF(COUNTRY_INFO!B140=0,\" \",COUNTRY_INFO!B140))","v":"Nord Ouest"},{"$f":"IF(INTRO!$E$43=\"Non-endemic\",\" \", IF(COUNTRY_INFO!C140=0,\" \",COUNTRY_INFO!C140))","v":"Bafut"},{"$f":"IF(INTRO!$E$43=\"Non-endemic\", \"Not required\", COUNTRY_INFO!Z140)","v":0},0,0,0,0,null,null,null,null,null,{"$f":"IF($I140<>\"Yes\",$F140*2,($F140+ROUND(J140*$F140/SUM(COUNTRY_INFO!$E140:$G140),0))*2)","v":0},{"$f":"IF($I140<>\"Yes\",$G140*3,($G140+ROUND(J140*$G140/SUM(COUNTRY_INFO!$E140:$G140),0))*3)","v":0},0,null,0]
[{"$f":"IF(INTRO!$E$43=\"Non-endemic\",\" \", IF(COUNTRY_INFO!A141=0,\" \",COUNTRY_INFO!A141))","v":"Cameroun"},{"$f":"IF(INTRO!$E$43=\"Non-endemic\",\" \", IF(COUNTRY_INFO!B141=0,\" \",COUNTRY_INFO!B141))","v":"Nord Ouest"},{"$f":"IF(INTRO!$E$43=\"Non-endemic\",\" \", IF(COUNTRY_INFO!C141=0,\" \",COUNTRY_INFO!C141))","v":"Bali"},{"$f":"IF(INTRO!$E$43=\"Non-endemic\", \"Not required\", COUNTRY_INFO!Z141)","v":0},0,0,0,0,null,null,null,null,null,{"$f":"IF($I141<>\"Yes\",$F141*2,($F141+ROUND(J141*$F141/SUM(COUNTRY_INFO!$E141:$G141),0))*2)","v":0},{"$f":"IF($I141<>\"Yes\",$G141*3,($G141+ROUND(J141*$G141/SUM(COUNTRY_INFO!$E141:$G141),0))*3)","v":0},0,null,0]
[{"$f":"IF(INTRO!$E$43=\"Non-endemic\",\" \", IF(COUNTRY_INFO!A142=0,\" \",COUNTRY_INFO!A142))","v":"Cameroun"},{"$f":"IF(INTRO!$E$43=\"Non-endemic\",\" \", IF(COUNTRY_INFO!B142=0,\" \",COUNTRY_INFO!B142))","v":"Nord Ouest"},{"$f":"IF(INTRO!$E$43=\"Non-endemic\",\" \", IF(COUNTRY_INFO!C142=0,\" \",COUNTRY_INFO!C142))","v":"Bamenda"},{"$f":"IF(INTRO!$E$43=\"Non-endemic\", \"Not required\", COUNTRY_INFO!Z142)","v":0},0,0,0,0,null,null,null,null,null,{"$f":"IF($I142<>\"Yes\",$F142*2,($F142+ROUND(J142*$F142/SUM(COUNTRY_INFO!$E142:$G142),0))*2)","v":0},{"$f":"IF($I142<>\"Yes\",$G142*3,($G142+ROUND(J142*$G142/SUM(COUNTRY_INFO!$E142:$G142),0))*3)","v":0},0,null,0]
[{"$f":"IF(INTRO!$E$43=\"Non-endemic\",\" \", IF(COUNTRY_INFO!A143=0,\" \",COUNTRY_INFO!A143))","v":"Cameroun"},{"$f":"IF(INTRO!$E$43=\"Non-endemic\",\" \", IF(COUNTRY_INFO!B143=0,\" \",COUNTRY_INFO!B143))","v":"Nord Ouest"},{"$f":"IF(INTRO!$E$43=\"Non-endemic\",\" \", IF(COUNTRY_INFO!C143=0,\" \",COUNTRY_INFO!C143))","v":"Bamenda 3"},{"$f":"IF(INTRO!$E$43=\"Non-endemic\", \"Not required\", COUNTRY_INFO!Z143)","v":0},0,0,0,0,null,null,null,null,null,{"$f":"IF($I143<>\"Yes\",$F143*2,($F143+ROUND(J143*$F143/SUM(COUNTRY_INFO!$E143:$G143),0))*2)","v":0},{"$f":"IF($I143<>\"Yes\",$G143*3,($G143+ROUND(J143*$G143/SUM(COUNTRY_INFO!$E143:$G143),0))*3)","v":0},0,null,0]
[{"$f":"IF(INTRO!$E$43=\"Non-endemic\",\" \", IF(COUNTRY_INFO!A144=0,\" \",COUNTRY_INFO!A144))","v":"Cameroun"},{"$f":"IF(INTRO!$E$43=\"Non-endemic\",\" \", IF(COUNTRY_INFO!B144=0,\" \",COUNTRY_INFO!B144))","v":"Nord Ouest"},{"$f":"IF(INTRO!$E$43=\"Non-endemic\",\" \", IF(COUNTRY_INFO!C144=0,\" \",COUNTRY_INFO!C144))","v":"Batibo"},{"$f":"IF(INTRO!$E$43=\"Non-endemic\", \"Not required\", COUNTRY_INFO!Z144)","v":0},0,0,0,0,null,null,null,null,null,{"$f":"IF($I144<>\"Yes\",$F144*2,($F144+ROUND(J144*$F144/SUM(COUNTRY_INFO!$E144:$G144),0))*2)","v":0},{"$f":"IF($I144<>\"Yes\",$G144*3,($G144+ROUND(J144*$G144/SUM(COUNTRY_INFO!$E144:$G144),0))*3)","v":0},0,null,0]
[{"$f":"IF(INTRO!$E$43=\"Non-endemic\",\" \", IF(COUNTRY_INFO!A145=0,\" \",COUNTRY_INFO!A145))","v":"Cameroun"},{"$f":"IF(INTRO!$E$43=\"Non-endemic\",\" \", IF(COUNTRY_INFO!B145=0,\" \",COUNTRY_INFO!B145))","v":"Nord Ouest"},{"$f":"IF(INTRO!$E$43=\"Non-endemic\",\" \", IF(COUNTRY_INFO!C145=0,\" \",COUNTRY_INFO!C145))","v":"Benakuma"},{"$f":"IF(INTRO!$E$43=\"Non-endemic\", \"Not required\", COUNTRY_INFO!Z145)","v":0},0,0,0,0,null,null,null,null,null,{"$f":"IF($I145<>\"Yes\",$F145*2,($F145+ROUND(J145*$F145/SUM(COUNTRY_INFO!$E145:$G145),0))*2)","v":0},{"$f":"IF($I145<>\"Yes\",$G145*3,($G145+ROUND(J145*$G145/SUM(COUNTRY_INFO!$E145:$G145),0))*3)","v":0},0,null,0]
[{"$f":"IF(INTRO!$E$43=\"Non-endemic\",\" \", IF(COUNTRY_INFO!A146=0,\" \",COUNTRY_INFO!A146))","v":"Cameroun"},{"$f":"IF(INTRO!$E$43=\"Non-endemic\",\" \", IF(COUNTRY_INFO!B146=0,\" \",COUNTRY_INFO!B146))","v":"Nord Ouest"},{"$f":"IF(INTRO!$E$43=\"Non-endemic\",\" \", IF(COUNTRY_INFO!C146=0,\" \",COUNTRY_INFO!C146))","v":"Fundong"},{"$f":"IF(INTRO!$E$43=\"Non-endemic\", \"Not required\", COUNTRY_INFO!Z146)","v":0},0,0,0,0,null,null,null,null,null,{"$f":"IF($I146<>\"Yes\",$F146*2,($F146+ROUND(J146*$F146/SUM(COUNTRY_INFO!$E146:$G146),0))*2)","v":0},{"$f":"IF($I146<>\"Yes\",$G146*3,($G146+ROUND(J146*$G146/SUM(COUNTRY_INFO!$E146:$G146),0))*3)","v":0},0,null,0]
[{"$f":"IF(INTRO!$E$43=\"Non-endemic\",\" \", IF(COUNTRY_INFO!A147=0,\" \",COUNTRY_INFO!A147))","v":"Cameroun"},{"$f":"IF(INTRO!$E$43=\"Non-endemic\",\" \", IF(COUNTRY_INFO!B147=0,\" \",COUNTRY_INFO!B147))","v":"Nord Ouest"},{"$f":"IF(INTRO!$E$43=\"Non-endemic\",\" \", IF(COUNTRY_INFO!C147=0,\" \",COUNTRY_INFO!C147))","v":"Kumbo East"},{"$f":"IF(INTRO!$E$43=\"Non-endemic\", \"Not required\", COUNTRY_INFO!Z147)","v":1},10535,33369,0,43904,null,null,1,"SAC",null,{"$f":"IF($I147<>\"Yes\",$F147*2,($F147+ROUND(J147*$F147/SUM(COUNTRY_INFO!$E147:$G147),0))*2)","v":66738},{"$f":"IF($I147<>\"Yes\",$G147*3,($G147+ROUND(J147*$G147/SUM(COUNTRY_INFO!$E147:$G147),0))*3)","v":0},66738,null,66738]
[{"$f":"IF(INTRO!$E$43=\"Non-endemic\",\" \", IF(COUNTRY_INFO!A148=0,\" \",COUNTRY_INFO!A148))","v":"Cameroun"},{"$f":"IF(INTRO!$E$43=\"Non-endemic\",\" \", IF(COUNTRY_INFO!B148=0,\" \",COUNTRY_INFO!B148))","v":"Nord Ouest"},{"$f":"IF(INTRO!$E$43=\"Non-endemic\",\" \", IF(COUNTRY_INFO!C148=0,\" \",COUNTRY_INFO!C148))","v":"Kumbo West"},{"$f":"IF(INTRO!$E$43=\"Non-endemic\", \"Not required\", COUNTRY_INFO!Z148)","v":0},0,0,0,0,null,null,null,null,null,{"$f":"IF($I148<>\"Yes\",$F148*2,($F148+ROUND(J148*$F148/SUM(COUNTRY_INFO!$E148:$G148),0))*2)","v":0},{"$f":"IF($I148<>\"Yes\",$G148*3,($G148+ROUND(J148*$G148/SUM(COUNTRY_INFO!$E148:$G148),0))*3)","v":0},0,null,0]
[{"$f":"IF(INTRO!$E$43=\"Non-endemic\",\" \", IF(COUNTRY_INFO!A149=0,\" \",COUNTRY_INFO!A149))","v":"Cameroun"},{"$f":"IF(INTRO!$E$43=\"Non-endemic\",\" \", IF(COUNTRY_INFO!B149=0,\" \",COUNTRY_INFO!B149))","v":"Nord Ouest"},{"$f":"IF(INTRO!$E$43=\"Non-endemic\",\" \", IF(COUNTRY_INFO!C149=0,\" \",COUNTRY_INFO!C149))","v":"Mbengwi"},{"$f":"IF(INTRO!$E$43=\"Non-endemic\", \"Not required\", COUNTRY_INFO!Z149)","v":0},0,0,0,0,null,null,null,null,null,{"$f":"IF($I149<>\"Yes\",$F149*2,($F149+ROUND(J149*$F149/SUM(COUNTRY_INFO!$E149:$G149),0))*2)","v":0},{"$f":"IF($I149<>\"Yes\",$G149*3,($G149+ROUND(J149*$G149/SUM(COUNTRY_INFO!$E149:$G149),0))*3)","v":0},0,null,0]
[{"$f":"IF(INTRO!$E$43=\"Non-endemic\",\" \", IF(COUNTRY_INFO!A150=0,\" \",COUNTRY_INFO!A150))","v":"Cameroun"},{"$f":"IF(INTRO!$E$43=\"Non-endemic\",\" \", IF(COUNTRY_INFO!B150=0,\" \",COUNTRY_INFO!B150))","v":"Nord Ouest"},{"$f":"IF(INTRO!$E$43=\"Non-endemic\",\" \", IF(COUNTRY_INFO!C150=0,\" \",COUNTRY_INFO!C150))","v":"Ndop"},{"$f":"IF(INTRO!$E$43=\"Non-endemic\", \"Not required\", COUNTRY_INFO!Z150)","v":0},0,0,0,0,null,null,null,null,null,{"$f":"IF($I150<>\"Yes\",$F150*2,($F150+ROUND(J150*$F150/SUM(COUNTRY_INFO!$E150:$G150),0))*2)","v":0},{"$f":"IF($I150<>\"Yes\",$G150*3,($G150+ROUND(J150*$G150/SUM(COUNTRY_INFO!$E150:$G150),0))*3)","v":0},0,null,0]
[{"$f":"IF(INTRO!$E$43=\"Non-endemic\",\" \", IF(COUNTRY_INFO!A151=0,\" \",COUNTRY_INFO!A151))","v":"Cameroun"},{"$f":"IF(INTRO!$E$43=\"Non-endemic\",\" \", IF(COUNTRY_INFO!B151=0,\" \",COUNTRY_INFO!B151))","v":"Nord Ouest"},{"$f":"IF(INTRO!$E$43=\"Non-endemic\",\" \", IF(COUNTRY_INFO!C151=0,\" \",COUNTRY_INFO!C151))","v":"Ndu"},{"$f":"IF(INTRO!$E$43=\"Non-endemic\", \"Not required\", COUNTRY_INFO!Z151)","v":1},5847,19584,0,25431,null,null,1,"SAC",null,{"$f":"IF($I151<>\"Yes\",$F151*2,($F151+ROUND(J151*$F151/SUM(COUNTRY_INFO!$E151:$G151),0))*2)","v":39168},{"$f":"IF($I151<>\"Yes\",$G151*3,($G151+ROUND(J151*$G151/SUM(COUNTRY_INFO!$E151:$G151),0))*3)","v":0},39168,null,39168]
[{"$f":"IF(INTRO!$E$43=\"Non-endemic\",\" \", IF(COUNTRY_INFO!A152=0,\" \",COUNTRY_INFO!A152))","v":"Cameroun"},{"$f":"IF(INTRO!$E$43=\"Non-endemic\",\" \", IF(COUNTRY_INFO!B152=0,\" \",COUNTRY_INFO!B152))","v":"Nord Ouest"},{"$f":"IF(INTRO!$E$43=\"Non-endemic\",\" \", IF(COUNTRY_INFO!C152=0,\" \",COUNTRY_INFO!C152))","v":"Njikwa"},{"$f":"IF(INTRO!$E$43=\"Non-endemic\", \"Not required\", COUNTRY_INFO!Z152)","v":0},0,0,0,0,null,null,null,null,null,{"$f":"IF($I152<>\"Yes\",$F152*2,($F152+ROUND(J152*$F152/SUM(COUNTRY_INFO!$E152:$G152),0))*2)","v":0},{"$f":"IF($I152<>\"Yes\",$G152*3,($G152+ROUND(J152*$G152/SUM(COUNTRY_INFO!$E152:$G152),0))*3)","v":0},0,null,0]
[{"$f":"IF(INTRO!$E$43=\"Non-endemic\",\" \", IF(COUNTRY_INFO!A153=0,\" \",COUNTRY_INFO!A153))","v":"Cameroun"},{"$f":"IF(INTRO!$E$43=\"Non-endemic\",\" \", IF(COUNTRY_INFO!B153=0,\" \",COUNTRY_INFO!B153))","v":"Nord Ouest"},{"$f":"IF(INTRO!$E$43=\"Non-endemic\",\" \", IF(COUNTRY_INFO!C153=0,\" \",COUNTRY_INFO!C153))","v":"Nkambe"},{"$f":"IF(INTRO!$E$43=\"Non-endemic\", \"Not required\", COUNTRY_INFO!Z153)","v":0},0,0,0,0,null,null,null,null,null,{"$f":"IF($I153<>\"Yes\",$F153*2,($F153+ROUND(J153*$F153/SUM(COUNTRY_INFO!$E153:$G153),0))*2)","v":0},{"$f":"IF($I153<>\"Yes\",$G153*3,($G153+ROUND(J153*$G153/SUM(COUNTRY_INFO!$E153:$G153),0))*3)","v":0},0,null,0]
[{"$f":"IF(INTRO!$E$43=\"Non-endemic\",\" \", IF(COUNTRY_INFO!A154=0,\" \",COUNTRY_INFO!A154))","v":"Cameroun"},{"$f":"IF(INTRO!$E$43=\"Non-endemic\",\" \", IF(COUNTRY_INFO!B154=0,\" \",COUNTRY_INFO!B154))","v":"Nord Ouest"},{"$f":"IF(INTRO!$E$43=\"Non-endemic\",\" \", IF(COUNTRY_INFO!C154=0,\" \",COUNTRY_INFO!C154))","v":"Nwa"},{"$f":"IF(INTRO!$E$43=\"Non-endemic\", \"Not required\", COUNTRY_INFO!Z154)","v":0},0,0,0,0,null,null,null,null,null,{"$f":"IF($I154<>\"Yes\",$F154*2,($F154+ROUND(J154*$F154/SUM(COUNTRY_INFO!$E154:$G154),0))*2)","v":0},{"$f":"IF($I154<>\"Yes\",$G154*3,($G154+ROUND(J154*$G154/SUM(COUNTRY_INFO!$E154:$G154),0))*3)","v":0},0,null,0]
[{"$f":"IF(INTRO!$E$43=\"Non-endemic\",\" \", IF(COUNTRY_INFO!A155=0,\" \",COUNTRY_INFO!A155))","v":"Cameroun"},{"$f":"IF(INTRO!$E$43=\"Non-endemic\",\" \", IF(COUNTRY_INFO!B155=0,\" \",COUNTRY_INFO!B155))","v":"Nord Ouest"},{"$f":"IF(INTRO!$E$43=\"Non-endemic\",\" \", IF(COUNTRY_INFO!C155=0,\" \",COUNTRY_INFO!C155))","v":"Oku"},{"$f":"IF(INTRO!$E$43=\"Non-endemic\", \"Not required\", COUNTRY_INFO!Z155)","v":0},0,0,0,0,null,null,null,null,null,{"$f":"IF($I155<>\"Yes\",$F155*2,($F155+ROUND(J155*$F155/SUM(COUNTRY_INFO!$E155:$G155),0))*2)","v":0},{"$f":"IF($I155<>\"Yes\",$G155*3,($G155+ROUND(J155*$G155/SUM(COUNTRY_INFO!$E155:$G155),0))*3)","v":0},0,null,0]
[{"$f":"IF(INTRO!$E$43=\"Non-endemic\",\" \", IF(COUNTRY_INFO!A156=0,\" \",COUNTRY_INFO!A156))","v":"Cameroun"},{"$f":"IF(INTRO!$E$43=\"Non-endemic\",\" \", IF(COUNTRY_INFO!B156=0,\" \",COUNTRY_INFO!B156))","v":"Nord Ouest"},{"$f":"IF(INTRO!$E$43=\"Non-endemic\",\" \", IF(COUNTRY_INFO!C156=0,\" \",COUNTRY_INFO!C156))","v":"Santa"},{"$f":"IF(INTRO!$E$43=\"Non-endemic\", \"Not required\", COUNTRY_INFO!Z156)","v":0},0,0,0,0,null,null,null,null,null,{"$f":"IF($I156<>\"Yes\",$F156*2,($F156+ROUND(J156*$F156/SUM(COUNTRY_INFO!$E156:$G156),0))*2)","v":0},{"$f":"IF($I156<>\"Yes\",$G156*3,($G156+ROUND(J156*$G156/SUM(COUNTRY_INFO!$E156:$G156),0))*3)","v":0},0,null,0]
[{"$f":"IF(INTRO!$E$43=\"Non-endemic\",\" \", IF(COUNTRY_INFO!A157=0,\" \",COUNTRY_INFO!A157))","v":"Cameroun"},{"$f":"IF(INTRO!$E$43=\"Non-endemic\",\" \", IF(COUNTRY_INFO!B157=0,\" \",COUNTRY_INFO!B157))","v":"Nord Ouest"},{"$f":"IF(INTRO!$E$43=\"Non-endemic\",\" \", IF(COUNTRY_INFO!C157=0,\" \",COUNTRY_INFO!C157))","v":"Tubah"},{"$f":"IF(INTRO!$E$43=\"Non-endemic\", \"Not required\", COUNTRY_INFO!Z157)","v":0},0,0,0,0,null,null,null,null,null,{"$f":"IF($I157<>\"Yes\",$F157*2,($F157+ROUND(J157*$F157/SUM(COUNTRY_INFO!$E157:$G157),0))*2)","v":0},{"$f":"IF($I157<>\"Yes\",$G157*3,($G157+ROUND(J157*$G157/SUM(COUNTRY_INFO!$E157:$G157),0))*3)","v":0},0,null,0]
[{"$f":"IF(INTRO!$E$43=\"Non-endemic\",\" \", IF(COUNTRY_INFO!A158=0,\" \",COUNTRY_INFO!A158))","v":"Cameroun"},{"$f":"IF(INTRO!$E$43=\"Non-endemic\",\" \", IF(COUNTRY_INFO!B158=0,\" \",COUNTRY_INFO!B158))","v":"Nord Ouest"},{"$f":"IF(INTRO!$E$43=\"Non-endemic\",\" \", IF(COUNTRY_INFO!C158=0,\" \",COUNTRY_INFO!C158))","v":"Wum"},{"$f":"IF(INTRO!$E$43=\"Non-endemic\", \"Not required\", COUNTRY_INFO!Z158)","v":0},0,0,0,0,null,null,null,null,null,{"$f":"IF($I158<>\"Yes\",$F158*2,($F158+ROUND(J158*$F158/SUM(COUNTRY_INFO!$E158:$G158),0))*2)","v":0},{"$f":"IF($I158<>\"Yes\",$G158*3,($G158+ROUND(J158*$G158/SUM(COUNTRY_INFO!$E158:$G158),0))*3)","v":0},0,null,0]
[{"$f":"IF(INTRO!$E$43=\"Non-endemic\",\" \", IF(COUNTRY_INFO!A159=0,\" \",COUNTRY_INFO!A159))","v":"Cameroun"},{"$f":"IF(INTRO!$E$43=\"Non-endemic\",\" \", IF(COUNTRY_INFO!B159=0,\" \",COUNTRY_INFO!B159))","v":"Ouest"},{"$f":"IF(INTRO!$E$43=\"Non-endemic\",\" \", IF(COUNTRY_INFO!C159=0,\" \",COUNTRY_INFO!C159))","v":"Bafang"},{"$f":"IF(INTRO!$E$43=\"Non-endemic\", \"Not required\", COUNTRY_INFO!Z159)","v":0},0,0,0,0,null,null,null,null,null,{"$f":"IF($I159<>\"Yes\",$F159*2,($F159+ROUND(J159*$F159/SUM(COUNTRY_INFO!$E159:$G159),0))*2)","v":0},{"$f":"IF($I159<>\"Yes\",$G159*3,($G159+ROUND(J159*$G159/SUM(COUNTRY_INFO!$E159:$G159),0))*3)","v":0},0,null,0]
[{"$f":"IF(INTRO!$E$43=\"Non-endemic\",\" \", IF(COUNTRY_INFO!A160=0,\" \",COUNTRY_INFO!A160))","v":"Cameroun"},{"$f":"IF(INTRO!$E$43=\"Non-endemic\",\" \", IF(COUNTRY_INFO!B160=0,\" \",COUNTRY_INFO!B160))","v":"Ouest"},{"$f":"IF(INTRO!$E$43=\"Non-endemic\",\" \", IF(COUNTRY_INFO!C160=0,\" \",COUNTRY_INFO!C160))","v":"Baham"},{"$f":"IF(INTRO!$E$43=\"Non-endemic\", \"Not required\", COUNTRY_INFO!Z160)","v":0},0,0,0,0,null,null,null,null,null,{"$f":"IF($I160<>\"Yes\",$F160*2,($F160+ROUND(J160*$F160/SUM(COUNTRY_INFO!$E160:$G160),0))*2)","v":0},{"$f":"IF($I160<>\"Yes\",$G160*3,($G160+ROUND(J160*$G160/SUM(COUNTRY_INFO!$E160:$G160),0))*3)","v":0},0,null,0]
[{"$f":"IF(INTRO!$E$43=\"Non-endemic\",\" \", IF(COUNTRY_INFO!A161=0,\" \",COUNTRY_INFO!A161))","v":"Cameroun"},{"$f":"IF(INTRO!$E$43=\"Non-endemic\",\" \", IF(COUNTRY_INFO!B161=0,\" \",COUNTRY_INFO!B161))","v":"Ouest"},{"$f":"IF(INTRO!$E$43=\"Non-endemic\",\" \", IF(COUNTRY_INFO!C161=0,\" \",COUNTRY_INFO!C161))","v":"Bamendjou"},{"$f":"IF(INTRO!$E$43=\"Non-endemic\", \"Not required\", COUNTRY_INFO!Z161)","v":0},0,0,0,0,null,null,null,null,null,{"$f":"IF($I161<>\"Yes\",$F161*2,($F161+ROUND(J161*$F161/SUM(COUNTRY_INFO!$E161:$G161),0))*2)","v":0},{"$f":"IF($I161<>\"Yes\",$G161*3,($G161+ROUND(J161*$G161/SUM(COUNTRY_INFO!$E161:$G161),0))*3)","v":0},0,null,0]
[{"$f":"IF(INTRO!$E$43=\"Non-endemic\",\" \", IF(COUNTRY_INFO!A162=0,\" \",COUNTRY_INFO!A162))","v":"Cameroun"},{"$f":"IF(INTRO!$E$43=\"Non-endemic\",\" \", IF(COUNTRY_INFO!B162=0,\" \",COUNTRY_INFO!B162))","v":"Ouest"},{"$f":"IF(INTRO!$E$43=\"Non-endemic\",\" \", IF(COUNTRY_INFO!C162=0,\" \",COUNTRY_INFO!C162))","v":"Bandja"},{"$f":"IF(INTRO!$E$43=\"Non-endemic\", \"Not required\", COUNTRY_INFO!Z162)","v":0},0,0,0,0,null,null,null,null,null,{"$f":"IF($I162<>\"Yes\",$F162*2,($F162+ROUND(J162*$F162/SUM(COUNTRY_INFO!$E162:$G162),0))*2)","v":0},{"$f":"IF($I162<>\"Yes\",$G162*3,($G162+ROUND(J162*$G162/SUM(COUNTRY_INFO!$E162:$G162),0))*3)","v":0},0,null,0]
[{"$f":"IF(INTRO!$E$43=\"Non-endemic\",\" \", IF(COUNTRY_INFO!A163=0,\" \",COUNTRY_INFO!A163))","v":"Cameroun"},{"$f":"IF(INTRO!$E$43=\"Non-endemic\",\" \", IF(COUNTRY_INFO!B163=0,\" \",COUNTRY_INFO!B163))","v":"Ouest"},{"$f":"IF(INTRO!$E$43=\"Non-endemic\",\" \", IF(COUNTRY_INFO!C163=0,\" \",COUNTRY_INFO!C163))","v":"Bandjoun"},{"$f":"IF(INTRO!$E$43=\"Non-endemic\", \"Not required\", COUNTRY_INFO!Z163)","v":0},0,0,0,0,null,null,null,null,null,{"$f":"IF($I163<>\"Yes\",$F163*2,($F163+ROUND(J163*$F163/SUM(COUNTRY_INFO!$E163:$G163),0))*2)","v":0},{"$f":"IF($I163<>\"Yes\",$G163*3,($G163+ROUND(J163*$G163/SUM(COUNTRY_INFO!$E163:$G163),0))*3)","v":0},0,null,0]
[{"$f":"IF(INTRO!$E$43=\"Non-endemic\",\" \", IF(COUNTRY_INFO!A164=0,\" \",COUNTRY_INFO!A164))","v":"Cameroun"},{"$f":"IF(INTRO!$E$43=\"Non-endemic\",\" \", IF(COUNTRY_INFO!B164=0,\" \",COUNTRY_INFO!B164))","v":"Ouest"},{"$f":"IF(INTRO!$E$43=\"Non-endemic\",\" \", IF(COUNTRY_INFO!C164=0,\" \",COUNTRY_INFO!C164))","v":"Bangangte"},{"$f":"IF(INTRO!$E$43=\"Non-endemic\", \"Not required\", COUNTRY_INFO!Z164)","v":1},14112,34013,0,48125,null,null,1,"SAC",null,{"$f":"IF($I164<>\"Yes\",$F164*2,($F164+ROUND(J164*$F164/SUM(COUNTRY_INFO!$E164:$G164),0))*2)","v":68026},{"$f":"IF($I164<>\"Yes\",$G164*3,($G164+ROUND(J164*$G164/SUM(COUNTRY_INFO!$E164:$G164),0))*3)","v":0},68026,null,68026]
[{"$f":"IF(INTRO!$E$43=\"Non-endemic\",\" \", IF(COUNTRY_INFO!A165=0,\" \",COUNTRY_INFO!A165))","v":"Cameroun"},{"$f":"IF(INTRO!$E$43=\"Non-endemic\",\" \", IF(COUNTRY_INFO!B165=0,\" \",COUNTRY_INFO!B165))","v":"Ouest"},{"$f":"IF(INTRO!$E$43=\"Non-endemic\",\" \", IF(COUNTRY_INFO!C165=0,\" \",COUNTRY_INFO!C165))","v":"Bangourain"},{"$f":"IF(INTRO!$E$43=\"Non-endemic\", \"Not required\", COUNTRY_INFO!Z165)","v":0},0,0,0,0,null,null,null,null,null,{"$f":"IF($I165<>\"Yes\",$F165*2,($F165+ROUND(J165*$F165/SUM(COUNTRY_INFO!$E165:$G165),0))*2)","v":0},{"$f":"IF($I165<>\"Yes\",$G165*3,($G165+ROUND(J165*$G165/SUM(COUNTRY_INFO!$E165:$G165),0))*3)","v":0},0,null,0]
[{"$f":"IF(INTRO!$E$43=\"Non-endemic\",\" \", IF(COUNTRY_INFO!A166=0,\" \",COUNTRY_INFO!A166))","v":"Cameroun"},{"$f":"IF(INTRO!$E$43=\"Non-endemic\",\" \", IF(COUNTRY_INFO!B166=0,\" \",COUNTRY_INFO!B166))","v":"Ouest"},{"$f":"IF(INTRO!$E$43=\"Non-endemic\",\" \", IF(COUNTRY_INFO!C166=0,\" \",COUNTRY_INFO!C166))","v":"Batcham"},{"$f":"IF(INTRO!$E$43=\"Non-endemic\", \"Not required\", COUNTRY_INFO!Z166)","v":0},0,0,0,0,null,null,null,null,null,{"$f":"IF($I166<>\"Yes\",$F166*2,($F166+ROUND(J166*$F166/SUM(COUNTRY_INFO!$E166:$G166),0))*2)","v":0},{"$f":"IF($I166<>\"Yes\",$G166*3,($G166+ROUND(J166*$G166/SUM(COUNTRY_INFO!$E166:$G166),0))*3)","v":0},0,null,0]
[{"$f":"IF(INTRO!$E$43=\"Non-endemic\",\" \", IF(COUNTRY_INFO!A167=0,\" \",COUNTRY_INFO!A167))","v":"Cameroun"},{"$f":"IF(INTRO!$E$43=\"Non-endemic\",\" \", IF(COUNTRY_INFO!B167=0,\" \",COUNTRY_INFO!B167))","v":"Ouest"},{"$f":"IF(INTRO!$E$43=\"Non-endemic\",\" \", IF(COUNTRY_INFO!C167=0,\" \",COUNTRY_INFO!C167))","v":"Dschang"},{"$f":"IF(INTRO!$E$43=\"Non-endemic\", \"Not required\", COUNTRY_INFO!Z167)","v":0},0,0,0,0,null,null,null,null,null,{"$f":"IF($I167<>\"Yes\",$F167*2,($F167+ROUND(J167*$F167/SUM(COUNTRY_INFO!$E167:$G167),0))*2)","v":0},{"$f":"IF($I167<>\"Yes\",$G167*3,($G167+ROUND(J167*$G167/SUM(COUNTRY_INFO!$E167:$G167),0))*3)","v":0},0,null,0]
[{"$f":"IF(INTRO!$E$43=\"Non-endemic\",\" \", IF(COUNTRY_INFO!A168=0,\" \",COUNTRY_INFO!A168))","v":"Cameroun"},{"$f":"IF(INTRO!$E$43=\"Non-endemic\",\" \", IF(COUNTRY_INFO!B168=0,\" \",COUNTRY_INFO!B168))","v":"Ouest"},{"$f":"IF(INTRO!$E$43=\"Non-endemic\",\" \", IF(COUNTRY_INFO!C168=0,\" \",COUNTRY_INFO!C168))","v":"Foumban"},{"$f":"IF(INTRO!$E$43=\"Non-endemic\", \"Not required\", COUNTRY_INFO!Z168)","v":1},0,0,0,0,null,null,null,null,null,{"$f":"IF($I168<>\"Yes\",$F168*2,($F168+ROUND(J168*$F168/SUM(COUNTRY_INFO!$E168:$G168),0))*2)","v":0},{"$f":"IF($I168<>\"Yes\",$G168*3,($G168+ROUND(J168*$G168/SUM(COUNTRY_INFO!$E168:$G168),0))*3)","v":0},0,null,0]
[{"$f":"IF(INTRO!$E$43=\"Non-endemic\",\" \", IF(COUNTRY_INFO!A169=0,\" \",COUNTRY_INFO!A169))","v":"Cameroun"},{"$f":"IF(INTRO!$E$43=\"Non-endemic\",\" \", IF(COUNTRY_INFO!B169=0,\" \",COUNTRY_INFO!B169))","v":"Ouest"},{"$f":"IF(INTRO!$E$43=\"Non-endemic\",\" \", IF(COUNTRY_INFO!C169=0,\" \",COUNTRY_INFO!C169))","v":"Foumbot"},{"$f":"IF(INTRO!$E$43=\"Non-endemic\", \"Not required\", COUNTRY_INFO!Z169)","v":1},18944,38629,0,57573,null,null,1,"SAC",null,{"$f":"IF($I169<>\"Yes\",$F169*2,($F169+ROUND(J169*$F169/SUM(COUNTRY_INFO!$E169:$G169),0))*2)","v":77258},{"$f":"IF($I169<>\"Yes\",$G169*3,($G169+ROUND(J169*$G169/SUM(COUNTRY_INFO!$E169:$G169),0))*3)","v":0},77258,null,77258]
[{"$f":"IF(INTRO!$E$43=\"Non-endemic\",\" \", IF(COUNTRY_INFO!A170=0,\" \",COUNTRY_INFO!A170))","v":"Cameroun"},{"$f":"IF(INTRO!$E$43=\"Non-endemic\",\" \", IF(COUNTRY_INFO!B170=0,\" \",COUNTRY_INFO!B170))","v":"Ouest"},{"$f":"IF(INTRO!$E$43=\"Non-endemic\",\" \", IF(COUNTRY_INFO!C170=0,\" \",COUNTRY_INFO!C170))","v":"Galim"},{"$f":"IF(INTRO!$E$43=\"Non-endemic\", \"Not required\", COUNTRY_INFO!Z170)","v":0},0,0,0,0,null,null,null,null,null,{"$f":"IF($I170<>\"Yes\",$F170*2,($F170+ROUND(J170*$F170/SUM(COUNTRY_INFO!$E170:$G170),0))*2)","v":0},{"$f":"IF($I170<>\"Yes\",$G170*3,($G170+ROUND(J170*$G170/SUM(COUNTRY_INFO!$E170:$G170),0))*3)","v":0},0,null,0]
[{"$f":"IF(INTRO!$E$43=\"Non-endemic\",\" \", IF(COUNTRY_INFO!A171=0,\" \",COUNTRY_INFO!A171))","v":"Cameroun"},{"$f":"IF(INTRO!$E$43=\"Non-endemic\",\" \", IF(COUNTRY_INFO!B171=0,\" \",COUNTRY_INFO!B171))","v":"Ouest"},{"$f":"IF(INTRO!$E$43=\"Non-endemic\",\" \", IF(COUNTRY_INFO!C171=0,\" \",COUNTRY_INFO!C171))","v":"Kekem"},{"$f":"IF(INTRO!$E$43=\"Non-endemic\", \"Not required\", COUNTRY_INFO!Z171)","v":0},0,0,0,0,null,null,null,null,null,{"$f":"IF($I171<>\"Yes\",$F171*2,($F171+ROUND(J171*$F171/SUM(COUNTRY_INFO!$E171:$G171),0))*2)","v":0},{"$f":"IF($I171<>\"Yes\",$G171*3,($G171+ROUND(J171*$G171/SUM(COUNTRY_INFO!$E171:$G171),0))*3)","v":0},0,null,0]
[{"$f":"IF(INTRO!$E$43=\"Non-endemic\",\" \", IF(COUNTRY_INFO!A172=0,\" \",COUNTRY_INFO!A172))","v":"Cameroun"},{"$f":"IF(INTRO!$E$43=\"Non-endemic\",\" \", IF(COUNTRY_INFO!B172=0,\" \",COUNTRY_INFO!B172))","v":"Ouest"},{"$f":"IF(INTRO!$E$43=\"Non-endemic\",\" \", IF(COUNTRY_INFO!C172=0,\" \",COUNTRY_INFO!C172))","v":"Kouoptamo"},{"$f":"IF(INTRO!$E$43=\"Non-endemic\", \"Not required\", COUNTRY_INFO!Z172)","v":1},10068,20073,0,30141,null,null,1,"SAC",null,{"$f":"IF($I172<>\"Yes\",$F172*2,($F172+ROUND(J172*$F172/SUM(COUNTRY_INFO!$E172:$G172),0))*2)","v":40146},{"$f":"IF($I172<>\"Yes\",$G172*3,($G172+ROUND(J172*$G172/SUM(COUNTRY_INFO!$E172:$G172),0))*3)","v":0},40146,null,40146]
[{"$f":"IF(INTRO!$E$43=\"Non-endemic\",\" \", IF(COUNTRY_INFO!A173=0,\" \",COUNTRY_INFO!A173))","v":"Cameroun"},{"$f":"IF(INTRO!$E$43=\"Non-endemic\",\" \", IF(COUNTRY_INFO!B173=0,\" \",COUNTRY_INFO!B173))","v":"Ouest"},{"$f":"IF(INTRO!$E$43=\"Non-endemic\",\" \", IF(COUNTRY_INFO!C173=0,\" \",COUNTRY_INFO!C173))","v":"Malantouen"},{"$f":"IF(INTRO!$E$43=\"Non-endemic\", \"Not required\", COUNTRY_INFO!Z173)","v":1},23601,42813,93185,159599,null,null,2,"SAC",null,{"$f":"IF($I173<>\"Yes\",$F173*2,($F173+ROUND(J173*$F173/SUM(COUNTRY_INFO!$E173:$G173),0))*2)","v":85626},{"$f":"IF($I173<>\"Yes\",$G173*3,($G173+ROUND(J173*$G173/SUM(COUNTRY_INFO!$E173:$G173),0))*3)","v":279555},365181,null,365181]
[{"$f":"IF(INTRO!$E$43=\"Non-endemic\",\" \", IF(COUNTRY_INFO!A174=0,\" \",COUNTRY_INFO!A174))","v":"Cameroun"},{"$f":"IF(INTRO!$E$43=\"Non-endemic\",\" \", IF(COUNTRY_INFO!B174=0,\" \",COUNTRY_INFO!B174))","v":"Ouest"},{"$f":"IF(INTRO!$E$43=\"Non-endemic\",\" \", IF(COUNTRY_INFO!C174=0,\" \",COUNTRY_INFO!C174))","v":"Massangam"},{"$f":"IF(INTRO!$E$43=\"Non-endemic\", \"Not required\", COUNTRY_INFO!Z174)","v":0},0,0,0,0,null,null,null,null,null,{"$f":"IF($I174<>\"Yes\",$F174*2,($F174+ROUND(J174*$F174/SUM(COUNTRY_INFO!$E174:$G174),0))*2)","v":0},{"$f":"IF($I174<>\"Yes\",$G174*3,($G174+ROUND(J174*$G174/SUM(COUNTRY_INFO!$E174:$G174),0))*3)","v":0},0,null,0]
[{"$f":"IF(INTRO!$E$43=\"Non-endemic\",\" \", IF(COUNTRY_INFO!A175=0,\" \",COUNTRY_INFO!A175))","v":"Cameroun"},{"$f":"IF(INTRO!$E$43=\"Non-endemic\",\" \", IF(COUNTRY_INFO!B175=0,\" \",COUNTRY_INFO!B175))","v":"Ouest"},{"$f":"IF(INTRO!$E$43=\"Non-endemic\",\" \", IF(COUNTRY_INFO!C175=0,\" \",COUNTRY_INFO!C175))","v":"Mbouda"},{"$f":"IF(INTRO!$E$43=\"Non-endemic\", \"Not required\", COUNTRY_INFO!Z175)","v":0},0,0,0,0,null,null,null,null,null,{"$f":"IF($I175<>\"Yes\",$F175*2,($F175+ROUND(J175*$F175/SUM(COUNTRY_INFO!$E175:$G175),0))*2)","v":0},{"$f":"IF($I175<>\"Yes\",$G175*3,($G175+ROUND(J175*$G175/SUM(COUNTRY_INFO!$E175:$G175),0))*3)","v":0},0,null,0]
[{"$f":"IF(INTRO!$E$43=\"Non-endemic\",\" \", IF(COUNTRY_INFO!A176=0,\" \",COUNTRY_INFO!A176))","v":"Cameroun"},{"$f":"IF(INTRO!$E$43=\"Non-endemic\",\" \", IF(COUNTRY_INFO!B176=0,\" \",COUNTRY_INFO!B176))","v":"Ouest"},{"$f":"IF(INTRO!$E$43=\"Non-endemic\",\" \", IF(COUNTRY_INFO!C176=0,\" \",COUNTRY_INFO!C176))","v":"Mifi"},{"$f":"IF(INTRO!$E$43=\"Non-endemic\", \"Not required\", COUNTRY_INFO!Z176)","v":0},0,0,0,0,null,null,null,null,null,{"$f":"IF($I176<>\"Yes\",$F176*2,($F176+ROUND(J176*$F176/SUM(COUNTRY_INFO!$E176:$G176),0))*2)","v":0},{"$f":"IF($I176<>\"Yes\",$G176*3,($G176+ROUND(J176*$G176/SUM(COUNTRY_INFO!$E176:$G176),0))*3)","v":0},0,null,0]
[{"$f":"IF(INTRO!$E$43=\"Non-endemic\",\" \", IF(COUNTRY_INFO!A177=0,\" \",COUNTRY_INFO!A177))","v":"Cameroun"},{"$f":"IF(INTRO!$E$43=\"Non-endemic\",\" \", IF(COUNTRY_INFO!B177=0,\" \",COUNTRY_INFO!B177))","v":"Ouest"},{"$f":"IF(INTRO!$E$43=\"Non-endemic\",\" \", IF(COUNTRY_INFO!C177=0,\" \",COUNTRY_INFO!C177))","v":"Penka Michel"},{"$f":"IF(INTRO!$E$43=\"Non-endemic\", \"Not required\", COUNTRY_INFO!Z177)","v":0},0,0,0,0,null,null,null,null,null,{"$f":"IF($I177<>\"Yes\",$F177*2,($F177+ROUND(J177*$F177/SUM(COUNTRY_INFO!$E177:$G177),0))*2)","v":0},{"$f":"IF($I177<>\"Yes\",$G177*3,($G177+ROUND(J177*$G177/SUM(COUNTRY_INFO!$E177:$G177),0))*3)","v":0},0,null,0]
[{"$f":"IF(INTRO!$E$43=\"Non-endemic\",\" \", IF(COUNTRY_INFO!A178=0,\" \",COUNTRY_INFO!A178))","v":"Cameroun"},{"$f":"IF(INTRO!$E$43=\"Non-endemic\",\" \", IF(COUNTRY_INFO!B178=0,\" \",COUNTRY_INFO!B178))","v":"Ouest"},{"$f":"IF(INTRO!$E$43=\"Non-endemic\",\" \", IF(COUNTRY_INFO!C178=0,\" \",COUNTRY_INFO!C178))","v":"Santchou"},{"$f":"IF(INTRO!$E$43=\"Non-endemic\", \"Not required\", COUNTRY_INFO!Z178)","v":0},0,0,0,0,null,null,null,null,null,{"$f":"IF($I178<>\"Yes\",$F178*2,($F178+ROUND(J178*$F178/SUM(COUNTRY_INFO!$E178:$G178),0))*2)","v":0},{"$f":"IF($I178<>\"Yes\",$G178*3,($G178+ROUND(J178*$G178/SUM(COUNTRY_INFO!$E178:$G178),0))*3)","v":0},0,null,0]
[{"$f":"IF(INTRO!$E$43=\"Non-endemic\",\" \", IF(COUNTRY_INFO!A179=0,\" \",COUNTRY_INFO!A179))","v":"Cameroun"},{"$f":"IF(INTRO!$E$43=\"Non-endemic\",\" \", IF(COUNTRY_INFO!B179=0,\" \",COUNTRY_INFO!B179))","v":"Sud"},{"$f":"IF(INTRO!$E$43=\"Non-endemic\",\" \", IF(COUNTRY_INFO!C179=0,\" \",COUNTRY_INFO!C179))","v":"Ambam"},{"$f":"IF(INTRO!$E$43=\"Non-endemic\", \"Not required\", COUNTRY_INFO!Z179)","v":0},0,0,0,0,null,null,null,null,null,{"$f":"IF($I179<>\"Yes\",$F179*2,($F179+ROUND(J179*$F179/SUM(COUNTRY_INFO!$E179:$G179),0))*2)","v":0},{"$f":"IF($I179<>\"Yes\",$G179*3,($G179+ROUND(J179*$G179/SUM(COUNTRY_INFO!$E179:$G179),0))*3)","v":0},0,null,0]
[{"$f":"IF(INTRO!$E$43=\"Non-endemic\",\" \", IF(COUNTRY_INFO!A180=0,\" \",COUNTRY_INFO!A180))","v":"Cameroun"},{"$f":"IF(INTRO!$E$43=\"Non-endemic\",\" \", IF(COUNTRY_INFO!B180=0,\" \",COUNTRY_INFO!B180))","v":"Sud"},{"$f":"IF(INTRO!$E$43=\"Non-endemic\",\" \", IF(COUNTRY_INFO!C180=0,\" \",COUNTRY_INFO!C180))","v":"Djoum"},{"$f":"IF(INTRO!$E$43=\"Non-endemic\", \"Not required\", COUNTRY_INFO!Z180)","v":0},0,0,0,0,null,null,null,null,null,{"$f":"IF($I180<>\"Yes\",$F180*2,($F180+ROUND(J180*$F180/SUM(COUNTRY_INFO!$E180:$G180),0))*2)","v":0},{"$f":"IF($I180<>\"Yes\",$G180*3,($G180+ROUND(J180*$G180/SUM(COUNTRY_INFO!$E180:$G180),0))*3)","v":0},0,null,0]
[{"$f":"IF(INTRO!$E$43=\"Non-endemic\",\" \", IF(COUNTRY_INFO!A181=0,\" \",COUNTRY_INFO!A181))","v":"Cameroun"},{"$f":"IF(INTRO!$E$43=\"Non-endemic\",\" \", IF(COUNTRY_INFO!B181=0,\" \",COUNTRY_INFO!B181))","v":"Sud"},{"$f":"IF(INTRO!$E$43=\"Non-endemic\",\" \", IF(COUNTRY_INFO!C181=0,\" \",COUNTRY_INFO!C181))","v":"Ebolowa"},{"$f":"IF(INTRO!$E$43=\"Non-endemic\", \"Not required\", COUNTRY_INFO!Z181)","v":0},0,0,0,0,null,null,null,null,null,{"$f":"IF($I181<>\"Yes\",$F181*2,($F181+ROUND(J181*$F181/SUM(COUNTRY_INFO!$E181:$G181),0))*2)","v":0},{"$f":"IF($I181<>\"Yes\",$G181*3,($G181+ROUND(J181*$G181/SUM(COUNTRY_INFO!$E181:$G181),0))*3)","v":0},0,null,0]
[{"$f":"IF(INTRO!$E$43=\"Non-endemic\",\" \", IF(COUNTRY_INFO!A182=0,\" \",COUNTRY_INFO!A182))","v":"Cameroun"},{"$f":"IF(INTRO!$E$43=\"Non-endemic\",\" \", IF(COUNTRY_INFO!B182=0,\" \",COUNTRY_INFO!B182))","v":"Sud"},{"$f":"IF(INTRO!$E$43=\"Non-endemic\",\" \", IF(COUNTRY_INFO!C182=0,\" \",COUNTRY_INFO!C182))","v":"Kribi"},{"$f":"IF(INTRO!$E$43=\"Non-endemic\", \"Not required\", COUNTRY_INFO!Z182)","v":0},0,0,0,0,null,null,null,null,null,{"$f":"IF($I182<>\"Yes\",$F182*2,($F182+ROUND(J182*$F182/SUM(COUNTRY_INFO!$E182:$G182),0))*2)","v":0},{"$f":"IF($I182<>\"Yes\",$G182*3,($G182+ROUND(J182*$G182/SUM(COUNTRY_INFO!$E182:$G182),0))*3)","v":0},0,null,0]
[{"$f":"IF(INTRO!$E$43=\"Non-endemic\",\" \", IF(COUNTRY_INFO!A183=0,\" \",COUNTRY_INFO!A183))","v":"Cameroun"},{"$f":"IF(INTRO!$E$43=\"Non-endemic\",\" \", IF(COUNTRY_INFO!B183=0,\" \",COUNTRY_INFO!B183))","v":"Sud"},{"$f":"IF(INTRO!$E$43=\"Non-endemic\",\" \", IF(COUNTRY_INFO!C183=0,\" \",COUNTRY_INFO!C183))","v":"Kye ossi "},{"$f":"IF(INTRO!$E$43=\"Non-endemic\", \"Not required\", COUNTRY_INFO!Z183)","v":0},0,0,0,0,null,null,null,null,null,{"$f":"IF($I183<>\"Yes\",$F183*2,($F183+ROUND(J183*$F183/SUM(COUNTRY_INFO!$E183:$G183),0))*2)","v":0},{"$f":"IF($I183<>\"Yes\",$G183*3,($G183+ROUND(J183*$G183/SUM(COUNTRY_INFO!$E183:$G183),0))*3)","v":0},0,null,0]
[{"$f":"IF(INTRO!$E$43=\"Non-endemic\",\" \", IF(COUNTRY_INFO!A184=0,\" \",COUNTRY_INFO!A184))","v":"Cameroun"},{"$f":"IF(INTRO!$E$43=\"Non-endemic\",\" \", IF(COUNTRY_INFO!B184=0,\" \",COUNTRY_INFO!B184))","v":"Sud"},{"$f":"IF(INTRO!$E$43=\"Non-endemic\",\" \", IF(COUNTRY_INFO!C184=0,\" \",COUNTRY_INFO!C184))","v":"Lolodorf"},{"$f":"IF(INTRO!$E$43=\"Non-endemic\", \"Not required\", COUNTRY_INFO!Z184)","v":0},0,0,0,0,null,null,null,null,null,{"$f":"IF($I184<>\"Yes\",$F184*2,($F184+ROUND(J184*$F184/SUM(COUNTRY_INFO!$E184:$G184),0))*2)","v":0},{"$f":"IF($I184<>\"Yes\",$G184*3,($G184+ROUND(J184*$G184/SUM(COUNTRY_INFO!$E184:$G184),0))*3)","v":0},0,null,0]
[{"$f":"IF(INTRO!$E$43=\"Non-endemic\",\" \", IF(COUNTRY_INFO!A185=0,\" \",COUNTRY_INFO!A185))","v":"Cameroun"},{"$f":"IF(INTRO!$E$43=\"Non-endemic\",\" \", IF(COUNTRY_INFO!B185=0,\" \",COUNTRY_INFO!B185))","v":"Sud"},{"$f":"IF(INTRO!$E$43=\"Non-endemic\",\" \", IF(COUNTRY_INFO!C185=0,\" \",COUNTRY_INFO!C185))","v":"Meyomessala"},{"$f":"IF(INTRO!$E$43=\"Non-endemic\", \"Not required\", COUNTRY_INFO!Z185)","v":0},0,0,0,0,null,null,null,null,null,{"$f":"IF($I185<>\"Yes\",$F185*2,($F185+ROUND(J185*$F185/SUM(COUNTRY_INFO!$E185:$G185),0))*2)","v":0},{"$f":"IF($I185<>\"Yes\",$G185*3,($G185+ROUND(J185*$G185/SUM(COUNTRY_INFO!$E185:$G185),0))*3)","v":0},0,null,0]
[{"$f":"IF(INTRO!$E$43=\"Non-endemic\",\" \", IF(COUNTRY_INFO!A186=0,\" \",COUNTRY_INFO!A186))","v":"Cameroun"},{"$f":"IF(INTRO!$E$43=\"Non-endemic\",\" \", IF(COUNTRY_INFO!B186=0,\" \",COUNTRY_INFO!B186))","v":"Sud"},{"$f":"IF(INTRO!$E$43=\"Non-endemic\",\" \", IF(COUNTRY_INFO!C186=0,\" \",COUNTRY_INFO!C186))","v":"Mvangan"},{"$f":"IF(INTRO!$E$43=\"Non-endemic\", \"Not required\", COUNTRY_INFO!Z186)","v":0},0,0,0,0,null,null,null,null,null,{"$f":"IF($I186<>\"Yes\",$F186*2,($F186+ROUND(J186*$F186/SUM(COUNTRY_INFO!$E186:$G186),0))*2)","v":0},{"$f":"IF($I186<>\"Yes\",$G186*3,($G186+ROUND(J186*$G186/SUM(COUNTRY_INFO!$E186:$G186),0))*3)","v":0},0,null,0]
[{"$f":"IF(INTRO!$E$43=\"Non-endemic\",\" \", IF(COUNTRY_INFO!A187=0,\" \",COUNTRY_INFO!A187))","v":"Cameroun"},{"$f":"IF(INTRO!$E$43=\"Non-endemic\",\" \", IF(COUNTRY_INFO!B187=0,\" \",COUNTRY_INFO!B187))","v":"Sud"},{"$f":"IF(INTRO!$E$43=\"Non-endemic\",\" \", IF(COUNTRY_INFO!C187=0,\" \",COUNTRY_INFO!C187))","v":"Niete "},{"$f":"IF(INTRO!$E$43=\"Non-endemic\", \"Not required\", COUNTRY_INFO!Z187)","v":0},0,0,0,0,null,null,null,null,null,{"$f":"IF($I187<>\"Yes\",$F187*2,($F187+ROUND(J187*$F187/SUM(COUNTRY_INFO!$E187:$G187),0))*2)","v":0},{"$f":"IF($I187<>\"Yes\",$G187*3,($G187+ROUND(J187*$G187/SUM(COUNTRY_INFO!$E187:$G187),0))*3)","v":0},0,null,0]
[{"$f":"IF(INTRO!$E$43=\"Non-endemic\",\" \", IF(COUNTRY_INFO!A188=0,\" \",COUNTRY_INFO!A188))","v":"Cameroun"},{"$f":"IF(INTRO!$E$43=\"Non-endemic\",\" \", IF(COUNTRY_INFO!B188=0,\" \",COUNTRY_INFO!B188))","v":"Sud"},{"$f":"IF(INTRO!$E$43=\"Non-endemic\",\" \", IF(COUNTRY_INFO!C188=0,\" \",COUNTRY_INFO!C188))","v":"Olamze"},{"$f":"IF(INTRO!$E$43=\"Non-endemic\", \"Not required\", COUNTRY_INFO!Z188)","v":0},0,0,0,0,null,null,null,null,null,{"$f":"IF($I188<>\"Yes\",$F188*2,($F188+ROUND(J188*$F188/SUM(COUNTRY_INFO!$E188:$G188),0))*2)","v":0},{"$f":"IF($I188<>\"Yes\",$G188*3,($G188+ROUND(J188*$G188/SUM(COUNTRY_INFO!$E188:$G188),0))*3)","v":0},0,null,0]
[{"$f":"IF(INTRO!$E$43=\"Non-endemic\",\" \", IF(COUNTRY_INFO!A189=0,\" \",COUNTRY_INFO!A189))","v":"Cameroun"},{"$f":"IF(INTRO!$E$43=\"Non-endemic\",\" \", IF(COUNTRY_INFO!B189=0,\" \",COUNTRY_INFO!B189))","v":"Sud"},{"$f":"IF(INTRO!$E$43=\"Non-endemic\",\" \", IF(COUNTRY_INFO!C189=0,\" \",COUNTRY_INFO!C189))","v":"Sangmelima"},{"$f":"IF(INTRO!$E$43=\"Non-endemic\", \"Not required\", COUNTRY_INFO!Z189)","v":0},0,0,0,0,null,null,null,null,null,{"$f":"IF($I189<>\"Yes\",$F189*2,($F189+ROUND(J189*$F189/SUM(COUNTRY_INFO!$E189:$G189),0))*2)","v":0},{"$f":"IF($I189<>\"Yes\",$G189*3,($G189+ROUND(J189*$G189/SUM(COUNTRY_INFO!$E189:$G189),0))*3)","v":0},0,null,0]
[{"$f":"IF(INTRO!$E$43=\"Non-endemic\",\" \", IF(COUNTRY_INFO!A190=0,\" \",COUNTRY_INFO!A190))","v":"Cameroun"},{"$f":"IF(INTRO!$E$43=\"Non-endemic\",\" \", IF(COUNTRY_INFO!B190=0,\" \",COUNTRY_INFO!B190))","v":"Sud"},{"$f":"IF(INTRO!$E$43=\"Non-endemic\",\" \", IF(COUNTRY_INFO!C190=0,\" \",COUNTRY_INFO!C190))","v":"Zoetele"},{"$f":"IF(INTRO!$E$43=\"Non-endemic\", \"Not required\", COUNTRY_INFO!Z190)","v":0},0,0,0,0,null,null,null,null,null,{"$f":"IF($I190<>\"Yes\",$F190*2,($F190+ROUND(J190*$F190/SUM(COUNTRY_INFO!$E190:$G190),0))*2)","v":0},{"$f":"IF($I190<>\"Yes\",$G190*3,($G190+ROUND(J190*$G190/SUM(COUNTRY_INFO!$E190:$G190),0))*3)","v":0},0,null,0]
[{"$f":"IF(INTRO!$E$43=\"Non-endemic\",\" \", IF(COUNTRY_INFO!A191=0,\" \",COUNTRY_INFO!A191))","v":"Cameroun"},{"$f":"IF(INTRO!$E$43=\"Non-endemic\",\" \", IF(COUNTRY_INFO!B191=0,\" \",COUNTRY_INFO!B191))","v":"Sud Ouest"},{"$f":"IF(INTRO!$E$43=\"Non-endemic\",\" \", IF(COUNTRY_INFO!C191=0,\" \",COUNTRY_INFO!C191))","v":"Akwaya"},{"$f":"IF(INTRO!$E$43=\"Non-endemic\", \"Not required\", COUNTRY_INFO!Z191)","v":0},0,0,0,0,null,null,null,null,null,{"$f":"IF($I191<>\"Yes\",$F191*2,($F191+ROUND(J191*$F191/SUM(COUNTRY_INFO!$E191:$G191),0))*2)","v":0},{"$f":"IF($I191<>\"Yes\",$G191*3,($G191+ROUND(J191*$G191/SUM(COUNTRY_INFO!$E191:$G191),0))*3)","v":0},0,null,0]
[{"$f":"IF(INTRO!$E$43=\"Non-endemic\",\" \", IF(COUNTRY_INFO!A192=0,\" \",COUNTRY_INFO!A192))","v":"Cameroun"},{"$f":"IF(INTRO!$E$43=\"Non-endemic\",\" \", IF(COUNTRY_INFO!B192=0,\" \",COUNTRY_INFO!B192))","v":"Sud Ouest"},{"$f":"IF(INTRO!$E$43=\"Non-endemic\",\" \", IF(COUNTRY_INFO!C192=0,\" \",COUNTRY_INFO!C192))","v":"Bakassi"},{"$f":"IF(INTRO!$E$43=\"Non-endemic\", \"Not required\", COUNTRY_INFO!Z192)","v":0},0,0,0,0,null,null,null,null,null,{"$f":"IF($I192<>\"Yes\",$F192*2,($F192+ROUND(J192*$F192/SUM(COUNTRY_INFO!$E192:$G192),0))*2)","v":0},{"$f":"IF($I192<>\"Yes\",$G192*3,($G192+ROUND(J192*$G192/SUM(COUNTRY_INFO!$E192:$G192),0))*3)","v":0},0,null,0]
[{"$f":"IF(INTRO!$E$43=\"Non-endemic\",\" \", IF(COUNTRY_INFO!A193=0,\" \",COUNTRY_INFO!A193))","v":"Cameroun"},{"$f":"IF(INTRO!$E$43=\"Non-endemic\",\" \", IF(COUNTRY_INFO!B193=0,\" \",COUNTRY_INFO!B193))","v":"Sud Ouest"},{"$f":"IF(INTRO!$E$43=\"Non-endemic\",\" \", IF(COUNTRY_INFO!C193=0,\" \",COUNTRY_INFO!C193))","v":"Bangem"},{"$f":"IF(INTRO!$E$43=\"Non-endemic\", \"Not required\", COUNTRY_INFO!Z193)","v":0},0,0,0,0,null,null,null,null,null,{"$f":"IF($I193<>\"Yes\",$F193*2,($F193+ROUND(J193*$F193/SUM(COUNTRY_INFO!$E193:$G193),0))*2)","v":0},{"$f":"IF($I193<>\"Yes\",$G193*3,($G193+ROUND(J193*$G193/SUM(COUNTRY_INFO!$E193:$G193),0))*3)","v":0},0,null,0]
[{"$f":"IF(INTRO!$E$43=\"Non-endemic\",\" \", IF(COUNTRY_INFO!A194=0,\" \",COUNTRY_INFO!A194))","v":"Cameroun"},{"$f":"IF(INTRO!$E$43=\"Non-endemic\",\" \", IF(COUNTRY_INFO!B194=0,\" \",COUNTRY_INFO!B194))","v":"Sud Ouest"},{"$f":"IF(INTRO!$E$43=\"Non-endemic\",\" \", IF(COUNTRY_INFO!C194=0,\" \",COUNTRY_INFO!C194))","v":"Buea"},{"$f":"IF(INTRO!$E$43=\"Non-endemic\", \"Not required\", COUNTRY_INFO!Z194)","v":1},15058,51662,0,66720,null,null,1,"SAC",null,{"$f":"IF($I194<>\"Yes\",$F194*2,($F194+ROUND(J194*$F194/SUM(COUNTRY_INFO!$E194:$G194),0))*2)","v":103324},{"$f":"IF($I194<>\"Yes\",$G194*3,($G194+ROUND(J194*$G194/SUM(COUNTRY_INFO!$E194:$G194),0))*3)","v":0},103324,null,103324]
[{"$f":"IF(INTRO!$E$43=\"Non-endemic\",\" \", IF(COUNTRY_INFO!A195=0,\" \",COUNTRY_INFO!A195))","v":"Cameroun"},{"$f":"IF(INTRO!$E$43=\"Non-endemic\",\" \", IF(COUNTRY_INFO!B195=0,\" \",COUNTRY_INFO!B195))","v":"Sud Ouest"},{"$f":"IF(INTRO!$E$43=\"Non-endemic\",\" \", IF(COUNTRY_INFO!C195=0,\" \",COUNTRY_INFO!C195))","v":"Ekondo Titi"},{"$f":"IF(INTRO!$E$43=\"Non-endemic\", \"Not required\", COUNTRY_INFO!Z195)","v":1},6121,16745,0,22866,null,null,1,"SAC",null,{"$f":"IF($I195<>\"Yes\",$F195*2,($F195+ROUND(J195*$F195/SUM(COUNTRY_INFO!$E195:$G195),0))*2)","v":33490},{"$f":"IF($I195<>\"Yes\",$G195*3,($G195+ROUND(J195*$G195/SUM(COUNTRY_INFO!$E195:$G195),0))*3)","v":0},33490,null,33490]
[{"$f":"IF(INTRO!$E$43=\"Non-endemic\",\" \", IF(COUNTRY_INFO!A196=0,\" \",COUNTRY_INFO!A196))","v":"Cameroun"},{"$f":"IF(INTRO!$E$43=\"Non-endemic\",\" \", IF(COUNTRY_INFO!B196=0,\" \",COUNTRY_INFO!B196))","v":"Sud Ouest"},{"$f":"IF(INTRO!$E$43=\"Non-endemic\",\" \", IF(COUNTRY_INFO!C196=0,\" \",COUNTRY_INFO!C196))","v":"Eyumodjock"},{"$f":"IF(INTRO!$E$43=\"Non-endemic\", \"Not required\", COUNTRY_INFO!Z196)","v":0},0,0,0,0,null,null,null,null,null,{"$f":"IF($I196<>\"Yes\",$F196*2,($F196+ROUND(J196*$F196/SUM(COUNTRY_INFO!$E196:$G196),0))*2)","v":0},{"$f":"IF($I196<>\"Yes\",$G196*3,($G196+ROUND(J196*$G196/SUM(COUNTRY_INFO!$E196:$G196),0))*3)","v":0},0,null,0]
[{"$f":"IF(INTRO!$E$43=\"Non-endemic\",\" \", IF(COUNTRY_INFO!A197=0,\" \",COUNTRY_INFO!A197))","v":"Cameroun"},{"$f":"IF(INTRO!$E$43=\"Non-endemic\",\" \", IF(COUNTRY_INFO!B197=0,\" \",COUNTRY_INFO!B197))","v":"Sud Ouest"},{"$f":"IF(INTRO!$E$43=\"Non-endemic\",\" \", IF(COUNTRY_INFO!C197=0,\" \",COUNTRY_INFO!C197))","v":"Fontem"},{"$f":"IF(INTRO!$E$43=\"Non-endemic\", \"Not required\", COUNTRY_INFO!Z197)","v":0},0,0,0,0,null,null,null,null,null,{"$f":"IF($I197<>\"Yes\",$F197*2,($F197+ROUND(J197*$F197/SUM(COUNTRY_INFO!$E197:$G197),0))*2)","v":0},{"$f":"IF($I197<>\"Yes\",$G197*3,($G197+ROUND(J197*$G197/SUM(COUNTRY_INFO!$E197:$G197),0))*3)","v":0},0,null,0]
[{"$f":"IF(INTRO!$E$43=\"Non-endemic\",\" \", IF(COUNTRY_INFO!A198=0,\" \",COUNTRY_INFO!A198))","v":"Cameroun"},{"$f":"IF(INTRO!$E$43=\"Non-endemic\",\" \", IF(COUNTRY_INFO!B198=0,\" \",COUNTRY_INFO!B198))","v":"Sud Ouest"},{"$f":"IF(INTRO!$E$43=\"Non-endemic\",\" \", IF(COUNTRY_INFO!C198=0,\" \",COUNTRY_INFO!C198))","v":"Konye"},{"$f":"IF(INTRO!$E$43=\"Non-endemic\", \"Not required\", COUNTRY_INFO!Z198)","v":0},0,0,0,0,null,null,null,null,null,{"$f":"IF($I198<>\"Yes\",$F198*2,($F198+ROUND(J198*$F198/SUM(COUNTRY_INFO!$E198:$G198),0))*2)","v":0},{"$f":"IF($I198<>\"Yes\",$G198*3,($G198+ROUND(J198*$G198/SUM(COUNTRY_INFO!$E198:$G198),0))*3)","v":0},0,null,0]
[{"$f":"IF(INTRO!$E$43=\"Non-endemic\",\" \", IF(COUNTRY_INFO!A199=0,\" \",COUNTRY_INFO!A199))","v":"Cameroun"},{"$f":"IF(INTRO!$E$43=\"Non-endemic\",\" \", IF(COUNTRY_INFO!B199=0,\" \",COUNTRY_INFO!B199))","v":"Sud Ouest"},{"$f":"IF(INTRO!$E$43=\"Non-endemic\",\" \", IF(COUNTRY_INFO!C199=0,\" \",COUNTRY_INFO!C199))","v":"Kumba-North"},{"$f":"IF(INTRO!$E$43=\"Non-endemic\", \"Not required\", COUNTRY_INFO!Z199)","v":1},15348,37680,0,53028,null,null,1,"SAC",null,{"$f":"IF($I199<>\"Yes\",$F199*2,($F199+ROUND(J199*$F199/SUM(COUNTRY_INFO!$E199:$G199),0))*2)","v":75360},{"$f":"IF($I199<>\"Yes\",$G199*3,($G199+ROUND(J199*$G199/SUM(COUNTRY_INFO!$E199:$G199),0))*3)","v":0},75360,null,75360]
[{"$f":"IF(INTRO!$E$43=\"Non-endemic\",\" \", IF(COUNTRY_INFO!A200=0,\" \",COUNTRY_INFO!A200))","v":"Cameroun"},{"$f":"IF(INTRO!$E$43=\"Non-endemic\",\" \", IF(COUNTRY_INFO!B200=0,\" \",COUNTRY_INFO!B200))","v":"Sud Ouest"},{"$f":"IF(INTRO!$E$43=\"Non-endemic\",\" \", IF(COUNTRY_INFO!C200=0,\" \",COUNTRY_INFO!C200))","v":"Kumba-South"},{"$f":"IF(INTRO!$E$43=\"Non-endemic\", \"Not required\", COUNTRY_INFO!Z200)","v":1},14375,70623,0,84998,null,null,1,"SAC",null,{"$f":"IF($I200<>\"Yes\",$F200*2,($F200+ROUND(J200*$F200/SUM(COUNTRY_INFO!$E200:$G200),0))*2)","v":141246},{"$f":"IF($I200<>\"Yes\",$G200*3,($G200+ROUND(J200*$G200/SUM(COUNTRY_INFO!$E200:$G200),0))*3)","v":0},141246,null,141246]
[{"$f":"IF(INTRO!$E$43=\"Non-endemic\",\" \", IF(COUNTRY_INFO!A201=0,\" \",COUNTRY_INFO!A201))","v":"Cameroun"},{"$f":"IF(INTRO!$E$43=\"Non-endemic\",\" \", IF(COUNTRY_INFO!B201=0,\" \",COUNTRY_INFO!B201))","v":"Sud Ouest"},{"$f":"IF(INTRO!$E$43=\"Non-endemic\",\" \", IF(COUNTRY_INFO!C201=0,\" \",COUNTRY_INFO!C201))","v":"Limbe"},{"$f":"IF(INTRO!$E$43=\"Non-endemic\", \"Not required\", COUNTRY_INFO!Z201)","v":0},0,0,0,0,null,null,null,null,null,{"$f":"IF($I201<>\"Yes\",$F201*2,($F201+ROUND(J201*$F201/SUM(COUNTRY_INFO!$E201:$G201),0))*2)","v":0},{"$f":"IF($I201<>\"Yes\",$G201*3,($G201+ROUND(J201*$G201/SUM(COUNTRY_INFO!$E201:$G201),0))*3)","v":0},0,null,0]
[{"$f":"IF(INTRO!$E$43=\"Non-endemic\",\" \", IF(COUNTRY_INFO!A202=0,\" \",COUNTRY_INFO!A202))","v":"Cameroun"},{"$f":"IF(INTRO!$E$43=\"Non-endemic\",\" \", IF(COUNTRY_INFO!B202=0,\" \",COUNTRY_INFO!B202))","v":"Sud Ouest"},{"$f":"IF(INTRO!$E$43=\"Non-endemic\",\" \", IF(COUNTRY_INFO!C202=0,\" \",COUNTRY_INFO!C202))","v":"Mamfe"},{"$f":"IF(INTRO!$E$43=\"Non-endemic\", \"Not required\", COUNTRY_INFO!Z202)","v":0},0,0,0,0,null,null,null,null,null,{"$f":"IF($I202<>\"Yes\",$F202*2,($F202+ROUND(J202*$F202/SUM(COUNTRY_INFO!$E202:$G202),0))*2)","v":0},{"$f":"IF($I202<>\"Yes\",$G202*3,($G202+ROUND(J202*$G202/SUM(COUNTRY_INFO!$E202:$G202),0))*3)","v":0},0,null,0]
[{"$f":"IF(INTRO!$E$43=\"Non-endemic\",\" \", IF(COUNTRY_INFO!A203=0,\" \",COUNTRY_INFO!A203))","v":"Cameroun"},{"$f":"IF(INTRO!$E$43=\"Non-endemic\",\" \", IF(COUNTRY_INFO!B203=0,\" \",COUNTRY_INFO!B203))","v":"Sud Ouest"},{"$f":"IF(INTRO!$E$43=\"Non-endemic\",\" \", IF(COUNTRY_INFO!C203=0,\" \",COUNTRY_INFO!C203))","v":"Mbonge"},{"$f":"IF(INTRO!$E$43=\"Non-endemic\", \"Not required\", COUNTRY_INFO!Z203)","v":1},10245,26888,0,{"$f":"SUM(E203:G203)","v":37133},null,null,1,"SAC",null,{"$f":"IF($I203<>\"Yes\",$F203*2,($F203+ROUND(J203*$F203/SUM(COUNTRY_INFO!$E203:$G203),0))*2)","v":53776},{"$f":"IF($I203<>\"Yes\",$G203*3,($G203+ROUND(J203*$G203/SUM(COUNTRY_INFO!$E203:$G203),0))*3)","v":0},{"$f":"SUM(M203:O203)","v":53776},null,{"$f":"IF($P203>$Q203,P203-Q203,0)","v":53776}]
[{"$f":"IF(INTRO!$E$43=\"Non-endemic\",\" \", IF(COUNTRY_INFO!A204=0,\" \",COUNTRY_INFO!A204))","v":"Cameroun"},{"$f":"IF(INTRO!$E$43=\"Non-endemic\",\" \", IF(COUNTRY_INFO!B204=0,\" \",COUNTRY_INFO!B204))","v":"Sud Ouest"},{"$f":"IF(INTRO!$E$43=\"Non-endemic\",\" \", IF(COUNTRY_INFO!C204=0,\" \",COUNTRY_INFO!C204))","v":"Mundemba"},{"$f":"IF(INTRO!$E$43=\"Non-endemic\", \"Not required\", COUNTRY_INFO!Z204)","v":0},0,0,0,0,null,null,null,null,null,{"$f":"IF($I204<>\"Yes\",$F204*2,($F204+ROUND(J204*$F204/SUM(COUNTRY_INFO!$E204:$G204),0))*2)","v":0},{"$f":"IF($I204<>\"Yes\",$G204*3,($G204+ROUND(J204*$G204/SUM(COUNTRY_INFO!$E204:$G204),0))*3)","v":0},0,null,0]
[{"$f":"IF(INTRO!$E$43=\"Non-endemic\",\" \", IF(COUNTRY_INFO!A205=0,\" \",COUNTRY_INFO!A205))","v":"Cameroun"},{"$f":"IF(INTRO!$E$43=\"Non-endemic\",\" \", IF(COUNTRY_INFO!B205=0,\" \",COUNTRY_INFO!B205))","v":"Sud Ouest"},{"$f":"IF(INTRO!$E$43=\"Non-endemic\",\" \", IF(COUNTRY_INFO!C205=0,\" \",COUNTRY_INFO!C205))","v":"Muyuka"},{"$f":"IF(INTRO!$E$43=\"Non-endemic\", \"Not required\", COUNTRY_INFO!Z205)","v":1},9473,33788,0,43261,null,null,1,"SAC",null,{"$f":"IF($I205<>\"Yes\",$F205*2,($F205+ROUND(J205*$F205/SUM(COUNTRY_INFO!$E205:$G205),0))*2)","v":67576},{"$f":"IF($I205<>\"Yes\",$G205*3,($G205+ROUND(J205*$G205/SUM(COUNTRY_INFO!$E205:$G205),0))*3)","v":0},67576,null,67576]
[{"$f":"IF(INTRO!$E$43=\"Non-endemic\",\" \", IF(COUNTRY_INFO!A206=0,\" \",COUNTRY_INFO!A206))","v":"Cameroun"},{"$f":"IF(INTRO!$E$43=\"Non-endemic\",\" \", IF(COUNTRY_INFO!B206=0,\" \",COUNTRY_INFO!B206))","v":"Sud Ouest"},{"$f":"IF(INTRO!$E$43=\"Non-endemic\",\" \", IF(COUNTRY_INFO!C206=0,\" \",COUNTRY_INFO!C206))","v":"Nguti"},{"$f":"IF(INTRO!$E$43=\"Non-endemic\", \"Not required\", COUNTRY_INFO!Z206)","v":1},3163,11171,0,14334,null,null,1,"SAC",null,{"$f":"IF($I206<>\"Yes\",$F206*2,($F206+ROUND(J206*$F206/SUM(COUNTRY_INFO!$E206:$G206),0))*2)","v":22342},{"$f":"IF($I206<>\"Yes\",$G206*3,($G206+ROUND(J206*$G206/SUM(COUNTRY_INFO!$E206:$G206),0))*3)","v":0},22342,null,22342]
[{"$f":"IF(INTRO!$E$43=\"Non-endemic\",\" \", IF(COUNTRY_INFO!A207=0,\" \",COUNTRY_INFO!A207))","v":"Cameroun"},{"$f":"IF(INTRO!$E$43=\"Non-endemic\",\" \", IF(COUNTRY_INFO!B207=0,\" \",COUNTRY_INFO!B207))","v":"Sud Ouest"},{"$f":"IF(INTRO!$E$43=\"Non-endemic\",\" \", IF(COUNTRY_INFO!C207=0,\" \",COUNTRY_INFO!C207))","v":"Tiko"},{"$f":"IF(INTRO!$E$43=\"Non-endemic\", \"Not required\", COUNTRY_INFO!Z207)","v":1},14344,45074,0,59418,null,null,null,null,null,{"$f":"IF($I207<>\"Yes\",$F207*2,($F207+ROUND(J207*$F207/SUM(COUNTRY_INFO!$E207:$G207),0))*2)","v":90148},{"$f":"IF($I207<>\"Yes\",$G207*3,($G207+ROUND(J207*$G207/SUM(COUNTRY_INFO!$E207:$G207),0))*3)","v":0},90148,null,90148]
[{"$f":"IF(INTRO!$E$43=\"Non-endemic\",\" \", IF(COUNTRY_INFO!A208=0,\" \",COUNTRY_INFO!A208))","v":"Cameroun"},{"$f":"IF(INTRO!$E$43=\"Non-endemic\",\" \", IF(COUNTRY_INFO!B208=0,\" \",COUNTRY_INFO!B208))","v":"Sud Ouest"},{"$f":"IF(INTRO!$E$43=\"Non-endemic\",\" \", IF(COUNTRY_INFO!C208=0,\" \",COUNTRY_INFO!C208))","v":"Tombel"},{"$f":"IF(INTRO!$E$43=\"Non-endemic\", \"Not required\", COUNTRY_INFO!Z208)","v":0},0,0,0,0,null,null,null,null,null,{"$f":"IF($I208<>\"Yes\",$F208*2,($F208+ROUND(J208*$F208/SUM(COUNTRY_INFO!$E208:$G208),0))*2)","v":0},{"$f":"IF($I208<>\"Yes\",$G208*3,($G208+ROUND(J208*$G208/SUM(COUNTRY_INFO!$E208:$G208),0))*3)","v":0},0,null,0]
[{"$f":"IF(INTRO!$E$43=\"Non-endemic\",\" \", IF(COUNTRY_INFO!A209=0,\" \",COUNTRY_INFO!A209))","v":"Cameroun"},{"$f":"IF(INTRO!$E$43=\"Non-endemic\",\" \", IF(COUNTRY_INFO!B209=0,\" \",COUNTRY_INFO!B209))","v":"Sud Ouest"},{"$f":"IF(INTRO!$E$43=\"Non-endemic\",\" \", IF(COUNTRY_INFO!C209=0,\" \",COUNTRY_INFO!C209))","v":"Wabane"},{"$f":"IF(INTRO!$E$43=\"Non-endemic\", \"Not required\", COUNTRY_INFO!Z209)","v":0},0,0,0,0,null,null,null,null,null,{"$f":"IF($I209<>\"Yes\",$F209*2,($F209+ROUND(J209*$F209/SUM(COUNTRY_INFO!$E209:$G209),0))*2)","v":0},{"$f":"IF($I209<>\"Yes\",$G209*3,($G209+ROUND(J209*$G209/SUM(COUNTRY_INFO!$E209:$G209),0))*3)","v":0},0,null,0]

{"sheet":"IVM","index":4,"n_rows":209,"n_cols":14,"rows_kept":209,"cut":false,"hidden":false,"merged":[[6,7,7,7],[6,9,7,9],[6,10,7,10],[6,11,7,11],[3,0,3,2],[3,4,3,5],[6,4,7,4],[6,5,7,5],[5,8,5,13],[6,0,7,0],[6,1,7,1],[6,2,7,2],[5,0,5,2],[5,4,5,5],[5,6,5,7],[6,12,7,12],[5,3,7,3],[6,13,7,13],[6,8,7,8],[6,6,7,6]]}
["Ivermectin (IVM)"]
["Administrative structure, eligible population by age group, treatment plan and information about tablets"]
[]
["TOTAL",null,null,{"$f":"SUBTOTAL(9,D$10:D$1010)","v":11268071},null,null,{"$f":"SUBTOTAL(9,G$10:G$1010)","v":53912},11268071,0,31399645.199999999,150953.59999999998,31550598.800000001,0,31550598.800000001]
[]
["Country administrative structure",null,null,"Population requiring treatment with IVM","Treatment plan",null,"Target population",null,"Ivermectin (IVM)"]
["Country","Province/State","District",null,"LF","Oncho","LF","Oncho","LF only","Oncho only","LF+Oncho","Total required","Remaining in stock","Tablets to be procured"]
[]
[]
[{"$f":"IF(INTRO!$E$39=\"Non-endemic\",\" \",IF(COUNTRY_INFO!A10=0,\" \",COUNTRY_INFO!A10))","v":"Cameroun"},{"$f":"IF(INTRO!$E$39=\"Non-endemic\",\" \",IF(COUNTRY_INFO!B10=0,\" \",COUNTRY_INFO!B10))","v":"Adamaoua"},{"$f":"IF(INTRO!$E$39=\"Non-endemic\",\" \",IF(COUNTRY_INFO!C10=0,\" \",COUNTRY_INFO!C10))","v":"Bankim"},{"$f":"IF(INTRO!$E$39=\"Non-endemic\",0,IF(INTRO!$E$39=\"Endemic but PC is not required\",IF(COUNTRY_INFO!$H10=1,COUNTRY_INFO!F10+COUNTRY_INFO!G10,0),IF(COUNTRY_INFO!$H10=1,COUNTRY_INFO!F10+COUNTRY_INFO!G10,IF(COUNTRY_INFO!$I10=1,IF(COUNTRY_INFO!N10>=(COUNTRY_INFO!F10+COUNTRY_INFO!G10),COUNTRY_INFO!F10+COUNTRY_INFO!G10,COUNTRY_INFO!$N10),0))))","v":107433},{"$f":"IF(AND(INTRO!$E$39=\"Non-endemic\",INTRO!$E$37=\"Non-endemic\"),\"Not required\",IF(INTRO!$E$39=\"Non-endemic\",\"Treat with DEC\",COUNTRY_INFO!W10))","v":0},{"$f":"IF(INTRO!$E$39<>\"Non-endemic\",COUNTRY_INFO!X10,\"Not required\")","v":1},{"$f":"IF(COUNTRY_INFO!H10=1, IF($E10=1,IF(ALB_MBD!$G10<>\" \",COUNTRY_INFO!F10+COUNTRY_INFO!G10-ALB_MBD!$G10,COUNTRY_INFO!F10+COUNTRY_INFO!G10), 0),0)","v":0},{"$f":"IF(INTRO!$E$39<>\"Endemic\",0, IF(AND(COUNTRY_INFO!$I10=1,$F10<>0),IF(COUNTRY_INFO!N10>=(COUNTRY_INFO!F10+COUNTRY_INFO!G10),COUNTRY_INFO!F10+COUNTRY_INFO!G10,COUNTRY_INFO!$N10), 0))","v":107433},{"$f":"IF(G10<H10,0,IF($E10=1, (G10-H10)*2.8, 0))","v":0},{"$f":"IF($E10<$F10, H10*(F10-E10)*2.8, 0)","v":300812.39999999997},{"$f":"IF(AND($E10=1, $F10<>0), H10*2.8, 0)","v":0},{"$f":"SUM(I10:K10)","v":300812.39999999997},null,{"$f":"IF($L10>$M10,$L10-$M10,0)","v":300812.39999999997}]
[{"$f":"IF(INTRO!$E$39=\"Non-endemic\",\" \",IF(COUNTRY_INFO!A11=0,\" \",COUNTRY_INFO!A11))","v":"Cameroun"},{"$f":"IF(INTRO!$E$39=\"Non-endemic\",\" \",IF(COUNTRY_INFO!B11=0,\" \",COUNTRY_INFO!B11))","v":"Adamaoua"},{"$f":"IF(INTRO!$E$39=\"Non-endemic\",\" \",IF(COUNTRY_INFO!C11=0,\" \",COUNTRY_INFO!C11))","v":"Banyo"},{"$f":"IF(INTRO!$E$39=\"Non-endemic\",0,IF(INTRO!$E$39=\"Endemic but PC is not required\",IF(COUNTRY_INFO!$H11=1,COUNTRY_INFO!F11+COUNTRY_INFO!G11,0),IF(COUNTRY_INFO!$H11=1,COUNTRY_INFO!F11+COUNTRY_INFO!G11,IF(COUNTRY_INFO!$I11=1,IF(COUNTRY_INFO!N11>=(COUNTRY_INFO!F11+COUNTRY_INFO!G11),COUNTRY_INFO!F11+COUNTRY_INFO!G11,COUNTRY_INFO!$N11),0))))","v":148170},{"$f":"IF(AND(INTRO!$E$39=\"Non-endemic\",INTRO!$E$37=\"Non-endemic\"),\"Not required\",IF(INTRO!$E$39=\"Non-endemic\",\"Treat with DEC\",COUNTRY_INFO!W11))","v":0},{"$f":"IF(INTRO!$E$39<>\"Non-endemic\",COUNTRY_INFO!X11,\"Not required\")","v":1},{"$f":"IF(COUNTRY_INFO!H11=1, IF($E11=1,IF(ALB_MBD!$G11<>\" \",COUNTRY_INFO!F11+COUNTRY_INFO!G11-ALB_MBD!$G11,COUNTRY_INFO!F11+COUNTRY_INFO!G11), 0),0)","v":0},{"$f":"IF(INTRO!$E$39<>\"Endemic\",0, IF(AND(COUNTRY_INFO!$I11=1,$F11<>0),IF(COUNTRY_INFO!N11>=(COUNTRY_INFO!F11+COUNTRY_INFO!G11),COUNTRY_INFO!F11+COUNTRY_INFO!G11,COUNTRY_INFO!$N11), 0))","v":148170},{"$f":"IF(G11<H11,0,IF($E11=1, (G11-H11)*2.8, 0))","v":0},{"$f":"IF($E11<$F11, H11*(F11-E11)*2.8, 0)","v":414876},{"$f":"IF(AND($E11=1, $F11<>0), H11*2.8, 0)","v":0},{"$f":"SUM(I11:K11)","v":414876},null,414876]
[{"$f":"IF(INTRO!$E$39=\"Non-endemic\",\" \",IF(COUNTRY_INFO!A12=0,\" \",COUNTRY_INFO!A12))","v":"Cameroun"},{"$f":"IF(INTRO!$E$39=\"Non-endemic\",\" \",IF(COUNTRY_INFO!B12=0,\" \",COUNTRY_INFO!B12))","v":"Adamaoua"},{"$f":"IF(INTRO!$E$39=\"Non-endemic\",\" \",IF(COUNTRY_INFO!C12=0,\" \",COUNTRY_INFO!C12))","v":"Belel "},{"$f":"IF(INTRO!$E$39=\"Non-endemic\",0,IF(INTRO!$E$39=\"Endemic but PC is not required\",IF(COUNTRY_INFO!$H12=1,COUNTRY_INFO!F12+COUNTRY_INFO!G12,0),IF(COUNTRY_INFO!$H12=1,COUNTRY_INFO!F12+COUNTRY_INFO!G12,IF(COUNTRY_INFO!$I12=1,IF(COUNTRY_INFO!N12>=(COUNTRY_INFO!F12+COUNTRY_INFO!G12),COUNTRY_INFO!F12+COUNTRY_INFO!G12,COUNTRY_INFO!$N12),0))))","v":18754},{"$f":"IF(AND(INTRO!$E$39=\"Non-endemic\",INTRO!$E$37=\"Non-endemic\"),\"Not required\",IF(INTRO!$E$39=\"Non-endemic\",\"Treat with DEC\",COUNTRY_INFO!W12))","v":0},{"$f":"IF(INTRO!$E$39<>\"Non-endemic\",COUNTRY_INFO!X12,\"Not required\")","v":1},{"$f":"IF(COUNTRY_INFO!H12=1, IF($E12=1,IF(ALB_MBD!$G12<>\" \",COUNTRY_INFO!F12+COUNTRY_INFO!G12-ALB_MBD!$G12,COUNTRY_INFO!F12+COUNTRY_INFO!G12), 0),0)","v":0},{"$f":"IF(INTRO!$E$39<>\"Endemic\",0, IF(AND(COUNTRY_INFO!$I12=1,$F12<>0),IF(COUNTRY_INFO!N12>=(COUNTRY_INFO!F12+COUNTRY_INFO!G12),COUNTRY_INFO!F12+COUNTRY_INFO!G12,COUNTRY_INFO!$N12), 0))","v":18754},0,52511.199999999997,0,52511.199999999997,null,52511.199999999997]
[{"$f":"IF(INTRO!$E$39=\"Non-endemic\",\" \",IF(COUNTRY_INFO!A13=0,\" \",COUNTRY_INFO!A13))","v":"Cameroun"},{"$f":"IF(INTRO!$E$39=\"Non-endemic\",\" \",IF(COUNTRY_INFO!B13=0,\" \",COUNTRY_INFO!B13))","v":"Adamaoua"},{"$f":"IF(INTRO!$E$39=\"Non-endemic\",\" \",IF(COUNTRY_INFO!C13=0,\" \",COUNTRY_INFO!C13))","v":"Dang"},{"$f":"IF(INTRO!$E$39=\"Non-endemic\",0,IF(INTRO!$E$39=\"Endemic but PC is not required\",IF(COUNTRY_INFO!$H13=1,COUNTRY_INFO!F13+COUNTRY_INFO!G13,0),IF(COUNTRY_INFO!$H13=1,COUNTRY_INFO!F13+COUNTRY_INFO!G13,IF(COUNTRY_INFO!$I13=1,IF(COUNTRY_INFO!N13>=(COUNTRY_INFO!F13+COUNTRY_INFO!G13),COUNTRY_INFO!F13+COUNTRY_INFO!G13,COUNTRY_INFO!$N13),0))))","v":79936},{"$f":"IF(AND(INTRO!$E$39=\"Non-endemic\",INTRO!$E$37=\"Non-endemic\"),\"Not required\",IF(INTRO!$E$39=\"Non-endemic\",\"Treat with DEC\",COUNTRY_INFO!W13))","v":0},{"$f":"IF(INTRO!$E$39<>\"Non-endemic\",COUNTRY_INFO!X13,\"Not required\")","v":1},{"$f":"IF(COUNTRY_INFO!H13=1, IF($E13=1,IF(ALB_MBD!$G13<>\" \",COUNTRY_INFO!F13+COUNTRY_INFO!G13-ALB_MBD!$G13,COUNTRY_INFO!F13+COUNTRY_INFO!G13), 0),0)","v":0},{"$f":"IF(INTRO!$E$39<>\"Endemic\",0, IF(AND(COUNTRY_INFO!$I13=1,$F13<>0),IF(COUNTRY_INFO!N13>=(COUNTRY_INFO!F13+COUNTRY_INFO!G13),COUNTRY_INFO!F13+COUNTRY_INFO!G13,COUNTRY_INFO!$N13), 0))","v":79936},0,223820.79999999999,0,223820.79999999999,null,223820.79999999999]
[{"$f":"IF(INTRO!$E$39=\"Non-endemic\",\" \",IF(COUNTRY_INFO!A14=0,\" \",COUNTRY_INFO!A14))","v":"Cameroun"},{"$f":"IF(INTRO!$E$39=\"Non-endemic\",\" \",IF(COUNTRY_INFO!B14=0,\" \",COUNTRY_INFO!B14))","v":"Adamaoua"},{"$f":"IF(INTRO!$E$39=\"Non-endemic\",\" \",IF(COUNTRY_INFO!C14=0,\" \",COUNTRY_INFO!C14))","v":"Djohong"},{"$f":"IF(INTRO!$E$39=\"Non-endemic\",0,IF(INTRO!$E$39=\"Endemic but PC is not required\",IF(COUNTRY_INFO!$H14=1,COUNTRY_INFO!F14+COUNTRY_INFO!G14,0),IF(COUNTRY_INFO!$H14=1,COUNTRY_INFO!F14+COUNTRY_INFO!G14,IF(COUNTRY_INFO!$I14=1,IF(COUNTRY_INFO!N14>=(COUNTRY_INFO!F14+COUNTRY_INFO!G14),COUNTRY_INFO!F14+COUNTRY_INFO!G14,COUNTRY_INFO!$N14),0))))","v":73741},{"$f":"IF(AND(INTRO!$E$39=\"Non-endemic\",INTRO!$E$37=\"Non-endemic\"),\"Not required\",IF(INTRO!$E$39=\"Non-endemic\",\"Treat with DEC\",COUNTRY_INFO!W14))","v":0},{"$f":"IF(INTRO!$E$39<>\"Non-endemic\",COUNTRY_INFO!X14,\"Not required\")","v":1},{"$f":"IF(COUNTRY_INFO!H14=1, IF($E14=1,IF(ALB_MBD!$G14<>\" \",COUNTRY_INFO!F14+COUNTRY_INFO!G14-ALB_MBD!$G14,COUNTRY_INFO!F14+COUNTRY_INFO!G14), 0),0)","v":0},{"$f":"IF(INTRO!$E$39<>\"Endemic\",0, IF(AND(COUNTRY_INFO!$I14=1,$F14<>0),IF(COUNTRY_INFO!N14>=(COUNTRY_INFO!F14+COUNTRY_INFO!G14),COUNTRY_INFO!F14+COUNTRY_INFO!G14,COUNTRY_INFO!$N14), 0))","v":73741},0,206474.8,0,206474.8,null,206474.8]
[{"$f":"IF(INTRO!$E$39=\"Non-endemic\",\" \",IF(COUNTRY_INFO!A15=0,\" \",COUNTRY_INFO!A15))","v":"Cameroun"},{"$f":"IF(INTRO!$E$39=\"Non-endemic\",\" \",IF(COUNTRY_INFO!B15=0,\" \",COUNTRY_INFO!B15))","v":"Adamaoua"},{"$f":"IF(INTRO!$E$39=\"Non-endemic\",\" \",IF(COUNTRY_INFO!C15=0,\" \",COUNTRY_INFO!C15))","v":"Meiganga"},{"$f":"IF(INTRO!$E$39=\"Non-endemic\",0,IF(INTRO!$E$39=\"Endemic but PC is not required\",IF(COUNTRY_INFO!$H15=1,COUNTRY_INFO!F15+COUNTRY_INFO!G15,0),IF(COUNTRY_INFO!$H15=1,COUNTRY_INFO!F15+COUNTRY_INFO!G15,IF(COUNTRY_INFO!$I15=1,IF(COUNTRY_INFO!N15>=(COUNTRY_INFO!F15+COUNTRY_INFO!G15),COUNTRY_INFO!F15+COUNTRY_INFO!G15,COUNTRY_INFO!$N15),0))))","v":153862},{"$f":"IF(AND(INTRO!$E$39=\"Non-endemic\",INTRO!$E$37=\"Non-endemic\"),\"Not required\",IF(INTRO!$E$39=\"Non-endemic\",\"Treat with DEC\",COUNTRY_INFO!W15))","v":0},{"$f":"IF(INTRO!$E$39<>\"Non-endemic\",COUNTRY_INFO!X15,\"Not required\")","v":1},{"$f":"IF(COUNTRY_INFO!H15=1, IF($E15=1,IF(ALB_MBD!$G15<>\" \",COUNTRY_INFO!F15+COUNTRY_INFO!G15-ALB_MBD!$G15,COUNTRY_INFO!F15+COUNTRY_INFO!G15), 0),0)","v":0},{"$f":"IF(INTRO!$E$39<>\"Endemic\",0, IF(AND(COUNTRY_INFO!$I15=1,$F15<>0),IF(COUNTRY_INFO!N15>=(COUNTRY_INFO!F15+COUNTRY_INFO!G15),COUNTRY_INFO!F15+COUNTRY_INFO!G15,COUNTRY_INFO!$N15), 0))","v":153862},0,430813.6,0,430813.6,null,430813.6]
[{"$f":"IF(INTRO!$E$39=\"Non-endemic\",\" \",IF(COUNTRY_INFO!A16=0,\" \",COUNTRY_INFO!A16))","v":"Cameroun"},{"$f":"IF(INTRO!$E$39=\"Non-endemic\",\" \",IF(COUNTRY_INFO!B16=0,\" \",COUNTRY_INFO!B16))","v":"Adamaoua"},{"$f":"IF(INTRO!$E$39=\"Non-endemic\",\" \",IF(COUNTRY_INFO!C16=0,\" \",COUNTRY_INFO!C16))","v":"Ngaoundal"},{"$f":"IF(INTRO!$E$39=\"Non-endemic\",0,IF(INTRO!$E$39=\"Endemic but PC is not required\",IF(COUNTRY_INFO!$H16=1,COUNTRY_INFO!F16+COUNTRY_INFO!G16,0),IF(COUNTRY_INFO!$H16=1,COUNTRY_INFO!F16+COUNTRY_INFO!G16,IF(COUNTRY_INFO!$I16=1,IF(COUNTRY_INFO!N16>=(COUNTRY_INFO!F16+COUNTRY_INFO!G16),COUNTRY_INFO!F16+COUNTRY_INFO!G16,COUNTRY_INFO!$N16),0))))","v":85133},{"$f":"IF(AND(INTRO!$E$39=\"Non-endemic\",INTRO!$E$37=\"Non-endemic\"),\"Not required\",IF(INTRO!$E$39=\"Non-endemic\",\"Treat with DEC\",COUNTRY_INFO!W16))","v":0},{"$f":"IF(INTRO!$E$39<>\"Non-endemic\",COUNTRY_INFO!X16,\"Not required\")","v":1},{"$f":"IF(COUNTRY_INFO!H16=1, IF($E16=1,IF(ALB_MBD!$G16<>\" \",COUNTRY_INFO!F16+COUNTRY_INFO!G16-ALB_MBD!$G16,COUNTRY_INFO!F16+COUNTRY_INFO!G16), 0),0)","v":0},{"$f":"IF(INTRO!$E$39<>\"Endemic\",0, IF(AND(COUNTRY_INFO!$I16=1,$F16<>0),IF(COUNTRY_INFO!N16>=(COUNTRY_INFO!F16+COUNTRY_INFO!G16),COUNTRY_INFO!F16+COUNTRY_INFO!G16,COUNTRY_INFO!$N16), 0))","v":85133},0,238372.4,0,238372.4,null,238372.4]
[{"$f":"IF(INTRO!$E$39=\"Non-endemic\",\" \",IF(COUNTRY_INFO!A17=0,\" \",COUNTRY_INFO!A17))","v":"Cameroun"},{"$f":"IF(INTRO!$E$39=\"Non-endemic\",\" \",IF(COUNTRY_INFO!B17=0,\" \",COUNTRY_INFO!B17))","v":"Adamaoua"},{"$f":"IF(INTRO!$E$39=\"Non-endemic\",\" \",IF(COUNTRY_INFO!C17=0,\" \",COUNTRY_INFO!C17))","v":"Ngaoundere Rural"},{"$f":"IF(INTRO!$E$39=\"Non-endemic\",0,IF(INTRO!$E$39=\"Endemic but PC is not required\",IF(COUNTRY_INFO!$H17=1,COUNTRY_INFO!F17+COUNTRY_INFO!G17,0),IF(COUNTRY_INFO!$H17=1,COUNTRY_INFO!F17+COUNTRY_INFO!G17,IF(COUNTRY_INFO!$I17=1,IF(COUNTRY_INFO!N17>=(COUNTRY_INFO!F17+COUNTRY_INFO!G17),COUNTRY_INFO!F17+COUNTRY_INFO!G17,COUNTRY_INFO!$N17),0))))","v":149366},{"$f":"IF(AND(INTRO!$E$39=\"Non-endemic\",INTRO!$E$37=\"Non-endemic\"),\"Not required\",IF(INTRO!$E$39=\"Non-endemic\",\"Treat with DEC\",COUNTRY_INFO!W17))","v":0},{"$f":"IF(INTRO!$E$39<>\"Non-endemic\",COUNTRY_INFO!X17,\"Not required\")","v":1},{"$f":"IF(COUNTRY_INFO!H17=1, IF($E17=1,IF(ALB_MBD!$G17<>\" \",COUNTRY_INFO!F17+COUNTRY_INFO!G17-ALB_MBD!$G17,COUNTRY_INFO!F17+COUNTRY_INFO!G17), 0),0)","v":0},{"$f":"IF(INTRO!$E$39<>\"Endemic\",0, IF(AND(COUNTRY_INFO!$I17=1,$F17<>0),IF(COUNTRY_INFO!N17>=(COUNTRY_INFO!F17+COUNTRY_INFO!G17),COUNTRY_INFO!F17+COUNTRY_INFO!G17,COUNTRY_INFO!$N17), 0))","v":149366},0,418224.8,0,418224.8,null,418224.8]
[{"$f":"IF(INTRO!$E$39=\"Non-endemic\",\" \",IF(COUNTRY_INFO!A18=0,\" \",COUNTRY_INFO!A18))","v":"Cameroun"},{"$f":"IF(INTRO!$E$39=\"Non-endemic\",\" \",IF(COUNTRY_INFO!B18=0,\" \",COUNTRY_INFO!B18))","v":"Adamaoua"},{"$f":"IF(INTRO!$E$39=\"Non-endemic\",\" \",IF(COUNTRY_INFO!C18=0,\" \",COUNTRY_INFO!C18))","v":"Ngaoundere Urbain"},{"$f":"IF(INTRO!$E$39=\"Non-endemic\",0,IF(INTRO!$E$39=\"Endemic but PC is not required\",IF(COUNTRY_INFO!$H18=1,COUNTRY_INFO!F18+COUNTRY_INFO!G18,0),IF(COUNTRY_INFO!$H18=1,COUNTRY_INFO!F18+COUNTRY_INFO!G18,IF(COUNTRY_INFO!$I18=1,IF(COUNTRY_INFO!N18>=(COUNTRY_INFO!F18+COUNTRY_INFO!G18),COUNTRY_INFO!F18+COUNTRY_INFO!G18,COUNTRY_INFO!$N18),0))))","v":367947},{"$f":"IF(AND(INTRO!$E$39=\"Non-endemic\",INTRO!$E$37=\"Non-endemic\"),\"Not required\",IF(INTRO!$E$39=\"Non-endemic\",\"Treat with DEC\",COUNTRY_INFO!W18))","v":0},{"$f":"IF(INTRO!$E$39<>\"Non-endemic\",COUNTRY_INFO!X18,\"Not required\")","v":1},{"$f":"IF(COUNTRY_INFO!H18=1, IF($E18=1,IF(ALB_MBD!$G18<>\" \",COUNTRY_INFO!F18+COUNTRY_INFO!G18-ALB_MBD!$G18,COUNTRY_INFO!F18+COUNTRY_INFO!G18), 0),0)","v":0},{"$f":"IF(INTRO!$E$39<>\"Endemic\",0, IF(AND(COUNTRY_INFO!$I18=1,$F18<>0),IF(COUNTRY_INFO!N18>=(COUNTRY_INFO!F18+COUNTRY_INFO!G18),COUNTRY_INFO!F18+COUNTRY_INFO!G18,COUNTRY_INFO!$N18), 0))","v":367947},0,1030251.6,0,1030251.6,null,1030251.6]
[{"$f":"IF(INTRO!$E$39=\"Non-endemic\",\" \",IF(COUNTRY_INFO!A19=0,\" \",COUNTRY_INFO!A19))","v":"Cameroun"},{"$f":"IF(INTRO!$E$39=\"Non-endemic\",\" \",IF(COUNTRY_INFO!B19=0,\" \",COUNTRY_INFO!B19))","v":"Adamaoua"},{"$f":"IF(INTRO!$E$39=\"Non-endemic\",\" \",IF(COUNTRY_INFO!C19=0,\" \",COUNTRY_INFO!C19))","v":"Tibati"},{"$f":"IF(INTRO!$E$39=\"Non-endemic\",0,IF(INTRO!$E$39=\"Endemic but PC is not required\",IF(COUNTRY_INFO!$H19=1,COUNTRY_INFO!F19+COUNTRY_INFO!G19,0),IF(COUNTRY_INFO!$H19=1,COUNTRY_INFO!F19+COUNTRY_INFO!G19,IF(COUNTRY_INFO!$I19=1,IF(COUNTRY_INFO!N19>=(COUNTRY_INFO!F19+COUNTRY_INFO!G19),COUNTRY_INFO!F19+COUNTRY_INFO!G19,COUNTRY_INFO!$N19),0))))","v":100243},{"$f":"IF(AND(INTRO!$E$39=\"Non-endemic\",INTRO!$E$37=\"Non-endemic\"),\"Not required\",IF(INTRO!$E$39=\"Non-endemic\",\"Treat with DEC\",COUNTRY_INFO!W19))","v":0},{"$f":"IF(INTRO!$E$39<>\"Non-endemic\",COUNTRY_INFO!X19,\"Not required\")","v":1},{"$f":"IF(COUNTRY_INFO!H19=1, IF($E19=1,IF(ALB_MBD!$G19<>\" \",COUNTRY_INFO!F19+COUNTRY_INFO!G19-ALB_MBD!$G19,COUNTRY_INFO!F19+COUNTRY_INFO!G19), 0),0)","v":0},{"$f":"IF(INTRO!$E$39<>\"Endemic\",0, IF(AND(COUNTRY_INFO!$I19=1,$F19<>0),IF(COUNTRY_INFO!N19>=(COUNTRY_INFO!F19+COUNTRY_INFO!G19),COUNTRY_INFO!F19+COUNTRY_INFO!G19,COUNTRY_INFO!$N19), 0))","v":100243},0,280680.39999999997,0,280680.39999999997,null,280680.39999999997]
[{"$f":"IF(INTRO!$E$39=\"Non-endemic\",\" \",IF(COUNTRY_INFO!A20=0,\" \",COUNTRY_INFO!A20))","v":"Cameroun"},{"$f":"IF(INTRO!$E$39=\"Non-endemic\",\" \",IF(COUNTRY_INFO!B20=0,\" \",COUNTRY_INFO!B20))","v":"Adamaoua"},{"$f":"IF(INTRO!$E$39=\"Non-endemic\",\" \",IF(COUNTRY_INFO!C20=0,\" \",COUNTRY_INFO!C20))","v":"Tignere"},{"$f":"IF(INTRO!$E$39=\"Non-endemic\",0,IF(INTRO!$E$39=\"Endemic but PC is not required\",IF(COUNTRY_INFO!$H20=1,COUNTRY_INFO!F20+COUNTRY_INFO!G20,0),IF(COUNTRY_INFO!$H20=1,COUNTRY_INFO!F20+COUNTRY_INFO!G20,IF(COUNTRY_INFO!$I20=1,IF(COUNTRY_INFO!N20>=(COUNTRY_INFO!F20+COUNTRY_INFO!G20),COUNTRY_INFO!F20+COUNTRY_INFO!G20,COUNTRY_INFO!$N20),0))))","v":111857},{"$f":"IF(AND(INTRO!$E$39=\"Non-endemic\",INTRO!$E$37=\"Non-endemic\"),\"Not required\",IF(INTRO!$E$39=\"Non-endemic\",\"Treat with DEC\",COUNTRY_INFO!W20))","v":0},{"$f":"IF(INTRO!$E$39<>\"Non-endemic\",COUNTRY_INFO!X20,\"Not required\")","v":1},{"$f":"IF(COUNTRY_INFO!H20=1, IF($E20=1,IF(ALB_MBD!$G20<>\" \",COUNTRY_INFO!F20+COUNTRY_INFO!G20-ALB_MBD!$G20,COUNTRY_INFO!F20+COUNTRY_INFO!G20), 0),0)","v":0},{"$f":"IF(INTRO!$E$39<>\"Endemic\",0, IF(AND(COUNTRY_INFO!$I20=1,$F20<>0),IF(COUNTRY_INFO!N20>=(COUNTRY_INFO!F20+COUNTRY_INFO!G20),COUNTRY_INFO!F20+COUNTRY_INFO!G20,COUNTRY_INFO!$N20), 0))","v":111857},0,313199.59999999998,0,313199.59999999998,null,313199.59999999998]
[{"$f":"IF(INTRO!$E$39=\"Non-endemic\",\" \",IF(COUNTRY_INFO!A21=0,\" \",COUNTRY_INFO!A21))","v":"Cameroun"},{"$f":"IF(INTRO!$E$39=\"Non-endemic\",\" \",IF(COUNTRY_INFO!B21=0,\" \",COUNTRY_INFO!B21))","v":"Centre"},{"$f":"IF(INTRO!$E$39=\"Non-endemic\",\" \",IF(COUNTRY_INFO!C21=0,\" \",COUNTRY_INFO!C21))","v":"Akonolinga"},{"$f":"IF(INTRO!$E$39=\"Non-endemic\",0,IF(INTRO!$E$39=\"Endemic but PC is not required\",IF(COUNTRY_INFO!$H21=1,COUNTRY_INFO!F21+COUNTRY_INFO!G21,0),IF(COUNTRY_INFO!$H21=1,COUNTRY_INFO!F21+COUNTRY_INFO!G21,IF(COUNTRY_INFO!$I21=1,IF(COUNTRY_INFO!N21>=(COUNTRY_INFO!F21+COUNTRY_INFO!G21),COUNTRY_INFO!F21+COUNTRY_INFO!G21,COUNTRY_INFO!$N21),0))))","v":0},{"$f":"IF(AND(INTRO!$E$39=\"Non-endemic\",INTRO!$E$37=\"Non-endemic\"),\"Not required\",IF(INTRO!$E$39=\"Non-endemic\",\"Treat with DEC\",COUNTRY_INFO!W21))","v":0},{"$f":"IF(INTRO!$E$39<>\"Non-endemic\",COUNTRY_INFO!X21,\"Not required\")","v":0},{"$f":"IF(COUNTRY_INFO!H21=1, IF($E21=1,IF(ALB_MBD!$G21<>\" \",COUNTRY_INFO!F21+COUNTRY_INFO!G21-ALB_MBD!$G21,COUNTRY_INFO!F21+COUNTRY_INFO!G21), 0),0)","v":0},{"$f":"IF(INTRO!$E$39<>\"Endemic\",0, IF(AND(COUNTRY_INFO!$I21=1,$F21<>0),IF(COUNTRY_INFO!N21>=(COUNTRY_INFO!F21+COUNTRY_INFO!G21),COUNTRY_INFO!F21+COUNTRY_INFO!G21,COUNTRY_INFO!$N21), 0))","v":0},0,0,0,0,null,0]
[{"$f":"IF(INTRO!$E$39=\"Non-endemic\",\" \",IF(COUNTRY_INFO!A22=0,\" \",COUNTRY_INFO!A22))","v":"Cameroun"},{"$f":"IF(INTRO!$E$39=\"Non-endemic\",\" \",IF(COUNTRY_INFO!B22=0,\" \",COUNTRY_INFO!B22))","v":"Centre"},{"$f":"IF(INTRO!$E$39=\"Non-endemic\",\" \",IF(COUNTRY_INFO!C22=0,\" \",COUNTRY_INFO!C22))","v":"Awae"},{"$f":"IF(INTRO!$E$39=\"Non-endemic\",0,IF(INTRO!$E$39=\"Endemic but PC is not required\",IF(COUNTRY_INFO!$H22=1,COUNTRY_INFO!F22+COUNTRY_INFO!G22,0),IF(COUNTRY_INFO!$H22=1,COUNTRY_INFO!F22+COUNTRY_INFO!G22,IF(COUNTRY_INFO!$I22=1,IF(COUNTRY_INFO!N22>=(COUNTRY_INFO!F22+COUNTRY_INFO!G22),COUNTRY_INFO!F22+COUNTRY_INFO!G22,COUNTRY_INFO!$N22),0))))","v":0},{"$f":"IF(AND(INTRO!$E$39=\"Non-endemic\",INTRO!$E$37=\"Non-endemic\"),\"Not required\",IF(INTRO!$E$39=\"Non-endemic\",\"Treat with DEC\",COUNTRY_INFO!W22))","v":0},{"$f":"IF(INTRO!$E$39<>\"Non-endemic\",COUNTRY_INFO!X22,\"Not required\")","v":0},{"$f":"IF(COUNTRY_INFO!H22=1, IF($E22=1,IF(ALB_MBD!$G22<>\" \",COUNTRY_INFO!F22+COUNTRY_INFO!G22-ALB_MBD!$G22,COUNTRY_INFO!F22+COUNTRY_INFO!G22), 0),0)","v":0},{"$f":"IF(INTRO!$E$39<>\"Endemic\",0, IF(AND(COUNTRY_INFO!$I22=1,$F22<>0),IF(COUNTRY_INFO!N22>=(COUNTRY_INFO!F22+COUNTRY_INFO!G22),COUNTRY_INFO!F22+COUNTRY_INFO!G22,COUNTRY_INFO!$N22), 0))","v":0},0,0,0,0,null,0]
[{"$f":"IF(INTRO!$E$39=\"Non-endemic\",\" \",IF(COUNTRY_INFO!A23=0,\" \",COUNTRY_INFO!A23))","v":"Cameroun"},{"$f":"IF(INTRO!$E$39=\"Non-endemic\",\" \",IF(COUNTRY_INFO!B23=0,\" \",COUNTRY_INFO!B23))","v":"Centre"},{"$f":"IF(INTRO!$E$39=\"Non-endemic\",\" \",IF(COUNTRY_INFO!C23=0,\" \",COUNTRY_INFO!C23))","v":"Ayos"},{"$f":"IF(INTRO!$E$39=\"Non-endemic\",0,IF(INTRO!$E$39=\"Endemic but PC is not required\",IF(COUNTRY_INFO!$H23=1,COUNTRY_INFO!F23+COUNTRY_INFO!G23,0),IF(COUNTRY_INFO!$H23=1,COUNTRY_INFO!F23+COUNTRY_INFO!G23,IF(COUNTRY_INFO!$I23=1,IF(COUNTRY_INFO!N23>=(COUNTRY_INFO!F23+COUNTRY_INFO!G23),COUNTRY_INFO!F23+COUNTRY_INFO!G23,COUNTRY_INFO!$N23),0))))","v":0},{"$f":"IF(AND(INTRO!$E$39=\"Non-endemic\",INTRO!$E$37=\"Non-endemic\"),\"Not required\",IF(INTRO!$E$39=\"Non-endemic\",\"Treat with DEC\",COUNTRY_INFO!W23))","v":0},{"$f":"IF(INTRO!$E$39<>\"Non-endemic\",COUNTRY_INFO!X23,\"Not required\")","v":0},{"$f":"IF(COUNTRY_INFO!H23=1, IF($E23=1,IF(ALB_MBD!$G23<>\" \",COUNTRY_INFO!F23+COUNTRY_INFO!G23-ALB_MBD!$G23,COUNTRY_INFO!F23+COUNTRY_INFO!G23), 0),0)","v":0},{"$f":"IF(INTRO!$E$39<>\"Endemic\",0, IF(AND(COUNTRY_INFO!$I23=1,$F23<>0),IF(COUNTRY_INFO!N23>=(COUNTRY_INFO!F23+COUNTRY_INFO!G23),COUNTRY_INFO!F23+COUNTRY_INFO!G23,COUNTRY_INFO!$N23), 0))","v":0},0,0,0,0,null,0]
[{"$f":"IF(INTRO!$E$39=\"Non-endemic\",\" \",IF(COUNTRY_INFO!A24=0,\" \",COUNTRY_INFO!A24))","v":"Cameroun"},{"$f":"IF(INTRO!$E$39=\"Non-endemic\",\" \",IF(COUNTRY_INFO!B24=0,\" \",COUNTRY_INFO!B24))","v":"Centre"},{"$f":"IF(INTRO!$E$39=\"Non-endemic\",\" \",IF(COUNTRY_INFO!C24=0,\" \",COUNTRY_INFO!C24))","v":"Bafia"},{"$f":"IF(INTRO!$E$39=\"Non-endemic\",0,IF(INTRO!$E$39=\"Endemic but PC is not required\",IF(COUNTRY_INFO!$H24=1,COUNTRY_INFO!F24+COUNTRY_INFO!G24,0),IF(COUNTRY_INFO!$H24=1,COUNTRY_INFO!F24+COUNTRY_INFO!G24,IF(COUNTRY_INFO!$I24=1,IF(COUNTRY_INFO!N24>=(COUNTRY_INFO!F24+COUNTRY_INFO!G24),COUNTRY_INFO!F24+COUNTRY_INFO!G24,COUNTRY_INFO!$N24),0))))","v":156290},{"$f":"IF(AND(INTRO!$E$39=\"Non-endemic\",INTRO!$E$37=\"Non-endemic\"),\"Not required\",IF(INTRO!$E$39=\"Non-endemic\",\"Treat with DEC\",COUNTRY_INFO!W24))","v":0},{"$f":"IF(INTRO!$E$39<>\"Non-endemic\",COUNTRY_INFO!X24,\"Not required\")","v":1},{"$f":"IF(COUNTRY_INFO!H24=1, IF($E24=1,IF(ALB_MBD!$G24<>\" \",COUNTRY_INFO!F24+COUNTRY_INFO!G24-ALB_MBD!$G24,COUNTRY_INFO!F24+COUNTRY_INFO!G24), 0),0)","v":0},{"$f":"IF(INTRO!$E$39<>\"Endemic\",0, IF(AND(COUNTRY_INFO!$I24=1,$F24<>0),IF(COUNTRY_INFO!N24>=(COUNTRY_INFO!F24+COUNTRY_INFO!G24),COUNTRY_INFO!F24+COUNTRY_INFO!G24,COUNTRY_INFO!$N24), 0))","v":156290},0,437612,0,437612,null,437612]
[{"$f":"IF(INTRO!$E$39=\"Non-endemic\",\" \",IF(COUNTRY_INFO!A25=0,\" \",COUNTRY_INFO!A25))","v":"Cameroun"},{"$f":"IF(INTRO!$E$39=\"Non-endemic\",\" \",IF(COUNTRY_INFO!B25=0,\" \",COUNTRY_INFO!B25))","v":"Centre"},{"$f":"IF(INTRO!$E$39=\"Non-endemic\",\" \",IF(COUNTRY_INFO!C25=0,\" \",COUNTRY_INFO!C25))","v":"Biyem Assi"},{"$f":"IF(INTRO!$E$39=\"Non-endemic\",0,IF(INTRO!$E$39=\"Endemic but PC is not required\",IF(COUNTRY_INFO!$H25=1,COUNTRY_INFO!F25+COUNTRY_INFO!G25,0),IF(COUNTRY_INFO!$H25=1,COUNTRY_INFO!F25+COUNTRY_INFO!G25,IF(COUNTRY_INFO!$I25=1,IF(COUNTRY_INFO!N25>=(COUNTRY_INFO!F25+COUNTRY_INFO!G25),COUNTRY_INFO!F25+COUNTRY_INFO!G25,COUNTRY_INFO!$N25),0))))","v":0},{"$f":"IF(AND(INTRO!$E$39=\"Non-endemic\",INTRO!$E$37=\"Non-endemic\"),\"Not required\",IF(INTRO!$E$39=\"Non-endemic\",\"Treat with DEC\",COUNTRY_INFO!W25))","v":0},{"$f":"IF(INTRO!$E$39<>\"Non-endemic\",COUNTRY_INFO!X25,\"Not required\")","v":0},{"$f":"IF(COUNTRY_INFO!H25=1, IF($E25=1,IF(ALB_MBD!$G25<>\" \",COUNTRY_INFO!F25+COUNTRY_INFO!G25-ALB_MBD!$G25,COUNTRY_INFO!F25+COUNTRY_INFO!G25), 0),0)","v":0},{"$f":"IF(INTRO!$E$39<>\"Endemic\",0, IF(AND(COUNTRY_INFO!$I25=1,$F25<>0),IF(COUNTRY_INFO!N25>=(COUNTRY_INFO!F25+COUNTRY_INFO!G25),COUNTRY_INFO!F25+COUNTRY_INFO!G25,COUNTRY_INFO!$N25), 0))","v":0},0,0,0,0,null,0]
[{"$f":"IF(INTRO!$E$39=\"Non-endemic\",\" \",IF(COUNTRY_INFO!A26=0,\" \",COUNTRY_INFO!A26))","v":"Cameroun"},{"$f":"IF(INTRO!$E$39=\"Non-endemic\",\" \",IF(COUNTRY_INFO!B26=0,\" \",COUNTRY_INFO!B26))","v":"Centre"},{"$f":"IF(INTRO!$E$39=\"Non-endemic\",\" \",IF(COUNTRY_INFO!C26=0,\" \",COUNTRY_INFO!C26))","v":"Cite Verte"},{"$f":"IF(INTRO!$E$39=\"Non-endemic\",0,IF(INTRO!$E$39=\"Endemic but PC is not required\",IF(COUNTRY_INFO!$H26=1,COUNTRY_INFO!F26+COUNTRY_INFO!G26,0),IF(COUNTRY_INFO!$H26=1,COUNTRY_INFO!F26+COUNTRY_INFO!G26,IF(COUNTRY_INFO!$I26=1,IF(COUNTRY_INFO!N26>=(COUNTRY_INFO!F26+COUNTRY_INFO!G26),COUNTRY_INFO!F26+COUNTRY_INFO!G26,COUNTRY_INFO!$N26),0))))","v":0},{"$f":"IF(AND(INTRO!$E$39=\"Non-endemic\",INTRO!$E$37=\"Non-endemic\"),\"Not required\",IF(INTRO!$E$39=\"Non-endemic\",\"Treat with DEC\",COUNTRY_INFO!W26))","v":0},{"$f":"IF(INTRO!$E$39<>\"Non-endemic\",COUNTRY_INFO!X26,\"Not required\")","v":0},{"$f":"IF(COUNTRY_INFO!H26=1, IF($E26=1,IF(ALB_MBD!$G26<>\" \",COUNTRY_INFO!F26+COUNTRY_INFO!G26-ALB_MBD!$G26,COUNTRY_INFO!F26+COUNTRY_INFO!G26), 0),0)","v":0},{"$f":"IF(INTRO!$E$39<>\"Endemic\",0, IF(AND(COUNTRY_INFO!$I26=1,$F26<>0),IF(COUNTRY_INFO!N26>=(COUNTRY_INFO!F26+COUNTRY_INFO!G26),COUNTRY_INFO!F26+COUNTRY_INFO!G26,COUNTRY_INFO!$N26), 0))","v":0},0,0,0,0,null,0]
[{"$f":"IF(INTRO!$E$39=\"Non-endemic\",\" \",IF(COUNTRY_INFO!A27=0,\" \",COUNTRY_INFO!A27))","v":"Cameroun"},{"$f":"IF(INTRO!$E$39=\"Non-endemic\",\" \",IF(COUNTRY_INFO!B27=0,\" \",COUNTRY_INFO!B27))","v":"Centre"},{"$f":"IF(INTRO!$E$39=\"Non-endemic\",\" \",IF(COUNTRY_INFO!C27=0,\" \",COUNTRY_INFO!C27))","v":"Djoungolo"},{"$f":"IF(INTRO!$E$39=\"Non-endemic\",0,IF(INTRO!$E$39=\"Endemic but PC is not required\",IF(COUNTRY_INFO!$H27=1,COUNTRY_INFO!F27+COUNTRY_INFO!G27,0),IF(COUNTRY_INFO!$H27=1,COUNTRY_INFO!F27+COUNTRY_INFO!G27,IF(COUNTRY_INFO!$I27=1,IF(COUNTRY_INFO!N27>=(COUNTRY_INFO!F27+COUNTRY_INFO!G27),COUNTRY_INFO!F27+COUNTRY_INFO!G27,COUNTRY_INFO!$N27),0))))","v":0},{"$f":"IF(AND(INTRO!$E$39=\"Non-endemic\",INTRO!$E$37=\"Non-endemic\"),\"Not required\",IF(INTRO!$E$39=\"Non-endemic\",\"Treat with DEC\",COUNTRY_INFO!W27))","v":0},{"$f":"IF(INTRO!$E$39<>\"Non-endemic\",COUNTRY_INFO!X27,\"Not required\")","v":0},{"$f":"IF(COUNTRY_INFO!H27=1, IF($E27=1,IF(ALB_MBD!$G27<>\" \",COUNTRY_INFO!F27+COUNTRY_INFO!G27-ALB_MBD!$G27,COUNTRY_INFO!F27+COUNTRY_INFO!G27), 0),0)","v":0},{"$f":"IF(INTRO!$E$39<>\"Endemic\",0, IF(AND(COUNTRY_INFO!$I27=1,$F27<>0),IF(COUNTRY_INFO!N27>=(COUNTRY_INFO!F27+COUNTRY_INFO!G27),COUNTRY_INFO!F27+COUNTRY_INFO!G27,COUNTRY_INFO!$N27), 0))","v":0},0,0,0,0,null,0]
[{"$f":"IF(INTRO!$E$39=\"Non-endemic\",\" \",IF(COUNTRY_INFO!A28=0,\" \",COUNTRY_INFO!A28))","v":"Cameroun"},{"$f":"IF(INTRO!$E$39=\"Non-endemic\",\" \",IF(COUNTRY_INFO!B28=0,\" \",COUNTRY_INFO!B28))","v":"Centre"},{"$f":"IF(INTRO!$E$39=\"Non-endemic\",\" \",IF(COUNTRY_INFO!C28=0,\" \",COUNTRY_INFO!C28))","v":"Ebebda"},{"$f":"IF(INTRO!$E$39=\"Non-endemic\",0,IF(INTRO!$E$39=\"Endemic but PC is not required\",IF(COUNTRY_INFO!$H28=1,COUNTRY_INFO!F28+COUNTRY_INFO!G28,0),IF(COUNTRY_INFO!$H28=1,COUNTRY_INFO!F28+COUNTRY_INFO!G28,IF(COUNTRY_INFO!$I28=1,IF(COUNTRY_INFO!N28>=(COUNTRY_INFO!F28+COUNTRY_INFO!G28),COUNTRY_INFO!F28+COUNTRY_INFO!G28,COUNTRY_INFO!$N28),0))))","v":20732},{"$f":"IF(AND(INTRO!$E$39=\"Non-endemic\",INTRO!$E$37=\"Non-endemic\"),\"Not required\",IF(INTRO!$E$39=\"Non-endemic\",\"Treat with DEC\",COUNTRY_INFO!W28))","v":0},{"$f":"IF(INTRO!$E$39<>\"Non-endemic\",COUNTRY_INFO!X28,\"Not required\")","v":1},{"$f":"IF(COUNTRY_INFO!H28=1, IF($E28=1,IF(ALB_MBD!$G28<>\" \",COUNTRY_INFO!F28+COUNTRY_INFO!G28-ALB_MBD!$G28,COUNTRY_INFO!F28+COUNTRY_INFO!G28), 0),0)","v":0},{"$f":"IF(INTRO!$E$39<>\"Endemic\",0, IF(AND(COUNTRY_INFO!$I28=1,$F28<>0),IF(COUNTRY_INFO!N28>=(COUNTRY_INFO!F28+COUNTRY_INFO!G28),COUNTRY_INFO!F28+COUNTRY_INFO!G28,COUNTRY_INFO!$N28), 0))","v":20732},0,58049.599999999999,0,58049.599999999999,null,58049.599999999999]
[{"$f":"IF(INTRO!$E$39=\"Non-endemic\",\" \",IF(COUNTRY_INFO!A29=0,\" \",COUNTRY_INFO!A29))","v":"Cameroun"},{"$f":"IF(INTRO!$E$39=\"Non-endemic\",\" \",IF(COUNTRY_INFO!B29=0,\" \",COUNTRY_INFO!B29))","v":"Centre"},{"$f":"IF(INTRO!$E$39=\"Non-endemic\",\" \",IF(COUNTRY_INFO!C29=0,\" \",COUNTRY_INFO!C29))","v":"Efoulan"},{"$f":"IF(INTRO!$E$39=\"Non-endemic\",0,IF(INTRO!$E$39=\"Endemic but PC is not required\",IF(COUNTRY_INFO!$H29=1,COUNTRY_INFO!F29+COUNTRY_INFO!G29,0),IF(COUNTRY_INFO!$H29=1,COUNTRY_INFO!F29+COUNTRY_INFO!G29,IF(COUNTRY_INFO!$I29=1,IF(COUNTRY_INFO!N29>=(COUNTRY_INFO!F29+COUNTRY_INFO!G29),COUNTRY_INFO!F29+COUNTRY_INFO!G29,COUNTRY_INFO!$N29),0))))","v":0},{"$f":"IF(AND(INTRO!$E$39=\"Non-endemic\",INTRO!$E$37=\"Non-endemic\"),\"Not required\",IF(INTRO!$E$39=\"Non-endemic\",\"Treat with DEC\",COUNTRY_INFO!W29))","v":0},{"$f":"IF(INTRO!$E$39<>\"Non-endemic\",COUNTRY_INFO!X29,\"Not required\")","v":0},{"$f":"IF(COUNTRY_INFO!H29=1, IF($E29=1,IF(ALB_MBD!$G29<>\" \",COUNTRY_INFO!F29+COUNTRY_INFO!G29-ALB_MBD!$G29,COUNTRY_INFO!F29+COUNTRY_INFO!G29), 0),0)","v":0},{"$f":"IF(INTRO!$E$39<>\"Endemic\",0, IF(AND(COUNTRY_INFO!$I29=1,$F29<>0),IF(COUNTRY_INFO!N29>=(COUNTRY_INFO!F29+COUNTRY_INFO!G29),COUNTRY_INFO!F29+COUNTRY_INFO!G29,COUNTRY_INFO!$N29), 0))","v":0},0,0,0,0,null,0]
[{"$f":"IF(INTRO!$E$39=\"Non-endemic\",\" \",IF(COUNTRY_INFO!A30=0,\" \",COUNTRY_INFO!A30))","v":"Cameroun"},{"$f":"IF(INTRO!$E$39=\"Non-endemic\",\" \",IF(COUNTRY_INFO!B30=0,\" \",COUNTRY_INFO!B30))","v":"Centre"},{"$f":"IF(INTRO!$E$39=\"Non-endemic\",\" \",IF(COUNTRY_INFO!C30=0,\" \",COUNTRY_INFO!C30))","v":"Elig Mfomo"},{"$f":"IF(INTRO!$E$39=\"Non-endemic\",0,IF(INTRO!$E$39=\"Endemic but PC is not required\",IF(COUNTRY_INFO!$H30=1,COUNTRY_INFO!F30+COUNTRY_INFO!G30,0),IF(COUNTRY_INFO!$H30=1,COUNTRY_INFO!F30+COUNTRY_INFO!G30,IF(COUNTRY_INFO!$I30=1,IF(COUNTRY_INFO!N30>=(COUNTRY_INFO!F30+COUNTRY_INFO!G30),COUNTRY_INFO!F30+COUNTRY_INFO!G30,COUNTRY_INFO!$N30),0))))","v":0},{"$f":"IF(AND(INTRO!$E$39=\"Non-endemic\",INTRO!$E$37=\"Non-endemic\"),\"Not required\",IF(INTRO!$E$39=\"Non-endemic\",\"Treat with DEC\",COUNTRY_INFO!W30))","v":0},{"$f":"IF(INTRO!$E$39<>\"Non-endemic\",COUNTRY_INFO!X30,\"Not required\")","v":0},{"$f":"IF(COUNTRY_INFO!H30=1, IF($E30=1,IF(ALB_MBD!$G30<>\" \",COUNTRY_INFO!F30+COUNTRY_INFO!G30-ALB_MBD!$G30,COUNTRY_INFO!F30+COUNTRY_INFO!G30), 0),0)","v":0},{"$f":"IF(INTRO!$E$39<>\"Endemic\",0, IF(AND(COUNTRY_INFO!$I30=1,$F30<>0),IF(COUNTRY_INFO!N30>=(COUNTRY_INFO!F30+COUNTRY_INFO!G30),COUNTRY_INFO!F30+COUNTRY_INFO!G30,COUNTRY_INFO!$N30), 0))","v":0},0,0,0,0,null,0]
[{"$f":"IF(INTRO!$E$39=\"Non-endemic\",\" \",IF(COUNTRY_INFO!A31=0,\" \",COUNTRY_INFO!A31))","v":"Cameroun"},{"$f":"IF(INTRO!$E$39=\"Non-endemic\",\" \",IF(COUNTRY_INFO!B31=0,\" \",COUNTRY_INFO!B31))","v":"Centre"},{"$f":"IF(INTRO!$E$39=\"Non-endemic\",\" \",IF(COUNTRY_INFO!C31=0,\" \",COUNTRY_INFO!C31))","v":"Eseka"},{"$f":"IF(INTRO!$E$39=\"Non-endemic\",0,IF(INTRO!$E$39=\"Endemic but PC is not required\",IF(COUNTRY_INFO!$H31=1,COUNTRY_INFO!F31+COUNTRY_INFO!G31,0),IF(COUNTRY_INFO!$H31=1,COUNTRY_INFO!F31+COUNTRY_INFO!G31,IF(COUNTRY_INFO!$I31=1,IF(COUNTRY_INFO!N31>=(COUNTRY_INFO!F31+COUNTRY_INFO!G31),COUNTRY_INFO!F31+COUNTRY_INFO!G31,COUNTRY_INFO!$N31),0))))","v":77682},{"$f":"IF(AND(INTRO!$E$39=\"Non-endemic\",INTRO!$E$37=\"Non-endemic\"),\"Not required\",IF(INTRO!$E$39=\"Non-endemic\",\"Treat with DEC\",COUNTRY_INFO!W31))","v":0},{"$f":"IF(INTRO!$E$39<>\"Non-endemic\",COUNTRY_INFO!X31,\"Not required\")","v":1},{"$f":"IF(COUNTRY_INFO!H31=1, IF($E31=1,IF(ALB_MBD!$G31<>\" \",COUNTRY_INFO!F31+COUNTRY_INFO!G31-ALB_MBD!$G31,COUNTRY_INFO!F31+COUNTRY_INFO!G31), 0),0)","v":0},{"$f":"IF(INTRO!$E$39<>\"Endemic\",0, IF(AND(COUNTRY_INFO!$I31=1,$F31<>0),IF(COUNTRY_INFO!N31>=(COUNTRY_INFO!F31+COUNTRY_INFO!G31),COUNTRY_INFO!F31+COUNTRY_INFO!G31,COUNTRY_INFO!$N31), 0))","v":77682},0,217509.59999999998,0,217509.59999999998,null,217509.59999999998]
[{"$f":"IF(INTRO!$E$39=\"Non-endemic\",\" \",IF(COUNTRY_INFO!A32=0,\" \",COUNTRY_INFO!A32))","v":"Cameroun"},{"$f":"IF(INTRO!$E$39=\"Non-endemic\",\" \",IF(COUNTRY_INFO!B32=0,\" \",COUNTRY_INFO!B32))","v":"Centre"},{"$f":"IF(INTRO!$E$39=\"Non-endemic\",\" \",IF(COUNTRY_INFO!C32=0,\" \",COUNTRY_INFO!C32))","v":"Esse"},{"$f":"IF(INTRO!$E$39=\"Non-endemic\",0,IF(INTRO!$E$39=\"Endemic but PC is not required\",IF(COUNTRY_INFO!$H32=1,COUNTRY_INFO!F32+COUNTRY_INFO!G32,0),IF(COUNTRY_INFO!$H32=1,COUNTRY_INFO!F32+COUNTRY_INFO!G32,IF(COUNTRY_INFO!$I32=1,IF(COUNTRY_INFO!N32>=(COUNTRY_INFO!F32+COUNTRY_INFO!G32),COUNTRY_INFO!F32+COUNTRY_INFO!G32,COUNTRY_INFO!$N32),0))))","v":24863},{"$f":"IF(AND(INTRO!$E$39=\"Non-endemic\",INTRO!$E$37=\"Non-endemic\"),\"Not required\",IF(INTRO!$E$39=\"Non-endemic\",\"Treat with DEC\",COUNTRY_INFO!W32))","v":0},{"$f":"IF(INTRO!$E$39<>\"Non-endemic\",COUNTRY_INFO!X32,\"Not required\")","v":1},{"$f":"IF(COUNTRY_INFO!H32=1, IF($E32=1,IF(ALB_MBD!$G32<>\" \",COUNTRY_INFO!F32+COUNTRY_INFO!G32-ALB_MBD!$G32,COUNTRY_INFO!F32+COUNTRY_INFO!G32), 0),0)","v":0},{"$f":"IF(INTRO!$E$39<>\"Endemic\",0, IF(AND(COUNTRY_INFO!$I32=1,$F32<>0),IF(COUNTRY_INFO!N32>=(COUNTRY_INFO!F32+COUNTRY_INFO!G32),COUNTRY_INFO!F32+COUNTRY_INFO!G32,COUNTRY_INFO!$N32), 0))","v":24863},0,69616.399999999994,0,69616.399999999994,null,69616.399999999994]
[{"$f":"IF(INTRO!$E$39=\"Non-endemic\",\" \",IF(COUNTRY_INFO!A33=0,\" \",COUNTRY_INFO!A33))","v":"Cameroun"},{"$f":"IF(INTRO!$E$39=\"Non-endemic\",\" \",IF(COUNTRY_INFO!B33=0,\" \",COUNTRY_INFO!B33))","v":"Centre"},{"$f":"IF(INTRO!$E$39=\"Non-endemic\",\" \",IF(COUNTRY_INFO!C33=0,\" \",COUNTRY_INFO!C33))","v":"Evodoula"},{"$f":"IF(INTRO!$E$39=\"Non-endemic\",0,IF(INTRO!$E$39=\"Endemic but PC is not required\",IF(COUNTRY_INFO!$H33=1,COUNTRY_INFO!F33+COUNTRY_INFO!G33,0),IF(COUNTRY_INFO!$H33=1,COUNTRY_INFO!F33+COUNTRY_INFO!G33,IF(COUNTRY_INFO!$I33=1,IF(COUNTRY_INFO!N33>=(COUNTRY_INFO!F33+COUNTRY_INFO!G33),COUNTRY_INFO!F33+COUNTRY_INFO!G33,COUNTRY_INFO!$N33),0))))","v":19471},{"$f":"IF(AND(INTRO!$E$39=\"Non-endemic\",INTRO!$E$37=\"Non-endemic\"),\"Not required\",IF(INTRO!$E$39=\"Non-endemic\",\"Treat with DEC\",COUNTRY_INFO!W33))","v":0},{"$f":"IF(INTRO!$E$39<>\"Non-endemic\",COUNTRY_INFO!X33,\"Not required\")","v":1},{"$f":"IF(COUNTRY_INFO!H33=1, IF($E33=1,IF(ALB_MBD!$G33<>\" \",COUNTRY_INFO!F33+COUNTRY_INFO!G33-ALB_MBD!$G33,COUNTRY_INFO!F33+COUNTRY_INFO!G33), 0),0)","v":0},{"$f":"IF(INTRO!$E$39<>\"Endemic\",0, IF(AND(COUNTRY_INFO!$I33=1,$F33<>0),IF(COUNTRY_INFO!N33>=(COUNTRY_INFO!F33+COUNTRY_INFO!G33),COUNTRY_INFO!F33+COUNTRY_INFO!G33,COUNTRY_INFO!$N33), 0))","v":19471},0,54518.799999999996,0,54518.799999999996,null,54518.799999999996]
[{"$f":"IF(INTRO!$E$39=\"Non-endemic\",\" \",IF(COUNTRY_INFO!A34=0,\" \",COUNTRY_INFO!A34))","v":"Cameroun"},{"$f":"IF(INTRO!$E$39=\"Non-endemic\",\" \",IF(COUNTRY_INFO!B34=0,\" \",COUNTRY_INFO!B34))","v":"Centre"},{"$f":"IF(INTRO!$E$39=\"Non-endemic\",\" \",IF(COUNTRY_INFO!C34=0,\" \",COUNTRY_INFO!C34))","v":"Mbalmayo"},{"$f":"IF(INTRO!$E$39=\"Non-endemic\",0,IF(INTRO!$E$39=\"Endemic but PC is not required\",IF(COUNTRY_INFO!$H34=1,COUNTRY_INFO!F34+COUNTRY_INFO!G34,0),IF(COUNTRY_INFO!$H34=1,COUNTRY_INFO!F34+COUNTRY_INFO!G34,IF(COUNTRY_INFO!$I34=1,IF(COUNTRY_INFO!N34>=(COUNTRY_INFO!F34+COUNTRY_INFO!G34),COUNTRY_INFO!F34+COUNTRY_INFO!G34,COUNTRY_INFO!$N34),0))))","v":0},{"$f":"IF(AND(INTRO!$E$39=\"Non-endemic\",INTRO!$E$37=\"Non-endemic\"),\"Not required\",IF(INTRO!$E$39=\"Non-endemic\",\"Treat with DEC\",COUNTRY_INFO!W34))","v":0},{"$f":"IF(INTRO!$E$39<>\"Non-endemic\",COUNTRY_INFO!X34,\"Not required\")","v":0},{"$f":"IF(COUNTRY_INFO!H34=1, IF($E34=1,IF(ALB_MBD!$G34<>\" \",COUNTRY_INFO!F34+COUNTRY_INFO!G34-ALB_MBD!$G34,COUNTRY_INFO!F34+COUNTRY_INFO!G34), 0),0)","v":0},{"$f":"IF(INTRO!$E$39<>\"Endemic\",0, IF(AND(COUNTRY_INFO!$I34=1,$F34<>0),IF(COUNTRY_INFO!N34>=(COUNTRY_INFO!F34+COUNTRY_INFO!G34),COUNTRY_INFO!F34+COUNTRY_INFO!G34,COUNTRY_INFO!$N34), 0))","v":0},0,0,0,0,null,0]
[{"$f":"IF(INTRO!$E$39=\"Non-endemic\",\" \",IF(COUNTRY_INFO!A35=0,\" \",COUNTRY_INFO!A35))","v":"Cameroun"},{"$f":"IF(INTRO!$E$39=\"Non-endemic\",\" \",IF(COUNTRY_INFO!B35=0,\" \",COUNTRY_INFO!B35))","v":"Centre"},{"$f":"IF(INTRO!$E$39=\"Non-endemic\",\" \",IF(COUNTRY_INFO!C35=0,\" \",COUNTRY_INFO!C35))","v":"Mbandjock"},{"$f":"IF(INTRO!$E$39=\"Non-endemic\",0,IF(INTRO!$E$39=\"Endemic but PC is not required\",IF(COUNTRY_INFO!$H35=1,COUNTRY_INFO!F35+COUNTRY_INFO!G35,0),IF(COUNTRY_INFO!$H35=1,COUNTRY_INFO!F35+COUNTRY_INFO!G35,IF(COUNTRY_INFO!$I35=1,IF(COUNTRY_INFO!N35>=(COUNTRY_INFO!F35+COUNTRY_INFO!G35),COUNTRY_INFO!F35+COUNTRY_INFO!G35,COUNTRY_INFO!$N35),0))))","v":56641},{"$f":"IF(AND(INTRO!$E$39=\"Non-endemic\",INTRO!$E$37=\"Non-endemic\"),\"Not required\",IF(INTRO!$E$39=\"Non-endemic\",\"Treat with DEC\",COUNTRY_INFO!W35))","v":0},{"$f":"IF(INTRO!$E$39<>\"Non-endemic\",COUNTRY_INFO!X35,\"Not required\")","v":1},{"$f":"IF(COUNTRY_INFO!H35=1, IF($E35=1,IF(ALB_MBD!$G35<>\" \",COUNTRY_INFO!F35+COUNTRY_INFO!G35-ALB_MBD!$G35,COUNTRY_INFO!F35+COUNTRY_INFO!G35), 0),0)","v":0},{"$f":"IF(INTRO!$E$39<>\"Endemic\",0, IF(AND(COUNTRY_INFO!$I35=1,$F35<>0),IF(COUNTRY_INFO!N35>=(COUNTRY_INFO!F35+COUNTRY_INFO!G35),COUNTRY_INFO!F35+COUNTRY_INFO!G35,COUNTRY_INFO!$N35), 0))","v":56641},0,158594.79999999999,0,158594.79999999999,null,158594.79999999999]
[{"$f":"IF(INTRO!$E$39=\"Non-endemic\",\" \",IF(COUNTRY_INFO!A36=0,\" \",COUNTRY_INFO!A36))","v":"Cameroun"},{"$f":"IF(INTRO!$E$39=\"Non-endemic\",\" \",IF(COUNTRY_INFO!B36=0,\" \",COUNTRY_INFO!B36))","v":"Centre"},{"$f":"IF(INTRO!$E$39=\"Non-endemic\",\" \",IF(COUNTRY_INFO!C36=0,\" \",COUNTRY_INFO!C36))","v":"Mbankomo"},{"$f":"IF(INTRO!$E$39=\"Non-endemic\",0,IF(INTRO!$E$39=\"Endemic but PC is not required\",IF(COUNTRY_INFO!$H36=1,COUNTRY_INFO!F36+COUNTRY_INFO!G36,0),IF(COUNTRY_INFO!$H36=1,COUNTRY_INFO!F36+COUNTRY_INFO!G36,IF(COUNTRY_INFO!$I36=1,IF(COUNTRY_INFO!N36>=(COUNTRY_INFO!F36+COUNTRY_INFO!G36),COUNTRY_INFO!F36+COUNTRY_INFO!G36,COUNTRY_INFO!$N36),0))))","v":0},{"$f":"IF(AND(INTRO!$E$39=\"Non-endemic\",INTRO!$E$37=\"Non-endemic\"),\"Not required\",IF(INTRO!$E$39=\"Non-endemic\",\"Treat with DEC\",COUNTRY_INFO!W36))","v":0},{"$f":"IF(INTRO!$E$39<>\"Non-endemic\",COUNTRY_INFO!X36,\"Not required\")","v":0},{"$f":"IF(COUNTRY_INFO!H36=1, IF($E36=1,IF(ALB_MBD!$G36<>\" \",COUNTRY_INFO!F36+COUNTRY_INFO!G36-ALB_MBD!$G36,COUNTRY_INFO!F36+COUNTRY_INFO!G36), 0),0)","v":0},{"$f":"IF(INTRO!$E$39<>\"Endemic\",0, IF(AND(COUNTRY_INFO!$I36=1,$F36<>0),IF(COUNTRY_INFO!N36>=(COUNTRY_INFO!F36+COUNTRY_INFO!G36),COUNTRY_INFO!F36+COUNTRY_INFO!G36,COUNTRY_INFO!$N36), 0))","v":0},0,0,0,0,null,0]
[{"$f":"IF(INTRO!$E$39=\"Non-endemic\",\" \",IF(COUNTRY_INFO!A37=0,\" \",COUNTRY_INFO!A37))","v":"Cameroun"},{"$f":"IF(INTRO!$E$39=\"Non-endemic\",\" \",IF(COUNTRY_INFO!B37=0,\" \",COUNTRY_INFO!B37))","v":"Centre"},{"$f":"IF(INTRO!$E$39=\"Non-endemic\",\" \",IF(COUNTRY_INFO!C37=0,\" \",COUNTRY_INFO!C37))","v":"Mfou"},{"$f":"IF(INTRO!$E$39=\"Non-endemic\",0,IF(INTRO!$E$39=\"Endemic but PC is not required\",IF(COUNTRY_INFO!$H37=1,COUNTRY_INFO!F37+COUNTRY_INFO!G37,0),IF(COUNTRY_INFO!$H37=1,COUNTRY_INFO!F37+COUNTRY_INFO!G37,IF(COUNTRY_INFO!$I37=1,IF(COUNTRY_INFO!N37>=(COUNTRY_INFO!F37+COUNTRY_INFO!G37),COUNTRY_INFO!F37+COUNTRY_INFO!G37,COUNTRY_INFO!$N37),0))))","v":0},{"$f":"IF(AND(INTRO!$E$39=\"Non-endemic\",INTRO!$E$37=\"Non-endemic\"),\"Not required\",IF(INTRO!$E$39=\"Non-endemic\",\"Treat with DEC\",COUNTRY_INFO!W37))","v":0},{"$f":"IF(INTRO!$E$39<>\"Non-endemic\",COUNTRY_INFO!X37,\"Not required\")","v":0},{"$f":"IF(COUNTRY_INFO!H37=1, IF($E37=1,IF(ALB_MBD!$G37<>\" \",COUNTRY_INFO!F37+COUNTRY_INFO!G37-ALB_MBD!$G37,COUNTRY_INFO!F37+COUNTRY_INFO!G37), 0),0)","v":0},{"$f":"IF(INTRO!$E$39<>\"Endemic\",0, IF(AND(COUNTRY_INFO!$I37=1,$F37<>0),IF(COUNTRY_INFO!N37>=(COUNTRY_INFO!F37+COUNTRY_INFO!G37),COUNTRY_INFO!F37+COUNTRY_INFO!G37,COUNTRY_INFO!$N37), 0))","v":0},0,0,0,0,null,0]
[{"$f":"IF(INTRO!$E$39=\"Non-endemic\",\" \",IF(COUNTRY_INFO!A38=0,\" \",COUNTRY_INFO!A38))","v":"Cameroun"},{"$f":"IF(INTRO!$E$39=\"Non-endemic\",\" \",IF(COUNTRY_INFO!B38=0,\" \",COUNTRY_INFO!B38))","v":"Centre"},{"$f":"IF(INTRO!$E$39=\"Non-endemic\",\" \",IF(COUNTRY_INFO!C38=0,\" \",COUNTRY_INFO!C38))","v":"Monatele"},{"$f":"IF(INTRO!$E$39=\"Non-endemic\",0,IF(INTRO!$E$39=\"Endemic but PC is not required\",IF(COUNTRY_INFO!$H38=1,COUNTRY_INFO!F38+COUNTRY_INFO!G38,0),IF(COUNTRY_INFO!$H38=1,COUNTRY_INFO!F38+COUNTRY_INFO!G38,IF(COUNTRY_INFO!$I38=1,IF(COUNTRY_INFO!N38>=(COUNTRY_INFO!F38+COUNTRY_INFO!G38),COUNTRY_INFO!F38+COUNTRY_INFO!G38,COUNTRY_INFO!$N38),0))))","v":46962},{"$f":"IF(AND(INTRO!$E$39=\"Non-endemic\",INTRO!$E$37=\"Non-endemic\"),\"Not required\",IF(INTRO!$E$39=\"Non-endemic\",\"Treat with DEC\",COUNTRY_INFO!W38))","v":0},{"$f":"IF(INTRO!$E$39<>\"Non-endemic\",COUNTRY_INFO!X38,\"Not required\")","v":1},{"$f":"IF(COUNTRY_INFO!H38=1, IF($E38=1,IF(ALB_MBD!$G38<>\" \",COUNTRY_INFO!F38+COUNTRY_INFO!G38-ALB_MBD!$G38,COUNTRY_INFO!F38+COUNTRY_INFO!G38), 0),0)","v":0},{"$f":"IF(INTRO!$E$39<>\"Endemic\",0, IF(AND(COUNTRY_INFO!$I38=1,$F38<>0),IF(COUNTRY_INFO!N38>=(COUNTRY_INFO!F38+COUNTRY_INFO!G38),COUNTRY_INFO!F38+COUNTRY_INFO!G38,COUNTRY_INFO!$N38), 0))","v":46962},0,131493.6,0,131493.6,null,131493.6]
[{"$f":"IF(INTRO!$E$39=\"Non-endemic\",\" \",IF(COUNTRY_INFO!A39=0,\" \",COUNTRY_INFO!A39))","v":"Cameroun"},{"$f":"IF(INTRO!$E$39=\"Non-endemic\",\" \",IF(COUNTRY_INFO!B39=0,\" \",COUNTRY_INFO!B39))","v":"Centre"},{"$f":"IF(INTRO!$E$39=\"Non-endemic\",\" \",IF(COUNTRY_INFO!C39=0,\" \",COUNTRY_INFO!C39))","v":"Mvog-Ada"},{"$f":"IF(INTRO!$E$39=\"Non-endemic\",0,IF(INTRO!$E$39=\"Endemic but PC is not required\",IF(COUNTRY_INFO!$H39=1,COUNTRY_INFO!F39+COUNTRY_INFO!G39,0),IF(COUNTRY_INFO!$H39=1,COUNTRY_INFO!F39+COUNTRY_INFO!G39,IF(COUNTRY_INFO!$I39=1,IF(COUNTRY_INFO!N39>=(COUNTRY_INFO!F39+COUNTRY_INFO!G39),COUNTRY_INFO!F39+COUNTRY_INFO!G39,COUNTRY_INFO!$N39),0))))","v":0},{"$f":"IF(AND(INTRO!$E$39=\"Non-endemic\",INTRO!$E$37=\"Non-endemic\"),\"Not required\",IF(INTRO!$E$39=\"Non-endemic\",\"Treat with DEC\",COUNTRY_INFO!W39))","v":0},{"$f":"IF(INTRO!$E$39<>\"Non-endemic\",COUNTRY_INFO!X39,\"Not required\")","v":0},{"$f":"IF(COUNTRY_INFO!H39=1, IF($E39=1,IF(ALB_MBD!$G39<>\" \",COUNTRY_INFO!F39+COUNTRY_INFO!G39-ALB_MBD!$G39,COUNTRY_INFO!F39+COUNTRY_INFO!G39), 0),0)","v":0},{"$f":"IF(INTRO!$E$39<>\"Endemic\",0, IF(AND(COUNTRY_INFO!$I39=1,$F39<>0),IF(COUNTRY_INFO!N39>=(COUNTRY_INFO!F39+COUNTRY_INFO!G39),COUNTRY_INFO!F39+COUNTRY_INFO!G39,COUNTRY_INFO!$N39), 0))","v":0},0,0,0,0,null,0]
[{"$f":"IF(INTRO!$E$39=\"Non-endemic\",\" \",IF(COUNTRY_INFO!A40=0,\" \",COUNTRY_INFO!A40))","v":"Cameroun"},{"$f":"IF(INTRO!$E$39=\"Non-endemic\",\" \",IF(COUNTRY_INFO!B40=0,\" \",COUNTRY_INFO!B40))","v":"Centre"},{"$f":"IF(INTRO!$E$39=\"Non-endemic\",\" \",IF(COUNTRY_INFO!C40=0,\" \",COUNTRY_INFO!C40))","v":"Nanga Eboko"},{"$f":"IF(INTRO!$E$39=\"Non-endemic\",0,IF(INTRO!$E$39=\"Endemic but PC is not required\",IF(COUNTRY_INFO!$H40=1,COUNTRY_INFO!F40+COUNTRY_INFO!G40,0),IF(COUNTRY_INFO!$H40=1,COUNTRY_INFO!F40+COUNTRY_INFO!G40,IF(COUNTRY_INFO!$I40=1,IF(COUNTRY_INFO!N40>=(COUNTRY_INFO!F40+COUNTRY_INFO!G40),COUNTRY_INFO!F40+COUNTRY_INFO!G40,COUNTRY_INFO!$N40),0))))","v":61081},{"$f":"IF(AND(INTRO!$E$39=\"Non-endemic\",INTRO!$E$37=\"Non-endemic\"),\"Not required\",IF(INTRO!$E$39=\"Non-endemic\",\"Treat with DEC\",COUNTRY_INFO!W40))","v":0},{"$f":"IF(INTRO!$E$39<>\"Non-endemic\",COUNTRY_INFO!X40,\"Not required\")","v":1},{"$f":"IF(COUNTRY_INFO!H40=1, IF($E40=1,IF(ALB_MBD!$G40<>\" \",COUNTRY_INFO!F40+COUNTRY_INFO!G40-ALB_MBD!$G40,COUNTRY_INFO!F40+COUNTRY_INFO!G40), 0),0)","v":0},{"$f":"IF(INTRO!$E$39<>\"Endemic\",0, IF(AND(COUNTRY_INFO!$I40=1,$F40<>0),IF(COUNTRY_INFO!N40>=(COUNTRY_INFO!F40+COUNTRY_INFO!G40),COUNTRY_INFO!F40+COUNTRY_INFO!G40,COUNTRY_INFO!$N40), 0))","v":61081},0,171026.8,0,171026.8,null,171026.8]
[{"$f":"IF(INTRO!$E$39=\"Non-endemic\",\" \",IF(COUNTRY_INFO!A41=0,\" \",COUNTRY_INFO!A41))","v":"Cameroun"},{"$f":"IF(INTRO!$E$39=\"Non-endemic\",\" \",IF(COUNTRY_INFO!B41=0,\" \",COUNTRY_INFO!B41))","v":"Centre"},{"$f":"IF(INTRO!$E$39=\"Non-endemic\",\" \",IF(COUNTRY_INFO!C41=0,\" \",COUNTRY_INFO!C41))","v":"Ndikinimeki"},{"$f":"IF(INTRO!$E$39=\"Non-endemic\",0,IF(INTRO!$E$39=\"Endemic but PC is not required\",IF(COUNTRY_INFO!$H41=1,COUNTRY_INFO!F41+COUNTRY_INFO!G41,0),IF(COUNTRY_INFO!$H41=1,COUNTRY_INFO!F41+COUNTRY_INFO!G41,IF(COUNTRY_INFO!$I41=1,IF(COUNTRY_INFO!N41>=(COUNTRY_INFO!F41+COUNTRY_INFO!G41),COUNTRY_INFO!F41+COUNTRY_INFO!G41,COUNTRY_INFO!$N41),0))))","v":43109},{"$f":"IF(AND(INTRO!$E$39=\"Non-endemic\",INTRO!$E$37=\"Non-endemic\"),\"Not required\",IF(INTRO!$E$39=\"Non-endemic\",\"Treat with DEC\",COUNTRY_INFO!W41))","v":0},{"$f":"IF(INTRO!$E$39<>\"Non-endemic\",COUNTRY_INFO!X41,\"Not required\")","v":1},{"$f":"IF(COUNTRY_INFO!H41=1, IF($E41=1,IF(ALB_MBD!$G41<>\" \",COUNTRY_INFO!F41+COUNTRY_INFO!G41-ALB_MBD!$G41,COUNTRY_INFO!F41+COUNTRY_INFO!G41), 0),0)","v":0},{"$f":"IF(INTRO!$E$39<>\"Endemic\",0, IF(AND(COUNTRY_INFO!$I41=1,$F41<>0),IF(COUNTRY_INFO!N41>=(COUNTRY_INFO!F41+COUNTRY_INFO!G41),COUNTRY_INFO!F41+COUNTRY_INFO!G41,COUNTRY_INFO!$N41), 0))","v":43109},0,120705.2,0,120705.2,null,120705.2]
[{"$f":"IF(INTRO!$E$39=\"Non-endemic\",\" \",IF(COUNTRY_INFO!A42=0,\" \",COUNTRY_INFO!A42))","v":"Cameroun"},{"$f":"IF(INTRO!$E$39=\"Non-endemic\",\" \",IF(COUNTRY_INFO!B42=0,\" \",COUNTRY_INFO!B42))","v":"Centre"},{"$f":"IF(INTRO!$E$39=\"Non-endemic\",\" \",IF(COUNTRY_INFO!C42=0,\" \",COUNTRY_INFO!C42))","v":"Ngog Mapubi"},{"$f":"IF(INTRO!$E$39=\"Non-endemic\",0,IF(INTRO!$E$39=\"Endemic but PC is not required\",IF(COUNTRY_INFO!$H42=1,COUNTRY_INFO!F42+COUNTRY_INFO!G42,0),IF(COUNTRY_INFO!$H42=1,COUNTRY_INFO!F42+COUNTRY_INFO!G42,IF(COUNTRY_INFO!$I42=1,IF(COUNTRY_INFO!N42>=(COUNTRY_INFO!F42+COUNTRY_INFO!G42),COUNTRY_INFO!F42+COUNTRY_INFO!G42,COUNTRY_INFO!$N42),0))))","v":51491},{"$f":"IF(AND(INTRO!$E$39=\"Non-endemic\",INTRO!$E$37=\"Non-endemic\"),\"Not required\",IF(INTRO!$E$39=\"Non-endemic\",\"Treat with DEC\",COUNTRY_INFO!W42))","v":0},{"$f":"IF(INTRO!$E$39<>\"Non-endemic\",COUNTRY_INFO!X42,\"Not required\")","v":1},{"$f":"IF(COUNTRY_INFO!H42=1, IF($E42=1,IF(ALB_MBD!$G42<>\" \",COUNTRY_INFO!F42+COUNTRY_INFO!G42-ALB_MBD!$G42,COUNTRY_INFO!F42+COUNTRY_INFO!G42), 0),0)","v":0},{"$f":"IF(INTRO!$E$39<>\"Endemic\",0, IF(AND(COUNTRY_INFO!$I42=1,$F42<>0),IF(COUNTRY_INFO!N42>=(COUNTRY_INFO!F42+COUNTRY_INFO!G42),COUNTRY_INFO!F42+COUNTRY_INFO!G42,COUNTRY_INFO!$N42), 0))","v":51491},0,144174.79999999999,0,144174.79999999999,null,144174.79999999999]
[{"$f":"IF(INTRO!$E$39=\"Non-endemic\",\" \",IF(COUNTRY_INFO!A43=0,\" \",COUNTRY_INFO!A43))","v":"Cameroun"},{"$f":"IF(INTRO!$E$39=\"Non-endemic\",\" \",IF(COUNTRY_INFO!B43=0,\" \",COUNTRY_INFO!B43))","v":"Centre"},{"$f":"IF(INTRO!$E$39=\"Non-endemic\",\" \",IF(COUNTRY_INFO!C43=0,\" \",COUNTRY_INFO!C43))","v":"Ngoumou"},{"$f":"IF(INTRO!$E$39=\"Non-endemic\",0,IF(INTRO!$E$39=\"Endemic but PC is not required\",IF(COUNTRY_INFO!$H43=1,COUNTRY_INFO!F43+COUNTRY_INFO!G43,0),IF(COUNTRY_INFO!$H43=1,COUNTRY_INFO!F43+COUNTRY_INFO!G43,IF(COUNTRY_INFO!$I43=1,IF(COUNTRY_INFO!N43>=(COUNTRY_INFO!F43+COUNTRY_INFO!G43),COUNTRY_INFO!F43+COUNTRY_INFO!G43,COUNTRY_INFO!$N43),0))))","v":0},{"$f":"IF(AND(INTRO!$E$39=\"Non-endemic\",INTRO!$E$37=\"Non-endemic\"),\"Not required\",IF(INTRO!$E$39=\"Non-endemic\",\"Treat with DEC\",COUNTRY_INFO!W43))","v":0},{"$f":"IF(INTRO!$E$39<>\"Non-endemic\",COUNTRY_INFO!X43,\"Not required\")","v":0},{"$f":"IF(COUNTRY_INFO!H43=1, IF($E43=1,IF(ALB_MBD!$G43<>\" \",COUNTRY_INFO!F43+COUNTRY_INFO!G43-ALB_MBD!$G43,COUNTRY_INFO!F43+COUNTRY_INFO!G43), 0),0)","v":0},{"$f":"IF(INTRO!$E$39<>\"Endemic\",0, IF(AND(COUNTRY_INFO!$I43=1,$F43<>0),IF(COUNTRY_INFO!N43>=(COUNTRY_INFO!F43+COUNTRY_INFO!G43),COUNTRY_INFO!F43+COUNTRY_INFO!G43,COUNTRY_INFO!$N43), 0))","v":0},0,0,0,0,null,0]
[{"$f":"IF(INTRO!$E$39=\"Non-endemic\",\" \",IF(COUNTRY_INFO!A44=0,\" \",COUNTRY_INFO!A44))","v":"Cameroun"},{"$f":"IF(INTRO!$E$39=\"Non-endemic\",\" \",IF(COUNTRY_INFO!B44=0,\" \",COUNTRY_INFO!B44))","v":"Centre"},{"$f":"IF(INTRO!$E$39=\"Non-endemic\",\" \",IF(COUNTRY_INFO!C44=0,\" \",COUNTRY_INFO!C44))","v":"Nkolbisson"},{"$f":"IF(INTRO!$E$39=\"Non-endemic\",0,IF(INTRO!$E$39=\"Endemic but PC is not required\",IF(COUNTRY_INFO!$H44=1,COUNTRY_INFO!F44+COUNTRY_INFO!G44,0),IF(COUNTRY_INFO!$H44=1,COUNTRY_INFO!F44+COUNTRY_INFO!G44,IF(COUNTRY_INFO!$I44=1,IF(COUNTRY_INFO!N44>=(COUNTRY_INFO!F44+COUNTRY_INFO!G44),COUNTRY_INFO!F44+COUNTRY_INFO!G44,COUNTRY_INFO!$N44),0))))","v":0},{"$f":"IF(AND(INTRO!$E$39=\"Non-endemic\",INTRO!$E$37=\"Non-endemic\"),\"Not required\",IF(INTRO!$E$39=\"Non-endemic\",\"Treat with DEC\",COUNTRY_INFO!W44))","v":0},{"$f":"IF(INTRO!$E$39<>\"Non-endemic\",COUNTRY_INFO!X44,\"Not required\")","v":0},{"$f":"IF(COUNTRY_INFO!H44=1, IF($E44=1,IF(ALB_MBD!$G44<>\" \",COUNTRY_INFO!F44+COUNTRY_INFO!G44-ALB_MBD!$G44,COUNTRY_INFO!F44+COUNTRY_INFO!G44), 0),0)","v":0},{"$f":"IF(INTRO!$E$39<>\"Endemic\",0, IF(AND(COUNTRY_INFO!$I44=1,$F44<>0),IF(COUNTRY_INFO!N44>=(COUNTRY_INFO!F44+COUNTRY_INFO!G44),COUNTRY_INFO!F44+COUNTRY_INFO!G44,COUNTRY_INFO!$N44), 0))","v":0},0,0,0,0,null,0]
[{"$f":"IF(INTRO!$E$39=\"Non-endemic\",\" \",IF(COUNTRY_INFO!A45=0,\" \",COUNTRY_INFO!A45))","v":"Cameroun"},{"$f":"IF(INTRO!$E$39=\"Non-endemic\",\" \",IF(COUNTRY_INFO!B45=0,\" \",COUNTRY_INFO!B45))","v":"Centre"},{"$f":"IF(INTRO!$E$39=\"Non-endemic\",\" \",IF(COUNTRY_INFO!C45=0,\" \",COUNTRY_INFO!C45))","v":"Nkolndongo"},{"$f":"IF(INTRO!$E$39=\"Non-endemic\",0,IF(INTRO!$E$39=\"Endemic but PC is not required\",IF(COUNTRY_INFO!$H45=1,COUNTRY_INFO!F45+COUNTRY_INFO!G45,0),IF(COUNTRY_INFO!$H45=1,COUNTRY_INFO!F45+COUNTRY_INFO!G45,IF(COUNTRY_INFO!$I45=1,IF(COUNTRY_INFO!N45>=(COUNTRY_INFO!F45+COUNTRY_INFO!G45),COUNTRY_INFO!F45+COUNTRY_INFO!G45,COUNTRY_INFO!$N45),0))))","v":0},{"$f":"IF(AND(INTRO!$E$39=\"Non-endemic\",INTRO!$E$37=\"Non-endemic\"),\"Not required\",IF(INTRO!$E$39=\"Non-endemic\",\"Treat with DEC\",COUNTRY_INFO!W45))","v":0},{"$f":"IF(INTRO!$E$39<>\"Non-endemic\",COUNTRY_INFO!X45,\"Not required\")","v":0},{"$f":"IF(COUNTRY_INFO!H45=1, IF($E45=1,IF(ALB_MBD!$G45<>\" \",COUNTRY_INFO!F45+COUNTRY_INFO!G45-ALB_MBD!$G45,COUNTRY_INFO!F45+COUNTRY_INFO!G45), 0),0)","v":0},{"$f":"IF(INTRO!$E$39<>\"Endemic\",0, IF(AND(COUNTRY_INFO!$I45=1,$F45<>0),IF(COUNTRY_INFO!N45>=(COUNTRY_INFO!F45+COUNTRY_INFO!G45),COUNTRY_INFO!F45+COUNTRY_INFO!G45,COUNTRY_INFO!$N45), 0))","v":0},0,0,0,0,null,0]
[{"$f":"IF(INTRO!$E$39=\"Non-endemic\",\" \",IF(COUNTRY_INFO!A46=0,\" \",COUNTRY_INFO!A46))","v":"Cameroun"},{"$f":"IF(INTRO!$E$39=\"Non-endemic\",\" \",IF(COUNTRY_INFO!B46=0,\" \",COUNTRY_INFO!B46))","v":"Centre"},{"$f":"IF(INTRO!$E$39=\"Non-endemic\",\" \",IF(COUNTRY_INFO!C46=0,\" \",COUNTRY_INFO!C46))","v":"Ntui"},{"$f":"IF(INTRO!$E$39=\"Non-endemic\",0,IF(INTRO!$E$39=\"Endemic but PC is not required\",IF(COUNTRY_INFO!$H46=1,COUNTRY_INFO!F46+COUNTRY_INFO!G46,0),IF(COUNTRY_INFO!$H46=1,COUNTRY_INFO!F46+COUNTRY_INFO!G46,IF(COUNTRY_INFO!$I46=1,IF(COUNTRY_INFO!N46>=(COUNTRY_INFO!F46+COUNTRY_INFO!G46),COUNTRY_INFO!F46+COUNTRY_INFO!G46,COUNTRY_INFO!$N46),0))))","v":124211},{"$f":"IF(AND(INTRO!$E$39=\"Non-endemic\",INTRO!$E$37=\"Non-endemic\"),\"Not required\",IF(INTRO!$E$39=\"Non-endemic\",\"Treat with DEC\",COUNTRY_INFO!W46))","v":0},{"$f":"IF(INTRO!$E$39<>\"Non-endemic\",COUNTRY_INFO!X46,\"Not required\")","v":1},{"$f":"IF(COUNTRY_INFO!H46=1, IF($E46=1,IF(ALB_MBD!$G46<>\" \",COUNTRY_INFO!F46+COUNTRY_INFO!G46-ALB_MBD!$G46,COUNTRY_INFO!F46+COUNTRY_INFO!G46), 0),0)","v":0},{"$f":"IF(INTRO!$E$39<>\"Endemic\",0, IF(AND(COUNTRY_INFO!$I46=1,$F46<>0),IF(COUNTRY_INFO!N46>=(COUNTRY_INFO!F46+COUNTRY_INFO!G46),COUNTRY_INFO!F46+COUNTRY_INFO!G46,COUNTRY_INFO!$N46), 0))","v":124211},0,347790.8,0,347790.8,null,347790.8]
[{"$f":"IF(INTRO!$E$39=\"Non-endemic\",\" \",IF(COUNTRY_INFO!A47=0,\" \",COUNTRY_INFO!A47))","v":"Cameroun"},{"$f":"IF(INTRO!$E$39=\"Non-endemic\",\" \",IF(COUNTRY_INFO!B47=0,\" \",COUNTRY_INFO!B47))","v":"Centre"},{"$f":"IF(INTRO!$E$39=\"Non-endemic\",\" \",IF(COUNTRY_INFO!C47=0,\" \",COUNTRY_INFO!C47))","v":"Obala"},{"$f":"IF(INTRO!$E$39=\"Non-endemic\",0,IF(INTRO!$E$39=\"Endemic but PC is not required\",IF(COUNTRY_INFO!$H47=1,COUNTRY_INFO!F47+COUNTRY_INFO!G47,0),IF(COUNTRY_INFO!$H47=1,COUNTRY_INFO!F47+COUNTRY_INFO!G47,IF(COUNTRY_INFO!$I47=1,IF(COUNTRY_INFO!N47>=(COUNTRY_INFO!F47+COUNTRY_INFO!G47),COUNTRY_INFO!F47+COUNTRY_INFO!G47,COUNTRY_INFO!$N47),0))))","v":129603},{"$f":"IF(AND(INTRO!$E$39=\"Non-endemic\",INTRO!$E$37=\"Non-endemic\"),\"Not required\",IF(INTRO!$E$39=\"Non-endemic\",\"Treat with DEC\",COUNTRY_INFO!W47))","v":0},{"$f":"IF(INTRO!$E$39<>\"Non-endemic\",COUNTRY_INFO!X47,\"Not required\")","v":1},{"$f":"IF(COUNTRY_INFO!H47=1, IF($E47=1,IF(ALB_MBD!$G47<>\" \",COUNTRY_INFO!F47+COUNTRY_INFO!G47-ALB_MBD!$G47,COUNTRY_INFO!F47+COUNTRY_INFO!G47), 0),0)","v":0},{"$f":"IF(INTRO!$E$39<>\"Endemic\",0, IF(AND(COUNTRY_INFO!$I47=1,$F47<>0),IF(COUNTRY_INFO!N47>=(COUNTRY_INFO!F47+COUNTRY_INFO!G47),COUNTRY_INFO!F47+COUNTRY_INFO!G47,COUNTRY_INFO!$N47), 0))","v":129603},0,362888.39999999997,0,362888.39999999997,null,362888.39999999997]
[{"$f":"IF(INTRO!$E$39=\"Non-endemic\",\" \",IF(COUNTRY_INFO!A48=0,\" \",COUNTRY_INFO!A48))","v":"Cameroun"},{"$f":"IF(INTRO!$E$39=\"Non-endemic\",\" \",IF(COUNTRY_INFO!B48=0,\" \",COUNTRY_INFO!B48))","v":"Centre"},{"$f":"IF(INTRO!$E$39=\"Non-endemic\",\" \",IF(COUNTRY_INFO!C48=0,\" \",COUNTRY_INFO!C48))","v":"Odza"},{"$f":"IF(INTRO!$E$39=\"Non-endemic\",0,IF(INTRO!$E$39=\"Endemic but PC is not required\",IF(COUNTRY_INFO!$H48=1,COUNTRY_INFO!F48+COUNTRY_INFO!G48,0),IF(COUNTRY_INFO!$H48=1,COUNTRY_INFO!F48+COUNTRY_INFO!G48,IF(COUNTRY_INFO!$I48=1,IF(COUNTRY_INFO!N48>=(COUNTRY_INFO!F48+COUNTRY_INFO!G48),COUNTRY_INFO!F48+COUNTRY_INFO!G48,COUNTRY_INFO!$N48),0))))","v":0},{"$f":"IF(AND(INTRO!$E$39=\"Non-endemic\",INTRO!$E$37=\"Non-endemic\"),\"Not required\",IF(INTRO!$E$39=\"Non-endemic\",\"Treat with DEC\",COUNTRY_INFO!W48))","v":0},{"$f":"IF(INTRO!$E$39<>\"Non-endemic\",COUNTRY_INFO!X48,\"Not required\")","v":0},{"$f":"IF(COUNTRY_INFO!H48=1, IF($E48=1,IF(ALB_MBD!$G48<>\" \",COUNTRY_INFO!F48+COUNTRY_INFO!G48-ALB_MBD!$G48,COUNTRY_INFO!F48+COUNTRY_INFO!G48), 0),0)","v":0},{"$f":"IF(INTRO!$E$39<>\"Endemic\",0, IF(AND(COUNTRY_INFO!$I48=1,$F48<>0),IF(COUNTRY_INFO!N48>=(COUNTRY_INFO!F48+COUNTRY_INFO!G48),COUNTRY_INFO!F48+COUNTRY_INFO!G48,COUNTRY_INFO!$N48), 0))","v":0},0,0,0,0,null,0]
[{"$f":"IF(INTRO!$E$39=\"Non-endemic\",\" \",IF(COUNTRY_INFO!A49=0,\" \",COUNTRY_INFO!A49))","v":"Cameroun"},{"$f":"IF(INTRO!$E$39=\"Non-endemic\",\" \",IF(COUNTRY_INFO!B49=0,\" \",COUNTRY_INFO!B49))","v":"Centre"},{"$f":"IF(INTRO!$E$39=\"Non-endemic\",\" \",IF(COUNTRY_INFO!C49=0,\" \",COUNTRY_INFO!C49))","v":"Okola"},{"$f":"IF(INTRO!$E$39=\"Non-endemic\",0,IF(INTRO!$E$39=\"Endemic but PC is not required\",IF(COUNTRY_INFO!$H49=1,COUNTRY_INFO!F49+COUNTRY_INFO!G49,0),IF(COUNTRY_INFO!$H49=1,COUNTRY_INFO!F49+COUNTRY_INFO!G49,IF(COUNTRY_INFO!$I49=1,IF(COUNTRY_INFO!N49>=(COUNTRY_INFO!F49+COUNTRY_INFO!G49),COUNTRY_INFO!F49+COUNTRY_INFO!G49,COUNTRY_INFO!$N49),0))))","v":53131},{"$f":"IF(AND(INTRO!$E$39=\"Non-endemic\",INTRO!$E$37=\"Non-endemic\"),\"Not required\",IF(INTRO!$E$39=\"Non-endemic\",\"Treat with DEC\",COUNTRY_INFO!W49))","v":0},{"$f":"IF(INTRO!$E$39<>\"Non-endemic\",COUNTRY_INFO!X49,\"Not required\")","v":1},{"$f":"IF(COUNTRY_INFO!H49=1, IF($E49=1,IF(ALB_MBD!$G49<>\" \",COUNTRY_INFO!F49+COUNTRY_INFO!G49-ALB_MBD!$G49,COUNTRY_INFO!F49+COUNTRY_INFO!G49), 0),0)","v":0},{"$f":"IF(INTRO!$E$39<>\"Endemic\",0, IF(AND(COUNTRY_INFO!$I49=1,$F49<>0),IF(COUNTRY_INFO!N49>=(COUNTRY_INFO!F49+COUNTRY_INFO!G49),COUNTRY_INFO!F49+COUNTRY_INFO!G49,COUNTRY_INFO!$N49), 0))","v":53131},0,148766.79999999999,0,148766.79999999999,null,148766.79999999999]
[{"$f":"IF(INTRO!$E$39=\"Non-endemic\",\" \",IF(COUNTRY_INFO!A50=0,\" \",COUNTRY_INFO!A50))","v":"Cameroun"},{"$f":"IF(INTRO!$E$39=\"Non-endemic\",\" \",IF(COUNTRY_INFO!B50=0,\" \",COUNTRY_INFO!B50))","v":"Centre"},{"$f":"IF(INTRO!$E$39=\"Non-endemic\",\" \",IF(COUNTRY_INFO!C50=0,\" \",COUNTRY_INFO!C50))","v":"Sa'a"},{"$f":"IF(INTRO!$E$39=\"Non-endemic\",0,IF(INTRO!$E$39=\"Endemic but PC is not required\",IF(COUNTRY_INFO!$H50=1,COUNTRY_INFO!F50+COUNTRY_INFO!G50,0),IF(COUNTRY_INFO!$H50=1,COUNTRY_INFO!F50+COUNTRY_INFO!G50,IF(COUNTRY_INFO!$I50=1,IF(COUNTRY_INFO!N50>=(COUNTRY_INFO!F50+COUNTRY_INFO!G50),COUNTRY_INFO!F50+COUNTRY_INFO!G50,COUNTRY_INFO!$N50),0))))","v":67600},{"$f":"IF(AND(INTRO!$E$39=\"Non-endemic\",INTRO!$E$37=\"Non-endemic\"),\"Not required\",IF(INTRO!$E$39=\"Non-endemic\",\"Treat with DEC\",COUNTRY_INFO!W50))","v":0},{"$f":"IF(INTRO!$E$39<>\"Non-endemic\",COUNTRY_INFO!X50,\"Not required\")","v":1},{"$f":"IF(COUNTRY_INFO!H50=1, IF($E50=1,IF(ALB_MBD!$G50<>\" \",COUNTRY_INFO!F50+COUNTRY_INFO!G50-ALB_MBD!$G50,COUNTRY_INFO!F50+COUNTRY_INFO!G50), 0),0)","v":0},{"$f":"IF(INTRO!$E$39<>\"Endemic\",0, IF(AND(COUNTRY_INFO!$I50=1,$F50<>0),IF(COUNTRY_INFO!N50>=(COUNTRY_INFO!F50+COUNTRY_INFO!G50),COUNTRY_INFO!F50+COUNTRY_INFO!G50,COUNTRY_INFO!$N50), 0))","v":67600},0,189280,0,189280,null,189280]
[{"$f":"IF(INTRO!$E$39=\"Non-endemic\",\" \",IF(COUNTRY_INFO!A51=0,\" \",COUNTRY_INFO!A51))","v":"Cameroun"},{"$f":"IF(INTRO!$E$39=\"Non-endemic\",\" \",IF(COUNTRY_INFO!B51=0,\" \",COUNTRY_INFO!B51))","v":"Centre"},{"$f":"IF(INTRO!$E$39=\"Non-endemic\",\" \",IF(COUNTRY_INFO!C51=0,\" \",COUNTRY_INFO!C51))","v":"Soa"},{"$f":"IF(INTRO!$E$39=\"Non-endemic\",0,IF(INTRO!$E$39=\"Endemic but PC is not required\",IF(COUNTRY_INFO!$H51=1,COUNTRY_INFO!F51+COUNTRY_INFO!G51,0),IF(COUNTRY_INFO!$H51=1,COUNTRY_INFO!F51+COUNTRY_INFO!G51,IF(COUNTRY_INFO!$I51=1,IF(COUNTRY_INFO!N51>=(COUNTRY_INFO!F51+COUNTRY_INFO!G51),COUNTRY_INFO!F51+COUNTRY_INFO!G51,COUNTRY_INFO!$N51),0))))","v":0},{"$f":"IF(AND(INTRO!$E$39=\"Non-endemic\",INTRO!$E$37=\"Non-endemic\"),\"Not required\",IF(INTRO!$E$39=\"Non-endemic\",\"Treat with DEC\",COUNTRY_INFO!W51))","v":0},{"$f":"IF(INTRO!$E$39<>\"Non-endemic\",COUNTRY_INFO!X51,\"Not required\")","v":0},{"$f":"IF(COUNTRY_INFO!H51=1, IF($E51=1,IF(ALB_MBD!$G51<>\" \",COUNTRY_INFO!F51+COUNTRY_INFO!G51-ALB_MBD!$G51,COUNTRY_INFO!F51+COUNTRY_INFO!G51), 0),0)","v":0},{"$f":"IF(INTRO!$E$39<>\"Endemic\",0, IF(AND(COUNTRY_INFO!$I51=1,$F51<>0),IF(COUNTRY_INFO!N51>=(COUNTRY_INFO!F51+COUNTRY_INFO!G51),COUNTRY_INFO!F51+COUNTRY_INFO!G51,COUNTRY_INFO!$N51), 0))","v":0},0,0,0,0,null,0]
[{"$f":"IF(INTRO!$E$39=\"Non-endemic\",\" \",IF(COUNTRY_INFO!A52=0,\" \",COUNTRY_INFO!A52))","v":"Cameroun"},{"$f":"IF(INTRO!$E$39=\"Non-endemic\",\" \",IF(COUNTRY_INFO!B52=0,\" \",COUNTRY_INFO!B52))","v":"Centre"},{"$f":"IF(INTRO!$E$39=\"Non-endemic\",\" \",IF(COUNTRY_INFO!C52=0,\" \",COUNTRY_INFO!C52))","v":"Yoko"},{"$f":"IF(INTRO!$E$39=\"Non-endemic\",0,IF(INTRO!$E$39=\"Endemic but PC is not required\",IF(COUNTRY_INFO!$H52=1,COUNTRY_INFO!F52+COUNTRY_INFO!G52,0),IF(COUNTRY_INFO!$H52=1,COUNTRY_INFO!F52+COUNTRY_INFO!G52,IF(COUNTRY_INFO!$I52=1,IF(COUNTRY_INFO!N52>=(COUNTRY_INFO!F52+COUNTRY_INFO!G52),COUNTRY_INFO!F52+COUNTRY_INFO!G52,COUNTRY_INFO!$N52),0))))","v":41131},{"$f":"IF(AND(INTRO!$E$39=\"Non-endemic\",INTRO!$E$37=\"Non-endemic\"),\"Not required\",IF(INTRO!$E$39=\"Non-endemic\",\"Treat with DEC\",COUNTRY_INFO!W52))","v":0},{"$f":"IF(INTRO!$E$39<>\"Non-endemic\",COUNTRY_INFO!X52,\"Not required\")","v":1},{"$f":"IF(COUNTRY_INFO!H52=1, IF($E52=1,IF(ALB_MBD!$G52<>\" \",COUNTRY_INFO!F52+COUNTRY_INFO!G52-ALB_MBD!$G52,COUNTRY_INFO!F52+COUNTRY_INFO!G52), 0),0)","v":0},{"$f":"IF(INTRO!$E$39<>\"Endemic\",0, IF(AND(COUNTRY_INFO!$I52=1,$F52<>0),IF(COUNTRY_INFO!N52>=(COUNTRY_INFO!F52+COUNTRY_INFO!G52),COUNTRY_INFO!F52+COUNTRY_INFO!G52,COUNTRY_INFO!$N52), 0))","v":41131},0,115166.79999999999,0,115166.79999999999,null,115166.79999999999]
[{"$f":"IF(INTRO!$E$39=\"Non-endemic\",\" \",IF(COUNTRY_INFO!A53=0,\" \",COUNTRY_INFO!A53))","v":"Cameroun"},{"$f":"IF(INTRO!$E$39=\"Non-endemic\",\" \",IF(COUNTRY_INFO!B53=0,\" \",COUNTRY_INFO!B53))","v":"Est"},{"$f":"IF(INTRO!$E$39=\"Non-endemic\",\" \",IF(COUNTRY_INFO!C53=0,\" \",COUNTRY_INFO!C53))","v":"Abong Mbang"},{"$f":"IF(INTRO!$E$39=\"Non-endemic\",0,IF(INTRO!$E$39=\"Endemic but PC is not required\",IF(COUNTRY_INFO!$H53=1,COUNTRY_INFO!F53+COUNTRY_INFO!G53,0),IF(COUNTRY_INFO!$H53=1,COUNTRY_INFO!F53+COUNTRY_INFO!G53,IF(COUNTRY_INFO!$I53=1,IF(COUNTRY_INFO!N53>=(COUNTRY_INFO!F53+COUNTRY_INFO!G53),COUNTRY_INFO!F53+COUNTRY_INFO!G53,COUNTRY_INFO!$N53),0))))","v":0},{"$f":"IF(AND(INTRO!$E$39=\"Non-endemic\",INTRO!$E$37=\"Non-endemic\"),\"Not required\",IF(INTRO!$E$39=\"Non-endemic\",\"Treat with DEC\",COUNTRY_INFO!W53))","v":0},{"$f":"IF(INTRO!$E$39<>\"Non-endemic\",COUNTRY_INFO!X53,\"Not required\")","v":0},{"$f":"IF(COUNTRY_INFO!H53=1, IF($E53=1,IF(ALB_MBD!$G53<>\" \",COUNTRY_INFO!F53+COUNTRY_INFO!G53-ALB_MBD!$G53,COUNTRY_INFO!F53+COUNTRY_INFO!G53), 0),0)","v":0},{"$f":"IF(INTRO!$E$39<>\"Endemic\",0, IF(AND(COUNTRY_INFO!$I53=1,$F53<>0),IF(COUNTRY_INFO!N53>=(COUNTRY_INFO!F53+COUNTRY_INFO!G53),COUNTRY_INFO!F53+COUNTRY_INFO!G53,COUNTRY_INFO!$N53), 0))","v":0},0,0,0,0,null,0]
[{"$f":"IF(INTRO!$E$39=\"Non-endemic\",\" \",IF(COUNTRY_INFO!A54=0,\" \",COUNTRY_INFO!A54))","v":"Cameroun"},{"$f":"IF(INTRO!$E$39=\"Non-endemic\",\" \",IF(COUNTRY_INFO!B54=0,\" \",COUNTRY_INFO!B54))","v":"Est"},{"$f":"IF(INTRO!$E$39=\"Non-endemic\",\" \",IF(COUNTRY_INFO!C54=0,\" \",COUNTRY_INFO!C54))","v":"Batouri"},{"$f":"IF(INTRO!$E$39=\"Non-endemic\",0,IF(INTRO!$E$39=\"Endemic but PC is not required\",IF(COUNTRY_INFO!$H54=1,COUNTRY_INFO!F54+COUNTRY_INFO!G54,0),IF(COUNTRY_INFO!$H54=1,COUNTRY_INFO!F54+COUNTRY_INFO!G54,IF(COUNTRY_INFO!$I54=1,IF(COUNTRY_INFO!N54>=(COUNTRY_INFO!F54+COUNTRY_INFO!G54),COUNTRY_INFO!F54+COUNTRY_INFO!G54,COUNTRY_INFO!$N54),0))))","v":0},{"$f":"IF(AND(INTRO!$E$39=\"Non-endemic\",INTRO!$E$37=\"Non-endemic\"),\"Not required\",IF(INTRO!$E$39=\"Non-endemic\",\"Treat with DEC\",COUNTRY_INFO!W54))","v":0},{"$f":"IF(INTRO!$E$39<>\"Non-endemic\",COUNTRY_INFO!X54,\"Not required\")","v":0},{"$f":"IF(COUNTRY_INFO!H54=1, IF($E54=1,IF(ALB_MBD!$G54<>\" \",COUNTRY_INFO!F54+COUNTRY_INFO!G54-ALB_MBD!$G54,COUNTRY_INFO!F54+COUNTRY_INFO!G54), 0),0)","v":0},{"$f":"IF(INTRO!$E$39<>\"Endemic\",0, IF(AND(COUNTRY_INFO!$I54=1,$F54<>0),IF(COUNTRY_INFO!N54>=(COUNTRY_INFO!F54+COUNTRY_INFO!G54),COUNTRY_INFO!F54+COUNTRY_INFO!G54,COUNTRY_INFO!$N54), 0))","v":0},0,0,0,0,null,0]
[{"$f":"IF(INTRO!$E$39=\"Non-endemic\",\" \",IF(COUNTRY_INFO!A55=0,\" \",COUNTRY_INFO!A55))","v":"Cameroun"},{"$f":"IF(INTRO!$E$39=\"Non-endemic\",\" \",IF(COUNTRY_INFO!B55=0,\" \",COUNTRY_INFO!B55))","v":"Est"},{"$f":"IF(INTRO!$E$39=\"Non-endemic\",\" \",IF(COUNTRY_INFO!C55=0,\" \",COUNTRY_INFO!C55))","v":"Belabo"},{"$f":"IF(INTRO!$E$39=\"Non-endemic\",0,IF(INTRO!$E$39=\"Endemic but PC is not required\",IF(COUNTRY_INFO!$H55=1,COUNTRY_INFO!F55+COUNTRY_INFO!G55,0),IF(COUNTRY_INFO!$H55=1,COUNTRY_INFO!F55+COUNTRY_INFO!G55,IF(COUNTRY_INFO!$I55=1,IF(COUNTRY_INFO!N55>=(COUNTRY_INFO!F55+COUNTRY_INFO!G55),COUNTRY_INFO!F55+COUNTRY_INFO!G55,COUNTRY_INFO!$N55),0))))","v":109836},{"$f":"IF(AND(INTRO!$E$39=\"Non-endemic\",INTRO!$E$37=\"Non-endemic\"),\"Not required\",IF(INTRO!$E$39=\"Non-endemic\",\"Treat with DEC\",COUNTRY_INFO!W55))","v":0},{"$f":"IF(INTRO!$E$39<>\"Non-endemic\",COUNTRY_INFO!X55,\"Not required\")","v":1},{"$f":"IF(COUNTRY_INFO!H55=1, IF($E55=1,IF(ALB_MBD!$G55<>\" \",COUNTRY_INFO!F55+COUNTRY_INFO!G55-ALB_MBD!$G55,COUNTRY_INFO!F55+COUNTRY_INFO!G55), 0),0)","v":0},{"$f":"IF(INTRO!$E$39<>\"Endemic\",0, IF(AND(COUNTRY_INFO!$I55=1,$F55<>0),IF(COUNTRY_INFO!N55>=(COUNTRY_INFO!F55+COUNTRY_INFO!G55),COUNTRY_INFO!F55+COUNTRY_INFO!G55,COUNTRY_INFO!$N55), 0))","v":109836},0,307540.8,0,307540.8,null,307540.8]
[{"$f":"IF(INTRO!$E$39=\"Non-endemic\",\" \",IF(COUNTRY_INFO!A56=0,\" \",COUNTRY_INFO!A56))","v":"Cameroun"},{"$f":"IF(INTRO!$E$39=\"Non-endemic\",\" \",IF(COUNTRY_INFO!B56=0,\" \",COUNTRY_INFO!B56))","v":"Est"},{"$f":"IF(INTRO!$E$39=\"Non-endemic\",\" \",IF(COUNTRY_INFO!C56=0,\" \",COUNTRY_INFO!C56))","v":"Bertoua"},{"$f":"IF(INTRO!$E$39=\"Non-endemic\",0,IF(INTRO!$E$39=\"Endemic but PC is not required\",IF(COUNTRY_INFO!$H56=1,COUNTRY_INFO!F56+COUNTRY_INFO!G56,0),IF(COUNTRY_INFO!$H56=1,COUNTRY_INFO!F56+COUNTRY_INFO!G56,IF(COUNTRY_INFO!$I56=1,IF(COUNTRY_INFO!N56>=(COUNTRY_INFO!F56+COUNTRY_INFO!G56),COUNTRY_INFO!F56+COUNTRY_INFO!G56,COUNTRY_INFO!$N56),0))))","v":0},{"$f":"IF(AND(INTRO!$E$39=\"Non-endemic\",INTRO!$E$37=\"Non-endemic\"),\"Not required\",IF(INTRO!$E$39=\"Non-endemic\",\"Treat with DEC\",COUNTRY_INFO!W56))","v":0},{"$f":"IF(INTRO!$E$39<>\"Non-endemic\",COUNTRY_INFO!X56,\"Not required\")","v":0},{"$f":"IF(COUNTRY_INFO!H56=1, IF($E56=1,IF(ALB_MBD!$G56<>\" \",COUNTRY_INFO!F56+COUNTRY_INFO!G56-ALB_MBD!$G56,COUNTRY_INFO!F56+COUNTRY_INFO!G56), 0),0)","v":0},{"$f":"IF(INTRO!$E$39<>\"Endemic\",0, IF(AND(COUNTRY_INFO!$I56=1,$F56<>0),IF(COUNTRY_INFO!N56>=(COUNTRY_INFO!F56+COUNTRY_INFO!G56),COUNTRY_INFO!F56+COUNTRY_INFO!G56,COUNTRY_INFO!$N56), 0))","v":0},0,0,0,0,null,0]
[{"$f":"IF(INTRO!$E$39=\"Non-endemic\",\" \",IF(COUNTRY_INFO!A57=0,\" \",COUNTRY_INFO!A57))","v":"Cameroun"},{"$f":"IF(INTRO!$E$39=\"Non-endemic\",\" \",IF(COUNTRY_INFO!B57=0,\" \",COUNTRY_INFO!B57))","v":"Est"},{"$f":"IF(INTRO!$E$39=\"Non-endemic\",\" \",IF(COUNTRY_INFO!C57=0,\" \",COUNTRY_INFO!C57))","v":"Betare Oya"},{"$f":"IF(INTRO!$E$39=\"Non-endemic\",0,IF(INTRO!$E$39=\"Endemic but PC is not required\",IF(COUNTRY_INFO!$H57=1,COUNTRY_INFO!F57+COUNTRY_INFO!G57,0),IF(COUNTRY_INFO!$H57=1,COUNTRY_INFO!F57+COUNTRY_INFO!G57,IF(COUNTRY_INFO!$I57=1,IF(COUNTRY_INFO!N57>=(COUNTRY_INFO!F57+COUNTRY_INFO!G57),COUNTRY_INFO!F57+COUNTRY_INFO!G57,COUNTRY_INFO!$N57),0))))","v":125379},{"$f":"IF(AND(INTRO!$E$39=\"Non-endemic\",INTRO!$E$37=\"Non-endemic\"),\"Not required\",IF(INTRO!$E$39=\"Non-endemic\",\"Treat with DEC\",COUNTRY_INFO!W57))","v":0},{"$f":"IF(INTRO!$E$39<>\"Non-endemic\",COUNTRY_INFO!X57,\"Not required\")","v":1},{"$f":"IF(COUNTRY_INFO!H57=1, IF($E57=1,IF(ALB_MBD!$G57<>\" \",COUNTRY_INFO!F57+COUNTRY_INFO!G57-ALB_MBD!$G57,COUNTRY_INFO!F57+COUNTRY_INFO!G57), 0),0)","v":0},{"$f":"IF(INTRO!$E$39<>\"Endemic\",0, IF(AND(COUNTRY_INFO!$I57=1,$F57<>0),IF(COUNTRY_INFO!N57>=(COUNTRY_INFO!F57+COUNTRY_INFO!G57),COUNTRY_INFO!F57+COUNTRY_INFO!G57,COUNTRY_INFO!$N57), 0))","v":125379},0,351061.19999999995,0,351061.19999999995,null,351061.19999999995]
[{"$f":"IF(INTRO!$E$39=\"Non-endemic\",\" \",IF(COUNTRY_INFO!A58=0,\" \",COUNTRY_INFO!A58))","v":"Cameroun"},{"$f":"IF(INTRO!$E$39=\"Non-endemic\",\" \",IF(COUNTRY_INFO!B58=0,\" \",COUNTRY_INFO!B58))","v":"Est"},{"$f":"IF(INTRO!$E$39=\"Non-endemic\",\" \",IF(COUNTRY_INFO!C58=0,\" \",COUNTRY_INFO!C58))","v":"Doume"},{"$f":"IF(INTRO!$E$39=\"Non-endemic\",0,IF(INTRO!$E$39=\"Endemic but PC is not required\",IF(COUNTRY_INFO!$H58=1,COUNTRY_INFO!F58+COUNTRY_INFO!G58,0),IF(COUNTRY_INFO!$H58=1,COUNTRY_INFO!F58+COUNTRY_INFO!G58,IF(COUNTRY_INFO!$I58=1,IF(COUNTRY_INFO!N58>=(COUNTRY_INFO!F58+COUNTRY_INFO!G58),COUNTRY_INFO!F58+COUNTRY_INFO!G58,COUNTRY_INFO!$N58),0))))","v":0},{"$f":"IF(AND(INTRO!$E$39=\"Non-endemic\",INTRO!$E$37=\"Non-endemic\"),\"Not required\",IF(INTRO!$E$39=\"Non-endemic\",\"Treat with DEC\",COUNTRY_INFO!W58))","v":0},{"$f":"IF(INTRO!$E$39<>\"Non-endemic\",COUNTRY_INFO!X58,\"Not required\")","v":0},{"$f":"IF(COUNTRY_INFO!H58=1, IF($E58=1,IF(ALB_MBD!$G58<>\" \",COUNTRY_INFO!F58+COUNTRY_INFO!G58-ALB_MBD!$G58,COUNTRY_INFO!F58+COUNTRY_INFO!G58), 0),0)","v":0},{"$f":"IF(INTRO!$E$39<>\"Endemic\",0, IF(AND(COUNTRY_INFO!$I58=1,$F58<>0),IF(COUNTRY_INFO!N58>=(COUNTRY_INFO!F58+COUNTRY_INFO!G58),COUNTRY_INFO!F58+COUNTRY_INFO!G58,COUNTRY_INFO!$N58), 0))","v":0},0,0,0,0,null,0]
[{"$f":"IF(INTRO!$E$39=\"Non-endemic\",\" \",IF(COUNTRY_INFO!A59=0,\" \",COUNTRY_INFO!A59))","v":"Cameroun"},{"$f":"IF(INTRO!$E$39=\"Non-endemic\",\" \",IF(COUNTRY_INFO!B59=0,\" \",COUNTRY_INFO!B59))","v":"Est"},{"$f":"IF(INTRO!$E$39=\"Non-endemic\",\" \",IF(COUNTRY_INFO!C59=0,\" \",COUNTRY_INFO!C59))","v":"Garoua Boulai"},{"$f":"IF(INTRO!$E$39=\"Non-endemic\",0,IF(INTRO!$E$39=\"Endemic but PC is not required\",IF(COUNTRY_INFO!$H59=1,COUNTRY_INFO!F59+COUNTRY_INFO!G59,0),IF(COUNTRY_INFO!$H59=1,COUNTRY_INFO!F59+COUNTRY_INFO!G59,IF(COUNTRY_INFO!$I59=1,IF(COUNTRY_INFO!N59>=(COUNTRY_INFO!F59+COUNTRY_INFO!G59),COUNTRY_INFO!F59+COUNTRY_INFO!G59,COUNTRY_INFO!$N59),0))))","v":0},{"$f":"IF(AND(INTRO!$E$39=\"Non-endemic\",INTRO!$E$37=\"Non-endemic\"),\"Not required\",IF(INTRO!$E$39=\"Non-endemic\",\"Treat with DEC\",COUNTRY_INFO!W59))","v":0},{"$f":"IF(INTRO!$E$39<>\"Non-endemic\",COUNTRY_INFO!X59,\"Not required\")","v":0},{"$f":"IF(COUNTRY_INFO!H59=1, IF($E59=1,IF(ALB_MBD!$G59<>\" \",COUNTRY_INFO!F59+COUNTRY_INFO!G59-ALB_MBD!$G59,COUNTRY_INFO!F59+COUNTRY_INFO!G59), 0),0)","v":0},{"$f":"IF(INTRO!$E$39<>\"Endemic\",0, IF(AND(COUNTRY_INFO!$I59=1,$F59<>0),IF(COUNTRY_INFO!N59>=(COUNTRY_INFO!F59+COUNTRY_INFO!G59),COUNTRY_INFO!F59+COUNTRY_INFO!G59,COUNTRY_INFO!$N59), 0))","v":0},0,0,0,0,null,0]
[{"$f":"IF(INTRO!$E$39=\"Non-endemic\",\" \",IF(COUNTRY_INFO!A60=0,\" \",COUNTRY_INFO!A60))","v":"Cameroun"},{"$f":"IF(INTRO!$E$39=\"Non-endemic\",\" \",IF(COUNTRY_INFO!B60=0,\" \",COUNTRY_INFO!B60))","v":"Est"},{"$f":"IF(INTRO!$E$39=\"Non-endemic\",\" \",IF(COUNTRY_INFO!C60=0,\" \",COUNTRY_INFO!C60))","v":"Kette"},{"$f":"IF(INTRO!$E$39=\"Non-endemic\",0,IF(INTRO!$E$39=\"Endemic but PC is not required\",IF(COUNTRY_INFO!$H60=1,COUNTRY_INFO!F60+COUNTRY_INFO!G60,0),IF(COUNTRY_INFO!$H60=1,COUNTRY_INFO!F60+COUNTRY_INFO!G60,IF(COUNTRY_INFO!$I60=1,IF(COUNTRY_INFO!N60>=(COUNTRY_INFO!F60+COUNTRY_INFO!G60),COUNTRY_INFO!F60+COUNTRY_INFO!G60,COUNTRY_INFO!$N60),0))))","v":0},{"$f":"IF(AND(INTRO!$E$39=\"Non-endemic\",INTRO!$E$37=\"Non-endemic\"),\"Not required\",IF(INTRO!$E$39=\"Non-endemic\",\"Treat with DEC\",COUNTRY_INFO!W60))","v":0},{"$f":"IF(INTRO!$E$39<>\"Non-endemic\",COUNTRY_INFO!X60,\"Not required\")","v":0},{"$f":"IF(COUNTRY_INFO!H60=1, IF($E60=1,IF(ALB_MBD!$G60<>\" \",COUNTRY_INFO!F60+COUNTRY_INFO!G60-ALB_MBD!$G60,COUNTRY_INFO!F60+COUNTRY_INFO!G60), 0),0)","v":0},{"$f":"IF(INTRO!$E$39<>\"Endemic\",0, IF(AND(COUNTRY_INFO!$I60=1,$F60<>0),IF(COUNTRY_INFO!N60>=(COUNTRY_INFO!F60+COUNTRY_INFO!G60),COUNTRY_INFO!F60+COUNTRY_INFO!G60,COUNTRY_INFO!$N60), 0))","v":0},0,0,0,0,null,0]
[{"$f":"IF(INTRO!$E$39=\"Non-endemic\",\" \",IF(COUNTRY_INFO!A61=0,\" \",COUNTRY_INFO!A61))","v":"Cameroun"},{"$f":"IF(INTRO!$E$39=\"Non-endemic\",\" \",IF(COUNTRY_INFO!B61=0,\" \",COUNTRY_INFO!B61))","v":"Est"},{"$f":"IF(INTRO!$E$39=\"Non-endemic\",\" \",IF(COUNTRY_INFO!C61=0,\" \",COUNTRY_INFO!C61))","v":"Lomie"},{"$f":"IF(INTRO!$E$39=\"Non-endemic\",0,IF(INTRO!$E$39=\"Endemic but PC is not required\",IF(COUNTRY_INFO!$H61=1,COUNTRY_INFO!F61+COUNTRY_INFO!G61,0),IF(COUNTRY_INFO!$H61=1,COUNTRY_INFO!F61+COUNTRY_INFO!G61,IF(COUNTRY_INFO!$I61=1,IF(COUNTRY_INFO!N61>=(COUNTRY_INFO!F61+COUNTRY_INFO!G61),COUNTRY_INFO!F61+COUNTRY_INFO!G61,COUNTRY_INFO!$N61),0))))","v":42292},{"$f":"IF(AND(INTRO!$E$39=\"Non-endemic\",INTRO!$E$37=\"Non-endemic\"),\"Not required\",IF(INTRO!$E$39=\"Non-endemic\",\"Treat with DEC\",COUNTRY_INFO!W61))","v":0},{"$f":"IF(INTRO!$E$39<>\"Non-endemic\",COUNTRY_INFO!X61,\"Not required\")","v":1},{"$f":"IF(COUNTRY_INFO!H61=1, IF($E61=1,IF(ALB_MBD!$G61<>\" \",COUNTRY_INFO!F61+COUNTRY_INFO!G61-ALB_MBD!$G61,COUNTRY_INFO!F61+COUNTRY_INFO!G61), 0),0)","v":0},{"$f":"IF(INTRO!$E$39<>\"Endemic\",0, IF(AND(COUNTRY_INFO!$I61=1,$F61<>0),IF(COUNTRY_INFO!N61>=(COUNTRY_INFO!F61+COUNTRY_INFO!G61),COUNTRY_INFO!F61+COUNTRY_INFO!G61,COUNTRY_INFO!$N61), 0))","v":42292},0,118417.59999999999,0,118417.59999999999,null,118417.59999999999]
[{"$f":"IF(INTRO!$E$39=\"Non-endemic\",\" \",IF(COUNTRY_INFO!A62=0,\" \",COUNTRY_INFO!A62))","v":"Cameroun"},{"$f":"IF(INTRO!$E$39=\"Non-endemic\",\" \",IF(COUNTRY_INFO!B62=0,\" \",COUNTRY_INFO!B62))","v":"Est"},{"$f":"IF(INTRO!$E$39=\"Non-endemic\",\" \",IF(COUNTRY_INFO!C62=0,\" \",COUNTRY_INFO!C62))","v":"Mbang"},{"$f":"IF(INTRO!$E$39=\"Non-endemic\",0,IF(INTRO!$E$39=\"Endemic but PC is not required\",IF(COUNTRY_INFO!$H62=1,COUNTRY_INFO!F62+COUNTRY_INFO!G62,0),IF(COUNTRY_INFO!$H62=1,COUNTRY_INFO!F62+COUNTRY_INFO!G62,IF(COUNTRY_INFO!$I62=1,IF(COUNTRY_INFO!N62>=(COUNTRY_INFO!F62+COUNTRY_INFO!G62),COUNTRY_INFO!F62+COUNTRY_INFO!G62,COUNTRY_INFO!$N62),0))))","v":0},{"$f":"IF(AND(INTRO!$E$39=\"Non-endemic\",INTRO!$E$37=\"Non-endemic\"),\"Not required\",IF(INTRO!$E$39=\"Non-endemic\",\"Treat with DEC\",COUNTRY_INFO!W62))","v":0},{"$f":"IF(INTRO!$E$39<>\"Non-endemic\",COUNTRY_INFO!X62,\"Not required\")","v":0},{"$f":"IF(COUNTRY_INFO!H62=1, IF($E62=1,IF(ALB_MBD!$G62<>\" \",COUNTRY_INFO!F62+COUNTRY_INFO!G62-ALB_MBD!$G62,COUNTRY_INFO!F62+COUNTRY_INFO!G62), 0),0)","v":0},{"$f":"IF(INTRO!$E$39<>\"Endemic\",0, IF(AND(COUNTRY_INFO!$I62=1,$F62<>0),IF(COUNTRY_INFO!N62>=(COUNTRY_INFO!F62+COUNTRY_INFO!G62),COUNTRY_INFO!F62+COUNTRY_INFO!G62,COUNTRY_INFO!$N62), 0))","v":0},0,0,0,0,null,0]
[{"$f":"IF(INTRO!$E$39=\"Non-endemic\",\" \",IF(COUNTRY_INFO!A63=0,\" \",COUNTRY_INFO!A63))","v":"Cameroun"},{"$f":"IF(INTRO!$E$39=\"Non-endemic\",\" \",IF(COUNTRY_INFO!B63=0,\" \",COUNTRY_INFO!B63))","v":"Est"},{"$f":"IF(INTRO!$E$39=\"Non-endemic\",\" \",IF(COUNTRY_INFO!C63=0,\" \",COUNTRY_INFO!C63))","v":"Messamena"},{"$f":"IF(INTRO!$E$39=\"Non-endemic\",0,IF(INTRO!$E$39=\"Endemic but PC is not required\",IF(COUNTRY_INFO!$H63=1,COUNTRY_INFO!F63+COUNTRY_INFO!G63,0),IF(COUNTRY_INFO!$H63=1,COUNTRY_INFO!F63+COUNTRY_INFO!G63,IF(COUNTRY_INFO!$I63=1,IF(COUNTRY_INFO!N63>=(COUNTRY_INFO!F63+COUNTRY_INFO!G63),COUNTRY_INFO!F63+COUNTRY_INFO!G63,COUNTRY_INFO!$N63),0))))","v":28579},{"$f":"IF(AND(INTRO!$E$39=\"Non-endemic\",INTRO!$E$37=\"Non-endemic\"),\"Not required\",IF(INTRO!$E$39=\"Non-endemic\",\"Treat with DEC\",COUNTRY_INFO!W63))","v":0},{"$f":"IF(INTRO!$E$39<>\"Non-endemic\",COUNTRY_INFO!X63,\"Not required\")","v":1},{"$f":"IF(COUNTRY_INFO!H63=1, IF($E63=1,IF(ALB_MBD!$G63<>\" \",COUNTRY_INFO!F63+COUNTRY_INFO!G63-ALB_MBD!$G63,COUNTRY_INFO!F63+COUNTRY_INFO!G63), 0),0)","v":0},{"$f":"IF(INTRO!$E$39<>\"Endemic\",0, IF(AND(COUNTRY_INFO!$I63=1,$F63<>0),IF(COUNTRY_INFO!N63>=(COUNTRY_INFO!F63+COUNTRY_INFO!G63),COUNTRY_INFO!F63+COUNTRY_INFO!G63,COUNTRY_INFO!$N63), 0))","v":28579},0,80021.2,0,80021.2,null,80021.2]
[{"$f":"IF(INTRO!$E$39=\"Non-endemic\",\" \",IF(COUNTRY_INFO!A64=0,\" \",COUNTRY_INFO!A64))","v":"Cameroun"},{"$f":"IF(INTRO!$E$39=\"Non-endemic\",\" \",IF(COUNTRY_INFO!B64=0,\" \",COUNTRY_INFO!B64))","v":"Est"},{"$f":"IF(INTRO!$E$39=\"Non-endemic\",\" \",IF(COUNTRY_INFO!C64=0,\" \",COUNTRY_INFO!C64))","v":"Moloundou"},{"$f":"IF(INTRO!$E$39=\"Non-endemic\",0,IF(INTRO!$E$39=\"Endemic but PC is not required\",IF(COUNTRY_INFO!$H64=1,COUNTRY_INFO!F64+COUNTRY_INFO!G64,0),IF(COUNTRY_INFO!$H64=1,COUNTRY_INFO!F64+COUNTRY_INFO!G64,IF(COUNTRY_INFO!$I64=1,IF(COUNTRY_INFO!N64>=(COUNTRY_INFO!F64+COUNTRY_INFO!G64),COUNTRY_INFO!F64+COUNTRY_INFO!G64,COUNTRY_INFO!$N64),0))))","v":0},{"$f":"IF(AND(INTRO!$E$39=\"Non-endemic\",INTRO!$E$37=\"Non-endemic\"),\"Not required\",IF(INTRO!$E$39=\"Non-endemic\",\"Treat with DEC\",COUNTRY_INFO!W64))","v":0},{"$f":"IF(INTRO!$E$39<>\"Non-endemic\",COUNTRY_INFO!X64,\"Not required\")","v":0},{"$f":"IF(COUNTRY_INFO!H64=1, IF($E64=1,IF(ALB_MBD!$G64<>\" \",COUNTRY_INFO!F64+COUNTRY_INFO!G64-ALB_MBD!$G64,COUNTRY_INFO!F64+COUNTRY_INFO!G64), 0),0)","v":0},{"$f":"IF(INTRO!$E$39<>\"Endemic\",0, IF(AND(COUNTRY_INFO!$I64=1,$F64<>0),IF(COUNTRY_INFO!N64>=(COUNTRY_INFO!F64+COUNTRY_INFO!G64),COUNTRY_INFO!F64+COUNTRY_INFO!G64,COUNTRY_INFO!$N64), 0))","v":0},0,0,0,0,null,0]
[{"$f":"IF(INTRO!$E$39=\"Non-endemic\",\" \",IF(COUNTRY_INFO!A65=0,\" \",COUNTRY_INFO!A65))","v":"Cameroun"},{"$f":"IF(INTRO!$E$39=\"Non-endemic\",\" \",IF(COUNTRY_INFO!B65=0,\" \",COUNTRY_INFO!B65))","v":"Est"},{"$f":"IF(INTRO!$E$39=\"Non-endemic\",\" \",IF(COUNTRY_INFO!C65=0,\" \",COUNTRY_INFO!C65))","v":"Ndelele"},{"$f":"IF(INTRO!$E$39=\"Non-endemic\",0,IF(INTRO!$E$39=\"Endemic but PC is not required\",IF(COUNTRY_INFO!$H65=1,COUNTRY_INFO!F65+COUNTRY_INFO!G65,0),IF(COUNTRY_INFO!$H65=1,COUNTRY_INFO!F65+COUNTRY_INFO!G65,IF(COUNTRY_INFO!$I65=1,IF(COUNTRY_INFO!N65>=(COUNTRY_INFO!F65+COUNTRY_INFO!G65),COUNTRY_INFO!F65+COUNTRY_INFO!G65,COUNTRY_INFO!$N65),0))))","v":0},{"$f":"IF(AND(INTRO!$E$39=\"Non-endemic\",INTRO!$E$37=\"Non-endemic\"),\"Not required\",IF(INTRO!$E$39=\"Non-endemic\",\"Treat with DEC\",COUNTRY_INFO!W65))","v":0},{"$f":"IF(INTRO!$E$39<>\"Non-endemic\",COUNTRY_INFO!X65,\"Not required\")","v":0},{"$f":"IF(COUNTRY_INFO!H65=1, IF($E65=1,IF(ALB_MBD!$G65<>\" \",COUNTRY_INFO!F65+COUNTRY_INFO!G65-ALB_MBD!$G65,COUNTRY_INFO!F65+COUNTRY_INFO!G65), 0),0)","v":0},{"$f":"IF(INTRO!$E$39<>\"Endemic\",0, IF(AND(COUNTRY_INFO!$I65=1,$F65<>0),IF(COUNTRY_INFO!N65>=(COUNTRY_INFO!F65+COUNTRY_INFO!G65),COUNTRY_INFO!F65+COUNTRY_INFO!G65,COUNTRY_INFO!$N65), 0))","v":0},0,0,0,0,null,0]
[{"$f":"IF(INTRO!$E$39=\"Non-endemic\",\" \",IF(COUNTRY_INFO!A66=0,\" \",COUNTRY_INFO!A66))","v":"Cameroun"},{"$f":"IF(INTRO!$E$39=\"Non-endemic\",\" \",IF(COUNTRY_INFO!B66=0,\" \",COUNTRY_INFO!B66))","v":"Est"},{"$f":"IF(INTRO!$E$39=\"Non-endemic\",\" \",IF(COUNTRY_INFO!C66=0,\" \",COUNTRY_INFO!C66))","v":"Nguelemendouka"},{"$f":"IF(INTRO!$E$39=\"Non-endemic\",0,IF(INTRO!$E$39=\"Endemic but PC is not required\",IF(COUNTRY_INFO!$H66=1,COUNTRY_INFO!F66+COUNTRY_INFO!G66,0),IF(COUNTRY_INFO!$H66=1,COUNTRY_INFO!F66+COUNTRY_INFO!G66,IF(COUNTRY_INFO!$I66=1,IF(COUNTRY_INFO!N66>=(COUNTRY_INFO!F66+COUNTRY_INFO!G66),COUNTRY_INFO!F66+COUNTRY_INFO!G66,COUNTRY_INFO!$N66),0))))","v":0},{"$f":"IF(AND(INTRO!$E$39=\"Non-endemic\",INTRO!$E$37=\"Non-endemic\"),\"Not required\",IF(INTRO!$E$39=\"Non-endemic\",\"Treat with DEC\",COUNTRY_INFO!W66))","v":0},{"$f":"IF(INTRO!$E$39<>\"Non-endemic\",COUNTRY_INFO!X66,\"Not required\")","v":0},{"$f":"IF(COUNTRY_INFO!H66=1, IF($E66=1,IF(ALB_MBD!$G66<>\" \",COUNTRY_INFO!F66+COUNTRY_INFO!G66-ALB_MBD!$G66,COUNTRY_INFO!F66+COUNTRY_INFO!G66), 0),0)","v":0},{"$f":"IF(INTRO!$E$39<>\"Endemic\",0, IF(AND(COUNTRY_INFO!$I66=1,$F66<>0),IF(COUNTRY_INFO!N66>=(COUNTRY_INFO!F66+COUNTRY_INFO!G66),COUNTRY_INFO!F66+COUNTRY_INFO!G66,COUNTRY_INFO!$N66), 0))","v":0},0,0,0,0,null,0]
[{"$f":"IF(INTRO!$E$39=\"Non-endemic\",\" \",IF(COUNTRY_INFO!A67=0,\" \",COUNTRY_INFO!A67))","v":"Cameroun"},{"$f":"IF(INTRO!$E$39=\"Non-endemic\",\" \",IF(COUNTRY_INFO!B67=0,\" \",COUNTRY_INFO!B67))","v":"Est"},{"$f":"IF(INTRO!$E$39=\"Non-endemic\",\" \",IF(COUNTRY_INFO!C67=0,\" \",COUNTRY_INFO!C67))","v":"Yokadouma"},{"$f":"IF(INTRO!$E$39=\"Non-endemic\",0,IF(INTRO!$E$39=\"Endemic but PC is not required\",IF(COUNTRY_INFO!$H67=1,COUNTRY_INFO!F67+COUNTRY_INFO!G67,0),IF(COUNTRY_INFO!$H67=1,COUNTRY_INFO!F67+COUNTRY_INFO!G67,IF(COUNTRY_INFO!$I67=1,IF(COUNTRY_INFO!N67>=(COUNTRY_INFO!F67+COUNTRY_INFO!G67),COUNTRY_INFO!F67+COUNTRY_INFO!G67,COUNTRY_INFO!$N67),0))))","v":0},{"$f":"IF(AND(INTRO!$E$39=\"Non-endemic\",INTRO!$E$37=\"Non-endemic\"),\"Not required\",IF(INTRO!$E$39=\"Non-endemic\",\"Treat with DEC\",COUNTRY_INFO!W67))","v":0},{"$f":"IF(INTRO!$E$39<>\"Non-endemic\",COUNTRY_INFO!X67,\"Not required\")","v":0},{"$f":"IF(COUNTRY_INFO!H67=1, IF($E67=1,IF(ALB_MBD!$G67<>\" \",COUNTRY_INFO!F67+COUNTRY_INFO!G67-ALB_MBD!$G67,COUNTRY_INFO!F67+COUNTRY_INFO!G67), 0),0)","v":0},{"$f":"IF(INTRO!$E$39<>\"Endemic\",0, IF(AND(COUNTRY_INFO!$I67=1,$F67<>0),IF(COUNTRY_INFO!N67>=(COUNTRY_INFO!F67+COUNTRY_INFO!G67),COUNTRY_INFO!F67+COUNTRY_INFO!G67,COUNTRY_INFO!$N67), 0))","v":0},0,0,0,0,null,0]
[{"$f":"IF(INTRO!$E$39=\"Non-endemic\",\" \",IF(COUNTRY_INFO!A68=0,\" \",COUNTRY_INFO!A68))","v":"Cameroun"},{"$f":"IF(INTRO!$E$39=\"Non-endemic\",\" \",IF(COUNTRY_INFO!B68=0,\" \",COUNTRY_INFO!B68))","v":"Extreme Nord"},{"$f":"IF(INTRO!$E$39=\"Non-endemic\",\" \",IF(COUNTRY_INFO!C68=0,\" \",COUNTRY_INFO!C68))","v":"Bogo"},{"$f":"IF(INTRO!$E$39=\"Non-endemic\",0,IF(INTRO!$E$39=\"Endemic but PC is not required\",IF(COUNTRY_INFO!$H68=1,COUNTRY_INFO!F68+COUNTRY_INFO!G68,0),IF(COUNTRY_INFO!$H68=1,COUNTRY_INFO!F68+COUNTRY_INFO!G68,IF(COUNTRY_INFO!$I68=1,IF(COUNTRY_INFO!N68>=(COUNTRY_INFO!F68+COUNTRY_INFO!G68),COUNTRY_INFO!F68+COUNTRY_INFO!G68,COUNTRY_INFO!$N68),0))))","v":0},{"$f":"IF(AND(INTRO!$E$39=\"Non-endemic\",INTRO!$E$37=\"Non-endemic\"),\"Not required\",IF(INTRO!$E$39=\"Non-endemic\",\"Treat with DEC\",COUNTRY_INFO!W68))","v":0},{"$f":"IF(INTRO!$E$39<>\"Non-endemic\",COUNTRY_INFO!X68,\"Not required\")","v":0},{"$f":"IF(COUNTRY_INFO!H68=1, IF($E68=1,IF(ALB_MBD!$G68<>\" \",COUNTRY_INFO!F68+COUNTRY_INFO!G68-ALB_MBD!$G68,COUNTRY_INFO!F68+COUNTRY_INFO!G68), 0),0)","v":0},{"$f":"IF(INTRO!$E$39<>\"Endemic\",0, IF(AND(COUNTRY_INFO!$I68=1,$F68<>0),IF(COUNTRY_INFO!N68>=(COUNTRY_INFO!F68+COUNTRY_INFO!G68),COUNTRY_INFO!F68+COUNTRY_INFO!G68,COUNTRY_INFO!$N68), 0))","v":0},0,0,0,0,null,0]
[{"$f":"IF(INTRO!$E$39=\"Non-endemic\",\" \",IF(COUNTRY_INFO!A69=0,\" \",COUNTRY_INFO!A69))","v":"Cameroun"},{"$f":"IF(INTRO!$E$39=\"Non-endemic\",\" \",IF(COUNTRY_INFO!B69=0,\" \",COUNTRY_INFO!B69))","v":"Extreme Nord"},{"$f":"IF(INTRO!$E$39=\"Non-endemic\",\" \",IF(COUNTRY_INFO!C69=0,\" \",COUNTRY_INFO!C69))","v":"Bourha"},{"$f":"IF(INTRO!$E$39=\"Non-endemic\",0,IF(INTRO!$E$39=\"Endemic but PC is not required\",IF(COUNTRY_INFO!$H69=1,COUNTRY_INFO!F69+COUNTRY_INFO!G69,0),IF(COUNTRY_INFO!$H69=1,COUNTRY_INFO!F69+COUNTRY_INFO!G69,IF(COUNTRY_INFO!$I69=1,IF(COUNTRY_INFO!N69>=(COUNTRY_INFO!F69+COUNTRY_INFO!G69),COUNTRY_INFO!F69+COUNTRY_INFO!G69,COUNTRY_INFO!$N69),0))))","v":0},{"$f":"IF(AND(INTRO!$E$39=\"Non-endemic\",INTRO!$E$37=\"Non-endemic\"),\"Not required\",IF(INTRO!$E$39=\"Non-endemic\",\"Treat with DEC\",COUNTRY_INFO!W69))","v":0},{"$f":"IF(INTRO!$E$39<>\"Non-endemic\",COUNTRY_INFO!X69,\"Not required\")","v":0},{"$f":"IF(COUNTRY_INFO!H69=1, IF($E69=1,IF(ALB_MBD!$G69<>\" \",COUNTRY_INFO!F69+COUNTRY_INFO!G69-ALB_MBD!$G69,COUNTRY_INFO!F69+COUNTRY_INFO!G69), 0),0)","v":0},{"$f":"IF(INTRO!$E$39<>\"Endemic\",0, IF(AND(COUNTRY_INFO!$I69=1,$F69<>0),IF(COUNTRY_INFO!N69>=(COUNTRY_INFO!F69+COUNTRY_INFO!G69),COUNTRY_INFO!F69+COUNTRY_INFO!G69,COUNTRY_INFO!$N69), 0))","v":0},0,0,0,0,null,0]
[{"$f":"IF(INTRO!$E$39=\"Non-endemic\",\" \",IF(COUNTRY_INFO!A70=0,\" \",COUNTRY_INFO!A70))","v":"Cameroun"},{"$f":"IF(INTRO!$E$39=\"Non-endemic\",\" \",IF(COUNTRY_INFO!B70=0,\" \",COUNTRY_INFO!B70))","v":"Extreme Nord"},{"$f":"IF(INTRO!$E$39=\"Non-endemic\",\" \",IF(COUNTRY_INFO!C70=0,\" \",COUNTRY_INFO!C70))","v":"Fotokol"},{"$f":"IF(INTRO!$E$39=\"Non-endemic\",0,IF(INTRO!$E$39=\"Endemic but PC is not required\",IF(COUNTRY_INFO!$H70=1,COUNTRY_INFO!F70+COUNTRY_INFO!G70,0),IF(COUNTRY_INFO!$H70=1,COUNTRY_INFO!F70+COUNTRY_INFO!G70,IF(COUNTRY_INFO!$I70=1,IF(COUNTRY_INFO!N70>=(COUNTRY_INFO!F70+COUNTRY_INFO!G70),COUNTRY_INFO!F70+COUNTRY_INFO!G70,COUNTRY_INFO!$N70),0))))","v":0},{"$f":"IF(AND(INTRO!$E$39=\"Non-endemic\",INTRO!$E$37=\"Non-endemic\"),\"Not required\",IF(INTRO!$E$39=\"Non-endemic\",\"Treat with DEC\",COUNTRY_INFO!W70))","v":0},{"$f":"IF(INTRO!$E$39<>\"Non-endemic\",COUNTRY_INFO!X70,\"Not required\")","v":0},{"$f":"IF(COUNTRY_INFO!H70=1, IF($E70=1,IF(ALB_MBD!$G70<>\" \",COUNTRY_INFO!F70+COUNTRY_INFO!G70-ALB_MBD!$G70,COUNTRY_INFO!F70+COUNTRY_INFO!G70), 0),0)","v":0},{"$f":"IF(INTRO!$E$39<>\"Endemic\",0, IF(AND(COUNTRY_INFO!$I70=1,$F70<>0),IF(COUNTRY_INFO!N70>=(COUNTRY_INFO!F70+COUNTRY_INFO!G70),COUNTRY_INFO!F70+COUNTRY_INFO!G70,COUNTRY_INFO!$N70), 0))","v":0},0,0,0,0,null,0]
[{"$f":"IF(INTRO!$E$39=\"Non-endemic\",\" \",IF(COUNTRY_INFO!A71=0,\" \",COUNTRY_INFO!A71))","v":"Cameroun"},{"$f":"IF(INTRO!$E$39=\"Non-endemic\",\" \",IF(COUNTRY_INFO!B71=0,\" \",COUNTRY_INFO!B71))","v":"Extreme Nord"},{"$f":"IF(INTRO!$E$39=\"Non-endemic\",\" \",IF(COUNTRY_INFO!C71=0,\" \",COUNTRY_INFO!C71))","v":"Gazawa"},{"$f":"IF(INTRO!$E$39=\"Non-endemic\",0,IF(INTRO!$E$39=\"Endemic but PC is not required\",IF(COUNTRY_INFO!$H71=1,COUNTRY_INFO!F71+COUNTRY_INFO!G71,0),IF(COUNTRY_INFO!$H71=1,COUNTRY_INFO!F71+COUNTRY_INFO!G71,IF(COUNTRY_INFO!$I71=1,IF(COUNTRY_INFO!N71>=(COUNTRY_INFO!F71+COUNTRY_INFO!G71),COUNTRY_INFO!F71+COUNTRY_INFO!G71,COUNTRY_INFO!$N71),0))))","v":0},{"$f":"IF(AND(INTRO!$E$39=\"Non-endemic\",INTRO!$E$37=\"Non-endemic\"),\"Not required\",IF(INTRO!$E$39=\"Non-endemic\",\"Treat with DEC\",COUNTRY_INFO!W71))","v":0},{"$f":"IF(INTRO!$E$39<>\"Non-endemic\",COUNTRY_INFO!X71,\"Not required\")","v":0},{"$f":"IF(COUNTRY_INFO!H71=1, IF($E71=1,IF(ALB_MBD!$G71<>\" \",COUNTRY_INFO!F71+COUNTRY_INFO!G71-ALB_MBD!$G71,COUNTRY_INFO!F71+COUNTRY_INFO!G71), 0),0)","v":0},{"$f":"IF(INTRO!$E$39<>\"Endemic\",0, IF(AND(COUNTRY_INFO!$I71=1,$F71<>0),IF(COUNTRY_INFO!N71>=(COUNTRY_INFO!F71+COUNTRY_INFO!G71),COUNTRY_INFO!F71+COUNTRY_INFO!G71,COUNTRY_INFO!$N71), 0))","v":0},0,0,0,0,null,0]
[{"$f":"IF(INTRO!$E$39=\"Non-endemic\",\" \",IF(COUNTRY_INFO!A72=0,\" \",COUNTRY_INFO!A72))","v":"Cameroun"},{"$f":"IF(INTRO!$E$39=\"Non-endemic\",\" \",IF(COUNTRY_INFO!B72=0,\" \",COUNTRY_INFO!B72))","v":"Extreme Nord"},{"$f":"IF(INTRO!$E$39=\"Non-endemic\",\" \",IF(COUNTRY_INFO!C72=0,\" \",COUNTRY_INFO!C72))","v":"Goulfey"},{"$f":"IF(INTRO!$E$39=\"Non-endemic\",0,IF(INTRO!$E$39=\"Endemic but PC is not required\",IF(COUNTRY_INFO!$H72=1,COUNTRY_INFO!F72+COUNTRY_INFO!G72,0),IF(COUNTRY_INFO!$H72=1,COUNTRY_INFO!F72+COUNTRY_INFO!G72,IF(COUNTRY_INFO!$I72=1,IF(COUNTRY_INFO!N72>=(COUNTRY_INFO!F72+COUNTRY_INFO!G72),COUNTRY_INFO!F72+COUNTRY_INFO!G72,COUNTRY_INFO!$N72),0))))","v":0},{"$f":"IF(AND(INTRO!$E$39=\"Non-endemic\",INTRO!$E$37=\"Non-endemic\"),\"Not required\",IF(INTRO!$E$39=\"Non-endemic\",\"Treat with DEC\",COUNTRY_INFO!W72))","v":0},{"$f":"IF(INTRO!$E$39<>\"Non-endemic\",COUNTRY_INFO!X72,\"Not required\")","v":0},{"$f":"IF(COUNTRY_INFO!H72=1, IF($E72=1,IF(ALB_MBD!$G72<>\" \",COUNTRY_INFO!F72+COUNTRY_INFO!G72-ALB_MBD!$G72,COUNTRY_INFO!F72+COUNTRY_INFO!G72), 0),0)","v":0},{"$f":"IF(INTRO!$E$39<>\"Endemic\",0, IF(AND(COUNTRY_INFO!$I72=1,$F72<>0),IF(COUNTRY_INFO!N72>=(COUNTRY_INFO!F72+COUNTRY_INFO!G72),COUNTRY_INFO!F72+COUNTRY_INFO!G72,COUNTRY_INFO!$N72), 0))","v":0},0,0,0,0,null,0]
[{"$f":"IF(INTRO!$E$39=\"Non-endemic\",\" \",IF(COUNTRY_INFO!A73=0,\" \",COUNTRY_INFO!A73))","v":"Cameroun"},{"$f":"IF(INTRO!$E$39=\"Non-endemic\",\" \",IF(COUNTRY_INFO!B73=0,\" \",COUNTRY_INFO!B73))","v":"Extreme Nord"},{"$f":"IF(INTRO!$E$39=\"Non-endemic\",\" \",IF(COUNTRY_INFO!C73=0,\" \",COUNTRY_INFO!C73))","v":"Guere"},{"$f":"IF(INTRO!$E$39=\"Non-endemic\",0,IF(INTRO!$E$39=\"Endemic but PC is not required\",IF(COUNTRY_INFO!$H73=1,COUNTRY_INFO!F73+COUNTRY_INFO!G73,0),IF(COUNTRY_INFO!$H73=1,COUNTRY_INFO!F73+COUNTRY_INFO!G73,IF(COUNTRY_INFO!$I73=1,IF(COUNTRY_INFO!N73>=(COUNTRY_INFO!F73+COUNTRY_INFO!G73),COUNTRY_INFO!F73+COUNTRY_INFO!G73,COUNTRY_INFO!$N73),0))))","v":0},{"$f":"IF(AND(INTRO!$E$39=\"Non-endemic\",INTRO!$E$37=\"Non-endemic\"),\"Not required\",IF(INTRO!$E$39=\"Non-endemic\",\"Treat with DEC\",COUNTRY_INFO!W73))","v":0},{"$f":"IF(INTRO!$E$39<>\"Non-endemic\",COUNTRY_INFO!X73,\"Not required\")","v":0},{"$f":"IF(COUNTRY_INFO!H73=1, IF($E73=1,IF(ALB_MBD!$G73<>\" \",COUNTRY_INFO!F73+COUNTRY_INFO!G73-ALB_MBD!$G73,COUNTRY_INFO!F73+COUNTRY_INFO!G73), 0),0)","v":0},{"$f":"IF(INTRO!$E$39<>\"Endemic\",0, IF(AND(COUNTRY_INFO!$I73=1,$F73<>0),IF(COUNTRY_INFO!N73>=(COUNTRY_INFO!F73+COUNTRY_INFO!G73),COUNTRY_INFO!F73+COUNTRY_INFO!G73,COUNTRY_INFO!$N73), 0))","v":0},0,0,0,0,null,0]
[{"$f":"IF(INTRO!$E$39=\"Non-endemic\",\" \",IF(COUNTRY_INFO!A74=0,\" \",COUNTRY_INFO!A74))","v":"Cameroun"},{"$f":"IF(INTRO!$E$39=\"Non-endemic\",\" \",IF(COUNTRY_INFO!B74=0,\" \",COUNTRY_INFO!B74))","v":"Extreme Nord"},{"$f":"IF(INTRO!$E$39=\"Non-endemic\",\" \",IF(COUNTRY_INFO!C74=0,\" \",COUNTRY_INFO!C74))","v":"Guidiguis"},{"$f":"IF(INTRO!$E$39=\"Non-endemic\",0,IF(INTRO!$E$39=\"Endemic but PC is not required\",IF(COUNTRY_INFO!$H74=1,COUNTRY_INFO!F74+COUNTRY_INFO!G74,0),IF(COUNTRY_INFO!$H74=1,COUNTRY_INFO!F74+COUNTRY_INFO!G74,IF(COUNTRY_INFO!$I74=1,IF(COUNTRY_INFO!N74>=(COUNTRY_INFO!F74+COUNTRY_INFO!G74),COUNTRY_INFO!F74+COUNTRY_INFO!G74,COUNTRY_INFO!$N74),0))))","v":0},{"$f":"IF(AND(INTRO!$E$39=\"Non-endemic\",INTRO!$E$37=\"Non-endemic\"),\"Not required\",IF(INTRO!$E$39=\"Non-endemic\",\"Treat with DEC\",COUNTRY_INFO!W74))","v":0},{"$f":"IF(INTRO!$E$39<>\"Non-endemic\",COUNTRY_INFO!X74,\"Not required\")","v":0},{"$f":"IF(COUNTRY_INFO!H74=1, IF($E74=1,IF(ALB_MBD!$G74<>\" \",COUNTRY_INFO!F74+COUNTRY_INFO!G74-ALB_MBD!$G74,COUNTRY_INFO!F74+COUNTRY_INFO!G74), 0),0)","v":0},{"$f":"IF(INTRO!$E$39<>\"Endemic\",0, IF(AND(COUNTRY_INFO!$I74=1,$F74<>0),IF(COUNTRY_INFO!N74>=(COUNTRY_INFO!F74+COUNTRY_INFO!G74),COUNTRY_INFO!F74+COUNTRY_INFO!G74,COUNTRY_INFO!$N74), 0))","v":0},0,0,0,0,null,0]
[{"$f":"IF(INTRO!$E$39=\"Non-endemic\",\" \",IF(COUNTRY_INFO!A75=0,\" \",COUNTRY_INFO!A75))","v":"Cameroun"},{"$f":"IF(INTRO!$E$39=\"Non-endemic\",\" \",IF(COUNTRY_INFO!B75=0,\" \",COUNTRY_INFO!B75))","v":"Extreme Nord"},{"$f":"IF(INTRO!$E$39=\"Non-endemic\",\" \",IF(COUNTRY_INFO!C75=0,\" \",COUNTRY_INFO!C75))","v":"Hina"},{"$f":"IF(INTRO!$E$39=\"Non-endemic\",0,IF(INTRO!$E$39=\"Endemic but PC is not required\",IF(COUNTRY_INFO!$H75=1,COUNTRY_INFO!F75+COUNTRY_INFO!G75,0),IF(COUNTRY_INFO!$H75=1,COUNTRY_INFO!F75+COUNTRY_INFO!G75,IF(COUNTRY_INFO!$I75=1,IF(COUNTRY_INFO!N75>=(COUNTRY_INFO!F75+COUNTRY_INFO!G75),COUNTRY_INFO!F75+COUNTRY_INFO!G75,COUNTRY_INFO!$N75),0))))","v":0},{"$f":"IF(AND(INTRO!$E$39=\"Non-endemic\",INTRO!$E$37=\"Non-endemic\"),\"Not required\",IF(INTRO!$E$39=\"Non-endemic\",\"Treat with DEC\",COUNTRY_INFO!W75))","v":0},{"$f":"IF(INTRO!$E$39<>\"Non-endemic\",COUNTRY_INFO!X75,\"Not required\")","v":0},{"$f":"IF(COUNTRY_INFO!H75=1, IF($E75=1,IF(ALB_MBD!$G75<>\" \",COUNTRY_INFO!F75+COUNTRY_INFO!G75-ALB_MBD!$G75,COUNTRY_INFO!F75+COUNTRY_INFO!G75), 0),0)","v":0},{"$f":"IF(INTRO!$E$39<>\"Endemic\",0, IF(AND(COUNTRY_INFO!$I75=1,$F75<>0),IF(COUNTRY_INFO!N75>=(COUNTRY_INFO!F75+COUNTRY_INFO!G75),COUNTRY_INFO!F75+COUNTRY_INFO!G75,COUNTRY_INFO!$N75), 0))","v":0},{"$f":"IF(G75<H75,0,IF($E75=1, (G75-H75)*2.8, 0))","v":0},{"$f":"IF($E75<$F75, H75*(F75-E75)*2.8, 0)","v":0},{"$f":"IF(AND($E75=1, $F75<>0), H75*2.8, 0)","v":0},{"$f":"SUM(I75:K75)","v":0},null,0]
[{"$f":"IF(INTRO!$E$39=\"Non-endemic\",\" \",IF(COUNTRY_INFO!A76=0,\" \",COUNTRY_INFO!A76))","v":"Cameroun"},{"$f":"IF(INTRO!$E$39=\"Non-endemic\",\" \",IF(COUNTRY_INFO!B76=0,\" \",COUNTRY_INFO!B76))","v":"Extreme Nord"},{"$f":"IF(INTRO!$E$39=\"Non-endemic\",\" \",IF(COUNTRY_INFO!C76=0,\" \",COUNTRY_INFO!C76))","v":"Kaele"},{"$f":"IF(INTRO!$E$39=\"Non-endemic\",0,IF(INTRO!$E$39=\"Endemic but PC is not required\",IF(COUNTRY_INFO!$H76=1,COUNTRY_INFO!F76+COUNTRY_INFO!G76,0),IF(COUNTRY_INFO!$H76=1,COUNTRY_INFO!F76+COUNTRY_INFO!G76,IF(COUNTRY_INFO!$I76=1,IF(COUNTRY_INFO!N76>=(COUNTRY_INFO!F76+COUNTRY_INFO!G76),COUNTRY_INFO!F76+COUNTRY_INFO!G76,COUNTRY_INFO!$N76),0))))","v":0},{"$f":"IF(AND(INTRO!$E$39=\"Non-endemic\",INTRO!$E$37=\"Non-endemic\"),\"Not required\",IF(INTRO!$E$39=\"Non-endemic\",\"Treat with DEC\",COUNTRY_INFO!W76))","v":0},{"$f":"IF(INTRO!$E$39<>\"Non-endemic\",COUNTRY_INFO!X76,\"Not required\")","v":0},{"$f":"IF(COUNTRY_INFO!H76=1, IF($E76=1,IF(ALB_MBD!$G76<>\" \",COUNTRY_INFO!F76+COUNTRY_INFO!G76-ALB_MBD!$G76,COUNTRY_INFO!F76+COUNTRY_INFO!G76), 0),0)","v":0},{"$f":"IF(INTRO!$E$39<>\"Endemic\",0, IF(AND(COUNTRY_INFO!$I76=1,$F76<>0),IF(COUNTRY_INFO!N76>=(COUNTRY_INFO!F76+COUNTRY_INFO!G76),COUNTRY_INFO!F76+COUNTRY_INFO!G76,COUNTRY_INFO!$N76), 0))","v":0},0,0,0,0,null,0]
[{"$f":"IF(INTRO!$E$39=\"Non-endemic\",\" \",IF(COUNTRY_INFO!A77=0,\" \",COUNTRY_INFO!A77))","v":"Cameroun"},{"$f":"IF(INTRO!$E$39=\"Non-endemic\",\" \",IF(COUNTRY_INFO!B77=0,\" \",COUNTRY_INFO!B77))","v":"Extreme Nord"},{"$f":"IF(INTRO!$E$39=\"Non-endemic\",\" \",IF(COUNTRY_INFO!C77=0,\" \",COUNTRY_INFO!C77))","v":"Kar Hay"},{"$f":"IF(INTRO!$E$39=\"Non-endemic\",0,IF(INTRO!$E$39=\"Endemic but PC is not required\",IF(COUNTRY_INFO!$H77=1,COUNTRY_INFO!F77+COUNTRY_INFO!G77,0),IF(COUNTRY_INFO!$H77=1,COUNTRY_INFO!F77+COUNTRY_INFO!G77,IF(COUNTRY_INFO!$I77=1,IF(COUNTRY_INFO!N77>=(COUNTRY_INFO!F77+COUNTRY_INFO!G77),COUNTRY_INFO!F77+COUNTRY_INFO!G77,COUNTRY_INFO!$N77),0))))","v":0},{"$f":"IF(AND(INTRO!$E$39=\"Non-endemic\",INTRO!$E$37=\"Non-endemic\"),\"Not required\",IF(INTRO!$E$39=\"Non-endemic\",\"Treat with DEC\",COUNTRY_INFO!W77))","v":0},{"$f":"IF(INTRO!$E$39<>\"Non-endemic\",COUNTRY_INFO!X77,\"Not required\")","v":0},{"$f":"IF(COUNTRY_INFO!H77=1, IF($E77=1,IF(ALB_MBD!$G77<>\" \",COUNTRY_INFO!F77+COUNTRY_INFO!G77-ALB_MBD!$G77,COUNTRY_INFO!F77+COUNTRY_INFO!G77), 0),0)","v":0},{"$f":"IF(INTRO!$E$39<>\"Endemic\",0, IF(AND(COUNTRY_INFO!$I77=1,$F77<>0),IF(COUNTRY_INFO!N77>=(COUNTRY_INFO!F77+COUNTRY_INFO!G77),COUNTRY_INFO!F77+COUNTRY_INFO!G77,COUNTRY_INFO!$N77), 0))","v":0},0,0,0,0,null,0]
[{"$f":"IF(INTRO!$E$39=\"Non-endemic\",\" \",IF(COUNTRY_INFO!A78=0,\" \",COUNTRY_INFO!A78))","v":"Cameroun"},{"$f":"IF(INTRO!$E$39=\"Non-endemic\",\" \",IF(COUNTRY_INFO!B78=0,\" \",COUNTRY_INFO!B78))","v":"Extreme Nord"},{"$f":"IF(INTRO!$E$39=\"Non-endemic\",\" \",IF(COUNTRY_INFO!C78=0,\" \",COUNTRY_INFO!C78))","v":"Kolofata"},{"$f":"IF(INTRO!$E$39=\"Non-endemic\",0,IF(INTRO!$E$39=\"Endemic but PC is not required\",IF(COUNTRY_INFO!$H78=1,COUNTRY_INFO!F78+COUNTRY_INFO!G78,0),IF(COUNTRY_INFO!$H78=1,COUNTRY_INFO!F78+COUNTRY_INFO!G78,IF(COUNTRY_INFO!$I78=1,IF(COUNTRY_INFO!N78>=(COUNTRY_INFO!F78+COUNTRY_INFO!G78),COUNTRY_INFO!F78+COUNTRY_INFO!G78,COUNTRY_INFO!$N78),0))))","v":0},{"$f":"IF(AND(INTRO!$E$39=\"Non-endemic\",INTRO!$E$37=\"Non-endemic\"),\"Not required\",IF(INTRO!$E$39=\"Non-endemic\",\"Treat with DEC\",COUNTRY_INFO!W78))","v":0},{"$f":"IF(INTRO!$E$39<>\"Non-endemic\",COUNTRY_INFO!X78,\"Not required\")","v":0},{"$f":"IF(COUNTRY_INFO!H78=1, IF($E78=1,IF(ALB_MBD!$G78<>\" \",COUNTRY_INFO!F78+COUNTRY_INFO!G78-ALB_MBD!$G78,COUNTRY_INFO!F78+COUNTRY_INFO!G78), 0),0)","v":0},{"$f":"IF(INTRO!$E$39<>\"Endemic\",0, IF(AND(COUNTRY_INFO!$I78=1,$F78<>0),IF(COUNTRY_INFO!N78>=(COUNTRY_INFO!F78+COUNTRY_INFO!G78),COUNTRY_INFO!F78+COUNTRY_INFO!G78,COUNTRY_INFO!$N78), 0))","v":0},0,0,0,0,null,0]
[{"$f":"IF(INTRO!$E$39=\"Non-endemic\",\" \",IF(COUNTRY_INFO!A79=0,\" \",COUNTRY_INFO!A79))","v":"Cameroun"},{"$f":"IF(INTRO!$E$39=\"Non-endemic\",\" \",IF(COUNTRY_INFO!B79=0,\" \",COUNTRY_INFO!B79))","v":"Extreme Nord"},{"$f":"IF(INTRO!$E$39=\"Non-endemic\",\" \",IF(COUNTRY_INFO!C79=0,\" \",COUNTRY_INFO!C79))","v":"Kousseri"},{"$f":"IF(INTRO!$E$39=\"Non-endemic\",0,IF(INTRO!$E$39=\"Endemic but PC is not required\",IF(COUNTRY_INFO!$H79=1,COUNTRY_INFO!F79+COUNTRY_INFO!G79,0),IF(COUNTRY_INFO!$H79=1,COUNTRY_INFO!F79+COUNTRY_INFO!G79,IF(COUNTRY_INFO!$I79=1,IF(COUNTRY_INFO!N79>=(COUNTRY_INFO!F79+COUNTRY_INFO!G79),COUNTRY_INFO!F79+COUNTRY_INFO!G79,COUNTRY_INFO!$N79),0))))","v":0},{"$f":"IF(AND(INTRO!$E$39=\"Non-endemic\",INTRO!$E$37=\"Non-endemic\"),\"Not required\",IF(INTRO!$E$39=\"Non-endemic\",\"Treat with DEC\",COUNTRY_INFO!W79))","v":0},{"$f":"IF(INTRO!$E$39<>\"Non-endemic\",COUNTRY_INFO!X79,\"Not required\")","v":0},{"$f":"IF(COUNTRY_INFO!H79=1, IF($E79=1,IF(ALB_MBD!$G79<>\" \",COUNTRY_INFO!F79+COUNTRY_INFO!G79-ALB_MBD!$G79,COUNTRY_INFO!F79+COUNTRY_INFO!G79), 0),0)","v":0},{"$f":"IF(INTRO!$E$39<>\"Endemic\",0, IF(AND(COUNTRY_INFO!$I79=1,$F79<>0),IF(COUNTRY_INFO!N79>=(COUNTRY_INFO!F79+COUNTRY_INFO!G79),COUNTRY_INFO!F79+COUNTRY_INFO!G79,COUNTRY_INFO!$N79), 0))","v":0},0,0,0,0,null,0]
[{"$f":"IF(INTRO!$E$39=\"Non-endemic\",\" \",IF(COUNTRY_INFO!A80=0,\" \",COUNTRY_INFO!A80))","v":"Cameroun"},{"$f":"IF(INTRO!$E$39=\"Non-endemic\",\" \",IF(COUNTRY_INFO!B80=0,\" \",COUNTRY_INFO!B80))","v":"Extreme Nord"},{"$f":"IF(INTRO!$E$39=\"Non-endemic\",\" \",IF(COUNTRY_INFO!C80=0,\" \",COUNTRY_INFO!C80))","v":"Koza"},{"$f":"IF(INTRO!$E$39=\"Non-endemic\",0,IF(INTRO!$E$39=\"Endemic but PC is not required\",IF(COUNTRY_INFO!$H80=1,COUNTRY_INFO!F80+COUNTRY_INFO!G80,0),IF(COUNTRY_INFO!$H80=1,COUNTRY_INFO!F80+COUNTRY_INFO!G80,IF(COUNTRY_INFO!$I80=1,IF(COUNTRY_INFO!N80>=(COUNTRY_INFO!F80+COUNTRY_INFO!G80),COUNTRY_INFO!F80+COUNTRY_INFO!G80,COUNTRY_INFO!$N80),0))))","v":89379},{"$f":"IF(AND(INTRO!$E$39=\"Non-endemic\",INTRO!$E$37=\"Non-endemic\"),\"Not required\",IF(INTRO!$E$39=\"Non-endemic\",\"Treat with DEC\",COUNTRY_INFO!W80))","v":0},{"$f":"IF(INTRO!$E$39<>\"Non-endemic\",COUNTRY_INFO!X80,\"Not required\")","v":1},{"$f":"IF(COUNTRY_INFO!H80=1, IF($E80=1,IF(ALB_MBD!$G80<>\" \",COUNTRY_INFO!F80+COUNTRY_INFO!G80-ALB_MBD!$G80,COUNTRY_INFO!F80+COUNTRY_INFO!G80), 0),0)","v":0},{"$f":"IF(INTRO!$E$39<>\"Endemic\",0, IF(AND(COUNTRY_INFO!$I80=1,$F80<>0),IF(COUNTRY_INFO!N80>=(COUNTRY_INFO!F80+COUNTRY_INFO!G80),COUNTRY_INFO!F80+COUNTRY_INFO!G80,COUNTRY_INFO!$N80), 0))","v":89379},0,250261.19999999998,0,250261.19999999998,null,250261.19999999998]
[{"$f":"IF(INTRO!$E$39=\"Non-endemic\",\" \",IF(COUNTRY_INFO!A81=0,\" \",COUNTRY_INFO!A81))","v":"Cameroun"},{"$f":"IF(INTRO!$E$39=\"Non-endemic\",\" \",IF(COUNTRY_INFO!B81=0,\" \",COUNTRY_INFO!B81))","v":"Extreme Nord"},{"$f":"IF(INTRO!$E$39=\"Non-endemic\",\" \",IF(COUNTRY_INFO!C81=0,\" \",COUNTRY_INFO!C81))","v":"Mada"},{"$f":"IF(INTRO!$E$39=\"Non-endemic\",0,IF(INTRO!$E$39=\"Endemic but PC is not required\",IF(COUNTRY_INFO!$H81=1,COUNTRY_INFO!F81+COUNTRY_INFO!G81,0),IF(COUNTRY_INFO!$H81=1,COUNTRY_INFO!F81+COUNTRY_INFO!G81,IF(COUNTRY_INFO!$I81=1,IF(COUNTRY_INFO!N81>=(COUNTRY_INFO!F81+COUNTRY_INFO!G81),COUNTRY_INFO!F81+COUNTRY_INFO!G81,COUNTRY_INFO!$N81),0))))","v":0},{"$f":"IF(AND(INTRO!$E$39=\"Non-endemic\",INTRO!$E$37=\"Non-endemic\"),\"Not required\",IF(INTRO!$E$39=\"Non-endemic\",\"Treat with DEC\",COUNTRY_INFO!W81))","v":0},{"$f":"IF(INTRO!$E$39<>\"Non-endemic\",COUNTRY_INFO!X81,\"Not required\")","v":0},{"$f":"IF(COUNTRY_INFO!H81=1, IF($E81=1,IF(ALB_MBD!$G81<>\" \",COUNTRY_INFO!F81+COUNTRY_INFO!G81-ALB_MBD!$G81,COUNTRY_INFO!F81+COUNTRY_INFO!G81), 0),0)","v":0},{"$f":"IF(INTRO!$E$39<>\"Endemic\",0, IF(AND(COUNTRY_INFO!$I81=1,$F81<>0),IF(COUNTRY_INFO!N81>=(COUNTRY_INFO!F81+COUNTRY_INFO!G81),COUNTRY_INFO!F81+COUNTRY_INFO!G81,COUNTRY_INFO!$N81), 0))","v":0},0,0,0,0,null,0]
[{"$f":"IF(INTRO!$E$39=\"Non-endemic\",\" \",IF(COUNTRY_INFO!A82=0,\" \",COUNTRY_INFO!A82))","v":"Cameroun"},{"$f":"IF(INTRO!$E$39=\"Non-endemic\",\" \",IF(COUNTRY_INFO!B82=0,\" \",COUNTRY_INFO!B82))","v":"Extreme Nord"},{"$f":"IF(INTRO!$E$39=\"Non-endemic\",\" \",IF(COUNTRY_INFO!C82=0,\" \",COUNTRY_INFO!C82))","v":"Maga"},{"$f":"IF(INTRO!$E$39=\"Non-endemic\",0,IF(INTRO!$E$39=\"Endemic but PC is not required\",IF(COUNTRY_INFO!$H82=1,COUNTRY_INFO!F82+COUNTRY_INFO!G82,0),IF(COUNTRY_INFO!$H82=1,COUNTRY_INFO!F82+COUNTRY_INFO!G82,IF(COUNTRY_INFO!$I82=1,IF(COUNTRY_INFO!N82>=(COUNTRY_INFO!F82+COUNTRY_INFO!G82),COUNTRY_INFO!F82+COUNTRY_INFO!G82,COUNTRY_INFO!$N82),0))))","v":0},{"$f":"IF(AND(INTRO!$E$39=\"Non-endemic\",INTRO!$E$37=\"Non-endemic\"),\"Not required\",IF(INTRO!$E$39=\"Non-endemic\",\"Treat with DEC\",COUNTRY_INFO!W82))","v":0},{"$f":"IF(INTRO!$E$39<>\"Non-endemic\",COUNTRY_INFO!X82,\"Not required\")","v":0},{"$f":"IF(COUNTRY_INFO!H82=1, IF($E82=1,IF(ALB_MBD!$G82<>\" \",COUNTRY_INFO!F82+COUNTRY_INFO!G82-ALB_MBD!$G82,COUNTRY_INFO!F82+COUNTRY_INFO!G82), 0),0)","v":0},{"$f":"IF(INTRO!$E$39<>\"Endemic\",0, IF(AND(COUNTRY_INFO!$I82=1,$F82<>0),IF(COUNTRY_INFO!N82>=(COUNTRY_INFO!F82+COUNTRY_INFO!G82),COUNTRY_INFO!F82+COUNTRY_INFO!G82,COUNTRY_INFO!$N82), 0))","v":0},0,0,0,0,null,0]
[{"$f":"IF(INTRO!$E$39=\"Non-endemic\",\" \",IF(COUNTRY_INFO!A83=0,\" \",COUNTRY_INFO!A83))","v":"Cameroun"},{"$f":"IF(INTRO!$E$39=\"Non-endemic\",\" \",IF(COUNTRY_INFO!B83=0,\" \",COUNTRY_INFO!B83))","v":"Extreme Nord"},{"$f":"IF(INTRO!$E$39=\"Non-endemic\",\" \",IF(COUNTRY_INFO!C83=0,\" \",COUNTRY_INFO!C83))","v":"Makary"},{"$f":"IF(INTRO!$E$39=\"Non-endemic\",0,IF(INTRO!$E$39=\"Endemic but PC is not required\",IF(COUNTRY_INFO!$H83=1,COUNTRY_INFO!F83+COUNTRY_INFO!G83,0),IF(COUNTRY_INFO!$H83=1,COUNTRY_INFO!F83+COUNTRY_INFO!G83,IF(COUNTRY_INFO!$I83=1,IF(COUNTRY_INFO!N83>=(COUNTRY_INFO!F83+COUNTRY_INFO!G83),COUNTRY_INFO!F83+COUNTRY_INFO!G83,COUNTRY_INFO!$N83),0))))","v":0},{"$f":"IF(AND(INTRO!$E$39=\"Non-endemic\",INTRO!$E$37=\"Non-endemic\"),\"Not required\",IF(INTRO!$E$39=\"Non-endemic\",\"Treat with DEC\",COUNTRY_INFO!W83))","v":0},{"$f":"IF(INTRO!$E$39<>\"Non-endemic\",COUNTRY_INFO!X83,\"Not required\")","v":0},{"$f":"IF(COUNTRY_INFO!H83=1, IF($E83=1,IF(ALB_MBD!$G83<>\" \",COUNTRY_INFO!F83+COUNTRY_INFO!G83-ALB_MBD!$G83,COUNTRY_INFO!F83+COUNTRY_INFO!G83), 0),0)","v":0},{"$f":"IF(INTRO!$E$39<>\"Endemic\",0, IF(AND(COUNTRY_INFO!$I83=1,$F83<>0),IF(COUNTRY_INFO!N83>=(COUNTRY_INFO!F83+COUNTRY_INFO!G83),COUNTRY_INFO!F83+COUNTRY_INFO!G83,COUNTRY_INFO!$N83), 0))","v":0},0,0,0,0,null,0]
[{"$f":"IF(INTRO!$E$39=\"Non-endemic\",\" \",IF(COUNTRY_INFO!A84=0,\" \",COUNTRY_INFO!A84))","v":"Cameroun"},{"$f":"IF(INTRO!$E$39=\"Non-endemic\",\" \",IF(COUNTRY_INFO!B84=0,\" \",COUNTRY_INFO!B84))","v":"Extreme Nord"},{"$f":"IF(INTRO!$E$39=\"Non-endemic\",\" \",IF(COUNTRY_INFO!C84=0,\" \",COUNTRY_INFO!C84))","v":"Maroua 1"},{"$f":"IF(INTRO!$E$39=\"Non-endemic\",0,IF(INTRO!$E$39=\"Endemic but PC is not required\",IF(COUNTRY_INFO!$H84=1,COUNTRY_INFO!F84+COUNTRY_INFO!G84,0),IF(COUNTRY_INFO!$H84=1,COUNTRY_INFO!F84+COUNTRY_INFO!G84,IF(COUNTRY_INFO!$I84=1,IF(COUNTRY_INFO!N84>=(COUNTRY_INFO!F84+COUNTRY_INFO!G84),COUNTRY_INFO!F84+COUNTRY_INFO!G84,COUNTRY_INFO!$N84),0))))","v":0},{"$f":"IF(AND(INTRO!$E$39=\"Non-endemic\",INTRO!$E$37=\"Non-endemic\"),\"Not required\",IF(INTRO!$E$39=\"Non-endemic\",\"Treat with DEC\",COUNTRY_INFO!W84))","v":0},{"$f":"IF(INTRO!$E$39<>\"Non-endemic\",COUNTRY_INFO!X84,\"Not required\")","v":0},{"$f":"IF(COUNTRY_INFO!H84=1, IF($E84=1,IF(ALB_MBD!$G84<>\" \",COUNTRY_INFO!F84+COUNTRY_INFO!G84-ALB_MBD!$G84,COUNTRY_INFO!F84+COUNTRY_INFO!G84), 0),0)","v":0},{"$f":"IF(INTRO!$E$39<>\"Endemic\",0, IF(AND(COUNTRY_INFO!$I84=1,$F84<>0),IF(COUNTRY_INFO!N84>=(COUNTRY_INFO!F84+COUNTRY_INFO!G84),COUNTRY_INFO!F84+COUNTRY_INFO!G84,COUNTRY_INFO!$N84), 0))","v":0},0,0,0,0,null,0]
[{"$f":"IF(INTRO!$E$39=\"Non-endemic\",\" \",IF(COUNTRY_INFO!A85=0,\" \",COUNTRY_INFO!A85))","v":"Cameroun"},{"$f":"IF(INTRO!$E$39=\"Non-endemic\",\" \",IF(COUNTRY_INFO!B85=0,\" \",COUNTRY_INFO!B85))","v":"Extreme Nord"},{"$f":"IF(INTRO!$E$39=\"Non-endemic\",\" \",IF(COUNTRY_INFO!C85=0,\" \",COUNTRY_INFO!C85))","v":"Maroua 2"},{"$f":"IF(INTRO!$E$39=\"Non-endemic\",0,IF(INTRO!$E$39=\"Endemic but PC is not required\",IF(COUNTRY_INFO!$H85=1,COUNTRY_INFO!F85+COUNTRY_INFO!G85,0),IF(COUNTRY_INFO!$H85=1,COUNTRY_INFO!F85+COUNTRY_INFO!G85,IF(COUNTRY_INFO!$I85=1,IF(COUNTRY_INFO!N85>=(COUNTRY_INFO!F85+COUNTRY_INFO!G85),COUNTRY_INFO!F85+COUNTRY_INFO!G85,COUNTRY_INFO!$N85),0))))","v":0},{"$f":"IF(AND(INTRO!$E$39=\"Non-endemic\",INTRO!$E$37=\"Non-endemic\"),\"Not required\",IF(INTRO!$E$39=\"Non-endemic\",\"Treat with DEC\",COUNTRY_INFO!W85))","v":0},{"$f":"IF(INTRO!$E$39<>\"Non-endemic\",COUNTRY_INFO!X85,\"Not required\")","v":0},{"$f":"IF(COUNTRY_INFO!H85=1, IF($E85=1,IF(ALB_MBD!$G85<>\" \",COUNTRY_INFO!F85+COUNTRY_INFO!G85-ALB_MBD!$G85,COUNTRY_INFO!F85+COUNTRY_INFO!G85), 0),0)","v":0},{"$f":"IF(INTRO!$E$39<>\"Endemic\",0, IF(AND(COUNTRY_INFO!$I85=1,$F85<>0),IF(COUNTRY_INFO!N85>=(COUNTRY_INFO!F85+COUNTRY_INFO!G85),COUNTRY_INFO!F85+COUNTRY_INFO!G85,COUNTRY_INFO!$N85), 0))","v":0},0,0,0,0,null,0]
[{"$f":"IF(INTRO!$E$39=\"Non-endemic\",\" \",IF(COUNTRY_INFO!A86=0,\" \",COUNTRY_INFO!A86))","v":"Cameroun"},{"$f":"IF(INTRO!$E$39=\"Non-endemic\",\" \",IF(COUNTRY_INFO!B86=0,\" \",COUNTRY_INFO!B86))","v":"Extreme Nord"},{"$f":"IF(INTRO!$E$39=\"Non-endemic\",\" \",IF(COUNTRY_INFO!C86=0,\" \",COUNTRY_INFO!C86))","v":"Maroua 3"},{"$f":"IF(INTRO!$E$39=\"Non-endemic\",0,IF(INTRO!$E$39=\"Endemic but PC is not required\",IF(COUNTRY_INFO!$H86=1,COUNTRY_INFO!F86+COUNTRY_INFO!G86,0),IF(COUNTRY_INFO!$H86=1,COUNTRY_INFO!F86+COUNTRY_INFO!G86,IF(COUNTRY_INFO!$I86=1,IF(COUNTRY_INFO!N86>=(COUNTRY_INFO!F86+COUNTRY_INFO!G86),COUNTRY_INFO!F86+COUNTRY_INFO!G86,COUNTRY_INFO!$N86),0))))","v":0},{"$f":"IF(AND(INTRO!$E$39=\"Non-endemic\",INTRO!$E$37=\"Non-endemic\"),\"Not required\",IF(INTRO!$E$39=\"Non-endemic\",\"Treat with DEC\",COUNTRY_INFO!W86))","v":0},{"$f":"IF(INTRO!$E$39<>\"Non-endemic\",COUNTRY_INFO!X86,\"Not required\")","v":0},{"$f":"IF(COUNTRY_INFO!H86=1, IF($E86=1,IF(ALB_MBD!$G86<>\" \",COUNTRY_INFO!F86+COUNTRY_INFO!G86-ALB_MBD!$G86,COUNTRY_INFO!F86+COUNTRY_INFO!G86), 0),0)","v":0},{"$f":"IF(INTRO!$E$39<>\"Endemic\",0, IF(AND(COUNTRY_INFO!$I86=1,$F86<>0),IF(COUNTRY_INFO!N86>=(COUNTRY_INFO!F86+COUNTRY_INFO!G86),COUNTRY_INFO!F86+COUNTRY_INFO!G86,COUNTRY_INFO!$N86), 0))","v":0},0,0,0,0,null,0]
[{"$f":"IF(INTRO!$E$39=\"Non-endemic\",\" \",IF(COUNTRY_INFO!A87=0,\" \",COUNTRY_INFO!A87))","v":"Cameroun"},{"$f":"IF(INTRO!$E$39=\"Non-endemic\",\" \",IF(COUNTRY_INFO!B87=0,\" \",COUNTRY_INFO!B87))","v":"Extreme Nord"},{"$f":"IF(INTRO!$E$39=\"Non-endemic\",\" \",IF(COUNTRY_INFO!C87=0,\" \",COUNTRY_INFO!C87))","v":"Meri"},{"$f":"IF(INTRO!$E$39=\"Non-endemic\",0,IF(INTRO!$E$39=\"Endemic but PC is not required\",IF(COUNTRY_INFO!$H87=1,COUNTRY_INFO!F87+COUNTRY_INFO!G87,0),IF(COUNTRY_INFO!$H87=1,COUNTRY_INFO!F87+COUNTRY_INFO!G87,IF(COUNTRY_INFO!$I87=1,IF(COUNTRY_INFO!N87>=(COUNTRY_INFO!F87+COUNTRY_INFO!G87),COUNTRY_INFO!F87+COUNTRY_INFO!G87,COUNTRY_INFO!$N87),0))))","v":0},{"$f":"IF(AND(INTRO!$E$39=\"Non-endemic\",INTRO!$E$37=\"Non-endemic\"),\"Not required\",IF(INTRO!$E$39=\"Non-endemic\",\"Treat with DEC\",COUNTRY_INFO!W87))","v":0},{"$f":"IF(INTRO!$E$39<>\"Non-endemic\",COUNTRY_INFO!X87,\"Not required\")","v":0},{"$f":"IF(COUNTRY_INFO!H87=1, IF($E87=1,IF(ALB_MBD!$G87<>\" \",COUNTRY_INFO!F87+COUNTRY_INFO!G87-ALB_MBD!$G87,COUNTRY_INFO!F87+COUNTRY_INFO!G87), 0),0)","v":0},{"$f":"IF(INTRO!$E$39<>\"Endemic\",0, IF(AND(COUNTRY_INFO!$I87=1,$F87<>0),IF(COUNTRY_INFO!N87>=(COUNTRY_INFO!F87+COUNTRY_INFO!G87),COUNTRY_INFO!F87+COUNTRY_INFO!G87,COUNTRY_INFO!$N87), 0))","v":0},0,0,0,0,null,0]
[{"$f":"IF(INTRO!$E$39=\"Non-endemic\",\" \",IF(COUNTRY_INFO!A88=0,\" \",COUNTRY_INFO!A88))","v":"Cameroun"},{"$f":"IF(INTRO!$E$39=\"Non-endemic\",\" \",IF(COUNTRY_INFO!B88=0,\" \",COUNTRY_INFO!B88))","v":"Extreme Nord"},{"$f":"IF(INTRO!$E$39=\"Non-endemic\",\" \",IF(COUNTRY_INFO!C88=0,\" \",COUNTRY_INFO!C88))","v":"Mindif"},{"$f":"IF(INTRO!$E$39=\"Non-endemic\",0,IF(INTRO!$E$39=\"Endemic but PC is not required\",IF(COUNTRY_INFO!$H88=1,COUNTRY_INFO!F88+COUNTRY_INFO!G88,0),IF(COUNTRY_INFO!$H88=1,COUNTRY_INFO!F88+COUNTRY_INFO!G88,IF(COUNTRY_INFO!$I88=1,IF(COUNTRY_INFO!N88>=(COUNTRY_INFO!F88+COUNTRY_INFO!G88),COUNTRY_INFO!F88+COUNTRY_INFO!G88,COUNTRY_INFO!$N88),0))))","v":0},{"$f":"IF(AND(INTRO!$E$39=\"Non-endemic\",INTRO!$E$37=\"Non-endemic\"),\"Not required\",IF(INTRO!$E$39=\"Non-endemic\",\"Treat with DEC\",COUNTRY_INFO!W88))","v":0},{"$f":"IF(INTRO!$E$39<>\"Non-endemic\",COUNTRY_INFO!X88,\"Not required\")","v":0},{"$f":"IF(COUNTRY_INFO!H88=1, IF($E88=1,IF(ALB_MBD!$G88<>\" \",COUNTRY_INFO!F88+COUNTRY_INFO!G88-ALB_MBD!$G88,COUNTRY_INFO!F88+COUNTRY_INFO!G88), 0),0)","v":0},{"$f":"IF(INTRO!$E$39<>\"Endemic\",0, IF(AND(COUNTRY_INFO!$I88=1,$F88<>0),IF(COUNTRY_INFO!N88>=(COUNTRY_INFO!F88+COUNTRY_INFO!G88),COUNTRY_INFO!F88+COUNTRY_INFO!G88,COUNTRY_INFO!$N88), 0))","v":0},0,0,0,0,null,0]
[{"$f":"IF(INTRO!$E$39=\"Non-endemic\",\" \",IF(COUNTRY_INFO!A89=0,\" \",COUNTRY_INFO!A89))","v":"Cameroun"},{"$f":"IF(INTRO!$E$39=\"Non-endemic\",\" \",IF(COUNTRY_INFO!B89=0,\" \",COUNTRY_INFO!B89))","v":"Extreme Nord"},{"$f":"IF(INTRO!$E$39=\"Non-endemic\",\" \",IF(COUNTRY_INFO!C89=0,\" \",COUNTRY_INFO!C89))","v":"Mogode"},{"$f":"IF(INTRO!$E$39=\"Non-endemic\",0,IF(INTRO!$E$39=\"Endemic but PC is not required\",IF(COUNTRY_INFO!$H89=1,COUNTRY_INFO!F89+COUNTRY_INFO!G89,0),IF(COUNTRY_INFO!$H89=1,COUNTRY_INFO!F89+COUNTRY_INFO!G89,IF(COUNTRY_INFO!$I89=1,IF(COUNTRY_INFO!N89>=(COUNTRY_INFO!F89+COUNTRY_INFO!G89),COUNTRY_INFO!F89+COUNTRY_INFO!G89,COUNTRY_INFO!$N89),0))))","v":0},{"$f":"IF(AND(INTRO!$E$39=\"Non-endemic\",INTRO!$E$37=\"Non-endemic\"),\"Not required\",IF(INTRO!$E$39=\"Non-endemic\",\"Treat with DEC\",COUNTRY_INFO!W89))","v":0},{"$f":"IF(INTRO!$E$39<>\"Non-endemic\",COUNTRY_INFO!X89,\"Not required\")","v":0},{"$f":"IF(COUNTRY_INFO!H89=1, IF($E89=1,IF(ALB_MBD!$G89<>\" \",COUNTRY_INFO!F89+COUNTRY_INFO!G89-ALB_MBD!$G89,COUNTRY_INFO!F89+COUNTRY_INFO!G89), 0),0)","v":0},{"$f":"IF(INTRO!$E$39<>\"Endemic\",0, IF(AND(COUNTRY_INFO!$I89=1,$F89<>0),IF(COUNTRY_INFO!N89>=(COUNTRY_INFO!F89+COUNTRY_INFO!G89),COUNTRY_INFO!F89+COUNTRY_INFO!G89,COUNTRY_INFO!$N89), 0))","v":0},0,0,0,0,null,0]
[{"$f":"IF(INTRO!$E$39=\"Non-endemic\",\" \",IF(COUNTRY_INFO!A90=0,\" \",COUNTRY_INFO!A90))","v":"Cameroun"},{"$f":"IF(INTRO!$E$39=\"Non-endemic\",\" \",IF(COUNTRY_INFO!B90=0,\" \",COUNTRY_INFO!B90))","v":"Extreme Nord"},{"$f":"IF(INTRO!$E$39=\"Non-endemic\",\" \",IF(COUNTRY_INFO!C90=0,\" \",COUNTRY_INFO!C90))","v":"Mokolo"},{"$f":"IF(INTRO!$E$39=\"Non-endemic\",0,IF(INTRO!$E$39=\"Endemic but PC is not required\",IF(COUNTRY_INFO!$H90=1,COUNTRY_INFO!F90+COUNTRY_INFO!G90,0),IF(COUNTRY_INFO!$H90=1,COUNTRY_INFO!F90+COUNTRY_INFO!G90,IF(COUNTRY_INFO!$I90=1,IF(COUNTRY_INFO!N90>=(COUNTRY_INFO!F90+COUNTRY_INFO!G90),COUNTRY_INFO!F90+COUNTRY_INFO!G90,COUNTRY_INFO!$N90),0))))","v":275281},{"$f":"IF(AND(INTRO!$E$39=\"Non-endemic\",INTRO!$E$37=\"Non-endemic\"),\"Not required\",IF(INTRO!$E$39=\"Non-endemic\",\"Treat with DEC\",COUNTRY_INFO!W90))","v":0},{"$f":"IF(INTRO!$E$39<>\"Non-endemic\",COUNTRY_INFO!X90,\"Not required\")","v":1},{"$f":"IF(COUNTRY_INFO!H90=1, IF($E90=1,IF(ALB_MBD!$G90<>\" \",COUNTRY_INFO!F90+COUNTRY_INFO!G90-ALB_MBD!$G90,COUNTRY_INFO!F90+COUNTRY_INFO!G90), 0),0)","v":0},{"$f":"IF(INTRO!$E$39<>\"Endemic\",0, IF(AND(COUNTRY_INFO!$I90=1,$F90<>0),IF(COUNTRY_INFO!N90>=(COUNTRY_INFO!F90+COUNTRY_INFO!G90),COUNTRY_INFO!F90+COUNTRY_INFO!G90,COUNTRY_INFO!$N90), 0))","v":275281},0,770786.79999999993,0,770786.79999999993,null,770786.79999999993]
[{"$f":"IF(INTRO!$E$39=\"Non-endemic\",\" \",IF(COUNTRY_INFO!A91=0,\" \",COUNTRY_INFO!A91))","v":"Cameroun"},{"$f":"IF(INTRO!$E$39=\"Non-endemic\",\" \",IF(COUNTRY_INFO!B91=0,\" \",COUNTRY_INFO!B91))","v":"Extreme Nord"},{"$f":"IF(INTRO!$E$39=\"Non-endemic\",\" \",IF(COUNTRY_INFO!C91=0,\" \",COUNTRY_INFO!C91))","v":"Mora"},{"$f":"IF(INTRO!$E$39=\"Non-endemic\",0,IF(INTRO!$E$39=\"Endemic but PC is not required\",IF(COUNTRY_INFO!$H91=1,COUNTRY_INFO!F91+COUNTRY_INFO!G91,0),IF(COUNTRY_INFO!$H91=1,COUNTRY_INFO!F91+COUNTRY_INFO!G91,IF(COUNTRY_INFO!$I91=1,IF(COUNTRY_INFO!N91>=(COUNTRY_INFO!F91+COUNTRY_INFO!G91),COUNTRY_INFO!F91+COUNTRY_INFO!G91,COUNTRY_INFO!$N91),0))))","v":0},{"$f":"IF(AND(INTRO!$E$39=\"Non-endemic\",INTRO!$E$37=\"Non-endemic\"),\"Not required\",IF(INTRO!$E$39=\"Non-endemic\",\"Treat with DEC\",COUNTRY_INFO!W91))","v":0},{"$f":"IF(INTRO!$E$39<>\"Non-endemic\",COUNTRY_INFO!X91,\"Not required\")","v":0},{"$f":"IF(COUNTRY_INFO!H91=1, IF($E91=1,IF(ALB_MBD!$G91<>\" \",COUNTRY_INFO!F91+COUNTRY_INFO!G91-ALB_MBD!$G91,COUNTRY_INFO!F91+COUNTRY_INFO!G91), 0),0)","v":0},{"$f":"IF(INTRO!$E$39<>\"Endemic\",0, IF(AND(COUNTRY_INFO!$I91=1,$F91<>0),IF(COUNTRY_INFO!N91>=(COUNTRY_INFO!F91+COUNTRY_INFO!G91),COUNTRY_INFO!F91+COUNTRY_INFO!G91,COUNTRY_INFO!$N91), 0))","v":0},0,0,0,0,null,0]
[{"$f":"IF(INTRO!$E$39=\"Non-endemic\",\" \",IF(COUNTRY_INFO!A92=0,\" \",COUNTRY_INFO!A92))","v":"Cameroun"},{"$f":"IF(INTRO!$E$39=\"Non-endemic\",\" \",IF(COUNTRY_INFO!B92=0,\" \",COUNTRY_INFO!B92))","v":"Extreme Nord"},{"$f":"IF(INTRO!$E$39=\"Non-endemic\",\" \",IF(COUNTRY_INFO!C92=0,\" \",COUNTRY_INFO!C92))","v":"Moulvoudaye"},{"$f":"IF(INTRO!$E$39=\"Non-endemic\",0,IF(INTRO!$E$39=\"Endemic but PC is not required\",IF(COUNTRY_INFO!$H92=1,COUNTRY_INFO!F92+COUNTRY_INFO!G92,0),IF(COUNTRY_INFO!$H92=1,COUNTRY_INFO!F92+COUNTRY_INFO!G92,IF(COUNTRY_INFO!$I92=1,IF(COUNTRY_INFO!N92>=(COUNTRY_INFO!F92+COUNTRY_INFO!G92),COUNTRY_INFO!F92+COUNTRY_INFO!G92,COUNTRY_INFO!$N92),0))))","v":0},{"$f":"IF(AND(INTRO!$E$39=\"Non-endemic\",INTRO!$E$37=\"Non-endemic\"),\"Not required\",IF(INTRO!$E$39=\"Non-endemic\",\"Treat with DEC\",COUNTRY_INFO!W92))","v":0},{"$f":"IF(INTRO!$E$39<>\"Non-endemic\",COUNTRY_INFO!X92,\"Not required\")","v":0},{"$f":"IF(COUNTRY_INFO!H92=1, IF($E92=1,IF(ALB_MBD!$G92<>\" \",COUNTRY_INFO!F92+COUNTRY_INFO!G92-ALB_MBD!$G92,COUNTRY_INFO!F92+COUNTRY_INFO!G92), 0),0)","v":0},{"$f":"IF(INTRO!$E$39<>\"Endemic\",0, IF(AND(COUNTRY_INFO!$I92=1,$F92<>0),IF(COUNTRY_INFO!N92>=(COUNTRY_INFO!F92+COUNTRY_INFO!G92),COUNTRY_INFO!F92+COUNTRY_INFO!G92,COUNTRY_INFO!$N92), 0))","v":0},0,0,0,0,null,0]
[{"$f":"IF(INTRO!$E$39=\"Non-endemic\",\" \",IF(COUNTRY_INFO!A93=0,\" \",COUNTRY_INFO!A93))","v":"Cameroun"},{"$f":"IF(INTRO!$E$39=\"Non-endemic\",\" \",IF(COUNTRY_INFO!B93=0,\" \",COUNTRY_INFO!B93))","v":"Extreme Nord"},{"$f":"IF(INTRO!$E$39=\"Non-endemic\",\" \",IF(COUNTRY_INFO!C93=0,\" \",COUNTRY_INFO!C93))","v":"Moutourwa"},{"$f":"IF(INTRO!$E$39=\"Non-endemic\",0,IF(INTRO!$E$39=\"Endemic but PC is not required\",IF(COUNTRY_INFO!$H93=1,COUNTRY_INFO!F93+COUNTRY_INFO!G93,0),IF(COUNTRY_INFO!$H93=1,COUNTRY_INFO!F93+COUNTRY_INFO!G93,IF(COUNTRY_INFO!$I93=1,IF(COUNTRY_INFO!N93>=(COUNTRY_INFO!F93+COUNTRY_INFO!G93),COUNTRY_INFO!F93+COUNTRY_INFO!G93,COUNTRY_INFO!$N93),0))))","v":0},{"$f":"IF(AND(INTRO!$E$39=\"Non-endemic\",INTRO!$E$37=\"Non-endemic\"),\"Not required\",IF(INTRO!$E$39=\"Non-endemic\",\"Treat with DEC\",COUNTRY_INFO!W93))","v":0},{"$f":"IF(INTRO!$E$39<>\"Non-endemic\",COUNTRY_INFO!X93,\"Not required\")","v":0},{"$f":"IF(COUNTRY_INFO!H93=1, IF($E93=1,IF(ALB_MBD!$G93<>\" \",COUNTRY_INFO!F93+COUNTRY_INFO!G93-ALB_MBD!$G93,COUNTRY_INFO!F93+COUNTRY_INFO!G93), 0),0)","v":0},{"$f":"IF(INTRO!$E$39<>\"Endemic\",0, IF(AND(COUNTRY_INFO!$I93=1,$F93<>0),IF(COUNTRY_INFO!N93>=(COUNTRY_INFO!F93+COUNTRY_INFO!G93),COUNTRY_INFO!F93+COUNTRY_INFO!G93,COUNTRY_INFO!$N93), 0))","v":0},0,0,0,0,null,0]
[{"$f":"IF(INTRO!$E$39=\"Non-endemic\",\" \",IF(COUNTRY_INFO!A94=0,\" \",COUNTRY_INFO!A94))","v":"Cameroun"},{"$f":"IF(INTRO!$E$39=\"Non-endemic\",\" \",IF(COUNTRY_INFO!B94=0,\" \",COUNTRY_INFO!B94))","v":"Extreme Nord"},{"$f":"IF(INTRO!$E$39=\"Non-endemic\",\" \",IF(COUNTRY_INFO!C94=0,\" \",COUNTRY_INFO!C94))","v":"Mozogo"},{"$f":"IF(INTRO!$E$39=\"Non-endemic\",0,IF(INTRO!$E$39=\"Endemic but PC is not required\",IF(COUNTRY_INFO!$H94=1,COUNTRY_INFO!F94+COUNTRY_INFO!G94,0),IF(COUNTRY_INFO!$H94=1,COUNTRY_INFO!F94+COUNTRY_INFO!G94,IF(COUNTRY_INFO!$I94=1,IF(COUNTRY_INFO!N94>=(COUNTRY_INFO!F94+COUNTRY_INFO!G94),COUNTRY_INFO!F94+COUNTRY_INFO!G94,COUNTRY_INFO!$N94),0))))","v":79664},{"$f":"IF(AND(INTRO!$E$39=\"Non-endemic\",INTRO!$E$37=\"Non-endemic\"),\"Not required\",IF(INTRO!$E$39=\"Non-endemic\",\"Treat with DEC\",COUNTRY_INFO!W94))","v":0},{"$f":"IF(INTRO!$E$39<>\"Non-endemic\",COUNTRY_INFO!X94,\"Not required\")","v":1},{"$f":"IF(COUNTRY_INFO!H94=1, IF($E94=1,IF(ALB_MBD!$G94<>\" \",COUNTRY_INFO!F94+COUNTRY_INFO!G94-ALB_MBD!$G94,COUNTRY_INFO!F94+COUNTRY_INFO!G94), 0),0)","v":0},{"$f":"IF(INTRO!$E$39<>\"Endemic\",0, IF(AND(COUNTRY_INFO!$I94=1,$F94<>0),IF(COUNTRY_INFO!N94>=(COUNTRY_INFO!F94+COUNTRY_INFO!G94),COUNTRY_INFO!F94+COUNTRY_INFO!G94,COUNTRY_INFO!$N94), 0))","v":79664},0,223059.19999999998,0,223059.19999999998,null,223059.19999999998]
[{"$f":"IF(INTRO!$E$39=\"Non-endemic\",\" \",IF(COUNTRY_INFO!A95=0,\" \",COUNTRY_INFO!A95))","v":"Cameroun"},{"$f":"IF(INTRO!$E$39=\"Non-endemic\",\" \",IF(COUNTRY_INFO!B95=0,\" \",COUNTRY_INFO!B95))","v":"Extreme Nord"},{"$f":"IF(INTRO!$E$39=\"Non-endemic\",\" \",IF(COUNTRY_INFO!C95=0,\" \",COUNTRY_INFO!C95))","v":"Pette"},{"$f":"IF(INTRO!$E$39=\"Non-endemic\",0,IF(INTRO!$E$39=\"Endemic but PC is not required\",IF(COUNTRY_INFO!$H95=1,COUNTRY_INFO!F95+COUNTRY_INFO!G95,0),IF(COUNTRY_INFO!$H95=1,COUNTRY_INFO!F95+COUNTRY_INFO!G95,IF(COUNTRY_INFO!$I95=1,IF(COUNTRY_INFO!N95>=(COUNTRY_INFO!F95+COUNTRY_INFO!G95),COUNTRY_INFO!F95+COUNTRY_INFO!G95,COUNTRY_INFO!$N95),0))))","v":0},{"$f":"IF(AND(INTRO!$E$39=\"Non-endemic\",INTRO!$E$37=\"Non-endemic\"),\"Not required\",IF(INTRO!$E$39=\"Non-endemic\",\"Treat with DEC\",COUNTRY_INFO!W95))","v":0},{"$f":"IF(INTRO!$E$39<>\"Non-endemic\",COUNTRY_INFO!X95,\"Not required\")","v":0},{"$f":"IF(COUNTRY_INFO!H95=1, IF($E95=1,IF(ALB_MBD!$G95<>\" \",COUNTRY_INFO!F95+COUNTRY_INFO!G95-ALB_MBD!$G95,COUNTRY_INFO!F95+COUNTRY_INFO!G95), 0),0)","v":0},{"$f":"IF(INTRO!$E$39<>\"Endemic\",0, IF(AND(COUNTRY_INFO!$I95=1,$F95<>0),IF(COUNTRY_INFO!N95>=(COUNTRY_INFO!F95+COUNTRY_INFO!G95),COUNTRY_INFO!F95+COUNTRY_INFO!G95,COUNTRY_INFO!$N95), 0))","v":0},0,0,0,0,null,0]
[{"$f":"IF(INTRO!$E$39=\"Non-endemic\",\" \",IF(COUNTRY_INFO!A96=0,\" \",COUNTRY_INFO!A96))","v":"Cameroun"},{"$f":"IF(INTRO!$E$39=\"Non-endemic\",\" \",IF(COUNTRY_INFO!B96=0,\" \",COUNTRY_INFO!B96))","v":"Extreme Nord"},{"$f":"IF(INTRO!$E$39=\"Non-endemic\",\" \",IF(COUNTRY_INFO!C96=0,\" \",COUNTRY_INFO!C96))","v":"Roua"},{"$f":"IF(INTRO!$E$39=\"Non-endemic\",0,IF(INTRO!$E$39=\"Endemic but PC is not required\",IF(COUNTRY_INFO!$H96=1,COUNTRY_INFO!F96+COUNTRY_INFO!G96,0),IF(COUNTRY_INFO!$H96=1,COUNTRY_INFO!F96+COUNTRY_INFO!G96,IF(COUNTRY_INFO!$I96=1,IF(COUNTRY_INFO!N96>=(COUNTRY_INFO!F96+COUNTRY_INFO!G96),COUNTRY_INFO!F96+COUNTRY_INFO!G96,COUNTRY_INFO!$N96),0))))","v":92016},{"$f":"IF(AND(INTRO!$E$39=\"Non-endemic\",INTRO!$E$37=\"Non-endemic\"),\"Not required\",IF(INTRO!$E$39=\"Non-endemic\",\"Treat with DEC\",COUNTRY_INFO!W96))","v":0},{"$f":"IF(INTRO!$E$39<>\"Non-endemic\",COUNTRY_INFO!X96,\"Not required\")","v":1},{"$f":"IF(COUNTRY_INFO!H96=1, IF($E96=1,IF(ALB_MBD!$G96<>\" \",COUNTRY_INFO!F96+COUNTRY_INFO!G96-ALB_MBD!$G96,COUNTRY_INFO!F96+COUNTRY_INFO!G96), 0),0)","v":0},{"$f":"IF(INTRO!$E$39<>\"Endemic\",0, IF(AND(COUNTRY_INFO!$I96=1,$F96<>0),IF(COUNTRY_INFO!N96>=(COUNTRY_INFO!F96+COUNTRY_INFO!G96),COUNTRY_INFO!F96+COUNTRY_INFO!G96,COUNTRY_INFO!$N96), 0))","v":92016},0,257644.79999999999,0,257644.79999999999,null,257644.79999999999]
[{"$f":"IF(INTRO!$E$39=\"Non-endemic\",\" \",IF(COUNTRY_INFO!A97=0,\" \",COUNTRY_INFO!A97))","v":"Cameroun"},{"$f":"IF(INTRO!$E$39=\"Non-endemic\",\" \",IF(COUNTRY_INFO!B97=0,\" \",COUNTRY_INFO!B97))","v":"Extreme Nord"},{"$f":"IF(INTRO!$E$39=\"Non-endemic\",\" \",IF(COUNTRY_INFO!C97=0,\" \",COUNTRY_INFO!C97))","v":"Tokombere"},{"$f":"IF(INTRO!$E$39=\"Non-endemic\",0,IF(INTRO!$E$39=\"Endemic but PC is not required\",IF(COUNTRY_INFO!$H97=1,COUNTRY_INFO!F97+COUNTRY_INFO!G97,0),IF(COUNTRY_INFO!$H97=1,COUNTRY_INFO!F97+COUNTRY_INFO!G97,IF(COUNTRY_INFO!$I97=1,IF(COUNTRY_INFO!N97>=(COUNTRY_INFO!F97+COUNTRY_INFO!G97),COUNTRY_INFO!F97+COUNTRY_INFO!G97,COUNTRY_INFO!$N97),0))))","v":0},{"$f":"IF(AND(INTRO!$E$39=\"Non-endemic\",INTRO!$E$37=\"Non-endemic\"),\"Not required\",IF(INTRO!$E$39=\"Non-endemic\",\"Treat with DEC\",COUNTRY_INFO!W97))","v":0},{"$f":"IF(INTRO!$E$39<>\"Non-endemic\",COUNTRY_INFO!X97,\"Not required\")","v":0},{"$f":"IF(COUNTRY_INFO!H97=1, IF($E97=1,IF(ALB_MBD!$G97<>\" \",COUNTRY_INFO!F97+COUNTRY_INFO!G97-ALB_MBD!$G97,COUNTRY_INFO!F97+COUNTRY_INFO!G97), 0),0)","v":0},{"$f":"IF(INTRO!$E$39<>\"Endemic\",0, IF(AND(COUNTRY_INFO!$I97=1,$F97<>0),IF(COUNTRY_INFO!N97>=(COUNTRY_INFO!F97+COUNTRY_INFO!G97),COUNTRY_INFO!F97+COUNTRY_INFO!G97,COUNTRY_INFO!$N97), 0))","v":0},0,0,0,0,null,0]
[{"$f":"IF(INTRO!$E$39=\"Non-endemic\",\" \",IF(COUNTRY_INFO!A98=0,\" \",COUNTRY_INFO!A98))","v":"Cameroun"},{"$f":"IF(INTRO!$E$39=\"Non-endemic\",\" \",IF(COUNTRY_INFO!B98=0,\" \",COUNTRY_INFO!B98))","v":"Extreme Nord"},{"$f":"IF(INTRO!$E$39=\"Non-endemic\",\" \",IF(COUNTRY_INFO!C98=0,\" \",COUNTRY_INFO!C98))","v":"Vele"},{"$f":"IF(INTRO!$E$39=\"Non-endemic\",0,IF(INTRO!$E$39=\"Endemic but PC is not required\",IF(COUNTRY_INFO!$H98=1,COUNTRY_INFO!F98+COUNTRY_INFO!G98,0),IF(COUNTRY_INFO!$H98=1,COUNTRY_INFO!F98+COUNTRY_INFO!G98,IF(COUNTRY_INFO!$I98=1,IF(COUNTRY_INFO!N98>=(COUNTRY_INFO!F98+COUNTRY_INFO!G98),COUNTRY_INFO!F98+COUNTRY_INFO!G98,COUNTRY_INFO!$N98),0))))","v":0},{"$f":"IF(AND(INTRO!$E$39=\"Non-endemic\",INTRO!$E$37=\"Non-endemic\"),\"Not required\",IF(INTRO!$E$39=\"Non-endemic\",\"Treat with DEC\",COUNTRY_INFO!W98))","v":0},{"$f":"IF(INTRO!$E$39<>\"Non-endemic\",COUNTRY_INFO!X98,\"Not required\")","v":0},{"$f":"IF(COUNTRY_INFO!H98=1, IF($E98=1,IF(ALB_MBD!$G98<>\" \",COUNTRY_INFO!F98+COUNTRY_INFO!G98-ALB_MBD!$G98,COUNTRY_INFO!F98+COUNTRY_INFO!G98), 0),0)","v":0},{"$f":"IF(INTRO!$E$39<>\"Endemic\",0, IF(AND(COUNTRY_INFO!$I98=1,$F98<>0),IF(COUNTRY_INFO!N98>=(COUNTRY_INFO!F98+COUNTRY_INFO!G98),COUNTRY_INFO!F98+COUNTRY_INFO!G98,COUNTRY_INFO!$N98), 0))","v":0},0,0,0,0,null,0]
[{"$f":"IF(INTRO!$E$39=\"Non-endemic\",\" \",IF(COUNTRY_INFO!A99=0,\" \",COUNTRY_INFO!A99))","v":"Cameroun"},{"$f":"IF(INTRO!$E$39=\"Non-endemic\",\" \",IF(COUNTRY_INFO!B99=0,\" \",COUNTRY_INFO!B99))","v":"Extreme Nord"},{"$f":"IF(INTRO!$E$39=\"Non-endemic\",\" \",IF(COUNTRY_INFO!C99=0,\" \",COUNTRY_INFO!C99))","v":"Yagoua"},{"$f":"IF(INTRO!$E$39=\"Non-endemic\",0,IF(INTRO!$E$39=\"Endemic but PC is not required\",IF(COUNTRY_INFO!$H99=1,COUNTRY_INFO!F99+COUNTRY_INFO!G99,0),IF(COUNTRY_INFO!$H99=1,COUNTRY_INFO!F99+COUNTRY_INFO!G99,IF(COUNTRY_INFO!$I99=1,IF(COUNTRY_INFO!N99>=(COUNTRY_INFO!F99+COUNTRY_INFO!G99),COUNTRY_INFO!F99+COUNTRY_INFO!G99,COUNTRY_INFO!$N99),0))))","v":0},{"$f":"IF(AND(INTRO!$E$39=\"Non-endemic\",INTRO!$E$37=\"Non-endemic\"),\"Not required\",IF(INTRO!$E$39=\"Non-endemic\",\"Treat with DEC\",COUNTRY_INFO!W99))","v":0},{"$f":"IF(INTRO!$E$39<>\"Non-endemic\",COUNTRY_INFO!X99,\"Not required\")","v":0},{"$f":"IF(COUNTRY_INFO!H99=1, IF($E99=1,IF(ALB_MBD!$G99<>\" \",COUNTRY_INFO!F99+COUNTRY_INFO!G99-ALB_MBD!$G99,COUNTRY_INFO!F99+COUNTRY_INFO!G99), 0),0)","v":0},{"$f":"IF(INTRO!$E$39<>\"Endemic\",0, IF(AND(COUNTRY_INFO!$I99=1,$F99<>0),IF(COUNTRY_INFO!N99>=(COUNTRY_INFO!F99+COUNTRY_INFO!G99),COUNTRY_INFO!F99+COUNTRY_INFO!G99,COUNTRY_INFO!$N99), 0))","v":0},0,0,0,0,null,0]
[{"$f":"IF(INTRO!$E$39=\"Non-endemic\",\" \",IF(COUNTRY_INFO!A100=0,\" \",COUNTRY_INFO!A100))","v":"Cameroun"},{"$f":"IF(INTRO!$E$39=\"Non-endemic\",\" \",IF(COUNTRY_INFO!B100=0,\" \",COUNTRY_INFO!B100))","v":"Littoral"},{"$f":"IF(INTRO!$E$39=\"Non-endemic\",\" \",IF(COUNTRY_INFO!C100=0,\" \",COUNTRY_INFO!C100))","v":"Abo"},{"$f":"IF(INTRO!$E$39=\"Non-endemic\",0,IF(INTRO!$E$39=\"Endemic but PC is not required\",IF(COUNTRY_INFO!$H100=1,COUNTRY_INFO!F100+COUNTRY_INFO!G100,0),IF(COUNTRY_INFO!$H100=1,COUNTRY_INFO!F100+COUNTRY_INFO!G100,IF(COUNTRY_INFO!$I100=1,IF(COUNTRY_INFO!N100>=(COUNTRY_INFO!F100+COUNTRY_INFO!G100),COUNTRY_INFO!F100+COUNTRY_INFO!G100,COUNTRY_INFO!$N100),0))))","v":0},{"$f":"IF(AND(INTRO!$E$39=\"Non-endemic\",INTRO!$E$37=\"Non-endemic\"),\"Not required\",IF(INTRO!$E$39=\"Non-endemic\",\"Treat with DEC\",COUNTRY_INFO!W100))","v":0},{"$f":"IF(INTRO!$E$39<>\"Non-endemic\",COUNTRY_INFO!X100,\"Not required\")","v":0},{"$f":"IF(COUNTRY_INFO!H100=1, IF($E100=1,IF(ALB_MBD!$G100<>\" \",COUNTRY_INFO!F100+COUNTRY_INFO!G100-ALB_MBD!$G100,COUNTRY_INFO!F100+COUNTRY_INFO!G100), 0),0)","v":0},{"$f":"IF(INTRO!$E$39<>\"Endemic\",0, IF(AND(COUNTRY_INFO!$I100=1,$F100<>0),IF(COUNTRY_INFO!N100>=(COUNTRY_INFO!F100+COUNTRY_INFO!G100),COUNTRY_INFO!F100+COUNTRY_INFO!G100,COUNTRY_INFO!$N100), 0))","v":0},0,0,0,0,null,0]
[{"$f":"IF(INTRO!$E$39=\"Non-endemic\",\" \",IF(COUNTRY_INFO!A101=0,\" \",COUNTRY_INFO!A101))","v":"Cameroun"},{"$f":"IF(INTRO!$E$39=\"Non-endemic\",\" \",IF(COUNTRY_INFO!B101=0,\" \",COUNTRY_INFO!B101))","v":"Littoral"},{"$f":"IF(INTRO!$E$39=\"Non-endemic\",\" \",IF(COUNTRY_INFO!C101=0,\" \",COUNTRY_INFO!C101))","v":"Bangue"},{"$f":"IF(INTRO!$E$39=\"Non-endemic\",0,IF(INTRO!$E$39=\"Endemic but PC is not required\",IF(COUNTRY_INFO!$H101=1,COUNTRY_INFO!F101+COUNTRY_INFO!G101,0),IF(COUNTRY_INFO!$H101=1,COUNTRY_INFO!F101+COUNTRY_INFO!G101,IF(COUNTRY_INFO!$I101=1,IF(COUNTRY_INFO!N101>=(COUNTRY_INFO!F101+COUNTRY_INFO!G101),COUNTRY_INFO!F101+COUNTRY_INFO!G101,COUNTRY_INFO!$N101),0))))","v":0},{"$f":"IF(AND(INTRO!$E$39=\"Non-endemic\",INTRO!$E$37=\"Non-endemic\"),\"Not required\",IF(INTRO!$E$39=\"Non-endemic\",\"Treat with DEC\",COUNTRY_INFO!W101))","v":0},{"$f":"IF(INTRO!$E$39<>\"Non-endemic\",COUNTRY_INFO!X101,\"Not required\")","v":0},{"$f":"IF(COUNTRY_INFO!H101=1, IF($E101=1,IF(ALB_MBD!$G101<>\" \",COUNTRY_INFO!F101+COUNTRY_INFO!G101-ALB_MBD!$G101,COUNTRY_INFO!F101+COUNTRY_INFO!G101), 0),0)","v":0},{"$f":"IF(INTRO!$E$39<>\"Endemic\",0, IF(AND(COUNTRY_INFO!$I101=1,$F101<>0),IF(COUNTRY_INFO!N101>=(COUNTRY_INFO!F101+COUNTRY_INFO!G101),COUNTRY_INFO!F101+COUNTRY_INFO!G101,COUNTRY_INFO!$N101), 0))","v":0},0,0,0,0,null,0]
[{"$f":"IF(INTRO!$E$39=\"Non-endemic\",\" \",IF(COUNTRY_INFO!A102=0,\" \",COUNTRY_INFO!A102))","v":"Cameroun"},{"$f":"IF(INTRO!$E$39=\"Non-endemic\",\" \",IF(COUNTRY_INFO!B102=0,\" \",COUNTRY_INFO!B102))","v":"Littoral"},{"$f":"IF(INTRO!$E$39=\"Non-endemic\",\" \",IF(COUNTRY_INFO!C102=0,\" \",COUNTRY_INFO!C102))","v":"Boko"},{"$f":"IF(INTRO!$E$39=\"Non-endemic\",0,IF(INTRO!$E$39=\"Endemic but PC is not required\",IF(COUNTRY_INFO!$H102=1,COUNTRY_INFO!F102+COUNTRY_INFO!G102,0),IF(COUNTRY_INFO!$H102=1,COUNTRY_INFO!F102+COUNTRY_INFO!G102,IF(COUNTRY_INFO!$I102=1,IF(COUNTRY_INFO!N102>=(COUNTRY_INFO!F102+COUNTRY_INFO!G102),COUNTRY_INFO!F102+COUNTRY_INFO!G102,COUNTRY_INFO!$N102),0))))","v":0},{"$f":"IF(AND(INTRO!$E$39=\"Non-endemic\",INTRO!$E$37=\"Non-endemic\"),\"Not required\",IF(INTRO!$E$39=\"Non-endemic\",\"Treat with DEC\",COUNTRY_INFO!W102))","v":0},{"$f":"IF(INTRO!$E$39<>\"Non-endemic\",COUNTRY_INFO!X102,\"Not required\")","v":0},{"$f":"IF(COUNTRY_INFO!H102=1, IF($E102=1,IF(ALB_MBD!$G102<>\" \",COUNTRY_INFO!F102+COUNTRY_INFO!G102-ALB_MBD!$G102,COUNTRY_INFO!F102+COUNTRY_INFO!G102), 0),0)","v":0},{"$f":"IF(INTRO!$E$39<>\"Endemic\",0, IF(AND(COUNTRY_INFO!$I102=1,$F102<>0),IF(COUNTRY_INFO!N102>=(COUNTRY_INFO!F102+COUNTRY_INFO!G102),COUNTRY_INFO!F102+COUNTRY_INFO!G102,COUNTRY_INFO!$N102), 0))","v":0},0,0,0,0,null,0]
[{"$f":"IF(INTRO!$E$39=\"Non-endemic\",\" \",IF(COUNTRY_INFO!A103=0,\" \",COUNTRY_INFO!A103))","v":"Cameroun"},{"$f":"IF(INTRO!$E$39=\"Non-endemic\",\" \",IF(COUNTRY_INFO!B103=0,\" \",COUNTRY_INFO!B103))","v":"Littoral"},{"$f":"IF(INTRO!$E$39=\"Non-endemic\",\" \",IF(COUNTRY_INFO!C103=0,\" \",COUNTRY_INFO!C103))","v":"Bonassama"},{"$f":"IF(INTRO!$E$39=\"Non-endemic\",0,IF(INTRO!$E$39=\"Endemic but PC is not required\",IF(COUNTRY_INFO!$H103=1,COUNTRY_INFO!F103+COUNTRY_INFO!G103,0),IF(COUNTRY_INFO!$H103=1,COUNTRY_INFO!F103+COUNTRY_INFO!G103,IF(COUNTRY_INFO!$I103=1,IF(COUNTRY_INFO!N103>=(COUNTRY_INFO!F103+COUNTRY_INFO!G103),COUNTRY_INFO!F103+COUNTRY_INFO!G103,COUNTRY_INFO!$N103),0))))","v":0},{"$f":"IF(AND(INTRO!$E$39=\"Non-endemic\",INTRO!$E$37=\"Non-endemic\"),\"Not required\",IF(INTRO!$E$39=\"Non-endemic\",\"Treat with DEC\",COUNTRY_INFO!W103))","v":0},{"$f":"IF(INTRO!$E$39<>\"Non-endemic\",COUNTRY_INFO!X103,\"Not required\")","v":0},{"$f":"IF(COUNTRY_INFO!H103=1, IF($E103=1,IF(ALB_MBD!$G103<>\" \",COUNTRY_INFO!F103+COUNTRY_INFO!G103-ALB_MBD!$G103,COUNTRY_INFO!F103+COUNTRY_INFO!G103), 0),0)","v":0},{"$f":"IF(INTRO!$E$39<>\"Endemic\",0, IF(AND(COUNTRY_INFO!$I103=1,$F103<>0),IF(COUNTRY_INFO!N103>=(COUNTRY_INFO!F103+COUNTRY_INFO!G103),COUNTRY_INFO!F103+COUNTRY_INFO!G103,COUNTRY_INFO!$N103), 0))","v":0},0,0,0,0,null,0]
[{"$f":"IF(INTRO!$E$39=\"Non-endemic\",\" \",IF(COUNTRY_INFO!A104=0,\" \",COUNTRY_INFO!A104))","v":"Cameroun"},{"$f":"IF(INTRO!$E$39=\"Non-endemic\",\" \",IF(COUNTRY_INFO!B104=0,\" \",COUNTRY_INFO!B104))","v":"Littoral"},{"$f":"IF(INTRO!$E$39=\"Non-endemic\",\" \",IF(COUNTRY_INFO!C104=0,\" \",COUNTRY_INFO!C104))","v":"Cite Des Palmiers"},{"$f":"IF(INTRO!$E$39=\"Non-endemic\",0,IF(INTRO!$E$39=\"Endemic but PC is not required\",IF(COUNTRY_INFO!$H104=1,COUNTRY_INFO!F104+COUNTRY_INFO!G104,0),IF(COUNTRY_INFO!$H104=1,COUNTRY_INFO!F104+COUNTRY_INFO!G104,IF(COUNTRY_INFO!$I104=1,IF(COUNTRY_INFO!N104>=(COUNTRY_INFO!F104+COUNTRY_INFO!G104),COUNTRY_INFO!F104+COUNTRY_INFO!G104,COUNTRY_INFO!$N104),0))))","v":0},{"$f":"IF(AND(INTRO!$E$39=\"Non-endemic\",INTRO!$E$37=\"Non-endemic\"),\"Not required\",IF(INTRO!$E$39=\"Non-endemic\",\"Treat with DEC\",COUNTRY_INFO!W104))","v":0},{"$f":"IF(INTRO!$E$39<>\"Non-endemic\",COUNTRY_INFO!X104,\"Not required\")","v":0},{"$f":"IF(COUNTRY_INFO!H104=1, IF($E104=1,IF(ALB_MBD!$G104<>\" \",COUNTRY_INFO!F104+COUNTRY_INFO!G104-ALB_MBD!$G104,COUNTRY_INFO!F104+COUNTRY_INFO!G104), 0),0)","v":0},{"$f":"IF(INTRO!$E$39<>\"Endemic\",0, IF(AND(COUNTRY_INFO!$I104=1,$F104<>0),IF(COUNTRY_INFO!N104>=(COUNTRY_INFO!F104+COUNTRY_INFO!G104),COUNTRY_INFO!F104+COUNTRY_INFO!G104,COUNTRY_INFO!$N104), 0))","v":0},0,0,0,0,null,0]
[{"$f":"IF(INTRO!$E$39=\"Non-endemic\",\" \",IF(COUNTRY_INFO!A105=0,\" \",COUNTRY_INFO!A105))","v":"Cameroun"},{"$f":"IF(INTRO!$E$39=\"Non-endemic\",\" \",IF(COUNTRY_INFO!B105=0,\" \",COUNTRY_INFO!B105))","v":"Littoral"},{"$f":"IF(INTRO!$E$39=\"Non-endemic\",\" \",IF(COUNTRY_INFO!C105=0,\" \",COUNTRY_INFO!C105))","v":"Deido"},{"$f":"IF(INTRO!$E$39=\"Non-endemic\",0,IF(INTRO!$E$39=\"Endemic but PC is not required\",IF(COUNTRY_INFO!$H105=1,COUNTRY_INFO!F105+COUNTRY_INFO!G105,0),IF(COUNTRY_INFO!$H105=1,COUNTRY_INFO!F105+COUNTRY_INFO!G105,IF(COUNTRY_INFO!$I105=1,IF(COUNTRY_INFO!N105>=(COUNTRY_INFO!F105+COUNTRY_INFO!G105),COUNTRY_INFO!F105+COUNTRY_INFO!G105,COUNTRY_INFO!$N105),0))))","v":0},{"$f":"IF(AND(INTRO!$E$39=\"Non-endemic\",INTRO!$E$37=\"Non-endemic\"),\"Not required\",IF(INTRO!$E$39=\"Non-endemic\",\"Treat with DEC\",COUNTRY_INFO!W105))","v":0},{"$f":"IF(INTRO!$E$39<>\"Non-endemic\",COUNTRY_INFO!X105,\"Not required\")","v":0},{"$f":"IF(COUNTRY_INFO!H105=1, IF($E105=1,IF(ALB_MBD!$G105<>\" \",COUNTRY_INFO!F105+COUNTRY_INFO!G105-ALB_MBD!$G105,COUNTRY_INFO!F105+COUNTRY_INFO!G105), 0),0)","v":0},{"$f":"IF(INTRO!$E$39<>\"Endemic\",0, IF(AND(COUNTRY_INFO!$I105=1,$F105<>0),IF(COUNTRY_INFO!N105>=(COUNTRY_INFO!F105+COUNTRY_INFO!G105),COUNTRY_INFO!F105+COUNTRY_INFO!G105,COUNTRY_INFO!$N105), 0))","v":0},0,0,0,0,null,0]
[{"$f":"IF(INTRO!$E$39=\"Non-endemic\",\" \",IF(COUNTRY_INFO!A106=0,\" \",COUNTRY_INFO!A106))","v":"Cameroun"},{"$f":"IF(INTRO!$E$39=\"Non-endemic\",\" \",IF(COUNTRY_INFO!B106=0,\" \",COUNTRY_INFO!B106))","v":"Littoral"},{"$f":"IF(INTRO!$E$39=\"Non-endemic\",\" \",IF(COUNTRY_INFO!C106=0,\" \",COUNTRY_INFO!C106))","v":"Dibombari"},{"$f":"IF(INTRO!$E$39=\"Non-endemic\",0,IF(INTRO!$E$39=\"Endemic but PC is not required\",IF(COUNTRY_INFO!$H106=1,COUNTRY_INFO!F106+COUNTRY_INFO!G106,0),IF(COUNTRY_INFO!$H106=1,COUNTRY_INFO!F106+COUNTRY_INFO!G106,IF(COUNTRY_INFO!$I106=1,IF(COUNTRY_INFO!N106>=(COUNTRY_INFO!F106+COUNTRY_INFO!G106),COUNTRY_INFO!F106+COUNTRY_INFO!G106,COUNTRY_INFO!$N106),0))))","v":0},{"$f":"IF(AND(INTRO!$E$39=\"Non-endemic\",INTRO!$E$37=\"Non-endemic\"),\"Not required\",IF(INTRO!$E$39=\"Non-endemic\",\"Treat with DEC\",COUNTRY_INFO!W106))","v":0},{"$f":"IF(INTRO!$E$39<>\"Non-endemic\",COUNTRY_INFO!X106,\"Not required\")","v":0},{"$f":"IF(COUNTRY_INFO!H106=1, IF($E106=1,IF(ALB_MBD!$G106<>\" \",COUNTRY_INFO!F106+COUNTRY_INFO!G106-ALB_MBD!$G106,COUNTRY_INFO!F106+COUNTRY_INFO!G106), 0),0)","v":0},{"$f":"IF(INTRO!$E$39<>\"Endemic\",0, IF(AND(COUNTRY_INFO!$I106=1,$F106<>0),IF(COUNTRY_INFO!N106>=(COUNTRY_INFO!F106+COUNTRY_INFO!G106),COUNTRY_INFO!F106+COUNTRY_INFO!G106,COUNTRY_INFO!$N106), 0))","v":0},0,0,0,0,null,0]
[{"$f":"IF(INTRO!$E$39=\"Non-endemic\",\" \",IF(COUNTRY_INFO!A107=0,\" \",COUNTRY_INFO!A107))","v":"Cameroun"},{"$f":"IF(INTRO!$E$39=\"Non-endemic\",\" \",IF(COUNTRY_INFO!B107=0,\" \",COUNTRY_INFO!B107))","v":"Littoral"},{"$f":"IF(INTRO!$E$39=\"Non-endemic\",\" \",IF(COUNTRY_INFO!C107=0,\" \",COUNTRY_INFO!C107))","v":"Edea"},{"$f":"IF(INTRO!$E$39=\"Non-endemic\",0,IF(INTRO!$E$39=\"Endemic but PC is not required\",IF(COUNTRY_INFO!$H107=1,COUNTRY_INFO!F107+COUNTRY_INFO!G107,0),IF(COUNTRY_INFO!$H107=1,COUNTRY_INFO!F107+COUNTRY_INFO!G107,IF(COUNTRY_INFO!$I107=1,IF(COUNTRY_INFO!N107>=(COUNTRY_INFO!F107+COUNTRY_INFO!G107),COUNTRY_INFO!F107+COUNTRY_INFO!G107,COUNTRY_INFO!$N107),0))))","v":160711},{"$f":"IF(AND(INTRO!$E$39=\"Non-endemic\",INTRO!$E$37=\"Non-endemic\"),\"Not required\",IF(INTRO!$E$39=\"Non-endemic\",\"Treat with DEC\",COUNTRY_INFO!W107))","v":0},{"$f":"IF(INTRO!$E$39<>\"Non-endemic\",COUNTRY_INFO!X107,\"Not required\")","v":1},{"$f":"IF(COUNTRY_INFO!H107=1, IF($E107=1,IF(ALB_MBD!$G107<>\" \",COUNTRY_INFO!F107+COUNTRY_INFO!G107-ALB_MBD!$G107,COUNTRY_INFO!F107+COUNTRY_INFO!G107), 0),0)","v":0},{"$f":"IF(INTRO!$E$39<>\"Endemic\",0, IF(AND(COUNTRY_INFO!$I107=1,$F107<>0),IF(COUNTRY_INFO!N107>=(COUNTRY_INFO!F107+COUNTRY_INFO!G107),COUNTRY_INFO!F107+COUNTRY_INFO!G107,COUNTRY_INFO!$N107), 0))","v":160711},0,449990.8,0,449990.8,null,449990.8]
[{"$f":"IF(INTRO!$E$39=\"Non-endemic\",\" \",IF(COUNTRY_INFO!A108=0,\" \",COUNTRY_INFO!A108))","v":"Cameroun"},{"$f":"IF(INTRO!$E$39=\"Non-endemic\",\" \",IF(COUNTRY_INFO!B108=0,\" \",COUNTRY_INFO!B108))","v":"Littoral"},{"$f":"IF(INTRO!$E$39=\"Non-endemic\",\" \",IF(COUNTRY_INFO!C108=0,\" \",COUNTRY_INFO!C108))","v":"Japoma"},{"$f":"IF(INTRO!$E$39=\"Non-endemic\",0,IF(INTRO!$E$39=\"Endemic but PC is not required\",IF(COUNTRY_INFO!$H108=1,COUNTRY_INFO!F108+COUNTRY_INFO!G108,0),IF(COUNTRY_INFO!$H108=1,COUNTRY_INFO!F108+COUNTRY_INFO!G108,IF(COUNTRY_INFO!$I108=1,IF(COUNTRY_INFO!N108>=(COUNTRY_INFO!F108+COUNTRY_INFO!G108),COUNTRY_INFO!F108+COUNTRY_INFO!G108,COUNTRY_INFO!$N108),0))))","v":0},{"$f":"IF(AND(INTRO!$E$39=\"Non-endemic\",INTRO!$E$37=\"Non-endemic\"),\"Not required\",IF(INTRO!$E$39=\"Non-endemic\",\"Treat with DEC\",COUNTRY_INFO!W108))","v":0},{"$f":"IF(INTRO!$E$39<>\"Non-endemic\",COUNTRY_INFO!X108,\"Not required\")","v":0},{"$f":"IF(COUNTRY_INFO!H108=1, IF($E108=1,IF(ALB_MBD!$G108<>\" \",COUNTRY_INFO!F108+COUNTRY_INFO!G108-ALB_MBD!$G108,COUNTRY_INFO!F108+COUNTRY_INFO!G108), 0),0)","v":0},{"$f":"IF(INTRO!$E$39<>\"Endemic\",0, IF(AND(COUNTRY_INFO!$I108=1,$F108<>0),IF(COUNTRY_INFO!N108>=(COUNTRY_INFO!F108+COUNTRY_INFO!G108),COUNTRY_INFO!F108+COUNTRY_INFO!G108,COUNTRY_INFO!$N108), 0))","v":0},0,0,0,0,null,0]
[{"$f":"IF(INTRO!$E$39=\"Non-endemic\",\" \",IF(COUNTRY_INFO!A109=0,\" \",COUNTRY_INFO!A109))","v":"Cameroun"},{"$f":"IF(INTRO!$E$39=\"Non-endemic\",\" \",IF(COUNTRY_INFO!B109=0,\" \",COUNTRY_INFO!B109))","v":"Littoral"},{"$f":"IF(INTRO!$E$39=\"Non-endemic\",\" \",IF(COUNTRY_INFO!C109=0,\" \",COUNTRY_INFO!C109))","v":"Logbaba"},{"$f":"IF(INTRO!$E$39=\"Non-endemic\",0,IF(INTRO!$E$39=\"Endemic but PC is not required\",IF(COUNTRY_INFO!$H109=1,COUNTRY_INFO!F109+COUNTRY_INFO!G109,0),IF(COUNTRY_INFO!$H109=1,COUNTRY_INFO!F109+COUNTRY_INFO!G109,IF(COUNTRY_INFO!$I109=1,IF(COUNTRY_INFO!N109>=(COUNTRY_INFO!F109+COUNTRY_INFO!G109),COUNTRY_INFO!F109+COUNTRY_INFO!G109,COUNTRY_INFO!$N109),0))))","v":0},{"$f":"IF(AND(INTRO!$E$39=\"Non-endemic\",INTRO!$E$37=\"Non-endemic\"),\"Not required\",IF(INTRO!$E$39=\"Non-endemic\",\"Treat with DEC\",COUNTRY_INFO!W109))","v":0},{"$f":"IF(INTRO!$E$39<>\"Non-endemic\",COUNTRY_INFO!X109,\"Not required\")","v":0},{"$f":"IF(COUNTRY_INFO!H109=1, IF($E109=1,IF(ALB_MBD!$G109<>\" \",COUNTRY_INFO!F109+COUNTRY_INFO!G109-ALB_MBD!$G109,COUNTRY_INFO!F109+COUNTRY_INFO!G109), 0),0)","v":0},{"$f":"IF(INTRO!$E$39<>\"Endemic\",0, IF(AND(COUNTRY_INFO!$I109=1,$F109<>0),IF(COUNTRY_INFO!N109>=(COUNTRY_INFO!F109+COUNTRY_INFO!G109),COUNTRY_INFO!F109+COUNTRY_INFO!G109,COUNTRY_INFO!$N109), 0))","v":0},0,0,0,0,null,0]
[{"$f":"IF(INTRO!$E$39=\"Non-endemic\",\" \",IF(COUNTRY_INFO!A110=0,\" \",COUNTRY_INFO!A110))","v":"Cameroun"},{"$f":"IF(INTRO!$E$39=\"Non-endemic\",\" \",IF(COUNTRY_INFO!B110=0,\" \",COUNTRY_INFO!B110))","v":"Littoral"},{"$f":"IF(INTRO!$E$39=\"Non-endemic\",\" \",IF(COUNTRY_INFO!C110=0,\" \",COUNTRY_INFO!C110))","v":"Loum"},{"$f":"IF(INTRO!$E$39=\"Non-endemic\",0,IF(INTRO!$E$39=\"Endemic but PC is not required\",IF(COUNTRY_INFO!$H110=1,COUNTRY_INFO!F110+COUNTRY_INFO!G110,0),IF(COUNTRY_INFO!$H110=1,COUNTRY_INFO!F110+COUNTRY_INFO!G110,IF(COUNTRY_INFO!$I110=1,IF(COUNTRY_INFO!N110>=(COUNTRY_INFO!F110+COUNTRY_INFO!G110),COUNTRY_INFO!F110+COUNTRY_INFO!G110,COUNTRY_INFO!$N110),0))))","v":37487},{"$f":"IF(AND(INTRO!$E$39=\"Non-endemic\",INTRO!$E$37=\"Non-endemic\"),\"Not required\",IF(INTRO!$E$39=\"Non-endemic\",\"Treat with DEC\",COUNTRY_INFO!W110))","v":0},{"$f":"IF(INTRO!$E$39<>\"Non-endemic\",COUNTRY_INFO!X110,\"Not required\")","v":1},{"$f":"IF(COUNTRY_INFO!H110=1, IF($E110=1,IF(ALB_MBD!$G110<>\" \",COUNTRY_INFO!F110+COUNTRY_INFO!G110-ALB_MBD!$G110,COUNTRY_INFO!F110+COUNTRY_INFO!G110), 0),0)","v":0},{"$f":"IF(INTRO!$E$39<>\"Endemic\",0, IF(AND(COUNTRY_INFO!$I110=1,$F110<>0),IF(COUNTRY_INFO!N110>=(COUNTRY_INFO!F110+COUNTRY_INFO!G110),COUNTRY_INFO!F110+COUNTRY_INFO!G110,COUNTRY_INFO!$N110), 0))","v":37487},0,104963.59999999999,0,104963.59999999999,null,104963.59999999999]
[{"$f":"IF(INTRO!$E$39=\"Non-endemic\",\" \",IF(COUNTRY_INFO!A111=0,\" \",COUNTRY_INFO!A111))","v":"Cameroun"},{"$f":"IF(INTRO!$E$39=\"Non-endemic\",\" \",IF(COUNTRY_INFO!B111=0,\" \",COUNTRY_INFO!B111))","v":"Littoral"},{"$f":"IF(INTRO!$E$39=\"Non-endemic\",\" \",IF(COUNTRY_INFO!C111=0,\" \",COUNTRY_INFO!C111))","v":"Manjo"},{"$f":"IF(INTRO!$E$39=\"Non-endemic\",0,IF(INTRO!$E$39=\"Endemic but PC is not required\",IF(COUNTRY_INFO!$H111=1,COUNTRY_INFO!F111+COUNTRY_INFO!G111,0),IF(COUNTRY_INFO!$H111=1,COUNTRY_INFO!F111+COUNTRY_INFO!G111,IF(COUNTRY_INFO!$I111=1,IF(COUNTRY_INFO!N111>=(COUNTRY_INFO!F111+COUNTRY_INFO!G111),COUNTRY_INFO!F111+COUNTRY_INFO!G111,COUNTRY_INFO!$N111),0))))","v":27878},{"$f":"IF(AND(INTRO!$E$39=\"Non-endemic\",INTRO!$E$37=\"Non-endemic\"),\"Not required\",IF(INTRO!$E$39=\"Non-endemic\",\"Treat with DEC\",COUNTRY_INFO!W111))","v":0},{"$f":"IF(INTRO!$E$39<>\"Non-endemic\",COUNTRY_INFO!X111,\"Not required\")","v":1},{"$f":"IF(COUNTRY_INFO!H111=1, IF($E111=1,IF(ALB_MBD!$G111<>\" \",COUNTRY_INFO!F111+COUNTRY_INFO!G111-ALB_MBD!$G111,COUNTRY_INFO!F111+COUNTRY_INFO!G111), 0),0)","v":0},{"$f":"IF(INTRO!$E$39<>\"Endemic\",0, IF(AND(COUNTRY_INFO!$I111=1,$F111<>0),IF(COUNTRY_INFO!N111>=(COUNTRY_INFO!F111+COUNTRY_INFO!G111),COUNTRY_INFO!F111+COUNTRY_INFO!G111,COUNTRY_INFO!$N111), 0))","v":27878},0,78058.399999999994,0,78058.399999999994,null,78058.399999999994]
[{"$f":"IF(INTRO!$E$39=\"Non-endemic\",\" \",IF(COUNTRY_INFO!A112=0,\" \",COUNTRY_INFO!A112))","v":"Cameroun"},{"$f":"IF(INTRO!$E$39=\"Non-endemic\",\" \",IF(COUNTRY_INFO!B112=0,\" \",COUNTRY_INFO!B112))","v":"Littoral"},{"$f":"IF(INTRO!$E$39=\"Non-endemic\",\" \",IF(COUNTRY_INFO!C112=0,\" \",COUNTRY_INFO!C112))","v":"Manoka"},{"$f":"IF(INTRO!$E$39=\"Non-endemic\",0,IF(INTRO!$E$39=\"Endemic but PC is not required\",IF(COUNTRY_INFO!$H112=1,COUNTRY_INFO!F112+COUNTRY_INFO!G112,0),IF(COUNTRY_INFO!$H112=1,COUNTRY_INFO!F112+COUNTRY_INFO!G112,IF(COUNTRY_INFO!$I112=1,IF(COUNTRY_INFO!N112>=(COUNTRY_INFO!F112+COUNTRY_INFO!G112),COUNTRY_INFO!F112+COUNTRY_INFO!G112,COUNTRY_INFO!$N112),0))))","v":0},{"$f":"IF(AND(INTRO!$E$39=\"Non-endemic\",INTRO!$E$37=\"Non-endemic\"),\"Not required\",IF(INTRO!$E$39=\"Non-endemic\",\"Treat with DEC\",COUNTRY_INFO!W112))","v":0},{"$f":"IF(INTRO!$E$39<>\"Non-endemic\",COUNTRY_INFO!X112,\"Not required\")","v":0},{"$f":"IF(COUNTRY_INFO!H112=1, IF($E112=1,IF(ALB_MBD!$G112<>\" \",COUNTRY_INFO!F112+COUNTRY_INFO!G112-ALB_MBD!$G112,COUNTRY_INFO!F112+COUNTRY_INFO!G112), 0),0)","v":0},{"$f":"IF(INTRO!$E$39<>\"Endemic\",0, IF(AND(COUNTRY_INFO!$I112=1,$F112<>0),IF(COUNTRY_INFO!N112>=(COUNTRY_INFO!F112+COUNTRY_INFO!G112),COUNTRY_INFO!F112+COUNTRY_INFO!G112,COUNTRY_INFO!$N112), 0))","v":0},0,0,0,0,null,0]
[{"$f":"IF(INTRO!$E$39=\"Non-endemic\",\" \",IF(COUNTRY_INFO!A113=0,\" \",COUNTRY_INFO!A113))","v":"Cameroun"},{"$f":"IF(INTRO!$E$39=\"Non-endemic\",\" \",IF(COUNTRY_INFO!B113=0,\" \",COUNTRY_INFO!B113))","v":"Littoral"},{"$f":"IF(INTRO!$E$39=\"Non-endemic\",\" \",IF(COUNTRY_INFO!C113=0,\" \",COUNTRY_INFO!C113))","v":"Mbanga"},{"$f":"IF(INTRO!$E$39=\"Non-endemic\",0,IF(INTRO!$E$39=\"Endemic but PC is not required\",IF(COUNTRY_INFO!$H113=1,COUNTRY_INFO!F113+COUNTRY_INFO!G113,0),IF(COUNTRY_INFO!$H113=1,COUNTRY_INFO!F113+COUNTRY_INFO!G113,IF(COUNTRY_INFO!$I113=1,IF(COUNTRY_INFO!N113>=(COUNTRY_INFO!F113+COUNTRY_INFO!G113),COUNTRY_INFO!F113+COUNTRY_INFO!G113,COUNTRY_INFO!$N113),0))))","v":339728},{"$f":"IF(AND(INTRO!$E$39=\"Non-endemic\",INTRO!$E$37=\"Non-endemic\"),\"Not required\",IF(INTRO!$E$39=\"Non-endemic\",\"Treat with DEC\",COUNTRY_INFO!W113))","v":0},{"$f":"IF(INTRO!$E$39<>\"Non-endemic\",COUNTRY_INFO!X113,\"Not required\")","v":1},{"$f":"IF(COUNTRY_INFO!H113=1, IF($E113=1,IF(ALB_MBD!$G113<>\" \",COUNTRY_INFO!F113+COUNTRY_INFO!G113-ALB_MBD!$G113,COUNTRY_INFO!F113+COUNTRY_INFO!G113), 0),0)","v":0},{"$f":"IF(INTRO!$E$39<>\"Endemic\",0, IF(AND(COUNTRY_INFO!$I113=1,$F113<>0),IF(COUNTRY_INFO!N113>=(COUNTRY_INFO!F113+COUNTRY_INFO!G113),COUNTRY_INFO!F113+COUNTRY_INFO!G113,COUNTRY_INFO!$N113), 0))","v":339728},0,951238.39999999991,0,951238.39999999991,null,951238.39999999991]
[{"$f":"IF(INTRO!$E$39=\"Non-endemic\",\" \",IF(COUNTRY_INFO!A114=0,\" \",COUNTRY_INFO!A114))","v":"Cameroun"},{"$f":"IF(INTRO!$E$39=\"Non-endemic\",\" \",IF(COUNTRY_INFO!B114=0,\" \",COUNTRY_INFO!B114))","v":"Littoral"},{"$f":"IF(INTRO!$E$39=\"Non-endemic\",\" \",IF(COUNTRY_INFO!C114=0,\" \",COUNTRY_INFO!C114))","v":"Melong"},{"$f":"IF(INTRO!$E$39=\"Non-endemic\",0,IF(INTRO!$E$39=\"Endemic but PC is not required\",IF(COUNTRY_INFO!$H114=1,COUNTRY_INFO!F114+COUNTRY_INFO!G114,0),IF(COUNTRY_INFO!$H114=1,COUNTRY_INFO!F114+COUNTRY_INFO!G114,IF(COUNTRY_INFO!$I114=1,IF(COUNTRY_INFO!N114>=(COUNTRY_INFO!F114+COUNTRY_INFO!G114),COUNTRY_INFO!F114+COUNTRY_INFO!G114,COUNTRY_INFO!$N114),0))))","v":101405},{"$f":"IF(AND(INTRO!$E$39=\"Non-endemic\",INTRO!$E$37=\"Non-endemic\"),\"Not required\",IF(INTRO!$E$39=\"Non-endemic\",\"Treat with DEC\",COUNTRY_INFO!W114))","v":0},{"$f":"IF(INTRO!$E$39<>\"Non-endemic\",COUNTRY_INFO!X114,\"Not required\")","v":1},{"$f":"IF(COUNTRY_INFO!H114=1, IF($E114=1,IF(ALB_MBD!$G114<>\" \",COUNTRY_INFO!F114+COUNTRY_INFO!G114-ALB_MBD!$G114,COUNTRY_INFO!F114+COUNTRY_INFO!G114), 0),0)","v":0},{"$f":"IF(INTRO!$E$39<>\"Endemic\",0, IF(AND(COUNTRY_INFO!$I114=1,$F114<>0),IF(COUNTRY_INFO!N114>=(COUNTRY_INFO!F114+COUNTRY_INFO!G114),COUNTRY_INFO!F114+COUNTRY_INFO!G114,COUNTRY_INFO!$N114), 0))","v":101405},0,283934,0,283934,null,283934]
[{"$f":"IF(INTRO!$E$39=\"Non-endemic\",\" \",IF(COUNTRY_INFO!A115=0,\" \",COUNTRY_INFO!A115))","v":"Cameroun"},{"$f":"IF(INTRO!$E$39=\"Non-endemic\",\" \",IF(COUNTRY_INFO!B115=0,\" \",COUNTRY_INFO!B115))","v":"Littoral"},{"$f":"IF(INTRO!$E$39=\"Non-endemic\",\" \",IF(COUNTRY_INFO!C115=0,\" \",COUNTRY_INFO!C115))","v":"Ndom"},{"$f":"IF(INTRO!$E$39=\"Non-endemic\",0,IF(INTRO!$E$39=\"Endemic but PC is not required\",IF(COUNTRY_INFO!$H115=1,COUNTRY_INFO!F115+COUNTRY_INFO!G115,0),IF(COUNTRY_INFO!$H115=1,COUNTRY_INFO!F115+COUNTRY_INFO!G115,IF(COUNTRY_INFO!$I115=1,IF(COUNTRY_INFO!N115>=(COUNTRY_INFO!F115+COUNTRY_INFO!G115),COUNTRY_INFO!F115+COUNTRY_INFO!G115,COUNTRY_INFO!$N115),0))))","v":24875},{"$f":"IF(AND(INTRO!$E$39=\"Non-endemic\",INTRO!$E$37=\"Non-endemic\"),\"Not required\",IF(INTRO!$E$39=\"Non-endemic\",\"Treat with DEC\",COUNTRY_INFO!W115))","v":0},{"$f":"IF(INTRO!$E$39<>\"Non-endemic\",COUNTRY_INFO!X115,\"Not required\")","v":1},{"$f":"IF(COUNTRY_INFO!H115=1, IF($E115=1,IF(ALB_MBD!$G115<>\" \",COUNTRY_INFO!F115+COUNTRY_INFO!G115-ALB_MBD!$G115,COUNTRY_INFO!F115+COUNTRY_INFO!G115), 0),0)","v":0},{"$f":"IF(INTRO!$E$39<>\"Endemic\",0, IF(AND(COUNTRY_INFO!$I115=1,$F115<>0),IF(COUNTRY_INFO!N115>=(COUNTRY_INFO!F115+COUNTRY_INFO!G115),COUNTRY_INFO!F115+COUNTRY_INFO!G115,COUNTRY_INFO!$N115), 0))","v":24875},0,69650,0,69650,null,69650]
[{"$f":"IF(INTRO!$E$39=\"Non-endemic\",\" \",IF(COUNTRY_INFO!A116=0,\" \",COUNTRY_INFO!A116))","v":"Cameroun"},{"$f":"IF(INTRO!$E$39=\"Non-endemic\",\" \",IF(COUNTRY_INFO!B116=0,\" \",COUNTRY_INFO!B116))","v":"Littoral"},{"$f":"IF(INTRO!$E$39=\"Non-endemic\",\" \",IF(COUNTRY_INFO!C116=0,\" \",COUNTRY_INFO!C116))","v":"New Bell"},{"$f":"IF(INTRO!$E$39=\"Non-endemic\",0,IF(INTRO!$E$39=\"Endemic but PC is not required\",IF(COUNTRY_INFO!$H116=1,COUNTRY_INFO!F116+COUNTRY_INFO!G116,0),IF(COUNTRY_INFO!$H116=1,COUNTRY_INFO!F116+COUNTRY_INFO!G116,IF(COUNTRY_INFO!$I116=1,IF(COUNTRY_INFO!N116>=(COUNTRY_INFO!F116+COUNTRY_INFO!G116),COUNTRY_INFO!F116+COUNTRY_INFO!G116,COUNTRY_INFO!$N116),0))))","v":0},{"$f":"IF(AND(INTRO!$E$39=\"Non-endemic\",INTRO!$E$37=\"Non-endemic\"),\"Not required\",IF(INTRO!$E$39=\"Non-endemic\",\"Treat with DEC\",COUNTRY_INFO!W116))","v":0},{"$f":"IF(INTRO!$E$39<>\"Non-endemic\",COUNTRY_INFO!X116,\"Not required\")","v":0},{"$f":"IF(COUNTRY_INFO!H116=1, IF($E116=1,IF(ALB_MBD!$G116<>\" \",COUNTRY_INFO!F116+COUNTRY_INFO!G116-ALB_MBD!$G116,COUNTRY_INFO!F116+COUNTRY_INFO!G116), 0),0)","v":0},{"$f":"IF(INTRO!$E$39<>\"Endemic\",0, IF(AND(COUNTRY_INFO!$I116=1,$F116<>0),IF(COUNTRY_INFO!N116>=(COUNTRY_INFO!F116+COUNTRY_INFO!G116),COUNTRY_INFO!F116+COUNTRY_INFO!G116,COUNTRY_INFO!$N116), 0))","v":0},0,0,0,0,null,0]
[{"$f":"IF(INTRO!$E$39=\"Non-endemic\",\" \",IF(COUNTRY_INFO!A117=0,\" \",COUNTRY_INFO!A117))","v":"Cameroun"},{"$f":"IF(INTRO!$E$39=\"Non-endemic\",\" \",IF(COUNTRY_INFO!B117=0,\" \",COUNTRY_INFO!B117))","v":"Littoral"},{"$f":"IF(INTRO!$E$39=\"Non-endemic\",\" \",IF(COUNTRY_INFO!C117=0,\" \",COUNTRY_INFO!C117))","v":"Ngambe"},{"$f":"IF(INTRO!$E$39=\"Non-endemic\",0,IF(INTRO!$E$39=\"Endemic but PC is not required\",IF(COUNTRY_INFO!$H117=1,COUNTRY_INFO!F117+COUNTRY_INFO!G117,0),IF(COUNTRY_INFO!$H117=1,COUNTRY_INFO!F117+COUNTRY_INFO!G117,IF(COUNTRY_INFO!$I117=1,IF(COUNTRY_INFO!N117>=(COUNTRY_INFO!F117+COUNTRY_INFO!G117),COUNTRY_INFO!F117+COUNTRY_INFO!G117,COUNTRY_INFO!$N117),0))))","v":13655},{"$f":"IF(AND(INTRO!$E$39=\"Non-endemic\",INTRO!$E$37=\"Non-endemic\"),\"Not required\",IF(INTRO!$E$39=\"Non-endemic\",\"Treat with DEC\",COUNTRY_INFO!W117))","v":0},{"$f":"IF(INTRO!$E$39<>\"Non-endemic\",COUNTRY_INFO!X117,\"Not required\")","v":1},{"$f":"IF(COUNTRY_INFO!H117=1, IF($E117=1,IF(ALB_MBD!$G117<>\" \",COUNTRY_INFO!F117+COUNTRY_INFO!G117-ALB_MBD!$G117,COUNTRY_INFO!F117+COUNTRY_INFO!G117), 0),0)","v":0},{"$f":"IF(INTRO!$E$39<>\"Endemic\",0, IF(AND(COUNTRY_INFO!$I117=1,$F117<>0),IF(COUNTRY_INFO!N117>=(COUNTRY_INFO!F117+COUNTRY_INFO!G117),COUNTRY_INFO!F117+COUNTRY_INFO!G117,COUNTRY_INFO!$N117), 0))","v":13655},0,38234,0,38234,null,38234]
[{"$f":"IF(INTRO!$E$39=\"Non-endemic\",\" \",IF(COUNTRY_INFO!A118=0,\" \",COUNTRY_INFO!A118))","v":"Cameroun"},{"$f":"IF(INTRO!$E$39=\"Non-endemic\",\" \",IF(COUNTRY_INFO!B118=0,\" \",COUNTRY_INFO!B118))","v":"Littoral"},{"$f":"IF(INTRO!$E$39=\"Non-endemic\",\" \",IF(COUNTRY_INFO!C118=0,\" \",COUNTRY_INFO!C118))","v":"Njombe Penja"},{"$f":"IF(INTRO!$E$39=\"Non-endemic\",0,IF(INTRO!$E$39=\"Endemic but PC is not required\",IF(COUNTRY_INFO!$H118=1,COUNTRY_INFO!F118+COUNTRY_INFO!G118,0),IF(COUNTRY_INFO!$H118=1,COUNTRY_INFO!F118+COUNTRY_INFO!G118,IF(COUNTRY_INFO!$I118=1,IF(COUNTRY_INFO!N118>=(COUNTRY_INFO!F118+COUNTRY_INFO!G118),COUNTRY_INFO!F118+COUNTRY_INFO!G118,COUNTRY_INFO!$N118),0))))","v":53195},{"$f":"IF(AND(INTRO!$E$39=\"Non-endemic\",INTRO!$E$37=\"Non-endemic\"),\"Not required\",IF(INTRO!$E$39=\"Non-endemic\",\"Treat with DEC\",COUNTRY_INFO!W118))","v":0},{"$f":"IF(INTRO!$E$39<>\"Non-endemic\",COUNTRY_INFO!X118,\"Not required\")","v":1},{"$f":"IF(COUNTRY_INFO!H118=1, IF($E118=1,IF(ALB_MBD!$G118<>\" \",COUNTRY_INFO!F118+COUNTRY_INFO!G118-ALB_MBD!$G118,COUNTRY_INFO!F118+COUNTRY_INFO!G118), 0),0)","v":0},{"$f":"IF(INTRO!$E$39<>\"Endemic\",0, IF(AND(COUNTRY_INFO!$I118=1,$F118<>0),IF(COUNTRY_INFO!N118>=(COUNTRY_INFO!F118+COUNTRY_INFO!G118),COUNTRY_INFO!F118+COUNTRY_INFO!G118,COUNTRY_INFO!$N118), 0))","v":53195},0,148946,0,148946,null,148946]
[{"$f":"IF(INTRO!$E$39=\"Non-endemic\",\" \",IF(COUNTRY_INFO!A119=0,\" \",COUNTRY_INFO!A119))","v":"Cameroun"},{"$f":"IF(INTRO!$E$39=\"Non-endemic\",\" \",IF(COUNTRY_INFO!B119=0,\" \",COUNTRY_INFO!B119))","v":"Littoral"},{"$f":"IF(INTRO!$E$39=\"Non-endemic\",\" \",IF(COUNTRY_INFO!C119=0,\" \",COUNTRY_INFO!C119))","v":"Nkondjock"},{"$f":"IF(INTRO!$E$39=\"Non-endemic\",0,IF(INTRO!$E$39=\"Endemic but PC is not required\",IF(COUNTRY_INFO!$H119=1,COUNTRY_INFO!F119+COUNTRY_INFO!G119,0),IF(COUNTRY_INFO!$H119=1,COUNTRY_INFO!F119+COUNTRY_INFO!G119,IF(COUNTRY_INFO!$I119=1,IF(COUNTRY_INFO!N119>=(COUNTRY_INFO!F119+COUNTRY_INFO!G119),COUNTRY_INFO!F119+COUNTRY_INFO!G119,COUNTRY_INFO!$N119),0))))","v":24130},{"$f":"IF(AND(INTRO!$E$39=\"Non-endemic\",INTRO!$E$37=\"Non-endemic\"),\"Not required\",IF(INTRO!$E$39=\"Non-endemic\",\"Treat with DEC\",COUNTRY_INFO!W119))","v":0},{"$f":"IF(INTRO!$E$39<>\"Non-endemic\",COUNTRY_INFO!X119,\"Not required\")","v":1},{"$f":"IF(COUNTRY_INFO!H119=1, IF($E119=1,IF(ALB_MBD!$G119<>\" \",COUNTRY_INFO!F119+COUNTRY_INFO!G119-ALB_MBD!$G119,COUNTRY_INFO!F119+COUNTRY_INFO!G119), 0),0)","v":0},{"$f":"IF(INTRO!$E$39<>\"Endemic\",0, IF(AND(COUNTRY_INFO!$I119=1,$F119<>0),IF(COUNTRY_INFO!N119>=(COUNTRY_INFO!F119+COUNTRY_INFO!G119),COUNTRY_INFO!F119+COUNTRY_INFO!G119,COUNTRY_INFO!$N119), 0))","v":24130},0,67564,0,67564,null,67564]
[{"$f":"IF(INTRO!$E$39=\"Non-endemic\",\" \",IF(COUNTRY_INFO!A120=0,\" \",COUNTRY_INFO!A120))","v":"Cameroun"},{"$f":"IF(INTRO!$E$39=\"Non-endemic\",\" \",IF(COUNTRY_INFO!B120=0,\" \",COUNTRY_INFO!B120))","v":"Littoral"},{"$f":"IF(INTRO!$E$39=\"Non-endemic\",\" \",IF(COUNTRY_INFO!C120=0,\" \",COUNTRY_INFO!C120))","v":"Nkongsamba"},{"$f":"IF(INTRO!$E$39=\"Non-endemic\",0,IF(INTRO!$E$39=\"Endemic but PC is not required\",IF(COUNTRY_INFO!$H120=1,COUNTRY_INFO!F120+COUNTRY_INFO!G120,0),IF(COUNTRY_INFO!$H120=1,COUNTRY_INFO!F120+COUNTRY_INFO!G120,IF(COUNTRY_INFO!$I120=1,IF(COUNTRY_INFO!N120>=(COUNTRY_INFO!F120+COUNTRY_INFO!G120),COUNTRY_INFO!F120+COUNTRY_INFO!G120,COUNTRY_INFO!$N120),0))))","v":109447},{"$f":"IF(AND(INTRO!$E$39=\"Non-endemic\",INTRO!$E$37=\"Non-endemic\"),\"Not required\",IF(INTRO!$E$39=\"Non-endemic\",\"Treat with DEC\",COUNTRY_INFO!W120))","v":0},{"$f":"IF(INTRO!$E$39<>\"Non-endemic\",COUNTRY_INFO!X120,\"Not required\")","v":1},{"$f":"IF(COUNTRY_INFO!H120=1, IF($E120=1,IF(ALB_MBD!$G120<>\" \",COUNTRY_INFO!F120+COUNTRY_INFO!G120-ALB_MBD!$G120,COUNTRY_INFO!F120+COUNTRY_INFO!G120), 0),0)","v":0},{"$f":"IF(INTRO!$E$39<>\"Endemic\",0, IF(AND(COUNTRY_INFO!$I120=1,$F120<>0),IF(COUNTRY_INFO!N120>=(COUNTRY_INFO!F120+COUNTRY_INFO!G120),COUNTRY_INFO!F120+COUNTRY_INFO!G120,COUNTRY_INFO!$N120), 0))","v":109447},0,306451.59999999998,0,306451.59999999998,null,306451.59999999998]
[{"$f":"IF(INTRO!$E$39=\"Non-endemic\",\" \",IF(COUNTRY_INFO!A121=0,\" \",COUNTRY_INFO!A121))","v":"Cameroun"},{"$f":"IF(INTRO!$E$39=\"Non-endemic\",\" \",IF(COUNTRY_INFO!B121=0,\" \",COUNTRY_INFO!B121))","v":"Littoral"},{"$f":"IF(INTRO!$E$39=\"Non-endemic\",\" \",IF(COUNTRY_INFO!C121=0,\" \",COUNTRY_INFO!C121))","v":"Nylon"},{"$f":"IF(INTRO!$E$39=\"Non-endemic\",0,IF(INTRO!$E$39=\"Endemic but PC is not required\",IF(COUNTRY_INFO!$H121=1,COUNTRY_INFO!F121+COUNTRY_INFO!G121,0),IF(COUNTRY_INFO!$H121=1,COUNTRY_INFO!F121+COUNTRY_INFO!G121,IF(COUNTRY_INFO!$I121=1,IF(COUNTRY_INFO!N121>=(COUNTRY_INFO!F121+COUNTRY_INFO!G121),COUNTRY_INFO!F121+COUNTRY_INFO!G121,COUNTRY_INFO!$N121),0))))","v":0},{"$f":"IF(AND(INTRO!$E$39=\"Non-endemic\",INTRO!$E$37=\"Non-endemic\"),\"Not required\",IF(INTRO!$E$39=\"Non-endemic\",\"Treat with DEC\",COUNTRY_INFO!W121))","v":0},{"$f":"IF(INTRO!$E$39<>\"Non-endemic\",COUNTRY_INFO!X121,\"Not required\")","v":0},{"$f":"IF(COUNTRY_INFO!H121=1, IF($E121=1,IF(ALB_MBD!$G121<>\" \",COUNTRY_INFO!F121+COUNTRY_INFO!G121-ALB_MBD!$G121,COUNTRY_INFO!F121+COUNTRY_INFO!G121), 0),0)","v":0},{"$f":"IF(INTRO!$E$39<>\"Endemic\",0, IF(AND(COUNTRY_INFO!$I121=1,$F121<>0),IF(COUNTRY_INFO!N121>=(COUNTRY_INFO!F121+COUNTRY_INFO!G121),COUNTRY_INFO!F121+COUNTRY_INFO!G121,COUNTRY_INFO!$N121), 0))","v":0},0,0,0,0,null,0]
[{"$f":"IF(INTRO!$E$39=\"Non-endemic\",\" \",IF(COUNTRY_INFO!A122=0,\" \",COUNTRY_INFO!A122))","v":"Cameroun"},{"$f":"IF(INTRO!$E$39=\"Non-endemic\",\" \",IF(COUNTRY_INFO!B122=0,\" \",COUNTRY_INFO!B122))","v":"Littoral"},{"$f":"IF(INTRO!$E$39=\"Non-endemic\",\" \",IF(COUNTRY_INFO!C122=0,\" \",COUNTRY_INFO!C122))","v":"Pouma"},{"$f":"IF(INTRO!$E$39=\"Non-endemic\",0,IF(INTRO!$E$39=\"Endemic but PC is not required\",IF(COUNTRY_INFO!$H122=1,COUNTRY_INFO!F122+COUNTRY_INFO!G122,0),IF(COUNTRY_INFO!$H122=1,COUNTRY_INFO!F122+COUNTRY_INFO!G122,IF(COUNTRY_INFO!$I122=1,IF(COUNTRY_INFO!N122>=(COUNTRY_INFO!F122+COUNTRY_INFO!G122),COUNTRY_INFO!F122+COUNTRY_INFO!G122,COUNTRY_INFO!$N122),0))))","v":18563},{"$f":"IF(AND(INTRO!$E$39=\"Non-endemic\",INTRO!$E$37=\"Non-endemic\"),\"Not required\",IF(INTRO!$E$39=\"Non-endemic\",\"Treat with DEC\",COUNTRY_INFO!W122))","v":0},{"$f":"IF(INTRO!$E$39<>\"Non-endemic\",COUNTRY_INFO!X122,\"Not required\")","v":1},{"$f":"IF(COUNTRY_INFO!H122=1, IF($E122=1,IF(ALB_MBD!$G122<>\" \",COUNTRY_INFO!F122+COUNTRY_INFO!G122-ALB_MBD!$G122,COUNTRY_INFO!F122+COUNTRY_INFO!G122), 0),0)","v":0},{"$f":"IF(INTRO!$E$39<>\"Endemic\",0, IF(AND(COUNTRY_INFO!$I122=1,$F122<>0),IF(COUNTRY_INFO!N122>=(COUNTRY_INFO!F122+COUNTRY_INFO!G122),COUNTRY_INFO!F122+COUNTRY_INFO!G122,COUNTRY_INFO!$N122), 0))","v":18563},0,51976.399999999994,0,51976.399999999994,null,51976.399999999994]
[{"$f":"IF(INTRO!$E$39=\"Non-endemic\",\" \",IF(COUNTRY_INFO!A123=0,\" \",COUNTRY_INFO!A123))","v":"Cameroun"},{"$f":"IF(INTRO!$E$39=\"Non-endemic\",\" \",IF(COUNTRY_INFO!B123=0,\" \",COUNTRY_INFO!B123))","v":"Littoral"},{"$f":"IF(INTRO!$E$39=\"Non-endemic\",\" \",IF(COUNTRY_INFO!C123=0,\" \",COUNTRY_INFO!C123))","v":"Yabassi"},{"$f":"IF(INTRO!$E$39=\"Non-endemic\",0,IF(INTRO!$E$39=\"Endemic but PC is not required\",IF(COUNTRY_INFO!$H123=1,COUNTRY_INFO!F123+COUNTRY_INFO!G123,0),IF(COUNTRY_INFO!$H123=1,COUNTRY_INFO!F123+COUNTRY_INFO!G123,IF(COUNTRY_INFO!$I123=1,IF(COUNTRY_INFO!N123>=(COUNTRY_INFO!F123+COUNTRY_INFO!G123),COUNTRY_INFO!F123+COUNTRY_INFO!G123,COUNTRY_INFO!$N123),0))))","v":21877},{"$f":"IF(AND(INTRO!$E$39=\"Non-endemic\",INTRO!$E$37=\"Non-endemic\"),\"Not required\",IF(INTRO!$E$39=\"Non-endemic\",\"Treat with DEC\",COUNTRY_INFO!W123))","v":0},{"$f":"IF(INTRO!$E$39<>\"Non-endemic\",COUNTRY_INFO!X123,\"Not required\")","v":1},{"$f":"IF(COUNTRY_INFO!H123=1, IF($E123=1,IF(ALB_MBD!$G123<>\" \",COUNTRY_INFO!F123+COUNTRY_INFO!G123-ALB_MBD!$G123,COUNTRY_INFO!F123+COUNTRY_INFO!G123), 0),0)","v":0},{"$f":"IF(INTRO!$E$39<>\"Endemic\",0, IF(AND(COUNTRY_INFO!$I123=1,$F123<>0),IF(COUNTRY_INFO!N123>=(COUNTRY_INFO!F123+COUNTRY_INFO!G123),COUNTRY_INFO!F123+COUNTRY_INFO!G123,COUNTRY_INFO!$N123), 0))","v":21877},0,61255.6,0,61255.6,null,61255.6]
[{"$f":"IF(INTRO!$E$39=\"Non-endemic\",\" \",IF(COUNTRY_INFO!A124=0,\" \",COUNTRY_INFO!A124))","v":"Cameroun"},{"$f":"IF(INTRO!$E$39=\"Non-endemic\",\" \",IF(COUNTRY_INFO!B124=0,\" \",COUNTRY_INFO!B124))","v":"Nord"},{"$f":"IF(INTRO!$E$39=\"Non-endemic\",\" \",IF(COUNTRY_INFO!C124=0,\" \",COUNTRY_INFO!C124))","v":"Bibemi"},{"$f":"IF(INTRO!$E$39=\"Non-endemic\",0,IF(INTRO!$E$39=\"Endemic but PC is not required\",IF(COUNTRY_INFO!$H124=1,COUNTRY_INFO!F124+COUNTRY_INFO!G124,0),IF(COUNTRY_INFO!$H124=1,COUNTRY_INFO!F124+COUNTRY_INFO!G124,IF(COUNTRY_INFO!$I124=1,IF(COUNTRY_INFO!N124>=(COUNTRY_INFO!F124+COUNTRY_INFO!G124),COUNTRY_INFO!F124+COUNTRY_INFO!G124,COUNTRY_INFO!$N124),0))))","v":0},{"$f":"IF(AND(INTRO!$E$39=\"Non-endemic\",INTRO!$E$37=\"Non-endemic\"),\"Not required\",IF(INTRO!$E$39=\"Non-endemic\",\"Treat with DEC\",COUNTRY_INFO!W124))","v":0},{"$f":"IF(INTRO!$E$39<>\"Non-endemic\",COUNTRY_INFO!X124,\"Not required\")","v":0},{"$f":"IF(COUNTRY_INFO!H124=1, IF($E124=1,IF(ALB_MBD!$G124<>\" \",COUNTRY_INFO!F124+COUNTRY_INFO!G124-ALB_MBD!$G124,COUNTRY_INFO!F124+COUNTRY_INFO!G124), 0),0)","v":0},{"$f":"IF(INTRO!$E$39<>\"Endemic\",0, IF(AND(COUNTRY_INFO!$I124=1,$F124<>0),IF(COUNTRY_INFO!N124>=(COUNTRY_INFO!F124+COUNTRY_INFO!G124),COUNTRY_INFO!F124+COUNTRY_INFO!G124,COUNTRY_INFO!$N124), 0))","v":0},0,0,0,0,null,0]
[{"$f":"IF(INTRO!$E$39=\"Non-endemic\",\" \",IF(COUNTRY_INFO!A125=0,\" \",COUNTRY_INFO!A125))","v":"Cameroun"},{"$f":"IF(INTRO!$E$39=\"Non-endemic\",\" \",IF(COUNTRY_INFO!B125=0,\" \",COUNTRY_INFO!B125))","v":"Nord"},{"$f":"IF(INTRO!$E$39=\"Non-endemic\",\" \",IF(COUNTRY_INFO!C125=0,\" \",COUNTRY_INFO!C125))","v":"Figuil"},{"$f":"IF(INTRO!$E$39=\"Non-endemic\",0,IF(INTRO!$E$39=\"Endemic but PC is not required\",IF(COUNTRY_INFO!$H125=1,COUNTRY_INFO!F125+COUNTRY_INFO!G125,0),IF(COUNTRY_INFO!$H125=1,COUNTRY_INFO!F125+COUNTRY_INFO!G125,IF(COUNTRY_INFO!$I125=1,IF(COUNTRY_INFO!N125>=(COUNTRY_INFO!F125+COUNTRY_INFO!G125),COUNTRY_INFO!F125+COUNTRY_INFO!G125,COUNTRY_INFO!$N125),0))))","v":0},{"$f":"IF(AND(INTRO!$E$39=\"Non-endemic\",INTRO!$E$37=\"Non-endemic\"),\"Not required\",IF(INTRO!$E$39=\"Non-endemic\",\"Treat with DEC\",COUNTRY_INFO!W125))","v":0},{"$f":"IF(INTRO!$E$39<>\"Non-endemic\",COUNTRY_INFO!X125,\"Not required\")","v":0},{"$f":"IF(COUNTRY_INFO!H125=1, IF($E125=1,IF(ALB_MBD!$G125<>\" \",COUNTRY_INFO!F125+COUNTRY_INFO!G125-ALB_MBD!$G125,COUNTRY_INFO!F125+COUNTRY_INFO!G125), 0),0)","v":0},{"$f":"IF(INTRO!$E$39<>\"Endemic\",0, IF(AND(COUNTRY_INFO!$I125=1,$F125<>0),IF(COUNTRY_INFO!N125>=(COUNTRY_INFO!F125+COUNTRY_INFO!G125),COUNTRY_INFO!F125+COUNTRY_INFO!G125,COUNTRY_INFO!$N125), 0))","v":0},0,0,0,0,null,0]
[{"$f":"IF(INTRO!$E$39=\"Non-endemic\",\" \",IF(COUNTRY_INFO!A126=0,\" \",COUNTRY_INFO!A126))","v":"Cameroun"},{"$f":"IF(INTRO!$E$39=\"Non-endemic\",\" \",IF(COUNTRY_INFO!B126=0,\" \",COUNTRY_INFO!B126))","v":"Nord"},{"$f":"IF(INTRO!$E$39=\"Non-endemic\",\" \",IF(COUNTRY_INFO!C126=0,\" \",COUNTRY_INFO!C126))","v":"Garoua I"},{"$f":"IF(INTRO!$E$39=\"Non-endemic\",0,IF(INTRO!$E$39=\"Endemic but PC is not required\",IF(COUNTRY_INFO!$H126=1,COUNTRY_INFO!F126+COUNTRY_INFO!G126,0),IF(COUNTRY_INFO!$H126=1,COUNTRY_INFO!F126+COUNTRY_INFO!G126,IF(COUNTRY_INFO!$I126=1,IF(COUNTRY_INFO!N126>=(COUNTRY_INFO!F126+COUNTRY_INFO!G126),COUNTRY_INFO!F126+COUNTRY_INFO!G126,COUNTRY_INFO!$N126),0))))","v":0},{"$f":"IF(AND(INTRO!$E$39=\"Non-endemic\",INTRO!$E$37=\"Non-endemic\"),\"Not required\",IF(INTRO!$E$39=\"Non-endemic\",\"Treat with DEC\",COUNTRY_INFO!W126))","v":0},{"$f":"IF(INTRO!$E$39<>\"Non-endemic\",COUNTRY_INFO!X126,\"Not required\")","v":0},{"$f":"IF(COUNTRY_INFO!H126=1, IF($E126=1,IF(ALB_MBD!$G126<>\" \",COUNTRY_INFO!F126+COUNTRY_INFO!G126-ALB_MBD!$G126,COUNTRY_INFO!F126+COUNTRY_INFO!G126), 0),0)","v":0},{"$f":"IF(INTRO!$E$39<>\"Endemic\",0, IF(AND(COUNTRY_INFO!$I126=1,$F126<>0),IF(COUNTRY_INFO!N126>=(COUNTRY_INFO!F126+COUNTRY_INFO!G126),COUNTRY_INFO!F126+COUNTRY_INFO!G126,COUNTRY_INFO!$N126), 0))","v":0},0,0,0,0,null,0]
[{"$f":"IF(INTRO!$E$39=\"Non-endemic\",\" \",IF(COUNTRY_INFO!A127=0,\" \",COUNTRY_INFO!A127))","v":"Cameroun"},{"$f":"IF(INTRO!$E$39=\"Non-endemic\",\" \",IF(COUNTRY_INFO!B127=0,\" \",COUNTRY_INFO!B127))","v":"Nord"},{"$f":"IF(INTRO!$E$39=\"Non-endemic\",\" \",IF(COUNTRY_INFO!C127=0,\" \",COUNTRY_INFO!C127))","v":"Garoua II"},{"$f":"IF(INTRO!$E$39=\"Non-endemic\",0,IF(INTRO!$E$39=\"Endemic but PC is not required\",IF(COUNTRY_INFO!$H127=1,COUNTRY_INFO!F127+COUNTRY_INFO!G127,0),IF(COUNTRY_INFO!$H127=1,COUNTRY_INFO!F127+COUNTRY_INFO!G127,IF(COUNTRY_INFO!$I127=1,IF(COUNTRY_INFO!N127>=(COUNTRY_INFO!F127+COUNTRY_INFO!G127),COUNTRY_INFO!F127+COUNTRY_INFO!G127,COUNTRY_INFO!$N127),0))))","v":0},{"$f":"IF(AND(INTRO!$E$39=\"Non-endemic\",INTRO!$E$37=\"Non-endemic\"),\"Not required\",IF(INTRO!$E$39=\"Non-endemic\",\"Treat with DEC\",COUNTRY_INFO!W127))","v":0},{"$f":"IF(INTRO!$E$39<>\"Non-endemic\",COUNTRY_INFO!X127,\"Not required\")","v":0},{"$f":"IF(COUNTRY_INFO!H127=1, IF($E127=1,IF(ALB_MBD!$G127<>\" \",COUNTRY_INFO!F127+COUNTRY_INFO!G127-ALB_MBD!$G127,COUNTRY_INFO!F127+COUNTRY_INFO!G127), 0),0)","v":0},{"$f":"IF(INTRO!$E$39<>\"Endemic\",0, IF(AND(COUNTRY_INFO!$I127=1,$F127<>0),IF(COUNTRY_INFO!N127>=(COUNTRY_INFO!F127+COUNTRY_INFO!G127),COUNTRY_INFO!F127+COUNTRY_INFO!G127,COUNTRY_INFO!$N127), 0))","v":0},0,0,0,0,null,0]
[{"$f":"IF(INTRO!$E$39=\"Non-endemic\",\" \",IF(COUNTRY_INFO!A128=0,\" \",COUNTRY_INFO!A128))","v":"Cameroun"},{"$f":"IF(INTRO!$E$39=\"Non-endemic\",\" \",IF(COUNTRY_INFO!B128=0,\" \",COUNTRY_INFO!B128))","v":"Nord"},{"$f":"IF(INTRO!$E$39=\"Non-endemic\",\" \",IF(COUNTRY_INFO!C128=0,\" \",COUNTRY_INFO!C128))","v":"Gaschiga"},{"$f":"IF(INTRO!$E$39=\"Non-endemic\",0,IF(INTRO!$E$39=\"Endemic but PC is not required\",IF(COUNTRY_INFO!$H128=1,COUNTRY_INFO!F128+COUNTRY_INFO!G128,0),IF(COUNTRY_INFO!$H128=1,COUNTRY_INFO!F128+COUNTRY_INFO!G128,IF(COUNTRY_INFO!$I128=1,IF(COUNTRY_INFO!N128>=(COUNTRY_INFO!F128+COUNTRY_INFO!G128),COUNTRY_INFO!F128+COUNTRY_INFO!G128,COUNTRY_INFO!$N128),0))))","v":0},{"$f":"IF(AND(INTRO!$E$39=\"Non-endemic\",INTRO!$E$37=\"Non-endemic\"),\"Not required\",IF(INTRO!$E$39=\"Non-endemic\",\"Treat with DEC\",COUNTRY_INFO!W128))","v":0},{"$f":"IF(INTRO!$E$39<>\"Non-endemic\",COUNTRY_INFO!X128,\"Not required\")","v":0},{"$f":"IF(COUNTRY_INFO!H128=1, IF($E128=1,IF(ALB_MBD!$G128<>\" \",COUNTRY_INFO!F128+COUNTRY_INFO!G128-ALB_MBD!$G128,COUNTRY_INFO!F128+COUNTRY_INFO!G128), 0),0)","v":0},{"$f":"IF(INTRO!$E$39<>\"Endemic\",0, IF(AND(COUNTRY_INFO!$I128=1,$F128<>0),IF(COUNTRY_INFO!N128>=(COUNTRY_INFO!F128+COUNTRY_INFO!G128),COUNTRY_INFO!F128+COUNTRY_INFO!G128,COUNTRY_INFO!$N128), 0))","v":0},0,0,0,0,null,0]
[{"$f":"IF(INTRO!$E$39=\"Non-endemic\",\" \",IF(COUNTRY_INFO!A129=0,\" \",COUNTRY_INFO!A129))","v":"Cameroun"},{"$f":"IF(INTRO!$E$39=\"Non-endemic\",\" \",IF(COUNTRY_INFO!B129=0,\" \",COUNTRY_INFO!B129))","v":"Nord"},{"$f":"IF(INTRO!$E$39=\"Non-endemic\",\" \",IF(COUNTRY_INFO!C129=0,\" \",COUNTRY_INFO!C129))","v":"Golombe"},{"$f":"IF(INTRO!$E$39=\"Non-endemic\",0,IF(INTRO!$E$39=\"Endemic but PC is not required\",IF(COUNTRY_INFO!$H129=1,COUNTRY_INFO!F129+COUNTRY_INFO!G129,0),IF(COUNTRY_INFO!$H129=1,COUNTRY_INFO!F129+COUNTRY_INFO!G129,IF(COUNTRY_INFO!$I129=1,IF(COUNTRY_INFO!N129>=(COUNTRY_INFO!F129+COUNTRY_INFO!G129),COUNTRY_INFO!F129+COUNTRY_INFO!G129,COUNTRY_INFO!$N129),0))))","v":0},{"$f":"IF(AND(INTRO!$E$39=\"Non-endemic\",INTRO!$E$37=\"Non-endemic\"),\"Not required\",IF(INTRO!$E$39=\"Non-endemic\",\"Treat with DEC\",COUNTRY_INFO!W129))","v":0},{"$f":"IF(INTRO!$E$39<>\"Non-endemic\",COUNTRY_INFO!X129,\"Not required\")","v":0},{"$f":"IF(COUNTRY_INFO!H129=1, IF($E129=1,IF(ALB_MBD!$G129<>\" \",COUNTRY_INFO!F129+COUNTRY_INFO!G129-ALB_MBD!$G129,COUNTRY_INFO!F129+COUNTRY_INFO!G129), 0),0)","v":0},{"$f":"IF(INTRO!$E$39<>\"Endemic\",0, IF(AND(COUNTRY_INFO!$I129=1,$F129<>0),IF(COUNTRY_INFO!N129>=(COUNTRY_INFO!F129+COUNTRY_INFO!G129),COUNTRY_INFO!F129+COUNTRY_INFO!G129,COUNTRY_INFO!$N129), 0))","v":0},0,0,0,0,null,0]
[{"$f":"IF(INTRO!$E$39=\"Non-endemic\",\" \",IF(COUNTRY_INFO!A130=0,\" \",COUNTRY_INFO!A130))","v":"Cameroun"},{"$f":"IF(INTRO!$E$39=\"Non-endemic\",\" \",IF(COUNTRY_INFO!B130=0,\" \",COUNTRY_INFO!B130))","v":"Nord"},{"$f":"IF(INTRO!$E$39=\"Non-endemic\",\" \",IF(COUNTRY_INFO!C130=0,\" \",COUNTRY_INFO!C130))","v":"Guider"},{"$f":"IF(INTRO!$E$39=\"Non-endemic\",0,IF(INTRO!$E$39=\"Endemic but PC is not required\",IF(COUNTRY_INFO!$H130=1,COUNTRY_INFO!F130+COUNTRY_INFO!G130,0),IF(COUNTRY_INFO!$H130=1,COUNTRY_INFO!F130+COUNTRY_INFO!G130,IF(COUNTRY_INFO!$I130=1,IF(COUNTRY_INFO!N130>=(COUNTRY_INFO!F130+COUNTRY_INFO!G130),COUNTRY_INFO!F130+COUNTRY_INFO!G130,COUNTRY_INFO!$N130),0))))","v":0},{"$f":"IF(AND(INTRO!$E$39=\"Non-endemic\",INTRO!$E$37=\"Non-endemic\"),\"Not required\",IF(INTRO!$E$39=\"Non-endemic\",\"Treat with DEC\",COUNTRY_INFO!W130))","v":0},{"$f":"IF(INTRO!$E$39<>\"Non-endemic\",COUNTRY_INFO!X130,\"Not required\")","v":0},{"$f":"IF(COUNTRY_INFO!H130=1, IF($E130=1,IF(ALB_MBD!$G130<>\" \",COUNTRY_INFO!F130+COUNTRY_INFO!G130-ALB_MBD!$G130,COUNTRY_INFO!F130+COUNTRY_INFO!G130), 0),0)","v":0},{"$f":"IF(INTRO!$E$39<>\"Endemic\",0, IF(AND(COUNTRY_INFO!$I130=1,$F130<>0),IF(COUNTRY_INFO!N130>=(COUNTRY_INFO!F130+COUNTRY_INFO!G130),COUNTRY_INFO!F130+COUNTRY_INFO!G130,COUNTRY_INFO!$N130), 0))","v":0},0,0,0,0,null,0]
[{"$f":"IF(INTRO!$E$39=\"Non-endemic\",\" \",IF(COUNTRY_INFO!A131=0,\" \",COUNTRY_INFO!A131))","v":"Cameroun"},{"$f":"IF(INTRO!$E$39=\"Non-endemic\",\" \",IF(COUNTRY_INFO!B131=0,\" \",COUNTRY_INFO!B131))","v":"Nord"},{"$f":"IF(INTRO!$E$39=\"Non-endemic\",\" \",IF(COUNTRY_INFO!C131=0,\" \",COUNTRY_INFO!C131))","v":"Lagdo"},{"$f":"IF(INTRO!$E$39=\"Non-endemic\",0,IF(INTRO!$E$39=\"Endemic but PC is not required\",IF(COUNTRY_INFO!$H131=1,COUNTRY_INFO!F131+COUNTRY_INFO!G131,0),IF(COUNTRY_INFO!$H131=1,COUNTRY_INFO!F131+COUNTRY_INFO!G131,IF(COUNTRY_INFO!$I131=1,IF(COUNTRY_INFO!N131>=(COUNTRY_INFO!F131+COUNTRY_INFO!G131),COUNTRY_INFO!F131+COUNTRY_INFO!G131,COUNTRY_INFO!$N131),0))))","v":203560},{"$f":"IF(AND(INTRO!$E$39=\"Non-endemic\",INTRO!$E$37=\"Non-endemic\"),\"Not required\",IF(INTRO!$E$39=\"Non-endemic\",\"Treat with DEC\",COUNTRY_INFO!W131))","v":0},{"$f":"IF(INTRO!$E$39<>\"Non-endemic\",COUNTRY_INFO!X131,\"Not required\")","v":1},{"$f":"IF(COUNTRY_INFO!H131=1, IF($E131=1,IF(ALB_MBD!$G131<>\" \",COUNTRY_INFO!F131+COUNTRY_INFO!G131-ALB_MBD!$G131,COUNTRY_INFO!F131+COUNTRY_INFO!G131), 0),0)","v":0},{"$f":"IF(INTRO!$E$39<>\"Endemic\",0, IF(AND(COUNTRY_INFO!$I131=1,$F131<>0),IF(COUNTRY_INFO!N131>=(COUNTRY_INFO!F131+COUNTRY_INFO!G131),COUNTRY_INFO!F131+COUNTRY_INFO!G131,COUNTRY_INFO!$N131), 0))","v":203560},0,569968,0,569968,null,569968]
[{"$f":"IF(INTRO!$E$39=\"Non-endemic\",\" \",IF(COUNTRY_INFO!A132=0,\" \",COUNTRY_INFO!A132))","v":"Cameroun"},{"$f":"IF(INTRO!$E$39=\"Non-endemic\",\" \",IF(COUNTRY_INFO!B132=0,\" \",COUNTRY_INFO!B132))","v":"Nord"},{"$f":"IF(INTRO!$E$39=\"Non-endemic\",\" \",IF(COUNTRY_INFO!C132=0,\" \",COUNTRY_INFO!C132))","v":"Mayo Oulo"},{"$f":"IF(INTRO!$E$39=\"Non-endemic\",0,IF(INTRO!$E$39=\"Endemic but PC is not required\",IF(COUNTRY_INFO!$H132=1,COUNTRY_INFO!F132+COUNTRY_INFO!G132,0),IF(COUNTRY_INFO!$H132=1,COUNTRY_INFO!F132+COUNTRY_INFO!G132,IF(COUNTRY_INFO!$I132=1,IF(COUNTRY_INFO!N132>=(COUNTRY_INFO!F132+COUNTRY_INFO!G132),COUNTRY_INFO!F132+COUNTRY_INFO!G132,COUNTRY_INFO!$N132),0))))","v":0},{"$f":"IF(AND(INTRO!$E$39=\"Non-endemic\",INTRO!$E$37=\"Non-endemic\"),\"Not required\",IF(INTRO!$E$39=\"Non-endemic\",\"Treat with DEC\",COUNTRY_INFO!W132))","v":0},{"$f":"IF(INTRO!$E$39<>\"Non-endemic\",COUNTRY_INFO!X132,\"Not required\")","v":0},{"$f":"IF(COUNTRY_INFO!H132=1, IF($E132=1,IF(ALB_MBD!$G132<>\" \",COUNTRY_INFO!F132+COUNTRY_INFO!G132-ALB_MBD!$G132,COUNTRY_INFO!F132+COUNTRY_INFO!G132), 0),0)","v":0},{"$f":"IF(INTRO!$E$39<>\"Endemic\",0, IF(AND(COUNTRY_INFO!$I132=1,$F132<>0),IF(COUNTRY_INFO!N132>=(COUNTRY_INFO!F132+COUNTRY_INFO!G132),COUNTRY_INFO!F132+COUNTRY_INFO!G132,COUNTRY_INFO!$N132), 0))","v":0},0,0,0,0,null,0]
[{"$f":"IF(INTRO!$E$39=\"Non-endemic\",\" \",IF(COUNTRY_INFO!A133=0,\" \",COUNTRY_INFO!A133))","v":"Cameroun"},{"$f":"IF(INTRO!$E$39=\"Non-endemic\",\" \",IF(COUNTRY_INFO!B133=0,\" \",COUNTRY_INFO!B133))","v":"Nord"},{"$f":"IF(INTRO!$E$39=\"Non-endemic\",\" \",IF(COUNTRY_INFO!C133=0,\" \",COUNTRY_INFO!C133))","v":"Ngong"},{"$f":"IF(INTRO!$E$39=\"Non-endemic\",0,IF(INTRO!$E$39=\"Endemic but PC is not required\",IF(COUNTRY_INFO!$H133=1,COUNTRY_INFO!F133+COUNTRY_INFO!G133,0),IF(COUNTRY_INFO!$H133=1,COUNTRY_INFO!F133+COUNTRY_INFO!G133,IF(COUNTRY_INFO!$I133=1,IF(COUNTRY_INFO!N133>=(COUNTRY_INFO!F133+COUNTRY_INFO!G133),COUNTRY_INFO!F133+COUNTRY_INFO!G133,COUNTRY_INFO!$N133),0))))","v":253500},{"$f":"IF(AND(INTRO!$E$39=\"Non-endemic\",INTRO!$E$37=\"Non-endemic\"),\"Not required\",IF(INTRO!$E$39=\"Non-endemic\",\"Treat with DEC\",COUNTRY_INFO!W133))","v":0},{"$f":"IF(INTRO!$E$39<>\"Non-endemic\",COUNTRY_INFO!X133,\"Not required\")","v":1},{"$f":"IF(COUNTRY_INFO!H133=1, IF($E133=1,IF(ALB_MBD!$G133<>\" \",COUNTRY_INFO!F133+COUNTRY_INFO!G133-ALB_MBD!$G133,COUNTRY_INFO!F133+COUNTRY_INFO!G133), 0),0)","v":0},{"$f":"IF(INTRO!$E$39<>\"Endemic\",0, IF(AND(COUNTRY_INFO!$I133=1,$F133<>0),IF(COUNTRY_INFO!N133>=(COUNTRY_INFO!F133+COUNTRY_INFO!G133),COUNTRY_INFO!F133+COUNTRY_INFO!G133,COUNTRY_INFO!$N133), 0))","v":253500},0,709800,0,709800,null,709800]
[{"$f":"IF(INTRO!$E$39=\"Non-endemic\",\" \",IF(COUNTRY_INFO!A134=0,\" \",COUNTRY_INFO!A134))","v":"Cameroun"},{"$f":"IF(INTRO!$E$39=\"Non-endemic\",\" \",IF(COUNTRY_INFO!B134=0,\" \",COUNTRY_INFO!B134))","v":"Nord"},{"$f":"IF(INTRO!$E$39=\"Non-endemic\",\" \",IF(COUNTRY_INFO!C134=0,\" \",COUNTRY_INFO!C134))","v":"Pitoa"},{"$f":"IF(INTRO!$E$39=\"Non-endemic\",0,IF(INTRO!$E$39=\"Endemic but PC is not required\",IF(COUNTRY_INFO!$H134=1,COUNTRY_INFO!F134+COUNTRY_INFO!G134,0),IF(COUNTRY_INFO!$H134=1,COUNTRY_INFO!F134+COUNTRY_INFO!G134,IF(COUNTRY_INFO!$I134=1,IF(COUNTRY_INFO!N134>=(COUNTRY_INFO!F134+COUNTRY_INFO!G134),COUNTRY_INFO!F134+COUNTRY_INFO!G134,COUNTRY_INFO!$N134),0))))","v":0},{"$f":"IF(AND(INTRO!$E$39=\"Non-endemic\",INTRO!$E$37=\"Non-endemic\"),\"Not required\",IF(INTRO!$E$39=\"Non-endemic\",\"Treat with DEC\",COUNTRY_INFO!W134))","v":0},{"$f":"IF(INTRO!$E$39<>\"Non-endemic\",COUNTRY_INFO!X134,\"Not required\")","v":0},{"$f":"IF(COUNTRY_INFO!H134=1, IF($E134=1,IF(ALB_MBD!$G134<>\" \",COUNTRY_INFO!F134+COUNTRY_INFO!G134-ALB_MBD!$G134,COUNTRY_INFO!F134+COUNTRY_INFO!G134), 0),0)","v":0},{"$f":"IF(INTRO!$E$39<>\"Endemic\",0, IF(AND(COUNTRY_INFO!$I134=1,$F134<>0),IF(COUNTRY_INFO!N134>=(COUNTRY_INFO!F134+COUNTRY_INFO!G134),COUNTRY_INFO!F134+COUNTRY_INFO!G134,COUNTRY_INFO!$N134), 0))","v":0},0,0,0,0,null,0]
[{"$f":"IF(INTRO!$E$39=\"Non-endemic\",\" \",IF(COUNTRY_INFO!A135=0,\" \",COUNTRY_INFO!A135))","v":"Cameroun"},{"$f":"IF(INTRO!$E$39=\"Non-endemic\",\" \",IF(COUNTRY_INFO!B135=0,\" \",COUNTRY_INFO!B135))","v":"Nord"},{"$f":"IF(INTRO!$E$39=\"Non-endemic\",\" \",IF(COUNTRY_INFO!C135=0,\" \",COUNTRY_INFO!C135))","v":"Poli"},{"$f":"IF(INTRO!$E$39=\"Non-endemic\",0,IF(INTRO!$E$39=\"Endemic but PC is not required\",IF(COUNTRY_INFO!$H135=1,COUNTRY_INFO!F135+COUNTRY_INFO!G135,0),IF(COUNTRY_INFO!$H135=1,COUNTRY_INFO!F135+COUNTRY_INFO!G135,IF(COUNTRY_INFO!$I135=1,IF(COUNTRY_INFO!N135>=(COUNTRY_INFO!F135+COUNTRY_INFO!G135),COUNTRY_INFO!F135+COUNTRY_INFO!G135,COUNTRY_INFO!$N135),0))))","v":106417},{"$f":"IF(AND(INTRO!$E$39=\"Non-endemic\",INTRO!$E$37=\"Non-endemic\"),\"Not required\",IF(INTRO!$E$39=\"Non-endemic\",\"Treat with DEC\",COUNTRY_INFO!W135))","v":0},{"$f":"IF(INTRO!$E$39<>\"Non-endemic\",COUNTRY_INFO!X135,\"Not required\")","v":1},{"$f":"IF(COUNTRY_INFO!H135=1, IF($E135=1,IF(ALB_MBD!$G135<>\" \",COUNTRY_INFO!F135+COUNTRY_INFO!G135-ALB_MBD!$G135,COUNTRY_INFO!F135+COUNTRY_INFO!G135), 0),0)","v":0},{"$f":"IF(INTRO!$E$39<>\"Endemic\",0, IF(AND(COUNTRY_INFO!$I135=1,$F135<>0),IF(COUNTRY_INFO!N135>=(COUNTRY_INFO!F135+COUNTRY_INFO!G135),COUNTRY_INFO!F135+COUNTRY_INFO!G135,COUNTRY_INFO!$N135), 0))","v":106417},0,297967.59999999998,0,297967.59999999998,null,297967.59999999998]
[{"$f":"IF(INTRO!$E$39=\"Non-endemic\",\" \",IF(COUNTRY_INFO!A136=0,\" \",COUNTRY_INFO!A136))","v":"Cameroun"},{"$f":"IF(INTRO!$E$39=\"Non-endemic\",\" \",IF(COUNTRY_INFO!B136=0,\" \",COUNTRY_INFO!B136))","v":"Nord"},{"$f":"IF(INTRO!$E$39=\"Non-endemic\",\" \",IF(COUNTRY_INFO!C136=0,\" \",COUNTRY_INFO!C136))","v":"Rey Bouba"},{"$f":"IF(INTRO!$E$39=\"Non-endemic\",0,IF(INTRO!$E$39=\"Endemic but PC is not required\",IF(COUNTRY_INFO!$H136=1,COUNTRY_INFO!F136+COUNTRY_INFO!G136,0),IF(COUNTRY_INFO!$H136=1,COUNTRY_INFO!F136+COUNTRY_INFO!G136,IF(COUNTRY_INFO!$I136=1,IF(COUNTRY_INFO!N136>=(COUNTRY_INFO!F136+COUNTRY_INFO!G136),COUNTRY_INFO!F136+COUNTRY_INFO!G136,COUNTRY_INFO!$N136),0))))","v":172575},{"$f":"IF(AND(INTRO!$E$39=\"Non-endemic\",INTRO!$E$37=\"Non-endemic\"),\"Not required\",IF(INTRO!$E$39=\"Non-endemic\",\"Treat with DEC\",COUNTRY_INFO!W136))","v":0},{"$f":"IF(INTRO!$E$39<>\"Non-endemic\",COUNTRY_INFO!X136,\"Not required\")","v":1},{"$f":"IF(COUNTRY_INFO!H136=1, IF($E136=1,IF(ALB_MBD!$G136<>\" \",COUNTRY_INFO!F136+COUNTRY_INFO!G136-ALB_MBD!$G136,COUNTRY_INFO!F136+COUNTRY_INFO!G136), 0),0)","v":0},{"$f":"IF(INTRO!$E$39<>\"Endemic\",0, IF(AND(COUNTRY_INFO!$I136=1,$F136<>0),IF(COUNTRY_INFO!N136>=(COUNTRY_INFO!F136+COUNTRY_INFO!G136),COUNTRY_INFO!F136+COUNTRY_INFO!G136,COUNTRY_INFO!$N136), 0))","v":172575},0,483209.99999999994,0,483209.99999999994,null,483209.99999999994]
[{"$f":"IF(INTRO!$E$39=\"Non-endemic\",\" \",IF(COUNTRY_INFO!A137=0,\" \",COUNTRY_INFO!A137))","v":"Cameroun"},{"$f":"IF(INTRO!$E$39=\"Non-endemic\",\" \",IF(COUNTRY_INFO!B137=0,\" \",COUNTRY_INFO!B137))","v":"Nord"},{"$f":"IF(INTRO!$E$39=\"Non-endemic\",\" \",IF(COUNTRY_INFO!C137=0,\" \",COUNTRY_INFO!C137))","v":"Tchollire"},{"$f":"IF(INTRO!$E$39=\"Non-endemic\",0,IF(INTRO!$E$39=\"Endemic but PC is not required\",IF(COUNTRY_INFO!$H137=1,COUNTRY_INFO!F137+COUNTRY_INFO!G137,0),IF(COUNTRY_INFO!$H137=1,COUNTRY_INFO!F137+COUNTRY_INFO!G137,IF(COUNTRY_INFO!$I137=1,IF(COUNTRY_INFO!N137>=(COUNTRY_INFO!F137+COUNTRY_INFO!G137),COUNTRY_INFO!F137+COUNTRY_INFO!G137,COUNTRY_INFO!$N137),0))))","v":193072},{"$f":"IF(AND(INTRO!$E$39=\"Non-endemic\",INTRO!$E$37=\"Non-endemic\"),\"Not required\",IF(INTRO!$E$39=\"Non-endemic\",\"Treat with DEC\",COUNTRY_INFO!W137))","v":0},{"$f":"IF(INTRO!$E$39<>\"Non-endemic\",COUNTRY_INFO!X137,\"Not required\")","v":1},{"$f":"IF(COUNTRY_INFO!H137=1, IF($E137=1,IF(ALB_MBD!$G137<>\" \",COUNTRY_INFO!F137+COUNTRY_INFO!G137-ALB_MBD!$G137,COUNTRY_INFO!F137+COUNTRY_INFO!G137), 0),0)","v":0},{"$f":"IF(INTRO!$E$39<>\"Endemic\",0, IF(AND(COUNTRY_INFO!$I137=1,$F137<>0),IF(COUNTRY_INFO!N137>=(COUNTRY_INFO!F137+COUNTRY_INFO!G137),COUNTRY_INFO!F137+COUNTRY_INFO!G137,COUNTRY_INFO!$N137), 0))","v":193072},0,540601.59999999998,0,540601.59999999998,null,540601.59999999998]
[{"$f":"IF(INTRO!$E$39=\"Non-endemic\",\" \",IF(COUNTRY_INFO!A138=0,\" \",COUNTRY_INFO!A138))","v":"Cameroun"},{"$f":"IF(INTRO!$E$39=\"Non-endemic\",\" \",IF(COUNTRY_INFO!B138=0,\" \",COUNTRY_INFO!B138))","v":"Nord"},{"$f":"IF(INTRO!$E$39=\"Non-endemic\",\" \",IF(COUNTRY_INFO!C138=0,\" \",COUNTRY_INFO!C138))","v":"Touboro"},{"$f":"IF(INTRO!$E$39=\"Non-endemic\",0,IF(INTRO!$E$39=\"Endemic but PC is not required\",IF(COUNTRY_INFO!$H138=1,COUNTRY_INFO!F138+COUNTRY_INFO!G138,0),IF(COUNTRY_INFO!$H138=1,COUNTRY_INFO!F138+COUNTRY_INFO!G138,IF(COUNTRY_INFO!$I138=1,IF(COUNTRY_INFO!N138>=(COUNTRY_INFO!F138+COUNTRY_INFO!G138),COUNTRY_INFO!F138+COUNTRY_INFO!G138,COUNTRY_INFO!$N138),0))))","v":285392},{"$f":"IF(AND(INTRO!$E$39=\"Non-endemic\",INTRO!$E$37=\"Non-endemic\"),\"Not required\",IF(INTRO!$E$39=\"Non-endemic\",\"Treat with DEC\",COUNTRY_INFO!W138))","v":0},{"$f":"IF(INTRO!$E$39<>\"Non-endemic\",COUNTRY_INFO!X138,\"Not required\")","v":1},{"$f":"IF(COUNTRY_INFO!H138=1, IF($E138=1,IF(ALB_MBD!$G138<>\" \",COUNTRY_INFO!F138+COUNTRY_INFO!G138-ALB_MBD!$G138,COUNTRY_INFO!F138+COUNTRY_INFO!G138), 0),0)","v":0},{"$f":"IF(INTRO!$E$39<>\"Endemic\",0, IF(AND(COUNTRY_INFO!$I138=1,$F138<>0),IF(COUNTRY_INFO!N138>=(COUNTRY_INFO!F138+COUNTRY_INFO!G138),COUNTRY_INFO!F138+COUNTRY_INFO!G138,COUNTRY_INFO!$N138), 0))","v":285392},0,799097.6,0,799097.6,null,799097.6]
[{"$f":"IF(INTRO!$E$39=\"Non-endemic\",\" \",IF(COUNTRY_INFO!A139=0,\" \",COUNTRY_INFO!A139))","v":"Cameroun"},{"$f":"IF(INTRO!$E$39=\"Non-endemic\",\" \",IF(COUNTRY_INFO!B139=0,\" \",COUNTRY_INFO!B139))","v":"Nord Ouest"},{"$f":"IF(INTRO!$E$39=\"Non-endemic\",\" \",IF(COUNTRY_INFO!C139=0,\" \",COUNTRY_INFO!C139))","v":"Ako "},{"$f":"IF(INTRO!$E$39=\"Non-endemic\",0,IF(INTRO!$E$39=\"Endemic but PC is not required\",IF(COUNTRY_INFO!$H139=1,COUNTRY_INFO!F139+COUNTRY_INFO!G139,0),IF(COUNTRY_INFO!$H139=1,COUNTRY_INFO!F139+COUNTRY_INFO!G139,IF(COUNTRY_INFO!$I139=1,IF(COUNTRY_INFO!N139>=(COUNTRY_INFO!F139+COUNTRY_INFO!G139),COUNTRY_INFO!F139+COUNTRY_INFO!G139,COUNTRY_INFO!$N139),0))))","v":58493},{"$f":"IF(AND(INTRO!$E$39=\"Non-endemic\",INTRO!$E$37=\"Non-endemic\"),\"Not required\",IF(INTRO!$E$39=\"Non-endemic\",\"Treat with DEC\",COUNTRY_INFO!W139))","v":0},{"$f":"IF(INTRO!$E$39<>\"Non-endemic\",COUNTRY_INFO!X139,\"Not required\")","v":1},{"$f":"IF(COUNTRY_INFO!H139=1, IF($E139=1,IF(ALB_MBD!$G139<>\" \",COUNTRY_INFO!F139+COUNTRY_INFO!G139-ALB_MBD!$G139,COUNTRY_INFO!F139+COUNTRY_INFO!G139), 0),0)","v":0},{"$f":"IF(INTRO!$E$39<>\"Endemic\",0, IF(AND(COUNTRY_INFO!$I139=1,$F139<>0),IF(COUNTRY_INFO!N139>=(COUNTRY_INFO!F139+COUNTRY_INFO!G139),COUNTRY_INFO!F139+COUNTRY_INFO!G139,COUNTRY_INFO!$N139), 0))","v":58493},{"$f":"IF(G139<H139,0,IF($E139=1, (G139-H139)*2.8, 0))","v":0},{"$f":"IF($E139<$F139, H139*(F139-E139)*2.8, 0)","v":163780.4},{"$f":"IF(AND($E139=1, $F139<>0), H139*2.8, 0)","v":0},{"$f":"SUM(I139:K139)","v":163780.4},null,163780.4]
[{"$f":"IF(INTRO!$E$39=\"Non-endemic\",\" \",IF(COUNTRY_INFO!A140=0,\" \",COUNTRY_INFO!A140))","v":"Cameroun"},{"$f":"IF(INTRO!$E$39=\"Non-endemic\",\" \",IF(COUNTRY_INFO!B140=0,\" \",COUNTRY_INFO!B140))","v":"Nord Ouest"},{"$f":"IF(INTRO!$E$39=\"Non-endemic\",\" \",IF(COUNTRY_INFO!C140=0,\" \",COUNTRY_INFO!C140))","v":"Bafut"},{"$f":"IF(INTRO!$E$39=\"Non-endemic\",0,IF(INTRO!$E$39=\"Endemic but PC is not required\",IF(COUNTRY_INFO!$H140=1,COUNTRY_INFO!F140+COUNTRY_INFO!G140,0),IF(COUNTRY_INFO!$H140=1,COUNTRY_INFO!F140+COUNTRY_INFO!G140,IF(COUNTRY_INFO!$I140=1,IF(COUNTRY_INFO!N140>=(COUNTRY_INFO!F140+COUNTRY_INFO!G140),COUNTRY_INFO!F140+COUNTRY_INFO!G140,COUNTRY_INFO!$N140),0))))","v":38576},{"$f":"IF(AND(INTRO!$E$39=\"Non-endemic\",INTRO!$E$37=\"Non-endemic\"),\"Not required\",IF(INTRO!$E$39=\"Non-endemic\",\"Treat with DEC\",COUNTRY_INFO!W140))","v":0},{"$f":"IF(INTRO!$E$39<>\"Non-endemic\",COUNTRY_INFO!X140,\"Not required\")","v":1},{"$f":"IF(COUNTRY_INFO!H140=1, IF($E140=1,IF(ALB_MBD!$G140<>\" \",COUNTRY_INFO!F140+COUNTRY_INFO!G140-ALB_MBD!$G140,COUNTRY_INFO!F140+COUNTRY_INFO!G140), 0),0)","v":0},{"$f":"IF(INTRO!$E$39<>\"Endemic\",0, IF(AND(COUNTRY_INFO!$I140=1,$F140<>0),IF(COUNTRY_INFO!N140>=(COUNTRY_INFO!F140+COUNTRY_INFO!G140),COUNTRY_INFO!F140+COUNTRY_INFO!G140,COUNTRY_INFO!$N140), 0))","v":38576},0,108012.79999999999,0,108012.79999999999,null,108012.79999999999]
[{"$f":"IF(INTRO!$E$39=\"Non-endemic\",\" \",IF(COUNTRY_INFO!A141=0,\" \",COUNTRY_INFO!A141))","v":"Cameroun"},{"$f":"IF(INTRO!$E$39=\"Non-endemic\",\" \",IF(COUNTRY_INFO!B141=0,\" \",COUNTRY_INFO!B141))","v":"Nord Ouest"},{"$f":"IF(INTRO!$E$39=\"Non-endemic\",\" \",IF(COUNTRY_INFO!C141=0,\" \",COUNTRY_INFO!C141))","v":"Bali"},{"$f":"IF(INTRO!$E$39=\"Non-endemic\",0,IF(INTRO!$E$39=\"Endemic but PC is not required\",IF(COUNTRY_INFO!$H141=1,COUNTRY_INFO!F141+COUNTRY_INFO!G141,0),IF(COUNTRY_INFO!$H141=1,COUNTRY_INFO!F141+COUNTRY_INFO!G141,IF(COUNTRY_INFO!$I141=1,IF(COUNTRY_INFO!N141>=(COUNTRY_INFO!F141+COUNTRY_INFO!G141),COUNTRY_INFO!F141+COUNTRY_INFO!G141,COUNTRY_INFO!$N141),0))))","v":25623},{"$f":"IF(AND(INTRO!$E$39=\"Non-endemic\",INTRO!$E$37=\"Non-endemic\"),\"Not required\",IF(INTRO!$E$39=\"Non-endemic\",\"Treat with DEC\",COUNTRY_INFO!W141))","v":0},{"$f":"IF(INTRO!$E$39<>\"Non-endemic\",COUNTRY_INFO!X141,\"Not required\")","v":1},{"$f":"IF(COUNTRY_INFO!H141=1, IF($E141=1,IF(ALB_MBD!$G141<>\" \",COUNTRY_INFO!F141+COUNTRY_INFO!G141-ALB_MBD!$G141,COUNTRY_INFO!F141+COUNTRY_INFO!G141), 0),0)","v":0},{"$f":"IF(INTRO!$E$39<>\"Endemic\",0, IF(AND(COUNTRY_INFO!$I141=1,$F141<>0),IF(COUNTRY_INFO!N141>=(COUNTRY_INFO!F141+COUNTRY_INFO!G141),COUNTRY_INFO!F141+COUNTRY_INFO!G141,COUNTRY_INFO!$N141), 0))","v":25623},0,71744.399999999994,0,71744.399999999994,null,71744.399999999994]
[{"$f":"IF(INTRO!$E$39=\"Non-endemic\",\" \",IF(COUNTRY_INFO!A142=0,\" \",COUNTRY_INFO!A142))","v":"Cameroun"},{"$f":"IF(INTRO!$E$39=\"Non-endemic\",\" \",IF(COUNTRY_INFO!B142=0,\" \",COUNTRY_INFO!B142))","v":"Nord Ouest"},{"$f":"IF(INTRO!$E$39=\"Non-endemic\",\" \",IF(COUNTRY_INFO!C142=0,\" \",COUNTRY_INFO!C142))","v":"Bamenda"},{"$f":"IF(INTRO!$E$39=\"Non-endemic\",0,IF(INTRO!$E$39=\"Endemic but PC is not required\",IF(COUNTRY_INFO!$H142=1,COUNTRY_INFO!F142+COUNTRY_INFO!G142,0),IF(COUNTRY_INFO!$H142=1,COUNTRY_INFO!F142+COUNTRY_INFO!G142,IF(COUNTRY_INFO!$I142=1,IF(COUNTRY_INFO!N142>=(COUNTRY_INFO!F142+COUNTRY_INFO!G142),COUNTRY_INFO!F142+COUNTRY_INFO!G142,COUNTRY_INFO!$N142),0))))","v":240251},{"$f":"IF(AND(INTRO!$E$39=\"Non-endemic\",INTRO!$E$37=\"Non-endemic\"),\"Not required\",IF(INTRO!$E$39=\"Non-endemic\",\"Treat with DEC\",COUNTRY_INFO!W142))","v":0},{"$f":"IF(INTRO!$E$39<>\"Non-endemic\",COUNTRY_INFO!X142,\"Not required\")","v":1},{"$f":"IF(COUNTRY_INFO!H142=1, IF($E142=1,IF(ALB_MBD!$G142<>\" \",COUNTRY_INFO!F142+COUNTRY_INFO!G142-ALB_MBD!$G142,COUNTRY_INFO!F142+COUNTRY_INFO!G142), 0),0)","v":0},{"$f":"IF(INTRO!$E$39<>\"Endemic\",0, IF(AND(COUNTRY_INFO!$I142=1,$F142<>0),IF(COUNTRY_INFO!N142>=(COUNTRY_INFO!F142+COUNTRY_INFO!G142),COUNTRY_INFO!F142+COUNTRY_INFO!G142,COUNTRY_INFO!$N142), 0))","v":240251},0,672702.79999999993,0,672702.79999999993,null,672702.79999999993]
[{"$f":"IF(INTRO!$E$39=\"Non-endemic\",\" \",IF(COUNTRY_INFO!A143=0,\" \",COUNTRY_INFO!A143))","v":"Cameroun"},{"$f":"IF(INTRO!$E$39=\"Non-endemic\",\" \",IF(COUNTRY_INFO!B143=0,\" \",COUNTRY_INFO!B143))","v":"Nord Ouest"},{"$f":"IF(INTRO!$E$39=\"Non-endemic\",\" \",IF(COUNTRY_INFO!C143=0,\" \",COUNTRY_INFO!C143))","v":"Bamenda 3"},{"$f":"IF(INTRO!$E$39=\"Non-endemic\",0,IF(INTRO!$E$39=\"Endemic but PC is not required\",IF(COUNTRY_INFO!$H143=1,COUNTRY_INFO!F143+COUNTRY_INFO!G143,0),IF(COUNTRY_INFO!$H143=1,COUNTRY_INFO!F143+COUNTRY_INFO!G143,IF(COUNTRY_INFO!$I143=1,IF(COUNTRY_INFO!N143>=(COUNTRY_INFO!F143+COUNTRY_INFO!G143),COUNTRY_INFO!F143+COUNTRY_INFO!G143,COUNTRY_INFO!$N143),0))))","v":157735},{"$f":"IF(AND(INTRO!$E$39=\"Non-endemic\",INTRO!$E$37=\"Non-endemic\"),\"Not required\",IF(INTRO!$E$39=\"Non-endemic\",\"Treat with DEC\",COUNTRY_INFO!W143))","v":0},{"$f":"IF(INTRO!$E$39<>\"Non-endemic\",COUNTRY_INFO!X143,\"Not required\")","v":1},{"$f":"IF(COUNTRY_INFO!H143=1, IF($E143=1,IF(ALB_MBD!$G143<>\" \",COUNTRY_INFO!F143+COUNTRY_INFO!G143-ALB_MBD!$G143,COUNTRY_INFO!F143+COUNTRY_INFO!G143), 0),0)","v":0},{"$f":"IF(INTRO!$E$39<>\"Endemic\",0, IF(AND(COUNTRY_INFO!$I143=1,$F143<>0),IF(COUNTRY_INFO!N143>=(COUNTRY_INFO!F143+COUNTRY_INFO!G143),COUNTRY_INFO!F143+COUNTRY_INFO!G143,COUNTRY_INFO!$N143), 0))","v":157735},0,441658,0,441658,null,441658]
[{"$f":"IF(INTRO!$E$39=\"Non-endemic\",\" \",IF(COUNTRY_INFO!A144=0,\" \",COUNTRY_INFO!A144))","v":"Cameroun"},{"$f":"IF(INTRO!$E$39=\"Non-endemic\",\" \",IF(COUNTRY_INFO!B144=0,\" \",COUNTRY_INFO!B144))","v":"Nord Ouest"},{"$f":"IF(INTRO!$E$39=\"Non-endemic\",\" \",IF(COUNTRY_INFO!C144=0,\" \",COUNTRY_INFO!C144))","v":"Batibo"},{"$f":"IF(INTRO!$E$39=\"Non-endemic\",0,IF(INTRO!$E$39=\"Endemic but PC is not required\",IF(COUNTRY_INFO!$H144=1,COUNTRY_INFO!F144+COUNTRY_INFO!G144,0),IF(COUNTRY_INFO!$H144=1,COUNTRY_INFO!F144+COUNTRY_INFO!G144,IF(COUNTRY_INFO!$I144=1,IF(COUNTRY_INFO!N144>=(COUNTRY_INFO!F144+COUNTRY_INFO!G144),COUNTRY_INFO!F144+COUNTRY_INFO!G144,COUNTRY_INFO!$N144),0))))","v":66424},{"$f":"IF(AND(INTRO!$E$39=\"Non-endemic\",INTRO!$E$37=\"Non-endemic\"),\"Not required\",IF(INTRO!$E$39=\"Non-endemic\",\"Treat with DEC\",COUNTRY_INFO!W144))","v":0},{"$f":"IF(INTRO!$E$39<>\"Non-endemic\",COUNTRY_INFO!X144,\"Not required\")","v":1},{"$f":"IF(COUNTRY_INFO!H144=1, IF($E144=1,IF(ALB_MBD!$G144<>\" \",COUNTRY_INFO!F144+COUNTRY_INFO!G144-ALB_MBD!$G144,COUNTRY_INFO!F144+COUNTRY_INFO!G144), 0),0)","v":0},{"$f":"IF(INTRO!$E$39<>\"Endemic\",0, IF(AND(COUNTRY_INFO!$I144=1,$F144<>0),IF(COUNTRY_INFO!N144>=(COUNTRY_INFO!F144+COUNTRY_INFO!G144),COUNTRY_INFO!F144+COUNTRY_INFO!G144,COUNTRY_INFO!$N144), 0))","v":66424},0,185987.19999999998,0,185987.19999999998,null,185987.19999999998]
[{"$f":"IF(INTRO!$E$39=\"Non-endemic\",\" \",IF(COUNTRY_INFO!A145=0,\" \",COUNTRY_INFO!A145))","v":"Cameroun"},{"$f":"IF(INTRO!$E$39=\"Non-endemic\",\" \",IF(COUNTRY_INFO!B145=0,\" \",COUNTRY_INFO!B145))","v":"Nord Ouest"},{"$f":"IF(INTRO!$E$39=\"Non-endemic\",\" \",IF(COUNTRY_INFO!C145=0,\" \",COUNTRY_INFO!C145))","v":"Benakuma"},{"$f":"IF(INTRO!$E$39=\"Non-endemic\",0,IF(INTRO!$E$39=\"Endemic but PC is not required\",IF(COUNTRY_INFO!$H145=1,COUNTRY_INFO!F145+COUNTRY_INFO!G145,0),IF(COUNTRY_INFO!$H145=1,COUNTRY_INFO!F145+COUNTRY_INFO!G145,IF(COUNTRY_INFO!$I145=1,IF(COUNTRY_INFO!N145>=(COUNTRY_INFO!F145+COUNTRY_INFO!G145),COUNTRY_INFO!F145+COUNTRY_INFO!G145,COUNTRY_INFO!$N145),0))))","v":47085},{"$f":"IF(AND(INTRO!$E$39=\"Non-endemic\",INTRO!$E$37=\"Non-endemic\"),\"Not required\",IF(INTRO!$E$39=\"Non-endemic\",\"Treat with DEC\",COUNTRY_INFO!W145))","v":0},{"$f":"IF(INTRO!$E$39<>\"Non-endemic\",COUNTRY_INFO!X145,\"Not required\")","v":1},{"$f":"IF(COUNTRY_INFO!H145=1, IF($E145=1,IF(ALB_MBD!$G145<>\" \",COUNTRY_INFO!F145+COUNTRY_INFO!G145-ALB_MBD!$G145,COUNTRY_INFO!F145+COUNTRY_INFO!G145), 0),0)","v":0},{"$f":"IF(INTRO!$E$39<>\"Endemic\",0, IF(AND(COUNTRY_INFO!$I145=1,$F145<>0),IF(COUNTRY_INFO!N145>=(COUNTRY_INFO!F145+COUNTRY_INFO!G145),COUNTRY_INFO!F145+COUNTRY_INFO!G145,COUNTRY_INFO!$N145), 0))","v":47085},0,131838,0,131838,null,131838]
[{"$f":"IF(INTRO!$E$39=\"Non-endemic\",\" \",IF(COUNTRY_INFO!A146=0,\" \",COUNTRY_INFO!A146))","v":"Cameroun"},{"$f":"IF(INTRO!$E$39=\"Non-endemic\",\" \",IF(COUNTRY_INFO!B146=0,\" \",COUNTRY_INFO!B146))","v":"Nord Ouest"},{"$f":"IF(INTRO!$E$39=\"Non-endemic\",\" \",IF(COUNTRY_INFO!C146=0,\" \",COUNTRY_INFO!C146))","v":"Fundong"},{"$f":"IF(INTRO!$E$39=\"Non-endemic\",0,IF(INTRO!$E$39=\"Endemic but PC is not required\",IF(COUNTRY_INFO!$H146=1,COUNTRY_INFO!F146+COUNTRY_INFO!G146,0),IF(COUNTRY_INFO!$H146=1,COUNTRY_INFO!F146+COUNTRY_INFO!G146,IF(COUNTRY_INFO!$I146=1,IF(COUNTRY_INFO!N146>=(COUNTRY_INFO!F146+COUNTRY_INFO!G146),COUNTRY_INFO!F146+COUNTRY_INFO!G146,COUNTRY_INFO!$N146),0))))","v":115853},{"$f":"IF(AND(INTRO!$E$39=\"Non-endemic\",INTRO!$E$37=\"Non-endemic\"),\"Not required\",IF(INTRO!$E$39=\"Non-endemic\",\"Treat with DEC\",COUNTRY_INFO!W146))","v":0},{"$f":"IF(INTRO!$E$39<>\"Non-endemic\",COUNTRY_INFO!X146,\"Not required\")","v":1},{"$f":"IF(COUNTRY_INFO!H146=1, IF($E146=1,IF(ALB_MBD!$G146<>\" \",COUNTRY_INFO!F146+COUNTRY_INFO!G146-ALB_MBD!$G146,COUNTRY_INFO!F146+COUNTRY_INFO!G146), 0),0)","v":0},{"$f":"IF(INTRO!$E$39<>\"Endemic\",0, IF(AND(COUNTRY_INFO!$I146=1,$F146<>0),IF(COUNTRY_INFO!N146>=(COUNTRY_INFO!F146+COUNTRY_INFO!G146),COUNTRY_INFO!F146+COUNTRY_INFO!G146,COUNTRY_INFO!$N146), 0))","v":115853},0,324388.39999999997,0,324388.39999999997,null,324388.39999999997]
[{"$f":"IF(INTRO!$E$39=\"Non-endemic\",\" \",IF(COUNTRY_INFO!A147=0,\" \",COUNTRY_INFO!A147))","v":"Cameroun"},{"$f":"IF(INTRO!$E$39=\"Non-endemic\",\" \",IF(COUNTRY_INFO!B147=0,\" \",COUNTRY_INFO!B147))","v":"Nord Ouest"},{"$f":"IF(INTRO!$E$39=\"Non-endemic\",\" \",IF(COUNTRY_INFO!C147=0,\" \",COUNTRY_INFO!C147))","v":"Kumbo East"},{"$f":"IF(INTRO!$E$39=\"Non-endemic\",0,IF(INTRO!$E$39=\"Endemic but PC is not required\",IF(COUNTRY_INFO!$H147=1,COUNTRY_INFO!F147+COUNTRY_INFO!G147,0),IF(COUNTRY_INFO!$H147=1,COUNTRY_INFO!F147+COUNTRY_INFO!G147,IF(COUNTRY_INFO!$I147=1,IF(COUNTRY_INFO!N147>=(COUNTRY_INFO!F147+COUNTRY_INFO!G147),COUNTRY_INFO!F147+COUNTRY_INFO!G147,COUNTRY_INFO!$N147),0))))","v":105998},{"$f":"IF(AND(INTRO!$E$39=\"Non-endemic\",INTRO!$E$37=\"Non-endemic\"),\"Not required\",IF(INTRO!$E$39=\"Non-endemic\",\"Treat with DEC\",COUNTRY_INFO!W147))","v":0},{"$f":"IF(INTRO!$E$39<>\"Non-endemic\",COUNTRY_INFO!X147,\"Not required\")","v":1},{"$f":"IF(COUNTRY_INFO!H147=1, IF($E147=1,IF(ALB_MBD!$G147<>\" \",COUNTRY_INFO!F147+COUNTRY_INFO!G147-ALB_MBD!$G147,COUNTRY_INFO!F147+COUNTRY_INFO!G147), 0),0)","v":0},{"$f":"IF(INTRO!$E$39<>\"Endemic\",0, IF(AND(COUNTRY_INFO!$I147=1,$F147<>0),IF(COUNTRY_INFO!N147>=(COUNTRY_INFO!F147+COUNTRY_INFO!G147),COUNTRY_INFO!F147+COUNTRY_INFO!G147,COUNTRY_INFO!$N147), 0))","v":105998},0,296794.39999999997,0,296794.39999999997,null,296794.39999999997]
[{"$f":"IF(INTRO!$E$39=\"Non-endemic\",\" \",IF(COUNTRY_INFO!A148=0,\" \",COUNTRY_INFO!A148))","v":"Cameroun"},{"$f":"IF(INTRO!$E$39=\"Non-endemic\",\" \",IF(COUNTRY_INFO!B148=0,\" \",COUNTRY_INFO!B148))","v":"Nord Ouest"},{"$f":"IF(INTRO!$E$39=\"Non-endemic\",\" \",IF(COUNTRY_INFO!C148=0,\" \",COUNTRY_INFO!C148))","v":"Kumbo West"},{"$f":"IF(INTRO!$E$39=\"Non-endemic\",0,IF(INTRO!$E$39=\"Endemic but PC is not required\",IF(COUNTRY_INFO!$H148=1,COUNTRY_INFO!F148+COUNTRY_INFO!G148,0),IF(COUNTRY_INFO!$H148=1,COUNTRY_INFO!F148+COUNTRY_INFO!G148,IF(COUNTRY_INFO!$I148=1,IF(COUNTRY_INFO!N148>=(COUNTRY_INFO!F148+COUNTRY_INFO!G148),COUNTRY_INFO!F148+COUNTRY_INFO!G148,COUNTRY_INFO!$N148),0))))","v":96249},{"$f":"IF(AND(INTRO!$E$39=\"Non-endemic\",INTRO!$E$37=\"Non-endemic\"),\"Not required\",IF(INTRO!$E$39=\"Non-endemic\",\"Treat with DEC\",COUNTRY_INFO!W148))","v":0},{"$f":"IF(INTRO!$E$39<>\"Non-endemic\",COUNTRY_INFO!X148,\"Not required\")","v":1},{"$f":"IF(COUNTRY_INFO!H148=1, IF($E148=1,IF(ALB_MBD!$G148<>\" \",COUNTRY_INFO!F148+COUNTRY_INFO!G148-ALB_MBD!$G148,COUNTRY_INFO!F148+COUNTRY_INFO!G148), 0),0)","v":0},{"$f":"IF(INTRO!$E$39<>\"Endemic\",0, IF(AND(COUNTRY_INFO!$I148=1,$F148<>0),IF(COUNTRY_INFO!N148>=(COUNTRY_INFO!F148+COUNTRY_INFO!G148),COUNTRY_INFO!F148+COUNTRY_INFO!G148,COUNTRY_INFO!$N148), 0))","v":96249},0,269497.2,0,269497.2,null,269497.2]
[{"$f":"IF(INTRO!$E$39=\"Non-endemic\",\" \",IF(COUNTRY_INFO!A149=0,\" \",COUNTRY_INFO!A149))","v":"Cameroun"},{"$f":"IF(INTRO!$E$39=\"Non-endemic\",\" \",IF(COUNTRY_INFO!B149=0,\" \",COUNTRY_INFO!B149))","v":"Nord Ouest"},{"$f":"IF(INTRO!$E$39=\"Non-endemic\",\" \",IF(COUNTRY_INFO!C149=0,\" \",COUNTRY_INFO!C149))","v":"Mbengwi"},{"$f":"IF(INTRO!$E$39=\"Non-endemic\",0,IF(INTRO!$E$39=\"Endemic but PC is not required\",IF(COUNTRY_INFO!$H149=1,COUNTRY_INFO!F149+COUNTRY_INFO!G149,0),IF(COUNTRY_INFO!$H149=1,COUNTRY_INFO!F149+COUNTRY_INFO!G149,IF(COUNTRY_INFO!$I149=1,IF(COUNTRY_INFO!N149>=(COUNTRY_INFO!F149+COUNTRY_INFO!G149),COUNTRY_INFO!F149+COUNTRY_INFO!G149,COUNTRY_INFO!$N149),0))))","v":40966},{"$f":"IF(AND(INTRO!$E$39=\"Non-endemic\",INTRO!$E$37=\"Non-endemic\"),\"Not required\",IF(INTRO!$E$39=\"Non-endemic\",\"Treat with DEC\",COUNTRY_INFO!W149))","v":0},{"$f":"IF(INTRO!$E$39<>\"Non-endemic\",COUNTRY_INFO!X149,\"Not required\")","v":1},{"$f":"IF(COUNTRY_INFO!H149=1, IF($E149=1,IF(ALB_MBD!$G149<>\" \",COUNTRY_INFO!F149+COUNTRY_INFO!G149-ALB_MBD!$G149,COUNTRY_INFO!F149+COUNTRY_INFO!G149), 0),0)","v":0},{"$f":"IF(INTRO!$E$39<>\"Endemic\",0, IF(AND(COUNTRY_INFO!$I149=1,$F149<>0),IF(COUNTRY_INFO!N149>=(COUNTRY_INFO!F149+COUNTRY_INFO!G149),COUNTRY_INFO!F149+COUNTRY_INFO!G149,COUNTRY_INFO!$N149), 0))","v":40966},0,114704.79999999999,0,114704.79999999999,null,114704.79999999999]
[{"$f":"IF(INTRO!$E$39=\"Non-endemic\",\" \",IF(COUNTRY_INFO!A150=0,\" \",COUNTRY_INFO!A150))","v":"Cameroun"},{"$f":"IF(INTRO!$E$39=\"Non-endemic\",\" \",IF(COUNTRY_INFO!B150=0,\" \",COUNTRY_INFO!B150))","v":"Nord Ouest"},{"$f":"IF(INTRO!$E$39=\"Non-endemic\",\" \",IF(COUNTRY_INFO!C150=0,\" \",COUNTRY_INFO!C150))","v":"Ndop"},{"$f":"IF(INTRO!$E$39=\"Non-endemic\",0,IF(INTRO!$E$39=\"Endemic but PC is not required\",IF(COUNTRY_INFO!$H150=1,COUNTRY_INFO!F150+COUNTRY_INFO!G150,0),IF(COUNTRY_INFO!$H150=1,COUNTRY_INFO!F150+COUNTRY_INFO!G150,IF(COUNTRY_INFO!$I150=1,IF(COUNTRY_INFO!N150>=(COUNTRY_INFO!F150+COUNTRY_INFO!G150),COUNTRY_INFO!F150+COUNTRY_INFO!G150,COUNTRY_INFO!$N150),0))))","v":170958},{"$f":"IF(AND(INTRO!$E$39=\"Non-endemic\",INTRO!$E$37=\"Non-endemic\"),\"Not required\",IF(INTRO!$E$39=\"Non-endemic\",\"Treat with DEC\",COUNTRY_INFO!W150))","v":0},{"$f":"IF(INTRO!$E$39<>\"Non-endemic\",COUNTRY_INFO!X150,\"Not required\")","v":1},{"$f":"IF(COUNTRY_INFO!H150=1, IF($E150=1,IF(ALB_MBD!$G150<>\" \",COUNTRY_INFO!F150+COUNTRY_INFO!G150-ALB_MBD!$G150,COUNTRY_INFO!F150+COUNTRY_INFO!G150), 0),0)","v":0},{"$f":"IF(INTRO!$E$39<>\"Endemic\",0, IF(AND(COUNTRY_INFO!$I150=1,$F150<>0),IF(COUNTRY_INFO!N150>=(COUNTRY_INFO!F150+COUNTRY_INFO!G150),COUNTRY_INFO!F150+COUNTRY_INFO!G150,COUNTRY_INFO!$N150), 0))","v":170958},0,478682.39999999997,0,478682.39999999997,null,478682.39999999997]
[{"$f":"IF(INTRO!$E$39=\"Non-endemic\",\" \",IF(COUNTRY_INFO!A151=0,\" \",COUNTRY_INFO!A151))","v":"Cameroun"},{"$f":"IF(INTRO!$E$39=\"Non-endemic\",\" \",IF(COUNTRY_INFO!B151=0,\" \",COUNTRY_INFO!B151))","v":"Nord Ouest"},{"$f":"IF(INTRO!$E$39=\"Non-endemic\",\" \",IF(COUNTRY_INFO!C151=0,\" \",COUNTRY_INFO!C151))","v":"Ndu"},{"$f":"IF(INTRO!$E$39=\"Non-endemic\",0,IF(INTRO!$E$39=\"Endemic but PC is not required\",IF(COUNTRY_INFO!$H151=1,COUNTRY_INFO!F151+COUNTRY_INFO!G151,0),IF(COUNTRY_INFO!$H151=1,COUNTRY_INFO!F151+COUNTRY_INFO!G151,IF(COUNTRY_INFO!$I151=1,IF(COUNTRY_INFO!N151>=(COUNTRY_INFO!F151+COUNTRY_INFO!G151),COUNTRY_INFO!F151+COUNTRY_INFO!G151,COUNTRY_INFO!$N151),0))))","v":62210},{"$f":"IF(AND(INTRO!$E$39=\"Non-endemic\",INTRO!$E$37=\"Non-endemic\"),\"Not required\",IF(INTRO!$E$39=\"Non-endemic\",\"Treat with DEC\",COUNTRY_INFO!W151))","v":0},{"$f":"IF(INTRO!$E$39<>\"Non-endemic\",COUNTRY_INFO!X151,\"Not required\")","v":1},{"$f":"IF(COUNTRY_INFO!H151=1, IF($E151=1,IF(ALB_MBD!$G151<>\" \",COUNTRY_INFO!F151+COUNTRY_INFO!G151-ALB_MBD!$G151,COUNTRY_INFO!F151+COUNTRY_INFO!G151), 0),0)","v":0},{"$f":"IF(INTRO!$E$39<>\"Endemic\",0, IF(AND(COUNTRY_INFO!$I151=1,$F151<>0),IF(COUNTRY_INFO!N151>=(COUNTRY_INFO!F151+COUNTRY_INFO!G151),COUNTRY_INFO!F151+COUNTRY_INFO!G151,COUNTRY_INFO!$N151), 0))","v":62210},0,174188,0,174188,null,174188]
[{"$f":"IF(INTRO!$E$39=\"Non-endemic\",\" \",IF(COUNTRY_INFO!A152=0,\" \",COUNTRY_INFO!A152))","v":"Cameroun"},{"$f":"IF(INTRO!$E$39=\"Non-endemic\",\" \",IF(COUNTRY_INFO!B152=0,\" \",COUNTRY_INFO!B152))","v":"Nord Ouest"},{"$f":"IF(INTRO!$E$39=\"Non-endemic\",\" \",IF(COUNTRY_INFO!C152=0,\" \",COUNTRY_INFO!C152))","v":"Njikwa"},{"$f":"IF(INTRO!$E$39=\"Non-endemic\",0,IF(INTRO!$E$39=\"Endemic but PC is not required\",IF(COUNTRY_INFO!$H152=1,COUNTRY_INFO!F152+COUNTRY_INFO!G152,0),IF(COUNTRY_INFO!$H152=1,COUNTRY_INFO!F152+COUNTRY_INFO!G152,IF(COUNTRY_INFO!$I152=1,IF(COUNTRY_INFO!N152>=(COUNTRY_INFO!F152+COUNTRY_INFO!G152),COUNTRY_INFO!F152+COUNTRY_INFO!G152,COUNTRY_INFO!$N152),0))))","v":20225},{"$f":"IF(AND(INTRO!$E$39=\"Non-endemic\",INTRO!$E$37=\"Non-endemic\"),\"Not required\",IF(INTRO!$E$39=\"Non-endemic\",\"Treat with DEC\",COUNTRY_INFO!W152))","v":0},{"$f":"IF(INTRO!$E$39<>\"Non-endemic\",COUNTRY_INFO!X152,\"Not required\")","v":1},{"$f":"IF(COUNTRY_INFO!H152=1, IF($E152=1,IF(ALB_MBD!$G152<>\" \",COUNTRY_INFO!F152+COUNTRY_INFO!G152-ALB_MBD!$G152,COUNTRY_INFO!F152+COUNTRY_INFO!G152), 0),0)","v":0},{"$f":"IF(INTRO!$E$39<>\"Endemic\",0, IF(AND(COUNTRY_INFO!$I152=1,$F152<>0),IF(COUNTRY_INFO!N152>=(COUNTRY_INFO!F152+COUNTRY_INFO!G152),COUNTRY_INFO!F152+COUNTRY_INFO!G152,COUNTRY_INFO!$N152), 0))","v":20225},0,56630,0,56630,null,56630]
[{"$f":"IF(INTRO!$E$39=\"Non-endemic\",\" \",IF(COUNTRY_INFO!A153=0,\" \",COUNTRY_INFO!A153))","v":"Cameroun"},{"$f":"IF(INTRO!$E$39=\"Non-endemic\",\" \",IF(COUNTRY_INFO!B153=0,\" \",COUNTRY_INFO!B153))","v":"Nord Ouest"},{"$f":"IF(INTRO!$E$39=\"Non-endemic\",\" \",IF(COUNTRY_INFO!C153=0,\" \",COUNTRY_INFO!C153))","v":"Nkambe"},{"$f":"IF(INTRO!$E$39=\"Non-endemic\",0,IF(INTRO!$E$39=\"Endemic but PC is not required\",IF(COUNTRY_INFO!$H153=1,COUNTRY_INFO!F153+COUNTRY_INFO!G153,0),IF(COUNTRY_INFO!$H153=1,COUNTRY_INFO!F153+COUNTRY_INFO!G153,IF(COUNTRY_INFO!$I153=1,IF(COUNTRY_INFO!N153>=(COUNTRY_INFO!F153+COUNTRY_INFO!G153),COUNTRY_INFO!F153+COUNTRY_INFO!G153,COUNTRY_INFO!$N153),0))))","v":112041},{"$f":"IF(AND(INTRO!$E$39=\"Non-endemic\",INTRO!$E$37=\"Non-endemic\"),\"Not required\",IF(INTRO!$E$39=\"Non-endemic\",\"Treat with DEC\",COUNTRY_INFO!W153))","v":0},{"$f":"IF(INTRO!$E$39<>\"Non-endemic\",COUNTRY_INFO!X153,\"Not required\")","v":1},{"$f":"IF(COUNTRY_INFO!H153=1, IF($E153=1,IF(ALB_MBD!$G153<>\" \",COUNTRY_INFO!F153+COUNTRY_INFO!G153-ALB_MBD!$G153,COUNTRY_INFO!F153+COUNTRY_INFO!G153), 0),0)","v":0},{"$f":"IF(INTRO!$E$39<>\"Endemic\",0, IF(AND(COUNTRY_INFO!$I153=1,$F153<>0),IF(COUNTRY_INFO!N153>=(COUNTRY_INFO!F153+COUNTRY_INFO!G153),COUNTRY_INFO!F153+COUNTRY_INFO!G153,COUNTRY_INFO!$N153), 0))","v":112041},0,313714.8,0,313714.8,null,313714.8]
[{"$f":"IF(INTRO!$E$39=\"Non-endemic\",\" \",IF(COUNTRY_INFO!A154=0,\" \",COUNTRY_INFO!A154))","v":"Cameroun"},{"$f":"IF(INTRO!$E$39=\"Non-endemic\",\" \",IF(COUNTRY_INFO!B154=0,\" \",COUNTRY_INFO!B154))","v":"Nord Ouest"},{"$f":"IF(INTRO!$E$39=\"Non-endemic\",\" \",IF(COUNTRY_INFO!C154=0,\" \",COUNTRY_INFO!C154))","v":"Nwa"},{"$f":"IF(INTRO!$E$39=\"Non-endemic\",0,IF(INTRO!$E$39=\"Endemic but PC is not required\",IF(COUNTRY_INFO!$H154=1,COUNTRY_INFO!F154+COUNTRY_INFO!G154,0),IF(COUNTRY_INFO!$H154=1,COUNTRY_INFO!F154+COUNTRY_INFO!G154,IF(COUNTRY_INFO!$I154=1,IF(COUNTRY_INFO!N154>=(COUNTRY_INFO!F154+COUNTRY_INFO!G154),COUNTRY_INFO!F154+COUNTRY_INFO!G154,COUNTRY_INFO!$N154),0))))","v":53940},{"$f":"IF(AND(INTRO!$E$39=\"Non-endemic\",INTRO!$E$37=\"Non-endemic\"),\"Not required\",IF(INTRO!$E$39=\"Non-endemic\",\"Treat with DEC\",COUNTRY_INFO!W154))","v":0},{"$f":"IF(INTRO!$E$39<>\"Non-endemic\",COUNTRY_INFO!X154,\"Not required\")","v":1},{"$f":"IF(COUNTRY_INFO!H154=1, IF($E154=1,IF(ALB_MBD!$G154<>\" \",COUNTRY_INFO!F154+COUNTRY_INFO!G154-ALB_MBD!$G154,COUNTRY_INFO!F154+COUNTRY_INFO!G154), 0),0)","v":0},{"$f":"IF(INTRO!$E$39<>\"Endemic\",0, IF(AND(COUNTRY_INFO!$I154=1,$F154<>0),IF(COUNTRY_INFO!N154>=(COUNTRY_INFO!F154+COUNTRY_INFO!G154),COUNTRY_INFO!F154+COUNTRY_INFO!G154,COUNTRY_INFO!$N154), 0))","v":53940},0,151032,0,151032,null,151032]
[{"$f":"IF(INTRO!$E$39=\"Non-endemic\",\" \",IF(COUNTRY_INFO!A155=0,\" \",COUNTRY_INFO!A155))","v":"Cameroun"},{"$f":"IF(INTRO!$E$39=\"Non-endemic\",\" \",IF(COUNTRY_INFO!B155=0,\" \",COUNTRY_INFO!B155))","v":"Nord Ouest"},{"$f":"IF(INTRO!$E$39=\"Non-endemic\",\" \",IF(COUNTRY_INFO!C155=0,\" \",COUNTRY_INFO!C155))","v":"Oku"},{"$f":"IF(INTRO!$E$39=\"Non-endemic\",0,IF(INTRO!$E$39=\"Endemic but PC is not required\",IF(COUNTRY_INFO!$H155=1,COUNTRY_INFO!F155+COUNTRY_INFO!G155,0),IF(COUNTRY_INFO!$H155=1,COUNTRY_INFO!F155+COUNTRY_INFO!G155,IF(COUNTRY_INFO!$I155=1,IF(COUNTRY_INFO!N155>=(COUNTRY_INFO!F155+COUNTRY_INFO!G155),COUNTRY_INFO!F155+COUNTRY_INFO!G155,COUNTRY_INFO!$N155),0))))","v":55870},{"$f":"IF(AND(INTRO!$E$39=\"Non-endemic\",INTRO!$E$37=\"Non-endemic\"),\"Not required\",IF(INTRO!$E$39=\"Non-endemic\",\"Treat with DEC\",COUNTRY_INFO!W155))","v":0},{"$f":"IF(INTRO!$E$39<>\"Non-endemic\",COUNTRY_INFO!X155,\"Not required\")","v":1},{"$f":"IF(COUNTRY_INFO!H155=1, IF($E155=1,IF(ALB_MBD!$G155<>\" \",COUNTRY_INFO!F155+COUNTRY_INFO!G155-ALB_MBD!$G155,COUNTRY_INFO!F155+COUNTRY_INFO!G155), 0),0)","v":0},{"$f":"IF(INTRO!$E$39<>\"Endemic\",0, IF(AND(COUNTRY_INFO!$I155=1,$F155<>0),IF(COUNTRY_INFO!N155>=(COUNTRY_INFO!F155+COUNTRY_INFO!G155),COUNTRY_INFO!F155+COUNTRY_INFO!G155,COUNTRY_INFO!$N155), 0))","v":55870},0,156436,0,156436,null,156436]
[{"$f":"IF(INTRO!$E$39=\"Non-endemic\",\" \",IF(COUNTRY_INFO!A156=0,\" \",COUNTRY_INFO!A156))","v":"Cameroun"},{"$f":"IF(INTRO!$E$39=\"Non-endemic\",\" \",IF(COUNTRY_INFO!B156=0,\" \",COUNTRY_INFO!B156))","v":"Nord Ouest"},{"$f":"IF(INTRO!$E$39=\"Non-endemic\",\" \",IF(COUNTRY_INFO!C156=0,\" \",COUNTRY_INFO!C156))","v":"Santa"},{"$f":"IF(INTRO!$E$39=\"Non-endemic\",0,IF(INTRO!$E$39=\"Endemic but PC is not required\",IF(COUNTRY_INFO!$H156=1,COUNTRY_INFO!F156+COUNTRY_INFO!G156,0),IF(COUNTRY_INFO!$H156=1,COUNTRY_INFO!F156+COUNTRY_INFO!G156,IF(COUNTRY_INFO!$I156=1,IF(COUNTRY_INFO!N156>=(COUNTRY_INFO!F156+COUNTRY_INFO!G156),COUNTRY_INFO!F156+COUNTRY_INFO!G156,COUNTRY_INFO!$N156),0))))","v":69595},{"$f":"IF(AND(INTRO!$E$39=\"Non-endemic\",INTRO!$E$37=\"Non-endemic\"),\"Not required\",IF(INTRO!$E$39=\"Non-endemic\",\"Treat with DEC\",COUNTRY_INFO!W156))","v":0},{"$f":"IF(INTRO!$E$39<>\"Non-endemic\",COUNTRY_INFO!X156,\"Not required\")","v":1},{"$f":"IF(COUNTRY_INFO!H156=1, IF($E156=1,IF(ALB_MBD!$G156<>\" \",COUNTRY_INFO!F156+COUNTRY_INFO!G156-ALB_MBD!$G156,COUNTRY_INFO!F156+COUNTRY_INFO!G156), 0),0)","v":0},{"$f":"IF(INTRO!$E$39<>\"Endemic\",0, IF(AND(COUNTRY_INFO!$I156=1,$F156<>0),IF(COUNTRY_INFO!N156>=(COUNTRY_INFO!F156+COUNTRY_INFO!G156),COUNTRY_INFO!F156+COUNTRY_INFO!G156,COUNTRY_INFO!$N156), 0))","v":69595},0,194866,0,194866,null,194866]
[{"$f":"IF(INTRO!$E$39=\"Non-endemic\",\" \",IF(COUNTRY_INFO!A157=0,\" \",COUNTRY_INFO!A157))","v":"Cameroun"},{"$f":"IF(INTRO!$E$39=\"Non-endemic\",\" \",IF(COUNTRY_INFO!B157=0,\" \",COUNTRY_INFO!B157))","v":"Nord Ouest"},{"$f":"IF(INTRO!$E$39=\"Non-endemic\",\" \",IF(COUNTRY_INFO!C157=0,\" \",COUNTRY_INFO!C157))","v":"Tubah"},{"$f":"IF(INTRO!$E$39=\"Non-endemic\",0,IF(INTRO!$E$39=\"Endemic but PC is not required\",IF(COUNTRY_INFO!$H157=1,COUNTRY_INFO!F157+COUNTRY_INFO!G157,0),IF(COUNTRY_INFO!$H157=1,COUNTRY_INFO!F157+COUNTRY_INFO!G157,IF(COUNTRY_INFO!$I157=1,IF(COUNTRY_INFO!N157>=(COUNTRY_INFO!F157+COUNTRY_INFO!G157),COUNTRY_INFO!F157+COUNTRY_INFO!G157,COUNTRY_INFO!$N157),0))))","v":54716},{"$f":"IF(AND(INTRO!$E$39=\"Non-endemic\",INTRO!$E$37=\"Non-endemic\"),\"Not required\",IF(INTRO!$E$39=\"Non-endemic\",\"Treat with DEC\",COUNTRY_INFO!W157))","v":0},{"$f":"IF(INTRO!$E$39<>\"Non-endemic\",COUNTRY_INFO!X157,\"Not required\")","v":1},{"$f":"IF(COUNTRY_INFO!H157=1, IF($E157=1,IF(ALB_MBD!$G157<>\" \",COUNTRY_INFO!F157+COUNTRY_INFO!G157-ALB_MBD!$G157,COUNTRY_INFO!F157+COUNTRY_INFO!G157), 0),0)","v":0},{"$f":"IF(INTRO!$E$39<>\"Endemic\",0, IF(AND(COUNTRY_INFO!$I157=1,$F157<>0),IF(COUNTRY_INFO!N157>=(COUNTRY_INFO!F157+COUNTRY_INFO!G157),COUNTRY_INFO!F157+COUNTRY_INFO!G157,COUNTRY_INFO!$N157), 0))","v":54716},0,153204.79999999999,0,153204.79999999999,null,153204.79999999999]
[{"$f":"IF(INTRO!$E$39=\"Non-endemic\",\" \",IF(COUNTRY_INFO!A158=0,\" \",COUNTRY_INFO!A158))","v":"Cameroun"},{"$f":"IF(INTRO!$E$39=\"Non-endemic\",\" \",IF(COUNTRY_INFO!B158=0,\" \",COUNTRY_INFO!B158))","v":"Nord Ouest"},{"$f":"IF(INTRO!$E$39=\"Non-endemic\",\" \",IF(COUNTRY_INFO!C158=0,\" \",COUNTRY_INFO!C158))","v":"Wum"},{"$f":"IF(INTRO!$E$39=\"Non-endemic\",0,IF(INTRO!$E$39=\"Endemic but PC is not required\",IF(COUNTRY_INFO!$H158=1,COUNTRY_INFO!F158+COUNTRY_INFO!G158,0),IF(COUNTRY_INFO!$H158=1,COUNTRY_INFO!F158+COUNTRY_INFO!G158,IF(COUNTRY_INFO!$I158=1,IF(COUNTRY_INFO!N158>=(COUNTRY_INFO!F158+COUNTRY_INFO!G158),COUNTRY_INFO!F158+COUNTRY_INFO!G158,COUNTRY_INFO!$N158),0))))","v":102346},{"$f":"IF(AND(INTRO!$E$39=\"Non-endemic\",INTRO!$E$37=\"Non-endemic\"),\"Not required\",IF(INTRO!$E$39=\"Non-endemic\",\"Treat with DEC\",COUNTRY_INFO!W158))","v":0},{"$f":"IF(INTRO!$E$39<>\"Non-endemic\",COUNTRY_INFO!X158,\"Not required\")","v":1},{"$f":"IF(COUNTRY_INFO!H158=1, IF($E158=1,IF(ALB_MBD!$G158<>\" \",COUNTRY_INFO!F158+COUNTRY_INFO!G158-ALB_MBD!$G158,COUNTRY_INFO!F158+COUNTRY_INFO!G158), 0),0)","v":0},{"$f":"IF(INTRO!$E$39<>\"Endemic\",0, IF(AND(COUNTRY_INFO!$I158=1,$F158<>0),IF(COUNTRY_INFO!N158>=(COUNTRY_INFO!F158+COUNTRY_INFO!G158),COUNTRY_INFO!F158+COUNTRY_INFO!G158,COUNTRY_INFO!$N158), 0))","v":102346},0,286568.8,0,286568.8,null,286568.8]
[{"$f":"IF(INTRO!$E$39=\"Non-endemic\",\" \",IF(COUNTRY_INFO!A159=0,\" \",COUNTRY_INFO!A159))","v":"Cameroun"},{"$f":"IF(INTRO!$E$39=\"Non-endemic\",\" \",IF(COUNTRY_INFO!B159=0,\" \",COUNTRY_INFO!B159))","v":"Ouest"},{"$f":"IF(INTRO!$E$39=\"Non-endemic\",\" \",IF(COUNTRY_INFO!C159=0,\" \",COUNTRY_INFO!C159))","v":"Bafang"},{"$f":"IF(INTRO!$E$39=\"Non-endemic\",0,IF(INTRO!$E$39=\"Endemic but PC is not required\",IF(COUNTRY_INFO!$H159=1,COUNTRY_INFO!F159+COUNTRY_INFO!G159,0),IF(COUNTRY_INFO!$H159=1,COUNTRY_INFO!F159+COUNTRY_INFO!G159,IF(COUNTRY_INFO!$I159=1,IF(COUNTRY_INFO!N159>=(COUNTRY_INFO!F159+COUNTRY_INFO!G159),COUNTRY_INFO!F159+COUNTRY_INFO!G159,COUNTRY_INFO!$N159),0))))","v":73549},{"$f":"IF(AND(INTRO!$E$39=\"Non-endemic\",INTRO!$E$37=\"Non-endemic\"),\"Not required\",IF(INTRO!$E$39=\"Non-endemic\",\"Treat with DEC\",COUNTRY_INFO!W159))","v":0},{"$f":"IF(INTRO!$E$39<>\"Non-endemic\",COUNTRY_INFO!X159,\"Not required\")","v":1},{"$f":"IF(COUNTRY_INFO!H159=1, IF($E159=1,IF(ALB_MBD!$G159<>\" \",COUNTRY_INFO!F159+COUNTRY_INFO!G159-ALB_MBD!$G159,COUNTRY_INFO!F159+COUNTRY_INFO!G159), 0),0)","v":0},{"$f":"IF(INTRO!$E$39<>\"Endemic\",0, IF(AND(COUNTRY_INFO!$I159=1,$F159<>0),IF(COUNTRY_INFO!N159>=(COUNTRY_INFO!F159+COUNTRY_INFO!G159),COUNTRY_INFO!F159+COUNTRY_INFO!G159,COUNTRY_INFO!$N159), 0))","v":73549},0,205937.19999999998,0,205937.19999999998,null,205937.19999999998]
[{"$f":"IF(INTRO!$E$39=\"Non-endemic\",\" \",IF(COUNTRY_INFO!A160=0,\" \",COUNTRY_INFO!A160))","v":"Cameroun"},{"$f":"IF(INTRO!$E$39=\"Non-endemic\",\" \",IF(COUNTRY_INFO!B160=0,\" \",COUNTRY_INFO!B160))","v":"Ouest"},{"$f":"IF(INTRO!$E$39=\"Non-endemic\",\" \",IF(COUNTRY_INFO!C160=0,\" \",COUNTRY_INFO!C160))","v":"Baham"},{"$f":"IF(INTRO!$E$39=\"Non-endemic\",0,IF(INTRO!$E$39=\"Endemic but PC is not required\",IF(COUNTRY_INFO!$H160=1,COUNTRY_INFO!F160+COUNTRY_INFO!G160,0),IF(COUNTRY_INFO!$H160=1,COUNTRY_INFO!F160+COUNTRY_INFO!G160,IF(COUNTRY_INFO!$I160=1,IF(COUNTRY_INFO!N160>=(COUNTRY_INFO!F160+COUNTRY_INFO!G160),COUNTRY_INFO!F160+COUNTRY_INFO!G160,COUNTRY_INFO!$N160),0))))","v":41956},{"$f":"IF(AND(INTRO!$E$39=\"Non-endemic\",INTRO!$E$37=\"Non-endemic\"),\"Not required\",IF(INTRO!$E$39=\"Non-endemic\",\"Treat with DEC\",COUNTRY_INFO!W160))","v":0},{"$f":"IF(INTRO!$E$39<>\"Non-endemic\",COUNTRY_INFO!X160,\"Not required\")","v":1},{"$f":"IF(COUNTRY_INFO!H160=1, IF($E160=1,IF(ALB_MBD!$G160<>\" \",COUNTRY_INFO!F160+COUNTRY_INFO!G160-ALB_MBD!$G160,COUNTRY_INFO!F160+COUNTRY_INFO!G160), 0),0)","v":0},{"$f":"IF(INTRO!$E$39<>\"Endemic\",0, IF(AND(COUNTRY_INFO!$I160=1,$F160<>0),IF(COUNTRY_INFO!N160>=(COUNTRY_INFO!F160+COUNTRY_INFO!G160),COUNTRY_INFO!F160+COUNTRY_INFO!G160,COUNTRY_INFO!$N160), 0))","v":41956},0,117476.79999999999,0,117476.79999999999,null,117476.79999999999]
[{"$f":"IF(INTRO!$E$39=\"Non-endemic\",\" \",IF(COUNTRY_INFO!A161=0,\" \",COUNTRY_INFO!A161))","v":"Cameroun"},{"$f":"IF(INTRO!$E$39=\"Non-endemic\",\" \",IF(COUNTRY_INFO!B161=0,\" \",COUNTRY_INFO!B161))","v":"Ouest"},{"$f":"IF(INTRO!$E$39=\"Non-endemic\",\" \",IF(COUNTRY_INFO!C161=0,\" \",COUNTRY_INFO!C161))","v":"Bamendjou"},{"$f":"IF(INTRO!$E$39=\"Non-endemic\",0,IF(INTRO!$E$39=\"Endemic but PC is not required\",IF(COUNTRY_INFO!$H161=1,COUNTRY_INFO!F161+COUNTRY_INFO!G161,0),IF(COUNTRY_INFO!$H161=1,COUNTRY_INFO!F161+COUNTRY_INFO!G161,IF(COUNTRY_INFO!$I161=1,IF(COUNTRY_INFO!N161>=(COUNTRY_INFO!F161+COUNTRY_INFO!G161),COUNTRY_INFO!F161+COUNTRY_INFO!G161,COUNTRY_INFO!$N161),0))))","v":38537},{"$f":"IF(AND(INTRO!$E$39=\"Non-endemic\",INTRO!$E$37=\"Non-endemic\"),\"Not required\",IF(INTRO!$E$39=\"Non-endemic\",\"Treat with DEC\",COUNTRY_INFO!W161))","v":0},{"$f":"IF(INTRO!$E$39<>\"Non-endemic\",COUNTRY_INFO!X161,\"Not required\")","v":1},{"$f":"IF(COUNTRY_INFO!H161=1, IF($E161=1,IF(ALB_MBD!$G161<>\" \",COUNTRY_INFO!F161+COUNTRY_INFO!G161-ALB_MBD!$G161,COUNTRY_INFO!F161+COUNTRY_INFO!G161), 0),0)","v":0},{"$f":"IF(INTRO!$E$39<>\"Endemic\",0, IF(AND(COUNTRY_INFO!$I161=1,$F161<>0),IF(COUNTRY_INFO!N161>=(COUNTRY_INFO!F161+COUNTRY_INFO!G161),COUNTRY_INFO!F161+COUNTRY_INFO!G161,COUNTRY_INFO!$N161), 0))","v":38537},0,107903.59999999999,0,107903.59999999999,null,107903.59999999999]
[{"$f":"IF(INTRO!$E$39=\"Non-endemic\",\" \",IF(COUNTRY_INFO!A162=0,\" \",COUNTRY_INFO!A162))","v":"Cameroun"},{"$f":"IF(INTRO!$E$39=\"Non-endemic\",\" \",IF(COUNTRY_INFO!B162=0,\" \",COUNTRY_INFO!B162))","v":"Ouest"},{"$f":"IF(INTRO!$E$39=\"Non-endemic\",\" \",IF(COUNTRY_INFO!C162=0,\" \",COUNTRY_INFO!C162))","v":"Bandja"},{"$f":"IF(INTRO!$E$39=\"Non-endemic\",0,IF(INTRO!$E$39=\"Endemic but PC is not required\",IF(COUNTRY_INFO!$H162=1,COUNTRY_INFO!F162+COUNTRY_INFO!G162,0),IF(COUNTRY_INFO!$H162=1,COUNTRY_INFO!F162+COUNTRY_INFO!G162,IF(COUNTRY_INFO!$I162=1,IF(COUNTRY_INFO!N162>=(COUNTRY_INFO!F162+COUNTRY_INFO!G162),COUNTRY_INFO!F162+COUNTRY_INFO!G162,COUNTRY_INFO!$N162),0))))","v":25666},{"$f":"IF(AND(INTRO!$E$39=\"Non-endemic\",INTRO!$E$37=\"Non-endemic\"),\"Not required\",IF(INTRO!$E$39=\"Non-endemic\",\"Treat with DEC\",COUNTRY_INFO!W162))","v":0},{"$f":"IF(INTRO!$E$39<>\"Non-endemic\",COUNTRY_INFO!X162,\"Not required\")","v":1},{"$f":"IF(COUNTRY_INFO!H162=1, IF($E162=1,IF(ALB_MBD!$G162<>\" \",COUNTRY_INFO!F162+COUNTRY_INFO!G162-ALB_MBD!$G162,COUNTRY_INFO!F162+COUNTRY_INFO!G162), 0),0)","v":0},{"$f":"IF(INTRO!$E$39<>\"Endemic\",0, IF(AND(COUNTRY_INFO!$I162=1,$F162<>0),IF(COUNTRY_INFO!N162>=(COUNTRY_INFO!F162+COUNTRY_INFO!G162),COUNTRY_INFO!F162+COUNTRY_INFO!G162,COUNTRY_INFO!$N162), 0))","v":25666},0,71864.799999999988,0,71864.799999999988,null,71864.799999999988]
[{"$f":"IF(INTRO!$E$39=\"Non-endemic\",\" \",IF(COUNTRY_INFO!A163=0,\" \",COUNTRY_INFO!A163))","v":"Cameroun"},{"$f":"IF(INTRO!$E$39=\"Non-endemic\",\" \",IF(COUNTRY_INFO!B163=0,\" \",COUNTRY_INFO!B163))","v":"Ouest"},{"$f":"IF(INTRO!$E$39=\"Non-endemic\",\" \",IF(COUNTRY_INFO!C163=0,\" \",COUNTRY_INFO!C163))","v":"Bandjoun"},{"$f":"IF(INTRO!$E$39=\"Non-endemic\",0,IF(INTRO!$E$39=\"Endemic but PC is not required\",IF(COUNTRY_INFO!$H163=1,COUNTRY_INFO!F163+COUNTRY_INFO!G163,0),IF(COUNTRY_INFO!$H163=1,COUNTRY_INFO!F163+COUNTRY_INFO!G163,IF(COUNTRY_INFO!$I163=1,IF(COUNTRY_INFO!N163>=(COUNTRY_INFO!F163+COUNTRY_INFO!G163),COUNTRY_INFO!F163+COUNTRY_INFO!G163,COUNTRY_INFO!$N163),0))))","v":88176},{"$f":"IF(AND(INTRO!$E$39=\"Non-endemic\",INTRO!$E$37=\"Non-endemic\"),\"Not required\",IF(INTRO!$E$39=\"Non-endemic\",\"Treat with DEC\",COUNTRY_INFO!W163))","v":0},{"$f":"IF(INTRO!$E$39<>\"Non-endemic\",COUNTRY_INFO!X163,\"Not required\")","v":1},{"$f":"IF(COUNTRY_INFO!H163=1, IF($E163=1,IF(ALB_MBD!$G163<>\" \",COUNTRY_INFO!F163+COUNTRY_INFO!G163-ALB_MBD!$G163,COUNTRY_INFO!F163+COUNTRY_INFO!G163), 0),0)","v":0},{"$f":"IF(INTRO!$E$39<>\"Endemic\",0, IF(AND(COUNTRY_INFO!$I163=1,$F163<>0),IF(COUNTRY_INFO!N163>=(COUNTRY_INFO!F163+COUNTRY_INFO!G163),COUNTRY_INFO!F163+COUNTRY_INFO!G163,COUNTRY_INFO!$N163), 0))","v":88176},0,246892.79999999999,0,246892.79999999999,null,246892.79999999999]
[{"$f":"IF(INTRO!$E$39=\"Non-endemic\",\" \",IF(COUNTRY_INFO!A164=0,\" \",COUNTRY_INFO!A164))","v":"Cameroun"},{"$f":"IF(INTRO!$E$39=\"Non-endemic\",\" \",IF(COUNTRY_INFO!B164=0,\" \",COUNTRY_INFO!B164))","v":"Ouest"},{"$f":"IF(INTRO!$E$39=\"Non-endemic\",\" \",IF(COUNTRY_INFO!C164=0,\" \",COUNTRY_INFO!C164))","v":"Bangangte"},{"$f":"IF(INTRO!$E$39=\"Non-endemic\",0,IF(INTRO!$E$39=\"Endemic but PC is not required\",IF(COUNTRY_INFO!$H164=1,COUNTRY_INFO!F164+COUNTRY_INFO!G164,0),IF(COUNTRY_INFO!$H164=1,COUNTRY_INFO!F164+COUNTRY_INFO!G164,IF(COUNTRY_INFO!$I164=1,IF(COUNTRY_INFO!N164>=(COUNTRY_INFO!F164+COUNTRY_INFO!G164),COUNTRY_INFO!F164+COUNTRY_INFO!G164,COUNTRY_INFO!$N164),0))))","v":108043},{"$f":"IF(AND(INTRO!$E$39=\"Non-endemic\",INTRO!$E$37=\"Non-endemic\"),\"Not required\",IF(INTRO!$E$39=\"Non-endemic\",\"Treat with DEC\",COUNTRY_INFO!W164))","v":0},{"$f":"IF(INTRO!$E$39<>\"Non-endemic\",COUNTRY_INFO!X164,\"Not required\")","v":1},{"$f":"IF(COUNTRY_INFO!H164=1, IF($E164=1,IF(ALB_MBD!$G164<>\" \",COUNTRY_INFO!F164+COUNTRY_INFO!G164-ALB_MBD!$G164,COUNTRY_INFO!F164+COUNTRY_INFO!G164), 0),0)","v":0},{"$f":"IF(INTRO!$E$39<>\"Endemic\",0, IF(AND(COUNTRY_INFO!$I164=1,$F164<>0),IF(COUNTRY_INFO!N164>=(COUNTRY_INFO!F164+COUNTRY_INFO!G164),COUNTRY_INFO!F164+COUNTRY_INFO!G164,COUNTRY_INFO!$N164), 0))","v":108043},0,302520.39999999997,0,302520.39999999997,null,302520.39999999997]
[{"$f":"IF(INTRO!$E$39=\"Non-endemic\",\" \",IF(COUNTRY_INFO!A165=0,\" \",COUNTRY_INFO!A165))","v":"Cameroun"},{"$f":"IF(INTRO!$E$39=\"Non-endemic\",\" \",IF(COUNTRY_INFO!B165=0,\" \",COUNTRY_INFO!B165))","v":"Ouest"},{"$f":"IF(INTRO!$E$39=\"Non-endemic\",\" \",IF(COUNTRY_INFO!C165=0,\" \",COUNTRY_INFO!C165))","v":"Bangourain"},{"$f":"IF(INTRO!$E$39=\"Non-endemic\",0,IF(INTRO!$E$39=\"Endemic but PC is not required\",IF(COUNTRY_INFO!$H165=1,COUNTRY_INFO!F165+COUNTRY_INFO!G165,0),IF(COUNTRY_INFO!$H165=1,COUNTRY_INFO!F165+COUNTRY_INFO!G165,IF(COUNTRY_INFO!$I165=1,IF(COUNTRY_INFO!N165>=(COUNTRY_INFO!F165+COUNTRY_INFO!G165),COUNTRY_INFO!F165+COUNTRY_INFO!G165,COUNTRY_INFO!$N165),0))))","v":47318},{"$f":"IF(AND(INTRO!$E$39=\"Non-endemic\",INTRO!$E$37=\"Non-endemic\"),\"Not required\",IF(INTRO!$E$39=\"Non-endemic\",\"Treat with DEC\",COUNTRY_INFO!W165))","v":0},{"$f":"IF(INTRO!$E$39<>\"Non-endemic\",COUNTRY_INFO!X165,\"Not required\")","v":1},{"$f":"IF(COUNTRY_INFO!H165=1, IF($E165=1,IF(ALB_MBD!$G165<>\" \",COUNTRY_INFO!F165+COUNTRY_INFO!G165-ALB_MBD!$G165,COUNTRY_INFO!F165+COUNTRY_INFO!G165), 0),0)","v":0},{"$f":"IF(INTRO!$E$39<>\"Endemic\",0, IF(AND(COUNTRY_INFO!$I165=1,$F165<>0),IF(COUNTRY_INFO!N165>=(COUNTRY_INFO!F165+COUNTRY_INFO!G165),COUNTRY_INFO!F165+COUNTRY_INFO!G165,COUNTRY_INFO!$N165), 0))","v":47318},0,132490.4,0,132490.4,null,132490.4]
[{"$f":"IF(INTRO!$E$39=\"Non-endemic\",\" \",IF(COUNTRY_INFO!A166=0,\" \",COUNTRY_INFO!A166))","v":"Cameroun"},{"$f":"IF(INTRO!$E$39=\"Non-endemic\",\" \",IF(COUNTRY_INFO!B166=0,\" \",COUNTRY_INFO!B166))","v":"Ouest"},{"$f":"IF(INTRO!$E$39=\"Non-endemic\",\" \",IF(COUNTRY_INFO!C166=0,\" \",COUNTRY_INFO!C166))","v":"Batcham"},{"$f":"IF(INTRO!$E$39=\"Non-endemic\",0,IF(INTRO!$E$39=\"Endemic but PC is not required\",IF(COUNTRY_INFO!$H166=1,COUNTRY_INFO!F166+COUNTRY_INFO!G166,0),IF(COUNTRY_INFO!$H166=1,COUNTRY_INFO!F166+COUNTRY_INFO!G166,IF(COUNTRY_INFO!$I166=1,IF(COUNTRY_INFO!N166>=(COUNTRY_INFO!F166+COUNTRY_INFO!G166),COUNTRY_INFO!F166+COUNTRY_INFO!G166,COUNTRY_INFO!$N166),0))))","v":82293},{"$f":"IF(AND(INTRO!$E$39=\"Non-endemic\",INTRO!$E$37=\"Non-endemic\"),\"Not required\",IF(INTRO!$E$39=\"Non-endemic\",\"Treat with DEC\",COUNTRY_INFO!W166))","v":0},{"$f":"IF(INTRO!$E$39<>\"Non-endemic\",COUNTRY_INFO!X166,\"Not required\")","v":1},{"$f":"IF(COUNTRY_INFO!H166=1, IF($E166=1,IF(ALB_MBD!$G166<>\" \",COUNTRY_INFO!F166+COUNTRY_INFO!G166-ALB_MBD!$G166,COUNTRY_INFO!F166+COUNTRY_INFO!G166), 0),0)","v":0},{"$f":"IF(INTRO!$E$39<>\"Endemic\",0, IF(AND(COUNTRY_INFO!$I166=1,$F166<>0),IF(COUNTRY_INFO!N166>=(COUNTRY_INFO!F166+COUNTRY_INFO!G166),COUNTRY_INFO!F166+COUNTRY_INFO!G166,COUNTRY_INFO!$N166), 0))","v":82293},0,230420.4,0,230420.4,null,230420.4]
[{"$f":"IF(INTRO!$E$39=\"Non-endemic\",\" \",IF(COUNTRY_INFO!A167=0,\" \",COUNTRY_INFO!A167))","v":"Cameroun"},{"$f":"IF(INTRO!$E$39=\"Non-endemic\",\" \",IF(COUNTRY_INFO!B167=0,\" \",COUNTRY_INFO!B167))","v":"Ouest"},{"$f":"IF(INTRO!$E$39=\"Non-endemic\",\" \",IF(COUNTRY_INFO!C167=0,\" \",COUNTRY_INFO!C167))","v":"Dschang"},{"$f":"IF(INTRO!$E$39=\"Non-endemic\",0,IF(INTRO!$E$39=\"Endemic but PC is not required\",IF(COUNTRY_INFO!$H167=1,COUNTRY_INFO!F167+COUNTRY_INFO!G167,0),IF(COUNTRY_INFO!$H167=1,COUNTRY_INFO!F167+COUNTRY_INFO!G167,IF(COUNTRY_INFO!$I167=1,IF(COUNTRY_INFO!N167>=(COUNTRY_INFO!F167+COUNTRY_INFO!G167),COUNTRY_INFO!F167+COUNTRY_INFO!G167,COUNTRY_INFO!$N167),0))))","v":215818},{"$f":"IF(AND(INTRO!$E$39=\"Non-endemic\",INTRO!$E$37=\"Non-endemic\"),\"Not required\",IF(INTRO!$E$39=\"Non-endemic\",\"Treat with DEC\",COUNTRY_INFO!W167))","v":0},{"$f":"IF(INTRO!$E$39<>\"Non-endemic\",COUNTRY_INFO!X167,\"Not required\")","v":1},{"$f":"IF(COUNTRY_INFO!H167=1, IF($E167=1,IF(ALB_MBD!$G167<>\" \",COUNTRY_INFO!F167+COUNTRY_INFO!G167-ALB_MBD!$G167,COUNTRY_INFO!F167+COUNTRY_INFO!G167), 0),0)","v":0},{"$f":"IF(INTRO!$E$39<>\"Endemic\",0, IF(AND(COUNTRY_INFO!$I167=1,$F167<>0),IF(COUNTRY_INFO!N167>=(COUNTRY_INFO!F167+COUNTRY_INFO!G167),COUNTRY_INFO!F167+COUNTRY_INFO!G167,COUNTRY_INFO!$N167), 0))","v":215818},0,604290.39999999991,0,604290.39999999991,null,604290.39999999991]
[{"$f":"IF(INTRO!$E$39=\"Non-endemic\",\" \",IF(COUNTRY_INFO!A168=0,\" \",COUNTRY_INFO!A168))","v":"Cameroun"},{"$f":"IF(INTRO!$E$39=\"Non-endemic\",\" \",IF(COUNTRY_INFO!B168=0,\" \",COUNTRY_INFO!B168))","v":"Ouest"},{"$f":"IF(INTRO!$E$39=\"Non-endemic\",\" \",IF(COUNTRY_INFO!C168=0,\" \",COUNTRY_INFO!C168))","v":"Foumban"},{"$f":"IF(INTRO!$E$39=\"Non-endemic\",0,IF(INTRO!$E$39=\"Endemic but PC is not required\",IF(COUNTRY_INFO!$H168=1,COUNTRY_INFO!F168+COUNTRY_INFO!G168,0),IF(COUNTRY_INFO!$H168=1,COUNTRY_INFO!F168+COUNTRY_INFO!G168,IF(COUNTRY_INFO!$I168=1,IF(COUNTRY_INFO!N168>=(COUNTRY_INFO!F168+COUNTRY_INFO!G168),COUNTRY_INFO!F168+COUNTRY_INFO!G168,COUNTRY_INFO!$N168),0))))","v":230974},{"$f":"IF(AND(INTRO!$E$39=\"Non-endemic\",INTRO!$E$37=\"Non-endemic\"),\"Not required\",IF(INTRO!$E$39=\"Non-endemic\",\"Treat with DEC\",COUNTRY_INFO!W168))","v":0},{"$f":"IF(INTRO!$E$39<>\"Non-endemic\",COUNTRY_INFO!X168,\"Not required\")","v":1},{"$f":"IF(COUNTRY_INFO!H168=1, IF($E168=1,IF(ALB_MBD!$G168<>\" \",COUNTRY_INFO!F168+COUNTRY_INFO!G168-ALB_MBD!$G168,COUNTRY_INFO!F168+COUNTRY_INFO!G168), 0),0)","v":0},{"$f":"IF(INTRO!$E$39<>\"Endemic\",0, IF(AND(COUNTRY_INFO!$I168=1,$F168<>0),IF(COUNTRY_INFO!N168>=(COUNTRY_INFO!F168+COUNTRY_INFO!G168),COUNTRY_INFO!F168+COUNTRY_INFO!G168,COUNTRY_INFO!$N168), 0))","v":230974},0,646727.19999999995,0,646727.19999999995,null,646727.19999999995]
[{"$f":"IF(INTRO!$E$39=\"Non-endemic\",\" \",IF(COUNTRY_INFO!A169=0,\" \",COUNTRY_INFO!A169))","v":"Cameroun"},{"$f":"IF(INTRO!$E$39=\"Non-endemic\",\" \",IF(COUNTRY_INFO!B169=0,\" \",COUNTRY_INFO!B169))","v":"Ouest"},{"$f":"IF(INTRO!$E$39=\"Non-endemic\",\" \",IF(COUNTRY_INFO!C169=0,\" \",COUNTRY_INFO!C169))","v":"Foumbot"},{"$f":"IF(INTRO!$E$39=\"Non-endemic\",0,IF(INTRO!$E$39=\"Endemic but PC is not required\",IF(COUNTRY_INFO!$H169=1,COUNTRY_INFO!F169+COUNTRY_INFO!G169,0),IF(COUNTRY_INFO!$H169=1,COUNTRY_INFO!F169+COUNTRY_INFO!G169,IF(COUNTRY_INFO!$I169=1,IF(COUNTRY_INFO!N169>=(COUNTRY_INFO!F169+COUNTRY_INFO!G169),COUNTRY_INFO!F169+COUNTRY_INFO!G169,COUNTRY_INFO!$N169),0))))","v":122707},{"$f":"IF(AND(INTRO!$E$39=\"Non-endemic\",INTRO!$E$37=\"Non-endemic\"),\"Not required\",IF(INTRO!$E$39=\"Non-endemic\",\"Treat with DEC\",COUNTRY_INFO!W169))","v":0},{"$f":"IF(INTRO!$E$39<>\"Non-endemic\",COUNTRY_INFO!X169,\"Not required\")","v":1},{"$f":"IF(COUNTRY_INFO!H169=1, IF($E169=1,IF(ALB_MBD!$G169<>\" \",COUNTRY_INFO!F169+COUNTRY_INFO!G169-ALB_MBD!$G169,COUNTRY_INFO!F169+COUNTRY_INFO!G169), 0),0)","v":0},{"$f":"IF(INTRO!$E$39<>\"Endemic\",0, IF(AND(COUNTRY_INFO!$I169=1,$F169<>0),IF(COUNTRY_INFO!N169>=(COUNTRY_INFO!F169+COUNTRY_INFO!G169),COUNTRY_INFO!F169+COUNTRY_INFO!G169,COUNTRY_INFO!$N169), 0))","v":122707},0,343579.6,0,343579.6,null,343579.6]
[{"$f":"IF(INTRO!$E$39=\"Non-endemic\",\" \",IF(COUNTRY_INFO!A170=0,\" \",COUNTRY_INFO!A170))","v":"Cameroun"},{"$f":"IF(INTRO!$E$39=\"Non-endemic\",\" \",IF(COUNTRY_INFO!B170=0,\" \",COUNTRY_INFO!B170))","v":"Ouest"},{"$f":"IF(INTRO!$E$39=\"Non-endemic\",\" \",IF(COUNTRY_INFO!C170=0,\" \",COUNTRY_INFO!C170))","v":"Galim"},{"$f":"IF(INTRO!$E$39=\"Non-endemic\",0,IF(INTRO!$E$39=\"Endemic but PC is not required\",IF(COUNTRY_INFO!$H170=1,COUNTRY_INFO!F170+COUNTRY_INFO!G170,0),IF(COUNTRY_INFO!$H170=1,COUNTRY_INFO!F170+COUNTRY_INFO!G170,IF(COUNTRY_INFO!$I170=1,IF(COUNTRY_INFO!N170>=(COUNTRY_INFO!F170+COUNTRY_INFO!G170),COUNTRY_INFO!F170+COUNTRY_INFO!G170,COUNTRY_INFO!$N170),0))))","v":60431},{"$f":"IF(AND(INTRO!$E$39=\"Non-endemic\",INTRO!$E$37=\"Non-endemic\"),\"Not required\",IF(INTRO!$E$39=\"Non-endemic\",\"Treat with DEC\",COUNTRY_INFO!W170))","v":0},{"$f":"IF(INTRO!$E$39<>\"Non-endemic\",COUNTRY_INFO!X170,\"Not required\")","v":1},{"$f":"IF(COUNTRY_INFO!H170=1, IF($E170=1,IF(ALB_MBD!$G170<>\" \",COUNTRY_INFO!F170+COUNTRY_INFO!G170-ALB_MBD!$G170,COUNTRY_INFO!F170+COUNTRY_INFO!G170), 0),0)","v":0},{"$f":"IF(INTRO!$E$39<>\"Endemic\",0, IF(AND(COUNTRY_INFO!$I170=1,$F170<>0),IF(COUNTRY_INFO!N170>=(COUNTRY_INFO!F170+COUNTRY_INFO!G170),COUNTRY_INFO!F170+COUNTRY_INFO!G170,COUNTRY_INFO!$N170), 0))","v":60431},0,169206.8,0,169206.8,null,169206.8]
[{"$f":"IF(INTRO!$E$39=\"Non-endemic\",\" \",IF(COUNTRY_INFO!A171=0,\" \",COUNTRY_INFO!A171))","v":"Cameroun"},{"$f":"IF(INTRO!$E$39=\"Non-endemic\",\" \",IF(COUNTRY_INFO!B171=0,\" \",COUNTRY_INFO!B171))","v":"Ouest"},{"$f":"IF(INTRO!$E$39=\"Non-endemic\",\" \",IF(COUNTRY_INFO!C171=0,\" \",COUNTRY_INFO!C171))","v":"Kekem"},{"$f":"IF(INTRO!$E$39=\"Non-endemic\",0,IF(INTRO!$E$39=\"Endemic but PC is not required\",IF(COUNTRY_INFO!$H171=1,COUNTRY_INFO!F171+COUNTRY_INFO!G171,0),IF(COUNTRY_INFO!$H171=1,COUNTRY_INFO!F171+COUNTRY_INFO!G171,IF(COUNTRY_INFO!$I171=1,IF(COUNTRY_INFO!N171>=(COUNTRY_INFO!F171+COUNTRY_INFO!G171),COUNTRY_INFO!F171+COUNTRY_INFO!G171,COUNTRY_INFO!$N171),0))))","v":43607},{"$f":"IF(AND(INTRO!$E$39=\"Non-endemic\",INTRO!$E$37=\"Non-endemic\"),\"Not required\",IF(INTRO!$E$39=\"Non-endemic\",\"Treat with DEC\",COUNTRY_INFO!W171))","v":0},{"$f":"IF(INTRO!$E$39<>\"Non-endemic\",COUNTRY_INFO!X171,\"Not required\")","v":1},{"$f":"IF(COUNTRY_INFO!H171=1, IF($E171=1,IF(ALB_MBD!$G171<>\" \",COUNTRY_INFO!F171+COUNTRY_INFO!G171-ALB_MBD!$G171,COUNTRY_INFO!F171+COUNTRY_INFO!G171), 0),0)","v":0},{"$f":"IF(INTRO!$E$39<>\"Endemic\",0, IF(AND(COUNTRY_INFO!$I171=1,$F171<>0),IF(COUNTRY_INFO!N171>=(COUNTRY_INFO!F171+COUNTRY_INFO!G171),COUNTRY_INFO!F171+COUNTRY_INFO!G171,COUNTRY_INFO!$N171), 0))","v":43607},0,122099.59999999999,0,122099.59999999999,null,122099.59999999999]
[{"$f":"IF(INTRO!$E$39=\"Non-endemic\",\" \",IF(COUNTRY_INFO!A172=0,\" \",COUNTRY_INFO!A172))","v":"Cameroun"},{"$f":"IF(INTRO!$E$39=\"Non-endemic\",\" \",IF(COUNTRY_INFO!B172=0,\" \",COUNTRY_INFO!B172))","v":"Ouest"},{"$f":"IF(INTRO!$E$39=\"Non-endemic\",\" \",IF(COUNTRY_INFO!C172=0,\" \",COUNTRY_INFO!C172))","v":"Kouoptamo"},{"$f":"IF(INTRO!$E$39=\"Non-endemic\",0,IF(INTRO!$E$39=\"Endemic but PC is not required\",IF(COUNTRY_INFO!$H172=1,COUNTRY_INFO!F172+COUNTRY_INFO!G172,0),IF(COUNTRY_INFO!$H172=1,COUNTRY_INFO!F172+COUNTRY_INFO!G172,IF(COUNTRY_INFO!$I172=1,IF(COUNTRY_INFO!N172>=(COUNTRY_INFO!F172+COUNTRY_INFO!G172),COUNTRY_INFO!F172+COUNTRY_INFO!G172,COUNTRY_INFO!$N172),0))))","v":63764},{"$f":"IF(AND(INTRO!$E$39=\"Non-endemic\",INTRO!$E$37=\"Non-endemic\"),\"Not required\",IF(INTRO!$E$39=\"Non-endemic\",\"Treat with DEC\",COUNTRY_INFO!W172))","v":0},{"$f":"IF(INTRO!$E$39<>\"Non-endemic\",COUNTRY_INFO!X172,\"Not required\")","v":1},{"$f":"IF(COUNTRY_INFO!H172=1, IF($E172=1,IF(ALB_MBD!$G172<>\" \",COUNTRY_INFO!F172+COUNTRY_INFO!G172-ALB_MBD!$G172,COUNTRY_INFO!F172+COUNTRY_INFO!G172), 0),0)","v":0},{"$f":"IF(INTRO!$E$39<>\"Endemic\",0, IF(AND(COUNTRY_INFO!$I172=1,$F172<>0),IF(COUNTRY_INFO!N172>=(COUNTRY_INFO!F172+COUNTRY_INFO!G172),COUNTRY_INFO!F172+COUNTRY_INFO!G172,COUNTRY_INFO!$N172), 0))","v":63764},0,178539.19999999998,0,178539.19999999998,null,178539.19999999998]
[{"$f":"IF(INTRO!$E$39=\"Non-endemic\",\" \",IF(COUNTRY_INFO!A173=0,\" \",COUNTRY_INFO!A173))","v":"Cameroun"},{"$f":"IF(INTRO!$E$39=\"Non-endemic\",\" \",IF(COUNTRY_INFO!B173=0,\" \",COUNTRY_INFO!B173))","v":"Ouest"},{"$f":"IF(INTRO!$E$39=\"Non-endemic\",\" \",IF(COUNTRY_INFO!C173=0,\" \",COUNTRY_INFO!C173))","v":"Malantouen"},{"$f":"IF(INTRO!$E$39=\"Non-endemic\",0,IF(INTRO!$E$39=\"Endemic but PC is not required\",IF(COUNTRY_INFO!$H173=1,COUNTRY_INFO!F173+COUNTRY_INFO!G173,0),IF(COUNTRY_INFO!$H173=1,COUNTRY_INFO!F173+COUNTRY_INFO!G173,IF(COUNTRY_INFO!$I173=1,IF(COUNTRY_INFO!N173>=(COUNTRY_INFO!F173+COUNTRY_INFO!G173),COUNTRY_INFO!F173+COUNTRY_INFO!G173,COUNTRY_INFO!$N173),0))))","v":135998},{"$f":"IF(AND(INTRO!$E$39=\"Non-endemic\",INTRO!$E$37=\"Non-endemic\"),\"Not required\",IF(INTRO!$E$39=\"Non-endemic\",\"Treat with DEC\",COUNTRY_INFO!W173))","v":0},{"$f":"IF(INTRO!$E$39<>\"Non-endemic\",COUNTRY_INFO!X173,\"Not required\")","v":1},{"$f":"IF(COUNTRY_INFO!H173=1, IF($E173=1,IF(ALB_MBD!$G173<>\" \",COUNTRY_INFO!F173+COUNTRY_INFO!G173-ALB_MBD!$G173,COUNTRY_INFO!F173+COUNTRY_INFO!G173), 0),0)","v":0},{"$f":"IF(INTRO!$E$39<>\"Endemic\",0, IF(AND(COUNTRY_INFO!$I173=1,$F173<>0),IF(COUNTRY_INFO!N173>=(COUNTRY_INFO!F173+COUNTRY_INFO!G173),COUNTRY_INFO!F173+COUNTRY_INFO!G173,COUNTRY_INFO!$N173), 0))","v":135998},0,380794.39999999997,0,380794.39999999997,null,380794.39999999997]
[{"$f":"IF(INTRO!$E$39=\"Non-endemic\",\" \",IF(COUNTRY_INFO!A174=0,\" \",COUNTRY_INFO!A174))","v":"Cameroun"},{"$f":"IF(INTRO!$E$39=\"Non-endemic\",\" \",IF(COUNTRY_INFO!B174=0,\" \",COUNTRY_INFO!B174))","v":"Ouest"},{"$f":"IF(INTRO!$E$39=\"Non-endemic\",\" \",IF(COUNTRY_INFO!C174=0,\" \",COUNTRY_INFO!C174))","v":"Massangam"},{"$f":"IF(INTRO!$E$39=\"Non-endemic\",0,IF(INTRO!$E$39=\"Endemic but PC is not required\",IF(COUNTRY_INFO!$H174=1,COUNTRY_INFO!F174+COUNTRY_INFO!G174,0),IF(COUNTRY_INFO!$H174=1,COUNTRY_INFO!F174+COUNTRY_INFO!G174,IF(COUNTRY_INFO!$I174=1,IF(COUNTRY_INFO!N174>=(COUNTRY_INFO!F174+COUNTRY_INFO!G174),COUNTRY_INFO!F174+COUNTRY_INFO!G174,COUNTRY_INFO!$N174),0))))","v":45720},{"$f":"IF(AND(INTRO!$E$39=\"Non-endemic\",INTRO!$E$37=\"Non-endemic\"),\"Not required\",IF(INTRO!$E$39=\"Non-endemic\",\"Treat with DEC\",COUNTRY_INFO!W174))","v":0},{"$f":"IF(INTRO!$E$39<>\"Non-endemic\",COUNTRY_INFO!X174,\"Not required\")","v":1},{"$f":"IF(COUNTRY_INFO!H174=1, IF($E174=1,IF(ALB_MBD!$G174<>\" \",COUNTRY_INFO!F174+COUNTRY_INFO!G174-ALB_MBD!$G174,COUNTRY_INFO!F174+COUNTRY_INFO!G174), 0),0)","v":0},{"$f":"IF(INTRO!$E$39<>\"Endemic\",0, IF(AND(COUNTRY_INFO!$I174=1,$F174<>0),IF(COUNTRY_INFO!N174>=(COUNTRY_INFO!F174+COUNTRY_INFO!G174),COUNTRY_INFO!F174+COUNTRY_INFO!G174,COUNTRY_INFO!$N174), 0))","v":45720},0,128015.99999999999,0,128015.99999999999,null,128015.99999999999]
[{"$f":"IF(INTRO!$E$39=\"Non-endemic\",\" \",IF(COUNTRY_INFO!A175=0,\" \",COUNTRY_INFO!A175))","v":"Cameroun"},{"$f":"IF(INTRO!$E$39=\"Non-endemic\",\" \",IF(COUNTRY_INFO!B175=0,\" \",COUNTRY_INFO!B175))","v":"Ouest"},{"$f":"IF(INTRO!$E$39=\"Non-endemic\",\" \",IF(COUNTRY_INFO!C175=0,\" \",COUNTRY_INFO!C175))","v":"Mbouda"},{"$f":"IF(INTRO!$E$39=\"Non-endemic\",0,IF(INTRO!$E$39=\"Endemic but PC is not required\",IF(COUNTRY_INFO!$H175=1,COUNTRY_INFO!F175+COUNTRY_INFO!G175,0),IF(COUNTRY_INFO!$H175=1,COUNTRY_INFO!F175+COUNTRY_INFO!G175,IF(COUNTRY_INFO!$I175=1,IF(COUNTRY_INFO!N175>=(COUNTRY_INFO!F175+COUNTRY_INFO!G175),COUNTRY_INFO!F175+COUNTRY_INFO!G175,COUNTRY_INFO!$N175),0))))","v":174899},{"$f":"IF(AND(INTRO!$E$39=\"Non-endemic\",INTRO!$E$37=\"Non-endemic\"),\"Not required\",IF(INTRO!$E$39=\"Non-endemic\",\"Treat with DEC\",COUNTRY_INFO!W175))","v":0},{"$f":"IF(INTRO!$E$39<>\"Non-endemic\",COUNTRY_INFO!X175,\"Not required\")","v":1},{"$f":"IF(COUNTRY_INFO!H175=1, IF($E175=1,IF(ALB_MBD!$G175<>\" \",COUNTRY_INFO!F175+COUNTRY_INFO!G175-ALB_MBD!$G175,COUNTRY_INFO!F175+COUNTRY_INFO!G175), 0),0)","v":0},{"$f":"IF(INTRO!$E$39<>\"Endemic\",0, IF(AND(COUNTRY_INFO!$I175=1,$F175<>0),IF(COUNTRY_INFO!N175>=(COUNTRY_INFO!F175+COUNTRY_INFO!G175),COUNTRY_INFO!F175+COUNTRY_INFO!G175,COUNTRY_INFO!$N175), 0))","v":174899},0,489717.19999999995,0,489717.19999999995,null,489717.19999999995]
[{"$f":"IF(INTRO!$E$39=\"Non-endemic\",\" \",IF(COUNTRY_INFO!A176=0,\" \",COUNTRY_INFO!A176))","v":"Cameroun"},{"$f":"IF(INTRO!$E$39=\"Non-endemic\",\" \",IF(COUNTRY_INFO!B176=0,\" \",COUNTRY_INFO!B176))","v":"Ouest"},{"$f":"IF(INTRO!$E$39=\"Non-endemic\",\" \",IF(COUNTRY_INFO!C176=0,\" \",COUNTRY_INFO!C176))","v":"Mifi"},{"$f":"IF(INTRO!$E$39=\"Non-endemic\",0,IF(INTRO!$E$39=\"Endemic but PC is not required\",IF(COUNTRY_INFO!$H176=1,COUNTRY_INFO!F176+COUNTRY_INFO!G176,0),IF(COUNTRY_INFO!$H176=1,COUNTRY_INFO!F176+COUNTRY_INFO!G176,IF(COUNTRY_INFO!$I176=1,IF(COUNTRY_INFO!N176>=(COUNTRY_INFO!F176+COUNTRY_INFO!G176),COUNTRY_INFO!F176+COUNTRY_INFO!G176,COUNTRY_INFO!$N176),0))))","v":400308},{"$f":"IF(AND(INTRO!$E$39=\"Non-endemic\",INTRO!$E$37=\"Non-endemic\"),\"Not required\",IF(INTRO!$E$39=\"Non-endemic\",\"Treat with DEC\",COUNTRY_INFO!W176))","v":0},{"$f":"IF(INTRO!$E$39<>\"Non-endemic\",COUNTRY_INFO!X176,\"Not required\")","v":1},{"$f":"IF(COUNTRY_INFO!H176=1, IF($E176=1,IF(ALB_MBD!$G176<>\" \",COUNTRY_INFO!F176+COUNTRY_INFO!G176-ALB_MBD!$G176,COUNTRY_INFO!F176+COUNTRY_INFO!G176), 0),0)","v":0},{"$f":"IF(INTRO!$E$39<>\"Endemic\",0, IF(AND(COUNTRY_INFO!$I176=1,$F176<>0),IF(COUNTRY_INFO!N176>=(COUNTRY_INFO!F176+COUNTRY_INFO!G176),COUNTRY_INFO!F176+COUNTRY_INFO!G176,COUNTRY_INFO!$N176), 0))","v":400308},0,1120862.3999999999,0,1120862.3999999999,null,1120862.3999999999]
[{"$f":"IF(INTRO!$E$39=\"Non-endemic\",\" \",IF(COUNTRY_INFO!A177=0,\" \",COUNTRY_INFO!A177))","v":"Cameroun"},{"$f":"IF(INTRO!$E$39=\"Non-endemic\",\" \",IF(COUNTRY_INFO!B177=0,\" \",COUNTRY_INFO!B177))","v":"Ouest"},{"$f":"IF(INTRO!$E$39=\"Non-endemic\",\" \",IF(COUNTRY_INFO!C177=0,\" \",COUNTRY_INFO!C177))","v":"Penka Michel"},{"$f":"IF(INTRO!$E$39=\"Non-endemic\",0,IF(INTRO!$E$39=\"Endemic but PC is not required\",IF(COUNTRY_INFO!$H177=1,COUNTRY_INFO!F177+COUNTRY_INFO!G177,0),IF(COUNTRY_INFO!$H177=1,COUNTRY_INFO!F177+COUNTRY_INFO!G177,IF(COUNTRY_INFO!$I177=1,IF(COUNTRY_INFO!N177>=(COUNTRY_INFO!F177+COUNTRY_INFO!G177),COUNTRY_INFO!F177+COUNTRY_INFO!G177,COUNTRY_INFO!$N177),0))))","v":78058},{"$f":"IF(AND(INTRO!$E$39=\"Non-endemic\",INTRO!$E$37=\"Non-endemic\"),\"Not required\",IF(INTRO!$E$39=\"Non-endemic\",\"Treat with DEC\",COUNTRY_INFO!W177))","v":0},{"$f":"IF(INTRO!$E$39<>\"Non-endemic\",COUNTRY_INFO!X177,\"Not required\")","v":1},{"$f":"IF(COUNTRY_INFO!H177=1, IF($E177=1,IF(ALB_MBD!$G177<>\" \",COUNTRY_INFO!F177+COUNTRY_INFO!G177-ALB_MBD!$G177,COUNTRY_INFO!F177+COUNTRY_INFO!G177), 0),0)","v":0},{"$f":"IF(INTRO!$E$39<>\"Endemic\",0, IF(AND(COUNTRY_INFO!$I177=1,$F177<>0),IF(COUNTRY_INFO!N177>=(COUNTRY_INFO!F177+COUNTRY_INFO!G177),COUNTRY_INFO!F177+COUNTRY_INFO!G177,COUNTRY_INFO!$N177), 0))","v":78058},0,218562.4,0,218562.4,null,218562.4]
[{"$f":"IF(INTRO!$E$39=\"Non-endemic\",\" \",IF(COUNTRY_INFO!A178=0,\" \",COUNTRY_INFO!A178))","v":"Cameroun"},{"$f":"IF(INTRO!$E$39=\"Non-endemic\",\" \",IF(COUNTRY_INFO!B178=0,\" \",COUNTRY_INFO!B178))","v":"Ouest"},{"$f":"IF(INTRO!$E$39=\"Non-endemic\",\" \",IF(COUNTRY_INFO!C178=0,\" \",COUNTRY_INFO!C178))","v":"Santchou"},{"$f":"IF(INTRO!$E$39=\"Non-endemic\",0,IF(INTRO!$E$39=\"Endemic but PC is not required\",IF(COUNTRY_INFO!$H178=1,COUNTRY_INFO!F178+COUNTRY_INFO!G178,0),IF(COUNTRY_INFO!$H178=1,COUNTRY_INFO!F178+COUNTRY_INFO!G178,IF(COUNTRY_INFO!$I178=1,IF(COUNTRY_INFO!N178>=(COUNTRY_INFO!F178+COUNTRY_INFO!G178),COUNTRY_INFO!F178+COUNTRY_INFO!G178,COUNTRY_INFO!$N178),0))))","v":34554},{"$f":"IF(AND(INTRO!$E$39=\"Non-endemic\",INTRO!$E$37=\"Non-endemic\"),\"Not required\",IF(INTRO!$E$39=\"Non-endemic\",\"Treat with DEC\",COUNTRY_INFO!W178))","v":0},{"$f":"IF(INTRO!$E$39<>\"Non-endemic\",COUNTRY_INFO!X178,\"Not required\")","v":1},{"$f":"IF(COUNTRY_INFO!H178=1, IF($E178=1,IF(ALB_MBD!$G178<>\" \",COUNTRY_INFO!F178+COUNTRY_INFO!G178-ALB_MBD!$G178,COUNTRY_INFO!F178+COUNTRY_INFO!G178), 0),0)","v":0},{"$f":"IF(INTRO!$E$39<>\"Endemic\",0, IF(AND(COUNTRY_INFO!$I178=1,$F178<>0),IF(COUNTRY_INFO!N178>=(COUNTRY_INFO!F178+COUNTRY_INFO!G178),COUNTRY_INFO!F178+COUNTRY_INFO!G178,COUNTRY_INFO!$N178), 0))","v":34554},0,96751.2,0,96751.2,null,96751.2]
[{"$f":"IF(INTRO!$E$39=\"Non-endemic\",\" \",IF(COUNTRY_INFO!A179=0,\" \",COUNTRY_INFO!A179))","v":"Cameroun"},{"$f":"IF(INTRO!$E$39=\"Non-endemic\",\" \",IF(COUNTRY_INFO!B179=0,\" \",COUNTRY_INFO!B179))","v":"Sud"},{"$f":"IF(INTRO!$E$39=\"Non-endemic\",\" \",IF(COUNTRY_INFO!C179=0,\" \",COUNTRY_INFO!C179))","v":"Ambam"},{"$f":"IF(INTRO!$E$39=\"Non-endemic\",0,IF(INTRO!$E$39=\"Endemic but PC is not required\",IF(COUNTRY_INFO!$H179=1,COUNTRY_INFO!F179+COUNTRY_INFO!G179,0),IF(COUNTRY_INFO!$H179=1,COUNTRY_INFO!F179+COUNTRY_INFO!G179,IF(COUNTRY_INFO!$I179=1,IF(COUNTRY_INFO!N179>=(COUNTRY_INFO!F179+COUNTRY_INFO!G179),COUNTRY_INFO!F179+COUNTRY_INFO!G179,COUNTRY_INFO!$N179),0))))","v":108686},{"$f":"IF(AND(INTRO!$E$39=\"Non-endemic\",INTRO!$E$37=\"Non-endemic\"),\"Not required\",IF(INTRO!$E$39=\"Non-endemic\",\"Treat with DEC\",COUNTRY_INFO!W179))","v":0},{"$f":"IF(INTRO!$E$39<>\"Non-endemic\",COUNTRY_INFO!X179,\"Not required\")","v":1},{"$f":"IF(COUNTRY_INFO!H179=1, IF($E179=1,IF(ALB_MBD!$G179<>\" \",COUNTRY_INFO!F179+COUNTRY_INFO!G179-ALB_MBD!$G179,COUNTRY_INFO!F179+COUNTRY_INFO!G179), 0),0)","v":0},{"$f":"IF(INTRO!$E$39<>\"Endemic\",0, IF(AND(COUNTRY_INFO!$I179=1,$F179<>0),IF(COUNTRY_INFO!N179>=(COUNTRY_INFO!F179+COUNTRY_INFO!G179),COUNTRY_INFO!F179+COUNTRY_INFO!G179,COUNTRY_INFO!$N179), 0))","v":108686},0,304320.8,0,304320.8,null,304320.8]
[{"$f":"IF(INTRO!$E$39=\"Non-endemic\",\" \",IF(COUNTRY_INFO!A180=0,\" \",COUNTRY_INFO!A180))","v":"Cameroun"},{"$f":"IF(INTRO!$E$39=\"Non-endemic\",\" \",IF(COUNTRY_INFO!B180=0,\" \",COUNTRY_INFO!B180))","v":"Sud"},{"$f":"IF(INTRO!$E$39=\"Non-endemic\",\" \",IF(COUNTRY_INFO!C180=0,\" \",COUNTRY_INFO!C180))","v":"Djoum"},{"$f":"IF(INTRO!$E$39=\"Non-endemic\",0,IF(INTRO!$E$39=\"Endemic but PC is not required\",IF(COUNTRY_INFO!$H180=1,COUNTRY_INFO!F180+COUNTRY_INFO!G180,0),IF(COUNTRY_INFO!$H180=1,COUNTRY_INFO!F180+COUNTRY_INFO!G180,IF(COUNTRY_INFO!$I180=1,IF(COUNTRY_INFO!N180>=(COUNTRY_INFO!F180+COUNTRY_INFO!G180),COUNTRY_INFO!F180+COUNTRY_INFO!G180,COUNTRY_INFO!$N180),0))))","v":38533},{"$f":"IF(AND(INTRO!$E$39=\"Non-endemic\",INTRO!$E$37=\"Non-endemic\"),\"Not required\",IF(INTRO!$E$39=\"Non-endemic\",\"Treat with DEC\",COUNTRY_INFO!W180))","v":0},{"$f":"IF(INTRO!$E$39<>\"Non-endemic\",COUNTRY_INFO!X180,\"Not required\")","v":1},{"$f":"IF(COUNTRY_INFO!H180=1, IF($E180=1,IF(ALB_MBD!$G180<>\" \",COUNTRY_INFO!F180+COUNTRY_INFO!G180-ALB_MBD!$G180,COUNTRY_INFO!F180+COUNTRY_INFO!G180), 0),0)","v":0},{"$f":"IF(INTRO!$E$39<>\"Endemic\",0, IF(AND(COUNTRY_INFO!$I180=1,$F180<>0),IF(COUNTRY_INFO!N180>=(COUNTRY_INFO!F180+COUNTRY_INFO!G180),COUNTRY_INFO!F180+COUNTRY_INFO!G180,COUNTRY_INFO!$N180), 0))","v":38533},0,107892.4,0,107892.4,null,107892.4]
[{"$f":"IF(INTRO!$E$39=\"Non-endemic\",\" \",IF(COUNTRY_INFO!A181=0,\" \",COUNTRY_INFO!A181))","v":"Cameroun"},{"$f":"IF(INTRO!$E$39=\"Non-endemic\",\" \",IF(COUNTRY_INFO!B181=0,\" \",COUNTRY_INFO!B181))","v":"Sud"},{"$f":"IF(INTRO!$E$39=\"Non-endemic\",\" \",IF(COUNTRY_INFO!C181=0,\" \",COUNTRY_INFO!C181))","v":"Ebolowa"},{"$f":"IF(INTRO!$E$39=\"Non-endemic\",0,IF(INTRO!$E$39=\"Endemic but PC is not required\",IF(COUNTRY_INFO!$H181=1,COUNTRY_INFO!F181+COUNTRY_INFO!G181,0),IF(COUNTRY_INFO!$H181=1,COUNTRY_INFO!F181+COUNTRY_INFO!G181,IF(COUNTRY_INFO!$I181=1,IF(COUNTRY_INFO!N181>=(COUNTRY_INFO!F181+COUNTRY_INFO!G181),COUNTRY_INFO!F181+COUNTRY_INFO!G181,COUNTRY_INFO!$N181),0))))","v":0},{"$f":"IF(AND(INTRO!$E$39=\"Non-endemic\",INTRO!$E$37=\"Non-endemic\"),\"Not required\",IF(INTRO!$E$39=\"Non-endemic\",\"Treat with DEC\",COUNTRY_INFO!W181))","v":0},{"$f":"IF(INTRO!$E$39<>\"Non-endemic\",COUNTRY_INFO!X181,\"Not required\")","v":0},{"$f":"IF(COUNTRY_INFO!H181=1, IF($E181=1,IF(ALB_MBD!$G181<>\" \",COUNTRY_INFO!F181+COUNTRY_INFO!G181-ALB_MBD!$G181,COUNTRY_INFO!F181+COUNTRY_INFO!G181), 0),0)","v":0},{"$f":"IF(INTRO!$E$39<>\"Endemic\",0, IF(AND(COUNTRY_INFO!$I181=1,$F181<>0),IF(COUNTRY_INFO!N181>=(COUNTRY_INFO!F181+COUNTRY_INFO!G181),COUNTRY_INFO!F181+COUNTRY_INFO!G181,COUNTRY_INFO!$N181), 0))","v":0},0,0,0,0,null,0]
[{"$f":"IF(INTRO!$E$39=\"Non-endemic\",\" \",IF(COUNTRY_INFO!A182=0,\" \",COUNTRY_INFO!A182))","v":"Cameroun"},{"$f":"IF(INTRO!$E$39=\"Non-endemic\",\" \",IF(COUNTRY_INFO!B182=0,\" \",COUNTRY_INFO!B182))","v":"Sud"},{"$f":"IF(INTRO!$E$39=\"Non-endemic\",\" \",IF(COUNTRY_INFO!C182=0,\" \",COUNTRY_INFO!C182))","v":"Kribi"},{"$f":"IF(INTRO!$E$39=\"Non-endemic\",0,IF(INTRO!$E$39=\"Endemic but PC is not required\",IF(COUNTRY_INFO!$H182=1,COUNTRY_INFO!F182+COUNTRY_INFO!G182,0),IF(COUNTRY_INFO!$H182=1,COUNTRY_INFO!F182+COUNTRY_INFO!G182,IF(COUNTRY_INFO!$I182=1,IF(COUNTRY_INFO!N182>=(COUNTRY_INFO!F182+COUNTRY_INFO!G182),COUNTRY_INFO!F182+COUNTRY_INFO!G182,COUNTRY_INFO!$N182),0))))","v":0},{"$f":"IF(AND(INTRO!$E$39=\"Non-endemic\",INTRO!$E$37=\"Non-endemic\"),\"Not required\",IF(INTRO!$E$39=\"Non-endemic\",\"Treat with DEC\",COUNTRY_INFO!W182))","v":0},{"$f":"IF(INTRO!$E$39<>\"Non-endemic\",COUNTRY_INFO!X182,\"Not required\")","v":0},{"$f":"IF(COUNTRY_INFO!H182=1, IF($E182=1,IF(ALB_MBD!$G182<>\" \",COUNTRY_INFO!F182+COUNTRY_INFO!G182-ALB_MBD!$G182,COUNTRY_INFO!F182+COUNTRY_INFO!G182), 0),0)","v":0},{"$f":"IF(INTRO!$E$39<>\"Endemic\",0, IF(AND(COUNTRY_INFO!$I182=1,$F182<>0),IF(COUNTRY_INFO!N182>=(COUNTRY_INFO!F182+COUNTRY_INFO!G182),COUNTRY_INFO!F182+COUNTRY_INFO!G182,COUNTRY_INFO!$N182), 0))","v":0},0,0,0,0,null,0]
[{"$f":"IF(INTRO!$E$39=\"Non-endemic\",\" \",IF(COUNTRY_INFO!A183=0,\" \",COUNTRY_INFO!A183))","v":"Cameroun"},{"$f":"IF(INTRO!$E$39=\"Non-endemic\",\" \",IF(COUNTRY_INFO!B183=0,\" \",COUNTRY_INFO!B183))","v":"Sud"},{"$f":"IF(INTRO!$E$39=\"Non-endemic\",\" \",IF(COUNTRY_INFO!C183=0,\" \",COUNTRY_INFO!C183))","v":"Kye ossi "},{"$f":"IF(INTRO!$E$39=\"Non-endemic\",0,IF(INTRO!$E$39=\"Endemic but PC is not required\",IF(COUNTRY_INFO!$H183=1,COUNTRY_INFO!F183+COUNTRY_INFO!G183,0),IF(COUNTRY_INFO!$H183=1,COUNTRY_INFO!F183+COUNTRY_INFO!G183,IF(COUNTRY_INFO!$I183=1,IF(COUNTRY_INFO!N183>=(COUNTRY_INFO!F183+COUNTRY_INFO!G183),COUNTRY_INFO!F183+COUNTRY_INFO!G183,COUNTRY_INFO!$N183),0))))","v":7367},{"$f":"IF(AND(INTRO!$E$39=\"Non-endemic\",INTRO!$E$37=\"Non-endemic\"),\"Not required\",IF(INTRO!$E$39=\"Non-endemic\",\"Treat with DEC\",COUNTRY_INFO!W183))","v":0},{"$f":"IF(INTRO!$E$39<>\"Non-endemic\",COUNTRY_INFO!X183,\"Not required\")","v":1},{"$f":"IF(COUNTRY_INFO!H183=1, IF($E183=1,IF(ALB_MBD!$G183<>\" \",COUNTRY_INFO!F183+COUNTRY_INFO!G183-ALB_MBD!$G183,COUNTRY_INFO!F183+COUNTRY_INFO!G183), 0),0)","v":0},{"$f":"IF(INTRO!$E$39<>\"Endemic\",0, IF(AND(COUNTRY_INFO!$I183=1,$F183<>0),IF(COUNTRY_INFO!N183>=(COUNTRY_INFO!F183+COUNTRY_INFO!G183),COUNTRY_INFO!F183+COUNTRY_INFO!G183,COUNTRY_INFO!$N183), 0))","v":7367},0,20627.599999999999,0,20627.599999999999,null,20627.599999999999]
[{"$f":"IF(INTRO!$E$39=\"Non-endemic\",\" \",IF(COUNTRY_INFO!A184=0,\" \",COUNTRY_INFO!A184))","v":"Cameroun"},{"$f":"IF(INTRO!$E$39=\"Non-endemic\",\" \",IF(COUNTRY_INFO!B184=0,\" \",COUNTRY_INFO!B184))","v":"Sud"},{"$f":"IF(INTRO!$E$39=\"Non-endemic\",\" \",IF(COUNTRY_INFO!C184=0,\" \",COUNTRY_INFO!C184))","v":"Lolodorf"},{"$f":"IF(INTRO!$E$39=\"Non-endemic\",0,IF(INTRO!$E$39=\"Endemic but PC is not required\",IF(COUNTRY_INFO!$H184=1,COUNTRY_INFO!F184+COUNTRY_INFO!G184,0),IF(COUNTRY_INFO!$H184=1,COUNTRY_INFO!F184+COUNTRY_INFO!G184,IF(COUNTRY_INFO!$I184=1,IF(COUNTRY_INFO!N184>=(COUNTRY_INFO!F184+COUNTRY_INFO!G184),COUNTRY_INFO!F184+COUNTRY_INFO!G184,COUNTRY_INFO!$N184),0))))","v":0},{"$f":"IF(AND(INTRO!$E$39=\"Non-endemic\",INTRO!$E$37=\"Non-endemic\"),\"Not required\",IF(INTRO!$E$39=\"Non-endemic\",\"Treat with DEC\",COUNTRY_INFO!W184))","v":0},{"$f":"IF(INTRO!$E$39<>\"Non-endemic\",COUNTRY_INFO!X184,\"Not required\")","v":0},{"$f":"IF(COUNTRY_INFO!H184=1, IF($E184=1,IF(ALB_MBD!$G184<>\" \",COUNTRY_INFO!F184+COUNTRY_INFO!G184-ALB_MBD!$G184,COUNTRY_INFO!F184+COUNTRY_INFO!G184), 0),0)","v":0},{"$f":"IF(INTRO!$E$39<>\"Endemic\",0, IF(AND(COUNTRY_INFO!$I184=1,$F184<>0),IF(COUNTRY_INFO!N184>=(COUNTRY_INFO!F184+COUNTRY_INFO!G184),COUNTRY_INFO!F184+COUNTRY_INFO!G184,COUNTRY_INFO!$N184), 0))","v":0},0,0,0,0,null,0]
[{"$f":"IF(INTRO!$E$39=\"Non-endemic\",\" \",IF(COUNTRY_INFO!A185=0,\" \",COUNTRY_INFO!A185))","v":"Cameroun"},{"$f":"IF(INTRO!$E$39=\"Non-endemic\",\" \",IF(COUNTRY_INFO!B185=0,\" \",COUNTRY_INFO!B185))","v":"Sud"},{"$f":"IF(INTRO!$E$39=\"Non-endemic\",\" \",IF(COUNTRY_INFO!C185=0,\" \",COUNTRY_INFO!C185))","v":"Meyomessala"},{"$f":"IF(INTRO!$E$39=\"Non-endemic\",0,IF(INTRO!$E$39=\"Endemic but PC is not required\",IF(COUNTRY_INFO!$H185=1,COUNTRY_INFO!F185+COUNTRY_INFO!G185,0),IF(COUNTRY_INFO!$H185=1,COUNTRY_INFO!F185+COUNTRY_INFO!G185,IF(COUNTRY_INFO!$I185=1,IF(COUNTRY_INFO!N185>=(COUNTRY_INFO!F185+COUNTRY_INFO!G185),COUNTRY_INFO!F185+COUNTRY_INFO!G185,COUNTRY_INFO!$N185),0))))","v":63480},{"$f":"IF(AND(INTRO!$E$39=\"Non-endemic\",INTRO!$E$37=\"Non-endemic\"),\"Not required\",IF(INTRO!$E$39=\"Non-endemic\",\"Treat with DEC\",COUNTRY_INFO!W185))","v":0},{"$f":"IF(INTRO!$E$39<>\"Non-endemic\",COUNTRY_INFO!X185,\"Not required\")","v":1},{"$f":"IF(COUNTRY_INFO!H185=1, IF($E185=1,IF(ALB_MBD!$G185<>\" \",COUNTRY_INFO!F185+COUNTRY_INFO!G185-ALB_MBD!$G185,COUNTRY_INFO!F185+COUNTRY_INFO!G185), 0),0)","v":0},{"$f":"IF(INTRO!$E$39<>\"Endemic\",0, IF(AND(COUNTRY_INFO!$I185=1,$F185<>0),IF(COUNTRY_INFO!N185>=(COUNTRY_INFO!F185+COUNTRY_INFO!G185),COUNTRY_INFO!F185+COUNTRY_INFO!G185,COUNTRY_INFO!$N185), 0))","v":63480},0,177744,0,177744,null,177744]
[{"$f":"IF(INTRO!$E$39=\"Non-endemic\",\" \",IF(COUNTRY_INFO!A186=0,\" \",COUNTRY_INFO!A186))","v":"Cameroun"},{"$f":"IF(INTRO!$E$39=\"Non-endemic\",\" \",IF(COUNTRY_INFO!B186=0,\" \",COUNTRY_INFO!B186))","v":"Sud"},{"$f":"IF(INTRO!$E$39=\"Non-endemic\",\" \",IF(COUNTRY_INFO!C186=0,\" \",COUNTRY_INFO!C186))","v":"Mvangan"},{"$f":"IF(INTRO!$E$39=\"Non-endemic\",0,IF(INTRO!$E$39=\"Endemic but PC is not required\",IF(COUNTRY_INFO!$H186=1,COUNTRY_INFO!F186+COUNTRY_INFO!G186,0),IF(COUNTRY_INFO!$H186=1,COUNTRY_INFO!F186+COUNTRY_INFO!G186,IF(COUNTRY_INFO!$I186=1,IF(COUNTRY_INFO!N186>=(COUNTRY_INFO!F186+COUNTRY_INFO!G186),COUNTRY_INFO!F186+COUNTRY_INFO!G186,COUNTRY_INFO!$N186),0))))","v":0},{"$f":"IF(AND(INTRO!$E$39=\"Non-endemic\",INTRO!$E$37=\"Non-endemic\"),\"Not required\",IF(INTRO!$E$39=\"Non-endemic\",\"Treat with DEC\",COUNTRY_INFO!W186))","v":0},{"$f":"IF(INTRO!$E$39<>\"Non-endemic\",COUNTRY_INFO!X186,\"Not required\")","v":0},{"$f":"IF(COUNTRY_INFO!H186=1, IF($E186=1,IF(ALB_MBD!$G186<>\" \",COUNTRY_INFO!F186+COUNTRY_INFO!G186-ALB_MBD!$G186,COUNTRY_INFO!F186+COUNTRY_INFO!G186), 0),0)","v":0},{"$f":"IF(INTRO!$E$39<>\"Endemic\",0, IF(AND(COUNTRY_INFO!$I186=1,$F186<>0),IF(COUNTRY_INFO!N186>=(COUNTRY_INFO!F186+COUNTRY_INFO!G186),COUNTRY_INFO!F186+COUNTRY_INFO!G186,COUNTRY_INFO!$N186), 0))","v":0},0,0,0,0,null,0]
[{"$f":"IF(INTRO!$E$39=\"Non-endemic\",\" \",IF(COUNTRY_INFO!A187=0,\" \",COUNTRY_INFO!A187))","v":"Cameroun"},{"$f":"IF(INTRO!$E$39=\"Non-endemic\",\" \",IF(COUNTRY_INFO!B187=0,\" \",COUNTRY_INFO!B187))","v":"Sud"},{"$f":"IF(INTRO!$E$39=\"Non-endemic\",\" \",IF(COUNTRY_INFO!C187=0,\" \",COUNTRY_INFO!C187))","v":"Niete "},{"$f":"IF(INTRO!$E$39=\"Non-endemic\",0,IF(INTRO!$E$39=\"Endemic but PC is not required\",IF(COUNTRY_INFO!$H187=1,COUNTRY_INFO!F187+COUNTRY_INFO!G187,0),IF(COUNTRY_INFO!$H187=1,COUNTRY_INFO!F187+COUNTRY_INFO!G187,IF(COUNTRY_INFO!$I187=1,IF(COUNTRY_INFO!N187>=(COUNTRY_INFO!F187+COUNTRY_INFO!G187),COUNTRY_INFO!F187+COUNTRY_INFO!G187,COUNTRY_INFO!$N187),0))))","v":0},{"$f":"IF(AND(INTRO!$E$39=\"Non-endemic\",INTRO!$E$37=\"Non-endemic\"),\"Not required\",IF(INTRO!$E$39=\"Non-endemic\",\"Treat with DEC\",COUNTRY_INFO!W187))","v":0},{"$f":"IF(INTRO!$E$39<>\"Non-endemic\",COUNTRY_INFO!X187,\"Not required\")","v":0},{"$f":"IF(COUNTRY_INFO!H187=1, IF($E187=1,IF(ALB_MBD!$G187<>\" \",COUNTRY_INFO!F187+COUNTRY_INFO!G187-ALB_MBD!$G187,COUNTRY_INFO!F187+COUNTRY_INFO!G187), 0),0)","v":0},{"$f":"IF(INTRO!$E$39<>\"Endemic\",0, IF(AND(COUNTRY_INFO!$I187=1,$F187<>0),IF(COUNTRY_INFO!N187>=(COUNTRY_INFO!F187+COUNTRY_INFO!G187),COUNTRY_INFO!F187+COUNTRY_INFO!G187,COUNTRY_INFO!$N187), 0))","v":0},0,0,0,0,null,0]
[{"$f":"IF(INTRO!$E$39=\"Non-endemic\",\" \",IF(COUNTRY_INFO!A188=0,\" \",COUNTRY_INFO!A188))","v":"Cameroun"},{"$f":"IF(INTRO!$E$39=\"Non-endemic\",\" \",IF(COUNTRY_INFO!B188=0,\" \",COUNTRY_INFO!B188))","v":"Sud"},{"$f":"IF(INTRO!$E$39=\"Non-endemic\",\" \",IF(COUNTRY_INFO!C188=0,\" \",COUNTRY_INFO!C188))","v":"Olamze"},{"$f":"IF(INTRO!$E$39=\"Non-endemic\",0,IF(INTRO!$E$39=\"Endemic but PC is not required\",IF(COUNTRY_INFO!$H188=1,COUNTRY_INFO!F188+COUNTRY_INFO!G188,0),IF(COUNTRY_INFO!$H188=1,COUNTRY_INFO!F188+COUNTRY_INFO!G188,IF(COUNTRY_INFO!$I188=1,IF(COUNTRY_INFO!N188>=(COUNTRY_INFO!F188+COUNTRY_INFO!G188),COUNTRY_INFO!F188+COUNTRY_INFO!G188,COUNTRY_INFO!$N188),0))))","v":14496},{"$f":"IF(AND(INTRO!$E$39=\"Non-endemic\",INTRO!$E$37=\"Non-endemic\"),\"Not required\",IF(INTRO!$E$39=\"Non-endemic\",\"Treat with DEC\",COUNTRY_INFO!W188))","v":0},{"$f":"IF(INTRO!$E$39<>\"Non-endemic\",COUNTRY_INFO!X188,\"Not required\")","v":1},{"$f":"IF(COUNTRY_INFO!H188=1, IF($E188=1,IF(ALB_MBD!$G188<>\" \",COUNTRY_INFO!F188+COUNTRY_INFO!G188-ALB_MBD!$G188,COUNTRY_INFO!F188+COUNTRY_INFO!G188), 0),0)","v":0},{"$f":"IF(INTRO!$E$39<>\"Endemic\",0, IF(AND(COUNTRY_INFO!$I188=1,$F188<>0),IF(COUNTRY_INFO!N188>=(COUNTRY_INFO!F188+COUNTRY_INFO!G188),COUNTRY_INFO!F188+COUNTRY_INFO!G188,COUNTRY_INFO!$N188), 0))","v":14496},0,40588.799999999996,0,40588.799999999996,null,40588.799999999996]
[{"$f":"IF(INTRO!$E$39=\"Non-endemic\",\" \",IF(COUNTRY_INFO!A189=0,\" \",COUNTRY_INFO!A189))","v":"Cameroun"},{"$f":"IF(INTRO!$E$39=\"Non-endemic\",\" \",IF(COUNTRY_INFO!B189=0,\" \",COUNTRY_INFO!B189))","v":"Sud"},{"$f":"IF(INTRO!$E$39=\"Non-endemic\",\" \",IF(COUNTRY_INFO!C189=0,\" \",COUNTRY_INFO!C189))","v":"Sangmelima"},{"$f":"IF(INTRO!$E$39=\"Non-endemic\",0,IF(INTRO!$E$39=\"Endemic but PC is not required\",IF(COUNTRY_INFO!$H189=1,COUNTRY_INFO!F189+COUNTRY_INFO!G189,0),IF(COUNTRY_INFO!$H189=1,COUNTRY_INFO!F189+COUNTRY_INFO!G189,IF(COUNTRY_INFO!$I189=1,IF(COUNTRY_INFO!N189>=(COUNTRY_INFO!F189+COUNTRY_INFO!G189),COUNTRY_INFO!F189+COUNTRY_INFO!G189,COUNTRY_INFO!$N189),0))))","v":101003},{"$f":"IF(AND(INTRO!$E$39=\"Non-endemic\",INTRO!$E$37=\"Non-endemic\"),\"Not required\",IF(INTRO!$E$39=\"Non-endemic\",\"Treat with DEC\",COUNTRY_INFO!W189))","v":0},{"$f":"IF(INTRO!$E$39<>\"Non-endemic\",COUNTRY_INFO!X189,\"Not required\")","v":1},{"$f":"IF(COUNTRY_INFO!H189=1, IF($E189=1,IF(ALB_MBD!$G189<>\" \",COUNTRY_INFO!F189+COUNTRY_INFO!G189-ALB_MBD!$G189,COUNTRY_INFO!F189+COUNTRY_INFO!G189), 0),0)","v":0},{"$f":"IF(INTRO!$E$39<>\"Endemic\",0, IF(AND(COUNTRY_INFO!$I189=1,$F189<>0),IF(COUNTRY_INFO!N189>=(COUNTRY_INFO!F189+COUNTRY_INFO!G189),COUNTRY_INFO!F189+COUNTRY_INFO!G189,COUNTRY_INFO!$N189), 0))","v":101003},0,282808.39999999997,0,282808.39999999997,null,282808.39999999997]
[{"$f":"IF(INTRO!$E$39=\"Non-endemic\",\" \",IF(COUNTRY_INFO!A190=0,\" \",COUNTRY_INFO!A190))","v":"Cameroun"},{"$f":"IF(INTRO!$E$39=\"Non-endemic\",\" \",IF(COUNTRY_INFO!B190=0,\" \",COUNTRY_INFO!B190))","v":"Sud"},{"$f":"IF(INTRO!$E$39=\"Non-endemic\",\" \",IF(COUNTRY_INFO!C190=0,\" \",COUNTRY_INFO!C190))","v":"Zoetele"},{"$f":"IF(INTRO!$E$39=\"Non-endemic\",0,IF(INTRO!$E$39=\"Endemic but PC is not required\",IF(COUNTRY_INFO!$H190=1,COUNTRY_INFO!F190+COUNTRY_INFO!G190,0),IF(COUNTRY_INFO!$H190=1,COUNTRY_INFO!F190+COUNTRY_INFO!G190,IF(COUNTRY_INFO!$I190=1,IF(COUNTRY_INFO!N190>=(COUNTRY_INFO!F190+COUNTRY_INFO!G190),COUNTRY_INFO!F190+COUNTRY_INFO!G190,COUNTRY_INFO!$N190),0))))","v":42530},{"$f":"IF(AND(INTRO!$E$39=\"Non-endemic\",INTRO!$E$37=\"Non-endemic\"),\"Not required\",IF(INTRO!$E$39=\"Non-endemic\",\"Treat with DEC\",COUNTRY_INFO!W190))","v":0},{"$f":"IF(INTRO!$E$39<>\"Non-endemic\",COUNTRY_INFO!X190,\"Not required\")","v":1},{"$f":"IF(COUNTRY_INFO!H190=1, IF($E190=1,IF(ALB_MBD!$G190<>\" \",COUNTRY_INFO!F190+COUNTRY_INFO!G190-ALB_MBD!$G190,COUNTRY_INFO!F190+COUNTRY_INFO!G190), 0),0)","v":0},{"$f":"IF(INTRO!$E$39<>\"Endemic\",0, IF(AND(COUNTRY_INFO!$I190=1,$F190<>0),IF(COUNTRY_INFO!N190>=(COUNTRY_INFO!F190+COUNTRY_INFO!G190),COUNTRY_INFO!F190+COUNTRY_INFO!G190,COUNTRY_INFO!$N190), 0))","v":42530},0,119083.99999999999,0,119083.99999999999,null,119083.99999999999]
[{"$f":"IF(INTRO!$E$39=\"Non-endemic\",\" \",IF(COUNTRY_INFO!A191=0,\" \",COUNTRY_INFO!A191))","v":"Cameroun"},{"$f":"IF(INTRO!$E$39=\"Non-endemic\",\" \",IF(COUNTRY_INFO!B191=0,\" \",COUNTRY_INFO!B191))","v":"Sud Ouest"},{"$f":"IF(INTRO!$E$39=\"Non-endemic\",\" \",IF(COUNTRY_INFO!C191=0,\" \",COUNTRY_INFO!C191))","v":"Akwaya"},{"$f":"IF(INTRO!$E$39=\"Non-endemic\",0,IF(INTRO!$E$39=\"Endemic but PC is not required\",IF(COUNTRY_INFO!$H191=1,COUNTRY_INFO!F191+COUNTRY_INFO!G191,0),IF(COUNTRY_INFO!$H191=1,COUNTRY_INFO!F191+COUNTRY_INFO!G191,IF(COUNTRY_INFO!$I191=1,IF(COUNTRY_INFO!N191>=(COUNTRY_INFO!F191+COUNTRY_INFO!G191),COUNTRY_INFO!F191+COUNTRY_INFO!G191,COUNTRY_INFO!$N191),0))))","v":53912},{"$f":"IF(AND(INTRO!$E$39=\"Non-endemic\",INTRO!$E$37=\"Non-endemic\"),\"Not required\",IF(INTRO!$E$39=\"Non-endemic\",\"Treat with DEC\",COUNTRY_INFO!W191))","v":1},{"$f":"IF(INTRO!$E$39<>\"Non-endemic\",COUNTRY_INFO!X191,\"Not required\")","v":1},{"$f":"IF(COUNTRY_INFO!H191=1, IF($E191=1,IF(ALB_MBD!$G191<>\" \",COUNTRY_INFO!F191+COUNTRY_INFO!G191-ALB_MBD!$G191,COUNTRY_INFO!F191+COUNTRY_INFO!G191), 0),0)","v":53912},{"$f":"IF(INTRO!$E$39<>\"Endemic\",0, IF(AND(COUNTRY_INFO!$I191=1,$F191<>0),IF(COUNTRY_INFO!N191>=(COUNTRY_INFO!F191+COUNTRY_INFO!G191),COUNTRY_INFO!F191+COUNTRY_INFO!G191,COUNTRY_INFO!$N191), 0))","v":53912},0,0,150953.59999999998,150953.59999999998,null,150953.59999999998]
[{"$f":"IF(INTRO!$E$39=\"Non-endemic\",\" \",IF(COUNTRY_INFO!A192=0,\" \",COUNTRY_INFO!A192))","v":"Cameroun"},{"$f":"IF(INTRO!$E$39=\"Non-endemic\",\" \",IF(COUNTRY_INFO!B192=0,\" \",COUNTRY_INFO!B192))","v":"Sud Ouest"},{"$f":"IF(INTRO!$E$39=\"Non-endemic\",\" \",IF(COUNTRY_INFO!C192=0,\" \",COUNTRY_INFO!C192))","v":"Bakassi"},{"$f":"IF(INTRO!$E$39=\"Non-endemic\",0,IF(INTRO!$E$39=\"Endemic but PC is not required\",IF(COUNTRY_INFO!$H192=1,COUNTRY_INFO!F192+COUNTRY_INFO!G192,0),IF(COUNTRY_INFO!$H192=1,COUNTRY_INFO!F192+COUNTRY_INFO!G192,IF(COUNTRY_INFO!$I192=1,IF(COUNTRY_INFO!N192>=(COUNTRY_INFO!F192+COUNTRY_INFO!G192),COUNTRY_INFO!F192+COUNTRY_INFO!G192,COUNTRY_INFO!$N192),0))))","v":32588},{"$f":"IF(AND(INTRO!$E$39=\"Non-endemic\",INTRO!$E$37=\"Non-endemic\"),\"Not required\",IF(INTRO!$E$39=\"Non-endemic\",\"Treat with DEC\",COUNTRY_INFO!W192))","v":0},{"$f":"IF(INTRO!$E$39<>\"Non-endemic\",COUNTRY_INFO!X192,\"Not required\")","v":1},{"$f":"IF(COUNTRY_INFO!H192=1, IF($E192=1,IF(ALB_MBD!$G192<>\" \",COUNTRY_INFO!F192+COUNTRY_INFO!G192-ALB_MBD!$G192,COUNTRY_INFO!F192+COUNTRY_INFO!G192), 0),0)","v":0},{"$f":"IF(INTRO!$E$39<>\"Endemic\",0, IF(AND(COUNTRY_INFO!$I192=1,$F192<>0),IF(COUNTRY_INFO!N192>=(COUNTRY_INFO!F192+COUNTRY_INFO!G192),COUNTRY_INFO!F192+COUNTRY_INFO!G192,COUNTRY_INFO!$N192), 0))","v":32588},0,91246.399999999994,0,91246.399999999994,null,91246.399999999994]
[{"$f":"IF(INTRO!$E$39=\"Non-endemic\",\" \",IF(COUNTRY_INFO!A193=0,\" \",COUNTRY_INFO!A193))","v":"Cameroun"},{"$f":"IF(INTRO!$E$39=\"Non-endemic\",\" \",IF(COUNTRY_INFO!B193=0,\" \",COUNTRY_INFO!B193))","v":"Sud Ouest"},{"$f":"IF(INTRO!$E$39=\"Non-endemic\",\" \",IF(COUNTRY_INFO!C193=0,\" \",COUNTRY_INFO!C193))","v":"Bangem"},{"$f":"IF(INTRO!$E$39=\"Non-endemic\",0,IF(INTRO!$E$39=\"Endemic but PC is not required\",IF(COUNTRY_INFO!$H193=1,COUNTRY_INFO!F193+COUNTRY_INFO!G193,0),IF(COUNTRY_INFO!$H193=1,COUNTRY_INFO!F193+COUNTRY_INFO!G193,IF(COUNTRY_INFO!$I193=1,IF(COUNTRY_INFO!N193>=(COUNTRY_INFO!F193+COUNTRY_INFO!G193),COUNTRY_INFO!F193+COUNTRY_INFO!G193,COUNTRY_INFO!$N193),0))))","v":23585},{"$f":"IF(AND(INTRO!$E$39=\"Non-endemic\",INTRO!$E$37=\"Non-endemic\"),\"Not required\",IF(INTRO!$E$39=\"Non-endemic\",\"Treat with DEC\",COUNTRY_INFO!W193))","v":0},{"$f":"IF(INTRO!$E$39<>\"Non-endemic\",COUNTRY_INFO!X193,\"Not required\")","v":1},{"$f":"IF(COUNTRY_INFO!H193=1, IF($E193=1,IF(ALB_MBD!$G193<>\" \",COUNTRY_INFO!F193+COUNTRY_INFO!G193-ALB_MBD!$G193,COUNTRY_INFO!F193+COUNTRY_INFO!G193), 0),0)","v":0},{"$f":"IF(INTRO!$E$39<>\"Endemic\",0, IF(AND(COUNTRY_INFO!$I193=1,$F193<>0),IF(COUNTRY_INFO!N193>=(COUNTRY_INFO!F193+COUNTRY_INFO!G193),COUNTRY_INFO!F193+COUNTRY_INFO!G193,COUNTRY_INFO!$N193), 0))","v":23585},0,66038,0,66038,null,66038]
[{"$f":"IF(INTRO!$E$39=\"Non-endemic\",\" \",IF(COUNTRY_INFO!A194=0,\" \",COUNTRY_INFO!A194))","v":"Cameroun"},{"$f":"IF(INTRO!$E$39=\"Non-endemic\",\" \",IF(COUNTRY_INFO!B194=0,\" \",COUNTRY_INFO!B194))","v":"Sud Ouest"},{"$f":"IF(INTRO!$E$39=\"Non-endemic\",\" \",IF(COUNTRY_INFO!C194=0,\" \",COUNTRY_INFO!C194))","v":"Buea"},{"$f":"IF(INTRO!$E$39=\"Non-endemic\",0,IF(INTRO!$E$39=\"Endemic but PC is not required\",IF(COUNTRY_INFO!$H194=1,COUNTRY_INFO!F194+COUNTRY_INFO!G194,0),IF(COUNTRY_INFO!$H194=1,COUNTRY_INFO!F194+COUNTRY_INFO!G194,IF(COUNTRY_INFO!$I194=1,IF(COUNTRY_INFO!N194>=(COUNTRY_INFO!F194+COUNTRY_INFO!G194),COUNTRY_INFO!F194+COUNTRY_INFO!G194,COUNTRY_INFO!$N194),0))))","v":164108},{"$f":"IF(AND(INTRO!$E$39=\"Non-endemic\",INTRO!$E$37=\"Non-endemic\"),\"Not required\",IF(INTRO!$E$39=\"Non-endemic\",\"Treat with DEC\",COUNTRY_INFO!W194))","v":0},{"$f":"IF(INTRO!$E$39<>\"Non-endemic\",COUNTRY_INFO!X194,\"Not required\")","v":1},{"$f":"IF(COUNTRY_INFO!H194=1, IF($E194=1,IF(ALB_MBD!$G194<>\" \",COUNTRY_INFO!F194+COUNTRY_INFO!G194-ALB_MBD!$G194,COUNTRY_INFO!F194+COUNTRY_INFO!G194), 0),0)","v":0},{"$f":"IF(INTRO!$E$39<>\"Endemic\",0, IF(AND(COUNTRY_INFO!$I194=1,$F194<>0),IF(COUNTRY_INFO!N194>=(COUNTRY_INFO!F194+COUNTRY_INFO!G194),COUNTRY_INFO!F194+COUNTRY_INFO!G194,COUNTRY_INFO!$N194), 0))","v":164108},0,459502.39999999997,0,459502.39999999997,null,459502.39999999997]
[{"$f":"IF(INTRO!$E$39=\"Non-endemic\",\" \",IF(COUNTRY_INFO!A195=0,\" \",COUNTRY_INFO!A195))","v":"Cameroun"},{"$f":"IF(INTRO!$E$39=\"Non-endemic\",\" \",IF(COUNTRY_INFO!B195=0,\" \",COUNTRY_INFO!B195))","v":"Sud Ouest"},{"$f":"IF(INTRO!$E$39=\"Non-endemic\",\" \",IF(COUNTRY_INFO!C195=0,\" \",COUNTRY_INFO!C195))","v":"Ekondo Titi"},{"$f":"IF(INTRO!$E$39=\"Non-endemic\",0,IF(INTRO!$E$39=\"Endemic but PC is not required\",IF(COUNTRY_INFO!$H195=1,COUNTRY_INFO!F195+COUNTRY_INFO!G195,0),IF(COUNTRY_INFO!$H195=1,COUNTRY_INFO!F195+COUNTRY_INFO!G195,IF(COUNTRY_INFO!$I195=1,IF(COUNTRY_INFO!N195>=(COUNTRY_INFO!F195+COUNTRY_INFO!G195),COUNTRY_INFO!F195+COUNTRY_INFO!G195,COUNTRY_INFO!$N195),0))))","v":53192},{"$f":"IF(AND(INTRO!$E$39=\"Non-endemic\",INTRO!$E$37=\"Non-endemic\"),\"Not required\",IF(INTRO!$E$39=\"Non-endemic\",\"Treat with DEC\",COUNTRY_INFO!W195))","v":0},{"$f":"IF(INTRO!$E$39<>\"Non-endemic\",COUNTRY_INFO!X195,\"Not required\")","v":1},{"$f":"IF(COUNTRY_INFO!H195=1, IF($E195=1,IF(ALB_MBD!$G195<>\" \",COUNTRY_INFO!F195+COUNTRY_INFO!G195-ALB_MBD!$G195,COUNTRY_INFO!F195+COUNTRY_INFO!G195), 0),0)","v":0},{"$f":"IF(INTRO!$E$39<>\"Endemic\",0, IF(AND(COUNTRY_INFO!$I195=1,$F195<>0),IF(COUNTRY_INFO!N195>=(COUNTRY_INFO!F195+COUNTRY_INFO!G195),COUNTRY_INFO!F195+COUNTRY_INFO!G195,COUNTRY_INFO!$N195), 0))","v":53192},0,148937.59999999998,0,148937.59999999998,null,148937.59999999998]
[{"$f":"IF(INTRO!$E$39=\"Non-endemic\",\" \",IF(COUNTRY_INFO!A196=0,\" \",COUNTRY_INFO!A196))","v":"Cameroun"},{"$f":"IF(INTRO!$E$39=\"Non-endemic\",\" \",IF(COUNTRY_INFO!B196=0,\" \",COUNTRY_INFO!B196))","v":"Sud Ouest"},{"$f":"IF(INTRO!$E$39=\"Non-endemic\",\" \",IF(COUNTRY_INFO!C196=0,\" \",COUNTRY_INFO!C196))","v":"Eyumodjock"},{"$f":"IF(INTRO!$E$39=\"Non-endemic\",0,IF(INTRO!$E$39=\"Endemic but PC is not required\",IF(COUNTRY_INFO!$H196=1,COUNTRY_INFO!F196+COUNTRY_INFO!G196,0),IF(COUNTRY_INFO!$H196=1,COUNTRY_INFO!F196+COUNTRY_INFO!G196,IF(COUNTRY_INFO!$I196=1,IF(COUNTRY_INFO!N196>=(COUNTRY_INFO!F196+COUNTRY_INFO!G196),COUNTRY_INFO!F196+COUNTRY_INFO!G196,COUNTRY_INFO!$N196),0))))","v":39377},{"$f":"IF(AND(INTRO!$E$39=\"Non-endemic\",INTRO!$E$37=\"Non-endemic\"),\"Not required\",IF(INTRO!$E$39=\"Non-endemic\",\"Treat with DEC\",COUNTRY_INFO!W196))","v":0},{"$f":"IF(INTRO!$E$39<>\"Non-endemic\",COUNTRY_INFO!X196,\"Not required\")","v":1},{"$f":"IF(COUNTRY_INFO!H196=1, IF($E196=1,IF(ALB_MBD!$G196<>\" \",COUNTRY_INFO!F196+COUNTRY_INFO!G196-ALB_MBD!$G196,COUNTRY_INFO!F196+COUNTRY_INFO!G196), 0),0)","v":0},{"$f":"IF(INTRO!$E$39<>\"Endemic\",0, IF(AND(COUNTRY_INFO!$I196=1,$F196<>0),IF(COUNTRY_INFO!N196>=(COUNTRY_INFO!F196+COUNTRY_INFO!G196),COUNTRY_INFO!F196+COUNTRY_INFO!G196,COUNTRY_INFO!$N196), 0))","v":39377},0,110255.59999999999,0,110255.59999999999,null,110255.59999999999]
[{"$f":"IF(INTRO!$E$39=\"Non-endemic\",\" \",IF(COUNTRY_INFO!A197=0,\" \",COUNTRY_INFO!A197))","v":"Cameroun"},{"$f":"IF(INTRO!$E$39=\"Non-endemic\",\" \",IF(COUNTRY_INFO!B197=0,\" \",COUNTRY_INFO!B197))","v":"Sud Ouest"},{"$f":"IF(INTRO!$E$39=\"Non-endemic\",\" \",IF(COUNTRY_INFO!C197=0,\" \",COUNTRY_INFO!C197))","v":"Fontem"},{"$f":"IF(INTRO!$E$39=\"Non-endemic\",0,IF(INTRO!$E$39=\"Endemic but PC is not required\",IF(COUNTRY_INFO!$H197=1,COUNTRY_INFO!F197+COUNTRY_INFO!G197,0),IF(COUNTRY_INFO!$H197=1,COUNTRY_INFO!F197+COUNTRY_INFO!G197,IF(COUNTRY_INFO!$I197=1,IF(COUNTRY_INFO!N197>=(COUNTRY_INFO!F197+COUNTRY_INFO!G197),COUNTRY_INFO!F197+COUNTRY_INFO!G197,COUNTRY_INFO!$N197),0))))","v":116082},{"$f":"IF(AND(INTRO!$E$39=\"Non-endemic\",INTRO!$E$37=\"Non-endemic\"),\"Not required\",IF(INTRO!$E$39=\"Non-endemic\",\"Treat with DEC\",COUNTRY_INFO!W197))","v":0},{"$f":"IF(INTRO!$E$39<>\"Non-endemic\",COUNTRY_INFO!X197,\"Not required\")","v":1},{"$f":"IF(COUNTRY_INFO!H197=1, IF($E197=1,IF(ALB_MBD!$G197<>\" \",COUNTRY_INFO!F197+COUNTRY_INFO!G197-ALB_MBD!$G197,COUNTRY_INFO!F197+COUNTRY_INFO!G197), 0),0)","v":0},{"$f":"IF(INTRO!$E$39<>\"Endemic\",0, IF(AND(COUNTRY_INFO!$I197=1,$F197<>0),IF(COUNTRY_INFO!N197>=(COUNTRY_INFO!F197+COUNTRY_INFO!G197),COUNTRY_INFO!F197+COUNTRY_INFO!G197,COUNTRY_INFO!$N197), 0))","v":116082},0,325029.59999999998,0,325029.59999999998,null,325029.59999999998]
[{"$f":"IF(INTRO!$E$39=\"Non-endemic\",\" \",IF(COUNTRY_INFO!A198=0,\" \",COUNTRY_INFO!A198))","v":"Cameroun"},{"$f":"IF(INTRO!$E$39=\"Non-endemic\",\" \",IF(COUNTRY_INFO!B198=0,\" \",COUNTRY_INFO!B198))","v":"Sud Ouest"},{"$f":"IF(INTRO!$E$39=\"Non-endemic\",\" \",IF(COUNTRY_INFO!C198=0,\" \",COUNTRY_INFO!C198))","v":"Konye"},{"$f":"IF(INTRO!$E$39=\"Non-endemic\",0,IF(INTRO!$E$39=\"Endemic but PC is not required\",IF(COUNTRY_INFO!$H198=1,COUNTRY_INFO!F198+COUNTRY_INFO!G198,0),IF(COUNTRY_INFO!$H198=1,COUNTRY_INFO!F198+COUNTRY_INFO!G198,IF(COUNTRY_INFO!$I198=1,IF(COUNTRY_INFO!N198>=(COUNTRY_INFO!F198+COUNTRY_INFO!G198),COUNTRY_INFO!F198+COUNTRY_INFO!G198,COUNTRY_INFO!$N198),0))))","v":123134},{"$f":"IF(AND(INTRO!$E$39=\"Non-endemic\",INTRO!$E$37=\"Non-endemic\"),\"Not required\",IF(INTRO!$E$39=\"Non-endemic\",\"Treat with DEC\",COUNTRY_INFO!W198))","v":0},{"$f":"IF(INTRO!$E$39<>\"Non-endemic\",COUNTRY_INFO!X198,\"Not required\")","v":1},{"$f":"IF(COUNTRY_INFO!H198=1, IF($E198=1,IF(ALB_MBD!$G198<>\" \",COUNTRY_INFO!F198+COUNTRY_INFO!G198-ALB_MBD!$G198,COUNTRY_INFO!F198+COUNTRY_INFO!G198), 0),0)","v":0},{"$f":"IF(INTRO!$E$39<>\"Endemic\",0, IF(AND(COUNTRY_INFO!$I198=1,$F198<>0),IF(COUNTRY_INFO!N198>=(COUNTRY_INFO!F198+COUNTRY_INFO!G198),COUNTRY_INFO!F198+COUNTRY_INFO!G198,COUNTRY_INFO!$N198), 0))","v":123134},0,344775.19999999995,0,344775.19999999995,null,344775.19999999995]
[{"$f":"IF(INTRO!$E$39=\"Non-endemic\",\" \",IF(COUNTRY_INFO!A199=0,\" \",COUNTRY_INFO!A199))","v":"Cameroun"},{"$f":"IF(INTRO!$E$39=\"Non-endemic\",\" \",IF(COUNTRY_INFO!B199=0,\" \",COUNTRY_INFO!B199))","v":"Sud Ouest"},{"$f":"IF(INTRO!$E$39=\"Non-endemic\",\" \",IF(COUNTRY_INFO!C199=0,\" \",COUNTRY_INFO!C199))","v":"Kumba-North"},{"$f":"IF(INTRO!$E$39=\"Non-endemic\",0,IF(INTRO!$E$39=\"Endemic but PC is not required\",IF(COUNTRY_INFO!$H199=1,COUNTRY_INFO!F199+COUNTRY_INFO!G199,0),IF(COUNTRY_INFO!$H199=1,COUNTRY_INFO!F199+COUNTRY_INFO!G199,IF(COUNTRY_INFO!$I199=1,IF(COUNTRY_INFO!N199>=(COUNTRY_INFO!F199+COUNTRY_INFO!G199),COUNTRY_INFO!F199+COUNTRY_INFO!G199,COUNTRY_INFO!$N199),0))))","v":119692},{"$f":"IF(AND(INTRO!$E$39=\"Non-endemic\",INTRO!$E$37=\"Non-endemic\"),\"Not required\",IF(INTRO!$E$39=\"Non-endemic\",\"Treat with DEC\",COUNTRY_INFO!W199))","v":0},{"$f":"IF(INTRO!$E$39<>\"Non-endemic\",COUNTRY_INFO!X199,\"Not required\")","v":1},{"$f":"IF(COUNTRY_INFO!H199=1, IF($E199=1,IF(ALB_MBD!$G199<>\" \",COUNTRY_INFO!F199+COUNTRY_INFO!G199-ALB_MBD!$G199,COUNTRY_INFO!F199+COUNTRY_INFO!G199), 0),0)","v":0},{"$f":"IF(INTRO!$E$39<>\"Endemic\",0, IF(AND(COUNTRY_INFO!$I199=1,$F199<>0),IF(COUNTRY_INFO!N199>=(COUNTRY_INFO!F199+COUNTRY_INFO!G199),COUNTRY_INFO!F199+COUNTRY_INFO!G199,COUNTRY_INFO!$N199), 0))","v":119692},0,335137.59999999998,0,335137.59999999998,null,335137.59999999998]
[{"$f":"IF(INTRO!$E$39=\"Non-endemic\",\" \",IF(COUNTRY_INFO!A200=0,\" \",COUNTRY_INFO!A200))","v":"Cameroun"},{"$f":"IF(INTRO!$E$39=\"Non-endemic\",\" \",IF(COUNTRY_INFO!B200=0,\" \",COUNTRY_INFO!B200))","v":"Sud Ouest"},{"$f":"IF(INTRO!$E$39=\"Non-endemic\",\" \",IF(COUNTRY_INFO!C200=0,\" \",COUNTRY_INFO!C200))","v":"Kumba-South"},{"$f":"IF(INTRO!$E$39=\"Non-endemic\",0,IF(INTRO!$E$39=\"Endemic but PC is not required\",IF(COUNTRY_INFO!$H200=1,COUNTRY_INFO!F200+COUNTRY_INFO!G200,0),IF(COUNTRY_INFO!$H200=1,COUNTRY_INFO!F200+COUNTRY_INFO!G200,IF(COUNTRY_INFO!$I200=1,IF(COUNTRY_INFO!N200>=(COUNTRY_INFO!F200+COUNTRY_INFO!G200),COUNTRY_INFO!F200+COUNTRY_INFO!G200,COUNTRY_INFO!$N200),0))))","v":224337},{"$f":"IF(AND(INTRO!$E$39=\"Non-endemic\",INTRO!$E$37=\"Non-endemic\"),\"Not required\",IF(INTRO!$E$39=\"Non-endemic\",\"Treat with DEC\",COUNTRY_INFO!W200))","v":0},{"$f":"IF(INTRO!$E$39<>\"Non-endemic\",COUNTRY_INFO!X200,\"Not required\")","v":1},{"$f":"IF(COUNTRY_INFO!H200=1, IF($E200=1,IF(ALB_MBD!$G200<>\" \",COUNTRY_INFO!F200+COUNTRY_INFO!G200-ALB_MBD!$G200,COUNTRY_INFO!F200+COUNTRY_INFO!G200), 0),0)","v":0},{"$f":"IF(INTRO!$E$39<>\"Endemic\",0, IF(AND(COUNTRY_INFO!$I200=1,$F200<>0),IF(COUNTRY_INFO!N200>=(COUNTRY_INFO!F200+COUNTRY_INFO!G200),COUNTRY_INFO!F200+COUNTRY_INFO!G200,COUNTRY_INFO!$N200), 0))","v":224337},0,628143.6,0,628143.6,null,628143.6]
[{"$f":"IF(INTRO!$E$39=\"Non-endemic\",\" \",IF(COUNTRY_INFO!A201=0,\" \",COUNTRY_INFO!A201))","v":"Cameroun"},{"$f":"IF(INTRO!$E$39=\"Non-endemic\",\" \",IF(COUNTRY_INFO!B201=0,\" \",COUNTRY_INFO!B201))","v":"Sud Ouest"},{"$f":"IF(INTRO!$E$39=\"Non-endemic\",\" \",IF(COUNTRY_INFO!C201=0,\" \",COUNTRY_INFO!C201))","v":"Limbe"},{"$f":"IF(INTRO!$E$39=\"Non-endemic\",0,IF(INTRO!$E$39=\"Endemic but PC is not required\",IF(COUNTRY_INFO!$H201=1,COUNTRY_INFO!F201+COUNTRY_INFO!G201,0),IF(COUNTRY_INFO!$H201=1,COUNTRY_INFO!F201+COUNTRY_INFO!G201,IF(COUNTRY_INFO!$I201=1,IF(COUNTRY_INFO!N201>=(COUNTRY_INFO!F201+COUNTRY_INFO!G201),COUNTRY_INFO!F201+COUNTRY_INFO!G201,COUNTRY_INFO!$N201),0))))","v":187740},{"$f":"IF(AND(INTRO!$E$39=\"Non-endemic\",INTRO!$E$37=\"Non-endemic\"),\"Not required\",IF(INTRO!$E$39=\"Non-endemic\",\"Treat with DEC\",COUNTRY_INFO!W201))","v":0},{"$f":"IF(INTRO!$E$39<>\"Non-endemic\",COUNTRY_INFO!X201,\"Not required\")","v":1},{"$f":"IF(COUNTRY_INFO!H201=1, IF($E201=1,IF(ALB_MBD!$G201<>\" \",COUNTRY_INFO!F201+COUNTRY_INFO!G201-ALB_MBD!$G201,COUNTRY_INFO!F201+COUNTRY_INFO!G201), 0),0)","v":0},{"$f":"IF(INTRO!$E$39<>\"Endemic\",0, IF(AND(COUNTRY_INFO!$I201=1,$F201<>0),IF(COUNTRY_INFO!N201>=(COUNTRY_INFO!F201+COUNTRY_INFO!G201),COUNTRY_INFO!F201+COUNTRY_INFO!G201,COUNTRY_INFO!$N201), 0))","v":187740},0,525672,0,525672,null,525672]
[{"$f":"IF(INTRO!$E$39=\"Non-endemic\",\" \",IF(COUNTRY_INFO!A202=0,\" \",COUNTRY_INFO!A202))","v":"Cameroun"},{"$f":"IF(INTRO!$E$39=\"Non-endemic\",\" \",IF(COUNTRY_INFO!B202=0,\" \",COUNTRY_INFO!B202))","v":"Sud Ouest"},{"$f":"IF(INTRO!$E$39=\"Non-endemic\",\" \",IF(COUNTRY_INFO!C202=0,\" \",COUNTRY_INFO!C202))","v":"Mamfe"},{"$f":"IF(INTRO!$E$39=\"Non-endemic\",0,IF(INTRO!$E$39=\"Endemic but PC is not required\",IF(COUNTRY_INFO!$H202=1,COUNTRY_INFO!F202+COUNTRY_INFO!G202,0),IF(COUNTRY_INFO!$H202=1,COUNTRY_INFO!F202+COUNTRY_INFO!G202,IF(COUNTRY_INFO!$I202=1,IF(COUNTRY_INFO!N202>=(COUNTRY_INFO!F202+COUNTRY_INFO!G202),COUNTRY_INFO!F202+COUNTRY_INFO!G202,COUNTRY_INFO!$N202),0))))","v":77575},{"$f":"IF(AND(INTRO!$E$39=\"Non-endemic\",INTRO!$E$37=\"Non-endemic\"),\"Not required\",IF(INTRO!$E$39=\"Non-endemic\",\"Treat with DEC\",COUNTRY_INFO!W202))","v":0},{"$f":"IF(INTRO!$E$39<>\"Non-endemic\",COUNTRY_INFO!X202,\"Not required\")","v":1},{"$f":"IF(COUNTRY_INFO!H202=1, IF($E202=1,IF(ALB_MBD!$G202<>\" \",COUNTRY_INFO!F202+COUNTRY_INFO!G202-ALB_MBD!$G202,COUNTRY_INFO!F202+COUNTRY_INFO!G202), 0),0)","v":0},{"$f":"IF(INTRO!$E$39<>\"Endemic\",0, IF(AND(COUNTRY_INFO!$I202=1,$F202<>0),IF(COUNTRY_INFO!N202>=(COUNTRY_INFO!F202+COUNTRY_INFO!G202),COUNTRY_INFO!F202+COUNTRY_INFO!G202,COUNTRY_INFO!$N202), 0))","v":77575},0,217210,0,217210,null,217210]
[{"$f":"IF(INTRO!$E$39=\"Non-endemic\",\" \",IF(COUNTRY_INFO!A203=0,\" \",COUNTRY_INFO!A203))","v":"Cameroun"},{"$f":"IF(INTRO!$E$39=\"Non-endemic\",\" \",IF(COUNTRY_INFO!B203=0,\" \",COUNTRY_INFO!B203))","v":"Sud Ouest"},{"$f":"IF(INTRO!$E$39=\"Non-endemic\",\" \",IF(COUNTRY_INFO!C203=0,\" \",COUNTRY_INFO!C203))","v":"Mbonge"},{"$f":"IF(INTRO!$E$39=\"Non-endemic\",0,IF(INTRO!$E$39=\"Endemic but PC is not required\",IF(COUNTRY_INFO!$H203=1,COUNTRY_INFO!F203+COUNTRY_INFO!G203,0),IF(COUNTRY_INFO!$H203=1,COUNTRY_INFO!F203+COUNTRY_INFO!G203,IF(COUNTRY_INFO!$I203=1,IF(COUNTRY_INFO!N203>=(COUNTRY_INFO!F203+COUNTRY_INFO!G203),COUNTRY_INFO!F203+COUNTRY_INFO!G203,COUNTRY_INFO!$N203),0))))","v":85411},{"$f":"IF(AND(INTRO!$E$39=\"Non-endemic\",INTRO!$E$37=\"Non-endemic\"),\"Not required\",IF(INTRO!$E$39=\"Non-endemic\",\"Treat with DEC\",COUNTRY_INFO!W203))","v":0},{"$f":"IF(INTRO!$E$39<>\"Non-endemic\",COUNTRY_INFO!X203,\"Not required\")","v":1},{"$f":"IF(COUNTRY_INFO!H203=1, IF($E203=1,IF(ALB_MBD!$G203<>\" \",COUNTRY_INFO!F203+COUNTRY_INFO!G203-ALB_MBD!$G203,COUNTRY_INFO!F203+COUNTRY_INFO!G203), 0),0)","v":0},{"$f":"IF(INTRO!$E$39<>\"Endemic\",0, IF(AND(COUNTRY_INFO!$I203=1,$F203<>0),IF(COUNTRY_INFO!N203>=(COUNTRY_INFO!F203+COUNTRY_INFO!G203),COUNTRY_INFO!F203+COUNTRY_INFO!G203,COUNTRY_INFO!$N203), 0))","v":85411},{"$f":"IF(G203<H203,0,IF($E203=1, (G203-H203)*2.8, 0))","v":0},{"$f":"IF($E203<$F203, H203*(F203-E203)*2.8, 0)","v":239150.8},{"$f":"IF(AND($E203=1, $F203<>0), H203*2.8, 0)","v":0},{"$f":"SUM(I203:K203)","v":239150.8},null,239150.8]
[{"$f":"IF(INTRO!$E$39=\"Non-endemic\",\" \",IF(COUNTRY_INFO!A204=0,\" \",COUNTRY_INFO!A204))","v":"Cameroun"},{"$f":"IF(INTRO!$E$39=\"Non-endemic\",\" \",IF(COUNTRY_INFO!B204=0,\" \",COUNTRY_INFO!B204))","v":"Sud Ouest"},{"$f":"IF(INTRO!$E$39=\"Non-endemic\",\" \",IF(COUNTRY_INFO!C204=0,\" \",COUNTRY_INFO!C204))","v":"Mundemba"},{"$f":"IF(INTRO!$E$39=\"Non-endemic\",0,IF(INTRO!$E$39=\"Endemic but PC is not required\",IF(COUNTRY_INFO!$H204=1,COUNTRY_INFO!F204+COUNTRY_INFO!G204,0),IF(COUNTRY_INFO!$H204=1,COUNTRY_INFO!F204+COUNTRY_INFO!G204,IF(COUNTRY_INFO!$I204=1,IF(COUNTRY_INFO!N204>=(COUNTRY_INFO!F204+COUNTRY_INFO!G204),COUNTRY_INFO!F204+COUNTRY_INFO!G204,COUNTRY_INFO!$N204),0))))","v":20277},{"$f":"IF(AND(INTRO!$E$39=\"Non-endemic\",INTRO!$E$37=\"Non-endemic\"),\"Not required\",IF(INTRO!$E$39=\"Non-endemic\",\"Treat with DEC\",COUNTRY_INFO!W204))","v":0},{"$f":"IF(INTRO!$E$39<>\"Non-endemic\",COUNTRY_INFO!X204,\"Not required\")","v":1},{"$f":"IF(COUNTRY_INFO!H204=1, IF($E204=1,IF(ALB_MBD!$G204<>\" \",COUNTRY_INFO!F204+COUNTRY_INFO!G204-ALB_MBD!$G204,COUNTRY_INFO!F204+COUNTRY_INFO!G204), 0),0)","v":0},{"$f":"IF(INTRO!$E$39<>\"Endemic\",0, IF(AND(COUNTRY_INFO!$I204=1,$F204<>0),IF(COUNTRY_INFO!N204>=(COUNTRY_INFO!F204+COUNTRY_INFO!G204),COUNTRY_INFO!F204+COUNTRY_INFO!G204,COUNTRY_INFO!$N204), 0))","v":20277},0,56775.6,0,56775.6,null,56775.6]
[{"$f":"IF(INTRO!$E$39=\"Non-endemic\",\" \",IF(COUNTRY_INFO!A205=0,\" \",COUNTRY_INFO!A205))","v":"Cameroun"},{"$f":"IF(INTRO!$E$39=\"Non-endemic\",\" \",IF(COUNTRY_INFO!B205=0,\" \",COUNTRY_INFO!B205))","v":"Sud Ouest"},{"$f":"IF(INTRO!$E$39=\"Non-endemic\",\" \",IF(COUNTRY_INFO!C205=0,\" \",COUNTRY_INFO!C205))","v":"Muyuka"},{"$f":"IF(INTRO!$E$39=\"Non-endemic\",0,IF(INTRO!$E$39=\"Endemic but PC is not required\",IF(COUNTRY_INFO!$H205=1,COUNTRY_INFO!F205+COUNTRY_INFO!G205,0),IF(COUNTRY_INFO!$H205=1,COUNTRY_INFO!F205+COUNTRY_INFO!G205,IF(COUNTRY_INFO!$I205=1,IF(COUNTRY_INFO!N205>=(COUNTRY_INFO!F205+COUNTRY_INFO!G205),COUNTRY_INFO!F205+COUNTRY_INFO!G205,COUNTRY_INFO!$N205),0))))","v":107330},{"$f":"IF(AND(INTRO!$E$39=\"Non-endemic\",INTRO!$E$37=\"Non-endemic\"),\"Not required\",IF(INTRO!$E$39=\"Non-endemic\",\"Treat with DEC\",COUNTRY_INFO!W205))","v":0},{"$f":"IF(INTRO!$E$39<>\"Non-endemic\",COUNTRY_INFO!X205,\"Not required\")","v":1},{"$f":"IF(COUNTRY_INFO!H205=1, IF($E205=1,IF(ALB_MBD!$G205<>\" \",COUNTRY_INFO!F205+COUNTRY_INFO!G205-ALB_MBD!$G205,COUNTRY_INFO!F205+COUNTRY_INFO!G205), 0),0)","v":0},{"$f":"IF(INTRO!$E$39<>\"Endemic\",0, IF(AND(COUNTRY_INFO!$I205=1,$F205<>0),IF(COUNTRY_INFO!N205>=(COUNTRY_INFO!F205+COUNTRY_INFO!G205),COUNTRY_INFO!F205+COUNTRY_INFO!G205,COUNTRY_INFO!$N205), 0))","v":107330},0,300524,0,300524,null,300524]
[{"$f":"IF(INTRO!$E$39=\"Non-endemic\",\" \",IF(COUNTRY_INFO!A206=0,\" \",COUNTRY_INFO!A206))","v":"Cameroun"},{"$f":"IF(INTRO!$E$39=\"Non-endemic\",\" \",IF(COUNTRY_INFO!B206=0,\" \",COUNTRY_INFO!B206))","v":"Sud Ouest"},{"$f":"IF(INTRO!$E$39=\"Non-endemic\",\" \",IF(COUNTRY_INFO!C206=0,\" \",COUNTRY_INFO!C206))","v":"Nguti"},{"$f":"IF(INTRO!$E$39=\"Non-endemic\",0,IF(INTRO!$E$39=\"Endemic but PC is not required\",IF(COUNTRY_INFO!$H206=1,COUNTRY_INFO!F206+COUNTRY_INFO!G206,0),IF(COUNTRY_INFO!$H206=1,COUNTRY_INFO!F206+COUNTRY_INFO!G206,IF(COUNTRY_INFO!$I206=1,IF(COUNTRY_INFO!N206>=(COUNTRY_INFO!F206+COUNTRY_INFO!G206),COUNTRY_INFO!F206+COUNTRY_INFO!G206,COUNTRY_INFO!$N206),0))))","v":35486},{"$f":"IF(AND(INTRO!$E$39=\"Non-endemic\",INTRO!$E$37=\"Non-endemic\"),\"Not required\",IF(INTRO!$E$39=\"Non-endemic\",\"Treat with DEC\",COUNTRY_INFO!W206))","v":0},{"$f":"IF(INTRO!$E$39<>\"Non-endemic\",COUNTRY_INFO!X206,\"Not required\")","v":1},{"$f":"IF(COUNTRY_INFO!H206=1, IF($E206=1,IF(ALB_MBD!$G206<>\" \",COUNTRY_INFO!F206+COUNTRY_INFO!G206-ALB_MBD!$G206,COUNTRY_INFO!F206+COUNTRY_INFO!G206), 0),0)","v":0},{"$f":"IF(INTRO!$E$39<>\"Endemic\",0, IF(AND(COUNTRY_INFO!$I206=1,$F206<>0),IF(COUNTRY_INFO!N206>=(COUNTRY_INFO!F206+COUNTRY_INFO!G206),COUNTRY_INFO!F206+COUNTRY_INFO!G206,COUNTRY_INFO!$N206), 0))","v":35486},0,99360.799999999988,0,99360.799999999988,null,99360.799999999988]
[{"$f":"IF(INTRO!$E$39=\"Non-endemic\",\" \",IF(COUNTRY_INFO!A207=0,\" \",COUNTRY_INFO!A207))","v":"Cameroun"},{"$f":"IF(INTRO!$E$39=\"Non-endemic\",\" \",IF(COUNTRY_INFO!B207=0,\" \",COUNTRY_INFO!B207))","v":"Sud Ouest"},{"$f":"IF(INTRO!$E$39=\"Non-endemic\",\" \",IF(COUNTRY_INFO!C207=0,\" \",COUNTRY_INFO!C207))","v":"Tiko"},{"$f":"IF(INTRO!$E$39=\"Non-endemic\",0,IF(INTRO!$E$39=\"Endemic but PC is not required\",IF(COUNTRY_INFO!$H207=1,COUNTRY_INFO!F207+COUNTRY_INFO!G207,0),IF(COUNTRY_INFO!$H207=1,COUNTRY_INFO!F207+COUNTRY_INFO!G207,IF(COUNTRY_INFO!$I207=1,IF(COUNTRY_INFO!N207>=(COUNTRY_INFO!F207+COUNTRY_INFO!G207),COUNTRY_INFO!F207+COUNTRY_INFO!G207,COUNTRY_INFO!$N207),0))))","v":143181},{"$f":"IF(AND(INTRO!$E$39=\"Non-endemic\",INTRO!$E$37=\"Non-endemic\"),\"Not required\",IF(INTRO!$E$39=\"Non-endemic\",\"Treat with DEC\",COUNTRY_INFO!W207))","v":0},{"$f":"IF(INTRO!$E$39<>\"Non-endemic\",COUNTRY_INFO!X207,\"Not required\")","v":1},{"$f":"IF(COUNTRY_INFO!H207=1, IF($E207=1,IF(ALB_MBD!$G207<>\" \",COUNTRY_INFO!F207+COUNTRY_INFO!G207-ALB_MBD!$G207,COUNTRY_INFO!F207+COUNTRY_INFO!G207), 0),0)","v":0},{"$f":"IF(INTRO!$E$39<>\"Endemic\",0, IF(AND(COUNTRY_INFO!$I207=1,$F207<>0),IF(COUNTRY_INFO!N207>=(COUNTRY_INFO!F207+COUNTRY_INFO!G207),COUNTRY_INFO!F207+COUNTRY_INFO!G207,COUNTRY_INFO!$N207), 0))","v":143181},0,400906.8,0,400906.8,null,400906.8]
[{"$f":"IF(INTRO!$E$39=\"Non-endemic\",\" \",IF(COUNTRY_INFO!A208=0,\" \",COUNTRY_INFO!A208))","v":"Cameroun"},{"$f":"IF(INTRO!$E$39=\"Non-endemic\",\" \",IF(COUNTRY_INFO!B208=0,\" \",COUNTRY_INFO!B208))","v":"Sud Ouest"},{"$f":"IF(INTRO!$E$39=\"Non-endemic\",\" \",IF(COUNTRY_INFO!C208=0,\" \",COUNTRY_INFO!C208))","v":"Tombel"},{"$f":"IF(INTRO!$E$39=\"Non-endemic\",0,IF(INTRO!$E$39=\"Endemic but PC is not required\",IF(COUNTRY_INFO!$H208=1,COUNTRY_INFO!F208+COUNTRY_INFO!G208,0),IF(COUNTRY_INFO!$H208=1,COUNTRY_INFO!F208+COUNTRY_INFO!G208,IF(COUNTRY_INFO!$I208=1,IF(COUNTRY_INFO!N208>=(COUNTRY_INFO!F208+COUNTRY_INFO!G208),COUNTRY_INFO!F208+COUNTRY_INFO!G208,COUNTRY_INFO!$N208),0))))","v":74687},{"$f":"IF(AND(INTRO!$E$39=\"Non-endemic\",INTRO!$E$37=\"Non-endemic\"),\"Not required\",IF(INTRO!$E$39=\"Non-endemic\",\"Treat with DEC\",COUNTRY_INFO!W208))","v":0},{"$f":"IF(INTRO!$E$39<>\"Non-endemic\",COUNTRY_INFO!X208,\"Not required\")","v":1},{"$f":"IF(COUNTRY_INFO!H208=1, IF($E208=1,IF(ALB_MBD!$G208<>\" \",COUNTRY_INFO!F208+COUNTRY_INFO!G208-ALB_MBD!$G208,COUNTRY_INFO!F208+COUNTRY_INFO!G208), 0),0)","v":0},{"$f":"IF(INTRO!$E$39<>\"Endemic\",0, IF(AND(COUNTRY_INFO!$I208=1,$F208<>0),IF(COUNTRY_INFO!N208>=(COUNTRY_INFO!F208+COUNTRY_INFO!G208),COUNTRY_INFO!F208+COUNTRY_INFO!G208,COUNTRY_INFO!$N208), 0))","v":74687},0,209123.59999999998,0,209123.59999999998,null,209123.59999999998]
[{"$f":"IF(INTRO!$E$39=\"Non-endemic\",\" \",IF(COUNTRY_INFO!A209=0,\" \",COUNTRY_INFO!A209))","v":"Cameroun"},{"$f":"IF(INTRO!$E$39=\"Non-endemic\",\" \",IF(COUNTRY_INFO!B209=0,\" \",COUNTRY_INFO!B209))","v":"Sud Ouest"},{"$f":"IF(INTRO!$E$39=\"Non-endemic\",\" \",IF(COUNTRY_INFO!C209=0,\" \",COUNTRY_INFO!C209))","v":"Wabane"},{"$f":"IF(INTRO!$E$39=\"Non-endemic\",0,IF(INTRO!$E$39=\"Endemic but PC is not required\",IF(COUNTRY_INFO!$H209=1,COUNTRY_INFO!F209+COUNTRY_INFO!G209,0),IF(COUNTRY_INFO!$H209=1,COUNTRY_INFO!F209+COUNTRY_INFO!G209,IF(COUNTRY_INFO!$I209=1,IF(COUNTRY_INFO!N209>=(COUNTRY_INFO!F209+COUNTRY_INFO!G209),COUNTRY_INFO!F209+COUNTRY_INFO!G209,COUNTRY_INFO!$N209),0))))","v":42419},{"$f":"IF(AND(INTRO!$E$39=\"Non-endemic\",INTRO!$E$37=\"Non-endemic\"),\"Not required\",IF(INTRO!$E$39=\"Non-endemic\",\"Treat with DEC\",COUNTRY_INFO!W209))","v":0},{"$f":"IF(INTRO!$E$39<>\"Non-endemic\",COUNTRY_INFO!X209,\"Not required\")","v":1},{"$f":"IF(COUNTRY_INFO!H209=1, IF($E209=1,IF(ALB_MBD!$G209<>\" \",COUNTRY_INFO!F209+COUNTRY_INFO!G209-ALB_MBD!$G209,COUNTRY_INFO!F209+COUNTRY_INFO!G209), 0),0)","v":0},{"$f":"IF(INTRO!$E$39<>\"Endemic\",0, IF(AND(COUNTRY_INFO!$I209=1,$F209<>0),IF(COUNTRY_INFO!N209>=(COUNTRY_INFO!F209+COUNTRY_INFO!G209),COUNTRY_INFO!F209+COUNTRY_INFO!G209,COUNTRY_INFO!$N209), 0))","v":42419},0,118773.2,0,118773.2,null,118773.2]

{"sheet":"SUMMARY","index":5,"n_rows":93,"n_cols":8,"rows_kept":93,"cut":false,"hidden":false,"merged":[[82,2,82,6],[63,4,63,6],[75,2,75,3],[97,1,97,7],[75,4,75,5],[70,4,70,5],[71,4,71,5],[70,2,70,3],[71,2,71,3],[92,1,92,7],[76,4,76,5],[87,1,87,7],[91,1,91,7],[86,1,86,7],[84,1,84,2],[84,3,84,7],[83,1,83,2],[0,1,0,7],[1,1,1,7],[2,1,2,5],[3,1,3,7],[4,1,4,7],[6,1,6,7],[5,2,5,5],[65,1,65,7],[54,1,54,7],[53,1,53,7],[36,1,36,7],[41,2,41,3],[41,4,41,5],[41,6,41,7],[55,1,55,7],[9,1,10,1],[9,3,9,6],[9,2,10,2],[17,1,19,1],[21,1,23,1],[25,1,27,1],[9,7,10,7],[32,2,35,4],[81,2,81,7],[83,3,83,7],[59,4,59,6],[50,1,50,7],[56,1,56,7],[51,1,51,7],[52,1,52,7],[80,1,80,7],[58,1,58,7],[78,1,78,7],[79,1,79,7],[66,1,66,7],[76,2,76,3],[74,2,74,3],[74,4,74,5],[73,2,73,3],[73,4,73,5],[60,4,60,6],[61,4,61,6],[62,4,62,6],[72,2,72,3],[72,4,72,5]]}
[]
[null,"Joint request for selected PC medicines v.4.1 (Loa)"]
[]
[null,"This form constitutes an official government request to WHO for the supply of the PC medicines. To ensure the medicines are delivered on time, the request for PC medicines should be submitted at least 9 months before the first date of MDA planned in the calendar year of the request. "]
[]
[null,"Country",{"$f":"IF(INTRO!$E$33<>0,INTRO!$E$33,\" \")","v":"Cameroun"},null,null,null,"Year",{"$f":"IF(INTRO!$E$35<>0,INTRO!$E$35,\" \")","v":2024}]
[]
[null,"Information on PC medicines requested to WHO"]
[]
[null,"PC medicine","Target group","Number of tablets",null,null,null,"Specify \nsource"]
[null,null,null,"Required","In stock","In pipeline","Requested"]
[null,"Diethylcarbamazine citrate","ALL",null,null,null,{"$f":"IF(D12>(E12+F12),D12-E12-F12, 0)","v":0}]
[null,null,null,null,null,null,0]
[null,"Ivermectin","ALL",31550598.800000001,0,null,31550598.800000001,"OMS"]
[]
[null,"Albendazole for LF","ALL",53912,0,null,53912,"OMS"]
[null,null,null,null,null,null,0]
[null,"Albendazole for STH","PreSAC",null,null,null,0]
[null,null,"SAC",null,null,null,0]
[null,null,"WRA",null,null,null,0]
[]
[null,"Mebendazole","PreSAC",5371568.877756251,null,null,5371568.877756251,"OMS"]
[null,null,"SAC",7710565,null,null,7710565,"OMS"]
[null,null,"WRA",957267,null,null,957267,"OMS"]
[]
[null,"Praziquantel","PreSAC",0,null,null,0]
[null,null,"SAC",7959556,null,null,7959556,"OMS"]
[null,null,"Adults",10523445,null,null,{"$f":"IF(D28>(E28+F28),D28-E28-F28, 0)","v":10523445},"OMS"]
[]
[null,"Number of people to be treated with donated medicine ( see User Guide for details )"]
[]
[null,"Disease",null,null,null,"Round 1","Round 2","Round 3"]
[null,"Lymphatic filariasis","These figures are estimated only \nfor targeted age groups to be treated \nwith donated medicines in areas \nwhere treatment for \na specific disease is planned",null,null,53912,0]
[null,"Onchocerciasis",null,null,null,11268071,0]
[null,"Schistosomiasis",null,null,null,7487593,0]
[null,"Soil-transmitted helminthiases",null,null,null,13085595,3568163,0]
[]
[]
[]
[null,"Information on planned PC interventions"]
[]
[null,"PC medicine","Planned date of the \n1st round of PC",null,"Planned date of the \n2nd round of PC",null,"Date by which the medicine should arrive to the national warehouse"]
[null,"Diethylcarbamazine citrate"]
[null,"Ivermectin","March",2024,null,null,"January",2024]
[null,"Albendazole for LF"]
[null,"Albendazole for STH"]
[null,"Mebendazole","March",2024,"December",null,"January",2024]
[null,"Praziquantel","March",2024,null,null,"January",2024]
[]
[null,"Checklist"]
[null,"Submission"]
[null,"What should be submitted?"]
[null,"The supply of the requested medicines should be based on up-to-date epidemiological data, specific usage plans, and capacity for implementation. The following checklist ensures that all necessary forms and information are provided to WHO (in electronic format). "]
[null,"Joint request for selected PC medicines"]
[null,"Joint reporting form"]
[null,"PC epidemiological data reporting form"]
[]
[null,"Availability of funding for implementation in the year for which the medicines are requested"]
[]
[null,"Diseases \ntargeted for implementation","Total treatments","Funding secured for","Source",null,null,"Amount"]
[null,{"$f":"B33","v":"Lymphatic filariasis"},{"$f":"SUM(F33:H33)","v":53912},"tous","HKI/USAID",null,null,"NON DETERMINE"]
[null,{"$f":"B34","v":"Onchocerciasis"},{"$f":"SUM(F34:H34)","v":11268071},"tous","HKI/USAID",null,null,"NON DETERMINE"]
[null,{"$f":"B35","v":"Schistosomiasis"},{"$f":"SUM(F35:H35)","v":7487593},"tous sauf qlq DS","Sightsavers/ Givewell, Good Neighbors/KOICA",null,null,"NON DETERMINE"]
[null,{"$f":"B36","v":"Soil-transmitted helminthiases"},{"$f":"SUM(F36:H36)","v":16653758},"tous sauf qlq DS","Sightsavers/ Givewell , Good Neighbors: KOICA",null,null,"NON DETERMINE"]
[]
[null,"Who should fill in the form? "]
[null,"National NTD coordinator should compile all required information needed to complete the request form. In the absence of such a coordinator, specific programme managers should coordinate their respective part. The final single request must be approved by the Ministry of Health."]
[]
[null,"Information on person(s) who has filled in the form"]
[]
[null,"Title ","Name",null,"Phone",null,"Email","Date"]
[null,"Coordonnateur MTN/CP","NKO'AYISSI Georges ",null,652580398,null,"gb_nko@yahoo.fr"]
[null,"Gestionnaire de programme ONCHO","BILONG Serge",null,673394386,null,"sergebillong@yahoo,fr"]
[null,"Gestionnaire de Programme STH","TCHUEM TCHUENTE",null,699911809,null,"tchuemtchuente@schisto.com"]
[null,"autre","NNOMZO'O Etienne",null,694497626,null,"nnomzoo@yahoo,fr"]
[null,"Data Manager","AVOM MBENG Joel ",null,694248164,null,"joelavom2009@yahoo.fr"]
[]
[]
[null,"The WHO recommends that all serious adverse events suspected to be associated with use of PC medicines should be reported in accordance with national Pharmacovigilance guidelines. In the absence of a national Pharmacovigilance system, contact the WHO Neglected Tropical Disease department for guidance."]
[null,"The WHO is committed to facilitate PC medicines donation with a free-of-charge supply of a) albendazole, mebendazole and praziquantel to the MoH’s national warehouse; and b) diethylcarbamazine citrate to the entry port/airport of recipient countries."]
[null,"The institution submitting the present request is responsible for a) arranging the offloading of the medicines from the truck and storing it in the national warehouse and subsequent shipment to the final distribution centres; b) for registering the donated medicine, if required, by the relevant national regulatory authorities; and c) for informing about any changes of their PC campaigns (e.g. postpone of the planned MDA date, replacement of NTD coordinator, etc.)."]
[null,null,"I have read and accept WHO Data Sharing Policy"]
[null,null,"I confirm that all information provided in this form is complete and correct"]
[null,"Name and signature of NTD coordinator \nor Ministry of Health representative",null,"Dr NKO'AYISSI GEORGES"]
[null,"Date:",null,"2024-07-04"]
[]
[null,"Please complete information on shipment and consignee in the worksheet SHIPMENT. Any additional details related to this Request should be provided in the \"Additional information\" box in the worksheet SHIPMENT."]
[null,"Please send the national request (signed and in electronic format) to the concerned WR with copy to:"]
[null,"WHO headquarters","PC_JointForms@who.int"]
[null,"WHO Regional Office","Regional Advisor for NTD"]
[null,"Mectizan donation program","Dr Yao Sodahlon, email: ysodahlon@taskforce.org"]
[]
[null,"Please note that your request will be reviewed by an independent panel before approval. The information in this form, joint reporting form and PC epidemiological data reporting form are essential for WHO to ensure efficient usage of medicines. As part of its ongoing monitoring and evaluation activities, and to meet its contractual obligations to donors and other partners, WHO and its appointed agents reserve the right to periodically inspect stocks of the medicines at country level."]

{"sheet":"SHIPMENT","index":6,"n_rows":46,"n_cols":8,"rows_kept":46,"cut":false,"hidden":false,"merged":[[32,2,32,4],[32,5,32,7],[29,2,29,4],[29,5,29,7],[30,2,30,4],[30,5,30,7],[31,2,31,4],[31,5,31,7],[26,2,26,4],[26,5,26,7],[27,2,27,4],[27,5,27,7],[28,2,28,4],[28,5,28,7],[23,2,23,4],[23,5,23,7],[21,5,21,7],[16,5,16,7],[17,2,17,4],[12,2,12,4],[12,5,12,7],[13,2,13,4],[13,5,13,7],[14,2,14,4],[14,5,14,7],[9,2,9,4],[9,5,9,7],[10,2,10,4],[10,5,10,7],[11,2,11,4],[11,5,11,7],[6,1,6,7],[7,2,7,4],[7,5,7,7],[8,2,8,4],[8,5,8,7],[15,5,15,7],[20,2,20,4],[18,2,18,4],[16,2,16,4],[47,1,56,7],[45,1,45,7],[37,1,37,6],[38,1,38,5],[40,1,40,7],[41,1,41,6],[39,1,39,6],[42,1,42,6],[43,1,43,7],[25,2,25,4],[25,5,25,7],[24,1,24,7],[34,1,34,7],[36,1,36,7],[0,1,0,7],[1,1,1,7],[2,1,2,5],[17,5,17,7],[18,5,18,7],[19,2,19,4],[19,5,19,7],[21,2,21,4],[3,2,3,5],[4,1,4,7],[22,2,22,4],[22,5,22,7],[15,2,15,4],[20,5,20,7]]}
[]
[null,"Joint request for selected PC medicines v.4.1 (Loa)"]
[]
[null,"Country",{"$f":"IF(INTRO!$E$33<>0,INTRO!$E$33,\" \")","v":"Cameroun"},null,null,null,"Year",{"$f":"IF(INTRO!$E$35<>0,INTRO!$E$35,\" \")","v":2024}]
[]
[null,"Information on shipment and consignee "]
[]
[null,null,"Consignee",null,null,"Delivery point / Final recipient\nif different from the consignee"]
[null,"Name","Dr Phanuel Habimana",null,null,"Dr ETOUNDI MBALLA Georges"]
[null,"Department/Unit","OMS Bureau Cameroun",null,null,"Direction de la lutte contre la malaide, les épidémies et les pandémies"]
[null,"Organization","Représentant OMS Cameroun",null,null,"Ministère de la Santé publique"]
[null,"Phone","+237 2221 1078",null,null,"+237 222 013 788 / 677 702 167"]
[null,"Fax"]
[null,"E-mail","afwcocm@who.int",null,null,"dretoundi@yahoo.fr"]
[null,"Mailing address","Boîte postale 155 Yaoundé, Cameroon"]
[]
[null,null,"Consignee",null,null,"Delivery point / Final recipient\nif different from the consignee"]
[null,"Name","Dr Phanuel Habimana",null,null,"Dr ETOUNDI MBALLA Georges"]
[null,"Department/Unit","OMS Bureau Cameroun",null,null,"Direction de la lutte contre la malaide, les épidémies et les pandémies"]
[null,"Organization","Représentant OMS Cameroun",null,null,"Ministère de la Santé publique"]
[null,"Phone","+237 2221 1078",null,null,"+237 222 013 788 / 677 702 167"]
[null,"Fax"]
[null,"E-mail","afwcocm@who.int",null,null,"dretoundi@yahoo.fr"]
[null,"Mailing address","Boîte postale 155 Yaoundé, Cameroon"]
[]
[null,null,"Consignee",null,null,"Delivery point / Final recipient\nif different from the consignee"]
[null,"Name","Dr Phanuel Habimana",null,null,"Dr ETOUNDI MBALLA Georges"]
[null,"Department/Unit","OMS Bureau Cameroun",null,null,"Direction de la lutte contre la malaide, les épidémies et les pandémies"]
[null,"Organization","Représentant OMS Cameroun",null,null,"Ministère de la Santé publique"]
[null,"Phone","+237 2221 1078",null,null,"+237 222 013 788 / 677 702 167"]
[null,"Fax"]
[null,"E-mail","afwcocm@who.int",null,null,"dretoundi@yahoo.fr"]
[null,"Mailing address","Boîte postale 155 Yaoundé, Cameroon"]
[]
[]
[null,"Information on import requirements"]
[]
[null,"Is the Import Permit required?",null,null,null,null,null,"No"]
[null,"How long does it take to obtain the Import Permit?"]
[null,"Do you require any documents to be submitted together with the Import Permit application?",null,null,null,null,null,"No"]
[]
[null,"Does the consignee have to get customs clearance before the shipment can proceed?",null,null,null,null,null,"No"]
[null,"Is there any additional information may be helpful in ensuring timely clearance and delivery of medicines to your country? ",null,null,null,null,null,"No"]
[]
[]
[null,"Additional information"]

{"sheet":"DATA_POLICY","index":7,"n_rows":39,"n_cols":8,"rows_kept":39,"cut":false,"hidden":true,"merged":[[55,1,55,2],[0,1,0,5],[1,1,1,7],[3,3,3,5],[6,1,6,7],[8,1,12,7],[13,1,16,7],[17,1,21,7],[22,1,25,7],[26,2,36,7],[38,1,45,7]]}
[]
[null,"Joint request for selected PC medicines v.4.1 (Loa)"]
[]
[null,"Country",null,{"$f":"IF(INTRO!$E$33<>0,INTRO!$E$33,\" \")","v":"Cameroun"},null,null,"Year",{"$f":"IF(INTRO!$E$35<>0,INTRO!$E$35,\" \")","v":2024}]
[]
[]
[null,"WHO Data Sharing Policy statement"]
[]
[null,"Data are the basis for all sound public health actions and the benefits of data sharing are widely recognized, including scientific and public health benefits. Whenever possible, WHO wishes to promote the sharing of health data, including but not restricted to surveillance and epidemiological data.  "]
[]
[]
[]
[]
[null,{"$f":"\"In this connection, and without prejudice to information sharing and publication pursuant to legally binding instruments, by providing data to WHO, the Ministry of Health of \" & D4 & \":\"","v":"In this connection, and without prejudice to information sharing and publication pursuant to legally binding instruments, by providing data to WHO, the Ministry of Health of Cameroun:"}]
[]
[]
[]
[null,"Confirms that all data to be supplied to WHO hereunder have been collected in accordance with applicable national laws, including data protection laws aimed at protecting the confidentiality of identifiable persons;"]
[]
[]
[]
[]
[null,{"$f":"\"Agrees that WHO shall be entitled, subject always to measures to ensure the ethical and secure use of the data, and subject always to an appropriate acknowledgement of \"&D4&\":\"","v":"Agrees that WHO shall be entitled, subject always to measures to ensure the ethical and secure use of the data, and subject always to an appropriate acknowledgement of Cameroun:"}]
[]
[]
[]
[null,null,"to publish the data, stripped of any personal identifiers and make the Data available to any interested party on request (to the extent they have not, or not yet, been published by WHO) on terms that allow non-commercial, not-for-profit use of the Data for public health purposes (provided always that publication of the Data shall remain under the control of WHO); \nto use, compile, aggregate, evaluate and analyse the Data and publish and disseminate the results thereof in conjunction with WHO’s work and in accordance with the Organization’s policies and practices."]
[]
[]
[]
[]
[]
[]
[]
[]
[]
[]
[]
[null,{"$f":"CONCATENATE(\"Except where data sharing and publication is required under legally binding instruments (IHR, WHO Nomenclature Regulations 1967, etc.), the Ministry of Health of \", D4,\" may in respect of certain data opt out of (any part of) the above,\" & \" by notifying WHO thereof in writing at the following address, provided that any such notification shall clearly identify the data in question and clearly indicate the scope of the opt-out (in reference to the  above), \" & \"and provided that specific reasons shall be given for the opt out.\")","v":"Except where data sharing and publication is required under legally binding instruments (IHR, WHO Nomenclature Regulations 1967, etc.), the Ministry of Health of Cameroun may in respect of certain data opt out of (any part of) the above, by notifying WHO thereof in writing at the following address, provided that any such notification shall clearly identify the data in question and clearly indicate the scope of the opt-out (in reference to the  above), and provided that specific reasons shall be given for the opt out."}]