{"text_format":"1","workbook":"xlsx","n_sheets":12,"sheets":["INTRO","COUNTRY_INFO","MDA1","MDA2","MDA3","T1","T2","T3_R1","T3_R2","DISTRICT","SUMMARY","PROFILE"],"not_rendered":{"charts":8,"images":2,"macros":1,"external_links":0,"defined_names":4,"comments":11,"pivot_tables":0},"unopened":[],"bounds":{"document_bytes":16777216,"sheet_cells":100000,"rows_first":2000,"rows_last":500,"rows_between":2000,"halvings":0,"cell_chars":16384,"cell_head_chars":4096},"cells_cut":0,"cells_raw":0,"read":"whole","date_system":"1900"}

{"sheet":"INTRO","index":0,"n_rows":50,"n_cols":5,"rows_kept":50,"cut":false,"hidden":false,"merged":[[45,1,45,2],[10,2,10,4],[41,1,41,2],[43,1,43,2],[46,1,46,4],[33,1,33,2],[35,1,35,2],[26,2,27,4],[37,1,37,2],[39,1,39,2],[28,1,28,4],[29,2,29,4],[30,1,30,4],[31,1,31,4],[20,1,20,4],[21,2,21,4],[22,1,22,4],[23,2,24,4],[25,1,25,4],[15,1,15,4],[16,1,16,4],[17,1,17,4],[18,1,18,4],[19,2,19,4],[9,2,9,4],[11,2,11,4],[12,1,12,4],[13,1,13,4],[14,1,14,4],[7,2,7,4],[8,2,8,4],[0,1,0,4],[1,1,1,4],[2,1,2,4],[3,1,3,4],[4,1,4,4],[5,1,5,4]]}
[]
[null,"Formulaire de Rapport Commun v.3"]
[]
[null,"Le but de ce formulaire de rapport commun - disponible sous forme de fichier Excel - est de mettre à disposition des autorités sanitaires nationales et des gestionnaires de données un outil standardisé qui réponde aux défis, facilite l'intégration et par conséquent contribue à améliorer la gestion de programme. Ce formulaire tend à standardiser le rapport de résultats des programmes nationaux, améliore la disponibilité et la coordination des données de chimioprévention à travers les Bureaux des Régions de l'Organisation mondiale de la Santé. \nLes autorités nationales sont priées de compléter ce formulaire et de le soumettre à l'Organisation mondiale de la Santé avant le 15 août de l'année en cours pour rapporter les données des activités de chimioprévention mises en oeuvre l'année précédente."]
[]
[null,"Structure de l'application (feuilles de travail) :"]
[]
[null,"INTRO","Cette feuille contient des instructions pour compléter le formulaire de rapport commun et des informations sur le statut de la chimioprévention pour les maladies d'endémie du pays. "]
[null,"COUNTRY_INFO","Cette feuille contient des informations sur la structure administrative du pays, la population par groupe d'âge, le statut d'endémicité pour chaque maladie, la population devant être traitée par chimioprévention, les interventions prévues et les interventions mises en oeuvre. "]
[null,"MDA1, MDA2, MDA3, T1, T2 et T3","Ces feuilles contiennent des informations sur l'endémicité des districts ciblés pour le traitement aux médicaments spécifiques pour la chimioprévention, les plans de traitement, et le nombre de personnes traitées par groupe d'âge. "]
[null,"DISTRICT","Cette feuille contient un résumé sur les personnes traitées, par maladie, au niveau de mise en oeuvre. Si les données par genre (sexe) sont disponibles, merci de les saisir.  "]
[null,"SUMMARY","Cette feuille contient un résumé sur les personnes traitées, par maladie et par type d'intervention de chimioprévention. Avant de générer le rapport (exécuter macro), veuillez sélectionner la maladie pour laquelle vous souhaitez un rapport. Veuillez suivre le même processus pour générer les divers rapports. \nCette feuille doit être imprimée et soumise comme formulaire de rapport commun (voir les instructions pour la soumission du formulaire sous la feuille SUMMARY). "]
[]
[null,"Instructions pour la saisie des données"]
[]
[null,"La plupart des cellules des feuilles de travail mentionnées ci-dessus contiennent des formules calculées automatiquement en fonction du protocole de traitement recommandé par l'OMS pour chaque maladie.\nVoir : http://www.who.int/neglected_diseases/preventive_chemotherapy/pct_manual/en/index.html"]
[]
[null,"Veuillez entrer vos données dans les cellules en fonction de leur code de couleur :"]
[]
[null,null,"Blanc - la cellule n'est pas protégée. Veuillez entrer la valeur de l'indicateur demandé."]
[]
[null,null,"Jaune - la cellule est protégée et inclut le nom de l'indicateur. Aucune entrée de données requise."]
[]
[null,null,"Orange - la cellule n'est pas protégée et contient un menu déroulant. Veuillez sélectionner la valeur dans le menu déroulant. "]
[]
[]
[null,null,"Vert - la cellule n'est pas protégée et contient des formules. Veuillez changer la valeur indiquée uniquement si vos données sont différentes de celles calculées automatiquement.  "]
[]
[]
[null,null,"Bleu - la cellule est protégée et contient des formules. Aucune entrée de données requise. "]
[]
[null,"Données pays"]
[]
[null,"PAYS",null,null,"Burkina Faso"]
[]
[null,"Année de rapport des données",null,null,2017]
[]
[null,"Le pays est-il endémique à la filariose lymphatique (FL) ?",null,null,"Endémique"]
[]
[null,"Le pays est-il endémique à l'onchocercose (ONCHO) ? ",null,null,"Endémique"]
[]
[null,"Le pays est-il endémique aux géohelminthiases (STH) ?",null,null,"Endémique"]
[]
[null,"Le pays est-il endémique à la schistosomiase (SCH) ?",null,null,"Endémique"]
[]
[null,"Combien d'unités administratives compte le pays ?",null,null,70]
[null,"Si les données démographiques par groupe d'âge ne sont pas disponibles au second niveau administratif, veuillez entrer la proportion (%) de population, par groupe d'âge, du pays. Si les données sont disponibles, veuillez laisser les cellules vierges."]
[null,"1-4 ans","Enfants d'âge pré-scolaire (EAPréS)"]
[null,"5-14 ans","Enfants d'âge scolaire (EAS)"]
[null,"15 ans et plus","Adultes"]

{"sheet":"COUNTRY_INFO","index":1,"n_rows":78,"n_cols":26,"rows_kept":78,"cut":false,"hidden":false,"merged":[[3,0,3,2],[3,7,3,10],[3,19,3,20],[5,0,5,2],[3,15,3,18],[5,15,5,18],[3,21,3,22],[5,21,5,22],[5,3,5,6],[5,7,5,10],[5,11,5,14],[5,19,5,20]]}
["INFORMATIONS PAYS"]
["Structure administrative, population par groupe d'âge, statut d'endémicité, interventions planifiées et interventions mises en oeuvre"]
[]
["TOTAL",null,null,{"$f":"SUM(D$9:D$1000)","v":19632147},{"$f":"SUM(E$9:E$1000)","v":2768820},{"$f":"SUM(F$9:F$1000)","v":5720162},{"$f":"SUM(G$9:G$1000)","v":10386296},null,null,null,null,{"$f":"SUM(L$9:L$1000)","v":5530123},{"$f":"SUM(M$9:M$1000)","v":260001},{"$f":"SUM(N$9:N$1000)","v":0},{"$f":"SUM(O$9:O$1000)","v":4332546.8099999996}]
[]
["Structure administrative du pays",null,null,"Population",null,null,null,"Endémicité",null,null,null,"Population nécessitant la CP",null,null,null,"Nombre de tournées de traitement prévues pour l'année",null,null,null,"Mise en oeuvre de la chimioprévention",null,"Cliquer ci-dessous pour voir la stratégie recommandée"]
["Pays","Région/Département","District","Total","EAPréS","EAS","Adultes","FL","Oncho","STH","SCH","FL","Oncho","STH","SCH","FL","Oncho","STH","SCH","TOURNEE 1","TOURNEE 2",null,null,"IU_ID","IU_Name"]
[]
[{"$f":"IF(INTRO!$E$34<>0,INTRO!$E$34,\"\")","v":"Burkina Faso"},"Boucle du Mouhoun","Boromo",288516,42377,86360,148031,99,0,1,2,{"$f":"IF(INTRO!$E$38=\"Endémique\", IF($H9>0, IF($H9=4,\"Inconnu\", IF($H9=99,\"Interrompu\", $D9)), 0),\"Non requis\")","v":"Interrompu"},{"$f":"IF(INTRO!$E$40=\"Endémique\", IF($I9>0, IF($I9=4,\"Inconnu\",IF($I9=99,\"Interrompu\", $D9)), 0),\"Non requis\")","v":0},{"$f":"IF(INTRO!$E$42=\"Endémique\", IF(AND($J9>1,$J9<5), IF($J9=4, \"Inconnu\", E9+F9), 0),\"Non requis\")","v":0},{"$f":"IF(INTRO!$E$44=\"Endémique\", IF(AND($K9>0,$K9<5), IF($K9=4,\"Inconnu\", IF($K9=1, $F9*0.33, IF($K9=2, $F9*0.5+$G9*0.2, SUM(F9:G9)))), 0),\"Non requis\")","v":72786.2},0,0,1,1,"T1 (PZQ+ALB/MBD)",null,null,null,5312,"Boromo",{"$f":"Y9=C9","v":true}]
[{"$f":"IF(INTRO!$E$34<>0,INTRO!$E$34,\"\")","v":"Burkina Faso"},"Boucle du Mouhoun","Dédougou",401168,58920,120073,205840,99,0,1,2,{"$f":"IF(INTRO!$E$38=\"Endémique\", IF($H10>0, IF($H10=4,\"Inconnu\", IF($H10=99,\"Interrompu\", $D10)), 0),\"Non requis\")","v":"Interrompu"},{"$f":"IF(INTRO!$E$40=\"Endémique\", IF($I10>0, IF($I10=4,\"Inconnu\",IF($I10=99,\"Interrompu\", $D10)), 0),\"Non requis\")","v":0},{"$f":"IF(INTRO!$E$42=\"Endémique\", IF(AND($J10>1,$J10<5), IF($J10=4, \"Inconnu\", E10+F10), 0),\"Non requis\")","v":0},{"$f":"IF(INTRO!$E$44=\"Endémique\", IF(AND($K10>0,$K10<5), IF($K10=4,\"Inconnu\", IF($K10=1, $F10*0.33, IF($K10=2, $F10*0.5+$G10*0.2, SUM(F10:G10)))), 0),\"Non requis\")","v":101204.5},0,0,1,1,"T1 (PZQ+ALB/MBD)",null,null,null,5313,"Dédougou",{"$f":"Y10=C10","v":true}]
[{"$f":"IF(INTRO!$E$34<>0,INTRO!$E$34,\"\")","v":"Burkina Faso"},"Boucle du Mouhoun","Nouna",368395,54109,110267,189018,99,0,1,2,{"$f":"IF(INTRO!$E$38=\"Endémique\", IF($H11>0, IF($H11=4,\"Inconnu\", IF($H11=99,\"Interrompu\", $D11)), 0),\"Non requis\")","v":"Interrompu"},{"$f":"IF(INTRO!$E$40=\"Endémique\", IF($I11>0, IF($I11=4,\"Inconnu\",IF($I11=99,\"Interrompu\", $D11)), 0),\"Non requis\")","v":0},{"$f":"IF(INTRO!$E$42=\"Endémique\", IF(AND($J11>1,$J11<5), IF($J11=4, \"Inconnu\", E11+F11), 0),\"Non requis\")","v":0},{"$f":"IF(INTRO!$E$44=\"Endémique\", IF(AND($K11>0,$K11<5), IF($K11=4,\"Inconnu\", IF($K11=1, $F11*0.33, IF($K11=2, $F11*0.5+$G11*0.2, SUM(F11:G11)))), 0),\"Non requis\")","v":92937.1},0,0,1,1,"T1 (PZQ+ALB/MBD)",null,null,null,5314,"Nouna",true]
[{"$f":"IF(INTRO!$E$34<>0,INTRO!$E$34,\"\")","v":"Burkina Faso"},"Boucle du Mouhoun","Solenzo",361883,53154,108320,185672,99,0,1,2,{"$f":"IF(INTRO!$E$38=\"Endémique\", IF($H12>0, IF($H12=4,\"Inconnu\", IF($H12=99,\"Interrompu\", $D12)), 0),\"Non requis\")","v":"Interrompu"},{"$f":"IF(INTRO!$E$40=\"Endémique\", IF($I12>0, IF($I12=4,\"Inconnu\",IF($I12=99,\"Interrompu\", $D12)), 0),\"Non requis\")","v":0},{"$f":"IF(INTRO!$E$42=\"Endémique\", IF(AND($J12>1,$J12<5), IF($J12=4, \"Inconnu\", E12+F12), 0),\"Non requis\")","v":0},{"$f":"IF(INTRO!$E$44=\"Endémique\", IF(AND($K12>0,$K12<5), IF($K12=4,\"Inconnu\", IF($K12=1, $F12*0.33, IF($K12=2, $F12*0.5+$G12*0.2, SUM(F12:G12)))), 0),\"Non requis\")","v":91294.399999999994},0,0,1,1,"T1 (PZQ+ALB/MBD)",null,null,null,5315,"Solenzo",true]
[{"$f":"IF(INTRO!$E$34<>0,INTRO!$E$34,\"\")","v":"Burkina Faso"},"Boucle du Mouhoun","Toma",215429,31641,64480,110536,99,0,1,2,{"$f":"IF(INTRO!$E$38=\"Endémique\", IF($H13>0, IF($H13=4,\"Inconnu\", IF($H13=99,\"Interrompu\", $D13)), 0),\"Non requis\")","v":"Interrompu"},{"$f":"IF(INTRO!$E$40=\"Endémique\", IF($I13>0, IF($I13=4,\"Inconnu\",IF($I13=99,\"Interrompu\", $D13)), 0),\"Non requis\")","v":0},{"$f":"IF(INTRO!$E$42=\"Endémique\", IF(AND($J13>1,$J13<5), IF($J13=4, \"Inconnu\", E13+F13), 0),\"Non requis\")","v":0},{"$f":"IF(INTRO!$E$44=\"Endémique\", IF(AND($K13>0,$K13<5), IF($K13=4,\"Inconnu\", IF($K13=1, $F13*0.33, IF($K13=2, $F13*0.5+$G13*0.2, SUM(F13:G13)))), 0),\"Non requis\")","v":54347.199999999997},0,0,1,1,"T1 (PZQ+ALB/MBD)",null,null,null,5316,"Toma",true]
[{"$f":"IF(INTRO!$E$34<>0,INTRO!$E$34,\"\")","v":"Burkina Faso"},"Boucle du Mouhoun","Tougan",287801,42273,86142,147666,99,0,1,2,{"$f":"IF(INTRO!$E$38=\"Endémique\", IF($H14>0, IF($H14=4,\"Inconnu\", IF($H14=99,\"Interrompu\", $D14)), 0),\"Non requis\")","v":"Interrompu"},{"$f":"IF(INTRO!$E$40=\"Endémique\", IF($I14>0, IF($I14=4,\"Inconnu\",IF($I14=99,\"Interrompu\", $D14)), 0),\"Non requis\")","v":0},{"$f":"IF(INTRO!$E$42=\"Endémique\", IF(AND($J14>1,$J14<5), IF($J14=4, \"Inconnu\", E14+F14), 0),\"Non requis\")","v":0},{"$f":"IF(INTRO!$E$44=\"Endémique\", IF(AND($K14>0,$K14<5), IF($K14=4,\"Inconnu\", IF($K14=1, $F14*0.33, IF($K14=2, $F14*0.5+$G14*0.2, SUM(F14:G14)))), 0),\"Non requis\")","v":72604.2},0,0,1,1,"T1 (PZQ+ALB/MBD)",null,null,null,5317,"Tougan",true]
[{"$f":"IF(INTRO!$E$34<>0,INTRO!$E$34,\"\")","v":"Burkina Faso"},"Cascades","Banfora",392498,50817,113716,213834,99,1,1,2,{"$f":"IF(INTRO!$E$38=\"Endémique\", IF($H15>0, IF($H15=4,\"Inconnu\", IF($H15=99,\"Interrompu\", $D15)), 0),\"Non requis\")","v":"Interrompu"},56955,{"$f":"IF(INTRO!$E$42=\"Endémique\", IF(AND($J15>1,$J15<5), IF($J15=4, \"Inconnu\", E15+F15), 0),\"Non requis\")","v":0},{"$f":"IF(INTRO!$E$44=\"Endémique\", IF(AND($K15>0,$K15<5), IF($K15=4,\"Inconnu\", IF($K15=1, $F15*0.33, IF($K15=2, $F15*0.5+$G15*0.2, SUM(F15:G15)))), 0),\"Non requis\")","v":99624.8},0,2,0,0,"MDA3 (IVM)",null,null,null,5318,"Banfora",true]
[{"$f":"IF(INTRO!$E$34<>0,INTRO!$E$34,\"\")","v":"Burkina Faso"},"Cascades","Mangodara",230318,34952,70250,115920,99,1,1,2,{"$f":"IF(INTRO!$E$38=\"Endémique\", IF($H16>0, IF($H16=4,\"Inconnu\", IF($H16=99,\"Interrompu\", $D16)), 0),\"Non requis\")","v":"Interrompu"},9182,{"$f":"IF(INTRO!$E$42=\"Endémique\", IF(AND($J16>1,$J16<5), IF($J16=4, \"Inconnu\", E16+F16), 0),\"Non requis\")","v":0},{"$f":"IF(INTRO!$E$44=\"Endémique\", IF(AND($K16>0,$K16<5), IF($K16=4,\"Inconnu\", IF($K16=1, $F16*0.33, IF($K16=2, $F16*0.5+$G16*0.2, SUM(F16:G16)))), 0),\"Non requis\")","v":58309},0,2,0,0,"MDA3 (IVM)",null,null,null,5319,"Mangodara",true]
[{"$f":"IF(INTRO!$E$34<>0,INTRO!$E$34,\"\")","v":"Burkina Faso"},"Cascades","Sindou",171376,23601,50619,90737,99,0,1,2,{"$f":"IF(INTRO!$E$38=\"Endémique\", IF($H17>0, IF($H17=4,\"Inconnu\", IF($H17=99,\"Interrompu\", $D17)), 0),\"Non requis\")","v":"Interrompu"},{"$f":"IF(INTRO!$E$40=\"Endémique\", IF($I17>0, IF($I17=4,\"Inconnu\",IF($I17=99,\"Interrompu\", $D17)), 0),\"Non requis\")","v":0},{"$f":"IF(INTRO!$E$42=\"Endémique\", IF(AND($J17>1,$J17<5), IF($J17=4, \"Inconnu\", E17+F17), 0),\"Non requis\")","v":0},{"$f":"IF(INTRO!$E$44=\"Endémique\", IF(AND($K17>0,$K17<5), IF($K17=4,\"Inconnu\", IF($K17=1, $F17*0.33, IF($K17=2, $F17*0.5+$G17*0.2, SUM(F17:G17)))), 0),\"Non requis\")","v":43456.9},0,0,0,0,null,null,null,null,5320,"Sindou",true]
[{"$f":"IF(INTRO!$E$34<>0,INTRO!$E$34,\"\")","v":"Burkina Faso"},"Centre","Baskuy",311208,26169,61589,216393,99,0,1,2,{"$f":"IF(INTRO!$E$38=\"Endémique\", IF($H18>0, IF($H18=4,\"Inconnu\", IF($H18=99,\"Interrompu\", $D18)), 0),\"Non requis\")","v":"Interrompu"},{"$f":"IF(INTRO!$E$40=\"Endémique\", IF($I18>0, IF($I18=4,\"Inconnu\",IF($I18=99,\"Interrompu\", $D18)), 0),\"Non requis\")","v":0},{"$f":"IF(INTRO!$E$42=\"Endémique\", IF(AND($J18>1,$J18<5), IF($J18=4, \"Inconnu\", E18+F18), 0),\"Non requis\")","v":0},{"$f":"IF(INTRO!$E$44=\"Endémique\", IF(AND($K18>0,$K18<5), IF($K18=4,\"Inconnu\", IF($K18=1, $F18*0.33, IF($K18=2, $F18*0.5+$G18*0.2, SUM(F18:G18)))), 0),\"Non requis\")","v":74073.100000000006},0,0,0,0,null,null,null,null,5321,"Baskuy",true]
[{"$f":"IF(INTRO!$E$34<>0,INTRO!$E$34,\"\")","v":"Burkina Faso"},"Centre","Bogodogo",828114,89137,206876,510161,1,0,1,2,217102,{"$f":"IF(INTRO!$E$40=\"Endémique\", IF($I19>0, IF($I19=4,\"Inconnu\",IF($I19=99,\"Interrompu\", $D19)), 0),\"Non requis\")","v":0},{"$f":"IF(INTRO!$E$42=\"Endémique\", IF(AND($J19>1,$J19<5), IF($J19=4, \"Inconnu\", E19+F19), 0),\"Non requis\")","v":0},{"$f":"IF(INTRO!$E$44=\"Endémique\", IF(AND($K19>0,$K19<5), IF($K19=4,\"Inconnu\", IF($K19=1, $F19*0.33, IF($K19=2, $F19*0.5+$G19*0.2, SUM(F19:G19)))), 0),\"Non requis\")","v":205470.2},1,0,1,0,"MDA1 (IVM+ALB)",null,null,null,5322,"Bogodogo",true]
[{"$f":"IF(INTRO!$E$34<>0,INTRO!$E$34,\"\")","v":"Burkina Faso"},"Centre","Boulmiougou",919292,106038,250686,533981,1,0,1,2,370010,{"$f":"IF(INTRO!$E$40=\"Endémique\", IF($I20>0, IF($I20=4,\"Inconnu\",IF($I20=99,\"Interrompu\", $D20)), 0),\"Non requis\")","v":0},{"$f":"IF(INTRO!$E$42=\"Endémique\", IF(AND($J20>1,$J20<5), IF($J20=4, \"Inconnu\", E20+F20), 0),\"Non requis\")","v":0},{"$f":"IF(INTRO!$E$44=\"Endémique\", IF(AND($K20>0,$K20<5), IF($K20=4,\"Inconnu\", IF($K20=1, $F20*0.33, IF($K20=2, $F20*0.5+$G20*0.2, SUM(F20:G20)))), 0),\"Non requis\")","v":232139.2},1,0,1,0,"MDA1 (IVM+ALB)",null,null,null,5323,"Boulmiougou",true]
[{"$f":"IF(INTRO!$E$34<>0,INTRO!$E$34,\"\")","v":"Burkina Faso"},"Centre","Nongre-Massom",351101,36027,88312,217112,1,0,1,2,17507,{"$f":"IF(INTRO!$E$40=\"Endémique\", IF($I21>0, IF($I21=4,\"Inconnu\",IF($I21=99,\"Interrompu\", $D21)), 0),\"Non requis\")","v":0},{"$f":"IF(INTRO!$E$42=\"Endémique\", IF(AND($J21>1,$J21<5), IF($J21=4, \"Inconnu\", E21+F21), 0),\"Non requis\")","v":0},{"$f":"IF(INTRO!$E$44=\"Endémique\", IF(AND($K21>0,$K21<5), IF($K21=4,\"Inconnu\", IF($K21=1, $F21*0.33, IF($K21=2, $F21*0.5+$G21*0.2, SUM(F21:G21)))), 0),\"Non requis\")","v":87578.4},1,0,1,0,"MDA1 (IVM+ALB)",null,null,null,5325,"Nongre-Massom",true]
[{"$f":"IF(INTRO!$E$34<>0,INTRO!$E$34,\"\")","v":"Burkina Faso"},"Centre","Sig-Nonghin",334951,38632,88896,196800,1,0,1,2,134350,{"$f":"IF(INTRO!$E$40=\"Endémique\", IF($I22>0, IF($I22=4,\"Inconnu\",IF($I22=99,\"Interrompu\", $D22)), 0),\"Non requis\")","v":0},{"$f":"IF(INTRO!$E$42=\"Endémique\", IF(AND($J22>1,$J22<5), IF($J22=4, \"Inconnu\", E22+F22), 0),\"Non requis\")","v":0},{"$f":"IF(INTRO!$E$44=\"Endémique\", IF(AND($K22>0,$K22<5), IF($K22=4,\"Inconnu\", IF($K22=1, $F22*0.33, IF($K22=2, $F22*0.5+$G22*0.2, SUM(F22:G22)))), 0),\"Non requis\")","v":83808},1,0,1,0,"MDA1 (IVM+ALB)",null,null,null,5324,"Sig-Nonghin",true]
[{"$f":"IF(INTRO!$E$34<>0,INTRO!$E$34,\"\")","v":"Burkina Faso"},"Centre-Est","Bittou",131213,21533,38638,65214,1,0,1,2,{"$f":"IF(INTRO!$E$38=\"Endémique\", IF($H23>0, IF($H23=4,\"Inconnu\", IF($H23=99,\"Interrompu\", $D23)), 0),\"Non requis\")","v":131213},{"$f":"IF(INTRO!$E$40=\"Endémique\", IF($I23>0, IF($I23=4,\"Inconnu\",IF($I23=99,\"Interrompu\", $D23)), 0),\"Non requis\")","v":0},{"$f":"IF(INTRO!$E$42=\"Endémique\", IF(AND($J23>1,$J23<5), IF($J23=4, \"Inconnu\", E23+F23), 0),\"Non requis\")","v":0},{"$f":"IF(INTRO!$E$44=\"Endémique\", IF(AND($K23>0,$K23<5), IF($K23=4,\"Inconnu\", IF($K23=1, $F23*0.33, IF($K23=2, $F23*0.5+$G23*0.2, SUM(F23:G23)))), 0),\"Non requis\")","v":32361.800000000003},1,0,1,2,"MDA1 (IVM+ALB)","T2 (PZQ)",null,null,5326,"Bittou",true]
[{"$f":"IF(INTRO!$E$34<>0,INTRO!$E$34,\"\")","v":"Burkina Faso"},"Centre-Est","Garango",218189,30265,64544,114317,1,0,1,2,{"$f":"IF(INTRO!$E$38=\"Endémique\", IF($H24>0, IF($H24=4,\"Inconnu\", IF($H24=99,\"Interrompu\", $D24)), 0),\"Non requis\")","v":218189},{"$f":"IF(INTRO!$E$40=\"Endémique\", IF($I24>0, IF($I24=4,\"Inconnu\",IF($I24=99,\"Interrompu\", $D24)), 0),\"Non requis\")","v":0},{"$f":"IF(INTRO!$E$42=\"Endémique\", IF(AND($J24>1,$J24<5), IF($J24=4, \"Inconnu\", E24+F24), 0),\"Non requis\")","v":0},{"$f":"IF(INTRO!$E$44=\"Endémique\", IF(AND($K24>0,$K24<5), IF($K24=4,\"Inconnu\", IF($K24=1, $F24*0.33, IF($K24=2, $F24*0.5+$G24*0.2, SUM(F24:G24)))), 0),\"Non requis\")","v":55135.4},1,0,1,2,"MDA1 (IVM+ALB)","T2 (PZQ)",null,null,5327,"Garango",true]
[{"$f":"IF(INTRO!$E$34<>0,INTRO!$E$34,\"\")","v":"Burkina Faso"},"Centre-Est","Koupela",243440,35774,75121,122837,1,0,1,2,{"$f":"IF(INTRO!$E$38=\"Endémique\", IF($H25>0, IF($H25=4,\"Inconnu\", IF($H25=99,\"Interrompu\", $D25)), 0),\"Non requis\")","v":243440},{"$f":"IF(INTRO!$E$40=\"Endémique\", IF($I25>0, IF($I25=4,\"Inconnu\",IF($I25=99,\"Interrompu\", $D25)), 0),\"Non requis\")","v":0},{"$f":"IF(INTRO!$E$42=\"Endémique\", IF(AND($J25>1,$J25<5), IF($J25=4, \"Inconnu\", E25+F25), 0),\"Non requis\")","v":0},{"$f":"IF(INTRO!$E$44=\"Endémique\", IF(AND($K25>0,$K25<5), IF($K25=4,\"Inconnu\", IF($K25=1, $F25*0.33, IF($K25=2, $F25*0.5+$G25*0.2, SUM(F25:G25)))), 0),\"Non requis\")","v":62127.9},1,0,1,2,"MDA1 (IVM+ALB)","T2 (PZQ)",null,null,5328,"Koupela",true]
[{"$f":"IF(INTRO!$E$34<>0,INTRO!$E$34,\"\")","v":"Burkina Faso"},"Centre-Est","Ouargaye",362918,54351,108503,184892,1,0,1,2,{"$f":"IF(INTRO!$E$38=\"Endémique\", IF($H26>0, IF($H26=4,\"Inconnu\", IF($H26=99,\"Interrompu\", $D26)), 0),\"Non requis\")","v":362918},{"$f":"IF(INTRO!$E$40=\"Endémique\", IF($I26>0, IF($I26=4,\"Inconnu\",IF($I26=99,\"Interrompu\", $D26)), 0),\"Non requis\")","v":0},{"$f":"IF(INTRO!$E$42=\"Endémique\", IF(AND($J26>1,$J26<5), IF($J26=4, \"Inconnu\", E26+F26), 0),\"Non requis\")","v":0},{"$f":"IF(INTRO!$E$44=\"Endémique\", IF(AND($K26>0,$K26<5), IF($K26=4,\"Inconnu\", IF($K26=1, $F26*0.33, IF($K26=2, $F26*0.5+$G26*0.2, SUM(F26:G26)))), 0),\"Non requis\")","v":91229.9},1,0,1,2,"MDA1 (IVM+ALB)","T2 (PZQ)",null,null,5329,"Ouargaye",true]
[{"$f":"IF(INTRO!$E$34<>0,INTRO!$E$34,\"\")","v":"Burkina Faso"},"Centre-Est","Pouytenga",210027,32138,60452,108187,1,0,1,2,{"$f":"IF(INTRO!$E$38=\"Endémique\", IF($H27>0, IF($H27=4,\"Inconnu\", IF($H27=99,\"Interrompu\", $D27)), 0),\"Non requis\")","v":210027},{"$f":"IF(INTRO!$E$40=\"Endémique\", IF($I27>0, IF($I27=4,\"Inconnu\",IF($I27=99,\"Interrompu\", $D27)), 0),\"Non requis\")","v":0},{"$f":"IF(INTRO!$E$42=\"Endémique\", IF(AND($J27>1,$J27<5), IF($J27=4, \"Inconnu\", E27+F27), 0),\"Non requis\")","v":0},{"$f":"IF(INTRO!$E$44=\"Endémique\", IF(AND($K27>0,$K27<5), IF($K27=4,\"Inconnu\", IF($K27=1, $F27*0.33, IF($K27=2, $F27*0.5+$G27*0.2, SUM(F27:G27)))), 0),\"Non requis\")","v":51863.4},1,0,1,2,"MDA1 (IVM+ALB)","T2 (PZQ)",null,null,5330,"Pouytenga",true]
[{"$f":"IF(INTRO!$E$34<>0,INTRO!$E$34,\"\")","v":"Burkina Faso"},"Centre-Est","Tenkodogo",239993,35238,70072,124547,1,0,1,2,{"$f":"IF(INTRO!$E$38=\"Endémique\", IF($H28>0, IF($H28=4,\"Inconnu\", IF($H28=99,\"Interrompu\", $D28)), 0),\"Non requis\")","v":239993},{"$f":"IF(INTRO!$E$40=\"Endémique\", IF($I28>0, IF($I28=4,\"Inconnu\",IF($I28=99,\"Interrompu\", $D28)), 0),\"Non requis\")","v":0},{"$f":"IF(INTRO!$E$42=\"Endémique\", IF(AND($J28>1,$J28<5), IF($J28=4, \"Inconnu\", E28+F28), 0),\"Non requis\")","v":0},{"$f":"IF(INTRO!$E$44=\"Endémique\", IF(AND($K28>0,$K28<5), IF($K28=4,\"Inconnu\", IF($K28=1, $F28*0.33, IF($K28=2, $F28*0.5+$G28*0.2, SUM(F28:G28)))), 0),\"Non requis\")","v":59945.4},1,0,1,2,"MDA1 (IVM+ALB)","T2 (PZQ)",null,null,5331,"Tenkodogo",true]
[{"$f":"IF(INTRO!$E$34<>0,INTRO!$E$34,\"\")","v":"Burkina Faso"},"Centre-Est","Zabré",155428,24508,49426,75384,99,0,1,2,{"$f":"IF(INTRO!$E$38=\"Endémique\", IF($H29>0, IF($H29=4,\"Inconnu\", IF($H29=99,\"Interrompu\", $D29)), 0),\"Non requis\")","v":"Interrompu"},{"$f":"IF(INTRO!$E$40=\"Endémique\", IF($I29>0, IF($I29=4,\"Inconnu\",IF($I29=99,\"Interrompu\", $D29)), 0),\"Non requis\")","v":0},{"$f":"IF(INTRO!$E$42=\"Endémique\", IF(AND($J29>1,$J29<5), IF($J29=4, \"Inconnu\", E29+F29), 0),\"Non requis\")","v":0},{"$f":"IF(INTRO!$E$44=\"Endémique\", IF(AND($K29>0,$K29<5), IF($K29=4,\"Inconnu\", IF($K29=1, $F29*0.33, IF($K29=2, $F29*0.5+$G29*0.2, SUM(F29:G29)))), 0),\"Non requis\")","v":39789.800000000003},0,0,1,2,null,"T2 (PZQ)",null,null,5332,"Zabré",true]
[{"$f":"IF(INTRO!$E$34<>0,INTRO!$E$34,\"\")","v":"Burkina Faso"},"Centre-Nord","Barsalogo",198146,33288,61739,93969,99,0,1,2,{"$f":"IF(INTRO!$E$38=\"Endémique\", IF($H30>0, IF($H30=4,\"Inconnu\", IF($H30=99,\"Interrompu\", $D30)), 0),\"Non requis\")","v":"Interrompu"},{"$f":"IF(INTRO!$E$40=\"Endémique\", IF($I30>0, IF($I30=4,\"Inconnu\",IF($I30=99,\"Interrompu\", $D30)), 0),\"Non requis\")","v":0},{"$f":"IF(INTRO!$E$42=\"Endémique\", IF(AND($J30>1,$J30<5), IF($J30=4, \"Inconnu\", E30+F30), 0),\"Non requis\")","v":0},{"$f":"IF(INTRO!$E$44=\"Endémique\", IF(AND($K30>0,$K30<5), IF($K30=4,\"Inconnu\", IF($K30=1, $F30*0.33, IF($K30=2, $F30*0.5+$G30*0.2, SUM(F30:G30)))), 0),\"Non requis\")","v":49663.3},0,0,0,0,null,null,null,null,5333,"Barsalogo",true]
[{"$f":"IF(INTRO!$E$34<>0,INTRO!$E$34,\"\")","v":"Burkina Faso"},"Centre-Nord","Boulsa",216180,32617,66676,108345,99,0,1,2,{"$f":"IF(INTRO!$E$38=\"Endémique\", IF($H31>0, IF($H31=4,\"Inconnu\", IF($H31=99,\"Interrompu\", $D31)), 0),\"Non requis\")","v":"Interrompu"},{"$f":"IF(INTRO!$E$40=\"Endémique\", IF($I31>0, IF($I31=4,\"Inconnu\",IF($I31=99,\"Interrompu\", $D31)), 0),\"Non requis\")","v":0},{"$f":"IF(INTRO!$E$42=\"Endémique\", IF(AND($J31>1,$J31<5), IF($J31=4, \"Inconnu\", E31+F31), 0),\"Non requis\")","v":0},{"$f":"IF(INTRO!$E$44=\"Endémique\", IF(AND($K31>0,$K31<5), IF($K31=4,\"Inconnu\", IF($K31=1, $F31*0.33, IF($K31=2, $F31*0.5+$G31*0.2, SUM(F31:G31)))), 0),\"Non requis\")","v":55007},0,0,0,0,null,null,null,null,5334,"Boulsa",true]
[{"$f":"IF(INTRO!$E$34<>0,INTRO!$E$34,\"\")","v":"Burkina Faso"},"Centre-Nord","Boussouma",220233,32641,65567,112707,99,0,1,2,{"$f":"IF(INTRO!$E$38=\"Endémique\", IF($H32>0, IF($H32=4,\"Inconnu\", IF($H32=99,\"Interrompu\", $D32)), 0),\"Non requis\")","v":"Interrompu"},{"$f":"IF(INTRO!$E$40=\"Endémique\", IF($I32>0, IF($I32=4,\"Inconnu\",IF($I32=99,\"Interrompu\", $D32)), 0),\"Non requis\")","v":0},{"$f":"IF(INTRO!$E$42=\"Endémique\", IF(AND($J32>1,$J32<5), IF($J32=4, \"Inconnu\", E32+F32), 0),\"Non requis\")","v":0},{"$f":"IF(INTRO!$E$44=\"Endémique\", IF(AND($K32>0,$K32<5), IF($K32=4,\"Inconnu\", IF($K32=1, $F32*0.33, IF($K32=2, $F32*0.5+$G32*0.2, SUM(F32:G32)))), 0),\"Non requis\")","v":55324.9},0,0,0,0,null,null,null,null,53001,"Boussouma",true]
[{"$f":"IF(INTRO!$E$34<>0,INTRO!$E$34,\"\")","v":"Burkina Faso"},"Centre-Nord","Kaya",395812,58168,119046,202365,99,0,1,2,{"$f":"IF(INTRO!$E$38=\"Endémique\", IF($H33>0, IF($H33=4,\"Inconnu\", IF($H33=99,\"Interrompu\", $D33)), 0),\"Non requis\")","v":"Interrompu"},{"$f":"IF(INTRO!$E$40=\"Endémique\", IF($I33>0, IF($I33=4,\"Inconnu\",IF($I33=99,\"Interrompu\", $D33)), 0),\"Non requis\")","v":0},{"$f":"IF(INTRO!$E$42=\"Endémique\", IF(AND($J33>1,$J33<5), IF($J33=4, \"Inconnu\", E33+F33), 0),\"Non requis\")","v":0},{"$f":"IF(INTRO!$E$44=\"Endémique\", IF(AND($K33>0,$K33<5), IF($K33=4,\"Inconnu\", IF($K33=1, $F33*0.33, IF($K33=2, $F33*0.5+$G33*0.2, SUM(F33:G33)))), 0),\"Non requis\")","v":99996},0,0,0,0,null,null,null,null,5335,"Kaya",true]
[{"$f":"IF(INTRO!$E$34<>0,INTRO!$E$34,\"\")","v":"Burkina Faso"},"Centre-Nord","Kongoussi",376211,57339,113831,189007,99,0,1,2,{"$f":"IF(INTRO!$E$38=\"Endémique\", IF($H34>0, IF($H34=4,\"Inconnu\", IF($H34=99,\"Interrompu\", $D34)), 0),\"Non requis\")","v":"Interrompu"},{"$f":"IF(INTRO!$E$40=\"Endémique\", IF($I34>0, IF($I34=4,\"Inconnu\",IF($I34=99,\"Interrompu\", $D34)), 0),\"Non requis\")","v":0},{"$f":"IF(INTRO!$E$42=\"Endémique\", IF(AND($J34>1,$J34<5), IF($J34=4, \"Inconnu\", E34+F34), 0),\"Non requis\")","v":0},{"$f":"IF(INTRO!$E$44=\"Endémique\", IF(AND($K34>0,$K34<5), IF($K34=4,\"Inconnu\", IF($K34=1, $F34*0.33, IF($K34=2, $F34*0.5+$G34*0.2, SUM(F34:G34)))), 0),\"Non requis\")","v":94716.9},0,0,0,0,null,null,null,null,5336,"Kongoussi",true]
[{"$f":"IF(INTRO!$E$34<>0,INTRO!$E$34,\"\")","v":"Burkina Faso"},"Centre-Nord","Tougouri",233384,35902,69347,117516,99,0,1,2,{"$f":"IF(INTRO!$E$38=\"Endémique\", IF($H35>0, IF($H35=4,\"Inconnu\", IF($H35=99,\"Interrompu\", $D35)), 0),\"Non requis\")","v":"Interrompu"},{"$f":"IF(INTRO!$E$40=\"Endémique\", IF($I35>0, IF($I35=4,\"Inconnu\",IF($I35=99,\"Interrompu\", $D35)), 0),\"Non requis\")","v":0},{"$f":"IF(INTRO!$E$42=\"Endémique\", IF(AND($J35>1,$J35<5), IF($J35=4, \"Inconnu\", E35+F35), 0),\"Non requis\")","v":0},{"$f":"IF(INTRO!$E$44=\"Endémique\", IF(AND($K35>0,$K35<5), IF($K35=4,\"Inconnu\", IF($K35=1, $F35*0.33, IF($K35=2, $F35*0.5+$G35*0.2, SUM(F35:G35)))), 0),\"Non requis\")","v":58176.7},0,0,0,0,null,null,null,null,53002,"Tougouri",true]
[{"$f":"IF(INTRO!$E$34<>0,INTRO!$E$34,\"\")","v":"Burkina Faso"},"Centre-Ouest","Koudougou",384340,53833,109476,205832,99,0,1,2,{"$f":"IF(INTRO!$E$38=\"Endémique\", IF($H36>0, IF($H36=4,\"Inconnu\", IF($H36=99,\"Interrompu\", $D36)), 0),\"Non requis\")","v":"Interrompu"},{"$f":"IF(INTRO!$E$40=\"Endémique\", IF($I36>0, IF($I36=4,\"Inconnu\",IF($I36=99,\"Interrompu\", $D36)), 0),\"Non requis\")","v":0},{"$f":"IF(INTRO!$E$42=\"Endémique\", IF(AND($J36>1,$J36<5), IF($J36=4, \"Inconnu\", E36+F36), 0),\"Non requis\")","v":0},{"$f":"IF(INTRO!$E$44=\"Endémique\", IF(AND($K36>0,$K36<5), IF($K36=4,\"Inconnu\", IF($K36=1, $F36*0.33, IF($K36=2, $F36*0.5+$G36*0.2, SUM(F36:G36)))), 0),\"Non requis\")","v":95904.4},0,0,0,0,null,null,null,null,5337,"Koudougou",true]
[{"$f":"IF(INTRO!$E$34<>0,INTRO!$E$34,\"\")","v":"Burkina Faso"},"Centre-Ouest","Léo",289793,42320,86229,149523,99,0,1,2,{"$f":"IF(INTRO!$E$38=\"Endémique\", IF($H37>0, IF($H37=4,\"Inconnu\", IF($H37=99,\"Interrompu\", $D37)), 0),\"Non requis\")","v":"Interrompu"},{"$f":"IF(INTRO!$E$40=\"Endémique\", IF($I37>0, IF($I37=4,\"Inconnu\",IF($I37=99,\"Interrompu\", $D37)), 0),\"Non requis\")","v":0},{"$f":"IF(INTRO!$E$42=\"Endémique\", IF(AND($J37>1,$J37<5), IF($J37=4, \"Inconnu\", E37+F37), 0),\"Non requis\")","v":0},{"$f":"IF(INTRO!$E$44=\"Endémique\", IF(AND($K37>0,$K37<5), IF($K37=4,\"Inconnu\", IF($K37=1, $F37*0.33, IF($K37=2, $F37*0.5+$G37*0.2, SUM(F37:G37)))), 0),\"Non requis\")","v":73019.100000000006},0,0,0,0,null,null,null,null,5338,"Léo",true]
[{"$f":"IF(INTRO!$E$34<>0,INTRO!$E$34,\"\")","v":"Burkina Faso"},"Centre-Ouest","Nanoro",171119,26517,54093,83648,99,0,1,2,{"$f":"IF(INTRO!$E$38=\"Endémique\", IF($H38>0, IF($H38=4,\"Inconnu\", IF($H38=99,\"Interrompu\", $D38)), 0),\"Non requis\")","v":"Interrompu"},{"$f":"IF(INTRO!$E$40=\"Endémique\", IF($I38>0, IF($I38=4,\"Inconnu\",IF($I38=99,\"Interrompu\", $D38)), 0),\"Non requis\")","v":0},{"$f":"IF(INTRO!$E$42=\"Endémique\", IF(AND($J38>1,$J38<5), IF($J38=4, \"Inconnu\", E38+F38), 0),\"Non requis\")","v":0},{"$f":"IF(INTRO!$E$44=\"Endémique\", IF(AND($K38>0,$K38<5), IF($K38=4,\"Inconnu\", IF($K38=1, $F38*0.33, IF($K38=2, $F38*0.5+$G38*0.2, SUM(F38:G38)))), 0),\"Non requis\")","v":43776.100000000006},0,0,0,0,null,null,null,null,5339,"Nanoro",true]
[{"$f":"IF(INTRO!$E$34<>0,INTRO!$E$34,\"\")","v":"Burkina Faso"},"Centre-Ouest","Réo",203824,29292,60846,105568,99,0,1,2,{"$f":"IF(INTRO!$E$38=\"Endémique\", IF($H39>0, IF($H39=4,\"Inconnu\", IF($H39=99,\"Interrompu\", $D39)), 0),\"Non requis\")","v":"Interrompu"},{"$f":"IF(INTRO!$E$40=\"Endémique\", IF($I39>0, IF($I39=4,\"Inconnu\",IF($I39=99,\"Interrompu\", $D39)), 0),\"Non requis\")","v":0},{"$f":"IF(INTRO!$E$42=\"Endémique\", IF(AND($J39>1,$J39<5), IF($J39=4, \"Inconnu\", E39+F39), 0),\"Non requis\")","v":0},{"$f":"IF(INTRO!$E$44=\"Endémique\", IF(AND($K39>0,$K39<5), IF($K39=4,\"Inconnu\", IF($K39=1, $F39*0.33, IF($K39=2, $F39*0.5+$G39*0.2, SUM(F39:G39)))), 0),\"Non requis\")","v":51536.600000000006},0,0,0,0,null,null,null,null,5340,"Réo",true]
[{"$f":"IF(INTRO!$E$34<>0,INTRO!$E$34,\"\")","v":"Burkina Faso"},"Centre-Ouest","Sabou",109569,16775,34316,53642,99,0,1,2,{"$f":"IF(INTRO!$E$38=\"Endémique\", IF($H40>0, IF($H40=4,\"Inconnu\", IF($H40=99,\"Interrompu\", $D40)), 0),\"Non requis\")","v":"Interrompu"},{"$f":"IF(INTRO!$E$40=\"Endémique\", IF($I40>0, IF($I40=4,\"Inconnu\",IF($I40=99,\"Interrompu\", $D40)), 0),\"Non requis\")","v":0},{"$f":"IF(INTRO!$E$42=\"Endémique\", IF(AND($J40>1,$J40<5), IF($J40=4, \"Inconnu\", E40+F40), 0),\"Non requis\")","v":0},{"$f":"IF(INTRO!$E$44=\"Endémique\", IF(AND($K40>0,$K40<5), IF($K40=4,\"Inconnu\", IF($K40=1, $F40*0.33, IF($K40=2, $F40*0.5+$G40*0.2, SUM(F40:G40)))), 0),\"Non requis\")","v":27886.400000000001},0,0,0,0,null,null,null,null,53003,"Sabou",true]
[{"$f":"IF(INTRO!$E$34<>0,INTRO!$E$34,\"\")","v":"Burkina Faso"},"Centre-Ouest","Sapouy",253641,37042,75473,130868,99,0,1,2,{"$f":"IF(INTRO!$E$38=\"Endémique\", IF($H41>0, IF($H41=4,\"Inconnu\", IF($H41=99,\"Interrompu\", $D41)), 0),\"Non requis\")","v":"Interrompu"},{"$f":"IF(INTRO!$E$40=\"Endémique\", IF($I41>0, IF($I41=4,\"Inconnu\",IF($I41=99,\"Interrompu\", $D41)), 0),\"Non requis\")","v":0},{"$f":"IF(INTRO!$E$42=\"Endémique\", IF(AND($J41>1,$J41<5), IF($J41=4, \"Inconnu\", E41+F41), 0),\"Non requis\")","v":0},{"$f":"IF(INTRO!$E$44=\"Endémique\", IF(AND($K41>0,$K41<5), IF($K41=4,\"Inconnu\", IF($K41=1, $F41*0.33, IF($K41=2, $F41*0.5+$G41*0.2, SUM(F41:G41)))), 0),\"Non requis\")","v":63910.100000000006},0,0,0,0,null,null,null,null,5341,"Sapouy",true]
[{"$f":"IF(INTRO!$E$34<>0,INTRO!$E$34,\"\")","v":"Burkina Faso"},"Centre-Ouest","Tenado",185873,27618,55113,95499,99,0,1,2,{"$f":"IF(INTRO!$E$38=\"Endémique\", IF($H42>0, IF($H42=4,\"Inconnu\", IF($H42=99,\"Interrompu\", $D42)), 0),\"Non requis\")","v":"Interrompu"},{"$f":"IF(INTRO!$E$40=\"Endémique\", IF($I42>0, IF($I42=4,\"Inconnu\",IF($I42=99,\"Interrompu\", $D42)), 0),\"Non requis\")","v":0},{"$f":"IF(INTRO!$E$42=\"Endémique\", IF(AND($J42>1,$J42<5), IF($J42=4, \"Inconnu\", E42+F42), 0),\"Non requis\")","v":0},{"$f":"IF(INTRO!$E$44=\"Endémique\", IF(AND($K42>0,$K42<5), IF($K42=4,\"Inconnu\", IF($K42=1, $F42*0.33, IF($K42=2, $F42*0.5+$G42*0.2, SUM(F42:G42)))), 0),\"Non requis\")","v":46656.3},0,0,0,0,null,null,null,null,53004,"Tenado",true]
[{"$f":"IF(INTRO!$E$34<>0,INTRO!$E$34,\"\")","v":"Burkina Faso"},"Centre-Sud","Kombissiri",195026,28608,54929,103404,1,0,1,2,{"$f":"IF(INTRO!$E$38=\"Endémique\", IF($H43>0, IF($H43=4,\"Inconnu\", IF($H43=99,\"Interrompu\", $D43)), 0),\"Non requis\")","v":195026},{"$f":"IF(INTRO!$E$40=\"Endémique\", IF($I43>0, IF($I43=4,\"Inconnu\",IF($I43=99,\"Interrompu\", $D43)), 0),\"Non requis\")","v":0},{"$f":"IF(INTRO!$E$42=\"Endémique\", IF(AND($J43>1,$J43<5), IF($J43=4, \"Inconnu\", E43+F43), 0),\"Non requis\")","v":0},{"$f":"IF(INTRO!$E$44=\"Endémique\", IF(AND($K43>0,$K43<5), IF($K43=4,\"Inconnu\", IF($K43=1, $F43*0.33, IF($K43=2, $F43*0.5+$G43*0.2, SUM(F43:G43)))), 0),\"Non requis\")","v":48145.3},1,0,1,0,"MDA1 (IVM+ALB)",null,null,null,5342,"Kombissiri",true]
[{"$f":"IF(INTRO!$E$34<>0,INTRO!$E$34,\"\")","v":"Burkina Faso"},"Centre-Sud","Manga",329623,47354,95347,173732,1,0,1,2,{"$f":"IF(INTRO!$E$38=\"Endémique\", IF($H44>0, IF($H44=4,\"Inconnu\", IF($H44=99,\"Interrompu\", $D44)), 0),\"Non requis\")","v":329623},{"$f":"IF(INTRO!$E$40=\"Endémique\", IF($I44>0, IF($I44=4,\"Inconnu\",IF($I44=99,\"Interrompu\", $D44)), 0),\"Non requis\")","v":0},{"$f":"IF(INTRO!$E$42=\"Endémique\", IF(AND($J44>1,$J44<5), IF($J44=4, \"Inconnu\", E44+F44), 0),\"Non requis\")","v":0},{"$f":"IF(INTRO!$E$44=\"Endémique\", IF(AND($K44>0,$K44<5), IF($K44=4,\"Inconnu\", IF($K44=1, $F44*0.33, IF($K44=2, $F44*0.5+$G44*0.2, SUM(F44:G44)))), 0),\"Non requis\")","v":82419.899999999994},1,0,1,0,"MDA1 (IVM+ALB)",null,null,null,5343,"Manga",true]
[{"$f":"IF(INTRO!$E$34<>0,INTRO!$E$34,\"\")","v":"Burkina Faso"},"Centre-Sud","Pô",215197,30917,62247,113422,1,0,1,2,{"$f":"IF(INTRO!$E$38=\"Endémique\", IF($H45>0, IF($H45=4,\"Inconnu\", IF($H45=99,\"Interrompu\", $D45)), 0),\"Non requis\")","v":215197},{"$f":"IF(INTRO!$E$40=\"Endémique\", IF($I45>0, IF($I45=4,\"Inconnu\",IF($I45=99,\"Interrompu\", $D45)), 0),\"Non requis\")","v":0},{"$f":"IF(INTRO!$E$42=\"Endémique\", IF(AND($J45>1,$J45<5), IF($J45=4, \"Inconnu\", E45+F45), 0),\"Non requis\")","v":0},{"$f":"IF(INTRO!$E$44=\"Endémique\", IF(AND($K45>0,$K45<5), IF($K45=4,\"Inconnu\", IF($K45=1, $F45*0.33, IF($K45=2, $F45*0.5+$G45*0.2, SUM(F45:G45)))), 0),\"Non requis\")","v":53807.9},1,0,1,0,"MDA1 (IVM+ALB)",null,null,null,5344,"Pô",true]
[{"$f":"IF(INTRO!$E$34<>0,INTRO!$E$34,\"\")","v":"Burkina Faso"},"Centre-Sud","Saponé",109094,15084,33040,56886,1,0,1,2,{"$f":"IF(INTRO!$E$38=\"Endémique\", IF($H46>0, IF($H46=4,\"Inconnu\", IF($H46=99,\"Interrompu\", $D46)), 0),\"Non requis\")","v":109094},{"$f":"IF(INTRO!$E$40=\"Endémique\", IF($I46>0, IF($I46=4,\"Inconnu\",IF($I46=99,\"Interrompu\", $D46)), 0),\"Non requis\")","v":0},{"$f":"IF(INTRO!$E$42=\"Endémique\", IF(AND($J46>1,$J46<5), IF($J46=4, \"Inconnu\", E46+F46), 0),\"Non requis\")","v":0},{"$f":"IF(INTRO!$E$44=\"Endémique\", IF(AND($K46>0,$K46<5), IF($K46=4,\"Inconnu\", IF($K46=1, $F46*0.33, IF($K46=2, $F46*0.5+$G46*0.2, SUM(F46:G46)))), 0),\"Non requis\")","v":27897.200000000001},1,0,1,0,"MDA1 (IVM+ALB)",null,null,null,5345,"Saponé",true]
[{"$f":"IF(INTRO!$E$34<>0,INTRO!$E$34,\"\")","v":"Burkina Faso"},"Est","Bogandé",378151,59184,119728,182443,1,0,1,2,{"$f":"IF(INTRO!$E$38=\"Endémique\", IF($H47>0, IF($H47=4,\"Inconnu\", IF($H47=99,\"Interrompu\", $D47)), 0),\"Non requis\")","v":378151},{"$f":"IF(INTRO!$E$40=\"Endémique\", IF($I47>0, IF($I47=4,\"Inconnu\",IF($I47=99,\"Interrompu\", $D47)), 0),\"Non requis\")","v":0},{"$f":"IF(INTRO!$E$42=\"Endémique\", IF(AND($J47>1,$J47<5), IF($J47=4, \"Inconnu\", E47+F47), 0),\"Non requis\")","v":0},{"$f":"IF(INTRO!$E$44=\"Endémique\", IF(AND($K47>0,$K47<5), IF($K47=4,\"Inconnu\", IF($K47=1, $F47*0.33, IF($K47=2, $F47*0.5+$G47*0.2, SUM(F47:G47)))), 0),\"Non requis\")","v":96352.6},1,0,1,0,"MDA1 (IVM+ALB)",null,null,null,5346,"Bogandé",true]
[{"$f":"IF(INTRO!$E$34<>0,INTRO!$E$34,\"\")","v":"Burkina Faso"},"Est","Diapaga",490847,77834,152846,238275,1,0,1,2,{"$f":"IF(INTRO!$E$38=\"Endémique\", IF($H48>0, IF($H48=4,\"Inconnu\", IF($H48=99,\"Interrompu\", $D48)), 0),\"Non requis\")","v":490847},{"$f":"IF(INTRO!$E$40=\"Endémique\", IF($I48>0, IF($I48=4,\"Inconnu\",IF($I48=99,\"Interrompu\", $D48)), 0),\"Non requis\")","v":0},{"$f":"IF(INTRO!$E$42=\"Endémique\", IF(AND($J48>1,$J48<5), IF($J48=4, \"Inconnu\", E48+F48), 0),\"Non requis\")","v":0},{"$f":"IF(INTRO!$E$44=\"Endémique\", IF(AND($K48>0,$K48<5), IF($K48=4,\"Inconnu\", IF($K48=1, $F48*0.33, IF($K48=2, $F48*0.5+$G48*0.2, SUM(F48:G48)))), 0),\"Non requis\")","v":124078},1,0,1,0,"MDA1 (IVM+ALB)",null,null,null,5347,"Diapaga",true]
[{"$f":"IF(INTRO!$E$34<>0,INTRO!$E$34,\"\")","v":"Burkina Faso"},"Est","Fada N'gourma",429709,68139,133809,208596,1,0,1,2,{"$f":"IF(INTRO!$E$38=\"Endémique\", IF($H49>0, IF($H49=4,\"Inconnu\", IF($H49=99,\"Interrompu\", $D49)), 0),\"Non requis\")","v":429709},{"$f":"IF(INTRO!$E$40=\"Endémique\", IF($I49>0, IF($I49=4,\"Inconnu\",IF($I49=99,\"Interrompu\", $D49)), 0),\"Non requis\")","v":0},{"$f":"IF(INTRO!$E$42=\"Endémique\", IF(AND($J49>1,$J49<5), IF($J49=4, \"Inconnu\", E49+F49), 0),\"Non requis\")","v":0},{"$f":"IF(INTRO!$E$44=\"Endémique\", IF(AND($K49>0,$K49<5), IF($K49=4,\"Inconnu\", IF($K49=1, $F49*0.33, IF($K49=2, $F49*0.5+$G49*0.2, SUM(F49:G49)))), 0),\"Non requis\")","v":108623.70000000001},1,0,1,0,"MDA1 (IVM+ALB)",null,null,null,5348,"Fada N'gourma",true]
[{"$f":"IF(INTRO!$E$34<>0,INTRO!$E$34,\"\")","v":"Burkina Faso"},"Est","Gayeri",117973,18707,36736,57269,1,0,1,2,{"$f":"IF(INTRO!$E$38=\"Endémique\", IF($H50>0, IF($H50=4,\"Inconnu\", IF($H50=99,\"Interrompu\", $D50)), 0),\"Non requis\")","v":117973},{"$f":"IF(INTRO!$E$40=\"Endémique\", IF($I50>0, IF($I50=4,\"Inconnu\",IF($I50=99,\"Interrompu\", $D50)), 0),\"Non requis\")","v":0},{"$f":"IF(INTRO!$E$42=\"Endémique\", IF(AND($J50>1,$J50<5), IF($J50=4, \"Inconnu\", E50+F50), 0),\"Non requis\")","v":0},{"$f":"IF(INTRO!$E$44=\"Endémique\", IF(AND($K50>0,$K50<5), IF($K50=4,\"Inconnu\", IF($K50=1, $F50*0.33, IF($K50=2, $F50*0.5+$G50*0.2, SUM(F50:G50)))), 0),\"Non requis\")","v":29821.800000000003},1,0,1,0,"MDA1 (IVM+ALB)",null,null,null,5349,"Gayeri",true]
[{"$f":"IF(INTRO!$E$34<>0,INTRO!$E$34,\"\")","v":"Burkina Faso"},"Est","Manni",184741,30076,55559,90798,1,0,1,2,{"$f":"IF(INTRO!$E$38=\"Endémique\", IF($H51>0, IF($H51=4,\"Inconnu\", IF($H51=99,\"Interrompu\", $D51)), 0),\"Non requis\")","v":184741},{"$f":"IF(INTRO!$E$40=\"Endémique\", IF($I51>0, IF($I51=4,\"Inconnu\",IF($I51=99,\"Interrompu\", $D51)), 0),\"Non requis\")","v":0},{"$f":"IF(INTRO!$E$42=\"Endémique\", IF(AND($J51>1,$J51<5), IF($J51=4, \"Inconnu\", E51+F51), 0),\"Non requis\")","v":0},{"$f":"IF(INTRO!$E$44=\"Endémique\", IF(AND($K51>0,$K51<5), IF($K51=4,\"Inconnu\", IF($K51=1, $F51*0.33, IF($K51=2, $F51*0.5+$G51*0.2, SUM(F51:G51)))), 0),\"Non requis\")","v":45939.100000000006},1,0,1,0,"MDA1 (IVM+ALB)",null,null,null,5350,"Manni",true]
[{"$f":"IF(INTRO!$E$34<>0,INTRO!$E$34,\"\")","v":"Burkina Faso"},"Est","Pama",121092,19200,37706,58785,1,0,1,2,{"$f":"IF(INTRO!$E$38=\"Endémique\", IF($H52>0, IF($H52=4,\"Inconnu\", IF($H52=99,\"Interrompu\", $D52)), 0),\"Non requis\")","v":121092},{"$f":"IF(INTRO!$E$40=\"Endémique\", IF($I52>0, IF($I52=4,\"Inconnu\",IF($I52=99,\"Interrompu\", $D52)), 0),\"Non requis\")","v":0},{"$f":"IF(INTRO!$E$42=\"Endémique\", IF(AND($J52>1,$J52<5), IF($J52=4, \"Inconnu\", E52+F52), 0),\"Non requis\")","v":0},{"$f":"IF(INTRO!$E$44=\"Endémique\", IF(AND($K52>0,$K52<5), IF($K52=4,\"Inconnu\", IF($K52=1, $F52*0.33, IF($K52=2, $F52*0.5+$G52*0.2, SUM(F52:G52)))), 0),\"Non requis\")","v":30610},1,0,1,0,"MDA1 (IVM+ALB)",null,null,null,5351,"Pama",true]
[{"$f":"IF(INTRO!$E$34<>0,INTRO!$E$34,\"\")","v":"Burkina Faso"},"Hauts-Bassins","Dafra",348032,37961,94333,205522,99,0,1,1,{"$f":"IF(INTRO!$E$38=\"Endémique\", IF($H53>0, IF($H53=4,\"Inconnu\", IF($H53=99,\"Interrompu\", $D53)), 0),\"Non requis\")","v":"Interrompu"},{"$f":"IF(INTRO!$E$40=\"Endémique\", IF($I53>0, IF($I53=4,\"Inconnu\",IF($I53=99,\"Interrompu\", $D53)), 0),\"Non requis\")","v":0},{"$f":"IF(INTRO!$E$42=\"Endémique\", IF(AND($J53>1,$J53<5), IF($J53=4, \"Inconnu\", E53+F53), 0),\"Non requis\")","v":0},{"$f":"IF(INTRO!$E$44=\"Endémique\", IF(AND($K53>0,$K53<5), IF($K53=4,\"Inconnu\", IF($K53=1, $F53*0.33, IF($K53=2, $F53*0.5+$G53*0.2, SUM(F53:G53)))), 0),\"Non requis\")","v":31129.890000000003},0,0,0,0,null,null,null,null,5352,"Dafra",true]
[{"$f":"IF(INTRO!$E$34<>0,INTRO!$E$34,\"\")","v":"Burkina Faso"},"Hauts-Bassins","Dandé",277817,42578,86232,137953,99,0,1,1,{"$f":"IF(INTRO!$E$38=\"Endémique\", IF($H54>0, IF($H54=4,\"Inconnu\", IF($H54=99,\"Interrompu\", $D54)), 0),\"Non requis\")","v":"Interrompu"},{"$f":"IF(INTRO!$E$40=\"Endémique\", IF($I54>0, IF($I54=4,\"Inconnu\",IF($I54=99,\"Interrompu\", $D54)), 0),\"Non requis\")","v":0},{"$f":"IF(INTRO!$E$42=\"Endémique\", IF(AND($J54>1,$J54<5), IF($J54=4, \"Inconnu\", E54+F54), 0),\"Non requis\")","v":0},{"$f":"IF(INTRO!$E$44=\"Endémique\", IF(AND($K54>0,$K54<5), IF($K54=4,\"Inconnu\", IF($K54=1, $F54*0.33, IF($K54=2, $F54*0.5+$G54*0.2, SUM(F54:G54)))), 0),\"Non requis\")","v":28456.560000000001},0,0,0,0,null,null,null,null,5353,"Dandé",true]
[{"$f":"IF(INTRO!$E$34<>0,INTRO!$E$34,\"\")","v":"Burkina Faso"},"Hauts-Bassins","Dô",548046,62993,149214,318624,99,0,1,1,{"$f":"IF(INTRO!$E$38=\"Endémique\", IF($H55>0, IF($H55=4,\"Inconnu\", IF($H55=99,\"Interrompu\", $D55)), 0),\"Non requis\")","v":"Interrompu"},{"$f":"IF(INTRO!$E$40=\"Endémique\", IF($I55>0, IF($I55=4,\"Inconnu\",IF($I55=99,\"Interrompu\", $D55)), 0),\"Non requis\")","v":0},{"$f":"IF(INTRO!$E$42=\"Endémique\", IF(AND($J55>1,$J55<5), IF($J55=4, \"Inconnu\", E55+F55), 0),\"Non requis\")","v":0},{"$f":"IF(INTRO!$E$44=\"Endémique\", IF(AND($K55>0,$K55<5), IF($K55=4,\"Inconnu\", IF($K55=1, $F55*0.33, IF($K55=2, $F55*0.5+$G55*0.2, SUM(F55:G55)))), 0),\"Non requis\")","v":49240.62},0,0,0,0,null,null,null,null,5354,"Dô",true]
[{"$f":"IF(INTRO!$E$34<>0,INTRO!$E$34,\"\")","v":"Burkina Faso"},"Hauts-Bassins","Houndé",324750,40929,92542,180404,99,0,1,1,{"$f":"IF(INTRO!$E$38=\"Endémique\", IF($H56>0, IF($H56=4,\"Inconnu\", IF($H56=99,\"Interrompu\", $D56)), 0),\"Non requis\")","v":"Interrompu"},{"$f":"IF(INTRO!$E$40=\"Endémique\", IF($I56>0, IF($I56=4,\"Inconnu\",IF($I56=99,\"Interrompu\", $D56)), 0),\"Non requis\")","v":0},{"$f":"IF(INTRO!$E$42=\"Endémique\", IF(AND($J56>1,$J56<5), IF($J56=4, \"Inconnu\", E56+F56), 0),\"Non requis\")","v":0},{"$f":"IF(INTRO!$E$44=\"Endémique\", IF(AND($K56>0,$K56<5), IF($K56=4,\"Inconnu\", IF($K56=1, $F56*0.33, IF($K56=2, $F56*0.5+$G56*0.2, SUM(F56:G56)))), 0),\"Non requis\")","v":30538.86},0,0,0,0,null,null,null,null,5355,"Houndé",true]
[{"$f":"IF(INTRO!$E$34<>0,INTRO!$E$34,\"\")","v":"Burkina Faso"},"Hauts-Bassins","Karangasso-Vigué",107300,16189,32283,54619,99,0,1,1,{"$f":"IF(INTRO!$E$38=\"Endémique\", IF($H57>0, IF($H57=4,\"Inconnu\", IF($H57=99,\"Interrompu\", $D57)), 0),\"Non requis\")","v":"Interrompu"},{"$f":"IF(INTRO!$E$40=\"Endémique\", IF($I57>0, IF($I57=4,\"Inconnu\",IF($I57=99,\"Interrompu\", $D57)), 0),\"Non requis\")","v":0},{"$f":"IF(INTRO!$E$42=\"Endémique\", IF(AND($J57>1,$J57<5), IF($J57=4, \"Inconnu\", E57+F57), 0),\"Non requis\")","v":0},{"$f":"IF(INTRO!$E$44=\"Endémique\", IF(AND($K57>0,$K57<5), IF($K57=4,\"Inconnu\", IF($K57=1, $F57*0.33, IF($K57=2, $F57*0.5+$G57*0.2, SUM(F57:G57)))), 0),\"Non requis\")","v":10653.390000000001},0,0,0,0,null,null,null,null,5356,"Karangasso-Vigué",true]
[{"$f":"IF(INTRO!$E$34<>0,INTRO!$E$34,\"\")","v":"Burkina Faso"},"Hauts-Bassins","Lena",77029,11456,24980,37806,99,0,1,1,{"$f":"IF(INTRO!$E$38=\"Endémique\", IF($H58>0, IF($H58=4,\"Inconnu\", IF($H58=99,\"Interrompu\", $D58)), 0),\"Non requis\")","v":"Interrompu"},{"$f":"IF(INTRO!$E$40=\"Endémique\", IF($I58>0, IF($I58=4,\"Inconnu\",IF($I58=99,\"Interrompu\", $D58)), 0),\"Non requis\")","v":0},{"$f":"IF(INTRO!$E$42=\"Endémique\", IF(AND($J58>1,$J58<5), IF($J58=4, \"Inconnu\", E58+F58), 0),\"Non requis\")","v":0},{"$f":"IF(INTRO!$E$44=\"Endémique\", IF(AND($K58>0,$K58<5), IF($K58=4,\"Inconnu\", IF($K58=1, $F58*0.33, IF($K58=2, $F58*0.5+$G58*0.2, SUM(F58:G58)))), 0),\"Non requis\")","v":8243.4},0,0,0,0,null,null,null,null,5357,"Lena",true]
[{"$f":"IF(INTRO!$E$34<>0,INTRO!$E$34,\"\")","v":"Burkina Faso"},"Hauts-Bassins","N'Dorola",151050,19733,43874,82032,99,0,1,1,{"$f":"IF(INTRO!$E$38=\"Endémique\", IF($H59>0, IF($H59=4,\"Inconnu\", IF($H59=99,\"Interrompu\", $D59)), 0),\"Non requis\")","v":"Interrompu"},{"$f":"IF(INTRO!$E$40=\"Endémique\", IF($I59>0, IF($I59=4,\"Inconnu\",IF($I59=99,\"Interrompu\", $D59)), 0),\"Non requis\")","v":0},{"$f":"IF(INTRO!$E$42=\"Endémique\", IF(AND($J59>1,$J59<5), IF($J59=4, \"Inconnu\", E59+F59), 0),\"Non requis\")","v":0},{"$f":"IF(INTRO!$E$44=\"Endémique\", IF(AND($K59>0,$K59<5), IF($K59=4,\"Inconnu\", IF($K59=1, $F59*0.33, IF($K59=2, $F59*0.5+$G59*0.2, SUM(F59:G59)))), 0),\"Non requis\")","v":14478.42},0,0,0,0,null,null,null,null,53005,"N'Dorola",true]
[{"$f":"IF(INTRO!$E$34<>0,INTRO!$E$34,\"\")","v":"Burkina Faso"},"Hauts-Bassins","Orodara",257258,31725,72478,144793,99,0,1,1,{"$f":"IF(INTRO!$E$38=\"Endémique\", IF($H60>0, IF($H60=4,\"Inconnu\", IF($H60=99,\"Interrompu\", $D60)), 0),\"Non requis\")","v":"Interrompu"},{"$f":"IF(INTRO!$E$40=\"Endémique\", IF($I60>0, IF($I60=4,\"Inconnu\",IF($I60=99,\"Interrompu\", $D60)), 0),\"Non requis\")","v":0},{"$f":"IF(INTRO!$E$42=\"Endémique\", IF(AND($J60>1,$J60<5), IF($J60=4, \"Inconnu\", E60+F60), 0),\"Non requis\")","v":0},{"$f":"IF(INTRO!$E$44=\"Endémique\", IF(AND($K60>0,$K60<5), IF($K60=4,\"Inconnu\", IF($K60=1, $F60*0.33, IF($K60=2, $F60*0.5+$G60*0.2, SUM(F60:G60)))), 0),\"Non requis\")","v":23917.74},0,0,0,0,null,null,null,null,5358,"Orodara",true]
[{"$f":"IF(INTRO!$E$34<>0,INTRO!$E$34,\"\")","v":"Burkina Faso"},"Nord","Gourcy",227912,34523,68781,114971,99,0,1,2,{"$f":"IF(INTRO!$E$38=\"Endémique\", IF($H61>0, IF($H61=4,\"Inconnu\", IF($H61=99,\"Interrompu\", $D61)), 0),\"Non requis\")","v":"Interrompu"},{"$f":"IF(INTRO!$E$40=\"Endémique\", IF($I61>0, IF($I61=4,\"Inconnu\",IF($I61=99,\"Interrompu\", $D61)), 0),\"Non requis\")","v":0},{"$f":"IF(INTRO!$E$42=\"Endémique\", IF(AND($J61>1,$J61<5), IF($J61=4, \"Inconnu\", E61+F61), 0),\"Non requis\")","v":0},{"$f":"IF(INTRO!$E$44=\"Endémique\", IF(AND($K61>0,$K61<5), IF($K61=4,\"Inconnu\", IF($K61=1, $F61*0.33, IF($K61=2, $F61*0.5+$G61*0.2, SUM(F61:G61)))), 0),\"Non requis\")","v":57384.7},0,0,1,1,"T1 (PZQ+ALB/MBD)",null,null,null,5359,"Gourcy",true]
[{"$f":"IF(INTRO!$E$34<>0,INTRO!$E$34,\"\")","v":"Burkina Faso"},"Nord","Ouahigouya",342578,48089,101791,179257,99,0,1,2,{"$f":"IF(INTRO!$E$38=\"Endémique\", IF($H62>0, IF($H62=4,\"Inconnu\", IF($H62=99,\"Interrompu\", $D62)), 0),\"Non requis\")","v":"Interrompu"},{"$f":"IF(INTRO!$E$40=\"Endémique\", IF($I62>0, IF($I62=4,\"Inconnu\",IF($I62=99,\"Interrompu\", $D62)), 0),\"Non requis\")","v":0},{"$f":"IF(INTRO!$E$42=\"Endémique\", IF(AND($J62>1,$J62<5), IF($J62=4, \"Inconnu\", E62+F62), 0),\"Non requis\")","v":0},{"$f":"IF(INTRO!$E$44=\"Endémique\", IF(AND($K62>0,$K62<5), IF($K62=4,\"Inconnu\", IF($K62=1, $F62*0.33, IF($K62=2, $F62*0.5+$G62*0.2, SUM(F62:G62)))), 0),\"Non requis\")","v":86746.9},0,0,1,1,"T1 (PZQ+ALB/MBD)",null,null,null,5360,"Ouahigouya",true]
[{"$f":"IF(INTRO!$E$34<>0,INTRO!$E$34,\"\")","v":"Burkina Faso"},"Nord","Seguenega",218585,34648,67116,106497,99,0,1,2,{"$f":"IF(INTRO!$E$38=\"Endémique\", IF($H63>0, IF($H63=4,\"Inconnu\", IF($H63=99,\"Interrompu\", $D63)), 0),\"Non requis\")","v":"Interrompu"},{"$f":"IF(INTRO!$E$40=\"Endémique\", IF($I63>0, IF($I63=4,\"Inconnu\",IF($I63=99,\"Interrompu\", $D63)), 0),\"Non requis\")","v":0},{"$f":"IF(INTRO!$E$42=\"Endémique\", IF(AND($J63>1,$J63<5), IF($J63=4, \"Inconnu\", E63+F63), 0),\"Non requis\")","v":0},{"$f":"IF(INTRO!$E$44=\"Endémique\", IF(AND($K63>0,$K63<5), IF($K63=4,\"Inconnu\", IF($K63=1, $F63*0.33, IF($K63=2, $F63*0.5+$G63*0.2, SUM(F63:G63)))), 0),\"Non requis\")","v":54857.4},0,0,1,1,"T1 (PZQ+ALB/MBD)",null,null,null,5361,"Seguenega",true]
[{"$f":"IF(INTRO!$E$34<>0,INTRO!$E$34,\"\")","v":"Burkina Faso"},"Nord","Thiou",180174,29555,54816,88222,99,0,1,2,{"$f":"IF(INTRO!$E$38=\"Endémique\", IF($H64>0, IF($H64=4,\"Inconnu\", IF($H64=99,\"Interrompu\", $D64)), 0),\"Non requis\")","v":"Interrompu"},{"$f":"IF(INTRO!$E$40=\"Endémique\", IF($I64>0, IF($I64=4,\"Inconnu\",IF($I64=99,\"Interrompu\", $D64)), 0),\"Non requis\")","v":0},{"$f":"IF(INTRO!$E$42=\"Endémique\", IF(AND($J64>1,$J64<5), IF($J64=4, \"Inconnu\", E64+F64), 0),\"Non requis\")","v":0},{"$f":"IF(INTRO!$E$44=\"Endémique\", IF(AND($K64>0,$K64<5), IF($K64=4,\"Inconnu\", IF($K64=1, $F64*0.33, IF($K64=2, $F64*0.5+$G64*0.2, SUM(F64:G64)))), 0),\"Non requis\")","v":45052.4},0,0,1,1,"T1 (PZQ+ALB/MBD)",null,null,null,53006,"Thiou",true]
[{"$f":"IF(INTRO!$E$34<>0,INTRO!$E$34,\"\")","v":"Burkina Faso"},"Nord","Titao",194040,29393,58556,97887,99,0,1,2,{"$f":"IF(INTRO!$E$38=\"Endémique\", IF($H65>0, IF($H65=4,\"Inconnu\", IF($H65=99,\"Interrompu\", $D65)), 0),\"Non requis\")","v":"Interrompu"},{"$f":"IF(INTRO!$E$40=\"Endémique\", IF($I65>0, IF($I65=4,\"Inconnu\",IF($I65=99,\"Interrompu\", $D65)), 0),\"Non requis\")","v":0},{"$f":"IF(INTRO!$E$42=\"Endémique\", IF(AND($J65>1,$J65<5), IF($J65=4, \"Inconnu\", E65+F65), 0),\"Non requis\")","v":0},{"$f":"IF(INTRO!$E$44=\"Endémique\", IF(AND($K65>0,$K65<5), IF($K65=4,\"Inconnu\", IF($K65=1, $F65*0.33, IF($K65=2, $F65*0.5+$G65*0.2, SUM(F65:G65)))), 0),\"Non requis\")","v":48855.4},0,0,1,1,"T1 (PZQ+ALB/MBD)",null,null,null,5362,"Titao",true]
[{"$f":"IF(INTRO!$E$34<>0,INTRO!$E$34,\"\")","v":"Burkina Faso"},"Nord","Yako",424577,64311,128127,214187,99,0,1,2,{"$f":"IF(INTRO!$E$38=\"Endémique\", IF($H66>0, IF($H66=4,\"Inconnu\", IF($H66=99,\"Interrompu\", $D66)), 0),\"Non requis\")","v":"Interrompu"},{"$f":"IF(INTRO!$E$40=\"Endémique\", IF($I66>0, IF($I66=4,\"Inconnu\",IF($I66=99,\"Interrompu\", $D66)), 0),\"Non requis\")","v":0},{"$f":"IF(INTRO!$E$42=\"Endémique\", IF(AND($J66>1,$J66<5), IF($J66=4, \"Inconnu\", E66+F66), 0),\"Non requis\")","v":0},{"$f":"IF(INTRO!$E$44=\"Endémique\", IF(AND($K66>0,$K66<5), IF($K66=4,\"Inconnu\", IF($K66=1, $F66*0.33, IF($K66=2, $F66*0.5+$G66*0.2, SUM(F66:G66)))), 0),\"Non requis\")","v":106900.9},0,0,1,1,"T1 (PZQ+ALB/MBD)",null,null,null,5363,"Yako",true]
[{"$f":"IF(INTRO!$E$34<>0,INTRO!$E$34,\"\")","v":"Burkina Faso"},"Plateau Central","Boussé",180393,26851,53562,92481,99,0,1,1,{"$f":"IF(INTRO!$E$38=\"Endémique\", IF($H67>0, IF($H67=4,\"Inconnu\", IF($H67=99,\"Interrompu\", $D67)), 0),\"Non requis\")","v":"Interrompu"},{"$f":"IF(INTRO!$E$40=\"Endémique\", IF($I67>0, IF($I67=4,\"Inconnu\",IF($I67=99,\"Interrompu\", $D67)), 0),\"Non requis\")","v":0},{"$f":"IF(INTRO!$E$42=\"Endémique\", IF(AND($J67>1,$J67<5), IF($J67=4, \"Inconnu\", E67+F67), 0),\"Non requis\")","v":0},{"$f":"IF(INTRO!$E$44=\"Endémique\", IF(AND($K67>0,$K67<5), IF($K67=4,\"Inconnu\", IF($K67=1, $F67*0.33, IF($K67=2, $F67*0.5+$G67*0.2, SUM(F67:G67)))), 0),\"Non requis\")","v":17675.46},0,0,0,0,null,null,null,null,5364,"Boussé",true]
[{"$f":"IF(INTRO!$E$34<>0,INTRO!$E$34,\"\")","v":"Burkina Faso"},"Plateau Central","Ziniaré",316189,47064,93882,162100,99,0,1,1,{"$f":"IF(INTRO!$E$38=\"Endémique\", IF($H68>0, IF($H68=4,\"Inconnu\", IF($H68=99,\"Interrompu\", $D68)), 0),\"Non requis\")","v":"Interrompu"},{"$f":"IF(INTRO!$E$40=\"Endémique\", IF($I68>0, IF($I68=4,\"Inconnu\",IF($I68=99,\"Interrompu\", $D68)), 0),\"Non requis\")","v":0},{"$f":"IF(INTRO!$E$42=\"Endémique\", IF(AND($J68>1,$J68<5), IF($J68=4, \"Inconnu\", E68+F68), 0),\"Non requis\")","v":0},{"$f":"IF(INTRO!$E$44=\"Endémique\", IF(AND($K68>0,$K68<5), IF($K68=4,\"Inconnu\", IF($K68=1, $F68*0.33, IF($K68=2, $F68*0.5+$G68*0.2, SUM(F68:G68)))), 0),\"Non requis\")","v":30981.06},0,0,0,0,null,null,null,null,5365,"Ziniaré",true]
[{"$f":"IF(INTRO!$E$34<>0,INTRO!$E$34,\"\")","v":"Burkina Faso"},"Plateau Central","Zorgho",427892,63690,127049,219367,99,0,1,1,{"$f":"IF(INTRO!$E$38=\"Endémique\", IF($H69>0, IF($H69=4,\"Inconnu\", IF($H69=99,\"Interrompu\", $D69)), 0),\"Non requis\")","v":"Interrompu"},{"$f":"IF(INTRO!$E$40=\"Endémique\", IF($I69>0, IF($I69=4,\"Inconnu\",IF($I69=99,\"Interrompu\", $D69)), 0),\"Non requis\")","v":0},{"$f":"IF(INTRO!$E$42=\"Endémique\", IF(AND($J69>1,$J69<5), IF($J69=4, \"Inconnu\", E69+F69), 0),\"Non requis\")","v":0},{"$f":"IF(INTRO!$E$44=\"Endémique\", IF(AND($K69>0,$K69<5), IF($K69=4,\"Inconnu\", IF($K69=1, $F69*0.33, IF($K69=2, $F69*0.5+$G69*0.2, SUM(F69:G69)))), 0),\"Non requis\")","v":41926.170000000006},0,0,0,0,null,null,null,null,5366,"Zorgho",true]
[{"$f":"IF(INTRO!$E$34<>0,INTRO!$E$34,\"\")","v":"Burkina Faso"},"Sahel","Djibo",485935,71421,143572,251024,99,0,1,2,{"$f":"IF(INTRO!$E$38=\"Endémique\", IF($H70>0, IF($H70=4,\"Inconnu\", IF($H70=99,\"Interrompu\", $D70)), 0),\"Non requis\")","v":"Interrompu"},{"$f":"IF(INTRO!$E$40=\"Endémique\", IF($I70>0, IF($I70=4,\"Inconnu\",IF($I70=99,\"Interrompu\", $D70)), 0),\"Non requis\")","v":0},{"$f":"IF(INTRO!$E$42=\"Endémique\", IF(AND($J70>1,$J70<5), IF($J70=4, \"Inconnu\", E70+F70), 0),\"Non requis\")","v":0},{"$f":"IF(INTRO!$E$44=\"Endémique\", IF(AND($K70>0,$K70<5), IF($K70=4,\"Inconnu\", IF($K70=1, $F70*0.33, IF($K70=2, $F70*0.5+$G70*0.2, SUM(F70:G70)))), 0),\"Non requis\")","v":121990.8},0,0,1,1,"T1 (PZQ+ALB/MBD)",null,null,null,5367,"Djibo",true]
[{"$f":"IF(INTRO!$E$34<>0,INTRO!$E$34,\"\")","v":"Burkina Faso"},"Sahel","Dori",364080,53501,107555,188107,99,0,1,2,{"$f":"IF(INTRO!$E$38=\"Endémique\", IF($H71>0, IF($H71=4,\"Inconnu\", IF($H71=99,\"Interrompu\", $D71)), 0),\"Non requis\")","v":"Interrompu"},{"$f":"IF(INTRO!$E$40=\"Endémique\", IF($I71>0, IF($I71=4,\"Inconnu\",IF($I71=99,\"Interrompu\", $D71)), 0),\"Non requis\")","v":0},{"$f":"IF(INTRO!$E$42=\"Endémique\", IF(AND($J71>1,$J71<5), IF($J71=4, \"Inconnu\", E71+F71), 0),\"Non requis\")","v":0},{"$f":"IF(INTRO!$E$44=\"Endémique\", IF(AND($K71>0,$K71<5), IF($K71=4,\"Inconnu\", IF($K71=1, $F71*0.33, IF($K71=2, $F71*0.5+$G71*0.2, SUM(F71:G71)))), 0),\"Non requis\")","v":91398.9},0,0,1,1,"T1 (PZQ+ALB/MBD)",null,null,null,5368,"Dori",true]
[{"$f":"IF(INTRO!$E$34<>0,INTRO!$E$34,\"\")","v":"Burkina Faso"},"Sahel","Gorom-Gorom",279047,41013,82446,144150,99,0,1,2,{"$f":"IF(INTRO!$E$38=\"Endémique\", IF($H72>0, IF($H72=4,\"Inconnu\", IF($H72=99,\"Interrompu\", $D72)), 0),\"Non requis\")","v":"Interrompu"},{"$f":"IF(INTRO!$E$40=\"Endémique\", IF($I72>0, IF($I72=4,\"Inconnu\",IF($I72=99,\"Interrompu\", $D72)), 0),\"Non requis\")","v":0},{"$f":"IF(INTRO!$E$42=\"Endémique\", IF(AND($J72>1,$J72<5), IF($J72=4, \"Inconnu\", E72+F72), 0),\"Non requis\")","v":0},{"$f":"IF(INTRO!$E$44=\"Endémique\", IF(AND($K72>0,$K72<5), IF($K72=4,\"Inconnu\", IF($K72=1, $F72*0.33, IF($K72=2, $F72*0.5+$G72*0.2, SUM(F72:G72)))), 0),\"Non requis\")","v":70053},0,0,1,1,"T1 (PZQ+ALB/MBD)",null,null,null,5369,"Gorom-Gorom",true]
[{"$f":"IF(INTRO!$E$34<>0,INTRO!$E$34,\"\")","v":"Burkina Faso"},"Sahel","Sebba",224245,32959,66254,115840,1,0,1,2,{"$f":"IF(INTRO!$E$38=\"Endémique\", IF($H73>0, IF($H73=4,\"Inconnu\", IF($H73=99,\"Interrompu\", $D73)), 0),\"Non requis\")","v":224245},{"$f":"IF(INTRO!$E$40=\"Endémique\", IF($I73>0, IF($I73=4,\"Inconnu\",IF($I73=99,\"Interrompu\", $D73)), 0),\"Non requis\")","v":0},{"$f":"IF(INTRO!$E$42=\"Endémique\", IF(AND($J73>1,$J73<5), IF($J73=4, \"Inconnu\", E73+F73), 0),\"Non requis\")","v":0},{"$f":"IF(INTRO!$E$44=\"Endémique\", IF(AND($K73>0,$K73<5), IF($K73=4,\"Inconnu\", IF($K73=1, $F73*0.33, IF($K73=2, $F73*0.5+$G73*0.2, SUM(F73:G73)))), 0),\"Non requis\")","v":56295},0,0,1,1,"MDA1 (IVM+ALB)","T2 (PZQ)",null,null,5370,"Sebba",true]
[{"$f":"IF(INTRO!$E$34<>0,INTRO!$E$34,\"\")","v":"Burkina Faso"},"Sud-Ouest","Batié",97614,14243,28237,51136,1,1,1,1,{"$f":"IF(INTRO!$E$38=\"Endémique\", IF($H74>0, IF($H74=4,\"Inconnu\", IF($H74=99,\"Interrompu\", $D74)), 0),\"Non requis\")","v":97614},40508,{"$f":"IF(INTRO!$E$42=\"Endémique\", IF(AND($J74>1,$J74<5), IF($J74=4, \"Inconnu\", E74+F74), 0),\"Non requis\")","v":0},{"$f":"IF(INTRO!$E$44=\"Endémique\", IF(AND($K74>0,$K74<5), IF($K74=4,\"Inconnu\", IF($K74=1, $F74*0.33, IF($K74=2, $F74*0.5+$G74*0.2, SUM(F74:G74)))), 0),\"Non requis\")","v":9318.2100000000009},2,2,1,1,"MDA1 (IVM+ALB)","T2 (PZQ)",null,null,5371,"Batié",{"$f":"Y74=C74","v":true}]
[{"$f":"IF(INTRO!$E$34<>0,INTRO!$E$34,\"\")","v":"Burkina Faso"},"Sud-Ouest","Dano",252706,36876,73100,132379,99,1,1,1,{"$f":"IF(INTRO!$E$38=\"Endémique\", IF($H75>0, IF($H75=4,\"Inconnu\", IF($H75=99,\"Interrompu\", $D75)), 0),\"Non requis\")","v":"Interrompu"},88660,{"$f":"IF(INTRO!$E$42=\"Endémique\", IF(AND($J75>1,$J75<5), IF($J75=4, \"Inconnu\", E75+F75), 0),\"Non requis\")","v":0},{"$f":"IF(INTRO!$E$44=\"Endémique\", IF(AND($K75>0,$K75<5), IF($K75=4,\"Inconnu\", IF($K75=1, $F75*0.33, IF($K75=2, $F75*0.5+$G75*0.2, SUM(F75:G75)))), 0),\"Non requis\")","v":24123},0,2,1,1,"MDA3 (IVM)","T1 (PZQ+ALB/MBD)",null,null,5372,"Dano",true]
[{"$f":"IF(INTRO!$E$34<>0,INTRO!$E$34,\"\")","v":"Burkina Faso"},"Sud-Ouest","Diébougou",139824,20405,40446,73246,1,1,1,1,{"$f":"IF(INTRO!$E$38=\"Endémique\", IF($H76>0, IF($H76=4,\"Inconnu\", IF($H76=99,\"Interrompu\", $D76)), 0),\"Non requis\")","v":139824},34086,{"$f":"IF(INTRO!$E$42=\"Endémique\", IF(AND($J76>1,$J76<5), IF($J76=4, \"Inconnu\", E76+F76), 0),\"Non requis\")","v":0},{"$f":"IF(INTRO!$E$44=\"Endémique\", IF(AND($K76>0,$K76<5), IF($K76=4,\"Inconnu\", IF($K76=1, $F76*0.33, IF($K76=2, $F76*0.5+$G76*0.2, SUM(F76:G76)))), 0),\"Non requis\")","v":13347.18},2,2,1,1,"MDA1 (IVM+ALB)","T2 (PZQ)",null,null,5373,"Diébougou",true]
[{"$f":"IF(INTRO!$E$34<>0,INTRO!$E$34,\"\")","v":"Burkina Faso"},"Sud-Ouest","Gaoua",252385,40907,75590,131166,1,1,1,1,{"$f":"IF(INTRO!$E$38=\"Endémique\", IF($H77>0, IF($H77=4,\"Inconnu\", IF($H77=99,\"Interrompu\", $D77)), 0),\"Non requis\")","v":252385},30610,{"$f":"IF(INTRO!$E$42=\"Endémique\", IF(AND($J77>1,$J77<5), IF($J77=4, \"Inconnu\", E77+F77), 0),\"Non requis\")","v":0},{"$f":"IF(INTRO!$E$44=\"Endémique\", IF(AND($K77>0,$K77<5), IF($K77=4,\"Inconnu\", IF($K77=1, $F77*0.33, IF($K77=2, $F77*0.5+$G77*0.2, SUM(F77:G77)))), 0),\"Non requis\")","v":24944.7},2,2,1,1,"MDA1 (IVM+ALB)","T2 (PZQ)",null,null,5374,"Gaoua",true]
[{"$f":"IF(INTRO!$E$34<>0,INTRO!$E$34,\"\")","v":"Burkina Faso"},"Sud-Ouest","Kampti",99853,15698,26305,53348,1,0,1,1,{"$f":"IF(INTRO!$E$38=\"Endémique\", IF($H78>0, IF($H78=4,\"Inconnu\", IF($H78=99,\"Interrompu\", $D78)), 0),\"Non requis\")","v":99853},{"$f":"IF(INTRO!$E$40=\"Endémique\", IF($I78>0, IF($I78=4,\"Inconnu\",IF($I78=99,\"Interrompu\", $D78)), 0),\"Non requis\")","v":0},{"$f":"IF(INTRO!$E$42=\"Endémique\", IF(AND($J78>1,$J78<5), IF($J78=4, \"Inconnu\", E78+F78), 0),\"Non requis\")","v":0},{"$f":"IF(INTRO!$E$44=\"Endémique\", IF(AND($K78>0,$K78<5), IF($K78=4,\"Inconnu\", IF($K78=1, $F78*0.33, IF($K78=2, $F78*0.5+$G78*0.2, SUM(F78:G78)))), 0),\"Non requis\")","v":8680.65},2,0,1,1,"MDA1 (IVM+ALB)","T2 (PZQ)",null,null,53007,"Kampti",true]

{"sheet":"MDA1","index":2,"n_rows":78,"n_cols":17,"rows_kept":78,"cut":false,"hidden":false,"merged":[[5,13,5,16],[3,0,3,2],[5,0,5,2],[5,5,5,8],[5,9,5,12],[5,3,6,3],[5,4,6,4]]}
["MDA 1 - Ivermectine (IVM) et Albendazole (ALB)"]
["Structure administrative, population nécessitant une chimioprévention par groupe d'âge, population traitée par groupe d'âge et couverture"]
[]
["TOTAL",null,null,null,null,null,{"$f":"SUM(G$9:G$1000)","v":1609737},{"$f":"SUM(H$9:H$1000)","v":2845886},{"$f":"SUM(I$9:I$1000)","v":4455623},null,{"$f":"SUM(K$9:K$1000)","v":1564409.4426},{"$f":"SUM(L$9:L$1000)","v":2664988.5573999998},{"$f":"SUM(M$9:M$1000)","v":4229398},null,{"$f":"IF(G4<>0, IF(K4/G4*100=0, \"-\", K4/G4*100), \" \")","v":97.184163785761271},{"$f":"IF(H4<>0, IF(L4/H4*100=0, \"-\", L4/H4*100), \" \")","v":93.643545714761572},{"$f":"IF(I4<>0, IF(M4/I4*100=0, \"-\", M4/I4*100), \" \")","v":94.922707778463305}]
[]
["Structure administrative du pays",null,null,"Mise en oeuvre \nde la CP","Date","Population ciblée pour MDA 1",null,null,null,"Population traitée",null,null,null,"Couverture du Programme (%)"]
["Pays","Région/Département","District",null,null,"EAPréS","EAS","Adultes","Total","EAPréS","EAS","Adultes","Total","EAPréS","EAS","Adultes","Total"]
[]
[{"$f":"IF(COUNTRY_INFO!A9=0,\" \",COUNTRY_INFO!A9)","v":"Burkina Faso"},{"$f":"IF(COUNTRY_INFO!B9=0,\" \",COUNTRY_INFO!B9)","v":"Boucle du Mouhoun"},{"$f":"IF(COUNTRY_INFO!C9=0,\" \",COUNTRY_INFO!C9)","v":"Boromo"},{"$f":"IF(COUNTRY_INFO!$T$9:$T$1000=\"MDA1 (IVM+ALB)\", COUNTRY_INFO!$T$9:$T$1000, \" \")","v":" "},null,null,null,null,{"$f":"SUM(F9:H9)","v":0},null,null,null,{"$f":"SUM(J9:L9)","v":0},null,{"$f":"IF(G9<>0, IF(K9/G9*100=0, \"-\", K9/G9*100), \" \")","v":" "},{"$f":"IF(H9<>0, IF(L9/H9*100=0, \"-\", L9/H9*100), \" \")","v":" "}," "]
[{"$f":"IF(COUNTRY_INFO!A10=0,\" \",COUNTRY_INFO!A10)","v":"Burkina Faso"},{"$f":"IF(COUNTRY_INFO!B10=0,\" \",COUNTRY_INFO!B10)","v":"Boucle du Mouhoun"},{"$f":"IF(COUNTRY_INFO!C10=0,\" \",COUNTRY_INFO!C10)","v":"Dédougou"},{"$f":"IF(COUNTRY_INFO!$T$9:$T$1000=\"MDA1 (IVM+ALB)\", COUNTRY_INFO!$T$9:$T$1000, \" \")","v":" "},null,null,null,null,{"$f":"SUM(F10:H10)","v":0},null,null,null,{"$f":"SUM(J10:L10)","v":0},null,{"$f":"IF(G10<>0, IF(K10/G10*100=0, \"-\", K10/G10*100), \" \")","v":" "},{"$f":"IF(H10<>0, IF(L10/H10*100=0, \"-\", L10/H10*100), \" \")","v":" "},{"$f":"IF(I10<>0, IF(M10/I10*100=0, \"-\", M10/I10*100), \" \")","v":" "}]
[{"$f":"IF(COUNTRY_INFO!A11=0,\" \",COUNTRY_INFO!A11)","v":"Burkina Faso"},{"$f":"IF(COUNTRY_INFO!B11=0,\" \",COUNTRY_INFO!B11)","v":"Boucle du Mouhoun"},{"$f":"IF(COUNTRY_INFO!C11=0,\" \",COUNTRY_INFO!C11)","v":"Nouna"},{"$f":"IF(COUNTRY_INFO!$T$9:$T$1000=\"MDA1 (IVM+ALB)\", COUNTRY_INFO!$T$9:$T$1000, \" \")","v":" "},null,null,null,null,0,null,null,null,0,null," "," "," "]
[{"$f":"IF(COUNTRY_INFO!A12=0,\" \",COUNTRY_INFO!A12)","v":"Burkina Faso"},{"$f":"IF(COUNTRY_INFO!B12=0,\" \",COUNTRY_INFO!B12)","v":"Boucle du Mouhoun"},{"$f":"IF(COUNTRY_INFO!C12=0,\" \",COUNTRY_INFO!C12)","v":"Solenzo"},{"$f":"IF(COUNTRY_INFO!$T$9:$T$1000=\"MDA1 (IVM+ALB)\", COUNTRY_INFO!$T$9:$T$1000, \" \")","v":" "},null,null,null,null,0,null,null,null,0,null," "," "," "]
[{"$f":"IF(COUNTRY_INFO!A13=0,\" \",COUNTRY_INFO!A13)","v":"Burkina Faso"},{"$f":"IF(COUNTRY_INFO!B13=0,\" \",COUNTRY_INFO!B13)","v":"Boucle du Mouhoun"},{"$f":"IF(COUNTRY_INFO!C13=0,\" \",COUNTRY_INFO!C13)","v":"Toma"},{"$f":"IF(COUNTRY_INFO!$T$9:$T$1000=\"MDA1 (IVM+ALB)\", COUNTRY_INFO!$T$9:$T$1000, \" \")","v":" "},null,null,null,null,0,null,null,null,0,null," "," "," "]
[{"$f":"IF(COUNTRY_INFO!A14=0,\" \",COUNTRY_INFO!A14)","v":"Burkina Faso"},{"$f":"IF(COUNTRY_INFO!B14=0,\" \",COUNTRY_INFO!B14)","v":"Boucle du Mouhoun"},{"$f":"IF(COUNTRY_INFO!C14=0,\" \",COUNTRY_INFO!C14)","v":"Tougan"},{"$f":"IF(COUNTRY_INFO!$T$9:$T$1000=\"MDA1 (IVM+ALB)\", COUNTRY_INFO!$T$9:$T$1000, \" \")","v":" "},null,null,null,null,0,null,null,null,0,null," "," "," "]
[{"$f":"IF(COUNTRY_INFO!A15=0,\" \",COUNTRY_INFO!A15)","v":"Burkina Faso"},{"$f":"IF(COUNTRY_INFO!B15=0,\" \",COUNTRY_INFO!B15)","v":"Cascades"},{"$f":"IF(COUNTRY_INFO!C15=0,\" \",COUNTRY_INFO!C15)","v":"Banfora"},{"$f":"IF(COUNTRY_INFO!$T$9:$T$1000=\"MDA1 (IVM+ALB)\", COUNTRY_INFO!$T$9:$T$1000, \" \")","v":" "},null,null,null,null,0,null,null,null,0,null," "," "," "]
[{"$f":"IF(COUNTRY_INFO!A16=0,\" \",COUNTRY_INFO!A16)","v":"Burkina Faso"},{"$f":"IF(COUNTRY_INFO!B16=0,\" \",COUNTRY_INFO!B16)","v":"Cascades"},{"$f":"IF(COUNTRY_INFO!C16=0,\" \",COUNTRY_INFO!C16)","v":"Mangodara"},{"$f":"IF(COUNTRY_INFO!$T$9:$T$1000=\"MDA1 (IVM+ALB)\", COUNTRY_INFO!$T$9:$T$1000, \" \")","v":" "},null,null,null,null,0,null,null,null,0,null," "," "," "]
[{"$f":"IF(COUNTRY_INFO!A17=0,\" \",COUNTRY_INFO!A17)","v":"Burkina Faso"},{"$f":"IF(COUNTRY_INFO!B17=0,\" \",COUNTRY_INFO!B17)","v":"Cascades"},{"$f":"IF(COUNTRY_INFO!C17=0,\" \",COUNTRY_INFO!C17)","v":"Sindou"},{"$f":"IF(COUNTRY_INFO!$T$9:$T$1000=\"MDA1 (IVM+ALB)\", COUNTRY_INFO!$T$9:$T$1000, \" \")","v":" "},null,null,null,null,0,null,null,null,0,null," "," "," "]
[{"$f":"IF(COUNTRY_INFO!A18=0,\" \",COUNTRY_INFO!A18)","v":"Burkina Faso"},{"$f":"IF(COUNTRY_INFO!B18=0,\" \",COUNTRY_INFO!B18)","v":"Centre"},{"$f":"IF(COUNTRY_INFO!C18=0,\" \",COUNTRY_INFO!C18)","v":"Baskuy"},{"$f":"IF(COUNTRY_INFO!$T$9:$T$1000=\"MDA1 (IVM+ALB)\", COUNTRY_INFO!$T$9:$T$1000, \" \")","v":" "},null,null,null,null,0,null,null,null,0,null," "," "," "]
[{"$f":"IF(COUNTRY_INFO!A19=0,\" \",COUNTRY_INFO!A19)","v":"Burkina Faso"},{"$f":"IF(COUNTRY_INFO!B19=0,\" \",COUNTRY_INFO!B19)","v":"Centre"},{"$f":"IF(COUNTRY_INFO!C19=0,\" \",COUNTRY_INFO!C19)","v":"Bogodogo"},{"$f":"IF(COUNTRY_INFO!$T$9:$T$1000=\"MDA1 (IVM+ALB)\", COUNTRY_INFO!$T$9:$T$1000, \" \")","v":"MDA1 (IVM+ALB)"},"18-22/12/17",null,51010,122671,173681,null,54651,117697,172348,null,107.13781611448736,95.945251934034943,99.23250096441177]
[{"$f":"IF(COUNTRY_INFO!A20=0,\" \",COUNTRY_INFO!A20)","v":"Burkina Faso"},{"$f":"IF(COUNTRY_INFO!B20=0,\" \",COUNTRY_INFO!B20)","v":"Centre"},{"$f":"IF(COUNTRY_INFO!C20=0,\" \",COUNTRY_INFO!C20)","v":"Boulmiougou"},{"$f":"IF(COUNTRY_INFO!$T$9:$T$1000=\"MDA1 (IVM+ALB)\", COUNTRY_INFO!$T$9:$T$1000, \" \")","v":"MDA1 (IVM+ALB)"},"18-22/12/17",null,86938,209070,296008,null,94899,201663,296562,null,109.15710046239849,96.457167455876032,100.18715710386206]
[{"$f":"IF(COUNTRY_INFO!A21=0,\" \",COUNTRY_INFO!A21)","v":"Burkina Faso"},{"$f":"IF(COUNTRY_INFO!B21=0,\" \",COUNTRY_INFO!B21)","v":"Centre"},{"$f":"IF(COUNTRY_INFO!C21=0,\" \",COUNTRY_INFO!C21)","v":"Nongre-Massom"},{"$f":"IF(COUNTRY_INFO!$T$9:$T$1000=\"MDA1 (IVM+ALB)\", COUNTRY_INFO!$T$9:$T$1000, \" \")","v":"MDA1 (IVM+ALB)"},"18-22/12/17",null,4113,9892,14005,null,4299,9256,13555,null,104.52224653537563,93.570562070359884,96.786861835058914]
[{"$f":"IF(COUNTRY_INFO!A22=0,\" \",COUNTRY_INFO!A22)","v":"Burkina Faso"},{"$f":"IF(COUNTRY_INFO!B22=0,\" \",COUNTRY_INFO!B22)","v":"Centre"},{"$f":"IF(COUNTRY_INFO!C22=0,\" \",COUNTRY_INFO!C22)","v":"Sig-Nonghin"},{"$f":"IF(COUNTRY_INFO!$T$9:$T$1000=\"MDA1 (IVM+ALB)\", COUNTRY_INFO!$T$9:$T$1000, \" \")","v":"MDA1 (IVM+ALB)"},"18-22/12/17",null,31567,75913,107480,null,34479,74254,108733,null,109.22482339151647,97.814603559337669,101.16579828805359]
[{"$f":"IF(COUNTRY_INFO!A23=0,\" \",COUNTRY_INFO!A23)","v":"Burkina Faso"},{"$f":"IF(COUNTRY_INFO!B23=0,\" \",COUNTRY_INFO!B23)","v":"Centre-Est"},{"$f":"IF(COUNTRY_INFO!C23=0,\" \",COUNTRY_INFO!C23)","v":"Bittou"},{"$f":"IF(COUNTRY_INFO!$T$9:$T$1000=\"MDA1 (IVM+ALB)\", COUNTRY_INFO!$T$9:$T$1000, \" \")","v":"MDA1 (IVM+ALB)"},"18-22/12/17",null,38638,65214,103852,null,39021,65397,104418,null,100.99125213520368,100.28061459195878,100.54500635519778]
[{"$f":"IF(COUNTRY_INFO!A24=0,\" \",COUNTRY_INFO!A24)","v":"Burkina Faso"},{"$f":"IF(COUNTRY_INFO!B24=0,\" \",COUNTRY_INFO!B24)","v":"Centre-Est"},{"$f":"IF(COUNTRY_INFO!C24=0,\" \",COUNTRY_INFO!C24)","v":"Garango"},{"$f":"IF(COUNTRY_INFO!$T$9:$T$1000=\"MDA1 (IVM+ALB)\", COUNTRY_INFO!$T$9:$T$1000, \" \")","v":"MDA1 (IVM+ALB)"},"18-22/12/17",null,64544,114317,178861,null,63580,106557,170137,null,98.50644521566683,93.21185825380303,95.122469403615099]
[{"$f":"IF(COUNTRY_INFO!A25=0,\" \",COUNTRY_INFO!A25)","v":"Burkina Faso"},{"$f":"IF(COUNTRY_INFO!B25=0,\" \",COUNTRY_INFO!B25)","v":"Centre-Est"},{"$f":"IF(COUNTRY_INFO!C25=0,\" \",COUNTRY_INFO!C25)","v":"Koupela"},{"$f":"IF(COUNTRY_INFO!$T$9:$T$1000=\"MDA1 (IVM+ALB)\", COUNTRY_INFO!$T$9:$T$1000, \" \")","v":"MDA1 (IVM+ALB)"},"18-22/12/17",null,75121,122837,197958,null,68267,114412,182679,null,90.876053300674911,93.141317355519917,92.281696117358223]
[{"$f":"IF(COUNTRY_INFO!A26=0,\" \",COUNTRY_INFO!A26)","v":"Burkina Faso"},{"$f":"IF(COUNTRY_INFO!B26=0,\" \",COUNTRY_INFO!B26)","v":"Centre-Est"},{"$f":"IF(COUNTRY_INFO!C26=0,\" \",COUNTRY_INFO!C26)","v":"Ouargaye"},{"$f":"IF(COUNTRY_INFO!$T$9:$T$1000=\"MDA1 (IVM+ALB)\", COUNTRY_INFO!$T$9:$T$1000, \" \")","v":"MDA1 (IVM+ALB)"},"18-22/12/17",null,108503,184892,293395,null,107139,179558,286697,null,98.742891901606413,97.115072582913271,97.717070843061407]
[{"$f":"IF(COUNTRY_INFO!A27=0,\" \",COUNTRY_INFO!A27)","v":"Burkina Faso"},{"$f":"IF(COUNTRY_INFO!B27=0,\" \",COUNTRY_INFO!B27)","v":"Centre-Est"},{"$f":"IF(COUNTRY_INFO!C27=0,\" \",COUNTRY_INFO!C27)","v":"Pouytenga"},{"$f":"IF(COUNTRY_INFO!$T$9:$T$1000=\"MDA1 (IVM+ALB)\", COUNTRY_INFO!$T$9:$T$1000, \" \")","v":"MDA1 (IVM+ALB)"},"18-22/12/17",null,60452,108187,168639,null,0,0,0,null,"-","-","-"]
[{"$f":"IF(COUNTRY_INFO!A28=0,\" \",COUNTRY_INFO!A28)","v":"Burkina Faso"},{"$f":"IF(COUNTRY_INFO!B28=0,\" \",COUNTRY_INFO!B28)","v":"Centre-Est"},{"$f":"IF(COUNTRY_INFO!C28=0,\" \",COUNTRY_INFO!C28)","v":"Tenkodogo"},{"$f":"IF(COUNTRY_INFO!$T$9:$T$1000=\"MDA1 (IVM+ALB)\", COUNTRY_INFO!$T$9:$T$1000, \" \")","v":"MDA1 (IVM+ALB)"},"18-22/12/17",null,70072,124547,194619,null,74295,124513,198808,null,106.02665829432583,99.972701068672876,102.15241060739189]
[{"$f":"IF(COUNTRY_INFO!A29=0,\" \",COUNTRY_INFO!A29)","v":"Burkina Faso"},{"$f":"IF(COUNTRY_INFO!B29=0,\" \",COUNTRY_INFO!B29)","v":"Centre-Est"},{"$f":"IF(COUNTRY_INFO!C29=0,\" \",COUNTRY_INFO!C29)","v":"Zabré"},{"$f":"IF(COUNTRY_INFO!$T$9:$T$1000=\"MDA1 (IVM+ALB)\", COUNTRY_INFO!$T$9:$T$1000, \" \")","v":" "},null,null,null,null,0,null,0,0,0,null," "," "," "]
[{"$f":"IF(COUNTRY_INFO!A30=0,\" \",COUNTRY_INFO!A30)","v":"Burkina Faso"},{"$f":"IF(COUNTRY_INFO!B30=0,\" \",COUNTRY_INFO!B30)","v":"Centre-Nord"},{"$f":"IF(COUNTRY_INFO!C30=0,\" \",COUNTRY_INFO!C30)","v":"Barsalogo"},{"$f":"IF(COUNTRY_INFO!$T$9:$T$1000=\"MDA1 (IVM+ALB)\", COUNTRY_INFO!$T$9:$T$1000, \" \")","v":" "},null,null,null,null,0,null,0,0,0,null," "," "," "]
[{"$f":"IF(COUNTRY_INFO!A31=0,\" \",COUNTRY_INFO!A31)","v":"Burkina Faso"},{"$f":"IF(COUNTRY_INFO!B31=0,\" \",COUNTRY_INFO!B31)","v":"Centre-Nord"},{"$f":"IF(COUNTRY_INFO!C31=0,\" \",COUNTRY_INFO!C31)","v":"Boulsa"},{"$f":"IF(COUNTRY_INFO!$T$9:$T$1000=\"MDA1 (IVM+ALB)\", COUNTRY_INFO!$T$9:$T$1000, \" \")","v":" "},null,null,null,null,0,null,0,0,0,null," "," "," "]
[{"$f":"IF(COUNTRY_INFO!A32=0,\" \",COUNTRY_INFO!A32)","v":"Burkina Faso"},{"$f":"IF(COUNTRY_INFO!B32=0,\" \",COUNTRY_INFO!B32)","v":"Centre-Nord"},{"$f":"IF(COUNTRY_INFO!C32=0,\" \",COUNTRY_INFO!C32)","v":"Boussouma"},{"$f":"IF(COUNTRY_INFO!$T$9:$T$1000=\"MDA1 (IVM+ALB)\", COUNTRY_INFO!$T$9:$T$1000, \" \")","v":" "},null,null,null,null,0,null,0,0,0,null," "," "," "]
[{"$f":"IF(COUNTRY_INFO!A33=0,\" \",COUNTRY_INFO!A33)","v":"Burkina Faso"},{"$f":"IF(COUNTRY_INFO!B33=0,\" \",COUNTRY_INFO!B33)","v":"Centre-Nord"},{"$f":"IF(COUNTRY_INFO!C33=0,\" \",COUNTRY_INFO!C33)","v":"Kaya"},{"$f":"IF(COUNTRY_INFO!$T$9:$T$1000=\"MDA1 (IVM+ALB)\", COUNTRY_INFO!$T$9:$T$1000, \" \")","v":" "},null,null,null,null,0,null,0,0,0,null," "," "," "]
[{"$f":"IF(COUNTRY_INFO!A34=0,\" \",COUNTRY_INFO!A34)","v":"Burkina Faso"},{"$f":"IF(COUNTRY_INFO!B34=0,\" \",COUNTRY_INFO!B34)","v":"Centre-Nord"},{"$f":"IF(COUNTRY_INFO!C34=0,\" \",COUNTRY_INFO!C34)","v":"Kongoussi"},{"$f":"IF(COUNTRY_INFO!$T$9:$T$1000=\"MDA1 (IVM+ALB)\", COUNTRY_INFO!$T$9:$T$1000, \" \")","v":" "},null,null,null,null,0,null,0,0,0,null," "," "," "]
[{"$f":"IF(COUNTRY_INFO!A35=0,\" \",COUNTRY_INFO!A35)","v":"Burkina Faso"},{"$f":"IF(COUNTRY_INFO!B35=0,\" \",COUNTRY_INFO!B35)","v":"Centre-Nord"},{"$f":"IF(COUNTRY_INFO!C35=0,\" \",COUNTRY_INFO!C35)","v":"Tougouri"},{"$f":"IF(COUNTRY_INFO!$T$9:$T$1000=\"MDA1 (IVM+ALB)\", COUNTRY_INFO!$T$9:$T$1000, \" \")","v":" "},null,null,null,null,0,null,0,0,0,null," "," "," "]
[{"$f":"IF(COUNTRY_INFO!A36=0,\" \",COUNTRY_INFO!A36)","v":"Burkina Faso"},{"$f":"IF(COUNTRY_INFO!B36=0,\" \",COUNTRY_INFO!B36)","v":"Centre-Ouest"},{"$f":"IF(COUNTRY_INFO!C36=0,\" \",COUNTRY_INFO!C36)","v":"Koudougou"},{"$f":"IF(COUNTRY_INFO!$T$9:$T$1000=\"MDA1 (IVM+ALB)\", COUNTRY_INFO!$T$9:$T$1000, \" \")","v":" "},null,null,null,null,0,null,0,0,0,null," "," "," "]
[{"$f":"IF(COUNTRY_INFO!A37=0,\" \",COUNTRY_INFO!A37)","v":"Burkina Faso"},{"$f":"IF(COUNTRY_INFO!B37=0,\" \",COUNTRY_INFO!B37)","v":"Centre-Ouest"},{"$f":"IF(COUNTRY_INFO!C37=0,\" \",COUNTRY_INFO!C37)","v":"Léo"},{"$f":"IF(COUNTRY_INFO!$T$9:$T$1000=\"MDA1 (IVM+ALB)\", COUNTRY_INFO!$T$9:$T$1000, \" \")","v":" "},null,null,null,null,0,null,0,0,0,null," "," "," "]
[{"$f":"IF(COUNTRY_INFO!A38=0,\" \",COUNTRY_INFO!A38)","v":"Burkina Faso"},{"$f":"IF(COUNTRY_INFO!B38=0,\" \",COUNTRY_INFO!B38)","v":"Centre-Ouest"},{"$f":"IF(COUNTRY_INFO!C38=0,\" \",COUNTRY_INFO!C38)","v":"Nanoro"},{"$f":"IF(COUNTRY_INFO!$T$9:$T$1000=\"MDA1 (IVM+ALB)\", COUNTRY_INFO!$T$9:$T$1000, \" \")","v":" "},null,null,null,null,0,null,0,0,0,null," "," "," "]
[{"$f":"IF(COUNTRY_INFO!A39=0,\" \",COUNTRY_INFO!A39)","v":"Burkina Faso"},{"$f":"IF(COUNTRY_INFO!B39=0,\" \",COUNTRY_INFO!B39)","v":"Centre-Ouest"},{"$f":"IF(COUNTRY_INFO!C39=0,\" \",COUNTRY_INFO!C39)","v":"Réo"},{"$f":"IF(COUNTRY_INFO!$T$9:$T$1000=\"MDA1 (IVM+ALB)\", COUNTRY_INFO!$T$9:$T$1000, \" \")","v":" "},null,null,null,null,0,null,0,0,0,null," "," "," "]
[{"$f":"IF(COUNTRY_INFO!A40=0,\" \",COUNTRY_INFO!A40)","v":"Burkina Faso"},{"$f":"IF(COUNTRY_INFO!B40=0,\" \",COUNTRY_INFO!B40)","v":"Centre-Ouest"},{"$f":"IF(COUNTRY_INFO!C40=0,\" \",COUNTRY_INFO!C40)","v":"Sabou"},{"$f":"IF(COUNTRY_INFO!$T$9:$T$1000=\"MDA1 (IVM+ALB)\", COUNTRY_INFO!$T$9:$T$1000, \" \")","v":" "},null,null,null,null,0,null,0,0,0,null," "," "," "]
[{"$f":"IF(COUNTRY_INFO!A41=0,\" \",COUNTRY_INFO!A41)","v":"Burkina Faso"},{"$f":"IF(COUNTRY_INFO!B41=0,\" \",COUNTRY_INFO!B41)","v":"Centre-Ouest"},{"$f":"IF(COUNTRY_INFO!C41=0,\" \",COUNTRY_INFO!C41)","v":"Sapouy"},{"$f":"IF(COUNTRY_INFO!$T$9:$T$1000=\"MDA1 (IVM+ALB)\", COUNTRY_INFO!$T$9:$T$1000, \" \")","v":" "},null,null,null,null,0,null,0,0,0,null," "," "," "]
[{"$f":"IF(COUNTRY_INFO!A42=0,\" \",COUNTRY_INFO!A42)","v":"Burkina Faso"},{"$f":"IF(COUNTRY_INFO!B42=0,\" \",COUNTRY_INFO!B42)","v":"Centre-Ouest"},{"$f":"IF(COUNTRY_INFO!C42=0,\" \",COUNTRY_INFO!C42)","v":"Tenado"},{"$f":"IF(COUNTRY_INFO!$T$9:$T$1000=\"MDA1 (IVM+ALB)\", COUNTRY_INFO!$T$9:$T$1000, \" \")","v":" "},null,null,null,null,0,null,0,0,0,null," "," "," "]
[{"$f":"IF(COUNTRY_INFO!A43=0,\" \",COUNTRY_INFO!A43)","v":"Burkina Faso"},{"$f":"IF(COUNTRY_INFO!B43=0,\" \",COUNTRY_INFO!B43)","v":"Centre-Sud"},{"$f":"IF(COUNTRY_INFO!C43=0,\" \",COUNTRY_INFO!C43)","v":"Kombissiri"},{"$f":"IF(COUNTRY_INFO!$T$9:$T$1000=\"MDA1 (IVM+ALB)\", COUNTRY_INFO!$T$9:$T$1000, \" \")","v":"MDA1 (IVM+ALB)"},"18-22/12/17",null,54929,103404,158333,null,54611,96415,151026,null,99.421070836898537,93.241073846272869,95.385042915879822]
[{"$f":"IF(COUNTRY_INFO!A44=0,\" \",COUNTRY_INFO!A44)","v":"Burkina Faso"},{"$f":"IF(COUNTRY_INFO!B44=0,\" \",COUNTRY_INFO!B44)","v":"Centre-Sud"},{"$f":"IF(COUNTRY_INFO!C44=0,\" \",COUNTRY_INFO!C44)","v":"Manga"},{"$f":"IF(COUNTRY_INFO!$T$9:$T$1000=\"MDA1 (IVM+ALB)\", COUNTRY_INFO!$T$9:$T$1000, \" \")","v":"MDA1 (IVM+ALB)"},"18-22/12/17",null,95347,173732,269079,null,92569,163427,255996,null,97.08643166539062,94.068450256717242,95.137859141739042]
[{"$f":"IF(COUNTRY_INFO!A45=0,\" \",COUNTRY_INFO!A45)","v":"Burkina Faso"},{"$f":"IF(COUNTRY_INFO!B45=0,\" \",COUNTRY_INFO!B45)","v":"Centre-Sud"},{"$f":"IF(COUNTRY_INFO!C45=0,\" \",COUNTRY_INFO!C45)","v":"Pô"},{"$f":"IF(COUNTRY_INFO!$T$9:$T$1000=\"MDA1 (IVM+ALB)\", COUNTRY_INFO!$T$9:$T$1000, \" \")","v":"MDA1 (IVM+ALB)"},"18-22/12/17",null,62247,113422,175669,null,60657,107088,167745,null,97.445660031808771,94.415545485002909,95.489243975886467]
[{"$f":"IF(COUNTRY_INFO!A46=0,\" \",COUNTRY_INFO!A46)","v":"Burkina Faso"},{"$f":"IF(COUNTRY_INFO!B46=0,\" \",COUNTRY_INFO!B46)","v":"Centre-Sud"},{"$f":"IF(COUNTRY_INFO!C46=0,\" \",COUNTRY_INFO!C46)","v":"Saponé"},{"$f":"IF(COUNTRY_INFO!$T$9:$T$1000=\"MDA1 (IVM+ALB)\", COUNTRY_INFO!$T$9:$T$1000, \" \")","v":"MDA1 (IVM+ALB)"},"18-22/12/17",null,33040,56886,89926,null,31210,55101,86311,null,94.461259079903144,96.862145343318218,95.980028023041157]
[{"$f":"IF(COUNTRY_INFO!A47=0,\" \",COUNTRY_INFO!A47)","v":"Burkina Faso"},{"$f":"IF(COUNTRY_INFO!B47=0,\" \",COUNTRY_INFO!B47)","v":"Est"},{"$f":"IF(COUNTRY_INFO!C47=0,\" \",COUNTRY_INFO!C47)","v":"Bogandé"},{"$f":"IF(COUNTRY_INFO!$T$9:$T$1000=\"MDA1 (IVM+ALB)\", COUNTRY_INFO!$T$9:$T$1000, \" \")","v":"MDA1 (IVM+ALB)"},"18-22/12/17",null,119728,182443,302171,null,118152,185424,303576,null,98.683683014833619,101.63393498243288,100.46496851120723]
[{"$f":"IF(COUNTRY_INFO!A48=0,\" \",COUNTRY_INFO!A48)","v":"Burkina Faso"},{"$f":"IF(COUNTRY_INFO!B48=0,\" \",COUNTRY_INFO!B48)","v":"Est"},{"$f":"IF(COUNTRY_INFO!C48=0,\" \",COUNTRY_INFO!C48)","v":"Diapaga"},{"$f":"IF(COUNTRY_INFO!$T$9:$T$1000=\"MDA1 (IVM+ALB)\", COUNTRY_INFO!$T$9:$T$1000, \" \")","v":"MDA1 (IVM+ALB)"},"18-22/12/17",null,152846,238275,391121,null,150710,236520,387230,null,98.602514949687929,99.263456090651559,99.005167198897524]
[{"$f":"IF(COUNTRY_INFO!A49=0,\" \",COUNTRY_INFO!A49)","v":"Burkina Faso"},{"$f":"IF(COUNTRY_INFO!B49=0,\" \",COUNTRY_INFO!B49)","v":"Est"},{"$f":"IF(COUNTRY_INFO!C49=0,\" \",COUNTRY_INFO!C49)","v":"Fada N'gourma"},{"$f":"IF(COUNTRY_INFO!$T$9:$T$1000=\"MDA1 (IVM+ALB)\", COUNTRY_INFO!$T$9:$T$1000, \" \")","v":"MDA1 (IVM+ALB)"},"18-22/12/17",null,133809,208596,342405,null,133812,210001,343813,null,100.00224200165908,100.67355078716753,100.41120894846746]
[{"$f":"IF(COUNTRY_INFO!A50=0,\" \",COUNTRY_INFO!A50)","v":"Burkina Faso"},{"$f":"IF(COUNTRY_INFO!B50=0,\" \",COUNTRY_INFO!B50)","v":"Est"},{"$f":"IF(COUNTRY_INFO!C50=0,\" \",COUNTRY_INFO!C50)","v":"Gayeri"},{"$f":"IF(COUNTRY_INFO!$T$9:$T$1000=\"MDA1 (IVM+ALB)\", COUNTRY_INFO!$T$9:$T$1000, \" \")","v":"MDA1 (IVM+ALB)"},"18-22/12/17",null,36736,57269,94005,null,36800,57752,94552,null,100.17421602787458,100.84338822050324,100.58188394234348]
[{"$f":"IF(COUNTRY_INFO!A51=0,\" \",COUNTRY_INFO!A51)","v":"Burkina Faso"},{"$f":"IF(COUNTRY_INFO!B51=0,\" \",COUNTRY_INFO!B51)","v":"Est"},{"$f":"IF(COUNTRY_INFO!C51=0,\" \",COUNTRY_INFO!C51)","v":"Manni"},{"$f":"IF(COUNTRY_INFO!$T$9:$T$1000=\"MDA1 (IVM+ALB)\", COUNTRY_INFO!$T$9:$T$1000, \" \")","v":"MDA1 (IVM+ALB)"},"18-22/12/17",null,55559,90798,146357,null,57593,90385,147978,null,103.66097301967278,99.545144166171056,101.10756574676989]
[{"$f":"IF(COUNTRY_INFO!A52=0,\" \",COUNTRY_INFO!A52)","v":"Burkina Faso"},{"$f":"IF(COUNTRY_INFO!B52=0,\" \",COUNTRY_INFO!B52)","v":"Est"},{"$f":"IF(COUNTRY_INFO!C52=0,\" \",COUNTRY_INFO!C52)","v":"Pama"},{"$f":"IF(COUNTRY_INFO!$T$9:$T$1000=\"MDA1 (IVM+ALB)\", COUNTRY_INFO!$T$9:$T$1000, \" \")","v":"MDA1 (IVM+ALB)"},"18-22/12/17",null,37706,58785,96491,null,37861,59418,97279,null,100.41107516045192,101.07680530747641,100.81665647573348]
[{"$f":"IF(COUNTRY_INFO!A53=0,\" \",COUNTRY_INFO!A53)","v":"Burkina Faso"},{"$f":"IF(COUNTRY_INFO!B53=0,\" \",COUNTRY_INFO!B53)","v":"Hauts-Bassins"},{"$f":"IF(COUNTRY_INFO!C53=0,\" \",COUNTRY_INFO!C53)","v":"Dafra"},{"$f":"IF(COUNTRY_INFO!$T$9:$T$1000=\"MDA1 (IVM+ALB)\", COUNTRY_INFO!$T$9:$T$1000, \" \")","v":" "},null,null,null,null,0,null,0,0,0,null," "," "," "]
[{"$f":"IF(COUNTRY_INFO!A54=0,\" \",COUNTRY_INFO!A54)","v":"Burkina Faso"},{"$f":"IF(COUNTRY_INFO!B54=0,\" \",COUNTRY_INFO!B54)","v":"Hauts-Bassins"},{"$f":"IF(COUNTRY_INFO!C54=0,\" \",COUNTRY_INFO!C54)","v":"Dandé"},{"$f":"IF(COUNTRY_INFO!$T$9:$T$1000=\"MDA1 (IVM+ALB)\", COUNTRY_INFO!$T$9:$T$1000, \" \")","v":" "},null,null,null,null,0,null,0,0,0,null," "," "," "]
[{"$f":"IF(COUNTRY_INFO!A55=0,\" \",COUNTRY_INFO!A55)","v":"Burkina Faso"},{"$f":"IF(COUNTRY_INFO!B55=0,\" \",COUNTRY_INFO!B55)","v":"Hauts-Bassins"},{"$f":"IF(COUNTRY_INFO!C55=0,\" \",COUNTRY_INFO!C55)","v":"Dô"},{"$f":"IF(COUNTRY_INFO!$T$9:$T$1000=\"MDA1 (IVM+ALB)\", COUNTRY_INFO!$T$9:$T$1000, \" \")","v":" "},null,null,null,null,0,null,0,0,0,null," "," "," "]
[{"$f":"IF(COUNTRY_INFO!A56=0,\" \",COUNTRY_INFO!A56)","v":"Burkina Faso"},{"$f":"IF(COUNTRY_INFO!B56=0,\" \",COUNTRY_INFO!B56)","v":"Hauts-Bassins"},{"$f":"IF(COUNTRY_INFO!C56=0,\" \",COUNTRY_INFO!C56)","v":"Houndé"},{"$f":"IF(COUNTRY_INFO!$T$9:$T$1000=\"MDA1 (IVM+ALB)\", COUNTRY_INFO!$T$9:$T$1000, \" \")","v":" "},null,null,null,null,0,null,0,0,0,null," "," "," "]
[{"$f":"IF(COUNTRY_INFO!A57=0,\" \",COUNTRY_INFO!A57)","v":"Burkina Faso"},{"$f":"IF(COUNTRY_INFO!B57=0,\" \",COUNTRY_INFO!B57)","v":"Hauts-Bassins"},{"$f":"IF(COUNTRY_INFO!C57=0,\" \",COUNTRY_INFO!C57)","v":"Karangasso-Vigué"},{"$f":"IF(COUNTRY_INFO!$T$9:$T$1000=\"MDA1 (IVM+ALB)\", COUNTRY_INFO!$T$9:$T$1000, \" \")","v":" "},null,null,null,null,0,null,0,0,0,null," "," "," "]
[{"$f":"IF(COUNTRY_INFO!A58=0,\" \",COUNTRY_INFO!A58)","v":"Burkina Faso"},{"$f":"IF(COUNTRY_INFO!B58=0,\" \",COUNTRY_INFO!B58)","v":"Hauts-Bassins"},{"$f":"IF(COUNTRY_INFO!C58=0,\" \",COUNTRY_INFO!C58)","v":"Lena"},{"$f":"IF(COUNTRY_INFO!$T$9:$T$1000=\"MDA1 (IVM+ALB)\", COUNTRY_INFO!$T$9:$T$1000, \" \")","v":" "},null,null,null,null,0,null,0,0,0,null," "," "," "]
[{"$f":"IF(COUNTRY_INFO!A59=0,\" \",COUNTRY_INFO!A59)","v":"Burkina Faso"},{"$f":"IF(COUNTRY_INFO!B59=0,\" \",COUNTRY_INFO!B59)","v":"Hauts-Bassins"},{"$f":"IF(COUNTRY_INFO!C59=0,\" \",COUNTRY_INFO!C59)","v":"N'Dorola"},{"$f":"IF(COUNTRY_INFO!$T$9:$T$1000=\"MDA1 (IVM+ALB)\", COUNTRY_INFO!$T$9:$T$1000, \" \")","v":" "},null,null,null,null,0,null,0,0,0,null," "," "," "]
[{"$f":"IF(COUNTRY_INFO!A60=0,\" \",COUNTRY_INFO!A60)","v":"Burkina Faso"},{"$f":"IF(COUNTRY_INFO!B60=0,\" \",COUNTRY_INFO!B60)","v":"Hauts-Bassins"},{"$f":"IF(COUNTRY_INFO!C60=0,\" \",COUNTRY_INFO!C60)","v":"Orodara"},{"$f":"IF(COUNTRY_INFO!$T$9:$T$1000=\"MDA1 (IVM+ALB)\", COUNTRY_INFO!$T$9:$T$1000, \" \")","v":" "},null,null,null,null,0,null,0,0,0,null," "," "," "]
[{"$f":"IF(COUNTRY_INFO!A61=0,\" \",COUNTRY_INFO!A61)","v":"Burkina Faso"},{"$f":"IF(COUNTRY_INFO!B61=0,\" \",COUNTRY_INFO!B61)","v":"Nord"},{"$f":"IF(COUNTRY_INFO!C61=0,\" \",COUNTRY_INFO!C61)","v":"Gourcy"},{"$f":"IF(COUNTRY_INFO!$T$9:$T$1000=\"MDA1 (IVM+ALB)\", COUNTRY_INFO!$T$9:$T$1000, \" \")","v":" "},null,null,null,null,0,null,0,0,0,null," "," "," "]
[{"$f":"IF(COUNTRY_INFO!A62=0,\" \",COUNTRY_INFO!A62)","v":"Burkina Faso"},{"$f":"IF(COUNTRY_INFO!B62=0,\" \",COUNTRY_INFO!B62)","v":"Nord"},{"$f":"IF(COUNTRY_INFO!C62=0,\" \",COUNTRY_INFO!C62)","v":"Ouahigouya"},{"$f":"IF(COUNTRY_INFO!$T$9:$T$1000=\"MDA1 (IVM+ALB)\", COUNTRY_INFO!$T$9:$T$1000, \" \")","v":" "},null,null,null,null,0,null,0,0,0,null," "," "," "]
[{"$f":"IF(COUNTRY_INFO!A63=0,\" \",COUNTRY_INFO!A63)","v":"Burkina Faso"},{"$f":"IF(COUNTRY_INFO!B63=0,\" \",COUNTRY_INFO!B63)","v":"Nord"},{"$f":"IF(COUNTRY_INFO!C63=0,\" \",COUNTRY_INFO!C63)","v":"Seguenega"},{"$f":"IF(COUNTRY_INFO!$T$9:$T$1000=\"MDA1 (IVM+ALB)\", COUNTRY_INFO!$T$9:$T$1000, \" \")","v":" "},null,null,null,null,0,null,0,0,0,null," "," "," "]
[{"$f":"IF(COUNTRY_INFO!A64=0,\" \",COUNTRY_INFO!A64)","v":"Burkina Faso"},{"$f":"IF(COUNTRY_INFO!B64=0,\" \",COUNTRY_INFO!B64)","v":"Nord"},{"$f":"IF(COUNTRY_INFO!C64=0,\" \",COUNTRY_INFO!C64)","v":"Thiou"},{"$f":"IF(COUNTRY_INFO!$T$9:$T$1000=\"MDA1 (IVM+ALB)\", COUNTRY_INFO!$T$9:$T$1000, \" \")","v":" "},null,null,null,null,0,null,0,0,0,null," "," "," "]
[{"$f":"IF(COUNTRY_INFO!A65=0,\" \",COUNTRY_INFO!A65)","v":"Burkina Faso"},{"$f":"IF(COUNTRY_INFO!B65=0,\" \",COUNTRY_INFO!B65)","v":"Nord"},{"$f":"IF(COUNTRY_INFO!C65=0,\" \",COUNTRY_INFO!C65)","v":"Titao"},{"$f":"IF(COUNTRY_INFO!$T$9:$T$1000=\"MDA1 (IVM+ALB)\", COUNTRY_INFO!$T$9:$T$1000, \" \")","v":" "},null,null,null,null,0,null,0,0,0,null," "," "," "]
[{"$f":"IF(COUNTRY_INFO!A66=0,\" \",COUNTRY_INFO!A66)","v":"Burkina Faso"},{"$f":"IF(COUNTRY_INFO!B66=0,\" \",COUNTRY_INFO!B66)","v":"Nord"},{"$f":"IF(COUNTRY_INFO!C66=0,\" \",COUNTRY_INFO!C66)","v":"Yako"},{"$f":"IF(COUNTRY_INFO!$T$9:$T$1000=\"MDA1 (IVM+ALB)\", COUNTRY_INFO!$T$9:$T$1000, \" \")","v":" "},null,null,null,null,0,null,0,0,0,null," "," "," "]
[{"$f":"IF(COUNTRY_INFO!A67=0,\" \",COUNTRY_INFO!A67)","v":"Burkina Faso"},{"$f":"IF(COUNTRY_INFO!B67=0,\" \",COUNTRY_INFO!B67)","v":"Plateau Central"},{"$f":"IF(COUNTRY_INFO!C67=0,\" \",COUNTRY_INFO!C67)","v":"Boussé"},{"$f":"IF(COUNTRY_INFO!$T$9:$T$1000=\"MDA1 (IVM+ALB)\", COUNTRY_INFO!$T$9:$T$1000, \" \")","v":" "},null,null,null,null,0,null,0,0,0,null," "," "," "]
[{"$f":"IF(COUNTRY_INFO!A68=0,\" \",COUNTRY_INFO!A68)","v":"Burkina Faso"},{"$f":"IF(COUNTRY_INFO!B68=0,\" \",COUNTRY_INFO!B68)","v":"Plateau Central"},{"$f":"IF(COUNTRY_INFO!C68=0,\" \",COUNTRY_INFO!C68)","v":"Ziniaré"},{"$f":"IF(COUNTRY_INFO!$T$9:$T$1000=\"MDA1 (IVM+ALB)\", COUNTRY_INFO!$T$9:$T$1000, \" \")","v":" "},null,null,null,null,0,null,0,0,0,null," "," "," "]
[{"$f":"IF(COUNTRY_INFO!A69=0,\" \",COUNTRY_INFO!A69)","v":"Burkina Faso"},{"$f":"IF(COUNTRY_INFO!B69=0,\" \",COUNTRY_INFO!B69)","v":"Plateau Central"},{"$f":"IF(COUNTRY_INFO!C69=0,\" \",COUNTRY_INFO!C69)","v":"Zorgho"},{"$f":"IF(COUNTRY_INFO!$T$9:$T$1000=\"MDA1 (IVM+ALB)\", COUNTRY_INFO!$T$9:$T$1000, \" \")","v":" "},null,null,null,null,0,null,0,0,0,null," "," "," "]
[{"$f":"IF(COUNTRY_INFO!A70=0,\" \",COUNTRY_INFO!A70)","v":"Burkina Faso"},{"$f":"IF(COUNTRY_INFO!B70=0,\" \",COUNTRY_INFO!B70)","v":"Sahel"},{"$f":"IF(COUNTRY_INFO!C70=0,\" \",COUNTRY_INFO!C70)","v":"Djibo"},{"$f":"IF(COUNTRY_INFO!$T$9:$T$1000=\"MDA1 (IVM+ALB)\", COUNTRY_INFO!$T$9:$T$1000, \" \")","v":" "},null,null,null,null,0,null,0,0,0,null," "," "," "]
[{"$f":"IF(COUNTRY_INFO!A71=0,\" \",COUNTRY_INFO!A71)","v":"Burkina Faso"},{"$f":"IF(COUNTRY_INFO!B71=0,\" \",COUNTRY_INFO!B71)","v":"Sahel"},{"$f":"IF(COUNTRY_INFO!C71=0,\" \",COUNTRY_INFO!C71)","v":"Dori"},{"$f":"IF(COUNTRY_INFO!$T$9:$T$1000=\"MDA1 (IVM+ALB)\", COUNTRY_INFO!$T$9:$T$1000, \" \")","v":" "},null,null,null,null,0,null,0,0,0,null," "," "," "]
[{"$f":"IF(COUNTRY_INFO!A72=0,\" \",COUNTRY_INFO!A72)","v":"Burkina Faso"},{"$f":"IF(COUNTRY_INFO!B72=0,\" \",COUNTRY_INFO!B72)","v":"Sahel"},{"$f":"IF(COUNTRY_INFO!C72=0,\" \",COUNTRY_INFO!C72)","v":"Gorom-Gorom"},{"$f":"IF(COUNTRY_INFO!$T$9:$T$1000=\"MDA1 (IVM+ALB)\", COUNTRY_INFO!$T$9:$T$1000, \" \")","v":" "},null,null,null,null,0,null,0,0,0,null," "," "," "]
[{"$f":"IF(COUNTRY_INFO!A73=0,\" \",COUNTRY_INFO!A73)","v":"Burkina Faso"},{"$f":"IF(COUNTRY_INFO!B73=0,\" \",COUNTRY_INFO!B73)","v":"Sahel"},{"$f":"IF(COUNTRY_INFO!C73=0,\" \",COUNTRY_INFO!C73)","v":"Sebba"},{"$f":"IF(COUNTRY_INFO!$T$9:$T$1000=\"MDA1 (IVM+ALB)\", COUNTRY_INFO!$T$9:$T$1000, \" \")","v":"MDA1 (IVM+ALB)"},"6-10/10/17",null,66254,115840,182094,null,65457.442599999988,114469.55740000002,179927,null,98.797721797929157,98.816952175414386,98.809955297813218]
[{"$f":"IF(COUNTRY_INFO!A74=0,\" \",COUNTRY_INFO!A74)","v":"Burkina Faso"},{"$f":"IF(COUNTRY_INFO!B74=0,\" \",COUNTRY_INFO!B74)","v":"Sud-Ouest"},{"$f":"IF(COUNTRY_INFO!C74=0,\" \",COUNTRY_INFO!C74)","v":"Batié"},{"$f":"IF(COUNTRY_INFO!$T$9:$T$1000=\"MDA1 (IVM+ALB)\", COUNTRY_INFO!$T$9:$T$1000, \" \")","v":"MDA1 (IVM+ALB)"},"17-22/07/17",null,28237,51136,{"$f":"SUM(F74:H74)","v":79373},null,28291,49948,{"$f":"SUM(J74:L74)","v":78239},null,{"$f":"IF(G74<>0, IF(K74/G74*100=0, \"-\", K74/G74*100), \" \")","v":100.19123844601054},{"$f":"IF(H74<>0, IF(L74/H74*100=0, \"-\", L74/H74*100), \" \")","v":97.676783479349183},{"$f":"IF(I74<>0, IF(M74/I74*100=0, \"-\", M74/I74*100), \" \")","v":98.571302584002112}]
[{"$f":"IF(COUNTRY_INFO!A75=0,\" \",COUNTRY_INFO!A75)","v":"Burkina Faso"},{"$f":"IF(COUNTRY_INFO!B75=0,\" \",COUNTRY_INFO!B75)","v":"Sud-Ouest"},{"$f":"IF(COUNTRY_INFO!C75=0,\" \",COUNTRY_INFO!C75)","v":"Dano"},{"$f":"IF(COUNTRY_INFO!$T$9:$T$1000=\"MDA1 (IVM+ALB)\", COUNTRY_INFO!$T$9:$T$1000, \" \")","v":" "},null,null,null,null,0,null,0,0,0,null," "," "," "]
[{"$f":"IF(COUNTRY_INFO!A76=0,\" \",COUNTRY_INFO!A76)","v":"Burkina Faso"},{"$f":"IF(COUNTRY_INFO!B76=0,\" \",COUNTRY_INFO!B76)","v":"Sud-Ouest"},{"$f":"IF(COUNTRY_INFO!C76=0,\" \",COUNTRY_INFO!C76)","v":"Diébougou"},{"$f":"IF(COUNTRY_INFO!$T$9:$T$1000=\"MDA1 (IVM+ALB)\", COUNTRY_INFO!$T$9:$T$1000, \" \")","v":"MDA1 (IVM+ALB)"},"17-22/07/17",null,40446,73246,113692,null,42522,72539,115061,null,105.13276961875093,99.034759577314802,101.2041304577279]
[{"$f":"IF(COUNTRY_INFO!A77=0,\" \",COUNTRY_INFO!A77)","v":"Burkina Faso"},{"$f":"IF(COUNTRY_INFO!B77=0,\" \",COUNTRY_INFO!B77)","v":"Sud-Ouest"},{"$f":"IF(COUNTRY_INFO!C77=0,\" \",COUNTRY_INFO!C77)","v":"Gaoua"},{"$f":"IF(COUNTRY_INFO!$T$9:$T$1000=\"MDA1 (IVM+ALB)\", COUNTRY_INFO!$T$9:$T$1000, \" \")","v":"MDA1 (IVM+ALB)"},"17-22/07/17",null,75590,131166,206756,null,90365,116413,206778,null,119.5462362746395,88.752420596801002,100.01064056182167]
[{"$f":"IF(COUNTRY_INFO!A78=0,\" \",COUNTRY_INFO!A78)","v":"Burkina Faso"},{"$f":"IF(COUNTRY_INFO!B78=0,\" \",COUNTRY_INFO!B78)","v":"Sud-Ouest"},{"$f":"IF(COUNTRY_INFO!C78=0,\" \",COUNTRY_INFO!C78)","v":"Kampti"},{"$f":"IF(COUNTRY_INFO!$T$9:$T$1000=\"MDA1 (IVM+ALB)\", COUNTRY_INFO!$T$9:$T$1000, \" \")","v":"MDA1 (IVM+ALB)"},"17-22/07/17",null,26305,53348,79653,null,23169,56781,79950,null,88.078312107964265,106.43510534602984,100.37286731196563]

{"sheet":"MDA2","index":3,"n_rows":78,"n_cols":17,"rows_kept":78,"cut":false,"hidden":true,"merged":[[5,5,5,8],[5,9,5,12],[5,13,5,16],[3,0,3,2],[5,0,5,2],[5,3,6,3],[5,4,6,4]]}
["MDA 2 - Diethylcarbamazine (DEC) + Albendazole (ALB)"]
["Structure administrative, population nécessitant une chimioprévention par groupe d'âge, population traitée par groupe d'âge et couverture"]
[]
["TOTAL",null,null,null,null,{"$f":"SUM(F$9:F$1000)","v":0},{"$f":"SUM(G$9:G$1000)","v":0},0,0,0,0,0,0,{"$f":"IF(F4<>0, IF(J4/F4*100=0, \"-\", J4/F4*100), \" \")","v":" "},{"$f":"IF(G4<>0, IF(K4/G4*100=0, \"-\", K4/G4*100), \" \")","v":" "},{"$f":"IF(H4<>0, IF(L4/H4*100=0, \"-\", L4/H4*100), \" \")","v":" "},{"$f":"IF(I4<>0, IF(M4/I4*100=0, \"-\", M4/I4*100), \" \")","v":" "}]
[]
["Structure administrative du pays",null,null,"Mise en oeuvre \nde la CP","Date","Population ciblée pour MDA 2",null,null,null,"Population traitée",null,null,null,"Couverture du Programme (%)"]
["Pays","Région/Département","District",null,null,"EAPréS","EAS","Adultes","Total","EAPréS","EAS","Adultes","Total","EAPréS","EAS","Adultes","Total"]
[]
[{"$f":"IF(COUNTRY_INFO!A9=0,\" \",COUNTRY_INFO!A9)","v":"Burkina Faso"},{"$f":"IF(COUNTRY_INFO!B9=0,\" \",COUNTRY_INFO!B9)","v":"Boucle du Mouhoun"},{"$f":"IF(COUNTRY_INFO!C9=0,\" \",COUNTRY_INFO!C9)","v":"Boromo"},{"$f":"IF(COUNTRY_INFO!$T$9:$T$1000=\"MDA2 (DEC+ALB)\", COUNTRY_INFO!$T$9:$T$1000, \" \")","v":" "},null,null,null,null,{"$f":"SUM(F9:H9)","v":0},null,null,null,{"$f":"SUM(J9:L9)","v":0},{"$f":"IF(F9<>0, IF(J9/F9*100=0, \"-\", J9/F9*100), \" \")","v":" "}," "," "," "]
[{"$f":"IF(COUNTRY_INFO!A10=0,\" \",COUNTRY_INFO!A10)","v":"Burkina Faso"},{"$f":"IF(COUNTRY_INFO!B10=0,\" \",COUNTRY_INFO!B10)","v":"Boucle du Mouhoun"},{"$f":"IF(COUNTRY_INFO!C10=0,\" \",COUNTRY_INFO!C10)","v":"Dédougou"},{"$f":"IF(COUNTRY_INFO!$T$9:$T$1000=\"MDA2 (DEC+ALB)\", COUNTRY_INFO!$T$9:$T$1000, \" \")","v":" "},null,null,null,null,{"$f":"SUM(F10:H10)","v":0},null,null,null,{"$f":"SUM(J10:L10)","v":0},{"$f":"IF(F10<>0, IF(J10/F10*100=0, \"-\", J10/F10*100), \" \")","v":" "},{"$f":"IF(G10<>0, IF(K10/G10*100=0, \"-\", K10/G10*100), \" \")","v":" "},{"$f":"IF(H10<>0, IF(L10/H10*100=0, \"-\", L10/H10*100), \" \")","v":" "},{"$f":"IF(I10<>0, IF(M10/I10*100=0, \"-\", M10/I10*100), \" \")","v":" "}]
[{"$f":"IF(COUNTRY_INFO!A11=0,\" \",COUNTRY_INFO!A11)","v":"Burkina Faso"},{"$f":"IF(COUNTRY_INFO!B11=0,\" \",COUNTRY_INFO!B11)","v":"Boucle du Mouhoun"},{"$f":"IF(COUNTRY_INFO!C11=0,\" \",COUNTRY_INFO!C11)","v":"Nouna"},{"$f":"IF(COUNTRY_INFO!$T$9:$T$1000=\"MDA2 (DEC+ALB)\", COUNTRY_INFO!$T$9:$T$1000, \" \")","v":" "},null,null,null,null,0,null,null,null,0," "," "," "," "]
[{"$f":"IF(COUNTRY_INFO!A12=0,\" \",COUNTRY_INFO!A12)","v":"Burkina Faso"},{"$f":"IF(COUNTRY_INFO!B12=0,\" \",COUNTRY_INFO!B12)","v":"Boucle du Mouhoun"},{"$f":"IF(COUNTRY_INFO!C12=0,\" \",COUNTRY_INFO!C12)","v":"Solenzo"},{"$f":"IF(COUNTRY_INFO!$T$9:$T$1000=\"MDA2 (DEC+ALB)\", COUNTRY_INFO!$T$9:$T$1000, \" \")","v":" "},null,null,null,null,0,null,null,null,0," "," "," "," "]
[{"$f":"IF(COUNTRY_INFO!A13=0,\" \",COUNTRY_INFO!A13)","v":"Burkina Faso"},{"$f":"IF(COUNTRY_INFO!B13=0,\" \",COUNTRY_INFO!B13)","v":"Boucle du Mouhoun"},{"$f":"IF(COUNTRY_INFO!C13=0,\" \",COUNTRY_INFO!C13)","v":"Toma"},{"$f":"IF(COUNTRY_INFO!$T$9:$T$1000=\"MDA2 (DEC+ALB)\", COUNTRY_INFO!$T$9:$T$1000, \" \")","v":" "},null,null,null,null,0,null,null,null,0," "," "," "," "]
[{"$f":"IF(COUNTRY_INFO!A14=0,\" \",COUNTRY_INFO!A14)","v":"Burkina Faso"},{"$f":"IF(COUNTRY_INFO!B14=0,\" \",COUNTRY_INFO!B14)","v":"Boucle du Mouhoun"},{"$f":"IF(COUNTRY_INFO!C14=0,\" \",COUNTRY_INFO!C14)","v":"Tougan"},{"$f":"IF(COUNTRY_INFO!$T$9:$T$1000=\"MDA2 (DEC+ALB)\", COUNTRY_INFO!$T$9:$T$1000, \" \")","v":" "},null,null,null,null,0,null,null,null,0," "," "," "," "]
[{"$f":"IF(COUNTRY_INFO!A15=0,\" \",COUNTRY_INFO!A15)","v":"Burkina Faso"},{"$f":"IF(COUNTRY_INFO!B15=0,\" \",COUNTRY_INFO!B15)","v":"Cascades"},{"$f":"IF(COUNTRY_INFO!C15=0,\" \",COUNTRY_INFO!C15)","v":"Banfora"},{"$f":"IF(COUNTRY_INFO!$T$9:$T$1000=\"MDA2 (DEC+ALB)\", COUNTRY_INFO!$T$9:$T$1000, \" \")","v":" "},null,null,null,null,0,null,null,null,0," "," "," "," "]
[{"$f":"IF(COUNTRY_INFO!A16=0,\" \",COUNTRY_INFO!A16)","v":"Burkina Faso"},{"$f":"IF(COUNTRY_INFO!B16=0,\" \",COUNTRY_INFO!B16)","v":"Cascades"},{"$f":"IF(COUNTRY_INFO!C16=0,\" \",COUNTRY_INFO!C16)","v":"Mangodara"},{"$f":"IF(COUNTRY_INFO!$T$9:$T$1000=\"MDA2 (DEC+ALB)\", COUNTRY_INFO!$T$9:$T$1000, \" \")","v":" "},null,null,null,null,0,null,null,null,0," "," "," "," "]
[{"$f":"IF(COUNTRY_INFO!A17=0,\" \",COUNTRY_INFO!A17)","v":"Burkina Faso"},{"$f":"IF(COUNTRY_INFO!B17=0,\" \",COUNTRY_INFO!B17)","v":"Cascades"},{"$f":"IF(COUNTRY_INFO!C17=0,\" \",COUNTRY_INFO!C17)","v":"Sindou"},{"$f":"IF(COUNTRY_INFO!$T$9:$T$1000=\"MDA2 (DEC+ALB)\", COUNTRY_INFO!$T$9:$T$1000, \" \")","v":" "},null,null,null,null,0,null,null,null,0," "," "," "," "]
[{"$f":"IF(COUNTRY_INFO!A18=0,\" \",COUNTRY_INFO!A18)","v":"Burkina Faso"},{"$f":"IF(COUNTRY_INFO!B18=0,\" \",COUNTRY_INFO!B18)","v":"Centre"},{"$f":"IF(COUNTRY_INFO!C18=0,\" \",COUNTRY_INFO!C18)","v":"Baskuy"},{"$f":"IF(COUNTRY_INFO!$T$9:$T$1000=\"MDA2 (DEC+ALB)\", COUNTRY_INFO!$T$9:$T$1000, \" \")","v":" "},null,null,null,null,0,null,null,null,0," "," "," "," "]
[{"$f":"IF(COUNTRY_INFO!A19=0,\" \",COUNTRY_INFO!A19)","v":"Burkina Faso"},{"$f":"IF(COUNTRY_INFO!B19=0,\" \",COUNTRY_INFO!B19)","v":"Centre"},{"$f":"IF(COUNTRY_INFO!C19=0,\" \",COUNTRY_INFO!C19)","v":"Bogodogo"},{"$f":"IF(COUNTRY_INFO!$T$9:$T$1000=\"MDA2 (DEC+ALB)\", COUNTRY_INFO!$T$9:$T$1000, \" \")","v":" "},null,null,null,null,0,null,null,null,0," "," "," "," "]
[{"$f":"IF(COUNTRY_INFO!A20=0,\" \",COUNTRY_INFO!A20)","v":"Burkina Faso"},{"$f":"IF(COUNTRY_INFO!B20=0,\" \",COUNTRY_INFO!B20)","v":"Centre"},{"$f":"IF(COUNTRY_INFO!C20=0,\" \",COUNTRY_INFO!C20)","v":"Boulmiougou"},{"$f":"IF(COUNTRY_INFO!$T$9:$T$1000=\"MDA2 (DEC+ALB)\", COUNTRY_INFO!$T$9:$T$1000, \" \")","v":" "},null,null,null,null,0,null,null,null,0," "," "," "," "]
[{"$f":"IF(COUNTRY_INFO!A21=0,\" \",COUNTRY_INFO!A21)","v":"Burkina Faso"},{"$f":"IF(COUNTRY_INFO!B21=0,\" \",COUNTRY_INFO!B21)","v":"Centre"},{"$f":"IF(COUNTRY_INFO!C21=0,\" \",COUNTRY_INFO!C21)","v":"Nongre-Massom"},{"$f":"IF(COUNTRY_INFO!$T$9:$T$1000=\"MDA2 (DEC+ALB)\", COUNTRY_INFO!$T$9:$T$1000, \" \")","v":" "},null,null,null,null,0,null,null,null,0," "," "," "," "]
[{"$f":"IF(COUNTRY_INFO!A22=0,\" \",COUNTRY_INFO!A22)","v":"Burkina Faso"},{"$f":"IF(COUNTRY_INFO!B22=0,\" \",COUNTRY_INFO!B22)","v":"Centre"},{"$f":"IF(COUNTRY_INFO!C22=0,\" \",COUNTRY_INFO!C22)","v":"Sig-Nonghin"},{"$f":"IF(COUNTRY_INFO!$T$9:$T$1000=\"MDA2 (DEC+ALB)\", COUNTRY_INFO!$T$9:$T$1000, \" \")","v":" "},null,null,null,null,0,null,null,null,0," "," "," "," "]
[{"$f":"IF(COUNTRY_INFO!A23=0,\" \",COUNTRY_INFO!A23)","v":"Burkina Faso"},{"$f":"IF(COUNTRY_INFO!B23=0,\" \",COUNTRY_INFO!B23)","v":"Centre-Est"},{"$f":"IF(COUNTRY_INFO!C23=0,\" \",COUNTRY_INFO!C23)","v":"Bittou"},{"$f":"IF(COUNTRY_INFO!$T$9:$T$1000=\"MDA2 (DEC+ALB)\", COUNTRY_INFO!$T$9:$T$1000, \" \")","v":" "},null,null,null,null,0,null,null,null,0," "," "," "," "]
[{"$f":"IF(COUNTRY_INFO!A24=0,\" \",COUNTRY_INFO!A24)","v":"Burkina Faso"},{"$f":"IF(COUNTRY_INFO!B24=0,\" \",COUNTRY_INFO!B24)","v":"Centre-Est"},{"$f":"IF(COUNTRY_INFO!C24=0,\" \",COUNTRY_INFO!C24)","v":"Garango"},{"$f":"IF(COUNTRY_INFO!$T$9:$T$1000=\"MDA2 (DEC+ALB)\", COUNTRY_INFO!$T$9:$T$1000, \" \")","v":" "},null,null,null,null,0,null,null,null,0," "," "," "," "]
[{"$f":"IF(COUNTRY_INFO!A25=0,\" \",COUNTRY_INFO!A25)","v":"Burkina Faso"},{"$f":"IF(COUNTRY_INFO!B25=0,\" \",COUNTRY_INFO!B25)","v":"Centre-Est"},{"$f":"IF(COUNTRY_INFO!C25=0,\" \",COUNTRY_INFO!C25)","v":"Koupela"},{"$f":"IF(COUNTRY_INFO!$T$9:$T$1000=\"MDA2 (DEC+ALB)\", COUNTRY_INFO!$T$9:$T$1000, \" \")","v":" "},null,null,null,null,0,null,null,null,0," "," "," "," "]
[{"$f":"IF(COUNTRY_INFO!A26=0,\" \",COUNTRY_INFO!A26)","v":"Burkina Faso"},{"$f":"IF(COUNTRY_INFO!B26=0,\" \",COUNTRY_INFO!B26)","v":"Centre-Est"},{"$f":"IF(COUNTRY_INFO!C26=0,\" \",COUNTRY_INFO!C26)","v":"Ouargaye"},{"$f":"IF(COUNTRY_INFO!$T$9:$T$1000=\"MDA2 (DEC+ALB)\", COUNTRY_INFO!$T$9:$T$1000, \" \")","v":" "},null,null,null,null,0,null,null,null,0," "," "," "," "]
[{"$f":"IF(COUNTRY_INFO!A27=0,\" \",COUNTRY_INFO!A27)","v":"Burkina Faso"},{"$f":"IF(COUNTRY_INFO!B27=0,\" \",COUNTRY_INFO!B27)","v":"Centre-Est"},{"$f":"IF(COUNTRY_INFO!C27=0,\" \",COUNTRY_INFO!C27)","v":"Pouytenga"},{"$f":"IF(COUNTRY_INFO!$T$9:$T$1000=\"MDA2 (DEC+ALB)\", COUNTRY_INFO!$T$9:$T$1000, \" \")","v":" "},null,null,null,null,0,null,null,null,0," "," "," "," "]
[{"$f":"IF(COUNTRY_INFO!A28=0,\" \",COUNTRY_INFO!A28)","v":"Burkina Faso"},{"$f":"IF(COUNTRY_INFO!B28=0,\" \",COUNTRY_INFO!B28)","v":"Centre-Est"},{"$f":"IF(COUNTRY_INFO!C28=0,\" \",COUNTRY_INFO!C28)","v":"Tenkodogo"},{"$f":"IF(COUNTRY_INFO!$T$9:$T$1000=\"MDA2 (DEC+ALB)\", COUNTRY_INFO!$T$9:$T$1000, \" \")","v":" "},null,null,null,null,0,null,null,null,0," "," "," "," "]
[{"$f":"IF(COUNTRY_INFO!A29=0,\" \",COUNTRY_INFO!A29)","v":"Burkina Faso"},{"$f":"IF(COUNTRY_INFO!B29=0,\" \",COUNTRY_INFO!B29)","v":"Centre-Est"},{"$f":"IF(COUNTRY_INFO!C29=0,\" \",COUNTRY_INFO!C29)","v":"Zabré"},{"$f":"IF(COUNTRY_INFO!$T$9:$T$1000=\"MDA2 (DEC+ALB)\", COUNTRY_INFO!$T$9:$T$1000, \" \")","v":" "},null,null,null,null,0,null,null,null,0," "," "," "," "]
[{"$f":"IF(COUNTRY_INFO!A30=0,\" \",COUNTRY_INFO!A30)","v":"Burkina Faso"},{"$f":"IF(COUNTRY_INFO!B30=0,\" \",COUNTRY_INFO!B30)","v":"Centre-Nord"},{"$f":"IF(COUNTRY_INFO!C30=0,\" \",COUNTRY_INFO!C30)","v":"Barsalogo"},{"$f":"IF(COUNTRY_INFO!$T$9:$T$1000=\"MDA2 (DEC+ALB)\", COUNTRY_INFO!$T$9:$T$1000, \" \")","v":" "},null,null,null,null,0,null,null,null,0," "," "," "," "]
[{"$f":"IF(COUNTRY_INFO!A31=0,\" \",COUNTRY_INFO!A31)","v":"Burkina Faso"},{"$f":"IF(COUNTRY_INFO!B31=0,\" \",COUNTRY_INFO!B31)","v":"Centre-Nord"},{"$f":"IF(COUNTRY_INFO!C31=0,\" \",COUNTRY_INFO!C31)","v":"Boulsa"},{"$f":"IF(COUNTRY_INFO!$T$9:$T$1000=\"MDA2 (DEC+ALB)\", COUNTRY_INFO!$T$9:$T$1000, \" \")","v":" "},null,null,null,null,0,null,null,null,0," "," "," "," "]
[{"$f":"IF(COUNTRY_INFO!A32=0,\" \",COUNTRY_INFO!A32)","v":"Burkina Faso"},{"$f":"IF(COUNTRY_INFO!B32=0,\" \",COUNTRY_INFO!B32)","v":"Centre-Nord"},{"$f":"IF(COUNTRY_INFO!C32=0,\" \",COUNTRY_INFO!C32)","v":"Boussouma"},{"$f":"IF(COUNTRY_INFO!$T$9:$T$1000=\"MDA2 (DEC+ALB)\", COUNTRY_INFO!$T$9:$T$1000, \" \")","v":" "},null,null,null,null,0,null,null,null,0," "," "," "," "]
[{"$f":"IF(COUNTRY_INFO!A33=0,\" \",COUNTRY_INFO!A33)","v":"Burkina Faso"},{"$f":"IF(COUNTRY_INFO!B33=0,\" \",COUNTRY_INFO!B33)","v":"Centre-Nord"},{"$f":"IF(COUNTRY_INFO!C33=0,\" \",COUNTRY_INFO!C33)","v":"Kaya"},{"$f":"IF(COUNTRY_INFO!$T$9:$T$1000=\"MDA2 (DEC+ALB)\", COUNTRY_INFO!$T$9:$T$1000, \" \")","v":" "},null,null,null,null,0,null,null,null,0," "," "," "," "]
[{"$f":"IF(COUNTRY_INFO!A34=0,\" \",COUNTRY_INFO!A34)","v":"Burkina Faso"},{"$f":"IF(COUNTRY_INFO!B34=0,\" \",COUNTRY_INFO!B34)","v":"Centre-Nord"},{"$f":"IF(COUNTRY_INFO!C34=0,\" \",COUNTRY_INFO!C34)","v":"Kongoussi"},{"$f":"IF(COUNTRY_INFO!$T$9:$T$1000=\"MDA2 (DEC+ALB)\", COUNTRY_INFO!$T$9:$T$1000, \" \")","v":" "},null,null,null,null,0,null,null,null,0," "," "," "," "]
[{"$f":"IF(COUNTRY_INFO!A35=0,\" \",COUNTRY_INFO!A35)","v":"Burkina Faso"},{"$f":"IF(COUNTRY_INFO!B35=0,\" \",COUNTRY_INFO!B35)","v":"Centre-Nord"},{"$f":"IF(COUNTRY_INFO!C35=0,\" \",COUNTRY_INFO!C35)","v":"Tougouri"},{"$f":"IF(COUNTRY_INFO!$T$9:$T$1000=\"MDA2 (DEC+ALB)\", COUNTRY_INFO!$T$9:$T$1000, \" \")","v":" "},null,null,null,null,0,null,null,null,0," "," "," "," "]
[{"$f":"IF(COUNTRY_INFO!A36=0,\" \",COUNTRY_INFO!A36)","v":"Burkina Faso"},{"$f":"IF(COUNTRY_INFO!B36=0,\" \",COUNTRY_INFO!B36)","v":"Centre-Ouest"},{"$f":"IF(COUNTRY_INFO!C36=0,\" \",COUNTRY_INFO!C36)","v":"Koudougou"},{"$f":"IF(COUNTRY_INFO!$T$9:$T$1000=\"MDA2 (DEC+ALB)\", COUNTRY_INFO!$T$9:$T$1000, \" \")","v":" "},null,null,null,null,0,null,null,null,0," "," "," "," "]
[{"$f":"IF(COUNTRY_INFO!A37=0,\" \",COUNTRY_INFO!A37)","v":"Burkina Faso"},{"$f":"IF(COUNTRY_INFO!B37=0,\" \",COUNTRY_INFO!B37)","v":"Centre-Ouest"},{"$f":"IF(COUNTRY_INFO!C37=0,\" \",COUNTRY_INFO!C37)","v":"Léo"},{"$f":"IF(COUNTRY_INFO!$T$9:$T$1000=\"MDA2 (DEC+ALB)\", COUNTRY_INFO!$T$9:$T$1000, \" \")","v":" "},null,null,null,null,0,null,null,null,0," "," "," "," "]
[{"$f":"IF(COUNTRY_INFO!A38=0,\" \",COUNTRY_INFO!A38)","v":"Burkina Faso"},{"$f":"IF(COUNTRY_INFO!B38=0,\" \",COUNTRY_INFO!B38)","v":"Centre-Ouest"},{"$f":"IF(COUNTRY_INFO!C38=0,\" \",COUNTRY_INFO!C38)","v":"Nanoro"},{"$f":"IF(COUNTRY_INFO!$T$9:$T$1000=\"MDA2 (DEC+ALB)\", COUNTRY_INFO!$T$9:$T$1000, \" \")","v":" "},null,null,null,null,0,null,null,null,0," "," "," "," "]
[{"$f":"IF(COUNTRY_INFO!A39=0,\" \",COUNTRY_INFO!A39)","v":"Burkina Faso"},{"$f":"IF(COUNTRY_INFO!B39=0,\" \",COUNTRY_INFO!B39)","v":"Centre-Ouest"},{"$f":"IF(COUNTRY_INFO!C39=0,\" \",COUNTRY_INFO!C39)","v":"Réo"},{"$f":"IF(COUNTRY_INFO!$T$9:$T$1000=\"MDA2 (DEC+ALB)\", COUNTRY_INFO!$T$9:$T$1000, \" \")","v":" "},null,null,null,null,0,null,null,null,0," "," "," "," "]
[{"$f":"IF(COUNTRY_INFO!A40=0,\" \",COUNTRY_INFO!A40)","v":"Burkina Faso"},{"$f":"IF(COUNTRY_INFO!B40=0,\" \",COUNTRY_INFO!B40)","v":"Centre-Ouest"},{"$f":"IF(COUNTRY_INFO!C40=0,\" \",COUNTRY_INFO!C40)","v":"Sabou"},{"$f":"IF(COUNTRY_INFO!$T$9:$T$1000=\"MDA2 (DEC+ALB)\", COUNTRY_INFO!$T$9:$T$1000, \" \")","v":" "},null,null,null,null,0,null,null,null,0," "," "," "," "]
[{"$f":"IF(COUNTRY_INFO!A41=0,\" \",COUNTRY_INFO!A41)","v":"Burkina Faso"},{"$f":"IF(COUNTRY_INFO!B41=0,\" \",COUNTRY_INFO!B41)","v":"Centre-Ouest"},{"$f":"IF(COUNTRY_INFO!C41=0,\" \",COUNTRY_INFO!C41)","v":"Sapouy"},{"$f":"IF(COUNTRY_INFO!$T$9:$T$1000=\"MDA2 (DEC+ALB)\", COUNTRY_INFO!$T$9:$T$1000, \" \")","v":" "},null,null,null,null,0,null,null,null,0," "," "," "," "]
[{"$f":"IF(COUNTRY_INFO!A42=0,\" \",COUNTRY_INFO!A42)","v":"Burkina Faso"},{"$f":"IF(COUNTRY_INFO!B42=0,\" \",COUNTRY_INFO!B42)","v":"Centre-Ouest"},{"$f":"IF(COUNTRY_INFO!C42=0,\" \",COUNTRY_INFO!C42)","v":"Tenado"},{"$f":"IF(COUNTRY_INFO!$T$9:$T$1000=\"MDA2 (DEC+ALB)\", COUNTRY_INFO!$T$9:$T$1000, \" \")","v":" "},null,null,null,null,0,null,null,null,0," "," "," "," "]
[{"$f":"IF(COUNTRY_INFO!A43=0,\" \",COUNTRY_INFO!A43)","v":"Burkina Faso"},{"$f":"IF(COUNTRY_INFO!B43=0,\" \",COUNTRY_INFO!B43)","v":"Centre-Sud"},{"$f":"IF(COUNTRY_INFO!C43=0,\" \",COUNTRY_INFO!C43)","v":"Kombissiri"},{"$f":"IF(COUNTRY_INFO!$T$9:$T$1000=\"MDA2 (DEC+ALB)\", COUNTRY_INFO!$T$9:$T$1000, \" \")","v":" "},null,null,null,null,0,null,null,null,0," "," "," "," "]
[{"$f":"IF(COUNTRY_INFO!A44=0,\" \",COUNTRY_INFO!A44)","v":"Burkina Faso"},{"$f":"IF(COUNTRY_INFO!B44=0,\" \",COUNTRY_INFO!B44)","v":"Centre-Sud"},{"$f":"IF(COUNTRY_INFO!C44=0,\" \",COUNTRY_INFO!C44)","v":"Manga"},{"$f":"IF(COUNTRY_INFO!$T$9:$T$1000=\"MDA2 (DEC+ALB)\", COUNTRY_INFO!$T$9:$T$1000, \" \")","v":" "},null,null,null,null,0,null,null,null,0," "," "," "," "]
[{"$f":"IF(COUNTRY_INFO!A45=0,\" \",COUNTRY_INFO!A45)","v":"Burkina Faso"},{"$f":"IF(COUNTRY_INFO!B45=0,\" \",COUNTRY_INFO!B45)","v":"Centre-Sud"},{"$f":"IF(COUNTRY_INFO!C45=0,\" \",COUNTRY_INFO!C45)","v":"Pô"},{"$f":"IF(COUNTRY_INFO!$T$9:$T$1000=\"MDA2 (DEC+ALB)\", COUNTRY_INFO!$T$9:$T$1000, \" \")","v":" "},null,null,null,null,0,null,null,null,0," "," "," "," "]
[{"$f":"IF(COUNTRY_INFO!A46=0,\" \",COUNTRY_INFO!A46)","v":"Burkina Faso"},{"$f":"IF(COUNTRY_INFO!B46=0,\" \",COUNTRY_INFO!B46)","v":"Centre-Sud"},{"$f":"IF(COUNTRY_INFO!C46=0,\" \",COUNTRY_INFO!C46)","v":"Saponé"},{"$f":"IF(COUNTRY_INFO!$T$9:$T$1000=\"MDA2 (DEC+ALB)\", COUNTRY_INFO!$T$9:$T$1000, \" \")","v":" "},null,null,null,null,0,null,null,null,0," "," "," "," "]
[{"$f":"IF(COUNTRY_INFO!A47=0,\" \",COUNTRY_INFO!A47)","v":"Burkina Faso"},{"$f":"IF(COUNTRY_INFO!B47=0,\" \",COUNTRY_INFO!B47)","v":"Est"},{"$f":"IF(COUNTRY_INFO!C47=0,\" \",COUNTRY_INFO!C47)","v":"Bogandé"},{"$f":"IF(COUNTRY_INFO!$T$9:$T$1000=\"MDA2 (DEC+ALB)\", COUNTRY_INFO!$T$9:$T$1000, \" \")","v":" "},null,null,null,null,0,null,null,null,0," "," "," "," "]
[{"$f":"IF(COUNTRY_INFO!A48=0,\" \",COUNTRY_INFO!A48)","v":"Burkina Faso"},{"$f":"IF(COUNTRY_INFO!B48=0,\" \",COUNTRY_INFO!B48)","v":"Est"},{"$f":"IF(COUNTRY_INFO!C48=0,\" \",COUNTRY_INFO!C48)","v":"Diapaga"},{"$f":"IF(COUNTRY_INFO!$T$9:$T$1000=\"MDA2 (DEC+ALB)\", COUNTRY_INFO!$T$9:$T$1000, \" \")","v":" "},null,null,null,null,0,null,null,null,0," "," "," "," "]
[{"$f":"IF(COUNTRY_INFO!A49=0,\" \",COUNTRY_INFO!A49)","v":"Burkina Faso"},{"$f":"IF(COUNTRY_INFO!B49=0,\" \",COUNTRY_INFO!B49)","v":"Est"},{"$f":"IF(COUNTRY_INFO!C49=0,\" \",COUNTRY_INFO!C49)","v":"Fada N'gourma"},{"$f":"IF(COUNTRY_INFO!$T$9:$T$1000=\"MDA2 (DEC+ALB)\", COUNTRY_INFO!$T$9:$T$1000, \" \")","v":" "},null,null,null,null,0,null,null,null,0," "," "," "," "]
[{"$f":"IF(COUNTRY_INFO!A50=0,\" \",COUNTRY_INFO!A50)","v":"Burkina Faso"},{"$f":"IF(COUNTRY_INFO!B50=0,\" \",COUNTRY_INFO!B50)","v":"Est"},{"$f":"IF(COUNTRY_INFO!C50=0,\" \",COUNTRY_INFO!C50)","v":"Gayeri"},{"$f":"IF(COUNTRY_INFO!$T$9:$T$1000=\"MDA2 (DEC+ALB)\", COUNTRY_INFO!$T$9:$T$1000, \" \")","v":" "},null,null,null,null,0,null,null,null,0," "," "," "," "]
[{"$f":"IF(COUNTRY_INFO!A51=0,\" \",COUNTRY_INFO!A51)","v":"Burkina Faso"},{"$f":"IF(COUNTRY_INFO!B51=0,\" \",COUNTRY_INFO!B51)","v":"Est"},{"$f":"IF(COUNTRY_INFO!C51=0,\" \",COUNTRY_INFO!C51)","v":"Manni"},{"$f":"IF(COUNTRY_INFO!$T$9:$T$1000=\"MDA2 (DEC+ALB)\", COUNTRY_INFO!$T$9:$T$1000, \" \")","v":" "},null,null,null,null,0,null,null,null,0," "," "," "," "]
[{"$f":"IF(COUNTRY_INFO!A52=0,\" \",COUNTRY_INFO!A52)","v":"Burkina Faso"},{"$f":"IF(COUNTRY_INFO!B52=0,\" \",COUNTRY_INFO!B52)","v":"Est"},{"$f":"IF(COUNTRY_INFO!C52=0,\" \",COUNTRY_INFO!C52)","v":"Pama"},{"$f":"IF(COUNTRY_INFO!$T$9:$T$1000=\"MDA2 (DEC+ALB)\", COUNTRY_INFO!$T$9:$T$1000, \" \")","v":" "},null,null,null,null,0,null,null,null,0," "," "," "," "]
[{"$f":"IF(COUNTRY_INFO!A53=0,\" \",COUNTRY_INFO!A53)","v":"Burkina Faso"},{"$f":"IF(COUNTRY_INFO!B53=0,\" \",COUNTRY_INFO!B53)","v":"Hauts-Bassins"},{"$f":"IF(COUNTRY_INFO!C53=0,\" \",COUNTRY_INFO!C53)","v":"Dafra"},{"$f":"IF(COUNTRY_INFO!$T$9:$T$1000=\"MDA2 (DEC+ALB)\", COUNTRY_INFO!$T$9:$T$1000, \" \")","v":" "},null,null,null,null,0,null,null,null,0," "," "," "," "]
[{"$f":"IF(COUNTRY_INFO!A54=0,\" \",COUNTRY_INFO!A54)","v":"Burkina Faso"},{"$f":"IF(COUNTRY_INFO!B54=0,\" \",COUNTRY_INFO!B54)","v":"Hauts-Bassins"},{"$f":"IF(COUNTRY_INFO!C54=0,\" \",COUNTRY_INFO!C54)","v":"Dandé"},{"$f":"IF(COUNTRY_INFO!$T$9:$T$1000=\"MDA2 (DEC+ALB)\", COUNTRY_INFO!$T$9:$T$1000, \" \")","v":" "},null,null,null,null,0,null,null,null,0," "," "," "," "]
[{"$f":"IF(COUNTRY_INFO!A55=0,\" \",COUNTRY_INFO!A55)","v":"Burkina Faso"},{"$f":"IF(COUNTRY_INFO!B55=0,\" \",COUNTRY_INFO!B55)","v":"Hauts-Bassins"},{"$f":"IF(COUNTRY_INFO!C55=0,\" \",COUNTRY_INFO!C55)","v":"Dô"},{"$f":"IF(COUNTRY_INFO!$T$9:$T$1000=\"MDA2 (DEC+ALB)\", COUNTRY_INFO!$T$9:$T$1000, \" \")","v":" "},null,null,null,null,0,null,null,null,0," "," "," "," "]
[{"$f":"IF(COUNTRY_INFO!A56=0,\" \",COUNTRY_INFO!A56)","v":"Burkina Faso"},{"$f":"IF(COUNTRY_INFO!B56=0,\" \",COUNTRY_INFO!B56)","v":"Hauts-Bassins"},{"$f":"IF(COUNTRY_INFO!C56=0,\" \",COUNTRY_INFO!C56)","v":"Houndé"},{"$f":"IF(COUNTRY_INFO!$T$9:$T$1000=\"MDA2 (DEC+ALB)\", COUNTRY_INFO!$T$9:$T$1000, \" \")","v":" "},null,null,null,null,0,null,null,null,0," "," "," "," "]
[{"$f":"IF(COUNTRY_INFO!A57=0,\" \",COUNTRY_INFO!A57)","v":"Burkina Faso"},{"$f":"IF(COUNTRY_INFO!B57=0,\" \",COUNTRY_INFO!B57)","v":"Hauts-Bassins"},{"$f":"IF(COUNTRY_INFO!C57=0,\" \",COUNTRY_INFO!C57)","v":"Karangasso-Vigué"},{"$f":"IF(COUNTRY_INFO!$T$9:$T$1000=\"MDA2 (DEC+ALB)\", COUNTRY_INFO!$T$9:$T$1000, \" \")","v":" "},null,null,null,null,0,null,null,null,0," "," "," "," "]
[{"$f":"IF(COUNTRY_INFO!A58=0,\" \",COUNTRY_INFO!A58)","v":"Burkina Faso"},{"$f":"IF(COUNTRY_INFO!B58=0,\" \",COUNTRY_INFO!B58)","v":"Hauts-Bassins"},{"$f":"IF(COUNTRY_INFO!C58=0,\" \",COUNTRY_INFO!C58)","v":"Lena"},{"$f":"IF(COUNTRY_INFO!$T$9:$T$1000=\"MDA2 (DEC+ALB)\", COUNTRY_INFO!$T$9:$T$1000, \" \")","v":" "},null,null,null,null,0,null,null,null,0," "," "," "," "]
[{"$f":"IF(COUNTRY_INFO!A59=0,\" \",COUNTRY_INFO!A59)","v":"Burkina Faso"},{"$f":"IF(COUNTRY_INFO!B59=0,\" \",COUNTRY_INFO!B59)","v":"Hauts-Bassins"},{"$f":"IF(COUNTRY_INFO!C59=0,\" \",COUNTRY_INFO!C59)","v":"N'Dorola"},{"$f":"IF(COUNTRY_INFO!$T$9:$T$1000=\"MDA2 (DEC+ALB)\", COUNTRY_INFO!$T$9:$T$1000, \" \")","v":" "},null,null,null,null,0,null,null,null,0," "," "," "," "]
[{"$f":"IF(COUNTRY_INFO!A60=0,\" \",COUNTRY_INFO!A60)","v":"Burkina Faso"},{"$f":"IF(COUNTRY_INFO!B60=0,\" \",COUNTRY_INFO!B60)","v":"Hauts-Bassins"},{"$f":"IF(COUNTRY_INFO!C60=0,\" \",COUNTRY_INFO!C60)","v":"Orodara"},{"$f":"IF(COUNTRY_INFO!$T$9:$T$1000=\"MDA2 (DEC+ALB)\", COUNTRY_INFO!$T$9:$T$1000, \" \")","v":" "},null,null,null,null,0,null,null,null,0," "," "," "," "]
[{"$f":"IF(COUNTRY_INFO!A61=0,\" \",COUNTRY_INFO!A61)","v":"Burkina Faso"},{"$f":"IF(COUNTRY_INFO!B61=0,\" \",COUNTRY_INFO!B61)","v":"Nord"},{"$f":"IF(COUNTRY_INFO!C61=0,\" \",COUNTRY_INFO!C61)","v":"Gourcy"},{"$f":"IF(COUNTRY_INFO!$T$9:$T$1000=\"MDA2 (DEC+ALB)\", COUNTRY_INFO!$T$9:$T$1000, \" \")","v":" "},null,null,null,null,0,null,null,null,0," "," "," "," "]
[{"$f":"IF(COUNTRY_INFO!A62=0,\" \",COUNTRY_INFO!A62)","v":"Burkina Faso"},{"$f":"IF(COUNTRY_INFO!B62=0,\" \",COUNTRY_INFO!B62)","v":"Nord"},{"$f":"IF(COUNTRY_INFO!C62=0,\" \",COUNTRY_INFO!C62)","v":"Ouahigouya"},{"$f":"IF(COUNTRY_INFO!$T$9:$T$1000=\"MDA2 (DEC+ALB)\", COUNTRY_INFO!$T$9:$T$1000, \" \")","v":" "},null,null,null,null,0,null,null,null,0," "," "," "," "]
[{"$f":"IF(COUNTRY_INFO!A63=0,\" \",COUNTRY_INFO!A63)","v":"Burkina Faso"},{"$f":"IF(COUNTRY_INFO!B63=0,\" \",COUNTRY_INFO!B63)","v":"Nord"},{"$f":"IF(COUNTRY_INFO!C63=0,\" \",COUNTRY_INFO!C63)","v":"Seguenega"},{"$f":"IF(COUNTRY_INFO!$T$9:$T$1000=\"MDA2 (DEC+ALB)\", COUNTRY_INFO!$T$9:$T$1000, \" \")","v":" "},null,null,null,null,0,null,null,null,0," "," "," "," "]
[{"$f":"IF(COUNTRY_INFO!A64=0,\" \",COUNTRY_INFO!A64)","v":"Burkina Faso"},{"$f":"IF(COUNTRY_INFO!B64=0,\" \",COUNTRY_INFO!B64)","v":"Nord"},{"$f":"IF(COUNTRY_INFO!C64=0,\" \",COUNTRY_INFO!C64)","v":"Thiou"},{"$f":"IF(COUNTRY_INFO!$T$9:$T$1000=\"MDA2 (DEC+ALB)\", COUNTRY_INFO!$T$9:$T$1000, \" \")","v":" "},null,null,null,null,0,null,null,null,0," "," "," "," "]
[{"$f":"IF(COUNTRY_INFO!A65=0,\" \",COUNTRY_INFO!A65)","v":"Burkina Faso"},{"$f":"IF(COUNTRY_INFO!B65=0,\" \",COUNTRY_INFO!B65)","v":"Nord"},{"$f":"IF(COUNTRY_INFO!C65=0,\" \",COUNTRY_INFO!C65)","v":"Titao"},{"$f":"IF(COUNTRY_INFO!$T$9:$T$1000=\"MDA2 (DEC+ALB)\", COUNTRY_INFO!$T$9:$T$1000, \" \")","v":" "},null,null,null,null,0,null,null,null,0," "," "," "," "]
[{"$f":"IF(COUNTRY_INFO!A66=0,\" \",COUNTRY_INFO!A66)","v":"Burkina Faso"},{"$f":"IF(COUNTRY_INFO!B66=0,\" \",COUNTRY_INFO!B66)","v":"Nord"},{"$f":"IF(COUNTRY_INFO!C66=0,\" \",COUNTRY_INFO!C66)","v":"Yako"},{"$f":"IF(COUNTRY_INFO!$T$9:$T$1000=\"MDA2 (DEC+ALB)\", COUNTRY_INFO!$T$9:$T$1000, \" \")","v":" "},null,null,null,null,0,null,null,null,0," "," "," "," "]
[{"$f":"IF(COUNTRY_INFO!A67=0,\" \",COUNTRY_INFO!A67)","v":"Burkina Faso"},{"$f":"IF(COUNTRY_INFO!B67=0,\" \",COUNTRY_INFO!B67)","v":"Plateau Central"},{"$f":"IF(COUNTRY_INFO!C67=0,\" \",COUNTRY_INFO!C67)","v":"Boussé"},{"$f":"IF(COUNTRY_INFO!$T$9:$T$1000=\"MDA2 (DEC+ALB)\", COUNTRY_INFO!$T$9:$T$1000, \" \")","v":" "},null,null,null,null,0,null,null,null,0," "," "," "," "]
[{"$f":"IF(COUNTRY_INFO!A68=0,\" \",COUNTRY_INFO!A68)","v":"Burkina Faso"},{"$f":"IF(COUNTRY_INFO!B68=0,\" \",COUNTRY_INFO!B68)","v":"Plateau Central"},{"$f":"IF(COUNTRY_INFO!C68=0,\" \",COUNTRY_INFO!C68)","v":"Ziniaré"},{"$f":"IF(COUNTRY_INFO!$T$9:$T$1000=\"MDA2 (DEC+ALB)\", COUNTRY_INFO!$T$9:$T$1000, \" \")","v":" "},null,null,null,null,0,null,null,null,0," "," "," "," "]
[{"$f":"IF(COUNTRY_INFO!A69=0,\" \",COUNTRY_INFO!A69)","v":"Burkina Faso"},{"$f":"IF(COUNTRY_INFO!B69=0,\" \",COUNTRY_INFO!B69)","v":"Plateau Central"},{"$f":"IF(COUNTRY_INFO!C69=0,\" \",COUNTRY_INFO!C69)","v":"Zorgho"},{"$f":"IF(COUNTRY_INFO!$T$9:$T$1000=\"MDA2 (DEC+ALB)\", COUNTRY_INFO!$T$9:$T$1000, \" \")","v":" "},null,null,null,null,0,null,null,null,0," "," "," "," "]
[{"$f":"IF(COUNTRY_INFO!A70=0,\" \",COUNTRY_INFO!A70)","v":"Burkina Faso"},{"$f":"IF(COUNTRY_INFO!B70=0,\" \",COUNTRY_INFO!B70)","v":"Sahel"},{"$f":"IF(COUNTRY_INFO!C70=0,\" \",COUNTRY_INFO!C70)","v":"Djibo"},{"$f":"IF(COUNTRY_INFO!$T$9:$T$1000=\"MDA2 (DEC+ALB)\", COUNTRY_INFO!$T$9:$T$1000, \" \")","v":" "},null,null,null,null,0,null,null,null,0," "," "," "," "]
[{"$f":"IF(COUNTRY_INFO!A71=0,\" \",COUNTRY_INFO!A71)","v":"Burkina Faso"},{"$f":"IF(COUNTRY_INFO!B71=0,\" \",COUNTRY_INFO!B71)","v":"Sahel"},{"$f":"IF(COUNTRY_INFO!C71=0,\" \",COUNTRY_INFO!C71)","v":"Dori"},{"$f":"IF(COUNTRY_INFO!$T$9:$T$1000=\"MDA2 (DEC+ALB)\", COUNTRY_INFO!$T$9:$T$1000, \" \")","v":" "},null,null,null,null,0,null,null,null,0," "," "," "," "]
[{"$f":"IF(COUNTRY_INFO!A72=0,\" \",COUNTRY_INFO!A72)","v":"Burkina Faso"},{"$f":"IF(COUNTRY_INFO!B72=0,\" \",COUNTRY_INFO!B72)","v":"Sahel"},{"$f":"IF(COUNTRY_INFO!C72=0,\" \",COUNTRY_INFO!C72)","v":"Gorom-Gorom"},{"$f":"IF(COUNTRY_INFO!$T$9:$T$1000=\"MDA2 (DEC+ALB)\", COUNTRY_INFO!$T$9:$T$1000, \" \")","v":" "},null,null,null,null,0,null,null,null,0," "," "," "," "]
[{"$f":"IF(COUNTRY_INFO!A73=0,\" \",COUNTRY_INFO!A73)","v":"Burkina Faso"},{"$f":"IF(COUNTRY_INFO!B73=0,\" \",COUNTRY_INFO!B73)","v":"Sahel"},{"$f":"IF(COUNTRY_INFO!C73=0,\" \",COUNTRY_INFO!C73)","v":"Sebba"},{"$f":"IF(COUNTRY_INFO!$T$9:$T$1000=\"MDA2 (DEC+ALB)\", COUNTRY_INFO!$T$9:$T$1000, \" \")","v":" "},null,null,null,null,0,null,null,null,0," "," "," "," "]
[{"$f":"IF(COUNTRY_INFO!A74=0,\" \",COUNTRY_INFO!A74)","v":"Burkina Faso"},{"$f":"IF(COUNTRY_INFO!B74=0,\" \",COUNTRY_INFO!B74)","v":"Sud-Ouest"},{"$f":"IF(COUNTRY_INFO!C74=0,\" \",COUNTRY_INFO!C74)","v":"Batié"},{"$f":"IF(COUNTRY_INFO!$T$9:$T$1000=\"MDA2 (DEC+ALB)\", COUNTRY_INFO!$T$9:$T$1000, \" \")","v":" "},null,null,null,null,{"$f":"SUM(F74:H74)","v":0},null,null,null,{"$f":"SUM(J74:L74)","v":0},{"$f":"IF(F74<>0, IF(J74/F74*100=0, \"-\", J74/F74*100), \" \")","v":" "},{"$f":"IF(G74<>0, IF(K74/G74*100=0, \"-\", K74/G74*100), \" \")","v":" "},{"$f":"IF(H74<>0, IF(L74/H74*100=0, \"-\", L74/H74*100), \" \")","v":" "},{"$f":"IF(I74<>0, IF(M74/I74*100=0, \"-\", M74/I74*100), \" \")","v":" "}]
[{"$f":"IF(COUNTRY_INFO!A75=0,\" \",COUNTRY_INFO!A75)","v":"Burkina Faso"},{"$f":"IF(COUNTRY_INFO!B75=0,\" \",COUNTRY_INFO!B75)","v":"Sud-Ouest"},{"$f":"IF(COUNTRY_INFO!C75=0,\" \",COUNTRY_INFO!C75)","v":"Dano"},{"$f":"IF(COUNTRY_INFO!$T$9:$T$1000=\"MDA2 (DEC+ALB)\", COUNTRY_INFO!$T$9:$T$1000, \" \")","v":" "},null,null,null,null,0,null,null,null,0," "," "," "," "]
[{"$f":"IF(COUNTRY_INFO!A76=0,\" \",COUNTRY_INFO!A76)","v":"Burkina Faso"},{"$f":"IF(COUNTRY_INFO!B76=0,\" \",COUNTRY_INFO!B76)","v":"Sud-Ouest"},{"$f":"IF(COUNTRY_INFO!C76=0,\" \",COUNTRY_INFO!C76)","v":"Diébougou"},{"$f":"IF(COUNTRY_INFO!$T$9:$T$1000=\"MDA2 (DEC+ALB)\", COUNTRY_INFO!$T$9:$T$1000, \" \")","v":" "},null,null,null,null,0,null,null,null,0," "," "," "," "]
[{"$f":"IF(COUNTRY_INFO!A77=0,\" \",COUNTRY_INFO!A77)","v":"Burkina Faso"},{"$f":"IF(COUNTRY_INFO!B77=0,\" \",COUNTRY_INFO!B77)","v":"Sud-Ouest"},{"$f":"IF(COUNTRY_INFO!C77=0,\" \",COUNTRY_INFO!C77)","v":"Gaoua"},{"$f":"IF(COUNTRY_INFO!$T$9:$T$1000=\"MDA2 (DEC+ALB)\", COUNTRY_INFO!$T$9:$T$1000, \" \")","v":" "},null,null,null,null,0,null,null,null,0," "," "," "," "]
[{"$f":"IF(COUNTRY_INFO!A78=0,\" \",COUNTRY_INFO!A78)","v":"Burkina Faso"},{"$f":"IF(COUNTRY_INFO!B78=0,\" \",COUNTRY_INFO!B78)","v":"Sud-Ouest"},{"$f":"IF(COUNTRY_INFO!C78=0,\" \",COUNTRY_INFO!C78)","v":"Kampti"},{"$f":"IF(COUNTRY_INFO!$T$9:$T$1000=\"MDA2 (DEC+ALB)\", COUNTRY_INFO!$T$9:$T$1000, \" \")","v":" "},null,null,null,null,0,null,null,null,0," "," "," "," "]

{"sheet":"MDA3","index":4,"n_rows":78,"n_cols":20,"rows_kept":78,"cut":false,"hidden":false,"merged":[[5,5,5,7],[5,17,5,19],[3,0,3,2],[5,0,5,2],[5,3,6,3],[5,4,6,4],[5,8,5,10],[5,11,5,13],[5,14,5,16]]}
["MDA 3 - Ivermectine (IVM) "]
["Structure administrative, population nécessitant une chimioprévention par groupe d'âge, population traitée par groupe d'âge et couverture"]
[]
["TOTAL",null,null,null,null,{"$f":"SUM(F$9:F$1000)","v":75766},137151,212917,68557.225000000006,138414.77500000002,206972,21022,30822,51844,69774.224999999991,138414.77500000002,208189,{"$f":"IF(F4<>0, IF(O4/F4*100=0, \"-\", O4/F4*100), \" \")","v":92.091736398912431},{"$f":"IF(G4<>0, IF(P4/G4*100=0, \"-\", P4/G4*100), \" \")","v":100.92144789319804},{"$f":"IF(H4<>0, IF(Q4/H4*100=0, \"-\", Q4/H4*100), \" \")","v":97.779416392303105}]
[]
["Structure administrative du pays",null,null,"Mise en oeuvre \nde la CP","Date","Population ciblée pour MDA 3",null,null,"Population traitée - tournée 1",null,null,"Population traitée - tournée 2",null,null,"Population traitée",null,null,"Couverture du Programme (%)"]
["Pays","Région/Département","District",null,null,"EAS","Adultes","Total","EAS","Adultes","Total","EAS","Adultes","Total","EAS","Adultes","Total","EAS","Adultes","Total"]
[]
[{"$f":"IF(COUNTRY_INFO!A9=0,\" \",COUNTRY_INFO!A9)","v":"Burkina Faso"},{"$f":"IF(COUNTRY_INFO!B9=0,\" \",COUNTRY_INFO!B9)","v":"Boucle du Mouhoun"},{"$f":"IF(COUNTRY_INFO!C9=0,\" \",COUNTRY_INFO!C9)","v":"Boromo"},{"$f":"IF(COUNTRY_INFO!$T$9:$T$1000=\"MDA3 (IVM)\", COUNTRY_INFO!$T$9:$T$1000, \" \")","v":" "},null,null,null,{"$f":"SUM(F9:G9)","v":0},null,null,{"$f":"SUM(I9:J9)","v":0},null,null,{"$f":"SUM(L9:M9)","v":0},{"$f":"MAX(I9,L9)","v":0},0,{"$f":"SUM(O9:P9)","v":0},{"$f":"IF(F9<>0, IF(MAX(I9,L9)/F9*100=0, \"-\", MAX(I9,L9)/F9*100), \" \")","v":" "}," ",{"$f":"IF(H9<>0, IF((MAX(I9,L9)+MAX(J9,M9))/H9*100=0, \"-\",(MAX(I9,L9)+MAX(J9,M9))/H9*100), \" \")","v":" "}]
[{"$f":"IF(COUNTRY_INFO!A10=0,\" \",COUNTRY_INFO!A10)","v":"Burkina Faso"},{"$f":"IF(COUNTRY_INFO!B10=0,\" \",COUNTRY_INFO!B10)","v":"Boucle du Mouhoun"},{"$f":"IF(COUNTRY_INFO!C10=0,\" \",COUNTRY_INFO!C10)","v":"Dédougou"},{"$f":"IF(COUNTRY_INFO!$T$9:$T$1000=\"MDA3 (IVM)\", COUNTRY_INFO!$T$9:$T$1000, \" \")","v":" "},null,null,null,{"$f":"SUM(F10:G10)","v":0},null,null,{"$f":"SUM(I10:J10)","v":0},null,null,{"$f":"SUM(L10:M10)","v":0},{"$f":"MAX(I10,L10)","v":0},{"$f":"MAX(J10,M10)","v":0},{"$f":"SUM(O10:P10)","v":0},{"$f":"IF(F10<>0, IF(MAX(I10,L10)/F10*100=0, \"-\", MAX(I10,L10)/F10*100), \" \")","v":" "},{"$f":"IF(G10<>0, IF(MAX(J10,M10)/G10*100=0, \"-\", MAX(J10,M10)/G10*100), \" \")","v":" "},{"$f":"IF(H10<>0, IF((MAX(I10,L10)+MAX(J10,M10))/H10*100=0, \"-\",(MAX(I10,L10)+MAX(J10,M10))/H10*100), \" \")","v":" "}]
[{"$f":"IF(COUNTRY_INFO!A11=0,\" \",COUNTRY_INFO!A11)","v":"Burkina Faso"},{"$f":"IF(COUNTRY_INFO!B11=0,\" \",COUNTRY_INFO!B11)","v":"Boucle du Mouhoun"},{"$f":"IF(COUNTRY_INFO!C11=0,\" \",COUNTRY_INFO!C11)","v":"Nouna"},{"$f":"IF(COUNTRY_INFO!$T$9:$T$1000=\"MDA3 (IVM)\", COUNTRY_INFO!$T$9:$T$1000, \" \")","v":" "},null,null,null,0,null,null,0,null,null,0,0,0,0," "," "," "]
[{"$f":"IF(COUNTRY_INFO!A12=0,\" \",COUNTRY_INFO!A12)","v":"Burkina Faso"},{"$f":"IF(COUNTRY_INFO!B12=0,\" \",COUNTRY_INFO!B12)","v":"Boucle du Mouhoun"},{"$f":"IF(COUNTRY_INFO!C12=0,\" \",COUNTRY_INFO!C12)","v":"Solenzo"},{"$f":"IF(COUNTRY_INFO!$T$9:$T$1000=\"MDA3 (IVM)\", COUNTRY_INFO!$T$9:$T$1000, \" \")","v":" "},null,null,null,0,null,null,0,null,null,0,0,0,0," "," "," "]
[{"$f":"IF(COUNTRY_INFO!A13=0,\" \",COUNTRY_INFO!A13)","v":"Burkina Faso"},{"$f":"IF(COUNTRY_INFO!B13=0,\" \",COUNTRY_INFO!B13)","v":"Boucle du Mouhoun"},{"$f":"IF(COUNTRY_INFO!C13=0,\" \",COUNTRY_INFO!C13)","v":"Toma"},{"$f":"IF(COUNTRY_INFO!$T$9:$T$1000=\"MDA3 (IVM)\", COUNTRY_INFO!$T$9:$T$1000, \" \")","v":" "},null,null,null,0,null,null,0,null,null,0,0,0,0," "," "," "]
[{"$f":"IF(COUNTRY_INFO!A14=0,\" \",COUNTRY_INFO!A14)","v":"Burkina Faso"},{"$f":"IF(COUNTRY_INFO!B14=0,\" \",COUNTRY_INFO!B14)","v":"Boucle du Mouhoun"},{"$f":"IF(COUNTRY_INFO!C14=0,\" \",COUNTRY_INFO!C14)","v":"Tougan"},{"$f":"IF(COUNTRY_INFO!$T$9:$T$1000=\"MDA3 (IVM)\", COUNTRY_INFO!$T$9:$T$1000, \" \")","v":" "},null,null,null,0,null,null,0,null,null,0,0,0,0," "," "," "]
[{"$f":"IF(COUNTRY_INFO!A15=0,\" \",COUNTRY_INFO!A15)","v":"Burkina Faso"},{"$f":"IF(COUNTRY_INFO!B15=0,\" \",COUNTRY_INFO!B15)","v":"Cascades"},{"$f":"IF(COUNTRY_INFO!C15=0,\" \",COUNTRY_INFO!C15)","v":"Banfora"},{"$f":"IF(COUNTRY_INFO!$T$9:$T$1000=\"MDA3 (IVM)\", COUNTRY_INFO!$T$9:$T$1000, \" \")","v":"MDA3 (IVM)"},"Juillet et Dec",16597,30044,46641,16852,27376,44228,17818,26664,44482,17818,27376,45194,107.35675122010002,91.119691119691112,96.897579382946333]
[{"$f":"IF(COUNTRY_INFO!A16=0,\" \",COUNTRY_INFO!A16)","v":"Burkina Faso"},{"$f":"IF(COUNTRY_INFO!B16=0,\" \",COUNTRY_INFO!B16)","v":"Cascades"},{"$f":"IF(COUNTRY_INFO!C16=0,\" \",COUNTRY_INFO!C16)","v":"Mangodara"},{"$f":"IF(COUNTRY_INFO!$T$9:$T$1000=\"MDA3 (IVM)\", COUNTRY_INFO!$T$9:$T$1000, \" \")","v":"MDA3 (IVM)"},"Juillet et Dec",2676,4844,7520,2953,4201,7154,3204,4158,7362,3204,4201,7405,119.73094170403587,86.725846407927335,98.47074468085107]
[{"$f":"IF(COUNTRY_INFO!A17=0,\" \",COUNTRY_INFO!A17)","v":"Burkina Faso"},{"$f":"IF(COUNTRY_INFO!B17=0,\" \",COUNTRY_INFO!B17)","v":"Cascades"},{"$f":"IF(COUNTRY_INFO!C17=0,\" \",COUNTRY_INFO!C17)","v":"Sindou"},{"$f":"IF(COUNTRY_INFO!$T$9:$T$1000=\"MDA3 (IVM)\", COUNTRY_INFO!$T$9:$T$1000, \" \")","v":" "},null,null,null,0,null,null,0,null,null,0,0,0,0," "," "," "]
[{"$f":"IF(COUNTRY_INFO!A18=0,\" \",COUNTRY_INFO!A18)","v":"Burkina Faso"},{"$f":"IF(COUNTRY_INFO!B18=0,\" \",COUNTRY_INFO!B18)","v":"Centre"},{"$f":"IF(COUNTRY_INFO!C18=0,\" \",COUNTRY_INFO!C18)","v":"Baskuy"},{"$f":"IF(COUNTRY_INFO!$T$9:$T$1000=\"MDA3 (IVM)\", COUNTRY_INFO!$T$9:$T$1000, \" \")","v":" "},null,null,null,0,null,null,0,null,null,0,0,0,0," "," "," "]
[{"$f":"IF(COUNTRY_INFO!A19=0,\" \",COUNTRY_INFO!A19)","v":"Burkina Faso"},{"$f":"IF(COUNTRY_INFO!B19=0,\" \",COUNTRY_INFO!B19)","v":"Centre"},{"$f":"IF(COUNTRY_INFO!C19=0,\" \",COUNTRY_INFO!C19)","v":"Bogodogo"},{"$f":"IF(COUNTRY_INFO!$T$9:$T$1000=\"MDA3 (IVM)\", COUNTRY_INFO!$T$9:$T$1000, \" \")","v":" "},null,null,null,0,null,null,0,null,null,0,0,0,0," "," "," "]
[{"$f":"IF(COUNTRY_INFO!A20=0,\" \",COUNTRY_INFO!A20)","v":"Burkina Faso"},{"$f":"IF(COUNTRY_INFO!B20=0,\" \",COUNTRY_INFO!B20)","v":"Centre"},{"$f":"IF(COUNTRY_INFO!C20=0,\" \",COUNTRY_INFO!C20)","v":"Boulmiougou"},{"$f":"IF(COUNTRY_INFO!$T$9:$T$1000=\"MDA3 (IVM)\", COUNTRY_INFO!$T$9:$T$1000, \" \")","v":" "},null,null,null,0,null,null,0,null,null,0,0,0,0," "," "," "]
[{"$f":"IF(COUNTRY_INFO!A21=0,\" \",COUNTRY_INFO!A21)","v":"Burkina Faso"},{"$f":"IF(COUNTRY_INFO!B21=0,\" \",COUNTRY_INFO!B21)","v":"Centre"},{"$f":"IF(COUNTRY_INFO!C21=0,\" \",COUNTRY_INFO!C21)","v":"Nongre-Massom"},{"$f":"IF(COUNTRY_INFO!$T$9:$T$1000=\"MDA3 (IVM)\", COUNTRY_INFO!$T$9:$T$1000, \" \")","v":" "},null,null,null,0,null,null,0,null,null,0,0,0,0," "," "," "]
[{"$f":"IF(COUNTRY_INFO!A22=0,\" \",COUNTRY_INFO!A22)","v":"Burkina Faso"},{"$f":"IF(COUNTRY_INFO!B22=0,\" \",COUNTRY_INFO!B22)","v":"Centre"},{"$f":"IF(COUNTRY_INFO!C22=0,\" \",COUNTRY_INFO!C22)","v":"Sig-Nonghin"},{"$f":"IF(COUNTRY_INFO!$T$9:$T$1000=\"MDA3 (IVM)\", COUNTRY_INFO!$T$9:$T$1000, \" \")","v":" "},null,null,null,0,null,null,0,null,null,0,0,0,0," "," "," "]
[{"$f":"IF(COUNTRY_INFO!A23=0,\" \",COUNTRY_INFO!A23)","v":"Burkina Faso"},{"$f":"IF(COUNTRY_INFO!B23=0,\" \",COUNTRY_INFO!B23)","v":"Centre-Est"},{"$f":"IF(COUNTRY_INFO!C23=0,\" \",COUNTRY_INFO!C23)","v":"Bittou"},{"$f":"IF(COUNTRY_INFO!$T$9:$T$1000=\"MDA3 (IVM)\", COUNTRY_INFO!$T$9:$T$1000, \" \")","v":" "},null,null,null,0,null,null,0,null,null,0,0,0,0," "," "," "]
[{"$f":"IF(COUNTRY_INFO!A24=0,\" \",COUNTRY_INFO!A24)","v":"Burkina Faso"},{"$f":"IF(COUNTRY_INFO!B24=0,\" \",COUNTRY_INFO!B24)","v":"Centre-Est"},{"$f":"IF(COUNTRY_INFO!C24=0,\" \",COUNTRY_INFO!C24)","v":"Garango"},{"$f":"IF(COUNTRY_INFO!$T$9:$T$1000=\"MDA3 (IVM)\", COUNTRY_INFO!$T$9:$T$1000, \" \")","v":" "},null,null,null,0,null,null,0,null,null,0,0,0,0," "," "," "]
[{"$f":"IF(COUNTRY_INFO!A25=0,\" \",COUNTRY_INFO!A25)","v":"Burkina Faso"},{"$f":"IF(COUNTRY_INFO!B25=0,\" \",COUNTRY_INFO!B25)","v":"Centre-Est"},{"$f":"IF(COUNTRY_INFO!C25=0,\" \",COUNTRY_INFO!C25)","v":"Koupela"},{"$f":"IF(COUNTRY_INFO!$T$9:$T$1000=\"MDA3 (IVM)\", COUNTRY_INFO!$T$9:$T$1000, \" \")","v":" "},null,null,null,0,null,null,0,null,null,0,0,0,0," "," "," "]
[{"$f":"IF(COUNTRY_INFO!A26=0,\" \",COUNTRY_INFO!A26)","v":"Burkina Faso"},{"$f":"IF(COUNTRY_INFO!B26=0,\" \",COUNTRY_INFO!B26)","v":"Centre-Est"},{"$f":"IF(COUNTRY_INFO!C26=0,\" \",COUNTRY_INFO!C26)","v":"Ouargaye"},{"$f":"IF(COUNTRY_INFO!$T$9:$T$1000=\"MDA3 (IVM)\", COUNTRY_INFO!$T$9:$T$1000, \" \")","v":" "},null,null,null,0,null,null,0,null,null,0,0,0,0," "," "," "]
[{"$f":"IF(COUNTRY_INFO!A27=0,\" \",COUNTRY_INFO!A27)","v":"Burkina Faso"},{"$f":"IF(COUNTRY_INFO!B27=0,\" \",COUNTRY_INFO!B27)","v":"Centre-Est"},{"$f":"IF(COUNTRY_INFO!C27=0,\" \",COUNTRY_INFO!C27)","v":"Pouytenga"},{"$f":"IF(COUNTRY_INFO!$T$9:$T$1000=\"MDA3 (IVM)\", COUNTRY_INFO!$T$9:$T$1000, \" \")","v":" "},null,null,null,0,null,null,0,null,null,0,0,0,0," "," "," "]
[{"$f":"IF(COUNTRY_INFO!A28=0,\" \",COUNTRY_INFO!A28)","v":"Burkina Faso"},{"$f":"IF(COUNTRY_INFO!B28=0,\" \",COUNTRY_INFO!B28)","v":"Centre-Est"},{"$f":"IF(COUNTRY_INFO!C28=0,\" \",COUNTRY_INFO!C28)","v":"Tenkodogo"},{"$f":"IF(COUNTRY_INFO!$T$9:$T$1000=\"MDA3 (IVM)\", COUNTRY_INFO!$T$9:$T$1000, \" \")","v":" "},null,null,null,0,null,null,0,null,null,0,0,0,0," "," "," "]
[{"$f":"IF(COUNTRY_INFO!A29=0,\" \",COUNTRY_INFO!A29)","v":"Burkina Faso"},{"$f":"IF(COUNTRY_INFO!B29=0,\" \",COUNTRY_INFO!B29)","v":"Centre-Est"},{"$f":"IF(COUNTRY_INFO!C29=0,\" \",COUNTRY_INFO!C29)","v":"Zabré"},{"$f":"IF(COUNTRY_INFO!$T$9:$T$1000=\"MDA3 (IVM)\", COUNTRY_INFO!$T$9:$T$1000, \" \")","v":" "},null,null,null,0,null,null,0,null,null,0,0,0,0," "," "," "]
[{"$f":"IF(COUNTRY_INFO!A30=0,\" \",COUNTRY_INFO!A30)","v":"Burkina Faso"},{"$f":"IF(COUNTRY_INFO!B30=0,\" \",COUNTRY_INFO!B30)","v":"Centre-Nord"},{"$f":"IF(COUNTRY_INFO!C30=0,\" \",COUNTRY_INFO!C30)","v":"Barsalogo"},{"$f":"IF(COUNTRY_INFO!$T$9:$T$1000=\"MDA3 (IVM)\", COUNTRY_INFO!$T$9:$T$1000, \" \")","v":" "},null,null,null,0,null,null,0,null,null,0,0,0,0," "," "," "]
[{"$f":"IF(COUNTRY_INFO!A31=0,\" \",COUNTRY_INFO!A31)","v":"Burkina Faso"},{"$f":"IF(COUNTRY_INFO!B31=0,\" \",COUNTRY_INFO!B31)","v":"Centre-Nord"},{"$f":"IF(COUNTRY_INFO!C31=0,\" \",COUNTRY_INFO!C31)","v":"Boulsa"},{"$f":"IF(COUNTRY_INFO!$T$9:$T$1000=\"MDA3 (IVM)\", COUNTRY_INFO!$T$9:$T$1000, \" \")","v":" "},null,null,null,0,null,null,0,null,null,0,0,0,0," "," "," "]
[{"$f":"IF(COUNTRY_INFO!A32=0,\" \",COUNTRY_INFO!A32)","v":"Burkina Faso"},{"$f":"IF(COUNTRY_INFO!B32=0,\" \",COUNTRY_INFO!B32)","v":"Centre-Nord"},{"$f":"IF(COUNTRY_INFO!C32=0,\" \",COUNTRY_INFO!C32)","v":"Boussouma"},{"$f":"IF(COUNTRY_INFO!$T$9:$T$1000=\"MDA3 (IVM)\", COUNTRY_INFO!$T$9:$T$1000, \" \")","v":" "},null,null,null,0,null,null,0,null,null,0,0,0,0," "," "," "]
[{"$f":"IF(COUNTRY_INFO!A33=0,\" \",COUNTRY_INFO!A33)","v":"Burkina Faso"},{"$f":"IF(COUNTRY_INFO!B33=0,\" \",COUNTRY_INFO!B33)","v":"Centre-Nord"},{"$f":"IF(COUNTRY_INFO!C33=0,\" \",COUNTRY_INFO!C33)","v":"Kaya"},{"$f":"IF(COUNTRY_INFO!$T$9:$T$1000=\"MDA3 (IVM)\", COUNTRY_INFO!$T$9:$T$1000, \" \")","v":" "},null,null,null,0,null,null,0,null,null,0,0,0,0," "," "," "]
[{"$f":"IF(COUNTRY_INFO!A34=0,\" \",COUNTRY_INFO!A34)","v":"Burkina Faso"},{"$f":"IF(COUNTRY_INFO!B34=0,\" \",COUNTRY_INFO!B34)","v":"Centre-Nord"},{"$f":"IF(COUNTRY_INFO!C34=0,\" \",COUNTRY_INFO!C34)","v":"Kongoussi"},{"$f":"IF(COUNTRY_INFO!$T$9:$T$1000=\"MDA3 (IVM)\", COUNTRY_INFO!$T$9:$T$1000, \" \")","v":" "},null,null,null,0,null,null,0,null,null,0,0,0,0," "," "," "]
[{"$f":"IF(COUNTRY_INFO!A35=0,\" \",COUNTRY_INFO!A35)","v":"Burkina Faso"},{"$f":"IF(COUNTRY_INFO!B35=0,\" \",COUNTRY_INFO!B35)","v":"Centre-Nord"},{"$f":"IF(COUNTRY_INFO!C35=0,\" \",COUNTRY_INFO!C35)","v":"Tougouri"},{"$f":"IF(COUNTRY_INFO!$T$9:$T$1000=\"MDA3 (IVM)\", COUNTRY_INFO!$T$9:$T$1000, \" \")","v":" "},null,null,null,0,null,null,0,null,null,0,0,0,0," "," "," "]
[{"$f":"IF(COUNTRY_INFO!A36=0,\" \",COUNTRY_INFO!A36)","v":"Burkina Faso"},{"$f":"IF(COUNTRY_INFO!B36=0,\" \",COUNTRY_INFO!B36)","v":"Centre-Ouest"},{"$f":"IF(COUNTRY_INFO!C36=0,\" \",COUNTRY_INFO!C36)","v":"Koudougou"},{"$f":"IF(COUNTRY_INFO!$T$9:$T$1000=\"MDA3 (IVM)\", COUNTRY_INFO!$T$9:$T$1000, \" \")","v":" "},null,null,null,0,null,null,0,null,null,0,0,0,0," "," "," "]
[{"$f":"IF(COUNTRY_INFO!A37=0,\" \",COUNTRY_INFO!A37)","v":"Burkina Faso"},{"$f":"IF(COUNTRY_INFO!B37=0,\" \",COUNTRY_INFO!B37)","v":"Centre-Ouest"},{"$f":"IF(COUNTRY_INFO!C37=0,\" \",COUNTRY_INFO!C37)","v":"Léo"},{"$f":"IF(COUNTRY_INFO!$T$9:$T$1000=\"MDA3 (IVM)\", COUNTRY_INFO!$T$9:$T$1000, \" \")","v":" "},null,null,null,0,null,null,0,null,null,0,0,0,0," "," "," "]
[{"$f":"IF(COUNTRY_INFO!A38=0,\" \",COUNTRY_INFO!A38)","v":"Burkina Faso"},{"$f":"IF(COUNTRY_INFO!B38=0,\" \",COUNTRY_INFO!B38)","v":"Centre-Ouest"},{"$f":"IF(COUNTRY_INFO!C38=0,\" \",COUNTRY_INFO!C38)","v":"Nanoro"},{"$f":"IF(COUNTRY_INFO!$T$9:$T$1000=\"MDA3 (IVM)\", COUNTRY_INFO!$T$9:$T$1000, \" \")","v":" "},null,null,null,0,null,null,0,null,null,0,0,0,0," "," "," "]
[{"$f":"IF(COUNTRY_INFO!A39=0,\" \",COUNTRY_INFO!A39)","v":"Burkina Faso"},{"$f":"IF(COUNTRY_INFO!B39=0,\" \",COUNTRY_INFO!B39)","v":"Centre-Ouest"},{"$f":"IF(COUNTRY_INFO!C39=0,\" \",COUNTRY_INFO!C39)","v":"Réo"},{"$f":"IF(COUNTRY_INFO!$T$9:$T$1000=\"MDA3 (IVM)\", COUNTRY_INFO!$T$9:$T$1000, \" \")","v":" "},null,null,null,0,null,null,0,null,null,0,0,0,0," "," "," "]
[{"$f":"IF(COUNTRY_INFO!A40=0,\" \",COUNTRY_INFO!A40)","v":"Burkina Faso"},{"$f":"IF(COUNTRY_INFO!B40=0,\" \",COUNTRY_INFO!B40)","v":"Centre-Ouest"},{"$f":"IF(COUNTRY_INFO!C40=0,\" \",COUNTRY_INFO!C40)","v":"Sabou"},{"$f":"IF(COUNTRY_INFO!$T$9:$T$1000=\"MDA3 (IVM)\", COUNTRY_INFO!$T$9:$T$1000, \" \")","v":" "},null,null,null,0,null,null,0,null,null,0,0,0,0," "," "," "]
[{"$f":"IF(COUNTRY_INFO!A41=0,\" \",COUNTRY_INFO!A41)","v":"Burkina Faso"},{"$f":"IF(COUNTRY_INFO!B41=0,\" \",COUNTRY_INFO!B41)","v":"Centre-Ouest"},{"$f":"IF(COUNTRY_INFO!C41=0,\" \",COUNTRY_INFO!C41)","v":"Sapouy"},{"$f":"IF(COUNTRY_INFO!$T$9:$T$1000=\"MDA3 (IVM)\", COUNTRY_INFO!$T$9:$T$1000, \" \")","v":" "},null,null,null,0,null,null,0,null,null,0,0,0,0," "," "," "]
[{"$f":"IF(COUNTRY_INFO!A42=0,\" \",COUNTRY_INFO!A42)","v":"Burkina Faso"},{"$f":"IF(COUNTRY_INFO!B42=0,\" \",COUNTRY_INFO!B42)","v":"Centre-Ouest"},{"$f":"IF(COUNTRY_INFO!C42=0,\" \",COUNTRY_INFO!C42)","v":"Tenado"},{"$f":"IF(COUNTRY_INFO!$T$9:$T$1000=\"MDA3 (IVM)\", COUNTRY_INFO!$T$9:$T$1000, \" \")","v":" "},null,null,null,0,null,null,0,null,null,0,0,0,0," "," "," "]
[{"$f":"IF(COUNTRY_INFO!A43=0,\" \",COUNTRY_INFO!A43)","v":"Burkina Faso"},{"$f":"IF(COUNTRY_INFO!B43=0,\" \",COUNTRY_INFO!B43)","v":"Centre-Sud"},{"$f":"IF(COUNTRY_INFO!C43=0,\" \",COUNTRY_INFO!C43)","v":"Kombissiri"},{"$f":"IF(COUNTRY_INFO!$T$9:$T$1000=\"MDA3 (IVM)\", COUNTRY_INFO!$T$9:$T$1000, \" \")","v":" "},null,null,null,0,null,null,0,null,null,0,0,0,0," "," "," "]
[{"$f":"IF(COUNTRY_INFO!A44=0,\" \",COUNTRY_INFO!A44)","v":"Burkina Faso"},{"$f":"IF(COUNTRY_INFO!B44=0,\" \",COUNTRY_INFO!B44)","v":"Centre-Sud"},{"$f":"IF(COUNTRY_INFO!C44=0,\" \",COUNTRY_INFO!C44)","v":"Manga"},{"$f":"IF(COUNTRY_INFO!$T$9:$T$1000=\"MDA3 (IVM)\", COUNTRY_INFO!$T$9:$T$1000, \" \")","v":" "},null,null,null,0,null,null,0,null,null,0,0,0,0," "," "," "]
[{"$f":"IF(COUNTRY_INFO!A45=0,\" \",COUNTRY_INFO!A45)","v":"Burkina Faso"},{"$f":"IF(COUNTRY_INFO!B45=0,\" \",COUNTRY_INFO!B45)","v":"Centre-Sud"},{"$f":"IF(COUNTRY_INFO!C45=0,\" \",COUNTRY_INFO!C45)","v":"Pô"},{"$f":"IF(COUNTRY_INFO!$T$9:$T$1000=\"MDA3 (IVM)\", COUNTRY_INFO!$T$9:$T$1000, \" \")","v":" "},null,null,null,0,null,null,0,null,null,0,0,0,0," "," "," "]
[{"$f":"IF(COUNTRY_INFO!A46=0,\" \",COUNTRY_INFO!A46)","v":"Burkina Faso"},{"$f":"IF(COUNTRY_INFO!B46=0,\" \",COUNTRY_INFO!B46)","v":"Centre-Sud"},{"$f":"IF(COUNTRY_INFO!C46=0,\" \",COUNTRY_INFO!C46)","v":"Saponé"},{"$f":"IF(COUNTRY_INFO!$T$9:$T$1000=\"MDA3 (IVM)\", COUNTRY_INFO!$T$9:$T$1000, \" \")","v":" "},null,null,null,0,null,null,0,null,null,0,0,0,0," "," "," "]
[{"$f":"IF(COUNTRY_INFO!A47=0,\" \",COUNTRY_INFO!A47)","v":"Burkina Faso"},{"$f":"IF(COUNTRY_INFO!B47=0,\" \",COUNTRY_INFO!B47)","v":"Est"},{"$f":"IF(COUNTRY_INFO!C47=0,\" \",COUNTRY_INFO!C47)","v":"Bogandé"},{"$f":"IF(COUNTRY_INFO!$T$9:$T$1000=\"MDA3 (IVM)\", COUNTRY_INFO!$T$9:$T$1000, \" \")","v":" "},null,null,null,0,null,null,0,null,null,0,0,0,0," "," "," "]
[{"$f":"IF(COUNTRY_INFO!A48=0,\" \",COUNTRY_INFO!A48)","v":"Burkina Faso"},{"$f":"IF(COUNTRY_INFO!B48=0,\" \",COUNTRY_INFO!B48)","v":"Est"},{"$f":"IF(COUNTRY_INFO!C48=0,\" \",COUNTRY_INFO!C48)","v":"Diapaga"},{"$f":"IF(COUNTRY_INFO!$T$9:$T$1000=\"MDA3 (IVM)\", COUNTRY_INFO!$T$9:$T$1000, \" \")","v":" "},null,null,null,0,null,null,0,null,null,0,0,0,0," "," "," "]
[{"$f":"IF(COUNTRY_INFO!A49=0,\" \",COUNTRY_INFO!A49)","v":"Burkina Faso"},{"$f":"IF(COUNTRY_INFO!B49=0,\" \",COUNTRY_INFO!B49)","v":"Est"},{"$f":"IF(COUNTRY_INFO!C49=0,\" \",COUNTRY_INFO!C49)","v":"Fada N'gourma"},{"$f":"IF(COUNTRY_INFO!$T$9:$T$1000=\"MDA3 (IVM)\", COUNTRY_INFO!$T$9:$T$1000, \" \")","v":" "},null,null,null,0,null,null,0,null,null,0,0,0,0," "," "," "]
[{"$f":"IF(COUNTRY_INFO!A50=0,\" \",COUNTRY_INFO!A50)","v":"Burkina Faso"},{"$f":"IF(COUNTRY_INFO!B50=0,\" \",COUNTRY_INFO!B50)","v":"Est"},{"$f":"IF(COUNTRY_INFO!C50=0,\" \",COUNTRY_INFO!C50)","v":"Gayeri"},{"$f":"IF(COUNTRY_INFO!$T$9:$T$1000=\"MDA3 (IVM)\", COUNTRY_INFO!$T$9:$T$1000, \" \")","v":" "},null,null,null,0,null,null,0,null,null,0,0,0,0," "," "," "]
[{"$f":"IF(COUNTRY_INFO!A51=0,\" \",COUNTRY_INFO!A51)","v":"Burkina Faso"},{"$f":"IF(COUNTRY_INFO!B51=0,\" \",COUNTRY_INFO!B51)","v":"Est"},{"$f":"IF(COUNTRY_INFO!C51=0,\" \",COUNTRY_INFO!C51)","v":"Manni"},{"$f":"IF(COUNTRY_INFO!$T$9:$T$1000=\"MDA3 (IVM)\", COUNTRY_INFO!$T$9:$T$1000, \" \")","v":" "},null,null,null,0,null,null,0,null,null,0,0,0,0," "," "," "]
[{"$f":"IF(COUNTRY_INFO!A52=0,\" \",COUNTRY_INFO!A52)","v":"Burkina Faso"},{"$f":"IF(COUNTRY_INFO!B52=0,\" \",COUNTRY_INFO!B52)","v":"Est"},{"$f":"IF(COUNTRY_INFO!C52=0,\" \",COUNTRY_INFO!C52)","v":"Pama"},{"$f":"IF(COUNTRY_INFO!$T$9:$T$1000=\"MDA3 (IVM)\", COUNTRY_INFO!$T$9:$T$1000, \" \")","v":" "},null,null,null,0,null,null,0,null,null,0,0,0,0," "," "," "]
[{"$f":"IF(COUNTRY_INFO!A53=0,\" \",COUNTRY_INFO!A53)","v":"Burkina Faso"},{"$f":"IF(COUNTRY_INFO!B53=0,\" \",COUNTRY_INFO!B53)","v":"Hauts-Bassins"},{"$f":"IF(COUNTRY_INFO!C53=0,\" \",COUNTRY_INFO!C53)","v":"Dafra"},{"$f":"IF(COUNTRY_INFO!$T$9:$T$1000=\"MDA3 (IVM)\", COUNTRY_INFO!$T$9:$T$1000, \" \")","v":" "},null,null,null,0,null,null,0,null,null,0,0,0,0," "," "," "]
[{"$f":"IF(COUNTRY_INFO!A54=0,\" \",COUNTRY_INFO!A54)","v":"Burkina Faso"},{"$f":"IF(COUNTRY_INFO!B54=0,\" \",COUNTRY_INFO!B54)","v":"Hauts-Bassins"},{"$f":"IF(COUNTRY_INFO!C54=0,\" \",COUNTRY_INFO!C54)","v":"Dandé"},{"$f":"IF(COUNTRY_INFO!$T$9:$T$1000=\"MDA3 (IVM)\", COUNTRY_INFO!$T$9:$T$1000, \" \")","v":" "},null,null,null,0,null,null,0,null,null,0,0,0,0," "," "," "]
[{"$f":"IF(COUNTRY_INFO!A55=0,\" \",COUNTRY_INFO!A55)","v":"Burkina Faso"},{"$f":"IF(COUNTRY_INFO!B55=0,\" \",COUNTRY_INFO!B55)","v":"Hauts-Bassins"},{"$f":"IF(COUNTRY_INFO!C55=0,\" \",COUNTRY_INFO!C55)","v":"Dô"},{"$f":"IF(COUNTRY_INFO!$T$9:$T$1000=\"MDA3 (IVM)\", COUNTRY_INFO!$T$9:$T$1000, \" \")","v":" "},null,null,null,0,null,null,0,null,null,0,0,0,0," "," "," "]
[{"$f":"IF(COUNTRY_INFO!A56=0,\" \",COUNTRY_INFO!A56)","v":"Burkina Faso"},{"$f":"IF(COUNTRY_INFO!B56=0,\" \",COUNTRY_INFO!B56)","v":"Hauts-Bassins"},{"$f":"IF(COUNTRY_INFO!C56=0,\" \",COUNTRY_INFO!C56)","v":"Houndé"},{"$f":"IF(COUNTRY_INFO!$T$9:$T$1000=\"MDA3 (IVM)\", COUNTRY_INFO!$T$9:$T$1000, \" \")","v":" "},null,null,null,0,null,null,0,null,null,0,0,0,0," "," "," "]
[{"$f":"IF(COUNTRY_INFO!A57=0,\" \",COUNTRY_INFO!A57)","v":"Burkina Faso"},{"$f":"IF(COUNTRY_INFO!B57=0,\" \",COUNTRY_INFO!B57)","v":"Hauts-Bassins"},{"$f":"IF(COUNTRY_INFO!C57=0,\" \",COUNTRY_INFO!C57)","v":"Karangasso-Vigué"},{"$f":"IF(COUNTRY_INFO!$T$9:$T$1000=\"MDA3 (IVM)\", COUNTRY_INFO!$T$9:$T$1000, \" \")","v":" "},null,null,null,0,null,null,0,null,null,0,0,0,0," "," "," "]
[{"$f":"IF(COUNTRY_INFO!A58=0,\" \",COUNTRY_INFO!A58)","v":"Burkina Faso"},{"$f":"IF(COUNTRY_INFO!B58=0,\" \",COUNTRY_INFO!B58)","v":"Hauts-Bassins"},{"$f":"IF(COUNTRY_INFO!C58=0,\" \",COUNTRY_INFO!C58)","v":"Lena"},{"$f":"IF(COUNTRY_INFO!$T$9:$T$1000=\"MDA3 (IVM)\", COUNTRY_INFO!$T$9:$T$1000, \" \")","v":" "},null,null,null,0,null,null,0,null,null,0,0,0,0," "," "," "]
[{"$f":"IF(COUNTRY_INFO!A59=0,\" \",COUNTRY_INFO!A59)","v":"Burkina Faso"},{"$f":"IF(COUNTRY_INFO!B59=0,\" \",COUNTRY_INFO!B59)","v":"Hauts-Bassins"},{"$f":"IF(COUNTRY_INFO!C59=0,\" \",COUNTRY_INFO!C59)","v":"N'Dorola"},{"$f":"IF(COUNTRY_INFO!$T$9:$T$1000=\"MDA3 (IVM)\", COUNTRY_INFO!$T$9:$T$1000, \" \")","v":" "},null,null,null,0,null,null,0,null,null,0,0,0,0," "," "," "]
[{"$f":"IF(COUNTRY_INFO!A60=0,\" \",COUNTRY_INFO!A60)","v":"Burkina Faso"},{"$f":"IF(COUNTRY_INFO!B60=0,\" \",COUNTRY_INFO!B60)","v":"Hauts-Bassins"},{"$f":"IF(COUNTRY_INFO!C60=0,\" \",COUNTRY_INFO!C60)","v":"Orodara"},{"$f":"IF(COUNTRY_INFO!$T$9:$T$1000=\"MDA3 (IVM)\", COUNTRY_INFO!$T$9:$T$1000, \" \")","v":" "},null,null,null,0,null,null,0,null,null,0,0,0,0," "," "," "]
[{"$f":"IF(COUNTRY_INFO!A61=0,\" \",COUNTRY_INFO!A61)","v":"Burkina Faso"},{"$f":"IF(COUNTRY_INFO!B61=0,\" \",COUNTRY_INFO!B61)","v":"Nord"},{"$f":"IF(COUNTRY_INFO!C61=0,\" \",COUNTRY_INFO!C61)","v":"Gourcy"},{"$f":"IF(COUNTRY_INFO!$T$9:$T$1000=\"MDA3 (IVM)\", COUNTRY_INFO!$T$9:$T$1000, \" \")","v":" "},null,null,null,0,null,null,0,null,null,0,0,0,0," "," "," "]
[{"$f":"IF(COUNTRY_INFO!A62=0,\" \",COUNTRY_INFO!A62)","v":"Burkina Faso"},{"$f":"IF(COUNTRY_INFO!B62=0,\" \",COUNTRY_INFO!B62)","v":"Nord"},{"$f":"IF(COUNTRY_INFO!C62=0,\" \",COUNTRY_INFO!C62)","v":"Ouahigouya"},{"$f":"IF(COUNTRY_INFO!$T$9:$T$1000=\"MDA3 (IVM)\", COUNTRY_INFO!$T$9:$T$1000, \" \")","v":" "},null,null,null,0,null,null,0,null,null,0,0,0,0," "," "," "]
[{"$f":"IF(COUNTRY_INFO!A63=0,\" \",COUNTRY_INFO!A63)","v":"Burkina Faso"},{"$f":"IF(COUNTRY_INFO!B63=0,\" \",COUNTRY_INFO!B63)","v":"Nord"},{"$f":"IF(COUNTRY_INFO!C63=0,\" \",COUNTRY_INFO!C63)","v":"Seguenega"},{"$f":"IF(COUNTRY_INFO!$T$9:$T$1000=\"MDA3 (IVM)\", COUNTRY_INFO!$T$9:$T$1000, \" \")","v":" "},null,null,null,0,null,null,0,null,null,0,0,0,0," "," "," "]
[{"$f":"IF(COUNTRY_INFO!A64=0,\" \",COUNTRY_INFO!A64)","v":"Burkina Faso"},{"$f":"IF(COUNTRY_INFO!B64=0,\" \",COUNTRY_INFO!B64)","v":"Nord"},{"$f":"IF(COUNTRY_INFO!C64=0,\" \",COUNTRY_INFO!C64)","v":"Thiou"},{"$f":"IF(COUNTRY_INFO!$T$9:$T$1000=\"MDA3 (IVM)\", COUNTRY_INFO!$T$9:$T$1000, \" \")","v":" "},null,null,null,0,null,null,0,null,null,0,0,0,0," "," "," "]
[{"$f":"IF(COUNTRY_INFO!A65=0,\" \",COUNTRY_INFO!A65)","v":"Burkina Faso"},{"$f":"IF(COUNTRY_INFO!B65=0,\" \",COUNTRY_INFO!B65)","v":"Nord"},{"$f":"IF(COUNTRY_INFO!C65=0,\" \",COUNTRY_INFO!C65)","v":"Titao"},{"$f":"IF(COUNTRY_INFO!$T$9:$T$1000=\"MDA3 (IVM)\", COUNTRY_INFO!$T$9:$T$1000, \" \")","v":" "},null,null,null,0,null,null,0,null,null,0,0,0,0," "," "," "]
[{"$f":"IF(COUNTRY_INFO!A66=0,\" \",COUNTRY_INFO!A66)","v":"Burkina Faso"},{"$f":"IF(COUNTRY_INFO!B66=0,\" \",COUNTRY_INFO!B66)","v":"Nord"},{"$f":"IF(COUNTRY_INFO!C66=0,\" \",COUNTRY_INFO!C66)","v":"Yako"},{"$f":"IF(COUNTRY_INFO!$T$9:$T$1000=\"MDA3 (IVM)\", COUNTRY_INFO!$T$9:$T$1000, \" \")","v":" "},null,null,null,0,null,null,0,null,null,0,0,0,0," "," "," "]
[{"$f":"IF(COUNTRY_INFO!A67=0,\" \",COUNTRY_INFO!A67)","v":"Burkina Faso"},{"$f":"IF(COUNTRY_INFO!B67=0,\" \",COUNTRY_INFO!B67)","v":"Plateau Central"},{"$f":"IF(COUNTRY_INFO!C67=0,\" \",COUNTRY_INFO!C67)","v":"Boussé"},{"$f":"IF(COUNTRY_INFO!$T$9:$T$1000=\"MDA3 (IVM)\", COUNTRY_INFO!$T$9:$T$1000, \" \")","v":" "},null,null,null,0,null,null,0,null,null,0,0,0,0," "," "," "]
[{"$f":"IF(COUNTRY_INFO!A68=0,\" \",COUNTRY_INFO!A68)","v":"Burkina Faso"},{"$f":"IF(COUNTRY_INFO!B68=0,\" \",COUNTRY_INFO!B68)","v":"Plateau Central"},{"$f":"IF(COUNTRY_INFO!C68=0,\" \",COUNTRY_INFO!C68)","v":"Ziniaré"},{"$f":"IF(COUNTRY_INFO!$T$9:$T$1000=\"MDA3 (IVM)\", COUNTRY_INFO!$T$9:$T$1000, \" \")","v":" "},null,null,null,0,null,null,0,null,null,0,0,0,0," "," "," "]
[{"$f":"IF(COUNTRY_INFO!A69=0,\" \",COUNTRY_INFO!A69)","v":"Burkina Faso"},{"$f":"IF(COUNTRY_INFO!B69=0,\" \",COUNTRY_INFO!B69)","v":"Plateau Central"},{"$f":"IF(COUNTRY_INFO!C69=0,\" \",COUNTRY_INFO!C69)","v":"Zorgho"},{"$f":"IF(COUNTRY_INFO!$T$9:$T$1000=\"MDA3 (IVM)\", COUNTRY_INFO!$T$9:$T$1000, \" \")","v":" "},null,null,null,0,null,null,0,null,null,0,0,0,0," "," "," "]
[{"$f":"IF(COUNTRY_INFO!A70=0,\" \",COUNTRY_INFO!A70)","v":"Burkina Faso"},{"$f":"IF(COUNTRY_INFO!B70=0,\" \",COUNTRY_INFO!B70)","v":"Sahel"},{"$f":"IF(COUNTRY_INFO!C70=0,\" \",COUNTRY_INFO!C70)","v":"Djibo"},{"$f":"IF(COUNTRY_INFO!$T$9:$T$1000=\"MDA3 (IVM)\", COUNTRY_INFO!$T$9:$T$1000, \" \")","v":" "},null,null,null,0,null,null,0,null,null,0,0,0,0," "," "," "]
[{"$f":"IF(COUNTRY_INFO!A71=0,\" \",COUNTRY_INFO!A71)","v":"Burkina Faso"},{"$f":"IF(COUNTRY_INFO!B71=0,\" \",COUNTRY_INFO!B71)","v":"Sahel"},{"$f":"IF(COUNTRY_INFO!C71=0,\" \",COUNTRY_INFO!C71)","v":"Dori"},{"$f":"IF(COUNTRY_INFO!$T$9:$T$1000=\"MDA3 (IVM)\", COUNTRY_INFO!$T$9:$T$1000, \" \")","v":" "},null,null,null,0,null,null,0,null,null,0,0,0,0," "," "," "]
[{"$f":"IF(COUNTRY_INFO!A72=0,\" \",COUNTRY_INFO!A72)","v":"Burkina Faso"},{"$f":"IF(COUNTRY_INFO!B72=0,\" \",COUNTRY_INFO!B72)","v":"Sahel"},{"$f":"IF(COUNTRY_INFO!C72=0,\" \",COUNTRY_INFO!C72)","v":"Gorom-Gorom"},{"$f":"IF(COUNTRY_INFO!$T$9:$T$1000=\"MDA3 (IVM)\", COUNTRY_INFO!$T$9:$T$1000, \" \")","v":" "},null,null,null,0,null,null,0,null,null,0,0,0,0," "," "," "]
[{"$f":"IF(COUNTRY_INFO!A73=0,\" \",COUNTRY_INFO!A73)","v":"Burkina Faso"},{"$f":"IF(COUNTRY_INFO!B73=0,\" \",COUNTRY_INFO!B73)","v":"Sahel"},{"$f":"IF(COUNTRY_INFO!C73=0,\" \",COUNTRY_INFO!C73)","v":"Sebba"},{"$f":"IF(COUNTRY_INFO!$T$9:$T$1000=\"MDA3 (IVM)\", COUNTRY_INFO!$T$9:$T$1000, \" \")","v":" "},null,null,null,0,null,null,0,null,null,0,0,0,0," "," "," "]
[{"$f":"IF(COUNTRY_INFO!A74=0,\" \",COUNTRY_INFO!A74)","v":"Burkina Faso"},{"$f":"IF(COUNTRY_INFO!B74=0,\" \",COUNTRY_INFO!B74)","v":"Sud-Ouest"},{"$f":"IF(COUNTRY_INFO!C74=0,\" \",COUNTRY_INFO!C74)","v":"Batié"},"MDA3 (IVM)","Juillet",11804,21368,{"$f":"SUM(F74:G74)","v":33172},11948.369999999999,18888.63,{"$f":"SUM(I74:J74)","v":30837},null,null,{"$f":"SUM(L74:M74)","v":0},{"$f":"MAX(I74,L74)","v":11948.369999999999},{"$f":"MAX(J74,M74)","v":18888.63},{"$f":"SUM(O74:P74)","v":30837},{"$f":"IF(F74<>0, IF(MAX(I74,L74)/F74*100=0, \"-\", MAX(I74,L74)/F74*100), \" \")","v":101.22305997966789},{"$f":"IF(G74<>0, IF(MAX(J74,M74)/G74*100=0, \"-\", MAX(J74,M74)/G74*100), \" \")","v":88.396808311493828},{"$f":"IF(H74<>0, IF((MAX(I74,L74)+MAX(J74,M74))/H74*100=0, \"-\",(MAX(I74,L74)+MAX(J74,M74))/H74*100), \" \")","v":92.960930905583012}]
[{"$f":"IF(COUNTRY_INFO!A75=0,\" \",COUNTRY_INFO!A75)","v":"Burkina Faso"},{"$f":"IF(COUNTRY_INFO!B75=0,\" \",COUNTRY_INFO!B75)","v":"Sud-Ouest"},{"$f":"IF(COUNTRY_INFO!C75=0,\" \",COUNTRY_INFO!C75)","v":"Dano"},{"$f":"IF(COUNTRY_INFO!$T$9:$T$1000=\"MDA3 (IVM)\", COUNTRY_INFO!$T$9:$T$1000, \" \")","v":"MDA3 (IVM)"},"Juillet",25836,46768,72604,20930.855,51419.145000000004,72350,null,null,0,20930.855,51419.145000000004,72350,81.014301749496823,109.94514411563463,99.650157016142359]
[{"$f":"IF(COUNTRY_INFO!A76=0,\" \",COUNTRY_INFO!A76)","v":"Burkina Faso"},{"$f":"IF(COUNTRY_INFO!B76=0,\" \",COUNTRY_INFO!B76)","v":"Sud-Ouest"},{"$f":"IF(COUNTRY_INFO!C76=0,\" \",COUNTRY_INFO!C76)","v":"Diébougou"},"MDA3 (IVM)","Juillet",9933,17980,27913,4794,22618,27412,null,null,0,4794,22618,27412,48.26336454243431,125.79532814238041,98.205137391179747]
[{"$f":"IF(COUNTRY_INFO!A77=0,\" \",COUNTRY_INFO!A77)","v":"Burkina Faso"},{"$f":"IF(COUNTRY_INFO!B77=0,\" \",COUNTRY_INFO!B77)","v":"Sud-Ouest"},{"$f":"IF(COUNTRY_INFO!C77=0,\" \",COUNTRY_INFO!C77)","v":"Gaoua"},"MDA3 (IVM)","Juillet",8920,16147,25067,11079,13912,24991,null,null,0,11079,13912,24991,124.20403587443947,86.158419520653993,99.696812542386397]
[{"$f":"IF(COUNTRY_INFO!A78=0,\" \",COUNTRY_INFO!A78)","v":"Burkina Faso"},{"$f":"IF(COUNTRY_INFO!B78=0,\" \",COUNTRY_INFO!B78)","v":"Sud-Ouest"},{"$f":"IF(COUNTRY_INFO!C78=0,\" \",COUNTRY_INFO!C78)","v":"Kampti"},{"$f":"IF(COUNTRY_INFO!$T$9:$T$1000=\"MDA3 (IVM)\", COUNTRY_INFO!$T$9:$T$1000, \" \")","v":" "},null,null,null,0,null,null,0,null,null,0,0,0,0," "," "," "]

{"sheet":"T1","index":5,"n_rows":78,"n_cols":19,"rows_kept":78,"cut":false,"hidden":false,"merged":[[5,6,5,10],[5,11,5,14],[5,15,5,18],[3,0,3,2],[5,0,5,2],[5,3,6,3],[5,5,6,5],[5,4,6,4]]}
["T 1 - Praziquantel (PZQ) et Albendazole (ALB) ou Mebendazole (MBD)"]
["Structure administrative, population nécessitant une chimioprévention par groupe d'âge, population traitée par groupe d'âge et couverture"]
[]
["TOTAL",null,null,null,null,null,{"$f":"SUM(G$9:G$1000)","v":0},1461502,1461502,1570044,{"$f":"SUM(K$9:K$1000)","v":3031546},0,1509369,1461638,2971007,{"$f":"IF(G4<>0, IF(L4/G4*100=0, \"-\", L4/G4*100), \" \")","v":" "},{"$f":"IF(OR(I4<>0,H4<>0), IF(M4/MAX(H4,I4)*100=0, \"-\", M4/MAX(H4,I4)*100), \" \")","v":103.27519223374308},{"$f":"IF(J4<>0, IF(N4/J4*100=0, \"-\", N4/J4*100), \" \")","v":93.095352741706606},{"$f":"IF(K4<>0, IF(O4/K4*100=0, \"-\", O4/K4*100), \" \")","v":98.003032116286533}]
[]
["Structure administrative du pays",null,null,"Mise en oeuvre \nde la CP","Médica-ment","Date","Population ciblée pour T1",null,null,null,null,"Population traitée",null,null,null,"Couverture du Programme (%)"]
["Pays","Région/Département","District",null,null,null,"EAPréS (ALB)","EAS (ALB)","EAS (PZQ)","Adultes (PZQ)","Total","EAPréS","EAS","Adultes","Total","EAPréS","EAS","Adultes","Total"]
[]
[{"$f":"IF(COUNTRY_INFO!A9=0,\" \",COUNTRY_INFO!A9)","v":"Burkina Faso"},{"$f":"IF(COUNTRY_INFO!B9=0,\" \",COUNTRY_INFO!B9)","v":"Boucle du Mouhoun"},{"$f":"IF(COUNTRY_INFO!C9=0,\" \",COUNTRY_INFO!C9)","v":"Boromo"},{"$f":"IF(OR(COUNTRY_INFO!$T$9:$T$1000=\"T1 (PZQ+ALB/MBD)\",COUNTRY_INFO!$U$9:$U$1000=\"T1 (PZQ+ALB/MBD)\"), \"T1 (PZQ+ALB/MBD)\", \" \")","v":"T1 (PZQ+ALB/MBD)"},"PZQ+ALB","15-19/05/17",null,86360,86360,148031,{"$f":"MAX(H9:I9)+G9+J9","v":234391},null,89821,137560,{"$f":"SUM(L9:N9)","v":227381},{"$f":"IF(G9<>0, IF(L9/G9*100=0, \"-\", L9/G9*100), \" \")","v":" "},{"$f":"IF(OR(I9<>0,H9<>0), IF(M9/MAX(H9,I9)*100=0, \"-\", M9/MAX(H9,I9)*100), \" \")","v":104.00764242704956},{"$f":"IF(J9<>0, IF(N9/J9*100=0, \"-\", N9/J9*100), \" \")","v":92.926481615337337},97.009270833777748]
[{"$f":"IF(COUNTRY_INFO!A10=0,\" \",COUNTRY_INFO!A10)","v":"Burkina Faso"},{"$f":"IF(COUNTRY_INFO!B10=0,\" \",COUNTRY_INFO!B10)","v":"Boucle du Mouhoun"},{"$f":"IF(COUNTRY_INFO!C10=0,\" \",COUNTRY_INFO!C10)","v":"Dédougou"},{"$f":"IF(OR(COUNTRY_INFO!$T$9:$T$1000=\"T1 (PZQ+ALB/MBD)\",COUNTRY_INFO!$U$9:$U$1000=\"T1 (PZQ+ALB/MBD)\"), \"T1 (PZQ+ALB/MBD)\", \" \")","v":"T1 (PZQ+ALB/MBD)"},"PZQ+ALB","15-19/05/17",null,120073,120073,205840,{"$f":"MAX(H10:I10)+G10+J10","v":325913},null,123315,184502,{"$f":"SUM(L10:N10)","v":307817},{"$f":"IF(G10<>0, IF(L10/G10*100=0, \"-\", L10/G10*100), \" \")","v":" "},{"$f":"IF(OR(I10<>0,H10<>0), IF(M10/MAX(H10,I10)*100=0, \"-\", M10/MAX(H10,I10)*100), \" \")","v":102.70002415197422},{"$f":"IF(J10<>0, IF(N10/J10*100=0, \"-\", N10/J10*100), \" \")","v":89.633696074621056},{"$f":"IF(K10<>0, IF(O10/K10*100=0, \"-\", O10/K10*100), \" \")","v":94.44759797860165}]
[{"$f":"IF(COUNTRY_INFO!A11=0,\" \",COUNTRY_INFO!A11)","v":"Burkina Faso"},{"$f":"IF(COUNTRY_INFO!B11=0,\" \",COUNTRY_INFO!B11)","v":"Boucle du Mouhoun"},{"$f":"IF(COUNTRY_INFO!C11=0,\" \",COUNTRY_INFO!C11)","v":"Nouna"},{"$f":"IF(OR(COUNTRY_INFO!$T$9:$T$1000=\"T1 (PZQ+ALB/MBD)\",COUNTRY_INFO!$U$9:$U$1000=\"T1 (PZQ+ALB/MBD)\"), \"T1 (PZQ+ALB/MBD)\", \" \")","v":"T1 (PZQ+ALB/MBD)"},"PZQ+ALB","15-19/05/17",null,110267,110267,189018,299285,null,113096,169999,283095," ",102.56559079325638,89.937995323196731,94.590440549977444]
[{"$f":"IF(COUNTRY_INFO!A12=0,\" \",COUNTRY_INFO!A12)","v":"Burkina Faso"},{"$f":"IF(COUNTRY_INFO!B12=0,\" \",COUNTRY_INFO!B12)","v":"Boucle du Mouhoun"},{"$f":"IF(COUNTRY_INFO!C12=0,\" \",COUNTRY_INFO!C12)","v":"Solenzo"},{"$f":"IF(OR(COUNTRY_INFO!$T$9:$T$1000=\"T1 (PZQ+ALB/MBD)\",COUNTRY_INFO!$U$9:$U$1000=\"T1 (PZQ+ALB/MBD)\"), \"T1 (PZQ+ALB/MBD)\", \" \")","v":"T1 (PZQ+ALB/MBD)"},"PZQ+ALB","15-19/05/17",null,108320,108320,185672,293992,null,109242,171913,281155," ",100.85118168389955,92.589620405877028,95.633554654548419]
[{"$f":"IF(COUNTRY_INFO!A13=0,\" \",COUNTRY_INFO!A13)","v":"Burkina Faso"},{"$f":"IF(COUNTRY_INFO!B13=0,\" \",COUNTRY_INFO!B13)","v":"Boucle du Mouhoun"},{"$f":"IF(COUNTRY_INFO!C13=0,\" \",COUNTRY_INFO!C13)","v":"Toma"},{"$f":"IF(OR(COUNTRY_INFO!$T$9:$T$1000=\"T1 (PZQ+ALB/MBD)\",COUNTRY_INFO!$U$9:$U$1000=\"T1 (PZQ+ALB/MBD)\"), \"T1 (PZQ+ALB/MBD)\", \" \")","v":"T1 (PZQ+ALB/MBD)"},"PZQ+ALB","15-19/05/17",null,64480,64480,110536,175016,null,65384,109841,175225," ",101.40198511166254,99.371245567055084,100.11941765324312]
[{"$f":"IF(COUNTRY_INFO!A14=0,\" \",COUNTRY_INFO!A14)","v":"Burkina Faso"},{"$f":"IF(COUNTRY_INFO!B14=0,\" \",COUNTRY_INFO!B14)","v":"Boucle du Mouhoun"},{"$f":"IF(COUNTRY_INFO!C14=0,\" \",COUNTRY_INFO!C14)","v":"Tougan"},{"$f":"IF(OR(COUNTRY_INFO!$T$9:$T$1000=\"T1 (PZQ+ALB/MBD)\",COUNTRY_INFO!$U$9:$U$1000=\"T1 (PZQ+ALB/MBD)\"), \"T1 (PZQ+ALB/MBD)\", \" \")","v":"T1 (PZQ+ALB/MBD)"},"PZQ+ALB","15-19/05/17",null,86142,86142,147666,233808,null,91669,132358,224027," ",106.41615007777855,89.633361775899672,95.816652980223097]
[{"$f":"IF(COUNTRY_INFO!A15=0,\" \",COUNTRY_INFO!A15)","v":"Burkina Faso"},{"$f":"IF(COUNTRY_INFO!B15=0,\" \",COUNTRY_INFO!B15)","v":"Cascades"},{"$f":"IF(COUNTRY_INFO!C15=0,\" \",COUNTRY_INFO!C15)","v":"Banfora"},{"$f":"IF(OR(COUNTRY_INFO!$T$9:$T$1000=\"T1 (PZQ+ALB/MBD)\",COUNTRY_INFO!$U$9:$U$1000=\"T1 (PZQ+ALB/MBD)\"), \"T1 (PZQ+ALB/MBD)\", \" \")","v":" "},null,null,null,null,null,null,0,null,null,null,0," "," "," "," "]
[{"$f":"IF(COUNTRY_INFO!A16=0,\" \",COUNTRY_INFO!A16)","v":"Burkina Faso"},{"$f":"IF(COUNTRY_INFO!B16=0,\" \",COUNTRY_INFO!B16)","v":"Cascades"},{"$f":"IF(COUNTRY_INFO!C16=0,\" \",COUNTRY_INFO!C16)","v":"Mangodara"},{"$f":"IF(OR(COUNTRY_INFO!$T$9:$T$1000=\"T1 (PZQ+ALB/MBD)\",COUNTRY_INFO!$U$9:$U$1000=\"T1 (PZQ+ALB/MBD)\"), \"T1 (PZQ+ALB/MBD)\", \" \")","v":" "},null,null,null,null,null,null,0,null,null,null,0," "," "," "," "]
[{"$f":"IF(COUNTRY_INFO!A17=0,\" \",COUNTRY_INFO!A17)","v":"Burkina Faso"},{"$f":"IF(COUNTRY_INFO!B17=0,\" \",COUNTRY_INFO!B17)","v":"Cascades"},{"$f":"IF(COUNTRY_INFO!C17=0,\" \",COUNTRY_INFO!C17)","v":"Sindou"},{"$f":"IF(OR(COUNTRY_INFO!$T$9:$T$1000=\"T1 (PZQ+ALB/MBD)\",COUNTRY_INFO!$U$9:$U$1000=\"T1 (PZQ+ALB/MBD)\"), \"T1 (PZQ+ALB/MBD)\", \" \")","v":" "},null,null,null,null,null,null,0,null,null,null,0," "," "," "," "]
[{"$f":"IF(COUNTRY_INFO!A18=0,\" \",COUNTRY_INFO!A18)","v":"Burkina Faso"},{"$f":"IF(COUNTRY_INFO!B18=0,\" \",COUNTRY_INFO!B18)","v":"Centre"},{"$f":"IF(COUNTRY_INFO!C18=0,\" \",COUNTRY_INFO!C18)","v":"Baskuy"},{"$f":"IF(OR(COUNTRY_INFO!$T$9:$T$1000=\"T1 (PZQ+ALB/MBD)\",COUNTRY_INFO!$U$9:$U$1000=\"T1 (PZQ+ALB/MBD)\"), \"T1 (PZQ+ALB/MBD)\", \" \")","v":" "},null,null,null,null,null,null,0,null,null,null,0," "," "," "," "]
[{"$f":"IF(COUNTRY_INFO!A19=0,\" \",COUNTRY_INFO!A19)","v":"Burkina Faso"},{"$f":"IF(COUNTRY_INFO!B19=0,\" \",COUNTRY_INFO!B19)","v":"Centre"},{"$f":"IF(COUNTRY_INFO!C19=0,\" \",COUNTRY_INFO!C19)","v":"Bogodogo"},{"$f":"IF(OR(COUNTRY_INFO!$T$9:$T$1000=\"T1 (PZQ+ALB/MBD)\",COUNTRY_INFO!$U$9:$U$1000=\"T1 (PZQ+ALB/MBD)\"), \"T1 (PZQ+ALB/MBD)\", \" \")","v":" "},null,null,null,null,null,null,0,null,null,null,0," "," "," "," "]
[{"$f":"IF(COUNTRY_INFO!A20=0,\" \",COUNTRY_INFO!A20)","v":"Burkina Faso"},{"$f":"IF(COUNTRY_INFO!B20=0,\" \",COUNTRY_INFO!B20)","v":"Centre"},{"$f":"IF(COUNTRY_INFO!C20=0,\" \",COUNTRY_INFO!C20)","v":"Boulmiougou"},{"$f":"IF(OR(COUNTRY_INFO!$T$9:$T$1000=\"T1 (PZQ+ALB/MBD)\",COUNTRY_INFO!$U$9:$U$1000=\"T1 (PZQ+ALB/MBD)\"), \"T1 (PZQ+ALB/MBD)\", \" \")","v":" "},null,null,null,null,null,null,0,null,null,null,0," "," "," "," "]
[{"$f":"IF(COUNTRY_INFO!A21=0,\" \",COUNTRY_INFO!A21)","v":"Burkina Faso"},{"$f":"IF(COUNTRY_INFO!B21=0,\" \",COUNTRY_INFO!B21)","v":"Centre"},{"$f":"IF(COUNTRY_INFO!C21=0,\" \",COUNTRY_INFO!C21)","v":"Nongre-Massom"},{"$f":"IF(OR(COUNTRY_INFO!$T$9:$T$1000=\"T1 (PZQ+ALB/MBD)\",COUNTRY_INFO!$U$9:$U$1000=\"T1 (PZQ+ALB/MBD)\"), \"T1 (PZQ+ALB/MBD)\", \" \")","v":" "},null,null,null,null,null,null,0,null,null,null,0," "," "," "," "]
[{"$f":"IF(COUNTRY_INFO!A22=0,\" \",COUNTRY_INFO!A22)","v":"Burkina Faso"},{"$f":"IF(COUNTRY_INFO!B22=0,\" \",COUNTRY_INFO!B22)","v":"Centre"},{"$f":"IF(COUNTRY_INFO!C22=0,\" \",COUNTRY_INFO!C22)","v":"Sig-Nonghin"},{"$f":"IF(OR(COUNTRY_INFO!$T$9:$T$1000=\"T1 (PZQ+ALB/MBD)\",COUNTRY_INFO!$U$9:$U$1000=\"T1 (PZQ+ALB/MBD)\"), \"T1 (PZQ+ALB/MBD)\", \" \")","v":" "},null,null,null,null,null,null,0,null,null,null,0," "," "," "," "]
[{"$f":"IF(COUNTRY_INFO!A23=0,\" \",COUNTRY_INFO!A23)","v":"Burkina Faso"},{"$f":"IF(COUNTRY_INFO!B23=0,\" \",COUNTRY_INFO!B23)","v":"Centre-Est"},{"$f":"IF(COUNTRY_INFO!C23=0,\" \",COUNTRY_INFO!C23)","v":"Bittou"},{"$f":"IF(OR(COUNTRY_INFO!$T$9:$T$1000=\"T1 (PZQ+ALB/MBD)\",COUNTRY_INFO!$U$9:$U$1000=\"T1 (PZQ+ALB/MBD)\"), \"T1 (PZQ+ALB/MBD)\", \" \")","v":" "},null,null,null,null,null,null,0,null,null,null,0," "," "," "," "]
[{"$f":"IF(COUNTRY_INFO!A24=0,\" \",COUNTRY_INFO!A24)","v":"Burkina Faso"},{"$f":"IF(COUNTRY_INFO!B24=0,\" \",COUNTRY_INFO!B24)","v":"Centre-Est"},{"$f":"IF(COUNTRY_INFO!C24=0,\" \",COUNTRY_INFO!C24)","v":"Garango"},{"$f":"IF(OR(COUNTRY_INFO!$T$9:$T$1000=\"T1 (PZQ+ALB/MBD)\",COUNTRY_INFO!$U$9:$U$1000=\"T1 (PZQ+ALB/MBD)\"), \"T1 (PZQ+ALB/MBD)\", \" \")","v":" "},null,null,null,null,null,null,0,null,null,null,0," "," "," "," "]
[{"$f":"IF(COUNTRY_INFO!A25=0,\" \",COUNTRY_INFO!A25)","v":"Burkina Faso"},{"$f":"IF(COUNTRY_INFO!B25=0,\" \",COUNTRY_INFO!B25)","v":"Centre-Est"},{"$f":"IF(COUNTRY_INFO!C25=0,\" \",COUNTRY_INFO!C25)","v":"Koupela"},{"$f":"IF(OR(COUNTRY_INFO!$T$9:$T$1000=\"T1 (PZQ+ALB/MBD)\",COUNTRY_INFO!$U$9:$U$1000=\"T1 (PZQ+ALB/MBD)\"), \"T1 (PZQ+ALB/MBD)\", \" \")","v":" "},null,null,null,null,null,null,0,null,null,null,0," "," "," "," "]
[{"$f":"IF(COUNTRY_INFO!A26=0,\" \",COUNTRY_INFO!A26)","v":"Burkina Faso"},{"$f":"IF(COUNTRY_INFO!B26=0,\" \",COUNTRY_INFO!B26)","v":"Centre-Est"},{"$f":"IF(COUNTRY_INFO!C26=0,\" \",COUNTRY_INFO!C26)","v":"Ouargaye"},{"$f":"IF(OR(COUNTRY_INFO!$T$9:$T$1000=\"T1 (PZQ+ALB/MBD)\",COUNTRY_INFO!$U$9:$U$1000=\"T1 (PZQ+ALB/MBD)\"), \"T1 (PZQ+ALB/MBD)\", \" \")","v":" "},null,null,null,null,null,null,0,null,null,null,0," "," "," "," "]
[{"$f":"IF(COUNTRY_INFO!A27=0,\" \",COUNTRY_INFO!A27)","v":"Burkina Faso"},{"$f":"IF(COUNTRY_INFO!B27=0,\" \",COUNTRY_INFO!B27)","v":"Centre-Est"},{"$f":"IF(COUNTRY_INFO!C27=0,\" \",COUNTRY_INFO!C27)","v":"Pouytenga"},{"$f":"IF(OR(COUNTRY_INFO!$T$9:$T$1000=\"T1 (PZQ+ALB/MBD)\",COUNTRY_INFO!$U$9:$U$1000=\"T1 (PZQ+ALB/MBD)\"), \"T1 (PZQ+ALB/MBD)\", \" \")","v":" "},null,null,null,null,null,null,0,null,null,null,0," "," "," "," "]
[{"$f":"IF(COUNTRY_INFO!A28=0,\" \",COUNTRY_INFO!A28)","v":"Burkina Faso"},{"$f":"IF(COUNTRY_INFO!B28=0,\" \",COUNTRY_INFO!B28)","v":"Centre-Est"},{"$f":"IF(COUNTRY_INFO!C28=0,\" \",COUNTRY_INFO!C28)","v":"Tenkodogo"},{"$f":"IF(OR(COUNTRY_INFO!$T$9:$T$1000=\"T1 (PZQ+ALB/MBD)\",COUNTRY_INFO!$U$9:$U$1000=\"T1 (PZQ+ALB/MBD)\"), \"T1 (PZQ+ALB/MBD)\", \" \")","v":" "},null,null,null,null,null,null,0,null,null,null,0," "," "," "," "]
[{"$f":"IF(COUNTRY_INFO!A29=0,\" \",COUNTRY_INFO!A29)","v":"Burkina Faso"},{"$f":"IF(COUNTRY_INFO!B29=0,\" \",COUNTRY_INFO!B29)","v":"Centre-Est"},{"$f":"IF(COUNTRY_INFO!C29=0,\" \",COUNTRY_INFO!C29)","v":"Zabré"},{"$f":"IF(OR(COUNTRY_INFO!$T$9:$T$1000=\"T1 (PZQ+ALB/MBD)\",COUNTRY_INFO!$U$9:$U$1000=\"T1 (PZQ+ALB/MBD)\"), \"T1 (PZQ+ALB/MBD)\", \" \")","v":" "},null,null,null,null,null,null,0,null,null,null,0," "," "," "," "]
[{"$f":"IF(COUNTRY_INFO!A30=0,\" \",COUNTRY_INFO!A30)","v":"Burkina Faso"},{"$f":"IF(COUNTRY_INFO!B30=0,\" \",COUNTRY_INFO!B30)","v":"Centre-Nord"},{"$f":"IF(COUNTRY_INFO!C30=0,\" \",COUNTRY_INFO!C30)","v":"Barsalogo"},{"$f":"IF(OR(COUNTRY_INFO!$T$9:$T$1000=\"T1 (PZQ+ALB/MBD)\",COUNTRY_INFO!$U$9:$U$1000=\"T1 (PZQ+ALB/MBD)\"), \"T1 (PZQ+ALB/MBD)\", \" \")","v":" "},null,null,null,null,null,null,0,null,null,null,0," "," "," "," "]
[{"$f":"IF(COUNTRY_INFO!A31=0,\" \",COUNTRY_INFO!A31)","v":"Burkina Faso"},{"$f":"IF(COUNTRY_INFO!B31=0,\" \",COUNTRY_INFO!B31)","v":"Centre-Nord"},{"$f":"IF(COUNTRY_INFO!C31=0,\" \",COUNTRY_INFO!C31)","v":"Boulsa"},{"$f":"IF(OR(COUNTRY_INFO!$T$9:$T$1000=\"T1 (PZQ+ALB/MBD)\",COUNTRY_INFO!$U$9:$U$1000=\"T1 (PZQ+ALB/MBD)\"), \"T1 (PZQ+ALB/MBD)\", \" \")","v":" "},null,null,null,null,null,null,0,null,null,null,0," "," "," "," "]
[{"$f":"IF(COUNTRY_INFO!A32=0,\" \",COUNTRY_INFO!A32)","v":"Burkina Faso"},{"$f":"IF(COUNTRY_INFO!B32=0,\" \",COUNTRY_INFO!B32)","v":"Centre-Nord"},{"$f":"IF(COUNTRY_INFO!C32=0,\" \",COUNTRY_INFO!C32)","v":"Boussouma"},{"$f":"IF(OR(COUNTRY_INFO!$T$9:$T$1000=\"T1 (PZQ+ALB/MBD)\",COUNTRY_INFO!$U$9:$U$1000=\"T1 (PZQ+ALB/MBD)\"), \"T1 (PZQ+ALB/MBD)\", \" \")","v":" "},null,null,null,null,null,null,0,null,null,null,0," "," "," "," "]
[{"$f":"IF(COUNTRY_INFO!A33=0,\" \",COUNTRY_INFO!A33)","v":"Burkina Faso"},{"$f":"IF(COUNTRY_INFO!B33=0,\" \",COUNTRY_INFO!B33)","v":"Centre-Nord"},{"$f":"IF(COUNTRY_INFO!C33=0,\" \",COUNTRY_INFO!C33)","v":"Kaya"},{"$f":"IF(OR(COUNTRY_INFO!$T$9:$T$1000=\"T1 (PZQ+ALB/MBD)\",COUNTRY_INFO!$U$9:$U$1000=\"T1 (PZQ+ALB/MBD)\"), \"T1 (PZQ+ALB/MBD)\", \" \")","v":" "},null,null,null,null,null,null,0,null,null,null,0," "," "," "," "]
[{"$f":"IF(COUNTRY_INFO!A34=0,\" \",COUNTRY_INFO!A34)","v":"Burkina Faso"},{"$f":"IF(COUNTRY_INFO!B34=0,\" \",COUNTRY_INFO!B34)","v":"Centre-Nord"},{"$f":"IF(COUNTRY_INFO!C34=0,\" \",COUNTRY_INFO!C34)","v":"Kongoussi"},{"$f":"IF(OR(COUNTRY_INFO!$T$9:$T$1000=\"T1 (PZQ+ALB/MBD)\",COUNTRY_INFO!$U$9:$U$1000=\"T1 (PZQ+ALB/MBD)\"), \"T1 (PZQ+ALB/MBD)\", \" \")","v":" "},null,null,null,null,null,null,0,null,null,null,0," "," "," "," "]
[{"$f":"IF(COUNTRY_INFO!A35=0,\" \",COUNTRY_INFO!A35)","v":"Burkina Faso"},{"$f":"IF(COUNTRY_INFO!B35=0,\" \",COUNTRY_INFO!B35)","v":"Centre-Nord"},{"$f":"IF(COUNTRY_INFO!C35=0,\" \",COUNTRY_INFO!C35)","v":"Tougouri"},{"$f":"IF(OR(COUNTRY_INFO!$T$9:$T$1000=\"T1 (PZQ+ALB/MBD)\",COUNTRY_INFO!$U$9:$U$1000=\"T1 (PZQ+ALB/MBD)\"), \"T1 (PZQ+ALB/MBD)\", \" \")","v":" "},null,null,null,null,null,null,0,null,null,null,0," "," "," "," "]
[{"$f":"IF(COUNTRY_INFO!A36=0,\" \",COUNTRY_INFO!A36)","v":"Burkina Faso"},{"$f":"IF(COUNTRY_INFO!B36=0,\" \",COUNTRY_INFO!B36)","v":"Centre-Ouest"},{"$f":"IF(COUNTRY_INFO!C36=0,\" \",COUNTRY_INFO!C36)","v":"Koudougou"},{"$f":"IF(OR(COUNTRY_INFO!$T$9:$T$1000=\"T1 (PZQ+ALB/MBD)\",COUNTRY_INFO!$U$9:$U$1000=\"T1 (PZQ+ALB/MBD)\"), \"T1 (PZQ+ALB/MBD)\", \" \")","v":" "},null,null,null,null,null,null,0,null,null,null,0," "," "," "," "]
[{"$f":"IF(COUNTRY_INFO!A37=0,\" \",COUNTRY_INFO!A37)","v":"Burkina Faso"},{"$f":"IF(COUNTRY_INFO!B37=0,\" \",COUNTRY_INFO!B37)","v":"Centre-Ouest"},{"$f":"IF(COUNTRY_INFO!C37=0,\" \",COUNTRY_INFO!C37)","v":"Léo"},{"$f":"IF(OR(COUNTRY_INFO!$T$9:$T$1000=\"T1 (PZQ+ALB/MBD)\",COUNTRY_INFO!$U$9:$U$1000=\"T1 (PZQ+ALB/MBD)\"), \"T1 (PZQ+ALB/MBD)\", \" \")","v":" "},null,null,null,null,null,null,0,null,null,null,0," "," "," "," "]
[{"$f":"IF(COUNTRY_INFO!A38=0,\" \",COUNTRY_INFO!A38)","v":"Burkina Faso"},{"$f":"IF(COUNTRY_INFO!B38=0,\" \",COUNTRY_INFO!B38)","v":"Centre-Ouest"},{"$f":"IF(COUNTRY_INFO!C38=0,\" \",COUNTRY_INFO!C38)","v":"Nanoro"},{"$f":"IF(OR(COUNTRY_INFO!$T$9:$T$1000=\"T1 (PZQ+ALB/MBD)\",COUNTRY_INFO!$U$9:$U$1000=\"T1 (PZQ+ALB/MBD)\"), \"T1 (PZQ+ALB/MBD)\", \" \")","v":" "},null,null,null,null,null,null,0,null,null,null,0," "," "," "," "]
[{"$f":"IF(COUNTRY_INFO!A39=0,\" \",COUNTRY_INFO!A39)","v":"Burkina Faso"},{"$f":"IF(COUNTRY_INFO!B39=0,\" \",COUNTRY_INFO!B39)","v":"Centre-Ouest"},{"$f":"IF(COUNTRY_INFO!C39=0,\" \",COUNTRY_INFO!C39)","v":"Réo"},{"$f":"IF(OR(COUNTRY_INFO!$T$9:$T$1000=\"T1 (PZQ+ALB/MBD)\",COUNTRY_INFO!$U$9:$U$1000=\"T1 (PZQ+ALB/MBD)\"), \"T1 (PZQ+ALB/MBD)\", \" \")","v":" "},null,null,null,null,null,null,0,null,null,null,0," "," "," "," "]
[{"$f":"IF(COUNTRY_INFO!A40=0,\" \",COUNTRY_INFO!A40)","v":"Burkina Faso"},{"$f":"IF(COUNTRY_INFO!B40=0,\" \",COUNTRY_INFO!B40)","v":"Centre-Ouest"},{"$f":"IF(COUNTRY_INFO!C40=0,\" \",COUNTRY_INFO!C40)","v":"Sabou"},{"$f":"IF(OR(COUNTRY_INFO!$T$9:$T$1000=\"T1 (PZQ+ALB/MBD)\",COUNTRY_INFO!$U$9:$U$1000=\"T1 (PZQ+ALB/MBD)\"), \"T1 (PZQ+ALB/MBD)\", \" \")","v":" "},null,null,null,null,null,null,0,null,null,null,0," "," "," "," "]
[{"$f":"IF(COUNTRY_INFO!A41=0,\" \",COUNTRY_INFO!A41)","v":"Burkina Faso"},{"$f":"IF(COUNTRY_INFO!B41=0,\" \",COUNTRY_INFO!B41)","v":"Centre-Ouest"},{"$f":"IF(COUNTRY_INFO!C41=0,\" \",COUNTRY_INFO!C41)","v":"Sapouy"},{"$f":"IF(OR(COUNTRY_INFO!$T$9:$T$1000=\"T1 (PZQ+ALB/MBD)\",COUNTRY_INFO!$U$9:$U$1000=\"T1 (PZQ+ALB/MBD)\"), \"T1 (PZQ+ALB/MBD)\", \" \")","v":" "},null,null,null,null,null,null,0,null,null,null,0," "," "," "," "]
[{"$f":"IF(COUNTRY_INFO!A42=0,\" \",COUNTRY_INFO!A42)","v":"Burkina Faso"},{"$f":"IF(COUNTRY_INFO!B42=0,\" \",COUNTRY_INFO!B42)","v":"Centre-Ouest"},{"$f":"IF(COUNTRY_INFO!C42=0,\" \",COUNTRY_INFO!C42)","v":"Tenado"},{"$f":"IF(OR(COUNTRY_INFO!$T$9:$T$1000=\"T1 (PZQ+ALB/MBD)\",COUNTRY_INFO!$U$9:$U$1000=\"T1 (PZQ+ALB/MBD)\"), \"T1 (PZQ+ALB/MBD)\", \" \")","v":" "},null,null,null,null,null,null,0,null,null,null,0," "," "," "," "]
[{"$f":"IF(COUNTRY_INFO!A43=0,\" \",COUNTRY_INFO!A43)","v":"Burkina Faso"},{"$f":"IF(COUNTRY_INFO!B43=0,\" \",COUNTRY_INFO!B43)","v":"Centre-Sud"},{"$f":"IF(COUNTRY_INFO!C43=0,\" \",COUNTRY_INFO!C43)","v":"Kombissiri"},{"$f":"IF(OR(COUNTRY_INFO!$T$9:$T$1000=\"T1 (PZQ+ALB/MBD)\",COUNTRY_INFO!$U$9:$U$1000=\"T1 (PZQ+ALB/MBD)\"), \"T1 (PZQ+ALB/MBD)\", \" \")","v":" "},null,null,null,null,null,null,0,null,null,null,0," "," "," "," "]
[{"$f":"IF(COUNTRY_INFO!A44=0,\" \",COUNTRY_INFO!A44)","v":"Burkina Faso"},{"$f":"IF(COUNTRY_INFO!B44=0,\" \",COUNTRY_INFO!B44)","v":"Centre-Sud"},{"$f":"IF(COUNTRY_INFO!C44=0,\" \",COUNTRY_INFO!C44)","v":"Manga"},{"$f":"IF(OR(COUNTRY_INFO!$T$9:$T$1000=\"T1 (PZQ+ALB/MBD)\",COUNTRY_INFO!$U$9:$U$1000=\"T1 (PZQ+ALB/MBD)\"), \"T1 (PZQ+ALB/MBD)\", \" \")","v":" "},null,null,null,null,null,null,0,null,null,null,0," "," "," "," "]
[{"$f":"IF(COUNTRY_INFO!A45=0,\" \",COUNTRY_INFO!A45)","v":"Burkina Faso"},{"$f":"IF(COUNTRY_INFO!B45=0,\" \",COUNTRY_INFO!B45)","v":"Centre-Sud"},{"$f":"IF(COUNTRY_INFO!C45=0,\" \",COUNTRY_INFO!C45)","v":"Pô"},{"$f":"IF(OR(COUNTRY_INFO!$T$9:$T$1000=\"T1 (PZQ+ALB/MBD)\",COUNTRY_INFO!$U$9:$U$1000=\"T1 (PZQ+ALB/MBD)\"), \"T1 (PZQ+ALB/MBD)\", \" \")","v":" "},null,null,null,null,null,null,0,null,null,null,0," "," "," "," "]
[{"$f":"IF(COUNTRY_INFO!A46=0,\" \",COUNTRY_INFO!A46)","v":"Burkina Faso"},{"$f":"IF(COUNTRY_INFO!B46=0,\" \",COUNTRY_INFO!B46)","v":"Centre-Sud"},{"$f":"IF(COUNTRY_INFO!C46=0,\" \",COUNTRY_INFO!C46)","v":"Saponé"},{"$f":"IF(OR(COUNTRY_INFO!$T$9:$T$1000=\"T1 (PZQ+ALB/MBD)\",COUNTRY_INFO!$U$9:$U$1000=\"T1 (PZQ+ALB/MBD)\"), \"T1 (PZQ+ALB/MBD)\", \" \")","v":" "},null,null,null,null,null,null,0,null,null,null,0," "," "," "," "]
[{"$f":"IF(COUNTRY_INFO!A47=0,\" \",COUNTRY_INFO!A47)","v":"Burkina Faso"},{"$f":"IF(COUNTRY_INFO!B47=0,\" \",COUNTRY_INFO!B47)","v":"Est"},{"$f":"IF(COUNTRY_INFO!C47=0,\" \",COUNTRY_INFO!C47)","v":"Bogandé"},{"$f":"IF(OR(COUNTRY_INFO!$T$9:$T$1000=\"T1 (PZQ+ALB/MBD)\",COUNTRY_INFO!$U$9:$U$1000=\"T1 (PZQ+ALB/MBD)\"), \"T1 (PZQ+ALB/MBD)\", \" \")","v":" "},null,null,null,null,null,null,0,null,null,null,0," "," "," "," "]
[{"$f":"IF(COUNTRY_INFO!A48=0,\" \",COUNTRY_INFO!A48)","v":"Burkina Faso"},{"$f":"IF(COUNTRY_INFO!B48=0,\" \",COUNTRY_INFO!B48)","v":"Est"},{"$f":"IF(COUNTRY_INFO!C48=0,\" \",COUNTRY_INFO!C48)","v":"Diapaga"},{"$f":"IF(OR(COUNTRY_INFO!$T$9:$T$1000=\"T1 (PZQ+ALB/MBD)\",COUNTRY_INFO!$U$9:$U$1000=\"T1 (PZQ+ALB/MBD)\"), \"T1 (PZQ+ALB/MBD)\", \" \")","v":" "},null,null,null,null,null,null,0,null,null,null,0," "," "," "," "]
[{"$f":"IF(COUNTRY_INFO!A49=0,\" \",COUNTRY_INFO!A49)","v":"Burkina Faso"},{"$f":"IF(COUNTRY_INFO!B49=0,\" \",COUNTRY_INFO!B49)","v":"Est"},{"$f":"IF(COUNTRY_INFO!C49=0,\" \",COUNTRY_INFO!C49)","v":"Fada N'gourma"},{"$f":"IF(OR(COUNTRY_INFO!$T$9:$T$1000=\"T1 (PZQ+ALB/MBD)\",COUNTRY_INFO!$U$9:$U$1000=\"T1 (PZQ+ALB/MBD)\"), \"T1 (PZQ+ALB/MBD)\", \" \")","v":" "},null,null,null,null,null,null,0,null,null,null,0," "," "," "," "]
[{"$f":"IF(COUNTRY_INFO!A50=0,\" \",COUNTRY_INFO!A50)","v":"Burkina Faso"},{"$f":"IF(COUNTRY_INFO!B50=0,\" \",COUNTRY_INFO!B50)","v":"Est"},{"$f":"IF(COUNTRY_INFO!C50=0,\" \",COUNTRY_INFO!C50)","v":"Gayeri"},{"$f":"IF(OR(COUNTRY_INFO!$T$9:$T$1000=\"T1 (PZQ+ALB/MBD)\",COUNTRY_INFO!$U$9:$U$1000=\"T1 (PZQ+ALB/MBD)\"), \"T1 (PZQ+ALB/MBD)\", \" \")","v":" "},null,null,null,null,null,null,0,null,null,null,0," "," "," "," "]
[{"$f":"IF(COUNTRY_INFO!A51=0,\" \",COUNTRY_INFO!A51)","v":"Burkina Faso"},{"$f":"IF(COUNTRY_INFO!B51=0,\" \",COUNTRY_INFO!B51)","v":"Est"},{"$f":"IF(COUNTRY_INFO!C51=0,\" \",COUNTRY_INFO!C51)","v":"Manni"},{"$f":"IF(OR(COUNTRY_INFO!$T$9:$T$1000=\"T1 (PZQ+ALB/MBD)\",COUNTRY_INFO!$U$9:$U$1000=\"T1 (PZQ+ALB/MBD)\"), \"T1 (PZQ+ALB/MBD)\", \" \")","v":" "},null,null,null,null,null,null,0,null,null,null,0," "," "," "," "]
[{"$f":"IF(COUNTRY_INFO!A52=0,\" \",COUNTRY_INFO!A52)","v":"Burkina Faso"},{"$f":"IF(COUNTRY_INFO!B52=0,\" \",COUNTRY_INFO!B52)","v":"Est"},{"$f":"IF(COUNTRY_INFO!C52=0,\" \",COUNTRY_INFO!C52)","v":"Pama"},{"$f":"IF(OR(COUNTRY_INFO!$T$9:$T$1000=\"T1 (PZQ+ALB/MBD)\",COUNTRY_INFO!$U$9:$U$1000=\"T1 (PZQ+ALB/MBD)\"), \"T1 (PZQ+ALB/MBD)\", \" \")","v":" "},null,null,null,null,null,null,0,null,null,null,0," "," "," "," "]
[{"$f":"IF(COUNTRY_INFO!A53=0,\" \",COUNTRY_INFO!A53)","v":"Burkina Faso"},{"$f":"IF(COUNTRY_INFO!B53=0,\" \",COUNTRY_INFO!B53)","v":"Hauts-Bassins"},{"$f":"IF(COUNTRY_INFO!C53=0,\" \",COUNTRY_INFO!C53)","v":"Dafra"},{"$f":"IF(OR(COUNTRY_INFO!$T$9:$T$1000=\"T1 (PZQ+ALB/MBD)\",COUNTRY_INFO!$U$9:$U$1000=\"T1 (PZQ+ALB/MBD)\"), \"T1 (PZQ+ALB/MBD)\", \" \")","v":" "},null,null,null,null,null,null,0,null,null,null,0," "," "," "," "]
[{"$f":"IF(COUNTRY_INFO!A54=0,\" \",COUNTRY_INFO!A54)","v":"Burkina Faso"},{"$f":"IF(COUNTRY_INFO!B54=0,\" \",COUNTRY_INFO!B54)","v":"Hauts-Bassins"},{"$f":"IF(COUNTRY_INFO!C54=0,\" \",COUNTRY_INFO!C54)","v":"Dandé"},{"$f":"IF(OR(COUNTRY_INFO!$T$9:$T$1000=\"T1 (PZQ+ALB/MBD)\",COUNTRY_INFO!$U$9:$U$1000=\"T1 (PZQ+ALB/MBD)\"), \"T1 (PZQ+ALB/MBD)\", \" \")","v":" "},null,null,null,null,null,null,0,null,null,null,0," "," "," "," "]
[{"$f":"IF(COUNTRY_INFO!A55=0,\" \",COUNTRY_INFO!A55)","v":"Burkina Faso"},{"$f":"IF(COUNTRY_INFO!B55=0,\" \",COUNTRY_INFO!B55)","v":"Hauts-Bassins"},{"$f":"IF(COUNTRY_INFO!C55=0,\" \",COUNTRY_INFO!C55)","v":"Dô"},{"$f":"IF(OR(COUNTRY_INFO!$T$9:$T$1000=\"T1 (PZQ+ALB/MBD)\",COUNTRY_INFO!$U$9:$U$1000=\"T1 (PZQ+ALB/MBD)\"), \"T1 (PZQ+ALB/MBD)\", \" \")","v":" "},null,null,null,null,null,null,0,null,null,null,0," "," "," "," "]
[{"$f":"IF(COUNTRY_INFO!A56=0,\" \",COUNTRY_INFO!A56)","v":"Burkina Faso"},{"$f":"IF(COUNTRY_INFO!B56=0,\" \",COUNTRY_INFO!B56)","v":"Hauts-Bassins"},{"$f":"IF(COUNTRY_INFO!C56=0,\" \",COUNTRY_INFO!C56)","v":"Houndé"},{"$f":"IF(OR(COUNTRY_INFO!$T$9:$T$1000=\"T1 (PZQ+ALB/MBD)\",COUNTRY_INFO!$U$9:$U$1000=\"T1 (PZQ+ALB/MBD)\"), \"T1 (PZQ+ALB/MBD)\", \" \")","v":" "},null,null,null,null,null,null,0,null,null,null,0," "," "," "," "]
[{"$f":"IF(COUNTRY_INFO!A57=0,\" \",COUNTRY_INFO!A57)","v":"Burkina Faso"},{"$f":"IF(COUNTRY_INFO!B57=0,\" \",COUNTRY_INFO!B57)","v":"Hauts-Bassins"},{"$f":"IF(COUNTRY_INFO!C57=0,\" \",COUNTRY_INFO!C57)","v":"Karangasso-Vigué"},{"$f":"IF(OR(COUNTRY_INFO!$T$9:$T$1000=\"T1 (PZQ+ALB/MBD)\",COUNTRY_INFO!$U$9:$U$1000=\"T1 (PZQ+ALB/MBD)\"), \"T1 (PZQ+ALB/MBD)\", \" \")","v":" "},null,null,null,null,null,null,0,null,null,null,0," "," "," "," "]
[{"$f":"IF(COUNTRY_INFO!A58=0,\" \",COUNTRY_INFO!A58)","v":"Burkina Faso"},{"$f":"IF(COUNTRY_INFO!B58=0,\" \",COUNTRY_INFO!B58)","v":"Hauts-Bassins"},{"$f":"IF(COUNTRY_INFO!C58=0,\" \",COUNTRY_INFO!C58)","v":"Lena"},{"$f":"IF(OR(COUNTRY_INFO!$T$9:$T$1000=\"T1 (PZQ+ALB/MBD)\",COUNTRY_INFO!$U$9:$U$1000=\"T1 (PZQ+ALB/MBD)\"), \"T1 (PZQ+ALB/MBD)\", \" \")","v":" "},null,null,null,null,null,null,0,null,null,null,0," "," "," "," "]
[{"$f":"IF(COUNTRY_INFO!A59=0,\" \",COUNTRY_INFO!A59)","v":"Burkina Faso"},{"$f":"IF(COUNTRY_INFO!B59=0,\" \",COUNTRY_INFO!B59)","v":"Hauts-Bassins"},{"$f":"IF(COUNTRY_INFO!C59=0,\" \",COUNTRY_INFO!C59)","v":"N'Dorola"},{"$f":"IF(OR(COUNTRY_INFO!$T$9:$T$1000=\"T1 (PZQ+ALB/MBD)\",COUNTRY_INFO!$U$9:$U$1000=\"T1 (PZQ+ALB/MBD)\"), \"T1 (PZQ+ALB/MBD)\", \" \")","v":" "},null,null,null,null,null,null,0,null,null,null,0," "," "," "," "]
[{"$f":"IF(COUNTRY_INFO!A60=0,\" \",COUNTRY_INFO!A60)","v":"Burkina Faso"},{"$f":"IF(COUNTRY_INFO!B60=0,\" \",COUNTRY_INFO!B60)","v":"Hauts-Bassins"},{"$f":"IF(COUNTRY_INFO!C60=0,\" \",COUNTRY_INFO!C60)","v":"Orodara"},{"$f":"IF(OR(COUNTRY_INFO!$T$9:$T$1000=\"T1 (PZQ+ALB/MBD)\",COUNTRY_INFO!$U$9:$U$1000=\"T1 (PZQ+ALB/MBD)\"), \"T1 (PZQ+ALB/MBD)\", \" \")","v":" "},null,null,null,null,null,null,0,null,null,null,0," "," "," "," "]
[{"$f":"IF(COUNTRY_INFO!A61=0,\" \",COUNTRY_INFO!A61)","v":"Burkina Faso"},{"$f":"IF(COUNTRY_INFO!B61=0,\" \",COUNTRY_INFO!B61)","v":"Nord"},{"$f":"IF(COUNTRY_INFO!C61=0,\" \",COUNTRY_INFO!C61)","v":"Gourcy"},{"$f":"IF(OR(COUNTRY_INFO!$T$9:$T$1000=\"T1 (PZQ+ALB/MBD)\",COUNTRY_INFO!$U$9:$U$1000=\"T1 (PZQ+ALB/MBD)\"), \"T1 (PZQ+ALB/MBD)\", \" \")","v":"T1 (PZQ+ALB/MBD)"},"PZQ+ALB","15-19/05/17",null,68781,68781,null,68781,null,70330,null,70330," ",102.2520754278071," ",102.2520754278071]
[{"$f":"IF(COUNTRY_INFO!A62=0,\" \",COUNTRY_INFO!A62)","v":"Burkina Faso"},{"$f":"IF(COUNTRY_INFO!B62=0,\" \",COUNTRY_INFO!B62)","v":"Nord"},{"$f":"IF(COUNTRY_INFO!C62=0,\" \",COUNTRY_INFO!C62)","v":"Ouahigouya"},{"$f":"IF(OR(COUNTRY_INFO!$T$9:$T$1000=\"T1 (PZQ+ALB/MBD)\",COUNTRY_INFO!$U$9:$U$1000=\"T1 (PZQ+ALB/MBD)\"), \"T1 (PZQ+ALB/MBD)\", \" \")","v":"T1 (PZQ+ALB/MBD)"},"PZQ+ALB","15-19/05/17",null,101791,101791,null,101791,null,110349,null,110349," ",108.40742305311863," ",108.40742305311863]
[{"$f":"IF(COUNTRY_INFO!A63=0,\" \",COUNTRY_INFO!A63)","v":"Burkina Faso"},{"$f":"IF(COUNTRY_INFO!B63=0,\" \",COUNTRY_INFO!B63)","v":"Nord"},{"$f":"IF(COUNTRY_INFO!C63=0,\" \",COUNTRY_INFO!C63)","v":"Seguenega"},{"$f":"IF(OR(COUNTRY_INFO!$T$9:$T$1000=\"T1 (PZQ+ALB/MBD)\",COUNTRY_INFO!$U$9:$U$1000=\"T1 (PZQ+ALB/MBD)\"), \"T1 (PZQ+ALB/MBD)\", \" \")","v":"T1 (PZQ+ALB/MBD)"},"PZQ+ALB","15-19/05/17",null,67116,67116,null,67116,null,72194,null,72194," ",107.56600512545444," ",107.56600512545444]
[{"$f":"IF(COUNTRY_INFO!A64=0,\" \",COUNTRY_INFO!A64)","v":"Burkina Faso"},{"$f":"IF(COUNTRY_INFO!B64=0,\" \",COUNTRY_INFO!B64)","v":"Nord"},{"$f":"IF(COUNTRY_INFO!C64=0,\" \",COUNTRY_INFO!C64)","v":"Thiou"},{"$f":"IF(OR(COUNTRY_INFO!$T$9:$T$1000=\"T1 (PZQ+ALB/MBD)\",COUNTRY_INFO!$U$9:$U$1000=\"T1 (PZQ+ALB/MBD)\"), \"T1 (PZQ+ALB/MBD)\", \" \")","v":"T1 (PZQ+ALB/MBD)"},"PZQ+ALB","15-19/05/17",null,54816,54816,null,54816,null,56726,null,56726," ",103.4843841214244," ",103.4843841214244]
[{"$f":"IF(COUNTRY_INFO!A65=0,\" \",COUNTRY_INFO!A65)","v":"Burkina Faso"},{"$f":"IF(COUNTRY_INFO!B65=0,\" \",COUNTRY_INFO!B65)","v":"Nord"},{"$f":"IF(COUNTRY_INFO!C65=0,\" \",COUNTRY_INFO!C65)","v":"Titao"},{"$f":"IF(OR(COUNTRY_INFO!$T$9:$T$1000=\"T1 (PZQ+ALB/MBD)\",COUNTRY_INFO!$U$9:$U$1000=\"T1 (PZQ+ALB/MBD)\"), \"T1 (PZQ+ALB/MBD)\", \" \")","v":"T1 (PZQ+ALB/MBD)"},"PZQ+ALB","15-19/05/17",null,58556,58556,null,58556,null,60345,null,60345," ",103.05519502698273," ",103.05519502698273]
[{"$f":"IF(COUNTRY_INFO!A66=0,\" \",COUNTRY_INFO!A66)","v":"Burkina Faso"},{"$f":"IF(COUNTRY_INFO!B66=0,\" \",COUNTRY_INFO!B66)","v":"Nord"},{"$f":"IF(COUNTRY_INFO!C66=0,\" \",COUNTRY_INFO!C66)","v":"Yako"},{"$f":"IF(OR(COUNTRY_INFO!$T$9:$T$1000=\"T1 (PZQ+ALB/MBD)\",COUNTRY_INFO!$U$9:$U$1000=\"T1 (PZQ+ALB/MBD)\"), \"T1 (PZQ+ALB/MBD)\", \" \")","v":"T1 (PZQ+ALB/MBD)"},"PZQ+ALB","15-19/05/17",null,128127,128127,null,128127,null,141572,null,141572," ",110.49349473569193," ",110.49349473569193]
[{"$f":"IF(COUNTRY_INFO!A67=0,\" \",COUNTRY_INFO!A67)","v":"Burkina Faso"},{"$f":"IF(COUNTRY_INFO!B67=0,\" \",COUNTRY_INFO!B67)","v":"Plateau Central"},{"$f":"IF(COUNTRY_INFO!C67=0,\" \",COUNTRY_INFO!C67)","v":"Boussé"},{"$f":"IF(OR(COUNTRY_INFO!$T$9:$T$1000=\"T1 (PZQ+ALB/MBD)\",COUNTRY_INFO!$U$9:$U$1000=\"T1 (PZQ+ALB/MBD)\"), \"T1 (PZQ+ALB/MBD)\", \" \")","v":" "},null,null,null,null,null,null,0,null,null,null,0," "," "," "," "]
[{"$f":"IF(COUNTRY_INFO!A68=0,\" \",COUNTRY_INFO!A68)","v":"Burkina Faso"},{"$f":"IF(COUNTRY_INFO!B68=0,\" \",COUNTRY_INFO!B68)","v":"Plateau Central"},{"$f":"IF(COUNTRY_INFO!C68=0,\" \",COUNTRY_INFO!C68)","v":"Ziniaré"},{"$f":"IF(OR(COUNTRY_INFO!$T$9:$T$1000=\"T1 (PZQ+ALB/MBD)\",COUNTRY_INFO!$U$9:$U$1000=\"T1 (PZQ+ALB/MBD)\"), \"T1 (PZQ+ALB/MBD)\", \" \")","v":" "},null,null,null,null,null,null,0,null,null,null,0," "," "," "," "]
[{"$f":"IF(COUNTRY_INFO!A69=0,\" \",COUNTRY_INFO!A69)","v":"Burkina Faso"},{"$f":"IF(COUNTRY_INFO!B69=0,\" \",COUNTRY_INFO!B69)","v":"Plateau Central"},{"$f":"IF(COUNTRY_INFO!C69=0,\" \",COUNTRY_INFO!C69)","v":"Zorgho"},{"$f":"IF(OR(COUNTRY_INFO!$T$9:$T$1000=\"T1 (PZQ+ALB/MBD)\",COUNTRY_INFO!$U$9:$U$1000=\"T1 (PZQ+ALB/MBD)\"), \"T1 (PZQ+ALB/MBD)\", \" \")","v":" "},null,null,null,null,null,null,0,null,null,null,0," "," "," "," "]
[{"$f":"IF(COUNTRY_INFO!A70=0,\" \",COUNTRY_INFO!A70)","v":"Burkina Faso"},{"$f":"IF(COUNTRY_INFO!B70=0,\" \",COUNTRY_INFO!B70)","v":"Sahel"},{"$f":"IF(COUNTRY_INFO!C70=0,\" \",COUNTRY_INFO!C70)","v":"Djibo"},{"$f":"IF(OR(COUNTRY_INFO!$T$9:$T$1000=\"T1 (PZQ+ALB/MBD)\",COUNTRY_INFO!$U$9:$U$1000=\"T1 (PZQ+ALB/MBD)\"), \"T1 (PZQ+ALB/MBD)\", \" \")","v":"T1 (PZQ+ALB/MBD)"},"PZQ+ALB","15-19/05/17",null,143572,143572,251024,394596,null,142853,240965,383818," ",99.499205973309557,95.992813436165463,97.26859876937425]
[{"$f":"IF(COUNTRY_INFO!A71=0,\" \",COUNTRY_INFO!A71)","v":"Burkina Faso"},{"$f":"IF(COUNTRY_INFO!B71=0,\" \",COUNTRY_INFO!B71)","v":"Sahel"},{"$f":"IF(COUNTRY_INFO!C71=0,\" \",COUNTRY_INFO!C71)","v":"Dori"},{"$f":"IF(OR(COUNTRY_INFO!$T$9:$T$1000=\"T1 (PZQ+ALB/MBD)\",COUNTRY_INFO!$U$9:$U$1000=\"T1 (PZQ+ALB/MBD)\"), \"T1 (PZQ+ALB/MBD)\", \" \")","v":"T1 (PZQ+ALB/MBD)"},"PZQ+ALB","15-19/05/17",null,107555,107555,188107,295662,null,104390,170271,274661," ",97.057319510947892,90.518162535152868,92.896956659969831]
[{"$f":"IF(COUNTRY_INFO!A72=0,\" \",COUNTRY_INFO!A72)","v":"Burkina Faso"},{"$f":"IF(COUNTRY_INFO!B72=0,\" \",COUNTRY_INFO!B72)","v":"Sahel"},{"$f":"IF(COUNTRY_INFO!C72=0,\" \",COUNTRY_INFO!C72)","v":"Gorom-Gorom"},{"$f":"IF(OR(COUNTRY_INFO!$T$9:$T$1000=\"T1 (PZQ+ALB/MBD)\",COUNTRY_INFO!$U$9:$U$1000=\"T1 (PZQ+ALB/MBD)\"), \"T1 (PZQ+ALB/MBD)\", \" \")","v":"T1 (PZQ+ALB/MBD)"},"PZQ+ALB","15-19/05/17",null,82446,82446,144150,226596,null,84011,144229,228240," ",101.89821216311283,100.05480402358656,100.72552030927288]
[{"$f":"IF(COUNTRY_INFO!A73=0,\" \",COUNTRY_INFO!A73)","v":"Burkina Faso"},{"$f":"IF(COUNTRY_INFO!B73=0,\" \",COUNTRY_INFO!B73)","v":"Sahel"},{"$f":"IF(COUNTRY_INFO!C73=0,\" \",COUNTRY_INFO!C73)","v":"Sebba"},{"$f":"IF(OR(COUNTRY_INFO!$T$9:$T$1000=\"T1 (PZQ+ALB/MBD)\",COUNTRY_INFO!$U$9:$U$1000=\"T1 (PZQ+ALB/MBD)\"), \"T1 (PZQ+ALB/MBD)\", \" \")","v":" "},null,null,null,null,null,null,0,null,null,null,0," "," "," "," "]
[{"$f":"IF(COUNTRY_INFO!A74=0,\" \",COUNTRY_INFO!A74)","v":"Burkina Faso"},{"$f":"IF(COUNTRY_INFO!B74=0,\" \",COUNTRY_INFO!B74)","v":"Sud-Ouest"},{"$f":"IF(COUNTRY_INFO!C74=0,\" \",COUNTRY_INFO!C74)","v":"Batié"},{"$f":"IF(OR(COUNTRY_INFO!$T$9:$T$1000=\"T1 (PZQ+ALB/MBD)\",COUNTRY_INFO!$U$9:$U$1000=\"T1 (PZQ+ALB/MBD)\"), \"T1 (PZQ+ALB/MBD)\", \" \")","v":" "},null,null,null,null,null,null,{"$f":"MAX(H74:I74)+G74+J74","v":0},null,null,null,{"$f":"SUM(L74:N74)","v":0},{"$f":"IF(G74<>0, IF(L74/G74*100=0, \"-\", L74/G74*100), \" \")","v":" "},{"$f":"IF(OR(I74<>0,H74<>0), IF(M74/MAX(H74,I74)*100=0, \"-\", M74/MAX(H74,I74)*100), \" \")","v":" "},{"$f":"IF(J74<>0, IF(N74/J74*100=0, \"-\", N74/J74*100), \" \")","v":" "},{"$f":"IF(K74<>0, IF(O74/K74*100=0, \"-\", O74/K74*100), \" \")","v":" "}]
[{"$f":"IF(COUNTRY_INFO!A75=0,\" \",COUNTRY_INFO!A75)","v":"Burkina Faso"},{"$f":"IF(COUNTRY_INFO!B75=0,\" \",COUNTRY_INFO!B75)","v":"Sud-Ouest"},{"$f":"IF(COUNTRY_INFO!C75=0,\" \",COUNTRY_INFO!C75)","v":"Dano"},{"$f":"IF(OR(COUNTRY_INFO!$T$9:$T$1000=\"T1 (PZQ+ALB/MBD)\",COUNTRY_INFO!$U$9:$U$1000=\"T1 (PZQ+ALB/MBD)\"), \"T1 (PZQ+ALB/MBD)\", \" \")","v":"T1 (PZQ+ALB/MBD)"},"PZQ+ALB","15-19/05/17",null,73100,73100,null,73100,null,74072,null,74072," ",101.3296853625171," ",101.3296853625171]
[{"$f":"IF(COUNTRY_INFO!A76=0,\" \",COUNTRY_INFO!A76)","v":"Burkina Faso"},{"$f":"IF(COUNTRY_INFO!B76=0,\" \",COUNTRY_INFO!B76)","v":"Sud-Ouest"},{"$f":"IF(COUNTRY_INFO!C76=0,\" \",COUNTRY_INFO!C76)","v":"Diébougou"},{"$f":"IF(OR(COUNTRY_INFO!$T$9:$T$1000=\"T1 (PZQ+ALB/MBD)\",COUNTRY_INFO!$U$9:$U$1000=\"T1 (PZQ+ALB/MBD)\"), \"T1 (PZQ+ALB/MBD)\", \" \")","v":" "},null,null,null,null,null,null,0,null,null,null,0," "," "," "," "]
[{"$f":"IF(COUNTRY_INFO!A77=0,\" \",COUNTRY_INFO!A77)","v":"Burkina Faso"},{"$f":"IF(COUNTRY_INFO!B77=0,\" \",COUNTRY_INFO!B77)","v":"Sud-Ouest"},{"$f":"IF(COUNTRY_INFO!C77=0,\" \",COUNTRY_INFO!C77)","v":"Gaoua"},{"$f":"IF(OR(COUNTRY_INFO!$T$9:$T$1000=\"T1 (PZQ+ALB/MBD)\",COUNTRY_INFO!$U$9:$U$1000=\"T1 (PZQ+ALB/MBD)\"), \"T1 (PZQ+ALB/MBD)\", \" \")","v":" "},null,null,null,null,null,null,0,null,null,null,0," "," "," "," "]
[{"$f":"IF(COUNTRY_INFO!A78=0,\" \",COUNTRY_INFO!A78)","v":"Burkina Faso"},{"$f":"IF(COUNTRY_INFO!B78=0,\" \",COUNTRY_INFO!B78)","v":"Sud-Ouest"},{"$f":"IF(COUNTRY_INFO!C78=0,\" \",COUNTRY_INFO!C78)","v":"Kampti"},{"$f":"IF(OR(COUNTRY_INFO!$T$9:$T$1000=\"T1 (PZQ+ALB/MBD)\",COUNTRY_INFO!$U$9:$U$1000=\"T1 (PZQ+ALB/MBD)\"), \"T1 (PZQ+ALB/MBD)\", \" \")","v":" "},null,null,null,null,null,null,0,null,null,null,0," "," "," "," "]

{"sheet":"T2","index":6,"n_rows":78,"n_cols":17,"rows_kept":78,"cut":false,"hidden":false,"merged":[[5,5,5,8],[5,9,5,12],[5,13,5,16],[3,0,3,2],[5,0,5,2],[5,3,6,3],[5,4,6,4]]}
["T 2 - Praziquantel (PZQ) "]
["Structure administrative, population nécessitant une chimioprévention par groupe d'âge, population traitée par groupe d'âge et couverture"]
[]
["TOTAL",null,null,null,null,{"$f":"SUM(F$9:F$1000)","v":0},703588,911218,1614806,0,797452,777538,1574990,{"$f":"IF(F4<>0, IF(J4/F4*100=0, \"-\", J4/F4*100), \" \")","v":" "},{"$f":"IF(G4<>0, IF(K4/G4*100=0, \"-\", K4/G4*100), \" \")","v":113.34076192317096},{"$f":"IF(H4<>0, IF(L4/H4*100=0, \"-\", L4/H4*100), \" \")","v":85.329525975123417},{"$f":"IF(I4<>0, IF(M4/I4*100=0, \"-\", M4/I4*100), \" \")","v":97.534316815766104}]
[]
["Structure administrative du pays",null,null,"Mise en oeuvre \nde la CP","Date","Population ciblée pour T2",null,null,null,"Population traitée",null,null,null,"Couverture du Programme (%)"]
["Pays","Région/Département","District",null,null,"EAPréS","EAS","Adultes","Total","EAPréS","EAS","Adultes","Total","EAPréS","EAS","Adultes","Total"]
[]
[{"$f":"IF(COUNTRY_INFO!A9=0,\" \",COUNTRY_INFO!A9)","v":"Burkina Faso"},{"$f":"IF(COUNTRY_INFO!B9=0,\" \",COUNTRY_INFO!B9)","v":"Boucle du Mouhoun"},{"$f":"IF(COUNTRY_INFO!C9=0,\" \",COUNTRY_INFO!C9)","v":"Boromo"},{"$f":"IF(OR(COUNTRY_INFO!$T$9:$T$1000=\"T2 (PZQ)\",COUNTRY_INFO!$U$9:$U$1000=\"T2 (PZQ)\"), \"T2 (PZQ)\", \" \")","v":" "},null,null,null,null,{"$f":"SUM(F9:H9)","v":0},null,null,null,{"$f":"SUM(J9:L9)","v":0},{"$f":"IF(F9<>0, IF(J9/F9*100=0, \"-\", J9/F9*100), \" \")","v":" "}," "," "," "]
[{"$f":"IF(COUNTRY_INFO!A10=0,\" \",COUNTRY_INFO!A10)","v":"Burkina Faso"},{"$f":"IF(COUNTRY_INFO!B10=0,\" \",COUNTRY_INFO!B10)","v":"Boucle du Mouhoun"},{"$f":"IF(COUNTRY_INFO!C10=0,\" \",COUNTRY_INFO!C10)","v":"Dédougou"},{"$f":"IF(OR(COUNTRY_INFO!$T$9:$T$1000=\"T2 (PZQ)\",COUNTRY_INFO!$U$9:$U$1000=\"T2 (PZQ)\"), \"T2 (PZQ)\", \" \")","v":" "},null,null,null,null,{"$f":"SUM(F10:H10)","v":0},null,null,null,{"$f":"SUM(J10:L10)","v":0},{"$f":"IF(F10<>0, IF(J10/F10*100=0, \"-\", J10/F10*100), \" \")","v":" "},{"$f":"IF(G10<>0, IF(K10/G10*100=0, \"-\", K10/G10*100), \" \")","v":" "},{"$f":"IF(H10<>0, IF(L10/H10*100=0, \"-\", L10/H10*100), \" \")","v":" "},{"$f":"IF(I10<>0, IF(M10/I10*100=0, \"-\", M10/I10*100), \" \")","v":" "}]
[{"$f":"IF(COUNTRY_INFO!A11=0,\" \",COUNTRY_INFO!A11)","v":"Burkina Faso"},{"$f":"IF(COUNTRY_INFO!B11=0,\" \",COUNTRY_INFO!B11)","v":"Boucle du Mouhoun"},{"$f":"IF(COUNTRY_INFO!C11=0,\" \",COUNTRY_INFO!C11)","v":"Nouna"},{"$f":"IF(OR(COUNTRY_INFO!$T$9:$T$1000=\"T2 (PZQ)\",COUNTRY_INFO!$U$9:$U$1000=\"T2 (PZQ)\"), \"T2 (PZQ)\", \" \")","v":" "},null,null,null,null,0,null,null,null,0," "," "," "," "]
[{"$f":"IF(COUNTRY_INFO!A12=0,\" \",COUNTRY_INFO!A12)","v":"Burkina Faso"},{"$f":"IF(COUNTRY_INFO!B12=0,\" \",COUNTRY_INFO!B12)","v":"Boucle du Mouhoun"},{"$f":"IF(COUNTRY_INFO!C12=0,\" \",COUNTRY_INFO!C12)","v":"Solenzo"},{"$f":"IF(OR(COUNTRY_INFO!$T$9:$T$1000=\"T2 (PZQ)\",COUNTRY_INFO!$U$9:$U$1000=\"T2 (PZQ)\"), \"T2 (PZQ)\", \" \")","v":" "},null,null,null,null,0,null,null,null,0," "," "," "," "]
[{"$f":"IF(COUNTRY_INFO!A13=0,\" \",COUNTRY_INFO!A13)","v":"Burkina Faso"},{"$f":"IF(COUNTRY_INFO!B13=0,\" \",COUNTRY_INFO!B13)","v":"Boucle du Mouhoun"},{"$f":"IF(COUNTRY_INFO!C13=0,\" \",COUNTRY_INFO!C13)","v":"Toma"},{"$f":"IF(OR(COUNTRY_INFO!$T$9:$T$1000=\"T2 (PZQ)\",COUNTRY_INFO!$U$9:$U$1000=\"T2 (PZQ)\"), \"T2 (PZQ)\", \" \")","v":" "},null,null,null,null,0,null,null,null,0," "," "," "," "]
[{"$f":"IF(COUNTRY_INFO!A14=0,\" \",COUNTRY_INFO!A14)","v":"Burkina Faso"},{"$f":"IF(COUNTRY_INFO!B14=0,\" \",COUNTRY_INFO!B14)","v":"Boucle du Mouhoun"},{"$f":"IF(COUNTRY_INFO!C14=0,\" \",COUNTRY_INFO!C14)","v":"Tougan"},{"$f":"IF(OR(COUNTRY_INFO!$T$9:$T$1000=\"T2 (PZQ)\",COUNTRY_INFO!$U$9:$U$1000=\"T2 (PZQ)\"), \"T2 (PZQ)\", \" \")","v":" "},null,null,null,null,0,null,null,null,0," "," "," "," "]
[{"$f":"IF(COUNTRY_INFO!A15=0,\" \",COUNTRY_INFO!A15)","v":"Burkina Faso"},{"$f":"IF(COUNTRY_INFO!B15=0,\" \",COUNTRY_INFO!B15)","v":"Cascades"},{"$f":"IF(COUNTRY_INFO!C15=0,\" \",COUNTRY_INFO!C15)","v":"Banfora"},{"$f":"IF(OR(COUNTRY_INFO!$T$9:$T$1000=\"T2 (PZQ)\",COUNTRY_INFO!$U$9:$U$1000=\"T2 (PZQ)\"), \"T2 (PZQ)\", \" \")","v":" "},null,null,null,null,0,null,null,null,0," "," "," "," "]
[{"$f":"IF(COUNTRY_INFO!A16=0,\" \",COUNTRY_INFO!A16)","v":"Burkina Faso"},{"$f":"IF(COUNTRY_INFO!B16=0,\" \",COUNTRY_INFO!B16)","v":"Cascades"},{"$f":"IF(COUNTRY_INFO!C16=0,\" \",COUNTRY_INFO!C16)","v":"Mangodara"},{"$f":"IF(OR(COUNTRY_INFO!$T$9:$T$1000=\"T2 (PZQ)\",COUNTRY_INFO!$U$9:$U$1000=\"T2 (PZQ)\"), \"T2 (PZQ)\", \" \")","v":" "},null,null,null,null,0,null,null,null,0," "," "," "," "]
[{"$f":"IF(COUNTRY_INFO!A17=0,\" \",COUNTRY_INFO!A17)","v":"Burkina Faso"},{"$f":"IF(COUNTRY_INFO!B17=0,\" \",COUNTRY_INFO!B17)","v":"Cascades"},{"$f":"IF(COUNTRY_INFO!C17=0,\" \",COUNTRY_INFO!C17)","v":"Sindou"},{"$f":"IF(OR(COUNTRY_INFO!$T$9:$T$1000=\"T2 (PZQ)\",COUNTRY_INFO!$U$9:$U$1000=\"T2 (PZQ)\"), \"T2 (PZQ)\", \" \")","v":" "},null,null,null,null,0,null,null,null,0," "," "," "," "]
[{"$f":"IF(COUNTRY_INFO!A18=0,\" \",COUNTRY_INFO!A18)","v":"Burkina Faso"},{"$f":"IF(COUNTRY_INFO!B18=0,\" \",COUNTRY_INFO!B18)","v":"Centre"},{"$f":"IF(COUNTRY_INFO!C18=0,\" \",COUNTRY_INFO!C18)","v":"Baskuy"},{"$f":"IF(OR(COUNTRY_INFO!$T$9:$T$1000=\"T2 (PZQ)\",COUNTRY_INFO!$U$9:$U$1000=\"T2 (PZQ)\"), \"T2 (PZQ)\", \" \")","v":" "},null,null,null,null,0,null,null,null,0," "," "," "," "]
[{"$f":"IF(COUNTRY_INFO!A19=0,\" \",COUNTRY_INFO!A19)","v":"Burkina Faso"},{"$f":"IF(COUNTRY_INFO!B19=0,\" \",COUNTRY_INFO!B19)","v":"Centre"},{"$f":"IF(COUNTRY_INFO!C19=0,\" \",COUNTRY_INFO!C19)","v":"Bogodogo"},{"$f":"IF(OR(COUNTRY_INFO!$T$9:$T$1000=\"T2 (PZQ)\",COUNTRY_INFO!$U$9:$U$1000=\"T2 (PZQ)\"), \"T2 (PZQ)\", \" \")","v":" "},null,null,null,null,0,null,null,null,0," "," "," "," "]
[{"$f":"IF(COUNTRY_INFO!A20=0,\" \",COUNTRY_INFO!A20)","v":"Burkina Faso"},{"$f":"IF(COUNTRY_INFO!B20=0,\" \",COUNTRY_INFO!B20)","v":"Centre"},{"$f":"IF(COUNTRY_INFO!C20=0,\" \",COUNTRY_INFO!C20)","v":"Boulmiougou"},{"$f":"IF(OR(COUNTRY_INFO!$T$9:$T$1000=\"T2 (PZQ)\",COUNTRY_INFO!$U$9:$U$1000=\"T2 (PZQ)\"), \"T2 (PZQ)\", \" \")","v":" "},null,null,null,null,0,null,null,null,0," "," "," "," "]
[{"$f":"IF(COUNTRY_INFO!A21=0,\" \",COUNTRY_INFO!A21)","v":"Burkina Faso"},{"$f":"IF(COUNTRY_INFO!B21=0,\" \",COUNTRY_INFO!B21)","v":"Centre"},{"$f":"IF(COUNTRY_INFO!C21=0,\" \",COUNTRY_INFO!C21)","v":"Nongre-Massom"},{"$f":"IF(OR(COUNTRY_INFO!$T$9:$T$1000=\"T2 (PZQ)\",COUNTRY_INFO!$U$9:$U$1000=\"T2 (PZQ)\"), \"T2 (PZQ)\", \" \")","v":" "},null,null,null,null,0,null,null,null,0," "," "," "," "]
[{"$f":"IF(COUNTRY_INFO!A22=0,\" \",COUNTRY_INFO!A22)","v":"Burkina Faso"},{"$f":"IF(COUNTRY_INFO!B22=0,\" \",COUNTRY_INFO!B22)","v":"Centre"},{"$f":"IF(COUNTRY_INFO!C22=0,\" \",COUNTRY_INFO!C22)","v":"Sig-Nonghin"},{"$f":"IF(OR(COUNTRY_INFO!$T$9:$T$1000=\"T2 (PZQ)\",COUNTRY_INFO!$U$9:$U$1000=\"T2 (PZQ)\"), \"T2 (PZQ)\", \" \")","v":" "},null,null,null,null,0,null,null,null,0," "," "," "," "]
[{"$f":"IF(COUNTRY_INFO!A23=0,\" \",COUNTRY_INFO!A23)","v":"Burkina Faso"},{"$f":"IF(COUNTRY_INFO!B23=0,\" \",COUNTRY_INFO!B23)","v":"Centre-Est"},{"$f":"IF(COUNTRY_INFO!C23=0,\" \",COUNTRY_INFO!C23)","v":"Bittou"},{"$f":"IF(OR(COUNTRY_INFO!$T$9:$T$1000=\"T2 (PZQ)\",COUNTRY_INFO!$U$9:$U$1000=\"T2 (PZQ)\"), \"T2 (PZQ)\", \" \")","v":"T2 (PZQ)"},"17-21/02/2017",null,38638,65214,103852,null,47437,59288,106725," ",122.77291785289093,90.912994142362066,102.76643685244386]
[{"$f":"IF(COUNTRY_INFO!A24=0,\" \",COUNTRY_INFO!A24)","v":"Burkina Faso"},{"$f":"IF(COUNTRY_INFO!B24=0,\" \",COUNTRY_INFO!B24)","v":"Centre-Est"},{"$f":"IF(COUNTRY_INFO!C24=0,\" \",COUNTRY_INFO!C24)","v":"Garango"},{"$f":"IF(OR(COUNTRY_INFO!$T$9:$T$1000=\"T2 (PZQ)\",COUNTRY_INFO!$U$9:$U$1000=\"T2 (PZQ)\"), \"T2 (PZQ)\", \" \")","v":"T2 (PZQ)"},"17-21/02/2017",null,64544,114317,178861,null,74495,92806,167301," ",115.41738968765493,81.183026146592368,93.536880594428069]
[{"$f":"IF(COUNTRY_INFO!A25=0,\" \",COUNTRY_INFO!A25)","v":"Burkina Faso"},{"$f":"IF(COUNTRY_INFO!B25=0,\" \",COUNTRY_INFO!B25)","v":"Centre-Est"},{"$f":"IF(COUNTRY_INFO!C25=0,\" \",COUNTRY_INFO!C25)","v":"Koupela"},{"$f":"IF(OR(COUNTRY_INFO!$T$9:$T$1000=\"T2 (PZQ)\",COUNTRY_INFO!$U$9:$U$1000=\"T2 (PZQ)\"), \"T2 (PZQ)\", \" \")","v":"T2 (PZQ)"},"17-21/02/2017",null,75121,122837,197958,null,77223,102007,179230," ",102.79815231426632,83.042568607178623,90.539407349033624]
[{"$f":"IF(COUNTRY_INFO!A26=0,\" \",COUNTRY_INFO!A26)","v":"Burkina Faso"},{"$f":"IF(COUNTRY_INFO!B26=0,\" \",COUNTRY_INFO!B26)","v":"Centre-Est"},{"$f":"IF(COUNTRY_INFO!C26=0,\" \",COUNTRY_INFO!C26)","v":"Ouargaye"},{"$f":"IF(OR(COUNTRY_INFO!$T$9:$T$1000=\"T2 (PZQ)\",COUNTRY_INFO!$U$9:$U$1000=\"T2 (PZQ)\"), \"T2 (PZQ)\", \" \")","v":"T2 (PZQ)"},"17-21/02/2017",null,108503,184892,293395,null,137748,150970,288718," ",126.95317180170133,81.653073145403795,98.405903304418956]
[{"$f":"IF(COUNTRY_INFO!A27=0,\" \",COUNTRY_INFO!A27)","v":"Burkina Faso"},{"$f":"IF(COUNTRY_INFO!B27=0,\" \",COUNTRY_INFO!B27)","v":"Centre-Est"},{"$f":"IF(COUNTRY_INFO!C27=0,\" \",COUNTRY_INFO!C27)","v":"Pouytenga"},{"$f":"IF(OR(COUNTRY_INFO!$T$9:$T$1000=\"T2 (PZQ)\",COUNTRY_INFO!$U$9:$U$1000=\"T2 (PZQ)\"), \"T2 (PZQ)\", \" \")","v":"T2 (PZQ)"},"17-21/02/2017",null,60452,108187,168639,null,69108,91505,160613," ",114.31879838549592,84.580402451311159,95.24072130408743]
[{"$f":"IF(COUNTRY_INFO!A28=0,\" \",COUNTRY_INFO!A28)","v":"Burkina Faso"},{"$f":"IF(COUNTRY_INFO!B28=0,\" \",COUNTRY_INFO!B28)","v":"Centre-Est"},{"$f":"IF(COUNTRY_INFO!C28=0,\" \",COUNTRY_INFO!C28)","v":"Tenkodogo"},{"$f":"IF(OR(COUNTRY_INFO!$T$9:$T$1000=\"T2 (PZQ)\",COUNTRY_INFO!$U$9:$U$1000=\"T2 (PZQ)\"), \"T2 (PZQ)\", \" \")","v":"T2 (PZQ)"},"17-21/02/2017",null,70072,124547,194619,null,90121,106344,196465," ",128.61199908665373,85.384633913301812,100.94851992868116]
[{"$f":"IF(COUNTRY_INFO!A29=0,\" \",COUNTRY_INFO!A29)","v":"Burkina Faso"},{"$f":"IF(COUNTRY_INFO!B29=0,\" \",COUNTRY_INFO!B29)","v":"Centre-Est"},{"$f":"IF(COUNTRY_INFO!C29=0,\" \",COUNTRY_INFO!C29)","v":"Zabré"},{"$f":"IF(OR(COUNTRY_INFO!$T$9:$T$1000=\"T2 (PZQ)\",COUNTRY_INFO!$U$9:$U$1000=\"T2 (PZQ)\"), \"T2 (PZQ)\", \" \")","v":"T2 (PZQ)"},"17-21/02/2017",null,49426,75384,124810,null,60992,64040,125032," ",123.40063933961882,84.951713891541971,100.17787036295169]
[{"$f":"IF(COUNTRY_INFO!A30=0,\" \",COUNTRY_INFO!A30)","v":"Burkina Faso"},{"$f":"IF(COUNTRY_INFO!B30=0,\" \",COUNTRY_INFO!B30)","v":"Centre-Nord"},{"$f":"IF(COUNTRY_INFO!C30=0,\" \",COUNTRY_INFO!C30)","v":"Barsalogo"},{"$f":"IF(OR(COUNTRY_INFO!$T$9:$T$1000=\"T2 (PZQ)\",COUNTRY_INFO!$U$9:$U$1000=\"T2 (PZQ)\"), \"T2 (PZQ)\", \" \")","v":" "},null,null,null,null,0,null,null,null,0," "," "," "," "]
[{"$f":"IF(COUNTRY_INFO!A31=0,\" \",COUNTRY_INFO!A31)","v":"Burkina Faso"},{"$f":"IF(COUNTRY_INFO!B31=0,\" \",COUNTRY_INFO!B31)","v":"Centre-Nord"},{"$f":"IF(COUNTRY_INFO!C31=0,\" \",COUNTRY_INFO!C31)","v":"Boulsa"},{"$f":"IF(OR(COUNTRY_INFO!$T$9:$T$1000=\"T2 (PZQ)\",COUNTRY_INFO!$U$9:$U$1000=\"T2 (PZQ)\"), \"T2 (PZQ)\", \" \")","v":" "},null,null,null,null,0,null,null,null,0," "," "," "," "]
[{"$f":"IF(COUNTRY_INFO!A32=0,\" \",COUNTRY_INFO!A32)","v":"Burkina Faso"},{"$f":"IF(COUNTRY_INFO!B32=0,\" \",COUNTRY_INFO!B32)","v":"Centre-Nord"},{"$f":"IF(COUNTRY_INFO!C32=0,\" \",COUNTRY_INFO!C32)","v":"Boussouma"},{"$f":"IF(OR(COUNTRY_INFO!$T$9:$T$1000=\"T2 (PZQ)\",COUNTRY_INFO!$U$9:$U$1000=\"T2 (PZQ)\"), \"T2 (PZQ)\", \" \")","v":" "},null,null,null,null,0,null,null,null,0," "," "," "," "]
[{"$f":"IF(COUNTRY_INFO!A33=0,\" \",COUNTRY_INFO!A33)","v":"Burkina Faso"},{"$f":"IF(COUNTRY_INFO!B33=0,\" \",COUNTRY_INFO!B33)","v":"Centre-Nord"},{"$f":"IF(COUNTRY_INFO!C33=0,\" \",COUNTRY_INFO!C33)","v":"Kaya"},{"$f":"IF(OR(COUNTRY_INFO!$T$9:$T$1000=\"T2 (PZQ)\",COUNTRY_INFO!$U$9:$U$1000=\"T2 (PZQ)\"), \"T2 (PZQ)\", \" \")","v":" "},null,null,null,null,0,null,null,null,0," "," "," "," "]
[{"$f":"IF(COUNTRY_INFO!A34=0,\" \",COUNTRY_INFO!A34)","v":"Burkina Faso"},{"$f":"IF(COUNTRY_INFO!B34=0,\" \",COUNTRY_INFO!B34)","v":"Centre-Nord"},{"$f":"IF(COUNTRY_INFO!C34=0,\" \",COUNTRY_INFO!C34)","v":"Kongoussi"},{"$f":"IF(OR(COUNTRY_INFO!$T$9:$T$1000=\"T2 (PZQ)\",COUNTRY_INFO!$U$9:$U$1000=\"T2 (PZQ)\"), \"T2 (PZQ)\", \" \")","v":" "},null,null,null,null,0,null,null,null,0," "," "," "," "]
[{"$f":"IF(COUNTRY_INFO!A35=0,\" \",COUNTRY_INFO!A35)","v":"Burkina Faso"},{"$f":"IF(COUNTRY_INFO!B35=0,\" \",COUNTRY_INFO!B35)","v":"Centre-Nord"},{"$f":"IF(COUNTRY_INFO!C35=0,\" \",COUNTRY_INFO!C35)","v":"Tougouri"},{"$f":"IF(OR(COUNTRY_INFO!$T$9:$T$1000=\"T2 (PZQ)\",COUNTRY_INFO!$U$9:$U$1000=\"T2 (PZQ)\"), \"T2 (PZQ)\", \" \")","v":" "},null,null,null,null,0,null,null,null,0," "," "," "," "]
[{"$f":"IF(COUNTRY_INFO!A36=0,\" \",COUNTRY_INFO!A36)","v":"Burkina Faso"},{"$f":"IF(COUNTRY_INFO!B36=0,\" \",COUNTRY_INFO!B36)","v":"Centre-Ouest"},{"$f":"IF(COUNTRY_INFO!C36=0,\" \",COUNTRY_INFO!C36)","v":"Koudougou"},{"$f":"IF(OR(COUNTRY_INFO!$T$9:$T$1000=\"T2 (PZQ)\",COUNTRY_INFO!$U$9:$U$1000=\"T2 (PZQ)\"), \"T2 (PZQ)\", \" \")","v":" "},null,null,null,null,0,null,null,null,0," "," "," "," "]
[{"$f":"IF(COUNTRY_INFO!A37=0,\" \",COUNTRY_INFO!A37)","v":"Burkina Faso"},{"$f":"IF(COUNTRY_INFO!B37=0,\" \",COUNTRY_INFO!B37)","v":"Centre-Ouest"},{"$f":"IF(COUNTRY_INFO!C37=0,\" \",COUNTRY_INFO!C37)","v":"Léo"},{"$f":"IF(OR(COUNTRY_INFO!$T$9:$T$1000=\"T2 (PZQ)\",COUNTRY_INFO!$U$9:$U$1000=\"T2 (PZQ)\"), \"T2 (PZQ)\", \" \")","v":" "},null,null,null,null,0,null,null,null,0," "," "," "," "]
[{"$f":"IF(COUNTRY_INFO!A38=0,\" \",COUNTRY_INFO!A38)","v":"Burkina Faso"},{"$f":"IF(COUNTRY_INFO!B38=0,\" \",COUNTRY_INFO!B38)","v":"Centre-Ouest"},{"$f":"IF(COUNTRY_INFO!C38=0,\" \",COUNTRY_INFO!C38)","v":"Nanoro"},{"$f":"IF(OR(COUNTRY_INFO!$T$9:$T$1000=\"T2 (PZQ)\",COUNTRY_INFO!$U$9:$U$1000=\"T2 (PZQ)\"), \"T2 (PZQ)\", \" \")","v":" "},null,null,null,null,0,null,null,null,0," "," "," "," "]
[{"$f":"IF(COUNTRY_INFO!A39=0,\" \",COUNTRY_INFO!A39)","v":"Burkina Faso"},{"$f":"IF(COUNTRY_INFO!B39=0,\" \",COUNTRY_INFO!B39)","v":"Centre-Ouest"},{"$f":"IF(COUNTRY_INFO!C39=0,\" \",COUNTRY_INFO!C39)","v":"Réo"},{"$f":"IF(OR(COUNTRY_INFO!$T$9:$T$1000=\"T2 (PZQ)\",COUNTRY_INFO!$U$9:$U$1000=\"T2 (PZQ)\"), \"T2 (PZQ)\", \" \")","v":" "},null,null,null,null,0,null,null,null,0," "," "," "," "]
[{"$f":"IF(COUNTRY_INFO!A40=0,\" \",COUNTRY_INFO!A40)","v":"Burkina Faso"},{"$f":"IF(COUNTRY_INFO!B40=0,\" \",COUNTRY_INFO!B40)","v":"Centre-Ouest"},{"$f":"IF(COUNTRY_INFO!C40=0,\" \",COUNTRY_INFO!C40)","v":"Sabou"},{"$f":"IF(OR(COUNTRY_INFO!$T$9:$T$1000=\"T2 (PZQ)\",COUNTRY_INFO!$U$9:$U$1000=\"T2 (PZQ)\"), \"T2 (PZQ)\", \" \")","v":" "},null,null,null,null,0,null,null,null,0," "," "," "," "]
[{"$f":"IF(COUNTRY_INFO!A41=0,\" \",COUNTRY_INFO!A41)","v":"Burkina Faso"},{"$f":"IF(COUNTRY_INFO!B41=0,\" \",COUNTRY_INFO!B41)","v":"Centre-Ouest"},{"$f":"IF(COUNTRY_INFO!C41=0,\" \",COUNTRY_INFO!C41)","v":"Sapouy"},{"$f":"IF(OR(COUNTRY_INFO!$T$9:$T$1000=\"T2 (PZQ)\",COUNTRY_INFO!$U$9:$U$1000=\"T2 (PZQ)\"), \"T2 (PZQ)\", \" \")","v":" "},null,null,null,null,0,null,null,null,0," "," "," "," "]
[{"$f":"IF(COUNTRY_INFO!A42=0,\" \",COUNTRY_INFO!A42)","v":"Burkina Faso"},{"$f":"IF(COUNTRY_INFO!B42=0,\" \",COUNTRY_INFO!B42)","v":"Centre-Ouest"},{"$f":"IF(COUNTRY_INFO!C42=0,\" \",COUNTRY_INFO!C42)","v":"Tenado"},{"$f":"IF(OR(COUNTRY_INFO!$T$9:$T$1000=\"T2 (PZQ)\",COUNTRY_INFO!$U$9:$U$1000=\"T2 (PZQ)\"), \"T2 (PZQ)\", \" \")","v":" "},null,null,null,null,0,null,null,null,0," "," "," "," "]
[{"$f":"IF(COUNTRY_INFO!A43=0,\" \",COUNTRY_INFO!A43)","v":"Burkina Faso"},{"$f":"IF(COUNTRY_INFO!B43=0,\" \",COUNTRY_INFO!B43)","v":"Centre-Sud"},{"$f":"IF(COUNTRY_INFO!C43=0,\" \",COUNTRY_INFO!C43)","v":"Kombissiri"},{"$f":"IF(OR(COUNTRY_INFO!$T$9:$T$1000=\"T2 (PZQ)\",COUNTRY_INFO!$U$9:$U$1000=\"T2 (PZQ)\"), \"T2 (PZQ)\", \" \")","v":" "},null,null,null,null,0,null,null,null,0," "," "," "," "]
[{"$f":"IF(COUNTRY_INFO!A44=0,\" \",COUNTRY_INFO!A44)","v":"Burkina Faso"},{"$f":"IF(COUNTRY_INFO!B44=0,\" \",COUNTRY_INFO!B44)","v":"Centre-Sud"},{"$f":"IF(COUNTRY_INFO!C44=0,\" \",COUNTRY_INFO!C44)","v":"Manga"},{"$f":"IF(OR(COUNTRY_INFO!$T$9:$T$1000=\"T2 (PZQ)\",COUNTRY_INFO!$U$9:$U$1000=\"T2 (PZQ)\"), \"T2 (PZQ)\", \" \")","v":" "},null,null,null,null,0,null,null,null,0," "," "," "," "]
[{"$f":"IF(COUNTRY_INFO!A45=0,\" \",COUNTRY_INFO!A45)","v":"Burkina Faso"},{"$f":"IF(COUNTRY_INFO!B45=0,\" \",COUNTRY_INFO!B45)","v":"Centre-Sud"},{"$f":"IF(COUNTRY_INFO!C45=0,\" \",COUNTRY_INFO!C45)","v":"Pô"},{"$f":"IF(OR(COUNTRY_INFO!$T$9:$T$1000=\"T2 (PZQ)\",COUNTRY_INFO!$U$9:$U$1000=\"T2 (PZQ)\"), \"T2 (PZQ)\", \" \")","v":" "},null,null,null,null,0,null,null,null,0," "," "," "," "]
[{"$f":"IF(COUNTRY_INFO!A46=0,\" \",COUNTRY_INFO!A46)","v":"Burkina Faso"},{"$f":"IF(COUNTRY_INFO!B46=0,\" \",COUNTRY_INFO!B46)","v":"Centre-Sud"},{"$f":"IF(COUNTRY_INFO!C46=0,\" \",COUNTRY_INFO!C46)","v":"Saponé"},{"$f":"IF(OR(COUNTRY_INFO!$T$9:$T$1000=\"T2 (PZQ)\",COUNTRY_INFO!$U$9:$U$1000=\"T2 (PZQ)\"), \"T2 (PZQ)\", \" \")","v":" "},null,null,null,null,0,null,null,null,0," "," "," "," "]
[{"$f":"IF(COUNTRY_INFO!A47=0,\" \",COUNTRY_INFO!A47)","v":"Burkina Faso"},{"$f":"IF(COUNTRY_INFO!B47=0,\" \",COUNTRY_INFO!B47)","v":"Est"},{"$f":"IF(COUNTRY_INFO!C47=0,\" \",COUNTRY_INFO!C47)","v":"Bogandé"},{"$f":"IF(OR(COUNTRY_INFO!$T$9:$T$1000=\"T2 (PZQ)\",COUNTRY_INFO!$U$9:$U$1000=\"T2 (PZQ)\"), \"T2 (PZQ)\", \" \")","v":" "},null,null,null,null,0,null,null,null,0," "," "," "," "]
[{"$f":"IF(COUNTRY_INFO!A48=0,\" \",COUNTRY_INFO!A48)","v":"Burkina Faso"},{"$f":"IF(COUNTRY_INFO!B48=0,\" \",COUNTRY_INFO!B48)","v":"Est"},{"$f":"IF(COUNTRY_INFO!C48=0,\" \",COUNTRY_INFO!C48)","v":"Diapaga"},{"$f":"IF(OR(COUNTRY_INFO!$T$9:$T$1000=\"T2 (PZQ)\",COUNTRY_INFO!$U$9:$U$1000=\"T2 (PZQ)\"), \"T2 (PZQ)\", \" \")","v":" "},null,null,null,null,0,null,null,null,0," "," "," "," "]
[{"$f":"IF(COUNTRY_INFO!A49=0,\" \",COUNTRY_INFO!A49)","v":"Burkina Faso"},{"$f":"IF(COUNTRY_INFO!B49=0,\" \",COUNTRY_INFO!B49)","v":"Est"},{"$f":"IF(COUNTRY_INFO!C49=0,\" \",COUNTRY_INFO!C49)","v":"Fada N'gourma"},{"$f":"IF(OR(COUNTRY_INFO!$T$9:$T$1000=\"T2 (PZQ)\",COUNTRY_INFO!$U$9:$U$1000=\"T2 (PZQ)\"), \"T2 (PZQ)\", \" \")","v":" "},null,null,null,null,0,null,null,null,0," "," "," "," "]
[{"$f":"IF(COUNTRY_INFO!A50=0,\" \",COUNTRY_INFO!A50)","v":"Burkina Faso"},{"$f":"IF(COUNTRY_INFO!B50=0,\" \",COUNTRY_INFO!B50)","v":"Est"},{"$f":"IF(COUNTRY_INFO!C50=0,\" \",COUNTRY_INFO!C50)","v":"Gayeri"},{"$f":"IF(OR(COUNTRY_INFO!$T$9:$T$1000=\"T2 (PZQ)\",COUNTRY_INFO!$U$9:$U$1000=\"T2 (PZQ)\"), \"T2 (PZQ)\", \" \")","v":" "},null,null,null,null,0,null,null,null,0," "," "," "," "]
[{"$f":"IF(COUNTRY_INFO!A51=0,\" \",COUNTRY_INFO!A51)","v":"Burkina Faso"},{"$f":"IF(COUNTRY_INFO!B51=0,\" \",COUNTRY_INFO!B51)","v":"Est"},{"$f":"IF(COUNTRY_INFO!C51=0,\" \",COUNTRY_INFO!C51)","v":"Manni"},{"$f":"IF(OR(COUNTRY_INFO!$T$9:$T$1000=\"T2 (PZQ)\",COUNTRY_INFO!$U$9:$U$1000=\"T2 (PZQ)\"), \"T2 (PZQ)\", \" \")","v":" "},null,null,null,null,0,null,null,null,0," "," "," "," "]
[{"$f":"IF(COUNTRY_INFO!A52=0,\" \",COUNTRY_INFO!A52)","v":"Burkina Faso"},{"$f":"IF(COUNTRY_INFO!B52=0,\" \",COUNTRY_INFO!B52)","v":"Est"},{"$f":"IF(COUNTRY_INFO!C52=0,\" \",COUNTRY_INFO!C52)","v":"Pama"},{"$f":"IF(OR(COUNTRY_INFO!$T$9:$T$1000=\"T2 (PZQ)\",COUNTRY_INFO!$U$9:$U$1000=\"T2 (PZQ)\"), \"T2 (PZQ)\", \" \")","v":" "},null,null,null,null,0,null,null,null,0," "," "," "," "]
[{"$f":"IF(COUNTRY_INFO!A53=0,\" \",COUNTRY_INFO!A53)","v":"Burkina Faso"},{"$f":"IF(COUNTRY_INFO!B53=0,\" \",COUNTRY_INFO!B53)","v":"Hauts-Bassins"},{"$f":"IF(COUNTRY_INFO!C53=0,\" \",COUNTRY_INFO!C53)","v":"Dafra"},{"$f":"IF(OR(COUNTRY_INFO!$T$9:$T$1000=\"T2 (PZQ)\",COUNTRY_INFO!$U$9:$U$1000=\"T2 (PZQ)\"), \"T2 (PZQ)\", \" \")","v":" "},null,null,null,null,0,null,null,null,0," "," "," "," "]
[{"$f":"IF(COUNTRY_INFO!A54=0,\" \",COUNTRY_INFO!A54)","v":"Burkina Faso"},{"$f":"IF(COUNTRY_INFO!B54=0,\" \",COUNTRY_INFO!B54)","v":"Hauts-Bassins"},{"$f":"IF(COUNTRY_INFO!C54=0,\" \",COUNTRY_INFO!C54)","v":"Dandé"},{"$f":"IF(OR(COUNTRY_INFO!$T$9:$T$1000=\"T2 (PZQ)\",COUNTRY_INFO!$U$9:$U$1000=\"T2 (PZQ)\"), \"T2 (PZQ)\", \" \")","v":" "},null,null,null,null,0,null,null,null,0," "," "," "," "]
[{"$f":"IF(COUNTRY_INFO!A55=0,\" \",COUNTRY_INFO!A55)","v":"Burkina Faso"},{"$f":"IF(COUNTRY_INFO!B55=0,\" \",COUNTRY_INFO!B55)","v":"Hauts-Bassins"},{"$f":"IF(COUNTRY_INFO!C55=0,\" \",COUNTRY_INFO!C55)","v":"Dô"},{"$f":"IF(OR(COUNTRY_INFO!$T$9:$T$1000=\"T2 (PZQ)\",COUNTRY_INFO!$U$9:$U$1000=\"T2 (PZQ)\"), \"T2 (PZQ)\", \" \")","v":" "},null,null,null,null,0,null,null,null,0," "," "," "," "]
[{"$f":"IF(COUNTRY_INFO!A56=0,\" \",COUNTRY_INFO!A56)","v":"Burkina Faso"},{"$f":"IF(COUNTRY_INFO!B56=0,\" \",COUNTRY_INFO!B56)","v":"Hauts-Bassins"},{"$f":"IF(COUNTRY_INFO!C56=0,\" \",COUNTRY_INFO!C56)","v":"Houndé"},{"$f":"IF(OR(COUNTRY_INFO!$T$9:$T$1000=\"T2 (PZQ)\",COUNTRY_INFO!$U$9:$U$1000=\"T2 (PZQ)\"), \"T2 (PZQ)\", \" \")","v":" "},null,null,null,null,0,null,null,null,0," "," "," "," "]
[{"$f":"IF(COUNTRY_INFO!A57=0,\" \",COUNTRY_INFO!A57)","v":"Burkina Faso"},{"$f":"IF(COUNTRY_INFO!B57=0,\" \",COUNTRY_INFO!B57)","v":"Hauts-Bassins"},{"$f":"IF(COUNTRY_INFO!C57=0,\" \",COUNTRY_INFO!C57)","v":"Karangasso-Vigué"},{"$f":"IF(OR(COUNTRY_INFO!$T$9:$T$1000=\"T2 (PZQ)\",COUNTRY_INFO!$U$9:$U$1000=\"T2 (PZQ)\"), \"T2 (PZQ)\", \" \")","v":" "},null,null,null,null,0,null,null,null,0," "," "," "," "]
[{"$f":"IF(COUNTRY_INFO!A58=0,\" \",COUNTRY_INFO!A58)","v":"Burkina Faso"},{"$f":"IF(COUNTRY_INFO!B58=0,\" \",COUNTRY_INFO!B58)","v":"Hauts-Bassins"},{"$f":"IF(COUNTRY_INFO!C58=0,\" \",COUNTRY_INFO!C58)","v":"Lena"},{"$f":"IF(OR(COUNTRY_INFO!$T$9:$T$1000=\"T2 (PZQ)\",COUNTRY_INFO!$U$9:$U$1000=\"T2 (PZQ)\"), \"T2 (PZQ)\", \" \")","v":" "},null,null,null,null,0,null,null,null,0," "," "," "," "]
[{"$f":"IF(COUNTRY_INFO!A59=0,\" \",COUNTRY_INFO!A59)","v":"Burkina Faso"},{"$f":"IF(COUNTRY_INFO!B59=0,\" \",COUNTRY_INFO!B59)","v":"Hauts-Bassins"},{"$f":"IF(COUNTRY_INFO!C59=0,\" \",COUNTRY_INFO!C59)","v":"N'Dorola"},{"$f":"IF(OR(COUNTRY_INFO!$T$9:$T$1000=\"T2 (PZQ)\",COUNTRY_INFO!$U$9:$U$1000=\"T2 (PZQ)\"), \"T2 (PZQ)\", \" \")","v":" "},null,null,null,null,0,null,null,null,0," "," "," "," "]
[{"$f":"IF(COUNTRY_INFO!A60=0,\" \",COUNTRY_INFO!A60)","v":"Burkina Faso"},{"$f":"IF(COUNTRY_INFO!B60=0,\" \",COUNTRY_INFO!B60)","v":"Hauts-Bassins"},{"$f":"IF(COUNTRY_INFO!C60=0,\" \",COUNTRY_INFO!C60)","v":"Orodara"},{"$f":"IF(OR(COUNTRY_INFO!$T$9:$T$1000=\"T2 (PZQ)\",COUNTRY_INFO!$U$9:$U$1000=\"T2 (PZQ)\"), \"T2 (PZQ)\", \" \")","v":" "},null,null,null,null,0,null,null,null,0," "," "," "," "]
[{"$f":"IF(COUNTRY_INFO!A61=0,\" \",COUNTRY_INFO!A61)","v":"Burkina Faso"},{"$f":"IF(COUNTRY_INFO!B61=0,\" \",COUNTRY_INFO!B61)","v":"Nord"},{"$f":"IF(COUNTRY_INFO!C61=0,\" \",COUNTRY_INFO!C61)","v":"Gourcy"},{"$f":"IF(OR(COUNTRY_INFO!$T$9:$T$1000=\"T2 (PZQ)\",COUNTRY_INFO!$U$9:$U$1000=\"T2 (PZQ)\"), \"T2 (PZQ)\", \" \")","v":" "},null,null,null,null,0,null,null,null,0," "," "," "," "]
[{"$f":"IF(COUNTRY_INFO!A62=0,\" \",COUNTRY_INFO!A62)","v":"Burkina Faso"},{"$f":"IF(COUNTRY_INFO!B62=0,\" \",COUNTRY_INFO!B62)","v":"Nord"},{"$f":"IF(COUNTRY_INFO!C62=0,\" \",COUNTRY_INFO!C62)","v":"Ouahigouya"},{"$f":"IF(OR(COUNTRY_INFO!$T$9:$T$1000=\"T2 (PZQ)\",COUNTRY_INFO!$U$9:$U$1000=\"T2 (PZQ)\"), \"T2 (PZQ)\", \" \")","v":" "},null,null,null,null,0,null,null,null,0," "," "," "," "]
[{"$f":"IF(COUNTRY_INFO!A63=0,\" \",COUNTRY_INFO!A63)","v":"Burkina Faso"},{"$f":"IF(COUNTRY_INFO!B63=0,\" \",COUNTRY_INFO!B63)","v":"Nord"},{"$f":"IF(COUNTRY_INFO!C63=0,\" \",COUNTRY_INFO!C63)","v":"Seguenega"},{"$f":"IF(OR(COUNTRY_INFO!$T$9:$T$1000=\"T2 (PZQ)\",COUNTRY_INFO!$U$9:$U$1000=\"T2 (PZQ)\"), \"T2 (PZQ)\", \" \")","v":" "},null,null,null,null,0,null,null,null,0," "," "," "," "]
[{"$f":"IF(COUNTRY_INFO!A64=0,\" \",COUNTRY_INFO!A64)","v":"Burkina Faso"},{"$f":"IF(COUNTRY_INFO!B64=0,\" \",COUNTRY_INFO!B64)","v":"Nord"},{"$f":"IF(COUNTRY_INFO!C64=0,\" \",COUNTRY_INFO!C64)","v":"Thiou"},{"$f":"IF(OR(COUNTRY_INFO!$T$9:$T$1000=\"T2 (PZQ)\",COUNTRY_INFO!$U$9:$U$1000=\"T2 (PZQ)\"), \"T2 (PZQ)\", \" \")","v":" "},null,null,null,null,0,null,null,null,0," "," "," "," "]
[{"$f":"IF(COUNTRY_INFO!A65=0,\" \",COUNTRY_INFO!A65)","v":"Burkina Faso"},{"$f":"IF(COUNTRY_INFO!B65=0,\" \",COUNTRY_INFO!B65)","v":"Nord"},{"$f":"IF(COUNTRY_INFO!C65=0,\" \",COUNTRY_INFO!C65)","v":"Titao"},{"$f":"IF(OR(COUNTRY_INFO!$T$9:$T$1000=\"T2 (PZQ)\",COUNTRY_INFO!$U$9:$U$1000=\"T2 (PZQ)\"), \"T2 (PZQ)\", \" \")","v":" "},null,null,null,null,0,null,null,null,0," "," "," "," "]
[{"$f":"IF(COUNTRY_INFO!A66=0,\" \",COUNTRY_INFO!A66)","v":"Burkina Faso"},{"$f":"IF(COUNTRY_INFO!B66=0,\" \",COUNTRY_INFO!B66)","v":"Nord"},{"$f":"IF(COUNTRY_INFO!C66=0,\" \",COUNTRY_INFO!C66)","v":"Yako"},{"$f":"IF(OR(COUNTRY_INFO!$T$9:$T$1000=\"T2 (PZQ)\",COUNTRY_INFO!$U$9:$U$1000=\"T2 (PZQ)\"), \"T2 (PZQ)\", \" \")","v":" "},null,null,null,null,0,null,null,null,0," "," "," "," "]
[{"$f":"IF(COUNTRY_INFO!A67=0,\" \",COUNTRY_INFO!A67)","v":"Burkina Faso"},{"$f":"IF(COUNTRY_INFO!B67=0,\" \",COUNTRY_INFO!B67)","v":"Plateau Central"},{"$f":"IF(COUNTRY_INFO!C67=0,\" \",COUNTRY_INFO!C67)","v":"Boussé"},{"$f":"IF(OR(COUNTRY_INFO!$T$9:$T$1000=\"T2 (PZQ)\",COUNTRY_INFO!$U$9:$U$1000=\"T2 (PZQ)\"), \"T2 (PZQ)\", \" \")","v":" "},null,null,null,null,0,null,null,null,0," "," "," "," "]
[{"$f":"IF(COUNTRY_INFO!A68=0,\" \",COUNTRY_INFO!A68)","v":"Burkina Faso"},{"$f":"IF(COUNTRY_INFO!B68=0,\" \",COUNTRY_INFO!B68)","v":"Plateau Central"},{"$f":"IF(COUNTRY_INFO!C68=0,\" \",COUNTRY_INFO!C68)","v":"Ziniaré"},{"$f":"IF(OR(COUNTRY_INFO!$T$9:$T$1000=\"T2 (PZQ)\",COUNTRY_INFO!$U$9:$U$1000=\"T2 (PZQ)\"), \"T2 (PZQ)\", \" \")","v":" "},null,null,null,null,0,null,null,null,0," "," "," "," "]
[{"$f":"IF(COUNTRY_INFO!A69=0,\" \",COUNTRY_INFO!A69)","v":"Burkina Faso"},{"$f":"IF(COUNTRY_INFO!B69=0,\" \",COUNTRY_INFO!B69)","v":"Plateau Central"},{"$f":"IF(COUNTRY_INFO!C69=0,\" \",COUNTRY_INFO!C69)","v":"Zorgho"},{"$f":"IF(OR(COUNTRY_INFO!$T$9:$T$1000=\"T2 (PZQ)\",COUNTRY_INFO!$U$9:$U$1000=\"T2 (PZQ)\"), \"T2 (PZQ)\", \" \")","v":" "},null,null,null,null,0,null,null,null,0," "," "," "," "]
[{"$f":"IF(COUNTRY_INFO!A70=0,\" \",COUNTRY_INFO!A70)","v":"Burkina Faso"},{"$f":"IF(COUNTRY_INFO!B70=0,\" \",COUNTRY_INFO!B70)","v":"Sahel"},{"$f":"IF(COUNTRY_INFO!C70=0,\" \",COUNTRY_INFO!C70)","v":"Djibo"},{"$f":"IF(OR(COUNTRY_INFO!$T$9:$T$1000=\"T2 (PZQ)\",COUNTRY_INFO!$U$9:$U$1000=\"T2 (PZQ)\"), \"T2 (PZQ)\", \" \")","v":" "},null,null,null,null,0,null,null,null,0," "," "," "," "]
[{"$f":"IF(COUNTRY_INFO!A71=0,\" \",COUNTRY_INFO!A71)","v":"Burkina Faso"},{"$f":"IF(COUNTRY_INFO!B71=0,\" \",COUNTRY_INFO!B71)","v":"Sahel"},{"$f":"IF(COUNTRY_INFO!C71=0,\" \",COUNTRY_INFO!C71)","v":"Dori"},{"$f":"IF(OR(COUNTRY_INFO!$T$9:$T$1000=\"T2 (PZQ)\",COUNTRY_INFO!$U$9:$U$1000=\"T2 (PZQ)\"), \"T2 (PZQ)\", \" \")","v":" "},null,null,null,null,0,null,null,null,0," "," "," "," "]
[{"$f":"IF(COUNTRY_INFO!A72=0,\" \",COUNTRY_INFO!A72)","v":"Burkina Faso"},{"$f":"IF(COUNTRY_INFO!B72=0,\" \",COUNTRY_INFO!B72)","v":"Sahel"},{"$f":"IF(COUNTRY_INFO!C72=0,\" \",COUNTRY_INFO!C72)","v":"Gorom-Gorom"},{"$f":"IF(OR(COUNTRY_INFO!$T$9:$T$1000=\"T2 (PZQ)\",COUNTRY_INFO!$U$9:$U$1000=\"T2 (PZQ)\"), \"T2 (PZQ)\", \" \")","v":" "},null,null,null,null,0,null,null,null,0," "," "," "," "]
[{"$f":"IF(COUNTRY_INFO!A73=0,\" \",COUNTRY_INFO!A73)","v":"Burkina Faso"},{"$f":"IF(COUNTRY_INFO!B73=0,\" \",COUNTRY_INFO!B73)","v":"Sahel"},{"$f":"IF(COUNTRY_INFO!C73=0,\" \",COUNTRY_INFO!C73)","v":"Sebba"},{"$f":"IF(OR(COUNTRY_INFO!$T$9:$T$1000=\"T2 (PZQ)\",COUNTRY_INFO!$U$9:$U$1000=\"T2 (PZQ)\"), \"T2 (PZQ)\", \" \")","v":"T2 (PZQ)"},"15-19/05/2017",null,66254,115840,182094,null,70066,110578,180644," ",105.75361487608295,95.457527624309392,99.203707975001919]
[{"$f":"IF(COUNTRY_INFO!A74=0,\" \",COUNTRY_INFO!A74)","v":"Burkina Faso"},{"$f":"IF(COUNTRY_INFO!B74=0,\" \",COUNTRY_INFO!B74)","v":"Sud-Ouest"},{"$f":"IF(COUNTRY_INFO!C74=0,\" \",COUNTRY_INFO!C74)","v":"Batié"},{"$f":"IF(OR(COUNTRY_INFO!$T$9:$T$1000=\"T2 (PZQ)\",COUNTRY_INFO!$U$9:$U$1000=\"T2 (PZQ)\"), \"T2 (PZQ)\", \" \")","v":"T2 (PZQ)"},"15-19/05/2017",null,28237,null,{"$f":"SUM(F74:H74)","v":28237},null,31298,null,{"$f":"SUM(J74:L74)","v":31298},{"$f":"IF(F74<>0, IF(J74/F74*100=0, \"-\", J74/F74*100), \" \")","v":" "},{"$f":"IF(G74<>0, IF(K74/G74*100=0, \"-\", K74/G74*100), \" \")","v":110.84038672663527},{"$f":"IF(H74<>0, IF(L74/H74*100=0, \"-\", L74/H74*100), \" \")","v":" "},{"$f":"IF(I74<>0, IF(M74/I74*100=0, \"-\", M74/I74*100), \" \")","v":110.84038672663527}]
[{"$f":"IF(COUNTRY_INFO!A75=0,\" \",COUNTRY_INFO!A75)","v":"Burkina Faso"},{"$f":"IF(COUNTRY_INFO!B75=0,\" \",COUNTRY_INFO!B75)","v":"Sud-Ouest"},{"$f":"IF(COUNTRY_INFO!C75=0,\" \",COUNTRY_INFO!C75)","v":"Dano"},{"$f":"IF(OR(COUNTRY_INFO!$T$9:$T$1000=\"T2 (PZQ)\",COUNTRY_INFO!$U$9:$U$1000=\"T2 (PZQ)\"), \"T2 (PZQ)\", \" \")","v":" "},null,null,null,null,0,null,null,null,0," "," "," "," "]
[{"$f":"IF(COUNTRY_INFO!A76=0,\" \",COUNTRY_INFO!A76)","v":"Burkina Faso"},{"$f":"IF(COUNTRY_INFO!B76=0,\" \",COUNTRY_INFO!B76)","v":"Sud-Ouest"},{"$f":"IF(COUNTRY_INFO!C76=0,\" \",COUNTRY_INFO!C76)","v":"Diébougou"},{"$f":"IF(OR(COUNTRY_INFO!$T$9:$T$1000=\"T2 (PZQ)\",COUNTRY_INFO!$U$9:$U$1000=\"T2 (PZQ)\"), \"T2 (PZQ)\", \" \")","v":"T2 (PZQ)"},"15-19/05/2017",null,40446,null,40446,null,42954,null,42954," ",106.20086040646788," ",106.20086040646788]
[{"$f":"IF(COUNTRY_INFO!A77=0,\" \",COUNTRY_INFO!A77)","v":"Burkina Faso"},{"$f":"IF(COUNTRY_INFO!B77=0,\" \",COUNTRY_INFO!B77)","v":"Sud-Ouest"},{"$f":"IF(COUNTRY_INFO!C77=0,\" \",COUNTRY_INFO!C77)","v":"Gaoua"},{"$f":"IF(OR(COUNTRY_INFO!$T$9:$T$1000=\"T2 (PZQ)\",COUNTRY_INFO!$U$9:$U$1000=\"T2 (PZQ)\"), \"T2 (PZQ)\", \" \")","v":"T2 (PZQ)"},"15-19/05/2017",null,75590,null,75590,null,65763,null,65763," ",86.999603122106095," ",86.999603122106095]
[{"$f":"IF(COUNTRY_INFO!A78=0,\" \",COUNTRY_INFO!A78)","v":"Burkina Faso"},{"$f":"IF(COUNTRY_INFO!B78=0,\" \",COUNTRY_INFO!B78)","v":"Sud-Ouest"},{"$f":"IF(COUNTRY_INFO!C78=0,\" \",COUNTRY_INFO!C78)","v":"Kampti"},{"$f":"IF(OR(COUNTRY_INFO!$T$9:$T$1000=\"T2 (PZQ)\",COUNTRY_INFO!$U$9:$U$1000=\"T2 (PZQ)\"), \"T2 (PZQ)\", \" \")","v":"T2 (PZQ)"},"15-19/05/2017",null,26305,null,26305,null,30247,null,30247," ",114.98574415510359," ",114.98574415510359]

{"sheet":"T3_R1","index":7,"n_rows":78,"n_cols":18,"rows_kept":78,"cut":false,"hidden":false,"merged":[[5,6,5,9],[5,10,5,13],[5,14,5,17],[3,0,3,2],[5,0,5,2],[5,3,6,3],[5,5,6,5],[5,4,6,4]]}
["T 3 - Albendazole (ALB) ou Mebendazole (MBD) - Tournée 1"]
["Structure administrative, population nécessitant une chimioprévention par groupe d'âge, population traitée par groupe d'âge et couverture"]
[]
["TOTAL",null,null,null,null,null,{"$f":"SUM(G$9:G$1000)","v":0},0,0,0,0,0,0,0,{"$f":"IF(G4<>0, IF(K4/G4*100=0, \"-\", K4/G4*100), \" \")","v":" "},{"$f":"IF(H4<>0, IF(L4/H4*100=0, \"-\", L4/H4*100), \" \")","v":" "},{"$f":"IF(I4<>0, IF(M4/I4*100=0, \"-\", M4/I4*100), \" \")","v":" "},{"$f":"IF(J4<>0, IF(N4/J4*100=0, \"-\", N4/J4*100), \" \")","v":" "}]
[]
["Structure administrative du pays",null,null,"Mise en oeuvre \nde la CP","Médica-ment","Date","Population ciblée pour T3",null,null,null,"Population traitée",null,null,null,"Couverture du Programme (%)"]
["Pays","Région/Département","District",null,null,null,"EAPréS","EAS","Adultes","Total","EAPréS","EAS","Adultes","Total","EAPréS","EAS","Adultes","Total"]
[]
[{"$f":"IF(COUNTRY_INFO!A9=0,\" \",COUNTRY_INFO!A9)","v":"Burkina Faso"},{"$f":"IF(COUNTRY_INFO!B9=0,\" \",COUNTRY_INFO!B9)","v":"Boucle du Mouhoun"},{"$f":"IF(COUNTRY_INFO!C9=0,\" \",COUNTRY_INFO!C9)","v":"Boromo"},{"$f":"IF(OR(COUNTRY_INFO!$T$9:$T$1000=\"T3 (ALB/MBD)\",COUNTRY_INFO!$U$9:$U$1000=\"T3 (ALB/MBD)\"), \"T3 (ALB/MBD)\", \" \")","v":" "},null,null,null,null,null,{"$f":"SUM(G9:I9)","v":0},null,null,null,{"$f":"SUM(K9:M9)","v":0},{"$f":"IF(G9<>0, IF(K9/G9*100=0, \"-\", K9/G9*100), \" \")","v":" "}," "," "," "]
[{"$f":"IF(COUNTRY_INFO!A10=0,\" \",COUNTRY_INFO!A10)","v":"Burkina Faso"},{"$f":"IF(COUNTRY_INFO!B10=0,\" \",COUNTRY_INFO!B10)","v":"Boucle du Mouhoun"},{"$f":"IF(COUNTRY_INFO!C10=0,\" \",COUNTRY_INFO!C10)","v":"Dédougou"},{"$f":"IF(OR(COUNTRY_INFO!$T$9:$T$1000=\"T3 (ALB/MBD)\",COUNTRY_INFO!$U$9:$U$1000=\"T3 (ALB/MBD)\"), \"T3 (ALB/MBD)\", \" \")","v":" "},null,null,null,null,null,{"$f":"SUM(G10:I10)","v":0},null,null,null,{"$f":"SUM(K10:M10)","v":0},{"$f":"IF(G10<>0, IF(K10/G10*100=0, \"-\", K10/G10*100), \" \")","v":" "},{"$f":"IF(H10<>0, IF(L10/H10*100=0, \"-\", L10/H10*100), \" \")","v":" "},{"$f":"IF(I10<>0, IF(M10/I10*100=0, \"-\", M10/I10*100), \" \")","v":" "},{"$f":"IF(J10<>0, IF(N10/J10*100=0, \"-\", N10/J10*100), \" \")","v":" "}]
[{"$f":"IF(COUNTRY_INFO!A11=0,\" \",COUNTRY_INFO!A11)","v":"Burkina Faso"},{"$f":"IF(COUNTRY_INFO!B11=0,\" \",COUNTRY_INFO!B11)","v":"Boucle du Mouhoun"},{"$f":"IF(COUNTRY_INFO!C11=0,\" \",COUNTRY_INFO!C11)","v":"Nouna"},{"$f":"IF(OR(COUNTRY_INFO!$T$9:$T$1000=\"T3 (ALB/MBD)\",COUNTRY_INFO!$U$9:$U$1000=\"T3 (ALB/MBD)\"), \"T3 (ALB/MBD)\", \" \")","v":" "},null,null,null,null,null,0,null,null,null,0," "," "," "," "]
[{"$f":"IF(COUNTRY_INFO!A12=0,\" \",COUNTRY_INFO!A12)","v":"Burkina Faso"},{"$f":"IF(COUNTRY_INFO!B12=0,\" \",COUNTRY_INFO!B12)","v":"Boucle du Mouhoun"},{"$f":"IF(COUNTRY_INFO!C12=0,\" \",COUNTRY_INFO!C12)","v":"Solenzo"},{"$f":"IF(OR(COUNTRY_INFO!$T$9:$T$1000=\"T3 (ALB/MBD)\",COUNTRY_INFO!$U$9:$U$1000=\"T3 (ALB/MBD)\"), \"T3 (ALB/MBD)\", \" \")","v":" "},null,null,null,null,null,0,null,null,null,0," "," "," "," "]
[{"$f":"IF(COUNTRY_INFO!A13=0,\" \",COUNTRY_INFO!A13)","v":"Burkina Faso"},{"$f":"IF(COUNTRY_INFO!B13=0,\" \",COUNTRY_INFO!B13)","v":"Boucle du Mouhoun"},{"$f":"IF(COUNTRY_INFO!C13=0,\" \",COUNTRY_INFO!C13)","v":"Toma"},{"$f":"IF(OR(COUNTRY_INFO!$T$9:$T$1000=\"T3 (ALB/MBD)\",COUNTRY_INFO!$U$9:$U$1000=\"T3 (ALB/MBD)\"), \"T3 (ALB/MBD)\", \" \")","v":" "},null,null,null,null,null,0,null,null,null,0," "," "," "," "]
[{"$f":"IF(COUNTRY_INFO!A14=0,\" \",COUNTRY_INFO!A14)","v":"Burkina Faso"},{"$f":"IF(COUNTRY_INFO!B14=0,\" \",COUNTRY_INFO!B14)","v":"Boucle du Mouhoun"},{"$f":"IF(COUNTRY_INFO!C14=0,\" \",COUNTRY_INFO!C14)","v":"Tougan"},{"$f":"IF(OR(COUNTRY_INFO!$T$9:$T$1000=\"T3 (ALB/MBD)\",COUNTRY_INFO!$U$9:$U$1000=\"T3 (ALB/MBD)\"), \"T3 (ALB/MBD)\", \" \")","v":" "},null,null,null,null,null,0,null,null,null,0," "," "," "," "]
[{"$f":"IF(COUNTRY_INFO!A15=0,\" \",COUNTRY_INFO!A15)","v":"Burkina Faso"},{"$f":"IF(COUNTRY_INFO!B15=0,\" \",COUNTRY_INFO!B15)","v":"Cascades"},{"$f":"IF(COUNTRY_INFO!C15=0,\" \",COUNTRY_INFO!C15)","v":"Banfora"},{"$f":"IF(OR(COUNTRY_INFO!$T$9:$T$1000=\"T3 (ALB/MBD)\",COUNTRY_INFO!$U$9:$U$1000=\"T3 (ALB/MBD)\"), \"T3 (ALB/MBD)\", \" \")","v":" "},null,null,null,null,null,0,null,null,null,0," "," "," "," "]
[{"$f":"IF(COUNTRY_INFO!A16=0,\" \",COUNTRY_INFO!A16)","v":"Burkina Faso"},{"$f":"IF(COUNTRY_INFO!B16=0,\" \",COUNTRY_INFO!B16)","v":"Cascades"},{"$f":"IF(COUNTRY_INFO!C16=0,\" \",COUNTRY_INFO!C16)","v":"Mangodara"},{"$f":"IF(OR(COUNTRY_INFO!$T$9:$T$1000=\"T3 (ALB/MBD)\",COUNTRY_INFO!$U$9:$U$1000=\"T3 (ALB/MBD)\"), \"T3 (ALB/MBD)\", \" \")","v":" "},null,null,null,null,null,0,null,null,null,0," "," "," "," "]
[{"$f":"IF(COUNTRY_INFO!A17=0,\" \",COUNTRY_INFO!A17)","v":"Burkina Faso"},{"$f":"IF(COUNTRY_INFO!B17=0,\" \",COUNTRY_INFO!B17)","v":"Cascades"},{"$f":"IF(COUNTRY_INFO!C17=0,\" \",COUNTRY_INFO!C17)","v":"Sindou"},{"$f":"IF(OR(COUNTRY_INFO!$T$9:$T$1000=\"T3 (ALB/MBD)\",COUNTRY_INFO!$U$9:$U$1000=\"T3 (ALB/MBD)\"), \"T3 (ALB/MBD)\", \" \")","v":" "},null,null,null,null,null,0,null,null,null,0," "," "," "," "]
[{"$f":"IF(COUNTRY_INFO!A18=0,\" \",COUNTRY_INFO!A18)","v":"Burkina Faso"},{"$f":"IF(COUNTRY_INFO!B18=0,\" \",COUNTRY_INFO!B18)","v":"Centre"},{"$f":"IF(COUNTRY_INFO!C18=0,\" \",COUNTRY_INFO!C18)","v":"Baskuy"},{"$f":"IF(OR(COUNTRY_INFO!$T$9:$T$1000=\"T3 (ALB/MBD)\",COUNTRY_INFO!$U$9:$U$1000=\"T3 (ALB/MBD)\"), \"T3 (ALB/MBD)\", \" \")","v":" "},null,null,null,null,null,0,null,null,null,0," "," "," "," "]
[{"$f":"IF(COUNTRY_INFO!A19=0,\" \",COUNTRY_INFO!A19)","v":"Burkina Faso"},{"$f":"IF(COUNTRY_INFO!B19=0,\" \",COUNTRY_INFO!B19)","v":"Centre"},{"$f":"IF(COUNTRY_INFO!C19=0,\" \",COUNTRY_INFO!C19)","v":"Bogodogo"},{"$f":"IF(OR(COUNTRY_INFO!$T$9:$T$1000=\"T3 (ALB/MBD)\",COUNTRY_INFO!$U$9:$U$1000=\"T3 (ALB/MBD)\"), \"T3 (ALB/MBD)\", \" \")","v":" "},null,null,null,null,null,0,null,null,null,0," "," "," "," "]
[{"$f":"IF(COUNTRY_INFO!A20=0,\" \",COUNTRY_INFO!A20)","v":"Burkina Faso"},{"$f":"IF(COUNTRY_INFO!B20=0,\" \",COUNTRY_INFO!B20)","v":"Centre"},{"$f":"IF(COUNTRY_INFO!C20=0,\" \",COUNTRY_INFO!C20)","v":"Boulmiougou"},{"$f":"IF(OR(COUNTRY_INFO!$T$9:$T$1000=\"T3 (ALB/MBD)\",COUNTRY_INFO!$U$9:$U$1000=\"T3 (ALB/MBD)\"), \"T3 (ALB/MBD)\", \" \")","v":" "},null,null,null,null,null,0,null,null,null,0," "," "," "," "]
[{"$f":"IF(COUNTRY_INFO!A21=0,\" \",COUNTRY_INFO!A21)","v":"Burkina Faso"},{"$f":"IF(COUNTRY_INFO!B21=0,\" \",COUNTRY_INFO!B21)","v":"Centre"},{"$f":"IF(COUNTRY_INFO!C21=0,\" \",COUNTRY_INFO!C21)","v":"Nongre-Massom"},{"$f":"IF(OR(COUNTRY_INFO!$T$9:$T$1000=\"T3 (ALB/MBD)\",COUNTRY_INFO!$U$9:$U$1000=\"T3 (ALB/MBD)\"), \"T3 (ALB/MBD)\", \" \")","v":" "},null,null,null,null,null,0,null,null,null,0," "," "," "," "]
[{"$f":"IF(COUNTRY_INFO!A22=0,\" \",COUNTRY_INFO!A22)","v":"Burkina Faso"},{"$f":"IF(COUNTRY_INFO!B22=0,\" \",COUNTRY_INFO!B22)","v":"Centre"},{"$f":"IF(COUNTRY_INFO!C22=0,\" \",COUNTRY_INFO!C22)","v":"Sig-Nonghin"},{"$f":"IF(OR(COUNTRY_INFO!$T$9:$T$1000=\"T3 (ALB/MBD)\",COUNTRY_INFO!$U$9:$U$1000=\"T3 (ALB/MBD)\"), \"T3 (ALB/MBD)\", \" \")","v":" "},null,null,null,null,null,0,null,null,null,0," "," "," "," "]
[{"$f":"IF(COUNTRY_INFO!A23=0,\" \",COUNTRY_INFO!A23)","v":"Burkina Faso"},{"$f":"IF(COUNTRY_INFO!B23=0,\" \",COUNTRY_INFO!B23)","v":"Centre-Est"},{"$f":"IF(COUNTRY_INFO!C23=0,\" \",COUNTRY_INFO!C23)","v":"Bittou"},{"$f":"IF(OR(COUNTRY_INFO!$T$9:$T$1000=\"T3 (ALB/MBD)\",COUNTRY_INFO!$U$9:$U$1000=\"T3 (ALB/MBD)\"), \"T3 (ALB/MBD)\", \" \")","v":" "},null,null,null,null,null,0,null,null,null,0," "," "," "," "]
[{"$f":"IF(COUNTRY_INFO!A24=0,\" \",COUNTRY_INFO!A24)","v":"Burkina Faso"},{"$f":"IF(COUNTRY_INFO!B24=0,\" \",COUNTRY_INFO!B24)","v":"Centre-Est"},{"$f":"IF(COUNTRY_INFO!C24=0,\" \",COUNTRY_INFO!C24)","v":"Garango"},{"$f":"IF(OR(COUNTRY_INFO!$T$9:$T$1000=\"T3 (ALB/MBD)\",COUNTRY_INFO!$U$9:$U$1000=\"T3 (ALB/MBD)\"), \"T3 (ALB/MBD)\", \" \")","v":" "},null,null,null,null,null,0,null,null,null,0," "," "," "," "]
[{"$f":"IF(COUNTRY_INFO!A25=0,\" \",COUNTRY_INFO!A25)","v":"Burkina Faso"},{"$f":"IF(COUNTRY_INFO!B25=0,\" \",COUNTRY_INFO!B25)","v":"Centre-Est"},{"$f":"IF(COUNTRY_INFO!C25=0,\" \",COUNTRY_INFO!C25)","v":"Koupela"},{"$f":"IF(OR(COUNTRY_INFO!$T$9:$T$1000=\"T3 (ALB/MBD)\",COUNTRY_INFO!$U$9:$U$1000=\"T3 (ALB/MBD)\"), \"T3 (ALB/MBD)\", \" \")","v":" "},null,null,null,null,null,0,null,null,null,0," "," "," "," "]
[{"$f":"IF(COUNTRY_INFO!A26=0,\" \",COUNTRY_INFO!A26)","v":"Burkina Faso"},{"$f":"IF(COUNTRY_INFO!B26=0,\" \",COUNTRY_INFO!B26)","v":"Centre-Est"},{"$f":"IF(COUNTRY_INFO!C26=0,\" \",COUNTRY_INFO!C26)","v":"Ouargaye"},{"$f":"IF(OR(COUNTRY_INFO!$T$9:$T$1000=\"T3 (ALB/MBD)\",COUNTRY_INFO!$U$9:$U$1000=\"T3 (ALB/MBD)\"), \"T3 (ALB/MBD)\", \" \")","v":" "},null,null,null,null,null,0,null,null,null,0," "," "," "," "]
[{"$f":"IF(COUNTRY_INFO!A27=0,\" \",COUNTRY_INFO!A27)","v":"Burkina Faso"},{"$f":"IF(COUNTRY_INFO!B27=0,\" \",COUNTRY_INFO!B27)","v":"Centre-Est"},{"$f":"IF(COUNTRY_INFO!C27=0,\" \",COUNTRY_INFO!C27)","v":"Pouytenga"},{"$f":"IF(OR(COUNTRY_INFO!$T$9:$T$1000=\"T3 (ALB/MBD)\",COUNTRY_INFO!$U$9:$U$1000=\"T3 (ALB/MBD)\"), \"T3 (ALB/MBD)\", \" \")","v":" "},null,null,null,null,null,0,null,null,null,0," "," "," "," "]
[{"$f":"IF(COUNTRY_INFO!A28=0,\" \",COUNTRY_INFO!A28)","v":"Burkina Faso"},{"$f":"IF(COUNTRY_INFO!B28=0,\" \",COUNTRY_INFO!B28)","v":"Centre-Est"},{"$f":"IF(COUNTRY_INFO!C28=0,\" \",COUNTRY_INFO!C28)","v":"Tenkodogo"},{"$f":"IF(OR(COUNTRY_INFO!$T$9:$T$1000=\"T3 (ALB/MBD)\",COUNTRY_INFO!$U$9:$U$1000=\"T3 (ALB/MBD)\"), \"T3 (ALB/MBD)\", \" \")","v":" "},null,null,null,null,null,0,null,null,null,0," "," "," "," "]
[{"$f":"IF(COUNTRY_INFO!A29=0,\" \",COUNTRY_INFO!A29)","v":"Burkina Faso"},{"$f":"IF(COUNTRY_INFO!B29=0,\" \",COUNTRY_INFO!B29)","v":"Centre-Est"},{"$f":"IF(COUNTRY_INFO!C29=0,\" \",COUNTRY_INFO!C29)","v":"Zabré"},{"$f":"IF(OR(COUNTRY_INFO!$T$9:$T$1000=\"T3 (ALB/MBD)\",COUNTRY_INFO!$U$9:$U$1000=\"T3 (ALB/MBD)\"), \"T3 (ALB/MBD)\", \" \")","v":" "},null,null,null,null,null,0,null,null,null,0," "," "," "," "]
[{"$f":"IF(COUNTRY_INFO!A30=0,\" \",COUNTRY_INFO!A30)","v":"Burkina Faso"},{"$f":"IF(COUNTRY_INFO!B30=0,\" \",COUNTRY_INFO!B30)","v":"Centre-Nord"},{"$f":"IF(COUNTRY_INFO!C30=0,\" \",COUNTRY_INFO!C30)","v":"Barsalogo"},{"$f":"IF(OR(COUNTRY_INFO!$T$9:$T$1000=\"T3 (ALB/MBD)\",COUNTRY_INFO!$U$9:$U$1000=\"T3 (ALB/MBD)\"), \"T3 (ALB/MBD)\", \" \")","v":" "},null,null,null,null,null,0,null,null,null,0," "," "," "," "]
[{"$f":"IF(COUNTRY_INFO!A31=0,\" \",COUNTRY_INFO!A31)","v":"Burkina Faso"},{"$f":"IF(COUNTRY_INFO!B31=0,\" \",COUNTRY_INFO!B31)","v":"Centre-Nord"},{"$f":"IF(COUNTRY_INFO!C31=0,\" \",COUNTRY_INFO!C31)","v":"Boulsa"},{"$f":"IF(OR(COUNTRY_INFO!$T$9:$T$1000=\"T3 (ALB/MBD)\",COUNTRY_INFO!$U$9:$U$1000=\"T3 (ALB/MBD)\"), \"T3 (ALB/MBD)\", \" \")","v":" "},null,null,null,null,null,0,null,null,null,0," "," "," "," "]
[{"$f":"IF(COUNTRY_INFO!A32=0,\" \",COUNTRY_INFO!A32)","v":"Burkina Faso"},{"$f":"IF(COUNTRY_INFO!B32=0,\" \",COUNTRY_INFO!B32)","v":"Centre-Nord"},{"$f":"IF(COUNTRY_INFO!C32=0,\" \",COUNTRY_INFO!C32)","v":"Boussouma"},{"$f":"IF(OR(COUNTRY_INFO!$T$9:$T$1000=\"T3 (ALB/MBD)\",COUNTRY_INFO!$U$9:$U$1000=\"T3 (ALB/MBD)\"), \"T3 (ALB/MBD)\", \" \")","v":" "},null,null,null,null,null,0,null,null,null,0," "," "," "," "]
[{"$f":"IF(COUNTRY_INFO!A33=0,\" \",COUNTRY_INFO!A33)","v":"Burkina Faso"},{"$f":"IF(COUNTRY_INFO!B33=0,\" \",COUNTRY_INFO!B33)","v":"Centre-Nord"},{"$f":"IF(COUNTRY_INFO!C33=0,\" \",COUNTRY_INFO!C33)","v":"Kaya"},{"$f":"IF(OR(COUNTRY_INFO!$T$9:$T$1000=\"T3 (ALB/MBD)\",COUNTRY_INFO!$U$9:$U$1000=\"T3 (ALB/MBD)\"), \"T3 (ALB/MBD)\", \" \")","v":" "},null,null,null,null,null,0,null,null,null,0," "," "," "," "]
[{"$f":"IF(COUNTRY_INFO!A34=0,\" \",COUNTRY_INFO!A34)","v":"Burkina Faso"},{"$f":"IF(COUNTRY_INFO!B34=0,\" \",COUNTRY_INFO!B34)","v":"Centre-Nord"},{"$f":"IF(COUNTRY_INFO!C34=0,\" \",COUNTRY_INFO!C34)","v":"Kongoussi"},{"$f":"IF(OR(COUNTRY_INFO!$T$9:$T$1000=\"T3 (ALB/MBD)\",COUNTRY_INFO!$U$9:$U$1000=\"T3 (ALB/MBD)\"), \"T3 (ALB/MBD)\", \" \")","v":" "},null,null,null,null,null,0,null,null,null,0," "," "," "," "]
[{"$f":"IF(COUNTRY_INFO!A35=0,\" \",COUNTRY_INFO!A35)","v":"Burkina Faso"},{"$f":"IF(COUNTRY_INFO!B35=0,\" \",COUNTRY_INFO!B35)","v":"Centre-Nord"},{"$f":"IF(COUNTRY_INFO!C35=0,\" \",COUNTRY_INFO!C35)","v":"Tougouri"},{"$f":"IF(OR(COUNTRY_INFO!$T$9:$T$1000=\"T3 (ALB/MBD)\",COUNTRY_INFO!$U$9:$U$1000=\"T3 (ALB/MBD)\"), \"T3 (ALB/MBD)\", \" \")","v":" "},null,null,null,null,null,0,null,null,null,0," "," "," "," "]
[{"$f":"IF(COUNTRY_INFO!A36=0,\" \",COUNTRY_INFO!A36)","v":"Burkina Faso"},{"$f":"IF(COUNTRY_INFO!B36=0,\" \",COUNTRY_INFO!B36)","v":"Centre-Ouest"},{"$f":"IF(COUNTRY_INFO!C36=0,\" \",COUNTRY_INFO!C36)","v":"Koudougou"},{"$f":"IF(OR(COUNTRY_INFO!$T$9:$T$1000=\"T3 (ALB/MBD)\",COUNTRY_INFO!$U$9:$U$1000=\"T3 (ALB/MBD)\"), \"T3 (ALB/MBD)\", \" \")","v":" "},null,null,null,null,null,0,null,null,null,0," "," "," "," "]
[{"$f":"IF(COUNTRY_INFO!A37=0,\" \",COUNTRY_INFO!A37)","v":"Burkina Faso"},{"$f":"IF(COUNTRY_INFO!B37=0,\" \",COUNTRY_INFO!B37)","v":"Centre-Ouest"},{"$f":"IF(COUNTRY_INFO!C37=0,\" \",COUNTRY_INFO!C37)","v":"Léo"},{"$f":"IF(OR(COUNTRY_INFO!$T$9:$T$1000=\"T3 (ALB/MBD)\",COUNTRY_INFO!$U$9:$U$1000=\"T3 (ALB/MBD)\"), \"T3 (ALB/MBD)\", \" \")","v":" "},null,null,null,null,null,0,null,null,null,0," "," "," "," "]
[{"$f":"IF(COUNTRY_INFO!A38=0,\" \",COUNTRY_INFO!A38)","v":"Burkina Faso"},{"$f":"IF(COUNTRY_INFO!B38=0,\" \",COUNTRY_INFO!B38)","v":"Centre-Ouest"},{"$f":"IF(COUNTRY_INFO!C38=0,\" \",COUNTRY_INFO!C38)","v":"Nanoro"},{"$f":"IF(OR(COUNTRY_INFO!$T$9:$T$1000=\"T3 (ALB/MBD)\",COUNTRY_INFO!$U$9:$U$1000=\"T3 (ALB/MBD)\"), \"T3 (ALB/MBD)\", \" \")","v":" "},null,null,null,null,null,0,null,null,null,0," "," "," "," "]
[{"$f":"IF(COUNTRY_INFO!A39=0,\" \",COUNTRY_INFO!A39)","v":"Burkina Faso"},{"$f":"IF(COUNTRY_INFO!B39=0,\" \",COUNTRY_INFO!B39)","v":"Centre-Ouest"},{"$f":"IF(COUNTRY_INFO!C39=0,\" \",COUNTRY_INFO!C39)","v":"Réo"},{"$f":"IF(OR(COUNTRY_INFO!$T$9:$T$1000=\"T3 (ALB/MBD)\",COUNTRY_INFO!$U$9:$U$1000=\"T3 (ALB/MBD)\"), \"T3 (ALB/MBD)\", \" \")","v":" "},null,null,null,null,null,0,null,null,null,0," "," "," "," "]
[{"$f":"IF(COUNTRY_INFO!A40=0,\" \",COUNTRY_INFO!A40)","v":"Burkina Faso"},{"$f":"IF(COUNTRY_INFO!B40=0,\" \",COUNTRY_INFO!B40)","v":"Centre-Ouest"},{"$f":"IF(COUNTRY_INFO!C40=0,\" \",COUNTRY_INFO!C40)","v":"Sabou"},{"$f":"IF(OR(COUNTRY_INFO!$T$9:$T$1000=\"T3 (ALB/MBD)\",COUNTRY_INFO!$U$9:$U$1000=\"T3 (ALB/MBD)\"), \"T3 (ALB/MBD)\", \" \")","v":" "},null,null,null,null,null,0,null,null,null,0," "," "," "," "]
[{"$f":"IF(COUNTRY_INFO!A41=0,\" \",COUNTRY_INFO!A41)","v":"Burkina Faso"},{"$f":"IF(COUNTRY_INFO!B41=0,\" \",COUNTRY_INFO!B41)","v":"Centre-Ouest"},{"$f":"IF(COUNTRY_INFO!C41=0,\" \",COUNTRY_INFO!C41)","v":"Sapouy"},{"$f":"IF(OR(COUNTRY_INFO!$T$9:$T$1000=\"T3 (ALB/MBD)\",COUNTRY_INFO!$U$9:$U$1000=\"T3 (ALB/MBD)\"), \"T3 (ALB/MBD)\", \" \")","v":" "},null,null,null,null,null,0,null,null,null,0," "," "," "," "]
[{"$f":"IF(COUNTRY_INFO!A42=0,\" \",COUNTRY_INFO!A42)","v":"Burkina Faso"},{"$f":"IF(COUNTRY_INFO!B42=0,\" \",COUNTRY_INFO!B42)","v":"Centre-Ouest"},{"$f":"IF(COUNTRY_INFO!C42=0,\" \",COUNTRY_INFO!C42)","v":"Tenado"},{"$f":"IF(OR(COUNTRY_INFO!$T$9:$T$1000=\"T3 (ALB/MBD)\",COUNTRY_INFO!$U$9:$U$1000=\"T3 (ALB/MBD)\"), \"T3 (ALB/MBD)\", \" \")","v":" "},null,null,null,null,null,0,null,null,null,0," "," "," "," "]
[{"$f":"IF(COUNTRY_INFO!A43=0,\" \",COUNTRY_INFO!A43)","v":"Burkina Faso"},{"$f":"IF(COUNTRY_INFO!B43=0,\" \",COUNTRY_INFO!B43)","v":"Centre-Sud"},{"$f":"IF(COUNTRY_INFO!C43=0,\" \",COUNTRY_INFO!C43)","v":"Kombissiri"},{"$f":"IF(OR(COUNTRY_INFO!$T$9:$T$1000=\"T3 (ALB/MBD)\",COUNTRY_INFO!$U$9:$U$1000=\"T3 (ALB/MBD)\"), \"T3 (ALB/MBD)\", \" \")","v":" "},null,null,null,null,null,0,null,null,null,0," "," "," "," "]
[{"$f":"IF(COUNTRY_INFO!A44=0,\" \",COUNTRY_INFO!A44)","v":"Burkina Faso"},{"$f":"IF(COUNTRY_INFO!B44=0,\" \",COUNTRY_INFO!B44)","v":"Centre-Sud"},{"$f":"IF(COUNTRY_INFO!C44=0,\" \",COUNTRY_INFO!C44)","v":"Manga"},{"$f":"IF(OR(COUNTRY_INFO!$T$9:$T$1000=\"T3 (ALB/MBD)\",COUNTRY_INFO!$U$9:$U$1000=\"T3 (ALB/MBD)\"), \"T3 (ALB/MBD)\", \" \")","v":" "},null,null,null,null,null,0,null,null,null,0," "," "," "," "]
[{"$f":"IF(COUNTRY_INFO!A45=0,\" \",COUNTRY_INFO!A45)","v":"Burkina Faso"},{"$f":"IF(COUNTRY_INFO!B45=0,\" \",COUNTRY_INFO!B45)","v":"Centre-Sud"},{"$f":"IF(COUNTRY_INFO!C45=0,\" \",COUNTRY_INFO!C45)","v":"Pô"},{"$f":"IF(OR(COUNTRY_INFO!$T$9:$T$1000=\"T3 (ALB/MBD)\",COUNTRY_INFO!$U$9:$U$1000=\"T3 (ALB/MBD)\"), \"T3 (ALB/MBD)\", \" \")","v":" "},null,null,null,null,null,0,null,null,null,0," "," "," "," "]
[{"$f":"IF(COUNTRY_INFO!A46=0,\" \",COUNTRY_INFO!A46)","v":"Burkina Faso"},{"$f":"IF(COUNTRY_INFO!B46=0,\" \",COUNTRY_INFO!B46)","v":"Centre-Sud"},{"$f":"IF(COUNTRY_INFO!C46=0,\" \",COUNTRY_INFO!C46)","v":"Saponé"},{"$f":"IF(OR(COUNTRY_INFO!$T$9:$T$1000=\"T3 (ALB/MBD)\",COUNTRY_INFO!$U$9:$U$1000=\"T3 (ALB/MBD)\"), \"T3 (ALB/MBD)\", \" \")","v":" "},null,null,null,null,null,0,null,null,null,0," "," "," "," "]
[{"$f":"IF(COUNTRY_INFO!A47=0,\" \",COUNTRY_INFO!A47)","v":"Burkina Faso"},{"$f":"IF(COUNTRY_INFO!B47=0,\" \",COUNTRY_INFO!B47)","v":"Est"},{"$f":"IF(COUNTRY_INFO!C47=0,\" \",COUNTRY_INFO!C47)","v":"Bogandé"},{"$f":"IF(OR(COUNTRY_INFO!$T$9:$T$1000=\"T3 (ALB/MBD)\",COUNTRY_INFO!$U$9:$U$1000=\"T3 (ALB/MBD)\"), \"T3 (ALB/MBD)\", \" \")","v":" "},null,null,null,null,null,0,null,null,null,0," "," "," "," "]
[{"$f":"IF(COUNTRY_INFO!A48=0,\" \",COUNTRY_INFO!A48)","v":"Burkina Faso"},{"$f":"IF(COUNTRY_INFO!B48=0,\" \",COUNTRY_INFO!B48)","v":"Est"},{"$f":"IF(COUNTRY_INFO!C48=0,\" \",COUNTRY_INFO!C48)","v":"Diapaga"},{"$f":"IF(OR(COUNTRY_INFO!$T$9:$T$1000=\"T3 (ALB/MBD)\",COUNTRY_INFO!$U$9:$U$1000=\"T3 (ALB/MBD)\"), \"T3 (ALB/MBD)\", \" \")","v":" "},null,null,null,null,null,0,null,null,null,0," "," "," "," "]
[{"$f":"IF(COUNTRY_INFO!A49=0,\" \",COUNTRY_INFO!A49)","v":"Burkina Faso"},{"$f":"IF(COUNTRY_INFO!B49=0,\" \",COUNTRY_INFO!B49)","v":"Est"},{"$f":"IF(COUNTRY_INFO!C49=0,\" \",COUNTRY_INFO!C49)","v":"Fada N'gourma"},{"$f":"IF(OR(COUNTRY_INFO!$T$9:$T$1000=\"T3 (ALB/MBD)\",COUNTRY_INFO!$U$9:$U$1000=\"T3 (ALB/MBD)\"), \"T3 (ALB/MBD)\", \" \")","v":" "},null,null,null,null,null,0,null,null,null,0," "," "," "," "]
[{"$f":"IF(COUNTRY_INFO!A50=0,\" \",COUNTRY_INFO!A50)","v":"Burkina Faso"},{"$f":"IF(COUNTRY_INFO!B50=0,\" \",COUNTRY_INFO!B50)","v":"Est"},{"$f":"IF(COUNTRY_INFO!C50=0,\" \",COUNTRY_INFO!C50)","v":"Gayeri"},{"$f":"IF(OR(COUNTRY_INFO!$T$9:$T$1000=\"T3 (ALB/MBD)\",COUNTRY_INFO!$U$9:$U$1000=\"T3 (ALB/MBD)\"), \"T3 (ALB/MBD)\", \" \")","v":" "},null,null,null,null,null,0,null,null,null,0," "," "," "," "]
[{"$f":"IF(COUNTRY_INFO!A51=0,\" \",COUNTRY_INFO!A51)","v":"Burkina Faso"},{"$f":"IF(COUNTRY_INFO!B51=0,\" \",COUNTRY_INFO!B51)","v":"Est"},{"$f":"IF(COUNTRY_INFO!C51=0,\" \",COUNTRY_INFO!C51)","v":"Manni"},{"$f":"IF(OR(COUNTRY_INFO!$T$9:$T$1000=\"T3 (ALB/MBD)\",COUNTRY_INFO!$U$9:$U$1000=\"T3 (ALB/MBD)\"), \"T3 (ALB/MBD)\", \" \")","v":" "},null,null,null,null,null,0,null,null,null,0," "," "," "," "]
[{"$f":"IF(COUNTRY_INFO!A52=0,\" \",COUNTRY_INFO!A52)","v":"Burkina Faso"},{"$f":"IF(COUNTRY_INFO!B52=0,\" \",COUNTRY_INFO!B52)","v":"Est"},{"$f":"IF(COUNTRY_INFO!C52=0,\" \",COUNTRY_INFO!C52)","v":"Pama"},{"$f":"IF(OR(COUNTRY_INFO!$T$9:$T$1000=\"T3 (ALB/MBD)\",COUNTRY_INFO!$U$9:$U$1000=\"T3 (ALB/MBD)\"), \"T3 (ALB/MBD)\", \" \")","v":" "},null,null,null,null,null,0,null,null,null,0," "," "," "," "]
[{"$f":"IF(COUNTRY_INFO!A53=0,\" \",COUNTRY_INFO!A53)","v":"Burkina Faso"},{"$f":"IF(COUNTRY_INFO!B53=0,\" \",COUNTRY_INFO!B53)","v":"Hauts-Bassins"},{"$f":"IF(COUNTRY_INFO!C53=0,\" \",COUNTRY_INFO!C53)","v":"Dafra"},{"$f":"IF(OR(COUNTRY_INFO!$T$9:$T$1000=\"T3 (ALB/MBD)\",COUNTRY_INFO!$U$9:$U$1000=\"T3 (ALB/MBD)\"), \"T3 (ALB/MBD)\", \" \")","v":" "},null,null,null,null,null,0,null,null,null,0," "," "," "," "]
[{"$f":"IF(COUNTRY_INFO!A54=0,\" \",COUNTRY_INFO!A54)","v":"Burkina Faso"},{"$f":"IF(COUNTRY_INFO!B54=0,\" \",COUNTRY_INFO!B54)","v":"Hauts-Bassins"},{"$f":"IF(COUNTRY_INFO!C54=0,\" \",COUNTRY_INFO!C54)","v":"Dandé"},{"$f":"IF(OR(COUNTRY_INFO!$T$9:$T$1000=\"T3 (ALB/MBD)\",COUNTRY_INFO!$U$9:$U$1000=\"T3 (ALB/MBD)\"), \"T3 (ALB/MBD)\", \" \")","v":" "},null,null,null,null,null,0,null,null,null,0," "," "," "," "]
[{"$f":"IF(COUNTRY_INFO!A55=0,\" \",COUNTRY_INFO!A55)","v":"Burkina Faso"},{"$f":"IF(COUNTRY_INFO!B55=0,\" \",COUNTRY_INFO!B55)","v":"Hauts-Bassins"},{"$f":"IF(COUNTRY_INFO!C55=0,\" \",COUNTRY_INFO!C55)","v":"Dô"},{"$f":"IF(OR(COUNTRY_INFO!$T$9:$T$1000=\"T3 (ALB/MBD)\",COUNTRY_INFO!$U$9:$U$1000=\"T3 (ALB/MBD)\"), \"T3 (ALB/MBD)\", \" \")","v":" "},null,null,null,null,null,0,null,null,null,0," "," "," "," "]
[{"$f":"IF(COUNTRY_INFO!A56=0,\" \",COUNTRY_INFO!A56)","v":"Burkina Faso"},{"$f":"IF(COUNTRY_INFO!B56=0,\" \",COUNTRY_INFO!B56)","v":"Hauts-Bassins"},{"$f":"IF(COUNTRY_INFO!C56=0,\" \",COUNTRY_INFO!C56)","v":"Houndé"},{"$f":"IF(OR(COUNTRY_INFO!$T$9:$T$1000=\"T3 (ALB/MBD)\",COUNTRY_INFO!$U$9:$U$1000=\"T3 (ALB/MBD)\"), \"T3 (ALB/MBD)\", \" \")","v":" "},null,null,null,null,null,0,null,null,null,0," "," "," "," "]
[{"$f":"IF(COUNTRY_INFO!A57=0,\" \",COUNTRY_INFO!A57)","v":"Burkina Faso"},{"$f":"IF(COUNTRY_INFO!B57=0,\" \",COUNTRY_INFO!B57)","v":"Hauts-Bassins"},{"$f":"IF(COUNTRY_INFO!C57=0,\" \",COUNTRY_INFO!C57)","v":"Karangasso-Vigué"},{"$f":"IF(OR(COUNTRY_INFO!$T$9:$T$1000=\"T3 (ALB/MBD)\",COUNTRY_INFO!$U$9:$U$1000=\"T3 (ALB/MBD)\"), \"T3 (ALB/MBD)\", \" \")","v":" "},null,null,null,null,null,0,null,null,null,0," "," "," "," "]
[{"$f":"IF(COUNTRY_INFO!A58=0,\" \",COUNTRY_INFO!A58)","v":"Burkina Faso"},{"$f":"IF(COUNTRY_INFO!B58=0,\" \",COUNTRY_INFO!B58)","v":"Hauts-Bassins"},{"$f":"IF(COUNTRY_INFO!C58=0,\" \",COUNTRY_INFO!C58)","v":"Lena"},{"$f":"IF(OR(COUNTRY_INFO!$T$9:$T$1000=\"T3 (ALB/MBD)\",COUNTRY_INFO!$U$9:$U$1000=\"T3 (ALB/MBD)\"), \"T3 (ALB/MBD)\", \" \")","v":" "},null,null,null,null,null,0,null,null,null,0," "," "," "," "]
[{"$f":"IF(COUNTRY_INFO!A59=0,\" \",COUNTRY_INFO!A59)","v":"Burkina Faso"},{"$f":"IF(COUNTRY_INFO!B59=0,\" \",COUNTRY_INFO!B59)","v":"Hauts-Bassins"},{"$f":"IF(COUNTRY_INFO!C59=0,\" \",COUNTRY_INFO!C59)","v":"N'Dorola"},{"$f":"IF(OR(COUNTRY_INFO!$T$9:$T$1000=\"T3 (ALB/MBD)\",COUNTRY_INFO!$U$9:$U$1000=\"T3 (ALB/MBD)\"), \"T3 (ALB/MBD)\", \" \")","v":" "},null,null,null,null,null,0,null,null,null,0," "," "," "," "]
[{"$f":"IF(COUNTRY_INFO!A60=0,\" \",COUNTRY_INFO!A60)","v":"Burkina Faso"},{"$f":"IF(COUNTRY_INFO!B60=0,\" \",COUNTRY_INFO!B60)","v":"Hauts-Bassins"},{"$f":"IF(COUNTRY_INFO!C60=0,\" \",COUNTRY_INFO!C60)","v":"Orodara"},{"$f":"IF(OR(COUNTRY_INFO!$T$9:$T$1000=\"T3 (ALB/MBD)\",COUNTRY_INFO!$U$9:$U$1000=\"T3 (ALB/MBD)\"), \"T3 (ALB/MBD)\", \" \")","v":" "},null,null,null,null,null,0,null,null,null,0," "," "," "," "]
[{"$f":"IF(COUNTRY_INFO!A61=0,\" \",COUNTRY_INFO!A61)","v":"Burkina Faso"},{"$f":"IF(COUNTRY_INFO!B61=0,\" \",COUNTRY_INFO!B61)","v":"Nord"},{"$f":"IF(COUNTRY_INFO!C61=0,\" \",COUNTRY_INFO!C61)","v":"Gourcy"},{"$f":"IF(OR(COUNTRY_INFO!$T$9:$T$1000=\"T3 (ALB/MBD)\",COUNTRY_INFO!$U$9:$U$1000=\"T3 (ALB/MBD)\"), \"T3 (ALB/MBD)\", \" \")","v":" "},null,null,null,null,null,0,null,null,null,0," "," "," "," "]
[{"$f":"IF(COUNTRY_INFO!A62=0,\" \",COUNTRY_INFO!A62)","v":"Burkina Faso"},{"$f":"IF(COUNTRY_INFO!B62=0,\" \",COUNTRY_INFO!B62)","v":"Nord"},{"$f":"IF(COUNTRY_INFO!C62=0,\" \",COUNTRY_INFO!C62)","v":"Ouahigouya"},{"$f":"IF(OR(COUNTRY_INFO!$T$9:$T$1000=\"T3 (ALB/MBD)\",COUNTRY_INFO!$U$9:$U$1000=\"T3 (ALB/MBD)\"), \"T3 (ALB/MBD)\", \" \")","v":" "},null,null,null,null,null,0,null,null,null,0," "," "," "," "]
[{"$f":"IF(COUNTRY_INFO!A63=0,\" \",COUNTRY_INFO!A63)","v":"Burkina Faso"},{"$f":"IF(COUNTRY_INFO!B63=0,\" \",COUNTRY_INFO!B63)","v":"Nord"},{"$f":"IF(COUNTRY_INFO!C63=0,\" \",COUNTRY_INFO!C63)","v":"Seguenega"},{"$f":"IF(OR(COUNTRY_INFO!$T$9:$T$1000=\"T3 (ALB/MBD)\",COUNTRY_INFO!$U$9:$U$1000=\"T3 (ALB/MBD)\"), \"T3 (ALB/MBD)\", \" \")","v":" "},null,null,null,null,null,0,null,null,null,0," "," "," "," "]
[{"$f":"IF(COUNTRY_INFO!A64=0,\" \",COUNTRY_INFO!A64)","v":"Burkina Faso"},{"$f":"IF(COUNTRY_INFO!B64=0,\" \",COUNTRY_INFO!B64)","v":"Nord"},{"$f":"IF(COUNTRY_INFO!C64=0,\" \",COUNTRY_INFO!C64)","v":"Thiou"},{"$f":"IF(OR(COUNTRY_INFO!$T$9:$T$1000=\"T3 (ALB/MBD)\",COUNTRY_INFO!$U$9:$U$1000=\"T3 (ALB/MBD)\"), \"T3 (ALB/MBD)\", \" \")","v":" "},null,null,null,null,null,0,null,null,null,0," "," "," "," "]
[{"$f":"IF(COUNTRY_INFO!A65=0,\" \",COUNTRY_INFO!A65)","v":"Burkina Faso"},{"$f":"IF(COUNTRY_INFO!B65=0,\" \",COUNTRY_INFO!B65)","v":"Nord"},{"$f":"IF(COUNTRY_INFO!C65=0,\" \",COUNTRY_INFO!C65)","v":"Titao"},{"$f":"IF(OR(COUNTRY_INFO!$T$9:$T$1000=\"T3 (ALB/MBD)\",COUNTRY_INFO!$U$9:$U$1000=\"T3 (ALB/MBD)\"), \"T3 (ALB/MBD)\", \" \")","v":" "},null,null,null,null,null,0,null,null,null,0," "," "," "," "]
[{"$f":"IF(COUNTRY_INFO!A66=0,\" \",COUNTRY_INFO!A66)","v":"Burkina Faso"},{"$f":"IF(COUNTRY_INFO!B66=0,\" \",COUNTRY_INFO!B66)","v":"Nord"},{"$f":"IF(COUNTRY_INFO!C66=0,\" \",COUNTRY_INFO!C66)","v":"Yako"},{"$f":"IF(OR(COUNTRY_INFO!$T$9:$T$1000=\"T3 (ALB/MBD)\",COUNTRY_INFO!$U$9:$U$1000=\"T3 (ALB/MBD)\"), \"T3 (ALB/MBD)\", \" \")","v":" "},null,null,null,null,null,0,null,null,null,0," "," "," "," "]
[{"$f":"IF(COUNTRY_INFO!A67=0,\" \",COUNTRY_INFO!A67)","v":"Burkina Faso"},{"$f":"IF(COUNTRY_INFO!B67=0,\" \",COUNTRY_INFO!B67)","v":"Plateau Central"},{"$f":"IF(COUNTRY_INFO!C67=0,\" \",COUNTRY_INFO!C67)","v":"Boussé"},{"$f":"IF(OR(COUNTRY_INFO!$T$9:$T$1000=\"T3 (ALB/MBD)\",COUNTRY_INFO!$U$9:$U$1000=\"T3 (ALB/MBD)\"), \"T3 (ALB/MBD)\", \" \")","v":" "},null,null,null,null,null,0,null,null,null,0," "," "," "," "]
[{"$f":"IF(COUNTRY_INFO!A68=0,\" \",COUNTRY_INFO!A68)","v":"Burkina Faso"},{"$f":"IF(COUNTRY_INFO!B68=0,\" \",COUNTRY_INFO!B68)","v":"Plateau Central"},{"$f":"IF(COUNTRY_INFO!C68=0,\" \",COUNTRY_INFO!C68)","v":"Ziniaré"},{"$f":"IF(OR(COUNTRY_INFO!$T$9:$T$1000=\"T3 (ALB/MBD)\",COUNTRY_INFO!$U$9:$U$1000=\"T3 (ALB/MBD)\"), \"T3 (ALB/MBD)\", \" \")","v":" "},null,null,null,null,null,0,null,null,null,0," "," "," "," "]
[{"$f":"IF(COUNTRY_INFO!A69=0,\" \",COUNTRY_INFO!A69)","v":"Burkina Faso"},{"$f":"IF(COUNTRY_INFO!B69=0,\" \",COUNTRY_INFO!B69)","v":"Plateau Central"},{"$f":"IF(COUNTRY_INFO!C69=0,\" \",COUNTRY_INFO!C69)","v":"Zorgho"},{"$f":"IF(OR(COUNTRY_INFO!$T$9:$T$1000=\"T3 (ALB/MBD)\",COUNTRY_INFO!$U$9:$U$1000=\"T3 (ALB/MBD)\"), \"T3 (ALB/MBD)\", \" \")","v":" "},null,null,null,null,null,0,null,null,null,0," "," "," "," "]
[{"$f":"IF(COUNTRY_INFO!A70=0,\" \",COUNTRY_INFO!A70)","v":"Burkina Faso"},{"$f":"IF(COUNTRY_INFO!B70=0,\" \",COUNTRY_INFO!B70)","v":"Sahel"},{"$f":"IF(COUNTRY_INFO!C70=0,\" \",COUNTRY_INFO!C70)","v":"Djibo"},{"$f":"IF(OR(COUNTRY_INFO!$T$9:$T$1000=\"T3 (ALB/MBD)\",COUNTRY_INFO!$U$9:$U$1000=\"T3 (ALB/MBD)\"), \"T3 (ALB/MBD)\", \" \")","v":" "},null,null,null,null,null,0,null,null,null,0," "," "," "," "]
[{"$f":"IF(COUNTRY_INFO!A71=0,\" \",COUNTRY_INFO!A71)","v":"Burkina Faso"},{"$f":"IF(COUNTRY_INFO!B71=0,\" \",COUNTRY_INFO!B71)","v":"Sahel"},{"$f":"IF(COUNTRY_INFO!C71=0,\" \",COUNTRY_INFO!C71)","v":"Dori"},{"$f":"IF(OR(COUNTRY_INFO!$T$9:$T$1000=\"T3 (ALB/MBD)\",COUNTRY_INFO!$U$9:$U$1000=\"T3 (ALB/MBD)\"), \"T3 (ALB/MBD)\", \" \")","v":" "},null,null,null,null,null,0,null,null,null,0," "," "," "," "]
[{"$f":"IF(COUNTRY_INFO!A72=0,\" \",COUNTRY_INFO!A72)","v":"Burkina Faso"},{"$f":"IF(COUNTRY_INFO!B72=0,\" \",COUNTRY_INFO!B72)","v":"Sahel"},{"$f":"IF(COUNTRY_INFO!C72=0,\" \",COUNTRY_INFO!C72)","v":"Gorom-Gorom"},{"$f":"IF(OR(COUNTRY_INFO!$T$9:$T$1000=\"T3 (ALB/MBD)\",COUNTRY_INFO!$U$9:$U$1000=\"T3 (ALB/MBD)\"), \"T3 (ALB/MBD)\", \" \")","v":" "},null,null,null,null,null,0,null,null,null,0," "," "," "," "]
[{"$f":"IF(COUNTRY_INFO!A73=0,\" \",COUNTRY_INFO!A73)","v":"Burkina Faso"},{"$f":"IF(COUNTRY_INFO!B73=0,\" \",COUNTRY_INFO!B73)","v":"Sahel"},{"$f":"IF(COUNTRY_INFO!C73=0,\" \",COUNTRY_INFO!C73)","v":"Sebba"},{"$f":"IF(OR(COUNTRY_INFO!$T$9:$T$1000=\"T3 (ALB/MBD)\",COUNTRY_INFO!$U$9:$U$1000=\"T3 (ALB/MBD)\"), \"T3 (ALB/MBD)\", \" \")","v":" "},null,null,null,null,null,0,null,null,null,0," "," "," "," "]
[{"$f":"IF(COUNTRY_INFO!A74=0,\" \",COUNTRY_INFO!A74)","v":"Burkina Faso"},{"$f":"IF(COUNTRY_INFO!B74=0,\" \",COUNTRY_INFO!B74)","v":"Sud-Ouest"},{"$f":"IF(COUNTRY_INFO!C74=0,\" \",COUNTRY_INFO!C74)","v":"Batié"},{"$f":"IF(OR(COUNTRY_INFO!$T$9:$T$1000=\"T3 (ALB/MBD)\",COUNTRY_INFO!$U$9:$U$1000=\"T3 (ALB/MBD)\"), \"T3 (ALB/MBD)\", \" \")","v":" "},null,null,null,null,null,{"$f":"SUM(G74:I74)","v":0},null,null,null,{"$f":"SUM(K74:M74)","v":0},{"$f":"IF(G74<>0, IF(K74/G74*100=0, \"-\", K74/G74*100), \" \")","v":" "},{"$f":"IF(H74<>0, IF(L74/H74*100=0, \"-\", L74/H74*100), \" \")","v":" "},{"$f":"IF(I74<>0, IF(M74/I74*100=0, \"-\", M74/I74*100), \" \")","v":" "},{"$f":"IF(J74<>0, IF(N74/J74*100=0, \"-\", N74/J74*100), \" \")","v":" "}]
[{"$f":"IF(COUNTRY_INFO!A75=0,\" \",COUNTRY_INFO!A75)","v":"Burkina Faso"},{"$f":"IF(COUNTRY_INFO!B75=0,\" \",COUNTRY_INFO!B75)","v":"Sud-Ouest"},{"$f":"IF(COUNTRY_INFO!C75=0,\" \",COUNTRY_INFO!C75)","v":"Dano"},{"$f":"IF(OR(COUNTRY_INFO!$T$9:$T$1000=\"T3 (ALB/MBD)\",COUNTRY_INFO!$U$9:$U$1000=\"T3 (ALB/MBD)\"), \"T3 (ALB/MBD)\", \" \")","v":" "},null,null,null,null,null,0,null,null,null,0," "," "," "," "]
[{"$f":"IF(COUNTRY_INFO!A76=0,\" \",COUNTRY_INFO!A76)","v":"Burkina Faso"},{"$f":"IF(COUNTRY_INFO!B76=0,\" \",COUNTRY_INFO!B76)","v":"Sud-Ouest"},{"$f":"IF(COUNTRY_INFO!C76=0,\" \",COUNTRY_INFO!C76)","v":"Diébougou"},{"$f":"IF(OR(COUNTRY_INFO!$T$9:$T$1000=\"T3 (ALB/MBD)\",COUNTRY_INFO!$U$9:$U$1000=\"T3 (ALB/MBD)\"), \"T3 (ALB/MBD)\", \" \")","v":" "},null,null,null,null,null,0,null,null,null,0," "," "," "," "]
[{"$f":"IF(COUNTRY_INFO!A77=0,\" \",COUNTRY_INFO!A77)","v":"Burkina Faso"},{"$f":"IF(COUNTRY_INFO!B77=0,\" \",COUNTRY_INFO!B77)","v":"Sud-Ouest"},{"$f":"IF(COUNTRY_INFO!C77=0,\" \",COUNTRY_INFO!C77)","v":"Gaoua"},{"$f":"IF(OR(COUNTRY_INFO!$T$9:$T$1000=\"T3 (ALB/MBD)\",COUNTRY_INFO!$U$9:$U$1000=\"T3 (ALB/MBD)\"), \"T3 (ALB/MBD)\", \" \")","v":" "},null,null,null,null,null,0,null,null,null,0," "," "," "," "]
[{"$f":"IF(COUNTRY_INFO!A78=0,\" \",COUNTRY_INFO!A78)","v":"Burkina Faso"},{"$f":"IF(COUNTRY_INFO!B78=0,\" \",COUNTRY_INFO!B78)","v":"Sud-Ouest"},{"$f":"IF(COUNTRY_INFO!C78=0,\" \",COUNTRY_INFO!C78)","v":"Kampti"},{"$f":"IF(OR(COUNTRY_INFO!$T$9:$T$1000=\"T3 (ALB/MBD)\",COUNTRY_INFO!$U$9:$U$1000=\"T3 (ALB/MBD)\"), \"T3 (ALB/MBD)\", \" \")","v":" "},null,null,null,null,null,0,null,null,null,0," "," "," "," "]

{"sheet":"T3_R2","index":8,"n_rows":78,"n_cols":18,"rows_kept":78,"cut":false,"hidden":false,"merged":[[5,6,5,9],[5,10,5,13],[5,14,5,17],[3,0,3,2],[5,0,5,2],[5,3,6,3],[5,5,6,5],[5,4,6,4]]}
["T 3 - Albendazole (ALB) ou Mebendazole (MBD) - Tournée 2"]
["Structure administrative, population nécessitant une chimioprévention par groupe d'âge, population traitée par groupe d'âge et couverture"]
[]
["TOTAL",null,null,null,null,null,{"$f":"SUM(G$9:G$1000)","v":0},0,0,0,0,0,0,0,{"$f":"IF(G4<>0, IF(K4/G4*100=0, \"-\", K4/G4*100), \" \")","v":" "},{"$f":"IF(H4<>0, IF(L4/H4*100=0, \"-\", L4/H4*100), \" \")","v":" "},{"$f":"IF(I4<>0, IF(M4/I4*100=0, \"-\", M4/I4*100), \" \")","v":" "},{"$f":"IF(J4<>0, IF(N4/J4*100=0, \"-\", N4/J4*100), \" \")","v":" "}]
[]
["Structure administrative du pays",null,null,"Mise en oeuvre \nde la CP","Médica-ment","Date","Population ciblée pour T3",null,null,null,"Population traitée",null,null,null,"Couverture du Programme (%)"]
["Pays","Région/Département","District",null,null,null,"EAPréS","EAS","Adultes","Total","EAPréS","EAS","Adultes","Total","EAPréS","EAS","Adultes","Total"]
[]
[{"$f":"IF(COUNTRY_INFO!A9=0,\" \",COUNTRY_INFO!A9)","v":"Burkina Faso"},{"$f":"IF(COUNTRY_INFO!B9=0,\" \",COUNTRY_INFO!B9)","v":"Boucle du Mouhoun"},{"$f":"IF(COUNTRY_INFO!C9=0,\" \",COUNTRY_INFO!C9)","v":"Boromo"},{"$f":"IF(AND(COUNTRY_INFO!$T$9:$T$1000=\"T3 (ALB/MBD)\",COUNTRY_INFO!$U$9:$U$1000=\"T3 (ALB/MBD)\"), \"T3 (ALB/MBD)\", \" \")","v":" "},null,null,null,null,null,{"$f":"SUM(G9:I9)","v":0},null,null,null,{"$f":"SUM(K9:M9)","v":0},{"$f":"IF(G9<>0, IF(K9/G9*100=0, \"-\", K9/G9*100), \" \")","v":" "}," "," "," "]
[{"$f":"IF(COUNTRY_INFO!A10=0,\" \",COUNTRY_INFO!A10)","v":"Burkina Faso"},{"$f":"IF(COUNTRY_INFO!B10=0,\" \",COUNTRY_INFO!B10)","v":"Boucle du Mouhoun"},{"$f":"IF(COUNTRY_INFO!C10=0,\" \",COUNTRY_INFO!C10)","v":"Dédougou"},{"$f":"IF(AND(COUNTRY_INFO!$T$9:$T$1000=\"T3 (ALB/MBD)\",COUNTRY_INFO!$U$9:$U$1000=\"T3 (ALB/MBD)\"), \"T3 (ALB/MBD)\", \" \")","v":" "},null,null,null,null,null,{"$f":"SUM(G10:I10)","v":0},null,null,null,{"$f":"SUM(K10:M10)","v":0},{"$f":"IF(G10<>0, IF(K10/G10*100=0, \"-\", K10/G10*100), \" \")","v":" "},{"$f":"IF(H10<>0, IF(L10/H10*100=0, \"-\", L10/H10*100), \" \")","v":" "},{"$f":"IF(I10<>0, IF(M10/I10*100=0, \"-\", M10/I10*100), \" \")","v":" "},{"$f":"IF(J10<>0, IF(N10/J10*100=0, \"-\", N10/J10*100), \" \")","v":" "}]
[{"$f":"IF(COUNTRY_INFO!A11=0,\" \",COUNTRY_INFO!A11)","v":"Burkina Faso"},{"$f":"IF(COUNTRY_INFO!B11=0,\" \",COUNTRY_INFO!B11)","v":"Boucle du Mouhoun"},{"$f":"IF(COUNTRY_INFO!C11=0,\" \",COUNTRY_INFO!C11)","v":"Nouna"},{"$f":"IF(AND(COUNTRY_INFO!$T$9:$T$1000=\"T3 (ALB/MBD)\",COUNTRY_INFO!$U$9:$U$1000=\"T3 (ALB/MBD)\"), \"T3 (ALB/MBD)\", \" \")","v":" "},null,null,null,null,null,0,null,null,null,0," "," "," "," "]
[{"$f":"IF(COUNTRY_INFO!A12=0,\" \",COUNTRY_INFO!A12)","v":"Burkina Faso"},{"$f":"IF(COUNTRY_INFO!B12=0,\" \",COUNTRY_INFO!B12)","v":"Boucle du Mouhoun"},{"$f":"IF(COUNTRY_INFO!C12=0,\" \",COUNTRY_INFO!C12)","v":"Solenzo"},{"$f":"IF(AND(COUNTRY_INFO!$T$9:$T$1000=\"T3 (ALB/MBD)\",COUNTRY_INFO!$U$9:$U$1000=\"T3 (ALB/MBD)\"), \"T3 (ALB/MBD)\", \" \")","v":" "},null,null,null,null,null,0,null,null,null,0," "," "," "," "]
[{"$f":"IF(COUNTRY_INFO!A13=0,\" \",COUNTRY_INFO!A13)","v":"Burkina Faso"},{"$f":"IF(COUNTRY_INFO!B13=0,\" \",COUNTRY_INFO!B13)","v":"Boucle du Mouhoun"},{"$f":"IF(COUNTRY_INFO!C13=0,\" \",COUNTRY_INFO!C13)","v":"Toma"},{"$f":"IF(AND(COUNTRY_INFO!$T$9:$T$1000=\"T3 (ALB/MBD)\",COUNTRY_INFO!$U$9:$U$1000=\"T3 (ALB/MBD)\"), \"T3 (ALB/MBD)\", \" \")","v":" "},null,null,null,null,null,0,null,null,null,0," "," "," "," "]
[{"$f":"IF(COUNTRY_INFO!A14=0,\" \",COUNTRY_INFO!A14)","v":"Burkina Faso"},{"$f":"IF(COUNTRY_INFO!B14=0,\" \",COUNTRY_INFO!B14)","v":"Boucle du Mouhoun"},{"$f":"IF(COUNTRY_INFO!C14=0,\" \",COUNTRY_INFO!C14)","v":"Tougan"},{"$f":"IF(AND(COUNTRY_INFO!$T$9:$T$1000=\"T3 (ALB/MBD)\",COUNTRY_INFO!$U$9:$U$1000=\"T3 (ALB/MBD)\"), \"T3 (ALB/MBD)\", \" \")","v":" "},null,null,null,null,null,0,null,null,null,0," "," "," "," "]
[{"$f":"IF(COUNTRY_INFO!A15=0,\" \",COUNTRY_INFO!A15)","v":"Burkina Faso"},{"$f":"IF(COUNTRY_INFO!B15=0,\" \",COUNTRY_INFO!B15)","v":"Cascades"},{"$f":"IF(COUNTRY_INFO!C15=0,\" \",COUNTRY_INFO!C15)","v":"Banfora"},{"$f":"IF(AND(COUNTRY_INFO!$T$9:$T$1000=\"T3 (ALB/MBD)\",COUNTRY_INFO!$U$9:$U$1000=\"T3 (ALB/MBD)\"), \"T3 (ALB/MBD)\", \" \")","v":" "},null,null,null,null,null,0,null,null,null,0," "," "," "," "]
[{"$f":"IF(COUNTRY_INFO!A16=0,\" \",COUNTRY_INFO!A16)","v":"Burkina Faso"},{"$f":"IF(COUNTRY_INFO!B16=0,\" \",COUNTRY_INFO!B16)","v":"Cascades"},{"$f":"IF(COUNTRY_INFO!C16=0,\" \",COUNTRY_INFO!C16)","v":"Mangodara"},{"$f":"IF(AND(COUNTRY_INFO!$T$9:$T$1000=\"T3 (ALB/MBD)\",COUNTRY_INFO!$U$9:$U$1000=\"T3 (ALB/MBD)\"), \"T3 (ALB/MBD)\", \" \")","v":" "},null,null,null,null,null,0,null,null,null,0," "," "," "," "]
[{"$f":"IF(COUNTRY_INFO!A17=0,\" \",COUNTRY_INFO!A17)","v":"Burkina Faso"},{"$f":"IF(COUNTRY_INFO!B17=0,\" \",COUNTRY_INFO!B17)","v":"Cascades"},{"$f":"IF(COUNTRY_INFO!C17=0,\" \",COUNTRY_INFO!C17)","v":"Sindou"},{"$f":"IF(AND(COUNTRY_INFO!$T$9:$T$1000=\"T3 (ALB/MBD)\",COUNTRY_INFO!$U$9:$U$1000=\"T3 (ALB/MBD)\"), \"T3 (ALB/MBD)\", \" \")","v":" "},null,null,null,null,null,0,null,null,null,0," "," "," "," "]
[{"$f":"IF(COUNTRY_INFO!A18=0,\" \",COUNTRY_INFO!A18)","v":"Burkina Faso"},{"$f":"IF(COUNTRY_INFO!B18=0,\" \",COUNTRY_INFO!B18)","v":"Centre"},{"$f":"IF(COUNTRY_INFO!C18=0,\" \",COUNTRY_INFO!C18)","v":"Baskuy"},{"$f":"IF(AND(COUNTRY_INFO!$T$9:$T$1000=\"T3 (ALB/MBD)\",COUNTRY_INFO!$U$9:$U$1000=\"T3 (ALB/MBD)\"), \"T3 (ALB/MBD)\", \" \")","v":" "},null,null,null,null,null,0,null,null,null,0," "," "," "," "]
[{"$f":"IF(COUNTRY_INFO!A19=0,\" \",COUNTRY_INFO!A19)","v":"Burkina Faso"},{"$f":"IF(COUNTRY_INFO!B19=0,\" \",COUNTRY_INFO!B19)","v":"Centre"},{"$f":"IF(COUNTRY_INFO!C19=0,\" \",COUNTRY_INFO!C19)","v":"Bogodogo"},{"$f":"IF(AND(COUNTRY_INFO!$T$9:$T$1000=\"T3 (ALB/MBD)\",COUNTRY_INFO!$U$9:$U$1000=\"T3 (ALB/MBD)\"), \"T3 (ALB/MBD)\", \" \")","v":" "},null,null,null,null,null,0,null,null,null,0," "," "," "," "]
[{"$f":"IF(COUNTRY_INFO!A20=0,\" \",COUNTRY_INFO!A20)","v":"Burkina Faso"},{"$f":"IF(COUNTRY_INFO!B20=0,\" \",COUNTRY_INFO!B20)","v":"Centre"},{"$f":"IF(COUNTRY_INFO!C20=0,\" \",COUNTRY_INFO!C20)","v":"Boulmiougou"},{"$f":"IF(AND(COUNTRY_INFO!$T$9:$T$1000=\"T3 (ALB/MBD)\",COUNTRY_INFO!$U$9:$U$1000=\"T3 (ALB/MBD)\"), \"T3 (ALB/MBD)\", \" \")","v":" "},null,null,null,null,null,0,null,null,null,0," "," "," "," "]
[{"$f":"IF(COUNTRY_INFO!A21=0,\" \",COUNTRY_INFO!A21)","v":"Burkina Faso"},{"$f":"IF(COUNTRY_INFO!B21=0,\" \",COUNTRY_INFO!B21)","v":"Centre"},{"$f":"IF(COUNTRY_INFO!C21=0,\" \",COUNTRY_INFO!C21)","v":"Nongre-Massom"},{"$f":"IF(AND(COUNTRY_INFO!$T$9:$T$1000=\"T3 (ALB/MBD)\",COUNTRY_INFO!$U$9:$U$1000=\"T3 (ALB/MBD)\"), \"T3 (ALB/MBD)\", \" \")","v":" "},null,null,null,null,null,0,null,null,null,0," "," "," "," "]
[{"$f":"IF(COUNTRY_INFO!A22=0,\" \",COUNTRY_INFO!A22)","v":"Burkina Faso"},{"$f":"IF(COUNTRY_INFO!B22=0,\" \",COUNTRY_INFO!B22)","v":"Centre"},{"$f":"IF(COUNTRY_INFO!C22=0,\" \",COUNTRY_INFO!C22)","v":"Sig-Nonghin"},{"$f":"IF(AND(COUNTRY_INFO!$T$9:$T$1000=\"T3 (ALB/MBD)\",COUNTRY_INFO!$U$9:$U$1000=\"T3 (ALB/MBD)\"), \"T3 (ALB/MBD)\", \" \")","v":" "},null,null,null,null,null,0,null,null,null,0," "," "," "," "]
[{"$f":"IF(COUNTRY_INFO!A23=0,\" \",COUNTRY_INFO!A23)","v":"Burkina Faso"},{"$f":"IF(COUNTRY_INFO!B23=0,\" \",COUNTRY_INFO!B23)","v":"Centre-Est"},{"$f":"IF(COUNTRY_INFO!C23=0,\" \",COUNTRY_INFO!C23)","v":"Bittou"},{"$f":"IF(AND(COUNTRY_INFO!$T$9:$T$1000=\"T3 (ALB/MBD)\",COUNTRY_INFO!$U$9:$U$1000=\"T3 (ALB/MBD)\"), \"T3 (ALB/MBD)\", \" \")","v":" "},null,null,null,null,null,0,null,null,null,0," "," "," "," "]
[{"$f":"IF(COUNTRY_INFO!A24=0,\" \",COUNTRY_INFO!A24)","v":"Burkina Faso"},{"$f":"IF(COUNTRY_INFO!B24=0,\" \",COUNTRY_INFO!B24)","v":"Centre-Est"},{"$f":"IF(COUNTRY_INFO!C24=0,\" \",COUNTRY_INFO!C24)","v":"Garango"},{"$f":"IF(AND(COUNTRY_INFO!$T$9:$T$1000=\"T3 (ALB/MBD)\",COUNTRY_INFO!$U$9:$U$1000=\"T3 (ALB/MBD)\"), \"T3 (ALB/MBD)\", \" \")","v":" "},null,null,null,null,null,0,null,null,null,0," "," "," "," "]
[{"$f":"IF(COUNTRY_INFO!A25=0,\" \",COUNTRY_INFO!A25)","v":"Burkina Faso"},{"$f":"IF(COUNTRY_INFO!B25=0,\" \",COUNTRY_INFO!B25)","v":"Centre-Est"},{"$f":"IF(COUNTRY_INFO!C25=0,\" \",COUNTRY_INFO!C25)","v":"Koupela"},{"$f":"IF(AND(COUNTRY_INFO!$T$9:$T$1000=\"T3 (ALB/MBD)\",COUNTRY_INFO!$U$9:$U$1000=\"T3 (ALB/MBD)\"), \"T3 (ALB/MBD)\", \" \")","v":" "},null,null,null,null,null,0,null,null,null,0," "," "," "," "]
[{"$f":"IF(COUNTRY_INFO!A26=0,\" \",COUNTRY_INFO!A26)","v":"Burkina Faso"},{"$f":"IF(COUNTRY_INFO!B26=0,\" \",COUNTRY_INFO!B26)","v":"Centre-Est"},{"$f":"IF(COUNTRY_INFO!C26=0,\" \",COUNTRY_INFO!C26)","v":"Ouargaye"},{"$f":"IF(AND(COUNTRY_INFO!$T$9:$T$1000=\"T3 (ALB/MBD)\",COUNTRY_INFO!$U$9:$U$1000=\"T3 (ALB/MBD)\"), \"T3 (ALB/MBD)\", \" \")","v":" "},null,null,null,null,null,0,null,null,null,0," "," "," "," "]
[{"$f":"IF(COUNTRY_INFO!A27=0,\" \",COUNTRY_INFO!A27)","v":"Burkina Faso"},{"$f":"IF(COUNTRY_INFO!B27=0,\" \",COUNTRY_INFO!B27)","v":"Centre-Est"},{"$f":"IF(COUNTRY_INFO!C27=0,\" \",COUNTRY_INFO!C27)","v":"Pouytenga"},{"$f":"IF(AND(COUNTRY_INFO!$T$9:$T$1000=\"T3 (ALB/MBD)\",COUNTRY_INFO!$U$9:$U$1000=\"T3 (ALB/MBD)\"), \"T3 (ALB/MBD)\", \" \")","v":" "},null,null,null,null,null,0,null,null,null,0," "," "," "," "]
[{"$f":"IF(COUNTRY_INFO!A28=0,\" \",COUNTRY_INFO!A28)","v":"Burkina Faso"},{"$f":"IF(COUNTRY_INFO!B28=0,\" \",COUNTRY_INFO!B28)","v":"Centre-Est"},{"$f":"IF(COUNTRY_INFO!C28=0,\" \",COUNTRY_INFO!C28)","v":"Tenkodogo"},{"$f":"IF(AND(COUNTRY_INFO!$T$9:$T$1000=\"T3 (ALB/MBD)\",COUNTRY_INFO!$U$9:$U$1000=\"T3 (ALB/MBD)\"), \"T3 (ALB/MBD)\", \" \")","v":" "},null,null,null,null,null,0,null,null,null,0," "," "," "," "]
[{"$f":"IF(COUNTRY_INFO!A29=0,\" \",COUNTRY_INFO!A29)","v":"Burkina Faso"},{"$f":"IF(COUNTRY_INFO!B29=0,\" \",COUNTRY_INFO!B29)","v":"Centre-Est"},{"$f":"IF(COUNTRY_INFO!C29=0,\" \",COUNTRY_INFO!C29)","v":"Zabré"},{"$f":"IF(AND(COUNTRY_INFO!$T$9:$T$1000=\"T3 (ALB/MBD)\",COUNTRY_INFO!$U$9:$U$1000=\"T3 (ALB/MBD)\"), \"T3 (ALB/MBD)\", \" \")","v":" "},null,null,null,null,null,0,null,null,null,0," "," "," "," "]
[{"$f":"IF(COUNTRY_INFO!A30=0,\" \",COUNTRY_INFO!A30)","v":"Burkina Faso"},{"$f":"IF(COUNTRY_INFO!B30=0,\" \",COUNTRY_INFO!B30)","v":"Centre-Nord"},{"$f":"IF(COUNTRY_INFO!C30=0,\" \",COUNTRY_INFO!C30)","v":"Barsalogo"},{"$f":"IF(AND(COUNTRY_INFO!$T$9:$T$1000=\"T3 (ALB/MBD)\",COUNTRY_INFO!$U$9:$U$1000=\"T3 (ALB/MBD)\"), \"T3 (ALB/MBD)\", \" \")","v":" "},null,null,null,null,null,0,null,null,null,0," "," "," "," "]
[{"$f":"IF(COUNTRY_INFO!A31=0,\" \",COUNTRY_INFO!A31)","v":"Burkina Faso"},{"$f":"IF(COUNTRY_INFO!B31=0,\" \",COUNTRY_INFO!B31)","v":"Centre-Nord"},{"$f":"IF(COUNTRY_INFO!C31=0,\" \",COUNTRY_INFO!C31)","v":"Boulsa"},{"$f":"IF(AND(COUNTRY_INFO!$T$9:$T$1000=\"T3 (ALB/MBD)\",COUNTRY_INFO!$U$9:$U$1000=\"T3 (ALB/MBD)\"), \"T3 (ALB/MBD)\", \" \")","v":" "},null,null,null,null,null,0,null,null,null,0," "," "," "," "]
[{"$f":"IF(COUNTRY_INFO!A32=0,\" \",COUNTRY_INFO!A32)","v":"Burkina Faso"},{"$f":"IF(COUNTRY_INFO!B32=0,\" \",COUNTRY_INFO!B32)","v":"Centre-Nord"},{"$f":"IF(COUNTRY_INFO!C32=0,\" \",COUNTRY_INFO!C32)","v":"Boussouma"},{"$f":"IF(AND(COUNTRY_INFO!$T$9:$T$1000=\"T3 (ALB/MBD)\",COUNTRY_INFO!$U$9:$U$1000=\"T3 (ALB/MBD)\"), \"T3 (ALB/MBD)\", \" \")","v":" "},null,null,null,null,null,0,null,null,null,0," "," "," "," "]
[{"$f":"IF(COUNTRY_INFO!A33=0,\" \",COUNTRY_INFO!A33)","v":"Burkina Faso"},{"$f":"IF(COUNTRY_INFO!B33=0,\" \",COUNTRY_INFO!B33)","v":"Centre-Nord"},{"$f":"IF(COUNTRY_INFO!C33=0,\" \",COUNTRY_INFO!C33)","v":"Kaya"},{"$f":"IF(AND(COUNTRY_INFO!$T$9:$T$1000=\"T3 (ALB/MBD)\",COUNTRY_INFO!$U$9:$U$1000=\"T3 (ALB/MBD)\"), \"T3 (ALB/MBD)\", \" \")","v":" "},null,null,null,null,null,0,null,null,null,0," "," "," "," "]
[{"$f":"IF(COUNTRY_INFO!A34=0,\" \",COUNTRY_INFO!A34)","v":"Burkina Faso"},{"$f":"IF(COUNTRY_INFO!B34=0,\" \",COUNTRY_INFO!B34)","v":"Centre-Nord"},{"$f":"IF(COUNTRY_INFO!C34=0,\" \",COUNTRY_INFO!C34)","v":"Kongoussi"},{"$f":"IF(AND(COUNTRY_INFO!$T$9:$T$1000=\"T3 (ALB/MBD)\",COUNTRY_INFO!$U$9:$U$1000=\"T3 (ALB/MBD)\"), \"T3 (ALB/MBD)\", \" \")","v":" "},null,null,null,null,null,0,null,null,null,0," "," "," "," "]
[{"$f":"IF(COUNTRY_INFO!A35=0,\" \",COUNTRY_INFO!A35)","v":"Burkina Faso"},{"$f":"IF(COUNTRY_INFO!B35=0,\" \",COUNTRY_INFO!B35)","v":"Centre-Nord"},{"$f":"IF(COUNTRY_INFO!C35=0,\" \",COUNTRY_INFO!C35)","v":"Tougouri"},{"$f":"IF(AND(COUNTRY_INFO!$T$9:$T$1000=\"T3 (ALB/MBD)\",COUNTRY_INFO!$U$9:$U$1000=\"T3 (ALB/MBD)\"), \"T3 (ALB/MBD)\", \" \")","v":" "},null,null,null,null,null,0,null,null,null,0," "," "," "," "]
[{"$f":"IF(COUNTRY_INFO!A36=0,\" \",COUNTRY_INFO!A36)","v":"Burkina Faso"},{"$f":"IF(COUNTRY_INFO!B36=0,\" \",COUNTRY_INFO!B36)","v":"Centre-Ouest"},{"$f":"IF(COUNTRY_INFO!C36=0,\" \",COUNTRY_INFO!C36)","v":"Koudougou"},{"$f":"IF(AND(COUNTRY_INFO!$T$9:$T$1000=\"T3 (ALB/MBD)\",COUNTRY_INFO!$U$9:$U$1000=\"T3 (ALB/MBD)\"), \"T3 (ALB/MBD)\", \" \")","v":" "},null,null,null,null,null,0,null,null,null,0," "," "," "," "]
[{"$f":"IF(COUNTRY_INFO!A37=0,\" \",COUNTRY_INFO!A37)","v":"Burkina Faso"},{"$f":"IF(COUNTRY_INFO!B37=0,\" \",COUNTRY_INFO!B37)","v":"Centre-Ouest"},{"$f":"IF(COUNTRY_INFO!C37=0,\" \",COUNTRY_INFO!C37)","v":"Léo"},{"$f":"IF(AND(COUNTRY_INFO!$T$9:$T$1000=\"T3 (ALB/MBD)\",COUNTRY_INFO!$U$9:$U$1000=\"T3 (ALB/MBD)\"), \"T3 (ALB/MBD)\", \" \")","v":" "},null,null,null,null,null,0,null,null,null,0," "," "," "," "]
[{"$f":"IF(COUNTRY_INFO!A38=0,\" \",COUNTRY_INFO!A38)","v":"Burkina Faso"},{"$f":"IF(COUNTRY_INFO!B38=0,\" \",COUNTRY_INFO!B38)","v":"Centre-Ouest"},{"$f":"IF(COUNTRY_INFO!C38=0,\" \",COUNTRY_INFO!C38)","v":"Nanoro"},{"$f":"IF(AND(COUNTRY_INFO!$T$9:$T$1000=\"T3 (ALB/MBD)\",COUNTRY_INFO!$U$9:$U$1000=\"T3 (ALB/MBD)\"), \"T3 (ALB/MBD)\", \" \")","v":" "},null,null,null,null,null,0,null,null,null,0," "," "," "," "]
[{"$f":"IF(COUNTRY_INFO!A39=0,\" \",COUNTRY_INFO!A39)","v":"Burkina Faso"},{"$f":"IF(COUNTRY_INFO!B39=0,\" \",COUNTRY_INFO!B39)","v":"Centre-Ouest"},{"$f":"IF(COUNTRY_INFO!C39=0,\" \",COUNTRY_INFO!C39)","v":"Réo"},{"$f":"IF(AND(COUNTRY_INFO!$T$9:$T$1000=\"T3 (ALB/MBD)\",COUNTRY_INFO!$U$9:$U$1000=\"T3 (ALB/MBD)\"), \"T3 (ALB/MBD)\", \" \")","v":" "},null,null,null,null,null,0,null,null,null,0," "," "," "," "]
[{"$f":"IF(COUNTRY_INFO!A40=0,\" \",COUNTRY_INFO!A40)","v":"Burkina Faso"},{"$f":"IF(COUNTRY_INFO!B40=0,\" \",COUNTRY_INFO!B40)","v":"Centre-Ouest"},{"$f":"IF(COUNTRY_INFO!C40=0,\" \",COUNTRY_INFO!C40)","v":"Sabou"},{"$f":"IF(AND(COUNTRY_INFO!$T$9:$T$1000=\"T3 (ALB/MBD)\",COUNTRY_INFO!$U$9:$U$1000=\"T3 (ALB/MBD)\"), \"T3 (ALB/MBD)\", \" \")","v":" "},null,null,null,null,null,0,null,null,null,0," "," "," "," "]
[{"$f":"IF(COUNTRY_INFO!A41=0,\" \",COUNTRY_INFO!A41)","v":"Burkina Faso"},{"$f":"IF(COUNTRY_INFO!B41=0,\" \",COUNTRY_INFO!B41)","v":"Centre-Ouest"},{"$f":"IF(COUNTRY_INFO!C41=0,\" \",COUNTRY_INFO!C41)","v":"Sapouy"},{"$f":"IF(AND(COUNTRY_INFO!$T$9:$T$1000=\"T3 (ALB/MBD)\",COUNTRY_INFO!$U$9:$U$1000=\"T3 (ALB/MBD)\"), \"T3 (ALB/MBD)\", \" \")","v":" "},null,null,null,null,null,0,null,null,null,0," "," "," "," "]
[{"$f":"IF(COUNTRY_INFO!A42=0,\" \",COUNTRY_INFO!A42)","v":"Burkina Faso"},{"$f":"IF(COUNTRY_INFO!B42=0,\" \",COUNTRY_INFO!B42)","v":"Centre-Ouest"},{"$f":"IF(COUNTRY_INFO!C42=0,\" \",COUNTRY_INFO!C42)","v":"Tenado"},{"$f":"IF(AND(COUNTRY_INFO!$T$9:$T$1000=\"T3 (ALB/MBD)\",COUNTRY_INFO!$U$9:$U$1000=\"T3 (ALB/MBD)\"), \"T3 (ALB/MBD)\", \" \")","v":" "},null,null,null,null,null,0,null,null,null,0," "," "," "," "]
[{"$f":"IF(COUNTRY_INFO!A43=0,\" \",COUNTRY_INFO!A43)","v":"Burkina Faso"},{"$f":"IF(COUNTRY_INFO!B43=0,\" \",COUNTRY_INFO!B43)","v":"Centre-Sud"},{"$f":"IF(COUNTRY_INFO!C43=0,\" \",COUNTRY_INFO!C43)","v":"Kombissiri"},{"$f":"IF(AND(COUNTRY_INFO!$T$9:$T$1000=\"T3 (ALB/MBD)\",COUNTRY_INFO!$U$9:$U$1000=\"T3 (ALB/MBD)\"), \"T3 (ALB/MBD)\", \" \")","v":" "},null,null,null,null,null,0,null,null,null,0," "," "," "," "]
[{"$f":"IF(COUNTRY_INFO!A44=0,\" \",COUNTRY_INFO!A44)","v":"Burkina Faso"},{"$f":"IF(COUNTRY_INFO!B44=0,\" \",COUNTRY_INFO!B44)","v":"Centre-Sud"},{"$f":"IF(COUNTRY_INFO!C44=0,\" \",COUNTRY_INFO!C44)","v":"Manga"},{"$f":"IF(AND(COUNTRY_INFO!$T$9:$T$1000=\"T3 (ALB/MBD)\",COUNTRY_INFO!$U$9:$U$1000=\"T3 (ALB/MBD)\"), \"T3 (ALB/MBD)\", \" \")","v":" "},null,null,null,null,null,0,null,null,null,0," "," "," "," "]
[{"$f":"IF(COUNTRY_INFO!A45=0,\" \",COUNTRY_INFO!A45)","v":"Burkina Faso"},{"$f":"IF(COUNTRY_INFO!B45=0,\" \",COUNTRY_INFO!B45)","v":"Centre-Sud"},{"$f":"IF(COUNTRY_INFO!C45=0,\" \",COUNTRY_INFO!C45)","v":"Pô"},{"$f":"IF(AND(COUNTRY_INFO!$T$9:$T$1000=\"T3 (ALB/MBD)\",COUNTRY_INFO!$U$9:$U$1000=\"T3 (ALB/MBD)\"), \"T3 (ALB/MBD)\", \" \")","v":" "},null,null,null,null,null,0,null,null,null,0," "," "," "," "]
[{"$f":"IF(COUNTRY_INFO!A46=0,\" \",COUNTRY_INFO!A46)","v":"Burkina Faso"},{"$f":"IF(COUNTRY_INFO!B46=0,\" \",COUNTRY_INFO!B46)","v":"Centre-Sud"},{"$f":"IF(COUNTRY_INFO!C46=0,\" \",COUNTRY_INFO!C46)","v":"Saponé"},{"$f":"IF(AND(COUNTRY_INFO!$T$9:$T$1000=\"T3 (ALB/MBD)\",COUNTRY_INFO!$U$9:$U$1000=\"T3 (ALB/MBD)\"), \"T3 (ALB/MBD)\", \" \")","v":" "},null,null,null,null,null,0,null,null,null,0," "," "," "," "]
[{"$f":"IF(COUNTRY_INFO!A47=0,\" \",COUNTRY_INFO!A47)","v":"Burkina Faso"},{"$f":"IF(COUNTRY_INFO!B47=0,\" \",COUNTRY_INFO!B47)","v":"Est"},{"$f":"IF(COUNTRY_INFO!C47=0,\" \",COUNTRY_INFO!C47)","v":"Bogandé"},{"$f":"IF(AND(COUNTRY_INFO!$T$9:$T$1000=\"T3 (ALB/MBD)\",COUNTRY_INFO!$U$9:$U$1000=\"T3 (ALB/MBD)\"), \"T3 (ALB/MBD)\", \" \")","v":" "},null,null,null,null,null,0,null,null,null,0," "," "," "," "]
[{"$f":"IF(COUNTRY_INFO!A48=0,\" \",COUNTRY_INFO!A48)","v":"Burkina Faso"},{"$f":"IF(COUNTRY_INFO!B48=0,\" \",COUNTRY_INFO!B48)","v":"Est"},{"$f":"IF(COUNTRY_INFO!C48=0,\" \",COUNTRY_INFO!C48)","v":"Diapaga"},{"$f":"IF(AND(COUNTRY_INFO!$T$9:$T$1000=\"T3 (ALB/MBD)\",COUNTRY_INFO!$U$9:$U$1000=\"T3 (ALB/MBD)\"), \"T3 (ALB/MBD)\", \" \")","v":" "},null,null,null,null,null,0,null,null,null,0," "," "," "," "]
[{"$f":"IF(COUNTRY_INFO!A49=0,\" \",COUNTRY_INFO!A49)","v":"Burkina Faso"},{"$f":"IF(COUNTRY_INFO!B49=0,\" \",COUNTRY_INFO!B49)","v":"Est"},{"$f":"IF(COUNTRY_INFO!C49=0,\" \",COUNTRY_INFO!C49)","v":"Fada N'gourma"},{"$f":"IF(AND(COUNTRY_INFO!$T$9:$T$1000=\"T3 (ALB/MBD)\",COUNTRY_INFO!$U$9:$U$1000=\"T3 (ALB/MBD)\"), \"T3 (ALB/MBD)\", \" \")","v":" "},null,null,null,null,null,0,null,null,null,0," "," "," "," "]
[{"$f":"IF(COUNTRY_INFO!A50=0,\" \",COUNTRY_INFO!A50)","v":"Burkina Faso"},{"$f":"IF(COUNTRY_INFO!B50=0,\" \",COUNTRY_INFO!B50)","v":"Est"},{"$f":"IF(COUNTRY_INFO!C50=0,\" \",COUNTRY_INFO!C50)","v":"Gayeri"},{"$f":"IF(AND(COUNTRY_INFO!$T$9:$T$1000=\"T3 (ALB/MBD)\",COUNTRY_INFO!$U$9:$U$1000=\"T3 (ALB/MBD)\"), \"T3 (ALB/MBD)\", \" \")","v":" "},null,null,null,null,null,0,null,null,null,0," "," "," "," "]
[{"$f":"IF(COUNTRY_INFO!A51=0,\" \",COUNTRY_INFO!A51)","v":"Burkina Faso"},{"$f":"IF(COUNTRY_INFO!B51=0,\" \",COUNTRY_INFO!B51)","v":"Est"},{"$f":"IF(COUNTRY_INFO!C51=0,\" \",COUNTRY_INFO!C51)","v":"Manni"},{"$f":"IF(AND(COUNTRY_INFO!$T$9:$T$1000=\"T3 (ALB/MBD)\",COUNTRY_INFO!$U$9:$U$1000=\"T3 (ALB/MBD)\"), \"T3 (ALB/MBD)\", \" \")","v":" "},null,null,null,null,null,0,null,null,null,0," "," "," "," "]
[{"$f":"IF(COUNTRY_INFO!A52=0,\" \",COUNTRY_INFO!A52)","v":"Burkina Faso"},{"$f":"IF(COUNTRY_INFO!B52=0,\" \",COUNTRY_INFO!B52)","v":"Est"},{"$f":"IF(COUNTRY_INFO!C52=0,\" \",COUNTRY_INFO!C52)","v":"Pama"},{"$f":"IF(AND(COUNTRY_INFO!$T$9:$T$1000=\"T3 (ALB/MBD)\",COUNTRY_INFO!$U$9:$U$1000=\"T3 (ALB/MBD)\"), \"T3 (ALB/MBD)\", \" \")","v":" "},null,null,null,null,null,0,null,null,null,0," "," "," "," "]
[{"$f":"IF(COUNTRY_INFO!A53=0,\" \",COUNTRY_INFO!A53)","v":"Burkina Faso"},{"$f":"IF(COUNTRY_INFO!B53=0,\" \",COUNTRY_INFO!B53)","v":"Hauts-Bassins"},{"$f":"IF(COUNTRY_INFO!C53=0,\" \",COUNTRY_INFO!C53)","v":"Dafra"},{"$f":"IF(AND(COUNTRY_INFO!$T$9:$T$1000=\"T3 (ALB/MBD)\",COUNTRY_INFO!$U$9:$U$1000=\"T3 (ALB/MBD)\"), \"T3 (ALB/MBD)\", \" \")","v":" "},null,null,null,null,null,0,null,null,null,0," "," "," "," "]
[{"$f":"IF(COUNTRY_INFO!A54=0,\" \",COUNTRY_INFO!A54)","v":"Burkina Faso"},{"$f":"IF(COUNTRY_INFO!B54=0,\" \",COUNTRY_INFO!B54)","v":"Hauts-Bassins"},{"$f":"IF(COUNTRY_INFO!C54=0,\" \",COUNTRY_INFO!C54)","v":"Dandé"},{"$f":"IF(AND(COUNTRY_INFO!$T$9:$T$1000=\"T3 (ALB/MBD)\",COUNTRY_INFO!$U$9:$U$1000=\"T3 (ALB/MBD)\"), \"T3 (ALB/MBD)\", \" \")","v":" "},null,null,null,null,null,0,null,null,null,0," "," "," "," "]
[{"$f":"IF(COUNTRY_INFO!A55=0,\" \",COUNTRY_INFO!A55)","v":"Burkina Faso"},{"$f":"IF(COUNTRY_INFO!B55=0,\" \",COUNTRY_INFO!B55)","v":"Hauts-Bassins"},{"$f":"IF(COUNTRY_INFO!C55=0,\" \",COUNTRY_INFO!C55)","v":"Dô"},{"$f":"IF(AND(COUNTRY_INFO!$T$9:$T$1000=\"T3 (ALB/MBD)\",COUNTRY_INFO!$U$9:$U$1000=\"T3 (ALB/MBD)\"), \"T3 (ALB/MBD)\", \" \")","v":" "},null,null,null,null,null,0,null,null,null,0," "," "," "," "]
[{"$f":"IF(COUNTRY_INFO!A56=0,\" \",COUNTRY_INFO!A56)","v":"Burkina Faso"},{"$f":"IF(COUNTRY_INFO!B56=0,\" \",COUNTRY_INFO!B56)","v":"Hauts-Bassins"},{"$f":"IF(COUNTRY_INFO!C56=0,\" \",COUNTRY_INFO!C56)","v":"Houndé"},{"$f":"IF(AND(COUNTRY_INFO!$T$9:$T$1000=\"T3 (ALB/MBD)\",COUNTRY_INFO!$U$9:$U$1000=\"T3 (ALB/MBD)\"), \"T3 (ALB/MBD)\", \" \")","v":" "},null,null,null,null,null,0,null,null,null,0," "," "," "," "]
[{"$f":"IF(COUNTRY_INFO!A57=0,\" \",COUNTRY_INFO!A57)","v":"Burkina Faso"},{"$f":"IF(COUNTRY_INFO!B57=0,\" \",COUNTRY_INFO!B57)","v":"Hauts-Bassins"},{"$f":"IF(COUNTRY_INFO!C57=0,\" \",COUNTRY_INFO!C57)","v":"Karangasso-Vigué"},{"$f":"IF(AND(COUNTRY_INFO!$T$9:$T$1000=\"T3 (ALB/MBD)\",COUNTRY_INFO!$U$9:$U$1000=\"T3 (ALB/MBD)\"), \"T3 (ALB/MBD)\", \" \")","v":" "},null,null,null,null,null,0,null,null,null,0," "," "," "," "]
[{"$f":"IF(COUNTRY_INFO!A58=0,\" \",COUNTRY_INFO!A58)","v":"Burkina Faso"},{"$f":"IF(COUNTRY_INFO!B58=0,\" \",COUNTRY_INFO!B58)","v":"Hauts-Bassins"},{"$f":"IF(COUNTRY_INFO!C58=0,\" \",COUNTRY_INFO!C58)","v":"Lena"},{"$f":"IF(AND(COUNTRY_INFO!$T$9:$T$1000=\"T3 (ALB/MBD)\",COUNTRY_INFO!$U$9:$U$1000=\"T3 (ALB/MBD)\"), \"T3 (ALB/MBD)\", \" \")","v":" "},null,null,null,null,null,0,null,null,null,0," "," "," "," "]
[{"$f":"IF(COUNTRY_INFO!A59=0,\" \",COUNTRY_INFO!A59)","v":"Burkina Faso"},{"$f":"IF(COUNTRY_INFO!B59=0,\" \",COUNTRY_INFO!B59)","v":"Hauts-Bassins"},{"$f":"IF(COUNTRY_INFO!C59=0,\" \",COUNTRY_INFO!C59)","v":"N'Dorola"},{"$f":"IF(AND(COUNTRY_INFO!$T$9:$T$1000=\"T3 (ALB/MBD)\",COUNTRY_INFO!$U$9:$U$1000=\"T3 (ALB/MBD)\"), \"T3 (ALB/MBD)\", \" \")","v":" "},null,null,null,null,null,0,null,null,null,0," "," "," "," "]
[{"$f":"IF(COUNTRY_INFO!A60=0,\" \",COUNTRY_INFO!A60)","v":"Burkina Faso"},{"$f":"IF(COUNTRY_INFO!B60=0,\" \",COUNTRY_INFO!B60)","v":"Hauts-Bassins"},{"$f":"IF(COUNTRY_INFO!C60=0,\" \",COUNTRY_INFO!C60)","v":"Orodara"},{"$f":"IF(AND(COUNTRY_INFO!$T$9:$T$1000=\"T3 (ALB/MBD)\",COUNTRY_INFO!$U$9:$U$1000=\"T3 (ALB/MBD)\"), \"T3 (ALB/MBD)\", \" \")","v":" "},null,null,null,null,null,0,null,null,null,0," "," "," "," "]
[{"$f":"IF(COUNTRY_INFO!A61=0,\" \",COUNTRY_INFO!A61)","v":"Burkina Faso"},{"$f":"IF(COUNTRY_INFO!B61=0,\" \",COUNTRY_INFO!B61)","v":"Nord"},{"$f":"IF(COUNTRY_INFO!C61=0,\" \",COUNTRY_INFO!C61)","v":"Gourcy"},{"$f":"IF(AND(COUNTRY_INFO!$T$9:$T$1000=\"T3 (ALB/MBD)\",COUNTRY_INFO!$U$9:$U$1000=\"T3 (ALB/MBD)\"), \"T3 (ALB/MBD)\", \" \")","v":" "},null,null,null,null,null,0,null,null,null,0," "," "," "," "]
[{"$f":"IF(COUNTRY_INFO!A62=0,\" \",COUNTRY_INFO!A62)","v":"Burkina Faso"},{"$f":"IF(COUNTRY_INFO!B62=0,\" \",COUNTRY_INFO!B62)","v":"Nord"},{"$f":"IF(COUNTRY_INFO!C62=0,\" \",COUNTRY_INFO!C62)","v":"Ouahigouya"},{"$f":"IF(AND(COUNTRY_INFO!$T$9:$T$1000=\"T3 (ALB/MBD)\",COUNTRY_INFO!$U$9:$U$1000=\"T3 (ALB/MBD)\"), \"T3 (ALB/MBD)\", \" \")","v":" "},null,null,null,null,null,0,null,null,null,0," "," "," "," "]
[{"$f":"IF(COUNTRY_INFO!A63=0,\" \",COUNTRY_INFO!A63)","v":"Burkina Faso"},{"$f":"IF(COUNTRY_INFO!B63=0,\" \",COUNTRY_INFO!B63)","v":"Nord"},{"$f":"IF(COUNTRY_INFO!C63=0,\" \",COUNTRY_INFO!C63)","v":"Seguenega"},{"$f":"IF(AND(COUNTRY_INFO!$T$9:$T$1000=\"T3 (ALB/MBD)\",COUNTRY_INFO!$U$9:$U$1000=\"T3 (ALB/MBD)\"), \"T3 (ALB/MBD)\", \" \")","v":" "},null,null,null,null,null,0,null,null,null,0," "," "," "," "]
[{"$f":"IF(COUNTRY_INFO!A64=0,\" \",COUNTRY_INFO!A64)","v":"Burkina Faso"},{"$f":"IF(COUNTRY_INFO!B64=0,\" \",COUNTRY_INFO!B64)","v":"Nord"},{"$f":"IF(COUNTRY_INFO!C64=0,\" \",COUNTRY_INFO!C64)","v":"Thiou"},{"$f":"IF(AND(COUNTRY_INFO!$T$9:$T$1000=\"T3 (ALB/MBD)\",COUNTRY_INFO!$U$9:$U$1000=\"T3 (ALB/MBD)\"), \"T3 (ALB/MBD)\", \" \")","v":" "},null,null,null,null,null,0,null,null,null,0," "," "," "," "]
[{"$f":"IF(COUNTRY_INFO!A65=0,\" \",COUNTRY_INFO!A65)","v":"Burkina Faso"},{"$f":"IF(COUNTRY_INFO!B65=0,\" \",COUNTRY_INFO!B65)","v":"Nord"},{"$f":"IF(COUNTRY_INFO!C65=0,\" \",COUNTRY_INFO!C65)","v":"Titao"},{"$f":"IF(AND(COUNTRY_INFO!$T$9:$T$1000=\"T3 (ALB/MBD)\",COUNTRY_INFO!$U$9:$U$1000=\"T3 (ALB/MBD)\"), \"T3 (ALB/MBD)\", \" \")","v":" "},null,null,null,null,null,0,null,null,null,0," "," "," "," "]
[{"$f":"IF(COUNTRY_INFO!A66=0,\" \",COUNTRY_INFO!A66)","v":"Burkina Faso"},{"$f":"IF(COUNTRY_INFO!B66=0,\" \",COUNTRY_INFO!B66)","v":"Nord"},{"$f":"IF(COUNTRY_INFO!C66=0,\" \",COUNTRY_INFO!C66)","v":"Yako"},{"$f":"IF(AND(COUNTRY_INFO!$T$9:$T$1000=\"T3 (ALB/MBD)\",COUNTRY_INFO!$U$9:$U$1000=\"T3 (ALB/MBD)\"), \"T3 (ALB/MBD)\", \" \")","v":" "},null,null,null,null,null,0,null,null,null,0," "," "," "," "]
[{"$f":"IF(COUNTRY_INFO!A67=0,\" \",COUNTRY_INFO!A67)","v":"Burkina Faso"},{"$f":"IF(COUNTRY_INFO!B67=0,\" \",COUNTRY_INFO!B67)","v":"Plateau Central"},{"$f":"IF(COUNTRY_INFO!C67=0,\" \",COUNTRY_INFO!C67)","v":"Boussé"},{"$f":"IF(AND(COUNTRY_INFO!$T$9:$T$1000=\"T3 (ALB/MBD)\",COUNTRY_INFO!$U$9:$U$1000=\"T3 (ALB/MBD)\"), \"T3 (ALB/MBD)\", \" \")","v":" "},null,null,null,null,null,0,null,null,null,0," "," "," "," "]
[{"$f":"IF(COUNTRY_INFO!A68=0,\" \",COUNTRY_INFO!A68)","v":"Burkina Faso"},{"$f":"IF(COUNTRY_INFO!B68=0,\" \",COUNTRY_INFO!B68)","v":"Plateau Central"},{"$f":"IF(COUNTRY_INFO!C68=0,\" \",COUNTRY_INFO!C68)","v":"Ziniaré"},{"$f":"IF(AND(COUNTRY_INFO!$T$9:$T$1000=\"T3 (ALB/MBD)\",COUNTRY_INFO!$U$9:$U$1000=\"T3 (ALB/MBD)\"), \"T3 (ALB/MBD)\", \" \")","v":" "},null,null,null,null,null,0,null,null,null,0," "," "," "," "]
[{"$f":"IF(COUNTRY_INFO!A69=0,\" \",COUNTRY_INFO!A69)","v":"Burkina Faso"},{"$f":"IF(COUNTRY_INFO!B69=0,\" \",COUNTRY_INFO!B69)","v":"Plateau Central"},{"$f":"IF(COUNTRY_INFO!C69=0,\" \",COUNTRY_INFO!C69)","v":"Zorgho"},{"$f":"IF(AND(COUNTRY_INFO!$T$9:$T$1000=\"T3 (ALB/MBD)\",COUNTRY_INFO!$U$9:$U$1000=\"T3 (ALB/MBD)\"), \"T3 (ALB/MBD)\", \" \")","v":" "},null,null,null,null,null,0,null,null,null,0," "," "," "," "]
[{"$f":"IF(COUNTRY_INFO!A70=0,\" \",COUNTRY_INFO!A70)","v":"Burkina Faso"},{"$f":"IF(COUNTRY_INFO!B70=0,\" \",COUNTRY_INFO!B70)","v":"Sahel"},{"$f":"IF(COUNTRY_INFO!C70=0,\" \",COUNTRY_INFO!C70)","v":"Djibo"},{"$f":"IF(AND(COUNTRY_INFO!$T$9:$T$1000=\"T3 (ALB/MBD)\",COUNTRY_INFO!$U$9:$U$1000=\"T3 (ALB/MBD)\"), \"T3 (ALB/MBD)\", \" \")","v":" "},null,null,null,null,null,0,null,null,null,0," "," "," "," "]
[{"$f":"IF(COUNTRY_INFO!A71=0,\" \",COUNTRY_INFO!A71)","v":"Burkina Faso"},{"$f":"IF(COUNTRY_INFO!B71=0,\" \",COUNTRY_INFO!B71)","v":"Sahel"},{"$f":"IF(COUNTRY_INFO!C71=0,\" \",COUNTRY_INFO!C71)","v":"Dori"},{"$f":"IF(AND(COUNTRY_INFO!$T$9:$T$1000=\"T3 (ALB/MBD)\",COUNTRY_INFO!$U$9:$U$1000=\"T3 (ALB/MBD)\"), \"T3 (ALB/MBD)\", \" \")","v":" "},null,null,null,null,null,0,null,null,null,0," "," "," "," "]
[{"$f":"IF(COUNTRY_INFO!A72=0,\" \",COUNTRY_INFO!A72)","v":"Burkina Faso"},{"$f":"IF(COUNTRY_INFO!B72=0,\" \",COUNTRY_INFO!B72)","v":"Sahel"},{"$f":"IF(COUNTRY_INFO!C72=0,\" \",COUNTRY_INFO!C72)","v":"Gorom-Gorom"},{"$f":"IF(AND(COUNTRY_INFO!$T$9:$T$1000=\"T3 (ALB/MBD)\",COUNTRY_INFO!$U$9:$U$1000=\"T3 (ALB/MBD)\"), \"T3 (ALB/MBD)\", \" \")","v":" "},null,null,null,null,null,0,null,null,null,0," "," "," "," "]
[{"$f":"IF(COUNTRY_INFO!A73=0,\" \",COUNTRY_INFO!A73)","v":"Burkina Faso"},{"$f":"IF(COUNTRY_INFO!B73=0,\" \",COUNTRY_INFO!B73)","v":"Sahel"},{"$f":"IF(COUNTRY_INFO!C73=0,\" \",COUNTRY_INFO!C73)","v":"Sebba"},{"$f":"IF(AND(COUNTRY_INFO!$T$9:$T$1000=\"T3 (ALB/MBD)\",COUNTRY_INFO!$U$9:$U$1000=\"T3 (ALB/MBD)\"), \"T3 (ALB/MBD)\", \" \")","v":" "},null,null,null,null,null,0,null,null,null,0," "," "," "," "]
[{"$f":"IF(COUNTRY_INFO!A74=0,\" \",COUNTRY_INFO!A74)","v":"Burkina Faso"},{"$f":"IF(COUNTRY_INFO!B74=0,\" \",COUNTRY_INFO!B74)","v":"Sud-Ouest"},{"$f":"IF(COUNTRY_INFO!C74=0,\" \",COUNTRY_INFO!C74)","v":"Batié"},{"$f":"IF(AND(COUNTRY_INFO!$T$9:$T$1000=\"T3 (ALB/MBD)\",COUNTRY_INFO!$U$9:$U$1000=\"T3 (ALB/MBD)\"), \"T3 (ALB/MBD)\", \" \")","v":" "},null,null,null,null,null,{"$f":"SUM(G74:I74)","v":0},null,null,null,{"$f":"SUM(K74:M74)","v":0},{"$f":"IF(G74<>0, IF(K74/G74*100=0, \"-\", K74/G74*100), \" \")","v":" "},{"$f":"IF(H74<>0, IF(L74/H74*100=0, \"-\", L74/H74*100), \" \")","v":" "},{"$f":"IF(I74<>0, IF(M74/I74*100=0, \"-\", M74/I74*100), \" \")","v":" "},{"$f":"IF(J74<>0, IF(N74/J74*100=0, \"-\", N74/J74*100), \" \")","v":" "}]
[{"$f":"IF(COUNTRY_INFO!A75=0,\" \",COUNTRY_INFO!A75)","v":"Burkina Faso"},{"$f":"IF(COUNTRY_INFO!B75=0,\" \",COUNTRY_INFO!B75)","v":"Sud-Ouest"},{"$f":"IF(COUNTRY_INFO!C75=0,\" \",COUNTRY_INFO!C75)","v":"Dano"},{"$f":"IF(AND(COUNTRY_INFO!$T$9:$T$1000=\"T3 (ALB/MBD)\",COUNTRY_INFO!$U$9:$U$1000=\"T3 (ALB/MBD)\"), \"T3 (ALB/MBD)\", \" \")","v":" "},null,null,null,null,null,0,null,null,null,0," "," "," "," "]
[{"$f":"IF(COUNTRY_INFO!A76=0,\" \",COUNTRY_INFO!A76)","v":"Burkina Faso"},{"$f":"IF(COUNTRY_INFO!B76=0,\" \",COUNTRY_INFO!B76)","v":"Sud-Ouest"},{"$f":"IF(COUNTRY_INFO!C76=0,\" \",COUNTRY_INFO!C76)","v":"Diébougou"},{"$f":"IF(AND(COUNTRY_INFO!$T$9:$T$1000=\"T3 (ALB/MBD)\",COUNTRY_INFO!$U$9:$U$1000=\"T3 (ALB/MBD)\"), \"T3 (ALB/MBD)\", \" \")","v":" "},null,null,null,null,null,0,null,null,null,0," "," "," "," "]
[{"$f":"IF(COUNTRY_INFO!A77=0,\" \",COUNTRY_INFO!A77)","v":"Burkina Faso"},{"$f":"IF(COUNTRY_INFO!B77=0,\" \",COUNTRY_INFO!B77)","v":"Sud-Ouest"},{"$f":"IF(COUNTRY_INFO!C77=0,\" \",COUNTRY_INFO!C77)","v":"Gaoua"},{"$f":"IF(AND(COUNTRY_INFO!$T$9:$T$1000=\"T3 (ALB/MBD)\",COUNTRY_INFO!$U$9:$U$1000=\"T3 (ALB/MBD)\"), \"T3 (ALB/MBD)\", \" \")","v":" "},null,null,null,null,null,0,null,null,null,0," "," "," "," "]
[{"$f":"IF(COUNTRY_INFO!A78=0,\" \",COUNTRY_INFO!A78)","v":"Burkina Faso"},{"$f":"IF(COUNTRY_INFO!B78=0,\" \",COUNTRY_INFO!B78)","v":"Sud-Ouest"},{"$f":"IF(COUNTRY_INFO!C78=0,\" \",COUNTRY_INFO!C78)","v":"Kampti"},{"$f":"IF(AND(COUNTRY_INFO!$T$9:$T$1000=\"T3 (ALB/MBD)\",COUNTRY_INFO!$U$9:$U$1000=\"T3 (ALB/MBD)\"), \"T3 (ALB/MBD)\", \" \")","v":" "},null,null,null,null,null,0,null,null,null,0," "," "," "," "]

{"sheet":"DISTRICT","index":9,"n_rows":78,"n_cols":56,"rows_kept":78,"cut":false,"hidden":false,"merged":[[5,26,5,34],[5,3,6,3],[5,9,6,9],[5,15,6,15],[5,25,6,25],[3,0,3,2],[5,0,5,2],[5,4,5,8],[5,10,5,14],[5,16,5,24]]}
["Nombre d'individus traités"]
["Structure administrative, population traitée par groupe d'âge et sexe"]
[]
["TOTAL",null,null,{"$f":"SUM(D$9:D$1000)","v":5530123},{"$f":"SUM(E$9:E$1000)","v":2205757},{"$f":"SUM(F$9:F$1000)","v":2023641},{"$f":"SUM(G$9:G$1000)","v":4229398},{"$f":"SUM(H$9:H$1000)","v":4229398},{"$f":"IF(D4>0, IF(H4/D4*100<>0, H4/D4*100, \"-\"),0)","v":76.479275415754771},{"$f":"SUM(J$9:J$1000)","v":260001},{"$f":"SUM(K$9:K$1000)","v":102781},{"$f":"SUM(L$9:L$1000)","v":104191},{"$f":"SUM(M$9:M$1000)","v":4354347},{"$f":"SUM(N$9:N$1000)","v":230153},{"$f":"IF(J4>0, IF(N4/J4*100<>0, N4/J4*100, \"-\"),0)","v":88.520044153676338},{"$f":"SUM(P$9:P$1000)","v":0},{"$f":"SUM(Q$9:Q$1000)","v":1487922},{"$f":"SUM(R$9:R$1000)","v":1563881},{"$f":"SUM(S$9:S$1000)","v":7200405},{"$f":"SUM(T$9:T$1000)","v":0},null,0,null,{"$f":"SUM(X$9:X$1000)","v":0},{"$f":"IF(P4>0, IF(X4/P4*100<>0, X4/P4*100, \"-\"),0)","v":0},{"$f":"SUM(Z$9:Z$1000)","v":4332546.8099999996},2217752,2306672,4545997,1041119.74,null,496252.4,null,1537372.14,{"$f":"IF(Z4>0, IF(AH4/Z4*100<>0, AH4/Z4*100, \"-\"),0)","v":35.48425919949841}]
[]
["Structure administrative du pays",null,null,"Population nécessitant la CP pour FL","Population traitée pour la filariose lymphatique",null,null,null,null,"Population nécessitant la CP pour ONCHO","Population traitée pour l'onchocercose",null,null,null,null,"Population nécessitant la CP pour STH","Population traitée pour les géohelminthiases",null,null,null,null,null,null,null,null,"Population nécessitant la CP pour SCH","Population traitée pour la schistosomiase",null,null,null,null,null,null,null,null,null,null,null,null,null,null,{"$f":"SUM(AP9:AP1000)","v":219168.06732753175},801772.73501466762,3379320.888802066,3953115.7987944772,{"$f":"SUM(AT9:AT1000)","v":8353377.4899387425},{"$f":"COUNTIF(AU9:AU1000,\"Y\")","v":27},{"$f":"SUM(AV9:AV1000)","v":0},3314748,4365167.7023999998,{"$f":"SUM(AY9:AY1000)","v":7679915.7023999998},0,2358694.4426000002,3098707.7023999994,5457402.1449999996,{"$f":"IF(AT6<>0,BC6/AT6,0)","v":0.65331683520506389}]
["Pays","Région/Département","District",null,"Masculine","Féminine","Total traité","Total traité ayant besoin de CP","(%)",null,"Masculine","Féminine","Total traité","Total traité ayant besoin de CP","(%)",null,"Masculine","Féminine","Total traité","EAPréS traité ayant besoin de CP","EAPréS (%)","EAS traité ayant besoin de CP","EAS (%)","Total traité ayant besoin de CP","(%)",null,"Masculine","Féminine","Total traité","EAS traité ayant besoin de CP","EAS (%)","Adultes traité ayant besoin de CP","Adultes (%)","Total traité ayant besoin de CP","(%)",null,"LF","ONCHO","STH","SCH-SAC","SCH_Adults","<1","PreSAC","SAC","Adults","Total","Dis","PreSAC","SAC","Adults","Total","PreSAC","SAC","Adults","Total","Coverage"]
[]
[{"$f":"IF(COUNTRY_INFO!A9=0,\" \",COUNTRY_INFO!A9)","v":"Burkina Faso"},{"$f":"IF(COUNTRY_INFO!B9=0,\" \",COUNTRY_INFO!B9)","v":"Boucle du Mouhoun"},{"$f":"IF(COUNTRY_INFO!C9=0,\" \",COUNTRY_INFO!C9)","v":"Boromo"},{"$f":"COUNTRY_INFO!L9","v":"Interrompu"},null,null,{"$f":"MAX('MDA1'!M9,'MDA2'!M9)","v":0},{"$f":"IF(AND(COUNTRY_INFO!H9>0,COUNTRY_INFO!H9<4),IF(D9>MAX('MDA1'!M9,'MDA2'!M9),MAX('MDA1'!M9,'MDA2'!M9),D9),0)","v":0},{"$f":"IF(AND(COUNTRY_INFO!H9>0,COUNTRY_INFO!H9<4), IF(G9/D9*100<>0, IF(G9/D9*100>100,100,G9/D9*100), \"-\"),0)","v":0},{"$f":"COUNTRY_INFO!M9","v":0},null,null,{"$f":"MAX('MDA1'!M9,MAX('MDA3'!I9,'MDA3'!L9)+MAX('MDA3'!J9,'MDA3'!M9))","v":0},{"$f":"IF(AND(COUNTRY_INFO!I9>0,COUNTRY_INFO!I9<4),IF(J9>MAX('MDA1'!M9,MAX('MDA3'!I9,'MDA3'!L9)+MAX('MDA3'!J9,'MDA3'!M9)),MAX('MDA1'!M9,MAX('MDA3'!I9,'MDA3'!L9)+MAX('MDA3'!J9,'MDA3'!M9)),J9),0)","v":0},{"$f":"IF(AND(COUNTRY_INFO!I9>0,COUNTRY_INFO!I9<4), IF(M9/J9*100<>0, IF(M9/J9*100>100,100,M9/J9*100), \"-\"),0)","v":0},{"$f":"COUNTRY_INFO!N9","v":0},44995,44826,{"$f":"SUM(MAX('MDA2'!J9, 'T1'!L9, MAX(T3_R1!K9, T3_R2!K9)), MAX('MDA1'!K9, 'MDA2'!K9, 'T1'!M9, MAX(T3_R1!L9, T3_R2!L9)), MAX('MDA1'!L9, 'MDA2'!L9, 'T1'!N9, MAX(T3_R1!M9, T3_R2!M9)))","v":227381},{"$f":"IF(AND(COUNTRY_INFO!J9>1,COUNTRY_INFO!J9<4),IF(COUNTRY_INFO!E9>MAX('MDA2'!J9,'T1'!L9,MAX(T3_R1!K9,T3_R2!K9)),MAX('MDA2'!J9,'T1'!L9,MAX(T3_R1!K9,T3_R2!K9)),COUNTRY_INFO!E9),0)","v":0},{"$f":"IF(AND(COUNTRY_INFO!J9>1,COUNTRY_INFO!J9<4), IF(T9/COUNTRY_INFO!E9*100<>0, IF(T9/COUNTRY_INFO!E9*100>100,100,T9/COUNTRY_INFO!E9*100), \"-\"),0)","v":0},{"$f":"IF(AND(COUNTRY_INFO!J9>1,COUNTRY_INFO!J9<4),IF(COUNTRY_INFO!F9>MAX('MDA1'!K9,'MDA2'!K9,'T1'!M9,MAX(T3_R1!L9,T3_R2!L9)),MAX('MDA1'!K9,'MDA2'!K9,'T1'!M9,MAX(T3_R1!L9,T3_R2!L9)),COUNTRY_INFO!F9),0)","v":0},{"$f":"IF(AND(COUNTRY_INFO!J9>1,COUNTRY_INFO!J9<4), IF(V9/COUNTRY_INFO!F9*100<>0, IF(V9/COUNTRY_INFO!F9*100>100,100,V9/COUNTRY_INFO!F9*100), \"-\"),0)","v":0},{"$f":"SUM(T9,V9)","v":0},{"$f":"IF(AND(COUNTRY_INFO!J9>1,COUNTRY_INFO!J9<4), IF(S9/P9*100<>0, IF(X9/P9*100>100,100,X9/P9*100), \"-\"),0)","v":0},{"$f":"COUNTRY_INFO!O9","v":72786.2},112697,114684,{"$f":"MAX('T1'!L9,'T2'!J9)+MAX('T1'!M9,'T2'!K9)+MAX('T1'!N9,'T2'!L9)","v":227381},{"$f":"IF(COUNTRY_INFO!K9=1,IF(COUNTRY_INFO!F9*0.33>MAX('T1'!M9,'T2'!K9),MAX('T1'!M9,'T2'!K9),COUNTRY_INFO!F9*0.33),IF(COUNTRY_INFO!K9=2,IF(COUNTRY_INFO!F9*0.5>MAX('T1'!M9,'T2'!K9),MAX('T1'!M9,'T2'!K9),COUNTRY_INFO!F9*0.5),IF(COUNTRY_INFO!K9=3,IF(COUNTRY_INFO!F9>MAX('T1'!M9,'T2'!K9),MAX('T1'!M9,'T2'!K9),COUNTRY_INFO!F9),0)))","v":43180},{"$f":"IF(AND(COUNTRY_INFO!K9>0,COUNTRY_INFO!K9<4),IF(Z9>0,IF(COUNTRY_INFO!K9=1, AD9/(COUNTRY_INFO!F9*0.33)*100, IF(COUNTRY_INFO!K9=2, AD9/(COUNTRY_INFO!F9*0.5)*100, IF(COUNTRY_INFO!K9=3, AD9/COUNTRY_INFO!F9*100))),\"-\"),0)","v":100},{"$f":"IF(COUNTRY_INFO!K9=2,IF(COUNTRY_INFO!G9*0.2>MAX('T1'!N9,'T2'!L9),MAX('T1'!N9,'T2'!L9),COUNTRY_INFO!G9*0.2),IF(COUNTRY_INFO!K9=3,IF(COUNTRY_INFO!G9>MAX('T1'!N9,'T2'!L9),MAX('T1'!N9,'T2'!L9),COUNTRY_INFO!G9),0))","v":29606.2},{"$f":"IF(AND(COUNTRY_INFO!K9>0,COUNTRY_INFO!K9<4),IF(Z9>0,IF(COUNTRY_INFO!K9=1, 0, IF(COUNTRY_INFO!K9=2, AF9/(COUNTRY_INFO!G9*0.2)*100, IF(COUNTRY_INFO!K9=3, AF9/COUNTRY_INFO!G9*100))),\"-\"),0)","v":100},{"$f":"SUM(AD9,AF9)","v":72786.2},{"$f":"IF(AND(COUNTRY_INFO!K9>0,COUNTRY_INFO!K9<4), IF(AC9/Z9*100<>0, IF(AH9/Z9*100>100,100,AH9/Z9*100), \"-\"),0)","v":100},null,{"$f":"IF(AND(D9<>0, D9<>\"Inconnu\",D9<>\"Interrompu\",D9<>\"Non requis\"),D9/COUNTRY_INFO!D9, 0)","v":0},{"$f":"IF(AND(J9<>0,J9<>\"Inconnu\",J9<>\"Interrompu\",J9<>\"Non requis\"),J9/COUNTRY_INFO!D9, 0)","v":0},{"$f":"IF(AND(P9<>0,P9<>\"Inconnu\",P9<>\"Non requis\"),P9/(COUNTRY_INFO!E9+COUNTRY_INFO!F9), 0)","v":0},{"$f":"IF(AND(Z9<>0,Z9<>\"Inconnu\",Z9<>\"Non requis\"),IF(COUNTRY_INFO!K9=1,1,IF(COUNTRY_INFO!K9=2,0.5*COUNTRY_INFO!F9/(0.5*COUNTRY_INFO!F9+0.2*COUNTRY_INFO!G9),IF(COUNTRY_INFO!K9=3,COUNTRY_INFO!F9/(COUNTRY_INFO!F9+COUNTRY_INFO!G9)))),0)","v":0.59324432378665193},{"$f":"IF(AND(Z9<>0,Z9<>\"Inconnu\",Z9<>\"Non requis\"),IF(COUNTRY_INFO!K9=1,0,IF(COUNTRY_INFO!K9=2,0.2*COUNTRY_INFO!G9/(0.5*COUNTRY_INFO!F9+0.2*COUNTRY_INFO!G9),IF(COUNTRY_INFO!K9=3,COUNTRY_INFO!G9/(COUNTRY_INFO!F9+COUNTRY_INFO!G9)))),0)","v":0.40675567621334818},{"$f":"MAX(COUNTRY_INFO!D9*AK9*PROFILE!$G$7,COUNTRY_INFO!D9*AL9*PROFILE!$G$7)","v":0},{"$f":"MAX(COUNTRY_INFO!D9*AK9*PROFILE!$G$8,COUNTRY_INFO!D9*AL9*PROFILE!$G$8,COUNTRY_INFO!D9*AM9*PROFILE!$G$8)","v":0},{"$f":"MAX(COUNTRY_INFO!D9*AK9*PROFILE!$G$9,COUNTRY_INFO!D9*AL9*PROFILE!$G$9,COUNTRY_INFO!D9*AM9*PROFILE!$G$9,IF(AND(DISTRICT!Z9<>\"Inconnu\",Z9<>\"Non requis\"),COUNTRY_INFO!O9*DISTRICT!AN9,0))","v":43180},{"$f":"MAX(COUNTRY_INFO!D9*AK9*PROFILE!$G$10,COUNTRY_INFO!D9*AL9*PROFILE!$G$10,IF(AND(DISTRICT!Z9<>\"Inconnu\",Z9<>\"Non requis\"),COUNTRY_INFO!O9*DISTRICT!AO9,0))","v":29606.2},{"$f":"SUM(AP9:AS9)","v":72786.2},{"$f":"IF(COUNTIFS(AK9:AN9,\">0\")=0,0, IF(COUNTIFS(AK9:AN9,\">0\")<=IF(AND(OR(D9>=0,D9=\"Non requis\",D9=\"Inconnu\",D9=\"Interrompu\"),D9>0,H9>0),1,0)+IF(AND(OR(J9>=0,J9=\"Non requis\",J9=\"Inconnu\",J9=\"Interrompu\"),J9>0,N9>0),1,0)+IF(AND(OR(P9>=0,P9=\"Non requis\",P9=\"Inconnu\"),P9>0,X9>0),1,0)+IF(AND(OR(Z9>=0,Z9=\"Non requis\",Z9=\"Inconnu\"),Z9>0,AH9>0),1,0),\"Y\",0))","v":"Y"},{"$f":"MAX('MDA2'!J9,'T1'!L9,'T2'!J9,T3_R1!K9,T3_R2!K9)","v":0},{"$f":"MAX('MDA1'!K9,'MDA2'!K9,'MDA3'!I9,'MDA3'!L9,'T1'!M9,'T2'!K9,T3_R1!L9,T3_R2!L9)","v":89821},{"$f":"MAX('MDA1'!L9,'MDA2'!L9,'MDA3'!J9,'MDA3'!M9,'T1'!N9,'T2'!L9,T3_R1!M9,T3_R2!M9)","v":137560},{"$f":"SUM(AV9:AX9)","v":227381},{"$f":"MAX('MDA2'!J9,T9)","v":0},{"$f":"MAX('MDA1'!K9,'MDA2'!K9,'MDA3'!I9,'MDA3'!L9,V9,AD9)","v":43180},{"$f":"MAX('MDA1'!L9,'MDA2'!L9,'MDA3'!J9,'MDA3'!M9,AF9)","v":29606.2},{"$f":"IF(AT9<SUM(AZ9:BB9), AT9,SUM(AZ9:BB9))","v":72786.2},{"$f":"IF(AT9<>0,BC9/AT9*100,0)","v":100}]
[{"$f":"IF(COUNTRY_INFO!A10=0,\" \",COUNTRY_INFO!A10)","v":"Burkina Faso"},{"$f":"IF(COUNTRY_INFO!B10=0,\" \",COUNTRY_INFO!B10)","v":"Boucle du Mouhoun"},{"$f":"IF(COUNTRY_INFO!C10=0,\" \",COUNTRY_INFO!C10)","v":"Dédougou"},{"$f":"COUNTRY_INFO!L10","v":"Interrompu"},null,null,{"$f":"MAX('MDA1'!M10,'MDA2'!M10)","v":0},{"$f":"IF(AND(COUNTRY_INFO!H10>0,COUNTRY_INFO!H10<4),IF(D10>MAX('MDA1'!M10,'MDA2'!M10),MAX('MDA1'!M10,'MDA2'!M10),D10),0)","v":0},{"$f":"IF(AND(COUNTRY_INFO!H10>0,COUNTRY_INFO!H10<4), IF(G10/D10*100<>0, IF(G10/D10*100>100,100,G10/D10*100), \"-\"),0)","v":0},{"$f":"COUNTRY_INFO!M10","v":0},null,null,{"$f":"MAX('MDA1'!M10,MAX('MDA3'!I10,'MDA3'!L10)+MAX('MDA3'!J10,'MDA3'!M10))","v":0},{"$f":"IF(AND(COUNTRY_INFO!I10>0,COUNTRY_INFO!I10<4),IF(J10>MAX('MDA1'!M10,MAX('MDA3'!I10,'MDA3'!L10)+MAX('MDA3'!J10,'MDA3'!M10)),MAX('MDA1'!M10,MAX('MDA3'!I10,'MDA3'!L10)+MAX('MDA3'!J10,'MDA3'!M10)),J10),0)","v":0},{"$f":"IF(AND(COUNTRY_INFO!I10>0,COUNTRY_INFO!I10<4), IF(M10/J10*100<>0, IF(M10/J10*100>100,100,M10/J10*100), \"-\"),0)","v":0},{"$f":"COUNTRY_INFO!N10","v":0},60832,59592,{"$f":"SUM(MAX('MDA2'!J10, 'T1'!L10, MAX(T3_R1!K10, T3_R2!K10)), MAX('MDA1'!K10, 'MDA2'!K10, 'T1'!M10, MAX(T3_R1!L10, T3_R2!L10)), MAX('MDA1'!L10, 'MDA2'!L10, 'T1'!N10, MAX(T3_R1!M10, T3_R2!M10)))","v":307817},{"$f":"IF(AND(COUNTRY_INFO!J10>1,COUNTRY_INFO!J10<4),IF(COUNTRY_INFO!E10>MAX('MDA2'!J10,'T1'!L10,MAX(T3_R1!K10,T3_R2!K10)),MAX('MDA2'!J10,'T1'!L10,MAX(T3_R1!K10,T3_R2!K10)),COUNTRY_INFO!E10),0)","v":0},{"$f":"IF(AND(COUNTRY_INFO!J10>1,COUNTRY_INFO!J10<4), IF(T10/COUNTRY_INFO!E10*100<>0, IF(T10/COUNTRY_INFO!E10*100>100,100,T10/COUNTRY_INFO!E10*100), \"-\"),0)","v":0},{"$f":"IF(AND(COUNTRY_INFO!J10>1,COUNTRY_INFO!J10<4),IF(COUNTRY_INFO!F10>MAX('MDA1'!K10,'MDA2'!K10,'T1'!M10,MAX(T3_R1!L10,T3_R2!L10)),MAX('MDA1'!K10,'MDA2'!K10,'T1'!M10,MAX(T3_R1!L10,T3_R2!L10)),COUNTRY_INFO!F10),0)","v":0},{"$f":"IF(AND(COUNTRY_INFO!J10>1,COUNTRY_INFO!J10<4), IF(V10/COUNTRY_INFO!F10*100<>0, IF(V10/COUNTRY_INFO!F10*100>100,100,V10/COUNTRY_INFO!F10*100), \"-\"),0)","v":0},{"$f":"SUM(T10,V10)","v":0},{"$f":"IF(AND(COUNTRY_INFO!J10>1,COUNTRY_INFO!J10<4), IF(S10/P10*100<>0, IF(X10/P10*100>100,100,X10/P10*100), \"-\"),0)","v":0},{"$f":"COUNTRY_INFO!O10","v":101204.5},153078,154739,{"$f":"MAX('T1'!L10,'T2'!J10)+MAX('T1'!M10,'T2'!K10)+MAX('T1'!N10,'T2'!L10)","v":307817},{"$f":"IF(COUNTRY_INFO!K10=1,IF(COUNTRY_INFO!F10*0.33>MAX('T1'!M10,'T2'!K10),MAX('T1'!M10,'T2'!K10),COUNTRY_INFO!F10*0.33),IF(COUNTRY_INFO!K10=2,IF(COUNTRY_INFO!F10*0.5>MAX('T1'!M10,'T2'!K10),MAX('T1'!M10,'T2'!K10),COUNTRY_INFO!F10*0.5),IF(COUNTRY_INFO!K10=3,IF(COUNTRY_INFO!F10>MAX('T1'!M10,'T2'!K10),MAX('T1'!M10,'T2'!K10),COUNTRY_INFO!F10),0)))","v":60036.5},{"$f":"IF(AND(COUNTRY_INFO!K10>0,COUNTRY_INFO!K10<4),IF(Z10>0,IF(COUNTRY_INFO!K10=1, AD10/(COUNTRY_INFO!F10*0.33)*100, IF(COUNTRY_INFO!K10=2, AD10/(COUNTRY_INFO!F10*0.5)*100, IF(COUNTRY_INFO!K10=3, AD10/COUNTRY_INFO!F10*100))),\"-\"),0)","v":100},{"$f":"IF(COUNTRY_INFO!K10=2,IF(COUNTRY_INFO!G10*0.2>MAX('T1'!N10,'T2'!L10),MAX('T1'!N10,'T2'!L10),COUNTRY_INFO!G10*0.2),IF(COUNTRY_INFO!K10=3,IF(COUNTRY_INFO!G10>MAX('T1'!N10,'T2'!L10),MAX('T1'!N10,'T2'!L10),COUNTRY_INFO!G10),0))","v":41168},{"$f":"IF(AND(COUNTRY_INFO!K10>0,COUNTRY_INFO!K10<4),IF(Z10>0,IF(COUNTRY_INFO!K10=1, 0, IF(COUNTRY_INFO!K10=2, AF10/(COUNTRY_INFO!G10*0.2)*100, IF(COUNTRY_INFO!K10=3, AF10/COUNTRY_INFO!G10*100))),\"-\"),0)","v":100},{"$f":"SUM(AD10,AF10)","v":101204.5},{"$f":"IF(AND(COUNTRY_INFO!K10>0,COUNTRY_INFO!K10<4), IF(AC10/Z10*100<>0, IF(AH10/Z10*100>100,100,AH10/Z10*100), \"-\"),0)","v":100},null,{"$f":"IF(AND(D10<>0, D10<>\"Inconnu\",D10<>\"Interrompu\",D10<>\"Non requis\"),D10/COUNTRY_INFO!D10, 0)","v":0},{"$f":"IF(AND(J10<>0,J10<>\"Inconnu\",J10<>\"Interrompu\",J10<>\"Non requis\"),J10/COUNTRY_INFO!D10, 0)","v":0},{"$f":"IF(AND(P10<>0,P10<>\"Inconnu\",P10<>\"Non requis\"),P10/(COUNTRY_INFO!E10+COUNTRY_INFO!F10), 0)","v":0},{"$f":"IF(AND(Z10<>0,Z10<>\"Inconnu\",Z10<>\"Non requis\"),IF(COUNTRY_INFO!K10=1,1,IF(COUNTRY_INFO!K10=2,0.5*COUNTRY_INFO!F10/(0.5*COUNTRY_INFO!F10+0.2*COUNTRY_INFO!G10),IF(COUNTRY_INFO!K10=3,COUNTRY_INFO!F10/(COUNTRY_INFO!F10+COUNTRY_INFO!G10)))),0)","v":0.59321966908586077},{"$f":"IF(AND(Z10<>0,Z10<>\"Inconnu\",Z10<>\"Non requis\"),IF(COUNTRY_INFO!K10=1,0,IF(COUNTRY_INFO!K10=2,0.2*COUNTRY_INFO!G10/(0.5*COUNTRY_INFO!F10+0.2*COUNTRY_INFO!G10),IF(COUNTRY_INFO!K10=3,COUNTRY_INFO!G10/(COUNTRY_INFO!F10+COUNTRY_INFO!G10)))),0)","v":0.40678033091413918},{"$f":"MAX(COUNTRY_INFO!D10*AK10*PROFILE!$G$7,COUNTRY_INFO!D10*AL10*PROFILE!$G$7)","v":0},{"$f":"MAX(COUNTRY_INFO!D10*AK10*PROFILE!$G$8,COUNTRY_INFO!D10*AL10*PROFILE!$G$8,COUNTRY_INFO!D10*AM10*PROFILE!$G$8)","v":0},{"$f":"MAX(COUNTRY_INFO!D10*AK10*PROFILE!$G$9,COUNTRY_INFO!D10*AL10*PROFILE!$G$9,COUNTRY_INFO!D10*AM10*PROFILE!$G$9,IF(AND(DISTRICT!Z10<>\"Inconnu\",Z10<>\"Non requis\"),COUNTRY_INFO!O10*DISTRICT!AN10,0))","v":60036.499999999993},{"$f":"MAX(COUNTRY_INFO!D10*AK10*PROFILE!$G$10,COUNTRY_INFO!D10*AL10*PROFILE!$G$10,IF(AND(DISTRICT!Z10<>\"Inconnu\",Z10<>\"Non requis\"),COUNTRY_INFO!O10*DISTRICT!AO10,0))","v":41168},{"$f":"SUM(AP10:AS10)","v":101204.5},"Y",{"$f":"MAX('MDA2'!J10,'T1'!L10,'T2'!J10,T3_R1!K10,T3_R2!K10)","v":0},{"$f":"MAX('MDA1'!K10,'MDA2'!K10,'MDA3'!I10,'MDA3'!L10,'T1'!M10,'T2'!K10,T3_R1!L10,T3_R2!L10)","v":123315},{"$f":"MAX('MDA1'!L10,'MDA2'!L10,'MDA3'!J10,'MDA3'!M10,'T1'!N10,'T2'!L10,T3_R1!M10,T3_R2!M10)","v":184502},{"$f":"SUM(AV10:AX10)","v":307817},{"$f":"MAX('MDA2'!J10,T10)","v":0},{"$f":"MAX('MDA1'!K10,'MDA2'!K10,'MDA3'!I10,'MDA3'!L10,V10,AD10)","v":60036.5},{"$f":"MAX('MDA1'!L10,'MDA2'!L10,'MDA3'!J10,'MDA3'!M10,AF10)","v":41168},101204.5,100]
[{"$f":"IF(COUNTRY_INFO!A11=0,\" \",COUNTRY_INFO!A11)","v":"Burkina Faso"},{"$f":"IF(COUNTRY_INFO!B11=0,\" \",COUNTRY_INFO!B11)","v":"Boucle du Mouhoun"},{"$f":"IF(COUNTRY_INFO!C11=0,\" \",COUNTRY_INFO!C11)","v":"Nouna"},{"$f":"COUNTRY_INFO!L11","v":"Interrompu"},null,null,{"$f":"MAX('MDA1'!M11,'MDA2'!M11)","v":0},{"$f":"IF(AND(COUNTRY_INFO!H11>0,COUNTRY_INFO!H11<4),IF(D11>MAX('MDA1'!M11,'MDA2'!M11),MAX('MDA1'!M11,'MDA2'!M11),D11),0)","v":0},{"$f":"IF(AND(COUNTRY_INFO!H11>0,COUNTRY_INFO!H11<4), IF(G11/D11*100<>0, IF(G11/D11*100>100,100,G11/D11*100), \"-\"),0)","v":0},{"$f":"COUNTRY_INFO!M11","v":0},null,null,{"$f":"MAX('MDA1'!M11,MAX('MDA3'!I11,'MDA3'!L11)+MAX('MDA3'!J11,'MDA3'!M11))","v":0},{"$f":"IF(AND(COUNTRY_INFO!I11>0,COUNTRY_INFO!I11<4),IF(J11>MAX('MDA1'!M11,MAX('MDA3'!I11,'MDA3'!L11)+MAX('MDA3'!J11,'MDA3'!M11)),MAX('MDA1'!M11,MAX('MDA3'!I11,'MDA3'!L11)+MAX('MDA3'!J11,'MDA3'!M11)),J11),0)","v":0},{"$f":"IF(AND(COUNTRY_INFO!I11>0,COUNTRY_INFO!I11<4), IF(M11/J11*100<>0, IF(M11/J11*100>100,100,M11/J11*100), \"-\"),0)","v":0},{"$f":"COUNTRY_INFO!N11","v":0},54167,54104,{"$f":"SUM(MAX('MDA2'!J11, 'T1'!L11, MAX(T3_R1!K11, T3_R2!K11)), MAX('MDA1'!K11, 'MDA2'!K11, 'T1'!M11, MAX(T3_R1!L11, T3_R2!L11)), MAX('MDA1'!L11, 'MDA2'!L11, 'T1'!N11, MAX(T3_R1!M11, T3_R2!M11)))","v":283095},{"$f":"IF(AND(COUNTRY_INFO!J11>1,COUNTRY_INFO!J11<4),IF(COUNTRY_INFO!E11>MAX('MDA2'!J11,'T1'!L11,MAX(T3_R1!K11,T3_R2!K11)),MAX('MDA2'!J11,'T1'!L11,MAX(T3_R1!K11,T3_R2!K11)),COUNTRY_INFO!E11),0)","v":0},{"$f":"IF(AND(COUNTRY_INFO!J11>1,COUNTRY_INFO!J11<4), IF(T11/COUNTRY_INFO!E11*100<>0, IF(T11/COUNTRY_INFO!E11*100>100,100,T11/COUNTRY_INFO!E11*100), \"-\"),0)","v":0},{"$f":"IF(AND(COUNTRY_INFO!J11>1,COUNTRY_INFO!J11<4),IF(COUNTRY_INFO!F11>MAX('MDA1'!K11,'MDA2'!K11,'T1'!M11,MAX(T3_R1!L11,T3_R2!L11)),MAX('MDA1'!K11,'MDA2'!K11,'T1'!M11,MAX(T3_R1!L11,T3_R2!L11)),COUNTRY_INFO!F11),0)","v":0},{"$f":"IF(AND(COUNTRY_INFO!J11>1,COUNTRY_INFO!J11<4), IF(V11/COUNTRY_INFO!F11*100<>0, IF(V11/COUNTRY_INFO!F11*100>100,100,V11/COUNTRY_INFO!F11*100), \"-\"),0)","v":0},0,{"$f":"IF(AND(COUNTRY_INFO!J11>1,COUNTRY_INFO!J11<4), IF(S11/P11*100<>0, IF(X11/P11*100>100,100,X11/P11*100), \"-\"),0)","v":0},{"$f":"COUNTRY_INFO!O11","v":92937.1},142329,140766,{"$f":"MAX('T1'!L11,'T2'!J11)+MAX('T1'!M11,'T2'!K11)+MAX('T1'!N11,'T2'!L11)","v":283095},{"$f":"IF(COUNTRY_INFO!K11=1,IF(COUNTRY_INFO!F11*0.33>MAX('T1'!M11,'T2'!K11),MAX('T1'!M11,'T2'!K11),COUNTRY_INFO!F11*0.33),IF(COUNTRY_INFO!K11=2,IF(COUNTRY_INFO!F11*0.5>MAX('T1'!M11,'T2'!K11),MAX('T1'!M11,'T2'!K11),COUNTRY_INFO!F11*0.5),IF(COUNTRY_INFO!K11=3,IF(COUNTRY_INFO!F11>MAX('T1'!M11,'T2'!K11),MAX('T1'!M11,'T2'!K11),COUNTRY_INFO!F11),0)))","v":55133.5},{"$f":"IF(AND(COUNTRY_INFO!K11>0,COUNTRY_INFO!K11<4),IF(Z11>0,IF(COUNTRY_INFO!K11=1, AD11/(COUNTRY_INFO!F11*0.33)*100, IF(COUNTRY_INFO!K11=2, AD11/(COUNTRY_INFO!F11*0.5)*100, IF(COUNTRY_INFO!K11=3, AD11/COUNTRY_INFO!F11*100))),\"-\"),0)","v":100},{"$f":"IF(COUNTRY_INFO!K11=2,IF(COUNTRY_INFO!G11*0.2>MAX('T1'!N11,'T2'!L11),MAX('T1'!N11,'T2'!L11),COUNTRY_INFO!G11*0.2),IF(COUNTRY_INFO!K11=3,IF(COUNTRY_INFO!G11>MAX('T1'!N11,'T2'!L11),MAX('T1'!N11,'T2'!L11),COUNTRY_INFO!G11),0))","v":37803.599999999999},{"$f":"IF(AND(COUNTRY_INFO!K11>0,COUNTRY_INFO!K11<4),IF(Z11>0,IF(COUNTRY_INFO!K11=1, 0, IF(COUNTRY_INFO!K11=2, AF11/(COUNTRY_INFO!G11*0.2)*100, IF(COUNTRY_INFO!K11=3, AF11/COUNTRY_INFO!G11*100))),\"-\"),0)","v":100},92937.1,{"$f":"IF(AND(COUNTRY_INFO!K11>0,COUNTRY_INFO!K11<4), IF(AC11/Z11*100<>0, IF(AH11/Z11*100>100,100,AH11/Z11*100), \"-\"),0)","v":100},null,{"$f":"IF(AND(D11<>0, D11<>\"Inconnu\",D11<>\"Interrompu\",D11<>\"Non requis\"),D11/COUNTRY_INFO!D11, 0)","v":0},{"$f":"IF(AND(J11<>0,J11<>\"Inconnu\",J11<>\"Interrompu\",J11<>\"Non requis\"),J11/COUNTRY_INFO!D11, 0)","v":0},{"$f":"IF(AND(P11<>0,P11<>\"Inconnu\",P11<>\"Non requis\"),P11/(COUNTRY_INFO!E11+COUNTRY_INFO!F11), 0)","v":0},{"$f":"IF(AND(Z11<>0,Z11<>\"Inconnu\",Z11<>\"Non requis\"),IF(COUNTRY_INFO!K11=1,1,IF(COUNTRY_INFO!K11=2,0.5*COUNTRY_INFO!F11/(0.5*COUNTRY_INFO!F11+0.2*COUNTRY_INFO!G11),IF(COUNTRY_INFO!K11=3,COUNTRY_INFO!F11/(COUNTRY_INFO!F11+COUNTRY_INFO!G11)))),0)","v":0.59323456402233332},{"$f":"IF(AND(Z11<>0,Z11<>\"Inconnu\",Z11<>\"Non requis\"),IF(COUNTRY_INFO!K11=1,0,IF(COUNTRY_INFO!K11=2,0.2*COUNTRY_INFO!G11/(0.5*COUNTRY_INFO!F11+0.2*COUNTRY_INFO!G11),IF(COUNTRY_INFO!K11=3,COUNTRY_INFO!G11/(COUNTRY_INFO!F11+COUNTRY_INFO!G11)))),0)","v":0.40676543597766657},{"$f":"MAX(COUNTRY_INFO!D11*AK11*PROFILE!$G$7,COUNTRY_INFO!D11*AL11*PROFILE!$G$7)","v":0},{"$f":"MAX(COUNTRY_INFO!D11*AK11*PROFILE!$G$8,COUNTRY_INFO!D11*AL11*PROFILE!$G$8,COUNTRY_INFO!D11*AM11*PROFILE!$G$8)","v":0},{"$f":"MAX(COUNTRY_INFO!D11*AK11*PROFILE!$G$9,COUNTRY_INFO!D11*AL11*PROFILE!$G$9,COUNTRY_INFO!D11*AM11*PROFILE!$G$9,IF(AND(DISTRICT!Z11<>\"Inconnu\",Z11<>\"Non requis\"),COUNTRY_INFO!O11*DISTRICT!AN11,0))","v":55133.5},{"$f":"MAX(COUNTRY_INFO!D11*AK11*PROFILE!$G$10,COUNTRY_INFO!D11*AL11*PROFILE!$G$10,IF(AND(DISTRICT!Z11<>\"Inconnu\",Z11<>\"Non requis\"),COUNTRY_INFO!O11*DISTRICT!AO11,0))","v":37803.599999999999},92937.1,"Y",{"$f":"MAX('MDA2'!J11,'T1'!L11,'T2'!J11,T3_R1!K11,T3_R2!K11)","v":0},{"$f":"MAX('MDA1'!K11,'MDA2'!K11,'MDA3'!I11,'MDA3'!L11,'T1'!M11,'T2'!K11,T3_R1!L11,T3_R2!L11)","v":113096},{"$f":"MAX('MDA1'!L11,'MDA2'!L11,'MDA3'!J11,'MDA3'!M11,'T1'!N11,'T2'!L11,T3_R1!M11,T3_R2!M11)","v":169999},283095,{"$f":"MAX('MDA2'!J11,T11)","v":0},{"$f":"MAX('MDA1'!K11,'MDA2'!K11,'MDA3'!I11,'MDA3'!L11,V11,AD11)","v":55133.5},{"$f":"MAX('MDA1'!L11,'MDA2'!L11,'MDA3'!J11,'MDA3'!M11,AF11)","v":37803.599999999999},92937.1,100]
[{"$f":"IF(COUNTRY_INFO!A12=0,\" \",COUNTRY_INFO!A12)","v":"Burkina Faso"},{"$f":"IF(COUNTRY_INFO!B12=0,\" \",COUNTRY_INFO!B12)","v":"Boucle du Mouhoun"},{"$f":"IF(COUNTRY_INFO!C12=0,\" \",COUNTRY_INFO!C12)","v":"Solenzo"},{"$f":"COUNTRY_INFO!L12","v":"Interrompu"},null,null,{"$f":"MAX('MDA1'!M12,'MDA2'!M12)","v":0},{"$f":"IF(AND(COUNTRY_INFO!H12>0,COUNTRY_INFO!H12<4),IF(D12>MAX('MDA1'!M12,'MDA2'!M12),MAX('MDA1'!M12,'MDA2'!M12),D12),0)","v":0},{"$f":"IF(AND(COUNTRY_INFO!H12>0,COUNTRY_INFO!H12<4), IF(G12/D12*100<>0, IF(G12/D12*100>100,100,G12/D12*100), \"-\"),0)","v":0},{"$f":"COUNTRY_INFO!M12","v":0},null,null,{"$f":"MAX('MDA1'!M12,MAX('MDA3'!I12,'MDA3'!L12)+MAX('MDA3'!J12,'MDA3'!M12))","v":0},{"$f":"IF(AND(COUNTRY_INFO!I12>0,COUNTRY_INFO!I12<4),IF(J12>MAX('MDA1'!M12,MAX('MDA3'!I12,'MDA3'!L12)+MAX('MDA3'!J12,'MDA3'!M12)),MAX('MDA1'!M12,MAX('MDA3'!I12,'MDA3'!L12)+MAX('MDA3'!J12,'MDA3'!M12)),J12),0)","v":0},{"$f":"IF(AND(COUNTRY_INFO!I12>0,COUNTRY_INFO!I12<4), IF(M12/J12*100<>0, IF(M12/J12*100>100,100,M12/J12*100), \"-\"),0)","v":0},{"$f":"COUNTRY_INFO!N12","v":0},55074,52196,{"$f":"SUM(MAX('MDA2'!J12, 'T1'!L12, MAX(T3_R1!K12, T3_R2!K12)), MAX('MDA1'!K12, 'MDA2'!K12, 'T1'!M12, MAX(T3_R1!L12, T3_R2!L12)), MAX('MDA1'!L12, 'MDA2'!L12, 'T1'!N12, MAX(T3_R1!M12, T3_R2!M12)))","v":281155},{"$f":"IF(AND(COUNTRY_INFO!J12>1,COUNTRY_INFO!J12<4),IF(COUNTRY_INFO!E12>MAX('MDA2'!J12,'T1'!L12,MAX(T3_R1!K12,T3_R2!K12)),MAX('MDA2'!J12,'T1'!L12,MAX(T3_R1!K12,T3_R2!K12)),COUNTRY_INFO!E12),0)","v":0},{"$f":"IF(AND(COUNTRY_INFO!J12>1,COUNTRY_INFO!J12<4), IF(T12/COUNTRY_INFO!E12*100<>0, IF(T12/COUNTRY_INFO!E12*100>100,100,T12/COUNTRY_INFO!E12*100), \"-\"),0)","v":0},{"$f":"IF(AND(COUNTRY_INFO!J12>1,COUNTRY_INFO!J12<4),IF(COUNTRY_INFO!F12>MAX('MDA1'!K12,'MDA2'!K12,'T1'!M12,MAX(T3_R1!L12,T3_R2!L12)),MAX('MDA1'!K12,'MDA2'!K12,'T1'!M12,MAX(T3_R1!L12,T3_R2!L12)),COUNTRY_INFO!F12),0)","v":0},{"$f":"IF(AND(COUNTRY_INFO!J12>1,COUNTRY_INFO!J12<4), IF(V12/COUNTRY_INFO!F12*100<>0, IF(V12/COUNTRY_INFO!F12*100>100,100,V12/COUNTRY_INFO!F12*100), \"-\"),0)","v":0},0,{"$f":"IF(AND(COUNTRY_INFO!J12>1,COUNTRY_INFO!J12<4), IF(S12/P12*100<>0, IF(X12/P12*100>100,100,X12/P12*100), \"-\"),0)","v":0},{"$f":"COUNTRY_INFO!O12","v":91294.399999999994},136212,144943,{"$f":"MAX('T1'!L12,'T2'!J12)+MAX('T1'!M12,'T2'!K12)+MAX('T1'!N12,'T2'!L12)","v":281155},{"$f":"IF(COUNTRY_INFO!K12=1,IF(COUNTRY_INFO!F12*0.33>MAX('T1'!M12,'T2'!K12),MAX('T1'!M12,'T2'!K12),COUNTRY_INFO!F12*0.33),IF(COUNTRY_INFO!K12=2,IF(COUNTRY_INFO!F12*0.5>MAX('T1'!M12,'T2'!K12),MAX('T1'!M12,'T2'!K12),COUNTRY_INFO!F12*0.5),IF(COUNTRY_INFO!K12=3,IF(COUNTRY_INFO!F12>MAX('T1'!M12,'T2'!K12),MAX('T1'!M12,'T2'!K12),COUNTRY_INFO!F12),0)))","v":54160},{"$f":"IF(AND(COUNTRY_INFO!K12>0,COUNTRY_INFO!K12<4),IF(Z12>0,IF(COUNTRY_INFO!K12=1, AD12/(COUNTRY_INFO!F12*0.33)*100, IF(COUNTRY_INFO!K12=2, AD12/(COUNTRY_INFO!F12*0.5)*100, IF(COUNTRY_INFO!K12=3, AD12/COUNTRY_INFO!F12*100))),\"-\"),0)","v":100},{"$f":"IF(COUNTRY_INFO!K12=2,IF(COUNTRY_INFO!G12*0.2>MAX('T1'!N12,'T2'!L12),MAX('T1'!N12,'T2'!L12),COUNTRY_INFO!G12*0.2),IF(COUNTRY_INFO!K12=3,IF(COUNTRY_INFO!G12>MAX('T1'!N12,'T2'!L12),MAX('T1'!N12,'T2'!L12),COUNTRY_INFO!G12),0))","v":37134.400000000001},{"$f":"IF(AND(COUNTRY_INFO!K12>0,COUNTRY_INFO!K12<4),IF(Z12>0,IF(COUNTRY_INFO!K12=1, 0, IF(COUNTRY_INFO!K12=2, AF12/(COUNTRY_INFO!G12*0.2)*100, IF(COUNTRY_INFO!K12=3, AF12/COUNTRY_INFO!G12*100))),\"-\"),0)","v":100},91294.399999999994,{"$f":"IF(AND(COUNTRY_INFO!K12>0,COUNTRY_INFO!K12<4), IF(AC12/Z12*100<>0, IF(AH12/Z12*100>100,100,AH12/Z12*100), \"-\"),0)","v":100},null,{"$f":"IF(AND(D12<>0, D12<>\"Inconnu\",D12<>\"Interrompu\",D12<>\"Non requis\"),D12/COUNTRY_INFO!D12, 0)","v":0},{"$f":"IF(AND(J12<>0,J12<>\"Inconnu\",J12<>\"Interrompu\",J12<>\"Non requis\"),J12/COUNTRY_INFO!D12, 0)","v":0},{"$f":"IF(AND(P12<>0,P12<>\"Inconnu\",P12<>\"Non requis\"),P12/(COUNTRY_INFO!E12+COUNTRY_INFO!F12), 0)","v":0},{"$f":"IF(AND(Z12<>0,Z12<>\"Inconnu\",Z12<>\"Non requis\"),IF(COUNTRY_INFO!K12=1,1,IF(COUNTRY_INFO!K12=2,0.5*COUNTRY_INFO!F12/(0.5*COUNTRY_INFO!F12+0.2*COUNTRY_INFO!G12),IF(COUNTRY_INFO!K12=3,COUNTRY_INFO!F12/(COUNTRY_INFO!F12+COUNTRY_INFO!G12)))),0)","v":0.59324558790024362},{"$f":"IF(AND(Z12<>0,Z12<>\"Inconnu\",Z12<>\"Non requis\"),IF(COUNTRY_INFO!K12=1,0,IF(COUNTRY_INFO!K12=2,0.2*COUNTRY_INFO!G12/(0.5*COUNTRY_INFO!F12+0.2*COUNTRY_INFO!G12),IF(COUNTRY_INFO!K12=3,COUNTRY_INFO!G12/(COUNTRY_INFO!F12+COUNTRY_INFO!G12)))),0)","v":0.40675441209975643},{"$f":"MAX(COUNTRY_INFO!D12*AK12*PROFILE!$G$7,COUNTRY_INFO!D12*AL12*PROFILE!$G$7)","v":0},{"$f":"MAX(COUNTRY_INFO!D12*AK12*PROFILE!$G$8,COUNTRY_INFO!D12*AL12*PROFILE!$G$8,COUNTRY_INFO!D12*AM12*PROFILE!$G$8)","v":0},{"$f":"MAX(COUNTRY_INFO!D12*AK12*PROFILE!$G$9,COUNTRY_INFO!D12*AL12*PROFILE!$G$9,COUNTRY_INFO!D12*AM12*PROFILE!$G$9,IF(AND(DISTRICT!Z12<>\"Inconnu\",Z12<>\"Non requis\"),COUNTRY_INFO!O12*DISTRICT!AN12,0))","v":54160},{"$f":"MAX(COUNTRY_INFO!D12*AK12*PROFILE!$G$10,COUNTRY_INFO!D12*AL12*PROFILE!$G$10,IF(AND(DISTRICT!Z12<>\"Inconnu\",Z12<>\"Non requis\"),COUNTRY_INFO!O12*DISTRICT!AO12,0))","v":37134.400000000001},91294.399999999994,"Y",{"$f":"MAX('MDA2'!J12,'T1'!L12,'T2'!J12,T3_R1!K12,T3_R2!K12)","v":0},{"$f":"MAX('MDA1'!K12,'MDA2'!K12,'MDA3'!I12,'MDA3'!L12,'T1'!M12,'T2'!K12,T3_R1!L12,T3_R2!L12)","v":109242},{"$f":"MAX('MDA1'!L12,'MDA2'!L12,'MDA3'!J12,'MDA3'!M12,'T1'!N12,'T2'!L12,T3_R1!M12,T3_R2!M12)","v":171913},281155,{"$f":"MAX('MDA2'!J12,T12)","v":0},{"$f":"MAX('MDA1'!K12,'MDA2'!K12,'MDA3'!I12,'MDA3'!L12,V12,AD12)","v":54160},{"$f":"MAX('MDA1'!L12,'MDA2'!L12,'MDA3'!J12,'MDA3'!M12,AF12)","v":37134.400000000001},91294.399999999994,100]
[{"$f":"IF(COUNTRY_INFO!A13=0,\" \",COUNTRY_INFO!A13)","v":"Burkina Faso"},{"$f":"IF(COUNTRY_INFO!B13=0,\" \",COUNTRY_INFO!B13)","v":"Boucle du Mouhoun"},{"$f":"IF(COUNTRY_INFO!C13=0,\" \",COUNTRY_INFO!C13)","v":"Toma"},{"$f":"COUNTRY_INFO!L13","v":"Interrompu"},null,null,{"$f":"MAX('MDA1'!M13,'MDA2'!M13)","v":0},{"$f":"IF(AND(COUNTRY_INFO!H13>0,COUNTRY_INFO!H13<4),IF(D13>MAX('MDA1'!M13,'MDA2'!M13),MAX('MDA1'!M13,'MDA2'!M13),D13),0)","v":0},{"$f":"IF(AND(COUNTRY_INFO!H13>0,COUNTRY_INFO!H13<4), IF(G13/D13*100<>0, IF(G13/D13*100>100,100,G13/D13*100), \"-\"),0)","v":0},{"$f":"COUNTRY_INFO!M13","v":0},null,null,{"$f":"MAX('MDA1'!M13,MAX('MDA3'!I13,'MDA3'!L13)+MAX('MDA3'!J13,'MDA3'!M13))","v":0},{"$f":"IF(AND(COUNTRY_INFO!I13>0,COUNTRY_INFO!I13<4),IF(J13>MAX('MDA1'!M13,MAX('MDA3'!I13,'MDA3'!L13)+MAX('MDA3'!J13,'MDA3'!M13)),MAX('MDA1'!M13,MAX('MDA3'!I13,'MDA3'!L13)+MAX('MDA3'!J13,'MDA3'!M13)),J13),0)","v":0},{"$f":"IF(AND(COUNTRY_INFO!I13>0,COUNTRY_INFO!I13<4), IF(M13/J13*100<>0, IF(M13/J13*100>100,100,M13/J13*100), \"-\"),0)","v":0},{"$f":"COUNTRY_INFO!N13","v":0},32765,32595,{"$f":"SUM(MAX('MDA2'!J13, 'T1'!L13, MAX(T3_R1!K13, T3_R2!K13)), MAX('MDA1'!K13, 'MDA2'!K13, 'T1'!M13, MAX(T3_R1!L13, T3_R2!L13)), MAX('MDA1'!L13, 'MDA2'!L13, 'T1'!N13, MAX(T3_R1!M13, T3_R2!M13)))","v":175225},{"$f":"IF(AND(COUNTRY_INFO!J13>1,COUNTRY_INFO!J13<4),IF(COUNTRY_INFO!E13>MAX('MDA2'!J13,'T1'!L13,MAX(T3_R1!K13,T3_R2!K13)),MAX('MDA2'!J13,'T1'!L13,MAX(T3_R1!K13,T3_R2!K13)),COUNTRY_INFO!E13),0)","v":0},{"$f":"IF(AND(COUNTRY_INFO!J13>1,COUNTRY_INFO!J13<4), IF(T13/COUNTRY_INFO!E13*100<>0, IF(T13/COUNTRY_INFO!E13*100>100,100,T13/COUNTRY_INFO!E13*100), \"-\"),0)","v":0},{"$f":"IF(AND(COUNTRY_INFO!J13>1,COUNTRY_INFO!J13<4),IF(COUNTRY_INFO!F13>MAX('MDA1'!K13,'MDA2'!K13,'T1'!M13,MAX(T3_R1!L13,T3_R2!L13)),MAX('MDA1'!K13,'MDA2'!K13,'T1'!M13,MAX(T3_R1!L13,T3_R2!L13)),COUNTRY_INFO!F13),0)","v":0},{"$f":"IF(AND(COUNTRY_INFO!J13>1,COUNTRY_INFO!J13<4), IF(V13/COUNTRY_INFO!F13*100<>0, IF(V13/COUNTRY_INFO!F13*100>100,100,V13/COUNTRY_INFO!F13*100), \"-\"),0)","v":0},0,{"$f":"IF(AND(COUNTRY_INFO!J13>1,COUNTRY_INFO!J13<4), IF(S13/P13*100<>0, IF(X13/P13*100>100,100,X13/P13*100), \"-\"),0)","v":0},{"$f":"COUNTRY_INFO!O13","v":54347.199999999997},85957,89268,{"$f":"MAX('T1'!L13,'T2'!J13)+MAX('T1'!M13,'T2'!K13)+MAX('T1'!N13,'T2'!L13)","v":175225},{"$f":"IF(COUNTRY_INFO!K13=1,IF(COUNTRY_INFO!F13*0.33>MAX('T1'!M13,'T2'!K13),MAX('T1'!M13,'T2'!K13),COUNTRY_INFO!F13*0.33),IF(COUNTRY_INFO!K13=2,IF(COUNTRY_INFO!F13*0.5>MAX('T1'!M13,'T2'!K13),MAX('T1'!M13,'T2'!K13),COUNTRY_INFO!F13*0.5),IF(COUNTRY_INFO!K13=3,IF(COUNTRY_INFO!F13>MAX('T1'!M13,'T2'!K13),MAX('T1'!M13,'T2'!K13),COUNTRY_INFO!F13),0)))","v":32240},{"$f":"IF(AND(COUNTRY_INFO!K13>0,COUNTRY_INFO!K13<4),IF(Z13>0,IF(COUNTRY_INFO!K13=1, AD13/(COUNTRY_INFO!F13*0.33)*100, IF(COUNTRY_INFO!K13=2, AD13/(COUNTRY_INFO!F13*0.5)*100, IF(COUNTRY_INFO!K13=3, AD13/COUNTRY_INFO!F13*100))),\"-\"),0)","v":100},{"$f":"IF(COUNTRY_INFO!K13=2,IF(COUNTRY_INFO!G13*0.2>MAX('T1'!N13,'T2'!L13),MAX('T1'!N13,'T2'!L13),COUNTRY_INFO!G13*0.2),IF(COUNTRY_INFO!K13=3,IF(COUNTRY_INFO!G13>MAX('T1'!N13,'T2'!L13),MAX('T1'!N13,'T2'!L13),COUNTRY_INFO!G13),0))","v":22107.200000000001},{"$f":"IF(AND(COUNTRY_INFO!K13>0,COUNTRY_INFO!K13<4),IF(Z13>0,IF(COUNTRY_INFO!K13=1, 0, IF(COUNTRY_INFO!K13=2, AF13/(COUNTRY_INFO!G13*0.2)*100, IF(COUNTRY_INFO!K13=3, AF13/COUNTRY_INFO!G13*100))),\"-\"),0)","v":100},54347.199999999997,{"$f":"IF(AND(COUNTRY_INFO!K13>0,COUNTRY_INFO!K13<4), IF(AC13/Z13*100<>0, IF(AH13/Z13*100>100,100,AH13/Z13*100), \"-\"),0)","v":100},null,{"$f":"IF(AND(D13<>0, D13<>\"Inconnu\",D13<>\"Interrompu\",D13<>\"Non requis\"),D13/COUNTRY_INFO!D13, 0)","v":0},{"$f":"IF(AND(J13<>0,J13<>\"Inconnu\",J13<>\"Interrompu\",J13<>\"Non requis\"),J13/COUNTRY_INFO!D13, 0)","v":0},{"$f":"IF(AND(P13<>0,P13<>\"Inconnu\",P13<>\"Non requis\"),P13/(COUNTRY_INFO!E13+COUNTRY_INFO!F13), 0)","v":0},{"$f":"IF(AND(Z13<>0,Z13<>\"Inconnu\",Z13<>\"Non requis\"),IF(COUNTRY_INFO!K13=1,1,IF(COUNTRY_INFO!K13=2,0.5*COUNTRY_INFO!F13/(0.5*COUNTRY_INFO!F13+0.2*COUNTRY_INFO!G13),IF(COUNTRY_INFO!K13=3,COUNTRY_INFO!F13/(COUNTRY_INFO!F13+COUNTRY_INFO!G13)))),0)","v":0.59322283392704689},{"$f":"IF(AND(Z13<>0,Z13<>\"Inconnu\",Z13<>\"Non requis\"),IF(COUNTRY_INFO!K13=1,0,IF(COUNTRY_INFO!K13=2,0.2*COUNTRY_INFO!G13/(0.5*COUNTRY_INFO!F13+0.2*COUNTRY_INFO!G13),IF(COUNTRY_INFO!K13=3,COUNTRY_INFO!G13/(COUNTRY_INFO!F13+COUNTRY_INFO!G13)))),0)","v":0.40677716607295322},{"$f":"MAX(COUNTRY_INFO!D13*AK13*PROFILE!$G$7,COUNTRY_INFO!D13*AL13*PROFILE!$G$7)","v":0},{"$f":"MAX(COUNTRY_INFO!D13*AK13*PROFILE!$G$8,COUNTRY_INFO!D13*AL13*PROFILE!$G$8,COUNTRY_INFO!D13*AM13*PROFILE!$G$8)","v":0},{"$f":"MAX(COUNTRY_INFO!D13*AK13*PROFILE!$G$9,COUNTRY_INFO!D13*AL13*PROFILE!$G$9,COUNTRY_INFO!D13*AM13*PROFILE!$G$9,IF(AND(DISTRICT!Z13<>\"Inconnu\",Z13<>\"Non requis\"),COUNTRY_INFO!O13*DISTRICT!AN13,0))","v":32240},{"$f":"MAX(COUNTRY_INFO!D13*AK13*PROFILE!$G$10,COUNTRY_INFO!D13*AL13*PROFILE!$G$10,IF(AND(DISTRICT!Z13<>\"Inconnu\",Z13<>\"Non requis\"),COUNTRY_INFO!O13*DISTRICT!AO13,0))","v":22107.200000000001},54347.199999999997,"Y",{"$f":"MAX('MDA2'!J13,'T1'!L13,'T2'!J13,T3_R1!K13,T3_R2!K13)","v":0},{"$f":"MAX('MDA1'!K13,'MDA2'!K13,'MDA3'!I13,'MDA3'!L13,'T1'!M13,'T2'!K13,T3_R1!L13,T3_R2!L13)","v":65384},{"$f":"MAX('MDA1'!L13,'MDA2'!L13,'MDA3'!J13,'MDA3'!M13,'T1'!N13,'T2'!L13,T3_R1!M13,T3_R2!M13)","v":109841},175225,{"$f":"MAX('MDA2'!J13,T13)","v":0},{"$f":"MAX('MDA1'!K13,'MDA2'!K13,'MDA3'!I13,'MDA3'!L13,V13,AD13)","v":32240},{"$f":"MAX('MDA1'!L13,'MDA2'!L13,'MDA3'!J13,'MDA3'!M13,AF13)","v":22107.200000000001},54347.199999999997,100]
[{"$f":"IF(COUNTRY_INFO!A14=0,\" \",COUNTRY_INFO!A14)","v":"Burkina Faso"},{"$f":"IF(COUNTRY_INFO!B14=0,\" \",COUNTRY_INFO!B14)","v":"Boucle du Mouhoun"},{"$f":"IF(COUNTRY_INFO!C14=0,\" \",COUNTRY_INFO!C14)","v":"Tougan"},{"$f":"COUNTRY_INFO!L14","v":"Interrompu"},null,null,{"$f":"MAX('MDA1'!M14,'MDA2'!M14)","v":0},{"$f":"IF(AND(COUNTRY_INFO!H14>0,COUNTRY_INFO!H14<4),IF(D14>MAX('MDA1'!M14,'MDA2'!M14),MAX('MDA1'!M14,'MDA2'!M14),D14),0)","v":0},{"$f":"IF(AND(COUNTRY_INFO!H14>0,COUNTRY_INFO!H14<4), IF(G14/D14*100<>0, IF(G14/D14*100>100,100,G14/D14*100), \"-\"),0)","v":0},{"$f":"COUNTRY_INFO!M14","v":0},null,null,{"$f":"MAX('MDA1'!M14,MAX('MDA3'!I14,'MDA3'!L14)+MAX('MDA3'!J14,'MDA3'!M14))","v":0},{"$f":"IF(AND(COUNTRY_INFO!I14>0,COUNTRY_INFO!I14<4),IF(J14>MAX('MDA1'!M14,MAX('MDA3'!I14,'MDA3'!L14)+MAX('MDA3'!J14,'MDA3'!M14)),MAX('MDA1'!M14,MAX('MDA3'!I14,'MDA3'!L14)+MAX('MDA3'!J14,'MDA3'!M14)),J14),0)","v":0},{"$f":"IF(AND(COUNTRY_INFO!I14>0,COUNTRY_INFO!I14<4), IF(M14/J14*100<>0, IF(M14/J14*100>100,100,M14/J14*100), \"-\"),0)","v":0},{"$f":"COUNTRY_INFO!N14","v":0},43044,43461,{"$f":"SUM(MAX('MDA2'!J14, 'T1'!L14, MAX(T3_R1!K14, T3_R2!K14)), MAX('MDA1'!K14, 'MDA2'!K14, 'T1'!M14, MAX(T3_R1!L14, T3_R2!L14)), MAX('MDA1'!L14, 'MDA2'!L14, 'T1'!N14, MAX(T3_R1!M14, T3_R2!M14)))","v":224027},{"$f":"IF(AND(COUNTRY_INFO!J14>1,COUNTRY_INFO!J14<4),IF(COUNTRY_INFO!E14>MAX('MDA2'!J14,'T1'!L14,MAX(T3_R1!K14,T3_R2!K14)),MAX('MDA2'!J14,'T1'!L14,MAX(T3_R1!K14,T3_R2!K14)),COUNTRY_INFO!E14),0)","v":0},{"$f":"IF(AND(COUNTRY_INFO!J14>1,COUNTRY_INFO!J14<4), IF(T14/COUNTRY_INFO!E14*100<>0, IF(T14/COUNTRY_INFO!E14*100>100,100,T14/COUNTRY_INFO!E14*100), \"-\"),0)","v":0},{"$f":"IF(AND(COUNTRY_INFO!J14>1,COUNTRY_INFO!J14<4),IF(COUNTRY_INFO!F14>MAX('MDA1'!K14,'MDA2'!K14,'T1'!M14,MAX(T3_R1!L14,T3_R2!L14)),MAX('MDA1'!K14,'MDA2'!K14,'T1'!M14,MAX(T3_R1!L14,T3_R2!L14)),COUNTRY_INFO!F14),0)","v":0},{"$f":"IF(AND(COUNTRY_INFO!J14>1,COUNTRY_INFO!J14<4), IF(V14/COUNTRY_INFO!F14*100<>0, IF(V14/COUNTRY_INFO!F14*100>100,100,V14/COUNTRY_INFO!F14*100), \"-\"),0)","v":0},0,{"$f":"IF(AND(COUNTRY_INFO!J14>1,COUNTRY_INFO!J14<4), IF(S14/P14*100<>0, IF(X14/P14*100>100,100,X14/P14*100), \"-\"),0)","v":0},{"$f":"COUNTRY_INFO!O14","v":72604.2},110605,113422,{"$f":"MAX('T1'!L14,'T2'!J14)+MAX('T1'!M14,'T2'!K14)+MAX('T1'!N14,'T2'!L14)","v":224027},{"$f":"IF(COUNTRY_INFO!K14=1,IF(COUNTRY_INFO!F14*0.33>MAX('T1'!M14,'T2'!K14),MAX('T1'!M14,'T2'!K14),COUNTRY_INFO!F14*0.33),IF(COUNTRY_INFO!K14=2,IF(COUNTRY_INFO!F14*0.5>MAX('T1'!M14,'T2'!K14),MAX('T1'!M14,'T2'!K14),COUNTRY_INFO!F14*0.5),IF(COUNTRY_INFO!K14=3,IF(COUNTRY_INFO!F14>MAX('T1'!M14,'T2'!K14),MAX('T1'!M14,'T2'!K14),COUNTRY_INFO!F14),0)))","v":43071},{"$f":"IF(AND(COUNTRY_INFO!K14>0,COUNTRY_INFO!K14<4),IF(Z14>0,IF(COUNTRY_INFO!K14=1, AD14/(COUNTRY_INFO!F14*0.33)*100, IF(COUNTRY_INFO!K14=2, AD14/(COUNTRY_INFO!F14*0.5)*100, IF(COUNTRY_INFO!K14=3, AD14/COUNTRY_INFO!F14*100))),\"-\"),0)","v":100},{"$f":"IF(COUNTRY_INFO!K14=2,IF(COUNTRY_INFO!G14*0.2>MAX('T1'!N14,'T2'!L14),MAX('T1'!N14,'T2'!L14),COUNTRY_INFO!G14*0.2),IF(COUNTRY_INFO!K14=3,IF(COUNTRY_INFO!G14>MAX('T1'!N14,'T2'!L14),MAX('T1'!N14,'T2'!L14),COUNTRY_INFO!G14),0))","v":29533.200000000001},{"$f":"IF(AND(COUNTRY_INFO!K14>0,COUNTRY_INFO!K14<4),IF(Z14>0,IF(COUNTRY_INFO!K14=1, 0, IF(COUNTRY_INFO!K14=2, AF14/(COUNTRY_INFO!G14*0.2)*100, IF(COUNTRY_INFO!K14=3, AF14/COUNTRY_INFO!G14*100))),\"-\"),0)","v":100},72604.2,{"$f":"IF(AND(COUNTRY_INFO!K14>0,COUNTRY_INFO!K14<4), IF(AC14/Z14*100<>0, IF(AH14/Z14*100>100,100,AH14/Z14*100), \"-\"),0)","v":100},null,{"$f":"IF(AND(D14<>0, D14<>\"Inconnu\",D14<>\"Interrompu\",D14<>\"Non requis\"),D14/COUNTRY_INFO!D14, 0)","v":0},{"$f":"IF(AND(J14<>0,J14<>\"Inconnu\",J14<>\"Interrompu\",J14<>\"Non requis\"),J14/COUNTRY_INFO!D14, 0)","v":0},{"$f":"IF(AND(P14<>0,P14<>\"Inconnu\",P14<>\"Non requis\"),P14/(COUNTRY_INFO!E14+COUNTRY_INFO!F14), 0)","v":0},{"$f":"IF(AND(Z14<>0,Z14<>\"Inconnu\",Z14<>\"Non requis\"),IF(COUNTRY_INFO!K14=1,1,IF(COUNTRY_INFO!K14=2,0.5*COUNTRY_INFO!F14/(0.5*COUNTRY_INFO!F14+0.2*COUNTRY_INFO!G14),IF(COUNTRY_INFO!K14=3,COUNTRY_INFO!F14/(COUNTRY_INFO!F14+COUNTRY_INFO!G14)))),0)","v":0.59323014371069449},{"$f":"IF(AND(Z14<>0,Z14<>\"Inconnu\",Z14<>\"Non requis\"),IF(COUNTRY_INFO!K14=1,0,IF(COUNTRY_INFO!K14=2,0.2*COUNTRY_INFO!G14/(0.5*COUNTRY_INFO!F14+0.2*COUNTRY_INFO!G14),IF(COUNTRY_INFO!K14=3,COUNTRY_INFO!G14/(COUNTRY_INFO!F14+COUNTRY_INFO!G14)))),0)","v":0.40676985628930562},{"$f":"MAX(COUNTRY_INFO!D14*AK14*PROFILE!$G$7,COUNTRY_INFO!D14*AL14*PROFILE!$G$7)","v":0},{"$f":"MAX(COUNTRY_INFO!D14*AK14*PROFILE!$G$8,COUNTRY_INFO!D14*AL14*PROFILE!$G$8,COUNTRY_INFO!D14*AM14*PROFILE!$G$8)","v":0},{"$f":"MAX(COUNTRY_INFO!D14*AK14*PROFILE!$G$9,COUNTRY_INFO!D14*AL14*PROFILE!$G$9,COUNTRY_INFO!D14*AM14*PROFILE!$G$9,IF(AND(DISTRICT!Z14<>\"Inconnu\",Z14<>\"Non requis\"),COUNTRY_INFO!O14*DISTRICT!AN14,0))","v":43071},{"$f":"MAX(COUNTRY_INFO!D14*AK14*PROFILE!$G$10,COUNTRY_INFO!D14*AL14*PROFILE!$G$10,IF(AND(DISTRICT!Z14<>\"Inconnu\",Z14<>\"Non requis\"),COUNTRY_INFO!O14*DISTRICT!AO14,0))","v":29533.200000000001},72604.2,"Y",{"$f":"MAX('MDA2'!J14,'T1'!L14,'T2'!J14,T3_R1!K14,T3_R2!K14)","v":0},{"$f":"MAX('MDA1'!K14,'MDA2'!K14,'MDA3'!I14,'MDA3'!L14,'T1'!M14,'T2'!K14,T3_R1!L14,T3_R2!L14)","v":91669},{"$f":"MAX('MDA1'!L14,'MDA2'!L14,'MDA3'!J14,'MDA3'!M14,'T1'!N14,'T2'!L14,T3_R1!M14,T3_R2!M14)","v":132358},224027,{"$f":"MAX('MDA2'!J14,T14)","v":0},{"$f":"MAX('MDA1'!K14,'MDA2'!K14,'MDA3'!I14,'MDA3'!L14,V14,AD14)","v":43071},{"$f":"MAX('MDA1'!L14,'MDA2'!L14,'MDA3'!J14,'MDA3'!M14,AF14)","v":29533.200000000001},72604.2,100]
[{"$f":"IF(COUNTRY_INFO!A15=0,\" \",COUNTRY_INFO!A15)","v":"Burkina Faso"},{"$f":"IF(COUNTRY_INFO!B15=0,\" \",COUNTRY_INFO!B15)","v":"Cascades"},{"$f":"IF(COUNTRY_INFO!C15=0,\" \",COUNTRY_INFO!C15)","v":"Banfora"},{"$f":"COUNTRY_INFO!L15","v":"Interrompu"},null,null,{"$f":"MAX('MDA1'!M15,'MDA2'!M15)","v":0},{"$f":"IF(AND(COUNTRY_INFO!H15>0,COUNTRY_INFO!H15<4),IF(D15>MAX('MDA1'!M15,'MDA2'!M15),MAX('MDA1'!M15,'MDA2'!M15),D15),0)","v":0},{"$f":"IF(AND(COUNTRY_INFO!H15>0,COUNTRY_INFO!H15<4), IF(G15/D15*100<>0, IF(G15/D15*100>100,100,G15/D15*100), \"-\"),0)","v":0},{"$f":"COUNTRY_INFO!M15","v":56955},22805,21423,{"$f":"MAX('MDA1'!M15,MAX('MDA3'!I15,'MDA3'!L15)+MAX('MDA3'!J15,'MDA3'!M15))","v":45194},{"$f":"IF(AND(COUNTRY_INFO!I15>0,COUNTRY_INFO!I15<4),IF(J15>MAX('MDA1'!M15,MAX('MDA3'!I15,'MDA3'!L15)+MAX('MDA3'!J15,'MDA3'!M15)),MAX('MDA1'!M15,MAX('MDA3'!I15,'MDA3'!L15)+MAX('MDA3'!J15,'MDA3'!M15)),J15),0)","v":45194},{"$f":"IF(AND(COUNTRY_INFO!I15>0,COUNTRY_INFO!I15<4), IF(M15/J15*100<>0, IF(M15/J15*100>100,100,M15/J15*100), \"-\"),0)","v":79.350364322710902},{"$f":"COUNTRY_INFO!N15","v":0},null,null,{"$f":"SUM(MAX('MDA2'!J15, 'T1'!L15, MAX(T3_R1!K15, T3_R2!K15)), MAX('MDA1'!K15, 'MDA2'!K15, 'T1'!M15, MAX(T3_R1!L15, T3_R2!L15)), MAX('MDA1'!L15, 'MDA2'!L15, 'T1'!N15, MAX(T3_R1!M15, T3_R2!M15)))","v":0},{"$f":"IF(AND(COUNTRY_INFO!J15>1,COUNTRY_INFO!J15<4),IF(COUNTRY_INFO!E15>MAX('MDA2'!J15,'T1'!L15,MAX(T3_R1!K15,T3_R2!K15)),MAX('MDA2'!J15,'T1'!L15,MAX(T3_R1!K15,T3_R2!K15)),COUNTRY_INFO!E15),0)","v":0},{"$f":"IF(AND(COUNTRY_INFO!J15>1,COUNTRY_INFO!J15<4), IF(T15/COUNTRY_INFO!E15*100<>0, IF(T15/COUNTRY_INFO!E15*100>100,100,T15/COUNTRY_INFO!E15*100), \"-\"),0)","v":0},{"$f":"IF(AND(COUNTRY_INFO!J15>1,COUNTRY_INFO!J15<4),IF(COUNTRY_INFO!F15>MAX('MDA1'!K15,'MDA2'!K15,'T1'!M15,MAX(T3_R1!L15,T3_R2!L15)),MAX('MDA1'!K15,'MDA2'!K15,'T1'!M15,MAX(T3_R1!L15,T3_R2!L15)),COUNTRY_INFO!F15),0)","v":0},{"$f":"IF(AND(COUNTRY_INFO!J15>1,COUNTRY_INFO!J15<4), IF(V15/COUNTRY_INFO!F15*100<>0, IF(V15/COUNTRY_INFO!F15*100>100,100,V15/COUNTRY_INFO!F15*100), \"-\"),0)","v":0},0,{"$f":"IF(AND(COUNTRY_INFO!J15>1,COUNTRY_INFO!J15<4), IF(S15/P15*100<>0, IF(X15/P15*100>100,100,X15/P15*100), \"-\"),0)","v":0},{"$f":"COUNTRY_INFO!O15","v":99624.8},null,null,{"$f":"MAX('T1'!L15,'T2'!J15)+MAX('T1'!M15,'T2'!K15)+MAX('T1'!N15,'T2'!L15)","v":0},{"$f":"IF(COUNTRY_INFO!K15=1,IF(COUNTRY_INFO!F15*0.33>MAX('T1'!M15,'T2'!K15),MAX('T1'!M15,'T2'!K15),COUNTRY_INFO!F15*0.33),IF(COUNTRY_INFO!K15=2,IF(COUNTRY_INFO!F15*0.5>MAX('T1'!M15,'T2'!K15),MAX('T1'!M15,'T2'!K15),COUNTRY_INFO!F15*0.5),IF(COUNTRY_INFO!K15=3,IF(COUNTRY_INFO!F15>MAX('T1'!M15,'T2'!K15),MAX('T1'!M15,'T2'!K15),COUNTRY_INFO!F15),0)))","v":0},{"$f":"IF(AND(COUNTRY_INFO!K15>0,COUNTRY_INFO!K15<4),IF(Z15>0,IF(COUNTRY_INFO!K15=1, AD15/(COUNTRY_INFO!F15*0.33)*100, IF(COUNTRY_INFO!K15=2, AD15/(COUNTRY_INFO!F15*0.5)*100, IF(COUNTRY_INFO!K15=3, AD15/COUNTRY_INFO!F15*100))),\"-\"),0)","v":0},{"$f":"IF(COUNTRY_INFO!K15=2,IF(COUNTRY_INFO!G15*0.2>MAX('T1'!N15,'T2'!L15),MAX('T1'!N15,'T2'!L15),COUNTRY_INFO!G15*0.2),IF(COUNTRY_INFO!K15=3,IF(COUNTRY_INFO!G15>MAX('T1'!N15,'T2'!L15),MAX('T1'!N15,'T2'!L15),COUNTRY_INFO!G15),0))","v":0},{"$f":"IF(AND(COUNTRY_INFO!K15>0,COUNTRY_INFO!K15<4),IF(Z15>0,IF(COUNTRY_INFO!K15=1, 0, IF(COUNTRY_INFO!K15=2, AF15/(COUNTRY_INFO!G15*0.2)*100, IF(COUNTRY_INFO!K15=3, AF15/COUNTRY_INFO!G15*100))),\"-\"),0)","v":0},0,{"$f":"IF(AND(COUNTRY_INFO!K15>0,COUNTRY_INFO!K15<4), IF(AC15/Z15*100<>0, IF(AH15/Z15*100>100,100,AH15/Z15*100), \"-\"),0)","v":"-"},null,{"$f":"IF(AND(D15<>0, D15<>\"Inconnu\",D15<>\"Interrompu\",D15<>\"Non requis\"),D15/COUNTRY_INFO!D15, 0)","v":0},{"$f":"IF(AND(J15<>0,J15<>\"Inconnu\",J15<>\"Interrompu\",J15<>\"Non requis\"),J15/COUNTRY_INFO!D15, 0)","v":0.14510901966379447},{"$f":"IF(AND(P15<>0,P15<>\"Inconnu\",P15<>\"Non requis\"),P15/(COUNTRY_INFO!E15+COUNTRY_INFO!F15), 0)","v":0},{"$f":"IF(AND(Z15<>0,Z15<>\"Inconnu\",Z15<>\"Non requis\"),IF(COUNTRY_INFO!K15=1,1,IF(COUNTRY_INFO!K15=2,0.5*COUNTRY_INFO!F15/(0.5*COUNTRY_INFO!F15+0.2*COUNTRY_INFO!G15),IF(COUNTRY_INFO!K15=3,COUNTRY_INFO!F15/(COUNTRY_INFO!F15+COUNTRY_INFO!G15)))),0)","v":0.5707213464920381},{"$f":"IF(AND(Z15<>0,Z15<>\"Inconnu\",Z15<>\"Non requis\"),IF(COUNTRY_INFO!K15=1,0,IF(COUNTRY_INFO!K15=2,0.2*COUNTRY_INFO!G15/(0.5*COUNTRY_INFO!F15+0.2*COUNTRY_INFO!G15),IF(COUNTRY_INFO!K15=3,COUNTRY_INFO!G15/(COUNTRY_INFO!F15+COUNTRY_INFO!G15)))),0)","v":0.4292786535079619},{"$f":"MAX(COUNTRY_INFO!D15*AK15*PROFILE!$G$7,COUNTRY_INFO!D15*AL15*PROFILE!$G$7)","v":2195.7595312932408},{"$f":"MAX(COUNTRY_INFO!D15*AK15*PROFILE!$G$8,COUNTRY_INFO!D15*AL15*PROFILE!$G$8,COUNTRY_INFO!D15*AM15*PROFILE!$G$8)","v":8032.648853943484},{"$f":"MAX(COUNTRY_INFO!D15*AK15*PROFILE!$G$9,COUNTRY_INFO!D15*AL15*PROFILE!$G$9,COUNTRY_INFO!D15*AM15*PROFILE!$G$9,IF(AND(DISTRICT!Z15<>\"Inconnu\",Z15<>\"Non requis\"),COUNTRY_INFO!O15*DISTRICT!AN15,0))","v":56858},{"$f":"MAX(COUNTRY_INFO!D15*AK15*PROFILE!$G$10,COUNTRY_INFO!D15*AL15*PROFILE!$G$10,IF(AND(DISTRICT!Z15<>\"Inconnu\",Z15<>\"Non requis\"),COUNTRY_INFO!O15*DISTRICT!AO15,0))","v":42766.8},109853.20838523672,0,{"$f":"MAX('MDA2'!J15,'T1'!L15,'T2'!J15,T3_R1!K15,T3_R2!K15)","v":0},{"$f":"MAX('MDA1'!K15,'MDA2'!K15,'MDA3'!I15,'MDA3'!L15,'T1'!M15,'T2'!K15,T3_R1!L15,T3_R2!L15)","v":17818},{"$f":"MAX('MDA1'!L15,'MDA2'!L15,'MDA3'!J15,'MDA3'!M15,'T1'!N15,'T2'!L15,T3_R1!M15,T3_R2!M15)","v":27376},45194,{"$f":"MAX('MDA2'!J15,T15)","v":0},{"$f":"MAX('MDA1'!K15,'MDA2'!K15,'MDA3'!I15,'MDA3'!L15,V15,AD15)","v":17818},{"$f":"MAX('MDA1'!L15,'MDA2'!L15,'MDA3'!J15,'MDA3'!M15,AF15)","v":27376},45194,41.140355083223646]
[{"$f":"IF(COUNTRY_INFO!A16=0,\" \",COUNTRY_INFO!A16)","v":"Burkina Faso"},{"$f":"IF(COUNTRY_INFO!B16=0,\" \",COUNTRY_INFO!B16)","v":"Cascades"},{"$f":"IF(COUNTRY_INFO!C16=0,\" \",COUNTRY_INFO!C16)","v":"Mangodara"},{"$f":"COUNTRY_INFO!L16","v":"Interrompu"},null,null,{"$f":"MAX('MDA1'!M16,'MDA2'!M16)","v":0},{"$f":"IF(AND(COUNTRY_INFO!H16>0,COUNTRY_INFO!H16<4),IF(D16>MAX('MDA1'!M16,'MDA2'!M16),MAX('MDA1'!M16,'MDA2'!M16),D16),0)","v":0},{"$f":"IF(AND(COUNTRY_INFO!H16>0,COUNTRY_INFO!H16<4), IF(G16/D16*100<>0, IF(G16/D16*100>100,100,G16/D16*100), \"-\"),0)","v":0},{"$f":"COUNTRY_INFO!M16","v":9182},3610,3544,{"$f":"MAX('MDA1'!M16,MAX('MDA3'!I16,'MDA3'!L16)+MAX('MDA3'!J16,'MDA3'!M16))","v":7405},{"$f":"IF(AND(COUNTRY_INFO!I16>0,COUNTRY_INFO!I16<4),IF(J16>MAX('MDA1'!M16,MAX('MDA3'!I16,'MDA3'!L16)+MAX('MDA3'!J16,'MDA3'!M16)),MAX('MDA1'!M16,MAX('MDA3'!I16,'MDA3'!L16)+MAX('MDA3'!J16,'MDA3'!M16)),J16),0)","v":7405},{"$f":"IF(AND(COUNTRY_INFO!I16>0,COUNTRY_INFO!I16<4), IF(M16/J16*100<>0, IF(M16/J16*100>100,100,M16/J16*100), \"-\"),0)","v":80.646917882814208},{"$f":"COUNTRY_INFO!N16","v":0},null,null,{"$f":"SUM(MAX('MDA2'!J16, 'T1'!L16, MAX(T3_R1!K16, T3_R2!K16)), MAX('MDA1'!K16, 'MDA2'!K16, 'T1'!M16, MAX(T3_R1!L16, T3_R2!L16)), MAX('MDA1'!L16, 'MDA2'!L16, 'T1'!N16, MAX(T3_R1!M16, T3_R2!M16)))","v":0},{"$f":"IF(AND(COUNTRY_INFO!J16>1,COUNTRY_INFO!J16<4),IF(COUNTRY_INFO!E16>MAX('MDA2'!J16,'T1'!L16,MAX(T3_R1!K16,T3_R2!K16)),MAX('MDA2'!J16,'T1'!L16,MAX(T3_R1!K16,T3_R2!K16)),COUNTRY_INFO!E16),0)","v":0},{"$f":"IF(AND(COUNTRY_INFO!J16>1,COUNTRY_INFO!J16<4), IF(T16/COUNTRY_INFO!E16*100<>0, IF(T16/COUNTRY_INFO!E16*100>100,100,T16/COUNTRY_INFO!E16*100), \"-\"),0)","v":0},{"$f":"IF(AND(COUNTRY_INFO!J16>1,COUNTRY_INFO!J16<4),IF(COUNTRY_INFO!F16>MAX('MDA1'!K16,'MDA2'!K16,'T1'!M16,MAX(T3_R1!L16,T3_R2!L16)),MAX('MDA1'!K16,'MDA2'!K16,'T1'!M16,MAX(T3_R1!L16,T3_R2!L16)),COUNTRY_INFO!F16),0)","v":0},{"$f":"IF(AND(COUNTRY_INFO!J16>1,COUNTRY_INFO!J16<4), IF(V16/COUNTRY_INFO!F16*100<>0, IF(V16/COUNTRY_INFO!F16*100>100,100,V16/COUNTRY_INFO!F16*100), \"-\"),0)","v":0},0,{"$f":"IF(AND(COUNTRY_INFO!J16>1,COUNTRY_INFO!J16<4), IF(S16/P16*100<>0, IF(X16/P16*100>100,100,X16/P16*100), \"-\"),0)","v":0},{"$f":"COUNTRY_INFO!O16","v":58309},null,null,{"$f":"MAX('T1'!L16,'T2'!J16)+MAX('T1'!M16,'T2'!K16)+MAX('T1'!N16,'T2'!L16)","v":0},{"$f":"IF(COUNTRY_INFO!K16=1,IF(COUNTRY_INFO!F16*0.33>MAX('T1'!M16,'T2'!K16),MAX('T1'!M16,'T2'!K16),COUNTRY_INFO!F16*0.33),IF(COUNTRY_INFO!K16=2,IF(COUNTRY_INFO!F16*0.5>MAX('T1'!M16,'T2'!K16),MAX('T1'!M16,'T2'!K16),COUNTRY_INFO!F16*0.5),IF(COUNTRY_INFO!K16=3,IF(COUNTRY_INFO!F16>MAX('T1'!M16,'T2'!K16),MAX('T1'!M16,'T2'!K16),COUNTRY_INFO!F16),0)))","v":0},{"$f":"IF(AND(COUNTRY_INFO!K16>0,COUNTRY_INFO!K16<4),IF(Z16>0,IF(COUNTRY_INFO!K16=1, AD16/(COUNTRY_INFO!F16*0.33)*100, IF(COUNTRY_INFO!K16=2, AD16/(COUNTRY_INFO!F16*0.5)*100, IF(COUNTRY_INFO!K16=3, AD16/COUNTRY_INFO!F16*100))),\"-\"),0)","v":0},{"$f":"IF(COUNTRY_INFO!K16=2,IF(COUNTRY_INFO!G16*0.2>MAX('T1'!N16,'T2'!L16),MAX('T1'!N16,'T2'!L16),COUNTRY_INFO!G16*0.2),IF(COUNTRY_INFO!K16=3,IF(COUNTRY_INFO!G16>MAX('T1'!N16,'T2'!L16),MAX('T1'!N16,'T2'!L16),COUNTRY_INFO!G16),0))","v":0},{"$f":"IF(AND(COUNTRY_INFO!K16>0,COUNTRY_INFO!K16<4),IF(Z16>0,IF(COUNTRY_INFO!K16=1, 0, IF(COUNTRY_INFO!K16=2, AF16/(COUNTRY_INFO!G16*0.2)*100, IF(COUNTRY_INFO!K16=3, AF16/COUNTRY_INFO!G16*100))),\"-\"),0)","v":0},0,{"$f":"IF(AND(COUNTRY_INFO!K16>0,COUNTRY_INFO!K16<4), IF(AC16/Z16*100<>0, IF(AH16/Z16*100>100,100,AH16/Z16*100), \"-\"),0)","v":"-"},null,{"$f":"IF(AND(D16<>0, D16<>\"Inconnu\",D16<>\"Interrompu\",D16<>\"Non requis\"),D16/COUNTRY_INFO!D16, 0)","v":0},{"$f":"IF(AND(J16<>0,J16<>\"Inconnu\",J16<>\"Interrompu\",J16<>\"Non requis\"),J16/COUNTRY_INFO!D16, 0)","v":3.9866619196068043E-2},{"$f":"IF(AND(P16<>0,P16<>\"Inconnu\",P16<>\"Non requis\"),P16/(COUNTRY_INFO!E16+COUNTRY_INFO!F16), 0)","v":0},{"$f":"IF(AND(Z16<>0,Z16<>\"Inconnu\",Z16<>\"Non requis\"),IF(COUNTRY_INFO!K16=1,1,IF(COUNTRY_INFO!K16=2,0.5*COUNTRY_INFO!F16/(0.5*COUNTRY_INFO!F16+0.2*COUNTRY_INFO!G16),IF(COUNTRY_INFO!K16=3,COUNTRY_INFO!F16/(COUNTRY_INFO!F16+COUNTRY_INFO!G16)))),0)","v":0.60239414155619198},{"$f":"IF(AND(Z16<>0,Z16<>\"Inconnu\",Z16<>\"Non requis\"),IF(COUNTRY_INFO!K16=1,0,IF(COUNTRY_INFO!K16=2,0.2*COUNTRY_INFO!G16/(0.5*COUNTRY_INFO!F16+0.2*COUNTRY_INFO!G16),IF(COUNTRY_INFO!K16=3,COUNTRY_INFO!G16/(COUNTRY_INFO!F16+COUNTRY_INFO!G16)))),0)","v":0.39760585844380797},{"$f":"MAX(COUNTRY_INFO!D16*AK16*PROFILE!$G$7,COUNTRY_INFO!D16*AL16*PROFILE!$G$7)","v":353.98936030786649},{"$f":"MAX(COUNTRY_INFO!D16*AK16*PROFILE!$G$8,COUNTRY_INFO!D16*AL16*PROFILE!$G$8,COUNTRY_INFO!D16*AM16*PROFILE!$G$8)","v":1294.9834391521213},{"$f":"MAX(COUNTRY_INFO!D16*AK16*PROFILE!$G$9,COUNTRY_INFO!D16*AL16*PROFILE!$G$9,COUNTRY_INFO!D16*AM16*PROFILE!$G$9,IF(AND(DISTRICT!Z16<>\"Inconnu\",Z16<>\"Non requis\"),COUNTRY_INFO!O16*DISTRICT!AN16,0))","v":35125},{"$f":"MAX(COUNTRY_INFO!D16*AK16*PROFILE!$G$10,COUNTRY_INFO!D16*AL16*PROFILE!$G$10,IF(AND(DISTRICT!Z16<>\"Inconnu\",Z16<>\"Non requis\"),COUNTRY_INFO!O16*DISTRICT!AO16,0))","v":23184},59957.972799459989,0,{"$f":"MAX('MDA2'!J16,'T1'!L16,'T2'!J16,T3_R1!K16,T3_R2!K16)","v":0},{"$f":"MAX('MDA1'!K16,'MDA2'!K16,'MDA3'!I16,'MDA3'!L16,'T1'!M16,'T2'!K16,T3_R1!L16,T3_R2!L16)","v":3204},{"$f":"MAX('MDA1'!L16,'MDA2'!L16,'MDA3'!J16,'MDA3'!M16,'T1'!N16,'T2'!L16,T3_R1!M16,T3_R2!M16)","v":4201},7405,{"$f":"MAX('MDA2'!J16,T16)","v":0},{"$f":"MAX('MDA1'!K16,'MDA2'!K16,'MDA3'!I16,'MDA3'!L16,V16,AD16)","v":3204},{"$f":"MAX('MDA1'!L16,'MDA2'!L16,'MDA3'!J16,'MDA3'!M16,AF16)","v":4201},7405,12.350317487829896]
[{"$f":"IF(COUNTRY_INFO!A17=0,\" \",COUNTRY_INFO!A17)","v":"Burkina Faso"},{"$f":"IF(COUNTRY_INFO!B17=0,\" \",COUNTRY_INFO!B17)","v":"Cascades"},{"$f":"IF(COUNTRY_INFO!C17=0,\" \",COUNTRY_INFO!C17)","v":"Sindou"},{"$f":"COUNTRY_INFO!L17","v":"Interrompu"},null,null,{"$f":"MAX('MDA1'!M17,'MDA2'!M17)","v":0},{"$f":"IF(AND(COUNTRY_INFO!H17>0,COUNTRY_INFO!H17<4),IF(D17>MAX('MDA1'!M17,'MDA2'!M17),MAX('MDA1'!M17,'MDA2'!M17),D17),0)","v":0},{"$f":"IF(AND(COUNTRY_INFO!H17>0,COUNTRY_INFO!H17<4), IF(G17/D17*100<>0, IF(G17/D17*100>100,100,G17/D17*100), \"-\"),0)","v":0},{"$f":"COUNTRY_INFO!M17","v":0},null,null,{"$f":"MAX('MDA1'!M17,MAX('MDA3'!I17,'MDA3'!L17)+MAX('MDA3'!J17,'MDA3'!M17))","v":0},{"$f":"IF(AND(COUNTRY_INFO!I17>0,COUNTRY_INFO!I17<4),IF(J17>MAX('MDA1'!M17,MAX('MDA3'!I17,'MDA3'!L17)+MAX('MDA3'!J17,'MDA3'!M17)),MAX('MDA1'!M17,MAX('MDA3'!I17,'MDA3'!L17)+MAX('MDA3'!J17,'MDA3'!M17)),J17),0)","v":0},{"$f":"IF(AND(COUNTRY_INFO!I17>0,COUNTRY_INFO!I17<4), IF(M17/J17*100<>0, IF(M17/J17*100>100,100,M17/J17*100), \"-\"),0)","v":0},{"$f":"COUNTRY_INFO!N17","v":0},null,null,{"$f":"SUM(MAX('MDA2'!J17, 'T1'!L17, MAX(T3_R1!K17, T3_R2!K17)), MAX('MDA1'!K17, 'MDA2'!K17, 'T1'!M17, MAX(T3_R1!L17, T3_R2!L17)), MAX('MDA1'!L17, 'MDA2'!L17, 'T1'!N17, MAX(T3_R1!M17, T3_R2!M17)))","v":0},{"$f":"IF(AND(COUNTRY_INFO!J17>1,COUNTRY_INFO!J17<4),IF(COUNTRY_INFO!E17>MAX('MDA2'!J17,'T1'!L17,MAX(T3_R1!K17,T3_R2!K17)),MAX('MDA2'!J17,'T1'!L17,MAX(T3_R1!K17,T3_R2!K17)),COUNTRY_INFO!E17),0)","v":0},{"$f":"IF(AND(COUNTRY_INFO!J17>1,COUNTRY_INFO!J17<4), IF(T17/COUNTRY_INFO!E17*100<>0, IF(T17/COUNTRY_INFO!E17*100>100,100,T17/COUNTRY_INFO!E17*100), \"-\"),0)","v":0},{"$f":"IF(AND(COUNTRY_INFO!J17>1,COUNTRY_INFO!J17<4),IF(COUNTRY_INFO!F17>MAX('MDA1'!K17,'MDA2'!K17,'T1'!M17,MAX(T3_R1!L17,T3_R2!L17)),MAX('MDA1'!K17,'MDA2'!K17,'T1'!M17,MAX(T3_R1!L17,T3_R2!L17)),COUNTRY_INFO!F17),0)","v":0},{"$f":"IF(AND(COUNTRY_INFO!J17>1,COUNTRY_INFO!J17<4), IF(V17/COUNTRY_INFO!F17*100<>0, IF(V17/COUNTRY_INFO!F17*100>100,100,V17/COUNTRY_INFO!F17*100), \"-\"),0)","v":0},0,{"$f":"IF(AND(COUNTRY_INFO!J17>1,COUNTRY_INFO!J17<4), IF(S17/P17*100<>0, IF(X17/P17*100>100,100,X17/P17*100), \"-\"),0)","v":0},{"$f":"COUNTRY_INFO!O17","v":43456.9},null,null,{"$f":"MAX('T1'!L17,'T2'!J17)+MAX('T1'!M17,'T2'!K17)+MAX('T1'!N17,'T2'!L17)","v":0},{"$f":"IF(COUNTRY_INFO!K17=1,IF(COUNTRY_INFO!F17*0.33>MAX('T1'!M17,'T2'!K17),MAX('T1'!M17,'T2'!K17),COUNTRY_INFO!F17*0.33),IF(COUNTRY_INFO!K17=2,IF(COUNTRY_INFO!F17*0.5>MAX('T1'!M17,'T2'!K17),MAX('T1'!M17,'T2'!K17),COUNTRY_INFO!F17*0.5),IF(COUNTRY_INFO!K17=3,IF(COUNTRY_INFO!F17>MAX('T1'!M17,'T2'!K17),MAX('T1'!M17,'T2'!K17),COUNTRY_INFO!F17),0)))","v":0},{"$f":"IF(AND(COUNTRY_INFO!K17>0,COUNTRY_INFO!K17<4),IF(Z17>0,IF(COUNTRY_INFO!K17=1, AD17/(COUNTRY_INFO!F17*0.33)*100, IF(COUNTRY_INFO!K17=2, AD17/(COUNTRY_INFO!F17*0.5)*100, IF(COUNTRY_INFO!K17=3, AD17/COUNTRY_INFO!F17*100))),\"-\"),0)","v":0},{"$f":"IF(COUNTRY_INFO!K17=2,IF(COUNTRY_INFO!G17*0.2>MAX('T1'!N17,'T2'!L17),MAX('T1'!N17,'T2'!L17),COUNTRY_INFO!G17*0.2),IF(COUNTRY_INFO!K17=3,IF(COUNTRY_INFO!G17>MAX('T1'!N17,'T2'!L17),MAX('T1'!N17,'T2'!L17),COUNTRY_INFO!G17),0))","v":0},{"$f":"IF(AND(COUNTRY_INFO!K17>0,COUNTRY_INFO!K17<4),IF(Z17>0,IF(COUNTRY_INFO!K17=1, 0, IF(COUNTRY_INFO!K17=2, AF17/(COUNTRY_INFO!G17*0.2)*100, IF(COUNTRY_INFO!K17=3, AF17/COUNTRY_INFO!G17*100))),\"-\"),0)","v":0},0,{"$f":"IF(AND(COUNTRY_INFO!K17>0,COUNTRY_INFO!K17<4), IF(AC17/Z17*100<>0, IF(AH17/Z17*100>100,100,AH17/Z17*100), \"-\"),0)","v":"-"},null,{"$f":"IF(AND(D17<>0, D17<>\"Inconnu\",D17<>\"Interrompu\",D17<>\"Non requis\"),D17/COUNTRY_INFO!D17, 0)","v":0},{"$f":"IF(AND(J17<>0,J17<>\"Inconnu\",J17<>\"Interrompu\",J17<>\"Non requis\"),J17/COUNTRY_INFO!D17, 0)","v":0},{"$f":"IF(AND(P17<>0,P17<>\"Inconnu\",P17<>\"Non requis\"),P17/(COUNTRY_INFO!E17+COUNTRY_INFO!F17), 0)","v":0},{"$f":"IF(AND(Z17<>0,Z17<>\"Inconnu\",Z17<>\"Non requis\"),IF(COUNTRY_INFO!K17=1,1,IF(COUNTRY_INFO!K17=2,0.5*COUNTRY_INFO!F17/(0.5*COUNTRY_INFO!F17+0.2*COUNTRY_INFO!G17),IF(COUNTRY_INFO!K17=3,COUNTRY_INFO!F17/(COUNTRY_INFO!F17+COUNTRY_INFO!G17)))),0)","v":0.58240463539737075},{"$f":"IF(AND(Z17<>0,Z17<>\"Inconnu\",Z17<>\"Non requis\"),IF(COUNTRY_INFO!K17=1,0,IF(COUNTRY_INFO!K17=2,0.2*COUNTRY_INFO!G17/(0.5*COUNTRY_INFO!F17+0.2*COUNTRY_INFO!G17),IF(COUNTRY_INFO!K17=3,COUNTRY_INFO!G17/(COUNTRY_INFO!F17+COUNTRY_INFO!G17)))),0)","v":0.4175953646026293},{"$f":"MAX(COUNTRY_INFO!D17*AK17*PROFILE!$G$7,COUNTRY_INFO!D17*AL17*PROFILE!$G$7)","v":0},{"$f":"MAX(COUNTRY_INFO!D17*AK17*PROFILE!$G$8,COUNTRY_INFO!D17*AL17*PROFILE!$G$8,COUNTRY_INFO!D17*AM17*PROFILE!$G$8)","v":0},{"$f":"MAX(COUNTRY_INFO!D17*AK17*PROFILE!$G$9,COUNTRY_INFO!D17*AL17*PROFILE!$G$9,COUNTRY_INFO!D17*AM17*PROFILE!$G$9,IF(AND(DISTRICT!Z17<>\"Inconnu\",Z17<>\"Non requis\"),COUNTRY_INFO!O17*DISTRICT!AN17,0))","v":25309.500000000004},{"$f":"MAX(COUNTRY_INFO!D17*AK17*PROFILE!$G$10,COUNTRY_INFO!D17*AL17*PROFILE!$G$10,IF(AND(DISTRICT!Z17<>\"Inconnu\",Z17<>\"Non requis\"),COUNTRY_INFO!O17*DISTRICT!AO17,0))","v":18147.400000000001},43456.900000000009,0,{"$f":"MAX('MDA2'!J17,'T1'!L17,'T2'!J17,T3_R1!K17,T3_R2!K17)","v":0},{"$f":"MAX('MDA1'!K17,'MDA2'!K17,'MDA3'!I17,'MDA3'!L17,'T1'!M17,'T2'!K17,T3_R1!L17,T3_R2!L17)","v":0},{"$f":"MAX('MDA1'!L17,'MDA2'!L17,'MDA3'!J17,'MDA3'!M17,'T1'!N17,'T2'!L17,T3_R1!M17,T3_R2!M17)","v":0},0,{"$f":"MAX('MDA2'!J17,T17)","v":0},{"$f":"MAX('MDA1'!K17,'MDA2'!K17,'MDA3'!I17,'MDA3'!L17,V17,AD17)","v":0},{"$f":"MAX('MDA1'!L17,'MDA2'!L17,'MDA3'!J17,'MDA3'!M17,AF17)","v":0},0,0]
[{"$f":"IF(COUNTRY_INFO!A18=0,\" \",COUNTRY_INFO!A18)","v":"Burkina Faso"},{"$f":"IF(COUNTRY_INFO!B18=0,\" \",COUNTRY_INFO!B18)","v":"Centre"},{"$f":"IF(COUNTRY_INFO!C18=0,\" \",COUNTRY_INFO!C18)","v":"Baskuy"},{"$f":"COUNTRY_INFO!L18","v":"Interrompu"},null,null,{"$f":"MAX('MDA1'!M18,'MDA2'!M18)","v":0},{"$f":"IF(AND(COUNTRY_INFO!H18>0,COUNTRY_INFO!H18<4),IF(D18>MAX('MDA1'!M18,'MDA2'!M18),MAX('MDA1'!M18,'MDA2'!M18),D18),0)","v":0},{"$f":"IF(AND(COUNTRY_INFO!H18>0,COUNTRY_INFO!H18<4), IF(G18/D18*100<>0, IF(G18/D18*100>100,100,G18/D18*100), \"-\"),0)","v":0},{"$f":"COUNTRY_INFO!M18","v":0},null,null,{"$f":"MAX('MDA1'!M18,MAX('MDA3'!I18,'MDA3'!L18)+MAX('MDA3'!J18,'MDA3'!M18))","v":0},{"$f":"IF(AND(COUNTRY_INFO!I18>0,COUNTRY_INFO!I18<4),IF(J18>MAX('MDA1'!M18,MAX('MDA3'!I18,'MDA3'!L18)+MAX('MDA3'!J18,'MDA3'!M18)),MAX('MDA1'!M18,MAX('MDA3'!I18,'MDA3'!L18)+MAX('MDA3'!J18,'MDA3'!M18)),J18),0)","v":0},{"$f":"IF(AND(COUNTRY_INFO!I18>0,COUNTRY_INFO!I18<4), IF(M18/J18*100<>0, IF(M18/J18*100>100,100,M18/J18*100), \"-\"),0)","v":0},{"$f":"COUNTRY_INFO!N18","v":0},null,null,{"$f":"SUM(MAX('MDA2'!J18, 'T1'!L18, MAX(T3_R1!K18, T3_R2!K18)), MAX('MDA1'!K18, 'MDA2'!K18, 'T1'!M18, MAX(T3_R1!L18, T3_R2!L18)), MAX('MDA1'!L18, 'MDA2'!L18, 'T1'!N18, MAX(T3_R1!M18, T3_R2!M18)))","v":0},{"$f":"IF(AND(COUNTRY_INFO!J18>1,COUNTRY_INFO!J18<4),IF(COUNTRY_INFO!E18>MAX('MDA2'!J18,'T1'!L18,MAX(T3_R1!K18,T3_R2!K18)),MAX('MDA2'!J18,'T1'!L18,MAX(T3_R1!K18,T3_R2!K18)),COUNTRY_INFO!E18),0)","v":0},{"$f":"IF(AND(COUNTRY_INFO!J18>1,COUNTRY_INFO!J18<4), IF(T18/COUNTRY_INFO!E18*100<>0, IF(T18/COUNTRY_INFO!E18*100>100,100,T18/COUNTRY_INFO!E18*100), \"-\"),0)","v":0},{"$f":"IF(AND(COUNTRY_INFO!J18>1,COUNTRY_INFO!J18<4),IF(COUNTRY_INFO!F18>MAX('MDA1'!K18,'MDA2'!K18,'T1'!M18,MAX(T3_R1!L18,T3_R2!L18)),MAX('MDA1'!K18,'MDA2'!K18,'T1'!M18,MAX(T3_R1!L18,T3_R2!L18)),COUNTRY_INFO!F18),0)","v":0},{"$f":"IF(AND(COUNTRY_INFO!J18>1,COUNTRY_INFO!J18<4), IF(V18/COUNTRY_INFO!F18*100<>0, IF(V18/COUNTRY_INFO!F18*100>100,100,V18/COUNTRY_INFO!F18*100), \"-\"),0)","v":0},0,{"$f":"IF(AND(COUNTRY_INFO!J18>1,COUNTRY_INFO!J18<4), IF(S18/P18*100<>0, IF(X18/P18*100>100,100,X18/P18*100), \"-\"),0)","v":0},{"$f":"COUNTRY_INFO!O18","v":74073.100000000006},null,null,{"$f":"MAX('T1'!L18,'T2'!J18)+MAX('T1'!M18,'T2'!K18)+MAX('T1'!N18,'T2'!L18)","v":0},{"$f":"IF(COUNTRY_INFO!K18=1,IF(COUNTRY_INFO!F18*0.33>MAX('T1'!M18,'T2'!K18),MAX('T1'!M18,'T2'!K18),COUNTRY_INFO!F18*0.33),IF(COUNTRY_INFO!K18=2,IF(COUNTRY_INFO!F18*0.5>MAX('T1'!M18,'T2'!K18),MAX('T1'!M18,'T2'!K18),COUNTRY_INFO!F18*0.5),IF(COUNTRY_INFO!K18=3,IF(COUNTRY_INFO!F18>MAX('T1'!M18,'T2'!K18),MAX('T1'!M18,'T2'!K18),COUNTRY_INFO!F18),0)))","v":0},{"$f":"IF(AND(COUNTRY_INFO!K18>0,COUNTRY_INFO!K18<4),IF(Z18>0,IF(COUNTRY_INFO!K18=1, AD18/(COUNTRY_INFO!F18*0.33)*100, IF(COUNTRY_INFO!K18=2, AD18/(COUNTRY_INFO!F18*0.5)*100, IF(COUNTRY_INFO!K18=3, AD18/COUNTRY_INFO!F18*100))),\"-\"),0)","v":0},{"$f":"IF(COUNTRY_INFO!K18=2,IF(COUNTRY_INFO!G18*0.2>MAX('T1'!N18,'T2'!L18),MAX('T1'!N18,'T2'!L18),COUNTRY_INFO!G18*0.2),IF(COUNTRY_INFO!K18=3,IF(COUNTRY_INFO!G18>MAX('T1'!N18,'T2'!L18),MAX('T1'!N18,'T2'!L18),COUNTRY_INFO!G18),0))","v":0},{"$f":"IF(AND(COUNTRY_INFO!K18>0,COUNTRY_INFO!K18<4),IF(Z18>0,IF(COUNTRY_INFO!K18=1, 0, IF(COUNTRY_INFO!K18=2, AF18/(COUNTRY_INFO!G18*0.2)*100, IF(COUNTRY_INFO!K18=3, AF18/COUNTRY_INFO!G18*100))),\"-\"),0)","v":0},0,{"$f":"IF(AND(COUNTRY_INFO!K18>0,COUNTRY_INFO!K18<4), IF(AC18/Z18*100<>0, IF(AH18/Z18*100>100,100,AH18/Z18*100), \"-\"),0)","v":"-"},null,{"$f":"IF(AND(D18<>0, D18<>\"Inconnu\",D18<>\"Interrompu\",D18<>\"Non requis\"),D18/COUNTRY_INFO!D18, 0)","v":0},{"$f":"IF(AND(J18<>0,J18<>\"Inconnu\",J18<>\"Interrompu\",J18<>\"Non requis\"),J18/COUNTRY_INFO!D18, 0)","v":0},{"$f":"IF(AND(P18<>0,P18<>\"Inconnu\",P18<>\"Non requis\"),P18/(COUNTRY_INFO!E18+COUNTRY_INFO!F18), 0)","v":0},{"$f":"IF(AND(Z18<>0,Z18<>\"Inconnu\",Z18<>\"Non requis\"),IF(COUNTRY_INFO!K18=1,1,IF(COUNTRY_INFO!K18=2,0.5*COUNTRY_INFO!F18/(0.5*COUNTRY_INFO!F18+0.2*COUNTRY_INFO!G18),IF(COUNTRY_INFO!K18=3,COUNTRY_INFO!F18/(COUNTRY_INFO!F18+COUNTRY_INFO!G18)))),0)","v":0.41573121686550174},{"$f":"IF(AND(Z18<>0,Z18<>\"Inconnu\",Z18<>\"Non requis\"),IF(COUNTRY_INFO!K18=1,0,IF(COUNTRY_INFO!K18=2,0.2*COUNTRY_INFO!G18/(0.5*COUNTRY_INFO!F18+0.2*COUNTRY_INFO!G18),IF(COUNTRY_INFO!K18=3,COUNTRY_INFO!G18/(COUNTRY_INFO!F18+COUNTRY_INFO!G18)))),0)","v":0.58426878313449826},{"$f":"MAX(COUNTRY_INFO!D18*AK18*PROFILE!$G$7,COUNTRY_INFO!D18*AL18*PROFILE!$G$7)","v":0},{"$f":"MAX(COUNTRY_INFO!D18*AK18*PROFILE!$G$8,COUNTRY_INFO!D18*AL18*PROFILE!$G$8,COUNTRY_INFO!D18*AM18*PROFILE!$G$8)","v":0},{"$f":"MAX(COUNTRY_INFO!D18*AK18*PROFILE!$G$9,COUNTRY_INFO!D18*AL18*PROFILE!$G$9,COUNTRY_INFO!D18*AM18*PROFILE!$G$9,IF(AND(DISTRICT!Z18<>\"Inconnu\",Z18<>\"Non requis\"),COUNTRY_INFO!O18*DISTRICT!AN18,0))","v":30794.5},{"$f":"MAX(COUNTRY_INFO!D18*AK18*PROFILE!$G$10,COUNTRY_INFO!D18*AL18*PROFILE!$G$10,IF(AND(DISTRICT!Z18<>\"Inconnu\",Z18<>\"Non requis\"),COUNTRY_INFO!O18*DISTRICT!AO18,0))","v":43278.600000000006},74073.100000000006,0,{"$f":"MAX('MDA2'!J18,'T1'!L18,'T2'!J18,T3_R1!K18,T3_R2!K18)","v":0},{"$f":"MAX('MDA1'!K18,'MDA2'!K18,'MDA3'!I18,'MDA3'!L18,'T1'!M18,'T2'!K18,T3_R1!L18,T3_R2!L18)","v":0},{"$f":"MAX('MDA1'!L18,'MDA2'!L18,'MDA3'!J18,'MDA3'!M18,'T1'!N18,'T2'!L18,T3_R1!M18,T3_R2!M18)","v":0},0,{"$f":"MAX('MDA2'!J18,T18)","v":0},{"$f":"MAX('MDA1'!K18,'MDA2'!K18,'MDA3'!I18,'MDA3'!L18,V18,AD18)","v":0},{"$f":"MAX('MDA1'!L18,'MDA2'!L18,'MDA3'!J18,'MDA3'!M18,AF18)","v":0},0,0]
[{"$f":"IF(COUNTRY_INFO!A19=0,\" \",COUNTRY_INFO!A19)","v":"Burkina Faso"},{"$f":"IF(COUNTRY_INFO!B19=0,\" \",COUNTRY_INFO!B19)","v":"Centre"},{"$f":"IF(COUNTRY_INFO!C19=0,\" \",COUNTRY_INFO!C19)","v":"Bogodogo"},{"$f":"COUNTRY_INFO!L19","v":217102},90156,82192,{"$f":"MAX('MDA1'!M19,'MDA2'!M19)","v":172348},{"$f":"IF(AND(COUNTRY_INFO!H19>0,COUNTRY_INFO!H19<4),IF(D19>MAX('MDA1'!M19,'MDA2'!M19),MAX('MDA1'!M19,'MDA2'!M19),D19),0)","v":172348},{"$f":"IF(AND(COUNTRY_INFO!H19>0,COUNTRY_INFO!H19<4), IF(G19/D19*100<>0, IF(G19/D19*100>100,100,G19/D19*100), \"-\"),0)","v":79.38572652485928},{"$f":"COUNTRY_INFO!M19","v":0},null,null,{"$f":"MAX('MDA1'!M19,MAX('MDA3'!I19,'MDA3'!L19)+MAX('MDA3'!J19,'MDA3'!M19))","v":172348},{"$f":"IF(AND(COUNTRY_INFO!I19>0,COUNTRY_INFO!I19<4),IF(J19>MAX('MDA1'!M19,MAX('MDA3'!I19,'MDA3'!L19)+MAX('MDA3'!J19,'MDA3'!M19)),MAX('MDA1'!M19,MAX('MDA3'!I19,'MDA3'!L19)+MAX('MDA3'!J19,'MDA3'!M19)),J19),0)","v":0},{"$f":"IF(AND(COUNTRY_INFO!I19>0,COUNTRY_INFO!I19<4), IF(M19/J19*100<>0, IF(M19/J19*100>100,100,M19/J19*100), \"-\"),0)","v":0},{"$f":"COUNTRY_INFO!N19","v":0},26063,28588,{"$f":"SUM(MAX('MDA2'!J19, 'T1'!L19, MAX(T3_R1!K19, T3_R2!K19)), MAX('MDA1'!K19, 'MDA2'!K19, 'T1'!M19, MAX(T3_R1!L19, T3_R2!L19)), MAX('MDA1'!L19, 'MDA2'!L19, 'T1'!N19, MAX(T3_R1!M19, T3_R2!M19)))","v":172348},{"$f":"IF(AND(COUNTRY_INFO!J19>1,COUNTRY_INFO!J19<4),IF(COUNTRY_INFO!E19>MAX('MDA2'!J19,'T1'!L19,MAX(T3_R1!K19,T3_R2!K19)),MAX('MDA2'!J19,'T1'!L19,MAX(T3_R1!K19,T3_R2!K19)),COUNTRY_INFO!E19),0)","v":0},{"$f":"IF(AND(COUNTRY_INFO!J19>1,COUNTRY_INFO!J19<4), IF(T19/COUNTRY_INFO!E19*100<>0, IF(T19/COUNTRY_INFO!E19*100>100,100,T19/COUNTRY_INFO!E19*100), \"-\"),0)","v":0},{"$f":"IF(AND(COUNTRY_INFO!J19>1,COUNTRY_INFO!J19<4),IF(COUNTRY_INFO!F19>MAX('MDA1'!K19,'MDA2'!K19,'T1'!M19,MAX(T3_R1!L19,T3_R2!L19)),MAX('MDA1'!K19,'MDA2'!K19,'T1'!M19,MAX(T3_R1!L19,T3_R2!L19)),COUNTRY_INFO!F19),0)","v":0},{"$f":"IF(AND(COUNTRY_INFO!J19>1,COUNTRY_INFO!J19<4), IF(V19/COUNTRY_INFO!F19*100<>0, IF(V19/COUNTRY_INFO!F19*100>100,100,V19/COUNTRY_INFO!F19*100), \"-\"),0)","v":0},0,{"$f":"IF(AND(COUNTRY_INFO!J19>1,COUNTRY_INFO!J19<4), IF(S19/P19*100<>0, IF(X19/P19*100>100,100,X19/P19*100), \"-\"),0)","v":0},{"$f":"COUNTRY_INFO!O19","v":205470.2},null,null,{"$f":"MAX('T1'!L19,'T2'!J19)+MAX('T1'!M19,'T2'!K19)+MAX('T1'!N19,'T2'!L19)","v":0},{"$f":"IF(COUNTRY_INFO!K19=1,IF(COUNTRY_INFO!F19*0.33>MAX('T1'!M19,'T2'!K19),MAX('T1'!M19,'T2'!K19),COUNTRY_INFO!F19*0.33),IF(COUNTRY_INFO!K19=2,IF(COUNTRY_INFO!F19*0.5>MAX('T1'!M19,'T2'!K19),MAX('T1'!M19,'T2'!K19),COUNTRY_INFO!F19*0.5),IF(COUNTRY_INFO!K19=3,IF(COUNTRY_INFO!F19>MAX('T1'!M19,'T2'!K19),MAX('T1'!M19,'T2'!K19),COUNTRY_INFO!F19),0)))","v":0},{"$f":"IF(AND(COUNTRY_INFO!K19>0,COUNTRY_INFO!K19<4),IF(Z19>0,IF(COUNTRY_INFO!K19=1, AD19/(COUNTRY_INFO!F19*0.33)*100, IF(COUNTRY_INFO!K19=2, AD19/(COUNTRY_INFO!F19*0.5)*100, IF(COUNTRY_INFO!K19=3, AD19/COUNTRY_INFO!F19*100))),\"-\"),0)","v":0},{"$f":"IF(COUNTRY_INFO!K19=2,IF(COUNTRY_INFO!G19*0.2>MAX('T1'!N19,'T2'!L19),MAX('T1'!N19,'T2'!L19),COUNTRY_INFO!G19*0.2),IF(COUNTRY_INFO!K19=3,IF(COUNTRY_INFO!G19>MAX('T1'!N19,'T2'!L19),MAX('T1'!N19,'T2'!L19),COUNTRY_INFO!G19),0))","v":0},{"$f":"IF(AND(COUNTRY_INFO!K19>0,COUNTRY_INFO!K19<4),IF(Z19>0,IF(COUNTRY_INFO!K19=1, 0, IF(COUNTRY_INFO!K19=2, AF19/(COUNTRY_INFO!G19*0.2)*100, IF(COUNTRY_INFO!K19=3, AF19/COUNTRY_INFO!G19*100))),\"-\"),0)","v":0},0,{"$f":"IF(AND(COUNTRY_INFO!K19>0,COUNTRY_INFO!K19<4), IF(AC19/Z19*100<>0, IF(AH19/Z19*100>100,100,AH19/Z19*100), \"-\"),0)","v":"-"},null,{"$f":"IF(AND(D19<>0, D19<>\"Inconnu\",D19<>\"Interrompu\",D19<>\"Non requis\"),D19/COUNTRY_INFO!D19, 0)","v":0.26216438799488961},{"$f":"IF(AND(J19<>0,J19<>\"Inconnu\",J19<>\"Interrompu\",J19<>\"Non requis\"),J19/COUNTRY_INFO!D19, 0)","v":0},{"$f":"IF(AND(P19<>0,P19<>\"Inconnu\",P19<>\"Non requis\"),P19/(COUNTRY_INFO!E19+COUNTRY_INFO!F19), 0)","v":0},{"$f":"IF(AND(Z19<>0,Z19<>\"Inconnu\",Z19<>\"Non requis\"),IF(COUNTRY_INFO!K19=1,1,IF(COUNTRY_INFO!K19=2,0.5*COUNTRY_INFO!F19/(0.5*COUNTRY_INFO!F19+0.2*COUNTRY_INFO!G19),IF(COUNTRY_INFO!K19=3,COUNTRY_INFO!F19/(COUNTRY_INFO!F19+COUNTRY_INFO!G19)))),0)","v":0.50342093403325638},{"$f":"IF(AND(Z19<>0,Z19<>\"Inconnu\",Z19<>\"Non requis\"),IF(COUNTRY_INFO!K19=1,0,IF(COUNTRY_INFO!K19=2,0.2*COUNTRY_INFO!G19/(0.5*COUNTRY_INFO!F19+0.2*COUNTRY_INFO!G19),IF(COUNTRY_INFO!K19=3,COUNTRY_INFO!G19/(COUNTRY_INFO!F19+COUNTRY_INFO!G19)))),0)","v":0.49657906596674362},{"$f":"MAX(COUNTRY_INFO!D19*AK19*PROFILE!$G$7,COUNTRY_INFO!D19*AL19*PROFILE!$G$7)","v":8369.832073792033},{"$f":"MAX(COUNTRY_INFO!D19*AK19*PROFILE!$G$8,COUNTRY_INFO!D19*AL19*PROFILE!$G$8,COUNTRY_INFO!D19*AM19*PROFILE!$G$8)","v":30618.982205053788},{"$f":"MAX(COUNTRY_INFO!D19*AK19*PROFILE!$G$9,COUNTRY_INFO!D19*AL19*PROFILE!$G$9,COUNTRY_INFO!D19*AM19*PROFILE!$G$9,IF(AND(DISTRICT!Z19<>\"Inconnu\",Z19<>\"Non requis\"),COUNTRY_INFO!O19*DISTRICT!AN19,0))","v":103438},{"$f":"MAX(COUNTRY_INFO!D19*AK19*PROFILE!$G$10,COUNTRY_INFO!D19*AL19*PROFILE!$G$10,IF(AND(DISTRICT!Z19<>\"Inconnu\",Z19<>\"Non requis\"),COUNTRY_INFO!O19*DISTRICT!AO19,0))","v":114856.80268143878},257283.61696028459,0,{"$f":"MAX('MDA2'!J19,'T1'!L19,'T2'!J19,T3_R1!K19,T3_R2!K19)","v":0},{"$f":"MAX('MDA1'!K19,'MDA2'!K19,'MDA3'!I19,'MDA3'!L19,'T1'!M19,'T2'!K19,T3_R1!L19,T3_R2!L19)","v":54651},{"$f":"MAX('MDA1'!L19,'MDA2'!L19,'MDA3'!J19,'MDA3'!M19,'T1'!N19,'T2'!L19,T3_R1!M19,T3_R2!M19)","v":117697},172348,{"$f":"MAX('MDA2'!J19,T19)","v":0},{"$f":"MAX('MDA1'!K19,'MDA2'!K19,'MDA3'!I19,'MDA3'!L19,V19,AD19)","v":54651},{"$f":"MAX('MDA1'!L19,'MDA2'!L19,'MDA3'!J19,'MDA3'!M19,AF19)","v":117697},172348,66.987553283116497]
[{"$f":"IF(COUNTRY_INFO!A20=0,\" \",COUNTRY_INFO!A20)","v":"Burkina Faso"},{"$f":"IF(COUNTRY_INFO!B20=0,\" \",COUNTRY_INFO!B20)","v":"Centre"},{"$f":"IF(COUNTRY_INFO!C20=0,\" \",COUNTRY_INFO!C20)","v":"Boulmiougou"},{"$f":"COUNTRY_INFO!L20","v":370010},156373,140189,{"$f":"MAX('MDA1'!M20,'MDA2'!M20)","v":296562},{"$f":"IF(AND(COUNTRY_INFO!H20>0,COUNTRY_INFO!H20<4),IF(D20>MAX('MDA1'!M20,'MDA2'!M20),MAX('MDA1'!M20,'MDA2'!M20),D20),0)","v":296562},{"$f":"IF(AND(COUNTRY_INFO!H20>0,COUNTRY_INFO!H20<4), IF(G20/D20*100<>0, IF(G20/D20*100>100,100,G20/D20*100), \"-\"),0)","v":80.149725683089642},{"$f":"COUNTRY_INFO!M20","v":0},null,null,{"$f":"MAX('MDA1'!M20,MAX('MDA3'!I20,'MDA3'!L20)+MAX('MDA3'!J20,'MDA3'!M20))","v":296562},{"$f":"IF(AND(COUNTRY_INFO!I20>0,COUNTRY_INFO!I20<4),IF(J20>MAX('MDA1'!M20,MAX('MDA3'!I20,'MDA3'!L20)+MAX('MDA3'!J20,'MDA3'!M20)),MAX('MDA1'!M20,MAX('MDA3'!I20,'MDA3'!L20)+MAX('MDA3'!J20,'MDA3'!M20)),J20),0)","v":0},{"$f":"IF(AND(COUNTRY_INFO!I20>0,COUNTRY_INFO!I20<4), IF(M20/J20*100<>0, IF(M20/J20*100>100,100,M20/J20*100), \"-\"),0)","v":0},{"$f":"COUNTRY_INFO!N20","v":0},44670,50198,{"$f":"SUM(MAX('MDA2'!J20, 'T1'!L20, MAX(T3_R1!K20, T3_R2!K20)), MAX('MDA1'!K20, 'MDA2'!K20, 'T1'!M20, MAX(T3_R1!L20, T3_R2!L20)), MAX('MDA1'!L20, 'MDA2'!L20, 'T1'!N20, MAX(T3_R1!M20, T3_R2!M20)))","v":296562},{"$f":"IF(AND(COUNTRY_INFO!J20>1,COUNTRY_INFO!J20<4),IF(COUNTRY_INFO!E20>MAX('MDA2'!J20,'T1'!L20,MAX(T3_R1!K20,T3_R2!K20)),MAX('MDA2'!J20,'T1'!L20,MAX(T3_R1!K20,T3_R2!K20)),COUNTRY_INFO!E20),0)","v":0},{"$f":"IF(AND(COUNTRY_INFO!J20>1,COUNTRY_INFO!J20<4), IF(T20/COUNTRY_INFO!E20*100<>0, IF(T20/COUNTRY_INFO!E20*100>100,100,T20/COUNTRY_INFO!E20*100), \"-\"),0)","v":0},{"$f":"IF(AND(COUNTRY_INFO!J20>1,COUNTRY_INFO!J20<4),IF(COUNTRY_INFO!F20>MAX('MDA1'!K20,'MDA2'!K20,'T1'!M20,MAX(T3_R1!L20,T3_R2!L20)),MAX('MDA1'!K20,'MDA2'!K20,'T1'!M20,MAX(T3_R1!L20,T3_R2!L20)),COUNTRY_INFO!F20),0)","v":0},{"$f":"IF(AND(COUNTRY_INFO!J20>1,COUNTRY_INFO!J20<4), IF(V20/COUNTRY_INFO!F20*100<>0, IF(V20/COUNTRY_INFO!F20*100>100,100,V20/COUNTRY_INFO!F20*100), \"-\"),0)","v":0},0,{"$f":"IF(AND(COUNTRY_INFO!J20>1,COUNTRY_INFO!J20<4), IF(S20/P20*100<>0, IF(X20/P20*100>100,100,X20/P20*100), \"-\"),0)","v":0},{"$f":"COUNTRY_INFO!O20","v":232139.2},null,null,{"$f":"MAX('T1'!L20,'T2'!J20)+MAX('T1'!M20,'T2'!K20)+MAX('T1'!N20,'T2'!L20)","v":0},{"$f":"IF(COUNTRY_INFO!K20=1,IF(COUNTRY_INFO!F20*0.33>MAX('T1'!M20,'T2'!K20),MAX('T1'!M20,'T2'!K20),COUNTRY_INFO!F20*0.33),IF(COUNTRY_INFO!K20=2,IF(COUNTRY_INFO!F20*0.5>MAX('T1'!M20,'T2'!K20),MAX('T1'!M20,'T2'!K20),COUNTRY_INFO!F20*0.5),IF(COUNTRY_INFO!K20=3,IF(COUNTRY_INFO!F20>MAX('T1'!M20,'T2'!K20),MAX('T1'!M20,'T2'!K20),COUNTRY_INFO!F20),0)))","v":0},{"$f":"IF(AND(COUNTRY_INFO!K20>0,COUNTRY_INFO!K20<4),IF(Z20>0,IF(COUNTRY_INFO!K20=1, AD20/(COUNTRY_INFO!F20*0.33)*100, IF(COUNTRY_INFO!K20=2, AD20/(COUNTRY_INFO!F20*0.5)*100, IF(COUNTRY_INFO!K20=3, AD20/COUNTRY_INFO!F20*100))),\"-\"),0)","v":0},{"$f":"IF(COUNTRY_INFO!K20=2,IF(COUNTRY_INFO!G20*0.2>MAX('T1'!N20,'T2'!L20),MAX('T1'!N20,'T2'!L20),COUNTRY_INFO!G20*0.2),IF(COUNTRY_INFO!K20=3,IF(COUNTRY_INFO!G20>MAX('T1'!N20,'T2'!L20),MAX('T1'!N20,'T2'!L20),COUNTRY_INFO!G20),0))","v":0},{"$f":"IF(AND(COUNTRY_INFO!K20>0,COUNTRY_INFO!K20<4),IF(Z20>0,IF(COUNTRY_INFO!K20=1, 0, IF(COUNTRY_INFO!K20=2, AF20/(COUNTRY_INFO!G20*0.2)*100, IF(COUNTRY_INFO!K20=3, AF20/COUNTRY_INFO!G20*100))),\"-\"),0)","v":0},0,{"$f":"IF(AND(COUNTRY_INFO!K20>0,COUNTRY_INFO!K20<4), IF(AC20/Z20*100<>0, IF(AH20/Z20*100>100,100,AH20/Z20*100), \"-\"),0)","v":"-"},null,{"$f":"IF(AND(D20<>0, D20<>\"Inconnu\",D20<>\"Interrompu\",D20<>\"Non requis\"),D20/COUNTRY_INFO!D20, 0)","v":0.40249452839794103},{"$f":"IF(AND(J20<>0,J20<>\"Inconnu\",J20<>\"Interrompu\",J20<>\"Non requis\"),J20/COUNTRY_INFO!D20, 0)","v":0},{"$f":"IF(AND(P20<>0,P20<>\"Inconnu\",P20<>\"Non requis\"),P20/(COUNTRY_INFO!E20+COUNTRY_INFO!F20), 0)","v":0},{"$f":"IF(AND(Z20<>0,Z20<>\"Inconnu\",Z20<>\"Non requis\"),IF(COUNTRY_INFO!K20=1,1,IF(COUNTRY_INFO!K20=2,0.5*COUNTRY_INFO!F20/(0.5*COUNTRY_INFO!F20+0.2*COUNTRY_INFO!G20),IF(COUNTRY_INFO!K20=3,COUNTRY_INFO!F20/(COUNTRY_INFO!F20+COUNTRY_INFO!G20)))),0)","v":0.53994758317423341},{"$f":"IF(AND(Z20<>0,Z20<>\"Inconnu\",Z20<>\"Non requis\"),IF(COUNTRY_INFO!K20=1,0,IF(COUNTRY_INFO!K20=2,0.2*COUNTRY_INFO!G20/(0.5*COUNTRY_INFO!F20+0.2*COUNTRY_INFO!G20),IF(COUNTRY_INFO!K20=3,COUNTRY_INFO!G20/(COUNTRY_INFO!F20+COUNTRY_INFO!G20)))),0)","v":0.46005241682576664},{"$f":"MAX(COUNTRY_INFO!D20*AK20*PROFILE!$G$7,COUNTRY_INFO!D20*AL20*PROFILE!$G$7)","v":14264.822828089053},{"$f":"MAX(COUNTRY_INFO!D20*AK20*PROFILE!$G$8,COUNTRY_INFO!D20*AL20*PROFILE!$G$8,COUNTRY_INFO!D20*AM20*PROFILE!$G$8)","v":52184.363136645217},{"$f":"MAX(COUNTRY_INFO!D20*AK20*PROFILE!$G$9,COUNTRY_INFO!D20*AL20*PROFILE!$G$9,COUNTRY_INFO!D20*AM20*PROFILE!$G$9,IF(AND(DISTRICT!Z20<>\"Inconnu\",Z20<>\"Non requis\"),COUNTRY_INFO!O20*DISTRICT!AN20,0))","v":125343.00000000001},{"$f":"MAX(COUNTRY_INFO!D20*AK20*PROFILE!$G$10,COUNTRY_INFO!D20*AL20*PROFILE!$G$10,IF(AND(DISTRICT!Z20<>\"Inconnu\",Z20<>\"Non requis\"),COUNTRY_INFO!O20*DISTRICT!AO20,0))","v":195752.06842939797},387544.25439413229,0,{"$f":"MAX('MDA2'!J20,'T1'!L20,'T2'!J20,T3_R1!K20,T3_R2!K20)","v":0},{"$f":"MAX('MDA1'!K20,'MDA2'!K20,'MDA3'!I20,'MDA3'!L20,'T1'!M20,'T2'!K20,T3_R1!L20,T3_R2!L20)","v":94899},{"$f":"MAX('MDA1'!L20,'MDA2'!L20,'MDA3'!J20,'MDA3'!M20,'T1'!N20,'T2'!L20,T3_R1!M20,T3_R2!M20)","v":201663},296562,{"$f":"MAX('MDA2'!J20,T20)","v":0},{"$f":"MAX('MDA1'!K20,'MDA2'!K20,'MDA3'!I20,'MDA3'!L20,V20,AD20)","v":94899},{"$f":"MAX('MDA1'!L20,'MDA2'!L20,'MDA3'!J20,'MDA3'!M20,AF20)","v":201663},296562,76.523389687103091]
[{"$f":"IF(COUNTRY_INFO!A21=0,\" \",COUNTRY_INFO!A21)","v":"Burkina Faso"},{"$f":"IF(COUNTRY_INFO!B21=0,\" \",COUNTRY_INFO!B21)","v":"Centre"},{"$f":"IF(COUNTRY_INFO!C21=0,\" \",COUNTRY_INFO!C21)","v":"Nongre-Massom"},{"$f":"COUNTRY_INFO!L21","v":17507},7221,6334,{"$f":"MAX('MDA1'!M21,'MDA2'!M21)","v":13555},{"$f":"IF(AND(COUNTRY_INFO!H21>0,COUNTRY_INFO!H21<4),IF(D21>MAX('MDA1'!M21,'MDA2'!M21),MAX('MDA1'!M21,'MDA2'!M21),D21),0)","v":13555},{"$f":"IF(AND(COUNTRY_INFO!H21>0,COUNTRY_INFO!H21<4), IF(G21/D21*100<>0, IF(G21/D21*100>100,100,G21/D21*100), \"-\"),0)","v":77.426172388187581},{"$f":"COUNTRY_INFO!M21","v":0},null,null,{"$f":"MAX('MDA1'!M21,MAX('MDA3'!I21,'MDA3'!L21)+MAX('MDA3'!J21,'MDA3'!M21))","v":13555},{"$f":"IF(AND(COUNTRY_INFO!I21>0,COUNTRY_INFO!I21<4),IF(J21>MAX('MDA1'!M21,MAX('MDA3'!I21,'MDA3'!L21)+MAX('MDA3'!J21,'MDA3'!M21)),MAX('MDA1'!M21,MAX('MDA3'!I21,'MDA3'!L21)+MAX('MDA3'!J21,'MDA3'!M21)),J21),0)","v":0},{"$f":"IF(AND(COUNTRY_INFO!I21>0,COUNTRY_INFO!I21<4), IF(M21/J21*100<>0, IF(M21/J21*100>100,100,M21/J21*100), \"-\"),0)","v":0},{"$f":"COUNTRY_INFO!N21","v":0},2009,2290,{"$f":"SUM(MAX('MDA2'!J21, 'T1'!L21, MAX(T3_R1!K21, T3_R2!K21)), MAX('MDA1'!K21, 'MDA2'!K21, 'T1'!M21, MAX(T3_R1!L21, T3_R2!L21)), MAX('MDA1'!L21, 'MDA2'!L21, 'T1'!N21, MAX(T3_R1!M21, T3_R2!M21)))","v":13555},{"$f":"IF(AND(COUNTRY_INFO!J21>1,COUNTRY_INFO!J21<4),IF(COUNTRY_INFO!E21>MAX('MDA2'!J21,'T1'!L21,MAX(T3_R1!K21,T3_R2!K21)),MAX('MDA2'!J21,'T1'!L21,MAX(T3_R1!K21,T3_R2!K21)),COUNTRY_INFO!E21),0)","v":0},{"$f":"IF(AND(COUNTRY_INFO!J21>1,COUNTRY_INFO!J21<4), IF(T21/COUNTRY_INFO!E21*100<>0, IF(T21/COUNTRY_INFO!E21*100>100,100,T21/COUNTRY_INFO!E21*100), \"-\"),0)","v":0},{"$f":"IF(AND(COUNTRY_INFO!J21>1,COUNTRY_INFO!J21<4),IF(COUNTRY_INFO!F21>MAX('MDA1'!K21,'MDA2'!K21,'T1'!M21,MAX(T3_R1!L21,T3_R2!L21)),MAX('MDA1'!K21,'MDA2'!K21,'T1'!M21,MAX(T3_R1!L21,T3_R2!L21)),COUNTRY_INFO!F21),0)","v":0},{"$f":"IF(AND(COUNTRY_INFO!J21>1,COUNTRY_INFO!J21<4), IF(V21/COUNTRY_INFO!F21*100<>0, IF(V21/COUNTRY_INFO!F21*100>100,100,V21/COUNTRY_INFO!F21*100), \"-\"),0)","v":0},0,{"$f":"IF(AND(COUNTRY_INFO!J21>1,COUNTRY_INFO!J21<4), IF(S21/P21*100<>0, IF(X21/P21*100>100,100,X21/P21*100), \"-\"),0)","v":0},{"$f":"COUNTRY_INFO!O21","v":87578.4},null,null,{"$f":"MAX('T1'!L21,'T2'!J21)+MAX('T1'!M21,'T2'!K21)+MAX('T1'!N21,'T2'!L21)","v":0},{"$f":"IF(COUNTRY_INFO!K21=1,IF(COUNTRY_INFO!F21*0.33>MAX('T1'!M21,'T2'!K21),MAX('T1'!M21,'T2'!K21),COUNTRY_INFO!F21*0.33),IF(COUNTRY_INFO!K21=2,IF(COUNTRY_INFO!F21*0.5>MAX('T1'!M21,'T2'!K21),MAX('T1'!M21,'T2'!K21),COUNTRY_INFO!F21*0.5),IF(COUNTRY_INFO!K21=3,IF(COUNTRY_INFO!F21>MAX('T1'!M21,'T2'!K21),MAX('T1'!M21,'T2'!K21),COUNTRY_INFO!F21),0)))","v":0},{"$f":"IF(AND(COUNTRY_INFO!K21>0,COUNTRY_INFO!K21<4),IF(Z21>0,IF(COUNTRY_INFO!K21=1, AD21/(COUNTRY_INFO!F21*0.33)*100, IF(COUNTRY_INFO!K21=2, AD21/(COUNTRY_INFO!F21*0.5)*100, IF(COUNTRY_INFO!K21=3, AD21/COUNTRY_INFO!F21*100))),\"-\"),0)","v":0},{"$f":"IF(COUNTRY_INFO!K21=2,IF(COUNTRY_INFO!G21*0.2>MAX('T1'!N21,'T2'!L21),MAX('T1'!N21,'T2'!L21),COUNTRY_INFO!G21*0.2),IF(COUNTRY_INFO!K21=3,IF(COUNTRY_INFO!G21>MAX('T1'!N21,'T2'!L21),MAX('T1'!N21,'T2'!L21),COUNTRY_INFO!G21),0))","v":0},{"$f":"IF(AND(COUNTRY_INFO!K21>0,COUNTRY_INFO!K21<4),IF(Z21>0,IF(COUNTRY_INFO!K21=1, 0, IF(COUNTRY_INFO!K21=2, AF21/(COUNTRY_INFO!G21*0.2)*100, IF(COUNTRY_INFO!K21=3, AF21/COUNTRY_INFO!G21*100))),\"-\"),0)","v":0},0,{"$f":"IF(AND(COUNTRY_INFO!K21>0,COUNTRY_INFO!K21<4), IF(AC21/Z21*100<>0, IF(AH21/Z21*100>100,100,AH21/Z21*100), \"-\"),0)","v":"-"},null,{"$f":"IF(AND(D21<>0, D21<>\"Inconnu\",D21<>\"Interrompu\",D21<>\"Non requis\"),D21/COUNTRY_INFO!D21, 0)","v":4.9863144793093728E-2},{"$f":"IF(AND(J21<>0,J21<>\"Inconnu\",J21<>\"Interrompu\",J21<>\"Non requis\"),J21/COUNTRY_INFO!D21, 0)","v":0},{"$f":"IF(AND(P21<>0,P21<>\"Inconnu\",P21<>\"Non requis\"),P21/(COUNTRY_INFO!E21+COUNTRY_INFO!F21), 0)","v":0},{"$f":"IF(AND(Z21<>0,Z21<>\"Inconnu\",Z21<>\"Non requis\"),IF(COUNTRY_INFO!K21=1,1,IF(COUNTRY_INFO!K21=2,0.5*COUNTRY_INFO!F21/(0.5*COUNTRY_INFO!F21+0.2*COUNTRY_INFO!G21),IF(COUNTRY_INFO!K21=3,COUNTRY_INFO!F21/(COUNTRY_INFO!F21+COUNTRY_INFO!G21)))),0)","v":0.50418824733039203},{"$f":"IF(AND(Z21<>0,Z21<>\"Inconnu\",Z21<>\"Non requis\"),IF(COUNTRY_INFO!K21=1,0,IF(COUNTRY_INFO!K21=2,0.2*COUNTRY_INFO!G21/(0.5*COUNTRY_INFO!F21+0.2*COUNTRY_INFO!G21),IF(COUNTRY_INFO!K21=3,COUNTRY_INFO!G21/(COUNTRY_INFO!F21+COUNTRY_INFO!G21)))),0)","v":0.49581175266960809},{"$f":"MAX(COUNTRY_INFO!D21*AK21*PROFILE!$G$7,COUNTRY_INFO!D21*AL21*PROFILE!$G$7)","v":674.93919961988877},{"$f":"MAX(COUNTRY_INFO!D21*AK21*PROFILE!$G$8,COUNTRY_INFO!D21*AL21*PROFILE!$G$8,COUNTRY_INFO!D21*AM21*PROFILE!$G$8)","v":2469.0998768499444},{"$f":"MAX(COUNTRY_INFO!D21*AK21*PROFILE!$G$9,COUNTRY_INFO!D21*AL21*PROFILE!$G$9,COUNTRY_INFO!D21*AM21*PROFILE!$G$9,IF(AND(DISTRICT!Z21<>\"Inconnu\",Z21<>\"Non requis\"),COUNTRY_INFO!O21*DISTRICT!AN21,0))","v":44156},{"$f":"MAX(COUNTRY_INFO!D21*AK21*PROFILE!$G$10,COUNTRY_INFO!D21*AL21*PROFILE!$G$10,IF(AND(DISTRICT!Z21<>\"Inconnu\",Z21<>\"Non requis\"),COUNTRY_INFO!O21*DISTRICT!AO21,0))","v":43422.400000000001},90722.439076469833,0,{"$f":"MAX('MDA2'!J21,'T1'!L21,'T2'!J21,T3_R1!K21,T3_R2!K21)","v":0},{"$f":"MAX('MDA1'!K21,'MDA2'!K21,'MDA3'!I21,'MDA3'!L21,'T1'!M21,'T2'!K21,T3_R1!L21,T3_R2!L21)","v":4299},{"$f":"MAX('MDA1'!L21,'MDA2'!L21,'MDA3'!J21,'MDA3'!M21,'T1'!N21,'T2'!L21,T3_R1!M21,T3_R2!M21)","v":9256},13555,{"$f":"MAX('MDA2'!J21,T21)","v":0},{"$f":"MAX('MDA1'!K21,'MDA2'!K21,'MDA3'!I21,'MDA3'!L21,V21,AD21)","v":4299},{"$f":"MAX('MDA1'!L21,'MDA2'!L21,'MDA3'!J21,'MDA3'!M21,AF21)","v":9256},13555,14.941176778299035]
[{"$f":"IF(COUNTRY_INFO!A22=0,\" \",COUNTRY_INFO!A22)","v":"Burkina Faso"},{"$f":"IF(COUNTRY_INFO!B22=0,\" \",COUNTRY_INFO!B22)","v":"Centre"},{"$f":"IF(COUNTRY_INFO!C22=0,\" \",COUNTRY_INFO!C22)","v":"Sig-Nonghin"},{"$f":"COUNTRY_INFO!L22","v":134350},58038,50695,{"$f":"MAX('MDA1'!M22,'MDA2'!M22)","v":108733},{"$f":"IF(AND(COUNTRY_INFO!H22>0,COUNTRY_INFO!H22<4),IF(D22>MAX('MDA1'!M22,'MDA2'!M22),MAX('MDA1'!M22,'MDA2'!M22),D22),0)","v":108733},{"$f":"IF(AND(COUNTRY_INFO!H22>0,COUNTRY_INFO!H22<4), IF(G22/D22*100<>0, IF(G22/D22*100>100,100,G22/D22*100), \"-\"),0)","v":80.932638630442881},{"$f":"COUNTRY_INFO!M22","v":0},null,null,{"$f":"MAX('MDA1'!M22,MAX('MDA3'!I22,'MDA3'!L22)+MAX('MDA3'!J22,'MDA3'!M22))","v":108733},{"$f":"IF(AND(COUNTRY_INFO!I22>0,COUNTRY_INFO!I22<4),IF(J22>MAX('MDA1'!M22,MAX('MDA3'!I22,'MDA3'!L22)+MAX('MDA3'!J22,'MDA3'!M22)),MAX('MDA1'!M22,MAX('MDA3'!I22,'MDA3'!L22)+MAX('MDA3'!J22,'MDA3'!M22)),J22),0)","v":0},{"$f":"IF(AND(COUNTRY_INFO!I22>0,COUNTRY_INFO!I22<4), IF(M22/J22*100<>0, IF(M22/J22*100>100,100,M22/J22*100), \"-\"),0)","v":0},{"$f":"COUNTRY_INFO!N22","v":0},16075,18404,{"$f":"SUM(MAX('MDA2'!J22, 'T1'!L22, MAX(T3_R1!K22, T3_R2!K22)), MAX('MDA1'!K22, 'MDA2'!K22, 'T1'!M22, MAX(T3_R1!L22, T3_R2!L22)), MAX('MDA1'!L22, 'MDA2'!L22, 'T1'!N22, MAX(T3_R1!M22, T3_R2!M22)))","v":108733},{"$f":"IF(AND(COUNTRY_INFO!J22>1,COUNTRY_INFO!J22<4),IF(COUNTRY_INFO!E22>MAX('MDA2'!J22,'T1'!L22,MAX(T3_R1!K22,T3_R2!K22)),MAX('MDA2'!J22,'T1'!L22,MAX(T3_R1!K22,T3_R2!K22)),COUNTRY_INFO!E22),0)","v":0},{"$f":"IF(AND(COUNTRY_INFO!J22>1,COUNTRY_INFO!J22<4), IF(T22/COUNTRY_INFO!E22*100<>0, IF(T22/COUNTRY_INFO!E22*100>100,100,T22/COUNTRY_INFO!E22*100), \"-\"),0)","v":0},{"$f":"IF(AND(COUNTRY_INFO!J22>1,COUNTRY_INFO!J22<4),IF(COUNTRY_INFO!F22>MAX('MDA1'!K22,'MDA2'!K22,'T1'!M22,MAX(T3_R1!L22,T3_R2!L22)),MAX('MDA1'!K22,'MDA2'!K22,'T1'!M22,MAX(T3_R1!L22,T3_R2!L22)),COUNTRY_INFO!F22),0)","v":0},{"$f":"IF(AND(COUNTRY_INFO!J22>1,COUNTRY_INFO!J22<4), IF(V22/COUNTRY_INFO!F22*100<>0, IF(V22/COUNTRY_INFO!F22*100>100,100,V22/COUNTRY_INFO!F22*100), \"-\"),0)","v":0},0,{"$f":"IF(AND(COUNTRY_INFO!J22>1,COUNTRY_INFO!J22<4), IF(S22/P22*100<>0, IF(X22/P22*100>100,100,X22/P22*100), \"-\"),0)","v":0},{"$f":"COUNTRY_INFO!O22","v":83808},null,null,{"$f":"MAX('T1'!L22,'T2'!J22)+MAX('T1'!M22,'T2'!K22)+MAX('T1'!N22,'T2'!L22)","v":0},{"$f":"IF(COUNTRY_INFO!K22=1,IF(COUNTRY_INFO!F22*0.33>MAX('T1'!M22,'T2'!K22),MAX('T1'!M22,'T2'!K22),COUNTRY_INFO!F22*0.33),IF(COUNTRY_INFO!K22=2,IF(COUNTRY_INFO!F22*0.5>MAX('T1'!M22,'T2'!K22),MAX('T1'!M22,'T2'!K22),COUNTRY_INFO!F22*0.5),IF(COUNTRY_INFO!K22=3,IF(COUNTRY_INFO!F22>MAX('T1'!M22,'T2'!K22),MAX('T1'!M22,'T2'!K22),COUNTRY_INFO!F22),0)))","v":0},{"$f":"IF(AND(COUNTRY_INFO!K22>0,COUNTRY_INFO!K22<4),IF(Z22>0,IF(COUNTRY_INFO!K22=1, AD22/(COUNTRY_INFO!F22*0.33)*100, IF(COUNTRY_INFO!K22=2, AD22/(COUNTRY_INFO!F22*0.5)*100, IF(COUNTRY_INFO!K22=3, AD22/COUNTRY_INFO!F22*100))),\"-\"),0)","v":0},{"$f":"IF(COUNTRY_INFO!K22=2,IF(COUNTRY_INFO!G22*0.2>MAX('T1'!N22,'T2'!L22),MAX('T1'!N22,'T2'!L22),COUNTRY_INFO!G22*0.2),IF(COUNTRY_INFO!K22=3,IF(COUNTRY_INFO!G22>MAX('T1'!N22,'T2'!L22),MAX('T1'!N22,'T2'!L22),COUNTRY_INFO!G22),0))","v":0},{"$f":"IF(AND(COUNTRY_INFO!K22>0,COUNTRY_INFO!K22<4),IF(Z22>0,IF(COUNTRY_INFO!K22=1, 0, IF(COUNTRY_INFO!K22=2, AF22/(COUNTRY_INFO!G22*0.2)*100, IF(COUNTRY_INFO!K22=3, AF22/COUNTRY_INFO!G22*100))),\"-\"),0)","v":0},0,{"$f":"IF(AND(COUNTRY_INFO!K22>0,COUNTRY_INFO!K22<4), IF(AC22/Z22*100<>0, IF(AH22/Z22*100>100,100,AH22/Z22*100), \"-\"),0)","v":"-"},null,{"$f":"IF(AND(D22<>0, D22<>\"Inconnu\",D22<>\"Interrompu\",D22<>\"Non requis\"),D22/COUNTRY_INFO!D22, 0)","v":0.40110344498150474},{"$f":"IF(AND(J22<>0,J22<>\"Inconnu\",J22<>\"Interrompu\",J22<>\"Non requis\"),J22/COUNTRY_INFO!D22, 0)","v":0},{"$f":"IF(AND(P22<>0,P22<>\"Inconnu\",P22<>\"Non requis\"),P22/(COUNTRY_INFO!E22+COUNTRY_INFO!F22), 0)","v":0},{"$f":"IF(AND(Z22<>0,Z22<>\"Inconnu\",Z22<>\"Non requis\"),IF(COUNTRY_INFO!K22=1,1,IF(COUNTRY_INFO!K22=2,0.5*COUNTRY_INFO!F22/(0.5*COUNTRY_INFO!F22+0.2*COUNTRY_INFO!G22),IF(COUNTRY_INFO!K22=3,COUNTRY_INFO!F22/(COUNTRY_INFO!F22+COUNTRY_INFO!G22)))),0)","v":0.53035509736540665},{"$f":"IF(AND(Z22<>0,Z22<>\"Inconnu\",Z22<>\"Non requis\"),IF(COUNTRY_INFO!K22=1,0,IF(COUNTRY_INFO!K22=2,0.2*COUNTRY_INFO!G22/(0.5*COUNTRY_INFO!F22+0.2*COUNTRY_INFO!G22),IF(COUNTRY_INFO!K22=3,COUNTRY_INFO!G22/(COUNTRY_INFO!F22+COUNTRY_INFO!G22)))),0)","v":0.46964490263459335},{"$f":"MAX(COUNTRY_INFO!D22*AK22*PROFILE!$G$7,COUNTRY_INFO!D22*AL22*PROFILE!$G$7)","v":5179.5328422306538},{"$f":"MAX(COUNTRY_INFO!D22*AK22*PROFILE!$G$8,COUNTRY_INFO!D22*AL22*PROFILE!$G$8,COUNTRY_INFO!D22*AM22*PROFILE!$G$8)","v":18948.053261826128},{"$f":"MAX(COUNTRY_INFO!D22*AK22*PROFILE!$G$9,COUNTRY_INFO!D22*AL22*PROFILE!$G$9,COUNTRY_INFO!D22*AM22*PROFILE!$G$9,IF(AND(DISTRICT!Z22<>\"Inconnu\",Z22<>\"Non requis\"),COUNTRY_INFO!O22*DISTRICT!AN22,0))","v":44448},{"$f":"MAX(COUNTRY_INFO!D22*AK22*PROFILE!$G$10,COUNTRY_INFO!D22*AL22*PROFILE!$G$10,IF(AND(DISTRICT!Z22<>\"Inconnu\",Z22<>\"Non requis\"),COUNTRY_INFO!O22*DISTRICT!AO22,0))","v":71077.242219101157},139652.82832315794,0,{"$f":"MAX('MDA2'!J22,'T1'!L22,'T2'!J22,T3_R1!K22,T3_R2!K22)","v":0},{"$f":"MAX('MDA1'!K22,'MDA2'!K22,'MDA3'!I22,'MDA3'!L22,'T1'!M22,'T2'!K22,T3_R1!L22,T3_R2!L22)","v":34479},{"$f":"MAX('MDA1'!L22,'MDA2'!L22,'MDA3'!J22,'MDA3'!M22,'T1'!N22,'T2'!L22,T3_R1!M22,T3_R2!M22)","v":74254},108733,{"$f":"MAX('MDA2'!J22,T22)","v":0},{"$f":"MAX('MDA1'!K22,'MDA2'!K22,'MDA3'!I22,'MDA3'!L22,V22,AD22)","v":34479},{"$f":"MAX('MDA1'!L22,'MDA2'!L22,'MDA3'!J22,'MDA3'!M22,AF22)","v":74254},108733,77.859504390695776]
[{"$f":"IF(COUNTRY_INFO!A23=0,\" \",COUNTRY_INFO!A23)","v":"Burkina Faso"},{"$f":"IF(COUNTRY_INFO!B23=0,\" \",COUNTRY_INFO!B23)","v":"Centre-Est"},{"$f":"IF(COUNTRY_INFO!C23=0,\" \",COUNTRY_INFO!C23)","v":"Bittou"},{"$f":"COUNTRY_INFO!L23","v":131213},54232,50186,{"$f":"MAX('MDA1'!M23,'MDA2'!M23)","v":104418},{"$f":"IF(AND(COUNTRY_INFO!H23>0,COUNTRY_INFO!H23<4),IF(D23>MAX('MDA1'!M23,'MDA2'!M23),MAX('MDA1'!M23,'MDA2'!M23),D23),0)","v":104418},{"$f":"IF(AND(COUNTRY_INFO!H23>0,COUNTRY_INFO!H23<4), IF(G23/D23*100<>0, IF(G23/D23*100>100,100,G23/D23*100), \"-\"),0)","v":79.579005129064953},{"$f":"COUNTRY_INFO!M23","v":0},null,null,{"$f":"MAX('MDA1'!M23,MAX('MDA3'!I23,'MDA3'!L23)+MAX('MDA3'!J23,'MDA3'!M23))","v":104418},{"$f":"IF(AND(COUNTRY_INFO!I23>0,COUNTRY_INFO!I23<4),IF(J23>MAX('MDA1'!M23,MAX('MDA3'!I23,'MDA3'!L23)+MAX('MDA3'!J23,'MDA3'!M23)),MAX('MDA1'!M23,MAX('MDA3'!I23,'MDA3'!L23)+MAX('MDA3'!J23,'MDA3'!M23)),J23),0)","v":0},{"$f":"IF(AND(COUNTRY_INFO!I23>0,COUNTRY_INFO!I23<4), IF(M23/J23*100<>0, IF(M23/J23*100>100,100,M23/J23*100), \"-\"),0)","v":0},{"$f":"COUNTRY_INFO!N23","v":0},18755,20266,{"$f":"SUM(MAX('MDA2'!J23, 'T1'!L23, MAX(T3_R1!K23, T3_R2!K23)), MAX('MDA1'!K23, 'MDA2'!K23, 'T1'!M23, MAX(T3_R1!L23, T3_R2!L23)), MAX('MDA1'!L23, 'MDA2'!L23, 'T1'!N23, MAX(T3_R1!M23, T3_R2!M23)))","v":104418},{"$f":"IF(AND(COUNTRY_INFO!J23>1,COUNTRY_INFO!J23<4),IF(COUNTRY_INFO!E23>MAX('MDA2'!J23,'T1'!L23,MAX(T3_R1!K23,T3_R2!K23)),MAX('MDA2'!J23,'T1'!L23,MAX(T3_R1!K23,T3_R2!K23)),COUNTRY_INFO!E23),0)","v":0},{"$f":"IF(AND(COUNTRY_INFO!J23>1,COUNTRY_INFO!J23<4), IF(T23/COUNTRY_INFO!E23*100<>0, IF(T23/COUNTRY_INFO!E23*100>100,100,T23/COUNTRY_INFO!E23*100), \"-\"),0)","v":0},{"$f":"IF(AND(COUNTRY_INFO!J23>1,COUNTRY_INFO!J23<4),IF(COUNTRY_INFO!F23>MAX('MDA1'!K23,'MDA2'!K23,'T1'!M23,MAX(T3_R1!L23,T3_R2!L23)),MAX('MDA1'!K23,'MDA2'!K23,'T1'!M23,MAX(T3_R1!L23,T3_R2!L23)),COUNTRY_INFO!F23),0)","v":0},{"$f":"IF(AND(COUNTRY_INFO!J23>1,COUNTRY_INFO!J23<4), IF(V23/COUNTRY_INFO!F23*100<>0, IF(V23/COUNTRY_INFO!F23*100>100,100,V23/COUNTRY_INFO!F23*100), \"-\"),0)","v":0},0,{"$f":"IF(AND(COUNTRY_INFO!J23>1,COUNTRY_INFO!J23<4), IF(S23/P23*100<>0, IF(X23/P23*100>100,100,X23/P23*100), \"-\"),0)","v":0},{"$f":"COUNTRY_INFO!O23","v":32361.800000000003},51075,52570,{"$f":"MAX('T1'!L23,'T2'!J23)+MAX('T1'!M23,'T2'!K23)+MAX('T1'!N23,'T2'!L23)","v":106725},{"$f":"IF(COUNTRY_INFO!K23=1,IF(COUNTRY_INFO!F23*0.33>MAX('T1'!M23,'T2'!K23),MAX('T1'!M23,'T2'!K23),COUNTRY_INFO!F23*0.33),IF(COUNTRY_INFO!K23=2,IF(COUNTRY_INFO!F23*0.5>MAX('T1'!M23,'T2'!K23),MAX('T1'!M23,'T2'!K23),COUNTRY_INFO!F23*0.5),IF(COUNTRY_INFO!K23=3,IF(COUNTRY_INFO!F23>MAX('T1'!M23,'T2'!K23),MAX('T1'!M23,'T2'!K23),COUNTRY_INFO!F23),0)))","v":19319},{"$f":"IF(AND(COUNTRY_INFO!K23>0,COUNTRY_INFO!K23<4),IF(Z23>0,IF(COUNTRY_INFO!K23=1, AD23/(COUNTRY_INFO!F23*0.33)*100, IF(COUNTRY_INFO!K23=2, AD23/(COUNTRY_INFO!F23*0.5)*100, IF(COUNTRY_INFO!K23=3, AD23/COUNTRY_INFO!F23*100))),\"-\"),0)","v":100},{"$f":"IF(COUNTRY_INFO!K23=2,IF(COUNTRY_INFO!G23*0.2>MAX('T1'!N23,'T2'!L23),MAX('T1'!N23,'T2'!L23),COUNTRY_INFO!G23*0.2),IF(COUNTRY_INFO!K23=3,IF(COUNTRY_INFO!G23>MAX('T1'!N23,'T2'!L23),MAX('T1'!N23,'T2'!L23),COUNTRY_INFO!G23),0))","v":13042.800000000001},{"$f":"IF(AND(COUNTRY_INFO!K23>0,COUNTRY_INFO!K23<4),IF(Z23>0,IF(COUNTRY_INFO!K23=1, 0, IF(COUNTRY_INFO!K23=2, AF23/(COUNTRY_INFO!G23*0.2)*100, IF(COUNTRY_INFO!K23=3, AF23/COUNTRY_INFO!G23*100))),\"-\"),0)","v":100},32361.800000000003,{"$f":"IF(AND(COUNTRY_INFO!K23>0,COUNTRY_INFO!K23<4), IF(AC23/Z23*100<>0, IF(AH23/Z23*100>100,100,AH23/Z23*100), \"-\"),0)","v":100},null,{"$f":"IF(AND(D23<>0, D23<>\"Inconnu\",D23<>\"Interrompu\",D23<>\"Non requis\"),D23/COUNTRY_INFO!D23, 0)","v":1},{"$f":"IF(AND(J23<>0,J23<>\"Inconnu\",J23<>\"Interrompu\",J23<>\"Non requis\"),J23/COUNTRY_INFO!D23, 0)","v":0},{"$f":"IF(AND(P23<>0,P23<>\"Inconnu\",P23<>\"Non requis\"),P23/(COUNTRY_INFO!E23+COUNTRY_INFO!F23), 0)","v":0},{"$f":"IF(AND(Z23<>0,Z23<>\"Inconnu\",Z23<>\"Non requis\"),IF(COUNTRY_INFO!K23=1,1,IF(COUNTRY_INFO!K23=2,0.5*COUNTRY_INFO!F23/(0.5*COUNTRY_INFO!F23+0.2*COUNTRY_INFO!G23),IF(COUNTRY_INFO!K23=3,COUNTRY_INFO!F23/(COUNTRY_INFO!F23+COUNTRY_INFO!G23)))),0)","v":0.59696926623364577},{"$f":"IF(AND(Z23<>0,Z23<>\"Inconnu\",Z23<>\"Non requis\"),IF(COUNTRY_INFO!K23=1,0,IF(COUNTRY_INFO!K23=2,0.2*COUNTRY_INFO!G23/(0.5*COUNTRY_INFO!F23+0.2*COUNTRY_INFO!G23),IF(COUNTRY_INFO!K23=3,COUNTRY_INFO!G23/(COUNTRY_INFO!F23+COUNTRY_INFO!G23)))),0)","v":0.40303073376635418},{"$f":"MAX(COUNTRY_INFO!D23*AK23*PROFILE!$G$7,COUNTRY_INFO!D23*AL23*PROFILE!$G$7)","v":5058.5935454232294},{"$f":"MAX(COUNTRY_INFO!D23*AK23*PROFILE!$G$8,COUNTRY_INFO!D23*AL23*PROFILE!$G$8,COUNTRY_INFO!D23*AM23*PROFILE!$G$8)","v":18505.626443200534},{"$f":"MAX(COUNTRY_INFO!D23*AK23*PROFILE!$G$9,COUNTRY_INFO!D23*AL23*PROFILE!$G$9,COUNTRY_INFO!D23*AM23*PROFILE!$G$9,IF(AND(DISTRICT!Z23<>\"Inconnu\",Z23<>\"Non requis\"),COUNTRY_INFO!O23*DISTRICT!AN23,0))","v":38231.153042303522},{"$f":"MAX(COUNTRY_INFO!D23*AK23*PROFILE!$G$10,COUNTRY_INFO!D23*AL23*PROFILE!$G$10,IF(AND(DISTRICT!Z23<>\"Inconnu\",Z23<>\"Non requis\"),COUNTRY_INFO!O23*DISTRICT!AO23,0))","v":69417.62696907272},131213,"Y",{"$f":"MAX('MDA2'!J23,'T1'!L23,'T2'!J23,T3_R1!K23,T3_R2!K23)","v":0},{"$f":"MAX('MDA1'!K23,'MDA2'!K23,'MDA3'!I23,'MDA3'!L23,'T1'!M23,'T2'!K23,T3_R1!L23,T3_R2!L23)","v":47437},{"$f":"MAX('MDA1'!L23,'MDA2'!L23,'MDA3'!J23,'MDA3'!M23,'T1'!N23,'T2'!L23,T3_R1!M23,T3_R2!M23)","v":65397},112834,{"$f":"MAX('MDA2'!J23,T23)","v":0},{"$f":"MAX('MDA1'!K23,'MDA2'!K23,'MDA3'!I23,'MDA3'!L23,V23,AD23)","v":39021},{"$f":"MAX('MDA1'!L23,'MDA2'!L23,'MDA3'!J23,'MDA3'!M23,AF23)","v":65397},104418,79.579005129064953]
[{"$f":"IF(COUNTRY_INFO!A24=0,\" \",COUNTRY_INFO!A24)","v":"Burkina Faso"},{"$f":"IF(COUNTRY_INFO!B24=0,\" \",COUNTRY_INFO!B24)","v":"Centre-Est"},{"$f":"IF(COUNTRY_INFO!C24=0,\" \",COUNTRY_INFO!C24)","v":"Garango"},{"$f":"COUNTRY_INFO!L24","v":218189},95781,74356,{"$f":"MAX('MDA1'!M24,'MDA2'!M24)","v":170137},{"$f":"IF(AND(COUNTRY_INFO!H24>0,COUNTRY_INFO!H24<4),IF(D24>MAX('MDA1'!M24,'MDA2'!M24),MAX('MDA1'!M24,'MDA2'!M24),D24),0)","v":170137},{"$f":"IF(AND(COUNTRY_INFO!H24>0,COUNTRY_INFO!H24<4), IF(G24/D24*100<>0, IF(G24/D24*100>100,100,G24/D24*100), \"-\"),0)","v":77.97689159398503},{"$f":"COUNTRY_INFO!M24","v":0},null,null,{"$f":"MAX('MDA1'!M24,MAX('MDA3'!I24,'MDA3'!L24)+MAX('MDA3'!J24,'MDA3'!M24))","v":170137},{"$f":"IF(AND(COUNTRY_INFO!I24>0,COUNTRY_INFO!I24<4),IF(J24>MAX('MDA1'!M24,MAX('MDA3'!I24,'MDA3'!L24)+MAX('MDA3'!J24,'MDA3'!M24)),MAX('MDA1'!M24,MAX('MDA3'!I24,'MDA3'!L24)+MAX('MDA3'!J24,'MDA3'!M24)),J24),0)","v":0},{"$f":"IF(AND(COUNTRY_INFO!I24>0,COUNTRY_INFO!I24<4), IF(M24/J24*100<>0, IF(M24/J24*100>100,100,M24/J24*100), \"-\"),0)","v":0},{"$f":"COUNTRY_INFO!N24","v":0},27787,35793,{"$f":"SUM(MAX('MDA2'!J24, 'T1'!L24, MAX(T3_R1!K24, T3_R2!K24)), MAX('MDA1'!K24, 'MDA2'!K24, 'T1'!M24, MAX(T3_R1!L24, T3_R2!L24)), MAX('MDA1'!L24, 'MDA2'!L24, 'T1'!N24, MAX(T3_R1!M24, T3_R2!M24)))","v":170137},{"$f":"IF(AND(COUNTRY_INFO!J24>1,COUNTRY_INFO!J24<4),IF(COUNTRY_INFO!E24>MAX('MDA2'!J24,'T1'!L24,MAX(T3_R1!K24,T3_R2!K24)),MAX('MDA2'!J24,'T1'!L24,MAX(T3_R1!K24,T3_R2!K24)),COUNTRY_INFO!E24),0)","v":0},{"$f":"IF(AND(COUNTRY_INFO!J24>1,COUNTRY_INFO!J24<4), IF(T24/COUNTRY_INFO!E24*100<>0, IF(T24/COUNTRY_INFO!E24*100>100,100,T24/COUNTRY_INFO!E24*100), \"-\"),0)","v":0},{"$f":"IF(AND(COUNTRY_INFO!J24>1,COUNTRY_INFO!J24<4),IF(COUNTRY_INFO!F24>MAX('MDA1'!K24,'MDA2'!K24,'T1'!M24,MAX(T3_R1!L24,T3_R2!L24)),MAX('MDA1'!K24,'MDA2'!K24,'T1'!M24,MAX(T3_R1!L24,T3_R2!L24)),COUNTRY_INFO!F24),0)","v":0},{"$f":"IF(AND(COUNTRY_INFO!J24>1,COUNTRY_INFO!J24<4), IF(V24/COUNTRY_INFO!F24*100<>0, IF(V24/COUNTRY_INFO!F24*100>100,100,V24/COUNTRY_INFO!F24*100), \"-\"),0)","v":0},0,{"$f":"IF(AND(COUNTRY_INFO!J24>1,COUNTRY_INFO!J24<4), IF(S24/P24*100<>0, IF(X24/P24*100>100,100,X24/P24*100), \"-\"),0)","v":0},{"$f":"COUNTRY_INFO!O24","v":55135.4},78588,88414,{"$f":"MAX('T1'!L24,'T2'!J24)+MAX('T1'!M24,'T2'!K24)+MAX('T1'!N24,'T2'!L24)","v":167301},{"$f":"IF(COUNTRY_INFO!K24=1,IF(COUNTRY_INFO!F24*0.33>MAX('T1'!M24,'T2'!K24),MAX('T1'!M24,'T2'!K24),COUNTRY_INFO!F24*0.33),IF(COUNTRY_INFO!K24=2,IF(COUNTRY_INFO!F24*0.5>MAX('T1'!M24,'T2'!K24),MAX('T1'!M24,'T2'!K24),COUNTRY_INFO!F24*0.5),IF(COUNTRY_INFO!K24=3,IF(COUNTRY_INFO!F24>MAX('T1'!M24,'T2'!K24),MAX('T1'!M24,'T2'!K24),COUNTRY_INFO!F24),0)))","v":32272},{"$f":"IF(AND(COUNTRY_INFO!K24>0,COUNTRY_INFO!K24<4),IF(Z24>0,IF(COUNTRY_INFO!K24=1, AD24/(COUNTRY_INFO!F24*0.33)*100, IF(COUNTRY_INFO!K24=2, AD24/(COUNTRY_INFO!F24*0.5)*100, IF(COUNTRY_INFO!K24=3, AD24/COUNTRY_INFO!F24*100))),\"-\"),0)","v":100},{"$f":"IF(COUNTRY_INFO!K24=2,IF(COUNTRY_INFO!G24*0.2>MAX('T1'!N24,'T2'!L24),MAX('T1'!N24,'T2'!L24),COUNTRY_INFO!G24*0.2),IF(COUNTRY_INFO!K24=3,IF(COUNTRY_INFO!G24>MAX('T1'!N24,'T2'!L24),MAX('T1'!N24,'T2'!L24),COUNTRY_INFO!G24),0))","v":22863.4},{"$f":"IF(AND(COUNTRY_INFO!K24>0,COUNTRY_INFO!K24<4),IF(Z24>0,IF(COUNTRY_INFO!K24=1, 0, IF(COUNTRY_INFO!K24=2, AF24/(COUNTRY_INFO!G24*0.2)*100, IF(COUNTRY_INFO!K24=3, AF24/COUNTRY_INFO!G24*100))),\"-\"),0)","v":100},55135.4,{"$f":"IF(AND(COUNTRY_INFO!K24>0,COUNTRY_INFO!K24<4), IF(AC24/Z24*100<>0, IF(AH24/Z24*100>100,100,AH24/Z24*100), \"-\"),0)","v":100},null,{"$f":"IF(AND(D24<>0, D24<>\"Inconnu\",D24<>\"Interrompu\",D24<>\"Non requis\"),D24/COUNTRY_INFO!D24, 0)","v":1},{"$f":"IF(AND(J24<>0,J24<>\"Inconnu\",J24<>\"Interrompu\",J24<>\"Non requis\"),J24/COUNTRY_INFO!D24, 0)","v":0},{"$f":"IF(AND(P24<>0,P24<>\"Inconnu\",P24<>\"Non requis\"),P24/(COUNTRY_INFO!E24+COUNTRY_INFO!F24), 0)","v":0},{"$f":"IF(AND(Z24<>0,Z24<>\"Inconnu\",Z24<>\"Non requis\"),IF(COUNTRY_INFO!K24=1,1,IF(COUNTRY_INFO!K24=2,0.5*COUNTRY_INFO!F24/(0.5*COUNTRY_INFO!F24+0.2*COUNTRY_INFO!G24),IF(COUNTRY_INFO!K24=3,COUNTRY_INFO!F24/(COUNTRY_INFO!F24+COUNTRY_INFO!G24)))),0)","v":0.58532267835183927},{"$f":"IF(AND(Z24<>0,Z24<>\"Inconnu\",Z24<>\"Non requis\"),IF(COUNTRY_INFO!K24=1,0,IF(COUNTRY_INFO!K24=2,0.2*COUNTRY_INFO!G24/(0.5*COUNTRY_INFO!F24+0.2*COUNTRY_INFO!G24),IF(COUNTRY_INFO!K24=3,COUNTRY_INFO!G24/(COUNTRY_INFO!F24+COUNTRY_INFO!G24)))),0)","v":0.41467732164816073},{"$f":"MAX(COUNTRY_INFO!D24*AK24*PROFILE!$G$7,COUNTRY_INFO!D24*AL24*PROFILE!$G$7)","v":8411.7386774355346},{"$f":"MAX(COUNTRY_INFO!D24*AK24*PROFILE!$G$8,COUNTRY_INFO!D24*AL24*PROFILE!$G$8,COUNTRY_INFO!D24*AM24*PROFILE!$G$8)","v":30772.287258240274},{"$f":"MAX(COUNTRY_INFO!D24*AK24*PROFILE!$G$9,COUNTRY_INFO!D24*AL24*PROFILE!$G$9,COUNTRY_INFO!D24*AM24*PROFILE!$G$9,IF(AND(DISTRICT!Z24<>\"Inconnu\",Z24<>\"Non requis\"),COUNTRY_INFO!O24*DISTRICT!AN24,0))","v":63573.099091912867},{"$f":"MAX(COUNTRY_INFO!D24*AK24*PROFILE!$G$10,COUNTRY_INFO!D24*AL24*PROFILE!$G$10,IF(AND(DISTRICT!Z24<>\"Inconnu\",Z24<>\"Non requis\"),COUNTRY_INFO!O24*DISTRICT!AO24,0))","v":115431.87497241133},218189,"Y",{"$f":"MAX('MDA2'!J24,'T1'!L24,'T2'!J24,T3_R1!K24,T3_R2!K24)","v":0},{"$f":"MAX('MDA1'!K24,'MDA2'!K24,'MDA3'!I24,'MDA3'!L24,'T1'!M24,'T2'!K24,T3_R1!L24,T3_R2!L24)","v":74495},{"$f":"MAX('MDA1'!L24,'MDA2'!L24,'MDA3'!J24,'MDA3'!M24,'T1'!N24,'T2'!L24,T3_R1!M24,T3_R2!M24)","v":106557},181052,{"$f":"MAX('MDA2'!J24,T24)","v":0},{"$f":"MAX('MDA1'!K24,'MDA2'!K24,'MDA3'!I24,'MDA3'!L24,V24,AD24)","v":63580},{"$f":"MAX('MDA1'!L24,'MDA2'!L24,'MDA3'!J24,'MDA3'!M24,AF24)","v":106557},170137,77.97689159398503]
[{"$f":"IF(COUNTRY_INFO!A25=0,\" \",COUNTRY_INFO!A25)","v":"Burkina Faso"},{"$f":"IF(COUNTRY_INFO!B25=0,\" \",COUNTRY_INFO!B25)","v":"Centre-Est"},{"$f":"IF(COUNTRY_INFO!C25=0,\" \",COUNTRY_INFO!C25)","v":"Koupela"},{"$f":"COUNTRY_INFO!L25","v":243440},98045,84634,{"$f":"MAX('MDA1'!M25,'MDA2'!M25)","v":182679},{"$f":"IF(AND(COUNTRY_INFO!H25>0,COUNTRY_INFO!H25<4),IF(D25>MAX('MDA1'!M25,'MDA2'!M25),MAX('MDA1'!M25,'MDA2'!M25),D25),0)","v":182679},{"$f":"IF(AND(COUNTRY_INFO!H25>0,COUNTRY_INFO!H25<4), IF(G25/D25*100<>0, IF(G25/D25*100>100,100,G25/D25*100), \"-\"),0)","v":75.04066710483076},{"$f":"COUNTRY_INFO!M25","v":0},null,null,{"$f":"MAX('MDA1'!M25,MAX('MDA3'!I25,'MDA3'!L25)+MAX('MDA3'!J25,'MDA3'!M25))","v":182679},{"$f":"IF(AND(COUNTRY_INFO!I25>0,COUNTRY_INFO!I25<4),IF(J25>MAX('MDA1'!M25,MAX('MDA3'!I25,'MDA3'!L25)+MAX('MDA3'!J25,'MDA3'!M25)),MAX('MDA1'!M25,MAX('MDA3'!I25,'MDA3'!L25)+MAX('MDA3'!J25,'MDA3'!M25)),J25),0)","v":0},{"$f":"IF(AND(COUNTRY_INFO!I25>0,COUNTRY_INFO!I25<4), IF(M25/J25*100<>0, IF(M25/J25*100>100,100,M25/J25*100), \"-\"),0)","v":0},{"$f":"COUNTRY_INFO!N25","v":0},31628,36639,{"$f":"SUM(MAX('MDA2'!J25, 'T1'!L25, MAX(T3_R1!K25, T3_R2!K25)), MAX('MDA1'!K25, 'MDA2'!K25, 'T1'!M25, MAX(T3_R1!L25, T3_R2!L25)), MAX('MDA1'!L25, 'MDA2'!L25, 'T1'!N25, MAX(T3_R1!M25, T3_R2!M25)))","v":182679},{"$f":"IF(AND(COUNTRY_INFO!J25>1,COUNTRY_INFO!J25<4),IF(COUNTRY_INFO!E25>MAX('MDA2'!J25,'T1'!L25,MAX(T3_R1!K25,T3_R2!K25)),MAX('MDA2'!J25,'T1'!L25,MAX(T3_R1!K25,T3_R2!K25)),COUNTRY_INFO!E25),0)","v":0},{"$f":"IF(AND(COUNTRY_INFO!J25>1,COUNTRY_INFO!J25<4), IF(T25/COUNTRY_INFO!E25*100<>0, IF(T25/COUNTRY_INFO!E25*100>100,100,T25/COUNTRY_INFO!E25*100), \"-\"),0)","v":0},{"$f":"IF(AND(COUNTRY_INFO!J25>1,COUNTRY_INFO!J25<4),IF(COUNTRY_INFO!F25>MAX('MDA1'!K25,'MDA2'!K25,'T1'!M25,MAX(T3_R1!L25,T3_R2!L25)),MAX('MDA1'!K25,'MDA2'!K25,'T1'!M25,MAX(T3_R1!L25,T3_R2!L25)),COUNTRY_INFO!F25),0)","v":0},{"$f":"IF(AND(COUNTRY_INFO!J25>1,COUNTRY_INFO!J25<4), IF(V25/COUNTRY_INFO!F25*100<>0, IF(V25/COUNTRY_INFO!F25*100>100,100,V25/COUNTRY_INFO!F25*100), \"-\"),0)","v":0},0,{"$f":"IF(AND(COUNTRY_INFO!J25>1,COUNTRY_INFO!J25<4), IF(S25/P25*100<>0, IF(X25/P25*100>100,100,X25/P25*100), \"-\"),0)","v":0},{"$f":"COUNTRY_INFO!O25","v":62127.9},85865,93365,{"$f":"MAX('T1'!L25,'T2'!J25)+MAX('T1'!M25,'T2'!K25)+MAX('T1'!N25,'T2'!L25)","v":179230},{"$f":"IF(COUNTRY_INFO!K25=1,IF(COUNTRY_INFO!F25*0.33>MAX('T1'!M25,'T2'!K25),MAX('T1'!M25,'T2'!K25),COUNTRY_INFO!F25*0.33),IF(COUNTRY_INFO!K25=2,IF(COUNTRY_INFO!F25*0.5>MAX('T1'!M25,'T2'!K25),MAX('T1'!M25,'T2'!K25),COUNTRY_INFO!F25*0.5),IF(COUNTRY_INFO!K25=3,IF(COUNTRY_INFO!F25>MAX('T1'!M25,'T2'!K25),MAX('T1'!M25,'T2'!K25),COUNTRY_INFO!F25),0)))","v":37560.5},{"$f":"IF(AND(COUNTRY_INFO!K25>0,COUNTRY_INFO!K25<4),IF(Z25>0,IF(COUNTRY_INFO!K25=1, AD25/(COUNTRY_INFO!F25*0.33)*100, IF(COUNTRY_INFO!K25=2, AD25/(COUNTRY_INFO!F25*0.5)*100, IF(COUNTRY_INFO!K25=3, AD25/COUNTRY_INFO!F25*100))),\"-\"),0)","v":100},{"$f":"IF(COUNTRY_INFO!K25=2,IF(COUNTRY_INFO!G25*0.2>MAX('T1'!N25,'T2'!L25),MAX('T1'!N25,'T2'!L25),COUNTRY_INFO!G25*0.2),IF(COUNTRY_INFO!K25=3,IF(COUNTRY_INFO!G25>MAX('T1'!N25,'T2'!L25),MAX('T1'!N25,'T2'!L25),COUNTRY_INFO!G25),0))","v":24567.4},{"$f":"IF(AND(COUNTRY_INFO!K25>0,COUNTRY_INFO!K25<4),IF(Z25>0,IF(COUNTRY_INFO!K25=1, 0, IF(COUNTRY_INFO!K25=2, AF25/(COUNTRY_INFO!G25*0.2)*100, IF(COUNTRY_INFO!K25=3, AF25/COUNTRY_INFO!G25*100))),\"-\"),0)","v":100},62127.9,{"$f":"IF(AND(COUNTRY_INFO!K25>0,COUNTRY_INFO!K25<4), IF(AC25/Z25*100<>0, IF(AH25/Z25*100>100,100,AH25/Z25*100), \"-\"),0)","v":100},null,{"$f":"IF(AND(D25<>0, D25<>\"Inconnu\",D25<>\"Interrompu\",D25<>\"Non requis\"),D25/COUNTRY_INFO!D25, 0)","v":1},{"$f":"IF(AND(J25<>0,J25<>\"Inconnu\",J25<>\"Interrompu\",J25<>\"Non requis\"),J25/COUNTRY_INFO!D25, 0)","v":0},{"$f":"IF(AND(P25<>0,P25<>\"Inconnu\",P25<>\"Non requis\"),P25/(COUNTRY_INFO!E25+COUNTRY_INFO!F25), 0)","v":0},{"$f":"IF(AND(Z25<>0,Z25<>\"Inconnu\",Z25<>\"Non requis\"),IF(COUNTRY_INFO!K25=1,1,IF(COUNTRY_INFO!K25=2,0.5*COUNTRY_INFO!F25/(0.5*COUNTRY_INFO!F25+0.2*COUNTRY_INFO!G25),IF(COUNTRY_INFO!K25=3,COUNTRY_INFO!F25/(COUNTRY_INFO!F25+COUNTRY_INFO!G25)))),0)","v":0.60456735218798641},{"$f":"IF(AND(Z25<>0,Z25<>\"Inconnu\",Z25<>\"Non requis\"),IF(COUNTRY_INFO!K25=1,0,IF(COUNTRY_INFO!K25=2,0.2*COUNTRY_INFO!G25/(0.5*COUNTRY_INFO!F25+0.2*COUNTRY_INFO!G25),IF(COUNTRY_INFO!K25=3,COUNTRY_INFO!G25/(COUNTRY_INFO!F25+COUNTRY_INFO!G25)))),0)","v":0.39543264781201359},{"$f":"MAX(COUNTRY_INFO!D25*AK25*PROFILE!$G$7,COUNTRY_INFO!D25*AL25*PROFILE!$G$7)","v":9385.228694548794},{"$f":"MAX(COUNTRY_INFO!D25*AK25*PROFILE!$G$8,COUNTRY_INFO!D25*AL25*PROFILE!$G$8,COUNTRY_INFO!D25*AM25*PROFILE!$G$8)","v":34333.562233412376},{"$f":"MAX(COUNTRY_INFO!D25*AK25*PROFILE!$G$9,COUNTRY_INFO!D25*AL25*PROFILE!$G$9,COUNTRY_INFO!D25*AM25*PROFILE!$G$9,IF(AND(DISTRICT!Z25<>\"Inconnu\",Z25<>\"Non requis\"),COUNTRY_INFO!O25*DISTRICT!AN25,0))","v":70930.410070788479},{"$f":"MAX(COUNTRY_INFO!D25*AK25*PROFILE!$G$10,COUNTRY_INFO!D25*AL25*PROFILE!$G$10,IF(AND(DISTRICT!Z25<>\"Inconnu\",Z25<>\"Non requis\"),COUNTRY_INFO!O25*DISTRICT!AO25,0))","v":128790.79900125036},243440,"Y",{"$f":"MAX('MDA2'!J25,'T1'!L25,'T2'!J25,T3_R1!K25,T3_R2!K25)","v":0},{"$f":"MAX('MDA1'!K25,'MDA2'!K25,'MDA3'!I25,'MDA3'!L25,'T1'!M25,'T2'!K25,T3_R1!L25,T3_R2!L25)","v":77223},{"$f":"MAX('MDA1'!L25,'MDA2'!L25,'MDA3'!J25,'MDA3'!M25,'T1'!N25,'T2'!L25,T3_R1!M25,T3_R2!M25)","v":114412},191635,{"$f":"MAX('MDA2'!J25,T25)","v":0},{"$f":"MAX('MDA1'!K25,'MDA2'!K25,'MDA3'!I25,'MDA3'!L25,V25,AD25)","v":68267},{"$f":"MAX('MDA1'!L25,'MDA2'!L25,'MDA3'!J25,'MDA3'!M25,AF25)","v":114412},182679,75.04066710483076]
[{"$f":"IF(COUNTRY_INFO!A26=0,\" \",COUNTRY_INFO!A26)","v":"Burkina Faso"},{"$f":"IF(COUNTRY_INFO!B26=0,\" \",COUNTRY_INFO!B26)","v":"Centre-Est"},{"$f":"IF(COUNTRY_INFO!C26=0,\" \",COUNTRY_INFO!C26)","v":"Ouargaye"},{"$f":"COUNTRY_INFO!L26","v":362918},150447,136250,{"$f":"MAX('MDA1'!M26,'MDA2'!M26)","v":286697},{"$f":"IF(AND(COUNTRY_INFO!H26>0,COUNTRY_INFO!H26<4),IF(D26>MAX('MDA1'!M26,'MDA2'!M26),MAX('MDA1'!M26,'MDA2'!M26),D26),0)","v":286697},{"$f":"IF(AND(COUNTRY_INFO!H26>0,COUNTRY_INFO!H26<4), IF(G26/D26*100<>0, IF(G26/D26*100>100,100,G26/D26*100), \"-\"),0)","v":78.997735025542966},{"$f":"COUNTRY_INFO!M26","v":0},null,null,{"$f":"MAX('MDA1'!M26,MAX('MDA3'!I26,'MDA3'!L26)+MAX('MDA3'!J26,'MDA3'!M26))","v":286697},{"$f":"IF(AND(COUNTRY_INFO!I26>0,COUNTRY_INFO!I26<4),IF(J26>MAX('MDA1'!M26,MAX('MDA3'!I26,'MDA3'!L26)+MAX('MDA3'!J26,'MDA3'!M26)),MAX('MDA1'!M26,MAX('MDA3'!I26,'MDA3'!L26)+MAX('MDA3'!J26,'MDA3'!M26)),J26),0)","v":0},{"$f":"IF(AND(COUNTRY_INFO!I26>0,COUNTRY_INFO!I26<4), IF(M26/J26*100<>0, IF(M26/J26*100>100,100,M26/J26*100), \"-\"),0)","v":0},{"$f":"COUNTRY_INFO!N26","v":0},50917,56222,{"$f":"SUM(MAX('MDA2'!J26, 'T1'!L26, MAX(T3_R1!K26, T3_R2!K26)), MAX('MDA1'!K26, 'MDA2'!K26, 'T1'!M26, MAX(T3_R1!L26, T3_R2!L26)), MAX('MDA1'!L26, 'MDA2'!L26, 'T1'!N26, MAX(T3_R1!M26, T3_R2!M26)))","v":286697},{"$f":"IF(AND(COUNTRY_INFO!J26>1,COUNTRY_INFO!J26<4),IF(COUNTRY_INFO!E26>MAX('MDA2'!J26,'T1'!L26,MAX(T3_R1!K26,T3_R2!K26)),MAX('MDA2'!J26,'T1'!L26,MAX(T3_R1!K26,T3_R2!K26)),COUNTRY_INFO!E26),0)","v":0},{"$f":"IF(AND(COUNTRY_INFO!J26>1,COUNTRY_INFO!J26<4), IF(T26/COUNTRY_INFO!E26*100<>0, IF(T26/COUNTRY_INFO!E26*100>100,100,T26/COUNTRY_INFO!E26*100), \"-\"),0)","v":0},{"$f":"IF(AND(COUNTRY_INFO!J26>1,COUNTRY_INFO!J26<4),IF(COUNTRY_INFO!F26>MAX('MDA1'!K26,'MDA2'!K26,'T1'!M26,MAX(T3_R1!L26,T3_R2!L26)),MAX('MDA1'!K26,'MDA2'!K26,'T1'!M26,MAX(T3_R1!L26,T3_R2!L26)),COUNTRY_INFO!F26),0)","v":0},{"$f":"IF(AND(COUNTRY_INFO!J26>1,COUNTRY_INFO!J26<4), IF(V26/COUNTRY_INFO!F26*100<>0, IF(V26/COUNTRY_INFO!F26*100>100,100,V26/COUNTRY_INFO!F26*100), \"-\"),0)","v":0},0,{"$f":"IF(AND(COUNTRY_INFO!J26>1,COUNTRY_INFO!J26<4), IF(S26/P26*100<>0, IF(X26/P26*100>100,100,X26/P26*100), \"-\"),0)","v":0},{"$f":"COUNTRY_INFO!O26","v":91229.9},142123,146595,{"$f":"MAX('T1'!L26,'T2'!J26)+MAX('T1'!M26,'T2'!K26)+MAX('T1'!N26,'T2'!L26)","v":288718},{"$f":"IF(COUNTRY_INFO!K26=1,IF(COUNTRY_INFO!F26*0.33>MAX('T1'!M26,'T2'!K26),MAX('T1'!M26,'T2'!K26),COUNTRY_INFO!F26*0.33),IF(COUNTRY_INFO!K26=2,IF(COUNTRY_INFO!F26*0.5>MAX('T1'!M26,'T2'!K26),MAX('T1'!M26,'T2'!K26),COUNTRY_INFO!F26*0.5),IF(COUNTRY_INFO!K26=3,IF(COUNTRY_INFO!F26>MAX('T1'!M26,'T2'!K26),MAX('T1'!M26,'T2'!K26),COUNTRY_INFO!F26),0)))","v":54251.5},{"$f":"IF(AND(COUNTRY_INFO!K26>0,COUNTRY_INFO!K26<4),IF(Z26>0,IF(COUNTRY_INFO!K26=1, AD26/(COUNTRY_INFO!F26*0.33)*100, IF(COUNTRY_INFO!K26=2, AD26/(COUNTRY_INFO!F26*0.5)*100, IF(COUNTRY_INFO!K26=3, AD26/COUNTRY_INFO!F26*100))),\"-\"),0)","v":100},{"$f":"IF(COUNTRY_INFO!K26=2,IF(COUNTRY_INFO!G26*0.2>MAX('T1'!N26,'T2'!L26),MAX('T1'!N26,'T2'!L26),COUNTRY_INFO!G26*0.2),IF(COUNTRY_INFO!K26=3,IF(COUNTRY_INFO!G26>MAX('T1'!N26,'T2'!L26),MAX('T1'!N26,'T2'!L26),COUNTRY_INFO!G26),0))","v":36978.400000000001},{"$f":"IF(AND(COUNTRY_INFO!K26>0,COUNTRY_INFO!K26<4),IF(Z26>0,IF(COUNTRY_INFO!K26=1, 0, IF(COUNTRY_INFO!K26=2, AF26/(COUNTRY_INFO!G26*0.2)*100, IF(COUNTRY_INFO!K26=3, AF26/COUNTRY_INFO!G26*100))),\"-\"),0)","v":100},91229.9,{"$f":"IF(AND(COUNTRY_INFO!K26>0,COUNTRY_INFO!K26<4), IF(AC26/Z26*100<>0, IF(AH26/Z26*100>100,100,AH26/Z26*100), \"-\"),0)","v":100},null,{"$f":"IF(AND(D26<>0, D26<>\"Inconnu\",D26<>\"Interrompu\",D26<>\"Non requis\"),D26/COUNTRY_INFO!D26, 0)","v":1},{"$f":"IF(AND(J26<>0,J26<>\"Inconnu\",J26<>\"Interrompu\",J26<>\"Non requis\"),J26/COUNTRY_INFO!D26, 0)","v":0},{"$f":"IF(AND(P26<>0,P26<>\"Inconnu\",P26<>\"Non requis\"),P26/(COUNTRY_INFO!E26+COUNTRY_INFO!F26), 0)","v":0},{"$f":"IF(AND(Z26<>0,Z26<>\"Inconnu\",Z26<>\"Non requis\"),IF(COUNTRY_INFO!K26=1,1,IF(COUNTRY_INFO!K26=2,0.5*COUNTRY_INFO!F26/(0.5*COUNTRY_INFO!F26+0.2*COUNTRY_INFO!G26),IF(COUNTRY_INFO!K26=3,COUNTRY_INFO!F26/(COUNTRY_INFO!F26+COUNTRY_INFO!G26)))),0)","v":0.59466797617886247},{"$f":"IF(AND(Z26<>0,Z26<>\"Inconnu\",Z26<>\"Non requis\"),IF(COUNTRY_INFO!K26=1,0,IF(COUNTRY_INFO!K26=2,0.2*COUNTRY_INFO!G26/(0.5*COUNTRY_INFO!F26+0.2*COUNTRY_INFO!G26),IF(COUNTRY_INFO!K26=3,COUNTRY_INFO!G26/(COUNTRY_INFO!F26+COUNTRY_INFO!G26)))),0)","v":0.40533202382113764},{"$f":"MAX(COUNTRY_INFO!D26*AK26*PROFILE!$G$7,COUNTRY_INFO!D26*AL26*PROFILE!$G$7)","v":13991.408262275136},{"$f":"MAX(COUNTRY_INFO!D26*AK26*PROFILE!$G$8,COUNTRY_INFO!D26*AL26*PROFILE!$G$8,COUNTRY_INFO!D26*AM26*PROFILE!$G$8)","v":51184.14286323345},{"$f":"MAX(COUNTRY_INFO!D26*AK26*PROFILE!$G$9,COUNTRY_INFO!D26*AL26*PROFILE!$G$9,COUNTRY_INFO!D26*AM26*PROFILE!$G$9,IF(AND(DISTRICT!Z26<>\"Inconnu\",Z26<>\"Non requis\"),COUNTRY_INFO!O26*DISTRICT!AN26,0))","v":105742.3700380809},{"$f":"MAX(COUNTRY_INFO!D26*AK26*PROFILE!$G$10,COUNTRY_INFO!D26*AL26*PROFILE!$G$10,IF(AND(DISTRICT!Z26<>\"Inconnu\",Z26<>\"Non requis\"),COUNTRY_INFO!O26*DISTRICT!AO26,0))","v":192000.07883641051},362918,"Y",{"$f":"MAX('MDA2'!J26,'T1'!L26,'T2'!J26,T3_R1!K26,T3_R2!K26)","v":0},{"$f":"MAX('MDA1'!K26,'MDA2'!K26,'MDA3'!I26,'MDA3'!L26,'T1'!M26,'T2'!K26,T3_R1!L26,T3_R2!L26)","v":137748},{"$f":"MAX('MDA1'!L26,'MDA2'!L26,'MDA3'!J26,'MDA3'!M26,'T1'!N26,'T2'!L26,T3_R1!M26,T3_R2!M26)","v":179558},317306,{"$f":"MAX('MDA2'!J26,T26)","v":0},{"$f":"MAX('MDA1'!K26,'MDA2'!K26,'MDA3'!I26,'MDA3'!L26,V26,AD26)","v":107139},{"$f":"MAX('MDA1'!L26,'MDA2'!L26,'MDA3'!J26,'MDA3'!M26,AF26)","v":179558},286697,78.997735025542966]
[{"$f":"IF(COUNTRY_INFO!A27=0,\" \",COUNTRY_INFO!A27)","v":"Burkina Faso"},{"$f":"IF(COUNTRY_INFO!B27=0,\" \",COUNTRY_INFO!B27)","v":"Centre-Est"},{"$f":"IF(COUNTRY_INFO!C27=0,\" \",COUNTRY_INFO!C27)","v":"Pouytenga"},{"$f":"COUNTRY_INFO!L27","v":210027},0,0,{"$f":"MAX('MDA1'!M27,'MDA2'!M27)","v":0},{"$f":"IF(AND(COUNTRY_INFO!H27>0,COUNTRY_INFO!H27<4),IF(D27>MAX('MDA1'!M27,'MDA2'!M27),MAX('MDA1'!M27,'MDA2'!M27),D27),0)","v":0},{"$f":"IF(AND(COUNTRY_INFO!H27>0,COUNTRY_INFO!H27<4), IF(G27/D27*100<>0, IF(G27/D27*100>100,100,G27/D27*100), \"-\"),0)","v":"-"},{"$f":"COUNTRY_INFO!M27","v":0},null,null,{"$f":"MAX('MDA1'!M27,MAX('MDA3'!I27,'MDA3'!L27)+MAX('MDA3'!J27,'MDA3'!M27))","v":0},{"$f":"IF(AND(COUNTRY_INFO!I27>0,COUNTRY_INFO!I27<4),IF(J27>MAX('MDA1'!M27,MAX('MDA3'!I27,'MDA3'!L27)+MAX('MDA3'!J27,'MDA3'!M27)),MAX('MDA1'!M27,MAX('MDA3'!I27,'MDA3'!L27)+MAX('MDA3'!J27,'MDA3'!M27)),J27),0)","v":0},{"$f":"IF(AND(COUNTRY_INFO!I27>0,COUNTRY_INFO!I27<4), IF(M27/J27*100<>0, IF(M27/J27*100>100,100,M27/J27*100), \"-\"),0)","v":0},{"$f":"COUNTRY_INFO!N27","v":0},0,0,{"$f":"SUM(MAX('MDA2'!J27, 'T1'!L27, MAX(T3_R1!K27, T3_R2!K27)), MAX('MDA1'!K27, 'MDA2'!K27, 'T1'!M27, MAX(T3_R1!L27, T3_R2!L27)), MAX('MDA1'!L27, 'MDA2'!L27, 'T1'!N27, MAX(T3_R1!M27, T3_R2!M27)))","v":0},{"$f":"IF(AND(COUNTRY_INFO!J27>1,COUNTRY_INFO!J27<4),IF(COUNTRY_INFO!E27>MAX('MDA2'!J27,'T1'!L27,MAX(T3_R1!K27,T3_R2!K27)),MAX('MDA2'!J27,'T1'!L27,MAX(T3_R1!K27,T3_R2!K27)),COUNTRY_INFO!E27),0)","v":0},{"$f":"IF(AND(COUNTRY_INFO!J27>1,COUNTRY_INFO!J27<4), IF(T27/COUNTRY_INFO!E27*100<>0, IF(T27/COUNTRY_INFO!E27*100>100,100,T27/COUNTRY_INFO!E27*100), \"-\"),0)","v":0},{"$f":"IF(AND(COUNTRY_INFO!J27>1,COUNTRY_INFO!J27<4),IF(COUNTRY_INFO!F27>MAX('MDA1'!K27,'MDA2'!K27,'T1'!M27,MAX(T3_R1!L27,T3_R2!L27)),MAX('MDA1'!K27,'MDA2'!K27,'T1'!M27,MAX(T3_R1!L27,T3_R2!L27)),COUNTRY_INFO!F27),0)","v":0},{"$f":"IF(AND(COUNTRY_INFO!J27>1,COUNTRY_INFO!J27<4), IF(V27/COUNTRY_INFO!F27*100<>0, IF(V27/COUNTRY_INFO!F27*100>100,100,V27/COUNTRY_INFO!F27*100), \"-\"),0)","v":0},0,{"$f":"IF(AND(COUNTRY_INFO!J27>1,COUNTRY_INFO!J27<4), IF(S27/P27*100<>0, IF(X27/P27*100>100,100,X27/P27*100), \"-\"),0)","v":0},{"$f":"COUNTRY_INFO!O27","v":51863.4},78368,82245,{"$f":"MAX('T1'!L27,'T2'!J27)+MAX('T1'!M27,'T2'!K27)+MAX('T1'!N27,'T2'!L27)","v":160613},{"$f":"IF(COUNTRY_INFO!K27=1,IF(COUNTRY_INFO!F27*0.33>MAX('T1'!M27,'T2'!K27),MAX('T1'!M27,'T2'!K27),COUNTRY_INFO!F27*0.33),IF(COUNTRY_INFO!K27=2,IF(COUNTRY_INFO!F27*0.5>MAX('T1'!M27,'T2'!K27),MAX('T1'!M27,'T2'!K27),COUNTRY_INFO!F27*0.5),IF(COUNTRY_INFO!K27=3,IF(COUNTRY_INFO!F27>MAX('T1'!M27,'T2'!K27),MAX('T1'!M27,'T2'!K27),COUNTRY_INFO!F27),0)))","v":30226},{"$f":"IF(AND(COUNTRY_INFO!K27>0,COUNTRY_INFO!K27<4),IF(Z27>0,IF(COUNTRY_INFO!K27=1, AD27/(COUNTRY_INFO!F27*0.33)*100, IF(COUNTRY_INFO!K27=2, AD27/(COUNTRY_INFO!F27*0.5)*100, IF(COUNTRY_INFO!K27=3, AD27/COUNTRY_INFO!F27*100))),\"-\"),0)","v":100},{"$f":"IF(COUNTRY_INFO!K27=2,IF(COUNTRY_INFO!G27*0.2>MAX('T1'!N27,'T2'!L27),MAX('T1'!N27,'T2'!L27),COUNTRY_INFO!G27*0.2),IF(COUNTRY_INFO!K27=3,IF(COUNTRY_INFO!G27>MAX('T1'!N27,'T2'!L27),MAX('T1'!N27,'T2'!L27),COUNTRY_INFO!G27),0))","v":21637.4},{"$f":"IF(AND(COUNTRY_INFO!K27>0,COUNTRY_INFO!K27<4),IF(Z27>0,IF(COUNTRY_INFO!K27=1, 0, IF(COUNTRY_INFO!K27=2, AF27/(COUNTRY_INFO!G27*0.2)*100, IF(COUNTRY_INFO!K27=3, AF27/COUNTRY_INFO!G27*100))),\"-\"),0)","v":100},51863.4,{"$f":"IF(AND(COUNTRY_INFO!K27>0,COUNTRY_INFO!K27<4), IF(AC27/Z27*100<>0, IF(AH27/Z27*100>100,100,AH27/Z27*100), \"-\"),0)","v":100},null,{"$f":"IF(AND(D27<>0, D27<>\"Inconnu\",D27<>\"Interrompu\",D27<>\"Non requis\"),D27/COUNTRY_INFO!D27, 0)","v":1},{"$f":"IF(AND(J27<>0,J27<>\"Inconnu\",J27<>\"Interrompu\",J27<>\"Non requis\"),J27/COUNTRY_INFO!D27, 0)","v":0},{"$f":"IF(AND(P27<>0,P27<>\"Inconnu\",P27<>\"Non requis\"),P27/(COUNTRY_INFO!E27+COUNTRY_INFO!F27), 0)","v":0},{"$f":"IF(AND(Z27<>0,Z27<>\"Inconnu\",Z27<>\"Non requis\"),IF(COUNTRY_INFO!K27=1,1,IF(COUNTRY_INFO!K27=2,0.5*COUNTRY_INFO!F27/(0.5*COUNTRY_INFO!F27+0.2*COUNTRY_INFO!G27),IF(COUNTRY_INFO!K27=3,COUNTRY_INFO!F27/(COUNTRY_INFO!F27+COUNTRY_INFO!G27)))),0)","v":0.58280020206928196},{"$f":"IF(AND(Z27<>0,Z27<>\"Inconnu\",Z27<>\"Non requis\"),IF(COUNTRY_INFO!K27=1,0,IF(COUNTRY_INFO!K27=2,0.2*COUNTRY_INFO!G27/(0.5*COUNTRY_INFO!F27+0.2*COUNTRY_INFO!G27),IF(COUNTRY_INFO!K27=3,COUNTRY_INFO!G27/(COUNTRY_INFO!F27+COUNTRY_INFO!G27)))),0)","v":0.41719979793071804},{"$f":"MAX(COUNTRY_INFO!D27*AK27*PROFILE!$G$7,COUNTRY_INFO!D27*AL27*PROFILE!$G$7)","v":8097.0729010433761},{"$f":"MAX(COUNTRY_INFO!D27*AK27*PROFILE!$G$8,COUNTRY_INFO!D27*AL27*PROFILE!$G$8,COUNTRY_INFO!D27*AM27*PROFILE!$G$8)","v":29621.159526770047},{"$f":"MAX(COUNTRY_INFO!D27*AK27*PROFILE!$G$9,COUNTRY_INFO!D27*AL27*PROFILE!$G$9,COUNTRY_INFO!D27*AM27*PROFILE!$G$9,IF(AND(DISTRICT!Z27<>\"Inconnu\",Z27<>\"Non requis\"),COUNTRY_INFO!O27*DISTRICT!AN27,0))","v":61194.960712855296},{"$f":"MAX(COUNTRY_INFO!D27*AK27*PROFILE!$G$10,COUNTRY_INFO!D27*AL27*PROFILE!$G$10,IF(AND(DISTRICT!Z27<>\"Inconnu\",Z27<>\"Non requis\"),COUNTRY_INFO!O27*DISTRICT!AO27,0))","v":111113.80685933129},210027,0,{"$f":"MAX('MDA2'!J27,'T1'!L27,'T2'!J27,T3_R1!K27,T3_R2!K27)","v":0},{"$f":"MAX('MDA1'!K27,'MDA2'!K27,'MDA3'!I27,'MDA3'!L27,'T1'!M27,'T2'!K27,T3_R1!L27,T3_R2!L27)","v":69108},{"$f":"MAX('MDA1'!L27,'MDA2'!L27,'MDA3'!J27,'MDA3'!M27,'T1'!N27,'T2'!L27,T3_R1!M27,T3_R2!M27)","v":91505},160613,{"$f":"MAX('MDA2'!J27,T27)","v":0},{"$f":"MAX('MDA1'!K27,'MDA2'!K27,'MDA3'!I27,'MDA3'!L27,V27,AD27)","v":30226},{"$f":"MAX('MDA1'!L27,'MDA2'!L27,'MDA3'!J27,'MDA3'!M27,AF27)","v":21637.4},51863.4,24.693682240854748]
[{"$f":"IF(COUNTRY_INFO!A28=0,\" \",COUNTRY_INFO!A28)","v":"Burkina Faso"},{"$f":"IF(COUNTRY_INFO!B28=0,\" \",COUNTRY_INFO!B28)","v":"Centre-Est"},{"$f":"IF(COUNTRY_INFO!C28=0,\" \",COUNTRY_INFO!C28)","v":"Tenkodogo"},{"$f":"COUNTRY_INFO!L28","v":239993},106644,92164,{"$f":"MAX('MDA1'!M28,'MDA2'!M28)","v":198808},{"$f":"IF(AND(COUNTRY_INFO!H28>0,COUNTRY_INFO!H28<4),IF(D28>MAX('MDA1'!M28,'MDA2'!M28),MAX('MDA1'!M28,'MDA2'!M28),D28),0)","v":198808},{"$f":"IF(AND(COUNTRY_INFO!H28>0,COUNTRY_INFO!H28<4), IF(G28/D28*100<>0, IF(G28/D28*100>100,100,G28/D28*100), \"-\"),0)","v":82.839082806581857},{"$f":"COUNTRY_INFO!M28","v":0},null,null,{"$f":"MAX('MDA1'!M28,MAX('MDA3'!I28,'MDA3'!L28)+MAX('MDA3'!J28,'MDA3'!M28))","v":198808},{"$f":"IF(AND(COUNTRY_INFO!I28>0,COUNTRY_INFO!I28<4),IF(J28>MAX('MDA1'!M28,MAX('MDA3'!I28,'MDA3'!L28)+MAX('MDA3'!J28,'MDA3'!M28)),MAX('MDA1'!M28,MAX('MDA3'!I28,'MDA3'!L28)+MAX('MDA3'!J28,'MDA3'!M28)),J28),0)","v":0},{"$f":"IF(AND(COUNTRY_INFO!I28>0,COUNTRY_INFO!I28<4), IF(M28/J28*100<>0, IF(M28/J28*100>100,100,M28/J28*100), \"-\"),0)","v":0},{"$f":"COUNTRY_INFO!N28","v":0},34442,39853,{"$f":"SUM(MAX('MDA2'!J28, 'T1'!L28, MAX(T3_R1!K28, T3_R2!K28)), MAX('MDA1'!K28, 'MDA2'!K28, 'T1'!M28, MAX(T3_R1!L28, T3_R2!L28)), MAX('MDA1'!L28, 'MDA2'!L28, 'T1'!N28, MAX(T3_R1!M28, T3_R2!M28)))","v":198808},{"$f":"IF(AND(COUNTRY_INFO!J28>1,COUNTRY_INFO!J28<4),IF(COUNTRY_INFO!E28>MAX('MDA2'!J28,'T1'!L28,MAX(T3_R1!K28,T3_R2!K28)),MAX('MDA2'!J28,'T1'!L28,MAX(T3_R1!K28,T3_R2!K28)),COUNTRY_INFO!E28),0)","v":0},{"$f":"IF(AND(COUNTRY_INFO!J28>1,COUNTRY_INFO!J28<4), IF(T28/COUNTRY_INFO!E28*100<>0, IF(T28/COUNTRY_INFO!E28*100>100,100,T28/COUNTRY_INFO!E28*100), \"-\"),0)","v":0},{"$f":"IF(AND(COUNTRY_INFO!J28>1,COUNTRY_INFO!J28<4),IF(COUNTRY_INFO!F28>MAX('MDA1'!K28,'MDA2'!K28,'T1'!M28,MAX(T3_R1!L28,T3_R2!L28)),MAX('MDA1'!K28,'MDA2'!K28,'T1'!M28,MAX(T3_R1!L28,T3_R2!L28)),COUNTRY_INFO!F28),0)","v":0},{"$f":"IF(AND(COUNTRY_INFO!J28>1,COUNTRY_INFO!J28<4), IF(V28/COUNTRY_INFO!F28*100<>0, IF(V28/COUNTRY_INFO!F28*100>100,100,V28/COUNTRY_INFO!F28*100), \"-\"),0)","v":0},0,{"$f":"IF(AND(COUNTRY_INFO!J28>1,COUNTRY_INFO!J28<4), IF(S28/P28*100<>0, IF(X28/P28*100>100,100,X28/P28*100), \"-\"),0)","v":0},{"$f":"COUNTRY_INFO!O28","v":59945.4},86694,95999,{"$f":"MAX('T1'!L28,'T2'!J28)+MAX('T1'!M28,'T2'!K28)+MAX('T1'!N28,'T2'!L28)","v":196465},{"$f":"IF(COUNTRY_INFO!K28=1,IF(COUNTRY_INFO!F28*0.33>MAX('T1'!M28,'T2'!K28),MAX('T1'!M28,'T2'!K28),COUNTRY_INFO!F28*0.33),IF(COUNTRY_INFO!K28=2,IF(COUNTRY_INFO!F28*0.5>MAX('T1'!M28,'T2'!K28),MAX('T1'!M28,'T2'!K28),COUNTRY_INFO!F28*0.5),IF(COUNTRY_INFO!K28=3,IF(COUNTRY_INFO!F28>MAX('T1'!M28,'T2'!K28),MAX('T1'!M28,'T2'!K28),COUNTRY_INFO!F28),0)))","v":35036},{"$f":"IF(AND(COUNTRY_INFO!K28>0,COUNTRY_INFO!K28<4),IF(Z28>0,IF(COUNTRY_INFO!K28=1, AD28/(COUNTRY_INFO!F28*0.33)*100, IF(COUNTRY_INFO!K28=2, AD28/(COUNTRY_INFO!F28*0.5)*100, IF(COUNTRY_INFO!K28=3, AD28/COUNTRY_INFO!F28*100))),\"-\"),0)","v":100},{"$f":"IF(COUNTRY_INFO!K28=2,IF(COUNTRY_INFO!G28*0.2>MAX('T1'!N28,'T2'!L28),MAX('T1'!N28,'T2'!L28),COUNTRY_INFO!G28*0.2),IF(COUNTRY_INFO!K28=3,IF(COUNTRY_INFO!G28>MAX('T1'!N28,'T2'!L28),MAX('T1'!N28,'T2'!L28),COUNTRY_INFO!G28),0))","v":24909.4},{"$f":"IF(AND(COUNTRY_INFO!K28>0,COUNTRY_INFO!K28<4),IF(Z28>0,IF(COUNTRY_INFO!K28=1, 0, IF(COUNTRY_INFO!K28=2, AF28/(COUNTRY_INFO!G28*0.2)*100, IF(COUNTRY_INFO!K28=3, AF28/COUNTRY_INFO!G28*100))),\"-\"),0)","v":100},59945.4,{"$f":"IF(AND(COUNTRY_INFO!K28>0,COUNTRY_INFO!K28<4), IF(AC28/Z28*100<>0, IF(AH28/Z28*100>100,100,AH28/Z28*100), \"-\"),0)","v":100},null,{"$f":"IF(AND(D28<>0, D28<>\"Inconnu\",D28<>\"Interrompu\",D28<>\"Non requis\"),D28/COUNTRY_INFO!D28, 0)","v":1},{"$f":"IF(AND(J28<>0,J28<>\"Inconnu\",J28<>\"Interrompu\",J28<>\"Non requis\"),J28/COUNTRY_INFO!D28, 0)","v":0},{"$f":"IF(AND(P28<>0,P28<>\"Inconnu\",P28<>\"Non requis\"),P28/(COUNTRY_INFO!E28+COUNTRY_INFO!F28), 0)","v":0},{"$f":"IF(AND(Z28<>0,Z28<>\"Inconnu\",Z28<>\"Non requis\"),IF(COUNTRY_INFO!K28=1,1,IF(COUNTRY_INFO!K28=2,0.5*COUNTRY_INFO!F28/(0.5*COUNTRY_INFO!F28+0.2*COUNTRY_INFO!G28),IF(COUNTRY_INFO!K28=3,COUNTRY_INFO!F28/(COUNTRY_INFO!F28+COUNTRY_INFO!G28)))),0)","v":0.58446519666229602},{"$f":"IF(AND(Z28<>0,Z28<>\"Inconnu\",Z28<>\"Non requis\"),IF(COUNTRY_INFO!K28=1,0,IF(COUNTRY_INFO!K28=2,0.2*COUNTRY_INFO!G28/(0.5*COUNTRY_INFO!F28+0.2*COUNTRY_INFO!G28),IF(COUNTRY_INFO!K28=3,COUNTRY_INFO!G28/(COUNTRY_INFO!F28+COUNTRY_INFO!G28)))),0)","v":0.41553480333770398},{"$f":"MAX(COUNTRY_INFO!D28*AK28*PROFILE!$G$7,COUNTRY_INFO!D28*AL28*PROFILE!$G$7)","v":9252.3381124336538},{"$f":"MAX(COUNTRY_INFO!D28*AK28*PROFILE!$G$8,COUNTRY_INFO!D28*AL28*PROFILE!$G$8,COUNTRY_INFO!D28*AM28*PROFILE!$G$8)","v":33847.414562452082},{"$f":"MAX(COUNTRY_INFO!D28*AK28*PROFILE!$G$9,COUNTRY_INFO!D28*AL28*PROFILE!$G$9,COUNTRY_INFO!D28*AM28*PROFILE!$G$9,IF(AND(DISTRICT!Z28<>\"Inconnu\",Z28<>\"Non requis\"),COUNTRY_INFO!O28*DISTRICT!AN28,0))","v":69926.067631115424},{"$f":"MAX(COUNTRY_INFO!D28*AK28*PROFILE!$G$10,COUNTRY_INFO!D28*AL28*PROFILE!$G$10,IF(AND(DISTRICT!Z28<>\"Inconnu\",Z28<>\"Non requis\"),COUNTRY_INFO!O28*DISTRICT!AO28,0))","v":126967.17969399884},239993,"Y",{"$f":"MAX('MDA2'!J28,'T1'!L28,'T2'!J28,T3_R1!K28,T3_R2!K28)","v":0},{"$f":"MAX('MDA1'!K28,'MDA2'!K28,'MDA3'!I28,'MDA3'!L28,'T1'!M28,'T2'!K28,T3_R1!L28,T3_R2!L28)","v":90121},{"$f":"MAX('MDA1'!L28,'MDA2'!L28,'MDA3'!J28,'MDA3'!M28,'T1'!N28,'T2'!L28,T3_R1!M28,T3_R2!M28)","v":124513},214634,{"$f":"MAX('MDA2'!J28,T28)","v":0},{"$f":"MAX('MDA1'!K28,'MDA2'!K28,'MDA3'!I28,'MDA3'!L28,V28,AD28)","v":74295},{"$f":"MAX('MDA1'!L28,'MDA2'!L28,'MDA3'!J28,'MDA3'!M28,AF28)","v":124513},198808,82.839082806581857]
[{"$f":"IF(COUNTRY_INFO!A29=0,\" \",COUNTRY_INFO!A29)","v":"Burkina Faso"},{"$f":"IF(COUNTRY_INFO!B29=0,\" \",COUNTRY_INFO!B29)","v":"Centre-Est"},{"$f":"IF(COUNTRY_INFO!C29=0,\" \",COUNTRY_INFO!C29)","v":"Zabré"},{"$f":"COUNTRY_INFO!L29","v":"Interrompu"},null,null,{"$f":"MAX('MDA1'!M29,'MDA2'!M29)","v":0},{"$f":"IF(AND(COUNTRY_INFO!H29>0,COUNTRY_INFO!H29<4),IF(D29>MAX('MDA1'!M29,'MDA2'!M29),MAX('MDA1'!M29,'MDA2'!M29),D29),0)","v":0},{"$f":"IF(AND(COUNTRY_INFO!H29>0,COUNTRY_INFO!H29<4), IF(G29/D29*100<>0, IF(G29/D29*100>100,100,G29/D29*100), \"-\"),0)","v":0},{"$f":"COUNTRY_INFO!M29","v":0},null,null,{"$f":"MAX('MDA1'!M29,MAX('MDA3'!I29,'MDA3'!L29)+MAX('MDA3'!J29,'MDA3'!M29))","v":0},{"$f":"IF(AND(COUNTRY_INFO!I29>0,COUNTRY_INFO!I29<4),IF(J29>MAX('MDA1'!M29,MAX('MDA3'!I29,'MDA3'!L29)+MAX('MDA3'!J29,'MDA3'!M29)),MAX('MDA1'!M29,MAX('MDA3'!I29,'MDA3'!L29)+MAX('MDA3'!J29,'MDA3'!M29)),J29),0)","v":0},{"$f":"IF(AND(COUNTRY_INFO!I29>0,COUNTRY_INFO!I29<4), IF(M29/J29*100<>0, IF(M29/J29*100>100,100,M29/J29*100), \"-\"),0)","v":0},{"$f":"COUNTRY_INFO!N29","v":0},null,null,{"$f":"SUM(MAX('MDA2'!J29, 'T1'!L29, MAX(T3_R1!K29, T3_R2!K29)), MAX('MDA1'!K29, 'MDA2'!K29, 'T1'!M29, MAX(T3_R1!L29, T3_R2!L29)), MAX('MDA1'!L29, 'MDA2'!L29, 'T1'!N29, MAX(T3_R1!M29, T3_R2!M29)))","v":0},{"$f":"IF(AND(COUNTRY_INFO!J29>1,COUNTRY_INFO!J29<4),IF(COUNTRY_INFO!E29>MAX('MDA2'!J29,'T1'!L29,MAX(T3_R1!K29,T3_R2!K29)),MAX('MDA2'!J29,'T1'!L29,MAX(T3_R1!K29,T3_R2!K29)),COUNTRY_INFO!E29),0)","v":0},{"$f":"IF(AND(COUNTRY_INFO!J29>1,COUNTRY_INFO!J29<4), IF(T29/COUNTRY_INFO!E29*100<>0, IF(T29/COUNTRY_INFO!E29*100>100,100,T29/COUNTRY_INFO!E29*100), \"-\"),0)","v":0},{"$f":"IF(AND(COUNTRY_INFO!J29>1,COUNTRY_INFO!J29<4),IF(COUNTRY_INFO!F29>MAX('MDA1'!K29,'MDA2'!K29,'T1'!M29,MAX(T3_R1!L29,T3_R2!L29)),MAX('MDA1'!K29,'MDA2'!K29,'T1'!M29,MAX(T3_R1!L29,T3_R2!L29)),COUNTRY_INFO!F29),0)","v":0},{"$f":"IF(AND(COUNTRY_INFO!J29>1,COUNTRY_INFO!J29<4), IF(V29/COUNTRY_INFO!F29*100<>0, IF(V29/COUNTRY_INFO!F29*100>100,100,V29/COUNTRY_INFO!F29*100), \"-\"),0)","v":0},0,{"$f":"IF(AND(COUNTRY_INFO!J29>1,COUNTRY_INFO!J29<4), IF(S29/P29*100<>0, IF(X29/P29*100>100,100,X29/P29*100), \"-\"),0)","v":0},{"$f":"COUNTRY_INFO!O29","v":39789.800000000003},54661,65949,{"$f":"MAX('T1'!L29,'T2'!J29)+MAX('T1'!M29,'T2'!K29)+MAX('T1'!N29,'T2'!L29)","v":125032},{"$f":"IF(COUNTRY_INFO!K29=1,IF(COUNTRY_INFO!F29*0.33>MAX('T1'!M29,'T2'!K29),MAX('T1'!M29,'T2'!K29),COUNTRY_INFO!F29*0.33),IF(COUNTRY_INFO!K29=2,IF(COUNTRY_INFO!F29*0.5>MAX('T1'!M29,'T2'!K29),MAX('T1'!M29,'T2'!K29),COUNTRY_INFO!F29*0.5),IF(COUNTRY_INFO!K29=3,IF(COUNTRY_INFO!F29>MAX('T1'!M29,'T2'!K29),MAX('T1'!M29,'T2'!K29),COUNTRY_INFO!F29),0)))","v":24713},{"$f":"IF(AND(COUNTRY_INFO!K29>0,COUNTRY_INFO!K29<4),IF(Z29>0,IF(COUNTRY_INFO!K29=1, AD29/(COUNTRY_INFO!F29*0.33)*100, IF(COUNTRY_INFO!K29=2, AD29/(COUNTRY_INFO!F29*0.5)*100, IF(COUNTRY_INFO!K29=3, AD29/COUNTRY_INFO!F29*100))),\"-\"),0)","v":100},{"$f":"IF(COUNTRY_INFO!K29=2,IF(COUNTRY_INFO!G29*0.2>MAX('T1'!N29,'T2'!L29),MAX('T1'!N29,'T2'!L29),COUNTRY_INFO!G29*0.2),IF(COUNTRY_INFO!K29=3,IF(COUNTRY_INFO!G29>MAX('T1'!N29,'T2'!L29),MAX('T1'!N29,'T2'!L29),COUNTRY_INFO!G29),0))","v":15076.800000000001},{"$f":"IF(AND(COUNTRY_INFO!K29>0,COUNTRY_INFO!K29<4),IF(Z29>0,IF(COUNTRY_INFO!K29=1, 0, IF(COUNTRY_INFO!K29=2, AF29/(COUNTRY_INFO!G29*0.2)*100, IF(COUNTRY_INFO!K29=3, AF29/COUNTRY_INFO!G29*100))),\"-\"),0)","v":100},39789.800000000003,{"$f":"IF(AND(COUNTRY_INFO!K29>0,COUNTRY_INFO!K29<4), IF(AC29/Z29*100<>0, IF(AH29/Z29*100>100,100,AH29/Z29*100), \"-\"),0)","v":100},null,{"$f":"IF(AND(D29<>0, D29<>\"Inconnu\",D29<>\"Interrompu\",D29<>\"Non requis\"),D29/COUNTRY_INFO!D29, 0)","v":0},{"$f":"IF(AND(J29<>0,J29<>\"Inconnu\",J29<>\"Interrompu\",J29<>\"Non requis\"),J29/COUNTRY_INFO!D29, 0)","v":0},{"$f":"IF(AND(P29<>0,P29<>\"Inconnu\",P29<>\"Non requis\"),P29/(COUNTRY_INFO!E29+COUNTRY_INFO!F29), 0)","v":0},{"$f":"IF(AND(Z29<>0,Z29<>\"Inconnu\",Z29<>\"Non requis\"),IF(COUNTRY_INFO!K29=1,1,IF(COUNTRY_INFO!K29=2,0.5*COUNTRY_INFO!F29/(0.5*COUNTRY_INFO!F29+0.2*COUNTRY_INFO!G29),IF(COUNTRY_INFO!K29=3,COUNTRY_INFO!F29/(COUNTRY_INFO!F29+COUNTRY_INFO!G29)))),0)","v":0.62108882175834002},{"$f":"IF(AND(Z29<>0,Z29<>\"Inconnu\",Z29<>\"Non requis\"),IF(COUNTRY_INFO!K29=1,0,IF(COUNTRY_INFO!K29=2,0.2*COUNTRY_INFO!G29/(0.5*COUNTRY_INFO!F29+0.2*COUNTRY_INFO!G29),IF(COUNTRY_INFO!K29=3,COUNTRY_INFO!G29/(COUNTRY_INFO!F29+COUNTRY_INFO!G29)))),0)","v":0.37891117824165993},{"$f":"MAX(COUNTRY_INFO!D29*AK29*PROFILE!$G$7,COUNTRY_INFO!D29*AL29*PROFILE!$G$7)","v":0},{"$f":"MAX(COUNTRY_INFO!D29*AK29*PROFILE!$G$8,COUNTRY_INFO!D29*AL29*PROFILE!$G$8,COUNTRY_INFO!D29*AM29*PROFILE!$G$8)","v":0},{"$f":"MAX(COUNTRY_INFO!D29*AK29*PROFILE!$G$9,COUNTRY_INFO!D29*AL29*PROFILE!$G$9,COUNTRY_INFO!D29*AM29*PROFILE!$G$9,IF(AND(DISTRICT!Z29<>\"Inconnu\",Z29<>\"Non requis\"),COUNTRY_INFO!O29*DISTRICT!AN29,0))","v":24713},{"$f":"MAX(COUNTRY_INFO!D29*AK29*PROFILE!$G$10,COUNTRY_INFO!D29*AL29*PROFILE!$G$10,IF(AND(DISTRICT!Z29<>\"Inconnu\",Z29<>\"Non requis\"),COUNTRY_INFO!O29*DISTRICT!AO29,0))","v":15076.800000000001},39789.800000000003,"Y",{"$f":"MAX('MDA2'!J29,'T1'!L29,'T2'!J29,T3_R1!K29,T3_R2!K29)","v":0},{"$f":"MAX('MDA1'!K29,'MDA2'!K29,'MDA3'!I29,'MDA3'!L29,'T1'!M29,'T2'!K29,T3_R1!L29,T3_R2!L29)","v":60992},{"$f":"MAX('MDA1'!L29,'MDA2'!L29,'MDA3'!J29,'MDA3'!M29,'T1'!N29,'T2'!L29,T3_R1!M29,T3_R2!M29)","v":64040},125032,{"$f":"MAX('MDA2'!J29,T29)","v":0},{"$f":"MAX('MDA1'!K29,'MDA2'!K29,'MDA3'!I29,'MDA3'!L29,V29,AD29)","v":24713},{"$f":"MAX('MDA1'!L29,'MDA2'!L29,'MDA3'!J29,'MDA3'!M29,AF29)","v":15076.800000000001},39789.800000000003,100]
[{"$f":"IF(COUNTRY_INFO!A30=0,\" \",COUNTRY_INFO!A30)","v":"Burkina Faso"},{"$f":"IF(COUNTRY_INFO!B30=0,\" \",COUNTRY_INFO!B30)","v":"Centre-Nord"},{"$f":"IF(COUNTRY_INFO!C30=0,\" \",COUNTRY_INFO!C30)","v":"Barsalogo"},{"$f":"COUNTRY_INFO!L30","v":"Interrompu"},null,null,{"$f":"MAX('MDA1'!M30,'MDA2'!M30)","v":0},{"$f":"IF(AND(COUNTRY_INFO!H30>0,COUNTRY_INFO!H30<4),IF(D30>MAX('MDA1'!M30,'MDA2'!M30),MAX('MDA1'!M30,'MDA2'!M30),D30),0)","v":0},{"$f":"IF(AND(COUNTRY_INFO!H30>0,COUNTRY_INFO!H30<4), IF(G30/D30*100<>0, IF(G30/D30*100>100,100,G30/D30*100), \"-\"),0)","v":0},{"$f":"COUNTRY_INFO!M30","v":0},null,null,{"$f":"MAX('MDA1'!M30,MAX('MDA3'!I30,'MDA3'!L30)+MAX('MDA3'!J30,'MDA3'!M30))","v":0},{"$f":"IF(AND(COUNTRY_INFO!I30>0,COUNTRY_INFO!I30<4),IF(J30>MAX('MDA1'!M30,MAX('MDA3'!I30,'MDA3'!L30)+MAX('MDA3'!J30,'MDA3'!M30)),MAX('MDA1'!M30,MAX('MDA3'!I30,'MDA3'!L30)+MAX('MDA3'!J30,'MDA3'!M30)),J30),0)","v":0},{"$f":"IF(AND(COUNTRY_INFO!I30>0,COUNTRY_INFO!I30<4), IF(M30/J30*100<>0, IF(M30/J30*100>100,100,M30/J30*100), \"-\"),0)","v":0},{"$f":"COUNTRY_INFO!N30","v":0},null,null,{"$f":"SUM(MAX('MDA2'!J30, 'T1'!L30, MAX(T3_R1!K30, T3_R2!K30)), MAX('MDA1'!K30, 'MDA2'!K30, 'T1'!M30, MAX(T3_R1!L30, T3_R2!L30)), MAX('MDA1'!L30, 'MDA2'!L30, 'T1'!N30, MAX(T3_R1!M30, T3_R2!M30)))","v":0},{"$f":"IF(AND(COUNTRY_INFO!J30>1,COUNTRY_INFO!J30<4),IF(COUNTRY_INFO!E30>MAX('MDA2'!J30,'T1'!L30,MAX(T3_R1!K30,T3_R2!K30)),MAX('MDA2'!J30,'T1'!L30,MAX(T3_R1!K30,T3_R2!K30)),COUNTRY_INFO!E30),0)","v":0},{"$f":"IF(AND(COUNTRY_INFO!J30>1,COUNTRY_INFO!J30<4), IF(T30/COUNTRY_INFO!E30*100<>0, IF(T30/COUNTRY_INFO!E30*100>100,100,T30/COUNTRY_INFO!E30*100), \"-\"),0)","v":0},{"$f":"IF(AND(COUNTRY_INFO!J30>1,COUNTRY_INFO!J30<4),IF(COUNTRY_INFO!F30>MAX('MDA1'!K30,'MDA2'!K30,'T1'!M30,MAX(T3_R1!L30,T3_R2!L30)),MAX('MDA1'!K30,'MDA2'!K30,'T1'!M30,MAX(T3_R1!L30,T3_R2!L30)),COUNTRY_INFO!F30),0)","v":0},{"$f":"IF(AND(COUNTRY_INFO!J30>1,COUNTRY_INFO!J30<4), IF(V30/COUNTRY_INFO!F30*100<>0, IF(V30/COUNTRY_INFO!F30*100>100,100,V30/COUNTRY_INFO!F30*100), \"-\"),0)","v":0},0,{"$f":"IF(AND(COUNTRY_INFO!J30>1,COUNTRY_INFO!J30<4), IF(S30/P30*100<>0, IF(X30/P30*100>100,100,X30/P30*100), \"-\"),0)","v":0},{"$f":"COUNTRY_INFO!O30","v":49663.3},null,null,{"$f":"MAX('T1'!L30,'T2'!J30)+MAX('T1'!M30,'T2'!K30)+MAX('T1'!N30,'T2'!L30)","v":0},{"$f":"IF(COUNTRY_INFO!K30=1,IF(COUNTRY_INFO!F30*0.33>MAX('T1'!M30,'T2'!K30),MAX('T1'!M30,'T2'!K30),COUNTRY_INFO!F30*0.33),IF(COUNTRY_INFO!K30=2,IF(COUNTRY_INFO!F30*0.5>MAX('T1'!M30,'T2'!K30),MAX('T1'!M30,'T2'!K30),COUNTRY_INFO!F30*0.5),IF(COUNTRY_INFO!K30=3,IF(COUNTRY_INFO!F30>MAX('T1'!M30,'T2'!K30),MAX('T1'!M30,'T2'!K30),COUNTRY_INFO!F30),0)))","v":0},{"$f":"IF(AND(COUNTRY_INFO!K30>0,COUNTRY_INFO!K30<4),IF(Z30>0,IF(COUNTRY_INFO!K30=1, AD30/(COUNTRY_INFO!F30*0.33)*100, IF(COUNTRY_INFO!K30=2, AD30/(COUNTRY_INFO!F30*0.5)*100, IF(COUNTRY_INFO!K30=3, AD30/COUNTRY_INFO!F30*100))),\"-\"),0)","v":0},{"$f":"IF(COUNTRY_INFO!K30=2,IF(COUNTRY_INFO!G30*0.2>MAX('T1'!N30,'T2'!L30),MAX('T1'!N30,'T2'!L30),COUNTRY_INFO!G30*0.2),IF(COUNTRY_INFO!K30=3,IF(COUNTRY_INFO!G30>MAX('T1'!N30,'T2'!L30),MAX('T1'!N30,'T2'!L30),COUNTRY_INFO!G30),0))","v":0},{"$f":"IF(AND(COUNTRY_INFO!K30>0,COUNTRY_INFO!K30<4),IF(Z30>0,IF(COUNTRY_INFO!K30=1, 0, IF(COUNTRY_INFO!K30=2, AF30/(COUNTRY_INFO!G30*0.2)*100, IF(COUNTRY_INFO!K30=3, AF30/COUNTRY_INFO!G30*100))),\"-\"),0)","v":0},0,{"$f":"IF(AND(COUNTRY_INFO!K30>0,COUNTRY_INFO!K30<4), IF(AC30/Z30*100<>0, IF(AH30/Z30*100>100,100,AH30/Z30*100), \"-\"),0)","v":"-"},null,{"$f":"IF(AND(D30<>0, D30<>\"Inconnu\",D30<>\"Interrompu\",D30<>\"Non requis\"),D30/COUNTRY_INFO!D30, 0)","v":0},{"$f":"IF(AND(J30<>0,J30<>\"Inconnu\",J30<>\"Interrompu\",J30<>\"Non requis\"),J30/COUNTRY_INFO!D30, 0)","v":0},{"$f":"IF(AND(P30<>0,P30<>\"Inconnu\",P30<>\"Non requis\"),P30/(COUNTRY_INFO!E30+COUNTRY_INFO!F30), 0)","v":0},{"$f":"IF(AND(Z30<>0,Z30<>\"Inconnu\",Z30<>\"Non requis\"),IF(COUNTRY_INFO!K30=1,1,IF(COUNTRY_INFO!K30=2,0.5*COUNTRY_INFO!F30/(0.5*COUNTRY_INFO!F30+0.2*COUNTRY_INFO!G30),IF(COUNTRY_INFO!K30=3,COUNTRY_INFO!F30/(COUNTRY_INFO!F30+COUNTRY_INFO!G30)))),0)","v":0.62157569070118168},{"$f":"IF(AND(Z30<>0,Z30<>\"Inconnu\",Z30<>\"Non requis\"),IF(COUNTRY_INFO!K30=1,0,IF(COUNTRY_INFO!K30=2,0.2*COUNTRY_INFO!G30/(0.5*COUNTRY_INFO!F30+0.2*COUNTRY_INFO!G30),IF(COUNTRY_INFO!K30=3,COUNTRY_INFO!G30/(COUNTRY_INFO!F30+COUNTRY_INFO!G30)))),0)","v":0.37842430929881821},{"$f":"MAX(COUNTRY_INFO!D30*AK30*PROFILE!$G$7,COUNTRY_INFO!D30*AL30*PROFILE!$G$7)","v":0},{"$f":"MAX(COUNTRY_INFO!D30*AK30*PROFILE!$G$8,COUNTRY_INFO!D30*AL30*PROFILE!$G$8,COUNTRY_INFO!D30*AM30*PROFILE!$G$8)","v":0},{"$f":"MAX(COUNTRY_INFO!D30*AK30*PROFILE!$G$9,COUNTRY_INFO!D30*AL30*PROFILE!$G$9,COUNTRY_INFO!D30*AM30*PROFILE!$G$9,IF(AND(DISTRICT!Z30<>\"Inconnu\",Z30<>\"Non requis\"),COUNTRY_INFO!O30*DISTRICT!AN30,0))","v":30869.499999999996},{"$f":"MAX(COUNTRY_INFO!D30*AK30*PROFILE!$G$10,COUNTRY_INFO!D30*AL30*PROFILE!$G$10,IF(AND(DISTRICT!Z30<>\"Inconnu\",Z30<>\"Non requis\"),COUNTRY_INFO!O30*DISTRICT!AO30,0))","v":18793.8},49663.299999999996,0,{"$f":"MAX('MDA2'!J30,'T1'!L30,'T2'!J30,T3_R1!K30,T3_R2!K30)","v":0},{"$f":"MAX('MDA1'!K30,'MDA2'!K30,'MDA3'!I30,'MDA3'!L30,'T1'!M30,'T2'!K30,T3_R1!L30,T3_R2!L30)","v":0},{"$f":"MAX('MDA1'!L30,'MDA2'!L30,'MDA3'!J30,'MDA3'!M30,'T1'!N30,'T2'!L30,T3_R1!M30,T3_R2!M30)","v":0},0,{"$f":"MAX('MDA2'!J30,T30)","v":0},{"$f":"MAX('MDA1'!K30,'MDA2'!K30,'MDA3'!I30,'MDA3'!L30,V30,AD30)","v":0},{"$f":"MAX('MDA1'!L30,'MDA2'!L30,'MDA3'!J30,'MDA3'!M30,AF30)","v":0},0,0]
[{"$f":"IF(COUNTRY_INFO!A31=0,\" \",COUNTRY_INFO!A31)","v":"Burkina Faso"},{"$f":"IF(COUNTRY_INFO!B31=0,\" \",COUNTRY_INFO!B31)","v":"Centre-Nord"},{"$f":"IF(COUNTRY_INFO!C31=0,\" \",COUNTRY_INFO!C31)","v":"Boulsa"},{"$f":"COUNTRY_INFO!L31","v":"Interrompu"},null,null,{"$f":"MAX('MDA1'!M31,'MDA2'!M31)","v":0},{"$f":"IF(AND(COUNTRY_INFO!H31>0,COUNTRY_INFO!H31<4),IF(D31>MAX('MDA1'!M31,'MDA2'!M31),MAX('MDA1'!M31,'MDA2'!M31),D31),0)","v":0},{"$f":"IF(AND(COUNTRY_INFO!H31>0,COUNTRY_INFO!H31<4), IF(G31/D31*100<>0, IF(G31/D31*100>100,100,G31/D31*100), \"-\"),0)","v":0},{"$f":"COUNTRY_INFO!M31","v":0},null,null,{"$f":"MAX('MDA1'!M31,MAX('MDA3'!I31,'MDA3'!L31)+MAX('MDA3'!J31,'MDA3'!M31))","v":0},{"$f":"IF(AND(COUNTRY_INFO!I31>0,COUNTRY_INFO!I31<4),IF(J31>MAX('MDA1'!M31,MAX('MDA3'!I31,'MDA3'!L31)+MAX('MDA3'!J31,'MDA3'!M31)),MAX('MDA1'!M31,MAX('MDA3'!I31,'MDA3'!L31)+MAX('MDA3'!J31,'MDA3'!M31)),J31),0)","v":0},{"$f":"IF(AND(COUNTRY_INFO!I31>0,COUNTRY_INFO!I31<4), IF(M31/J31*100<>0, IF(M31/J31*100>100,100,M31/J31*100), \"-\"),0)","v":0},{"$f":"COUNTRY_INFO!N31","v":0},null,null,{"$f":"SUM(MAX('MDA2'!J31, 'T1'!L31, MAX(T3_R1!K31, T3_R2!K31)), MAX('MDA1'!K31, 'MDA2'!K31, 'T1'!M31, MAX(T3_R1!L31, T3_R2!L31)), MAX('MDA1'!L31, 'MDA2'!L31, 'T1'!N31, MAX(T3_R1!M31, T3_R2!M31)))","v":0},{"$f":"IF(AND(COUNTRY_INFO!J31>1,COUNTRY_INFO!J31<4),IF(COUNTRY_INFO!E31>MAX('MDA2'!J31,'T1'!L31,MAX(T3_R1!K31,T3_R2!K31)),MAX('MDA2'!J31,'T1'!L31,MAX(T3_R1!K31,T3_R2!K31)),COUNTRY_INFO!E31),0)","v":0},{"$f":"IF(AND(COUNTRY_INFO!J31>1,COUNTRY_INFO!J31<4), IF(T31/COUNTRY_INFO!E31*100<>0, IF(T31/COUNTRY_INFO!E31*100>100,100,T31/COUNTRY_INFO!E31*100), \"-\"),0)","v":0},{"$f":"IF(AND(COUNTRY_INFO!J31>1,COUNTRY_INFO!J31<4),IF(COUNTRY_INFO!F31>MAX('MDA1'!K31,'MDA2'!K31,'T1'!M31,MAX(T3_R1!L31,T3_R2!L31)),MAX('MDA1'!K31,'MDA2'!K31,'T1'!M31,MAX(T3_R1!L31,T3_R2!L31)),COUNTRY_INFO!F31),0)","v":0},{"$f":"IF(AND(COUNTRY_INFO!J31>1,COUNTRY_INFO!J31<4), IF(V31/COUNTRY_INFO!F31*100<>0, IF(V31/COUNTRY_INFO!F31*100>100,100,V31/COUNTRY_INFO!F31*100), \"-\"),0)","v":0},0,{"$f":"IF(AND(COUNTRY_INFO!J31>1,COUNTRY_INFO!J31<4), IF(S31/P31*100<>0, IF(X31/P31*100>100,100,X31/P31*100), \"-\"),0)","v":0},{"$f":"COUNTRY_INFO!O31","v":55007},null,null,{"$f":"MAX('T1'!L31,'T2'!J31)+MAX('T1'!M31,'T2'!K31)+MAX('T1'!N31,'T2'!L31)","v":0},{"$f":"IF(COUNTRY_INFO!K31=1,IF(COUNTRY_INFO!F31*0.33>MAX('T1'!M31,'T2'!K31),MAX('T1'!M31,'T2'!K31),COUNTRY_INFO!F31*0.33),IF(COUNTRY_INFO!K31=2,IF(COUNTRY_INFO!F31*0.5>MAX('T1'!M31,'T2'!K31),MAX('T1'!M31,'T2'!K31),COUNTRY_INFO!F31*0.5),IF(COUNTRY_INFO!K31=3,IF(COUNTRY_INFO!F31>MAX('T1'!M31,'T2'!K31),MAX('T1'!M31,'T2'!K31),COUNTRY_INFO!F31),0)))","v":0},{"$f":"IF(AND(COUNTRY_INFO!K31>0,COUNTRY_INFO!K31<4),IF(Z31>0,IF(COUNTRY_INFO!K31=1, AD31/(COUNTRY_INFO!F31*0.33)*100, IF(COUNTRY_INFO!K31=2, AD31/(COUNTRY_INFO!F31*0.5)*100, IF(COUNTRY_INFO!K31=3, AD31/COUNTRY_INFO!F31*100))),\"-\"),0)","v":0},{"$f":"IF(COUNTRY_INFO!K31=2,IF(COUNTRY_INFO!G31*0.2>MAX('T1'!N31,'T2'!L31),MAX('T1'!N31,'T2'!L31),COUNTRY_INFO!G31*0.2),IF(COUNTRY_INFO!K31=3,IF(COUNTRY_INFO!G31>MAX('T1'!N31,'T2'!L31),MAX('T1'!N31,'T2'!L31),COUNTRY_INFO!G31),0))","v":0},{"$f":"IF(AND(COUNTRY_INFO!K31>0,COUNTRY_INFO!K31<4),IF(Z31>0,IF(COUNTRY_INFO!K31=1, 0, IF(COUNTRY_INFO!K31=2, AF31/(COUNTRY_INFO!G31*0.2)*100, IF(COUNTRY_INFO!K31=3, AF31/COUNTRY_INFO!G31*100))),\"-\"),0)","v":0},0,{"$f":"IF(AND(COUNTRY_INFO!K31>0,COUNTRY_INFO!K31<4), IF(AC31/Z31*100<>0, IF(AH31/Z31*100>100,100,AH31/Z31*100), \"-\"),0)","v":"-"},null,{"$f":"IF(AND(D31<>0, D31<>\"Inconnu\",D31<>\"Interrompu\",D31<>\"Non requis\"),D31/COUNTRY_INFO!D31, 0)","v":0},{"$f":"IF(AND(J31<>0,J31<>\"Inconnu\",J31<>\"Interrompu\",J31<>\"Non requis\"),J31/COUNTRY_INFO!D31, 0)","v":0},{"$f":"IF(AND(P31<>0,P31<>\"Inconnu\",P31<>\"Non requis\"),P31/(COUNTRY_INFO!E31+COUNTRY_INFO!F31), 0)","v":0},{"$f":"IF(AND(Z31<>0,Z31<>\"Inconnu\",Z31<>\"Non requis\"),IF(COUNTRY_INFO!K31=1,1,IF(COUNTRY_INFO!K31=2,0.5*COUNTRY_INFO!F31/(0.5*COUNTRY_INFO!F31+0.2*COUNTRY_INFO!G31),IF(COUNTRY_INFO!K31=3,COUNTRY_INFO!F31/(COUNTRY_INFO!F31+COUNTRY_INFO!G31)))),0)","v":0.60606831857763555},{"$f":"IF(AND(Z31<>0,Z31<>\"Inconnu\",Z31<>\"Non requis\"),IF(COUNTRY_INFO!K31=1,0,IF(COUNTRY_INFO!K31=2,0.2*COUNTRY_INFO!G31/(0.5*COUNTRY_INFO!F31+0.2*COUNTRY_INFO!G31),IF(COUNTRY_INFO!K31=3,COUNTRY_INFO!G31/(COUNTRY_INFO!F31+COUNTRY_INFO!G31)))),0)","v":0.3939316814223644},{"$f":"MAX(COUNTRY_INFO!D31*AK31*PROFILE!$G$7,COUNTRY_INFO!D31*AL31*PROFILE!$G$7)","v":0},{"$f":"MAX(COUNTRY_INFO!D31*AK31*PROFILE!$G$8,COUNTRY_INFO!D31*AL31*PROFILE!$G$8,COUNTRY_INFO!D31*AM31*PROFILE!$G$8)","v":0},{"$f":"MAX(COUNTRY_INFO!D31*AK31*PROFILE!$G$9,COUNTRY_INFO!D31*AL31*PROFILE!$G$9,COUNTRY_INFO!D31*AM31*PROFILE!$G$9,IF(AND(DISTRICT!Z31<>\"Inconnu\",Z31<>\"Non requis\"),COUNTRY_INFO!O31*DISTRICT!AN31,0))","v":33338},{"$f":"MAX(COUNTRY_INFO!D31*AK31*PROFILE!$G$10,COUNTRY_INFO!D31*AL31*PROFILE!$G$10,IF(AND(DISTRICT!Z31<>\"Inconnu\",Z31<>\"Non requis\"),COUNTRY_INFO!O31*DISTRICT!AO31,0))","v":21669},55007,0,{"$f":"MAX('MDA2'!J31,'T1'!L31,'T2'!J31,T3_R1!K31,T3_R2!K31)","v":0},{"$f":"MAX('MDA1'!K31,'MDA2'!K31,'MDA3'!I31,'MDA3'!L31,'T1'!M31,'T2'!K31,T3_R1!L31,T3_R2!L31)","v":0},{"$f":"MAX('MDA1'!L31,'MDA2'!L31,'MDA3'!J31,'MDA3'!M31,'T1'!N31,'T2'!L31,T3_R1!M31,T3_R2!M31)","v":0},0,{"$f":"MAX('MDA2'!J31,T31)","v":0},{"$f":"MAX('MDA1'!K31,'MDA2'!K31,'MDA3'!I31,'MDA3'!L31,V31,AD31)","v":0},{"$f":"MAX('MDA1'!L31,'MDA2'!L31,'MDA3'!J31,'MDA3'!M31,AF31)","v":0},0,0]
[{"$f":"IF(COUNTRY_INFO!A32=0,\" \",COUNTRY_INFO!A32)","v":"Burkina Faso"},{"$f":"IF(COUNTRY_INFO!B32=0,\" \",COUNTRY_INFO!B32)","v":"Centre-Nord"},{"$f":"IF(COUNTRY_INFO!C32=0,\" \",COUNTRY_INFO!C32)","v":"Boussouma"},{"$f":"COUNTRY_INFO!L32","v":"Interrompu"},null,null,{"$f":"MAX('MDA1'!M32,'MDA2'!M32)","v":0},{"$f":"IF(AND(COUNTRY_INFO!H32>0,COUNTRY_INFO!H32<4),IF(D32>MAX('MDA1'!M32,'MDA2'!M32),MAX('MDA1'!M32,'MDA2'!M32),D32),0)","v":0},{"$f":"IF(AND(COUNTRY_INFO!H32>0,COUNTRY_INFO!H32<4), IF(G32/D32*100<>0, IF(G32/D32*100>100,100,G32/D32*100), \"-\"),0)","v":0},{"$f":"COUNTRY_INFO!M32","v":0},null,null,{"$f":"MAX('MDA1'!M32,MAX('MDA3'!I32,'MDA3'!L32)+MAX('MDA3'!J32,'MDA3'!M32))","v":0},{"$f":"IF(AND(COUNTRY_INFO!I32>0,COUNTRY_INFO!I32<4),IF(J32>MAX('MDA1'!M32,MAX('MDA3'!I32,'MDA3'!L32)+MAX('MDA3'!J32,'MDA3'!M32)),MAX('MDA1'!M32,MAX('MDA3'!I32,'MDA3'!L32)+MAX('MDA3'!J32,'MDA3'!M32)),J32),0)","v":0},{"$f":"IF(AND(COUNTRY_INFO!I32>0,COUNTRY_INFO!I32<4), IF(M32/J32*100<>0, IF(M32/J32*100>100,100,M32/J32*100), \"-\"),0)","v":0},{"$f":"COUNTRY_INFO!N32","v":0},null,null,{"$f":"SUM(MAX('MDA2'!J32, 'T1'!L32, MAX(T3_R1!K32, T3_R2!K32)), MAX('MDA1'!K32, 'MDA2'!K32, 'T1'!M32, MAX(T3_R1!L32, T3_R2!L32)), MAX('MDA1'!L32, 'MDA2'!L32, 'T1'!N32, MAX(T3_R1!M32, T3_R2!M32)))","v":0},{"$f":"IF(AND(COUNTRY_INFO!J32>1,COUNTRY_INFO!J32<4),IF(COUNTRY_INFO!E32>MAX('MDA2'!J32,'T1'!L32,MAX(T3_R1!K32,T3_R2!K32)),MAX('MDA2'!J32,'T1'!L32,MAX(T3_R1!K32,T3_R2!K32)),COUNTRY_INFO!E32),0)","v":0},{"$f":"IF(AND(COUNTRY_INFO!J32>1,COUNTRY_INFO!J32<4), IF(T32/COUNTRY_INFO!E32*100<>0, IF(T32/COUNTRY_INFO!E32*100>100,100,T32/COUNTRY_INFO!E32*100), \"-\"),0)","v":0},{"$f":"IF(AND(COUNTRY_INFO!J32>1,COUNTRY_INFO!J32<4),IF(COUNTRY_INFO!F32>MAX('MDA1'!K32,'MDA2'!K32,'T1'!M32,MAX(T3_R1!L32,T3_R2!L32)),MAX('MDA1'!K32,'MDA2'!K32,'T1'!M32,MAX(T3_R1!L32,T3_R2!L32)),COUNTRY_INFO!F32),0)","v":0},{"$f":"IF(AND(COUNTRY_INFO!J32>1,COUNTRY_INFO!J32<4), IF(V32/COUNTRY_INFO!F32*100<>0, IF(V32/COUNTRY_INFO!F32*100>100,100,V32/COUNTRY_INFO!F32*100), \"-\"),0)","v":0},0,{"$f":"IF(AND(COUNTRY_INFO!J32>1,COUNTRY_INFO!J32<4), IF(S32/P32*100<>0, IF(X32/P32*100>100,100,X32/P32*100), \"-\"),0)","v":0},{"$f":"COUNTRY_INFO!O32","v":55324.9},null,null,{"$f":"MAX('T1'!L32,'T2'!J32)+MAX('T1'!M32,'T2'!K32)+MAX('T1'!N32,'T2'!L32)","v":0},{"$f":"IF(COUNTRY_INFO!K32=1,IF(COUNTRY_INFO!F32*0.33>MAX('T1'!M32,'T2'!K32),MAX('T1'!M32,'T2'!K32),COUNTRY_INFO!F32*0.33),IF(COUNTRY_INFO!K32=2,IF(COUNTRY_INFO!F32*0.5>MAX('T1'!M32,'T2'!K32),MAX('T1'!M32,'T2'!K32),COUNTRY_INFO!F32*0.5),IF(COUNTRY_INFO!K32=3,IF(COUNTRY_INFO!F32>MAX('T1'!M32,'T2'!K32),MAX('T1'!M32,'T2'!K32),COUNTRY_INFO!F32),0)))","v":0},{"$f":"IF(AND(COUNTRY_INFO!K32>0,COUNTRY_INFO!K32<4),IF(Z32>0,IF(COUNTRY_INFO!K32=1, AD32/(COUNTRY_INFO!F32*0.33)*100, IF(COUNTRY_INFO!K32=2, AD32/(COUNTRY_INFO!F32*0.5)*100, IF(COUNTRY_INFO!K32=3, AD32/COUNTRY_INFO!F32*100))),\"-\"),0)","v":0},{"$f":"IF(COUNTRY_INFO!K32=2,IF(COUNTRY_INFO!G32*0.2>MAX('T1'!N32,'T2'!L32),MAX('T1'!N32,'T2'!L32),COUNTRY_INFO!G32*0.2),IF(COUNTRY_INFO!K32=3,IF(COUNTRY_INFO!G32>MAX('T1'!N32,'T2'!L32),MAX('T1'!N32,'T2'!L32),COUNTRY_INFO!G32),0))","v":0},{"$f":"IF(AND(COUNTRY_INFO!K32>0,COUNTRY_INFO!K32<4),IF(Z32>0,IF(COUNTRY_INFO!K32=1, 0, IF(COUNTRY_INFO!K32=2, AF32/(COUNTRY_INFO!G32*0.2)*100, IF(COUNTRY_INFO!K32=3, AF32/COUNTRY_INFO!G32*100))),\"-\"),0)","v":0},0,{"$f":"IF(AND(COUNTRY_INFO!K32>0,COUNTRY_INFO!K32<4), IF(AC32/Z32*100<>0, IF(AH32/Z32*100>100,100,AH32/Z32*100), \"-\"),0)","v":"-"},null,{"$f":"IF(AND(D32<>0, D32<>\"Inconnu\",D32<>\"Interrompu\",D32<>\"Non requis\"),D32/COUNTRY_INFO!D32, 0)","v":0},{"$f":"IF(AND(J32<>0,J32<>\"Inconnu\",J32<>\"Interrompu\",J32<>\"Non requis\"),J32/COUNTRY_INFO!D32, 0)","v":0},{"$f":"IF(AND(P32<>0,P32<>\"Inconnu\",P32<>\"Non requis\"),P32/(COUNTRY_INFO!E32+COUNTRY_INFO!F32), 0)","v":0},{"$f":"IF(AND(Z32<>0,Z32<>\"Inconnu\",Z32<>\"Non requis\"),IF(COUNTRY_INFO!K32=1,1,IF(COUNTRY_INFO!K32=2,0.5*COUNTRY_INFO!F32/(0.5*COUNTRY_INFO!F32+0.2*COUNTRY_INFO!G32),IF(COUNTRY_INFO!K32=3,COUNTRY_INFO!F32/(COUNTRY_INFO!F32+COUNTRY_INFO!G32)))),0)","v":0.59256320390999351},{"$f":"IF(AND(Z32<>0,Z32<>\"Inconnu\",Z32<>\"Non requis\"),IF(COUNTRY_INFO!K32=1,0,IF(COUNTRY_INFO!K32=2,0.2*COUNTRY_INFO!G32/(0.5*COUNTRY_INFO!F32+0.2*COUNTRY_INFO!G32),IF(COUNTRY_INFO!K32=3,COUNTRY_INFO!G32/(COUNTRY_INFO!F32+COUNTRY_INFO!G32)))),0)","v":0.40743679609000649},{"$f":"MAX(COUNTRY_INFO!D32*AK32*PROFILE!$G$7,COUNTRY_INFO!D32*AL32*PROFILE!$G$7)","v":0},{"$f":"MAX(COUNTRY_INFO!D32*AK32*PROFILE!$G$8,COUNTRY_INFO!D32*AL32*PROFILE!$G$8,COUNTRY_INFO!D32*AM32*PROFILE!$G$8)","v":0},{"$f":"MAX(COUNTRY_INFO!D32*AK32*PROFILE!$G$9,COUNTRY_INFO!D32*AL32*PROFILE!$G$9,COUNTRY_INFO!D32*AM32*PROFILE!$G$9,IF(AND(DISTRICT!Z32<>\"Inconnu\",Z32<>\"Non requis\"),COUNTRY_INFO!O32*DISTRICT!AN32,0))","v":32783.5},{"$f":"MAX(COUNTRY_INFO!D32*AK32*PROFILE!$G$10,COUNTRY_INFO!D32*AL32*PROFILE!$G$10,IF(AND(DISTRICT!Z32<>\"Inconnu\",Z32<>\"Non requis\"),COUNTRY_INFO!O32*DISTRICT!AO32,0))","v":22541.4},55324.9,0,{"$f":"MAX('MDA2'!J32,'T1'!L32,'T2'!J32,T3_R1!K32,T3_R2!K32)","v":0},{"$f":"MAX('MDA1'!K32,'MDA2'!K32,'MDA3'!I32,'MDA3'!L32,'T1'!M32,'T2'!K32,T3_R1!L32,T3_R2!L32)","v":0},{"$f":"MAX('MDA1'!L32,'MDA2'!L32,'MDA3'!J32,'MDA3'!M32,'T1'!N32,'T2'!L32,T3_R1!M32,T3_R2!M32)","v":0},0,{"$f":"MAX('MDA2'!J32,T32)","v":0},{"$f":"MAX('MDA1'!K32,'MDA2'!K32,'MDA3'!I32,'MDA3'!L32,V32,AD32)","v":0},{"$f":"MAX('MDA1'!L32,'MDA2'!L32,'MDA3'!J32,'MDA3'!M32,AF32)","v":0},0,0]
[{"$f":"IF(COUNTRY_INFO!A33=0,\" \",COUNTRY_INFO!A33)","v":"Burkina Faso"},{"$f":"IF(COUNTRY_INFO!B33=0,\" \",COUNTRY_INFO!B33)","v":"Centre-Nord"},{"$f":"IF(COUNTRY_INFO!C33=0,\" \",COUNTRY_INFO!C33)","v":"Kaya"},{"$f":"COUNTRY_INFO!L33","v":"Interrompu"},null,null,{"$f":"MAX('MDA1'!M33,'MDA2'!M33)","v":0},{"$f":"IF(AND(COUNTRY_INFO!H33>0,COUNTRY_INFO!H33<4),IF(D33>MAX('MDA1'!M33,'MDA2'!M33),MAX('MDA1'!M33,'MDA2'!M33),D33),0)","v":0},{"$f":"IF(AND(COUNTRY_INFO!H33>0,COUNTRY_INFO!H33<4), IF(G33/D33*100<>0, IF(G33/D33*100>100,100,G33/D33*100), \"-\"),0)","v":0},{"$f":"COUNTRY_INFO!M33","v":0},null,null,{"$f":"MAX('MDA1'!M33,MAX('MDA3'!I33,'MDA3'!L33)+MAX('MDA3'!J33,'MDA3'!M33))","v":0},{"$f":"IF(AND(COUNTRY_INFO!I33>0,COUNTRY_INFO!I33<4),IF(J33>MAX('MDA1'!M33,MAX('MDA3'!I33,'MDA3'!L33)+MAX('MDA3'!J33,'MDA3'!M33)),MAX('MDA1'!M33,MAX('MDA3'!I33,'MDA3'!L33)+MAX('MDA3'!J33,'MDA3'!M33)),J33),0)","v":0},{"$f":"IF(AND(COUNTRY_INFO!I33>0,COUNTRY_INFO!I33<4), IF(M33/J33*100<>0, IF(M33/J33*100>100,100,M33/J33*100), \"-\"),0)","v":0},{"$f":"COUNTRY_INFO!N33","v":0},null,null,{"$f":"SUM(MAX('MDA2'!J33, 'T1'!L33, MAX(T3_R1!K33, T3_R2!K33)), MAX('MDA1'!K33, 'MDA2'!K33, 'T1'!M33, MAX(T3_R1!L33, T3_R2!L33)), MAX('MDA1'!L33, 'MDA2'!L33, 'T1'!N33, MAX(T3_R1!M33, T3_R2!M33)))","v":0},{"$f":"IF(AND(COUNTRY_INFO!J33>1,COUNTRY_INFO!J33<4),IF(COUNTRY_INFO!E33>MAX('MDA2'!J33,'T1'!L33,MAX(T3_R1!K33,T3_R2!K33)),MAX('MDA2'!J33,'T1'!L33,MAX(T3_R1!K33,T3_R2!K33)),COUNTRY_INFO!E33),0)","v":0},{"$f":"IF(AND(COUNTRY_INFO!J33>1,COUNTRY_INFO!J33<4), IF(T33/COUNTRY_INFO!E33*100<>0, IF(T33/COUNTRY_INFO!E33*100>100,100,T33/COUNTRY_INFO!E33*100), \"-\"),0)","v":0},{"$f":"IF(AND(COUNTRY_INFO!J33>1,COUNTRY_INFO!J33<4),IF(COUNTRY_INFO!F33>MAX('MDA1'!K33,'MDA2'!K33,'T1'!M33,MAX(T3_R1!L33,T3_R2!L33)),MAX('MDA1'!K33,'MDA2'!K33,'T1'!M33,MAX(T3_R1!L33,T3_R2!L33)),COUNTRY_INFO!F33),0)","v":0},{"$f":"IF(AND(COUNTRY_INFO!J33>1,COUNTRY_INFO!J33<4), IF(V33/COUNTRY_INFO!F33*100<>0, IF(V33/COUNTRY_INFO!F33*100>100,100,V33/COUNTRY_INFO!F33*100), \"-\"),0)","v":0},0,{"$f":"IF(AND(COUNTRY_INFO!J33>1,COUNTRY_INFO!J33<4), IF(S33/P33*100<>0, IF(X33/P33*100>100,100,X33/P33*100), \"-\"),0)","v":0},{"$f":"COUNTRY_INFO!O33","v":99996},null,null,{"$f":"MAX('T1'!L33,'T2'!J33)+MAX('T1'!M33,'T2'!K33)+MAX('T1'!N33,'T2'!L33)","v":0},{"$f":"IF(COUNTRY_INFO!K33=1,IF(COUNTRY_INFO!F33*0.33>MAX('T1'!M33,'T2'!K33),MAX('T1'!M33,'T2'!K33),COUNTRY_INFO!F33*0.33),IF(COUNTRY_INFO!K33=2,IF(COUNTRY_INFO!F33*0.5>MAX('T1'!M33,'T2'!K33),MAX('T1'!M33,'T2'!K33),COUNTRY_INFO!F33*0.5),IF(COUNTRY_INFO!K33=3,IF(COUNTRY_INFO!F33>MAX('T1'!M33,'T2'!K33),MAX('T1'!M33,'T2'!K33),COUNTRY_INFO!F33),0)))","v":0},{"$f":"IF(AND(COUNTRY_INFO!K33>0,COUNTRY_INFO!K33<4),IF(Z33>0,IF(COUNTRY_INFO!K33=1, AD33/(COUNTRY_INFO!F33*0.33)*100, IF(COUNTRY_INFO!K33=2, AD33/(COUNTRY_INFO!F33*0.5)*100, IF(COUNTRY_INFO!K33=3, AD33/COUNTRY_INFO!F33*100))),\"-\"),0)","v":0},{"$f":"IF(COUNTRY_INFO!K33=2,IF(COUNTRY_INFO!G33*0.2>MAX('T1'!N33,'T2'!L33),MAX('T1'!N33,'T2'!L33),COUNTRY_INFO!G33*0.2),IF(COUNTRY_INFO!K33=3,IF(COUNTRY_INFO!G33>MAX('T1'!N33,'T2'!L33),MAX('T1'!N33,'T2'!L33),COUNTRY_INFO!G33),0))","v":0},{"$f":"IF(AND(COUNTRY_INFO!K33>0,COUNTRY_INFO!K33<4),IF(Z33>0,IF(COUNTRY_INFO!K33=1, 0, IF(COUNTRY_INFO!K33=2, AF33/(COUNTRY_INFO!G33*0.2)*100, IF(COUNTRY_INFO!K33=3, AF33/COUNTRY_INFO!G33*100))),\"-\"),0)","v":0},0,{"$f":"IF(AND(COUNTRY_INFO!K33>0,COUNTRY_INFO!K33<4), IF(AC33/Z33*100<>0, IF(AH33/Z33*100>100,100,AH33/Z33*100), \"-\"),0)","v":"-"},null,{"$f":"IF(AND(D33<>0, D33<>\"Inconnu\",D33<>\"Interrompu\",D33<>\"Non requis\"),D33/COUNTRY_INFO!D33, 0)","v":0},{"$f":"IF(AND(J33<>0,J33<>\"Inconnu\",J33<>\"Interrompu\",J33<>\"Non requis\"),J33/COUNTRY_INFO!D33, 0)","v":0},{"$f":"IF(AND(P33<>0,P33<>\"Inconnu\",P33<>\"Non requis\"),P33/(COUNTRY_INFO!E33+COUNTRY_INFO!F33), 0)","v":0},{"$f":"IF(AND(Z33<>0,Z33<>\"Inconnu\",Z33<>\"Non requis\"),IF(COUNTRY_INFO!K33=1,1,IF(COUNTRY_INFO!K33=2,0.5*COUNTRY_INFO!F33/(0.5*COUNTRY_INFO!F33+0.2*COUNTRY_INFO!G33),IF(COUNTRY_INFO!K33=3,COUNTRY_INFO!F33/(COUNTRY_INFO!F33+COUNTRY_INFO!G33)))),0)","v":0.59525381015240608},{"$f":"IF(AND(Z33<>0,Z33<>\"Inconnu\",Z33<>\"Non requis\"),IF(COUNTRY_INFO!K33=1,0,IF(COUNTRY_INFO!K33=2,0.2*COUNTRY_INFO!G33/(0.5*COUNTRY_INFO!F33+0.2*COUNTRY_INFO!G33),IF(COUNTRY_INFO!K33=3,COUNTRY_INFO!G33/(COUNTRY_INFO!F33+COUNTRY_INFO!G33)))),0)","v":0.40474618984759392},{"$f":"MAX(COUNTRY_INFO!D33*AK33*PROFILE!$G$7,COUNTRY_INFO!D33*AL33*PROFILE!$G$7)","v":0},{"$f":"MAX(COUNTRY_INFO!D33*AK33*PROFILE!$G$8,COUNTRY_INFO!D33*AL33*PROFILE!$G$8,COUNTRY_INFO!D33*AM33*PROFILE!$G$8)","v":0},{"$f":"MAX(COUNTRY_INFO!D33*AK33*PROFILE!$G$9,COUNTRY_INFO!D33*AL33*PROFILE!$G$9,COUNTRY_INFO!D33*AM33*PROFILE!$G$9,IF(AND(DISTRICT!Z33<>\"Inconnu\",Z33<>\"Non requis\"),COUNTRY_INFO!O33*DISTRICT!AN33,0))","v":59523},{"$f":"MAX(COUNTRY_INFO!D33*AK33*PROFILE!$G$10,COUNTRY_INFO!D33*AL33*PROFILE!$G$10,IF(AND(DISTRICT!Z33<>\"Inconnu\",Z33<>\"Non requis\"),COUNTRY_INFO!O33*DISTRICT!AO33,0))","v":40473},99996,0,{"$f":"MAX('MDA2'!J33,'T1'!L33,'T2'!J33,T3_R1!K33,T3_R2!K33)","v":0},{"$f":"MAX('MDA1'!K33,'MDA2'!K33,'MDA3'!I33,'MDA3'!L33,'T1'!M33,'T2'!K33,T3_R1!L33,T3_R2!L33)","v":0},{"$f":"MAX('MDA1'!L33,'MDA2'!L33,'MDA3'!J33,'MDA3'!M33,'T1'!N33,'T2'!L33,T3_R1!M33,T3_R2!M33)","v":0},0,{"$f":"MAX('MDA2'!J33,T33)","v":0},{"$f":"MAX('MDA1'!K33,'MDA2'!K33,'MDA3'!I33,'MDA3'!L33,V33,AD33)","v":0},{"$f":"MAX('MDA1'!L33,'MDA2'!L33,'MDA3'!J33,'MDA3'!M33,AF33)","v":0},0,0]
[{"$f":"IF(COUNTRY_INFO!A34=0,\" \",COUNTRY_INFO!A34)","v":"Burkina Faso"},{"$f":"IF(COUNTRY_INFO!B34=0,\" \",COUNTRY_INFO!B34)","v":"Centre-Nord"},{"$f":"IF(COUNTRY_INFO!C34=0,\" \",COUNTRY_INFO!C34)","v":"Kongoussi"},{"$f":"COUNTRY_INFO!L34","v":"Interrompu"},null,null,{"$f":"MAX('MDA1'!M34,'MDA2'!M34)","v":0},{"$f":"IF(AND(COUNTRY_INFO!H34>0,COUNTRY_INFO!H34<4),IF(D34>MAX('MDA1'!M34,'MDA2'!M34),MAX('MDA1'!M34,'MDA2'!M34),D34),0)","v":0},{"$f":"IF(AND(COUNTRY_INFO!H34>0,COUNTRY_INFO!H34<4), IF(G34/D34*100<>0, IF(G34/D34*100>100,100,G34/D34*100), \"-\"),0)","v":0},{"$f":"COUNTRY_INFO!M34","v":0},null,null,{"$f":"MAX('MDA1'!M34,MAX('MDA3'!I34,'MDA3'!L34)+MAX('MDA3'!J34,'MDA3'!M34))","v":0},{"$f":"IF(AND(COUNTRY_INFO!I34>0,COUNTRY_INFO!I34<4),IF(J34>MAX('MDA1'!M34,MAX('MDA3'!I34,'MDA3'!L34)+MAX('MDA3'!J34,'MDA3'!M34)),MAX('MDA1'!M34,MAX('MDA3'!I34,'MDA3'!L34)+MAX('MDA3'!J34,'MDA3'!M34)),J34),0)","v":0},{"$f":"IF(AND(COUNTRY_INFO!I34>0,COUNTRY_INFO!I34<4), IF(M34/J34*100<>0, IF(M34/J34*100>100,100,M34/J34*100), \"-\"),0)","v":0},{"$f":"COUNTRY_INFO!N34","v":0},null,null,{"$f":"SUM(MAX('MDA2'!J34, 'T1'!L34, MAX(T3_R1!K34, T3_R2!K34)), MAX('MDA1'!K34, 'MDA2'!K34, 'T1'!M34, MAX(T3_R1!L34, T3_R2!L34)), MAX('MDA1'!L34, 'MDA2'!L34, 'T1'!N34, MAX(T3_R1!M34, T3_R2!M34)))","v":0},{"$f":"IF(AND(COUNTRY_INFO!J34>1,COUNTRY_INFO!J34<4),IF(COUNTRY_INFO!E34>MAX('MDA2'!J34,'T1'!L34,MAX(T3_R1!K34,T3_R2!K34)),MAX('MDA2'!J34,'T1'!L34,MAX(T3_R1!K34,T3_R2!K34)),COUNTRY_INFO!E34),0)","v":0},{"$f":"IF(AND(COUNTRY_INFO!J34>1,COUNTRY_INFO!J34<4), IF(T34/COUNTRY_INFO!E34*100<>0, IF(T34/COUNTRY_INFO!E34*100>100,100,T34/COUNTRY_INFO!E34*100), \"-\"),0)","v":0},{"$f":"IF(AND(COUNTRY_INFO!J34>1,COUNTRY_INFO!J34<4),IF(COUNTRY_INFO!F34>MAX('MDA1'!K34,'MDA2'!K34,'T1'!M34,MAX(T3_R1!L34,T3_R2!L34)),MAX('MDA1'!K34,'MDA2'!K34,'T1'!M34,MAX(T3_R1!L34,T3_R2!L34)),COUNTRY_INFO!F34),0)","v":0},{"$f":"IF(AND(COUNTRY_INFO!J34>1,COUNTRY_INFO!J34<4), IF(V34/COUNTRY_INFO!F34*100<>0, IF(V34/COUNTRY_INFO!F34*100>100,100,V34/COUNTRY_INFO!F34*100), \"-\"),0)","v":0},0,{"$f":"IF(AND(COUNTRY_INFO!J34>1,COUNTRY_INFO!J34<4), IF(S34/P34*100<>0, IF(X34/P34*100>100,100,X34/P34*100), \"-\"),0)","v":0},{"$f":"COUNTRY_INFO!O34","v":94716.9},null,null,{"$f":"MAX('T1'!L34,'T2'!J34)+MAX('T1'!M34,'T2'!K34)+MAX('T1'!N34,'T2'!L34)","v":0},{"$f":"IF(COUNTRY_INFO!K34=1,IF(COUNTRY_INFO!F34*0.33>MAX('T1'!M34,'T2'!K34),MAX('T1'!M34,'T2'!K34),COUNTRY_INFO!F34*0.33),IF(COUNTRY_INFO!K34=2,IF(COUNTRY_INFO!F34*0.5>MAX('T1'!M34,'T2'!K34),MAX('T1'!M34,'T2'!K34),COUNTRY_INFO!F34*0.5),IF(COUNTRY_INFO!K34=3,IF(COUNTRY_INFO!F34>MAX('T1'!M34,'T2'!K34),MAX('T1'!M34,'T2'!K34),COUNTRY_INFO!F34),0)))","v":0},{"$f":"IF(AND(COUNTRY_INFO!K34>0,COUNTRY_INFO!K34<4),IF(Z34>0,IF(COUNTRY_INFO!K34=1, AD34/(COUNTRY_INFO!F34*0.33)*100, IF(COUNTRY_INFO!K34=2, AD34/(COUNTRY_INFO!F34*0.5)*100, IF(COUNTRY_INFO!K34=3, AD34/COUNTRY_INFO!F34*100))),\"-\"),0)","v":0},{"$f":"IF(COUNTRY_INFO!K34=2,IF(COUNTRY_INFO!G34*0.2>MAX('T1'!N34,'T2'!L34),MAX('T1'!N34,'T2'!L34),COUNTRY_INFO!G34*0.2),IF(COUNTRY_INFO!K34=3,IF(COUNTRY_INFO!G34>MAX('T1'!N34,'T2'!L34),MAX('T1'!N34,'T2'!L34),COUNTRY_INFO!G34),0))","v":0},{"$f":"IF(AND(COUNTRY_INFO!K34>0,COUNTRY_INFO!K34<4),IF(Z34>0,IF(COUNTRY_INFO!K34=1, 0, IF(COUNTRY_INFO!K34=2, AF34/(COUNTRY_INFO!G34*0.2)*100, IF(COUNTRY_INFO!K34=3, AF34/COUNTRY_INFO!G34*100))),\"-\"),0)","v":0},0,{"$f":"IF(AND(COUNTRY_INFO!K34>0,COUNTRY_INFO!K34<4), IF(AC34/Z34*100<>0, IF(AH34/Z34*100>100,100,AH34/Z34*100), \"-\"),0)","v":"-"},null,{"$f":"IF(AND(D34<>0, D34<>\"Inconnu\",D34<>\"Interrompu\",D34<>\"Non requis\"),D34/COUNTRY_INFO!D34, 0)","v":0},{"$f":"IF(AND(J34<>0,J34<>\"Inconnu\",J34<>\"Interrompu\",J34<>\"Non requis\"),J34/COUNTRY_INFO!D34, 0)","v":0},{"$f":"IF(AND(P34<>0,P34<>\"Inconnu\",P34<>\"Non requis\"),P34/(COUNTRY_INFO!E34+COUNTRY_INFO!F34), 0)","v":0},{"$f":"IF(AND(Z34<>0,Z34<>\"Inconnu\",Z34<>\"Non requis\"),IF(COUNTRY_INFO!K34=1,1,IF(COUNTRY_INFO!K34=2,0.5*COUNTRY_INFO!F34/(0.5*COUNTRY_INFO!F34+0.2*COUNTRY_INFO!G34),IF(COUNTRY_INFO!K34=3,COUNTRY_INFO!F34/(COUNTRY_INFO!F34+COUNTRY_INFO!G34)))),0)","v":0.60090121192733292},{"$f":"IF(AND(Z34<>0,Z34<>\"Inconnu\",Z34<>\"Non requis\"),IF(COUNTRY_INFO!K34=1,0,IF(COUNTRY_INFO!K34=2,0.2*COUNTRY_INFO!G34/(0.5*COUNTRY_INFO!F34+0.2*COUNTRY_INFO!G34),IF(COUNTRY_INFO!K34=3,COUNTRY_INFO!G34/(COUNTRY_INFO!F34+COUNTRY_INFO!G34)))),0)","v":0.39909878807266713},{"$f":"MAX(COUNTRY_INFO!D34*AK34*PROFILE!$G$7,COUNTRY_INFO!D34*AL34*PROFILE!$G$7)","v":0},{"$f":"MAX(COUNTRY_INFO!D34*AK34*PROFILE!$G$8,COUNTRY_INFO!D34*AL34*PROFILE!$G$8,COUNTRY_INFO!D34*AM34*PROFILE!$G$8)","v":0},{"$f":"MAX(COUNTRY_INFO!D34*AK34*PROFILE!$G$9,COUNTRY_INFO!D34*AL34*PROFILE!$G$9,COUNTRY_INFO!D34*AM34*PROFILE!$G$9,IF(AND(DISTRICT!Z34<>\"Inconnu\",Z34<>\"Non requis\"),COUNTRY_INFO!O34*DISTRICT!AN34,0))","v":56915.499999999993},{"$f":"MAX(COUNTRY_INFO!D34*AK34*PROFILE!$G$10,COUNTRY_INFO!D34*AL34*PROFILE!$G$10,IF(AND(DISTRICT!Z34<>\"Inconnu\",Z34<>\"Non requis\"),COUNTRY_INFO!O34*DISTRICT!AO34,0))","v":37801.4},94716.9,0,{"$f":"MAX('MDA2'!J34,'T1'!L34,'T2'!J34,T3_R1!K34,T3_R2!K34)","v":0},{"$f":"MAX('MDA1'!K34,'MDA2'!K34,'MDA3'!I34,'MDA3'!L34,'T1'!M34,'T2'!K34,T3_R1!L34,T3_R2!L34)","v":0},{"$f":"MAX('MDA1'!L34,'MDA2'!L34,'MDA3'!J34,'MDA3'!M34,'T1'!N34,'T2'!L34,T3_R1!M34,T3_R2!M34)","v":0},0,{"$f":"MAX('MDA2'!J34,T34)","v":0},{"$f":"MAX('MDA1'!K34,'MDA2'!K34,'MDA3'!I34,'MDA3'!L34,V34,AD34)","v":0},{"$f":"MAX('MDA1'!L34,'MDA2'!L34,'MDA3'!J34,'MDA3'!M34,AF34)","v":0},0,0]
[{"$f":"IF(COUNTRY_INFO!A35=0,\" \",COUNTRY_INFO!A35)","v":"Burkina Faso"},{"$f":"IF(COUNTRY_INFO!B35=0,\" \",COUNTRY_INFO!B35)","v":"Centre-Nord"},{"$f":"IF(COUNTRY_INFO!C35=0,\" \",COUNTRY_INFO!C35)","v":"Tougouri"},{"$f":"COUNTRY_INFO!L35","v":"Interrompu"},null,null,{"$f":"MAX('MDA1'!M35,'MDA2'!M35)","v":0},{"$f":"IF(AND(COUNTRY_INFO!H35>0,COUNTRY_INFO!H35<4),IF(D35>MAX('MDA1'!M35,'MDA2'!M35),MAX('MDA1'!M35,'MDA2'!M35),D35),0)","v":0},{"$f":"IF(AND(COUNTRY_INFO!H35>0,COUNTRY_INFO!H35<4), IF(G35/D35*100<>0, IF(G35/D35*100>100,100,G35/D35*100), \"-\"),0)","v":0},{"$f":"COUNTRY_INFO!M35","v":0},null,null,{"$f":"MAX('MDA1'!M35,MAX('MDA3'!I35,'MDA3'!L35)+MAX('MDA3'!J35,'MDA3'!M35))","v":0},{"$f":"IF(AND(COUNTRY_INFO!I35>0,COUNTRY_INFO!I35<4),IF(J35>MAX('MDA1'!M35,MAX('MDA3'!I35,'MDA3'!L35)+MAX('MDA3'!J35,'MDA3'!M35)),MAX('MDA1'!M35,MAX('MDA3'!I35,'MDA3'!L35)+MAX('MDA3'!J35,'MDA3'!M35)),J35),0)","v":0},{"$f":"IF(AND(COUNTRY_INFO!I35>0,COUNTRY_INFO!I35<4), IF(M35/J35*100<>0, IF(M35/J35*100>100,100,M35/J35*100), \"-\"),0)","v":0},{"$f":"COUNTRY_INFO!N35","v":0},null,null,{"$f":"SUM(MAX('MDA2'!J35, 'T1'!L35, MAX(T3_R1!K35, T3_R2!K35)), MAX('MDA1'!K35, 'MDA2'!K35, 'T1'!M35, MAX(T3_R1!L35, T3_R2!L35)), MAX('MDA1'!L35, 'MDA2'!L35, 'T1'!N35, MAX(T3_R1!M35, T3_R2!M35)))","v":0},{"$f":"IF(AND(COUNTRY_INFO!J35>1,COUNTRY_INFO!J35<4),IF(COUNTRY_INFO!E35>MAX('MDA2'!J35,'T1'!L35,MAX(T3_R1!K35,T3_R2!K35)),MAX('MDA2'!J35,'T1'!L35,MAX(T3_R1!K35,T3_R2!K35)),COUNTRY_INFO!E35),0)","v":0},{"$f":"IF(AND(COUNTRY_INFO!J35>1,COUNTRY_INFO!J35<4), IF(T35/COUNTRY_INFO!E35*100<>0, IF(T35/COUNTRY_INFO!E35*100>100,100,T35/COUNTRY_INFO!E35*100), \"-\"),0)","v":0},{"$f":"IF(AND(COUNTRY_INFO!J35>1,COUNTRY_INFO!J35<4),IF(COUNTRY_INFO!F35>MAX('MDA1'!K35,'MDA2'!K35,'T1'!M35,MAX(T3_R1!L35,T3_R2!L35)),MAX('MDA1'!K35,'MDA2'!K35,'T1'!M35,MAX(T3_R1!L35,T3_R2!L35)),COUNTRY_INFO!F35),0)","v":0},{"$f":"IF(AND(COUNTRY_INFO!J35>1,COUNTRY_INFO!J35<4), IF(V35/COUNTRY_INFO!F35*100<>0, IF(V35/COUNTRY_INFO!F35*100>100,100,V35/COUNTRY_INFO!F35*100), \"-\"),0)","v":0},0,{"$f":"IF(AND(COUNTRY_INFO!J35>1,COUNTRY_INFO!J35<4), IF(S35/P35*100<>0, IF(X35/P35*100>100,100,X35/P35*100), \"-\"),0)","v":0},{"$f":"COUNTRY_INFO!O35","v":58176.7},null,null,{"$f":"MAX('T1'!L35,'T2'!J35)+MAX('T1'!M35,'T2'!K35)+MAX('T1'!N35,'T2'!L35)","v":0},{"$f":"IF(COUNTRY_INFO!K35=1,IF(COUNTRY_INFO!F35*0.33>MAX('T1'!M35,'T2'!K35),MAX('T1'!M35,'T2'!K35),COUNTRY_INFO!F35*0.33),IF(COUNTRY_INFO!K35=2,IF(COUNTRY_INFO!F35*0.5>MAX('T1'!M35,'T2'!K35),MAX('T1'!M35,'T2'!K35),COUNTRY_INFO!F35*0.5),IF(COUNTRY_INFO!K35=3,IF(COUNTRY_INFO!F35>MAX('T1'!M35,'T2'!K35),MAX('T1'!M35,'T2'!K35),COUNTRY_INFO!F35),0)))","v":0},{"$f":"IF(AND(COUNTRY_INFO!K35>0,COUNTRY_INFO!K35<4),IF(Z35>0,IF(COUNTRY_INFO!K35=1, AD35/(COUNTRY_INFO!F35*0.33)*100, IF(COUNTRY_INFO!K35=2, AD35/(COUNTRY_INFO!F35*0.5)*100, IF(COUNTRY_INFO!K35=3, AD35/COUNTRY_INFO!F35*100))),\"-\"),0)","v":0},{"$f":"IF(COUNTRY_INFO!K35=2,IF(COUNTRY_INFO!G35*0.2>MAX('T1'!N35,'T2'!L35),MAX('T1'!N35,'T2'!L35),COUNTRY_INFO!G35*0.2),IF(COUNTRY_INFO!K35=3,IF(COUNTRY_INFO!G35>MAX('T1'!N35,'T2'!L35),MAX('T1'!N35,'T2'!L35),COUNTRY_INFO!G35),0))","v":0},{"$f":"IF(AND(COUNTRY_INFO!K35>0,COUNTRY_INFO!K35<4),IF(Z35>0,IF(COUNTRY_INFO!K35=1, 0, IF(COUNTRY_INFO!K35=2, AF35/(COUNTRY_INFO!G35*0.2)*100, IF(COUNTRY_INFO!K35=3, AF35/COUNTRY_INFO!G35*100))),\"-\"),0)","v":0},0,{"$f":"IF(AND(COUNTRY_INFO!K35>0,COUNTRY_INFO!K35<4), IF(AC35/Z35*100<>0, IF(AH35/Z35*100>100,100,AH35/Z35*100), \"-\"),0)","v":"-"},null,{"$f":"IF(AND(D35<>0, D35<>\"Inconnu\",D35<>\"Interrompu\",D35<>\"Non requis\"),D35/COUNTRY_INFO!D35, 0)","v":0},{"$f":"IF(AND(J35<>0,J35<>\"Inconnu\",J35<>\"Interrompu\",J35<>\"Non requis\"),J35/COUNTRY_INFO!D35, 0)","v":0},{"$f":"IF(AND(P35<>0,P35<>\"Inconnu\",P35<>\"Non requis\"),P35/(COUNTRY_INFO!E35+COUNTRY_INFO!F35), 0)","v":0},{"$f":"IF(AND(Z35<>0,Z35<>\"Inconnu\",Z35<>\"Non requis\"),IF(COUNTRY_INFO!K35=1,1,IF(COUNTRY_INFO!K35=2,0.5*COUNTRY_INFO!F35/(0.5*COUNTRY_INFO!F35+0.2*COUNTRY_INFO!G35),IF(COUNTRY_INFO!K35=3,COUNTRY_INFO!F35/(COUNTRY_INFO!F35+COUNTRY_INFO!G35)))),0)","v":0.59600321090745956},{"$f":"IF(AND(Z35<>0,Z35<>\"Inconnu\",Z35<>\"Non requis\"),IF(COUNTRY_INFO!K35=1,0,IF(COUNTRY_INFO!K35=2,0.2*COUNTRY_INFO!G35/(0.5*COUNTRY_INFO!F35+0.2*COUNTRY_INFO!G35),IF(COUNTRY_INFO!K35=3,COUNTRY_INFO!G35/(COUNTRY_INFO!F35+COUNTRY_INFO!G35)))),0)","v":0.4039967890925405},{"$f":"MAX(COUNTRY_INFO!D35*AK35*PROFILE!$G$7,COUNTRY_INFO!D35*AL35*PROFILE!$G$7)","v":0},{"$f":"MAX(COUNTRY_INFO!D35*AK35*PROFILE!$G$8,COUNTRY_INFO!D35*AL35*PROFILE!$G$8,COUNTRY_INFO!D35*AM35*PROFILE!$G$8)","v":0},{"$f":"MAX(COUNTRY_INFO!D35*AK35*PROFILE!$G$9,COUNTRY_INFO!D35*AL35*PROFILE!$G$9,COUNTRY_INFO!D35*AM35*PROFILE!$G$9,IF(AND(DISTRICT!Z35<>\"Inconnu\",Z35<>\"Non requis\"),COUNTRY_INFO!O35*DISTRICT!AN35,0))","v":34673.5},{"$f":"MAX(COUNTRY_INFO!D35*AK35*PROFILE!$G$10,COUNTRY_INFO!D35*AL35*PROFILE!$G$10,IF(AND(DISTRICT!Z35<>\"Inconnu\",Z35<>\"Non requis\"),COUNTRY_INFO!O35*DISTRICT!AO35,0))","v":23503.200000000001},58176.7,0,{"$f":"MAX('MDA2'!J35,'T1'!L35,'T2'!J35,T3_R1!K35,T3_R2!K35)","v":0},{"$f":"MAX('MDA1'!K35,'MDA2'!K35,'MDA3'!I35,'MDA3'!L35,'T1'!M35,'T2'!K35,T3_R1!L35,T3_R2!L35)","v":0},{"$f":"MAX('MDA1'!L35,'MDA2'!L35,'MDA3'!J35,'MDA3'!M35,'T1'!N35,'T2'!L35,T3_R1!M35,T3_R2!M35)","v":0},0,{"$f":"MAX('MDA2'!J35,T35)","v":0},{"$f":"MAX('MDA1'!K35,'MDA2'!K35,'MDA3'!I35,'MDA3'!L35,V35,AD35)","v":0},{"$f":"MAX('MDA1'!L35,'MDA2'!L35,'MDA3'!J35,'MDA3'!M35,AF35)","v":0},0,0]
[{"$f":"IF(COUNTRY_INFO!A36=0,\" \",COUNTRY_INFO!A36)","v":"Burkina Faso"},{"$f":"IF(COUNTRY_INFO!B36=0,\" \",COUNTRY_INFO!B36)","v":"Centre-Ouest"},{"$f":"IF(COUNTRY_INFO!C36=0,\" \",COUNTRY_INFO!C36)","v":"Koudougou"},{"$f":"COUNTRY_INFO!L36","v":"Interrompu"},null,null,{"$f":"MAX('MDA1'!M36,'MDA2'!M36)","v":0},{"$f":"IF(AND(COUNTRY_INFO!H36>0,COUNTRY_INFO!H36<4),IF(D36>MAX('MDA1'!M36,'MDA2'!M36),MAX('MDA1'!M36,'MDA2'!M36),D36),0)","v":0},{"$f":"IF(AND(COUNTRY_INFO!H36>0,COUNTRY_INFO!H36<4), IF(G36/D36*100<>0, IF(G36/D36*100>100,100,G36/D36*100), \"-\"),0)","v":0},{"$f":"COUNTRY_INFO!M36","v":0},null,null,{"$f":"MAX('MDA1'!M36,MAX('MDA3'!I36,'MDA3'!L36)+MAX('MDA3'!J36,'MDA3'!M36))","v":0},{"$f":"IF(AND(COUNTRY_INFO!I36>0,COUNTRY_INFO!I36<4),IF(J36>MAX('MDA1'!M36,MAX('MDA3'!I36,'MDA3'!L36)+MAX('MDA3'!J36,'MDA3'!M36)),MAX('MDA1'!M36,MAX('MDA3'!I36,'MDA3'!L36)+MAX('MDA3'!J36,'MDA3'!M36)),J36),0)","v":0},{"$f":"IF(AND(COUNTRY_INFO!I36>0,COUNTRY_INFO!I36<4), IF(M36/J36*100<>0, IF(M36/J36*100>100,100,M36/J36*100), \"-\"),0)","v":0},{"$f":"COUNTRY_INFO!N36","v":0},null,null,{"$f":"SUM(MAX('MDA2'!J36, 'T1'!L36, MAX(T3_R1!K36, T3_R2!K36)), MAX('MDA1'!K36, 'MDA2'!K36, 'T1'!M36, MAX(T3_R1!L36, T3_R2!L36)), MAX('MDA1'!L36, 'MDA2'!L36, 'T1'!N36, MAX(T3_R1!M36, T3_R2!M36)))","v":0},{"$f":"IF(AND(COUNTRY_INFO!J36>1,COUNTRY_INFO!J36<4),IF(COUNTRY_INFO!E36>MAX('MDA2'!J36,'T1'!L36,MAX(T3_R1!K36,T3_R2!K36)),MAX('MDA2'!J36,'T1'!L36,MAX(T3_R1!K36,T3_R2!K36)),COUNTRY_INFO!E36),0)","v":0},{"$f":"IF(AND(COUNTRY_INFO!J36>1,COUNTRY_INFO!J36<4), IF(T36/COUNTRY_INFO!E36*100<>0, IF(T36/COUNTRY_INFO!E36*100>100,100,T36/COUNTRY_INFO!E36*100), \"-\"),0)","v":0},{"$f":"IF(AND(COUNTRY_INFO!J36>1,COUNTRY_INFO!J36<4),IF(COUNTRY_INFO!F36>MAX('MDA1'!K36,'MDA2'!K36,'T1'!M36,MAX(T3_R1!L36,T3_R2!L36)),MAX('MDA1'!K36,'MDA2'!K36,'T1'!M36,MAX(T3_R1!L36,T3_R2!L36)),COUNTRY_INFO!F36),0)","v":0},{"$f":"IF(AND(COUNTRY_INFO!J36>1,COUNTRY_INFO!J36<4), IF(V36/COUNTRY_INFO!F36*100<>0, IF(V36/COUNTRY_INFO!F36*100>100,100,V36/COUNTRY_INFO!F36*100), \"-\"),0)","v":0},0,{"$f":"IF(AND(COUNTRY_INFO!J36>1,COUNTRY_INFO!J36<4), IF(S36/P36*100<>0, IF(X36/P36*100>100,100,X36/P36*100), \"-\"),0)","v":0},{"$f":"COUNTRY_INFO!O36","v":95904.4},null,null,{"$f":"MAX('T1'!L36,'T2'!J36)+MAX('T1'!M36,'T2'!K36)+MAX('T1'!N36,'T2'!L36)","v":0},{"$f":"IF(COUNTRY_INFO!K36=1,IF(COUNTRY_INFO!F36*0.33>MAX('T1'!M36,'T2'!K36),MAX('T1'!M36,'T2'!K36),COUNTRY_INFO!F36*0.33),IF(COUNTRY_INFO!K36=2,IF(COUNTRY_INFO!F36*0.5>MAX('T1'!M36,'T2'!K36),MAX('T1'!M36,'T2'!K36),COUNTRY_INFO!F36*0.5),IF(COUNTRY_INFO!K36=3,IF(COUNTRY_INFO!F36>MAX('T1'!M36,'T2'!K36),MAX('T1'!M36,'T2'!K36),COUNTRY_INFO!F36),0)))","v":0},{"$f":"IF(AND(COUNTRY_INFO!K36>0,COUNTRY_INFO!K36<4),IF(Z36>0,IF(COUNTRY_INFO!K36=1, AD36/(COUNTRY_INFO!F36*0.33)*100, IF(COUNTRY_INFO!K36=2, AD36/(COUNTRY_INFO!F36*0.5)*100, IF(COUNTRY_INFO!K36=3, AD36/COUNTRY_INFO!F36*100))),\"-\"),0)","v":0},{"$f":"IF(COUNTRY_INFO!K36=2,IF(COUNTRY_INFO!G36*0.2>MAX('T1'!N36,'T2'!L36),MAX('T1'!N36,'T2'!L36),COUNTRY_INFO!G36*0.2),IF(COUNTRY_INFO!K36=3,IF(COUNTRY_INFO!G36>MAX('T1'!N36,'T2'!L36),MAX('T1'!N36,'T2'!L36),COUNTRY_INFO!G36),0))","v":0},{"$f":"IF(AND(COUNTRY_INFO!K36>0,COUNTRY_INFO!K36<4),IF(Z36>0,IF(COUNTRY_INFO!K36=1, 0, IF(COUNTRY_INFO!K36=2, AF36/(COUNTRY_INFO!G36*0.2)*100, IF(COUNTRY_INFO!K36=3, AF36/COUNTRY_INFO!G36*100))),\"-\"),0)","v":0},0,{"$f":"IF(AND(COUNTRY_INFO!K36>0,COUNTRY_INFO!K36<4), IF(AC36/Z36*100<>0, IF(AH36/Z36*100>100,100,AH36/Z36*100), \"-\"),0)","v":"-"},null,{"$f":"IF(AND(D36<>0, D36<>\"Inconnu\",D36<>\"Interrompu\",D36<>\"Non requis\"),D36/COUNTRY_INFO!D36, 0)","v":0},{"$f":"IF(AND(J36<>0,J36<>\"Inconnu\",J36<>\"Interrompu\",J36<>\"Non requis\"),J36/COUNTRY_INFO!D36, 0)","v":0},{"$f":"IF(AND(P36<>0,P36<>\"Inconnu\",P36<>\"Non requis\"),P36/(COUNTRY_INFO!E36+COUNTRY_INFO!F36), 0)","v":0},{"$f":"IF(AND(Z36<>0,Z36<>\"Inconnu\",Z36<>\"Non requis\"),IF(COUNTRY_INFO!K36=1,1,IF(COUNTRY_INFO!K36=2,0.5*COUNTRY_INFO!F36/(0.5*COUNTRY_INFO!F36+0.2*COUNTRY_INFO!G36),IF(COUNTRY_INFO!K36=3,COUNTRY_INFO!F36/(COUNTRY_INFO!F36+COUNTRY_INFO!G36)))),0)","v":0.57075587772823777},{"$f":"IF(AND(Z36<>0,Z36<>\"Inconnu\",Z36<>\"Non requis\"),IF(COUNTRY_INFO!K36=1,0,IF(COUNTRY_INFO!K36=2,0.2*COUNTRY_INFO!G36/(0.5*COUNTRY_INFO!F36+0.2*COUNTRY_INFO!G36),IF(COUNTRY_INFO!K36=3,COUNTRY_INFO!G36/(COUNTRY_INFO!F36+COUNTRY_INFO!G36)))),0)","v":0.42924412227176234},{"$f":"MAX(COUNTRY_INFO!D36*AK36*PROFILE!$G$7,COUNTRY_INFO!D36*AL36*PROFILE!$G$7)","v":0},{"$f":"MAX(COUNTRY_INFO!D36*AK36*PROFILE!$G$8,COUNTRY_INFO!D36*AL36*PROFILE!$G$8,COUNTRY_INFO!D36*AM36*PROFILE!$G$8)","v":0},{"$f":"MAX(COUNTRY_INFO!D36*AK36*PROFILE!$G$9,COUNTRY_INFO!D36*AL36*PROFILE!$G$9,COUNTRY_INFO!D36*AM36*PROFILE!$G$9,IF(AND(DISTRICT!Z36<>\"Inconnu\",Z36<>\"Non requis\"),COUNTRY_INFO!O36*DISTRICT!AN36,0))","v":54738},{"$f":"MAX(COUNTRY_INFO!D36*AK36*PROFILE!$G$10,COUNTRY_INFO!D36*AL36*PROFILE!$G$10,IF(AND(DISTRICT!Z36<>\"Inconnu\",Z36<>\"Non requis\"),COUNTRY_INFO!O36*DISTRICT!AO36,0))","v":41166.400000000001},95904.4,0,{"$f":"MAX('MDA2'!J36,'T1'!L36,'T2'!J36,T3_R1!K36,T3_R2!K36)","v":0},{"$f":"MAX('MDA1'!K36,'MDA2'!K36,'MDA3'!I36,'MDA3'!L36,'T1'!M36,'T2'!K36,T3_R1!L36,T3_R2!L36)","v":0},{"$f":"MAX('MDA1'!L36,'MDA2'!L36,'MDA3'!J36,'MDA3'!M36,'T1'!N36,'T2'!L36,T3_R1!M36,T3_R2!M36)","v":0},0,{"$f":"MAX('MDA2'!J36,T36)","v":0},{"$f":"MAX('MDA1'!K36,'MDA2'!K36,'MDA3'!I36,'MDA3'!L36,V36,AD36)","v":0},{"$f":"MAX('MDA1'!L36,'MDA2'!L36,'MDA3'!J36,'MDA3'!M36,AF36)","v":0},0,0]
[{"$f":"IF(COUNTRY_INFO!A37=0,\" \",COUNTRY_INFO!A37)","v":"Burkina Faso"},{"$f":"IF(COUNTRY_INFO!B37=0,\" \",COUNTRY_INFO!B37)","v":"Centre-Ouest"},{"$f":"IF(COUNTRY_INFO!C37=0,\" \",COUNTRY_INFO!C37)","v":"Léo"},{"$f":"COUNTRY_INFO!L37","v":"Interrompu"},null,null,{"$f":"MAX('MDA1'!M37,'MDA2'!M37)","v":0},{"$f":"IF(AND(COUNTRY_INFO!H37>0,COUNTRY_INFO!H37<4),IF(D37>MAX('MDA1'!M37,'MDA2'!M37),MAX('MDA1'!M37,'MDA2'!M37),D37),0)","v":0},{"$f":"IF(AND(COUNTRY_INFO!H37>0,COUNTRY_INFO!H37<4), IF(G37/D37*100<>0, IF(G37/D37*100>100,100,G37/D37*100), \"-\"),0)","v":0},{"$f":"COUNTRY_INFO!M37","v":0},null,null,{"$f":"MAX('MDA1'!M37,MAX('MDA3'!I37,'MDA3'!L37)+MAX('MDA3'!J37,'MDA3'!M37))","v":0},{"$f":"IF(AND(COUNTRY_INFO!I37>0,COUNTRY_INFO!I37<4),IF(J37>MAX('MDA1'!M37,MAX('MDA3'!I37,'MDA3'!L37)+MAX('MDA3'!J37,'MDA3'!M37)),MAX('MDA1'!M37,MAX('MDA3'!I37,'MDA3'!L37)+MAX('MDA3'!J37,'MDA3'!M37)),J37),0)","v":0},{"$f":"IF(AND(COUNTRY_INFO!I37>0,COUNTRY_INFO!I37<4), IF(M37/J37*100<>0, IF(M37/J37*100>100,100,M37/J37*100), \"-\"),0)","v":0},{"$f":"COUNTRY_INFO!N37","v":0},null,null,{"$f":"SUM(MAX('MDA2'!J37, 'T1'!L37, MAX(T3_R1!K37, T3_R2!K37)), MAX('MDA1'!K37, 'MDA2'!K37, 'T1'!M37, MAX(T3_R1!L37, T3_R2!L37)), MAX('MDA1'!L37, 'MDA2'!L37, 'T1'!N37, MAX(T3_R1!M37, T3_R2!M37)))","v":0},{"$f":"IF(AND(COUNTRY_INFO!J37>1,COUNTRY_INFO!J37<4),IF(COUNTRY_INFO!E37>MAX('MDA2'!J37,'T1'!L37,MAX(T3_R1!K37,T3_R2!K37)),MAX('MDA2'!J37,'T1'!L37,MAX(T3_R1!K37,T3_R2!K37)),COUNTRY_INFO!E37),0)","v":0},{"$f":"IF(AND(COUNTRY_INFO!J37>1,COUNTRY_INFO!J37<4), IF(T37/COUNTRY_INFO!E37*100<>0, IF(T37/COUNTRY_INFO!E37*100>100,100,T37/COUNTRY_INFO!E37*100), \"-\"),0)","v":0},{"$f":"IF(AND(COUNTRY_INFO!J37>1,COUNTRY_INFO!J37<4),IF(COUNTRY_INFO!F37>MAX('MDA1'!K37,'MDA2'!K37,'T1'!M37,MAX(T3_R1!L37,T3_R2!L37)),MAX('MDA1'!K37,'MDA2'!K37,'T1'!M37,MAX(T3_R1!L37,T3_R2!L37)),COUNTRY_INFO!F37),0)","v":0},{"$f":"IF(AND(COUNTRY_INFO!J37>1,COUNTRY_INFO!J37<4), IF(V37/COUNTRY_INFO!F37*100<>0, IF(V37/COUNTRY_INFO!F37*100>100,100,V37/COUNTRY_INFO!F37*100), \"-\"),0)","v":0},0,{"$f":"IF(AND(COUNTRY_INFO!J37>1,COUNTRY_INFO!J37<4), IF(S37/P37*100<>0, IF(X37/P37*100>100,100,X37/P37*100), \"-\"),0)","v":0},{"$f":"COUNTRY_INFO!O37","v":73019.100000000006},null,null,{"$f":"MAX('T1'!L37,'T2'!J37)+MAX('T1'!M37,'T2'!K37)+MAX('T1'!N37,'T2'!L37)","v":0},{"$f":"IF(COUNTRY_INFO!K37=1,IF(COUNTRY_INFO!F37*0.33>MAX('T1'!M37,'T2'!K37),MAX('T1'!M37,'T2'!K37),COUNTRY_INFO!F37*0.33),IF(COUNTRY_INFO!K37=2,IF(COUNTRY_INFO!F37*0.5>MAX('T1'!M37,'T2'!K37),MAX('T1'!M37,'T2'!K37),COUNTRY_INFO!F37*0.5),IF(COUNTRY_INFO!K37=3,IF(COUNTRY_INFO!F37>MAX('T1'!M37,'T2'!K37),MAX('T1'!M37,'T2'!K37),COUNTRY_INFO!F37),0)))","v":0},{"$f":"IF(AND(COUNTRY_INFO!K37>0,COUNTRY_INFO!K37<4),IF(Z37>0,IF(COUNTRY_INFO!K37=1, AD37/(COUNTRY_INFO!F37*0.33)*100, IF(COUNTRY_INFO!K37=2, AD37/(COUNTRY_INFO!F37*0.5)*100, IF(COUNTRY_INFO!K37=3, AD37/COUNTRY_INFO!F37*100))),\"-\"),0)","v":0},{"$f":"IF(COUNTRY_INFO!K37=2,IF(COUNTRY_INFO!G37*0.2>MAX('T1'!N37,'T2'!L37),MAX('T1'!N37,'T2'!L37),COUNTRY_INFO!G37*0.2),IF(COUNTRY_INFO!K37=3,IF(COUNTRY_INFO!G37>MAX('T1'!N37,'T2'!L37),MAX('T1'!N37,'T2'!L37),COUNTRY_INFO!G37),0))","v":0},{"$f":"IF(AND(COUNTRY_INFO!K37>0,COUNTRY_INFO!K37<4),IF(Z37>0,IF(COUNTRY_INFO!K37=1, 0, IF(COUNTRY_INFO!K37=2, AF37/(COUNTRY_INFO!G37*0.2)*100, IF(COUNTRY_INFO!K37=3, AF37/COUNTRY_INFO!G37*100))),\"-\"),0)","v":0},0,{"$f":"IF(AND(COUNTRY_INFO!K37>0,COUNTRY_INFO!K37<4), IF(AC37/Z37*100<>0, IF(AH37/Z37*100>100,100,AH37/Z37*100), \"-\"),0)","v":"-"},null,{"$f":"IF(AND(D37<>0, D37<>\"Inconnu\",D37<>\"Interrompu\",D37<>\"Non requis\"),D37/COUNTRY_INFO!D37, 0)","v":0},{"$f":"IF(AND(J37<>0,J37<>\"Inconnu\",J37<>\"Interrompu\",J37<>\"Non requis\"),J37/COUNTRY_INFO!D37, 0)","v":0},{"$f":"IF(AND(P37<>0,P37<>\"Inconnu\",P37<>\"Non requis\"),P37/(COUNTRY_INFO!E37+COUNTRY_INFO!F37), 0)","v":0},{"$f":"IF(AND(Z37<>0,Z37<>\"Inconnu\",Z37<>\"Non requis\"),IF(COUNTRY_INFO!K37=1,1,IF(COUNTRY_INFO!K37=2,0.5*COUNTRY_INFO!F37/(0.5*COUNTRY_INFO!F37+0.2*COUNTRY_INFO!G37),IF(COUNTRY_INFO!K37=3,COUNTRY_INFO!F37/(COUNTRY_INFO!F37+COUNTRY_INFO!G37)))),0)","v":0.59045510010394531},{"$f":"IF(AND(Z37<>0,Z37<>\"Inconnu\",Z37<>\"Non requis\"),IF(COUNTRY_INFO!K37=1,0,IF(COUNTRY_INFO!K37=2,0.2*COUNTRY_INFO!G37/(0.5*COUNTRY_INFO!F37+0.2*COUNTRY_INFO!G37),IF(COUNTRY_INFO!K37=3,COUNTRY_INFO!G37/(COUNTRY_INFO!F37+COUNTRY_INFO!G37)))),0)","v":0.40954489989605458},{"$f":"MAX(COUNTRY_INFO!D37*AK37*PROFILE!$G$7,COUNTRY_INFO!D37*AL37*PROFILE!$G$7)","v":0},{"$f":"MAX(COUNTRY_INFO!D37*AK37*PROFILE!$G$8,COUNTRY_INFO!D37*AL37*PROFILE!$G$8,COUNTRY_INFO!D37*AM37*PROFILE!$G$8)","v":0},{"$f":"MAX(COUNTRY_INFO!D37*AK37*PROFILE!$G$9,COUNTRY_INFO!D37*AL37*PROFILE!$G$9,COUNTRY_INFO!D37*AM37*PROFILE!$G$9,IF(AND(DISTRICT!Z37<>\"Inconnu\",Z37<>\"Non requis\"),COUNTRY_INFO!O37*DISTRICT!AN37,0))","v":43114.499999999993},{"$f":"MAX(COUNTRY_INFO!D37*AK37*PROFILE!$G$10,COUNTRY_INFO!D37*AL37*PROFILE!$G$10,IF(AND(DISTRICT!Z37<>\"Inconnu\",Z37<>\"Non requis\"),COUNTRY_INFO!O37*DISTRICT!AO37,0))","v":29904.600000000002},73019.099999999991,0,{"$f":"MAX('MDA2'!J37,'T1'!L37,'T2'!J37,T3_R1!K37,T3_R2!K37)","v":0},{"$f":"MAX('MDA1'!K37,'MDA2'!K37,'MDA3'!I37,'MDA3'!L37,'T1'!M37,'T2'!K37,T3_R1!L37,T3_R2!L37)","v":0},{"$f":"MAX('MDA1'!L37,'MDA2'!L37,'MDA3'!J37,'MDA3'!M37,'T1'!N37,'T2'!L37,T3_R1!M37,T3_R2!M37)","v":0},0,{"$f":"MAX('MDA2'!J37,T37)","v":0},{"$f":"MAX('MDA1'!K37,'MDA2'!K37,'MDA3'!I37,'MDA3'!L37,V37,AD37)","v":0},{"$f":"MAX('MDA1'!L37,'MDA2'!L37,'MDA3'!J37,'MDA3'!M37,AF37)","v":0},0,0]
[{"$f":"IF(COUNTRY_INFO!A38=0,\" \",COUNTRY_INFO!A38)","v":"Burkina Faso"},{"$f":"IF(COUNTRY_INFO!B38=0,\" \",COUNTRY_INFO!B38)","v":"Centre-Ouest"},{"$f":"IF(COUNTRY_INFO!C38=0,\" \",COUNTRY_INFO!C38)","v":"Nanoro"},{"$f":"COUNTRY_INFO!L38","v":"Interrompu"},null,null,{"$f":"MAX('MDA1'!M38,'MDA2'!M38)","v":0},{"$f":"IF(AND(COUNTRY_INFO!H38>0,COUNTRY_INFO!H38<4),IF(D38>MAX('MDA1'!M38,'MDA2'!M38),MAX('MDA1'!M38,'MDA2'!M38),D38),0)","v":0},{"$f":"IF(AND(COUNTRY_INFO!H38>0,COUNTRY_INFO!H38<4), IF(G38/D38*100<>0, IF(G38/D38*100>100,100,G38/D38*100), \"-\"),0)","v":0},{"$f":"COUNTRY_INFO!M38","v":0},null,null,{"$f":"MAX('MDA1'!M38,MAX('MDA3'!I38,'MDA3'!L38)+MAX('MDA3'!J38,'MDA3'!M38))","v":0},{"$f":"IF(AND(COUNTRY_INFO!I38>0,COUNTRY_INFO!I38<4),IF(J38>MAX('MDA1'!M38,MAX('MDA3'!I38,'MDA3'!L38)+MAX('MDA3'!J38,'MDA3'!M38)),MAX('MDA1'!M38,MAX('MDA3'!I38,'MDA3'!L38)+MAX('MDA3'!J38,'MDA3'!M38)),J38),0)","v":0},{"$f":"IF(AND(COUNTRY_INFO!I38>0,COUNTRY_INFO!I38<4), IF(M38/J38*100<>0, IF(M38/J38*100>100,100,M38/J38*100), \"-\"),0)","v":0},{"$f":"COUNTRY_INFO!N38","v":0},null,null,{"$f":"SUM(MAX('MDA2'!J38, 'T1'!L38, MAX(T3_R1!K38, T3_R2!K38)), MAX('MDA1'!K38, 'MDA2'!K38, 'T1'!M38, MAX(T3_R1!L38, T3_R2!L38)), MAX('MDA1'!L38, 'MDA2'!L38, 'T1'!N38, MAX(T3_R1!M38, T3_R2!M38)))","v":0},{"$f":"IF(AND(COUNTRY_INFO!J38>1,COUNTRY_INFO!J38<4),IF(COUNTRY_INFO!E38>MAX('MDA2'!J38,'T1'!L38,MAX(T3_R1!K38,T3_R2!K38)),MAX('MDA2'!J38,'T1'!L38,MAX(T3_R1!K38,T3_R2!K38)),COUNTRY_INFO!E38),0)","v":0},{"$f":"IF(AND(COUNTRY_INFO!J38>1,COUNTRY_INFO!J38<4), IF(T38/COUNTRY_INFO!E38*100<>0, IF(T38/COUNTRY_INFO!E38*100>100,100,T38/COUNTRY_INFO!E38*100), \"-\"),0)","v":0},{"$f":"IF(AND(COUNTRY_INFO!J38>1,COUNTRY_INFO!J38<4),IF(COUNTRY_INFO!F38>MAX('MDA1'!K38,'MDA2'!K38,'T1'!M38,MAX(T3_R1!L38,T3_R2!L38)),MAX('MDA1'!K38,'MDA2'!K38,'T1'!M38,MAX(T3_R1!L38,T3_R2!L38)),COUNTRY_INFO!F38),0)","v":0},{"$f":"IF(AND(COUNTRY_INFO!J38>1,COUNTRY_INFO!J38<4), IF(V38/COUNTRY_INFO!F38*100<>0, IF(V38/COUNTRY_INFO!F38*100>100,100,V38/COUNTRY_INFO!F38*100), \"-\"),0)","v":0},0,{"$f":"IF(AND(COUNTRY_INFO!J38>1,COUNTRY_INFO!J38<4), IF(S38/P38*100<>0, IF(X38/P38*100>100,100,X38/P38*100), \"-\"),0)","v":0},{"$f":"COUNTRY_INFO!O38","v":43776.100000000006},null,null,{"$f":"MAX('T1'!L38,'T2'!J38)+MAX('T1'!M38,'T2'!K38)+MAX('T1'!N38,'T2'!L38)","v":0},{"$f":"IF(COUNTRY_INFO!K38=1,IF(COUNTRY_INFO!F38*0.33>MAX('T1'!M38,'T2'!K38),MAX('T1'!M38,'T2'!K38),COUNTRY_INFO!F38*0.33),IF(COUNTRY_INFO!K38=2,IF(COUNTRY_INFO!F38*0.5>MAX('T1'!M38,'T2'!K38),MAX('T1'!M38,'T2'!K38),COUNTRY_INFO!F38*0.5),IF(COUNTRY_INFO!K38=3,IF(COUNTRY_INFO!F38>MAX('T1'!M38,'T2'!K38),MAX('T1'!M38,'T2'!K38),COUNTRY_INFO!F38),0)))","v":0},{"$f":"IF(AND(COUNTRY_INFO!K38>0,COUNTRY_INFO!K38<4),IF(Z38>0,IF(COUNTRY_INFO!K38=1, AD38/(COUNTRY_INFO!F38*0.33)*100, IF(COUNTRY_INFO!K38=2, AD38/(COUNTRY_INFO!F38*0.5)*100, IF(COUNTRY_INFO!K38=3, AD38/COUNTRY_INFO!F38*100))),\"-\"),0)","v":0},{"$f":"IF(COUNTRY_INFO!K38=2,IF(COUNTRY_INFO!G38*0.2>MAX('T1'!N38,'T2'!L38),MAX('T1'!N38,'T2'!L38),COUNTRY_INFO!G38*0.2),IF(COUNTRY_INFO!K38=3,IF(COUNTRY_INFO!G38>MAX('T1'!N38,'T2'!L38),MAX('T1'!N38,'T2'!L38),COUNTRY_INFO!G38),0))","v":0},{"$f":"IF(AND(COUNTRY_INFO!K38>0,COUNTRY_INFO!K38<4),IF(Z38>0,IF(COUNTRY_INFO!K38=1, 0, IF(COUNTRY_INFO!K38=2, AF38/(COUNTRY_INFO!G38*0.2)*100, IF(COUNTRY_INFO!K38=3, AF38/COUNTRY_INFO!G38*100))),\"-\"),0)","v":0},0,{"$f":"IF(AND(COUNTRY_INFO!K38>0,COUNTRY_INFO!K38<4), IF(AC38/Z38*100<>0, IF(AH38/Z38*100>100,100,AH38/Z38*100), \"-\"),0)","v":"-"},null,{"$f":"IF(AND(D38<>0, D38<>\"Inconnu\",D38<>\"Interrompu\",D38<>\"Non requis\"),D38/COUNTRY_INFO!D38, 0)","v":0},{"$f":"IF(AND(J38<>0,J38<>\"Inconnu\",J38<>\"Interrompu\",J38<>\"Non requis\"),J38/COUNTRY_INFO!D38, 0)","v":0},{"$f":"IF(AND(P38<>0,P38<>\"Inconnu\",P38<>\"Non requis\"),P38/(COUNTRY_INFO!E38+COUNTRY_INFO!F38), 0)","v":0},{"$f":"IF(AND(Z38<>0,Z38<>\"Inconnu\",Z38<>\"Non requis\"),IF(COUNTRY_INFO!K38=1,1,IF(COUNTRY_INFO!K38=2,0.5*COUNTRY_INFO!F38/(0.5*COUNTRY_INFO!F38+0.2*COUNTRY_INFO!G38),IF(COUNTRY_INFO!K38=3,COUNTRY_INFO!F38/(COUNTRY_INFO!F38+COUNTRY_INFO!G38)))),0)","v":0.61783713030626297},{"$f":"IF(AND(Z38<>0,Z38<>\"Inconnu\",Z38<>\"Non requis\"),IF(COUNTRY_INFO!K38=1,0,IF(COUNTRY_INFO!K38=2,0.2*COUNTRY_INFO!G38/(0.5*COUNTRY_INFO!F38+0.2*COUNTRY_INFO!G38),IF(COUNTRY_INFO!K38=3,COUNTRY_INFO!G38/(COUNTRY_INFO!F38+COUNTRY_INFO!G38)))),0)","v":0.38216286969373697},{"$f":"MAX(COUNTRY_INFO!D38*AK38*PROFILE!$G$7,COUNTRY_INFO!D38*AL38*PROFILE!$G$7)","v":0},{"$f":"MAX(COUNTRY_INFO!D38*AK38*PROFILE!$G$8,COUNTRY_INFO!D38*AL38*PROFILE!$G$8,COUNTRY_INFO!D38*AM38*PROFILE!$G$8)","v":0},{"$f":"MAX(COUNTRY_INFO!D38*AK38*PROFILE!$G$9,COUNTRY_INFO!D38*AL38*PROFILE!$G$9,COUNTRY_INFO!D38*AM38*PROFILE!$G$9,IF(AND(DISTRICT!Z38<>\"Inconnu\",Z38<>\"Non requis\"),COUNTRY_INFO!O38*DISTRICT!AN38,0))","v":27046.500000000004},{"$f":"MAX(COUNTRY_INFO!D38*AK38*PROFILE!$G$10,COUNTRY_INFO!D38*AL38*PROFILE!$G$10,IF(AND(DISTRICT!Z38<>\"Inconnu\",Z38<>\"Non requis\"),COUNTRY_INFO!O38*DISTRICT!AO38,0))","v":16729.600000000002},43776.100000000006,0,{"$f":"MAX('MDA2'!J38,'T1'!L38,'T2'!J38,T3_R1!K38,T3_R2!K38)","v":0},{"$f":"MAX('MDA1'!K38,'MDA2'!K38,'MDA3'!I38,'MDA3'!L38,'T1'!M38,'T2'!K38,T3_R1!L38,T3_R2!L38)","v":0},{"$f":"MAX('MDA1'!L38,'MDA2'!L38,'MDA3'!J38,'MDA3'!M38,'T1'!N38,'T2'!L38,T3_R1!M38,T3_R2!M38)","v":0},0,{"$f":"MAX('MDA2'!J38,T38)","v":0},{"$f":"MAX('MDA1'!K38,'MDA2'!K38,'MDA3'!I38,'MDA3'!L38,V38,AD38)","v":0},{"$f":"MAX('MDA1'!L38,'MDA2'!L38,'MDA3'!J38,'MDA3'!M38,AF38)","v":0},0,0]
[{"$f":"IF(COUNTRY_INFO!A39=0,\" \",COUNTRY_INFO!A39)","v":"Burkina Faso"},{"$f":"IF(COUNTRY_INFO!B39=0,\" \",COUNTRY_INFO!B39)","v":"Centre-Ouest"},{"$f":"IF(COUNTRY_INFO!C39=0,\" \",COUNTRY_INFO!C39)","v":"Réo"},{"$f":"COUNTRY_INFO!L39","v":"Interrompu"},null,null,{"$f":"MAX('MDA1'!M39,'MDA2'!M39)","v":0},{"$f":"IF(AND(COUNTRY_INFO!H39>0,COUNTRY_INFO!H39<4),IF(D39>MAX('MDA1'!M39,'MDA2'!M39),MAX('MDA1'!M39,'MDA2'!M39),D39),0)","v":0},{"$f":"IF(AND(COUNTRY_INFO!H39>0,COUNTRY_INFO!H39<4), IF(G39/D39*100<>0, IF(G39/D39*100>100,100,G39/D39*100), \"-\"),0)","v":0},{"$f":"COUNTRY_INFO!M39","v":0},null,null,{"$f":"MAX('MDA1'!M39,MAX('MDA3'!I39,'MDA3'!L39)+MAX('MDA3'!J39,'MDA3'!M39))","v":0},{"$f":"IF(AND(COUNTRY_INFO!I39>0,COUNTRY_INFO!I39<4),IF(J39>MAX('MDA1'!M39,MAX('MDA3'!I39,'MDA3'!L39)+MAX('MDA3'!J39,'MDA3'!M39)),MAX('MDA1'!M39,MAX('MDA3'!I39,'MDA3'!L39)+MAX('MDA3'!J39,'MDA3'!M39)),J39),0)","v":0},{"$f":"IF(AND(COUNTRY_INFO!I39>0,COUNTRY_INFO!I39<4), IF(M39/J39*100<>0, IF(M39/J39*100>100,100,M39/J39*100), \"-\"),0)","v":0},{"$f":"COUNTRY_INFO!N39","v":0},null,null,{"$f":"SUM(MAX('MDA2'!J39, 'T1'!L39, MAX(T3_R1!K39, T3_R2!K39)), MAX('MDA1'!K39, 'MDA2'!K39, 'T1'!M39, MAX(T3_R1!L39, T3_R2!L39)), MAX('MDA1'!L39, 'MDA2'!L39, 'T1'!N39, MAX(T3_R1!M39, T3_R2!M39)))","v":0},{"$f":"IF(AND(COUNTRY_INFO!J39>1,COUNTRY_INFO!J39<4),IF(COUNTRY_INFO!E39>MAX('MDA2'!J39,'T1'!L39,MAX(T3_R1!K39,T3_R2!K39)),MAX('MDA2'!J39,'T1'!L39,MAX(T3_R1!K39,T3_R2!K39)),COUNTRY_INFO!E39),0)","v":0},{"$f":"IF(AND(COUNTRY_INFO!J39>1,COUNTRY_INFO!J39<4), IF(T39/COUNTRY_INFO!E39*100<>0, IF(T39/COUNTRY_INFO!E39*100>100,100,T39/COUNTRY_INFO!E39*100), \"-\"),0)","v":0},{"$f":"IF(AND(COUNTRY_INFO!J39>1,COUNTRY_INFO!J39<4),IF(COUNTRY_INFO!F39>MAX('MDA1'!K39,'MDA2'!K39,'T1'!M39,MAX(T3_R1!L39,T3_R2!L39)),MAX('MDA1'!K39,'MDA2'!K39,'T1'!M39,MAX(T3_R1!L39,T3_R2!L39)),COUNTRY_INFO!F39),0)","v":0},{"$f":"IF(AND(COUNTRY_INFO!J39>1,COUNTRY_INFO!J39<4), IF(V39/COUNTRY_INFO!F39*100<>0, IF(V39/COUNTRY_INFO!F39*100>100,100,V39/COUNTRY_INFO!F39*100), \"-\"),0)","v":0},0,{"$f":"IF(AND(COUNTRY_INFO!J39>1,COUNTRY_INFO!J39<4), IF(S39/P39*100<>0, IF(X39/P39*100>100,100,X39/P39*100), \"-\"),0)","v":0},{"$f":"COUNTRY_INFO!O39","v":51536.600000000006},null,null,{"$f":"MAX('T1'!L39,'T2'!J39)+MAX('T1'!M39,'T2'!K39)+MAX('T1'!N39,'T2'!L39)","v":0},{"$f":"IF(COUNTRY_INFO!K39=1,IF(COUNTRY_INFO!F39*0.33>MAX('T1'!M39,'T2'!K39),MAX('T1'!M39,'T2'!K39),COUNTRY_INFO!F39*0.33),IF(COUNTRY_INFO!K39=2,IF(COUNTRY_INFO!F39*0.5>MAX('T1'!M39,'T2'!K39),MAX('T1'!M39,'T2'!K39),COUNTRY_INFO!F39*0.5),IF(COUNTRY_INFO!K39=3,IF(COUNTRY_INFO!F39>MAX('T1'!M39,'T2'!K39),MAX('T1'!M39,'T2'!K39),COUNTRY_INFO!F39),0)))","v":0},{"$f":"IF(AND(COUNTRY_INFO!K39>0,COUNTRY_INFO!K39<4),IF(Z39>0,IF(COUNTRY_INFO!K39=1, AD39/(COUNTRY_INFO!F39*0.33)*100, IF(COUNTRY_INFO!K39=2, AD39/(COUNTRY_INFO!F39*0.5)*100, IF(COUNTRY_INFO!K39=3, AD39/COUNTRY_INFO!F39*100))),\"-\"),0)","v":0},{"$f":"IF(COUNTRY_INFO!K39=2,IF(COUNTRY_INFO!G39*0.2>MAX('T1'!N39,'T2'!L39),MAX('T1'!N39,'T2'!L39),COUNTRY_INFO!G39*0.2),IF(COUNTRY_INFO!K39=3,IF(COUNTRY_INFO!G39>MAX('T1'!N39,'T2'!L39),MAX('T1'!N39,'T2'!L39),COUNTRY_INFO!G39),0))","v":0},{"$f":"IF(AND(COUNTRY_INFO!K39>0,COUNTRY_INFO!K39<4),IF(Z39>0,IF(COUNTRY_INFO!K39=1, 0, IF(COUNTRY_INFO!K39=2, AF39/(COUNTRY_INFO!G39*0.2)*100, IF(COUNTRY_INFO!K39=3, AF39/COUNTRY_INFO!G39*100))),\"-\"),0)","v":0},0,{"$f":"IF(AND(COUNTRY_INFO!K39>0,COUNTRY_INFO!K39<4), IF(AC39/Z39*100<>0, IF(AH39/Z39*100>100,100,AH39/Z39*100), \"-\"),0)","v":"-"},null,{"$f":"IF(AND(D39<>0, D39<>\"Inconnu\",D39<>\"Interrompu\",D39<>\"Non requis\"),D39/COUNTRY_INFO!D39, 0)","v":0},{"$f":"IF(AND(J39<>0,J39<>\"Inconnu\",J39<>\"Interrompu\",J39<>\"Non requis\"),J39/COUNTRY_INFO!D39, 0)","v":0},{"$f":"IF(AND(P39<>0,P39<>\"Inconnu\",P39<>\"Non requis\"),P39/(COUNTRY_INFO!E39+COUNTRY_INFO!F39), 0)","v":0},{"$f":"IF(AND(Z39<>0,Z39<>\"Inconnu\",Z39<>\"Non requis\"),IF(COUNTRY_INFO!K39=1,1,IF(COUNTRY_INFO!K39=2,0.5*COUNTRY_INFO!F39/(0.5*COUNTRY_INFO!F39+0.2*COUNTRY_INFO!G39),IF(COUNTRY_INFO!K39=3,COUNTRY_INFO!F39/(COUNTRY_INFO!F39+COUNTRY_INFO!G39)))),0)","v":0.590318336871272},{"$f":"IF(AND(Z39<>0,Z39<>\"Inconnu\",Z39<>\"Non requis\"),IF(COUNTRY_INFO!K39=1,0,IF(COUNTRY_INFO!K39=2,0.2*COUNTRY_INFO!G39/(0.5*COUNTRY_INFO!F39+0.2*COUNTRY_INFO!G39),IF(COUNTRY_INFO!K39=3,COUNTRY_INFO!G39/(COUNTRY_INFO!F39+COUNTRY_INFO!G39)))),0)","v":0.40968166312872795},{"$f":"MAX(COUNTRY_INFO!D39*AK39*PROFILE!$G$7,COUNTRY_INFO!D39*AL39*PROFILE!$G$7)","v":0},{"$f":"MAX(COUNTRY_INFO!D39*AK39*PROFILE!$G$8,COUNTRY_INFO!D39*AL39*PROFILE!$G$8,COUNTRY_INFO!D39*AM39*PROFILE!$G$8)","v":0},{"$f":"MAX(COUNTRY_INFO!D39*AK39*PROFILE!$G$9,COUNTRY_INFO!D39*AL39*PROFILE!$G$9,COUNTRY_INFO!D39*AM39*PROFILE!$G$9,IF(AND(DISTRICT!Z39<>\"Inconnu\",Z39<>\"Non requis\"),COUNTRY_INFO!O39*DISTRICT!AN39,0))","v":30423},{"$f":"MAX(COUNTRY_INFO!D39*AK39*PROFILE!$G$10,COUNTRY_INFO!D39*AL39*PROFILE!$G$10,IF(AND(DISTRICT!Z39<>\"Inconnu\",Z39<>\"Non requis\"),COUNTRY_INFO!O39*DISTRICT!AO39,0))","v":21113.600000000002},51536.600000000006,0,{"$f":"MAX('MDA2'!J39,'T1'!L39,'T2'!J39,T3_R1!K39,T3_R2!K39)","v":0},{"$f":"MAX('MDA1'!K39,'MDA2'!K39,'MDA3'!I39,'MDA3'!L39,'T1'!M39,'T2'!K39,T3_R1!L39,T3_R2!L39)","v":0},{"$f":"MAX('MDA1'!L39,'MDA2'!L39,'MDA3'!J39,'MDA3'!M39,'T1'!N39,'T2'!L39,T3_R1!M39,T3_R2!M39)","v":0},0,{"$f":"MAX('MDA2'!J39,T39)","v":0},{"$f":"MAX('MDA1'!K39,'MDA2'!K39,'MDA3'!I39,'MDA3'!L39,V39,AD39)","v":0},{"$f":"MAX('MDA1'!L39,'MDA2'!L39,'MDA3'!J39,'MDA3'!M39,AF39)","v":0},0,0]
[{"$f":"IF(COUNTRY_INFO!A40=0,\" \",COUNTRY_INFO!A40)","v":"Burkina Faso"},{"$f":"IF(COUNTRY_INFO!B40=0,\" \",COUNTRY_INFO!B40)","v":"Centre-Ouest"},{"$f":"IF(COUNTRY_INFO!C40=0,\" \",COUNTRY_INFO!C40)","v":"Sabou"},{"$f":"COUNTRY_INFO!L40","v":"Interrompu"},null,null,{"$f":"MAX('MDA1'!M40,'MDA2'!M40)","v":0},{"$f":"IF(AND(COUNTRY_INFO!H40>0,COUNTRY_INFO!H40<4),IF(D40>MAX('MDA1'!M40,'MDA2'!M40),MAX('MDA1'!M40,'MDA2'!M40),D40),0)","v":0},{"$f":"IF(AND(COUNTRY_INFO!H40>0,COUNTRY_INFO!H40<4), IF(G40/D40*100<>0, IF(G40/D40*100>100,100,G40/D40*100), \"-\"),0)","v":0},{"$f":"COUNTRY_INFO!M40","v":0},null,null,{"$f":"MAX('MDA1'!M40,MAX('MDA3'!I40,'MDA3'!L40)+MAX('MDA3'!J40,'MDA3'!M40))","v":0},{"$f":"IF(AND(COUNTRY_INFO!I40>0,COUNTRY_INFO!I40<4),IF(J40>MAX('MDA1'!M40,MAX('MDA3'!I40,'MDA3'!L40)+MAX('MDA3'!J40,'MDA3'!M40)),MAX('MDA1'!M40,MAX('MDA3'!I40,'MDA3'!L40)+MAX('MDA3'!J40,'MDA3'!M40)),J40),0)","v":0},{"$f":"IF(AND(COUNTRY_INFO!I40>0,COUNTRY_INFO!I40<4), IF(M40/J40*100<>0, IF(M40/J40*100>100,100,M40/J40*100), \"-\"),0)","v":0},{"$f":"COUNTRY_INFO!N40","v":0},null,null,{"$f":"SUM(MAX('MDA2'!J40, 'T1'!L40, MAX(T3_R1!K40, T3_R2!K40)), MAX('MDA1'!K40, 'MDA2'!K40, 'T1'!M40, MAX(T3_R1!L40, T3_R2!L40)), MAX('MDA1'!L40, 'MDA2'!L40, 'T1'!N40, MAX(T3_R1!M40, T3_R2!M40)))","v":0},{"$f":"IF(AND(COUNTRY_INFO!J40>1,COUNTRY_INFO!J40<4),IF(COUNTRY_INFO!E40>MAX('MDA2'!J40,'T1'!L40,MAX(T3_R1!K40,T3_R2!K40)),MAX('MDA2'!J40,'T1'!L40,MAX(T3_R1!K40,T3_R2!K40)),COUNTRY_INFO!E40),0)","v":0},{"$f":"IF(AND(COUNTRY_INFO!J40>1,COUNTRY_INFO!J40<4), IF(T40/COUNTRY_INFO!E40*100<>0, IF(T40/COUNTRY_INFO!E40*100>100,100,T40/COUNTRY_INFO!E40*100), \"-\"),0)","v":0},{"$f":"IF(AND(COUNTRY_INFO!J40>1,COUNTRY_INFO!J40<4),IF(COUNTRY_INFO!F40>MAX('MDA1'!K40,'MDA2'!K40,'T1'!M40,MAX(T3_R1!L40,T3_R2!L40)),MAX('MDA1'!K40,'MDA2'!K40,'T1'!M40,MAX(T3_R1!L40,T3_R2!L40)),COUNTRY_INFO!F40),0)","v":0},{"$f":"IF(AND(COUNTRY_INFO!J40>1,COUNTRY_INFO!J40<4), IF(V40/COUNTRY_INFO!F40*100<>0, IF(V40/COUNTRY_INFO!F40*100>100,100,V40/COUNTRY_INFO!F40*100), \"-\"),0)","v":0},0,{"$f":"IF(AND(COUNTRY_INFO!J40>1,COUNTRY_INFO!J40<4), IF(S40/P40*100<>0, IF(X40/P40*100>100,100,X40/P40*100), \"-\"),0)","v":0},{"$f":"COUNTRY_INFO!O40","v":27886.400000000001},null,null,{"$f":"MAX('T1'!L40,'T2'!J40)+MAX('T1'!M40,'T2'!K40)+MAX('T1'!N40,'T2'!L40)","v":0},{"$f":"IF(COUNTRY_INFO!K40=1,IF(COUNTRY_INFO!F40*0.33>MAX('T1'!M40,'T2'!K40),MAX('T1'!M40,'T2'!K40),COUNTRY_INFO!F40*0.33),IF(COUNTRY_INFO!K40=2,IF(COUNTRY_INFO!F40*0.5>MAX('T1'!M40,'T2'!K40),MAX('T1'!M40,'T2'!K40),COUNTRY_INFO!F40*0.5),IF(COUNTRY_INFO!K40=3,IF(COUNTRY_INFO!F40>MAX('T1'!M40,'T2'!K40),MAX('T1'!M40,'T2'!K40),COUNTRY_INFO!F40),0)))","v":0},{"$f":"IF(AND(COUNTRY_INFO!K40>0,COUNTRY_INFO!K40<4),IF(Z40>0,IF(COUNTRY_INFO!K40=1, AD40/(COUNTRY_INFO!F40*0.33)*100, IF(COUNTRY_INFO!K40=2, AD40/(COUNTRY_INFO!F40*0.5)*100, IF(COUNTRY_INFO!K40=3, AD40/COUNTRY_INFO!F40*100))),\"-\"),0)","v":0},{"$f":"IF(COUNTRY_INFO!K40=2,IF(COUNTRY_INFO!G40*0.2>MAX('T1'!N40,'T2'!L40),MAX('T1'!N40,'T2'!L40),COUNTRY_INFO!G40*0.2),IF(COUNTRY_INFO!K40=3,IF(COUNTRY_INFO!G40>MAX('T1'!N40,'T2'!L40),MAX('T1'!N40,'T2'!L40),COUNTRY_INFO!G40),0))","v":0},{"$f":"IF(AND(COUNTRY_INFO!K40>0,COUNTRY_INFO!K40<4),IF(Z40>0,IF(COUNTRY_INFO!K40=1, 0, IF(COUNTRY_INFO!K40=2, AF40/(COUNTRY_INFO!G40*0.2)*100, IF(COUNTRY_INFO!K40=3, AF40/COUNTRY_INFO!G40*100))),\"-\"),0)","v":0},0,{"$f":"IF(AND(COUNTRY_INFO!K40>0,COUNTRY_INFO!K40<4), IF(AC40/Z40*100<>0, IF(AH40/Z40*100>100,100,AH40/Z40*100), \"-\"),0)","v":"-"},null,{"$f":"IF(AND(D40<>0, D40<>\"Inconnu\",D40<>\"Interrompu\",D40<>\"Non requis\"),D40/COUNTRY_INFO!D40, 0)","v":0},{"$f":"IF(AND(J40<>0,J40<>\"Inconnu\",J40<>\"Interrompu\",J40<>\"Non requis\"),J40/COUNTRY_INFO!D40, 0)","v":0},{"$f":"IF(AND(P40<>0,P40<>\"Inconnu\",P40<>\"Non requis\"),P40/(COUNTRY_INFO!E40+COUNTRY_INFO!F40), 0)","v":0},{"$f":"IF(AND(Z40<>0,Z40<>\"Inconnu\",Z40<>\"Non requis\"),IF(COUNTRY_INFO!K40=1,1,IF(COUNTRY_INFO!K40=2,0.5*COUNTRY_INFO!F40/(0.5*COUNTRY_INFO!F40+0.2*COUNTRY_INFO!G40),IF(COUNTRY_INFO!K40=3,COUNTRY_INFO!F40/(COUNTRY_INFO!F40+COUNTRY_INFO!G40)))),0)","v":0.61528200126226396},{"$f":"IF(AND(Z40<>0,Z40<>\"Inconnu\",Z40<>\"Non requis\"),IF(COUNTRY_INFO!K40=1,0,IF(COUNTRY_INFO!K40=2,0.2*COUNTRY_INFO!G40/(0.5*COUNTRY_INFO!F40+0.2*COUNTRY_INFO!G40),IF(COUNTRY_INFO!K40=3,COUNTRY_INFO!G40/(COUNTRY_INFO!F40+COUNTRY_INFO!G40)))),0)","v":0.38471799873773599},{"$f":"MAX(COUNTRY_INFO!D40*AK40*PROFILE!$G$7,COUNTRY_INFO!D40*AL40*PROFILE!$G$7)","v":0},{"$f":"MAX(COUNTRY_INFO!D40*AK40*PROFILE!$G$8,COUNTRY_INFO!D40*AL40*PROFILE!$G$8,COUNTRY_INFO!D40*AM40*PROFILE!$G$8)","v":0},{"$f":"MAX(COUNTRY_INFO!D40*AK40*PROFILE!$G$9,COUNTRY_INFO!D40*AL40*PROFILE!$G$9,COUNTRY_INFO!D40*AM40*PROFILE!$G$9,IF(AND(DISTRICT!Z40<>\"Inconnu\",Z40<>\"Non requis\"),COUNTRY_INFO!O40*DISTRICT!AN40,0))","v":17158},{"$f":"MAX(COUNTRY_INFO!D40*AK40*PROFILE!$G$10,COUNTRY_INFO!D40*AL40*PROFILE!$G$10,IF(AND(DISTRICT!Z40<>\"Inconnu\",Z40<>\"Non requis\"),COUNTRY_INFO!O40*DISTRICT!AO40,0))","v":10728.400000000001},27886.400000000001,0,{"$f":"MAX('MDA2'!J40,'T1'!L40,'T2'!J40,T3_R1!K40,T3_R2!K40)","v":0},{"$f":"MAX('MDA1'!K40,'MDA2'!K40,'MDA3'!I40,'MDA3'!L40,'T1'!M40,'T2'!K40,T3_R1!L40,T3_R2!L40)","v":0},{"$f":"MAX('MDA1'!L40,'MDA2'!L40,'MDA3'!J40,'MDA3'!M40,'T1'!N40,'T2'!L40,T3_R1!M40,T3_R2!M40)","v":0},0,{"$f":"MAX('MDA2'!J40,T40)","v":0},{"$f":"MAX('MDA1'!K40,'MDA2'!K40,'MDA3'!I40,'MDA3'!L40,V40,AD40)","v":0},{"$f":"MAX('MDA1'!L40,'MDA2'!L40,'MDA3'!J40,'MDA3'!M40,AF40)","v":0},0,0]
[{"$f":"IF(COUNTRY_INFO!A41=0,\" \",COUNTRY_INFO!A41)","v":"Burkina Faso"},{"$f":"IF(COUNTRY_INFO!B41=0,\" \",COUNTRY_INFO!B41)","v":"Centre-Ouest"},{"$f":"IF(COUNTRY_INFO!C41=0,\" \",COUNTRY_INFO!C41)","v":"Sapouy"},{"$f":"COUNTRY_INFO!L41","v":"Interrompu"},null,null,{"$f":"MAX('MDA1'!M41,'MDA2'!M41)","v":0},{"$f":"IF(AND(COUNTRY_INFO!H41>0,COUNTRY_INFO!H41<4),IF(D41>MAX('MDA1'!M41,'MDA2'!M41),MAX('MDA1'!M41,'MDA2'!M41),D41),0)","v":0},{"$f":"IF(AND(COUNTRY_INFO!H41>0,COUNTRY_INFO!H41<4), IF(G41/D41*100<>0, IF(G41/D41*100>100,100,G41/D41*100), \"-\"),0)","v":0},{"$f":"COUNTRY_INFO!M41","v":0},null,null,{"$f":"MAX('MDA1'!M41,MAX('MDA3'!I41,'MDA3'!L41)+MAX('MDA3'!J41,'MDA3'!M41))","v":0},{"$f":"IF(AND(COUNTRY_INFO!I41>0,COUNTRY_INFO!I41<4),IF(J41>MAX('MDA1'!M41,MAX('MDA3'!I41,'MDA3'!L41)+MAX('MDA3'!J41,'MDA3'!M41)),MAX('MDA1'!M41,MAX('MDA3'!I41,'MDA3'!L41)+MAX('MDA3'!J41,'MDA3'!M41)),J41),0)","v":0},{"$f":"IF(AND(COUNTRY_INFO!I41>0,COUNTRY_INFO!I41<4), IF(M41/J41*100<>0, IF(M41/J41*100>100,100,M41/J41*100), \"-\"),0)","v":0},{"$f":"COUNTRY_INFO!N41","v":0},null,null,{"$f":"SUM(MAX('MDA2'!J41, 'T1'!L41, MAX(T3_R1!K41, T3_R2!K41)), MAX('MDA1'!K41, 'MDA2'!K41, 'T1'!M41, MAX(T3_R1!L41, T3_R2!L41)), MAX('MDA1'!L41, 'MDA2'!L41, 'T1'!N41, MAX(T3_R1!M41, T3_R2!M41)))","v":0},{"$f":"IF(AND(COUNTRY_INFO!J41>1,COUNTRY_INFO!J41<4),IF(COUNTRY_INFO!E41>MAX('MDA2'!J41,'T1'!L41,MAX(T3_R1!K41,T3_R2!K41)),MAX('MDA2'!J41,'T1'!L41,MAX(T3_R1!K41,T3_R2!K41)),COUNTRY_INFO!E41),0)","v":0},{"$f":"IF(AND(COUNTRY_INFO!J41>1,COUNTRY_INFO!J41<4), IF(T41/COUNTRY_INFO!E41*100<>0, IF(T41/COUNTRY_INFO!E41*100>100,100,T41/COUNTRY_INFO!E41*100), \"-\"),0)","v":0},{"$f":"IF(AND(COUNTRY_INFO!J41>1,COUNTRY_INFO!J41<4),IF(COUNTRY_INFO!F41>MAX('MDA1'!K41,'MDA2'!K41,'T1'!M41,MAX(T3_R1!L41,T3_R2!L41)),MAX('MDA1'!K41,'MDA2'!K41,'T1'!M41,MAX(T3_R1!L41,T3_R2!L41)),COUNTRY_INFO!F41),0)","v":0},{"$f":"IF(AND(COUNTRY_INFO!J41>1,COUNTRY_INFO!J41<4), IF(V41/COUNTRY_INFO!F41*100<>0, IF(V41/COUNTRY_INFO!F41*100>100,100,V41/COUNTRY_INFO!F41*100), \"-\"),0)","v":0},0,{"$f":"IF(AND(COUNTRY_INFO!J41>1,COUNTRY_INFO!J41<4), IF(S41/P41*100<>0, IF(X41/P41*100>100,100,X41/P41*100), \"-\"),0)","v":0},{"$f":"COUNTRY_INFO!O41","v":63910.100000000006},null,null,{"$f":"MAX('T1'!L41,'T2'!J41)+MAX('T1'!M41,'T2'!K41)+MAX('T1'!N41,'T2'!L41)","v":0},{"$f":"IF(COUNTRY_INFO!K41=1,IF(COUNTRY_INFO!F41*0.33>MAX('T1'!M41,'T2'!K41),MAX('T1'!M41,'T2'!K41),COUNTRY_INFO!F41*0.33),IF(COUNTRY_INFO!K41=2,IF(COUNTRY_INFO!F41*0.5>MAX('T1'!M41,'T2'!K41),MAX('T1'!M41,'T2'!K41),COUNTRY_INFO!F41*0.5),IF(COUNTRY_INFO!K41=3,IF(COUNTRY_INFO!F41>MAX('T1'!M41,'T2'!K41),MAX('T1'!M41,'T2'!K41),COUNTRY_INFO!F41),0)))","v":0},{"$f":"IF(AND(COUNTRY_INFO!K41>0,COUNTRY_INFO!K41<4),IF(Z41>0,IF(COUNTRY_INFO!K41=1, AD41/(COUNTRY_INFO!F41*0.33)*100, IF(COUNTRY_INFO!K41=2, AD41/(COUNTRY_INFO!F41*0.5)*100, IF(COUNTRY_INFO!K41=3, AD41/COUNTRY_INFO!F41*100))),\"-\"),0)","v":0},{"$f":"IF(COUNTRY_INFO!K41=2,IF(COUNTRY_INFO!G41*0.2>MAX('T1'!N41,'T2'!L41),MAX('T1'!N41,'T2'!L41),COUNTRY_INFO!G41*0.2),IF(COUNTRY_INFO!K41=3,IF(COUNTRY_INFO!G41>MAX('T1'!N41,'T2'!L41),MAX('T1'!N41,'T2'!L41),COUNTRY_INFO!G41),0))","v":0},{"$f":"IF(AND(COUNTRY_INFO!K41>0,COUNTRY_INFO!K41<4),IF(Z41>0,IF(COUNTRY_INFO!K41=1, 0, IF(COUNTRY_INFO!K41=2, AF41/(COUNTRY_INFO!G41*0.2)*100, IF(COUNTRY_INFO!K41=3, AF41/COUNTRY_INFO!G41*100))),\"-\"),0)","v":0},0,{"$f":"IF(AND(COUNTRY_INFO!K41>0,COUNTRY_INFO!K41<4), IF(AC41/Z41*100<>0, IF(AH41/Z41*100>100,100,AH41/Z41*100), \"-\"),0)","v":"-"},null,{"$f":"IF(AND(D41<>0, D41<>\"Inconnu\",D41<>\"Interrompu\",D41<>\"Non requis\"),D41/COUNTRY_INFO!D41, 0)","v":0},{"$f":"IF(AND(J41<>0,J41<>\"Inconnu\",J41<>\"Interrompu\",J41<>\"Non requis\"),J41/COUNTRY_INFO!D41, 0)","v":0},{"$f":"IF(AND(P41<>0,P41<>\"Inconnu\",P41<>\"Non requis\"),P41/(COUNTRY_INFO!E41+COUNTRY_INFO!F41), 0)","v":0},{"$f":"IF(AND(Z41<>0,Z41<>\"Inconnu\",Z41<>\"Non requis\"),IF(COUNTRY_INFO!K41=1,1,IF(COUNTRY_INFO!K41=2,0.5*COUNTRY_INFO!F41/(0.5*COUNTRY_INFO!F41+0.2*COUNTRY_INFO!G41),IF(COUNTRY_INFO!K41=3,COUNTRY_INFO!F41/(COUNTRY_INFO!F41+COUNTRY_INFO!G41)))),0)","v":0.59046222741006504},{"$f":"IF(AND(Z41<>0,Z41<>\"Inconnu\",Z41<>\"Non requis\"),IF(COUNTRY_INFO!K41=1,0,IF(COUNTRY_INFO!K41=2,0.2*COUNTRY_INFO!G41/(0.5*COUNTRY_INFO!F41+0.2*COUNTRY_INFO!G41),IF(COUNTRY_INFO!K41=3,COUNTRY_INFO!G41/(COUNTRY_INFO!F41+COUNTRY_INFO!G41)))),0)","v":0.4095377725899349},{"$f":"MAX(COUNTRY_INFO!D41*AK41*PROFILE!$G$7,COUNTRY_INFO!D41*AL41*PROFILE!$G$7)","v":0},{"$f":"MAX(COUNTRY_INFO!D41*AK41*PROFILE!$G$8,COUNTRY_INFO!D41*AL41*PROFILE!$G$8,COUNTRY_INFO!D41*AM41*PROFILE!$G$8)","v":0},{"$f":"MAX(COUNTRY_INFO!D41*AK41*PROFILE!$G$9,COUNTRY_INFO!D41*AL41*PROFILE!$G$9,COUNTRY_INFO!D41*AM41*PROFILE!$G$9,IF(AND(DISTRICT!Z41<>\"Inconnu\",Z41<>\"Non requis\"),COUNTRY_INFO!O41*DISTRICT!AN41,0))","v":37736.5},{"$f":"MAX(COUNTRY_INFO!D41*AK41*PROFILE!$G$10,COUNTRY_INFO!D41*AL41*PROFILE!$G$10,IF(AND(DISTRICT!Z41<>\"Inconnu\",Z41<>\"Non requis\"),COUNTRY_INFO!O41*DISTRICT!AO41,0))","v":26173.600000000002},63910.100000000006,{"$f":"IF(COUNTIFS(AK41:AN41,\">0\")=0,0, IF(COUNTIFS(AK41:AN41,\">0\")<=IF(AND(OR(D41>=0,D41=\"Non requis\",D41=\"Inconnu\",D41=\"Interrompu\"),D41>0,H41>0),1,0)+IF(AND(OR(J41>=0,J41=\"Non requis\",J41=\"Inconnu\",J41=\"Interrompu\"),J41>0,N41>0),1,0)+IF(AND(OR(P41>=0,P41=\"Non requis\",P41=\"Inconnu\"),P41>0,X41>0),1,0)+IF(AND(OR(Z41>=0,Z41=\"Non requis\",Z41=\"Inconnu\"),Z41>0,AH41>0),1,0),\"Y\",0))","v":0},{"$f":"MAX('MDA2'!J41,'T1'!L41,'T2'!J41,T3_R1!K41,T3_R2!K41)","v":0},{"$f":"MAX('MDA1'!K41,'MDA2'!K41,'MDA3'!I41,'MDA3'!L41,'T1'!M41,'T2'!K41,T3_R1!L41,T3_R2!L41)","v":0},{"$f":"MAX('MDA1'!L41,'MDA2'!L41,'MDA3'!J41,'MDA3'!M41,'T1'!N41,'T2'!L41,T3_R1!M41,T3_R2!M41)","v":0},0,{"$f":"MAX('MDA2'!J41,T41)","v":0},{"$f":"MAX('MDA1'!K41,'MDA2'!K41,'MDA3'!I41,'MDA3'!L41,V41,AD41)","v":0},{"$f":"MAX('MDA1'!L41,'MDA2'!L41,'MDA3'!J41,'MDA3'!M41,AF41)","v":0},{"$f":"IF(AT41<SUM(AZ41:BB41), AT41,SUM(AZ41:BB41))","v":0},{"$f":"IF(AT41<>0,BC41/AT41*100,0)","v":0}]
[{"$f":"IF(COUNTRY_INFO!A42=0,\" \",COUNTRY_INFO!A42)","v":"Burkina Faso"},{"$f":"IF(COUNTRY_INFO!B42=0,\" \",COUNTRY_INFO!B42)","v":"Centre-Ouest"},{"$f":"IF(COUNTRY_INFO!C42=0,\" \",COUNTRY_INFO!C42)","v":"Tenado"},{"$f":"COUNTRY_INFO!L42","v":"Interrompu"},null,null,{"$f":"MAX('MDA1'!M42,'MDA2'!M42)","v":0},{"$f":"IF(AND(COUNTRY_INFO!H42>0,COUNTRY_INFO!H42<4),IF(D42>MAX('MDA1'!M42,'MDA2'!M42),MAX('MDA1'!M42,'MDA2'!M42),D42),0)","v":0},{"$f":"IF(AND(COUNTRY_INFO!H42>0,COUNTRY_INFO!H42<4), IF(G42/D42*100<>0, IF(G42/D42*100>100,100,G42/D42*100), \"-\"),0)","v":0},{"$f":"COUNTRY_INFO!M42","v":0},null,null,{"$f":"MAX('MDA1'!M42,MAX('MDA3'!I42,'MDA3'!L42)+MAX('MDA3'!J42,'MDA3'!M42))","v":0},{"$f":"IF(AND(COUNTRY_INFO!I42>0,COUNTRY_INFO!I42<4),IF(J42>MAX('MDA1'!M42,MAX('MDA3'!I42,'MDA3'!L42)+MAX('MDA3'!J42,'MDA3'!M42)),MAX('MDA1'!M42,MAX('MDA3'!I42,'MDA3'!L42)+MAX('MDA3'!J42,'MDA3'!M42)),J42),0)","v":0},{"$f":"IF(AND(COUNTRY_INFO!I42>0,COUNTRY_INFO!I42<4), IF(M42/J42*100<>0, IF(M42/J42*100>100,100,M42/J42*100), \"-\"),0)","v":0},{"$f":"COUNTRY_INFO!N42","v":0},null,null,{"$f":"SUM(MAX('MDA2'!J42, 'T1'!L42, MAX(T3_R1!K42, T3_R2!K42)), MAX('MDA1'!K42, 'MDA2'!K42, 'T1'!M42, MAX(T3_R1!L42, T3_R2!L42)), MAX('MDA1'!L42, 'MDA2'!L42, 'T1'!N42, MAX(T3_R1!M42, T3_R2!M42)))","v":0},{"$f":"IF(AND(COUNTRY_INFO!J42>1,COUNTRY_INFO!J42<4),IF(COUNTRY_INFO!E42>MAX('MDA2'!J42,'T1'!L42,MAX(T3_R1!K42,T3_R2!K42)),MAX('MDA2'!J42,'T1'!L42,MAX(T3_R1!K42,T3_R2!K42)),COUNTRY_INFO!E42),0)","v":0},{"$f":"IF(AND(COUNTRY_INFO!J42>1,COUNTRY_INFO!J42<4), IF(T42/COUNTRY_INFO!E42*100<>0, IF(T42/COUNTRY_INFO!E42*100>100,100,T42/COUNTRY_INFO!E42*100), \"-\"),0)","v":0},{"$f":"IF(AND(COUNTRY_INFO!J42>1,COUNTRY_INFO!J42<4),IF(COUNTRY_INFO!F42>MAX('MDA1'!K42,'MDA2'!K42,'T1'!M42,MAX(T3_R1!L42,T3_R2!L42)),MAX('MDA1'!K42,'MDA2'!K42,'T1'!M42,MAX(T3_R1!L42,T3_R2!L42)),COUNTRY_INFO!F42),0)","v":0},{"$f":"IF(AND(COUNTRY_INFO!J42>1,COUNTRY_INFO!J42<4), IF(V42/COUNTRY_INFO!F42*100<>0, IF(V42/COUNTRY_INFO!F42*100>100,100,V42/COUNTRY_INFO!F42*100), \"-\"),0)","v":0},0,{"$f":"IF(AND(COUNTRY_INFO!J42>1,COUNTRY_INFO!J42<4), IF(S42/P42*100<>0, IF(X42/P42*100>100,100,X42/P42*100), \"-\"),0)","v":0},{"$f":"COUNTRY_INFO!O42","v":46656.3},null,null,{"$f":"MAX('T1'!L42,'T2'!J42)+MAX('T1'!M42,'T2'!K42)+MAX('T1'!N42,'T2'!L42)","v":0},{"$f":"IF(COUNTRY_INFO!K42=1,IF(COUNTRY_INFO!F42*0.33>MAX('T1'!M42,'T2'!K42),MAX('T1'!M42,'T2'!K42),COUNTRY_INFO!F42*0.33),IF(COUNTRY_INFO!K42=2,IF(COUNTRY_INFO!F42*0.5>MAX('T1'!M42,'T2'!K42),MAX('T1'!M42,'T2'!K42),COUNTRY_INFO!F42*0.5),IF(COUNTRY_INFO!K42=3,IF(COUNTRY_INFO!F42>MAX('T1'!M42,'T2'!K42),MAX('T1'!M42,'T2'!K42),COUNTRY_INFO!F42),0)))","v":0},{"$f":"IF(AND(COUNTRY_INFO!K42>0,COUNTRY_INFO!K42<4),IF(Z42>0,IF(COUNTRY_INFO!K42=1, AD42/(COUNTRY_INFO!F42*0.33)*100, IF(COUNTRY_INFO!K42=2, AD42/(COUNTRY_INFO!F42*0.5)*100, IF(COUNTRY_INFO!K42=3, AD42/COUNTRY_INFO!F42*100))),\"-\"),0)","v":0},{"$f":"IF(COUNTRY_INFO!K42=2,IF(COUNTRY_INFO!G42*0.2>MAX('T1'!N42,'T2'!L42),MAX('T1'!N42,'T2'!L42),COUNTRY_INFO!G42*0.2),IF(COUNTRY_INFO!K42=3,IF(COUNTRY_INFO!G42>MAX('T1'!N42,'T2'!L42),MAX('T1'!N42,'T2'!L42),COUNTRY_INFO!G42),0))","v":0},{"$f":"IF(AND(COUNTRY_INFO!K42>0,COUNTRY_INFO!K42<4),IF(Z42>0,IF(COUNTRY_INFO!K42=1, 0, IF(COUNTRY_INFO!K42=2, AF42/(COUNTRY_INFO!G42*0.2)*100, IF(COUNTRY_INFO!K42=3, AF42/COUNTRY_INFO!G42*100))),\"-\"),0)","v":0},0,{"$f":"IF(AND(COUNTRY_INFO!K42>0,COUNTRY_INFO!K42<4), IF(AC42/Z42*100<>0, IF(AH42/Z42*100>100,100,AH42/Z42*100), \"-\"),0)","v":"-"},null,{"$f":"IF(AND(D42<>0, D42<>\"Inconnu\",D42<>\"Interrompu\",D42<>\"Non requis\"),D42/COUNTRY_INFO!D42, 0)","v":0},{"$f":"IF(AND(J42<>0,J42<>\"Inconnu\",J42<>\"Interrompu\",J42<>\"Non requis\"),J42/COUNTRY_INFO!D42, 0)","v":0},{"$f":"IF(AND(P42<>0,P42<>\"Inconnu\",P42<>\"Non requis\"),P42/(COUNTRY_INFO!E42+COUNTRY_INFO!F42), 0)","v":0},{"$f":"IF(AND(Z42<>0,Z42<>\"Inconnu\",Z42<>\"Non requis\"),IF(COUNTRY_INFO!K42=1,1,IF(COUNTRY_INFO!K42=2,0.5*COUNTRY_INFO!F42/(0.5*COUNTRY_INFO!F42+0.2*COUNTRY_INFO!G42),IF(COUNTRY_INFO!K42=3,COUNTRY_INFO!F42/(COUNTRY_INFO!F42+COUNTRY_INFO!G42)))),0)","v":0.59062763228117099},{"$f":"IF(AND(Z42<>0,Z42<>\"Inconnu\",Z42<>\"Non requis\"),IF(COUNTRY_INFO!K42=1,0,IF(COUNTRY_INFO!K42=2,0.2*COUNTRY_INFO!G42/(0.5*COUNTRY_INFO!F42+0.2*COUNTRY_INFO!G42),IF(COUNTRY_INFO!K42=3,COUNTRY_INFO!G42/(COUNTRY_INFO!F42+COUNTRY_INFO!G42)))),0)","v":0.4093723677188289},{"$f":"MAX(COUNTRY_INFO!D42*AK42*PROFILE!$G$7,COUNTRY_INFO!D42*AL42*PROFILE!$G$7)","v":0},{"$f":"MAX(COUNTRY_INFO!D42*AK42*PROFILE!$G$8,COUNTRY_INFO!D42*AL42*PROFILE!$G$8,COUNTRY_INFO!D42*AM42*PROFILE!$G$8)","v":0},{"$f":"MAX(COUNTRY_INFO!D42*AK42*PROFILE!$G$9,COUNTRY_INFO!D42*AL42*PROFILE!$G$9,COUNTRY_INFO!D42*AM42*PROFILE!$G$9,IF(AND(DISTRICT!Z42<>\"Inconnu\",Z42<>\"Non requis\"),COUNTRY_INFO!O42*DISTRICT!AN42,0))","v":27556.5},{"$f":"MAX(COUNTRY_INFO!D42*AK42*PROFILE!$G$10,COUNTRY_INFO!D42*AL42*PROFILE!$G$10,IF(AND(DISTRICT!Z42<>\"Inconnu\",Z42<>\"Non requis\"),COUNTRY_INFO!O42*DISTRICT!AO42,0))","v":19099.8},46656.3,0,{"$f":"MAX('MDA2'!J42,'T1'!L42,'T2'!J42,T3_R1!K42,T3_R2!K42)","v":0},{"$f":"MAX('MDA1'!K42,'MDA2'!K42,'MDA3'!I42,'MDA3'!L42,'T1'!M42,'T2'!K42,T3_R1!L42,T3_R2!L42)","v":0},{"$f":"MAX('MDA1'!L42,'MDA2'!L42,'MDA3'!J42,'MDA3'!M42,'T1'!N42,'T2'!L42,T3_R1!M42,T3_R2!M42)","v":0},0,{"$f":"MAX('MDA2'!J42,T42)","v":0},{"$f":"MAX('MDA1'!K42,'MDA2'!K42,'MDA3'!I42,'MDA3'!L42,V42,AD42)","v":0},{"$f":"MAX('MDA1'!L42,'MDA2'!L42,'MDA3'!J42,'MDA3'!M42,AF42)","v":0},0,0]
[{"$f":"IF(COUNTRY_INFO!A43=0,\" \",COUNTRY_INFO!A43)","v":"Burkina Faso"},{"$f":"IF(COUNTRY_INFO!B43=0,\" \",COUNTRY_INFO!B43)","v":"Centre-Sud"},{"$f":"IF(COUNTRY_INFO!C43=0,\" \",COUNTRY_INFO!C43)","v":"Kombissiri"},{"$f":"COUNTRY_INFO!L43","v":195026},78707,72319,{"$f":"MAX('MDA1'!M43,'MDA2'!M43)","v":151026},{"$f":"IF(AND(COUNTRY_INFO!H43>0,COUNTRY_INFO!H43<4),IF(D43>MAX('MDA1'!M43,'MDA2'!M43),MAX('MDA1'!M43,'MDA2'!M43),D43),0)","v":151026},{"$f":"IF(AND(COUNTRY_INFO!H43>0,COUNTRY_INFO!H43<4), IF(G43/D43*100<>0, IF(G43/D43*100>100,100,G43/D43*100), \"-\"),0)","v":77.438905581819867},{"$f":"COUNTRY_INFO!M43","v":0},null,null,{"$f":"MAX('MDA1'!M43,MAX('MDA3'!I43,'MDA3'!L43)+MAX('MDA3'!J43,'MDA3'!M43))","v":151026},{"$f":"IF(AND(COUNTRY_INFO!I43>0,COUNTRY_INFO!I43<4),IF(J43>MAX('MDA1'!M43,MAX('MDA3'!I43,'MDA3'!L43)+MAX('MDA3'!J43,'MDA3'!M43)),MAX('MDA1'!M43,MAX('MDA3'!I43,'MDA3'!L43)+MAX('MDA3'!J43,'MDA3'!M43)),J43),0)","v":0},{"$f":"IF(AND(COUNTRY_INFO!I43>0,COUNTRY_INFO!I43<4), IF(M43/J43*100<>0, IF(M43/J43*100>100,100,M43/J43*100), \"-\"),0)","v":0},{"$f":"COUNTRY_INFO!N43","v":0},26151,28460,{"$f":"SUM(MAX('MDA2'!J43, 'T1'!L43, MAX(T3_R1!K43, T3_R2!K43)), MAX('MDA1'!K43, 'MDA2'!K43, 'T1'!M43, MAX(T3_R1!L43, T3_R2!L43)), MAX('MDA1'!L43, 'MDA2'!L43, 'T1'!N43, MAX(T3_R1!M43, T3_R2!M43)))","v":151026},{"$f":"IF(AND(COUNTRY_INFO!J43>1,COUNTRY_INFO!J43<4),IF(COUNTRY_INFO!E43>MAX('MDA2'!J43,'T1'!L43,MAX(T3_R1!K43,T3_R2!K43)),MAX('MDA2'!J43,'T1'!L43,MAX(T3_R1!K43,T3_R2!K43)),COUNTRY_INFO!E43),0)","v":0},{"$f":"IF(AND(COUNTRY_INFO!J43>1,COUNTRY_INFO!J43<4), IF(T43/COUNTRY_INFO!E43*100<>0, IF(T43/COUNTRY_INFO!E43*100>100,100,T43/COUNTRY_INFO!E43*100), \"-\"),0)","v":0},{"$f":"IF(AND(COUNTRY_INFO!J43>1,COUNTRY_INFO!J43<4),IF(COUNTRY_INFO!F43>MAX('MDA1'!K43,'MDA2'!K43,'T1'!M43,MAX(T3_R1!L43,T3_R2!L43)),MAX('MDA1'!K43,'MDA2'!K43,'T1'!M43,MAX(T3_R1!L43,T3_R2!L43)),COUNTRY_INFO!F43),0)","v":0},{"$f":"IF(AND(COUNTRY_INFO!J43>1,COUNTRY_INFO!J43<4), IF(V43/COUNTRY_INFO!F43*100<>0, IF(V43/COUNTRY_INFO!F43*100>100,100,V43/COUNTRY_INFO!F43*100), \"-\"),0)","v":0},0,{"$f":"IF(AND(COUNTRY_INFO!J43>1,COUNTRY_INFO!J43<4), IF(S43/P43*100<>0, IF(X43/P43*100>100,100,X43/P43*100), \"-\"),0)","v":0},{"$f":"COUNTRY_INFO!O43","v":48145.3},null,null,{"$f":"MAX('T1'!L43,'T2'!J43)+MAX('T1'!M43,'T2'!K43)+MAX('T1'!N43,'T2'!L43)","v":0},{"$f":"IF(COUNTRY_INFO!K43=1,IF(COUNTRY_INFO!F43*0.33>MAX('T1'!M43,'T2'!K43),MAX('T1'!M43,'T2'!K43),COUNTRY_INFO!F43*0.33),IF(COUNTRY_INFO!K43=2,IF(COUNTRY_INFO!F43*0.5>MAX('T1'!M43,'T2'!K43),MAX('T1'!M43,'T2'!K43),COUNTRY_INFO!F43*0.5),IF(COUNTRY_INFO!K43=3,IF(COUNTRY_INFO!F43>MAX('T1'!M43,'T2'!K43),MAX('T1'!M43,'T2'!K43),COUNTRY_INFO!F43),0)))","v":0},{"$f":"IF(AND(COUNTRY_INFO!K43>0,COUNTRY_INFO!K43<4),IF(Z43>0,IF(COUNTRY_INFO!K43=1, AD43/(COUNTRY_INFO!F43*0.33)*100, IF(COUNTRY_INFO!K43=2, AD43/(COUNTRY_INFO!F43*0.5)*100, IF(COUNTRY_INFO!K43=3, AD43/COUNTRY_INFO!F43*100))),\"-\"),0)","v":0},{"$f":"IF(COUNTRY_INFO!K43=2,IF(COUNTRY_INFO!G43*0.2>MAX('T1'!N43,'T2'!L43),MAX('T1'!N43,'T2'!L43),COUNTRY_INFO!G43*0.2),IF(COUNTRY_INFO!K43=3,IF(COUNTRY_INFO!G43>MAX('T1'!N43,'T2'!L43),MAX('T1'!N43,'T2'!L43),COUNTRY_INFO!G43),0))","v":0},{"$f":"IF(AND(COUNTRY_INFO!K43>0,COUNTRY_INFO!K43<4),IF(Z43>0,IF(COUNTRY_INFO!K43=1, 0, IF(COUNTRY_INFO!K43=2, AF43/(COUNTRY_INFO!G43*0.2)*100, IF(COUNTRY_INFO!K43=3, AF43/COUNTRY_INFO!G43*100))),\"-\"),0)","v":0},0,{"$f":"IF(AND(COUNTRY_INFO!K43>0,COUNTRY_INFO!K43<4), IF(AC43/Z43*100<>0, IF(AH43/Z43*100>100,100,AH43/Z43*100), \"-\"),0)","v":"-"},null,{"$f":"IF(AND(D43<>0, D43<>\"Inconnu\",D43<>\"Interrompu\",D43<>\"Non requis\"),D43/COUNTRY_INFO!D43, 0)","v":1},{"$f":"IF(AND(J43<>0,J43<>\"Inconnu\",J43<>\"Interrompu\",J43<>\"Non requis\"),J43/COUNTRY_INFO!D43, 0)","v":0},{"$f":"IF(AND(P43<>0,P43<>\"Inconnu\",P43<>\"Non requis\"),P43/(COUNTRY_INFO!E43+COUNTRY_INFO!F43), 0)","v":0},{"$f":"IF(AND(Z43<>0,Z43<>\"Inconnu\",Z43<>\"Non requis\"),IF(COUNTRY_INFO!K43=1,1,IF(COUNTRY_INFO!K43=2,0.5*COUNTRY_INFO!F43/(0.5*COUNTRY_INFO!F43+0.2*COUNTRY_INFO!G43),IF(COUNTRY_INFO!K43=3,COUNTRY_INFO!F43/(COUNTRY_INFO!F43+COUNTRY_INFO!G43)))),0)","v":0.57045028278980503},{"$f":"IF(AND(Z43<>0,Z43<>\"Inconnu\",Z43<>\"Non requis\"),IF(COUNTRY_INFO!K43=1,0,IF(COUNTRY_INFO!K43=2,0.2*COUNTRY_INFO!G43/(0.5*COUNTRY_INFO!F43+0.2*COUNTRY_INFO!G43),IF(COUNTRY_INFO!K43=3,COUNTRY_INFO!G43/(COUNTRY_INFO!F43+COUNTRY_INFO!G43)))),0)","v":0.42954971721019503},{"$f":"MAX(COUNTRY_INFO!D43*AK43*PROFILE!$G$7,COUNTRY_INFO!D43*AL43*PROFILE!$G$7)","v":7518.7463497497247},{"$f":"MAX(COUNTRY_INFO!D43*AK43*PROFILE!$G$8,COUNTRY_INFO!D43*AL43*PROFILE!$G$8,COUNTRY_INFO!D43*AM43*PROFILE!$G$8)","v":27505.493378793468},{"$f":"MAX(COUNTRY_INFO!D43*AK43*PROFILE!$G$9,COUNTRY_INFO!D43*AL43*PROFILE!$G$9,COUNTRY_INFO!D43*AM43*PROFILE!$G$9,IF(AND(DISTRICT!Z43<>\"Inconnu\",Z43<>\"Non requis\"),COUNTRY_INFO!O43*DISTRICT!AN43,0))","v":56824.162645685159},{"$f":"MAX(COUNTRY_INFO!D43*AK43*PROFILE!$G$10,COUNTRY_INFO!D43*AL43*PROFILE!$G$10,IF(AND(DISTRICT!Z43<>\"Inconnu\",Z43<>\"Non requis\"),COUNTRY_INFO!O43*DISTRICT!AO43,0))","v":103177.59762577165},195026,0,{"$f":"MAX('MDA2'!J43,'T1'!L43,'T2'!J43,T3_R1!K43,T3_R2!K43)","v":0},{"$f":"MAX('MDA1'!K43,'MDA2'!K43,'MDA3'!I43,'MDA3'!L43,'T1'!M43,'T2'!K43,T3_R1!L43,T3_R2!L43)","v":54611},{"$f":"MAX('MDA1'!L43,'MDA2'!L43,'MDA3'!J43,'MDA3'!M43,'T1'!N43,'T2'!L43,T3_R1!M43,T3_R2!M43)","v":96415},151026,{"$f":"MAX('MDA2'!J43,T43)","v":0},{"$f":"MAX('MDA1'!K43,'MDA2'!K43,'MDA3'!I43,'MDA3'!L43,V43,AD43)","v":54611},{"$f":"MAX('MDA1'!L43,'MDA2'!L43,'MDA3'!J43,'MDA3'!M43,AF43)","v":96415},151026,77.438905581819867]
[{"$f":"IF(COUNTRY_INFO!A44=0,\" \",COUNTRY_INFO!A44)","v":"Burkina Faso"},{"$f":"IF(COUNTRY_INFO!B44=0,\" \",COUNTRY_INFO!B44)","v":"Centre-Sud"},{"$f":"IF(COUNTRY_INFO!C44=0,\" \",COUNTRY_INFO!C44)","v":"Manga"},{"$f":"COUNTRY_INFO!L44","v":329623},133674,122322,{"$f":"MAX('MDA1'!M44,'MDA2'!M44)","v":255996},{"$f":"IF(AND(COUNTRY_INFO!H44>0,COUNTRY_INFO!H44<4),IF(D44>MAX('MDA1'!M44,'MDA2'!M44),MAX('MDA1'!M44,'MDA2'!M44),D44),0)","v":255996},{"$f":"IF(AND(COUNTRY_INFO!H44>0,COUNTRY_INFO!H44<4), IF(G44/D44*100<>0, IF(G44/D44*100>100,100,G44/D44*100), \"-\"),0)","v":77.66326985677577},{"$f":"COUNTRY_INFO!M44","v":0},null,null,{"$f":"MAX('MDA1'!M44,MAX('MDA3'!I44,'MDA3'!L44)+MAX('MDA3'!J44,'MDA3'!M44))","v":255996},{"$f":"IF(AND(COUNTRY_INFO!I44>0,COUNTRY_INFO!I44<4),IF(J44>MAX('MDA1'!M44,MAX('MDA3'!I44,'MDA3'!L44)+MAX('MDA3'!J44,'MDA3'!M44)),MAX('MDA1'!M44,MAX('MDA3'!I44,'MDA3'!L44)+MAX('MDA3'!J44,'MDA3'!M44)),J44),0)","v":0},{"$f":"IF(AND(COUNTRY_INFO!I44>0,COUNTRY_INFO!I44<4), IF(M44/J44*100<>0, IF(M44/J44*100>100,100,M44/J44*100), \"-\"),0)","v":0},{"$f":"COUNTRY_INFO!N44","v":0},44232,48337,{"$f":"SUM(MAX('MDA2'!J44, 'T1'!L44, MAX(T3_R1!K44, T3_R2!K44)), MAX('MDA1'!K44, 'MDA2'!K44, 'T1'!M44, MAX(T3_R1!L44, T3_R2!L44)), MAX('MDA1'!L44, 'MDA2'!L44, 'T1'!N44, MAX(T3_R1!M44, T3_R2!M44)))","v":255996},{"$f":"IF(AND(COUNTRY_INFO!J44>1,COUNTRY_INFO!J44<4),IF(COUNTRY_INFO!E44>MAX('MDA2'!J44,'T1'!L44,MAX(T3_R1!K44,T3_R2!K44)),MAX('MDA2'!J44,'T1'!L44,MAX(T3_R1!K44,T3_R2!K44)),COUNTRY_INFO!E44),0)","v":0},{"$f":"IF(AND(COUNTRY_INFO!J44>1,COUNTRY_INFO!J44<4), IF(T44/COUNTRY_INFO!E44*100<>0, IF(T44/COUNTRY_INFO!E44*100>100,100,T44/COUNTRY_INFO!E44*100), \"-\"),0)","v":0},{"$f":"IF(AND(COUNTRY_INFO!J44>1,COUNTRY_INFO!J44<4),IF(COUNTRY_INFO!F44>MAX('MDA1'!K44,'MDA2'!K44,'T1'!M44,MAX(T3_R1!L44,T3_R2!L44)),MAX('MDA1'!K44,'MDA2'!K44,'T1'!M44,MAX(T3_R1!L44,T3_R2!L44)),COUNTRY_INFO!F44),0)","v":0},{"$f":"IF(AND(COUNTRY_INFO!J44>1,COUNTRY_INFO!J44<4), IF(V44/COUNTRY_INFO!F44*100<>0, IF(V44/COUNTRY_INFO!F44*100>100,100,V44/COUNTRY_INFO!F44*100), \"-\"),0)","v":0},0,{"$f":"IF(AND(COUNTRY_INFO!J44>1,COUNTRY_INFO!J44<4), IF(S44/P44*100<>0, IF(X44/P44*100>100,100,X44/P44*100), \"-\"),0)","v":0},{"$f":"COUNTRY_INFO!O44","v":82419.899999999994},null,null,{"$f":"MAX('T1'!L44,'T2'!J44)+MAX('T1'!M44,'T2'!K44)+MAX('T1'!N44,'T2'!L44)","v":0},{"$f":"IF(COUNTRY_INFO!K44=1,IF(COUNTRY_INFO!F44*0.33>MAX('T1'!M44,'T2'!K44),MAX('T1'!M44,'T2'!K44),COUNTRY_INFO!F44*0.33),IF(COUNTRY_INFO!K44=2,IF(COUNTRY_INFO!F44*0.5>MAX('T1'!M44,'T2'!K44),MAX('T1'!M44,'T2'!K44),COUNTRY_INFO!F44*0.5),IF(COUNTRY_INFO!K44=3,IF(COUNTRY_INFO!F44>MAX('T1'!M44,'T2'!K44),MAX('T1'!M44,'T2'!K44),COUNTRY_INFO!F44),0)))","v":0},{"$f":"IF(AND(COUNTRY_INFO!K44>0,COUNTRY_INFO!K44<4),IF(Z44>0,IF(COUNTRY_INFO!K44=1, AD44/(COUNTRY_INFO!F44*0.33)*100, IF(COUNTRY_INFO!K44=2, AD44/(COUNTRY_INFO!F44*0.5)*100, IF(COUNTRY_INFO!K44=3, AD44/COUNTRY_INFO!F44*100))),\"-\"),0)","v":0},{"$f":"IF(COUNTRY_INFO!K44=2,IF(COUNTRY_INFO!G44*0.2>MAX('T1'!N44,'T2'!L44),MAX('T1'!N44,'T2'!L44),COUNTRY_INFO!G44*0.2),IF(COUNTRY_INFO!K44=3,IF(COUNTRY_INFO!G44>MAX('T1'!N44,'T2'!L44),MAX('T1'!N44,'T2'!L44),COUNTRY_INFO!G44),0))","v":0},{"$f":"IF(AND(COUNTRY_INFO!K44>0,COUNTRY_INFO!K44<4),IF(Z44>0,IF(COUNTRY_INFO!K44=1, 0, IF(COUNTRY_INFO!K44=2, AF44/(COUNTRY_INFO!G44*0.2)*100, IF(COUNTRY_INFO!K44=3, AF44/COUNTRY_INFO!G44*100))),\"-\"),0)","v":0},0,{"$f":"IF(AND(COUNTRY_INFO!K44>0,COUNTRY_INFO!K44<4), IF(AC44/Z44*100<>0, IF(AH44/Z44*100>100,100,AH44/Z44*100), \"-\"),0)","v":"-"},null,{"$f":"IF(AND(D44<>0, D44<>\"Inconnu\",D44<>\"Interrompu\",D44<>\"Non requis\"),D44/COUNTRY_INFO!D44, 0)","v":1},{"$f":"IF(AND(J44<>0,J44<>\"Inconnu\",J44<>\"Interrompu\",J44<>\"Non requis\"),J44/COUNTRY_INFO!D44, 0)","v":0},{"$f":"IF(AND(P44<>0,P44<>\"Inconnu\",P44<>\"Non requis\"),P44/(COUNTRY_INFO!E44+COUNTRY_INFO!F44), 0)","v":0},{"$f":"IF(AND(Z44<>0,Z44<>\"Inconnu\",Z44<>\"Non requis\"),IF(COUNTRY_INFO!K44=1,1,IF(COUNTRY_INFO!K44=2,0.5*COUNTRY_INFO!F44/(0.5*COUNTRY_INFO!F44+0.2*COUNTRY_INFO!G44),IF(COUNTRY_INFO!K44=3,COUNTRY_INFO!F44/(COUNTRY_INFO!F44+COUNTRY_INFO!G44)))),0)","v":0.5784222014343624},{"$f":"IF(AND(Z44<>0,Z44<>\"Inconnu\",Z44<>\"Non requis\"),IF(COUNTRY_INFO!K44=1,0,IF(COUNTRY_INFO!K44=2,0.2*COUNTRY_INFO!G44/(0.5*COUNTRY_INFO!F44+0.2*COUNTRY_INFO!G44),IF(COUNTRY_INFO!K44=3,COUNTRY_INFO!G44/(COUNTRY_INFO!F44+COUNTRY_INFO!G44)))),0)","v":0.42157779856563771},{"$f":"MAX(COUNTRY_INFO!D44*AK44*PROFILE!$G$7,COUNTRY_INFO!D44*AL44*PROFILE!$G$7)","v":12707.8016676933},{"$f":"MAX(COUNTRY_INFO!D44*AK44*PROFILE!$G$8,COUNTRY_INFO!D44*AL44*PROFILE!$G$8,COUNTRY_INFO!D44*AM44*PROFILE!$G$8)","v":46488.382287479821},{"$f":"MAX(COUNTRY_INFO!D44*AK44*PROFILE!$G$9,COUNTRY_INFO!D44*AL44*PROFILE!$G$9,COUNTRY_INFO!D44*AM44*PROFILE!$G$9,IF(AND(DISTRICT!Z44<>\"Inconnu\",Z44<>\"Non requis\"),COUNTRY_INFO!O44*DISTRICT!AN44,0))","v":96041.301999521485},{"$f":"MAX(COUNTRY_INFO!D44*AK44*PROFILE!$G$10,COUNTRY_INFO!D44*AL44*PROFILE!$G$10,IF(AND(DISTRICT!Z44<>\"Inconnu\",Z44<>\"Non requis\"),COUNTRY_INFO!O44*DISTRICT!AO44,0))","v":174385.5140453054},329623,0,{"$f":"MAX('MDA2'!J44,'T1'!L44,'T2'!J44,T3_R1!K44,T3_R2!K44)","v":0},{"$f":"MAX('MDA1'!K44,'MDA2'!K44,'MDA3'!I44,'MDA3'!L44,'T1'!M44,'T2'!K44,T3_R1!L44,T3_R2!L44)","v":92569},{"$f":"MAX('MDA1'!L44,'MDA2'!L44,'MDA3'!J44,'MDA3'!M44,'T1'!N44,'T2'!L44,T3_R1!M44,T3_R2!M44)","v":163427},255996,{"$f":"MAX('MDA2'!J44,T44)","v":0},{"$f":"MAX('MDA1'!K44,'MDA2'!K44,'MDA3'!I44,'MDA3'!L44,V44,AD44)","v":92569},{"$f":"MAX('MDA1'!L44,'MDA2'!L44,'MDA3'!J44,'MDA3'!M44,AF44)","v":163427},255996,77.66326985677577]
[{"$f":"IF(COUNTRY_INFO!A45=0,\" \",COUNTRY_INFO!A45)","v":"Burkina Faso"},{"$f":"IF(COUNTRY_INFO!B45=0,\" \",COUNTRY_INFO!B45)","v":"Centre-Sud"},{"$f":"IF(COUNTRY_INFO!C45=0,\" \",COUNTRY_INFO!C45)","v":"Pô"},{"$f":"COUNTRY_INFO!L45","v":215197},87095,80650,{"$f":"MAX('MDA1'!M45,'MDA2'!M45)","v":167745},{"$f":"IF(AND(COUNTRY_INFO!H45>0,COUNTRY_INFO!H45<4),IF(D45>MAX('MDA1'!M45,'MDA2'!M45),MAX('MDA1'!M45,'MDA2'!M45),D45),0)","v":167745},{"$f":"IF(AND(COUNTRY_INFO!H45>0,COUNTRY_INFO!H45<4), IF(G45/D45*100<>0, IF(G45/D45*100>100,100,G45/D45*100), \"-\"),0)","v":77.94950673104178},{"$f":"COUNTRY_INFO!M45","v":0},null,null,{"$f":"MAX('MDA1'!M45,MAX('MDA3'!I45,'MDA3'!L45)+MAX('MDA3'!J45,'MDA3'!M45))","v":167745},{"$f":"IF(AND(COUNTRY_INFO!I45>0,COUNTRY_INFO!I45<4),IF(J45>MAX('MDA1'!M45,MAX('MDA3'!I45,'MDA3'!L45)+MAX('MDA3'!J45,'MDA3'!M45)),MAX('MDA1'!M45,MAX('MDA3'!I45,'MDA3'!L45)+MAX('MDA3'!J45,'MDA3'!M45)),J45),0)","v":0},{"$f":"IF(AND(COUNTRY_INFO!I45>0,COUNTRY_INFO!I45<4), IF(M45/J45*100<>0, IF(M45/J45*100>100,100,M45/J45*100), \"-\"),0)","v":0},{"$f":"COUNTRY_INFO!N45","v":0},29163,31494,{"$f":"SUM(MAX('MDA2'!J45, 'T1'!L45, MAX(T3_R1!K45, T3_R2!K45)), MAX('MDA1'!K45, 'MDA2'!K45, 'T1'!M45, MAX(T3_R1!L45, T3_R2!L45)), MAX('MDA1'!L45, 'MDA2'!L45, 'T1'!N45, MAX(T3_R1!M45, T3_R2!M45)))","v":167745},{"$f":"IF(AND(COUNTRY_INFO!J45>1,COUNTRY_INFO!J45<4),IF(COUNTRY_INFO!E45>MAX('MDA2'!J45,'T1'!L45,MAX(T3_R1!K45,T3_R2!K45)),MAX('MDA2'!J45,'T1'!L45,MAX(T3_R1!K45,T3_R2!K45)),COUNTRY_INFO!E45),0)","v":0},{"$f":"IF(AND(COUNTRY_INFO!J45>1,COUNTRY_INFO!J45<4), IF(T45/COUNTRY_INFO!E45*100<>0, IF(T45/COUNTRY_INFO!E45*100>100,100,T45/COUNTRY_INFO!E45*100), \"-\"),0)","v":0},{"$f":"IF(AND(COUNTRY_INFO!J45>1,COUNTRY_INFO!J45<4),IF(COUNTRY_INFO!F45>MAX('MDA1'!K45,'MDA2'!K45,'T1'!M45,MAX(T3_R1!L45,T3_R2!L45)),MAX('MDA1'!K45,'MDA2'!K45,'T1'!M45,MAX(T3_R1!L45,T3_R2!L45)),COUNTRY_INFO!F45),0)","v":0},{"$f":"IF(AND(COUNTRY_INFO!J45>1,COUNTRY_INFO!J45<4), IF(V45/COUNTRY_INFO!F45*100<>0, IF(V45/COUNTRY_INFO!F45*100>100,100,V45/COUNTRY_INFO!F45*100), \"-\"),0)","v":0},0,{"$f":"IF(AND(COUNTRY_INFO!J45>1,COUNTRY_INFO!J45<4), IF(S45/P45*100<>0, IF(X45/P45*100>100,100,X45/P45*100), \"-\"),0)","v":0},{"$f":"COUNTRY_INFO!O45","v":53807.9},null,null,{"$f":"MAX('T1'!L45,'T2'!J45)+MAX('T1'!M45,'T2'!K45)+MAX('T1'!N45,'T2'!L45)","v":0},{"$f":"IF(COUNTRY_INFO!K45=1,IF(COUNTRY_INFO!F45*0.33>MAX('T1'!M45,'T2'!K45),MAX('T1'!M45,'T2'!K45),COUNTRY_INFO!F45*0.33),IF(COUNTRY_INFO!K45=2,IF(COUNTRY_INFO!F45*0.5>MAX('T1'!M45,'T2'!K45),MAX('T1'!M45,'T2'!K45),COUNTRY_INFO!F45*0.5),IF(COUNTRY_INFO!K45=3,IF(COUNTRY_INFO!F45>MAX('T1'!M45,'T2'!K45),MAX('T1'!M45,'T2'!K45),COUNTRY_INFO!F45),0)))","v":0},{"$f":"IF(AND(COUNTRY_INFO!K45>0,COUNTRY_INFO!K45<4),IF(Z45>0,IF(COUNTRY_INFO!K45=1, AD45/(COUNTRY_INFO!F45*0.33)*100, IF(COUNTRY_INFO!K45=2, AD45/(COUNTRY_INFO!F45*0.5)*100, IF(COUNTRY_INFO!K45=3, AD45/COUNTRY_INFO!F45*100))),\"-\"),0)","v":0},{"$f":"IF(COUNTRY_INFO!K45=2,IF(COUNTRY_INFO!G45*0.2>MAX('T1'!N45,'T2'!L45),MAX('T1'!N45,'T2'!L45),COUNTRY_INFO!G45*0.2),IF(COUNTRY_INFO!K45=3,IF(COUNTRY_INFO!G45>MAX('T1'!N45,'T2'!L45),MAX('T1'!N45,'T2'!L45),COUNTRY_INFO!G45),0))","v":0},{"$f":"IF(AND(COUNTRY_INFO!K45>0,COUNTRY_INFO!K45<4),IF(Z45>0,IF(COUNTRY_INFO!K45=1, 0, IF(COUNTRY_INFO!K45=2, AF45/(COUNTRY_INFO!G45*0.2)*100, IF(COUNTRY_INFO!K45=3, AF45/COUNTRY_INFO!G45*100))),\"-\"),0)","v":0},0,{"$f":"IF(AND(COUNTRY_INFO!K45>0,COUNTRY_INFO!K45<4), IF(AC45/Z45*100<>0, IF(AH45/Z45*100>100,100,AH45/Z45*100), \"-\"),0)","v":"-"},null,{"$f":"IF(AND(D45<>0, D45<>\"Inconnu\",D45<>\"Interrompu\",D45<>\"Non requis\"),D45/COUNTRY_INFO!D45, 0)","v":1},{"$f":"IF(AND(J45<>0,J45<>\"Inconnu\",J45<>\"Interrompu\",J45<>\"Non requis\"),J45/COUNTRY_INFO!D45, 0)","v":0},{"$f":"IF(AND(P45<>0,P45<>\"Inconnu\",P45<>\"Non requis\"),P45/(COUNTRY_INFO!E45+COUNTRY_INFO!F45), 0)","v":0},{"$f":"IF(AND(Z45<>0,Z45<>\"Inconnu\",Z45<>\"Non requis\"),IF(COUNTRY_INFO!K45=1,1,IF(COUNTRY_INFO!K45=2,0.5*COUNTRY_INFO!F45/(0.5*COUNTRY_INFO!F45+0.2*COUNTRY_INFO!G45),IF(COUNTRY_INFO!K45=3,COUNTRY_INFO!F45/(COUNTRY_INFO!F45+COUNTRY_INFO!G45)))),0)","v":0.5784187823721052},{"$f":"IF(AND(Z45<>0,Z45<>\"Inconnu\",Z45<>\"Non requis\"),IF(COUNTRY_INFO!K45=1,0,IF(COUNTRY_INFO!K45=2,0.2*COUNTRY_INFO!G45/(0.5*COUNTRY_INFO!F45+0.2*COUNTRY_INFO!G45),IF(COUNTRY_INFO!K45=3,COUNTRY_INFO!G45/(COUNTRY_INFO!F45+COUNTRY_INFO!G45)))),0)","v":0.4215812176278948},{"$f":"MAX(COUNTRY_INFO!D45*AK45*PROFILE!$G$7,COUNTRY_INFO!D45*AL45*PROFILE!$G$7)","v":8296.3894979494617},{"$f":"MAX(COUNTRY_INFO!D45*AK45*PROFILE!$G$8,COUNTRY_INFO!D45*AL45*PROFILE!$G$8,COUNTRY_INFO!D45*AM45*PROFILE!$G$8)","v":30350.310515706715},{"$f":"MAX(COUNTRY_INFO!D45*AK45*PROFILE!$G$9,COUNTRY_INFO!D45*AL45*PROFILE!$G$9,COUNTRY_INFO!D45*AM45*PROFILE!$G$9,IF(AND(DISTRICT!Z45<>\"Inconnu\",Z45<>\"Non requis\"),COUNTRY_INFO!O45*DISTRICT!AN45,0))","v":62701.3286888082},{"$f":"MAX(COUNTRY_INFO!D45*AK45*PROFILE!$G$10,COUNTRY_INFO!D45*AL45*PROFILE!$G$10,IF(AND(DISTRICT!Z45<>\"Inconnu\",Z45<>\"Non requis\"),COUNTRY_INFO!O45*DISTRICT!AO45,0))","v":113848.97129753562},215197,0,{"$f":"MAX('MDA2'!J45,'T1'!L45,'T2'!J45,T3_R1!K45,T3_R2!K45)","v":0},{"$f":"MAX('MDA1'!K45,'MDA2'!K45,'MDA3'!I45,'MDA3'!L45,'T1'!M45,'T2'!K45,T3_R1!L45,T3_R2!L45)","v":60657},{"$f":"MAX('MDA1'!L45,'MDA2'!L45,'MDA3'!J45,'MDA3'!M45,'T1'!N45,'T2'!L45,T3_R1!M45,T3_R2!M45)","v":107088},167745,{"$f":"MAX('MDA2'!J45,T45)","v":0},{"$f":"MAX('MDA1'!K45,'MDA2'!K45,'MDA3'!I45,'MDA3'!L45,V45,AD45)","v":60657},{"$f":"MAX('MDA1'!L45,'MDA2'!L45,'MDA3'!J45,'MDA3'!M45,AF45)","v":107088},167745,77.94950673104178]
[{"$f":"IF(COUNTRY_INFO!A46=0,\" \",COUNTRY_INFO!A46)","v":"Burkina Faso"},{"$f":"IF(COUNTRY_INFO!B46=0,\" \",COUNTRY_INFO!B46)","v":"Centre-Sud"},{"$f":"IF(COUNTRY_INFO!C46=0,\" \",COUNTRY_INFO!C46)","v":"Saponé"},{"$f":"COUNTRY_INFO!L46","v":109094},44767,41544,{"$f":"MAX('MDA1'!M46,'MDA2'!M46)","v":86311},{"$f":"IF(AND(COUNTRY_INFO!H46>0,COUNTRY_INFO!H46<4),IF(D46>MAX('MDA1'!M46,'MDA2'!M46),MAX('MDA1'!M46,'MDA2'!M46),D46),0)","v":86311},{"$f":"IF(AND(COUNTRY_INFO!H46>0,COUNTRY_INFO!H46<4), IF(G46/D46*100<>0, IF(G46/D46*100>100,100,G46/D46*100), \"-\"),0)","v":79.116175041707152},{"$f":"COUNTRY_INFO!M46","v":0},null,null,{"$f":"MAX('MDA1'!M46,MAX('MDA3'!I46,'MDA3'!L46)+MAX('MDA3'!J46,'MDA3'!M46))","v":86311},{"$f":"IF(AND(COUNTRY_INFO!I46>0,COUNTRY_INFO!I46<4),IF(J46>MAX('MDA1'!M46,MAX('MDA3'!I46,'MDA3'!L46)+MAX('MDA3'!J46,'MDA3'!M46)),MAX('MDA1'!M46,MAX('MDA3'!I46,'MDA3'!L46)+MAX('MDA3'!J46,'MDA3'!M46)),J46),0)","v":0},{"$f":"IF(AND(COUNTRY_INFO!I46>0,COUNTRY_INFO!I46<4), IF(M46/J46*100<>0, IF(M46/J46*100>100,100,M46/J46*100), \"-\"),0)","v":0},{"$f":"COUNTRY_INFO!N46","v":0},15022,16188,{"$f":"SUM(MAX('MDA2'!J46, 'T1'!L46, MAX(T3_R1!K46, T3_R2!K46)), MAX('MDA1'!K46, 'MDA2'!K46, 'T1'!M46, MAX(T3_R1!L46, T3_R2!L46)), MAX('MDA1'!L46, 'MDA2'!L46, 'T1'!N46, MAX(T3_R1!M46, T3_R2!M46)))","v":86311},{"$f":"IF(AND(COUNTRY_INFO!J46>1,COUNTRY_INFO!J46<4),IF(COUNTRY_INFO!E46>MAX('MDA2'!J46,'T1'!L46,MAX(T3_R1!K46,T3_R2!K46)),MAX('MDA2'!J46,'T1'!L46,MAX(T3_R1!K46,T3_R2!K46)),COUNTRY_INFO!E46),0)","v":0},{"$f":"IF(AND(COUNTRY_INFO!J46>1,COUNTRY_INFO!J46<4), IF(T46/COUNTRY_INFO!E46*100<>0, IF(T46/COUNTRY_INFO!E46*100>100,100,T46/COUNTRY_INFO!E46*100), \"-\"),0)","v":0},{"$f":"IF(AND(COUNTRY_INFO!J46>1,COUNTRY_INFO!J46<4),IF(COUNTRY_INFO!F46>MAX('MDA1'!K46,'MDA2'!K46,'T1'!M46,MAX(T3_R1!L46,T3_R2!L46)),MAX('MDA1'!K46,'MDA2'!K46,'T1'!M46,MAX(T3_R1!L46,T3_R2!L46)),COUNTRY_INFO!F46),0)","v":0},{"$f":"IF(AND(COUNTRY_INFO!J46>1,COUNTRY_INFO!J46<4), IF(V46/COUNTRY_INFO!F46*100<>0, IF(V46/COUNTRY_INFO!F46*100>100,100,V46/COUNTRY_INFO!F46*100), \"-\"),0)","v":0},0,{"$f":"IF(AND(COUNTRY_INFO!J46>1,COUNTRY_INFO!J46<4), IF(S46/P46*100<>0, IF(X46/P46*100>100,100,X46/P46*100), \"-\"),0)","v":0},{"$f":"COUNTRY_INFO!O46","v":27897.200000000001},null,null,{"$f":"MAX('T1'!L46,'T2'!J46)+MAX('T1'!M46,'T2'!K46)+MAX('T1'!N46,'T2'!L46)","v":0},{"$f":"IF(COUNTRY_INFO!K46=1,IF(COUNTRY_INFO!F46*0.33>MAX('T1'!M46,'T2'!K46),MAX('T1'!M46,'T2'!K46),COUNTRY_INFO!F46*0.33),IF(COUNTRY_INFO!K46=2,IF(COUNTRY_INFO!F46*0.5>MAX('T1'!M46,'T2'!K46),MAX('T1'!M46,'T2'!K46),COUNTRY_INFO!F46*0.5),IF(COUNTRY_INFO!K46=3,IF(COUNTRY_INFO!F46>MAX('T1'!M46,'T2'!K46),MAX('T1'!M46,'T2'!K46),COUNTRY_INFO!F46),0)))","v":0},{"$f":"IF(AND(COUNTRY_INFO!K46>0,COUNTRY_INFO!K46<4),IF(Z46>0,IF(COUNTRY_INFO!K46=1, AD46/(COUNTRY_INFO!F46*0.33)*100, IF(COUNTRY_INFO!K46=2, AD46/(COUNTRY_INFO!F46*0.5)*100, IF(COUNTRY_INFO!K46=3, AD46/COUNTRY_INFO!F46*100))),\"-\"),0)","v":0},{"$f":"IF(COUNTRY_INFO!K46=2,IF(COUNTRY_INFO!G46*0.2>MAX('T1'!N46,'T2'!L46),MAX('T1'!N46,'T2'!L46),COUNTRY_INFO!G46*0.2),IF(COUNTRY_INFO!K46=3,IF(COUNTRY_INFO!G46>MAX('T1'!N46,'T2'!L46),MAX('T1'!N46,'T2'!L46),COUNTRY_INFO!G46),0))","v":0},{"$f":"IF(AND(COUNTRY_INFO!K46>0,COUNTRY_INFO!K46<4),IF(Z46>0,IF(COUNTRY_INFO!K46=1, 0, IF(COUNTRY_INFO!K46=2, AF46/(COUNTRY_INFO!G46*0.2)*100, IF(COUNTRY_INFO!K46=3, AF46/COUNTRY_INFO!G46*100))),\"-\"),0)","v":0},0,{"$f":"IF(AND(COUNTRY_INFO!K46>0,COUNTRY_INFO!K46<4), IF(AC46/Z46*100<>0, IF(AH46/Z46*100>100,100,AH46/Z46*100), \"-\"),0)","v":"-"},null,{"$f":"IF(AND(D46<>0, D46<>\"Inconnu\",D46<>\"Interrompu\",D46<>\"Non requis\"),D46/COUNTRY_INFO!D46, 0)","v":1},{"$f":"IF(AND(J46<>0,J46<>\"Inconnu\",J46<>\"Interrompu\",J46<>\"Non requis\"),J46/COUNTRY_INFO!D46, 0)","v":0},{"$f":"IF(AND(P46<>0,P46<>\"Inconnu\",P46<>\"Non requis\"),P46/(COUNTRY_INFO!E46+COUNTRY_INFO!F46), 0)","v":0},{"$f":"IF(AND(Z46<>0,Z46<>\"Inconnu\",Z46<>\"Non requis\"),IF(COUNTRY_INFO!K46=1,1,IF(COUNTRY_INFO!K46=2,0.5*COUNTRY_INFO!F46/(0.5*COUNTRY_INFO!F46+0.2*COUNTRY_INFO!G46),IF(COUNTRY_INFO!K46=3,COUNTRY_INFO!F46/(COUNTRY_INFO!F46+COUNTRY_INFO!G46)))),0)","v":0.59217412500179223},{"$f":"IF(AND(Z46<>0,Z46<>\"Inconnu\",Z46<>\"Non requis\"),IF(COUNTRY_INFO!K46=1,0,IF(COUNTRY_INFO!K46=2,0.2*COUNTRY_INFO!G46/(0.5*COUNTRY_INFO!F46+0.2*COUNTRY_INFO!G46),IF(COUNTRY_INFO!K46=3,COUNTRY_INFO!G46/(COUNTRY_INFO!F46+COUNTRY_INFO!G46)))),0)","v":0.40782587499820772},{"$f":"MAX(COUNTRY_INFO!D46*AK46*PROFILE!$G$7,COUNTRY_INFO!D46*AL46*PROFILE!$G$7)","v":4205.8500624511425},{"$f":"MAX(COUNTRY_INFO!D46*AK46*PROFILE!$G$8,COUNTRY_INFO!D46*AL46*PROFILE!$G$8,COUNTRY_INFO!D46*AM46*PROFILE!$G$8)","v":15386.073111616372},{"$f":"MAX(COUNTRY_INFO!D46*AK46*PROFILE!$G$9,COUNTRY_INFO!D46*AL46*PROFILE!$G$9,COUNTRY_INFO!D46*AM46*PROFILE!$G$9,IF(AND(DISTRICT!Z46<>\"Inconnu\",Z46<>\"Non requis\"),COUNTRY_INFO!O46*DISTRICT!AN46,0))","v":31786.403862399766},{"$f":"MAX(COUNTRY_INFO!D46*AK46*PROFILE!$G$10,COUNTRY_INFO!D46*AL46*PROFILE!$G$10,IF(AND(DISTRICT!Z46<>\"Inconnu\",Z46<>\"Non requis\"),COUNTRY_INFO!O46*DISTRICT!AO46,0))","v":57715.672963532721},109094,0,{"$f":"MAX('MDA2'!J46,'T1'!L46,'T2'!J46,T3_R1!K46,T3_R2!K46)","v":0},{"$f":"MAX('MDA1'!K46,'MDA2'!K46,'MDA3'!I46,'MDA3'!L46,'T1'!M46,'T2'!K46,T3_R1!L46,T3_R2!L46)","v":31210},{"$f":"MAX('MDA1'!L46,'MDA2'!L46,'MDA3'!J46,'MDA3'!M46,'T1'!N46,'T2'!L46,T3_R1!M46,T3_R2!M46)","v":55101},86311,{"$f":"MAX('MDA2'!J46,T46)","v":0},{"$f":"MAX('MDA1'!K46,'MDA2'!K46,'MDA3'!I46,'MDA3'!L46,V46,AD46)","v":31210},{"$f":"MAX('MDA1'!L46,'MDA2'!L46,'MDA3'!J46,'MDA3'!M46,AF46)","v":55101},86311,79.116175041707152]
[{"$f":"IF(COUNTRY_INFO!A47=0,\" \",COUNTRY_INFO!A47)","v":"Burkina Faso"},{"$f":"IF(COUNTRY_INFO!B47=0,\" \",COUNTRY_INFO!B47)","v":"Est"},{"$f":"IF(COUNTRY_INFO!C47=0,\" \",COUNTRY_INFO!C47)","v":"Bogandé"},{"$f":"COUNTRY_INFO!L47","v":378151},158356,145220,{"$f":"MAX('MDA1'!M47,'MDA2'!M47)","v":303576},{"$f":"IF(AND(COUNTRY_INFO!H47>0,COUNTRY_INFO!H47<4),IF(D47>MAX('MDA1'!M47,'MDA2'!M47),MAX('MDA1'!M47,'MDA2'!M47),D47),0)","v":303576},{"$f":"IF(AND(COUNTRY_INFO!H47>0,COUNTRY_INFO!H47<4), IF(G47/D47*100<>0, IF(G47/D47*100>100,100,G47/D47*100), \"-\"),0)","v":80.279041970006688},{"$f":"COUNTRY_INFO!M47","v":0},null,null,{"$f":"MAX('MDA1'!M47,MAX('MDA3'!I47,'MDA3'!L47)+MAX('MDA3'!J47,'MDA3'!M47))","v":303576},{"$f":"IF(AND(COUNTRY_INFO!I47>0,COUNTRY_INFO!I47<4),IF(J47>MAX('MDA1'!M47,MAX('MDA3'!I47,'MDA3'!L47)+MAX('MDA3'!J47,'MDA3'!M47)),MAX('MDA1'!M47,MAX('MDA3'!I47,'MDA3'!L47)+MAX('MDA3'!J47,'MDA3'!M47)),J47),0)","v":0},{"$f":"IF(AND(COUNTRY_INFO!I47>0,COUNTRY_INFO!I47<4), IF(M47/J47*100<>0, IF(M47/J47*100>100,100,M47/J47*100), \"-\"),0)","v":0},{"$f":"COUNTRY_INFO!N47","v":0},56520,61632,{"$f":"SUM(MAX('MDA2'!J47, 'T1'!L47, MAX(T3_R1!K47, T3_R2!K47)), MAX('MDA1'!K47, 'MDA2'!K47, 'T1'!M47, MAX(T3_R1!L47, T3_R2!L47)), MAX('MDA1'!L47, 'MDA2'!L47, 'T1'!N47, MAX(T3_R1!M47, T3_R2!M47)))","v":303576},{"$f":"IF(AND(COUNTRY_INFO!J47>1,COUNTRY_INFO!J47<4),IF(COUNTRY_INFO!E47>MAX('MDA2'!J47,'T1'!L47,MAX(T3_R1!K47,T3_R2!K47)),MAX('MDA2'!J47,'T1'!L47,MAX(T3_R1!K47,T3_R2!K47)),COUNTRY_INFO!E47),0)","v":0},{"$f":"IF(AND(COUNTRY_INFO!J47>1,COUNTRY_INFO!J47<4), IF(T47/COUNTRY_INFO!E47*100<>0, IF(T47/COUNTRY_INFO!E47*100>100,100,T47/COUNTRY_INFO!E47*100), \"-\"),0)","v":0},{"$f":"IF(AND(COUNTRY_INFO!J47>1,COUNTRY_INFO!J47<4),IF(COUNTRY_INFO!F47>MAX('MDA1'!K47,'MDA2'!K47,'T1'!M47,MAX(T3_R1!L47,T3_R2!L47)),MAX('MDA1'!K47,'MDA2'!K47,'T1'!M47,MAX(T3_R1!L47,T3_R2!L47)),COUNTRY_INFO!F47),0)","v":0},{"$f":"IF(AND(COUNTRY_INFO!J47>1,COUNTRY_INFO!J47<4), IF(V47/COUNTRY_INFO!F47*100<>0, IF(V47/COUNTRY_INFO!F47*100>100,100,V47/COUNTRY_INFO!F47*100), \"-\"),0)","v":0},0,{"$f":"IF(AND(COUNTRY_INFO!J47>1,COUNTRY_INFO!J47<4), IF(S47/P47*100<>0, IF(X47/P47*100>100,100,X47/P47*100), \"-\"),0)","v":0},{"$f":"COUNTRY_INFO!O47","v":96352.6},null,null,{"$f":"MAX('T1'!L47,'T2'!J47)+MAX('T1'!M47,'T2'!K47)+MAX('T1'!N47,'T2'!L47)","v":0},{"$f":"IF(COUNTRY_INFO!K47=1,IF(COUNTRY_INFO!F47*0.33>MAX('T1'!M47,'T2'!K47),MAX('T1'!M47,'T2'!K47),COUNTRY_INFO!F47*0.33),IF(COUNTRY_INFO!K47=2,IF(COUNTRY_INFO!F47*0.5>MAX('T1'!M47,'T2'!K47),MAX('T1'!M47,'T2'!K47),COUNTRY_INFO!F47*0.5),IF(COUNTRY_INFO!K47=3,IF(COUNTRY_INFO!F47>MAX('T1'!M47,'T2'!K47),MAX('T1'!M47,'T2'!K47),COUNTRY_INFO!F47),0)))","v":0},{"$f":"IF(AND(COUNTRY_INFO!K47>0,COUNTRY_INFO!K47<4),IF(Z47>0,IF(COUNTRY_INFO!K47=1, AD47/(COUNTRY_INFO!F47*0.33)*100, IF(COUNTRY_INFO!K47=2, AD47/(COUNTRY_INFO!F47*0.5)*100, IF(COUNTRY_INFO!K47=3, AD47/COUNTRY_INFO!F47*100))),\"-\"),0)","v":0},{"$f":"IF(COUNTRY_INFO!K47=2,IF(COUNTRY_INFO!G47*0.2>MAX('T1'!N47,'T2'!L47),MAX('T1'!N47,'T2'!L47),COUNTRY_INFO!G47*0.2),IF(COUNTRY_INFO!K47=3,IF(COUNTRY_INFO!G47>MAX('T1'!N47,'T2'!L47),MAX('T1'!N47,'T2'!L47),COUNTRY_INFO!G47),0))","v":0},{"$f":"IF(AND(COUNTRY_INFO!K47>0,COUNTRY_INFO!K47<4),IF(Z47>0,IF(COUNTRY_INFO!K47=1, 0, IF(COUNTRY_INFO!K47=2, AF47/(COUNTRY_INFO!G47*0.2)*100, IF(COUNTRY_INFO!K47=3, AF47/COUNTRY_INFO!G47*100))),\"-\"),0)","v":0},0,{"$f":"IF(AND(COUNTRY_INFO!K47>0,COUNTRY_INFO!K47<4), IF(AC47/Z47*100<>0, IF(AH47/Z47*100>100,100,AH47/Z47*100), \"-\"),0)","v":"-"},null,{"$f":"IF(AND(D47<>0, D47<>\"Inconnu\",D47<>\"Interrompu\",D47<>\"Non requis\"),D47/COUNTRY_INFO!D47, 0)","v":1},{"$f":"IF(AND(J47<>0,J47<>\"Inconnu\",J47<>\"Interrompu\",J47<>\"Non requis\"),J47/COUNTRY_INFO!D47, 0)","v":0},{"$f":"IF(AND(P47<>0,P47<>\"Inconnu\",P47<>\"Non requis\"),P47/(COUNTRY_INFO!E47+COUNTRY_INFO!F47), 0)","v":0},{"$f":"IF(AND(Z47<>0,Z47<>\"Inconnu\",Z47<>\"Non requis\"),IF(COUNTRY_INFO!K47=1,1,IF(COUNTRY_INFO!K47=2,0.5*COUNTRY_INFO!F47/(0.5*COUNTRY_INFO!F47+0.2*COUNTRY_INFO!G47),IF(COUNTRY_INFO!K47=3,COUNTRY_INFO!F47/(COUNTRY_INFO!F47+COUNTRY_INFO!G47)))),0)","v":0.62130134526727865},{"$f":"IF(AND(Z47<>0,Z47<>\"Inconnu\",Z47<>\"Non requis\"),IF(COUNTRY_INFO!K47=1,0,IF(COUNTRY_INFO!K47=2,0.2*COUNTRY_INFO!G47/(0.5*COUNTRY_INFO!F47+0.2*COUNTRY_INFO!G47),IF(COUNTRY_INFO!K47=3,COUNTRY_INFO!G47/(COUNTRY_INFO!F47+COUNTRY_INFO!G47)))),0)","v":0.37869865473272124},{"$f":"MAX(COUNTRY_INFO!D47*AK47*PROFILE!$G$7,COUNTRY_INFO!D47*AL47*PROFILE!$G$7)","v":14578.679001282948},{"$f":"MAX(COUNTRY_INFO!D47*AK47*PROFILE!$G$8,COUNTRY_INFO!D47*AL47*PROFILE!$G$8,COUNTRY_INFO!D47*AM47*PROFILE!$G$8)","v":53332.529132957286},{"$f":"MAX(COUNTRY_INFO!D47*AK47*PROFILE!$G$9,COUNTRY_INFO!D47*AL47*PROFILE!$G$9,COUNTRY_INFO!D47*AM47*PROFILE!$G$9,IF(AND(DISTRICT!Z47<>\"Inconnu\",Z47<>\"Non requis\"),COUNTRY_INFO!O47*DISTRICT!AN47,0))","v":110180.76527554524},{"$f":"MAX(COUNTRY_INFO!D47*AK47*PROFILE!$G$10,COUNTRY_INFO!D47*AL47*PROFILE!$G$10,IF(AND(DISTRICT!Z47<>\"Inconnu\",Z47<>\"Non requis\"),COUNTRY_INFO!O47*DISTRICT!AO47,0))","v":200059.02659021452},378151,0,{"$f":"MAX('MDA2'!J47,'T1'!L47,'T2'!J47,T3_R1!K47,T3_R2!K47)","v":0},{"$f":"MAX('MDA1'!K47,'MDA2'!K47,'MDA3'!I47,'MDA3'!L47,'T1'!M47,'T2'!K47,T3_R1!L47,T3_R2!L47)","v":118152},{"$f":"MAX('MDA1'!L47,'MDA2'!L47,'MDA3'!J47,'MDA3'!M47,'T1'!N47,'T2'!L47,T3_R1!M47,T3_R2!M47)","v":185424},303576,{"$f":"MAX('MDA2'!J47,T47)","v":0},{"$f":"MAX('MDA1'!K47,'MDA2'!K47,'MDA3'!I47,'MDA3'!L47,V47,AD47)","v":118152},{"$f":"MAX('MDA1'!L47,'MDA2'!L47,'MDA3'!J47,'MDA3'!M47,AF47)","v":185424},303576,80.279041970006688]
[{"$f":"IF(COUNTRY_INFO!A48=0,\" \",COUNTRY_INFO!A48)","v":"Burkina Faso"},{"$f":"IF(COUNTRY_INFO!B48=0,\" \",COUNTRY_INFO!B48)","v":"Est"},{"$f":"IF(COUNTRY_INFO!C48=0,\" \",COUNTRY_INFO!C48)","v":"Diapaga"},{"$f":"COUNTRY_INFO!L48","v":490847},193110,194120,{"$f":"MAX('MDA1'!M48,'MDA2'!M48)","v":387230},{"$f":"IF(AND(COUNTRY_INFO!H48>0,COUNTRY_INFO!H48<4),IF(D48>MAX('MDA1'!M48,'MDA2'!M48),MAX('MDA1'!M48,'MDA2'!M48),D48),0)","v":387230},{"$f":"IF(AND(COUNTRY_INFO!H48>0,COUNTRY_INFO!H48<4), IF(G48/D48*100<>0, IF(G48/D48*100>100,100,G48/D48*100), \"-\"),0)","v":78.89016332991747},{"$f":"COUNTRY_INFO!M48","v":0},null,null,{"$f":"MAX('MDA1'!M48,MAX('MDA3'!I48,'MDA3'!L48)+MAX('MDA3'!J48,'MDA3'!M48))","v":387230},{"$f":"IF(AND(COUNTRY_INFO!I48>0,COUNTRY_INFO!I48<4),IF(J48>MAX('MDA1'!M48,MAX('MDA3'!I48,'MDA3'!L48)+MAX('MDA3'!J48,'MDA3'!M48)),MAX('MDA1'!M48,MAX('MDA3'!I48,'MDA3'!L48)+MAX('MDA3'!J48,'MDA3'!M48)),J48),0)","v":0},{"$f":"IF(AND(COUNTRY_INFO!I48>0,COUNTRY_INFO!I48<4), IF(M48/J48*100<>0, IF(M48/J48*100>100,100,M48/J48*100), \"-\"),0)","v":0},{"$f":"COUNTRY_INFO!N48","v":0},75552,75158,{"$f":"SUM(MAX('MDA2'!J48, 'T1'!L48, MAX(T3_R1!K48, T3_R2!K48)), MAX('MDA1'!K48, 'MDA2'!K48, 'T1'!M48, MAX(T3_R1!L48, T3_R2!L48)), MAX('MDA1'!L48, 'MDA2'!L48, 'T1'!N48, MAX(T3_R1!M48, T3_R2!M48)))","v":387230},{"$f":"IF(AND(COUNTRY_INFO!J48>1,COUNTRY_INFO!J48<4),IF(COUNTRY_INFO!E48>MAX('MDA2'!J48,'T1'!L48,MAX(T3_R1!K48,T3_R2!K48)),MAX('MDA2'!J48,'T1'!L48,MAX(T3_R1!K48,T3_R2!K48)),COUNTRY_INFO!E48),0)","v":0},{"$f":"IF(AND(COUNTRY_INFO!J48>1,COUNTRY_INFO!J48<4), IF(T48/COUNTRY_INFO!E48*100<>0, IF(T48/COUNTRY_INFO!E48*100>100,100,T48/COUNTRY_INFO!E48*100), \"-\"),0)","v":0},{"$f":"IF(AND(COUNTRY_INFO!J48>1,COUNTRY_INFO!J48<4),IF(COUNTRY_INFO!F48>MAX('MDA1'!K48,'MDA2'!K48,'T1'!M48,MAX(T3_R1!L48,T3_R2!L48)),MAX('MDA1'!K48,'MDA2'!K48,'T1'!M48,MAX(T3_R1!L48,T3_R2!L48)),COUNTRY_INFO!F48),0)","v":0},{"$f":"IF(AND(COUNTRY_INFO!J48>1,COUNTRY_INFO!J48<4), IF(V48/COUNTRY_INFO!F48*100<>0, IF(V48/COUNTRY_INFO!F48*100>100,100,V48/COUNTRY_INFO!F48*100), \"-\"),0)","v":0},0,{"$f":"IF(AND(COUNTRY_INFO!J48>1,COUNTRY_INFO!J48<4), IF(S48/P48*100<>0, IF(X48/P48*100>100,100,X48/P48*100), \"-\"),0)","v":0},{"$f":"COUNTRY_INFO!O48","v":124078},null,null,{"$f":"MAX('T1'!L48,'T2'!J48)+MAX('T1'!M48,'T2'!K48)+MAX('T1'!N48,'T2'!L48)","v":0},{"$f":"IF(COUNTRY_INFO!K48=1,IF(COUNTRY_INFO!F48*0.33>MAX('T1'!M48,'T2'!K48),MAX('T1'!M48,'T2'!K48),COUNTRY_INFO!F48*0.33),IF(COUNTRY_INFO!K48=2,IF(COUNTRY_INFO!F48*0.5>MAX('T1'!M48,'T2'!K48),MAX('T1'!M48,'T2'!K48),COUNTRY_INFO!F48*0.5),IF(COUNTRY_INFO!K48=3,IF(COUNTRY_INFO!F48>MAX('T1'!M48,'T2'!K48),MAX('T1'!M48,'T2'!K48),COUNTRY_INFO!F48),0)))","v":0},{"$f":"IF(AND(COUNTRY_INFO!K48>0,COUNTRY_INFO!K48<4),IF(Z48>0,IF(COUNTRY_INFO!K48=1, AD48/(COUNTRY_INFO!F48*0.33)*100, IF(COUNTRY_INFO!K48=2, AD48/(COUNTRY_INFO!F48*0.5)*100, IF(COUNTRY_INFO!K48=3, AD48/COUNTRY_INFO!F48*100))),\"-\"),0)","v":0},{"$f":"IF(COUNTRY_INFO!K48=2,IF(COUNTRY_INFO!G48*0.2>MAX('T1'!N48,'T2'!L48),MAX('T1'!N48,'T2'!L48),COUNTRY_INFO!G48*0.2),IF(COUNTRY_INFO!K48=3,IF(COUNTRY_INFO!G48>MAX('T1'!N48,'T2'!L48),MAX('T1'!N48,'T2'!L48),COUNTRY_INFO!G48),0))","v":0},{"$f":"IF(AND(COUNTRY_INFO!K48>0,COUNTRY_INFO!K48<4),IF(Z48>0,IF(COUNTRY_INFO!K48=1, 0, IF(COUNTRY_INFO!K48=2, AF48/(COUNTRY_INFO!G48*0.2)*100, IF(COUNTRY_INFO!K48=3, AF48/COUNTRY_INFO!G48*100))),\"-\"),0)","v":0},0,{"$f":"IF(AND(COUNTRY_INFO!K48>0,COUNTRY_INFO!K48<4), IF(AC48/Z48*100<>0, IF(AH48/Z48*100>100,100,AH48/Z48*100), \"-\"),0)","v":"-"},null,{"$f":"IF(AND(D48<>0, D48<>\"Inconnu\",D48<>\"Interrompu\",D48<>\"Non requis\"),D48/COUNTRY_INFO!D48, 0)","v":1},{"$f":"IF(AND(J48<>0,J48<>\"Inconnu\",J48<>\"Interrompu\",J48<>\"Non requis\"),J48/COUNTRY_INFO!D48, 0)","v":0},{"$f":"IF(AND(P48<>0,P48<>\"Inconnu\",P48<>\"Non requis\"),P48/(COUNTRY_INFO!E48+COUNTRY_INFO!F48), 0)","v":0},{"$f":"IF(AND(Z48<>0,Z48<>\"Inconnu\",Z48<>\"Non requis\"),IF(COUNTRY_INFO!K48=1,1,IF(COUNTRY_INFO!K48=2,0.5*COUNTRY_INFO!F48/(0.5*COUNTRY_INFO!F48+0.2*COUNTRY_INFO!G48),IF(COUNTRY_INFO!K48=3,COUNTRY_INFO!F48/(COUNTRY_INFO!F48+COUNTRY_INFO!G48)))),0)","v":0.61592707812827419},{"$f":"IF(AND(Z48<>0,Z48<>\"Inconnu\",Z48<>\"Non requis\"),IF(COUNTRY_INFO!K48=1,0,IF(COUNTRY_INFO!K48=2,0.2*COUNTRY_INFO!G48/(0.5*COUNTRY_INFO!F48+0.2*COUNTRY_INFO!G48),IF(COUNTRY_INFO!K48=3,COUNTRY_INFO!G48/(COUNTRY_INFO!F48+COUNTRY_INFO!G48)))),0)","v":0.38407292187172587},{"$f":"MAX(COUNTRY_INFO!D48*AK48*PROFILE!$G$7,COUNTRY_INFO!D48*AL48*PROFILE!$G$7)","v":18923.395288503089},{"$f":"MAX(COUNTRY_INFO!D48*AK48*PROFILE!$G$8,COUNTRY_INFO!D48*AL48*PROFILE!$G$8,COUNTRY_INFO!D48*AM48*PROFILE!$G$8)","v":69226.610341701293},{"$f":"MAX(COUNTRY_INFO!D48*AK48*PROFILE!$G$9,COUNTRY_INFO!D48*AL48*PROFILE!$G$9,COUNTRY_INFO!D48*AM48*PROFILE!$G$9,IF(AND(DISTRICT!Z48<>\"Inconnu\",Z48<>\"Non requis\"),COUNTRY_INFO!O48*DISTRICT!AN48,0))","v":143016.67348018533},{"$f":"MAX(COUNTRY_INFO!D48*AK48*PROFILE!$G$10,COUNTRY_INFO!D48*AL48*PROFILE!$G$10,IF(AND(DISTRICT!Z48<>\"Inconnu\",Z48<>\"Non requis\"),COUNTRY_INFO!O48*DISTRICT!AO48,0))","v":259680.3208896103},490847,0,{"$f":"MAX('MDA2'!J48,'T1'!L48,'T2'!J48,T3_R1!K48,T3_R2!K48)","v":0},{"$f":"MAX('MDA1'!K48,'MDA2'!K48,'MDA3'!I48,'MDA3'!L48,'T1'!M48,'T2'!K48,T3_R1!L48,T3_R2!L48)","v":150710},{"$f":"MAX('MDA1'!L48,'MDA2'!L48,'MDA3'!J48,'MDA3'!M48,'T1'!N48,'T2'!L48,T3_R1!M48,T3_R2!M48)","v":236520},387230,{"$f":"MAX('MDA2'!J48,T48)","v":0},{"$f":"MAX('MDA1'!K48,'MDA2'!K48,'MDA3'!I48,'MDA3'!L48,V48,AD48)","v":150710},{"$f":"MAX('MDA1'!L48,'MDA2'!L48,'MDA3'!J48,'MDA3'!M48,AF48)","v":236520},387230,78.89016332991747]
[{"$f":"IF(COUNTRY_INFO!A49=0,\" \",COUNTRY_INFO!A49)","v":"Burkina Faso"},{"$f":"IF(COUNTRY_INFO!B49=0,\" \",COUNTRY_INFO!B49)","v":"Est"},{"$f":"IF(COUNTRY_INFO!C49=0,\" \",COUNTRY_INFO!C49)","v":"Fada N'gourma"},{"$f":"COUNTRY_INFO!L49","v":429709},175115,168698,{"$f":"MAX('MDA1'!M49,'MDA2'!M49)","v":343813},{"$f":"IF(AND(COUNTRY_INFO!H49>0,COUNTRY_INFO!H49<4),IF(D49>MAX('MDA1'!M49,'MDA2'!M49),MAX('MDA1'!M49,'MDA2'!M49),D49),0)","v":343813},{"$f":"IF(AND(COUNTRY_INFO!H49>0,COUNTRY_INFO!H49<4), IF(G49/D49*100<>0, IF(G49/D49*100>100,100,G49/D49*100), \"-\"),0)","v":80.010658375784544},{"$f":"COUNTRY_INFO!M49","v":0},null,null,{"$f":"MAX('MDA1'!M49,MAX('MDA3'!I49,'MDA3'!L49)+MAX('MDA3'!J49,'MDA3'!M49))","v":343813},{"$f":"IF(AND(COUNTRY_INFO!I49>0,COUNTRY_INFO!I49<4),IF(J49>MAX('MDA1'!M49,MAX('MDA3'!I49,'MDA3'!L49)+MAX('MDA3'!J49,'MDA3'!M49)),MAX('MDA1'!M49,MAX('MDA3'!I49,'MDA3'!L49)+MAX('MDA3'!J49,'MDA3'!M49)),J49),0)","v":0},{"$f":"IF(AND(COUNTRY_INFO!I49>0,COUNTRY_INFO!I49<4), IF(M49/J49*100<>0, IF(M49/J49*100>100,100,M49/J49*100), \"-\"),0)","v":0},{"$f":"COUNTRY_INFO!N49","v":0},65657,68155,{"$f":"SUM(MAX('MDA2'!J49, 'T1'!L49, MAX(T3_R1!K49, T3_R2!K49)), MAX('MDA1'!K49, 'MDA2'!K49, 'T1'!M49, MAX(T3_R1!L49, T3_R2!L49)), MAX('MDA1'!L49, 'MDA2'!L49, 'T1'!N49, MAX(T3_R1!M49, T3_R2!M49)))","v":343813},{"$f":"IF(AND(COUNTRY_INFO!J49>1,COUNTRY_INFO!J49<4),IF(COUNTRY_INFO!E49>MAX('MDA2'!J49,'T1'!L49,MAX(T3_R1!K49,T3_R2!K49)),MAX('MDA2'!J49,'T1'!L49,MAX(T3_R1!K49,T3_R2!K49)),COUNTRY_INFO!E49),0)","v":0},{"$f":"IF(AND(COUNTRY_INFO!J49>1,COUNTRY_INFO!J49<4), IF(T49/COUNTRY_INFO!E49*100<>0, IF(T49/COUNTRY_INFO!E49*100>100,100,T49/COUNTRY_INFO!E49*100), \"-\"),0)","v":0},{"$f":"IF(AND(COUNTRY_INFO!J49>1,COUNTRY_INFO!J49<4),IF(COUNTRY_INFO!F49>MAX('MDA1'!K49,'MDA2'!K49,'T1'!M49,MAX(T3_R1!L49,T3_R2!L49)),MAX('MDA1'!K49,'MDA2'!K49,'T1'!M49,MAX(T3_R1!L49,T3_R2!L49)),COUNTRY_INFO!F49),0)","v":0},{"$f":"IF(AND(COUNTRY_INFO!J49>1,COUNTRY_INFO!J49<4), IF(V49/COUNTRY_INFO!F49*100<>0, IF(V49/COUNTRY_INFO!F49*100>100,100,V49/COUNTRY_INFO!F49*100), \"-\"),0)","v":0},0,{"$f":"IF(AND(COUNTRY_INFO!J49>1,COUNTRY_INFO!J49<4), IF(S49/P49*100<>0, IF(X49/P49*100>100,100,X49/P49*100), \"-\"),0)","v":0},{"$f":"COUNTRY_INFO!O49","v":108623.70000000001},null,null,{"$f":"MAX('T1'!L49,'T2'!J49)+MAX('T1'!M49,'T2'!K49)+MAX('T1'!N49,'T2'!L49)","v":0},{"$f":"IF(COUNTRY_INFO!K49=1,IF(COUNTRY_INFO!F49*0.33>MAX('T1'!M49,'T2'!K49),MAX('T1'!M49,'T2'!K49),COUNTRY_INFO!F49*0.33),IF(COUNTRY_INFO!K49=2,IF(COUNTRY_INFO!F49*0.5>MAX('T1'!M49,'T2'!K49),MAX('T1'!M49,'T2'!K49),COUNTRY_INFO!F49*0.5),IF(COUNTRY_INFO!K49=3,IF(COUNTRY_INFO!F49>MAX('T1'!M49,'T2'!K49),MAX('T1'!M49,'T2'!K49),COUNTRY_INFO!F49),0)))","v":0},{"$f":"IF(AND(COUNTRY_INFO!K49>0,COUNTRY_INFO!K49<4),IF(Z49>0,IF(COUNTRY_INFO!K49=1, AD49/(COUNTRY_INFO!F49*0.33)*100, IF(COUNTRY_INFO!K49=2, AD49/(COUNTRY_INFO!F49*0.5)*100, IF(COUNTRY_INFO!K49=3, AD49/COUNTRY_INFO!F49*100))),\"-\"),0)","v":0},{"$f":"IF(COUNTRY_INFO!K49=2,IF(COUNTRY_INFO!G49*0.2>MAX('T1'!N49,'T2'!L49),MAX('T1'!N49,'T2'!L49),COUNTRY_INFO!G49*0.2),IF(COUNTRY_INFO!K49=3,IF(COUNTRY_INFO!G49>MAX('T1'!N49,'T2'!L49),MAX('T1'!N49,'T2'!L49),COUNTRY_INFO!G49),0))","v":0},{"$f":"IF(AND(COUNTRY_INFO!K49>0,COUNTRY_INFO!K49<4),IF(Z49>0,IF(COUNTRY_INFO!K49=1, 0, IF(COUNTRY_INFO!K49=2, AF49/(COUNTRY_INFO!G49*0.2)*100, IF(COUNTRY_INFO!K49=3, AF49/COUNTRY_INFO!G49*100))),\"-\"),0)","v":0},0,{"$f":"IF(AND(COUNTRY_INFO!K49>0,COUNTRY_INFO!K49<4), IF(AC49/Z49*100<>0, IF(AH49/Z49*100>100,100,AH49/Z49*100), \"-\"),0)","v":"-"},null,{"$f":"IF(AND(D49<>0, D49<>\"Inconnu\",D49<>\"Interrompu\",D49<>\"Non requis\"),D49/COUNTRY_INFO!D49, 0)","v":1},{"$f":"IF(AND(J49<>0,J49<>\"Inconnu\",J49<>\"Interrompu\",J49<>\"Non requis\"),J49/COUNTRY_INFO!D49, 0)","v":0},{"$f":"IF(AND(P49<>0,P49<>\"Inconnu\",P49<>\"Non requis\"),P49/(COUNTRY_INFO!E49+COUNTRY_INFO!F49), 0)","v":0},{"$f":"IF(AND(Z49<>0,Z49<>\"Inconnu\",Z49<>\"Non requis\"),IF(COUNTRY_INFO!K49=1,1,IF(COUNTRY_INFO!K49=2,0.5*COUNTRY_INFO!F49/(0.5*COUNTRY_INFO!F49+0.2*COUNTRY_INFO!G49),IF(COUNTRY_INFO!K49=3,COUNTRY_INFO!F49/(COUNTRY_INFO!F49+COUNTRY_INFO!G49)))),0)","v":0.6159291204405668},{"$f":"IF(AND(Z49<>0,Z49<>\"Inconnu\",Z49<>\"Non requis\"),IF(COUNTRY_INFO!K49=1,0,IF(COUNTRY_INFO!K49=2,0.2*COUNTRY_INFO!G49/(0.5*COUNTRY_INFO!F49+0.2*COUNTRY_INFO!G49),IF(COUNTRY_INFO!K49=3,COUNTRY_INFO!G49/(COUNTRY_INFO!F49+COUNTRY_INFO!G49)))),0)","v":0.38407087955943314},{"$f":"MAX(COUNTRY_INFO!D49*AK49*PROFILE!$G$7,COUNTRY_INFO!D49*AL49*PROFILE!$G$7)","v":16566.370510622197},{"$f":"MAX(COUNTRY_INFO!D49*AK49*PROFILE!$G$8,COUNTRY_INFO!D49*AL49*PROFILE!$G$8,COUNTRY_INFO!D49*AM49*PROFILE!$G$8)","v":60604.012051254511},{"$f":"MAX(COUNTRY_INFO!D49*AK49*PROFILE!$G$9,COUNTRY_INFO!D49*AL49*PROFILE!$G$9,COUNTRY_INFO!D49*AM49*PROFILE!$G$9,IF(AND(DISTRICT!Z49<>\"Inconnu\",Z49<>\"Non requis\"),COUNTRY_INFO!O49*DISTRICT!AN49,0))","v":125203.07090498047},{"$f":"MAX(COUNTRY_INFO!D49*AK49*PROFILE!$G$10,COUNTRY_INFO!D49*AL49*PROFILE!$G$10,IF(AND(DISTRICT!Z49<>\"Inconnu\",Z49<>\"Non requis\"),COUNTRY_INFO!O49*DISTRICT!AO49,0))","v":227335.54653314283},429709,0,{"$f":"MAX('MDA2'!J49,'T1'!L49,'T2'!J49,T3_R1!K49,T3_R2!K49)","v":0},{"$f":"MAX('MDA1'!K49,'MDA2'!K49,'MDA3'!I49,'MDA3'!L49,'T1'!M49,'T2'!K49,T3_R1!L49,T3_R2!L49)","v":133812},{"$f":"MAX('MDA1'!L49,'MDA2'!L49,'MDA3'!J49,'MDA3'!M49,'T1'!N49,'T2'!L49,T3_R1!M49,T3_R2!M49)","v":210001},343813,{"$f":"MAX('MDA2'!J49,T49)","v":0},{"$f":"MAX('MDA1'!K49,'MDA2'!K49,'MDA3'!I49,'MDA3'!L49,V49,AD49)","v":133812},{"$f":"MAX('MDA1'!L49,'MDA2'!L49,'MDA3'!J49,'MDA3'!M49,AF49)","v":210001},343813,80.010658375784544]
[{"$f":"IF(COUNTRY_INFO!A50=0,\" \",COUNTRY_INFO!A50)","v":"Burkina Faso"},{"$f":"IF(COUNTRY_INFO!B50=0,\" \",COUNTRY_INFO!B50)","v":"Est"},{"$f":"IF(COUNTRY_INFO!C50=0,\" \",COUNTRY_INFO!C50)","v":"Gayeri"},{"$f":"COUNTRY_INFO!L50","v":117973},47990,46562,{"$f":"MAX('MDA1'!M50,'MDA2'!M50)","v":94552},{"$f":"IF(AND(COUNTRY_INFO!H50>0,COUNTRY_INFO!H50<4),IF(D50>MAX('MDA1'!M50,'MDA2'!M50),MAX('MDA1'!M50,'MDA2'!M50),D50),0)","v":94552},{"$f":"IF(AND(COUNTRY_INFO!H50>0,COUNTRY_INFO!H50<4), IF(G50/D50*100<>0, IF(G50/D50*100>100,100,G50/D50*100), \"-\"),0)","v":80.147152314512638},{"$f":"COUNTRY_INFO!M50","v":0},null,null,{"$f":"MAX('MDA1'!M50,MAX('MDA3'!I50,'MDA3'!L50)+MAX('MDA3'!J50,'MDA3'!M50))","v":94552},{"$f":"IF(AND(COUNTRY_INFO!I50>0,COUNTRY_INFO!I50<4),IF(J50>MAX('MDA1'!M50,MAX('MDA3'!I50,'MDA3'!L50)+MAX('MDA3'!J50,'MDA3'!M50)),MAX('MDA1'!M50,MAX('MDA3'!I50,'MDA3'!L50)+MAX('MDA3'!J50,'MDA3'!M50)),J50),0)","v":0},{"$f":"IF(AND(COUNTRY_INFO!I50>0,COUNTRY_INFO!I50<4), IF(M50/J50*100<>0, IF(M50/J50*100>100,100,M50/J50*100), \"-\"),0)","v":0},{"$f":"COUNTRY_INFO!N50","v":0},18122,18678,{"$f":"SUM(MAX('MDA2'!J50, 'T1'!L50, MAX(T3_R1!K50, T3_R2!K50)), MAX('MDA1'!K50, 'MDA2'!K50, 'T1'!M50, MAX(T3_R1!L50, T3_R2!L50)), MAX('MDA1'!L50, 'MDA2'!L50, 'T1'!N50, MAX(T3_R1!M50, T3_R2!M50)))","v":94552},{"$f":"IF(AND(COUNTRY_INFO!J50>1,COUNTRY_INFO!J50<4),IF(COUNTRY_INFO!E50>MAX('MDA2'!J50,'T1'!L50,MAX(T3_R1!K50,T3_R2!K50)),MAX('MDA2'!J50,'T1'!L50,MAX(T3_R1!K50,T3_R2!K50)),COUNTRY_INFO!E50),0)","v":0},{"$f":"IF(AND(COUNTRY_INFO!J50>1,COUNTRY_INFO!J50<4), IF(T50/COUNTRY_INFO!E50*100<>0, IF(T50/COUNTRY_INFO!E50*100>100,100,T50/COUNTRY_INFO!E50*100), \"-\"),0)","v":0},{"$f":"IF(AND(COUNTRY_INFO!J50>1,COUNTRY_INFO!J50<4),IF(COUNTRY_INFO!F50>MAX('MDA1'!K50,'MDA2'!K50,'T1'!M50,MAX(T3_R1!L50,T3_R2!L50)),MAX('MDA1'!K50,'MDA2'!K50,'T1'!M50,MAX(T3_R1!L50,T3_R2!L50)),COUNTRY_INFO!F50),0)","v":0},{"$f":"IF(AND(COUNTRY_INFO!J50>1,COUNTRY_INFO!J50<4), IF(V50/COUNTRY_INFO!F50*100<>0, IF(V50/COUNTRY_INFO!F50*100>100,100,V50/COUNTRY_INFO!F50*100), \"-\"),0)","v":0},0,{"$f":"IF(AND(COUNTRY_INFO!J50>1,COUNTRY_INFO!J50<4), IF(S50/P50*100<>0, IF(X50/P50*100>100,100,X50/P50*100), \"-\"),0)","v":0},{"$f":"COUNTRY_INFO!O50","v":29821.800000000003},null,null,{"$f":"MAX('T1'!L50,'T2'!J50)+MAX('T1'!M50,'T2'!K50)+MAX('T1'!N50,'T2'!L50)","v":0},{"$f":"IF(COUNTRY_INFO!K50=1,IF(COUNTRY_INFO!F50*0.33>MAX('T1'!M50,'T2'!K50),MAX('T1'!M50,'T2'!K50),COUNTRY_INFO!F50*0.33),IF(COUNTRY_INFO!K50=2,IF(COUNTRY_INFO!F50*0.5>MAX('T1'!M50,'T2'!K50),MAX('T1'!M50,'T2'!K50),COUNTRY_INFO!F50*0.5),IF(COUNTRY_INFO!K50=3,IF(COUNTRY_INFO!F50>MAX('T1'!M50,'T2'!K50),MAX('T1'!M50,'T2'!K50),COUNTRY_INFO!F50),0)))","v":0},{"$f":"IF(AND(COUNTRY_INFO!K50>0,COUNTRY_INFO!K50<4),IF(Z50>0,IF(COUNTRY_INFO!K50=1, AD50/(COUNTRY_INFO!F50*0.33)*100, IF(COUNTRY_INFO!K50=2, AD50/(COUNTRY_INFO!F50*0.5)*100, IF(COUNTRY_INFO!K50=3, AD50/COUNTRY_INFO!F50*100))),\"-\"),0)","v":0},{"$f":"IF(COUNTRY_INFO!K50=2,IF(COUNTRY_INFO!G50*0.2>MAX('T1'!N50,'T2'!L50),MAX('T1'!N50,'T2'!L50),COUNTRY_INFO!G50*0.2),IF(COUNTRY_INFO!K50=3,IF(COUNTRY_INFO!G50>MAX('T1'!N50,'T2'!L50),MAX('T1'!N50,'T2'!L50),COUNTRY_INFO!G50),0))","v":0},{"$f":"IF(AND(COUNTRY_INFO!K50>0,COUNTRY_INFO!K50<4),IF(Z50>0,IF(COUNTRY_INFO!K50=1, 0, IF(COUNTRY_INFO!K50=2, AF50/(COUNTRY_INFO!G50*0.2)*100, IF(COUNTRY_INFO!K50=3, AF50/COUNTRY_INFO!G50*100))),\"-\"),0)","v":0},0,{"$f":"IF(AND(COUNTRY_INFO!K50>0,COUNTRY_INFO!K50<4), IF(AC50/Z50*100<>0, IF(AH50/Z50*100>100,100,AH50/Z50*100), \"-\"),0)","v":"-"},null,{"$f":"IF(AND(D50<>0, D50<>\"Inconnu\",D50<>\"Interrompu\",D50<>\"Non requis\"),D50/COUNTRY_INFO!D50, 0)","v":1},{"$f":"IF(AND(J50<>0,J50<>\"Inconnu\",J50<>\"Interrompu\",J50<>\"Non requis\"),J50/COUNTRY_INFO!D50, 0)","v":0},{"$f":"IF(AND(P50<>0,P50<>\"Inconnu\",P50<>\"Non requis\"),P50/(COUNTRY_INFO!E50+COUNTRY_INFO!F50), 0)","v":0},{"$f":"IF(AND(Z50<>0,Z50<>\"Inconnu\",Z50<>\"Non requis\"),IF(COUNTRY_INFO!K50=1,1,IF(COUNTRY_INFO!K50=2,0.5*COUNTRY_INFO!F50/(0.5*COUNTRY_INFO!F50+0.2*COUNTRY_INFO!G50),IF(COUNTRY_INFO!K50=3,COUNTRY_INFO!F50/(COUNTRY_INFO!F50+COUNTRY_INFO!G50)))),0)","v":0.61592526272726655},{"$f":"IF(AND(Z50<>0,Z50<>\"Inconnu\",Z50<>\"Non requis\"),IF(COUNTRY_INFO!K50=1,0,IF(COUNTRY_INFO!K50=2,0.2*COUNTRY_INFO!G50/(0.5*COUNTRY_INFO!F50+0.2*COUNTRY_INFO!G50),IF(COUNTRY_INFO!K50=3,COUNTRY_INFO!G50/(COUNTRY_INFO!F50+COUNTRY_INFO!G50)))),0)","v":0.38407473727273339},{"$f":"MAX(COUNTRY_INFO!D50*AK50*PROFILE!$G$7,COUNTRY_INFO!D50*AL50*PROFILE!$G$7)","v":4548.1580051840492},{"$f":"MAX(COUNTRY_INFO!D50*AK50*PROFILE!$G$8,COUNTRY_INFO!D50*AL50*PROFILE!$G$8,COUNTRY_INFO!D50*AM50*PROFILE!$G$8)","v":16638.322943486517},{"$f":"MAX(COUNTRY_INFO!D50*AK50*PROFILE!$G$9,COUNTRY_INFO!D50*AL50*PROFILE!$G$9,COUNTRY_INFO!D50*AM50*PROFILE!$G$9,IF(AND(DISTRICT!Z50<>\"Inconnu\",Z50<>\"Non requis\"),COUNTRY_INFO!O50*DISTRICT!AN50,0))","v":34373.452461720051},{"$f":"MAX(COUNTRY_INFO!D50*AK50*PROFILE!$G$10,COUNTRY_INFO!D50*AL50*PROFILE!$G$10,IF(AND(DISTRICT!Z50<>\"Inconnu\",Z50<>\"Non requis\"),COUNTRY_INFO!O50*DISTRICT!AO50,0))","v":62413.066589609385},117973,0,{"$f":"MAX('MDA2'!J50,'T1'!L50,'T2'!J50,T3_R1!K50,T3_R2!K50)","v":0},{"$f":"MAX('MDA1'!K50,'MDA2'!K50,'MDA3'!I50,'MDA3'!L50,'T1'!M50,'T2'!K50,T3_R1!L50,T3_R2!L50)","v":36800},{"$f":"MAX('MDA1'!L50,'MDA2'!L50,'MDA3'!J50,'MDA3'!M50,'T1'!N50,'T2'!L50,T3_R1!M50,T3_R2!M50)","v":57752},94552,{"$f":"MAX('MDA2'!J50,T50)","v":0},{"$f":"MAX('MDA1'!K50,'MDA2'!K50,'MDA3'!I50,'MDA3'!L50,V50,AD50)","v":36800},{"$f":"MAX('MDA1'!L50,'MDA2'!L50,'MDA3'!J50,'MDA3'!M50,AF50)","v":57752},94552,80.147152314512638]
[{"$f":"IF(COUNTRY_INFO!A51=0,\" \",COUNTRY_INFO!A51)","v":"Burkina Faso"},{"$f":"IF(COUNTRY_INFO!B51=0,\" \",COUNTRY_INFO!B51)","v":"Est"},{"$f":"IF(COUNTRY_INFO!C51=0,\" \",COUNTRY_INFO!C51)","v":"Manni"},{"$f":"COUNTRY_INFO!L51","v":184741},77285,70693,{"$f":"MAX('MDA1'!M51,'MDA2'!M51)","v":147978},{"$f":"IF(AND(COUNTRY_INFO!H51>0,COUNTRY_INFO!H51<4),IF(D51>MAX('MDA1'!M51,'MDA2'!M51),MAX('MDA1'!M51,'MDA2'!M51),D51),0)","v":147978},{"$f":"IF(AND(COUNTRY_INFO!H51>0,COUNTRY_INFO!H51<4), IF(G51/D51*100<>0, IF(G51/D51*100>100,100,G51/D51*100), \"-\"),0)","v":80.100248455946428},{"$f":"COUNTRY_INFO!M51","v":0},null,null,{"$f":"MAX('MDA1'!M51,MAX('MDA3'!I51,'MDA3'!L51)+MAX('MDA3'!J51,'MDA3'!M51))","v":147978},{"$f":"IF(AND(COUNTRY_INFO!I51>0,COUNTRY_INFO!I51<4),IF(J51>MAX('MDA1'!M51,MAX('MDA3'!I51,'MDA3'!L51)+MAX('MDA3'!J51,'MDA3'!M51)),MAX('MDA1'!M51,MAX('MDA3'!I51,'MDA3'!L51)+MAX('MDA3'!J51,'MDA3'!M51)),J51),0)","v":0},{"$f":"IF(AND(COUNTRY_INFO!I51>0,COUNTRY_INFO!I51<4), IF(M51/J51*100<>0, IF(M51/J51*100>100,100,M51/J51*100), \"-\"),0)","v":0},{"$f":"COUNTRY_INFO!N51","v":0},27514,30079,{"$f":"SUM(MAX('MDA2'!J51, 'T1'!L51, MAX(T3_R1!K51, T3_R2!K51)), MAX('MDA1'!K51, 'MDA2'!K51, 'T1'!M51, MAX(T3_R1!L51, T3_R2!L51)), MAX('MDA1'!L51, 'MDA2'!L51, 'T1'!N51, MAX(T3_R1!M51, T3_R2!M51)))","v":147978},{"$f":"IF(AND(COUNTRY_INFO!J51>1,COUNTRY_INFO!J51<4),IF(COUNTRY_INFO!E51>MAX('MDA2'!J51,'T1'!L51,MAX(T3_R1!K51,T3_R2!K51)),MAX('MDA2'!J51,'T1'!L51,MAX(T3_R1!K51,T3_R2!K51)),COUNTRY_INFO!E51),0)","v":0},{"$f":"IF(AND(COUNTRY_INFO!J51>1,COUNTRY_INFO!J51<4), IF(T51/COUNTRY_INFO!E51*100<>0, IF(T51/COUNTRY_INFO!E51*100>100,100,T51/COUNTRY_INFO!E51*100), \"-\"),0)","v":0},{"$f":"IF(AND(COUNTRY_INFO!J51>1,COUNTRY_INFO!J51<4),IF(COUNTRY_INFO!F51>MAX('MDA1'!K51,'MDA2'!K51,'T1'!M51,MAX(T3_R1!L51,T3_R2!L51)),MAX('MDA1'!K51,'MDA2'!K51,'T1'!M51,MAX(T3_R1!L51,T3_R2!L51)),COUNTRY_INFO!F51),0)","v":0},{"$f":"IF(AND(COUNTRY_INFO!J51>1,COUNTRY_INFO!J51<4), IF(V51/COUNTRY_INFO!F51*100<>0, IF(V51/COUNTRY_INFO!F51*100>100,100,V51/COUNTRY_INFO!F51*100), \"-\"),0)","v":0},0,{"$f":"IF(AND(COUNTRY_INFO!J51>1,COUNTRY_INFO!J51<4), IF(S51/P51*100<>0, IF(X51/P51*100>100,100,X51/P51*100), \"-\"),0)","v":0},{"$f":"COUNTRY_INFO!O51","v":45939.100000000006},null,null,{"$f":"MAX('T1'!L51,'T2'!J51)+MAX('T1'!M51,'T2'!K51)+MAX('T1'!N51,'T2'!L51)","v":0},{"$f":"IF(COUNTRY_INFO!K51=1,IF(COUNTRY_INFO!F51*0.33>MAX('T1'!M51,'T2'!K51),MAX('T1'!M51,'T2'!K51),COUNTRY_INFO!F51*0.33),IF(COUNTRY_INFO!K51=2,IF(COUNTRY_INFO!F51*0.5>MAX('T1'!M51,'T2'!K51),MAX('T1'!M51,'T2'!K51),COUNTRY_INFO!F51*0.5),IF(COUNTRY_INFO!K51=3,IF(COUNTRY_INFO!F51>MAX('T1'!M51,'T2'!K51),MAX('T1'!M51,'T2'!K51),COUNTRY_INFO!F51),0)))","v":0},{"$f":"IF(AND(COUNTRY_INFO!K51>0,COUNTRY_INFO!K51<4),IF(Z51>0,IF(COUNTRY_INFO!K51=1, AD51/(COUNTRY_INFO!F51*0.33)*100, IF(COUNTRY_INFO!K51=2, AD51/(COUNTRY_INFO!F51*0.5)*100, IF(COUNTRY_INFO!K51=3, AD51/COUNTRY_INFO!F51*100))),\"-\"),0)","v":0},{"$f":"IF(COUNTRY_INFO!K51=2,IF(COUNTRY_INFO!G51*0.2>MAX('T1'!N51,'T2'!L51),MAX('T1'!N51,'T2'!L51),COUNTRY_INFO!G51*0.2),IF(COUNTRY_INFO!K51=3,IF(COUNTRY_INFO!G51>MAX('T1'!N51,'T2'!L51),MAX('T1'!N51,'T2'!L51),COUNTRY_INFO!G51),0))","v":0},{"$f":"IF(AND(COUNTRY_INFO!K51>0,COUNTRY_INFO!K51<4),IF(Z51>0,IF(COUNTRY_INFO!K51=1, 0, IF(COUNTRY_INFO!K51=2, AF51/(COUNTRY_INFO!G51*0.2)*100, IF(COUNTRY_INFO!K51=3, AF51/COUNTRY_INFO!G51*100))),\"-\"),0)","v":0},0,{"$f":"IF(AND(COUNTRY_INFO!K51>0,COUNTRY_INFO!K51<4), IF(AC51/Z51*100<>0, IF(AH51/Z51*100>100,100,AH51/Z51*100), \"-\"),0)","v":"-"},null,{"$f":"IF(AND(D51<>0, D51<>\"Inconnu\",D51<>\"Interrompu\",D51<>\"Non requis\"),D51/COUNTRY_INFO!D51, 0)","v":1},{"$f":"IF(AND(J51<>0,J51<>\"Inconnu\",J51<>\"Interrompu\",J51<>\"Non requis\"),J51/COUNTRY_INFO!D51, 0)","v":0},{"$f":"IF(AND(P51<>0,P51<>\"Inconnu\",P51<>\"Non requis\"),P51/(COUNTRY_INFO!E51+COUNTRY_INFO!F51), 0)","v":0},{"$f":"IF(AND(Z51<>0,Z51<>\"Inconnu\",Z51<>\"Non requis\"),IF(COUNTRY_INFO!K51=1,1,IF(COUNTRY_INFO!K51=2,0.5*COUNTRY_INFO!F51/(0.5*COUNTRY_INFO!F51+0.2*COUNTRY_INFO!G51),IF(COUNTRY_INFO!K51=3,COUNTRY_INFO!F51/(COUNTRY_INFO!F51+COUNTRY_INFO!G51)))),0)","v":0.60470274776824096},{"$f":"IF(AND(Z51<>0,Z51<>\"Inconnu\",Z51<>\"Non requis\"),IF(COUNTRY_INFO!K51=1,0,IF(COUNTRY_INFO!K51=2,0.2*COUNTRY_INFO!G51/(0.5*COUNTRY_INFO!F51+0.2*COUNTRY_INFO!G51),IF(COUNTRY_INFO!K51=3,COUNTRY_INFO!G51/(COUNTRY_INFO!F51+COUNTRY_INFO!G51)))),0)","v":0.39529725223175899},{"$f":"MAX(COUNTRY_INFO!D51*AK51*PROFILE!$G$7,COUNTRY_INFO!D51*AL51*PROFILE!$G$7)","v":7122.2335452663438},{"$f":"MAX(COUNTRY_INFO!D51*AK51*PROFILE!$G$8,COUNTRY_INFO!D51*AL51*PROFILE!$G$8,COUNTRY_INFO!D51*AM51*PROFILE!$G$8)","v":26054.948326334354},{"$f":"MAX(COUNTRY_INFO!D51*AK51*PROFILE!$G$9,COUNTRY_INFO!D51*AL51*PROFILE!$G$9,COUNTRY_INFO!D51*AM51*PROFILE!$G$9,IF(AND(DISTRICT!Z51<>\"Inconnu\",Z51<>\"Non requis\"),COUNTRY_INFO!O51*DISTRICT!AN51,0))","v":53827.451885012881},{"$f":"MAX(COUNTRY_INFO!D51*AK51*PROFILE!$G$10,COUNTRY_INFO!D51*AL51*PROFILE!$G$10,IF(AND(DISTRICT!Z51<>\"Inconnu\",Z51<>\"Non requis\"),COUNTRY_INFO!O51*DISTRICT!AO51,0))","v":97736.366243386423},184741,0,{"$f":"MAX('MDA2'!J51,'T1'!L51,'T2'!J51,T3_R1!K51,T3_R2!K51)","v":0},{"$f":"MAX('MDA1'!K51,'MDA2'!K51,'MDA3'!I51,'MDA3'!L51,'T1'!M51,'T2'!K51,T3_R1!L51,T3_R2!L51)","v":57593},{"$f":"MAX('MDA1'!L51,'MDA2'!L51,'MDA3'!J51,'MDA3'!M51,'T1'!N51,'T2'!L51,T3_R1!M51,T3_R2!M51)","v":90385},147978,{"$f":"MAX('MDA2'!J51,T51)","v":0},{"$f":"MAX('MDA1'!K51,'MDA2'!K51,'MDA3'!I51,'MDA3'!L51,V51,AD51)","v":57593},{"$f":"MAX('MDA1'!L51,'MDA2'!L51,'MDA3'!J51,'MDA3'!M51,AF51)","v":90385},147978,80.100248455946428]
[{"$f":"IF(COUNTRY_INFO!A52=0,\" \",COUNTRY_INFO!A52)","v":"Burkina Faso"},{"$f":"IF(COUNTRY_INFO!B52=0,\" \",COUNTRY_INFO!B52)","v":"Est"},{"$f":"IF(COUNTRY_INFO!C52=0,\" \",COUNTRY_INFO!C52)","v":"Pama"},{"$f":"COUNTRY_INFO!L52","v":121092},49928,47351,{"$f":"MAX('MDA1'!M52,'MDA2'!M52)","v":97279},{"$f":"IF(AND(COUNTRY_INFO!H52>0,COUNTRY_INFO!H52<4),IF(D52>MAX('MDA1'!M52,'MDA2'!M52),MAX('MDA1'!M52,'MDA2'!M52),D52),0)","v":97279},{"$f":"IF(AND(COUNTRY_INFO!H52>0,COUNTRY_INFO!H52<4), IF(G52/D52*100<>0, IF(G52/D52*100>100,100,G52/D52*100), \"-\"),0)","v":80.334786773692741},{"$f":"COUNTRY_INFO!M52","v":0},null,null,{"$f":"MAX('MDA1'!M52,MAX('MDA3'!I52,'MDA3'!L52)+MAX('MDA3'!J52,'MDA3'!M52))","v":97279},{"$f":"IF(AND(COUNTRY_INFO!I52>0,COUNTRY_INFO!I52<4),IF(J52>MAX('MDA1'!M52,MAX('MDA3'!I52,'MDA3'!L52)+MAX('MDA3'!J52,'MDA3'!M52)),MAX('MDA1'!M52,MAX('MDA3'!I52,'MDA3'!L52)+MAX('MDA3'!J52,'MDA3'!M52)),J52),0)","v":0},{"$f":"IF(AND(COUNTRY_INFO!I52>0,COUNTRY_INFO!I52<4), IF(M52/J52*100<>0, IF(M52/J52*100>100,100,M52/J52*100), \"-\"),0)","v":0},{"$f":"COUNTRY_INFO!N52","v":0},18429,19432,{"$f":"SUM(MAX('MDA2'!J52, 'T1'!L52, MAX(T3_R1!K52, T3_R2!K52)), MAX('MDA1'!K52, 'MDA2'!K52, 'T1'!M52, MAX(T3_R1!L52, T3_R2!L52)), MAX('MDA1'!L52, 'MDA2'!L52, 'T1'!N52, MAX(T3_R1!M52, T3_R2!M52)))","v":97279},{"$f":"IF(AND(COUNTRY_INFO!J52>1,COUNTRY_INFO!J52<4),IF(COUNTRY_INFO!E52>MAX('MDA2'!J52,'T1'!L52,MAX(T3_R1!K52,T3_R2!K52)),MAX('MDA2'!J52,'T1'!L52,MAX(T3_R1!K52,T3_R2!K52)),COUNTRY_INFO!E52),0)","v":0},{"$f":"IF(AND(COUNTRY_INFO!J52>1,COUNTRY_INFO!J52<4), IF(T52/COUNTRY_INFO!E52*100<>0, IF(T52/COUNTRY_INFO!E52*100>100,100,T52/COUNTRY_INFO!E52*100), \"-\"),0)","v":0},{"$f":"IF(AND(COUNTRY_INFO!J52>1,COUNTRY_INFO!J52<4),IF(COUNTRY_INFO!F52>MAX('MDA1'!K52,'MDA2'!K52,'T1'!M52,MAX(T3_R1!L52,T3_R2!L52)),MAX('MDA1'!K52,'MDA2'!K52,'T1'!M52,MAX(T3_R1!L52,T3_R2!L52)),COUNTRY_INFO!F52),0)","v":0},{"$f":"IF(AND(COUNTRY_INFO!J52>1,COUNTRY_INFO!J52<4), IF(V52/COUNTRY_INFO!F52*100<>0, IF(V52/COUNTRY_INFO!F52*100>100,100,V52/COUNTRY_INFO!F52*100), \"-\"),0)","v":0},0,{"$f":"IF(AND(COUNTRY_INFO!J52>1,COUNTRY_INFO!J52<4), IF(S52/P52*100<>0, IF(X52/P52*100>100,100,X52/P52*100), \"-\"),0)","v":0},{"$f":"COUNTRY_INFO!O52","v":30610},null,null,{"$f":"MAX('T1'!L52,'T2'!J52)+MAX('T1'!M52,'T2'!K52)+MAX('T1'!N52,'T2'!L52)","v":0},{"$f":"IF(COUNTRY_INFO!K52=1,IF(COUNTRY_INFO!F52*0.33>MAX('T1'!M52,'T2'!K52),MAX('T1'!M52,'T2'!K52),COUNTRY_INFO!F52*0.33),IF(COUNTRY_INFO!K52=2,IF(COUNTRY_INFO!F52*0.5>MAX('T1'!M52,'T2'!K52),MAX('T1'!M52,'T2'!K52),COUNTRY_INFO!F52*0.5),IF(COUNTRY_INFO!K52=3,IF(COUNTRY_INFO!F52>MAX('T1'!M52,'T2'!K52),MAX('T1'!M52,'T2'!K52),COUNTRY_INFO!F52),0)))","v":0},{"$f":"IF(AND(COUNTRY_INFO!K52>0,COUNTRY_INFO!K52<4),IF(Z52>0,IF(COUNTRY_INFO!K52=1, AD52/(COUNTRY_INFO!F52*0.33)*100, IF(COUNTRY_INFO!K52=2, AD52/(COUNTRY_INFO!F52*0.5)*100, IF(COUNTRY_INFO!K52=3, AD52/COUNTRY_INFO!F52*100))),\"-\"),0)","v":0},{"$f":"IF(COUNTRY_INFO!K52=2,IF(COUNTRY_INFO!G52*0.2>MAX('T1'!N52,'T2'!L52),MAX('T1'!N52,'T2'!L52),COUNTRY_INFO!G52*0.2),IF(COUNTRY_INFO!K52=3,IF(COUNTRY_INFO!G52>MAX('T1'!N52,'T2'!L52),MAX('T1'!N52,'T2'!L52),COUNTRY_INFO!G52),0))","v":0},{"$f":"IF(AND(COUNTRY_INFO!K52>0,COUNTRY_INFO!K52<4),IF(Z52>0,IF(COUNTRY_INFO!K52=1, 0, IF(COUNTRY_INFO!K52=2, AF52/(COUNTRY_INFO!G52*0.2)*100, IF(COUNTRY_INFO!K52=3, AF52/COUNTRY_INFO!G52*100))),\"-\"),0)","v":0},0,{"$f":"IF(AND(COUNTRY_INFO!K52>0,COUNTRY_INFO!K52<4), IF(AC52/Z52*100<>0, IF(AH52/Z52*100>100,100,AH52/Z52*100), \"-\"),0)","v":"-"},null,{"$f":"IF(AND(D52<>0, D52<>\"Inconnu\",D52<>\"Interrompu\",D52<>\"Non requis\"),D52/COUNTRY_INFO!D52, 0)","v":1},{"$f":"IF(AND(J52<>0,J52<>\"Inconnu\",J52<>\"Interrompu\",J52<>\"Non requis\"),J52/COUNTRY_INFO!D52, 0)","v":0},{"$f":"IF(AND(P52<>0,P52<>\"Inconnu\",P52<>\"Non requis\"),P52/(COUNTRY_INFO!E52+COUNTRY_INFO!F52), 0)","v":0},{"$f":"IF(AND(Z52<>0,Z52<>\"Inconnu\",Z52<>\"Non requis\"),IF(COUNTRY_INFO!K52=1,1,IF(COUNTRY_INFO!K52=2,0.5*COUNTRY_INFO!F52/(0.5*COUNTRY_INFO!F52+0.2*COUNTRY_INFO!G52),IF(COUNTRY_INFO!K52=3,COUNTRY_INFO!F52/(COUNTRY_INFO!F52+COUNTRY_INFO!G52)))),0)","v":0.61590983338778182},{"$f":"IF(AND(Z52<>0,Z52<>\"Inconnu\",Z52<>\"Non requis\"),IF(COUNTRY_INFO!K52=1,0,IF(COUNTRY_INFO!K52=2,0.2*COUNTRY_INFO!G52/(0.5*COUNTRY_INFO!F52+0.2*COUNTRY_INFO!G52),IF(COUNTRY_INFO!K52=3,COUNTRY_INFO!G52/(COUNTRY_INFO!F52+COUNTRY_INFO!G52)))),0)","v":0.38409016661221823},{"$f":"MAX(COUNTRY_INFO!D52*AK52*PROFILE!$G$7,COUNTRY_INFO!D52*AL52*PROFILE!$G$7)","v":4668.4033563929615},{"$f":"MAX(COUNTRY_INFO!D52*AK52*PROFILE!$G$8,COUNTRY_INFO!D52*AL52*PROFILE!$G$8,COUNTRY_INFO!D52*AM52*PROFILE!$G$8)","v":17078.21113197655},{"$f":"MAX(COUNTRY_INFO!D52*AK52*PROFILE!$G$9,COUNTRY_INFO!D52*AL52*PROFILE!$G$9,COUNTRY_INFO!D52*AM52*PROFILE!$G$9,IF(AND(DISTRICT!Z52<>\"Inconnu\",Z52<>\"Non requis\"),COUNTRY_INFO!O52*DISTRICT!AN52,0))","v":35282.226488218526},{"$f":"MAX(COUNTRY_INFO!D52*AK52*PROFILE!$G$10,COUNTRY_INFO!D52*AL52*PROFILE!$G$10,IF(AND(DISTRICT!Z52<>\"Inconnu\",Z52<>\"Non requis\"),COUNTRY_INFO!O52*DISTRICT!AO52,0))","v":64063.159023411965},121092,0,{"$f":"MAX('MDA2'!J52,'T1'!L52,'T2'!J52,T3_R1!K52,T3_R2!K52)","v":0},{"$f":"MAX('MDA1'!K52,'MDA2'!K52,'MDA3'!I52,'MDA3'!L52,'T1'!M52,'T2'!K52,T3_R1!L52,T3_R2!L52)","v":37861},{"$f":"MAX('MDA1'!L52,'MDA2'!L52,'MDA3'!J52,'MDA3'!M52,'T1'!N52,'T2'!L52,T3_R1!M52,T3_R2!M52)","v":59418},97279,{"$f":"MAX('MDA2'!J52,T52)","v":0},{"$f":"MAX('MDA1'!K52,'MDA2'!K52,'MDA3'!I52,'MDA3'!L52,V52,AD52)","v":37861},{"$f":"MAX('MDA1'!L52,'MDA2'!L52,'MDA3'!J52,'MDA3'!M52,AF52)","v":59418},97279,80.334786773692741]
[{"$f":"IF(COUNTRY_INFO!A53=0,\" \",COUNTRY_INFO!A53)","v":"Burkina Faso"},{"$f":"IF(COUNTRY_INFO!B53=0,\" \",COUNTRY_INFO!B53)","v":"Hauts-Bassins"},{"$f":"IF(COUNTRY_INFO!C53=0,\" \",COUNTRY_INFO!C53)","v":"Dafra"},{"$f":"COUNTRY_INFO!L53","v":"Interrompu"},null,null,{"$f":"MAX('MDA1'!M53,'MDA2'!M53)","v":0},{"$f":"IF(AND(COUNTRY_INFO!H53>0,COUNTRY_INFO!H53<4),IF(D53>MAX('MDA1'!M53,'MDA2'!M53),MAX('MDA1'!M53,'MDA2'!M53),D53),0)","v":0},{"$f":"IF(AND(COUNTRY_INFO!H53>0,COUNTRY_INFO!H53<4), IF(G53/D53*100<>0, IF(G53/D53*100>100,100,G53/D53*100), \"-\"),0)","v":0},{"$f":"COUNTRY_INFO!M53","v":0},null,null,{"$f":"MAX('MDA1'!M53,MAX('MDA3'!I53,'MDA3'!L53)+MAX('MDA3'!J53,'MDA3'!M53))","v":0},{"$f":"IF(AND(COUNTRY_INFO!I53>0,COUNTRY_INFO!I53<4),IF(J53>MAX('MDA1'!M53,MAX('MDA3'!I53,'MDA3'!L53)+MAX('MDA3'!J53,'MDA3'!M53)),MAX('MDA1'!M53,MAX('MDA3'!I53,'MDA3'!L53)+MAX('MDA3'!J53,'MDA3'!M53)),J53),0)","v":0},{"$f":"IF(AND(COUNTRY_INFO!I53>0,COUNTRY_INFO!I53<4), IF(M53/J53*100<>0, IF(M53/J53*100>100,100,M53/J53*100), \"-\"),0)","v":0},{"$f":"COUNTRY_INFO!N53","v":0},null,null,{"$f":"SUM(MAX('MDA2'!J53, 'T1'!L53, MAX(T3_R1!K53, T3_R2!K53)), MAX('MDA1'!K53, 'MDA2'!K53, 'T1'!M53, MAX(T3_R1!L53, T3_R2!L53)), MAX('MDA1'!L53, 'MDA2'!L53, 'T1'!N53, MAX(T3_R1!M53, T3_R2!M53)))","v":0},{"$f":"IF(AND(COUNTRY_INFO!J53>1,COUNTRY_INFO!J53<4),IF(COUNTRY_INFO!E53>MAX('MDA2'!J53,'T1'!L53,MAX(T3_R1!K53,T3_R2!K53)),MAX('MDA2'!J53,'T1'!L53,MAX(T3_R1!K53,T3_R2!K53)),COUNTRY_INFO!E53),0)","v":0},{"$f":"IF(AND(COUNTRY_INFO!J53>1,COUNTRY_INFO!J53<4), IF(T53/COUNTRY_INFO!E53*100<>0, IF(T53/COUNTRY_INFO!E53*100>100,100,T53/COUNTRY_INFO!E53*100), \"-\"),0)","v":0},{"$f":"IF(AND(COUNTRY_INFO!J53>1,COUNTRY_INFO!J53<4),IF(COUNTRY_INFO!F53>MAX('MDA1'!K53,'MDA2'!K53,'T1'!M53,MAX(T3_R1!L53,T3_R2!L53)),MAX('MDA1'!K53,'MDA2'!K53,'T1'!M53,MAX(T3_R1!L53,T3_R2!L53)),COUNTRY_INFO!F53),0)","v":0},{"$f":"IF(AND(COUNTRY_INFO!J53>1,COUNTRY_INFO!J53<4), IF(V53/COUNTRY_INFO!F53*100<>0, IF(V53/COUNTRY_INFO!F53*100>100,100,V53/COUNTRY_INFO!F53*100), \"-\"),0)","v":0},0,{"$f":"IF(AND(COUNTRY_INFO!J53>1,COUNTRY_INFO!J53<4), IF(S53/P53*100<>0, IF(X53/P53*100>100,100,X53/P53*100), \"-\"),0)","v":0},{"$f":"COUNTRY_INFO!O53","v":31129.890000000003},null,null,{"$f":"MAX('T1'!L53,'T2'!J53)+MAX('T1'!M53,'T2'!K53)+MAX('T1'!N53,'T2'!L53)","v":0},{"$f":"IF(COUNTRY_INFO!K53=1,IF(COUNTRY_INFO!F53*0.33>MAX('T1'!M53,'T2'!K53),MAX('T1'!M53,'T2'!K53),COUNTRY_INFO!F53*0.33),IF(COUNTRY_INFO!K53=2,IF(COUNTRY_INFO!F53*0.5>MAX('T1'!M53,'T2'!K53),MAX('T1'!M53,'T2'!K53),COUNTRY_INFO!F53*0.5),IF(COUNTRY_INFO!K53=3,IF(COUNTRY_INFO!F53>MAX('T1'!M53,'T2'!K53),MAX('T1'!M53,'T2'!K53),COUNTRY_INFO!F53),0)))","v":0},{"$f":"IF(AND(COUNTRY_INFO!K53>0,COUNTRY_INFO!K53<4),IF(Z53>0,IF(COUNTRY_INFO!K53=1, AD53/(COUNTRY_INFO!F53*0.33)*100, IF(COUNTRY_INFO!K53=2, AD53/(COUNTRY_INFO!F53*0.5)*100, IF(COUNTRY_INFO!K53=3, AD53/COUNTRY_INFO!F53*100))),\"-\"),0)","v":0},{"$f":"IF(COUNTRY_INFO!K53=2,IF(COUNTRY_INFO!G53*0.2>MAX('T1'!N53,'T2'!L53),MAX('T1'!N53,'T2'!L53),COUNTRY_INFO!G53*0.2),IF(COUNTRY_INFO!K53=3,IF(COUNTRY_INFO!G53>MAX('T1'!N53,'T2'!L53),MAX('T1'!N53,'T2'!L53),COUNTRY_INFO!G53),0))","v":0},{"$f":"IF(AND(COUNTRY_INFO!K53>0,COUNTRY_INFO!K53<4),IF(Z53>0,IF(COUNTRY_INFO!K53=1, 0, IF(COUNTRY_INFO!K53=2, AF53/(COUNTRY_INFO!G53*0.2)*100, IF(COUNTRY_INFO!K53=3, AF53/COUNTRY_INFO!G53*100))),\"-\"),0)","v":0},0,{"$f":"IF(AND(COUNTRY_INFO!K53>0,COUNTRY_INFO!K53<4), IF(AC53/Z53*100<>0, IF(AH53/Z53*100>100,100,AH53/Z53*100), \"-\"),0)","v":"-"},null,{"$f":"IF(AND(D53<>0, D53<>\"Inconnu\",D53<>\"Interrompu\",D53<>\"Non requis\"),D53/COUNTRY_INFO!D53, 0)","v":0},{"$f":"IF(AND(J53<>0,J53<>\"Inconnu\",J53<>\"Interrompu\",J53<>\"Non requis\"),J53/COUNTRY_INFO!D53, 0)","v":0},{"$f":"IF(AND(P53<>0,P53<>\"Inconnu\",P53<>\"Non requis\"),P53/(COUNTRY_INFO!E53+COUNTRY_INFO!F53), 0)","v":0},{"$f":"IF(AND(Z53<>0,Z53<>\"Inconnu\",Z53<>\"Non requis\"),IF(COUNTRY_INFO!K53=1,1,IF(COUNTRY_INFO!K53=2,0.5*COUNTRY_INFO!F53/(0.5*COUNTRY_INFO!F53+0.2*COUNTRY_INFO!G53),IF(COUNTRY_INFO!K53=3,COUNTRY_INFO!F53/(COUNTRY_INFO!F53+COUNTRY_INFO!G53)))),0)","v":1},{"$f":"IF(AND(Z53<>0,Z53<>\"Inconnu\",Z53<>\"Non requis\"),IF(COUNTRY_INFO!K53=1,0,IF(COUNTRY_INFO!K53=2,0.2*COUNTRY_INFO!G53/(0.5*COUNTRY_INFO!F53+0.2*COUNTRY_INFO!G53),IF(COUNTRY_INFO!K53=3,COUNTRY_INFO!G53/(COUNTRY_INFO!F53+COUNTRY_INFO!G53)))),0)","v":0},{"$f":"MAX(COUNTRY_INFO!D53*AK53*PROFILE!$G$7,COUNTRY_INFO!D53*AL53*PROFILE!$G$7)","v":0},{"$f":"MAX(COUNTRY_INFO!D53*AK53*PROFILE!$G$8,COUNTRY_INFO!D53*AL53*PROFILE!$G$8,COUNTRY_INFO!D53*AM53*PROFILE!$G$8)","v":0},{"$f":"MAX(COUNTRY_INFO!D53*AK53*PROFILE!$G$9,COUNTRY_INFO!D53*AL53*PROFILE!$G$9,COUNTRY_INFO!D53*AM53*PROFILE!$G$9,IF(AND(DISTRICT!Z53<>\"Inconnu\",Z53<>\"Non requis\"),COUNTRY_INFO!O53*DISTRICT!AN53,0))","v":31129.890000000003},{"$f":"MAX(COUNTRY_INFO!D53*AK53*PROFILE!$G$10,COUNTRY_INFO!D53*AL53*PROFILE!$G$10,IF(AND(DISTRICT!Z53<>\"Inconnu\",Z53<>\"Non requis\"),COUNTRY_INFO!O53*DISTRICT!AO53,0))","v":0},31129.890000000003,0,{"$f":"MAX('MDA2'!J53,'T1'!L53,'T2'!J53,T3_R1!K53,T3_R2!K53)","v":0},{"$f":"MAX('MDA1'!K53,'MDA2'!K53,'MDA3'!I53,'MDA3'!L53,'T1'!M53,'T2'!K53,T3_R1!L53,T3_R2!L53)","v":0},{"$f":"MAX('MDA1'!L53,'MDA2'!L53,'MDA3'!J53,'MDA3'!M53,'T1'!N53,'T2'!L53,T3_R1!M53,T3_R2!M53)","v":0},0,{"$f":"MAX('MDA2'!J53,T53)","v":0},{"$f":"MAX('MDA1'!K53,'MDA2'!K53,'MDA3'!I53,'MDA3'!L53,V53,AD53)","v":0},{"$f":"MAX('MDA1'!L53,'MDA2'!L53,'MDA3'!J53,'MDA3'!M53,AF53)","v":0},0,0]
[{"$f":"IF(COUNTRY_INFO!A54=0,\" \",COUNTRY_INFO!A54)","v":"Burkina Faso"},{"$f":"IF(COUNTRY_INFO!B54=0,\" \",COUNTRY_INFO!B54)","v":"Hauts-Bassins"},{"$f":"IF(COUNTRY_INFO!C54=0,\" \",COUNTRY_INFO!C54)","v":"Dandé"},{"$f":"COUNTRY_INFO!L54","v":"Interrompu"},null,null,{"$f":"MAX('MDA1'!M54,'MDA2'!M54)","v":0},{"$f":"IF(AND(COUNTRY_INFO!H54>0,COUNTRY_INFO!H54<4),IF(D54>MAX('MDA1'!M54,'MDA2'!M54),MAX('MDA1'!M54,'MDA2'!M54),D54),0)","v":0},{"$f":"IF(AND(COUNTRY_INFO!H54>0,COUNTRY_INFO!H54<4), IF(G54/D54*100<>0, IF(G54/D54*100>100,100,G54/D54*100), \"-\"),0)","v":0},{"$f":"COUNTRY_INFO!M54","v":0},null,null,{"$f":"MAX('MDA1'!M54,MAX('MDA3'!I54,'MDA3'!L54)+MAX('MDA3'!J54,'MDA3'!M54))","v":0},{"$f":"IF(AND(COUNTRY_INFO!I54>0,COUNTRY_INFO!I54<4),IF(J54>MAX('MDA1'!M54,MAX('MDA3'!I54,'MDA3'!L54)+MAX('MDA3'!J54,'MDA3'!M54)),MAX('MDA1'!M54,MAX('MDA3'!I54,'MDA3'!L54)+MAX('MDA3'!J54,'MDA3'!M54)),J54),0)","v":0},{"$f":"IF(AND(COUNTRY_INFO!I54>0,COUNTRY_INFO!I54<4), IF(M54/J54*100<>0, IF(M54/J54*100>100,100,M54/J54*100), \"-\"),0)","v":0},{"$f":"COUNTRY_INFO!N54","v":0},null,null,{"$f":"SUM(MAX('MDA2'!J54, 'T1'!L54, MAX(T3_R1!K54, T3_R2!K54)), MAX('MDA1'!K54, 'MDA2'!K54, 'T1'!M54, MAX(T3_R1!L54, T3_R2!L54)), MAX('MDA1'!L54, 'MDA2'!L54, 'T1'!N54, MAX(T3_R1!M54, T3_R2!M54)))","v":0},{"$f":"IF(AND(COUNTRY_INFO!J54>1,COUNTRY_INFO!J54<4),IF(COUNTRY_INFO!E54>MAX('MDA2'!J54,'T1'!L54,MAX(T3_R1!K54,T3_R2!K54)),MAX('MDA2'!J54,'T1'!L54,MAX(T3_R1!K54,T3_R2!K54)),COUNTRY_INFO!E54),0)","v":0},{"$f":"IF(AND(COUNTRY_INFO!J54>1,COUNTRY_INFO!J54<4), IF(T54/COUNTRY_INFO!E54*100<>0, IF(T54/COUNTRY_INFO!E54*100>100,100,T54/COUNTRY_INFO!E54*100), \"-\"),0)","v":0},{"$f":"IF(AND(COUNTRY_INFO!J54>1,COUNTRY_INFO!J54<4),IF(COUNTRY_INFO!F54>MAX('MDA1'!K54,'MDA2'!K54,'T1'!M54,MAX(T3_R1!L54,T3_R2!L54)),MAX('MDA1'!K54,'MDA2'!K54,'T1'!M54,MAX(T3_R1!L54,T3_R2!L54)),COUNTRY_INFO!F54),0)","v":0},{"$f":"IF(AND(COUNTRY_INFO!J54>1,COUNTRY_INFO!J54<4), IF(V54/COUNTRY_INFO!F54*100<>0, IF(V54/COUNTRY_INFO!F54*100>100,100,V54/COUNTRY_INFO!F54*100), \"-\"),0)","v":0},0,{"$f":"IF(AND(COUNTRY_INFO!J54>1,COUNTRY_INFO!J54<4), IF(S54/P54*100<>0, IF(X54/P54*100>100,100,X54/P54*100), \"-\"),0)","v":0},{"$f":"COUNTRY_INFO!O54","v":28456.560000000001},null,null,{"$f":"MAX('T1'!L54,'T2'!J54)+MAX('T1'!M54,'T2'!K54)+MAX('T1'!N54,'T2'!L54)","v":0},{"$f":"IF(COUNTRY_INFO!K54=1,IF(COUNTRY_INFO!F54*0.33>MAX('T1'!M54,'T2'!K54),MAX('T1'!M54,'T2'!K54),COUNTRY_INFO!F54*0.33),IF(COUNTRY_INFO!K54=2,IF(COUNTRY_INFO!F54*0.5>MAX('T1'!M54,'T2'!K54),MAX('T1'!M54,'T2'!K54),COUNTRY_INFO!F54*0.5),IF(COUNTRY_INFO!K54=3,IF(COUNTRY_INFO!F54>MAX('T1'!M54,'T2'!K54),MAX('T1'!M54,'T2'!K54),COUNTRY_INFO!F54),0)))","v":0},{"$f":"IF(AND(COUNTRY_INFO!K54>0,COUNTRY_INFO!K54<4),IF(Z54>0,IF(COUNTRY_INFO!K54=1, AD54/(COUNTRY_INFO!F54*0.33)*100, IF(COUNTRY_INFO!K54=2, AD54/(COUNTRY_INFO!F54*0.5)*100, IF(COUNTRY_INFO!K54=3, AD54/COUNTRY_INFO!F54*100))),\"-\"),0)","v":0},{"$f":"IF(COUNTRY_INFO!K54=2,IF(COUNTRY_INFO!G54*0.2>MAX('T1'!N54,'T2'!L54),MAX('T1'!N54,'T2'!L54),COUNTRY_INFO!G54*0.2),IF(COUNTRY_INFO!K54=3,IF(COUNTRY_INFO!G54>MAX('T1'!N54,'T2'!L54),MAX('T1'!N54,'T2'!L54),COUNTRY_INFO!G54),0))","v":0},{"$f":"IF(AND(COUNTRY_INFO!K54>0,COUNTRY_INFO!K54<4),IF(Z54>0,IF(COUNTRY_INFO!K54=1, 0, IF(COUNTRY_INFO!K54=2, AF54/(COUNTRY_INFO!G54*0.2)*100, IF(COUNTRY_INFO!K54=3, AF54/COUNTRY_INFO!G54*100))),\"-\"),0)","v":0},0,{"$f":"IF(AND(COUNTRY_INFO!K54>0,COUNTRY_INFO!K54<4), IF(AC54/Z54*100<>0, IF(AH54/Z54*100>100,100,AH54/Z54*100), \"-\"),0)","v":"-"},null,{"$f":"IF(AND(D54<>0, D54<>\"Inconnu\",D54<>\"Interrompu\",D54<>\"Non requis\"),D54/COUNTRY_INFO!D54, 0)","v":0},{"$f":"IF(AND(J54<>0,J54<>\"Inconnu\",J54<>\"Interrompu\",J54<>\"Non requis\"),J54/COUNTRY_INFO!D54, 0)","v":0},{"$f":"IF(AND(P54<>0,P54<>\"Inconnu\",P54<>\"Non requis\"),P54/(COUNTRY_INFO!E54+COUNTRY_INFO!F54), 0)","v":0},{"$f":"IF(AND(Z54<>0,Z54<>\"Inconnu\",Z54<>\"Non requis\"),IF(COUNTRY_INFO!K54=1,1,IF(COUNTRY_INFO!K54=2,0.5*COUNTRY_INFO!F54/(0.5*COUNTRY_INFO!F54+0.2*COUNTRY_INFO!G54),IF(COUNTRY_INFO!K54=3,COUNTRY_INFO!F54/(COUNTRY_INFO!F54+COUNTRY_INFO!G54)))),0)","v":1},{"$f":"IF(AND(Z54<>0,Z54<>\"Inconnu\",Z54<>\"Non requis\"),IF(COUNTRY_INFO!K54=1,0,IF(COUNTRY_INFO!K54=2,0.2*COUNTRY_INFO!G54/(0.5*COUNTRY_INFO!F54+0.2*COUNTRY_INFO!G54),IF(COUNTRY_INFO!K54=3,COUNTRY_INFO!G54/(COUNTRY_INFO!F54+COUNTRY_INFO!G54)))),0)","v":0},{"$f":"MAX(COUNTRY_INFO!D54*AK54*PROFILE!$G$7,COUNTRY_INFO!D54*AL54*PROFILE!$G$7)","v":0},{"$f":"MAX(COUNTRY_INFO!D54*AK54*PROFILE!$G$8,COUNTRY_INFO!D54*AL54*PROFILE!$G$8,COUNTRY_INFO!D54*AM54*PROFILE!$G$8)","v":0},{"$f":"MAX(COUNTRY_INFO!D54*AK54*PROFILE!$G$9,COUNTRY_INFO!D54*AL54*PROFILE!$G$9,COUNTRY_INFO!D54*AM54*PROFILE!$G$9,IF(AND(DISTRICT!Z54<>\"Inconnu\",Z54<>\"Non requis\"),COUNTRY_INFO!O54*DISTRICT!AN54,0))","v":28456.560000000001},{"$f":"MAX(COUNTRY_INFO!D54*AK54*PROFILE!$G$10,COUNTRY_INFO!D54*AL54*PROFILE!$G$10,IF(AND(DISTRICT!Z54<>\"Inconnu\",Z54<>\"Non requis\"),COUNTRY_INFO!O54*DISTRICT!AO54,0))","v":0},28456.560000000001,0,{"$f":"MAX('MDA2'!J54,'T1'!L54,'T2'!J54,T3_R1!K54,T3_R2!K54)","v":0},{"$f":"MAX('MDA1'!K54,'MDA2'!K54,'MDA3'!I54,'MDA3'!L54,'T1'!M54,'T2'!K54,T3_R1!L54,T3_R2!L54)","v":0},{"$f":"MAX('MDA1'!L54,'MDA2'!L54,'MDA3'!J54,'MDA3'!M54,'T1'!N54,'T2'!L54,T3_R1!M54,T3_R2!M54)","v":0},0,{"$f":"MAX('MDA2'!J54,T54)","v":0},{"$f":"MAX('MDA1'!K54,'MDA2'!K54,'MDA3'!I54,'MDA3'!L54,V54,AD54)","v":0},{"$f":"MAX('MDA1'!L54,'MDA2'!L54,'MDA3'!J54,'MDA3'!M54,AF54)","v":0},0,0]
[{"$f":"IF(COUNTRY_INFO!A55=0,\" \",COUNTRY_INFO!A55)","v":"Burkina Faso"},{"$f":"IF(COUNTRY_INFO!B55=0,\" \",COUNTRY_INFO!B55)","v":"Hauts-Bassins"},{"$f":"IF(COUNTRY_INFO!C55=0,\" \",COUNTRY_INFO!C55)","v":"Dô"},{"$f":"COUNTRY_INFO!L55","v":"Interrompu"},null,null,{"$f":"MAX('MDA1'!M55,'MDA2'!M55)","v":0},{"$f":"IF(AND(COUNTRY_INFO!H55>0,COUNTRY_INFO!H55<4),IF(D55>MAX('MDA1'!M55,'MDA2'!M55),MAX('MDA1'!M55,'MDA2'!M55),D55),0)","v":0},{"$f":"IF(AND(COUNTRY_INFO!H55>0,COUNTRY_INFO!H55<4), IF(G55/D55*100<>0, IF(G55/D55*100>100,100,G55/D55*100), \"-\"),0)","v":0},{"$f":"COUNTRY_INFO!M55","v":0},null,null,{"$f":"MAX('MDA1'!M55,MAX('MDA3'!I55,'MDA3'!L55)+MAX('MDA3'!J55,'MDA3'!M55))","v":0},{"$f":"IF(AND(COUNTRY_INFO!I55>0,COUNTRY_INFO!I55<4),IF(J55>MAX('MDA1'!M55,MAX('MDA3'!I55,'MDA3'!L55)+MAX('MDA3'!J55,'MDA3'!M55)),MAX('MDA1'!M55,MAX('MDA3'!I55,'MDA3'!L55)+MAX('MDA3'!J55,'MDA3'!M55)),J55),0)","v":0},{"$f":"IF(AND(COUNTRY_INFO!I55>0,COUNTRY_INFO!I55<4), IF(M55/J55*100<>0, IF(M55/J55*100>100,100,M55/J55*100), \"-\"),0)","v":0},{"$f":"COUNTRY_INFO!N55","v":0},null,null,{"$f":"SUM(MAX('MDA2'!J55, 'T1'!L55, MAX(T3_R1!K55, T3_R2!K55)), MAX('MDA1'!K55, 'MDA2'!K55, 'T1'!M55, MAX(T3_R1!L55, T3_R2!L55)), MAX('MDA1'!L55, 'MDA2'!L55, 'T1'!N55, MAX(T3_R1!M55, T3_R2!M55)))","v":0},{"$f":"IF(AND(COUNTRY_INFO!J55>1,COUNTRY_INFO!J55<4),IF(COUNTRY_INFO!E55>MAX('MDA2'!J55,'T1'!L55,MAX(T3_R1!K55,T3_R2!K55)),MAX('MDA2'!J55,'T1'!L55,MAX(T3_R1!K55,T3_R2!K55)),COUNTRY_INFO!E55),0)","v":0},{"$f":"IF(AND(COUNTRY_INFO!J55>1,COUNTRY_INFO!J55<4), IF(T55/COUNTRY_INFO!E55*100<>0, IF(T55/COUNTRY_INFO!E55*100>100,100,T55/COUNTRY_INFO!E55*100), \"-\"),0)","v":0},{"$f":"IF(AND(COUNTRY_INFO!J55>1,COUNTRY_INFO!J55<4),IF(COUNTRY_INFO!F55>MAX('MDA1'!K55,'MDA2'!K55,'T1'!M55,MAX(T3_R1!L55,T3_R2!L55)),MAX('MDA1'!K55,'MDA2'!K55,'T1'!M55,MAX(T3_R1!L55,T3_R2!L55)),COUNTRY_INFO!F55),0)","v":0},{"$f":"IF(AND(COUNTRY_INFO!J55>1,COUNTRY_INFO!J55<4), IF(V55/COUNTRY_INFO!F55*100<>0, IF(V55/COUNTRY_INFO!F55*100>100,100,V55/COUNTRY_INFO!F55*100), \"-\"),0)","v":0},0,{"$f":"IF(AND(COUNTRY_INFO!J55>1,COUNTRY_INFO!J55<4), IF(S55/P55*100<>0, IF(X55/P55*100>100,100,X55/P55*100), \"-\"),0)","v":0},{"$f":"COUNTRY_INFO!O55","v":49240.62},null,null,{"$f":"MAX('T1'!L55,'T2'!J55)+MAX('T1'!M55,'T2'!K55)+MAX('T1'!N55,'T2'!L55)","v":0},{"$f":"IF(COUNTRY_INFO!K55=1,IF(COUNTRY_INFO!F55*0.33>MAX('T1'!M55,'T2'!K55),MAX('T1'!M55,'T2'!K55),COUNTRY_INFO!F55*0.33),IF(COUNTRY_INFO!K55=2,IF(COUNTRY_INFO!F55*0.5>MAX('T1'!M55,'T2'!K55),MAX('T1'!M55,'T2'!K55),COUNTRY_INFO!F55*0.5),IF(COUNTRY_INFO!K55=3,IF(COUNTRY_INFO!F55>MAX('T1'!M55,'T2'!K55),MAX('T1'!M55,'T2'!K55),COUNTRY_INFO!F55),0)))","v":0},{"$f":"IF(AND(COUNTRY_INFO!K55>0,COUNTRY_INFO!K55<4),IF(Z55>0,IF(COUNTRY_INFO!K55=1, AD55/(COUNTRY_INFO!F55*0.33)*100, IF(COUNTRY_INFO!K55=2, AD55/(COUNTRY_INFO!F55*0.5)*100, IF(COUNTRY_INFO!K55=3, AD55/COUNTRY_INFO!F55*100))),\"-\"),0)","v":0},{"$f":"IF(COUNTRY_INFO!K55=2,IF(COUNTRY_INFO!G55*0.2>MAX('T1'!N55,'T2'!L55),MAX('T1'!N55,'T2'!L55),COUNTRY_INFO!G55*0.2),IF(COUNTRY_INFO!K55=3,IF(COUNTRY_INFO!G55>MAX('T1'!N55,'T2'!L55),MAX('T1'!N55,'T2'!L55),COUNTRY_INFO!G55),0))","v":0},{"$f":"IF(AND(COUNTRY_INFO!K55>0,COUNTRY_INFO!K55<4),IF(Z55>0,IF(COUNTRY_INFO!K55=1, 0, IF(COUNTRY_INFO!K55=2, AF55/(COUNTRY_INFO!G55*0.2)*100, IF(COUNTRY_INFO!K55=3, AF55/COUNTRY_INFO!G55*100))),\"-\"),0)","v":0},0,{"$f":"IF(AND(COUNTRY_INFO!K55>0,COUNTRY_INFO!K55<4), IF(AC55/Z55*100<>0, IF(AH55/Z55*100>100,100,AH55/Z55*100), \"-\"),0)","v":"-"},null,{"$f":"IF(AND(D55<>0, D55<>\"Inconnu\",D55<>\"Interrompu\",D55<>\"Non requis\"),D55/COUNTRY_INFO!D55, 0)","v":0},{"$f":"IF(AND(J55<>0,J55<>\"Inconnu\",J55<>\"Interrompu\",J55<>\"Non requis\"),J55/COUNTRY_INFO!D55, 0)","v":0},{"$f":"IF(AND(P55<>0,P55<>\"Inconnu\",P55<>\"Non requis\"),P55/(COUNTRY_INFO!E55+COUNTRY_INFO!F55), 0)","v":0},{"$f":"IF(AND(Z55<>0,Z55<>\"Inconnu\",Z55<>\"Non requis\"),IF(COUNTRY_INFO!K55=1,1,IF(COUNTRY_INFO!K55=2,0.5*COUNTRY_INFO!F55/(0.5*COUNTRY_INFO!F55+0.2*COUNTRY_INFO!G55),IF(COUNTRY_INFO!K55=3,COUNTRY_INFO!F55/(COUNTRY_INFO!F55+COUNTRY_INFO!G55)))),0)","v":1},{"$f":"IF(AND(Z55<>0,Z55<>\"Inconnu\",Z55<>\"Non requis\"),IF(COUNTRY_INFO!K55=1,0,IF(COUNTRY_INFO!K55=2,0.2*COUNTRY_INFO!G55/(0.5*COUNTRY_INFO!F55+0.2*COUNTRY_INFO!G55),IF(COUNTRY_INFO!K55=3,COUNTRY_INFO!G55/(COUNTRY_INFO!F55+COUNTRY_INFO!G55)))),0)","v":0},{"$f":"MAX(COUNTRY_INFO!D55*AK55*PROFILE!$G$7,COUNTRY_INFO!D55*AL55*PROFILE!$G$7)","v":0},{"$f":"MAX(COUNTRY_INFO!D55*AK55*PROFILE!$G$8,COUNTRY_INFO!D55*AL55*PROFILE!$G$8,COUNTRY_INFO!D55*AM55*PROFILE!$G$8)","v":0},{"$f":"MAX(COUNTRY_INFO!D55*AK55*PROFILE!$G$9,COUNTRY_INFO!D55*AL55*PROFILE!$G$9,COUNTRY_INFO!D55*AM55*PROFILE!$G$9,IF(AND(DISTRICT!Z55<>\"Inconnu\",Z55<>\"Non requis\"),COUNTRY_INFO!O55*DISTRICT!AN55,0))","v":49240.62},{"$f":"MAX(COUNTRY_INFO!D55*AK55*PROFILE!$G$10,COUNTRY_INFO!D55*AL55*PROFILE!$G$10,IF(AND(DISTRICT!Z55<>\"Inconnu\",Z55<>\"Non requis\"),COUNTRY_INFO!O55*DISTRICT!AO55,0))","v":0},49240.62,0,{"$f":"MAX('MDA2'!J55,'T1'!L55,'T2'!J55,T3_R1!K55,T3_R2!K55)","v":0},{"$f":"MAX('MDA1'!K55,'MDA2'!K55,'MDA3'!I55,'MDA3'!L55,'T1'!M55,'T2'!K55,T3_R1!L55,T3_R2!L55)","v":0},{"$f":"MAX('MDA1'!L55,'MDA2'!L55,'MDA3'!J55,'MDA3'!M55,'T1'!N55,'T2'!L55,T3_R1!M55,T3_R2!M55)","v":0},0,{"$f":"MAX('MDA2'!J55,T55)","v":0},{"$f":"MAX('MDA1'!K55,'MDA2'!K55,'MDA3'!I55,'MDA3'!L55,V55,AD55)","v":0},{"$f":"MAX('MDA1'!L55,'MDA2'!L55,'MDA3'!J55,'MDA3'!M55,AF55)","v":0},0,0]
[{"$f":"IF(COUNTRY_INFO!A56=0,\" \",COUNTRY_INFO!A56)","v":"Burkina Faso"},{"$f":"IF(COUNTRY_INFO!B56=0,\" \",COUNTRY_INFO!B56)","v":"Hauts-Bassins"},{"$f":"IF(COUNTRY_INFO!C56=0,\" \",COUNTRY_INFO!C56)","v":"Houndé"},{"$f":"COUNTRY_INFO!L56","v":"Interrompu"},null,null,{"$f":"MAX('MDA1'!M56,'MDA2'!M56)","v":0},{"$f":"IF(AND(COUNTRY_INFO!H56>0,COUNTRY_INFO!H56<4),IF(D56>MAX('MDA1'!M56,'MDA2'!M56),MAX('MDA1'!M56,'MDA2'!M56),D56),0)","v":0},{"$f":"IF(AND(COUNTRY_INFO!H56>0,COUNTRY_INFO!H56<4), IF(G56/D56*100<>0, IF(G56/D56*100>100,100,G56/D56*100), \"-\"),0)","v":0},{"$f":"COUNTRY_INFO!M56","v":0},null,null,{"$f":"MAX('MDA1'!M56,MAX('MDA3'!I56,'MDA3'!L56)+MAX('MDA3'!J56,'MDA3'!M56))","v":0},{"$f":"IF(AND(COUNTRY_INFO!I56>0,COUNTRY_INFO!I56<4),IF(J56>MAX('MDA1'!M56,MAX('MDA3'!I56,'MDA3'!L56)+MAX('MDA3'!J56,'MDA3'!M56)),MAX('MDA1'!M56,MAX('MDA3'!I56,'MDA3'!L56)+MAX('MDA3'!J56,'MDA3'!M56)),J56),0)","v":0},{"$f":"IF(AND(COUNTRY_INFO!I56>0,COUNTRY_INFO!I56<4), IF(M56/J56*100<>0, IF(M56/J56*100>100,100,M56/J56*100), \"-\"),0)","v":0},{"$f":"COUNTRY_INFO!N56","v":0},null,null,{"$f":"SUM(MAX('MDA2'!J56, 'T1'!L56, MAX(T3_R1!K56, T3_R2!K56)), MAX('MDA1'!K56, 'MDA2'!K56, 'T1'!M56, MAX(T3_R1!L56, T3_R2!L56)), MAX('MDA1'!L56, 'MDA2'!L56, 'T1'!N56, MAX(T3_R1!M56, T3_R2!M56)))","v":0},{"$f":"IF(AND(COUNTRY_INFO!J56>1,COUNTRY_INFO!J56<4),IF(COUNTRY_INFO!E56>MAX('MDA2'!J56,'T1'!L56,MAX(T3_R1!K56,T3_R2!K56)),MAX('MDA2'!J56,'T1'!L56,MAX(T3_R1!K56,T3_R2!K56)),COUNTRY_INFO!E56),0)","v":0},{"$f":"IF(AND(COUNTRY_INFO!J56>1,COUNTRY_INFO!J56<4), IF(T56/COUNTRY_INFO!E56*100<>0, IF(T56/COUNTRY_INFO!E56*100>100,100,T56/COUNTRY_INFO!E56*100), \"-\"),0)","v":0},{"$f":"IF(AND(COUNTRY_INFO!J56>1,COUNTRY_INFO!J56<4),IF(COUNTRY_INFO!F56>MAX('MDA1'!K56,'MDA2'!K56,'T1'!M56,MAX(T3_R1!L56,T3_R2!L56)),MAX('MDA1'!K56,'MDA2'!K56,'T1'!M56,MAX(T3_R1!L56,T3_R2!L56)),COUNTRY_INFO!F56),0)","v":0},{"$f":"IF(AND(COUNTRY_INFO!J56>1,COUNTRY_INFO!J56<4), IF(V56/COUNTRY_INFO!F56*100<>0, IF(V56/COUNTRY_INFO!F56*100>100,100,V56/COUNTRY_INFO!F56*100), \"-\"),0)","v":0},0,{"$f":"IF(AND(COUNTRY_INFO!J56>1,COUNTRY_INFO!J56<4), IF(S56/P56*100<>0, IF(X56/P56*100>100,100,X56/P56*100), \"-\"),0)","v":0},{"$f":"COUNTRY_INFO!O56","v":30538.86},null,null,{"$f":"MAX('T1'!L56,'T2'!J56)+MAX('T1'!M56,'T2'!K56)+MAX('T1'!N56,'T2'!L56)","v":0},{"$f":"IF(COUNTRY_INFO!K56=1,IF(COUNTRY_INFO!F56*0.33>MAX('T1'!M56,'T2'!K56),MAX('T1'!M56,'T2'!K56),COUNTRY_INFO!F56*0.33),IF(COUNTRY_INFO!K56=2,IF(COUNTRY_INFO!F56*0.5>MAX('T1'!M56,'T2'!K56),MAX('T1'!M56,'T2'!K56),COUNTRY_INFO!F56*0.5),IF(COUNTRY_INFO!K56=3,IF(COUNTRY_INFO!F56>MAX('T1'!M56,'T2'!K56),MAX('T1'!M56,'T2'!K56),COUNTRY_INFO!F56),0)))","v":0},{"$f":"IF(AND(COUNTRY_INFO!K56>0,COUNTRY_INFO!K56<4),IF(Z56>0,IF(COUNTRY_INFO!K56=1, AD56/(COUNTRY_INFO!F56*0.33)*100, IF(COUNTRY_INFO!K56=2, AD56/(COUNTRY_INFO!F56*0.5)*100, IF(COUNTRY_INFO!K56=3, AD56/COUNTRY_INFO!F56*100))),\"-\"),0)","v":0},{"$f":"IF(COUNTRY_INFO!K56=2,IF(COUNTRY_INFO!G56*0.2>MAX('T1'!N56,'T2'!L56),MAX('T1'!N56,'T2'!L56),COUNTRY_INFO!G56*0.2),IF(COUNTRY_INFO!K56=3,IF(COUNTRY_INFO!G56>MAX('T1'!N56,'T2'!L56),MAX('T1'!N56,'T2'!L56),COUNTRY_INFO!G56),0))","v":0},{"$f":"IF(AND(COUNTRY_INFO!K56>0,COUNTRY_INFO!K56<4),IF(Z56>0,IF(COUNTRY_INFO!K56=1, 0, IF(COUNTRY_INFO!K56=2, AF56/(COUNTRY_INFO!G56*0.2)*100, IF(COUNTRY_INFO!K56=3, AF56/COUNTRY_INFO!G56*100))),\"-\"),0)","v":0},0,{"$f":"IF(AND(COUNTRY_INFO!K56>0,COUNTRY_INFO!K56<4), IF(AC56/Z56*100<>0, IF(AH56/Z56*100>100,100,AH56/Z56*100), \"-\"),0)","v":"-"},null,{"$f":"IF(AND(D56<>0, D56<>\"Inconnu\",D56<>\"Interrompu\",D56<>\"Non requis\"),D56/COUNTRY_INFO!D56, 0)","v":0},{"$f":"IF(AND(J56<>0,J56<>\"Inconnu\",J56<>\"Interrompu\",J56<>\"Non requis\"),J56/COUNTRY_INFO!D56, 0)","v":0},{"$f":"IF(AND(P56<>0,P56<>\"Inconnu\",P56<>\"Non requis\"),P56/(COUNTRY_INFO!E56+COUNTRY_INFO!F56), 0)","v":0},{"$f":"IF(AND(Z56<>0,Z56<>\"Inconnu\",Z56<>\"Non requis\"),IF(COUNTRY_INFO!K56=1,1,IF(COUNTRY_INFO!K56=2,0.5*COUNTRY_INFO!F56/(0.5*COUNTRY_INFO!F56+0.2*COUNTRY_INFO!G56),IF(COUNTRY_INFO!K56=3,COUNTRY_INFO!F56/(COUNTRY_INFO!F56+COUNTRY_INFO!G56)))),0)","v":1},{"$f":"IF(AND(Z56<>0,Z56<>\"Inconnu\",Z56<>\"Non requis\"),IF(COUNTRY_INFO!K56=1,0,IF(COUNTRY_INFO!K56=2,0.2*COUNTRY_INFO!G56/(0.5*COUNTRY_INFO!F56+0.2*COUNTRY_INFO!G56),IF(COUNTRY_INFO!K56=3,COUNTRY_INFO!G56/(COUNTRY_INFO!F56+COUNTRY_INFO!G56)))),0)","v":0},{"$f":"MAX(COUNTRY_INFO!D56*AK56*PROFILE!$G$7,COUNTRY_INFO!D56*AL56*PROFILE!$G$7)","v":0},{"$f":"MAX(COUNTRY_INFO!D56*AK56*PROFILE!$G$8,COUNTRY_INFO!D56*AL56*PROFILE!$G$8,COUNTRY_INFO!D56*AM56*PROFILE!$G$8)","v":0},{"$f":"MAX(COUNTRY_INFO!D56*AK56*PROFILE!$G$9,COUNTRY_INFO!D56*AL56*PROFILE!$G$9,COUNTRY_INFO!D56*AM56*PROFILE!$G$9,IF(AND(DISTRICT!Z56<>\"Inconnu\",Z56<>\"Non requis\"),COUNTRY_INFO!O56*DISTRICT!AN56,0))","v":30538.86},{"$f":"MAX(COUNTRY_INFO!D56*AK56*PROFILE!$G$10,COUNTRY_INFO!D56*AL56*PROFILE!$G$10,IF(AND(DISTRICT!Z56<>\"Inconnu\",Z56<>\"Non requis\"),COUNTRY_INFO!O56*DISTRICT!AO56,0))","v":0},30538.86,0,{"$f":"MAX('MDA2'!J56,'T1'!L56,'T2'!J56,T3_R1!K56,T3_R2!K56)","v":0},{"$f":"MAX('MDA1'!K56,'MDA2'!K56,'MDA3'!I56,'MDA3'!L56,'T1'!M56,'T2'!K56,T3_R1!L56,T3_R2!L56)","v":0},{"$f":"MAX('MDA1'!L56,'MDA2'!L56,'MDA3'!J56,'MDA3'!M56,'T1'!N56,'T2'!L56,T3_R1!M56,T3_R2!M56)","v":0},0,{"$f":"MAX('MDA2'!J56,T56)","v":0},{"$f":"MAX('MDA1'!K56,'MDA2'!K56,'MDA3'!I56,'MDA3'!L56,V56,AD56)","v":0},{"$f":"MAX('MDA1'!L56,'MDA2'!L56,'MDA3'!J56,'MDA3'!M56,AF56)","v":0},0,0]
[{"$f":"IF(COUNTRY_INFO!A57=0,\" \",COUNTRY_INFO!A57)","v":"Burkina Faso"},{"$f":"IF(COUNTRY_INFO!B57=0,\" \",COUNTRY_INFO!B57)","v":"Hauts-Bassins"},{"$f":"IF(COUNTRY_INFO!C57=0,\" \",COUNTRY_INFO!C57)","v":"Karangasso-Vigué"},{"$f":"COUNTRY_INFO!L57","v":"Interrompu"},null,null,{"$f":"MAX('MDA1'!M57,'MDA2'!M57)","v":0},{"$f":"IF(AND(COUNTRY_INFO!H57>0,COUNTRY_INFO!H57<4),IF(D57>MAX('MDA1'!M57,'MDA2'!M57),MAX('MDA1'!M57,'MDA2'!M57),D57),0)","v":0},{"$f":"IF(AND(COUNTRY_INFO!H57>0,COUNTRY_INFO!H57<4), IF(G57/D57*100<>0, IF(G57/D57*100>100,100,G57/D57*100), \"-\"),0)","v":0},{"$f":"COUNTRY_INFO!M57","v":0},null,null,{"$f":"MAX('MDA1'!M57,MAX('MDA3'!I57,'MDA3'!L57)+MAX('MDA3'!J57,'MDA3'!M57))","v":0},{"$f":"IF(AND(COUNTRY_INFO!I57>0,COUNTRY_INFO!I57<4),IF(J57>MAX('MDA1'!M57,MAX('MDA3'!I57,'MDA3'!L57)+MAX('MDA3'!J57,'MDA3'!M57)),MAX('MDA1'!M57,MAX('MDA3'!I57,'MDA3'!L57)+MAX('MDA3'!J57,'MDA3'!M57)),J57),0)","v":0},{"$f":"IF(AND(COUNTRY_INFO!I57>0,COUNTRY_INFO!I57<4), IF(M57/J57*100<>0, IF(M57/J57*100>100,100,M57/J57*100), \"-\"),0)","v":0},{"$f":"COUNTRY_INFO!N57","v":0},null,null,{"$f":"SUM(MAX('MDA2'!J57, 'T1'!L57, MAX(T3_R1!K57, T3_R2!K57)), MAX('MDA1'!K57, 'MDA2'!K57, 'T1'!M57, MAX(T3_R1!L57, T3_R2!L57)), MAX('MDA1'!L57, 'MDA2'!L57, 'T1'!N57, MAX(T3_R1!M57, T3_R2!M57)))","v":0},{"$f":"IF(AND(COUNTRY_INFO!J57>1,COUNTRY_INFO!J57<4),IF(COUNTRY_INFO!E57>MAX('MDA2'!J57,'T1'!L57,MAX(T3_R1!K57,T3_R2!K57)),MAX('MDA2'!J57,'T1'!L57,MAX(T3_R1!K57,T3_R2!K57)),COUNTRY_INFO!E57),0)","v":0},{"$f":"IF(AND(COUNTRY_INFO!J57>1,COUNTRY_INFO!J57<4), IF(T57/COUNTRY_INFO!E57*100<>0, IF(T57/COUNTRY_INFO!E57*100>100,100,T57/COUNTRY_INFO!E57*100), \"-\"),0)","v":0},{"$f":"IF(AND(COUNTRY_INFO!J57>1,COUNTRY_INFO!J57<4),IF(COUNTRY_INFO!F57>MAX('MDA1'!K57,'MDA2'!K57,'T1'!M57,MAX(T3_R1!L57,T3_R2!L57)),MAX('MDA1'!K57,'MDA2'!K57,'T1'!M57,MAX(T3_R1!L57,T3_R2!L57)),COUNTRY_INFO!F57),0)","v":0},{"$f":"IF(AND(COUNTRY_INFO!J57>1,COUNTRY_INFO!J57<4), IF(V57/COUNTRY_INFO!F57*100<>0, IF(V57/COUNTRY_INFO!F57*100>100,100,V57/COUNTRY_INFO!F57*100), \"-\"),0)","v":0},0,{"$f":"IF(AND(COUNTRY_INFO!J57>1,COUNTRY_INFO!J57<4), IF(S57/P57*100<>0, IF(X57/P57*100>100,100,X57/P57*100), \"-\"),0)","v":0},{"$f":"COUNTRY_INFO!O57","v":10653.390000000001},null,null,{"$f":"MAX('T1'!L57,'T2'!J57)+MAX('T1'!M57,'T2'!K57)+MAX('T1'!N57,'T2'!L57)","v":0},{"$f":"IF(COUNTRY_INFO!K57=1,IF(COUNTRY_INFO!F57*0.33>MAX('T1'!M57,'T2'!K57),MAX('T1'!M57,'T2'!K57),COUNTRY_INFO!F57*0.33),IF(COUNTRY_INFO!K57=2,IF(COUNTRY_INFO!F57*0.5>MAX('T1'!M57,'T2'!K57),MAX('T1'!M57,'T2'!K57),COUNTRY_INFO!F57*0.5),IF(COUNTRY_INFO!K57=3,IF(COUNTRY_INFO!F57>MAX('T1'!M57,'T2'!K57),MAX('T1'!M57,'T2'!K57),COUNTRY_INFO!F57),0)))","v":0},{"$f":"IF(AND(COUNTRY_INFO!K57>0,COUNTRY_INFO!K57<4),IF(Z57>0,IF(COUNTRY_INFO!K57=1, AD57/(COUNTRY_INFO!F57*0.33)*100, IF(COUNTRY_INFO!K57=2, AD57/(COUNTRY_INFO!F57*0.5)*100, IF(COUNTRY_INFO!K57=3, AD57/COUNTRY_INFO!F57*100))),\"-\"),0)","v":0},{"$f":"IF(COUNTRY_INFO!K57=2,IF(COUNTRY_INFO!G57*0.2>MAX('T1'!N57,'T2'!L57),MAX('T1'!N57,'T2'!L57),COUNTRY_INFO!G57*0.2),IF(COUNTRY_INFO!K57=3,IF(COUNTRY_INFO!G57>MAX('T1'!N57,'T2'!L57),MAX('T1'!N57,'T2'!L57),COUNTRY_INFO!G57),0))","v":0},{"$f":"IF(AND(COUNTRY_INFO!K57>0,COUNTRY_INFO!K57<4),IF(Z57>0,IF(COUNTRY_INFO!K57=1, 0, IF(COUNTRY_INFO!K57=2, AF57/(COUNTRY_INFO!G57*0.2)*100, IF(COUNTRY_INFO!K57=3, AF57/COUNTRY_INFO!G57*100))),\"-\"),0)","v":0},0,{"$f":"IF(AND(COUNTRY_INFO!K57>0,COUNTRY_INFO!K57<4), IF(AC57/Z57*100<>0, IF(AH57/Z57*100>100,100,AH57/Z57*100), \"-\"),0)","v":"-"},null,{"$f":"IF(AND(D57<>0, D57<>\"Inconnu\",D57<>\"Interrompu\",D57<>\"Non requis\"),D57/COUNTRY_INFO!D57, 0)","v":0},{"$f":"IF(AND(J57<>0,J57<>\"Inconnu\",J57<>\"Interrompu\",J57<>\"Non requis\"),J57/COUNTRY_INFO!D57, 0)","v":0},{"$f":"IF(AND(P57<>0,P57<>\"Inconnu\",P57<>\"Non requis\"),P57/(COUNTRY_INFO!E57+COUNTRY_INFO!F57), 0)","v":0},{"$f":"IF(AND(Z57<>0,Z57<>\"Inconnu\",Z57<>\"Non requis\"),IF(COUNTRY_INFO!K57=1,1,IF(COUNTRY_INFO!K57=2,0.5*COUNTRY_INFO!F57/(0.5*COUNTRY_INFO!F57+0.2*COUNTRY_INFO!G57),IF(COUNTRY_INFO!K57=3,COUNTRY_INFO!F57/(COUNTRY_INFO!F57+COUNTRY_INFO!G57)))),0)","v":1},{"$f":"IF(AND(Z57<>0,Z57<>\"Inconnu\",Z57<>\"Non requis\"),IF(COUNTRY_INFO!K57=1,0,IF(COUNTRY_INFO!K57=2,0.2*COUNTRY_INFO!G57/(0.5*COUNTRY_INFO!F57+0.2*COUNTRY_INFO!G57),IF(COUNTRY_INFO!K57=3,COUNTRY_INFO!G57/(COUNTRY_INFO!F57+COUNTRY_INFO!G57)))),0)","v":0},{"$f":"MAX(COUNTRY_INFO!D57*AK57*PROFILE!$G$7,COUNTRY_INFO!D57*AL57*PROFILE!$G$7)","v":0},{"$f":"MAX(COUNTRY_INFO!D57*AK57*PROFILE!$G$8,COUNTRY_INFO!D57*AL57*PROFILE!$G$8,COUNTRY_INFO!D57*AM57*PROFILE!$G$8)","v":0},{"$f":"MAX(COUNTRY_INFO!D57*AK57*PROFILE!$G$9,COUNTRY_INFO!D57*AL57*PROFILE!$G$9,COUNTRY_INFO!D57*AM57*PROFILE!$G$9,IF(AND(DISTRICT!Z57<>\"Inconnu\",Z57<>\"Non requis\"),COUNTRY_INFO!O57*DISTRICT!AN57,0))","v":10653.390000000001},{"$f":"MAX(COUNTRY_INFO!D57*AK57*PROFILE!$G$10,COUNTRY_INFO!D57*AL57*PROFILE!$G$10,IF(AND(DISTRICT!Z57<>\"Inconnu\",Z57<>\"Non requis\"),COUNTRY_INFO!O57*DISTRICT!AO57,0))","v":0},10653.390000000001,0,{"$f":"MAX('MDA2'!J57,'T1'!L57,'T2'!J57,T3_R1!K57,T3_R2!K57)","v":0},{"$f":"MAX('MDA1'!K57,'MDA2'!K57,'MDA3'!I57,'MDA3'!L57,'T1'!M57,'T2'!K57,T3_R1!L57,T3_R2!L57)","v":0},{"$f":"MAX('MDA1'!L57,'MDA2'!L57,'MDA3'!J57,'MDA3'!M57,'T1'!N57,'T2'!L57,T3_R1!M57,T3_R2!M57)","v":0},0,{"$f":"MAX('MDA2'!J57,T57)","v":0},{"$f":"MAX('MDA1'!K57,'MDA2'!K57,'MDA3'!I57,'MDA3'!L57,V57,AD57)","v":0},{"$f":"MAX('MDA1'!L57,'MDA2'!L57,'MDA3'!J57,'MDA3'!M57,AF57)","v":0},0,0]
[{"$f":"IF(COUNTRY_INFO!A58=0,\" \",COUNTRY_INFO!A58)","v":"Burkina Faso"},{"$f":"IF(COUNTRY_INFO!B58=0,\" \",COUNTRY_INFO!B58)","v":"Hauts-Bassins"},{"$f":"IF(COUNTRY_INFO!C58=0,\" \",COUNTRY_INFO!C58)","v":"Lena"},{"$f":"COUNTRY_INFO!L58","v":"Interrompu"},null,null,{"$f":"MAX('MDA1'!M58,'MDA2'!M58)","v":0},{"$f":"IF(AND(COUNTRY_INFO!H58>0,COUNTRY_INFO!H58<4),IF(D58>MAX('MDA1'!M58,'MDA2'!M58),MAX('MDA1'!M58,'MDA2'!M58),D58),0)","v":0},{"$f":"IF(AND(COUNTRY_INFO!H58>0,COUNTRY_INFO!H58<4), IF(G58/D58*100<>0, IF(G58/D58*100>100,100,G58/D58*100), \"-\"),0)","v":0},{"$f":"COUNTRY_INFO!M58","v":0},null,null,{"$f":"MAX('MDA1'!M58,MAX('MDA3'!I58,'MDA3'!L58)+MAX('MDA3'!J58,'MDA3'!M58))","v":0},{"$f":"IF(AND(COUNTRY_INFO!I58>0,COUNTRY_INFO!I58<4),IF(J58>MAX('MDA1'!M58,MAX('MDA3'!I58,'MDA3'!L58)+MAX('MDA3'!J58,'MDA3'!M58)),MAX('MDA1'!M58,MAX('MDA3'!I58,'MDA3'!L58)+MAX('MDA3'!J58,'MDA3'!M58)),J58),0)","v":0},{"$f":"IF(AND(COUNTRY_INFO!I58>0,COUNTRY_INFO!I58<4), IF(M58/J58*100<>0, IF(M58/J58*100>100,100,M58/J58*100), \"-\"),0)","v":0},{"$f":"COUNTRY_INFO!N58","v":0},null,null,{"$f":"SUM(MAX('MDA2'!J58, 'T1'!L58, MAX(T3_R1!K58, T3_R2!K58)), MAX('MDA1'!K58, 'MDA2'!K58, 'T1'!M58, MAX(T3_R1!L58, T3_R2!L58)), MAX('MDA1'!L58, 'MDA2'!L58, 'T1'!N58, MAX(T3_R1!M58, T3_R2!M58)))","v":0},{"$f":"IF(AND(COUNTRY_INFO!J58>1,COUNTRY_INFO!J58<4),IF(COUNTRY_INFO!E58>MAX('MDA2'!J58,'T1'!L58,MAX(T3_R1!K58,T3_R2!K58)),MAX('MDA2'!J58,'T1'!L58,MAX(T3_R1!K58,T3_R2!K58)),COUNTRY_INFO!E58),0)","v":0},{"$f":"IF(AND(COUNTRY_INFO!J58>1,COUNTRY_INFO!J58<4), IF(T58/COUNTRY_INFO!E58*100<>0, IF(T58/COUNTRY_INFO!E58*100>100,100,T58/COUNTRY_INFO!E58*100), \"-\"),0)","v":0},{"$f":"IF(AND(COUNTRY_INFO!J58>1,COUNTRY_INFO!J58<4),IF(COUNTRY_INFO!F58>MAX('MDA1'!K58,'MDA2'!K58,'T1'!M58,MAX(T3_R1!L58,T3_R2!L58)),MAX('MDA1'!K58,'MDA2'!K58,'T1'!M58,MAX(T3_R1!L58,T3_R2!L58)),COUNTRY_INFO!F58),0)","v":0},{"$f":"IF(AND(COUNTRY_INFO!J58>1,COUNTRY_INFO!J58<4), IF(V58/COUNTRY_INFO!F58*100<>0, IF(V58/COUNTRY_INFO!F58*100>100,100,V58/COUNTRY_INFO!F58*100), \"-\"),0)","v":0},0,{"$f":"IF(AND(COUNTRY_INFO!J58>1,COUNTRY_INFO!J58<4), IF(S58/P58*100<>0, IF(X58/P58*100>100,100,X58/P58*100), \"-\"),0)","v":0},{"$f":"COUNTRY_INFO!O58","v":8243.4},null,null,{"$f":"MAX('T1'!L58,'T2'!J58)+MAX('T1'!M58,'T2'!K58)+MAX('T1'!N58,'T2'!L58)","v":0},{"$f":"IF(COUNTRY_INFO!K58=1,IF(COUNTRY_INFO!F58*0.33>MAX('T1'!M58,'T2'!K58),MAX('T1'!M58,'T2'!K58),COUNTRY_INFO!F58*0.33),IF(COUNTRY_INFO!K58=2,IF(COUNTRY_INFO!F58*0.5>MAX('T1'!M58,'T2'!K58),MAX('T1'!M58,'T2'!K58),COUNTRY_INFO!F58*0.5),IF(COUNTRY_INFO!K58=3,IF(COUNTRY_INFO!F58>MAX('T1'!M58,'T2'!K58),MAX('T1'!M58,'T2'!K58),COUNTRY_INFO!F58),0)))","v":0},{"$f":"IF(AND(COUNTRY_INFO!K58>0,COUNTRY_INFO!K58<4),IF(Z58>0,IF(COUNTRY_INFO!K58=1, AD58/(COUNTRY_INFO!F58*0.33)*100, IF(COUNTRY_INFO!K58=2, AD58/(COUNTRY_INFO!F58*0.5)*100, IF(COUNTRY_INFO!K58=3, AD58/COUNTRY_INFO!F58*100))),\"-\"),0)","v":0},{"$f":"IF(COUNTRY_INFO!K58=2,IF(COUNTRY_INFO!G58*0.2>MAX('T1'!N58,'T2'!L58),MAX('T1'!N58,'T2'!L58),COUNTRY_INFO!G58*0.2),IF(COUNTRY_INFO!K58=3,IF(COUNTRY_INFO!G58>MAX('T1'!N58,'T2'!L58),MAX('T1'!N58,'T2'!L58),COUNTRY_INFO!G58),0))","v":0},{"$f":"IF(AND(COUNTRY_INFO!K58>0,COUNTRY_INFO!K58<4),IF(Z58>0,IF(COUNTRY_INFO!K58=1, 0, IF(COUNTRY_INFO!K58=2, AF58/(COUNTRY_INFO!G58*0.2)*100, IF(COUNTRY_INFO!K58=3, AF58/COUNTRY_INFO!G58*100))),\"-\"),0)","v":0},0,{"$f":"IF(AND(COUNTRY_INFO!K58>0,COUNTRY_INFO!K58<4), IF(AC58/Z58*100<>0, IF(AH58/Z58*100>100,100,AH58/Z58*100), \"-\"),0)","v":"-"},null,{"$f":"IF(AND(D58<>0, D58<>\"Inconnu\",D58<>\"Interrompu\",D58<>\"Non requis\"),D58/COUNTRY_INFO!D58, 0)","v":0},{"$f":"IF(AND(J58<>0,J58<>\"Inconnu\",J58<>\"Interrompu\",J58<>\"Non requis\"),J58/COUNTRY_INFO!D58, 0)","v":0},{"$f":"IF(AND(P58<>0,P58<>\"Inconnu\",P58<>\"Non requis\"),P58/(COUNTRY_INFO!E58+COUNTRY_INFO!F58), 0)","v":0},{"$f":"IF(AND(Z58<>0,Z58<>\"Inconnu\",Z58<>\"Non requis\"),IF(COUNTRY_INFO!K58=1,1,IF(COUNTRY_INFO!K58=2,0.5*COUNTRY_INFO!F58/(0.5*COUNTRY_INFO!F58+0.2*COUNTRY_INFO!G58),IF(COUNTRY_INFO!K58=3,COUNTRY_INFO!F58/(COUNTRY_INFO!F58+COUNTRY_INFO!G58)))),0)","v":1},{"$f":"IF(AND(Z58<>0,Z58<>\"Inconnu\",Z58<>\"Non requis\"),IF(COUNTRY_INFO!K58=1,0,IF(COUNTRY_INFO!K58=2,0.2*COUNTRY_INFO!G58/(0.5*COUNTRY_INFO!F58+0.2*COUNTRY_INFO!G58),IF(COUNTRY_INFO!K58=3,COUNTRY_INFO!G58/(COUNTRY_INFO!F58+COUNTRY_INFO!G58)))),0)","v":0},{"$f":"MAX(COUNTRY_INFO!D58*AK58*PROFILE!$G$7,COUNTRY_INFO!D58*AL58*PROFILE!$G$7)","v":0},{"$f":"MAX(COUNTRY_INFO!D58*AK58*PROFILE!$G$8,COUNTRY_INFO!D58*AL58*PROFILE!$G$8,COUNTRY_INFO!D58*AM58*PROFILE!$G$8)","v":0},{"$f":"MAX(COUNTRY_INFO!D58*AK58*PROFILE!$G$9,COUNTRY_INFO!D58*AL58*PROFILE!$G$9,COUNTRY_INFO!D58*AM58*PROFILE!$G$9,IF(AND(DISTRICT!Z58<>\"Inconnu\",Z58<>\"Non requis\"),COUNTRY_INFO!O58*DISTRICT!AN58,0))","v":8243.4},{"$f":"MAX(COUNTRY_INFO!D58*AK58*PROFILE!$G$10,COUNTRY_INFO!D58*AL58*PROFILE!$G$10,IF(AND(DISTRICT!Z58<>\"Inconnu\",Z58<>\"Non requis\"),COUNTRY_INFO!O58*DISTRICT!AO58,0))","v":0},8243.4,0,{"$f":"MAX('MDA2'!J58,'T1'!L58,'T2'!J58,T3_R1!K58,T3_R2!K58)","v":0},{"$f":"MAX('MDA1'!K58,'MDA2'!K58,'MDA3'!I58,'MDA3'!L58,'T1'!M58,'T2'!K58,T3_R1!L58,T3_R2!L58)","v":0},{"$f":"MAX('MDA1'!L58,'MDA2'!L58,'MDA3'!J58,'MDA3'!M58,'T1'!N58,'T2'!L58,T3_R1!M58,T3_R2!M58)","v":0},0,{"$f":"MAX('MDA2'!J58,T58)","v":0},{"$f":"MAX('MDA1'!K58,'MDA2'!K58,'MDA3'!I58,'MDA3'!L58,V58,AD58)","v":0},{"$f":"MAX('MDA1'!L58,'MDA2'!L58,'MDA3'!J58,'MDA3'!M58,AF58)","v":0},0,0]
[{"$f":"IF(COUNTRY_INFO!A59=0,\" \",COUNTRY_INFO!A59)","v":"Burkina Faso"},{"$f":"IF(COUNTRY_INFO!B59=0,\" \",COUNTRY_INFO!B59)","v":"Hauts-Bassins"},{"$f":"IF(COUNTRY_INFO!C59=0,\" \",COUNTRY_INFO!C59)","v":"N'Dorola"},{"$f":"COUNTRY_INFO!L59","v":"Interrompu"},null,null,{"$f":"MAX('MDA1'!M59,'MDA2'!M59)","v":0},{"$f":"IF(AND(COUNTRY_INFO!H59>0,COUNTRY_INFO!H59<4),IF(D59>MAX('MDA1'!M59,'MDA2'!M59),MAX('MDA1'!M59,'MDA2'!M59),D59),0)","v":0},{"$f":"IF(AND(COUNTRY_INFO!H59>0,COUNTRY_INFO!H59<4), IF(G59/D59*100<>0, IF(G59/D59*100>100,100,G59/D59*100), \"-\"),0)","v":0},{"$f":"COUNTRY_INFO!M59","v":0},null,null,{"$f":"MAX('MDA1'!M59,MAX('MDA3'!I59,'MDA3'!L59)+MAX('MDA3'!J59,'MDA3'!M59))","v":0},{"$f":"IF(AND(COUNTRY_INFO!I59>0,COUNTRY_INFO!I59<4),IF(J59>MAX('MDA1'!M59,MAX('MDA3'!I59,'MDA3'!L59)+MAX('MDA3'!J59,'MDA3'!M59)),MAX('MDA1'!M59,MAX('MDA3'!I59,'MDA3'!L59)+MAX('MDA3'!J59,'MDA3'!M59)),J59),0)","v":0},{"$f":"IF(AND(COUNTRY_INFO!I59>0,COUNTRY_INFO!I59<4), IF(M59/J59*100<>0, IF(M59/J59*100>100,100,M59/J59*100), \"-\"),0)","v":0},{"$f":"COUNTRY_INFO!N59","v":0},null,null,{"$f":"SUM(MAX('MDA2'!J59, 'T1'!L59, MAX(T3_R1!K59, T3_R2!K59)), MAX('MDA1'!K59, 'MDA2'!K59, 'T1'!M59, MAX(T3_R1!L59, T3_R2!L59)), MAX('MDA1'!L59, 'MDA2'!L59, 'T1'!N59, MAX(T3_R1!M59, T3_R2!M59)))","v":0},{"$f":"IF(AND(COUNTRY_INFO!J59>1,COUNTRY_INFO!J59<4),IF(COUNTRY_INFO!E59>MAX('MDA2'!J59,'T1'!L59,MAX(T3_R1!K59,T3_R2!K59)),MAX('MDA2'!J59,'T1'!L59,MAX(T3_R1!K59,T3_R2!K59)),COUNTRY_INFO!E59),0)","v":0},{"$f":"IF(AND(COUNTRY_INFO!J59>1,COUNTRY_INFO!J59<4), IF(T59/COUNTRY_INFO!E59*100<>0, IF(T59/COUNTRY_INFO!E59*100>100,100,T59/COUNTRY_INFO!E59*100), \"-\"),0)","v":0},{"$f":"IF(AND(COUNTRY_INFO!J59>1,COUNTRY_INFO!J59<4),IF(COUNTRY_INFO!F59>MAX('MDA1'!K59,'MDA2'!K59,'T1'!M59,MAX(T3_R1!L59,T3_R2!L59)),MAX('MDA1'!K59,'MDA2'!K59,'T1'!M59,MAX(T3_R1!L59,T3_R2!L59)),COUNTRY_INFO!F59),0)","v":0},{"$f":"IF(AND(COUNTRY_INFO!J59>1,COUNTRY_INFO!J59<4), IF(V59/COUNTRY_INFO!F59*100<>0, IF(V59/COUNTRY_INFO!F59*100>100,100,V59/COUNTRY_INFO!F59*100), \"-\"),0)","v":0},0,{"$f":"IF(AND(COUNTRY_INFO!J59>1,COUNTRY_INFO!J59<4), IF(S59/P59*100<>0, IF(X59/P59*100>100,100,X59/P59*100), \"-\"),0)","v":0},{"$f":"COUNTRY_INFO!O59","v":14478.42},null,null,{"$f":"MAX('T1'!L59,'T2'!J59)+MAX('T1'!M59,'T2'!K59)+MAX('T1'!N59,'T2'!L59)","v":0},{"$f":"IF(COUNTRY_INFO!K59=1,IF(COUNTRY_INFO!F59*0.33>MAX('T1'!M59,'T2'!K59),MAX('T1'!M59,'T2'!K59),COUNTRY_INFO!F59*0.33),IF(COUNTRY_INFO!K59=2,IF(COUNTRY_INFO!F59*0.5>MAX('T1'!M59,'T2'!K59),MAX('T1'!M59,'T2'!K59),COUNTRY_INFO!F59*0.5),IF(COUNTRY_INFO!K59=3,IF(COUNTRY_INFO!F59>MAX('T1'!M59,'T2'!K59),MAX('T1'!M59,'T2'!K59),COUNTRY_INFO!F59),0)))","v":0},{"$f":"IF(AND(COUNTRY_INFO!K59>0,COUNTRY_INFO!K59<4),IF(Z59>0,IF(COUNTRY_INFO!K59=1, AD59/(COUNTRY_INFO!F59*0.33)*100, IF(COUNTRY_INFO!K59=2, AD59/(COUNTRY_INFO!F59*0.5)*100, IF(COUNTRY_INFO!K59=3, AD59/COUNTRY_INFO!F59*100))),\"-\"),0)","v":0},{"$f":"IF(COUNTRY_INFO!K59=2,IF(COUNTRY_INFO!G59*0.2>MAX('T1'!N59,'T2'!L59),MAX('T1'!N59,'T2'!L59),COUNTRY_INFO!G59*0.2),IF(COUNTRY_INFO!K59=3,IF(COUNTRY_INFO!G59>MAX('T1'!N59,'T2'!L59),MAX('T1'!N59,'T2'!L59),COUNTRY_INFO!G59),0))","v":0},{"$f":"IF(AND(COUNTRY_INFO!K59>0,COUNTRY_INFO!K59<4),IF(Z59>0,IF(COUNTRY_INFO!K59=1, 0, IF(COUNTRY_INFO!K59=2, AF59/(COUNTRY_INFO!G59*0.2)*100, IF(COUNTRY_INFO!K59=3, AF59/COUNTRY_INFO!G59*100))),\"-\"),0)","v":0},0,{"$f":"IF(AND(COUNTRY_INFO!K59>0,COUNTRY_INFO!K59<4), IF(AC59/Z59*100<>0, IF(AH59/Z59*100>100,100,AH59/Z59*100), \"-\"),0)","v":"-"},null,{"$f":"IF(AND(D59<>0, D59<>\"Inconnu\",D59<>\"Interrompu\",D59<>\"Non requis\"),D59/COUNTRY_INFO!D59, 0)","v":0},{"$f":"IF(AND(J59<>0,J59<>\"Inconnu\",J59<>\"Interrompu\",J59<>\"Non requis\"),J59/COUNTRY_INFO!D59, 0)","v":0},{"$f":"IF(AND(P59<>0,P59<>\"Inconnu\",P59<>\"Non requis\"),P59/(COUNTRY_INFO!E59+COUNTRY_INFO!F59), 0)","v":0},{"$f":"IF(AND(Z59<>0,Z59<>\"Inconnu\",Z59<>\"Non requis\"),IF(COUNTRY_INFO!K59=1,1,IF(COUNTRY_INFO!K59=2,0.5*COUNTRY_INFO!F59/(0.5*COUNTRY_INFO!F59+0.2*COUNTRY_INFO!G59),IF(COUNTRY_INFO!K59=3,COUNTRY_INFO!F59/(COUNTRY_INFO!F59+COUNTRY_INFO!G59)))),0)","v":1},{"$f":"IF(AND(Z59<>0,Z59<>\"Inconnu\",Z59<>\"Non requis\"),IF(COUNTRY_INFO!K59=1,0,IF(COUNTRY_INFO!K59=2,0.2*COUNTRY_INFO!G59/(0.5*COUNTRY_INFO!F59+0.2*COUNTRY_INFO!G59),IF(COUNTRY_INFO!K59=3,COUNTRY_INFO!G59/(COUNTRY_INFO!F59+COUNTRY_INFO!G59)))),0)","v":0},{"$f":"MAX(COUNTRY_INFO!D59*AK59*PROFILE!$G$7,COUNTRY_INFO!D59*AL59*PROFILE!$G$7)","v":0},{"$f":"MAX(COUNTRY_INFO!D59*AK59*PROFILE!$G$8,COUNTRY_INFO!D59*AL59*PROFILE!$G$8,COUNTRY_INFO!D59*AM59*PROFILE!$G$8)","v":0},{"$f":"MAX(COUNTRY_INFO!D59*AK59*PROFILE!$G$9,COUNTRY_INFO!D59*AL59*PROFILE!$G$9,COUNTRY_INFO!D59*AM59*PROFILE!$G$9,IF(AND(DISTRICT!Z59<>\"Inconnu\",Z59<>\"Non requis\"),COUNTRY_INFO!O59*DISTRICT!AN59,0))","v":14478.42},{"$f":"MAX(COUNTRY_INFO!D59*AK59*PROFILE!$G$10,COUNTRY_INFO!D59*AL59*PROFILE!$G$10,IF(AND(DISTRICT!Z59<>\"Inconnu\",Z59<>\"Non requis\"),COUNTRY_INFO!O59*DISTRICT!AO59,0))","v":0},14478.42,0,{"$f":"MAX('MDA2'!J59,'T1'!L59,'T2'!J59,T3_R1!K59,T3_R2!K59)","v":0},{"$f":"MAX('MDA1'!K59,'MDA2'!K59,'MDA3'!I59,'MDA3'!L59,'T1'!M59,'T2'!K59,T3_R1!L59,T3_R2!L59)","v":0},{"$f":"MAX('MDA1'!L59,'MDA2'!L59,'MDA3'!J59,'MDA3'!M59,'T1'!N59,'T2'!L59,T3_R1!M59,T3_R2!M59)","v":0},0,{"$f":"MAX('MDA2'!J59,T59)","v":0},{"$f":"MAX('MDA1'!K59,'MDA2'!K59,'MDA3'!I59,'MDA3'!L59,V59,AD59)","v":0},{"$f":"MAX('MDA1'!L59,'MDA2'!L59,'MDA3'!J59,'MDA3'!M59,AF59)","v":0},0,0]
[{"$f":"IF(COUNTRY_INFO!A60=0,\" \",COUNTRY_INFO!A60)","v":"Burkina Faso"},{"$f":"IF(COUNTRY_INFO!B60=0,\" \",COUNTRY_INFO!B60)","v":"Hauts-Bassins"},{"$f":"IF(COUNTRY_INFO!C60=0,\" \",COUNTRY_INFO!C60)","v":"Orodara"},{"$f":"COUNTRY_INFO!L60","v":"Interrompu"},null,null,{"$f":"MAX('MDA1'!M60,'MDA2'!M60)","v":0},{"$f":"IF(AND(COUNTRY_INFO!H60>0,COUNTRY_INFO!H60<4),IF(D60>MAX('MDA1'!M60,'MDA2'!M60),MAX('MDA1'!M60,'MDA2'!M60),D60),0)","v":0},{"$f":"IF(AND(COUNTRY_INFO!H60>0,COUNTRY_INFO!H60<4), IF(G60/D60*100<>0, IF(G60/D60*100>100,100,G60/D60*100), \"-\"),0)","v":0},{"$f":"COUNTRY_INFO!M60","v":0},null,null,{"$f":"MAX('MDA1'!M60,MAX('MDA3'!I60,'MDA3'!L60)+MAX('MDA3'!J60,'MDA3'!M60))","v":0},{"$f":"IF(AND(COUNTRY_INFO!I60>0,COUNTRY_INFO!I60<4),IF(J60>MAX('MDA1'!M60,MAX('MDA3'!I60,'MDA3'!L60)+MAX('MDA3'!J60,'MDA3'!M60)),MAX('MDA1'!M60,MAX('MDA3'!I60,'MDA3'!L60)+MAX('MDA3'!J60,'MDA3'!M60)),J60),0)","v":0},{"$f":"IF(AND(COUNTRY_INFO!I60>0,COUNTRY_INFO!I60<4), IF(M60/J60*100<>0, IF(M60/J60*100>100,100,M60/J60*100), \"-\"),0)","v":0},{"$f":"COUNTRY_INFO!N60","v":0},null,null,{"$f":"SUM(MAX('MDA2'!J60, 'T1'!L60, MAX(T3_R1!K60, T3_R2!K60)), MAX('MDA1'!K60, 'MDA2'!K60, 'T1'!M60, MAX(T3_R1!L60, T3_R2!L60)), MAX('MDA1'!L60, 'MDA2'!L60, 'T1'!N60, MAX(T3_R1!M60, T3_R2!M60)))","v":0},{"$f":"IF(AND(COUNTRY_INFO!J60>1,COUNTRY_INFO!J60<4),IF(COUNTRY_INFO!E60>MAX('MDA2'!J60,'T1'!L60,MAX(T3_R1!K60,T3_R2!K60)),MAX('MDA2'!J60,'T1'!L60,MAX(T3_R1!K60,T3_R2!K60)),COUNTRY_INFO!E60),0)","v":0},{"$f":"IF(AND(COUNTRY_INFO!J60>1,COUNTRY_INFO!J60<4), IF(T60/COUNTRY_INFO!E60*100<>0, IF(T60/COUNTRY_INFO!E60*100>100,100,T60/COUNTRY_INFO!E60*100), \"-\"),0)","v":0},{"$f":"IF(AND(COUNTRY_INFO!J60>1,COUNTRY_INFO!J60<4),IF(COUNTRY_INFO!F60>MAX('MDA1'!K60,'MDA2'!K60,'T1'!M60,MAX(T3_R1!L60,T3_R2!L60)),MAX('MDA1'!K60,'MDA2'!K60,'T1'!M60,MAX(T3_R1!L60,T3_R2!L60)),COUNTRY_INFO!F60),0)","v":0},{"$f":"IF(AND(COUNTRY_INFO!J60>1,COUNTRY_INFO!J60<4), IF(V60/COUNTRY_INFO!F60*100<>0, IF(V60/COUNTRY_INFO!F60*100>100,100,V60/COUNTRY_INFO!F60*100), \"-\"),0)","v":0},0,{"$f":"IF(AND(COUNTRY_INFO!J60>1,COUNTRY_INFO!J60<4), IF(S60/P60*100<>0, IF(X60/P60*100>100,100,X60/P60*100), \"-\"),0)","v":0},{"$f":"COUNTRY_INFO!O60","v":23917.74},null,null,{"$f":"MAX('T1'!L60,'T2'!J60)+MAX('T1'!M60,'T2'!K60)+MAX('T1'!N60,'T2'!L60)","v":0},{"$f":"IF(COUNTRY_INFO!K60=1,IF(COUNTRY_INFO!F60*0.33>MAX('T1'!M60,'T2'!K60),MAX('T1'!M60,'T2'!K60),COUNTRY_INFO!F60*0.33),IF(COUNTRY_INFO!K60=2,IF(COUNTRY_INFO!F60*0.5>MAX('T1'!M60,'T2'!K60),MAX('T1'!M60,'T2'!K60),COUNTRY_INFO!F60*0.5),IF(COUNTRY_INFO!K60=3,IF(COUNTRY_INFO!F60>MAX('T1'!M60,'T2'!K60),MAX('T1'!M60,'T2'!K60),COUNTRY_INFO!F60),0)))","v":0},{"$f":"IF(AND(COUNTRY_INFO!K60>0,COUNTRY_INFO!K60<4),IF(Z60>0,IF(COUNTRY_INFO!K60=1, AD60/(COUNTRY_INFO!F60*0.33)*100, IF(COUNTRY_INFO!K60=2, AD60/(COUNTRY_INFO!F60*0.5)*100, IF(COUNTRY_INFO!K60=3, AD60/COUNTRY_INFO!F60*100))),\"-\"),0)","v":0},{"$f":"IF(COUNTRY_INFO!K60=2,IF(COUNTRY_INFO!G60*0.2>MAX('T1'!N60,'T2'!L60),MAX('T1'!N60,'T2'!L60),COUNTRY_INFO!G60*0.2),IF(COUNTRY_INFO!K60=3,IF(COUNTRY_INFO!G60>MAX('T1'!N60,'T2'!L60),MAX('T1'!N60,'T2'!L60),COUNTRY_INFO!G60),0))","v":0},{"$f":"IF(AND(COUNTRY_INFO!K60>0,COUNTRY_INFO!K60<4),IF(Z60>0,IF(COUNTRY_INFO!K60=1, 0, IF(COUNTRY_INFO!K60=2, AF60/(COUNTRY_INFO!G60*0.2)*100, IF(COUNTRY_INFO!K60=3, AF60/COUNTRY_INFO!G60*100))),\"-\"),0)","v":0},0,{"$f":"IF(AND(COUNTRY_INFO!K60>0,COUNTRY_INFO!K60<4), IF(AC60/Z60*100<>0, IF(AH60/Z60*100>100,100,AH60/Z60*100), \"-\"),0)","v":"-"},null,{"$f":"IF(AND(D60<>0, D60<>\"Inconnu\",D60<>\"Interrompu\",D60<>\"Non requis\"),D60/COUNTRY_INFO!D60, 0)","v":0},{"$f":"IF(AND(J60<>0,J60<>\"Inconnu\",J60<>\"Interrompu\",J60<>\"Non requis\"),J60/COUNTRY_INFO!D60, 0)","v":0},{"$f":"IF(AND(P60<>0,P60<>\"Inconnu\",P60<>\"Non requis\"),P60/(COUNTRY_INFO!E60+COUNTRY_INFO!F60), 0)","v":0},{"$f":"IF(AND(Z60<>0,Z60<>\"Inconnu\",Z60<>\"Non requis\"),IF(COUNTRY_INFO!K60=1,1,IF(COUNTRY_INFO!K60=2,0.5*COUNTRY_INFO!F60/(0.5*COUNTRY_INFO!F60+0.2*COUNTRY_INFO!G60),IF(COUNTRY_INFO!K60=3,COUNTRY_INFO!F60/(COUNTRY_INFO!F60+COUNTRY_INFO!G60)))),0)","v":1},{"$f":"IF(AND(Z60<>0,Z60<>\"Inconnu\",Z60<>\"Non requis\"),IF(COUNTRY_INFO!K60=1,0,IF(COUNTRY_INFO!K60=2,0.2*COUNTRY_INFO!G60/(0.5*COUNTRY_INFO!F60+0.2*COUNTRY_INFO!G60),IF(COUNTRY_INFO!K60=3,COUNTRY_INFO!G60/(COUNTRY_INFO!F60+COUNTRY_INFO!G60)))),0)","v":0},{"$f":"MAX(COUNTRY_INFO!D60*AK60*PROFILE!$G$7,COUNTRY_INFO!D60*AL60*PROFILE!$G$7)","v":0},{"$f":"MAX(COUNTRY_INFO!D60*AK60*PROFILE!$G$8,COUNTRY_INFO!D60*AL60*PROFILE!$G$8,COUNTRY_INFO!D60*AM60*PROFILE!$G$8)","v":0},{"$f":"MAX(COUNTRY_INFO!D60*AK60*PROFILE!$G$9,COUNTRY_INFO!D60*AL60*PROFILE!$G$9,COUNTRY_INFO!D60*AM60*PROFILE!$G$9,IF(AND(DISTRICT!Z60<>\"Inconnu\",Z60<>\"Non requis\"),COUNTRY_INFO!O60*DISTRICT!AN60,0))","v":23917.74},{"$f":"MAX(COUNTRY_INFO!D60*AK60*PROFILE!$G$10,COUNTRY_INFO!D60*AL60*PROFILE!$G$10,IF(AND(DISTRICT!Z60<>\"Inconnu\",Z60<>\"Non requis\"),COUNTRY_INFO!O60*DISTRICT!AO60,0))","v":0},23917.74,0,{"$f":"MAX('MDA2'!J60,'T1'!L60,'T2'!J60,T3_R1!K60,T3_R2!K60)","v":0},{"$f":"MAX('MDA1'!K60,'MDA2'!K60,'MDA3'!I60,'MDA3'!L60,'T1'!M60,'T2'!K60,T3_R1!L60,T3_R2!L60)","v":0},{"$f":"MAX('MDA1'!L60,'MDA2'!L60,'MDA3'!J60,'MDA3'!M60,'T1'!N60,'T2'!L60,T3_R1!M60,T3_R2!M60)","v":0},0,{"$f":"MAX('MDA2'!J60,T60)","v":0},{"$f":"MAX('MDA1'!K60,'MDA2'!K60,'MDA3'!I60,'MDA3'!L60,V60,AD60)","v":0},{"$f":"MAX('MDA1'!L60,'MDA2'!L60,'MDA3'!J60,'MDA3'!M60,AF60)","v":0},0,0]
[{"$f":"IF(COUNTRY_INFO!A61=0,\" \",COUNTRY_INFO!A61)","v":"Burkina Faso"},{"$f":"IF(COUNTRY_INFO!B61=0,\" \",COUNTRY_INFO!B61)","v":"Nord"},{"$f":"IF(COUNTRY_INFO!C61=0,\" \",COUNTRY_INFO!C61)","v":"Gourcy"},{"$f":"COUNTRY_INFO!L61","v":"Interrompu"},null,null,{"$f":"MAX('MDA1'!M61,'MDA2'!M61)","v":0},{"$f":"IF(AND(COUNTRY_INFO!H61>0,COUNTRY_INFO!H61<4),IF(D61>MAX('MDA1'!M61,'MDA2'!M61),MAX('MDA1'!M61,'MDA2'!M61),D61),0)","v":0},{"$f":"IF(AND(COUNTRY_INFO!H61>0,COUNTRY_INFO!H61<4), IF(G61/D61*100<>0, IF(G61/D61*100>100,100,G61/D61*100), \"-\"),0)","v":0},{"$f":"COUNTRY_INFO!M61","v":0},null,null,{"$f":"MAX('MDA1'!M61,MAX('MDA3'!I61,'MDA3'!L61)+MAX('MDA3'!J61,'MDA3'!M61))","v":0},{"$f":"IF(AND(COUNTRY_INFO!I61>0,COUNTRY_INFO!I61<4),IF(J61>MAX('MDA1'!M61,MAX('MDA3'!I61,'MDA3'!L61)+MAX('MDA3'!J61,'MDA3'!M61)),MAX('MDA1'!M61,MAX('MDA3'!I61,'MDA3'!L61)+MAX('MDA3'!J61,'MDA3'!M61)),J61),0)","v":0},{"$f":"IF(AND(COUNTRY_INFO!I61>0,COUNTRY_INFO!I61<4), IF(M61/J61*100<>0, IF(M61/J61*100>100,100,M61/J61*100), \"-\"),0)","v":0},{"$f":"COUNTRY_INFO!N61","v":0},33902,34987,{"$f":"SUM(MAX('MDA2'!J61, 'T1'!L61, MAX(T3_R1!K61, T3_R2!K61)), MAX('MDA1'!K61, 'MDA2'!K61, 'T1'!M61, MAX(T3_R1!L61, T3_R2!L61)), MAX('MDA1'!L61, 'MDA2'!L61, 'T1'!N61, MAX(T3_R1!M61, T3_R2!M61)))","v":70330},{"$f":"IF(AND(COUNTRY_INFO!J61>1,COUNTRY_INFO!J61<4),IF(COUNTRY_INFO!E61>MAX('MDA2'!J61,'T1'!L61,MAX(T3_R1!K61,T3_R2!K61)),MAX('MDA2'!J61,'T1'!L61,MAX(T3_R1!K61,T3_R2!K61)),COUNTRY_INFO!E61),0)","v":0},{"$f":"IF(AND(COUNTRY_INFO!J61>1,COUNTRY_INFO!J61<4), IF(T61/COUNTRY_INFO!E61*100<>0, IF(T61/COUNTRY_INFO!E61*100>100,100,T61/COUNTRY_INFO!E61*100), \"-\"),0)","v":0},{"$f":"IF(AND(COUNTRY_INFO!J61>1,COUNTRY_INFO!J61<4),IF(COUNTRY_INFO!F61>MAX('MDA1'!K61,'MDA2'!K61,'T1'!M61,MAX(T3_R1!L61,T3_R2!L61)),MAX('MDA1'!K61,'MDA2'!K61,'T1'!M61,MAX(T3_R1!L61,T3_R2!L61)),COUNTRY_INFO!F61),0)","v":0},{"$f":"IF(AND(COUNTRY_INFO!J61>1,COUNTRY_INFO!J61<4), IF(V61/COUNTRY_INFO!F61*100<>0, IF(V61/COUNTRY_INFO!F61*100>100,100,V61/COUNTRY_INFO!F61*100), \"-\"),0)","v":0},0,{"$f":"IF(AND(COUNTRY_INFO!J61>1,COUNTRY_INFO!J61<4), IF(S61/P61*100<>0, IF(X61/P61*100>100,100,X61/P61*100), \"-\"),0)","v":0},{"$f":"COUNTRY_INFO!O61","v":57384.7},34606,35724,{"$f":"MAX('T1'!L61,'T2'!J61)+MAX('T1'!M61,'T2'!K61)+MAX('T1'!N61,'T2'!L61)","v":70330},{"$f":"IF(COUNTRY_INFO!K61=1,IF(COUNTRY_INFO!F61*0.33>MAX('T1'!M61,'T2'!K61),MAX('T1'!M61,'T2'!K61),COUNTRY_INFO!F61*0.33),IF(COUNTRY_INFO!K61=2,IF(COUNTRY_INFO!F61*0.5>MAX('T1'!M61,'T2'!K61),MAX('T1'!M61,'T2'!K61),COUNTRY_INFO!F61*0.5),IF(COUNTRY_INFO!K61=3,IF(COUNTRY_INFO!F61>MAX('T1'!M61,'T2'!K61),MAX('T1'!M61,'T2'!K61),COUNTRY_INFO!F61),0)))","v":34390.5},{"$f":"IF(AND(COUNTRY_INFO!K61>0,COUNTRY_INFO!K61<4),IF(Z61>0,IF(COUNTRY_INFO!K61=1, AD61/(COUNTRY_INFO!F61*0.33)*100, IF(COUNTRY_INFO!K61=2, AD61/(COUNTRY_INFO!F61*0.5)*100, IF(COUNTRY_INFO!K61=3, AD61/COUNTRY_INFO!F61*100))),\"-\"),0)","v":100},{"$f":"IF(COUNTRY_INFO!K61=2,IF(COUNTRY_INFO!G61*0.2>MAX('T1'!N61,'T2'!L61),MAX('T1'!N61,'T2'!L61),COUNTRY_INFO!G61*0.2),IF(COUNTRY_INFO!K61=3,IF(COUNTRY_INFO!G61>MAX('T1'!N61,'T2'!L61),MAX('T1'!N61,'T2'!L61),COUNTRY_INFO!G61),0))","v":0},{"$f":"IF(AND(COUNTRY_INFO!K61>0,COUNTRY_INFO!K61<4),IF(Z61>0,IF(COUNTRY_INFO!K61=1, 0, IF(COUNTRY_INFO!K61=2, AF61/(COUNTRY_INFO!G61*0.2)*100, IF(COUNTRY_INFO!K61=3, AF61/COUNTRY_INFO!G61*100))),\"-\"),0)","v":0},34390.5,{"$f":"IF(AND(COUNTRY_INFO!K61>0,COUNTRY_INFO!K61<4), IF(AC61/Z61*100<>0, IF(AH61/Z61*100>100,100,AH61/Z61*100), \"-\"),0)","v":59.929737369019961},null,{"$f":"IF(AND(D61<>0, D61<>\"Inconnu\",D61<>\"Interrompu\",D61<>\"Non requis\"),D61/COUNTRY_INFO!D61, 0)","v":0},{"$f":"IF(AND(J61<>0,J61<>\"Inconnu\",J61<>\"Interrompu\",J61<>\"Non requis\"),J61/COUNTRY_INFO!D61, 0)","v":0},{"$f":"IF(AND(P61<>0,P61<>\"Inconnu\",P61<>\"Non requis\"),P61/(COUNTRY_INFO!E61+COUNTRY_INFO!F61), 0)","v":0},{"$f":"IF(AND(Z61<>0,Z61<>\"Inconnu\",Z61<>\"Non requis\"),IF(COUNTRY_INFO!K61=1,1,IF(COUNTRY_INFO!K61=2,0.5*COUNTRY_INFO!F61/(0.5*COUNTRY_INFO!F61+0.2*COUNTRY_INFO!G61),IF(COUNTRY_INFO!K61=3,COUNTRY_INFO!F61/(COUNTRY_INFO!F61+COUNTRY_INFO!G61)))),0)","v":0.59929737369019964},{"$f":"IF(AND(Z61<>0,Z61<>\"Inconnu\",Z61<>\"Non requis\"),IF(COUNTRY_INFO!K61=1,0,IF(COUNTRY_INFO!K61=2,0.2*COUNTRY_INFO!G61/(0.5*COUNTRY_INFO!F61+0.2*COUNTRY_INFO!G61),IF(COUNTRY_INFO!K61=3,COUNTRY_INFO!G61/(COUNTRY_INFO!F61+COUNTRY_INFO!G61)))),0)","v":0.40070262630980036},{"$f":"MAX(COUNTRY_INFO!D61*AK61*PROFILE!$G$7,COUNTRY_INFO!D61*AL61*PROFILE!$G$7)","v":0},{"$f":"MAX(COUNTRY_INFO!D61*AK61*PROFILE!$G$8,COUNTRY_INFO!D61*AL61*PROFILE!$G$8,COUNTRY_INFO!D61*AM61*PROFILE!$G$8)","v":0},{"$f":"MAX(COUNTRY_INFO!D61*AK61*PROFILE!$G$9,COUNTRY_INFO!D61*AL61*PROFILE!$G$9,COUNTRY_INFO!D61*AM61*PROFILE!$G$9,IF(AND(DISTRICT!Z61<>\"Inconnu\",Z61<>\"Non requis\"),COUNTRY_INFO!O61*DISTRICT!AN61,0))","v":34390.5},{"$f":"MAX(COUNTRY_INFO!D61*AK61*PROFILE!$G$10,COUNTRY_INFO!D61*AL61*PROFILE!$G$10,IF(AND(DISTRICT!Z61<>\"Inconnu\",Z61<>\"Non requis\"),COUNTRY_INFO!O61*DISTRICT!AO61,0))","v":22994.2},57384.7,"Y",{"$f":"MAX('MDA2'!J61,'T1'!L61,'T2'!J61,T3_R1!K61,T3_R2!K61)","v":0},{"$f":"MAX('MDA1'!K61,'MDA2'!K61,'MDA3'!I61,'MDA3'!L61,'T1'!M61,'T2'!K61,T3_R1!L61,T3_R2!L61)","v":70330},{"$f":"MAX('MDA1'!L61,'MDA2'!L61,'MDA3'!J61,'MDA3'!M61,'T1'!N61,'T2'!L61,T3_R1!M61,T3_R2!M61)","v":0},70330,{"$f":"MAX('MDA2'!J61,T61)","v":0},{"$f":"MAX('MDA1'!K61,'MDA2'!K61,'MDA3'!I61,'MDA3'!L61,V61,AD61)","v":34390.5},{"$f":"MAX('MDA1'!L61,'MDA2'!L61,'MDA3'!J61,'MDA3'!M61,AF61)","v":0},34390.5,59.929737369019961]
[{"$f":"IF(COUNTRY_INFO!A62=0,\" \",COUNTRY_INFO!A62)","v":"Burkina Faso"},{"$f":"IF(COUNTRY_INFO!B62=0,\" \",COUNTRY_INFO!B62)","v":"Nord"},{"$f":"IF(COUNTRY_INFO!C62=0,\" \",COUNTRY_INFO!C62)","v":"Ouahigouya"},{"$f":"COUNTRY_INFO!L62","v":"Interrompu"},null,null,{"$f":"MAX('MDA1'!M62,'MDA2'!M62)","v":0},{"$f":"IF(AND(COUNTRY_INFO!H62>0,COUNTRY_INFO!H62<4),IF(D62>MAX('MDA1'!M62,'MDA2'!M62),MAX('MDA1'!M62,'MDA2'!M62),D62),0)","v":0},{"$f":"IF(AND(COUNTRY_INFO!H62>0,COUNTRY_INFO!H62<4), IF(G62/D62*100<>0, IF(G62/D62*100>100,100,G62/D62*100), \"-\"),0)","v":0},{"$f":"COUNTRY_INFO!M62","v":0},null,null,{"$f":"MAX('MDA1'!M62,MAX('MDA3'!I62,'MDA3'!L62)+MAX('MDA3'!J62,'MDA3'!M62))","v":0},{"$f":"IF(AND(COUNTRY_INFO!I62>0,COUNTRY_INFO!I62<4),IF(J62>MAX('MDA1'!M62,MAX('MDA3'!I62,'MDA3'!L62)+MAX('MDA3'!J62,'MDA3'!M62)),MAX('MDA1'!M62,MAX('MDA3'!I62,'MDA3'!L62)+MAX('MDA3'!J62,'MDA3'!M62)),J62),0)","v":0},{"$f":"IF(AND(COUNTRY_INFO!I62>0,COUNTRY_INFO!I62<4), IF(M62/J62*100<>0, IF(M62/J62*100>100,100,M62/J62*100), \"-\"),0)","v":0},{"$f":"COUNTRY_INFO!N62","v":0},53496,55819,{"$f":"SUM(MAX('MDA2'!J62, 'T1'!L62, MAX(T3_R1!K62, T3_R2!K62)), MAX('MDA1'!K62, 'MDA2'!K62, 'T1'!M62, MAX(T3_R1!L62, T3_R2!L62)), MAX('MDA1'!L62, 'MDA2'!L62, 'T1'!N62, MAX(T3_R1!M62, T3_R2!M62)))","v":110349},{"$f":"IF(AND(COUNTRY_INFO!J62>1,COUNTRY_INFO!J62<4),IF(COUNTRY_INFO!E62>MAX('MDA2'!J62,'T1'!L62,MAX(T3_R1!K62,T3_R2!K62)),MAX('MDA2'!J62,'T1'!L62,MAX(T3_R1!K62,T3_R2!K62)),COUNTRY_INFO!E62),0)","v":0},{"$f":"IF(AND(COUNTRY_INFO!J62>1,COUNTRY_INFO!J62<4), IF(T62/COUNTRY_INFO!E62*100<>0, IF(T62/COUNTRY_INFO!E62*100>100,100,T62/COUNTRY_INFO!E62*100), \"-\"),0)","v":0},{"$f":"IF(AND(COUNTRY_INFO!J62>1,COUNTRY_INFO!J62<4),IF(COUNTRY_INFO!F62>MAX('MDA1'!K62,'MDA2'!K62,'T1'!M62,MAX(T3_R1!L62,T3_R2!L62)),MAX('MDA1'!K62,'MDA2'!K62,'T1'!M62,MAX(T3_R1!L62,T3_R2!L62)),COUNTRY_INFO!F62),0)","v":0},{"$f":"IF(AND(COUNTRY_INFO!J62>1,COUNTRY_INFO!J62<4), IF(V62/COUNTRY_INFO!F62*100<>0, IF(V62/COUNTRY_INFO!F62*100>100,100,V62/COUNTRY_INFO!F62*100), \"-\"),0)","v":0},0,{"$f":"IF(AND(COUNTRY_INFO!J62>1,COUNTRY_INFO!J62<4), IF(S62/P62*100<>0, IF(X62/P62*100>100,100,X62/P62*100), \"-\"),0)","v":0},{"$f":"COUNTRY_INFO!O62","v":86746.9},53943,56406,{"$f":"MAX('T1'!L62,'T2'!J62)+MAX('T1'!M62,'T2'!K62)+MAX('T1'!N62,'T2'!L62)","v":110349},{"$f":"IF(COUNTRY_INFO!K62=1,IF(COUNTRY_INFO!F62*0.33>MAX('T1'!M62,'T2'!K62),MAX('T1'!M62,'T2'!K62),COUNTRY_INFO!F62*0.33),IF(COUNTRY_INFO!K62=2,IF(COUNTRY_INFO!F62*0.5>MAX('T1'!M62,'T2'!K62),MAX('T1'!M62,'T2'!K62),COUNTRY_INFO!F62*0.5),IF(COUNTRY_INFO!K62=3,IF(COUNTRY_INFO!F62>MAX('T1'!M62,'T2'!K62),MAX('T1'!M62,'T2'!K62),COUNTRY_INFO!F62),0)))","v":50895.5},{"$f":"IF(AND(COUNTRY_INFO!K62>0,COUNTRY_INFO!K62<4),IF(Z62>0,IF(COUNTRY_INFO!K62=1, AD62/(COUNTRY_INFO!F62*0.33)*100, IF(COUNTRY_INFO!K62=2, AD62/(COUNTRY_INFO!F62*0.5)*100, IF(COUNTRY_INFO!K62=3, AD62/COUNTRY_INFO!F62*100))),\"-\"),0)","v":100},{"$f":"IF(COUNTRY_INFO!K62=2,IF(COUNTRY_INFO!G62*0.2>MAX('T1'!N62,'T2'!L62),MAX('T1'!N62,'T2'!L62),COUNTRY_INFO!G62*0.2),IF(COUNTRY_INFO!K62=3,IF(COUNTRY_INFO!G62>MAX('T1'!N62,'T2'!L62),MAX('T1'!N62,'T2'!L62),COUNTRY_INFO!G62),0))","v":0},{"$f":"IF(AND(COUNTRY_INFO!K62>0,COUNTRY_INFO!K62<4),IF(Z62>0,IF(COUNTRY_INFO!K62=1, 0, IF(COUNTRY_INFO!K62=2, AF62/(COUNTRY_INFO!G62*0.2)*100, IF(COUNTRY_INFO!K62=3, AF62/COUNTRY_INFO!G62*100))),\"-\"),0)","v":0},50895.5,{"$f":"IF(AND(COUNTRY_INFO!K62>0,COUNTRY_INFO!K62<4), IF(AC62/Z62*100<>0, IF(AH62/Z62*100>100,100,AH62/Z62*100), \"-\"),0)","v":58.671260875028388},null,{"$f":"IF(AND(D62<>0, D62<>\"Inconnu\",D62<>\"Interrompu\",D62<>\"Non requis\"),D62/COUNTRY_INFO!D62, 0)","v":0},{"$f":"IF(AND(J62<>0,J62<>\"Inconnu\",J62<>\"Interrompu\",J62<>\"Non requis\"),J62/COUNTRY_INFO!D62, 0)","v":0},{"$f":"IF(AND(P62<>0,P62<>\"Inconnu\",P62<>\"Non requis\"),P62/(COUNTRY_INFO!E62+COUNTRY_INFO!F62), 0)","v":0},{"$f":"IF(AND(Z62<>0,Z62<>\"Inconnu\",Z62<>\"Non requis\"),IF(COUNTRY_INFO!K62=1,1,IF(COUNTRY_INFO!K62=2,0.5*COUNTRY_INFO!F62/(0.5*COUNTRY_INFO!F62+0.2*COUNTRY_INFO!G62),IF(COUNTRY_INFO!K62=3,COUNTRY_INFO!F62/(COUNTRY_INFO!F62+COUNTRY_INFO!G62)))),0)","v":0.58671260875028386},{"$f":"IF(AND(Z62<>0,Z62<>\"Inconnu\",Z62<>\"Non requis\"),IF(COUNTRY_INFO!K62=1,0,IF(COUNTRY_INFO!K62=2,0.2*COUNTRY_INFO!G62/(0.5*COUNTRY_INFO!F62+0.2*COUNTRY_INFO!G62),IF(COUNTRY_INFO!K62=3,COUNTRY_INFO!G62/(COUNTRY_INFO!F62+COUNTRY_INFO!G62)))),0)","v":0.4132873912497162},{"$f":"MAX(COUNTRY_INFO!D62*AK62*PROFILE!$G$7,COUNTRY_INFO!D62*AL62*PROFILE!$G$7)","v":0},{"$f":"MAX(COUNTRY_INFO!D62*AK62*PROFILE!$G$8,COUNTRY_INFO!D62*AL62*PROFILE!$G$8,COUNTRY_INFO!D62*AM62*PROFILE!$G$8)","v":0},{"$f":"MAX(COUNTRY_INFO!D62*AK62*PROFILE!$G$9,COUNTRY_INFO!D62*AL62*PROFILE!$G$9,COUNTRY_INFO!D62*AM62*PROFILE!$G$9,IF(AND(DISTRICT!Z62<>\"Inconnu\",Z62<>\"Non requis\"),COUNTRY_INFO!O62*DISTRICT!AN62,0))","v":50895.499999999993},{"$f":"MAX(COUNTRY_INFO!D62*AK62*PROFILE!$G$10,COUNTRY_INFO!D62*AL62*PROFILE!$G$10,IF(AND(DISTRICT!Z62<>\"Inconnu\",Z62<>\"Non requis\"),COUNTRY_INFO!O62*DISTRICT!AO62,0))","v":35851.4},86746.9,"Y",{"$f":"MAX('MDA2'!J62,'T1'!L62,'T2'!J62,T3_R1!K62,T3_R2!K62)","v":0},{"$f":"MAX('MDA1'!K62,'MDA2'!K62,'MDA3'!I62,'MDA3'!L62,'T1'!M62,'T2'!K62,T3_R1!L62,T3_R2!L62)","v":110349},{"$f":"MAX('MDA1'!L62,'MDA2'!L62,'MDA3'!J62,'MDA3'!M62,'T1'!N62,'T2'!L62,T3_R1!M62,T3_R2!M62)","v":0},110349,{"$f":"MAX('MDA2'!J62,T62)","v":0},{"$f":"MAX('MDA1'!K62,'MDA2'!K62,'MDA3'!I62,'MDA3'!L62,V62,AD62)","v":50895.5},{"$f":"MAX('MDA1'!L62,'MDA2'!L62,'MDA3'!J62,'MDA3'!M62,AF62)","v":0},50895.5,58.671260875028388]
[{"$f":"IF(COUNTRY_INFO!A63=0,\" \",COUNTRY_INFO!A63)","v":"Burkina Faso"},{"$f":"IF(COUNTRY_INFO!B63=0,\" \",COUNTRY_INFO!B63)","v":"Nord"},{"$f":"IF(COUNTRY_INFO!C63=0,\" \",COUNTRY_INFO!C63)","v":"Seguenega"},{"$f":"COUNTRY_INFO!L63","v":"Interrompu"},null,null,{"$f":"MAX('MDA1'!M63,'MDA2'!M63)","v":0},{"$f":"IF(AND(COUNTRY_INFO!H63>0,COUNTRY_INFO!H63<4),IF(D63>MAX('MDA1'!M63,'MDA2'!M63),MAX('MDA1'!M63,'MDA2'!M63),D63),0)","v":0},{"$f":"IF(AND(COUNTRY_INFO!H63>0,COUNTRY_INFO!H63<4), IF(G63/D63*100<>0, IF(G63/D63*100>100,100,G63/D63*100), \"-\"),0)","v":0},{"$f":"COUNTRY_INFO!M63","v":0},null,null,{"$f":"MAX('MDA1'!M63,MAX('MDA3'!I63,'MDA3'!L63)+MAX('MDA3'!J63,'MDA3'!M63))","v":0},{"$f":"IF(AND(COUNTRY_INFO!I63>0,COUNTRY_INFO!I63<4),IF(J63>MAX('MDA1'!M63,MAX('MDA3'!I63,'MDA3'!L63)+MAX('MDA3'!J63,'MDA3'!M63)),MAX('MDA1'!M63,MAX('MDA3'!I63,'MDA3'!L63)+MAX('MDA3'!J63,'MDA3'!M63)),J63),0)","v":0},{"$f":"IF(AND(COUNTRY_INFO!I63>0,COUNTRY_INFO!I63<4), IF(M63/J63*100<>0, IF(M63/J63*100>100,100,M63/J63*100), \"-\"),0)","v":0},{"$f":"COUNTRY_INFO!N63","v":0},36032,36235,{"$f":"SUM(MAX('MDA2'!J63, 'T1'!L63, MAX(T3_R1!K63, T3_R2!K63)), MAX('MDA1'!K63, 'MDA2'!K63, 'T1'!M63, MAX(T3_R1!L63, T3_R2!L63)), MAX('MDA1'!L63, 'MDA2'!L63, 'T1'!N63, MAX(T3_R1!M63, T3_R2!M63)))","v":72194},{"$f":"IF(AND(COUNTRY_INFO!J63>1,COUNTRY_INFO!J63<4),IF(COUNTRY_INFO!E63>MAX('MDA2'!J63,'T1'!L63,MAX(T3_R1!K63,T3_R2!K63)),MAX('MDA2'!J63,'T1'!L63,MAX(T3_R1!K63,T3_R2!K63)),COUNTRY_INFO!E63),0)","v":0},{"$f":"IF(AND(COUNTRY_INFO!J63>1,COUNTRY_INFO!J63<4), IF(T63/COUNTRY_INFO!E63*100<>0, IF(T63/COUNTRY_INFO!E63*100>100,100,T63/COUNTRY_INFO!E63*100), \"-\"),0)","v":0},{"$f":"IF(AND(COUNTRY_INFO!J63>1,COUNTRY_INFO!J63<4),IF(COUNTRY_INFO!F63>MAX('MDA1'!K63,'MDA2'!K63,'T1'!M63,MAX(T3_R1!L63,T3_R2!L63)),MAX('MDA1'!K63,'MDA2'!K63,'T1'!M63,MAX(T3_R1!L63,T3_R2!L63)),COUNTRY_INFO!F63),0)","v":0},{"$f":"IF(AND(COUNTRY_INFO!J63>1,COUNTRY_INFO!J63<4), IF(V63/COUNTRY_INFO!F63*100<>0, IF(V63/COUNTRY_INFO!F63*100>100,100,V63/COUNTRY_INFO!F63*100), \"-\"),0)","v":0},0,{"$f":"IF(AND(COUNTRY_INFO!J63>1,COUNTRY_INFO!J63<4), IF(S63/P63*100<>0, IF(X63/P63*100>100,100,X63/P63*100), \"-\"),0)","v":0},{"$f":"COUNTRY_INFO!O63","v":54857.4},36023,36171,{"$f":"MAX('T1'!L63,'T2'!J63)+MAX('T1'!M63,'T2'!K63)+MAX('T1'!N63,'T2'!L63)","v":72194},{"$f":"IF(COUNTRY_INFO!K63=1,IF(COUNTRY_INFO!F63*0.33>MAX('T1'!M63,'T2'!K63),MAX('T1'!M63,'T2'!K63),COUNTRY_INFO!F63*0.33),IF(COUNTRY_INFO!K63=2,IF(COUNTRY_INFO!F63*0.5>MAX('T1'!M63,'T2'!K63),MAX('T1'!M63,'T2'!K63),COUNTRY_INFO!F63*0.5),IF(COUNTRY_INFO!K63=3,IF(COUNTRY_INFO!F63>MAX('T1'!M63,'T2'!K63),MAX('T1'!M63,'T2'!K63),COUNTRY_INFO!F63),0)))","v":33558},{"$f":"IF(AND(COUNTRY_INFO!K63>0,COUNTRY_INFO!K63<4),IF(Z63>0,IF(COUNTRY_INFO!K63=1, AD63/(COUNTRY_INFO!F63*0.33)*100, IF(COUNTRY_INFO!K63=2, AD63/(COUNTRY_INFO!F63*0.5)*100, IF(COUNTRY_INFO!K63=3, AD63/COUNTRY_INFO!F63*100))),\"-\"),0)","v":100},{"$f":"IF(COUNTRY_INFO!K63=2,IF(COUNTRY_INFO!G63*0.2>MAX('T1'!N63,'T2'!L63),MAX('T1'!N63,'T2'!L63),COUNTRY_INFO!G63*0.2),IF(COUNTRY_INFO!K63=3,IF(COUNTRY_INFO!G63>MAX('T1'!N63,'T2'!L63),MAX('T1'!N63,'T2'!L63),COUNTRY_INFO!G63),0))","v":0},{"$f":"IF(AND(COUNTRY_INFO!K63>0,COUNTRY_INFO!K63<4),IF(Z63>0,IF(COUNTRY_INFO!K63=1, 0, IF(COUNTRY_INFO!K63=2, AF63/(COUNTRY_INFO!G63*0.2)*100, IF(COUNTRY_INFO!K63=3, AF63/COUNTRY_INFO!G63*100))),\"-\"),0)","v":0},33558,{"$f":"IF(AND(COUNTRY_INFO!K63>0,COUNTRY_INFO!K63<4), IF(AC63/Z63*100<>0, IF(AH63/Z63*100>100,100,AH63/Z63*100), \"-\"),0)","v":61.173150750855854},null,{"$f":"IF(AND(D63<>0, D63<>\"Inconnu\",D63<>\"Interrompu\",D63<>\"Non requis\"),D63/COUNTRY_INFO!D63, 0)","v":0},{"$f":"IF(AND(J63<>0,J63<>\"Inconnu\",J63<>\"Interrompu\",J63<>\"Non requis\"),J63/COUNTRY_INFO!D63, 0)","v":0},{"$f":"IF(AND(P63<>0,P63<>\"Inconnu\",P63<>\"Non requis\"),P63/(COUNTRY_INFO!E63+COUNTRY_INFO!F63), 0)","v":0},{"$f":"IF(AND(Z63<>0,Z63<>\"Inconnu\",Z63<>\"Non requis\"),IF(COUNTRY_INFO!K63=1,1,IF(COUNTRY_INFO!K63=2,0.5*COUNTRY_INFO!F63/(0.5*COUNTRY_INFO!F63+0.2*COUNTRY_INFO!G63),IF(COUNTRY_INFO!K63=3,COUNTRY_INFO!F63/(COUNTRY_INFO!F63+COUNTRY_INFO!G63)))),0)","v":0.61173150750855854},{"$f":"IF(AND(Z63<>0,Z63<>\"Inconnu\",Z63<>\"Non requis\"),IF(COUNTRY_INFO!K63=1,0,IF(COUNTRY_INFO!K63=2,0.2*COUNTRY_INFO!G63/(0.5*COUNTRY_INFO!F63+0.2*COUNTRY_INFO!G63),IF(COUNTRY_INFO!K63=3,COUNTRY_INFO!G63/(COUNTRY_INFO!F63+COUNTRY_INFO!G63)))),0)","v":0.38826849249144146},{"$f":"MAX(COUNTRY_INFO!D63*AK63*PROFILE!$G$7,COUNTRY_INFO!D63*AL63*PROFILE!$G$7)","v":0},{"$f":"MAX(COUNTRY_INFO!D63*AK63*PROFILE!$G$8,COUNTRY_INFO!D63*AL63*PROFILE!$G$8,COUNTRY_INFO!D63*AM63*PROFILE!$G$8)","v":0},{"$f":"MAX(COUNTRY_INFO!D63*AK63*PROFILE!$G$9,COUNTRY_INFO!D63*AL63*PROFILE!$G$9,COUNTRY_INFO!D63*AM63*PROFILE!$G$9,IF(AND(DISTRICT!Z63<>\"Inconnu\",Z63<>\"Non requis\"),COUNTRY_INFO!O63*DISTRICT!AN63,0))","v":33558},{"$f":"MAX(COUNTRY_INFO!D63*AK63*PROFILE!$G$10,COUNTRY_INFO!D63*AL63*PROFILE!$G$10,IF(AND(DISTRICT!Z63<>\"Inconnu\",Z63<>\"Non requis\"),COUNTRY_INFO!O63*DISTRICT!AO63,0))","v":21299.4},54857.4,"Y",{"$f":"MAX('MDA2'!J63,'T1'!L63,'T2'!J63,T3_R1!K63,T3_R2!K63)","v":0},{"$f":"MAX('MDA1'!K63,'MDA2'!K63,'MDA3'!I63,'MDA3'!L63,'T1'!M63,'T2'!K63,T3_R1!L63,T3_R2!L63)","v":72194},{"$f":"MAX('MDA1'!L63,'MDA2'!L63,'MDA3'!J63,'MDA3'!M63,'T1'!N63,'T2'!L63,T3_R1!M63,T3_R2!M63)","v":0},72194,{"$f":"MAX('MDA2'!J63,T63)","v":0},{"$f":"MAX('MDA1'!K63,'MDA2'!K63,'MDA3'!I63,'MDA3'!L63,V63,AD63)","v":33558},{"$f":"MAX('MDA1'!L63,'MDA2'!L63,'MDA3'!J63,'MDA3'!M63,AF63)","v":0},33558,61.173150750855854]
[{"$f":"IF(COUNTRY_INFO!A64=0,\" \",COUNTRY_INFO!A64)","v":"Burkina Faso"},{"$f":"IF(COUNTRY_INFO!B64=0,\" \",COUNTRY_INFO!B64)","v":"Nord"},{"$f":"IF(COUNTRY_INFO!C64=0,\" \",COUNTRY_INFO!C64)","v":"Thiou"},{"$f":"COUNTRY_INFO!L64","v":"Interrompu"},null,null,{"$f":"MAX('MDA1'!M64,'MDA2'!M64)","v":0},{"$f":"IF(AND(COUNTRY_INFO!H64>0,COUNTRY_INFO!H64<4),IF(D64>MAX('MDA1'!M64,'MDA2'!M64),MAX('MDA1'!M64,'MDA2'!M64),D64),0)","v":0},{"$f":"IF(AND(COUNTRY_INFO!H64>0,COUNTRY_INFO!H64<4), IF(G64/D64*100<>0, IF(G64/D64*100>100,100,G64/D64*100), \"-\"),0)","v":0},{"$f":"COUNTRY_INFO!M64","v":0},null,null,{"$f":"MAX('MDA1'!M64,MAX('MDA3'!I64,'MDA3'!L64)+MAX('MDA3'!J64,'MDA3'!M64))","v":0},{"$f":"IF(AND(COUNTRY_INFO!I64>0,COUNTRY_INFO!I64<4),IF(J64>MAX('MDA1'!M64,MAX('MDA3'!I64,'MDA3'!L64)+MAX('MDA3'!J64,'MDA3'!M64)),MAX('MDA1'!M64,MAX('MDA3'!I64,'MDA3'!L64)+MAX('MDA3'!J64,'MDA3'!M64)),J64),0)","v":0},{"$f":"IF(AND(COUNTRY_INFO!I64>0,COUNTRY_INFO!I64<4), IF(M64/J64*100<>0, IF(M64/J64*100>100,100,M64/J64*100), \"-\"),0)","v":0},{"$f":"COUNTRY_INFO!N64","v":0},27693,28020,{"$f":"SUM(MAX('MDA2'!J64, 'T1'!L64, MAX(T3_R1!K64, T3_R2!K64)), MAX('MDA1'!K64, 'MDA2'!K64, 'T1'!M64, MAX(T3_R1!L64, T3_R2!L64)), MAX('MDA1'!L64, 'MDA2'!L64, 'T1'!N64, MAX(T3_R1!M64, T3_R2!M64)))","v":56726},{"$f":"IF(AND(COUNTRY_INFO!J64>1,COUNTRY_INFO!J64<4),IF(COUNTRY_INFO!E64>MAX('MDA2'!J64,'T1'!L64,MAX(T3_R1!K64,T3_R2!K64)),MAX('MDA2'!J64,'T1'!L64,MAX(T3_R1!K64,T3_R2!K64)),COUNTRY_INFO!E64),0)","v":0},{"$f":"IF(AND(COUNTRY_INFO!J64>1,COUNTRY_INFO!J64<4), IF(T64/COUNTRY_INFO!E64*100<>0, IF(T64/COUNTRY_INFO!E64*100>100,100,T64/COUNTRY_INFO!E64*100), \"-\"),0)","v":0},{"$f":"IF(AND(COUNTRY_INFO!J64>1,COUNTRY_INFO!J64<4),IF(COUNTRY_INFO!F64>MAX('MDA1'!K64,'MDA2'!K64,'T1'!M64,MAX(T3_R1!L64,T3_R2!L64)),MAX('MDA1'!K64,'MDA2'!K64,'T1'!M64,MAX(T3_R1!L64,T3_R2!L64)),COUNTRY_INFO!F64),0)","v":0},{"$f":"IF(AND(COUNTRY_INFO!J64>1,COUNTRY_INFO!J64<4), IF(V64/COUNTRY_INFO!F64*100<>0, IF(V64/COUNTRY_INFO!F64*100>100,100,V64/COUNTRY_INFO!F64*100), \"-\"),0)","v":0},0,{"$f":"IF(AND(COUNTRY_INFO!J64>1,COUNTRY_INFO!J64<4), IF(S64/P64*100<>0, IF(X64/P64*100>100,100,X64/P64*100), \"-\"),0)","v":0},{"$f":"COUNTRY_INFO!O64","v":45052.4},28175,28551,{"$f":"MAX('T1'!L64,'T2'!J64)+MAX('T1'!M64,'T2'!K64)+MAX('T1'!N64,'T2'!L64)","v":56726},{"$f":"IF(COUNTRY_INFO!K64=1,IF(COUNTRY_INFO!F64*0.33>MAX('T1'!M64,'T2'!K64),MAX('T1'!M64,'T2'!K64),COUNTRY_INFO!F64*0.33),IF(COUNTRY_INFO!K64=2,IF(COUNTRY_INFO!F64*0.5>MAX('T1'!M64,'T2'!K64),MAX('T1'!M64,'T2'!K64),COUNTRY_INFO!F64*0.5),IF(COUNTRY_INFO!K64=3,IF(COUNTRY_INFO!F64>MAX('T1'!M64,'T2'!K64),MAX('T1'!M64,'T2'!K64),COUNTRY_INFO!F64),0)))","v":27408},{"$f":"IF(AND(COUNTRY_INFO!K64>0,COUNTRY_INFO!K64<4),IF(Z64>0,IF(COUNTRY_INFO!K64=1, AD64/(COUNTRY_INFO!F64*0.33)*100, IF(COUNTRY_INFO!K64=2, AD64/(COUNTRY_INFO!F64*0.5)*100, IF(COUNTRY_INFO!K64=3, AD64/COUNTRY_INFO!F64*100))),\"-\"),0)","v":100},{"$f":"IF(COUNTRY_INFO!K64=2,IF(COUNTRY_INFO!G64*0.2>MAX('T1'!N64,'T2'!L64),MAX('T1'!N64,'T2'!L64),COUNTRY_INFO!G64*0.2),IF(COUNTRY_INFO!K64=3,IF(COUNTRY_INFO!G64>MAX('T1'!N64,'T2'!L64),MAX('T1'!N64,'T2'!L64),COUNTRY_INFO!G64),0))","v":0},{"$f":"IF(AND(COUNTRY_INFO!K64>0,COUNTRY_INFO!K64<4),IF(Z64>0,IF(COUNTRY_INFO!K64=1, 0, IF(COUNTRY_INFO!K64=2, AF64/(COUNTRY_INFO!G64*0.2)*100, IF(COUNTRY_INFO!K64=3, AF64/COUNTRY_INFO!G64*100))),\"-\"),0)","v":0},27408,{"$f":"IF(AND(COUNTRY_INFO!K64>0,COUNTRY_INFO!K64<4), IF(AC64/Z64*100<>0, IF(AH64/Z64*100>100,100,AH64/Z64*100), \"-\"),0)","v":60.83582672621214},null,{"$f":"IF(AND(D64<>0, D64<>\"Inconnu\",D64<>\"Interrompu\",D64<>\"Non requis\"),D64/COUNTRY_INFO!D64, 0)","v":0},{"$f":"IF(AND(J64<>0,J64<>\"Inconnu\",J64<>\"Interrompu\",J64<>\"Non requis\"),J64/COUNTRY_INFO!D64, 0)","v":0},{"$f":"IF(AND(P64<>0,P64<>\"Inconnu\",P64<>\"Non requis\"),P64/(COUNTRY_INFO!E64+COUNTRY_INFO!F64), 0)","v":0},{"$f":"IF(AND(Z64<>0,Z64<>\"Inconnu\",Z64<>\"Non requis\"),IF(COUNTRY_INFO!K64=1,1,IF(COUNTRY_INFO!K64=2,0.5*COUNTRY_INFO!F64/(0.5*COUNTRY_INFO!F64+0.2*COUNTRY_INFO!G64),IF(COUNTRY_INFO!K64=3,COUNTRY_INFO!F64/(COUNTRY_INFO!F64+COUNTRY_INFO!G64)))),0)","v":0.60835826726212139},{"$f":"IF(AND(Z64<>0,Z64<>\"Inconnu\",Z64<>\"Non requis\"),IF(COUNTRY_INFO!K64=1,0,IF(COUNTRY_INFO!K64=2,0.2*COUNTRY_INFO!G64/(0.5*COUNTRY_INFO!F64+0.2*COUNTRY_INFO!G64),IF(COUNTRY_INFO!K64=3,COUNTRY_INFO!G64/(COUNTRY_INFO!F64+COUNTRY_INFO!G64)))),0)","v":0.39164173273787856},{"$f":"MAX(COUNTRY_INFO!D64*AK64*PROFILE!$G$7,COUNTRY_INFO!D64*AL64*PROFILE!$G$7)","v":0},{"$f":"MAX(COUNTRY_INFO!D64*AK64*PROFILE!$G$8,COUNTRY_INFO!D64*AL64*PROFILE!$G$8,COUNTRY_INFO!D64*AM64*PROFILE!$G$8)","v":0},{"$f":"MAX(COUNTRY_INFO!D64*AK64*PROFILE!$G$9,COUNTRY_INFO!D64*AL64*PROFILE!$G$9,COUNTRY_INFO!D64*AM64*PROFILE!$G$9,IF(AND(DISTRICT!Z64<>\"Inconnu\",Z64<>\"Non requis\"),COUNTRY_INFO!O64*DISTRICT!AN64,0))","v":27408},{"$f":"MAX(COUNTRY_INFO!D64*AK64*PROFILE!$G$10,COUNTRY_INFO!D64*AL64*PROFILE!$G$10,IF(AND(DISTRICT!Z64<>\"Inconnu\",Z64<>\"Non requis\"),COUNTRY_INFO!O64*DISTRICT!AO64,0))","v":17644.400000000001},45052.4,"Y",{"$f":"MAX('MDA2'!J64,'T1'!L64,'T2'!J64,T3_R1!K64,T3_R2!K64)","v":0},{"$f":"MAX('MDA1'!K64,'MDA2'!K64,'MDA3'!I64,'MDA3'!L64,'T1'!M64,'T2'!K64,T3_R1!L64,T3_R2!L64)","v":56726},{"$f":"MAX('MDA1'!L64,'MDA2'!L64,'MDA3'!J64,'MDA3'!M64,'T1'!N64,'T2'!L64,T3_R1!M64,T3_R2!M64)","v":0},56726,{"$f":"MAX('MDA2'!J64,T64)","v":0},{"$f":"MAX('MDA1'!K64,'MDA2'!K64,'MDA3'!I64,'MDA3'!L64,V64,AD64)","v":27408},{"$f":"MAX('MDA1'!L64,'MDA2'!L64,'MDA3'!J64,'MDA3'!M64,AF64)","v":0},27408,60.83582672621214]
[{"$f":"IF(COUNTRY_INFO!A65=0,\" \",COUNTRY_INFO!A65)","v":"Burkina Faso"},{"$f":"IF(COUNTRY_INFO!B65=0,\" \",COUNTRY_INFO!B65)","v":"Nord"},{"$f":"IF(COUNTRY_INFO!C65=0,\" \",COUNTRY_INFO!C65)","v":"Titao"},{"$f":"COUNTRY_INFO!L65","v":"Interrompu"},null,null,{"$f":"MAX('MDA1'!M65,'MDA2'!M65)","v":0},{"$f":"IF(AND(COUNTRY_INFO!H65>0,COUNTRY_INFO!H65<4),IF(D65>MAX('MDA1'!M65,'MDA2'!M65),MAX('MDA1'!M65,'MDA2'!M65),D65),0)","v":0},{"$f":"IF(AND(COUNTRY_INFO!H65>0,COUNTRY_INFO!H65<4), IF(G65/D65*100<>0, IF(G65/D65*100>100,100,G65/D65*100), \"-\"),0)","v":0},{"$f":"COUNTRY_INFO!M65","v":0},null,null,{"$f":"MAX('MDA1'!M65,MAX('MDA3'!I65,'MDA3'!L65)+MAX('MDA3'!J65,'MDA3'!M65))","v":0},{"$f":"IF(AND(COUNTRY_INFO!I65>0,COUNTRY_INFO!I65<4),IF(J65>MAX('MDA1'!M65,MAX('MDA3'!I65,'MDA3'!L65)+MAX('MDA3'!J65,'MDA3'!M65)),MAX('MDA1'!M65,MAX('MDA3'!I65,'MDA3'!L65)+MAX('MDA3'!J65,'MDA3'!M65)),J65),0)","v":0},{"$f":"IF(AND(COUNTRY_INFO!I65>0,COUNTRY_INFO!I65<4), IF(M65/J65*100<>0, IF(M65/J65*100>100,100,M65/J65*100), \"-\"),0)","v":0},{"$f":"COUNTRY_INFO!N65","v":0},28361,28750,{"$f":"SUM(MAX('MDA2'!J65, 'T1'!L65, MAX(T3_R1!K65, T3_R2!K65)), MAX('MDA1'!K65, 'MDA2'!K65, 'T1'!M65, MAX(T3_R1!L65, T3_R2!L65)), MAX('MDA1'!L65, 'MDA2'!L65, 'T1'!N65, MAX(T3_R1!M65, T3_R2!M65)))","v":60345},{"$f":"IF(AND(COUNTRY_INFO!J65>1,COUNTRY_INFO!J65<4),IF(COUNTRY_INFO!E65>MAX('MDA2'!J65,'T1'!L65,MAX(T3_R1!K65,T3_R2!K65)),MAX('MDA2'!J65,'T1'!L65,MAX(T3_R1!K65,T3_R2!K65)),COUNTRY_INFO!E65),0)","v":0},{"$f":"IF(AND(COUNTRY_INFO!J65>1,COUNTRY_INFO!J65<4), IF(T65/COUNTRY_INFO!E65*100<>0, IF(T65/COUNTRY_INFO!E65*100>100,100,T65/COUNTRY_INFO!E65*100), \"-\"),0)","v":0},{"$f":"IF(AND(COUNTRY_INFO!J65>1,COUNTRY_INFO!J65<4),IF(COUNTRY_INFO!F65>MAX('MDA1'!K65,'MDA2'!K65,'T1'!M65,MAX(T3_R1!L65,T3_R2!L65)),MAX('MDA1'!K65,'MDA2'!K65,'T1'!M65,MAX(T3_R1!L65,T3_R2!L65)),COUNTRY_INFO!F65),0)","v":0},{"$f":"IF(AND(COUNTRY_INFO!J65>1,COUNTRY_INFO!J65<4), IF(V65/COUNTRY_INFO!F65*100<>0, IF(V65/COUNTRY_INFO!F65*100>100,100,V65/COUNTRY_INFO!F65*100), \"-\"),0)","v":0},0,{"$f":"IF(AND(COUNTRY_INFO!J65>1,COUNTRY_INFO!J65<4), IF(S65/P65*100<>0, IF(X65/P65*100>100,100,X65/P65*100), \"-\"),0)","v":0},{"$f":"COUNTRY_INFO!O65","v":48855.4},29916,30429,{"$f":"MAX('T1'!L65,'T2'!J65)+MAX('T1'!M65,'T2'!K65)+MAX('T1'!N65,'T2'!L65)","v":60345},{"$f":"IF(COUNTRY_INFO!K65=1,IF(COUNTRY_INFO!F65*0.33>MAX('T1'!M65,'T2'!K65),MAX('T1'!M65,'T2'!K65),COUNTRY_INFO!F65*0.33),IF(COUNTRY_INFO!K65=2,IF(COUNTRY_INFO!F65*0.5>MAX('T1'!M65,'T2'!K65),MAX('T1'!M65,'T2'!K65),COUNTRY_INFO!F65*0.5),IF(COUNTRY_INFO!K65=3,IF(COUNTRY_INFO!F65>MAX('T1'!M65,'T2'!K65),MAX('T1'!M65,'T2'!K65),COUNTRY_INFO!F65),0)))","v":29278},{"$f":"IF(AND(COUNTRY_INFO!K65>0,COUNTRY_INFO!K65<4),IF(Z65>0,IF(COUNTRY_INFO!K65=1, AD65/(COUNTRY_INFO!F65*0.33)*100, IF(COUNTRY_INFO!K65=2, AD65/(COUNTRY_INFO!F65*0.5)*100, IF(COUNTRY_INFO!K65=3, AD65/COUNTRY_INFO!F65*100))),\"-\"),0)","v":100},{"$f":"IF(COUNTRY_INFO!K65=2,IF(COUNTRY_INFO!G65*0.2>MAX('T1'!N65,'T2'!L65),MAX('T1'!N65,'T2'!L65),COUNTRY_INFO!G65*0.2),IF(COUNTRY_INFO!K65=3,IF(COUNTRY_INFO!G65>MAX('T1'!N65,'T2'!L65),MAX('T1'!N65,'T2'!L65),COUNTRY_INFO!G65),0))","v":0},{"$f":"IF(AND(COUNTRY_INFO!K65>0,COUNTRY_INFO!K65<4),IF(Z65>0,IF(COUNTRY_INFO!K65=1, 0, IF(COUNTRY_INFO!K65=2, AF65/(COUNTRY_INFO!G65*0.2)*100, IF(COUNTRY_INFO!K65=3, AF65/COUNTRY_INFO!G65*100))),\"-\"),0)","v":0},29278,{"$f":"IF(AND(COUNTRY_INFO!K65>0,COUNTRY_INFO!K65<4), IF(AC65/Z65*100<>0, IF(AH65/Z65*100>100,100,AH65/Z65*100), \"-\"),0)","v":59.927868771926953},null,{"$f":"IF(AND(D65<>0, D65<>\"Inconnu\",D65<>\"Interrompu\",D65<>\"Non requis\"),D65/COUNTRY_INFO!D65, 0)","v":0},{"$f":"IF(AND(J65<>0,J65<>\"Inconnu\",J65<>\"Interrompu\",J65<>\"Non requis\"),J65/COUNTRY_INFO!D65, 0)","v":0},{"$f":"IF(AND(P65<>0,P65<>\"Inconnu\",P65<>\"Non requis\"),P65/(COUNTRY_INFO!E65+COUNTRY_INFO!F65), 0)","v":0},{"$f":"IF(AND(Z65<>0,Z65<>\"Inconnu\",Z65<>\"Non requis\"),IF(COUNTRY_INFO!K65=1,1,IF(COUNTRY_INFO!K65=2,0.5*COUNTRY_INFO!F65/(0.5*COUNTRY_INFO!F65+0.2*COUNTRY_INFO!G65),IF(COUNTRY_INFO!K65=3,COUNTRY_INFO!F65/(COUNTRY_INFO!F65+COUNTRY_INFO!G65)))),0)","v":0.59927868771926951},{"$f":"IF(AND(Z65<>0,Z65<>\"Inconnu\",Z65<>\"Non requis\"),IF(COUNTRY_INFO!K65=1,0,IF(COUNTRY_INFO!K65=2,0.2*COUNTRY_INFO!G65/(0.5*COUNTRY_INFO!F65+0.2*COUNTRY_INFO!G65),IF(COUNTRY_INFO!K65=3,COUNTRY_INFO!G65/(COUNTRY_INFO!F65+COUNTRY_INFO!G65)))),0)","v":0.40072131228073049},{"$f":"MAX(COUNTRY_INFO!D65*AK65*PROFILE!$G$7,COUNTRY_INFO!D65*AL65*PROFILE!$G$7)","v":0},{"$f":"MAX(COUNTRY_INFO!D65*AK65*PROFILE!$G$8,COUNTRY_INFO!D65*AL65*PROFILE!$G$8,COUNTRY_INFO!D65*AM65*PROFILE!$G$8)","v":0},{"$f":"MAX(COUNTRY_INFO!D65*AK65*PROFILE!$G$9,COUNTRY_INFO!D65*AL65*PROFILE!$G$9,COUNTRY_INFO!D65*AM65*PROFILE!$G$9,IF(AND(DISTRICT!Z65<>\"Inconnu\",Z65<>\"Non requis\"),COUNTRY_INFO!O65*DISTRICT!AN65,0))","v":29278},{"$f":"MAX(COUNTRY_INFO!D65*AK65*PROFILE!$G$10,COUNTRY_INFO!D65*AL65*PROFILE!$G$10,IF(AND(DISTRICT!Z65<>\"Inconnu\",Z65<>\"Non requis\"),COUNTRY_INFO!O65*DISTRICT!AO65,0))","v":19577.400000000001},48855.4,"Y",{"$f":"MAX('MDA2'!J65,'T1'!L65,'T2'!J65,T3_R1!K65,T3_R2!K65)","v":0},{"$f":"MAX('MDA1'!K65,'MDA2'!K65,'MDA3'!I65,'MDA3'!L65,'T1'!M65,'T2'!K65,T3_R1!L65,T3_R2!L65)","v":60345},{"$f":"MAX('MDA1'!L65,'MDA2'!L65,'MDA3'!J65,'MDA3'!M65,'T1'!N65,'T2'!L65,T3_R1!M65,T3_R2!M65)","v":0},60345,{"$f":"MAX('MDA2'!J65,T65)","v":0},{"$f":"MAX('MDA1'!K65,'MDA2'!K65,'MDA3'!I65,'MDA3'!L65,V65,AD65)","v":29278},{"$f":"MAX('MDA1'!L65,'MDA2'!L65,'MDA3'!J65,'MDA3'!M65,AF65)","v":0},29278,59.927868771926953]
[{"$f":"IF(COUNTRY_INFO!A66=0,\" \",COUNTRY_INFO!A66)","v":"Burkina Faso"},{"$f":"IF(COUNTRY_INFO!B66=0,\" \",COUNTRY_INFO!B66)","v":"Nord"},{"$f":"IF(COUNTRY_INFO!C66=0,\" \",COUNTRY_INFO!C66)","v":"Yako"},{"$f":"COUNTRY_INFO!L66","v":"Interrompu"},null,null,{"$f":"MAX('MDA1'!M66,'MDA2'!M66)","v":0},{"$f":"IF(AND(COUNTRY_INFO!H66>0,COUNTRY_INFO!H66<4),IF(D66>MAX('MDA1'!M66,'MDA2'!M66),MAX('MDA1'!M66,'MDA2'!M66),D66),0)","v":0},{"$f":"IF(AND(COUNTRY_INFO!H66>0,COUNTRY_INFO!H66<4), IF(G66/D66*100<>0, IF(G66/D66*100>100,100,G66/D66*100), \"-\"),0)","v":0},{"$f":"COUNTRY_INFO!M66","v":0},null,null,{"$f":"MAX('MDA1'!M66,MAX('MDA3'!I66,'MDA3'!L66)+MAX('MDA3'!J66,'MDA3'!M66))","v":0},{"$f":"IF(AND(COUNTRY_INFO!I66>0,COUNTRY_INFO!I66<4),IF(J66>MAX('MDA1'!M66,MAX('MDA3'!I66,'MDA3'!L66)+MAX('MDA3'!J66,'MDA3'!M66)),MAX('MDA1'!M66,MAX('MDA3'!I66,'MDA3'!L66)+MAX('MDA3'!J66,'MDA3'!M66)),J66),0)","v":0},{"$f":"IF(AND(COUNTRY_INFO!I66>0,COUNTRY_INFO!I66<4), IF(M66/J66*100<>0, IF(M66/J66*100>100,100,M66/J66*100), \"-\"),0)","v":0},{"$f":"COUNTRY_INFO!N66","v":0},68841,72731,{"$f":"SUM(MAX('MDA2'!J66, 'T1'!L66, MAX(T3_R1!K66, T3_R2!K66)), MAX('MDA1'!K66, 'MDA2'!K66, 'T1'!M66, MAX(T3_R1!L66, T3_R2!L66)), MAX('MDA1'!L66, 'MDA2'!L66, 'T1'!N66, MAX(T3_R1!M66, T3_R2!M66)))","v":141572},{"$f":"IF(AND(COUNTRY_INFO!J66>1,COUNTRY_INFO!J66<4),IF(COUNTRY_INFO!E66>MAX('MDA2'!J66,'T1'!L66,MAX(T3_R1!K66,T3_R2!K66)),MAX('MDA2'!J66,'T1'!L66,MAX(T3_R1!K66,T3_R2!K66)),COUNTRY_INFO!E66),0)","v":0},{"$f":"IF(AND(COUNTRY_INFO!J66>1,COUNTRY_INFO!J66<4), IF(T66/COUNTRY_INFO!E66*100<>0, IF(T66/COUNTRY_INFO!E66*100>100,100,T66/COUNTRY_INFO!E66*100), \"-\"),0)","v":0},{"$f":"IF(AND(COUNTRY_INFO!J66>1,COUNTRY_INFO!J66<4),IF(COUNTRY_INFO!F66>MAX('MDA1'!K66,'MDA2'!K66,'T1'!M66,MAX(T3_R1!L66,T3_R2!L66)),MAX('MDA1'!K66,'MDA2'!K66,'T1'!M66,MAX(T3_R1!L66,T3_R2!L66)),COUNTRY_INFO!F66),0)","v":0},{"$f":"IF(AND(COUNTRY_INFO!J66>1,COUNTRY_INFO!J66<4), IF(V66/COUNTRY_INFO!F66*100<>0, IF(V66/COUNTRY_INFO!F66*100>100,100,V66/COUNTRY_INFO!F66*100), \"-\"),0)","v":0},0,{"$f":"IF(AND(COUNTRY_INFO!J66>1,COUNTRY_INFO!J66<4), IF(S66/P66*100<>0, IF(X66/P66*100>100,100,X66/P66*100), \"-\"),0)","v":0},{"$f":"COUNTRY_INFO!O66","v":106900.9},68841,72731,{"$f":"MAX('T1'!L66,'T2'!J66)+MAX('T1'!M66,'T2'!K66)+MAX('T1'!N66,'T2'!L66)","v":141572},{"$f":"IF(COUNTRY_INFO!K66=1,IF(COUNTRY_INFO!F66*0.33>MAX('T1'!M66,'T2'!K66),MAX('T1'!M66,'T2'!K66),COUNTRY_INFO!F66*0.33),IF(COUNTRY_INFO!K66=2,IF(COUNTRY_INFO!F66*0.5>MAX('T1'!M66,'T2'!K66),MAX('T1'!M66,'T2'!K66),COUNTRY_INFO!F66*0.5),IF(COUNTRY_INFO!K66=3,IF(COUNTRY_INFO!F66>MAX('T1'!M66,'T2'!K66),MAX('T1'!M66,'T2'!K66),COUNTRY_INFO!F66),0)))","v":64063.5},{"$f":"IF(AND(COUNTRY_INFO!K66>0,COUNTRY_INFO!K66<4),IF(Z66>0,IF(COUNTRY_INFO!K66=1, AD66/(COUNTRY_INFO!F66*0.33)*100, IF(COUNTRY_INFO!K66=2, AD66/(COUNTRY_INFO!F66*0.5)*100, IF(COUNTRY_INFO!K66=3, AD66/COUNTRY_INFO!F66*100))),\"-\"),0)","v":100},{"$f":"IF(COUNTRY_INFO!K66=2,IF(COUNTRY_INFO!G66*0.2>MAX('T1'!N66,'T2'!L66),MAX('T1'!N66,'T2'!L66),COUNTRY_INFO!G66*0.2),IF(COUNTRY_INFO!K66=3,IF(COUNTRY_INFO!G66>MAX('T1'!N66,'T2'!L66),MAX('T1'!N66,'T2'!L66),COUNTRY_INFO!G66),0))","v":0},{"$f":"IF(AND(COUNTRY_INFO!K66>0,COUNTRY_INFO!K66<4),IF(Z66>0,IF(COUNTRY_INFO!K66=1, 0, IF(COUNTRY_INFO!K66=2, AF66/(COUNTRY_INFO!G66*0.2)*100, IF(COUNTRY_INFO!K66=3, AF66/COUNTRY_INFO!G66*100))),\"-\"),0)","v":0},64063.5,{"$f":"IF(AND(COUNTRY_INFO!K66>0,COUNTRY_INFO!K66<4), IF(AC66/Z66*100<>0, IF(AH66/Z66*100>100,100,AH66/Z66*100), \"-\"),0)","v":59.927933254069899},null,{"$f":"IF(AND(D66<>0, D66<>\"Inconnu\",D66<>\"Interrompu\",D66<>\"Non requis\"),D66/COUNTRY_INFO!D66, 0)","v":0},{"$f":"IF(AND(J66<>0,J66<>\"Inconnu\",J66<>\"Interrompu\",J66<>\"Non requis\"),J66/COUNTRY_INFO!D66, 0)","v":0},{"$f":"IF(AND(P66<>0,P66<>\"Inconnu\",P66<>\"Non requis\"),P66/(COUNTRY_INFO!E66+COUNTRY_INFO!F66), 0)","v":0},{"$f":"IF(AND(Z66<>0,Z66<>\"Inconnu\",Z66<>\"Non requis\"),IF(COUNTRY_INFO!K66=1,1,IF(COUNTRY_INFO!K66=2,0.5*COUNTRY_INFO!F66/(0.5*COUNTRY_INFO!F66+0.2*COUNTRY_INFO!G66),IF(COUNTRY_INFO!K66=3,COUNTRY_INFO!F66/(COUNTRY_INFO!F66+COUNTRY_INFO!G66)))),0)","v":0.59927933254069898},{"$f":"IF(AND(Z66<>0,Z66<>\"Inconnu\",Z66<>\"Non requis\"),IF(COUNTRY_INFO!K66=1,0,IF(COUNTRY_INFO!K66=2,0.2*COUNTRY_INFO!G66/(0.5*COUNTRY_INFO!F66+0.2*COUNTRY_INFO!G66),IF(COUNTRY_INFO!K66=3,COUNTRY_INFO!G66/(COUNTRY_INFO!F66+COUNTRY_INFO!G66)))),0)","v":0.40072066745930113},{"$f":"MAX(COUNTRY_INFO!D66*AK66*PROFILE!$G$7,COUNTRY_INFO!D66*AL66*PROFILE!$G$7)","v":0},{"$f":"MAX(COUNTRY_INFO!D66*AK66*PROFILE!$G$8,COUNTRY_INFO!D66*AL66*PROFILE!$G$8,COUNTRY_INFO!D66*AM66*PROFILE!$G$8)","v":0},{"$f":"MAX(COUNTRY_INFO!D66*AK66*PROFILE!$G$9,COUNTRY_INFO!D66*AL66*PROFILE!$G$9,COUNTRY_INFO!D66*AM66*PROFILE!$G$9,IF(AND(DISTRICT!Z66<>\"Inconnu\",Z66<>\"Non requis\"),COUNTRY_INFO!O66*DISTRICT!AN66,0))","v":64063.500000000007},{"$f":"MAX(COUNTRY_INFO!D66*AK66*PROFILE!$G$10,COUNTRY_INFO!D66*AL66*PROFILE!$G$10,IF(AND(DISTRICT!Z66<>\"Inconnu\",Z66<>\"Non requis\"),COUNTRY_INFO!O66*DISTRICT!AO66,0))","v":42837.4},106900.90000000001,"Y",{"$f":"MAX('MDA2'!J66,'T1'!L66,'T2'!J66,T3_R1!K66,T3_R2!K66)","v":0},{"$f":"MAX('MDA1'!K66,'MDA2'!K66,'MDA3'!I66,'MDA3'!L66,'T1'!M66,'T2'!K66,T3_R1!L66,T3_R2!L66)","v":141572},{"$f":"MAX('MDA1'!L66,'MDA2'!L66,'MDA3'!J66,'MDA3'!M66,'T1'!N66,'T2'!L66,T3_R1!M66,T3_R2!M66)","v":0},141572,{"$f":"MAX('MDA2'!J66,T66)","v":0},{"$f":"MAX('MDA1'!K66,'MDA2'!K66,'MDA3'!I66,'MDA3'!L66,V66,AD66)","v":64063.5},{"$f":"MAX('MDA1'!L66,'MDA2'!L66,'MDA3'!J66,'MDA3'!M66,AF66)","v":0},64063.5,59.927933254069885]
[{"$f":"IF(COUNTRY_INFO!A67=0,\" \",COUNTRY_INFO!A67)","v":"Burkina Faso"},{"$f":"IF(COUNTRY_INFO!B67=0,\" \",COUNTRY_INFO!B67)","v":"Plateau Central"},{"$f":"IF(COUNTRY_INFO!C67=0,\" \",COUNTRY_INFO!C67)","v":"Boussé"},{"$f":"COUNTRY_INFO!L67","v":"Interrompu"},null,null,{"$f":"MAX('MDA1'!M67,'MDA2'!M67)","v":0},{"$f":"IF(AND(COUNTRY_INFO!H67>0,COUNTRY_INFO!H67<4),IF(D67>MAX('MDA1'!M67,'MDA2'!M67),MAX('MDA1'!M67,'MDA2'!M67),D67),0)","v":0},{"$f":"IF(AND(COUNTRY_INFO!H67>0,COUNTRY_INFO!H67<4), IF(G67/D67*100<>0, IF(G67/D67*100>100,100,G67/D67*100), \"-\"),0)","v":0},{"$f":"COUNTRY_INFO!M67","v":0},null,null,{"$f":"MAX('MDA1'!M67,MAX('MDA3'!I67,'MDA3'!L67)+MAX('MDA3'!J67,'MDA3'!M67))","v":0},{"$f":"IF(AND(COUNTRY_INFO!I67>0,COUNTRY_INFO!I67<4),IF(J67>MAX('MDA1'!M67,MAX('MDA3'!I67,'MDA3'!L67)+MAX('MDA3'!J67,'MDA3'!M67)),MAX('MDA1'!M67,MAX('MDA3'!I67,'MDA3'!L67)+MAX('MDA3'!J67,'MDA3'!M67)),J67),0)","v":0},{"$f":"IF(AND(COUNTRY_INFO!I67>0,COUNTRY_INFO!I67<4), IF(M67/J67*100<>0, IF(M67/J67*100>100,100,M67/J67*100), \"-\"),0)","v":0},{"$f":"COUNTRY_INFO!N67","v":0},null,null,{"$f":"SUM(MAX('MDA2'!J67, 'T1'!L67, MAX(T3_R1!K67, T3_R2!K67)), MAX('MDA1'!K67, 'MDA2'!K67, 'T1'!M67, MAX(T3_R1!L67, T3_R2!L67)), MAX('MDA1'!L67, 'MDA2'!L67, 'T1'!N67, MAX(T3_R1!M67, T3_R2!M67)))","v":0},{"$f":"IF(AND(COUNTRY_INFO!J67>1,COUNTRY_INFO!J67<4),IF(COUNTRY_INFO!E67>MAX('MDA2'!J67,'T1'!L67,MAX(T3_R1!K67,T3_R2!K67)),MAX('MDA2'!J67,'T1'!L67,MAX(T3_R1!K67,T3_R2!K67)),COUNTRY_INFO!E67),0)","v":0},{"$f":"IF(AND(COUNTRY_INFO!J67>1,COUNTRY_INFO!J67<4), IF(T67/COUNTRY_INFO!E67*100<>0, IF(T67/COUNTRY_INFO!E67*100>100,100,T67/COUNTRY_INFO!E67*100), \"-\"),0)","v":0},{"$f":"IF(AND(COUNTRY_INFO!J67>1,COUNTRY_INFO!J67<4),IF(COUNTRY_INFO!F67>MAX('MDA1'!K67,'MDA2'!K67,'T1'!M67,MAX(T3_R1!L67,T3_R2!L67)),MAX('MDA1'!K67,'MDA2'!K67,'T1'!M67,MAX(T3_R1!L67,T3_R2!L67)),COUNTRY_INFO!F67),0)","v":0},{"$f":"IF(AND(COUNTRY_INFO!J67>1,COUNTRY_INFO!J67<4), IF(V67/COUNTRY_INFO!F67*100<>0, IF(V67/COUNTRY_INFO!F67*100>100,100,V67/COUNTRY_INFO!F67*100), \"-\"),0)","v":0},0,{"$f":"IF(AND(COUNTRY_INFO!J67>1,COUNTRY_INFO!J67<4), IF(S67/P67*100<>0, IF(X67/P67*100>100,100,X67/P67*100), \"-\"),0)","v":0},{"$f":"COUNTRY_INFO!O67","v":17675.46},null,null,{"$f":"MAX('T1'!L67,'T2'!J67)+MAX('T1'!M67,'T2'!K67)+MAX('T1'!N67,'T2'!L67)","v":0},{"$f":"IF(COUNTRY_INFO!K67=1,IF(COUNTRY_INFO!F67*0.33>MAX('T1'!M67,'T2'!K67),MAX('T1'!M67,'T2'!K67),COUNTRY_INFO!F67*0.33),IF(COUNTRY_INFO!K67=2,IF(COUNTRY_INFO!F67*0.5>MAX('T1'!M67,'T2'!K67),MAX('T1'!M67,'T2'!K67),COUNTRY_INFO!F67*0.5),IF(COUNTRY_INFO!K67=3,IF(COUNTRY_INFO!F67>MAX('T1'!M67,'T2'!K67),MAX('T1'!M67,'T2'!K67),COUNTRY_INFO!F67),0)))","v":0},{"$f":"IF(AND(COUNTRY_INFO!K67>0,COUNTRY_INFO!K67<4),IF(Z67>0,IF(COUNTRY_INFO!K67=1, AD67/(COUNTRY_INFO!F67*0.33)*100, IF(COUNTRY_INFO!K67=2, AD67/(COUNTRY_INFO!F67*0.5)*100, IF(COUNTRY_INFO!K67=3, AD67/COUNTRY_INFO!F67*100))),\"-\"),0)","v":0},{"$f":"IF(COUNTRY_INFO!K67=2,IF(COUNTRY_INFO!G67*0.2>MAX('T1'!N67,'T2'!L67),MAX('T1'!N67,'T2'!L67),COUNTRY_INFO!G67*0.2),IF(COUNTRY_INFO!K67=3,IF(COUNTRY_INFO!G67>MAX('T1'!N67,'T2'!L67),MAX('T1'!N67,'T2'!L67),COUNTRY_INFO!G67),0))","v":0},{"$f":"IF(AND(COUNTRY_INFO!K67>0,COUNTRY_INFO!K67<4),IF(Z67>0,IF(COUNTRY_INFO!K67=1, 0, IF(COUNTRY_INFO!K67=2, AF67/(COUNTRY_INFO!G67*0.2)*100, IF(COUNTRY_INFO!K67=3, AF67/COUNTRY_INFO!G67*100))),\"-\"),0)","v":0},0,{"$f":"IF(AND(COUNTRY_INFO!K67>0,COUNTRY_INFO!K67<4), IF(AC67/Z67*100<>0, IF(AH67/Z67*100>100,100,AH67/Z67*100), \"-\"),0)","v":"-"},null,{"$f":"IF(AND(D67<>0, D67<>\"Inconnu\",D67<>\"Interrompu\",D67<>\"Non requis\"),D67/COUNTRY_INFO!D67, 0)","v":0},{"$f":"IF(AND(J67<>0,J67<>\"Inconnu\",J67<>\"Interrompu\",J67<>\"Non requis\"),J67/COUNTRY_INFO!D67, 0)","v":0},{"$f":"IF(AND(P67<>0,P67<>\"Inconnu\",P67<>\"Non requis\"),P67/(COUNTRY_INFO!E67+COUNTRY_INFO!F67), 0)","v":0},{"$f":"IF(AND(Z67<>0,Z67<>\"Inconnu\",Z67<>\"Non requis\"),IF(COUNTRY_INFO!K67=1,1,IF(COUNTRY_INFO!K67=2,0.5*COUNTRY_INFO!F67/(0.5*COUNTRY_INFO!F67+0.2*COUNTRY_INFO!G67),IF(COUNTRY_INFO!K67=3,COUNTRY_INFO!F67/(COUNTRY_INFO!F67+COUNTRY_INFO!G67)))),0)","v":1},{"$f":"IF(AND(Z67<>0,Z67<>\"Inconnu\",Z67<>\"Non requis\"),IF(COUNTRY_INFO!K67=1,0,IF(COUNTRY_INFO!K67=2,0.2*COUNTRY_INFO!G67/(0.5*COUNTRY_INFO!F67+0.2*COUNTRY_INFO!G67),IF(COUNTRY_INFO!K67=3,COUNTRY_INFO!G67/(COUNTRY_INFO!F67+COUNTRY_INFO!G67)))),0)","v":0},{"$f":"MAX(COUNTRY_INFO!D67*AK67*PROFILE!$G$7,COUNTRY_INFO!D67*AL67*PROFILE!$G$7)","v":0},{"$f":"MAX(COUNTRY_INFO!D67*AK67*PROFILE!$G$8,COUNTRY_INFO!D67*AL67*PROFILE!$G$8,COUNTRY_INFO!D67*AM67*PROFILE!$G$8)","v":0},{"$f":"MAX(COUNTRY_INFO!D67*AK67*PROFILE!$G$9,COUNTRY_INFO!D67*AL67*PROFILE!$G$9,COUNTRY_INFO!D67*AM67*PROFILE!$G$9,IF(AND(DISTRICT!Z67<>\"Inconnu\",Z67<>\"Non requis\"),COUNTRY_INFO!O67*DISTRICT!AN67,0))","v":17675.46},{"$f":"MAX(COUNTRY_INFO!D67*AK67*PROFILE!$G$10,COUNTRY_INFO!D67*AL67*PROFILE!$G$10,IF(AND(DISTRICT!Z67<>\"Inconnu\",Z67<>\"Non requis\"),COUNTRY_INFO!O67*DISTRICT!AO67,0))","v":0},17675.46,0,{"$f":"MAX('MDA2'!J67,'T1'!L67,'T2'!J67,T3_R1!K67,T3_R2!K67)","v":0},{"$f":"MAX('MDA1'!K67,'MDA2'!K67,'MDA3'!I67,'MDA3'!L67,'T1'!M67,'T2'!K67,T3_R1!L67,T3_R2!L67)","v":0},{"$f":"MAX('MDA1'!L67,'MDA2'!L67,'MDA3'!J67,'MDA3'!M67,'T1'!N67,'T2'!L67,T3_R1!M67,T3_R2!M67)","v":0},0,{"$f":"MAX('MDA2'!J67,T67)","v":0},{"$f":"MAX('MDA1'!K67,'MDA2'!K67,'MDA3'!I67,'MDA3'!L67,V67,AD67)","v":0},{"$f":"MAX('MDA1'!L67,'MDA2'!L67,'MDA3'!J67,'MDA3'!M67,AF67)","v":0},0,0]
[{"$f":"IF(COUNTRY_INFO!A68=0,\" \",COUNTRY_INFO!A68)","v":"Burkina Faso"},{"$f":"IF(COUNTRY_INFO!B68=0,\" \",COUNTRY_INFO!B68)","v":"Plateau Central"},{"$f":"IF(COUNTRY_INFO!C68=0,\" \",COUNTRY_INFO!C68)","v":"Ziniaré"},{"$f":"COUNTRY_INFO!L68","v":"Interrompu"},null,null,{"$f":"MAX('MDA1'!M68,'MDA2'!M68)","v":0},{"$f":"IF(AND(COUNTRY_INFO!H68>0,COUNTRY_INFO!H68<4),IF(D68>MAX('MDA1'!M68,'MDA2'!M68),MAX('MDA1'!M68,'MDA2'!M68),D68),0)","v":0},{"$f":"IF(AND(COUNTRY_INFO!H68>0,COUNTRY_INFO!H68<4), IF(G68/D68*100<>0, IF(G68/D68*100>100,100,G68/D68*100), \"-\"),0)","v":0},{"$f":"COUNTRY_INFO!M68","v":0},null,null,{"$f":"MAX('MDA1'!M68,MAX('MDA3'!I68,'MDA3'!L68)+MAX('MDA3'!J68,'MDA3'!M68))","v":0},{"$f":"IF(AND(COUNTRY_INFO!I68>0,COUNTRY_INFO!I68<4),IF(J68>MAX('MDA1'!M68,MAX('MDA3'!I68,'MDA3'!L68)+MAX('MDA3'!J68,'MDA3'!M68)),MAX('MDA1'!M68,MAX('MDA3'!I68,'MDA3'!L68)+MAX('MDA3'!J68,'MDA3'!M68)),J68),0)","v":0},{"$f":"IF(AND(COUNTRY_INFO!I68>0,COUNTRY_INFO!I68<4), IF(M68/J68*100<>0, IF(M68/J68*100>100,100,M68/J68*100), \"-\"),0)","v":0},{"$f":"COUNTRY_INFO!N68","v":0},null,null,{"$f":"SUM(MAX('MDA2'!J68, 'T1'!L68, MAX(T3_R1!K68, T3_R2!K68)), MAX('MDA1'!K68, 'MDA2'!K68, 'T1'!M68, MAX(T3_R1!L68, T3_R2!L68)), MAX('MDA1'!L68, 'MDA2'!L68, 'T1'!N68, MAX(T3_R1!M68, T3_R2!M68)))","v":0},{"$f":"IF(AND(COUNTRY_INFO!J68>1,COUNTRY_INFO!J68<4),IF(COUNTRY_INFO!E68>MAX('MDA2'!J68,'T1'!L68,MAX(T3_R1!K68,T3_R2!K68)),MAX('MDA2'!J68,'T1'!L68,MAX(T3_R1!K68,T3_R2!K68)),COUNTRY_INFO!E68),0)","v":0},{"$f":"IF(AND(COUNTRY_INFO!J68>1,COUNTRY_INFO!J68<4), IF(T68/COUNTRY_INFO!E68*100<>0, IF(T68/COUNTRY_INFO!E68*100>100,100,T68/COUNTRY_INFO!E68*100), \"-\"),0)","v":0},{"$f":"IF(AND(COUNTRY_INFO!J68>1,COUNTRY_INFO!J68<4),IF(COUNTRY_INFO!F68>MAX('MDA1'!K68,'MDA2'!K68,'T1'!M68,MAX(T3_R1!L68,T3_R2!L68)),MAX('MDA1'!K68,'MDA2'!K68,'T1'!M68,MAX(T3_R1!L68,T3_R2!L68)),COUNTRY_INFO!F68),0)","v":0},{"$f":"IF(AND(COUNTRY_INFO!J68>1,COUNTRY_INFO!J68<4), IF(V68/COUNTRY_INFO!F68*100<>0, IF(V68/COUNTRY_INFO!F68*100>100,100,V68/COUNTRY_INFO!F68*100), \"-\"),0)","v":0},0,{"$f":"IF(AND(COUNTRY_INFO!J68>1,COUNTRY_INFO!J68<4), IF(S68/P68*100<>0, IF(X68/P68*100>100,100,X68/P68*100), \"-\"),0)","v":0},{"$f":"COUNTRY_INFO!O68","v":30981.06},null,null,{"$f":"MAX('T1'!L68,'T2'!J68)+MAX('T1'!M68,'T2'!K68)+MAX('T1'!N68,'T2'!L68)","v":0},{"$f":"IF(COUNTRY_INFO!K68=1,IF(COUNTRY_INFO!F68*0.33>MAX('T1'!M68,'T2'!K68),MAX('T1'!M68,'T2'!K68),COUNTRY_INFO!F68*0.33),IF(COUNTRY_INFO!K68=2,IF(COUNTRY_INFO!F68*0.5>MAX('T1'!M68,'T2'!K68),MAX('T1'!M68,'T2'!K68),COUNTRY_INFO!F68*0.5),IF(COUNTRY_INFO!K68=3,IF(COUNTRY_INFO!F68>MAX('T1'!M68,'T2'!K68),MAX('T1'!M68,'T2'!K68),COUNTRY_INFO!F68),0)))","v":0},{"$f":"IF(AND(COUNTRY_INFO!K68>0,COUNTRY_INFO!K68<4),IF(Z68>0,IF(COUNTRY_INFO!K68=1, AD68/(COUNTRY_INFO!F68*0.33)*100, IF(COUNTRY_INFO!K68=2, AD68/(COUNTRY_INFO!F68*0.5)*100, IF(COUNTRY_INFO!K68=3, AD68/COUNTRY_INFO!F68*100))),\"-\"),0)","v":0},{"$f":"IF(COUNTRY_INFO!K68=2,IF(COUNTRY_INFO!G68*0.2>MAX('T1'!N68,'T2'!L68),MAX('T1'!N68,'T2'!L68),COUNTRY_INFO!G68*0.2),IF(COUNTRY_INFO!K68=3,IF(COUNTRY_INFO!G68>MAX('T1'!N68,'T2'!L68),MAX('T1'!N68,'T2'!L68),COUNTRY_INFO!G68),0))","v":0},{"$f":"IF(AND(COUNTRY_INFO!K68>0,COUNTRY_INFO!K68<4),IF(Z68>0,IF(COUNTRY_INFO!K68=1, 0, IF(COUNTRY_INFO!K68=2, AF68/(COUNTRY_INFO!G68*0.2)*100, IF(COUNTRY_INFO!K68=3, AF68/COUNTRY_INFO!G68*100))),\"-\"),0)","v":0},0,{"$f":"IF(AND(COUNTRY_INFO!K68>0,COUNTRY_INFO!K68<4), IF(AC68/Z68*100<>0, IF(AH68/Z68*100>100,100,AH68/Z68*100), \"-\"),0)","v":"-"},null,{"$f":"IF(AND(D68<>0, D68<>\"Inconnu\",D68<>\"Interrompu\",D68<>\"Non requis\"),D68/COUNTRY_INFO!D68, 0)","v":0},{"$f":"IF(AND(J68<>0,J68<>\"Inconnu\",J68<>\"Interrompu\",J68<>\"Non requis\"),J68/COUNTRY_INFO!D68, 0)","v":0},{"$f":"IF(AND(P68<>0,P68<>\"Inconnu\",P68<>\"Non requis\"),P68/(COUNTRY_INFO!E68+COUNTRY_INFO!F68), 0)","v":0},{"$f":"IF(AND(Z68<>0,Z68<>\"Inconnu\",Z68<>\"Non requis\"),IF(COUNTRY_INFO!K68=1,1,IF(COUNTRY_INFO!K68=2,0.5*COUNTRY_INFO!F68/(0.5*COUNTRY_INFO!F68+0.2*COUNTRY_INFO!G68),IF(COUNTRY_INFO!K68=3,COUNTRY_INFO!F68/(COUNTRY_INFO!F68+COUNTRY_INFO!G68)))),0)","v":1},{"$f":"IF(AND(Z68<>0,Z68<>\"Inconnu\",Z68<>\"Non requis\"),IF(COUNTRY_INFO!K68=1,0,IF(COUNTRY_INFO!K68=2,0.2*COUNTRY_INFO!G68/(0.5*COUNTRY_INFO!F68+0.2*COUNTRY_INFO!G68),IF(COUNTRY_INFO!K68=3,COUNTRY_INFO!G68/(COUNTRY_INFO!F68+COUNTRY_INFO!G68)))),0)","v":0},{"$f":"MAX(COUNTRY_INFO!D68*AK68*PROFILE!$G$7,COUNTRY_INFO!D68*AL68*PROFILE!$G$7)","v":0},{"$f":"MAX(COUNTRY_INFO!D68*AK68*PROFILE!$G$8,COUNTRY_INFO!D68*AL68*PROFILE!$G$8,COUNTRY_INFO!D68*AM68*PROFILE!$G$8)","v":0},{"$f":"MAX(COUNTRY_INFO!D68*AK68*PROFILE!$G$9,COUNTRY_INFO!D68*AL68*PROFILE!$G$9,COUNTRY_INFO!D68*AM68*PROFILE!$G$9,IF(AND(DISTRICT!Z68<>\"Inconnu\",Z68<>\"Non requis\"),COUNTRY_INFO!O68*DISTRICT!AN68,0))","v":30981.06},{"$f":"MAX(COUNTRY_INFO!D68*AK68*PROFILE!$G$10,COUNTRY_INFO!D68*AL68*PROFILE!$G$10,IF(AND(DISTRICT!Z68<>\"Inconnu\",Z68<>\"Non requis\"),COUNTRY_INFO!O68*DISTRICT!AO68,0))","v":0},30981.06,0,{"$f":"MAX('MDA2'!J68,'T1'!L68,'T2'!J68,T3_R1!K68,T3_R2!K68)","v":0},{"$f":"MAX('MDA1'!K68,'MDA2'!K68,'MDA3'!I68,'MDA3'!L68,'T1'!M68,'T2'!K68,T3_R1!L68,T3_R2!L68)","v":0},{"$f":"MAX('MDA1'!L68,'MDA2'!L68,'MDA3'!J68,'MDA3'!M68,'T1'!N68,'T2'!L68,T3_R1!M68,T3_R2!M68)","v":0},0,{"$f":"MAX('MDA2'!J68,T68)","v":0},{"$f":"MAX('MDA1'!K68,'MDA2'!K68,'MDA3'!I68,'MDA3'!L68,V68,AD68)","v":0},{"$f":"MAX('MDA1'!L68,'MDA2'!L68,'MDA3'!J68,'MDA3'!M68,AF68)","v":0},0,0]
[{"$f":"IF(COUNTRY_INFO!A69=0,\" \",COUNTRY_INFO!A69)","v":"Burkina Faso"},{"$f":"IF(COUNTRY_INFO!B69=0,\" \",COUNTRY_INFO!B69)","v":"Plateau Central"},{"$f":"IF(COUNTRY_INFO!C69=0,\" \",COUNTRY_INFO!C69)","v":"Zorgho"},{"$f":"COUNTRY_INFO!L69","v":"Interrompu"},null,null,{"$f":"MAX('MDA1'!M69,'MDA2'!M69)","v":0},{"$f":"IF(AND(COUNTRY_INFO!H69>0,COUNTRY_INFO!H69<4),IF(D69>MAX('MDA1'!M69,'MDA2'!M69),MAX('MDA1'!M69,'MDA2'!M69),D69),0)","v":0},{"$f":"IF(AND(COUNTRY_INFO!H69>0,COUNTRY_INFO!H69<4), IF(G69/D69*100<>0, IF(G69/D69*100>100,100,G69/D69*100), \"-\"),0)","v":0},{"$f":"COUNTRY_INFO!M69","v":0},null,null,{"$f":"MAX('MDA1'!M69,MAX('MDA3'!I69,'MDA3'!L69)+MAX('MDA3'!J69,'MDA3'!M69))","v":0},{"$f":"IF(AND(COUNTRY_INFO!I69>0,COUNTRY_INFO!I69<4),IF(J69>MAX('MDA1'!M69,MAX('MDA3'!I69,'MDA3'!L69)+MAX('MDA3'!J69,'MDA3'!M69)),MAX('MDA1'!M69,MAX('MDA3'!I69,'MDA3'!L69)+MAX('MDA3'!J69,'MDA3'!M69)),J69),0)","v":0},{"$f":"IF(AND(COUNTRY_INFO!I69>0,COUNTRY_INFO!I69<4), IF(M69/J69*100<>0, IF(M69/J69*100>100,100,M69/J69*100), \"-\"),0)","v":0},{"$f":"COUNTRY_INFO!N69","v":0},null,null,{"$f":"SUM(MAX('MDA2'!J69, 'T1'!L69, MAX(T3_R1!K69, T3_R2!K69)), MAX('MDA1'!K69, 'MDA2'!K69, 'T1'!M69, MAX(T3_R1!L69, T3_R2!L69)), MAX('MDA1'!L69, 'MDA2'!L69, 'T1'!N69, MAX(T3_R1!M69, T3_R2!M69)))","v":0},{"$f":"IF(AND(COUNTRY_INFO!J69>1,COUNTRY_INFO!J69<4),IF(COUNTRY_INFO!E69>MAX('MDA2'!J69,'T1'!L69,MAX(T3_R1!K69,T3_R2!K69)),MAX('MDA2'!J69,'T1'!L69,MAX(T3_R1!K69,T3_R2!K69)),COUNTRY_INFO!E69),0)","v":0},{"$f":"IF(AND(COUNTRY_INFO!J69>1,COUNTRY_INFO!J69<4), IF(T69/COUNTRY_INFO!E69*100<>0, IF(T69/COUNTRY_INFO!E69*100>100,100,T69/COUNTRY_INFO!E69*100), \"-\"),0)","v":0},{"$f":"IF(AND(COUNTRY_INFO!J69>1,COUNTRY_INFO!J69<4),IF(COUNTRY_INFO!F69>MAX('MDA1'!K69,'MDA2'!K69,'T1'!M69,MAX(T3_R1!L69,T3_R2!L69)),MAX('MDA1'!K69,'MDA2'!K69,'T1'!M69,MAX(T3_R1!L69,T3_R2!L69)),COUNTRY_INFO!F69),0)","v":0},{"$f":"IF(AND(COUNTRY_INFO!J69>1,COUNTRY_INFO!J69<4), IF(V69/COUNTRY_INFO!F69*100<>0, IF(V69/COUNTRY_INFO!F69*100>100,100,V69/COUNTRY_INFO!F69*100), \"-\"),0)","v":0},0,{"$f":"IF(AND(COUNTRY_INFO!J69>1,COUNTRY_INFO!J69<4), IF(S69/P69*100<>0, IF(X69/P69*100>100,100,X69/P69*100), \"-\"),0)","v":0},{"$f":"COUNTRY_INFO!O69","v":41926.170000000006},null,null,{"$f":"MAX('T1'!L69,'T2'!J69)+MAX('T1'!M69,'T2'!K69)+MAX('T1'!N69,'T2'!L69)","v":0},{"$f":"IF(COUNTRY_INFO!K69=1,IF(COUNTRY_INFO!F69*0.33>MAX('T1'!M69,'T2'!K69),MAX('T1'!M69,'T2'!K69),COUNTRY_INFO!F69*0.33),IF(COUNTRY_INFO!K69=2,IF(COUNTRY_INFO!F69*0.5>MAX('T1'!M69,'T2'!K69),MAX('T1'!M69,'T2'!K69),COUNTRY_INFO!F69*0.5),IF(COUNTRY_INFO!K69=3,IF(COUNTRY_INFO!F69>MAX('T1'!M69,'T2'!K69),MAX('T1'!M69,'T2'!K69),COUNTRY_INFO!F69),0)))","v":0},{"$f":"IF(AND(COUNTRY_INFO!K69>0,COUNTRY_INFO!K69<4),IF(Z69>0,IF(COUNTRY_INFO!K69=1, AD69/(COUNTRY_INFO!F69*0.33)*100, IF(COUNTRY_INFO!K69=2, AD69/(COUNTRY_INFO!F69*0.5)*100, IF(COUNTRY_INFO!K69=3, AD69/COUNTRY_INFO!F69*100))),\"-\"),0)","v":0},{"$f":"IF(COUNTRY_INFO!K69=2,IF(COUNTRY_INFO!G69*0.2>MAX('T1'!N69,'T2'!L69),MAX('T1'!N69,'T2'!L69),COUNTRY_INFO!G69*0.2),IF(COUNTRY_INFO!K69=3,IF(COUNTRY_INFO!G69>MAX('T1'!N69,'T2'!L69),MAX('T1'!N69,'T2'!L69),COUNTRY_INFO!G69),0))","v":0},{"$f":"IF(AND(COUNTRY_INFO!K69>0,COUNTRY_INFO!K69<4),IF(Z69>0,IF(COUNTRY_INFO!K69=1, 0, IF(COUNTRY_INFO!K69=2, AF69/(COUNTRY_INFO!G69*0.2)*100, IF(COUNTRY_INFO!K69=3, AF69/COUNTRY_INFO!G69*100))),\"-\"),0)","v":0},0,{"$f":"IF(AND(COUNTRY_INFO!K69>0,COUNTRY_INFO!K69<4), IF(AC69/Z69*100<>0, IF(AH69/Z69*100>100,100,AH69/Z69*100), \"-\"),0)","v":"-"},null,{"$f":"IF(AND(D69<>0, D69<>\"Inconnu\",D69<>\"Interrompu\",D69<>\"Non requis\"),D69/COUNTRY_INFO!D69, 0)","v":0},{"$f":"IF(AND(J69<>0,J69<>\"Inconnu\",J69<>\"Interrompu\",J69<>\"Non requis\"),J69/COUNTRY_INFO!D69, 0)","v":0},{"$f":"IF(AND(P69<>0,P69<>\"Inconnu\",P69<>\"Non requis\"),P69/(COUNTRY_INFO!E69+COUNTRY_INFO!F69), 0)","v":0},{"$f":"IF(AND(Z69<>0,Z69<>\"Inconnu\",Z69<>\"Non requis\"),IF(COUNTRY_INFO!K69=1,1,IF(COUNTRY_INFO!K69=2,0.5*COUNTRY_INFO!F69/(0.5*COUNTRY_INFO!F69+0.2*COUNTRY_INFO!G69),IF(COUNTRY_INFO!K69=3,COUNTRY_INFO!F69/(COUNTRY_INFO!F69+COUNTRY_INFO!G69)))),0)","v":1},{"$f":"IF(AND(Z69<>0,Z69<>\"Inconnu\",Z69<>\"Non requis\"),IF(COUNTRY_INFO!K69=1,0,IF(COUNTRY_INFO!K69=2,0.2*COUNTRY_INFO!G69/(0.5*COUNTRY_INFO!F69+0.2*COUNTRY_INFO!G69),IF(COUNTRY_INFO!K69=3,COUNTRY_INFO!G69/(COUNTRY_INFO!F69+COUNTRY_INFO!G69)))),0)","v":0},{"$f":"MAX(COUNTRY_INFO!D69*AK69*PROFILE!$G$7,COUNTRY_INFO!D69*AL69*PROFILE!$G$7)","v":0},{"$f":"MAX(COUNTRY_INFO!D69*AK69*PROFILE!$G$8,COUNTRY_INFO!D69*AL69*PROFILE!$G$8,COUNTRY_INFO!D69*AM69*PROFILE!$G$8)","v":0},{"$f":"MAX(COUNTRY_INFO!D69*AK69*PROFILE!$G$9,COUNTRY_INFO!D69*AL69*PROFILE!$G$9,COUNTRY_INFO!D69*AM69*PROFILE!$G$9,IF(AND(DISTRICT!Z69<>\"Inconnu\",Z69<>\"Non requis\"),COUNTRY_INFO!O69*DISTRICT!AN69,0))","v":41926.170000000006},{"$f":"MAX(COUNTRY_INFO!D69*AK69*PROFILE!$G$10,COUNTRY_INFO!D69*AL69*PROFILE!$G$10,IF(AND(DISTRICT!Z69<>\"Inconnu\",Z69<>\"Non requis\"),COUNTRY_INFO!O69*DISTRICT!AO69,0))","v":0},41926.170000000006,0,{"$f":"MAX('MDA2'!J69,'T1'!L69,'T2'!J69,T3_R1!K69,T3_R2!K69)","v":0},{"$f":"MAX('MDA1'!K69,'MDA2'!K69,'MDA3'!I69,'MDA3'!L69,'T1'!M69,'T2'!K69,T3_R1!L69,T3_R2!L69)","v":0},{"$f":"MAX('MDA1'!L69,'MDA2'!L69,'MDA3'!J69,'MDA3'!M69,'T1'!N69,'T2'!L69,T3_R1!M69,T3_R2!M69)","v":0},0,{"$f":"MAX('MDA2'!J69,T69)","v":0},{"$f":"MAX('MDA1'!K69,'MDA2'!K69,'MDA3'!I69,'MDA3'!L69,V69,AD69)","v":0},{"$f":"MAX('MDA1'!L69,'MDA2'!L69,'MDA3'!J69,'MDA3'!M69,AF69)","v":0},0,0]
[{"$f":"IF(COUNTRY_INFO!A70=0,\" \",COUNTRY_INFO!A70)","v":"Burkina Faso"},{"$f":"IF(COUNTRY_INFO!B70=0,\" \",COUNTRY_INFO!B70)","v":"Sahel"},{"$f":"IF(COUNTRY_INFO!C70=0,\" \",COUNTRY_INFO!C70)","v":"Djibo"},{"$f":"COUNTRY_INFO!L70","v":"Interrompu"},null,null,{"$f":"MAX('MDA1'!M70,'MDA2'!M70)","v":0},{"$f":"IF(AND(COUNTRY_INFO!H70>0,COUNTRY_INFO!H70<4),IF(D70>MAX('MDA1'!M70,'MDA2'!M70),MAX('MDA1'!M70,'MDA2'!M70),D70),0)","v":0},{"$f":"IF(AND(COUNTRY_INFO!H70>0,COUNTRY_INFO!H70<4), IF(G70/D70*100<>0, IF(G70/D70*100>100,100,G70/D70*100), \"-\"),0)","v":0},{"$f":"COUNTRY_INFO!M70","v":0},null,null,{"$f":"MAX('MDA1'!M70,MAX('MDA3'!I70,'MDA3'!L70)+MAX('MDA3'!J70,'MDA3'!M70))","v":0},{"$f":"IF(AND(COUNTRY_INFO!I70>0,COUNTRY_INFO!I70<4),IF(J70>MAX('MDA1'!M70,MAX('MDA3'!I70,'MDA3'!L70)+MAX('MDA3'!J70,'MDA3'!M70)),MAX('MDA1'!M70,MAX('MDA3'!I70,'MDA3'!L70)+MAX('MDA3'!J70,'MDA3'!M70)),J70),0)","v":0},{"$f":"IF(AND(COUNTRY_INFO!I70>0,COUNTRY_INFO!I70<4), IF(M70/J70*100<>0, IF(M70/J70*100>100,100,M70/J70*100), \"-\"),0)","v":0},{"$f":"COUNTRY_INFO!N70","v":0},71548,70886,{"$f":"SUM(MAX('MDA2'!J70, 'T1'!L70, MAX(T3_R1!K70, T3_R2!K70)), MAX('MDA1'!K70, 'MDA2'!K70, 'T1'!M70, MAX(T3_R1!L70, T3_R2!L70)), MAX('MDA1'!L70, 'MDA2'!L70, 'T1'!N70, MAX(T3_R1!M70, T3_R2!M70)))","v":383818},{"$f":"IF(AND(COUNTRY_INFO!J70>1,COUNTRY_INFO!J70<4),IF(COUNTRY_INFO!E70>MAX('MDA2'!J70,'T1'!L70,MAX(T3_R1!K70,T3_R2!K70)),MAX('MDA2'!J70,'T1'!L70,MAX(T3_R1!K70,T3_R2!K70)),COUNTRY_INFO!E70),0)","v":0},{"$f":"IF(AND(COUNTRY_INFO!J70>1,COUNTRY_INFO!J70<4), IF(T70/COUNTRY_INFO!E70*100<>0, IF(T70/COUNTRY_INFO!E70*100>100,100,T70/COUNTRY_INFO!E70*100), \"-\"),0)","v":0},{"$f":"IF(AND(COUNTRY_INFO!J70>1,COUNTRY_INFO!J70<4),IF(COUNTRY_INFO!F70>MAX('MDA1'!K70,'MDA2'!K70,'T1'!M70,MAX(T3_R1!L70,T3_R2!L70)),MAX('MDA1'!K70,'MDA2'!K70,'T1'!M70,MAX(T3_R1!L70,T3_R2!L70)),COUNTRY_INFO!F70),0)","v":0},{"$f":"IF(AND(COUNTRY_INFO!J70>1,COUNTRY_INFO!J70<4), IF(V70/COUNTRY_INFO!F70*100<>0, IF(V70/COUNTRY_INFO!F70*100>100,100,V70/COUNTRY_INFO!F70*100), \"-\"),0)","v":0},0,{"$f":"IF(AND(COUNTRY_INFO!J70>1,COUNTRY_INFO!J70<4), IF(S70/P70*100<>0, IF(X70/P70*100>100,100,X70/P70*100), \"-\"),0)","v":0},{"$f":"COUNTRY_INFO!O70","v":121990.8},191332,192486,{"$f":"MAX('T1'!L70,'T2'!J70)+MAX('T1'!M70,'T2'!K70)+MAX('T1'!N70,'T2'!L70)","v":383818},{"$f":"IF(COUNTRY_INFO!K70=1,IF(COUNTRY_INFO!F70*0.33>MAX('T1'!M70,'T2'!K70),MAX('T1'!M70,'T2'!K70),COUNTRY_INFO!F70*0.33),IF(COUNTRY_INFO!K70=2,IF(COUNTRY_INFO!F70*0.5>MAX('T1'!M70,'T2'!K70),MAX('T1'!M70,'T2'!K70),COUNTRY_INFO!F70*0.5),IF(COUNTRY_INFO!K70=3,IF(COUNTRY_INFO!F70>MAX('T1'!M70,'T2'!K70),MAX('T1'!M70,'T2'!K70),COUNTRY_INFO!F70),0)))","v":71786},{"$f":"IF(AND(COUNTRY_INFO!K70>0,COUNTRY_INFO!K70<4),IF(Z70>0,IF(COUNTRY_INFO!K70=1, AD70/(COUNTRY_INFO!F70*0.33)*100, IF(COUNTRY_INFO!K70=2, AD70/(COUNTRY_INFO!F70*0.5)*100, IF(COUNTRY_INFO!K70=3, AD70/COUNTRY_INFO!F70*100))),\"-\"),0)","v":100},{"$f":"IF(COUNTRY_INFO!K70=2,IF(COUNTRY_INFO!G70*0.2>MAX('T1'!N70,'T2'!L70),MAX('T1'!N70,'T2'!L70),COUNTRY_INFO!G70*0.2),IF(COUNTRY_INFO!K70=3,IF(COUNTRY_INFO!G70>MAX('T1'!N70,'T2'!L70),MAX('T1'!N70,'T2'!L70),COUNTRY_INFO!G70),0))","v":50204.800000000003},{"$f":"IF(AND(COUNTRY_INFO!K70>0,COUNTRY_INFO!K70<4),IF(Z70>0,IF(COUNTRY_INFO!K70=1, 0, IF(COUNTRY_INFO!K70=2, AF70/(COUNTRY_INFO!G70*0.2)*100, IF(COUNTRY_INFO!K70=3, AF70/COUNTRY_INFO!G70*100))),\"-\"),0)","v":100},121990.8,{"$f":"IF(AND(COUNTRY_INFO!K70>0,COUNTRY_INFO!K70<4), IF(AC70/Z70*100<>0, IF(AH70/Z70*100>100,100,AH70/Z70*100), \"-\"),0)","v":100},null,{"$f":"IF(AND(D70<>0, D70<>\"Inconnu\",D70<>\"Interrompu\",D70<>\"Non requis\"),D70/COUNTRY_INFO!D70, 0)","v":0},{"$f":"IF(AND(J70<>0,J70<>\"Inconnu\",J70<>\"Interrompu\",J70<>\"Non requis\"),J70/COUNTRY_INFO!D70, 0)","v":0},{"$f":"IF(AND(P70<>0,P70<>\"Inconnu\",P70<>\"Non requis\"),P70/(COUNTRY_INFO!E70+COUNTRY_INFO!F70), 0)","v":0},{"$f":"IF(AND(Z70<>0,Z70<>\"Inconnu\",Z70<>\"Non requis\"),IF(COUNTRY_INFO!K70=1,1,IF(COUNTRY_INFO!K70=2,0.5*COUNTRY_INFO!F70/(0.5*COUNTRY_INFO!F70+0.2*COUNTRY_INFO!G70),IF(COUNTRY_INFO!K70=3,COUNTRY_INFO!F70/(COUNTRY_INFO!F70+COUNTRY_INFO!G70)))),0)","v":0.58845421130118003},{"$f":"IF(AND(Z70<>0,Z70<>\"Inconnu\",Z70<>\"Non requis\"),IF(COUNTRY_INFO!K70=1,0,IF(COUNTRY_INFO!K70=2,0.2*COUNTRY_INFO!G70/(0.5*COUNTRY_INFO!F70+0.2*COUNTRY_INFO!G70),IF(COUNTRY_INFO!K70=3,COUNTRY_INFO!G70/(COUNTRY_INFO!F70+COUNTRY_INFO!G70)))),0)","v":0.41154578869881991},{"$f":"MAX(COUNTRY_INFO!D70*AK70*PROFILE!$G$7,COUNTRY_INFO!D70*AL70*PROFILE!$G$7)","v":0},{"$f":"MAX(COUNTRY_INFO!D70*AK70*PROFILE!$G$8,COUNTRY_INFO!D70*AL70*PROFILE!$G$8,COUNTRY_INFO!D70*AM70*PROFILE!$G$8)","v":0},{"$f":"MAX(COUNTRY_INFO!D70*AK70*PROFILE!$G$9,COUNTRY_INFO!D70*AL70*PROFILE!$G$9,COUNTRY_INFO!D70*AM70*PROFILE!$G$9,IF(AND(DISTRICT!Z70<>\"Inconnu\",Z70<>\"Non requis\"),COUNTRY_INFO!O70*DISTRICT!AN70,0))","v":71786},{"$f":"MAX(COUNTRY_INFO!D70*AK70*PROFILE!$G$10,COUNTRY_INFO!D70*AL70*PROFILE!$G$10,IF(AND(DISTRICT!Z70<>\"Inconnu\",Z70<>\"Non requis\"),COUNTRY_INFO!O70*DISTRICT!AO70,0))","v":50204.800000000003},121990.8,"Y",{"$f":"MAX('MDA2'!J70,'T1'!L70,'T2'!J70,T3_R1!K70,T3_R2!K70)","v":0},{"$f":"MAX('MDA1'!K70,'MDA2'!K70,'MDA3'!I70,'MDA3'!L70,'T1'!M70,'T2'!K70,T3_R1!L70,T3_R2!L70)","v":142853},{"$f":"MAX('MDA1'!L70,'MDA2'!L70,'MDA3'!J70,'MDA3'!M70,'T1'!N70,'T2'!L70,T3_R1!M70,T3_R2!M70)","v":240965},383818,{"$f":"MAX('MDA2'!J70,T70)","v":0},{"$f":"MAX('MDA1'!K70,'MDA2'!K70,'MDA3'!I70,'MDA3'!L70,V70,AD70)","v":71786},{"$f":"MAX('MDA1'!L70,'MDA2'!L70,'MDA3'!J70,'MDA3'!M70,AF70)","v":50204.800000000003},121990.8,100]
[{"$f":"IF(COUNTRY_INFO!A71=0,\" \",COUNTRY_INFO!A71)","v":"Burkina Faso"},{"$f":"IF(COUNTRY_INFO!B71=0,\" \",COUNTRY_INFO!B71)","v":"Sahel"},{"$f":"IF(COUNTRY_INFO!C71=0,\" \",COUNTRY_INFO!C71)","v":"Dori"},{"$f":"COUNTRY_INFO!L71","v":"Interrompu"},null,null,{"$f":"MAX('MDA1'!M71,'MDA2'!M71)","v":0},{"$f":"IF(AND(COUNTRY_INFO!H71>0,COUNTRY_INFO!H71<4),IF(D71>MAX('MDA1'!M71,'MDA2'!M71),MAX('MDA1'!M71,'MDA2'!M71),D71),0)","v":0},{"$f":"IF(AND(COUNTRY_INFO!H71>0,COUNTRY_INFO!H71<4), IF(G71/D71*100<>0, IF(G71/D71*100>100,100,G71/D71*100), \"-\"),0)","v":0},{"$f":"COUNTRY_INFO!M71","v":0},null,null,{"$f":"MAX('MDA1'!M71,MAX('MDA3'!I71,'MDA3'!L71)+MAX('MDA3'!J71,'MDA3'!M71))","v":0},{"$f":"IF(AND(COUNTRY_INFO!I71>0,COUNTRY_INFO!I71<4),IF(J71>MAX('MDA1'!M71,MAX('MDA3'!I71,'MDA3'!L71)+MAX('MDA3'!J71,'MDA3'!M71)),MAX('MDA1'!M71,MAX('MDA3'!I71,'MDA3'!L71)+MAX('MDA3'!J71,'MDA3'!M71)),J71),0)","v":0},{"$f":"IF(AND(COUNTRY_INFO!I71>0,COUNTRY_INFO!I71<4), IF(M71/J71*100<>0, IF(M71/J71*100>100,100,M71/J71*100), \"-\"),0)","v":0},{"$f":"COUNTRY_INFO!N71","v":0},51288,53102,{"$f":"SUM(MAX('MDA2'!J71, 'T1'!L71, MAX(T3_R1!K71, T3_R2!K71)), MAX('MDA1'!K71, 'MDA2'!K71, 'T1'!M71, MAX(T3_R1!L71, T3_R2!L71)), MAX('MDA1'!L71, 'MDA2'!L71, 'T1'!N71, MAX(T3_R1!M71, T3_R2!M71)))","v":274661},{"$f":"IF(AND(COUNTRY_INFO!J71>1,COUNTRY_INFO!J71<4),IF(COUNTRY_INFO!E71>MAX('MDA2'!J71,'T1'!L71,MAX(T3_R1!K71,T3_R2!K71)),MAX('MDA2'!J71,'T1'!L71,MAX(T3_R1!K71,T3_R2!K71)),COUNTRY_INFO!E71),0)","v":0},{"$f":"IF(AND(COUNTRY_INFO!J71>1,COUNTRY_INFO!J71<4), IF(T71/COUNTRY_INFO!E71*100<>0, IF(T71/COUNTRY_INFO!E71*100>100,100,T71/COUNTRY_INFO!E71*100), \"-\"),0)","v":0},{"$f":"IF(AND(COUNTRY_INFO!J71>1,COUNTRY_INFO!J71<4),IF(COUNTRY_INFO!F71>MAX('MDA1'!K71,'MDA2'!K71,'T1'!M71,MAX(T3_R1!L71,T3_R2!L71)),MAX('MDA1'!K71,'MDA2'!K71,'T1'!M71,MAX(T3_R1!L71,T3_R2!L71)),COUNTRY_INFO!F71),0)","v":0},{"$f":"IF(AND(COUNTRY_INFO!J71>1,COUNTRY_INFO!J71<4), IF(V71/COUNTRY_INFO!F71*100<>0, IF(V71/COUNTRY_INFO!F71*100>100,100,V71/COUNTRY_INFO!F71*100), \"-\"),0)","v":0},0,{"$f":"IF(AND(COUNTRY_INFO!J71>1,COUNTRY_INFO!J71<4), IF(S71/P71*100<>0, IF(X71/P71*100>100,100,X71/P71*100), \"-\"),0)","v":0},{"$f":"COUNTRY_INFO!O71","v":91398.9},134575,140086,{"$f":"MAX('T1'!L71,'T2'!J71)+MAX('T1'!M71,'T2'!K71)+MAX('T1'!N71,'T2'!L71)","v":274661},{"$f":"IF(COUNTRY_INFO!K71=1,IF(COUNTRY_INFO!F71*0.33>MAX('T1'!M71,'T2'!K71),MAX('T1'!M71,'T2'!K71),COUNTRY_INFO!F71*0.33),IF(COUNTRY_INFO!K71=2,IF(COUNTRY_INFO!F71*0.5>MAX('T1'!M71,'T2'!K71),MAX('T1'!M71,'T2'!K71),COUNTRY_INFO!F71*0.5),IF(COUNTRY_INFO!K71=3,IF(COUNTRY_INFO!F71>MAX('T1'!M71,'T2'!K71),MAX('T1'!M71,'T2'!K71),COUNTRY_INFO!F71),0)))","v":53777.5},{"$f":"IF(AND(COUNTRY_INFO!K71>0,COUNTRY_INFO!K71<4),IF(Z71>0,IF(COUNTRY_INFO!K71=1, AD71/(COUNTRY_INFO!F71*0.33)*100, IF(COUNTRY_INFO!K71=2, AD71/(COUNTRY_INFO!F71*0.5)*100, IF(COUNTRY_INFO!K71=3, AD71/COUNTRY_INFO!F71*100))),\"-\"),0)","v":100},{"$f":"IF(COUNTRY_INFO!K71=2,IF(COUNTRY_INFO!G71*0.2>MAX('T1'!N71,'T2'!L71),MAX('T1'!N71,'T2'!L71),COUNTRY_INFO!G71*0.2),IF(COUNTRY_INFO!K71=3,IF(COUNTRY_INFO!G71>MAX('T1'!N71,'T2'!L71),MAX('T1'!N71,'T2'!L71),COUNTRY_INFO!G71),0))","v":37621.4},{"$f":"IF(AND(COUNTRY_INFO!K71>0,COUNTRY_INFO!K71<4),IF(Z71>0,IF(COUNTRY_INFO!K71=1, 0, IF(COUNTRY_INFO!K71=2, AF71/(COUNTRY_INFO!G71*0.2)*100, IF(COUNTRY_INFO!K71=3, AF71/COUNTRY_INFO!G71*100))),\"-\"),0)","v":100},91398.9,{"$f":"IF(AND(COUNTRY_INFO!K71>0,COUNTRY_INFO!K71<4), IF(AC71/Z71*100<>0, IF(AH71/Z71*100>100,100,AH71/Z71*100), \"-\"),0)","v":100},null,{"$f":"IF(AND(D71<>0, D71<>\"Inconnu\",D71<>\"Interrompu\",D71<>\"Non requis\"),D71/COUNTRY_INFO!D71, 0)","v":0},{"$f":"IF(AND(J71<>0,J71<>\"Inconnu\",J71<>\"Interrompu\",J71<>\"Non requis\"),J71/COUNTRY_INFO!D71, 0)","v":0},{"$f":"IF(AND(P71<>0,P71<>\"Inconnu\",P71<>\"Non requis\"),P71/(COUNTRY_INFO!E71+COUNTRY_INFO!F71), 0)","v":0},{"$f":"IF(AND(Z71<>0,Z71<>\"Inconnu\",Z71<>\"Non requis\"),IF(COUNTRY_INFO!K71=1,1,IF(COUNTRY_INFO!K71=2,0.5*COUNTRY_INFO!F71/(0.5*COUNTRY_INFO!F71+0.2*COUNTRY_INFO!G71),IF(COUNTRY_INFO!K71=3,COUNTRY_INFO!F71/(COUNTRY_INFO!F71+COUNTRY_INFO!G71)))),0)","v":0.58838235471105238},{"$f":"IF(AND(Z71<>0,Z71<>\"Inconnu\",Z71<>\"Non requis\"),IF(COUNTRY_INFO!K71=1,0,IF(COUNTRY_INFO!K71=2,0.2*COUNTRY_INFO!G71/(0.5*COUNTRY_INFO!F71+0.2*COUNTRY_INFO!G71),IF(COUNTRY_INFO!K71=3,COUNTRY_INFO!G71/(COUNTRY_INFO!F71+COUNTRY_INFO!G71)))),0)","v":0.41161764528894773},{"$f":"MAX(COUNTRY_INFO!D71*AK71*PROFILE!$G$7,COUNTRY_INFO!D71*AL71*PROFILE!$G$7)","v":0},{"$f":"MAX(COUNTRY_INFO!D71*AK71*PROFILE!$G$8,COUNTRY_INFO!D71*AL71*PROFILE!$G$8,COUNTRY_INFO!D71*AM71*PROFILE!$G$8)","v":0},{"$f":"MAX(COUNTRY_INFO!D71*AK71*PROFILE!$G$9,COUNTRY_INFO!D71*AL71*PROFILE!$G$9,COUNTRY_INFO!D71*AM71*PROFILE!$G$9,IF(AND(DISTRICT!Z71<>\"Inconnu\",Z71<>\"Non requis\"),COUNTRY_INFO!O71*DISTRICT!AN71,0))","v":53777.5},{"$f":"MAX(COUNTRY_INFO!D71*AK71*PROFILE!$G$10,COUNTRY_INFO!D71*AL71*PROFILE!$G$10,IF(AND(DISTRICT!Z71<>\"Inconnu\",Z71<>\"Non requis\"),COUNTRY_INFO!O71*DISTRICT!AO71,0))","v":37621.4},91398.9,"Y",{"$f":"MAX('MDA2'!J71,'T1'!L71,'T2'!J71,T3_R1!K71,T3_R2!K71)","v":0},{"$f":"MAX('MDA1'!K71,'MDA2'!K71,'MDA3'!I71,'MDA3'!L71,'T1'!M71,'T2'!K71,T3_R1!L71,T3_R2!L71)","v":104390},{"$f":"MAX('MDA1'!L71,'MDA2'!L71,'MDA3'!J71,'MDA3'!M71,'T1'!N71,'T2'!L71,T3_R1!M71,T3_R2!M71)","v":170271},274661,{"$f":"MAX('MDA2'!J71,T71)","v":0},{"$f":"MAX('MDA1'!K71,'MDA2'!K71,'MDA3'!I71,'MDA3'!L71,V71,AD71)","v":53777.5},{"$f":"MAX('MDA1'!L71,'MDA2'!L71,'MDA3'!J71,'MDA3'!M71,AF71)","v":37621.4},91398.9,100]
[{"$f":"IF(COUNTRY_INFO!A72=0,\" \",COUNTRY_INFO!A72)","v":"Burkina Faso"},{"$f":"IF(COUNTRY_INFO!B72=0,\" \",COUNTRY_INFO!B72)","v":"Sahel"},{"$f":"IF(COUNTRY_INFO!C72=0,\" \",COUNTRY_INFO!C72)","v":"Gorom-Gorom"},{"$f":"COUNTRY_INFO!L72","v":"Interrompu"},null,null,{"$f":"MAX('MDA1'!M72,'MDA2'!M72)","v":0},{"$f":"IF(AND(COUNTRY_INFO!H72>0,COUNTRY_INFO!H72<4),IF(D72>MAX('MDA1'!M72,'MDA2'!M72),MAX('MDA1'!M72,'MDA2'!M72),D72),0)","v":0},{"$f":"IF(AND(COUNTRY_INFO!H72>0,COUNTRY_INFO!H72<4), IF(G72/D72*100<>0, IF(G72/D72*100>100,100,G72/D72*100), \"-\"),0)","v":0},{"$f":"COUNTRY_INFO!M72","v":0},null,null,{"$f":"MAX('MDA1'!M72,MAX('MDA3'!I72,'MDA3'!L72)+MAX('MDA3'!J72,'MDA3'!M72))","v":0},{"$f":"IF(AND(COUNTRY_INFO!I72>0,COUNTRY_INFO!I72<4),IF(J72>MAX('MDA1'!M72,MAX('MDA3'!I72,'MDA3'!L72)+MAX('MDA3'!J72,'MDA3'!M72)),MAX('MDA1'!M72,MAX('MDA3'!I72,'MDA3'!L72)+MAX('MDA3'!J72,'MDA3'!M72)),J72),0)","v":0},{"$f":"IF(AND(COUNTRY_INFO!I72>0,COUNTRY_INFO!I72<4), IF(M72/J72*100<>0, IF(M72/J72*100>100,100,M72/J72*100), \"-\"),0)","v":0},{"$f":"COUNTRY_INFO!N72","v":0},41019,42992,{"$f":"SUM(MAX('MDA2'!J72, 'T1'!L72, MAX(T3_R1!K72, T3_R2!K72)), MAX('MDA1'!K72, 'MDA2'!K72, 'T1'!M72, MAX(T3_R1!L72, T3_R2!L72)), MAX('MDA1'!L72, 'MDA2'!L72, 'T1'!N72, MAX(T3_R1!M72, T3_R2!M72)))","v":228240},{"$f":"IF(AND(COUNTRY_INFO!J72>1,COUNTRY_INFO!J72<4),IF(COUNTRY_INFO!E72>MAX('MDA2'!J72,'T1'!L72,MAX(T3_R1!K72,T3_R2!K72)),MAX('MDA2'!J72,'T1'!L72,MAX(T3_R1!K72,T3_R2!K72)),COUNTRY_INFO!E72),0)","v":0},{"$f":"IF(AND(COUNTRY_INFO!J72>1,COUNTRY_INFO!J72<4), IF(T72/COUNTRY_INFO!E72*100<>0, IF(T72/COUNTRY_INFO!E72*100>100,100,T72/COUNTRY_INFO!E72*100), \"-\"),0)","v":0},{"$f":"IF(AND(COUNTRY_INFO!J72>1,COUNTRY_INFO!J72<4),IF(COUNTRY_INFO!F72>MAX('MDA1'!K72,'MDA2'!K72,'T1'!M72,MAX(T3_R1!L72,T3_R2!L72)),MAX('MDA1'!K72,'MDA2'!K72,'T1'!M72,MAX(T3_R1!L72,T3_R2!L72)),COUNTRY_INFO!F72),0)","v":0},{"$f":"IF(AND(COUNTRY_INFO!J72>1,COUNTRY_INFO!J72<4), IF(V72/COUNTRY_INFO!F72*100<>0, IF(V72/COUNTRY_INFO!F72*100>100,100,V72/COUNTRY_INFO!F72*100), \"-\"),0)","v":0},0,{"$f":"IF(AND(COUNTRY_INFO!J72>1,COUNTRY_INFO!J72<4), IF(S72/P72*100<>0, IF(X72/P72*100>100,100,X72/P72*100), \"-\"),0)","v":0},{"$f":"COUNTRY_INFO!O72","v":70053},111093,117147,{"$f":"MAX('T1'!L72,'T2'!J72)+MAX('T1'!M72,'T2'!K72)+MAX('T1'!N72,'T2'!L72)","v":228240},{"$f":"IF(COUNTRY_INFO!K72=1,IF(COUNTRY_INFO!F72*0.33>MAX('T1'!M72,'T2'!K72),MAX('T1'!M72,'T2'!K72),COUNTRY_INFO!F72*0.33),IF(COUNTRY_INFO!K72=2,IF(COUNTRY_INFO!F72*0.5>MAX('T1'!M72,'T2'!K72),MAX('T1'!M72,'T2'!K72),COUNTRY_INFO!F72*0.5),IF(COUNTRY_INFO!K72=3,IF(COUNTRY_INFO!F72>MAX('T1'!M72,'T2'!K72),MAX('T1'!M72,'T2'!K72),COUNTRY_INFO!F72),0)))","v":41223},{"$f":"IF(AND(COUNTRY_INFO!K72>0,COUNTRY_INFO!K72<4),IF(Z72>0,IF(COUNTRY_INFO!K72=1, AD72/(COUNTRY_INFO!F72*0.33)*100, IF(COUNTRY_INFO!K72=2, AD72/(COUNTRY_INFO!F72*0.5)*100, IF(COUNTRY_INFO!K72=3, AD72/COUNTRY_INFO!F72*100))),\"-\"),0)","v":100},{"$f":"IF(COUNTRY_INFO!K72=2,IF(COUNTRY_INFO!G72*0.2>MAX('T1'!N72,'T2'!L72),MAX('T1'!N72,'T2'!L72),COUNTRY_INFO!G72*0.2),IF(COUNTRY_INFO!K72=3,IF(COUNTRY_INFO!G72>MAX('T1'!N72,'T2'!L72),MAX('T1'!N72,'T2'!L72),COUNTRY_INFO!G72),0))","v":28830},{"$f":"IF(AND(COUNTRY_INFO!K72>0,COUNTRY_INFO!K72<4),IF(Z72>0,IF(COUNTRY_INFO!K72=1, 0, IF(COUNTRY_INFO!K72=2, AF72/(COUNTRY_INFO!G72*0.2)*100, IF(COUNTRY_INFO!K72=3, AF72/COUNTRY_INFO!G72*100))),\"-\"),0)","v":100},70053,{"$f":"IF(AND(COUNTRY_INFO!K72>0,COUNTRY_INFO!K72<4), IF(AC72/Z72*100<>0, IF(AH72/Z72*100>100,100,AH72/Z72*100), \"-\"),0)","v":100},null,{"$f":"IF(AND(D72<>0, D72<>\"Inconnu\",D72<>\"Interrompu\",D72<>\"Non requis\"),D72/COUNTRY_INFO!D72, 0)","v":0},{"$f":"IF(AND(J72<>0,J72<>\"Inconnu\",J72<>\"Interrompu\",J72<>\"Non requis\"),J72/COUNTRY_INFO!D72, 0)","v":0},{"$f":"IF(AND(P72<>0,P72<>\"Inconnu\",P72<>\"Non requis\"),P72/(COUNTRY_INFO!E72+COUNTRY_INFO!F72), 0)","v":0},{"$f":"IF(AND(Z72<>0,Z72<>\"Inconnu\",Z72<>\"Non requis\"),IF(COUNTRY_INFO!K72=1,1,IF(COUNTRY_INFO!K72=2,0.5*COUNTRY_INFO!F72/(0.5*COUNTRY_INFO!F72+0.2*COUNTRY_INFO!G72),IF(COUNTRY_INFO!K72=3,COUNTRY_INFO!F72/(COUNTRY_INFO!F72+COUNTRY_INFO!G72)))),0)","v":0.58845445591195233},{"$f":"IF(AND(Z72<>0,Z72<>\"Inconnu\",Z72<>\"Non requis\"),IF(COUNTRY_INFO!K72=1,0,IF(COUNTRY_INFO!K72=2,0.2*COUNTRY_INFO!G72/(0.5*COUNTRY_INFO!F72+0.2*COUNTRY_INFO!G72),IF(COUNTRY_INFO!K72=3,COUNTRY_INFO!G72/(COUNTRY_INFO!F72+COUNTRY_INFO!G72)))),0)","v":0.41154554408804761},{"$f":"MAX(COUNTRY_INFO!D72*AK72*PROFILE!$G$7,COUNTRY_INFO!D72*AL72*PROFILE!$G$7)","v":0},{"$f":"MAX(COUNTRY_INFO!D72*AK72*PROFILE!$G$8,COUNTRY_INFO!D72*AL72*PROFILE!$G$8,COUNTRY_INFO!D72*AM72*PROFILE!$G$8)","v":0},{"$f":"MAX(COUNTRY_INFO!D72*AK72*PROFILE!$G$9,COUNTRY_INFO!D72*AL72*PROFILE!$G$9,COUNTRY_INFO!D72*AM72*PROFILE!$G$9,IF(AND(DISTRICT!Z72<>\"Inconnu\",Z72<>\"Non requis\"),COUNTRY_INFO!O72*DISTRICT!AN72,0))","v":41223},{"$f":"MAX(COUNTRY_INFO!D72*AK72*PROFILE!$G$10,COUNTRY_INFO!D72*AL72*PROFILE!$G$10,IF(AND(DISTRICT!Z72<>\"Inconnu\",Z72<>\"Non requis\"),COUNTRY_INFO!O72*DISTRICT!AO72,0))","v":28830},70053,"Y",{"$f":"MAX('MDA2'!J72,'T1'!L72,'T2'!J72,T3_R1!K72,T3_R2!K72)","v":0},{"$f":"MAX('MDA1'!K72,'MDA2'!K72,'MDA3'!I72,'MDA3'!L72,'T1'!M72,'T2'!K72,T3_R1!L72,T3_R2!L72)","v":84011},{"$f":"MAX('MDA1'!L72,'MDA2'!L72,'MDA3'!J72,'MDA3'!M72,'T1'!N72,'T2'!L72,T3_R1!M72,T3_R2!M72)","v":144229},228240,{"$f":"MAX('MDA2'!J72,T72)","v":0},{"$f":"MAX('MDA1'!K72,'MDA2'!K72,'MDA3'!I72,'MDA3'!L72,V72,AD72)","v":41223},{"$f":"MAX('MDA1'!L72,'MDA2'!L72,'MDA3'!J72,'MDA3'!M72,AF72)","v":28830},70053,100]
[{"$f":"IF(COUNTRY_INFO!A73=0,\" \",COUNTRY_INFO!A73)","v":"Burkina Faso"},{"$f":"IF(COUNTRY_INFO!B73=0,\" \",COUNTRY_INFO!B73)","v":"Sahel"},{"$f":"IF(COUNTRY_INFO!C73=0,\" \",COUNTRY_INFO!C73)","v":"Sebba"},{"$f":"COUNTRY_INFO!L73","v":224245},89888,90039,{"$f":"MAX('MDA1'!M73,'MDA2'!M73)","v":179927},{"$f":"IF(AND(COUNTRY_INFO!H73>0,COUNTRY_INFO!H73<4),IF(D73>MAX('MDA1'!M73,'MDA2'!M73),MAX('MDA1'!M73,'MDA2'!M73),D73),0)","v":179927},{"$f":"IF(AND(COUNTRY_INFO!H73>0,COUNTRY_INFO!H73<4), IF(G73/D73*100<>0, IF(G73/D73*100>100,100,G73/D73*100), \"-\"),0)","v":80.236794577359589},{"$f":"COUNTRY_INFO!M73","v":0},null,null,{"$f":"MAX('MDA1'!M73,MAX('MDA3'!I73,'MDA3'!L73)+MAX('MDA3'!J73,'MDA3'!M73))","v":179927},{"$f":"IF(AND(COUNTRY_INFO!I73>0,COUNTRY_INFO!I73<4),IF(J73>MAX('MDA1'!M73,MAX('MDA3'!I73,'MDA3'!L73)+MAX('MDA3'!J73,'MDA3'!M73)),MAX('MDA1'!M73,MAX('MDA3'!I73,'MDA3'!L73)+MAX('MDA3'!J73,'MDA3'!M73)),J73),0)","v":0},{"$f":"IF(AND(COUNTRY_INFO!I73>0,COUNTRY_INFO!I73<4), IF(M73/J73*100<>0, IF(M73/J73*100>100,100,M73/J73*100), \"-\"),0)","v":0},{"$f":"COUNTRY_INFO!N73","v":0},32756,32701,{"$f":"SUM(MAX('MDA2'!J73, 'T1'!L73, MAX(T3_R1!K73, T3_R2!K73)), MAX('MDA1'!K73, 'MDA2'!K73, 'T1'!M73, MAX(T3_R1!L73, T3_R2!L73)), MAX('MDA1'!L73, 'MDA2'!L73, 'T1'!N73, MAX(T3_R1!M73, T3_R2!M73)))","v":179927},{"$f":"IF(AND(COUNTRY_INFO!J73>1,COUNTRY_INFO!J73<4),IF(COUNTRY_INFO!E73>MAX('MDA2'!J73,'T1'!L73,MAX(T3_R1!K73,T3_R2!K73)),MAX('MDA2'!J73,'T1'!L73,MAX(T3_R1!K73,T3_R2!K73)),COUNTRY_INFO!E73),0)","v":0},{"$f":"IF(AND(COUNTRY_INFO!J73>1,COUNTRY_INFO!J73<4), IF(T73/COUNTRY_INFO!E73*100<>0, IF(T73/COUNTRY_INFO!E73*100>100,100,T73/COUNTRY_INFO!E73*100), \"-\"),0)","v":0},{"$f":"IF(AND(COUNTRY_INFO!J73>1,COUNTRY_INFO!J73<4),IF(COUNTRY_INFO!F73>MAX('MDA1'!K73,'MDA2'!K73,'T1'!M73,MAX(T3_R1!L73,T3_R2!L73)),MAX('MDA1'!K73,'MDA2'!K73,'T1'!M73,MAX(T3_R1!L73,T3_R2!L73)),COUNTRY_INFO!F73),0)","v":0},{"$f":"IF(AND(COUNTRY_INFO!J73>1,COUNTRY_INFO!J73<4), IF(V73/COUNTRY_INFO!F73*100<>0, IF(V73/COUNTRY_INFO!F73*100>100,100,V73/COUNTRY_INFO!F73*100), \"-\"),0)","v":0},0,{"$f":"IF(AND(COUNTRY_INFO!J73>1,COUNTRY_INFO!J73<4), IF(S73/P73*100<>0, IF(X73/P73*100>100,100,X73/P73*100), \"-\"),0)","v":0},{"$f":"COUNTRY_INFO!O73","v":56295},91521,89123,{"$f":"MAX('T1'!L73,'T2'!J73)+MAX('T1'!M73,'T2'!K73)+MAX('T1'!N73,'T2'!L73)","v":180644},{"$f":"IF(COUNTRY_INFO!K73=1,IF(COUNTRY_INFO!F73*0.33>MAX('T1'!M73,'T2'!K73),MAX('T1'!M73,'T2'!K73),COUNTRY_INFO!F73*0.33),IF(COUNTRY_INFO!K73=2,IF(COUNTRY_INFO!F73*0.5>MAX('T1'!M73,'T2'!K73),MAX('T1'!M73,'T2'!K73),COUNTRY_INFO!F73*0.5),IF(COUNTRY_INFO!K73=3,IF(COUNTRY_INFO!F73>MAX('T1'!M73,'T2'!K73),MAX('T1'!M73,'T2'!K73),COUNTRY_INFO!F73),0)))","v":33127},{"$f":"IF(AND(COUNTRY_INFO!K73>0,COUNTRY_INFO!K73<4),IF(Z73>0,IF(COUNTRY_INFO!K73=1, AD73/(COUNTRY_INFO!F73*0.33)*100, IF(COUNTRY_INFO!K73=2, AD73/(COUNTRY_INFO!F73*0.5)*100, IF(COUNTRY_INFO!K73=3, AD73/COUNTRY_INFO!F73*100))),\"-\"),0)","v":100},{"$f":"IF(COUNTRY_INFO!K73=2,IF(COUNTRY_INFO!G73*0.2>MAX('T1'!N73,'T2'!L73),MAX('T1'!N73,'T2'!L73),COUNTRY_INFO!G73*0.2),IF(COUNTRY_INFO!K73=3,IF(COUNTRY_INFO!G73>MAX('T1'!N73,'T2'!L73),MAX('T1'!N73,'T2'!L73),COUNTRY_INFO!G73),0))","v":23168},{"$f":"IF(AND(COUNTRY_INFO!K73>0,COUNTRY_INFO!K73<4),IF(Z73>0,IF(COUNTRY_INFO!K73=1, 0, IF(COUNTRY_INFO!K73=2, AF73/(COUNTRY_INFO!G73*0.2)*100, IF(COUNTRY_INFO!K73=3, AF73/COUNTRY_INFO!G73*100))),\"-\"),0)","v":100},56295,{"$f":"IF(AND(COUNTRY_INFO!K73>0,COUNTRY_INFO!K73<4), IF(AC73/Z73*100<>0, IF(AH73/Z73*100>100,100,AH73/Z73*100), \"-\"),0)","v":100},null,{"$f":"IF(AND(D73<>0, D73<>\"Inconnu\",D73<>\"Interrompu\",D73<>\"Non requis\"),D73/COUNTRY_INFO!D73, 0)","v":1},{"$f":"IF(AND(J73<>0,J73<>\"Inconnu\",J73<>\"Interrompu\",J73<>\"Non requis\"),J73/COUNTRY_INFO!D73, 0)","v":0},{"$f":"IF(AND(P73<>0,P73<>\"Inconnu\",P73<>\"Non requis\"),P73/(COUNTRY_INFO!E73+COUNTRY_INFO!F73), 0)","v":0},{"$f":"IF(AND(Z73<>0,Z73<>\"Inconnu\",Z73<>\"Non requis\"),IF(COUNTRY_INFO!K73=1,1,IF(COUNTRY_INFO!K73=2,0.5*COUNTRY_INFO!F73/(0.5*COUNTRY_INFO!F73+0.2*COUNTRY_INFO!G73),IF(COUNTRY_INFO!K73=3,COUNTRY_INFO!F73/(COUNTRY_INFO!F73+COUNTRY_INFO!G73)))),0)","v":0.58845368149924504},{"$f":"IF(AND(Z73<>0,Z73<>\"Inconnu\",Z73<>\"Non requis\"),IF(COUNTRY_INFO!K73=1,0,IF(COUNTRY_INFO!K73=2,0.2*COUNTRY_INFO!G73/(0.5*COUNTRY_INFO!F73+0.2*COUNTRY_INFO!G73),IF(COUNTRY_INFO!K73=3,COUNTRY_INFO!G73/(COUNTRY_INFO!F73+COUNTRY_INFO!G73)))),0)","v":0.41154631850075496},{"$f":"MAX(COUNTRY_INFO!D73*AK73*PROFILE!$G$7,COUNTRY_INFO!D73*AL73*PROFILE!$G$7)","v":8645.2128188017341},{"$f":"MAX(COUNTRY_INFO!D73*AK73*PROFILE!$G$8,COUNTRY_INFO!D73*AL73*PROFILE!$G$8,COUNTRY_INFO!D73*AM73*PROFILE!$G$8)","v":31626.395263849645},{"$f":"MAX(COUNTRY_INFO!D73*AK73*PROFILE!$G$9,COUNTRY_INFO!D73*AL73*PROFILE!$G$9,COUNTRY_INFO!D73*AM73*PROFILE!$G$9,IF(AND(DISTRICT!Z73<>\"Inconnu\",Z73<>\"Non requis\"),COUNTRY_INFO!O73*DISTRICT!AN73,0))","v":65337.618330282465},{"$f":"MAX(COUNTRY_INFO!D73*AK73*PROFILE!$G$10,COUNTRY_INFO!D73*AL73*PROFILE!$G$10,IF(AND(DISTRICT!Z73<>\"Inconnu\",Z73<>\"Non requis\"),COUNTRY_INFO!O73*DISTRICT!AO73,0))","v":118635.77358706616},224245,{"$f":"IF(COUNTIFS(AK73:AN73,\">0\")=0,0, IF(COUNTIFS(AK73:AN73,\">0\")<=IF(AND(OR(D73>=0,D73=\"Non requis\",D73=\"Inconnu\",D73=\"Interrompu\"),D73>0,H73>0),1,0)+IF(AND(OR(J73>=0,J73=\"Non requis\",J73=\"Inconnu\",J73=\"Interrompu\"),J73>0,N73>0),1,0)+IF(AND(OR(P73>=0,P73=\"Non requis\",P73=\"Inconnu\"),P73>0,X73>0),1,0)+IF(AND(OR(Z73>=0,Z73=\"Non requis\",Z73=\"Inconnu\"),Z73>0,AH73>0),1,0),\"Y\",0))","v":"Y"},{"$f":"MAX('MDA2'!J73,'T1'!L73,'T2'!J73,T3_R1!K73,T3_R2!K73)","v":0},{"$f":"MAX('MDA1'!K73,'MDA2'!K73,'MDA3'!I73,'MDA3'!L73,'T1'!M73,'T2'!K73,T3_R1!L73,T3_R2!L73)","v":70066},{"$f":"MAX('MDA1'!L73,'MDA2'!L73,'MDA3'!J73,'MDA3'!M73,'T1'!N73,'T2'!L73,T3_R1!M73,T3_R2!M73)","v":114469.55740000002},184535.55740000002,{"$f":"MAX('MDA2'!J73,T73)","v":0},{"$f":"MAX('MDA1'!K73,'MDA2'!K73,'MDA3'!I73,'MDA3'!L73,V73,AD73)","v":65457.442599999988},{"$f":"MAX('MDA1'!L73,'MDA2'!L73,'MDA3'!J73,'MDA3'!M73,AF73)","v":114469.55740000002},{"$f":"IF(AT73<SUM(AZ73:BB73), AT73,SUM(AZ73:BB73))","v":179927},{"$f":"IF(AT73<>0,BC73/AT73*100,0)","v":80.236794577359589}]
[{"$f":"IF(COUNTRY_INFO!A74=0,\" \",COUNTRY_INFO!A74)","v":"Burkina Faso"},{"$f":"IF(COUNTRY_INFO!B74=0,\" \",COUNTRY_INFO!B74)","v":"Sud-Ouest"},{"$f":"IF(COUNTRY_INFO!C74=0,\" \",COUNTRY_INFO!C74)","v":"Batié"},{"$f":"COUNTRY_INFO!L74","v":97614},41212,37027,{"$f":"MAX('MDA1'!M74,'MDA2'!M74)","v":78239},{"$f":"IF(AND(COUNTRY_INFO!H74>0,COUNTRY_INFO!H74<4),IF(D74>MAX('MDA1'!M74,'MDA2'!M74),MAX('MDA1'!M74,'MDA2'!M74),D74),0)","v":78239},{"$f":"IF(AND(COUNTRY_INFO!H74>0,COUNTRY_INFO!H74<4), IF(G74/D74*100<>0, IF(G74/D74*100>100,100,G74/D74*100), \"-\"),0)","v":80.151412707193643},{"$f":"COUNTRY_INFO!M74","v":40508},14916,15921,{"$f":"MAX('MDA1'!M74,MAX('MDA3'!I74,'MDA3'!L74)+MAX('MDA3'!J74,'MDA3'!M74))","v":78239},{"$f":"IF(AND(COUNTRY_INFO!I74>0,COUNTRY_INFO!I74<4),IF(J74>MAX('MDA1'!M74,MAX('MDA3'!I74,'MDA3'!L74)+MAX('MDA3'!J74,'MDA3'!M74)),MAX('MDA1'!M74,MAX('MDA3'!I74,'MDA3'!L74)+MAX('MDA3'!J74,'MDA3'!M74)),J74),0)","v":40508},{"$f":"IF(AND(COUNTRY_INFO!I74>0,COUNTRY_INFO!I74<4), IF(M74/J74*100<>0, IF(M74/J74*100>100,100,M74/J74*100), \"-\"),0)","v":100},{"$f":"COUNTRY_INFO!N74","v":0},13389,14902,{"$f":"SUM(MAX('MDA2'!J74, 'T1'!L74, MAX(T3_R1!K74, T3_R2!K74)), MAX('MDA1'!K74, 'MDA2'!K74, 'T1'!M74, MAX(T3_R1!L74, T3_R2!L74)), MAX('MDA1'!L74, 'MDA2'!L74, 'T1'!N74, MAX(T3_R1!M74, T3_R2!M74)))","v":78239},{"$f":"IF(AND(COUNTRY_INFO!J74>1,COUNTRY_INFO!J74<4),IF(COUNTRY_INFO!E74>MAX('MDA2'!J74,'T1'!L74,MAX(T3_R1!K74,T3_R2!K74)),MAX('MDA2'!J74,'T1'!L74,MAX(T3_R1!K74,T3_R2!K74)),COUNTRY_INFO!E74),0)","v":0},{"$f":"IF(AND(COUNTRY_INFO!J74>1,COUNTRY_INFO!J74<4), IF(T74/COUNTRY_INFO!E74*100<>0, IF(T74/COUNTRY_INFO!E74*100>100,100,T74/COUNTRY_INFO!E74*100), \"-\"),0)","v":0},{"$f":"IF(AND(COUNTRY_INFO!J74>1,COUNTRY_INFO!J74<4),IF(COUNTRY_INFO!F74>MAX('MDA1'!K74,'MDA2'!K74,'T1'!M74,MAX(T3_R1!L74,T3_R2!L74)),MAX('MDA1'!K74,'MDA2'!K74,'T1'!M74,MAX(T3_R1!L74,T3_R2!L74)),COUNTRY_INFO!F74),0)","v":0},{"$f":"IF(AND(COUNTRY_INFO!J74>1,COUNTRY_INFO!J74<4), IF(V74/COUNTRY_INFO!F74*100<>0, IF(V74/COUNTRY_INFO!F74*100>100,100,V74/COUNTRY_INFO!F74*100), \"-\"),0)","v":0},{"$f":"SUM(T74,V74)","v":0},{"$f":"IF(AND(COUNTRY_INFO!J74>1,COUNTRY_INFO!J74<4), IF(S74/P74*100<>0, IF(X74/P74*100>100,100,X74/P74*100), \"-\"),0)","v":0},{"$f":"COUNTRY_INFO!O74","v":9318.2100000000009},15391,15907,{"$f":"MAX('T1'!L74,'T2'!J74)+MAX('T1'!M74,'T2'!K74)+MAX('T1'!N74,'T2'!L74)","v":31298},{"$f":"IF(COUNTRY_INFO!K74=1,IF(COUNTRY_INFO!F74*0.33>MAX('T1'!M74,'T2'!K74),MAX('T1'!M74,'T2'!K74),COUNTRY_INFO!F74*0.33),IF(COUNTRY_INFO!K74=2,IF(COUNTRY_INFO!F74*0.5>MAX('T1'!M74,'T2'!K74),MAX('T1'!M74,'T2'!K74),COUNTRY_INFO!F74*0.5),IF(COUNTRY_INFO!K74=3,IF(COUNTRY_INFO!F74>MAX('T1'!M74,'T2'!K74),MAX('T1'!M74,'T2'!K74),COUNTRY_INFO!F74),0)))","v":9318.2100000000009},{"$f":"IF(AND(COUNTRY_INFO!K74>0,COUNTRY_INFO!K74<4),IF(Z74>0,IF(COUNTRY_INFO!K74=1, AD74/(COUNTRY_INFO!F74*0.33)*100, IF(COUNTRY_INFO!K74=2, AD74/(COUNTRY_INFO!F74*0.5)*100, IF(COUNTRY_INFO!K74=3, AD74/COUNTRY_INFO!F74*100))),\"-\"),0)","v":100},{"$f":"IF(COUNTRY_INFO!K74=2,IF(COUNTRY_INFO!G74*0.2>MAX('T1'!N74,'T2'!L74),MAX('T1'!N74,'T2'!L74),COUNTRY_INFO!G74*0.2),IF(COUNTRY_INFO!K74=3,IF(COUNTRY_INFO!G74>MAX('T1'!N74,'T2'!L74),MAX('T1'!N74,'T2'!L74),COUNTRY_INFO!G74),0))","v":0},{"$f":"IF(AND(COUNTRY_INFO!K74>0,COUNTRY_INFO!K74<4),IF(Z74>0,IF(COUNTRY_INFO!K74=1, 0, IF(COUNTRY_INFO!K74=2, AF74/(COUNTRY_INFO!G74*0.2)*100, IF(COUNTRY_INFO!K74=3, AF74/COUNTRY_INFO!G74*100))),\"-\"),0)","v":0},{"$f":"SUM(AD74,AF74)","v":9318.2100000000009},{"$f":"IF(AND(COUNTRY_INFO!K74>0,COUNTRY_INFO!K74<4), IF(AC74/Z74*100<>0, IF(AH74/Z74*100>100,100,AH74/Z74*100), \"-\"),0)","v":100},null,{"$f":"IF(AND(D74<>0, D74<>\"Inconnu\",D74<>\"Interrompu\",D74<>\"Non requis\"),D74/COUNTRY_INFO!D74, 0)","v":1},{"$f":"IF(AND(J74<>0,J74<>\"Inconnu\",J74<>\"Interrompu\",J74<>\"Non requis\"),J74/COUNTRY_INFO!D74, 0)","v":0.41498145757780647},{"$f":"IF(AND(P74<>0,P74<>\"Inconnu\",P74<>\"Non requis\"),P74/(COUNTRY_INFO!E74+COUNTRY_INFO!F74), 0)","v":0},{"$f":"IF(AND(Z74<>0,Z74<>\"Inconnu\",Z74<>\"Non requis\"),IF(COUNTRY_INFO!K74=1,1,IF(COUNTRY_INFO!K74=2,0.5*COUNTRY_INFO!F74/(0.5*COUNTRY_INFO!F74+0.2*COUNTRY_INFO!G74),IF(COUNTRY_INFO!K74=3,COUNTRY_INFO!F74/(COUNTRY_INFO!F74+COUNTRY_INFO!G74)))),0)","v":1},{"$f":"IF(AND(Z74<>0,Z74<>\"Inconnu\",Z74<>\"Non requis\"),IF(COUNTRY_INFO!K74=1,0,IF(COUNTRY_INFO!K74=2,0.2*COUNTRY_INFO!G74/(0.5*COUNTRY_INFO!F74+0.2*COUNTRY_INFO!G74),IF(COUNTRY_INFO!K74=3,COUNTRY_INFO!G74/(COUNTRY_INFO!F74+COUNTRY_INFO!G74)))),0)","v":0},{"$f":"MAX(COUNTRY_INFO!D74*AK74*PROFILE!$G$7,COUNTRY_INFO!D74*AL74*PROFILE!$G$7)","v":3763.2669807331827},{"$f":"MAX(COUNTRY_INFO!D74*AK74*PROFILE!$G$8,COUNTRY_INFO!D74*AL74*PROFILE!$G$8,COUNTRY_INFO!D74*AM74*PROFILE!$G$8)","v":13766.991225157391},{"$f":"MAX(COUNTRY_INFO!D74*AK74*PROFILE!$G$9,COUNTRY_INFO!D74*AL74*PROFILE!$G$9,COUNTRY_INFO!D74*AM74*PROFILE!$G$9,IF(AND(DISTRICT!Z74<>\"Inconnu\",Z74<>\"Non requis\"),COUNTRY_INFO!O74*DISTRICT!AN74,0))","v":28441.509401289626},{"$f":"MAX(COUNTRY_INFO!D74*AK74*PROFILE!$G$10,COUNTRY_INFO!D74*AL74*PROFILE!$G$10,IF(AND(DISTRICT!Z74<>\"Inconnu\",Z74<>\"Non requis\"),COUNTRY_INFO!O74*DISTRICT!AO74,0))","v":51642.232392819802},{"$f":"SUM(AP74:AS74)","v":97614},"Y",{"$f":"MAX('MDA2'!J74,'T1'!L74,'T2'!J74,T3_R1!K74,T3_R2!K74)","v":0},{"$f":"MAX('MDA1'!K74,'MDA2'!K74,'MDA3'!I74,'MDA3'!L74,'T1'!M74,'T2'!K74,T3_R1!L74,T3_R2!L74)","v":31298},{"$f":"MAX('MDA1'!L74,'MDA2'!L74,'MDA3'!J74,'MDA3'!M74,'T1'!N74,'T2'!L74,T3_R1!M74,T3_R2!M74)","v":49948},{"$f":"SUM(AV74:AX74)","v":81246},{"$f":"MAX('MDA2'!J74,T74)","v":0},{"$f":"MAX('MDA1'!K74,'MDA2'!K74,'MDA3'!I74,'MDA3'!L74,V74,AD74)","v":28291},{"$f":"MAX('MDA1'!L74,'MDA2'!L74,'MDA3'!J74,'MDA3'!M74,AF74)","v":49948},78239,80.151412707193643]
[{"$f":"IF(COUNTRY_INFO!A75=0,\" \",COUNTRY_INFO!A75)","v":"Burkina Faso"},{"$f":"IF(COUNTRY_INFO!B75=0,\" \",COUNTRY_INFO!B75)","v":"Sud-Ouest"},{"$f":"IF(COUNTRY_INFO!C75=0,\" \",COUNTRY_INFO!C75)","v":"Dano"},{"$f":"COUNTRY_INFO!L75","v":"Interrompu"},null,null,{"$f":"MAX('MDA1'!M75,'MDA2'!M75)","v":0},{"$f":"IF(AND(COUNTRY_INFO!H75>0,COUNTRY_INFO!H75<4),IF(D75>MAX('MDA1'!M75,'MDA2'!M75),MAX('MDA1'!M75,'MDA2'!M75),D75),0)","v":0},{"$f":"IF(AND(COUNTRY_INFO!H75>0,COUNTRY_INFO!H75<4), IF(G75/D75*100<>0, IF(G75/D75*100>100,100,G75/D75*100), \"-\"),0)","v":0},{"$f":"COUNTRY_INFO!M75","v":88660},35923,36427,{"$f":"MAX('MDA1'!M75,MAX('MDA3'!I75,'MDA3'!L75)+MAX('MDA3'!J75,'MDA3'!M75))","v":72350},{"$f":"IF(AND(COUNTRY_INFO!I75>0,COUNTRY_INFO!I75<4),IF(J75>MAX('MDA1'!M75,MAX('MDA3'!I75,'MDA3'!L75)+MAX('MDA3'!J75,'MDA3'!M75)),MAX('MDA1'!M75,MAX('MDA3'!I75,'MDA3'!L75)+MAX('MDA3'!J75,'MDA3'!M75)),J75),0)","v":72350},{"$f":"IF(AND(COUNTRY_INFO!I75>0,COUNTRY_INFO!I75<4), IF(M75/J75*100<>0, IF(M75/J75*100>100,100,M75/J75*100), \"-\"),0)","v":81.603879990976765},{"$f":"COUNTRY_INFO!N75","v":0},36407,37665,{"$f":"SUM(MAX('MDA2'!J75, 'T1'!L75, MAX(T3_R1!K75, T3_R2!K75)), MAX('MDA1'!K75, 'MDA2'!K75, 'T1'!M75, MAX(T3_R1!L75, T3_R2!L75)), MAX('MDA1'!L75, 'MDA2'!L75, 'T1'!N75, MAX(T3_R1!M75, T3_R2!M75)))","v":74072},{"$f":"IF(AND(COUNTRY_INFO!J75>1,COUNTRY_INFO!J75<4),IF(COUNTRY_INFO!E75>MAX('MDA2'!J75,'T1'!L75,MAX(T3_R1!K75,T3_R2!K75)),MAX('MDA2'!J75,'T1'!L75,MAX(T3_R1!K75,T3_R2!K75)),COUNTRY_INFO!E75),0)","v":0},{"$f":"IF(AND(COUNTRY_INFO!J75>1,COUNTRY_INFO!J75<4), IF(T75/COUNTRY_INFO!E75*100<>0, IF(T75/COUNTRY_INFO!E75*100>100,100,T75/COUNTRY_INFO!E75*100), \"-\"),0)","v":0},{"$f":"IF(AND(COUNTRY_INFO!J75>1,COUNTRY_INFO!J75<4),IF(COUNTRY_INFO!F75>MAX('MDA1'!K75,'MDA2'!K75,'T1'!M75,MAX(T3_R1!L75,T3_R2!L75)),MAX('MDA1'!K75,'MDA2'!K75,'T1'!M75,MAX(T3_R1!L75,T3_R2!L75)),COUNTRY_INFO!F75),0)","v":0},{"$f":"IF(AND(COUNTRY_INFO!J75>1,COUNTRY_INFO!J75<4), IF(V75/COUNTRY_INFO!F75*100<>0, IF(V75/COUNTRY_INFO!F75*100>100,100,V75/COUNTRY_INFO!F75*100), \"-\"),0)","v":0},0,{"$f":"IF(AND(COUNTRY_INFO!J75>1,COUNTRY_INFO!J75<4), IF(S75/P75*100<>0, IF(X75/P75*100>100,100,X75/P75*100), \"-\"),0)","v":0},{"$f":"COUNTRY_INFO!O75","v":24123},36407,37665,{"$f":"MAX('T1'!L75,'T2'!J75)+MAX('T1'!M75,'T2'!K75)+MAX('T1'!N75,'T2'!L75)","v":74072},{"$f":"IF(COUNTRY_INFO!K75=1,IF(COUNTRY_INFO!F75*0.33>MAX('T1'!M75,'T2'!K75),MAX('T1'!M75,'T2'!K75),COUNTRY_INFO!F75*0.33),IF(COUNTRY_INFO!K75=2,IF(COUNTRY_INFO!F75*0.5>MAX('T1'!M75,'T2'!K75),MAX('T1'!M75,'T2'!K75),COUNTRY_INFO!F75*0.5),IF(COUNTRY_INFO!K75=3,IF(COUNTRY_INFO!F75>MAX('T1'!M75,'T2'!K75),MAX('T1'!M75,'T2'!K75),COUNTRY_INFO!F75),0)))","v":24123},{"$f":"IF(AND(COUNTRY_INFO!K75>0,COUNTRY_INFO!K75<4),IF(Z75>0,IF(COUNTRY_INFO!K75=1, AD75/(COUNTRY_INFO!F75*0.33)*100, IF(COUNTRY_INFO!K75=2, AD75/(COUNTRY_INFO!F75*0.5)*100, IF(COUNTRY_INFO!K75=3, AD75/COUNTRY_INFO!F75*100))),\"-\"),0)","v":100},{"$f":"IF(COUNTRY_INFO!K75=2,IF(COUNTRY_INFO!G75*0.2>MAX('T1'!N75,'T2'!L75),MAX('T1'!N75,'T2'!L75),COUNTRY_INFO!G75*0.2),IF(COUNTRY_INFO!K75=3,IF(COUNTRY_INFO!G75>MAX('T1'!N75,'T2'!L75),MAX('T1'!N75,'T2'!L75),COUNTRY_INFO!G75),0))","v":0},{"$f":"IF(AND(COUNTRY_INFO!K75>0,COUNTRY_INFO!K75<4),IF(Z75>0,IF(COUNTRY_INFO!K75=1, 0, IF(COUNTRY_INFO!K75=2, AF75/(COUNTRY_INFO!G75*0.2)*100, IF(COUNTRY_INFO!K75=3, AF75/COUNTRY_INFO!G75*100))),\"-\"),0)","v":0},24123,{"$f":"IF(AND(COUNTRY_INFO!K75>0,COUNTRY_INFO!K75<4), IF(AC75/Z75*100<>0, IF(AH75/Z75*100>100,100,AH75/Z75*100), \"-\"),0)","v":100},null,{"$f":"IF(AND(D75<>0, D75<>\"Inconnu\",D75<>\"Interrompu\",D75<>\"Non requis\"),D75/COUNTRY_INFO!D75, 0)","v":0},{"$f":"IF(AND(J75<>0,J75<>\"Inconnu\",J75<>\"Interrompu\",J75<>\"Non requis\"),J75/COUNTRY_INFO!D75, 0)","v":0.35084248098580961},{"$f":"IF(AND(P75<>0,P75<>\"Inconnu\",P75<>\"Non requis\"),P75/(COUNTRY_INFO!E75+COUNTRY_INFO!F75), 0)","v":0},{"$f":"IF(AND(Z75<>0,Z75<>\"Inconnu\",Z75<>\"Non requis\"),IF(COUNTRY_INFO!K75=1,1,IF(COUNTRY_INFO!K75=2,0.5*COUNTRY_INFO!F75/(0.5*COUNTRY_INFO!F75+0.2*COUNTRY_INFO!G75),IF(COUNTRY_INFO!K75=3,COUNTRY_INFO!F75/(COUNTRY_INFO!F75+COUNTRY_INFO!G75)))),0)","v":1},{"$f":"IF(AND(Z75<>0,Z75<>\"Inconnu\",Z75<>\"Non requis\"),IF(COUNTRY_INFO!K75=1,0,IF(COUNTRY_INFO!K75=2,0.2*COUNTRY_INFO!G75/(0.5*COUNTRY_INFO!F75+0.2*COUNTRY_INFO!G75),IF(COUNTRY_INFO!K75=3,COUNTRY_INFO!G75/(COUNTRY_INFO!F75+COUNTRY_INFO!G75)))),0)","v":0},{"$f":"MAX(COUNTRY_INFO!D75*AK75*PROFILE!$G$7,COUNTRY_INFO!D75*AL75*PROFILE!$G$7)","v":3418.0675980064739},{"$f":"MAX(COUNTRY_INFO!D75*AK75*PROFILE!$G$8,COUNTRY_INFO!D75*AL75*PROFILE!$G$8,COUNTRY_INFO!D75*AM75*PROFILE!$G$8)","v":12504.163767722399},{"$f":"MAX(COUNTRY_INFO!D75*AK75*PROFILE!$G$9,COUNTRY_INFO!D75*AL75*PROFILE!$G$9,COUNTRY_INFO!D75*AM75*PROFILE!$G$9,IF(AND(DISTRICT!Z75<>\"Inconnu\",Z75<>\"Non requis\"),COUNTRY_INFO!O75*DISTRICT!AN75,0))","v":25832.608268469055},{"$f":"MAX(COUNTRY_INFO!D75*AK75*PROFILE!$G$10,COUNTRY_INFO!D75*AL75*PROFILE!$G$10,IF(AND(DISTRICT!Z75<>\"Inconnu\",Z75<>\"Non requis\"),COUNTRY_INFO!O75*DISTRICT!AO75,0))","v":46905.160365802076},88660,"Y",{"$f":"MAX('MDA2'!J75,'T1'!L75,'T2'!J75,T3_R1!K75,T3_R2!K75)","v":0},{"$f":"MAX('MDA1'!K75,'MDA2'!K75,'MDA3'!I75,'MDA3'!L75,'T1'!M75,'T2'!K75,T3_R1!L75,T3_R2!L75)","v":74072},{"$f":"MAX('MDA1'!L75,'MDA2'!L75,'MDA3'!J75,'MDA3'!M75,'T1'!N75,'T2'!L75,T3_R1!M75,T3_R2!M75)","v":51419.145000000004},125491.145,{"$f":"MAX('MDA2'!J75,T75)","v":0},{"$f":"MAX('MDA1'!K75,'MDA2'!K75,'MDA3'!I75,'MDA3'!L75,V75,AD75)","v":24123},{"$f":"MAX('MDA1'!L75,'MDA2'!L75,'MDA3'!J75,'MDA3'!M75,AF75)","v":51419.145000000004},75542.145000000004,85.204314234152946]
[{"$f":"IF(COUNTRY_INFO!A76=0,\" \",COUNTRY_INFO!A76)","v":"Burkina Faso"},{"$f":"IF(COUNTRY_INFO!B76=0,\" \",COUNTRY_INFO!B76)","v":"Sud-Ouest"},{"$f":"IF(COUNTRY_INFO!C76=0,\" \",COUNTRY_INFO!C76)","v":"Diébougou"},{"$f":"COUNTRY_INFO!L76","v":139824},58498,56563,{"$f":"MAX('MDA1'!M76,'MDA2'!M76)","v":115061},{"$f":"IF(AND(COUNTRY_INFO!H76>0,COUNTRY_INFO!H76<4),IF(D76>MAX('MDA1'!M76,'MDA2'!M76),MAX('MDA1'!M76,'MDA2'!M76),D76),0)","v":115061},{"$f":"IF(AND(COUNTRY_INFO!H76>0,COUNTRY_INFO!H76<4), IF(G76/D76*100<>0, IF(G76/D76*100>100,100,G76/D76*100), \"-\"),0)","v":82.289878704657283},{"$f":"COUNTRY_INFO!M76","v":34086},13704,13708,{"$f":"MAX('MDA1'!M76,MAX('MDA3'!I76,'MDA3'!L76)+MAX('MDA3'!J76,'MDA3'!M76))","v":115061},{"$f":"IF(AND(COUNTRY_INFO!I76>0,COUNTRY_INFO!I76<4),IF(J76>MAX('MDA1'!M76,MAX('MDA3'!I76,'MDA3'!L76)+MAX('MDA3'!J76,'MDA3'!M76)),MAX('MDA1'!M76,MAX('MDA3'!I76,'MDA3'!L76)+MAX('MDA3'!J76,'MDA3'!M76)),J76),0)","v":34086},{"$f":"IF(AND(COUNTRY_INFO!I76>0,COUNTRY_INFO!I76<4), IF(M76/J76*100<>0, IF(M76/J76*100>100,100,M76/J76*100), \"-\"),0)","v":100},{"$f":"COUNTRY_INFO!N76","v":0},20901,21621,{"$f":"SUM(MAX('MDA2'!J76, 'T1'!L76, MAX(T3_R1!K76, T3_R2!K76)), MAX('MDA1'!K76, 'MDA2'!K76, 'T1'!M76, MAX(T3_R1!L76, T3_R2!L76)), MAX('MDA1'!L76, 'MDA2'!L76, 'T1'!N76, MAX(T3_R1!M76, T3_R2!M76)))","v":115061},{"$f":"IF(AND(COUNTRY_INFO!J76>1,COUNTRY_INFO!J76<4),IF(COUNTRY_INFO!E76>MAX('MDA2'!J76,'T1'!L76,MAX(T3_R1!K76,T3_R2!K76)),MAX('MDA2'!J76,'T1'!L76,MAX(T3_R1!K76,T3_R2!K76)),COUNTRY_INFO!E76),0)","v":0},{"$f":"IF(AND(COUNTRY_INFO!J76>1,COUNTRY_INFO!J76<4), IF(T76/COUNTRY_INFO!E76*100<>0, IF(T76/COUNTRY_INFO!E76*100>100,100,T76/COUNTRY_INFO!E76*100), \"-\"),0)","v":0},{"$f":"IF(AND(COUNTRY_INFO!J76>1,COUNTRY_INFO!J76<4),IF(COUNTRY_INFO!F76>MAX('MDA1'!K76,'MDA2'!K76,'T1'!M76,MAX(T3_R1!L76,T3_R2!L76)),MAX('MDA1'!K76,'MDA2'!K76,'T1'!M76,MAX(T3_R1!L76,T3_R2!L76)),COUNTRY_INFO!F76),0)","v":0},{"$f":"IF(AND(COUNTRY_INFO!J76>1,COUNTRY_INFO!J76<4), IF(V76/COUNTRY_INFO!F76*100<>0, IF(V76/COUNTRY_INFO!F76*100>100,100,V76/COUNTRY_INFO!F76*100), \"-\"),0)","v":0},0,{"$f":"IF(AND(COUNTRY_INFO!J76>1,COUNTRY_INFO!J76<4), IF(S76/P76*100<>0, IF(X76/P76*100>100,100,X76/P76*100), \"-\"),0)","v":0},{"$f":"COUNTRY_INFO!O76","v":13347.18},21163,21791,{"$f":"MAX('T1'!L76,'T2'!J76)+MAX('T1'!M76,'T2'!K76)+MAX('T1'!N76,'T2'!L76)","v":42954},{"$f":"IF(COUNTRY_INFO!K76=1,IF(COUNTRY_INFO!F76*0.33>MAX('T1'!M76,'T2'!K76),MAX('T1'!M76,'T2'!K76),COUNTRY_INFO!F76*0.33),IF(COUNTRY_INFO!K76=2,IF(COUNTRY_INFO!F76*0.5>MAX('T1'!M76,'T2'!K76),MAX('T1'!M76,'T2'!K76),COUNTRY_INFO!F76*0.5),IF(COUNTRY_INFO!K76=3,IF(COUNTRY_INFO!F76>MAX('T1'!M76,'T2'!K76),MAX('T1'!M76,'T2'!K76),COUNTRY_INFO!F76),0)))","v":13347.18},{"$f":"IF(AND(COUNTRY_INFO!K76>0,COUNTRY_INFO!K76<4),IF(Z76>0,IF(COUNTRY_INFO!K76=1, AD76/(COUNTRY_INFO!F76*0.33)*100, IF(COUNTRY_INFO!K76=2, AD76/(COUNTRY_INFO!F76*0.5)*100, IF(COUNTRY_INFO!K76=3, AD76/COUNTRY_INFO!F76*100))),\"-\"),0)","v":100},{"$f":"IF(COUNTRY_INFO!K76=2,IF(COUNTRY_INFO!G76*0.2>MAX('T1'!N76,'T2'!L76),MAX('T1'!N76,'T2'!L76),COUNTRY_INFO!G76*0.2),IF(COUNTRY_INFO!K76=3,IF(COUNTRY_INFO!G76>MAX('T1'!N76,'T2'!L76),MAX('T1'!N76,'T2'!L76),COUNTRY_INFO!G76),0))","v":0},{"$f":"IF(AND(COUNTRY_INFO!K76>0,COUNTRY_INFO!K76<4),IF(Z76>0,IF(COUNTRY_INFO!K76=1, 0, IF(COUNTRY_INFO!K76=2, AF76/(COUNTRY_INFO!G76*0.2)*100, IF(COUNTRY_INFO!K76=3, AF76/COUNTRY_INFO!G76*100))),\"-\"),0)","v":0},13347.18,{"$f":"IF(AND(COUNTRY_INFO!K76>0,COUNTRY_INFO!K76<4), IF(AC76/Z76*100<>0, IF(AH76/Z76*100>100,100,AH76/Z76*100), \"-\"),0)","v":100},null,{"$f":"IF(AND(D76<>0, D76<>\"Inconnu\",D76<>\"Interrompu\",D76<>\"Non requis\"),D76/COUNTRY_INFO!D76, 0)","v":1},{"$f":"IF(AND(J76<>0,J76<>\"Inconnu\",J76<>\"Interrompu\",J76<>\"Non requis\"),J76/COUNTRY_INFO!D76, 0)","v":0.24377789220734639},{"$f":"IF(AND(P76<>0,P76<>\"Inconnu\",P76<>\"Non requis\"),P76/(COUNTRY_INFO!E76+COUNTRY_INFO!F76), 0)","v":0},{"$f":"IF(AND(Z76<>0,Z76<>\"Inconnu\",Z76<>\"Non requis\"),IF(COUNTRY_INFO!K76=1,1,IF(COUNTRY_INFO!K76=2,0.5*COUNTRY_INFO!F76/(0.5*COUNTRY_INFO!F76+0.2*COUNTRY_INFO!G76),IF(COUNTRY_INFO!K76=3,COUNTRY_INFO!F76/(COUNTRY_INFO!F76+COUNTRY_INFO!G76)))),0)","v":1},{"$f":"IF(AND(Z76<>0,Z76<>\"Inconnu\",Z76<>\"Non requis\"),IF(COUNTRY_INFO!K76=1,0,IF(COUNTRY_INFO!K76=2,0.2*COUNTRY_INFO!G76/(0.5*COUNTRY_INFO!F76+0.2*COUNTRY_INFO!G76),IF(COUNTRY_INFO!K76=3,COUNTRY_INFO!G76/(COUNTRY_INFO!F76+COUNTRY_INFO!G76)))),0)","v":0},{"$f":"MAX(COUNTRY_INFO!D76*AK76*PROFILE!$G$7,COUNTRY_INFO!D76*AL76*PROFILE!$G$7)","v":5390.5694092449494},{"$f":"MAX(COUNTRY_INFO!D76*AK76*PROFILE!$G$8,COUNTRY_INFO!D76*AL76*PROFILE!$G$8,COUNTRY_INFO!D76*AM76*PROFILE!$G$8)","v":19720.078893052298},{"$f":"MAX(COUNTRY_INFO!D76*AK76*PROFILE!$G$9,COUNTRY_INFO!D76*AL76*PROFILE!$G$9,COUNTRY_INFO!D76*AM76*PROFILE!$G$9,IF(AND(DISTRICT!Z76<>\"Inconnu\",Z76<>\"Non requis\"),COUNTRY_INFO!O76*DISTRICT!AN76,0))","v":40740.11525524946},{"$f":"MAX(COUNTRY_INFO!D76*AK76*PROFILE!$G$10,COUNTRY_INFO!D76*AL76*PROFILE!$G$10,IF(AND(DISTRICT!Z76<>\"Inconnu\",Z76<>\"Non requis\"),COUNTRY_INFO!O76*DISTRICT!AO76,0))","v":73973.236442453286},139824,"Y",{"$f":"MAX('MDA2'!J76,'T1'!L76,'T2'!J76,T3_R1!K76,T3_R2!K76)","v":0},{"$f":"MAX('MDA1'!K76,'MDA2'!K76,'MDA3'!I76,'MDA3'!L76,'T1'!M76,'T2'!K76,T3_R1!L76,T3_R2!L76)","v":42954},{"$f":"MAX('MDA1'!L76,'MDA2'!L76,'MDA3'!J76,'MDA3'!M76,'T1'!N76,'T2'!L76,T3_R1!M76,T3_R2!M76)","v":72539},115493,{"$f":"MAX('MDA2'!J76,T76)","v":0},{"$f":"MAX('MDA1'!K76,'MDA2'!K76,'MDA3'!I76,'MDA3'!L76,V76,AD76)","v":42522},{"$f":"MAX('MDA1'!L76,'MDA2'!L76,'MDA3'!J76,'MDA3'!M76,AF76)","v":72539},115061,82.289878704657283]
[{"$f":"IF(COUNTRY_INFO!A77=0,\" \",COUNTRY_INFO!A77)","v":"Burkina Faso"},{"$f":"IF(COUNTRY_INFO!B77=0,\" \",COUNTRY_INFO!B77)","v":"Sud-Ouest"},{"$f":"IF(COUNTRY_INFO!C77=0,\" \",COUNTRY_INFO!C77)","v":"Gaoua"},{"$f":"COUNTRY_INFO!L77","v":252385},111301,95477,{"$f":"MAX('MDA1'!M77,'MDA2'!M77)","v":206778},{"$f":"IF(AND(COUNTRY_INFO!H77>0,COUNTRY_INFO!H77<4),IF(D77>MAX('MDA1'!M77,'MDA2'!M77),MAX('MDA1'!M77,'MDA2'!M77),D77),0)","v":206778},{"$f":"IF(AND(COUNTRY_INFO!H77>0,COUNTRY_INFO!H77<4), IF(G77/D77*100<>0, IF(G77/D77*100>100,100,G77/D77*100), \"-\"),0)","v":81.929591695227529},{"$f":"COUNTRY_INFO!M77","v":30610},11823,13168,{"$f":"MAX('MDA1'!M77,MAX('MDA3'!I77,'MDA3'!L77)+MAX('MDA3'!J77,'MDA3'!M77))","v":206778},{"$f":"IF(AND(COUNTRY_INFO!I77>0,COUNTRY_INFO!I77<4),IF(J77>MAX('MDA1'!M77,MAX('MDA3'!I77,'MDA3'!L77)+MAX('MDA3'!J77,'MDA3'!M77)),MAX('MDA1'!M77,MAX('MDA3'!I77,'MDA3'!L77)+MAX('MDA3'!J77,'MDA3'!M77)),J77),0)","v":30610},{"$f":"IF(AND(COUNTRY_INFO!I77>0,COUNTRY_INFO!I77<4), IF(M77/J77*100<>0, IF(M77/J77*100>100,100,M77/J77*100), \"-\"),0)","v":100},{"$f":"COUNTRY_INFO!N77","v":0},41583,48782,{"$f":"SUM(MAX('MDA2'!J77, 'T1'!L77, MAX(T3_R1!K77, T3_R2!K77)), MAX('MDA1'!K77, 'MDA2'!K77, 'T1'!M77, MAX(T3_R1!L77, T3_R2!L77)), MAX('MDA1'!L77, 'MDA2'!L77, 'T1'!N77, MAX(T3_R1!M77, T3_R2!M77)))","v":206778},{"$f":"IF(AND(COUNTRY_INFO!J77>1,COUNTRY_INFO!J77<4),IF(COUNTRY_INFO!E77>MAX('MDA2'!J77,'T1'!L77,MAX(T3_R1!K77,T3_R2!K77)),MAX('MDA2'!J77,'T1'!L77,MAX(T3_R1!K77,T3_R2!K77)),COUNTRY_INFO!E77),0)","v":0},{"$f":"IF(AND(COUNTRY_INFO!J77>1,COUNTRY_INFO!J77<4), IF(T77/COUNTRY_INFO!E77*100<>0, IF(T77/COUNTRY_INFO!E77*100>100,100,T77/COUNTRY_INFO!E77*100), \"-\"),0)","v":0},{"$f":"IF(AND(COUNTRY_INFO!J77>1,COUNTRY_INFO!J77<4),IF(COUNTRY_INFO!F77>MAX('MDA1'!K77,'MDA2'!K77,'T1'!M77,MAX(T3_R1!L77,T3_R2!L77)),MAX('MDA1'!K77,'MDA2'!K77,'T1'!M77,MAX(T3_R1!L77,T3_R2!L77)),COUNTRY_INFO!F77),0)","v":0},{"$f":"IF(AND(COUNTRY_INFO!J77>1,COUNTRY_INFO!J77<4), IF(V77/COUNTRY_INFO!F77*100<>0, IF(V77/COUNTRY_INFO!F77*100>100,100,V77/COUNTRY_INFO!F77*100), \"-\"),0)","v":0},0,{"$f":"IF(AND(COUNTRY_INFO!J77>1,COUNTRY_INFO!J77<4), IF(S77/P77*100<>0, IF(X77/P77*100>100,100,X77/P77*100), \"-\"),0)","v":0},{"$f":"COUNTRY_INFO!O77","v":24944.7},31755,34008,{"$f":"MAX('T1'!L77,'T2'!J77)+MAX('T1'!M77,'T2'!K77)+MAX('T1'!N77,'T2'!L77)","v":65763},{"$f":"IF(COUNTRY_INFO!K77=1,IF(COUNTRY_INFO!F77*0.33>MAX('T1'!M77,'T2'!K77),MAX('T1'!M77,'T2'!K77),COUNTRY_INFO!F77*0.33),IF(COUNTRY_INFO!K77=2,IF(COUNTRY_INFO!F77*0.5>MAX('T1'!M77,'T2'!K77),MAX('T1'!M77,'T2'!K77),COUNTRY_INFO!F77*0.5),IF(COUNTRY_INFO!K77=3,IF(COUNTRY_INFO!F77>MAX('T1'!M77,'T2'!K77),MAX('T1'!M77,'T2'!K77),COUNTRY_INFO!F77),0)))","v":24944.7},{"$f":"IF(AND(COUNTRY_INFO!K77>0,COUNTRY_INFO!K77<4),IF(Z77>0,IF(COUNTRY_INFO!K77=1, AD77/(COUNTRY_INFO!F77*0.33)*100, IF(COUNTRY_INFO!K77=2, AD77/(COUNTRY_INFO!F77*0.5)*100, IF(COUNTRY_INFO!K77=3, AD77/COUNTRY_INFO!F77*100))),\"-\"),0)","v":100},{"$f":"IF(COUNTRY_INFO!K77=2,IF(COUNTRY_INFO!G77*0.2>MAX('T1'!N77,'T2'!L77),MAX('T1'!N77,'T2'!L77),COUNTRY_INFO!G77*0.2),IF(COUNTRY_INFO!K77=3,IF(COUNTRY_INFO!G77>MAX('T1'!N77,'T2'!L77),MAX('T1'!N77,'T2'!L77),COUNTRY_INFO!G77),0))","v":0},{"$f":"IF(AND(COUNTRY_INFO!K77>0,COUNTRY_INFO!K77<4),IF(Z77>0,IF(COUNTRY_INFO!K77=1, 0, IF(COUNTRY_INFO!K77=2, AF77/(COUNTRY_INFO!G77*0.2)*100, IF(COUNTRY_INFO!K77=3, AF77/COUNTRY_INFO!G77*100))),\"-\"),0)","v":0},24944.7,{"$f":"IF(AND(COUNTRY_INFO!K77>0,COUNTRY_INFO!K77<4), IF(AC77/Z77*100<>0, IF(AH77/Z77*100>100,100,AH77/Z77*100), \"-\"),0)","v":100},null,{"$f":"IF(AND(D77<>0, D77<>\"Inconnu\",D77<>\"Interrompu\",D77<>\"Non requis\"),D77/COUNTRY_INFO!D77, 0)","v":1},{"$f":"IF(AND(J77<>0,J77<>\"Inconnu\",J77<>\"Interrompu\",J77<>\"Non requis\"),J77/COUNTRY_INFO!D77, 0)","v":0.12128296055629297},{"$f":"IF(AND(P77<>0,P77<>\"Inconnu\",P77<>\"Non requis\"),P77/(COUNTRY_INFO!E77+COUNTRY_INFO!F77), 0)","v":0},{"$f":"IF(AND(Z77<>0,Z77<>\"Inconnu\",Z77<>\"Non requis\"),IF(COUNTRY_INFO!K77=1,1,IF(COUNTRY_INFO!K77=2,0.5*COUNTRY_INFO!F77/(0.5*COUNTRY_INFO!F77+0.2*COUNTRY_INFO!G77),IF(COUNTRY_INFO!K77=3,COUNTRY_INFO!F77/(COUNTRY_INFO!F77+COUNTRY_INFO!G77)))),0)","v":1},{"$f":"IF(AND(Z77<>0,Z77<>\"Inconnu\",Z77<>\"Non requis\"),IF(COUNTRY_INFO!K77=1,0,IF(COUNTRY_INFO!K77=2,0.2*COUNTRY_INFO!G77/(0.5*COUNTRY_INFO!F77+0.2*COUNTRY_INFO!G77),IF(COUNTRY_INFO!K77=3,COUNTRY_INFO!G77/(COUNTRY_INFO!F77+COUNTRY_INFO!G77)))),0)","v":0},{"$f":"MAX(COUNTRY_INFO!D77*AK77*PROFILE!$G$7,COUNTRY_INFO!D77*AL77*PROFILE!$G$7)","v":9730.0811044762468},{"$f":"MAX(COUNTRY_INFO!D77*AK77*PROFILE!$G$8,COUNTRY_INFO!D77*AL77*PROFILE!$G$8,COUNTRY_INFO!D77*AM77*PROFILE!$G$8)","v":35595.120375779581},{"$f":"MAX(COUNTRY_INFO!D77*AK77*PROFILE!$G$9,COUNTRY_INFO!D77*AL77*PROFILE!$G$9,COUNTRY_INFO!D77*AM77*PROFILE!$G$9,IF(AND(DISTRICT!Z77<>\"Inconnu\",Z77<>\"Non requis\"),COUNTRY_INFO!O77*DISTRICT!AN77,0))","v":73536.688899589019},{"$f":"MAX(COUNTRY_INFO!D77*AK77*PROFILE!$G$10,COUNTRY_INFO!D77*AL77*PROFILE!$G$10,IF(AND(DISTRICT!Z77<>\"Inconnu\",Z77<>\"Non requis\"),COUNTRY_INFO!O77*DISTRICT!AO77,0))","v":133523.10962015516},252385,"Y",{"$f":"MAX('MDA2'!J77,'T1'!L77,'T2'!J77,T3_R1!K77,T3_R2!K77)","v":0},{"$f":"MAX('MDA1'!K77,'MDA2'!K77,'MDA3'!I77,'MDA3'!L77,'T1'!M77,'T2'!K77,T3_R1!L77,T3_R2!L77)","v":90365},{"$f":"MAX('MDA1'!L77,'MDA2'!L77,'MDA3'!J77,'MDA3'!M77,'T1'!N77,'T2'!L77,T3_R1!M77,T3_R2!M77)","v":116413},206778,{"$f":"MAX('MDA2'!J77,T77)","v":0},{"$f":"MAX('MDA1'!K77,'MDA2'!K77,'MDA3'!I77,'MDA3'!L77,V77,AD77)","v":90365},{"$f":"MAX('MDA1'!L77,'MDA2'!L77,'MDA3'!J77,'MDA3'!M77,AF77)","v":116413},206778,81.929591695227529]
[{"$f":"IF(COUNTRY_INFO!A78=0,\" \",COUNTRY_INFO!A78)","v":"Burkina Faso"},{"$f":"IF(COUNTRY_INFO!B78=0,\" \",COUNTRY_INFO!B78)","v":"Sud-Ouest"},{"$f":"IF(COUNTRY_INFO!C78=0,\" \",COUNTRY_INFO!C78)","v":"Kampti"},{"$f":"COUNTRY_INFO!L78","v":99853},41894,38056,{"$f":"MAX('MDA1'!M78,'MDA2'!M78)","v":79950},{"$f":"IF(AND(COUNTRY_INFO!H78>0,COUNTRY_INFO!H78<4),IF(D78>MAX('MDA1'!M78,'MDA2'!M78),MAX('MDA1'!M78,'MDA2'!M78),D78),0)","v":79950},{"$f":"IF(AND(COUNTRY_INFO!H78>0,COUNTRY_INFO!H78<4), IF(G78/D78*100<>0, IF(G78/D78*100>100,100,G78/D78*100), \"-\"),0)","v":80.067699518291889},{"$f":"COUNTRY_INFO!M78","v":0},null,null,{"$f":"MAX('MDA1'!M78,MAX('MDA3'!I78,'MDA3'!L78)+MAX('MDA3'!J78,'MDA3'!M78))","v":79950},{"$f":"IF(AND(COUNTRY_INFO!I78>0,COUNTRY_INFO!I78<4),IF(J78>MAX('MDA1'!M78,MAX('MDA3'!I78,'MDA3'!L78)+MAX('MDA3'!J78,'MDA3'!M78)),MAX('MDA1'!M78,MAX('MDA3'!I78,'MDA3'!L78)+MAX('MDA3'!J78,'MDA3'!M78)),J78),0)","v":0},{"$f":"IF(AND(COUNTRY_INFO!I78>0,COUNTRY_INFO!I78<4), IF(M78/J78*100<>0, IF(M78/J78*100>100,100,M78/J78*100), \"-\"),0)","v":0},{"$f":"COUNTRY_INFO!N78","v":0},11121,12048,{"$f":"SUM(MAX('MDA2'!J78, 'T1'!L78, MAX(T3_R1!K78, T3_R2!K78)), MAX('MDA1'!K78, 'MDA2'!K78, 'T1'!M78, MAX(T3_R1!L78, T3_R2!L78)), MAX('MDA1'!L78, 'MDA2'!L78, 'T1'!N78, MAX(T3_R1!M78, T3_R2!M78)))","v":79950},{"$f":"IF(AND(COUNTRY_INFO!J78>1,COUNTRY_INFO!J78<4),IF(COUNTRY_INFO!E78>MAX('MDA2'!J78,'T1'!L78,MAX(T3_R1!K78,T3_R2!K78)),MAX('MDA2'!J78,'T1'!L78,MAX(T3_R1!K78,T3_R2!K78)),COUNTRY_INFO!E78),0)","v":0},{"$f":"IF(AND(COUNTRY_INFO!J78>1,COUNTRY_INFO!J78<4), IF(T78/COUNTRY_INFO!E78*100<>0, IF(T78/COUNTRY_INFO!E78*100>100,100,T78/COUNTRY_INFO!E78*100), \"-\"),0)","v":0},{"$f":"IF(AND(COUNTRY_INFO!J78>1,COUNTRY_INFO!J78<4),IF(COUNTRY_INFO!F78>MAX('MDA1'!K78,'MDA2'!K78,'T1'!M78,MAX(T3_R1!L78,T3_R2!L78)),MAX('MDA1'!K78,'MDA2'!K78,'T1'!M78,MAX(T3_R1!L78,T3_R2!L78)),COUNTRY_INFO!F78),0)","v":0},{"$f":"IF(AND(COUNTRY_INFO!J78>1,COUNTRY_INFO!J78<4), IF(V78/COUNTRY_INFO!F78*100<>0, IF(V78/COUNTRY_INFO!F78*100>100,100,V78/COUNTRY_INFO!F78*100), \"-\"),0)","v":0},0,{"$f":"IF(AND(COUNTRY_INFO!J78>1,COUNTRY_INFO!J78<4), IF(S78/P78*100<>0, IF(X78/P78*100>100,100,X78/P78*100), \"-\"),0)","v":0},{"$f":"COUNTRY_INFO!O78","v":8680.65},14759,15488,{"$f":"MAX('T1'!L78,'T2'!J78)+MAX('T1'!M78,'T2'!K78)+MAX('T1'!N78,'T2'!L78)","v":30247},{"$f":"IF(COUNTRY_INFO!K78=1,IF(COUNTRY_INFO!F78*0.33>MAX('T1'!M78,'T2'!K78),MAX('T1'!M78,'T2'!K78),COUNTRY_INFO!F78*0.33),IF(COUNTRY_INFO!K78=2,IF(COUNTRY_INFO!F78*0.5>MAX('T1'!M78,'T2'!K78),MAX('T1'!M78,'T2'!K78),COUNTRY_INFO!F78*0.5),IF(COUNTRY_INFO!K78=3,IF(COUNTRY_INFO!F78>MAX('T1'!M78,'T2'!K78),MAX('T1'!M78,'T2'!K78),COUNTRY_INFO!F78),0)))","v":8680.65},{"$f":"IF(AND(COUNTRY_INFO!K78>0,COUNTRY_INFO!K78<4),IF(Z78>0,IF(COUNTRY_INFO!K78=1, AD78/(COUNTRY_INFO!F78*0.33)*100, IF(COUNTRY_INFO!K78=2, AD78/(COUNTRY_INFO!F78*0.5)*100, IF(COUNTRY_INFO!K78=3, AD78/COUNTRY_INFO!F78*100))),\"-\"),0)","v":100},{"$f":"IF(COUNTRY_INFO!K78=2,IF(COUNTRY_INFO!G78*0.2>MAX('T1'!N78,'T2'!L78),MAX('T1'!N78,'T2'!L78),COUNTRY_INFO!G78*0.2),IF(COUNTRY_INFO!K78=3,IF(COUNTRY_INFO!G78>MAX('T1'!N78,'T2'!L78),MAX('T1'!N78,'T2'!L78),COUNTRY_INFO!G78),0))","v":0},{"$f":"IF(AND(COUNTRY_INFO!K78>0,COUNTRY_INFO!K78<4),IF(Z78>0,IF(COUNTRY_INFO!K78=1, 0, IF(COUNTRY_INFO!K78=2, AF78/(COUNTRY_INFO!G78*0.2)*100, IF(COUNTRY_INFO!K78=3, AF78/COUNTRY_INFO!G78*100))),\"-\"),0)","v":0},8680.65,{"$f":"IF(AND(COUNTRY_INFO!K78>0,COUNTRY_INFO!K78<4), IF(AC78/Z78*100<>0, IF(AH78/Z78*100>100,100,AH78/Z78*100), \"-\"),0)","v":100},null,{"$f":"IF(AND(D78<>0, D78<>\"Inconnu\",D78<>\"Interrompu\",D78<>\"Non requis\"),D78/COUNTRY_INFO!D78, 0)","v":1},{"$f":"IF(AND(J78<>0,J78<>\"Inconnu\",J78<>\"Interrompu\",J78<>\"Non requis\"),J78/COUNTRY_INFO!D78, 0)","v":0},{"$f":"IF(AND(P78<>0,P78<>\"Inconnu\",P78<>\"Non requis\"),P78/(COUNTRY_INFO!E78+COUNTRY_INFO!F78), 0)","v":0},{"$f":"IF(AND(Z78<>0,Z78<>\"Inconnu\",Z78<>\"Non requis\"),IF(COUNTRY_INFO!K78=1,1,IF(COUNTRY_INFO!K78=2,0.5*COUNTRY_INFO!F78/(0.5*COUNTRY_INFO!F78+0.2*COUNTRY_INFO!G78),IF(COUNTRY_INFO!K78=3,COUNTRY_INFO!F78/(COUNTRY_INFO!F78+COUNTRY_INFO!G78)))),0)","v":1},{"$f":"IF(AND(Z78<>0,Z78<>\"Inconnu\",Z78<>\"Non requis\"),IF(COUNTRY_INFO!K78=1,0,IF(COUNTRY_INFO!K78=2,0.2*COUNTRY_INFO!G78/(0.5*COUNTRY_INFO!F78+0.2*COUNTRY_INFO!G78),IF(COUNTRY_INFO!K78=3,COUNTRY_INFO!G78/(COUNTRY_INFO!F78+COUNTRY_INFO!G78)))),0)","v":0},{"$f":"MAX(COUNTRY_INFO!D78*AK78*PROFILE!$G$7,COUNTRY_INFO!D78*AL78*PROFILE!$G$7)","v":3849.586102681485},{"$f":"MAX(COUNTRY_INFO!D78*AK78*PROFILE!$G$8,COUNTRY_INFO!D78*AL78*PROFILE!$G$8,COUNTRY_INFO!D78*AM78*PROFILE!$G$8)","v":14082.768607019905},{"$f":"MAX(COUNTRY_INFO!D78*AK78*PROFILE!$G$9,COUNTRY_INFO!D78*AL78*PROFILE!$G$9,COUNTRY_INFO!D78*AM78*PROFILE!$G$9,IF(AND(DISTRICT!Z78<>\"Inconnu\",Z78<>\"Non requis\"),COUNTRY_INFO!O78*DISTRICT!AN78,0))","v":29093.880368051439},{"$f":"MAX(COUNTRY_INFO!D78*AK78*PROFILE!$G$10,COUNTRY_INFO!D78*AL78*PROFILE!$G$10,IF(AND(DISTRICT!Z78<>\"Inconnu\",Z78<>\"Non requis\"),COUNTRY_INFO!O78*DISTRICT!AO78,0))","v":52826.764922247174},99853,"Y",{"$f":"MAX('MDA2'!J78,'T1'!L78,'T2'!J78,T3_R1!K78,T3_R2!K78)","v":0},{"$f":"MAX('MDA1'!K78,'MDA2'!K78,'MDA3'!I78,'MDA3'!L78,'T1'!M78,'T2'!K78,T3_R1!L78,T3_R2!L78)","v":30247},{"$f":"MAX('MDA1'!L78,'MDA2'!L78,'MDA3'!J78,'MDA3'!M78,'T1'!N78,'T2'!L78,T3_R1!M78,T3_R2!M78)","v":56781},87028,{"$f":"MAX('MDA2'!J78,T78)","v":0},{"$f":"MAX('MDA1'!K78,'MDA2'!K78,'MDA3'!I78,'MDA3'!L78,V78,AD78)","v":23169},{"$f":"MAX('MDA1'!L78,'MDA2'!L78,'MDA3'!J78,'MDA3'!M78,AF78)","v":56781},79950,80.067699518291889]

{"sheet":"SUMMARY","index":10,"n_rows":70,"n_cols":8,"rows_kept":70,"cut":false,"hidden":false,"merged":[[15,1,15,3],[0,1,0,5],[1,1,1,7],[5,1,11,7],[3,3,3,5],[32,1,32,2],[33,1,33,2],[34,1,34,2],[35,1,35,2],[23,1,23,5],[31,1,31,2],[24,1,24,5],[25,1,25,5],[26,1,26,5],[27,1,27,5],[69,1,69,2],[36,1,36,2],[37,1,37,2],[38,1,38,2],[66,1,66,7],[54,1,60,7],[68,1,68,2],[49,1,49,7],[50,3,50,4],[62,1,62,3],[64,1,64,3],[62,4,62,7],[63,4,64,7]]}
[]
[null,"Formulaire de Rapport Commun v.3"]
[]
[null,"Pays",null,{"$f":"IF(INTRO!$E$34<>0,INTRO!$E$34,\" \")","v":"Burkina Faso"},null,null,"Année",{"$f":"IF(INTRO!$E$36<>0,INTRO!$E$36,\" \")","v":2017}]
[]
[null,"Les autorités nationales sont priées de compléter ce formulaire de rapport commun et de le soumettre à l'Organisation mondiale de la Santé avant le 15 août de l'année en cours pour rapporter les données des activités de chimioprévention mises en oeuvre l'année précédente. "]
[]
[]
[]
[]
[]
[]
[]
[null,"Nombre de personnes ayant reçu un traitement (au moins une fois) pour les maladies"]
[]
[null,null,null,null,"EAPréS","EAS","Adultes","Total"]
[null,"Filariose lymphatique",null,null,"Non admissible",1564409.4426,2664988.5573999998,{"$f":"SUM(E17:G17)","v":4229398}]
[null,"Onchocercose",null,null,"Non admissible",1606362,2747985,{"$f":"SUM(E18:G18)","v":4354347}]
[null,"Géohelminthiases",null,null,0,3073778,4126627,{"$f":"SUM(E19:G19)","v":7200405}]
[null,"Schistosomiase",null,null,"Non ciblé",2306821,2239176,{"$f":"SUM(E20:G20)","v":4545997}]
[]
[null,"Couverture des interventions de CP contre les maladies (%) "]
[]
[null,null,null,null,null,null,"Géographique","National"]
[null,"Filariose lymphatique",null,null,null,null,96,76.479275415754771]
[null,"Onchocercose",null,null,null,null,100,88.520044153676338]
[null,"Géohelminthiases",null,null,null,null,0,0]
[null,"Schistosomiase",null,null,null,null,40,35.48425919949841]
[]
[null,"Nombre de personnes traitées et couverture du programme en pourcentage, par intervention de CP"]
[]
[null,null,null,"EAPréS","EAS","Adultes","Total","Couverture"]
[null,"MDA 1 (IVM+ALB)",null,"Non admissible",{"$f":"'MDA1'!$K$4","v":1564409.4426},{"$f":"'MDA1'!$L$4","v":2664988.5573999998},{"$f":"'MDA1'!$M$4","v":4229398},{"$f":"'MDA1'!$Q$4","v":94.922707778463305}]
[null,"MDA 2 (DEC+ALB)",null,{"$f":"'MDA2'!$J$4","v":0},{"$f":"'MDA2'!$K$4","v":0},{"$f":"'MDA2'!$L$4","v":0},{"$f":"'MDA2'!$M$4","v":0},{"$f":"'MDA2'!$Q$4","v":" "}]
[null,"MDA 3 (IVM)",null,"Non admissible",{"$f":"'MDA3'!$O$4","v":69774.224999999991},{"$f":"'MDA3'!$P$4","v":138414.77500000002},{"$f":"'MDA3'!$Q$4","v":208189},{"$f":"'MDA3'!$T$4","v":97.779416392303105}]
[null,"T 1 (PZQ+ALB/MBD)",null,{"$f":"IF('T1'!$L$4<>0,'T1'!$L$4,\"Non ciblé\")","v":"Non ciblé"},{"$f":"'T1'!$M$4","v":1509369},{"$f":"IF('T1'!$N$4<>0,'T1'!$N$4,\"Non ciblé\")","v":1461638},{"$f":"'T1'!$O$4","v":2971007},{"$f":"'T1'!$S$4","v":98.003032116286533}]
[null,"T 2 (PZQ)",null,{"$f":"IF('T2'!$J$4<>0,'T2'!$J$4,\"Non ciblé\")","v":"Non ciblé"},{"$f":"'T2'!$K$4","v":797452},{"$f":"'T2'!$L$4","v":777538},{"$f":"'T2'!$M$4","v":1574990},{"$f":"'T2'!$Q$4","v":97.534316815766104}]
[null,"T 3 (ALB/MBD) - tournée 1",null,{"$f":"T3_R1!$K$4","v":0},{"$f":"T3_R1!$L$4","v":0},{"$f":"IF(T3_R1!$M$4<>0,T3_R1!$M$4,\"Non ciblé\")","v":"Non ciblé"},{"$f":"T3_R1!$N$4","v":0},{"$f":"T3_R1!$R$4","v":" "}]
[null,"T 3 (ALB/MBD) - tournée 2",null,{"$f":"T3_R2!$K$4","v":0},{"$f":"T3_R2!$L$4","v":0},{"$f":"IF(T3_R2!$M$4<>0,T3_R2!$M$4,\"Non ciblé\")","v":"Non ciblé"},{"$f":"T3_R2!$N$4","v":0},{"$f":"T3_R2!$R$4","v":" "}]
[]
[null,"Inventaire des médicaments pour la chimiothérapie préventive dans le pays"]
[]
[null,null,"IVM","DEC","ALB (FL)","ALB (STH)","MBD","PZQ"]
[null,"Disponible",808628,0,2280000,278617,0,12667000]
[null,"Distribué",12899610,null,4631000,1428617,null,12791000]
[null,"Gaspillé"]
[null,"Reçus",14278500,null,3750000,1150000,null,13337000]
[null,"Restant",{"$f":"C44-C45-C46+C47","v":2187518},0,1399000,{"$f":"F44-F45-F46+F47","v":0},0,13213000]
[]
[null,"Veuillez indiquer le médicament qui a été utilisé pour traiter les EAPréS, et les mécanismes de distribution"]
[null,"Médicament",null,"Mécanismes de distribution",null,null,"Source"]
[]
[null,"Remarques supplémentaires évenuelles concernant le rapport"]
[]
[null,"Second round of MDA1 was also implemented in Sud-Ouest province in 4 districts. In total 374,798 people were treated and 134,527 of them were SAC. This information should be reflected in inventory of medicines.\nSecond round was also implemented for SCH (T2) in Centre-Est province in 6 districts. In this form highest number of SAC and adults treated during 2 rounds was taken. These figures in T2 are presenting number of people received at least one round for SCH. In addition 439,229 SAC and 537,561 adults received PZQ. In total 976,790 people. This information should be reflected in inventory of medicines."]
[]
[]
[]
[]
[]
[]
[]
[null,"Nom et signature du Coordonnateur MTN \nou du Représentant du Ministère de la Santé :",null,null,"Dr BOUGOUMA Clarisse"]
[null,null,null,null,"2018-04-05"]
[null,"Date:"]
[]
[null,"Veuillez envoyer le rapport national (signé et sous format électronique) au représentant de l'OMS du pays en mettant en copie :"]
[]
[null,"Siège de l'OMS ",null,"PC_JointForms@who.int"]
[null,"Bureau régional de l'OMS",null,"Conseiller régional MTN"]

{"sheet":"PROFILE","index":11,"n_rows":124,"n_cols":8,"rows_kept":124,"cut":false,"hidden":true,"merged":[[16,1,16,6],[18,1,18,6],[14,1,14,6],[15,1,15,6],[7,4,7,5],[8,4,8,5],[9,4,9,5],[7,1,7,3],[8,1,8,3],[9,1,9,3],[17,1,17,6],[63,1,63,3],[25,1,25,3],[0,1,0,5],[1,1,1,7],[3,3,3,5],[5,3,5,5],[4,1,4,7],[5,1,5,2],[11,1,11,6],[6,1,6,3],[6,4,6,5],[12,1,12,6],[47,1,47,3],[51,1,51,3],[13,1,13,6],[27,1,27,3],[28,1,28,3],[59,1,59,3],[30,1,30,3],[34,1,34,3],[42,1,42,3],[81,1,81,3],[19,1,19,6],[43,1,43,3],[77,1,77,3],[80,1,80,3],[78,1,78,3],[23,1,23,3],[20,1,20,6],[79,1,79,3],[55,1,55,3],[65,1,65,3],[29,1,29,3],[21,1,21,6],[69,1,69,3],[73,1,73,3],[26,1,26,3],[123,1,124,7],[85,6,85,7],[87,6,87,7],[89,6,89,7],[86,6,86,7],[88,6,88,7]]}
[]
[null,"Formulaire de Rapport Commun v.3 - CP"]
[]
[null,"Pays",null,{"$f":"IF(INTRO!$E$34<>0,INTRO!$E$34,\" \")","v":"Burkina Faso"},null,null,"Année",{"$f":"IF(INTRO!$E$36<>0,INTRO!$E$36,\" \")","v":2017}]
[null,"!!! ATTENTION !!!\nAvant d’analyser les données dans le profil du pays, merci de vous assurer que le rapport dans l’onglet SUMMARY est bien mis à jour"]
[null,"Population totale ",null,null,null,null,1,{"$f":"COUNTRY_INFO!D4","v":19632147}]
[null,"Population — autres groupes d’âge",null,null,null,null,{"$f":"IF($H$6<>0,H7/$H$6,0)","v":3.8552533250693369E-2},{"$f":"H6-SUM(H8:H10)","v":756869}]
[null,"Population — EAPréS",null,null,{"$f":"INTRO!B48","v":"1-4 ans"},null,{"$f":"IF($H$6<>0,H8/$H$6,0)","v":0.14103500753127002},{"$f":"COUNTRY_INFO!E4","v":2768820}]
[null,"Population — EAS",null,null,{"$f":"INTRO!B49","v":"5-14 ans"},null,{"$f":"IF($H$6<>0,H9/$H$6,0)","v":0.29136711333711995},{"$f":"COUNTRY_INFO!F4","v":5720162}]
[null,"Population — Adults",null,null,{"$f":"INTRO!B50","v":"15 ans et plus"},null,0.52904534588091667,{"$f":"COUNTRY_INFO!G4","v":10386296}]
[]
[null,"Nombre total d’individus nécessitant une CP pour au moins une des maladies (FL, Oncho, STH, SCH)",null,null,null,null,null,{"$f":"DISTRICT!AT6","v":8353377.4899387425}]
[null,"Proportion du nombre d’individus nécessitant un CP pour au moins une maladie parmi la population totale",null,null,null,null,null,{"$f":"IF(H6<>0,H12/H6,0)","v":0.42549485239381829}]
[null,"Nombre d’UMOs nécessitant une CP pour au moins une des maladies (FL, Oncho, STH, SCH)",null,null,null,null,null,{"$f":"COUNTIF(DISTRICT!AT9:AT1000,\">0\")","v":70}]
[null,"Nombre d’UMOs ayant reçu une CP pour au moins une des maladies (FL, Oncho, STH, SCH)",null,null,null,null,null,{"$f":"COUNTIF(DISTRICT!AY9:AY1000,\">0\")","v":44}]
[null,"Proportion d’UMOs nécessitant une CP pour au moins une maladie et l’ayant reçue",null,null,null,null,null,{"$f":"IF(H14<>0,H15/H14,0)","v":0.62857142857142856}]
[null,"Nombre total d’individus ayant été traités pour au moins une maladie (FL, Oncho, STH, SCH)",null,null,null,null,null,{"$f":"DISTRICT!AY6","v":7679915.7023999998}]
[null,"Nombre total d’individus nécessitant un traitement ayant reçu une CP pour au moins une maladie (FL, Oncho, STH, SCH)",null,null,null,null,null,{"$f":"DISTRICT!BC6","v":5457402.1449999996}]
[null,"Couverture CP pour au moins une maladie (FL, Oncho, STH, SCH)",null,null,null,null,null,{"$f":"DISTRICT!BD6","v":0.65331683520506389}]
[null,"Nombre d’UMOs ayant été traitées pour toutes les maladies nécessitant une CP dans ces unités",null,null,null,null,null,{"$f":"DISTRICT!AU6","v":27}]
[null,"Population nécessitant une CP dans des UMOs qui ont été traitées pour toutes les maladies requérant une CP",null,null,null,null,null,{"$f":"SUMIF(DISTRICT!AU9:AU1000,\"Y\",DISTRICT!AT9:AT1000)","v":3306537.7999999993}]
[null,"Population ayant reçu une CP dans des UMOs qui ont été traitées pour toutes les maladies nécessitant une CP",null,null,null,null,null,{"$f":"SUMIF(DISTRICT!AU9:AU1000,\"Y\",DISTRICT!AY9:AY1000)","v":4839999.7023999998}]
[]
[null,null,null,null,"FL","ONCHO","STH","SCH"]
[]
[null,"Maladies nécessitant une CP dans la pays",null,null,{"$f":"IF(INTRO!E38=\"Endémique\",\"Yes\",\"No\")","v":"Yes"},{"$f":"IF(INTRO!E40=\"Endémique\",\"Yes\",\"No\")","v":"Yes"},{"$f":"IF(INTRO!E42=\"Endémique\",\"Yes\",\"No\")","v":"Yes"},{"$f":"IF(INTRO!E44=\"Endémique\",\"Yes\",\"No\")","v":"Yes"}]
[null,"Nombre d’UMOs dans le pays",null,null,{"$f":"IF(E26=\"Yes\",INTRO!$E$46,\"-\")","v":70},{"$f":"IF(F26=\"Yes\",INTRO!$E$46,\"-\")","v":70},{"$f":"IF(G26=\"Yes\",INTRO!$E$46,\"-\")","v":70},{"$f":"IF(H26=\"Yes\",INTRO!$E$46,\"-\")","v":70}]
[null,"Nombre d’UMOs dont le statut d’endémicité est connu",null,null,{"$f":"IF(E26=\"Yes\",E27-E29,\"-\")","v":70},{"$f":"IF(F26=\"Yes\",F27-F29,\"-\")","v":70},{"$f":"IF(G26=\"Yes\",G27-G29,\"-\")","v":70},{"$f":"IF(H26=\"Yes\",H27-H29,\"-\")","v":70}]
[null,"Nombre d’UMOs dont le statut d’endémicité est inconnu",null,null,{"$f":"IF(E26=\"Yes\",E27-(992-COUNTIF(COUNTRY_INFO!H$9:H$1000,\"\"))+COUNTIF(COUNTRY_INFO!H$9:H$1000,\"=4\"),\"-\")","v":0},{"$f":"IF(F26=\"Yes\",F27-(992-COUNTIF(COUNTRY_INFO!I$9:I$1000,\"\"))+COUNTIF(COUNTRY_INFO!I$9:I$1000,\"=4\"),\"-\")","v":0},{"$f":"IF(G26=\"Yes\",G27-(992-COUNTIF(COUNTRY_INFO!J$9:J$1000,\"\"))+COUNTIF(COUNTRY_INFO!J$9:J$1000,\"=4\")+COUNTIF(COUNTRY_INFO!J$9:J$1000,\"=5\"),\"-\")","v":0},{"$f":"IF(H26=\"Yes\",H27-(992-COUNTIF(COUNTRY_INFO!K$9:K$1000,\"\"))+COUNTIF(COUNTRY_INFO!K$9:K$1000,\"=4\")+COUNTIF(COUNTRY_INFO!K$9:K$1000,\"=5\"),\"-\")","v":0}]
[null,"Nombre d’UMOs non-endémiques",null,null,{"$f":"IF(E26=\"Yes\",COUNTIF(COUNTRY_INFO!H$9:H$1000,\"=0\"),\"-\")","v":0},{"$f":"IF(F26=\"Yes\",COUNTIF(COUNTRY_INFO!I$9:I$1000,\"=0\"),\"-\")","v":64},{"$f":"IF(G26=\"Yes\",COUNTIF(COUNTRY_INFO!J$9:J$1000,\"=0\"),\"-\")","v":0},{"$f":"IF(H26=\"Yes\",COUNTIF(COUNTRY_INFO!K$9:K$1000,\"=0\"),\"-\")","v":0}]
[null,"Nombre d’UMOs nécessitant une CP (total)",null,null,{"$f":"COUNTIF(COUNTRY_INFO!H$9:H$1000,\"=1\")","v":25},{"$f":"COUNTIF(COUNTRY_INFO!I$9:I$1000,\"=1\")","v":6},{"$f":"SUM(G33:G34)","v":0},{"$f":"SUM(H32:H34)","v":70}]
[null,null,null,"prevalence basse",null,null,{"$f":"COUNTIF(COUNTRY_INFO!J$9:J$1000,\"=1\")","v":70},{"$f":"COUNTIF(COUNTRY_INFO!K$9:K$1000,\"=1\")","v":16}]
[null,null,null,"prevalence modérée",null,null,{"$f":"COUNTIF(COUNTRY_INFO!J$9:J$1000,\"=2\")","v":0},{"$f":"COUNTIF(COUNTRY_INFO!K$9:K$1000,\"=2\")","v":54}]
[null,null,null,"prevalence haute",null,null,{"$f":"COUNTIF(COUNTRY_INFO!J$9:J$1000,\"=3\")","v":0},{"$f":"COUNTIF(COUNTRY_INFO!K$9:K$1000,\"=3\")","v":0}]
[null,"Population nécessitant une CP dans le pays (total) ",null,null,{"$f":"COUNTRY_INFO!L4","v":5530123},{"$f":"COUNTRY_INFO!M4","v":260001},{"$f":"COUNTRY_INFO!N4","v":0},{"$f":"COUNTRY_INFO!O4","v":4332546.8099999996}]
[null,null,"EAPréS","prevalence modérée",null,null,{"$f":"SUMIF(COUNTRY_INFO!J$9:J$1000,\"=2\",COUNTRY_INFO!E$9:E$1000)","v":0}]
[null,null,null,"prevalence haute",null,null,{"$f":"SUMIF(COUNTRY_INFO!J$9:J$1000,\"=3\",COUNTRY_INFO!E$9:E$1000)","v":0}]
[null,null,"EAS","prevalence basse",null,null,null,{"$f":"SUMIF(COUNTRY_INFO!K$9:K$1000,\"=1\",COUNTRY_INFO!F$9:F$1000)*0.33","v":367655.31}]
[null,null,null,"prevalence modérée",null,null,{"$f":"SUMIF(COUNTRY_INFO!J$9:J$1000,\"=2\",COUNTRY_INFO!F$9:F$1000)","v":0},{"$f":"SUMIF(COUNTRY_INFO!K$9:K$1000,\"=2\",COUNTRY_INFO!F$9:F$1000)*0.5","v":2303027.5}]
[null,null,null,"prevalence haute",null,null,{"$f":"SUMIF(COUNTRY_INFO!J$9:J$1000,\"=3\",COUNTRY_INFO!F$9:F$1000)","v":0},{"$f":"SUMIF(COUNTRY_INFO!K$9:K$1000,\"=3\",COUNTRY_INFO!F$9:F$1000)","v":0}]
[null,null,"Adults","prevalence modérée",null,null,null,{"$f":"SUMIF(COUNTRY_INFO!K$9:K$1000,\"=2\",COUNTRY_INFO!G$9:G$1000)*0.2","v":1661864}]
[null,null,null,"prevalence haute",null,null,null,{"$f":"SUMIF(COUNTRY_INFO!K$9:K$1000,\"=3\",COUNTRY_INFO!G$9:G$1000)","v":0}]
[null,"Nombre d’UMOs où une CP a été mise en oeuvre (total)",null,null,{"$f":"COUNTIF(DISTRICT!G$9:G$1000,\">0\")","v":24},{"$f":"COUNTIF(DISTRICT!M$9:M$1000,\">0\")","v":27},{"$f":"COUNTIF(DISTRICT!S$9:S$1000,\">0\")","v":40},{"$f":"COUNTIF(DISTRICT!AC$9:AC$1000,\">0\")","v":28}]
[null,"Nombre d’UMOs nécessitant une CP et  où elle a été mise en oeuvre",null,null,{"$f":"COUNTIF(DISTRICT!H$9:H$1000,\">0\")","v":24},{"$f":"COUNTIF(DISTRICT!N$9:N$1000,\">0\")","v":6},{"$f":"COUNTIF(DISTRICT!X$9:X$1000,\">0\")","v":0},{"$f":"COUNTIF(DISTRICT!AH$9:AH$1000,\">0\")","v":28}]
[null,null,"EAPréS",null,null,null,{"$f":"COUNTIF(DISTRICT!T$9:T$1000,\">0\")","v":0}]
[null,null,"EAS",null,null,null,{"$f":"COUNTIF(DISTRICT!V$9:V$1000,\">0\")","v":0},{"$f":"COUNTIF(DISTRICT!AD$9:AD$1000,\">0\")","v":28}]
[null,null,"Adults",null,null,null,null,{"$f":"COUNTIF(DISTRICT!AF$9:AF$1000,\">0\")","v":17}]
[null,"Nombre d’individus traités (total)",null,null,{"$f":"DISTRICT!G4","v":4229398},{"$f":"DISTRICT!M4","v":4354347},{"$f":"DISTRICT!S4","v":7200405},{"$f":"DISTRICT!AC4","v":4545997}]
[null,null,"EAPréS",null,{"$f":"SUMMARY!$E17","v":"Non admissible"},{"$f":"SUMMARY!$E18","v":"Non admissible"},{"$f":"SUMMARY!$E19","v":0},{"$f":"SUMMARY!$E20","v":"Non ciblé"}]
[null,null,"EAS",null,{"$f":"SUMMARY!$F17","v":1564409.4426},{"$f":"SUMMARY!$F18","v":1606362},{"$f":"SUMMARY!$F19","v":3073778},{"$f":"SUMMARY!$F20","v":2306821}]
[null,null,"Adults",null,{"$f":"SUMMARY!$G17","v":2664988.5573999998},{"$f":"SUMMARY!$G18","v":2747985},{"$f":"SUMMARY!$G19","v":4126627},{"$f":"SUMMARY!$G20","v":2239176}]
[null,"Nombre d’individus nécessitant CP et traités (total)",null,null,{"$f":"DISTRICT!H4","v":4229398},{"$f":"DISTRICT!N4","v":230153},{"$f":"DISTRICT!X4","v":0},{"$f":"DISTRICT!AH4","v":1537372.14}]
[null,null,"EAPréS",null,null,null,{"$f":"DISTRICT!T4","v":0}]
[null,null,"EAS",null,null,null,{"$f":"DISTRICT!V4","v":0},{"$f":"DISTRICT!AD4","v":1041119.74}]
[null,null,"Adults",null,null,null,null,{"$f":"DISTRICT!AF4","v":496252.4}]
[null,"Couverture géographique (tous âges)",null,null,{"$f":"IF(E31<>0,E44/E31,0)","v":0.96},{"$f":"IF(F31<>0,F44/F31,0)","v":1},{"$f":"IF(G31<>0,G44/G31,0)","v":0},{"$f":"IF(H31<>0,H44/H31,0)","v":0.4}]
[null,null,"EAPréS",null,null,null,{"$f":"IF(G31<>0,G45/G31,0)","v":0}]
[null,null,"EAS",null,null,null,{"$f":"IF(G31<>0,G46/G31,0)","v":0},{"$f":"IF(H31<>0,H46/H31,0)","v":0.4}]
[null,null,"Adults",null,null,null,null,{"$f":"IF(SUM(H33:H34)<>0,H47/SUM(H33:H34),0)","v":0.31481481481481483}]
[null,"Couverture nationale (total)",null,null,{"$f":"IF(E35<>0,E52/E35,0)","v":0.76479275415754766},{"$f":"IF(F35<>0,F52/F35,0)","v":0.88520044153676336},{"$f":"IF(G35<>0,G52/G35,0)","v":0},{"$f":"IF(H35<>0,H52/H35,0)","v":0.35484259199498414}]
[null,null,"EAPréS",null,null,null,{"$f":"IF(SUM(G36:G37)<>0,G53/SUM(G36:G37),0)","v":0}]
[null,null,"EAS",null,null,null,{"$f":"IF(SUM(G39:G40)<>0,G54/SUM(G39:G40),0)","v":0},{"$f":"IF(SUM(H38:H40)<>0,H54/SUM(H38:H40),0)","v":0.38983279335968768}]
[null,null,"Adults",null,null,null,null,{"$f":"IF(SUM(H41:H42)<>0,H55/SUM(H41:H42),0)","v":0.29861192010898607}]
[null,null,null,null,"FL","ONCHO","STH","SCH"]
[]
[null,"Nombre d’UMOs ayant réalisé une couverture efficace (tous âges)",null,null,{"$f":"COUNTIF(DISTRICT!I$9:I$1000,\">=65\")","v":24},{"$f":"COUNTIF(DISTRICT!O$9:O$1000,\">=65\")","v":6},{"$f":"COUNTIF(DISTRICT!Y$9:Y$1000,\">=75\")","v":0},{"$f":"COUNTIF(DISTRICT!AI$9:AI$1000,\">=75\")","v":22}]
[null,null,"EAPréS",null,null,null,{"$f":"COUNTIF(DISTRICT!U$9:U$1000,\">=75\")","v":0}]
[null,null,"EAS",null,null,null,{"$f":"COUNTIF(DISTRICT!W$9:W$1000,\">=75\")","v":0},{"$f":"COUNTIF(DISTRICT!AE$9:AE$1000,\">=75\")","v":28}]
[null,null,"Adults",null,null,null,null,{"$f":"COUNTIF(DISTRICT!AG$9:AG$1000,\">=75\")","v":17}]
[null,"Nombre d’individus nécessitant un traitement dans des UMOs ayant réalisé une couverture efficace (total)",null,null,{"$f":"SUMIF(DISTRICT!I9:I1000,\">=65\",DISTRICT!H9:H1000)","v":4229398},{"$f":"SUMIF(DISTRICT!O9:O1000,\">=65\",DISTRICT!N9:N1000)","v":230153},{"$f":"SUMIF(DISTRICT!Y9:Y1000,\">=75\",DISTRICT!X9:X1000)","v":0},{"$f":"SUMIF(DISTRICT!AI9:AI1000,\">=75\",DISTRICT!AH9:AH1000)","v":1297778.6399999999}]
[null,null,"EAPréS",null,null,null,{"$f":"SUMIF(DISTRICT!U9:U1000,\">=75\",DISTRICT!T9:T1000)","v":0}]
[null,null,"EAS",null,null,null,{"$f":"SUMIF(DISTRICT!W9:W1000,\">=75\",DISTRICT!V9:V1000)","v":0},{"$f":"SUMIF(DISTRICT!AE9:AE1000,\">=75\",DISTRICT!AD9:AD1000)","v":1041119.74}]
[null,null,"Adults",null,null,null,null,{"$f":"SUMIF(DISTRICT!AG9:AG1000,\">=75\",DISTRICT!AF9:AF1000)","v":496252.4}]
[null,"Proportion d’UMOs nécessitant une CP and ayant réalisé une couverture efficace (total)",null,null,{"$f":"IF(E44<>0,E66/E44,0)","v":1},{"$f":"IF(F44<>0,F66/F44,0)","v":1},{"$f":"IF(G44<>0,G66/G44,0)","v":0},{"$f":"IF(H44<>0,H66/H44,0)","v":0.7857142857142857}]
[null,null,"EAPréS",null,null,null,{"$f":"IF(G45<>0,G67/G45,0)","v":0}]
[null,null,"EAS",null,null,null,{"$f":"IF(G46<>0,G68/G46,0)","v":0},{"$f":"IF(H46<>0,H68/H46,0)","v":1}]
[null,null,"Adults",null,null,null,null,{"$f":"IF(H47<>0,H69/H47,0)","v":1}]
[null,"Nombre d’UMOs où la CP a été stoppée (càd sous surveillance)",null,null,{"$f":"COUNTIF(COUNTRY_INFO!H$9:H$1000,\"=99\")","v":45},{"$f":"COUNTIF(COUNTRY_INFO!I$9:I$1000,\"=99\")","v":0}]
[null,"Nombre d’individus dans les UMOs ne nécessitant plus de CP (stoppée)",null,null,{"$f":"SUMIF(COUNTRY_INFO!H$9:H$1000,\"=99\",COUNTRY_INFO!D$9:D$1000)","v":12407535},{"$f":"SUMIF(COUNTRY_INFO!I$9:I$1000,\"=99\",COUNTRY_INFO!D$9:D$1000)","v":0}]
[null,"Nombre d’individus nécessitant une CP vivants dans des UMOs ciblées pour la CP",null,null,{"$f":"SUMIF(DISTRICT!H$9:H$1000,\">0\",DISTRICT!D$9:D$1000)","v":5320096},{"$f":"SUMIF(DISTRICT!N$9:N$1000,\">0\",DISTRICT!J$9:J$1000)","v":260001},{"$f":"SUMIF(DISTRICT!X$9:X$1000,\">0\",DISTRICT!P$9:P$1000)","v":0},{"$f":"SUMIF(DISTRICT!AH$9:AH$1000,\">0\",DISTRICT!Z$9:Z$1000)","v":1697576.3399999996}]
[null,"Nombre d’individus nécessitant une CP vivant dans des UMOs non ciblées pour la CP",null,null,{"$f":"SUMIF(DISTRICT!H$9:H$1000,\"=0\",DISTRICT!D$9:D$1000)","v":210027},{"$f":"SUMIF(DISTRICT!N$9:N$1000,\"=0\",DISTRICT!J$9:J$1000)","v":0},{"$f":"SUMIF(DISTRICT!X$9:X$1000,\"=0\",DISTRICT!P$9:P$1000)","v":0},{"$f":"SUMIF(DISTRICT!AH$9:AH$1000,\"=0\",DISTRICT!Z$9:Z$1000)","v":2634970.4700000002}]
[null,null,null,null,{"$f":"E35-E52","v":1300725},{"$f":"F35-F52","v":29848},0,2795174.67]
[null,"Nombre d’UMOs nécessitant et recevant la CP",null,null,{"$f":"E31-E44","v":1},{"$f":"F31-F44","v":0},0,42]
[null,null,null,null,{"$f":"E27-E31-E29","v":45},64,70,{"$f":"H27-H31-H29","v":0}]
[]
[null,null,null,null,null,null,"Nécessitant et recevant une CP"]
[null,null,null,null,null,null,"Nécessitant mais ne recevant pas de CP"]
[null,null,null,null,null,null,"Ne nécessitant pas de CP"]
[null,null,null,null,null,null,"Statut inconnu"]
[]
[]
[]
[]
[]
[]
[]
[]
[]
[]
[]
[]
[]
[]
[]
[]
[]
[]
[]
[]
[]
[]
[]
[]
[]
[]
[]
[]
[]
[]
[]
[]
[]
[]
[null,"Cliquer ici pour accéder au portail des données de la CP"]