{"text_format":"1","workbook":"xlsx","n_sheets":8,"sheets":["INTRO","COUNTRY_INFO","ALB_MBD","PZQ","IVM","SUMMARY","SHIPMENT","DATA_POLICY"],"not_rendered":{"charts":0,"images":3,"macros":1,"external_links":0,"defined_names":8,"comments":7,"pivot_tables":0},"unopened":[],"bounds":{"document_bytes":16777216,"sheet_cells":100000,"rows_first":2000,"rows_last":500,"rows_between":2000,"halvings":0,"cell_chars":16384,"cell_head_chars":4096},"cells_cut":0,"cells_raw":0,"read":"whole","date_system":"1900"}

{"sheet":"INTRO","index":0,"n_rows":51,"n_cols":5,"rows_kept":51,"cut":false,"hidden":false,"merged":[[7,2,7,4],[11,1,11,4],[4,1,4,4],[10,2,10,4],[20,2,20,4],[17,1,17,4],[13,1,13,4],[18,2,18,4],[8,2,8,4],[9,2,9,4],[19,1,19,4],[12,1,12,4],[16,1,16,4],[14,1,14,4],[15,1,15,4],[0,1,0,4],[2,1,2,4],[1,1,1,4],[5,1,5,4],[3,1,3,4],[21,1,21,4],[46,1,46,4],[38,1,38,2],[40,1,40,2],[42,1,42,2],[44,1,44,2],[36,1,36,2],[22,2,23,4],[25,2,26,4],[27,1,27,4],[32,1,32,2],[29,1,29,4],[30,1,30,4],[28,2,28,4],[24,1,24,4],[34,1,34,2]]}
[]
[null,"Joint request for selected PC medicines v.4.1 (Loa)"]
[]
[null,"As part of global efforts to accelerate expansion of preventive chemotherapy (PC) for control and elimination of lymphatic filariasis, schistosomiasis and soil-transmitted helminthiases, the World Health Organization (WHO) facilitates the supply of albendazole 400 mg tablets (GSK) to national lymphatic filariasis elimination programmes and national soil-transmitted helminth control programmes; diethylcarbamazine citrate 100 mg tablets (Eisai) to national lymphatic filariasis elimination programmes; mebendazole 500 mg tablets (J&J) for national soil-transmitted helminth control programmes; and praziquantel 600 mg tablets (Merck KGaA)  for school-age children to national schistosomiasis control programmes. WHO also collaborates to supply ivermectin 3 mg tablets (Merck) for onchocerciasis and lymphatic filariasis donation programmes.  \nThis Excel-based tool is designed to assist countries in quantifying the number of tablets of relevant PC medicines required to reach the planned target population and districts for the year of request. Output of the tool is a joint request for PC medicines, which can be printed, signed and submitted to WHO to request these medicines."]
[]
[null,"Structure of the application (worksheets):"]
[]
[null,"INTRO","This worksheet includes guides on how to complete the joint request for selected PC medicines and information about the status of PC for endemic diseases in the country."]
[null,"COUNTRY_INFO","This worksheet includes information about administrative structure of the country, population by age group, status of endemicity for each disease, population requiring PC and planned interventions."]
[null,"DEC, ALB_MBD, PZQ and IVM","These worksheets include information about endemic districts targeted for treatment with specified PC medicines, treatment plan, and number of tablets required and requested. "]
[null,"SUMMARY","This worksheet includes summary of number of tablets requested, information about stock, and date for submission of requested medicines. Before generating the report (run macros) please select the medicine for which the report is needed. Follow the same rule to see the number of people to be treated for the specific disease. \nThis worksheet should be printed and submitted as a joint request for selected PC medicines (see the instruction for submission in the SUMMARY worksheet)."]
[]
[null,"Instruction for data entry"]
[]
[null,"Most of the cells in the above-mentioned worksheets include formula that are calculated automatically according to the treatment policy recommended by WHO for each disease.\nSee the link https://www.who.int/publications/i/item/9789241599993."]
[]
[null,"Please enter your data into the cells according to their colour code:"]
[]
[null,null,"White - cell is not protected. Please enter the value of the requested indicator."]
[]
[null,null,"Yellow - cell is protected and includes name of indicator. No data entry required."]
[]
[null,null,"Orange - cell is not protected and includes a drop-down menu. Please select the value from the drop-down list."]
[]
[]
[null,null,"Green - cell is not protected and includes formula. Please change the value only if your data are different from those that are calculated automatically."]
[]
[]
[null,null,"Blue - cell is protected and includes formula. No data entry required."]
[]
[null,"Country data"]
[]
[null,"COUNTRY",null,null,"Angola"]
[null,null,null,null,5]
[null,"Year for request of the medicine",null,null,2024]
[]
[null,"Is country endemic for lymphatic filariasis (LF)?",null,null,"Endemic"]
[]
[null,"Is country endemic for onchocerciasis (ONCHO)?",null,null,"Endemic"]
[]
[null,"Is country endemic for soil-transmitted helminthiases (STH)?",null,null,"Endemic"]
[]
[null,"Is country endemic for schistosomiasis (SCH)?",null,null,"Endemic"]
[]
[null,"How many administrative units in the country?",null,null,164]
[]
[null,"If demographical data at the second administrative level are not available by age group, please enter the proportion (%) of population by age group in the country. If data are available, please leave these cells blank."]
[null,"1-4 years age","Preschool-age children (PreSAC)",null,0.13639999999999999]
[null,"5-14 years age","School-age children (SAC)",null,0.27839999999999998]
[null,"15 years +","Adults",null,0.54820000000000002]
[null,"15-49 years","Women of reproductive age (WRA)",null,0.2311]

{"sheet":"COUNTRY_INFO","index":1,"n_rows":173,"n_cols":30,"rows_kept":173,"cut":false,"hidden":false,"merged":[[6,28,7,28],[6,29,7,29],[6,18,6,21],[6,23,7,23],[6,24,7,24],[6,25,7,25],[6,26,7,26],[6,27,7,27],[6,3,7,3],[6,2,7,2],[6,1,7,1],[6,0,7,0],[6,22,7,22],[6,14,6,17],[6,12,7,12],[6,13,7,13],[6,7,7,7],[6,8,7,8],[6,9,7,9],[6,11,7,11],[6,6,7,6],[6,5,7,5],[6,4,7,4],[6,10,7,10],[3,0,3,2],[3,7,3,11],[3,22,3,25],[5,0,5,2],[3,26,3,29],[5,26,5,29],[5,3,5,6],[5,7,5,11],[5,12,5,21],[5,22,5,25]]}
["COUNTRY INFORMATION"]
["Administrative structure, population by age group, status of endemicity and planned interventions"]
[]
["TOTAL",null,null,{"$f":"SUBTOTAL(9,D$10:D$1010)","v":33819137.582138993},{"$f":"SUBTOTAL(9,E$10:E$1010)","v":4612928},9415244,18539650,null,null,null,null,null,{"$f":"SUBTOTAL(9,M$10:M$1010)","v":4197449.1006629989},6575112.0286150007,1821483,3717755,3086114,8625352,2375696,6465195,12730681,21571572]
[]
["Country administrative structure",null,null,"Population",null,null,null,"Endemicity",null,null,null,null,"Population requiring PC",null,null,null,null,null,null,null,null,null,"Number of treatment rounds planned for the year",null,null,null,"Epidemiological surveys planned for the year"]
["Country","Province/State","District","Total","PreSAC","SAC","Adults","LF","Oncho","STH","SCH","Loa","LF","ONCHO","STH",null,null,null,"SCH",null,null,null,"LF","Oncho","STH","SCH","LF","Oncho","STH","SCH"]
[null,null,null,null,null,null,null,null,null,null,null,null,null,null,"PreSAC","SAC","WRA","TOTAL","PreSAC","SAC","Adults","TOTAL"]
[]
[{"$f":"IF(INTRO!$E$33<>0,INTRO!$E$33, \" \")","v":"Angola"},"BENGO","AMBRIZ",32235.682426999992,{"$f":"IF(INTRO!$E$48=\"\",\"\",ROUND($D10*INTRO!$E$48,0))","v":4397},{"$f":"IF(INTRO!$E$49=\"\",\"\",ROUND($D10*INTRO!$E$49,0))","v":8974},{"$f":"IF(INTRO!$E$50=\"\",\"\",ROUND($D10*INTRO!$E$50,0))","v":17672},1,4,1,3,1,{"$f":"IF(INTRO!$E$37=\"Endemic\",IF($H10>0,IF($H10=4,\"Unknown\",IF($H10=99,\"Stopped\",$D10)),0),\"Not required\")","v":32235.682426999992},{"$f":"IF(INTRO!$E$39=\"Endemic\", IF($I10>0, IF($I10=4,\"Unknown\",IF($I10=99,\"Stopped\",$D10)), 0),\"Not required\")","v":"Unknown"},{"$f":"IF(INTRO!$E$41=\"Endemic\", IF($J10>1, IF($J10=4, \"Unknown\", IF($J10=99, \"Surveillance\", E10)), 0),\"Not required\")","v":0},{"$f":"IF(INTRO!$E$41=\"Endemic\", IF($J10>1, IF($J10=4, \"Unknown\", IF($J10=99, \"Surveillance\", F10)), 0),\"Not required\")","v":0},{"$f":"IF(INTRO!$E$41=\"Endemic\", IF($J10>1, IF($J10=4, \"Unknown\", IF($J10=99, \"Surveillance\", ROUND(D10*INTRO!$E$51,0))), 0),\"Not required\")","v":0},{"$f":"IF(INTRO!$E$41=\"Endemic\", IF($J10>1, IF($J10=4, \"Unknown\", IF($J10=99, \"Surveillance\", SUM($O10:$Q10))), 0),\"Not required\")","v":0},{"$f":"IF(INTRO!$E$43=\"Endemic\", IF($K10>1, IF($K10=4, \"Unknown\", IF($K10=99, \"Surveillance\", ROUND(E10*0.75,0))), 0),\"Not required\")","v":3298},{"$f":"IF(INTRO!$E$43=\"Endemic\", IF($K10>1, IF($K10=4, \"Unknown\", IF($K10=99, \"Surveillance\", F10)), 0),\"Not required\")","v":8974},{"$f":"IF(INTRO!$E$43=\"Endemic\", IF($K10>1, IF($K10=4, \"Unknown\", IF($K10=99, \"Surveillance\", G10)), 0),\"Not required\")","v":17672},{"$f":"IF(INTRO!$E$43=\"Endemic\", IF($K10>1, IF($K10=4, \"Unknown\", IF($K10=99, \"Surveillance\", SUM($S10:$U10))), 0),\"Not required\")","v":29944},1,0,0,1]
[{"$f":"IF(INTRO!$E$33<>0,INTRO!$E$33, \" \")","v":"Angola"},"BENGO","BULA ATUMBA",19096.923273999997,{"$f":"IF(INTRO!$E$48=\"\",\"\",ROUND($D11*INTRO!$E$48,0))","v":2605},{"$f":"IF(INTRO!$E$49=\"\",\"\",ROUND($D11*INTRO!$E$49,0))","v":5317},{"$f":"IF(INTRO!$E$50=\"\",\"\",ROUND($D11*INTRO!$E$50,0))","v":10469},1,4,3,1,1,{"$f":"IF(INTRO!$E$37=\"Endemic\",IF($H11>0,IF($H11=4,\"Unknown\",IF($H11=99,\"Stopped\",$D11)),0),\"Not required\")","v":19096.923273999997},{"$f":"IF(INTRO!$E$39=\"Endemic\", IF($I11>0, IF($I11=4,\"Unknown\",IF($I11=99,\"Stopped\",$D11)), 0),\"Not required\")","v":"Unknown"},{"$f":"IF(INTRO!$E$41=\"Endemic\", IF($J11>1, IF($J11=4, \"Unknown\", IF($J11=99, \"Surveillance\", E11)), 0),\"Not required\")","v":2605},{"$f":"IF(INTRO!$E$41=\"Endemic\", IF($J11>1, IF($J11=4, \"Unknown\", IF($J11=99, \"Surveillance\", F11)), 0),\"Not required\")","v":5317},{"$f":"IF(INTRO!$E$41=\"Endemic\", IF($J11>1, IF($J11=4, \"Unknown\", IF($J11=99, \"Surveillance\", ROUND(D11*INTRO!$E$51,0))), 0),\"Not required\")","v":4413},{"$f":"IF(INTRO!$E$41=\"Endemic\", IF($J11>1, IF($J11=4, \"Unknown\", IF($J11=99, \"Surveillance\", SUM($O11:$Q11))), 0),\"Not required\")","v":12335},{"$f":"IF(INTRO!$E$43=\"Endemic\", IF($K11>1, IF($K11=4, \"Unknown\", IF($K11=99, \"Surveillance\", ROUND(E11*0.75,0))), 0),\"Not required\")","v":0},{"$f":"IF(INTRO!$E$43=\"Endemic\", IF($K11>1, IF($K11=4, \"Unknown\", IF($K11=99, \"Surveillance\", F11)), 0),\"Not required\")","v":0},{"$f":"IF(INTRO!$E$43=\"Endemic\", IF($K11>1, IF($K11=4, \"Unknown\", IF($K11=99, \"Surveillance\", G11)), 0),\"Not required\")","v":0},{"$f":"IF(INTRO!$E$43=\"Endemic\", IF($K11>1, IF($K11=4, \"Unknown\", IF($K11=99, \"Surveillance\", SUM($S11:$U11))), 0),\"Not required\")","v":0},1,0,2,0]
[{"$f":"IF(INTRO!$E$33<>0,INTRO!$E$33, \" \")","v":"Angola"},"BENGO","DANDE",315845.98215299996,{"$f":"IF(INTRO!$E$48=\"\",\"\",ROUND($D12*INTRO!$E$48,0))","v":43081},{"$f":"IF(INTRO!$E$49=\"\",\"\",ROUND($D12*INTRO!$E$49,0))","v":87932},{"$f":"IF(INTRO!$E$50=\"\",\"\",ROUND($D12*INTRO!$E$50,0))","v":173147},1,4,1,3,1,{"$f":"IF(INTRO!$E$37=\"Endemic\",IF($H12>0,IF($H12=4,\"Unknown\",IF($H12=99,\"Stopped\",$D12)),0),\"Not required\")","v":315845.98215299996},{"$f":"IF(INTRO!$E$39=\"Endemic\", IF($I12>0, IF($I12=4,\"Unknown\",IF($I12=99,\"Stopped\",$D12)), 0),\"Not required\")","v":"Unknown"},{"$f":"IF(INTRO!$E$41=\"Endemic\", IF($J12>1, IF($J12=4, \"Unknown\", IF($J12=99, \"Surveillance\", E12)), 0),\"Not required\")","v":0},{"$f":"IF(INTRO!$E$41=\"Endemic\", IF($J12>1, IF($J12=4, \"Unknown\", IF($J12=99, \"Surveillance\", F12)), 0),\"Not required\")","v":0},{"$f":"IF(INTRO!$E$41=\"Endemic\", IF($J12>1, IF($J12=4, \"Unknown\", IF($J12=99, \"Surveillance\", ROUND(D12*INTRO!$E$51,0))), 0),\"Not required\")","v":0},{"$f":"IF(INTRO!$E$41=\"Endemic\", IF($J12>1, IF($J12=4, \"Unknown\", IF($J12=99, \"Surveillance\", SUM($O12:$Q12))), 0),\"Not required\")","v":0},{"$f":"IF(INTRO!$E$43=\"Endemic\", IF($K12>1, IF($K12=4, \"Unknown\", IF($K12=99, \"Surveillance\", ROUND(E12*0.75,0))), 0),\"Not required\")","v":32311},{"$f":"IF(INTRO!$E$43=\"Endemic\", IF($K12>1, IF($K12=4, \"Unknown\", IF($K12=99, \"Surveillance\", F12)), 0),\"Not required\")","v":87932},{"$f":"IF(INTRO!$E$43=\"Endemic\", IF($K12>1, IF($K12=4, \"Unknown\", IF($K12=99, \"Surveillance\", G12)), 0),\"Not required\")","v":173147},{"$f":"IF(INTRO!$E$43=\"Endemic\", IF($K12>1, IF($K12=4, \"Unknown\", IF($K12=99, \"Surveillance\", SUM($S12:$U12))), 0),\"Not required\")","v":293390},1,0,0,1]
[{"$f":"IF(INTRO!$E$33<>0,INTRO!$E$33, \" \")","v":"Angola"},"BENGO","DEMBOS",42661.678591999997,{"$f":"IF(INTRO!$E$48=\"\",\"\",ROUND($D13*INTRO!$E$48,0))","v":5819},{"$f":"IF(INTRO!$E$49=\"\",\"\",ROUND($D13*INTRO!$E$49,0))","v":11877},{"$f":"IF(INTRO!$E$50=\"\",\"\",ROUND($D13*INTRO!$E$50,0))","v":23387},1,4,3,1,1,{"$f":"IF(INTRO!$E$37=\"Endemic\",IF($H13>0,IF($H13=4,\"Unknown\",IF($H13=99,\"Stopped\",$D13)),0),\"Not required\")","v":42661.678591999997},{"$f":"IF(INTRO!$E$39=\"Endemic\", IF($I13>0, IF($I13=4,\"Unknown\",IF($I13=99,\"Stopped\",$D13)), 0),\"Not required\")","v":"Unknown"},{"$f":"IF(INTRO!$E$41=\"Endemic\", IF($J13>1, IF($J13=4, \"Unknown\", IF($J13=99, \"Surveillance\", E13)), 0),\"Not required\")","v":5819},{"$f":"IF(INTRO!$E$41=\"Endemic\", IF($J13>1, IF($J13=4, \"Unknown\", IF($J13=99, \"Surveillance\", F13)), 0),\"Not required\")","v":11877},{"$f":"IF(INTRO!$E$41=\"Endemic\", IF($J13>1, IF($J13=4, \"Unknown\", IF($J13=99, \"Surveillance\", ROUND(D13*INTRO!$E$51,0))), 0),\"Not required\")","v":9859},{"$f":"IF(INTRO!$E$41=\"Endemic\", IF($J13>1, IF($J13=4, \"Unknown\", IF($J13=99, \"Surveillance\", SUM($O13:$Q13))), 0),\"Not required\")","v":27555},{"$f":"IF(INTRO!$E$43=\"Endemic\", IF($K13>1, IF($K13=4, \"Unknown\", IF($K13=99, \"Surveillance\", ROUND(E13*0.75,0))), 0),\"Not required\")","v":0},{"$f":"IF(INTRO!$E$43=\"Endemic\", IF($K13>1, IF($K13=4, \"Unknown\", IF($K13=99, \"Surveillance\", F13)), 0),\"Not required\")","v":0},{"$f":"IF(INTRO!$E$43=\"Endemic\", IF($K13>1, IF($K13=4, \"Unknown\", IF($K13=99, \"Surveillance\", G13)), 0),\"Not required\")","v":0},{"$f":"IF(INTRO!$E$43=\"Endemic\", IF($K13>1, IF($K13=4, \"Unknown\", IF($K13=99, \"Surveillance\", SUM($S13:$U13))), 0),\"Not required\")","v":0},1,0,2,0]
[{"$f":"IF(INTRO!$E$33<>0,INTRO!$E$33, \" \")","v":"Angola"},"BENGO","NAMBUANGONGO",86415.001698999986,{"$f":"IF(INTRO!$E$48=\"\",\"\",ROUND($D14*INTRO!$E$48,0))","v":11787},{"$f":"IF(INTRO!$E$49=\"\",\"\",ROUND($D14*INTRO!$E$49,0))","v":24058},{"$f":"IF(INTRO!$E$50=\"\",\"\",ROUND($D14*INTRO!$E$50,0))","v":47373},1,4,2,2,1,{"$f":"IF(INTRO!$E$37=\"Endemic\",IF($H14>0,IF($H14=4,\"Unknown\",IF($H14=99,\"Stopped\",$D14)),0),\"Not required\")","v":86415.001698999986},{"$f":"IF(INTRO!$E$39=\"Endemic\", IF($I14>0, IF($I14=4,\"Unknown\",IF($I14=99,\"Stopped\",$D14)), 0),\"Not required\")","v":"Unknown"},{"$f":"IF(INTRO!$E$41=\"Endemic\", IF($J14>1, IF($J14=4, \"Unknown\", IF($J14=99, \"Surveillance\", E14)), 0),\"Not required\")","v":11787},{"$f":"IF(INTRO!$E$41=\"Endemic\", IF($J14>1, IF($J14=4, \"Unknown\", IF($J14=99, \"Surveillance\", F14)), 0),\"Not required\")","v":24058},{"$f":"IF(INTRO!$E$41=\"Endemic\", IF($J14>1, IF($J14=4, \"Unknown\", IF($J14=99, \"Surveillance\", ROUND(D14*INTRO!$E$51,0))), 0),\"Not required\")","v":19971},{"$f":"IF(INTRO!$E$41=\"Endemic\", IF($J14>1, IF($J14=4, \"Unknown\", IF($J14=99, \"Surveillance\", SUM($O14:$Q14))), 0),\"Not required\")","v":55816},{"$f":"IF(INTRO!$E$43=\"Endemic\", IF($K14>1, IF($K14=4, \"Unknown\", IF($K14=99, \"Surveillance\", ROUND(E14*0.75,0))), 0),\"Not required\")","v":8840},{"$f":"IF(INTRO!$E$43=\"Endemic\", IF($K14>1, IF($K14=4, \"Unknown\", IF($K14=99, \"Surveillance\", F14)), 0),\"Not required\")","v":24058},{"$f":"IF(INTRO!$E$43=\"Endemic\", IF($K14>1, IF($K14=4, \"Unknown\", IF($K14=99, \"Surveillance\", G14)), 0),\"Not required\")","v":47373},{"$f":"IF(INTRO!$E$43=\"Endemic\", IF($K14>1, IF($K14=4, \"Unknown\", IF($K14=99, \"Surveillance\", SUM($S14:$U14))), 0),\"Not required\")","v":80271},1,0,1,1]
[{"$f":"IF(INTRO!$E$33<>0,INTRO!$E$33, \" \")","v":"Angola"},"BENGO","PANGO ALUQUEM",9942.9302829999979,{"$f":"IF(INTRO!$E$48=\"\",\"\",ROUND($D15*INTRO!$E$48,0))","v":1356},{"$f":"IF(INTRO!$E$49=\"\",\"\",ROUND($D15*INTRO!$E$49,0))","v":2768},{"$f":"IF(INTRO!$E$50=\"\",\"\",ROUND($D15*INTRO!$E$50,0))","v":5451},0,4,3,2,1,{"$f":"IF(INTRO!$E$37=\"Endemic\",IF($H15>0,IF($H15=4,\"Unknown\",IF($H15=99,\"Stopped\",$D15)),0),\"Not required\")","v":0},{"$f":"IF(INTRO!$E$39=\"Endemic\", IF($I15>0, IF($I15=4,\"Unknown\",IF($I15=99,\"Stopped\",$D15)), 0),\"Not required\")","v":"Unknown"},{"$f":"IF(INTRO!$E$41=\"Endemic\", IF($J15>1, IF($J15=4, \"Unknown\", IF($J15=99, \"Surveillance\", E15)), 0),\"Not required\")","v":1356},{"$f":"IF(INTRO!$E$41=\"Endemic\", IF($J15>1, IF($J15=4, \"Unknown\", IF($J15=99, \"Surveillance\", F15)), 0),\"Not required\")","v":2768},{"$f":"IF(INTRO!$E$41=\"Endemic\", IF($J15>1, IF($J15=4, \"Unknown\", IF($J15=99, \"Surveillance\", ROUND(D15*INTRO!$E$51,0))), 0),\"Not required\")","v":2298},{"$f":"IF(INTRO!$E$41=\"Endemic\", IF($J15>1, IF($J15=4, \"Unknown\", IF($J15=99, \"Surveillance\", SUM($O15:$Q15))), 0),\"Not required\")","v":6422},{"$f":"IF(INTRO!$E$43=\"Endemic\", IF($K15>1, IF($K15=4, \"Unknown\", IF($K15=99, \"Surveillance\", ROUND(E15*0.75,0))), 0),\"Not required\")","v":1017},{"$f":"IF(INTRO!$E$43=\"Endemic\", IF($K15>1, IF($K15=4, \"Unknown\", IF($K15=99, \"Surveillance\", F15)), 0),\"Not required\")","v":2768},{"$f":"IF(INTRO!$E$43=\"Endemic\", IF($K15>1, IF($K15=4, \"Unknown\", IF($K15=99, \"Surveillance\", G15)), 0),\"Not required\")","v":5451},{"$f":"IF(INTRO!$E$43=\"Endemic\", IF($K15>1, IF($K15=4, \"Unknown\", IF($K15=99, \"Surveillance\", SUM($S15:$U15))), 0),\"Not required\")","v":9236},0,0,2,1]
[{"$f":"IF(INTRO!$E$33<>0,INTRO!$E$33, \" \")","v":"Angola"},"BENGUELA","BAIA FARTA",136592.67914499997,{"$f":"IF(INTRO!$E$48=\"\",\"\",ROUND($D16*INTRO!$E$48,0))","v":18631},{"$f":"IF(INTRO!$E$49=\"\",\"\",ROUND($D16*INTRO!$E$49,0))","v":38027},{"$f":"IF(INTRO!$E$50=\"\",\"\",ROUND($D16*INTRO!$E$50,0))","v":74880},0,4,0,2,0,{"$f":"IF(INTRO!$E$37=\"Endemic\",IF($H16>0,IF($H16=4,\"Unknown\",IF($H16=99,\"Stopped\",$D16)),0),\"Not required\")","v":0},{"$f":"IF(INTRO!$E$39=\"Endemic\", IF($I16>0, IF($I16=4,\"Unknown\",IF($I16=99,\"Stopped\",$D16)), 0),\"Not required\")","v":"Unknown"},{"$f":"IF(INTRO!$E$41=\"Endemic\", IF($J16>1, IF($J16=4, \"Unknown\", IF($J16=99, \"Surveillance\", E16)), 0),\"Not required\")","v":0},{"$f":"IF(INTRO!$E$41=\"Endemic\", IF($J16>1, IF($J16=4, \"Unknown\", IF($J16=99, \"Surveillance\", F16)), 0),\"Not required\")","v":0},{"$f":"IF(INTRO!$E$41=\"Endemic\", IF($J16>1, IF($J16=4, \"Unknown\", IF($J16=99, \"Surveillance\", ROUND(D16*INTRO!$E$51,0))), 0),\"Not required\")","v":0},{"$f":"IF(INTRO!$E$41=\"Endemic\", IF($J16>1, IF($J16=4, \"Unknown\", IF($J16=99, \"Surveillance\", SUM($O16:$Q16))), 0),\"Not required\")","v":0},{"$f":"IF(INTRO!$E$43=\"Endemic\", IF($K16>1, IF($K16=4, \"Unknown\", IF($K16=99, \"Surveillance\", ROUND(E16*0.75,0))), 0),\"Not required\")","v":13973},{"$f":"IF(INTRO!$E$43=\"Endemic\", IF($K16>1, IF($K16=4, \"Unknown\", IF($K16=99, \"Surveillance\", F16)), 0),\"Not required\")","v":38027},{"$f":"IF(INTRO!$E$43=\"Endemic\", IF($K16>1, IF($K16=4, \"Unknown\", IF($K16=99, \"Surveillance\", G16)), 0),\"Not required\")","v":74880},{"$f":"IF(INTRO!$E$43=\"Endemic\", IF($K16>1, IF($K16=4, \"Unknown\", IF($K16=99, \"Surveillance\", SUM($S16:$U16))), 0),\"Not required\")","v":126880},0,0,0,1]
[{"$f":"IF(INTRO!$E$33<>0,INTRO!$E$33, \" \")","v":"Angola"},"BENGUELA","BALOMBO",138016.56329499997,{"$f":"IF(INTRO!$E$48=\"\",\"\",ROUND($D17*INTRO!$E$48,0))","v":18825},{"$f":"IF(INTRO!$E$49=\"\",\"\",ROUND($D17*INTRO!$E$49,0))","v":38424},{"$f":"IF(INTRO!$E$50=\"\",\"\",ROUND($D17*INTRO!$E$50,0))","v":75661},0,4,1,2,0,{"$f":"IF(INTRO!$E$37=\"Endemic\",IF($H17>0,IF($H17=4,\"Unknown\",IF($H17=99,\"Stopped\",$D17)),0),\"Not required\")","v":0},{"$f":"IF(INTRO!$E$39=\"Endemic\", IF($I17>0, IF($I17=4,\"Unknown\",IF($I17=99,\"Stopped\",$D17)), 0),\"Not required\")","v":"Unknown"},{"$f":"IF(INTRO!$E$41=\"Endemic\", IF($J17>1, IF($J17=4, \"Unknown\", IF($J17=99, \"Surveillance\", E17)), 0),\"Not required\")","v":0},{"$f":"IF(INTRO!$E$41=\"Endemic\", IF($J17>1, IF($J17=4, \"Unknown\", IF($J17=99, \"Surveillance\", F17)), 0),\"Not required\")","v":0},{"$f":"IF(INTRO!$E$41=\"Endemic\", IF($J17>1, IF($J17=4, \"Unknown\", IF($J17=99, \"Surveillance\", ROUND(D17*INTRO!$E$51,0))), 0),\"Not required\")","v":0},{"$f":"IF(INTRO!$E$41=\"Endemic\", IF($J17>1, IF($J17=4, \"Unknown\", IF($J17=99, \"Surveillance\", SUM($O17:$Q17))), 0),\"Not required\")","v":0},{"$f":"IF(INTRO!$E$43=\"Endemic\", IF($K17>1, IF($K17=4, \"Unknown\", IF($K17=99, \"Surveillance\", ROUND(E17*0.75,0))), 0),\"Not required\")","v":14119},{"$f":"IF(INTRO!$E$43=\"Endemic\", IF($K17>1, IF($K17=4, \"Unknown\", IF($K17=99, \"Surveillance\", F17)), 0),\"Not required\")","v":38424},{"$f":"IF(INTRO!$E$43=\"Endemic\", IF($K17>1, IF($K17=4, \"Unknown\", IF($K17=99, \"Surveillance\", G17)), 0),\"Not required\")","v":75661},{"$f":"IF(INTRO!$E$43=\"Endemic\", IF($K17>1, IF($K17=4, \"Unknown\", IF($K17=99, \"Surveillance\", SUM($S17:$U17))), 0),\"Not required\")","v":128204},0,0,0,1]
[{"$f":"IF(INTRO!$E$33<>0,INTRO!$E$33, \" \")","v":"Angola"},"BENGUELA","BENGUELA",711549.71581199986,{"$f":"IF(INTRO!$E$48=\"\",\"\",ROUND($D18*INTRO!$E$48,0))","v":97055},{"$f":"IF(INTRO!$E$49=\"\",\"\",ROUND($D18*INTRO!$E$49,0))","v":198095},{"$f":"IF(INTRO!$E$50=\"\",\"\",ROUND($D18*INTRO!$E$50,0))","v":390072},0,4,1,1,0,{"$f":"IF(INTRO!$E$37=\"Endemic\",IF($H18>0,IF($H18=4,\"Unknown\",IF($H18=99,\"Stopped\",$D18)),0),\"Not required\")","v":0},{"$f":"IF(INTRO!$E$39=\"Endemic\", IF($I18>0, IF($I18=4,\"Unknown\",IF($I18=99,\"Stopped\",$D18)), 0),\"Not required\")","v":"Unknown"},{"$f":"IF(INTRO!$E$41=\"Endemic\", IF($J18>1, IF($J18=4, \"Unknown\", IF($J18=99, \"Surveillance\", E18)), 0),\"Not required\")","v":0},{"$f":"IF(INTRO!$E$41=\"Endemic\", IF($J18>1, IF($J18=4, \"Unknown\", IF($J18=99, \"Surveillance\", F18)), 0),\"Not required\")","v":0},{"$f":"IF(INTRO!$E$41=\"Endemic\", IF($J18>1, IF($J18=4, \"Unknown\", IF($J18=99, \"Surveillance\", ROUND(D18*INTRO!$E$51,0))), 0),\"Not required\")","v":0},{"$f":"IF(INTRO!$E$41=\"Endemic\", IF($J18>1, IF($J18=4, \"Unknown\", IF($J18=99, \"Surveillance\", SUM($O18:$Q18))), 0),\"Not required\")","v":0},{"$f":"IF(INTRO!$E$43=\"Endemic\", IF($K18>1, IF($K18=4, \"Unknown\", IF($K18=99, \"Surveillance\", ROUND(E18*0.75,0))), 0),\"Not required\")","v":0},{"$f":"IF(INTRO!$E$43=\"Endemic\", IF($K18>1, IF($K18=4, \"Unknown\", IF($K18=99, \"Surveillance\", F18)), 0),\"Not required\")","v":0},{"$f":"IF(INTRO!$E$43=\"Endemic\", IF($K18>1, IF($K18=4, \"Unknown\", IF($K18=99, \"Surveillance\", G18)), 0),\"Not required\")","v":0},{"$f":"IF(INTRO!$E$43=\"Endemic\", IF($K18>1, IF($K18=4, \"Unknown\", IF($K18=99, \"Surveillance\", SUM($S18:$U18))), 0),\"Not required\")","v":0},0,0,0,0]
[{"$f":"IF(INTRO!$E$33<>0,INTRO!$E$33, \" \")","v":"Angola"},"BENGUELA","BOCOIO",208591.64487199995,{"$f":"IF(INTRO!$E$48=\"\",\"\",ROUND($D19*INTRO!$E$48,0))","v":28452},{"$f":"IF(INTRO!$E$49=\"\",\"\",ROUND($D19*INTRO!$E$49,0))","v":58072},{"$f":"IF(INTRO!$E$50=\"\",\"\",ROUND($D19*INTRO!$E$50,0))","v":114350},0,4,1,3,0,{"$f":"IF(INTRO!$E$37=\"Endemic\",IF($H19>0,IF($H19=4,\"Unknown\",IF($H19=99,\"Stopped\",$D19)),0),\"Not required\")","v":0},{"$f":"IF(INTRO!$E$39=\"Endemic\", IF($I19>0, IF($I19=4,\"Unknown\",IF($I19=99,\"Stopped\",$D19)), 0),\"Not required\")","v":"Unknown"},{"$f":"IF(INTRO!$E$41=\"Endemic\", IF($J19>1, IF($J19=4, \"Unknown\", IF($J19=99, \"Surveillance\", E19)), 0),\"Not required\")","v":0},{"$f":"IF(INTRO!$E$41=\"Endemic\", IF($J19>1, IF($J19=4, \"Unknown\", IF($J19=99, \"Surveillance\", F19)), 0),\"Not required\")","v":0},{"$f":"IF(INTRO!$E$41=\"Endemic\", IF($J19>1, IF($J19=4, \"Unknown\", IF($J19=99, \"Surveillance\", ROUND(D19*INTRO!$E$51,0))), 0),\"Not required\")","v":0},{"$f":"IF(INTRO!$E$41=\"Endemic\", IF($J19>1, IF($J19=4, \"Unknown\", IF($J19=99, \"Surveillance\", SUM($O19:$Q19))), 0),\"Not required\")","v":0},{"$f":"IF(INTRO!$E$43=\"Endemic\", IF($K19>1, IF($K19=4, \"Unknown\", IF($K19=99, \"Surveillance\", ROUND(E19*0.75,0))), 0),\"Not required\")","v":21339},{"$f":"IF(INTRO!$E$43=\"Endemic\", IF($K19>1, IF($K19=4, \"Unknown\", IF($K19=99, \"Surveillance\", F19)), 0),\"Not required\")","v":58072},{"$f":"IF(INTRO!$E$43=\"Endemic\", IF($K19>1, IF($K19=4, \"Unknown\", IF($K19=99, \"Surveillance\", G19)), 0),\"Not required\")","v":114350},{"$f":"IF(INTRO!$E$43=\"Endemic\", IF($K19>1, IF($K19=4, \"Unknown\", IF($K19=99, \"Surveillance\", SUM($S19:$U19))), 0),\"Not required\")","v":193761},0,0,0,1]
[{"$f":"IF(INTRO!$E$33<>0,INTRO!$E$33, \" \")","v":"Angola"},"BENGUELA","CAIMBAMBO",115055.11296499999,{"$f":"IF(INTRO!$E$48=\"\",\"\",ROUND($D20*INTRO!$E$48,0))","v":15694},{"$f":"IF(INTRO!$E$49=\"\",\"\",ROUND($D20*INTRO!$E$49,0))","v":32031},{"$f":"IF(INTRO!$E$50=\"\",\"\",ROUND($D20*INTRO!$E$50,0))","v":63073},0,4,1,3,0,{"$f":"IF(INTRO!$E$37=\"Endemic\",IF($H20>0,IF($H20=4,\"Unknown\",IF($H20=99,\"Stopped\",$D20)),0),\"Not required\")","v":0},{"$f":"IF(INTRO!$E$39=\"Endemic\", IF($I20>0, IF($I20=4,\"Unknown\",IF($I20=99,\"Stopped\",$D20)), 0),\"Not required\")","v":"Unknown"},{"$f":"IF(INTRO!$E$41=\"Endemic\", IF($J20>1, IF($J20=4, \"Unknown\", IF($J20=99, \"Surveillance\", E20)), 0),\"Not required\")","v":0},{"$f":"IF(INTRO!$E$41=\"Endemic\", IF($J20>1, IF($J20=4, \"Unknown\", IF($J20=99, \"Surveillance\", F20)), 0),\"Not required\")","v":0},{"$f":"IF(INTRO!$E$41=\"Endemic\", IF($J20>1, IF($J20=4, \"Unknown\", IF($J20=99, \"Surveillance\", ROUND(D20*INTRO!$E$51,0))), 0),\"Not required\")","v":0},{"$f":"IF(INTRO!$E$41=\"Endemic\", IF($J20>1, IF($J20=4, \"Unknown\", IF($J20=99, \"Surveillance\", SUM($O20:$Q20))), 0),\"Not required\")","v":0},{"$f":"IF(INTRO!$E$43=\"Endemic\", IF($K20>1, IF($K20=4, \"Unknown\", IF($K20=99, \"Surveillance\", ROUND(E20*0.75,0))), 0),\"Not required\")","v":11771},{"$f":"IF(INTRO!$E$43=\"Endemic\", IF($K20>1, IF($K20=4, \"Unknown\", IF($K20=99, \"Surveillance\", F20)), 0),\"Not required\")","v":32031},{"$f":"IF(INTRO!$E$43=\"Endemic\", IF($K20>1, IF($K20=4, \"Unknown\", IF($K20=99, \"Surveillance\", G20)), 0),\"Not required\")","v":63073},{"$f":"IF(INTRO!$E$43=\"Endemic\", IF($K20>1, IF($K20=4, \"Unknown\", IF($K20=99, \"Surveillance\", SUM($S20:$U20))), 0),\"Not required\")","v":106875},0,0,0,1]
[{"$f":"IF(INTRO!$E$33<>0,INTRO!$E$33, \" \")","v":"Angola"},"BENGUELA","CATUMBELA",222677.55066699997,{"$f":"IF(INTRO!$E$48=\"\",\"\",ROUND($D21*INTRO!$E$48,0))","v":30373},{"$f":"IF(INTRO!$E$49=\"\",\"\",ROUND($D21*INTRO!$E$49,0))","v":61993},{"$f":"IF(INTRO!$E$50=\"\",\"\",ROUND($D21*INTRO!$E$50,0))","v":122072},0,4,0,0,1,{"$f":"IF(INTRO!$E$37=\"Endemic\",IF($H21>0,IF($H21=4,\"Unknown\",IF($H21=99,\"Stopped\",$D21)),0),\"Not required\")","v":0},{"$f":"IF(INTRO!$E$39=\"Endemic\", IF($I21>0, IF($I21=4,\"Unknown\",IF($I21=99,\"Stopped\",$D21)), 0),\"Not required\")","v":"Unknown"},{"$f":"IF(INTRO!$E$41=\"Endemic\", IF($J21>1, IF($J21=4, \"Unknown\", IF($J21=99, \"Surveillance\", E21)), 0),\"Not required\")","v":0},{"$f":"IF(INTRO!$E$41=\"Endemic\", IF($J21>1, IF($J21=4, \"Unknown\", IF($J21=99, \"Surveillance\", F21)), 0),\"Not required\")","v":0},{"$f":"IF(INTRO!$E$41=\"Endemic\", IF($J21>1, IF($J21=4, \"Unknown\", IF($J21=99, \"Surveillance\", ROUND(D21*INTRO!$E$51,0))), 0),\"Not required\")","v":0},{"$f":"IF(INTRO!$E$41=\"Endemic\", IF($J21>1, IF($J21=4, \"Unknown\", IF($J21=99, \"Surveillance\", SUM($O21:$Q21))), 0),\"Not required\")","v":0},{"$f":"IF(INTRO!$E$43=\"Endemic\", IF($K21>1, IF($K21=4, \"Unknown\", IF($K21=99, \"Surveillance\", ROUND(E21*0.75,0))), 0),\"Not required\")","v":0},{"$f":"IF(INTRO!$E$43=\"Endemic\", IF($K21>1, IF($K21=4, \"Unknown\", IF($K21=99, \"Surveillance\", F21)), 0),\"Not required\")","v":0},{"$f":"IF(INTRO!$E$43=\"Endemic\", IF($K21>1, IF($K21=4, \"Unknown\", IF($K21=99, \"Surveillance\", G21)), 0),\"Not required\")","v":0},{"$f":"IF(INTRO!$E$43=\"Endemic\", IF($K21>1, IF($K21=4, \"Unknown\", IF($K21=99, \"Surveillance\", SUM($S21:$U21))), 0),\"Not required\")","v":0},0,0,0,0]
[{"$f":"IF(INTRO!$E$33<>0,INTRO!$E$33, \" \")","v":"Angola"},"BENGUELA","CHONGOROI",110548.25594799998,{"$f":"IF(INTRO!$E$48=\"\",\"\",ROUND($D22*INTRO!$E$48,0))","v":15079},{"$f":"IF(INTRO!$E$49=\"\",\"\",ROUND($D22*INTRO!$E$49,0))","v":30777},{"$f":"IF(INTRO!$E$50=\"\",\"\",ROUND($D22*INTRO!$E$50,0))","v":60603},0,4,0,3,0,{"$f":"IF(INTRO!$E$37=\"Endemic\",IF($H22>0,IF($H22=4,\"Unknown\",IF($H22=99,\"Stopped\",$D22)),0),\"Not required\")","v":0},{"$f":"IF(INTRO!$E$39=\"Endemic\", IF($I22>0, IF($I22=4,\"Unknown\",IF($I22=99,\"Stopped\",$D22)), 0),\"Not required\")","v":"Unknown"},{"$f":"IF(INTRO!$E$41=\"Endemic\", IF($J22>1, IF($J22=4, \"Unknown\", IF($J22=99, \"Surveillance\", E22)), 0),\"Not required\")","v":0},{"$f":"IF(INTRO!$E$41=\"Endemic\", IF($J22>1, IF($J22=4, \"Unknown\", IF($J22=99, \"Surveillance\", F22)), 0),\"Not required\")","v":0},{"$f":"IF(INTRO!$E$41=\"Endemic\", IF($J22>1, IF($J22=4, \"Unknown\", IF($J22=99, \"Surveillance\", ROUND(D22*INTRO!$E$51,0))), 0),\"Not required\")","v":0},{"$f":"IF(INTRO!$E$41=\"Endemic\", IF($J22>1, IF($J22=4, \"Unknown\", IF($J22=99, \"Surveillance\", SUM($O22:$Q22))), 0),\"Not required\")","v":0},{"$f":"IF(INTRO!$E$43=\"Endemic\", IF($K22>1, IF($K22=4, \"Unknown\", IF($K22=99, \"Surveillance\", ROUND(E22*0.75,0))), 0),\"Not required\")","v":11309},{"$f":"IF(INTRO!$E$43=\"Endemic\", IF($K22>1, IF($K22=4, \"Unknown\", IF($K22=99, \"Surveillance\", F22)), 0),\"Not required\")","v":30777},{"$f":"IF(INTRO!$E$43=\"Endemic\", IF($K22>1, IF($K22=4, \"Unknown\", IF($K22=99, \"Surveillance\", G22)), 0),\"Not required\")","v":60603},{"$f":"IF(INTRO!$E$43=\"Endemic\", IF($K22>1, IF($K22=4, \"Unknown\", IF($K22=99, \"Surveillance\", SUM($S22:$U22))), 0),\"Not required\")","v":102689},0,0,0,1]
[{"$f":"IF(INTRO!$E$33<>0,INTRO!$E$33, \" \")","v":"Angola"},"BENGUELA","CUBAL",387116.13014099991,{"$f":"IF(INTRO!$E$48=\"\",\"\",ROUND($D23*INTRO!$E$48,0))","v":52803},{"$f":"IF(INTRO!$E$49=\"\",\"\",ROUND($D23*INTRO!$E$49,0))","v":107773},{"$f":"IF(INTRO!$E$50=\"\",\"\",ROUND($D23*INTRO!$E$50,0))","v":212217},0,4,1,3,0,{"$f":"IF(INTRO!$E$37=\"Endemic\",IF($H23>0,IF($H23=4,\"Unknown\",IF($H23=99,\"Stopped\",$D23)),0),\"Not required\")","v":0},{"$f":"IF(INTRO!$E$39=\"Endemic\", IF($I23>0, IF($I23=4,\"Unknown\",IF($I23=99,\"Stopped\",$D23)), 0),\"Not required\")","v":"Unknown"},{"$f":"IF(INTRO!$E$41=\"Endemic\", IF($J23>1, IF($J23=4, \"Unknown\", IF($J23=99, \"Surveillance\", E23)), 0),\"Not required\")","v":0},{"$f":"IF(INTRO!$E$41=\"Endemic\", IF($J23>1, IF($J23=4, \"Unknown\", IF($J23=99, \"Surveillance\", F23)), 0),\"Not required\")","v":0},{"$f":"IF(INTRO!$E$41=\"Endemic\", IF($J23>1, IF($J23=4, \"Unknown\", IF($J23=99, \"Surveillance\", ROUND(D23*INTRO!$E$51,0))), 0),\"Not required\")","v":0},{"$f":"IF(INTRO!$E$41=\"Endemic\", IF($J23>1, IF($J23=4, \"Unknown\", IF($J23=99, \"Surveillance\", SUM($O23:$Q23))), 0),\"Not required\")","v":0},{"$f":"IF(INTRO!$E$43=\"Endemic\", IF($K23>1, IF($K23=4, \"Unknown\", IF($K23=99, \"Surveillance\", ROUND(E23*0.75,0))), 0),\"Not required\")","v":39602},{"$f":"IF(INTRO!$E$43=\"Endemic\", IF($K23>1, IF($K23=4, \"Unknown\", IF($K23=99, \"Surveillance\", F23)), 0),\"Not required\")","v":107773},{"$f":"IF(INTRO!$E$43=\"Endemic\", IF($K23>1, IF($K23=4, \"Unknown\", IF($K23=99, \"Surveillance\", G23)), 0),\"Not required\")","v":212217},{"$f":"IF(INTRO!$E$43=\"Endemic\", IF($K23>1, IF($K23=4, \"Unknown\", IF($K23=99, \"Surveillance\", SUM($S23:$U23))), 0),\"Not required\")","v":359592},0,0,0,1]
[{"$f":"IF(INTRO!$E$33<>0,INTRO!$E$33, \" \")","v":"Angola"},"BENGUELA","GANDA",298268.92336799996,{"$f":"IF(INTRO!$E$48=\"\",\"\",ROUND($D24*INTRO!$E$48,0))","v":40684},{"$f":"IF(INTRO!$E$49=\"\",\"\",ROUND($D24*INTRO!$E$49,0))","v":83038},{"$f":"IF(INTRO!$E$50=\"\",\"\",ROUND($D24*INTRO!$E$50,0))","v":163511},0,4,1,3,0,{"$f":"IF(INTRO!$E$37=\"Endemic\",IF($H24>0,IF($H24=4,\"Unknown\",IF($H24=99,\"Stopped\",$D24)),0),\"Not required\")","v":0},{"$f":"IF(INTRO!$E$39=\"Endemic\", IF($I24>0, IF($I24=4,\"Unknown\",IF($I24=99,\"Stopped\",$D24)), 0),\"Not required\")","v":"Unknown"},{"$f":"IF(INTRO!$E$41=\"Endemic\", IF($J24>1, IF($J24=4, \"Unknown\", IF($J24=99, \"Surveillance\", E24)), 0),\"Not required\")","v":0},{"$f":"IF(INTRO!$E$41=\"Endemic\", IF($J24>1, IF($J24=4, \"Unknown\", IF($J24=99, \"Surveillance\", F24)), 0),\"Not required\")","v":0},{"$f":"IF(INTRO!$E$41=\"Endemic\", IF($J24>1, IF($J24=4, \"Unknown\", IF($J24=99, \"Surveillance\", ROUND(D24*INTRO!$E$51,0))), 0),\"Not required\")","v":0},{"$f":"IF(INTRO!$E$41=\"Endemic\", IF($J24>1, IF($J24=4, \"Unknown\", IF($J24=99, \"Surveillance\", SUM($O24:$Q24))), 0),\"Not required\")","v":0},{"$f":"IF(INTRO!$E$43=\"Endemic\", IF($K24>1, IF($K24=4, \"Unknown\", IF($K24=99, \"Surveillance\", ROUND(E24*0.75,0))), 0),\"Not required\")","v":30513},{"$f":"IF(INTRO!$E$43=\"Endemic\", IF($K24>1, IF($K24=4, \"Unknown\", IF($K24=99, \"Surveillance\", F24)), 0),\"Not required\")","v":83038},{"$f":"IF(INTRO!$E$43=\"Endemic\", IF($K24>1, IF($K24=4, \"Unknown\", IF($K24=99, \"Surveillance\", G24)), 0),\"Not required\")","v":163511},{"$f":"IF(INTRO!$E$43=\"Endemic\", IF($K24>1, IF($K24=4, \"Unknown\", IF($K24=99, \"Surveillance\", SUM($S24:$U24))), 0),\"Not required\")","v":277062},0,0,0,1]
[{"$f":"IF(INTRO!$E$33<>0,INTRO!$E$33, \" \")","v":"Angola"},"BENGUELA","LOBITO",497878.49607599992,{"$f":"IF(INTRO!$E$48=\"\",\"\",ROUND($D25*INTRO!$E$48,0))","v":67911},{"$f":"IF(INTRO!$E$49=\"\",\"\",ROUND($D25*INTRO!$E$49,0))","v":138609},{"$f":"IF(INTRO!$E$50=\"\",\"\",ROUND($D25*INTRO!$E$50,0))","v":272937},1,4,1,1,0,{"$f":"IF(INTRO!$E$37=\"Endemic\",IF($H25>0,IF($H25=4,\"Unknown\",IF($H25=99,\"Stopped\",$D25)),0),\"Not required\")","v":497878.49607599992},{"$f":"IF(INTRO!$E$39=\"Endemic\", IF($I25>0, IF($I25=4,\"Unknown\",IF($I25=99,\"Stopped\",$D25)), 0),\"Not required\")","v":"Unknown"},{"$f":"IF(INTRO!$E$41=\"Endemic\", IF($J25>1, IF($J25=4, \"Unknown\", IF($J25=99, \"Surveillance\", E25)), 0),\"Not required\")","v":0},{"$f":"IF(INTRO!$E$41=\"Endemic\", IF($J25>1, IF($J25=4, \"Unknown\", IF($J25=99, \"Surveillance\", F25)), 0),\"Not required\")","v":0},{"$f":"IF(INTRO!$E$41=\"Endemic\", IF($J25>1, IF($J25=4, \"Unknown\", IF($J25=99, \"Surveillance\", ROUND(D25*INTRO!$E$51,0))), 0),\"Not required\")","v":0},{"$f":"IF(INTRO!$E$41=\"Endemic\", IF($J25>1, IF($J25=4, \"Unknown\", IF($J25=99, \"Surveillance\", SUM($O25:$Q25))), 0),\"Not required\")","v":0},{"$f":"IF(INTRO!$E$43=\"Endemic\", IF($K25>1, IF($K25=4, \"Unknown\", IF($K25=99, \"Surveillance\", ROUND(E25*0.75,0))), 0),\"Not required\")","v":0},{"$f":"IF(INTRO!$E$43=\"Endemic\", IF($K25>1, IF($K25=4, \"Unknown\", IF($K25=99, \"Surveillance\", F25)), 0),\"Not required\")","v":0},{"$f":"IF(INTRO!$E$43=\"Endemic\", IF($K25>1, IF($K25=4, \"Unknown\", IF($K25=99, \"Surveillance\", G25)), 0),\"Not required\")","v":0},{"$f":"IF(INTRO!$E$43=\"Endemic\", IF($K25>1, IF($K25=4, \"Unknown\", IF($K25=99, \"Surveillance\", SUM($S25:$U25))), 0),\"Not required\")","v":0},1,0,0,0]
[{"$f":"IF(INTRO!$E$33<>0,INTRO!$E$33, \" \")","v":"Angola"},"BIE","ANDULO",341182.68219099997,{"$f":"IF(INTRO!$E$48=\"\",\"\",ROUND($D26*INTRO!$E$48,0))","v":46537},{"$f":"IF(INTRO!$E$49=\"\",\"\",ROUND($D26*INTRO!$E$49,0))","v":94985},{"$f":"IF(INTRO!$E$50=\"\",\"\",ROUND($D26*INTRO!$E$50,0))","v":187036},0,1,1,1,1,{"$f":"IF(INTRO!$E$37=\"Endemic\",IF($H26>0,IF($H26=4,\"Unknown\",IF($H26=99,\"Stopped\",$D26)),0),\"Not required\")","v":0},{"$f":"IF(INTRO!$E$39=\"Endemic\", IF($I26>0, IF($I26=4,\"Unknown\",IF($I26=99,\"Stopped\",$D26)), 0),\"Not required\")","v":341182.68219099997},{"$f":"IF(INTRO!$E$41=\"Endemic\", IF($J26>1, IF($J26=4, \"Unknown\", IF($J26=99, \"Surveillance\", E26)), 0),\"Not required\")","v":0},{"$f":"IF(INTRO!$E$41=\"Endemic\", IF($J26>1, IF($J26=4, \"Unknown\", IF($J26=99, \"Surveillance\", F26)), 0),\"Not required\")","v":0},{"$f":"IF(INTRO!$E$41=\"Endemic\", IF($J26>1, IF($J26=4, \"Unknown\", IF($J26=99, \"Surveillance\", ROUND(D26*INTRO!$E$51,0))), 0),\"Not required\")","v":0},{"$f":"IF(INTRO!$E$41=\"Endemic\", IF($J26>1, IF($J26=4, \"Unknown\", IF($J26=99, \"Surveillance\", SUM($O26:$Q26))), 0),\"Not required\")","v":0},{"$f":"IF(INTRO!$E$43=\"Endemic\", IF($K26>1, IF($K26=4, \"Unknown\", IF($K26=99, \"Surveillance\", ROUND(E26*0.75,0))), 0),\"Not required\")","v":0},{"$f":"IF(INTRO!$E$43=\"Endemic\", IF($K26>1, IF($K26=4, \"Unknown\", IF($K26=99, \"Surveillance\", F26)), 0),\"Not required\")","v":0},{"$f":"IF(INTRO!$E$43=\"Endemic\", IF($K26>1, IF($K26=4, \"Unknown\", IF($K26=99, \"Surveillance\", G26)), 0),\"Not required\")","v":0},{"$f":"IF(INTRO!$E$43=\"Endemic\", IF($K26>1, IF($K26=4, \"Unknown\", IF($K26=99, \"Surveillance\", SUM($S26:$U26))), 0),\"Not required\")","v":0},0,1,0,0]
[{"$f":"IF(INTRO!$E$33<>0,INTRO!$E$33, \" \")","v":"Angola"},"BIE","CAMACUPA",204750.32185399998,{"$f":"IF(INTRO!$E$48=\"\",\"\",ROUND($D27*INTRO!$E$48,0))","v":27928},{"$f":"IF(INTRO!$E$49=\"\",\"\",ROUND($D27*INTRO!$E$49,0))","v":57002},{"$f":"IF(INTRO!$E$50=\"\",\"\",ROUND($D27*INTRO!$E$50,0))","v":112244},0,1,1,2,0,{"$f":"IF(INTRO!$E$37=\"Endemic\",IF($H27>0,IF($H27=4,\"Unknown\",IF($H27=99,\"Stopped\",$D27)),0),\"Not required\")","v":0},{"$f":"IF(INTRO!$E$39=\"Endemic\", IF($I27>0, IF($I27=4,\"Unknown\",IF($I27=99,\"Stopped\",$D27)), 0),\"Not required\")","v":204750.32185399998},{"$f":"IF(INTRO!$E$41=\"Endemic\", IF($J27>1, IF($J27=4, \"Unknown\", IF($J27=99, \"Surveillance\", E27)), 0),\"Not required\")","v":0},{"$f":"IF(INTRO!$E$41=\"Endemic\", IF($J27>1, IF($J27=4, \"Unknown\", IF($J27=99, \"Surveillance\", F27)), 0),\"Not required\")","v":0},{"$f":"IF(INTRO!$E$41=\"Endemic\", IF($J27>1, IF($J27=4, \"Unknown\", IF($J27=99, \"Surveillance\", ROUND(D27*INTRO!$E$51,0))), 0),\"Not required\")","v":0},{"$f":"IF(INTRO!$E$41=\"Endemic\", IF($J27>1, IF($J27=4, \"Unknown\", IF($J27=99, \"Surveillance\", SUM($O27:$Q27))), 0),\"Not required\")","v":0},{"$f":"IF(INTRO!$E$43=\"Endemic\", IF($K27>1, IF($K27=4, \"Unknown\", IF($K27=99, \"Surveillance\", ROUND(E27*0.75,0))), 0),\"Not required\")","v":20946},{"$f":"IF(INTRO!$E$43=\"Endemic\", IF($K27>1, IF($K27=4, \"Unknown\", IF($K27=99, \"Surveillance\", F27)), 0),\"Not required\")","v":57002},{"$f":"IF(INTRO!$E$43=\"Endemic\", IF($K27>1, IF($K27=4, \"Unknown\", IF($K27=99, \"Surveillance\", G27)), 0),\"Not required\")","v":112244},{"$f":"IF(INTRO!$E$43=\"Endemic\", IF($K27>1, IF($K27=4, \"Unknown\", IF($K27=99, \"Surveillance\", SUM($S27:$U27))), 0),\"Not required\")","v":190192},0,1,0,1]
[{"$f":"IF(INTRO!$E$33<>0,INTRO!$E$33, \" \")","v":"Angola"},"BIE","CATABOLA",167353.85042999996,{"$f":"IF(INTRO!$E$48=\"\",\"\",ROUND($D28*INTRO!$E$48,0))","v":22827},{"$f":"IF(INTRO!$E$49=\"\",\"\",ROUND($D28*INTRO!$E$49,0))","v":46591},{"$f":"IF(INTRO!$E$50=\"\",\"\",ROUND($D28*INTRO!$E$50,0))","v":91743},0,1,1,2,1,{"$f":"IF(INTRO!$E$37=\"Endemic\",IF($H28>0,IF($H28=4,\"Unknown\",IF($H28=99,\"Stopped\",$D28)),0),\"Not required\")","v":0},{"$f":"IF(INTRO!$E$39=\"Endemic\", IF($I28>0, IF($I28=4,\"Unknown\",IF($I28=99,\"Stopped\",$D28)), 0),\"Not required\")","v":167353.85042999996},{"$f":"IF(INTRO!$E$41=\"Endemic\", IF($J28>1, IF($J28=4, \"Unknown\", IF($J28=99, \"Surveillance\", E28)), 0),\"Not required\")","v":0},{"$f":"IF(INTRO!$E$41=\"Endemic\", IF($J28>1, IF($J28=4, \"Unknown\", IF($J28=99, \"Surveillance\", F28)), 0),\"Not required\")","v":0},{"$f":"IF(INTRO!$E$41=\"Endemic\", IF($J28>1, IF($J28=4, \"Unknown\", IF($J28=99, \"Surveillance\", ROUND(D28*INTRO!$E$51,0))), 0),\"Not required\")","v":0},{"$f":"IF(INTRO!$E$41=\"Endemic\", IF($J28>1, IF($J28=4, \"Unknown\", IF($J28=99, \"Surveillance\", SUM($O28:$Q28))), 0),\"Not required\")","v":0},{"$f":"IF(INTRO!$E$43=\"Endemic\", IF($K28>1, IF($K28=4, \"Unknown\", IF($K28=99, \"Surveillance\", ROUND(E28*0.75,0))), 0),\"Not required\")","v":17120},{"$f":"IF(INTRO!$E$43=\"Endemic\", IF($K28>1, IF($K28=4, \"Unknown\", IF($K28=99, \"Surveillance\", F28)), 0),\"Not required\")","v":46591},{"$f":"IF(INTRO!$E$43=\"Endemic\", IF($K28>1, IF($K28=4, \"Unknown\", IF($K28=99, \"Surveillance\", G28)), 0),\"Not required\")","v":91743},{"$f":"IF(INTRO!$E$43=\"Endemic\", IF($K28>1, IF($K28=4, \"Unknown\", IF($K28=99, \"Surveillance\", SUM($S28:$U28))), 0),\"Not required\")","v":155454},0,1,0,1]
[{"$f":"IF(INTRO!$E$33<>0,INTRO!$E$33, \" \")","v":"Angola"},"BIE","CHINGUAR",170971.57089999996,{"$f":"IF(INTRO!$E$48=\"\",\"\",ROUND($D29*INTRO!$E$48,0))","v":23321},{"$f":"IF(INTRO!$E$49=\"\",\"\",ROUND($D29*INTRO!$E$49,0))","v":47598},{"$f":"IF(INTRO!$E$50=\"\",\"\",ROUND($D29*INTRO!$E$50,0))","v":93727},0,1,1,1,1,{"$f":"IF(INTRO!$E$37=\"Endemic\",IF($H29>0,IF($H29=4,\"Unknown\",IF($H29=99,\"Stopped\",$D29)),0),\"Not required\")","v":0},{"$f":"IF(INTRO!$E$39=\"Endemic\", IF($I29>0, IF($I29=4,\"Unknown\",IF($I29=99,\"Stopped\",$D29)), 0),\"Not required\")","v":170971.57089999996},{"$f":"IF(INTRO!$E$41=\"Endemic\", IF($J29>1, IF($J29=4, \"Unknown\", IF($J29=99, \"Surveillance\", E29)), 0),\"Not required\")","v":0},{"$f":"IF(INTRO!$E$41=\"Endemic\", IF($J29>1, IF($J29=4, \"Unknown\", IF($J29=99, \"Surveillance\", F29)), 0),\"Not required\")","v":0},{"$f":"IF(INTRO!$E$41=\"Endemic\", IF($J29>1, IF($J29=4, \"Unknown\", IF($J29=99, \"Surveillance\", ROUND(D29*INTRO!$E$51,0))), 0),\"Not required\")","v":0},{"$f":"IF(INTRO!$E$41=\"Endemic\", IF($J29>1, IF($J29=4, \"Unknown\", IF($J29=99, \"Surveillance\", SUM($O29:$Q29))), 0),\"Not required\")","v":0},{"$f":"IF(INTRO!$E$43=\"Endemic\", IF($K29>1, IF($K29=4, \"Unknown\", IF($K29=99, \"Surveillance\", ROUND(E29*0.75,0))), 0),\"Not required\")","v":0},{"$f":"IF(INTRO!$E$43=\"Endemic\", IF($K29>1, IF($K29=4, \"Unknown\", IF($K29=99, \"Surveillance\", F29)), 0),\"Not required\")","v":0},{"$f":"IF(INTRO!$E$43=\"Endemic\", IF($K29>1, IF($K29=4, \"Unknown\", IF($K29=99, \"Surveillance\", G29)), 0),\"Not required\")","v":0},{"$f":"IF(INTRO!$E$43=\"Endemic\", IF($K29>1, IF($K29=4, \"Unknown\", IF($K29=99, \"Surveillance\", SUM($S29:$U29))), 0),\"Not required\")","v":0},0,1,0,0]
[{"$f":"IF(INTRO!$E$33<>0,INTRO!$E$33, \" \")","v":"Angola"},"BIE","CHITEMBO",103290.665699,{"$f":"IF(INTRO!$E$48=\"\",\"\",ROUND($D30*INTRO!$E$48,0))","v":14089},{"$f":"IF(INTRO!$E$49=\"\",\"\",ROUND($D30*INTRO!$E$49,0))","v":28756},{"$f":"IF(INTRO!$E$50=\"\",\"\",ROUND($D30*INTRO!$E$50,0))","v":56624},0,4,1,2,1,{"$f":"IF(INTRO!$E$37=\"Endemic\",IF($H30>0,IF($H30=4,\"Unknown\",IF($H30=99,\"Stopped\",$D30)),0),\"Not required\")","v":0},{"$f":"IF(INTRO!$E$39=\"Endemic\", IF($I30>0, IF($I30=4,\"Unknown\",IF($I30=99,\"Stopped\",$D30)), 0),\"Not required\")","v":"Unknown"},{"$f":"IF(INTRO!$E$41=\"Endemic\", IF($J30>1, IF($J30=4, \"Unknown\", IF($J30=99, \"Surveillance\", E30)), 0),\"Not required\")","v":0},{"$f":"IF(INTRO!$E$41=\"Endemic\", IF($J30>1, IF($J30=4, \"Unknown\", IF($J30=99, \"Surveillance\", F30)), 0),\"Not required\")","v":0},{"$f":"IF(INTRO!$E$41=\"Endemic\", IF($J30>1, IF($J30=4, \"Unknown\", IF($J30=99, \"Surveillance\", ROUND(D30*INTRO!$E$51,0))), 0),\"Not required\")","v":0},{"$f":"IF(INTRO!$E$41=\"Endemic\", IF($J30>1, IF($J30=4, \"Unknown\", IF($J30=99, \"Surveillance\", SUM($O30:$Q30))), 0),\"Not required\")","v":0},{"$f":"IF(INTRO!$E$43=\"Endemic\", IF($K30>1, IF($K30=4, \"Unknown\", IF($K30=99, \"Surveillance\", ROUND(E30*0.75,0))), 0),\"Not required\")","v":10567},{"$f":"IF(INTRO!$E$43=\"Endemic\", IF($K30>1, IF($K30=4, \"Unknown\", IF($K30=99, \"Surveillance\", F30)), 0),\"Not required\")","v":28756},{"$f":"IF(INTRO!$E$43=\"Endemic\", IF($K30>1, IF($K30=4, \"Unknown\", IF($K30=99, \"Surveillance\", G30)), 0),\"Not required\")","v":56624},{"$f":"IF(INTRO!$E$43=\"Endemic\", IF($K30>1, IF($K30=4, \"Unknown\", IF($K30=99, \"Surveillance\", SUM($S30:$U30))), 0),\"Not required\")","v":95947},0,0,0,1]
[{"$f":"IF(INTRO!$E$33<>0,INTRO!$E$33, \" \")","v":"Angola"},"BIE","CUEMBA",75282.337103999991,{"$f":"IF(INTRO!$E$48=\"\",\"\",ROUND($D31*INTRO!$E$48,0))","v":10269},{"$f":"IF(INTRO!$E$49=\"\",\"\",ROUND($D31*INTRO!$E$49,0))","v":20959},{"$f":"IF(INTRO!$E$50=\"\",\"\",ROUND($D31*INTRO!$E$50,0))","v":41270},1,1,1,1,0,{"$f":"IF(INTRO!$E$37=\"Endemic\",IF($H31>0,IF($H31=4,\"Unknown\",IF($H31=99,\"Stopped\",$D31)),0),\"Not required\")","v":75282.337103999991},{"$f":"IF(INTRO!$E$39=\"Endemic\", IF($I31>0, IF($I31=4,\"Unknown\",IF($I31=99,\"Stopped\",$D31)), 0),\"Not required\")","v":75282.337103999991},{"$f":"IF(INTRO!$E$41=\"Endemic\", IF($J31>1, IF($J31=4, \"Unknown\", IF($J31=99, \"Surveillance\", E31)), 0),\"Not required\")","v":0},{"$f":"IF(INTRO!$E$41=\"Endemic\", IF($J31>1, IF($J31=4, \"Unknown\", IF($J31=99, \"Surveillance\", F31)), 0),\"Not required\")","v":0},{"$f":"IF(INTRO!$E$41=\"Endemic\", IF($J31>1, IF($J31=4, \"Unknown\", IF($J31=99, \"Surveillance\", ROUND(D31*INTRO!$E$51,0))), 0),\"Not required\")","v":0},{"$f":"IF(INTRO!$E$41=\"Endemic\", IF($J31>1, IF($J31=4, \"Unknown\", IF($J31=99, \"Surveillance\", SUM($O31:$Q31))), 0),\"Not required\")","v":0},{"$f":"IF(INTRO!$E$43=\"Endemic\", IF($K31>1, IF($K31=4, \"Unknown\", IF($K31=99, \"Surveillance\", ROUND(E31*0.75,0))), 0),\"Not required\")","v":0},{"$f":"IF(INTRO!$E$43=\"Endemic\", IF($K31>1, IF($K31=4, \"Unknown\", IF($K31=99, \"Surveillance\", F31)), 0),\"Not required\")","v":0},{"$f":"IF(INTRO!$E$43=\"Endemic\", IF($K31>1, IF($K31=4, \"Unknown\", IF($K31=99, \"Surveillance\", G31)), 0),\"Not required\")","v":0},{"$f":"IF(INTRO!$E$43=\"Endemic\", IF($K31>1, IF($K31=4, \"Unknown\", IF($K31=99, \"Surveillance\", SUM($S31:$U31))), 0),\"Not required\")","v":0},1,1,0,0]
[{"$f":"IF(INTRO!$E$33<>0,INTRO!$E$33, \" \")","v":"Angola"},"BIE","CUITO",595879.69583999994,{"$f":"IF(INTRO!$E$48=\"\",\"\",ROUND($D32*INTRO!$E$48,0))","v":81278},{"$f":"IF(INTRO!$E$49=\"\",\"\",ROUND($D32*INTRO!$E$49,0))","v":165893},{"$f":"IF(INTRO!$E$50=\"\",\"\",ROUND($D32*INTRO!$E$50,0))","v":326661},0,1,1,3,1,{"$f":"IF(INTRO!$E$37=\"Endemic\",IF($H32>0,IF($H32=4,\"Unknown\",IF($H32=99,\"Stopped\",$D32)),0),\"Not required\")","v":0},{"$f":"IF(INTRO!$E$39=\"Endemic\", IF($I32>0, IF($I32=4,\"Unknown\",IF($I32=99,\"Stopped\",$D32)), 0),\"Not required\")","v":595879.69583999994},{"$f":"IF(INTRO!$E$41=\"Endemic\", IF($J32>1, IF($J32=4, \"Unknown\", IF($J32=99, \"Surveillance\", E32)), 0),\"Not required\")","v":0},{"$f":"IF(INTRO!$E$41=\"Endemic\", IF($J32>1, IF($J32=4, \"Unknown\", IF($J32=99, \"Surveillance\", F32)), 0),\"Not required\")","v":0},{"$f":"IF(INTRO!$E$41=\"Endemic\", IF($J32>1, IF($J32=4, \"Unknown\", IF($J32=99, \"Surveillance\", ROUND(D32*INTRO!$E$51,0))), 0),\"Not required\")","v":0},{"$f":"IF(INTRO!$E$41=\"Endemic\", IF($J32>1, IF($J32=4, \"Unknown\", IF($J32=99, \"Surveillance\", SUM($O32:$Q32))), 0),\"Not required\")","v":0},{"$f":"IF(INTRO!$E$43=\"Endemic\", IF($K32>1, IF($K32=4, \"Unknown\", IF($K32=99, \"Surveillance\", ROUND(E32*0.75,0))), 0),\"Not required\")","v":60959},{"$f":"IF(INTRO!$E$43=\"Endemic\", IF($K32>1, IF($K32=4, \"Unknown\", IF($K32=99, \"Surveillance\", F32)), 0),\"Not required\")","v":165893},{"$f":"IF(INTRO!$E$43=\"Endemic\", IF($K32>1, IF($K32=4, \"Unknown\", IF($K32=99, \"Surveillance\", G32)), 0),\"Not required\")","v":326661},{"$f":"IF(INTRO!$E$43=\"Endemic\", IF($K32>1, IF($K32=4, \"Unknown\", IF($K32=99, \"Surveillance\", SUM($S32:$U32))), 0),\"Not required\")","v":553513},0,1,0,1]
[{"$f":"IF(INTRO!$E$33<>0,INTRO!$E$33, \" \")","v":"Angola"},"BIE","CUNHINGA",97567.706144999975,{"$f":"IF(INTRO!$E$48=\"\",\"\",ROUND($D33*INTRO!$E$48,0))","v":13308},{"$f":"IF(INTRO!$E$49=\"\",\"\",ROUND($D33*INTRO!$E$49,0))","v":27163},{"$f":"IF(INTRO!$E$50=\"\",\"\",ROUND($D33*INTRO!$E$50,0))","v":53487},0,1,1,1,1,{"$f":"IF(INTRO!$E$37=\"Endemic\",IF($H33>0,IF($H33=4,\"Unknown\",IF($H33=99,\"Stopped\",$D33)),0),\"Not required\")","v":0},{"$f":"IF(INTRO!$E$39=\"Endemic\", IF($I33>0, IF($I33=4,\"Unknown\",IF($I33=99,\"Stopped\",$D33)), 0),\"Not required\")","v":97567.706144999975},{"$f":"IF(INTRO!$E$41=\"Endemic\", IF($J33>1, IF($J33=4, \"Unknown\", IF($J33=99, \"Surveillance\", E33)), 0),\"Not required\")","v":0},{"$f":"IF(INTRO!$E$41=\"Endemic\", IF($J33>1, IF($J33=4, \"Unknown\", IF($J33=99, \"Surveillance\", F33)), 0),\"Not required\")","v":0},{"$f":"IF(INTRO!$E$41=\"Endemic\", IF($J33>1, IF($J33=4, \"Unknown\", IF($J33=99, \"Surveillance\", ROUND(D33*INTRO!$E$51,0))), 0),\"Not required\")","v":0},{"$f":"IF(INTRO!$E$41=\"Endemic\", IF($J33>1, IF($J33=4, \"Unknown\", IF($J33=99, \"Surveillance\", SUM($O33:$Q33))), 0),\"Not required\")","v":0},{"$f":"IF(INTRO!$E$43=\"Endemic\", IF($K33>1, IF($K33=4, \"Unknown\", IF($K33=99, \"Surveillance\", ROUND(E33*0.75,0))), 0),\"Not required\")","v":0},{"$f":"IF(INTRO!$E$43=\"Endemic\", IF($K33>1, IF($K33=4, \"Unknown\", IF($K33=99, \"Surveillance\", F33)), 0),\"Not required\")","v":0},{"$f":"IF(INTRO!$E$43=\"Endemic\", IF($K33>1, IF($K33=4, \"Unknown\", IF($K33=99, \"Surveillance\", G33)), 0),\"Not required\")","v":0},{"$f":"IF(INTRO!$E$43=\"Endemic\", IF($K33>1, IF($K33=4, \"Unknown\", IF($K33=99, \"Surveillance\", SUM($S33:$U33))), 0),\"Not required\")","v":0},0,1,0,0]
[{"$f":"IF(INTRO!$E$33<>0,INTRO!$E$33, \" \")","v":"Angola"},"BIE","NHAREA",166967.81961599994,{"$f":"IF(INTRO!$E$48=\"\",\"\",ROUND($D34*INTRO!$E$48,0))","v":22774},{"$f":"IF(INTRO!$E$49=\"\",\"\",ROUND($D34*INTRO!$E$49,0))","v":46484},{"$f":"IF(INTRO!$E$50=\"\",\"\",ROUND($D34*INTRO!$E$50,0))","v":91532},0,1,1,1,1,{"$f":"IF(INTRO!$E$37=\"Endemic\",IF($H34>0,IF($H34=4,\"Unknown\",IF($H34=99,\"Stopped\",$D34)),0),\"Not required\")","v":0},{"$f":"IF(INTRO!$E$39=\"Endemic\", IF($I34>0, IF($I34=4,\"Unknown\",IF($I34=99,\"Stopped\",$D34)), 0),\"Not required\")","v":166967.81961599994},{"$f":"IF(INTRO!$E$41=\"Endemic\", IF($J34>1, IF($J34=4, \"Unknown\", IF($J34=99, \"Surveillance\", E34)), 0),\"Not required\")","v":0},{"$f":"IF(INTRO!$E$41=\"Endemic\", IF($J34>1, IF($J34=4, \"Unknown\", IF($J34=99, \"Surveillance\", F34)), 0),\"Not required\")","v":0},{"$f":"IF(INTRO!$E$41=\"Endemic\", IF($J34>1, IF($J34=4, \"Unknown\", IF($J34=99, \"Surveillance\", ROUND(D34*INTRO!$E$51,0))), 0),\"Not required\")","v":0},{"$f":"IF(INTRO!$E$41=\"Endemic\", IF($J34>1, IF($J34=4, \"Unknown\", IF($J34=99, \"Surveillance\", SUM($O34:$Q34))), 0),\"Not required\")","v":0},{"$f":"IF(INTRO!$E$43=\"Endemic\", IF($K34>1, IF($K34=4, \"Unknown\", IF($K34=99, \"Surveillance\", ROUND(E34*0.75,0))), 0),\"Not required\")","v":0},{"$f":"IF(INTRO!$E$43=\"Endemic\", IF($K34>1, IF($K34=4, \"Unknown\", IF($K34=99, \"Surveillance\", F34)), 0),\"Not required\")","v":0},{"$f":"IF(INTRO!$E$43=\"Endemic\", IF($K34>1, IF($K34=4, \"Unknown\", IF($K34=99, \"Surveillance\", G34)), 0),\"Not required\")","v":0},{"$f":"IF(INTRO!$E$43=\"Endemic\", IF($K34>1, IF($K34=4, \"Unknown\", IF($K34=99, \"Surveillance\", SUM($S34:$U34))), 0),\"Not required\")","v":0},0,1,0,0]
[{"$f":"IF(INTRO!$E$33<>0,INTRO!$E$33, \" \")","v":"Angola"},"CABINDA","BELIZE",25088.838722999993,{"$f":"IF(INTRO!$E$48=\"\",\"\",ROUND($D35*INTRO!$E$48,0))","v":3422},{"$f":"IF(INTRO!$E$49=\"\",\"\",ROUND($D35*INTRO!$E$49,0))","v":6985},{"$f":"IF(INTRO!$E$50=\"\",\"\",ROUND($D35*INTRO!$E$50,0))","v":13754},1,4,2,0,1,{"$f":"IF(INTRO!$E$37=\"Endemic\",IF($H35>0,IF($H35=4,\"Unknown\",IF($H35=99,\"Stopped\",$D35)),0),\"Not required\")","v":25088.838722999993},{"$f":"IF(INTRO!$E$39=\"Endemic\", IF($I35>0, IF($I35=4,\"Unknown\",IF($I35=99,\"Stopped\",$D35)), 0),\"Not required\")","v":"Unknown"},{"$f":"IF(INTRO!$E$41=\"Endemic\", IF($J35>1, IF($J35=4, \"Unknown\", IF($J35=99, \"Surveillance\", E35)), 0),\"Not required\")","v":3422},{"$f":"IF(INTRO!$E$41=\"Endemic\", IF($J35>1, IF($J35=4, \"Unknown\", IF($J35=99, \"Surveillance\", F35)), 0),\"Not required\")","v":6985},{"$f":"IF(INTRO!$E$41=\"Endemic\", IF($J35>1, IF($J35=4, \"Unknown\", IF($J35=99, \"Surveillance\", ROUND(D35*INTRO!$E$51,0))), 0),\"Not required\")","v":5798},{"$f":"IF(INTRO!$E$41=\"Endemic\", IF($J35>1, IF($J35=4, \"Unknown\", IF($J35=99, \"Surveillance\", SUM($O35:$Q35))), 0),\"Not required\")","v":16205},{"$f":"IF(INTRO!$E$43=\"Endemic\", IF($K35>1, IF($K35=4, \"Unknown\", IF($K35=99, \"Surveillance\", ROUND(E35*0.75,0))), 0),\"Not required\")","v":0},{"$f":"IF(INTRO!$E$43=\"Endemic\", IF($K35>1, IF($K35=4, \"Unknown\", IF($K35=99, \"Surveillance\", F35)), 0),\"Not required\")","v":0},{"$f":"IF(INTRO!$E$43=\"Endemic\", IF($K35>1, IF($K35=4, \"Unknown\", IF($K35=99, \"Surveillance\", G35)), 0),\"Not required\")","v":0},{"$f":"IF(INTRO!$E$43=\"Endemic\", IF($K35>1, IF($K35=4, \"Unknown\", IF($K35=99, \"Surveillance\", SUM($S35:$U35))), 0),\"Not required\")","v":0},1,0,1,0]
[{"$f":"IF(INTRO!$E$33<>0,INTRO!$E$33, \" \")","v":"Angola"},"CABINDA","BUCO ZAU",42057.318874999997,{"$f":"IF(INTRO!$E$48=\"\",\"\",ROUND($D36*INTRO!$E$48,0))","v":5737},{"$f":"IF(INTRO!$E$49=\"\",\"\",ROUND($D36*INTRO!$E$49,0))","v":11709},{"$f":"IF(INTRO!$E$50=\"\",\"\",ROUND($D36*INTRO!$E$50,0))","v":23056},1,4,2,2,1,{"$f":"IF(INTRO!$E$37=\"Endemic\",IF($H36>0,IF($H36=4,\"Unknown\",IF($H36=99,\"Stopped\",$D36)),0),\"Not required\")","v":42057.318874999997},{"$f":"IF(INTRO!$E$39=\"Endemic\", IF($I36>0, IF($I36=4,\"Unknown\",IF($I36=99,\"Stopped\",$D36)), 0),\"Not required\")","v":"Unknown"},{"$f":"IF(INTRO!$E$41=\"Endemic\", IF($J36>1, IF($J36=4, \"Unknown\", IF($J36=99, \"Surveillance\", E36)), 0),\"Not required\")","v":5737},{"$f":"IF(INTRO!$E$41=\"Endemic\", IF($J36>1, IF($J36=4, \"Unknown\", IF($J36=99, \"Surveillance\", F36)), 0),\"Not required\")","v":11709},{"$f":"IF(INTRO!$E$41=\"Endemic\", IF($J36>1, IF($J36=4, \"Unknown\", IF($J36=99, \"Surveillance\", ROUND(D36*INTRO!$E$51,0))), 0),\"Not required\")","v":9719},{"$f":"IF(INTRO!$E$41=\"Endemic\", IF($J36>1, IF($J36=4, \"Unknown\", IF($J36=99, \"Surveillance\", SUM($O36:$Q36))), 0),\"Not required\")","v":27165},{"$f":"IF(INTRO!$E$43=\"Endemic\", IF($K36>1, IF($K36=4, \"Unknown\", IF($K36=99, \"Surveillance\", ROUND(E36*0.75,0))), 0),\"Not required\")","v":4303},{"$f":"IF(INTRO!$E$43=\"Endemic\", IF($K36>1, IF($K36=4, \"Unknown\", IF($K36=99, \"Surveillance\", F36)), 0),\"Not required\")","v":11709},{"$f":"IF(INTRO!$E$43=\"Endemic\", IF($K36>1, IF($K36=4, \"Unknown\", IF($K36=99, \"Surveillance\", G36)), 0),\"Not required\")","v":23056},{"$f":"IF(INTRO!$E$43=\"Endemic\", IF($K36>1, IF($K36=4, \"Unknown\", IF($K36=99, \"Surveillance\", SUM($S36:$U36))), 0),\"Not required\")","v":39068},1,0,1,1]
[{"$f":"IF(INTRO!$E$33<>0,INTRO!$E$33, \" \")","v":"Angola"},"CABINDA","CABINDA",801148.94436199975,{"$f":"IF(INTRO!$E$48=\"\",\"\",ROUND($D37*INTRO!$E$48,0))","v":109277},{"$f":"IF(INTRO!$E$49=\"\",\"\",ROUND($D37*INTRO!$E$49,0))","v":223040},{"$f":"IF(INTRO!$E$50=\"\",\"\",ROUND($D37*INTRO!$E$50,0))","v":439190},1,4,1,3,1,{"$f":"IF(INTRO!$E$37=\"Endemic\",IF($H37>0,IF($H37=4,\"Unknown\",IF($H37=99,\"Stopped\",$D37)),0),\"Not required\")","v":801148.94436199975},{"$f":"IF(INTRO!$E$39=\"Endemic\", IF($I37>0, IF($I37=4,\"Unknown\",IF($I37=99,\"Stopped\",$D37)), 0),\"Not required\")","v":"Unknown"},{"$f":"IF(INTRO!$E$41=\"Endemic\", IF($J37>1, IF($J37=4, \"Unknown\", IF($J37=99, \"Surveillance\", E37)), 0),\"Not required\")","v":0},{"$f":"IF(INTRO!$E$41=\"Endemic\", IF($J37>1, IF($J37=4, \"Unknown\", IF($J37=99, \"Surveillance\", F37)), 0),\"Not required\")","v":0},{"$f":"IF(INTRO!$E$41=\"Endemic\", IF($J37>1, IF($J37=4, \"Unknown\", IF($J37=99, \"Surveillance\", ROUND(D37*INTRO!$E$51,0))), 0),\"Not required\")","v":0},{"$f":"IF(INTRO!$E$41=\"Endemic\", IF($J37>1, IF($J37=4, \"Unknown\", IF($J37=99, \"Surveillance\", SUM($O37:$Q37))), 0),\"Not required\")","v":0},{"$f":"IF(INTRO!$E$43=\"Endemic\", IF($K37>1, IF($K37=4, \"Unknown\", IF($K37=99, \"Surveillance\", ROUND(E37*0.75,0))), 0),\"Not required\")","v":81958},{"$f":"IF(INTRO!$E$43=\"Endemic\", IF($K37>1, IF($K37=4, \"Unknown\", IF($K37=99, \"Surveillance\", F37)), 0),\"Not required\")","v":223040},{"$f":"IF(INTRO!$E$43=\"Endemic\", IF($K37>1, IF($K37=4, \"Unknown\", IF($K37=99, \"Surveillance\", G37)), 0),\"Not required\")","v":439190},{"$f":"IF(INTRO!$E$43=\"Endemic\", IF($K37>1, IF($K37=4, \"Unknown\", IF($K37=99, \"Surveillance\", SUM($S37:$U37))), 0),\"Not required\")","v":744188},1,0,0,1]
[{"$f":"IF(INTRO!$E$33<>0,INTRO!$E$33, \" \")","v":"Angola"},"CABINDA","CACONGO",50117.557892999997,{"$f":"IF(INTRO!$E$48=\"\",\"\",ROUND($D38*INTRO!$E$48,0))","v":6836},{"$f":"IF(INTRO!$E$49=\"\",\"\",ROUND($D38*INTRO!$E$49,0))","v":13953},{"$f":"IF(INTRO!$E$50=\"\",\"\",ROUND($D38*INTRO!$E$50,0))","v":27474},1,4,1,1,1,{"$f":"IF(INTRO!$E$37=\"Endemic\",IF($H38>0,IF($H38=4,\"Unknown\",IF($H38=99,\"Stopped\",$D38)),0),\"Not required\")","v":50117.557892999997},{"$f":"IF(INTRO!$E$39=\"Endemic\", IF($I38>0, IF($I38=4,\"Unknown\",IF($I38=99,\"Stopped\",$D38)), 0),\"Not required\")","v":"Unknown"},{"$f":"IF(INTRO!$E$41=\"Endemic\", IF($J38>1, IF($J38=4, \"Unknown\", IF($J38=99, \"Surveillance\", E38)), 0),\"Not required\")","v":0},{"$f":"IF(INTRO!$E$41=\"Endemic\", IF($J38>1, IF($J38=4, \"Unknown\", IF($J38=99, \"Surveillance\", F38)), 0),\"Not required\")","v":0},{"$f":"IF(INTRO!$E$41=\"Endemic\", IF($J38>1, IF($J38=4, \"Unknown\", IF($J38=99, \"Surveillance\", ROUND(D38*INTRO!$E$51,0))), 0),\"Not required\")","v":0},{"$f":"IF(INTRO!$E$41=\"Endemic\", IF($J38>1, IF($J38=4, \"Unknown\", IF($J38=99, \"Surveillance\", SUM($O38:$Q38))), 0),\"Not required\")","v":0},{"$f":"IF(INTRO!$E$43=\"Endemic\", IF($K38>1, IF($K38=4, \"Unknown\", IF($K38=99, \"Surveillance\", ROUND(E38*0.75,0))), 0),\"Not required\")","v":0},{"$f":"IF(INTRO!$E$43=\"Endemic\", IF($K38>1, IF($K38=4, \"Unknown\", IF($K38=99, \"Surveillance\", F38)), 0),\"Not required\")","v":0},{"$f":"IF(INTRO!$E$43=\"Endemic\", IF($K38>1, IF($K38=4, \"Unknown\", IF($K38=99, \"Surveillance\", G38)), 0),\"Not required\")","v":0},{"$f":"IF(INTRO!$E$43=\"Endemic\", IF($K38>1, IF($K38=4, \"Unknown\", IF($K38=99, \"Surveillance\", SUM($S38:$U38))), 0),\"Not required\")","v":0},1,0,0,0]
[{"$f":"IF(INTRO!$E$33<>0,INTRO!$E$33, \" \")","v":"Angola"},"CUANDO CUBANGO","CALAI",29434.322202999996,{"$f":"IF(INTRO!$E$48=\"\",\"\",ROUND($D39*INTRO!$E$48,0))","v":4015},{"$f":"IF(INTRO!$E$49=\"\",\"\",ROUND($D39*INTRO!$E$49,0))","v":8195},{"$f":"IF(INTRO!$E$50=\"\",\"\",ROUND($D39*INTRO!$E$50,0))","v":16136},0,4,1,2,1,{"$f":"IF(INTRO!$E$37=\"Endemic\",IF($H39>0,IF($H39=4,\"Unknown\",IF($H39=99,\"Stopped\",$D39)),0),\"Not required\")","v":0},{"$f":"IF(INTRO!$E$39=\"Endemic\", IF($I39>0, IF($I39=4,\"Unknown\",IF($I39=99,\"Stopped\",$D39)), 0),\"Not required\")","v":"Unknown"},{"$f":"IF(INTRO!$E$41=\"Endemic\", IF($J39>1, IF($J39=4, \"Unknown\", IF($J39=99, \"Surveillance\", E39)), 0),\"Not required\")","v":0},{"$f":"IF(INTRO!$E$41=\"Endemic\", IF($J39>1, IF($J39=4, \"Unknown\", IF($J39=99, \"Surveillance\", F39)), 0),\"Not required\")","v":0},{"$f":"IF(INTRO!$E$41=\"Endemic\", IF($J39>1, IF($J39=4, \"Unknown\", IF($J39=99, \"Surveillance\", ROUND(D39*INTRO!$E$51,0))), 0),\"Not required\")","v":0},{"$f":"IF(INTRO!$E$41=\"Endemic\", IF($J39>1, IF($J39=4, \"Unknown\", IF($J39=99, \"Surveillance\", SUM($O39:$Q39))), 0),\"Not required\")","v":0},{"$f":"IF(INTRO!$E$43=\"Endemic\", IF($K39>1, IF($K39=4, \"Unknown\", IF($K39=99, \"Surveillance\", ROUND(E39*0.75,0))), 0),\"Not required\")","v":3011},{"$f":"IF(INTRO!$E$43=\"Endemic\", IF($K39>1, IF($K39=4, \"Unknown\", IF($K39=99, \"Surveillance\", F39)), 0),\"Not required\")","v":8195},{"$f":"IF(INTRO!$E$43=\"Endemic\", IF($K39>1, IF($K39=4, \"Unknown\", IF($K39=99, \"Surveillance\", G39)), 0),\"Not required\")","v":16136},{"$f":"IF(INTRO!$E$43=\"Endemic\", IF($K39>1, IF($K39=4, \"Unknown\", IF($K39=99, \"Surveillance\", SUM($S39:$U39))), 0),\"Not required\")","v":27342},0,0,0,1]
[{"$f":"IF(INTRO!$E$33<>0,INTRO!$E$33, \" \")","v":"Angola"},"CUANDO CUBANGO","CUANGAR",36977.744010999995,{"$f":"IF(INTRO!$E$48=\"\",\"\",ROUND($D40*INTRO!$E$48,0))","v":5044},{"$f":"IF(INTRO!$E$49=\"\",\"\",ROUND($D40*INTRO!$E$49,0))","v":10295},{"$f":"IF(INTRO!$E$50=\"\",\"\",ROUND($D40*INTRO!$E$50,0))","v":20271},0,1,1,2,1,{"$f":"IF(INTRO!$E$37=\"Endemic\",IF($H40>0,IF($H40=4,\"Unknown\",IF($H40=99,\"Stopped\",$D40)),0),\"Not required\")","v":0},{"$f":"IF(INTRO!$E$39=\"Endemic\", IF($I40>0, IF($I40=4,\"Unknown\",IF($I40=99,\"Stopped\",$D40)), 0),\"Not required\")","v":36977.744010999995},{"$f":"IF(INTRO!$E$41=\"Endemic\", IF($J40>1, IF($J40=4, \"Unknown\", IF($J40=99, \"Surveillance\", E40)), 0),\"Not required\")","v":0},{"$f":"IF(INTRO!$E$41=\"Endemic\", IF($J40>1, IF($J40=4, \"Unknown\", IF($J40=99, \"Surveillance\", F40)), 0),\"Not required\")","v":0},{"$f":"IF(INTRO!$E$41=\"Endemic\", IF($J40>1, IF($J40=4, \"Unknown\", IF($J40=99, \"Surveillance\", ROUND(D40*INTRO!$E$51,0))), 0),\"Not required\")","v":0},{"$f":"IF(INTRO!$E$41=\"Endemic\", IF($J40>1, IF($J40=4, \"Unknown\", IF($J40=99, \"Surveillance\", SUM($O40:$Q40))), 0),\"Not required\")","v":0},{"$f":"IF(INTRO!$E$43=\"Endemic\", IF($K40>1, IF($K40=4, \"Unknown\", IF($K40=99, \"Surveillance\", ROUND(E40*0.75,0))), 0),\"Not required\")","v":3783},{"$f":"IF(INTRO!$E$43=\"Endemic\", IF($K40>1, IF($K40=4, \"Unknown\", IF($K40=99, \"Surveillance\", F40)), 0),\"Not required\")","v":10295},{"$f":"IF(INTRO!$E$43=\"Endemic\", IF($K40>1, IF($K40=4, \"Unknown\", IF($K40=99, \"Surveillance\", G40)), 0),\"Not required\")","v":20271},{"$f":"IF(INTRO!$E$43=\"Endemic\", IF($K40>1, IF($K40=4, \"Unknown\", IF($K40=99, \"Surveillance\", SUM($S40:$U40))), 0),\"Not required\")","v":34349},0,1,0,1]
[{"$f":"IF(INTRO!$E$33<>0,INTRO!$E$33, \" \")","v":"Angola"},"CUANDO CUBANGO","CUCHI",55836.298530999986,{"$f":"IF(INTRO!$E$48=\"\",\"\",ROUND($D41*INTRO!$E$48,0))","v":7616},{"$f":"IF(INTRO!$E$49=\"\",\"\",ROUND($D41*INTRO!$E$49,0))","v":15545},{"$f":"IF(INTRO!$E$50=\"\",\"\",ROUND($D41*INTRO!$E$50,0))","v":30609},0,1,0,2,1,{"$f":"IF(INTRO!$E$37=\"Endemic\",IF($H41>0,IF($H41=4,\"Unknown\",IF($H41=99,\"Stopped\",$D41)),0),\"Not required\")","v":0},{"$f":"IF(INTRO!$E$39=\"Endemic\", IF($I41>0, IF($I41=4,\"Unknown\",IF($I41=99,\"Stopped\",$D41)), 0),\"Not required\")","v":55836.298530999986},{"$f":"IF(INTRO!$E$41=\"Endemic\", IF($J41>1, IF($J41=4, \"Unknown\", IF($J41=99, \"Surveillance\", E41)), 0),\"Not required\")","v":0},{"$f":"IF(INTRO!$E$41=\"Endemic\", IF($J41>1, IF($J41=4, \"Unknown\", IF($J41=99, \"Surveillance\", F41)), 0),\"Not required\")","v":0},{"$f":"IF(INTRO!$E$41=\"Endemic\", IF($J41>1, IF($J41=4, \"Unknown\", IF($J41=99, \"Surveillance\", ROUND(D41*INTRO!$E$51,0))), 0),\"Not required\")","v":0},{"$f":"IF(INTRO!$E$41=\"Endemic\", IF($J41>1, IF($J41=4, \"Unknown\", IF($J41=99, \"Surveillance\", SUM($O41:$Q41))), 0),\"Not required\")","v":0},{"$f":"IF(INTRO!$E$43=\"Endemic\", IF($K41>1, IF($K41=4, \"Unknown\", IF($K41=99, \"Surveillance\", ROUND(E41*0.75,0))), 0),\"Not required\")","v":5712},{"$f":"IF(INTRO!$E$43=\"Endemic\", IF($K41>1, IF($K41=4, \"Unknown\", IF($K41=99, \"Surveillance\", F41)), 0),\"Not required\")","v":15545},{"$f":"IF(INTRO!$E$43=\"Endemic\", IF($K41>1, IF($K41=4, \"Unknown\", IF($K41=99, \"Surveillance\", G41)), 0),\"Not required\")","v":30609},{"$f":"IF(INTRO!$E$43=\"Endemic\", IF($K41>1, IF($K41=4, \"Unknown\", IF($K41=99, \"Surveillance\", SUM($S41:$U41))), 0),\"Not required\")","v":51866},0,1,0,1]
[{"$f":"IF(INTRO!$E$33<>0,INTRO!$E$33, \" \")","v":"Angola"},"CUANDO CUBANGO","CUITO CUANAVALE",53049.70451299999,{"$f":"IF(INTRO!$E$48=\"\",\"\",ROUND($D42*INTRO!$E$48,0))","v":7236},{"$f":"IF(INTRO!$E$49=\"\",\"\",ROUND($D42*INTRO!$E$49,0))","v":14769},{"$f":"IF(INTRO!$E$50=\"\",\"\",ROUND($D42*INTRO!$E$50,0))","v":29082},0,1,1,2,1,{"$f":"IF(INTRO!$E$37=\"Endemic\",IF($H42>0,IF($H42=4,\"Unknown\",IF($H42=99,\"Stopped\",$D42)),0),\"Not required\")","v":0},{"$f":"IF(INTRO!$E$39=\"Endemic\", IF($I42>0, IF($I42=4,\"Unknown\",IF($I42=99,\"Stopped\",$D42)), 0),\"Not required\")","v":53049.70451299999},{"$f":"IF(INTRO!$E$41=\"Endemic\", IF($J42>1, IF($J42=4, \"Unknown\", IF($J42=99, \"Surveillance\", E42)), 0),\"Not required\")","v":0},{"$f":"IF(INTRO!$E$41=\"Endemic\", IF($J42>1, IF($J42=4, \"Unknown\", IF($J42=99, \"Surveillance\", F42)), 0),\"Not required\")","v":0},{"$f":"IF(INTRO!$E$41=\"Endemic\", IF($J42>1, IF($J42=4, \"Unknown\", IF($J42=99, \"Surveillance\", ROUND(D42*INTRO!$E$51,0))), 0),\"Not required\")","v":0},{"$f":"IF(INTRO!$E$41=\"Endemic\", IF($J42>1, IF($J42=4, \"Unknown\", IF($J42=99, \"Surveillance\", SUM($O42:$Q42))), 0),\"Not required\")","v":0},{"$f":"IF(INTRO!$E$43=\"Endemic\", IF($K42>1, IF($K42=4, \"Unknown\", IF($K42=99, \"Surveillance\", ROUND(E42*0.75,0))), 0),\"Not required\")","v":5427},{"$f":"IF(INTRO!$E$43=\"Endemic\", IF($K42>1, IF($K42=4, \"Unknown\", IF($K42=99, \"Surveillance\", F42)), 0),\"Not required\")","v":14769},{"$f":"IF(INTRO!$E$43=\"Endemic\", IF($K42>1, IF($K42=4, \"Unknown\", IF($K42=99, \"Surveillance\", G42)), 0),\"Not required\")","v":29082},{"$f":"IF(INTRO!$E$43=\"Endemic\", IF($K42>1, IF($K42=4, \"Unknown\", IF($K42=99, \"Surveillance\", SUM($S42:$U42))), 0),\"Not required\")","v":49278},0,1,0,1]
[{"$f":"IF(INTRO!$E$33<>0,INTRO!$E$33, \" \")","v":"Angola"},"CUANDO CUBANGO","DIRICO",19653.820185999997,{"$f":"IF(INTRO!$E$48=\"\",\"\",ROUND($D43*INTRO!$E$48,0))","v":2681},{"$f":"IF(INTRO!$E$49=\"\",\"\",ROUND($D43*INTRO!$E$49,0))","v":5472},{"$f":"IF(INTRO!$E$50=\"\",\"\",ROUND($D43*INTRO!$E$50,0))","v":10774},0,4,1,2,1,{"$f":"IF(INTRO!$E$37=\"Endemic\",IF($H43>0,IF($H43=4,\"Unknown\",IF($H43=99,\"Stopped\",$D43)),0),\"Not required\")","v":0},{"$f":"IF(INTRO!$E$39=\"Endemic\", IF($I43>0, IF($I43=4,\"Unknown\",IF($I43=99,\"Stopped\",$D43)), 0),\"Not required\")","v":"Unknown"},{"$f":"IF(INTRO!$E$41=\"Endemic\", IF($J43>1, IF($J43=4, \"Unknown\", IF($J43=99, \"Surveillance\", E43)), 0),\"Not required\")","v":0},{"$f":"IF(INTRO!$E$41=\"Endemic\", IF($J43>1, IF($J43=4, \"Unknown\", IF($J43=99, \"Surveillance\", F43)), 0),\"Not required\")","v":0},{"$f":"IF(INTRO!$E$41=\"Endemic\", IF($J43>1, IF($J43=4, \"Unknown\", IF($J43=99, \"Surveillance\", ROUND(D43*INTRO!$E$51,0))), 0),\"Not required\")","v":0},{"$f":"IF(INTRO!$E$41=\"Endemic\", IF($J43>1, IF($J43=4, \"Unknown\", IF($J43=99, \"Surveillance\", SUM($O43:$Q43))), 0),\"Not required\")","v":0},{"$f":"IF(INTRO!$E$43=\"Endemic\", IF($K43>1, IF($K43=4, \"Unknown\", IF($K43=99, \"Surveillance\", ROUND(E43*0.75,0))), 0),\"Not required\")","v":2011},{"$f":"IF(INTRO!$E$43=\"Endemic\", IF($K43>1, IF($K43=4, \"Unknown\", IF($K43=99, \"Surveillance\", F43)), 0),\"Not required\")","v":5472},{"$f":"IF(INTRO!$E$43=\"Endemic\", IF($K43>1, IF($K43=4, \"Unknown\", IF($K43=99, \"Surveillance\", G43)), 0),\"Not required\")","v":10774},{"$f":"IF(INTRO!$E$43=\"Endemic\", IF($K43>1, IF($K43=4, \"Unknown\", IF($K43=99, \"Surveillance\", SUM($S43:$U43))), 0),\"Not required\")","v":18257},0,0,0,1]
[{"$f":"IF(INTRO!$E$33<>0,INTRO!$E$33, \" \")","v":"Angola"},"CUANDO CUBANGO","MAVINGA",35336.585686999992,{"$f":"IF(INTRO!$E$48=\"\",\"\",ROUND($D44*INTRO!$E$48,0))","v":4820},{"$f":"IF(INTRO!$E$49=\"\",\"\",ROUND($D44*INTRO!$E$49,0))","v":9838},{"$f":"IF(INTRO!$E$50=\"\",\"\",ROUND($D44*INTRO!$E$50,0))","v":19372},0,4,1,1,1,{"$f":"IF(INTRO!$E$37=\"Endemic\",IF($H44>0,IF($H44=4,\"Unknown\",IF($H44=99,\"Stopped\",$D44)),0),\"Not required\")","v":0},{"$f":"IF(INTRO!$E$39=\"Endemic\", IF($I44>0, IF($I44=4,\"Unknown\",IF($I44=99,\"Stopped\",$D44)), 0),\"Not required\")","v":"Unknown"},{"$f":"IF(INTRO!$E$41=\"Endemic\", IF($J44>1, IF($J44=4, \"Unknown\", IF($J44=99, \"Surveillance\", E44)), 0),\"Not required\")","v":0},{"$f":"IF(INTRO!$E$41=\"Endemic\", IF($J44>1, IF($J44=4, \"Unknown\", IF($J44=99, \"Surveillance\", F44)), 0),\"Not required\")","v":0},{"$f":"IF(INTRO!$E$41=\"Endemic\", IF($J44>1, IF($J44=4, \"Unknown\", IF($J44=99, \"Surveillance\", ROUND(D44*INTRO!$E$51,0))), 0),\"Not required\")","v":0},{"$f":"IF(INTRO!$E$41=\"Endemic\", IF($J44>1, IF($J44=4, \"Unknown\", IF($J44=99, \"Surveillance\", SUM($O44:$Q44))), 0),\"Not required\")","v":0},{"$f":"IF(INTRO!$E$43=\"Endemic\", IF($K44>1, IF($K44=4, \"Unknown\", IF($K44=99, \"Surveillance\", ROUND(E44*0.75,0))), 0),\"Not required\")","v":0},{"$f":"IF(INTRO!$E$43=\"Endemic\", IF($K44>1, IF($K44=4, \"Unknown\", IF($K44=99, \"Surveillance\", F44)), 0),\"Not required\")","v":0},{"$f":"IF(INTRO!$E$43=\"Endemic\", IF($K44>1, IF($K44=4, \"Unknown\", IF($K44=99, \"Surveillance\", G44)), 0),\"Not required\")","v":0},{"$f":"IF(INTRO!$E$43=\"Endemic\", IF($K44>1, IF($K44=4, \"Unknown\", IF($K44=99, \"Surveillance\", SUM($S44:$U44))), 0),\"Not required\")","v":0},0,0,0,0]
[{"$f":"IF(INTRO!$E$33<>0,INTRO!$E$33, \" \")","v":"Angola"},"CUANDO CUBANGO","MENONGUE",416969.17975699995,{"$f":"IF(INTRO!$E$48=\"\",\"\",ROUND($D45*INTRO!$E$48,0))","v":56875},{"$f":"IF(INTRO!$E$49=\"\",\"\",ROUND($D45*INTRO!$E$49,0))","v":116084},{"$f":"IF(INTRO!$E$50=\"\",\"\",ROUND($D45*INTRO!$E$50,0))","v":228583},0,1,1,2,1,{"$f":"IF(INTRO!$E$37=\"Endemic\",IF($H45>0,IF($H45=4,\"Unknown\",IF($H45=99,\"Stopped\",$D45)),0),\"Not required\")","v":0},{"$f":"IF(INTRO!$E$39=\"Endemic\", IF($I45>0, IF($I45=4,\"Unknown\",IF($I45=99,\"Stopped\",$D45)), 0),\"Not required\")","v":416969.17975699995},{"$f":"IF(INTRO!$E$41=\"Endemic\", IF($J45>1, IF($J45=4, \"Unknown\", IF($J45=99, \"Surveillance\", E45)), 0),\"Not required\")","v":0},{"$f":"IF(INTRO!$E$41=\"Endemic\", IF($J45>1, IF($J45=4, \"Unknown\", IF($J45=99, \"Surveillance\", F45)), 0),\"Not required\")","v":0},{"$f":"IF(INTRO!$E$41=\"Endemic\", IF($J45>1, IF($J45=4, \"Unknown\", IF($J45=99, \"Surveillance\", ROUND(D45*INTRO!$E$51,0))), 0),\"Not required\")","v":0},{"$f":"IF(INTRO!$E$41=\"Endemic\", IF($J45>1, IF($J45=4, \"Unknown\", IF($J45=99, \"Surveillance\", SUM($O45:$Q45))), 0),\"Not required\")","v":0},{"$f":"IF(INTRO!$E$43=\"Endemic\", IF($K45>1, IF($K45=4, \"Unknown\", IF($K45=99, \"Surveillance\", ROUND(E45*0.75,0))), 0),\"Not required\")","v":42656},{"$f":"IF(INTRO!$E$43=\"Endemic\", IF($K45>1, IF($K45=4, \"Unknown\", IF($K45=99, \"Surveillance\", F45)), 0),\"Not required\")","v":116084},{"$f":"IF(INTRO!$E$43=\"Endemic\", IF($K45>1, IF($K45=4, \"Unknown\", IF($K45=99, \"Surveillance\", G45)), 0),\"Not required\")","v":228583},{"$f":"IF(INTRO!$E$43=\"Endemic\", IF($K45>1, IF($K45=4, \"Unknown\", IF($K45=99, \"Surveillance\", SUM($S45:$U45))), 0),\"Not required\")","v":387323},0,1,0,1]
[{"$f":"IF(INTRO!$E$33<>0,INTRO!$E$33, \" \")","v":"Angola"},"CUANDO CUBANGO","NANKOVA",3633.5414049999995,{"$f":"IF(INTRO!$E$48=\"\",\"\",ROUND($D46*INTRO!$E$48,0))","v":496},{"$f":"IF(INTRO!$E$49=\"\",\"\",ROUND($D46*INTRO!$E$49,0))","v":1012},{"$f":"IF(INTRO!$E$50=\"\",\"\",ROUND($D46*INTRO!$E$50,0))","v":1992},0,1,1,0,1,{"$f":"IF(INTRO!$E$37=\"Endemic\",IF($H46>0,IF($H46=4,\"Unknown\",IF($H46=99,\"Stopped\",$D46)),0),\"Not required\")","v":0},{"$f":"IF(INTRO!$E$39=\"Endemic\", IF($I46>0, IF($I46=4,\"Unknown\",IF($I46=99,\"Stopped\",$D46)), 0),\"Not required\")","v":3633.5414049999995},{"$f":"IF(INTRO!$E$41=\"Endemic\", IF($J46>1, IF($J46=4, \"Unknown\", IF($J46=99, \"Surveillance\", E46)), 0),\"Not required\")","v":0},{"$f":"IF(INTRO!$E$41=\"Endemic\", IF($J46>1, IF($J46=4, \"Unknown\", IF($J46=99, \"Surveillance\", F46)), 0),\"Not required\")","v":0},{"$f":"IF(INTRO!$E$41=\"Endemic\", IF($J46>1, IF($J46=4, \"Unknown\", IF($J46=99, \"Surveillance\", ROUND(D46*INTRO!$E$51,0))), 0),\"Not required\")","v":0},{"$f":"IF(INTRO!$E$41=\"Endemic\", IF($J46>1, IF($J46=4, \"Unknown\", IF($J46=99, \"Surveillance\", SUM($O46:$Q46))), 0),\"Not required\")","v":0},{"$f":"IF(INTRO!$E$43=\"Endemic\", IF($K46>1, IF($K46=4, \"Unknown\", IF($K46=99, \"Surveillance\", ROUND(E46*0.75,0))), 0),\"Not required\")","v":0},{"$f":"IF(INTRO!$E$43=\"Endemic\", IF($K46>1, IF($K46=4, \"Unknown\", IF($K46=99, \"Surveillance\", F46)), 0),\"Not required\")","v":0},{"$f":"IF(INTRO!$E$43=\"Endemic\", IF($K46>1, IF($K46=4, \"Unknown\", IF($K46=99, \"Surveillance\", G46)), 0),\"Not required\")","v":0},{"$f":"IF(INTRO!$E$43=\"Endemic\", IF($K46>1, IF($K46=4, \"Unknown\", IF($K46=99, \"Surveillance\", SUM($S46:$U46))), 0),\"Not required\")","v":0},0,1,0,0]
[{"$f":"IF(INTRO!$E$33<>0,INTRO!$E$33, \" \")","v":"Angola"},"CUANDO CUBANGO","RIVUNGO",42946.455421999992,{"$f":"IF(INTRO!$E$48=\"\",\"\",ROUND($D47*INTRO!$E$48,0))","v":5858},{"$f":"IF(INTRO!$E$49=\"\",\"\",ROUND($D47*INTRO!$E$49,0))","v":11956},{"$f":"IF(INTRO!$E$50=\"\",\"\",ROUND($D47*INTRO!$E$50,0))","v":23543},0,4,1,1,0,{"$f":"IF(INTRO!$E$37=\"Endemic\",IF($H47>0,IF($H47=4,\"Unknown\",IF($H47=99,\"Stopped\",$D47)),0),\"Not required\")","v":0},{"$f":"IF(INTRO!$E$39=\"Endemic\", IF($I47>0, IF($I47=4,\"Unknown\",IF($I47=99,\"Stopped\",$D47)), 0),\"Not required\")","v":"Unknown"},{"$f":"IF(INTRO!$E$41=\"Endemic\", IF($J47>1, IF($J47=4, \"Unknown\", IF($J47=99, \"Surveillance\", E47)), 0),\"Not required\")","v":0},{"$f":"IF(INTRO!$E$41=\"Endemic\", IF($J47>1, IF($J47=4, \"Unknown\", IF($J47=99, \"Surveillance\", F47)), 0),\"Not required\")","v":0},{"$f":"IF(INTRO!$E$41=\"Endemic\", IF($J47>1, IF($J47=4, \"Unknown\", IF($J47=99, \"Surveillance\", ROUND(D47*INTRO!$E$51,0))), 0),\"Not required\")","v":0},{"$f":"IF(INTRO!$E$41=\"Endemic\", IF($J47>1, IF($J47=4, \"Unknown\", IF($J47=99, \"Surveillance\", SUM($O47:$Q47))), 0),\"Not required\")","v":0},{"$f":"IF(INTRO!$E$43=\"Endemic\", IF($K47>1, IF($K47=4, \"Unknown\", IF($K47=99, \"Surveillance\", ROUND(E47*0.75,0))), 0),\"Not required\")","v":0},{"$f":"IF(INTRO!$E$43=\"Endemic\", IF($K47>1, IF($K47=4, \"Unknown\", IF($K47=99, \"Surveillance\", F47)), 0),\"Not required\")","v":0},{"$f":"IF(INTRO!$E$43=\"Endemic\", IF($K47>1, IF($K47=4, \"Unknown\", IF($K47=99, \"Surveillance\", G47)), 0),\"Not required\")","v":0},{"$f":"IF(INTRO!$E$43=\"Endemic\", IF($K47>1, IF($K47=4, \"Unknown\", IF($K47=99, \"Surveillance\", SUM($S47:$U47))), 0),\"Not required\")","v":0},0,0,0,0]
[{"$f":"IF(INTRO!$E$33<>0,INTRO!$E$33, \" \")","v":"Angola"},"CUANZA NORTE","AMBACA",79269.212723999997,{"$f":"IF(INTRO!$E$48=\"\",\"\",ROUND($D48*INTRO!$E$48,0))","v":10812},{"$f":"IF(INTRO!$E$49=\"\",\"\",ROUND($D48*INTRO!$E$49,0))","v":22069},{"$f":"IF(INTRO!$E$50=\"\",\"\",ROUND($D48*INTRO!$E$50,0))","v":43455},1,1,3,1,1,{"$f":"IF(INTRO!$E$37=\"Endemic\",IF($H48>0,IF($H48=4,\"Unknown\",IF($H48=99,\"Stopped\",$D48)),0),\"Not required\")","v":79269.212723999997},{"$f":"IF(INTRO!$E$39=\"Endemic\", IF($I48>0, IF($I48=4,\"Unknown\",IF($I48=99,\"Stopped\",$D48)), 0),\"Not required\")","v":79269.212723999997},{"$f":"IF(INTRO!$E$41=\"Endemic\", IF($J48>1, IF($J48=4, \"Unknown\", IF($J48=99, \"Surveillance\", E48)), 0),\"Not required\")","v":10812},{"$f":"IF(INTRO!$E$41=\"Endemic\", IF($J48>1, IF($J48=4, \"Unknown\", IF($J48=99, \"Surveillance\", F48)), 0),\"Not required\")","v":22069},{"$f":"IF(INTRO!$E$41=\"Endemic\", IF($J48>1, IF($J48=4, \"Unknown\", IF($J48=99, \"Surveillance\", ROUND(D48*INTRO!$E$51,0))), 0),\"Not required\")","v":18319},{"$f":"IF(INTRO!$E$41=\"Endemic\", IF($J48>1, IF($J48=4, \"Unknown\", IF($J48=99, \"Surveillance\", SUM($O48:$Q48))), 0),\"Not required\")","v":51200},{"$f":"IF(INTRO!$E$43=\"Endemic\", IF($K48>1, IF($K48=4, \"Unknown\", IF($K48=99, \"Surveillance\", ROUND(E48*0.75,0))), 0),\"Not required\")","v":0},{"$f":"IF(INTRO!$E$43=\"Endemic\", IF($K48>1, IF($K48=4, \"Unknown\", IF($K48=99, \"Surveillance\", F48)), 0),\"Not required\")","v":0},{"$f":"IF(INTRO!$E$43=\"Endemic\", IF($K48>1, IF($K48=4, \"Unknown\", IF($K48=99, \"Surveillance\", G48)), 0),\"Not required\")","v":0},{"$f":"IF(INTRO!$E$43=\"Endemic\", IF($K48>1, IF($K48=4, \"Unknown\", IF($K48=99, \"Surveillance\", SUM($S48:$U48))), 0),\"Not required\")","v":0},1,1,2,0]
[{"$f":"IF(INTRO!$E$33<>0,INTRO!$E$33, \" \")","v":"Angola"},"CUANZA NORTE","BANGA",13287.475941999999,{"$f":"IF(INTRO!$E$48=\"\",\"\",ROUND($D49*INTRO!$E$48,0))","v":1812},{"$f":"IF(INTRO!$E$49=\"\",\"\",ROUND($D49*INTRO!$E$49,0))","v":3699},{"$f":"IF(INTRO!$E$50=\"\",\"\",ROUND($D49*INTRO!$E$50,0))","v":7284},1,1,3,1,1,{"$f":"IF(INTRO!$E$37=\"Endemic\",IF($H49>0,IF($H49=4,\"Unknown\",IF($H49=99,\"Stopped\",$D49)),0),\"Not required\")","v":13287.475941999999},{"$f":"IF(INTRO!$E$39=\"Endemic\", IF($I49>0, IF($I49=4,\"Unknown\",IF($I49=99,\"Stopped\",$D49)), 0),\"Not required\")","v":13287.475941999999},{"$f":"IF(INTRO!$E$41=\"Endemic\", IF($J49>1, IF($J49=4, \"Unknown\", IF($J49=99, \"Surveillance\", E49)), 0),\"Not required\")","v":1812},{"$f":"IF(INTRO!$E$41=\"Endemic\", IF($J49>1, IF($J49=4, \"Unknown\", IF($J49=99, \"Surveillance\", F49)), 0),\"Not required\")","v":3699},{"$f":"IF(INTRO!$E$41=\"Endemic\", IF($J49>1, IF($J49=4, \"Unknown\", IF($J49=99, \"Surveillance\", ROUND(D49*INTRO!$E$51,0))), 0),\"Not required\")","v":3071},{"$f":"IF(INTRO!$E$41=\"Endemic\", IF($J49>1, IF($J49=4, \"Unknown\", IF($J49=99, \"Surveillance\", SUM($O49:$Q49))), 0),\"Not required\")","v":8582},{"$f":"IF(INTRO!$E$43=\"Endemic\", IF($K49>1, IF($K49=4, \"Unknown\", IF($K49=99, \"Surveillance\", ROUND(E49*0.75,0))), 0),\"Not required\")","v":0},{"$f":"IF(INTRO!$E$43=\"Endemic\", IF($K49>1, IF($K49=4, \"Unknown\", IF($K49=99, \"Surveillance\", F49)), 0),\"Not required\")","v":0},{"$f":"IF(INTRO!$E$43=\"Endemic\", IF($K49>1, IF($K49=4, \"Unknown\", IF($K49=99, \"Surveillance\", G49)), 0),\"Not required\")","v":0},{"$f":"IF(INTRO!$E$43=\"Endemic\", IF($K49>1, IF($K49=4, \"Unknown\", IF($K49=99, \"Surveillance\", SUM($S49:$U49))), 0),\"Not required\")","v":0},1,1,2,0]
[{"$f":"IF(INTRO!$E$33<>0,INTRO!$E$33, \" \")","v":"Angola"},"CUANZA NORTE","BOLONGONGO",16707.962088999997,{"$f":"IF(INTRO!$E$48=\"\",\"\",ROUND($D50*INTRO!$E$48,0))","v":2279},{"$f":"IF(INTRO!$E$49=\"\",\"\",ROUND($D50*INTRO!$E$49,0))","v":4651},{"$f":"IF(INTRO!$E$50=\"\",\"\",ROUND($D50*INTRO!$E$50,0))","v":9159},1,1,3,0,1,{"$f":"IF(INTRO!$E$37=\"Endemic\",IF($H50>0,IF($H50=4,\"Unknown\",IF($H50=99,\"Stopped\",$D50)),0),\"Not required\")","v":16707.962088999997},{"$f":"IF(INTRO!$E$39=\"Endemic\", IF($I50>0, IF($I50=4,\"Unknown\",IF($I50=99,\"Stopped\",$D50)), 0),\"Not required\")","v":16707.962088999997},{"$f":"IF(INTRO!$E$41=\"Endemic\", IF($J50>1, IF($J50=4, \"Unknown\", IF($J50=99, \"Surveillance\", E50)), 0),\"Not required\")","v":2279},{"$f":"IF(INTRO!$E$41=\"Endemic\", IF($J50>1, IF($J50=4, \"Unknown\", IF($J50=99, \"Surveillance\", F50)), 0),\"Not required\")","v":4651},{"$f":"IF(INTRO!$E$41=\"Endemic\", IF($J50>1, IF($J50=4, \"Unknown\", IF($J50=99, \"Surveillance\", ROUND(D50*INTRO!$E$51,0))), 0),\"Not required\")","v":3861},{"$f":"IF(INTRO!$E$41=\"Endemic\", IF($J50>1, IF($J50=4, \"Unknown\", IF($J50=99, \"Surveillance\", SUM($O50:$Q50))), 0),\"Not required\")","v":10791},{"$f":"IF(INTRO!$E$43=\"Endemic\", IF($K50>1, IF($K50=4, \"Unknown\", IF($K50=99, \"Surveillance\", ROUND(E50*0.75,0))), 0),\"Not required\")","v":0},{"$f":"IF(INTRO!$E$43=\"Endemic\", IF($K50>1, IF($K50=4, \"Unknown\", IF($K50=99, \"Surveillance\", F50)), 0),\"Not required\")","v":0},{"$f":"IF(INTRO!$E$43=\"Endemic\", IF($K50>1, IF($K50=4, \"Unknown\", IF($K50=99, \"Surveillance\", G50)), 0),\"Not required\")","v":0},{"$f":"IF(INTRO!$E$43=\"Endemic\", IF($K50>1, IF($K50=4, \"Unknown\", IF($K50=99, \"Surveillance\", SUM($S50:$U50))), 0),\"Not required\")","v":0},1,1,2,0]
[{"$f":"IF(INTRO!$E$33<>0,INTRO!$E$33, \" \")","v":"Angola"},"CUANZA NORTE","CAMBAMBE",116483.21603099997,{"$f":"IF(INTRO!$E$48=\"\",\"\",ROUND($D51*INTRO!$E$48,0))","v":15888},{"$f":"IF(INTRO!$E$49=\"\",\"\",ROUND($D51*INTRO!$E$49,0))","v":32429},{"$f":"IF(INTRO!$E$50=\"\",\"\",ROUND($D51*INTRO!$E$50,0))","v":63856},0,4,2,3,0,{"$f":"IF(INTRO!$E$37=\"Endemic\",IF($H51>0,IF($H51=4,\"Unknown\",IF($H51=99,\"Stopped\",$D51)),0),\"Not required\")","v":0},{"$f":"IF(INTRO!$E$39=\"Endemic\", IF($I51>0, IF($I51=4,\"Unknown\",IF($I51=99,\"Stopped\",$D51)), 0),\"Not required\")","v":"Unknown"},{"$f":"IF(INTRO!$E$41=\"Endemic\", IF($J51>1, IF($J51=4, \"Unknown\", IF($J51=99, \"Surveillance\", E51)), 0),\"Not required\")","v":15888},{"$f":"IF(INTRO!$E$41=\"Endemic\", IF($J51>1, IF($J51=4, \"Unknown\", IF($J51=99, \"Surveillance\", F51)), 0),\"Not required\")","v":32429},{"$f":"IF(INTRO!$E$41=\"Endemic\", IF($J51>1, IF($J51=4, \"Unknown\", IF($J51=99, \"Surveillance\", ROUND(D51*INTRO!$E$51,0))), 0),\"Not required\")","v":26919},{"$f":"IF(INTRO!$E$41=\"Endemic\", IF($J51>1, IF($J51=4, \"Unknown\", IF($J51=99, \"Surveillance\", SUM($O51:$Q51))), 0),\"Not required\")","v":75236},{"$f":"IF(INTRO!$E$43=\"Endemic\", IF($K51>1, IF($K51=4, \"Unknown\", IF($K51=99, \"Surveillance\", ROUND(E51*0.75,0))), 0),\"Not required\")","v":11916},{"$f":"IF(INTRO!$E$43=\"Endemic\", IF($K51>1, IF($K51=4, \"Unknown\", IF($K51=99, \"Surveillance\", F51)), 0),\"Not required\")","v":32429},{"$f":"IF(INTRO!$E$43=\"Endemic\", IF($K51>1, IF($K51=4, \"Unknown\", IF($K51=99, \"Surveillance\", G51)), 0),\"Not required\")","v":63856},{"$f":"IF(INTRO!$E$43=\"Endemic\", IF($K51>1, IF($K51=4, \"Unknown\", IF($K51=99, \"Surveillance\", SUM($S51:$U51))), 0),\"Not required\")","v":108201},0,0,1,1]
[{"$f":"IF(INTRO!$E$33<>0,INTRO!$E$33, \" \")","v":"Angola"},"CUANZA NORTE","CAZENGO",220402.50021399997,{"$f":"IF(INTRO!$E$48=\"\",\"\",ROUND($D52*INTRO!$E$48,0))","v":30063},{"$f":"IF(INTRO!$E$49=\"\",\"\",ROUND($D52*INTRO!$E$49,0))","v":61360},{"$f":"IF(INTRO!$E$50=\"\",\"\",ROUND($D52*INTRO!$E$50,0))","v":120825},1,4,3,2,0,{"$f":"IF(INTRO!$E$37=\"Endemic\",IF($H52>0,IF($H52=4,\"Unknown\",IF($H52=99,\"Stopped\",$D52)),0),\"Not required\")","v":220402.50021399997},{"$f":"IF(INTRO!$E$39=\"Endemic\", IF($I52>0, IF($I52=4,\"Unknown\",IF($I52=99,\"Stopped\",$D52)), 0),\"Not required\")","v":"Unknown"},{"$f":"IF(INTRO!$E$41=\"Endemic\", IF($J52>1, IF($J52=4, \"Unknown\", IF($J52=99, \"Surveillance\", E52)), 0),\"Not required\")","v":30063},{"$f":"IF(INTRO!$E$41=\"Endemic\", IF($J52>1, IF($J52=4, \"Unknown\", IF($J52=99, \"Surveillance\", F52)), 0),\"Not required\")","v":61360},{"$f":"IF(INTRO!$E$41=\"Endemic\", IF($J52>1, IF($J52=4, \"Unknown\", IF($J52=99, \"Surveillance\", ROUND(D52*INTRO!$E$51,0))), 0),\"Not required\")","v":50935},{"$f":"IF(INTRO!$E$41=\"Endemic\", IF($J52>1, IF($J52=4, \"Unknown\", IF($J52=99, \"Surveillance\", SUM($O52:$Q52))), 0),\"Not required\")","v":142358},{"$f":"IF(INTRO!$E$43=\"Endemic\", IF($K52>1, IF($K52=4, \"Unknown\", IF($K52=99, \"Surveillance\", ROUND(E52*0.75,0))), 0),\"Not required\")","v":22547},{"$f":"IF(INTRO!$E$43=\"Endemic\", IF($K52>1, IF($K52=4, \"Unknown\", IF($K52=99, \"Surveillance\", F52)), 0),\"Not required\")","v":61360},{"$f":"IF(INTRO!$E$43=\"Endemic\", IF($K52>1, IF($K52=4, \"Unknown\", IF($K52=99, \"Surveillance\", G52)), 0),\"Not required\")","v":120825},{"$f":"IF(INTRO!$E$43=\"Endemic\", IF($K52>1, IF($K52=4, \"Unknown\", IF($K52=99, \"Surveillance\", SUM($S52:$U52))), 0),\"Not required\")","v":204732},1,0,2,1]
[{"$f":"IF(INTRO!$E$33<>0,INTRO!$E$33, \" \")","v":"Angola"},"CUANZA NORTE","GOLUNGO ALTO",43421.083471999991,{"$f":"IF(INTRO!$E$48=\"\",\"\",ROUND($D53*INTRO!$E$48,0))","v":5923},{"$f":"IF(INTRO!$E$49=\"\",\"\",ROUND($D53*INTRO!$E$49,0))","v":12088},{"$f":"IF(INTRO!$E$50=\"\",\"\",ROUND($D53*INTRO!$E$50,0))","v":23803},1,1,3,3,0,{"$f":"IF(INTRO!$E$37=\"Endemic\",IF($H53>0,IF($H53=4,\"Unknown\",IF($H53=99,\"Stopped\",$D53)),0),\"Not required\")","v":43421.083471999991},{"$f":"IF(INTRO!$E$39=\"Endemic\", IF($I53>0, IF($I53=4,\"Unknown\",IF($I53=99,\"Stopped\",$D53)), 0),\"Not required\")","v":43421.083471999991},{"$f":"IF(INTRO!$E$41=\"Endemic\", IF($J53>1, IF($J53=4, \"Unknown\", IF($J53=99, \"Surveillance\", E53)), 0),\"Not required\")","v":5923},{"$f":"IF(INTRO!$E$41=\"Endemic\", IF($J53>1, IF($J53=4, \"Unknown\", IF($J53=99, \"Surveillance\", F53)), 0),\"Not required\")","v":12088},{"$f":"IF(INTRO!$E$41=\"Endemic\", IF($J53>1, IF($J53=4, \"Unknown\", IF($J53=99, \"Surveillance\", ROUND(D53*INTRO!$E$51,0))), 0),\"Not required\")","v":10035},{"$f":"IF(INTRO!$E$41=\"Endemic\", IF($J53>1, IF($J53=4, \"Unknown\", IF($J53=99, \"Surveillance\", SUM($O53:$Q53))), 0),\"Not required\")","v":28046},{"$f":"IF(INTRO!$E$43=\"Endemic\", IF($K53>1, IF($K53=4, \"Unknown\", IF($K53=99, \"Surveillance\", ROUND(E53*0.75,0))), 0),\"Not required\")","v":4442},{"$f":"IF(INTRO!$E$43=\"Endemic\", IF($K53>1, IF($K53=4, \"Unknown\", IF($K53=99, \"Surveillance\", F53)), 0),\"Not required\")","v":12088},{"$f":"IF(INTRO!$E$43=\"Endemic\", IF($K53>1, IF($K53=4, \"Unknown\", IF($K53=99, \"Surveillance\", G53)), 0),\"Not required\")","v":23803},{"$f":"IF(INTRO!$E$43=\"Endemic\", IF($K53>1, IF($K53=4, \"Unknown\", IF($K53=99, \"Surveillance\", SUM($S53:$U53))), 0),\"Not required\")","v":40333},1,1,2,1]
[{"$f":"IF(INTRO!$E$33<>0,INTRO!$E$33, \" \")","v":"Angola"},"CUANZA NORTE","GONGUEMBO",9722.4919219999974,{"$f":"IF(INTRO!$E$48=\"\",\"\",ROUND($D54*INTRO!$E$48,0))","v":1326},{"$f":"IF(INTRO!$E$49=\"\",\"\",ROUND($D54*INTRO!$E$49,0))","v":2707},{"$f":"IF(INTRO!$E$50=\"\",\"\",ROUND($D54*INTRO!$E$50,0))","v":5330},1,1,3,1,0,{"$f":"IF(INTRO!$E$37=\"Endemic\",IF($H54>0,IF($H54=4,\"Unknown\",IF($H54=99,\"Stopped\",$D54)),0),\"Not required\")","v":9722.4919219999974},{"$f":"IF(INTRO!$E$39=\"Endemic\", IF($I54>0, IF($I54=4,\"Unknown\",IF($I54=99,\"Stopped\",$D54)), 0),\"Not required\")","v":9722.4919219999974},{"$f":"IF(INTRO!$E$41=\"Endemic\", IF($J54>1, IF($J54=4, \"Unknown\", IF($J54=99, \"Surveillance\", E54)), 0),\"Not required\")","v":1326},{"$f":"IF(INTRO!$E$41=\"Endemic\", IF($J54>1, IF($J54=4, \"Unknown\", IF($J54=99, \"Surveillance\", F54)), 0),\"Not required\")","v":2707},{"$f":"IF(INTRO!$E$41=\"Endemic\", IF($J54>1, IF($J54=4, \"Unknown\", IF($J54=99, \"Surveillance\", ROUND(D54*INTRO!$E$51,0))), 0),\"Not required\")","v":2247},{"$f":"IF(INTRO!$E$41=\"Endemic\", IF($J54>1, IF($J54=4, \"Unknown\", IF($J54=99, \"Surveillance\", SUM($O54:$Q54))), 0),\"Not required\")","v":6280},{"$f":"IF(INTRO!$E$43=\"Endemic\", IF($K54>1, IF($K54=4, \"Unknown\", IF($K54=99, \"Surveillance\", ROUND(E54*0.75,0))), 0),\"Not required\")","v":0},{"$f":"IF(INTRO!$E$43=\"Endemic\", IF($K54>1, IF($K54=4, \"Unknown\", IF($K54=99, \"Surveillance\", F54)), 0),\"Not required\")","v":0},{"$f":"IF(INTRO!$E$43=\"Endemic\", IF($K54>1, IF($K54=4, \"Unknown\", IF($K54=99, \"Surveillance\", G54)), 0),\"Not required\")","v":0},{"$f":"IF(INTRO!$E$43=\"Endemic\", IF($K54>1, IF($K54=4, \"Unknown\", IF($K54=99, \"Surveillance\", SUM($S54:$U54))), 0),\"Not required\")","v":0},1,1,2,0]
[{"$f":"IF(INTRO!$E$33<>0,INTRO!$E$33, \" \")","v":"Angola"},"CUANZA NORTE","LUCALA",29098.918380999996,{"$f":"IF(INTRO!$E$48=\"\",\"\",ROUND($D55*INTRO!$E$48,0))","v":3969},{"$f":"IF(INTRO!$E$49=\"\",\"\",ROUND($D55*INTRO!$E$49,0))","v":8101},{"$f":"IF(INTRO!$E$50=\"\",\"\",ROUND($D55*INTRO!$E$50,0))","v":15952},0,4,3,2,0,{"$f":"IF(INTRO!$E$37=\"Endemic\",IF($H55>0,IF($H55=4,\"Unknown\",IF($H55=99,\"Stopped\",$D55)),0),\"Not required\")","v":0},{"$f":"IF(INTRO!$E$39=\"Endemic\", IF($I55>0, IF($I55=4,\"Unknown\",IF($I55=99,\"Stopped\",$D55)), 0),\"Not required\")","v":"Unknown"},{"$f":"IF(INTRO!$E$41=\"Endemic\", IF($J55>1, IF($J55=4, \"Unknown\", IF($J55=99, \"Surveillance\", E55)), 0),\"Not required\")","v":3969},{"$f":"IF(INTRO!$E$41=\"Endemic\", IF($J55>1, IF($J55=4, \"Unknown\", IF($J55=99, \"Surveillance\", F55)), 0),\"Not required\")","v":8101},{"$f":"IF(INTRO!$E$41=\"Endemic\", IF($J55>1, IF($J55=4, \"Unknown\", IF($J55=99, \"Surveillance\", ROUND(D55*INTRO!$E$51,0))), 0),\"Not required\")","v":6725},{"$f":"IF(INTRO!$E$41=\"Endemic\", IF($J55>1, IF($J55=4, \"Unknown\", IF($J55=99, \"Surveillance\", SUM($O55:$Q55))), 0),\"Not required\")","v":18795},{"$f":"IF(INTRO!$E$43=\"Endemic\", IF($K55>1, IF($K55=4, \"Unknown\", IF($K55=99, \"Surveillance\", ROUND(E55*0.75,0))), 0),\"Not required\")","v":2977},{"$f":"IF(INTRO!$E$43=\"Endemic\", IF($K55>1, IF($K55=4, \"Unknown\", IF($K55=99, \"Surveillance\", F55)), 0),\"Not required\")","v":8101},{"$f":"IF(INTRO!$E$43=\"Endemic\", IF($K55>1, IF($K55=4, \"Unknown\", IF($K55=99, \"Surveillance\", G55)), 0),\"Not required\")","v":15952},{"$f":"IF(INTRO!$E$43=\"Endemic\", IF($K55>1, IF($K55=4, \"Unknown\", IF($K55=99, \"Surveillance\", SUM($S55:$U55))), 0),\"Not required\")","v":27030},0,0,2,1]
[{"$f":"IF(INTRO!$E$33<>0,INTRO!$E$33, \" \")","v":"Angola"},"CUANZA NORTE","QUICULUNGO",12489.046088999998,{"$f":"IF(INTRO!$E$48=\"\",\"\",ROUND($D56*INTRO!$E$48,0))","v":1704},{"$f":"IF(INTRO!$E$49=\"\",\"\",ROUND($D56*INTRO!$E$49,0))","v":3477},{"$f":"IF(INTRO!$E$50=\"\",\"\",ROUND($D56*INTRO!$E$50,0))","v":6846},1,4,3,3,0,{"$f":"IF(INTRO!$E$37=\"Endemic\",IF($H56>0,IF($H56=4,\"Unknown\",IF($H56=99,\"Stopped\",$D56)),0),\"Not required\")","v":12489.046088999998},{"$f":"IF(INTRO!$E$39=\"Endemic\", IF($I56>0, IF($I56=4,\"Unknown\",IF($I56=99,\"Stopped\",$D56)), 0),\"Not required\")","v":"Unknown"},{"$f":"IF(INTRO!$E$41=\"Endemic\", IF($J56>1, IF($J56=4, \"Unknown\", IF($J56=99, \"Surveillance\", E56)), 0),\"Not required\")","v":1704},{"$f":"IF(INTRO!$E$41=\"Endemic\", IF($J56>1, IF($J56=4, \"Unknown\", IF($J56=99, \"Surveillance\", F56)), 0),\"Not required\")","v":3477},{"$f":"IF(INTRO!$E$41=\"Endemic\", IF($J56>1, IF($J56=4, \"Unknown\", IF($J56=99, \"Surveillance\", ROUND(D56*INTRO!$E$51,0))), 0),\"Not required\")","v":2886},{"$f":"IF(INTRO!$E$41=\"Endemic\", IF($J56>1, IF($J56=4, \"Unknown\", IF($J56=99, \"Surveillance\", SUM($O56:$Q56))), 0),\"Not required\")","v":8067},{"$f":"IF(INTRO!$E$43=\"Endemic\", IF($K56>1, IF($K56=4, \"Unknown\", IF($K56=99, \"Surveillance\", ROUND(E56*0.75,0))), 0),\"Not required\")","v":1278},{"$f":"IF(INTRO!$E$43=\"Endemic\", IF($K56>1, IF($K56=4, \"Unknown\", IF($K56=99, \"Surveillance\", F56)), 0),\"Not required\")","v":3477},{"$f":"IF(INTRO!$E$43=\"Endemic\", IF($K56>1, IF($K56=4, \"Unknown\", IF($K56=99, \"Surveillance\", G56)), 0),\"Not required\")","v":6846},{"$f":"IF(INTRO!$E$43=\"Endemic\", IF($K56>1, IF($K56=4, \"Unknown\", IF($K56=99, \"Surveillance\", SUM($S56:$U56))), 0),\"Not required\")","v":11601},1,0,2,1]
[{"$f":"IF(INTRO!$E$33<>0,INTRO!$E$33, \" \")","v":"Angola"},"CUANZA NORTE","SAMBA CAJU",28128.567700999996,{"$f":"IF(INTRO!$E$48=\"\",\"\",ROUND($D57*INTRO!$E$48,0))","v":3837},{"$f":"IF(INTRO!$E$49=\"\",\"\",ROUND($D57*INTRO!$E$49,0))","v":7831},{"$f":"IF(INTRO!$E$50=\"\",\"\",ROUND($D57*INTRO!$E$50,0))","v":15420},1,4,3,1,0,{"$f":"IF(INTRO!$E$37=\"Endemic\",IF($H57>0,IF($H57=4,\"Unknown\",IF($H57=99,\"Stopped\",$D57)),0),\"Not required\")","v":28128.567700999996},{"$f":"IF(INTRO!$E$39=\"Endemic\", IF($I57>0, IF($I57=4,\"Unknown\",IF($I57=99,\"Stopped\",$D57)), 0),\"Not required\")","v":"Unknown"},{"$f":"IF(INTRO!$E$41=\"Endemic\", IF($J57>1, IF($J57=4, \"Unknown\", IF($J57=99, \"Surveillance\", E57)), 0),\"Not required\")","v":3837},{"$f":"IF(INTRO!$E$41=\"Endemic\", IF($J57>1, IF($J57=4, \"Unknown\", IF($J57=99, \"Surveillance\", F57)), 0),\"Not required\")","v":7831},{"$f":"IF(INTRO!$E$41=\"Endemic\", IF($J57>1, IF($J57=4, \"Unknown\", IF($J57=99, \"Surveillance\", ROUND(D57*INTRO!$E$51,0))), 0),\"Not required\")","v":6501},{"$f":"IF(INTRO!$E$41=\"Endemic\", IF($J57>1, IF($J57=4, \"Unknown\", IF($J57=99, \"Surveillance\", SUM($O57:$Q57))), 0),\"Not required\")","v":18169},{"$f":"IF(INTRO!$E$43=\"Endemic\", IF($K57>1, IF($K57=4, \"Unknown\", IF($K57=99, \"Surveillance\", ROUND(E57*0.75,0))), 0),\"Not required\")","v":0},{"$f":"IF(INTRO!$E$43=\"Endemic\", IF($K57>1, IF($K57=4, \"Unknown\", IF($K57=99, \"Surveillance\", F57)), 0),\"Not required\")","v":0},{"$f":"IF(INTRO!$E$43=\"Endemic\", IF($K57>1, IF($K57=4, \"Unknown\", IF($K57=99, \"Surveillance\", G57)), 0),\"Not required\")","v":0},{"$f":"IF(INTRO!$E$43=\"Endemic\", IF($K57>1, IF($K57=4, \"Unknown\", IF($K57=99, \"Surveillance\", SUM($S57:$U57))), 0),\"Not required\")","v":0},1,0,2,0]
[{"$f":"IF(INTRO!$E$33<>0,INTRO!$E$33, \" \")","v":"Angola"},"CUANZA SUL","AMBOIM",312907.50715899997,{"$f":"IF(INTRO!$E$48=\"\",\"\",ROUND($D58*INTRO!$E$48,0))","v":42681},{"$f":"IF(INTRO!$E$49=\"\",\"\",ROUND($D58*INTRO!$E$49,0))","v":87113},{"$f":"IF(INTRO!$E$50=\"\",\"\",ROUND($D58*INTRO!$E$50,0))","v":171536},0,4,2,2,0,{"$f":"IF(INTRO!$E$37=\"Endemic\",IF($H58>0,IF($H58=4,\"Unknown\",IF($H58=99,\"Stopped\",$D58)),0),\"Not required\")","v":0},{"$f":"IF(INTRO!$E$39=\"Endemic\", IF($I58>0, IF($I58=4,\"Unknown\",IF($I58=99,\"Stopped\",$D58)), 0),\"Not required\")","v":"Unknown"},{"$f":"IF(INTRO!$E$41=\"Endemic\", IF($J58>1, IF($J58=4, \"Unknown\", IF($J58=99, \"Surveillance\", E58)), 0),\"Not required\")","v":42681},{"$f":"IF(INTRO!$E$41=\"Endemic\", IF($J58>1, IF($J58=4, \"Unknown\", IF($J58=99, \"Surveillance\", F58)), 0),\"Not required\")","v":87113},{"$f":"IF(INTRO!$E$41=\"Endemic\", IF($J58>1, IF($J58=4, \"Unknown\", IF($J58=99, \"Surveillance\", ROUND(D58*INTRO!$E$51,0))), 0),\"Not required\")","v":72313},{"$f":"IF(INTRO!$E$41=\"Endemic\", IF($J58>1, IF($J58=4, \"Unknown\", IF($J58=99, \"Surveillance\", SUM($O58:$Q58))), 0),\"Not required\")","v":202107},{"$f":"IF(INTRO!$E$43=\"Endemic\", IF($K58>1, IF($K58=4, \"Unknown\", IF($K58=99, \"Surveillance\", ROUND(E58*0.75,0))), 0),\"Not required\")","v":32011},{"$f":"IF(INTRO!$E$43=\"Endemic\", IF($K58>1, IF($K58=4, \"Unknown\", IF($K58=99, \"Surveillance\", F58)), 0),\"Not required\")","v":87113},{"$f":"IF(INTRO!$E$43=\"Endemic\", IF($K58>1, IF($K58=4, \"Unknown\", IF($K58=99, \"Surveillance\", G58)), 0),\"Not required\")","v":171536},{"$f":"IF(INTRO!$E$43=\"Endemic\", IF($K58>1, IF($K58=4, \"Unknown\", IF($K58=99, \"Surveillance\", SUM($S58:$U58))), 0),\"Not required\")","v":290660},0,0,1,1]
[{"$f":"IF(INTRO!$E$33<>0,INTRO!$E$33, \" \")","v":"Angola"},"CUANZA SUL","CASSONGUE",196068.84745499995,{"$f":"IF(INTRO!$E$48=\"\",\"\",ROUND($D59*INTRO!$E$48,0))","v":26744},{"$f":"IF(INTRO!$E$49=\"\",\"\",ROUND($D59*INTRO!$E$49,0))","v":54586},{"$f":"IF(INTRO!$E$50=\"\",\"\",ROUND($D59*INTRO!$E$50,0))","v":107485},0,4,1,2,0,{"$f":"IF(INTRO!$E$37=\"Endemic\",IF($H59>0,IF($H59=4,\"Unknown\",IF($H59=99,\"Stopped\",$D59)),0),\"Not required\")","v":0},{"$f":"IF(INTRO!$E$39=\"Endemic\", IF($I59>0, IF($I59=4,\"Unknown\",IF($I59=99,\"Stopped\",$D59)), 0),\"Not required\")","v":"Unknown"},{"$f":"IF(INTRO!$E$41=\"Endemic\", IF($J59>1, IF($J59=4, \"Unknown\", IF($J59=99, \"Surveillance\", E59)), 0),\"Not required\")","v":0},{"$f":"IF(INTRO!$E$41=\"Endemic\", IF($J59>1, IF($J59=4, \"Unknown\", IF($J59=99, \"Surveillance\", F59)), 0),\"Not required\")","v":0},{"$f":"IF(INTRO!$E$41=\"Endemic\", IF($J59>1, IF($J59=4, \"Unknown\", IF($J59=99, \"Surveillance\", ROUND(D59*INTRO!$E$51,0))), 0),\"Not required\")","v":0},{"$f":"IF(INTRO!$E$41=\"Endemic\", IF($J59>1, IF($J59=4, \"Unknown\", IF($J59=99, \"Surveillance\", SUM($O59:$Q59))), 0),\"Not required\")","v":0},{"$f":"IF(INTRO!$E$43=\"Endemic\", IF($K59>1, IF($K59=4, \"Unknown\", IF($K59=99, \"Surveillance\", ROUND(E59*0.75,0))), 0),\"Not required\")","v":20058},{"$f":"IF(INTRO!$E$43=\"Endemic\", IF($K59>1, IF($K59=4, \"Unknown\", IF($K59=99, \"Surveillance\", F59)), 0),\"Not required\")","v":54586},{"$f":"IF(INTRO!$E$43=\"Endemic\", IF($K59>1, IF($K59=4, \"Unknown\", IF($K59=99, \"Surveillance\", G59)), 0),\"Not required\")","v":107485},{"$f":"IF(INTRO!$E$43=\"Endemic\", IF($K59>1, IF($K59=4, \"Unknown\", IF($K59=99, \"Surveillance\", SUM($S59:$U59))), 0),\"Not required\")","v":182129},0,0,0,1]
[{"$f":"IF(INTRO!$E$33<>0,INTRO!$E$33, \" \")","v":"Angola"},"CUANZA SUL","CELA (Waku Kungo)",291065.12429799995,{"$f":"IF(INTRO!$E$48=\"\",\"\",ROUND($D60*INTRO!$E$48,0))","v":39701},{"$f":"IF(INTRO!$E$49=\"\",\"\",ROUND($D60*INTRO!$E$49,0))","v":81033},{"$f":"IF(INTRO!$E$50=\"\",\"\",ROUND($D60*INTRO!$E$50,0))","v":159562},0,4,1,2,0,{"$f":"IF(INTRO!$E$37=\"Endemic\",IF($H60>0,IF($H60=4,\"Unknown\",IF($H60=99,\"Stopped\",$D60)),0),\"Not required\")","v":0},{"$f":"IF(INTRO!$E$39=\"Endemic\", IF($I60>0, IF($I60=4,\"Unknown\",IF($I60=99,\"Stopped\",$D60)), 0),\"Not required\")","v":"Unknown"},{"$f":"IF(INTRO!$E$41=\"Endemic\", IF($J60>1, IF($J60=4, \"Unknown\", IF($J60=99, \"Surveillance\", E60)), 0),\"Not required\")","v":0},{"$f":"IF(INTRO!$E$41=\"Endemic\", IF($J60>1, IF($J60=4, \"Unknown\", IF($J60=99, \"Surveillance\", F60)), 0),\"Not required\")","v":0},{"$f":"IF(INTRO!$E$41=\"Endemic\", IF($J60>1, IF($J60=4, \"Unknown\", IF($J60=99, \"Surveillance\", ROUND(D60*INTRO!$E$51,0))), 0),\"Not required\")","v":0},{"$f":"IF(INTRO!$E$41=\"Endemic\", IF($J60>1, IF($J60=4, \"Unknown\", IF($J60=99, \"Surveillance\", SUM($O60:$Q60))), 0),\"Not required\")","v":0},{"$f":"IF(INTRO!$E$43=\"Endemic\", IF($K60>1, IF($K60=4, \"Unknown\", IF($K60=99, \"Surveillance\", ROUND(E60*0.75,0))), 0),\"Not required\")","v":29776},{"$f":"IF(INTRO!$E$43=\"Endemic\", IF($K60>1, IF($K60=4, \"Unknown\", IF($K60=99, \"Surveillance\", F60)), 0),\"Not required\")","v":81033},{"$f":"IF(INTRO!$E$43=\"Endemic\", IF($K60>1, IF($K60=4, \"Unknown\", IF($K60=99, \"Surveillance\", G60)), 0),\"Not required\")","v":159562},{"$f":"IF(INTRO!$E$43=\"Endemic\", IF($K60>1, IF($K60=4, \"Unknown\", IF($K60=99, \"Surveillance\", SUM($S60:$U60))), 0),\"Not required\")","v":270371},0,0,0,1]
[{"$f":"IF(INTRO!$E$33<>0,INTRO!$E$33, \" \")","v":"Angola"},"CUANZA SUL","CONDA",115485.44239699998,{"$f":"IF(INTRO!$E$48=\"\",\"\",ROUND($D61*INTRO!$E$48,0))","v":15752},{"$f":"IF(INTRO!$E$49=\"\",\"\",ROUND($D61*INTRO!$E$49,0))","v":32151},{"$f":"IF(INTRO!$E$50=\"\",\"\",ROUND($D61*INTRO!$E$50,0))","v":63309},0,4,1,2,0,{"$f":"IF(INTRO!$E$37=\"Endemic\",IF($H61>0,IF($H61=4,\"Unknown\",IF($H61=99,\"Stopped\",$D61)),0),\"Not required\")","v":0},{"$f":"IF(INTRO!$E$39=\"Endemic\", IF($I61>0, IF($I61=4,\"Unknown\",IF($I61=99,\"Stopped\",$D61)), 0),\"Not required\")","v":"Unknown"},{"$f":"IF(INTRO!$E$41=\"Endemic\", IF($J61>1, IF($J61=4, \"Unknown\", IF($J61=99, \"Surveillance\", E61)), 0),\"Not required\")","v":0},{"$f":"IF(INTRO!$E$41=\"Endemic\", IF($J61>1, IF($J61=4, \"Unknown\", IF($J61=99, \"Surveillance\", F61)), 0),\"Not required\")","v":0},{"$f":"IF(INTRO!$E$41=\"Endemic\", IF($J61>1, IF($J61=4, \"Unknown\", IF($J61=99, \"Surveillance\", ROUND(D61*INTRO!$E$51,0))), 0),\"Not required\")","v":0},{"$f":"IF(INTRO!$E$41=\"Endemic\", IF($J61>1, IF($J61=4, \"Unknown\", IF($J61=99, \"Surveillance\", SUM($O61:$Q61))), 0),\"Not required\")","v":0},{"$f":"IF(INTRO!$E$43=\"Endemic\", IF($K61>1, IF($K61=4, \"Unknown\", IF($K61=99, \"Surveillance\", ROUND(E61*0.75,0))), 0),\"Not required\")","v":11814},{"$f":"IF(INTRO!$E$43=\"Endemic\", IF($K61>1, IF($K61=4, \"Unknown\", IF($K61=99, \"Surveillance\", F61)), 0),\"Not required\")","v":32151},{"$f":"IF(INTRO!$E$43=\"Endemic\", IF($K61>1, IF($K61=4, \"Unknown\", IF($K61=99, \"Surveillance\", G61)), 0),\"Not required\")","v":63309},{"$f":"IF(INTRO!$E$43=\"Endemic\", IF($K61>1, IF($K61=4, \"Unknown\", IF($K61=99, \"Surveillance\", SUM($S61:$U61))), 0),\"Not required\")","v":107274},0,0,0,1]
[{"$f":"IF(INTRO!$E$33<>0,INTRO!$E$33, \" \")","v":"Angola"},"CUANZA SUL","EBO",213122.76065599994,{"$f":"IF(INTRO!$E$48=\"\",\"\",ROUND($D62*INTRO!$E$48,0))","v":29070},{"$f":"IF(INTRO!$E$49=\"\",\"\",ROUND($D62*INTRO!$E$49,0))","v":59333},{"$f":"IF(INTRO!$E$50=\"\",\"\",ROUND($D62*INTRO!$E$50,0))","v":116834},0,4,2,2,0,{"$f":"IF(INTRO!$E$37=\"Endemic\",IF($H62>0,IF($H62=4,\"Unknown\",IF($H62=99,\"Stopped\",$D62)),0),\"Not required\")","v":0},{"$f":"IF(INTRO!$E$39=\"Endemic\", IF($I62>0, IF($I62=4,\"Unknown\",IF($I62=99,\"Stopped\",$D62)), 0),\"Not required\")","v":"Unknown"},{"$f":"IF(INTRO!$E$41=\"Endemic\", IF($J62>1, IF($J62=4, \"Unknown\", IF($J62=99, \"Surveillance\", E62)), 0),\"Not required\")","v":29070},{"$f":"IF(INTRO!$E$41=\"Endemic\", IF($J62>1, IF($J62=4, \"Unknown\", IF($J62=99, \"Surveillance\", F62)), 0),\"Not required\")","v":59333},{"$f":"IF(INTRO!$E$41=\"Endemic\", IF($J62>1, IF($J62=4, \"Unknown\", IF($J62=99, \"Surveillance\", ROUND(D62*INTRO!$E$51,0))), 0),\"Not required\")","v":49253},{"$f":"IF(INTRO!$E$41=\"Endemic\", IF($J62>1, IF($J62=4, \"Unknown\", IF($J62=99, \"Surveillance\", SUM($O62:$Q62))), 0),\"Not required\")","v":137656},{"$f":"IF(INTRO!$E$43=\"Endemic\", IF($K62>1, IF($K62=4, \"Unknown\", IF($K62=99, \"Surveillance\", ROUND(E62*0.75,0))), 0),\"Not required\")","v":21803},{"$f":"IF(INTRO!$E$43=\"Endemic\", IF($K62>1, IF($K62=4, \"Unknown\", IF($K62=99, \"Surveillance\", F62)), 0),\"Not required\")","v":59333},{"$f":"IF(INTRO!$E$43=\"Endemic\", IF($K62>1, IF($K62=4, \"Unknown\", IF($K62=99, \"Surveillance\", G62)), 0),\"Not required\")","v":116834},{"$f":"IF(INTRO!$E$43=\"Endemic\", IF($K62>1, IF($K62=4, \"Unknown\", IF($K62=99, \"Surveillance\", SUM($S62:$U62))), 0),\"Not required\")","v":197970},0,0,1,1]
[{"$f":"IF(INTRO!$E$33<>0,INTRO!$E$33, \" \")","v":"Angola"},"CUANZA SUL","LIBOLO",118826.82386899997,{"$f":"IF(INTRO!$E$48=\"\",\"\",ROUND($D63*INTRO!$E$48,0))","v":16208},{"$f":"IF(INTRO!$E$49=\"\",\"\",ROUND($D63*INTRO!$E$49,0))","v":33081},{"$f":"IF(INTRO!$E$50=\"\",\"\",ROUND($D63*INTRO!$E$50,0))","v":65141},0,4,2,3,0,{"$f":"IF(INTRO!$E$37=\"Endemic\",IF($H63>0,IF($H63=4,\"Unknown\",IF($H63=99,\"Stopped\",$D63)),0),\"Not required\")","v":0},{"$f":"IF(INTRO!$E$39=\"Endemic\", IF($I63>0, IF($I63=4,\"Unknown\",IF($I63=99,\"Stopped\",$D63)), 0),\"Not required\")","v":"Unknown"},{"$f":"IF(INTRO!$E$41=\"Endemic\", IF($J63>1, IF($J63=4, \"Unknown\", IF($J63=99, \"Surveillance\", E63)), 0),\"Not required\")","v":16208},{"$f":"IF(INTRO!$E$41=\"Endemic\", IF($J63>1, IF($J63=4, \"Unknown\", IF($J63=99, \"Surveillance\", F63)), 0),\"Not required\")","v":33081},{"$f":"IF(INTRO!$E$41=\"Endemic\", IF($J63>1, IF($J63=4, \"Unknown\", IF($J63=99, \"Surveillance\", ROUND(D63*INTRO!$E$51,0))), 0),\"Not required\")","v":27461},{"$f":"IF(INTRO!$E$41=\"Endemic\", IF($J63>1, IF($J63=4, \"Unknown\", IF($J63=99, \"Surveillance\", SUM($O63:$Q63))), 0),\"Not required\")","v":76750},{"$f":"IF(INTRO!$E$43=\"Endemic\", IF($K63>1, IF($K63=4, \"Unknown\", IF($K63=99, \"Surveillance\", ROUND(E63*0.75,0))), 0),\"Not required\")","v":12156},{"$f":"IF(INTRO!$E$43=\"Endemic\", IF($K63>1, IF($K63=4, \"Unknown\", IF($K63=99, \"Surveillance\", F63)), 0),\"Not required\")","v":33081},{"$f":"IF(INTRO!$E$43=\"Endemic\", IF($K63>1, IF($K63=4, \"Unknown\", IF($K63=99, \"Surveillance\", G63)), 0),\"Not required\")","v":65141},{"$f":"IF(INTRO!$E$43=\"Endemic\", IF($K63>1, IF($K63=4, \"Unknown\", IF($K63=99, \"Surveillance\", SUM($S63:$U63))), 0),\"Not required\")","v":110378},0,0,1,1]
[{"$f":"IF(INTRO!$E$33<>0,INTRO!$E$33, \" \")","v":"Angola"},"CUANZA SUL","MUSSENDE",106536.06683199998,{"$f":"IF(INTRO!$E$48=\"\",\"\",ROUND($D64*INTRO!$E$48,0))","v":14532},{"$f":"IF(INTRO!$E$49=\"\",\"\",ROUND($D64*INTRO!$E$49,0))","v":29660},{"$f":"IF(INTRO!$E$50=\"\",\"\",ROUND($D64*INTRO!$E$50,0))","v":58403},0,1,1,2,0,{"$f":"IF(INTRO!$E$37=\"Endemic\",IF($H64>0,IF($H64=4,\"Unknown\",IF($H64=99,\"Stopped\",$D64)),0),\"Not required\")","v":0},{"$f":"IF(INTRO!$E$39=\"Endemic\", IF($I64>0, IF($I64=4,\"Unknown\",IF($I64=99,\"Stopped\",$D64)), 0),\"Not required\")","v":106536.06683199998},{"$f":"IF(INTRO!$E$41=\"Endemic\", IF($J64>1, IF($J64=4, \"Unknown\", IF($J64=99, \"Surveillance\", E64)), 0),\"Not required\")","v":0},{"$f":"IF(INTRO!$E$41=\"Endemic\", IF($J64>1, IF($J64=4, \"Unknown\", IF($J64=99, \"Surveillance\", F64)), 0),\"Not required\")","v":0},{"$f":"IF(INTRO!$E$41=\"Endemic\", IF($J64>1, IF($J64=4, \"Unknown\", IF($J64=99, \"Surveillance\", ROUND(D64*INTRO!$E$51,0))), 0),\"Not required\")","v":0},{"$f":"IF(INTRO!$E$41=\"Endemic\", IF($J64>1, IF($J64=4, \"Unknown\", IF($J64=99, \"Surveillance\", SUM($O64:$Q64))), 0),\"Not required\")","v":0},{"$f":"IF(INTRO!$E$43=\"Endemic\", IF($K64>1, IF($K64=4, \"Unknown\", IF($K64=99, \"Surveillance\", ROUND(E64*0.75,0))), 0),\"Not required\")","v":10899},{"$f":"IF(INTRO!$E$43=\"Endemic\", IF($K64>1, IF($K64=4, \"Unknown\", IF($K64=99, \"Surveillance\", F64)), 0),\"Not required\")","v":29660},{"$f":"IF(INTRO!$E$43=\"Endemic\", IF($K64>1, IF($K64=4, \"Unknown\", IF($K64=99, \"Surveillance\", G64)), 0),\"Not required\")","v":58403},{"$f":"IF(INTRO!$E$43=\"Endemic\", IF($K64>1, IF($K64=4, \"Unknown\", IF($K64=99, \"Surveillance\", SUM($S64:$U64))), 0),\"Not required\")","v":98962},0,1,0,1]
[{"$f":"IF(INTRO!$E$33<>0,INTRO!$E$33, \" \")","v":"Angola"},"CUANZA SUL","PORTO AMBOIM",162580.14697599996,{"$f":"IF(INTRO!$E$48=\"\",\"\",ROUND($D65*INTRO!$E$48,0))","v":22176},{"$f":"IF(INTRO!$E$49=\"\",\"\",ROUND($D65*INTRO!$E$49,0))","v":45262},{"$f":"IF(INTRO!$E$50=\"\",\"\",ROUND($D65*INTRO!$E$50,0))","v":89126},1,1,1,3,1,{"$f":"IF(INTRO!$E$37=\"Endemic\",IF($H65>0,IF($H65=4,\"Unknown\",IF($H65=99,\"Stopped\",$D65)),0),\"Not required\")","v":162580.14697599996},{"$f":"IF(INTRO!$E$39=\"Endemic\", IF($I65>0, IF($I65=4,\"Unknown\",IF($I65=99,\"Stopped\",$D65)), 0),\"Not required\")","v":162580.14697599996},{"$f":"IF(INTRO!$E$41=\"Endemic\", IF($J65>1, IF($J65=4, \"Unknown\", IF($J65=99, \"Surveillance\", E65)), 0),\"Not required\")","v":0},{"$f":"IF(INTRO!$E$41=\"Endemic\", IF($J65>1, IF($J65=4, \"Unknown\", IF($J65=99, \"Surveillance\", F65)), 0),\"Not required\")","v":0},{"$f":"IF(INTRO!$E$41=\"Endemic\", IF($J65>1, IF($J65=4, \"Unknown\", IF($J65=99, \"Surveillance\", ROUND(D65*INTRO!$E$51,0))), 0),\"Not required\")","v":0},{"$f":"IF(INTRO!$E$41=\"Endemic\", IF($J65>1, IF($J65=4, \"Unknown\", IF($J65=99, \"Surveillance\", SUM($O65:$Q65))), 0),\"Not required\")","v":0},{"$f":"IF(INTRO!$E$43=\"Endemic\", IF($K65>1, IF($K65=4, \"Unknown\", IF($K65=99, \"Surveillance\", ROUND(E65*0.75,0))), 0),\"Not required\")","v":16632},{"$f":"IF(INTRO!$E$43=\"Endemic\", IF($K65>1, IF($K65=4, \"Unknown\", IF($K65=99, \"Surveillance\", F65)), 0),\"Not required\")","v":45262},{"$f":"IF(INTRO!$E$43=\"Endemic\", IF($K65>1, IF($K65=4, \"Unknown\", IF($K65=99, \"Surveillance\", G65)), 0),\"Not required\")","v":89126},{"$f":"IF(INTRO!$E$43=\"Endemic\", IF($K65>1, IF($K65=4, \"Unknown\", IF($K65=99, \"Surveillance\", SUM($S65:$U65))), 0),\"Not required\")","v":151020},1,1,0,1]
[{"$f":"IF(INTRO!$E$33<>0,INTRO!$E$33, \" \")","v":"Angola"},"CUANZA SUL","QUIBALA",183344.59679899999,{"$f":"IF(INTRO!$E$48=\"\",\"\",ROUND($D66*INTRO!$E$48,0))","v":25008},{"$f":"IF(INTRO!$E$49=\"\",\"\",ROUND($D66*INTRO!$E$49,0))","v":51043},{"$f":"IF(INTRO!$E$50=\"\",\"\",ROUND($D66*INTRO!$E$50,0))","v":100510},0,4,2,2,0,{"$f":"IF(INTRO!$E$37=\"Endemic\",IF($H66>0,IF($H66=4,\"Unknown\",IF($H66=99,\"Stopped\",$D66)),0),\"Not required\")","v":0},{"$f":"IF(INTRO!$E$39=\"Endemic\", IF($I66>0, IF($I66=4,\"Unknown\",IF($I66=99,\"Stopped\",$D66)), 0),\"Not required\")","v":"Unknown"},{"$f":"IF(INTRO!$E$41=\"Endemic\", IF($J66>1, IF($J66=4, \"Unknown\", IF($J66=99, \"Surveillance\", E66)), 0),\"Not required\")","v":25008},{"$f":"IF(INTRO!$E$41=\"Endemic\", IF($J66>1, IF($J66=4, \"Unknown\", IF($J66=99, \"Surveillance\", F66)), 0),\"Not required\")","v":51043},{"$f":"IF(INTRO!$E$41=\"Endemic\", IF($J66>1, IF($J66=4, \"Unknown\", IF($J66=99, \"Surveillance\", ROUND(D66*INTRO!$E$51,0))), 0),\"Not required\")","v":42371},{"$f":"IF(INTRO!$E$41=\"Endemic\", IF($J66>1, IF($J66=4, \"Unknown\", IF($J66=99, \"Surveillance\", SUM($O66:$Q66))), 0),\"Not required\")","v":118422},{"$f":"IF(INTRO!$E$43=\"Endemic\", IF($K66>1, IF($K66=4, \"Unknown\", IF($K66=99, \"Surveillance\", ROUND(E66*0.75,0))), 0),\"Not required\")","v":18756},{"$f":"IF(INTRO!$E$43=\"Endemic\", IF($K66>1, IF($K66=4, \"Unknown\", IF($K66=99, \"Surveillance\", F66)), 0),\"Not required\")","v":51043},{"$f":"IF(INTRO!$E$43=\"Endemic\", IF($K66>1, IF($K66=4, \"Unknown\", IF($K66=99, \"Surveillance\", G66)), 0),\"Not required\")","v":100510},{"$f":"IF(INTRO!$E$43=\"Endemic\", IF($K66>1, IF($K66=4, \"Unknown\", IF($K66=99, \"Surveillance\", SUM($S66:$U66))), 0),\"Not required\")","v":170309},0,0,1,1]
[{"$f":"IF(INTRO!$E$33<>0,INTRO!$E$33, \" \")","v":"Angola"},"CUANZA SUL","QUILENDA",126028.51348099997,{"$f":"IF(INTRO!$E$48=\"\",\"\",ROUND($D67*INTRO!$E$48,0))","v":17190},{"$f":"IF(INTRO!$E$49=\"\",\"\",ROUND($D67*INTRO!$E$49,0))","v":35086},{"$f":"IF(INTRO!$E$50=\"\",\"\",ROUND($D67*INTRO!$E$50,0))","v":69089},0,4,2,3,1,{"$f":"IF(INTRO!$E$37=\"Endemic\",IF($H67>0,IF($H67=4,\"Unknown\",IF($H67=99,\"Stopped\",$D67)),0),\"Not required\")","v":0},{"$f":"IF(INTRO!$E$39=\"Endemic\", IF($I67>0, IF($I67=4,\"Unknown\",IF($I67=99,\"Stopped\",$D67)), 0),\"Not required\")","v":"Unknown"},{"$f":"IF(INTRO!$E$41=\"Endemic\", IF($J67>1, IF($J67=4, \"Unknown\", IF($J67=99, \"Surveillance\", E67)), 0),\"Not required\")","v":17190},{"$f":"IF(INTRO!$E$41=\"Endemic\", IF($J67>1, IF($J67=4, \"Unknown\", IF($J67=99, \"Surveillance\", F67)), 0),\"Not required\")","v":35086},{"$f":"IF(INTRO!$E$41=\"Endemic\", IF($J67>1, IF($J67=4, \"Unknown\", IF($J67=99, \"Surveillance\", ROUND(D67*INTRO!$E$51,0))), 0),\"Not required\")","v":29125},{"$f":"IF(INTRO!$E$41=\"Endemic\", IF($J67>1, IF($J67=4, \"Unknown\", IF($J67=99, \"Surveillance\", SUM($O67:$Q67))), 0),\"Not required\")","v":81401},{"$f":"IF(INTRO!$E$43=\"Endemic\", IF($K67>1, IF($K67=4, \"Unknown\", IF($K67=99, \"Surveillance\", ROUND(E67*0.75,0))), 0),\"Not required\")","v":12893},{"$f":"IF(INTRO!$E$43=\"Endemic\", IF($K67>1, IF($K67=4, \"Unknown\", IF($K67=99, \"Surveillance\", F67)), 0),\"Not required\")","v":35086},{"$f":"IF(INTRO!$E$43=\"Endemic\", IF($K67>1, IF($K67=4, \"Unknown\", IF($K67=99, \"Surveillance\", G67)), 0),\"Not required\")","v":69089},{"$f":"IF(INTRO!$E$43=\"Endemic\", IF($K67>1, IF($K67=4, \"Unknown\", IF($K67=99, \"Surveillance\", SUM($S67:$U67))), 0),\"Not required\")","v":117068},0,0,1,1]
[{"$f":"IF(INTRO!$E$33<>0,INTRO!$E$33, \" \")","v":"Angola"},"CUANZA SUL","SELES",241513.95587799995,{"$f":"IF(INTRO!$E$48=\"\",\"\",ROUND($D68*INTRO!$E$48,0))","v":32943},{"$f":"IF(INTRO!$E$49=\"\",\"\",ROUND($D68*INTRO!$E$49,0))","v":67237},{"$f":"IF(INTRO!$E$50=\"\",\"\",ROUND($D68*INTRO!$E$50,0))","v":132398},0,4,1,3,0,{"$f":"IF(INTRO!$E$37=\"Endemic\",IF($H68>0,IF($H68=4,\"Unknown\",IF($H68=99,\"Stopped\",$D68)),0),\"Not required\")","v":0},{"$f":"IF(INTRO!$E$39=\"Endemic\", IF($I68>0, IF($I68=4,\"Unknown\",IF($I68=99,\"Stopped\",$D68)), 0),\"Not required\")","v":"Unknown"},{"$f":"IF(INTRO!$E$41=\"Endemic\", IF($J68>1, IF($J68=4, \"Unknown\", IF($J68=99, \"Surveillance\", E68)), 0),\"Not required\")","v":0},{"$f":"IF(INTRO!$E$41=\"Endemic\", IF($J68>1, IF($J68=4, \"Unknown\", IF($J68=99, \"Surveillance\", F68)), 0),\"Not required\")","v":0},{"$f":"IF(INTRO!$E$41=\"Endemic\", IF($J68>1, IF($J68=4, \"Unknown\", IF($J68=99, \"Surveillance\", ROUND(D68*INTRO!$E$51,0))), 0),\"Not required\")","v":0},{"$f":"IF(INTRO!$E$41=\"Endemic\", IF($J68>1, IF($J68=4, \"Unknown\", IF($J68=99, \"Surveillance\", SUM($O68:$Q68))), 0),\"Not required\")","v":0},{"$f":"IF(INTRO!$E$43=\"Endemic\", IF($K68>1, IF($K68=4, \"Unknown\", IF($K68=99, \"Surveillance\", ROUND(E68*0.75,0))), 0),\"Not required\")","v":24707},{"$f":"IF(INTRO!$E$43=\"Endemic\", IF($K68>1, IF($K68=4, \"Unknown\", IF($K68=99, \"Surveillance\", F68)), 0),\"Not required\")","v":67237},{"$f":"IF(INTRO!$E$43=\"Endemic\", IF($K68>1, IF($K68=4, \"Unknown\", IF($K68=99, \"Surveillance\", G68)), 0),\"Not required\")","v":132398},{"$f":"IF(INTRO!$E$43=\"Endemic\", IF($K68>1, IF($K68=4, \"Unknown\", IF($K68=99, \"Surveillance\", SUM($S68:$U68))), 0),\"Not required\")","v":224342},0,0,0,1]
[{"$f":"IF(INTRO!$E$33<>0,INTRO!$E$33, \" \")","v":"Angola"},"CUANZA SUL","SUMBE",361337.49865199998,{"$f":"IF(INTRO!$E$48=\"\",\"\",ROUND($D69*INTRO!$E$48,0))","v":49286},{"$f":"IF(INTRO!$E$49=\"\",\"\",ROUND($D69*INTRO!$E$49,0))","v":100596},{"$f":"IF(INTRO!$E$50=\"\",\"\",ROUND($D69*INTRO!$E$50,0))","v":198085},0,4,1,2,0,{"$f":"IF(INTRO!$E$37=\"Endemic\",IF($H69>0,IF($H69=4,\"Unknown\",IF($H69=99,\"Stopped\",$D69)),0),\"Not required\")","v":0},{"$f":"IF(INTRO!$E$39=\"Endemic\", IF($I69>0, IF($I69=4,\"Unknown\",IF($I69=99,\"Stopped\",$D69)), 0),\"Not required\")","v":"Unknown"},{"$f":"IF(INTRO!$E$41=\"Endemic\", IF($J69>1, IF($J69=4, \"Unknown\", IF($J69=99, \"Surveillance\", E69)), 0),\"Not required\")","v":0},{"$f":"IF(INTRO!$E$41=\"Endemic\", IF($J69>1, IF($J69=4, \"Unknown\", IF($J69=99, \"Surveillance\", F69)), 0),\"Not required\")","v":0},{"$f":"IF(INTRO!$E$41=\"Endemic\", IF($J69>1, IF($J69=4, \"Unknown\", IF($J69=99, \"Surveillance\", ROUND(D69*INTRO!$E$51,0))), 0),\"Not required\")","v":0},{"$f":"IF(INTRO!$E$41=\"Endemic\", IF($J69>1, IF($J69=4, \"Unknown\", IF($J69=99, \"Surveillance\", SUM($O69:$Q69))), 0),\"Not required\")","v":0},{"$f":"IF(INTRO!$E$43=\"Endemic\", IF($K69>1, IF($K69=4, \"Unknown\", IF($K69=99, \"Surveillance\", ROUND(E69*0.75,0))), 0),\"Not required\")","v":36965},{"$f":"IF(INTRO!$E$43=\"Endemic\", IF($K69>1, IF($K69=4, \"Unknown\", IF($K69=99, \"Surveillance\", F69)), 0),\"Not required\")","v":100596},{"$f":"IF(INTRO!$E$43=\"Endemic\", IF($K69>1, IF($K69=4, \"Unknown\", IF($K69=99, \"Surveillance\", G69)), 0),\"Not required\")","v":198085},{"$f":"IF(INTRO!$E$43=\"Endemic\", IF($K69>1, IF($K69=4, \"Unknown\", IF($K69=99, \"Surveillance\", SUM($S69:$U69))), 0),\"Not required\")","v":335646},0,0,0,1]
[{"$f":"IF(INTRO!$E$33<>0,INTRO!$E$33, \" \")","v":"Angola"},"CUNENE","CAHAMA",91991.35392199998,{"$f":"IF(INTRO!$E$48=\"\",\"\",ROUND($D70*INTRO!$E$48,0))","v":12548},{"$f":"IF(INTRO!$E$49=\"\",\"\",ROUND($D70*INTRO!$E$49,0))","v":25610},{"$f":"IF(INTRO!$E$50=\"\",\"\",ROUND($D70*INTRO!$E$50,0))","v":50430},0,4,1,1,0,{"$f":"IF(INTRO!$E$37=\"Endemic\",IF($H70>0,IF($H70=4,\"Unknown\",IF($H70=99,\"Stopped\",$D70)),0),\"Not required\")","v":0},{"$f":"IF(INTRO!$E$39=\"Endemic\", IF($I70>0, IF($I70=4,\"Unknown\",IF($I70=99,\"Stopped\",$D70)), 0),\"Not required\")","v":"Unknown"},{"$f":"IF(INTRO!$E$41=\"Endemic\", IF($J70>1, IF($J70=4, \"Unknown\", IF($J70=99, \"Surveillance\", E70)), 0),\"Not required\")","v":0},{"$f":"IF(INTRO!$E$41=\"Endemic\", IF($J70>1, IF($J70=4, \"Unknown\", IF($J70=99, \"Surveillance\", F70)), 0),\"Not required\")","v":0},{"$f":"IF(INTRO!$E$41=\"Endemic\", IF($J70>1, IF($J70=4, \"Unknown\", IF($J70=99, \"Surveillance\", ROUND(D70*INTRO!$E$51,0))), 0),\"Not required\")","v":0},{"$f":"IF(INTRO!$E$41=\"Endemic\", IF($J70>1, IF($J70=4, \"Unknown\", IF($J70=99, \"Surveillance\", SUM($O70:$Q70))), 0),\"Not required\")","v":0},{"$f":"IF(INTRO!$E$43=\"Endemic\", IF($K70>1, IF($K70=4, \"Unknown\", IF($K70=99, \"Surveillance\", ROUND(E70*0.75,0))), 0),\"Not required\")","v":0},{"$f":"IF(INTRO!$E$43=\"Endemic\", IF($K70>1, IF($K70=4, \"Unknown\", IF($K70=99, \"Surveillance\", F70)), 0),\"Not required\")","v":0},{"$f":"IF(INTRO!$E$43=\"Endemic\", IF($K70>1, IF($K70=4, \"Unknown\", IF($K70=99, \"Surveillance\", G70)), 0),\"Not required\")","v":0},{"$f":"IF(INTRO!$E$43=\"Endemic\", IF($K70>1, IF($K70=4, \"Unknown\", IF($K70=99, \"Surveillance\", SUM($S70:$U70))), 0),\"Not required\")","v":0},0,0,0,0]
[{"$f":"IF(INTRO!$E$33<>0,INTRO!$E$33, \" \")","v":"Angola"},"CUNENE","CUANHAMA",491760.01314699999,{"$f":"IF(INTRO!$E$48=\"\",\"\",ROUND($D71*INTRO!$E$48,0))","v":67076},{"$f":"IF(INTRO!$E$49=\"\",\"\",ROUND($D71*INTRO!$E$49,0))","v":136906},{"$f":"IF(INTRO!$E$50=\"\",\"\",ROUND($D71*INTRO!$E$50,0))","v":269583},0,4,1,3,1,{"$f":"IF(INTRO!$E$37=\"Endemic\",IF($H71>0,IF($H71=4,\"Unknown\",IF($H71=99,\"Stopped\",$D71)),0),\"Not required\")","v":0},{"$f":"IF(INTRO!$E$39=\"Endemic\", IF($I71>0, IF($I71=4,\"Unknown\",IF($I71=99,\"Stopped\",$D71)), 0),\"Not required\")","v":"Unknown"},{"$f":"IF(INTRO!$E$41=\"Endemic\", IF($J71>1, IF($J71=4, \"Unknown\", IF($J71=99, \"Surveillance\", E71)), 0),\"Not required\")","v":0},{"$f":"IF(INTRO!$E$41=\"Endemic\", IF($J71>1, IF($J71=4, \"Unknown\", IF($J71=99, \"Surveillance\", F71)), 0),\"Not required\")","v":0},{"$f":"IF(INTRO!$E$41=\"Endemic\", IF($J71>1, IF($J71=4, \"Unknown\", IF($J71=99, \"Surveillance\", ROUND(D71*INTRO!$E$51,0))), 0),\"Not required\")","v":0},{"$f":"IF(INTRO!$E$41=\"Endemic\", IF($J71>1, IF($J71=4, \"Unknown\", IF($J71=99, \"Surveillance\", SUM($O71:$Q71))), 0),\"Not required\")","v":0},{"$f":"IF(INTRO!$E$43=\"Endemic\", IF($K71>1, IF($K71=4, \"Unknown\", IF($K71=99, \"Surveillance\", ROUND(E71*0.75,0))), 0),\"Not required\")","v":50307},{"$f":"IF(INTRO!$E$43=\"Endemic\", IF($K71>1, IF($K71=4, \"Unknown\", IF($K71=99, \"Surveillance\", F71)), 0),\"Not required\")","v":136906},{"$f":"IF(INTRO!$E$43=\"Endemic\", IF($K71>1, IF($K71=4, \"Unknown\", IF($K71=99, \"Surveillance\", G71)), 0),\"Not required\")","v":269583},{"$f":"IF(INTRO!$E$43=\"Endemic\", IF($K71>1, IF($K71=4, \"Unknown\", IF($K71=99, \"Surveillance\", SUM($S71:$U71))), 0),\"Not required\")","v":456796},0,0,0,1]
[{"$f":"IF(INTRO!$E$33<>0,INTRO!$E$33, \" \")","v":"Angola"},"CUNENE","CUROCA",53947.278891999988,{"$f":"IF(INTRO!$E$48=\"\",\"\",ROUND($D72*INTRO!$E$48,0))","v":7358},{"$f":"IF(INTRO!$E$49=\"\",\"\",ROUND($D72*INTRO!$E$49,0))","v":15019},{"$f":"IF(INTRO!$E$50=\"\",\"\",ROUND($D72*INTRO!$E$50,0))","v":29574},0,4,0,2,0,{"$f":"IF(INTRO!$E$37=\"Endemic\",IF($H72>0,IF($H72=4,\"Unknown\",IF($H72=99,\"Stopped\",$D72)),0),\"Not required\")","v":0},{"$f":"IF(INTRO!$E$39=\"Endemic\", IF($I72>0, IF($I72=4,\"Unknown\",IF($I72=99,\"Stopped\",$D72)), 0),\"Not required\")","v":"Unknown"},{"$f":"IF(INTRO!$E$41=\"Endemic\", IF($J72>1, IF($J72=4, \"Unknown\", IF($J72=99, \"Surveillance\", E72)), 0),\"Not required\")","v":0},{"$f":"IF(INTRO!$E$41=\"Endemic\", IF($J72>1, IF($J72=4, \"Unknown\", IF($J72=99, \"Surveillance\", F72)), 0),\"Not required\")","v":0},{"$f":"IF(INTRO!$E$41=\"Endemic\", IF($J72>1, IF($J72=4, \"Unknown\", IF($J72=99, \"Surveillance\", ROUND(D72*INTRO!$E$51,0))), 0),\"Not required\")","v":0},{"$f":"IF(INTRO!$E$41=\"Endemic\", IF($J72>1, IF($J72=4, \"Unknown\", IF($J72=99, \"Surveillance\", SUM($O72:$Q72))), 0),\"Not required\")","v":0},{"$f":"IF(INTRO!$E$43=\"Endemic\", IF($K72>1, IF($K72=4, \"Unknown\", IF($K72=99, \"Surveillance\", ROUND(E72*0.75,0))), 0),\"Not required\")","v":5519},{"$f":"IF(INTRO!$E$43=\"Endemic\", IF($K72>1, IF($K72=4, \"Unknown\", IF($K72=99, \"Surveillance\", F72)), 0),\"Not required\")","v":15019},{"$f":"IF(INTRO!$E$43=\"Endemic\", IF($K72>1, IF($K72=4, \"Unknown\", IF($K72=99, \"Surveillance\", G72)), 0),\"Not required\")","v":29574},{"$f":"IF(INTRO!$E$43=\"Endemic\", IF($K72>1, IF($K72=4, \"Unknown\", IF($K72=99, \"Surveillance\", SUM($S72:$U72))), 0),\"Not required\")","v":50112},0,0,0,1]
[{"$f":"IF(INTRO!$E$33<>0,INTRO!$E$33, \" \")","v":"Angola"},"CUNENE","CUVELAI",75363.551236999992,{"$f":"IF(INTRO!$E$48=\"\",\"\",ROUND($D73*INTRO!$E$48,0))","v":10280},{"$f":"IF(INTRO!$E$49=\"\",\"\",ROUND($D73*INTRO!$E$49,0))","v":20981},{"$f":"IF(INTRO!$E$50=\"\",\"\",ROUND($D73*INTRO!$E$50,0))","v":41314},4,4,1,3,1,{"$f":"IF(INTRO!$E$37=\"Endemic\",IF($H73>0,IF($H73=4,\"Unknown\",IF($H73=99,\"Stopped\",$D73)),0),\"Not required\")","v":"Unknown"},{"$f":"IF(INTRO!$E$39=\"Endemic\", IF($I73>0, IF($I73=4,\"Unknown\",IF($I73=99,\"Stopped\",$D73)), 0),\"Not required\")","v":"Unknown"},{"$f":"IF(INTRO!$E$41=\"Endemic\", IF($J73>1, IF($J73=4, \"Unknown\", IF($J73=99, \"Surveillance\", E73)), 0),\"Not required\")","v":0},{"$f":"IF(INTRO!$E$41=\"Endemic\", IF($J73>1, IF($J73=4, \"Unknown\", IF($J73=99, \"Surveillance\", F73)), 0),\"Not required\")","v":0},{"$f":"IF(INTRO!$E$41=\"Endemic\", IF($J73>1, IF($J73=4, \"Unknown\", IF($J73=99, \"Surveillance\", ROUND(D73*INTRO!$E$51,0))), 0),\"Not required\")","v":0},{"$f":"IF(INTRO!$E$41=\"Endemic\", IF($J73>1, IF($J73=4, \"Unknown\", IF($J73=99, \"Surveillance\", SUM($O73:$Q73))), 0),\"Not required\")","v":0},{"$f":"IF(INTRO!$E$43=\"Endemic\", IF($K73>1, IF($K73=4, \"Unknown\", IF($K73=99, \"Surveillance\", ROUND(E73*0.75,0))), 0),\"Not required\")","v":7710},{"$f":"IF(INTRO!$E$43=\"Endemic\", IF($K73>1, IF($K73=4, \"Unknown\", IF($K73=99, \"Surveillance\", F73)), 0),\"Not required\")","v":20981},{"$f":"IF(INTRO!$E$43=\"Endemic\", IF($K73>1, IF($K73=4, \"Unknown\", IF($K73=99, \"Surveillance\", G73)), 0),\"Not required\")","v":41314},{"$f":"IF(INTRO!$E$43=\"Endemic\", IF($K73>1, IF($K73=4, \"Unknown\", IF($K73=99, \"Surveillance\", SUM($S73:$U73))), 0),\"Not required\")","v":70005},0,0,0,1]
[{"$f":"IF(INTRO!$E$33<>0,INTRO!$E$33, \" \")","v":"Angola"},"CUNENE","NAMACUNDE",186508.78379899997,{"$f":"IF(INTRO!$E$48=\"\",\"\",ROUND($D74*INTRO!$E$48,0))","v":25440},{"$f":"IF(INTRO!$E$49=\"\",\"\",ROUND($D74*INTRO!$E$49,0))","v":51924},{"$f":"IF(INTRO!$E$50=\"\",\"\",ROUND($D74*INTRO!$E$50,0))","v":102244},0,4,1,2,1,{"$f":"IF(INTRO!$E$37=\"Endemic\",IF($H74>0,IF($H74=4,\"Unknown\",IF($H74=99,\"Stopped\",$D74)),0),\"Not required\")","v":0},{"$f":"IF(INTRO!$E$39=\"Endemic\", IF($I74>0, IF($I74=4,\"Unknown\",IF($I74=99,\"Stopped\",$D74)), 0),\"Not required\")","v":"Unknown"},{"$f":"IF(INTRO!$E$41=\"Endemic\", IF($J74>1, IF($J74=4, \"Unknown\", IF($J74=99, \"Surveillance\", E74)), 0),\"Not required\")","v":0},{"$f":"IF(INTRO!$E$41=\"Endemic\", IF($J74>1, IF($J74=4, \"Unknown\", IF($J74=99, \"Surveillance\", F74)), 0),\"Not required\")","v":0},{"$f":"IF(INTRO!$E$41=\"Endemic\", IF($J74>1, IF($J74=4, \"Unknown\", IF($J74=99, \"Surveillance\", ROUND(D74*INTRO!$E$51,0))), 0),\"Not required\")","v":0},{"$f":"IF(INTRO!$E$41=\"Endemic\", IF($J74>1, IF($J74=4, \"Unknown\", IF($J74=99, \"Surveillance\", SUM($O74:$Q74))), 0),\"Not required\")","v":0},{"$f":"IF(INTRO!$E$43=\"Endemic\", IF($K74>1, IF($K74=4, \"Unknown\", IF($K74=99, \"Surveillance\", ROUND(E74*0.75,0))), 0),\"Not required\")","v":19080},{"$f":"IF(INTRO!$E$43=\"Endemic\", IF($K74>1, IF($K74=4, \"Unknown\", IF($K74=99, \"Surveillance\", F74)), 0),\"Not required\")","v":51924},{"$f":"IF(INTRO!$E$43=\"Endemic\", IF($K74>1, IF($K74=4, \"Unknown\", IF($K74=99, \"Surveillance\", G74)), 0),\"Not required\")","v":102244},{"$f":"IF(INTRO!$E$43=\"Endemic\", IF($K74>1, IF($K74=4, \"Unknown\", IF($K74=99, \"Surveillance\", SUM($S74:$U74))), 0),\"Not required\")","v":173248},0,0,0,1]
[{"$f":"IF(INTRO!$E$33<>0,INTRO!$E$33, \" \")","v":"Angola"},"CUNENE","OMBADJA",400420.48174699995,{"$f":"IF(INTRO!$E$48=\"\",\"\",ROUND($D75*INTRO!$E$48,0))","v":54617},{"$f":"IF(INTRO!$E$49=\"\",\"\",ROUND($D75*INTRO!$E$49,0))","v":111477},{"$f":"IF(INTRO!$E$50=\"\",\"\",ROUND($D75*INTRO!$E$50,0))","v":219511},0,4,2,3,1,{"$f":"IF(INTRO!$E$37=\"Endemic\",IF($H75>0,IF($H75=4,\"Unknown\",IF($H75=99,\"Stopped\",$D75)),0),\"Not required\")","v":0},{"$f":"IF(INTRO!$E$39=\"Endemic\", IF($I75>0, IF($I75=4,\"Unknown\",IF($I75=99,\"Stopped\",$D75)), 0),\"Not required\")","v":"Unknown"},{"$f":"IF(INTRO!$E$41=\"Endemic\", IF($J75>1, IF($J75=4, \"Unknown\", IF($J75=99, \"Surveillance\", E75)), 0),\"Not required\")","v":54617},{"$f":"IF(INTRO!$E$41=\"Endemic\", IF($J75>1, IF($J75=4, \"Unknown\", IF($J75=99, \"Surveillance\", F75)), 0),\"Not required\")","v":111477},{"$f":"IF(INTRO!$E$41=\"Endemic\", IF($J75>1, IF($J75=4, \"Unknown\", IF($J75=99, \"Surveillance\", ROUND(D75*INTRO!$E$51,0))), 0),\"Not required\")","v":92537},{"$f":"IF(INTRO!$E$41=\"Endemic\", IF($J75>1, IF($J75=4, \"Unknown\", IF($J75=99, \"Surveillance\", SUM($O75:$Q75))), 0),\"Not required\")","v":258631},{"$f":"IF(INTRO!$E$43=\"Endemic\", IF($K75>1, IF($K75=4, \"Unknown\", IF($K75=99, \"Surveillance\", ROUND(E75*0.75,0))), 0),\"Not required\")","v":40963},{"$f":"IF(INTRO!$E$43=\"Endemic\", IF($K75>1, IF($K75=4, \"Unknown\", IF($K75=99, \"Surveillance\", F75)), 0),\"Not required\")","v":111477},{"$f":"IF(INTRO!$E$43=\"Endemic\", IF($K75>1, IF($K75=4, \"Unknown\", IF($K75=99, \"Surveillance\", G75)), 0),\"Not required\")","v":219511},{"$f":"IF(INTRO!$E$43=\"Endemic\", IF($K75>1, IF($K75=4, \"Unknown\", IF($K75=99, \"Surveillance\", SUM($S75:$U75))), 0),\"Not required\")","v":371951},0,0,1,1]
[{"$f":"IF(INTRO!$E$33<>0,INTRO!$E$33, \" \")","v":"Angola"},"HUAMBO","BAILUNDO",393271.52858499991,{"$f":"IF(INTRO!$E$48=\"\",\"\",ROUND($D76*INTRO!$E$48,0))","v":53642},{"$f":"IF(INTRO!$E$49=\"\",\"\",ROUND($D76*INTRO!$E$49,0))","v":109487},{"$f":"IF(INTRO!$E$50=\"\",\"\",ROUND($D76*INTRO!$E$50,0))","v":215591},0,4,22,21,1,{"$f":"IF(INTRO!$E$37=\"Endemic\",IF($H76>0,IF($H76=4,\"Unknown\",IF($H76=99,\"Stopped\",$D76)),0),\"Not required\")","v":0},{"$f":"IF(INTRO!$E$39=\"Endemic\", IF($I76>0, IF($I76=4,\"Unknown\",IF($I76=99,\"Stopped\",$D76)), 0),\"Not required\")","v":"Unknown"},{"$f":"IF(INTRO!$E$41=\"Endemic\", IF($J76>1, IF($J76=4, \"Unknown\", IF($J76=99, \"Surveillance\", E76)), 0),\"Not required\")","v":53642},{"$f":"IF(INTRO!$E$41=\"Endemic\", IF($J76>1, IF($J76=4, \"Unknown\", IF($J76=99, \"Surveillance\", F76)), 0),\"Not required\")","v":109487},{"$f":"IF(INTRO!$E$41=\"Endemic\", IF($J76>1, IF($J76=4, \"Unknown\", IF($J76=99, \"Surveillance\", ROUND(D76*INTRO!$E$51,0))), 0),\"Not required\")","v":90885},{"$f":"IF(INTRO!$E$41=\"Endemic\", IF($J76>1, IF($J76=4, \"Unknown\", IF($J76=99, \"Surveillance\", SUM($O76:$Q76))), 0),\"Not required\")","v":254014},{"$f":"IF(INTRO!$E$43=\"Endemic\", IF($K76>1, IF($K76=4, \"Unknown\", IF($K76=99, \"Surveillance\", ROUND(E76*0.75,0))), 0),\"Not required\")","v":40232},{"$f":"IF(INTRO!$E$43=\"Endemic\", IF($K76>1, IF($K76=4, \"Unknown\", IF($K76=99, \"Surveillance\", F76)), 0),\"Not required\")","v":109487},{"$f":"IF(INTRO!$E$43=\"Endemic\", IF($K76>1, IF($K76=4, \"Unknown\", IF($K76=99, \"Surveillance\", G76)), 0),\"Not required\")","v":215591},{"$f":"IF(INTRO!$E$43=\"Endemic\", IF($K76>1, IF($K76=4, \"Unknown\", IF($K76=99, \"Surveillance\", SUM($S76:$U76))), 0),\"Not required\")","v":365310},0,0,1,1]
[{"$f":"IF(INTRO!$E$33<>0,INTRO!$E$33, \" \")","v":"Angola"},"HUAMBO","CAALA",373639.85770799994,{"$f":"IF(INTRO!$E$48=\"\",\"\",ROUND($D77*INTRO!$E$48,0))","v":50964},{"$f":"IF(INTRO!$E$49=\"\",\"\",ROUND($D77*INTRO!$E$49,0))","v":104021},{"$f":"IF(INTRO!$E$50=\"\",\"\",ROUND($D77*INTRO!$E$50,0))","v":204829},0,4,22,11,0,{"$f":"IF(INTRO!$E$37=\"Endemic\",IF($H77>0,IF($H77=4,\"Unknown\",IF($H77=99,\"Stopped\",$D77)),0),\"Not required\")","v":0},{"$f":"IF(INTRO!$E$39=\"Endemic\", IF($I77>0, IF($I77=4,\"Unknown\",IF($I77=99,\"Stopped\",$D77)), 0),\"Not required\")","v":"Unknown"},{"$f":"IF(INTRO!$E$41=\"Endemic\", IF($J77>1, IF($J77=4, \"Unknown\", IF($J77=99, \"Surveillance\", E77)), 0),\"Not required\")","v":50964},{"$f":"IF(INTRO!$E$41=\"Endemic\", IF($J77>1, IF($J77=4, \"Unknown\", IF($J77=99, \"Surveillance\", F77)), 0),\"Not required\")","v":104021},{"$f":"IF(INTRO!$E$41=\"Endemic\", IF($J77>1, IF($J77=4, \"Unknown\", IF($J77=99, \"Surveillance\", ROUND(D77*INTRO!$E$51,0))), 0),\"Not required\")","v":86348},{"$f":"IF(INTRO!$E$41=\"Endemic\", IF($J77>1, IF($J77=4, \"Unknown\", IF($J77=99, \"Surveillance\", SUM($O77:$Q77))), 0),\"Not required\")","v":241333},{"$f":"IF(INTRO!$E$43=\"Endemic\", IF($K77>1, IF($K77=4, \"Unknown\", IF($K77=99, \"Surveillance\", ROUND(E77*0.75,0))), 0),\"Not required\")","v":38223},{"$f":"IF(INTRO!$E$43=\"Endemic\", IF($K77>1, IF($K77=4, \"Unknown\", IF($K77=99, \"Surveillance\", F77)), 0),\"Not required\")","v":104021},{"$f":"IF(INTRO!$E$43=\"Endemic\", IF($K77>1, IF($K77=4, \"Unknown\", IF($K77=99, \"Surveillance\", G77)), 0),\"Not required\")","v":204829},{"$f":"IF(INTRO!$E$43=\"Endemic\", IF($K77>1, IF($K77=4, \"Unknown\", IF($K77=99, \"Surveillance\", SUM($S77:$U77))), 0),\"Not required\")","v":347073},0,0,1,1]
[{"$f":"IF(INTRO!$E$33<>0,INTRO!$E$33, \" \")","v":"Angola"},"HUAMBO","CACHIUNGO",161155.20809699997,{"$f":"IF(INTRO!$E$48=\"\",\"\",ROUND($D78*INTRO!$E$48,0))","v":21982},{"$f":"IF(INTRO!$E$49=\"\",\"\",ROUND($D78*INTRO!$E$49,0))","v":44866},{"$f":"IF(INTRO!$E$50=\"\",\"\",ROUND($D78*INTRO!$E$50,0))","v":88345},0,4,11,11,0,{"$f":"IF(INTRO!$E$37=\"Endemic\",IF($H78>0,IF($H78=4,\"Unknown\",IF($H78=99,\"Stopped\",$D78)),0),\"Not required\")","v":0},{"$f":"IF(INTRO!$E$39=\"Endemic\", IF($I78>0, IF($I78=4,\"Unknown\",IF($I78=99,\"Stopped\",$D78)), 0),\"Not required\")","v":"Unknown"},{"$f":"IF(INTRO!$E$41=\"Endemic\", IF($J78>1, IF($J78=4, \"Unknown\", IF($J78=99, \"Surveillance\", E78)), 0),\"Not required\")","v":21982},{"$f":"IF(INTRO!$E$41=\"Endemic\", IF($J78>1, IF($J78=4, \"Unknown\", IF($J78=99, \"Surveillance\", F78)), 0),\"Not required\")","v":44866},{"$f":"IF(INTRO!$E$41=\"Endemic\", IF($J78>1, IF($J78=4, \"Unknown\", IF($J78=99, \"Surveillance\", ROUND(D78*INTRO!$E$51,0))), 0),\"Not required\")","v":37243},{"$f":"IF(INTRO!$E$41=\"Endemic\", IF($J78>1, IF($J78=4, \"Unknown\", IF($J78=99, \"Surveillance\", SUM($O78:$Q78))), 0),\"Not required\")","v":104091},{"$f":"IF(INTRO!$E$43=\"Endemic\", IF($K78>1, IF($K78=4, \"Unknown\", IF($K78=99, \"Surveillance\", ROUND(E78*0.75,0))), 0),\"Not required\")","v":16487},{"$f":"IF(INTRO!$E$43=\"Endemic\", IF($K78>1, IF($K78=4, \"Unknown\", IF($K78=99, \"Surveillance\", F78)), 0),\"Not required\")","v":44866},{"$f":"IF(INTRO!$E$43=\"Endemic\", IF($K78>1, IF($K78=4, \"Unknown\", IF($K78=99, \"Surveillance\", G78)), 0),\"Not required\")","v":88345},{"$f":"IF(INTRO!$E$43=\"Endemic\", IF($K78>1, IF($K78=4, \"Unknown\", IF($K78=99, \"Surveillance\", SUM($S78:$U78))), 0),\"Not required\")","v":149698},0,0,1,1]
[{"$f":"IF(INTRO!$E$33<>0,INTRO!$E$33, \" \")","v":"Angola"},"HUAMBO","CHICALA CHOLOHANGA",138409.97721199997,{"$f":"IF(INTRO!$E$48=\"\",\"\",ROUND($D79*INTRO!$E$48,0))","v":18879},{"$f":"IF(INTRO!$E$49=\"\",\"\",ROUND($D79*INTRO!$E$49,0))","v":38533},{"$f":"IF(INTRO!$E$50=\"\",\"\",ROUND($D79*INTRO!$E$50,0))","v":75876},0,4,21,21,0,{"$f":"IF(INTRO!$E$37=\"Endemic\",IF($H79>0,IF($H79=4,\"Unknown\",IF($H79=99,\"Stopped\",$D79)),0),\"Not required\")","v":0},{"$f":"IF(INTRO!$E$39=\"Endemic\", IF($I79>0, IF($I79=4,\"Unknown\",IF($I79=99,\"Stopped\",$D79)), 0),\"Not required\")","v":"Unknown"},{"$f":"IF(INTRO!$E$41=\"Endemic\", IF($J79>1, IF($J79=4, \"Unknown\", IF($J79=99, \"Surveillance\", E79)), 0),\"Not required\")","v":18879},{"$f":"IF(INTRO!$E$41=\"Endemic\", IF($J79>1, IF($J79=4, \"Unknown\", IF($J79=99, \"Surveillance\", F79)), 0),\"Not required\")","v":38533},{"$f":"IF(INTRO!$E$41=\"Endemic\", IF($J79>1, IF($J79=4, \"Unknown\", IF($J79=99, \"Surveillance\", ROUND(D79*INTRO!$E$51,0))), 0),\"Not required\")","v":31987},{"$f":"IF(INTRO!$E$41=\"Endemic\", IF($J79>1, IF($J79=4, \"Unknown\", IF($J79=99, \"Surveillance\", SUM($O79:$Q79))), 0),\"Not required\")","v":89399},{"$f":"IF(INTRO!$E$43=\"Endemic\", IF($K79>1, IF($K79=4, \"Unknown\", IF($K79=99, \"Surveillance\", ROUND(E79*0.75,0))), 0),\"Not required\")","v":14159},{"$f":"IF(INTRO!$E$43=\"Endemic\", IF($K79>1, IF($K79=4, \"Unknown\", IF($K79=99, \"Surveillance\", F79)), 0),\"Not required\")","v":38533},{"$f":"IF(INTRO!$E$43=\"Endemic\", IF($K79>1, IF($K79=4, \"Unknown\", IF($K79=99, \"Surveillance\", G79)), 0),\"Not required\")","v":75876},{"$f":"IF(INTRO!$E$43=\"Endemic\", IF($K79>1, IF($K79=4, \"Unknown\", IF($K79=99, \"Surveillance\", SUM($S79:$U79))), 0),\"Not required\")","v":128568},0,0,1,1]
[{"$f":"IF(INTRO!$E$33<>0,INTRO!$E$33, \" \")","v":"Angola"},"HUAMBO","CHINDJENJE",40654.529304999989,{"$f":"IF(INTRO!$E$48=\"\",\"\",ROUND($D80*INTRO!$E$48,0))","v":5545},{"$f":"IF(INTRO!$E$49=\"\",\"\",ROUND($D80*INTRO!$E$49,0))","v":11318},{"$f":"IF(INTRO!$E$50=\"\",\"\",ROUND($D80*INTRO!$E$50,0))","v":22287},0,4,11,21,0,{"$f":"IF(INTRO!$E$37=\"Endemic\",IF($H80>0,IF($H80=4,\"Unknown\",IF($H80=99,\"Stopped\",$D80)),0),\"Not required\")","v":0},{"$f":"IF(INTRO!$E$39=\"Endemic\", IF($I80>0, IF($I80=4,\"Unknown\",IF($I80=99,\"Stopped\",$D80)), 0),\"Not required\")","v":"Unknown"},{"$f":"IF(INTRO!$E$41=\"Endemic\", IF($J80>1, IF($J80=4, \"Unknown\", IF($J80=99, \"Surveillance\", E80)), 0),\"Not required\")","v":5545},{"$f":"IF(INTRO!$E$41=\"Endemic\", IF($J80>1, IF($J80=4, \"Unknown\", IF($J80=99, \"Surveillance\", F80)), 0),\"Not required\")","v":11318},{"$f":"IF(INTRO!$E$41=\"Endemic\", IF($J80>1, IF($J80=4, \"Unknown\", IF($J80=99, \"Surveillance\", ROUND(D80*INTRO!$E$51,0))), 0),\"Not required\")","v":9395},{"$f":"IF(INTRO!$E$41=\"Endemic\", IF($J80>1, IF($J80=4, \"Unknown\", IF($J80=99, \"Surveillance\", SUM($O80:$Q80))), 0),\"Not required\")","v":26258},{"$f":"IF(INTRO!$E$43=\"Endemic\", IF($K80>1, IF($K80=4, \"Unknown\", IF($K80=99, \"Surveillance\", ROUND(E80*0.75,0))), 0),\"Not required\")","v":4159},{"$f":"IF(INTRO!$E$43=\"Endemic\", IF($K80>1, IF($K80=4, \"Unknown\", IF($K80=99, \"Surveillance\", F80)), 0),\"Not required\")","v":11318},{"$f":"IF(INTRO!$E$43=\"Endemic\", IF($K80>1, IF($K80=4, \"Unknown\", IF($K80=99, \"Surveillance\", G80)), 0),\"Not required\")","v":22287},{"$f":"IF(INTRO!$E$43=\"Endemic\", IF($K80>1, IF($K80=4, \"Unknown\", IF($K80=99, \"Surveillance\", SUM($S80:$U80))), 0),\"Not required\")","v":37764},0,0,1,1]
[{"$f":"IF(INTRO!$E$33<>0,INTRO!$E$33, \" \")","v":"Angola"},"HUAMBO","ECUNHA",110226.56360299999,{"$f":"IF(INTRO!$E$48=\"\",\"\",ROUND($D81*INTRO!$E$48,0))","v":15035},{"$f":"IF(INTRO!$E$49=\"\",\"\",ROUND($D81*INTRO!$E$49,0))","v":30687},{"$f":"IF(INTRO!$E$50=\"\",\"\",ROUND($D81*INTRO!$E$50,0))","v":60426},0,4,21,21,0,{"$f":"IF(INTRO!$E$37=\"Endemic\",IF($H81>0,IF($H81=4,\"Unknown\",IF($H81=99,\"Stopped\",$D81)),0),\"Not required\")","v":0},{"$f":"IF(INTRO!$E$39=\"Endemic\", IF($I81>0, IF($I81=4,\"Unknown\",IF($I81=99,\"Stopped\",$D81)), 0),\"Not required\")","v":"Unknown"},{"$f":"IF(INTRO!$E$41=\"Endemic\", IF($J81>1, IF($J81=4, \"Unknown\", IF($J81=99, \"Surveillance\", E81)), 0),\"Not required\")","v":15035},{"$f":"IF(INTRO!$E$41=\"Endemic\", IF($J81>1, IF($J81=4, \"Unknown\", IF($J81=99, \"Surveillance\", F81)), 0),\"Not required\")","v":30687},{"$f":"IF(INTRO!$E$41=\"Endemic\", IF($J81>1, IF($J81=4, \"Unknown\", IF($J81=99, \"Surveillance\", ROUND(D81*INTRO!$E$51,0))), 0),\"Not required\")","v":25473},{"$f":"IF(INTRO!$E$41=\"Endemic\", IF($J81>1, IF($J81=4, \"Unknown\", IF($J81=99, \"Surveillance\", SUM($O81:$Q81))), 0),\"Not required\")","v":71195},{"$f":"IF(INTRO!$E$43=\"Endemic\", IF($K81>1, IF($K81=4, \"Unknown\", IF($K81=99, \"Surveillance\", ROUND(E81*0.75,0))), 0),\"Not required\")","v":11276},{"$f":"IF(INTRO!$E$43=\"Endemic\", IF($K81>1, IF($K81=4, \"Unknown\", IF($K81=99, \"Surveillance\", F81)), 0),\"Not required\")","v":30687},{"$f":"IF(INTRO!$E$43=\"Endemic\", IF($K81>1, IF($K81=4, \"Unknown\", IF($K81=99, \"Surveillance\", G81)), 0),\"Not required\")","v":60426},{"$f":"IF(INTRO!$E$43=\"Endemic\", IF($K81>1, IF($K81=4, \"Unknown\", IF($K81=99, \"Surveillance\", SUM($S81:$U81))), 0),\"Not required\")","v":102389},0,0,1,1]
[{"$f":"IF(INTRO!$E$33<>0,INTRO!$E$33, \" \")","v":"Angola"},"HUAMBO","HUAMBO",952331.68976399978,{"$f":"IF(INTRO!$E$48=\"\",\"\",ROUND($D82*INTRO!$E$48,0))","v":129898},{"$f":"IF(INTRO!$E$49=\"\",\"\",ROUND($D82*INTRO!$E$49,0))","v":265129},{"$f":"IF(INTRO!$E$50=\"\",\"\",ROUND($D82*INTRO!$E$50,0))","v":522068},0,4,22,21,0,{"$f":"IF(INTRO!$E$37=\"Endemic\",IF($H82>0,IF($H82=4,\"Unknown\",IF($H82=99,\"Stopped\",$D82)),0),\"Not required\")","v":0},{"$f":"IF(INTRO!$E$39=\"Endemic\", IF($I82>0, IF($I82=4,\"Unknown\",IF($I82=99,\"Stopped\",$D82)), 0),\"Not required\")","v":"Unknown"},{"$f":"IF(INTRO!$E$41=\"Endemic\", IF($J82>1, IF($J82=4, \"Unknown\", IF($J82=99, \"Surveillance\", E82)), 0),\"Not required\")","v":129898},{"$f":"IF(INTRO!$E$41=\"Endemic\", IF($J82>1, IF($J82=4, \"Unknown\", IF($J82=99, \"Surveillance\", F82)), 0),\"Not required\")","v":265129},{"$f":"IF(INTRO!$E$41=\"Endemic\", IF($J82>1, IF($J82=4, \"Unknown\", IF($J82=99, \"Surveillance\", ROUND(D82*INTRO!$E$51,0))), 0),\"Not required\")","v":220084},{"$f":"IF(INTRO!$E$41=\"Endemic\", IF($J82>1, IF($J82=4, \"Unknown\", IF($J82=99, \"Surveillance\", SUM($O82:$Q82))), 0),\"Not required\")","v":615111},{"$f":"IF(INTRO!$E$43=\"Endemic\", IF($K82>1, IF($K82=4, \"Unknown\", IF($K82=99, \"Surveillance\", ROUND(E82*0.75,0))), 0),\"Not required\")","v":97424},{"$f":"IF(INTRO!$E$43=\"Endemic\", IF($K82>1, IF($K82=4, \"Unknown\", IF($K82=99, \"Surveillance\", F82)), 0),\"Not required\")","v":265129},{"$f":"IF(INTRO!$E$43=\"Endemic\", IF($K82>1, IF($K82=4, \"Unknown\", IF($K82=99, \"Surveillance\", G82)), 0),\"Not required\")","v":522068},{"$f":"IF(INTRO!$E$43=\"Endemic\", IF($K82>1, IF($K82=4, \"Unknown\", IF($K82=99, \"Surveillance\", SUM($S82:$U82))), 0),\"Not required\")","v":884621},0,0,1,1]
[{"$f":"IF(INTRO!$E$33<>0,INTRO!$E$33, \" \")","v":"Angola"},"HUAMBO","LONDUIMBALI",179283.89014899998,{"$f":"IF(INTRO!$E$48=\"\",\"\",ROUND($D83*INTRO!$E$48,0))","v":24454},{"$f":"IF(INTRO!$E$49=\"\",\"\",ROUND($D83*INTRO!$E$49,0))","v":49913},{"$f":"IF(INTRO!$E$50=\"\",\"\",ROUND($D83*INTRO!$E$50,0))","v":98283},0,4,21,21,0,{"$f":"IF(INTRO!$E$37=\"Endemic\",IF($H83>0,IF($H83=4,\"Unknown\",IF($H83=99,\"Stopped\",$D83)),0),\"Not required\")","v":0},{"$f":"IF(INTRO!$E$39=\"Endemic\", IF($I83>0, IF($I83=4,\"Unknown\",IF($I83=99,\"Stopped\",$D83)), 0),\"Not required\")","v":"Unknown"},{"$f":"IF(INTRO!$E$41=\"Endemic\", IF($J83>1, IF($J83=4, \"Unknown\", IF($J83=99, \"Surveillance\", E83)), 0),\"Not required\")","v":24454},{"$f":"IF(INTRO!$E$41=\"Endemic\", IF($J83>1, IF($J83=4, \"Unknown\", IF($J83=99, \"Surveillance\", F83)), 0),\"Not required\")","v":49913},{"$f":"IF(INTRO!$E$41=\"Endemic\", IF($J83>1, IF($J83=4, \"Unknown\", IF($J83=99, \"Surveillance\", ROUND(D83*INTRO!$E$51,0))), 0),\"Not required\")","v":41433},{"$f":"IF(INTRO!$E$41=\"Endemic\", IF($J83>1, IF($J83=4, \"Unknown\", IF($J83=99, \"Surveillance\", SUM($O83:$Q83))), 0),\"Not required\")","v":115800},{"$f":"IF(INTRO!$E$43=\"Endemic\", IF($K83>1, IF($K83=4, \"Unknown\", IF($K83=99, \"Surveillance\", ROUND(E83*0.75,0))), 0),\"Not required\")","v":18341},{"$f":"IF(INTRO!$E$43=\"Endemic\", IF($K83>1, IF($K83=4, \"Unknown\", IF($K83=99, \"Surveillance\", F83)), 0),\"Not required\")","v":49913},{"$f":"IF(INTRO!$E$43=\"Endemic\", IF($K83>1, IF($K83=4, \"Unknown\", IF($K83=99, \"Surveillance\", G83)), 0),\"Not required\")","v":98283},{"$f":"IF(INTRO!$E$43=\"Endemic\", IF($K83>1, IF($K83=4, \"Unknown\", IF($K83=99, \"Surveillance\", SUM($S83:$U83))), 0),\"Not required\")","v":166537},0,0,1,1]
[{"$f":"IF(INTRO!$E$33<>0,INTRO!$E$33, \" \")","v":"Angola"},"HUAMBO","LONGONJO",122996.16760599997,{"$f":"IF(INTRO!$E$48=\"\",\"\",ROUND($D84*INTRO!$E$48,0))","v":16777},{"$f":"IF(INTRO!$E$49=\"\",\"\",ROUND($D84*INTRO!$E$49,0))","v":34242},{"$f":"IF(INTRO!$E$50=\"\",\"\",ROUND($D84*INTRO!$E$50,0))","v":67426},0,4,21,21,0,{"$f":"IF(INTRO!$E$37=\"Endemic\",IF($H84>0,IF($H84=4,\"Unknown\",IF($H84=99,\"Stopped\",$D84)),0),\"Not required\")","v":0},{"$f":"IF(INTRO!$E$39=\"Endemic\", IF($I84>0, IF($I84=4,\"Unknown\",IF($I84=99,\"Stopped\",$D84)), 0),\"Not required\")","v":"Unknown"},{"$f":"IF(INTRO!$E$41=\"Endemic\", IF($J84>1, IF($J84=4, \"Unknown\", IF($J84=99, \"Surveillance\", E84)), 0),\"Not required\")","v":16777},{"$f":"IF(INTRO!$E$41=\"Endemic\", IF($J84>1, IF($J84=4, \"Unknown\", IF($J84=99, \"Surveillance\", F84)), 0),\"Not required\")","v":34242},{"$f":"IF(INTRO!$E$41=\"Endemic\", IF($J84>1, IF($J84=4, \"Unknown\", IF($J84=99, \"Surveillance\", ROUND(D84*INTRO!$E$51,0))), 0),\"Not required\")","v":28424},{"$f":"IF(INTRO!$E$41=\"Endemic\", IF($J84>1, IF($J84=4, \"Unknown\", IF($J84=99, \"Surveillance\", SUM($O84:$Q84))), 0),\"Not required\")","v":79443},{"$f":"IF(INTRO!$E$43=\"Endemic\", IF($K84>1, IF($K84=4, \"Unknown\", IF($K84=99, \"Surveillance\", ROUND(E84*0.75,0))), 0),\"Not required\")","v":12583},{"$f":"IF(INTRO!$E$43=\"Endemic\", IF($K84>1, IF($K84=4, \"Unknown\", IF($K84=99, \"Surveillance\", F84)), 0),\"Not required\")","v":34242},{"$f":"IF(INTRO!$E$43=\"Endemic\", IF($K84>1, IF($K84=4, \"Unknown\", IF($K84=99, \"Surveillance\", G84)), 0),\"Not required\")","v":67426},{"$f":"IF(INTRO!$E$43=\"Endemic\", IF($K84>1, IF($K84=4, \"Unknown\", IF($K84=99, \"Surveillance\", SUM($S84:$U84))), 0),\"Not required\")","v":114251},0,0,1,1]
[{"$f":"IF(INTRO!$E$33<>0,INTRO!$E$33, \" \")","v":"Angola"},"HUAMBO","MUNGO",151458.02967099997,{"$f":"IF(INTRO!$E$48=\"\",\"\",ROUND($D85*INTRO!$E$48,0))","v":20659},{"$f":"IF(INTRO!$E$49=\"\",\"\",ROUND($D85*INTRO!$E$49,0))","v":42166},{"$f":"IF(INTRO!$E$50=\"\",\"\",ROUND($D85*INTRO!$E$50,0))","v":83029},0,1,21,21,1,{"$f":"IF(INTRO!$E$37=\"Endemic\",IF($H85>0,IF($H85=4,\"Unknown\",IF($H85=99,\"Stopped\",$D85)),0),\"Not required\")","v":0},{"$f":"IF(INTRO!$E$39=\"Endemic\", IF($I85>0, IF($I85=4,\"Unknown\",IF($I85=99,\"Stopped\",$D85)), 0),\"Not required\")","v":151458.02967099997},{"$f":"IF(INTRO!$E$41=\"Endemic\", IF($J85>1, IF($J85=4, \"Unknown\", IF($J85=99, \"Surveillance\", E85)), 0),\"Not required\")","v":20659},{"$f":"IF(INTRO!$E$41=\"Endemic\", IF($J85>1, IF($J85=4, \"Unknown\", IF($J85=99, \"Surveillance\", F85)), 0),\"Not required\")","v":42166},{"$f":"IF(INTRO!$E$41=\"Endemic\", IF($J85>1, IF($J85=4, \"Unknown\", IF($J85=99, \"Surveillance\", ROUND(D85*INTRO!$E$51,0))), 0),\"Not required\")","v":35002},{"$f":"IF(INTRO!$E$41=\"Endemic\", IF($J85>1, IF($J85=4, \"Unknown\", IF($J85=99, \"Surveillance\", SUM($O85:$Q85))), 0),\"Not required\")","v":97827},{"$f":"IF(INTRO!$E$43=\"Endemic\", IF($K85>1, IF($K85=4, \"Unknown\", IF($K85=99, \"Surveillance\", ROUND(E85*0.75,0))), 0),\"Not required\")","v":15494},{"$f":"IF(INTRO!$E$43=\"Endemic\", IF($K85>1, IF($K85=4, \"Unknown\", IF($K85=99, \"Surveillance\", F85)), 0),\"Not required\")","v":42166},{"$f":"IF(INTRO!$E$43=\"Endemic\", IF($K85>1, IF($K85=4, \"Unknown\", IF($K85=99, \"Surveillance\", G85)), 0),\"Not required\")","v":83029},{"$f":"IF(INTRO!$E$43=\"Endemic\", IF($K85>1, IF($K85=4, \"Unknown\", IF($K85=99, \"Surveillance\", SUM($S85:$U85))), 0),\"Not required\")","v":140689},0,1,1,1]
[{"$f":"IF(INTRO!$E$33<>0,INTRO!$E$33, \" \")","v":"Angola"},"HUAMBO","UCUMA",73519.884944999983,{"$f":"IF(INTRO!$E$48=\"\",\"\",ROUND($D86*INTRO!$E$48,0))","v":10028},{"$f":"IF(INTRO!$E$49=\"\",\"\",ROUND($D86*INTRO!$E$49,0))","v":20468},{"$f":"IF(INTRO!$E$50=\"\",\"\",ROUND($D86*INTRO!$E$50,0))","v":40304},0,4,21,21,0,{"$f":"IF(INTRO!$E$37=\"Endemic\",IF($H86>0,IF($H86=4,\"Unknown\",IF($H86=99,\"Stopped\",$D86)),0),\"Not required\")","v":0},{"$f":"IF(INTRO!$E$39=\"Endemic\", IF($I86>0, IF($I86=4,\"Unknown\",IF($I86=99,\"Stopped\",$D86)), 0),\"Not required\")","v":"Unknown"},{"$f":"IF(INTRO!$E$41=\"Endemic\", IF($J86>1, IF($J86=4, \"Unknown\", IF($J86=99, \"Surveillance\", E86)), 0),\"Not required\")","v":10028},{"$f":"IF(INTRO!$E$41=\"Endemic\", IF($J86>1, IF($J86=4, \"Unknown\", IF($J86=99, \"Surveillance\", F86)), 0),\"Not required\")","v":20468},{"$f":"IF(INTRO!$E$41=\"Endemic\", IF($J86>1, IF($J86=4, \"Unknown\", IF($J86=99, \"Surveillance\", ROUND(D86*INTRO!$E$51,0))), 0),\"Not required\")","v":16990},{"$f":"IF(INTRO!$E$41=\"Endemic\", IF($J86>1, IF($J86=4, \"Unknown\", IF($J86=99, \"Surveillance\", SUM($O86:$Q86))), 0),\"Not required\")","v":47486},{"$f":"IF(INTRO!$E$43=\"Endemic\", IF($K86>1, IF($K86=4, \"Unknown\", IF($K86=99, \"Surveillance\", ROUND(E86*0.75,0))), 0),\"Not required\")","v":7521},{"$f":"IF(INTRO!$E$43=\"Endemic\", IF($K86>1, IF($K86=4, \"Unknown\", IF($K86=99, \"Surveillance\", F86)), 0),\"Not required\")","v":20468},{"$f":"IF(INTRO!$E$43=\"Endemic\", IF($K86>1, IF($K86=4, \"Unknown\", IF($K86=99, \"Surveillance\", G86)), 0),\"Not required\")","v":40304},{"$f":"IF(INTRO!$E$43=\"Endemic\", IF($K86>1, IF($K86=4, \"Unknown\", IF($K86=99, \"Surveillance\", SUM($S86:$U86))), 0),\"Not required\")","v":68293},0,0,1,1]
[{"$f":"IF(INTRO!$E$33<>0,INTRO!$E$33, \" \")","v":"Angola"},"HUILA","CACONDA",219006.03901799995,{"$f":"IF(INTRO!$E$48=\"\",\"\",ROUND($D87*INTRO!$E$48,0))","v":29872},{"$f":"IF(INTRO!$E$49=\"\",\"\",ROUND($D87*INTRO!$E$49,0))","v":60971},{"$f":"IF(INTRO!$E$50=\"\",\"\",ROUND($D87*INTRO!$E$50,0))","v":120059},0,4,1,3,0,{"$f":"IF(INTRO!$E$37=\"Endemic\",IF($H87>0,IF($H87=4,\"Unknown\",IF($H87=99,\"Stopped\",$D87)),0),\"Not required\")","v":0},{"$f":"IF(INTRO!$E$39=\"Endemic\", IF($I87>0, IF($I87=4,\"Unknown\",IF($I87=99,\"Stopped\",$D87)), 0),\"Not required\")","v":"Unknown"},{"$f":"IF(INTRO!$E$41=\"Endemic\", IF($J87>1, IF($J87=4, \"Unknown\", IF($J87=99, \"Surveillance\", E87)), 0),\"Not required\")","v":0},{"$f":"IF(INTRO!$E$41=\"Endemic\", IF($J87>1, IF($J87=4, \"Unknown\", IF($J87=99, \"Surveillance\", F87)), 0),\"Not required\")","v":0},{"$f":"IF(INTRO!$E$41=\"Endemic\", IF($J87>1, IF($J87=4, \"Unknown\", IF($J87=99, \"Surveillance\", ROUND(D87*INTRO!$E$51,0))), 0),\"Not required\")","v":0},{"$f":"IF(INTRO!$E$41=\"Endemic\", IF($J87>1, IF($J87=4, \"Unknown\", IF($J87=99, \"Surveillance\", SUM($O87:$Q87))), 0),\"Not required\")","v":0},{"$f":"IF(INTRO!$E$43=\"Endemic\", IF($K87>1, IF($K87=4, \"Unknown\", IF($K87=99, \"Surveillance\", ROUND(E87*0.75,0))), 0),\"Not required\")","v":22404},{"$f":"IF(INTRO!$E$43=\"Endemic\", IF($K87>1, IF($K87=4, \"Unknown\", IF($K87=99, \"Surveillance\", F87)), 0),\"Not required\")","v":60971},{"$f":"IF(INTRO!$E$43=\"Endemic\", IF($K87>1, IF($K87=4, \"Unknown\", IF($K87=99, \"Surveillance\", G87)), 0),\"Not required\")","v":120059},{"$f":"IF(INTRO!$E$43=\"Endemic\", IF($K87>1, IF($K87=4, \"Unknown\", IF($K87=99, \"Surveillance\", SUM($S87:$U87))), 0),\"Not required\")","v":203434},0,0,0,1]
[{"$f":"IF(INTRO!$E$33<>0,INTRO!$E$33, \" \")","v":"Angola"},"HUILA","CACULA",178756.52564899996,{"$f":"IF(INTRO!$E$48=\"\",\"\",ROUND($D88*INTRO!$E$48,0))","v":24382},{"$f":"IF(INTRO!$E$49=\"\",\"\",ROUND($D88*INTRO!$E$49,0))","v":49766},{"$f":"IF(INTRO!$E$50=\"\",\"\",ROUND($D88*INTRO!$E$50,0))","v":97994},0,4,0,2,0,{"$f":"IF(INTRO!$E$37=\"Endemic\",IF($H88>0,IF($H88=4,\"Unknown\",IF($H88=99,\"Stopped\",$D88)),0),\"Not required\")","v":0},{"$f":"IF(INTRO!$E$39=\"Endemic\", IF($I88>0, IF($I88=4,\"Unknown\",IF($I88=99,\"Stopped\",$D88)), 0),\"Not required\")","v":"Unknown"},{"$f":"IF(INTRO!$E$41=\"Endemic\", IF($J88>1, IF($J88=4, \"Unknown\", IF($J88=99, \"Surveillance\", E88)), 0),\"Not required\")","v":0},{"$f":"IF(INTRO!$E$41=\"Endemic\", IF($J88>1, IF($J88=4, \"Unknown\", IF($J88=99, \"Surveillance\", F88)), 0),\"Not required\")","v":0},{"$f":"IF(INTRO!$E$41=\"Endemic\", IF($J88>1, IF($J88=4, \"Unknown\", IF($J88=99, \"Surveillance\", ROUND(D88*INTRO!$E$51,0))), 0),\"Not required\")","v":0},{"$f":"IF(INTRO!$E$41=\"Endemic\", IF($J88>1, IF($J88=4, \"Unknown\", IF($J88=99, \"Surveillance\", SUM($O88:$Q88))), 0),\"Not required\")","v":0},{"$f":"IF(INTRO!$E$43=\"Endemic\", IF($K88>1, IF($K88=4, \"Unknown\", IF($K88=99, \"Surveillance\", ROUND(E88*0.75,0))), 0),\"Not required\")","v":18287},{"$f":"IF(INTRO!$E$43=\"Endemic\", IF($K88>1, IF($K88=4, \"Unknown\", IF($K88=99, \"Surveillance\", F88)), 0),\"Not required\")","v":49766},{"$f":"IF(INTRO!$E$43=\"Endemic\", IF($K88>1, IF($K88=4, \"Unknown\", IF($K88=99, \"Surveillance\", G88)), 0),\"Not required\")","v":97994},{"$f":"IF(INTRO!$E$43=\"Endemic\", IF($K88>1, IF($K88=4, \"Unknown\", IF($K88=99, \"Surveillance\", SUM($S88:$U88))), 0),\"Not required\")","v":166047},0,0,0,1]
[{"$f":"IF(INTRO!$E$33<>0,INTRO!$E$33, \" \")","v":"Angola"},"HUILA","CALUQUEMBE",234811.15308299998,{"$f":"IF(INTRO!$E$48=\"\",\"\",ROUND($D89*INTRO!$E$48,0))","v":32028},{"$f":"IF(INTRO!$E$49=\"\",\"\",ROUND($D89*INTRO!$E$49,0))","v":65371},{"$f":"IF(INTRO!$E$50=\"\",\"\",ROUND($D89*INTRO!$E$50,0))","v":128723},0,1,1,3,0,{"$f":"IF(INTRO!$E$37=\"Endemic\",IF($H89>0,IF($H89=4,\"Unknown\",IF($H89=99,\"Stopped\",$D89)),0),\"Not required\")","v":0},{"$f":"IF(INTRO!$E$39=\"Endemic\", IF($I89>0, IF($I89=4,\"Unknown\",IF($I89=99,\"Stopped\",$D89)), 0),\"Not required\")","v":234811.15308299998},{"$f":"IF(INTRO!$E$41=\"Endemic\", IF($J89>1, IF($J89=4, \"Unknown\", IF($J89=99, \"Surveillance\", E89)), 0),\"Not required\")","v":0},{"$f":"IF(INTRO!$E$41=\"Endemic\", IF($J89>1, IF($J89=4, \"Unknown\", IF($J89=99, \"Surveillance\", F89)), 0),\"Not required\")","v":0},{"$f":"IF(INTRO!$E$41=\"Endemic\", IF($J89>1, IF($J89=4, \"Unknown\", IF($J89=99, \"Surveillance\", ROUND(D89*INTRO!$E$51,0))), 0),\"Not required\")","v":0},{"$f":"IF(INTRO!$E$41=\"Endemic\", IF($J89>1, IF($J89=4, \"Unknown\", IF($J89=99, \"Surveillance\", SUM($O89:$Q89))), 0),\"Not required\")","v":0},{"$f":"IF(INTRO!$E$43=\"Endemic\", IF($K89>1, IF($K89=4, \"Unknown\", IF($K89=99, \"Surveillance\", ROUND(E89*0.75,0))), 0),\"Not required\")","v":24021},{"$f":"IF(INTRO!$E$43=\"Endemic\", IF($K89>1, IF($K89=4, \"Unknown\", IF($K89=99, \"Surveillance\", F89)), 0),\"Not required\")","v":65371},{"$f":"IF(INTRO!$E$43=\"Endemic\", IF($K89>1, IF($K89=4, \"Unknown\", IF($K89=99, \"Surveillance\", G89)), 0),\"Not required\")","v":128723},{"$f":"IF(INTRO!$E$43=\"Endemic\", IF($K89>1, IF($K89=4, \"Unknown\", IF($K89=99, \"Surveillance\", SUM($S89:$U89))), 0),\"Not required\")","v":218115},0,1,0,1]
[{"$f":"IF(INTRO!$E$33<>0,INTRO!$E$33, \" \")","v":"Angola"},"HUILA","CHIBIA",248826.39203499997,{"$f":"IF(INTRO!$E$48=\"\",\"\",ROUND($D90*INTRO!$E$48,0))","v":33940},{"$f":"IF(INTRO!$E$49=\"\",\"\",ROUND($D90*INTRO!$E$49,0))","v":69273},{"$f":"IF(INTRO!$E$50=\"\",\"\",ROUND($D90*INTRO!$E$50,0))","v":136407},0,4,0,3,0,{"$f":"IF(INTRO!$E$37=\"Endemic\",IF($H90>0,IF($H90=4,\"Unknown\",IF($H90=99,\"Stopped\",$D90)),0),\"Not required\")","v":0},{"$f":"IF(INTRO!$E$39=\"Endemic\", IF($I90>0, IF($I90=4,\"Unknown\",IF($I90=99,\"Stopped\",$D90)), 0),\"Not required\")","v":"Unknown"},{"$f":"IF(INTRO!$E$41=\"Endemic\", IF($J90>1, IF($J90=4, \"Unknown\", IF($J90=99, \"Surveillance\", E90)), 0),\"Not required\")","v":0},{"$f":"IF(INTRO!$E$41=\"Endemic\", IF($J90>1, IF($J90=4, \"Unknown\", IF($J90=99, \"Surveillance\", F90)), 0),\"Not required\")","v":0},{"$f":"IF(INTRO!$E$41=\"Endemic\", IF($J90>1, IF($J90=4, \"Unknown\", IF($J90=99, \"Surveillance\", ROUND(D90*INTRO!$E$51,0))), 0),\"Not required\")","v":0},{"$f":"IF(INTRO!$E$41=\"Endemic\", IF($J90>1, IF($J90=4, \"Unknown\", IF($J90=99, \"Surveillance\", SUM($O90:$Q90))), 0),\"Not required\")","v":0},{"$f":"IF(INTRO!$E$43=\"Endemic\", IF($K90>1, IF($K90=4, \"Unknown\", IF($K90=99, \"Surveillance\", ROUND(E90*0.75,0))), 0),\"Not required\")","v":25455},{"$f":"IF(INTRO!$E$43=\"Endemic\", IF($K90>1, IF($K90=4, \"Unknown\", IF($K90=99, \"Surveillance\", F90)), 0),\"Not required\")","v":69273},{"$f":"IF(INTRO!$E$43=\"Endemic\", IF($K90>1, IF($K90=4, \"Unknown\", IF($K90=99, \"Surveillance\", G90)), 0),\"Not required\")","v":136407},{"$f":"IF(INTRO!$E$43=\"Endemic\", IF($K90>1, IF($K90=4, \"Unknown\", IF($K90=99, \"Surveillance\", SUM($S90:$U90))), 0),\"Not required\")","v":231135},0,0,0,1]
[{"$f":"IF(INTRO!$E$33<>0,INTRO!$E$33, \" \")","v":"Angola"},"HUILA","CHICOMBA",172009.42423599996,{"$f":"IF(INTRO!$E$48=\"\",\"\",ROUND($D91*INTRO!$E$48,0))","v":23462},{"$f":"IF(INTRO!$E$49=\"\",\"\",ROUND($D91*INTRO!$E$49,0))","v":47887},{"$f":"IF(INTRO!$E$50=\"\",\"\",ROUND($D91*INTRO!$E$50,0))","v":94296},0,1,0,3,0,{"$f":"IF(INTRO!$E$37=\"Endemic\",IF($H91>0,IF($H91=4,\"Unknown\",IF($H91=99,\"Stopped\",$D91)),0),\"Not required\")","v":0},{"$f":"IF(INTRO!$E$39=\"Endemic\", IF($I91>0, IF($I91=4,\"Unknown\",IF($I91=99,\"Stopped\",$D91)), 0),\"Not required\")","v":172009.42423599996},{"$f":"IF(INTRO!$E$41=\"Endemic\", IF($J91>1, IF($J91=4, \"Unknown\", IF($J91=99, \"Surveillance\", E91)), 0),\"Not required\")","v":0},{"$f":"IF(INTRO!$E$41=\"Endemic\", IF($J91>1, IF($J91=4, \"Unknown\", IF($J91=99, \"Surveillance\", F91)), 0),\"Not required\")","v":0},{"$f":"IF(INTRO!$E$41=\"Endemic\", IF($J91>1, IF($J91=4, \"Unknown\", IF($J91=99, \"Surveillance\", ROUND(D91*INTRO!$E$51,0))), 0),\"Not required\")","v":0},{"$f":"IF(INTRO!$E$41=\"Endemic\", IF($J91>1, IF($J91=4, \"Unknown\", IF($J91=99, \"Surveillance\", SUM($O91:$Q91))), 0),\"Not required\")","v":0},{"$f":"IF(INTRO!$E$43=\"Endemic\", IF($K91>1, IF($K91=4, \"Unknown\", IF($K91=99, \"Surveillance\", ROUND(E91*0.75,0))), 0),\"Not required\")","v":17597},{"$f":"IF(INTRO!$E$43=\"Endemic\", IF($K91>1, IF($K91=4, \"Unknown\", IF($K91=99, \"Surveillance\", F91)), 0),\"Not required\")","v":47887},{"$f":"IF(INTRO!$E$43=\"Endemic\", IF($K91>1, IF($K91=4, \"Unknown\", IF($K91=99, \"Surveillance\", G91)), 0),\"Not required\")","v":94296},{"$f":"IF(INTRO!$E$43=\"Endemic\", IF($K91>1, IF($K91=4, \"Unknown\", IF($K91=99, \"Surveillance\", SUM($S91:$U91))), 0),\"Not required\")","v":159780},0,1,0,1]
[{"$f":"IF(INTRO!$E$33<>0,INTRO!$E$33, \" \")","v":"Angola"},"HUILA","CHIPINDO",84452.151029999979,{"$f":"IF(INTRO!$E$48=\"\",\"\",ROUND($D92*INTRO!$E$48,0))","v":11519},{"$f":"IF(INTRO!$E$49=\"\",\"\",ROUND($D92*INTRO!$E$49,0))","v":23511},{"$f":"IF(INTRO!$E$50=\"\",\"\",ROUND($D92*INTRO!$E$50,0))","v":46297},1,1,1,2,0,{"$f":"IF(INTRO!$E$37=\"Endemic\",IF($H92>0,IF($H92=4,\"Unknown\",IF($H92=99,\"Stopped\",$D92)),0),\"Not required\")","v":84452.151029999979},{"$f":"IF(INTRO!$E$39=\"Endemic\", IF($I92>0, IF($I92=4,\"Unknown\",IF($I92=99,\"Stopped\",$D92)), 0),\"Not required\")","v":84452.151029999979},{"$f":"IF(INTRO!$E$41=\"Endemic\", IF($J92>1, IF($J92=4, \"Unknown\", IF($J92=99, \"Surveillance\", E92)), 0),\"Not required\")","v":0},{"$f":"IF(INTRO!$E$41=\"Endemic\", IF($J92>1, IF($J92=4, \"Unknown\", IF($J92=99, \"Surveillance\", F92)), 0),\"Not required\")","v":0},{"$f":"IF(INTRO!$E$41=\"Endemic\", IF($J92>1, IF($J92=4, \"Unknown\", IF($J92=99, \"Surveillance\", ROUND(D92*INTRO!$E$51,0))), 0),\"Not required\")","v":0},{"$f":"IF(INTRO!$E$41=\"Endemic\", IF($J92>1, IF($J92=4, \"Unknown\", IF($J92=99, \"Surveillance\", SUM($O92:$Q92))), 0),\"Not required\")","v":0},{"$f":"IF(INTRO!$E$43=\"Endemic\", IF($K92>1, IF($K92=4, \"Unknown\", IF($K92=99, \"Surveillance\", ROUND(E92*0.75,0))), 0),\"Not required\")","v":8639},{"$f":"IF(INTRO!$E$43=\"Endemic\", IF($K92>1, IF($K92=4, \"Unknown\", IF($K92=99, \"Surveillance\", F92)), 0),\"Not required\")","v":23511},{"$f":"IF(INTRO!$E$43=\"Endemic\", IF($K92>1, IF($K92=4, \"Unknown\", IF($K92=99, \"Surveillance\", G92)), 0),\"Not required\")","v":46297},{"$f":"IF(INTRO!$E$43=\"Endemic\", IF($K92>1, IF($K92=4, \"Unknown\", IF($K92=99, \"Surveillance\", SUM($S92:$U92))), 0),\"Not required\")","v":78447},1,1,0,1]
[{"$f":"IF(INTRO!$E$33<>0,INTRO!$E$33, \" \")","v":"Angola"},"HUILA","CUVANGO",102499.61894899998,{"$f":"IF(INTRO!$E$48=\"\",\"\",ROUND($D93*INTRO!$E$48,0))","v":13981},{"$f":"IF(INTRO!$E$49=\"\",\"\",ROUND($D93*INTRO!$E$49,0))","v":28536},{"$f":"IF(INTRO!$E$50=\"\",\"\",ROUND($D93*INTRO!$E$50,0))","v":56190},1,4,0,2,1,{"$f":"IF(INTRO!$E$37=\"Endemic\",IF($H93>0,IF($H93=4,\"Unknown\",IF($H93=99,\"Stopped\",$D93)),0),\"Not required\")","v":102499.61894899998},{"$f":"IF(INTRO!$E$39=\"Endemic\", IF($I93>0, IF($I93=4,\"Unknown\",IF($I93=99,\"Stopped\",$D93)), 0),\"Not required\")","v":"Unknown"},{"$f":"IF(INTRO!$E$41=\"Endemic\", IF($J93>1, IF($J93=4, \"Unknown\", IF($J93=99, \"Surveillance\", E93)), 0),\"Not required\")","v":0},{"$f":"IF(INTRO!$E$41=\"Endemic\", IF($J93>1, IF($J93=4, \"Unknown\", IF($J93=99, \"Surveillance\", F93)), 0),\"Not required\")","v":0},{"$f":"IF(INTRO!$E$41=\"Endemic\", IF($J93>1, IF($J93=4, \"Unknown\", IF($J93=99, \"Surveillance\", ROUND(D93*INTRO!$E$51,0))), 0),\"Not required\")","v":0},{"$f":"IF(INTRO!$E$41=\"Endemic\", IF($J93>1, IF($J93=4, \"Unknown\", IF($J93=99, \"Surveillance\", SUM($O93:$Q93))), 0),\"Not required\")","v":0},{"$f":"IF(INTRO!$E$43=\"Endemic\", IF($K93>1, IF($K93=4, \"Unknown\", IF($K93=99, \"Surveillance\", ROUND(E93*0.75,0))), 0),\"Not required\")","v":10486},{"$f":"IF(INTRO!$E$43=\"Endemic\", IF($K93>1, IF($K93=4, \"Unknown\", IF($K93=99, \"Surveillance\", F93)), 0),\"Not required\")","v":28536},{"$f":"IF(INTRO!$E$43=\"Endemic\", IF($K93>1, IF($K93=4, \"Unknown\", IF($K93=99, \"Surveillance\", G93)), 0),\"Not required\")","v":56190},{"$f":"IF(INTRO!$E$43=\"Endemic\", IF($K93>1, IF($K93=4, \"Unknown\", IF($K93=99, \"Surveillance\", SUM($S93:$U93))), 0),\"Not required\")","v":95212},1,0,0,1]
[{"$f":"IF(INTRO!$E$33<>0,INTRO!$E$33, \" \")","v":"Angola"},"HUILA","GAMBOS",103698.84582199997,{"$f":"IF(INTRO!$E$48=\"\",\"\",ROUND($D94*INTRO!$E$48,0))","v":14145},{"$f":"IF(INTRO!$E$49=\"\",\"\",ROUND($D94*INTRO!$E$49,0))","v":28870},{"$f":"IF(INTRO!$E$50=\"\",\"\",ROUND($D94*INTRO!$E$50,0))","v":56848},0,4,0,2,0,{"$f":"IF(INTRO!$E$37=\"Endemic\",IF($H94>0,IF($H94=4,\"Unknown\",IF($H94=99,\"Stopped\",$D94)),0),\"Not required\")","v":0},{"$f":"IF(INTRO!$E$39=\"Endemic\", IF($I94>0, IF($I94=4,\"Unknown\",IF($I94=99,\"Stopped\",$D94)), 0),\"Not required\")","v":"Unknown"},{"$f":"IF(INTRO!$E$41=\"Endemic\", IF($J94>1, IF($J94=4, \"Unknown\", IF($J94=99, \"Surveillance\", E94)), 0),\"Not required\")","v":0},{"$f":"IF(INTRO!$E$41=\"Endemic\", IF($J94>1, IF($J94=4, \"Unknown\", IF($J94=99, \"Surveillance\", F94)), 0),\"Not required\")","v":0},{"$f":"IF(INTRO!$E$41=\"Endemic\", IF($J94>1, IF($J94=4, \"Unknown\", IF($J94=99, \"Surveillance\", ROUND(D94*INTRO!$E$51,0))), 0),\"Not required\")","v":0},{"$f":"IF(INTRO!$E$41=\"Endemic\", IF($J94>1, IF($J94=4, \"Unknown\", IF($J94=99, \"Surveillance\", SUM($O94:$Q94))), 0),\"Not required\")","v":0},{"$f":"IF(INTRO!$E$43=\"Endemic\", IF($K94>1, IF($K94=4, \"Unknown\", IF($K94=99, \"Surveillance\", ROUND(E94*0.75,0))), 0),\"Not required\")","v":10609},{"$f":"IF(INTRO!$E$43=\"Endemic\", IF($K94>1, IF($K94=4, \"Unknown\", IF($K94=99, \"Surveillance\", F94)), 0),\"Not required\")","v":28870},{"$f":"IF(INTRO!$E$43=\"Endemic\", IF($K94>1, IF($K94=4, \"Unknown\", IF($K94=99, \"Surveillance\", G94)), 0),\"Not required\")","v":56848},{"$f":"IF(INTRO!$E$43=\"Endemic\", IF($K94>1, IF($K94=4, \"Unknown\", IF($K94=99, \"Surveillance\", SUM($S94:$U94))), 0),\"Not required\")","v":96327},0,0,0,1]
[{"$f":"IF(INTRO!$E$33<>0,INTRO!$E$33, \" \")","v":"Angola"},"HUILA","HUMPATA",116334.49924199998,{"$f":"IF(INTRO!$E$48=\"\",\"\",ROUND($D95*INTRO!$E$48,0))","v":15868},{"$f":"IF(INTRO!$E$49=\"\",\"\",ROUND($D95*INTRO!$E$49,0))","v":32388},{"$f":"IF(INTRO!$E$50=\"\",\"\",ROUND($D95*INTRO!$E$50,0))","v":63775},0,4,1,2,0,{"$f":"IF(INTRO!$E$37=\"Endemic\",IF($H95>0,IF($H95=4,\"Unknown\",IF($H95=99,\"Stopped\",$D95)),0),\"Not required\")","v":0},{"$f":"IF(INTRO!$E$39=\"Endemic\", IF($I95>0, IF($I95=4,\"Unknown\",IF($I95=99,\"Stopped\",$D95)), 0),\"Not required\")","v":"Unknown"},{"$f":"IF(INTRO!$E$41=\"Endemic\", IF($J95>1, IF($J95=4, \"Unknown\", IF($J95=99, \"Surveillance\", E95)), 0),\"Not required\")","v":0},{"$f":"IF(INTRO!$E$41=\"Endemic\", IF($J95>1, IF($J95=4, \"Unknown\", IF($J95=99, \"Surveillance\", F95)), 0),\"Not required\")","v":0},{"$f":"IF(INTRO!$E$41=\"Endemic\", IF($J95>1, IF($J95=4, \"Unknown\", IF($J95=99, \"Surveillance\", ROUND(D95*INTRO!$E$51,0))), 0),\"Not required\")","v":0},{"$f":"IF(INTRO!$E$41=\"Endemic\", IF($J95>1, IF($J95=4, \"Unknown\", IF($J95=99, \"Surveillance\", SUM($O95:$Q95))), 0),\"Not required\")","v":0},{"$f":"IF(INTRO!$E$43=\"Endemic\", IF($K95>1, IF($K95=4, \"Unknown\", IF($K95=99, \"Surveillance\", ROUND(E95*0.75,0))), 0),\"Not required\")","v":11901},{"$f":"IF(INTRO!$E$43=\"Endemic\", IF($K95>1, IF($K95=4, \"Unknown\", IF($K95=99, \"Surveillance\", F95)), 0),\"Not required\")","v":32388},{"$f":"IF(INTRO!$E$43=\"Endemic\", IF($K95>1, IF($K95=4, \"Unknown\", IF($K95=99, \"Surveillance\", G95)), 0),\"Not required\")","v":63775},{"$f":"IF(INTRO!$E$43=\"Endemic\", IF($K95>1, IF($K95=4, \"Unknown\", IF($K95=99, \"Surveillance\", SUM($S95:$U95))), 0),\"Not required\")","v":108064},0,0,0,1]
[{"$f":"IF(INTRO!$E$33<>0,INTRO!$E$33, \" \")","v":"Angola"},"HUILA","JAMBA",137142.192954,{"$f":"IF(INTRO!$E$48=\"\",\"\",ROUND($D96*INTRO!$E$48,0))","v":18706},{"$f":"IF(INTRO!$E$49=\"\",\"\",ROUND($D96*INTRO!$E$49,0))","v":38180},{"$f":"IF(INTRO!$E$50=\"\",\"\",ROUND($D96*INTRO!$E$50,0))","v":75181},1,4,0,3,0,{"$f":"IF(INTRO!$E$37=\"Endemic\",IF($H96>0,IF($H96=4,\"Unknown\",IF($H96=99,\"Stopped\",$D96)),0),\"Not required\")","v":137142.192954},{"$f":"IF(INTRO!$E$39=\"Endemic\", IF($I96>0, IF($I96=4,\"Unknown\",IF($I96=99,\"Stopped\",$D96)), 0),\"Not required\")","v":"Unknown"},{"$f":"IF(INTRO!$E$41=\"Endemic\", IF($J96>1, IF($J96=4, \"Unknown\", IF($J96=99, \"Surveillance\", E96)), 0),\"Not required\")","v":0},{"$f":"IF(INTRO!$E$41=\"Endemic\", IF($J96>1, IF($J96=4, \"Unknown\", IF($J96=99, \"Surveillance\", F96)), 0),\"Not required\")","v":0},{"$f":"IF(INTRO!$E$41=\"Endemic\", IF($J96>1, IF($J96=4, \"Unknown\", IF($J96=99, \"Surveillance\", ROUND(D96*INTRO!$E$51,0))), 0),\"Not required\")","v":0},{"$f":"IF(INTRO!$E$41=\"Endemic\", IF($J96>1, IF($J96=4, \"Unknown\", IF($J96=99, \"Surveillance\", SUM($O96:$Q96))), 0),\"Not required\")","v":0},{"$f":"IF(INTRO!$E$43=\"Endemic\", IF($K96>1, IF($K96=4, \"Unknown\", IF($K96=99, \"Surveillance\", ROUND(E96*0.75,0))), 0),\"Not required\")","v":14030},{"$f":"IF(INTRO!$E$43=\"Endemic\", IF($K96>1, IF($K96=4, \"Unknown\", IF($K96=99, \"Surveillance\", F96)), 0),\"Not required\")","v":38180},{"$f":"IF(INTRO!$E$43=\"Endemic\", IF($K96>1, IF($K96=4, \"Unknown\", IF($K96=99, \"Surveillance\", G96)), 0),\"Not required\")","v":75181},{"$f":"IF(INTRO!$E$43=\"Endemic\", IF($K96>1, IF($K96=4, \"Unknown\", IF($K96=99, \"Surveillance\", SUM($S96:$U96))), 0),\"Not required\")","v":127391},1,0,0,1]
[{"$f":"IF(INTRO!$E$33<>0,INTRO!$E$33, \" \")","v":"Angola"},"HUILA","LUBANGO",1013012.3585919999,{"$f":"IF(INTRO!$E$48=\"\",\"\",ROUND($D97*INTRO!$E$48,0))","v":138175},{"$f":"IF(INTRO!$E$49=\"\",\"\",ROUND($D97*INTRO!$E$49,0))","v":282023},{"$f":"IF(INTRO!$E$50=\"\",\"\",ROUND($D97*INTRO!$E$50,0))","v":555333},0,4,1,3,0,{"$f":"IF(INTRO!$E$37=\"Endemic\",IF($H97>0,IF($H97=4,\"Unknown\",IF($H97=99,\"Stopped\",$D97)),0),\"Not required\")","v":0},{"$f":"IF(INTRO!$E$39=\"Endemic\", IF($I97>0, IF($I97=4,\"Unknown\",IF($I97=99,\"Stopped\",$D97)), 0),\"Not required\")","v":"Unknown"},{"$f":"IF(INTRO!$E$41=\"Endemic\", IF($J97>1, IF($J97=4, \"Unknown\", IF($J97=99, \"Surveillance\", E97)), 0),\"Not required\")","v":0},{"$f":"IF(INTRO!$E$41=\"Endemic\", IF($J97>1, IF($J97=4, \"Unknown\", IF($J97=99, \"Surveillance\", F97)), 0),\"Not required\")","v":0},{"$f":"IF(INTRO!$E$41=\"Endemic\", IF($J97>1, IF($J97=4, \"Unknown\", IF($J97=99, \"Surveillance\", ROUND(D97*INTRO!$E$51,0))), 0),\"Not required\")","v":0},{"$f":"IF(INTRO!$E$41=\"Endemic\", IF($J97>1, IF($J97=4, \"Unknown\", IF($J97=99, \"Surveillance\", SUM($O97:$Q97))), 0),\"Not required\")","v":0},{"$f":"IF(INTRO!$E$43=\"Endemic\", IF($K97>1, IF($K97=4, \"Unknown\", IF($K97=99, \"Surveillance\", ROUND(E97*0.75,0))), 0),\"Not required\")","v":103631},{"$f":"IF(INTRO!$E$43=\"Endemic\", IF($K97>1, IF($K97=4, \"Unknown\", IF($K97=99, \"Surveillance\", F97)), 0),\"Not required\")","v":282023},{"$f":"IF(INTRO!$E$43=\"Endemic\", IF($K97>1, IF($K97=4, \"Unknown\", IF($K97=99, \"Surveillance\", G97)), 0),\"Not required\")","v":555333},{"$f":"IF(INTRO!$E$43=\"Endemic\", IF($K97>1, IF($K97=4, \"Unknown\", IF($K97=99, \"Surveillance\", SUM($S97:$U97))), 0),\"Not required\")","v":940987},0,0,0,1]
[{"$f":"IF(INTRO!$E$33<>0,INTRO!$E$33, \" \")","v":"Angola"},"HUILA","MATALA",342909.27356399997,{"$f":"IF(INTRO!$E$48=\"\",\"\",ROUND($D98*INTRO!$E$48,0))","v":46773},{"$f":"IF(INTRO!$E$49=\"\",\"\",ROUND($D98*INTRO!$E$49,0))","v":95466},{"$f":"IF(INTRO!$E$50=\"\",\"\",ROUND($D98*INTRO!$E$50,0))","v":187983},0,1,1,3,0,{"$f":"IF(INTRO!$E$37=\"Endemic\",IF($H98>0,IF($H98=4,\"Unknown\",IF($H98=99,\"Stopped\",$D98)),0),\"Not required\")","v":0},{"$f":"IF(INTRO!$E$39=\"Endemic\", IF($I98>0, IF($I98=4,\"Unknown\",IF($I98=99,\"Stopped\",$D98)), 0),\"Not required\")","v":342909.27356399997},{"$f":"IF(INTRO!$E$41=\"Endemic\", IF($J98>1, IF($J98=4, \"Unknown\", IF($J98=99, \"Surveillance\", E98)), 0),\"Not required\")","v":0},{"$f":"IF(INTRO!$E$41=\"Endemic\", IF($J98>1, IF($J98=4, \"Unknown\", IF($J98=99, \"Surveillance\", F98)), 0),\"Not required\")","v":0},{"$f":"IF(INTRO!$E$41=\"Endemic\", IF($J98>1, IF($J98=4, \"Unknown\", IF($J98=99, \"Surveillance\", ROUND(D98*INTRO!$E$51,0))), 0),\"Not required\")","v":0},{"$f":"IF(INTRO!$E$41=\"Endemic\", IF($J98>1, IF($J98=4, \"Unknown\", IF($J98=99, \"Surveillance\", SUM($O98:$Q98))), 0),\"Not required\")","v":0},{"$f":"IF(INTRO!$E$43=\"Endemic\", IF($K98>1, IF($K98=4, \"Unknown\", IF($K98=99, \"Surveillance\", ROUND(E98*0.75,0))), 0),\"Not required\")","v":35080},{"$f":"IF(INTRO!$E$43=\"Endemic\", IF($K98>1, IF($K98=4, \"Unknown\", IF($K98=99, \"Surveillance\", F98)), 0),\"Not required\")","v":95466},{"$f":"IF(INTRO!$E$43=\"Endemic\", IF($K98>1, IF($K98=4, \"Unknown\", IF($K98=99, \"Surveillance\", G98)), 0),\"Not required\")","v":187983},{"$f":"IF(INTRO!$E$43=\"Endemic\", IF($K98>1, IF($K98=4, \"Unknown\", IF($K98=99, \"Surveillance\", SUM($S98:$U98))), 0),\"Not required\")","v":318529},0,1,0,1]
[{"$f":"IF(INTRO!$E$33<>0,INTRO!$E$33, \" \")","v":"Angola"},"HUILA","QUILENGUES",98312.344818999991,{"$f":"IF(INTRO!$E$48=\"\",\"\",ROUND($D99*INTRO!$E$48,0))","v":13410},{"$f":"IF(INTRO!$E$49=\"\",\"\",ROUND($D99*INTRO!$E$49,0))","v":27370},{"$f":"IF(INTRO!$E$50=\"\",\"\",ROUND($D99*INTRO!$E$50,0))","v":53895},0,1,0,3,0,{"$f":"IF(INTRO!$E$37=\"Endemic\",IF($H99>0,IF($H99=4,\"Unknown\",IF($H99=99,\"Stopped\",$D99)),0),\"Not required\")","v":0},{"$f":"IF(INTRO!$E$39=\"Endemic\", IF($I99>0, IF($I99=4,\"Unknown\",IF($I99=99,\"Stopped\",$D99)), 0),\"Not required\")","v":98312.344818999991},{"$f":"IF(INTRO!$E$41=\"Endemic\", IF($J99>1, IF($J99=4, \"Unknown\", IF($J99=99, \"Surveillance\", E99)), 0),\"Not required\")","v":0},{"$f":"IF(INTRO!$E$41=\"Endemic\", IF($J99>1, IF($J99=4, \"Unknown\", IF($J99=99, \"Surveillance\", F99)), 0),\"Not required\")","v":0},{"$f":"IF(INTRO!$E$41=\"Endemic\", IF($J99>1, IF($J99=4, \"Unknown\", IF($J99=99, \"Surveillance\", ROUND(D99*INTRO!$E$51,0))), 0),\"Not required\")","v":0},{"$f":"IF(INTRO!$E$41=\"Endemic\", IF($J99>1, IF($J99=4, \"Unknown\", IF($J99=99, \"Surveillance\", SUM($O99:$Q99))), 0),\"Not required\")","v":0},{"$f":"IF(INTRO!$E$43=\"Endemic\", IF($K99>1, IF($K99=4, \"Unknown\", IF($K99=99, \"Surveillance\", ROUND(E99*0.75,0))), 0),\"Not required\")","v":10058},{"$f":"IF(INTRO!$E$43=\"Endemic\", IF($K99>1, IF($K99=4, \"Unknown\", IF($K99=99, \"Surveillance\", F99)), 0),\"Not required\")","v":27370},{"$f":"IF(INTRO!$E$43=\"Endemic\", IF($K99>1, IF($K99=4, \"Unknown\", IF($K99=99, \"Surveillance\", G99)), 0),\"Not required\")","v":53895},{"$f":"IF(INTRO!$E$43=\"Endemic\", IF($K99>1, IF($K99=4, \"Unknown\", IF($K99=99, \"Surveillance\", SUM($S99:$U99))), 0),\"Not required\")","v":91323},0,1,0,1]
[{"$f":"IF(INTRO!$E$33<>0,INTRO!$E$33, \" \")","v":"Angola"},"HUILA","QUIPUNGO",207390.30854099995,{"$f":"IF(INTRO!$E$48=\"\",\"\",ROUND($D100*INTRO!$E$48,0))","v":28288},{"$f":"IF(INTRO!$E$49=\"\",\"\",ROUND($D100*INTRO!$E$49,0))","v":57737},{"$f":"IF(INTRO!$E$50=\"\",\"\",ROUND($D100*INTRO!$E$50,0))","v":113691},0,1,1,3,0,{"$f":"IF(INTRO!$E$37=\"Endemic\",IF($H100>0,IF($H100=4,\"Unknown\",IF($H100=99,\"Stopped\",$D100)),0),\"Not required\")","v":0},{"$f":"IF(INTRO!$E$39=\"Endemic\", IF($I100>0, IF($I100=4,\"Unknown\",IF($I100=99,\"Stopped\",$D100)), 0),\"Not required\")","v":207390.30854099995},{"$f":"IF(INTRO!$E$41=\"Endemic\", IF($J100>1, IF($J100=4, \"Unknown\", IF($J100=99, \"Surveillance\", E100)), 0),\"Not required\")","v":0},{"$f":"IF(INTRO!$E$41=\"Endemic\", IF($J100>1, IF($J100=4, \"Unknown\", IF($J100=99, \"Surveillance\", F100)), 0),\"Not required\")","v":0},{"$f":"IF(INTRO!$E$41=\"Endemic\", IF($J100>1, IF($J100=4, \"Unknown\", IF($J100=99, \"Surveillance\", ROUND(D100*INTRO!$E$51,0))), 0),\"Not required\")","v":0},{"$f":"IF(INTRO!$E$41=\"Endemic\", IF($J100>1, IF($J100=4, \"Unknown\", IF($J100=99, \"Surveillance\", SUM($O100:$Q100))), 0),\"Not required\")","v":0},{"$f":"IF(INTRO!$E$43=\"Endemic\", IF($K100>1, IF($K100=4, \"Unknown\", IF($K100=99, \"Surveillance\", ROUND(E100*0.75,0))), 0),\"Not required\")","v":21216},{"$f":"IF(INTRO!$E$43=\"Endemic\", IF($K100>1, IF($K100=4, \"Unknown\", IF($K100=99, \"Surveillance\", F100)), 0),\"Not required\")","v":57737},{"$f":"IF(INTRO!$E$43=\"Endemic\", IF($K100>1, IF($K100=4, \"Unknown\", IF($K100=99, \"Surveillance\", G100)), 0),\"Not required\")","v":113691},{"$f":"IF(INTRO!$E$43=\"Endemic\", IF($K100>1, IF($K100=4, \"Unknown\", IF($K100=99, \"Surveillance\", SUM($S100:$U100))), 0),\"Not required\")","v":192644},0,1,0,1]
[{"$f":"IF(INTRO!$E$33<>0,INTRO!$E$33, \" \")","v":"Angola"},"LUANDA","BELAS",367641.61388499994,{"$f":"IF(INTRO!$E$48=\"\",\"\",ROUND($D101*INTRO!$E$48,0))","v":50146},{"$f":"IF(INTRO!$E$49=\"\",\"\",ROUND($D101*INTRO!$E$49,0))","v":102351},{"$f":"IF(INTRO!$E$50=\"\",\"\",ROUND($D101*INTRO!$E$50,0))","v":201541},0,4,1,2,1,{"$f":"IF(INTRO!$E$37=\"Endemic\",IF($H101>0,IF($H101=4,\"Unknown\",IF($H101=99,\"Stopped\",$D101)),0),\"Not required\")","v":0},{"$f":"IF(INTRO!$E$39=\"Endemic\", IF($I101>0, IF($I101=4,\"Unknown\",IF($I101=99,\"Stopped\",$D101)), 0),\"Not required\")","v":"Unknown"},{"$f":"IF(INTRO!$E$41=\"Endemic\", IF($J101>1, IF($J101=4, \"Unknown\", IF($J101=99, \"Surveillance\", E101)), 0),\"Not required\")","v":0},{"$f":"IF(INTRO!$E$41=\"Endemic\", IF($J101>1, IF($J101=4, \"Unknown\", IF($J101=99, \"Surveillance\", F101)), 0),\"Not required\")","v":0},{"$f":"IF(INTRO!$E$41=\"Endemic\", IF($J101>1, IF($J101=4, \"Unknown\", IF($J101=99, \"Surveillance\", ROUND(D101*INTRO!$E$51,0))), 0),\"Not required\")","v":0},{"$f":"IF(INTRO!$E$41=\"Endemic\", IF($J101>1, IF($J101=4, \"Unknown\", IF($J101=99, \"Surveillance\", SUM($O101:$Q101))), 0),\"Not required\")","v":0},{"$f":"IF(INTRO!$E$43=\"Endemic\", IF($K101>1, IF($K101=4, \"Unknown\", IF($K101=99, \"Surveillance\", ROUND(E101*0.75,0))), 0),\"Not required\")","v":37610},{"$f":"IF(INTRO!$E$43=\"Endemic\", IF($K101>1, IF($K101=4, \"Unknown\", IF($K101=99, \"Surveillance\", F101)), 0),\"Not required\")","v":102351},{"$f":"IF(INTRO!$E$43=\"Endemic\", IF($K101>1, IF($K101=4, \"Unknown\", IF($K101=99, \"Surveillance\", G101)), 0),\"Not required\")","v":201541},{"$f":"IF(INTRO!$E$43=\"Endemic\", IF($K101>1, IF($K101=4, \"Unknown\", IF($K101=99, \"Surveillance\", SUM($S101:$U101))), 0),\"Not required\")","v":341502},0,0,0,1]
[{"$f":"IF(INTRO!$E$33<>0,INTRO!$E$33, \" \")","v":"Angola"},"LUANDA","CACUACO",1176678.8764379998,{"$f":"IF(INTRO!$E$48=\"\",\"\",ROUND($D102*INTRO!$E$48,0))","v":160499},{"$f":"IF(INTRO!$E$49=\"\",\"\",ROUND($D102*INTRO!$E$49,0))","v":327587},{"$f":"IF(INTRO!$E$50=\"\",\"\",ROUND($D102*INTRO!$E$50,0))","v":645055},0,4,0,2,1,{"$f":"IF(INTRO!$E$37=\"Endemic\",IF($H102>0,IF($H102=4,\"Unknown\",IF($H102=99,\"Stopped\",$D102)),0),\"Not required\")","v":0},{"$f":"IF(INTRO!$E$39=\"Endemic\", IF($I102>0, IF($I102=4,\"Unknown\",IF($I102=99,\"Stopped\",$D102)), 0),\"Not required\")","v":"Unknown"},{"$f":"IF(INTRO!$E$41=\"Endemic\", IF($J102>1, IF($J102=4, \"Unknown\", IF($J102=99, \"Surveillance\", E102)), 0),\"Not required\")","v":0},{"$f":"IF(INTRO!$E$41=\"Endemic\", IF($J102>1, IF($J102=4, \"Unknown\", IF($J102=99, \"Surveillance\", F102)), 0),\"Not required\")","v":0},{"$f":"IF(INTRO!$E$41=\"Endemic\", IF($J102>1, IF($J102=4, \"Unknown\", IF($J102=99, \"Surveillance\", ROUND(D102*INTRO!$E$51,0))), 0),\"Not required\")","v":0},{"$f":"IF(INTRO!$E$41=\"Endemic\", IF($J102>1, IF($J102=4, \"Unknown\", IF($J102=99, \"Surveillance\", SUM($O102:$Q102))), 0),\"Not required\")","v":0},{"$f":"IF(INTRO!$E$43=\"Endemic\", IF($K102>1, IF($K102=4, \"Unknown\", IF($K102=99, \"Surveillance\", ROUND(E102*0.75,0))), 0),\"Not required\")","v":120374},{"$f":"IF(INTRO!$E$43=\"Endemic\", IF($K102>1, IF($K102=4, \"Unknown\", IF($K102=99, \"Surveillance\", F102)), 0),\"Not required\")","v":327587},{"$f":"IF(INTRO!$E$43=\"Endemic\", IF($K102>1, IF($K102=4, \"Unknown\", IF($K102=99, \"Surveillance\", G102)), 0),\"Not required\")","v":645055},{"$f":"IF(INTRO!$E$43=\"Endemic\", IF($K102>1, IF($K102=4, \"Unknown\", IF($K102=99, \"Surveillance\", SUM($S102:$U102))), 0),\"Not required\")","v":1093016},0,0,0,1]
[{"$f":"IF(INTRO!$E$33<>0,INTRO!$E$33, \" \")","v":"Angola"},"LUANDA","CAZENGA",1522574.0878009996,{"$f":"IF(INTRO!$E$48=\"\",\"\",ROUND($D103*INTRO!$E$48,0))","v":207679},{"$f":"IF(INTRO!$E$49=\"\",\"\",ROUND($D103*INTRO!$E$49,0))","v":423885},{"$f":"IF(INTRO!$E$50=\"\",\"\",ROUND($D103*INTRO!$E$50,0))","v":834675},0,4,1,1,1,{"$f":"IF(INTRO!$E$37=\"Endemic\",IF($H103>0,IF($H103=4,\"Unknown\",IF($H103=99,\"Stopped\",$D103)),0),\"Not required\")","v":0},{"$f":"IF(INTRO!$E$39=\"Endemic\", IF($I103>0, IF($I103=4,\"Unknown\",IF($I103=99,\"Stopped\",$D103)), 0),\"Not required\")","v":"Unknown"},{"$f":"IF(INTRO!$E$41=\"Endemic\", IF($J103>1, IF($J103=4, \"Unknown\", IF($J103=99, \"Surveillance\", E103)), 0),\"Not required\")","v":0},{"$f":"IF(INTRO!$E$41=\"Endemic\", IF($J103>1, IF($J103=4, \"Unknown\", IF($J103=99, \"Surveillance\", F103)), 0),\"Not required\")","v":0},{"$f":"IF(INTRO!$E$41=\"Endemic\", IF($J103>1, IF($J103=4, \"Unknown\", IF($J103=99, \"Surveillance\", ROUND(D103*INTRO!$E$51,0))), 0),\"Not required\")","v":0},{"$f":"IF(INTRO!$E$41=\"Endemic\", IF($J103>1, IF($J103=4, \"Unknown\", IF($J103=99, \"Surveillance\", SUM($O103:$Q103))), 0),\"Not required\")","v":0},{"$f":"IF(INTRO!$E$43=\"Endemic\", IF($K103>1, IF($K103=4, \"Unknown\", IF($K103=99, \"Surveillance\", ROUND(E103*0.75,0))), 0),\"Not required\")","v":0},{"$f":"IF(INTRO!$E$43=\"Endemic\", IF($K103>1, IF($K103=4, \"Unknown\", IF($K103=99, \"Surveillance\", F103)), 0),\"Not required\")","v":0},{"$f":"IF(INTRO!$E$43=\"Endemic\", IF($K103>1, IF($K103=4, \"Unknown\", IF($K103=99, \"Surveillance\", G103)), 0),\"Not required\")","v":0},{"$f":"IF(INTRO!$E$43=\"Endemic\", IF($K103>1, IF($K103=4, \"Unknown\", IF($K103=99, \"Surveillance\", SUM($S103:$U103))), 0),\"Not required\")","v":0},0,0,0,0]
[{"$f":"IF(INTRO!$E$33<>0,INTRO!$E$33, \" \")","v":"Angola"},"LUANDA","ICOLO E BENGO",123900.07035899998,{"$f":"IF(INTRO!$E$48=\"\",\"\",ROUND($D104*INTRO!$E$48,0))","v":16900},{"$f":"IF(INTRO!$E$49=\"\",\"\",ROUND($D104*INTRO!$E$49,0))","v":34494},{"$f":"IF(INTRO!$E$50=\"\",\"\",ROUND($D104*INTRO!$E$50,0))","v":67922},0,4,2,3,0,{"$f":"IF(INTRO!$E$37=\"Endemic\",IF($H104>0,IF($H104=4,\"Unknown\",IF($H104=99,\"Stopped\",$D104)),0),\"Not required\")","v":0},{"$f":"IF(INTRO!$E$39=\"Endemic\", IF($I104>0, IF($I104=4,\"Unknown\",IF($I104=99,\"Stopped\",$D104)), 0),\"Not required\")","v":"Unknown"},{"$f":"IF(INTRO!$E$41=\"Endemic\", IF($J104>1, IF($J104=4, \"Unknown\", IF($J104=99, \"Surveillance\", E104)), 0),\"Not required\")","v":16900},{"$f":"IF(INTRO!$E$41=\"Endemic\", IF($J104>1, IF($J104=4, \"Unknown\", IF($J104=99, \"Surveillance\", F104)), 0),\"Not required\")","v":34494},{"$f":"IF(INTRO!$E$41=\"Endemic\", IF($J104>1, IF($J104=4, \"Unknown\", IF($J104=99, \"Surveillance\", ROUND(D104*INTRO!$E$51,0))), 0),\"Not required\")","v":28633},{"$f":"IF(INTRO!$E$41=\"Endemic\", IF($J104>1, IF($J104=4, \"Unknown\", IF($J104=99, \"Surveillance\", SUM($O104:$Q104))), 0),\"Not required\")","v":80027},{"$f":"IF(INTRO!$E$43=\"Endemic\", IF($K104>1, IF($K104=4, \"Unknown\", IF($K104=99, \"Surveillance\", ROUND(E104*0.75,0))), 0),\"Not required\")","v":12675},{"$f":"IF(INTRO!$E$43=\"Endemic\", IF($K104>1, IF($K104=4, \"Unknown\", IF($K104=99, \"Surveillance\", F104)), 0),\"Not required\")","v":34494},{"$f":"IF(INTRO!$E$43=\"Endemic\", IF($K104>1, IF($K104=4, \"Unknown\", IF($K104=99, \"Surveillance\", G104)), 0),\"Not required\")","v":67922},{"$f":"IF(INTRO!$E$43=\"Endemic\", IF($K104>1, IF($K104=4, \"Unknown\", IF($K104=99, \"Surveillance\", SUM($S104:$U104))), 0),\"Not required\")","v":115091},0,0,1,1]
[{"$f":"IF(INTRO!$E$33<>0,INTRO!$E$33, \" \")","v":"Angola"},"LUANDA","KILAMBA KIAXI",1150789.4984039997,{"$f":"IF(INTRO!$E$48=\"\",\"\",ROUND($D105*INTRO!$E$48,0))","v":156968},{"$f":"IF(INTRO!$E$49=\"\",\"\",ROUND($D105*INTRO!$E$49,0))","v":320380},{"$f":"IF(INTRO!$E$50=\"\",\"\",ROUND($D105*INTRO!$E$50,0))","v":630863},4,4,0,1,0,{"$f":"IF(INTRO!$E$37=\"Endemic\",IF($H105>0,IF($H105=4,\"Unknown\",IF($H105=99,\"Stopped\",$D105)),0),\"Not required\")","v":"Unknown"},{"$f":"IF(INTRO!$E$39=\"Endemic\", IF($I105>0, IF($I105=4,\"Unknown\",IF($I105=99,\"Stopped\",$D105)), 0),\"Not required\")","v":"Unknown"},{"$f":"IF(INTRO!$E$41=\"Endemic\", IF($J105>1, IF($J105=4, \"Unknown\", IF($J105=99, \"Surveillance\", E105)), 0),\"Not required\")","v":0},{"$f":"IF(INTRO!$E$41=\"Endemic\", IF($J105>1, IF($J105=4, \"Unknown\", IF($J105=99, \"Surveillance\", F105)), 0),\"Not required\")","v":0},{"$f":"IF(INTRO!$E$41=\"Endemic\", IF($J105>1, IF($J105=4, \"Unknown\", IF($J105=99, \"Surveillance\", ROUND(D105*INTRO!$E$51,0))), 0),\"Not required\")","v":0},{"$f":"IF(INTRO!$E$41=\"Endemic\", IF($J105>1, IF($J105=4, \"Unknown\", IF($J105=99, \"Surveillance\", SUM($O105:$Q105))), 0),\"Not required\")","v":0},{"$f":"IF(INTRO!$E$43=\"Endemic\", IF($K105>1, IF($K105=4, \"Unknown\", IF($K105=99, \"Surveillance\", ROUND(E105*0.75,0))), 0),\"Not required\")","v":0},{"$f":"IF(INTRO!$E$43=\"Endemic\", IF($K105>1, IF($K105=4, \"Unknown\", IF($K105=99, \"Surveillance\", F105)), 0),\"Not required\")","v":0},{"$f":"IF(INTRO!$E$43=\"Endemic\", IF($K105>1, IF($K105=4, \"Unknown\", IF($K105=99, \"Surveillance\", G105)), 0),\"Not required\")","v":0},{"$f":"IF(INTRO!$E$43=\"Endemic\", IF($K105>1, IF($K105=4, \"Unknown\", IF($K105=99, \"Surveillance\", SUM($S105:$U105))), 0),\"Not required\")","v":0},0,0,0,0]
[{"$f":"IF(INTRO!$E$33<>0,INTRO!$E$33, \" \")","v":"Angola"},"LUANDA","LUANDA",1830469.5227519996,{"$f":"IF(INTRO!$E$48=\"\",\"\",ROUND($D106*INTRO!$E$48,0))","v":249676},{"$f":"IF(INTRO!$E$49=\"\",\"\",ROUND($D106*INTRO!$E$49,0))","v":509603},{"$f":"IF(INTRO!$E$50=\"\",\"\",ROUND($D106*INTRO!$E$50,0))","v":1003463},0,4,2,1,1,{"$f":"IF(INTRO!$E$37=\"Endemic\",IF($H106>0,IF($H106=4,\"Unknown\",IF($H106=99,\"Stopped\",$D106)),0),\"Not required\")","v":0},{"$f":"IF(INTRO!$E$39=\"Endemic\", IF($I106>0, IF($I106=4,\"Unknown\",IF($I106=99,\"Stopped\",$D106)), 0),\"Not required\")","v":"Unknown"},{"$f":"IF(INTRO!$E$41=\"Endemic\", IF($J106>1, IF($J106=4, \"Unknown\", IF($J106=99, \"Surveillance\", E106)), 0),\"Not required\")","v":249676},{"$f":"IF(INTRO!$E$41=\"Endemic\", IF($J106>1, IF($J106=4, \"Unknown\", IF($J106=99, \"Surveillance\", F106)), 0),\"Not required\")","v":509603},{"$f":"IF(INTRO!$E$41=\"Endemic\", IF($J106>1, IF($J106=4, \"Unknown\", IF($J106=99, \"Surveillance\", ROUND(D106*INTRO!$E$51,0))), 0),\"Not required\")","v":423022},{"$f":"IF(INTRO!$E$41=\"Endemic\", IF($J106>1, IF($J106=4, \"Unknown\", IF($J106=99, \"Surveillance\", SUM($O106:$Q106))), 0),\"Not required\")","v":1182301},{"$f":"IF(INTRO!$E$43=\"Endemic\", IF($K106>1, IF($K106=4, \"Unknown\", IF($K106=99, \"Surveillance\", ROUND(E106*0.75,0))), 0),\"Not required\")","v":0},{"$f":"IF(INTRO!$E$43=\"Endemic\", IF($K106>1, IF($K106=4, \"Unknown\", IF($K106=99, \"Surveillance\", F106)), 0),\"Not required\")","v":0},{"$f":"IF(INTRO!$E$43=\"Endemic\", IF($K106>1, IF($K106=4, \"Unknown\", IF($K106=99, \"Surveillance\", G106)), 0),\"Not required\")","v":0},{"$f":"IF(INTRO!$E$43=\"Endemic\", IF($K106>1, IF($K106=4, \"Unknown\", IF($K106=99, \"Surveillance\", SUM($S106:$U106))), 0),\"Not required\")","v":0},0,0,1,0]
[{"$f":"IF(INTRO!$E$33<>0,INTRO!$E$33, \" \")","v":"Angola"},"LUANDA","QUIÇAMA",34562.414600999989,{"$f":"IF(INTRO!$E$48=\"\",\"\",ROUND($D107*INTRO!$E$48,0))","v":4714},{"$f":"IF(INTRO!$E$49=\"\",\"\",ROUND($D107*INTRO!$E$49,0))","v":9622},{"$f":"IF(INTRO!$E$50=\"\",\"\",ROUND($D107*INTRO!$E$50,0))","v":18947},0,4,1,3,0,{"$f":"IF(INTRO!$E$37=\"Endemic\",IF($H107>0,IF($H107=4,\"Unknown\",IF($H107=99,\"Stopped\",$D107)),0),\"Not required\")","v":0},{"$f":"IF(INTRO!$E$39=\"Endemic\", IF($I107>0, IF($I107=4,\"Unknown\",IF($I107=99,\"Stopped\",$D107)), 0),\"Not required\")","v":"Unknown"},{"$f":"IF(INTRO!$E$41=\"Endemic\", IF($J107>1, IF($J107=4, \"Unknown\", IF($J107=99, \"Surveillance\", E107)), 0),\"Not required\")","v":0},{"$f":"IF(INTRO!$E$41=\"Endemic\", IF($J107>1, IF($J107=4, \"Unknown\", IF($J107=99, \"Surveillance\", F107)), 0),\"Not required\")","v":0},{"$f":"IF(INTRO!$E$41=\"Endemic\", IF($J107>1, IF($J107=4, \"Unknown\", IF($J107=99, \"Surveillance\", ROUND(D107*INTRO!$E$51,0))), 0),\"Not required\")","v":0},{"$f":"IF(INTRO!$E$41=\"Endemic\", IF($J107>1, IF($J107=4, \"Unknown\", IF($J107=99, \"Surveillance\", SUM($O107:$Q107))), 0),\"Not required\")","v":0},{"$f":"IF(INTRO!$E$43=\"Endemic\", IF($K107>1, IF($K107=4, \"Unknown\", IF($K107=99, \"Surveillance\", ROUND(E107*0.75,0))), 0),\"Not required\")","v":3536},{"$f":"IF(INTRO!$E$43=\"Endemic\", IF($K107>1, IF($K107=4, \"Unknown\", IF($K107=99, \"Surveillance\", F107)), 0),\"Not required\")","v":9622},{"$f":"IF(INTRO!$E$43=\"Endemic\", IF($K107>1, IF($K107=4, \"Unknown\", IF($K107=99, \"Surveillance\", G107)), 0),\"Not required\")","v":18947},{"$f":"IF(INTRO!$E$43=\"Endemic\", IF($K107>1, IF($K107=4, \"Unknown\", IF($K107=99, \"Surveillance\", SUM($S107:$U107))), 0),\"Not required\")","v":32105},0,0,0,1]
[{"$f":"IF(INTRO!$E$33<>0,INTRO!$E$33, \" \")","v":"Angola"},"LUANDA","TALATONA",970021.6045519996,{"$f":"IF(INTRO!$E$48=\"\",\"\",ROUND($D108*INTRO!$E$48,0))","v":132311},{"$f":"IF(INTRO!$E$49=\"\",\"\",ROUND($D108*INTRO!$E$49,0))","v":270054},{"$f":"IF(INTRO!$E$50=\"\",\"\",ROUND($D108*INTRO!$E$50,0))","v":531766},0,4,1,0,0,{"$f":"IF(INTRO!$E$37=\"Endemic\",IF($H108>0,IF($H108=4,\"Unknown\",IF($H108=99,\"Stopped\",$D108)),0),\"Not required\")","v":0},{"$f":"IF(INTRO!$E$39=\"Endemic\", IF($I108>0, IF($I108=4,\"Unknown\",IF($I108=99,\"Stopped\",$D108)), 0),\"Not required\")","v":"Unknown"},{"$f":"IF(INTRO!$E$41=\"Endemic\", IF($J108>1, IF($J108=4, \"Unknown\", IF($J108=99, \"Surveillance\", E108)), 0),\"Not required\")","v":0},{"$f":"IF(INTRO!$E$41=\"Endemic\", IF($J108>1, IF($J108=4, \"Unknown\", IF($J108=99, \"Surveillance\", F108)), 0),\"Not required\")","v":0},{"$f":"IF(INTRO!$E$41=\"Endemic\", IF($J108>1, IF($J108=4, \"Unknown\", IF($J108=99, \"Surveillance\", ROUND(D108*INTRO!$E$51,0))), 0),\"Not required\")","v":0},{"$f":"IF(INTRO!$E$41=\"Endemic\", IF($J108>1, IF($J108=4, \"Unknown\", IF($J108=99, \"Surveillance\", SUM($O108:$Q108))), 0),\"Not required\")","v":0},{"$f":"IF(INTRO!$E$43=\"Endemic\", IF($K108>1, IF($K108=4, \"Unknown\", IF($K108=99, \"Surveillance\", ROUND(E108*0.75,0))), 0),\"Not required\")","v":0},{"$f":"IF(INTRO!$E$43=\"Endemic\", IF($K108>1, IF($K108=4, \"Unknown\", IF($K108=99, \"Surveillance\", F108)), 0),\"Not required\")","v":0},{"$f":"IF(INTRO!$E$43=\"Endemic\", IF($K108>1, IF($K108=4, \"Unknown\", IF($K108=99, \"Surveillance\", G108)), 0),\"Not required\")","v":0},{"$f":"IF(INTRO!$E$43=\"Endemic\", IF($K108>1, IF($K108=4, \"Unknown\", IF($K108=99, \"Surveillance\", SUM($S108:$U108))), 0),\"Not required\")","v":0},0,0,0,0]
[{"$f":"IF(INTRO!$E$33<>0,INTRO!$E$33, \" \")","v":"Angola"},"LUANDA","VIANA",2106071.2651809999,{"$f":"IF(INTRO!$E$48=\"\",\"\",ROUND($D109*INTRO!$E$48,0))","v":287268},{"$f":"IF(INTRO!$E$49=\"\",\"\",ROUND($D109*INTRO!$E$49,0))","v":586330},{"$f":"IF(INTRO!$E$50=\"\",\"\",ROUND($D109*INTRO!$E$50,0))","v":1154548},0,4,0,2,0,{"$f":"IF(INTRO!$E$37=\"Endemic\",IF($H109>0,IF($H109=4,\"Unknown\",IF($H109=99,\"Stopped\",$D109)),0),\"Not required\")","v":0},{"$f":"IF(INTRO!$E$39=\"Endemic\", IF($I109>0, IF($I109=4,\"Unknown\",IF($I109=99,\"Stopped\",$D109)), 0),\"Not required\")","v":"Unknown"},{"$f":"IF(INTRO!$E$41=\"Endemic\", IF($J109>1, IF($J109=4, \"Unknown\", IF($J109=99, \"Surveillance\", E109)), 0),\"Not required\")","v":0},{"$f":"IF(INTRO!$E$41=\"Endemic\", IF($J109>1, IF($J109=4, \"Unknown\", IF($J109=99, \"Surveillance\", F109)), 0),\"Not required\")","v":0},{"$f":"IF(INTRO!$E$41=\"Endemic\", IF($J109>1, IF($J109=4, \"Unknown\", IF($J109=99, \"Surveillance\", ROUND(D109*INTRO!$E$51,0))), 0),\"Not required\")","v":0},{"$f":"IF(INTRO!$E$41=\"Endemic\", IF($J109>1, IF($J109=4, \"Unknown\", IF($J109=99, \"Surveillance\", SUM($O109:$Q109))), 0),\"Not required\")","v":0},{"$f":"IF(INTRO!$E$43=\"Endemic\", IF($K109>1, IF($K109=4, \"Unknown\", IF($K109=99, \"Surveillance\", ROUND(E109*0.75,0))), 0),\"Not required\")","v":215451},{"$f":"IF(INTRO!$E$43=\"Endemic\", IF($K109>1, IF($K109=4, \"Unknown\", IF($K109=99, \"Surveillance\", F109)), 0),\"Not required\")","v":586330},{"$f":"IF(INTRO!$E$43=\"Endemic\", IF($K109>1, IF($K109=4, \"Unknown\", IF($K109=99, \"Surveillance\", G109)), 0),\"Not required\")","v":1154548},{"$f":"IF(INTRO!$E$43=\"Endemic\", IF($K109>1, IF($K109=4, \"Unknown\", IF($K109=99, \"Surveillance\", SUM($S109:$U109))), 0),\"Not required\")","v":1956329},0,0,0,1]
[{"$f":"IF(INTRO!$E$33<>0,INTRO!$E$33, \" \")","v":"Angola"},"LUNDA NORTE","CAMBULO",155529.28361099996,{"$f":"IF(INTRO!$E$48=\"\",\"\",ROUND($D110*INTRO!$E$48,0))","v":21214},{"$f":"IF(INTRO!$E$49=\"\",\"\",ROUND($D110*INTRO!$E$49,0))","v":43299},{"$f":"IF(INTRO!$E$50=\"\",\"\",ROUND($D110*INTRO!$E$50,0))","v":85261},1,1,3,0,0,{"$f":"IF(INTRO!$E$37=\"Endemic\",IF($H110>0,IF($H110=4,\"Unknown\",IF($H110=99,\"Stopped\",$D110)),0),\"Not required\")","v":155529.28361099996},{"$f":"IF(INTRO!$E$39=\"Endemic\", IF($I110>0, IF($I110=4,\"Unknown\",IF($I110=99,\"Stopped\",$D110)), 0),\"Not required\")","v":155529.28361099996},{"$f":"IF(INTRO!$E$41=\"Endemic\", IF($J110>1, IF($J110=4, \"Unknown\", IF($J110=99, \"Surveillance\", E110)), 0),\"Not required\")","v":21214},{"$f":"IF(INTRO!$E$41=\"Endemic\", IF($J110>1, IF($J110=4, \"Unknown\", IF($J110=99, \"Surveillance\", F110)), 0),\"Not required\")","v":43299},{"$f":"IF(INTRO!$E$41=\"Endemic\", IF($J110>1, IF($J110=4, \"Unknown\", IF($J110=99, \"Surveillance\", ROUND(D110*INTRO!$E$51,0))), 0),\"Not required\")","v":35943},{"$f":"IF(INTRO!$E$41=\"Endemic\", IF($J110>1, IF($J110=4, \"Unknown\", IF($J110=99, \"Surveillance\", SUM($O110:$Q110))), 0),\"Not required\")","v":100456},{"$f":"IF(INTRO!$E$43=\"Endemic\", IF($K110>1, IF($K110=4, \"Unknown\", IF($K110=99, \"Surveillance\", ROUND(E110*0.75,0))), 0),\"Not required\")","v":0},{"$f":"IF(INTRO!$E$43=\"Endemic\", IF($K110>1, IF($K110=4, \"Unknown\", IF($K110=99, \"Surveillance\", F110)), 0),\"Not required\")","v":0},{"$f":"IF(INTRO!$E$43=\"Endemic\", IF($K110>1, IF($K110=4, \"Unknown\", IF($K110=99, \"Surveillance\", G110)), 0),\"Not required\")","v":0},{"$f":"IF(INTRO!$E$43=\"Endemic\", IF($K110>1, IF($K110=4, \"Unknown\", IF($K110=99, \"Surveillance\", SUM($S110:$U110))), 0),\"Not required\")","v":0},1,1,2,0]
[{"$f":"IF(INTRO!$E$33<>0,INTRO!$E$33, \" \")","v":"Angola"},"LUNDA NORTE","CAPENDA CAMULEMBA",75523.870044999989,{"$f":"IF(INTRO!$E$48=\"\",\"\",ROUND($D111*INTRO!$E$48,0))","v":10301},{"$f":"IF(INTRO!$E$49=\"\",\"\",ROUND($D111*INTRO!$E$49,0))","v":21026},{"$f":"IF(INTRO!$E$50=\"\",\"\",ROUND($D111*INTRO!$E$50,0))","v":41402},0,1,3,1,0,{"$f":"IF(INTRO!$E$37=\"Endemic\",IF($H111>0,IF($H111=4,\"Unknown\",IF($H111=99,\"Stopped\",$D111)),0),\"Not required\")","v":0},{"$f":"IF(INTRO!$E$39=\"Endemic\", IF($I111>0, IF($I111=4,\"Unknown\",IF($I111=99,\"Stopped\",$D111)), 0),\"Not required\")","v":75523.870044999989},{"$f":"IF(INTRO!$E$41=\"Endemic\", IF($J111>1, IF($J111=4, \"Unknown\", IF($J111=99, \"Surveillance\", E111)), 0),\"Not required\")","v":10301},{"$f":"IF(INTRO!$E$41=\"Endemic\", IF($J111>1, IF($J111=4, \"Unknown\", IF($J111=99, \"Surveillance\", F111)), 0),\"Not required\")","v":21026},{"$f":"IF(INTRO!$E$41=\"Endemic\", IF($J111>1, IF($J111=4, \"Unknown\", IF($J111=99, \"Surveillance\", ROUND(D111*INTRO!$E$51,0))), 0),\"Not required\")","v":17454},{"$f":"IF(INTRO!$E$41=\"Endemic\", IF($J111>1, IF($J111=4, \"Unknown\", IF($J111=99, \"Surveillance\", SUM($O111:$Q111))), 0),\"Not required\")","v":48781},{"$f":"IF(INTRO!$E$43=\"Endemic\", IF($K111>1, IF($K111=4, \"Unknown\", IF($K111=99, \"Surveillance\", ROUND(E111*0.75,0))), 0),\"Not required\")","v":0},{"$f":"IF(INTRO!$E$43=\"Endemic\", IF($K111>1, IF($K111=4, \"Unknown\", IF($K111=99, \"Surveillance\", F111)), 0),\"Not required\")","v":0},{"$f":"IF(INTRO!$E$43=\"Endemic\", IF($K111>1, IF($K111=4, \"Unknown\", IF($K111=99, \"Surveillance\", G111)), 0),\"Not required\")","v":0},{"$f":"IF(INTRO!$E$43=\"Endemic\", IF($K111>1, IF($K111=4, \"Unknown\", IF($K111=99, \"Surveillance\", SUM($S111:$U111))), 0),\"Not required\")","v":0},0,1,2,0]
[{"$f":"IF(INTRO!$E$33<>0,INTRO!$E$33, \" \")","v":"Angola"},"LUNDA NORTE","CAUNGULA",36360.727545999995,{"$f":"IF(INTRO!$E$48=\"\",\"\",ROUND($D112*INTRO!$E$48,0))","v":4960},{"$f":"IF(INTRO!$E$49=\"\",\"\",ROUND($D112*INTRO!$E$49,0))","v":10123},{"$f":"IF(INTRO!$E$50=\"\",\"\",ROUND($D112*INTRO!$E$50,0))","v":19933},0,1,2,1,0,{"$f":"IF(INTRO!$E$37=\"Endemic\",IF($H112>0,IF($H112=4,\"Unknown\",IF($H112=99,\"Stopped\",$D112)),0),\"Not required\")","v":0},{"$f":"IF(INTRO!$E$39=\"Endemic\", IF($I112>0, IF($I112=4,\"Unknown\",IF($I112=99,\"Stopped\",$D112)), 0),\"Not required\")","v":36360.727545999995},{"$f":"IF(INTRO!$E$41=\"Endemic\", IF($J112>1, IF($J112=4, \"Unknown\", IF($J112=99, \"Surveillance\", E112)), 0),\"Not required\")","v":4960},{"$f":"IF(INTRO!$E$41=\"Endemic\", IF($J112>1, IF($J112=4, \"Unknown\", IF($J112=99, \"Surveillance\", F112)), 0),\"Not required\")","v":10123},{"$f":"IF(INTRO!$E$41=\"Endemic\", IF($J112>1, IF($J112=4, \"Unknown\", IF($J112=99, \"Surveillance\", ROUND(D112*INTRO!$E$51,0))), 0),\"Not required\")","v":8403},{"$f":"IF(INTRO!$E$41=\"Endemic\", IF($J112>1, IF($J112=4, \"Unknown\", IF($J112=99, \"Surveillance\", SUM($O112:$Q112))), 0),\"Not required\")","v":23486},{"$f":"IF(INTRO!$E$43=\"Endemic\", IF($K112>1, IF($K112=4, \"Unknown\", IF($K112=99, \"Surveillance\", ROUND(E112*0.75,0))), 0),\"Not required\")","v":0},{"$f":"IF(INTRO!$E$43=\"Endemic\", IF($K112>1, IF($K112=4, \"Unknown\", IF($K112=99, \"Surveillance\", F112)), 0),\"Not required\")","v":0},{"$f":"IF(INTRO!$E$43=\"Endemic\", IF($K112>1, IF($K112=4, \"Unknown\", IF($K112=99, \"Surveillance\", G112)), 0),\"Not required\")","v":0},{"$f":"IF(INTRO!$E$43=\"Endemic\", IF($K112>1, IF($K112=4, \"Unknown\", IF($K112=99, \"Surveillance\", SUM($S112:$U112))), 0),\"Not required\")","v":0},0,1,1,0]
[{"$f":"IF(INTRO!$E$33<>0,INTRO!$E$33, \" \")","v":"Angola"},"LUNDA NORTE","CHITATO",245124.29324499998,{"$f":"IF(INTRO!$E$48=\"\",\"\",ROUND($D113*INTRO!$E$48,0))","v":33435},{"$f":"IF(INTRO!$E$49=\"\",\"\",ROUND($D113*INTRO!$E$49,0))","v":68243},{"$f":"IF(INTRO!$E$50=\"\",\"\",ROUND($D113*INTRO!$E$50,0))","v":134377},0,1,3,1,0,{"$f":"IF(INTRO!$E$37=\"Endemic\",IF($H113>0,IF($H113=4,\"Unknown\",IF($H113=99,\"Stopped\",$D113)),0),\"Not required\")","v":0},{"$f":"IF(INTRO!$E$39=\"Endemic\", IF($I113>0, IF($I113=4,\"Unknown\",IF($I113=99,\"Stopped\",$D113)), 0),\"Not required\")","v":245124.29324499998},{"$f":"IF(INTRO!$E$41=\"Endemic\", IF($J113>1, IF($J113=4, \"Unknown\", IF($J113=99, \"Surveillance\", E113)), 0),\"Not required\")","v":33435},{"$f":"IF(INTRO!$E$41=\"Endemic\", IF($J113>1, IF($J113=4, \"Unknown\", IF($J113=99, \"Surveillance\", F113)), 0),\"Not required\")","v":68243},{"$f":"IF(INTRO!$E$41=\"Endemic\", IF($J113>1, IF($J113=4, \"Unknown\", IF($J113=99, \"Surveillance\", ROUND(D113*INTRO!$E$51,0))), 0),\"Not required\")","v":56648},{"$f":"IF(INTRO!$E$41=\"Endemic\", IF($J113>1, IF($J113=4, \"Unknown\", IF($J113=99, \"Surveillance\", SUM($O113:$Q113))), 0),\"Not required\")","v":158326},{"$f":"IF(INTRO!$E$43=\"Endemic\", IF($K113>1, IF($K113=4, \"Unknown\", IF($K113=99, \"Surveillance\", ROUND(E113*0.75,0))), 0),\"Not required\")","v":0},{"$f":"IF(INTRO!$E$43=\"Endemic\", IF($K113>1, IF($K113=4, \"Unknown\", IF($K113=99, \"Surveillance\", F113)), 0),\"Not required\")","v":0},{"$f":"IF(INTRO!$E$43=\"Endemic\", IF($K113>1, IF($K113=4, \"Unknown\", IF($K113=99, \"Surveillance\", G113)), 0),\"Not required\")","v":0},{"$f":"IF(INTRO!$E$43=\"Endemic\", IF($K113>1, IF($K113=4, \"Unknown\", IF($K113=99, \"Surveillance\", SUM($S113:$U113))), 0),\"Not required\")","v":0},0,1,2,0]
[{"$f":"IF(INTRO!$E$33<>0,INTRO!$E$33, \" \")","v":"Angola"},"LUNDA NORTE","CUANGO",237994.32520499997,{"$f":"IF(INTRO!$E$48=\"\",\"\",ROUND($D114*INTRO!$E$48,0))","v":32462},{"$f":"IF(INTRO!$E$49=\"\",\"\",ROUND($D114*INTRO!$E$49,0))","v":66258},{"$f":"IF(INTRO!$E$50=\"\",\"\",ROUND($D114*INTRO!$E$50,0))","v":130468},0,4,2,2,0,{"$f":"IF(INTRO!$E$37=\"Endemic\",IF($H114>0,IF($H114=4,\"Unknown\",IF($H114=99,\"Stopped\",$D114)),0),\"Not required\")","v":0},{"$f":"IF(INTRO!$E$39=\"Endemic\", IF($I114>0, IF($I114=4,\"Unknown\",IF($I114=99,\"Stopped\",$D114)), 0),\"Not required\")","v":"Unknown"},{"$f":"IF(INTRO!$E$41=\"Endemic\", IF($J114>1, IF($J114=4, \"Unknown\", IF($J114=99, \"Surveillance\", E114)), 0),\"Not required\")","v":32462},{"$f":"IF(INTRO!$E$41=\"Endemic\", IF($J114>1, IF($J114=4, \"Unknown\", IF($J114=99, \"Surveillance\", F114)), 0),\"Not required\")","v":66258},{"$f":"IF(INTRO!$E$41=\"Endemic\", IF($J114>1, IF($J114=4, \"Unknown\", IF($J114=99, \"Surveillance\", ROUND(D114*INTRO!$E$51,0))), 0),\"Not required\")","v":55000},{"$f":"IF(INTRO!$E$41=\"Endemic\", IF($J114>1, IF($J114=4, \"Unknown\", IF($J114=99, \"Surveillance\", SUM($O114:$Q114))), 0),\"Not required\")","v":153720},{"$f":"IF(INTRO!$E$43=\"Endemic\", IF($K114>1, IF($K114=4, \"Unknown\", IF($K114=99, \"Surveillance\", ROUND(E114*0.75,0))), 0),\"Not required\")","v":24347},{"$f":"IF(INTRO!$E$43=\"Endemic\", IF($K114>1, IF($K114=4, \"Unknown\", IF($K114=99, \"Surveillance\", F114)), 0),\"Not required\")","v":66258},{"$f":"IF(INTRO!$E$43=\"Endemic\", IF($K114>1, IF($K114=4, \"Unknown\", IF($K114=99, \"Surveillance\", G114)), 0),\"Not required\")","v":130468},{"$f":"IF(INTRO!$E$43=\"Endemic\", IF($K114>1, IF($K114=4, \"Unknown\", IF($K114=99, \"Surveillance\", SUM($S114:$U114))), 0),\"Not required\")","v":221073},0,0,1,1]
[{"$f":"IF(INTRO!$E$33<>0,INTRO!$E$33, \" \")","v":"Angola"},"LUNDA NORTE","CUILO",27177.202142999995,{"$f":"IF(INTRO!$E$48=\"\",\"\",ROUND($D115*INTRO!$E$48,0))","v":3707},{"$f":"IF(INTRO!$E$49=\"\",\"\",ROUND($D115*INTRO!$E$49,0))","v":7566},{"$f":"IF(INTRO!$E$50=\"\",\"\",ROUND($D115*INTRO!$E$50,0))","v":14899},1,1,2,0,0,{"$f":"IF(INTRO!$E$37=\"Endemic\",IF($H115>0,IF($H115=4,\"Unknown\",IF($H115=99,\"Stopped\",$D115)),0),\"Not required\")","v":27177.202142999995},{"$f":"IF(INTRO!$E$39=\"Endemic\", IF($I115>0, IF($I115=4,\"Unknown\",IF($I115=99,\"Stopped\",$D115)), 0),\"Not required\")","v":27177.202142999995},{"$f":"IF(INTRO!$E$41=\"Endemic\", IF($J115>1, IF($J115=4, \"Unknown\", IF($J115=99, \"Surveillance\", E115)), 0),\"Not required\")","v":3707},{"$f":"IF(INTRO!$E$41=\"Endemic\", IF($J115>1, IF($J115=4, \"Unknown\", IF($J115=99, \"Surveillance\", F115)), 0),\"Not required\")","v":7566},{"$f":"IF(INTRO!$E$41=\"Endemic\", IF($J115>1, IF($J115=4, \"Unknown\", IF($J115=99, \"Surveillance\", ROUND(D115*INTRO!$E$51,0))), 0),\"Not required\")","v":6281},{"$f":"IF(INTRO!$E$41=\"Endemic\", IF($J115>1, IF($J115=4, \"Unknown\", IF($J115=99, \"Surveillance\", SUM($O115:$Q115))), 0),\"Not required\")","v":17554},{"$f":"IF(INTRO!$E$43=\"Endemic\", IF($K115>1, IF($K115=4, \"Unknown\", IF($K115=99, \"Surveillance\", ROUND(E115*0.75,0))), 0),\"Not required\")","v":0},{"$f":"IF(INTRO!$E$43=\"Endemic\", IF($K115>1, IF($K115=4, \"Unknown\", IF($K115=99, \"Surveillance\", F115)), 0),\"Not required\")","v":0},{"$f":"IF(INTRO!$E$43=\"Endemic\", IF($K115>1, IF($K115=4, \"Unknown\", IF($K115=99, \"Surveillance\", G115)), 0),\"Not required\")","v":0},{"$f":"IF(INTRO!$E$43=\"Endemic\", IF($K115>1, IF($K115=4, \"Unknown\", IF($K115=99, \"Surveillance\", SUM($S115:$U115))), 0),\"Not required\")","v":0},1,1,1,0]
[{"$f":"IF(INTRO!$E$33<>0,INTRO!$E$33, \" \")","v":"Angola"},"LUNDA NORTE","LOVUA",16902.032224999999,{"$f":"IF(INTRO!$E$48=\"\",\"\",ROUND($D116*INTRO!$E$48,0))","v":2305},{"$f":"IF(INTRO!$E$49=\"\",\"\",ROUND($D116*INTRO!$E$49,0))","v":4706},{"$f":"IF(INTRO!$E$50=\"\",\"\",ROUND($D116*INTRO!$E$50,0))","v":9266},0,1,2,0,0,{"$f":"IF(INTRO!$E$37=\"Endemic\",IF($H116>0,IF($H116=4,\"Unknown\",IF($H116=99,\"Stopped\",$D116)),0),\"Not required\")","v":0},{"$f":"IF(INTRO!$E$39=\"Endemic\", IF($I116>0, IF($I116=4,\"Unknown\",IF($I116=99,\"Stopped\",$D116)), 0),\"Not required\")","v":16902.032224999999},{"$f":"IF(INTRO!$E$41=\"Endemic\", IF($J116>1, IF($J116=4, \"Unknown\", IF($J116=99, \"Surveillance\", E116)), 0),\"Not required\")","v":2305},{"$f":"IF(INTRO!$E$41=\"Endemic\", IF($J116>1, IF($J116=4, \"Unknown\", IF($J116=99, \"Surveillance\", F116)), 0),\"Not required\")","v":4706},{"$f":"IF(INTRO!$E$41=\"Endemic\", IF($J116>1, IF($J116=4, \"Unknown\", IF($J116=99, \"Surveillance\", ROUND(D116*INTRO!$E$51,0))), 0),\"Not required\")","v":3906},{"$f":"IF(INTRO!$E$41=\"Endemic\", IF($J116>1, IF($J116=4, \"Unknown\", IF($J116=99, \"Surveillance\", SUM($O116:$Q116))), 0),\"Not required\")","v":10917},{"$f":"IF(INTRO!$E$43=\"Endemic\", IF($K116>1, IF($K116=4, \"Unknown\", IF($K116=99, \"Surveillance\", ROUND(E116*0.75,0))), 0),\"Not required\")","v":0},{"$f":"IF(INTRO!$E$43=\"Endemic\", IF($K116>1, IF($K116=4, \"Unknown\", IF($K116=99, \"Surveillance\", F116)), 0),\"Not required\")","v":0},{"$f":"IF(INTRO!$E$43=\"Endemic\", IF($K116>1, IF($K116=4, \"Unknown\", IF($K116=99, \"Surveillance\", G116)), 0),\"Not required\")","v":0},{"$f":"IF(INTRO!$E$43=\"Endemic\", IF($K116>1, IF($K116=4, \"Unknown\", IF($K116=99, \"Surveillance\", SUM($S116:$U116))), 0),\"Not required\")","v":0},0,1,1,0]
[{"$f":"IF(INTRO!$E$33<>0,INTRO!$E$33, \" \")","v":"Angola"},"LUNDA NORTE","LUBALO",26702.574092999996,{"$f":"IF(INTRO!$E$48=\"\",\"\",ROUND($D117*INTRO!$E$48,0))","v":3642},{"$f":"IF(INTRO!$E$49=\"\",\"\",ROUND($D117*INTRO!$E$49,0))","v":7434},{"$f":"IF(INTRO!$E$50=\"\",\"\",ROUND($D117*INTRO!$E$50,0))","v":14638},0,1,3,1,0,{"$f":"IF(INTRO!$E$37=\"Endemic\",IF($H117>0,IF($H117=4,\"Unknown\",IF($H117=99,\"Stopped\",$D117)),0),\"Not required\")","v":0},{"$f":"IF(INTRO!$E$39=\"Endemic\", IF($I117>0, IF($I117=4,\"Unknown\",IF($I117=99,\"Stopped\",$D117)), 0),\"Not required\")","v":26702.574092999996},{"$f":"IF(INTRO!$E$41=\"Endemic\", IF($J117>1, IF($J117=4, \"Unknown\", IF($J117=99, \"Surveillance\", E117)), 0),\"Not required\")","v":3642},{"$f":"IF(INTRO!$E$41=\"Endemic\", IF($J117>1, IF($J117=4, \"Unknown\", IF($J117=99, \"Surveillance\", F117)), 0),\"Not required\")","v":7434},{"$f":"IF(INTRO!$E$41=\"Endemic\", IF($J117>1, IF($J117=4, \"Unknown\", IF($J117=99, \"Surveillance\", ROUND(D117*INTRO!$E$51,0))), 0),\"Not required\")","v":6171},{"$f":"IF(INTRO!$E$41=\"Endemic\", IF($J117>1, IF($J117=4, \"Unknown\", IF($J117=99, \"Surveillance\", SUM($O117:$Q117))), 0),\"Not required\")","v":17247},{"$f":"IF(INTRO!$E$43=\"Endemic\", IF($K117>1, IF($K117=4, \"Unknown\", IF($K117=99, \"Surveillance\", ROUND(E117*0.75,0))), 0),\"Not required\")","v":0},{"$f":"IF(INTRO!$E$43=\"Endemic\", IF($K117>1, IF($K117=4, \"Unknown\", IF($K117=99, \"Surveillance\", F117)), 0),\"Not required\")","v":0},{"$f":"IF(INTRO!$E$43=\"Endemic\", IF($K117>1, IF($K117=4, \"Unknown\", IF($K117=99, \"Surveillance\", G117)), 0),\"Not required\")","v":0},{"$f":"IF(INTRO!$E$43=\"Endemic\", IF($K117>1, IF($K117=4, \"Unknown\", IF($K117=99, \"Surveillance\", SUM($S117:$U117))), 0),\"Not required\")","v":0},0,1,2,0]
[{"$f":"IF(INTRO!$E$33<>0,INTRO!$E$33, \" \")","v":"Angola"},"LUNDA NORTE","LUCAPA",199819.46377899998,{"$f":"IF(INTRO!$E$48=\"\",\"\",ROUND($D118*INTRO!$E$48,0))","v":27255},{"$f":"IF(INTRO!$E$49=\"\",\"\",ROUND($D118*INTRO!$E$49,0))","v":55630},{"$f":"IF(INTRO!$E$50=\"\",\"\",ROUND($D118*INTRO!$E$50,0))","v":109541},0,1,3,0,0,{"$f":"IF(INTRO!$E$37=\"Endemic\",IF($H118>0,IF($H118=4,\"Unknown\",IF($H118=99,\"Stopped\",$D118)),0),\"Not required\")","v":0},{"$f":"IF(INTRO!$E$39=\"Endemic\", IF($I118>0, IF($I118=4,\"Unknown\",IF($I118=99,\"Stopped\",$D118)), 0),\"Not required\")","v":199819.46377899998},{"$f":"IF(INTRO!$E$41=\"Endemic\", IF($J118>1, IF($J118=4, \"Unknown\", IF($J118=99, \"Surveillance\", E118)), 0),\"Not required\")","v":27255},{"$f":"IF(INTRO!$E$41=\"Endemic\", IF($J118>1, IF($J118=4, \"Unknown\", IF($J118=99, \"Surveillance\", F118)), 0),\"Not required\")","v":55630},{"$f":"IF(INTRO!$E$41=\"Endemic\", IF($J118>1, IF($J118=4, \"Unknown\", IF($J118=99, \"Surveillance\", ROUND(D118*INTRO!$E$51,0))), 0),\"Not required\")","v":46178},{"$f":"IF(INTRO!$E$41=\"Endemic\", IF($J118>1, IF($J118=4, \"Unknown\", IF($J118=99, \"Surveillance\", SUM($O118:$Q118))), 0),\"Not required\")","v":129063},{"$f":"IF(INTRO!$E$43=\"Endemic\", IF($K118>1, IF($K118=4, \"Unknown\", IF($K118=99, \"Surveillance\", ROUND(E118*0.75,0))), 0),\"Not required\")","v":0},{"$f":"IF(INTRO!$E$43=\"Endemic\", IF($K118>1, IF($K118=4, \"Unknown\", IF($K118=99, \"Surveillance\", F118)), 0),\"Not required\")","v":0},{"$f":"IF(INTRO!$E$43=\"Endemic\", IF($K118>1, IF($K118=4, \"Unknown\", IF($K118=99, \"Surveillance\", G118)), 0),\"Not required\")","v":0},{"$f":"IF(INTRO!$E$43=\"Endemic\", IF($K118>1, IF($K118=4, \"Unknown\", IF($K118=99, \"Surveillance\", SUM($S118:$U118))), 0),\"Not required\")","v":0},0,1,2,0]
[{"$f":"IF(INTRO!$E$33<>0,INTRO!$E$33, \" \")","v":"Angola"},"LUNDA NORTE","XA MUTEBA",62261.707598999994,{"$f":"IF(INTRO!$E$48=\"\",\"\",ROUND($D119*INTRO!$E$48,0))","v":8492},{"$f":"IF(INTRO!$E$49=\"\",\"\",ROUND($D119*INTRO!$E$49,0))","v":17334},{"$f":"IF(INTRO!$E$50=\"\",\"\",ROUND($D119*INTRO!$E$50,0))","v":34132},1,4,3,2,0,{"$f":"IF(INTRO!$E$37=\"Endemic\",IF($H119>0,IF($H119=4,\"Unknown\",IF($H119=99,\"Stopped\",$D119)),0),\"Not required\")","v":62261.707598999994},{"$f":"IF(INTRO!$E$39=\"Endemic\", IF($I119>0, IF($I119=4,\"Unknown\",IF($I119=99,\"Stopped\",$D119)), 0),\"Not required\")","v":"Unknown"},{"$f":"IF(INTRO!$E$41=\"Endemic\", IF($J119>1, IF($J119=4, \"Unknown\", IF($J119=99, \"Surveillance\", E119)), 0),\"Not required\")","v":8492},{"$f":"IF(INTRO!$E$41=\"Endemic\", IF($J119>1, IF($J119=4, \"Unknown\", IF($J119=99, \"Surveillance\", F119)), 0),\"Not required\")","v":17334},{"$f":"IF(INTRO!$E$41=\"Endemic\", IF($J119>1, IF($J119=4, \"Unknown\", IF($J119=99, \"Surveillance\", ROUND(D119*INTRO!$E$51,0))), 0),\"Not required\")","v":14389},{"$f":"IF(INTRO!$E$41=\"Endemic\", IF($J119>1, IF($J119=4, \"Unknown\", IF($J119=99, \"Surveillance\", SUM($O119:$Q119))), 0),\"Not required\")","v":40215},{"$f":"IF(INTRO!$E$43=\"Endemic\", IF($K119>1, IF($K119=4, \"Unknown\", IF($K119=99, \"Surveillance\", ROUND(E119*0.75,0))), 0),\"Not required\")","v":6369},{"$f":"IF(INTRO!$E$43=\"Endemic\", IF($K119>1, IF($K119=4, \"Unknown\", IF($K119=99, \"Surveillance\", F119)), 0),\"Not required\")","v":17334},{"$f":"IF(INTRO!$E$43=\"Endemic\", IF($K119>1, IF($K119=4, \"Unknown\", IF($K119=99, \"Surveillance\", G119)), 0),\"Not required\")","v":34132},{"$f":"IF(INTRO!$E$43=\"Endemic\", IF($K119>1, IF($K119=4, \"Unknown\", IF($K119=99, \"Surveillance\", SUM($S119:$U119))), 0),\"Not required\")","v":57835},1,0,2,1]
[{"$f":"IF(INTRO!$E$33<>0,INTRO!$E$33, \" \")","v":"Angola"},"LUNDA SUL","CACOLO",41890.671692999989,{"$f":"IF(INTRO!$E$48=\"\",\"\",ROUND($D120*INTRO!$E$48,0))","v":5714},{"$f":"IF(INTRO!$E$49=\"\",\"\",ROUND($D120*INTRO!$E$49,0))","v":11662},{"$f":"IF(INTRO!$E$50=\"\",\"\",ROUND($D120*INTRO!$E$50,0))","v":22964},1,1,3,3,0,{"$f":"IF(INTRO!$E$37=\"Endemic\",IF($H120>0,IF($H120=4,\"Unknown\",IF($H120=99,\"Stopped\",$D120)),0),\"Not required\")","v":41890.671692999989},{"$f":"IF(INTRO!$E$39=\"Endemic\", IF($I120>0, IF($I120=4,\"Unknown\",IF($I120=99,\"Stopped\",$D120)), 0),\"Not required\")","v":41890.671692999989},{"$f":"IF(INTRO!$E$41=\"Endemic\", IF($J120>1, IF($J120=4, \"Unknown\", IF($J120=99, \"Surveillance\", E120)), 0),\"Not required\")","v":5714},{"$f":"IF(INTRO!$E$41=\"Endemic\", IF($J120>1, IF($J120=4, \"Unknown\", IF($J120=99, \"Surveillance\", F120)), 0),\"Not required\")","v":11662},{"$f":"IF(INTRO!$E$41=\"Endemic\", IF($J120>1, IF($J120=4, \"Unknown\", IF($J120=99, \"Surveillance\", ROUND(D120*INTRO!$E$51,0))), 0),\"Not required\")","v":9681},{"$f":"IF(INTRO!$E$41=\"Endemic\", IF($J120>1, IF($J120=4, \"Unknown\", IF($J120=99, \"Surveillance\", SUM($O120:$Q120))), 0),\"Not required\")","v":27057},{"$f":"IF(INTRO!$E$43=\"Endemic\", IF($K120>1, IF($K120=4, \"Unknown\", IF($K120=99, \"Surveillance\", ROUND(E120*0.75,0))), 0),\"Not required\")","v":4286},{"$f":"IF(INTRO!$E$43=\"Endemic\", IF($K120>1, IF($K120=4, \"Unknown\", IF($K120=99, \"Surveillance\", F120)), 0),\"Not required\")","v":11662},{"$f":"IF(INTRO!$E$43=\"Endemic\", IF($K120>1, IF($K120=4, \"Unknown\", IF($K120=99, \"Surveillance\", G120)), 0),\"Not required\")","v":22964},{"$f":"IF(INTRO!$E$43=\"Endemic\", IF($K120>1, IF($K120=4, \"Unknown\", IF($K120=99, \"Surveillance\", SUM($S120:$U120))), 0),\"Not required\")","v":38912},1,1,2,1]
[{"$f":"IF(INTRO!$E$33<>0,INTRO!$E$33, \" \")","v":"Angola"},"LUNDA SUL","DALA",39389.909233999992,{"$f":"IF(INTRO!$E$48=\"\",\"\",ROUND($D121*INTRO!$E$48,0))","v":5373},{"$f":"IF(INTRO!$E$49=\"\",\"\",ROUND($D121*INTRO!$E$49,0))","v":10966},{"$f":"IF(INTRO!$E$50=\"\",\"\",ROUND($D121*INTRO!$E$50,0))","v":21594},0,1,2,0,1,{"$f":"IF(INTRO!$E$37=\"Endemic\",IF($H121>0,IF($H121=4,\"Unknown\",IF($H121=99,\"Stopped\",$D121)),0),\"Not required\")","v":0},{"$f":"IF(INTRO!$E$39=\"Endemic\", IF($I121>0, IF($I121=4,\"Unknown\",IF($I121=99,\"Stopped\",$D121)), 0),\"Not required\")","v":39389.909233999992},{"$f":"IF(INTRO!$E$41=\"Endemic\", IF($J121>1, IF($J121=4, \"Unknown\", IF($J121=99, \"Surveillance\", E121)), 0),\"Not required\")","v":5373},{"$f":"IF(INTRO!$E$41=\"Endemic\", IF($J121>1, IF($J121=4, \"Unknown\", IF($J121=99, \"Surveillance\", F121)), 0),\"Not required\")","v":10966},{"$f":"IF(INTRO!$E$41=\"Endemic\", IF($J121>1, IF($J121=4, \"Unknown\", IF($J121=99, \"Surveillance\", ROUND(D121*INTRO!$E$51,0))), 0),\"Not required\")","v":9103},{"$f":"IF(INTRO!$E$41=\"Endemic\", IF($J121>1, IF($J121=4, \"Unknown\", IF($J121=99, \"Surveillance\", SUM($O121:$Q121))), 0),\"Not required\")","v":25442},{"$f":"IF(INTRO!$E$43=\"Endemic\", IF($K121>1, IF($K121=4, \"Unknown\", IF($K121=99, \"Surveillance\", ROUND(E121*0.75,0))), 0),\"Not required\")","v":0},{"$f":"IF(INTRO!$E$43=\"Endemic\", IF($K121>1, IF($K121=4, \"Unknown\", IF($K121=99, \"Surveillance\", F121)), 0),\"Not required\")","v":0},{"$f":"IF(INTRO!$E$43=\"Endemic\", IF($K121>1, IF($K121=4, \"Unknown\", IF($K121=99, \"Surveillance\", G121)), 0),\"Not required\")","v":0},{"$f":"IF(INTRO!$E$43=\"Endemic\", IF($K121>1, IF($K121=4, \"Unknown\", IF($K121=99, \"Surveillance\", SUM($S121:$U121))), 0),\"Not required\")","v":0},0,1,1,0]
[{"$f":"IF(INTRO!$E$33<>0,INTRO!$E$33, \" \")","v":"Angola"},"LUNDA SUL","MUCONDA",43686.875179999995,{"$f":"IF(INTRO!$E$48=\"\",\"\",ROUND($D122*INTRO!$E$48,0))","v":5959},{"$f":"IF(INTRO!$E$49=\"\",\"\",ROUND($D122*INTRO!$E$49,0))","v":12162},{"$f":"IF(INTRO!$E$50=\"\",\"\",ROUND($D122*INTRO!$E$50,0))","v":23949},0,1,3,1,0,{"$f":"IF(INTRO!$E$37=\"Endemic\",IF($H122>0,IF($H122=4,\"Unknown\",IF($H122=99,\"Stopped\",$D122)),0),\"Not required\")","v":0},{"$f":"IF(INTRO!$E$39=\"Endemic\", IF($I122>0, IF($I122=4,\"Unknown\",IF($I122=99,\"Stopped\",$D122)), 0),\"Not required\")","v":43686.875179999995},{"$f":"IF(INTRO!$E$41=\"Endemic\", IF($J122>1, IF($J122=4, \"Unknown\", IF($J122=99, \"Surveillance\", E122)), 0),\"Not required\")","v":5959},{"$f":"IF(INTRO!$E$41=\"Endemic\", IF($J122>1, IF($J122=4, \"Unknown\", IF($J122=99, \"Surveillance\", F122)), 0),\"Not required\")","v":12162},{"$f":"IF(INTRO!$E$41=\"Endemic\", IF($J122>1, IF($J122=4, \"Unknown\", IF($J122=99, \"Surveillance\", ROUND(D122*INTRO!$E$51,0))), 0),\"Not required\")","v":10096},{"$f":"IF(INTRO!$E$41=\"Endemic\", IF($J122>1, IF($J122=4, \"Unknown\", IF($J122=99, \"Surveillance\", SUM($O122:$Q122))), 0),\"Not required\")","v":28217},{"$f":"IF(INTRO!$E$43=\"Endemic\", IF($K122>1, IF($K122=4, \"Unknown\", IF($K122=99, \"Surveillance\", ROUND(E122*0.75,0))), 0),\"Not required\")","v":0},{"$f":"IF(INTRO!$E$43=\"Endemic\", IF($K122>1, IF($K122=4, \"Unknown\", IF($K122=99, \"Surveillance\", F122)), 0),\"Not required\")","v":0},{"$f":"IF(INTRO!$E$43=\"Endemic\", IF($K122>1, IF($K122=4, \"Unknown\", IF($K122=99, \"Surveillance\", G122)), 0),\"Not required\")","v":0},{"$f":"IF(INTRO!$E$43=\"Endemic\", IF($K122>1, IF($K122=4, \"Unknown\", IF($K122=99, \"Surveillance\", SUM($S122:$U122))), 0),\"Not required\")","v":0},0,1,2,0]
[{"$f":"IF(INTRO!$E$33<>0,INTRO!$E$33, \" \")","v":"Angola"},"LUNDA SUL","SAURIMO",581081.84797,{"$f":"IF(INTRO!$E$48=\"\",\"\",ROUND($D123*INTRO!$E$48,0))","v":79260},{"$f":"IF(INTRO!$E$49=\"\",\"\",ROUND($D123*INTRO!$E$49,0))","v":161773},{"$f":"IF(INTRO!$E$50=\"\",\"\",ROUND($D123*INTRO!$E$50,0))","v":318549},1,1,3,0,0,{"$f":"IF(INTRO!$E$37=\"Endemic\",IF($H123>0,IF($H123=4,\"Unknown\",IF($H123=99,\"Stopped\",$D123)),0),\"Not required\")","v":581081.84797},{"$f":"IF(INTRO!$E$39=\"Endemic\", IF($I123>0, IF($I123=4,\"Unknown\",IF($I123=99,\"Stopped\",$D123)), 0),\"Not required\")","v":581081.84797},{"$f":"IF(INTRO!$E$41=\"Endemic\", IF($J123>1, IF($J123=4, \"Unknown\", IF($J123=99, \"Surveillance\", E123)), 0),\"Not required\")","v":79260},{"$f":"IF(INTRO!$E$41=\"Endemic\", IF($J123>1, IF($J123=4, \"Unknown\", IF($J123=99, \"Surveillance\", F123)), 0),\"Not required\")","v":161773},{"$f":"IF(INTRO!$E$41=\"Endemic\", IF($J123>1, IF($J123=4, \"Unknown\", IF($J123=99, \"Surveillance\", ROUND(D123*INTRO!$E$51,0))), 0),\"Not required\")","v":134288},{"$f":"IF(INTRO!$E$41=\"Endemic\", IF($J123>1, IF($J123=4, \"Unknown\", IF($J123=99, \"Surveillance\", SUM($O123:$Q123))), 0),\"Not required\")","v":375321},{"$f":"IF(INTRO!$E$43=\"Endemic\", IF($K123>1, IF($K123=4, \"Unknown\", IF($K123=99, \"Surveillance\", ROUND(E123*0.75,0))), 0),\"Not required\")","v":0},{"$f":"IF(INTRO!$E$43=\"Endemic\", IF($K123>1, IF($K123=4, \"Unknown\", IF($K123=99, \"Surveillance\", F123)), 0),\"Not required\")","v":0},{"$f":"IF(INTRO!$E$43=\"Endemic\", IF($K123>1, IF($K123=4, \"Unknown\", IF($K123=99, \"Surveillance\", G123)), 0),\"Not required\")","v":0},{"$f":"IF(INTRO!$E$43=\"Endemic\", IF($K123>1, IF($K123=4, \"Unknown\", IF($K123=99, \"Surveillance\", SUM($S123:$U123))), 0),\"Not required\")","v":0},1,1,2,0]
[{"$f":"IF(INTRO!$E$33<>0,INTRO!$E$33, \" \")","v":"Angola"},"MALANJE","CACULAMA (Mukari)",38999.659503999988,{"$f":"IF(INTRO!$E$48=\"\",\"\",ROUND($D124*INTRO!$E$48,0))","v":5320},{"$f":"IF(INTRO!$E$49=\"\",\"\",ROUND($D124*INTRO!$E$49,0))","v":10858},{"$f":"IF(INTRO!$E$50=\"\",\"\",ROUND($D124*INTRO!$E$50,0))","v":21380},1,4,3,2,0,{"$f":"IF(INTRO!$E$37=\"Endemic\",IF($H124>0,IF($H124=4,\"Unknown\",IF($H124=99,\"Stopped\",$D124)),0),\"Not required\")","v":38999.659503999988},{"$f":"IF(INTRO!$E$39=\"Endemic\", IF($I124>0, IF($I124=4,\"Unknown\",IF($I124=99,\"Stopped\",$D124)), 0),\"Not required\")","v":"Unknown"},{"$f":"IF(INTRO!$E$41=\"Endemic\", IF($J124>1, IF($J124=4, \"Unknown\", IF($J124=99, \"Surveillance\", E124)), 0),\"Not required\")","v":5320},{"$f":"IF(INTRO!$E$41=\"Endemic\", IF($J124>1, IF($J124=4, \"Unknown\", IF($J124=99, \"Surveillance\", F124)), 0),\"Not required\")","v":10858},{"$f":"IF(INTRO!$E$41=\"Endemic\", IF($J124>1, IF($J124=4, \"Unknown\", IF($J124=99, \"Surveillance\", ROUND(D124*INTRO!$E$51,0))), 0),\"Not required\")","v":9013},{"$f":"IF(INTRO!$E$41=\"Endemic\", IF($J124>1, IF($J124=4, \"Unknown\", IF($J124=99, \"Surveillance\", SUM($O124:$Q124))), 0),\"Not required\")","v":25191},{"$f":"IF(INTRO!$E$43=\"Endemic\", IF($K124>1, IF($K124=4, \"Unknown\", IF($K124=99, \"Surveillance\", ROUND(E124*0.75,0))), 0),\"Not required\")","v":3990},{"$f":"IF(INTRO!$E$43=\"Endemic\", IF($K124>1, IF($K124=4, \"Unknown\", IF($K124=99, \"Surveillance\", F124)), 0),\"Not required\")","v":10858},{"$f":"IF(INTRO!$E$43=\"Endemic\", IF($K124>1, IF($K124=4, \"Unknown\", IF($K124=99, \"Surveillance\", G124)), 0),\"Not required\")","v":21380},{"$f":"IF(INTRO!$E$43=\"Endemic\", IF($K124>1, IF($K124=4, \"Unknown\", IF($K124=99, \"Surveillance\", SUM($S124:$U124))), 0),\"Not required\")","v":36228},1,0,2,1]
[{"$f":"IF(INTRO!$E$33<>0,INTRO!$E$33, \" \")","v":"Angola"},"MALANJE","CACUSO",92585.166349000006,{"$f":"IF(INTRO!$E$48=\"\",\"\",ROUND($D125*INTRO!$E$48,0))","v":12629},{"$f":"IF(INTRO!$E$49=\"\",\"\",ROUND($D125*INTRO!$E$49,0))","v":25776},{"$f":"IF(INTRO!$E$50=\"\",\"\",ROUND($D125*INTRO!$E$50,0))","v":50755},0,4,3,2,0,{"$f":"IF(INTRO!$E$37=\"Endemic\",IF($H125>0,IF($H125=4,\"Unknown\",IF($H125=99,\"Stopped\",$D125)),0),\"Not required\")","v":0},{"$f":"IF(INTRO!$E$39=\"Endemic\", IF($I125>0, IF($I125=4,\"Unknown\",IF($I125=99,\"Stopped\",$D125)), 0),\"Not required\")","v":"Unknown"},{"$f":"IF(INTRO!$E$41=\"Endemic\", IF($J125>1, IF($J125=4, \"Unknown\", IF($J125=99, \"Surveillance\", E125)), 0),\"Not required\")","v":12629},{"$f":"IF(INTRO!$E$41=\"Endemic\", IF($J125>1, IF($J125=4, \"Unknown\", IF($J125=99, \"Surveillance\", F125)), 0),\"Not required\")","v":25776},{"$f":"IF(INTRO!$E$41=\"Endemic\", IF($J125>1, IF($J125=4, \"Unknown\", IF($J125=99, \"Surveillance\", ROUND(D125*INTRO!$E$51,0))), 0),\"Not required\")","v":21396},{"$f":"IF(INTRO!$E$41=\"Endemic\", IF($J125>1, IF($J125=4, \"Unknown\", IF($J125=99, \"Surveillance\", SUM($O125:$Q125))), 0),\"Not required\")","v":59801},{"$f":"IF(INTRO!$E$43=\"Endemic\", IF($K125>1, IF($K125=4, \"Unknown\", IF($K125=99, \"Surveillance\", ROUND(E125*0.75,0))), 0),\"Not required\")","v":9472},{"$f":"IF(INTRO!$E$43=\"Endemic\", IF($K125>1, IF($K125=4, \"Unknown\", IF($K125=99, \"Surveillance\", F125)), 0),\"Not required\")","v":25776},{"$f":"IF(INTRO!$E$43=\"Endemic\", IF($K125>1, IF($K125=4, \"Unknown\", IF($K125=99, \"Surveillance\", G125)), 0),\"Not required\")","v":50755},{"$f":"IF(INTRO!$E$43=\"Endemic\", IF($K125>1, IF($K125=4, \"Unknown\", IF($K125=99, \"Surveillance\", SUM($S125:$U125))), 0),\"Not required\")","v":86003},0,0,2,1]
[{"$f":"IF(INTRO!$E$33<>0,INTRO!$E$33, \" \")","v":"Angola"},"MALANJE","CAHOMBO",27859.611805999994,{"$f":"IF(INTRO!$E$48=\"\",\"\",ROUND($D126*INTRO!$E$48,0))","v":3800},{"$f":"IF(INTRO!$E$49=\"\",\"\",ROUND($D126*INTRO!$E$49,0))","v":7756},{"$f":"IF(INTRO!$E$50=\"\",\"\",ROUND($D126*INTRO!$E$50,0))","v":15273},0,4,2,3,0,{"$f":"IF(INTRO!$E$37=\"Endemic\",IF($H126>0,IF($H126=4,\"Unknown\",IF($H126=99,\"Stopped\",$D126)),0),\"Not required\")","v":0},{"$f":"IF(INTRO!$E$39=\"Endemic\", IF($I126>0, IF($I126=4,\"Unknown\",IF($I126=99,\"Stopped\",$D126)), 0),\"Not required\")","v":"Unknown"},{"$f":"IF(INTRO!$E$41=\"Endemic\", IF($J126>1, IF($J126=4, \"Unknown\", IF($J126=99, \"Surveillance\", E126)), 0),\"Not required\")","v":3800},{"$f":"IF(INTRO!$E$41=\"Endemic\", IF($J126>1, IF($J126=4, \"Unknown\", IF($J126=99, \"Surveillance\", F126)), 0),\"Not required\")","v":7756},{"$f":"IF(INTRO!$E$41=\"Endemic\", IF($J126>1, IF($J126=4, \"Unknown\", IF($J126=99, \"Surveillance\", ROUND(D126*INTRO!$E$51,0))), 0),\"Not required\")","v":6438},{"$f":"IF(INTRO!$E$41=\"Endemic\", IF($J126>1, IF($J126=4, \"Unknown\", IF($J126=99, \"Surveillance\", SUM($O126:$Q126))), 0),\"Not required\")","v":17994},{"$f":"IF(INTRO!$E$43=\"Endemic\", IF($K126>1, IF($K126=4, \"Unknown\", IF($K126=99, \"Surveillance\", ROUND(E126*0.75,0))), 0),\"Not required\")","v":2850},{"$f":"IF(INTRO!$E$43=\"Endemic\", IF($K126>1, IF($K126=4, \"Unknown\", IF($K126=99, \"Surveillance\", F126)), 0),\"Not required\")","v":7756},{"$f":"IF(INTRO!$E$43=\"Endemic\", IF($K126>1, IF($K126=4, \"Unknown\", IF($K126=99, \"Surveillance\", G126)), 0),\"Not required\")","v":15273},{"$f":"IF(INTRO!$E$43=\"Endemic\", IF($K126>1, IF($K126=4, \"Unknown\", IF($K126=99, \"Surveillance\", SUM($S126:$U126))), 0),\"Not required\")","v":25879},0,0,1,1]
[{"$f":"IF(INTRO!$E$33<>0,INTRO!$E$33, \" \")","v":"Angola"},"MALANJE","CALANDULA",104150.26983399999,{"$f":"IF(INTRO!$E$48=\"\",\"\",ROUND($D127*INTRO!$E$48,0))","v":14206},{"$f":"IF(INTRO!$E$49=\"\",\"\",ROUND($D127*INTRO!$E$49,0))","v":28995},{"$f":"IF(INTRO!$E$50=\"\",\"\",ROUND($D127*INTRO!$E$50,0))","v":57095},0,4,3,3,0,{"$f":"IF(INTRO!$E$37=\"Endemic\",IF($H127>0,IF($H127=4,\"Unknown\",IF($H127=99,\"Stopped\",$D127)),0),\"Not required\")","v":0},{"$f":"IF(INTRO!$E$39=\"Endemic\", IF($I127>0, IF($I127=4,\"Unknown\",IF($I127=99,\"Stopped\",$D127)), 0),\"Not required\")","v":"Unknown"},{"$f":"IF(INTRO!$E$41=\"Endemic\", IF($J127>1, IF($J127=4, \"Unknown\", IF($J127=99, \"Surveillance\", E127)), 0),\"Not required\")","v":14206},{"$f":"IF(INTRO!$E$41=\"Endemic\", IF($J127>1, IF($J127=4, \"Unknown\", IF($J127=99, \"Surveillance\", F127)), 0),\"Not required\")","v":28995},{"$f":"IF(INTRO!$E$41=\"Endemic\", IF($J127>1, IF($J127=4, \"Unknown\", IF($J127=99, \"Surveillance\", ROUND(D127*INTRO!$E$51,0))), 0),\"Not required\")","v":24069},{"$f":"IF(INTRO!$E$41=\"Endemic\", IF($J127>1, IF($J127=4, \"Unknown\", IF($J127=99, \"Surveillance\", SUM($O127:$Q127))), 0),\"Not required\")","v":67270},{"$f":"IF(INTRO!$E$43=\"Endemic\", IF($K127>1, IF($K127=4, \"Unknown\", IF($K127=99, \"Surveillance\", ROUND(E127*0.75,0))), 0),\"Not required\")","v":10655},{"$f":"IF(INTRO!$E$43=\"Endemic\", IF($K127>1, IF($K127=4, \"Unknown\", IF($K127=99, \"Surveillance\", F127)), 0),\"Not required\")","v":28995},{"$f":"IF(INTRO!$E$43=\"Endemic\", IF($K127>1, IF($K127=4, \"Unknown\", IF($K127=99, \"Surveillance\", G127)), 0),\"Not required\")","v":57095},{"$f":"IF(INTRO!$E$43=\"Endemic\", IF($K127>1, IF($K127=4, \"Unknown\", IF($K127=99, \"Surveillance\", SUM($S127:$U127))), 0),\"Not required\")","v":96745},0,0,2,1]
[{"$f":"IF(INTRO!$E$33<>0,INTRO!$E$33, \" \")","v":"Angola"},"MALANJE","CAMBUNDI CATEMBO",59981.383500999989,{"$f":"IF(INTRO!$E$48=\"\",\"\",ROUND($D128*INTRO!$E$48,0))","v":8181},{"$f":"IF(INTRO!$E$49=\"\",\"\",ROUND($D128*INTRO!$E$49,0))","v":16699},{"$f":"IF(INTRO!$E$50=\"\",\"\",ROUND($D128*INTRO!$E$50,0))","v":32882},0,4,3,2,0,{"$f":"IF(INTRO!$E$37=\"Endemic\",IF($H128>0,IF($H128=4,\"Unknown\",IF($H128=99,\"Stopped\",$D128)),0),\"Not required\")","v":0},{"$f":"IF(INTRO!$E$39=\"Endemic\", IF($I128>0, IF($I128=4,\"Unknown\",IF($I128=99,\"Stopped\",$D128)), 0),\"Not required\")","v":"Unknown"},{"$f":"IF(INTRO!$E$41=\"Endemic\", IF($J128>1, IF($J128=4, \"Unknown\", IF($J128=99, \"Surveillance\", E128)), 0),\"Not required\")","v":8181},{"$f":"IF(INTRO!$E$41=\"Endemic\", IF($J128>1, IF($J128=4, \"Unknown\", IF($J128=99, \"Surveillance\", F128)), 0),\"Not required\")","v":16699},{"$f":"IF(INTRO!$E$41=\"Endemic\", IF($J128>1, IF($J128=4, \"Unknown\", IF($J128=99, \"Surveillance\", ROUND(D128*INTRO!$E$51,0))), 0),\"Not required\")","v":13862},{"$f":"IF(INTRO!$E$41=\"Endemic\", IF($J128>1, IF($J128=4, \"Unknown\", IF($J128=99, \"Surveillance\", SUM($O128:$Q128))), 0),\"Not required\")","v":38742},{"$f":"IF(INTRO!$E$43=\"Endemic\", IF($K128>1, IF($K128=4, \"Unknown\", IF($K128=99, \"Surveillance\", ROUND(E128*0.75,0))), 0),\"Not required\")","v":6136},{"$f":"IF(INTRO!$E$43=\"Endemic\", IF($K128>1, IF($K128=4, \"Unknown\", IF($K128=99, \"Surveillance\", F128)), 0),\"Not required\")","v":16699},{"$f":"IF(INTRO!$E$43=\"Endemic\", IF($K128>1, IF($K128=4, \"Unknown\", IF($K128=99, \"Surveillance\", G128)), 0),\"Not required\")","v":32882},{"$f":"IF(INTRO!$E$43=\"Endemic\", IF($K128>1, IF($K128=4, \"Unknown\", IF($K128=99, \"Surveillance\", SUM($S128:$U128))), 0),\"Not required\")","v":55717},0,0,2,1]
[{"$f":"IF(INTRO!$E$33<>0,INTRO!$E$33, \" \")","v":"Angola"},"MALANJE","CANGANDALA",58438.314973999986,{"$f":"IF(INTRO!$E$48=\"\",\"\",ROUND($D129*INTRO!$E$48,0))","v":7971},{"$f":"IF(INTRO!$E$49=\"\",\"\",ROUND($D129*INTRO!$E$49,0))","v":16269},{"$f":"IF(INTRO!$E$50=\"\",\"\",ROUND($D129*INTRO!$E$50,0))","v":32036},1,4,2,3,0,{"$f":"IF(INTRO!$E$37=\"Endemic\",IF($H129>0,IF($H129=4,\"Unknown\",IF($H129=99,\"Stopped\",$D129)),0),\"Not required\")","v":58438.314973999986},{"$f":"IF(INTRO!$E$39=\"Endemic\", IF($I129>0, IF($I129=4,\"Unknown\",IF($I129=99,\"Stopped\",$D129)), 0),\"Not required\")","v":"Unknown"},{"$f":"IF(INTRO!$E$41=\"Endemic\", IF($J129>1, IF($J129=4, \"Unknown\", IF($J129=99, \"Surveillance\", E129)), 0),\"Not required\")","v":7971},{"$f":"IF(INTRO!$E$41=\"Endemic\", IF($J129>1, IF($J129=4, \"Unknown\", IF($J129=99, \"Surveillance\", F129)), 0),\"Not required\")","v":16269},{"$f":"IF(INTRO!$E$41=\"Endemic\", IF($J129>1, IF($J129=4, \"Unknown\", IF($J129=99, \"Surveillance\", ROUND(D129*INTRO!$E$51,0))), 0),\"Not required\")","v":13505},{"$f":"IF(INTRO!$E$41=\"Endemic\", IF($J129>1, IF($J129=4, \"Unknown\", IF($J129=99, \"Surveillance\", SUM($O129:$Q129))), 0),\"Not required\")","v":37745},{"$f":"IF(INTRO!$E$43=\"Endemic\", IF($K129>1, IF($K129=4, \"Unknown\", IF($K129=99, \"Surveillance\", ROUND(E129*0.75,0))), 0),\"Not required\")","v":5978},{"$f":"IF(INTRO!$E$43=\"Endemic\", IF($K129>1, IF($K129=4, \"Unknown\", IF($K129=99, \"Surveillance\", F129)), 0),\"Not required\")","v":16269},{"$f":"IF(INTRO!$E$43=\"Endemic\", IF($K129>1, IF($K129=4, \"Unknown\", IF($K129=99, \"Surveillance\", G129)), 0),\"Not required\")","v":32036},{"$f":"IF(INTRO!$E$43=\"Endemic\", IF($K129>1, IF($K129=4, \"Unknown\", IF($K129=99, \"Surveillance\", SUM($S129:$U129))), 0),\"Not required\")","v":54283},1,0,1,1]
[{"$f":"IF(INTRO!$E$33<>0,INTRO!$E$33, \" \")","v":"Angola"},"MALANJE","KIWABA NZOJI",20567.215499999998,{"$f":"IF(INTRO!$E$48=\"\",\"\",ROUND($D130*INTRO!$E$48,0))","v":2805},{"$f":"IF(INTRO!$E$49=\"\",\"\",ROUND($D130*INTRO!$E$49,0))","v":5726},{"$f":"IF(INTRO!$E$50=\"\",\"\",ROUND($D130*INTRO!$E$50,0))","v":11275},0,4,3,1,0,{"$f":"IF(INTRO!$E$37=\"Endemic\",IF($H130>0,IF($H130=4,\"Unknown\",IF($H130=99,\"Stopped\",$D130)),0),\"Not required\")","v":0},{"$f":"IF(INTRO!$E$39=\"Endemic\", IF($I130>0, IF($I130=4,\"Unknown\",IF($I130=99,\"Stopped\",$D130)), 0),\"Not required\")","v":"Unknown"},{"$f":"IF(INTRO!$E$41=\"Endemic\", IF($J130>1, IF($J130=4, \"Unknown\", IF($J130=99, \"Surveillance\", E130)), 0),\"Not required\")","v":2805},{"$f":"IF(INTRO!$E$41=\"Endemic\", IF($J130>1, IF($J130=4, \"Unknown\", IF($J130=99, \"Surveillance\", F130)), 0),\"Not required\")","v":5726},{"$f":"IF(INTRO!$E$41=\"Endemic\", IF($J130>1, IF($J130=4, \"Unknown\", IF($J130=99, \"Surveillance\", ROUND(D130*INTRO!$E$51,0))), 0),\"Not required\")","v":4753},{"$f":"IF(INTRO!$E$41=\"Endemic\", IF($J130>1, IF($J130=4, \"Unknown\", IF($J130=99, \"Surveillance\", SUM($O130:$Q130))), 0),\"Not required\")","v":13284},{"$f":"IF(INTRO!$E$43=\"Endemic\", IF($K130>1, IF($K130=4, \"Unknown\", IF($K130=99, \"Surveillance\", ROUND(E130*0.75,0))), 0),\"Not required\")","v":0},{"$f":"IF(INTRO!$E$43=\"Endemic\", IF($K130>1, IF($K130=4, \"Unknown\", IF($K130=99, \"Surveillance\", F130)), 0),\"Not required\")","v":0},{"$f":"IF(INTRO!$E$43=\"Endemic\", IF($K130>1, IF($K130=4, \"Unknown\", IF($K130=99, \"Surveillance\", G130)), 0),\"Not required\")","v":0},{"$f":"IF(INTRO!$E$43=\"Endemic\", IF($K130>1, IF($K130=4, \"Unknown\", IF($K130=99, \"Surveillance\", SUM($S130:$U130))), 0),\"Not required\")","v":0},0,0,2,0]
[{"$f":"IF(INTRO!$E$33<>0,INTRO!$E$33, \" \")","v":"Angola"},"MALANJE","KUNDA DYA BASE",16345.135312999997,{"$f":"IF(INTRO!$E$48=\"\",\"\",ROUND($D131*INTRO!$E$48,0))","v":2229},{"$f":"IF(INTRO!$E$49=\"\",\"\",ROUND($D131*INTRO!$E$49,0))","v":4550},{"$f":"IF(INTRO!$E$50=\"\",\"\",ROUND($D131*INTRO!$E$50,0))","v":8960},1,4,2,2,0,{"$f":"IF(INTRO!$E$37=\"Endemic\",IF($H131>0,IF($H131=4,\"Unknown\",IF($H131=99,\"Stopped\",$D131)),0),\"Not required\")","v":16345.135312999997},{"$f":"IF(INTRO!$E$39=\"Endemic\", IF($I131>0, IF($I131=4,\"Unknown\",IF($I131=99,\"Stopped\",$D131)), 0),\"Not required\")","v":"Unknown"},{"$f":"IF(INTRO!$E$41=\"Endemic\", IF($J131>1, IF($J131=4, \"Unknown\", IF($J131=99, \"Surveillance\", E131)), 0),\"Not required\")","v":2229},{"$f":"IF(INTRO!$E$41=\"Endemic\", IF($J131>1, IF($J131=4, \"Unknown\", IF($J131=99, \"Surveillance\", F131)), 0),\"Not required\")","v":4550},{"$f":"IF(INTRO!$E$41=\"Endemic\", IF($J131>1, IF($J131=4, \"Unknown\", IF($J131=99, \"Surveillance\", ROUND(D131*INTRO!$E$51,0))), 0),\"Not required\")","v":3777},{"$f":"IF(INTRO!$E$41=\"Endemic\", IF($J131>1, IF($J131=4, \"Unknown\", IF($J131=99, \"Surveillance\", SUM($O131:$Q131))), 0),\"Not required\")","v":10556},{"$f":"IF(INTRO!$E$43=\"Endemic\", IF($K131>1, IF($K131=4, \"Unknown\", IF($K131=99, \"Surveillance\", ROUND(E131*0.75,0))), 0),\"Not required\")","v":1672},{"$f":"IF(INTRO!$E$43=\"Endemic\", IF($K131>1, IF($K131=4, \"Unknown\", IF($K131=99, \"Surveillance\", F131)), 0),\"Not required\")","v":4550},{"$f":"IF(INTRO!$E$43=\"Endemic\", IF($K131>1, IF($K131=4, \"Unknown\", IF($K131=99, \"Surveillance\", G131)), 0),\"Not required\")","v":8960},{"$f":"IF(INTRO!$E$43=\"Endemic\", IF($K131>1, IF($K131=4, \"Unknown\", IF($K131=99, \"Surveillance\", SUM($S131:$U131))), 0),\"Not required\")","v":15182},1,0,1,1]
[{"$f":"IF(INTRO!$E$33<>0,INTRO!$E$33, \" \")","v":"Angola"},"MALANJE","LUQUEMBO",71078.187309999994,{"$f":"IF(INTRO!$E$48=\"\",\"\",ROUND($D132*INTRO!$E$48,0))","v":9695},{"$f":"IF(INTRO!$E$49=\"\",\"\",ROUND($D132*INTRO!$E$49,0))","v":19788},{"$f":"IF(INTRO!$E$50=\"\",\"\",ROUND($D132*INTRO!$E$50,0))","v":38965},0,4,3,3,0,{"$f":"IF(INTRO!$E$37=\"Endemic\",IF($H132>0,IF($H132=4,\"Unknown\",IF($H132=99,\"Stopped\",$D132)),0),\"Not required\")","v":0},{"$f":"IF(INTRO!$E$39=\"Endemic\", IF($I132>0, IF($I132=4,\"Unknown\",IF($I132=99,\"Stopped\",$D132)), 0),\"Not required\")","v":"Unknown"},{"$f":"IF(INTRO!$E$41=\"Endemic\", IF($J132>1, IF($J132=4, \"Unknown\", IF($J132=99, \"Surveillance\", E132)), 0),\"Not required\")","v":9695},{"$f":"IF(INTRO!$E$41=\"Endemic\", IF($J132>1, IF($J132=4, \"Unknown\", IF($J132=99, \"Surveillance\", F132)), 0),\"Not required\")","v":19788},{"$f":"IF(INTRO!$E$41=\"Endemic\", IF($J132>1, IF($J132=4, \"Unknown\", IF($J132=99, \"Surveillance\", ROUND(D132*INTRO!$E$51,0))), 0),\"Not required\")","v":16426},{"$f":"IF(INTRO!$E$41=\"Endemic\", IF($J132>1, IF($J132=4, \"Unknown\", IF($J132=99, \"Surveillance\", SUM($O132:$Q132))), 0),\"Not required\")","v":45909},{"$f":"IF(INTRO!$E$43=\"Endemic\", IF($K132>1, IF($K132=4, \"Unknown\", IF($K132=99, \"Surveillance\", ROUND(E132*0.75,0))), 0),\"Not required\")","v":7271},{"$f":"IF(INTRO!$E$43=\"Endemic\", IF($K132>1, IF($K132=4, \"Unknown\", IF($K132=99, \"Surveillance\", F132)), 0),\"Not required\")","v":19788},{"$f":"IF(INTRO!$E$43=\"Endemic\", IF($K132>1, IF($K132=4, \"Unknown\", IF($K132=99, \"Surveillance\", G132)), 0),\"Not required\")","v":38965},{"$f":"IF(INTRO!$E$43=\"Endemic\", IF($K132>1, IF($K132=4, \"Unknown\", IF($K132=99, \"Surveillance\", SUM($S132:$U132))), 0),\"Not required\")","v":66024},0,0,2,1]
[{"$f":"IF(INTRO!$E$33<>0,INTRO!$E$33, \" \")","v":"Angola"},"MALANJE","MALANJE",656445.39920699992,{"$f":"IF(INTRO!$E$48=\"\",\"\",ROUND($D133*INTRO!$E$48,0))","v":89539},{"$f":"IF(INTRO!$E$49=\"\",\"\",ROUND($D133*INTRO!$E$49,0))","v":182754},{"$f":"IF(INTRO!$E$50=\"\",\"\",ROUND($D133*INTRO!$E$50,0))","v":359863},0,4,3,3,0,{"$f":"IF(INTRO!$E$37=\"Endemic\",IF($H133>0,IF($H133=4,\"Unknown\",IF($H133=99,\"Stopped\",$D133)),0),\"Not required\")","v":0},{"$f":"IF(INTRO!$E$39=\"Endemic\", IF($I133>0, IF($I133=4,\"Unknown\",IF($I133=99,\"Stopped\",$D133)), 0),\"Not required\")","v":"Unknown"},{"$f":"IF(INTRO!$E$41=\"Endemic\", IF($J133>1, IF($J133=4, \"Unknown\", IF($J133=99, \"Surveillance\", E133)), 0),\"Not required\")","v":89539},{"$f":"IF(INTRO!$E$41=\"Endemic\", IF($J133>1, IF($J133=4, \"Unknown\", IF($J133=99, \"Surveillance\", F133)), 0),\"Not required\")","v":182754},{"$f":"IF(INTRO!$E$41=\"Endemic\", IF($J133>1, IF($J133=4, \"Unknown\", IF($J133=99, \"Surveillance\", ROUND(D133*INTRO!$E$51,0))), 0),\"Not required\")","v":151705},{"$f":"IF(INTRO!$E$41=\"Endemic\", IF($J133>1, IF($J133=4, \"Unknown\", IF($J133=99, \"Surveillance\", SUM($O133:$Q133))), 0),\"Not required\")","v":423998},{"$f":"IF(INTRO!$E$43=\"Endemic\", IF($K133>1, IF($K133=4, \"Unknown\", IF($K133=99, \"Surveillance\", ROUND(E133*0.75,0))), 0),\"Not required\")","v":67154},{"$f":"IF(INTRO!$E$43=\"Endemic\", IF($K133>1, IF($K133=4, \"Unknown\", IF($K133=99, \"Surveillance\", F133)), 0),\"Not required\")","v":182754},{"$f":"IF(INTRO!$E$43=\"Endemic\", IF($K133>1, IF($K133=4, \"Unknown\", IF($K133=99, \"Surveillance\", G133)), 0),\"Not required\")","v":359863},{"$f":"IF(INTRO!$E$43=\"Endemic\", IF($K133>1, IF($K133=4, \"Unknown\", IF($K133=99, \"Surveillance\", SUM($S133:$U133))), 0),\"Not required\")","v":609771},0,0,2,1]
[{"$f":"IF(INTRO!$E$33<>0,INTRO!$E$33, \" \")","v":"Angola"},"MALANJE","MARIMBA",33907.427891999992,{"$f":"IF(INTRO!$E$48=\"\",\"\",ROUND($D134*INTRO!$E$48,0))","v":4625},{"$f":"IF(INTRO!$E$49=\"\",\"\",ROUND($D134*INTRO!$E$49,0))","v":9440},{"$f":"IF(INTRO!$E$50=\"\",\"\",ROUND($D134*INTRO!$E$50,0))","v":18588},1,4,3,2,0,{"$f":"IF(INTRO!$E$37=\"Endemic\",IF($H134>0,IF($H134=4,\"Unknown\",IF($H134=99,\"Stopped\",$D134)),0),\"Not required\")","v":33907.427891999992},{"$f":"IF(INTRO!$E$39=\"Endemic\", IF($I134>0, IF($I134=4,\"Unknown\",IF($I134=99,\"Stopped\",$D134)), 0),\"Not required\")","v":"Unknown"},{"$f":"IF(INTRO!$E$41=\"Endemic\", IF($J134>1, IF($J134=4, \"Unknown\", IF($J134=99, \"Surveillance\", E134)), 0),\"Not required\")","v":4625},{"$f":"IF(INTRO!$E$41=\"Endemic\", IF($J134>1, IF($J134=4, \"Unknown\", IF($J134=99, \"Surveillance\", F134)), 0),\"Not required\")","v":9440},{"$f":"IF(INTRO!$E$41=\"Endemic\", IF($J134>1, IF($J134=4, \"Unknown\", IF($J134=99, \"Surveillance\", ROUND(D134*INTRO!$E$51,0))), 0),\"Not required\")","v":7836},{"$f":"IF(INTRO!$E$41=\"Endemic\", IF($J134>1, IF($J134=4, \"Unknown\", IF($J134=99, \"Surveillance\", SUM($O134:$Q134))), 0),\"Not required\")","v":21901},{"$f":"IF(INTRO!$E$43=\"Endemic\", IF($K134>1, IF($K134=4, \"Unknown\", IF($K134=99, \"Surveillance\", ROUND(E134*0.75,0))), 0),\"Not required\")","v":3469},{"$f":"IF(INTRO!$E$43=\"Endemic\", IF($K134>1, IF($K134=4, \"Unknown\", IF($K134=99, \"Surveillance\", F134)), 0),\"Not required\")","v":9440},{"$f":"IF(INTRO!$E$43=\"Endemic\", IF($K134>1, IF($K134=4, \"Unknown\", IF($K134=99, \"Surveillance\", G134)), 0),\"Not required\")","v":18588},{"$f":"IF(INTRO!$E$43=\"Endemic\", IF($K134>1, IF($K134=4, \"Unknown\", IF($K134=99, \"Surveillance\", SUM($S134:$U134))), 0),\"Not required\")","v":31497},1,0,2,1]
[{"$f":"IF(INTRO!$E$33<>0,INTRO!$E$33, \" \")","v":"Angola"},"MALANJE","MASSANGO",42632.146179999996,{"$f":"IF(INTRO!$E$48=\"\",\"\",ROUND($D135*INTRO!$E$48,0))","v":5815},{"$f":"IF(INTRO!$E$49=\"\",\"\",ROUND($D135*INTRO!$E$49,0))","v":11869},{"$f":"IF(INTRO!$E$50=\"\",\"\",ROUND($D135*INTRO!$E$50,0))","v":23371},0,4,3,1,0,{"$f":"IF(INTRO!$E$37=\"Endemic\",IF($H135>0,IF($H135=4,\"Unknown\",IF($H135=99,\"Stopped\",$D135)),0),\"Not required\")","v":0},{"$f":"IF(INTRO!$E$39=\"Endemic\", IF($I135>0, IF($I135=4,\"Unknown\",IF($I135=99,\"Stopped\",$D135)), 0),\"Not required\")","v":"Unknown"},{"$f":"IF(INTRO!$E$41=\"Endemic\", IF($J135>1, IF($J135=4, \"Unknown\", IF($J135=99, \"Surveillance\", E135)), 0),\"Not required\")","v":5815},{"$f":"IF(INTRO!$E$41=\"Endemic\", IF($J135>1, IF($J135=4, \"Unknown\", IF($J135=99, \"Surveillance\", F135)), 0),\"Not required\")","v":11869},{"$f":"IF(INTRO!$E$41=\"Endemic\", IF($J135>1, IF($J135=4, \"Unknown\", IF($J135=99, \"Surveillance\", ROUND(D135*INTRO!$E$51,0))), 0),\"Not required\")","v":9852},{"$f":"IF(INTRO!$E$41=\"Endemic\", IF($J135>1, IF($J135=4, \"Unknown\", IF($J135=99, \"Surveillance\", SUM($O135:$Q135))), 0),\"Not required\")","v":27536},{"$f":"IF(INTRO!$E$43=\"Endemic\", IF($K135>1, IF($K135=4, \"Unknown\", IF($K135=99, \"Surveillance\", ROUND(E135*0.75,0))), 0),\"Not required\")","v":0},{"$f":"IF(INTRO!$E$43=\"Endemic\", IF($K135>1, IF($K135=4, \"Unknown\", IF($K135=99, \"Surveillance\", F135)), 0),\"Not required\")","v":0},{"$f":"IF(INTRO!$E$43=\"Endemic\", IF($K135>1, IF($K135=4, \"Unknown\", IF($K135=99, \"Surveillance\", G135)), 0),\"Not required\")","v":0},{"$f":"IF(INTRO!$E$43=\"Endemic\", IF($K135>1, IF($K135=4, \"Unknown\", IF($K135=99, \"Surveillance\", SUM($S135:$U135))), 0),\"Not required\")","v":0},0,0,2,0]
[{"$f":"IF(INTRO!$E$33<>0,INTRO!$E$33, \" \")","v":"Angola"},"MALANJE","QUELA",27131.848795999995,{"$f":"IF(INTRO!$E$48=\"\",\"\",ROUND($D136*INTRO!$E$48,0))","v":3701},{"$f":"IF(INTRO!$E$49=\"\",\"\",ROUND($D136*INTRO!$E$49,0))","v":7554},{"$f":"IF(INTRO!$E$50=\"\",\"\",ROUND($D136*INTRO!$E$50,0))","v":14874},1,4,3,2,0,{"$f":"IF(INTRO!$E$37=\"Endemic\",IF($H136>0,IF($H136=4,\"Unknown\",IF($H136=99,\"Stopped\",$D136)),0),\"Not required\")","v":27131.848795999995},{"$f":"IF(INTRO!$E$39=\"Endemic\", IF($I136>0, IF($I136=4,\"Unknown\",IF($I136=99,\"Stopped\",$D136)), 0),\"Not required\")","v":"Unknown"},{"$f":"IF(INTRO!$E$41=\"Endemic\", IF($J136>1, IF($J136=4, \"Unknown\", IF($J136=99, \"Surveillance\", E136)), 0),\"Not required\")","v":3701},{"$f":"IF(INTRO!$E$41=\"Endemic\", IF($J136>1, IF($J136=4, \"Unknown\", IF($J136=99, \"Surveillance\", F136)), 0),\"Not required\")","v":7554},{"$f":"IF(INTRO!$E$41=\"Endemic\", IF($J136>1, IF($J136=4, \"Unknown\", IF($J136=99, \"Surveillance\", ROUND(D136*INTRO!$E$51,0))), 0),\"Not required\")","v":6270},{"$f":"IF(INTRO!$E$41=\"Endemic\", IF($J136>1, IF($J136=4, \"Unknown\", IF($J136=99, \"Surveillance\", SUM($O136:$Q136))), 0),\"Not required\")","v":17525},{"$f":"IF(INTRO!$E$43=\"Endemic\", IF($K136>1, IF($K136=4, \"Unknown\", IF($K136=99, \"Surveillance\", ROUND(E136*0.75,0))), 0),\"Not required\")","v":2776},{"$f":"IF(INTRO!$E$43=\"Endemic\", IF($K136>1, IF($K136=4, \"Unknown\", IF($K136=99, \"Surveillance\", F136)), 0),\"Not required\")","v":7554},{"$f":"IF(INTRO!$E$43=\"Endemic\", IF($K136>1, IF($K136=4, \"Unknown\", IF($K136=99, \"Surveillance\", G136)), 0),\"Not required\")","v":14874},{"$f":"IF(INTRO!$E$43=\"Endemic\", IF($K136>1, IF($K136=4, \"Unknown\", IF($K136=99, \"Surveillance\", SUM($S136:$U136))), 0),\"Not required\")","v":25204},1,0,2,1]
[{"$f":"IF(INTRO!$E$33<>0,INTRO!$E$33, \" \")","v":"Angola"},"MALANJE","QUIRIMA",27371.272278999997,{"$f":"IF(INTRO!$E$48=\"\",\"\",ROUND($D137*INTRO!$E$48,0))","v":3733},{"$f":"IF(INTRO!$E$49=\"\",\"\",ROUND($D137*INTRO!$E$49,0))","v":7620},{"$f":"IF(INTRO!$E$50=\"\",\"\",ROUND($D137*INTRO!$E$50,0))","v":15005},0,4,3,2,0,{"$f":"IF(INTRO!$E$37=\"Endemic\",IF($H137>0,IF($H137=4,\"Unknown\",IF($H137=99,\"Stopped\",$D137)),0),\"Not required\")","v":0},{"$f":"IF(INTRO!$E$39=\"Endemic\", IF($I137>0, IF($I137=4,\"Unknown\",IF($I137=99,\"Stopped\",$D137)), 0),\"Not required\")","v":"Unknown"},{"$f":"IF(INTRO!$E$41=\"Endemic\", IF($J137>1, IF($J137=4, \"Unknown\", IF($J137=99, \"Surveillance\", E137)), 0),\"Not required\")","v":3733},{"$f":"IF(INTRO!$E$41=\"Endemic\", IF($J137>1, IF($J137=4, \"Unknown\", IF($J137=99, \"Surveillance\", F137)), 0),\"Not required\")","v":7620},{"$f":"IF(INTRO!$E$41=\"Endemic\", IF($J137>1, IF($J137=4, \"Unknown\", IF($J137=99, \"Surveillance\", ROUND(D137*INTRO!$E$51,0))), 0),\"Not required\")","v":6326},{"$f":"IF(INTRO!$E$41=\"Endemic\", IF($J137>1, IF($J137=4, \"Unknown\", IF($J137=99, \"Surveillance\", SUM($O137:$Q137))), 0),\"Not required\")","v":17679},{"$f":"IF(INTRO!$E$43=\"Endemic\", IF($K137>1, IF($K137=4, \"Unknown\", IF($K137=99, \"Surveillance\", ROUND(E137*0.75,0))), 0),\"Not required\")","v":2800},{"$f":"IF(INTRO!$E$43=\"Endemic\", IF($K137>1, IF($K137=4, \"Unknown\", IF($K137=99, \"Surveillance\", F137)), 0),\"Not required\")","v":7620},{"$f":"IF(INTRO!$E$43=\"Endemic\", IF($K137>1, IF($K137=4, \"Unknown\", IF($K137=99, \"Surveillance\", G137)), 0),\"Not required\")","v":15005},{"$f":"IF(INTRO!$E$43=\"Endemic\", IF($K137>1, IF($K137=4, \"Unknown\", IF($K137=99, \"Surveillance\", SUM($S137:$U137))), 0),\"Not required\")","v":25425},0,0,2,1]
[{"$f":"IF(INTRO!$E$33<>0,INTRO!$E$33, \" \")","v":"Angola"},"MOXICO","ALTO ZAMBEZE",144275.32518099996,{"$f":"IF(INTRO!$E$48=\"\",\"\",ROUND($D138*INTRO!$E$48,0))","v":19679},{"$f":"IF(INTRO!$E$49=\"\",\"\",ROUND($D138*INTRO!$E$49,0))","v":40166},{"$f":"IF(INTRO!$E$50=\"\",\"\",ROUND($D138*INTRO!$E$50,0))","v":79092},0,4,2,3,0,{"$f":"IF(INTRO!$E$37=\"Endemic\",IF($H138>0,IF($H138=4,\"Unknown\",IF($H138=99,\"Stopped\",$D138)),0),\"Not required\")","v":0},{"$f":"IF(INTRO!$E$39=\"Endemic\", IF($I138>0, IF($I138=4,\"Unknown\",IF($I138=99,\"Stopped\",$D138)), 0),\"Not required\")","v":"Unknown"},{"$f":"IF(INTRO!$E$41=\"Endemic\", IF($J138>1, IF($J138=4, \"Unknown\", IF($J138=99, \"Surveillance\", E138)), 0),\"Not required\")","v":19679},{"$f":"IF(INTRO!$E$41=\"Endemic\", IF($J138>1, IF($J138=4, \"Unknown\", IF($J138=99, \"Surveillance\", F138)), 0),\"Not required\")","v":40166},{"$f":"IF(INTRO!$E$41=\"Endemic\", IF($J138>1, IF($J138=4, \"Unknown\", IF($J138=99, \"Surveillance\", ROUND(D138*INTRO!$E$51,0))), 0),\"Not required\")","v":33342},{"$f":"IF(INTRO!$E$41=\"Endemic\", IF($J138>1, IF($J138=4, \"Unknown\", IF($J138=99, \"Surveillance\", SUM($O138:$Q138))), 0),\"Not required\")","v":93187},{"$f":"IF(INTRO!$E$43=\"Endemic\", IF($K138>1, IF($K138=4, \"Unknown\", IF($K138=99, \"Surveillance\", ROUND(E138*0.75,0))), 0),\"Not required\")","v":14759},{"$f":"IF(INTRO!$E$43=\"Endemic\", IF($K138>1, IF($K138=4, \"Unknown\", IF($K138=99, \"Surveillance\", F138)), 0),\"Not required\")","v":40166},{"$f":"IF(INTRO!$E$43=\"Endemic\", IF($K138>1, IF($K138=4, \"Unknown\", IF($K138=99, \"Surveillance\", G138)), 0),\"Not required\")","v":79092},{"$f":"IF(INTRO!$E$43=\"Endemic\", IF($K138>1, IF($K138=4, \"Unknown\", IF($K138=99, \"Surveillance\", SUM($S138:$U138))), 0),\"Not required\")","v":134017},0,0,1,1]
[{"$f":"IF(INTRO!$E$33<>0,INTRO!$E$33, \" \")","v":"Angola"},"MOXICO","BUNDAS (LUMBALA NGUIMBO)",90410.315150999988,{"$f":"IF(INTRO!$E$48=\"\",\"\",ROUND($D139*INTRO!$E$48,0))","v":12332},{"$f":"IF(INTRO!$E$49=\"\",\"\",ROUND($D139*INTRO!$E$49,0))","v":25170},{"$f":"IF(INTRO!$E$50=\"\",\"\",ROUND($D139*INTRO!$E$50,0))","v":49563},0,4,2,2,0,{"$f":"IF(INTRO!$E$37=\"Endemic\",IF($H139>0,IF($H139=4,\"Unknown\",IF($H139=99,\"Stopped\",$D139)),0),\"Not required\")","v":0},{"$f":"IF(INTRO!$E$39=\"Endemic\", IF($I139>0, IF($I139=4,\"Unknown\",IF($I139=99,\"Stopped\",$D139)), 0),\"Not required\")","v":"Unknown"},{"$f":"IF(INTRO!$E$41=\"Endemic\", IF($J139>1, IF($J139=4, \"Unknown\", IF($J139=99, \"Surveillance\", E139)), 0),\"Not required\")","v":12332},{"$f":"IF(INTRO!$E$41=\"Endemic\", IF($J139>1, IF($J139=4, \"Unknown\", IF($J139=99, \"Surveillance\", F139)), 0),\"Not required\")","v":25170},{"$f":"IF(INTRO!$E$41=\"Endemic\", IF($J139>1, IF($J139=4, \"Unknown\", IF($J139=99, \"Surveillance\", ROUND(D139*INTRO!$E$51,0))), 0),\"Not required\")","v":20894},{"$f":"IF(INTRO!$E$41=\"Endemic\", IF($J139>1, IF($J139=4, \"Unknown\", IF($J139=99, \"Surveillance\", SUM($O139:$Q139))), 0),\"Not required\")","v":58396},{"$f":"IF(INTRO!$E$43=\"Endemic\", IF($K139>1, IF($K139=4, \"Unknown\", IF($K139=99, \"Surveillance\", ROUND(E139*0.75,0))), 0),\"Not required\")","v":9249},{"$f":"IF(INTRO!$E$43=\"Endemic\", IF($K139>1, IF($K139=4, \"Unknown\", IF($K139=99, \"Surveillance\", F139)), 0),\"Not required\")","v":25170},{"$f":"IF(INTRO!$E$43=\"Endemic\", IF($K139>1, IF($K139=4, \"Unknown\", IF($K139=99, \"Surveillance\", G139)), 0),\"Not required\")","v":49563},{"$f":"IF(INTRO!$E$43=\"Endemic\", IF($K139>1, IF($K139=4, \"Unknown\", IF($K139=99, \"Surveillance\", SUM($S139:$U139))), 0),\"Not required\")","v":83982},0,0,1,1]
[{"$f":"IF(INTRO!$E$33<>0,INTRO!$E$33, \" \")","v":"Angola"},"MOXICO","CAMANONGUE",44449.444246999992,{"$f":"IF(INTRO!$E$48=\"\",\"\",ROUND($D140*INTRO!$E$48,0))","v":6063},{"$f":"IF(INTRO!$E$49=\"\",\"\",ROUND($D140*INTRO!$E$49,0))","v":12375},{"$f":"IF(INTRO!$E$50=\"\",\"\",ROUND($D140*INTRO!$E$50,0))","v":24367},0,1,2,0,0,{"$f":"IF(INTRO!$E$37=\"Endemic\",IF($H140>0,IF($H140=4,\"Unknown\",IF($H140=99,\"Stopped\",$D140)),0),\"Not required\")","v":0},{"$f":"IF(INTRO!$E$39=\"Endemic\", IF($I140>0, IF($I140=4,\"Unknown\",IF($I140=99,\"Stopped\",$D140)), 0),\"Not required\")","v":44449.444246999992},{"$f":"IF(INTRO!$E$41=\"Endemic\", IF($J140>1, IF($J140=4, \"Unknown\", IF($J140=99, \"Surveillance\", E140)), 0),\"Not required\")","v":6063},{"$f":"IF(INTRO!$E$41=\"Endemic\", IF($J140>1, IF($J140=4, \"Unknown\", IF($J140=99, \"Surveillance\", F140)), 0),\"Not required\")","v":12375},{"$f":"IF(INTRO!$E$41=\"Endemic\", IF($J140>1, IF($J140=4, \"Unknown\", IF($J140=99, \"Surveillance\", ROUND(D140*INTRO!$E$51,0))), 0),\"Not required\")","v":10272},{"$f":"IF(INTRO!$E$41=\"Endemic\", IF($J140>1, IF($J140=4, \"Unknown\", IF($J140=99, \"Surveillance\", SUM($O140:$Q140))), 0),\"Not required\")","v":28710},{"$f":"IF(INTRO!$E$43=\"Endemic\", IF($K140>1, IF($K140=4, \"Unknown\", IF($K140=99, \"Surveillance\", ROUND(E140*0.75,0))), 0),\"Not required\")","v":0},{"$f":"IF(INTRO!$E$43=\"Endemic\", IF($K140>1, IF($K140=4, \"Unknown\", IF($K140=99, \"Surveillance\", F140)), 0),\"Not required\")","v":0},{"$f":"IF(INTRO!$E$43=\"Endemic\", IF($K140>1, IF($K140=4, \"Unknown\", IF($K140=99, \"Surveillance\", G140)), 0),\"Not required\")","v":0},{"$f":"IF(INTRO!$E$43=\"Endemic\", IF($K140>1, IF($K140=4, \"Unknown\", IF($K140=99, \"Surveillance\", SUM($S140:$U140))), 0),\"Not required\")","v":0},0,1,1,0]
[{"$f":"IF(INTRO!$E$33<>0,INTRO!$E$33, \" \")","v":"Angola"},"MOXICO","CAMEIA (LUMEJE)",38346.78225299999,{"$f":"IF(INTRO!$E$48=\"\",\"\",ROUND($D141*INTRO!$E$48,0))","v":5231},{"$f":"IF(INTRO!$E$49=\"\",\"\",ROUND($D141*INTRO!$E$49,0))","v":10676},{"$f":"IF(INTRO!$E$50=\"\",\"\",ROUND($D141*INTRO!$E$50,0))","v":21022},0,4,1,1,0,{"$f":"IF(INTRO!$E$37=\"Endemic\",IF($H141>0,IF($H141=4,\"Unknown\",IF($H141=99,\"Stopped\",$D141)),0),\"Not required\")","v":0},{"$f":"IF(INTRO!$E$39=\"Endemic\", IF($I141>0, IF($I141=4,\"Unknown\",IF($I141=99,\"Stopped\",$D141)), 0),\"Not required\")","v":"Unknown"},{"$f":"IF(INTRO!$E$41=\"Endemic\", IF($J141>1, IF($J141=4, \"Unknown\", IF($J141=99, \"Surveillance\", E141)), 0),\"Not required\")","v":0},{"$f":"IF(INTRO!$E$41=\"Endemic\", IF($J141>1, IF($J141=4, \"Unknown\", IF($J141=99, \"Surveillance\", F141)), 0),\"Not required\")","v":0},{"$f":"IF(INTRO!$E$41=\"Endemic\", IF($J141>1, IF($J141=4, \"Unknown\", IF($J141=99, \"Surveillance\", ROUND(D141*INTRO!$E$51,0))), 0),\"Not required\")","v":0},{"$f":"IF(INTRO!$E$41=\"Endemic\", IF($J141>1, IF($J141=4, \"Unknown\", IF($J141=99, \"Surveillance\", SUM($O141:$Q141))), 0),\"Not required\")","v":0},{"$f":"IF(INTRO!$E$43=\"Endemic\", IF($K141>1, IF($K141=4, \"Unknown\", IF($K141=99, \"Surveillance\", ROUND(E141*0.75,0))), 0),\"Not required\")","v":0},{"$f":"IF(INTRO!$E$43=\"Endemic\", IF($K141>1, IF($K141=4, \"Unknown\", IF($K141=99, \"Surveillance\", F141)), 0),\"Not required\")","v":0},{"$f":"IF(INTRO!$E$43=\"Endemic\", IF($K141>1, IF($K141=4, \"Unknown\", IF($K141=99, \"Surveillance\", G141)), 0),\"Not required\")","v":0},{"$f":"IF(INTRO!$E$43=\"Endemic\", IF($K141>1, IF($K141=4, \"Unknown\", IF($K141=99, \"Surveillance\", SUM($S141:$U141))), 0),\"Not required\")","v":0},0,0,0,0]
[{"$f":"IF(INTRO!$E$33<>0,INTRO!$E$33, \" \")","v":"Angola"},"MOXICO","LEUA",42225.020785999994,{"$f":"IF(INTRO!$E$48=\"\",\"\",ROUND($D142*INTRO!$E$48,0))","v":5759},{"$f":"IF(INTRO!$E$49=\"\",\"\",ROUND($D142*INTRO!$E$49,0))","v":11755},{"$f":"IF(INTRO!$E$50=\"\",\"\",ROUND($D142*INTRO!$E$50,0))","v":23148},0,1,1,0,0,{"$f":"IF(INTRO!$E$37=\"Endemic\",IF($H142>0,IF($H142=4,\"Unknown\",IF($H142=99,\"Stopped\",$D142)),0),\"Not required\")","v":0},{"$f":"IF(INTRO!$E$39=\"Endemic\", IF($I142>0, IF($I142=4,\"Unknown\",IF($I142=99,\"Stopped\",$D142)), 0),\"Not required\")","v":42225.020785999994},{"$f":"IF(INTRO!$E$41=\"Endemic\", IF($J142>1, IF($J142=4, \"Unknown\", IF($J142=99, \"Surveillance\", E142)), 0),\"Not required\")","v":0},{"$f":"IF(INTRO!$E$41=\"Endemic\", IF($J142>1, IF($J142=4, \"Unknown\", IF($J142=99, \"Surveillance\", F142)), 0),\"Not required\")","v":0},{"$f":"IF(INTRO!$E$41=\"Endemic\", IF($J142>1, IF($J142=4, \"Unknown\", IF($J142=99, \"Surveillance\", ROUND(D142*INTRO!$E$51,0))), 0),\"Not required\")","v":0},{"$f":"IF(INTRO!$E$41=\"Endemic\", IF($J142>1, IF($J142=4, \"Unknown\", IF($J142=99, \"Surveillance\", SUM($O142:$Q142))), 0),\"Not required\")","v":0},{"$f":"IF(INTRO!$E$43=\"Endemic\", IF($K142>1, IF($K142=4, \"Unknown\", IF($K142=99, \"Surveillance\", ROUND(E142*0.75,0))), 0),\"Not required\")","v":0},{"$f":"IF(INTRO!$E$43=\"Endemic\", IF($K142>1, IF($K142=4, \"Unknown\", IF($K142=99, \"Surveillance\", F142)), 0),\"Not required\")","v":0},{"$f":"IF(INTRO!$E$43=\"Endemic\", IF($K142>1, IF($K142=4, \"Unknown\", IF($K142=99, \"Surveillance\", G142)), 0),\"Not required\")","v":0},{"$f":"IF(INTRO!$E$43=\"Endemic\", IF($K142>1, IF($K142=4, \"Unknown\", IF($K142=99, \"Surveillance\", SUM($S142:$U142))), 0),\"Not required\")","v":0},0,1,0,0]
[{"$f":"IF(INTRO!$E$33<>0,INTRO!$E$33, \" \")","v":"Angola"},"MOXICO","LUACANO",27001.062399999995,{"$f":"IF(INTRO!$E$48=\"\",\"\",ROUND($D143*INTRO!$E$48,0))","v":3683},{"$f":"IF(INTRO!$E$49=\"\",\"\",ROUND($D143*INTRO!$E$49,0))","v":7517},{"$f":"IF(INTRO!$E$50=\"\",\"\",ROUND($D143*INTRO!$E$50,0))","v":14802},0,1,2,1,0,{"$f":"IF(INTRO!$E$37=\"Endemic\",IF($H143>0,IF($H143=4,\"Unknown\",IF($H143=99,\"Stopped\",$D143)),0),\"Not required\")","v":0},{"$f":"IF(INTRO!$E$39=\"Endemic\", IF($I143>0, IF($I143=4,\"Unknown\",IF($I143=99,\"Stopped\",$D143)), 0),\"Not required\")","v":27001.062399999995},{"$f":"IF(INTRO!$E$41=\"Endemic\", IF($J143>1, IF($J143=4, \"Unknown\", IF($J143=99, \"Surveillance\", E143)), 0),\"Not required\")","v":3683},{"$f":"IF(INTRO!$E$41=\"Endemic\", IF($J143>1, IF($J143=4, \"Unknown\", IF($J143=99, \"Surveillance\", F143)), 0),\"Not required\")","v":7517},{"$f":"IF(INTRO!$E$41=\"Endemic\", IF($J143>1, IF($J143=4, \"Unknown\", IF($J143=99, \"Surveillance\", ROUND(D143*INTRO!$E$51,0))), 0),\"Not required\")","v":6240},{"$f":"IF(INTRO!$E$41=\"Endemic\", IF($J143>1, IF($J143=4, \"Unknown\", IF($J143=99, \"Surveillance\", SUM($O143:$Q143))), 0),\"Not required\")","v":17440},{"$f":"IF(INTRO!$E$43=\"Endemic\", IF($K143>1, IF($K143=4, \"Unknown\", IF($K143=99, \"Surveillance\", ROUND(E143*0.75,0))), 0),\"Not required\")","v":0},{"$f":"IF(INTRO!$E$43=\"Endemic\", IF($K143>1, IF($K143=4, \"Unknown\", IF($K143=99, \"Surveillance\", F143)), 0),\"Not required\")","v":0},{"$f":"IF(INTRO!$E$43=\"Endemic\", IF($K143>1, IF($K143=4, \"Unknown\", IF($K143=99, \"Surveillance\", G143)), 0),\"Not required\")","v":0},{"$f":"IF(INTRO!$E$43=\"Endemic\", IF($K143>1, IF($K143=4, \"Unknown\", IF($K143=99, \"Surveillance\", SUM($S143:$U143))), 0),\"Not required\")","v":0},0,1,1,0]
[{"$f":"IF(INTRO!$E$33<>0,INTRO!$E$33, \" \")","v":"Angola"},"MOXICO","LUAU",116373.52421499997,{"$f":"IF(INTRO!$E$48=\"\",\"\",ROUND($D144*INTRO!$E$48,0))","v":15873},{"$f":"IF(INTRO!$E$49=\"\",\"\",ROUND($D144*INTRO!$E$49,0))","v":32398},{"$f":"IF(INTRO!$E$50=\"\",\"\",ROUND($D144*INTRO!$E$50,0))","v":63796},0,4,1,1,0,{"$f":"IF(INTRO!$E$37=\"Endemic\",IF($H144>0,IF($H144=4,\"Unknown\",IF($H144=99,\"Stopped\",$D144)),0),\"Not required\")","v":0},{"$f":"IF(INTRO!$E$39=\"Endemic\", IF($I144>0, IF($I144=4,\"Unknown\",IF($I144=99,\"Stopped\",$D144)), 0),\"Not required\")","v":"Unknown"},{"$f":"IF(INTRO!$E$41=\"Endemic\", IF($J144>1, IF($J144=4, \"Unknown\", IF($J144=99, \"Surveillance\", E144)), 0),\"Not required\")","v":0},{"$f":"IF(INTRO!$E$41=\"Endemic\", IF($J144>1, IF($J144=4, \"Unknown\", IF($J144=99, \"Surveillance\", F144)), 0),\"Not required\")","v":0},{"$f":"IF(INTRO!$E$41=\"Endemic\", IF($J144>1, IF($J144=4, \"Unknown\", IF($J144=99, \"Surveillance\", ROUND(D144*INTRO!$E$51,0))), 0),\"Not required\")","v":0},{"$f":"IF(INTRO!$E$41=\"Endemic\", IF($J144>1, IF($J144=4, \"Unknown\", IF($J144=99, \"Surveillance\", SUM($O144:$Q144))), 0),\"Not required\")","v":0},{"$f":"IF(INTRO!$E$43=\"Endemic\", IF($K144>1, IF($K144=4, \"Unknown\", IF($K144=99, \"Surveillance\", ROUND(E144*0.75,0))), 0),\"Not required\")","v":0},{"$f":"IF(INTRO!$E$43=\"Endemic\", IF($K144>1, IF($K144=4, \"Unknown\", IF($K144=99, \"Surveillance\", F144)), 0),\"Not required\")","v":0},{"$f":"IF(INTRO!$E$43=\"Endemic\", IF($K144>1, IF($K144=4, \"Unknown\", IF($K144=99, \"Surveillance\", G144)), 0),\"Not required\")","v":0},{"$f":"IF(INTRO!$E$43=\"Endemic\", IF($K144>1, IF($K144=4, \"Unknown\", IF($K144=99, \"Surveillance\", SUM($S144:$U144))), 0),\"Not required\")","v":0},0,0,0,0]
[{"$f":"IF(INTRO!$E$33<>0,INTRO!$E$33, \" \")","v":"Angola"},"MOXICO","LUCHAZES",18799.489695999997,{"$f":"IF(INTRO!$E$48=\"\",\"\",ROUND($D145*INTRO!$E$48,0))","v":2564},{"$f":"IF(INTRO!$E$49=\"\",\"\",ROUND($D145*INTRO!$E$49,0))","v":5234},{"$f":"IF(INTRO!$E$50=\"\",\"\",ROUND($D145*INTRO!$E$50,0))","v":10306},0,4,2,1,0,{"$f":"IF(INTRO!$E$37=\"Endemic\",IF($H145>0,IF($H145=4,\"Unknown\",IF($H145=99,\"Stopped\",$D145)),0),\"Not required\")","v":0},{"$f":"IF(INTRO!$E$39=\"Endemic\", IF($I145>0, IF($I145=4,\"Unknown\",IF($I145=99,\"Stopped\",$D145)), 0),\"Not required\")","v":"Unknown"},{"$f":"IF(INTRO!$E$41=\"Endemic\", IF($J145>1, IF($J145=4, \"Unknown\", IF($J145=99, \"Surveillance\", E145)), 0),\"Not required\")","v":2564},{"$f":"IF(INTRO!$E$41=\"Endemic\", IF($J145>1, IF($J145=4, \"Unknown\", IF($J145=99, \"Surveillance\", F145)), 0),\"Not required\")","v":5234},{"$f":"IF(INTRO!$E$41=\"Endemic\", IF($J145>1, IF($J145=4, \"Unknown\", IF($J145=99, \"Surveillance\", ROUND(D145*INTRO!$E$51,0))), 0),\"Not required\")","v":4345},{"$f":"IF(INTRO!$E$41=\"Endemic\", IF($J145>1, IF($J145=4, \"Unknown\", IF($J145=99, \"Surveillance\", SUM($O145:$Q145))), 0),\"Not required\")","v":12143},{"$f":"IF(INTRO!$E$43=\"Endemic\", IF($K145>1, IF($K145=4, \"Unknown\", IF($K145=99, \"Surveillance\", ROUND(E145*0.75,0))), 0),\"Not required\")","v":0},{"$f":"IF(INTRO!$E$43=\"Endemic\", IF($K145>1, IF($K145=4, \"Unknown\", IF($K145=99, \"Surveillance\", F145)), 0),\"Not required\")","v":0},{"$f":"IF(INTRO!$E$43=\"Endemic\", IF($K145>1, IF($K145=4, \"Unknown\", IF($K145=99, \"Surveillance\", G145)), 0),\"Not required\")","v":0},{"$f":"IF(INTRO!$E$43=\"Endemic\", IF($K145>1, IF($K145=4, \"Unknown\", IF($K145=99, \"Surveillance\", SUM($S145:$U145))), 0),\"Not required\")","v":0},0,0,1,0]
[{"$f":"IF(INTRO!$E$33<>0,INTRO!$E$33, \" \")","v":"Angola"},"MOXICO","MOXICO/LUENA",464974.11546299997,{"$f":"IF(INTRO!$E$48=\"\",\"\",ROUND($D146*INTRO!$E$48,0))","v":63422},{"$f":"IF(INTRO!$E$49=\"\",\"\",ROUND($D146*INTRO!$E$49,0))","v":129449},{"$f":"IF(INTRO!$E$50=\"\",\"\",ROUND($D146*INTRO!$E$50,0))","v":254899},0,1,2,1,0,{"$f":"IF(INTRO!$E$37=\"Endemic\",IF($H146>0,IF($H146=4,\"Unknown\",IF($H146=99,\"Stopped\",$D146)),0),\"Not required\")","v":0},{"$f":"IF(INTRO!$E$39=\"Endemic\", IF($I146>0, IF($I146=4,\"Unknown\",IF($I146=99,\"Stopped\",$D146)), 0),\"Not required\")","v":464974.11546299997},{"$f":"IF(INTRO!$E$41=\"Endemic\", IF($J146>1, IF($J146=4, \"Unknown\", IF($J146=99, \"Surveillance\", E146)), 0),\"Not required\")","v":63422},{"$f":"IF(INTRO!$E$41=\"Endemic\", IF($J146>1, IF($J146=4, \"Unknown\", IF($J146=99, \"Surveillance\", F146)), 0),\"Not required\")","v":129449},{"$f":"IF(INTRO!$E$41=\"Endemic\", IF($J146>1, IF($J146=4, \"Unknown\", IF($J146=99, \"Surveillance\", ROUND(D146*INTRO!$E$51,0))), 0),\"Not required\")","v":107456},{"$f":"IF(INTRO!$E$41=\"Endemic\", IF($J146>1, IF($J146=4, \"Unknown\", IF($J146=99, \"Surveillance\", SUM($O146:$Q146))), 0),\"Not required\")","v":300327},{"$f":"IF(INTRO!$E$43=\"Endemic\", IF($K146>1, IF($K146=4, \"Unknown\", IF($K146=99, \"Surveillance\", ROUND(E146*0.75,0))), 0),\"Not required\")","v":0},{"$f":"IF(INTRO!$E$43=\"Endemic\", IF($K146>1, IF($K146=4, \"Unknown\", IF($K146=99, \"Surveillance\", F146)), 0),\"Not required\")","v":0},{"$f":"IF(INTRO!$E$43=\"Endemic\", IF($K146>1, IF($K146=4, \"Unknown\", IF($K146=99, \"Surveillance\", G146)), 0),\"Not required\")","v":0},{"$f":"IF(INTRO!$E$43=\"Endemic\", IF($K146>1, IF($K146=4, \"Unknown\", IF($K146=99, \"Surveillance\", SUM($S146:$U146))), 0),\"Not required\")","v":0},0,1,1,0]
[{"$f":"IF(INTRO!$E$33<>0,INTRO!$E$33, \" \")","v":"Angola"},"NAMIBE","BIBALA",86443.47938199999,{"$f":"IF(INTRO!$E$48=\"\",\"\",ROUND($D147*INTRO!$E$48,0))","v":11791},{"$f":"IF(INTRO!$E$49=\"\",\"\",ROUND($D147*INTRO!$E$49,0))","v":24066},{"$f":"IF(INTRO!$E$50=\"\",\"\",ROUND($D147*INTRO!$E$50,0))","v":47388},0,4,1,3,0,{"$f":"IF(INTRO!$E$37=\"Endemic\",IF($H147>0,IF($H147=4,\"Unknown\",IF($H147=99,\"Stopped\",$D147)),0),\"Not required\")","v":0},{"$f":"IF(INTRO!$E$39=\"Endemic\", IF($I147>0, IF($I147=4,\"Unknown\",IF($I147=99,\"Stopped\",$D147)), 0),\"Not required\")","v":"Unknown"},{"$f":"IF(INTRO!$E$41=\"Endemic\", IF($J147>1, IF($J147=4, \"Unknown\", IF($J147=99, \"Surveillance\", E147)), 0),\"Not required\")","v":0},{"$f":"IF(INTRO!$E$41=\"Endemic\", IF($J147>1, IF($J147=4, \"Unknown\", IF($J147=99, \"Surveillance\", F147)), 0),\"Not required\")","v":0},{"$f":"IF(INTRO!$E$41=\"Endemic\", IF($J147>1, IF($J147=4, \"Unknown\", IF($J147=99, \"Surveillance\", ROUND(D147*INTRO!$E$51,0))), 0),\"Not required\")","v":0},{"$f":"IF(INTRO!$E$41=\"Endemic\", IF($J147>1, IF($J147=4, \"Unknown\", IF($J147=99, \"Surveillance\", SUM($O147:$Q147))), 0),\"Not required\")","v":0},{"$f":"IF(INTRO!$E$43=\"Endemic\", IF($K147>1, IF($K147=4, \"Unknown\", IF($K147=99, \"Surveillance\", ROUND(E147*0.75,0))), 0),\"Not required\")","v":8843},{"$f":"IF(INTRO!$E$43=\"Endemic\", IF($K147>1, IF($K147=4, \"Unknown\", IF($K147=99, \"Surveillance\", F147)), 0),\"Not required\")","v":24066},{"$f":"IF(INTRO!$E$43=\"Endemic\", IF($K147>1, IF($K147=4, \"Unknown\", IF($K147=99, \"Surveillance\", G147)), 0),\"Not required\")","v":47388},{"$f":"IF(INTRO!$E$43=\"Endemic\", IF($K147>1, IF($K147=4, \"Unknown\", IF($K147=99, \"Surveillance\", SUM($S147:$U147))), 0),\"Not required\")","v":80297},0,0,0,1]
[{"$f":"IF(INTRO!$E$33<>0,INTRO!$E$33, \" \")","v":"Angola"},"NAMIBE","CAMUCUIO",67474.178316999984,{"$f":"IF(INTRO!$E$48=\"\",\"\",ROUND($D148*INTRO!$E$48,0))","v":9203},{"$f":"IF(INTRO!$E$49=\"\",\"\",ROUND($D148*INTRO!$E$49,0))","v":18785},{"$f":"IF(INTRO!$E$50=\"\",\"\",ROUND($D148*INTRO!$E$50,0))","v":36989},0,4,1,3,0,{"$f":"IF(INTRO!$E$37=\"Endemic\",IF($H148>0,IF($H148=4,\"Unknown\",IF($H148=99,\"Stopped\",$D148)),0),\"Not required\")","v":0},{"$f":"IF(INTRO!$E$39=\"Endemic\", IF($I148>0, IF($I148=4,\"Unknown\",IF($I148=99,\"Stopped\",$D148)), 0),\"Not required\")","v":"Unknown"},{"$f":"IF(INTRO!$E$41=\"Endemic\", IF($J148>1, IF($J148=4, \"Unknown\", IF($J148=99, \"Surveillance\", E148)), 0),\"Not required\")","v":0},{"$f":"IF(INTRO!$E$41=\"Endemic\", IF($J148>1, IF($J148=4, \"Unknown\", IF($J148=99, \"Surveillance\", F148)), 0),\"Not required\")","v":0},{"$f":"IF(INTRO!$E$41=\"Endemic\", IF($J148>1, IF($J148=4, \"Unknown\", IF($J148=99, \"Surveillance\", ROUND(D148*INTRO!$E$51,0))), 0),\"Not required\")","v":0},{"$f":"IF(INTRO!$E$41=\"Endemic\", IF($J148>1, IF($J148=4, \"Unknown\", IF($J148=99, \"Surveillance\", SUM($O148:$Q148))), 0),\"Not required\")","v":0},{"$f":"IF(INTRO!$E$43=\"Endemic\", IF($K148>1, IF($K148=4, \"Unknown\", IF($K148=99, \"Surveillance\", ROUND(E148*0.75,0))), 0),\"Not required\")","v":6902},{"$f":"IF(INTRO!$E$43=\"Endemic\", IF($K148>1, IF($K148=4, \"Unknown\", IF($K148=99, \"Surveillance\", F148)), 0),\"Not required\")","v":18785},{"$f":"IF(INTRO!$E$43=\"Endemic\", IF($K148>1, IF($K148=4, \"Unknown\", IF($K148=99, \"Surveillance\", G148)), 0),\"Not required\")","v":36989},{"$f":"IF(INTRO!$E$43=\"Endemic\", IF($K148>1, IF($K148=4, \"Unknown\", IF($K148=99, \"Surveillance\", SUM($S148:$U148))), 0),\"Not required\")","v":62676},0,0,0,1]
[{"$f":"IF(INTRO!$E$33<>0,INTRO!$E$33, \" \")","v":"Angola"},"NAMIBE","MOÇAMEDES",392032.22200999997,{"$f":"IF(INTRO!$E$48=\"\",\"\",ROUND($D149*INTRO!$E$48,0))","v":53473},{"$f":"IF(INTRO!$E$49=\"\",\"\",ROUND($D149*INTRO!$E$49,0))","v":109142},{"$f":"IF(INTRO!$E$50=\"\",\"\",ROUND($D149*INTRO!$E$50,0))","v":214912},0,4,0,2,0,{"$f":"IF(INTRO!$E$37=\"Endemic\",IF($H149>0,IF($H149=4,\"Unknown\",IF($H149=99,\"Stopped\",$D149)),0),\"Not required\")","v":0},{"$f":"IF(INTRO!$E$39=\"Endemic\", IF($I149>0, IF($I149=4,\"Unknown\",IF($I149=99,\"Stopped\",$D149)), 0),\"Not required\")","v":"Unknown"},{"$f":"IF(INTRO!$E$41=\"Endemic\", IF($J149>1, IF($J149=4, \"Unknown\", IF($J149=99, \"Surveillance\", E149)), 0),\"Not required\")","v":0},{"$f":"IF(INTRO!$E$41=\"Endemic\", IF($J149>1, IF($J149=4, \"Unknown\", IF($J149=99, \"Surveillance\", F149)), 0),\"Not required\")","v":0},{"$f":"IF(INTRO!$E$41=\"Endemic\", IF($J149>1, IF($J149=4, \"Unknown\", IF($J149=99, \"Surveillance\", ROUND(D149*INTRO!$E$51,0))), 0),\"Not required\")","v":0},{"$f":"IF(INTRO!$E$41=\"Endemic\", IF($J149>1, IF($J149=4, \"Unknown\", IF($J149=99, \"Surveillance\", SUM($O149:$Q149))), 0),\"Not required\")","v":0},{"$f":"IF(INTRO!$E$43=\"Endemic\", IF($K149>1, IF($K149=4, \"Unknown\", IF($K149=99, \"Surveillance\", ROUND(E149*0.75,0))), 0),\"Not required\")","v":40105},{"$f":"IF(INTRO!$E$43=\"Endemic\", IF($K149>1, IF($K149=4, \"Unknown\", IF($K149=99, \"Surveillance\", F149)), 0),\"Not required\")","v":109142},{"$f":"IF(INTRO!$E$43=\"Endemic\", IF($K149>1, IF($K149=4, \"Unknown\", IF($K149=99, \"Surveillance\", G149)), 0),\"Not required\")","v":214912},{"$f":"IF(INTRO!$E$43=\"Endemic\", IF($K149>1, IF($K149=4, \"Unknown\", IF($K149=99, \"Surveillance\", SUM($S149:$U149))), 0),\"Not required\")","v":364159},0,0,0,1]
[{"$f":"IF(INTRO!$E$33<>0,INTRO!$E$33, \" \")","v":"Angola"},"NAMIBE","TOMBWA",74368.941789999983,{"$f":"IF(INTRO!$E$48=\"\",\"\",ROUND($D150*INTRO!$E$48,0))","v":10144},{"$f":"IF(INTRO!$E$49=\"\",\"\",ROUND($D150*INTRO!$E$49,0))","v":20704},{"$f":"IF(INTRO!$E$50=\"\",\"\",ROUND($D150*INTRO!$E$50,0))","v":40769},0,4,1,1,0,{"$f":"IF(INTRO!$E$37=\"Endemic\",IF($H150>0,IF($H150=4,\"Unknown\",IF($H150=99,\"Stopped\",$D150)),0),\"Not required\")","v":0},{"$f":"IF(INTRO!$E$39=\"Endemic\", IF($I150>0, IF($I150=4,\"Unknown\",IF($I150=99,\"Stopped\",$D150)), 0),\"Not required\")","v":"Unknown"},{"$f":"IF(INTRO!$E$41=\"Endemic\", IF($J150>1, IF($J150=4, \"Unknown\", IF($J150=99, \"Surveillance\", E150)), 0),\"Not required\")","v":0},{"$f":"IF(INTRO!$E$41=\"Endemic\", IF($J150>1, IF($J150=4, \"Unknown\", IF($J150=99, \"Surveillance\", F150)), 0),\"Not required\")","v":0},{"$f":"IF(INTRO!$E$41=\"Endemic\", IF($J150>1, IF($J150=4, \"Unknown\", IF($J150=99, \"Surveillance\", ROUND(D150*INTRO!$E$51,0))), 0),\"Not required\")","v":0},{"$f":"IF(INTRO!$E$41=\"Endemic\", IF($J150>1, IF($J150=4, \"Unknown\", IF($J150=99, \"Surveillance\", SUM($O150:$Q150))), 0),\"Not required\")","v":0},{"$f":"IF(INTRO!$E$43=\"Endemic\", IF($K150>1, IF($K150=4, \"Unknown\", IF($K150=99, \"Surveillance\", ROUND(E150*0.75,0))), 0),\"Not required\")","v":0},{"$f":"IF(INTRO!$E$43=\"Endemic\", IF($K150>1, IF($K150=4, \"Unknown\", IF($K150=99, \"Surveillance\", F150)), 0),\"Not required\")","v":0},{"$f":"IF(INTRO!$E$43=\"Endemic\", IF($K150>1, IF($K150=4, \"Unknown\", IF($K150=99, \"Surveillance\", G150)), 0),\"Not required\")","v":0},{"$f":"IF(INTRO!$E$43=\"Endemic\", IF($K150>1, IF($K150=4, \"Unknown\", IF($K150=99, \"Surveillance\", SUM($S150:$U150))), 0),\"Not required\")","v":0},0,0,0,0]
[{"$f":"IF(INTRO!$E$33<>0,INTRO!$E$33, \" \")","v":"Angola"},"NAMIBE","VIREI",43480.148295999992,{"$f":"IF(INTRO!$E$48=\"\",\"\",ROUND($D151*INTRO!$E$48,0))","v":5931},{"$f":"IF(INTRO!$E$49=\"\",\"\",ROUND($D151*INTRO!$E$49,0))","v":12105},{"$f":"IF(INTRO!$E$50=\"\",\"\",ROUND($D151*INTRO!$E$50,0))","v":23836},0,4,1,1,0,{"$f":"IF(INTRO!$E$37=\"Endemic\",IF($H151>0,IF($H151=4,\"Unknown\",IF($H151=99,\"Stopped\",$D151)),0),\"Not required\")","v":0},{"$f":"IF(INTRO!$E$39=\"Endemic\", IF($I151>0, IF($I151=4,\"Unknown\",IF($I151=99,\"Stopped\",$D151)), 0),\"Not required\")","v":"Unknown"},{"$f":"IF(INTRO!$E$41=\"Endemic\", IF($J151>1, IF($J151=4, \"Unknown\", IF($J151=99, \"Surveillance\", E151)), 0),\"Not required\")","v":0},{"$f":"IF(INTRO!$E$41=\"Endemic\", IF($J151>1, IF($J151=4, \"Unknown\", IF($J151=99, \"Surveillance\", F151)), 0),\"Not required\")","v":0},{"$f":"IF(INTRO!$E$41=\"Endemic\", IF($J151>1, IF($J151=4, \"Unknown\", IF($J151=99, \"Surveillance\", ROUND(D151*INTRO!$E$51,0))), 0),\"Not required\")","v":0},{"$f":"IF(INTRO!$E$41=\"Endemic\", IF($J151>1, IF($J151=4, \"Unknown\", IF($J151=99, \"Surveillance\", SUM($O151:$Q151))), 0),\"Not required\")","v":0},{"$f":"IF(INTRO!$E$43=\"Endemic\", IF($K151>1, IF($K151=4, \"Unknown\", IF($K151=99, \"Surveillance\", ROUND(E151*0.75,0))), 0),\"Not required\")","v":0},{"$f":"IF(INTRO!$E$43=\"Endemic\", IF($K151>1, IF($K151=4, \"Unknown\", IF($K151=99, \"Surveillance\", F151)), 0),\"Not required\")","v":0},{"$f":"IF(INTRO!$E$43=\"Endemic\", IF($K151>1, IF($K151=4, \"Unknown\", IF($K151=99, \"Surveillance\", G151)), 0),\"Not required\")","v":0},{"$f":"IF(INTRO!$E$43=\"Endemic\", IF($K151>1, IF($K151=4, \"Unknown\", IF($K151=99, \"Surveillance\", SUM($S151:$U151))), 0),\"Not required\")","v":0},0,0,0,0]
[{"$f":"IF(INTRO!$E$33<>0,INTRO!$E$33, \" \")","v":"Angola"},"UIGE","AMBUILA",23365.411536999996,{"$f":"IF(INTRO!$E$48=\"\",\"\",ROUND($D152*INTRO!$E$48,0))","v":3187},{"$f":"IF(INTRO!$E$49=\"\",\"\",ROUND($D152*INTRO!$E$49,0))","v":6505},{"$f":"IF(INTRO!$E$50=\"\",\"\",ROUND($D152*INTRO!$E$50,0))","v":12809},1,4,31,21,1,{"$f":"IF(INTRO!$E$37=\"Endemic\",IF($H152>0,IF($H152=4,\"Unknown\",IF($H152=99,\"Stopped\",$D152)),0),\"Not required\")","v":23365.411536999996},{"$f":"IF(INTRO!$E$39=\"Endemic\", IF($I152>0, IF($I152=4,\"Unknown\",IF($I152=99,\"Stopped\",$D152)), 0),\"Not required\")","v":"Unknown"},{"$f":"IF(INTRO!$E$41=\"Endemic\", IF($J152>1, IF($J152=4, \"Unknown\", IF($J152=99, \"Surveillance\", E152)), 0),\"Not required\")","v":3187},{"$f":"IF(INTRO!$E$41=\"Endemic\", IF($J152>1, IF($J152=4, \"Unknown\", IF($J152=99, \"Surveillance\", F152)), 0),\"Not required\")","v":6505},{"$f":"IF(INTRO!$E$41=\"Endemic\", IF($J152>1, IF($J152=4, \"Unknown\", IF($J152=99, \"Surveillance\", ROUND(D152*INTRO!$E$51,0))), 0),\"Not required\")","v":5400},{"$f":"IF(INTRO!$E$41=\"Endemic\", IF($J152>1, IF($J152=4, \"Unknown\", IF($J152=99, \"Surveillance\", SUM($O152:$Q152))), 0),\"Not required\")","v":15092},{"$f":"IF(INTRO!$E$43=\"Endemic\", IF($K152>1, IF($K152=4, \"Unknown\", IF($K152=99, \"Surveillance\", ROUND(E152*0.75,0))), 0),\"Not required\")","v":2390},{"$f":"IF(INTRO!$E$43=\"Endemic\", IF($K152>1, IF($K152=4, \"Unknown\", IF($K152=99, \"Surveillance\", F152)), 0),\"Not required\")","v":6505},{"$f":"IF(INTRO!$E$43=\"Endemic\", IF($K152>1, IF($K152=4, \"Unknown\", IF($K152=99, \"Surveillance\", G152)), 0),\"Not required\")","v":12809},{"$f":"IF(INTRO!$E$43=\"Endemic\", IF($K152>1, IF($K152=4, \"Unknown\", IF($K152=99, \"Surveillance\", SUM($S152:$U152))), 0),\"Not required\")","v":21704},1,0,3,1]
[{"$f":"IF(INTRO!$E$33<>0,INTRO!$E$33, \" \")","v":"Angola"},"UIGE","BEMBE",42499.250325999994,{"$f":"IF(INTRO!$E$48=\"\",\"\",ROUND($D153*INTRO!$E$48,0))","v":5797},{"$f":"IF(INTRO!$E$49=\"\",\"\",ROUND($D153*INTRO!$E$49,0))","v":11832},{"$f":"IF(INTRO!$E$50=\"\",\"\",ROUND($D153*INTRO!$E$50,0))","v":23298},0,4,22,21,0,{"$f":"IF(INTRO!$E$37=\"Endemic\",IF($H153>0,IF($H153=4,\"Unknown\",IF($H153=99,\"Stopped\",$D153)),0),\"Not required\")","v":0},{"$f":"IF(INTRO!$E$39=\"Endemic\", IF($I153>0, IF($I153=4,\"Unknown\",IF($I153=99,\"Stopped\",$D153)), 0),\"Not required\")","v":"Unknown"},{"$f":"IF(INTRO!$E$41=\"Endemic\", IF($J153>1, IF($J153=4, \"Unknown\", IF($J153=99, \"Surveillance\", E153)), 0),\"Not required\")","v":5797},{"$f":"IF(INTRO!$E$41=\"Endemic\", IF($J153>1, IF($J153=4, \"Unknown\", IF($J153=99, \"Surveillance\", F153)), 0),\"Not required\")","v":11832},{"$f":"IF(INTRO!$E$41=\"Endemic\", IF($J153>1, IF($J153=4, \"Unknown\", IF($J153=99, \"Surveillance\", ROUND(D153*INTRO!$E$51,0))), 0),\"Not required\")","v":9822},{"$f":"IF(INTRO!$E$41=\"Endemic\", IF($J153>1, IF($J153=4, \"Unknown\", IF($J153=99, \"Surveillance\", SUM($O153:$Q153))), 0),\"Not required\")","v":27451},{"$f":"IF(INTRO!$E$43=\"Endemic\", IF($K153>1, IF($K153=4, \"Unknown\", IF($K153=99, \"Surveillance\", ROUND(E153*0.75,0))), 0),\"Not required\")","v":4348},{"$f":"IF(INTRO!$E$43=\"Endemic\", IF($K153>1, IF($K153=4, \"Unknown\", IF($K153=99, \"Surveillance\", F153)), 0),\"Not required\")","v":11832},{"$f":"IF(INTRO!$E$43=\"Endemic\", IF($K153>1, IF($K153=4, \"Unknown\", IF($K153=99, \"Surveillance\", G153)), 0),\"Not required\")","v":23298},{"$f":"IF(INTRO!$E$43=\"Endemic\", IF($K153>1, IF($K153=4, \"Unknown\", IF($K153=99, \"Surveillance\", SUM($S153:$U153))), 0),\"Not required\")","v":39478},0,0,2,1]
[{"$f":"IF(INTRO!$E$33<>0,INTRO!$E$33, \" \")","v":"Angola"},"UIGE","BUENGAS",73828.920541999993,{"$f":"IF(INTRO!$E$48=\"\",\"\",ROUND($D154*INTRO!$E$48,0))","v":10070},{"$f":"IF(INTRO!$E$49=\"\",\"\",ROUND($D154*INTRO!$E$49,0))","v":20554},{"$f":"IF(INTRO!$E$50=\"\",\"\",ROUND($D154*INTRO!$E$50,0))","v":40473},0,4,31,21,0,{"$f":"IF(INTRO!$E$37=\"Endemic\",IF($H154>0,IF($H154=4,\"Unknown\",IF($H154=99,\"Stopped\",$D154)),0),\"Not required\")","v":0},{"$f":"IF(INTRO!$E$39=\"Endemic\", IF($I154>0, IF($I154=4,\"Unknown\",IF($I154=99,\"Stopped\",$D154)), 0),\"Not required\")","v":"Unknown"},{"$f":"IF(INTRO!$E$41=\"Endemic\", IF($J154>1, IF($J154=4, \"Unknown\", IF($J154=99, \"Surveillance\", E154)), 0),\"Not required\")","v":10070},{"$f":"IF(INTRO!$E$41=\"Endemic\", IF($J154>1, IF($J154=4, \"Unknown\", IF($J154=99, \"Surveillance\", F154)), 0),\"Not required\")","v":20554},{"$f":"IF(INTRO!$E$41=\"Endemic\", IF($J154>1, IF($J154=4, \"Unknown\", IF($J154=99, \"Surveillance\", ROUND(D154*INTRO!$E$51,0))), 0),\"Not required\")","v":17062},{"$f":"IF(INTRO!$E$41=\"Endemic\", IF($J154>1, IF($J154=4, \"Unknown\", IF($J154=99, \"Surveillance\", SUM($O154:$Q154))), 0),\"Not required\")","v":47686},{"$f":"IF(INTRO!$E$43=\"Endemic\", IF($K154>1, IF($K154=4, \"Unknown\", IF($K154=99, \"Surveillance\", ROUND(E154*0.75,0))), 0),\"Not required\")","v":7553},{"$f":"IF(INTRO!$E$43=\"Endemic\", IF($K154>1, IF($K154=4, \"Unknown\", IF($K154=99, \"Surveillance\", F154)), 0),\"Not required\")","v":20554},{"$f":"IF(INTRO!$E$43=\"Endemic\", IF($K154>1, IF($K154=4, \"Unknown\", IF($K154=99, \"Surveillance\", G154)), 0),\"Not required\")","v":40473},{"$f":"IF(INTRO!$E$43=\"Endemic\", IF($K154>1, IF($K154=4, \"Unknown\", IF($K154=99, \"Surveillance\", SUM($S154:$U154))), 0),\"Not required\")","v":68580},0,0,3,1]
[{"$f":"IF(INTRO!$E$33<>0,INTRO!$E$33, \" \")","v":"Angola"},"UIGE","BUNGO",47914.229011999996,{"$f":"IF(INTRO!$E$48=\"\",\"\",ROUND($D155*INTRO!$E$48,0))","v":6536},{"$f":"IF(INTRO!$E$49=\"\",\"\",ROUND($D155*INTRO!$E$49,0))","v":13339},{"$f":"IF(INTRO!$E$50=\"\",\"\",ROUND($D155*INTRO!$E$50,0))","v":26267},0,1,31,21,1,{"$f":"IF(INTRO!$E$37=\"Endemic\",IF($H155>0,IF($H155=4,\"Unknown\",IF($H155=99,\"Stopped\",$D155)),0),\"Not required\")","v":0},{"$f":"IF(INTRO!$E$39=\"Endemic\", IF($I155>0, IF($I155=4,\"Unknown\",IF($I155=99,\"Stopped\",$D155)), 0),\"Not required\")","v":47914.229011999996},{"$f":"IF(INTRO!$E$41=\"Endemic\", IF($J155>1, IF($J155=4, \"Unknown\", IF($J155=99, \"Surveillance\", E155)), 0),\"Not required\")","v":6536},{"$f":"IF(INTRO!$E$41=\"Endemic\", IF($J155>1, IF($J155=4, \"Unknown\", IF($J155=99, \"Surveillance\", F155)), 0),\"Not required\")","v":13339},{"$f":"IF(INTRO!$E$41=\"Endemic\", IF($J155>1, IF($J155=4, \"Unknown\", IF($J155=99, \"Surveillance\", ROUND(D155*INTRO!$E$51,0))), 0),\"Not required\")","v":11073},{"$f":"IF(INTRO!$E$41=\"Endemic\", IF($J155>1, IF($J155=4, \"Unknown\", IF($J155=99, \"Surveillance\", SUM($O155:$Q155))), 0),\"Not required\")","v":30948},{"$f":"IF(INTRO!$E$43=\"Endemic\", IF($K155>1, IF($K155=4, \"Unknown\", IF($K155=99, \"Surveillance\", ROUND(E155*0.75,0))), 0),\"Not required\")","v":4902},{"$f":"IF(INTRO!$E$43=\"Endemic\", IF($K155>1, IF($K155=4, \"Unknown\", IF($K155=99, \"Surveillance\", F155)), 0),\"Not required\")","v":13339},{"$f":"IF(INTRO!$E$43=\"Endemic\", IF($K155>1, IF($K155=4, \"Unknown\", IF($K155=99, \"Surveillance\", G155)), 0),\"Not required\")","v":26267},{"$f":"IF(INTRO!$E$43=\"Endemic\", IF($K155>1, IF($K155=4, \"Unknown\", IF($K155=99, \"Surveillance\", SUM($S155:$U155))), 0),\"Not required\")","v":44508},0,1,3,1]
[{"$f":"IF(INTRO!$E$33<>0,INTRO!$E$33, \" \")","v":"Angola"},"UIGE","CANGOLA",69278.819635999986,{"$f":"IF(INTRO!$E$48=\"\",\"\",ROUND($D156*INTRO!$E$48,0))","v":9450},{"$f":"IF(INTRO!$E$49=\"\",\"\",ROUND($D156*INTRO!$E$49,0))","v":19287},{"$f":"IF(INTRO!$E$50=\"\",\"\",ROUND($D156*INTRO!$E$50,0))","v":37979},0,4,31,11,0,{"$f":"IF(INTRO!$E$37=\"Endemic\",IF($H156>0,IF($H156=4,\"Unknown\",IF($H156=99,\"Stopped\",$D156)),0),\"Not required\")","v":0},{"$f":"IF(INTRO!$E$39=\"Endemic\", IF($I156>0, IF($I156=4,\"Unknown\",IF($I156=99,\"Stopped\",$D156)), 0),\"Not required\")","v":"Unknown"},{"$f":"IF(INTRO!$E$41=\"Endemic\", IF($J156>1, IF($J156=4, \"Unknown\", IF($J156=99, \"Surveillance\", E156)), 0),\"Not required\")","v":9450},{"$f":"IF(INTRO!$E$41=\"Endemic\", IF($J156>1, IF($J156=4, \"Unknown\", IF($J156=99, \"Surveillance\", F156)), 0),\"Not required\")","v":19287},{"$f":"IF(INTRO!$E$41=\"Endemic\", IF($J156>1, IF($J156=4, \"Unknown\", IF($J156=99, \"Surveillance\", ROUND(D156*INTRO!$E$51,0))), 0),\"Not required\")","v":16010},{"$f":"IF(INTRO!$E$41=\"Endemic\", IF($J156>1, IF($J156=4, \"Unknown\", IF($J156=99, \"Surveillance\", SUM($O156:$Q156))), 0),\"Not required\")","v":44747},{"$f":"IF(INTRO!$E$43=\"Endemic\", IF($K156>1, IF($K156=4, \"Unknown\", IF($K156=99, \"Surveillance\", ROUND(E156*0.75,0))), 0),\"Not required\")","v":7088},{"$f":"IF(INTRO!$E$43=\"Endemic\", IF($K156>1, IF($K156=4, \"Unknown\", IF($K156=99, \"Surveillance\", F156)), 0),\"Not required\")","v":19287},{"$f":"IF(INTRO!$E$43=\"Endemic\", IF($K156>1, IF($K156=4, \"Unknown\", IF($K156=99, \"Surveillance\", G156)), 0),\"Not required\")","v":37979},{"$f":"IF(INTRO!$E$43=\"Endemic\", IF($K156>1, IF($K156=4, \"Unknown\", IF($K156=99, \"Surveillance\", SUM($S156:$U156))), 0),\"Not required\")","v":64354},0,0,3,1]
[{"$f":"IF(INTRO!$E$33<>0,INTRO!$E$33, \" \")","v":"Angola"},"UIGE","DAMBA",85726.263661999983,{"$f":"IF(INTRO!$E$48=\"\",\"\",ROUND($D157*INTRO!$E$48,0))","v":11693},{"$f":"IF(INTRO!$E$49=\"\",\"\",ROUND($D157*INTRO!$E$49,0))","v":23866},{"$f":"IF(INTRO!$E$50=\"\",\"\",ROUND($D157*INTRO!$E$50,0))","v":46995},0,4,31,21,0,{"$f":"IF(INTRO!$E$37=\"Endemic\",IF($H157>0,IF($H157=4,\"Unknown\",IF($H157=99,\"Stopped\",$D157)),0),\"Not required\")","v":0},{"$f":"IF(INTRO!$E$39=\"Endemic\", IF($I157>0, IF($I157=4,\"Unknown\",IF($I157=99,\"Stopped\",$D157)), 0),\"Not required\")","v":"Unknown"},{"$f":"IF(INTRO!$E$41=\"Endemic\", IF($J157>1, IF($J157=4, \"Unknown\", IF($J157=99, \"Surveillance\", E157)), 0),\"Not required\")","v":11693},{"$f":"IF(INTRO!$E$41=\"Endemic\", IF($J157>1, IF($J157=4, \"Unknown\", IF($J157=99, \"Surveillance\", F157)), 0),\"Not required\")","v":23866},{"$f":"IF(INTRO!$E$41=\"Endemic\", IF($J157>1, IF($J157=4, \"Unknown\", IF($J157=99, \"Surveillance\", ROUND(D157*INTRO!$E$51,0))), 0),\"Not required\")","v":19811},{"$f":"IF(INTRO!$E$41=\"Endemic\", IF($J157>1, IF($J157=4, \"Unknown\", IF($J157=99, \"Surveillance\", SUM($O157:$Q157))), 0),\"Not required\")","v":55370},{"$f":"IF(INTRO!$E$43=\"Endemic\", IF($K157>1, IF($K157=4, \"Unknown\", IF($K157=99, \"Surveillance\", ROUND(E157*0.75,0))), 0),\"Not required\")","v":8770},{"$f":"IF(INTRO!$E$43=\"Endemic\", IF($K157>1, IF($K157=4, \"Unknown\", IF($K157=99, \"Surveillance\", F157)), 0),\"Not required\")","v":23866},{"$f":"IF(INTRO!$E$43=\"Endemic\", IF($K157>1, IF($K157=4, \"Unknown\", IF($K157=99, \"Surveillance\", G157)), 0),\"Not required\")","v":46995},{"$f":"IF(INTRO!$E$43=\"Endemic\", IF($K157>1, IF($K157=4, \"Unknown\", IF($K157=99, \"Surveillance\", SUM($S157:$U157))), 0),\"Not required\")","v":79631},0,0,3,1]
[{"$f":"IF(INTRO!$E$33<>0,INTRO!$E$33, \" \")","v":"Angola"},"UIGE","MAQUELA DO ZOMBO",164237.12623499997,{"$f":"IF(INTRO!$E$48=\"\",\"\",ROUND($D158*INTRO!$E$48,0))","v":22402},{"$f":"IF(INTRO!$E$49=\"\",\"\",ROUND($D158*INTRO!$E$49,0))","v":45724},{"$f":"IF(INTRO!$E$50=\"\",\"\",ROUND($D158*INTRO!$E$50,0))","v":90035},0,4,31,21,0,{"$f":"IF(INTRO!$E$37=\"Endemic\",IF($H158>0,IF($H158=4,\"Unknown\",IF($H158=99,\"Stopped\",$D158)),0),\"Not required\")","v":0},{"$f":"IF(INTRO!$E$39=\"Endemic\", IF($I158>0, IF($I158=4,\"Unknown\",IF($I158=99,\"Stopped\",$D158)), 0),\"Not required\")","v":"Unknown"},{"$f":"IF(INTRO!$E$41=\"Endemic\", IF($J158>1, IF($J158=4, \"Unknown\", IF($J158=99, \"Surveillance\", E158)), 0),\"Not required\")","v":22402},{"$f":"IF(INTRO!$E$41=\"Endemic\", IF($J158>1, IF($J158=4, \"Unknown\", IF($J158=99, \"Surveillance\", F158)), 0),\"Not required\")","v":45724},{"$f":"IF(INTRO!$E$41=\"Endemic\", IF($J158>1, IF($J158=4, \"Unknown\", IF($J158=99, \"Surveillance\", ROUND(D158*INTRO!$E$51,0))), 0),\"Not required\")","v":37955},{"$f":"IF(INTRO!$E$41=\"Endemic\", IF($J158>1, IF($J158=4, \"Unknown\", IF($J158=99, \"Surveillance\", SUM($O158:$Q158))), 0),\"Not required\")","v":106081},{"$f":"IF(INTRO!$E$43=\"Endemic\", IF($K158>1, IF($K158=4, \"Unknown\", IF($K158=99, \"Surveillance\", ROUND(E158*0.75,0))), 0),\"Not required\")","v":16802},{"$f":"IF(INTRO!$E$43=\"Endemic\", IF($K158>1, IF($K158=4, \"Unknown\", IF($K158=99, \"Surveillance\", F158)), 0),\"Not required\")","v":45724},{"$f":"IF(INTRO!$E$43=\"Endemic\", IF($K158>1, IF($K158=4, \"Unknown\", IF($K158=99, \"Surveillance\", G158)), 0),\"Not required\")","v":90035},{"$f":"IF(INTRO!$E$43=\"Endemic\", IF($K158>1, IF($K158=4, \"Unknown\", IF($K158=99, \"Surveillance\", SUM($S158:$U158))), 0),\"Not required\")","v":152561},0,0,3,1]
[{"$f":"IF(INTRO!$E$33<>0,INTRO!$E$33, \" \")","v":"Angola"},"UIGE","MILUNGA",65251.864313999991,{"$f":"IF(INTRO!$E$48=\"\",\"\",ROUND($D159*INTRO!$E$48,0))","v":8900},{"$f":"IF(INTRO!$E$49=\"\",\"\",ROUND($D159*INTRO!$E$49,0))","v":18166},{"$f":"IF(INTRO!$E$50=\"\",\"\",ROUND($D159*INTRO!$E$50,0))","v":35771},0,4,31,21,0,{"$f":"IF(INTRO!$E$37=\"Endemic\",IF($H159>0,IF($H159=4,\"Unknown\",IF($H159=99,\"Stopped\",$D159)),0),\"Not required\")","v":0},{"$f":"IF(INTRO!$E$39=\"Endemic\", IF($I159>0, IF($I159=4,\"Unknown\",IF($I159=99,\"Stopped\",$D159)), 0),\"Not required\")","v":"Unknown"},{"$f":"IF(INTRO!$E$41=\"Endemic\", IF($J159>1, IF($J159=4, \"Unknown\", IF($J159=99, \"Surveillance\", E159)), 0),\"Not required\")","v":8900},{"$f":"IF(INTRO!$E$41=\"Endemic\", IF($J159>1, IF($J159=4, \"Unknown\", IF($J159=99, \"Surveillance\", F159)), 0),\"Not required\")","v":18166},{"$f":"IF(INTRO!$E$41=\"Endemic\", IF($J159>1, IF($J159=4, \"Unknown\", IF($J159=99, \"Surveillance\", ROUND(D159*INTRO!$E$51,0))), 0),\"Not required\")","v":15080},{"$f":"IF(INTRO!$E$41=\"Endemic\", IF($J159>1, IF($J159=4, \"Unknown\", IF($J159=99, \"Surveillance\", SUM($O159:$Q159))), 0),\"Not required\")","v":42146},{"$f":"IF(INTRO!$E$43=\"Endemic\", IF($K159>1, IF($K159=4, \"Unknown\", IF($K159=99, \"Surveillance\", ROUND(E159*0.75,0))), 0),\"Not required\")","v":6675},{"$f":"IF(INTRO!$E$43=\"Endemic\", IF($K159>1, IF($K159=4, \"Unknown\", IF($K159=99, \"Surveillance\", F159)), 0),\"Not required\")","v":18166},{"$f":"IF(INTRO!$E$43=\"Endemic\", IF($K159>1, IF($K159=4, \"Unknown\", IF($K159=99, \"Surveillance\", G159)), 0),\"Not required\")","v":35771},{"$f":"IF(INTRO!$E$43=\"Endemic\", IF($K159>1, IF($K159=4, \"Unknown\", IF($K159=99, \"Surveillance\", SUM($S159:$U159))), 0),\"Not required\")","v":60612},0,0,3,1]
[{"$f":"IF(INTRO!$E$33<>0,INTRO!$E$33, \" \")","v":"Angola"},"UIGE","MUCABA",56710.668871999987,{"$f":"IF(INTRO!$E$48=\"\",\"\",ROUND($D160*INTRO!$E$48,0))","v":7735},{"$f":"IF(INTRO!$E$49=\"\",\"\",ROUND($D160*INTRO!$E$49,0))","v":15788},{"$f":"IF(INTRO!$E$50=\"\",\"\",ROUND($D160*INTRO!$E$50,0))","v":31089},0,4,31,11,0,{"$f":"IF(INTRO!$E$37=\"Endemic\",IF($H160>0,IF($H160=4,\"Unknown\",IF($H160=99,\"Stopped\",$D160)),0),\"Not required\")","v":0},{"$f":"IF(INTRO!$E$39=\"Endemic\", IF($I160>0, IF($I160=4,\"Unknown\",IF($I160=99,\"Stopped\",$D160)), 0),\"Not required\")","v":"Unknown"},{"$f":"IF(INTRO!$E$41=\"Endemic\", IF($J160>1, IF($J160=4, \"Unknown\", IF($J160=99, \"Surveillance\", E160)), 0),\"Not required\")","v":7735},{"$f":"IF(INTRO!$E$41=\"Endemic\", IF($J160>1, IF($J160=4, \"Unknown\", IF($J160=99, \"Surveillance\", F160)), 0),\"Not required\")","v":15788},{"$f":"IF(INTRO!$E$41=\"Endemic\", IF($J160>1, IF($J160=4, \"Unknown\", IF($J160=99, \"Surveillance\", ROUND(D160*INTRO!$E$51,0))), 0),\"Not required\")","v":13106},{"$f":"IF(INTRO!$E$41=\"Endemic\", IF($J160>1, IF($J160=4, \"Unknown\", IF($J160=99, \"Surveillance\", SUM($O160:$Q160))), 0),\"Not required\")","v":36629},{"$f":"IF(INTRO!$E$43=\"Endemic\", IF($K160>1, IF($K160=4, \"Unknown\", IF($K160=99, \"Surveillance\", ROUND(E160*0.75,0))), 0),\"Not required\")","v":5801},{"$f":"IF(INTRO!$E$43=\"Endemic\", IF($K160>1, IF($K160=4, \"Unknown\", IF($K160=99, \"Surveillance\", F160)), 0),\"Not required\")","v":15788},{"$f":"IF(INTRO!$E$43=\"Endemic\", IF($K160>1, IF($K160=4, \"Unknown\", IF($K160=99, \"Surveillance\", G160)), 0),\"Not required\")","v":31089},{"$f":"IF(INTRO!$E$43=\"Endemic\", IF($K160>1, IF($K160=4, \"Unknown\", IF($K160=99, \"Surveillance\", SUM($S160:$U160))), 0),\"Not required\")","v":52678},0,0,3,1]
[{"$f":"IF(INTRO!$E$33<>0,INTRO!$E$33, \" \")","v":"Angola"},"UIGE","NEGAGE",177401.19888399995,{"$f":"IF(INTRO!$E$48=\"\",\"\",ROUND($D161*INTRO!$E$48,0))","v":24198},{"$f":"IF(INTRO!$E$49=\"\",\"\",ROUND($D161*INTRO!$E$49,0))","v":49388},{"$f":"IF(INTRO!$E$50=\"\",\"\",ROUND($D161*INTRO!$E$50,0))","v":97251},0,1,31,21,1,{"$f":"IF(INTRO!$E$37=\"Endemic\",IF($H161>0,IF($H161=4,\"Unknown\",IF($H161=99,\"Stopped\",$D161)),0),\"Not required\")","v":0},{"$f":"IF(INTRO!$E$39=\"Endemic\", IF($I161>0, IF($I161=4,\"Unknown\",IF($I161=99,\"Stopped\",$D161)), 0),\"Not required\")","v":177401.19888399995},{"$f":"IF(INTRO!$E$41=\"Endemic\", IF($J161>1, IF($J161=4, \"Unknown\", IF($J161=99, \"Surveillance\", E161)), 0),\"Not required\")","v":24198},{"$f":"IF(INTRO!$E$41=\"Endemic\", IF($J161>1, IF($J161=4, \"Unknown\", IF($J161=99, \"Surveillance\", F161)), 0),\"Not required\")","v":49388},{"$f":"IF(INTRO!$E$41=\"Endemic\", IF($J161>1, IF($J161=4, \"Unknown\", IF($J161=99, \"Surveillance\", ROUND(D161*INTRO!$E$51,0))), 0),\"Not required\")","v":40997},{"$f":"IF(INTRO!$E$41=\"Endemic\", IF($J161>1, IF($J161=4, \"Unknown\", IF($J161=99, \"Surveillance\", SUM($O161:$Q161))), 0),\"Not required\")","v":114583},{"$f":"IF(INTRO!$E$43=\"Endemic\", IF($K161>1, IF($K161=4, \"Unknown\", IF($K161=99, \"Surveillance\", ROUND(E161*0.75,0))), 0),\"Not required\")","v":18149},{"$f":"IF(INTRO!$E$43=\"Endemic\", IF($K161>1, IF($K161=4, \"Unknown\", IF($K161=99, \"Surveillance\", F161)), 0),\"Not required\")","v":49388},{"$f":"IF(INTRO!$E$43=\"Endemic\", IF($K161>1, IF($K161=4, \"Unknown\", IF($K161=99, \"Surveillance\", G161)), 0),\"Not required\")","v":97251},{"$f":"IF(INTRO!$E$43=\"Endemic\", IF($K161>1, IF($K161=4, \"Unknown\", IF($K161=99, \"Surveillance\", SUM($S161:$U161))), 0),\"Not required\")","v":164788},0,1,3,1]
[{"$f":"IF(INTRO!$E$33<>0,INTRO!$E$33, \" \")","v":"Angola"},"UIGE","PURI",48890.908065999996,{"$f":"IF(INTRO!$E$48=\"\",\"\",ROUND($D162*INTRO!$E$48,0))","v":6669},{"$f":"IF(INTRO!$E$49=\"\",\"\",ROUND($D162*INTRO!$E$49,0))","v":13611},{"$f":"IF(INTRO!$E$50=\"\",\"\",ROUND($D162*INTRO!$E$50,0))","v":26802},1,1,22,21,0,{"$f":"IF(INTRO!$E$37=\"Endemic\",IF($H162>0,IF($H162=4,\"Unknown\",IF($H162=99,\"Stopped\",$D162)),0),\"Not required\")","v":48890.908065999996},{"$f":"IF(INTRO!$E$39=\"Endemic\", IF($I162>0, IF($I162=4,\"Unknown\",IF($I162=99,\"Stopped\",$D162)), 0),\"Not required\")","v":48890.908065999996},{"$f":"IF(INTRO!$E$41=\"Endemic\", IF($J162>1, IF($J162=4, \"Unknown\", IF($J162=99, \"Surveillance\", E162)), 0),\"Not required\")","v":6669},{"$f":"IF(INTRO!$E$41=\"Endemic\", IF($J162>1, IF($J162=4, \"Unknown\", IF($J162=99, \"Surveillance\", F162)), 0),\"Not required\")","v":13611},{"$f":"IF(INTRO!$E$41=\"Endemic\", IF($J162>1, IF($J162=4, \"Unknown\", IF($J162=99, \"Surveillance\", ROUND(D162*INTRO!$E$51,0))), 0),\"Not required\")","v":11299},{"$f":"IF(INTRO!$E$41=\"Endemic\", IF($J162>1, IF($J162=4, \"Unknown\", IF($J162=99, \"Surveillance\", SUM($O162:$Q162))), 0),\"Not required\")","v":31579},{"$f":"IF(INTRO!$E$43=\"Endemic\", IF($K162>1, IF($K162=4, \"Unknown\", IF($K162=99, \"Surveillance\", ROUND(E162*0.75,0))), 0),\"Not required\")","v":5002},{"$f":"IF(INTRO!$E$43=\"Endemic\", IF($K162>1, IF($K162=4, \"Unknown\", IF($K162=99, \"Surveillance\", F162)), 0),\"Not required\")","v":13611},{"$f":"IF(INTRO!$E$43=\"Endemic\", IF($K162>1, IF($K162=4, \"Unknown\", IF($K162=99, \"Surveillance\", G162)), 0),\"Not required\")","v":26802},{"$f":"IF(INTRO!$E$43=\"Endemic\", IF($K162>1, IF($K162=4, \"Unknown\", IF($K162=99, \"Surveillance\", SUM($S162:$U162))), 0),\"Not required\")","v":45415},1,1,2,1]
[{"$f":"IF(INTRO!$E$33<>0,INTRO!$E$33, \" \")","v":"Angola"},"UIGE","QUIMBELE",176031.10591299995,{"$f":"IF(INTRO!$E$48=\"\",\"\",ROUND($D163*INTRO!$E$48,0))","v":24011},{"$f":"IF(INTRO!$E$49=\"\",\"\",ROUND($D163*INTRO!$E$49,0))","v":49007},{"$f":"IF(INTRO!$E$50=\"\",\"\",ROUND($D163*INTRO!$E$50,0))","v":96500},0,4,31,21,1,{"$f":"IF(INTRO!$E$37=\"Endemic\",IF($H163>0,IF($H163=4,\"Unknown\",IF($H163=99,\"Stopped\",$D163)),0),\"Not required\")","v":0},{"$f":"IF(INTRO!$E$39=\"Endemic\", IF($I163>0, IF($I163=4,\"Unknown\",IF($I163=99,\"Stopped\",$D163)), 0),\"Not required\")","v":"Unknown"},{"$f":"IF(INTRO!$E$41=\"Endemic\", IF($J163>1, IF($J163=4, \"Unknown\", IF($J163=99, \"Surveillance\", E163)), 0),\"Not required\")","v":24011},{"$f":"IF(INTRO!$E$41=\"Endemic\", IF($J163>1, IF($J163=4, \"Unknown\", IF($J163=99, \"Surveillance\", F163)), 0),\"Not required\")","v":49007},{"$f":"IF(INTRO!$E$41=\"Endemic\", IF($J163>1, IF($J163=4, \"Unknown\", IF($J163=99, \"Surveillance\", ROUND(D163*INTRO!$E$51,0))), 0),\"Not required\")","v":40681},{"$f":"IF(INTRO!$E$41=\"Endemic\", IF($J163>1, IF($J163=4, \"Unknown\", IF($J163=99, \"Surveillance\", SUM($O163:$Q163))), 0),\"Not required\")","v":113699},{"$f":"IF(INTRO!$E$43=\"Endemic\", IF($K163>1, IF($K163=4, \"Unknown\", IF($K163=99, \"Surveillance\", ROUND(E163*0.75,0))), 0),\"Not required\")","v":18008},{"$f":"IF(INTRO!$E$43=\"Endemic\", IF($K163>1, IF($K163=4, \"Unknown\", IF($K163=99, \"Surveillance\", F163)), 0),\"Not required\")","v":49007},{"$f":"IF(INTRO!$E$43=\"Endemic\", IF($K163>1, IF($K163=4, \"Unknown\", IF($K163=99, \"Surveillance\", G163)), 0),\"Not required\")","v":96500},{"$f":"IF(INTRO!$E$43=\"Endemic\", IF($K163>1, IF($K163=4, \"Unknown\", IF($K163=99, \"Surveillance\", SUM($S163:$U163))), 0),\"Not required\")","v":163515},0,0,3,1]
[{"$f":"IF(INTRO!$E$33<>0,INTRO!$E$33, \" \")","v":"Angola"},"UIGE","QUITEXE",44230.060614999995,{"$f":"IF(INTRO!$E$48=\"\",\"\",ROUND($D164*INTRO!$E$48,0))","v":6033},{"$f":"IF(INTRO!$E$49=\"\",\"\",ROUND($D164*INTRO!$E$49,0))","v":12314},{"$f":"IF(INTRO!$E$50=\"\",\"\",ROUND($D164*INTRO!$E$50,0))","v":24247},1,1,31,21,1,{"$f":"IF(INTRO!$E$37=\"Endemic\",IF($H164>0,IF($H164=4,\"Unknown\",IF($H164=99,\"Stopped\",$D164)),0),\"Not required\")","v":44230.060614999995},{"$f":"IF(INTRO!$E$39=\"Endemic\", IF($I164>0, IF($I164=4,\"Unknown\",IF($I164=99,\"Stopped\",$D164)), 0),\"Not required\")","v":44230.060614999995},{"$f":"IF(INTRO!$E$41=\"Endemic\", IF($J164>1, IF($J164=4, \"Unknown\", IF($J164=99, \"Surveillance\", E164)), 0),\"Not required\")","v":6033},{"$f":"IF(INTRO!$E$41=\"Endemic\", IF($J164>1, IF($J164=4, \"Unknown\", IF($J164=99, \"Surveillance\", F164)), 0),\"Not required\")","v":12314},{"$f":"IF(INTRO!$E$41=\"Endemic\", IF($J164>1, IF($J164=4, \"Unknown\", IF($J164=99, \"Surveillance\", ROUND(D164*INTRO!$E$51,0))), 0),\"Not required\")","v":10222},{"$f":"IF(INTRO!$E$41=\"Endemic\", IF($J164>1, IF($J164=4, \"Unknown\", IF($J164=99, \"Surveillance\", SUM($O164:$Q164))), 0),\"Not required\")","v":28569},{"$f":"IF(INTRO!$E$43=\"Endemic\", IF($K164>1, IF($K164=4, \"Unknown\", IF($K164=99, \"Surveillance\", ROUND(E164*0.75,0))), 0),\"Not required\")","v":4525},{"$f":"IF(INTRO!$E$43=\"Endemic\", IF($K164>1, IF($K164=4, \"Unknown\", IF($K164=99, \"Surveillance\", F164)), 0),\"Not required\")","v":12314},{"$f":"IF(INTRO!$E$43=\"Endemic\", IF($K164>1, IF($K164=4, \"Unknown\", IF($K164=99, \"Surveillance\", G164)), 0),\"Not required\")","v":24247},{"$f":"IF(INTRO!$E$43=\"Endemic\", IF($K164>1, IF($K164=4, \"Unknown\", IF($K164=99, \"Surveillance\", SUM($S164:$U164))), 0),\"Not required\")","v":41086},1,1,3,1]
[{"$f":"IF(INTRO!$E$33<>0,INTRO!$E$33, \" \")","v":"Angola"},"UIGE","SANZA POMBO",88199.603166999979,{"$f":"IF(INTRO!$E$48=\"\",\"\",ROUND($D165*INTRO!$E$48,0))","v":12030},{"$f":"IF(INTRO!$E$49=\"\",\"\",ROUND($D165*INTRO!$E$49,0))","v":24555},{"$f":"IF(INTRO!$E$50=\"\",\"\",ROUND($D165*INTRO!$E$50,0))","v":48351},0,4,31,21,1,{"$f":"IF(INTRO!$E$37=\"Endemic\",IF($H165>0,IF($H165=4,\"Unknown\",IF($H165=99,\"Stopped\",$D165)),0),\"Not required\")","v":0},{"$f":"IF(INTRO!$E$39=\"Endemic\", IF($I165>0, IF($I165=4,\"Unknown\",IF($I165=99,\"Stopped\",$D165)), 0),\"Not required\")","v":"Unknown"},{"$f":"IF(INTRO!$E$41=\"Endemic\", IF($J165>1, IF($J165=4, \"Unknown\", IF($J165=99, \"Surveillance\", E165)), 0),\"Not required\")","v":12030},{"$f":"IF(INTRO!$E$41=\"Endemic\", IF($J165>1, IF($J165=4, \"Unknown\", IF($J165=99, \"Surveillance\", F165)), 0),\"Not required\")","v":24555},{"$f":"IF(INTRO!$E$41=\"Endemic\", IF($J165>1, IF($J165=4, \"Unknown\", IF($J165=99, \"Surveillance\", ROUND(D165*INTRO!$E$51,0))), 0),\"Not required\")","v":20383},{"$f":"IF(INTRO!$E$41=\"Endemic\", IF($J165>1, IF($J165=4, \"Unknown\", IF($J165=99, \"Surveillance\", SUM($O165:$Q165))), 0),\"Not required\")","v":56968},{"$f":"IF(INTRO!$E$43=\"Endemic\", IF($K165>1, IF($K165=4, \"Unknown\", IF($K165=99, \"Surveillance\", ROUND(E165*0.75,0))), 0),\"Not required\")","v":9023},{"$f":"IF(INTRO!$E$43=\"Endemic\", IF($K165>1, IF($K165=4, \"Unknown\", IF($K165=99, \"Surveillance\", F165)), 0),\"Not required\")","v":24555},{"$f":"IF(INTRO!$E$43=\"Endemic\", IF($K165>1, IF($K165=4, \"Unknown\", IF($K165=99, \"Surveillance\", G165)), 0),\"Not required\")","v":48351},{"$f":"IF(INTRO!$E$43=\"Endemic\", IF($K165>1, IF($K165=4, \"Unknown\", IF($K165=99, \"Surveillance\", SUM($S165:$U165))), 0),\"Not required\")","v":81929},0,0,3,1]
[{"$f":"IF(INTRO!$E$33<>0,INTRO!$E$33, \" \")","v":"Angola"},"UIGE","SONGO",79547.661179999996,{"$f":"IF(INTRO!$E$48=\"\",\"\",ROUND($D166*INTRO!$E$48,0))","v":10850},{"$f":"IF(INTRO!$E$49=\"\",\"\",ROUND($D166*INTRO!$E$49,0))","v":22146},{"$f":"IF(INTRO!$E$50=\"\",\"\",ROUND($D166*INTRO!$E$50,0))","v":43608},1,1,31,21,1,{"$f":"IF(INTRO!$E$37=\"Endemic\",IF($H166>0,IF($H166=4,\"Unknown\",IF($H166=99,\"Stopped\",$D166)),0),\"Not required\")","v":79547.661179999996},{"$f":"IF(INTRO!$E$39=\"Endemic\", IF($I166>0, IF($I166=4,\"Unknown\",IF($I166=99,\"Stopped\",$D166)), 0),\"Not required\")","v":79547.661179999996},{"$f":"IF(INTRO!$E$41=\"Endemic\", IF($J166>1, IF($J166=4, \"Unknown\", IF($J166=99, \"Surveillance\", E166)), 0),\"Not required\")","v":10850},{"$f":"IF(INTRO!$E$41=\"Endemic\", IF($J166>1, IF($J166=4, \"Unknown\", IF($J166=99, \"Surveillance\", F166)), 0),\"Not required\")","v":22146},{"$f":"IF(INTRO!$E$41=\"Endemic\", IF($J166>1, IF($J166=4, \"Unknown\", IF($J166=99, \"Surveillance\", ROUND(D166*INTRO!$E$51,0))), 0),\"Not required\")","v":18383},{"$f":"IF(INTRO!$E$41=\"Endemic\", IF($J166>1, IF($J166=4, \"Unknown\", IF($J166=99, \"Surveillance\", SUM($O166:$Q166))), 0),\"Not required\")","v":51379},{"$f":"IF(INTRO!$E$43=\"Endemic\", IF($K166>1, IF($K166=4, \"Unknown\", IF($K166=99, \"Surveillance\", ROUND(E166*0.75,0))), 0),\"Not required\")","v":8138},{"$f":"IF(INTRO!$E$43=\"Endemic\", IF($K166>1, IF($K166=4, \"Unknown\", IF($K166=99, \"Surveillance\", F166)), 0),\"Not required\")","v":22146},{"$f":"IF(INTRO!$E$43=\"Endemic\", IF($K166>1, IF($K166=4, \"Unknown\", IF($K166=99, \"Surveillance\", G166)), 0),\"Not required\")","v":43608},{"$f":"IF(INTRO!$E$43=\"Endemic\", IF($K166>1, IF($K166=4, \"Unknown\", IF($K166=99, \"Surveillance\", SUM($S166:$U166))), 0),\"Not required\")","v":73892},1,1,3,1]
[{"$f":"IF(INTRO!$E$33<>0,INTRO!$E$33, \" \")","v":"Angola"},"UIGE","UIGE",669574.66579899983,{"$f":"IF(INTRO!$E$48=\"\",\"\",ROUND($D167*INTRO!$E$48,0))","v":91330},{"$f":"IF(INTRO!$E$49=\"\",\"\",ROUND($D167*INTRO!$E$49,0))","v":186410},{"$f":"IF(INTRO!$E$50=\"\",\"\",ROUND($D167*INTRO!$E$50,0))","v":367061},0,4,31,21,1,{"$f":"IF(INTRO!$E$37=\"Endemic\",IF($H167>0,IF($H167=4,\"Unknown\",IF($H167=99,\"Stopped\",$D167)),0),\"Not required\")","v":0},{"$f":"IF(INTRO!$E$39=\"Endemic\", IF($I167>0, IF($I167=4,\"Unknown\",IF($I167=99,\"Stopped\",$D167)), 0),\"Not required\")","v":"Unknown"},{"$f":"IF(INTRO!$E$41=\"Endemic\", IF($J167>1, IF($J167=4, \"Unknown\", IF($J167=99, \"Surveillance\", E167)), 0),\"Not required\")","v":91330},{"$f":"IF(INTRO!$E$41=\"Endemic\", IF($J167>1, IF($J167=4, \"Unknown\", IF($J167=99, \"Surveillance\", F167)), 0),\"Not required\")","v":186410},{"$f":"IF(INTRO!$E$41=\"Endemic\", IF($J167>1, IF($J167=4, \"Unknown\", IF($J167=99, \"Surveillance\", ROUND(D167*INTRO!$E$51,0))), 0),\"Not required\")","v":154739},{"$f":"IF(INTRO!$E$41=\"Endemic\", IF($J167>1, IF($J167=4, \"Unknown\", IF($J167=99, \"Surveillance\", SUM($O167:$Q167))), 0),\"Not required\")","v":432479},{"$f":"IF(INTRO!$E$43=\"Endemic\", IF($K167>1, IF($K167=4, \"Unknown\", IF($K167=99, \"Surveillance\", ROUND(E167*0.75,0))), 0),\"Not required\")","v":68498},{"$f":"IF(INTRO!$E$43=\"Endemic\", IF($K167>1, IF($K167=4, \"Unknown\", IF($K167=99, \"Surveillance\", F167)), 0),\"Not required\")","v":186410},{"$f":"IF(INTRO!$E$43=\"Endemic\", IF($K167>1, IF($K167=4, \"Unknown\", IF($K167=99, \"Surveillance\", G167)), 0),\"Not required\")","v":367061},{"$f":"IF(INTRO!$E$43=\"Endemic\", IF($K167>1, IF($K167=4, \"Unknown\", IF($K167=99, \"Surveillance\", SUM($S167:$U167))), 0),\"Not required\")","v":621969},0,0,3,1]
[{"$f":"IF(INTRO!$E$33<>0,INTRO!$E$33, \" \")","v":"Angola"},"ZAIRE","CUIMBA",91288.904407999988,{"$f":"IF(INTRO!$E$48=\"\",\"\",ROUND($D168*INTRO!$E$48,0))","v":12452},{"$f":"IF(INTRO!$E$49=\"\",\"\",ROUND($D168*INTRO!$E$49,0))","v":25415},{"$f":"IF(INTRO!$E$50=\"\",\"\",ROUND($D168*INTRO!$E$50,0))","v":50045},0,4,22,21,0,{"$f":"IF(INTRO!$E$37=\"Endemic\",IF($H168>0,IF($H168=4,\"Unknown\",IF($H168=99,\"Stopped\",$D168)),0),\"Not required\")","v":0},{"$f":"IF(INTRO!$E$39=\"Endemic\", IF($I168>0, IF($I168=4,\"Unknown\",IF($I168=99,\"Stopped\",$D168)), 0),\"Not required\")","v":"Unknown"},{"$f":"IF(INTRO!$E$41=\"Endemic\", IF($J168>1, IF($J168=4, \"Unknown\", IF($J168=99, \"Surveillance\", E168)), 0),\"Not required\")","v":12452},{"$f":"IF(INTRO!$E$41=\"Endemic\", IF($J168>1, IF($J168=4, \"Unknown\", IF($J168=99, \"Surveillance\", F168)), 0),\"Not required\")","v":25415},{"$f":"IF(INTRO!$E$41=\"Endemic\", IF($J168>1, IF($J168=4, \"Unknown\", IF($J168=99, \"Surveillance\", ROUND(D168*INTRO!$E$51,0))), 0),\"Not required\")","v":21097},{"$f":"IF(INTRO!$E$41=\"Endemic\", IF($J168>1, IF($J168=4, \"Unknown\", IF($J168=99, \"Surveillance\", SUM($O168:$Q168))), 0),\"Not required\")","v":58964},{"$f":"IF(INTRO!$E$43=\"Endemic\", IF($K168>1, IF($K168=4, \"Unknown\", IF($K168=99, \"Surveillance\", ROUND(E168*0.75,0))), 0),\"Not required\")","v":9339},{"$f":"IF(INTRO!$E$43=\"Endemic\", IF($K168>1, IF($K168=4, \"Unknown\", IF($K168=99, \"Surveillance\", F168)), 0),\"Not required\")","v":25415},{"$f":"IF(INTRO!$E$43=\"Endemic\", IF($K168>1, IF($K168=4, \"Unknown\", IF($K168=99, \"Surveillance\", G168)), 0),\"Not required\")","v":50045},{"$f":"IF(INTRO!$E$43=\"Endemic\", IF($K168>1, IF($K168=4, \"Unknown\", IF($K168=99, \"Surveillance\", SUM($S168:$U168))), 0),\"Not required\")","v":84799},0,0,1,1]
[{"$f":"IF(INTRO!$E$33<>0,INTRO!$E$33, \" \")","v":"Angola"},"ZAIRE","MBANZA KONGO",237907.83742699993,{"$f":"IF(INTRO!$E$48=\"\",\"\",ROUND($D169*INTRO!$E$48,0))","v":32451},{"$f":"IF(INTRO!$E$49=\"\",\"\",ROUND($D169*INTRO!$E$49,0))","v":66234},{"$f":"IF(INTRO!$E$50=\"\",\"\",ROUND($D169*INTRO!$E$50,0))","v":130421},0,4,22,21,0,{"$f":"IF(INTRO!$E$37=\"Endemic\",IF($H169>0,IF($H169=4,\"Unknown\",IF($H169=99,\"Stopped\",$D169)),0),\"Not required\")","v":0},{"$f":"IF(INTRO!$E$39=\"Endemic\", IF($I169>0, IF($I169=4,\"Unknown\",IF($I169=99,\"Stopped\",$D169)), 0),\"Not required\")","v":"Unknown"},{"$f":"IF(INTRO!$E$41=\"Endemic\", IF($J169>1, IF($J169=4, \"Unknown\", IF($J169=99, \"Surveillance\", E169)), 0),\"Not required\")","v":32451},{"$f":"IF(INTRO!$E$41=\"Endemic\", IF($J169>1, IF($J169=4, \"Unknown\", IF($J169=99, \"Surveillance\", F169)), 0),\"Not required\")","v":66234},{"$f":"IF(INTRO!$E$41=\"Endemic\", IF($J169>1, IF($J169=4, \"Unknown\", IF($J169=99, \"Surveillance\", ROUND(D169*INTRO!$E$51,0))), 0),\"Not required\")","v":54981},{"$f":"IF(INTRO!$E$41=\"Endemic\", IF($J169>1, IF($J169=4, \"Unknown\", IF($J169=99, \"Surveillance\", SUM($O169:$Q169))), 0),\"Not required\")","v":153666},{"$f":"IF(INTRO!$E$43=\"Endemic\", IF($K169>1, IF($K169=4, \"Unknown\", IF($K169=99, \"Surveillance\", ROUND(E169*0.75,0))), 0),\"Not required\")","v":24338},{"$f":"IF(INTRO!$E$43=\"Endemic\", IF($K169>1, IF($K169=4, \"Unknown\", IF($K169=99, \"Surveillance\", F169)), 0),\"Not required\")","v":66234},{"$f":"IF(INTRO!$E$43=\"Endemic\", IF($K169>1, IF($K169=4, \"Unknown\", IF($K169=99, \"Surveillance\", G169)), 0),\"Not required\")","v":130421},{"$f":"IF(INTRO!$E$43=\"Endemic\", IF($K169>1, IF($K169=4, \"Unknown\", IF($K169=99, \"Surveillance\", SUM($S169:$U169))), 0),\"Not required\")","v":220993},0,0,1,1]
[{"$f":"IF(INTRO!$E$33<>0,INTRO!$E$33, \" \")","v":"Angola"},"ZAIRE","NOQUI",31505.809958999998,{"$f":"IF(INTRO!$E$48=\"\",\"\",ROUND($D170*INTRO!$E$48,0))","v":4297},{"$f":"IF(INTRO!$E$49=\"\",\"\",ROUND($D170*INTRO!$E$49,0))","v":8771},{"$f":"IF(INTRO!$E$50=\"\",\"\",ROUND($D170*INTRO!$E$50,0))","v":17271},0,4,21,21,1,{"$f":"IF(INTRO!$E$37=\"Endemic\",IF($H170>0,IF($H170=4,\"Unknown\",IF($H170=99,\"Stopped\",$D170)),0),\"Not required\")","v":0},{"$f":"IF(INTRO!$E$39=\"Endemic\", IF($I170>0, IF($I170=4,\"Unknown\",IF($I170=99,\"Stopped\",$D170)), 0),\"Not required\")","v":"Unknown"},{"$f":"IF(INTRO!$E$41=\"Endemic\", IF($J170>1, IF($J170=4, \"Unknown\", IF($J170=99, \"Surveillance\", E170)), 0),\"Not required\")","v":4297},{"$f":"IF(INTRO!$E$41=\"Endemic\", IF($J170>1, IF($J170=4, \"Unknown\", IF($J170=99, \"Surveillance\", F170)), 0),\"Not required\")","v":8771},{"$f":"IF(INTRO!$E$41=\"Endemic\", IF($J170>1, IF($J170=4, \"Unknown\", IF($J170=99, \"Surveillance\", ROUND(D170*INTRO!$E$51,0))), 0),\"Not required\")","v":7281},{"$f":"IF(INTRO!$E$41=\"Endemic\", IF($J170>1, IF($J170=4, \"Unknown\", IF($J170=99, \"Surveillance\", SUM($O170:$Q170))), 0),\"Not required\")","v":20349},{"$f":"IF(INTRO!$E$43=\"Endemic\", IF($K170>1, IF($K170=4, \"Unknown\", IF($K170=99, \"Surveillance\", ROUND(E170*0.75,0))), 0),\"Not required\")","v":3223},{"$f":"IF(INTRO!$E$43=\"Endemic\", IF($K170>1, IF($K170=4, \"Unknown\", IF($K170=99, \"Surveillance\", F170)), 0),\"Not required\")","v":8771},{"$f":"IF(INTRO!$E$43=\"Endemic\", IF($K170>1, IF($K170=4, \"Unknown\", IF($K170=99, \"Surveillance\", G170)), 0),\"Not required\")","v":17271},{"$f":"IF(INTRO!$E$43=\"Endemic\", IF($K170>1, IF($K170=4, \"Unknown\", IF($K170=99, \"Surveillance\", SUM($S170:$U170))), 0),\"Not required\")","v":29265},0,0,1,1]
[{"$f":"IF(INTRO!$E$33<>0,INTRO!$E$33, \" \")","v":"Angola"},"ZAIRE","NZETO",63093.888779999994,{"$f":"IF(INTRO!$E$48=\"\",\"\",ROUND($D171*INTRO!$E$48,0))","v":8606},{"$f":"IF(INTRO!$E$49=\"\",\"\",ROUND($D171*INTRO!$E$49,0))","v":17565},{"$f":"IF(INTRO!$E$50=\"\",\"\",ROUND($D171*INTRO!$E$50,0))","v":34588},0,4,11,11,1,{"$f":"IF(INTRO!$E$37=\"Endemic\",IF($H171>0,IF($H171=4,\"Unknown\",IF($H171=99,\"Stopped\",$D171)),0),\"Not required\")","v":0},{"$f":"IF(INTRO!$E$39=\"Endemic\", IF($I171>0, IF($I171=4,\"Unknown\",IF($I171=99,\"Stopped\",$D171)), 0),\"Not required\")","v":"Unknown"},{"$f":"IF(INTRO!$E$41=\"Endemic\", IF($J171>1, IF($J171=4, \"Unknown\", IF($J171=99, \"Surveillance\", E171)), 0),\"Not required\")","v":8606},{"$f":"IF(INTRO!$E$41=\"Endemic\", IF($J171>1, IF($J171=4, \"Unknown\", IF($J171=99, \"Surveillance\", F171)), 0),\"Not required\")","v":17565},{"$f":"IF(INTRO!$E$41=\"Endemic\", IF($J171>1, IF($J171=4, \"Unknown\", IF($J171=99, \"Surveillance\", ROUND(D171*INTRO!$E$51,0))), 0),\"Not required\")","v":14581},{"$f":"IF(INTRO!$E$41=\"Endemic\", IF($J171>1, IF($J171=4, \"Unknown\", IF($J171=99, \"Surveillance\", SUM($O171:$Q171))), 0),\"Not required\")","v":40752},{"$f":"IF(INTRO!$E$43=\"Endemic\", IF($K171>1, IF($K171=4, \"Unknown\", IF($K171=99, \"Surveillance\", ROUND(E171*0.75,0))), 0),\"Not required\")","v":6455},{"$f":"IF(INTRO!$E$43=\"Endemic\", IF($K171>1, IF($K171=4, \"Unknown\", IF($K171=99, \"Surveillance\", F171)), 0),\"Not required\")","v":17565},{"$f":"IF(INTRO!$E$43=\"Endemic\", IF($K171>1, IF($K171=4, \"Unknown\", IF($K171=99, \"Surveillance\", G171)), 0),\"Not required\")","v":34588},{"$f":"IF(INTRO!$E$43=\"Endemic\", IF($K171>1, IF($K171=4, \"Unknown\", IF($K171=99, \"Surveillance\", SUM($S171:$U171))), 0),\"Not required\")","v":58608},0,0,1,1]
[{"$f":"IF(INTRO!$E$33<>0,INTRO!$E$33, \" \")","v":"Angola"},"ZAIRE","SOYO",299713.90209799993,{"$f":"IF(INTRO!$E$48=\"\",\"\",ROUND($D172*INTRO!$E$48,0))","v":40881},{"$f":"IF(INTRO!$E$49=\"\",\"\",ROUND($D172*INTRO!$E$49,0))","v":83440},{"$f":"IF(INTRO!$E$50=\"\",\"\",ROUND($D172*INTRO!$E$50,0))","v":164303},0,4,22,21,1,{"$f":"IF(INTRO!$E$37=\"Endemic\",IF($H172>0,IF($H172=4,\"Unknown\",IF($H172=99,\"Stopped\",$D172)),0),\"Not required\")","v":0},{"$f":"IF(INTRO!$E$39=\"Endemic\", IF($I172>0, IF($I172=4,\"Unknown\",IF($I172=99,\"Stopped\",$D172)), 0),\"Not required\")","v":"Unknown"},{"$f":"IF(INTRO!$E$41=\"Endemic\", IF($J172>1, IF($J172=4, \"Unknown\", IF($J172=99, \"Surveillance\", E172)), 0),\"Not required\")","v":40881},{"$f":"IF(INTRO!$E$41=\"Endemic\", IF($J172>1, IF($J172=4, \"Unknown\", IF($J172=99, \"Surveillance\", F172)), 0),\"Not required\")","v":83440},{"$f":"IF(INTRO!$E$41=\"Endemic\", IF($J172>1, IF($J172=4, \"Unknown\", IF($J172=99, \"Surveillance\", ROUND(D172*INTRO!$E$51,0))), 0),\"Not required\")","v":69264},{"$f":"IF(INTRO!$E$41=\"Endemic\", IF($J172>1, IF($J172=4, \"Unknown\", IF($J172=99, \"Surveillance\", SUM($O172:$Q172))), 0),\"Not required\")","v":193585},{"$f":"IF(INTRO!$E$43=\"Endemic\", IF($K172>1, IF($K172=4, \"Unknown\", IF($K172=99, \"Surveillance\", ROUND(E172*0.75,0))), 0),\"Not required\")","v":30661},{"$f":"IF(INTRO!$E$43=\"Endemic\", IF($K172>1, IF($K172=4, \"Unknown\", IF($K172=99, \"Surveillance\", F172)), 0),\"Not required\")","v":83440},{"$f":"IF(INTRO!$E$43=\"Endemic\", IF($K172>1, IF($K172=4, \"Unknown\", IF($K172=99, \"Surveillance\", G172)), 0),\"Not required\")","v":164303},{"$f":"IF(INTRO!$E$43=\"Endemic\", IF($K172>1, IF($K172=4, \"Unknown\", IF($K172=99, \"Surveillance\", SUM($S172:$U172))), 0),\"Not required\")","v":278404},0,0,1,1]
[{"$f":"IF(INTRO!$E$33<>0,INTRO!$E$33, \" \")","v":"Angola"},"ZAIRE","TOMBOCO",60720.748529999983,{"$f":"IF(INTRO!$E$48=\"\",\"\",ROUND($D173*INTRO!$E$48,0))","v":8282},{"$f":"IF(INTRO!$E$49=\"\",\"\",ROUND($D173*INTRO!$E$49,0))","v":16905},{"$f":"IF(INTRO!$E$50=\"\",\"\",ROUND($D173*INTRO!$E$50,0))","v":33287},1,4,22,11,1,{"$f":"IF(INTRO!$E$37=\"Endemic\",IF($H173>0,IF($H173=4,\"Unknown\",IF($H173=99,\"Stopped\",$D173)),0),\"Not required\")","v":60720.748529999983},{"$f":"IF(INTRO!$E$39=\"Endemic\", IF($I173>0, IF($I173=4,\"Unknown\",IF($I173=99,\"Stopped\",$D173)), 0),\"Not required\")","v":"Unknown"},{"$f":"IF(INTRO!$E$41=\"Endemic\", IF($J173>1, IF($J173=4, \"Unknown\", IF($J173=99, \"Surveillance\", E173)), 0),\"Not required\")","v":8282},{"$f":"IF(INTRO!$E$41=\"Endemic\", IF($J173>1, IF($J173=4, \"Unknown\", IF($J173=99, \"Surveillance\", F173)), 0),\"Not required\")","v":16905},{"$f":"IF(INTRO!$E$41=\"Endemic\", IF($J173>1, IF($J173=4, \"Unknown\", IF($J173=99, \"Surveillance\", ROUND(D173*INTRO!$E$51,0))), 0),\"Not required\")","v":14033},{"$f":"IF(INTRO!$E$41=\"Endemic\", IF($J173>1, IF($J173=4, \"Unknown\", IF($J173=99, \"Surveillance\", SUM($O173:$Q173))), 0),\"Not required\")","v":39220},{"$f":"IF(INTRO!$E$43=\"Endemic\", IF($K173>1, IF($K173=4, \"Unknown\", IF($K173=99, \"Surveillance\", ROUND(E173*0.75,0))), 0),\"Not required\")","v":6212},{"$f":"IF(INTRO!$E$43=\"Endemic\", IF($K173>1, IF($K173=4, \"Unknown\", IF($K173=99, \"Surveillance\", F173)), 0),\"Not required\")","v":16905},{"$f":"IF(INTRO!$E$43=\"Endemic\", IF($K173>1, IF($K173=4, \"Unknown\", IF($K173=99, \"Surveillance\", G173)), 0),\"Not required\")","v":33287},{"$f":"IF(INTRO!$E$43=\"Endemic\", IF($K173>1, IF($K173=4, \"Unknown\", IF($K173=99, \"Surveillance\", SUM($S173:$U173))), 0),\"Not required\")","v":56404},1,0,1,1]

{"sheet":"ALB_MBD","index":2,"n_rows":173,"n_cols":23,"rows_kept":173,"cut":false,"hidden":false,"merged":[[5,6,5,7],[6,6,7,6],[6,7,7,7],[5,14,5,19],[6,22,7,22],[5,20,5,22],[6,20,7,20],[6,21,7,21],[6,18,7,18],[6,19,7,19],[6,17,7,17],[6,14,7,14],[6,15,7,15],[6,16,7,16],[6,11,6,12],[6,13,7,13],[3,0,3,2],[3,3,3,4],[5,0,5,2],[5,3,5,4],[5,5,7,5],[6,0,7,0],[6,1,7,1],[6,2,7,2],[6,3,7,3],[6,4,7,4],[0,8,0,12],[1,8,1,9],[1,11,1,12],[5,8,5,13],[6,8,6,9]]}
["Albendazole (ALB) and Mebendazole (MBD)",null,null,null,null,null,null,null,"Select medicine for treatment of STH for each age group"]
["Administrative structure, eligible population by age group, treatment plan and information about tablets",null,null,null,null,null,null,null,"ALB",null,"ALB","ALB"]
[]
["TOTAL",null,null,null,null,{"$f":"SUBTOTAL(9,F$10:F$1010)","v":3469611},{"$f":"SUBTOTAL(9,G$10:G$1010)","v":0},null,null,{"$f":"SUBTOTAL(9,J$10:J$1010)","v":1606229},5089269,null,4224610,10920108,3469611,0,3469611,10920108,0,10920108,0,0,0]
[]
["Country administrative structure",null,null,"Treatment plan",null,"People targeted by PELF with ALB","Loa endemic areas",null,"Target population for STH",null,null,null,null,null,"Albendazole (ALB)",null,null,null,null,null,"Mebendazole (MBD)"]
["Country","Province/State","District","LF","STH",null,"Population","Rounds planned","PreSAC",null,"SAC","WRA",null,"Total","Total required","Remaining in stock (LF)","Tablets to be procured (LF)","Total required","Remaining in stock (STH)","Tablets to be procured (STH)","Total required","Remaining in stock","Tablets to be procured"]
[null,null,null,null,null,null,null,null,"Rounds","People","People","Rounds","People"]
[]
[{"$f":"IF(AND(INTRO!$E$37=\"Non-endemic\",INTRO!$E$41=\"Non-endemic\"),\" \",IF(COUNTRY_INFO!A10=0,\" \",COUNTRY_INFO!A10))","v":"Angola"},{"$f":"IF(AND(INTRO!$E$37=\"Non-endemic\",INTRO!$E$41=\"Non-endemic\"),\" \",IF(COUNTRY_INFO!B10=0,\" \",COUNTRY_INFO!B10))","v":"BENGO"},{"$f":"IF(AND(INTRO!$E$37=\"Non-endemic\",INTRO!$E$41=\"Non-endemic\"),\" \",IF(COUNTRY_INFO!C10=0,\" \",COUNTRY_INFO!C10))","v":"AMBRIZ"},{"$f":"IF(AND(INTRO!$E$37=\"Non-endemic\",INTRO!$E$41=\"Non-endemic\"),0,COUNTRY_INFO!W10)","v":1},{"$f":"IF(AND(INTRO!$E$37=\"Non-endemic\",INTRO!$E$41=\"Non-endemic\"),0,COUNTRY_INFO!Y10)","v":0},{"$f":"IF($D10=1,IVM!G10,0)","v":26646},{"$f":"IF($D10=0, \" \", IF(COUNTRY_INFO!$H10=1, IF(COUNTRY_INFO!$L10=1, 0,\" \"),\" \"))","v":0},2,0,{"$f":"IF(OR(COUNTRY_INFO!O10=\"Unknown\",COUNTRY_INFO!O10=\"Surveillance\",COUNTRY_INFO!O10=\"Not required\",COUNTRY_INFO!O10=0),0,IF(INTRO!$E$39=\"Non-endemic\",IF(AND($E10<>0,$I10=\"\"),IF($F10=0,COUNTRY_INFO!O10*$E10,COUNTRY_INFO!O10*($E10-$D10)),IF(AND($E10<>0,$I10<>0),IF($F10=0,COUNTRY_INFO!O10*$I10,COUNTRY_INFO!O10*($I10-$D10)),0)),IF($I10=\"\",COUNTRY_INFO!O10*$E10,COUNTRY_INFO!O10*$I10)))","v":0},{"$f":"MAX(0,IF(OR(COUNTRY_INFO!P10=\"Unknown\",COUNTRY_INFO!P10=\"Surveillance\",COUNTRY_INFO!P10=\"Not required\",COUNTRY_INFO!P10=0),0,IF($E10<>0,IF($D10=0,COUNTRY_INFO!P10*$E10,COUNTRY_INFO!P10*$E10-($F10*COUNTRY_INFO!$P10/(COUNTRY_INFO!$F10+COUNTRY_INFO!$G10)+IF($G10=\" \",0,COUNTRY_INFO!$P10/(COUNTRY_INFO!$F10+COUNTRY_INFO!$G10)*$G10*$H10))),0)))","v":0},null,{"$f":"MAX(0,IF(OR(COUNTRY_INFO!Q10=\"Unknown\",COUNTRY_INFO!Q10=\"Surveillance\",COUNTRY_INFO!Q10=\"Not required\",COUNTRY_INFO!Q10=0),0,IF($E10<>0,IF($D10=0,COUNTRY_INFO!Q10*MIN($E10,$L10),COUNTRY_INFO!Q10*MIN($E10,$L10)-($F10*COUNTRY_INFO!$Q10/(COUNTRY_INFO!$F10+COUNTRY_INFO!$G10)+IF($G10=\" \",0,COUNTRY_INFO!$Q10/(COUNTRY_INFO!$F10+COUNTRY_INFO!$G10)*$G10*$H10))),0)))","v":0},{"$f":"ROUND($J10,0)+ROUND($K10,0)+ROUND($M10,0)","v":0},{"$f":"$F10+IF(OR(G10=0,G10=\" \"),0,G10*H10)","v":26646},null,{"$f":"IF($O10>$P10, $O10-$P10,0)","v":26646},{"$f":"ROUND((IF($I$2=\"ALB\",$J10,0)+IF($K$2=\"ALB\",$K10,0)+IF($L$2=\"ALB\",$M10,0)),0)","v":0},null,{"$f":"IF($R10>$S10,$R10-$S10,0)","v":0},{"$f":"ROUND((IF($I$2=\"MBD\",$J10,0)+IF($K$2=\"MBD\",$K10,0)+IF($L$2=\"MBD\",$M10,0)),0)","v":0},null,{"$f":"IF($U10>$V10,$U10-$V10,0)","v":0}]
[{"$f":"IF(AND(INTRO!$E$37=\"Non-endemic\",INTRO!$E$41=\"Non-endemic\"),\" \",IF(COUNTRY_INFO!A11=0,\" \",COUNTRY_INFO!A11))","v":"Angola"},{"$f":"IF(AND(INTRO!$E$37=\"Non-endemic\",INTRO!$E$41=\"Non-endemic\"),\" \",IF(COUNTRY_INFO!B11=0,\" \",COUNTRY_INFO!B11))","v":"BENGO"},{"$f":"IF(AND(INTRO!$E$37=\"Non-endemic\",INTRO!$E$41=\"Non-endemic\"),\" \",IF(COUNTRY_INFO!C11=0,\" \",COUNTRY_INFO!C11))","v":"BULA ATUMBA"},{"$f":"IF(AND(INTRO!$E$37=\"Non-endemic\",INTRO!$E$41=\"Non-endemic\"),0,COUNTRY_INFO!W11)","v":1},{"$f":"IF(AND(INTRO!$E$37=\"Non-endemic\",INTRO!$E$41=\"Non-endemic\"),0,COUNTRY_INFO!Y11)","v":2},{"$f":"IF($D11=1,IVM!G11,0)","v":15786},{"$f":"IF($D11=0, \" \", IF(COUNTRY_INFO!$H11=1, IF(COUNTRY_INFO!$L11=1, 0,\" \"),\" \"))","v":0},2,2,{"$f":"IF(OR(COUNTRY_INFO!O11=\"Unknown\",COUNTRY_INFO!O11=\"Surveillance\",COUNTRY_INFO!O11=\"Not required\",COUNTRY_INFO!O11=0),0,IF(INTRO!$E$39=\"Non-endemic\",IF(AND($E11<>0,$I11=\"\"),IF($F11=0,COUNTRY_INFO!O11*$E11,COUNTRY_INFO!O11*($E11-$D11)),IF(AND($E11<>0,$I11<>0),IF($F11=0,COUNTRY_INFO!O11*$I11,COUNTRY_INFO!O11*($I11-$D11)),0)),IF($I11=\"\",COUNTRY_INFO!O11*$E11,COUNTRY_INFO!O11*$I11)))","v":5210},{"$f":"MAX(0,IF(OR(COUNTRY_INFO!P11=\"Unknown\",COUNTRY_INFO!P11=\"Surveillance\",COUNTRY_INFO!P11=\"Not required\",COUNTRY_INFO!P11=0),0,IF($E11<>0,IF($D11=0,COUNTRY_INFO!P11*$E11,COUNTRY_INFO!P11*$E11-($F11*COUNTRY_INFO!$P11/(COUNTRY_INFO!$F11+COUNTRY_INFO!$G11)+IF($G11=\" \",0,COUNTRY_INFO!$P11/(COUNTRY_INFO!$F11+COUNTRY_INFO!$G11)*$G11*$H11))),0)))","v":5317},null,{"$f":"MAX(0,IF(OR(COUNTRY_INFO!Q11=\"Unknown\",COUNTRY_INFO!Q11=\"Surveillance\",COUNTRY_INFO!Q11=\"Not required\",COUNTRY_INFO!Q11=0),0,IF($E11<>0,IF($D11=0,COUNTRY_INFO!Q11*MIN($E11,$L11),COUNTRY_INFO!Q11*MIN($E11,$L11)-($F11*COUNTRY_INFO!$Q11/(COUNTRY_INFO!$F11+COUNTRY_INFO!$G11)+IF($G11=\" \",0,COUNTRY_INFO!$Q11/(COUNTRY_INFO!$F11+COUNTRY_INFO!$G11)*$G11*$H11))),0)))","v":4413},14940,{"$f":"$F11+IF(OR(G11=0,G11=\" \"),0,G11*H11)","v":15786},null,15786,14940,null,14940,0,null,0]
[{"$f":"IF(AND(INTRO!$E$37=\"Non-endemic\",INTRO!$E$41=\"Non-endemic\"),\" \",IF(COUNTRY_INFO!A12=0,\" \",COUNTRY_INFO!A12))","v":"Angola"},{"$f":"IF(AND(INTRO!$E$37=\"Non-endemic\",INTRO!$E$41=\"Non-endemic\"),\" \",IF(COUNTRY_INFO!B12=0,\" \",COUNTRY_INFO!B12))","v":"BENGO"},{"$f":"IF(AND(INTRO!$E$37=\"Non-endemic\",INTRO!$E$41=\"Non-endemic\"),\" \",IF(COUNTRY_INFO!C12=0,\" \",COUNTRY_INFO!C12))","v":"DANDE"},{"$f":"IF(AND(INTRO!$E$37=\"Non-endemic\",INTRO!$E$41=\"Non-endemic\"),0,COUNTRY_INFO!W12)","v":1},{"$f":"IF(AND(INTRO!$E$37=\"Non-endemic\",INTRO!$E$41=\"Non-endemic\"),0,COUNTRY_INFO!Y12)","v":0},{"$f":"IF($D12=1,IVM!G12,0)","v":261079},{"$f":"IF($D12=0, \" \", IF(COUNTRY_INFO!$H12=1, IF(COUNTRY_INFO!$L12=1, 0,\" \"),\" \"))","v":0},2,0,{"$f":"IF(OR(COUNTRY_INFO!O12=\"Unknown\",COUNTRY_INFO!O12=\"Surveillance\",COUNTRY_INFO!O12=\"Not required\",COUNTRY_INFO!O12=0),0,IF(INTRO!$E$39=\"Non-endemic\",IF(AND($E12<>0,$I12=\"\"),IF($F12=0,COUNTRY_INFO!O12*$E12,COUNTRY_INFO!O12*($E12-$D12)),IF(AND($E12<>0,$I12<>0),IF($F12=0,COUNTRY_INFO!O12*$I12,COUNTRY_INFO!O12*($I12-$D12)),0)),IF($I12=\"\",COUNTRY_INFO!O12*$E12,COUNTRY_INFO!O12*$I12)))","v":0},{"$f":"MAX(0,IF(OR(COUNTRY_INFO!P12=\"Unknown\",COUNTRY_INFO!P12=\"Surveillance\",COUNTRY_INFO!P12=\"Not required\",COUNTRY_INFO!P12=0),0,IF($E12<>0,IF($D12=0,COUNTRY_INFO!P12*$E12,COUNTRY_INFO!P12*$E12-($F12*COUNTRY_INFO!$P12/(COUNTRY_INFO!$F12+COUNTRY_INFO!$G12)+IF($G12=\" \",0,COUNTRY_INFO!$P12/(COUNTRY_INFO!$F12+COUNTRY_INFO!$G12)*$G12*$H12))),0)))","v":0},null,{"$f":"MAX(0,IF(OR(COUNTRY_INFO!Q12=\"Unknown\",COUNTRY_INFO!Q12=\"Surveillance\",COUNTRY_INFO!Q12=\"Not required\",COUNTRY_INFO!Q12=0),0,IF($E12<>0,IF($D12=0,COUNTRY_INFO!Q12*MIN($E12,$L12),COUNTRY_INFO!Q12*MIN($E12,$L12)-($F12*COUNTRY_INFO!$Q12/(COUNTRY_INFO!$F12+COUNTRY_INFO!$G12)+IF($G12=\" \",0,COUNTRY_INFO!$Q12/(COUNTRY_INFO!$F12+COUNTRY_INFO!$G12)*$G12*$H12))),0)))","v":0},0,261079,null,261079,0,null,0,0,null,0]
[{"$f":"IF(AND(INTRO!$E$37=\"Non-endemic\",INTRO!$E$41=\"Non-endemic\"),\" \",IF(COUNTRY_INFO!A13=0,\" \",COUNTRY_INFO!A13))","v":"Angola"},{"$f":"IF(AND(INTRO!$E$37=\"Non-endemic\",INTRO!$E$41=\"Non-endemic\"),\" \",IF(COUNTRY_INFO!B13=0,\" \",COUNTRY_INFO!B13))","v":"BENGO"},{"$f":"IF(AND(INTRO!$E$37=\"Non-endemic\",INTRO!$E$41=\"Non-endemic\"),\" \",IF(COUNTRY_INFO!C13=0,\" \",COUNTRY_INFO!C13))","v":"DEMBOS"},{"$f":"IF(AND(INTRO!$E$37=\"Non-endemic\",INTRO!$E$41=\"Non-endemic\"),0,COUNTRY_INFO!W13)","v":1},{"$f":"IF(AND(INTRO!$E$37=\"Non-endemic\",INTRO!$E$41=\"Non-endemic\"),0,COUNTRY_INFO!Y13)","v":2},{"$f":"IF($D13=1,IVM!G13,0)","v":35264},{"$f":"IF($D13=0, \" \", IF(COUNTRY_INFO!$H13=1, IF(COUNTRY_INFO!$L13=1, 0,\" \"),\" \"))","v":0},2,2,{"$f":"IF(OR(COUNTRY_INFO!O13=\"Unknown\",COUNTRY_INFO!O13=\"Surveillance\",COUNTRY_INFO!O13=\"Not required\",COUNTRY_INFO!O13=0),0,IF(INTRO!$E$39=\"Non-endemic\",IF(AND($E13<>0,$I13=\"\"),IF($F13=0,COUNTRY_INFO!O13*$E13,COUNTRY_INFO!O13*($E13-$D13)),IF(AND($E13<>0,$I13<>0),IF($F13=0,COUNTRY_INFO!O13*$I13,COUNTRY_INFO!O13*($I13-$D13)),0)),IF($I13=\"\",COUNTRY_INFO!O13*$E13,COUNTRY_INFO!O13*$I13)))","v":11638},{"$f":"MAX(0,IF(OR(COUNTRY_INFO!P13=\"Unknown\",COUNTRY_INFO!P13=\"Surveillance\",COUNTRY_INFO!P13=\"Not required\",COUNTRY_INFO!P13=0),0,IF($E13<>0,IF($D13=0,COUNTRY_INFO!P13*$E13,COUNTRY_INFO!P13*$E13-($F13*COUNTRY_INFO!$P13/(COUNTRY_INFO!$F13+COUNTRY_INFO!$G13)+IF($G13=\" \",0,COUNTRY_INFO!$P13/(COUNTRY_INFO!$F13+COUNTRY_INFO!$G13)*$G13*$H13))),0)))","v":11877},null,{"$f":"MAX(0,IF(OR(COUNTRY_INFO!Q13=\"Unknown\",COUNTRY_INFO!Q13=\"Surveillance\",COUNTRY_INFO!Q13=\"Not required\",COUNTRY_INFO!Q13=0),0,IF($E13<>0,IF($D13=0,COUNTRY_INFO!Q13*MIN($E13,$L13),COUNTRY_INFO!Q13*MIN($E13,$L13)-($F13*COUNTRY_INFO!$Q13/(COUNTRY_INFO!$F13+COUNTRY_INFO!$G13)+IF($G13=\" \",0,COUNTRY_INFO!$Q13/(COUNTRY_INFO!$F13+COUNTRY_INFO!$G13)*$G13*$H13))),0)))","v":9859},33374,35264,null,35264,33374,null,33374,0,null,0]
[{"$f":"IF(AND(INTRO!$E$37=\"Non-endemic\",INTRO!$E$41=\"Non-endemic\"),\" \",IF(COUNTRY_INFO!A14=0,\" \",COUNTRY_INFO!A14))","v":"Angola"},{"$f":"IF(AND(INTRO!$E$37=\"Non-endemic\",INTRO!$E$41=\"Non-endemic\"),\" \",IF(COUNTRY_INFO!B14=0,\" \",COUNTRY_INFO!B14))","v":"BENGO"},{"$f":"IF(AND(INTRO!$E$37=\"Non-endemic\",INTRO!$E$41=\"Non-endemic\"),\" \",IF(COUNTRY_INFO!C14=0,\" \",COUNTRY_INFO!C14))","v":"NAMBUANGONGO"},{"$f":"IF(AND(INTRO!$E$37=\"Non-endemic\",INTRO!$E$41=\"Non-endemic\"),0,COUNTRY_INFO!W14)","v":1},{"$f":"IF(AND(INTRO!$E$37=\"Non-endemic\",INTRO!$E$41=\"Non-endemic\"),0,COUNTRY_INFO!Y14)","v":1},{"$f":"IF($D14=1,IVM!G14,0)","v":71431},{"$f":"IF($D14=0, \" \", IF(COUNTRY_INFO!$H14=1, IF(COUNTRY_INFO!$L14=1, 0,\" \"),\" \"))","v":0},2,1,{"$f":"IF(OR(COUNTRY_INFO!O14=\"Unknown\",COUNTRY_INFO!O14=\"Surveillance\",COUNTRY_INFO!O14=\"Not required\",COUNTRY_INFO!O14=0),0,IF(INTRO!$E$39=\"Non-endemic\",IF(AND($E14<>0,$I14=\"\"),IF($F14=0,COUNTRY_INFO!O14*$E14,COUNTRY_INFO!O14*($E14-$D14)),IF(AND($E14<>0,$I14<>0),IF($F14=0,COUNTRY_INFO!O14*$I14,COUNTRY_INFO!O14*($I14-$D14)),0)),IF($I14=\"\",COUNTRY_INFO!O14*$E14,COUNTRY_INFO!O14*$I14)))","v":11787},{"$f":"MAX(0,IF(OR(COUNTRY_INFO!P14=\"Unknown\",COUNTRY_INFO!P14=\"Surveillance\",COUNTRY_INFO!P14=\"Not required\",COUNTRY_INFO!P14=0),0,IF($E14<>0,IF($D14=0,COUNTRY_INFO!P14*$E14,COUNTRY_INFO!P14*$E14-($F14*COUNTRY_INFO!$P14/(COUNTRY_INFO!$F14+COUNTRY_INFO!$G14)+IF($G14=\" \",0,COUNTRY_INFO!$P14/(COUNTRY_INFO!$F14+COUNTRY_INFO!$G14)*$G14*$H14))),0)))","v":0},null,{"$f":"MAX(0,IF(OR(COUNTRY_INFO!Q14=\"Unknown\",COUNTRY_INFO!Q14=\"Surveillance\",COUNTRY_INFO!Q14=\"Not required\",COUNTRY_INFO!Q14=0),0,IF($E14<>0,IF($D14=0,COUNTRY_INFO!Q14*MIN($E14,$L14),COUNTRY_INFO!Q14*MIN($E14,$L14)-($F14*COUNTRY_INFO!$Q14/(COUNTRY_INFO!$F14+COUNTRY_INFO!$G14)+IF($G14=\" \",0,COUNTRY_INFO!$Q14/(COUNTRY_INFO!$F14+COUNTRY_INFO!$G14)*$G14*$H14))),0)))","v":0},11787,71431,null,71431,11787,null,11787,0,null,0]
[{"$f":"IF(AND(INTRO!$E$37=\"Non-endemic\",INTRO!$E$41=\"Non-endemic\"),\" \",IF(COUNTRY_INFO!A15=0,\" \",COUNTRY_INFO!A15))","v":"Angola"},{"$f":"IF(AND(INTRO!$E$37=\"Non-endemic\",INTRO!$E$41=\"Non-endemic\"),\" \",IF(COUNTRY_INFO!B15=0,\" \",COUNTRY_INFO!B15))","v":"BENGO"},{"$f":"IF(AND(INTRO!$E$37=\"Non-endemic\",INTRO!$E$41=\"Non-endemic\"),\" \",IF(COUNTRY_INFO!C15=0,\" \",COUNTRY_INFO!C15))","v":"PANGO ALUQUEM"},{"$f":"IF(AND(INTRO!$E$37=\"Non-endemic\",INTRO!$E$41=\"Non-endemic\"),0,COUNTRY_INFO!W15)","v":0},{"$f":"IF(AND(INTRO!$E$37=\"Non-endemic\",INTRO!$E$41=\"Non-endemic\"),0,COUNTRY_INFO!Y15)","v":2},{"$f":"IF($D15=1,IVM!G15,0)","v":0},{"$f":"IF($D15=0, \" \", IF(COUNTRY_INFO!$H15=1, IF(COUNTRY_INFO!$L15=1, 0,\" \"),\" \"))","v":" "},null,2,{"$f":"IF(OR(COUNTRY_INFO!O15=\"Unknown\",COUNTRY_INFO!O15=\"Surveillance\",COUNTRY_INFO!O15=\"Not required\",COUNTRY_INFO!O15=0),0,IF(INTRO!$E$39=\"Non-endemic\",IF(AND($E15<>0,$I15=\"\"),IF($F15=0,COUNTRY_INFO!O15*$E15,COUNTRY_INFO!O15*($E15-$D15)),IF(AND($E15<>0,$I15<>0),IF($F15=0,COUNTRY_INFO!O15*$I15,COUNTRY_INFO!O15*($I15-$D15)),0)),IF($I15=\"\",COUNTRY_INFO!O15*$E15,COUNTRY_INFO!O15*$I15)))","v":2712},{"$f":"MAX(0,IF(OR(COUNTRY_INFO!P15=\"Unknown\",COUNTRY_INFO!P15=\"Surveillance\",COUNTRY_INFO!P15=\"Not required\",COUNTRY_INFO!P15=0),0,IF($E15<>0,IF($D15=0,COUNTRY_INFO!P15*$E15,COUNTRY_INFO!P15*$E15-($F15*COUNTRY_INFO!$P15/(COUNTRY_INFO!$F15+COUNTRY_INFO!$G15)+IF($G15=\" \",0,COUNTRY_INFO!$P15/(COUNTRY_INFO!$F15+COUNTRY_INFO!$G15)*$G15*$H15))),0)))","v":5536},null,{"$f":"MAX(0,IF(OR(COUNTRY_INFO!Q15=\"Unknown\",COUNTRY_INFO!Q15=\"Surveillance\",COUNTRY_INFO!Q15=\"Not required\",COUNTRY_INFO!Q15=0),0,IF($E15<>0,IF($D15=0,COUNTRY_INFO!Q15*MIN($E15,$L15),COUNTRY_INFO!Q15*MIN($E15,$L15)-($F15*COUNTRY_INFO!$Q15/(COUNTRY_INFO!$F15+COUNTRY_INFO!$G15)+IF($G15=\" \",0,COUNTRY_INFO!$Q15/(COUNTRY_INFO!$F15+COUNTRY_INFO!$G15)*$G15*$H15))),0)))","v":4596},12844,0,null,0,12844,null,12844,0,null,0]
[{"$f":"IF(AND(INTRO!$E$37=\"Non-endemic\",INTRO!$E$41=\"Non-endemic\"),\" \",IF(COUNTRY_INFO!A16=0,\" \",COUNTRY_INFO!A16))","v":"Angola"},{"$f":"IF(AND(INTRO!$E$37=\"Non-endemic\",INTRO!$E$41=\"Non-endemic\"),\" \",IF(COUNTRY_INFO!B16=0,\" \",COUNTRY_INFO!B16))","v":"BENGUELA"},{"$f":"IF(AND(INTRO!$E$37=\"Non-endemic\",INTRO!$E$41=\"Non-endemic\"),\" \",IF(COUNTRY_INFO!C16=0,\" \",COUNTRY_INFO!C16))","v":"BAIA FARTA"},{"$f":"IF(AND(INTRO!$E$37=\"Non-endemic\",INTRO!$E$41=\"Non-endemic\"),0,COUNTRY_INFO!W16)","v":0},{"$f":"IF(AND(INTRO!$E$37=\"Non-endemic\",INTRO!$E$41=\"Non-endemic\"),0,COUNTRY_INFO!Y16)","v":0},{"$f":"IF($D16=1,IVM!G16,0)","v":0},{"$f":"IF($D16=0, \" \", IF(COUNTRY_INFO!$H16=1, IF(COUNTRY_INFO!$L16=1, 0,\" \"),\" \"))","v":" "},null,0,{"$f":"IF(OR(COUNTRY_INFO!O16=\"Unknown\",COUNTRY_INFO!O16=\"Surveillance\",COUNTRY_INFO!O16=\"Not required\",COUNTRY_INFO!O16=0),0,IF(INTRO!$E$39=\"Non-endemic\",IF(AND($E16<>0,$I16=\"\"),IF($F16=0,COUNTRY_INFO!O16*$E16,COUNTRY_INFO!O16*($E16-$D16)),IF(AND($E16<>0,$I16<>0),IF($F16=0,COUNTRY_INFO!O16*$I16,COUNTRY_INFO!O16*($I16-$D16)),0)),IF($I16=\"\",COUNTRY_INFO!O16*$E16,COUNTRY_INFO!O16*$I16)))","v":0},{"$f":"MAX(0,IF(OR(COUNTRY_INFO!P16=\"Unknown\",COUNTRY_INFO!P16=\"Surveillance\",COUNTRY_INFO!P16=\"Not required\",COUNTRY_INFO!P16=0),0,IF($E16<>0,IF($D16=0,COUNTRY_INFO!P16*$E16,COUNTRY_INFO!P16*$E16-($F16*COUNTRY_INFO!$P16/(COUNTRY_INFO!$F16+COUNTRY_INFO!$G16)+IF($G16=\" \",0,COUNTRY_INFO!$P16/(COUNTRY_INFO!$F16+COUNTRY_INFO!$G16)*$G16*$H16))),0)))","v":0},null,{"$f":"MAX(0,IF(OR(COUNTRY_INFO!Q16=\"Unknown\",COUNTRY_INFO!Q16=\"Surveillance\",COUNTRY_INFO!Q16=\"Not required\",COUNTRY_INFO!Q16=0),0,IF($E16<>0,IF($D16=0,COUNTRY_INFO!Q16*MIN($E16,$L16),COUNTRY_INFO!Q16*MIN($E16,$L16)-($F16*COUNTRY_INFO!$Q16/(COUNTRY_INFO!$F16+COUNTRY_INFO!$G16)+IF($G16=\" \",0,COUNTRY_INFO!$Q16/(COUNTRY_INFO!$F16+COUNTRY_INFO!$G16)*$G16*$H16))),0)))","v":0},0,0,null,0,0,null,0,0,null,0]
[{"$f":"IF(AND(INTRO!$E$37=\"Non-endemic\",INTRO!$E$41=\"Non-endemic\"),\" \",IF(COUNTRY_INFO!A17=0,\" \",COUNTRY_INFO!A17))","v":"Angola"},{"$f":"IF(AND(INTRO!$E$37=\"Non-endemic\",INTRO!$E$41=\"Non-endemic\"),\" \",IF(COUNTRY_INFO!B17=0,\" \",COUNTRY_INFO!B17))","v":"BENGUELA"},{"$f":"IF(AND(INTRO!$E$37=\"Non-endemic\",INTRO!$E$41=\"Non-endemic\"),\" \",IF(COUNTRY_INFO!C17=0,\" \",COUNTRY_INFO!C17))","v":"BALOMBO"},{"$f":"IF(AND(INTRO!$E$37=\"Non-endemic\",INTRO!$E$41=\"Non-endemic\"),0,COUNTRY_INFO!W17)","v":0},{"$f":"IF(AND(INTRO!$E$37=\"Non-endemic\",INTRO!$E$41=\"Non-endemic\"),0,COUNTRY_INFO!Y17)","v":0},{"$f":"IF($D17=1,IVM!G17,0)","v":0},{"$f":"IF($D17=0, \" \", IF(COUNTRY_INFO!$H17=1, IF(COUNTRY_INFO!$L17=1, 0,\" \"),\" \"))","v":" "},null,0,{"$f":"IF(OR(COUNTRY_INFO!O17=\"Unknown\",COUNTRY_INFO!O17=\"Surveillance\",COUNTRY_INFO!O17=\"Not required\",COUNTRY_INFO!O17=0),0,IF(INTRO!$E$39=\"Non-endemic\",IF(AND($E17<>0,$I17=\"\"),IF($F17=0,COUNTRY_INFO!O17*$E17,COUNTRY_INFO!O17*($E17-$D17)),IF(AND($E17<>0,$I17<>0),IF($F17=0,COUNTRY_INFO!O17*$I17,COUNTRY_INFO!O17*($I17-$D17)),0)),IF($I17=\"\",COUNTRY_INFO!O17*$E17,COUNTRY_INFO!O17*$I17)))","v":0},{"$f":"MAX(0,IF(OR(COUNTRY_INFO!P17=\"Unknown\",COUNTRY_INFO!P17=\"Surveillance\",COUNTRY_INFO!P17=\"Not required\",COUNTRY_INFO!P17=0),0,IF($E17<>0,IF($D17=0,COUNTRY_INFO!P17*$E17,COUNTRY_INFO!P17*$E17-($F17*COUNTRY_INFO!$P17/(COUNTRY_INFO!$F17+COUNTRY_INFO!$G17)+IF($G17=\" \",0,COUNTRY_INFO!$P17/(COUNTRY_INFO!$F17+COUNTRY_INFO!$G17)*$G17*$H17))),0)))","v":0},null,{"$f":"MAX(0,IF(OR(COUNTRY_INFO!Q17=\"Unknown\",COUNTRY_INFO!Q17=\"Surveillance\",COUNTRY_INFO!Q17=\"Not required\",COUNTRY_INFO!Q17=0),0,IF($E17<>0,IF($D17=0,COUNTRY_INFO!Q17*MIN($E17,$L17),COUNTRY_INFO!Q17*MIN($E17,$L17)-($F17*COUNTRY_INFO!$Q17/(COUNTRY_INFO!$F17+COUNTRY_INFO!$G17)+IF($G17=\" \",0,COUNTRY_INFO!$Q17/(COUNTRY_INFO!$F17+COUNTRY_INFO!$G17)*$G17*$H17))),0)))","v":0},0,0,null,0,0,null,0,0,null,0]
[{"$f":"IF(AND(INTRO!$E$37=\"Non-endemic\",INTRO!$E$41=\"Non-endemic\"),\" \",IF(COUNTRY_INFO!A18=0,\" \",COUNTRY_INFO!A18))","v":"Angola"},{"$f":"IF(AND(INTRO!$E$37=\"Non-endemic\",INTRO!$E$41=\"Non-endemic\"),\" \",IF(COUNTRY_INFO!B18=0,\" \",COUNTRY_INFO!B18))","v":"BENGUELA"},{"$f":"IF(AND(INTRO!$E$37=\"Non-endemic\",INTRO!$E$41=\"Non-endemic\"),\" \",IF(COUNTRY_INFO!C18=0,\" \",COUNTRY_INFO!C18))","v":"BENGUELA"},{"$f":"IF(AND(INTRO!$E$37=\"Non-endemic\",INTRO!$E$41=\"Non-endemic\"),0,COUNTRY_INFO!W18)","v":0},{"$f":"IF(AND(INTRO!$E$37=\"Non-endemic\",INTRO!$E$41=\"Non-endemic\"),0,COUNTRY_INFO!Y18)","v":0},{"$f":"IF($D18=1,IVM!G18,0)","v":0},{"$f":"IF($D18=0, \" \", IF(COUNTRY_INFO!$H18=1, IF(COUNTRY_INFO!$L18=1, 0,\" \"),\" \"))","v":" "},null,0,{"$f":"IF(OR(COUNTRY_INFO!O18=\"Unknown\",COUNTRY_INFO!O18=\"Surveillance\",COUNTRY_INFO!O18=\"Not required\",COUNTRY_INFO!O18=0),0,IF(INTRO!$E$39=\"Non-endemic\",IF(AND($E18<>0,$I18=\"\"),IF($F18=0,COUNTRY_INFO!O18*$E18,COUNTRY_INFO!O18*($E18-$D18)),IF(AND($E18<>0,$I18<>0),IF($F18=0,COUNTRY_INFO!O18*$I18,COUNTRY_INFO!O18*($I18-$D18)),0)),IF($I18=\"\",COUNTRY_INFO!O18*$E18,COUNTRY_INFO!O18*$I18)))","v":0},{"$f":"MAX(0,IF(OR(COUNTRY_INFO!P18=\"Unknown\",COUNTRY_INFO!P18=\"Surveillance\",COUNTRY_INFO!P18=\"Not required\",COUNTRY_INFO!P18=0),0,IF($E18<>0,IF($D18=0,COUNTRY_INFO!P18*$E18,COUNTRY_INFO!P18*$E18-($F18*COUNTRY_INFO!$P18/(COUNTRY_INFO!$F18+COUNTRY_INFO!$G18)+IF($G18=\" \",0,COUNTRY_INFO!$P18/(COUNTRY_INFO!$F18+COUNTRY_INFO!$G18)*$G18*$H18))),0)))","v":0},null,{"$f":"MAX(0,IF(OR(COUNTRY_INFO!Q18=\"Unknown\",COUNTRY_INFO!Q18=\"Surveillance\",COUNTRY_INFO!Q18=\"Not required\",COUNTRY_INFO!Q18=0),0,IF($E18<>0,IF($D18=0,COUNTRY_INFO!Q18*MIN($E18,$L18),COUNTRY_INFO!Q18*MIN($E18,$L18)-($F18*COUNTRY_INFO!$Q18/(COUNTRY_INFO!$F18+COUNTRY_INFO!$G18)+IF($G18=\" \",0,COUNTRY_INFO!$Q18/(COUNTRY_INFO!$F18+COUNTRY_INFO!$G18)*$G18*$H18))),0)))","v":0},0,0,null,0,0,null,0,0,null,0]
[{"$f":"IF(AND(INTRO!$E$37=\"Non-endemic\",INTRO!$E$41=\"Non-endemic\"),\" \",IF(COUNTRY_INFO!A19=0,\" \",COUNTRY_INFO!A19))","v":"Angola"},{"$f":"IF(AND(INTRO!$E$37=\"Non-endemic\",INTRO!$E$41=\"Non-endemic\"),\" \",IF(COUNTRY_INFO!B19=0,\" \",COUNTRY_INFO!B19))","v":"BENGUELA"},{"$f":"IF(AND(INTRO!$E$37=\"Non-endemic\",INTRO!$E$41=\"Non-endemic\"),\" \",IF(COUNTRY_INFO!C19=0,\" \",COUNTRY_INFO!C19))","v":"BOCOIO"},{"$f":"IF(AND(INTRO!$E$37=\"Non-endemic\",INTRO!$E$41=\"Non-endemic\"),0,COUNTRY_INFO!W19)","v":0},{"$f":"IF(AND(INTRO!$E$37=\"Non-endemic\",INTRO!$E$41=\"Non-endemic\"),0,COUNTRY_INFO!Y19)","v":0},{"$f":"IF($D19=1,IVM!G19,0)","v":0},{"$f":"IF($D19=0, \" \", IF(COUNTRY_INFO!$H19=1, IF(COUNTRY_INFO!$L19=1, 0,\" \"),\" \"))","v":" "},null,0,{"$f":"IF(OR(COUNTRY_INFO!O19=\"Unknown\",COUNTRY_INFO!O19=\"Surveillance\",COUNTRY_INFO!O19=\"Not required\",COUNTRY_INFO!O19=0),0,IF(INTRO!$E$39=\"Non-endemic\",IF(AND($E19<>0,$I19=\"\"),IF($F19=0,COUNTRY_INFO!O19*$E19,COUNTRY_INFO!O19*($E19-$D19)),IF(AND($E19<>0,$I19<>0),IF($F19=0,COUNTRY_INFO!O19*$I19,COUNTRY_INFO!O19*($I19-$D19)),0)),IF($I19=\"\",COUNTRY_INFO!O19*$E19,COUNTRY_INFO!O19*$I19)))","v":0},{"$f":"MAX(0,IF(OR(COUNTRY_INFO!P19=\"Unknown\",COUNTRY_INFO!P19=\"Surveillance\",COUNTRY_INFO!P19=\"Not required\",COUNTRY_INFO!P19=0),0,IF($E19<>0,IF($D19=0,COUNTRY_INFO!P19*$E19,COUNTRY_INFO!P19*$E19-($F19*COUNTRY_INFO!$P19/(COUNTRY_INFO!$F19+COUNTRY_INFO!$G19)+IF($G19=\" \",0,COUNTRY_INFO!$P19/(COUNTRY_INFO!$F19+COUNTRY_INFO!$G19)*$G19*$H19))),0)))","v":0},null,{"$f":"MAX(0,IF(OR(COUNTRY_INFO!Q19=\"Unknown\",COUNTRY_INFO!Q19=\"Surveillance\",COUNTRY_INFO!Q19=\"Not required\",COUNTRY_INFO!Q19=0),0,IF($E19<>0,IF($D19=0,COUNTRY_INFO!Q19*MIN($E19,$L19),COUNTRY_INFO!Q19*MIN($E19,$L19)-($F19*COUNTRY_INFO!$Q19/(COUNTRY_INFO!$F19+COUNTRY_INFO!$G19)+IF($G19=\" \",0,COUNTRY_INFO!$Q19/(COUNTRY_INFO!$F19+COUNTRY_INFO!$G19)*$G19*$H19))),0)))","v":0},0,0,null,0,0,null,0,0,null,0]
[{"$f":"IF(AND(INTRO!$E$37=\"Non-endemic\",INTRO!$E$41=\"Non-endemic\"),\" \",IF(COUNTRY_INFO!A20=0,\" \",COUNTRY_INFO!A20))","v":"Angola"},{"$f":"IF(AND(INTRO!$E$37=\"Non-endemic\",INTRO!$E$41=\"Non-endemic\"),\" \",IF(COUNTRY_INFO!B20=0,\" \",COUNTRY_INFO!B20))","v":"BENGUELA"},{"$f":"IF(AND(INTRO!$E$37=\"Non-endemic\",INTRO!$E$41=\"Non-endemic\"),\" \",IF(COUNTRY_INFO!C20=0,\" \",COUNTRY_INFO!C20))","v":"CAIMBAMBO"},{"$f":"IF(AND(INTRO!$E$37=\"Non-endemic\",INTRO!$E$41=\"Non-endemic\"),0,COUNTRY_INFO!W20)","v":0},{"$f":"IF(AND(INTRO!$E$37=\"Non-endemic\",INTRO!$E$41=\"Non-endemic\"),0,COUNTRY_INFO!Y20)","v":0},{"$f":"IF($D20=1,IVM!G20,0)","v":0},{"$f":"IF($D20=0, \" \", IF(COUNTRY_INFO!$H20=1, IF(COUNTRY_INFO!$L20=1, 0,\" \"),\" \"))","v":" "},null,0,{"$f":"IF(OR(COUNTRY_INFO!O20=\"Unknown\",COUNTRY_INFO!O20=\"Surveillance\",COUNTRY_INFO!O20=\"Not required\",COUNTRY_INFO!O20=0),0,IF(INTRO!$E$39=\"Non-endemic\",IF(AND($E20<>0,$I20=\"\"),IF($F20=0,COUNTRY_INFO!O20*$E20,COUNTRY_INFO!O20*($E20-$D20)),IF(AND($E20<>0,$I20<>0),IF($F20=0,COUNTRY_INFO!O20*$I20,COUNTRY_INFO!O20*($I20-$D20)),0)),IF($I20=\"\",COUNTRY_INFO!O20*$E20,COUNTRY_INFO!O20*$I20)))","v":0},{"$f":"MAX(0,IF(OR(COUNTRY_INFO!P20=\"Unknown\",COUNTRY_INFO!P20=\"Surveillance\",COUNTRY_INFO!P20=\"Not required\",COUNTRY_INFO!P20=0),0,IF($E20<>0,IF($D20=0,COUNTRY_INFO!P20*$E20,COUNTRY_INFO!P20*$E20-($F20*COUNTRY_INFO!$P20/(COUNTRY_INFO!$F20+COUNTRY_INFO!$G20)+IF($G20=\" \",0,COUNTRY_INFO!$P20/(COUNTRY_INFO!$F20+COUNTRY_INFO!$G20)*$G20*$H20))),0)))","v":0},null,{"$f":"MAX(0,IF(OR(COUNTRY_INFO!Q20=\"Unknown\",COUNTRY_INFO!Q20=\"Surveillance\",COUNTRY_INFO!Q20=\"Not required\",COUNTRY_INFO!Q20=0),0,IF($E20<>0,IF($D20=0,COUNTRY_INFO!Q20*MIN($E20,$L20),COUNTRY_INFO!Q20*MIN($E20,$L20)-($F20*COUNTRY_INFO!$Q20/(COUNTRY_INFO!$F20+COUNTRY_INFO!$G20)+IF($G20=\" \",0,COUNTRY_INFO!$Q20/(COUNTRY_INFO!$F20+COUNTRY_INFO!$G20)*$G20*$H20))),0)))","v":0},0,0,null,0,0,null,0,0,null,0]
[{"$f":"IF(AND(INTRO!$E$37=\"Non-endemic\",INTRO!$E$41=\"Non-endemic\"),\" \",IF(COUNTRY_INFO!A21=0,\" \",COUNTRY_INFO!A21))","v":"Angola"},{"$f":"IF(AND(INTRO!$E$37=\"Non-endemic\",INTRO!$E$41=\"Non-endemic\"),\" \",IF(COUNTRY_INFO!B21=0,\" \",COUNTRY_INFO!B21))","v":"BENGUELA"},{"$f":"IF(AND(INTRO!$E$37=\"Non-endemic\",INTRO!$E$41=\"Non-endemic\"),\" \",IF(COUNTRY_INFO!C21=0,\" \",COUNTRY_INFO!C21))","v":"CATUMBELA"},{"$f":"IF(AND(INTRO!$E$37=\"Non-endemic\",INTRO!$E$41=\"Non-endemic\"),0,COUNTRY_INFO!W21)","v":0},{"$f":"IF(AND(INTRO!$E$37=\"Non-endemic\",INTRO!$E$41=\"Non-endemic\"),0,COUNTRY_INFO!Y21)","v":0},{"$f":"IF($D21=1,IVM!G21,0)","v":0},{"$f":"IF($D21=0, \" \", IF(COUNTRY_INFO!$H21=1, IF(COUNTRY_INFO!$L21=1, 0,\" \"),\" \"))","v":" "},null,0,{"$f":"IF(OR(COUNTRY_INFO!O21=\"Unknown\",COUNTRY_INFO!O21=\"Surveillance\",COUNTRY_INFO!O21=\"Not required\",COUNTRY_INFO!O21=0),0,IF(INTRO!$E$39=\"Non-endemic\",IF(AND($E21<>0,$I21=\"\"),IF($F21=0,COUNTRY_INFO!O21*$E21,COUNTRY_INFO!O21*($E21-$D21)),IF(AND($E21<>0,$I21<>0),IF($F21=0,COUNTRY_INFO!O21*$I21,COUNTRY_INFO!O21*($I21-$D21)),0)),IF($I21=\"\",COUNTRY_INFO!O21*$E21,COUNTRY_INFO!O21*$I21)))","v":0},{"$f":"MAX(0,IF(OR(COUNTRY_INFO!P21=\"Unknown\",COUNTRY_INFO!P21=\"Surveillance\",COUNTRY_INFO!P21=\"Not required\",COUNTRY_INFO!P21=0),0,IF($E21<>0,IF($D21=0,COUNTRY_INFO!P21*$E21,COUNTRY_INFO!P21*$E21-($F21*COUNTRY_INFO!$P21/(COUNTRY_INFO!$F21+COUNTRY_INFO!$G21)+IF($G21=\" \",0,COUNTRY_INFO!$P21/(COUNTRY_INFO!$F21+COUNTRY_INFO!$G21)*$G21*$H21))),0)))","v":0},null,{"$f":"MAX(0,IF(OR(COUNTRY_INFO!Q21=\"Unknown\",COUNTRY_INFO!Q21=\"Surveillance\",COUNTRY_INFO!Q21=\"Not required\",COUNTRY_INFO!Q21=0),0,IF($E21<>0,IF($D21=0,COUNTRY_INFO!Q21*MIN($E21,$L21),COUNTRY_INFO!Q21*MIN($E21,$L21)-($F21*COUNTRY_INFO!$Q21/(COUNTRY_INFO!$F21+COUNTRY_INFO!$G21)+IF($G21=\" \",0,COUNTRY_INFO!$Q21/(COUNTRY_INFO!$F21+COUNTRY_INFO!$G21)*$G21*$H21))),0)))","v":0},0,0,null,0,0,null,0,0,null,0]
[{"$f":"IF(AND(INTRO!$E$37=\"Non-endemic\",INTRO!$E$41=\"Non-endemic\"),\" \",IF(COUNTRY_INFO!A22=0,\" \",COUNTRY_INFO!A22))","v":"Angola"},{"$f":"IF(AND(INTRO!$E$37=\"Non-endemic\",INTRO!$E$41=\"Non-endemic\"),\" \",IF(COUNTRY_INFO!B22=0,\" \",COUNTRY_INFO!B22))","v":"BENGUELA"},{"$f":"IF(AND(INTRO!$E$37=\"Non-endemic\",INTRO!$E$41=\"Non-endemic\"),\" \",IF(COUNTRY_INFO!C22=0,\" \",COUNTRY_INFO!C22))","v":"CHONGOROI"},{"$f":"IF(AND(INTRO!$E$37=\"Non-endemic\",INTRO!$E$41=\"Non-endemic\"),0,COUNTRY_INFO!W22)","v":0},{"$f":"IF(AND(INTRO!$E$37=\"Non-endemic\",INTRO!$E$41=\"Non-endemic\"),0,COUNTRY_INFO!Y22)","v":0},{"$f":"IF($D22=1,IVM!G22,0)","v":0},{"$f":"IF($D22=0, \" \", IF(COUNTRY_INFO!$H22=1, IF(COUNTRY_INFO!$L22=1, 0,\" \"),\" \"))","v":" "},null,0,{"$f":"IF(OR(COUNTRY_INFO!O22=\"Unknown\",COUNTRY_INFO!O22=\"Surveillance\",COUNTRY_INFO!O22=\"Not required\",COUNTRY_INFO!O22=0),0,IF(INTRO!$E$39=\"Non-endemic\",IF(AND($E22<>0,$I22=\"\"),IF($F22=0,COUNTRY_INFO!O22*$E22,COUNTRY_INFO!O22*($E22-$D22)),IF(AND($E22<>0,$I22<>0),IF($F22=0,COUNTRY_INFO!O22*$I22,COUNTRY_INFO!O22*($I22-$D22)),0)),IF($I22=\"\",COUNTRY_INFO!O22*$E22,COUNTRY_INFO!O22*$I22)))","v":0},{"$f":"MAX(0,IF(OR(COUNTRY_INFO!P22=\"Unknown\",COUNTRY_INFO!P22=\"Surveillance\",COUNTRY_INFO!P22=\"Not required\",COUNTRY_INFO!P22=0),0,IF($E22<>0,IF($D22=0,COUNTRY_INFO!P22*$E22,COUNTRY_INFO!P22*$E22-($F22*COUNTRY_INFO!$P22/(COUNTRY_INFO!$F22+COUNTRY_INFO!$G22)+IF($G22=\" \",0,COUNTRY_INFO!$P22/(COUNTRY_INFO!$F22+COUNTRY_INFO!$G22)*$G22*$H22))),0)))","v":0},null,{"$f":"MAX(0,IF(OR(COUNTRY_INFO!Q22=\"Unknown\",COUNTRY_INFO!Q22=\"Surveillance\",COUNTRY_INFO!Q22=\"Not required\",COUNTRY_INFO!Q22=0),0,IF($E22<>0,IF($D22=0,COUNTRY_INFO!Q22*MIN($E22,$L22),COUNTRY_INFO!Q22*MIN($E22,$L22)-($F22*COUNTRY_INFO!$Q22/(COUNTRY_INFO!$F22+COUNTRY_INFO!$G22)+IF($G22=\" \",0,COUNTRY_INFO!$Q22/(COUNTRY_INFO!$F22+COUNTRY_INFO!$G22)*$G22*$H22))),0)))","v":0},0,0,null,0,0,null,0,0,null,0]
[{"$f":"IF(AND(INTRO!$E$37=\"Non-endemic\",INTRO!$E$41=\"Non-endemic\"),\" \",IF(COUNTRY_INFO!A23=0,\" \",COUNTRY_INFO!A23))","v":"Angola"},{"$f":"IF(AND(INTRO!$E$37=\"Non-endemic\",INTRO!$E$41=\"Non-endemic\"),\" \",IF(COUNTRY_INFO!B23=0,\" \",COUNTRY_INFO!B23))","v":"BENGUELA"},{"$f":"IF(AND(INTRO!$E$37=\"Non-endemic\",INTRO!$E$41=\"Non-endemic\"),\" \",IF(COUNTRY_INFO!C23=0,\" \",COUNTRY_INFO!C23))","v":"CUBAL"},{"$f":"IF(AND(INTRO!$E$37=\"Non-endemic\",INTRO!$E$41=\"Non-endemic\"),0,COUNTRY_INFO!W23)","v":0},{"$f":"IF(AND(INTRO!$E$37=\"Non-endemic\",INTRO!$E$41=\"Non-endemic\"),0,COUNTRY_INFO!Y23)","v":0},{"$f":"IF($D23=1,IVM!G23,0)","v":0},{"$f":"IF($D23=0, \" \", IF(COUNTRY_INFO!$H23=1, IF(COUNTRY_INFO!$L23=1, 0,\" \"),\" \"))","v":" "},null,0,{"$f":"IF(OR(COUNTRY_INFO!O23=\"Unknown\",COUNTRY_INFO!O23=\"Surveillance\",COUNTRY_INFO!O23=\"Not required\",COUNTRY_INFO!O23=0),0,IF(INTRO!$E$39=\"Non-endemic\",IF(AND($E23<>0,$I23=\"\"),IF($F23=0,COUNTRY_INFO!O23*$E23,COUNTRY_INFO!O23*($E23-$D23)),IF(AND($E23<>0,$I23<>0),IF($F23=0,COUNTRY_INFO!O23*$I23,COUNTRY_INFO!O23*($I23-$D23)),0)),IF($I23=\"\",COUNTRY_INFO!O23*$E23,COUNTRY_INFO!O23*$I23)))","v":0},{"$f":"MAX(0,IF(OR(COUNTRY_INFO!P23=\"Unknown\",COUNTRY_INFO!P23=\"Surveillance\",COUNTRY_INFO!P23=\"Not required\",COUNTRY_INFO!P23=0),0,IF($E23<>0,IF($D23=0,COUNTRY_INFO!P23*$E23,COUNTRY_INFO!P23*$E23-($F23*COUNTRY_INFO!$P23/(COUNTRY_INFO!$F23+COUNTRY_INFO!$G23)+IF($G23=\" \",0,COUNTRY_INFO!$P23/(COUNTRY_INFO!$F23+COUNTRY_INFO!$G23)*$G23*$H23))),0)))","v":0},null,{"$f":"MAX(0,IF(OR(COUNTRY_INFO!Q23=\"Unknown\",COUNTRY_INFO!Q23=\"Surveillance\",COUNTRY_INFO!Q23=\"Not required\",COUNTRY_INFO!Q23=0),0,IF($E23<>0,IF($D23=0,COUNTRY_INFO!Q23*MIN($E23,$L23),COUNTRY_INFO!Q23*MIN($E23,$L23)-($F23*COUNTRY_INFO!$Q23/(COUNTRY_INFO!$F23+COUNTRY_INFO!$G23)+IF($G23=\" \",0,COUNTRY_INFO!$Q23/(COUNTRY_INFO!$F23+COUNTRY_INFO!$G23)*$G23*$H23))),0)))","v":0},0,0,null,0,0,null,0,0,null,0]
[{"$f":"IF(AND(INTRO!$E$37=\"Non-endemic\",INTRO!$E$41=\"Non-endemic\"),\" \",IF(COUNTRY_INFO!A24=0,\" \",COUNTRY_INFO!A24))","v":"Angola"},{"$f":"IF(AND(INTRO!$E$37=\"Non-endemic\",INTRO!$E$41=\"Non-endemic\"),\" \",IF(COUNTRY_INFO!B24=0,\" \",COUNTRY_INFO!B24))","v":"BENGUELA"},{"$f":"IF(AND(INTRO!$E$37=\"Non-endemic\",INTRO!$E$41=\"Non-endemic\"),\" \",IF(COUNTRY_INFO!C24=0,\" \",COUNTRY_INFO!C24))","v":"GANDA"},{"$f":"IF(AND(INTRO!$E$37=\"Non-endemic\",INTRO!$E$41=\"Non-endemic\"),0,COUNTRY_INFO!W24)","v":0},{"$f":"IF(AND(INTRO!$E$37=\"Non-endemic\",INTRO!$E$41=\"Non-endemic\"),0,COUNTRY_INFO!Y24)","v":0},{"$f":"IF($D24=1,IVM!G24,0)","v":0},{"$f":"IF($D24=0, \" \", IF(COUNTRY_INFO!$H24=1, IF(COUNTRY_INFO!$L24=1, 0,\" \"),\" \"))","v":" "},null,0,{"$f":"IF(OR(COUNTRY_INFO!O24=\"Unknown\",COUNTRY_INFO!O24=\"Surveillance\",COUNTRY_INFO!O24=\"Not required\",COUNTRY_INFO!O24=0),0,IF(INTRO!$E$39=\"Non-endemic\",IF(AND($E24<>0,$I24=\"\"),IF($F24=0,COUNTRY_INFO!O24*$E24,COUNTRY_INFO!O24*($E24-$D24)),IF(AND($E24<>0,$I24<>0),IF($F24=0,COUNTRY_INFO!O24*$I24,COUNTRY_INFO!O24*($I24-$D24)),0)),IF($I24=\"\",COUNTRY_INFO!O24*$E24,COUNTRY_INFO!O24*$I24)))","v":0},{"$f":"MAX(0,IF(OR(COUNTRY_INFO!P24=\"Unknown\",COUNTRY_INFO!P24=\"Surveillance\",COUNTRY_INFO!P24=\"Not required\",COUNTRY_INFO!P24=0),0,IF($E24<>0,IF($D24=0,COUNTRY_INFO!P24*$E24,COUNTRY_INFO!P24*$E24-($F24*COUNTRY_INFO!$P24/(COUNTRY_INFO!$F24+COUNTRY_INFO!$G24)+IF($G24=\" \",0,COUNTRY_INFO!$P24/(COUNTRY_INFO!$F24+COUNTRY_INFO!$G24)*$G24*$H24))),0)))","v":0},null,{"$f":"MAX(0,IF(OR(COUNTRY_INFO!Q24=\"Unknown\",COUNTRY_INFO!Q24=\"Surveillance\",COUNTRY_INFO!Q24=\"Not required\",COUNTRY_INFO!Q24=0),0,IF($E24<>0,IF($D24=0,COUNTRY_INFO!Q24*MIN($E24,$L24),COUNTRY_INFO!Q24*MIN($E24,$L24)-($F24*COUNTRY_INFO!$Q24/(COUNTRY_INFO!$F24+COUNTRY_INFO!$G24)+IF($G24=\" \",0,COUNTRY_INFO!$Q24/(COUNTRY_INFO!$F24+COUNTRY_INFO!$G24)*$G24*$H24))),0)))","v":0},0,0,null,0,0,null,0,0,null,0]
[{"$f":"IF(AND(INTRO!$E$37=\"Non-endemic\",INTRO!$E$41=\"Non-endemic\"),\" \",IF(COUNTRY_INFO!A25=0,\" \",COUNTRY_INFO!A25))","v":"Angola"},{"$f":"IF(AND(INTRO!$E$37=\"Non-endemic\",INTRO!$E$41=\"Non-endemic\"),\" \",IF(COUNTRY_INFO!B25=0,\" \",COUNTRY_INFO!B25))","v":"BENGUELA"},{"$f":"IF(AND(INTRO!$E$37=\"Non-endemic\",INTRO!$E$41=\"Non-endemic\"),\" \",IF(COUNTRY_INFO!C25=0,\" \",COUNTRY_INFO!C25))","v":"LOBITO"},{"$f":"IF(AND(INTRO!$E$37=\"Non-endemic\",INTRO!$E$41=\"Non-endemic\"),0,COUNTRY_INFO!W25)","v":1},{"$f":"IF(AND(INTRO!$E$37=\"Non-endemic\",INTRO!$E$41=\"Non-endemic\"),0,COUNTRY_INFO!Y25)","v":0},{"$f":"IF($D25=1,IVM!G25,0)","v":411546},{"$f":"IF($D25=0, \" \", IF(COUNTRY_INFO!$H25=1, IF(COUNTRY_INFO!$L25=1, 0,\" \"),\" \"))","v":" "},null,0,{"$f":"IF(OR(COUNTRY_INFO!O25=\"Unknown\",COUNTRY_INFO!O25=\"Surveillance\",COUNTRY_INFO!O25=\"Not required\",COUNTRY_INFO!O25=0),0,IF(INTRO!$E$39=\"Non-endemic\",IF(AND($E25<>0,$I25=\"\"),IF($F25=0,COUNTRY_INFO!O25*$E25,COUNTRY_INFO!O25*($E25-$D25)),IF(AND($E25<>0,$I25<>0),IF($F25=0,COUNTRY_INFO!O25*$I25,COUNTRY_INFO!O25*($I25-$D25)),0)),IF($I25=\"\",COUNTRY_INFO!O25*$E25,COUNTRY_INFO!O25*$I25)))","v":0},{"$f":"MAX(0,IF(OR(COUNTRY_INFO!P25=\"Unknown\",COUNTRY_INFO!P25=\"Surveillance\",COUNTRY_INFO!P25=\"Not required\",COUNTRY_INFO!P25=0),0,IF($E25<>0,IF($D25=0,COUNTRY_INFO!P25*$E25,COUNTRY_INFO!P25*$E25-($F25*COUNTRY_INFO!$P25/(COUNTRY_INFO!$F25+COUNTRY_INFO!$G25)+IF($G25=\" \",0,COUNTRY_INFO!$P25/(COUNTRY_INFO!$F25+COUNTRY_INFO!$G25)*$G25*$H25))),0)))","v":0},null,{"$f":"MAX(0,IF(OR(COUNTRY_INFO!Q25=\"Unknown\",COUNTRY_INFO!Q25=\"Surveillance\",COUNTRY_INFO!Q25=\"Not required\",COUNTRY_INFO!Q25=0),0,IF($E25<>0,IF($D25=0,COUNTRY_INFO!Q25*MIN($E25,$L25),COUNTRY_INFO!Q25*MIN($E25,$L25)-($F25*COUNTRY_INFO!$Q25/(COUNTRY_INFO!$F25+COUNTRY_INFO!$G25)+IF($G25=\" \",0,COUNTRY_INFO!$Q25/(COUNTRY_INFO!$F25+COUNTRY_INFO!$G25)*$G25*$H25))),0)))","v":0},0,411546,null,411546,0,null,0,0,null,0]
[{"$f":"IF(AND(INTRO!$E$37=\"Non-endemic\",INTRO!$E$41=\"Non-endemic\"),\" \",IF(COUNTRY_INFO!A26=0,\" \",COUNTRY_INFO!A26))","v":"Angola"},{"$f":"IF(AND(INTRO!$E$37=\"Non-endemic\",INTRO!$E$41=\"Non-endemic\"),\" \",IF(COUNTRY_INFO!B26=0,\" \",COUNTRY_INFO!B26))","v":"BIE"},{"$f":"IF(AND(INTRO!$E$37=\"Non-endemic\",INTRO!$E$41=\"Non-endemic\"),\" \",IF(COUNTRY_INFO!C26=0,\" \",COUNTRY_INFO!C26))","v":"ANDULO"},{"$f":"IF(AND(INTRO!$E$37=\"Non-endemic\",INTRO!$E$41=\"Non-endemic\"),0,COUNTRY_INFO!W26)","v":0},{"$f":"IF(AND(INTRO!$E$37=\"Non-endemic\",INTRO!$E$41=\"Non-endemic\"),0,COUNTRY_INFO!Y26)","v":0},{"$f":"IF($D26=1,IVM!G26,0)","v":0},{"$f":"IF($D26=0, \" \", IF(COUNTRY_INFO!$H26=1, IF(COUNTRY_INFO!$L26=1, 0,\" \"),\" \"))","v":" "},null,0,{"$f":"IF(OR(COUNTRY_INFO!O26=\"Unknown\",COUNTRY_INFO!O26=\"Surveillance\",COUNTRY_INFO!O26=\"Not required\",COUNTRY_INFO!O26=0),0,IF(INTRO!$E$39=\"Non-endemic\",IF(AND($E26<>0,$I26=\"\"),IF($F26=0,COUNTRY_INFO!O26*$E26,COUNTRY_INFO!O26*($E26-$D26)),IF(AND($E26<>0,$I26<>0),IF($F26=0,COUNTRY_INFO!O26*$I26,COUNTRY_INFO!O26*($I26-$D26)),0)),IF($I26=\"\",COUNTRY_INFO!O26*$E26,COUNTRY_INFO!O26*$I26)))","v":0},{"$f":"MAX(0,IF(OR(COUNTRY_INFO!P26=\"Unknown\",COUNTRY_INFO!P26=\"Surveillance\",COUNTRY_INFO!P26=\"Not required\",COUNTRY_INFO!P26=0),0,IF($E26<>0,IF($D26=0,COUNTRY_INFO!P26*$E26,COUNTRY_INFO!P26*$E26-($F26*COUNTRY_INFO!$P26/(COUNTRY_INFO!$F26+COUNTRY_INFO!$G26)+IF($G26=\" \",0,COUNTRY_INFO!$P26/(COUNTRY_INFO!$F26+COUNTRY_INFO!$G26)*$G26*$H26))),0)))","v":0},null,{"$f":"MAX(0,IF(OR(COUNTRY_INFO!Q26=\"Unknown\",COUNTRY_INFO!Q26=\"Surveillance\",COUNTRY_INFO!Q26=\"Not required\",COUNTRY_INFO!Q26=0),0,IF($E26<>0,IF($D26=0,COUNTRY_INFO!Q26*MIN($E26,$L26),COUNTRY_INFO!Q26*MIN($E26,$L26)-($F26*COUNTRY_INFO!$Q26/(COUNTRY_INFO!$F26+COUNTRY_INFO!$G26)+IF($G26=\" \",0,COUNTRY_INFO!$Q26/(COUNTRY_INFO!$F26+COUNTRY_INFO!$G26)*$G26*$H26))),0)))","v":0},0,0,null,0,0,null,0,0,null,0]
[{"$f":"IF(AND(INTRO!$E$37=\"Non-endemic\",INTRO!$E$41=\"Non-endemic\"),\" \",IF(COUNTRY_INFO!A27=0,\" \",COUNTRY_INFO!A27))","v":"Angola"},{"$f":"IF(AND(INTRO!$E$37=\"Non-endemic\",INTRO!$E$41=\"Non-endemic\"),\" \",IF(COUNTRY_INFO!B27=0,\" \",COUNTRY_INFO!B27))","v":"BIE"},{"$f":"IF(AND(INTRO!$E$37=\"Non-endemic\",INTRO!$E$41=\"Non-endemic\"),\" \",IF(COUNTRY_INFO!C27=0,\" \",COUNTRY_INFO!C27))","v":"CAMACUPA"},{"$f":"IF(AND(INTRO!$E$37=\"Non-endemic\",INTRO!$E$41=\"Non-endemic\"),0,COUNTRY_INFO!W27)","v":0},{"$f":"IF(AND(INTRO!$E$37=\"Non-endemic\",INTRO!$E$41=\"Non-endemic\"),0,COUNTRY_INFO!Y27)","v":0},{"$f":"IF($D27=1,IVM!G27,0)","v":0},{"$f":"IF($D27=0, \" \", IF(COUNTRY_INFO!$H27=1, IF(COUNTRY_INFO!$L27=1, 0,\" \"),\" \"))","v":" "},null,0,{"$f":"IF(OR(COUNTRY_INFO!O27=\"Unknown\",COUNTRY_INFO!O27=\"Surveillance\",COUNTRY_INFO!O27=\"Not required\",COUNTRY_INFO!O27=0),0,IF(INTRO!$E$39=\"Non-endemic\",IF(AND($E27<>0,$I27=\"\"),IF($F27=0,COUNTRY_INFO!O27*$E27,COUNTRY_INFO!O27*($E27-$D27)),IF(AND($E27<>0,$I27<>0),IF($F27=0,COUNTRY_INFO!O27*$I27,COUNTRY_INFO!O27*($I27-$D27)),0)),IF($I27=\"\",COUNTRY_INFO!O27*$E27,COUNTRY_INFO!O27*$I27)))","v":0},{"$f":"MAX(0,IF(OR(COUNTRY_INFO!P27=\"Unknown\",COUNTRY_INFO!P27=\"Surveillance\",COUNTRY_INFO!P27=\"Not required\",COUNTRY_INFO!P27=0),0,IF($E27<>0,IF($D27=0,COUNTRY_INFO!P27*$E27,COUNTRY_INFO!P27*$E27-($F27*COUNTRY_INFO!$P27/(COUNTRY_INFO!$F27+COUNTRY_INFO!$G27)+IF($G27=\" \",0,COUNTRY_INFO!$P27/(COUNTRY_INFO!$F27+COUNTRY_INFO!$G27)*$G27*$H27))),0)))","v":0},null,{"$f":"MAX(0,IF(OR(COUNTRY_INFO!Q27=\"Unknown\",COUNTRY_INFO!Q27=\"Surveillance\",COUNTRY_INFO!Q27=\"Not required\",COUNTRY_INFO!Q27=0),0,IF($E27<>0,IF($D27=0,COUNTRY_INFO!Q27*MIN($E27,$L27),COUNTRY_INFO!Q27*MIN($E27,$L27)-($F27*COUNTRY_INFO!$Q27/(COUNTRY_INFO!$F27+COUNTRY_INFO!$G27)+IF($G27=\" \",0,COUNTRY_INFO!$Q27/(COUNTRY_INFO!$F27+COUNTRY_INFO!$G27)*$G27*$H27))),0)))","v":0},0,0,null,0,0,null,0,0,null,0]
[{"$f":"IF(AND(INTRO!$E$37=\"Non-endemic\",INTRO!$E$41=\"Non-endemic\"),\" \",IF(COUNTRY_INFO!A28=0,\" \",COUNTRY_INFO!A28))","v":"Angola"},{"$f":"IF(AND(INTRO!$E$37=\"Non-endemic\",INTRO!$E$41=\"Non-endemic\"),\" \",IF(COUNTRY_INFO!B28=0,\" \",COUNTRY_INFO!B28))","v":"BIE"},{"$f":"IF(AND(INTRO!$E$37=\"Non-endemic\",INTRO!$E$41=\"Non-endemic\"),\" \",IF(COUNTRY_INFO!C28=0,\" \",COUNTRY_INFO!C28))","v":"CATABOLA"},{"$f":"IF(AND(INTRO!$E$37=\"Non-endemic\",INTRO!$E$41=\"Non-endemic\"),0,COUNTRY_INFO!W28)","v":0},{"$f":"IF(AND(INTRO!$E$37=\"Non-endemic\",INTRO!$E$41=\"Non-endemic\"),0,COUNTRY_INFO!Y28)","v":0},{"$f":"IF($D28=1,IVM!G28,0)","v":0},{"$f":"IF($D28=0, \" \", IF(COUNTRY_INFO!$H28=1, IF(COUNTRY_INFO!$L28=1, 0,\" \"),\" \"))","v":" "},null,0,{"$f":"IF(OR(COUNTRY_INFO!O28=\"Unknown\",COUNTRY_INFO!O28=\"Surveillance\",COUNTRY_INFO!O28=\"Not required\",COUNTRY_INFO!O28=0),0,IF(INTRO!$E$39=\"Non-endemic\",IF(AND($E28<>0,$I28=\"\"),IF($F28=0,COUNTRY_INFO!O28*$E28,COUNTRY_INFO!O28*($E28-$D28)),IF(AND($E28<>0,$I28<>0),IF($F28=0,COUNTRY_INFO!O28*$I28,COUNTRY_INFO!O28*($I28-$D28)),0)),IF($I28=\"\",COUNTRY_INFO!O28*$E28,COUNTRY_INFO!O28*$I28)))","v":0},{"$f":"MAX(0,IF(OR(COUNTRY_INFO!P28=\"Unknown\",COUNTRY_INFO!P28=\"Surveillance\",COUNTRY_INFO!P28=\"Not required\",COUNTRY_INFO!P28=0),0,IF($E28<>0,IF($D28=0,COUNTRY_INFO!P28*$E28,COUNTRY_INFO!P28*$E28-($F28*COUNTRY_INFO!$P28/(COUNTRY_INFO!$F28+COUNTRY_INFO!$G28)+IF($G28=\" \",0,COUNTRY_INFO!$P28/(COUNTRY_INFO!$F28+COUNTRY_INFO!$G28)*$G28*$H28))),0)))","v":0},null,{"$f":"MAX(0,IF(OR(COUNTRY_INFO!Q28=\"Unknown\",COUNTRY_INFO!Q28=\"Surveillance\",COUNTRY_INFO!Q28=\"Not required\",COUNTRY_INFO!Q28=0),0,IF($E28<>0,IF($D28=0,COUNTRY_INFO!Q28*MIN($E28,$L28),COUNTRY_INFO!Q28*MIN($E28,$L28)-($F28*COUNTRY_INFO!$Q28/(COUNTRY_INFO!$F28+COUNTRY_INFO!$G28)+IF($G28=\" \",0,COUNTRY_INFO!$Q28/(COUNTRY_INFO!$F28+COUNTRY_INFO!$G28)*$G28*$H28))),0)))","v":0},0,0,null,0,0,null,0,0,null,0]
[{"$f":"IF(AND(INTRO!$E$37=\"Non-endemic\",INTRO!$E$41=\"Non-endemic\"),\" \",IF(COUNTRY_INFO!A29=0,\" \",COUNTRY_INFO!A29))","v":"Angola"},{"$f":"IF(AND(INTRO!$E$37=\"Non-endemic\",INTRO!$E$41=\"Non-endemic\"),\" \",IF(COUNTRY_INFO!B29=0,\" \",COUNTRY_INFO!B29))","v":"BIE"},{"$f":"IF(AND(INTRO!$E$37=\"Non-endemic\",INTRO!$E$41=\"Non-endemic\"),\" \",IF(COUNTRY_INFO!C29=0,\" \",COUNTRY_INFO!C29))","v":"CHINGUAR"},{"$f":"IF(AND(INTRO!$E$37=\"Non-endemic\",INTRO!$E$41=\"Non-endemic\"),0,COUNTRY_INFO!W29)","v":0},{"$f":"IF(AND(INTRO!$E$37=\"Non-endemic\",INTRO!$E$41=\"Non-endemic\"),0,COUNTRY_INFO!Y29)","v":0},{"$f":"IF($D29=1,IVM!G29,0)","v":0},{"$f":"IF($D29=0, \" \", IF(COUNTRY_INFO!$H29=1, IF(COUNTRY_INFO!$L29=1, 0,\" \"),\" \"))","v":" "},null,0,{"$f":"IF(OR(COUNTRY_INFO!O29=\"Unknown\",COUNTRY_INFO!O29=\"Surveillance\",COUNTRY_INFO!O29=\"Not required\",COUNTRY_INFO!O29=0),0,IF(INTRO!$E$39=\"Non-endemic\",IF(AND($E29<>0,$I29=\"\"),IF($F29=0,COUNTRY_INFO!O29*$E29,COUNTRY_INFO!O29*($E29-$D29)),IF(AND($E29<>0,$I29<>0),IF($F29=0,COUNTRY_INFO!O29*$I29,COUNTRY_INFO!O29*($I29-$D29)),0)),IF($I29=\"\",COUNTRY_INFO!O29*$E29,COUNTRY_INFO!O29*$I29)))","v":0},{"$f":"MAX(0,IF(OR(COUNTRY_INFO!P29=\"Unknown\",COUNTRY_INFO!P29=\"Surveillance\",COUNTRY_INFO!P29=\"Not required\",COUNTRY_INFO!P29=0),0,IF($E29<>0,IF($D29=0,COUNTRY_INFO!P29*$E29,COUNTRY_INFO!P29*$E29-($F29*COUNTRY_INFO!$P29/(COUNTRY_INFO!$F29+COUNTRY_INFO!$G29)+IF($G29=\" \",0,COUNTRY_INFO!$P29/(COUNTRY_INFO!$F29+COUNTRY_INFO!$G29)*$G29*$H29))),0)))","v":0},null,{"$f":"MAX(0,IF(OR(COUNTRY_INFO!Q29=\"Unknown\",COUNTRY_INFO!Q29=\"Surveillance\",COUNTRY_INFO!Q29=\"Not required\",COUNTRY_INFO!Q29=0),0,IF($E29<>0,IF($D29=0,COUNTRY_INFO!Q29*MIN($E29,$L29),COUNTRY_INFO!Q29*MIN($E29,$L29)-($F29*COUNTRY_INFO!$Q29/(COUNTRY_INFO!$F29+COUNTRY_INFO!$G29)+IF($G29=\" \",0,COUNTRY_INFO!$Q29/(COUNTRY_INFO!$F29+COUNTRY_INFO!$G29)*$G29*$H29))),0)))","v":0},0,0,null,0,0,null,0,0,null,0]
[{"$f":"IF(AND(INTRO!$E$37=\"Non-endemic\",INTRO!$E$41=\"Non-endemic\"),\" \",IF(COUNTRY_INFO!A30=0,\" \",COUNTRY_INFO!A30))","v":"Angola"},{"$f":"IF(AND(INTRO!$E$37=\"Non-endemic\",INTRO!$E$41=\"Non-endemic\"),\" \",IF(COUNTRY_INFO!B30=0,\" \",COUNTRY_INFO!B30))","v":"BIE"},{"$f":"IF(AND(INTRO!$E$37=\"Non-endemic\",INTRO!$E$41=\"Non-endemic\"),\" \",IF(COUNTRY_INFO!C30=0,\" \",COUNTRY_INFO!C30))","v":"CHITEMBO"},{"$f":"IF(AND(INTRO!$E$37=\"Non-endemic\",INTRO!$E$41=\"Non-endemic\"),0,COUNTRY_INFO!W30)","v":0},{"$f":"IF(AND(INTRO!$E$37=\"Non-endemic\",INTRO!$E$41=\"Non-endemic\"),0,COUNTRY_INFO!Y30)","v":0},{"$f":"IF($D30=1,IVM!G30,0)","v":0},{"$f":"IF($D30=0, \" \", IF(COUNTRY_INFO!$H30=1, IF(COUNTRY_INFO!$L30=1, 0,\" \"),\" \"))","v":" "},null,0,{"$f":"IF(OR(COUNTRY_INFO!O30=\"Unknown\",COUNTRY_INFO!O30=\"Surveillance\",COUNTRY_INFO!O30=\"Not required\",COUNTRY_INFO!O30=0),0,IF(INTRO!$E$39=\"Non-endemic\",IF(AND($E30<>0,$I30=\"\"),IF($F30=0,COUNTRY_INFO!O30*$E30,COUNTRY_INFO!O30*($E30-$D30)),IF(AND($E30<>0,$I30<>0),IF($F30=0,COUNTRY_INFO!O30*$I30,COUNTRY_INFO!O30*($I30-$D30)),0)),IF($I30=\"\",COUNTRY_INFO!O30*$E30,COUNTRY_INFO!O30*$I30)))","v":0},{"$f":"MAX(0,IF(OR(COUNTRY_INFO!P30=\"Unknown\",COUNTRY_INFO!P30=\"Surveillance\",COUNTRY_INFO!P30=\"Not required\",COUNTRY_INFO!P30=0),0,IF($E30<>0,IF($D30=0,COUNTRY_INFO!P30*$E30,COUNTRY_INFO!P30*$E30-($F30*COUNTRY_INFO!$P30/(COUNTRY_INFO!$F30+COUNTRY_INFO!$G30)+IF($G30=\" \",0,COUNTRY_INFO!$P30/(COUNTRY_INFO!$F30+COUNTRY_INFO!$G30)*$G30*$H30))),0)))","v":0},null,{"$f":"MAX(0,IF(OR(COUNTRY_INFO!Q30=\"Unknown\",COUNTRY_INFO!Q30=\"Surveillance\",COUNTRY_INFO!Q30=\"Not required\",COUNTRY_INFO!Q30=0),0,IF($E30<>0,IF($D30=0,COUNTRY_INFO!Q30*MIN($E30,$L30),COUNTRY_INFO!Q30*MIN($E30,$L30)-($F30*COUNTRY_INFO!$Q30/(COUNTRY_INFO!$F30+COUNTRY_INFO!$G30)+IF($G30=\" \",0,COUNTRY_INFO!$Q30/(COUNTRY_INFO!$F30+COUNTRY_INFO!$G30)*$G30*$H30))),0)))","v":0},0,0,null,0,0,null,0,0,null,0]
[{"$f":"IF(AND(INTRO!$E$37=\"Non-endemic\",INTRO!$E$41=\"Non-endemic\"),\" \",IF(COUNTRY_INFO!A31=0,\" \",COUNTRY_INFO!A31))","v":"Angola"},{"$f":"IF(AND(INTRO!$E$37=\"Non-endemic\",INTRO!$E$41=\"Non-endemic\"),\" \",IF(COUNTRY_INFO!B31=0,\" \",COUNTRY_INFO!B31))","v":"BIE"},{"$f":"IF(AND(INTRO!$E$37=\"Non-endemic\",INTRO!$E$41=\"Non-endemic\"),\" \",IF(COUNTRY_INFO!C31=0,\" \",COUNTRY_INFO!C31))","v":"CUEMBA"},{"$f":"IF(AND(INTRO!$E$37=\"Non-endemic\",INTRO!$E$41=\"Non-endemic\"),0,COUNTRY_INFO!W31)","v":1},{"$f":"IF(AND(INTRO!$E$37=\"Non-endemic\",INTRO!$E$41=\"Non-endemic\"),0,COUNTRY_INFO!Y31)","v":0},{"$f":"IF($D31=1,IVM!G31,0)","v":62229},{"$f":"IF($D31=0, \" \", IF(COUNTRY_INFO!$H31=1, IF(COUNTRY_INFO!$L31=1, 0,\" \"),\" \"))","v":" "},null,0,{"$f":"IF(OR(COUNTRY_INFO!O31=\"Unknown\",COUNTRY_INFO!O31=\"Surveillance\",COUNTRY_INFO!O31=\"Not required\",COUNTRY_INFO!O31=0),0,IF(INTRO!$E$39=\"Non-endemic\",IF(AND($E31<>0,$I31=\"\"),IF($F31=0,COUNTRY_INFO!O31*$E31,COUNTRY_INFO!O31*($E31-$D31)),IF(AND($E31<>0,$I31<>0),IF($F31=0,COUNTRY_INFO!O31*$I31,COUNTRY_INFO!O31*($I31-$D31)),0)),IF($I31=\"\",COUNTRY_INFO!O31*$E31,COUNTRY_INFO!O31*$I31)))","v":0},{"$f":"MAX(0,IF(OR(COUNTRY_INFO!P31=\"Unknown\",COUNTRY_INFO!P31=\"Surveillance\",COUNTRY_INFO!P31=\"Not required\",COUNTRY_INFO!P31=0),0,IF($E31<>0,IF($D31=0,COUNTRY_INFO!P31*$E31,COUNTRY_INFO!P31*$E31-($F31*COUNTRY_INFO!$P31/(COUNTRY_INFO!$F31+COUNTRY_INFO!$G31)+IF($G31=\" \",0,COUNTRY_INFO!$P31/(COUNTRY_INFO!$F31+COUNTRY_INFO!$G31)*$G31*$H31))),0)))","v":0},null,{"$f":"MAX(0,IF(OR(COUNTRY_INFO!Q31=\"Unknown\",COUNTRY_INFO!Q31=\"Surveillance\",COUNTRY_INFO!Q31=\"Not required\",COUNTRY_INFO!Q31=0),0,IF($E31<>0,IF($D31=0,COUNTRY_INFO!Q31*MIN($E31,$L31),COUNTRY_INFO!Q31*MIN($E31,$L31)-($F31*COUNTRY_INFO!$Q31/(COUNTRY_INFO!$F31+COUNTRY_INFO!$G31)+IF($G31=\" \",0,COUNTRY_INFO!$Q31/(COUNTRY_INFO!$F31+COUNTRY_INFO!$G31)*$G31*$H31))),0)))","v":0},0,62229,null,62229,0,null,0,0,null,0]
[{"$f":"IF(AND(INTRO!$E$37=\"Non-endemic\",INTRO!$E$41=\"Non-endemic\"),\" \",IF(COUNTRY_INFO!A32=0,\" \",COUNTRY_INFO!A32))","v":"Angola"},{"$f":"IF(AND(INTRO!$E$37=\"Non-endemic\",INTRO!$E$41=\"Non-endemic\"),\" \",IF(COUNTRY_INFO!B32=0,\" \",COUNTRY_INFO!B32))","v":"BIE"},{"$f":"IF(AND(INTRO!$E$37=\"Non-endemic\",INTRO!$E$41=\"Non-endemic\"),\" \",IF(COUNTRY_INFO!C32=0,\" \",COUNTRY_INFO!C32))","v":"CUITO"},{"$f":"IF(AND(INTRO!$E$37=\"Non-endemic\",INTRO!$E$41=\"Non-endemic\"),0,COUNTRY_INFO!W32)","v":0},{"$f":"IF(AND(INTRO!$E$37=\"Non-endemic\",INTRO!$E$41=\"Non-endemic\"),0,COUNTRY_INFO!Y32)","v":0},{"$f":"IF($D32=1,IVM!G32,0)","v":0},{"$f":"IF($D32=0, \" \", IF(COUNTRY_INFO!$H32=1, IF(COUNTRY_INFO!$L32=1, 0,\" \"),\" \"))","v":" "},null,0,{"$f":"IF(OR(COUNTRY_INFO!O32=\"Unknown\",COUNTRY_INFO!O32=\"Surveillance\",COUNTRY_INFO!O32=\"Not required\",COUNTRY_INFO!O32=0),0,IF(INTRO!$E$39=\"Non-endemic\",IF(AND($E32<>0,$I32=\"\"),IF($F32=0,COUNTRY_INFO!O32*$E32,COUNTRY_INFO!O32*($E32-$D32)),IF(AND($E32<>0,$I32<>0),IF($F32=0,COUNTRY_INFO!O32*$I32,COUNTRY_INFO!O32*($I32-$D32)),0)),IF($I32=\"\",COUNTRY_INFO!O32*$E32,COUNTRY_INFO!O32*$I32)))","v":0},{"$f":"MAX(0,IF(OR(COUNTRY_INFO!P32=\"Unknown\",COUNTRY_INFO!P32=\"Surveillance\",COUNTRY_INFO!P32=\"Not required\",COUNTRY_INFO!P32=0),0,IF($E32<>0,IF($D32=0,COUNTRY_INFO!P32*$E32,COUNTRY_INFO!P32*$E32-($F32*COUNTRY_INFO!$P32/(COUNTRY_INFO!$F32+COUNTRY_INFO!$G32)+IF($G32=\" \",0,COUNTRY_INFO!$P32/(COUNTRY_INFO!$F32+COUNTRY_INFO!$G32)*$G32*$H32))),0)))","v":0},null,{"$f":"MAX(0,IF(OR(COUNTRY_INFO!Q32=\"Unknown\",COUNTRY_INFO!Q32=\"Surveillance\",COUNTRY_INFO!Q32=\"Not required\",COUNTRY_INFO!Q32=0),0,IF($E32<>0,IF($D32=0,COUNTRY_INFO!Q32*MIN($E32,$L32),COUNTRY_INFO!Q32*MIN($E32,$L32)-($F32*COUNTRY_INFO!$Q32/(COUNTRY_INFO!$F32+COUNTRY_INFO!$G32)+IF($G32=\" \",0,COUNTRY_INFO!$Q32/(COUNTRY_INFO!$F32+COUNTRY_INFO!$G32)*$G32*$H32))),0)))","v":0},0,0,null,0,0,null,0,0,null,0]
[{"$f":"IF(AND(INTRO!$E$37=\"Non-endemic\",INTRO!$E$41=\"Non-endemic\"),\" \",IF(COUNTRY_INFO!A33=0,\" \",COUNTRY_INFO!A33))","v":"Angola"},{"$f":"IF(AND(INTRO!$E$37=\"Non-endemic\",INTRO!$E$41=\"Non-endemic\"),\" \",IF(COUNTRY_INFO!B33=0,\" \",COUNTRY_INFO!B33))","v":"BIE"},{"$f":"IF(AND(INTRO!$E$37=\"Non-endemic\",INTRO!$E$41=\"Non-endemic\"),\" \",IF(COUNTRY_INFO!C33=0,\" \",COUNTRY_INFO!C33))","v":"CUNHINGA"},{"$f":"IF(AND(INTRO!$E$37=\"Non-endemic\",INTRO!$E$41=\"Non-endemic\"),0,COUNTRY_INFO!W33)","v":0},{"$f":"IF(AND(INTRO!$E$37=\"Non-endemic\",INTRO!$E$41=\"Non-endemic\"),0,COUNTRY_INFO!Y33)","v":0},{"$f":"IF($D33=1,IVM!G33,0)","v":0},{"$f":"IF($D33=0, \" \", IF(COUNTRY_INFO!$H33=1, IF(COUNTRY_INFO!$L33=1, 0,\" \"),\" \"))","v":" "},null,0,{"$f":"IF(OR(COUNTRY_INFO!O33=\"Unknown\",COUNTRY_INFO!O33=\"Surveillance\",COUNTRY_INFO!O33=\"Not required\",COUNTRY_INFO!O33=0),0,IF(INTRO!$E$39=\"Non-endemic\",IF(AND($E33<>0,$I33=\"\"),IF($F33=0,COUNTRY_INFO!O33*$E33,COUNTRY_INFO!O33*($E33-$D33)),IF(AND($E33<>0,$I33<>0),IF($F33=0,COUNTRY_INFO!O33*$I33,COUNTRY_INFO!O33*($I33-$D33)),0)),IF($I33=\"\",COUNTRY_INFO!O33*$E33,COUNTRY_INFO!O33*$I33)))","v":0},{"$f":"MAX(0,IF(OR(COUNTRY_INFO!P33=\"Unknown\",COUNTRY_INFO!P33=\"Surveillance\",COUNTRY_INFO!P33=\"Not required\",COUNTRY_INFO!P33=0),0,IF($E33<>0,IF($D33=0,COUNTRY_INFO!P33*$E33,COUNTRY_INFO!P33*$E33-($F33*COUNTRY_INFO!$P33/(COUNTRY_INFO!$F33+COUNTRY_INFO!$G33)+IF($G33=\" \",0,COUNTRY_INFO!$P33/(COUNTRY_INFO!$F33+COUNTRY_INFO!$G33)*$G33*$H33))),0)))","v":0},null,{"$f":"MAX(0,IF(OR(COUNTRY_INFO!Q33=\"Unknown\",COUNTRY_INFO!Q33=\"Surveillance\",COUNTRY_INFO!Q33=\"Not required\",COUNTRY_INFO!Q33=0),0,IF($E33<>0,IF($D33=0,COUNTRY_INFO!Q33*MIN($E33,$L33),COUNTRY_INFO!Q33*MIN($E33,$L33)-($F33*COUNTRY_INFO!$Q33/(COUNTRY_INFO!$F33+COUNTRY_INFO!$G33)+IF($G33=\" \",0,COUNTRY_INFO!$Q33/(COUNTRY_INFO!$F33+COUNTRY_INFO!$G33)*$G33*$H33))),0)))","v":0},0,0,null,0,0,null,0,0,null,0]
[{"$f":"IF(AND(INTRO!$E$37=\"Non-endemic\",INTRO!$E$41=\"Non-endemic\"),\" \",IF(COUNTRY_INFO!A34=0,\" \",COUNTRY_INFO!A34))","v":"Angola"},{"$f":"IF(AND(INTRO!$E$37=\"Non-endemic\",INTRO!$E$41=\"Non-endemic\"),\" \",IF(COUNTRY_INFO!B34=0,\" \",COUNTRY_INFO!B34))","v":"BIE"},{"$f":"IF(AND(INTRO!$E$37=\"Non-endemic\",INTRO!$E$41=\"Non-endemic\"),\" \",IF(COUNTRY_INFO!C34=0,\" \",COUNTRY_INFO!C34))","v":"NHAREA"},{"$f":"IF(AND(INTRO!$E$37=\"Non-endemic\",INTRO!$E$41=\"Non-endemic\"),0,COUNTRY_INFO!W34)","v":0},{"$f":"IF(AND(INTRO!$E$37=\"Non-endemic\",INTRO!$E$41=\"Non-endemic\"),0,COUNTRY_INFO!Y34)","v":0},{"$f":"IF($D34=1,IVM!G34,0)","v":0},{"$f":"IF($D34=0, \" \", IF(COUNTRY_INFO!$H34=1, IF(COUNTRY_INFO!$L34=1, 0,\" \"),\" \"))","v":" "},null,0,{"$f":"IF(OR(COUNTRY_INFO!O34=\"Unknown\",COUNTRY_INFO!O34=\"Surveillance\",COUNTRY_INFO!O34=\"Not required\",COUNTRY_INFO!O34=0),0,IF(INTRO!$E$39=\"Non-endemic\",IF(AND($E34<>0,$I34=\"\"),IF($F34=0,COUNTRY_INFO!O34*$E34,COUNTRY_INFO!O34*($E34-$D34)),IF(AND($E34<>0,$I34<>0),IF($F34=0,COUNTRY_INFO!O34*$I34,COUNTRY_INFO!O34*($I34-$D34)),0)),IF($I34=\"\",COUNTRY_INFO!O34*$E34,COUNTRY_INFO!O34*$I34)))","v":0},{"$f":"MAX(0,IF(OR(COUNTRY_INFO!P34=\"Unknown\",COUNTRY_INFO!P34=\"Surveillance\",COUNTRY_INFO!P34=\"Not required\",COUNTRY_INFO!P34=0),0,IF($E34<>0,IF($D34=0,COUNTRY_INFO!P34*$E34,COUNTRY_INFO!P34*$E34-($F34*COUNTRY_INFO!$P34/(COUNTRY_INFO!$F34+COUNTRY_INFO!$G34)+IF($G34=\" \",0,COUNTRY_INFO!$P34/(COUNTRY_INFO!$F34+COUNTRY_INFO!$G34)*$G34*$H34))),0)))","v":0},null,{"$f":"MAX(0,IF(OR(COUNTRY_INFO!Q34=\"Unknown\",COUNTRY_INFO!Q34=\"Surveillance\",COUNTRY_INFO!Q34=\"Not required\",COUNTRY_INFO!Q34=0),0,IF($E34<>0,IF($D34=0,COUNTRY_INFO!Q34*MIN($E34,$L34),COUNTRY_INFO!Q34*MIN($E34,$L34)-($F34*COUNTRY_INFO!$Q34/(COUNTRY_INFO!$F34+COUNTRY_INFO!$G34)+IF($G34=\" \",0,COUNTRY_INFO!$Q34/(COUNTRY_INFO!$F34+COUNTRY_INFO!$G34)*$G34*$H34))),0)))","v":0},0,0,null,0,0,null,0,0,null,0]
[{"$f":"IF(AND(INTRO!$E$37=\"Non-endemic\",INTRO!$E$41=\"Non-endemic\"),\" \",IF(COUNTRY_INFO!A35=0,\" \",COUNTRY_INFO!A35))","v":"Angola"},{"$f":"IF(AND(INTRO!$E$37=\"Non-endemic\",INTRO!$E$41=\"Non-endemic\"),\" \",IF(COUNTRY_INFO!B35=0,\" \",COUNTRY_INFO!B35))","v":"CABINDA"},{"$f":"IF(AND(INTRO!$E$37=\"Non-endemic\",INTRO!$E$41=\"Non-endemic\"),\" \",IF(COUNTRY_INFO!C35=0,\" \",COUNTRY_INFO!C35))","v":"BELIZE"},{"$f":"IF(AND(INTRO!$E$37=\"Non-endemic\",INTRO!$E$41=\"Non-endemic\"),0,COUNTRY_INFO!W35)","v":1},{"$f":"IF(AND(INTRO!$E$37=\"Non-endemic\",INTRO!$E$41=\"Non-endemic\"),0,COUNTRY_INFO!Y35)","v":1},{"$f":"IF($D35=1,IVM!G35,0)","v":20739},{"$f":"IF($D35=0, \" \", IF(COUNTRY_INFO!$H35=1, IF(COUNTRY_INFO!$L35=1, 0,\" \"),\" \"))","v":0},2,1,{"$f":"IF(OR(COUNTRY_INFO!O35=\"Unknown\",COUNTRY_INFO!O35=\"Surveillance\",COUNTRY_INFO!O35=\"Not required\",COUNTRY_INFO!O35=0),0,IF(INTRO!$E$39=\"Non-endemic\",IF(AND($E35<>0,$I35=\"\"),IF($F35=0,COUNTRY_INFO!O35*$E35,COUNTRY_INFO!O35*($E35-$D35)),IF(AND($E35<>0,$I35<>0),IF($F35=0,COUNTRY_INFO!O35*$I35,COUNTRY_INFO!O35*($I35-$D35)),0)),IF($I35=\"\",COUNTRY_INFO!O35*$E35,COUNTRY_INFO!O35*$I35)))","v":3422},{"$f":"MAX(0,IF(OR(COUNTRY_INFO!P35=\"Unknown\",COUNTRY_INFO!P35=\"Surveillance\",COUNTRY_INFO!P35=\"Not required\",COUNTRY_INFO!P35=0),0,IF($E35<>0,IF($D35=0,COUNTRY_INFO!P35*$E35,COUNTRY_INFO!P35*$E35-($F35*COUNTRY_INFO!$P35/(COUNTRY_INFO!$F35+COUNTRY_INFO!$G35)+IF($G35=\" \",0,COUNTRY_INFO!$P35/(COUNTRY_INFO!$F35+COUNTRY_INFO!$G35)*$G35*$H35))),0)))","v":0},null,{"$f":"MAX(0,IF(OR(COUNTRY_INFO!Q35=\"Unknown\",COUNTRY_INFO!Q35=\"Surveillance\",COUNTRY_INFO!Q35=\"Not required\",COUNTRY_INFO!Q35=0),0,IF($E35<>0,IF($D35=0,COUNTRY_INFO!Q35*MIN($E35,$L35),COUNTRY_INFO!Q35*MIN($E35,$L35)-($F35*COUNTRY_INFO!$Q35/(COUNTRY_INFO!$F35+COUNTRY_INFO!$G35)+IF($G35=\" \",0,COUNTRY_INFO!$Q35/(COUNTRY_INFO!$F35+COUNTRY_INFO!$G35)*$G35*$H35))),0)))","v":0},3422,20739,null,20739,3422,null,3422,0,null,0]
[{"$f":"IF(AND(INTRO!$E$37=\"Non-endemic\",INTRO!$E$41=\"Non-endemic\"),\" \",IF(COUNTRY_INFO!A36=0,\" \",COUNTRY_INFO!A36))","v":"Angola"},{"$f":"IF(AND(INTRO!$E$37=\"Non-endemic\",INTRO!$E$41=\"Non-endemic\"),\" \",IF(COUNTRY_INFO!B36=0,\" \",COUNTRY_INFO!B36))","v":"CABINDA"},{"$f":"IF(AND(INTRO!$E$37=\"Non-endemic\",INTRO!$E$41=\"Non-endemic\"),\" \",IF(COUNTRY_INFO!C36=0,\" \",COUNTRY_INFO!C36))","v":"BUCO ZAU"},{"$f":"IF(AND(INTRO!$E$37=\"Non-endemic\",INTRO!$E$41=\"Non-endemic\"),0,COUNTRY_INFO!W36)","v":1},{"$f":"IF(AND(INTRO!$E$37=\"Non-endemic\",INTRO!$E$41=\"Non-endemic\"),0,COUNTRY_INFO!Y36)","v":1},{"$f":"IF($D36=1,IVM!G36,0)","v":34765},{"$f":"IF($D36=0, \" \", IF(COUNTRY_INFO!$H36=1, IF(COUNTRY_INFO!$L36=1, 0,\" \"),\" \"))","v":0},2,1,{"$f":"IF(OR(COUNTRY_INFO!O36=\"Unknown\",COUNTRY_INFO!O36=\"Surveillance\",COUNTRY_INFO!O36=\"Not required\",COUNTRY_INFO!O36=0),0,IF(INTRO!$E$39=\"Non-endemic\",IF(AND($E36<>0,$I36=\"\"),IF($F36=0,COUNTRY_INFO!O36*$E36,COUNTRY_INFO!O36*($E36-$D36)),IF(AND($E36<>0,$I36<>0),IF($F36=0,COUNTRY_INFO!O36*$I36,COUNTRY_INFO!O36*($I36-$D36)),0)),IF($I36=\"\",COUNTRY_INFO!O36*$E36,COUNTRY_INFO!O36*$I36)))","v":5737},{"$f":"MAX(0,IF(OR(COUNTRY_INFO!P36=\"Unknown\",COUNTRY_INFO!P36=\"Surveillance\",COUNTRY_INFO!P36=\"Not required\",COUNTRY_INFO!P36=0),0,IF($E36<>0,IF($D36=0,COUNTRY_INFO!P36*$E36,COUNTRY_INFO!P36*$E36-($F36*COUNTRY_INFO!$P36/(COUNTRY_INFO!$F36+COUNTRY_INFO!$G36)+IF($G36=\" \",0,COUNTRY_INFO!$P36/(COUNTRY_INFO!$F36+COUNTRY_INFO!$G36)*$G36*$H36))),0)))","v":0},null,{"$f":"MAX(0,IF(OR(COUNTRY_INFO!Q36=\"Unknown\",COUNTRY_INFO!Q36=\"Surveillance\",COUNTRY_INFO!Q36=\"Not required\",COUNTRY_INFO!Q36=0),0,IF($E36<>0,IF($D36=0,COUNTRY_INFO!Q36*MIN($E36,$L36),COUNTRY_INFO!Q36*MIN($E36,$L36)-($F36*COUNTRY_INFO!$Q36/(COUNTRY_INFO!$F36+COUNTRY_INFO!$G36)+IF($G36=\" \",0,COUNTRY_INFO!$Q36/(COUNTRY_INFO!$F36+COUNTRY_INFO!$G36)*$G36*$H36))),0)))","v":0},5737,34765,null,34765,5737,null,5737,0,null,0]
[{"$f":"IF(AND(INTRO!$E$37=\"Non-endemic\",INTRO!$E$41=\"Non-endemic\"),\" \",IF(COUNTRY_INFO!A37=0,\" \",COUNTRY_INFO!A37))","v":"Angola"},{"$f":"IF(AND(INTRO!$E$37=\"Non-endemic\",INTRO!$E$41=\"Non-endemic\"),\" \",IF(COUNTRY_INFO!B37=0,\" \",COUNTRY_INFO!B37))","v":"CABINDA"},{"$f":"IF(AND(INTRO!$E$37=\"Non-endemic\",INTRO!$E$41=\"Non-endemic\"),\" \",IF(COUNTRY_INFO!C37=0,\" \",COUNTRY_INFO!C37))","v":"CABINDA"},{"$f":"IF(AND(INTRO!$E$37=\"Non-endemic\",INTRO!$E$41=\"Non-endemic\"),0,COUNTRY_INFO!W37)","v":1},{"$f":"IF(AND(INTRO!$E$37=\"Non-endemic\",INTRO!$E$41=\"Non-endemic\"),0,COUNTRY_INFO!Y37)","v":0},{"$f":"IF($D37=1,IVM!G37,0)","v":662230},{"$f":"IF($D37=0, \" \", IF(COUNTRY_INFO!$H37=1, IF(COUNTRY_INFO!$L37=1, 0,\" \"),\" \"))","v":0},2,0,{"$f":"IF(OR(COUNTRY_INFO!O37=\"Unknown\",COUNTRY_INFO!O37=\"Surveillance\",COUNTRY_INFO!O37=\"Not required\",COUNTRY_INFO!O37=0),0,IF(INTRO!$E$39=\"Non-endemic\",IF(AND($E37<>0,$I37=\"\"),IF($F37=0,COUNTRY_INFO!O37*$E37,COUNTRY_INFO!O37*($E37-$D37)),IF(AND($E37<>0,$I37<>0),IF($F37=0,COUNTRY_INFO!O37*$I37,COUNTRY_INFO!O37*($I37-$D37)),0)),IF($I37=\"\",COUNTRY_INFO!O37*$E37,COUNTRY_INFO!O37*$I37)))","v":0},{"$f":"MAX(0,IF(OR(COUNTRY_INFO!P37=\"Unknown\",COUNTRY_INFO!P37=\"Surveillance\",COUNTRY_INFO!P37=\"Not required\",COUNTRY_INFO!P37=0),0,IF($E37<>0,IF($D37=0,COUNTRY_INFO!P37*$E37,COUNTRY_INFO!P37*$E37-($F37*COUNTRY_INFO!$P37/(COUNTRY_INFO!$F37+COUNTRY_INFO!$G37)+IF($G37=\" \",0,COUNTRY_INFO!$P37/(COUNTRY_INFO!$F37+COUNTRY_INFO!$G37)*$G37*$H37))),0)))","v":0},null,{"$f":"MAX(0,IF(OR(COUNTRY_INFO!Q37=\"Unknown\",COUNTRY_INFO!Q37=\"Surveillance\",COUNTRY_INFO!Q37=\"Not required\",COUNTRY_INFO!Q37=0),0,IF($E37<>0,IF($D37=0,COUNTRY_INFO!Q37*MIN($E37,$L37),COUNTRY_INFO!Q37*MIN($E37,$L37)-($F37*COUNTRY_INFO!$Q37/(COUNTRY_INFO!$F37+COUNTRY_INFO!$G37)+IF($G37=\" \",0,COUNTRY_INFO!$Q37/(COUNTRY_INFO!$F37+COUNTRY_INFO!$G37)*$G37*$H37))),0)))","v":0},0,662230,null,662230,0,null,0,0,null,0]
[{"$f":"IF(AND(INTRO!$E$37=\"Non-endemic\",INTRO!$E$41=\"Non-endemic\"),\" \",IF(COUNTRY_INFO!A38=0,\" \",COUNTRY_INFO!A38))","v":"Angola"},{"$f":"IF(AND(INTRO!$E$37=\"Non-endemic\",INTRO!$E$41=\"Non-endemic\"),\" \",IF(COUNTRY_INFO!B38=0,\" \",COUNTRY_INFO!B38))","v":"CABINDA"},{"$f":"IF(AND(INTRO!$E$37=\"Non-endemic\",INTRO!$E$41=\"Non-endemic\"),\" \",IF(COUNTRY_INFO!C38=0,\" \",COUNTRY_INFO!C38))","v":"CACONGO"},{"$f":"IF(AND(INTRO!$E$37=\"Non-endemic\",INTRO!$E$41=\"Non-endemic\"),0,COUNTRY_INFO!W38)","v":1},{"$f":"IF(AND(INTRO!$E$37=\"Non-endemic\",INTRO!$E$41=\"Non-endemic\"),0,COUNTRY_INFO!Y38)","v":0},{"$f":"IF($D38=1,IVM!G38,0)","v":41427},{"$f":"IF($D38=0, \" \", IF(COUNTRY_INFO!$H38=1, IF(COUNTRY_INFO!$L38=1, 0,\" \"),\" \"))","v":0},2,0,{"$f":"IF(OR(COUNTRY_INFO!O38=\"Unknown\",COUNTRY_INFO!O38=\"Surveillance\",COUNTRY_INFO!O38=\"Not required\",COUNTRY_INFO!O38=0),0,IF(INTRO!$E$39=\"Non-endemic\",IF(AND($E38<>0,$I38=\"\"),IF($F38=0,COUNTRY_INFO!O38*$E38,COUNTRY_INFO!O38*($E38-$D38)),IF(AND($E38<>0,$I38<>0),IF($F38=0,COUNTRY_INFO!O38*$I38,COUNTRY_INFO!O38*($I38-$D38)),0)),IF($I38=\"\",COUNTRY_INFO!O38*$E38,COUNTRY_INFO!O38*$I38)))","v":0},{"$f":"MAX(0,IF(OR(COUNTRY_INFO!P38=\"Unknown\",COUNTRY_INFO!P38=\"Surveillance\",COUNTRY_INFO!P38=\"Not required\",COUNTRY_INFO!P38=0),0,IF($E38<>0,IF($D38=0,COUNTRY_INFO!P38*$E38,COUNTRY_INFO!P38*$E38-($F38*COUNTRY_INFO!$P38/(COUNTRY_INFO!$F38+COUNTRY_INFO!$G38)+IF($G38=\" \",0,COUNTRY_INFO!$P38/(COUNTRY_INFO!$F38+COUNTRY_INFO!$G38)*$G38*$H38))),0)))","v":0},null,{"$f":"MAX(0,IF(OR(COUNTRY_INFO!Q38=\"Unknown\",COUNTRY_INFO!Q38=\"Surveillance\",COUNTRY_INFO!Q38=\"Not required\",COUNTRY_INFO!Q38=0),0,IF($E38<>0,IF($D38=0,COUNTRY_INFO!Q38*MIN($E38,$L38),COUNTRY_INFO!Q38*MIN($E38,$L38)-($F38*COUNTRY_INFO!$Q38/(COUNTRY_INFO!$F38+COUNTRY_INFO!$G38)+IF($G38=\" \",0,COUNTRY_INFO!$Q38/(COUNTRY_INFO!$F38+COUNTRY_INFO!$G38)*$G38*$H38))),0)))","v":0},0,41427,null,41427,0,null,0,0,null,0]
[{"$f":"IF(AND(INTRO!$E$37=\"Non-endemic\",INTRO!$E$41=\"Non-endemic\"),\" \",IF(COUNTRY_INFO!A39=0,\" \",COUNTRY_INFO!A39))","v":"Angola"},{"$f":"IF(AND(INTRO!$E$37=\"Non-endemic\",INTRO!$E$41=\"Non-endemic\"),\" \",IF(COUNTRY_INFO!B39=0,\" \",COUNTRY_INFO!B39))","v":"CUANDO CUBANGO"},{"$f":"IF(AND(INTRO!$E$37=\"Non-endemic\",INTRO!$E$41=\"Non-endemic\"),\" \",IF(COUNTRY_INFO!C39=0,\" \",COUNTRY_INFO!C39))","v":"CALAI"},{"$f":"IF(AND(INTRO!$E$37=\"Non-endemic\",INTRO!$E$41=\"Non-endemic\"),0,COUNTRY_INFO!W39)","v":0},{"$f":"IF(AND(INTRO!$E$37=\"Non-endemic\",INTRO!$E$41=\"Non-endemic\"),0,COUNTRY_INFO!Y39)","v":0},{"$f":"IF($D39=1,IVM!G39,0)","v":0},{"$f":"IF($D39=0, \" \", IF(COUNTRY_INFO!$H39=1, IF(COUNTRY_INFO!$L39=1, 0,\" \"),\" \"))","v":" "},null,0,{"$f":"IF(OR(COUNTRY_INFO!O39=\"Unknown\",COUNTRY_INFO!O39=\"Surveillance\",COUNTRY_INFO!O39=\"Not required\",COUNTRY_INFO!O39=0),0,IF(INTRO!$E$39=\"Non-endemic\",IF(AND($E39<>0,$I39=\"\"),IF($F39=0,COUNTRY_INFO!O39*$E39,COUNTRY_INFO!O39*($E39-$D39)),IF(AND($E39<>0,$I39<>0),IF($F39=0,COUNTRY_INFO!O39*$I39,COUNTRY_INFO!O39*($I39-$D39)),0)),IF($I39=\"\",COUNTRY_INFO!O39*$E39,COUNTRY_INFO!O39*$I39)))","v":0},{"$f":"MAX(0,IF(OR(COUNTRY_INFO!P39=\"Unknown\",COUNTRY_INFO!P39=\"Surveillance\",COUNTRY_INFO!P39=\"Not required\",COUNTRY_INFO!P39=0),0,IF($E39<>0,IF($D39=0,COUNTRY_INFO!P39*$E39,COUNTRY_INFO!P39*$E39-($F39*COUNTRY_INFO!$P39/(COUNTRY_INFO!$F39+COUNTRY_INFO!$G39)+IF($G39=\" \",0,COUNTRY_INFO!$P39/(COUNTRY_INFO!$F39+COUNTRY_INFO!$G39)*$G39*$H39))),0)))","v":0},null,{"$f":"MAX(0,IF(OR(COUNTRY_INFO!Q39=\"Unknown\",COUNTRY_INFO!Q39=\"Surveillance\",COUNTRY_INFO!Q39=\"Not required\",COUNTRY_INFO!Q39=0),0,IF($E39<>0,IF($D39=0,COUNTRY_INFO!Q39*MIN($E39,$L39),COUNTRY_INFO!Q39*MIN($E39,$L39)-($F39*COUNTRY_INFO!$Q39/(COUNTRY_INFO!$F39+COUNTRY_INFO!$G39)+IF($G39=\" \",0,COUNTRY_INFO!$Q39/(COUNTRY_INFO!$F39+COUNTRY_INFO!$G39)*$G39*$H39))),0)))","v":0},0,0,null,0,0,null,0,0,null,0]
[{"$f":"IF(AND(INTRO!$E$37=\"Non-endemic\",INTRO!$E$41=\"Non-endemic\"),\" \",IF(COUNTRY_INFO!A40=0,\" \",COUNTRY_INFO!A40))","v":"Angola"},{"$f":"IF(AND(INTRO!$E$37=\"Non-endemic\",INTRO!$E$41=\"Non-endemic\"),\" \",IF(COUNTRY_INFO!B40=0,\" \",COUNTRY_INFO!B40))","v":"CUANDO CUBANGO"},{"$f":"IF(AND(INTRO!$E$37=\"Non-endemic\",INTRO!$E$41=\"Non-endemic\"),\" \",IF(COUNTRY_INFO!C40=0,\" \",COUNTRY_INFO!C40))","v":"CUANGAR"},{"$f":"IF(AND(INTRO!$E$37=\"Non-endemic\",INTRO!$E$41=\"Non-endemic\"),0,COUNTRY_INFO!W40)","v":0},{"$f":"IF(AND(INTRO!$E$37=\"Non-endemic\",INTRO!$E$41=\"Non-endemic\"),0,COUNTRY_INFO!Y40)","v":0},{"$f":"IF($D40=1,IVM!G40,0)","v":0},{"$f":"IF($D40=0, \" \", IF(COUNTRY_INFO!$H40=1, IF(COUNTRY_INFO!$L40=1, 0,\" \"),\" \"))","v":" "},null,0,{"$f":"IF(OR(COUNTRY_INFO!O40=\"Unknown\",COUNTRY_INFO!O40=\"Surveillance\",COUNTRY_INFO!O40=\"Not required\",COUNTRY_INFO!O40=0),0,IF(INTRO!$E$39=\"Non-endemic\",IF(AND($E40<>0,$I40=\"\"),IF($F40=0,COUNTRY_INFO!O40*$E40,COUNTRY_INFO!O40*($E40-$D40)),IF(AND($E40<>0,$I40<>0),IF($F40=0,COUNTRY_INFO!O40*$I40,COUNTRY_INFO!O40*($I40-$D40)),0)),IF($I40=\"\",COUNTRY_INFO!O40*$E40,COUNTRY_INFO!O40*$I40)))","v":0},{"$f":"MAX(0,IF(OR(COUNTRY_INFO!P40=\"Unknown\",COUNTRY_INFO!P40=\"Surveillance\",COUNTRY_INFO!P40=\"Not required\",COUNTRY_INFO!P40=0),0,IF($E40<>0,IF($D40=0,COUNTRY_INFO!P40*$E40,COUNTRY_INFO!P40*$E40-($F40*COUNTRY_INFO!$P40/(COUNTRY_INFO!$F40+COUNTRY_INFO!$G40)+IF($G40=\" \",0,COUNTRY_INFO!$P40/(COUNTRY_INFO!$F40+COUNTRY_INFO!$G40)*$G40*$H40))),0)))","v":0},null,{"$f":"MAX(0,IF(OR(COUNTRY_INFO!Q40=\"Unknown\",COUNTRY_INFO!Q40=\"Surveillance\",COUNTRY_INFO!Q40=\"Not required\",COUNTRY_INFO!Q40=0),0,IF($E40<>0,IF($D40=0,COUNTRY_INFO!Q40*MIN($E40,$L40),COUNTRY_INFO!Q40*MIN($E40,$L40)-($F40*COUNTRY_INFO!$Q40/(COUNTRY_INFO!$F40+COUNTRY_INFO!$G40)+IF($G40=\" \",0,COUNTRY_INFO!$Q40/(COUNTRY_INFO!$F40+COUNTRY_INFO!$G40)*$G40*$H40))),0)))","v":0},0,0,null,0,0,null,0,0,null,0]
[{"$f":"IF(AND(INTRO!$E$37=\"Non-endemic\",INTRO!$E$41=\"Non-endemic\"),\" \",IF(COUNTRY_INFO!A41=0,\" \",COUNTRY_INFO!A41))","v":"Angola"},{"$f":"IF(AND(INTRO!$E$37=\"Non-endemic\",INTRO!$E$41=\"Non-endemic\"),\" \",IF(COUNTRY_INFO!B41=0,\" \",COUNTRY_INFO!B41))","v":"CUANDO CUBANGO"},{"$f":"IF(AND(INTRO!$E$37=\"Non-endemic\",INTRO!$E$41=\"Non-endemic\"),\" \",IF(COUNTRY_INFO!C41=0,\" \",COUNTRY_INFO!C41))","v":"CUCHI"},{"$f":"IF(AND(INTRO!$E$37=\"Non-endemic\",INTRO!$E$41=\"Non-endemic\"),0,COUNTRY_INFO!W41)","v":0},{"$f":"IF(AND(INTRO!$E$37=\"Non-endemic\",INTRO!$E$41=\"Non-endemic\"),0,COUNTRY_INFO!Y41)","v":0},{"$f":"IF($D41=1,IVM!G41,0)","v":0},{"$f":"IF($D41=0, \" \", IF(COUNTRY_INFO!$H41=1, IF(COUNTRY_INFO!$L41=1, 0,\" \"),\" \"))","v":" "},null,0,{"$f":"IF(OR(COUNTRY_INFO!O41=\"Unknown\",COUNTRY_INFO!O41=\"Surveillance\",COUNTRY_INFO!O41=\"Not required\",COUNTRY_INFO!O41=0),0,IF(INTRO!$E$39=\"Non-endemic\",IF(AND($E41<>0,$I41=\"\"),IF($F41=0,COUNTRY_INFO!O41*$E41,COUNTRY_INFO!O41*($E41-$D41)),IF(AND($E41<>0,$I41<>0),IF($F41=0,COUNTRY_INFO!O41*$I41,COUNTRY_INFO!O41*($I41-$D41)),0)),IF($I41=\"\",COUNTRY_INFO!O41*$E41,COUNTRY_INFO!O41*$I41)))","v":0},{"$f":"MAX(0,IF(OR(COUNTRY_INFO!P41=\"Unknown\",COUNTRY_INFO!P41=\"Surveillance\",COUNTRY_INFO!P41=\"Not required\",COUNTRY_INFO!P41=0),0,IF($E41<>0,IF($D41=0,COUNTRY_INFO!P41*$E41,COUNTRY_INFO!P41*$E41-($F41*COUNTRY_INFO!$P41/(COUNTRY_INFO!$F41+COUNTRY_INFO!$G41)+IF($G41=\" \",0,COUNTRY_INFO!$P41/(COUNTRY_INFO!$F41+COUNTRY_INFO!$G41)*$G41*$H41))),0)))","v":0},null,{"$f":"MAX(0,IF(OR(COUNTRY_INFO!Q41=\"Unknown\",COUNTRY_INFO!Q41=\"Surveillance\",COUNTRY_INFO!Q41=\"Not required\",COUNTRY_INFO!Q41=0),0,IF($E41<>0,IF($D41=0,COUNTRY_INFO!Q41*MIN($E41,$L41),COUNTRY_INFO!Q41*MIN($E41,$L41)-($F41*COUNTRY_INFO!$Q41/(COUNTRY_INFO!$F41+COUNTRY_INFO!$G41)+IF($G41=\" \",0,COUNTRY_INFO!$Q41/(COUNTRY_INFO!$F41+COUNTRY_INFO!$G41)*$G41*$H41))),0)))","v":0},0,0,null,0,0,null,0,0,null,0]
[{"$f":"IF(AND(INTRO!$E$37=\"Non-endemic\",INTRO!$E$41=\"Non-endemic\"),\" \",IF(COUNTRY_INFO!A42=0,\" \",COUNTRY_INFO!A42))","v":"Angola"},{"$f":"IF(AND(INTRO!$E$37=\"Non-endemic\",INTRO!$E$41=\"Non-endemic\"),\" \",IF(COUNTRY_INFO!B42=0,\" \",COUNTRY_INFO!B42))","v":"CUANDO CUBANGO"},{"$f":"IF(AND(INTRO!$E$37=\"Non-endemic\",INTRO!$E$41=\"Non-endemic\"),\" \",IF(COUNTRY_INFO!C42=0,\" \",COUNTRY_INFO!C42))","v":"CUITO CUANAVALE"},{"$f":"IF(AND(INTRO!$E$37=\"Non-endemic\",INTRO!$E$41=\"Non-endemic\"),0,COUNTRY_INFO!W42)","v":0},{"$f":"IF(AND(INTRO!$E$37=\"Non-endemic\",INTRO!$E$41=\"Non-endemic\"),0,COUNTRY_INFO!Y42)","v":0},{"$f":"IF($D42=1,IVM!G42,0)","v":0},{"$f":"IF($D42=0, \" \", IF(COUNTRY_INFO!$H42=1, IF(COUNTRY_INFO!$L42=1, 0,\" \"),\" \"))","v":" "},null,0,{"$f":"IF(OR(COUNTRY_INFO!O42=\"Unknown\",COUNTRY_INFO!O42=\"Surveillance\",COUNTRY_INFO!O42=\"Not required\",COUNTRY_INFO!O42=0),0,IF(INTRO!$E$39=\"Non-endemic\",IF(AND($E42<>0,$I42=\"\"),IF($F42=0,COUNTRY_INFO!O42*$E42,COUNTRY_INFO!O42*($E42-$D42)),IF(AND($E42<>0,$I42<>0),IF($F42=0,COUNTRY_INFO!O42*$I42,COUNTRY_INFO!O42*($I42-$D42)),0)),IF($I42=\"\",COUNTRY_INFO!O42*$E42,COUNTRY_INFO!O42*$I42)))","v":0},{"$f":"MAX(0,IF(OR(COUNTRY_INFO!P42=\"Unknown\",COUNTRY_INFO!P42=\"Surveillance\",COUNTRY_INFO!P42=\"Not required\",COUNTRY_INFO!P42=0),0,IF($E42<>0,IF($D42=0,COUNTRY_INFO!P42*$E42,COUNTRY_INFO!P42*$E42-($F42*COUNTRY_INFO!$P42/(COUNTRY_INFO!$F42+COUNTRY_INFO!$G42)+IF($G42=\" \",0,COUNTRY_INFO!$P42/(COUNTRY_INFO!$F42+COUNTRY_INFO!$G42)*$G42*$H42))),0)))","v":0},null,{"$f":"MAX(0,IF(OR(COUNTRY_INFO!Q42=\"Unknown\",COUNTRY_INFO!Q42=\"Surveillance\",COUNTRY_INFO!Q42=\"Not required\",COUNTRY_INFO!Q42=0),0,IF($E42<>0,IF($D42=0,COUNTRY_INFO!Q42*MIN($E42,$L42),COUNTRY_INFO!Q42*MIN($E42,$L42)-($F42*COUNTRY_INFO!$Q42/(COUNTRY_INFO!$F42+COUNTRY_INFO!$G42)+IF($G42=\" \",0,COUNTRY_INFO!$Q42/(COUNTRY_INFO!$F42+COUNTRY_INFO!$G42)*$G42*$H42))),0)))","v":0},0,0,null,0,0,null,0,0,null,0]
[{"$f":"IF(AND(INTRO!$E$37=\"Non-endemic\",INTRO!$E$41=\"Non-endemic\"),\" \",IF(COUNTRY_INFO!A43=0,\" \",COUNTRY_INFO!A43))","v":"Angola"},{"$f":"IF(AND(INTRO!$E$37=\"Non-endemic\",INTRO!$E$41=\"Non-endemic\"),\" \",IF(COUNTRY_INFO!B43=0,\" \",COUNTRY_INFO!B43))","v":"CUANDO CUBANGO"},{"$f":"IF(AND(INTRO!$E$37=\"Non-endemic\",INTRO!$E$41=\"Non-endemic\"),\" \",IF(COUNTRY_INFO!C43=0,\" \",COUNTRY_INFO!C43))","v":"DIRICO"},{"$f":"IF(AND(INTRO!$E$37=\"Non-endemic\",INTRO!$E$41=\"Non-endemic\"),0,COUNTRY_INFO!W43)","v":0},{"$f":"IF(AND(INTRO!$E$37=\"Non-endemic\",INTRO!$E$41=\"Non-endemic\"),0,COUNTRY_INFO!Y43)","v":0},{"$f":"IF($D43=1,IVM!G43,0)","v":0},{"$f":"IF($D43=0, \" \", IF(COUNTRY_INFO!$H43=1, IF(COUNTRY_INFO!$L43=1, 0,\" \"),\" \"))","v":" "},null,0,{"$f":"IF(OR(COUNTRY_INFO!O43=\"Unknown\",COUNTRY_INFO!O43=\"Surveillance\",COUNTRY_INFO!O43=\"Not required\",COUNTRY_INFO!O43=0),0,IF(INTRO!$E$39=\"Non-endemic\",IF(AND($E43<>0,$I43=\"\"),IF($F43=0,COUNTRY_INFO!O43*$E43,COUNTRY_INFO!O43*($E43-$D43)),IF(AND($E43<>0,$I43<>0),IF($F43=0,COUNTRY_INFO!O43*$I43,COUNTRY_INFO!O43*($I43-$D43)),0)),IF($I43=\"\",COUNTRY_INFO!O43*$E43,COUNTRY_INFO!O43*$I43)))","v":0},{"$f":"MAX(0,IF(OR(COUNTRY_INFO!P43=\"Unknown\",COUNTRY_INFO!P43=\"Surveillance\",COUNTRY_INFO!P43=\"Not required\",COUNTRY_INFO!P43=0),0,IF($E43<>0,IF($D43=0,COUNTRY_INFO!P43*$E43,COUNTRY_INFO!P43*$E43-($F43*COUNTRY_INFO!$P43/(COUNTRY_INFO!$F43+COUNTRY_INFO!$G43)+IF($G43=\" \",0,COUNTRY_INFO!$P43/(COUNTRY_INFO!$F43+COUNTRY_INFO!$G43)*$G43*$H43))),0)))","v":0},null,{"$f":"MAX(0,IF(OR(COUNTRY_INFO!Q43=\"Unknown\",COUNTRY_INFO!Q43=\"Surveillance\",COUNTRY_INFO!Q43=\"Not required\",COUNTRY_INFO!Q43=0),0,IF($E43<>0,IF($D43=0,COUNTRY_INFO!Q43*MIN($E43,$L43),COUNTRY_INFO!Q43*MIN($E43,$L43)-($F43*COUNTRY_INFO!$Q43/(COUNTRY_INFO!$F43+COUNTRY_INFO!$G43)+IF($G43=\" \",0,COUNTRY_INFO!$Q43/(COUNTRY_INFO!$F43+COUNTRY_INFO!$G43)*$G43*$H43))),0)))","v":0},0,0,null,0,0,null,0,0,null,0]
[{"$f":"IF(AND(INTRO!$E$37=\"Non-endemic\",INTRO!$E$41=\"Non-endemic\"),\" \",IF(COUNTRY_INFO!A44=0,\" \",COUNTRY_INFO!A44))","v":"Angola"},{"$f":"IF(AND(INTRO!$E$37=\"Non-endemic\",INTRO!$E$41=\"Non-endemic\"),\" \",IF(COUNTRY_INFO!B44=0,\" \",COUNTRY_INFO!B44))","v":"CUANDO CUBANGO"},{"$f":"IF(AND(INTRO!$E$37=\"Non-endemic\",INTRO!$E$41=\"Non-endemic\"),\" \",IF(COUNTRY_INFO!C44=0,\" \",COUNTRY_INFO!C44))","v":"MAVINGA"},{"$f":"IF(AND(INTRO!$E$37=\"Non-endemic\",INTRO!$E$41=\"Non-endemic\"),0,COUNTRY_INFO!W44)","v":0},{"$f":"IF(AND(INTRO!$E$37=\"Non-endemic\",INTRO!$E$41=\"Non-endemic\"),0,COUNTRY_INFO!Y44)","v":0},{"$f":"IF($D44=1,IVM!G44,0)","v":0},{"$f":"IF($D44=0, \" \", IF(COUNTRY_INFO!$H44=1, IF(COUNTRY_INFO!$L44=1, 0,\" \"),\" \"))","v":" "},null,0,{"$f":"IF(OR(COUNTRY_INFO!O44=\"Unknown\",COUNTRY_INFO!O44=\"Surveillance\",COUNTRY_INFO!O44=\"Not required\",COUNTRY_INFO!O44=0),0,IF(INTRO!$E$39=\"Non-endemic\",IF(AND($E44<>0,$I44=\"\"),IF($F44=0,COUNTRY_INFO!O44*$E44,COUNTRY_INFO!O44*($E44-$D44)),IF(AND($E44<>0,$I44<>0),IF($F44=0,COUNTRY_INFO!O44*$I44,COUNTRY_INFO!O44*($I44-$D44)),0)),IF($I44=\"\",COUNTRY_INFO!O44*$E44,COUNTRY_INFO!O44*$I44)))","v":0},{"$f":"MAX(0,IF(OR(COUNTRY_INFO!P44=\"Unknown\",COUNTRY_INFO!P44=\"Surveillance\",COUNTRY_INFO!P44=\"Not required\",COUNTRY_INFO!P44=0),0,IF($E44<>0,IF($D44=0,COUNTRY_INFO!P44*$E44,COUNTRY_INFO!P44*$E44-($F44*COUNTRY_INFO!$P44/(COUNTRY_INFO!$F44+COUNTRY_INFO!$G44)+IF($G44=\" \",0,COUNTRY_INFO!$P44/(COUNTRY_INFO!$F44+COUNTRY_INFO!$G44)*$G44*$H44))),0)))","v":0},null,{"$f":"MAX(0,IF(OR(COUNTRY_INFO!Q44=\"Unknown\",COUNTRY_INFO!Q44=\"Surveillance\",COUNTRY_INFO!Q44=\"Not required\",COUNTRY_INFO!Q44=0),0,IF($E44<>0,IF($D44=0,COUNTRY_INFO!Q44*MIN($E44,$L44),COUNTRY_INFO!Q44*MIN($E44,$L44)-($F44*COUNTRY_INFO!$Q44/(COUNTRY_INFO!$F44+COUNTRY_INFO!$G44)+IF($G44=\" \",0,COUNTRY_INFO!$Q44/(COUNTRY_INFO!$F44+COUNTRY_INFO!$G44)*$G44*$H44))),0)))","v":0},0,0,null,0,0,null,0,0,null,0]
[{"$f":"IF(AND(INTRO!$E$37=\"Non-endemic\",INTRO!$E$41=\"Non-endemic\"),\" \",IF(COUNTRY_INFO!A45=0,\" \",COUNTRY_INFO!A45))","v":"Angola"},{"$f":"IF(AND(INTRO!$E$37=\"Non-endemic\",INTRO!$E$41=\"Non-endemic\"),\" \",IF(COUNTRY_INFO!B45=0,\" \",COUNTRY_INFO!B45))","v":"CUANDO CUBANGO"},{"$f":"IF(AND(INTRO!$E$37=\"Non-endemic\",INTRO!$E$41=\"Non-endemic\"),\" \",IF(COUNTRY_INFO!C45=0,\" \",COUNTRY_INFO!C45))","v":"MENONGUE"},{"$f":"IF(AND(INTRO!$E$37=\"Non-endemic\",INTRO!$E$41=\"Non-endemic\"),0,COUNTRY_INFO!W45)","v":0},{"$f":"IF(AND(INTRO!$E$37=\"Non-endemic\",INTRO!$E$41=\"Non-endemic\"),0,COUNTRY_INFO!Y45)","v":0},{"$f":"IF($D45=1,IVM!G45,0)","v":0},{"$f":"IF($D45=0, \" \", IF(COUNTRY_INFO!$H45=1, IF(COUNTRY_INFO!$L45=1, 0,\" \"),\" \"))","v":" "},null,0,{"$f":"IF(OR(COUNTRY_INFO!O45=\"Unknown\",COUNTRY_INFO!O45=\"Surveillance\",COUNTRY_INFO!O45=\"Not required\",COUNTRY_INFO!O45=0),0,IF(INTRO!$E$39=\"Non-endemic\",IF(AND($E45<>0,$I45=\"\"),IF($F45=0,COUNTRY_INFO!O45*$E45,COUNTRY_INFO!O45*($E45-$D45)),IF(AND($E45<>0,$I45<>0),IF($F45=0,COUNTRY_INFO!O45*$I45,COUNTRY_INFO!O45*($I45-$D45)),0)),IF($I45=\"\",COUNTRY_INFO!O45*$E45,COUNTRY_INFO!O45*$I45)))","v":0},{"$f":"MAX(0,IF(OR(COUNTRY_INFO!P45=\"Unknown\",COUNTRY_INFO!P45=\"Surveillance\",COUNTRY_INFO!P45=\"Not required\",COUNTRY_INFO!P45=0),0,IF($E45<>0,IF($D45=0,COUNTRY_INFO!P45*$E45,COUNTRY_INFO!P45*$E45-($F45*COUNTRY_INFO!$P45/(COUNTRY_INFO!$F45+COUNTRY_INFO!$G45)+IF($G45=\" \",0,COUNTRY_INFO!$P45/(COUNTRY_INFO!$F45+COUNTRY_INFO!$G45)*$G45*$H45))),0)))","v":0},null,{"$f":"MAX(0,IF(OR(COUNTRY_INFO!Q45=\"Unknown\",COUNTRY_INFO!Q45=\"Surveillance\",COUNTRY_INFO!Q45=\"Not required\",COUNTRY_INFO!Q45=0),0,IF($E45<>0,IF($D45=0,COUNTRY_INFO!Q45*MIN($E45,$L45),COUNTRY_INFO!Q45*MIN($E45,$L45)-($F45*COUNTRY_INFO!$Q45/(COUNTRY_INFO!$F45+COUNTRY_INFO!$G45)+IF($G45=\" \",0,COUNTRY_INFO!$Q45/(COUNTRY_INFO!$F45+COUNTRY_INFO!$G45)*$G45*$H45))),0)))","v":0},0,0,null,0,0,null,0,0,null,0]
[{"$f":"IF(AND(INTRO!$E$37=\"Non-endemic\",INTRO!$E$41=\"Non-endemic\"),\" \",IF(COUNTRY_INFO!A46=0,\" \",COUNTRY_INFO!A46))","v":"Angola"},{"$f":"IF(AND(INTRO!$E$37=\"Non-endemic\",INTRO!$E$41=\"Non-endemic\"),\" \",IF(COUNTRY_INFO!B46=0,\" \",COUNTRY_INFO!B46))","v":"CUANDO CUBANGO"},{"$f":"IF(AND(INTRO!$E$37=\"Non-endemic\",INTRO!$E$41=\"Non-endemic\"),\" \",IF(COUNTRY_INFO!C46=0,\" \",COUNTRY_INFO!C46))","v":"NANKOVA"},{"$f":"IF(AND(INTRO!$E$37=\"Non-endemic\",INTRO!$E$41=\"Non-endemic\"),0,COUNTRY_INFO!W46)","v":0},{"$f":"IF(AND(INTRO!$E$37=\"Non-endemic\",INTRO!$E$41=\"Non-endemic\"),0,COUNTRY_INFO!Y46)","v":0},{"$f":"IF($D46=1,IVM!G46,0)","v":0},{"$f":"IF($D46=0, \" \", IF(COUNTRY_INFO!$H46=1, IF(COUNTRY_INFO!$L46=1, 0,\" \"),\" \"))","v":" "},null,0,{"$f":"IF(OR(COUNTRY_INFO!O46=\"Unknown\",COUNTRY_INFO!O46=\"Surveillance\",COUNTRY_INFO!O46=\"Not required\",COUNTRY_INFO!O46=0),0,IF(INTRO!$E$39=\"Non-endemic\",IF(AND($E46<>0,$I46=\"\"),IF($F46=0,COUNTRY_INFO!O46*$E46,COUNTRY_INFO!O46*($E46-$D46)),IF(AND($E46<>0,$I46<>0),IF($F46=0,COUNTRY_INFO!O46*$I46,COUNTRY_INFO!O46*($I46-$D46)),0)),IF($I46=\"\",COUNTRY_INFO!O46*$E46,COUNTRY_INFO!O46*$I46)))","v":0},{"$f":"MAX(0,IF(OR(COUNTRY_INFO!P46=\"Unknown\",COUNTRY_INFO!P46=\"Surveillance\",COUNTRY_INFO!P46=\"Not required\",COUNTRY_INFO!P46=0),0,IF($E46<>0,IF($D46=0,COUNTRY_INFO!P46*$E46,COUNTRY_INFO!P46*$E46-($F46*COUNTRY_INFO!$P46/(COUNTRY_INFO!$F46+COUNTRY_INFO!$G46)+IF($G46=\" \",0,COUNTRY_INFO!$P46/(COUNTRY_INFO!$F46+COUNTRY_INFO!$G46)*$G46*$H46))),0)))","v":0},null,{"$f":"MAX(0,IF(OR(COUNTRY_INFO!Q46=\"Unknown\",COUNTRY_INFO!Q46=\"Surveillance\",COUNTRY_INFO!Q46=\"Not required\",COUNTRY_INFO!Q46=0),0,IF($E46<>0,IF($D46=0,COUNTRY_INFO!Q46*MIN($E46,$L46),COUNTRY_INFO!Q46*MIN($E46,$L46)-($F46*COUNTRY_INFO!$Q46/(COUNTRY_INFO!$F46+COUNTRY_INFO!$G46)+IF($G46=\" \",0,COUNTRY_INFO!$Q46/(COUNTRY_INFO!$F46+COUNTRY_INFO!$G46)*$G46*$H46))),0)))","v":0},0,0,null,0,0,null,0,0,null,0]
[{"$f":"IF(AND(INTRO!$E$37=\"Non-endemic\",INTRO!$E$41=\"Non-endemic\"),\" \",IF(COUNTRY_INFO!A47=0,\" \",COUNTRY_INFO!A47))","v":"Angola"},{"$f":"IF(AND(INTRO!$E$37=\"Non-endemic\",INTRO!$E$41=\"Non-endemic\"),\" \",IF(COUNTRY_INFO!B47=0,\" \",COUNTRY_INFO!B47))","v":"CUANDO CUBANGO"},{"$f":"IF(AND(INTRO!$E$37=\"Non-endemic\",INTRO!$E$41=\"Non-endemic\"),\" \",IF(COUNTRY_INFO!C47=0,\" \",COUNTRY_INFO!C47))","v":"RIVUNGO"},{"$f":"IF(AND(INTRO!$E$37=\"Non-endemic\",INTRO!$E$41=\"Non-endemic\"),0,COUNTRY_INFO!W47)","v":0},{"$f":"IF(AND(INTRO!$E$37=\"Non-endemic\",INTRO!$E$41=\"Non-endemic\"),0,COUNTRY_INFO!Y47)","v":0},{"$f":"IF($D47=1,IVM!G47,0)","v":0},{"$f":"IF($D47=0, \" \", IF(COUNTRY_INFO!$H47=1, IF(COUNTRY_INFO!$L47=1, 0,\" \"),\" \"))","v":" "},null,0,{"$f":"IF(OR(COUNTRY_INFO!O47=\"Unknown\",COUNTRY_INFO!O47=\"Surveillance\",COUNTRY_INFO!O47=\"Not required\",COUNTRY_INFO!O47=0),0,IF(INTRO!$E$39=\"Non-endemic\",IF(AND($E47<>0,$I47=\"\"),IF($F47=0,COUNTRY_INFO!O47*$E47,COUNTRY_INFO!O47*($E47-$D47)),IF(AND($E47<>0,$I47<>0),IF($F47=0,COUNTRY_INFO!O47*$I47,COUNTRY_INFO!O47*($I47-$D47)),0)),IF($I47=\"\",COUNTRY_INFO!O47*$E47,COUNTRY_INFO!O47*$I47)))","v":0},{"$f":"MAX(0,IF(OR(COUNTRY_INFO!P47=\"Unknown\",COUNTRY_INFO!P47=\"Surveillance\",COUNTRY_INFO!P47=\"Not required\",COUNTRY_INFO!P47=0),0,IF($E47<>0,IF($D47=0,COUNTRY_INFO!P47*$E47,COUNTRY_INFO!P47*$E47-($F47*COUNTRY_INFO!$P47/(COUNTRY_INFO!$F47+COUNTRY_INFO!$G47)+IF($G47=\" \",0,COUNTRY_INFO!$P47/(COUNTRY_INFO!$F47+COUNTRY_INFO!$G47)*$G47*$H47))),0)))","v":0},null,{"$f":"MAX(0,IF(OR(COUNTRY_INFO!Q47=\"Unknown\",COUNTRY_INFO!Q47=\"Surveillance\",COUNTRY_INFO!Q47=\"Not required\",COUNTRY_INFO!Q47=0),0,IF($E47<>0,IF($D47=0,COUNTRY_INFO!Q47*MIN($E47,$L47),COUNTRY_INFO!Q47*MIN($E47,$L47)-($F47*COUNTRY_INFO!$Q47/(COUNTRY_INFO!$F47+COUNTRY_INFO!$G47)+IF($G47=\" \",0,COUNTRY_INFO!$Q47/(COUNTRY_INFO!$F47+COUNTRY_INFO!$G47)*$G47*$H47))),0)))","v":0},0,0,null,0,0,null,0,0,null,0]
[{"$f":"IF(AND(INTRO!$E$37=\"Non-endemic\",INTRO!$E$41=\"Non-endemic\"),\" \",IF(COUNTRY_INFO!A48=0,\" \",COUNTRY_INFO!A48))","v":"Angola"},{"$f":"IF(AND(INTRO!$E$37=\"Non-endemic\",INTRO!$E$41=\"Non-endemic\"),\" \",IF(COUNTRY_INFO!B48=0,\" \",COUNTRY_INFO!B48))","v":"CUANZA NORTE"},{"$f":"IF(AND(INTRO!$E$37=\"Non-endemic\",INTRO!$E$41=\"Non-endemic\"),\" \",IF(COUNTRY_INFO!C48=0,\" \",COUNTRY_INFO!C48))","v":"AMBACA"},{"$f":"IF(AND(INTRO!$E$37=\"Non-endemic\",INTRO!$E$41=\"Non-endemic\"),0,COUNTRY_INFO!W48)","v":1},{"$f":"IF(AND(INTRO!$E$37=\"Non-endemic\",INTRO!$E$41=\"Non-endemic\"),0,COUNTRY_INFO!Y48)","v":2},{"$f":"IF($D48=1,IVM!G48,0)","v":65524},{"$f":"IF($D48=0, \" \", IF(COUNTRY_INFO!$H48=1, IF(COUNTRY_INFO!$L48=1, 0,\" \"),\" \"))","v":0},2,2,{"$f":"IF(OR(COUNTRY_INFO!O48=\"Unknown\",COUNTRY_INFO!O48=\"Surveillance\",COUNTRY_INFO!O48=\"Not required\",COUNTRY_INFO!O48=0),0,IF(INTRO!$E$39=\"Non-endemic\",IF(AND($E48<>0,$I48=\"\"),IF($F48=0,COUNTRY_INFO!O48*$E48,COUNTRY_INFO!O48*($E48-$D48)),IF(AND($E48<>0,$I48<>0),IF($F48=0,COUNTRY_INFO!O48*$I48,COUNTRY_INFO!O48*($I48-$D48)),0)),IF($I48=\"\",COUNTRY_INFO!O48*$E48,COUNTRY_INFO!O48*$I48)))","v":21624},{"$f":"MAX(0,IF(OR(COUNTRY_INFO!P48=\"Unknown\",COUNTRY_INFO!P48=\"Surveillance\",COUNTRY_INFO!P48=\"Not required\",COUNTRY_INFO!P48=0),0,IF($E48<>0,IF($D48=0,COUNTRY_INFO!P48*$E48,COUNTRY_INFO!P48*$E48-($F48*COUNTRY_INFO!$P48/(COUNTRY_INFO!$F48+COUNTRY_INFO!$G48)+IF($G48=\" \",0,COUNTRY_INFO!$P48/(COUNTRY_INFO!$F48+COUNTRY_INFO!$G48)*$G48*$H48))),0)))","v":22069},null,{"$f":"MAX(0,IF(OR(COUNTRY_INFO!Q48=\"Unknown\",COUNTRY_INFO!Q48=\"Surveillance\",COUNTRY_INFO!Q48=\"Not required\",COUNTRY_INFO!Q48=0),0,IF($E48<>0,IF($D48=0,COUNTRY_INFO!Q48*MIN($E48,$L48),COUNTRY_INFO!Q48*MIN($E48,$L48)-($F48*COUNTRY_INFO!$Q48/(COUNTRY_INFO!$F48+COUNTRY_INFO!$G48)+IF($G48=\" \",0,COUNTRY_INFO!$Q48/(COUNTRY_INFO!$F48+COUNTRY_INFO!$G48)*$G48*$H48))),0)))","v":18319},62012,65524,null,65524,62012,null,62012,0,null,0]
[{"$f":"IF(AND(INTRO!$E$37=\"Non-endemic\",INTRO!$E$41=\"Non-endemic\"),\" \",IF(COUNTRY_INFO!A49=0,\" \",COUNTRY_INFO!A49))","v":"Angola"},{"$f":"IF(AND(INTRO!$E$37=\"Non-endemic\",INTRO!$E$41=\"Non-endemic\"),\" \",IF(COUNTRY_INFO!B49=0,\" \",COUNTRY_INFO!B49))","v":"CUANZA NORTE"},{"$f":"IF(AND(INTRO!$E$37=\"Non-endemic\",INTRO!$E$41=\"Non-endemic\"),\" \",IF(COUNTRY_INFO!C49=0,\" \",COUNTRY_INFO!C49))","v":"BANGA"},{"$f":"IF(AND(INTRO!$E$37=\"Non-endemic\",INTRO!$E$41=\"Non-endemic\"),0,COUNTRY_INFO!W49)","v":1},{"$f":"IF(AND(INTRO!$E$37=\"Non-endemic\",INTRO!$E$41=\"Non-endemic\"),0,COUNTRY_INFO!Y49)","v":2},{"$f":"IF($D49=1,IVM!G49,0)","v":10983},{"$f":"IF($D49=0, \" \", IF(COUNTRY_INFO!$H49=1, IF(COUNTRY_INFO!$L49=1, 0,\" \"),\" \"))","v":0},2,2,{"$f":"IF(OR(COUNTRY_INFO!O49=\"Unknown\",COUNTRY_INFO!O49=\"Surveillance\",COUNTRY_INFO!O49=\"Not required\",COUNTRY_INFO!O49=0),0,IF(INTRO!$E$39=\"Non-endemic\",IF(AND($E49<>0,$I49=\"\"),IF($F49=0,COUNTRY_INFO!O49*$E49,COUNTRY_INFO!O49*($E49-$D49)),IF(AND($E49<>0,$I49<>0),IF($F49=0,COUNTRY_INFO!O49*$I49,COUNTRY_INFO!O49*($I49-$D49)),0)),IF($I49=\"\",COUNTRY_INFO!O49*$E49,COUNTRY_INFO!O49*$I49)))","v":3624},{"$f":"MAX(0,IF(OR(COUNTRY_INFO!P49=\"Unknown\",COUNTRY_INFO!P49=\"Surveillance\",COUNTRY_INFO!P49=\"Not required\",COUNTRY_INFO!P49=0),0,IF($E49<>0,IF($D49=0,COUNTRY_INFO!P49*$E49,COUNTRY_INFO!P49*$E49-($F49*COUNTRY_INFO!$P49/(COUNTRY_INFO!$F49+COUNTRY_INFO!$G49)+IF($G49=\" \",0,COUNTRY_INFO!$P49/(COUNTRY_INFO!$F49+COUNTRY_INFO!$G49)*$G49*$H49))),0)))","v":3699},null,{"$f":"MAX(0,IF(OR(COUNTRY_INFO!Q49=\"Unknown\",COUNTRY_INFO!Q49=\"Surveillance\",COUNTRY_INFO!Q49=\"Not required\",COUNTRY_INFO!Q49=0),0,IF($E49<>0,IF($D49=0,COUNTRY_INFO!Q49*MIN($E49,$L49),COUNTRY_INFO!Q49*MIN($E49,$L49)-($F49*COUNTRY_INFO!$Q49/(COUNTRY_INFO!$F49+COUNTRY_INFO!$G49)+IF($G49=\" \",0,COUNTRY_INFO!$Q49/(COUNTRY_INFO!$F49+COUNTRY_INFO!$G49)*$G49*$H49))),0)))","v":3071},10394,10983,null,10983,10394,null,10394,0,null,0]
[{"$f":"IF(AND(INTRO!$E$37=\"Non-endemic\",INTRO!$E$41=\"Non-endemic\"),\" \",IF(COUNTRY_INFO!A50=0,\" \",COUNTRY_INFO!A50))","v":"Angola"},{"$f":"IF(AND(INTRO!$E$37=\"Non-endemic\",INTRO!$E$41=\"Non-endemic\"),\" \",IF(COUNTRY_INFO!B50=0,\" \",COUNTRY_INFO!B50))","v":"CUANZA NORTE"},{"$f":"IF(AND(INTRO!$E$37=\"Non-endemic\",INTRO!$E$41=\"Non-endemic\"),\" \",IF(COUNTRY_INFO!C50=0,\" \",COUNTRY_INFO!C50))","v":"BOLONGONGO"},{"$f":"IF(AND(INTRO!$E$37=\"Non-endemic\",INTRO!$E$41=\"Non-endemic\"),0,COUNTRY_INFO!W50)","v":1},{"$f":"IF(AND(INTRO!$E$37=\"Non-endemic\",INTRO!$E$41=\"Non-endemic\"),0,COUNTRY_INFO!Y50)","v":2},{"$f":"IF($D50=1,IVM!G50,0)","v":13810},{"$f":"IF($D50=0, \" \", IF(COUNTRY_INFO!$H50=1, IF(COUNTRY_INFO!$L50=1, 0,\" \"),\" \"))","v":0},2,2,{"$f":"IF(OR(COUNTRY_INFO!O50=\"Unknown\",COUNTRY_INFO!O50=\"Surveillance\",COUNTRY_INFO!O50=\"Not required\",COUNTRY_INFO!O50=0),0,IF(INTRO!$E$39=\"Non-endemic\",IF(AND($E50<>0,$I50=\"\"),IF($F50=0,COUNTRY_INFO!O50*$E50,COUNTRY_INFO!O50*($E50-$D50)),IF(AND($E50<>0,$I50<>0),IF($F50=0,COUNTRY_INFO!O50*$I50,COUNTRY_INFO!O50*($I50-$D50)),0)),IF($I50=\"\",COUNTRY_INFO!O50*$E50,COUNTRY_INFO!O50*$I50)))","v":4558},{"$f":"MAX(0,IF(OR(COUNTRY_INFO!P50=\"Unknown\",COUNTRY_INFO!P50=\"Surveillance\",COUNTRY_INFO!P50=\"Not required\",COUNTRY_INFO!P50=0),0,IF($E50<>0,IF($D50=0,COUNTRY_INFO!P50*$E50,COUNTRY_INFO!P50*$E50-($F50*COUNTRY_INFO!$P50/(COUNTRY_INFO!$F50+COUNTRY_INFO!$G50)+IF($G50=\" \",0,COUNTRY_INFO!$P50/(COUNTRY_INFO!$F50+COUNTRY_INFO!$G50)*$G50*$H50))),0)))","v":4651},null,{"$f":"MAX(0,IF(OR(COUNTRY_INFO!Q50=\"Unknown\",COUNTRY_INFO!Q50=\"Surveillance\",COUNTRY_INFO!Q50=\"Not required\",COUNTRY_INFO!Q50=0),0,IF($E50<>0,IF($D50=0,COUNTRY_INFO!Q50*MIN($E50,$L50),COUNTRY_INFO!Q50*MIN($E50,$L50)-($F50*COUNTRY_INFO!$Q50/(COUNTRY_INFO!$F50+COUNTRY_INFO!$G50)+IF($G50=\" \",0,COUNTRY_INFO!$Q50/(COUNTRY_INFO!$F50+COUNTRY_INFO!$G50)*$G50*$H50))),0)))","v":3861},13070,13810,null,13810,13070,null,13070,0,null,0]
[{"$f":"IF(AND(INTRO!$E$37=\"Non-endemic\",INTRO!$E$41=\"Non-endemic\"),\" \",IF(COUNTRY_INFO!A51=0,\" \",COUNTRY_INFO!A51))","v":"Angola"},{"$f":"IF(AND(INTRO!$E$37=\"Non-endemic\",INTRO!$E$41=\"Non-endemic\"),\" \",IF(COUNTRY_INFO!B51=0,\" \",COUNTRY_INFO!B51))","v":"CUANZA NORTE"},{"$f":"IF(AND(INTRO!$E$37=\"Non-endemic\",INTRO!$E$41=\"Non-endemic\"),\" \",IF(COUNTRY_INFO!C51=0,\" \",COUNTRY_INFO!C51))","v":"CAMBAMBE"},{"$f":"IF(AND(INTRO!$E$37=\"Non-endemic\",INTRO!$E$41=\"Non-endemic\"),0,COUNTRY_INFO!W51)","v":0},{"$f":"IF(AND(INTRO!$E$37=\"Non-endemic\",INTRO!$E$41=\"Non-endemic\"),0,COUNTRY_INFO!Y51)","v":1},{"$f":"IF($D51=1,IVM!G51,0)","v":0},{"$f":"IF($D51=0, \" \", IF(COUNTRY_INFO!$H51=1, IF(COUNTRY_INFO!$L51=1, 0,\" \"),\" \"))","v":" "},null,1,{"$f":"IF(OR(COUNTRY_INFO!O51=\"Unknown\",COUNTRY_INFO!O51=\"Surveillance\",COUNTRY_INFO!O51=\"Not required\",COUNTRY_INFO!O51=0),0,IF(INTRO!$E$39=\"Non-endemic\",IF(AND($E51<>0,$I51=\"\"),IF($F51=0,COUNTRY_INFO!O51*$E51,COUNTRY_INFO!O51*($E51-$D51)),IF(AND($E51<>0,$I51<>0),IF($F51=0,COUNTRY_INFO!O51*$I51,COUNTRY_INFO!O51*($I51-$D51)),0)),IF($I51=\"\",COUNTRY_INFO!O51*$E51,COUNTRY_INFO!O51*$I51)))","v":15888},{"$f":"MAX(0,IF(OR(COUNTRY_INFO!P51=\"Unknown\",COUNTRY_INFO!P51=\"Surveillance\",COUNTRY_INFO!P51=\"Not required\",COUNTRY_INFO!P51=0),0,IF($E51<>0,IF($D51=0,COUNTRY_INFO!P51*$E51,COUNTRY_INFO!P51*$E51-($F51*COUNTRY_INFO!$P51/(COUNTRY_INFO!$F51+COUNTRY_INFO!$G51)+IF($G51=\" \",0,COUNTRY_INFO!$P51/(COUNTRY_INFO!$F51+COUNTRY_INFO!$G51)*$G51*$H51))),0)))","v":32429},null,{"$f":"MAX(0,IF(OR(COUNTRY_INFO!Q51=\"Unknown\",COUNTRY_INFO!Q51=\"Surveillance\",COUNTRY_INFO!Q51=\"Not required\",COUNTRY_INFO!Q51=0),0,IF($E51<>0,IF($D51=0,COUNTRY_INFO!Q51*MIN($E51,$L51),COUNTRY_INFO!Q51*MIN($E51,$L51)-($F51*COUNTRY_INFO!$Q51/(COUNTRY_INFO!$F51+COUNTRY_INFO!$G51)+IF($G51=\" \",0,COUNTRY_INFO!$Q51/(COUNTRY_INFO!$F51+COUNTRY_INFO!$G51)*$G51*$H51))),0)))","v":26919},75236,0,null,0,75236,null,75236,0,null,0]
[{"$f":"IF(AND(INTRO!$E$37=\"Non-endemic\",INTRO!$E$41=\"Non-endemic\"),\" \",IF(COUNTRY_INFO!A52=0,\" \",COUNTRY_INFO!A52))","v":"Angola"},{"$f":"IF(AND(INTRO!$E$37=\"Non-endemic\",INTRO!$E$41=\"Non-endemic\"),\" \",IF(COUNTRY_INFO!B52=0,\" \",COUNTRY_INFO!B52))","v":"CUANZA NORTE"},{"$f":"IF(AND(INTRO!$E$37=\"Non-endemic\",INTRO!$E$41=\"Non-endemic\"),\" \",IF(COUNTRY_INFO!C52=0,\" \",COUNTRY_INFO!C52))","v":"CAZENGO"},{"$f":"IF(AND(INTRO!$E$37=\"Non-endemic\",INTRO!$E$41=\"Non-endemic\"),0,COUNTRY_INFO!W52)","v":1},{"$f":"IF(AND(INTRO!$E$37=\"Non-endemic\",INTRO!$E$41=\"Non-endemic\"),0,COUNTRY_INFO!Y52)","v":2},{"$f":"IF($D52=1,IVM!G52,0)","v":182185},{"$f":"IF($D52=0, \" \", IF(COUNTRY_INFO!$H52=1, IF(COUNTRY_INFO!$L52=1, 0,\" \"),\" \"))","v":" "},null,2,{"$f":"IF(OR(COUNTRY_INFO!O52=\"Unknown\",COUNTRY_INFO!O52=\"Surveillance\",COUNTRY_INFO!O52=\"Not required\",COUNTRY_INFO!O52=0),0,IF(INTRO!$E$39=\"Non-endemic\",IF(AND($E52<>0,$I52=\"\"),IF($F52=0,COUNTRY_INFO!O52*$E52,COUNTRY_INFO!O52*($E52-$D52)),IF(AND($E52<>0,$I52<>0),IF($F52=0,COUNTRY_INFO!O52*$I52,COUNTRY_INFO!O52*($I52-$D52)),0)),IF($I52=\"\",COUNTRY_INFO!O52*$E52,COUNTRY_INFO!O52*$I52)))","v":60126},{"$f":"MAX(0,IF(OR(COUNTRY_INFO!P52=\"Unknown\",COUNTRY_INFO!P52=\"Surveillance\",COUNTRY_INFO!P52=\"Not required\",COUNTRY_INFO!P52=0),0,IF($E52<>0,IF($D52=0,COUNTRY_INFO!P52*$E52,COUNTRY_INFO!P52*$E52-($F52*COUNTRY_INFO!$P52/(COUNTRY_INFO!$F52+COUNTRY_INFO!$G52)+IF($G52=\" \",0,COUNTRY_INFO!$P52/(COUNTRY_INFO!$F52+COUNTRY_INFO!$G52)*$G52*$H52))),0)))","v":61360},null,{"$f":"MAX(0,IF(OR(COUNTRY_INFO!Q52=\"Unknown\",COUNTRY_INFO!Q52=\"Surveillance\",COUNTRY_INFO!Q52=\"Not required\",COUNTRY_INFO!Q52=0),0,IF($E52<>0,IF($D52=0,COUNTRY_INFO!Q52*MIN($E52,$L52),COUNTRY_INFO!Q52*MIN($E52,$L52)-($F52*COUNTRY_INFO!$Q52/(COUNTRY_INFO!$F52+COUNTRY_INFO!$G52)+IF($G52=\" \",0,COUNTRY_INFO!$Q52/(COUNTRY_INFO!$F52+COUNTRY_INFO!$G52)*$G52*$H52))),0)))","v":50935},172421,182185,null,182185,172421,null,172421,0,null,0]
[{"$f":"IF(AND(INTRO!$E$37=\"Non-endemic\",INTRO!$E$41=\"Non-endemic\"),\" \",IF(COUNTRY_INFO!A53=0,\" \",COUNTRY_INFO!A53))","v":"Angola"},{"$f":"IF(AND(INTRO!$E$37=\"Non-endemic\",INTRO!$E$41=\"Non-endemic\"),\" \",IF(COUNTRY_INFO!B53=0,\" \",COUNTRY_INFO!B53))","v":"CUANZA NORTE"},{"$f":"IF(AND(INTRO!$E$37=\"Non-endemic\",INTRO!$E$41=\"Non-endemic\"),\" \",IF(COUNTRY_INFO!C53=0,\" \",COUNTRY_INFO!C53))","v":"GOLUNGO ALTO"},{"$f":"IF(AND(INTRO!$E$37=\"Non-endemic\",INTRO!$E$41=\"Non-endemic\"),0,COUNTRY_INFO!W53)","v":1},{"$f":"IF(AND(INTRO!$E$37=\"Non-endemic\",INTRO!$E$41=\"Non-endemic\"),0,COUNTRY_INFO!Y53)","v":2},{"$f":"IF($D53=1,IVM!G53,0)","v":35891},{"$f":"IF($D53=0, \" \", IF(COUNTRY_INFO!$H53=1, IF(COUNTRY_INFO!$L53=1, 0,\" \"),\" \"))","v":" "},null,2,{"$f":"IF(OR(COUNTRY_INFO!O53=\"Unknown\",COUNTRY_INFO!O53=\"Surveillance\",COUNTRY_INFO!O53=\"Not required\",COUNTRY_INFO!O53=0),0,IF(INTRO!$E$39=\"Non-endemic\",IF(AND($E53<>0,$I53=\"\"),IF($F53=0,COUNTRY_INFO!O53*$E53,COUNTRY_INFO!O53*($E53-$D53)),IF(AND($E53<>0,$I53<>0),IF($F53=0,COUNTRY_INFO!O53*$I53,COUNTRY_INFO!O53*($I53-$D53)),0)),IF($I53=\"\",COUNTRY_INFO!O53*$E53,COUNTRY_INFO!O53*$I53)))","v":11846},{"$f":"MAX(0,IF(OR(COUNTRY_INFO!P53=\"Unknown\",COUNTRY_INFO!P53=\"Surveillance\",COUNTRY_INFO!P53=\"Not required\",COUNTRY_INFO!P53=0),0,IF($E53<>0,IF($D53=0,COUNTRY_INFO!P53*$E53,COUNTRY_INFO!P53*$E53-($F53*COUNTRY_INFO!$P53/(COUNTRY_INFO!$F53+COUNTRY_INFO!$G53)+IF($G53=\" \",0,COUNTRY_INFO!$P53/(COUNTRY_INFO!$F53+COUNTRY_INFO!$G53)*$G53*$H53))),0)))","v":12088},null,{"$f":"MAX(0,IF(OR(COUNTRY_INFO!Q53=\"Unknown\",COUNTRY_INFO!Q53=\"Surveillance\",COUNTRY_INFO!Q53=\"Not required\",COUNTRY_INFO!Q53=0),0,IF($E53<>0,IF($D53=0,COUNTRY_INFO!Q53*MIN($E53,$L53),COUNTRY_INFO!Q53*MIN($E53,$L53)-($F53*COUNTRY_INFO!$Q53/(COUNTRY_INFO!$F53+COUNTRY_INFO!$G53)+IF($G53=\" \",0,COUNTRY_INFO!$Q53/(COUNTRY_INFO!$F53+COUNTRY_INFO!$G53)*$G53*$H53))),0)))","v":10035},33969,35891,null,35891,33969,null,33969,0,null,0]
[{"$f":"IF(AND(INTRO!$E$37=\"Non-endemic\",INTRO!$E$41=\"Non-endemic\"),\" \",IF(COUNTRY_INFO!A54=0,\" \",COUNTRY_INFO!A54))","v":"Angola"},{"$f":"IF(AND(INTRO!$E$37=\"Non-endemic\",INTRO!$E$41=\"Non-endemic\"),\" \",IF(COUNTRY_INFO!B54=0,\" \",COUNTRY_INFO!B54))","v":"CUANZA NORTE"},{"$f":"IF(AND(INTRO!$E$37=\"Non-endemic\",INTRO!$E$41=\"Non-endemic\"),\" \",IF(COUNTRY_INFO!C54=0,\" \",COUNTRY_INFO!C54))","v":"GONGUEMBO"},{"$f":"IF(AND(INTRO!$E$37=\"Non-endemic\",INTRO!$E$41=\"Non-endemic\"),0,COUNTRY_INFO!W54)","v":1},{"$f":"IF(AND(INTRO!$E$37=\"Non-endemic\",INTRO!$E$41=\"Non-endemic\"),0,COUNTRY_INFO!Y54)","v":2},{"$f":"IF($D54=1,IVM!G54,0)","v":8037},{"$f":"IF($D54=0, \" \", IF(COUNTRY_INFO!$H54=1, IF(COUNTRY_INFO!$L54=1, 0,\" \"),\" \"))","v":" "},null,2,{"$f":"IF(OR(COUNTRY_INFO!O54=\"Unknown\",COUNTRY_INFO!O54=\"Surveillance\",COUNTRY_INFO!O54=\"Not required\",COUNTRY_INFO!O54=0),0,IF(INTRO!$E$39=\"Non-endemic\",IF(AND($E54<>0,$I54=\"\"),IF($F54=0,COUNTRY_INFO!O54*$E54,COUNTRY_INFO!O54*($E54-$D54)),IF(AND($E54<>0,$I54<>0),IF($F54=0,COUNTRY_INFO!O54*$I54,COUNTRY_INFO!O54*($I54-$D54)),0)),IF($I54=\"\",COUNTRY_INFO!O54*$E54,COUNTRY_INFO!O54*$I54)))","v":2652},{"$f":"MAX(0,IF(OR(COUNTRY_INFO!P54=\"Unknown\",COUNTRY_INFO!P54=\"Surveillance\",COUNTRY_INFO!P54=\"Not required\",COUNTRY_INFO!P54=0),0,IF($E54<>0,IF($D54=0,COUNTRY_INFO!P54*$E54,COUNTRY_INFO!P54*$E54-($F54*COUNTRY_INFO!$P54/(COUNTRY_INFO!$F54+COUNTRY_INFO!$G54)+IF($G54=\" \",0,COUNTRY_INFO!$P54/(COUNTRY_INFO!$F54+COUNTRY_INFO!$G54)*$G54*$H54))),0)))","v":2707},null,{"$f":"MAX(0,IF(OR(COUNTRY_INFO!Q54=\"Unknown\",COUNTRY_INFO!Q54=\"Surveillance\",COUNTRY_INFO!Q54=\"Not required\",COUNTRY_INFO!Q54=0),0,IF($E54<>0,IF($D54=0,COUNTRY_INFO!Q54*MIN($E54,$L54),COUNTRY_INFO!Q54*MIN($E54,$L54)-($F54*COUNTRY_INFO!$Q54/(COUNTRY_INFO!$F54+COUNTRY_INFO!$G54)+IF($G54=\" \",0,COUNTRY_INFO!$Q54/(COUNTRY_INFO!$F54+COUNTRY_INFO!$G54)*$G54*$H54))),0)))","v":2247},7606,8037,null,8037,7606,null,7606,0,null,0]
[{"$f":"IF(AND(INTRO!$E$37=\"Non-endemic\",INTRO!$E$41=\"Non-endemic\"),\" \",IF(COUNTRY_INFO!A55=0,\" \",COUNTRY_INFO!A55))","v":"Angola"},{"$f":"IF(AND(INTRO!$E$37=\"Non-endemic\",INTRO!$E$41=\"Non-endemic\"),\" \",IF(COUNTRY_INFO!B55=0,\" \",COUNTRY_INFO!B55))","v":"CUANZA NORTE"},{"$f":"IF(AND(INTRO!$E$37=\"Non-endemic\",INTRO!$E$41=\"Non-endemic\"),\" \",IF(COUNTRY_INFO!C55=0,\" \",COUNTRY_INFO!C55))","v":"LUCALA"},{"$f":"IF(AND(INTRO!$E$37=\"Non-endemic\",INTRO!$E$41=\"Non-endemic\"),0,COUNTRY_INFO!W55)","v":0},{"$f":"IF(AND(INTRO!$E$37=\"Non-endemic\",INTRO!$E$41=\"Non-endemic\"),0,COUNTRY_INFO!Y55)","v":2},{"$f":"IF($D55=1,IVM!G55,0)","v":0},{"$f":"IF($D55=0, \" \", IF(COUNTRY_INFO!$H55=1, IF(COUNTRY_INFO!$L55=1, 0,\" \"),\" \"))","v":" "},null,2,{"$f":"IF(OR(COUNTRY_INFO!O55=\"Unknown\",COUNTRY_INFO!O55=\"Surveillance\",COUNTRY_INFO!O55=\"Not required\",COUNTRY_INFO!O55=0),0,IF(INTRO!$E$39=\"Non-endemic\",IF(AND($E55<>0,$I55=\"\"),IF($F55=0,COUNTRY_INFO!O55*$E55,COUNTRY_INFO!O55*($E55-$D55)),IF(AND($E55<>0,$I55<>0),IF($F55=0,COUNTRY_INFO!O55*$I55,COUNTRY_INFO!O55*($I55-$D55)),0)),IF($I55=\"\",COUNTRY_INFO!O55*$E55,COUNTRY_INFO!O55*$I55)))","v":7938},{"$f":"MAX(0,IF(OR(COUNTRY_INFO!P55=\"Unknown\",COUNTRY_INFO!P55=\"Surveillance\",COUNTRY_INFO!P55=\"Not required\",COUNTRY_INFO!P55=0),0,IF($E55<>0,IF($D55=0,COUNTRY_INFO!P55*$E55,COUNTRY_INFO!P55*$E55-($F55*COUNTRY_INFO!$P55/(COUNTRY_INFO!$F55+COUNTRY_INFO!$G55)+IF($G55=\" \",0,COUNTRY_INFO!$P55/(COUNTRY_INFO!$F55+COUNTRY_INFO!$G55)*$G55*$H55))),0)))","v":16202},null,{"$f":"MAX(0,IF(OR(COUNTRY_INFO!Q55=\"Unknown\",COUNTRY_INFO!Q55=\"Surveillance\",COUNTRY_INFO!Q55=\"Not required\",COUNTRY_INFO!Q55=0),0,IF($E55<>0,IF($D55=0,COUNTRY_INFO!Q55*MIN($E55,$L55),COUNTRY_INFO!Q55*MIN($E55,$L55)-($F55*COUNTRY_INFO!$Q55/(COUNTRY_INFO!$F55+COUNTRY_INFO!$G55)+IF($G55=\" \",0,COUNTRY_INFO!$Q55/(COUNTRY_INFO!$F55+COUNTRY_INFO!$G55)*$G55*$H55))),0)))","v":13450},37590,0,null,0,37590,null,37590,0,null,0]
[{"$f":"IF(AND(INTRO!$E$37=\"Non-endemic\",INTRO!$E$41=\"Non-endemic\"),\" \",IF(COUNTRY_INFO!A56=0,\" \",COUNTRY_INFO!A56))","v":"Angola"},{"$f":"IF(AND(INTRO!$E$37=\"Non-endemic\",INTRO!$E$41=\"Non-endemic\"),\" \",IF(COUNTRY_INFO!B56=0,\" \",COUNTRY_INFO!B56))","v":"CUANZA NORTE"},{"$f":"IF(AND(INTRO!$E$37=\"Non-endemic\",INTRO!$E$41=\"Non-endemic\"),\" \",IF(COUNTRY_INFO!C56=0,\" \",COUNTRY_INFO!C56))","v":"QUICULUNGO"},{"$f":"IF(AND(INTRO!$E$37=\"Non-endemic\",INTRO!$E$41=\"Non-endemic\"),0,COUNTRY_INFO!W56)","v":1},{"$f":"IF(AND(INTRO!$E$37=\"Non-endemic\",INTRO!$E$41=\"Non-endemic\"),0,COUNTRY_INFO!Y56)","v":2},{"$f":"IF($D56=1,IVM!G56,0)","v":10323},{"$f":"IF($D56=0, \" \", IF(COUNTRY_INFO!$H56=1, IF(COUNTRY_INFO!$L56=1, 0,\" \"),\" \"))","v":" "},null,2,{"$f":"IF(OR(COUNTRY_INFO!O56=\"Unknown\",COUNTRY_INFO!O56=\"Surveillance\",COUNTRY_INFO!O56=\"Not required\",COUNTRY_INFO!O56=0),0,IF(INTRO!$E$39=\"Non-endemic\",IF(AND($E56<>0,$I56=\"\"),IF($F56=0,COUNTRY_INFO!O56*$E56,COUNTRY_INFO!O56*($E56-$D56)),IF(AND($E56<>0,$I56<>0),IF($F56=0,COUNTRY_INFO!O56*$I56,COUNTRY_INFO!O56*($I56-$D56)),0)),IF($I56=\"\",COUNTRY_INFO!O56*$E56,COUNTRY_INFO!O56*$I56)))","v":3408},{"$f":"MAX(0,IF(OR(COUNTRY_INFO!P56=\"Unknown\",COUNTRY_INFO!P56=\"Surveillance\",COUNTRY_INFO!P56=\"Not required\",COUNTRY_INFO!P56=0),0,IF($E56<>0,IF($D56=0,COUNTRY_INFO!P56*$E56,COUNTRY_INFO!P56*$E56-($F56*COUNTRY_INFO!$P56/(COUNTRY_INFO!$F56+COUNTRY_INFO!$G56)+IF($G56=\" \",0,COUNTRY_INFO!$P56/(COUNTRY_INFO!$F56+COUNTRY_INFO!$G56)*$G56*$H56))),0)))","v":3477},null,{"$f":"MAX(0,IF(OR(COUNTRY_INFO!Q56=\"Unknown\",COUNTRY_INFO!Q56=\"Surveillance\",COUNTRY_INFO!Q56=\"Not required\",COUNTRY_INFO!Q56=0),0,IF($E56<>0,IF($D56=0,COUNTRY_INFO!Q56*MIN($E56,$L56),COUNTRY_INFO!Q56*MIN($E56,$L56)-($F56*COUNTRY_INFO!$Q56/(COUNTRY_INFO!$F56+COUNTRY_INFO!$G56)+IF($G56=\" \",0,COUNTRY_INFO!$Q56/(COUNTRY_INFO!$F56+COUNTRY_INFO!$G56)*$G56*$H56))),0)))","v":2886},9771,10323,null,10323,9771,null,9771,0,null,0]
[{"$f":"IF(AND(INTRO!$E$37=\"Non-endemic\",INTRO!$E$41=\"Non-endemic\"),\" \",IF(COUNTRY_INFO!A57=0,\" \",COUNTRY_INFO!A57))","v":"Angola"},{"$f":"IF(AND(INTRO!$E$37=\"Non-endemic\",INTRO!$E$41=\"Non-endemic\"),\" \",IF(COUNTRY_INFO!B57=0,\" \",COUNTRY_INFO!B57))","v":"CUANZA NORTE"},{"$f":"IF(AND(INTRO!$E$37=\"Non-endemic\",INTRO!$E$41=\"Non-endemic\"),\" \",IF(COUNTRY_INFO!C57=0,\" \",COUNTRY_INFO!C57))","v":"SAMBA CAJU"},{"$f":"IF(AND(INTRO!$E$37=\"Non-endemic\",INTRO!$E$41=\"Non-endemic\"),0,COUNTRY_INFO!W57)","v":1},{"$f":"IF(AND(INTRO!$E$37=\"Non-endemic\",INTRO!$E$41=\"Non-endemic\"),0,COUNTRY_INFO!Y57)","v":2},{"$f":"IF($D57=1,IVM!G57,0)","v":23251},{"$f":"IF($D57=0, \" \", IF(COUNTRY_INFO!$H57=1, IF(COUNTRY_INFO!$L57=1, 0,\" \"),\" \"))","v":" "},null,2,{"$f":"IF(OR(COUNTRY_INFO!O57=\"Unknown\",COUNTRY_INFO!O57=\"Surveillance\",COUNTRY_INFO!O57=\"Not required\",COUNTRY_INFO!O57=0),0,IF(INTRO!$E$39=\"Non-endemic\",IF(AND($E57<>0,$I57=\"\"),IF($F57=0,COUNTRY_INFO!O57*$E57,COUNTRY_INFO!O57*($E57-$D57)),IF(AND($E57<>0,$I57<>0),IF($F57=0,COUNTRY_INFO!O57*$I57,COUNTRY_INFO!O57*($I57-$D57)),0)),IF($I57=\"\",COUNTRY_INFO!O57*$E57,COUNTRY_INFO!O57*$I57)))","v":7674},{"$f":"MAX(0,IF(OR(COUNTRY_INFO!P57=\"Unknown\",COUNTRY_INFO!P57=\"Surveillance\",COUNTRY_INFO!P57=\"Not required\",COUNTRY_INFO!P57=0),0,IF($E57<>0,IF($D57=0,COUNTRY_INFO!P57*$E57,COUNTRY_INFO!P57*$E57-($F57*COUNTRY_INFO!$P57/(COUNTRY_INFO!$F57+COUNTRY_INFO!$G57)+IF($G57=\" \",0,COUNTRY_INFO!$P57/(COUNTRY_INFO!$F57+COUNTRY_INFO!$G57)*$G57*$H57))),0)))","v":7831},null,{"$f":"MAX(0,IF(OR(COUNTRY_INFO!Q57=\"Unknown\",COUNTRY_INFO!Q57=\"Surveillance\",COUNTRY_INFO!Q57=\"Not required\",COUNTRY_INFO!Q57=0),0,IF($E57<>0,IF($D57=0,COUNTRY_INFO!Q57*MIN($E57,$L57),COUNTRY_INFO!Q57*MIN($E57,$L57)-($F57*COUNTRY_INFO!$Q57/(COUNTRY_INFO!$F57+COUNTRY_INFO!$G57)+IF($G57=\" \",0,COUNTRY_INFO!$Q57/(COUNTRY_INFO!$F57+COUNTRY_INFO!$G57)*$G57*$H57))),0)))","v":6501},22006,23251,null,23251,22006,null,22006,0,null,0]
[{"$f":"IF(AND(INTRO!$E$37=\"Non-endemic\",INTRO!$E$41=\"Non-endemic\"),\" \",IF(COUNTRY_INFO!A58=0,\" \",COUNTRY_INFO!A58))","v":"Angola"},{"$f":"IF(AND(INTRO!$E$37=\"Non-endemic\",INTRO!$E$41=\"Non-endemic\"),\" \",IF(COUNTRY_INFO!B58=0,\" \",COUNTRY_INFO!B58))","v":"CUANZA SUL"},{"$f":"IF(AND(INTRO!$E$37=\"Non-endemic\",INTRO!$E$41=\"Non-endemic\"),\" \",IF(COUNTRY_INFO!C58=0,\" \",COUNTRY_INFO!C58))","v":"AMBOIM"},{"$f":"IF(AND(INTRO!$E$37=\"Non-endemic\",INTRO!$E$41=\"Non-endemic\"),0,COUNTRY_INFO!W58)","v":0},{"$f":"IF(AND(INTRO!$E$37=\"Non-endemic\",INTRO!$E$41=\"Non-endemic\"),0,COUNTRY_INFO!Y58)","v":1},{"$f":"IF($D58=1,IVM!G58,0)","v":0},{"$f":"IF($D58=0, \" \", IF(COUNTRY_INFO!$H58=1, IF(COUNTRY_INFO!$L58=1, 0,\" \"),\" \"))","v":" "},null,1,{"$f":"IF(OR(COUNTRY_INFO!O58=\"Unknown\",COUNTRY_INFO!O58=\"Surveillance\",COUNTRY_INFO!O58=\"Not required\",COUNTRY_INFO!O58=0),0,IF(INTRO!$E$39=\"Non-endemic\",IF(AND($E58<>0,$I58=\"\"),IF($F58=0,COUNTRY_INFO!O58*$E58,COUNTRY_INFO!O58*($E58-$D58)),IF(AND($E58<>0,$I58<>0),IF($F58=0,COUNTRY_INFO!O58*$I58,COUNTRY_INFO!O58*($I58-$D58)),0)),IF($I58=\"\",COUNTRY_INFO!O58*$E58,COUNTRY_INFO!O58*$I58)))","v":42681},{"$f":"MAX(0,IF(OR(COUNTRY_INFO!P58=\"Unknown\",COUNTRY_INFO!P58=\"Surveillance\",COUNTRY_INFO!P58=\"Not required\",COUNTRY_INFO!P58=0),0,IF($E58<>0,IF($D58=0,COUNTRY_INFO!P58*$E58,COUNTRY_INFO!P58*$E58-($F58*COUNTRY_INFO!$P58/(COUNTRY_INFO!$F58+COUNTRY_INFO!$G58)+IF($G58=\" \",0,COUNTRY_INFO!$P58/(COUNTRY_INFO!$F58+COUNTRY_INFO!$G58)*$G58*$H58))),0)))","v":87113},null,{"$f":"MAX(0,IF(OR(COUNTRY_INFO!Q58=\"Unknown\",COUNTRY_INFO!Q58=\"Surveillance\",COUNTRY_INFO!Q58=\"Not required\",COUNTRY_INFO!Q58=0),0,IF($E58<>0,IF($D58=0,COUNTRY_INFO!Q58*MIN($E58,$L58),COUNTRY_INFO!Q58*MIN($E58,$L58)-($F58*COUNTRY_INFO!$Q58/(COUNTRY_INFO!$F58+COUNTRY_INFO!$G58)+IF($G58=\" \",0,COUNTRY_INFO!$Q58/(COUNTRY_INFO!$F58+COUNTRY_INFO!$G58)*$G58*$H58))),0)))","v":72313},202107,0,null,0,202107,null,202107,0,null,0]
[{"$f":"IF(AND(INTRO!$E$37=\"Non-endemic\",INTRO!$E$41=\"Non-endemic\"),\" \",IF(COUNTRY_INFO!A59=0,\" \",COUNTRY_INFO!A59))","v":"Angola"},{"$f":"IF(AND(INTRO!$E$37=\"Non-endemic\",INTRO!$E$41=\"Non-endemic\"),\" \",IF(COUNTRY_INFO!B59=0,\" \",COUNTRY_INFO!B59))","v":"CUANZA SUL"},{"$f":"IF(AND(INTRO!$E$37=\"Non-endemic\",INTRO!$E$41=\"Non-endemic\"),\" \",IF(COUNTRY_INFO!C59=0,\" \",COUNTRY_INFO!C59))","v":"CASSONGUE"},{"$f":"IF(AND(INTRO!$E$37=\"Non-endemic\",INTRO!$E$41=\"Non-endemic\"),0,COUNTRY_INFO!W59)","v":0},{"$f":"IF(AND(INTRO!$E$37=\"Non-endemic\",INTRO!$E$41=\"Non-endemic\"),0,COUNTRY_INFO!Y59)","v":0},{"$f":"IF($D59=1,IVM!G59,0)","v":0},{"$f":"IF($D59=0, \" \", IF(COUNTRY_INFO!$H59=1, IF(COUNTRY_INFO!$L59=1, 0,\" \"),\" \"))","v":" "},null,0,{"$f":"IF(OR(COUNTRY_INFO!O59=\"Unknown\",COUNTRY_INFO!O59=\"Surveillance\",COUNTRY_INFO!O59=\"Not required\",COUNTRY_INFO!O59=0),0,IF(INTRO!$E$39=\"Non-endemic\",IF(AND($E59<>0,$I59=\"\"),IF($F59=0,COUNTRY_INFO!O59*$E59,COUNTRY_INFO!O59*($E59-$D59)),IF(AND($E59<>0,$I59<>0),IF($F59=0,COUNTRY_INFO!O59*$I59,COUNTRY_INFO!O59*($I59-$D59)),0)),IF($I59=\"\",COUNTRY_INFO!O59*$E59,COUNTRY_INFO!O59*$I59)))","v":0},{"$f":"MAX(0,IF(OR(COUNTRY_INFO!P59=\"Unknown\",COUNTRY_INFO!P59=\"Surveillance\",COUNTRY_INFO!P59=\"Not required\",COUNTRY_INFO!P59=0),0,IF($E59<>0,IF($D59=0,COUNTRY_INFO!P59*$E59,COUNTRY_INFO!P59*$E59-($F59*COUNTRY_INFO!$P59/(COUNTRY_INFO!$F59+COUNTRY_INFO!$G59)+IF($G59=\" \",0,COUNTRY_INFO!$P59/(COUNTRY_INFO!$F59+COUNTRY_INFO!$G59)*$G59*$H59))),0)))","v":0},null,{"$f":"MAX(0,IF(OR(COUNTRY_INFO!Q59=\"Unknown\",COUNTRY_INFO!Q59=\"Surveillance\",COUNTRY_INFO!Q59=\"Not required\",COUNTRY_INFO!Q59=0),0,IF($E59<>0,IF($D59=0,COUNTRY_INFO!Q59*MIN($E59,$L59),COUNTRY_INFO!Q59*MIN($E59,$L59)-($F59*COUNTRY_INFO!$Q59/(COUNTRY_INFO!$F59+COUNTRY_INFO!$G59)+IF($G59=\" \",0,COUNTRY_INFO!$Q59/(COUNTRY_INFO!$F59+COUNTRY_INFO!$G59)*$G59*$H59))),0)))","v":0},0,0,null,0,0,null,0,0,null,0]
[{"$f":"IF(AND(INTRO!$E$37=\"Non-endemic\",INTRO!$E$41=\"Non-endemic\"),\" \",IF(COUNTRY_INFO!A60=0,\" \",COUNTRY_INFO!A60))","v":"Angola"},{"$f":"IF(AND(INTRO!$E$37=\"Non-endemic\",INTRO!$E$41=\"Non-endemic\"),\" \",IF(COUNTRY_INFO!B60=0,\" \",COUNTRY_INFO!B60))","v":"CUANZA SUL"},{"$f":"IF(AND(INTRO!$E$37=\"Non-endemic\",INTRO!$E$41=\"Non-endemic\"),\" \",IF(COUNTRY_INFO!C60=0,\" \",COUNTRY_INFO!C60))","v":"CELA (Waku Kungo)"},{"$f":"IF(AND(INTRO!$E$37=\"Non-endemic\",INTRO!$E$41=\"Non-endemic\"),0,COUNTRY_INFO!W60)","v":0},{"$f":"IF(AND(INTRO!$E$37=\"Non-endemic\",INTRO!$E$41=\"Non-endemic\"),0,COUNTRY_INFO!Y60)","v":0},{"$f":"IF($D60=1,IVM!G60,0)","v":0},{"$f":"IF($D60=0, \" \", IF(COUNTRY_INFO!$H60=1, IF(COUNTRY_INFO!$L60=1, 0,\" \"),\" \"))","v":" "},null,0,{"$f":"IF(OR(COUNTRY_INFO!O60=\"Unknown\",COUNTRY_INFO!O60=\"Surveillance\",COUNTRY_INFO!O60=\"Not required\",COUNTRY_INFO!O60=0),0,IF(INTRO!$E$39=\"Non-endemic\",IF(AND($E60<>0,$I60=\"\"),IF($F60=0,COUNTRY_INFO!O60*$E60,COUNTRY_INFO!O60*($E60-$D60)),IF(AND($E60<>0,$I60<>0),IF($F60=0,COUNTRY_INFO!O60*$I60,COUNTRY_INFO!O60*($I60-$D60)),0)),IF($I60=\"\",COUNTRY_INFO!O60*$E60,COUNTRY_INFO!O60*$I60)))","v":0},{"$f":"MAX(0,IF(OR(COUNTRY_INFO!P60=\"Unknown\",COUNTRY_INFO!P60=\"Surveillance\",COUNTRY_INFO!P60=\"Not required\",COUNTRY_INFO!P60=0),0,IF($E60<>0,IF($D60=0,COUNTRY_INFO!P60*$E60,COUNTRY_INFO!P60*$E60-($F60*COUNTRY_INFO!$P60/(COUNTRY_INFO!$F60+COUNTRY_INFO!$G60)+IF($G60=\" \",0,COUNTRY_INFO!$P60/(COUNTRY_INFO!$F60+COUNTRY_INFO!$G60)*$G60*$H60))),0)))","v":0},null,{"$f":"MAX(0,IF(OR(COUNTRY_INFO!Q60=\"Unknown\",COUNTRY_INFO!Q60=\"Surveillance\",COUNTRY_INFO!Q60=\"Not required\",COUNTRY_INFO!Q60=0),0,IF($E60<>0,IF($D60=0,COUNTRY_INFO!Q60*MIN($E60,$L60),COUNTRY_INFO!Q60*MIN($E60,$L60)-($F60*COUNTRY_INFO!$Q60/(COUNTRY_INFO!$F60+COUNTRY_INFO!$G60)+IF($G60=\" \",0,COUNTRY_INFO!$Q60/(COUNTRY_INFO!$F60+COUNTRY_INFO!$G60)*$G60*$H60))),0)))","v":0},0,0,null,0,0,null,0,0,null,0]
[{"$f":"IF(AND(INTRO!$E$37=\"Non-endemic\",INTRO!$E$41=\"Non-endemic\"),\" \",IF(COUNTRY_INFO!A61=0,\" \",COUNTRY_INFO!A61))","v":"Angola"},{"$f":"IF(AND(INTRO!$E$37=\"Non-endemic\",INTRO!$E$41=\"Non-endemic\"),\" \",IF(COUNTRY_INFO!B61=0,\" \",COUNTRY_INFO!B61))","v":"CUANZA SUL"},{"$f":"IF(AND(INTRO!$E$37=\"Non-endemic\",INTRO!$E$41=\"Non-endemic\"),\" \",IF(COUNTRY_INFO!C61=0,\" \",COUNTRY_INFO!C61))","v":"CONDA"},{"$f":"IF(AND(INTRO!$E$37=\"Non-endemic\",INTRO!$E$41=\"Non-endemic\"),0,COUNTRY_INFO!W61)","v":0},{"$f":"IF(AND(INTRO!$E$37=\"Non-endemic\",INTRO!$E$41=\"Non-endemic\"),0,COUNTRY_INFO!Y61)","v":0},{"$f":"IF($D61=1,IVM!G61,0)","v":0},{"$f":"IF($D61=0, \" \", IF(COUNTRY_INFO!$H61=1, IF(COUNTRY_INFO!$L61=1, 0,\" \"),\" \"))","v":" "},null,0,{"$f":"IF(OR(COUNTRY_INFO!O61=\"Unknown\",COUNTRY_INFO!O61=\"Surveillance\",COUNTRY_INFO!O61=\"Not required\",COUNTRY_INFO!O61=0),0,IF(INTRO!$E$39=\"Non-endemic\",IF(AND($E61<>0,$I61=\"\"),IF($F61=0,COUNTRY_INFO!O61*$E61,COUNTRY_INFO!O61*($E61-$D61)),IF(AND($E61<>0,$I61<>0),IF($F61=0,COUNTRY_INFO!O61*$I61,COUNTRY_INFO!O61*($I61-$D61)),0)),IF($I61=\"\",COUNTRY_INFO!O61*$E61,COUNTRY_INFO!O61*$I61)))","v":0},{"$f":"MAX(0,IF(OR(COUNTRY_INFO!P61=\"Unknown\",COUNTRY_INFO!P61=\"Surveillance\",COUNTRY_INFO!P61=\"Not required\",COUNTRY_INFO!P61=0),0,IF($E61<>0,IF($D61=0,COUNTRY_INFO!P61*$E61,COUNTRY_INFO!P61*$E61-($F61*COUNTRY_INFO!$P61/(COUNTRY_INFO!$F61+COUNTRY_INFO!$G61)+IF($G61=\" \",0,COUNTRY_INFO!$P61/(COUNTRY_INFO!$F61+COUNTRY_INFO!$G61)*$G61*$H61))),0)))","v":0},null,{"$f":"MAX(0,IF(OR(COUNTRY_INFO!Q61=\"Unknown\",COUNTRY_INFO!Q61=\"Surveillance\",COUNTRY_INFO!Q61=\"Not required\",COUNTRY_INFO!Q61=0),0,IF($E61<>0,IF($D61=0,COUNTRY_INFO!Q61*MIN($E61,$L61),COUNTRY_INFO!Q61*MIN($E61,$L61)-($F61*COUNTRY_INFO!$Q61/(COUNTRY_INFO!$F61+COUNTRY_INFO!$G61)+IF($G61=\" \",0,COUNTRY_INFO!$Q61/(COUNTRY_INFO!$F61+COUNTRY_INFO!$G61)*$G61*$H61))),0)))","v":0},0,0,null,0,0,null,0,0,null,0]
[{"$f":"IF(AND(INTRO!$E$37=\"Non-endemic\",INTRO!$E$41=\"Non-endemic\"),\" \",IF(COUNTRY_INFO!A62=0,\" \",COUNTRY_INFO!A62))","v":"Angola"},{"$f":"IF(AND(INTRO!$E$37=\"Non-endemic\",INTRO!$E$41=\"Non-endemic\"),\" \",IF(COUNTRY_INFO!B62=0,\" \",COUNTRY_INFO!B62))","v":"CUANZA SUL"},{"$f":"IF(AND(INTRO!$E$37=\"Non-endemic\",INTRO!$E$41=\"Non-endemic\"),\" \",IF(COUNTRY_INFO!C62=0,\" \",COUNTRY_INFO!C62))","v":"EBO"},{"$f":"IF(AND(INTRO!$E$37=\"Non-endemic\",INTRO!$E$41=\"Non-endemic\"),0,COUNTRY_INFO!W62)","v":0},{"$f":"IF(AND(INTRO!$E$37=\"Non-endemic\",INTRO!$E$41=\"Non-endemic\"),0,COUNTRY_INFO!Y62)","v":1},{"$f":"IF($D62=1,IVM!G62,0)","v":0},{"$f":"IF($D62=0, \" \", IF(COUNTRY_INFO!$H62=1, IF(COUNTRY_INFO!$L62=1, 0,\" \"),\" \"))","v":" "},null,1,{"$f":"IF(OR(COUNTRY_INFO!O62=\"Unknown\",COUNTRY_INFO!O62=\"Surveillance\",COUNTRY_INFO!O62=\"Not required\",COUNTRY_INFO!O62=0),0,IF(INTRO!$E$39=\"Non-endemic\",IF(AND($E62<>0,$I62=\"\"),IF($F62=0,COUNTRY_INFO!O62*$E62,COUNTRY_INFO!O62*($E62-$D62)),IF(AND($E62<>0,$I62<>0),IF($F62=0,COUNTRY_INFO!O62*$I62,COUNTRY_INFO!O62*($I62-$D62)),0)),IF($I62=\"\",COUNTRY_INFO!O62*$E62,COUNTRY_INFO!O62*$I62)))","v":29070},{"$f":"MAX(0,IF(OR(COUNTRY_INFO!P62=\"Unknown\",COUNTRY_INFO!P62=\"Surveillance\",COUNTRY_INFO!P62=\"Not required\",COUNTRY_INFO!P62=0),0,IF($E62<>0,IF($D62=0,COUNTRY_INFO!P62*$E62,COUNTRY_INFO!P62*$E62-($F62*COUNTRY_INFO!$P62/(COUNTRY_INFO!$F62+COUNTRY_INFO!$G62)+IF($G62=\" \",0,COUNTRY_INFO!$P62/(COUNTRY_INFO!$F62+COUNTRY_INFO!$G62)*$G62*$H62))),0)))","v":59333},null,{"$f":"MAX(0,IF(OR(COUNTRY_INFO!Q62=\"Unknown\",COUNTRY_INFO!Q62=\"Surveillance\",COUNTRY_INFO!Q62=\"Not required\",COUNTRY_INFO!Q62=0),0,IF($E62<>0,IF($D62=0,COUNTRY_INFO!Q62*MIN($E62,$L62),COUNTRY_INFO!Q62*MIN($E62,$L62)-($F62*COUNTRY_INFO!$Q62/(COUNTRY_INFO!$F62+COUNTRY_INFO!$G62)+IF($G62=\" \",0,COUNTRY_INFO!$Q62/(COUNTRY_INFO!$F62+COUNTRY_INFO!$G62)*$G62*$H62))),0)))","v":49253},137656,0,null,0,137656,null,137656,0,null,0]
[{"$f":"IF(AND(INTRO!$E$37=\"Non-endemic\",INTRO!$E$41=\"Non-endemic\"),\" \",IF(COUNTRY_INFO!A63=0,\" \",COUNTRY_INFO!A63))","v":"Angola"},{"$f":"IF(AND(INTRO!$E$37=\"Non-endemic\",INTRO!$E$41=\"Non-endemic\"),\" \",IF(COUNTRY_INFO!B63=0,\" \",COUNTRY_INFO!B63))","v":"CUANZA SUL"},{"$f":"IF(AND(INTRO!$E$37=\"Non-endemic\",INTRO!$E$41=\"Non-endemic\"),\" \",IF(COUNTRY_INFO!C63=0,\" \",COUNTRY_INFO!C63))","v":"LIBOLO"},{"$f":"IF(AND(INTRO!$E$37=\"Non-endemic\",INTRO!$E$41=\"Non-endemic\"),0,COUNTRY_INFO!W63)","v":0},{"$f":"IF(AND(INTRO!$E$37=\"Non-endemic\",INTRO!$E$41=\"Non-endemic\"),0,COUNTRY_INFO!Y63)","v":1},{"$f":"IF($D63=1,IVM!G63,0)","v":0},{"$f":"IF($D63=0, \" \", IF(COUNTRY_INFO!$H63=1, IF(COUNTRY_INFO!$L63=1, 0,\" \"),\" \"))","v":" "},null,1,{"$f":"IF(OR(COUNTRY_INFO!O63=\"Unknown\",COUNTRY_INFO!O63=\"Surveillance\",COUNTRY_INFO!O63=\"Not required\",COUNTRY_INFO!O63=0),0,IF(INTRO!$E$39=\"Non-endemic\",IF(AND($E63<>0,$I63=\"\"),IF($F63=0,COUNTRY_INFO!O63*$E63,COUNTRY_INFO!O63*($E63-$D63)),IF(AND($E63<>0,$I63<>0),IF($F63=0,COUNTRY_INFO!O63*$I63,COUNTRY_INFO!O63*($I63-$D63)),0)),IF($I63=\"\",COUNTRY_INFO!O63*$E63,COUNTRY_INFO!O63*$I63)))","v":16208},{"$f":"MAX(0,IF(OR(COUNTRY_INFO!P63=\"Unknown\",COUNTRY_INFO!P63=\"Surveillance\",COUNTRY_INFO!P63=\"Not required\",COUNTRY_INFO!P63=0),0,IF($E63<>0,IF($D63=0,COUNTRY_INFO!P63*$E63,COUNTRY_INFO!P63*$E63-($F63*COUNTRY_INFO!$P63/(COUNTRY_INFO!$F63+COUNTRY_INFO!$G63)+IF($G63=\" \",0,COUNTRY_INFO!$P63/(COUNTRY_INFO!$F63+COUNTRY_INFO!$G63)*$G63*$H63))),0)))","v":33081},null,{"$f":"MAX(0,IF(OR(COUNTRY_INFO!Q63=\"Unknown\",COUNTRY_INFO!Q63=\"Surveillance\",COUNTRY_INFO!Q63=\"Not required\",COUNTRY_INFO!Q63=0),0,IF($E63<>0,IF($D63=0,COUNTRY_INFO!Q63*MIN($E63,$L63),COUNTRY_INFO!Q63*MIN($E63,$L63)-($F63*COUNTRY_INFO!$Q63/(COUNTRY_INFO!$F63+COUNTRY_INFO!$G63)+IF($G63=\" \",0,COUNTRY_INFO!$Q63/(COUNTRY_INFO!$F63+COUNTRY_INFO!$G63)*$G63*$H63))),0)))","v":27461},76750,0,null,0,76750,null,76750,0,null,0]
[{"$f":"IF(AND(INTRO!$E$37=\"Non-endemic\",INTRO!$E$41=\"Non-endemic\"),\" \",IF(COUNTRY_INFO!A64=0,\" \",COUNTRY_INFO!A64))","v":"Angola"},{"$f":"IF(AND(INTRO!$E$37=\"Non-endemic\",INTRO!$E$41=\"Non-endemic\"),\" \",IF(COUNTRY_INFO!B64=0,\" \",COUNTRY_INFO!B64))","v":"CUANZA SUL"},{"$f":"IF(AND(INTRO!$E$37=\"Non-endemic\",INTRO!$E$41=\"Non-endemic\"),\" \",IF(COUNTRY_INFO!C64=0,\" \",COUNTRY_INFO!C64))","v":"MUSSENDE"},{"$f":"IF(AND(INTRO!$E$37=\"Non-endemic\",INTRO!$E$41=\"Non-endemic\"),0,COUNTRY_INFO!W64)","v":0},{"$f":"IF(AND(INTRO!$E$37=\"Non-endemic\",INTRO!$E$41=\"Non-endemic\"),0,COUNTRY_INFO!Y64)","v":0},{"$f":"IF($D64=1,IVM!G64,0)","v":0},{"$f":"IF($D64=0, \" \", IF(COUNTRY_INFO!$H64=1, IF(COUNTRY_INFO!$L64=1, 0,\" \"),\" \"))","v":" "},null,0,{"$f":"IF(OR(COUNTRY_INFO!O64=\"Unknown\",COUNTRY_INFO!O64=\"Surveillance\",COUNTRY_INFO!O64=\"Not required\",COUNTRY_INFO!O64=0),0,IF(INTRO!$E$39=\"Non-endemic\",IF(AND($E64<>0,$I64=\"\"),IF($F64=0,COUNTRY_INFO!O64*$E64,COUNTRY_INFO!O64*($E64-$D64)),IF(AND($E64<>0,$I64<>0),IF($F64=0,COUNTRY_INFO!O64*$I64,COUNTRY_INFO!O64*($I64-$D64)),0)),IF($I64=\"\",COUNTRY_INFO!O64*$E64,COUNTRY_INFO!O64*$I64)))","v":0},{"$f":"MAX(0,IF(OR(COUNTRY_INFO!P64=\"Unknown\",COUNTRY_INFO!P64=\"Surveillance\",COUNTRY_INFO!P64=\"Not required\",COUNTRY_INFO!P64=0),0,IF($E64<>0,IF($D64=0,COUNTRY_INFO!P64*$E64,COUNTRY_INFO!P64*$E64-($F64*COUNTRY_INFO!$P64/(COUNTRY_INFO!$F64+COUNTRY_INFO!$G64)+IF($G64=\" \",0,COUNTRY_INFO!$P64/(COUNTRY_INFO!$F64+COUNTRY_INFO!$G64)*$G64*$H64))),0)))","v":0},null,{"$f":"MAX(0,IF(OR(COUNTRY_INFO!Q64=\"Unknown\",COUNTRY_INFO!Q64=\"Surveillance\",COUNTRY_INFO!Q64=\"Not required\",COUNTRY_INFO!Q64=0),0,IF($E64<>0,IF($D64=0,COUNTRY_INFO!Q64*MIN($E64,$L64),COUNTRY_INFO!Q64*MIN($E64,$L64)-($F64*COUNTRY_INFO!$Q64/(COUNTRY_INFO!$F64+COUNTRY_INFO!$G64)+IF($G64=\" \",0,COUNTRY_INFO!$Q64/(COUNTRY_INFO!$F64+COUNTRY_INFO!$G64)*$G64*$H64))),0)))","v":0},0,0,null,0,0,null,0,0,null,0]
[{"$f":"IF(AND(INTRO!$E$37=\"Non-endemic\",INTRO!$E$41=\"Non-endemic\"),\" \",IF(COUNTRY_INFO!A65=0,\" \",COUNTRY_INFO!A65))","v":"Angola"},{"$f":"IF(AND(INTRO!$E$37=\"Non-endemic\",INTRO!$E$41=\"Non-endemic\"),\" \",IF(COUNTRY_INFO!B65=0,\" \",COUNTRY_INFO!B65))","v":"CUANZA SUL"},{"$f":"IF(AND(INTRO!$E$37=\"Non-endemic\",INTRO!$E$41=\"Non-endemic\"),\" \",IF(COUNTRY_INFO!C65=0,\" \",COUNTRY_INFO!C65))","v":"PORTO AMBOIM"},{"$f":"IF(AND(INTRO!$E$37=\"Non-endemic\",INTRO!$E$41=\"Non-endemic\"),0,COUNTRY_INFO!W65)","v":1},{"$f":"IF(AND(INTRO!$E$37=\"Non-endemic\",INTRO!$E$41=\"Non-endemic\"),0,COUNTRY_INFO!Y65)","v":0},{"$f":"IF($D65=1,IVM!G65,0)","v":134388},{"$f":"IF($D65=0, \" \", IF(COUNTRY_INFO!$H65=1, IF(COUNTRY_INFO!$L65=1, 0,\" \"),\" \"))","v":0},2,0,{"$f":"IF(OR(COUNTRY_INFO!O65=\"Unknown\",COUNTRY_INFO!O65=\"Surveillance\",COUNTRY_INFO!O65=\"Not required\",COUNTRY_INFO!O65=0),0,IF(INTRO!$E$39=\"Non-endemic\",IF(AND($E65<>0,$I65=\"\"),IF($F65=0,COUNTRY_INFO!O65*$E65,COUNTRY_INFO!O65*($E65-$D65)),IF(AND($E65<>0,$I65<>0),IF($F65=0,COUNTRY_INFO!O65*$I65,COUNTRY_INFO!O65*($I65-$D65)),0)),IF($I65=\"\",COUNTRY_INFO!O65*$E65,COUNTRY_INFO!O65*$I65)))","v":0},{"$f":"MAX(0,IF(OR(COUNTRY_INFO!P65=\"Unknown\",COUNTRY_INFO!P65=\"Surveillance\",COUNTRY_INFO!P65=\"Not required\",COUNTRY_INFO!P65=0),0,IF($E65<>0,IF($D65=0,COUNTRY_INFO!P65*$E65,COUNTRY_INFO!P65*$E65-($F65*COUNTRY_INFO!$P65/(COUNTRY_INFO!$F65+COUNTRY_INFO!$G65)+IF($G65=\" \",0,COUNTRY_INFO!$P65/(COUNTRY_INFO!$F65+COUNTRY_INFO!$G65)*$G65*$H65))),0)))","v":0},null,{"$f":"MAX(0,IF(OR(COUNTRY_INFO!Q65=\"Unknown\",COUNTRY_INFO!Q65=\"Surveillance\",COUNTRY_INFO!Q65=\"Not required\",COUNTRY_INFO!Q65=0),0,IF($E65<>0,IF($D65=0,COUNTRY_INFO!Q65*MIN($E65,$L65),COUNTRY_INFO!Q65*MIN($E65,$L65)-($F65*COUNTRY_INFO!$Q65/(COUNTRY_INFO!$F65+COUNTRY_INFO!$G65)+IF($G65=\" \",0,COUNTRY_INFO!$Q65/(COUNTRY_INFO!$F65+COUNTRY_INFO!$G65)*$G65*$H65))),0)))","v":0},0,134388,null,134388,0,null,0,0,null,0]
[{"$f":"IF(AND(INTRO!$E$37=\"Non-endemic\",INTRO!$E$41=\"Non-endemic\"),\" \",IF(COUNTRY_INFO!A66=0,\" \",COUNTRY_INFO!A66))","v":"Angola"},{"$f":"IF(AND(INTRO!$E$37=\"Non-endemic\",INTRO!$E$41=\"Non-endemic\"),\" \",IF(COUNTRY_INFO!B66=0,\" \",COUNTRY_INFO!B66))","v":"CUANZA SUL"},{"$f":"IF(AND(INTRO!$E$37=\"Non-endemic\",INTRO!$E$41=\"Non-endemic\"),\" \",IF(COUNTRY_INFO!C66=0,\" \",COUNTRY_INFO!C66))","v":"QUIBALA"},{"$f":"IF(AND(INTRO!$E$37=\"Non-endemic\",INTRO!$E$41=\"Non-endemic\"),0,COUNTRY_INFO!W66)","v":0},{"$f":"IF(AND(INTRO!$E$37=\"Non-endemic\",INTRO!$E$41=\"Non-endemic\"),0,COUNTRY_INFO!Y66)","v":1},{"$f":"IF($D66=1,IVM!G66,0)","v":0},{"$f":"IF($D66=0, \" \", IF(COUNTRY_INFO!$H66=1, IF(COUNTRY_INFO!$L66=1, 0,\" \"),\" \"))","v":" "},null,1,{"$f":"IF(OR(COUNTRY_INFO!O66=\"Unknown\",COUNTRY_INFO!O66=\"Surveillance\",COUNTRY_INFO!O66=\"Not required\",COUNTRY_INFO!O66=0),0,IF(INTRO!$E$39=\"Non-endemic\",IF(AND($E66<>0,$I66=\"\"),IF($F66=0,COUNTRY_INFO!O66*$E66,COUNTRY_INFO!O66*($E66-$D66)),IF(AND($E66<>0,$I66<>0),IF($F66=0,COUNTRY_INFO!O66*$I66,COUNTRY_INFO!O66*($I66-$D66)),0)),IF($I66=\"\",COUNTRY_INFO!O66*$E66,COUNTRY_INFO!O66*$I66)))","v":25008},{"$f":"MAX(0,IF(OR(COUNTRY_INFO!P66=\"Unknown\",COUNTRY_INFO!P66=\"Surveillance\",COUNTRY_INFO!P66=\"Not required\",COUNTRY_INFO!P66=0),0,IF($E66<>0,IF($D66=0,COUNTRY_INFO!P66*$E66,COUNTRY_INFO!P66*$E66-($F66*COUNTRY_INFO!$P66/(COUNTRY_INFO!$F66+COUNTRY_INFO!$G66)+IF($G66=\" \",0,COUNTRY_INFO!$P66/(COUNTRY_INFO!$F66+COUNTRY_INFO!$G66)*$G66*$H66))),0)))","v":51043},null,{"$f":"MAX(0,IF(OR(COUNTRY_INFO!Q66=\"Unknown\",COUNTRY_INFO!Q66=\"Surveillance\",COUNTRY_INFO!Q66=\"Not required\",COUNTRY_INFO!Q66=0),0,IF($E66<>0,IF($D66=0,COUNTRY_INFO!Q66*MIN($E66,$L66),COUNTRY_INFO!Q66*MIN($E66,$L66)-($F66*COUNTRY_INFO!$Q66/(COUNTRY_INFO!$F66+COUNTRY_INFO!$G66)+IF($G66=\" \",0,COUNTRY_INFO!$Q66/(COUNTRY_INFO!$F66+COUNTRY_INFO!$G66)*$G66*$H66))),0)))","v":42371},118422,0,null,0,118422,null,118422,0,null,0]
[{"$f":"IF(AND(INTRO!$E$37=\"Non-endemic\",INTRO!$E$41=\"Non-endemic\"),\" \",IF(COUNTRY_INFO!A67=0,\" \",COUNTRY_INFO!A67))","v":"Angola"},{"$f":"IF(AND(INTRO!$E$37=\"Non-endemic\",INTRO!$E$41=\"Non-endemic\"),\" \",IF(COUNTRY_INFO!B67=0,\" \",COUNTRY_INFO!B67))","v":"CUANZA SUL"},{"$f":"IF(AND(INTRO!$E$37=\"Non-endemic\",INTRO!$E$41=\"Non-endemic\"),\" \",IF(COUNTRY_INFO!C67=0,\" \",COUNTRY_INFO!C67))","v":"QUILENDA"},{"$f":"IF(AND(INTRO!$E$37=\"Non-endemic\",INTRO!$E$41=\"Non-endemic\"),0,COUNTRY_INFO!W67)","v":0},{"$f":"IF(AND(INTRO!$E$37=\"Non-endemic\",INTRO!$E$41=\"Non-endemic\"),0,COUNTRY_INFO!Y67)","v":1},{"$f":"IF($D67=1,IVM!G67,0)","v":0},{"$f":"IF($D67=0, \" \", IF(COUNTRY_INFO!$H67=1, IF(COUNTRY_INFO!$L67=1, 0,\" \"),\" \"))","v":" "},null,1,{"$f":"IF(OR(COUNTRY_INFO!O67=\"Unknown\",COUNTRY_INFO!O67=\"Surveillance\",COUNTRY_INFO!O67=\"Not required\",COUNTRY_INFO!O67=0),0,IF(INTRO!$E$39=\"Non-endemic\",IF(AND($E67<>0,$I67=\"\"),IF($F67=0,COUNTRY_INFO!O67*$E67,COUNTRY_INFO!O67*($E67-$D67)),IF(AND($E67<>0,$I67<>0),IF($F67=0,COUNTRY_INFO!O67*$I67,COUNTRY_INFO!O67*($I67-$D67)),0)),IF($I67=\"\",COUNTRY_INFO!O67*$E67,COUNTRY_INFO!O67*$I67)))","v":17190},{"$f":"MAX(0,IF(OR(COUNTRY_INFO!P67=\"Unknown\",COUNTRY_INFO!P67=\"Surveillance\",COUNTRY_INFO!P67=\"Not required\",COUNTRY_INFO!P67=0),0,IF($E67<>0,IF($D67=0,COUNTRY_INFO!P67*$E67,COUNTRY_INFO!P67*$E67-($F67*COUNTRY_INFO!$P67/(COUNTRY_INFO!$F67+COUNTRY_INFO!$G67)+IF($G67=\" \",0,COUNTRY_INFO!$P67/(COUNTRY_INFO!$F67+COUNTRY_INFO!$G67)*$G67*$H67))),0)))","v":35086},null,{"$f":"MAX(0,IF(OR(COUNTRY_INFO!Q67=\"Unknown\",COUNTRY_INFO!Q67=\"Surveillance\",COUNTRY_INFO!Q67=\"Not required\",COUNTRY_INFO!Q67=0),0,IF($E67<>0,IF($D67=0,COUNTRY_INFO!Q67*MIN($E67,$L67),COUNTRY_INFO!Q67*MIN($E67,$L67)-($F67*COUNTRY_INFO!$Q67/(COUNTRY_INFO!$F67+COUNTRY_INFO!$G67)+IF($G67=\" \",0,COUNTRY_INFO!$Q67/(COUNTRY_INFO!$F67+COUNTRY_INFO!$G67)*$G67*$H67))),0)))","v":29125},81401,0,null,0,81401,null,81401,0,null,0]
[{"$f":"IF(AND(INTRO!$E$37=\"Non-endemic\",INTRO!$E$41=\"Non-endemic\"),\" \",IF(COUNTRY_INFO!A68=0,\" \",COUNTRY_INFO!A68))","v":"Angola"},{"$f":"IF(AND(INTRO!$E$37=\"Non-endemic\",INTRO!$E$41=\"Non-endemic\"),\" \",IF(COUNTRY_INFO!B68=0,\" \",COUNTRY_INFO!B68))","v":"CUANZA SUL"},{"$f":"IF(AND(INTRO!$E$37=\"Non-endemic\",INTRO!$E$41=\"Non-endemic\"),\" \",IF(COUNTRY_INFO!C68=0,\" \",COUNTRY_INFO!C68))","v":"SELES"},{"$f":"IF(AND(INTRO!$E$37=\"Non-endemic\",INTRO!$E$41=\"Non-endemic\"),0,COUNTRY_INFO!W68)","v":0},{"$f":"IF(AND(INTRO!$E$37=\"Non-endemic\",INTRO!$E$41=\"Non-endemic\"),0,COUNTRY_INFO!Y68)","v":0},{"$f":"IF($D68=1,IVM!G68,0)","v":0},{"$f":"IF($D68=0, \" \", IF(COUNTRY_INFO!$H68=1, IF(COUNTRY_INFO!$L68=1, 0,\" \"),\" \"))","v":" "},null,0,{"$f":"IF(OR(COUNTRY_INFO!O68=\"Unknown\",COUNTRY_INFO!O68=\"Surveillance\",COUNTRY_INFO!O68=\"Not required\",COUNTRY_INFO!O68=0),0,IF(INTRO!$E$39=\"Non-endemic\",IF(AND($E68<>0,$I68=\"\"),IF($F68=0,COUNTRY_INFO!O68*$E68,COUNTRY_INFO!O68*($E68-$D68)),IF(AND($E68<>0,$I68<>0),IF($F68=0,COUNTRY_INFO!O68*$I68,COUNTRY_INFO!O68*($I68-$D68)),0)),IF($I68=\"\",COUNTRY_INFO!O68*$E68,COUNTRY_INFO!O68*$I68)))","v":0},{"$f":"MAX(0,IF(OR(COUNTRY_INFO!P68=\"Unknown\",COUNTRY_INFO!P68=\"Surveillance\",COUNTRY_INFO!P68=\"Not required\",COUNTRY_INFO!P68=0),0,IF($E68<>0,IF($D68=0,COUNTRY_INFO!P68*$E68,COUNTRY_INFO!P68*$E68-($F68*COUNTRY_INFO!$P68/(COUNTRY_INFO!$F68+COUNTRY_INFO!$G68)+IF($G68=\" \",0,COUNTRY_INFO!$P68/(COUNTRY_INFO!$F68+COUNTRY_INFO!$G68)*$G68*$H68))),0)))","v":0},null,{"$f":"MAX(0,IF(OR(COUNTRY_INFO!Q68=\"Unknown\",COUNTRY_INFO!Q68=\"Surveillance\",COUNTRY_INFO!Q68=\"Not required\",COUNTRY_INFO!Q68=0),0,IF($E68<>0,IF($D68=0,COUNTRY_INFO!Q68*MIN($E68,$L68),COUNTRY_INFO!Q68*MIN($E68,$L68)-($F68*COUNTRY_INFO!$Q68/(COUNTRY_INFO!$F68+COUNTRY_INFO!$G68)+IF($G68=\" \",0,COUNTRY_INFO!$Q68/(COUNTRY_INFO!$F68+COUNTRY_INFO!$G68)*$G68*$H68))),0)))","v":0},0,0,null,0,0,null,0,0,null,0]
[{"$f":"IF(AND(INTRO!$E$37=\"Non-endemic\",INTRO!$E$41=\"Non-endemic\"),\" \",IF(COUNTRY_INFO!A69=0,\" \",COUNTRY_INFO!A69))","v":"Angola"},{"$f":"IF(AND(INTRO!$E$37=\"Non-endemic\",INTRO!$E$41=\"Non-endemic\"),\" \",IF(COUNTRY_INFO!B69=0,\" \",COUNTRY_INFO!B69))","v":"CUANZA SUL"},{"$f":"IF(AND(INTRO!$E$37=\"Non-endemic\",INTRO!$E$41=\"Non-endemic\"),\" \",IF(COUNTRY_INFO!C69=0,\" \",COUNTRY_INFO!C69))","v":"SUMBE"},{"$f":"IF(AND(INTRO!$E$37=\"Non-endemic\",INTRO!$E$41=\"Non-endemic\"),0,COUNTRY_INFO!W69)","v":0},{"$f":"IF(AND(INTRO!$E$37=\"Non-endemic\",INTRO!$E$41=\"Non-endemic\"),0,COUNTRY_INFO!Y69)","v":0},{"$f":"IF($D69=1,IVM!G69,0)","v":0},{"$f":"IF($D69=0, \" \", IF(COUNTRY_INFO!$H69=1, IF(COUNTRY_INFO!$L69=1, 0,\" \"),\" \"))","v":" "},null,0,{"$f":"IF(OR(COUNTRY_INFO!O69=\"Unknown\",COUNTRY_INFO!O69=\"Surveillance\",COUNTRY_INFO!O69=\"Not required\",COUNTRY_INFO!O69=0),0,IF(INTRO!$E$39=\"Non-endemic\",IF(AND($E69<>0,$I69=\"\"),IF($F69=0,COUNTRY_INFO!O69*$E69,COUNTRY_INFO!O69*($E69-$D69)),IF(AND($E69<>0,$I69<>0),IF($F69=0,COUNTRY_INFO!O69*$I69,COUNTRY_INFO!O69*($I69-$D69)),0)),IF($I69=\"\",COUNTRY_INFO!O69*$E69,COUNTRY_INFO!O69*$I69)))","v":0},{"$f":"MAX(0,IF(OR(COUNTRY_INFO!P69=\"Unknown\",COUNTRY_INFO!P69=\"Surveillance\",COUNTRY_INFO!P69=\"Not required\",COUNTRY_INFO!P69=0),0,IF($E69<>0,IF($D69=0,COUNTRY_INFO!P69*$E69,COUNTRY_INFO!P69*$E69-($F69*COUNTRY_INFO!$P69/(COUNTRY_INFO!$F69+COUNTRY_INFO!$G69)+IF($G69=\" \",0,COUNTRY_INFO!$P69/(COUNTRY_INFO!$F69+COUNTRY_INFO!$G69)*$G69*$H69))),0)))","v":0},null,{"$f":"MAX(0,IF(OR(COUNTRY_INFO!Q69=\"Unknown\",COUNTRY_INFO!Q69=\"Surveillance\",COUNTRY_INFO!Q69=\"Not required\",COUNTRY_INFO!Q69=0),0,IF($E69<>0,IF($D69=0,COUNTRY_INFO!Q69*MIN($E69,$L69),COUNTRY_INFO!Q69*MIN($E69,$L69)-($F69*COUNTRY_INFO!$Q69/(COUNTRY_INFO!$F69+COUNTRY_INFO!$G69)+IF($G69=\" \",0,COUNTRY_INFO!$Q69/(COUNTRY_INFO!$F69+COUNTRY_INFO!$G69)*$G69*$H69))),0)))","v":0},0,0,null,0,0,null,0,0,null,0]
[{"$f":"IF(AND(INTRO!$E$37=\"Non-endemic\",INTRO!$E$41=\"Non-endemic\"),\" \",IF(COUNTRY_INFO!A70=0,\" \",COUNTRY_INFO!A70))","v":"Angola"},{"$f":"IF(AND(INTRO!$E$37=\"Non-endemic\",INTRO!$E$41=\"Non-endemic\"),\" \",IF(COUNTRY_INFO!B70=0,\" \",COUNTRY_INFO!B70))","v":"CUNENE"},{"$f":"IF(AND(INTRO!$E$37=\"Non-endemic\",INTRO!$E$41=\"Non-endemic\"),\" \",IF(COUNTRY_INFO!C70=0,\" \",COUNTRY_INFO!C70))","v":"CAHAMA"},{"$f":"IF(AND(INTRO!$E$37=\"Non-endemic\",INTRO!$E$41=\"Non-endemic\"),0,COUNTRY_INFO!W70)","v":0},{"$f":"IF(AND(INTRO!$E$37=\"Non-endemic\",INTRO!$E$41=\"Non-endemic\"),0,COUNTRY_INFO!Y70)","v":0},{"$f":"IF($D70=1,IVM!G70,0)","v":0},{"$f":"IF($D70=0, \" \", IF(COUNTRY_INFO!$H70=1, IF(COUNTRY_INFO!$L70=1, 0,\" \"),\" \"))","v":" "},null,0,{"$f":"IF(OR(COUNTRY_INFO!O70=\"Unknown\",COUNTRY_INFO!O70=\"Surveillance\",COUNTRY_INFO!O70=\"Not required\",COUNTRY_INFO!O70=0),0,IF(INTRO!$E$39=\"Non-endemic\",IF(AND($E70<>0,$I70=\"\"),IF($F70=0,COUNTRY_INFO!O70*$E70,COUNTRY_INFO!O70*($E70-$D70)),IF(AND($E70<>0,$I70<>0),IF($F70=0,COUNTRY_INFO!O70*$I70,COUNTRY_INFO!O70*($I70-$D70)),0)),IF($I70=\"\",COUNTRY_INFO!O70*$E70,COUNTRY_INFO!O70*$I70)))","v":0},{"$f":"MAX(0,IF(OR(COUNTRY_INFO!P70=\"Unknown\",COUNTRY_INFO!P70=\"Surveillance\",COUNTRY_INFO!P70=\"Not required\",COUNTRY_INFO!P70=0),0,IF($E70<>0,IF($D70=0,COUNTRY_INFO!P70*$E70,COUNTRY_INFO!P70*$E70-($F70*COUNTRY_INFO!$P70/(COUNTRY_INFO!$F70+COUNTRY_INFO!$G70)+IF($G70=\" \",0,COUNTRY_INFO!$P70/(COUNTRY_INFO!$F70+COUNTRY_INFO!$G70)*$G70*$H70))),0)))","v":0},null,{"$f":"MAX(0,IF(OR(COUNTRY_INFO!Q70=\"Unknown\",COUNTRY_INFO!Q70=\"Surveillance\",COUNTRY_INFO!Q70=\"Not required\",COUNTRY_INFO!Q70=0),0,IF($E70<>0,IF($D70=0,COUNTRY_INFO!Q70*MIN($E70,$L70),COUNTRY_INFO!Q70*MIN($E70,$L70)-($F70*COUNTRY_INFO!$Q70/(COUNTRY_INFO!$F70+COUNTRY_INFO!$G70)+IF($G70=\" \",0,COUNTRY_INFO!$Q70/(COUNTRY_INFO!$F70+COUNTRY_INFO!$G70)*$G70*$H70))),0)))","v":0},0,0,null,0,0,null,0,0,null,0]
[{"$f":"IF(AND(INTRO!$E$37=\"Non-endemic\",INTRO!$E$41=\"Non-endemic\"),\" \",IF(COUNTRY_INFO!A71=0,\" \",COUNTRY_INFO!A71))","v":"Angola"},{"$f":"IF(AND(INTRO!$E$37=\"Non-endemic\",INTRO!$E$41=\"Non-endemic\"),\" \",IF(COUNTRY_INFO!B71=0,\" \",COUNTRY_INFO!B71))","v":"CUNENE"},{"$f":"IF(AND(INTRO!$E$37=\"Non-endemic\",INTRO!$E$41=\"Non-endemic\"),\" \",IF(COUNTRY_INFO!C71=0,\" \",COUNTRY_INFO!C71))","v":"CUANHAMA"},{"$f":"IF(AND(INTRO!$E$37=\"Non-endemic\",INTRO!$E$41=\"Non-endemic\"),0,COUNTRY_INFO!W71)","v":0},{"$f":"IF(AND(INTRO!$E$37=\"Non-endemic\",INTRO!$E$41=\"Non-endemic\"),0,COUNTRY_INFO!Y71)","v":0},{"$f":"IF($D71=1,IVM!G71,0)","v":0},{"$f":"IF($D71=0, \" \", IF(COUNTRY_INFO!$H71=1, IF(COUNTRY_INFO!$L71=1, 0,\" \"),\" \"))","v":" "},null,0,{"$f":"IF(OR(COUNTRY_INFO!O71=\"Unknown\",COUNTRY_INFO!O71=\"Surveillance\",COUNTRY_INFO!O71=\"Not required\",COUNTRY_INFO!O71=0),0,IF(INTRO!$E$39=\"Non-endemic\",IF(AND($E71<>0,$I71=\"\"),IF($F71=0,COUNTRY_INFO!O71*$E71,COUNTRY_INFO!O71*($E71-$D71)),IF(AND($E71<>0,$I71<>0),IF($F71=0,COUNTRY_INFO!O71*$I71,COUNTRY_INFO!O71*($I71-$D71)),0)),IF($I71=\"\",COUNTRY_INFO!O71*$E71,COUNTRY_INFO!O71*$I71)))","v":0},{"$f":"MAX(0,IF(OR(COUNTRY_INFO!P71=\"Unknown\",COUNTRY_INFO!P71=\"Surveillance\",COUNTRY_INFO!P71=\"Not required\",COUNTRY_INFO!P71=0),0,IF($E71<>0,IF($D71=0,COUNTRY_INFO!P71*$E71,COUNTRY_INFO!P71*$E71-($F71*COUNTRY_INFO!$P71/(COUNTRY_INFO!$F71+COUNTRY_INFO!$G71)+IF($G71=\" \",0,COUNTRY_INFO!$P71/(COUNTRY_INFO!$F71+COUNTRY_INFO!$G71)*$G71*$H71))),0)))","v":0},null,{"$f":"MAX(0,IF(OR(COUNTRY_INFO!Q71=\"Unknown\",COUNTRY_INFO!Q71=\"Surveillance\",COUNTRY_INFO!Q71=\"Not required\",COUNTRY_INFO!Q71=0),0,IF($E71<>0,IF($D71=0,COUNTRY_INFO!Q71*MIN($E71,$L71),COUNTRY_INFO!Q71*MIN($E71,$L71)-($F71*COUNTRY_INFO!$Q71/(COUNTRY_INFO!$F71+COUNTRY_INFO!$G71)+IF($G71=\" \",0,COUNTRY_INFO!$Q71/(COUNTRY_INFO!$F71+COUNTRY_INFO!$G71)*$G71*$H71))),0)))","v":0},0,0,null,0,0,null,0,0,null,0]
[{"$f":"IF(AND(INTRO!$E$37=\"Non-endemic\",INTRO!$E$41=\"Non-endemic\"),\" \",IF(COUNTRY_INFO!A72=0,\" \",COUNTRY_INFO!A72))","v":"Angola"},{"$f":"IF(AND(INTRO!$E$37=\"Non-endemic\",INTRO!$E$41=\"Non-endemic\"),\" \",IF(COUNTRY_INFO!B72=0,\" \",COUNTRY_INFO!B72))","v":"CUNENE"},{"$f":"IF(AND(INTRO!$E$37=\"Non-endemic\",INTRO!$E$41=\"Non-endemic\"),\" \",IF(COUNTRY_INFO!C72=0,\" \",COUNTRY_INFO!C72))","v":"CUROCA"},{"$f":"IF(AND(INTRO!$E$37=\"Non-endemic\",INTRO!$E$41=\"Non-endemic\"),0,COUNTRY_INFO!W72)","v":0},{"$f":"IF(AND(INTRO!$E$37=\"Non-endemic\",INTRO!$E$41=\"Non-endemic\"),0,COUNTRY_INFO!Y72)","v":0},{"$f":"IF($D72=1,IVM!G72,0)","v":0},{"$f":"IF($D72=0, \" \", IF(COUNTRY_INFO!$H72=1, IF(COUNTRY_INFO!$L72=1, 0,\" \"),\" \"))","v":" "},null,0,{"$f":"IF(OR(COUNTRY_INFO!O72=\"Unknown\",COUNTRY_INFO!O72=\"Surveillance\",COUNTRY_INFO!O72=\"Not required\",COUNTRY_INFO!O72=0),0,IF(INTRO!$E$39=\"Non-endemic\",IF(AND($E72<>0,$I72=\"\"),IF($F72=0,COUNTRY_INFO!O72*$E72,COUNTRY_INFO!O72*($E72-$D72)),IF(AND($E72<>0,$I72<>0),IF($F72=0,COUNTRY_INFO!O72*$I72,COUNTRY_INFO!O72*($I72-$D72)),0)),IF($I72=\"\",COUNTRY_INFO!O72*$E72,COUNTRY_INFO!O72*$I72)))","v":0},{"$f":"MAX(0,IF(OR(COUNTRY_INFO!P72=\"Unknown\",COUNTRY_INFO!P72=\"Surveillance\",COUNTRY_INFO!P72=\"Not required\",COUNTRY_INFO!P72=0),0,IF($E72<>0,IF($D72=0,COUNTRY_INFO!P72*$E72,COUNTRY_INFO!P72*$E72-($F72*COUNTRY_INFO!$P72/(COUNTRY_INFO!$F72+COUNTRY_INFO!$G72)+IF($G72=\" \",0,COUNTRY_INFO!$P72/(COUNTRY_INFO!$F72+COUNTRY_INFO!$G72)*$G72*$H72))),0)))","v":0},null,{"$f":"MAX(0,IF(OR(COUNTRY_INFO!Q72=\"Unknown\",COUNTRY_INFO!Q72=\"Surveillance\",COUNTRY_INFO!Q72=\"Not required\",COUNTRY_INFO!Q72=0),0,IF($E72<>0,IF($D72=0,COUNTRY_INFO!Q72*MIN($E72,$L72),COUNTRY_INFO!Q72*MIN($E72,$L72)-($F72*COUNTRY_INFO!$Q72/(COUNTRY_INFO!$F72+COUNTRY_INFO!$G72)+IF($G72=\" \",0,COUNTRY_INFO!$Q72/(COUNTRY_INFO!$F72+COUNTRY_INFO!$G72)*$G72*$H72))),0)))","v":0},0,0,null,0,0,null,0,0,null,0]
[{"$f":"IF(AND(INTRO!$E$37=\"Non-endemic\",INTRO!$E$41=\"Non-endemic\"),\" \",IF(COUNTRY_INFO!A73=0,\" \",COUNTRY_INFO!A73))","v":"Angola"},{"$f":"IF(AND(INTRO!$E$37=\"Non-endemic\",INTRO!$E$41=\"Non-endemic\"),\" \",IF(COUNTRY_INFO!B73=0,\" \",COUNTRY_INFO!B73))","v":"CUNENE"},{"$f":"IF(AND(INTRO!$E$37=\"Non-endemic\",INTRO!$E$41=\"Non-endemic\"),\" \",IF(COUNTRY_INFO!C73=0,\" \",COUNTRY_INFO!C73))","v":"CUVELAI"},{"$f":"IF(AND(INTRO!$E$37=\"Non-endemic\",INTRO!$E$41=\"Non-endemic\"),0,COUNTRY_INFO!W73)","v":0},{"$f":"IF(AND(INTRO!$E$37=\"Non-endemic\",INTRO!$E$41=\"Non-endemic\"),0,COUNTRY_INFO!Y73)","v":0},{"$f":"IF($D73=1,IVM!G73,0)","v":0},{"$f":"IF($D73=0, \" \", IF(COUNTRY_INFO!$H73=1, IF(COUNTRY_INFO!$L73=1, 0,\" \"),\" \"))","v":" "},null,0,{"$f":"IF(OR(COUNTRY_INFO!O73=\"Unknown\",COUNTRY_INFO!O73=\"Surveillance\",COUNTRY_INFO!O73=\"Not required\",COUNTRY_INFO!O73=0),0,IF(INTRO!$E$39=\"Non-endemic\",IF(AND($E73<>0,$I73=\"\"),IF($F73=0,COUNTRY_INFO!O73*$E73,COUNTRY_INFO!O73*($E73-$D73)),IF(AND($E73<>0,$I73<>0),IF($F73=0,COUNTRY_INFO!O73*$I73,COUNTRY_INFO!O73*($I73-$D73)),0)),IF($I73=\"\",COUNTRY_INFO!O73*$E73,COUNTRY_INFO!O73*$I73)))","v":0},{"$f":"MAX(0,IF(OR(COUNTRY_INFO!P73=\"Unknown\",COUNTRY_INFO!P73=\"Surveillance\",COUNTRY_INFO!P73=\"Not required\",COUNTRY_INFO!P73=0),0,IF($E73<>0,IF($D73=0,COUNTRY_INFO!P73*$E73,COUNTRY_INFO!P73*$E73-($F73*COUNTRY_INFO!$P73/(COUNTRY_INFO!$F73+COUNTRY_INFO!$G73)+IF($G73=\" \",0,COUNTRY_INFO!$P73/(COUNTRY_INFO!$F73+COUNTRY_INFO!$G73)*$G73*$H73))),0)))","v":0},null,{"$f":"MAX(0,IF(OR(COUNTRY_INFO!Q73=\"Unknown\",COUNTRY_INFO!Q73=\"Surveillance\",COUNTRY_INFO!Q73=\"Not required\",COUNTRY_INFO!Q73=0),0,IF($E73<>0,IF($D73=0,COUNTRY_INFO!Q73*MIN($E73,$L73),COUNTRY_INFO!Q73*MIN($E73,$L73)-($F73*COUNTRY_INFO!$Q73/(COUNTRY_INFO!$F73+COUNTRY_INFO!$G73)+IF($G73=\" \",0,COUNTRY_INFO!$Q73/(COUNTRY_INFO!$F73+COUNTRY_INFO!$G73)*$G73*$H73))),0)))","v":0},0,0,null,0,0,null,0,0,null,0]
[{"$f":"IF(AND(INTRO!$E$37=\"Non-endemic\",INTRO!$E$41=\"Non-endemic\"),\" \",IF(COUNTRY_INFO!A74=0,\" \",COUNTRY_INFO!A74))","v":"Angola"},{"$f":"IF(AND(INTRO!$E$37=\"Non-endemic\",INTRO!$E$41=\"Non-endemic\"),\" \",IF(COUNTRY_INFO!B74=0,\" \",COUNTRY_INFO!B74))","v":"CUNENE"},{"$f":"IF(AND(INTRO!$E$37=\"Non-endemic\",INTRO!$E$41=\"Non-endemic\"),\" \",IF(COUNTRY_INFO!C74=0,\" \",COUNTRY_INFO!C74))","v":"NAMACUNDE"},{"$f":"IF(AND(INTRO!$E$37=\"Non-endemic\",INTRO!$E$41=\"Non-endemic\"),0,COUNTRY_INFO!W74)","v":0},{"$f":"IF(AND(INTRO!$E$37=\"Non-endemic\",INTRO!$E$41=\"Non-endemic\"),0,COUNTRY_INFO!Y74)","v":0},{"$f":"IF($D74=1,IVM!G74,0)","v":0},{"$f":"IF($D74=0, \" \", IF(COUNTRY_INFO!$H74=1, IF(COUNTRY_INFO!$L74=1, 0,\" \"),\" \"))","v":" "},null,0,{"$f":"IF(OR(COUNTRY_INFO!O74=\"Unknown\",COUNTRY_INFO!O74=\"Surveillance\",COUNTRY_INFO!O74=\"Not required\",COUNTRY_INFO!O74=0),0,IF(INTRO!$E$39=\"Non-endemic\",IF(AND($E74<>0,$I74=\"\"),IF($F74=0,COUNTRY_INFO!O74*$E74,COUNTRY_INFO!O74*($E74-$D74)),IF(AND($E74<>0,$I74<>0),IF($F74=0,COUNTRY_INFO!O74*$I74,COUNTRY_INFO!O74*($I74-$D74)),0)),IF($I74=\"\",COUNTRY_INFO!O74*$E74,COUNTRY_INFO!O74*$I74)))","v":0},{"$f":"MAX(0,IF(OR(COUNTRY_INFO!P74=\"Unknown\",COUNTRY_INFO!P74=\"Surveillance\",COUNTRY_INFO!P74=\"Not required\",COUNTRY_INFO!P74=0),0,IF($E74<>0,IF($D74=0,COUNTRY_INFO!P74*$E74,COUNTRY_INFO!P74*$E74-($F74*COUNTRY_INFO!$P74/(COUNTRY_INFO!$F74+COUNTRY_INFO!$G74)+IF($G74=\" \",0,COUNTRY_INFO!$P74/(COUNTRY_INFO!$F74+COUNTRY_INFO!$G74)*$G74*$H74))),0)))","v":0},null,{"$f":"MAX(0,IF(OR(COUNTRY_INFO!Q74=\"Unknown\",COUNTRY_INFO!Q74=\"Surveillance\",COUNTRY_INFO!Q74=\"Not required\",COUNTRY_INFO!Q74=0),0,IF($E74<>0,IF($D74=0,COUNTRY_INFO!Q74*MIN($E74,$L74),COUNTRY_INFO!Q74*MIN($E74,$L74)-($F74*COUNTRY_INFO!$Q74/(COUNTRY_INFO!$F74+COUNTRY_INFO!$G74)+IF($G74=\" \",0,COUNTRY_INFO!$Q74/(COUNTRY_INFO!$F74+COUNTRY_INFO!$G74)*$G74*$H74))),0)))","v":0},0,0,null,0,0,null,0,0,null,0]
[{"$f":"IF(AND(INTRO!$E$37=\"Non-endemic\",INTRO!$E$41=\"Non-endemic\"),\" \",IF(COUNTRY_INFO!A75=0,\" \",COUNTRY_INFO!A75))","v":"Angola"},{"$f":"IF(AND(INTRO!$E$37=\"Non-endemic\",INTRO!$E$41=\"Non-endemic\"),\" \",IF(COUNTRY_INFO!B75=0,\" \",COUNTRY_INFO!B75))","v":"CUNENE"},{"$f":"IF(AND(INTRO!$E$37=\"Non-endemic\",INTRO!$E$41=\"Non-endemic\"),\" \",IF(COUNTRY_INFO!C75=0,\" \",COUNTRY_INFO!C75))","v":"OMBADJA"},{"$f":"IF(AND(INTRO!$E$37=\"Non-endemic\",INTRO!$E$41=\"Non-endemic\"),0,COUNTRY_INFO!W75)","v":0},{"$f":"IF(AND(INTRO!$E$37=\"Non-endemic\",INTRO!$E$41=\"Non-endemic\"),0,COUNTRY_INFO!Y75)","v":1},{"$f":"IF($D75=1,IVM!G75,0)","v":0},{"$f":"IF($D75=0, \" \", IF(COUNTRY_INFO!$H75=1, IF(COUNTRY_INFO!$L75=1, 0,\" \"),\" \"))","v":" "},null,1,{"$f":"IF(OR(COUNTRY_INFO!O75=\"Unknown\",COUNTRY_INFO!O75=\"Surveillance\",COUNTRY_INFO!O75=\"Not required\",COUNTRY_INFO!O75=0),0,IF(INTRO!$E$39=\"Non-endemic\",IF(AND($E75<>0,$I75=\"\"),IF($F75=0,COUNTRY_INFO!O75*$E75,COUNTRY_INFO!O75*($E75-$D75)),IF(AND($E75<>0,$I75<>0),IF($F75=0,COUNTRY_INFO!O75*$I75,COUNTRY_INFO!O75*($I75-$D75)),0)),IF($I75=\"\",COUNTRY_INFO!O75*$E75,COUNTRY_INFO!O75*$I75)))","v":54617},{"$f":"MAX(0,IF(OR(COUNTRY_INFO!P75=\"Unknown\",COUNTRY_INFO!P75=\"Surveillance\",COUNTRY_INFO!P75=\"Not required\",COUNTRY_INFO!P75=0),0,IF($E75<>0,IF($D75=0,COUNTRY_INFO!P75*$E75,COUNTRY_INFO!P75*$E75-($F75*COUNTRY_INFO!$P75/(COUNTRY_INFO!$F75+COUNTRY_INFO!$G75)+IF($G75=\" \",0,COUNTRY_INFO!$P75/(COUNTRY_INFO!$F75+COUNTRY_INFO!$G75)*$G75*$H75))),0)))","v":111477},null,{"$f":"MAX(0,IF(OR(COUNTRY_INFO!Q75=\"Unknown\",COUNTRY_INFO!Q75=\"Surveillance\",COUNTRY_INFO!Q75=\"Not required\",COUNTRY_INFO!Q75=0),0,IF($E75<>0,IF($D75=0,COUNTRY_INFO!Q75*MIN($E75,$L75),COUNTRY_INFO!Q75*MIN($E75,$L75)-($F75*COUNTRY_INFO!$Q75/(COUNTRY_INFO!$F75+COUNTRY_INFO!$G75)+IF($G75=\" \",0,COUNTRY_INFO!$Q75/(COUNTRY_INFO!$F75+COUNTRY_INFO!$G75)*$G75*$H75))),0)))","v":92537},258631,{"$f":"$F75+IF(OR(G75=0,G75=\" \"),0,G75*H75)","v":0},null,0,258631,null,258631,0,null,0]
[{"$f":"IF(AND(INTRO!$E$37=\"Non-endemic\",INTRO!$E$41=\"Non-endemic\"),\" \",IF(COUNTRY_INFO!A76=0,\" \",COUNTRY_INFO!A76))","v":"Angola"},{"$f":"IF(AND(INTRO!$E$37=\"Non-endemic\",INTRO!$E$41=\"Non-endemic\"),\" \",IF(COUNTRY_INFO!B76=0,\" \",COUNTRY_INFO!B76))","v":"HUAMBO"},{"$f":"IF(AND(INTRO!$E$37=\"Non-endemic\",INTRO!$E$41=\"Non-endemic\"),\" \",IF(COUNTRY_INFO!C76=0,\" \",COUNTRY_INFO!C76))","v":"BAILUNDO"},{"$f":"IF(AND(INTRO!$E$37=\"Non-endemic\",INTRO!$E$41=\"Non-endemic\"),0,COUNTRY_INFO!W76)","v":0},{"$f":"IF(AND(INTRO!$E$37=\"Non-endemic\",INTRO!$E$41=\"Non-endemic\"),0,COUNTRY_INFO!Y76)","v":1},{"$f":"IF($D76=1,IVM!G76,0)","v":0},{"$f":"IF($D76=0, \" \", IF(COUNTRY_INFO!$H76=1, IF(COUNTRY_INFO!$L76=1, 0,\" \"),\" \"))","v":" "},null,0,{"$f":"IF(OR(COUNTRY_INFO!O76=\"Unknown\",COUNTRY_INFO!O76=\"Surveillance\",COUNTRY_INFO!O76=\"Not required\",COUNTRY_INFO!O76=0),0,IF(INTRO!$E$39=\"Non-endemic\",IF(AND($E76<>0,$I76=\"\"),IF($F76=0,COUNTRY_INFO!O76*$E76,COUNTRY_INFO!O76*($E76-$D76)),IF(AND($E76<>0,$I76<>0),IF($F76=0,COUNTRY_INFO!O76*$I76,COUNTRY_INFO!O76*($I76-$D76)),0)),IF($I76=\"\",COUNTRY_INFO!O76*$E76,COUNTRY_INFO!O76*$I76)))","v":0},{"$f":"MAX(0,IF(OR(COUNTRY_INFO!P76=\"Unknown\",COUNTRY_INFO!P76=\"Surveillance\",COUNTRY_INFO!P76=\"Not required\",COUNTRY_INFO!P76=0),0,IF($E76<>0,IF($D76=0,COUNTRY_INFO!P76*$E76,COUNTRY_INFO!P76*$E76-($F76*COUNTRY_INFO!$P76/(COUNTRY_INFO!$F76+COUNTRY_INFO!$G76)+IF($G76=\" \",0,COUNTRY_INFO!$P76/(COUNTRY_INFO!$F76+COUNTRY_INFO!$G76)*$G76*$H76))),0)))","v":109487},null,{"$f":"MAX(0,IF(OR(COUNTRY_INFO!Q76=\"Unknown\",COUNTRY_INFO!Q76=\"Surveillance\",COUNTRY_INFO!Q76=\"Not required\",COUNTRY_INFO!Q76=0),0,IF($E76<>0,IF($D76=0,COUNTRY_INFO!Q76*MIN($E76,$L76),COUNTRY_INFO!Q76*MIN($E76,$L76)-($F76*COUNTRY_INFO!$Q76/(COUNTRY_INFO!$F76+COUNTRY_INFO!$G76)+IF($G76=\" \",0,COUNTRY_INFO!$Q76/(COUNTRY_INFO!$F76+COUNTRY_INFO!$G76)*$G76*$H76))),0)))","v":90885},200372,0,null,0,200372,null,200372,0,null,0]
[{"$f":"IF(AND(INTRO!$E$37=\"Non-endemic\",INTRO!$E$41=\"Non-endemic\"),\" \",IF(COUNTRY_INFO!A77=0,\" \",COUNTRY_INFO!A77))","v":"Angola"},{"$f":"IF(AND(INTRO!$E$37=\"Non-endemic\",INTRO!$E$41=\"Non-endemic\"),\" \",IF(COUNTRY_INFO!B77=0,\" \",COUNTRY_INFO!B77))","v":"HUAMBO"},{"$f":"IF(AND(INTRO!$E$37=\"Non-endemic\",INTRO!$E$41=\"Non-endemic\"),\" \",IF(COUNTRY_INFO!C77=0,\" \",COUNTRY_INFO!C77))","v":"CAALA"},{"$f":"IF(AND(INTRO!$E$37=\"Non-endemic\",INTRO!$E$41=\"Non-endemic\"),0,COUNTRY_INFO!W77)","v":0},{"$f":"IF(AND(INTRO!$E$37=\"Non-endemic\",INTRO!$E$41=\"Non-endemic\"),0,COUNTRY_INFO!Y77)","v":1},{"$f":"IF($D77=1,IVM!G77,0)","v":0},{"$f":"IF($D77=0, \" \", IF(COUNTRY_INFO!$H77=1, IF(COUNTRY_INFO!$L77=1, 0,\" \"),\" \"))","v":" "},null,1,{"$f":"IF(OR(COUNTRY_INFO!O77=\"Unknown\",COUNTRY_INFO!O77=\"Surveillance\",COUNTRY_INFO!O77=\"Not required\",COUNTRY_INFO!O77=0),0,IF(INTRO!$E$39=\"Non-endemic\",IF(AND($E77<>0,$I77=\"\"),IF($F77=0,COUNTRY_INFO!O77*$E77,COUNTRY_INFO!O77*($E77-$D77)),IF(AND($E77<>0,$I77<>0),IF($F77=0,COUNTRY_INFO!O77*$I77,COUNTRY_INFO!O77*($I77-$D77)),0)),IF($I77=\"\",COUNTRY_INFO!O77*$E77,COUNTRY_INFO!O77*$I77)))","v":50964},{"$f":"MAX(0,IF(OR(COUNTRY_INFO!P77=\"Unknown\",COUNTRY_INFO!P77=\"Surveillance\",COUNTRY_INFO!P77=\"Not required\",COUNTRY_INFO!P77=0),0,IF($E77<>0,IF($D77=0,COUNTRY_INFO!P77*$E77,COUNTRY_INFO!P77*$E77-($F77*COUNTRY_INFO!$P77/(COUNTRY_INFO!$F77+COUNTRY_INFO!$G77)+IF($G77=\" \",0,COUNTRY_INFO!$P77/(COUNTRY_INFO!$F77+COUNTRY_INFO!$G77)*$G77*$H77))),0)))","v":104021},null,{"$f":"MAX(0,IF(OR(COUNTRY_INFO!Q77=\"Unknown\",COUNTRY_INFO!Q77=\"Surveillance\",COUNTRY_INFO!Q77=\"Not required\",COUNTRY_INFO!Q77=0),0,IF($E77<>0,IF($D77=0,COUNTRY_INFO!Q77*MIN($E77,$L77),COUNTRY_INFO!Q77*MIN($E77,$L77)-($F77*COUNTRY_INFO!$Q77/(COUNTRY_INFO!$F77+COUNTRY_INFO!$G77)+IF($G77=\" \",0,COUNTRY_INFO!$Q77/(COUNTRY_INFO!$F77+COUNTRY_INFO!$G77)*$G77*$H77))),0)))","v":86348},241333,0,null,0,241333,null,241333,0,null,0]
[{"$f":"IF(AND(INTRO!$E$37=\"Non-endemic\",INTRO!$E$41=\"Non-endemic\"),\" \",IF(COUNTRY_INFO!A78=0,\" \",COUNTRY_INFO!A78))","v":"Angola"},{"$f":"IF(AND(INTRO!$E$37=\"Non-endemic\",INTRO!$E$41=\"Non-endemic\"),\" \",IF(COUNTRY_INFO!B78=0,\" \",COUNTRY_INFO!B78))","v":"HUAMBO"},{"$f":"IF(AND(INTRO!$E$37=\"Non-endemic\",INTRO!$E$41=\"Non-endemic\"),\" \",IF(COUNTRY_INFO!C78=0,\" \",COUNTRY_INFO!C78))","v":"CACHIUNGO"},{"$f":"IF(AND(INTRO!$E$37=\"Non-endemic\",INTRO!$E$41=\"Non-endemic\"),0,COUNTRY_INFO!W78)","v":0},{"$f":"IF(AND(INTRO!$E$37=\"Non-endemic\",INTRO!$E$41=\"Non-endemic\"),0,COUNTRY_INFO!Y78)","v":1},{"$f":"IF($D78=1,IVM!G78,0)","v":0},{"$f":"IF($D78=0, \" \", IF(COUNTRY_INFO!$H78=1, IF(COUNTRY_INFO!$L78=1, 0,\" \"),\" \"))","v":" "},null,0,{"$f":"IF(OR(COUNTRY_INFO!O78=\"Unknown\",COUNTRY_INFO!O78=\"Surveillance\",COUNTRY_INFO!O78=\"Not required\",COUNTRY_INFO!O78=0),0,IF(INTRO!$E$39=\"Non-endemic\",IF(AND($E78<>0,$I78=\"\"),IF($F78=0,COUNTRY_INFO!O78*$E78,COUNTRY_INFO!O78*($E78-$D78)),IF(AND($E78<>0,$I78<>0),IF($F78=0,COUNTRY_INFO!O78*$I78,COUNTRY_INFO!O78*($I78-$D78)),0)),IF($I78=\"\",COUNTRY_INFO!O78*$E78,COUNTRY_INFO!O78*$I78)))","v":0},{"$f":"MAX(0,IF(OR(COUNTRY_INFO!P78=\"Unknown\",COUNTRY_INFO!P78=\"Surveillance\",COUNTRY_INFO!P78=\"Not required\",COUNTRY_INFO!P78=0),0,IF($E78<>0,IF($D78=0,COUNTRY_INFO!P78*$E78,COUNTRY_INFO!P78*$E78-($F78*COUNTRY_INFO!$P78/(COUNTRY_INFO!$F78+COUNTRY_INFO!$G78)+IF($G78=\" \",0,COUNTRY_INFO!$P78/(COUNTRY_INFO!$F78+COUNTRY_INFO!$G78)*$G78*$H78))),0)))","v":44866},null,{"$f":"MAX(0,IF(OR(COUNTRY_INFO!Q78=\"Unknown\",COUNTRY_INFO!Q78=\"Surveillance\",COUNTRY_INFO!Q78=\"Not required\",COUNTRY_INFO!Q78=0),0,IF($E78<>0,IF($D78=0,COUNTRY_INFO!Q78*MIN($E78,$L78),COUNTRY_INFO!Q78*MIN($E78,$L78)-($F78*COUNTRY_INFO!$Q78/(COUNTRY_INFO!$F78+COUNTRY_INFO!$G78)+IF($G78=\" \",0,COUNTRY_INFO!$Q78/(COUNTRY_INFO!$F78+COUNTRY_INFO!$G78)*$G78*$H78))),0)))","v":37243},82109,0,null,0,82109,null,82109,0,null,0]
[{"$f":"IF(AND(INTRO!$E$37=\"Non-endemic\",INTRO!$E$41=\"Non-endemic\"),\" \",IF(COUNTRY_INFO!A79=0,\" \",COUNTRY_INFO!A79))","v":"Angola"},{"$f":"IF(AND(INTRO!$E$37=\"Non-endemic\",INTRO!$E$41=\"Non-endemic\"),\" \",IF(COUNTRY_INFO!B79=0,\" \",COUNTRY_INFO!B79))","v":"HUAMBO"},{"$f":"IF(AND(INTRO!$E$37=\"Non-endemic\",INTRO!$E$41=\"Non-endemic\"),\" \",IF(COUNTRY_INFO!C79=0,\" \",COUNTRY_INFO!C79))","v":"CHICALA CHOLOHANGA"},{"$f":"IF(AND(INTRO!$E$37=\"Non-endemic\",INTRO!$E$41=\"Non-endemic\"),0,COUNTRY_INFO!W79)","v":0},{"$f":"IF(AND(INTRO!$E$37=\"Non-endemic\",INTRO!$E$41=\"Non-endemic\"),0,COUNTRY_INFO!Y79)","v":1},{"$f":"IF($D79=1,IVM!G79,0)","v":0},{"$f":"IF($D79=0, \" \", IF(COUNTRY_INFO!$H79=1, IF(COUNTRY_INFO!$L79=1, 0,\" \"),\" \"))","v":" "},null,0,{"$f":"IF(OR(COUNTRY_INFO!O79=\"Unknown\",COUNTRY_INFO!O79=\"Surveillance\",COUNTRY_INFO!O79=\"Not required\",COUNTRY_INFO!O79=0),0,IF(INTRO!$E$39=\"Non-endemic\",IF(AND($E79<>0,$I79=\"\"),IF($F79=0,COUNTRY_INFO!O79*$E79,COUNTRY_INFO!O79*($E79-$D79)),IF(AND($E79<>0,$I79<>0),IF($F79=0,COUNTRY_INFO!O79*$I79,COUNTRY_INFO!O79*($I79-$D79)),0)),IF($I79=\"\",COUNTRY_INFO!O79*$E79,COUNTRY_INFO!O79*$I79)))","v":0},{"$f":"MAX(0,IF(OR(COUNTRY_INFO!P79=\"Unknown\",COUNTRY_INFO!P79=\"Surveillance\",COUNTRY_INFO!P79=\"Not required\",COUNTRY_INFO!P79=0),0,IF($E79<>0,IF($D79=0,COUNTRY_INFO!P79*$E79,COUNTRY_INFO!P79*$E79-($F79*COUNTRY_INFO!$P79/(COUNTRY_INFO!$F79+COUNTRY_INFO!$G79)+IF($G79=\" \",0,COUNTRY_INFO!$P79/(COUNTRY_INFO!$F79+COUNTRY_INFO!$G79)*$G79*$H79))),0)))","v":38533},null,{"$f":"MAX(0,IF(OR(COUNTRY_INFO!Q79=\"Unknown\",COUNTRY_INFO!Q79=\"Surveillance\",COUNTRY_INFO!Q79=\"Not required\",COUNTRY_INFO!Q79=0),0,IF($E79<>0,IF($D79=0,COUNTRY_INFO!Q79*MIN($E79,$L79),COUNTRY_INFO!Q79*MIN($E79,$L79)-($F79*COUNTRY_INFO!$Q79/(COUNTRY_INFO!$F79+COUNTRY_INFO!$G79)+IF($G79=\" \",0,COUNTRY_INFO!$Q79/(COUNTRY_INFO!$F79+COUNTRY_INFO!$G79)*$G79*$H79))),0)))","v":31987},70520,0,null,0,70520,null,70520,0,null,0]
[{"$f":"IF(AND(INTRO!$E$37=\"Non-endemic\",INTRO!$E$41=\"Non-endemic\"),\" \",IF(COUNTRY_INFO!A80=0,\" \",COUNTRY_INFO!A80))","v":"Angola"},{"$f":"IF(AND(INTRO!$E$37=\"Non-endemic\",INTRO!$E$41=\"Non-endemic\"),\" \",IF(COUNTRY_INFO!B80=0,\" \",COUNTRY_INFO!B80))","v":"HUAMBO"},{"$f":"IF(AND(INTRO!$E$37=\"Non-endemic\",INTRO!$E$41=\"Non-endemic\"),\" \",IF(COUNTRY_INFO!C80=0,\" \",COUNTRY_INFO!C80))","v":"CHINDJENJE"},{"$f":"IF(AND(INTRO!$E$37=\"Non-endemic\",INTRO!$E$41=\"Non-endemic\"),0,COUNTRY_INFO!W80)","v":0},{"$f":"IF(AND(INTRO!$E$37=\"Non-endemic\",INTRO!$E$41=\"Non-endemic\"),0,COUNTRY_INFO!Y80)","v":1},{"$f":"IF($D80=1,IVM!G80,0)","v":0},{"$f":"IF($D80=0, \" \", IF(COUNTRY_INFO!$H80=1, IF(COUNTRY_INFO!$L80=1, 0,\" \"),\" \"))","v":" "},null,0,{"$f":"IF(OR(COUNTRY_INFO!O80=\"Unknown\",COUNTRY_INFO!O80=\"Surveillance\",COUNTRY_INFO!O80=\"Not required\",COUNTRY_INFO!O80=0),0,IF(INTRO!$E$39=\"Non-endemic\",IF(AND($E80<>0,$I80=\"\"),IF($F80=0,COUNTRY_INFO!O80*$E80,COUNTRY_INFO!O80*($E80-$D80)),IF(AND($E80<>0,$I80<>0),IF($F80=0,COUNTRY_INFO!O80*$I80,COUNTRY_INFO!O80*($I80-$D80)),0)),IF($I80=\"\",COUNTRY_INFO!O80*$E80,COUNTRY_INFO!O80*$I80)))","v":0},{"$f":"MAX(0,IF(OR(COUNTRY_INFO!P80=\"Unknown\",COUNTRY_INFO!P80=\"Surveillance\",COUNTRY_INFO!P80=\"Not required\",COUNTRY_INFO!P80=0),0,IF($E80<>0,IF($D80=0,COUNTRY_INFO!P80*$E80,COUNTRY_INFO!P80*$E80-($F80*COUNTRY_INFO!$P80/(COUNTRY_INFO!$F80+COUNTRY_INFO!$G80)+IF($G80=\" \",0,COUNTRY_INFO!$P80/(COUNTRY_INFO!$F80+COUNTRY_INFO!$G80)*$G80*$H80))),0)))","v":11318},null,{"$f":"MAX(0,IF(OR(COUNTRY_INFO!Q80=\"Unknown\",COUNTRY_INFO!Q80=\"Surveillance\",COUNTRY_INFO!Q80=\"Not required\",COUNTRY_INFO!Q80=0),0,IF($E80<>0,IF($D80=0,COUNTRY_INFO!Q80*MIN($E80,$L80),COUNTRY_INFO!Q80*MIN($E80,$L80)-($F80*COUNTRY_INFO!$Q80/(COUNTRY_INFO!$F80+COUNTRY_INFO!$G80)+IF($G80=\" \",0,COUNTRY_INFO!$Q80/(COUNTRY_INFO!$F80+COUNTRY_INFO!$G80)*$G80*$H80))),0)))","v":9395},20713,0,null,0,20713,null,20713,0,null,0]
[{"$f":"IF(AND(INTRO!$E$37=\"Non-endemic\",INTRO!$E$41=\"Non-endemic\"),\" \",IF(COUNTRY_INFO!A81=0,\" \",COUNTRY_INFO!A81))","v":"Angola"},{"$f":"IF(AND(INTRO!$E$37=\"Non-endemic\",INTRO!$E$41=\"Non-endemic\"),\" \",IF(COUNTRY_INFO!B81=0,\" \",COUNTRY_INFO!B81))","v":"HUAMBO"},{"$f":"IF(AND(INTRO!$E$37=\"Non-endemic\",INTRO!$E$41=\"Non-endemic\"),\" \",IF(COUNTRY_INFO!C81=0,\" \",COUNTRY_INFO!C81))","v":"ECUNHA"},{"$f":"IF(AND(INTRO!$E$37=\"Non-endemic\",INTRO!$E$41=\"Non-endemic\"),0,COUNTRY_INFO!W81)","v":0},{"$f":"IF(AND(INTRO!$E$37=\"Non-endemic\",INTRO!$E$41=\"Non-endemic\"),0,COUNTRY_INFO!Y81)","v":1},{"$f":"IF($D81=1,IVM!G81,0)","v":0},{"$f":"IF($D81=0, \" \", IF(COUNTRY_INFO!$H81=1, IF(COUNTRY_INFO!$L81=1, 0,\" \"),\" \"))","v":" "},null,0,{"$f":"IF(OR(COUNTRY_INFO!O81=\"Unknown\",COUNTRY_INFO!O81=\"Surveillance\",COUNTRY_INFO!O81=\"Not required\",COUNTRY_INFO!O81=0),0,IF(INTRO!$E$39=\"Non-endemic\",IF(AND($E81<>0,$I81=\"\"),IF($F81=0,COUNTRY_INFO!O81*$E81,COUNTRY_INFO!O81*($E81-$D81)),IF(AND($E81<>0,$I81<>0),IF($F81=0,COUNTRY_INFO!O81*$I81,COUNTRY_INFO!O81*($I81-$D81)),0)),IF($I81=\"\",COUNTRY_INFO!O81*$E81,COUNTRY_INFO!O81*$I81)))","v":0},{"$f":"MAX(0,IF(OR(COUNTRY_INFO!P81=\"Unknown\",COUNTRY_INFO!P81=\"Surveillance\",COUNTRY_INFO!P81=\"Not required\",COUNTRY_INFO!P81=0),0,IF($E81<>0,IF($D81=0,COUNTRY_INFO!P81*$E81,COUNTRY_INFO!P81*$E81-($F81*COUNTRY_INFO!$P81/(COUNTRY_INFO!$F81+COUNTRY_INFO!$G81)+IF($G81=\" \",0,COUNTRY_INFO!$P81/(COUNTRY_INFO!$F81+COUNTRY_INFO!$G81)*$G81*$H81))),0)))","v":30687},null,{"$f":"MAX(0,IF(OR(COUNTRY_INFO!Q81=\"Unknown\",COUNTRY_INFO!Q81=\"Surveillance\",COUNTRY_INFO!Q81=\"Not required\",COUNTRY_INFO!Q81=0),0,IF($E81<>0,IF($D81=0,COUNTRY_INFO!Q81*MIN($E81,$L81),COUNTRY_INFO!Q81*MIN($E81,$L81)-($F81*COUNTRY_INFO!$Q81/(COUNTRY_INFO!$F81+COUNTRY_INFO!$G81)+IF($G81=\" \",0,COUNTRY_INFO!$Q81/(COUNTRY_INFO!$F81+COUNTRY_INFO!$G81)*$G81*$H81))),0)))","v":25473},56160,0,null,0,56160,null,56160,0,null,0]
[{"$f":"IF(AND(INTRO!$E$37=\"Non-endemic\",INTRO!$E$41=\"Non-endemic\"),\" \",IF(COUNTRY_INFO!A82=0,\" \",COUNTRY_INFO!A82))","v":"Angola"},{"$f":"IF(AND(INTRO!$E$37=\"Non-endemic\",INTRO!$E$41=\"Non-endemic\"),\" \",IF(COUNTRY_INFO!B82=0,\" \",COUNTRY_INFO!B82))","v":"HUAMBO"},{"$f":"IF(AND(INTRO!$E$37=\"Non-endemic\",INTRO!$E$41=\"Non-endemic\"),\" \",IF(COUNTRY_INFO!C82=0,\" \",COUNTRY_INFO!C82))","v":"HUAMBO"},{"$f":"IF(AND(INTRO!$E$37=\"Non-endemic\",INTRO!$E$41=\"Non-endemic\"),0,COUNTRY_INFO!W82)","v":0},{"$f":"IF(AND(INTRO!$E$37=\"Non-endemic\",INTRO!$E$41=\"Non-endemic\"),0,COUNTRY_INFO!Y82)","v":1},{"$f":"IF($D82=1,IVM!G82,0)","v":0},{"$f":"IF($D82=0, \" \", IF(COUNTRY_INFO!$H82=1, IF(COUNTRY_INFO!$L82=1, 0,\" \"),\" \"))","v":" "},null,0,{"$f":"IF(OR(COUNTRY_INFO!O82=\"Unknown\",COUNTRY_INFO!O82=\"Surveillance\",COUNTRY_INFO!O82=\"Not required\",COUNTRY_INFO!O82=0),0,IF(INTRO!$E$39=\"Non-endemic\",IF(AND($E82<>0,$I82=\"\"),IF($F82=0,COUNTRY_INFO!O82*$E82,COUNTRY_INFO!O82*($E82-$D82)),IF(AND($E82<>0,$I82<>0),IF($F82=0,COUNTRY_INFO!O82*$I82,COUNTRY_INFO!O82*($I82-$D82)),0)),IF($I82=\"\",COUNTRY_INFO!O82*$E82,COUNTRY_INFO!O82*$I82)))","v":0},{"$f":"MAX(0,IF(OR(COUNTRY_INFO!P82=\"Unknown\",COUNTRY_INFO!P82=\"Surveillance\",COUNTRY_INFO!P82=\"Not required\",COUNTRY_INFO!P82=0),0,IF($E82<>0,IF($D82=0,COUNTRY_INFO!P82*$E82,COUNTRY_INFO!P82*$E82-($F82*COUNTRY_INFO!$P82/(COUNTRY_INFO!$F82+COUNTRY_INFO!$G82)+IF($G82=\" \",0,COUNTRY_INFO!$P82/(COUNTRY_INFO!$F82+COUNTRY_INFO!$G82)*$G82*$H82))),0)))","v":265129},null,{"$f":"MAX(0,IF(OR(COUNTRY_INFO!Q82=\"Unknown\",COUNTRY_INFO!Q82=\"Surveillance\",COUNTRY_INFO!Q82=\"Not required\",COUNTRY_INFO!Q82=0),0,IF($E82<>0,IF($D82=0,COUNTRY_INFO!Q82*MIN($E82,$L82),COUNTRY_INFO!Q82*MIN($E82,$L82)-($F82*COUNTRY_INFO!$Q82/(COUNTRY_INFO!$F82+COUNTRY_INFO!$G82)+IF($G82=\" \",0,COUNTRY_INFO!$Q82/(COUNTRY_INFO!$F82+COUNTRY_INFO!$G82)*$G82*$H82))),0)))","v":220084},485213,0,null,0,485213,null,485213,0,null,0]
[{"$f":"IF(AND(INTRO!$E$37=\"Non-endemic\",INTRO!$E$41=\"Non-endemic\"),\" \",IF(COUNTRY_INFO!A83=0,\" \",COUNTRY_INFO!A83))","v":"Angola"},{"$f":"IF(AND(INTRO!$E$37=\"Non-endemic\",INTRO!$E$41=\"Non-endemic\"),\" \",IF(COUNTRY_INFO!B83=0,\" \",COUNTRY_INFO!B83))","v":"HUAMBO"},{"$f":"IF(AND(INTRO!$E$37=\"Non-endemic\",INTRO!$E$41=\"Non-endemic\"),\" \",IF(COUNTRY_INFO!C83=0,\" \",COUNTRY_INFO!C83))","v":"LONDUIMBALI"},{"$f":"IF(AND(INTRO!$E$37=\"Non-endemic\",INTRO!$E$41=\"Non-endemic\"),0,COUNTRY_INFO!W83)","v":0},{"$f":"IF(AND(INTRO!$E$37=\"Non-endemic\",INTRO!$E$41=\"Non-endemic\"),0,COUNTRY_INFO!Y83)","v":1},{"$f":"IF($D83=1,IVM!G83,0)","v":0},{"$f":"IF($D83=0, \" \", IF(COUNTRY_INFO!$H83=1, IF(COUNTRY_INFO!$L83=1, 0,\" \"),\" \"))","v":" "},null,0,{"$f":"IF(OR(COUNTRY_INFO!O83=\"Unknown\",COUNTRY_INFO!O83=\"Surveillance\",COUNTRY_INFO!O83=\"Not required\",COUNTRY_INFO!O83=0),0,IF(INTRO!$E$39=\"Non-endemic\",IF(AND($E83<>0,$I83=\"\"),IF($F83=0,COUNTRY_INFO!O83*$E83,COUNTRY_INFO!O83*($E83-$D83)),IF(AND($E83<>0,$I83<>0),IF($F83=0,COUNTRY_INFO!O83*$I83,COUNTRY_INFO!O83*($I83-$D83)),0)),IF($I83=\"\",COUNTRY_INFO!O83*$E83,COUNTRY_INFO!O83*$I83)))","v":0},{"$f":"MAX(0,IF(OR(COUNTRY_INFO!P83=\"Unknown\",COUNTRY_INFO!P83=\"Surveillance\",COUNTRY_INFO!P83=\"Not required\",COUNTRY_INFO!P83=0),0,IF($E83<>0,IF($D83=0,COUNTRY_INFO!P83*$E83,COUNTRY_INFO!P83*$E83-($F83*COUNTRY_INFO!$P83/(COUNTRY_INFO!$F83+COUNTRY_INFO!$G83)+IF($G83=\" \",0,COUNTRY_INFO!$P83/(COUNTRY_INFO!$F83+COUNTRY_INFO!$G83)*$G83*$H83))),0)))","v":49913},null,{"$f":"MAX(0,IF(OR(COUNTRY_INFO!Q83=\"Unknown\",COUNTRY_INFO!Q83=\"Surveillance\",COUNTRY_INFO!Q83=\"Not required\",COUNTRY_INFO!Q83=0),0,IF($E83<>0,IF($D83=0,COUNTRY_INFO!Q83*MIN($E83,$L83),COUNTRY_INFO!Q83*MIN($E83,$L83)-($F83*COUNTRY_INFO!$Q83/(COUNTRY_INFO!$F83+COUNTRY_INFO!$G83)+IF($G83=\" \",0,COUNTRY_INFO!$Q83/(COUNTRY_INFO!$F83+COUNTRY_INFO!$G83)*$G83*$H83))),0)))","v":41433},91346,0,null,0,91346,null,91346,0,null,0]
[{"$f":"IF(AND(INTRO!$E$37=\"Non-endemic\",INTRO!$E$41=\"Non-endemic\"),\" \",IF(COUNTRY_INFO!A84=0,\" \",COUNTRY_INFO!A84))","v":"Angola"},{"$f":"IF(AND(INTRO!$E$37=\"Non-endemic\",INTRO!$E$41=\"Non-endemic\"),\" \",IF(COUNTRY_INFO!B84=0,\" \",COUNTRY_INFO!B84))","v":"HUAMBO"},{"$f":"IF(AND(INTRO!$E$37=\"Non-endemic\",INTRO!$E$41=\"Non-endemic\"),\" \",IF(COUNTRY_INFO!C84=0,\" \",COUNTRY_INFO!C84))","v":"LONGONJO"},{"$f":"IF(AND(INTRO!$E$37=\"Non-endemic\",INTRO!$E$41=\"Non-endemic\"),0,COUNTRY_INFO!W84)","v":0},{"$f":"IF(AND(INTRO!$E$37=\"Non-endemic\",INTRO!$E$41=\"Non-endemic\"),0,COUNTRY_INFO!Y84)","v":1},{"$f":"IF($D84=1,IVM!G84,0)","v":0},{"$f":"IF($D84=0, \" \", IF(COUNTRY_INFO!$H84=1, IF(COUNTRY_INFO!$L84=1, 0,\" \"),\" \"))","v":" "},null,0,{"$f":"IF(OR(COUNTRY_INFO!O84=\"Unknown\",COUNTRY_INFO!O84=\"Surveillance\",COUNTRY_INFO!O84=\"Not required\",COUNTRY_INFO!O84=0),0,IF(INTRO!$E$39=\"Non-endemic\",IF(AND($E84<>0,$I84=\"\"),IF($F84=0,COUNTRY_INFO!O84*$E84,COUNTRY_INFO!O84*($E84-$D84)),IF(AND($E84<>0,$I84<>0),IF($F84=0,COUNTRY_INFO!O84*$I84,COUNTRY_INFO!O84*($I84-$D84)),0)),IF($I84=\"\",COUNTRY_INFO!O84*$E84,COUNTRY_INFO!O84*$I84)))","v":0},{"$f":"MAX(0,IF(OR(COUNTRY_INFO!P84=\"Unknown\",COUNTRY_INFO!P84=\"Surveillance\",COUNTRY_INFO!P84=\"Not required\",COUNTRY_INFO!P84=0),0,IF($E84<>0,IF($D84=0,COUNTRY_INFO!P84*$E84,COUNTRY_INFO!P84*$E84-($F84*COUNTRY_INFO!$P84/(COUNTRY_INFO!$F84+COUNTRY_INFO!$G84)+IF($G84=\" \",0,COUNTRY_INFO!$P84/(COUNTRY_INFO!$F84+COUNTRY_INFO!$G84)*$G84*$H84))),0)))","v":34242},null,{"$f":"MAX(0,IF(OR(COUNTRY_INFO!Q84=\"Unknown\",COUNTRY_INFO!Q84=\"Surveillance\",COUNTRY_INFO!Q84=\"Not required\",COUNTRY_INFO!Q84=0),0,IF($E84<>0,IF($D84=0,COUNTRY_INFO!Q84*MIN($E84,$L84),COUNTRY_INFO!Q84*MIN($E84,$L84)-($F84*COUNTRY_INFO!$Q84/(COUNTRY_INFO!$F84+COUNTRY_INFO!$G84)+IF($G84=\" \",0,COUNTRY_INFO!$Q84/(COUNTRY_INFO!$F84+COUNTRY_INFO!$G84)*$G84*$H84))),0)))","v":28424},62666,0,null,0,62666,null,62666,0,null,0]
[{"$f":"IF(AND(INTRO!$E$37=\"Non-endemic\",INTRO!$E$41=\"Non-endemic\"),\" \",IF(COUNTRY_INFO!A85=0,\" \",COUNTRY_INFO!A85))","v":"Angola"},{"$f":"IF(AND(INTRO!$E$37=\"Non-endemic\",INTRO!$E$41=\"Non-endemic\"),\" \",IF(COUNTRY_INFO!B85=0,\" \",COUNTRY_INFO!B85))","v":"HUAMBO"},{"$f":"IF(AND(INTRO!$E$37=\"Non-endemic\",INTRO!$E$41=\"Non-endemic\"),\" \",IF(COUNTRY_INFO!C85=0,\" \",COUNTRY_INFO!C85))","v":"MUNGO"},{"$f":"IF(AND(INTRO!$E$37=\"Non-endemic\",INTRO!$E$41=\"Non-endemic\"),0,COUNTRY_INFO!W85)","v":0},{"$f":"IF(AND(INTRO!$E$37=\"Non-endemic\",INTRO!$E$41=\"Non-endemic\"),0,COUNTRY_INFO!Y85)","v":1},{"$f":"IF($D85=1,IVM!G85,0)","v":0},{"$f":"IF($D85=0, \" \", IF(COUNTRY_INFO!$H85=1, IF(COUNTRY_INFO!$L85=1, 0,\" \"),\" \"))","v":" "},null,0,{"$f":"IF(OR(COUNTRY_INFO!O85=\"Unknown\",COUNTRY_INFO!O85=\"Surveillance\",COUNTRY_INFO!O85=\"Not required\",COUNTRY_INFO!O85=0),0,IF(INTRO!$E$39=\"Non-endemic\",IF(AND($E85<>0,$I85=\"\"),IF($F85=0,COUNTRY_INFO!O85*$E85,COUNTRY_INFO!O85*($E85-$D85)),IF(AND($E85<>0,$I85<>0),IF($F85=0,COUNTRY_INFO!O85*$I85,COUNTRY_INFO!O85*($I85-$D85)),0)),IF($I85=\"\",COUNTRY_INFO!O85*$E85,COUNTRY_INFO!O85*$I85)))","v":0},{"$f":"MAX(0,IF(OR(COUNTRY_INFO!P85=\"Unknown\",COUNTRY_INFO!P85=\"Surveillance\",COUNTRY_INFO!P85=\"Not required\",COUNTRY_INFO!P85=0),0,IF($E85<>0,IF($D85=0,COUNTRY_INFO!P85*$E85,COUNTRY_INFO!P85*$E85-($F85*COUNTRY_INFO!$P85/(COUNTRY_INFO!$F85+COUNTRY_INFO!$G85)+IF($G85=\" \",0,COUNTRY_INFO!$P85/(COUNTRY_INFO!$F85+COUNTRY_INFO!$G85)*$G85*$H85))),0)))","v":42166},null,{"$f":"MAX(0,IF(OR(COUNTRY_INFO!Q85=\"Unknown\",COUNTRY_INFO!Q85=\"Surveillance\",COUNTRY_INFO!Q85=\"Not required\",COUNTRY_INFO!Q85=0),0,IF($E85<>0,IF($D85=0,COUNTRY_INFO!Q85*MIN($E85,$L85),COUNTRY_INFO!Q85*MIN($E85,$L85)-($F85*COUNTRY_INFO!$Q85/(COUNTRY_INFO!$F85+COUNTRY_INFO!$G85)+IF($G85=\" \",0,COUNTRY_INFO!$Q85/(COUNTRY_INFO!$F85+COUNTRY_INFO!$G85)*$G85*$H85))),0)))","v":35002},77168,0,null,0,77168,null,77168,0,null,0]
[{"$f":"IF(AND(INTRO!$E$37=\"Non-endemic\",INTRO!$E$41=\"Non-endemic\"),\" \",IF(COUNTRY_INFO!A86=0,\" \",COUNTRY_INFO!A86))","v":"Angola"},{"$f":"IF(AND(INTRO!$E$37=\"Non-endemic\",INTRO!$E$41=\"Non-endemic\"),\" \",IF(COUNTRY_INFO!B86=0,\" \",COUNTRY_INFO!B86))","v":"HUAMBO"},{"$f":"IF(AND(INTRO!$E$37=\"Non-endemic\",INTRO!$E$41=\"Non-endemic\"),\" \",IF(COUNTRY_INFO!C86=0,\" \",COUNTRY_INFO!C86))","v":"UCUMA"},{"$f":"IF(AND(INTRO!$E$37=\"Non-endemic\",INTRO!$E$41=\"Non-endemic\"),0,COUNTRY_INFO!W86)","v":0},{"$f":"IF(AND(INTRO!$E$37=\"Non-endemic\",INTRO!$E$41=\"Non-endemic\"),0,COUNTRY_INFO!Y86)","v":1},{"$f":"IF($D86=1,IVM!G86,0)","v":0},{"$f":"IF($D86=0, \" \", IF(COUNTRY_INFO!$H86=1, IF(COUNTRY_INFO!$L86=1, 0,\" \"),\" \"))","v":" "},null,1,{"$f":"IF(OR(COUNTRY_INFO!O86=\"Unknown\",COUNTRY_INFO!O86=\"Surveillance\",COUNTRY_INFO!O86=\"Not required\",COUNTRY_INFO!O86=0),0,IF(INTRO!$E$39=\"Non-endemic\",IF(AND($E86<>0,$I86=\"\"),IF($F86=0,COUNTRY_INFO!O86*$E86,COUNTRY_INFO!O86*($E86-$D86)),IF(AND($E86<>0,$I86<>0),IF($F86=0,COUNTRY_INFO!O86*$I86,COUNTRY_INFO!O86*($I86-$D86)),0)),IF($I86=\"\",COUNTRY_INFO!O86*$E86,COUNTRY_INFO!O86*$I86)))","v":10028},{"$f":"MAX(0,IF(OR(COUNTRY_INFO!P86=\"Unknown\",COUNTRY_INFO!P86=\"Surveillance\",COUNTRY_INFO!P86=\"Not required\",COUNTRY_INFO!P86=0),0,IF($E86<>0,IF($D86=0,COUNTRY_INFO!P86*$E86,COUNTRY_INFO!P86*$E86-($F86*COUNTRY_INFO!$P86/(COUNTRY_INFO!$F86+COUNTRY_INFO!$G86)+IF($G86=\" \",0,COUNTRY_INFO!$P86/(COUNTRY_INFO!$F86+COUNTRY_INFO!$G86)*$G86*$H86))),0)))","v":20468},null,{"$f":"MAX(0,IF(OR(COUNTRY_INFO!Q86=\"Unknown\",COUNTRY_INFO!Q86=\"Surveillance\",COUNTRY_INFO!Q86=\"Not required\",COUNTRY_INFO!Q86=0),0,IF($E86<>0,IF($D86=0,COUNTRY_INFO!Q86*MIN($E86,$L86),COUNTRY_INFO!Q86*MIN($E86,$L86)-($F86*COUNTRY_INFO!$Q86/(COUNTRY_INFO!$F86+COUNTRY_INFO!$G86)+IF($G86=\" \",0,COUNTRY_INFO!$Q86/(COUNTRY_INFO!$F86+COUNTRY_INFO!$G86)*$G86*$H86))),0)))","v":16990},47486,0,null,0,47486,null,47486,0,null,0]
[{"$f":"IF(AND(INTRO!$E$37=\"Non-endemic\",INTRO!$E$41=\"Non-endemic\"),\" \",IF(COUNTRY_INFO!A87=0,\" \",COUNTRY_INFO!A87))","v":"Angola"},{"$f":"IF(AND(INTRO!$E$37=\"Non-endemic\",INTRO!$E$41=\"Non-endemic\"),\" \",IF(COUNTRY_INFO!B87=0,\" \",COUNTRY_INFO!B87))","v":"HUILA"},{"$f":"IF(AND(INTRO!$E$37=\"Non-endemic\",INTRO!$E$41=\"Non-endemic\"),\" \",IF(COUNTRY_INFO!C87=0,\" \",COUNTRY_INFO!C87))","v":"CACONDA"},{"$f":"IF(AND(INTRO!$E$37=\"Non-endemic\",INTRO!$E$41=\"Non-endemic\"),0,COUNTRY_INFO!W87)","v":0},{"$f":"IF(AND(INTRO!$E$37=\"Non-endemic\",INTRO!$E$41=\"Non-endemic\"),0,COUNTRY_INFO!Y87)","v":0},{"$f":"IF($D87=1,IVM!G87,0)","v":0},{"$f":"IF($D87=0, \" \", IF(COUNTRY_INFO!$H87=1, IF(COUNTRY_INFO!$L87=1, 0,\" \"),\" \"))","v":" "},null,0,{"$f":"IF(OR(COUNTRY_INFO!O87=\"Unknown\",COUNTRY_INFO!O87=\"Surveillance\",COUNTRY_INFO!O87=\"Not required\",COUNTRY_INFO!O87=0),0,IF(INTRO!$E$39=\"Non-endemic\",IF(AND($E87<>0,$I87=\"\"),IF($F87=0,COUNTRY_INFO!O87*$E87,COUNTRY_INFO!O87*($E87-$D87)),IF(AND($E87<>0,$I87<>0),IF($F87=0,COUNTRY_INFO!O87*$I87,COUNTRY_INFO!O87*($I87-$D87)),0)),IF($I87=\"\",COUNTRY_INFO!O87*$E87,COUNTRY_INFO!O87*$I87)))","v":0},{"$f":"MAX(0,IF(OR(COUNTRY_INFO!P87=\"Unknown\",COUNTRY_INFO!P87=\"Surveillance\",COUNTRY_INFO!P87=\"Not required\",COUNTRY_INFO!P87=0),0,IF($E87<>0,IF($D87=0,COUNTRY_INFO!P87*$E87,COUNTRY_INFO!P87*$E87-($F87*COUNTRY_INFO!$P87/(COUNTRY_INFO!$F87+COUNTRY_INFO!$G87)+IF($G87=\" \",0,COUNTRY_INFO!$P87/(COUNTRY_INFO!$F87+COUNTRY_INFO!$G87)*$G87*$H87))),0)))","v":0},null,{"$f":"MAX(0,IF(OR(COUNTRY_INFO!Q87=\"Unknown\",COUNTRY_INFO!Q87=\"Surveillance\",COUNTRY_INFO!Q87=\"Not required\",COUNTRY_INFO!Q87=0),0,IF($E87<>0,IF($D87=0,COUNTRY_INFO!Q87*MIN($E87,$L87),COUNTRY_INFO!Q87*MIN($E87,$L87)-($F87*COUNTRY_INFO!$Q87/(COUNTRY_INFO!$F87+COUNTRY_INFO!$G87)+IF($G87=\" \",0,COUNTRY_INFO!$Q87/(COUNTRY_INFO!$F87+COUNTRY_INFO!$G87)*$G87*$H87))),0)))","v":0},0,0,null,0,0,null,0,0,null,0]
[{"$f":"IF(AND(INTRO!$E$37=\"Non-endemic\",INTRO!$E$41=\"Non-endemic\"),\" \",IF(COUNTRY_INFO!A88=0,\" \",COUNTRY_INFO!A88))","v":"Angola"},{"$f":"IF(AND(INTRO!$E$37=\"Non-endemic\",INTRO!$E$41=\"Non-endemic\"),\" \",IF(COUNTRY_INFO!B88=0,\" \",COUNTRY_INFO!B88))","v":"HUILA"},{"$f":"IF(AND(INTRO!$E$37=\"Non-endemic\",INTRO!$E$41=\"Non-endemic\"),\" \",IF(COUNTRY_INFO!C88=0,\" \",COUNTRY_INFO!C88))","v":"CACULA"},{"$f":"IF(AND(INTRO!$E$37=\"Non-endemic\",INTRO!$E$41=\"Non-endemic\"),0,COUNTRY_INFO!W88)","v":0},{"$f":"IF(AND(INTRO!$E$37=\"Non-endemic\",INTRO!$E$41=\"Non-endemic\"),0,COUNTRY_INFO!Y88)","v":0},{"$f":"IF($D88=1,IVM!G88,0)","v":0},{"$f":"IF($D88=0, \" \", IF(COUNTRY_INFO!$H88=1, IF(COUNTRY_INFO!$L88=1, 0,\" \"),\" \"))","v":" "},null,0,{"$f":"IF(OR(COUNTRY_INFO!O88=\"Unknown\",COUNTRY_INFO!O88=\"Surveillance\",COUNTRY_INFO!O88=\"Not required\",COUNTRY_INFO!O88=0),0,IF(INTRO!$E$39=\"Non-endemic\",IF(AND($E88<>0,$I88=\"\"),IF($F88=0,COUNTRY_INFO!O88*$E88,COUNTRY_INFO!O88*($E88-$D88)),IF(AND($E88<>0,$I88<>0),IF($F88=0,COUNTRY_INFO!O88*$I88,COUNTRY_INFO!O88*($I88-$D88)),0)),IF($I88=\"\",COUNTRY_INFO!O88*$E88,COUNTRY_INFO!O88*$I88)))","v":0},{"$f":"MAX(0,IF(OR(COUNTRY_INFO!P88=\"Unknown\",COUNTRY_INFO!P88=\"Surveillance\",COUNTRY_INFO!P88=\"Not required\",COUNTRY_INFO!P88=0),0,IF($E88<>0,IF($D88=0,COUNTRY_INFO!P88*$E88,COUNTRY_INFO!P88*$E88-($F88*COUNTRY_INFO!$P88/(COUNTRY_INFO!$F88+COUNTRY_INFO!$G88)+IF($G88=\" \",0,COUNTRY_INFO!$P88/(COUNTRY_INFO!$F88+COUNTRY_INFO!$G88)*$G88*$H88))),0)))","v":0},null,{"$f":"MAX(0,IF(OR(COUNTRY_INFO!Q88=\"Unknown\",COUNTRY_INFO!Q88=\"Surveillance\",COUNTRY_INFO!Q88=\"Not required\",COUNTRY_INFO!Q88=0),0,IF($E88<>0,IF($D88=0,COUNTRY_INFO!Q88*MIN($E88,$L88),COUNTRY_INFO!Q88*MIN($E88,$L88)-($F88*COUNTRY_INFO!$Q88/(COUNTRY_INFO!$F88+COUNTRY_INFO!$G88)+IF($G88=\" \",0,COUNTRY_INFO!$Q88/(COUNTRY_INFO!$F88+COUNTRY_INFO!$G88)*$G88*$H88))),0)))","v":0},0,0,null,0,0,null,0,0,null,0]
[{"$f":"IF(AND(INTRO!$E$37=\"Non-endemic\",INTRO!$E$41=\"Non-endemic\"),\" \",IF(COUNTRY_INFO!A89=0,\" \",COUNTRY_INFO!A89))","v":"Angola"},{"$f":"IF(AND(INTRO!$E$37=\"Non-endemic\",INTRO!$E$41=\"Non-endemic\"),\" \",IF(COUNTRY_INFO!B89=0,\" \",COUNTRY_INFO!B89))","v":"HUILA"},{"$f":"IF(AND(INTRO!$E$37=\"Non-endemic\",INTRO!$E$41=\"Non-endemic\"),\" \",IF(COUNTRY_INFO!C89=0,\" \",COUNTRY_INFO!C89))","v":"CALUQUEMBE"},{"$f":"IF(AND(INTRO!$E$37=\"Non-endemic\",INTRO!$E$41=\"Non-endemic\"),0,COUNTRY_INFO!W89)","v":0},{"$f":"IF(AND(INTRO!$E$37=\"Non-endemic\",INTRO!$E$41=\"Non-endemic\"),0,COUNTRY_INFO!Y89)","v":0},{"$f":"IF($D89=1,IVM!G89,0)","v":0},{"$f":"IF($D89=0, \" \", IF(COUNTRY_INFO!$H89=1, IF(COUNTRY_INFO!$L89=1, 0,\" \"),\" \"))","v":" "},null,0,{"$f":"IF(OR(COUNTRY_INFO!O89=\"Unknown\",COUNTRY_INFO!O89=\"Surveillance\",COUNTRY_INFO!O89=\"Not required\",COUNTRY_INFO!O89=0),0,IF(INTRO!$E$39=\"Non-endemic\",IF(AND($E89<>0,$I89=\"\"),IF($F89=0,COUNTRY_INFO!O89*$E89,COUNTRY_INFO!O89*($E89-$D89)),IF(AND($E89<>0,$I89<>0),IF($F89=0,COUNTRY_INFO!O89*$I89,COUNTRY_INFO!O89*($I89-$D89)),0)),IF($I89=\"\",COUNTRY_INFO!O89*$E89,COUNTRY_INFO!O89*$I89)))","v":0},{"$f":"MAX(0,IF(OR(COUNTRY_INFO!P89=\"Unknown\",COUNTRY_INFO!P89=\"Surveillance\",COUNTRY_INFO!P89=\"Not required\",COUNTRY_INFO!P89=0),0,IF($E89<>0,IF($D89=0,COUNTRY_INFO!P89*$E89,COUNTRY_INFO!P89*$E89-($F89*COUNTRY_INFO!$P89/(COUNTRY_INFO!$F89+COUNTRY_INFO!$G89)+IF($G89=\" \",0,COUNTRY_INFO!$P89/(COUNTRY_INFO!$F89+COUNTRY_INFO!$G89)*$G89*$H89))),0)))","v":0},null,{"$f":"MAX(0,IF(OR(COUNTRY_INFO!Q89=\"Unknown\",COUNTRY_INFO!Q89=\"Surveillance\",COUNTRY_INFO!Q89=\"Not required\",COUNTRY_INFO!Q89=0),0,IF($E89<>0,IF($D89=0,COUNTRY_INFO!Q89*MIN($E89,$L89),COUNTRY_INFO!Q89*MIN($E89,$L89)-($F89*COUNTRY_INFO!$Q89/(COUNTRY_INFO!$F89+COUNTRY_INFO!$G89)+IF($G89=\" \",0,COUNTRY_INFO!$Q89/(COUNTRY_INFO!$F89+COUNTRY_INFO!$G89)*$G89*$H89))),0)))","v":0},0,0,null,0,0,null,0,0,null,0]
[{"$f":"IF(AND(INTRO!$E$37=\"Non-endemic\",INTRO!$E$41=\"Non-endemic\"),\" \",IF(COUNTRY_INFO!A90=0,\" \",COUNTRY_INFO!A90))","v":"Angola"},{"$f":"IF(AND(INTRO!$E$37=\"Non-endemic\",INTRO!$E$41=\"Non-endemic\"),\" \",IF(COUNTRY_INFO!B90=0,\" \",COUNTRY_INFO!B90))","v":"HUILA"},{"$f":"IF(AND(INTRO!$E$37=\"Non-endemic\",INTRO!$E$41=\"Non-endemic\"),\" \",IF(COUNTRY_INFO!C90=0,\" \",COUNTRY_INFO!C90))","v":"CHIBIA"},{"$f":"IF(AND(INTRO!$E$37=\"Non-endemic\",INTRO!$E$41=\"Non-endemic\"),0,COUNTRY_INFO!W90)","v":0},{"$f":"IF(AND(INTRO!$E$37=\"Non-endemic\",INTRO!$E$41=\"Non-endemic\"),0,COUNTRY_INFO!Y90)","v":0},{"$f":"IF($D90=1,IVM!G90,0)","v":0},{"$f":"IF($D90=0, \" \", IF(COUNTRY_INFO!$H90=1, IF(COUNTRY_INFO!$L90=1, 0,\" \"),\" \"))","v":" "},null,0,{"$f":"IF(OR(COUNTRY_INFO!O90=\"Unknown\",COUNTRY_INFO!O90=\"Surveillance\",COUNTRY_INFO!O90=\"Not required\",COUNTRY_INFO!O90=0),0,IF(INTRO!$E$39=\"Non-endemic\",IF(AND($E90<>0,$I90=\"\"),IF($F90=0,COUNTRY_INFO!O90*$E90,COUNTRY_INFO!O90*($E90-$D90)),IF(AND($E90<>0,$I90<>0),IF($F90=0,COUNTRY_INFO!O90*$I90,COUNTRY_INFO!O90*($I90-$D90)),0)),IF($I90=\"\",COUNTRY_INFO!O90*$E90,COUNTRY_INFO!O90*$I90)))","v":0},{"$f":"MAX(0,IF(OR(COUNTRY_INFO!P90=\"Unknown\",COUNTRY_INFO!P90=\"Surveillance\",COUNTRY_INFO!P90=\"Not required\",COUNTRY_INFO!P90=0),0,IF($E90<>0,IF($D90=0,COUNTRY_INFO!P90*$E90,COUNTRY_INFO!P90*$E90-($F90*COUNTRY_INFO!$P90/(COUNTRY_INFO!$F90+COUNTRY_INFO!$G90)+IF($G90=\" \",0,COUNTRY_INFO!$P90/(COUNTRY_INFO!$F90+COUNTRY_INFO!$G90)*$G90*$H90))),0)))","v":0},null,{"$f":"MAX(0,IF(OR(COUNTRY_INFO!Q90=\"Unknown\",COUNTRY_INFO!Q90=\"Surveillance\",COUNTRY_INFO!Q90=\"Not required\",COUNTRY_INFO!Q90=0),0,IF($E90<>0,IF($D90=0,COUNTRY_INFO!Q90*MIN($E90,$L90),COUNTRY_INFO!Q90*MIN($E90,$L90)-($F90*COUNTRY_INFO!$Q90/(COUNTRY_INFO!$F90+COUNTRY_INFO!$G90)+IF($G90=\" \",0,COUNTRY_INFO!$Q90/(COUNTRY_INFO!$F90+COUNTRY_INFO!$G90)*$G90*$H90))),0)))","v":0},0,0,null,0,0,null,0,0,null,0]
[{"$f":"IF(AND(INTRO!$E$37=\"Non-endemic\",INTRO!$E$41=\"Non-endemic\"),\" \",IF(COUNTRY_INFO!A91=0,\" \",COUNTRY_INFO!A91))","v":"Angola"},{"$f":"IF(AND(INTRO!$E$37=\"Non-endemic\",INTRO!$E$41=\"Non-endemic\"),\" \",IF(COUNTRY_INFO!B91=0,\" \",COUNTRY_INFO!B91))","v":"HUILA"},{"$f":"IF(AND(INTRO!$E$37=\"Non-endemic\",INTRO!$E$41=\"Non-endemic\"),\" \",IF(COUNTRY_INFO!C91=0,\" \",COUNTRY_INFO!C91))","v":"CHICOMBA"},{"$f":"IF(AND(INTRO!$E$37=\"Non-endemic\",INTRO!$E$41=\"Non-endemic\"),0,COUNTRY_INFO!W91)","v":0},{"$f":"IF(AND(INTRO!$E$37=\"Non-endemic\",INTRO!$E$41=\"Non-endemic\"),0,COUNTRY_INFO!Y91)","v":0},{"$f":"IF($D91=1,IVM!G91,0)","v":0},{"$f":"IF($D91=0, \" \", IF(COUNTRY_INFO!$H91=1, IF(COUNTRY_INFO!$L91=1, 0,\" \"),\" \"))","v":" "},null,0,{"$f":"IF(OR(COUNTRY_INFO!O91=\"Unknown\",COUNTRY_INFO!O91=\"Surveillance\",COUNTRY_INFO!O91=\"Not required\",COUNTRY_INFO!O91=0),0,IF(INTRO!$E$39=\"Non-endemic\",IF(AND($E91<>0,$I91=\"\"),IF($F91=0,COUNTRY_INFO!O91*$E91,COUNTRY_INFO!O91*($E91-$D91)),IF(AND($E91<>0,$I91<>0),IF($F91=0,COUNTRY_INFO!O91*$I91,COUNTRY_INFO!O91*($I91-$D91)),0)),IF($I91=\"\",COUNTRY_INFO!O91*$E91,COUNTRY_INFO!O91*$I91)))","v":0},{"$f":"MAX(0,IF(OR(COUNTRY_INFO!P91=\"Unknown\",COUNTRY_INFO!P91=\"Surveillance\",COUNTRY_INFO!P91=\"Not required\",COUNTRY_INFO!P91=0),0,IF($E91<>0,IF($D91=0,COUNTRY_INFO!P91*$E91,COUNTRY_INFO!P91*$E91-($F91*COUNTRY_INFO!$P91/(COUNTRY_INFO!$F91+COUNTRY_INFO!$G91)+IF($G91=\" \",0,COUNTRY_INFO!$P91/(COUNTRY_INFO!$F91+COUNTRY_INFO!$G91)*$G91*$H91))),0)))","v":0},null,{"$f":"MAX(0,IF(OR(COUNTRY_INFO!Q91=\"Unknown\",COUNTRY_INFO!Q91=\"Surveillance\",COUNTRY_INFO!Q91=\"Not required\",COUNTRY_INFO!Q91=0),0,IF($E91<>0,IF($D91=0,COUNTRY_INFO!Q91*MIN($E91,$L91),COUNTRY_INFO!Q91*MIN($E91,$L91)-($F91*COUNTRY_INFO!$Q91/(COUNTRY_INFO!$F91+COUNTRY_INFO!$G91)+IF($G91=\" \",0,COUNTRY_INFO!$Q91/(COUNTRY_INFO!$F91+COUNTRY_INFO!$G91)*$G91*$H91))),0)))","v":0},0,0,null,0,0,null,0,0,null,0]
[{"$f":"IF(AND(INTRO!$E$37=\"Non-endemic\",INTRO!$E$41=\"Non-endemic\"),\" \",IF(COUNTRY_INFO!A92=0,\" \",COUNTRY_INFO!A92))","v":"Angola"},{"$f":"IF(AND(INTRO!$E$37=\"Non-endemic\",INTRO!$E$41=\"Non-endemic\"),\" \",IF(COUNTRY_INFO!B92=0,\" \",COUNTRY_INFO!B92))","v":"HUILA"},{"$f":"IF(AND(INTRO!$E$37=\"Non-endemic\",INTRO!$E$41=\"Non-endemic\"),\" \",IF(COUNTRY_INFO!C92=0,\" \",COUNTRY_INFO!C92))","v":"CHIPINDO"},{"$f":"IF(AND(INTRO!$E$37=\"Non-endemic\",INTRO!$E$41=\"Non-endemic\"),0,COUNTRY_INFO!W92)","v":1},{"$f":"IF(AND(INTRO!$E$37=\"Non-endemic\",INTRO!$E$41=\"Non-endemic\"),0,COUNTRY_INFO!Y92)","v":0},{"$f":"IF($D92=1,IVM!G92,0)","v":69808},{"$f":"IF($D92=0, \" \", IF(COUNTRY_INFO!$H92=1, IF(COUNTRY_INFO!$L92=1, 0,\" \"),\" \"))","v":" "},null,0,{"$f":"IF(OR(COUNTRY_INFO!O92=\"Unknown\",COUNTRY_INFO!O92=\"Surveillance\",COUNTRY_INFO!O92=\"Not required\",COUNTRY_INFO!O92=0),0,IF(INTRO!$E$39=\"Non-endemic\",IF(AND($E92<>0,$I92=\"\"),IF($F92=0,COUNTRY_INFO!O92*$E92,COUNTRY_INFO!O92*($E92-$D92)),IF(AND($E92<>0,$I92<>0),IF($F92=0,COUNTRY_INFO!O92*$I92,COUNTRY_INFO!O92*($I92-$D92)),0)),IF($I92=\"\",COUNTRY_INFO!O92*$E92,COUNTRY_INFO!O92*$I92)))","v":0},{"$f":"MAX(0,IF(OR(COUNTRY_INFO!P92=\"Unknown\",COUNTRY_INFO!P92=\"Surveillance\",COUNTRY_INFO!P92=\"Not required\",COUNTRY_INFO!P92=0),0,IF($E92<>0,IF($D92=0,COUNTRY_INFO!P92*$E92,COUNTRY_INFO!P92*$E92-($F92*COUNTRY_INFO!$P92/(COUNTRY_INFO!$F92+COUNTRY_INFO!$G92)+IF($G92=\" \",0,COUNTRY_INFO!$P92/(COUNTRY_INFO!$F92+COUNTRY_INFO!$G92)*$G92*$H92))),0)))","v":0},null,{"$f":"MAX(0,IF(OR(COUNTRY_INFO!Q92=\"Unknown\",COUNTRY_INFO!Q92=\"Surveillance\",COUNTRY_INFO!Q92=\"Not required\",COUNTRY_INFO!Q92=0),0,IF($E92<>0,IF($D92=0,COUNTRY_INFO!Q92*MIN($E92,$L92),COUNTRY_INFO!Q92*MIN($E92,$L92)-($F92*COUNTRY_INFO!$Q92/(COUNTRY_INFO!$F92+COUNTRY_INFO!$G92)+IF($G92=\" \",0,COUNTRY_INFO!$Q92/(COUNTRY_INFO!$F92+COUNTRY_INFO!$G92)*$G92*$H92))),0)))","v":0},0,69808,null,69808,0,null,0,0,null,0]
[{"$f":"IF(AND(INTRO!$E$37=\"Non-endemic\",INTRO!$E$41=\"Non-endemic\"),\" \",IF(COUNTRY_INFO!A93=0,\" \",COUNTRY_INFO!A93))","v":"Angola"},{"$f":"IF(AND(INTRO!$E$37=\"Non-endemic\",INTRO!$E$41=\"Non-endemic\"),\" \",IF(COUNTRY_INFO!B93=0,\" \",COUNTRY_INFO!B93))","v":"HUILA"},{"$f":"IF(AND(INTRO!$E$37=\"Non-endemic\",INTRO!$E$41=\"Non-endemic\"),\" \",IF(COUNTRY_INFO!C93=0,\" \",COUNTRY_INFO!C93))","v":"CUVANGO"},{"$f":"IF(AND(INTRO!$E$37=\"Non-endemic\",INTRO!$E$41=\"Non-endemic\"),0,COUNTRY_INFO!W93)","v":1},{"$f":"IF(AND(INTRO!$E$37=\"Non-endemic\",INTRO!$E$41=\"Non-endemic\"),0,COUNTRY_INFO!Y93)","v":0},{"$f":"IF($D93=1,IVM!G93,0)","v":84726},{"$f":"IF($D93=0, \" \", IF(COUNTRY_INFO!$H93=1, IF(COUNTRY_INFO!$L93=1, 0,\" \"),\" \"))","v":0},2,0,{"$f":"IF(OR(COUNTRY_INFO!O93=\"Unknown\",COUNTRY_INFO!O93=\"Surveillance\",COUNTRY_INFO!O93=\"Not required\",COUNTRY_INFO!O93=0),0,IF(INTRO!$E$39=\"Non-endemic\",IF(AND($E93<>0,$I93=\"\"),IF($F93=0,COUNTRY_INFO!O93*$E93,COUNTRY_INFO!O93*($E93-$D93)),IF(AND($E93<>0,$I93<>0),IF($F93=0,COUNTRY_INFO!O93*$I93,COUNTRY_INFO!O93*($I93-$D93)),0)),IF($I93=\"\",COUNTRY_INFO!O93*$E93,COUNTRY_INFO!O93*$I93)))","v":0},{"$f":"MAX(0,IF(OR(COUNTRY_INFO!P93=\"Unknown\",COUNTRY_INFO!P93=\"Surveillance\",COUNTRY_INFO!P93=\"Not required\",COUNTRY_INFO!P93=0),0,IF($E93<>0,IF($D93=0,COUNTRY_INFO!P93*$E93,COUNTRY_INFO!P93*$E93-($F93*COUNTRY_INFO!$P93/(COUNTRY_INFO!$F93+COUNTRY_INFO!$G93)+IF($G93=\" \",0,COUNTRY_INFO!$P93/(COUNTRY_INFO!$F93+COUNTRY_INFO!$G93)*$G93*$H93))),0)))","v":0},null,{"$f":"MAX(0,IF(OR(COUNTRY_INFO!Q93=\"Unknown\",COUNTRY_INFO!Q93=\"Surveillance\",COUNTRY_INFO!Q93=\"Not required\",COUNTRY_INFO!Q93=0),0,IF($E93<>0,IF($D93=0,COUNTRY_INFO!Q93*MIN($E93,$L93),COUNTRY_INFO!Q93*MIN($E93,$L93)-($F93*COUNTRY_INFO!$Q93/(COUNTRY_INFO!$F93+COUNTRY_INFO!$G93)+IF($G93=\" \",0,COUNTRY_INFO!$Q93/(COUNTRY_INFO!$F93+COUNTRY_INFO!$G93)*$G93*$H93))),0)))","v":0},0,84726,null,84726,0,null,0,0,null,0]
[{"$f":"IF(AND(INTRO!$E$37=\"Non-endemic\",INTRO!$E$41=\"Non-endemic\"),\" \",IF(COUNTRY_INFO!A94=0,\" \",COUNTRY_INFO!A94))","v":"Angola"},{"$f":"IF(AND(INTRO!$E$37=\"Non-endemic\",INTRO!$E$41=\"Non-endemic\"),\" \",IF(COUNTRY_INFO!B94=0,\" \",COUNTRY_INFO!B94))","v":"HUILA"},{"$f":"IF(AND(INTRO!$E$37=\"Non-endemic\",INTRO!$E$41=\"Non-endemic\"),\" \",IF(COUNTRY_INFO!C94=0,\" \",COUNTRY_INFO!C94))","v":"GAMBOS"},{"$f":"IF(AND(INTRO!$E$37=\"Non-endemic\",INTRO!$E$41=\"Non-endemic\"),0,COUNTRY_INFO!W94)","v":0},{"$f":"IF(AND(INTRO!$E$37=\"Non-endemic\",INTRO!$E$41=\"Non-endemic\"),0,COUNTRY_INFO!Y94)","v":0},{"$f":"IF($D94=1,IVM!G94,0)","v":0},{"$f":"IF($D94=0, \" \", IF(COUNTRY_INFO!$H94=1, IF(COUNTRY_INFO!$L94=1, 0,\" \"),\" \"))","v":" "},null,0,{"$f":"IF(OR(COUNTRY_INFO!O94=\"Unknown\",COUNTRY_INFO!O94=\"Surveillance\",COUNTRY_INFO!O94=\"Not required\",COUNTRY_INFO!O94=0),0,IF(INTRO!$E$39=\"Non-endemic\",IF(AND($E94<>0,$I94=\"\"),IF($F94=0,COUNTRY_INFO!O94*$E94,COUNTRY_INFO!O94*($E94-$D94)),IF(AND($E94<>0,$I94<>0),IF($F94=0,COUNTRY_INFO!O94*$I94,COUNTRY_INFO!O94*($I94-$D94)),0)),IF($I94=\"\",COUNTRY_INFO!O94*$E94,COUNTRY_INFO!O94*$I94)))","v":0},{"$f":"MAX(0,IF(OR(COUNTRY_INFO!P94=\"Unknown\",COUNTRY_INFO!P94=\"Surveillance\",COUNTRY_INFO!P94=\"Not required\",COUNTRY_INFO!P94=0),0,IF($E94<>0,IF($D94=0,COUNTRY_INFO!P94*$E94,COUNTRY_INFO!P94*$E94-($F94*COUNTRY_INFO!$P94/(COUNTRY_INFO!$F94+COUNTRY_INFO!$G94)+IF($G94=\" \",0,COUNTRY_INFO!$P94/(COUNTRY_INFO!$F94+COUNTRY_INFO!$G94)*$G94*$H94))),0)))","v":0},null,{"$f":"MAX(0,IF(OR(COUNTRY_INFO!Q94=\"Unknown\",COUNTRY_INFO!Q94=\"Surveillance\",COUNTRY_INFO!Q94=\"Not required\",COUNTRY_INFO!Q94=0),0,IF($E94<>0,IF($D94=0,COUNTRY_INFO!Q94*MIN($E94,$L94),COUNTRY_INFO!Q94*MIN($E94,$L94)-($F94*COUNTRY_INFO!$Q94/(COUNTRY_INFO!$F94+COUNTRY_INFO!$G94)+IF($G94=\" \",0,COUNTRY_INFO!$Q94/(COUNTRY_INFO!$F94+COUNTRY_INFO!$G94)*$G94*$H94))),0)))","v":0},0,0,null,0,0,null,0,0,null,0]
[{"$f":"IF(AND(INTRO!$E$37=\"Non-endemic\",INTRO!$E$41=\"Non-endemic\"),\" \",IF(COUNTRY_INFO!A95=0,\" \",COUNTRY_INFO!A95))","v":"Angola"},{"$f":"IF(AND(INTRO!$E$37=\"Non-endemic\",INTRO!$E$41=\"Non-endemic\"),\" \",IF(COUNTRY_INFO!B95=0,\" \",COUNTRY_INFO!B95))","v":"HUILA"},{"$f":"IF(AND(INTRO!$E$37=\"Non-endemic\",INTRO!$E$41=\"Non-endemic\"),\" \",IF(COUNTRY_INFO!C95=0,\" \",COUNTRY_INFO!C95))","v":"HUMPATA"},{"$f":"IF(AND(INTRO!$E$37=\"Non-endemic\",INTRO!$E$41=\"Non-endemic\"),0,COUNTRY_INFO!W95)","v":0},{"$f":"IF(AND(INTRO!$E$37=\"Non-endemic\",INTRO!$E$41=\"Non-endemic\"),0,COUNTRY_INFO!Y95)","v":0},{"$f":"IF($D95=1,IVM!G95,0)","v":0},{"$f":"IF($D95=0, \" \", IF(COUNTRY_INFO!$H95=1, IF(COUNTRY_INFO!$L95=1, 0,\" \"),\" \"))","v":" "},null,0,{"$f":"IF(OR(COUNTRY_INFO!O95=\"Unknown\",COUNTRY_INFO!O95=\"Surveillance\",COUNTRY_INFO!O95=\"Not required\",COUNTRY_INFO!O95=0),0,IF(INTRO!$E$39=\"Non-endemic\",IF(AND($E95<>0,$I95=\"\"),IF($F95=0,COUNTRY_INFO!O95*$E95,COUNTRY_INFO!O95*($E95-$D95)),IF(AND($E95<>0,$I95<>0),IF($F95=0,COUNTRY_INFO!O95*$I95,COUNTRY_INFO!O95*($I95-$D95)),0)),IF($I95=\"\",COUNTRY_INFO!O95*$E95,COUNTRY_INFO!O95*$I95)))","v":0},{"$f":"MAX(0,IF(OR(COUNTRY_INFO!P95=\"Unknown\",COUNTRY_INFO!P95=\"Surveillance\",COUNTRY_INFO!P95=\"Not required\",COUNTRY_INFO!P95=0),0,IF($E95<>0,IF($D95=0,COUNTRY_INFO!P95*$E95,COUNTRY_INFO!P95*$E95-($F95*COUNTRY_INFO!$P95/(COUNTRY_INFO!$F95+COUNTRY_INFO!$G95)+IF($G95=\" \",0,COUNTRY_INFO!$P95/(COUNTRY_INFO!$F95+COUNTRY_INFO!$G95)*$G95*$H95))),0)))","v":0},null,{"$f":"MAX(0,IF(OR(COUNTRY_INFO!Q95=\"Unknown\",COUNTRY_INFO!Q95=\"Surveillance\",COUNTRY_INFO!Q95=\"Not required\",COUNTRY_INFO!Q95=0),0,IF($E95<>0,IF($D95=0,COUNTRY_INFO!Q95*MIN($E95,$L95),COUNTRY_INFO!Q95*MIN($E95,$L95)-($F95*COUNTRY_INFO!$Q95/(COUNTRY_INFO!$F95+COUNTRY_INFO!$G95)+IF($G95=\" \",0,COUNTRY_INFO!$Q95/(COUNTRY_INFO!$F95+COUNTRY_INFO!$G95)*$G95*$H95))),0)))","v":0},0,0,null,0,0,null,0,0,null,0]
[{"$f":"IF(AND(INTRO!$E$37=\"Non-endemic\",INTRO!$E$41=\"Non-endemic\"),\" \",IF(COUNTRY_INFO!A96=0,\" \",COUNTRY_INFO!A96))","v":"Angola"},{"$f":"IF(AND(INTRO!$E$37=\"Non-endemic\",INTRO!$E$41=\"Non-endemic\"),\" \",IF(COUNTRY_INFO!B96=0,\" \",COUNTRY_INFO!B96))","v":"HUILA"},{"$f":"IF(AND(INTRO!$E$37=\"Non-endemic\",INTRO!$E$41=\"Non-endemic\"),\" \",IF(COUNTRY_INFO!C96=0,\" \",COUNTRY_INFO!C96))","v":"JAMBA"},{"$f":"IF(AND(INTRO!$E$37=\"Non-endemic\",INTRO!$E$41=\"Non-endemic\"),0,COUNTRY_INFO!W96)","v":1},{"$f":"IF(AND(INTRO!$E$37=\"Non-endemic\",INTRO!$E$41=\"Non-endemic\"),0,COUNTRY_INFO!Y96)","v":0},{"$f":"IF($D96=1,IVM!G96,0)","v":113361},{"$f":"IF($D96=0, \" \", IF(COUNTRY_INFO!$H96=1, IF(COUNTRY_INFO!$L96=1, 0,\" \"),\" \"))","v":" "},null,0,{"$f":"IF(OR(COUNTRY_INFO!O96=\"Unknown\",COUNTRY_INFO!O96=\"Surveillance\",COUNTRY_INFO!O96=\"Not required\",COUNTRY_INFO!O96=0),0,IF(INTRO!$E$39=\"Non-endemic\",IF(AND($E96<>0,$I96=\"\"),IF($F96=0,COUNTRY_INFO!O96*$E96,COUNTRY_INFO!O96*($E96-$D96)),IF(AND($E96<>0,$I96<>0),IF($F96=0,COUNTRY_INFO!O96*$I96,COUNTRY_INFO!O96*($I96-$D96)),0)),IF($I96=\"\",COUNTRY_INFO!O96*$E96,COUNTRY_INFO!O96*$I96)))","v":0},{"$f":"MAX(0,IF(OR(COUNTRY_INFO!P96=\"Unknown\",COUNTRY_INFO!P96=\"Surveillance\",COUNTRY_INFO!P96=\"Not required\",COUNTRY_INFO!P96=0),0,IF($E96<>0,IF($D96=0,COUNTRY_INFO!P96*$E96,COUNTRY_INFO!P96*$E96-($F96*COUNTRY_INFO!$P96/(COUNTRY_INFO!$F96+COUNTRY_INFO!$G96)+IF($G96=\" \",0,COUNTRY_INFO!$P96/(COUNTRY_INFO!$F96+COUNTRY_INFO!$G96)*$G96*$H96))),0)))","v":0},null,{"$f":"MAX(0,IF(OR(COUNTRY_INFO!Q96=\"Unknown\",COUNTRY_INFO!Q96=\"Surveillance\",COUNTRY_INFO!Q96=\"Not required\",COUNTRY_INFO!Q96=0),0,IF($E96<>0,IF($D96=0,COUNTRY_INFO!Q96*MIN($E96,$L96),COUNTRY_INFO!Q96*MIN($E96,$L96)-($F96*COUNTRY_INFO!$Q96/(COUNTRY_INFO!$F96+COUNTRY_INFO!$G96)+IF($G96=\" \",0,COUNTRY_INFO!$Q96/(COUNTRY_INFO!$F96+COUNTRY_INFO!$G96)*$G96*$H96))),0)))","v":0},0,113361,null,113361,0,null,0,0,null,0]
[{"$f":"IF(AND(INTRO!$E$37=\"Non-endemic\",INTRO!$E$41=\"Non-endemic\"),\" \",IF(COUNTRY_INFO!A97=0,\" \",COUNTRY_INFO!A97))","v":"Angola"},{"$f":"IF(AND(INTRO!$E$37=\"Non-endemic\",INTRO!$E$41=\"Non-endemic\"),\" \",IF(COUNTRY_INFO!B97=0,\" \",COUNTRY_INFO!B97))","v":"HUILA"},{"$f":"IF(AND(INTRO!$E$37=\"Non-endemic\",INTRO!$E$41=\"Non-endemic\"),\" \",IF(COUNTRY_INFO!C97=0,\" \",COUNTRY_INFO!C97))","v":"LUBANGO"},{"$f":"IF(AND(INTRO!$E$37=\"Non-endemic\",INTRO!$E$41=\"Non-endemic\"),0,COUNTRY_INFO!W97)","v":0},{"$f":"IF(AND(INTRO!$E$37=\"Non-endemic\",INTRO!$E$41=\"Non-endemic\"),0,COUNTRY_INFO!Y97)","v":0},{"$f":"IF($D97=1,IVM!G97,0)","v":0},{"$f":"IF($D97=0, \" \", IF(COUNTRY_INFO!$H97=1, IF(COUNTRY_INFO!$L97=1, 0,\" \"),\" \"))","v":" "},null,0,{"$f":"IF(OR(COUNTRY_INFO!O97=\"Unknown\",COUNTRY_INFO!O97=\"Surveillance\",COUNTRY_INFO!O97=\"Not required\",COUNTRY_INFO!O97=0),0,IF(INTRO!$E$39=\"Non-endemic\",IF(AND($E97<>0,$I97=\"\"),IF($F97=0,COUNTRY_INFO!O97*$E97,COUNTRY_INFO!O97*($E97-$D97)),IF(AND($E97<>0,$I97<>0),IF($F97=0,COUNTRY_INFO!O97*$I97,COUNTRY_INFO!O97*($I97-$D97)),0)),IF($I97=\"\",COUNTRY_INFO!O97*$E97,COUNTRY_INFO!O97*$I97)))","v":0},{"$f":"MAX(0,IF(OR(COUNTRY_INFO!P97=\"Unknown\",COUNTRY_INFO!P97=\"Surveillance\",COUNTRY_INFO!P97=\"Not required\",COUNTRY_INFO!P97=0),0,IF($E97<>0,IF($D97=0,COUNTRY_INFO!P97*$E97,COUNTRY_INFO!P97*$E97-($F97*COUNTRY_INFO!$P97/(COUNTRY_INFO!$F97+COUNTRY_INFO!$G97)+IF($G97=\" \",0,COUNTRY_INFO!$P97/(COUNTRY_INFO!$F97+COUNTRY_INFO!$G97)*$G97*$H97))),0)))","v":0},null,{"$f":"MAX(0,IF(OR(COUNTRY_INFO!Q97=\"Unknown\",COUNTRY_INFO!Q97=\"Surveillance\",COUNTRY_INFO!Q97=\"Not required\",COUNTRY_INFO!Q97=0),0,IF($E97<>0,IF($D97=0,COUNTRY_INFO!Q97*MIN($E97,$L97),COUNTRY_INFO!Q97*MIN($E97,$L97)-($F97*COUNTRY_INFO!$Q97/(COUNTRY_INFO!$F97+COUNTRY_INFO!$G97)+IF($G97=\" \",0,COUNTRY_INFO!$Q97/(COUNTRY_INFO!$F97+COUNTRY_INFO!$G97)*$G97*$H97))),0)))","v":0},0,0,null,0,0,null,0,0,null,0]
[{"$f":"IF(AND(INTRO!$E$37=\"Non-endemic\",INTRO!$E$41=\"Non-endemic\"),\" \",IF(COUNTRY_INFO!A98=0,\" \",COUNTRY_INFO!A98))","v":"Angola"},{"$f":"IF(AND(INTRO!$E$37=\"Non-endemic\",INTRO!$E$41=\"Non-endemic\"),\" \",IF(COUNTRY_INFO!B98=0,\" \",COUNTRY_INFO!B98))","v":"HUILA"},{"$f":"IF(AND(INTRO!$E$37=\"Non-endemic\",INTRO!$E$41=\"Non-endemic\"),\" \",IF(COUNTRY_INFO!C98=0,\" \",COUNTRY_INFO!C98))","v":"MATALA"},{"$f":"IF(AND(INTRO!$E$37=\"Non-endemic\",INTRO!$E$41=\"Non-endemic\"),0,COUNTRY_INFO!W98)","v":0},{"$f":"IF(AND(INTRO!$E$37=\"Non-endemic\",INTRO!$E$41=\"Non-endemic\"),0,COUNTRY_INFO!Y98)","v":0},{"$f":"IF($D98=1,IVM!G98,0)","v":0},{"$f":"IF($D98=0, \" \", IF(COUNTRY_INFO!$H98=1, IF(COUNTRY_INFO!$L98=1, 0,\" \"),\" \"))","v":" "},null,0,{"$f":"IF(OR(COUNTRY_INFO!O98=\"Unknown\",COUNTRY_INFO!O98=\"Surveillance\",COUNTRY_INFO!O98=\"Not required\",COUNTRY_INFO!O98=0),0,IF(INTRO!$E$39=\"Non-endemic\",IF(AND($E98<>0,$I98=\"\"),IF($F98=0,COUNTRY_INFO!O98*$E98,COUNTRY_INFO!O98*($E98-$D98)),IF(AND($E98<>0,$I98<>0),IF($F98=0,COUNTRY_INFO!O98*$I98,COUNTRY_INFO!O98*($I98-$D98)),0)),IF($I98=\"\",COUNTRY_INFO!O98*$E98,COUNTRY_INFO!O98*$I98)))","v":0},{"$f":"MAX(0,IF(OR(COUNTRY_INFO!P98=\"Unknown\",COUNTRY_INFO!P98=\"Surveillance\",COUNTRY_INFO!P98=\"Not required\",COUNTRY_INFO!P98=0),0,IF($E98<>0,IF($D98=0,COUNTRY_INFO!P98*$E98,COUNTRY_INFO!P98*$E98-($F98*COUNTRY_INFO!$P98/(COUNTRY_INFO!$F98+COUNTRY_INFO!$G98)+IF($G98=\" \",0,COUNTRY_INFO!$P98/(COUNTRY_INFO!$F98+COUNTRY_INFO!$G98)*$G98*$H98))),0)))","v":0},null,{"$f":"MAX(0,IF(OR(COUNTRY_INFO!Q98=\"Unknown\",COUNTRY_INFO!Q98=\"Surveillance\",COUNTRY_INFO!Q98=\"Not required\",COUNTRY_INFO!Q98=0),0,IF($E98<>0,IF($D98=0,COUNTRY_INFO!Q98*MIN($E98,$L98),COUNTRY_INFO!Q98*MIN($E98,$L98)-($F98*COUNTRY_INFO!$Q98/(COUNTRY_INFO!$F98+COUNTRY_INFO!$G98)+IF($G98=\" \",0,COUNTRY_INFO!$Q98/(COUNTRY_INFO!$F98+COUNTRY_INFO!$G98)*$G98*$H98))),0)))","v":0},0,0,null,0,0,null,0,0,null,0]
[{"$f":"IF(AND(INTRO!$E$37=\"Non-endemic\",INTRO!$E$41=\"Non-endemic\"),\" \",IF(COUNTRY_INFO!A99=0,\" \",COUNTRY_INFO!A99))","v":"Angola"},{"$f":"IF(AND(INTRO!$E$37=\"Non-endemic\",INTRO!$E$41=\"Non-endemic\"),\" \",IF(COUNTRY_INFO!B99=0,\" \",COUNTRY_INFO!B99))","v":"HUILA"},{"$f":"IF(AND(INTRO!$E$37=\"Non-endemic\",INTRO!$E$41=\"Non-endemic\"),\" \",IF(COUNTRY_INFO!C99=0,\" \",COUNTRY_INFO!C99))","v":"QUILENGUES"},{"$f":"IF(AND(INTRO!$E$37=\"Non-endemic\",INTRO!$E$41=\"Non-endemic\"),0,COUNTRY_INFO!W99)","v":0},{"$f":"IF(AND(INTRO!$E$37=\"Non-endemic\",INTRO!$E$41=\"Non-endemic\"),0,COUNTRY_INFO!Y99)","v":0},{"$f":"IF($D99=1,IVM!G99,0)","v":0},{"$f":"IF($D99=0, \" \", IF(COUNTRY_INFO!$H99=1, IF(COUNTRY_INFO!$L99=1, 0,\" \"),\" \"))","v":" "},null,0,{"$f":"IF(OR(COUNTRY_INFO!O99=\"Unknown\",COUNTRY_INFO!O99=\"Surveillance\",COUNTRY_INFO!O99=\"Not required\",COUNTRY_INFO!O99=0),0,IF(INTRO!$E$39=\"Non-endemic\",IF(AND($E99<>0,$I99=\"\"),IF($F99=0,COUNTRY_INFO!O99*$E99,COUNTRY_INFO!O99*($E99-$D99)),IF(AND($E99<>0,$I99<>0),IF($F99=0,COUNTRY_INFO!O99*$I99,COUNTRY_INFO!O99*($I99-$D99)),0)),IF($I99=\"\",COUNTRY_INFO!O99*$E99,COUNTRY_INFO!O99*$I99)))","v":0},{"$f":"MAX(0,IF(OR(COUNTRY_INFO!P99=\"Unknown\",COUNTRY_INFO!P99=\"Surveillance\",COUNTRY_INFO!P99=\"Not required\",COUNTRY_INFO!P99=0),0,IF($E99<>0,IF($D99=0,COUNTRY_INFO!P99*$E99,COUNTRY_INFO!P99*$E99-($F99*COUNTRY_INFO!$P99/(COUNTRY_INFO!$F99+COUNTRY_INFO!$G99)+IF($G99=\" \",0,COUNTRY_INFO!$P99/(COUNTRY_INFO!$F99+COUNTRY_INFO!$G99)*$G99*$H99))),0)))","v":0},null,{"$f":"MAX(0,IF(OR(COUNTRY_INFO!Q99=\"Unknown\",COUNTRY_INFO!Q99=\"Surveillance\",COUNTRY_INFO!Q99=\"Not required\",COUNTRY_INFO!Q99=0),0,IF($E99<>0,IF($D99=0,COUNTRY_INFO!Q99*MIN($E99,$L99),COUNTRY_INFO!Q99*MIN($E99,$L99)-($F99*COUNTRY_INFO!$Q99/(COUNTRY_INFO!$F99+COUNTRY_INFO!$G99)+IF($G99=\" \",0,COUNTRY_INFO!$Q99/(COUNTRY_INFO!$F99+COUNTRY_INFO!$G99)*$G99*$H99))),0)))","v":0},0,0,null,0,0,null,0,0,null,0]
[{"$f":"IF(AND(INTRO!$E$37=\"Non-endemic\",INTRO!$E$41=\"Non-endemic\"),\" \",IF(COUNTRY_INFO!A100=0,\" \",COUNTRY_INFO!A100))","v":"Angola"},{"$f":"IF(AND(INTRO!$E$37=\"Non-endemic\",INTRO!$E$41=\"Non-endemic\"),\" \",IF(COUNTRY_INFO!B100=0,\" \",COUNTRY_INFO!B100))","v":"HUILA"},{"$f":"IF(AND(INTRO!$E$37=\"Non-endemic\",INTRO!$E$41=\"Non-endemic\"),\" \",IF(COUNTRY_INFO!C100=0,\" \",COUNTRY_INFO!C100))","v":"QUIPUNGO"},{"$f":"IF(AND(INTRO!$E$37=\"Non-endemic\",INTRO!$E$41=\"Non-endemic\"),0,COUNTRY_INFO!W100)","v":0},{"$f":"IF(AND(INTRO!$E$37=\"Non-endemic\",INTRO!$E$41=\"Non-endemic\"),0,COUNTRY_INFO!Y100)","v":0},{"$f":"IF($D100=1,IVM!G100,0)","v":0},{"$f":"IF($D100=0, \" \", IF(COUNTRY_INFO!$H100=1, IF(COUNTRY_INFO!$L100=1, 0,\" \"),\" \"))","v":" "},null,0,{"$f":"IF(OR(COUNTRY_INFO!O100=\"Unknown\",COUNTRY_INFO!O100=\"Surveillance\",COUNTRY_INFO!O100=\"Not required\",COUNTRY_INFO!O100=0),0,IF(INTRO!$E$39=\"Non-endemic\",IF(AND($E100<>0,$I100=\"\"),IF($F100=0,COUNTRY_INFO!O100*$E100,COUNTRY_INFO!O100*($E100-$D100)),IF(AND($E100<>0,$I100<>0),IF($F100=0,COUNTRY_INFO!O100*$I100,COUNTRY_INFO!O100*($I100-$D100)),0)),IF($I100=\"\",COUNTRY_INFO!O100*$E100,COUNTRY_INFO!O100*$I100)))","v":0},{"$f":"MAX(0,IF(OR(COUNTRY_INFO!P100=\"Unknown\",COUNTRY_INFO!P100=\"Surveillance\",COUNTRY_INFO!P100=\"Not required\",COUNTRY_INFO!P100=0),0,IF($E100<>0,IF($D100=0,COUNTRY_INFO!P100*$E100,COUNTRY_INFO!P100*$E100-($F100*COUNTRY_INFO!$P100/(COUNTRY_INFO!$F100+COUNTRY_INFO!$G100)+IF($G100=\" \",0,COUNTRY_INFO!$P100/(COUNTRY_INFO!$F100+COUNTRY_INFO!$G100)*$G100*$H100))),0)))","v":0},null,{"$f":"MAX(0,IF(OR(COUNTRY_INFO!Q100=\"Unknown\",COUNTRY_INFO!Q100=\"Surveillance\",COUNTRY_INFO!Q100=\"Not required\",COUNTRY_INFO!Q100=0),0,IF($E100<>0,IF($D100=0,COUNTRY_INFO!Q100*MIN($E100,$L100),COUNTRY_INFO!Q100*MIN($E100,$L100)-($F100*COUNTRY_INFO!$Q100/(COUNTRY_INFO!$F100+COUNTRY_INFO!$G100)+IF($G100=\" \",0,COUNTRY_INFO!$Q100/(COUNTRY_INFO!$F100+COUNTRY_INFO!$G100)*$G100*$H100))),0)))","v":0},0,0,null,0,0,null,0,0,null,0]
[{"$f":"IF(AND(INTRO!$E$37=\"Non-endemic\",INTRO!$E$41=\"Non-endemic\"),\" \",IF(COUNTRY_INFO!A101=0,\" \",COUNTRY_INFO!A101))","v":"Angola"},{"$f":"IF(AND(INTRO!$E$37=\"Non-endemic\",INTRO!$E$41=\"Non-endemic\"),\" \",IF(COUNTRY_INFO!B101=0,\" \",COUNTRY_INFO!B101))","v":"LUANDA"},{"$f":"IF(AND(INTRO!$E$37=\"Non-endemic\",INTRO!$E$41=\"Non-endemic\"),\" \",IF(COUNTRY_INFO!C101=0,\" \",COUNTRY_INFO!C101))","v":"BELAS"},{"$f":"IF(AND(INTRO!$E$37=\"Non-endemic\",INTRO!$E$41=\"Non-endemic\"),0,COUNTRY_INFO!W101)","v":0},{"$f":"IF(AND(INTRO!$E$37=\"Non-endemic\",INTRO!$E$41=\"Non-endemic\"),0,COUNTRY_INFO!Y101)","v":0},{"$f":"IF($D101=1,IVM!G101,0)","v":0},{"$f":"IF($D101=0, \" \", IF(COUNTRY_INFO!$H101=1, IF(COUNTRY_INFO!$L101=1, 0,\" \"),\" \"))","v":" "},null,0,{"$f":"IF(OR(COUNTRY_INFO!O101=\"Unknown\",COUNTRY_INFO!O101=\"Surveillance\",COUNTRY_INFO!O101=\"Not required\",COUNTRY_INFO!O101=0),0,IF(INTRO!$E$39=\"Non-endemic\",IF(AND($E101<>0,$I101=\"\"),IF($F101=0,COUNTRY_INFO!O101*$E101,COUNTRY_INFO!O101*($E101-$D101)),IF(AND($E101<>0,$I101<>0),IF($F101=0,COUNTRY_INFO!O101*$I101,COUNTRY_INFO!O101*($I101-$D101)),0)),IF($I101=\"\",COUNTRY_INFO!O101*$E101,COUNTRY_INFO!O101*$I101)))","v":0},{"$f":"MAX(0,IF(OR(COUNTRY_INFO!P101=\"Unknown\",COUNTRY_INFO!P101=\"Surveillance\",COUNTRY_INFO!P101=\"Not required\",COUNTRY_INFO!P101=0),0,IF($E101<>0,IF($D101=0,COUNTRY_INFO!P101*$E101,COUNTRY_INFO!P101*$E101-($F101*COUNTRY_INFO!$P101/(COUNTRY_INFO!$F101+COUNTRY_INFO!$G101)+IF($G101=\" \",0,COUNTRY_INFO!$P101/(COUNTRY_INFO!$F101+COUNTRY_INFO!$G101)*$G101*$H101))),0)))","v":0},null,{"$f":"MAX(0,IF(OR(COUNTRY_INFO!Q101=\"Unknown\",COUNTRY_INFO!Q101=\"Surveillance\",COUNTRY_INFO!Q101=\"Not required\",COUNTRY_INFO!Q101=0),0,IF($E101<>0,IF($D101=0,COUNTRY_INFO!Q101*MIN($E101,$L101),COUNTRY_INFO!Q101*MIN($E101,$L101)-($F101*COUNTRY_INFO!$Q101/(COUNTRY_INFO!$F101+COUNTRY_INFO!$G101)+IF($G101=\" \",0,COUNTRY_INFO!$Q101/(COUNTRY_INFO!$F101+COUNTRY_INFO!$G101)*$G101*$H101))),0)))","v":0},0,0,null,0,0,null,0,0,null,0]
[{"$f":"IF(AND(INTRO!$E$37=\"Non-endemic\",INTRO!$E$41=\"Non-endemic\"),\" \",IF(COUNTRY_INFO!A102=0,\" \",COUNTRY_INFO!A102))","v":"Angola"},{"$f":"IF(AND(INTRO!$E$37=\"Non-endemic\",INTRO!$E$41=\"Non-endemic\"),\" \",IF(COUNTRY_INFO!B102=0,\" \",COUNTRY_INFO!B102))","v":"LUANDA"},{"$f":"IF(AND(INTRO!$E$37=\"Non-endemic\",INTRO!$E$41=\"Non-endemic\"),\" \",IF(COUNTRY_INFO!C102=0,\" \",COUNTRY_INFO!C102))","v":"CACUACO"},{"$f":"IF(AND(INTRO!$E$37=\"Non-endemic\",INTRO!$E$41=\"Non-endemic\"),0,COUNTRY_INFO!W102)","v":0},{"$f":"IF(AND(INTRO!$E$37=\"Non-endemic\",INTRO!$E$41=\"Non-endemic\"),0,COUNTRY_INFO!Y102)","v":0},{"$f":"IF($D102=1,IVM!G102,0)","v":0},{"$f":"IF($D102=0, \" \", IF(COUNTRY_INFO!$H102=1, IF(COUNTRY_INFO!$L102=1, 0,\" \"),\" \"))","v":" "},null,0,{"$f":"IF(OR(COUNTRY_INFO!O102=\"Unknown\",COUNTRY_INFO!O102=\"Surveillance\",COUNTRY_INFO!O102=\"Not required\",COUNTRY_INFO!O102=0),0,IF(INTRO!$E$39=\"Non-endemic\",IF(AND($E102<>0,$I102=\"\"),IF($F102=0,COUNTRY_INFO!O102*$E102,COUNTRY_INFO!O102*($E102-$D102)),IF(AND($E102<>0,$I102<>0),IF($F102=0,COUNTRY_INFO!O102*$I102,COUNTRY_INFO!O102*($I102-$D102)),0)),IF($I102=\"\",COUNTRY_INFO!O102*$E102,COUNTRY_INFO!O102*$I102)))","v":0},{"$f":"MAX(0,IF(OR(COUNTRY_INFO!P102=\"Unknown\",COUNTRY_INFO!P102=\"Surveillance\",COUNTRY_INFO!P102=\"Not required\",COUNTRY_INFO!P102=0),0,IF($E102<>0,IF($D102=0,COUNTRY_INFO!P102*$E102,COUNTRY_INFO!P102*$E102-($F102*COUNTRY_INFO!$P102/(COUNTRY_INFO!$F102+COUNTRY_INFO!$G102)+IF($G102=\" \",0,COUNTRY_INFO!$P102/(COUNTRY_INFO!$F102+COUNTRY_INFO!$G102)*$G102*$H102))),0)))","v":0},null,{"$f":"MAX(0,IF(OR(COUNTRY_INFO!Q102=\"Unknown\",COUNTRY_INFO!Q102=\"Surveillance\",COUNTRY_INFO!Q102=\"Not required\",COUNTRY_INFO!Q102=0),0,IF($E102<>0,IF($D102=0,COUNTRY_INFO!Q102*MIN($E102,$L102),COUNTRY_INFO!Q102*MIN($E102,$L102)-($F102*COUNTRY_INFO!$Q102/(COUNTRY_INFO!$F102+COUNTRY_INFO!$G102)+IF($G102=\" \",0,COUNTRY_INFO!$Q102/(COUNTRY_INFO!$F102+COUNTRY_INFO!$G102)*$G102*$H102))),0)))","v":0},0,0,null,0,0,null,0,0,null,0]
[{"$f":"IF(AND(INTRO!$E$37=\"Non-endemic\",INTRO!$E$41=\"Non-endemic\"),\" \",IF(COUNTRY_INFO!A103=0,\" \",COUNTRY_INFO!A103))","v":"Angola"},{"$f":"IF(AND(INTRO!$E$37=\"Non-endemic\",INTRO!$E$41=\"Non-endemic\"),\" \",IF(COUNTRY_INFO!B103=0,\" \",COUNTRY_INFO!B103))","v":"LUANDA"},{"$f":"IF(AND(INTRO!$E$37=\"Non-endemic\",INTRO!$E$41=\"Non-endemic\"),\" \",IF(COUNTRY_INFO!C103=0,\" \",COUNTRY_INFO!C103))","v":"CAZENGA"},{"$f":"IF(AND(INTRO!$E$37=\"Non-endemic\",INTRO!$E$41=\"Non-endemic\"),0,COUNTRY_INFO!W103)","v":0},{"$f":"IF(AND(INTRO!$E$37=\"Non-endemic\",INTRO!$E$41=\"Non-endemic\"),0,COUNTRY_INFO!Y103)","v":0},{"$f":"IF($D103=1,IVM!G103,0)","v":0},{"$f":"IF($D103=0, \" \", IF(COUNTRY_INFO!$H103=1, IF(COUNTRY_INFO!$L103=1, 0,\" \"),\" \"))","v":" "},null,0,{"$f":"IF(OR(COUNTRY_INFO!O103=\"Unknown\",COUNTRY_INFO!O103=\"Surveillance\",COUNTRY_INFO!O103=\"Not required\",COUNTRY_INFO!O103=0),0,IF(INTRO!$E$39=\"Non-endemic\",IF(AND($E103<>0,$I103=\"\"),IF($F103=0,COUNTRY_INFO!O103*$E103,COUNTRY_INFO!O103*($E103-$D103)),IF(AND($E103<>0,$I103<>0),IF($F103=0,COUNTRY_INFO!O103*$I103,COUNTRY_INFO!O103*($I103-$D103)),0)),IF($I103=\"\",COUNTRY_INFO!O103*$E103,COUNTRY_INFO!O103*$I103)))","v":0},{"$f":"MAX(0,IF(OR(COUNTRY_INFO!P103=\"Unknown\",COUNTRY_INFO!P103=\"Surveillance\",COUNTRY_INFO!P103=\"Not required\",COUNTRY_INFO!P103=0),0,IF($E103<>0,IF($D103=0,COUNTRY_INFO!P103*$E103,COUNTRY_INFO!P103*$E103-($F103*COUNTRY_INFO!$P103/(COUNTRY_INFO!$F103+COUNTRY_INFO!$G103)+IF($G103=\" \",0,COUNTRY_INFO!$P103/(COUNTRY_INFO!$F103+COUNTRY_INFO!$G103)*$G103*$H103))),0)))","v":0},null,{"$f":"MAX(0,IF(OR(COUNTRY_INFO!Q103=\"Unknown\",COUNTRY_INFO!Q103=\"Surveillance\",COUNTRY_INFO!Q103=\"Not required\",COUNTRY_INFO!Q103=0),0,IF($E103<>0,IF($D103=0,COUNTRY_INFO!Q103*MIN($E103,$L103),COUNTRY_INFO!Q103*MIN($E103,$L103)-($F103*COUNTRY_INFO!$Q103/(COUNTRY_INFO!$F103+COUNTRY_INFO!$G103)+IF($G103=\" \",0,COUNTRY_INFO!$Q103/(COUNTRY_INFO!$F103+COUNTRY_INFO!$G103)*$G103*$H103))),0)))","v":0},0,0,null,0,0,null,0,0,null,0]
[{"$f":"IF(AND(INTRO!$E$37=\"Non-endemic\",INTRO!$E$41=\"Non-endemic\"),\" \",IF(COUNTRY_INFO!A104=0,\" \",COUNTRY_INFO!A104))","v":"Angola"},{"$f":"IF(AND(INTRO!$E$37=\"Non-endemic\",INTRO!$E$41=\"Non-endemic\"),\" \",IF(COUNTRY_INFO!B104=0,\" \",COUNTRY_INFO!B104))","v":"LUANDA"},{"$f":"IF(AND(INTRO!$E$37=\"Non-endemic\",INTRO!$E$41=\"Non-endemic\"),\" \",IF(COUNTRY_INFO!C104=0,\" \",COUNTRY_INFO!C104))","v":"ICOLO E BENGO"},{"$f":"IF(AND(INTRO!$E$37=\"Non-endemic\",INTRO!$E$41=\"Non-endemic\"),0,COUNTRY_INFO!W104)","v":0},{"$f":"IF(AND(INTRO!$E$37=\"Non-endemic\",INTRO!$E$41=\"Non-endemic\"),0,COUNTRY_INFO!Y104)","v":1},{"$f":"IF($D104=1,IVM!G104,0)","v":0},{"$f":"IF($D104=0, \" \", IF(COUNTRY_INFO!$H104=1, IF(COUNTRY_INFO!$L104=1, 0,\" \"),\" \"))","v":" "},null,1,{"$f":"IF(OR(COUNTRY_INFO!O104=\"Unknown\",COUNTRY_INFO!O104=\"Surveillance\",COUNTRY_INFO!O104=\"Not required\",COUNTRY_INFO!O104=0),0,IF(INTRO!$E$39=\"Non-endemic\",IF(AND($E104<>0,$I104=\"\"),IF($F104=0,COUNTRY_INFO!O104*$E104,COUNTRY_INFO!O104*($E104-$D104)),IF(AND($E104<>0,$I104<>0),IF($F104=0,COUNTRY_INFO!O104*$I104,COUNTRY_INFO!O104*($I104-$D104)),0)),IF($I104=\"\",COUNTRY_INFO!O104*$E104,COUNTRY_INFO!O104*$I104)))","v":16900},{"$f":"MAX(0,IF(OR(COUNTRY_INFO!P104=\"Unknown\",COUNTRY_INFO!P104=\"Surveillance\",COUNTRY_INFO!P104=\"Not required\",COUNTRY_INFO!P104=0),0,IF($E104<>0,IF($D104=0,COUNTRY_INFO!P104*$E104,COUNTRY_INFO!P104*$E104-($F104*COUNTRY_INFO!$P104/(COUNTRY_INFO!$F104+COUNTRY_INFO!$G104)+IF($G104=\" \",0,COUNTRY_INFO!$P104/(COUNTRY_INFO!$F104+COUNTRY_INFO!$G104)*$G104*$H104))),0)))","v":34494},null,{"$f":"MAX(0,IF(OR(COUNTRY_INFO!Q104=\"Unknown\",COUNTRY_INFO!Q104=\"Surveillance\",COUNTRY_INFO!Q104=\"Not required\",COUNTRY_INFO!Q104=0),0,IF($E104<>0,IF($D104=0,COUNTRY_INFO!Q104*MIN($E104,$L104),COUNTRY_INFO!Q104*MIN($E104,$L104)-($F104*COUNTRY_INFO!$Q104/(COUNTRY_INFO!$F104+COUNTRY_INFO!$G104)+IF($G104=\" \",0,COUNTRY_INFO!$Q104/(COUNTRY_INFO!$F104+COUNTRY_INFO!$G104)*$G104*$H104))),0)))","v":28633},80027,0,null,0,80027,null,80027,0,null,0]
[{"$f":"IF(AND(INTRO!$E$37=\"Non-endemic\",INTRO!$E$41=\"Non-endemic\"),\" \",IF(COUNTRY_INFO!A105=0,\" \",COUNTRY_INFO!A105))","v":"Angola"},{"$f":"IF(AND(INTRO!$E$37=\"Non-endemic\",INTRO!$E$41=\"Non-endemic\"),\" \",IF(COUNTRY_INFO!B105=0,\" \",COUNTRY_INFO!B105))","v":"LUANDA"},{"$f":"IF(AND(INTRO!$E$37=\"Non-endemic\",INTRO!$E$41=\"Non-endemic\"),\" \",IF(COUNTRY_INFO!C105=0,\" \",COUNTRY_INFO!C105))","v":"KILAMBA KIAXI"},{"$f":"IF(AND(INTRO!$E$37=\"Non-endemic\",INTRO!$E$41=\"Non-endemic\"),0,COUNTRY_INFO!W105)","v":0},{"$f":"IF(AND(INTRO!$E$37=\"Non-endemic\",INTRO!$E$41=\"Non-endemic\"),0,COUNTRY_INFO!Y105)","v":0},{"$f":"IF($D105=1,IVM!G105,0)","v":0},{"$f":"IF($D105=0, \" \", IF(COUNTRY_INFO!$H105=1, IF(COUNTRY_INFO!$L105=1, 0,\" \"),\" \"))","v":" "},null,0,{"$f":"IF(OR(COUNTRY_INFO!O105=\"Unknown\",COUNTRY_INFO!O105=\"Surveillance\",COUNTRY_INFO!O105=\"Not required\",COUNTRY_INFO!O105=0),0,IF(INTRO!$E$39=\"Non-endemic\",IF(AND($E105<>0,$I105=\"\"),IF($F105=0,COUNTRY_INFO!O105*$E105,COUNTRY_INFO!O105*($E105-$D105)),IF(AND($E105<>0,$I105<>0),IF($F105=0,COUNTRY_INFO!O105*$I105,COUNTRY_INFO!O105*($I105-$D105)),0)),IF($I105=\"\",COUNTRY_INFO!O105*$E105,COUNTRY_INFO!O105*$I105)))","v":0},{"$f":"MAX(0,IF(OR(COUNTRY_INFO!P105=\"Unknown\",COUNTRY_INFO!P105=\"Surveillance\",COUNTRY_INFO!P105=\"Not required\",COUNTRY_INFO!P105=0),0,IF($E105<>0,IF($D105=0,COUNTRY_INFO!P105*$E105,COUNTRY_INFO!P105*$E105-($F105*COUNTRY_INFO!$P105/(COUNTRY_INFO!$F105+COUNTRY_INFO!$G105)+IF($G105=\" \",0,COUNTRY_INFO!$P105/(COUNTRY_INFO!$F105+COUNTRY_INFO!$G105)*$G105*$H105))),0)))","v":0},null,{"$f":"MAX(0,IF(OR(COUNTRY_INFO!Q105=\"Unknown\",COUNTRY_INFO!Q105=\"Surveillance\",COUNTRY_INFO!Q105=\"Not required\",COUNTRY_INFO!Q105=0),0,IF($E105<>0,IF($D105=0,COUNTRY_INFO!Q105*MIN($E105,$L105),COUNTRY_INFO!Q105*MIN($E105,$L105)-($F105*COUNTRY_INFO!$Q105/(COUNTRY_INFO!$F105+COUNTRY_INFO!$G105)+IF($G105=\" \",0,COUNTRY_INFO!$Q105/(COUNTRY_INFO!$F105+COUNTRY_INFO!$G105)*$G105*$H105))),0)))","v":0},0,0,null,0,0,null,0,0,null,0]
[{"$f":"IF(AND(INTRO!$E$37=\"Non-endemic\",INTRO!$E$41=\"Non-endemic\"),\" \",IF(COUNTRY_INFO!A106=0,\" \",COUNTRY_INFO!A106))","v":"Angola"},{"$f":"IF(AND(INTRO!$E$37=\"Non-endemic\",INTRO!$E$41=\"Non-endemic\"),\" \",IF(COUNTRY_INFO!B106=0,\" \",COUNTRY_INFO!B106))","v":"LUANDA"},{"$f":"IF(AND(INTRO!$E$37=\"Non-endemic\",INTRO!$E$41=\"Non-endemic\"),\" \",IF(COUNTRY_INFO!C106=0,\" \",COUNTRY_INFO!C106))","v":"LUANDA"},{"$f":"IF(AND(INTRO!$E$37=\"Non-endemic\",INTRO!$E$41=\"Non-endemic\"),0,COUNTRY_INFO!W106)","v":0},{"$f":"IF(AND(INTRO!$E$37=\"Non-endemic\",INTRO!$E$41=\"Non-endemic\"),0,COUNTRY_INFO!Y106)","v":1},{"$f":"IF($D106=1,IVM!G106,0)","v":0},{"$f":"IF($D106=0, \" \", IF(COUNTRY_INFO!$H106=1, IF(COUNTRY_INFO!$L106=1, 0,\" \"),\" \"))","v":" "},null,1,{"$f":"IF(OR(COUNTRY_INFO!O106=\"Unknown\",COUNTRY_INFO!O106=\"Surveillance\",COUNTRY_INFO!O106=\"Not required\",COUNTRY_INFO!O106=0),0,IF(INTRO!$E$39=\"Non-endemic\",IF(AND($E106<>0,$I106=\"\"),IF($F106=0,COUNTRY_INFO!O106*$E106,COUNTRY_INFO!O106*($E106-$D106)),IF(AND($E106<>0,$I106<>0),IF($F106=0,COUNTRY_INFO!O106*$I106,COUNTRY_INFO!O106*($I106-$D106)),0)),IF($I106=\"\",COUNTRY_INFO!O106*$E106,COUNTRY_INFO!O106*$I106)))","v":249676},{"$f":"MAX(0,IF(OR(COUNTRY_INFO!P106=\"Unknown\",COUNTRY_INFO!P106=\"Surveillance\",COUNTRY_INFO!P106=\"Not required\",COUNTRY_INFO!P106=0),0,IF($E106<>0,IF($D106=0,COUNTRY_INFO!P106*$E106,COUNTRY_INFO!P106*$E106-($F106*COUNTRY_INFO!$P106/(COUNTRY_INFO!$F106+COUNTRY_INFO!$G106)+IF($G106=\" \",0,COUNTRY_INFO!$P106/(COUNTRY_INFO!$F106+COUNTRY_INFO!$G106)*$G106*$H106))),0)))","v":509603},null,{"$f":"MAX(0,IF(OR(COUNTRY_INFO!Q106=\"Unknown\",COUNTRY_INFO!Q106=\"Surveillance\",COUNTRY_INFO!Q106=\"Not required\",COUNTRY_INFO!Q106=0),0,IF($E106<>0,IF($D106=0,COUNTRY_INFO!Q106*MIN($E106,$L106),COUNTRY_INFO!Q106*MIN($E106,$L106)-($F106*COUNTRY_INFO!$Q106/(COUNTRY_INFO!$F106+COUNTRY_INFO!$G106)+IF($G106=\" \",0,COUNTRY_INFO!$Q106/(COUNTRY_INFO!$F106+COUNTRY_INFO!$G106)*$G106*$H106))),0)))","v":423022},1182301,0,null,0,1182301,null,1182301,0,null,0]
[{"$f":"IF(AND(INTRO!$E$37=\"Non-endemic\",INTRO!$E$41=\"Non-endemic\"),\" \",IF(COUNTRY_INFO!A107=0,\" \",COUNTRY_INFO!A107))","v":"Angola"},{"$f":"IF(AND(INTRO!$E$37=\"Non-endemic\",INTRO!$E$41=\"Non-endemic\"),\" \",IF(COUNTRY_INFO!B107=0,\" \",COUNTRY_INFO!B107))","v":"LUANDA"},{"$f":"IF(AND(INTRO!$E$37=\"Non-endemic\",INTRO!$E$41=\"Non-endemic\"),\" \",IF(COUNTRY_INFO!C107=0,\" \",COUNTRY_INFO!C107))","v":"QUIÇAMA"},{"$f":"IF(AND(INTRO!$E$37=\"Non-endemic\",INTRO!$E$41=\"Non-endemic\"),0,COUNTRY_INFO!W107)","v":0},{"$f":"IF(AND(INTRO!$E$37=\"Non-endemic\",INTRO!$E$41=\"Non-endemic\"),0,COUNTRY_INFO!Y107)","v":0},{"$f":"IF($D107=1,IVM!G107,0)","v":0},{"$f":"IF($D107=0, \" \", IF(COUNTRY_INFO!$H107=1, IF(COUNTRY_INFO!$L107=1, 0,\" \"),\" \"))","v":" "},null,0,{"$f":"IF(OR(COUNTRY_INFO!O107=\"Unknown\",COUNTRY_INFO!O107=\"Surveillance\",COUNTRY_INFO!O107=\"Not required\",COUNTRY_INFO!O107=0),0,IF(INTRO!$E$39=\"Non-endemic\",IF(AND($E107<>0,$I107=\"\"),IF($F107=0,COUNTRY_INFO!O107*$E107,COUNTRY_INFO!O107*($E107-$D107)),IF(AND($E107<>0,$I107<>0),IF($F107=0,COUNTRY_INFO!O107*$I107,COUNTRY_INFO!O107*($I107-$D107)),0)),IF($I107=\"\",COUNTRY_INFO!O107*$E107,COUNTRY_INFO!O107*$I107)))","v":0},{"$f":"MAX(0,IF(OR(COUNTRY_INFO!P107=\"Unknown\",COUNTRY_INFO!P107=\"Surveillance\",COUNTRY_INFO!P107=\"Not required\",COUNTRY_INFO!P107=0),0,IF($E107<>0,IF($D107=0,COUNTRY_INFO!P107*$E107,COUNTRY_INFO!P107*$E107-($F107*COUNTRY_INFO!$P107/(COUNTRY_INFO!$F107+COUNTRY_INFO!$G107)+IF($G107=\" \",0,COUNTRY_INFO!$P107/(COUNTRY_INFO!$F107+COUNTRY_INFO!$G107)*$G107*$H107))),0)))","v":0},null,{"$f":"MAX(0,IF(OR(COUNTRY_INFO!Q107=\"Unknown\",COUNTRY_INFO!Q107=\"Surveillance\",COUNTRY_INFO!Q107=\"Not required\",COUNTRY_INFO!Q107=0),0,IF($E107<>0,IF($D107=0,COUNTRY_INFO!Q107*MIN($E107,$L107),COUNTRY_INFO!Q107*MIN($E107,$L107)-($F107*COUNTRY_INFO!$Q107/(COUNTRY_INFO!$F107+COUNTRY_INFO!$G107)+IF($G107=\" \",0,COUNTRY_INFO!$Q107/(COUNTRY_INFO!$F107+COUNTRY_INFO!$G107)*$G107*$H107))),0)))","v":0},0,0,null,0,0,null,0,0,null,0]
[{"$f":"IF(AND(INTRO!$E$37=\"Non-endemic\",INTRO!$E$41=\"Non-endemic\"),\" \",IF(COUNTRY_INFO!A108=0,\" \",COUNTRY_INFO!A108))","v":"Angola"},{"$f":"IF(AND(INTRO!$E$37=\"Non-endemic\",INTRO!$E$41=\"Non-endemic\"),\" \",IF(COUNTRY_INFO!B108=0,\" \",COUNTRY_INFO!B108))","v":"LUANDA"},{"$f":"IF(AND(INTRO!$E$37=\"Non-endemic\",INTRO!$E$41=\"Non-endemic\"),\" \",IF(COUNTRY_INFO!C108=0,\" \",COUNTRY_INFO!C108))","v":"TALATONA"},{"$f":"IF(AND(INTRO!$E$37=\"Non-endemic\",INTRO!$E$41=\"Non-endemic\"),0,COUNTRY_INFO!W108)","v":0},{"$f":"IF(AND(INTRO!$E$37=\"Non-endemic\",INTRO!$E$41=\"Non-endemic\"),0,COUNTRY_INFO!Y108)","v":0},{"$f":"IF($D108=1,IVM!G108,0)","v":0},{"$f":"IF($D108=0, \" \", IF(COUNTRY_INFO!$H108=1, IF(COUNTRY_INFO!$L108=1, 0,\" \"),\" \"))","v":" "},null,0,{"$f":"IF(OR(COUNTRY_INFO!O108=\"Unknown\",COUNTRY_INFO!O108=\"Surveillance\",COUNTRY_INFO!O108=\"Not required\",COUNTRY_INFO!O108=0),0,IF(INTRO!$E$39=\"Non-endemic\",IF(AND($E108<>0,$I108=\"\"),IF($F108=0,COUNTRY_INFO!O108*$E108,COUNTRY_INFO!O108*($E108-$D108)),IF(AND($E108<>0,$I108<>0),IF($F108=0,COUNTRY_INFO!O108*$I108,COUNTRY_INFO!O108*($I108-$D108)),0)),IF($I108=\"\",COUNTRY_INFO!O108*$E108,COUNTRY_INFO!O108*$I108)))","v":0},{"$f":"MAX(0,IF(OR(COUNTRY_INFO!P108=\"Unknown\",COUNTRY_INFO!P108=\"Surveillance\",COUNTRY_INFO!P108=\"Not required\",COUNTRY_INFO!P108=0),0,IF($E108<>0,IF($D108=0,COUNTRY_INFO!P108*$E108,COUNTRY_INFO!P108*$E108-($F108*COUNTRY_INFO!$P108/(COUNTRY_INFO!$F108+COUNTRY_INFO!$G108)+IF($G108=\" \",0,COUNTRY_INFO!$P108/(COUNTRY_INFO!$F108+COUNTRY_INFO!$G108)*$G108*$H108))),0)))","v":0},null,{"$f":"MAX(0,IF(OR(COUNTRY_INFO!Q108=\"Unknown\",COUNTRY_INFO!Q108=\"Surveillance\",COUNTRY_INFO!Q108=\"Not required\",COUNTRY_INFO!Q108=0),0,IF($E108<>0,IF($D108=0,COUNTRY_INFO!Q108*MIN($E108,$L108),COUNTRY_INFO!Q108*MIN($E108,$L108)-($F108*COUNTRY_INFO!$Q108/(COUNTRY_INFO!$F108+COUNTRY_INFO!$G108)+IF($G108=\" \",0,COUNTRY_INFO!$Q108/(COUNTRY_INFO!$F108+COUNTRY_INFO!$G108)*$G108*$H108))),0)))","v":0},0,0,null,0,0,null,0,0,null,0]
[{"$f":"IF(AND(INTRO!$E$37=\"Non-endemic\",INTRO!$E$41=\"Non-endemic\"),\" \",IF(COUNTRY_INFO!A109=0,\" \",COUNTRY_INFO!A109))","v":"Angola"},{"$f":"IF(AND(INTRO!$E$37=\"Non-endemic\",INTRO!$E$41=\"Non-endemic\"),\" \",IF(COUNTRY_INFO!B109=0,\" \",COUNTRY_INFO!B109))","v":"LUANDA"},{"$f":"IF(AND(INTRO!$E$37=\"Non-endemic\",INTRO!$E$41=\"Non-endemic\"),\" \",IF(COUNTRY_INFO!C109=0,\" \",COUNTRY_INFO!C109))","v":"VIANA"},{"$f":"IF(AND(INTRO!$E$37=\"Non-endemic\",INTRO!$E$41=\"Non-endemic\"),0,COUNTRY_INFO!W109)","v":0},{"$f":"IF(AND(INTRO!$E$37=\"Non-endemic\",INTRO!$E$41=\"Non-endemic\"),0,COUNTRY_INFO!Y109)","v":0},{"$f":"IF($D109=1,IVM!G109,0)","v":0},{"$f":"IF($D109=0, \" \", IF(COUNTRY_INFO!$H109=1, IF(COUNTRY_INFO!$L109=1, 0,\" \"),\" \"))","v":" "},null,0,{"$f":"IF(OR(COUNTRY_INFO!O109=\"Unknown\",COUNTRY_INFO!O109=\"Surveillance\",COUNTRY_INFO!O109=\"Not required\",COUNTRY_INFO!O109=0),0,IF(INTRO!$E$39=\"Non-endemic\",IF(AND($E109<>0,$I109=\"\"),IF($F109=0,COUNTRY_INFO!O109*$E109,COUNTRY_INFO!O109*($E109-$D109)),IF(AND($E109<>0,$I109<>0),IF($F109=0,COUNTRY_INFO!O109*$I109,COUNTRY_INFO!O109*($I109-$D109)),0)),IF($I109=\"\",COUNTRY_INFO!O109*$E109,COUNTRY_INFO!O109*$I109)))","v":0},{"$f":"MAX(0,IF(OR(COUNTRY_INFO!P109=\"Unknown\",COUNTRY_INFO!P109=\"Surveillance\",COUNTRY_INFO!P109=\"Not required\",COUNTRY_INFO!P109=0),0,IF($E109<>0,IF($D109=0,COUNTRY_INFO!P109*$E109,COUNTRY_INFO!P109*$E109-($F109*COUNTRY_INFO!$P109/(COUNTRY_INFO!$F109+COUNTRY_INFO!$G109)+IF($G109=\" \",0,COUNTRY_INFO!$P109/(COUNTRY_INFO!$F109+COUNTRY_INFO!$G109)*$G109*$H109))),0)))","v":0},null,{"$f":"MAX(0,IF(OR(COUNTRY_INFO!Q109=\"Unknown\",COUNTRY_INFO!Q109=\"Surveillance\",COUNTRY_INFO!Q109=\"Not required\",COUNTRY_INFO!Q109=0),0,IF($E109<>0,IF($D109=0,COUNTRY_INFO!Q109*MIN($E109,$L109),COUNTRY_INFO!Q109*MIN($E109,$L109)-($F109*COUNTRY_INFO!$Q109/(COUNTRY_INFO!$F109+COUNTRY_INFO!$G109)+IF($G109=\" \",0,COUNTRY_INFO!$Q109/(COUNTRY_INFO!$F109+COUNTRY_INFO!$G109)*$G109*$H109))),0)))","v":0},0,0,null,0,0,null,0,0,null,0]
[{"$f":"IF(AND(INTRO!$E$37=\"Non-endemic\",INTRO!$E$41=\"Non-endemic\"),\" \",IF(COUNTRY_INFO!A110=0,\" \",COUNTRY_INFO!A110))","v":"Angola"},{"$f":"IF(AND(INTRO!$E$37=\"Non-endemic\",INTRO!$E$41=\"Non-endemic\"),\" \",IF(COUNTRY_INFO!B110=0,\" \",COUNTRY_INFO!B110))","v":"LUNDA NORTE"},{"$f":"IF(AND(INTRO!$E$37=\"Non-endemic\",INTRO!$E$41=\"Non-endemic\"),\" \",IF(COUNTRY_INFO!C110=0,\" \",COUNTRY_INFO!C110))","v":"CAMBULO"},{"$f":"IF(AND(INTRO!$E$37=\"Non-endemic\",INTRO!$E$41=\"Non-endemic\"),0,COUNTRY_INFO!W110)","v":1},{"$f":"IF(AND(INTRO!$E$37=\"Non-endemic\",INTRO!$E$41=\"Non-endemic\"),0,COUNTRY_INFO!Y110)","v":2},{"$f":"IF($D110=1,IVM!G110,0)","v":128560},{"$f":"IF($D110=0, \" \", IF(COUNTRY_INFO!$H110=1, IF(COUNTRY_INFO!$L110=1, 0,\" \"),\" \"))","v":" "},null,2,{"$f":"IF(OR(COUNTRY_INFO!O110=\"Unknown\",COUNTRY_INFO!O110=\"Surveillance\",COUNTRY_INFO!O110=\"Not required\",COUNTRY_INFO!O110=0),0,IF(INTRO!$E$39=\"Non-endemic\",IF(AND($E110<>0,$I110=\"\"),IF($F110=0,COUNTRY_INFO!O110*$E110,COUNTRY_INFO!O110*($E110-$D110)),IF(AND($E110<>0,$I110<>0),IF($F110=0,COUNTRY_INFO!O110*$I110,COUNTRY_INFO!O110*($I110-$D110)),0)),IF($I110=\"\",COUNTRY_INFO!O110*$E110,COUNTRY_INFO!O110*$I110)))","v":42428},{"$f":"MAX(0,IF(OR(COUNTRY_INFO!P110=\"Unknown\",COUNTRY_INFO!P110=\"Surveillance\",COUNTRY_INFO!P110=\"Not required\",COUNTRY_INFO!P110=0),0,IF($E110<>0,IF($D110=0,COUNTRY_INFO!P110*$E110,COUNTRY_INFO!P110*$E110-($F110*COUNTRY_INFO!$P110/(COUNTRY_INFO!$F110+COUNTRY_INFO!$G110)+IF($G110=\" \",0,COUNTRY_INFO!$P110/(COUNTRY_INFO!$F110+COUNTRY_INFO!$G110)*$G110*$H110))),0)))","v":43299},null,{"$f":"MAX(0,IF(OR(COUNTRY_INFO!Q110=\"Unknown\",COUNTRY_INFO!Q110=\"Surveillance\",COUNTRY_INFO!Q110=\"Not required\",COUNTRY_INFO!Q110=0),0,IF($E110<>0,IF($D110=0,COUNTRY_INFO!Q110*MIN($E110,$L110),COUNTRY_INFO!Q110*MIN($E110,$L110)-($F110*COUNTRY_INFO!$Q110/(COUNTRY_INFO!$F110+COUNTRY_INFO!$G110)+IF($G110=\" \",0,COUNTRY_INFO!$Q110/(COUNTRY_INFO!$F110+COUNTRY_INFO!$G110)*$G110*$H110))),0)))","v":35943},121670,128560,null,128560,121670,null,121670,0,null,0]
[{"$f":"IF(AND(INTRO!$E$37=\"Non-endemic\",INTRO!$E$41=\"Non-endemic\"),\" \",IF(COUNTRY_INFO!A111=0,\" \",COUNTRY_INFO!A111))","v":"Angola"},{"$f":"IF(AND(INTRO!$E$37=\"Non-endemic\",INTRO!$E$41=\"Non-endemic\"),\" \",IF(COUNTRY_INFO!B111=0,\" \",COUNTRY_INFO!B111))","v":"LUNDA NORTE"},{"$f":"IF(AND(INTRO!$E$37=\"Non-endemic\",INTRO!$E$41=\"Non-endemic\"),\" \",IF(COUNTRY_INFO!C111=0,\" \",COUNTRY_INFO!C111))","v":"CAPENDA CAMULEMBA"},{"$f":"IF(AND(INTRO!$E$37=\"Non-endemic\",INTRO!$E$41=\"Non-endemic\"),0,COUNTRY_INFO!W111)","v":0},{"$f":"IF(AND(INTRO!$E$37=\"Non-endemic\",INTRO!$E$41=\"Non-endemic\"),0,COUNTRY_INFO!Y111)","v":2},{"$f":"IF($D111=1,IVM!G111,0)","v":0},{"$f":"IF($D111=0, \" \", IF(COUNTRY_INFO!$H111=1, IF(COUNTRY_INFO!$L111=1, 0,\" \"),\" \"))","v":" "},null,2,{"$f":"IF(OR(COUNTRY_INFO!O111=\"Unknown\",COUNTRY_INFO!O111=\"Surveillance\",COUNTRY_INFO!O111=\"Not required\",COUNTRY_INFO!O111=0),0,IF(INTRO!$E$39=\"Non-endemic\",IF(AND($E111<>0,$I111=\"\"),IF($F111=0,COUNTRY_INFO!O111*$E111,COUNTRY_INFO!O111*($E111-$D111)),IF(AND($E111<>0,$I111<>0),IF($F111=0,COUNTRY_INFO!O111*$I111,COUNTRY_INFO!O111*($I111-$D111)),0)),IF($I111=\"\",COUNTRY_INFO!O111*$E111,COUNTRY_INFO!O111*$I111)))","v":20602},{"$f":"MAX(0,IF(OR(COUNTRY_INFO!P111=\"Unknown\",COUNTRY_INFO!P111=\"Surveillance\",COUNTRY_INFO!P111=\"Not required\",COUNTRY_INFO!P111=0),0,IF($E111<>0,IF($D111=0,COUNTRY_INFO!P111*$E111,COUNTRY_INFO!P111*$E111-($F111*COUNTRY_INFO!$P111/(COUNTRY_INFO!$F111+COUNTRY_INFO!$G111)+IF($G111=\" \",0,COUNTRY_INFO!$P111/(COUNTRY_INFO!$F111+COUNTRY_INFO!$G111)*$G111*$H111))),0)))","v":42052},null,{"$f":"MAX(0,IF(OR(COUNTRY_INFO!Q111=\"Unknown\",COUNTRY_INFO!Q111=\"Surveillance\",COUNTRY_INFO!Q111=\"Not required\",COUNTRY_INFO!Q111=0),0,IF($E111<>0,IF($D111=0,COUNTRY_INFO!Q111*MIN($E111,$L111),COUNTRY_INFO!Q111*MIN($E111,$L111)-($F111*COUNTRY_INFO!$Q111/(COUNTRY_INFO!$F111+COUNTRY_INFO!$G111)+IF($G111=\" \",0,COUNTRY_INFO!$Q111/(COUNTRY_INFO!$F111+COUNTRY_INFO!$G111)*$G111*$H111))),0)))","v":34908},97562,0,null,0,97562,null,97562,0,null,0]
[{"$f":"IF(AND(INTRO!$E$37=\"Non-endemic\",INTRO!$E$41=\"Non-endemic\"),\" \",IF(COUNTRY_INFO!A112=0,\" \",COUNTRY_INFO!A112))","v":"Angola"},{"$f":"IF(AND(INTRO!$E$37=\"Non-endemic\",INTRO!$E$41=\"Non-endemic\"),\" \",IF(COUNTRY_INFO!B112=0,\" \",COUNTRY_INFO!B112))","v":"LUNDA NORTE"},{"$f":"IF(AND(INTRO!$E$37=\"Non-endemic\",INTRO!$E$41=\"Non-endemic\"),\" \",IF(COUNTRY_INFO!C112=0,\" \",COUNTRY_INFO!C112))","v":"CAUNGULA"},{"$f":"IF(AND(INTRO!$E$37=\"Non-endemic\",INTRO!$E$41=\"Non-endemic\"),0,COUNTRY_INFO!W112)","v":0},{"$f":"IF(AND(INTRO!$E$37=\"Non-endemic\",INTRO!$E$41=\"Non-endemic\"),0,COUNTRY_INFO!Y112)","v":1},{"$f":"IF($D112=1,IVM!G112,0)","v":0},{"$f":"IF($D112=0, \" \", IF(COUNTRY_INFO!$H112=1, IF(COUNTRY_INFO!$L112=1, 0,\" \"),\" \"))","v":" "},null,1,{"$f":"IF(OR(COUNTRY_INFO!O112=\"Unknown\",COUNTRY_INFO!O112=\"Surveillance\",COUNTRY_INFO!O112=\"Not required\",COUNTRY_INFO!O112=0),0,IF(INTRO!$E$39=\"Non-endemic\",IF(AND($E112<>0,$I112=\"\"),IF($F112=0,COUNTRY_INFO!O112*$E112,COUNTRY_INFO!O112*($E112-$D112)),IF(AND($E112<>0,$I112<>0),IF($F112=0,COUNTRY_INFO!O112*$I112,COUNTRY_INFO!O112*($I112-$D112)),0)),IF($I112=\"\",COUNTRY_INFO!O112*$E112,COUNTRY_INFO!O112*$I112)))","v":4960},{"$f":"MAX(0,IF(OR(COUNTRY_INFO!P112=\"Unknown\",COUNTRY_INFO!P112=\"Surveillance\",COUNTRY_INFO!P112=\"Not required\",COUNTRY_INFO!P112=0),0,IF($E112<>0,IF($D112=0,COUNTRY_INFO!P112*$E112,COUNTRY_INFO!P112*$E112-($F112*COUNTRY_INFO!$P112/(COUNTRY_INFO!$F112+COUNTRY_INFO!$G112)+IF($G112=\" \",0,COUNTRY_INFO!$P112/(COUNTRY_INFO!$F112+COUNTRY_INFO!$G112)*$G112*$H112))),0)))","v":10123},null,{"$f":"MAX(0,IF(OR(COUNTRY_INFO!Q112=\"Unknown\",COUNTRY_INFO!Q112=\"Surveillance\",COUNTRY_INFO!Q112=\"Not required\",COUNTRY_INFO!Q112=0),0,IF($E112<>0,IF($D112=0,COUNTRY_INFO!Q112*MIN($E112,$L112),COUNTRY_INFO!Q112*MIN($E112,$L112)-($F112*COUNTRY_INFO!$Q112/(COUNTRY_INFO!$F112+COUNTRY_INFO!$G112)+IF($G112=\" \",0,COUNTRY_INFO!$Q112/(COUNTRY_INFO!$F112+COUNTRY_INFO!$G112)*$G112*$H112))),0)))","v":8403},23486,0,null,0,23486,null,23486,0,null,0]
[{"$f":"IF(AND(INTRO!$E$37=\"Non-endemic\",INTRO!$E$41=\"Non-endemic\"),\" \",IF(COUNTRY_INFO!A113=0,\" \",COUNTRY_INFO!A113))","v":"Angola"},{"$f":"IF(AND(INTRO!$E$37=\"Non-endemic\",INTRO!$E$41=\"Non-endemic\"),\" \",IF(COUNTRY_INFO!B113=0,\" \",COUNTRY_INFO!B113))","v":"LUNDA NORTE"},{"$f":"IF(AND(INTRO!$E$37=\"Non-endemic\",INTRO!$E$41=\"Non-endemic\"),\" \",IF(COUNTRY_INFO!C113=0,\" \",COUNTRY_INFO!C113))","v":"CHITATO"},{"$f":"IF(AND(INTRO!$E$37=\"Non-endemic\",INTRO!$E$41=\"Non-endemic\"),0,COUNTRY_INFO!W113)","v":0},{"$f":"IF(AND(INTRO!$E$37=\"Non-endemic\",INTRO!$E$41=\"Non-endemic\"),0,COUNTRY_INFO!Y113)","v":2},{"$f":"IF($D113=1,IVM!G113,0)","v":0},{"$f":"IF($D113=0, \" \", IF(COUNTRY_INFO!$H113=1, IF(COUNTRY_INFO!$L113=1, 0,\" \"),\" \"))","v":" "},null,2,{"$f":"IF(OR(COUNTRY_INFO!O113=\"Unknown\",COUNTRY_INFO!O113=\"Surveillance\",COUNTRY_INFO!O113=\"Not required\",COUNTRY_INFO!O113=0),0,IF(INTRO!$E$39=\"Non-endemic\",IF(AND($E113<>0,$I113=\"\"),IF($F113=0,COUNTRY_INFO!O113*$E113,COUNTRY_INFO!O113*($E113-$D113)),IF(AND($E113<>0,$I113<>0),IF($F113=0,COUNTRY_INFO!O113*$I113,COUNTRY_INFO!O113*($I113-$D113)),0)),IF($I113=\"\",COUNTRY_INFO!O113*$E113,COUNTRY_INFO!O113*$I113)))","v":66870},{"$f":"MAX(0,IF(OR(COUNTRY_INFO!P113=\"Unknown\",COUNTRY_INFO!P113=\"Surveillance\",COUNTRY_INFO!P113=\"Not required\",COUNTRY_INFO!P113=0),0,IF($E113<>0,IF($D113=0,COUNTRY_INFO!P113*$E113,COUNTRY_INFO!P113*$E113-($F113*COUNTRY_INFO!$P113/(COUNTRY_INFO!$F113+COUNTRY_INFO!$G113)+IF($G113=\" \",0,COUNTRY_INFO!$P113/(COUNTRY_INFO!$F113+COUNTRY_INFO!$G113)*$G113*$H113))),0)))","v":136486},null,{"$f":"MAX(0,IF(OR(COUNTRY_INFO!Q113=\"Unknown\",COUNTRY_INFO!Q113=\"Surveillance\",COUNTRY_INFO!Q113=\"Not required\",COUNTRY_INFO!Q113=0),0,IF($E113<>0,IF($D113=0,COUNTRY_INFO!Q113*MIN($E113,$L113),COUNTRY_INFO!Q113*MIN($E113,$L113)-($F113*COUNTRY_INFO!$Q113/(COUNTRY_INFO!$F113+COUNTRY_INFO!$G113)+IF($G113=\" \",0,COUNTRY_INFO!$Q113/(COUNTRY_INFO!$F113+COUNTRY_INFO!$G113)*$G113*$H113))),0)))","v":113296},316652,0,null,0,316652,null,316652,0,null,0]
[{"$f":"IF(AND(INTRO!$E$37=\"Non-endemic\",INTRO!$E$41=\"Non-endemic\"),\" \",IF(COUNTRY_INFO!A114=0,\" \",COUNTRY_INFO!A114))","v":"Angola"},{"$f":"IF(AND(INTRO!$E$37=\"Non-endemic\",INTRO!$E$41=\"Non-endemic\"),\" \",IF(COUNTRY_INFO!B114=0,\" \",COUNTRY_INFO!B114))","v":"LUNDA NORTE"},{"$f":"IF(AND(INTRO!$E$37=\"Non-endemic\",INTRO!$E$41=\"Non-endemic\"),\" \",IF(COUNTRY_INFO!C114=0,\" \",COUNTRY_INFO!C114))","v":"CUANGO"},{"$f":"IF(AND(INTRO!$E$37=\"Non-endemic\",INTRO!$E$41=\"Non-endemic\"),0,COUNTRY_INFO!W114)","v":0},{"$f":"IF(AND(INTRO!$E$37=\"Non-endemic\",INTRO!$E$41=\"Non-endemic\"),0,COUNTRY_INFO!Y114)","v":1},{"$f":"IF($D114=1,IVM!G114,0)","v":0},{"$f":"IF($D114=0, \" \", IF(COUNTRY_INFO!$H114=1, IF(COUNTRY_INFO!$L114=1, 0,\" \"),\" \"))","v":" "},null,1,{"$f":"IF(OR(COUNTRY_INFO!O114=\"Unknown\",COUNTRY_INFO!O114=\"Surveillance\",COUNTRY_INFO!O114=\"Not required\",COUNTRY_INFO!O114=0),0,IF(INTRO!$E$39=\"Non-endemic\",IF(AND($E114<>0,$I114=\"\"),IF($F114=0,COUNTRY_INFO!O114*$E114,COUNTRY_INFO!O114*($E114-$D114)),IF(AND($E114<>0,$I114<>0),IF($F114=0,COUNTRY_INFO!O114*$I114,COUNTRY_INFO!O114*($I114-$D114)),0)),IF($I114=\"\",COUNTRY_INFO!O114*$E114,COUNTRY_INFO!O114*$I114)))","v":32462},{"$f":"MAX(0,IF(OR(COUNTRY_INFO!P114=\"Unknown\",COUNTRY_INFO!P114=\"Surveillance\",COUNTRY_INFO!P114=\"Not required\",COUNTRY_INFO!P114=0),0,IF($E114<>0,IF($D114=0,COUNTRY_INFO!P114*$E114,COUNTRY_INFO!P114*$E114-($F114*COUNTRY_INFO!$P114/(COUNTRY_INFO!$F114+COUNTRY_INFO!$G114)+IF($G114=\" \",0,COUNTRY_INFO!$P114/(COUNTRY_INFO!$F114+COUNTRY_INFO!$G114)*$G114*$H114))),0)))","v":66258},null,{"$f":"MAX(0,IF(OR(COUNTRY_INFO!Q114=\"Unknown\",COUNTRY_INFO!Q114=\"Surveillance\",COUNTRY_INFO!Q114=\"Not required\",COUNTRY_INFO!Q114=0),0,IF($E114<>0,IF($D114=0,COUNTRY_INFO!Q114*MIN($E114,$L114),COUNTRY_INFO!Q114*MIN($E114,$L114)-($F114*COUNTRY_INFO!$Q114/(COUNTRY_INFO!$F114+COUNTRY_INFO!$G114)+IF($G114=\" \",0,COUNTRY_INFO!$Q114/(COUNTRY_INFO!$F114+COUNTRY_INFO!$G114)*$G114*$H114))),0)))","v":55000},153720,0,null,0,153720,null,153720,0,null,0]
[{"$f":"IF(AND(INTRO!$E$37=\"Non-endemic\",INTRO!$E$41=\"Non-endemic\"),\" \",IF(COUNTRY_INFO!A115=0,\" \",COUNTRY_INFO!A115))","v":"Angola"},{"$f":"IF(AND(INTRO!$E$37=\"Non-endemic\",INTRO!$E$41=\"Non-endemic\"),\" \",IF(COUNTRY_INFO!B115=0,\" \",COUNTRY_INFO!B115))","v":"LUNDA NORTE"},{"$f":"IF(AND(INTRO!$E$37=\"Non-endemic\",INTRO!$E$41=\"Non-endemic\"),\" \",IF(COUNTRY_INFO!C115=0,\" \",COUNTRY_INFO!C115))","v":"CUILO"},{"$f":"IF(AND(INTRO!$E$37=\"Non-endemic\",INTRO!$E$41=\"Non-endemic\"),0,COUNTRY_INFO!W115)","v":1},{"$f":"IF(AND(INTRO!$E$37=\"Non-endemic\",INTRO!$E$41=\"Non-endemic\"),0,COUNTRY_INFO!Y115)","v":1},{"$f":"IF($D115=1,IVM!G115,0)","v":22465},{"$f":"IF($D115=0, \" \", IF(COUNTRY_INFO!$H115=1, IF(COUNTRY_INFO!$L115=1, 0,\" \"),\" \"))","v":" "},null,1,{"$f":"IF(OR(COUNTRY_INFO!O115=\"Unknown\",COUNTRY_INFO!O115=\"Surveillance\",COUNTRY_INFO!O115=\"Not required\",COUNTRY_INFO!O115=0),0,IF(INTRO!$E$39=\"Non-endemic\",IF(AND($E115<>0,$I115=\"\"),IF($F115=0,COUNTRY_INFO!O115*$E115,COUNTRY_INFO!O115*($E115-$D115)),IF(AND($E115<>0,$I115<>0),IF($F115=0,COUNTRY_INFO!O115*$I115,COUNTRY_INFO!O115*($I115-$D115)),0)),IF($I115=\"\",COUNTRY_INFO!O115*$E115,COUNTRY_INFO!O115*$I115)))","v":3707},{"$f":"MAX(0,IF(OR(COUNTRY_INFO!P115=\"Unknown\",COUNTRY_INFO!P115=\"Surveillance\",COUNTRY_INFO!P115=\"Not required\",COUNTRY_INFO!P115=0),0,IF($E115<>0,IF($D115=0,COUNTRY_INFO!P115*$E115,COUNTRY_INFO!P115*$E115-($F115*COUNTRY_INFO!$P115/(COUNTRY_INFO!$F115+COUNTRY_INFO!$G115)+IF($G115=\" \",0,COUNTRY_INFO!$P115/(COUNTRY_INFO!$F115+COUNTRY_INFO!$G115)*$G115*$H115))),0)))","v":0},null,{"$f":"MAX(0,IF(OR(COUNTRY_INFO!Q115=\"Unknown\",COUNTRY_INFO!Q115=\"Surveillance\",COUNTRY_INFO!Q115=\"Not required\",COUNTRY_INFO!Q115=0),0,IF($E115<>0,IF($D115=0,COUNTRY_INFO!Q115*MIN($E115,$L115),COUNTRY_INFO!Q115*MIN($E115,$L115)-($F115*COUNTRY_INFO!$Q115/(COUNTRY_INFO!$F115+COUNTRY_INFO!$G115)+IF($G115=\" \",0,COUNTRY_INFO!$Q115/(COUNTRY_INFO!$F115+COUNTRY_INFO!$G115)*$G115*$H115))),0)))","v":0},3707,22465,null,22465,3707,null,3707,0,null,0]
[{"$f":"IF(AND(INTRO!$E$37=\"Non-endemic\",INTRO!$E$41=\"Non-endemic\"),\" \",IF(COUNTRY_INFO!A116=0,\" \",COUNTRY_INFO!A116))","v":"Angola"},{"$f":"IF(AND(INTRO!$E$37=\"Non-endemic\",INTRO!$E$41=\"Non-endemic\"),\" \",IF(COUNTRY_INFO!B116=0,\" \",COUNTRY_INFO!B116))","v":"LUNDA NORTE"},{"$f":"IF(AND(INTRO!$E$37=\"Non-endemic\",INTRO!$E$41=\"Non-endemic\"),\" \",IF(COUNTRY_INFO!C116=0,\" \",COUNTRY_INFO!C116))","v":"LOVUA"},{"$f":"IF(AND(INTRO!$E$37=\"Non-endemic\",INTRO!$E$41=\"Non-endemic\"),0,COUNTRY_INFO!W116)","v":0},{"$f":"IF(AND(INTRO!$E$37=\"Non-endemic\",INTRO!$E$41=\"Non-endemic\"),0,COUNTRY_INFO!Y116)","v":1},{"$f":"IF($D116=1,IVM!G116,0)","v":0},{"$f":"IF($D116=0, \" \", IF(COUNTRY_INFO!$H116=1, IF(COUNTRY_INFO!$L116=1, 0,\" \"),\" \"))","v":" "},null,1,{"$f":"IF(OR(COUNTRY_INFO!O116=\"Unknown\",COUNTRY_INFO!O116=\"Surveillance\",COUNTRY_INFO!O116=\"Not required\",COUNTRY_INFO!O116=0),0,IF(INTRO!$E$39=\"Non-endemic\",IF(AND($E116<>0,$I116=\"\"),IF($F116=0,COUNTRY_INFO!O116*$E116,COUNTRY_INFO!O116*($E116-$D116)),IF(AND($E116<>0,$I116<>0),IF($F116=0,COUNTRY_INFO!O116*$I116,COUNTRY_INFO!O116*($I116-$D116)),0)),IF($I116=\"\",COUNTRY_INFO!O116*$E116,COUNTRY_INFO!O116*$I116)))","v":2305},{"$f":"MAX(0,IF(OR(COUNTRY_INFO!P116=\"Unknown\",COUNTRY_INFO!P116=\"Surveillance\",COUNTRY_INFO!P116=\"Not required\",COUNTRY_INFO!P116=0),0,IF($E116<>0,IF($D116=0,COUNTRY_INFO!P116*$E116,COUNTRY_INFO!P116*$E116-($F116*COUNTRY_INFO!$P116/(COUNTRY_INFO!$F116+COUNTRY_INFO!$G116)+IF($G116=\" \",0,COUNTRY_INFO!$P116/(COUNTRY_INFO!$F116+COUNTRY_INFO!$G116)*$G116*$H116))),0)))","v":4706},null,{"$f":"MAX(0,IF(OR(COUNTRY_INFO!Q116=\"Unknown\",COUNTRY_INFO!Q116=\"Surveillance\",COUNTRY_INFO!Q116=\"Not required\",COUNTRY_INFO!Q116=0),0,IF($E116<>0,IF($D116=0,COUNTRY_INFO!Q116*MIN($E116,$L116),COUNTRY_INFO!Q116*MIN($E116,$L116)-($F116*COUNTRY_INFO!$Q116/(COUNTRY_INFO!$F116+COUNTRY_INFO!$G116)+IF($G116=\" \",0,COUNTRY_INFO!$Q116/(COUNTRY_INFO!$F116+COUNTRY_INFO!$G116)*$G116*$H116))),0)))","v":3906},10917,0,null,0,10917,null,10917,0,null,0]
[{"$f":"IF(AND(INTRO!$E$37=\"Non-endemic\",INTRO!$E$41=\"Non-endemic\"),\" \",IF(COUNTRY_INFO!A117=0,\" \",COUNTRY_INFO!A117))","v":"Angola"},{"$f":"IF(AND(INTRO!$E$37=\"Non-endemic\",INTRO!$E$41=\"Non-endemic\"),\" \",IF(COUNTRY_INFO!B117=0,\" \",COUNTRY_INFO!B117))","v":"LUNDA NORTE"},{"$f":"IF(AND(INTRO!$E$37=\"Non-endemic\",INTRO!$E$41=\"Non-endemic\"),\" \",IF(COUNTRY_INFO!C117=0,\" \",COUNTRY_INFO!C117))","v":"LUBALO"},{"$f":"IF(AND(INTRO!$E$37=\"Non-endemic\",INTRO!$E$41=\"Non-endemic\"),0,COUNTRY_INFO!W117)","v":0},{"$f":"IF(AND(INTRO!$E$37=\"Non-endemic\",INTRO!$E$41=\"Non-endemic\"),0,COUNTRY_INFO!Y117)","v":2},{"$f":"IF($D117=1,IVM!G117,0)","v":0},{"$f":"IF($D117=0, \" \", IF(COUNTRY_INFO!$H117=1, IF(COUNTRY_INFO!$L117=1, 0,\" \"),\" \"))","v":" "},null,2,{"$f":"IF(OR(COUNTRY_INFO!O117=\"Unknown\",COUNTRY_INFO!O117=\"Surveillance\",COUNTRY_INFO!O117=\"Not required\",COUNTRY_INFO!O117=0),0,IF(INTRO!$E$39=\"Non-endemic\",IF(AND($E117<>0,$I117=\"\"),IF($F117=0,COUNTRY_INFO!O117*$E117,COUNTRY_INFO!O117*($E117-$D117)),IF(AND($E117<>0,$I117<>0),IF($F117=0,COUNTRY_INFO!O117*$I117,COUNTRY_INFO!O117*($I117-$D117)),0)),IF($I117=\"\",COUNTRY_INFO!O117*$E117,COUNTRY_INFO!O117*$I117)))","v":7284},{"$f":"MAX(0,IF(OR(COUNTRY_INFO!P117=\"Unknown\",COUNTRY_INFO!P117=\"Surveillance\",COUNTRY_INFO!P117=\"Not required\",COUNTRY_INFO!P117=0),0,IF($E117<>0,IF($D117=0,COUNTRY_INFO!P117*$E117,COUNTRY_INFO!P117*$E117-($F117*COUNTRY_INFO!$P117/(COUNTRY_INFO!$F117+COUNTRY_INFO!$G117)+IF($G117=\" \",0,COUNTRY_INFO!$P117/(COUNTRY_INFO!$F117+COUNTRY_INFO!$G117)*$G117*$H117))),0)))","v":14868},null,{"$f":"MAX(0,IF(OR(COUNTRY_INFO!Q117=\"Unknown\",COUNTRY_INFO!Q117=\"Surveillance\",COUNTRY_INFO!Q117=\"Not required\",COUNTRY_INFO!Q117=0),0,IF($E117<>0,IF($D117=0,COUNTRY_INFO!Q117*MIN($E117,$L117),COUNTRY_INFO!Q117*MIN($E117,$L117)-($F117*COUNTRY_INFO!$Q117/(COUNTRY_INFO!$F117+COUNTRY_INFO!$G117)+IF($G117=\" \",0,COUNTRY_INFO!$Q117/(COUNTRY_INFO!$F117+COUNTRY_INFO!$G117)*$G117*$H117))),0)))","v":12342},34494,0,null,0,34494,null,34494,0,null,0]
[{"$f":"IF(AND(INTRO!$E$37=\"Non-endemic\",INTRO!$E$41=\"Non-endemic\"),\" \",IF(COUNTRY_INFO!A118=0,\" \",COUNTRY_INFO!A118))","v":"Angola"},{"$f":"IF(AND(INTRO!$E$37=\"Non-endemic\",INTRO!$E$41=\"Non-endemic\"),\" \",IF(COUNTRY_INFO!B118=0,\" \",COUNTRY_INFO!B118))","v":"LUNDA NORTE"},{"$f":"IF(AND(INTRO!$E$37=\"Non-endemic\",INTRO!$E$41=\"Non-endemic\"),\" \",IF(COUNTRY_INFO!C118=0,\" \",COUNTRY_INFO!C118))","v":"LUCAPA"},{"$f":"IF(AND(INTRO!$E$37=\"Non-endemic\",INTRO!$E$41=\"Non-endemic\"),0,COUNTRY_INFO!W118)","v":0},{"$f":"IF(AND(INTRO!$E$37=\"Non-endemic\",INTRO!$E$41=\"Non-endemic\"),0,COUNTRY_INFO!Y118)","v":2},{"$f":"IF($D118=1,IVM!G118,0)","v":0},{"$f":"IF($D118=0, \" \", IF(COUNTRY_INFO!$H118=1, IF(COUNTRY_INFO!$L118=1, 0,\" \"),\" \"))","v":" "},null,2,{"$f":"IF(OR(COUNTRY_INFO!O118=\"Unknown\",COUNTRY_INFO!O118=\"Surveillance\",COUNTRY_INFO!O118=\"Not required\",COUNTRY_INFO!O118=0),0,IF(INTRO!$E$39=\"Non-endemic\",IF(AND($E118<>0,$I118=\"\"),IF($F118=0,COUNTRY_INFO!O118*$E118,COUNTRY_INFO!O118*($E118-$D118)),IF(AND($E118<>0,$I118<>0),IF($F118=0,COUNTRY_INFO!O118*$I118,COUNTRY_INFO!O118*($I118-$D118)),0)),IF($I118=\"\",COUNTRY_INFO!O118*$E118,COUNTRY_INFO!O118*$I118)))","v":54510},{"$f":"MAX(0,IF(OR(COUNTRY_INFO!P118=\"Unknown\",COUNTRY_INFO!P118=\"Surveillance\",COUNTRY_INFO!P118=\"Not required\",COUNTRY_INFO!P118=0),0,IF($E118<>0,IF($D118=0,COUNTRY_INFO!P118*$E118,COUNTRY_INFO!P118*$E118-($F118*COUNTRY_INFO!$P118/(COUNTRY_INFO!$F118+COUNTRY_INFO!$G118)+IF($G118=\" \",0,COUNTRY_INFO!$P118/(COUNTRY_INFO!$F118+COUNTRY_INFO!$G118)*$G118*$H118))),0)))","v":111260},null,{"$f":"MAX(0,IF(OR(COUNTRY_INFO!Q118=\"Unknown\",COUNTRY_INFO!Q118=\"Surveillance\",COUNTRY_INFO!Q118=\"Not required\",COUNTRY_INFO!Q118=0),0,IF($E118<>0,IF($D118=0,COUNTRY_INFO!Q118*MIN($E118,$L118),COUNTRY_INFO!Q118*MIN($E118,$L118)-($F118*COUNTRY_INFO!$Q118/(COUNTRY_INFO!$F118+COUNTRY_INFO!$G118)+IF($G118=\" \",0,COUNTRY_INFO!$Q118/(COUNTRY_INFO!$F118+COUNTRY_INFO!$G118)*$G118*$H118))),0)))","v":92356},258126,0,null,0,258126,null,258126,0,null,0]
[{"$f":"IF(AND(INTRO!$E$37=\"Non-endemic\",INTRO!$E$41=\"Non-endemic\"),\" \",IF(COUNTRY_INFO!A119=0,\" \",COUNTRY_INFO!A119))","v":"Angola"},{"$f":"IF(AND(INTRO!$E$37=\"Non-endemic\",INTRO!$E$41=\"Non-endemic\"),\" \",IF(COUNTRY_INFO!B119=0,\" \",COUNTRY_INFO!B119))","v":"LUNDA NORTE"},{"$f":"IF(AND(INTRO!$E$37=\"Non-endemic\",INTRO!$E$41=\"Non-endemic\"),\" \",IF(COUNTRY_INFO!C119=0,\" \",COUNTRY_INFO!C119))","v":"XA MUTEBA"},{"$f":"IF(AND(INTRO!$E$37=\"Non-endemic\",INTRO!$E$41=\"Non-endemic\"),0,COUNTRY_INFO!W119)","v":1},{"$f":"IF(AND(INTRO!$E$37=\"Non-endemic\",INTRO!$E$41=\"Non-endemic\"),0,COUNTRY_INFO!Y119)","v":2},{"$f":"IF($D119=1,IVM!G119,0)","v":51466},{"$f":"IF($D119=0, \" \", IF(COUNTRY_INFO!$H119=1, IF(COUNTRY_INFO!$L119=1, 0,\" \"),\" \"))","v":" "},null,2,{"$f":"IF(OR(COUNTRY_INFO!O119=\"Unknown\",COUNTRY_INFO!O119=\"Surveillance\",COUNTRY_INFO!O119=\"Not required\",COUNTRY_INFO!O119=0),0,IF(INTRO!$E$39=\"Non-endemic\",IF(AND($E119<>0,$I119=\"\"),IF($F119=0,COUNTRY_INFO!O119*$E119,COUNTRY_INFO!O119*($E119-$D119)),IF(AND($E119<>0,$I119<>0),IF($F119=0,COUNTRY_INFO!O119*$I119,COUNTRY_INFO!O119*($I119-$D119)),0)),IF($I119=\"\",COUNTRY_INFO!O119*$E119,COUNTRY_INFO!O119*$I119)))","v":16984},{"$f":"MAX(0,IF(OR(COUNTRY_INFO!P119=\"Unknown\",COUNTRY_INFO!P119=\"Surveillance\",COUNTRY_INFO!P119=\"Not required\",COUNTRY_INFO!P119=0),0,IF($E119<>0,IF($D119=0,COUNTRY_INFO!P119*$E119,COUNTRY_INFO!P119*$E119-($F119*COUNTRY_INFO!$P119/(COUNTRY_INFO!$F119+COUNTRY_INFO!$G119)+IF($G119=\" \",0,COUNTRY_INFO!$P119/(COUNTRY_INFO!$F119+COUNTRY_INFO!$G119)*$G119*$H119))),0)))","v":17334},null,{"$f":"MAX(0,IF(OR(COUNTRY_INFO!Q119=\"Unknown\",COUNTRY_INFO!Q119=\"Surveillance\",COUNTRY_INFO!Q119=\"Not required\",COUNTRY_INFO!Q119=0),0,IF($E119<>0,IF($D119=0,COUNTRY_INFO!Q119*MIN($E119,$L119),COUNTRY_INFO!Q119*MIN($E119,$L119)-($F119*COUNTRY_INFO!$Q119/(COUNTRY_INFO!$F119+COUNTRY_INFO!$G119)+IF($G119=\" \",0,COUNTRY_INFO!$Q119/(COUNTRY_INFO!$F119+COUNTRY_INFO!$G119)*$G119*$H119))),0)))","v":14389},48707,51466,null,51466,48707,null,48707,0,null,0]
[{"$f":"IF(AND(INTRO!$E$37=\"Non-endemic\",INTRO!$E$41=\"Non-endemic\"),\" \",IF(COUNTRY_INFO!A120=0,\" \",COUNTRY_INFO!A120))","v":"Angola"},{"$f":"IF(AND(INTRO!$E$37=\"Non-endemic\",INTRO!$E$41=\"Non-endemic\"),\" \",IF(COUNTRY_INFO!B120=0,\" \",COUNTRY_INFO!B120))","v":"LUNDA SUL"},{"$f":"IF(AND(INTRO!$E$37=\"Non-endemic\",INTRO!$E$41=\"Non-endemic\"),\" \",IF(COUNTRY_INFO!C120=0,\" \",COUNTRY_INFO!C120))","v":"CACOLO"},{"$f":"IF(AND(INTRO!$E$37=\"Non-endemic\",INTRO!$E$41=\"Non-endemic\"),0,COUNTRY_INFO!W120)","v":1},{"$f":"IF(AND(INTRO!$E$37=\"Non-endemic\",INTRO!$E$41=\"Non-endemic\"),0,COUNTRY_INFO!Y120)","v":2},{"$f":"IF($D120=1,IVM!G120,0)","v":34626},{"$f":"IF($D120=0, \" \", IF(COUNTRY_INFO!$H120=1, IF(COUNTRY_INFO!$L120=1, 0,\" \"),\" \"))","v":" "},null,2,{"$f":"IF(OR(COUNTRY_INFO!O120=\"Unknown\",COUNTRY_INFO!O120=\"Surveillance\",COUNTRY_INFO!O120=\"Not required\",COUNTRY_INFO!O120=0),0,IF(INTRO!$E$39=\"Non-endemic\",IF(AND($E120<>0,$I120=\"\"),IF($F120=0,COUNTRY_INFO!O120*$E120,COUNTRY_INFO!O120*($E120-$D120)),IF(AND($E120<>0,$I120<>0),IF($F120=0,COUNTRY_INFO!O120*$I120,COUNTRY_INFO!O120*($I120-$D120)),0)),IF($I120=\"\",COUNTRY_INFO!O120*$E120,COUNTRY_INFO!O120*$I120)))","v":11428},{"$f":"MAX(0,IF(OR(COUNTRY_INFO!P120=\"Unknown\",COUNTRY_INFO!P120=\"Surveillance\",COUNTRY_INFO!P120=\"Not required\",COUNTRY_INFO!P120=0),0,IF($E120<>0,IF($D120=0,COUNTRY_INFO!P120*$E120,COUNTRY_INFO!P120*$E120-($F120*COUNTRY_INFO!$P120/(COUNTRY_INFO!$F120+COUNTRY_INFO!$G120)+IF($G120=\" \",0,COUNTRY_INFO!$P120/(COUNTRY_INFO!$F120+COUNTRY_INFO!$G120)*$G120*$H120))),0)))","v":11662},null,{"$f":"MAX(0,IF(OR(COUNTRY_INFO!Q120=\"Unknown\",COUNTRY_INFO!Q120=\"Surveillance\",COUNTRY_INFO!Q120=\"Not required\",COUNTRY_INFO!Q120=0),0,IF($E120<>0,IF($D120=0,COUNTRY_INFO!Q120*MIN($E120,$L120),COUNTRY_INFO!Q120*MIN($E120,$L120)-($F120*COUNTRY_INFO!$Q120/(COUNTRY_INFO!$F120+COUNTRY_INFO!$G120)+IF($G120=\" \",0,COUNTRY_INFO!$Q120/(COUNTRY_INFO!$F120+COUNTRY_INFO!$G120)*$G120*$H120))),0)))","v":9681},32771,34626,null,34626,32771,null,32771,0,null,0]
[{"$f":"IF(AND(INTRO!$E$37=\"Non-endemic\",INTRO!$E$41=\"Non-endemic\"),\" \",IF(COUNTRY_INFO!A121=0,\" \",COUNTRY_INFO!A121))","v":"Angola"},{"$f":"IF(AND(INTRO!$E$37=\"Non-endemic\",INTRO!$E$41=\"Non-endemic\"),\" \",IF(COUNTRY_INFO!B121=0,\" \",COUNTRY_INFO!B121))","v":"LUNDA SUL"},{"$f":"IF(AND(INTRO!$E$37=\"Non-endemic\",INTRO!$E$41=\"Non-endemic\"),\" \",IF(COUNTRY_INFO!C121=0,\" \",COUNTRY_INFO!C121))","v":"DALA"},{"$f":"IF(AND(INTRO!$E$37=\"Non-endemic\",INTRO!$E$41=\"Non-endemic\"),0,COUNTRY_INFO!W121)","v":0},{"$f":"IF(AND(INTRO!$E$37=\"Non-endemic\",INTRO!$E$41=\"Non-endemic\"),0,COUNTRY_INFO!Y121)","v":1},{"$f":"IF($D121=1,IVM!G121,0)","v":0},{"$f":"IF($D121=0, \" \", IF(COUNTRY_INFO!$H121=1, IF(COUNTRY_INFO!$L121=1, 0,\" \"),\" \"))","v":" "},null,1,{"$f":"IF(OR(COUNTRY_INFO!O121=\"Unknown\",COUNTRY_INFO!O121=\"Surveillance\",COUNTRY_INFO!O121=\"Not required\",COUNTRY_INFO!O121=0),0,IF(INTRO!$E$39=\"Non-endemic\",IF(AND($E121<>0,$I121=\"\"),IF($F121=0,COUNTRY_INFO!O121*$E121,COUNTRY_INFO!O121*($E121-$D121)),IF(AND($E121<>0,$I121<>0),IF($F121=0,COUNTRY_INFO!O121*$I121,COUNTRY_INFO!O121*($I121-$D121)),0)),IF($I121=\"\",COUNTRY_INFO!O121*$E121,COUNTRY_INFO!O121*$I121)))","v":5373},{"$f":"MAX(0,IF(OR(COUNTRY_INFO!P121=\"Unknown\",COUNTRY_INFO!P121=\"Surveillance\",COUNTRY_INFO!P121=\"Not required\",COUNTRY_INFO!P121=0),0,IF($E121<>0,IF($D121=0,COUNTRY_INFO!P121*$E121,COUNTRY_INFO!P121*$E121-($F121*COUNTRY_INFO!$P121/(COUNTRY_INFO!$F121+COUNTRY_INFO!$G121)+IF($G121=\" \",0,COUNTRY_INFO!$P121/(COUNTRY_INFO!$F121+COUNTRY_INFO!$G121)*$G121*$H121))),0)))","v":10966},null,{"$f":"MAX(0,IF(OR(COUNTRY_INFO!Q121=\"Unknown\",COUNTRY_INFO!Q121=\"Surveillance\",COUNTRY_INFO!Q121=\"Not required\",COUNTRY_INFO!Q121=0),0,IF($E121<>0,IF($D121=0,COUNTRY_INFO!Q121*MIN($E121,$L121),COUNTRY_INFO!Q121*MIN($E121,$L121)-($F121*COUNTRY_INFO!$Q121/(COUNTRY_INFO!$F121+COUNTRY_INFO!$G121)+IF($G121=\" \",0,COUNTRY_INFO!$Q121/(COUNTRY_INFO!$F121+COUNTRY_INFO!$G121)*$G121*$H121))),0)))","v":9103},25442,0,null,0,25442,null,25442,0,null,0]
[{"$f":"IF(AND(INTRO!$E$37=\"Non-endemic\",INTRO!$E$41=\"Non-endemic\"),\" \",IF(COUNTRY_INFO!A122=0,\" \",COUNTRY_INFO!A122))","v":"Angola"},{"$f":"IF(AND(INTRO!$E$37=\"Non-endemic\",INTRO!$E$41=\"Non-endemic\"),\" \",IF(COUNTRY_INFO!B122=0,\" \",COUNTRY_INFO!B122))","v":"LUNDA SUL"},{"$f":"IF(AND(INTRO!$E$37=\"Non-endemic\",INTRO!$E$41=\"Non-endemic\"),\" \",IF(COUNTRY_INFO!C122=0,\" \",COUNTRY_INFO!C122))","v":"MUCONDA"},{"$f":"IF(AND(INTRO!$E$37=\"Non-endemic\",INTRO!$E$41=\"Non-endemic\"),0,COUNTRY_INFO!W122)","v":0},{"$f":"IF(AND(INTRO!$E$37=\"Non-endemic\",INTRO!$E$41=\"Non-endemic\"),0,COUNTRY_INFO!Y122)","v":2},{"$f":"IF($D122=1,IVM!G122,0)","v":0},{"$f":"IF($D122=0, \" \", IF(COUNTRY_INFO!$H122=1, IF(COUNTRY_INFO!$L122=1, 0,\" \"),\" \"))","v":" "},null,2,{"$f":"IF(OR(COUNTRY_INFO!O122=\"Unknown\",COUNTRY_INFO!O122=\"Surveillance\",COUNTRY_INFO!O122=\"Not required\",COUNTRY_INFO!O122=0),0,IF(INTRO!$E$39=\"Non-endemic\",IF(AND($E122<>0,$I122=\"\"),IF($F122=0,COUNTRY_INFO!O122*$E122,COUNTRY_INFO!O122*($E122-$D122)),IF(AND($E122<>0,$I122<>0),IF($F122=0,COUNTRY_INFO!O122*$I122,COUNTRY_INFO!O122*($I122-$D122)),0)),IF($I122=\"\",COUNTRY_INFO!O122*$E122,COUNTRY_INFO!O122*$I122)))","v":11918},{"$f":"MAX(0,IF(OR(COUNTRY_INFO!P122=\"Unknown\",COUNTRY_INFO!P122=\"Surveillance\",COUNTRY_INFO!P122=\"Not required\",COUNTRY_INFO!P122=0),0,IF($E122<>0,IF($D122=0,COUNTRY_INFO!P122*$E122,COUNTRY_INFO!P122*$E122-($F122*COUNTRY_INFO!$P122/(COUNTRY_INFO!$F122+COUNTRY_INFO!$G122)+IF($G122=\" \",0,COUNTRY_INFO!$P122/(COUNTRY_INFO!$F122+COUNTRY_INFO!$G122)*$G122*$H122))),0)))","v":24324},null,{"$f":"MAX(0,IF(OR(COUNTRY_INFO!Q122=\"Unknown\",COUNTRY_INFO!Q122=\"Surveillance\",COUNTRY_INFO!Q122=\"Not required\",COUNTRY_INFO!Q122=0),0,IF($E122<>0,IF($D122=0,COUNTRY_INFO!Q122*MIN($E122,$L122),COUNTRY_INFO!Q122*MIN($E122,$L122)-($F122*COUNTRY_INFO!$Q122/(COUNTRY_INFO!$F122+COUNTRY_INFO!$G122)+IF($G122=\" \",0,COUNTRY_INFO!$Q122/(COUNTRY_INFO!$F122+COUNTRY_INFO!$G122)*$G122*$H122))),0)))","v":20192},56434,0,null,0,56434,null,56434,0,null,0]
[{"$f":"IF(AND(INTRO!$E$37=\"Non-endemic\",INTRO!$E$41=\"Non-endemic\"),\" \",IF(COUNTRY_INFO!A123=0,\" \",COUNTRY_INFO!A123))","v":"Angola"},{"$f":"IF(AND(INTRO!$E$37=\"Non-endemic\",INTRO!$E$41=\"Non-endemic\"),\" \",IF(COUNTRY_INFO!B123=0,\" \",COUNTRY_INFO!B123))","v":"LUNDA SUL"},{"$f":"IF(AND(INTRO!$E$37=\"Non-endemic\",INTRO!$E$41=\"Non-endemic\"),\" \",IF(COUNTRY_INFO!C123=0,\" \",COUNTRY_INFO!C123))","v":"SAURIMO"},{"$f":"IF(AND(INTRO!$E$37=\"Non-endemic\",INTRO!$E$41=\"Non-endemic\"),0,COUNTRY_INFO!W123)","v":1},{"$f":"IF(AND(INTRO!$E$37=\"Non-endemic\",INTRO!$E$41=\"Non-endemic\"),0,COUNTRY_INFO!Y123)","v":2},{"$f":"IF($D123=1,IVM!G123,0)","v":480322},{"$f":"IF($D123=0, \" \", IF(COUNTRY_INFO!$H123=1, IF(COUNTRY_INFO!$L123=1, 0,\" \"),\" \"))","v":" "},null,2,{"$f":"IF(OR(COUNTRY_INFO!O123=\"Unknown\",COUNTRY_INFO!O123=\"Surveillance\",COUNTRY_INFO!O123=\"Not required\",COUNTRY_INFO!O123=0),0,IF(INTRO!$E$39=\"Non-endemic\",IF(AND($E123<>0,$I123=\"\"),IF($F123=0,COUNTRY_INFO!O123*$E123,COUNTRY_INFO!O123*($E123-$D123)),IF(AND($E123<>0,$I123<>0),IF($F123=0,COUNTRY_INFO!O123*$I123,COUNTRY_INFO!O123*($I123-$D123)),0)),IF($I123=\"\",COUNTRY_INFO!O123*$E123,COUNTRY_INFO!O123*$I123)))","v":158520},{"$f":"MAX(0,IF(OR(COUNTRY_INFO!P123=\"Unknown\",COUNTRY_INFO!P123=\"Surveillance\",COUNTRY_INFO!P123=\"Not required\",COUNTRY_INFO!P123=0),0,IF($E123<>0,IF($D123=0,COUNTRY_INFO!P123*$E123,COUNTRY_INFO!P123*$E123-($F123*COUNTRY_INFO!$P123/(COUNTRY_INFO!$F123+COUNTRY_INFO!$G123)+IF($G123=\" \",0,COUNTRY_INFO!$P123/(COUNTRY_INFO!$F123+COUNTRY_INFO!$G123)*$G123*$H123))),0)))","v":161773},null,{"$f":"MAX(0,IF(OR(COUNTRY_INFO!Q123=\"Unknown\",COUNTRY_INFO!Q123=\"Surveillance\",COUNTRY_INFO!Q123=\"Not required\",COUNTRY_INFO!Q123=0),0,IF($E123<>0,IF($D123=0,COUNTRY_INFO!Q123*MIN($E123,$L123),COUNTRY_INFO!Q123*MIN($E123,$L123)-($F123*COUNTRY_INFO!$Q123/(COUNTRY_INFO!$F123+COUNTRY_INFO!$G123)+IF($G123=\" \",0,COUNTRY_INFO!$Q123/(COUNTRY_INFO!$F123+COUNTRY_INFO!$G123)*$G123*$H123))),0)))","v":134288},454581,480322,null,480322,454581,null,454581,0,null,0]
[{"$f":"IF(AND(INTRO!$E$37=\"Non-endemic\",INTRO!$E$41=\"Non-endemic\"),\" \",IF(COUNTRY_INFO!A124=0,\" \",COUNTRY_INFO!A124))","v":"Angola"},{"$f":"IF(AND(INTRO!$E$37=\"Non-endemic\",INTRO!$E$41=\"Non-endemic\"),\" \",IF(COUNTRY_INFO!B124=0,\" \",COUNTRY_INFO!B124))","v":"MALANJE"},{"$f":"IF(AND(INTRO!$E$37=\"Non-endemic\",INTRO!$E$41=\"Non-endemic\"),\" \",IF(COUNTRY_INFO!C124=0,\" \",COUNTRY_INFO!C124))","v":"CACULAMA (Mukari)"},{"$f":"IF(AND(INTRO!$E$37=\"Non-endemic\",INTRO!$E$41=\"Non-endemic\"),0,COUNTRY_INFO!W124)","v":1},{"$f":"IF(AND(INTRO!$E$37=\"Non-endemic\",INTRO!$E$41=\"Non-endemic\"),0,COUNTRY_INFO!Y124)","v":2},{"$f":"IF($D124=1,IVM!G124,0)","v":32238},{"$f":"IF($D124=0, \" \", IF(COUNTRY_INFO!$H124=1, IF(COUNTRY_INFO!$L124=1, 0,\" \"),\" \"))","v":" "},null,2,{"$f":"IF(OR(COUNTRY_INFO!O124=\"Unknown\",COUNTRY_INFO!O124=\"Surveillance\",COUNTRY_INFO!O124=\"Not required\",COUNTRY_INFO!O124=0),0,IF(INTRO!$E$39=\"Non-endemic\",IF(AND($E124<>0,$I124=\"\"),IF($F124=0,COUNTRY_INFO!O124*$E124,COUNTRY_INFO!O124*($E124-$D124)),IF(AND($E124<>0,$I124<>0),IF($F124=0,COUNTRY_INFO!O124*$I124,COUNTRY_INFO!O124*($I124-$D124)),0)),IF($I124=\"\",COUNTRY_INFO!O124*$E124,COUNTRY_INFO!O124*$I124)))","v":10640},{"$f":"MAX(0,IF(OR(COUNTRY_INFO!P124=\"Unknown\",COUNTRY_INFO!P124=\"Surveillance\",COUNTRY_INFO!P124=\"Not required\",COUNTRY_INFO!P124=0),0,IF($E124<>0,IF($D124=0,COUNTRY_INFO!P124*$E124,COUNTRY_INFO!P124*$E124-($F124*COUNTRY_INFO!$P124/(COUNTRY_INFO!$F124+COUNTRY_INFO!$G124)+IF($G124=\" \",0,COUNTRY_INFO!$P124/(COUNTRY_INFO!$F124+COUNTRY_INFO!$G124)*$G124*$H124))),0)))","v":10858},null,{"$f":"MAX(0,IF(OR(COUNTRY_INFO!Q124=\"Unknown\",COUNTRY_INFO!Q124=\"Surveillance\",COUNTRY_INFO!Q124=\"Not required\",COUNTRY_INFO!Q124=0),0,IF($E124<>0,IF($D124=0,COUNTRY_INFO!Q124*MIN($E124,$L124),COUNTRY_INFO!Q124*MIN($E124,$L124)-($F124*COUNTRY_INFO!$Q124/(COUNTRY_INFO!$F124+COUNTRY_INFO!$G124)+IF($G124=\" \",0,COUNTRY_INFO!$Q124/(COUNTRY_INFO!$F124+COUNTRY_INFO!$G124)*$G124*$H124))),0)))","v":9013},30511,32238,null,32238,30511,null,30511,0,null,0]
[{"$f":"IF(AND(INTRO!$E$37=\"Non-endemic\",INTRO!$E$41=\"Non-endemic\"),\" \",IF(COUNTRY_INFO!A125=0,\" \",COUNTRY_INFO!A125))","v":"Angola"},{"$f":"IF(AND(INTRO!$E$37=\"Non-endemic\",INTRO!$E$41=\"Non-endemic\"),\" \",IF(COUNTRY_INFO!B125=0,\" \",COUNTRY_INFO!B125))","v":"MALANJE"},{"$f":"IF(AND(INTRO!$E$37=\"Non-endemic\",INTRO!$E$41=\"Non-endemic\"),\" \",IF(COUNTRY_INFO!C125=0,\" \",COUNTRY_INFO!C125))","v":"CACUSO"},{"$f":"IF(AND(INTRO!$E$37=\"Non-endemic\",INTRO!$E$41=\"Non-endemic\"),0,COUNTRY_INFO!W125)","v":0},{"$f":"IF(AND(INTRO!$E$37=\"Non-endemic\",INTRO!$E$41=\"Non-endemic\"),0,COUNTRY_INFO!Y125)","v":2},{"$f":"IF($D125=1,IVM!G125,0)","v":0},{"$f":"IF($D125=0, \" \", IF(COUNTRY_INFO!$H125=1, IF(COUNTRY_INFO!$L125=1, 0,\" \"),\" \"))","v":" "},null,2,{"$f":"IF(OR(COUNTRY_INFO!O125=\"Unknown\",COUNTRY_INFO!O125=\"Surveillance\",COUNTRY_INFO!O125=\"Not required\",COUNTRY_INFO!O125=0),0,IF(INTRO!$E$39=\"Non-endemic\",IF(AND($E125<>0,$I125=\"\"),IF($F125=0,COUNTRY_INFO!O125*$E125,COUNTRY_INFO!O125*($E125-$D125)),IF(AND($E125<>0,$I125<>0),IF($F125=0,COUNTRY_INFO!O125*$I125,COUNTRY_INFO!O125*($I125-$D125)),0)),IF($I125=\"\",COUNTRY_INFO!O125*$E125,COUNTRY_INFO!O125*$I125)))","v":25258},{"$f":"MAX(0,IF(OR(COUNTRY_INFO!P125=\"Unknown\",COUNTRY_INFO!P125=\"Surveillance\",COUNTRY_INFO!P125=\"Not required\",COUNTRY_INFO!P125=0),0,IF($E125<>0,IF($D125=0,COUNTRY_INFO!P125*$E125,COUNTRY_INFO!P125*$E125-($F125*COUNTRY_INFO!$P125/(COUNTRY_INFO!$F125+COUNTRY_INFO!$G125)+IF($G125=\" \",0,COUNTRY_INFO!$P125/(COUNTRY_INFO!$F125+COUNTRY_INFO!$G125)*$G125*$H125))),0)))","v":51552},null,{"$f":"MAX(0,IF(OR(COUNTRY_INFO!Q125=\"Unknown\",COUNTRY_INFO!Q125=\"Surveillance\",COUNTRY_INFO!Q125=\"Not required\",COUNTRY_INFO!Q125=0),0,IF($E125<>0,IF($D125=0,COUNTRY_INFO!Q125*MIN($E125,$L125),COUNTRY_INFO!Q125*MIN($E125,$L125)-($F125*COUNTRY_INFO!$Q125/(COUNTRY_INFO!$F125+COUNTRY_INFO!$G125)+IF($G125=\" \",0,COUNTRY_INFO!$Q125/(COUNTRY_INFO!$F125+COUNTRY_INFO!$G125)*$G125*$H125))),0)))","v":42792},119602,0,null,0,119602,null,119602,0,null,0]
[{"$f":"IF(AND(INTRO!$E$37=\"Non-endemic\",INTRO!$E$41=\"Non-endemic\"),\" \",IF(COUNTRY_INFO!A126=0,\" \",COUNTRY_INFO!A126))","v":"Angola"},{"$f":"IF(AND(INTRO!$E$37=\"Non-endemic\",INTRO!$E$41=\"Non-endemic\"),\" \",IF(COUNTRY_INFO!B126=0,\" \",COUNTRY_INFO!B126))","v":"MALANJE"},{"$f":"IF(AND(INTRO!$E$37=\"Non-endemic\",INTRO!$E$41=\"Non-endemic\"),\" \",IF(COUNTRY_INFO!C126=0,\" \",COUNTRY_INFO!C126))","v":"CAHOMBO"},{"$f":"IF(AND(INTRO!$E$37=\"Non-endemic\",INTRO!$E$41=\"Non-endemic\"),0,COUNTRY_INFO!W126)","v":0},{"$f":"IF(AND(INTRO!$E$37=\"Non-endemic\",INTRO!$E$41=\"Non-endemic\"),0,COUNTRY_INFO!Y126)","v":1},{"$f":"IF($D126=1,IVM!G126,0)","v":0},{"$f":"IF($D126=0, \" \", IF(COUNTRY_INFO!$H126=1, IF(COUNTRY_INFO!$L126=1, 0,\" \"),\" \"))","v":" "},null,1,{"$f":"IF(OR(COUNTRY_INFO!O126=\"Unknown\",COUNTRY_INFO!O126=\"Surveillance\",COUNTRY_INFO!O126=\"Not required\",COUNTRY_INFO!O126=0),0,IF(INTRO!$E$39=\"Non-endemic\",IF(AND($E126<>0,$I126=\"\"),IF($F126=0,COUNTRY_INFO!O126*$E126,COUNTRY_INFO!O126*($E126-$D126)),IF(AND($E126<>0,$I126<>0),IF($F126=0,COUNTRY_INFO!O126*$I126,COUNTRY_INFO!O126*($I126-$D126)),0)),IF($I126=\"\",COUNTRY_INFO!O126*$E126,COUNTRY_INFO!O126*$I126)))","v":3800},{"$f":"MAX(0,IF(OR(COUNTRY_INFO!P126=\"Unknown\",COUNTRY_INFO!P126=\"Surveillance\",COUNTRY_INFO!P126=\"Not required\",COUNTRY_INFO!P126=0),0,IF($E126<>0,IF($D126=0,COUNTRY_INFO!P126*$E126,COUNTRY_INFO!P126*$E126-($F126*COUNTRY_INFO!$P126/(COUNTRY_INFO!$F126+COUNTRY_INFO!$G126)+IF($G126=\" \",0,COUNTRY_INFO!$P126/(COUNTRY_INFO!$F126+COUNTRY_INFO!$G126)*$G126*$H126))),0)))","v":7756},null,{"$f":"MAX(0,IF(OR(COUNTRY_INFO!Q126=\"Unknown\",COUNTRY_INFO!Q126=\"Surveillance\",COUNTRY_INFO!Q126=\"Not required\",COUNTRY_INFO!Q126=0),0,IF($E126<>0,IF($D126=0,COUNTRY_INFO!Q126*MIN($E126,$L126),COUNTRY_INFO!Q126*MIN($E126,$L126)-($F126*COUNTRY_INFO!$Q126/(COUNTRY_INFO!$F126+COUNTRY_INFO!$G126)+IF($G126=\" \",0,COUNTRY_INFO!$Q126/(COUNTRY_INFO!$F126+COUNTRY_INFO!$G126)*$G126*$H126))),0)))","v":6438},17994,0,null,0,17994,null,17994,0,null,0]
[{"$f":"IF(AND(INTRO!$E$37=\"Non-endemic\",INTRO!$E$41=\"Non-endemic\"),\" \",IF(COUNTRY_INFO!A127=0,\" \",COUNTRY_INFO!A127))","v":"Angola"},{"$f":"IF(AND(INTRO!$E$37=\"Non-endemic\",INTRO!$E$41=\"Non-endemic\"),\" \",IF(COUNTRY_INFO!B127=0,\" \",COUNTRY_INFO!B127))","v":"MALANJE"},{"$f":"IF(AND(INTRO!$E$37=\"Non-endemic\",INTRO!$E$41=\"Non-endemic\"),\" \",IF(COUNTRY_INFO!C127=0,\" \",COUNTRY_INFO!C127))","v":"CALANDULA"},{"$f":"IF(AND(INTRO!$E$37=\"Non-endemic\",INTRO!$E$41=\"Non-endemic\"),0,COUNTRY_INFO!W127)","v":0},{"$f":"IF(AND(INTRO!$E$37=\"Non-endemic\",INTRO!$E$41=\"Non-endemic\"),0,COUNTRY_INFO!Y127)","v":2},{"$f":"IF($D127=1,IVM!G127,0)","v":0},{"$f":"IF($D127=0, \" \", IF(COUNTRY_INFO!$H127=1, IF(COUNTRY_INFO!$L127=1, 0,\" \"),\" \"))","v":" "},null,2,{"$f":"IF(OR(COUNTRY_INFO!O127=\"Unknown\",COUNTRY_INFO!O127=\"Surveillance\",COUNTRY_INFO!O127=\"Not required\",COUNTRY_INFO!O127=0),0,IF(INTRO!$E$39=\"Non-endemic\",IF(AND($E127<>0,$I127=\"\"),IF($F127=0,COUNTRY_INFO!O127*$E127,COUNTRY_INFO!O127*($E127-$D127)),IF(AND($E127<>0,$I127<>0),IF($F127=0,COUNTRY_INFO!O127*$I127,COUNTRY_INFO!O127*($I127-$D127)),0)),IF($I127=\"\",COUNTRY_INFO!O127*$E127,COUNTRY_INFO!O127*$I127)))","v":28412},{"$f":"MAX(0,IF(OR(COUNTRY_INFO!P127=\"Unknown\",COUNTRY_INFO!P127=\"Surveillance\",COUNTRY_INFO!P127=\"Not required\",COUNTRY_INFO!P127=0),0,IF($E127<>0,IF($D127=0,COUNTRY_INFO!P127*$E127,COUNTRY_INFO!P127*$E127-($F127*COUNTRY_INFO!$P127/(COUNTRY_INFO!$F127+COUNTRY_INFO!$G127)+IF($G127=\" \",0,COUNTRY_INFO!$P127/(COUNTRY_INFO!$F127+COUNTRY_INFO!$G127)*$G127*$H127))),0)))","v":57990},null,{"$f":"MAX(0,IF(OR(COUNTRY_INFO!Q127=\"Unknown\",COUNTRY_INFO!Q127=\"Surveillance\",COUNTRY_INFO!Q127=\"Not required\",COUNTRY_INFO!Q127=0),0,IF($E127<>0,IF($D127=0,COUNTRY_INFO!Q127*MIN($E127,$L127),COUNTRY_INFO!Q127*MIN($E127,$L127)-($F127*COUNTRY_INFO!$Q127/(COUNTRY_INFO!$F127+COUNTRY_INFO!$G127)+IF($G127=\" \",0,COUNTRY_INFO!$Q127/(COUNTRY_INFO!$F127+COUNTRY_INFO!$G127)*$G127*$H127))),0)))","v":48138},134540,0,null,0,134540,null,134540,0,null,0]
[{"$f":"IF(AND(INTRO!$E$37=\"Non-endemic\",INTRO!$E$41=\"Non-endemic\"),\" \",IF(COUNTRY_INFO!A128=0,\" \",COUNTRY_INFO!A128))","v":"Angola"},{"$f":"IF(AND(INTRO!$E$37=\"Non-endemic\",INTRO!$E$41=\"Non-endemic\"),\" \",IF(COUNTRY_INFO!B128=0,\" \",COUNTRY_INFO!B128))","v":"MALANJE"},{"$f":"IF(AND(INTRO!$E$37=\"Non-endemic\",INTRO!$E$41=\"Non-endemic\"),\" \",IF(COUNTRY_INFO!C128=0,\" \",COUNTRY_INFO!C128))","v":"CAMBUNDI CATEMBO"},{"$f":"IF(AND(INTRO!$E$37=\"Non-endemic\",INTRO!$E$41=\"Non-endemic\"),0,COUNTRY_INFO!W128)","v":0},{"$f":"IF(AND(INTRO!$E$37=\"Non-endemic\",INTRO!$E$41=\"Non-endemic\"),0,COUNTRY_INFO!Y128)","v":2},{"$f":"IF($D128=1,IVM!G128,0)","v":0},{"$f":"IF($D128=0, \" \", IF(COUNTRY_INFO!$H128=1, IF(COUNTRY_INFO!$L128=1, 0,\" \"),\" \"))","v":" "},null,2,{"$f":"IF(OR(COUNTRY_INFO!O128=\"Unknown\",COUNTRY_INFO!O128=\"Surveillance\",COUNTRY_INFO!O128=\"Not required\",COUNTRY_INFO!O128=0),0,IF(INTRO!$E$39=\"Non-endemic\",IF(AND($E128<>0,$I128=\"\"),IF($F128=0,COUNTRY_INFO!O128*$E128,COUNTRY_INFO!O128*($E128-$D128)),IF(AND($E128<>0,$I128<>0),IF($F128=0,COUNTRY_INFO!O128*$I128,COUNTRY_INFO!O128*($I128-$D128)),0)),IF($I128=\"\",COUNTRY_INFO!O128*$E128,COUNTRY_INFO!O128*$I128)))","v":16362},{"$f":"MAX(0,IF(OR(COUNTRY_INFO!P128=\"Unknown\",COUNTRY_INFO!P128=\"Surveillance\",COUNTRY_INFO!P128=\"Not required\",COUNTRY_INFO!P128=0),0,IF($E128<>0,IF($D128=0,COUNTRY_INFO!P128*$E128,COUNTRY_INFO!P128*$E128-($F128*COUNTRY_INFO!$P128/(COUNTRY_INFO!$F128+COUNTRY_INFO!$G128)+IF($G128=\" \",0,COUNTRY_INFO!$P128/(COUNTRY_INFO!$F128+COUNTRY_INFO!$G128)*$G128*$H128))),0)))","v":33398},null,{"$f":"MAX(0,IF(OR(COUNTRY_INFO!Q128=\"Unknown\",COUNTRY_INFO!Q128=\"Surveillance\",COUNTRY_INFO!Q128=\"Not required\",COUNTRY_INFO!Q128=0),0,IF($E128<>0,IF($D128=0,COUNTRY_INFO!Q128*MIN($E128,$L128),COUNTRY_INFO!Q128*MIN($E128,$L128)-($F128*COUNTRY_INFO!$Q128/(COUNTRY_INFO!$F128+COUNTRY_INFO!$G128)+IF($G128=\" \",0,COUNTRY_INFO!$Q128/(COUNTRY_INFO!$F128+COUNTRY_INFO!$G128)*$G128*$H128))),0)))","v":27724},77484,0,null,0,77484,null,77484,0,null,0]
[{"$f":"IF(AND(INTRO!$E$37=\"Non-endemic\",INTRO!$E$41=\"Non-endemic\"),\" \",IF(COUNTRY_INFO!A129=0,\" \",COUNTRY_INFO!A129))","v":"Angola"},{"$f":"IF(AND(INTRO!$E$37=\"Non-endemic\",INTRO!$E$41=\"Non-endemic\"),\" \",IF(COUNTRY_INFO!B129=0,\" \",COUNTRY_INFO!B129))","v":"MALANJE"},{"$f":"IF(AND(INTRO!$E$37=\"Non-endemic\",INTRO!$E$41=\"Non-endemic\"),\" \",IF(COUNTRY_INFO!C129=0,\" \",COUNTRY_INFO!C129))","v":"CANGANDALA"},{"$f":"IF(AND(INTRO!$E$37=\"Non-endemic\",INTRO!$E$41=\"Non-endemic\"),0,COUNTRY_INFO!W129)","v":1},{"$f":"IF(AND(INTRO!$E$37=\"Non-endemic\",INTRO!$E$41=\"Non-endemic\"),0,COUNTRY_INFO!Y129)","v":1},{"$f":"IF($D129=1,IVM!G129,0)","v":48305},{"$f":"IF($D129=0, \" \", IF(COUNTRY_INFO!$H129=1, IF(COUNTRY_INFO!$L129=1, 0,\" \"),\" \"))","v":" "},null,1,{"$f":"IF(OR(COUNTRY_INFO!O129=\"Unknown\",COUNTRY_INFO!O129=\"Surveillance\",COUNTRY_INFO!O129=\"Not required\",COUNTRY_INFO!O129=0),0,IF(INTRO!$E$39=\"Non-endemic\",IF(AND($E129<>0,$I129=\"\"),IF($F129=0,COUNTRY_INFO!O129*$E129,COUNTRY_INFO!O129*($E129-$D129)),IF(AND($E129<>0,$I129<>0),IF($F129=0,COUNTRY_INFO!O129*$I129,COUNTRY_INFO!O129*($I129-$D129)),0)),IF($I129=\"\",COUNTRY_INFO!O129*$E129,COUNTRY_INFO!O129*$I129)))","v":7971},{"$f":"MAX(0,IF(OR(COUNTRY_INFO!P129=\"Unknown\",COUNTRY_INFO!P129=\"Surveillance\",COUNTRY_INFO!P129=\"Not required\",COUNTRY_INFO!P129=0),0,IF($E129<>0,IF($D129=0,COUNTRY_INFO!P129*$E129,COUNTRY_INFO!P129*$E129-($F129*COUNTRY_INFO!$P129/(COUNTRY_INFO!$F129+COUNTRY_INFO!$G129)+IF($G129=\" \",0,COUNTRY_INFO!$P129/(COUNTRY_INFO!$F129+COUNTRY_INFO!$G129)*$G129*$H129))),0)))","v":0},null,{"$f":"MAX(0,IF(OR(COUNTRY_INFO!Q129=\"Unknown\",COUNTRY_INFO!Q129=\"Surveillance\",COUNTRY_INFO!Q129=\"Not required\",COUNTRY_INFO!Q129=0),0,IF($E129<>0,IF($D129=0,COUNTRY_INFO!Q129*MIN($E129,$L129),COUNTRY_INFO!Q129*MIN($E129,$L129)-($F129*COUNTRY_INFO!$Q129/(COUNTRY_INFO!$F129+COUNTRY_INFO!$G129)+IF($G129=\" \",0,COUNTRY_INFO!$Q129/(COUNTRY_INFO!$F129+COUNTRY_INFO!$G129)*$G129*$H129))),0)))","v":0},7971,48305,null,48305,7971,null,7971,0,null,0]
[{"$f":"IF(AND(INTRO!$E$37=\"Non-endemic\",INTRO!$E$41=\"Non-endemic\"),\" \",IF(COUNTRY_INFO!A130=0,\" \",COUNTRY_INFO!A130))","v":"Angola"},{"$f":"IF(AND(INTRO!$E$37=\"Non-endemic\",INTRO!$E$41=\"Non-endemic\"),\" \",IF(COUNTRY_INFO!B130=0,\" \",COUNTRY_INFO!B130))","v":"MALANJE"},{"$f":"IF(AND(INTRO!$E$37=\"Non-endemic\",INTRO!$E$41=\"Non-endemic\"),\" \",IF(COUNTRY_INFO!C130=0,\" \",COUNTRY_INFO!C130))","v":"KIWABA NZOJI"},{"$f":"IF(AND(INTRO!$E$37=\"Non-endemic\",INTRO!$E$41=\"Non-endemic\"),0,COUNTRY_INFO!W130)","v":0},{"$f":"IF(AND(INTRO!$E$37=\"Non-endemic\",INTRO!$E$41=\"Non-endemic\"),0,COUNTRY_INFO!Y130)","v":2},{"$f":"IF($D130=1,IVM!G130,0)","v":0},{"$f":"IF($D130=0, \" \", IF(COUNTRY_INFO!$H130=1, IF(COUNTRY_INFO!$L130=1, 0,\" \"),\" \"))","v":" "},null,2,{"$f":"IF(OR(COUNTRY_INFO!O130=\"Unknown\",COUNTRY_INFO!O130=\"Surveillance\",COUNTRY_INFO!O130=\"Not required\",COUNTRY_INFO!O130=0),0,IF(INTRO!$E$39=\"Non-endemic\",IF(AND($E130<>0,$I130=\"\"),IF($F130=0,COUNTRY_INFO!O130*$E130,COUNTRY_INFO!O130*($E130-$D130)),IF(AND($E130<>0,$I130<>0),IF($F130=0,COUNTRY_INFO!O130*$I130,COUNTRY_INFO!O130*($I130-$D130)),0)),IF($I130=\"\",COUNTRY_INFO!O130*$E130,COUNTRY_INFO!O130*$I130)))","v":5610},{"$f":"MAX(0,IF(OR(COUNTRY_INFO!P130=\"Unknown\",COUNTRY_INFO!P130=\"Surveillance\",COUNTRY_INFO!P130=\"Not required\",COUNTRY_INFO!P130=0),0,IF($E130<>0,IF($D130=0,COUNTRY_INFO!P130*$E130,COUNTRY_INFO!P130*$E130-($F130*COUNTRY_INFO!$P130/(COUNTRY_INFO!$F130+COUNTRY_INFO!$G130)+IF($G130=\" \",0,COUNTRY_INFO!$P130/(COUNTRY_INFO!$F130+COUNTRY_INFO!$G130)*$G130*$H130))),0)))","v":11452},null,{"$f":"MAX(0,IF(OR(COUNTRY_INFO!Q130=\"Unknown\",COUNTRY_INFO!Q130=\"Surveillance\",COUNTRY_INFO!Q130=\"Not required\",COUNTRY_INFO!Q130=0),0,IF($E130<>0,IF($D130=0,COUNTRY_INFO!Q130*MIN($E130,$L130),COUNTRY_INFO!Q130*MIN($E130,$L130)-($F130*COUNTRY_INFO!$Q130/(COUNTRY_INFO!$F130+COUNTRY_INFO!$G130)+IF($G130=\" \",0,COUNTRY_INFO!$Q130/(COUNTRY_INFO!$F130+COUNTRY_INFO!$G130)*$G130*$H130))),0)))","v":9506},26568,0,null,0,26568,null,26568,0,null,0]
[{"$f":"IF(AND(INTRO!$E$37=\"Non-endemic\",INTRO!$E$41=\"Non-endemic\"),\" \",IF(COUNTRY_INFO!A131=0,\" \",COUNTRY_INFO!A131))","v":"Angola"},{"$f":"IF(AND(INTRO!$E$37=\"Non-endemic\",INTRO!$E$41=\"Non-endemic\"),\" \",IF(COUNTRY_INFO!B131=0,\" \",COUNTRY_INFO!B131))","v":"MALANJE"},{"$f":"IF(AND(INTRO!$E$37=\"Non-endemic\",INTRO!$E$41=\"Non-endemic\"),\" \",IF(COUNTRY_INFO!C131=0,\" \",COUNTRY_INFO!C131))","v":"KUNDA DYA BASE"},{"$f":"IF(AND(INTRO!$E$37=\"Non-endemic\",INTRO!$E$41=\"Non-endemic\"),0,COUNTRY_INFO!W131)","v":1},{"$f":"IF(AND(INTRO!$E$37=\"Non-endemic\",INTRO!$E$41=\"Non-endemic\"),0,COUNTRY_INFO!Y131)","v":1},{"$f":"IF($D131=1,IVM!G131,0)","v":13510},{"$f":"IF($D131=0, \" \", IF(COUNTRY_INFO!$H131=1, IF(COUNTRY_INFO!$L131=1, 0,\" \"),\" \"))","v":" "},null,1,{"$f":"IF(OR(COUNTRY_INFO!O131=\"Unknown\",COUNTRY_INFO!O131=\"Surveillance\",COUNTRY_INFO!O131=\"Not required\",COUNTRY_INFO!O131=0),0,IF(INTRO!$E$39=\"Non-endemic\",IF(AND($E131<>0,$I131=\"\"),IF($F131=0,COUNTRY_INFO!O131*$E131,COUNTRY_INFO!O131*($E131-$D131)),IF(AND($E131<>0,$I131<>0),IF($F131=0,COUNTRY_INFO!O131*$I131,COUNTRY_INFO!O131*($I131-$D131)),0)),IF($I131=\"\",COUNTRY_INFO!O131*$E131,COUNTRY_INFO!O131*$I131)))","v":2229},{"$f":"MAX(0,IF(OR(COUNTRY_INFO!P131=\"Unknown\",COUNTRY_INFO!P131=\"Surveillance\",COUNTRY_INFO!P131=\"Not required\",COUNTRY_INFO!P131=0),0,IF($E131<>0,IF($D131=0,COUNTRY_INFO!P131*$E131,COUNTRY_INFO!P131*$E131-($F131*COUNTRY_INFO!$P131/(COUNTRY_INFO!$F131+COUNTRY_INFO!$G131)+IF($G131=\" \",0,COUNTRY_INFO!$P131/(COUNTRY_INFO!$F131+COUNTRY_INFO!$G131)*$G131*$H131))),0)))","v":0},null,{"$f":"MAX(0,IF(OR(COUNTRY_INFO!Q131=\"Unknown\",COUNTRY_INFO!Q131=\"Surveillance\",COUNTRY_INFO!Q131=\"Not required\",COUNTRY_INFO!Q131=0),0,IF($E131<>0,IF($D131=0,COUNTRY_INFO!Q131*MIN($E131,$L131),COUNTRY_INFO!Q131*MIN($E131,$L131)-($F131*COUNTRY_INFO!$Q131/(COUNTRY_INFO!$F131+COUNTRY_INFO!$G131)+IF($G131=\" \",0,COUNTRY_INFO!$Q131/(COUNTRY_INFO!$F131+COUNTRY_INFO!$G131)*$G131*$H131))),0)))","v":0},2229,13510,null,13510,2229,null,2229,0,null,0]
[{"$f":"IF(AND(INTRO!$E$37=\"Non-endemic\",INTRO!$E$41=\"Non-endemic\"),\" \",IF(COUNTRY_INFO!A132=0,\" \",COUNTRY_INFO!A132))","v":"Angola"},{"$f":"IF(AND(INTRO!$E$37=\"Non-endemic\",INTRO!$E$41=\"Non-endemic\"),\" \",IF(COUNTRY_INFO!B132=0,\" \",COUNTRY_INFO!B132))","v":"MALANJE"},{"$f":"IF(AND(INTRO!$E$37=\"Non-endemic\",INTRO!$E$41=\"Non-endemic\"),\" \",IF(COUNTRY_INFO!C132=0,\" \",COUNTRY_INFO!C132))","v":"LUQUEMBO"},{"$f":"IF(AND(INTRO!$E$37=\"Non-endemic\",INTRO!$E$41=\"Non-endemic\"),0,COUNTRY_INFO!W132)","v":0},{"$f":"IF(AND(INTRO!$E$37=\"Non-endemic\",INTRO!$E$41=\"Non-endemic\"),0,COUNTRY_INFO!Y132)","v":2},{"$f":"IF($D132=1,IVM!G132,0)","v":0},{"$f":"IF($D132=0, \" \", IF(COUNTRY_INFO!$H132=1, IF(COUNTRY_INFO!$L132=1, 0,\" \"),\" \"))","v":" "},null,2,{"$f":"IF(OR(COUNTRY_INFO!O132=\"Unknown\",COUNTRY_INFO!O132=\"Surveillance\",COUNTRY_INFO!O132=\"Not required\",COUNTRY_INFO!O132=0),0,IF(INTRO!$E$39=\"Non-endemic\",IF(AND($E132<>0,$I132=\"\"),IF($F132=0,COUNTRY_INFO!O132*$E132,COUNTRY_INFO!O132*($E132-$D132)),IF(AND($E132<>0,$I132<>0),IF($F132=0,COUNTRY_INFO!O132*$I132,COUNTRY_INFO!O132*($I132-$D132)),0)),IF($I132=\"\",COUNTRY_INFO!O132*$E132,COUNTRY_INFO!O132*$I132)))","v":19390},{"$f":"MAX(0,IF(OR(COUNTRY_INFO!P132=\"Unknown\",COUNTRY_INFO!P132=\"Surveillance\",COUNTRY_INFO!P132=\"Not required\",COUNTRY_INFO!P132=0),0,IF($E132<>0,IF($D132=0,COUNTRY_INFO!P132*$E132,COUNTRY_INFO!P132*$E132-($F132*COUNTRY_INFO!$P132/(COUNTRY_INFO!$F132+COUNTRY_INFO!$G132)+IF($G132=\" \",0,COUNTRY_INFO!$P132/(COUNTRY_INFO!$F132+COUNTRY_INFO!$G132)*$G132*$H132))),0)))","v":39576},null,{"$f":"MAX(0,IF(OR(COUNTRY_INFO!Q132=\"Unknown\",COUNTRY_INFO!Q132=\"Surveillance\",COUNTRY_INFO!Q132=\"Not required\",COUNTRY_INFO!Q132=0),0,IF($E132<>0,IF($D132=0,COUNTRY_INFO!Q132*MIN($E132,$L132),COUNTRY_INFO!Q132*MIN($E132,$L132)-($F132*COUNTRY_INFO!$Q132/(COUNTRY_INFO!$F132+COUNTRY_INFO!$G132)+IF($G132=\" \",0,COUNTRY_INFO!$Q132/(COUNTRY_INFO!$F132+COUNTRY_INFO!$G132)*$G132*$H132))),0)))","v":32852},91818,0,null,0,91818,null,91818,0,null,0]
[{"$f":"IF(AND(INTRO!$E$37=\"Non-endemic\",INTRO!$E$41=\"Non-endemic\"),\" \",IF(COUNTRY_INFO!A133=0,\" \",COUNTRY_INFO!A133))","v":"Angola"},{"$f":"IF(AND(INTRO!$E$37=\"Non-endemic\",INTRO!$E$41=\"Non-endemic\"),\" \",IF(COUNTRY_INFO!B133=0,\" \",COUNTRY_INFO!B133))","v":"MALANJE"},{"$f":"IF(AND(INTRO!$E$37=\"Non-endemic\",INTRO!$E$41=\"Non-endemic\"),\" \",IF(COUNTRY_INFO!C133=0,\" \",COUNTRY_INFO!C133))","v":"MALANJE"},{"$f":"IF(AND(INTRO!$E$37=\"Non-endemic\",INTRO!$E$41=\"Non-endemic\"),0,COUNTRY_INFO!W133)","v":0},{"$f":"IF(AND(INTRO!$E$37=\"Non-endemic\",INTRO!$E$41=\"Non-endemic\"),0,COUNTRY_INFO!Y133)","v":2},{"$f":"IF($D133=1,IVM!G133,0)","v":0},{"$f":"IF($D133=0, \" \", IF(COUNTRY_INFO!$H133=1, IF(COUNTRY_INFO!$L133=1, 0,\" \"),\" \"))","v":" "},null,2,{"$f":"IF(OR(COUNTRY_INFO!O133=\"Unknown\",COUNTRY_INFO!O133=\"Surveillance\",COUNTRY_INFO!O133=\"Not required\",COUNTRY_INFO!O133=0),0,IF(INTRO!$E$39=\"Non-endemic\",IF(AND($E133<>0,$I133=\"\"),IF($F133=0,COUNTRY_INFO!O133*$E133,COUNTRY_INFO!O133*($E133-$D133)),IF(AND($E133<>0,$I133<>0),IF($F133=0,COUNTRY_INFO!O133*$I133,COUNTRY_INFO!O133*($I133-$D133)),0)),IF($I133=\"\",COUNTRY_INFO!O133*$E133,COUNTRY_INFO!O133*$I133)))","v":179078},{"$f":"MAX(0,IF(OR(COUNTRY_INFO!P133=\"Unknown\",COUNTRY_INFO!P133=\"Surveillance\",COUNTRY_INFO!P133=\"Not required\",COUNTRY_INFO!P133=0),0,IF($E133<>0,IF($D133=0,COUNTRY_INFO!P133*$E133,COUNTRY_INFO!P133*$E133-($F133*COUNTRY_INFO!$P133/(COUNTRY_INFO!$F133+COUNTRY_INFO!$G133)+IF($G133=\" \",0,COUNTRY_INFO!$P133/(COUNTRY_INFO!$F133+COUNTRY_INFO!$G133)*$G133*$H133))),0)))","v":365508},null,{"$f":"MAX(0,IF(OR(COUNTRY_INFO!Q133=\"Unknown\",COUNTRY_INFO!Q133=\"Surveillance\",COUNTRY_INFO!Q133=\"Not required\",COUNTRY_INFO!Q133=0),0,IF($E133<>0,IF($D133=0,COUNTRY_INFO!Q133*MIN($E133,$L133),COUNTRY_INFO!Q133*MIN($E133,$L133)-($F133*COUNTRY_INFO!$Q133/(COUNTRY_INFO!$F133+COUNTRY_INFO!$G133)+IF($G133=\" \",0,COUNTRY_INFO!$Q133/(COUNTRY_INFO!$F133+COUNTRY_INFO!$G133)*$G133*$H133))),0)))","v":303410},847996,0,null,0,847996,null,847996,0,null,0]
[{"$f":"IF(AND(INTRO!$E$37=\"Non-endemic\",INTRO!$E$41=\"Non-endemic\"),\" \",IF(COUNTRY_INFO!A134=0,\" \",COUNTRY_INFO!A134))","v":"Angola"},{"$f":"IF(AND(INTRO!$E$37=\"Non-endemic\",INTRO!$E$41=\"Non-endemic\"),\" \",IF(COUNTRY_INFO!B134=0,\" \",COUNTRY_INFO!B134))","v":"MALANJE"},{"$f":"IF(AND(INTRO!$E$37=\"Non-endemic\",INTRO!$E$41=\"Non-endemic\"),\" \",IF(COUNTRY_INFO!C134=0,\" \",COUNTRY_INFO!C134))","v":"MARIMBA"},{"$f":"IF(AND(INTRO!$E$37=\"Non-endemic\",INTRO!$E$41=\"Non-endemic\"),0,COUNTRY_INFO!W134)","v":1},{"$f":"IF(AND(INTRO!$E$37=\"Non-endemic\",INTRO!$E$41=\"Non-endemic\"),0,COUNTRY_INFO!Y134)","v":2},{"$f":"IF($D134=1,IVM!G134,0)","v":28028},{"$f":"IF($D134=0, \" \", IF(COUNTRY_INFO!$H134=1, IF(COUNTRY_INFO!$L134=1, 0,\" \"),\" \"))","v":" "},null,2,{"$f":"IF(OR(COUNTRY_INFO!O134=\"Unknown\",COUNTRY_INFO!O134=\"Surveillance\",COUNTRY_INFO!O134=\"Not required\",COUNTRY_INFO!O134=0),0,IF(INTRO!$E$39=\"Non-endemic\",IF(AND($E134<>0,$I134=\"\"),IF($F134=0,COUNTRY_INFO!O134*$E134,COUNTRY_INFO!O134*($E134-$D134)),IF(AND($E134<>0,$I134<>0),IF($F134=0,COUNTRY_INFO!O134*$I134,COUNTRY_INFO!O134*($I134-$D134)),0)),IF($I134=\"\",COUNTRY_INFO!O134*$E134,COUNTRY_INFO!O134*$I134)))","v":9250},{"$f":"MAX(0,IF(OR(COUNTRY_INFO!P134=\"Unknown\",COUNTRY_INFO!P134=\"Surveillance\",COUNTRY_INFO!P134=\"Not required\",COUNTRY_INFO!P134=0),0,IF($E134<>0,IF($D134=0,COUNTRY_INFO!P134*$E134,COUNTRY_INFO!P134*$E134-($F134*COUNTRY_INFO!$P134/(COUNTRY_INFO!$F134+COUNTRY_INFO!$G134)+IF($G134=\" \",0,COUNTRY_INFO!$P134/(COUNTRY_INFO!$F134+COUNTRY_INFO!$G134)*$G134*$H134))),0)))","v":9440},null,{"$f":"MAX(0,IF(OR(COUNTRY_INFO!Q134=\"Unknown\",COUNTRY_INFO!Q134=\"Surveillance\",COUNTRY_INFO!Q134=\"Not required\",COUNTRY_INFO!Q134=0),0,IF($E134<>0,IF($D134=0,COUNTRY_INFO!Q134*MIN($E134,$L134),COUNTRY_INFO!Q134*MIN($E134,$L134)-($F134*COUNTRY_INFO!$Q134/(COUNTRY_INFO!$F134+COUNTRY_INFO!$G134)+IF($G134=\" \",0,COUNTRY_INFO!$Q134/(COUNTRY_INFO!$F134+COUNTRY_INFO!$G134)*$G134*$H134))),0)))","v":7836},26526,28028,null,28028,26526,null,26526,0,null,0]
[{"$f":"IF(AND(INTRO!$E$37=\"Non-endemic\",INTRO!$E$41=\"Non-endemic\"),\" \",IF(COUNTRY_INFO!A135=0,\" \",COUNTRY_INFO!A135))","v":"Angola"},{"$f":"IF(AND(INTRO!$E$37=\"Non-endemic\",INTRO!$E$41=\"Non-endemic\"),\" \",IF(COUNTRY_INFO!B135=0,\" \",COUNTRY_INFO!B135))","v":"MALANJE"},{"$f":"IF(AND(INTRO!$E$37=\"Non-endemic\",INTRO!$E$41=\"Non-endemic\"),\" \",IF(COUNTRY_INFO!C135=0,\" \",COUNTRY_INFO!C135))","v":"MASSANGO"},{"$f":"IF(AND(INTRO!$E$37=\"Non-endemic\",INTRO!$E$41=\"Non-endemic\"),0,COUNTRY_INFO!W135)","v":0},{"$f":"IF(AND(INTRO!$E$37=\"Non-endemic\",INTRO!$E$41=\"Non-endemic\"),0,COUNTRY_INFO!Y135)","v":2},{"$f":"IF($D135=1,IVM!G135,0)","v":0},{"$f":"IF($D135=0, \" \", IF(COUNTRY_INFO!$H135=1, IF(COUNTRY_INFO!$L135=1, 0,\" \"),\" \"))","v":" "},null,2,{"$f":"IF(OR(COUNTRY_INFO!O135=\"Unknown\",COUNTRY_INFO!O135=\"Surveillance\",COUNTRY_INFO!O135=\"Not required\",COUNTRY_INFO!O135=0),0,IF(INTRO!$E$39=\"Non-endemic\",IF(AND($E135<>0,$I135=\"\"),IF($F135=0,COUNTRY_INFO!O135*$E135,COUNTRY_INFO!O135*($E135-$D135)),IF(AND($E135<>0,$I135<>0),IF($F135=0,COUNTRY_INFO!O135*$I135,COUNTRY_INFO!O135*($I135-$D135)),0)),IF($I135=\"\",COUNTRY_INFO!O135*$E135,COUNTRY_INFO!O135*$I135)))","v":11630},{"$f":"MAX(0,IF(OR(COUNTRY_INFO!P135=\"Unknown\",COUNTRY_INFO!P135=\"Surveillance\",COUNTRY_INFO!P135=\"Not required\",COUNTRY_INFO!P135=0),0,IF($E135<>0,IF($D135=0,COUNTRY_INFO!P135*$E135,COUNTRY_INFO!P135*$E135-($F135*COUNTRY_INFO!$P135/(COUNTRY_INFO!$F135+COUNTRY_INFO!$G135)+IF($G135=\" \",0,COUNTRY_INFO!$P135/(COUNTRY_INFO!$F135+COUNTRY_INFO!$G135)*$G135*$H135))),0)))","v":23738},null,{"$f":"MAX(0,IF(OR(COUNTRY_INFO!Q135=\"Unknown\",COUNTRY_INFO!Q135=\"Surveillance\",COUNTRY_INFO!Q135=\"Not required\",COUNTRY_INFO!Q135=0),0,IF($E135<>0,IF($D135=0,COUNTRY_INFO!Q135*MIN($E135,$L135),COUNTRY_INFO!Q135*MIN($E135,$L135)-($F135*COUNTRY_INFO!$Q135/(COUNTRY_INFO!$F135+COUNTRY_INFO!$G135)+IF($G135=\" \",0,COUNTRY_INFO!$Q135/(COUNTRY_INFO!$F135+COUNTRY_INFO!$G135)*$G135*$H135))),0)))","v":19704},55072,0,null,0,55072,null,55072,0,null,0]
[{"$f":"IF(AND(INTRO!$E$37=\"Non-endemic\",INTRO!$E$41=\"Non-endemic\"),\" \",IF(COUNTRY_INFO!A136=0,\" \",COUNTRY_INFO!A136))","v":"Angola"},{"$f":"IF(AND(INTRO!$E$37=\"Non-endemic\",INTRO!$E$41=\"Non-endemic\"),\" \",IF(COUNTRY_INFO!B136=0,\" \",COUNTRY_INFO!B136))","v":"MALANJE"},{"$f":"IF(AND(INTRO!$E$37=\"Non-endemic\",INTRO!$E$41=\"Non-endemic\"),\" \",IF(COUNTRY_INFO!C136=0,\" \",COUNTRY_INFO!C136))","v":"QUELA"},{"$f":"IF(AND(INTRO!$E$37=\"Non-endemic\",INTRO!$E$41=\"Non-endemic\"),0,COUNTRY_INFO!W136)","v":1},{"$f":"IF(AND(INTRO!$E$37=\"Non-endemic\",INTRO!$E$41=\"Non-endemic\"),0,COUNTRY_INFO!Y136)","v":2},{"$f":"IF($D136=1,IVM!G136,0)","v":22428},{"$f":"IF($D136=0, \" \", IF(COUNTRY_INFO!$H136=1, IF(COUNTRY_INFO!$L136=1, 0,\" \"),\" \"))","v":" "},null,2,{"$f":"IF(OR(COUNTRY_INFO!O136=\"Unknown\",COUNTRY_INFO!O136=\"Surveillance\",COUNTRY_INFO!O136=\"Not required\",COUNTRY_INFO!O136=0),0,IF(INTRO!$E$39=\"Non-endemic\",IF(AND($E136<>0,$I136=\"\"),IF($F136=0,COUNTRY_INFO!O136*$E136,COUNTRY_INFO!O136*($E136-$D136)),IF(AND($E136<>0,$I136<>0),IF($F136=0,COUNTRY_INFO!O136*$I136,COUNTRY_INFO!O136*($I136-$D136)),0)),IF($I136=\"\",COUNTRY_INFO!O136*$E136,COUNTRY_INFO!O136*$I136)))","v":7402},{"$f":"MAX(0,IF(OR(COUNTRY_INFO!P136=\"Unknown\",COUNTRY_INFO!P136=\"Surveillance\",COUNTRY_INFO!P136=\"Not required\",COUNTRY_INFO!P136=0),0,IF($E136<>0,IF($D136=0,COUNTRY_INFO!P136*$E136,COUNTRY_INFO!P136*$E136-($F136*COUNTRY_INFO!$P136/(COUNTRY_INFO!$F136+COUNTRY_INFO!$G136)+IF($G136=\" \",0,COUNTRY_INFO!$P136/(COUNTRY_INFO!$F136+COUNTRY_INFO!$G136)*$G136*$H136))),0)))","v":7554},null,{"$f":"MAX(0,IF(OR(COUNTRY_INFO!Q136=\"Unknown\",COUNTRY_INFO!Q136=\"Surveillance\",COUNTRY_INFO!Q136=\"Not required\",COUNTRY_INFO!Q136=0),0,IF($E136<>0,IF($D136=0,COUNTRY_INFO!Q136*MIN($E136,$L136),COUNTRY_INFO!Q136*MIN($E136,$L136)-($F136*COUNTRY_INFO!$Q136/(COUNTRY_INFO!$F136+COUNTRY_INFO!$G136)+IF($G136=\" \",0,COUNTRY_INFO!$Q136/(COUNTRY_INFO!$F136+COUNTRY_INFO!$G136)*$G136*$H136))),0)))","v":6270},21226,22428,null,22428,21226,null,21226,0,null,0]
[{"$f":"IF(AND(INTRO!$E$37=\"Non-endemic\",INTRO!$E$41=\"Non-endemic\"),\" \",IF(COUNTRY_INFO!A137=0,\" \",COUNTRY_INFO!A137))","v":"Angola"},{"$f":"IF(AND(INTRO!$E$37=\"Non-endemic\",INTRO!$E$41=\"Non-endemic\"),\" \",IF(COUNTRY_INFO!B137=0,\" \",COUNTRY_INFO!B137))","v":"MALANJE"},{"$f":"IF(AND(INTRO!$E$37=\"Non-endemic\",INTRO!$E$41=\"Non-endemic\"),\" \",IF(COUNTRY_INFO!C137=0,\" \",COUNTRY_INFO!C137))","v":"QUIRIMA"},{"$f":"IF(AND(INTRO!$E$37=\"Non-endemic\",INTRO!$E$41=\"Non-endemic\"),0,COUNTRY_INFO!W137)","v":0},{"$f":"IF(AND(INTRO!$E$37=\"Non-endemic\",INTRO!$E$41=\"Non-endemic\"),0,COUNTRY_INFO!Y137)","v":2},{"$f":"IF($D137=1,IVM!G137,0)","v":0},{"$f":"IF($D137=0, \" \", IF(COUNTRY_INFO!$H137=1, IF(COUNTRY_INFO!$L137=1, 0,\" \"),\" \"))","v":" "},null,2,{"$f":"IF(OR(COUNTRY_INFO!O137=\"Unknown\",COUNTRY_INFO!O137=\"Surveillance\",COUNTRY_INFO!O137=\"Not required\",COUNTRY_INFO!O137=0),0,IF(INTRO!$E$39=\"Non-endemic\",IF(AND($E137<>0,$I137=\"\"),IF($F137=0,COUNTRY_INFO!O137*$E137,COUNTRY_INFO!O137*($E137-$D137)),IF(AND($E137<>0,$I137<>0),IF($F137=0,COUNTRY_INFO!O137*$I137,COUNTRY_INFO!O137*($I137-$D137)),0)),IF($I137=\"\",COUNTRY_INFO!O137*$E137,COUNTRY_INFO!O137*$I137)))","v":7466},{"$f":"MAX(0,IF(OR(COUNTRY_INFO!P137=\"Unknown\",COUNTRY_INFO!P137=\"Surveillance\",COUNTRY_INFO!P137=\"Not required\",COUNTRY_INFO!P137=0),0,IF($E137<>0,IF($D137=0,COUNTRY_INFO!P137*$E137,COUNTRY_INFO!P137*$E137-($F137*COUNTRY_INFO!$P137/(COUNTRY_INFO!$F137+COUNTRY_INFO!$G137)+IF($G137=\" \",0,COUNTRY_INFO!$P137/(COUNTRY_INFO!$F137+COUNTRY_INFO!$G137)*$G137*$H137))),0)))","v":15240},null,{"$f":"MAX(0,IF(OR(COUNTRY_INFO!Q137=\"Unknown\",COUNTRY_INFO!Q137=\"Surveillance\",COUNTRY_INFO!Q137=\"Not required\",COUNTRY_INFO!Q137=0),0,IF($E137<>0,IF($D137=0,COUNTRY_INFO!Q137*MIN($E137,$L137),COUNTRY_INFO!Q137*MIN($E137,$L137)-($F137*COUNTRY_INFO!$Q137/(COUNTRY_INFO!$F137+COUNTRY_INFO!$G137)+IF($G137=\" \",0,COUNTRY_INFO!$Q137/(COUNTRY_INFO!$F137+COUNTRY_INFO!$G137)*$G137*$H137))),0)))","v":12652},35358,0,null,0,35358,null,35358,0,null,0]
[{"$f":"IF(AND(INTRO!$E$37=\"Non-endemic\",INTRO!$E$41=\"Non-endemic\"),\" \",IF(COUNTRY_INFO!A138=0,\" \",COUNTRY_INFO!A138))","v":"Angola"},{"$f":"IF(AND(INTRO!$E$37=\"Non-endemic\",INTRO!$E$41=\"Non-endemic\"),\" \",IF(COUNTRY_INFO!B138=0,\" \",COUNTRY_INFO!B138))","v":"MOXICO"},{"$f":"IF(AND(INTRO!$E$37=\"Non-endemic\",INTRO!$E$41=\"Non-endemic\"),\" \",IF(COUNTRY_INFO!C138=0,\" \",COUNTRY_INFO!C138))","v":"ALTO ZAMBEZE"},{"$f":"IF(AND(INTRO!$E$37=\"Non-endemic\",INTRO!$E$41=\"Non-endemic\"),0,COUNTRY_INFO!W138)","v":0},{"$f":"IF(AND(INTRO!$E$37=\"Non-endemic\",INTRO!$E$41=\"Non-endemic\"),0,COUNTRY_INFO!Y138)","v":1},{"$f":"IF($D138=1,IVM!G138,0)","v":0},{"$f":"IF($D138=0, \" \", IF(COUNTRY_INFO!$H138=1, IF(COUNTRY_INFO!$L138=1, 0,\" \"),\" \"))","v":" "},null,1,{"$f":"IF(OR(COUNTRY_INFO!O138=\"Unknown\",COUNTRY_INFO!O138=\"Surveillance\",COUNTRY_INFO!O138=\"Not required\",COUNTRY_INFO!O138=0),0,IF(INTRO!$E$39=\"Non-endemic\",IF(AND($E138<>0,$I138=\"\"),IF($F138=0,COUNTRY_INFO!O138*$E138,COUNTRY_INFO!O138*($E138-$D138)),IF(AND($E138<>0,$I138<>0),IF($F138=0,COUNTRY_INFO!O138*$I138,COUNTRY_INFO!O138*($I138-$D138)),0)),IF($I138=\"\",COUNTRY_INFO!O138*$E138,COUNTRY_INFO!O138*$I138)))","v":19679},{"$f":"MAX(0,IF(OR(COUNTRY_INFO!P138=\"Unknown\",COUNTRY_INFO!P138=\"Surveillance\",COUNTRY_INFO!P138=\"Not required\",COUNTRY_INFO!P138=0),0,IF($E138<>0,IF($D138=0,COUNTRY_INFO!P138*$E138,COUNTRY_INFO!P138*$E138-($F138*COUNTRY_INFO!$P138/(COUNTRY_INFO!$F138+COUNTRY_INFO!$G138)+IF($G138=\" \",0,COUNTRY_INFO!$P138/(COUNTRY_INFO!$F138+COUNTRY_INFO!$G138)*$G138*$H138))),0)))","v":40166},null,{"$f":"MAX(0,IF(OR(COUNTRY_INFO!Q138=\"Unknown\",COUNTRY_INFO!Q138=\"Surveillance\",COUNTRY_INFO!Q138=\"Not required\",COUNTRY_INFO!Q138=0),0,IF($E138<>0,IF($D138=0,COUNTRY_INFO!Q138*MIN($E138,$L138),COUNTRY_INFO!Q138*MIN($E138,$L138)-($F138*COUNTRY_INFO!$Q138/(COUNTRY_INFO!$F138+COUNTRY_INFO!$G138)+IF($G138=\" \",0,COUNTRY_INFO!$Q138/(COUNTRY_INFO!$F138+COUNTRY_INFO!$G138)*$G138*$H138))),0)))","v":33342},93187,0,null,0,93187,null,93187,0,null,0]
[{"$f":"IF(AND(INTRO!$E$37=\"Non-endemic\",INTRO!$E$41=\"Non-endemic\"),\" \",IF(COUNTRY_INFO!A139=0,\" \",COUNTRY_INFO!A139))","v":"Angola"},{"$f":"IF(AND(INTRO!$E$37=\"Non-endemic\",INTRO!$E$41=\"Non-endemic\"),\" \",IF(COUNTRY_INFO!B139=0,\" \",COUNTRY_INFO!B139))","v":"MOXICO"},{"$f":"IF(AND(INTRO!$E$37=\"Non-endemic\",INTRO!$E$41=\"Non-endemic\"),\" \",IF(COUNTRY_INFO!C139=0,\" \",COUNTRY_INFO!C139))","v":"BUNDAS (LUMBALA NGUIMBO)"},{"$f":"IF(AND(INTRO!$E$37=\"Non-endemic\",INTRO!$E$41=\"Non-endemic\"),0,COUNTRY_INFO!W139)","v":0},{"$f":"IF(AND(INTRO!$E$37=\"Non-endemic\",INTRO!$E$41=\"Non-endemic\"),0,COUNTRY_INFO!Y139)","v":1},{"$f":"IF($D139=1,IVM!G139,0)","v":0},{"$f":"IF($D139=0, \" \", IF(COUNTRY_INFO!$H139=1, IF(COUNTRY_INFO!$L139=1, 0,\" \"),\" \"))","v":" "},null,1,{"$f":"IF(OR(COUNTRY_INFO!O139=\"Unknown\",COUNTRY_INFO!O139=\"Surveillance\",COUNTRY_INFO!O139=\"Not required\",COUNTRY_INFO!O139=0),0,IF(INTRO!$E$39=\"Non-endemic\",IF(AND($E139<>0,$I139=\"\"),IF($F139=0,COUNTRY_INFO!O139*$E139,COUNTRY_INFO!O139*($E139-$D139)),IF(AND($E139<>0,$I139<>0),IF($F139=0,COUNTRY_INFO!O139*$I139,COUNTRY_INFO!O139*($I139-$D139)),0)),IF($I139=\"\",COUNTRY_INFO!O139*$E139,COUNTRY_INFO!O139*$I139)))","v":12332},{"$f":"MAX(0,IF(OR(COUNTRY_INFO!P139=\"Unknown\",COUNTRY_INFO!P139=\"Surveillance\",COUNTRY_INFO!P139=\"Not required\",COUNTRY_INFO!P139=0),0,IF($E139<>0,IF($D139=0,COUNTRY_INFO!P139*$E139,COUNTRY_INFO!P139*$E139-($F139*COUNTRY_INFO!$P139/(COUNTRY_INFO!$F139+COUNTRY_INFO!$G139)+IF($G139=\" \",0,COUNTRY_INFO!$P139/(COUNTRY_INFO!$F139+COUNTRY_INFO!$G139)*$G139*$H139))),0)))","v":25170},null,{"$f":"MAX(0,IF(OR(COUNTRY_INFO!Q139=\"Unknown\",COUNTRY_INFO!Q139=\"Surveillance\",COUNTRY_INFO!Q139=\"Not required\",COUNTRY_INFO!Q139=0),0,IF($E139<>0,IF($D139=0,COUNTRY_INFO!Q139*MIN($E139,$L139),COUNTRY_INFO!Q139*MIN($E139,$L139)-($F139*COUNTRY_INFO!$Q139/(COUNTRY_INFO!$F139+COUNTRY_INFO!$G139)+IF($G139=\" \",0,COUNTRY_INFO!$Q139/(COUNTRY_INFO!$F139+COUNTRY_INFO!$G139)*$G139*$H139))),0)))","v":20894},58396,{"$f":"$F139+IF(OR(G139=0,G139=\" \"),0,G139*H139)","v":0},null,0,58396,null,58396,0,null,0]
[{"$f":"IF(AND(INTRO!$E$37=\"Non-endemic\",INTRO!$E$41=\"Non-endemic\"),\" \",IF(COUNTRY_INFO!A140=0,\" \",COUNTRY_INFO!A140))","v":"Angola"},{"$f":"IF(AND(INTRO!$E$37=\"Non-endemic\",INTRO!$E$41=\"Non-endemic\"),\" \",IF(COUNTRY_INFO!B140=0,\" \",COUNTRY_INFO!B140))","v":"MOXICO"},{"$f":"IF(AND(INTRO!$E$37=\"Non-endemic\",INTRO!$E$41=\"Non-endemic\"),\" \",IF(COUNTRY_INFO!C140=0,\" \",COUNTRY_INFO!C140))","v":"CAMANONGUE"},{"$f":"IF(AND(INTRO!$E$37=\"Non-endemic\",INTRO!$E$41=\"Non-endemic\"),0,COUNTRY_INFO!W140)","v":0},{"$f":"IF(AND(INTRO!$E$37=\"Non-endemic\",INTRO!$E$41=\"Non-endemic\"),0,COUNTRY_INFO!Y140)","v":1},{"$f":"IF($D140=1,IVM!G140,0)","v":0},{"$f":"IF($D140=0, \" \", IF(COUNTRY_INFO!$H140=1, IF(COUNTRY_INFO!$L140=1, 0,\" \"),\" \"))","v":" "},null,1,{"$f":"IF(OR(COUNTRY_INFO!O140=\"Unknown\",COUNTRY_INFO!O140=\"Surveillance\",COUNTRY_INFO!O140=\"Not required\",COUNTRY_INFO!O140=0),0,IF(INTRO!$E$39=\"Non-endemic\",IF(AND($E140<>0,$I140=\"\"),IF($F140=0,COUNTRY_INFO!O140*$E140,COUNTRY_INFO!O140*($E140-$D140)),IF(AND($E140<>0,$I140<>0),IF($F140=0,COUNTRY_INFO!O140*$I140,COUNTRY_INFO!O140*($I140-$D140)),0)),IF($I140=\"\",COUNTRY_INFO!O140*$E140,COUNTRY_INFO!O140*$I140)))","v":6063},{"$f":"MAX(0,IF(OR(COUNTRY_INFO!P140=\"Unknown\",COUNTRY_INFO!P140=\"Surveillance\",COUNTRY_INFO!P140=\"Not required\",COUNTRY_INFO!P140=0),0,IF($E140<>0,IF($D140=0,COUNTRY_INFO!P140*$E140,COUNTRY_INFO!P140*$E140-($F140*COUNTRY_INFO!$P140/(COUNTRY_INFO!$F140+COUNTRY_INFO!$G140)+IF($G140=\" \",0,COUNTRY_INFO!$P140/(COUNTRY_INFO!$F140+COUNTRY_INFO!$G140)*$G140*$H140))),0)))","v":12375},null,{"$f":"MAX(0,IF(OR(COUNTRY_INFO!Q140=\"Unknown\",COUNTRY_INFO!Q140=\"Surveillance\",COUNTRY_INFO!Q140=\"Not required\",COUNTRY_INFO!Q140=0),0,IF($E140<>0,IF($D140=0,COUNTRY_INFO!Q140*MIN($E140,$L140),COUNTRY_INFO!Q140*MIN($E140,$L140)-($F140*COUNTRY_INFO!$Q140/(COUNTRY_INFO!$F140+COUNTRY_INFO!$G140)+IF($G140=\" \",0,COUNTRY_INFO!$Q140/(COUNTRY_INFO!$F140+COUNTRY_INFO!$G140)*$G140*$H140))),0)))","v":10272},28710,0,null,0,28710,null,28710,0,null,0]
[{"$f":"IF(AND(INTRO!$E$37=\"Non-endemic\",INTRO!$E$41=\"Non-endemic\"),\" \",IF(COUNTRY_INFO!A141=0,\" \",COUNTRY_INFO!A141))","v":"Angola"},{"$f":"IF(AND(INTRO!$E$37=\"Non-endemic\",INTRO!$E$41=\"Non-endemic\"),\" \",IF(COUNTRY_INFO!B141=0,\" \",COUNTRY_INFO!B141))","v":"MOXICO"},{"$f":"IF(AND(INTRO!$E$37=\"Non-endemic\",INTRO!$E$41=\"Non-endemic\"),\" \",IF(COUNTRY_INFO!C141=0,\" \",COUNTRY_INFO!C141))","v":"CAMEIA (LUMEJE)"},{"$f":"IF(AND(INTRO!$E$37=\"Non-endemic\",INTRO!$E$41=\"Non-endemic\"),0,COUNTRY_INFO!W141)","v":0},{"$f":"IF(AND(INTRO!$E$37=\"Non-endemic\",INTRO!$E$41=\"Non-endemic\"),0,COUNTRY_INFO!Y141)","v":0},{"$f":"IF($D141=1,IVM!G141,0)","v":0},{"$f":"IF($D141=0, \" \", IF(COUNTRY_INFO!$H141=1, IF(COUNTRY_INFO!$L141=1, 0,\" \"),\" \"))","v":" "},null,0,{"$f":"IF(OR(COUNTRY_INFO!O141=\"Unknown\",COUNTRY_INFO!O141=\"Surveillance\",COUNTRY_INFO!O141=\"Not required\",COUNTRY_INFO!O141=0),0,IF(INTRO!$E$39=\"Non-endemic\",IF(AND($E141<>0,$I141=\"\"),IF($F141=0,COUNTRY_INFO!O141*$E141,COUNTRY_INFO!O141*($E141-$D141)),IF(AND($E141<>0,$I141<>0),IF($F141=0,COUNTRY_INFO!O141*$I141,COUNTRY_INFO!O141*($I141-$D141)),0)),IF($I141=\"\",COUNTRY_INFO!O141*$E141,COUNTRY_INFO!O141*$I141)))","v":0},{"$f":"MAX(0,IF(OR(COUNTRY_INFO!P141=\"Unknown\",COUNTRY_INFO!P141=\"Surveillance\",COUNTRY_INFO!P141=\"Not required\",COUNTRY_INFO!P141=0),0,IF($E141<>0,IF($D141=0,COUNTRY_INFO!P141*$E141,COUNTRY_INFO!P141*$E141-($F141*COUNTRY_INFO!$P141/(COUNTRY_INFO!$F141+COUNTRY_INFO!$G141)+IF($G141=\" \",0,COUNTRY_INFO!$P141/(COUNTRY_INFO!$F141+COUNTRY_INFO!$G141)*$G141*$H141))),0)))","v":0},null,{"$f":"MAX(0,IF(OR(COUNTRY_INFO!Q141=\"Unknown\",COUNTRY_INFO!Q141=\"Surveillance\",COUNTRY_INFO!Q141=\"Not required\",COUNTRY_INFO!Q141=0),0,IF($E141<>0,IF($D141=0,COUNTRY_INFO!Q141*MIN($E141,$L141),COUNTRY_INFO!Q141*MIN($E141,$L141)-($F141*COUNTRY_INFO!$Q141/(COUNTRY_INFO!$F141+COUNTRY_INFO!$G141)+IF($G141=\" \",0,COUNTRY_INFO!$Q141/(COUNTRY_INFO!$F141+COUNTRY_INFO!$G141)*$G141*$H141))),0)))","v":0},0,0,null,0,0,null,0,0,null,0]
[{"$f":"IF(AND(INTRO!$E$37=\"Non-endemic\",INTRO!$E$41=\"Non-endemic\"),\" \",IF(COUNTRY_INFO!A142=0,\" \",COUNTRY_INFO!A142))","v":"Angola"},{"$f":"IF(AND(INTRO!$E$37=\"Non-endemic\",INTRO!$E$41=\"Non-endemic\"),\" \",IF(COUNTRY_INFO!B142=0,\" \",COUNTRY_INFO!B142))","v":"MOXICO"},{"$f":"IF(AND(INTRO!$E$37=\"Non-endemic\",INTRO!$E$41=\"Non-endemic\"),\" \",IF(COUNTRY_INFO!C142=0,\" \",COUNTRY_INFO!C142))","v":"LEUA"},{"$f":"IF(AND(INTRO!$E$37=\"Non-endemic\",INTRO!$E$41=\"Non-endemic\"),0,COUNTRY_INFO!W142)","v":0},{"$f":"IF(AND(INTRO!$E$37=\"Non-endemic\",INTRO!$E$41=\"Non-endemic\"),0,COUNTRY_INFO!Y142)","v":0},{"$f":"IF($D142=1,IVM!G142,0)","v":0},{"$f":"IF($D142=0, \" \", IF(COUNTRY_INFO!$H142=1, IF(COUNTRY_INFO!$L142=1, 0,\" \"),\" \"))","v":" "},null,0,{"$f":"IF(OR(COUNTRY_INFO!O142=\"Unknown\",COUNTRY_INFO!O142=\"Surveillance\",COUNTRY_INFO!O142=\"Not required\",COUNTRY_INFO!O142=0),0,IF(INTRO!$E$39=\"Non-endemic\",IF(AND($E142<>0,$I142=\"\"),IF($F142=0,COUNTRY_INFO!O142*$E142,COUNTRY_INFO!O142*($E142-$D142)),IF(AND($E142<>0,$I142<>0),IF($F142=0,COUNTRY_INFO!O142*$I142,COUNTRY_INFO!O142*($I142-$D142)),0)),IF($I142=\"\",COUNTRY_INFO!O142*$E142,COUNTRY_INFO!O142*$I142)))","v":0},{"$f":"MAX(0,IF(OR(COUNTRY_INFO!P142=\"Unknown\",COUNTRY_INFO!P142=\"Surveillance\",COUNTRY_INFO!P142=\"Not required\",COUNTRY_INFO!P142=0),0,IF($E142<>0,IF($D142=0,COUNTRY_INFO!P142*$E142,COUNTRY_INFO!P142*$E142-($F142*COUNTRY_INFO!$P142/(COUNTRY_INFO!$F142+COUNTRY_INFO!$G142)+IF($G142=\" \",0,COUNTRY_INFO!$P142/(COUNTRY_INFO!$F142+COUNTRY_INFO!$G142)*$G142*$H142))),0)))","v":0},null,{"$f":"MAX(0,IF(OR(COUNTRY_INFO!Q142=\"Unknown\",COUNTRY_INFO!Q142=\"Surveillance\",COUNTRY_INFO!Q142=\"Not required\",COUNTRY_INFO!Q142=0),0,IF($E142<>0,IF($D142=0,COUNTRY_INFO!Q142*MIN($E142,$L142),COUNTRY_INFO!Q142*MIN($E142,$L142)-($F142*COUNTRY_INFO!$Q142/(COUNTRY_INFO!$F142+COUNTRY_INFO!$G142)+IF($G142=\" \",0,COUNTRY_INFO!$Q142/(COUNTRY_INFO!$F142+COUNTRY_INFO!$G142)*$G142*$H142))),0)))","v":0},0,0,null,0,0,null,0,0,null,0]
[{"$f":"IF(AND(INTRO!$E$37=\"Non-endemic\",INTRO!$E$41=\"Non-endemic\"),\" \",IF(COUNTRY_INFO!A143=0,\" \",COUNTRY_INFO!A143))","v":"Angola"},{"$f":"IF(AND(INTRO!$E$37=\"Non-endemic\",INTRO!$E$41=\"Non-endemic\"),\" \",IF(COUNTRY_INFO!B143=0,\" \",COUNTRY_INFO!B143))","v":"MOXICO"},{"$f":"IF(AND(INTRO!$E$37=\"Non-endemic\",INTRO!$E$41=\"Non-endemic\"),\" \",IF(COUNTRY_INFO!C143=0,\" \",COUNTRY_INFO!C143))","v":"LUACANO"},{"$f":"IF(AND(INTRO!$E$37=\"Non-endemic\",INTRO!$E$41=\"Non-endemic\"),0,COUNTRY_INFO!W143)","v":0},{"$f":"IF(AND(INTRO!$E$37=\"Non-endemic\",INTRO!$E$41=\"Non-endemic\"),0,COUNTRY_INFO!Y143)","v":1},{"$f":"IF($D143=1,IVM!G143,0)","v":0},{"$f":"IF($D143=0, \" \", IF(COUNTRY_INFO!$H143=1, IF(COUNTRY_INFO!$L143=1, 0,\" \"),\" \"))","v":" "},null,1,{"$f":"IF(OR(COUNTRY_INFO!O143=\"Unknown\",COUNTRY_INFO!O143=\"Surveillance\",COUNTRY_INFO!O143=\"Not required\",COUNTRY_INFO!O143=0),0,IF(INTRO!$E$39=\"Non-endemic\",IF(AND($E143<>0,$I143=\"\"),IF($F143=0,COUNTRY_INFO!O143*$E143,COUNTRY_INFO!O143*($E143-$D143)),IF(AND($E143<>0,$I143<>0),IF($F143=0,COUNTRY_INFO!O143*$I143,COUNTRY_INFO!O143*($I143-$D143)),0)),IF($I143=\"\",COUNTRY_INFO!O143*$E143,COUNTRY_INFO!O143*$I143)))","v":3683},{"$f":"MAX(0,IF(OR(COUNTRY_INFO!P143=\"Unknown\",COUNTRY_INFO!P143=\"Surveillance\",COUNTRY_INFO!P143=\"Not required\",COUNTRY_INFO!P143=0),0,IF($E143<>0,IF($D143=0,COUNTRY_INFO!P143*$E143,COUNTRY_INFO!P143*$E143-($F143*COUNTRY_INFO!$P143/(COUNTRY_INFO!$F143+COUNTRY_INFO!$G143)+IF($G143=\" \",0,COUNTRY_INFO!$P143/(COUNTRY_INFO!$F143+COUNTRY_INFO!$G143)*$G143*$H143))),0)))","v":7517},null,{"$f":"MAX(0,IF(OR(COUNTRY_INFO!Q143=\"Unknown\",COUNTRY_INFO!Q143=\"Surveillance\",COUNTRY_INFO!Q143=\"Not required\",COUNTRY_INFO!Q143=0),0,IF($E143<>0,IF($D143=0,COUNTRY_INFO!Q143*MIN($E143,$L143),COUNTRY_INFO!Q143*MIN($E143,$L143)-($F143*COUNTRY_INFO!$Q143/(COUNTRY_INFO!$F143+COUNTRY_INFO!$G143)+IF($G143=\" \",0,COUNTRY_INFO!$Q143/(COUNTRY_INFO!$F143+COUNTRY_INFO!$G143)*$G143*$H143))),0)))","v":6240},17440,0,null,0,17440,null,17440,0,null,0]
[{"$f":"IF(AND(INTRO!$E$37=\"Non-endemic\",INTRO!$E$41=\"Non-endemic\"),\" \",IF(COUNTRY_INFO!A144=0,\" \",COUNTRY_INFO!A144))","v":"Angola"},{"$f":"IF(AND(INTRO!$E$37=\"Non-endemic\",INTRO!$E$41=\"Non-endemic\"),\" \",IF(COUNTRY_INFO!B144=0,\" \",COUNTRY_INFO!B144))","v":"MOXICO"},{"$f":"IF(AND(INTRO!$E$37=\"Non-endemic\",INTRO!$E$41=\"Non-endemic\"),\" \",IF(COUNTRY_INFO!C144=0,\" \",COUNTRY_INFO!C144))","v":"LUAU"},{"$f":"IF(AND(INTRO!$E$37=\"Non-endemic\",INTRO!$E$41=\"Non-endemic\"),0,COUNTRY_INFO!W144)","v":0},{"$f":"IF(AND(INTRO!$E$37=\"Non-endemic\",INTRO!$E$41=\"Non-endemic\"),0,COUNTRY_INFO!Y144)","v":0},{"$f":"IF($D144=1,IVM!G144,0)","v":0},{"$f":"IF($D144=0, \" \", IF(COUNTRY_INFO!$H144=1, IF(COUNTRY_INFO!$L144=1, 0,\" \"),\" \"))","v":" "},null,0,{"$f":"IF(OR(COUNTRY_INFO!O144=\"Unknown\",COUNTRY_INFO!O144=\"Surveillance\",COUNTRY_INFO!O144=\"Not required\",COUNTRY_INFO!O144=0),0,IF(INTRO!$E$39=\"Non-endemic\",IF(AND($E144<>0,$I144=\"\"),IF($F144=0,COUNTRY_INFO!O144*$E144,COUNTRY_INFO!O144*($E144-$D144)),IF(AND($E144<>0,$I144<>0),IF($F144=0,COUNTRY_INFO!O144*$I144,COUNTRY_INFO!O144*($I144-$D144)),0)),IF($I144=\"\",COUNTRY_INFO!O144*$E144,COUNTRY_INFO!O144*$I144)))","v":0},{"$f":"MAX(0,IF(OR(COUNTRY_INFO!P144=\"Unknown\",COUNTRY_INFO!P144=\"Surveillance\",COUNTRY_INFO!P144=\"Not required\",COUNTRY_INFO!P144=0),0,IF($E144<>0,IF($D144=0,COUNTRY_INFO!P144*$E144,COUNTRY_INFO!P144*$E144-($F144*COUNTRY_INFO!$P144/(COUNTRY_INFO!$F144+COUNTRY_INFO!$G144)+IF($G144=\" \",0,COUNTRY_INFO!$P144/(COUNTRY_INFO!$F144+COUNTRY_INFO!$G144)*$G144*$H144))),0)))","v":0},null,{"$f":"MAX(0,IF(OR(COUNTRY_INFO!Q144=\"Unknown\",COUNTRY_INFO!Q144=\"Surveillance\",COUNTRY_INFO!Q144=\"Not required\",COUNTRY_INFO!Q144=0),0,IF($E144<>0,IF($D144=0,COUNTRY_INFO!Q144*MIN($E144,$L144),COUNTRY_INFO!Q144*MIN($E144,$L144)-($F144*COUNTRY_INFO!$Q144/(COUNTRY_INFO!$F144+COUNTRY_INFO!$G144)+IF($G144=\" \",0,COUNTRY_INFO!$Q144/(COUNTRY_INFO!$F144+COUNTRY_INFO!$G144)*$G144*$H144))),0)))","v":0},0,0,null,0,0,null,0,0,null,0]
[{"$f":"IF(AND(INTRO!$E$37=\"Non-endemic\",INTRO!$E$41=\"Non-endemic\"),\" \",IF(COUNTRY_INFO!A145=0,\" \",COUNTRY_INFO!A145))","v":"Angola"},{"$f":"IF(AND(INTRO!$E$37=\"Non-endemic\",INTRO!$E$41=\"Non-endemic\"),\" \",IF(COUNTRY_INFO!B145=0,\" \",COUNTRY_INFO!B145))","v":"MOXICO"},{"$f":"IF(AND(INTRO!$E$37=\"Non-endemic\",INTRO!$E$41=\"Non-endemic\"),\" \",IF(COUNTRY_INFO!C145=0,\" \",COUNTRY_INFO!C145))","v":"LUCHAZES"},{"$f":"IF(AND(INTRO!$E$37=\"Non-endemic\",INTRO!$E$41=\"Non-endemic\"),0,COUNTRY_INFO!W145)","v":0},{"$f":"IF(AND(INTRO!$E$37=\"Non-endemic\",INTRO!$E$41=\"Non-endemic\"),0,COUNTRY_INFO!Y145)","v":1},{"$f":"IF($D145=1,IVM!G145,0)","v":0},{"$f":"IF($D145=0, \" \", IF(COUNTRY_INFO!$H145=1, IF(COUNTRY_INFO!$L145=1, 0,\" \"),\" \"))","v":" "},null,1,{"$f":"IF(OR(COUNTRY_INFO!O145=\"Unknown\",COUNTRY_INFO!O145=\"Surveillance\",COUNTRY_INFO!O145=\"Not required\",COUNTRY_INFO!O145=0),0,IF(INTRO!$E$39=\"Non-endemic\",IF(AND($E145<>0,$I145=\"\"),IF($F145=0,COUNTRY_INFO!O145*$E145,COUNTRY_INFO!O145*($E145-$D145)),IF(AND($E145<>0,$I145<>0),IF($F145=0,COUNTRY_INFO!O145*$I145,COUNTRY_INFO!O145*($I145-$D145)),0)),IF($I145=\"\",COUNTRY_INFO!O145*$E145,COUNTRY_INFO!O145*$I145)))","v":2564},{"$f":"MAX(0,IF(OR(COUNTRY_INFO!P145=\"Unknown\",COUNTRY_INFO!P145=\"Surveillance\",COUNTRY_INFO!P145=\"Not required\",COUNTRY_INFO!P145=0),0,IF($E145<>0,IF($D145=0,COUNTRY_INFO!P145*$E145,COUNTRY_INFO!P145*$E145-($F145*COUNTRY_INFO!$P145/(COUNTRY_INFO!$F145+COUNTRY_INFO!$G145)+IF($G145=\" \",0,COUNTRY_INFO!$P145/(COUNTRY_INFO!$F145+COUNTRY_INFO!$G145)*$G145*$H145))),0)))","v":5234},null,{"$f":"MAX(0,IF(OR(COUNTRY_INFO!Q145=\"Unknown\",COUNTRY_INFO!Q145=\"Surveillance\",COUNTRY_INFO!Q145=\"Not required\",COUNTRY_INFO!Q145=0),0,IF($E145<>0,IF($D145=0,COUNTRY_INFO!Q145*MIN($E145,$L145),COUNTRY_INFO!Q145*MIN($E145,$L145)-($F145*COUNTRY_INFO!$Q145/(COUNTRY_INFO!$F145+COUNTRY_INFO!$G145)+IF($G145=\" \",0,COUNTRY_INFO!$Q145/(COUNTRY_INFO!$F145+COUNTRY_INFO!$G145)*$G145*$H145))),0)))","v":4345},12143,0,null,0,12143,null,12143,0,null,0]
[{"$f":"IF(AND(INTRO!$E$37=\"Non-endemic\",INTRO!$E$41=\"Non-endemic\"),\" \",IF(COUNTRY_INFO!A146=0,\" \",COUNTRY_INFO!A146))","v":"Angola"},{"$f":"IF(AND(INTRO!$E$37=\"Non-endemic\",INTRO!$E$41=\"Non-endemic\"),\" \",IF(COUNTRY_INFO!B146=0,\" \",COUNTRY_INFO!B146))","v":"MOXICO"},{"$f":"IF(AND(INTRO!$E$37=\"Non-endemic\",INTRO!$E$41=\"Non-endemic\"),\" \",IF(COUNTRY_INFO!C146=0,\" \",COUNTRY_INFO!C146))","v":"MOXICO/LUENA"},{"$f":"IF(AND(INTRO!$E$37=\"Non-endemic\",INTRO!$E$41=\"Non-endemic\"),0,COUNTRY_INFO!W146)","v":0},{"$f":"IF(AND(INTRO!$E$37=\"Non-endemic\",INTRO!$E$41=\"Non-endemic\"),0,COUNTRY_INFO!Y146)","v":1},{"$f":"IF($D146=1,IVM!G146,0)","v":0},{"$f":"IF($D146=0, \" \", IF(COUNTRY_INFO!$H146=1, IF(COUNTRY_INFO!$L146=1, 0,\" \"),\" \"))","v":" "},null,1,{"$f":"IF(OR(COUNTRY_INFO!O146=\"Unknown\",COUNTRY_INFO!O146=\"Surveillance\",COUNTRY_INFO!O146=\"Not required\",COUNTRY_INFO!O146=0),0,IF(INTRO!$E$39=\"Non-endemic\",IF(AND($E146<>0,$I146=\"\"),IF($F146=0,COUNTRY_INFO!O146*$E146,COUNTRY_INFO!O146*($E146-$D146)),IF(AND($E146<>0,$I146<>0),IF($F146=0,COUNTRY_INFO!O146*$I146,COUNTRY_INFO!O146*($I146-$D146)),0)),IF($I146=\"\",COUNTRY_INFO!O146*$E146,COUNTRY_INFO!O146*$I146)))","v":63422},{"$f":"MAX(0,IF(OR(COUNTRY_INFO!P146=\"Unknown\",COUNTRY_INFO!P146=\"Surveillance\",COUNTRY_INFO!P146=\"Not required\",COUNTRY_INFO!P146=0),0,IF($E146<>0,IF($D146=0,COUNTRY_INFO!P146*$E146,COUNTRY_INFO!P146*$E146-($F146*COUNTRY_INFO!$P146/(COUNTRY_INFO!$F146+COUNTRY_INFO!$G146)+IF($G146=\" \",0,COUNTRY_INFO!$P146/(COUNTRY_INFO!$F146+COUNTRY_INFO!$G146)*$G146*$H146))),0)))","v":129449},null,{"$f":"MAX(0,IF(OR(COUNTRY_INFO!Q146=\"Unknown\",COUNTRY_INFO!Q146=\"Surveillance\",COUNTRY_INFO!Q146=\"Not required\",COUNTRY_INFO!Q146=0),0,IF($E146<>0,IF($D146=0,COUNTRY_INFO!Q146*MIN($E146,$L146),COUNTRY_INFO!Q146*MIN($E146,$L146)-($F146*COUNTRY_INFO!$Q146/(COUNTRY_INFO!$F146+COUNTRY_INFO!$G146)+IF($G146=\" \",0,COUNTRY_INFO!$Q146/(COUNTRY_INFO!$F146+COUNTRY_INFO!$G146)*$G146*$H146))),0)))","v":107456},300327,0,null,0,300327,null,300327,0,null,0]
[{"$f":"IF(AND(INTRO!$E$37=\"Non-endemic\",INTRO!$E$41=\"Non-endemic\"),\" \",IF(COUNTRY_INFO!A147=0,\" \",COUNTRY_INFO!A147))","v":"Angola"},{"$f":"IF(AND(INTRO!$E$37=\"Non-endemic\",INTRO!$E$41=\"Non-endemic\"),\" \",IF(COUNTRY_INFO!B147=0,\" \",COUNTRY_INFO!B147))","v":"NAMIBE"},{"$f":"IF(AND(INTRO!$E$37=\"Non-endemic\",INTRO!$E$41=\"Non-endemic\"),\" \",IF(COUNTRY_INFO!C147=0,\" \",COUNTRY_INFO!C147))","v":"BIBALA"},{"$f":"IF(AND(INTRO!$E$37=\"Non-endemic\",INTRO!$E$41=\"Non-endemic\"),0,COUNTRY_INFO!W147)","v":0},{"$f":"IF(AND(INTRO!$E$37=\"Non-endemic\",INTRO!$E$41=\"Non-endemic\"),0,COUNTRY_INFO!Y147)","v":0},{"$f":"IF($D147=1,IVM!G147,0)","v":0},{"$f":"IF($D147=0, \" \", IF(COUNTRY_INFO!$H147=1, IF(COUNTRY_INFO!$L147=1, 0,\" \"),\" \"))","v":" "},null,0,{"$f":"IF(OR(COUNTRY_INFO!O147=\"Unknown\",COUNTRY_INFO!O147=\"Surveillance\",COUNTRY_INFO!O147=\"Not required\",COUNTRY_INFO!O147=0),0,IF(INTRO!$E$39=\"Non-endemic\",IF(AND($E147<>0,$I147=\"\"),IF($F147=0,COUNTRY_INFO!O147*$E147,COUNTRY_INFO!O147*($E147-$D147)),IF(AND($E147<>0,$I147<>0),IF($F147=0,COUNTRY_INFO!O147*$I147,COUNTRY_INFO!O147*($I147-$D147)),0)),IF($I147=\"\",COUNTRY_INFO!O147*$E147,COUNTRY_INFO!O147*$I147)))","v":0},{"$f":"MAX(0,IF(OR(COUNTRY_INFO!P147=\"Unknown\",COUNTRY_INFO!P147=\"Surveillance\",COUNTRY_INFO!P147=\"Not required\",COUNTRY_INFO!P147=0),0,IF($E147<>0,IF($D147=0,COUNTRY_INFO!P147*$E147,COUNTRY_INFO!P147*$E147-($F147*COUNTRY_INFO!$P147/(COUNTRY_INFO!$F147+COUNTRY_INFO!$G147)+IF($G147=\" \",0,COUNTRY_INFO!$P147/(COUNTRY_INFO!$F147+COUNTRY_INFO!$G147)*$G147*$H147))),0)))","v":0},null,{"$f":"MAX(0,IF(OR(COUNTRY_INFO!Q147=\"Unknown\",COUNTRY_INFO!Q147=\"Surveillance\",COUNTRY_INFO!Q147=\"Not required\",COUNTRY_INFO!Q147=0),0,IF($E147<>0,IF($D147=0,COUNTRY_INFO!Q147*MIN($E147,$L147),COUNTRY_INFO!Q147*MIN($E147,$L147)-($F147*COUNTRY_INFO!$Q147/(COUNTRY_INFO!$F147+COUNTRY_INFO!$G147)+IF($G147=\" \",0,COUNTRY_INFO!$Q147/(COUNTRY_INFO!$F147+COUNTRY_INFO!$G147)*$G147*$H147))),0)))","v":0},0,0,null,0,0,null,0,0,null,0]
[{"$f":"IF(AND(INTRO!$E$37=\"Non-endemic\",INTRO!$E$41=\"Non-endemic\"),\" \",IF(COUNTRY_INFO!A148=0,\" \",COUNTRY_INFO!A148))","v":"Angola"},{"$f":"IF(AND(INTRO!$E$37=\"Non-endemic\",INTRO!$E$41=\"Non-endemic\"),\" \",IF(COUNTRY_INFO!B148=0,\" \",COUNTRY_INFO!B148))","v":"NAMIBE"},{"$f":"IF(AND(INTRO!$E$37=\"Non-endemic\",INTRO!$E$41=\"Non-endemic\"),\" \",IF(COUNTRY_INFO!C148=0,\" \",COUNTRY_INFO!C148))","v":"CAMUCUIO"},{"$f":"IF(AND(INTRO!$E$37=\"Non-endemic\",INTRO!$E$41=\"Non-endemic\"),0,COUNTRY_INFO!W148)","v":0},{"$f":"IF(AND(INTRO!$E$37=\"Non-endemic\",INTRO!$E$41=\"Non-endemic\"),0,COUNTRY_INFO!Y148)","v":0},{"$f":"IF($D148=1,IVM!G148,0)","v":0},{"$f":"IF($D148=0, \" \", IF(COUNTRY_INFO!$H148=1, IF(COUNTRY_INFO!$L148=1, 0,\" \"),\" \"))","v":" "},null,0,{"$f":"IF(OR(COUNTRY_INFO!O148=\"Unknown\",COUNTRY_INFO!O148=\"Surveillance\",COUNTRY_INFO!O148=\"Not required\",COUNTRY_INFO!O148=0),0,IF(INTRO!$E$39=\"Non-endemic\",IF(AND($E148<>0,$I148=\"\"),IF($F148=0,COUNTRY_INFO!O148*$E148,COUNTRY_INFO!O148*($E148-$D148)),IF(AND($E148<>0,$I148<>0),IF($F148=0,COUNTRY_INFO!O148*$I148,COUNTRY_INFO!O148*($I148-$D148)),0)),IF($I148=\"\",COUNTRY_INFO!O148*$E148,COUNTRY_INFO!O148*$I148)))","v":0},{"$f":"MAX(0,IF(OR(COUNTRY_INFO!P148=\"Unknown\",COUNTRY_INFO!P148=\"Surveillance\",COUNTRY_INFO!P148=\"Not required\",COUNTRY_INFO!P148=0),0,IF($E148<>0,IF($D148=0,COUNTRY_INFO!P148*$E148,COUNTRY_INFO!P148*$E148-($F148*COUNTRY_INFO!$P148/(COUNTRY_INFO!$F148+COUNTRY_INFO!$G148)+IF($G148=\" \",0,COUNTRY_INFO!$P148/(COUNTRY_INFO!$F148+COUNTRY_INFO!$G148)*$G148*$H148))),0)))","v":0},null,{"$f":"MAX(0,IF(OR(COUNTRY_INFO!Q148=\"Unknown\",COUNTRY_INFO!Q148=\"Surveillance\",COUNTRY_INFO!Q148=\"Not required\",COUNTRY_INFO!Q148=0),0,IF($E148<>0,IF($D148=0,COUNTRY_INFO!Q148*MIN($E148,$L148),COUNTRY_INFO!Q148*MIN($E148,$L148)-($F148*COUNTRY_INFO!$Q148/(COUNTRY_INFO!$F148+COUNTRY_INFO!$G148)+IF($G148=\" \",0,COUNTRY_INFO!$Q148/(COUNTRY_INFO!$F148+COUNTRY_INFO!$G148)*$G148*$H148))),0)))","v":0},0,0,null,0,0,null,0,0,null,0]
[{"$f":"IF(AND(INTRO!$E$37=\"Non-endemic\",INTRO!$E$41=\"Non-endemic\"),\" \",IF(COUNTRY_INFO!A149=0,\" \",COUNTRY_INFO!A149))","v":"Angola"},{"$f":"IF(AND(INTRO!$E$37=\"Non-endemic\",INTRO!$E$41=\"Non-endemic\"),\" \",IF(COUNTRY_INFO!B149=0,\" \",COUNTRY_INFO!B149))","v":"NAMIBE"},{"$f":"IF(AND(INTRO!$E$37=\"Non-endemic\",INTRO!$E$41=\"Non-endemic\"),\" \",IF(COUNTRY_INFO!C149=0,\" \",COUNTRY_INFO!C149))","v":"MOÇAMEDES"},{"$f":"IF(AND(INTRO!$E$37=\"Non-endemic\",INTRO!$E$41=\"Non-endemic\"),0,COUNTRY_INFO!W149)","v":0},{"$f":"IF(AND(INTRO!$E$37=\"Non-endemic\",INTRO!$E$41=\"Non-endemic\"),0,COUNTRY_INFO!Y149)","v":0},{"$f":"IF($D149=1,IVM!G149,0)","v":0},{"$f":"IF($D149=0, \" \", IF(COUNTRY_INFO!$H149=1, IF(COUNTRY_INFO!$L149=1, 0,\" \"),\" \"))","v":" "},null,0,{"$f":"IF(OR(COUNTRY_INFO!O149=\"Unknown\",COUNTRY_INFO!O149=\"Surveillance\",COUNTRY_INFO!O149=\"Not required\",COUNTRY_INFO!O149=0),0,IF(INTRO!$E$39=\"Non-endemic\",IF(AND($E149<>0,$I149=\"\"),IF($F149=0,COUNTRY_INFO!O149*$E149,COUNTRY_INFO!O149*($E149-$D149)),IF(AND($E149<>0,$I149<>0),IF($F149=0,COUNTRY_INFO!O149*$I149,COUNTRY_INFO!O149*($I149-$D149)),0)),IF($I149=\"\",COUNTRY_INFO!O149*$E149,COUNTRY_INFO!O149*$I149)))","v":0},{"$f":"MAX(0,IF(OR(COUNTRY_INFO!P149=\"Unknown\",COUNTRY_INFO!P149=\"Surveillance\",COUNTRY_INFO!P149=\"Not required\",COUNTRY_INFO!P149=0),0,IF($E149<>0,IF($D149=0,COUNTRY_INFO!P149*$E149,COUNTRY_INFO!P149*$E149-($F149*COUNTRY_INFO!$P149/(COUNTRY_INFO!$F149+COUNTRY_INFO!$G149)+IF($G149=\" \",0,COUNTRY_INFO!$P149/(COUNTRY_INFO!$F149+COUNTRY_INFO!$G149)*$G149*$H149))),0)))","v":0},null,{"$f":"MAX(0,IF(OR(COUNTRY_INFO!Q149=\"Unknown\",COUNTRY_INFO!Q149=\"Surveillance\",COUNTRY_INFO!Q149=\"Not required\",COUNTRY_INFO!Q149=0),0,IF($E149<>0,IF($D149=0,COUNTRY_INFO!Q149*MIN($E149,$L149),COUNTRY_INFO!Q149*MIN($E149,$L149)-($F149*COUNTRY_INFO!$Q149/(COUNTRY_INFO!$F149+COUNTRY_INFO!$G149)+IF($G149=\" \",0,COUNTRY_INFO!$Q149/(COUNTRY_INFO!$F149+COUNTRY_INFO!$G149)*$G149*$H149))),0)))","v":0},0,0,null,0,0,null,0,0,null,0]
[{"$f":"IF(AND(INTRO!$E$37=\"Non-endemic\",INTRO!$E$41=\"Non-endemic\"),\" \",IF(COUNTRY_INFO!A150=0,\" \",COUNTRY_INFO!A150))","v":"Angola"},{"$f":"IF(AND(INTRO!$E$37=\"Non-endemic\",INTRO!$E$41=\"Non-endemic\"),\" \",IF(COUNTRY_INFO!B150=0,\" \",COUNTRY_INFO!B150))","v":"NAMIBE"},{"$f":"IF(AND(INTRO!$E$37=\"Non-endemic\",INTRO!$E$41=\"Non-endemic\"),\" \",IF(COUNTRY_INFO!C150=0,\" \",COUNTRY_INFO!C150))","v":"TOMBWA"},{"$f":"IF(AND(INTRO!$E$37=\"Non-endemic\",INTRO!$E$41=\"Non-endemic\"),0,COUNTRY_INFO!W150)","v":0},{"$f":"IF(AND(INTRO!$E$37=\"Non-endemic\",INTRO!$E$41=\"Non-endemic\"),0,COUNTRY_INFO!Y150)","v":0},{"$f":"IF($D150=1,IVM!G150,0)","v":0},{"$f":"IF($D150=0, \" \", IF(COUNTRY_INFO!$H150=1, IF(COUNTRY_INFO!$L150=1, 0,\" \"),\" \"))","v":" "},null,0,{"$f":"IF(OR(COUNTRY_INFO!O150=\"Unknown\",COUNTRY_INFO!O150=\"Surveillance\",COUNTRY_INFO!O150=\"Not required\",COUNTRY_INFO!O150=0),0,IF(INTRO!$E$39=\"Non-endemic\",IF(AND($E150<>0,$I150=\"\"),IF($F150=0,COUNTRY_INFO!O150*$E150,COUNTRY_INFO!O150*($E150-$D150)),IF(AND($E150<>0,$I150<>0),IF($F150=0,COUNTRY_INFO!O150*$I150,COUNTRY_INFO!O150*($I150-$D150)),0)),IF($I150=\"\",COUNTRY_INFO!O150*$E150,COUNTRY_INFO!O150*$I150)))","v":0},{"$f":"MAX(0,IF(OR(COUNTRY_INFO!P150=\"Unknown\",COUNTRY_INFO!P150=\"Surveillance\",COUNTRY_INFO!P150=\"Not required\",COUNTRY_INFO!P150=0),0,IF($E150<>0,IF($D150=0,COUNTRY_INFO!P150*$E150,COUNTRY_INFO!P150*$E150-($F150*COUNTRY_INFO!$P150/(COUNTRY_INFO!$F150+COUNTRY_INFO!$G150)+IF($G150=\" \",0,COUNTRY_INFO!$P150/(COUNTRY_INFO!$F150+COUNTRY_INFO!$G150)*$G150*$H150))),0)))","v":0},null,{"$f":"MAX(0,IF(OR(COUNTRY_INFO!Q150=\"Unknown\",COUNTRY_INFO!Q150=\"Surveillance\",COUNTRY_INFO!Q150=\"Not required\",COUNTRY_INFO!Q150=0),0,IF($E150<>0,IF($D150=0,COUNTRY_INFO!Q150*MIN($E150,$L150),COUNTRY_INFO!Q150*MIN($E150,$L150)-($F150*COUNTRY_INFO!$Q150/(COUNTRY_INFO!$F150+COUNTRY_INFO!$G150)+IF($G150=\" \",0,COUNTRY_INFO!$Q150/(COUNTRY_INFO!$F150+COUNTRY_INFO!$G150)*$G150*$H150))),0)))","v":0},0,0,null,0,0,null,0,0,null,0]
[{"$f":"IF(AND(INTRO!$E$37=\"Non-endemic\",INTRO!$E$41=\"Non-endemic\"),\" \",IF(COUNTRY_INFO!A151=0,\" \",COUNTRY_INFO!A151))","v":"Angola"},{"$f":"IF(AND(INTRO!$E$37=\"Non-endemic\",INTRO!$E$41=\"Non-endemic\"),\" \",IF(COUNTRY_INFO!B151=0,\" \",COUNTRY_INFO!B151))","v":"NAMIBE"},{"$f":"IF(AND(INTRO!$E$37=\"Non-endemic\",INTRO!$E$41=\"Non-endemic\"),\" \",IF(COUNTRY_INFO!C151=0,\" \",COUNTRY_INFO!C151))","v":"VIREI"},{"$f":"IF(AND(INTRO!$E$37=\"Non-endemic\",INTRO!$E$41=\"Non-endemic\"),0,COUNTRY_INFO!W151)","v":0},{"$f":"IF(AND(INTRO!$E$37=\"Non-endemic\",INTRO!$E$41=\"Non-endemic\"),0,COUNTRY_INFO!Y151)","v":0},{"$f":"IF($D151=1,IVM!G151,0)","v":0},{"$f":"IF($D151=0, \" \", IF(COUNTRY_INFO!$H151=1, IF(COUNTRY_INFO!$L151=1, 0,\" \"),\" \"))","v":" "},null,0,{"$f":"IF(OR(COUNTRY_INFO!O151=\"Unknown\",COUNTRY_INFO!O151=\"Surveillance\",COUNTRY_INFO!O151=\"Not required\",COUNTRY_INFO!O151=0),0,IF(INTRO!$E$39=\"Non-endemic\",IF(AND($E151<>0,$I151=\"\"),IF($F151=0,COUNTRY_INFO!O151*$E151,COUNTRY_INFO!O151*($E151-$D151)),IF(AND($E151<>0,$I151<>0),IF($F151=0,COUNTRY_INFO!O151*$I151,COUNTRY_INFO!O151*($I151-$D151)),0)),IF($I151=\"\",COUNTRY_INFO!O151*$E151,COUNTRY_INFO!O151*$I151)))","v":0},{"$f":"MAX(0,IF(OR(COUNTRY_INFO!P151=\"Unknown\",COUNTRY_INFO!P151=\"Surveillance\",COUNTRY_INFO!P151=\"Not required\",COUNTRY_INFO!P151=0),0,IF($E151<>0,IF($D151=0,COUNTRY_INFO!P151*$E151,COUNTRY_INFO!P151*$E151-($F151*COUNTRY_INFO!$P151/(COUNTRY_INFO!$F151+COUNTRY_INFO!$G151)+IF($G151=\" \",0,COUNTRY_INFO!$P151/(COUNTRY_INFO!$F151+COUNTRY_INFO!$G151)*$G151*$H151))),0)))","v":0},null,{"$f":"MAX(0,IF(OR(COUNTRY_INFO!Q151=\"Unknown\",COUNTRY_INFO!Q151=\"Surveillance\",COUNTRY_INFO!Q151=\"Not required\",COUNTRY_INFO!Q151=0),0,IF($E151<>0,IF($D151=0,COUNTRY_INFO!Q151*MIN($E151,$L151),COUNTRY_INFO!Q151*MIN($E151,$L151)-($F151*COUNTRY_INFO!$Q151/(COUNTRY_INFO!$F151+COUNTRY_INFO!$G151)+IF($G151=\" \",0,COUNTRY_INFO!$Q151/(COUNTRY_INFO!$F151+COUNTRY_INFO!$G151)*$G151*$H151))),0)))","v":0},0,0,null,0,0,null,0,0,null,0]
[{"$f":"IF(AND(INTRO!$E$37=\"Non-endemic\",INTRO!$E$41=\"Non-endemic\"),\" \",IF(COUNTRY_INFO!A152=0,\" \",COUNTRY_INFO!A152))","v":"Angola"},{"$f":"IF(AND(INTRO!$E$37=\"Non-endemic\",INTRO!$E$41=\"Non-endemic\"),\" \",IF(COUNTRY_INFO!B152=0,\" \",COUNTRY_INFO!B152))","v":"UIGE"},{"$f":"IF(AND(INTRO!$E$37=\"Non-endemic\",INTRO!$E$41=\"Non-endemic\"),\" \",IF(COUNTRY_INFO!C152=0,\" \",COUNTRY_INFO!C152))","v":"AMBUILA"},{"$f":"IF(AND(INTRO!$E$37=\"Non-endemic\",INTRO!$E$41=\"Non-endemic\"),0,COUNTRY_INFO!W152)","v":1},{"$f":"IF(AND(INTRO!$E$37=\"Non-endemic\",INTRO!$E$41=\"Non-endemic\"),0,COUNTRY_INFO!Y152)","v":3},{"$f":"IF($D152=1,IVM!G152,0)","v":19314},{"$f":"IF($D152=0, \" \", IF(COUNTRY_INFO!$H152=1, IF(COUNTRY_INFO!$L152=1, 0,\" \"),\" \"))","v":0},2,0,{"$f":"IF(OR(COUNTRY_INFO!O152=\"Unknown\",COUNTRY_INFO!O152=\"Surveillance\",COUNTRY_INFO!O152=\"Not required\",COUNTRY_INFO!O152=0),0,IF(INTRO!$E$39=\"Non-endemic\",IF(AND($E152<>0,$I152=\"\"),IF($F152=0,COUNTRY_INFO!O152*$E152,COUNTRY_INFO!O152*($E152-$D152)),IF(AND($E152<>0,$I152<>0),IF($F152=0,COUNTRY_INFO!O152*$I152,COUNTRY_INFO!O152*($I152-$D152)),0)),IF($I152=\"\",COUNTRY_INFO!O152*$E152,COUNTRY_INFO!O152*$I152)))","v":0},{"$f":"MAX(0,IF(OR(COUNTRY_INFO!P152=\"Unknown\",COUNTRY_INFO!P152=\"Surveillance\",COUNTRY_INFO!P152=\"Not required\",COUNTRY_INFO!P152=0),0,IF($E152<>0,IF($D152=0,COUNTRY_INFO!P152*$E152,COUNTRY_INFO!P152*$E152-($F152*COUNTRY_INFO!$P152/(COUNTRY_INFO!$F152+COUNTRY_INFO!$G152)+IF($G152=\" \",0,COUNTRY_INFO!$P152/(COUNTRY_INFO!$F152+COUNTRY_INFO!$G152)*$G152*$H152))),0)))","v":13010},null,{"$f":"MAX(0,IF(OR(COUNTRY_INFO!Q152=\"Unknown\",COUNTRY_INFO!Q152=\"Surveillance\",COUNTRY_INFO!Q152=\"Not required\",COUNTRY_INFO!Q152=0),0,IF($E152<>0,IF($D152=0,COUNTRY_INFO!Q152*MIN($E152,$L152),COUNTRY_INFO!Q152*MIN($E152,$L152)-($F152*COUNTRY_INFO!$Q152/(COUNTRY_INFO!$F152+COUNTRY_INFO!$G152)+IF($G152=\" \",0,COUNTRY_INFO!$Q152/(COUNTRY_INFO!$F152+COUNTRY_INFO!$G152)*$G152*$H152))),0)))","v":10800},23810,19314,null,19314,23810,null,23810,0,null,0]
[{"$f":"IF(AND(INTRO!$E$37=\"Non-endemic\",INTRO!$E$41=\"Non-endemic\"),\" \",IF(COUNTRY_INFO!A153=0,\" \",COUNTRY_INFO!A153))","v":"Angola"},{"$f":"IF(AND(INTRO!$E$37=\"Non-endemic\",INTRO!$E$41=\"Non-endemic\"),\" \",IF(COUNTRY_INFO!B153=0,\" \",COUNTRY_INFO!B153))","v":"UIGE"},{"$f":"IF(AND(INTRO!$E$37=\"Non-endemic\",INTRO!$E$41=\"Non-endemic\"),\" \",IF(COUNTRY_INFO!C153=0,\" \",COUNTRY_INFO!C153))","v":"BEMBE"},{"$f":"IF(AND(INTRO!$E$37=\"Non-endemic\",INTRO!$E$41=\"Non-endemic\"),0,COUNTRY_INFO!W153)","v":0},{"$f":"IF(AND(INTRO!$E$37=\"Non-endemic\",INTRO!$E$41=\"Non-endemic\"),0,COUNTRY_INFO!Y153)","v":2},{"$f":"IF($D153=1,IVM!G153,0)","v":0},{"$f":"IF($D153=0, \" \", IF(COUNTRY_INFO!$H153=1, IF(COUNTRY_INFO!$L153=1, 0,\" \"),\" \"))","v":" "},null,0,{"$f":"IF(OR(COUNTRY_INFO!O153=\"Unknown\",COUNTRY_INFO!O153=\"Surveillance\",COUNTRY_INFO!O153=\"Not required\",COUNTRY_INFO!O153=0),0,IF(INTRO!$E$39=\"Non-endemic\",IF(AND($E153<>0,$I153=\"\"),IF($F153=0,COUNTRY_INFO!O153*$E153,COUNTRY_INFO!O153*($E153-$D153)),IF(AND($E153<>0,$I153<>0),IF($F153=0,COUNTRY_INFO!O153*$I153,COUNTRY_INFO!O153*($I153-$D153)),0)),IF($I153=\"\",COUNTRY_INFO!O153*$E153,COUNTRY_INFO!O153*$I153)))","v":0},{"$f":"MAX(0,IF(OR(COUNTRY_INFO!P153=\"Unknown\",COUNTRY_INFO!P153=\"Surveillance\",COUNTRY_INFO!P153=\"Not required\",COUNTRY_INFO!P153=0),0,IF($E153<>0,IF($D153=0,COUNTRY_INFO!P153*$E153,COUNTRY_INFO!P153*$E153-($F153*COUNTRY_INFO!$P153/(COUNTRY_INFO!$F153+COUNTRY_INFO!$G153)+IF($G153=\" \",0,COUNTRY_INFO!$P153/(COUNTRY_INFO!$F153+COUNTRY_INFO!$G153)*$G153*$H153))),0)))","v":23664},null,{"$f":"MAX(0,IF(OR(COUNTRY_INFO!Q153=\"Unknown\",COUNTRY_INFO!Q153=\"Surveillance\",COUNTRY_INFO!Q153=\"Not required\",COUNTRY_INFO!Q153=0),0,IF($E153<>0,IF($D153=0,COUNTRY_INFO!Q153*MIN($E153,$L153),COUNTRY_INFO!Q153*MIN($E153,$L153)-($F153*COUNTRY_INFO!$Q153/(COUNTRY_INFO!$F153+COUNTRY_INFO!$G153)+IF($G153=\" \",0,COUNTRY_INFO!$Q153/(COUNTRY_INFO!$F153+COUNTRY_INFO!$G153)*$G153*$H153))),0)))","v":19644},43308,0,null,0,43308,null,43308,0,null,0]
[{"$f":"IF(AND(INTRO!$E$37=\"Non-endemic\",INTRO!$E$41=\"Non-endemic\"),\" \",IF(COUNTRY_INFO!A154=0,\" \",COUNTRY_INFO!A154))","v":"Angola"},{"$f":"IF(AND(INTRO!$E$37=\"Non-endemic\",INTRO!$E$41=\"Non-endemic\"),\" \",IF(COUNTRY_INFO!B154=0,\" \",COUNTRY_INFO!B154))","v":"UIGE"},{"$f":"IF(AND(INTRO!$E$37=\"Non-endemic\",INTRO!$E$41=\"Non-endemic\"),\" \",IF(COUNTRY_INFO!C154=0,\" \",COUNTRY_INFO!C154))","v":"BUENGAS"},{"$f":"IF(AND(INTRO!$E$37=\"Non-endemic\",INTRO!$E$41=\"Non-endemic\"),0,COUNTRY_INFO!W154)","v":0},{"$f":"IF(AND(INTRO!$E$37=\"Non-endemic\",INTRO!$E$41=\"Non-endemic\"),0,COUNTRY_INFO!Y154)","v":3},{"$f":"IF($D154=1,IVM!G154,0)","v":0},{"$f":"IF($D154=0, \" \", IF(COUNTRY_INFO!$H154=1, IF(COUNTRY_INFO!$L154=1, 0,\" \"),\" \"))","v":" "},null,0,{"$f":"IF(OR(COUNTRY_INFO!O154=\"Unknown\",COUNTRY_INFO!O154=\"Surveillance\",COUNTRY_INFO!O154=\"Not required\",COUNTRY_INFO!O154=0),0,IF(INTRO!$E$39=\"Non-endemic\",IF(AND($E154<>0,$I154=\"\"),IF($F154=0,COUNTRY_INFO!O154*$E154,COUNTRY_INFO!O154*($E154-$D154)),IF(AND($E154<>0,$I154<>0),IF($F154=0,COUNTRY_INFO!O154*$I154,COUNTRY_INFO!O154*($I154-$D154)),0)),IF($I154=\"\",COUNTRY_INFO!O154*$E154,COUNTRY_INFO!O154*$I154)))","v":0},{"$f":"MAX(0,IF(OR(COUNTRY_INFO!P154=\"Unknown\",COUNTRY_INFO!P154=\"Surveillance\",COUNTRY_INFO!P154=\"Not required\",COUNTRY_INFO!P154=0),0,IF($E154<>0,IF($D154=0,COUNTRY_INFO!P154*$E154,COUNTRY_INFO!P154*$E154-($F154*COUNTRY_INFO!$P154/(COUNTRY_INFO!$F154+COUNTRY_INFO!$G154)+IF($G154=\" \",0,COUNTRY_INFO!$P154/(COUNTRY_INFO!$F154+COUNTRY_INFO!$G154)*$G154*$H154))),0)))","v":61662},null,{"$f":"MAX(0,IF(OR(COUNTRY_INFO!Q154=\"Unknown\",COUNTRY_INFO!Q154=\"Surveillance\",COUNTRY_INFO!Q154=\"Not required\",COUNTRY_INFO!Q154=0),0,IF($E154<>0,IF($D154=0,COUNTRY_INFO!Q154*MIN($E154,$L154),COUNTRY_INFO!Q154*MIN($E154,$L154)-($F154*COUNTRY_INFO!$Q154/(COUNTRY_INFO!$F154+COUNTRY_INFO!$G154)+IF($G154=\" \",0,COUNTRY_INFO!$Q154/(COUNTRY_INFO!$F154+COUNTRY_INFO!$G154)*$G154*$H154))),0)))","v":51186},112848,0,null,0,112848,null,112848,0,null,0]
[{"$f":"IF(AND(INTRO!$E$37=\"Non-endemic\",INTRO!$E$41=\"Non-endemic\"),\" \",IF(COUNTRY_INFO!A155=0,\" \",COUNTRY_INFO!A155))","v":"Angola"},{"$f":"IF(AND(INTRO!$E$37=\"Non-endemic\",INTRO!$E$41=\"Non-endemic\"),\" \",IF(COUNTRY_INFO!B155=0,\" \",COUNTRY_INFO!B155))","v":"UIGE"},{"$f":"IF(AND(INTRO!$E$37=\"Non-endemic\",INTRO!$E$41=\"Non-endemic\"),\" \",IF(COUNTRY_INFO!C155=0,\" \",COUNTRY_INFO!C155))","v":"BUNGO"},{"$f":"IF(AND(INTRO!$E$37=\"Non-endemic\",INTRO!$E$41=\"Non-endemic\"),0,COUNTRY_INFO!W155)","v":0},{"$f":"IF(AND(INTRO!$E$37=\"Non-endemic\",INTRO!$E$41=\"Non-endemic\"),0,COUNTRY_INFO!Y155)","v":3},{"$f":"IF($D155=1,IVM!G155,0)","v":0},{"$f":"IF($D155=0, \" \", IF(COUNTRY_INFO!$H155=1, IF(COUNTRY_INFO!$L155=1, 0,\" \"),\" \"))","v":" "},null,0,{"$f":"IF(OR(COUNTRY_INFO!O155=\"Unknown\",COUNTRY_INFO!O155=\"Surveillance\",COUNTRY_INFO!O155=\"Not required\",COUNTRY_INFO!O155=0),0,IF(INTRO!$E$39=\"Non-endemic\",IF(AND($E155<>0,$I155=\"\"),IF($F155=0,COUNTRY_INFO!O155*$E155,COUNTRY_INFO!O155*($E155-$D155)),IF(AND($E155<>0,$I155<>0),IF($F155=0,COUNTRY_INFO!O155*$I155,COUNTRY_INFO!O155*($I155-$D155)),0)),IF($I155=\"\",COUNTRY_INFO!O155*$E155,COUNTRY_INFO!O155*$I155)))","v":0},{"$f":"MAX(0,IF(OR(COUNTRY_INFO!P155=\"Unknown\",COUNTRY_INFO!P155=\"Surveillance\",COUNTRY_INFO!P155=\"Not required\",COUNTRY_INFO!P155=0),0,IF($E155<>0,IF($D155=0,COUNTRY_INFO!P155*$E155,COUNTRY_INFO!P155*$E155-($F155*COUNTRY_INFO!$P155/(COUNTRY_INFO!$F155+COUNTRY_INFO!$G155)+IF($G155=\" \",0,COUNTRY_INFO!$P155/(COUNTRY_INFO!$F155+COUNTRY_INFO!$G155)*$G155*$H155))),0)))","v":40017},null,{"$f":"MAX(0,IF(OR(COUNTRY_INFO!Q155=\"Unknown\",COUNTRY_INFO!Q155=\"Surveillance\",COUNTRY_INFO!Q155=\"Not required\",COUNTRY_INFO!Q155=0),0,IF($E155<>0,IF($D155=0,COUNTRY_INFO!Q155*MIN($E155,$L155),COUNTRY_INFO!Q155*MIN($E155,$L155)-($F155*COUNTRY_INFO!$Q155/(COUNTRY_INFO!$F155+COUNTRY_INFO!$G155)+IF($G155=\" \",0,COUNTRY_INFO!$Q155/(COUNTRY_INFO!$F155+COUNTRY_INFO!$G155)*$G155*$H155))),0)))","v":33219},73236,0,null,0,73236,null,73236,0,null,0]
[{"$f":"IF(AND(INTRO!$E$37=\"Non-endemic\",INTRO!$E$41=\"Non-endemic\"),\" \",IF(COUNTRY_INFO!A156=0,\" \",COUNTRY_INFO!A156))","v":"Angola"},{"$f":"IF(AND(INTRO!$E$37=\"Non-endemic\",INTRO!$E$41=\"Non-endemic\"),\" \",IF(COUNTRY_INFO!B156=0,\" \",COUNTRY_INFO!B156))","v":"UIGE"},{"$f":"IF(AND(INTRO!$E$37=\"Non-endemic\",INTRO!$E$41=\"Non-endemic\"),\" \",IF(COUNTRY_INFO!C156=0,\" \",COUNTRY_INFO!C156))","v":"CANGOLA"},{"$f":"IF(AND(INTRO!$E$37=\"Non-endemic\",INTRO!$E$41=\"Non-endemic\"),0,COUNTRY_INFO!W156)","v":0},{"$f":"IF(AND(INTRO!$E$37=\"Non-endemic\",INTRO!$E$41=\"Non-endemic\"),0,COUNTRY_INFO!Y156)","v":3},{"$f":"IF($D156=1,IVM!G156,0)","v":0},{"$f":"IF($D156=0, \" \", IF(COUNTRY_INFO!$H156=1, IF(COUNTRY_INFO!$L156=1, 0,\" \"),\" \"))","v":" "},null,0,{"$f":"IF(OR(COUNTRY_INFO!O156=\"Unknown\",COUNTRY_INFO!O156=\"Surveillance\",COUNTRY_INFO!O156=\"Not required\",COUNTRY_INFO!O156=0),0,IF(INTRO!$E$39=\"Non-endemic\",IF(AND($E156<>0,$I156=\"\"),IF($F156=0,COUNTRY_INFO!O156*$E156,COUNTRY_INFO!O156*($E156-$D156)),IF(AND($E156<>0,$I156<>0),IF($F156=0,COUNTRY_INFO!O156*$I156,COUNTRY_INFO!O156*($I156-$D156)),0)),IF($I156=\"\",COUNTRY_INFO!O156*$E156,COUNTRY_INFO!O156*$I156)))","v":0},{"$f":"MAX(0,IF(OR(COUNTRY_INFO!P156=\"Unknown\",COUNTRY_INFO!P156=\"Surveillance\",COUNTRY_INFO!P156=\"Not required\",COUNTRY_INFO!P156=0),0,IF($E156<>0,IF($D156=0,COUNTRY_INFO!P156*$E156,COUNTRY_INFO!P156*$E156-($F156*COUNTRY_INFO!$P156/(COUNTRY_INFO!$F156+COUNTRY_INFO!$G156)+IF($G156=\" \",0,COUNTRY_INFO!$P156/(COUNTRY_INFO!$F156+COUNTRY_INFO!$G156)*$G156*$H156))),0)))","v":57861},null,{"$f":"MAX(0,IF(OR(COUNTRY_INFO!Q156=\"Unknown\",COUNTRY_INFO!Q156=\"Surveillance\",COUNTRY_INFO!Q156=\"Not required\",COUNTRY_INFO!Q156=0),0,IF($E156<>0,IF($D156=0,COUNTRY_INFO!Q156*MIN($E156,$L156),COUNTRY_INFO!Q156*MIN($E156,$L156)-($F156*COUNTRY_INFO!$Q156/(COUNTRY_INFO!$F156+COUNTRY_INFO!$G156)+IF($G156=\" \",0,COUNTRY_INFO!$Q156/(COUNTRY_INFO!$F156+COUNTRY_INFO!$G156)*$G156*$H156))),0)))","v":48030},105891,0,null,0,105891,null,105891,0,null,0]
[{"$f":"IF(AND(INTRO!$E$37=\"Non-endemic\",INTRO!$E$41=\"Non-endemic\"),\" \",IF(COUNTRY_INFO!A157=0,\" \",COUNTRY_INFO!A157))","v":"Angola"},{"$f":"IF(AND(INTRO!$E$37=\"Non-endemic\",INTRO!$E$41=\"Non-endemic\"),\" \",IF(COUNTRY_INFO!B157=0,\" \",COUNTRY_INFO!B157))","v":"UIGE"},{"$f":"IF(AND(INTRO!$E$37=\"Non-endemic\",INTRO!$E$41=\"Non-endemic\"),\" \",IF(COUNTRY_INFO!C157=0,\" \",COUNTRY_INFO!C157))","v":"DAMBA"},{"$f":"IF(AND(INTRO!$E$37=\"Non-endemic\",INTRO!$E$41=\"Non-endemic\"),0,COUNTRY_INFO!W157)","v":0},{"$f":"IF(AND(INTRO!$E$37=\"Non-endemic\",INTRO!$E$41=\"Non-endemic\"),0,COUNTRY_INFO!Y157)","v":3},{"$f":"IF($D157=1,IVM!G157,0)","v":0},{"$f":"IF($D157=0, \" \", IF(COUNTRY_INFO!$H157=1, IF(COUNTRY_INFO!$L157=1, 0,\" \"),\" \"))","v":" "},null,0,{"$f":"IF(OR(COUNTRY_INFO!O157=\"Unknown\",COUNTRY_INFO!O157=\"Surveillance\",COUNTRY_INFO!O157=\"Not required\",COUNTRY_INFO!O157=0),0,IF(INTRO!$E$39=\"Non-endemic\",IF(AND($E157<>0,$I157=\"\"),IF($F157=0,COUNTRY_INFO!O157*$E157,COUNTRY_INFO!O157*($E157-$D157)),IF(AND($E157<>0,$I157<>0),IF($F157=0,COUNTRY_INFO!O157*$I157,COUNTRY_INFO!O157*($I157-$D157)),0)),IF($I157=\"\",COUNTRY_INFO!O157*$E157,COUNTRY_INFO!O157*$I157)))","v":0},{"$f":"MAX(0,IF(OR(COUNTRY_INFO!P157=\"Unknown\",COUNTRY_INFO!P157=\"Surveillance\",COUNTRY_INFO!P157=\"Not required\",COUNTRY_INFO!P157=0),0,IF($E157<>0,IF($D157=0,COUNTRY_INFO!P157*$E157,COUNTRY_INFO!P157*$E157-($F157*COUNTRY_INFO!$P157/(COUNTRY_INFO!$F157+COUNTRY_INFO!$G157)+IF($G157=\" \",0,COUNTRY_INFO!$P157/(COUNTRY_INFO!$F157+COUNTRY_INFO!$G157)*$G157*$H157))),0)))","v":71598},null,{"$f":"MAX(0,IF(OR(COUNTRY_INFO!Q157=\"Unknown\",COUNTRY_INFO!Q157=\"Surveillance\",COUNTRY_INFO!Q157=\"Not required\",COUNTRY_INFO!Q157=0),0,IF($E157<>0,IF($D157=0,COUNTRY_INFO!Q157*MIN($E157,$L157),COUNTRY_INFO!Q157*MIN($E157,$L157)-($F157*COUNTRY_INFO!$Q157/(COUNTRY_INFO!$F157+COUNTRY_INFO!$G157)+IF($G157=\" \",0,COUNTRY_INFO!$Q157/(COUNTRY_INFO!$F157+COUNTRY_INFO!$G157)*$G157*$H157))),0)))","v":59433},131031,0,null,0,131031,null,131031,0,null,0]
[{"$f":"IF(AND(INTRO!$E$37=\"Non-endemic\",INTRO!$E$41=\"Non-endemic\"),\" \",IF(COUNTRY_INFO!A158=0,\" \",COUNTRY_INFO!A158))","v":"Angola"},{"$f":"IF(AND(INTRO!$E$37=\"Non-endemic\",INTRO!$E$41=\"Non-endemic\"),\" \",IF(COUNTRY_INFO!B158=0,\" \",COUNTRY_INFO!B158))","v":"UIGE"},{"$f":"IF(AND(INTRO!$E$37=\"Non-endemic\",INTRO!$E$41=\"Non-endemic\"),\" \",IF(COUNTRY_INFO!C158=0,\" \",COUNTRY_INFO!C158))","v":"MAQUELA DO ZOMBO"},{"$f":"IF(AND(INTRO!$E$37=\"Non-endemic\",INTRO!$E$41=\"Non-endemic\"),0,COUNTRY_INFO!W158)","v":0},{"$f":"IF(AND(INTRO!$E$37=\"Non-endemic\",INTRO!$E$41=\"Non-endemic\"),0,COUNTRY_INFO!Y158)","v":3},{"$f":"IF($D158=1,IVM!G158,0)","v":0},{"$f":"IF($D158=0, \" \", IF(COUNTRY_INFO!$H158=1, IF(COUNTRY_INFO!$L158=1, 0,\" \"),\" \"))","v":" "},null,0,{"$f":"IF(OR(COUNTRY_INFO!O158=\"Unknown\",COUNTRY_INFO!O158=\"Surveillance\",COUNTRY_INFO!O158=\"Not required\",COUNTRY_INFO!O158=0),0,IF(INTRO!$E$39=\"Non-endemic\",IF(AND($E158<>0,$I158=\"\"),IF($F158=0,COUNTRY_INFO!O158*$E158,COUNTRY_INFO!O158*($E158-$D158)),IF(AND($E158<>0,$I158<>0),IF($F158=0,COUNTRY_INFO!O158*$I158,COUNTRY_INFO!O158*($I158-$D158)),0)),IF($I158=\"\",COUNTRY_INFO!O158*$E158,COUNTRY_INFO!O158*$I158)))","v":0},{"$f":"MAX(0,IF(OR(COUNTRY_INFO!P158=\"Unknown\",COUNTRY_INFO!P158=\"Surveillance\",COUNTRY_INFO!P158=\"Not required\",COUNTRY_INFO!P158=0),0,IF($E158<>0,IF($D158=0,COUNTRY_INFO!P158*$E158,COUNTRY_INFO!P158*$E158-($F158*COUNTRY_INFO!$P158/(COUNTRY_INFO!$F158+COUNTRY_INFO!$G158)+IF($G158=\" \",0,COUNTRY_INFO!$P158/(COUNTRY_INFO!$F158+COUNTRY_INFO!$G158)*$G158*$H158))),0)))","v":137172},null,{"$f":"MAX(0,IF(OR(COUNTRY_INFO!Q158=\"Unknown\",COUNTRY_INFO!Q158=\"Surveillance\",COUNTRY_INFO!Q158=\"Not required\",COUNTRY_INFO!Q158=0),0,IF($E158<>0,IF($D158=0,COUNTRY_INFO!Q158*MIN($E158,$L158),COUNTRY_INFO!Q158*MIN($E158,$L158)-($F158*COUNTRY_INFO!$Q158/(COUNTRY_INFO!$F158+COUNTRY_INFO!$G158)+IF($G158=\" \",0,COUNTRY_INFO!$Q158/(COUNTRY_INFO!$F158+COUNTRY_INFO!$G158)*$G158*$H158))),0)))","v":113865},251037,0,null,0,251037,null,251037,0,null,0]
[{"$f":"IF(AND(INTRO!$E$37=\"Non-endemic\",INTRO!$E$41=\"Non-endemic\"),\" \",IF(COUNTRY_INFO!A159=0,\" \",COUNTRY_INFO!A159))","v":"Angola"},{"$f":"IF(AND(INTRO!$E$37=\"Non-endemic\",INTRO!$E$41=\"Non-endemic\"),\" \",IF(COUNTRY_INFO!B159=0,\" \",COUNTRY_INFO!B159))","v":"UIGE"},{"$f":"IF(AND(INTRO!$E$37=\"Non-endemic\",INTRO!$E$41=\"Non-endemic\"),\" \",IF(COUNTRY_INFO!C159=0,\" \",COUNTRY_INFO!C159))","v":"MILUNGA"},{"$f":"IF(AND(INTRO!$E$37=\"Non-endemic\",INTRO!$E$41=\"Non-endemic\"),0,COUNTRY_INFO!W159)","v":0},{"$f":"IF(AND(INTRO!$E$37=\"Non-endemic\",INTRO!$E$41=\"Non-endemic\"),0,COUNTRY_INFO!Y159)","v":3},{"$f":"IF($D159=1,IVM!G159,0)","v":0},{"$f":"IF($D159=0, \" \", IF(COUNTRY_INFO!$H159=1, IF(COUNTRY_INFO!$L159=1, 0,\" \"),\" \"))","v":" "},null,0,{"$f":"IF(OR(COUNTRY_INFO!O159=\"Unknown\",COUNTRY_INFO!O159=\"Surveillance\",COUNTRY_INFO!O159=\"Not required\",COUNTRY_INFO!O159=0),0,IF(INTRO!$E$39=\"Non-endemic\",IF(AND($E159<>0,$I159=\"\"),IF($F159=0,COUNTRY_INFO!O159*$E159,COUNTRY_INFO!O159*($E159-$D159)),IF(AND($E159<>0,$I159<>0),IF($F159=0,COUNTRY_INFO!O159*$I159,COUNTRY_INFO!O159*($I159-$D159)),0)),IF($I159=\"\",COUNTRY_INFO!O159*$E159,COUNTRY_INFO!O159*$I159)))","v":0},{"$f":"MAX(0,IF(OR(COUNTRY_INFO!P159=\"Unknown\",COUNTRY_INFO!P159=\"Surveillance\",COUNTRY_INFO!P159=\"Not required\",COUNTRY_INFO!P159=0),0,IF($E159<>0,IF($D159=0,COUNTRY_INFO!P159*$E159,COUNTRY_INFO!P159*$E159-($F159*COUNTRY_INFO!$P159/(COUNTRY_INFO!$F159+COUNTRY_INFO!$G159)+IF($G159=\" \",0,COUNTRY_INFO!$P159/(COUNTRY_INFO!$F159+COUNTRY_INFO!$G159)*$G159*$H159))),0)))","v":54498},null,{"$f":"MAX(0,IF(OR(COUNTRY_INFO!Q159=\"Unknown\",COUNTRY_INFO!Q159=\"Surveillance\",COUNTRY_INFO!Q159=\"Not required\",COUNTRY_INFO!Q159=0),0,IF($E159<>0,IF($D159=0,COUNTRY_INFO!Q159*MIN($E159,$L159),COUNTRY_INFO!Q159*MIN($E159,$L159)-($F159*COUNTRY_INFO!$Q159/(COUNTRY_INFO!$F159+COUNTRY_INFO!$G159)+IF($G159=\" \",0,COUNTRY_INFO!$Q159/(COUNTRY_INFO!$F159+COUNTRY_INFO!$G159)*$G159*$H159))),0)))","v":45240},99738,0,null,0,99738,null,99738,0,null,0]
[{"$f":"IF(AND(INTRO!$E$37=\"Non-endemic\",INTRO!$E$41=\"Non-endemic\"),\" \",IF(COUNTRY_INFO!A160=0,\" \",COUNTRY_INFO!A160))","v":"Angola"},{"$f":"IF(AND(INTRO!$E$37=\"Non-endemic\",INTRO!$E$41=\"Non-endemic\"),\" \",IF(COUNTRY_INFO!B160=0,\" \",COUNTRY_INFO!B160))","v":"UIGE"},{"$f":"IF(AND(INTRO!$E$37=\"Non-endemic\",INTRO!$E$41=\"Non-endemic\"),\" \",IF(COUNTRY_INFO!C160=0,\" \",COUNTRY_INFO!C160))","v":"MUCABA"},{"$f":"IF(AND(INTRO!$E$37=\"Non-endemic\",INTRO!$E$41=\"Non-endemic\"),0,COUNTRY_INFO!W160)","v":0},{"$f":"IF(AND(INTRO!$E$37=\"Non-endemic\",INTRO!$E$41=\"Non-endemic\"),0,COUNTRY_INFO!Y160)","v":3},{"$f":"IF($D160=1,IVM!G160,0)","v":0},{"$f":"IF($D160=0, \" \", IF(COUNTRY_INFO!$H160=1, IF(COUNTRY_INFO!$L160=1, 0,\" \"),\" \"))","v":" "},null,0,{"$f":"IF(OR(COUNTRY_INFO!O160=\"Unknown\",COUNTRY_INFO!O160=\"Surveillance\",COUNTRY_INFO!O160=\"Not required\",COUNTRY_INFO!O160=0),0,IF(INTRO!$E$39=\"Non-endemic\",IF(AND($E160<>0,$I160=\"\"),IF($F160=0,COUNTRY_INFO!O160*$E160,COUNTRY_INFO!O160*($E160-$D160)),IF(AND($E160<>0,$I160<>0),IF($F160=0,COUNTRY_INFO!O160*$I160,COUNTRY_INFO!O160*($I160-$D160)),0)),IF($I160=\"\",COUNTRY_INFO!O160*$E160,COUNTRY_INFO!O160*$I160)))","v":0},{"$f":"MAX(0,IF(OR(COUNTRY_INFO!P160=\"Unknown\",COUNTRY_INFO!P160=\"Surveillance\",COUNTRY_INFO!P160=\"Not required\",COUNTRY_INFO!P160=0),0,IF($E160<>0,IF($D160=0,COUNTRY_INFO!P160*$E160,COUNTRY_INFO!P160*$E160-($F160*COUNTRY_INFO!$P160/(COUNTRY_INFO!$F160+COUNTRY_INFO!$G160)+IF($G160=\" \",0,COUNTRY_INFO!$P160/(COUNTRY_INFO!$F160+COUNTRY_INFO!$G160)*$G160*$H160))),0)))","v":47364},null,{"$f":"MAX(0,IF(OR(COUNTRY_INFO!Q160=\"Unknown\",COUNTRY_INFO!Q160=\"Surveillance\",COUNTRY_INFO!Q160=\"Not required\",COUNTRY_INFO!Q160=0),0,IF($E160<>0,IF($D160=0,COUNTRY_INFO!Q160*MIN($E160,$L160),COUNTRY_INFO!Q160*MIN($E160,$L160)-($F160*COUNTRY_INFO!$Q160/(COUNTRY_INFO!$F160+COUNTRY_INFO!$G160)+IF($G160=\" \",0,COUNTRY_INFO!$Q160/(COUNTRY_INFO!$F160+COUNTRY_INFO!$G160)*$G160*$H160))),0)))","v":39318},86682,0,null,0,86682,null,86682,0,null,0]
[{"$f":"IF(AND(INTRO!$E$37=\"Non-endemic\",INTRO!$E$41=\"Non-endemic\"),\" \",IF(COUNTRY_INFO!A161=0,\" \",COUNTRY_INFO!A161))","v":"Angola"},{"$f":"IF(AND(INTRO!$E$37=\"Non-endemic\",INTRO!$E$41=\"Non-endemic\"),\" \",IF(COUNTRY_INFO!B161=0,\" \",COUNTRY_INFO!B161))","v":"UIGE"},{"$f":"IF(AND(INTRO!$E$37=\"Non-endemic\",INTRO!$E$41=\"Non-endemic\"),\" \",IF(COUNTRY_INFO!C161=0,\" \",COUNTRY_INFO!C161))","v":"NEGAGE"},{"$f":"IF(AND(INTRO!$E$37=\"Non-endemic\",INTRO!$E$41=\"Non-endemic\"),0,COUNTRY_INFO!W161)","v":0},{"$f":"IF(AND(INTRO!$E$37=\"Non-endemic\",INTRO!$E$41=\"Non-endemic\"),0,COUNTRY_INFO!Y161)","v":3},{"$f":"IF($D161=1,IVM!G161,0)","v":0},{"$f":"IF($D161=0, \" \", IF(COUNTRY_INFO!$H161=1, IF(COUNTRY_INFO!$L161=1, 0,\" \"),\" \"))","v":" "},null,0,{"$f":"IF(OR(COUNTRY_INFO!O161=\"Unknown\",COUNTRY_INFO!O161=\"Surveillance\",COUNTRY_INFO!O161=\"Not required\",COUNTRY_INFO!O161=0),0,IF(INTRO!$E$39=\"Non-endemic\",IF(AND($E161<>0,$I161=\"\"),IF($F161=0,COUNTRY_INFO!O161*$E161,COUNTRY_INFO!O161*($E161-$D161)),IF(AND($E161<>0,$I161<>0),IF($F161=0,COUNTRY_INFO!O161*$I161,COUNTRY_INFO!O161*($I161-$D161)),0)),IF($I161=\"\",COUNTRY_INFO!O161*$E161,COUNTRY_INFO!O161*$I161)))","v":0},{"$f":"MAX(0,IF(OR(COUNTRY_INFO!P161=\"Unknown\",COUNTRY_INFO!P161=\"Surveillance\",COUNTRY_INFO!P161=\"Not required\",COUNTRY_INFO!P161=0),0,IF($E161<>0,IF($D161=0,COUNTRY_INFO!P161*$E161,COUNTRY_INFO!P161*$E161-($F161*COUNTRY_INFO!$P161/(COUNTRY_INFO!$F161+COUNTRY_INFO!$G161)+IF($G161=\" \",0,COUNTRY_INFO!$P161/(COUNTRY_INFO!$F161+COUNTRY_INFO!$G161)*$G161*$H161))),0)))","v":148164},null,{"$f":"MAX(0,IF(OR(COUNTRY_INFO!Q161=\"Unknown\",COUNTRY_INFO!Q161=\"Surveillance\",COUNTRY_INFO!Q161=\"Not required\",COUNTRY_INFO!Q161=0),0,IF($E161<>0,IF($D161=0,COUNTRY_INFO!Q161*MIN($E161,$L161),COUNTRY_INFO!Q161*MIN($E161,$L161)-($F161*COUNTRY_INFO!$Q161/(COUNTRY_INFO!$F161+COUNTRY_INFO!$G161)+IF($G161=\" \",0,COUNTRY_INFO!$Q161/(COUNTRY_INFO!$F161+COUNTRY_INFO!$G161)*$G161*$H161))),0)))","v":122991},271155,0,null,0,271155,null,271155,0,null,0]
[{"$f":"IF(AND(INTRO!$E$37=\"Non-endemic\",INTRO!$E$41=\"Non-endemic\"),\" \",IF(COUNTRY_INFO!A162=0,\" \",COUNTRY_INFO!A162))","v":"Angola"},{"$f":"IF(AND(INTRO!$E$37=\"Non-endemic\",INTRO!$E$41=\"Non-endemic\"),\" \",IF(COUNTRY_INFO!B162=0,\" \",COUNTRY_INFO!B162))","v":"UIGE"},{"$f":"IF(AND(INTRO!$E$37=\"Non-endemic\",INTRO!$E$41=\"Non-endemic\"),\" \",IF(COUNTRY_INFO!C162=0,\" \",COUNTRY_INFO!C162))","v":"PURI"},{"$f":"IF(AND(INTRO!$E$37=\"Non-endemic\",INTRO!$E$41=\"Non-endemic\"),0,COUNTRY_INFO!W162)","v":1},{"$f":"IF(AND(INTRO!$E$37=\"Non-endemic\",INTRO!$E$41=\"Non-endemic\"),0,COUNTRY_INFO!Y162)","v":2},{"$f":"IF($D162=1,IVM!G162,0)","v":40413},{"$f":"IF($D162=0, \" \", IF(COUNTRY_INFO!$H162=1, IF(COUNTRY_INFO!$L162=1, 0,\" \"),\" \"))","v":" "},null,0,{"$f":"IF(OR(COUNTRY_INFO!O162=\"Unknown\",COUNTRY_INFO!O162=\"Surveillance\",COUNTRY_INFO!O162=\"Not required\",COUNTRY_INFO!O162=0),0,IF(INTRO!$E$39=\"Non-endemic\",IF(AND($E162<>0,$I162=\"\"),IF($F162=0,COUNTRY_INFO!O162*$E162,COUNTRY_INFO!O162*($E162-$D162)),IF(AND($E162<>0,$I162<>0),IF($F162=0,COUNTRY_INFO!O162*$I162,COUNTRY_INFO!O162*($I162-$D162)),0)),IF($I162=\"\",COUNTRY_INFO!O162*$E162,COUNTRY_INFO!O162*$I162)))","v":0},{"$f":"MAX(0,IF(OR(COUNTRY_INFO!P162=\"Unknown\",COUNTRY_INFO!P162=\"Surveillance\",COUNTRY_INFO!P162=\"Not required\",COUNTRY_INFO!P162=0),0,IF($E162<>0,IF($D162=0,COUNTRY_INFO!P162*$E162,COUNTRY_INFO!P162*$E162-($F162*COUNTRY_INFO!$P162/(COUNTRY_INFO!$F162+COUNTRY_INFO!$G162)+IF($G162=\" \",0,COUNTRY_INFO!$P162/(COUNTRY_INFO!$F162+COUNTRY_INFO!$G162)*$G162*$H162))),0)))","v":13611},null,{"$f":"MAX(0,IF(OR(COUNTRY_INFO!Q162=\"Unknown\",COUNTRY_INFO!Q162=\"Surveillance\",COUNTRY_INFO!Q162=\"Not required\",COUNTRY_INFO!Q162=0),0,IF($E162<>0,IF($D162=0,COUNTRY_INFO!Q162*MIN($E162,$L162),COUNTRY_INFO!Q162*MIN($E162,$L162)-($F162*COUNTRY_INFO!$Q162/(COUNTRY_INFO!$F162+COUNTRY_INFO!$G162)+IF($G162=\" \",0,COUNTRY_INFO!$Q162/(COUNTRY_INFO!$F162+COUNTRY_INFO!$G162)*$G162*$H162))),0)))","v":11299},24910,40413,null,40413,24910,null,24910,0,null,0]
[{"$f":"IF(AND(INTRO!$E$37=\"Non-endemic\",INTRO!$E$41=\"Non-endemic\"),\" \",IF(COUNTRY_INFO!A163=0,\" \",COUNTRY_INFO!A163))","v":"Angola"},{"$f":"IF(AND(INTRO!$E$37=\"Non-endemic\",INTRO!$E$41=\"Non-endemic\"),\" \",IF(COUNTRY_INFO!B163=0,\" \",COUNTRY_INFO!B163))","v":"UIGE"},{"$f":"IF(AND(INTRO!$E$37=\"Non-endemic\",INTRO!$E$41=\"Non-endemic\"),\" \",IF(COUNTRY_INFO!C163=0,\" \",COUNTRY_INFO!C163))","v":"QUIMBELE"},{"$f":"IF(AND(INTRO!$E$37=\"Non-endemic\",INTRO!$E$41=\"Non-endemic\"),0,COUNTRY_INFO!W163)","v":0},{"$f":"IF(AND(INTRO!$E$37=\"Non-endemic\",INTRO!$E$41=\"Non-endemic\"),0,COUNTRY_INFO!Y163)","v":3},{"$f":"IF($D163=1,IVM!G163,0)","v":0},{"$f":"IF($D163=0, \" \", IF(COUNTRY_INFO!$H163=1, IF(COUNTRY_INFO!$L163=1, 0,\" \"),\" \"))","v":" "},null,0,{"$f":"IF(OR(COUNTRY_INFO!O163=\"Unknown\",COUNTRY_INFO!O163=\"Surveillance\",COUNTRY_INFO!O163=\"Not required\",COUNTRY_INFO!O163=0),0,IF(INTRO!$E$39=\"Non-endemic\",IF(AND($E163<>0,$I163=\"\"),IF($F163=0,COUNTRY_INFO!O163*$E163,COUNTRY_INFO!O163*($E163-$D163)),IF(AND($E163<>0,$I163<>0),IF($F163=0,COUNTRY_INFO!O163*$I163,COUNTRY_INFO!O163*($I163-$D163)),0)),IF($I163=\"\",COUNTRY_INFO!O163*$E163,COUNTRY_INFO!O163*$I163)))","v":0},{"$f":"MAX(0,IF(OR(COUNTRY_INFO!P163=\"Unknown\",COUNTRY_INFO!P163=\"Surveillance\",COUNTRY_INFO!P163=\"Not required\",COUNTRY_INFO!P163=0),0,IF($E163<>0,IF($D163=0,COUNTRY_INFO!P163*$E163,COUNTRY_INFO!P163*$E163-($F163*COUNTRY_INFO!$P163/(COUNTRY_INFO!$F163+COUNTRY_INFO!$G163)+IF($G163=\" \",0,COUNTRY_INFO!$P163/(COUNTRY_INFO!$F163+COUNTRY_INFO!$G163)*$G163*$H163))),0)))","v":147021},null,{"$f":"MAX(0,IF(OR(COUNTRY_INFO!Q163=\"Unknown\",COUNTRY_INFO!Q163=\"Surveillance\",COUNTRY_INFO!Q163=\"Not required\",COUNTRY_INFO!Q163=0),0,IF($E163<>0,IF($D163=0,COUNTRY_INFO!Q163*MIN($E163,$L163),COUNTRY_INFO!Q163*MIN($E163,$L163)-($F163*COUNTRY_INFO!$Q163/(COUNTRY_INFO!$F163+COUNTRY_INFO!$G163)+IF($G163=\" \",0,COUNTRY_INFO!$Q163/(COUNTRY_INFO!$F163+COUNTRY_INFO!$G163)*$G163*$H163))),0)))","v":122043},269064,0,null,0,269064,null,269064,0,null,0]
[{"$f":"IF(AND(INTRO!$E$37=\"Non-endemic\",INTRO!$E$41=\"Non-endemic\"),\" \",IF(COUNTRY_INFO!A164=0,\" \",COUNTRY_INFO!A164))","v":"Angola"},{"$f":"IF(AND(INTRO!$E$37=\"Non-endemic\",INTRO!$E$41=\"Non-endemic\"),\" \",IF(COUNTRY_INFO!B164=0,\" \",COUNTRY_INFO!B164))","v":"UIGE"},{"$f":"IF(AND(INTRO!$E$37=\"Non-endemic\",INTRO!$E$41=\"Non-endemic\"),\" \",IF(COUNTRY_INFO!C164=0,\" \",COUNTRY_INFO!C164))","v":"QUITEXE"},{"$f":"IF(AND(INTRO!$E$37=\"Non-endemic\",INTRO!$E$41=\"Non-endemic\"),0,COUNTRY_INFO!W164)","v":1},{"$f":"IF(AND(INTRO!$E$37=\"Non-endemic\",INTRO!$E$41=\"Non-endemic\"),0,COUNTRY_INFO!Y164)","v":3},{"$f":"IF($D164=1,IVM!G164,0)","v":36561},{"$f":"IF($D164=0, \" \", IF(COUNTRY_INFO!$H164=1, IF(COUNTRY_INFO!$L164=1, 0,\" \"),\" \"))","v":0},2,0,{"$f":"IF(OR(COUNTRY_INFO!O164=\"Unknown\",COUNTRY_INFO!O164=\"Surveillance\",COUNTRY_INFO!O164=\"Not required\",COUNTRY_INFO!O164=0),0,IF(INTRO!$E$39=\"Non-endemic\",IF(AND($E164<>0,$I164=\"\"),IF($F164=0,COUNTRY_INFO!O164*$E164,COUNTRY_INFO!O164*($E164-$D164)),IF(AND($E164<>0,$I164<>0),IF($F164=0,COUNTRY_INFO!O164*$I164,COUNTRY_INFO!O164*($I164-$D164)),0)),IF($I164=\"\",COUNTRY_INFO!O164*$E164,COUNTRY_INFO!O164*$I164)))","v":0},{"$f":"MAX(0,IF(OR(COUNTRY_INFO!P164=\"Unknown\",COUNTRY_INFO!P164=\"Surveillance\",COUNTRY_INFO!P164=\"Not required\",COUNTRY_INFO!P164=0),0,IF($E164<>0,IF($D164=0,COUNTRY_INFO!P164*$E164,COUNTRY_INFO!P164*$E164-($F164*COUNTRY_INFO!$P164/(COUNTRY_INFO!$F164+COUNTRY_INFO!$G164)+IF($G164=\" \",0,COUNTRY_INFO!$P164/(COUNTRY_INFO!$F164+COUNTRY_INFO!$G164)*$G164*$H164))),0)))","v":24628},null,{"$f":"MAX(0,IF(OR(COUNTRY_INFO!Q164=\"Unknown\",COUNTRY_INFO!Q164=\"Surveillance\",COUNTRY_INFO!Q164=\"Not required\",COUNTRY_INFO!Q164=0),0,IF($E164<>0,IF($D164=0,COUNTRY_INFO!Q164*MIN($E164,$L164),COUNTRY_INFO!Q164*MIN($E164,$L164)-($F164*COUNTRY_INFO!$Q164/(COUNTRY_INFO!$F164+COUNTRY_INFO!$G164)+IF($G164=\" \",0,COUNTRY_INFO!$Q164/(COUNTRY_INFO!$F164+COUNTRY_INFO!$G164)*$G164*$H164))),0)))","v":20444},45072,36561,null,36561,45072,null,45072,0,null,0]
[{"$f":"IF(AND(INTRO!$E$37=\"Non-endemic\",INTRO!$E$41=\"Non-endemic\"),\" \",IF(COUNTRY_INFO!A165=0,\" \",COUNTRY_INFO!A165))","v":"Angola"},{"$f":"IF(AND(INTRO!$E$37=\"Non-endemic\",INTRO!$E$41=\"Non-endemic\"),\" \",IF(COUNTRY_INFO!B165=0,\" \",COUNTRY_INFO!B165))","v":"UIGE"},{"$f":"IF(AND(INTRO!$E$37=\"Non-endemic\",INTRO!$E$41=\"Non-endemic\"),\" \",IF(COUNTRY_INFO!C165=0,\" \",COUNTRY_INFO!C165))","v":"SANZA POMBO"},{"$f":"IF(AND(INTRO!$E$37=\"Non-endemic\",INTRO!$E$41=\"Non-endemic\"),0,COUNTRY_INFO!W165)","v":0},{"$f":"IF(AND(INTRO!$E$37=\"Non-endemic\",INTRO!$E$41=\"Non-endemic\"),0,COUNTRY_INFO!Y165)","v":3},{"$f":"IF($D165=1,IVM!G165,0)","v":0},{"$f":"IF($D165=0, \" \", IF(COUNTRY_INFO!$H165=1, IF(COUNTRY_INFO!$L165=1, 0,\" \"),\" \"))","v":" "},null,0,{"$f":"IF(OR(COUNTRY_INFO!O165=\"Unknown\",COUNTRY_INFO!O165=\"Surveillance\",COUNTRY_INFO!O165=\"Not required\",COUNTRY_INFO!O165=0),0,IF(INTRO!$E$39=\"Non-endemic\",IF(AND($E165<>0,$I165=\"\"),IF($F165=0,COUNTRY_INFO!O165*$E165,COUNTRY_INFO!O165*($E165-$D165)),IF(AND($E165<>0,$I165<>0),IF($F165=0,COUNTRY_INFO!O165*$I165,COUNTRY_INFO!O165*($I165-$D165)),0)),IF($I165=\"\",COUNTRY_INFO!O165*$E165,COUNTRY_INFO!O165*$I165)))","v":0},{"$f":"MAX(0,IF(OR(COUNTRY_INFO!P165=\"Unknown\",COUNTRY_INFO!P165=\"Surveillance\",COUNTRY_INFO!P165=\"Not required\",COUNTRY_INFO!P165=0),0,IF($E165<>0,IF($D165=0,COUNTRY_INFO!P165*$E165,COUNTRY_INFO!P165*$E165-($F165*COUNTRY_INFO!$P165/(COUNTRY_INFO!$F165+COUNTRY_INFO!$G165)+IF($G165=\" \",0,COUNTRY_INFO!$P165/(COUNTRY_INFO!$F165+COUNTRY_INFO!$G165)*$G165*$H165))),0)))","v":73665},null,{"$f":"MAX(0,IF(OR(COUNTRY_INFO!Q165=\"Unknown\",COUNTRY_INFO!Q165=\"Surveillance\",COUNTRY_INFO!Q165=\"Not required\",COUNTRY_INFO!Q165=0),0,IF($E165<>0,IF($D165=0,COUNTRY_INFO!Q165*MIN($E165,$L165),COUNTRY_INFO!Q165*MIN($E165,$L165)-($F165*COUNTRY_INFO!$Q165/(COUNTRY_INFO!$F165+COUNTRY_INFO!$G165)+IF($G165=\" \",0,COUNTRY_INFO!$Q165/(COUNTRY_INFO!$F165+COUNTRY_INFO!$G165)*$G165*$H165))),0)))","v":61149},134814,0,null,0,134814,null,134814,0,null,0]
[{"$f":"IF(AND(INTRO!$E$37=\"Non-endemic\",INTRO!$E$41=\"Non-endemic\"),\" \",IF(COUNTRY_INFO!A166=0,\" \",COUNTRY_INFO!A166))","v":"Angola"},{"$f":"IF(AND(INTRO!$E$37=\"Non-endemic\",INTRO!$E$41=\"Non-endemic\"),\" \",IF(COUNTRY_INFO!B166=0,\" \",COUNTRY_INFO!B166))","v":"UIGE"},{"$f":"IF(AND(INTRO!$E$37=\"Non-endemic\",INTRO!$E$41=\"Non-endemic\"),\" \",IF(COUNTRY_INFO!C166=0,\" \",COUNTRY_INFO!C166))","v":"SONGO"},{"$f":"IF(AND(INTRO!$E$37=\"Non-endemic\",INTRO!$E$41=\"Non-endemic\"),0,COUNTRY_INFO!W166)","v":1},{"$f":"IF(AND(INTRO!$E$37=\"Non-endemic\",INTRO!$E$41=\"Non-endemic\"),0,COUNTRY_INFO!Y166)","v":3},{"$f":"IF($D166=1,IVM!G166,0)","v":65754},{"$f":"IF($D166=0, \" \", IF(COUNTRY_INFO!$H166=1, IF(COUNTRY_INFO!$L166=1, 0,\" \"),\" \"))","v":0},2,0,{"$f":"IF(OR(COUNTRY_INFO!O166=\"Unknown\",COUNTRY_INFO!O166=\"Surveillance\",COUNTRY_INFO!O166=\"Not required\",COUNTRY_INFO!O166=0),0,IF(INTRO!$E$39=\"Non-endemic\",IF(AND($E166<>0,$I166=\"\"),IF($F166=0,COUNTRY_INFO!O166*$E166,COUNTRY_INFO!O166*($E166-$D166)),IF(AND($E166<>0,$I166<>0),IF($F166=0,COUNTRY_INFO!O166*$I166,COUNTRY_INFO!O166*($I166-$D166)),0)),IF($I166=\"\",COUNTRY_INFO!O166*$E166,COUNTRY_INFO!O166*$I166)))","v":0},{"$f":"MAX(0,IF(OR(COUNTRY_INFO!P166=\"Unknown\",COUNTRY_INFO!P166=\"Surveillance\",COUNTRY_INFO!P166=\"Not required\",COUNTRY_INFO!P166=0),0,IF($E166<>0,IF($D166=0,COUNTRY_INFO!P166*$E166,COUNTRY_INFO!P166*$E166-($F166*COUNTRY_INFO!$P166/(COUNTRY_INFO!$F166+COUNTRY_INFO!$G166)+IF($G166=\" \",0,COUNTRY_INFO!$P166/(COUNTRY_INFO!$F166+COUNTRY_INFO!$G166)*$G166*$H166))),0)))","v":44292},null,{"$f":"MAX(0,IF(OR(COUNTRY_INFO!Q166=\"Unknown\",COUNTRY_INFO!Q166=\"Surveillance\",COUNTRY_INFO!Q166=\"Not required\",COUNTRY_INFO!Q166=0),0,IF($E166<>0,IF($D166=0,COUNTRY_INFO!Q166*MIN($E166,$L166),COUNTRY_INFO!Q166*MIN($E166,$L166)-($F166*COUNTRY_INFO!$Q166/(COUNTRY_INFO!$F166+COUNTRY_INFO!$G166)+IF($G166=\" \",0,COUNTRY_INFO!$Q166/(COUNTRY_INFO!$F166+COUNTRY_INFO!$G166)*$G166*$H166))),0)))","v":36766},81058,65754,null,65754,81058,null,81058,0,null,0]
[{"$f":"IF(AND(INTRO!$E$37=\"Non-endemic\",INTRO!$E$41=\"Non-endemic\"),\" \",IF(COUNTRY_INFO!A167=0,\" \",COUNTRY_INFO!A167))","v":"Angola"},{"$f":"IF(AND(INTRO!$E$37=\"Non-endemic\",INTRO!$E$41=\"Non-endemic\"),\" \",IF(COUNTRY_INFO!B167=0,\" \",COUNTRY_INFO!B167))","v":"UIGE"},{"$f":"IF(AND(INTRO!$E$37=\"Non-endemic\",INTRO!$E$41=\"Non-endemic\"),\" \",IF(COUNTRY_INFO!C167=0,\" \",COUNTRY_INFO!C167))","v":"UIGE"},{"$f":"IF(AND(INTRO!$E$37=\"Non-endemic\",INTRO!$E$41=\"Non-endemic\"),0,COUNTRY_INFO!W167)","v":0},{"$f":"IF(AND(INTRO!$E$37=\"Non-endemic\",INTRO!$E$41=\"Non-endemic\"),0,COUNTRY_INFO!Y167)","v":3},{"$f":"IF($D167=1,IVM!G167,0)","v":0},{"$f":"IF($D167=0, \" \", IF(COUNTRY_INFO!$H167=1, IF(COUNTRY_INFO!$L167=1, 0,\" \"),\" \"))","v":" "},null,0,{"$f":"IF(OR(COUNTRY_INFO!O167=\"Unknown\",COUNTRY_INFO!O167=\"Surveillance\",COUNTRY_INFO!O167=\"Not required\",COUNTRY_INFO!O167=0),0,IF(INTRO!$E$39=\"Non-endemic\",IF(AND($E167<>0,$I167=\"\"),IF($F167=0,COUNTRY_INFO!O167*$E167,COUNTRY_INFO!O167*($E167-$D167)),IF(AND($E167<>0,$I167<>0),IF($F167=0,COUNTRY_INFO!O167*$I167,COUNTRY_INFO!O167*($I167-$D167)),0)),IF($I167=\"\",COUNTRY_INFO!O167*$E167,COUNTRY_INFO!O167*$I167)))","v":0},{"$f":"MAX(0,IF(OR(COUNTRY_INFO!P167=\"Unknown\",COUNTRY_INFO!P167=\"Surveillance\",COUNTRY_INFO!P167=\"Not required\",COUNTRY_INFO!P167=0),0,IF($E167<>0,IF($D167=0,COUNTRY_INFO!P167*$E167,COUNTRY_INFO!P167*$E167-($F167*COUNTRY_INFO!$P167/(COUNTRY_INFO!$F167+COUNTRY_INFO!$G167)+IF($G167=\" \",0,COUNTRY_INFO!$P167/(COUNTRY_INFO!$F167+COUNTRY_INFO!$G167)*$G167*$H167))),0)))","v":559230},null,{"$f":"MAX(0,IF(OR(COUNTRY_INFO!Q167=\"Unknown\",COUNTRY_INFO!Q167=\"Surveillance\",COUNTRY_INFO!Q167=\"Not required\",COUNTRY_INFO!Q167=0),0,IF($E167<>0,IF($D167=0,COUNTRY_INFO!Q167*MIN($E167,$L167),COUNTRY_INFO!Q167*MIN($E167,$L167)-($F167*COUNTRY_INFO!$Q167/(COUNTRY_INFO!$F167+COUNTRY_INFO!$G167)+IF($G167=\" \",0,COUNTRY_INFO!$Q167/(COUNTRY_INFO!$F167+COUNTRY_INFO!$G167)*$G167*$H167))),0)))","v":464217},1023447,0,null,0,1023447,null,1023447,0,null,0]
[{"$f":"IF(AND(INTRO!$E$37=\"Non-endemic\",INTRO!$E$41=\"Non-endemic\"),\" \",IF(COUNTRY_INFO!A168=0,\" \",COUNTRY_INFO!A168))","v":"Angola"},{"$f":"IF(AND(INTRO!$E$37=\"Non-endemic\",INTRO!$E$41=\"Non-endemic\"),\" \",IF(COUNTRY_INFO!B168=0,\" \",COUNTRY_INFO!B168))","v":"ZAIRE"},{"$f":"IF(AND(INTRO!$E$37=\"Non-endemic\",INTRO!$E$41=\"Non-endemic\"),\" \",IF(COUNTRY_INFO!C168=0,\" \",COUNTRY_INFO!C168))","v":"CUIMBA"},{"$f":"IF(AND(INTRO!$E$37=\"Non-endemic\",INTRO!$E$41=\"Non-endemic\"),0,COUNTRY_INFO!W168)","v":0},{"$f":"IF(AND(INTRO!$E$37=\"Non-endemic\",INTRO!$E$41=\"Non-endemic\"),0,COUNTRY_INFO!Y168)","v":1},{"$f":"IF($D168=1,IVM!G168,0)","v":0},{"$f":"IF($D168=0, \" \", IF(COUNTRY_INFO!$H168=1, IF(COUNTRY_INFO!$L168=1, 0,\" \"),\" \"))","v":" "},null,0,{"$f":"IF(OR(COUNTRY_INFO!O168=\"Unknown\",COUNTRY_INFO!O168=\"Surveillance\",COUNTRY_INFO!O168=\"Not required\",COUNTRY_INFO!O168=0),0,IF(INTRO!$E$39=\"Non-endemic\",IF(AND($E168<>0,$I168=\"\"),IF($F168=0,COUNTRY_INFO!O168*$E168,COUNTRY_INFO!O168*($E168-$D168)),IF(AND($E168<>0,$I168<>0),IF($F168=0,COUNTRY_INFO!O168*$I168,COUNTRY_INFO!O168*($I168-$D168)),0)),IF($I168=\"\",COUNTRY_INFO!O168*$E168,COUNTRY_INFO!O168*$I168)))","v":0},{"$f":"MAX(0,IF(OR(COUNTRY_INFO!P168=\"Unknown\",COUNTRY_INFO!P168=\"Surveillance\",COUNTRY_INFO!P168=\"Not required\",COUNTRY_INFO!P168=0),0,IF($E168<>0,IF($D168=0,COUNTRY_INFO!P168*$E168,COUNTRY_INFO!P168*$E168-($F168*COUNTRY_INFO!$P168/(COUNTRY_INFO!$F168+COUNTRY_INFO!$G168)+IF($G168=\" \",0,COUNTRY_INFO!$P168/(COUNTRY_INFO!$F168+COUNTRY_INFO!$G168)*$G168*$H168))),0)))","v":25415},null,{"$f":"MAX(0,IF(OR(COUNTRY_INFO!Q168=\"Unknown\",COUNTRY_INFO!Q168=\"Surveillance\",COUNTRY_INFO!Q168=\"Not required\",COUNTRY_INFO!Q168=0),0,IF($E168<>0,IF($D168=0,COUNTRY_INFO!Q168*MIN($E168,$L168),COUNTRY_INFO!Q168*MIN($E168,$L168)-($F168*COUNTRY_INFO!$Q168/(COUNTRY_INFO!$F168+COUNTRY_INFO!$G168)+IF($G168=\" \",0,COUNTRY_INFO!$Q168/(COUNTRY_INFO!$F168+COUNTRY_INFO!$G168)*$G168*$H168))),0)))","v":21097},46512,0,null,0,46512,null,46512,0,null,0]
[{"$f":"IF(AND(INTRO!$E$37=\"Non-endemic\",INTRO!$E$41=\"Non-endemic\"),\" \",IF(COUNTRY_INFO!A169=0,\" \",COUNTRY_INFO!A169))","v":"Angola"},{"$f":"IF(AND(INTRO!$E$37=\"Non-endemic\",INTRO!$E$41=\"Non-endemic\"),\" \",IF(COUNTRY_INFO!B169=0,\" \",COUNTRY_INFO!B169))","v":"ZAIRE"},{"$f":"IF(AND(INTRO!$E$37=\"Non-endemic\",INTRO!$E$41=\"Non-endemic\"),\" \",IF(COUNTRY_INFO!C169=0,\" \",COUNTRY_INFO!C169))","v":"MBANZA KONGO"},{"$f":"IF(AND(INTRO!$E$37=\"Non-endemic\",INTRO!$E$41=\"Non-endemic\"),0,COUNTRY_INFO!W169)","v":0},{"$f":"IF(AND(INTRO!$E$37=\"Non-endemic\",INTRO!$E$41=\"Non-endemic\"),0,COUNTRY_INFO!Y169)","v":1},{"$f":"IF($D169=1,IVM!G169,0)","v":0},{"$f":"IF($D169=0, \" \", IF(COUNTRY_INFO!$H169=1, IF(COUNTRY_INFO!$L169=1, 0,\" \"),\" \"))","v":" "},null,1,{"$f":"IF(OR(COUNTRY_INFO!O169=\"Unknown\",COUNTRY_INFO!O169=\"Surveillance\",COUNTRY_INFO!O169=\"Not required\",COUNTRY_INFO!O169=0),0,IF(INTRO!$E$39=\"Non-endemic\",IF(AND($E169<>0,$I169=\"\"),IF($F169=0,COUNTRY_INFO!O169*$E169,COUNTRY_INFO!O169*($E169-$D169)),IF(AND($E169<>0,$I169<>0),IF($F169=0,COUNTRY_INFO!O169*$I169,COUNTRY_INFO!O169*($I169-$D169)),0)),IF($I169=\"\",COUNTRY_INFO!O169*$E169,COUNTRY_INFO!O169*$I169)))","v":32451},{"$f":"MAX(0,IF(OR(COUNTRY_INFO!P169=\"Unknown\",COUNTRY_INFO!P169=\"Surveillance\",COUNTRY_INFO!P169=\"Not required\",COUNTRY_INFO!P169=0),0,IF($E169<>0,IF($D169=0,COUNTRY_INFO!P169*$E169,COUNTRY_INFO!P169*$E169-($F169*COUNTRY_INFO!$P169/(COUNTRY_INFO!$F169+COUNTRY_INFO!$G169)+IF($G169=\" \",0,COUNTRY_INFO!$P169/(COUNTRY_INFO!$F169+COUNTRY_INFO!$G169)*$G169*$H169))),0)))","v":66234},null,{"$f":"MAX(0,IF(OR(COUNTRY_INFO!Q169=\"Unknown\",COUNTRY_INFO!Q169=\"Surveillance\",COUNTRY_INFO!Q169=\"Not required\",COUNTRY_INFO!Q169=0),0,IF($E169<>0,IF($D169=0,COUNTRY_INFO!Q169*MIN($E169,$L169),COUNTRY_INFO!Q169*MIN($E169,$L169)-($F169*COUNTRY_INFO!$Q169/(COUNTRY_INFO!$F169+COUNTRY_INFO!$G169)+IF($G169=\" \",0,COUNTRY_INFO!$Q169/(COUNTRY_INFO!$F169+COUNTRY_INFO!$G169)*$G169*$H169))),0)))","v":54981},153666,0,null,0,153666,null,153666,0,null,0]
[{"$f":"IF(AND(INTRO!$E$37=\"Non-endemic\",INTRO!$E$41=\"Non-endemic\"),\" \",IF(COUNTRY_INFO!A170=0,\" \",COUNTRY_INFO!A170))","v":"Angola"},{"$f":"IF(AND(INTRO!$E$37=\"Non-endemic\",INTRO!$E$41=\"Non-endemic\"),\" \",IF(COUNTRY_INFO!B170=0,\" \",COUNTRY_INFO!B170))","v":"ZAIRE"},{"$f":"IF(AND(INTRO!$E$37=\"Non-endemic\",INTRO!$E$41=\"Non-endemic\"),\" \",IF(COUNTRY_INFO!C170=0,\" \",COUNTRY_INFO!C170))","v":"NOQUI"},{"$f":"IF(AND(INTRO!$E$37=\"Non-endemic\",INTRO!$E$41=\"Non-endemic\"),0,COUNTRY_INFO!W170)","v":0},{"$f":"IF(AND(INTRO!$E$37=\"Non-endemic\",INTRO!$E$41=\"Non-endemic\"),0,COUNTRY_INFO!Y170)","v":1},{"$f":"IF($D170=1,IVM!G170,0)","v":0},{"$f":"IF($D170=0, \" \", IF(COUNTRY_INFO!$H170=1, IF(COUNTRY_INFO!$L170=1, 0,\" \"),\" \"))","v":" "},null,0,{"$f":"IF(OR(COUNTRY_INFO!O170=\"Unknown\",COUNTRY_INFO!O170=\"Surveillance\",COUNTRY_INFO!O170=\"Not required\",COUNTRY_INFO!O170=0),0,IF(INTRO!$E$39=\"Non-endemic\",IF(AND($E170<>0,$I170=\"\"),IF($F170=0,COUNTRY_INFO!O170*$E170,COUNTRY_INFO!O170*($E170-$D170)),IF(AND($E170<>0,$I170<>0),IF($F170=0,COUNTRY_INFO!O170*$I170,COUNTRY_INFO!O170*($I170-$D170)),0)),IF($I170=\"\",COUNTRY_INFO!O170*$E170,COUNTRY_INFO!O170*$I170)))","v":0},{"$f":"MAX(0,IF(OR(COUNTRY_INFO!P170=\"Unknown\",COUNTRY_INFO!P170=\"Surveillance\",COUNTRY_INFO!P170=\"Not required\",COUNTRY_INFO!P170=0),0,IF($E170<>0,IF($D170=0,COUNTRY_INFO!P170*$E170,COUNTRY_INFO!P170*$E170-($F170*COUNTRY_INFO!$P170/(COUNTRY_INFO!$F170+COUNTRY_INFO!$G170)+IF($G170=\" \",0,COUNTRY_INFO!$P170/(COUNTRY_INFO!$F170+COUNTRY_INFO!$G170)*$G170*$H170))),0)))","v":8771},null,{"$f":"MAX(0,IF(OR(COUNTRY_INFO!Q170=\"Unknown\",COUNTRY_INFO!Q170=\"Surveillance\",COUNTRY_INFO!Q170=\"Not required\",COUNTRY_INFO!Q170=0),0,IF($E170<>0,IF($D170=0,COUNTRY_INFO!Q170*MIN($E170,$L170),COUNTRY_INFO!Q170*MIN($E170,$L170)-($F170*COUNTRY_INFO!$Q170/(COUNTRY_INFO!$F170+COUNTRY_INFO!$G170)+IF($G170=\" \",0,COUNTRY_INFO!$Q170/(COUNTRY_INFO!$F170+COUNTRY_INFO!$G170)*$G170*$H170))),0)))","v":7281},16052,0,null,0,16052,null,16052,0,null,0]
[{"$f":"IF(AND(INTRO!$E$37=\"Non-endemic\",INTRO!$E$41=\"Non-endemic\"),\" \",IF(COUNTRY_INFO!A171=0,\" \",COUNTRY_INFO!A171))","v":"Angola"},{"$f":"IF(AND(INTRO!$E$37=\"Non-endemic\",INTRO!$E$41=\"Non-endemic\"),\" \",IF(COUNTRY_INFO!B171=0,\" \",COUNTRY_INFO!B171))","v":"ZAIRE"},{"$f":"IF(AND(INTRO!$E$37=\"Non-endemic\",INTRO!$E$41=\"Non-endemic\"),\" \",IF(COUNTRY_INFO!C171=0,\" \",COUNTRY_INFO!C171))","v":"NZETO"},{"$f":"IF(AND(INTRO!$E$37=\"Non-endemic\",INTRO!$E$41=\"Non-endemic\"),0,COUNTRY_INFO!W171)","v":0},{"$f":"IF(AND(INTRO!$E$37=\"Non-endemic\",INTRO!$E$41=\"Non-endemic\"),0,COUNTRY_INFO!Y171)","v":1},{"$f":"IF($D171=1,IVM!G171,0)","v":0},{"$f":"IF($D171=0, \" \", IF(COUNTRY_INFO!$H171=1, IF(COUNTRY_INFO!$L171=1, 0,\" \"),\" \"))","v":" "},null,0,{"$f":"IF(OR(COUNTRY_INFO!O171=\"Unknown\",COUNTRY_INFO!O171=\"Surveillance\",COUNTRY_INFO!O171=\"Not required\",COUNTRY_INFO!O171=0),0,IF(INTRO!$E$39=\"Non-endemic\",IF(AND($E171<>0,$I171=\"\"),IF($F171=0,COUNTRY_INFO!O171*$E171,COUNTRY_INFO!O171*($E171-$D171)),IF(AND($E171<>0,$I171<>0),IF($F171=0,COUNTRY_INFO!O171*$I171,COUNTRY_INFO!O171*($I171-$D171)),0)),IF($I171=\"\",COUNTRY_INFO!O171*$E171,COUNTRY_INFO!O171*$I171)))","v":0},{"$f":"MAX(0,IF(OR(COUNTRY_INFO!P171=\"Unknown\",COUNTRY_INFO!P171=\"Surveillance\",COUNTRY_INFO!P171=\"Not required\",COUNTRY_INFO!P171=0),0,IF($E171<>0,IF($D171=0,COUNTRY_INFO!P171*$E171,COUNTRY_INFO!P171*$E171-($F171*COUNTRY_INFO!$P171/(COUNTRY_INFO!$F171+COUNTRY_INFO!$G171)+IF($G171=\" \",0,COUNTRY_INFO!$P171/(COUNTRY_INFO!$F171+COUNTRY_INFO!$G171)*$G171*$H171))),0)))","v":17565},null,{"$f":"MAX(0,IF(OR(COUNTRY_INFO!Q171=\"Unknown\",COUNTRY_INFO!Q171=\"Surveillance\",COUNTRY_INFO!Q171=\"Not required\",COUNTRY_INFO!Q171=0),0,IF($E171<>0,IF($D171=0,COUNTRY_INFO!Q171*MIN($E171,$L171),COUNTRY_INFO!Q171*MIN($E171,$L171)-($F171*COUNTRY_INFO!$Q171/(COUNTRY_INFO!$F171+COUNTRY_INFO!$G171)+IF($G171=\" \",0,COUNTRY_INFO!$Q171/(COUNTRY_INFO!$F171+COUNTRY_INFO!$G171)*$G171*$H171))),0)))","v":14581},32146,0,null,0,32146,null,32146,0,null,0]
[{"$f":"IF(AND(INTRO!$E$37=\"Non-endemic\",INTRO!$E$41=\"Non-endemic\"),\" \",IF(COUNTRY_INFO!A172=0,\" \",COUNTRY_INFO!A172))","v":"Angola"},{"$f":"IF(AND(INTRO!$E$37=\"Non-endemic\",INTRO!$E$41=\"Non-endemic\"),\" \",IF(COUNTRY_INFO!B172=0,\" \",COUNTRY_INFO!B172))","v":"ZAIRE"},{"$f":"IF(AND(INTRO!$E$37=\"Non-endemic\",INTRO!$E$41=\"Non-endemic\"),\" \",IF(COUNTRY_INFO!C172=0,\" \",COUNTRY_INFO!C172))","v":"SOYO"},{"$f":"IF(AND(INTRO!$E$37=\"Non-endemic\",INTRO!$E$41=\"Non-endemic\"),0,COUNTRY_INFO!W172)","v":0},{"$f":"IF(AND(INTRO!$E$37=\"Non-endemic\",INTRO!$E$41=\"Non-endemic\"),0,COUNTRY_INFO!Y172)","v":1},{"$f":"IF($D172=1,IVM!G172,0)","v":0},{"$f":"IF($D172=0, \" \", IF(COUNTRY_INFO!$H172=1, IF(COUNTRY_INFO!$L172=1, 0,\" \"),\" \"))","v":" "},null,0,{"$f":"IF(OR(COUNTRY_INFO!O172=\"Unknown\",COUNTRY_INFO!O172=\"Surveillance\",COUNTRY_INFO!O172=\"Not required\",COUNTRY_INFO!O172=0),0,IF(INTRO!$E$39=\"Non-endemic\",IF(AND($E172<>0,$I172=\"\"),IF($F172=0,COUNTRY_INFO!O172*$E172,COUNTRY_INFO!O172*($E172-$D172)),IF(AND($E172<>0,$I172<>0),IF($F172=0,COUNTRY_INFO!O172*$I172,COUNTRY_INFO!O172*($I172-$D172)),0)),IF($I172=\"\",COUNTRY_INFO!O172*$E172,COUNTRY_INFO!O172*$I172)))","v":0},{"$f":"MAX(0,IF(OR(COUNTRY_INFO!P172=\"Unknown\",COUNTRY_INFO!P172=\"Surveillance\",COUNTRY_INFO!P172=\"Not required\",COUNTRY_INFO!P172=0),0,IF($E172<>0,IF($D172=0,COUNTRY_INFO!P172*$E172,COUNTRY_INFO!P172*$E172-($F172*COUNTRY_INFO!$P172/(COUNTRY_INFO!$F172+COUNTRY_INFO!$G172)+IF($G172=\" \",0,COUNTRY_INFO!$P172/(COUNTRY_INFO!$F172+COUNTRY_INFO!$G172)*$G172*$H172))),0)))","v":83440},null,{"$f":"MAX(0,IF(OR(COUNTRY_INFO!Q172=\"Unknown\",COUNTRY_INFO!Q172=\"Surveillance\",COUNTRY_INFO!Q172=\"Not required\",COUNTRY_INFO!Q172=0),0,IF($E172<>0,IF($D172=0,COUNTRY_INFO!Q172*MIN($E172,$L172),COUNTRY_INFO!Q172*MIN($E172,$L172)-($F172*COUNTRY_INFO!$Q172/(COUNTRY_INFO!$F172+COUNTRY_INFO!$G172)+IF($G172=\" \",0,COUNTRY_INFO!$Q172/(COUNTRY_INFO!$F172+COUNTRY_INFO!$G172)*$G172*$H172))),0)))","v":69264},152704,0,null,0,152704,null,152704,0,null,0]
[{"$f":"IF(AND(INTRO!$E$37=\"Non-endemic\",INTRO!$E$41=\"Non-endemic\"),\" \",IF(COUNTRY_INFO!A173=0,\" \",COUNTRY_INFO!A173))","v":"Angola"},{"$f":"IF(AND(INTRO!$E$37=\"Non-endemic\",INTRO!$E$41=\"Non-endemic\"),\" \",IF(COUNTRY_INFO!B173=0,\" \",COUNTRY_INFO!B173))","v":"ZAIRE"},{"$f":"IF(AND(INTRO!$E$37=\"Non-endemic\",INTRO!$E$41=\"Non-endemic\"),\" \",IF(COUNTRY_INFO!C173=0,\" \",COUNTRY_INFO!C173))","v":"TOMBOCO"},{"$f":"IF(AND(INTRO!$E$37=\"Non-endemic\",INTRO!$E$41=\"Non-endemic\"),0,COUNTRY_INFO!W173)","v":1},{"$f":"IF(AND(INTRO!$E$37=\"Non-endemic\",INTRO!$E$41=\"Non-endemic\"),0,COUNTRY_INFO!Y173)","v":1},{"$f":"IF($D173=1,IVM!G173,0)","v":50192},{"$f":"IF($D173=0, \" \", IF(COUNTRY_INFO!$H173=1, IF(COUNTRY_INFO!$L173=1, 0,\" \"),\" \"))","v":0},2,0,{"$f":"IF(OR(COUNTRY_INFO!O173=\"Unknown\",COUNTRY_INFO!O173=\"Surveillance\",COUNTRY_INFO!O173=\"Not required\",COUNTRY_INFO!O173=0),0,IF(INTRO!$E$39=\"Non-endemic\",IF(AND($E173<>0,$I173=\"\"),IF($F173=0,COUNTRY_INFO!O173*$E173,COUNTRY_INFO!O173*($E173-$D173)),IF(AND($E173<>0,$I173<>0),IF($F173=0,COUNTRY_INFO!O173*$I173,COUNTRY_INFO!O173*($I173-$D173)),0)),IF($I173=\"\",COUNTRY_INFO!O173*$E173,COUNTRY_INFO!O173*$I173)))","v":0},{"$f":"MAX(0,IF(OR(COUNTRY_INFO!P173=\"Unknown\",COUNTRY_INFO!P173=\"Surveillance\",COUNTRY_INFO!P173=\"Not required\",COUNTRY_INFO!P173=0),0,IF($E173<>0,IF($D173=0,COUNTRY_INFO!P173*$E173,COUNTRY_INFO!P173*$E173-($F173*COUNTRY_INFO!$P173/(COUNTRY_INFO!$F173+COUNTRY_INFO!$G173)+IF($G173=\" \",0,COUNTRY_INFO!$P173/(COUNTRY_INFO!$F173+COUNTRY_INFO!$G173)*$G173*$H173))),0)))","v":0},null,{"$f":"MAX(0,IF(OR(COUNTRY_INFO!Q173=\"Unknown\",COUNTRY_INFO!Q173=\"Surveillance\",COUNTRY_INFO!Q173=\"Not required\",COUNTRY_INFO!Q173=0),0,IF($E173<>0,IF($D173=0,COUNTRY_INFO!Q173*MIN($E173,$L173),COUNTRY_INFO!Q173*MIN($E173,$L173)-($F173*COUNTRY_INFO!$Q173/(COUNTRY_INFO!$F173+COUNTRY_INFO!$G173)+IF($G173=\" \",0,COUNTRY_INFO!$Q173/(COUNTRY_INFO!$F173+COUNTRY_INFO!$G173)*$G173*$H173))),0)))","v":0},0,50192,null,50192,0,null,0,0,null,0]

{"sheet":"PZQ","index":3,"n_rows":173,"n_cols":18,"rows_kept":173,"cut":false,"hidden":false,"merged":[[5,12,5,17],[5,10,5,11],[6,10,7,10],[6,14,7,14],[6,15,7,15],[6,16,7,16],[6,13,7,13],[6,11,7,11],[3,0,3,2],[5,0,5,2],[5,4,5,7],[5,8,5,9],[6,17,7,17],[6,6,7,6],[6,7,7,7],[6,9,7,9],[6,0,7,0],[6,1,7,1],[6,2,7,2],[6,4,7,4],[5,3,7,3],[6,5,7,5],[6,8,7,8],[6,12,7,12]]}
["Praziquantel (PZQ)"]
["Administrative structure, eligible population by age group, treatment plan and information about tablets"]
[]
["TOTAL",null,null,null,{"$f":"SUBTOTAL(9,E$10:E$1010)","v":0},4156600.501222,4082565.0002640001,8239165.5014859969,null,0,null,null,{"$f":"SUBTOTAL(9,M$10:M$1010)","v":0},8313201.002444,12247695.000791995,20560896.003235985,0,20560896.003235985]
[]
["Country administrative structure",null,null,"Treatment plan\nSCH","Target population for SCH",null,null,null,"Hot spots",null,"Previous year MDA",null,"Praziquantel (PZQ)"]
["Country","Province/State","District",null,"PreSAC","SAC","Adults","Total","Planned","Population","Rounds","Age groups","PreSAC","SAC","Adults","Total required","Remaining in stock","Tablets to be procured"]
[]
[]
[{"$f":"IF(INTRO!$E$43=\"Non-endemic\",\" \", IF(COUNTRY_INFO!A10=0,\" \",COUNTRY_INFO!A10))","v":"Angola"},{"$f":"IF(INTRO!$E$43=\"Non-endemic\",\" \", IF(COUNTRY_INFO!B10=0,\" \",COUNTRY_INFO!B10))","v":"BENGO"},{"$f":"IF(INTRO!$E$43=\"Non-endemic\",\" \", IF(COUNTRY_INFO!C10=0,\" \",COUNTRY_INFO!C10))","v":"AMBRIZ"},{"$f":"IF(INTRO!$E$43=\"Non-endemic\", \"Not required\", COUNTRY_INFO!Z10)","v":1},0,7273.4111839999996,10516.944631999999,{"$f":"SUM(E10:G10)","v":17790.355815999999},null,null,1,"SAC",null,{"$f":"IF($I10<>\"Yes\",$F10*2,($F10+ROUND(J10*$F10/SUM(COUNTRY_INFO!$E10:$G10),0))*2)","v":14546.822367999999},{"$f":"IF($I10<>\"Yes\",$G10*3,($G10+ROUND(J10*$G10/SUM(COUNTRY_INFO!$E10:$G10),0))*3)","v":31550.833895999996},{"$f":"SUM(M10:O10)","v":46097.656263999997},null,{"$f":"IF($P10>$Q10,P10-Q10,0)","v":46097.656263999997}]
[{"$f":"IF(INTRO!$E$43=\"Non-endemic\",\" \", IF(COUNTRY_INFO!A11=0,\" \",COUNTRY_INFO!A11))","v":"Angola"},{"$f":"IF(INTRO!$E$43=\"Non-endemic\",\" \", IF(COUNTRY_INFO!B11=0,\" \",COUNTRY_INFO!B11))","v":"BENGO"},{"$f":"IF(INTRO!$E$43=\"Non-endemic\",\" \", IF(COUNTRY_INFO!C11=0,\" \",COUNTRY_INFO!C11))","v":"BULA ATUMBA"},{"$f":"IF(INTRO!$E$43=\"Non-endemic\", \"Not required\", COUNTRY_INFO!Z11)","v":0},0,0,0,{"$f":"SUM(E11:G11)","v":0},null,null,1,"SAC",null,{"$f":"IF($I11<>\"Yes\",$F11*2,($F11+ROUND(J11*$F11/SUM(COUNTRY_INFO!$E11:$G11),0))*2)","v":0},{"$f":"IF($I11<>\"Yes\",$G11*3,($G11+ROUND(J11*$G11/SUM(COUNTRY_INFO!$E11:$G11),0))*3)","v":0},{"$f":"SUM(M11:O11)","v":0},null,{"$f":"IF($P11>$Q11,P11-Q11,0)","v":0}]
[{"$f":"IF(INTRO!$E$43=\"Non-endemic\",\" \", IF(COUNTRY_INFO!A12=0,\" \",COUNTRY_INFO!A12))","v":"Angola"},{"$f":"IF(INTRO!$E$43=\"Non-endemic\",\" \", IF(COUNTRY_INFO!B12=0,\" \",COUNTRY_INFO!B12))","v":"BENGO"},{"$f":"IF(INTRO!$E$43=\"Non-endemic\",\" \", IF(COUNTRY_INFO!C12=0,\" \",COUNTRY_INFO!C12))","v":"DANDE"},{"$f":"IF(INTRO!$E$43=\"Non-endemic\", \"Not required\", COUNTRY_INFO!Z12)","v":1},0,83036.704711999992,37626.870263999997,120663.57497599999,null,null,1,"SAC",null,{"$f":"IF($I12<>\"Yes\",$F12*2,($F12+ROUND(J12*$F12/SUM(COUNTRY_INFO!$E12:$G12),0))*2)","v":166073.40942399998},{"$f":"IF($I12<>\"Yes\",$G12*3,($G12+ROUND(J12*$G12/SUM(COUNTRY_INFO!$E12:$G12),0))*3)","v":112880.61079199999},278954.02021599998,null,278954.02021599998]
[{"$f":"IF(INTRO!$E$43=\"Non-endemic\",\" \", IF(COUNTRY_INFO!A13=0,\" \",COUNTRY_INFO!A13))","v":"Angola"},{"$f":"IF(INTRO!$E$43=\"Non-endemic\",\" \", IF(COUNTRY_INFO!B13=0,\" \",COUNTRY_INFO!B13))","v":"BENGO"},{"$f":"IF(INTRO!$E$43=\"Non-endemic\",\" \", IF(COUNTRY_INFO!C13=0,\" \",COUNTRY_INFO!C13))","v":"DEMBOS"},{"$f":"IF(INTRO!$E$43=\"Non-endemic\", \"Not required\", COUNTRY_INFO!Z13)","v":0},0,0,0,0,null,null,1,"SAC",null,{"$f":"IF($I13<>\"Yes\",$F13*2,($F13+ROUND(J13*$F13/SUM(COUNTRY_INFO!$E13:$G13),0))*2)","v":0},{"$f":"IF($I13<>\"Yes\",$G13*3,($G13+ROUND(J13*$G13/SUM(COUNTRY_INFO!$E13:$G13),0))*3)","v":0},0,null,0]
[{"$f":"IF(INTRO!$E$43=\"Non-endemic\",\" \", IF(COUNTRY_INFO!A14=0,\" \",COUNTRY_INFO!A14))","v":"Angola"},{"$f":"IF(INTRO!$E$43=\"Non-endemic\",\" \", IF(COUNTRY_INFO!B14=0,\" \",COUNTRY_INFO!B14))","v":"BENGO"},{"$f":"IF(INTRO!$E$43=\"Non-endemic\",\" \", IF(COUNTRY_INFO!C14=0,\" \",COUNTRY_INFO!C14))","v":"NAMBUANGONGO"},{"$f":"IF(INTRO!$E$43=\"Non-endemic\", \"Not required\", COUNTRY_INFO!Z14)","v":1},0,6901.0918469999988,2607,9508.0918469999997,null,null,1,"SAC",null,{"$f":"IF($I14<>\"Yes\",$F14*2,($F14+ROUND(J14*$F14/SUM(COUNTRY_INFO!$E14:$G14),0))*2)","v":13802.183693999998},{"$f":"IF($I14<>\"Yes\",$G14*3,($G14+ROUND(J14*$G14/SUM(COUNTRY_INFO!$E14:$G14),0))*3)","v":7821},21623.183693999999,null,21623.183693999999]
[{"$f":"IF(INTRO!$E$43=\"Non-endemic\",\" \", IF(COUNTRY_INFO!A15=0,\" \",COUNTRY_INFO!A15))","v":"Angola"},{"$f":"IF(INTRO!$E$43=\"Non-endemic\",\" \", IF(COUNTRY_INFO!B15=0,\" \",COUNTRY_INFO!B15))","v":"BENGO"},{"$f":"IF(INTRO!$E$43=\"Non-endemic\",\" \", IF(COUNTRY_INFO!C15=0,\" \",COUNTRY_INFO!C15))","v":"PANGO ALUQUEM"},{"$f":"IF(INTRO!$E$43=\"Non-endemic\", \"Not required\", COUNTRY_INFO!Z15)","v":1},0,267.90116599999999,101,368.90116599999999,null,null,1,"SAC",null,{"$f":"IF($I15<>\"Yes\",$F15*2,($F15+ROUND(J15*$F15/SUM(COUNTRY_INFO!$E15:$G15),0))*2)","v":535.80233199999998},{"$f":"IF($I15<>\"Yes\",$G15*3,($G15+ROUND(J15*$G15/SUM(COUNTRY_INFO!$E15:$G15),0))*3)","v":303},838.80233199999998,null,838.80233199999998]
[{"$f":"IF(INTRO!$E$43=\"Non-endemic\",\" \", IF(COUNTRY_INFO!A16=0,\" \",COUNTRY_INFO!A16))","v":"Angola"},{"$f":"IF(INTRO!$E$43=\"Non-endemic\",\" \", IF(COUNTRY_INFO!B16=0,\" \",COUNTRY_INFO!B16))","v":"BENGUELA"},{"$f":"IF(INTRO!$E$43=\"Non-endemic\",\" \", IF(COUNTRY_INFO!C16=0,\" \",COUNTRY_INFO!C16))","v":"BAIA FARTA"},{"$f":"IF(INTRO!$E$43=\"Non-endemic\", \"Not required\", COUNTRY_INFO!Z16)","v":1},0,38109.468227999998,14396,52505.468227999998,null,null,0,null,null,{"$f":"IF($I16<>\"Yes\",$F16*2,($F16+ROUND(J16*$F16/SUM(COUNTRY_INFO!$E16:$G16),0))*2)","v":76218.936455999996},{"$f":"IF($I16<>\"Yes\",$G16*3,($G16+ROUND(J16*$G16/SUM(COUNTRY_INFO!$E16:$G16),0))*3)","v":43188},119406.936456,null,119406.936456]
[{"$f":"IF(INTRO!$E$43=\"Non-endemic\",\" \", IF(COUNTRY_INFO!A17=0,\" \",COUNTRY_INFO!A17))","v":"Angola"},{"$f":"IF(INTRO!$E$43=\"Non-endemic\",\" \", IF(COUNTRY_INFO!B17=0,\" \",COUNTRY_INFO!B17))","v":"BENGUELA"},{"$f":"IF(INTRO!$E$43=\"Non-endemic\",\" \", IF(COUNTRY_INFO!C17=0,\" \",COUNTRY_INFO!C17))","v":"BALOMBO"},{"$f":"IF(INTRO!$E$43=\"Non-endemic\", \"Not required\", COUNTRY_INFO!Z17)","v":1},0,21611.397209999996,8165,29776.397209999996,null,null,0,null,null,{"$f":"IF($I17<>\"Yes\",$F17*2,($F17+ROUND(J17*$F17/SUM(COUNTRY_INFO!$E17:$G17),0))*2)","v":43222.794419999991},{"$f":"IF($I17<>\"Yes\",$G17*3,($G17+ROUND(J17*$G17/SUM(COUNTRY_INFO!$E17:$G17),0))*3)","v":24495},67717.794419999991,null,67717.794419999991]
[{"$f":"IF(INTRO!$E$43=\"Non-endemic\",\" \", IF(COUNTRY_INFO!A18=0,\" \",COUNTRY_INFO!A18))","v":"Angola"},{"$f":"IF(INTRO!$E$43=\"Non-endemic\",\" \", IF(COUNTRY_INFO!B18=0,\" \",COUNTRY_INFO!B18))","v":"BENGUELA"},{"$f":"IF(INTRO!$E$43=\"Non-endemic\",\" \", IF(COUNTRY_INFO!C18=0,\" \",COUNTRY_INFO!C18))","v":"BENGUELA"},{"$f":"IF(INTRO!$E$43=\"Non-endemic\", \"Not required\", COUNTRY_INFO!Z18)","v":0},0,0,0,0,null,null,0,null,null,{"$f":"IF($I18<>\"Yes\",$F18*2,($F18+ROUND(J18*$F18/SUM(COUNTRY_INFO!$E18:$G18),0))*2)","v":0},{"$f":"IF($I18<>\"Yes\",$G18*3,($G18+ROUND(J18*$G18/SUM(COUNTRY_INFO!$E18:$G18),0))*3)","v":0},0,null,0]
[{"$f":"IF(INTRO!$E$43=\"Non-endemic\",\" \", IF(COUNTRY_INFO!A19=0,\" \",COUNTRY_INFO!A19))","v":"Angola"},{"$f":"IF(INTRO!$E$43=\"Non-endemic\",\" \", IF(COUNTRY_INFO!B19=0,\" \",COUNTRY_INFO!B19))","v":"BENGUELA"},{"$f":"IF(INTRO!$E$43=\"Non-endemic\",\" \", IF(COUNTRY_INFO!C19=0,\" \",COUNTRY_INFO!C19))","v":"BOCOIO"},{"$f":"IF(INTRO!$E$43=\"Non-endemic\", \"Not required\", COUNTRY_INFO!Z19)","v":1},0,47316.197668999986,51750.205162999991,99066.402831999978,null,null,0,null,null,{"$f":"IF($I19<>\"Yes\",$F19*2,($F19+ROUND(J19*$F19/SUM(COUNTRY_INFO!$E19:$G19),0))*2)","v":94632.395337999973},{"$f":"IF($I19<>\"Yes\",$G19*3,($G19+ROUND(J19*$G19/SUM(COUNTRY_INFO!$E19:$G19),0))*3)","v":155250.61548899999},249883.01082699996,null,249883.01082699996]
[{"$f":"IF(INTRO!$E$43=\"Non-endemic\",\" \", IF(COUNTRY_INFO!A20=0,\" \",COUNTRY_INFO!A20))","v":"Angola"},{"$f":"IF(INTRO!$E$43=\"Non-endemic\",\" \", IF(COUNTRY_INFO!B20=0,\" \",COUNTRY_INFO!B20))","v":"BENGUELA"},{"$f":"IF(INTRO!$E$43=\"Non-endemic\",\" \", IF(COUNTRY_INFO!C20=0,\" \",COUNTRY_INFO!C20))","v":"CAIMBAMBO"},{"$f":"IF(INTRO!$E$43=\"Non-endemic\", \"Not required\", COUNTRY_INFO!Z20)","v":1},0,25119.425863999997,17684.528048,42803.953911999997,null,null,0,null,null,{"$f":"IF($I20<>\"Yes\",$F20*2,($F20+ROUND(J20*$F20/SUM(COUNTRY_INFO!$E20:$G20),0))*2)","v":50238.851727999994},{"$f":"IF($I20<>\"Yes\",$G20*3,($G20+ROUND(J20*$G20/SUM(COUNTRY_INFO!$E20:$G20),0))*3)","v":53053.584144},103292.435872,null,103292.435872]
[{"$f":"IF(INTRO!$E$43=\"Non-endemic\",\" \", IF(COUNTRY_INFO!A21=0,\" \",COUNTRY_INFO!A21))","v":"Angola"},{"$f":"IF(INTRO!$E$43=\"Non-endemic\",\" \", IF(COUNTRY_INFO!B21=0,\" \",COUNTRY_INFO!B21))","v":"BENGUELA"},{"$f":"IF(INTRO!$E$43=\"Non-endemic\",\" \", IF(COUNTRY_INFO!C21=0,\" \",COUNTRY_INFO!C21))","v":"CATUMBELA"},{"$f":"IF(INTRO!$E$43=\"Non-endemic\", \"Not required\", COUNTRY_INFO!Z21)","v":0},0,0,0,0,null,null,0,null,null,{"$f":"IF($I21<>\"Yes\",$F21*2,($F21+ROUND(J21*$F21/SUM(COUNTRY_INFO!$E21:$G21),0))*2)","v":0},{"$f":"IF($I21<>\"Yes\",$G21*3,($G21+ROUND(J21*$G21/SUM(COUNTRY_INFO!$E21:$G21),0))*3)","v":0},0,null,0]
[{"$f":"IF(INTRO!$E$43=\"Non-endemic\",\" \", IF(COUNTRY_INFO!A22=0,\" \",COUNTRY_INFO!A22))","v":"Angola"},{"$f":"IF(INTRO!$E$43=\"Non-endemic\",\" \", IF(COUNTRY_INFO!B22=0,\" \",COUNTRY_INFO!B22))","v":"BENGUELA"},{"$f":"IF(INTRO!$E$43=\"Non-endemic\",\" \", IF(COUNTRY_INFO!C22=0,\" \",COUNTRY_INFO!C22))","v":"CHONGOROI"},{"$f":"IF(INTRO!$E$43=\"Non-endemic\", \"Not required\", COUNTRY_INFO!Z22)","v":1},0,30843.44014699999,16998.872402000001,47842.312548999995,null,null,0,null,null,{"$f":"IF($I22<>\"Yes\",$F22*2,($F22+ROUND(J22*$F22/SUM(COUNTRY_INFO!$E22:$G22),0))*2)","v":61686.88029399998},{"$f":"IF($I22<>\"Yes\",$G22*3,($G22+ROUND(J22*$G22/SUM(COUNTRY_INFO!$E22:$G22),0))*3)","v":50996.617206000003},112683.49749999998,null,112683.49749999998]
[{"$f":"IF(INTRO!$E$43=\"Non-endemic\",\" \", IF(COUNTRY_INFO!A23=0,\" \",COUNTRY_INFO!A23))","v":"Angola"},{"$f":"IF(INTRO!$E$43=\"Non-endemic\",\" \", IF(COUNTRY_INFO!B23=0,\" \",COUNTRY_INFO!B23))","v":"BENGUELA"},{"$f":"IF(INTRO!$E$43=\"Non-endemic\",\" \", IF(COUNTRY_INFO!C23=0,\" \",COUNTRY_INFO!C23))","v":"CUBAL"},{"$f":"IF(INTRO!$E$43=\"Non-endemic\", \"Not required\", COUNTRY_INFO!Z23)","v":1},0,108005.30432899999,53757.309066000002,161762.61339499999,null,null,0,null,null,{"$f":"IF($I23<>\"Yes\",$F23*2,($F23+ROUND(J23*$F23/SUM(COUNTRY_INFO!$E23:$G23),0))*2)","v":216010.60865799998},{"$f":"IF($I23<>\"Yes\",$G23*3,($G23+ROUND(J23*$G23/SUM(COUNTRY_INFO!$E23:$G23),0))*3)","v":161271.92719800002},377282.53585600003,null,377282.53585600003]
[{"$f":"IF(INTRO!$E$43=\"Non-endemic\",\" \", IF(COUNTRY_INFO!A24=0,\" \",COUNTRY_INFO!A24))","v":"Angola"},{"$f":"IF(INTRO!$E$43=\"Non-endemic\",\" \", IF(COUNTRY_INFO!B24=0,\" \",COUNTRY_INFO!B24))","v":"BENGUELA"},{"$f":"IF(INTRO!$E$43=\"Non-endemic\",\" \", IF(COUNTRY_INFO!C24=0,\" \",COUNTRY_INFO!C24))","v":"GANDA"},{"$f":"IF(INTRO!$E$43=\"Non-endemic\", \"Not required\", COUNTRY_INFO!Z24)","v":1},0,74741.261126999976,42677.686835,117418.94796199998,null,null,0,null,null,{"$f":"IF($I24<>\"Yes\",$F24*2,($F24+ROUND(J24*$F24/SUM(COUNTRY_INFO!$E24:$G24),0))*2)","v":149482.52225399995},{"$f":"IF($I24<>\"Yes\",$G24*3,($G24+ROUND(J24*$G24/SUM(COUNTRY_INFO!$E24:$G24),0))*3)","v":128033.060505},277515.58275899995,null,277515.58275899995]
[{"$f":"IF(INTRO!$E$43=\"Non-endemic\",\" \", IF(COUNTRY_INFO!A25=0,\" \",COUNTRY_INFO!A25))","v":"Angola"},{"$f":"IF(INTRO!$E$43=\"Non-endemic\",\" \", IF(COUNTRY_INFO!B25=0,\" \",COUNTRY_INFO!B25))","v":"BENGUELA"},{"$f":"IF(INTRO!$E$43=\"Non-endemic\",\" \", IF(COUNTRY_INFO!C25=0,\" \",COUNTRY_INFO!C25))","v":"LOBITO"},{"$f":"IF(INTRO!$E$43=\"Non-endemic\", \"Not required\", COUNTRY_INFO!Z25)","v":0},0,0,0,0,null,null,0,null,null,{"$f":"IF($I25<>\"Yes\",$F25*2,($F25+ROUND(J25*$F25/SUM(COUNTRY_INFO!$E25:$G25),0))*2)","v":0},{"$f":"IF($I25<>\"Yes\",$G25*3,($G25+ROUND(J25*$G25/SUM(COUNTRY_INFO!$E25:$G25),0))*3)","v":0},0,null,0]
[{"$f":"IF(INTRO!$E$43=\"Non-endemic\",\" \", IF(COUNTRY_INFO!A26=0,\" \",COUNTRY_INFO!A26))","v":"Angola"},{"$f":"IF(INTRO!$E$43=\"Non-endemic\",\" \", IF(COUNTRY_INFO!B26=0,\" \",COUNTRY_INFO!B26))","v":"BIE"},{"$f":"IF(INTRO!$E$43=\"Non-endemic\",\" \", IF(COUNTRY_INFO!C26=0,\" \",COUNTRY_INFO!C26))","v":"ANDULO"},{"$f":"IF(INTRO!$E$43=\"Non-endemic\", \"Not required\", COUNTRY_INFO!Z26)","v":0},0,0,0,0,null,null,0,null,null,{"$f":"IF($I26<>\"Yes\",$F26*2,($F26+ROUND(J26*$F26/SUM(COUNTRY_INFO!$E26:$G26),0))*2)","v":0},{"$f":"IF($I26<>\"Yes\",$G26*3,($G26+ROUND(J26*$G26/SUM(COUNTRY_INFO!$E26:$G26),0))*3)","v":0},0,null,0]
[{"$f":"IF(INTRO!$E$43=\"Non-endemic\",\" \", IF(COUNTRY_INFO!A27=0,\" \",COUNTRY_INFO!A27))","v":"Angola"},{"$f":"IF(INTRO!$E$43=\"Non-endemic\",\" \", IF(COUNTRY_INFO!B27=0,\" \",COUNTRY_INFO!B27))","v":"BIE"},{"$f":"IF(INTRO!$E$43=\"Non-endemic\",\" \", IF(COUNTRY_INFO!C27=0,\" \",COUNTRY_INFO!C27))","v":"CAMACUPA"},{"$f":"IF(INTRO!$E$43=\"Non-endemic\", \"Not required\", COUNTRY_INFO!Z27)","v":1},0,12858.201238999998,4857,17715.201238999998,null,null,1,"SAC",null,{"$f":"IF($I27<>\"Yes\",$F27*2,($F27+ROUND(J27*$F27/SUM(COUNTRY_INFO!$E27:$G27),0))*2)","v":25716.402477999996},{"$f":"IF($I27<>\"Yes\",$G27*3,($G27+ROUND(J27*$G27/SUM(COUNTRY_INFO!$E27:$G27),0))*3)","v":14571},40287.402477999996,null,40287.402477999996]
[{"$f":"IF(INTRO!$E$43=\"Non-endemic\",\" \", IF(COUNTRY_INFO!A28=0,\" \",COUNTRY_INFO!A28))","v":"Angola"},{"$f":"IF(INTRO!$E$43=\"Non-endemic\",\" \", IF(COUNTRY_INFO!B28=0,\" \",COUNTRY_INFO!B28))","v":"BIE"},{"$f":"IF(INTRO!$E$43=\"Non-endemic\",\" \", IF(COUNTRY_INFO!C28=0,\" \",COUNTRY_INFO!C28))","v":"CATABOLA"},{"$f":"IF(INTRO!$E$43=\"Non-endemic\", \"Not required\", COUNTRY_INFO!Z28)","v":1},0,5963.4377659999991,2253,8216.4377659999991,null,null,1,"SAC",null,{"$f":"IF($I28<>\"Yes\",$F28*2,($F28+ROUND(J28*$F28/SUM(COUNTRY_INFO!$E28:$G28),0))*2)","v":11926.875531999998},{"$f":"IF($I28<>\"Yes\",$G28*3,($G28+ROUND(J28*$G28/SUM(COUNTRY_INFO!$E28:$G28),0))*3)","v":6759},18685.875531999998,null,18685.875531999998]
[{"$f":"IF(INTRO!$E$43=\"Non-endemic\",\" \", IF(COUNTRY_INFO!A29=0,\" \",COUNTRY_INFO!A29))","v":"Angola"},{"$f":"IF(INTRO!$E$43=\"Non-endemic\",\" \", IF(COUNTRY_INFO!B29=0,\" \",COUNTRY_INFO!B29))","v":"BIE"},{"$f":"IF(INTRO!$E$43=\"Non-endemic\",\" \", IF(COUNTRY_INFO!C29=0,\" \",COUNTRY_INFO!C29))","v":"CHINGUAR"},{"$f":"IF(INTRO!$E$43=\"Non-endemic\", \"Not required\", COUNTRY_INFO!Z29)","v":0},0,0,0,0,null,null,0,null,null,{"$f":"IF($I29<>\"Yes\",$F29*2,($F29+ROUND(J29*$F29/SUM(COUNTRY_INFO!$E29:$G29),0))*2)","v":0},{"$f":"IF($I29<>\"Yes\",$G29*3,($G29+ROUND(J29*$G29/SUM(COUNTRY_INFO!$E29:$G29),0))*3)","v":0},0,null,0]
[{"$f":"IF(INTRO!$E$43=\"Non-endemic\",\" \", IF(COUNTRY_INFO!A30=0,\" \",COUNTRY_INFO!A30))","v":"Angola"},{"$f":"IF(INTRO!$E$43=\"Non-endemic\",\" \", IF(COUNTRY_INFO!B30=0,\" \",COUNTRY_INFO!B30))","v":"BIE"},{"$f":"IF(INTRO!$E$43=\"Non-endemic\",\" \", IF(COUNTRY_INFO!C30=0,\" \",COUNTRY_INFO!C30))","v":"CHITEMBO"},{"$f":"IF(INTRO!$E$43=\"Non-endemic\", \"Not required\", COUNTRY_INFO!Z30)","v":1},0,11522.914325,4354,15876.914325,null,null,1,"SAC",null,{"$f":"IF($I30<>\"Yes\",$F30*2,($F30+ROUND(J30*$F30/SUM(COUNTRY_INFO!$E30:$G30),0))*2)","v":23045.828649999999},{"$f":"IF($I30<>\"Yes\",$G30*3,($G30+ROUND(J30*$G30/SUM(COUNTRY_INFO!$E30:$G30),0))*3)","v":13062},36107.828649999996,null,36107.828649999996]
[{"$f":"IF(INTRO!$E$43=\"Non-endemic\",\" \", IF(COUNTRY_INFO!A31=0,\" \",COUNTRY_INFO!A31))","v":"Angola"},{"$f":"IF(INTRO!$E$43=\"Non-endemic\",\" \", IF(COUNTRY_INFO!B31=0,\" \",COUNTRY_INFO!B31))","v":"BIE"},{"$f":"IF(INTRO!$E$43=\"Non-endemic\",\" \", IF(COUNTRY_INFO!C31=0,\" \",COUNTRY_INFO!C31))","v":"CUEMBA"},{"$f":"IF(INTRO!$E$43=\"Non-endemic\", \"Not required\", COUNTRY_INFO!Z31)","v":0},0,0,0,0,null,null,0,null,null,{"$f":"IF($I31<>\"Yes\",$F31*2,($F31+ROUND(J31*$F31/SUM(COUNTRY_INFO!$E31:$G31),0))*2)","v":0},{"$f":"IF($I31<>\"Yes\",$G31*3,($G31+ROUND(J31*$G31/SUM(COUNTRY_INFO!$E31:$G31),0))*3)","v":0},0,null,0]
[{"$f":"IF(INTRO!$E$43=\"Non-endemic\",\" \", IF(COUNTRY_INFO!A32=0,\" \",COUNTRY_INFO!A32))","v":"Angola"},{"$f":"IF(INTRO!$E$43=\"Non-endemic\",\" \", IF(COUNTRY_INFO!B32=0,\" \",COUNTRY_INFO!B32))","v":"BIE"},{"$f":"IF(INTRO!$E$43=\"Non-endemic\",\" \", IF(COUNTRY_INFO!C32=0,\" \",COUNTRY_INFO!C32))","v":"CUITO"},{"$f":"IF(INTRO!$E$43=\"Non-endemic\", \"Not required\", COUNTRY_INFO!Z32)","v":1},0,152537.01743799998,228596.46362499995,381133.48106299993,null,null,1,"SAC",null,{"$f":"IF($I32<>\"Yes\",$F32*2,($F32+ROUND(J32*$F32/SUM(COUNTRY_INFO!$E32:$G32),0))*2)","v":305074.03487599996},{"$f":"IF($I32<>\"Yes\",$G32*3,($G32+ROUND(J32*$G32/SUM(COUNTRY_INFO!$E32:$G32),0))*3)","v":685789.39087499981},990863.42575099971,null,990863.42575099971]
[{"$f":"IF(INTRO!$E$43=\"Non-endemic\",\" \", IF(COUNTRY_INFO!A33=0,\" \",COUNTRY_INFO!A33))","v":"Angola"},{"$f":"IF(INTRO!$E$43=\"Non-endemic\",\" \", IF(COUNTRY_INFO!B33=0,\" \",COUNTRY_INFO!B33))","v":"BIE"},{"$f":"IF(INTRO!$E$43=\"Non-endemic\",\" \", IF(COUNTRY_INFO!C33=0,\" \",COUNTRY_INFO!C33))","v":"CUNHINGA"},{"$f":"IF(INTRO!$E$43=\"Non-endemic\", \"Not required\", COUNTRY_INFO!Z33)","v":0},0,0,0,0,null,null,0,null,null,{"$f":"IF($I33<>\"Yes\",$F33*2,($F33+ROUND(J33*$F33/SUM(COUNTRY_INFO!$E33:$G33),0))*2)","v":0},{"$f":"IF($I33<>\"Yes\",$G33*3,($G33+ROUND(J33*$G33/SUM(COUNTRY_INFO!$E33:$G33),0))*3)","v":0},0,null,0]
[{"$f":"IF(INTRO!$E$43=\"Non-endemic\",\" \", IF(COUNTRY_INFO!A34=0,\" \",COUNTRY_INFO!A34))","v":"Angola"},{"$f":"IF(INTRO!$E$43=\"Non-endemic\",\" \", IF(COUNTRY_INFO!B34=0,\" \",COUNTRY_INFO!B34))","v":"BIE"},{"$f":"IF(INTRO!$E$43=\"Non-endemic\",\" \", IF(COUNTRY_INFO!C34=0,\" \",COUNTRY_INFO!C34))","v":"NHAREA"},{"$f":"IF(INTRO!$E$43=\"Non-endemic\", \"Not required\", COUNTRY_INFO!Z34)","v":0},0,0,0,0,null,null,1,"SAC",null,{"$f":"IF($I34<>\"Yes\",$F34*2,($F34+ROUND(J34*$F34/SUM(COUNTRY_INFO!$E34:$G34),0))*2)","v":0},{"$f":"IF($I34<>\"Yes\",$G34*3,($G34+ROUND(J34*$G34/SUM(COUNTRY_INFO!$E34:$G34),0))*3)","v":0},0,null,0]
[{"$f":"IF(INTRO!$E$43=\"Non-endemic\",\" \", IF(COUNTRY_INFO!A35=0,\" \",COUNTRY_INFO!A35))","v":"Angola"},{"$f":"IF(INTRO!$E$43=\"Non-endemic\",\" \", IF(COUNTRY_INFO!B35=0,\" \",COUNTRY_INFO!B35))","v":"CABINDA"},{"$f":"IF(INTRO!$E$43=\"Non-endemic\",\" \", IF(COUNTRY_INFO!C35=0,\" \",COUNTRY_INFO!C35))","v":"BELIZE"},{"$f":"IF(INTRO!$E$43=\"Non-endemic\", \"Not required\", COUNTRY_INFO!Z35)","v":0},0,0,0,0,null,null,0,null,null,{"$f":"IF($I35<>\"Yes\",$F35*2,($F35+ROUND(J35*$F35/SUM(COUNTRY_INFO!$E35:$G35),0))*2)","v":0},{"$f":"IF($I35<>\"Yes\",$G35*3,($G35+ROUND(J35*$G35/SUM(COUNTRY_INFO!$E35:$G35),0))*3)","v":0},0,null,0]
[{"$f":"IF(INTRO!$E$43=\"Non-endemic\",\" \", IF(COUNTRY_INFO!A36=0,\" \",COUNTRY_INFO!A36))","v":"Angola"},{"$f":"IF(INTRO!$E$43=\"Non-endemic\",\" \", IF(COUNTRY_INFO!B36=0,\" \",COUNTRY_INFO!B36))","v":"CABINDA"},{"$f":"IF(INTRO!$E$43=\"Non-endemic\",\" \", IF(COUNTRY_INFO!C36=0,\" \",COUNTRY_INFO!C36))","v":"BUCO ZAU"},{"$f":"IF(INTRO!$E$43=\"Non-endemic\", \"Not required\", COUNTRY_INFO!Z36)","v":1},0,3694.7156869999994,1396,5090.7156869999999,null,null,1,"SAC",null,{"$f":"IF($I36<>\"Yes\",$F36*2,($F36+ROUND(J36*$F36/SUM(COUNTRY_INFO!$E36:$G36),0))*2)","v":7389.4313739999989},{"$f":"IF($I36<>\"Yes\",$G36*3,($G36+ROUND(J36*$G36/SUM(COUNTRY_INFO!$E36:$G36),0))*3)","v":4188},11577.431374,null,11577.431374]
[{"$f":"IF(INTRO!$E$43=\"Non-endemic\",\" \", IF(COUNTRY_INFO!A37=0,\" \",COUNTRY_INFO!A37))","v":"Angola"},{"$f":"IF(INTRO!$E$43=\"Non-endemic\",\" \", IF(COUNTRY_INFO!B37=0,\" \",COUNTRY_INFO!B37))","v":"CABINDA"},{"$f":"IF(INTRO!$E$43=\"Non-endemic\",\" \", IF(COUNTRY_INFO!C37=0,\" \",COUNTRY_INFO!C37))","v":"CABINDA"},{"$f":"IF(INTRO!$E$43=\"Non-endemic\", \"Not required\", COUNTRY_INFO!Z37)","v":1},0,213423.35842099995,403132.19000599993,616555.54842699994,null,null,1,"SAC",null,{"$f":"IF($I37<>\"Yes\",$F37*2,($F37+ROUND(J37*$F37/SUM(COUNTRY_INFO!$E37:$G37),0))*2)","v":426846.71684199991},{"$f":"IF($I37<>\"Yes\",$G37*3,($G37+ROUND(J37*$G37/SUM(COUNTRY_INFO!$E37:$G37),0))*3)","v":1209396.5700179997},1636243.2868599996,null,1636243.2868599996]
[{"$f":"IF(INTRO!$E$43=\"Non-endemic\",\" \", IF(COUNTRY_INFO!A38=0,\" \",COUNTRY_INFO!A38))","v":"Angola"},{"$f":"IF(INTRO!$E$43=\"Non-endemic\",\" \", IF(COUNTRY_INFO!B38=0,\" \",COUNTRY_INFO!B38))","v":"CABINDA"},{"$f":"IF(INTRO!$E$43=\"Non-endemic\",\" \", IF(COUNTRY_INFO!C38=0,\" \",COUNTRY_INFO!C38))","v":"CACONGO"},{"$f":"IF(INTRO!$E$43=\"Non-endemic\", \"Not required\", COUNTRY_INFO!Z38)","v":0},0,0,0,0,null,null,1,"SAC",null,{"$f":"IF($I38<>\"Yes\",$F38*2,($F38+ROUND(J38*$F38/SUM(COUNTRY_INFO!$E38:$G38),0))*2)","v":0},{"$f":"IF($I38<>\"Yes\",$G38*3,($G38+ROUND(J38*$G38/SUM(COUNTRY_INFO!$E38:$G38),0))*3)","v":0},0,null,0]
[{"$f":"IF(INTRO!$E$43=\"Non-endemic\",\" \", IF(COUNTRY_INFO!A39=0,\" \",COUNTRY_INFO!A39))","v":"Angola"},{"$f":"IF(INTRO!$E$43=\"Non-endemic\",\" \", IF(COUNTRY_INFO!B39=0,\" \",COUNTRY_INFO!B39))","v":"CUANDO CUBANGO"},{"$f":"IF(INTRO!$E$43=\"Non-endemic\",\" \", IF(COUNTRY_INFO!C39=0,\" \",COUNTRY_INFO!C39))","v":"CALAI"},{"$f":"IF(INTRO!$E$43=\"Non-endemic\", \"Not required\", COUNTRY_INFO!Z39)","v":1},0,7283.9584739999991,2752,10035.958473999999,null,null,1,"SAC",null,{"$f":"IF($I39<>\"Yes\",$F39*2,($F39+ROUND(J39*$F39/SUM(COUNTRY_INFO!$E39:$G39),0))*2)","v":14567.916947999998},{"$f":"IF($I39<>\"Yes\",$G39*3,($G39+ROUND(J39*$G39/SUM(COUNTRY_INFO!$E39:$G39),0))*3)","v":8256},22823.916947999998,null,22823.916947999998]
[{"$f":"IF(INTRO!$E$43=\"Non-endemic\",\" \", IF(COUNTRY_INFO!A40=0,\" \",COUNTRY_INFO!A40))","v":"Angola"},{"$f":"IF(INTRO!$E$43=\"Non-endemic\",\" \", IF(COUNTRY_INFO!B40=0,\" \",COUNTRY_INFO!B40))","v":"CUANDO CUBANGO"},{"$f":"IF(INTRO!$E$43=\"Non-endemic\",\" \", IF(COUNTRY_INFO!C40=0,\" \",COUNTRY_INFO!C40))","v":"CUANGAR"},{"$f":"IF(INTRO!$E$43=\"Non-endemic\", \"Not required\", COUNTRY_INFO!Z40)","v":1},0,5495.1380899999995,2076,7571.1380899999995,null,null,1,"SAC",null,{"$f":"IF($I40<>\"Yes\",$F40*2,($F40+ROUND(J40*$F40/SUM(COUNTRY_INFO!$E40:$G40),0))*2)","v":10990.276179999999},{"$f":"IF($I40<>\"Yes\",$G40*3,($G40+ROUND(J40*$G40/SUM(COUNTRY_INFO!$E40:$G40),0))*3)","v":6228},17218.276180000001,null,17218.276180000001]
[{"$f":"IF(INTRO!$E$43=\"Non-endemic\",\" \", IF(COUNTRY_INFO!A41=0,\" \",COUNTRY_INFO!A41))","v":"Angola"},{"$f":"IF(INTRO!$E$43=\"Non-endemic\",\" \", IF(COUNTRY_INFO!B41=0,\" \",COUNTRY_INFO!B41))","v":"CUANDO CUBANGO"},{"$f":"IF(INTRO!$E$43=\"Non-endemic\",\" \", IF(COUNTRY_INFO!C41=0,\" \",COUNTRY_INFO!C41))","v":"CUCHI"},{"$f":"IF(INTRO!$E$43=\"Non-endemic\", \"Not required\", COUNTRY_INFO!Z41)","v":1},0,12033.403160999998,4546,16579.403160999998,null,null,1,"SAC",null,{"$f":"IF($I41<>\"Yes\",$F41*2,($F41+ROUND(J41*$F41/SUM(COUNTRY_INFO!$E41:$G41),0))*2)","v":24066.806321999997},{"$f":"IF($I41<>\"Yes\",$G41*3,($G41+ROUND(J41*$G41/SUM(COUNTRY_INFO!$E41:$G41),0))*3)","v":13638},37704.806321999997,null,37704.806321999997]
[{"$f":"IF(INTRO!$E$43=\"Non-endemic\",\" \", IF(COUNTRY_INFO!A42=0,\" \",COUNTRY_INFO!A42))","v":"Angola"},{"$f":"IF(INTRO!$E$43=\"Non-endemic\",\" \", IF(COUNTRY_INFO!B42=0,\" \",COUNTRY_INFO!B42))","v":"CUANDO CUBANGO"},{"$f":"IF(INTRO!$E$43=\"Non-endemic\",\" \", IF(COUNTRY_INFO!C42=0,\" \",COUNTRY_INFO!C42))","v":"CUITO CUANAVALE"},{"$f":"IF(INTRO!$E$43=\"Non-endemic\", \"Not required\", COUNTRY_INFO!Z42)","v":1},0,5475.098238999999,2069,7544.098238999999,null,null,1,"SAC",null,{"$f":"IF($I42<>\"Yes\",$F42*2,($F42+ROUND(J42*$F42/SUM(COUNTRY_INFO!$E42:$G42),0))*2)","v":10950.196477999998},{"$f":"IF($I42<>\"Yes\",$G42*3,($G42+ROUND(J42*$G42/SUM(COUNTRY_INFO!$E42:$G42),0))*3)","v":6207},17157.196477999998,null,17157.196477999998]
[{"$f":"IF(INTRO!$E$43=\"Non-endemic\",\" \", IF(COUNTRY_INFO!A43=0,\" \",COUNTRY_INFO!A43))","v":"Angola"},{"$f":"IF(INTRO!$E$43=\"Non-endemic\",\" \", IF(COUNTRY_INFO!B43=0,\" \",COUNTRY_INFO!B43))","v":"CUANDO CUBANGO"},{"$f":"IF(INTRO!$E$43=\"Non-endemic\",\" \", IF(COUNTRY_INFO!C43=0,\" \",COUNTRY_INFO!C43))","v":"DIRICO"},{"$f":"IF(INTRO!$E$43=\"Non-endemic\", \"Not required\", COUNTRY_INFO!Z43)","v":1},0,2374.1949789999994,897,3271.1949789999994,null,null,1,"SAC",null,{"$f":"IF($I43<>\"Yes\",$F43*2,($F43+ROUND(J43*$F43/SUM(COUNTRY_INFO!$E43:$G43),0))*2)","v":4748.3899579999988},{"$f":"IF($I43<>\"Yes\",$G43*3,($G43+ROUND(J43*$G43/SUM(COUNTRY_INFO!$E43:$G43),0))*3)","v":2691},7439.3899579999988,null,7439.3899579999988]
[{"$f":"IF(INTRO!$E$43=\"Non-endemic\",\" \", IF(COUNTRY_INFO!A44=0,\" \",COUNTRY_INFO!A44))","v":"Angola"},{"$f":"IF(INTRO!$E$43=\"Non-endemic\",\" \", IF(COUNTRY_INFO!B44=0,\" \",COUNTRY_INFO!B44))","v":"CUANDO CUBANGO"},{"$f":"IF(INTRO!$E$43=\"Non-endemic\",\" \", IF(COUNTRY_INFO!C44=0,\" \",COUNTRY_INFO!C44))","v":"MAVINGA"},{"$f":"IF(INTRO!$E$43=\"Non-endemic\", \"Not required\", COUNTRY_INFO!Z44)","v":0},0,0,0,0,null,null,1,"SAC",null,{"$f":"IF($I44<>\"Yes\",$F44*2,($F44+ROUND(J44*$F44/SUM(COUNTRY_INFO!$E44:$G44),0))*2)","v":0},{"$f":"IF($I44<>\"Yes\",$G44*3,($G44+ROUND(J44*$G44/SUM(COUNTRY_INFO!$E44:$G44),0))*3)","v":0},0,null,0]
[{"$f":"IF(INTRO!$E$43=\"Non-endemic\",\" \", IF(COUNTRY_INFO!A45=0,\" \",COUNTRY_INFO!A45))","v":"Angola"},{"$f":"IF(INTRO!$E$43=\"Non-endemic\",\" \", IF(COUNTRY_INFO!B45=0,\" \",COUNTRY_INFO!B45))","v":"CUANDO CUBANGO"},{"$f":"IF(INTRO!$E$43=\"Non-endemic\",\" \", IF(COUNTRY_INFO!C45=0,\" \",COUNTRY_INFO!C45))","v":"MENONGUE"},{"$f":"IF(INTRO!$E$43=\"Non-endemic\", \"Not required\", COUNTRY_INFO!Z45)","v":1},0,114794.59490199998,43367,158161.59490199998,null,null,1,"SAC",null,{"$f":"IF($I45<>\"Yes\",$F45*2,($F45+ROUND(J45*$F45/SUM(COUNTRY_INFO!$E45:$G45),0))*2)","v":229589.18980399997},{"$f":"IF($I45<>\"Yes\",$G45*3,($G45+ROUND(J45*$G45/SUM(COUNTRY_INFO!$E45:$G45),0))*3)","v":130101},359690.18980399997,null,359690.18980399997]
[{"$f":"IF(INTRO!$E$43=\"Non-endemic\",\" \", IF(COUNTRY_INFO!A46=0,\" \",COUNTRY_INFO!A46))","v":"Angola"},{"$f":"IF(INTRO!$E$43=\"Non-endemic\",\" \", IF(COUNTRY_INFO!B46=0,\" \",COUNTRY_INFO!B46))","v":"CUANDO CUBANGO"},{"$f":"IF(INTRO!$E$43=\"Non-endemic\",\" \", IF(COUNTRY_INFO!C46=0,\" \",COUNTRY_INFO!C46))","v":"NANKOVA"},{"$f":"IF(INTRO!$E$43=\"Non-endemic\", \"Not required\", COUNTRY_INFO!Z46)","v":0},0,0,0,0,null,null,0,null,null,{"$f":"IF($I46<>\"Yes\",$F46*2,($F46+ROUND(J46*$F46/SUM(COUNTRY_INFO!$E46:$G46),0))*2)","v":0},{"$f":"IF($I46<>\"Yes\",$G46*3,($G46+ROUND(J46*$G46/SUM(COUNTRY_INFO!$E46:$G46),0))*3)","v":0},0,null,0]
[{"$f":"IF(INTRO!$E$43=\"Non-endemic\",\" \", IF(COUNTRY_INFO!A47=0,\" \",COUNTRY_INFO!A47))","v":"Angola"},{"$f":"IF(INTRO!$E$43=\"Non-endemic\",\" \", IF(COUNTRY_INFO!B47=0,\" \",COUNTRY_INFO!B47))","v":"CUANDO CUBANGO"},{"$f":"IF(INTRO!$E$43=\"Non-endemic\",\" \", IF(COUNTRY_INFO!C47=0,\" \",COUNTRY_INFO!C47))","v":"RIVUNGO"},{"$f":"IF(INTRO!$E$43=\"Non-endemic\", \"Not required\", COUNTRY_INFO!Z47)","v":0},0,0,0,0,null,null,0,null,null,{"$f":"IF($I47<>\"Yes\",$F47*2,($F47+ROUND(J47*$F47/SUM(COUNTRY_INFO!$E47:$G47),0))*2)","v":0},{"$f":"IF($I47<>\"Yes\",$G47*3,($G47+ROUND(J47*$G47/SUM(COUNTRY_INFO!$E47:$G47),0))*3)","v":0},0,null,0]
[{"$f":"IF(INTRO!$E$43=\"Non-endemic\",\" \", IF(COUNTRY_INFO!A48=0,\" \",COUNTRY_INFO!A48))","v":"Angola"},{"$f":"IF(INTRO!$E$43=\"Non-endemic\",\" \", IF(COUNTRY_INFO!B48=0,\" \",COUNTRY_INFO!B48))","v":"CUANZA NORTE"},{"$f":"IF(INTRO!$E$43=\"Non-endemic\",\" \", IF(COUNTRY_INFO!C48=0,\" \",COUNTRY_INFO!C48))","v":"AMBACA"},{"$f":"IF(INTRO!$E$43=\"Non-endemic\", \"Not required\", COUNTRY_INFO!Z48)","v":0},0,0,0,0,null,null,1,"SAC",null,{"$f":"IF($I48<>\"Yes\",$F48*2,($F48+ROUND(J48*$F48/SUM(COUNTRY_INFO!$E48:$G48),0))*2)","v":0},{"$f":"IF($I48<>\"Yes\",$G48*3,($G48+ROUND(J48*$G48/SUM(COUNTRY_INFO!$E48:$G48),0))*3)","v":0},0,null,0]
[{"$f":"IF(INTRO!$E$43=\"Non-endemic\",\" \", IF(COUNTRY_INFO!A49=0,\" \",COUNTRY_INFO!A49))","v":"Angola"},{"$f":"IF(INTRO!$E$43=\"Non-endemic\",\" \", IF(COUNTRY_INFO!B49=0,\" \",COUNTRY_INFO!B49))","v":"CUANZA NORTE"},{"$f":"IF(INTRO!$E$43=\"Non-endemic\",\" \", IF(COUNTRY_INFO!C49=0,\" \",COUNTRY_INFO!C49))","v":"BANGA"},{"$f":"IF(INTRO!$E$43=\"Non-endemic\", \"Not required\", COUNTRY_INFO!Z49)","v":0},0,0,0,0,null,null,1,"SAC",null,{"$f":"IF($I49<>\"Yes\",$F49*2,($F49+ROUND(J49*$F49/SUM(COUNTRY_INFO!$E49:$G49),0))*2)","v":0},{"$f":"IF($I49<>\"Yes\",$G49*3,($G49+ROUND(J49*$G49/SUM(COUNTRY_INFO!$E49:$G49),0))*3)","v":0},0,null,0]
[{"$f":"IF(INTRO!$E$43=\"Non-endemic\",\" \", IF(COUNTRY_INFO!A50=0,\" \",COUNTRY_INFO!A50))","v":"Angola"},{"$f":"IF(INTRO!$E$43=\"Non-endemic\",\" \", IF(COUNTRY_INFO!B50=0,\" \",COUNTRY_INFO!B50))","v":"CUANZA NORTE"},{"$f":"IF(INTRO!$E$43=\"Non-endemic\",\" \", IF(COUNTRY_INFO!C50=0,\" \",COUNTRY_INFO!C50))","v":"BOLONGONGO"},{"$f":"IF(INTRO!$E$43=\"Non-endemic\", \"Not required\", COUNTRY_INFO!Z50)","v":0},0,0,0,0,null,null,1,"SAC",null,{"$f":"IF($I50<>\"Yes\",$F50*2,($F50+ROUND(J50*$F50/SUM(COUNTRY_INFO!$E50:$G50),0))*2)","v":0},{"$f":"IF($I50<>\"Yes\",$G50*3,($G50+ROUND(J50*$G50/SUM(COUNTRY_INFO!$E50:$G50),0))*3)","v":0},0,null,0]
[{"$f":"IF(INTRO!$E$43=\"Non-endemic\",\" \", IF(COUNTRY_INFO!A51=0,\" \",COUNTRY_INFO!A51))","v":"Angola"},{"$f":"IF(INTRO!$E$43=\"Non-endemic\",\" \", IF(COUNTRY_INFO!B51=0,\" \",COUNTRY_INFO!B51))","v":"CUANZA NORTE"},{"$f":"IF(INTRO!$E$43=\"Non-endemic\",\" \", IF(COUNTRY_INFO!C51=0,\" \",COUNTRY_INFO!C51))","v":"CAMBAMBE"},{"$f":"IF(INTRO!$E$43=\"Non-endemic\", \"Not required\", COUNTRY_INFO!Z51)","v":1},0,29987.000198999995,50129.713064999989,80116.713263999991,null,null,2,"SAC",null,{"$f":"IF($I51<>\"Yes\",$F51*2,($F51+ROUND(J51*$F51/SUM(COUNTRY_INFO!$E51:$G51),0))*2)","v":59974.000397999989},{"$f":"IF($I51<>\"Yes\",$G51*3,($G51+ROUND(J51*$G51/SUM(COUNTRY_INFO!$E51:$G51),0))*3)","v":150389.13919499997},210363.13959299994,null,210363.13959299994]
[{"$f":"IF(INTRO!$E$43=\"Non-endemic\",\" \", IF(COUNTRY_INFO!A52=0,\" \",COUNTRY_INFO!A52))","v":"Angola"},{"$f":"IF(INTRO!$E$43=\"Non-endemic\",\" \", IF(COUNTRY_INFO!B52=0,\" \",COUNTRY_INFO!B52))","v":"CUANZA NORTE"},{"$f":"IF(INTRO!$E$43=\"Non-endemic\",\" \", IF(COUNTRY_INFO!C52=0,\" \",COUNTRY_INFO!C52))","v":"CAZENGO"},{"$f":"IF(INTRO!$E$43=\"Non-endemic\", \"Not required\", COUNTRY_INFO!Z52)","v":1},0,61492.810157999986,23231,84723.810157999978,null,null,2,"SAC",null,{"$f":"IF($I52<>\"Yes\",$F52*2,($F52+ROUND(J52*$F52/SUM(COUNTRY_INFO!$E52:$G52),0))*2)","v":122985.62031599997},{"$f":"IF($I52<>\"Yes\",$G52*3,($G52+ROUND(J52*$G52/SUM(COUNTRY_INFO!$E52:$G52),0))*3)","v":69693},192678.62031599996,null,192678.62031599996]
[{"$f":"IF(INTRO!$E$43=\"Non-endemic\",\" \", IF(COUNTRY_INFO!A53=0,\" \",COUNTRY_INFO!A53))","v":"Angola"},{"$f":"IF(INTRO!$E$43=\"Non-endemic\",\" \", IF(COUNTRY_INFO!B53=0,\" \",COUNTRY_INFO!B53))","v":"CUANZA NORTE"},{"$f":"IF(INTRO!$E$43=\"Non-endemic\",\" \", IF(COUNTRY_INFO!C53=0,\" \",COUNTRY_INFO!C53))","v":"GOLUNGO ALTO"},{"$f":"IF(INTRO!$E$43=\"Non-endemic\", \"Not required\", COUNTRY_INFO!Z53)","v":1},0,1434.4314399999996,2708.5440719999997,4142.9755119999991,null,null,2,"SAC",null,{"$f":"IF($I53<>\"Yes\",$F53*2,($F53+ROUND(J53*$F53/SUM(COUNTRY_INFO!$E53:$G53),0))*2)","v":2868.8628799999992},{"$f":"IF($I53<>\"Yes\",$G53*3,($G53+ROUND(J53*$G53/SUM(COUNTRY_INFO!$E53:$G53),0))*3)","v":8125.6322159999991},10994.495095999999,null,10994.495095999999]
[{"$f":"IF(INTRO!$E$43=\"Non-endemic\",\" \", IF(COUNTRY_INFO!A54=0,\" \",COUNTRY_INFO!A54))","v":"Angola"},{"$f":"IF(INTRO!$E$43=\"Non-endemic\",\" \", IF(COUNTRY_INFO!B54=0,\" \",COUNTRY_INFO!B54))","v":"CUANZA NORTE"},{"$f":"IF(INTRO!$E$43=\"Non-endemic\",\" \", IF(COUNTRY_INFO!C54=0,\" \",COUNTRY_INFO!C54))","v":"GONGUEMBO"},{"$f":"IF(INTRO!$E$43=\"Non-endemic\", \"Not required\", COUNTRY_INFO!Z54)","v":0},0,0,0,0,null,null,1,"SAC",null,{"$f":"IF($I54<>\"Yes\",$F54*2,($F54+ROUND(J54*$F54/SUM(COUNTRY_INFO!$E54:$G54),0))*2)","v":0},{"$f":"IF($I54<>\"Yes\",$G54*3,($G54+ROUND(J54*$G54/SUM(COUNTRY_INFO!$E54:$G54),0))*3)","v":0},0,null,0]
[{"$f":"IF(INTRO!$E$43=\"Non-endemic\",\" \", IF(COUNTRY_INFO!A55=0,\" \",COUNTRY_INFO!A55))","v":"Angola"},{"$f":"IF(INTRO!$E$43=\"Non-endemic\",\" \", IF(COUNTRY_INFO!B55=0,\" \",COUNTRY_INFO!B55))","v":"CUANZA NORTE"},{"$f":"IF(INTRO!$E$43=\"Non-endemic\",\" \", IF(COUNTRY_INFO!C55=0,\" \",COUNTRY_INFO!C55))","v":"LUCALA"},{"$f":"IF(INTRO!$E$43=\"Non-endemic\", \"Not required\", COUNTRY_INFO!Z55)","v":1},0,8118.2491129999989,3067,11185.249112999998,null,null,1,"SAC",null,{"$f":"IF($I55<>\"Yes\",$F55*2,($F55+ROUND(J55*$F55/SUM(COUNTRY_INFO!$E55:$G55),0))*2)","v":16236.498225999998},{"$f":"IF($I55<>\"Yes\",$G55*3,($G55+ROUND(J55*$G55/SUM(COUNTRY_INFO!$E55:$G55),0))*3)","v":9201},25437.498225999996,null,25437.498225999996]
[{"$f":"IF(INTRO!$E$43=\"Non-endemic\",\" \", IF(COUNTRY_INFO!A56=0,\" \",COUNTRY_INFO!A56))","v":"Angola"},{"$f":"IF(INTRO!$E$43=\"Non-endemic\",\" \", IF(COUNTRY_INFO!B56=0,\" \",COUNTRY_INFO!B56))","v":"CUANZA NORTE"},{"$f":"IF(INTRO!$E$43=\"Non-endemic\",\" \", IF(COUNTRY_INFO!C56=0,\" \",COUNTRY_INFO!C56))","v":"QUICULUNGO"},{"$f":"IF(INTRO!$E$43=\"Non-endemic\", \"Not required\", COUNTRY_INFO!Z56)","v":1},0,3484.8246159999994,6581.5089599999992,10066.333575999999,null,null,2,"SAC",null,{"$f":"IF($I56<>\"Yes\",$F56*2,($F56+ROUND(J56*$F56/SUM(COUNTRY_INFO!$E56:$G56),0))*2)","v":6969.6492319999988},{"$f":"IF($I56<>\"Yes\",$G56*3,($G56+ROUND(J56*$G56/SUM(COUNTRY_INFO!$E56:$G56),0))*3)","v":19744.526879999998},26714.176111999997,null,26714.176111999997]
[{"$f":"IF(INTRO!$E$43=\"Non-endemic\",\" \", IF(COUNTRY_INFO!A57=0,\" \",COUNTRY_INFO!A57))","v":"Angola"},{"$f":"IF(INTRO!$E$43=\"Non-endemic\",\" \", IF(COUNTRY_INFO!B57=0,\" \",COUNTRY_INFO!B57))","v":"CUANZA NORTE"},{"$f":"IF(INTRO!$E$43=\"Non-endemic\",\" \", IF(COUNTRY_INFO!C57=0,\" \",COUNTRY_INFO!C57))","v":"SAMBA CAJU"},{"$f":"IF(INTRO!$E$43=\"Non-endemic\", \"Not required\", COUNTRY_INFO!Z57)","v":0},0,0,0,0,null,null,1,"SAC",null,{"$f":"IF($I57<>\"Yes\",$F57*2,($F57+ROUND(J57*$F57/SUM(COUNTRY_INFO!$E57:$G57),0))*2)","v":0},{"$f":"IF($I57<>\"Yes\",$G57*3,($G57+ROUND(J57*$G57/SUM(COUNTRY_INFO!$E57:$G57),0))*3)","v":0},0,null,0]
[{"$f":"IF(INTRO!$E$43=\"Non-endemic\",\" \", IF(COUNTRY_INFO!A58=0,\" \",COUNTRY_INFO!A58))","v":"Angola"},{"$f":"IF(INTRO!$E$43=\"Non-endemic\",\" \", IF(COUNTRY_INFO!B58=0,\" \",COUNTRY_INFO!B58))","v":"CUANZA SUL"},{"$f":"IF(INTRO!$E$43=\"Non-endemic\",\" \", IF(COUNTRY_INFO!C58=0,\" \",COUNTRY_INFO!C58))","v":"AMBOIM"},{"$f":"IF(INTRO!$E$43=\"Non-endemic\", \"Not required\", COUNTRY_INFO!Z58)","v":1},0,87300.974058999986,32980,120280.97405899999,null,null,1,"SAC",null,{"$f":"IF($I58<>\"Yes\",$F58*2,($F58+ROUND(J58*$F58/SUM(COUNTRY_INFO!$E58:$G58),0))*2)","v":174601.94811799997},{"$f":"IF($I58<>\"Yes\",$G58*3,($G58+ROUND(J58*$G58/SUM(COUNTRY_INFO!$E58:$G58),0))*3)","v":98940},273541.94811799994,null,273541.94811799994]
[{"$f":"IF(INTRO!$E$43=\"Non-endemic\",\" \", IF(COUNTRY_INFO!A59=0,\" \",COUNTRY_INFO!A59))","v":"Angola"},{"$f":"IF(INTRO!$E$43=\"Non-endemic\",\" \", IF(COUNTRY_INFO!B59=0,\" \",COUNTRY_INFO!B59))","v":"CUANZA SUL"},{"$f":"IF(INTRO!$E$43=\"Non-endemic\",\" \", IF(COUNTRY_INFO!C59=0,\" \",COUNTRY_INFO!C59))","v":"CASSONGUE"},{"$f":"IF(INTRO!$E$43=\"Non-endemic\", \"Not required\", COUNTRY_INFO!Z59)","v":1},0,4125.0451189999994,1558,5683.0451189999994,null,null,1,"SAC",null,{"$f":"IF($I59<>\"Yes\",$F59*2,($F59+ROUND(J59*$F59/SUM(COUNTRY_INFO!$E59:$G59),0))*2)","v":8250.0902379999989},{"$f":"IF($I59<>\"Yes\",$G59*3,($G59+ROUND(J59*$G59/SUM(COUNTRY_INFO!$E59:$G59),0))*3)","v":4674},12924.090237999999,null,12924.090237999999]
[{"$f":"IF(INTRO!$E$43=\"Non-endemic\",\" \", IF(COUNTRY_INFO!A60=0,\" \",COUNTRY_INFO!A60))","v":"Angola"},{"$f":"IF(INTRO!$E$43=\"Non-endemic\",\" \", IF(COUNTRY_INFO!B60=0,\" \",COUNTRY_INFO!B60))","v":"CUANZA SUL"},{"$f":"IF(INTRO!$E$43=\"Non-endemic\",\" \", IF(COUNTRY_INFO!C60=0,\" \",COUNTRY_INFO!C60))","v":"CELA (Waku Kungo)"},{"$f":"IF(INTRO!$E$43=\"Non-endemic\", \"Not required\", COUNTRY_INFO!Z60)","v":1},0,16767.026912999998,6334,23101.026912999998,null,null,1,"SAC",null,{"$f":"IF($I60<>\"Yes\",$F60*2,($F60+ROUND(J60*$F60/SUM(COUNTRY_INFO!$E60:$G60),0))*2)","v":33534.053825999996},{"$f":"IF($I60<>\"Yes\",$G60*3,($G60+ROUND(J60*$G60/SUM(COUNTRY_INFO!$E60:$G60),0))*3)","v":19002},52536.053825999996,null,52536.053825999996]
[{"$f":"IF(INTRO!$E$43=\"Non-endemic\",\" \", IF(COUNTRY_INFO!A61=0,\" \",COUNTRY_INFO!A61))","v":"Angola"},{"$f":"IF(INTRO!$E$43=\"Non-endemic\",\" \", IF(COUNTRY_INFO!B61=0,\" \",COUNTRY_INFO!B61))","v":"CUANZA SUL"},{"$f":"IF(INTRO!$E$43=\"Non-endemic\",\" \", IF(COUNTRY_INFO!C61=0,\" \",COUNTRY_INFO!C61))","v":"CONDA"},{"$f":"IF(INTRO!$E$43=\"Non-endemic\", \"Not required\", COUNTRY_INFO!Z61)","v":1},0,18323.806916999998,6922,25245.806916999998,null,null,1,"SAC",null,{"$f":"IF($I61<>\"Yes\",$F61*2,($F61+ROUND(J61*$F61/SUM(COUNTRY_INFO!$E61:$G61),0))*2)","v":36647.613833999996},{"$f":"IF($I61<>\"Yes\",$G61*3,($G61+ROUND(J61*$G61/SUM(COUNTRY_INFO!$E61:$G61),0))*3)","v":20766},57413.613833999996,null,57413.613833999996]
[{"$f":"IF(INTRO!$E$43=\"Non-endemic\",\" \", IF(COUNTRY_INFO!A62=0,\" \",COUNTRY_INFO!A62))","v":"Angola"},{"$f":"IF(INTRO!$E$43=\"Non-endemic\",\" \", IF(COUNTRY_INFO!B62=0,\" \",COUNTRY_INFO!B62))","v":"CUANZA SUL"},{"$f":"IF(INTRO!$E$43=\"Non-endemic\",\" \", IF(COUNTRY_INFO!C62=0,\" \",COUNTRY_INFO!C62))","v":"EBO"},{"$f":"IF(INTRO!$E$43=\"Non-endemic\", \"Not required\", COUNTRY_INFO!Z62)","v":1},0,38005.050056999993,14358,52363.050056999993,null,null,1,"SAC",null,{"$f":"IF($I62<>\"Yes\",$F62*2,($F62+ROUND(J62*$F62/SUM(COUNTRY_INFO!$E62:$G62),0))*2)","v":76010.100113999986},{"$f":"IF($I62<>\"Yes\",$G62*3,($G62+ROUND(J62*$G62/SUM(COUNTRY_INFO!$E62:$G62),0))*3)","v":43074},119084.10011399999,null,119084.10011399999]
[{"$f":"IF(INTRO!$E$43=\"Non-endemic\",\" \", IF(COUNTRY_INFO!A63=0,\" \",COUNTRY_INFO!A63))","v":"Angola"},{"$f":"IF(INTRO!$E$43=\"Non-endemic\",\" \", IF(COUNTRY_INFO!B63=0,\" \",COUNTRY_INFO!B63))","v":"CUANZA SUL"},{"$f":"IF(INTRO!$E$43=\"Non-endemic\",\" \", IF(COUNTRY_INFO!C63=0,\" \",COUNTRY_INFO!C63))","v":"LIBOLO"},{"$f":"IF(INTRO!$E$43=\"Non-endemic\", \"Not required\", COUNTRY_INFO!Z63)","v":1},0,33152.241927999996,19098.393638999998,52250.63556699999,null,null,1,"SAC",null,{"$f":"IF($I63<>\"Yes\",$F63*2,($F63+ROUND(J63*$F63/SUM(COUNTRY_INFO!$E63:$G63),0))*2)","v":66304.483855999992},{"$f":"IF($I63<>\"Yes\",$G63*3,($G63+ROUND(J63*$G63/SUM(COUNTRY_INFO!$E63:$G63),0))*3)","v":57295.180916999991},123599.66477299998,null,123599.66477299998]
[{"$f":"IF(INTRO!$E$43=\"Non-endemic\",\" \", IF(COUNTRY_INFO!A64=0,\" \",COUNTRY_INFO!A64))","v":"Angola"},{"$f":"IF(INTRO!$E$43=\"Non-endemic\",\" \", IF(COUNTRY_INFO!B64=0,\" \",COUNTRY_INFO!B64))","v":"CUANZA SUL"},{"$f":"IF(INTRO!$E$43=\"Non-endemic\",\" \", IF(COUNTRY_INFO!C64=0,\" \",COUNTRY_INFO!C64))","v":"MUSSENDE"},{"$f":"IF(INTRO!$E$43=\"Non-endemic\", \"Not required\", COUNTRY_INFO!Z64)","v":1},0,22961.450329999996,8675,31636.450329999996,null,null,1,"SAC",null,{"$f":"IF($I64<>\"Yes\",$F64*2,($F64+ROUND(J64*$F64/SUM(COUNTRY_INFO!$E64:$G64),0))*2)","v":45922.900659999992},{"$f":"IF($I64<>\"Yes\",$G64*3,($G64+ROUND(J64*$G64/SUM(COUNTRY_INFO!$E64:$G64),0))*3)","v":26025},71947.900659999985,null,71947.900659999985]
[{"$f":"IF(INTRO!$E$43=\"Non-endemic\",\" \", IF(COUNTRY_INFO!A65=0,\" \",COUNTRY_INFO!A65))","v":"Angola"},{"$f":"IF(INTRO!$E$43=\"Non-endemic\",\" \", IF(COUNTRY_INFO!B65=0,\" \",COUNTRY_INFO!B65))","v":"CUANZA SUL"},{"$f":"IF(INTRO!$E$43=\"Non-endemic\",\" \", IF(COUNTRY_INFO!C65=0,\" \",COUNTRY_INFO!C65))","v":"PORTO AMBOIM"},{"$f":"IF(INTRO!$E$43=\"Non-endemic\", \"Not required\", COUNTRY_INFO!Z65)","v":1},0,45360.730102999994,85679.855585999991,131040.58568899998,null,null,1,"SAC",null,{"$f":"IF($I65<>\"Yes\",$F65*2,($F65+ROUND(J65*$F65/SUM(COUNTRY_INFO!$E65:$G65),0))*2)","v":90721.460205999989},{"$f":"IF($I65<>\"Yes\",$G65*3,($G65+ROUND(J65*$G65/SUM(COUNTRY_INFO!$E65:$G65),0))*3)","v":257039.56675799997},347761.02696399996,null,347761.02696399996]
[{"$f":"IF(INTRO!$E$43=\"Non-endemic\",\" \", IF(COUNTRY_INFO!A66=0,\" \",COUNTRY_INFO!A66))","v":"Angola"},{"$f":"IF(INTRO!$E$43=\"Non-endemic\",\" \", IF(COUNTRY_INFO!B66=0,\" \",COUNTRY_INFO!B66))","v":"CUANZA SUL"},{"$f":"IF(INTRO!$E$43=\"Non-endemic\",\" \", IF(COUNTRY_INFO!C66=0,\" \",COUNTRY_INFO!C66))","v":"QUIBALA"},{"$f":"IF(INTRO!$E$43=\"Non-endemic\", \"Not required\", COUNTRY_INFO!Z66)","v":1},0,4821.1662589999987,1821,6642.1662589999987,null,null,1,"SAC",null,{"$f":"IF($I66<>\"Yes\",$F66*2,($F66+ROUND(J66*$F66/SUM(COUNTRY_INFO!$E66:$G66),0))*2)","v":9642.3325179999974},{"$f":"IF($I66<>\"Yes\",$G66*3,($G66+ROUND(J66*$G66/SUM(COUNTRY_INFO!$E66:$G66),0))*3)","v":5463},15105.332517999997,null,15105.332517999997]
[{"$f":"IF(INTRO!$E$43=\"Non-endemic\",\" \", IF(COUNTRY_INFO!A67=0,\" \",COUNTRY_INFO!A67))","v":"Angola"},{"$f":"IF(INTRO!$E$43=\"Non-endemic\",\" \", IF(COUNTRY_INFO!B67=0,\" \",COUNTRY_INFO!B67))","v":"CUANZA SUL"},{"$f":"IF(INTRO!$E$43=\"Non-endemic\",\" \", IF(COUNTRY_INFO!C67=0,\" \",COUNTRY_INFO!C67))","v":"QUILENDA"},{"$f":"IF(INTRO!$E$43=\"Non-endemic\", \"Not required\", COUNTRY_INFO!Z67)","v":1},0,35161.500672999988,21985.420177,57146.920849999988,null,null,1,"SAC",null,{"$f":"IF($I67<>\"Yes\",$F67*2,($F67+ROUND(J67*$F67/SUM(COUNTRY_INFO!$E67:$G67),0))*2)","v":70323.001345999975},{"$f":"IF($I67<>\"Yes\",$G67*3,($G67+ROUND(J67*$G67/SUM(COUNTRY_INFO!$E67:$G67),0))*3)","v":65956.260531000007},136279.26187699998,null,136279.26187699998]
[{"$f":"IF(INTRO!$E$43=\"Non-endemic\",\" \", IF(COUNTRY_INFO!A68=0,\" \",COUNTRY_INFO!A68))","v":"Angola"},{"$f":"IF(INTRO!$E$43=\"Non-endemic\",\" \", IF(COUNTRY_INFO!B68=0,\" \",COUNTRY_INFO!B68))","v":"CUANZA SUL"},{"$f":"IF(INTRO!$E$43=\"Non-endemic\",\" \", IF(COUNTRY_INFO!C68=0,\" \",COUNTRY_INFO!C68))","v":"SELES"},{"$f":"IF(INTRO!$E$43=\"Non-endemic\", \"Not required\", COUNTRY_INFO!Z68)","v":1},0,41323.227490999998,78056.274373999986,119379.50186499998,null,null,1,"SAC",null,{"$f":"IF($I68<>\"Yes\",$F68*2,($F68+ROUND(J68*$F68/SUM(COUNTRY_INFO!$E68:$G68),0))*2)","v":82646.454981999996},{"$f":"IF($I68<>\"Yes\",$G68*3,($G68+ROUND(J68*$G68/SUM(COUNTRY_INFO!$E68:$G68),0))*3)","v":234168.82312199997},316815.27810399997,null,316815.27810399997]
[{"$f":"IF(INTRO!$E$43=\"Non-endemic\",\" \", IF(COUNTRY_INFO!A69=0,\" \",COUNTRY_INFO!A69))","v":"Angola"},{"$f":"IF(INTRO!$E$43=\"Non-endemic\",\" \", IF(COUNTRY_INFO!B69=0,\" \",COUNTRY_INFO!B69))","v":"CUANZA SUL"},{"$f":"IF(INTRO!$E$43=\"Non-endemic\",\" \", IF(COUNTRY_INFO!C69=0,\" \",COUNTRY_INFO!C69))","v":"SUMBE"},{"$f":"IF(INTRO!$E$43=\"Non-endemic\", \"Not required\", COUNTRY_INFO!Z69)","v":1},0,80073.970950999981,30251,110324.97095099998,null,null,1,"SAC",null,{"$f":"IF($I69<>\"Yes\",$F69*2,($F69+ROUND(J69*$F69/SUM(COUNTRY_INFO!$E69:$G69),0))*2)","v":160147.94190199996},{"$f":"IF($I69<>\"Yes\",$G69*3,($G69+ROUND(J69*$G69/SUM(COUNTRY_INFO!$E69:$G69),0))*3)","v":90753},250900.94190199996,null,250900.94190199996]
[{"$f":"IF(INTRO!$E$43=\"Non-endemic\",\" \", IF(COUNTRY_INFO!A70=0,\" \",COUNTRY_INFO!A70))","v":"Angola"},{"$f":"IF(INTRO!$E$43=\"Non-endemic\",\" \", IF(COUNTRY_INFO!B70=0,\" \",COUNTRY_INFO!B70))","v":"CUNENE"},{"$f":"IF(INTRO!$E$43=\"Non-endemic\",\" \", IF(COUNTRY_INFO!C70=0,\" \",COUNTRY_INFO!C70))","v":"CAHAMA"},{"$f":"IF(INTRO!$E$43=\"Non-endemic\", \"Not required\", COUNTRY_INFO!Z70)","v":0},0,0,0,0,null,null,1,"SAC",null,{"$f":"IF($I70<>\"Yes\",$F70*2,($F70+ROUND(J70*$F70/SUM(COUNTRY_INFO!$E70:$G70),0))*2)","v":0},{"$f":"IF($I70<>\"Yes\",$G70*3,($G70+ROUND(J70*$G70/SUM(COUNTRY_INFO!$E70:$G70),0))*3)","v":0},0,null,0]
[{"$f":"IF(INTRO!$E$43=\"Non-endemic\",\" \", IF(COUNTRY_INFO!A71=0,\" \",COUNTRY_INFO!A71))","v":"Angola"},{"$f":"IF(INTRO!$E$43=\"Non-endemic\",\" \", IF(COUNTRY_INFO!B71=0,\" \",COUNTRY_INFO!B71))","v":"CUNENE"},{"$f":"IF(INTRO!$E$43=\"Non-endemic\",\" \", IF(COUNTRY_INFO!C71=0,\" \",COUNTRY_INFO!C71))","v":"CUANHAMA"},{"$f":"IF(INTRO!$E$43=\"Non-endemic\", \"Not required\", COUNTRY_INFO!Z71)","v":1},0,89139.366706000001,137697.04584899999,226836.41255499999,null,null,1,"SAC",null,{"$f":"IF($I71<>\"Yes\",$F71*2,($F71+ROUND(J71*$F71/SUM(COUNTRY_INFO!$E71:$G71),0))*2)","v":178278.733412},{"$f":"IF($I71<>\"Yes\",$G71*3,($G71+ROUND(J71*$G71/SUM(COUNTRY_INFO!$E71:$G71),0))*3)","v":413091.13754699996},591369.87095899996,null,591369.87095899996]
[{"$f":"IF(INTRO!$E$43=\"Non-endemic\",\" \", IF(COUNTRY_INFO!A72=0,\" \",COUNTRY_INFO!A72))","v":"Angola"},{"$f":"IF(INTRO!$E$43=\"Non-endemic\",\" \", IF(COUNTRY_INFO!B72=0,\" \",COUNTRY_INFO!B72))","v":"CUNENE"},{"$f":"IF(INTRO!$E$43=\"Non-endemic\",\" \", IF(COUNTRY_INFO!C72=0,\" \",COUNTRY_INFO!C72))","v":"CUROCA"},{"$f":"IF(INTRO!$E$43=\"Non-endemic\", \"Not required\", COUNTRY_INFO!Z72)","v":1},0,6565.6880249999995,2480,9045.6880249999995,null,null,1,"SAC",null,{"$f":"IF($I72<>\"Yes\",$F72*2,($F72+ROUND(J72*$F72/SUM(COUNTRY_INFO!$E72:$G72),0))*2)","v":13131.376049999999},{"$f":"IF($I72<>\"Yes\",$G72*3,($G72+ROUND(J72*$G72/SUM(COUNTRY_INFO!$E72:$G72),0))*3)","v":7440},20571.376049999999,null,20571.376049999999]
[{"$f":"IF(INTRO!$E$43=\"Non-endemic\",\" \", IF(COUNTRY_INFO!A73=0,\" \",COUNTRY_INFO!A73))","v":"Angola"},{"$f":"IF(INTRO!$E$43=\"Non-endemic\",\" \", IF(COUNTRY_INFO!B73=0,\" \",COUNTRY_INFO!B73))","v":"CUNENE"},{"$f":"IF(INTRO!$E$43=\"Non-endemic\",\" \", IF(COUNTRY_INFO!C73=0,\" \",COUNTRY_INFO!C73))","v":"CUVELAI"},{"$f":"IF(INTRO!$E$43=\"Non-endemic\", \"Not required\", COUNTRY_INFO!Z73)","v":1},0,11703.272983999999,16399.932883999998,28103.205867999997,null,null,1,"SAC",null,{"$f":"IF($I73<>\"Yes\",$F73*2,($F73+ROUND(J73*$F73/SUM(COUNTRY_INFO!$E73:$G73),0))*2)","v":23406.545967999999},{"$f":"IF($I73<>\"Yes\",$G73*3,($G73+ROUND(J73*$G73/SUM(COUNTRY_INFO!$E73:$G73),0))*3)","v":49199.798651999998},72606.344619999989,null,72606.344619999989]
[{"$f":"IF(INTRO!$E$43=\"Non-endemic\",\" \", IF(COUNTRY_INFO!A74=0,\" \",COUNTRY_INFO!A74))","v":"Angola"},{"$f":"IF(INTRO!$E$43=\"Non-endemic\",\" \", IF(COUNTRY_INFO!B74=0,\" \",COUNTRY_INFO!B74))","v":"CUNENE"},{"$f":"IF(INTRO!$E$43=\"Non-endemic\",\" \", IF(COUNTRY_INFO!C74=0,\" \",COUNTRY_INFO!C74))","v":"NAMACUNDE"},{"$f":"IF(INTRO!$E$43=\"Non-endemic\", \"Not required\", COUNTRY_INFO!Z74)","v":1},0,31614.447045999997,11943,43557.447046000001,null,null,1,"SAC",null,{"$f":"IF($I74<>\"Yes\",$F74*2,($F74+ROUND(J74*$F74/SUM(COUNTRY_INFO!$E74:$G74),0))*2)","v":63228.894091999995},{"$f":"IF($I74<>\"Yes\",$G74*3,($G74+ROUND(J74*$G74/SUM(COUNTRY_INFO!$E74:$G74),0))*3)","v":35829},99057.894092000002,null,99057.894092000002]
[{"$f":"IF(INTRO!$E$43=\"Non-endemic\",\" \", IF(COUNTRY_INFO!A75=0,\" \",COUNTRY_INFO!A75))","v":"Angola"},{"$f":"IF(INTRO!$E$43=\"Non-endemic\",\" \", IF(COUNTRY_INFO!B75=0,\" \",COUNTRY_INFO!B75))","v":"CUNENE"},{"$f":"IF(INTRO!$E$43=\"Non-endemic\",\" \", IF(COUNTRY_INFO!C75=0,\" \",COUNTRY_INFO!C75))","v":"OMBADJA"},{"$f":"IF(INTRO!$E$43=\"Non-endemic\", \"Not required\", COUNTRY_INFO!Z75)","v":1},0,44027.552646999997,50318.945866999988,{"$f":"SUM(E75:G75)","v":94346.498513999977},null,null,1,"SAC",null,{"$f":"IF($I75<>\"Yes\",$F75*2,($F75+ROUND(J75*$F75/SUM(COUNTRY_INFO!$E75:$G75),0))*2)","v":88055.105293999994},{"$f":"IF($I75<>\"Yes\",$G75*3,($G75+ROUND(J75*$G75/SUM(COUNTRY_INFO!$E75:$G75),0))*3)","v":150956.83760099998},{"$f":"SUM(M75:O75)","v":239011.94289499999},null,{"$f":"IF($P75>$Q75,P75-Q75,0)","v":239011.94289499999}]
[{"$f":"IF(INTRO!$E$43=\"Non-endemic\",\" \", IF(COUNTRY_INFO!A76=0,\" \",COUNTRY_INFO!A76))","v":"Angola"},{"$f":"IF(INTRO!$E$43=\"Non-endemic\",\" \", IF(COUNTRY_INFO!B76=0,\" \",COUNTRY_INFO!B76))","v":"HUAMBO"},{"$f":"IF(INTRO!$E$43=\"Non-endemic\",\" \", IF(COUNTRY_INFO!C76=0,\" \",COUNTRY_INFO!C76))","v":"BAILUNDO"},{"$f":"IF(INTRO!$E$43=\"Non-endemic\", \"Not required\", COUNTRY_INFO!Z76)","v":1},0,16871.445083999999,6374,23245.445083999999,null,null,1,"SAC",null,{"$f":"IF($I76<>\"Yes\",$F76*2,($F76+ROUND(J76*$F76/SUM(COUNTRY_INFO!$E76:$G76),0))*2)","v":33742.890167999998},{"$f":"IF($I76<>\"Yes\",$G76*3,($G76+ROUND(J76*$G76/SUM(COUNTRY_INFO!$E76:$G76),0))*3)","v":19122},52864.890167999998,null,52864.890167999998]
[{"$f":"IF(INTRO!$E$43=\"Non-endemic\",\" \", IF(COUNTRY_INFO!A77=0,\" \",COUNTRY_INFO!A77))","v":"Angola"},{"$f":"IF(INTRO!$E$43=\"Non-endemic\",\" \", IF(COUNTRY_INFO!B77=0,\" \",COUNTRY_INFO!B77))","v":"HUAMBO"},{"$f":"IF(INTRO!$E$43=\"Non-endemic\",\" \", IF(COUNTRY_INFO!C77=0,\" \",COUNTRY_INFO!C77))","v":"CAALA"},{"$f":"IF(INTRO!$E$43=\"Non-endemic\", \"Not required\", COUNTRY_INFO!Z77)","v":1},0,52187.990919999989,44543.400824999997,96731.391744999986,null,null,1,"SAC",null,{"$f":"IF($I77<>\"Yes\",$F77*2,($F77+ROUND(J77*$F77/SUM(COUNTRY_INFO!$E77:$G77),0))*2)","v":104375.98183999998},{"$f":"IF($I77<>\"Yes\",$G77*3,($G77+ROUND(J77*$G77/SUM(COUNTRY_INFO!$E77:$G77),0))*3)","v":133630.202475},238006.18431499996,null,238006.18431499996]
[{"$f":"IF(INTRO!$E$43=\"Non-endemic\",\" \", IF(COUNTRY_INFO!A78=0,\" \",COUNTRY_INFO!A78))","v":"Angola"},{"$f":"IF(INTRO!$E$43=\"Non-endemic\",\" \", IF(COUNTRY_INFO!B78=0,\" \",COUNTRY_INFO!B78))","v":"HUAMBO"},{"$f":"IF(INTRO!$E$43=\"Non-endemic\",\" \", IF(COUNTRY_INFO!C78=0,\" \",COUNTRY_INFO!C78))","v":"CACHIUNGO"},{"$f":"IF(INTRO!$E$43=\"Non-endemic\", \"Not required\", COUNTRY_INFO!Z78)","v":1},0,0,0,0,null,null,1,"SAC",null,{"$f":"IF($I78<>\"Yes\",$F78*2,($F78+ROUND(J78*$F78/SUM(COUNTRY_INFO!$E78:$G78),0))*2)","v":0},{"$f":"IF($I78<>\"Yes\",$G78*3,($G78+ROUND(J78*$G78/SUM(COUNTRY_INFO!$E78:$G78),0))*3)","v":0},0,null,0]
[{"$f":"IF(INTRO!$E$43=\"Non-endemic\",\" \", IF(COUNTRY_INFO!A79=0,\" \",COUNTRY_INFO!A79))","v":"Angola"},{"$f":"IF(INTRO!$E$43=\"Non-endemic\",\" \", IF(COUNTRY_INFO!B79=0,\" \",COUNTRY_INFO!B79))","v":"HUAMBO"},{"$f":"IF(INTRO!$E$43=\"Non-endemic\",\" \", IF(COUNTRY_INFO!C79=0,\" \",COUNTRY_INFO!C79))","v":"CHICALA CHOLOHANGA"},{"$f":"IF(INTRO!$E$43=\"Non-endemic\", \"Not required\", COUNTRY_INFO!Z79)","v":1},0,34702.693557999992,30314.869580999995,65017.563138999991,null,null,1,"SAC",null,{"$f":"IF($I79<>\"Yes\",$F79*2,($F79+ROUND(J79*$F79/SUM(COUNTRY_INFO!$E79:$G79),0))*2)","v":69405.387115999984},{"$f":"IF($I79<>\"Yes\",$G79*3,($G79+ROUND(J79*$G79/SUM(COUNTRY_INFO!$E79:$G79),0))*3)","v":90944.60874299999},160349.99585899996,null,160349.99585899996]
[{"$f":"IF(INTRO!$E$43=\"Non-endemic\",\" \", IF(COUNTRY_INFO!A80=0,\" \",COUNTRY_INFO!A80))","v":"Angola"},{"$f":"IF(INTRO!$E$43=\"Non-endemic\",\" \", IF(COUNTRY_INFO!B80=0,\" \",COUNTRY_INFO!B80))","v":"HUAMBO"},{"$f":"IF(INTRO!$E$43=\"Non-endemic\",\" \", IF(COUNTRY_INFO!C80=0,\" \",COUNTRY_INFO!C80))","v":"CHINDJENJE"},{"$f":"IF(INTRO!$E$43=\"Non-endemic\", \"Not required\", COUNTRY_INFO!Z80)","v":1},0,4614.4393749999999,8716.2804559999986,13330.719830999999,null,null,1,"SAC",null,{"$f":"IF($I80<>\"Yes\",$F80*2,($F80+ROUND(J80*$F80/SUM(COUNTRY_INFO!$E80:$G80),0))*2)","v":9228.8787499999999},{"$f":"IF($I80<>\"Yes\",$G80*3,($G80+ROUND(J80*$G80/SUM(COUNTRY_INFO!$E80:$G80),0))*3)","v":26148.841367999994},35377.720117999997,null,35377.720117999997]
[{"$f":"IF(INTRO!$E$43=\"Non-endemic\",\" \", IF(COUNTRY_INFO!A81=0,\" \",COUNTRY_INFO!A81))","v":"Angola"},{"$f":"IF(INTRO!$E$43=\"Non-endemic\",\" \", IF(COUNTRY_INFO!B81=0,\" \",COUNTRY_INFO!B81))","v":"HUAMBO"},{"$f":"IF(INTRO!$E$43=\"Non-endemic\",\" \", IF(COUNTRY_INFO!C81=0,\" \",COUNTRY_INFO!C81))","v":"ECUNHA"},{"$f":"IF(INTRO!$E$43=\"Non-endemic\", \"Not required\", COUNTRY_INFO!Z81)","v":1},0,0,0,0,null,null,1,"SAC",null,{"$f":"IF($I81<>\"Yes\",$F81*2,($F81+ROUND(J81*$F81/SUM(COUNTRY_INFO!$E81:$G81),0))*2)","v":0},{"$f":"IF($I81<>\"Yes\",$G81*3,($G81+ROUND(J81*$G81/SUM(COUNTRY_INFO!$E81:$G81),0))*3)","v":0},0,null,0]
[{"$f":"IF(INTRO!$E$43=\"Non-endemic\",\" \", IF(COUNTRY_INFO!A82=0,\" \",COUNTRY_INFO!A82))","v":"Angola"},{"$f":"IF(INTRO!$E$43=\"Non-endemic\",\" \", IF(COUNTRY_INFO!B82=0,\" \",COUNTRY_INFO!B82))","v":"HUAMBO"},{"$f":"IF(INTRO!$E$43=\"Non-endemic\",\" \", IF(COUNTRY_INFO!C82=0,\" \",COUNTRY_INFO!C82))","v":"HUAMBO"},{"$f":"IF(INTRO!$E$43=\"Non-endemic\", \"Not required\", COUNTRY_INFO!Z82)","v":1},0,245606.30439799995,445218.37290699995,690824.6773049999,null,null,1,"SAC",null,{"$f":"IF($I82<>\"Yes\",$F82*2,($F82+ROUND(J82*$F82/SUM(COUNTRY_INFO!$E82:$G82),0))*2)","v":491212.6087959999},{"$f":"IF($I82<>\"Yes\",$G82*3,($G82+ROUND(J82*$G82/SUM(COUNTRY_INFO!$E82:$G82),0))*3)","v":1335655.1187209999},1826867.7275169999,null,1826867.7275169999]
[{"$f":"IF(INTRO!$E$43=\"Non-endemic\",\" \", IF(COUNTRY_INFO!A83=0,\" \",COUNTRY_INFO!A83))","v":"Angola"},{"$f":"IF(INTRO!$E$43=\"Non-endemic\",\" \", IF(COUNTRY_INFO!B83=0,\" \",COUNTRY_INFO!B83))","v":"HUAMBO"},{"$f":"IF(INTRO!$E$43=\"Non-endemic\",\" \", IF(COUNTRY_INFO!C83=0,\" \",COUNTRY_INFO!C83))","v":"LONDUIMBALI"},{"$f":"IF(INTRO!$E$43=\"Non-endemic\", \"Not required\", COUNTRY_INFO!Z83)","v":1},0,18810.036985999996,15120.870771,33930.907756999994,null,null,1,"SAC",null,{"$f":"IF($I83<>\"Yes\",$F83*2,($F83+ROUND(J83*$F83/SUM(COUNTRY_INFO!$E83:$G83),0))*2)","v":37620.073971999991},{"$f":"IF($I83<>\"Yes\",$G83*3,($G83+ROUND(J83*$G83/SUM(COUNTRY_INFO!$E83:$G83),0))*3)","v":45362.612312999998},82982.686284999989,null,82982.686284999989]
[{"$f":"IF(INTRO!$E$43=\"Non-endemic\",\" \", IF(COUNTRY_INFO!A84=0,\" \",COUNTRY_INFO!A84))","v":"Angola"},{"$f":"IF(INTRO!$E$43=\"Non-endemic\",\" \", IF(COUNTRY_INFO!B84=0,\" \",COUNTRY_INFO!B84))","v":"HUAMBO"},{"$f":"IF(INTRO!$E$43=\"Non-endemic\",\" \", IF(COUNTRY_INFO!C84=0,\" \",COUNTRY_INFO!C84))","v":"LONGONJO"},{"$f":"IF(INTRO!$E$43=\"Non-endemic\", \"Not required\", COUNTRY_INFO!Z84)","v":1},0,25718.511935999995,25922.179902999997,51640.691838999992,null,null,1,"SAC",null,{"$f":"IF($I84<>\"Yes\",$F84*2,($F84+ROUND(J84*$F84/SUM(COUNTRY_INFO!$E84:$G84),0))*2)","v":51437.023871999991},{"$f":"IF($I84<>\"Yes\",$G84*3,($G84+ROUND(J84*$G84/SUM(COUNTRY_INFO!$E84:$G84),0))*3)","v":77766.53970899999},129203.56358099998,null,129203.56358099998]
[{"$f":"IF(INTRO!$E$43=\"Non-endemic\",\" \", IF(COUNTRY_INFO!A85=0,\" \",COUNTRY_INFO!A85))","v":"Angola"},{"$f":"IF(INTRO!$E$43=\"Non-endemic\",\" \", IF(COUNTRY_INFO!B85=0,\" \",COUNTRY_INFO!B85))","v":"HUAMBO"},{"$f":"IF(INTRO!$E$43=\"Non-endemic\",\" \", IF(COUNTRY_INFO!C85=0,\" \",COUNTRY_INFO!C85))","v":"MUNGO"},{"$f":"IF(INTRO!$E$43=\"Non-endemic\", \"Not required\", COUNTRY_INFO!Z85)","v":1},0,0,0,0,null,null,1,"SAC",null,{"$f":"IF($I85<>\"Yes\",$F85*2,($F85+ROUND(J85*$F85/SUM(COUNTRY_INFO!$E85:$G85),0))*2)","v":0},{"$f":"IF($I85<>\"Yes\",$G85*3,($G85+ROUND(J85*$G85/SUM(COUNTRY_INFO!$E85:$G85),0))*3)","v":0},0,null,0]
[{"$f":"IF(INTRO!$E$43=\"Non-endemic\",\" \", IF(COUNTRY_INFO!A86=0,\" \",COUNTRY_INFO!A86))","v":"Angola"},{"$f":"IF(INTRO!$E$43=\"Non-endemic\",\" \", IF(COUNTRY_INFO!B86=0,\" \",COUNTRY_INFO!B86))","v":"HUAMBO"},{"$f":"IF(INTRO!$E$43=\"Non-endemic\",\" \", IF(COUNTRY_INFO!C86=0,\" \",COUNTRY_INFO!C86))","v":"UCUMA"},{"$f":"IF(INTRO!$E$43=\"Non-endemic\", \"Not required\", COUNTRY_INFO!Z86)","v":1},0,20512.369591999999,7748,28260.369591999999,null,null,1,"SAC",null,{"$f":"IF($I86<>\"Yes\",$F86*2,($F86+ROUND(J86*$F86/SUM(COUNTRY_INFO!$E86:$G86),0))*2)","v":41024.739183999998},{"$f":"IF($I86<>\"Yes\",$G86*3,($G86+ROUND(J86*$G86/SUM(COUNTRY_INFO!$E86:$G86),0))*3)","v":23244},64268.739183999998,null,64268.739183999998]
[{"$f":"IF(INTRO!$E$43=\"Non-endemic\",\" \", IF(COUNTRY_INFO!A87=0,\" \",COUNTRY_INFO!A87))","v":"Angola"},{"$f":"IF(INTRO!$E$43=\"Non-endemic\",\" \", IF(COUNTRY_INFO!B87=0,\" \",COUNTRY_INFO!B87))","v":"HUILA"},{"$f":"IF(INTRO!$E$43=\"Non-endemic\",\" \", IF(COUNTRY_INFO!C87=0,\" \",COUNTRY_INFO!C87))","v":"CACONDA"},{"$f":"IF(INTRO!$E$43=\"Non-endemic\", \"Not required\", COUNTRY_INFO!Z87)","v":1},0,61103.615156999993,43964.378562999991,105067.99371999998,null,null,1,"SAC",null,{"$f":"IF($I87<>\"Yes\",$F87*2,($F87+ROUND(J87*$F87/SUM(COUNTRY_INFO!$E87:$G87),0))*2)","v":122207.23031399999},{"$f":"IF($I87<>\"Yes\",$G87*3,($G87+ROUND(J87*$G87/SUM(COUNTRY_INFO!$E87:$G87),0))*3)","v":131893.13568899996},254100.36600299994,null,254100.36600299994]
[{"$f":"IF(INTRO!$E$43=\"Non-endemic\",\" \", IF(COUNTRY_INFO!A88=0,\" \",COUNTRY_INFO!A88))","v":"Angola"},{"$f":"IF(INTRO!$E$43=\"Non-endemic\",\" \", IF(COUNTRY_INFO!B88=0,\" \",COUNTRY_INFO!B88))","v":"HUILA"},{"$f":"IF(INTRO!$E$43=\"Non-endemic\",\" \", IF(COUNTRY_INFO!C88=0,\" \",COUNTRY_INFO!C88))","v":"CACULA"},{"$f":"IF(INTRO!$E$43=\"Non-endemic\", \"Not required\", COUNTRY_INFO!Z88)","v":1},0,25225.953492999994,9530,34755.953492999994,null,null,1,"SAC",null,{"$f":"IF($I88<>\"Yes\",$F88*2,($F88+ROUND(J88*$F88/SUM(COUNTRY_INFO!$E88:$G88),0))*2)","v":50451.906985999987},{"$f":"IF($I88<>\"Yes\",$G88*3,($G88+ROUND(J88*$G88/SUM(COUNTRY_INFO!$E88:$G88),0))*3)","v":28590},79041.906985999987,null,79041.906985999987]
[{"$f":"IF(INTRO!$E$43=\"Non-endemic\",\" \", IF(COUNTRY_INFO!A89=0,\" \",COUNTRY_INFO!A89))","v":"Angola"},{"$f":"IF(INTRO!$E$43=\"Non-endemic\",\" \", IF(COUNTRY_INFO!B89=0,\" \",COUNTRY_INFO!B89))","v":"HUILA"},{"$f":"IF(INTRO!$E$43=\"Non-endemic\",\" \", IF(COUNTRY_INFO!C89=0,\" \",COUNTRY_INFO!C89))","v":"CALUQUEMBE"},{"$f":"IF(INTRO!$E$43=\"Non-endemic\", \"Not required\", COUNTRY_INFO!Z89)","v":1},0,65512.382376999987,41639.565122,107151.94749899999,null,null,1,"SAC",null,{"$f":"IF($I89<>\"Yes\",$F89*2,($F89+ROUND(J89*$F89/SUM(COUNTRY_INFO!$E89:$G89),0))*2)","v":131024.76475399997},{"$f":"IF($I89<>\"Yes\",$G89*3,($G89+ROUND(J89*$G89/SUM(COUNTRY_INFO!$E89:$G89),0))*3)","v":124918.695366},255943.46011999997,null,255943.46011999997]
[{"$f":"IF(INTRO!$E$43=\"Non-endemic\",\" \", IF(COUNTRY_INFO!A90=0,\" \",COUNTRY_INFO!A90))","v":"Angola"},{"$f":"IF(INTRO!$E$43=\"Non-endemic\",\" \", IF(COUNTRY_INFO!B90=0,\" \",COUNTRY_INFO!B90))","v":"HUILA"},{"$f":"IF(INTRO!$E$43=\"Non-endemic\",\" \", IF(COUNTRY_INFO!C90=0,\" \",COUNTRY_INFO!C90))","v":"CHIBIA"},{"$f":"IF(INTRO!$E$43=\"Non-endemic\", \"Not required\", COUNTRY_INFO!Z90)","v":1},0,69421.208050999994,62724.302894999993,132145.51094599999,null,null,1,"SAC",null,{"$f":"IF($I90<>\"Yes\",$F90*2,($F90+ROUND(J90*$F90/SUM(COUNTRY_INFO!$E90:$G90),0))*2)","v":138842.41610199999},{"$f":"IF($I90<>\"Yes\",$G90*3,($G90+ROUND(J90*$G90/SUM(COUNTRY_INFO!$E90:$G90),0))*3)","v":188172.90868499997},327015.32478699996,null,327015.32478699996]
[{"$f":"IF(INTRO!$E$43=\"Non-endemic\",\" \", IF(COUNTRY_INFO!A91=0,\" \",COUNTRY_INFO!A91))","v":"Angola"},{"$f":"IF(INTRO!$E$43=\"Non-endemic\",\" \", IF(COUNTRY_INFO!B91=0,\" \",COUNTRY_INFO!B91))","v":"HUILA"},{"$f":"IF(INTRO!$E$43=\"Non-endemic\",\" \", IF(COUNTRY_INFO!C91=0,\" \",COUNTRY_INFO!C91))","v":"CHICOMBA"},{"$f":"IF(INTRO!$E$43=\"Non-endemic\", \"Not required\", COUNTRY_INFO!Z91)","v":1},0,47991.224228999992,68174.976989999996,116166.20121899998,null,null,1,"SAC",null,{"$f":"IF($I91<>\"Yes\",$F91*2,($F91+ROUND(J91*$F91/SUM(COUNTRY_INFO!$E91:$G91),0))*2)","v":95982.448457999984},{"$f":"IF($I91<>\"Yes\",$G91*3,($G91+ROUND(J91*$G91/SUM(COUNTRY_INFO!$E91:$G91),0))*3)","v":204524.93096999999},300507.37942799996,null,300507.37942799996]
[{"$f":"IF(INTRO!$E$43=\"Non-endemic\",\" \", IF(COUNTRY_INFO!A92=0,\" \",COUNTRY_INFO!A92))","v":"Angola"},{"$f":"IF(INTRO!$E$43=\"Non-endemic\",\" \", IF(COUNTRY_INFO!B92=0,\" \",COUNTRY_INFO!B92))","v":"HUILA"},{"$f":"IF(INTRO!$E$43=\"Non-endemic\",\" \", IF(COUNTRY_INFO!C92=0,\" \",COUNTRY_INFO!C92))","v":"CHIPINDO"},{"$f":"IF(INTRO!$E$43=\"Non-endemic\", \"Not required\", COUNTRY_INFO!Z92)","v":1},0,17445.217659999998,6590,24035.217659999998,null,null,1,"SAC",null,{"$f":"IF($I92<>\"Yes\",$F92*2,($F92+ROUND(J92*$F92/SUM(COUNTRY_INFO!$E92:$G92),0))*2)","v":34890.435319999997},{"$f":"IF($I92<>\"Yes\",$G92*3,($G92+ROUND(J92*$G92/SUM(COUNTRY_INFO!$E92:$G92),0))*3)","v":19770},54660.435319999997,null,54660.435319999997]
[{"$f":"IF(INTRO!$E$43=\"Non-endemic\",\" \", IF(COUNTRY_INFO!A93=0,\" \",COUNTRY_INFO!A93))","v":"Angola"},{"$f":"IF(INTRO!$E$43=\"Non-endemic\",\" \", IF(COUNTRY_INFO!B93=0,\" \",COUNTRY_INFO!B93))","v":"HUILA"},{"$f":"IF(INTRO!$E$43=\"Non-endemic\",\" \", IF(COUNTRY_INFO!C93=0,\" \",COUNTRY_INFO!C93))","v":"CUVANGO"},{"$f":"IF(INTRO!$E$43=\"Non-endemic\", \"Not required\", COUNTRY_INFO!Z93)","v":1},0,28597.922105999998,10803,39400.922105999998,null,null,1,"SAC",null,{"$f":"IF($I93<>\"Yes\",$F93*2,($F93+ROUND(J93*$F93/SUM(COUNTRY_INFO!$E93:$G93),0))*2)","v":57195.844211999996},{"$f":"IF($I93<>\"Yes\",$G93*3,($G93+ROUND(J93*$G93/SUM(COUNTRY_INFO!$E93:$G93),0))*3)","v":32409},89604.844211999996,null,89604.844211999996]
[{"$f":"IF(INTRO!$E$43=\"Non-endemic\",\" \", IF(COUNTRY_INFO!A94=0,\" \",COUNTRY_INFO!A94))","v":"Angola"},{"$f":"IF(INTRO!$E$43=\"Non-endemic\",\" \", IF(COUNTRY_INFO!B94=0,\" \",COUNTRY_INFO!B94))","v":"HUILA"},{"$f":"IF(INTRO!$E$43=\"Non-endemic\",\" \", IF(COUNTRY_INFO!C94=0,\" \",COUNTRY_INFO!C94))","v":"GAMBOS"},{"$f":"IF(INTRO!$E$43=\"Non-endemic\", \"Not required\", COUNTRY_INFO!Z94)","v":1},0,28932.271198999995,10930,39862.271198999995,null,null,1,"SAC",null,{"$f":"IF($I94<>\"Yes\",$F94*2,($F94+ROUND(J94*$F94/SUM(COUNTRY_INFO!$E94:$G94),0))*2)","v":57864.54239799999},{"$f":"IF($I94<>\"Yes\",$G94*3,($G94+ROUND(J94*$G94/SUM(COUNTRY_INFO!$E94:$G94),0))*3)","v":32790},90654.54239799999,null,90654.54239799999]
[{"$f":"IF(INTRO!$E$43=\"Non-endemic\",\" \", IF(COUNTRY_INFO!A95=0,\" \",COUNTRY_INFO!A95))","v":"Angola"},{"$f":"IF(INTRO!$E$43=\"Non-endemic\",\" \", IF(COUNTRY_INFO!B95=0,\" \",COUNTRY_INFO!B95))","v":"HUILA"},{"$f":"IF(INTRO!$E$43=\"Non-endemic\",\" \", IF(COUNTRY_INFO!C95=0,\" \",COUNTRY_INFO!C95))","v":"HUMPATA"},{"$f":"IF(INTRO!$E$43=\"Non-endemic\", \"Not required\", COUNTRY_INFO!Z95)","v":1},0,32457.175516999992,12262,44719.175516999996,null,null,1,"SAC",null,{"$f":"IF($I95<>\"Yes\",$F95*2,($F95+ROUND(J95*$F95/SUM(COUNTRY_INFO!$E95:$G95),0))*2)","v":64914.351033999985},{"$f":"IF($I95<>\"Yes\",$G95*3,($G95+ROUND(J95*$G95/SUM(COUNTRY_INFO!$E95:$G95),0))*3)","v":36786},101700.35103399999,null,101700.35103399999]
[{"$f":"IF(INTRO!$E$43=\"Non-endemic\",\" \", IF(COUNTRY_INFO!A96=0,\" \",COUNTRY_INFO!A96))","v":"Angola"},{"$f":"IF(INTRO!$E$43=\"Non-endemic\",\" \", IF(COUNTRY_INFO!B96=0,\" \",COUNTRY_INFO!B96))","v":"HUILA"},{"$f":"IF(INTRO!$E$43=\"Non-endemic\",\" \", IF(COUNTRY_INFO!C96=0,\" \",COUNTRY_INFO!C96))","v":"JAMBA"},{"$f":"IF(INTRO!$E$43=\"Non-endemic\", \"Not required\", COUNTRY_INFO!Z96)","v":1},0,38262.403932999994,57798.319271999986,96060.723204999988,null,null,1,"SAC",null,{"$f":"IF($I96<>\"Yes\",$F96*2,($F96+ROUND(J96*$F96/SUM(COUNTRY_INFO!$E96:$G96),0))*2)","v":76524.807865999988},{"$f":"IF($I96<>\"Yes\",$G96*3,($G96+ROUND(J96*$G96/SUM(COUNTRY_INFO!$E96:$G96),0))*3)","v":173394.95781599995},249919.76568199994,null,249919.76568199994]
[{"$f":"IF(INTRO!$E$43=\"Non-endemic\",\" \", IF(COUNTRY_INFO!A97=0,\" \",COUNTRY_INFO!A97))","v":"Angola"},{"$f":"IF(INTRO!$E$43=\"Non-endemic\",\" \", IF(COUNTRY_INFO!B97=0,\" \",COUNTRY_INFO!B97))","v":"HUILA"},{"$f":"IF(INTRO!$E$43=\"Non-endemic\",\" \", IF(COUNTRY_INFO!C97=0,\" \",COUNTRY_INFO!C97))","v":"LUBANGO"},{"$f":"IF(INTRO!$E$43=\"Non-endemic\", \"Not required\", COUNTRY_INFO!Z97)","v":1},0,273807.64839999995,172075.930505,445883.57890499994,null,null,1,"SAC",null,{"$f":"IF($I97<>\"Yes\",$F97*2,($F97+ROUND(J97*$F97/SUM(COUNTRY_INFO!$E97:$G97),0))*2)","v":547615.29679999989},{"$f":"IF($I97<>\"Yes\",$G97*3,($G97+ROUND(J97*$G97/SUM(COUNTRY_INFO!$E97:$G97),0))*3)","v":516227.79151499999},1063843.0883149998,null,1063843.0883149998]
[{"$f":"IF(INTRO!$E$43=\"Non-endemic\",\" \", IF(COUNTRY_INFO!A98=0,\" \",COUNTRY_INFO!A98))","v":"Angola"},{"$f":"IF(INTRO!$E$43=\"Non-endemic\",\" \", IF(COUNTRY_INFO!B98=0,\" \",COUNTRY_INFO!B98))","v":"HUILA"},{"$f":"IF(INTRO!$E$43=\"Non-endemic\",\" \", IF(COUNTRY_INFO!C98=0,\" \",COUNTRY_INFO!C98))","v":"MATALA"},{"$f":"IF(INTRO!$E$43=\"Non-endemic\", \"Not required\", COUNTRY_INFO!Z98)","v":1},0,95671.303402999984,153507.47552599999,249178.77892899996,null,null,1,"SAC",null,{"$f":"IF($I98<>\"Yes\",$F98*2,($F98+ROUND(J98*$F98/SUM(COUNTRY_INFO!$E98:$G98),0))*2)","v":191342.60680599997},{"$f":"IF($I98<>\"Yes\",$G98*3,($G98+ROUND(J98*$G98/SUM(COUNTRY_INFO!$E98:$G98),0))*3)","v":460522.42657799996},651865.03338399995,null,651865.03338399995]
[{"$f":"IF(INTRO!$E$43=\"Non-endemic\",\" \", IF(COUNTRY_INFO!A99=0,\" \",COUNTRY_INFO!A99))","v":"Angola"},{"$f":"IF(INTRO!$E$43=\"Non-endemic\",\" \", IF(COUNTRY_INFO!B99=0,\" \",COUNTRY_INFO!B99))","v":"HUILA"},{"$f":"IF(INTRO!$E$43=\"Non-endemic\",\" \", IF(COUNTRY_INFO!C99=0,\" \",COUNTRY_INFO!C99))","v":"QUILENGUES"},{"$f":"IF(INTRO!$E$43=\"Non-endemic\", \"Not required\", COUNTRY_INFO!Z99)","v":1},0,27429.282373999995,30072.414710999994,57501.697084999993,null,null,1,"SAC",null,{"$f":"IF($I99<>\"Yes\",$F99*2,($F99+ROUND(J99*$F99/SUM(COUNTRY_INFO!$E99:$G99),0))*2)","v":54858.56474799999},{"$f":"IF($I99<>\"Yes\",$G99*3,($G99+ROUND(J99*$G99/SUM(COUNTRY_INFO!$E99:$G99),0))*3)","v":90217.244132999986},145075.80888099998,null,145075.80888099998]
[{"$f":"IF(INTRO!$E$43=\"Non-endemic\",\" \", IF(COUNTRY_INFO!A100=0,\" \",COUNTRY_INFO!A100))","v":"Angola"},{"$f":"IF(INTRO!$E$43=\"Non-endemic\",\" \", IF(COUNTRY_INFO!B100=0,\" \",COUNTRY_INFO!B100))","v":"HUILA"},{"$f":"IF(INTRO!$E$43=\"Non-endemic\",\" \", IF(COUNTRY_INFO!C100=0,\" \",COUNTRY_INFO!C100))","v":"QUIPUNGO"},{"$f":"IF(INTRO!$E$43=\"Non-endemic\", \"Not required\", COUNTRY_INFO!Z100)","v":1},0,57861.378210999988,109294.18316699998,167155.56137799995,null,null,1,"SAC",null,{"$f":"IF($I100<>\"Yes\",$F100*2,($F100+ROUND(J100*$F100/SUM(COUNTRY_INFO!$E100:$G100),0))*2)","v":115722.75642199998},{"$f":"IF($I100<>\"Yes\",$G100*3,($G100+ROUND(J100*$G100/SUM(COUNTRY_INFO!$E100:$G100),0))*3)","v":327882.54950099997},443605.30592299998,null,443605.30592299998]
[{"$f":"IF(INTRO!$E$43=\"Non-endemic\",\" \", IF(COUNTRY_INFO!A101=0,\" \",COUNTRY_INFO!A101))","v":"Angola"},{"$f":"IF(INTRO!$E$43=\"Non-endemic\",\" \", IF(COUNTRY_INFO!B101=0,\" \",COUNTRY_INFO!B101))","v":"LUANDA"},{"$f":"IF(INTRO!$E$43=\"Non-endemic\",\" \", IF(COUNTRY_INFO!C101=0,\" \",COUNTRY_INFO!C101))","v":"BELAS"},{"$f":"IF(INTRO!$E$43=\"Non-endemic\", \"Not required\", COUNTRY_INFO!Z101)","v":1},0,96035.184907999981,36280,132315.184908,null,null,1,"SAC",null,{"$f":"IF($I101<>\"Yes\",$F101*2,($F101+ROUND(J101*$F101/SUM(COUNTRY_INFO!$E101:$G101),0))*2)","v":192070.36981599996},{"$f":"IF($I101<>\"Yes\",$G101*3,($G101+ROUND(J101*$G101/SUM(COUNTRY_INFO!$E101:$G101),0))*3)","v":108840},300910.36981599999,null,300910.36981599999]
[{"$f":"IF(INTRO!$E$43=\"Non-endemic\",\" \", IF(COUNTRY_INFO!A102=0,\" \",COUNTRY_INFO!A102))","v":"Angola"},{"$f":"IF(INTRO!$E$43=\"Non-endemic\",\" \", IF(COUNTRY_INFO!B102=0,\" \",COUNTRY_INFO!B102))","v":"LUANDA"},{"$f":"IF(INTRO!$E$43=\"Non-endemic\",\" \", IF(COUNTRY_INFO!C102=0,\" \",COUNTRY_INFO!C102))","v":"CACUACO"},{"$f":"IF(INTRO!$E$43=\"Non-endemic\", \"Not required\", COUNTRY_INFO!Z102)","v":1},0,79504.417290999991,30035,109539.41729099999,null,null,1,"SAC",null,{"$f":"IF($I102<>\"Yes\",$F102*2,($F102+ROUND(J102*$F102/SUM(COUNTRY_INFO!$E102:$G102),0))*2)","v":159008.83458199998},{"$f":"IF($I102<>\"Yes\",$G102*3,($G102+ROUND(J102*$G102/SUM(COUNTRY_INFO!$E102:$G102),0))*3)","v":90105},249113.83458199998,null,249113.83458199998]
[{"$f":"IF(INTRO!$E$43=\"Non-endemic\",\" \", IF(COUNTRY_INFO!A103=0,\" \",COUNTRY_INFO!A103))","v":"Angola"},{"$f":"IF(INTRO!$E$43=\"Non-endemic\",\" \", IF(COUNTRY_INFO!B103=0,\" \",COUNTRY_INFO!B103))","v":"LUANDA"},{"$f":"IF(INTRO!$E$43=\"Non-endemic\",\" \", IF(COUNTRY_INFO!C103=0,\" \",COUNTRY_INFO!C103))","v":"CAZENGA"},{"$f":"IF(INTRO!$E$43=\"Non-endemic\", \"Not required\", COUNTRY_INFO!Z103)","v":0},0,0,0,0,null,null,0,null,null,{"$f":"IF($I103<>\"Yes\",$F103*2,($F103+ROUND(J103*$F103/SUM(COUNTRY_INFO!$E103:$G103),0))*2)","v":0},{"$f":"IF($I103<>\"Yes\",$G103*3,($G103+ROUND(J103*$G103/SUM(COUNTRY_INFO!$E103:$G103),0))*3)","v":0},0,null,0]
[{"$f":"IF(INTRO!$E$43=\"Non-endemic\",\" \", IF(COUNTRY_INFO!A104=0,\" \",COUNTRY_INFO!A104))","v":"Angola"},{"$f":"IF(INTRO!$E$43=\"Non-endemic\",\" \", IF(COUNTRY_INFO!B104=0,\" \",COUNTRY_INFO!B104))","v":"LUANDA"},{"$f":"IF(INTRO!$E$43=\"Non-endemic\",\" \", IF(COUNTRY_INFO!C104=0,\" \",COUNTRY_INFO!C104))","v":"ICOLO E BENGO"},{"$f":"IF(INTRO!$E$43=\"Non-endemic\", \"Not required\", COUNTRY_INFO!Z104)","v":1},0,34568.742974999994,28049.260684999997,62618.003659999988,null,null,1,"SAC",null,{"$f":"IF($I104<>\"Yes\",$F104*2,($F104+ROUND(J104*$F104/SUM(COUNTRY_INFO!$E104:$G104),0))*2)","v":69137.485949999987},{"$f":"IF($I104<>\"Yes\",$G104*3,($G104+ROUND(J104*$G104/SUM(COUNTRY_INFO!$E104:$G104),0))*3)","v":84147.782054999989},153285.26800499996,null,153285.26800499996]
[{"$f":"IF(INTRO!$E$43=\"Non-endemic\",\" \", IF(COUNTRY_INFO!A105=0,\" \",COUNTRY_INFO!A105))","v":"Angola"},{"$f":"IF(INTRO!$E$43=\"Non-endemic\",\" \", IF(COUNTRY_INFO!B105=0,\" \",COUNTRY_INFO!B105))","v":"LUANDA"},{"$f":"IF(INTRO!$E$43=\"Non-endemic\",\" \", IF(COUNTRY_INFO!C105=0,\" \",COUNTRY_INFO!C105))","v":"KILAMBA KIAXI"},{"$f":"IF(INTRO!$E$43=\"Non-endemic\", \"Not required\", COUNTRY_INFO!Z105)","v":0},0,0,0,0,null,null,0,null,null,{"$f":"IF($I105<>\"Yes\",$F105*2,($F105+ROUND(J105*$F105/SUM(COUNTRY_INFO!$E105:$G105),0))*2)","v":0},{"$f":"IF($I105<>\"Yes\",$G105*3,($G105+ROUND(J105*$G105/SUM(COUNTRY_INFO!$E105:$G105),0))*3)","v":0},0,null,0]
[{"$f":"IF(INTRO!$E$43=\"Non-endemic\",\" \", IF(COUNTRY_INFO!A106=0,\" \",COUNTRY_INFO!A106))","v":"Angola"},{"$f":"IF(INTRO!$E$43=\"Non-endemic\",\" \", IF(COUNTRY_INFO!B106=0,\" \",COUNTRY_INFO!B106))","v":"LUANDA"},{"$f":"IF(INTRO!$E$43=\"Non-endemic\",\" \", IF(COUNTRY_INFO!C106=0,\" \",COUNTRY_INFO!C106))","v":"LUANDA"},{"$f":"IF(INTRO!$E$43=\"Non-endemic\", \"Not required\", COUNTRY_INFO!Z106)","v":0},0,0,0,0,null,null,0,null,null,{"$f":"IF($I106<>\"Yes\",$F106*2,($F106+ROUND(J106*$F106/SUM(COUNTRY_INFO!$E106:$G106),0))*2)","v":0},{"$f":"IF($I106<>\"Yes\",$G106*3,($G106+ROUND(J106*$G106/SUM(COUNTRY_INFO!$E106:$G106),0))*3)","v":0},0,null,0]
[{"$f":"IF(INTRO!$E$43=\"Non-endemic\",\" \", IF(COUNTRY_INFO!A107=0,\" \",COUNTRY_INFO!A107))","v":"Angola"},{"$f":"IF(INTRO!$E$43=\"Non-endemic\",\" \", IF(COUNTRY_INFO!B107=0,\" \",COUNTRY_INFO!B107))","v":"LUANDA"},{"$f":"IF(INTRO!$E$43=\"Non-endemic\",\" \", IF(COUNTRY_INFO!C107=0,\" \",COUNTRY_INFO!C107))","v":"QUIÇAMA"},{"$f":"IF(INTRO!$E$43=\"Non-endemic\", \"Not required\", COUNTRY_INFO!Z107)","v":1},0,9275.2868259999996,7986.7204479999991,17262.007274,null,null,1,"SAC",null,{"$f":"IF($I107<>\"Yes\",$F107*2,($F107+ROUND(J107*$F107/SUM(COUNTRY_INFO!$E107:$G107),0))*2)","v":18550.573651999999},{"$f":"IF($I107<>\"Yes\",$G107*3,($G107+ROUND(J107*$G107/SUM(COUNTRY_INFO!$E107:$G107),0))*3)","v":23960.161343999996},42510.734995999999,null,42510.734995999999]
[{"$f":"IF(INTRO!$E$43=\"Non-endemic\",\" \", IF(COUNTRY_INFO!A108=0,\" \",COUNTRY_INFO!A108))","v":"Angola"},{"$f":"IF(INTRO!$E$43=\"Non-endemic\",\" \", IF(COUNTRY_INFO!B108=0,\" \",COUNTRY_INFO!B108))","v":"LUANDA"},{"$f":"IF(INTRO!$E$43=\"Non-endemic\",\" \", IF(COUNTRY_INFO!C108=0,\" \",COUNTRY_INFO!C108))","v":"TALATONA"},{"$f":"IF(INTRO!$E$43=\"Non-endemic\", \"Not required\", COUNTRY_INFO!Z108)","v":0},0,0,0,0,null,null,1,"SAC",null,{"$f":"IF($I108<>\"Yes\",$F108*2,($F108+ROUND(J108*$F108/SUM(COUNTRY_INFO!$E108:$G108),0))*2)","v":0},{"$f":"IF($I108<>\"Yes\",$G108*3,($G108+ROUND(J108*$G108/SUM(COUNTRY_INFO!$E108:$G108),0))*3)","v":0},0,null,0]
[{"$f":"IF(INTRO!$E$43=\"Non-endemic\",\" \", IF(COUNTRY_INFO!A109=0,\" \",COUNTRY_INFO!A109))","v":"Angola"},{"$f":"IF(INTRO!$E$43=\"Non-endemic\",\" \", IF(COUNTRY_INFO!B109=0,\" \",COUNTRY_INFO!B109))","v":"LUANDA"},{"$f":"IF(INTRO!$E$43=\"Non-endemic\",\" \", IF(COUNTRY_INFO!C109=0,\" \",COUNTRY_INFO!C109))","v":"VIANA"},{"$f":"IF(INTRO!$E$43=\"Non-endemic\", \"Not required\", COUNTRY_INFO!Z109)","v":1},0,8747.9223259999999,3305,12052.922326,null,null,1,"SAC",null,{"$f":"IF($I109<>\"Yes\",$F109*2,($F109+ROUND(J109*$F109/SUM(COUNTRY_INFO!$E109:$G109),0))*2)","v":17495.844652},{"$f":"IF($I109<>\"Yes\",$G109*3,($G109+ROUND(J109*$G109/SUM(COUNTRY_INFO!$E109:$G109),0))*3)","v":9915},27410.844652,null,27410.844652]
[{"$f":"IF(INTRO!$E$43=\"Non-endemic\",\" \", IF(COUNTRY_INFO!A110=0,\" \",COUNTRY_INFO!A110))","v":"Angola"},{"$f":"IF(INTRO!$E$43=\"Non-endemic\",\" \", IF(COUNTRY_INFO!B110=0,\" \",COUNTRY_INFO!B110))","v":"LUNDA NORTE"},{"$f":"IF(INTRO!$E$43=\"Non-endemic\",\" \", IF(COUNTRY_INFO!C110=0,\" \",COUNTRY_INFO!C110))","v":"CAMBULO"},{"$f":"IF(INTRO!$E$43=\"Non-endemic\", \"Not required\", COUNTRY_INFO!Z110)","v":0},0,0,0,0,null,null,1,"SAC",null,{"$f":"IF($I110<>\"Yes\",$F110*2,($F110+ROUND(J110*$F110/SUM(COUNTRY_INFO!$E110:$G110),0))*2)","v":0},{"$f":"IF($I110<>\"Yes\",$G110*3,($G110+ROUND(J110*$G110/SUM(COUNTRY_INFO!$E110:$G110),0))*3)","v":0},0,null,0]
[{"$f":"IF(INTRO!$E$43=\"Non-endemic\",\" \", IF(COUNTRY_INFO!A111=0,\" \",COUNTRY_INFO!A111))","v":"Angola"},{"$f":"IF(INTRO!$E$43=\"Non-endemic\",\" \", IF(COUNTRY_INFO!B111=0,\" \",COUNTRY_INFO!B111))","v":"LUNDA NORTE"},{"$f":"IF(INTRO!$E$43=\"Non-endemic\",\" \", IF(COUNTRY_INFO!C111=0,\" \",COUNTRY_INFO!C111))","v":"CAPENDA CAMULEMBA"},{"$f":"IF(INTRO!$E$43=\"Non-endemic\", \"Not required\", COUNTRY_INFO!Z111)","v":0},0,0,0,0,null,null,1,"SAC",null,{"$f":"IF($I111<>\"Yes\",$F111*2,($F111+ROUND(J111*$F111/SUM(COUNTRY_INFO!$E111:$G111),0))*2)","v":0},{"$f":"IF($I111<>\"Yes\",$G111*3,($G111+ROUND(J111*$G111/SUM(COUNTRY_INFO!$E111:$G111),0))*3)","v":0},0,null,0]
[{"$f":"IF(INTRO!$E$43=\"Non-endemic\",\" \", IF(COUNTRY_INFO!A112=0,\" \",COUNTRY_INFO!A112))","v":"Angola"},{"$f":"IF(INTRO!$E$43=\"Non-endemic\",\" \", IF(COUNTRY_INFO!B112=0,\" \",COUNTRY_INFO!B112))","v":"LUNDA NORTE"},{"$f":"IF(INTRO!$E$43=\"Non-endemic\",\" \", IF(COUNTRY_INFO!C112=0,\" \",COUNTRY_INFO!C112))","v":"CAUNGULA"},{"$f":"IF(INTRO!$E$43=\"Non-endemic\", \"Not required\", COUNTRY_INFO!Z112)","v":0},0,0,0,0,null,null,1,"SAC",null,{"$f":"IF($I112<>\"Yes\",$F112*2,($F112+ROUND(J112*$F112/SUM(COUNTRY_INFO!$E112:$G112),0))*2)","v":0},{"$f":"IF($I112<>\"Yes\",$G112*3,($G112+ROUND(J112*$G112/SUM(COUNTRY_INFO!$E112:$G112),0))*3)","v":0},0,null,0]
[{"$f":"IF(INTRO!$E$43=\"Non-endemic\",\" \", IF(COUNTRY_INFO!A113=0,\" \",COUNTRY_INFO!A113))","v":"Angola"},{"$f":"IF(INTRO!$E$43=\"Non-endemic\",\" \", IF(COUNTRY_INFO!B113=0,\" \",COUNTRY_INFO!B113))","v":"LUNDA NORTE"},{"$f":"IF(INTRO!$E$43=\"Non-endemic\",\" \", IF(COUNTRY_INFO!C113=0,\" \",COUNTRY_INFO!C113))","v":"CHITATO"},{"$f":"IF(INTRO!$E$43=\"Non-endemic\", \"Not required\", COUNTRY_INFO!Z113)","v":0},0,0,0,0,null,null,1,"SAC",null,{"$f":"IF($I113<>\"Yes\",$F113*2,($F113+ROUND(J113*$F113/SUM(COUNTRY_INFO!$E113:$G113),0))*2)","v":0},{"$f":"IF($I113<>\"Yes\",$G113*3,($G113+ROUND(J113*$G113/SUM(COUNTRY_INFO!$E113:$G113),0))*3)","v":0},0,null,0]
[{"$f":"IF(INTRO!$E$43=\"Non-endemic\",\" \", IF(COUNTRY_INFO!A114=0,\" \",COUNTRY_INFO!A114))","v":"Angola"},{"$f":"IF(INTRO!$E$43=\"Non-endemic\",\" \", IF(COUNTRY_INFO!B114=0,\" \",COUNTRY_INFO!B114))","v":"LUNDA NORTE"},{"$f":"IF(INTRO!$E$43=\"Non-endemic\",\" \", IF(COUNTRY_INFO!C114=0,\" \",COUNTRY_INFO!C114))","v":"CUANGO"},{"$f":"IF(INTRO!$E$43=\"Non-endemic\", \"Not required\", COUNTRY_INFO!Z114)","v":1},0,58238.97119299999,22001,80239.97119299999,null,null,1,"SAC",null,{"$f":"IF($I114<>\"Yes\",$F114*2,($F114+ROUND(J114*$F114/SUM(COUNTRY_INFO!$E114:$G114),0))*2)","v":116477.94238599998},{"$f":"IF($I114<>\"Yes\",$G114*3,($G114+ROUND(J114*$G114/SUM(COUNTRY_INFO!$E114:$G114),0))*3)","v":66003},182480.94238599998,null,182480.94238599998]
[{"$f":"IF(INTRO!$E$43=\"Non-endemic\",\" \", IF(COUNTRY_INFO!A115=0,\" \",COUNTRY_INFO!A115))","v":"Angola"},{"$f":"IF(INTRO!$E$43=\"Non-endemic\",\" \", IF(COUNTRY_INFO!B115=0,\" \",COUNTRY_INFO!B115))","v":"LUNDA NORTE"},{"$f":"IF(INTRO!$E$43=\"Non-endemic\",\" \", IF(COUNTRY_INFO!C115=0,\" \",COUNTRY_INFO!C115))","v":"CUILO"},{"$f":"IF(INTRO!$E$43=\"Non-endemic\", \"Not required\", COUNTRY_INFO!Z115)","v":0},0,0,0,0,null,null,1,"SAC",null,{"$f":"IF($I115<>\"Yes\",$F115*2,($F115+ROUND(J115*$F115/SUM(COUNTRY_INFO!$E115:$G115),0))*2)","v":0},{"$f":"IF($I115<>\"Yes\",$G115*3,($G115+ROUND(J115*$G115/SUM(COUNTRY_INFO!$E115:$G115),0))*3)","v":0},0,null,0]
[{"$f":"IF(INTRO!$E$43=\"Non-endemic\",\" \", IF(COUNTRY_INFO!A116=0,\" \",COUNTRY_INFO!A116))","v":"Angola"},{"$f":"IF(INTRO!$E$43=\"Non-endemic\",\" \", IF(COUNTRY_INFO!B116=0,\" \",COUNTRY_INFO!B116))","v":"LUNDA NORTE"},{"$f":"IF(INTRO!$E$43=\"Non-endemic\",\" \", IF(COUNTRY_INFO!C116=0,\" \",COUNTRY_INFO!C116))","v":"LOVUA"},{"$f":"IF(INTRO!$E$43=\"Non-endemic\", \"Not required\", COUNTRY_INFO!Z116)","v":0},0,0,0,0,null,null,1,"SAC",null,{"$f":"IF($I116<>\"Yes\",$F116*2,($F116+ROUND(J116*$F116/SUM(COUNTRY_INFO!$E116:$G116),0))*2)","v":0},{"$f":"IF($I116<>\"Yes\",$G116*3,($G116+ROUND(J116*$G116/SUM(COUNTRY_INFO!$E116:$G116),0))*3)","v":0},0,null,0]
[{"$f":"IF(INTRO!$E$43=\"Non-endemic\",\" \", IF(COUNTRY_INFO!A117=0,\" \",COUNTRY_INFO!A117))","v":"Angola"},{"$f":"IF(INTRO!$E$43=\"Non-endemic\",\" \", IF(COUNTRY_INFO!B117=0,\" \",COUNTRY_INFO!B117))","v":"LUNDA NORTE"},{"$f":"IF(INTRO!$E$43=\"Non-endemic\",\" \", IF(COUNTRY_INFO!C117=0,\" \",COUNTRY_INFO!C117))","v":"LUBALO"},{"$f":"IF(INTRO!$E$43=\"Non-endemic\", \"Not required\", COUNTRY_INFO!Z117)","v":0},0,0,0,0,null,null,1,"SAC",null,{"$f":"IF($I117<>\"Yes\",$F117*2,($F117+ROUND(J117*$F117/SUM(COUNTRY_INFO!$E117:$G117),0))*2)","v":0},{"$f":"IF($I117<>\"Yes\",$G117*3,($G117+ROUND(J117*$G117/SUM(COUNTRY_INFO!$E117:$G117),0))*3)","v":0},0,null,0]
[{"$f":"IF(INTRO!$E$43=\"Non-endemic\",\" \", IF(COUNTRY_INFO!A118=0,\" \",COUNTRY_INFO!A118))","v":"Angola"},{"$f":"IF(INTRO!$E$43=\"Non-endemic\",\" \", IF(COUNTRY_INFO!B118=0,\" \",COUNTRY_INFO!B118))","v":"LUNDA NORTE"},{"$f":"IF(INTRO!$E$43=\"Non-endemic\",\" \", IF(COUNTRY_INFO!C118=0,\" \",COUNTRY_INFO!C118))","v":"LUCAPA"},{"$f":"IF(INTRO!$E$43=\"Non-endemic\", \"Not required\", COUNTRY_INFO!Z118)","v":0},0,0,0,0,null,null,1,"SAC",null,{"$f":"IF($I118<>\"Yes\",$F118*2,($F118+ROUND(J118*$F118/SUM(COUNTRY_INFO!$E118:$G118),0))*2)","v":0},{"$f":"IF($I118<>\"Yes\",$G118*3,($G118+ROUND(J118*$G118/SUM(COUNTRY_INFO!$E118:$G118),0))*3)","v":0},0,null,0]
[{"$f":"IF(INTRO!$E$43=\"Non-endemic\",\" \", IF(COUNTRY_INFO!A119=0,\" \",COUNTRY_INFO!A119))","v":"Angola"},{"$f":"IF(INTRO!$E$43=\"Non-endemic\",\" \", IF(COUNTRY_INFO!B119=0,\" \",COUNTRY_INFO!B119))","v":"LUNDA NORTE"},{"$f":"IF(INTRO!$E$43=\"Non-endemic\",\" \", IF(COUNTRY_INFO!C119=0,\" \",COUNTRY_INFO!C119))","v":"XA MUTEBA"},{"$f":"IF(INTRO!$E$43=\"Non-endemic\", \"Not required\", COUNTRY_INFO!Z119)","v":1},0,17371.386629999994,6563,23934.386629999994,null,null,1,"SAC",null,{"$f":"IF($I119<>\"Yes\",$F119*2,($F119+ROUND(J119*$F119/SUM(COUNTRY_INFO!$E119:$G119),0))*2)","v":34742.773259999987},{"$f":"IF($I119<>\"Yes\",$G119*3,($G119+ROUND(J119*$G119/SUM(COUNTRY_INFO!$E119:$G119),0))*3)","v":19689},54431.773259999987,null,54431.773259999987]
[{"$f":"IF(INTRO!$E$43=\"Non-endemic\",\" \", IF(COUNTRY_INFO!A120=0,\" \",COUNTRY_INFO!A120))","v":"Angola"},{"$f":"IF(INTRO!$E$43=\"Non-endemic\",\" \", IF(COUNTRY_INFO!B120=0,\" \",COUNTRY_INFO!B120))","v":"LUNDA SUL"},{"$f":"IF(INTRO!$E$43=\"Non-endemic\",\" \", IF(COUNTRY_INFO!C120=0,\" \",COUNTRY_INFO!C120))","v":"CACOLO"},{"$f":"IF(INTRO!$E$43=\"Non-endemic\", \"Not required\", COUNTRY_INFO!Z120)","v":1},0,1217.1572659999997,2298.2544909999992,3515.4117569999989,null,null,0,null,null,{"$f":"IF($I120<>\"Yes\",$F120*2,($F120+ROUND(J120*$F120/SUM(COUNTRY_INFO!$E120:$G120),0))*2)","v":2434.3145319999994},{"$f":"IF($I120<>\"Yes\",$G120*3,($G120+ROUND(J120*$G120/SUM(COUNTRY_INFO!$E120:$G120),0))*3)","v":6894.7634729999972},9329.0780049999958,null,9329.0780049999958]
[{"$f":"IF(INTRO!$E$43=\"Non-endemic\",\" \", IF(COUNTRY_INFO!A121=0,\" \",COUNTRY_INFO!A121))","v":"Angola"},{"$f":"IF(INTRO!$E$43=\"Non-endemic\",\" \", IF(COUNTRY_INFO!B121=0,\" \",COUNTRY_INFO!B121))","v":"LUNDA SUL"},{"$f":"IF(INTRO!$E$43=\"Non-endemic\",\" \", IF(COUNTRY_INFO!C121=0,\" \",COUNTRY_INFO!C121))","v":"DALA"},{"$f":"IF(INTRO!$E$43=\"Non-endemic\", \"Not required\", COUNTRY_INFO!Z121)","v":0},0,0,0,0,null,null,0,null,null,{"$f":"IF($I121<>\"Yes\",$F121*2,($F121+ROUND(J121*$F121/SUM(COUNTRY_INFO!$E121:$G121),0))*2)","v":0},{"$f":"IF($I121<>\"Yes\",$G121*3,($G121+ROUND(J121*$G121/SUM(COUNTRY_INFO!$E121:$G121),0))*3)","v":0},0,null,0]
[{"$f":"IF(INTRO!$E$43=\"Non-endemic\",\" \", IF(COUNTRY_INFO!A122=0,\" \",COUNTRY_INFO!A122))","v":"Angola"},{"$f":"IF(INTRO!$E$43=\"Non-endemic\",\" \", IF(COUNTRY_INFO!B122=0,\" \",COUNTRY_INFO!B122))","v":"LUNDA SUL"},{"$f":"IF(INTRO!$E$43=\"Non-endemic\",\" \", IF(COUNTRY_INFO!C122=0,\" \",COUNTRY_INFO!C122))","v":"MUCONDA"},{"$f":"IF(INTRO!$E$43=\"Non-endemic\", \"Not required\", COUNTRY_INFO!Z122)","v":0},0,0,0,0,null,null,0,null,null,{"$f":"IF($I122<>\"Yes\",$F122*2,($F122+ROUND(J122*$F122/SUM(COUNTRY_INFO!$E122:$G122),0))*2)","v":0},{"$f":"IF($I122<>\"Yes\",$G122*3,($G122+ROUND(J122*$G122/SUM(COUNTRY_INFO!$E122:$G122),0))*3)","v":0},0,null,0]
[{"$f":"IF(INTRO!$E$43=\"Non-endemic\",\" \", IF(COUNTRY_INFO!A123=0,\" \",COUNTRY_INFO!A123))","v":"Angola"},{"$f":"IF(INTRO!$E$43=\"Non-endemic\",\" \", IF(COUNTRY_INFO!B123=0,\" \",COUNTRY_INFO!B123))","v":"LUNDA SUL"},{"$f":"IF(INTRO!$E$43=\"Non-endemic\",\" \", IF(COUNTRY_INFO!C123=0,\" \",COUNTRY_INFO!C123))","v":"SAURIMO"},{"$f":"IF(INTRO!$E$43=\"Non-endemic\", \"Not required\", COUNTRY_INFO!Z123)","v":0},0,0,0,0,null,null,0,null,null,{"$f":"IF($I123<>\"Yes\",$F123*2,($F123+ROUND(J123*$F123/SUM(COUNTRY_INFO!$E123:$G123),0))*2)","v":0},{"$f":"IF($I123<>\"Yes\",$G123*3,($G123+ROUND(J123*$G123/SUM(COUNTRY_INFO!$E123:$G123),0))*3)","v":0},0,null,0]
[{"$f":"IF(INTRO!$E$43=\"Non-endemic\",\" \", IF(COUNTRY_INFO!A124=0,\" \",COUNTRY_INFO!A124))","v":"Angola"},{"$f":"IF(INTRO!$E$43=\"Non-endemic\",\" \", IF(COUNTRY_INFO!B124=0,\" \",COUNTRY_INFO!B124))","v":"MALANJE"},{"$f":"IF(INTRO!$E$43=\"Non-endemic\",\" \", IF(COUNTRY_INFO!C124=0,\" \",COUNTRY_INFO!C124))","v":"CACULAMA (Mukari)"},{"$f":"IF(INTRO!$E$43=\"Non-endemic\", \"Not required\", COUNTRY_INFO!Z124)","v":1},0,8867.1067029999977,3350,12217.106702999998,null,null,1,"SAC",null,{"$f":"IF($I124<>\"Yes\",$F124*2,($F124+ROUND(J124*$F124/SUM(COUNTRY_INFO!$E124:$G124),0))*2)","v":17734.213405999995},{"$f":"IF($I124<>\"Yes\",$G124*3,($G124+ROUND(J124*$G124/SUM(COUNTRY_INFO!$E124:$G124),0))*3)","v":10050},27784.213405999995,null,27784.213405999995]
[{"$f":"IF(INTRO!$E$43=\"Non-endemic\",\" \", IF(COUNTRY_INFO!A125=0,\" \",COUNTRY_INFO!A125))","v":"Angola"},{"$f":"IF(INTRO!$E$43=\"Non-endemic\",\" \", IF(COUNTRY_INFO!B125=0,\" \",COUNTRY_INFO!B125))","v":"MALANJE"},{"$f":"IF(INTRO!$E$43=\"Non-endemic\",\" \", IF(COUNTRY_INFO!C125=0,\" \",COUNTRY_INFO!C125))","v":"CACUSO"},{"$f":"IF(INTRO!$E$43=\"Non-endemic\", \"Not required\", COUNTRY_INFO!Z125)","v":1},0,24554.091119999997,9275,33829.091119999997,null,null,1,"SAC",null,{"$f":"IF($I125<>\"Yes\",$F125*2,($F125+ROUND(J125*$F125/SUM(COUNTRY_INFO!$E125:$G125),0))*2)","v":49108.182239999995},{"$f":"IF($I125<>\"Yes\",$G125*3,($G125+ROUND(J125*$G125/SUM(COUNTRY_INFO!$E125:$G125),0))*3)","v":27825},76933.182239999995,null,76933.182239999995]
[{"$f":"IF(INTRO!$E$43=\"Non-endemic\",\" \", IF(COUNTRY_INFO!A126=0,\" \",COUNTRY_INFO!A126))","v":"Angola"},{"$f":"IF(INTRO!$E$43=\"Non-endemic\",\" \", IF(COUNTRY_INFO!B126=0,\" \",COUNTRY_INFO!B126))","v":"MALANJE"},{"$f":"IF(INTRO!$E$43=\"Non-endemic\",\" \", IF(COUNTRY_INFO!C126=0,\" \",COUNTRY_INFO!C126))","v":"CAHOMBO"},{"$f":"IF(INTRO!$E$43=\"Non-endemic\", \"Not required\", COUNTRY_INFO!Z126)","v":1},0,5984.532346,7106.3086469999989,13090.840992999998,null,null,1,"SAC",null,{"$f":"IF($I126<>\"Yes\",$F126*2,($F126+ROUND(J126*$F126/SUM(COUNTRY_INFO!$E126:$G126),0))*2)","v":11969.064692},{"$f":"IF($I126<>\"Yes\",$G126*3,($G126+ROUND(J126*$G126/SUM(COUNTRY_INFO!$E126:$G126),0))*3)","v":21318.925940999998},33287.990632999994,null,33287.990632999994]
[{"$f":"IF(INTRO!$E$43=\"Non-endemic\",\" \", IF(COUNTRY_INFO!A127=0,\" \",COUNTRY_INFO!A127))","v":"Angola"},{"$f":"IF(INTRO!$E$43=\"Non-endemic\",\" \", IF(COUNTRY_INFO!B127=0,\" \",COUNTRY_INFO!B127))","v":"MALANJE"},{"$f":"IF(INTRO!$E$43=\"Non-endemic\",\" \", IF(COUNTRY_INFO!C127=0,\" \",COUNTRY_INFO!C127))","v":"CALANDULA"},{"$f":"IF(INTRO!$E$43=\"Non-endemic\", \"Not required\", COUNTRY_INFO!Z127)","v":1},0,25039.266459999995,21449.808547999997,46489.075007999993,null,null,0,null,null,{"$f":"IF($I127<>\"Yes\",$F127*2,($F127+ROUND(J127*$F127/SUM(COUNTRY_INFO!$E127:$G127),0))*2)","v":50078.532919999991},{"$f":"IF($I127<>\"Yes\",$G127*3,($G127+ROUND(J127*$G127/SUM(COUNTRY_INFO!$E127:$G127),0))*3)","v":64349.425643999988},114427.95856399997,null,114427.95856399997]
[{"$f":"IF(INTRO!$E$43=\"Non-endemic\",\" \", IF(COUNTRY_INFO!A128=0,\" \",COUNTRY_INFO!A128))","v":"Angola"},{"$f":"IF(INTRO!$E$43=\"Non-endemic\",\" \", IF(COUNTRY_INFO!B128=0,\" \",COUNTRY_INFO!B128))","v":"MALANJE"},{"$f":"IF(INTRO!$E$43=\"Non-endemic\",\" \", IF(COUNTRY_INFO!C128=0,\" \",COUNTRY_INFO!C128))","v":"CAMBUNDI CATEMBO"},{"$f":"IF(INTRO!$E$43=\"Non-endemic\", \"Not required\", COUNTRY_INFO!Z128)","v":1},0,15266.147545999997,5767,21033.147545999997,null,null,0,null,null,{"$f":"IF($I128<>\"Yes\",$F128*2,($F128+ROUND(J128*$F128/SUM(COUNTRY_INFO!$E128:$G128),0))*2)","v":30532.295091999993},{"$f":"IF($I128<>\"Yes\",$G128*3,($G128+ROUND(J128*$G128/SUM(COUNTRY_INFO!$E128:$G128),0))*3)","v":17301},47833.295091999993,null,47833.295091999993]
[{"$f":"IF(INTRO!$E$43=\"Non-endemic\",\" \", IF(COUNTRY_INFO!A129=0,\" \",COUNTRY_INFO!A129))","v":"Angola"},{"$f":"IF(INTRO!$E$43=\"Non-endemic\",\" \", IF(COUNTRY_INFO!B129=0,\" \",COUNTRY_INFO!B129))","v":"MALANJE"},{"$f":"IF(INTRO!$E$43=\"Non-endemic\",\" \", IF(COUNTRY_INFO!C129=0,\" \",COUNTRY_INFO!C129))","v":"CANGANDALA"},{"$f":"IF(INTRO!$E$43=\"Non-endemic\", \"Not required\", COUNTRY_INFO!Z129)","v":1},0,16304.000881999998,23805.492847999998,40109.493729999995,null,null,1,"SAC",null,{"$f":"IF($I129<>\"Yes\",$F129*2,($F129+ROUND(J129*$F129/SUM(COUNTRY_INFO!$E129:$G129),0))*2)","v":32608.001763999997},{"$f":"IF($I129<>\"Yes\",$G129*3,($G129+ROUND(J129*$G129/SUM(COUNTRY_INFO!$E129:$G129),0))*3)","v":71416.478543999998},104024.480308,null,104024.480308]
[{"$f":"IF(INTRO!$E$43=\"Non-endemic\",\" \", IF(COUNTRY_INFO!A130=0,\" \",COUNTRY_INFO!A130))","v":"Angola"},{"$f":"IF(INTRO!$E$43=\"Non-endemic\",\" \", IF(COUNTRY_INFO!B130=0,\" \",COUNTRY_INFO!B130))","v":"MALANJE"},{"$f":"IF(INTRO!$E$43=\"Non-endemic\",\" \", IF(COUNTRY_INFO!C130=0,\" \",COUNTRY_INFO!C130))","v":"KIWABA NZOJI"},{"$f":"IF(INTRO!$E$43=\"Non-endemic\", \"Not required\", COUNTRY_INFO!Z130)","v":0},0,0,0,0,null,null,0,null,null,{"$f":"IF($I130<>\"Yes\",$F130*2,($F130+ROUND(J130*$F130/SUM(COUNTRY_INFO!$E130:$G130),0))*2)","v":0},{"$f":"IF($I130<>\"Yes\",$G130*3,($G130+ROUND(J130*$G130/SUM(COUNTRY_INFO!$E130:$G130),0))*3)","v":0},0,null,0]
[{"$f":"IF(INTRO!$E$43=\"Non-endemic\",\" \", IF(COUNTRY_INFO!A131=0,\" \",COUNTRY_INFO!A131))","v":"Angola"},{"$f":"IF(INTRO!$E$43=\"Non-endemic\",\" \", IF(COUNTRY_INFO!B131=0,\" \",COUNTRY_INFO!B131))","v":"MALANJE"},{"$f":"IF(INTRO!$E$43=\"Non-endemic\",\" \", IF(COUNTRY_INFO!C131=0,\" \",COUNTRY_INFO!C131))","v":"KUNDA DYA BASE"},{"$f":"IF(INTRO!$E$43=\"Non-endemic\", \"Not required\", COUNTRY_INFO!Z131)","v":1},0,4560.6481959999992,1723,6283.6481959999992,null,null,0,null,null,{"$f":"IF($I131<>\"Yes\",$F131*2,($F131+ROUND(J131*$F131/SUM(COUNTRY_INFO!$E131:$G131),0))*2)","v":9121.2963919999984},{"$f":"IF($I131<>\"Yes\",$G131*3,($G131+ROUND(J131*$G131/SUM(COUNTRY_INFO!$E131:$G131),0))*3)","v":5169},14290.296391999998,null,14290.296391999998]
[{"$f":"IF(INTRO!$E$43=\"Non-endemic\",\" \", IF(COUNTRY_INFO!A132=0,\" \",COUNTRY_INFO!A132))","v":"Angola"},{"$f":"IF(INTRO!$E$43=\"Non-endemic\",\" \", IF(COUNTRY_INFO!B132=0,\" \",COUNTRY_INFO!B132))","v":"MALANJE"},{"$f":"IF(INTRO!$E$43=\"Non-endemic\",\" \", IF(COUNTRY_INFO!C132=0,\" \",COUNTRY_INFO!C132))","v":"LUQUEMBO"},{"$f":"IF(INTRO!$E$43=\"Non-endemic\", \"Not required\", COUNTRY_INFO!Z132)","v":1},0,13565.924397999997,8720.200268999999,22286.124666999996,null,null,0,null,null,{"$f":"IF($I132<>\"Yes\",$F132*2,($F132+ROUND(J132*$F132/SUM(COUNTRY_INFO!$E132:$G132),0))*2)","v":27131.848795999995},{"$f":"IF($I132<>\"Yes\",$G132*3,($G132+ROUND(J132*$G132/SUM(COUNTRY_INFO!$E132:$G132),0))*3)","v":26160.600806999995},53292.449602999986,null,53292.449602999986]
[{"$f":"IF(INTRO!$E$43=\"Non-endemic\",\" \", IF(COUNTRY_INFO!A133=0,\" \",COUNTRY_INFO!A133))","v":"Angola"},{"$f":"IF(INTRO!$E$43=\"Non-endemic\",\" \", IF(COUNTRY_INFO!B133=0,\" \",COUNTRY_INFO!B133))","v":"MALANJE"},{"$f":"IF(INTRO!$E$43=\"Non-endemic\",\" \", IF(COUNTRY_INFO!C133=0,\" \",COUNTRY_INFO!C133))","v":"MALANJE"},{"$f":"IF(INTRO!$E$43=\"Non-endemic\", \"Not required\", COUNTRY_INFO!Z133)","v":1},0,180078.10108599998,338799.53609999997,518877.63718599995,null,null,1,"SAC",null,{"$f":"IF($I133<>\"Yes\",$F133*2,($F133+ROUND(J133*$F133/SUM(COUNTRY_INFO!$E133:$G133),0))*2)","v":360156.20217199996},{"$f":"IF($I133<>\"Yes\",$G133*3,($G133+ROUND(J133*$G133/SUM(COUNTRY_INFO!$E133:$G133),0))*3)","v":1016398.6083},1376554.8104719999,null,1376554.8104719999]
[{"$f":"IF(INTRO!$E$43=\"Non-endemic\",\" \", IF(COUNTRY_INFO!A134=0,\" \",COUNTRY_INFO!A134))","v":"Angola"},{"$f":"IF(INTRO!$E$43=\"Non-endemic\",\" \", IF(COUNTRY_INFO!B134=0,\" \",COUNTRY_INFO!B134))","v":"MALANJE"},{"$f":"IF(INTRO!$E$43=\"Non-endemic\",\" \", IF(COUNTRY_INFO!C134=0,\" \",COUNTRY_INFO!C134))","v":"MARIMBA"},{"$f":"IF(INTRO!$E$43=\"Non-endemic\", \"Not required\", COUNTRY_INFO!Z134)","v":1},0,9460.9191299999984,3574,13034.919129999998,null,null,1,"SAC",null,{"$f":"IF($I134<>\"Yes\",$F134*2,($F134+ROUND(J134*$F134/SUM(COUNTRY_INFO!$E134:$G134),0))*2)","v":18921.838259999997},{"$f":"IF($I134<>\"Yes\",$G134*3,($G134+ROUND(J134*$G134/SUM(COUNTRY_INFO!$E134:$G134),0))*3)","v":10722},29643.838259999997,null,29643.838259999997]
[{"$f":"IF(INTRO!$E$43=\"Non-endemic\",\" \", IF(COUNTRY_INFO!A135=0,\" \",COUNTRY_INFO!A135))","v":"Angola"},{"$f":"IF(INTRO!$E$43=\"Non-endemic\",\" \", IF(COUNTRY_INFO!B135=0,\" \",COUNTRY_INFO!B135))","v":"MALANJE"},{"$f":"IF(INTRO!$E$43=\"Non-endemic\",\" \", IF(COUNTRY_INFO!C135=0,\" \",COUNTRY_INFO!C135))","v":"MASSANGO"},{"$f":"IF(INTRO!$E$43=\"Non-endemic\", \"Not required\", COUNTRY_INFO!Z135)","v":0},0,0,0,0,null,null,0,null,null,{"$f":"IF($I135<>\"Yes\",$F135*2,($F135+ROUND(J135*$F135/SUM(COUNTRY_INFO!$E135:$G135),0))*2)","v":0},{"$f":"IF($I135<>\"Yes\",$G135*3,($G135+ROUND(J135*$G135/SUM(COUNTRY_INFO!$E135:$G135),0))*3)","v":0},0,null,0]
[{"$f":"IF(INTRO!$E$43=\"Non-endemic\",\" \", IF(COUNTRY_INFO!A136=0,\" \",COUNTRY_INFO!A136))","v":"Angola"},{"$f":"IF(INTRO!$E$43=\"Non-endemic\",\" \", IF(COUNTRY_INFO!B136=0,\" \",COUNTRY_INFO!B136))","v":"MALANJE"},{"$f":"IF(INTRO!$E$43=\"Non-endemic\",\" \", IF(COUNTRY_INFO!C136=0,\" \",COUNTRY_INFO!C136))","v":"QUELA"},{"$f":"IF(INTRO!$E$43=\"Non-endemic\", \"Not required\", COUNTRY_INFO!Z136)","v":1},0,315.36397099999994,119,434.36397099999994,null,null,0,null,null,{"$f":"IF($I136<>\"Yes\",$F136*2,($F136+ROUND(J136*$F136/SUM(COUNTRY_INFO!$E136:$G136),0))*2)","v":630.72794199999987},{"$f":"IF($I136<>\"Yes\",$G136*3,($G136+ROUND(J136*$G136/SUM(COUNTRY_INFO!$E136:$G136),0))*3)","v":357},987.72794199999987,null,987.72794199999987]
[{"$f":"IF(INTRO!$E$43=\"Non-endemic\",\" \", IF(COUNTRY_INFO!A137=0,\" \",COUNTRY_INFO!A137))","v":"Angola"},{"$f":"IF(INTRO!$E$43=\"Non-endemic\",\" \", IF(COUNTRY_INFO!B137=0,\" \",COUNTRY_INFO!B137))","v":"MALANJE"},{"$f":"IF(INTRO!$E$43=\"Non-endemic\",\" \", IF(COUNTRY_INFO!C137=0,\" \",COUNTRY_INFO!C137))","v":"QUIRIMA"},{"$f":"IF(INTRO!$E$43=\"Non-endemic\", \"Not required\", COUNTRY_INFO!Z137)","v":1},0,4921.3655139999992,1859,6780.3655139999992,null,null,0,null,null,{"$f":"IF($I137<>\"Yes\",$F137*2,($F137+ROUND(J137*$F137/SUM(COUNTRY_INFO!$E137:$G137),0))*2)","v":9842.7310279999983},{"$f":"IF($I137<>\"Yes\",$G137*3,($G137+ROUND(J137*$G137/SUM(COUNTRY_INFO!$E137:$G137),0))*3)","v":5577},15419.731027999998,null,15419.731027999998]
[{"$f":"IF(INTRO!$E$43=\"Non-endemic\",\" \", IF(COUNTRY_INFO!A138=0,\" \",COUNTRY_INFO!A138))","v":"Angola"},{"$f":"IF(INTRO!$E$43=\"Non-endemic\",\" \", IF(COUNTRY_INFO!B138=0,\" \",COUNTRY_INFO!B138))","v":"MOXICO"},{"$f":"IF(INTRO!$E$43=\"Non-endemic\",\" \", IF(COUNTRY_INFO!C138=0,\" \",COUNTRY_INFO!C138))","v":"ALTO ZAMBEZE"},{"$f":"IF(INTRO!$E$43=\"Non-endemic\", \"Not required\", COUNTRY_INFO!Z138)","v":1},0,34198.533095999992,19752.195441999997,53950.728537999988,null,null,0,null,null,{"$f":"IF($I138<>\"Yes\",$F138*2,($F138+ROUND(J138*$F138/SUM(COUNTRY_INFO!$E138:$G138),0))*2)","v":68397.066191999984},{"$f":"IF($I138<>\"Yes\",$G138*3,($G138+ROUND(J138*$G138/SUM(COUNTRY_INFO!$E138:$G138),0))*3)","v":59256.58632599999},127653.65251799997,null,127653.65251799997]
[{"$f":"IF(INTRO!$E$43=\"Non-endemic\",\" \", IF(COUNTRY_INFO!A139=0,\" \",COUNTRY_INFO!A139))","v":"Angola"},{"$f":"IF(INTRO!$E$43=\"Non-endemic\",\" \", IF(COUNTRY_INFO!B139=0,\" \",COUNTRY_INFO!B139))","v":"MOXICO"},{"$f":"IF(INTRO!$E$43=\"Non-endemic\",\" \", IF(COUNTRY_INFO!C139=0,\" \",COUNTRY_INFO!C139))","v":"BUNDAS (LUMBALA NGUIMBO)"},{"$f":"IF(INTRO!$E$43=\"Non-endemic\", \"Not required\", COUNTRY_INFO!Z139)","v":1},0,10996.604553999998,4154,{"$f":"SUM(E139:G139)","v":15150.604553999998},null,null,0,null,null,{"$f":"IF($I139<>\"Yes\",$F139*2,($F139+ROUND(J139*$F139/SUM(COUNTRY_INFO!$E139:$G139),0))*2)","v":21993.209107999995},{"$f":"IF($I139<>\"Yes\",$G139*3,($G139+ROUND(J139*$G139/SUM(COUNTRY_INFO!$E139:$G139),0))*3)","v":12462},{"$f":"SUM(M139:O139)","v":34455.209107999995},null,{"$f":"IF($P139>$Q139,P139-Q139,0)","v":34455.209107999995}]
[{"$f":"IF(INTRO!$E$43=\"Non-endemic\",\" \", IF(COUNTRY_INFO!A140=0,\" \",COUNTRY_INFO!A140))","v":"Angola"},{"$f":"IF(INTRO!$E$43=\"Non-endemic\",\" \", IF(COUNTRY_INFO!B140=0,\" \",COUNTRY_INFO!B140))","v":"MOXICO"},{"$f":"IF(INTRO!$E$43=\"Non-endemic\",\" \", IF(COUNTRY_INFO!C140=0,\" \",COUNTRY_INFO!C140))","v":"CAMANONGUE"},{"$f":"IF(INTRO!$E$43=\"Non-endemic\", \"Not required\", COUNTRY_INFO!Z140)","v":0},0,0,0,0,null,null,0,null,null,{"$f":"IF($I140<>\"Yes\",$F140*2,($F140+ROUND(J140*$F140/SUM(COUNTRY_INFO!$E140:$G140),0))*2)","v":0},{"$f":"IF($I140<>\"Yes\",$G140*3,($G140+ROUND(J140*$G140/SUM(COUNTRY_INFO!$E140:$G140),0))*3)","v":0},0,null,0]
[{"$f":"IF(INTRO!$E$43=\"Non-endemic\",\" \", IF(COUNTRY_INFO!A141=0,\" \",COUNTRY_INFO!A141))","v":"Angola"},{"$f":"IF(INTRO!$E$43=\"Non-endemic\",\" \", IF(COUNTRY_INFO!B141=0,\" \",COUNTRY_INFO!B141))","v":"MOXICO"},{"$f":"IF(INTRO!$E$43=\"Non-endemic\",\" \", IF(COUNTRY_INFO!C141=0,\" \",COUNTRY_INFO!C141))","v":"CAMEIA (LUMEJE)"},{"$f":"IF(INTRO!$E$43=\"Non-endemic\", \"Not required\", COUNTRY_INFO!Z141)","v":0},0,0,0,0,null,null,0,null,null,{"$f":"IF($I141<>\"Yes\",$F141*2,($F141+ROUND(J141*$F141/SUM(COUNTRY_INFO!$E141:$G141),0))*2)","v":0},{"$f":"IF($I141<>\"Yes\",$G141*3,($G141+ROUND(J141*$G141/SUM(COUNTRY_INFO!$E141:$G141),0))*3)","v":0},0,null,0]
[{"$f":"IF(INTRO!$E$43=\"Non-endemic\",\" \", IF(COUNTRY_INFO!A142=0,\" \",COUNTRY_INFO!A142))","v":"Angola"},{"$f":"IF(INTRO!$E$43=\"Non-endemic\",\" \", IF(COUNTRY_INFO!B142=0,\" \",COUNTRY_INFO!B142))","v":"MOXICO"},{"$f":"IF(INTRO!$E$43=\"Non-endemic\",\" \", IF(COUNTRY_INFO!C142=0,\" \",COUNTRY_INFO!C142))","v":"LEUA"},{"$f":"IF(INTRO!$E$43=\"Non-endemic\", \"Not required\", COUNTRY_INFO!Z142)","v":0},0,0,0,0,null,null,0,null,null,{"$f":"IF($I142<>\"Yes\",$F142*2,($F142+ROUND(J142*$F142/SUM(COUNTRY_INFO!$E142:$G142),0))*2)","v":0},{"$f":"IF($I142<>\"Yes\",$G142*3,($G142+ROUND(J142*$G142/SUM(COUNTRY_INFO!$E142:$G142),0))*3)","v":0},0,null,0]
[{"$f":"IF(INTRO!$E$43=\"Non-endemic\",\" \", IF(COUNTRY_INFO!A143=0,\" \",COUNTRY_INFO!A143))","v":"Angola"},{"$f":"IF(INTRO!$E$43=\"Non-endemic\",\" \", IF(COUNTRY_INFO!B143=0,\" \",COUNTRY_INFO!B143))","v":"MOXICO"},{"$f":"IF(INTRO!$E$43=\"Non-endemic\",\" \", IF(COUNTRY_INFO!C143=0,\" \",COUNTRY_INFO!C143))","v":"LUACANO"},{"$f":"IF(INTRO!$E$43=\"Non-endemic\", \"Not required\", COUNTRY_INFO!Z143)","v":0},0,0,0,0,null,null,0,null,null,{"$f":"IF($I143<>\"Yes\",$F143*2,($F143+ROUND(J143*$F143/SUM(COUNTRY_INFO!$E143:$G143),0))*2)","v":0},{"$f":"IF($I143<>\"Yes\",$G143*3,($G143+ROUND(J143*$G143/SUM(COUNTRY_INFO!$E143:$G143),0))*3)","v":0},0,null,0]
[{"$f":"IF(INTRO!$E$43=\"Non-endemic\",\" \", IF(COUNTRY_INFO!A144=0,\" \",COUNTRY_INFO!A144))","v":"Angola"},{"$f":"IF(INTRO!$E$43=\"Non-endemic\",\" \", IF(COUNTRY_INFO!B144=0,\" \",COUNTRY_INFO!B144))","v":"MOXICO"},{"$f":"IF(INTRO!$E$43=\"Non-endemic\",\" \", IF(COUNTRY_INFO!C144=0,\" \",COUNTRY_INFO!C144))","v":"LUAU"},{"$f":"IF(INTRO!$E$43=\"Non-endemic\", \"Not required\", COUNTRY_INFO!Z144)","v":0},0,0,0,0,null,null,0,null,null,{"$f":"IF($I144<>\"Yes\",$F144*2,($F144+ROUND(J144*$F144/SUM(COUNTRY_INFO!$E144:$G144),0))*2)","v":0},{"$f":"IF($I144<>\"Yes\",$G144*3,($G144+ROUND(J144*$G144/SUM(COUNTRY_INFO!$E144:$G144),0))*3)","v":0},0,null,0]
[{"$f":"IF(INTRO!$E$43=\"Non-endemic\",\" \", IF(COUNTRY_INFO!A145=0,\" \",COUNTRY_INFO!A145))","v":"Angola"},{"$f":"IF(INTRO!$E$43=\"Non-endemic\",\" \", IF(COUNTRY_INFO!B145=0,\" \",COUNTRY_INFO!B145))","v":"MOXICO"},{"$f":"IF(INTRO!$E$43=\"Non-endemic\",\" \", IF(COUNTRY_INFO!C145=0,\" \",COUNTRY_INFO!C145))","v":"LUCHAZES"},{"$f":"IF(INTRO!$E$43=\"Non-endemic\", \"Not required\", COUNTRY_INFO!Z145)","v":0},0,0,0,0,null,null,0,null,null,{"$f":"IF($I145<>\"Yes\",$F145*2,($F145+ROUND(J145*$F145/SUM(COUNTRY_INFO!$E145:$G145),0))*2)","v":0},{"$f":"IF($I145<>\"Yes\",$G145*3,($G145+ROUND(J145*$G145/SUM(COUNTRY_INFO!$E145:$G145),0))*3)","v":0},0,null,0]
[{"$f":"IF(INTRO!$E$43=\"Non-endemic\",\" \", IF(COUNTRY_INFO!A146=0,\" \",COUNTRY_INFO!A146))","v":"Angola"},{"$f":"IF(INTRO!$E$43=\"Non-endemic\",\" \", IF(COUNTRY_INFO!B146=0,\" \",COUNTRY_INFO!B146))","v":"MOXICO"},{"$f":"IF(INTRO!$E$43=\"Non-endemic\",\" \", IF(COUNTRY_INFO!C146=0,\" \",COUNTRY_INFO!C146))","v":"MOXICO/LUENA"},{"$f":"IF(INTRO!$E$43=\"Non-endemic\", \"Not required\", COUNTRY_INFO!Z146)","v":0},0,0,0,0,null,null,0,null,null,{"$f":"IF($I146<>\"Yes\",$F146*2,($F146+ROUND(J146*$F146/SUM(COUNTRY_INFO!$E146:$G146),0))*2)","v":0},{"$f":"IF($I146<>\"Yes\",$G146*3,($G146+ROUND(J146*$G146/SUM(COUNTRY_INFO!$E146:$G146),0))*3)","v":0},0,null,0]
[{"$f":"IF(INTRO!$E$43=\"Non-endemic\",\" \", IF(COUNTRY_INFO!A147=0,\" \",COUNTRY_INFO!A147))","v":"Angola"},{"$f":"IF(INTRO!$E$43=\"Non-endemic\",\" \", IF(COUNTRY_INFO!B147=0,\" \",COUNTRY_INFO!B147))","v":"NAMIBE"},{"$f":"IF(INTRO!$E$43=\"Non-endemic\",\" \", IF(COUNTRY_INFO!C147=0,\" \",COUNTRY_INFO!C147))","v":"BIBALA"},{"$f":"IF(INTRO!$E$43=\"Non-endemic\", \"Not required\", COUNTRY_INFO!Z147)","v":1},0,9273.1773679999988,11591.632193999998,20864.809561999995,null,null,1,"SAC",null,{"$f":"IF($I147<>\"Yes\",$F147*2,($F147+ROUND(J147*$F147/SUM(COUNTRY_INFO!$E147:$G147),0))*2)","v":18546.354735999998},{"$f":"IF($I147<>\"Yes\",$G147*3,($G147+ROUND(J147*$G147/SUM(COUNTRY_INFO!$E147:$G147),0))*3)","v":34774.896581999994},53321.251317999995,null,53321.251317999995]
[{"$f":"IF(INTRO!$E$43=\"Non-endemic\",\" \", IF(COUNTRY_INFO!A148=0,\" \",COUNTRY_INFO!A148))","v":"Angola"},{"$f":"IF(INTRO!$E$43=\"Non-endemic\",\" \", IF(COUNTRY_INFO!B148=0,\" \",COUNTRY_INFO!B148))","v":"NAMIBE"},{"$f":"IF(INTRO!$E$43=\"Non-endemic\",\" \", IF(COUNTRY_INFO!C148=0,\" \",COUNTRY_INFO!C148))","v":"CAMUCUIO"},{"$f":"IF(INTRO!$E$43=\"Non-endemic\", \"Not required\", COUNTRY_INFO!Z148)","v":1},0,18824.803191999999,30529.948665999993,49354.751857999989,null,null,1,"SAC",null,{"$f":"IF($I148<>\"Yes\",$F148*2,($F148+ROUND(J148*$F148/SUM(COUNTRY_INFO!$E148:$G148),0))*2)","v":37649.606383999999},{"$f":"IF($I148<>\"Yes\",$G148*3,($G148+ROUND(J148*$G148/SUM(COUNTRY_INFO!$E148:$G148),0))*3)","v":91589.845997999975},129239.45238199997,null,129239.45238199997]
[{"$f":"IF(INTRO!$E$43=\"Non-endemic\",\" \", IF(COUNTRY_INFO!A149=0,\" \",COUNTRY_INFO!A149))","v":"Angola"},{"$f":"IF(INTRO!$E$43=\"Non-endemic\",\" \", IF(COUNTRY_INFO!B149=0,\" \",COUNTRY_INFO!B149))","v":"NAMIBE"},{"$f":"IF(INTRO!$E$43=\"Non-endemic\",\" \", IF(COUNTRY_INFO!C149=0,\" \",COUNTRY_INFO!C149))","v":"MOÇAMEDES"},{"$f":"IF(INTRO!$E$43=\"Non-endemic\", \"Not required\", COUNTRY_INFO!Z149)","v":1},0,4078.6370429999993,1541,5619.6370429999988,null,null,0,null,null,{"$f":"IF($I149<>\"Yes\",$F149*2,($F149+ROUND(J149*$F149/SUM(COUNTRY_INFO!$E149:$G149),0))*2)","v":8157.2740859999985},{"$f":"IF($I149<>\"Yes\",$G149*3,($G149+ROUND(J149*$G149/SUM(COUNTRY_INFO!$E149:$G149),0))*3)","v":4623},12780.274085999998,null,12780.274085999998]
[{"$f":"IF(INTRO!$E$43=\"Non-endemic\",\" \", IF(COUNTRY_INFO!A150=0,\" \",COUNTRY_INFO!A150))","v":"Angola"},{"$f":"IF(INTRO!$E$43=\"Non-endemic\",\" \", IF(COUNTRY_INFO!B150=0,\" \",COUNTRY_INFO!B150))","v":"NAMIBE"},{"$f":"IF(INTRO!$E$43=\"Non-endemic\",\" \", IF(COUNTRY_INFO!C150=0,\" \",COUNTRY_INFO!C150))","v":"TOMBWA"},{"$f":"IF(INTRO!$E$43=\"Non-endemic\", \"Not required\", COUNTRY_INFO!Z150)","v":0},0,0,0,0,null,null,0,null,null,{"$f":"IF($I150<>\"Yes\",$F150*2,($F150+ROUND(J150*$F150/SUM(COUNTRY_INFO!$E150:$G150),0))*2)","v":0},{"$f":"IF($I150<>\"Yes\",$G150*3,($G150+ROUND(J150*$G150/SUM(COUNTRY_INFO!$E150:$G150),0))*3)","v":0},0,null,0]
[{"$f":"IF(INTRO!$E$43=\"Non-endemic\",\" \", IF(COUNTRY_INFO!A151=0,\" \",COUNTRY_INFO!A151))","v":"Angola"},{"$f":"IF(INTRO!$E$43=\"Non-endemic\",\" \", IF(COUNTRY_INFO!B151=0,\" \",COUNTRY_INFO!B151))","v":"NAMIBE"},{"$f":"IF(INTRO!$E$43=\"Non-endemic\",\" \", IF(COUNTRY_INFO!C151=0,\" \",COUNTRY_INFO!C151))","v":"VIREI"},{"$f":"IF(INTRO!$E$43=\"Non-endemic\", \"Not required\", COUNTRY_INFO!Z151)","v":0},0,0,0,0,null,null,0,null,null,{"$f":"IF($I151<>\"Yes\",$F151*2,($F151+ROUND(J151*$F151/SUM(COUNTRY_INFO!$E151:$G151),0))*2)","v":0},{"$f":"IF($I151<>\"Yes\",$G151*3,($G151+ROUND(J151*$G151/SUM(COUNTRY_INFO!$E151:$G151),0))*3)","v":0},0,null,0]
[{"$f":"IF(INTRO!$E$43=\"Non-endemic\",\" \", IF(COUNTRY_INFO!A152=0,\" \",COUNTRY_INFO!A152))","v":"Angola"},{"$f":"IF(INTRO!$E$43=\"Non-endemic\",\" \", IF(COUNTRY_INFO!B152=0,\" \",COUNTRY_INFO!B152))","v":"UIGE"},{"$f":"IF(INTRO!$E$43=\"Non-endemic\",\" \", IF(COUNTRY_INFO!C152=0,\" \",COUNTRY_INFO!C152))","v":"AMBUILA"},{"$f":"IF(INTRO!$E$43=\"Non-endemic\", \"Not required\", COUNTRY_INFO!Z152)","v":1},0,4507.9117459999989,1703,6210.9117459999989,null,null,0,null,null,{"$f":"IF($I152<>\"Yes\",$F152*2,($F152+ROUND(J152*$F152/SUM(COUNTRY_INFO!$E152:$G152),0))*2)","v":9015.8234919999977},{"$f":"IF($I152<>\"Yes\",$G152*3,($G152+ROUND(J152*$G152/SUM(COUNTRY_INFO!$E152:$G152),0))*3)","v":5109},14124.823491999998,null,14124.823491999998]
[{"$f":"IF(INTRO!$E$43=\"Non-endemic\",\" \", IF(COUNTRY_INFO!A153=0,\" \",COUNTRY_INFO!A153))","v":"Angola"},{"$f":"IF(INTRO!$E$43=\"Non-endemic\",\" \", IF(COUNTRY_INFO!B153=0,\" \",COUNTRY_INFO!B153))","v":"UIGE"},{"$f":"IF(INTRO!$E$43=\"Non-endemic\",\" \", IF(COUNTRY_INFO!C153=0,\" \",COUNTRY_INFO!C153))","v":"BEMBE"},{"$f":"IF(INTRO!$E$43=\"Non-endemic\", \"Not required\", COUNTRY_INFO!Z153)","v":1},0,7594.0487999999987,7589.1540259999992,15183.202825999997,null,null,0,null,null,{"$f":"IF($I153<>\"Yes\",$F153*2,($F153+ROUND(J153*$F153/SUM(COUNTRY_INFO!$E153:$G153),0))*2)","v":15188.097599999997},{"$f":"IF($I153<>\"Yes\",$G153*3,($G153+ROUND(J153*$G153/SUM(COUNTRY_INFO!$E153:$G153),0))*3)","v":22767.462077999997},37955.559677999991,null,37955.559677999991]
[{"$f":"IF(INTRO!$E$43=\"Non-endemic\",\" \", IF(COUNTRY_INFO!A154=0,\" \",COUNTRY_INFO!A154))","v":"Angola"},{"$f":"IF(INTRO!$E$43=\"Non-endemic\",\" \", IF(COUNTRY_INFO!B154=0,\" \",COUNTRY_INFO!B154))","v":"UIGE"},{"$f":"IF(INTRO!$E$43=\"Non-endemic\",\" \", IF(COUNTRY_INFO!C154=0,\" \",COUNTRY_INFO!C154))","v":"BUENGAS"},{"$f":"IF(INTRO!$E$43=\"Non-endemic\", \"Not required\", COUNTRY_INFO!Z154)","v":1},0,8179.423394999998,3089,11268.423394999998,null,null,0,null,null,{"$f":"IF($I154<>\"Yes\",$F154*2,($F154+ROUND(J154*$F154/SUM(COUNTRY_INFO!$E154:$G154),0))*2)","v":16358.846789999996},{"$f":"IF($I154<>\"Yes\",$G154*3,($G154+ROUND(J154*$G154/SUM(COUNTRY_INFO!$E154:$G154),0))*3)","v":9267},25625.846789999996,null,25625.846789999996]
[{"$f":"IF(INTRO!$E$43=\"Non-endemic\",\" \", IF(COUNTRY_INFO!A155=0,\" \",COUNTRY_INFO!A155))","v":"Angola"},{"$f":"IF(INTRO!$E$43=\"Non-endemic\",\" \", IF(COUNTRY_INFO!B155=0,\" \",COUNTRY_INFO!B155))","v":"UIGE"},{"$f":"IF(INTRO!$E$43=\"Non-endemic\",\" \", IF(COUNTRY_INFO!C155=0,\" \",COUNTRY_INFO!C155))","v":"BUNGO"},{"$f":"IF(INTRO!$E$43=\"Non-endemic\", \"Not required\", COUNTRY_INFO!Z155)","v":1},0,13367.635345999997,5050,18417.635345999995,null,null,0,null,null,{"$f":"IF($I155<>\"Yes\",$F155*2,($F155+ROUND(J155*$F155/SUM(COUNTRY_INFO!$E155:$G155),0))*2)","v":26735.270691999995},{"$f":"IF($I155<>\"Yes\",$G155*3,($G155+ROUND(J155*$G155/SUM(COUNTRY_INFO!$E155:$G155),0))*3)","v":15150},41885.270691999991,null,41885.270691999991]
[{"$f":"IF(INTRO!$E$43=\"Non-endemic\",\" \", IF(COUNTRY_INFO!A156=0,\" \",COUNTRY_INFO!A156))","v":"Angola"},{"$f":"IF(INTRO!$E$43=\"Non-endemic\",\" \", IF(COUNTRY_INFO!B156=0,\" \",COUNTRY_INFO!B156))","v":"UIGE"},{"$f":"IF(INTRO!$E$43=\"Non-endemic\",\" \", IF(COUNTRY_INFO!C156=0,\" \",COUNTRY_INFO!C156))","v":"CANGOLA"},{"$f":"IF(INTRO!$E$43=\"Non-endemic\", \"Not required\", COUNTRY_INFO!Z156)","v":1},0,5380.1726289999997,2032,7412.1726289999997,null,null,0,null,null,{"$f":"IF($I156<>\"Yes\",$F156*2,($F156+ROUND(J156*$F156/SUM(COUNTRY_INFO!$E156:$G156),0))*2)","v":10760.345257999999},{"$f":"IF($I156<>\"Yes\",$G156*3,($G156+ROUND(J156*$G156/SUM(COUNTRY_INFO!$E156:$G156),0))*3)","v":6096},16856.345258000001,null,16856.345258000001]
[{"$f":"IF(INTRO!$E$43=\"Non-endemic\",\" \", IF(COUNTRY_INFO!A157=0,\" \",COUNTRY_INFO!A157))","v":"Angola"},{"$f":"IF(INTRO!$E$43=\"Non-endemic\",\" \", IF(COUNTRY_INFO!B157=0,\" \",COUNTRY_INFO!B157))","v":"UIGE"},{"$f":"IF(INTRO!$E$43=\"Non-endemic\",\" \", IF(COUNTRY_INFO!C157=0,\" \",COUNTRY_INFO!C157))","v":"DAMBA"},{"$f":"IF(INTRO!$E$43=\"Non-endemic\", \"Not required\", COUNTRY_INFO!Z157)","v":1},0,1173.9133769999999,444,1617.9133769999999,null,null,0,null,null,{"$f":"IF($I157<>\"Yes\",$F157*2,($F157+ROUND(J157*$F157/SUM(COUNTRY_INFO!$E157:$G157),0))*2)","v":2347.8267539999997},{"$f":"IF($I157<>\"Yes\",$G157*3,($G157+ROUND(J157*$G157/SUM(COUNTRY_INFO!$E157:$G157),0))*3)","v":1332},3679.8267539999997,null,3679.8267539999997]
[{"$f":"IF(INTRO!$E$43=\"Non-endemic\",\" \", IF(COUNTRY_INFO!A158=0,\" \",COUNTRY_INFO!A158))","v":"Angola"},{"$f":"IF(INTRO!$E$43=\"Non-endemic\",\" \", IF(COUNTRY_INFO!B158=0,\" \",COUNTRY_INFO!B158))","v":"UIGE"},{"$f":"IF(INTRO!$E$43=\"Non-endemic\",\" \", IF(COUNTRY_INFO!C158=0,\" \",COUNTRY_INFO!C158))","v":"MAQUELA DO ZOMBO"},{"$f":"IF(INTRO!$E$43=\"Non-endemic\", \"Not required\", COUNTRY_INFO!Z158)","v":1},0,2990.1567149999992,1130,4120.1567149999992,null,null,0,null,null,{"$f":"IF($I158<>\"Yes\",$F158*2,($F158+ROUND(J158*$F158/SUM(COUNTRY_INFO!$E158:$G158),0))*2)","v":5980.3134299999983},{"$f":"IF($I158<>\"Yes\",$G158*3,($G158+ROUND(J158*$G158/SUM(COUNTRY_INFO!$E158:$G158),0))*3)","v":3390},9370.3134299999983,null,9370.3134299999983]
[{"$f":"IF(INTRO!$E$43=\"Non-endemic\",\" \", IF(COUNTRY_INFO!A159=0,\" \",COUNTRY_INFO!A159))","v":"Angola"},{"$f":"IF(INTRO!$E$43=\"Non-endemic\",\" \", IF(COUNTRY_INFO!B159=0,\" \",COUNTRY_INFO!B159))","v":"UIGE"},{"$f":"IF(INTRO!$E$43=\"Non-endemic\",\" \", IF(COUNTRY_INFO!C159=0,\" \",COUNTRY_INFO!C159))","v":"MILUNGA"},{"$f":"IF(INTRO!$E$43=\"Non-endemic\", \"Not required\", COUNTRY_INFO!Z159)","v":1},0,1774.0541779999996,670,2444.0541779999994,null,null,0,null,null,{"$f":"IF($I159<>\"Yes\",$F159*2,($F159+ROUND(J159*$F159/SUM(COUNTRY_INFO!$E159:$G159),0))*2)","v":3548.1083559999993},{"$f":"IF($I159<>\"Yes\",$G159*3,($G159+ROUND(J159*$G159/SUM(COUNTRY_INFO!$E159:$G159),0))*3)","v":2010},5558.1083559999988,null,5558.1083559999988]
[{"$f":"IF(INTRO!$E$43=\"Non-endemic\",\" \", IF(COUNTRY_INFO!A160=0,\" \",COUNTRY_INFO!A160))","v":"Angola"},{"$f":"IF(INTRO!$E$43=\"Non-endemic\",\" \", IF(COUNTRY_INFO!B160=0,\" \",COUNTRY_INFO!B160))","v":"UIGE"},{"$f":"IF(INTRO!$E$43=\"Non-endemic\",\" \", IF(COUNTRY_INFO!C160=0,\" \",COUNTRY_INFO!C160))","v":"MUCABA"},{"$f":"IF(INTRO!$E$43=\"Non-endemic\", \"Not required\", COUNTRY_INFO!Z160)","v":1},0,0,0,0,null,null,0,null,null,{"$f":"IF($I160<>\"Yes\",$F160*2,($F160+ROUND(J160*$F160/SUM(COUNTRY_INFO!$E160:$G160),0))*2)","v":0},{"$f":"IF($I160<>\"Yes\",$G160*3,($G160+ROUND(J160*$G160/SUM(COUNTRY_INFO!$E160:$G160),0))*3)","v":0},0,null,0]
[{"$f":"IF(INTRO!$E$43=\"Non-endemic\",\" \", IF(COUNTRY_INFO!A161=0,\" \",COUNTRY_INFO!A161))","v":"Angola"},{"$f":"IF(INTRO!$E$43=\"Non-endemic\",\" \", IF(COUNTRY_INFO!B161=0,\" \",COUNTRY_INFO!B161))","v":"UIGE"},{"$f":"IF(INTRO!$E$43=\"Non-endemic\",\" \", IF(COUNTRY_INFO!C161=0,\" \",COUNTRY_INFO!C161))","v":"NEGAGE"},{"$f":"IF(INTRO!$E$43=\"Non-endemic\", \"Not required\", COUNTRY_INFO!Z161)","v":1},0,45336.471335999995,17128,62464.471335999995,null,null,0,null,null,{"$f":"IF($I161<>\"Yes\",$F161*2,($F161+ROUND(J161*$F161/SUM(COUNTRY_INFO!$E161:$G161),0))*2)","v":90672.94267199999},{"$f":"IF($I161<>\"Yes\",$G161*3,($G161+ROUND(J161*$G161/SUM(COUNTRY_INFO!$E161:$G161),0))*3)","v":51384},142056.94267199998,null,142056.94267199998]
[{"$f":"IF(INTRO!$E$43=\"Non-endemic\",\" \", IF(COUNTRY_INFO!A162=0,\" \",COUNTRY_INFO!A162))","v":"Angola"},{"$f":"IF(INTRO!$E$43=\"Non-endemic\",\" \", IF(COUNTRY_INFO!B162=0,\" \",COUNTRY_INFO!B162))","v":"UIGE"},{"$f":"IF(INTRO!$E$43=\"Non-endemic\",\" \", IF(COUNTRY_INFO!C162=0,\" \",COUNTRY_INFO!C162))","v":"PURI"},{"$f":"IF(INTRO!$E$43=\"Non-endemic\", \"Not required\", COUNTRY_INFO!Z162)","v":1},0,0,0,0,null,null,0,null,null,{"$f":"IF($I162<>\"Yes\",$F162*2,($F162+ROUND(J162*$F162/SUM(COUNTRY_INFO!$E162:$G162),0))*2)","v":0},{"$f":"IF($I162<>\"Yes\",$G162*3,($G162+ROUND(J162*$G162/SUM(COUNTRY_INFO!$E162:$G162),0))*3)","v":0},0,null,0]
[{"$f":"IF(INTRO!$E$43=\"Non-endemic\",\" \", IF(COUNTRY_INFO!A163=0,\" \",COUNTRY_INFO!A163))","v":"Angola"},{"$f":"IF(INTRO!$E$43=\"Non-endemic\",\" \", IF(COUNTRY_INFO!B163=0,\" \",COUNTRY_INFO!B163))","v":"UIGE"},{"$f":"IF(INTRO!$E$43=\"Non-endemic\",\" \", IF(COUNTRY_INFO!C163=0,\" \",COUNTRY_INFO!C163))","v":"QUIMBELE"},{"$f":"IF(INTRO!$E$43=\"Non-endemic\", \"Not required\", COUNTRY_INFO!Z163)","v":1},0,0,0,0,null,null,0,null,null,{"$f":"IF($I163<>\"Yes\",$F163*2,($F163+ROUND(J163*$F163/SUM(COUNTRY_INFO!$E163:$G163),0))*2)","v":0},{"$f":"IF($I163<>\"Yes\",$G163*3,($G163+ROUND(J163*$G163/SUM(COUNTRY_INFO!$E163:$G163),0))*3)","v":0},0,null,0]
[{"$f":"IF(INTRO!$E$43=\"Non-endemic\",\" \", IF(COUNTRY_INFO!A164=0,\" \",COUNTRY_INFO!A164))","v":"Angola"},{"$f":"IF(INTRO!$E$43=\"Non-endemic\",\" \", IF(COUNTRY_INFO!B164=0,\" \",COUNTRY_INFO!B164))","v":"UIGE"},{"$f":"IF(INTRO!$E$43=\"Non-endemic\",\" \", IF(COUNTRY_INFO!C164=0,\" \",COUNTRY_INFO!C164))","v":"QUITEXE"},{"$f":"IF(INTRO!$E$43=\"Non-endemic\", \"Not required\", COUNTRY_INFO!Z164)","v":1},0,3590.2975159999992,1356,4946.2975159999987,null,null,0,null,null,{"$f":"IF($I164<>\"Yes\",$F164*2,($F164+ROUND(J164*$F164/SUM(COUNTRY_INFO!$E164:$G164),0))*2)","v":7180.5950319999984},{"$f":"IF($I164<>\"Yes\",$G164*3,($G164+ROUND(J164*$G164/SUM(COUNTRY_INFO!$E164:$G164),0))*3)","v":4068},11248.595031999997,null,11248.595031999997]
[{"$f":"IF(INTRO!$E$43=\"Non-endemic\",\" \", IF(COUNTRY_INFO!A165=0,\" \",COUNTRY_INFO!A165))","v":"Angola"},{"$f":"IF(INTRO!$E$43=\"Non-endemic\",\" \", IF(COUNTRY_INFO!B165=0,\" \",COUNTRY_INFO!B165))","v":"UIGE"},{"$f":"IF(INTRO!$E$43=\"Non-endemic\",\" \", IF(COUNTRY_INFO!C165=0,\" \",COUNTRY_INFO!C165))","v":"SANZA POMBO"},{"$f":"IF(INTRO!$E$43=\"Non-endemic\", \"Not required\", COUNTRY_INFO!Z165)","v":1},0,16746.987061999997,6327,23073.987061999997,null,null,0,null,null,{"$f":"IF($I165<>\"Yes\",$F165*2,($F165+ROUND(J165*$F165/SUM(COUNTRY_INFO!$E165:$G165),0))*2)","v":33493.974123999993},{"$f":"IF($I165<>\"Yes\",$G165*3,($G165+ROUND(J165*$G165/SUM(COUNTRY_INFO!$E165:$G165),0))*3)","v":18981},52474.974123999993,null,52474.974123999993]
[{"$f":"IF(INTRO!$E$43=\"Non-endemic\",\" \", IF(COUNTRY_INFO!A166=0,\" \",COUNTRY_INFO!A166))","v":"Angola"},{"$f":"IF(INTRO!$E$43=\"Non-endemic\",\" \", IF(COUNTRY_INFO!B166=0,\" \",COUNTRY_INFO!B166))","v":"UIGE"},{"$f":"IF(INTRO!$E$43=\"Non-endemic\",\" \", IF(COUNTRY_INFO!C166=0,\" \",COUNTRY_INFO!C166))","v":"SONGO"},{"$f":"IF(INTRO!$E$43=\"Non-endemic\", \"Not required\", COUNTRY_INFO!Z166)","v":1},0,22194.662346999998,41921.258833999993,64115.921180999991,null,null,1,"SAC",null,{"$f":"IF($I166<>\"Yes\",$F166*2,($F166+ROUND(J166*$F166/SUM(COUNTRY_INFO!$E166:$G166),0))*2)","v":44389.324693999995},{"$f":"IF($I166<>\"Yes\",$G166*3,($G166+ROUND(J166*$G166/SUM(COUNTRY_INFO!$E166:$G166),0))*3)","v":125763.77650199998},170153.10119599997,null,170153.10119599997]
[{"$f":"IF(INTRO!$E$43=\"Non-endemic\",\" \", IF(COUNTRY_INFO!A167=0,\" \",COUNTRY_INFO!A167))","v":"Angola"},{"$f":"IF(INTRO!$E$43=\"Non-endemic\",\" \", IF(COUNTRY_INFO!B167=0,\" \",COUNTRY_INFO!B167))","v":"UIGE"},{"$f":"IF(INTRO!$E$43=\"Non-endemic\",\" \", IF(COUNTRY_INFO!C167=0,\" \",COUNTRY_INFO!C167))","v":"UIGE"},{"$f":"IF(INTRO!$E$43=\"Non-endemic\", \"Not required\", COUNTRY_INFO!Z167)","v":1},0,186811.49102199997,352865.91532399994,539677.40634599992,null,null,0,null,null,{"$f":"IF($I167<>\"Yes\",$F167*2,($F167+ROUND(J167*$F167/SUM(COUNTRY_INFO!$E167:$G167),0))*2)","v":373622.98204399995},{"$f":"IF($I167<>\"Yes\",$G167*3,($G167+ROUND(J167*$G167/SUM(COUNTRY_INFO!$E167:$G167),0))*3)","v":1058597.7459719998},1432220.7280159998,null,1432220.7280159998]
[{"$f":"IF(INTRO!$E$43=\"Non-endemic\",\" \", IF(COUNTRY_INFO!A168=0,\" \",COUNTRY_INFO!A168))","v":"Angola"},{"$f":"IF(INTRO!$E$43=\"Non-endemic\",\" \", IF(COUNTRY_INFO!B168=0,\" \",COUNTRY_INFO!B168))","v":"ZAIRE"},{"$f":"IF(INTRO!$E$43=\"Non-endemic\",\" \", IF(COUNTRY_INFO!C168=0,\" \",COUNTRY_INFO!C168))","v":"CUIMBA"},{"$f":"IF(INTRO!$E$43=\"Non-endemic\", \"Not required\", COUNTRY_INFO!Z168)","v":1},0,1420.7199629999998,537,1957.7199629999998,null,null,0,null,null,{"$f":"IF($I168<>\"Yes\",$F168*2,($F168+ROUND(J168*$F168/SUM(COUNTRY_INFO!$E168:$G168),0))*2)","v":2841.4399259999996},{"$f":"IF($I168<>\"Yes\",$G168*3,($G168+ROUND(J168*$G168/SUM(COUNTRY_INFO!$E168:$G168),0))*3)","v":1611},4452.4399259999991,null,4452.4399259999991]
[{"$f":"IF(INTRO!$E$43=\"Non-endemic\",\" \", IF(COUNTRY_INFO!A169=0,\" \",COUNTRY_INFO!A169))","v":"Angola"},{"$f":"IF(INTRO!$E$43=\"Non-endemic\",\" \", IF(COUNTRY_INFO!B169=0,\" \",COUNTRY_INFO!B169))","v":"ZAIRE"},{"$f":"IF(INTRO!$E$43=\"Non-endemic\",\" \", IF(COUNTRY_INFO!C169=0,\" \",COUNTRY_INFO!C169))","v":"MBANZA KONGO"},{"$f":"IF(INTRO!$E$43=\"Non-endemic\", \"Not required\", COUNTRY_INFO!Z169)","v":1},0,65174.869096999981,30743.004165999999,95917.873262999987,null,null,0,null,null,{"$f":"IF($I169<>\"Yes\",$F169*2,($F169+ROUND(J169*$F169/SUM(COUNTRY_INFO!$E169:$G169),0))*2)","v":130349.73819399996},{"$f":"IF($I169<>\"Yes\",$G169*3,($G169+ROUND(J169*$G169/SUM(COUNTRY_INFO!$E169:$G169),0))*3)","v":92229.012497999996},222578.75069199997,null,222578.75069199997]
[{"$f":"IF(INTRO!$E$43=\"Non-endemic\",\" \", IF(COUNTRY_INFO!A170=0,\" \",COUNTRY_INFO!A170))","v":"Angola"},{"$f":"IF(INTRO!$E$43=\"Non-endemic\",\" \", IF(COUNTRY_INFO!B170=0,\" \",COUNTRY_INFO!B170))","v":"ZAIRE"},{"$f":"IF(INTRO!$E$43=\"Non-endemic\",\" \", IF(COUNTRY_INFO!C170=0,\" \",COUNTRY_INFO!C170))","v":"NOQUI"},{"$f":"IF(INTRO!$E$43=\"Non-endemic\", \"Not required\", COUNTRY_INFO!Z170)","v":1},0,3924.6466089999994,1483,5407.6466089999994,null,null,0,null,null,{"$f":"IF($I170<>\"Yes\",$F170*2,($F170+ROUND(J170*$F170/SUM(COUNTRY_INFO!$E170:$G170),0))*2)","v":7849.2932179999989},{"$f":"IF($I170<>\"Yes\",$G170*3,($G170+ROUND(J170*$G170/SUM(COUNTRY_INFO!$E170:$G170),0))*3)","v":4449},12298.293217999999,null,12298.293217999999]
[{"$f":"IF(INTRO!$E$43=\"Non-endemic\",\" \", IF(COUNTRY_INFO!A171=0,\" \",COUNTRY_INFO!A171))","v":"Angola"},{"$f":"IF(INTRO!$E$43=\"Non-endemic\",\" \", IF(COUNTRY_INFO!B171=0,\" \",COUNTRY_INFO!B171))","v":"ZAIRE"},{"$f":"IF(INTRO!$E$43=\"Non-endemic\",\" \", IF(COUNTRY_INFO!C171=0,\" \",COUNTRY_INFO!C171))","v":"NZETO"},{"$f":"IF(INTRO!$E$43=\"Non-endemic\", \"Not required\", COUNTRY_INFO!Z171)","v":1},0,1860.5419559999998,3514.357027999999,5374.8989839999986,null,null,0,null,null,{"$f":"IF($I171<>\"Yes\",$F171*2,($F171+ROUND(J171*$F171/SUM(COUNTRY_INFO!$E171:$G171),0))*2)","v":3721.0839119999996},{"$f":"IF($I171<>\"Yes\",$G171*3,($G171+ROUND(J171*$G171/SUM(COUNTRY_INFO!$E171:$G171),0))*3)","v":10543.071083999997},14264.154995999997,null,14264.154995999997]
[{"$f":"IF(INTRO!$E$43=\"Non-endemic\",\" \", IF(COUNTRY_INFO!A172=0,\" \",COUNTRY_INFO!A172))","v":"Angola"},{"$f":"IF(INTRO!$E$43=\"Non-endemic\",\" \", IF(COUNTRY_INFO!B172=0,\" \",COUNTRY_INFO!B172))","v":"ZAIRE"},{"$f":"IF(INTRO!$E$43=\"Non-endemic\",\" \", IF(COUNTRY_INFO!C172=0,\" \",COUNTRY_INFO!C172))","v":"SOYO"},{"$f":"IF(INTRO!$E$43=\"Non-endemic\", \"Not required\", COUNTRY_INFO!Z172)","v":1},0,78955.958210999976,33169.726840000003,112125.68505099998,null,null,0,null,null,{"$f":"IF($I172<>\"Yes\",$F172*2,($F172+ROUND(J172*$F172/SUM(COUNTRY_INFO!$E172:$G172),0))*2)","v":157911.91642199995},{"$f":"IF($I172<>\"Yes\",$G172*3,($G172+ROUND(J172*$G172/SUM(COUNTRY_INFO!$E172:$G172),0))*3)","v":99509.180520000009},257421.09694199997,null,257421.09694199997]
[{"$f":"IF(INTRO!$E$43=\"Non-endemic\",\" \", IF(COUNTRY_INFO!A173=0,\" \",COUNTRY_INFO!A173))","v":"Angola"},{"$f":"IF(INTRO!$E$43=\"Non-endemic\",\" \", IF(COUNTRY_INFO!B173=0,\" \",COUNTRY_INFO!B173))","v":"ZAIRE"},{"$f":"IF(INTRO!$E$43=\"Non-endemic\",\" \", IF(COUNTRY_INFO!C173=0,\" \",COUNTRY_INFO!C173))","v":"TOMBOCO"},{"$f":"IF(INTRO!$E$43=\"Non-endemic\", \"Not required\", COUNTRY_INFO!Z173)","v":1},0,0,0,0,null,null,0,null,null,{"$f":"IF($I173<>\"Yes\",$F173*2,($F173+ROUND(J173*$F173/SUM(COUNTRY_INFO!$E173:$G173),0))*2)","v":0},{"$f":"IF($I173<>\"Yes\",$G173*3,($G173+ROUND(J173*$G173/SUM(COUNTRY_INFO!$E173:$G173),0))*3)","v":0},0,null,0]

{"sheet":"IVM","index":4,"n_rows":173,"n_cols":14,"rows_kept":173,"cut":false,"hidden":false,"merged":[[5,3,7,3],[6,13,7,13],[6,8,7,8],[6,6,7,6],[6,7,7,7],[6,9,7,9],[6,10,7,10],[6,11,7,11],[3,0,3,2],[3,4,3,5],[6,4,7,4],[6,5,7,5],[5,8,5,13],[6,0,7,0],[6,1,7,1],[6,2,7,2],[5,0,5,2],[5,4,5,5],[5,6,5,7],[6,12,7,12]]}
["Ivermectin (IVM)"]
["Administrative structure, eligible population by age group, treatment plan and information about tablets"]
[]
["TOTAL",null,null,{"$f":"SUBTOTAL(9,D$10:D$1010)","v":7695223},null,null,{"$f":"SUBTOTAL(9,G$10:G$1010)","v":3469611},5434983,6328672,11831713.600000001,3386238.7999999993,21546624.399999999,0,21546624.399999999]
[]
["Country administrative structure",null,null,"Population requiring treatment with IVM","Treatment plan",null,"Target population",null,"Ivermectin (IVM)"]
["Country","Province/State","District",null,"LF","Oncho","LF","Oncho","LF only","Oncho only","LF+Oncho","Total required","Remaining in stock","Tablets to be procured"]
[]
[]
[{"$f":"IF(INTRO!$E$39=\"Non-endemic\",\" \",IF(COUNTRY_INFO!A10=0,\" \",COUNTRY_INFO!A10))","v":"Angola"},{"$f":"IF(INTRO!$E$39=\"Non-endemic\",\" \",IF(COUNTRY_INFO!B10=0,\" \",COUNTRY_INFO!B10))","v":"BENGO"},{"$f":"IF(INTRO!$E$39=\"Non-endemic\",\" \",IF(COUNTRY_INFO!C10=0,\" \",COUNTRY_INFO!C10))","v":"AMBRIZ"},{"$f":"IF(INTRO!$E$39=\"Non-endemic\",0,IF(INTRO!$E$39=\"Endemic but PC is not required\",IF(COUNTRY_INFO!$H10=1,COUNTRY_INFO!F10+COUNTRY_INFO!G10,0),IF(COUNTRY_INFO!$H10=1,COUNTRY_INFO!F10+COUNTRY_INFO!G10,IF(COUNTRY_INFO!$I10=1,IF(COUNTRY_INFO!N10>=(COUNTRY_INFO!F10+COUNTRY_INFO!G10),COUNTRY_INFO!F10+COUNTRY_INFO!G10,COUNTRY_INFO!$N10),0))))","v":26646},{"$f":"IF(AND(INTRO!$E$39=\"Non-endemic\",INTRO!$E$37=\"Non-endemic\"),\"Not required\",IF(INTRO!$E$39=\"Non-endemic\",\"Treat with DEC\",COUNTRY_INFO!W10))","v":1},{"$f":"IF(INTRO!$E$39<>\"Non-endemic\",COUNTRY_INFO!X10,\"Not required\")","v":0},{"$f":"IF(COUNTRY_INFO!H10=1, IF($E10=1,IF(ALB_MBD!$G10<>\" \",COUNTRY_INFO!F10+COUNTRY_INFO!G10-ALB_MBD!$G10,COUNTRY_INFO!F10+COUNTRY_INFO!G10), 0),0)","v":26646},{"$f":"IF(INTRO!$E$39<>\"Endemic\",0, IF(AND(COUNTRY_INFO!$I10=1,$F10<>0),IF(COUNTRY_INFO!N10>=(COUNTRY_INFO!F10+COUNTRY_INFO!G10),COUNTRY_INFO!F10+COUNTRY_INFO!G10,COUNTRY_INFO!$N10), 0))","v":0},{"$f":"IF(G10<H10,0,IF($E10=1, (G10-H10)*2.8, 0))","v":74608.799999999988},{"$f":"IF($E10<$F10, H10*(F10-E10)*2.8, 0)","v":0},{"$f":"IF(AND($E10=1, $F10<>0), H10*2.8, 0)","v":0},{"$f":"SUM(I10:K10)","v":74608.799999999988},null,{"$f":"IF($L10>$M10,$L10-$M10,0)","v":74608.799999999988}]
[{"$f":"IF(INTRO!$E$39=\"Non-endemic\",\" \",IF(COUNTRY_INFO!A11=0,\" \",COUNTRY_INFO!A11))","v":"Angola"},{"$f":"IF(INTRO!$E$39=\"Non-endemic\",\" \",IF(COUNTRY_INFO!B11=0,\" \",COUNTRY_INFO!B11))","v":"BENGO"},{"$f":"IF(INTRO!$E$39=\"Non-endemic\",\" \",IF(COUNTRY_INFO!C11=0,\" \",COUNTRY_INFO!C11))","v":"BULA ATUMBA"},{"$f":"IF(INTRO!$E$39=\"Non-endemic\",0,IF(INTRO!$E$39=\"Endemic but PC is not required\",IF(COUNTRY_INFO!$H11=1,COUNTRY_INFO!F11+COUNTRY_INFO!G11,0),IF(COUNTRY_INFO!$H11=1,COUNTRY_INFO!F11+COUNTRY_INFO!G11,IF(COUNTRY_INFO!$I11=1,IF(COUNTRY_INFO!N11>=(COUNTRY_INFO!F11+COUNTRY_INFO!G11),COUNTRY_INFO!F11+COUNTRY_INFO!G11,COUNTRY_INFO!$N11),0))))","v":15786},{"$f":"IF(AND(INTRO!$E$39=\"Non-endemic\",INTRO!$E$37=\"Non-endemic\"),\"Not required\",IF(INTRO!$E$39=\"Non-endemic\",\"Treat with DEC\",COUNTRY_INFO!W11))","v":1},{"$f":"IF(INTRO!$E$39<>\"Non-endemic\",COUNTRY_INFO!X11,\"Not required\")","v":0},{"$f":"IF(COUNTRY_INFO!H11=1, IF($E11=1,IF(ALB_MBD!$G11<>\" \",COUNTRY_INFO!F11+COUNTRY_INFO!G11-ALB_MBD!$G11,COUNTRY_INFO!F11+COUNTRY_INFO!G11), 0),0)","v":15786},{"$f":"IF(INTRO!$E$39<>\"Endemic\",0, IF(AND(COUNTRY_INFO!$I11=1,$F11<>0),IF(COUNTRY_INFO!N11>=(COUNTRY_INFO!F11+COUNTRY_INFO!G11),COUNTRY_INFO!F11+COUNTRY_INFO!G11,COUNTRY_INFO!$N11), 0))","v":0},{"$f":"IF(G11<H11,0,IF($E11=1, (G11-H11)*2.8, 0))","v":44200.799999999996},{"$f":"IF($E11<$F11, H11*(F11-E11)*2.8, 0)","v":0},{"$f":"IF(AND($E11=1, $F11<>0), H11*2.8, 0)","v":0},{"$f":"SUM(I11:K11)","v":44200.799999999996},null,44200.799999999996]
[{"$f":"IF(INTRO!$E$39=\"Non-endemic\",\" \",IF(COUNTRY_INFO!A12=0,\" \",COUNTRY_INFO!A12))","v":"Angola"},{"$f":"IF(INTRO!$E$39=\"Non-endemic\",\" \",IF(COUNTRY_INFO!B12=0,\" \",COUNTRY_INFO!B12))","v":"BENGO"},{"$f":"IF(INTRO!$E$39=\"Non-endemic\",\" \",IF(COUNTRY_INFO!C12=0,\" \",COUNTRY_INFO!C12))","v":"DANDE"},{"$f":"IF(INTRO!$E$39=\"Non-endemic\",0,IF(INTRO!$E$39=\"Endemic but PC is not required\",IF(COUNTRY_INFO!$H12=1,COUNTRY_INFO!F12+COUNTRY_INFO!G12,0),IF(COUNTRY_INFO!$H12=1,COUNTRY_INFO!F12+COUNTRY_INFO!G12,IF(COUNTRY_INFO!$I12=1,IF(COUNTRY_INFO!N12>=(COUNTRY_INFO!F12+COUNTRY_INFO!G12),COUNTRY_INFO!F12+COUNTRY_INFO!G12,COUNTRY_INFO!$N12),0))))","v":261079},{"$f":"IF(AND(INTRO!$E$39=\"Non-endemic\",INTRO!$E$37=\"Non-endemic\"),\"Not required\",IF(INTRO!$E$39=\"Non-endemic\",\"Treat with DEC\",COUNTRY_INFO!W12))","v":1},{"$f":"IF(INTRO!$E$39<>\"Non-endemic\",COUNTRY_INFO!X12,\"Not required\")","v":0},{"$f":"IF(COUNTRY_INFO!H12=1, IF($E12=1,IF(ALB_MBD!$G12<>\" \",COUNTRY_INFO!F12+COUNTRY_INFO!G12-ALB_MBD!$G12,COUNTRY_INFO!F12+COUNTRY_INFO!G12), 0),0)","v":261079},{"$f":"IF(INTRO!$E$39<>\"Endemic\",0, IF(AND(COUNTRY_INFO!$I12=1,$F12<>0),IF(COUNTRY_INFO!N12>=(COUNTRY_INFO!F12+COUNTRY_INFO!G12),COUNTRY_INFO!F12+COUNTRY_INFO!G12,COUNTRY_INFO!$N12), 0))","v":0},731021.2,0,0,731021.2,null,731021.2]
[{"$f":"IF(INTRO!$E$39=\"Non-endemic\",\" \",IF(COUNTRY_INFO!A13=0,\" \",COUNTRY_INFO!A13))","v":"Angola"},{"$f":"IF(INTRO!$E$39=\"Non-endemic\",\" \",IF(COUNTRY_INFO!B13=0,\" \",COUNTRY_INFO!B13))","v":"BENGO"},{"$f":"IF(INTRO!$E$39=\"Non-endemic\",\" \",IF(COUNTRY_INFO!C13=0,\" \",COUNTRY_INFO!C13))","v":"DEMBOS"},{"$f":"IF(INTRO!$E$39=\"Non-endemic\",0,IF(INTRO!$E$39=\"Endemic but PC is not required\",IF(COUNTRY_INFO!$H13=1,COUNTRY_INFO!F13+COUNTRY_INFO!G13,0),IF(COUNTRY_INFO!$H13=1,COUNTRY_INFO!F13+COUNTRY_INFO!G13,IF(COUNTRY_INFO!$I13=1,IF(COUNTRY_INFO!N13>=(COUNTRY_INFO!F13+COUNTRY_INFO!G13),COUNTRY_INFO!F13+COUNTRY_INFO!G13,COUNTRY_INFO!$N13),0))))","v":35264},{"$f":"IF(AND(INTRO!$E$39=\"Non-endemic\",INTRO!$E$37=\"Non-endemic\"),\"Not required\",IF(INTRO!$E$39=\"Non-endemic\",\"Treat with DEC\",COUNTRY_INFO!W13))","v":1},{"$f":"IF(INTRO!$E$39<>\"Non-endemic\",COUNTRY_INFO!X13,\"Not required\")","v":0},{"$f":"IF(COUNTRY_INFO!H13=1, IF($E13=1,IF(ALB_MBD!$G13<>\" \",COUNTRY_INFO!F13+COUNTRY_INFO!G13-ALB_MBD!$G13,COUNTRY_INFO!F13+COUNTRY_INFO!G13), 0),0)","v":35264},{"$f":"IF(INTRO!$E$39<>\"Endemic\",0, IF(AND(COUNTRY_INFO!$I13=1,$F13<>0),IF(COUNTRY_INFO!N13>=(COUNTRY_INFO!F13+COUNTRY_INFO!G13),COUNTRY_INFO!F13+COUNTRY_INFO!G13,COUNTRY_INFO!$N13), 0))","v":0},98739.199999999997,0,0,98739.199999999997,null,98739.199999999997]
[{"$f":"IF(INTRO!$E$39=\"Non-endemic\",\" \",IF(COUNTRY_INFO!A14=0,\" \",COUNTRY_INFO!A14))","v":"Angola"},{"$f":"IF(INTRO!$E$39=\"Non-endemic\",\" \",IF(COUNTRY_INFO!B14=0,\" \",COUNTRY_INFO!B14))","v":"BENGO"},{"$f":"IF(INTRO!$E$39=\"Non-endemic\",\" \",IF(COUNTRY_INFO!C14=0,\" \",COUNTRY_INFO!C14))","v":"NAMBUANGONGO"},{"$f":"IF(INTRO!$E$39=\"Non-endemic\",0,IF(INTRO!$E$39=\"Endemic but PC is not required\",IF(COUNTRY_INFO!$H14=1,COUNTRY_INFO!F14+COUNTRY_INFO!G14,0),IF(COUNTRY_INFO!$H14=1,COUNTRY_INFO!F14+COUNTRY_INFO!G14,IF(COUNTRY_INFO!$I14=1,IF(COUNTRY_INFO!N14>=(COUNTRY_INFO!F14+COUNTRY_INFO!G14),COUNTRY_INFO!F14+COUNTRY_INFO!G14,COUNTRY_INFO!$N14),0))))","v":71431},{"$f":"IF(AND(INTRO!$E$39=\"Non-endemic\",INTRO!$E$37=\"Non-endemic\"),\"Not required\",IF(INTRO!$E$39=\"Non-endemic\",\"Treat with DEC\",COUNTRY_INFO!W14))","v":1},{"$f":"IF(INTRO!$E$39<>\"Non-endemic\",COUNTRY_INFO!X14,\"Not required\")","v":0},{"$f":"IF(COUNTRY_INFO!H14=1, IF($E14=1,IF(ALB_MBD!$G14<>\" \",COUNTRY_INFO!F14+COUNTRY_INFO!G14-ALB_MBD!$G14,COUNTRY_INFO!F14+COUNTRY_INFO!G14), 0),0)","v":71431},{"$f":"IF(INTRO!$E$39<>\"Endemic\",0, IF(AND(COUNTRY_INFO!$I14=1,$F14<>0),IF(COUNTRY_INFO!N14>=(COUNTRY_INFO!F14+COUNTRY_INFO!G14),COUNTRY_INFO!F14+COUNTRY_INFO!G14,COUNTRY_INFO!$N14), 0))","v":0},200006.8,0,0,200006.8,null,200006.8]
[{"$f":"IF(INTRO!$E$39=\"Non-endemic\",\" \",IF(COUNTRY_INFO!A15=0,\" \",COUNTRY_INFO!A15))","v":"Angola"},{"$f":"IF(INTRO!$E$39=\"Non-endemic\",\" \",IF(COUNTRY_INFO!B15=0,\" \",COUNTRY_INFO!B15))","v":"BENGO"},{"$f":"IF(INTRO!$E$39=\"Non-endemic\",\" \",IF(COUNTRY_INFO!C15=0,\" \",COUNTRY_INFO!C15))","v":"PANGO ALUQUEM"},{"$f":"IF(INTRO!$E$39=\"Non-endemic\",0,IF(INTRO!$E$39=\"Endemic but PC is not required\",IF(COUNTRY_INFO!$H15=1,COUNTRY_INFO!F15+COUNTRY_INFO!G15,0),IF(COUNTRY_INFO!$H15=1,COUNTRY_INFO!F15+COUNTRY_INFO!G15,IF(COUNTRY_INFO!$I15=1,IF(COUNTRY_INFO!N15>=(COUNTRY_INFO!F15+COUNTRY_INFO!G15),COUNTRY_INFO!F15+COUNTRY_INFO!G15,COUNTRY_INFO!$N15),0))))","v":0},{"$f":"IF(AND(INTRO!$E$39=\"Non-endemic\",INTRO!$E$37=\"Non-endemic\"),\"Not required\",IF(INTRO!$E$39=\"Non-endemic\",\"Treat with DEC\",COUNTRY_INFO!W15))","v":0},{"$f":"IF(INTRO!$E$39<>\"Non-endemic\",COUNTRY_INFO!X15,\"Not required\")","v":0},{"$f":"IF(COUNTRY_INFO!H15=1, IF($E15=1,IF(ALB_MBD!$G15<>\" \",COUNTRY_INFO!F15+COUNTRY_INFO!G15-ALB_MBD!$G15,COUNTRY_INFO!F15+COUNTRY_INFO!G15), 0),0)","v":0},{"$f":"IF(INTRO!$E$39<>\"Endemic\",0, IF(AND(COUNTRY_INFO!$I15=1,$F15<>0),IF(COUNTRY_INFO!N15>=(COUNTRY_INFO!F15+COUNTRY_INFO!G15),COUNTRY_INFO!F15+COUNTRY_INFO!G15,COUNTRY_INFO!$N15), 0))","v":0},0,0,0,0,null,0]
[{"$f":"IF(INTRO!$E$39=\"Non-endemic\",\" \",IF(COUNTRY_INFO!A16=0,\" \",COUNTRY_INFO!A16))","v":"Angola"},{"$f":"IF(INTRO!$E$39=\"Non-endemic\",\" \",IF(COUNTRY_INFO!B16=0,\" \",COUNTRY_INFO!B16))","v":"BENGUELA"},{"$f":"IF(INTRO!$E$39=\"Non-endemic\",\" \",IF(COUNTRY_INFO!C16=0,\" \",COUNTRY_INFO!C16))","v":"BAIA FARTA"},{"$f":"IF(INTRO!$E$39=\"Non-endemic\",0,IF(INTRO!$E$39=\"Endemic but PC is not required\",IF(COUNTRY_INFO!$H16=1,COUNTRY_INFO!F16+COUNTRY_INFO!G16,0),IF(COUNTRY_INFO!$H16=1,COUNTRY_INFO!F16+COUNTRY_INFO!G16,IF(COUNTRY_INFO!$I16=1,IF(COUNTRY_INFO!N16>=(COUNTRY_INFO!F16+COUNTRY_INFO!G16),COUNTRY_INFO!F16+COUNTRY_INFO!G16,COUNTRY_INFO!$N16),0))))","v":0},{"$f":"IF(AND(INTRO!$E$39=\"Non-endemic\",INTRO!$E$37=\"Non-endemic\"),\"Not required\",IF(INTRO!$E$39=\"Non-endemic\",\"Treat with DEC\",COUNTRY_INFO!W16))","v":0},{"$f":"IF(INTRO!$E$39<>\"Non-endemic\",COUNTRY_INFO!X16,\"Not required\")","v":0},{"$f":"IF(COUNTRY_INFO!H16=1, IF($E16=1,IF(ALB_MBD!$G16<>\" \",COUNTRY_INFO!F16+COUNTRY_INFO!G16-ALB_MBD!$G16,COUNTRY_INFO!F16+COUNTRY_INFO!G16), 0),0)","v":0},{"$f":"IF(INTRO!$E$39<>\"Endemic\",0, IF(AND(COUNTRY_INFO!$I16=1,$F16<>0),IF(COUNTRY_INFO!N16>=(COUNTRY_INFO!F16+COUNTRY_INFO!G16),COUNTRY_INFO!F16+COUNTRY_INFO!G16,COUNTRY_INFO!$N16), 0))","v":0},0,0,0,0,null,0]
[{"$f":"IF(INTRO!$E$39=\"Non-endemic\",\" \",IF(COUNTRY_INFO!A17=0,\" \",COUNTRY_INFO!A17))","v":"Angola"},{"$f":"IF(INTRO!$E$39=\"Non-endemic\",\" \",IF(COUNTRY_INFO!B17=0,\" \",COUNTRY_INFO!B17))","v":"BENGUELA"},{"$f":"IF(INTRO!$E$39=\"Non-endemic\",\" \",IF(COUNTRY_INFO!C17=0,\" \",COUNTRY_INFO!C17))","v":"BALOMBO"},{"$f":"IF(INTRO!$E$39=\"Non-endemic\",0,IF(INTRO!$E$39=\"Endemic but PC is not required\",IF(COUNTRY_INFO!$H17=1,COUNTRY_INFO!F17+COUNTRY_INFO!G17,0),IF(COUNTRY_INFO!$H17=1,COUNTRY_INFO!F17+COUNTRY_INFO!G17,IF(COUNTRY_INFO!$I17=1,IF(COUNTRY_INFO!N17>=(COUNTRY_INFO!F17+COUNTRY_INFO!G17),COUNTRY_INFO!F17+COUNTRY_INFO!G17,COUNTRY_INFO!$N17),0))))","v":0},{"$f":"IF(AND(INTRO!$E$39=\"Non-endemic\",INTRO!$E$37=\"Non-endemic\"),\"Not required\",IF(INTRO!$E$39=\"Non-endemic\",\"Treat with DEC\",COUNTRY_INFO!W17))","v":0},{"$f":"IF(INTRO!$E$39<>\"Non-endemic\",COUNTRY_INFO!X17,\"Not required\")","v":0},{"$f":"IF(COUNTRY_INFO!H17=1, IF($E17=1,IF(ALB_MBD!$G17<>\" \",COUNTRY_INFO!F17+COUNTRY_INFO!G17-ALB_MBD!$G17,COUNTRY_INFO!F17+COUNTRY_INFO!G17), 0),0)","v":0},{"$f":"IF(INTRO!$E$39<>\"Endemic\",0, IF(AND(COUNTRY_INFO!$I17=1,$F17<>0),IF(COUNTRY_INFO!N17>=(COUNTRY_INFO!F17+COUNTRY_INFO!G17),COUNTRY_INFO!F17+COUNTRY_INFO!G17,COUNTRY_INFO!$N17), 0))","v":0},0,0,0,0,null,0]
[{"$f":"IF(INTRO!$E$39=\"Non-endemic\",\" \",IF(COUNTRY_INFO!A18=0,\" \",COUNTRY_INFO!A18))","v":"Angola"},{"$f":"IF(INTRO!$E$39=\"Non-endemic\",\" \",IF(COUNTRY_INFO!B18=0,\" \",COUNTRY_INFO!B18))","v":"BENGUELA"},{"$f":"IF(INTRO!$E$39=\"Non-endemic\",\" \",IF(COUNTRY_INFO!C18=0,\" \",COUNTRY_INFO!C18))","v":"BENGUELA"},{"$f":"IF(INTRO!$E$39=\"Non-endemic\",0,IF(INTRO!$E$39=\"Endemic but PC is not required\",IF(COUNTRY_INFO!$H18=1,COUNTRY_INFO!F18+COUNTRY_INFO!G18,0),IF(COUNTRY_INFO!$H18=1,COUNTRY_INFO!F18+COUNTRY_INFO!G18,IF(COUNTRY_INFO!$I18=1,IF(COUNTRY_INFO!N18>=(COUNTRY_INFO!F18+COUNTRY_INFO!G18),COUNTRY_INFO!F18+COUNTRY_INFO!G18,COUNTRY_INFO!$N18),0))))","v":0},{"$f":"IF(AND(INTRO!$E$39=\"Non-endemic\",INTRO!$E$37=\"Non-endemic\"),\"Not required\",IF(INTRO!$E$39=\"Non-endemic\",\"Treat with DEC\",COUNTRY_INFO!W18))","v":0},{"$f":"IF(INTRO!$E$39<>\"Non-endemic\",COUNTRY_INFO!X18,\"Not required\")","v":0},{"$f":"IF(COUNTRY_INFO!H18=1, IF($E18=1,IF(ALB_MBD!$G18<>\" \",COUNTRY_INFO!F18+COUNTRY_INFO!G18-ALB_MBD!$G18,COUNTRY_INFO!F18+COUNTRY_INFO!G18), 0),0)","v":0},{"$f":"IF(INTRO!$E$39<>\"Endemic\",0, IF(AND(COUNTRY_INFO!$I18=1,$F18<>0),IF(COUNTRY_INFO!N18>=(COUNTRY_INFO!F18+COUNTRY_INFO!G18),COUNTRY_INFO!F18+COUNTRY_INFO!G18,COUNTRY_INFO!$N18), 0))","v":0},0,0,0,0,null,0]
[{"$f":"IF(INTRO!$E$39=\"Non-endemic\",\" \",IF(COUNTRY_INFO!A19=0,\" \",COUNTRY_INFO!A19))","v":"Angola"},{"$f":"IF(INTRO!$E$39=\"Non-endemic\",\" \",IF(COUNTRY_INFO!B19=0,\" \",COUNTRY_INFO!B19))","v":"BENGUELA"},{"$f":"IF(INTRO!$E$39=\"Non-endemic\",\" \",IF(COUNTRY_INFO!C19=0,\" \",COUNTRY_INFO!C19))","v":"BOCOIO"},{"$f":"IF(INTRO!$E$39=\"Non-endemic\",0,IF(INTRO!$E$39=\"Endemic but PC is not required\",IF(COUNTRY_INFO!$H19=1,COUNTRY_INFO!F19+COUNTRY_INFO!G19,0),IF(COUNTRY_INFO!$H19=1,COUNTRY_INFO!F19+COUNTRY_INFO!G19,IF(COUNTRY_INFO!$I19=1,IF(COUNTRY_INFO!N19>=(COUNTRY_INFO!F19+COUNTRY_INFO!G19),COUNTRY_INFO!F19+COUNTRY_INFO!G19,COUNTRY_INFO!$N19),0))))","v":0},{"$f":"IF(AND(INTRO!$E$39=\"Non-endemic\",INTRO!$E$37=\"Non-endemic\"),\"Not required\",IF(INTRO!$E$39=\"Non-endemic\",\"Treat with DEC\",COUNTRY_INFO!W19))","v":0},{"$f":"IF(INTRO!$E$39<>\"Non-endemic\",COUNTRY_INFO!X19,\"Not required\")","v":0},{"$f":"IF(COUNTRY_INFO!H19=1, IF($E19=1,IF(ALB_MBD!$G19<>\" \",COUNTRY_INFO!F19+COUNTRY_INFO!G19-ALB_MBD!$G19,COUNTRY_INFO!F19+COUNTRY_INFO!G19), 0),0)","v":0},{"$f":"IF(INTRO!$E$39<>\"Endemic\",0, IF(AND(COUNTRY_INFO!$I19=1,$F19<>0),IF(COUNTRY_INFO!N19>=(COUNTRY_INFO!F19+COUNTRY_INFO!G19),COUNTRY_INFO!F19+COUNTRY_INFO!G19,COUNTRY_INFO!$N19), 0))","v":0},0,0,0,0,null,0]
[{"$f":"IF(INTRO!$E$39=\"Non-endemic\",\" \",IF(COUNTRY_INFO!A20=0,\" \",COUNTRY_INFO!A20))","v":"Angola"},{"$f":"IF(INTRO!$E$39=\"Non-endemic\",\" \",IF(COUNTRY_INFO!B20=0,\" \",COUNTRY_INFO!B20))","v":"BENGUELA"},{"$f":"IF(INTRO!$E$39=\"Non-endemic\",\" \",IF(COUNTRY_INFO!C20=0,\" \",COUNTRY_INFO!C20))","v":"CAIMBAMBO"},{"$f":"IF(INTRO!$E$39=\"Non-endemic\",0,IF(INTRO!$E$39=\"Endemic but PC is not required\",IF(COUNTRY_INFO!$H20=1,COUNTRY_INFO!F20+COUNTRY_INFO!G20,0),IF(COUNTRY_INFO!$H20=1,COUNTRY_INFO!F20+COUNTRY_INFO!G20,IF(COUNTRY_INFO!$I20=1,IF(COUNTRY_INFO!N20>=(COUNTRY_INFO!F20+COUNTRY_INFO!G20),COUNTRY_INFO!F20+COUNTRY_INFO!G20,COUNTRY_INFO!$N20),0))))","v":0},{"$f":"IF(AND(INTRO!$E$39=\"Non-endemic\",INTRO!$E$37=\"Non-endemic\"),\"Not required\",IF(INTRO!$E$39=\"Non-endemic\",\"Treat with DEC\",COUNTRY_INFO!W20))","v":0},{"$f":"IF(INTRO!$E$39<>\"Non-endemic\",COUNTRY_INFO!X20,\"Not required\")","v":0},{"$f":"IF(COUNTRY_INFO!H20=1, IF($E20=1,IF(ALB_MBD!$G20<>\" \",COUNTRY_INFO!F20+COUNTRY_INFO!G20-ALB_MBD!$G20,COUNTRY_INFO!F20+COUNTRY_INFO!G20), 0),0)","v":0},{"$f":"IF(INTRO!$E$39<>\"Endemic\",0, IF(AND(COUNTRY_INFO!$I20=1,$F20<>0),IF(COUNTRY_INFO!N20>=(COUNTRY_INFO!F20+COUNTRY_INFO!G20),COUNTRY_INFO!F20+COUNTRY_INFO!G20,COUNTRY_INFO!$N20), 0))","v":0},0,0,0,0,null,0]
[{"$f":"IF(INTRO!$E$39=\"Non-endemic\",\" \",IF(COUNTRY_INFO!A21=0,\" \",COUNTRY_INFO!A21))","v":"Angola"},{"$f":"IF(INTRO!$E$39=\"Non-endemic\",\" \",IF(COUNTRY_INFO!B21=0,\" \",COUNTRY_INFO!B21))","v":"BENGUELA"},{"$f":"IF(INTRO!$E$39=\"Non-endemic\",\" \",IF(COUNTRY_INFO!C21=0,\" \",COUNTRY_INFO!C21))","v":"CATUMBELA"},{"$f":"IF(INTRO!$E$39=\"Non-endemic\",0,IF(INTRO!$E$39=\"Endemic but PC is not required\",IF(COUNTRY_INFO!$H21=1,COUNTRY_INFO!F21+COUNTRY_INFO!G21,0),IF(COUNTRY_INFO!$H21=1,COUNTRY_INFO!F21+COUNTRY_INFO!G21,IF(COUNTRY_INFO!$I21=1,IF(COUNTRY_INFO!N21>=(COUNTRY_INFO!F21+COUNTRY_INFO!G21),COUNTRY_INFO!F21+COUNTRY_INFO!G21,COUNTRY_INFO!$N21),0))))","v":0},{"$f":"IF(AND(INTRO!$E$39=\"Non-endemic\",INTRO!$E$37=\"Non-endemic\"),\"Not required\",IF(INTRO!$E$39=\"Non-endemic\",\"Treat with DEC\",COUNTRY_INFO!W21))","v":0},{"$f":"IF(INTRO!$E$39<>\"Non-endemic\",COUNTRY_INFO!X21,\"Not required\")","v":0},{"$f":"IF(COUNTRY_INFO!H21=1, IF($E21=1,IF(ALB_MBD!$G21<>\" \",COUNTRY_INFO!F21+COUNTRY_INFO!G21-ALB_MBD!$G21,COUNTRY_INFO!F21+COUNTRY_INFO!G21), 0),0)","v":0},{"$f":"IF(INTRO!$E$39<>\"Endemic\",0, IF(AND(COUNTRY_INFO!$I21=1,$F21<>0),IF(COUNTRY_INFO!N21>=(COUNTRY_INFO!F21+COUNTRY_INFO!G21),COUNTRY_INFO!F21+COUNTRY_INFO!G21,COUNTRY_INFO!$N21), 0))","v":0},0,0,0,0,null,0]
[{"$f":"IF(INTRO!$E$39=\"Non-endemic\",\" \",IF(COUNTRY_INFO!A22=0,\" \",COUNTRY_INFO!A22))","v":"Angola"},{"$f":"IF(INTRO!$E$39=\"Non-endemic\",\" \",IF(COUNTRY_INFO!B22=0,\" \",COUNTRY_INFO!B22))","v":"BENGUELA"},{"$f":"IF(INTRO!$E$39=\"Non-endemic\",\" \",IF(COUNTRY_INFO!C22=0,\" \",COUNTRY_INFO!C22))","v":"CHONGOROI"},{"$f":"IF(INTRO!$E$39=\"Non-endemic\",0,IF(INTRO!$E$39=\"Endemic but PC is not required\",IF(COUNTRY_INFO!$H22=1,COUNTRY_INFO!F22+COUNTRY_INFO!G22,0),IF(COUNTRY_INFO!$H22=1,COUNTRY_INFO!F22+COUNTRY_INFO!G22,IF(COUNTRY_INFO!$I22=1,IF(COUNTRY_INFO!N22>=(COUNTRY_INFO!F22+COUNTRY_INFO!G22),COUNTRY_INFO!F22+COUNTRY_INFO!G22,COUNTRY_INFO!$N22),0))))","v":0},{"$f":"IF(AND(INTRO!$E$39=\"Non-endemic\",INTRO!$E$37=\"Non-endemic\"),\"Not required\",IF(INTRO!$E$39=\"Non-endemic\",\"Treat with DEC\",COUNTRY_INFO!W22))","v":0},{"$f":"IF(INTRO!$E$39<>\"Non-endemic\",COUNTRY_INFO!X22,\"Not required\")","v":0},{"$f":"IF(COUNTRY_INFO!H22=1, IF($E22=1,IF(ALB_MBD!$G22<>\" \",COUNTRY_INFO!F22+COUNTRY_INFO!G22-ALB_MBD!$G22,COUNTRY_INFO!F22+COUNTRY_INFO!G22), 0),0)","v":0},{"$f":"IF(INTRO!$E$39<>\"Endemic\",0, IF(AND(COUNTRY_INFO!$I22=1,$F22<>0),IF(COUNTRY_INFO!N22>=(COUNTRY_INFO!F22+COUNTRY_INFO!G22),COUNTRY_INFO!F22+COUNTRY_INFO!G22,COUNTRY_INFO!$N22), 0))","v":0},0,0,0,0,null,0]
[{"$f":"IF(INTRO!$E$39=\"Non-endemic\",\" \",IF(COUNTRY_INFO!A23=0,\" \",COUNTRY_INFO!A23))","v":"Angola"},{"$f":"IF(INTRO!$E$39=\"Non-endemic\",\" \",IF(COUNTRY_INFO!B23=0,\" \",COUNTRY_INFO!B23))","v":"BENGUELA"},{"$f":"IF(INTRO!$E$39=\"Non-endemic\",\" \",IF(COUNTRY_INFO!C23=0,\" \",COUNTRY_INFO!C23))","v":"CUBAL"},{"$f":"IF(INTRO!$E$39=\"Non-endemic\",0,IF(INTRO!$E$39=\"Endemic but PC is not required\",IF(COUNTRY_INFO!$H23=1,COUNTRY_INFO!F23+COUNTRY_INFO!G23,0),IF(COUNTRY_INFO!$H23=1,COUNTRY_INFO!F23+COUNTRY_INFO!G23,IF(COUNTRY_INFO!$I23=1,IF(COUNTRY_INFO!N23>=(COUNTRY_INFO!F23+COUNTRY_INFO!G23),COUNTRY_INFO!F23+COUNTRY_INFO!G23,COUNTRY_INFO!$N23),0))))","v":0},{"$f":"IF(AND(INTRO!$E$39=\"Non-endemic\",INTRO!$E$37=\"Non-endemic\"),\"Not required\",IF(INTRO!$E$39=\"Non-endemic\",\"Treat with DEC\",COUNTRY_INFO!W23))","v":0},{"$f":"IF(INTRO!$E$39<>\"Non-endemic\",COUNTRY_INFO!X23,\"Not required\")","v":0},{"$f":"IF(COUNTRY_INFO!H23=1, IF($E23=1,IF(ALB_MBD!$G23<>\" \",COUNTRY_INFO!F23+COUNTRY_INFO!G23-ALB_MBD!$G23,COUNTRY_INFO!F23+COUNTRY_INFO!G23), 0),0)","v":0},{"$f":"IF(INTRO!$E$39<>\"Endemic\",0, IF(AND(COUNTRY_INFO!$I23=1,$F23<>0),IF(COUNTRY_INFO!N23>=(COUNTRY_INFO!F23+COUNTRY_INFO!G23),COUNTRY_INFO!F23+COUNTRY_INFO!G23,COUNTRY_INFO!$N23), 0))","v":0},0,0,0,0,null,0]
[{"$f":"IF(INTRO!$E$39=\"Non-endemic\",\" \",IF(COUNTRY_INFO!A24=0,\" \",COUNTRY_INFO!A24))","v":"Angola"},{"$f":"IF(INTRO!$E$39=\"Non-endemic\",\" \",IF(COUNTRY_INFO!B24=0,\" \",COUNTRY_INFO!B24))","v":"BENGUELA"},{"$f":"IF(INTRO!$E$39=\"Non-endemic\",\" \",IF(COUNTRY_INFO!C24=0,\" \",COUNTRY_INFO!C24))","v":"GANDA"},{"$f":"IF(INTRO!$E$39=\"Non-endemic\",0,IF(INTRO!$E$39=\"Endemic but PC is not required\",IF(COUNTRY_INFO!$H24=1,COUNTRY_INFO!F24+COUNTRY_INFO!G24,0),IF(COUNTRY_INFO!$H24=1,COUNTRY_INFO!F24+COUNTRY_INFO!G24,IF(COUNTRY_INFO!$I24=1,IF(COUNTRY_INFO!N24>=(COUNTRY_INFO!F24+COUNTRY_INFO!G24),COUNTRY_INFO!F24+COUNTRY_INFO!G24,COUNTRY_INFO!$N24),0))))","v":0},{"$f":"IF(AND(INTRO!$E$39=\"Non-endemic\",INTRO!$E$37=\"Non-endemic\"),\"Not required\",IF(INTRO!$E$39=\"Non-endemic\",\"Treat with DEC\",COUNTRY_INFO!W24))","v":0},{"$f":"IF(INTRO!$E$39<>\"Non-endemic\",COUNTRY_INFO!X24,\"Not required\")","v":0},{"$f":"IF(COUNTRY_INFO!H24=1, IF($E24=1,IF(ALB_MBD!$G24<>\" \",COUNTRY_INFO!F24+COUNTRY_INFO!G24-ALB_MBD!$G24,COUNTRY_INFO!F24+COUNTRY_INFO!G24), 0),0)","v":0},{"$f":"IF(INTRO!$E$39<>\"Endemic\",0, IF(AND(COUNTRY_INFO!$I24=1,$F24<>0),IF(COUNTRY_INFO!N24>=(COUNTRY_INFO!F24+COUNTRY_INFO!G24),COUNTRY_INFO!F24+COUNTRY_INFO!G24,COUNTRY_INFO!$N24), 0))","v":0},0,0,0,0,null,0]
[{"$f":"IF(INTRO!$E$39=\"Non-endemic\",\" \",IF(COUNTRY_INFO!A25=0,\" \",COUNTRY_INFO!A25))","v":"Angola"},{"$f":"IF(INTRO!$E$39=\"Non-endemic\",\" \",IF(COUNTRY_INFO!B25=0,\" \",COUNTRY_INFO!B25))","v":"BENGUELA"},{"$f":"IF(INTRO!$E$39=\"Non-endemic\",\" \",IF(COUNTRY_INFO!C25=0,\" \",COUNTRY_INFO!C25))","v":"LOBITO"},{"$f":"IF(INTRO!$E$39=\"Non-endemic\",0,IF(INTRO!$E$39=\"Endemic but PC is not required\",IF(COUNTRY_INFO!$H25=1,COUNTRY_INFO!F25+COUNTRY_INFO!G25,0),IF(COUNTRY_INFO!$H25=1,COUNTRY_INFO!F25+COUNTRY_INFO!G25,IF(COUNTRY_INFO!$I25=1,IF(COUNTRY_INFO!N25>=(COUNTRY_INFO!F25+COUNTRY_INFO!G25),COUNTRY_INFO!F25+COUNTRY_INFO!G25,COUNTRY_INFO!$N25),0))))","v":411546},{"$f":"IF(AND(INTRO!$E$39=\"Non-endemic\",INTRO!$E$37=\"Non-endemic\"),\"Not required\",IF(INTRO!$E$39=\"Non-endemic\",\"Treat with DEC\",COUNTRY_INFO!W25))","v":1},{"$f":"IF(INTRO!$E$39<>\"Non-endemic\",COUNTRY_INFO!X25,\"Not required\")","v":0},{"$f":"IF(COUNTRY_INFO!H25=1, IF($E25=1,IF(ALB_MBD!$G25<>\" \",COUNTRY_INFO!F25+COUNTRY_INFO!G25-ALB_MBD!$G25,COUNTRY_INFO!F25+COUNTRY_INFO!G25), 0),0)","v":411546},{"$f":"IF(INTRO!$E$39<>\"Endemic\",0, IF(AND(COUNTRY_INFO!$I25=1,$F25<>0),IF(COUNTRY_INFO!N25>=(COUNTRY_INFO!F25+COUNTRY_INFO!G25),COUNTRY_INFO!F25+COUNTRY_INFO!G25,COUNTRY_INFO!$N25), 0))","v":0},1152328.7999999998,0,0,1152328.7999999998,null,1152328.7999999998]
[{"$f":"IF(INTRO!$E$39=\"Non-endemic\",\" \",IF(COUNTRY_INFO!A26=0,\" \",COUNTRY_INFO!A26))","v":"Angola"},{"$f":"IF(INTRO!$E$39=\"Non-endemic\",\" \",IF(COUNTRY_INFO!B26=0,\" \",COUNTRY_INFO!B26))","v":"BIE"},{"$f":"IF(INTRO!$E$39=\"Non-endemic\",\" \",IF(COUNTRY_INFO!C26=0,\" \",COUNTRY_INFO!C26))","v":"ANDULO"},{"$f":"IF(INTRO!$E$39=\"Non-endemic\",0,IF(INTRO!$E$39=\"Endemic but PC is not required\",IF(COUNTRY_INFO!$H26=1,COUNTRY_INFO!F26+COUNTRY_INFO!G26,0),IF(COUNTRY_INFO!$H26=1,COUNTRY_INFO!F26+COUNTRY_INFO!G26,IF(COUNTRY_INFO!$I26=1,IF(COUNTRY_INFO!N26>=(COUNTRY_INFO!F26+COUNTRY_INFO!G26),COUNTRY_INFO!F26+COUNTRY_INFO!G26,COUNTRY_INFO!$N26),0))))","v":282021},{"$f":"IF(AND(INTRO!$E$39=\"Non-endemic\",INTRO!$E$37=\"Non-endemic\"),\"Not required\",IF(INTRO!$E$39=\"Non-endemic\",\"Treat with DEC\",COUNTRY_INFO!W26))","v":0},{"$f":"IF(INTRO!$E$39<>\"Non-endemic\",COUNTRY_INFO!X26,\"Not required\")","v":1},{"$f":"IF(COUNTRY_INFO!H26=1, IF($E26=1,IF(ALB_MBD!$G26<>\" \",COUNTRY_INFO!F26+COUNTRY_INFO!G26-ALB_MBD!$G26,COUNTRY_INFO!F26+COUNTRY_INFO!G26), 0),0)","v":0},{"$f":"IF(INTRO!$E$39<>\"Endemic\",0, IF(AND(COUNTRY_INFO!$I26=1,$F26<>0),IF(COUNTRY_INFO!N26>=(COUNTRY_INFO!F26+COUNTRY_INFO!G26),COUNTRY_INFO!F26+COUNTRY_INFO!G26,COUNTRY_INFO!$N26), 0))","v":282021},0,789658.79999999993,0,789658.79999999993,null,789658.79999999993]
[{"$f":"IF(INTRO!$E$39=\"Non-endemic\",\" \",IF(COUNTRY_INFO!A27=0,\" \",COUNTRY_INFO!A27))","v":"Angola"},{"$f":"IF(INTRO!$E$39=\"Non-endemic\",\" \",IF(COUNTRY_INFO!B27=0,\" \",COUNTRY_INFO!B27))","v":"BIE"},{"$f":"IF(INTRO!$E$39=\"Non-endemic\",\" \",IF(COUNTRY_INFO!C27=0,\" \",COUNTRY_INFO!C27))","v":"CAMACUPA"},{"$f":"IF(INTRO!$E$39=\"Non-endemic\",0,IF(INTRO!$E$39=\"Endemic but PC is not required\",IF(COUNTRY_INFO!$H27=1,COUNTRY_INFO!F27+COUNTRY_INFO!G27,0),IF(COUNTRY_INFO!$H27=1,COUNTRY_INFO!F27+COUNTRY_INFO!G27,IF(COUNTRY_INFO!$I27=1,IF(COUNTRY_INFO!N27>=(COUNTRY_INFO!F27+COUNTRY_INFO!G27),COUNTRY_INFO!F27+COUNTRY_INFO!G27,COUNTRY_INFO!$N27),0))))","v":169246},{"$f":"IF(AND(INTRO!$E$39=\"Non-endemic\",INTRO!$E$37=\"Non-endemic\"),\"Not required\",IF(INTRO!$E$39=\"Non-endemic\",\"Treat with DEC\",COUNTRY_INFO!W27))","v":0},{"$f":"IF(INTRO!$E$39<>\"Non-endemic\",COUNTRY_INFO!X27,\"Not required\")","v":1},{"$f":"IF(COUNTRY_INFO!H27=1, IF($E27=1,IF(ALB_MBD!$G27<>\" \",COUNTRY_INFO!F27+COUNTRY_INFO!G27-ALB_MBD!$G27,COUNTRY_INFO!F27+COUNTRY_INFO!G27), 0),0)","v":0},{"$f":"IF(INTRO!$E$39<>\"Endemic\",0, IF(AND(COUNTRY_INFO!$I27=1,$F27<>0),IF(COUNTRY_INFO!N27>=(COUNTRY_INFO!F27+COUNTRY_INFO!G27),COUNTRY_INFO!F27+COUNTRY_INFO!G27,COUNTRY_INFO!$N27), 0))","v":169246},0,473888.8,0,473888.8,null,473888.8]
[{"$f":"IF(INTRO!$E$39=\"Non-endemic\",\" \",IF(COUNTRY_INFO!A28=0,\" \",COUNTRY_INFO!A28))","v":"Angola"},{"$f":"IF(INTRO!$E$39=\"Non-endemic\",\" \",IF(COUNTRY_INFO!B28=0,\" \",COUNTRY_INFO!B28))","v":"BIE"},{"$f":"IF(INTRO!$E$39=\"Non-endemic\",\" \",IF(COUNTRY_INFO!C28=0,\" \",COUNTRY_INFO!C28))","v":"CATABOLA"},{"$f":"IF(INTRO!$E$39=\"Non-endemic\",0,IF(INTRO!$E$39=\"Endemic but PC is not required\",IF(COUNTRY_INFO!$H28=1,COUNTRY_INFO!F28+COUNTRY_INFO!G28,0),IF(COUNTRY_INFO!$H28=1,COUNTRY_INFO!F28+COUNTRY_INFO!G28,IF(COUNTRY_INFO!$I28=1,IF(COUNTRY_INFO!N28>=(COUNTRY_INFO!F28+COUNTRY_INFO!G28),COUNTRY_INFO!F28+COUNTRY_INFO!G28,COUNTRY_INFO!$N28),0))))","v":138334},{"$f":"IF(AND(INTRO!$E$39=\"Non-endemic\",INTRO!$E$37=\"Non-endemic\"),\"Not required\",IF(INTRO!$E$39=\"Non-endemic\",\"Treat with DEC\",COUNTRY_INFO!W28))","v":0},{"$f":"IF(INTRO!$E$39<>\"Non-endemic\",COUNTRY_INFO!X28,\"Not required\")","v":1},{"$f":"IF(COUNTRY_INFO!H28=1, IF($E28=1,IF(ALB_MBD!$G28<>\" \",COUNTRY_INFO!F28+COUNTRY_INFO!G28-ALB_MBD!$G28,COUNTRY_INFO!F28+COUNTRY_INFO!G28), 0),0)","v":0},{"$f":"IF(INTRO!$E$39<>\"Endemic\",0, IF(AND(COUNTRY_INFO!$I28=1,$F28<>0),IF(COUNTRY_INFO!N28>=(COUNTRY_INFO!F28+COUNTRY_INFO!G28),COUNTRY_INFO!F28+COUNTRY_INFO!G28,COUNTRY_INFO!$N28), 0))","v":138334},0,387335.19999999995,0,387335.19999999995,null,387335.19999999995]
[{"$f":"IF(INTRO!$E$39=\"Non-endemic\",\" \",IF(COUNTRY_INFO!A29=0,\" \",COUNTRY_INFO!A29))","v":"Angola"},{"$f":"IF(INTRO!$E$39=\"Non-endemic\",\" \",IF(COUNTRY_INFO!B29=0,\" \",COUNTRY_INFO!B29))","v":"BIE"},{"$f":"IF(INTRO!$E$39=\"Non-endemic\",\" \",IF(COUNTRY_INFO!C29=0,\" \",COUNTRY_INFO!C29))","v":"CHINGUAR"},{"$f":"IF(INTRO!$E$39=\"Non-endemic\",0,IF(INTRO!$E$39=\"Endemic but PC is not required\",IF(COUNTRY_INFO!$H29=1,COUNTRY_INFO!F29+COUNTRY_INFO!G29,0),IF(COUNTRY_INFO!$H29=1,COUNTRY_INFO!F29+COUNTRY_INFO!G29,IF(COUNTRY_INFO!$I29=1,IF(COUNTRY_INFO!N29>=(COUNTRY_INFO!F29+COUNTRY_INFO!G29),COUNTRY_INFO!F29+COUNTRY_INFO!G29,COUNTRY_INFO!$N29),0))))","v":141325},{"$f":"IF(AND(INTRO!$E$39=\"Non-endemic\",INTRO!$E$37=\"Non-endemic\"),\"Not required\",IF(INTRO!$E$39=\"Non-endemic\",\"Treat with DEC\",COUNTRY_INFO!W29))","v":0},{"$f":"IF(INTRO!$E$39<>\"Non-endemic\",COUNTRY_INFO!X29,\"Not required\")","v":1},{"$f":"IF(COUNTRY_INFO!H29=1, IF($E29=1,IF(ALB_MBD!$G29<>\" \",COUNTRY_INFO!F29+COUNTRY_INFO!G29-ALB_MBD!$G29,COUNTRY_INFO!F29+COUNTRY_INFO!G29), 0),0)","v":0},{"$f":"IF(INTRO!$E$39<>\"Endemic\",0, IF(AND(COUNTRY_INFO!$I29=1,$F29<>0),IF(COUNTRY_INFO!N29>=(COUNTRY_INFO!F29+COUNTRY_INFO!G29),COUNTRY_INFO!F29+COUNTRY_INFO!G29,COUNTRY_INFO!$N29), 0))","v":141325},0,395710,0,395710,null,395710]
[{"$f":"IF(INTRO!$E$39=\"Non-endemic\",\" \",IF(COUNTRY_INFO!A30=0,\" \",COUNTRY_INFO!A30))","v":"Angola"},{"$f":"IF(INTRO!$E$39=\"Non-endemic\",\" \",IF(COUNTRY_INFO!B30=0,\" \",COUNTRY_INFO!B30))","v":"BIE"},{"$f":"IF(INTRO!$E$39=\"Non-endemic\",\" \",IF(COUNTRY_INFO!C30=0,\" \",COUNTRY_INFO!C30))","v":"CHITEMBO"},{"$f":"IF(INTRO!$E$39=\"Non-endemic\",0,IF(INTRO!$E$39=\"Endemic but PC is not required\",IF(COUNTRY_INFO!$H30=1,COUNTRY_INFO!F30+COUNTRY_INFO!G30,0),IF(COUNTRY_INFO!$H30=1,COUNTRY_INFO!F30+COUNTRY_INFO!G30,IF(COUNTRY_INFO!$I30=1,IF(COUNTRY_INFO!N30>=(COUNTRY_INFO!F30+COUNTRY_INFO!G30),COUNTRY_INFO!F30+COUNTRY_INFO!G30,COUNTRY_INFO!$N30),0))))","v":0},{"$f":"IF(AND(INTRO!$E$39=\"Non-endemic\",INTRO!$E$37=\"Non-endemic\"),\"Not required\",IF(INTRO!$E$39=\"Non-endemic\",\"Treat with DEC\",COUNTRY_INFO!W30))","v":0},{"$f":"IF(INTRO!$E$39<>\"Non-endemic\",COUNTRY_INFO!X30,\"Not required\")","v":0},{"$f":"IF(COUNTRY_INFO!H30=1, IF($E30=1,IF(ALB_MBD!$G30<>\" \",COUNTRY_INFO!F30+COUNTRY_INFO!G30-ALB_MBD!$G30,COUNTRY_INFO!F30+COUNTRY_INFO!G30), 0),0)","v":0},{"$f":"IF(INTRO!$E$39<>\"Endemic\",0, IF(AND(COUNTRY_INFO!$I30=1,$F30<>0),IF(COUNTRY_INFO!N30>=(COUNTRY_INFO!F30+COUNTRY_INFO!G30),COUNTRY_INFO!F30+COUNTRY_INFO!G30,COUNTRY_INFO!$N30), 0))","v":0},0,0,0,0,null,0]
[{"$f":"IF(INTRO!$E$39=\"Non-endemic\",\" \",IF(COUNTRY_INFO!A31=0,\" \",COUNTRY_INFO!A31))","v":"Angola"},{"$f":"IF(INTRO!$E$39=\"Non-endemic\",\" \",IF(COUNTRY_INFO!B31=0,\" \",COUNTRY_INFO!B31))","v":"BIE"},{"$f":"IF(INTRO!$E$39=\"Non-endemic\",\" \",IF(COUNTRY_INFO!C31=0,\" \",COUNTRY_INFO!C31))","v":"CUEMBA"},{"$f":"IF(INTRO!$E$39=\"Non-endemic\",0,IF(INTRO!$E$39=\"Endemic but PC is not required\",IF(COUNTRY_INFO!$H31=1,COUNTRY_INFO!F31+COUNTRY_INFO!G31,0),IF(COUNTRY_INFO!$H31=1,COUNTRY_INFO!F31+COUNTRY_INFO!G31,IF(COUNTRY_INFO!$I31=1,IF(COUNTRY_INFO!N31>=(COUNTRY_INFO!F31+COUNTRY_INFO!G31),COUNTRY_INFO!F31+COUNTRY_INFO!G31,COUNTRY_INFO!$N31),0))))","v":62229},{"$f":"IF(AND(INTRO!$E$39=\"Non-endemic\",INTRO!$E$37=\"Non-endemic\"),\"Not required\",IF(INTRO!$E$39=\"Non-endemic\",\"Treat with DEC\",COUNTRY_INFO!W31))","v":1},{"$f":"IF(INTRO!$E$39<>\"Non-endemic\",COUNTRY_INFO!X31,\"Not required\")","v":1},{"$f":"IF(COUNTRY_INFO!H31=1, IF($E31=1,IF(ALB_MBD!$G31<>\" \",COUNTRY_INFO!F31+COUNTRY_INFO!G31-ALB_MBD!$G31,COUNTRY_INFO!F31+COUNTRY_INFO!G31), 0),0)","v":62229},{"$f":"IF(INTRO!$E$39<>\"Endemic\",0, IF(AND(COUNTRY_INFO!$I31=1,$F31<>0),IF(COUNTRY_INFO!N31>=(COUNTRY_INFO!F31+COUNTRY_INFO!G31),COUNTRY_INFO!F31+COUNTRY_INFO!G31,COUNTRY_INFO!$N31), 0))","v":62229},0,0,174241.19999999998,174241.19999999998,null,174241.19999999998]
[{"$f":"IF(INTRO!$E$39=\"Non-endemic\",\" \",IF(COUNTRY_INFO!A32=0,\" \",COUNTRY_INFO!A32))","v":"Angola"},{"$f":"IF(INTRO!$E$39=\"Non-endemic\",\" \",IF(COUNTRY_INFO!B32=0,\" \",COUNTRY_INFO!B32))","v":"BIE"},{"$f":"IF(INTRO!$E$39=\"Non-endemic\",\" \",IF(COUNTRY_INFO!C32=0,\" \",COUNTRY_INFO!C32))","v":"CUITO"},{"$f":"IF(INTRO!$E$39=\"Non-endemic\",0,IF(INTRO!$E$39=\"Endemic but PC is not required\",IF(COUNTRY_INFO!$H32=1,COUNTRY_INFO!F32+COUNTRY_INFO!G32,0),IF(COUNTRY_INFO!$H32=1,COUNTRY_INFO!F32+COUNTRY_INFO!G32,IF(COUNTRY_INFO!$I32=1,IF(COUNTRY_INFO!N32>=(COUNTRY_INFO!F32+COUNTRY_INFO!G32),COUNTRY_INFO!F32+COUNTRY_INFO!G32,COUNTRY_INFO!$N32),0))))","v":492554},{"$f":"IF(AND(INTRO!$E$39=\"Non-endemic\",INTRO!$E$37=\"Non-endemic\"),\"Not required\",IF(INTRO!$E$39=\"Non-endemic\",\"Treat with DEC\",COUNTRY_INFO!W32))","v":0},{"$f":"IF(INTRO!$E$39<>\"Non-endemic\",COUNTRY_INFO!X32,\"Not required\")","v":1},{"$f":"IF(COUNTRY_INFO!H32=1, IF($E32=1,IF(ALB_MBD!$G32<>\" \",COUNTRY_INFO!F32+COUNTRY_INFO!G32-ALB_MBD!$G32,COUNTRY_INFO!F32+COUNTRY_INFO!G32), 0),0)","v":0},{"$f":"IF(INTRO!$E$39<>\"Endemic\",0, IF(AND(COUNTRY_INFO!$I32=1,$F32<>0),IF(COUNTRY_INFO!N32>=(COUNTRY_INFO!F32+COUNTRY_INFO!G32),COUNTRY_INFO!F32+COUNTRY_INFO!G32,COUNTRY_INFO!$N32), 0))","v":492554},0,1379151.2,0,1379151.2,null,1379151.2]
[{"$f":"IF(INTRO!$E$39=\"Non-endemic\",\" \",IF(COUNTRY_INFO!A33=0,\" \",COUNTRY_INFO!A33))","v":"Angola"},{"$f":"IF(INTRO!$E$39=\"Non-endemic\",\" \",IF(COUNTRY_INFO!B33=0,\" \",COUNTRY_INFO!B33))","v":"BIE"},{"$f":"IF(INTRO!$E$39=\"Non-endemic\",\" \",IF(COUNTRY_INFO!C33=0,\" \",COUNTRY_INFO!C33))","v":"CUNHINGA"},{"$f":"IF(INTRO!$E$39=\"Non-endemic\",0,IF(INTRO!$E$39=\"Endemic but PC is not required\",IF(COUNTRY_INFO!$H33=1,COUNTRY_INFO!F33+COUNTRY_INFO!G33,0),IF(COUNTRY_INFO!$H33=1,COUNTRY_INFO!F33+COUNTRY_INFO!G33,IF(COUNTRY_INFO!$I33=1,IF(COUNTRY_INFO!N33>=(COUNTRY_INFO!F33+COUNTRY_INFO!G33),COUNTRY_INFO!F33+COUNTRY_INFO!G33,COUNTRY_INFO!$N33),0))))","v":80650},{"$f":"IF(AND(INTRO!$E$39=\"Non-endemic\",INTRO!$E$37=\"Non-endemic\"),\"Not required\",IF(INTRO!$E$39=\"Non-endemic\",\"Treat with DEC\",COUNTRY_INFO!W33))","v":0},{"$f":"IF(INTRO!$E$39<>\"Non-endemic\",COUNTRY_INFO!X33,\"Not required\")","v":1},{"$f":"IF(COUNTRY_INFO!H33=1, IF($E33=1,IF(ALB_MBD!$G33<>\" \",COUNTRY_INFO!F33+COUNTRY_INFO!G33-ALB_MBD!$G33,COUNTRY_INFO!F33+COUNTRY_INFO!G33), 0),0)","v":0},{"$f":"IF(INTRO!$E$39<>\"Endemic\",0, IF(AND(COUNTRY_INFO!$I33=1,$F33<>0),IF(COUNTRY_INFO!N33>=(COUNTRY_INFO!F33+COUNTRY_INFO!G33),COUNTRY_INFO!F33+COUNTRY_INFO!G33,COUNTRY_INFO!$N33), 0))","v":80650},0,225820,0,225820,null,225820]
[{"$f":"IF(INTRO!$E$39=\"Non-endemic\",\" \",IF(COUNTRY_INFO!A34=0,\" \",COUNTRY_INFO!A34))","v":"Angola"},{"$f":"IF(INTRO!$E$39=\"Non-endemic\",\" \",IF(COUNTRY_INFO!B34=0,\" \",COUNTRY_INFO!B34))","v":"BIE"},{"$f":"IF(INTRO!$E$39=\"Non-endemic\",\" \",IF(COUNTRY_INFO!C34=0,\" \",COUNTRY_INFO!C34))","v":"NHAREA"},{"$f":"IF(INTRO!$E$39=\"Non-endemic\",0,IF(INTRO!$E$39=\"Endemic but PC is not required\",IF(COUNTRY_INFO!$H34=1,COUNTRY_INFO!F34+COUNTRY_INFO!G34,0),IF(COUNTRY_INFO!$H34=1,COUNTRY_INFO!F34+COUNTRY_INFO!G34,IF(COUNTRY_INFO!$I34=1,IF(COUNTRY_INFO!N34>=(COUNTRY_INFO!F34+COUNTRY_INFO!G34),COUNTRY_INFO!F34+COUNTRY_INFO!G34,COUNTRY_INFO!$N34),0))))","v":138016},{"$f":"IF(AND(INTRO!$E$39=\"Non-endemic\",INTRO!$E$37=\"Non-endemic\"),\"Not required\",IF(INTRO!$E$39=\"Non-endemic\",\"Treat with DEC\",COUNTRY_INFO!W34))","v":0},{"$f":"IF(INTRO!$E$39<>\"Non-endemic\",COUNTRY_INFO!X34,\"Not required\")","v":1},{"$f":"IF(COUNTRY_INFO!H34=1, IF($E34=1,IF(ALB_MBD!$G34<>\" \",COUNTRY_INFO!F34+COUNTRY_INFO!G34-ALB_MBD!$G34,COUNTRY_INFO!F34+COUNTRY_INFO!G34), 0),0)","v":0},{"$f":"IF(INTRO!$E$39<>\"Endemic\",0, IF(AND(COUNTRY_INFO!$I34=1,$F34<>0),IF(COUNTRY_INFO!N34>=(COUNTRY_INFO!F34+COUNTRY_INFO!G34),COUNTRY_INFO!F34+COUNTRY_INFO!G34,COUNTRY_INFO!$N34), 0))","v":138016},0,386444.79999999999,0,386444.79999999999,null,386444.79999999999]
[{"$f":"IF(INTRO!$E$39=\"Non-endemic\",\" \",IF(COUNTRY_INFO!A35=0,\" \",COUNTRY_INFO!A35))","v":"Angola"},{"$f":"IF(INTRO!$E$39=\"Non-endemic\",\" \",IF(COUNTRY_INFO!B35=0,\" \",COUNTRY_INFO!B35))","v":"CABINDA"},{"$f":"IF(INTRO!$E$39=\"Non-endemic\",\" \",IF(COUNTRY_INFO!C35=0,\" \",COUNTRY_INFO!C35))","v":"BELIZE"},{"$f":"IF(INTRO!$E$39=\"Non-endemic\",0,IF(INTRO!$E$39=\"Endemic but PC is not required\",IF(COUNTRY_INFO!$H35=1,COUNTRY_INFO!F35+COUNTRY_INFO!G35,0),IF(COUNTRY_INFO!$H35=1,COUNTRY_INFO!F35+COUNTRY_INFO!G35,IF(COUNTRY_INFO!$I35=1,IF(COUNTRY_INFO!N35>=(COUNTRY_INFO!F35+COUNTRY_INFO!G35),COUNTRY_INFO!F35+COUNTRY_INFO!G35,COUNTRY_INFO!$N35),0))))","v":20739},{"$f":"IF(AND(INTRO!$E$39=\"Non-endemic\",INTRO!$E$37=\"Non-endemic\"),\"Not required\",IF(INTRO!$E$39=\"Non-endemic\",\"Treat with DEC\",COUNTRY_INFO!W35))","v":1},{"$f":"IF(INTRO!$E$39<>\"Non-endemic\",COUNTRY_INFO!X35,\"Not required\")","v":0},{"$f":"IF(COUNTRY_INFO!H35=1, IF($E35=1,IF(ALB_MBD!$G35<>\" \",COUNTRY_INFO!F35+COUNTRY_INFO!G35-ALB_MBD!$G35,COUNTRY_INFO!F35+COUNTRY_INFO!G35), 0),0)","v":20739},{"$f":"IF(INTRO!$E$39<>\"Endemic\",0, IF(AND(COUNTRY_INFO!$I35=1,$F35<>0),IF(COUNTRY_INFO!N35>=(COUNTRY_INFO!F35+COUNTRY_INFO!G35),COUNTRY_INFO!F35+COUNTRY_INFO!G35,COUNTRY_INFO!$N35), 0))","v":0},58069.2,0,0,58069.2,null,58069.2]
[{"$f":"IF(INTRO!$E$39=\"Non-endemic\",\" \",IF(COUNTRY_INFO!A36=0,\" \",COUNTRY_INFO!A36))","v":"Angola"},{"$f":"IF(INTRO!$E$39=\"Non-endemic\",\" \",IF(COUNTRY_INFO!B36=0,\" \",COUNTRY_INFO!B36))","v":"CABINDA"},{"$f":"IF(INTRO!$E$39=\"Non-endemic\",\" \",IF(COUNTRY_INFO!C36=0,\" \",COUNTRY_INFO!C36))","v":"BUCO ZAU"},{"$f":"IF(INTRO!$E$39=\"Non-endemic\",0,IF(INTRO!$E$39=\"Endemic but PC is not required\",IF(COUNTRY_INFO!$H36=1,COUNTRY_INFO!F36+COUNTRY_INFO!G36,0),IF(COUNTRY_INFO!$H36=1,COUNTRY_INFO!F36+COUNTRY_INFO!G36,IF(COUNTRY_INFO!$I36=1,IF(COUNTRY_INFO!N36>=(COUNTRY_INFO!F36+COUNTRY_INFO!G36),COUNTRY_INFO!F36+COUNTRY_INFO!G36,COUNTRY_INFO!$N36),0))))","v":34765},{"$f":"IF(AND(INTRO!$E$39=\"Non-endemic\",INTRO!$E$37=\"Non-endemic\"),\"Not required\",IF(INTRO!$E$39=\"Non-endemic\",\"Treat with DEC\",COUNTRY_INFO!W36))","v":1},{"$f":"IF(INTRO!$E$39<>\"Non-endemic\",COUNTRY_INFO!X36,\"Not required\")","v":0},{"$f":"IF(COUNTRY_INFO!H36=1, IF($E36=1,IF(ALB_MBD!$G36<>\" \",COUNTRY_INFO!F36+COUNTRY_INFO!G36-ALB_MBD!$G36,COUNTRY_INFO!F36+COUNTRY_INFO!G36), 0),0)","v":34765},{"$f":"IF(INTRO!$E$39<>\"Endemic\",0, IF(AND(COUNTRY_INFO!$I36=1,$F36<>0),IF(COUNTRY_INFO!N36>=(COUNTRY_INFO!F36+COUNTRY_INFO!G36),COUNTRY_INFO!F36+COUNTRY_INFO!G36,COUNTRY_INFO!$N36), 0))","v":0},97342,0,0,97342,null,97342]
[{"$f":"IF(INTRO!$E$39=\"Non-endemic\",\" \",IF(COUNTRY_INFO!A37=0,\" \",COUNTRY_INFO!A37))","v":"Angola"},{"$f":"IF(INTRO!$E$39=\"Non-endemic\",\" \",IF(COUNTRY_INFO!B37=0,\" \",COUNTRY_INFO!B37))","v":"CABINDA"},{"$f":"IF(INTRO!$E$39=\"Non-endemic\",\" \",IF(COUNTRY_INFO!C37=0,\" \",COUNTRY_INFO!C37))","v":"CABINDA"},{"$f":"IF(INTRO!$E$39=\"Non-endemic\",0,IF(INTRO!$E$39=\"Endemic but PC is not required\",IF(COUNTRY_INFO!$H37=1,COUNTRY_INFO!F37+COUNTRY_INFO!G37,0),IF(COUNTRY_INFO!$H37=1,COUNTRY_INFO!F37+COUNTRY_INFO!G37,IF(COUNTRY_INFO!$I37=1,IF(COUNTRY_INFO!N37>=(COUNTRY_INFO!F37+COUNTRY_INFO!G37),COUNTRY_INFO!F37+COUNTRY_INFO!G37,COUNTRY_INFO!$N37),0))))","v":662230},{"$f":"IF(AND(INTRO!$E$39=\"Non-endemic\",INTRO!$E$37=\"Non-endemic\"),\"Not required\",IF(INTRO!$E$39=\"Non-endemic\",\"Treat with DEC\",COUNTRY_INFO!W37))","v":1},{"$f":"IF(INTRO!$E$39<>\"Non-endemic\",COUNTRY_INFO!X37,\"Not required\")","v":0},{"$f":"IF(COUNTRY_INFO!H37=1, IF($E37=1,IF(ALB_MBD!$G37<>\" \",COUNTRY_INFO!F37+COUNTRY_INFO!G37-ALB_MBD!$G37,COUNTRY_INFO!F37+COUNTRY_INFO!G37), 0),0)","v":662230},{"$f":"IF(INTRO!$E$39<>\"Endemic\",0, IF(AND(COUNTRY_INFO!$I37=1,$F37<>0),IF(COUNTRY_INFO!N37>=(COUNTRY_INFO!F37+COUNTRY_INFO!G37),COUNTRY_INFO!F37+COUNTRY_INFO!G37,COUNTRY_INFO!$N37), 0))","v":0},1854243.9999999998,0,0,1854243.9999999998,null,1854243.9999999998]
[{"$f":"IF(INTRO!$E$39=\"Non-endemic\",\" \",IF(COUNTRY_INFO!A38=0,\" \",COUNTRY_INFO!A38))","v":"Angola"},{"$f":"IF(INTRO!$E$39=\"Non-endemic\",\" \",IF(COUNTRY_INFO!B38=0,\" \",COUNTRY_INFO!B38))","v":"CABINDA"},{"$f":"IF(INTRO!$E$39=\"Non-endemic\",\" \",IF(COUNTRY_INFO!C38=0,\" \",COUNTRY_INFO!C38))","v":"CACONGO"},{"$f":"IF(INTRO!$E$39=\"Non-endemic\",0,IF(INTRO!$E$39=\"Endemic but PC is not required\",IF(COUNTRY_INFO!$H38=1,COUNTRY_INFO!F38+COUNTRY_INFO!G38,0),IF(COUNTRY_INFO!$H38=1,COUNTRY_INFO!F38+COUNTRY_INFO!G38,IF(COUNTRY_INFO!$I38=1,IF(COUNTRY_INFO!N38>=(COUNTRY_INFO!F38+COUNTRY_INFO!G38),COUNTRY_INFO!F38+COUNTRY_INFO!G38,COUNTRY_INFO!$N38),0))))","v":41427},{"$f":"IF(AND(INTRO!$E$39=\"Non-endemic\",INTRO!$E$37=\"Non-endemic\"),\"Not required\",IF(INTRO!$E$39=\"Non-endemic\",\"Treat with DEC\",COUNTRY_INFO!W38))","v":1},{"$f":"IF(INTRO!$E$39<>\"Non-endemic\",COUNTRY_INFO!X38,\"Not required\")","v":0},{"$f":"IF(COUNTRY_INFO!H38=1, IF($E38=1,IF(ALB_MBD!$G38<>\" \",COUNTRY_INFO!F38+COUNTRY_INFO!G38-ALB_MBD!$G38,COUNTRY_INFO!F38+COUNTRY_INFO!G38), 0),0)","v":41427},{"$f":"IF(INTRO!$E$39<>\"Endemic\",0, IF(AND(COUNTRY_INFO!$I38=1,$F38<>0),IF(COUNTRY_INFO!N38>=(COUNTRY_INFO!F38+COUNTRY_INFO!G38),COUNTRY_INFO!F38+COUNTRY_INFO!G38,COUNTRY_INFO!$N38), 0))","v":0},115995.59999999999,0,0,115995.59999999999,null,115995.59999999999]
[{"$f":"IF(INTRO!$E$39=\"Non-endemic\",\" \",IF(COUNTRY_INFO!A39=0,\" \",COUNTRY_INFO!A39))","v":"Angola"},{"$f":"IF(INTRO!$E$39=\"Non-endemic\",\" \",IF(COUNTRY_INFO!B39=0,\" \",COUNTRY_INFO!B39))","v":"CUANDO CUBANGO"},{"$f":"IF(INTRO!$E$39=\"Non-endemic\",\" \",IF(COUNTRY_INFO!C39=0,\" \",COUNTRY_INFO!C39))","v":"CALAI"},{"$f":"IF(INTRO!$E$39=\"Non-endemic\",0,IF(INTRO!$E$39=\"Endemic but PC is not required\",IF(COUNTRY_INFO!$H39=1,COUNTRY_INFO!F39+COUNTRY_INFO!G39,0),IF(COUNTRY_INFO!$H39=1,COUNTRY_INFO!F39+COUNTRY_INFO!G39,IF(COUNTRY_INFO!$I39=1,IF(COUNTRY_INFO!N39>=(COUNTRY_INFO!F39+COUNTRY_INFO!G39),COUNTRY_INFO!F39+COUNTRY_INFO!G39,COUNTRY_INFO!$N39),0))))","v":0},{"$f":"IF(AND(INTRO!$E$39=\"Non-endemic\",INTRO!$E$37=\"Non-endemic\"),\"Not required\",IF(INTRO!$E$39=\"Non-endemic\",\"Treat with DEC\",COUNTRY_INFO!W39))","v":0},{"$f":"IF(INTRO!$E$39<>\"Non-endemic\",COUNTRY_INFO!X39,\"Not required\")","v":0},{"$f":"IF(COUNTRY_INFO!H39=1, IF($E39=1,IF(ALB_MBD!$G39<>\" \",COUNTRY_INFO!F39+COUNTRY_INFO!G39-ALB_MBD!$G39,COUNTRY_INFO!F39+COUNTRY_INFO!G39), 0),0)","v":0},{"$f":"IF(INTRO!$E$39<>\"Endemic\",0, IF(AND(COUNTRY_INFO!$I39=1,$F39<>0),IF(COUNTRY_INFO!N39>=(COUNTRY_INFO!F39+COUNTRY_INFO!G39),COUNTRY_INFO!F39+COUNTRY_INFO!G39,COUNTRY_INFO!$N39), 0))","v":0},0,0,0,0,null,0]
[{"$f":"IF(INTRO!$E$39=\"Non-endemic\",\" \",IF(COUNTRY_INFO!A40=0,\" \",COUNTRY_INFO!A40))","v":"Angola"},{"$f":"IF(INTRO!$E$39=\"Non-endemic\",\" \",IF(COUNTRY_INFO!B40=0,\" \",COUNTRY_INFO!B40))","v":"CUANDO CUBANGO"},{"$f":"IF(INTRO!$E$39=\"Non-endemic\",\" \",IF(COUNTRY_INFO!C40=0,\" \",COUNTRY_INFO!C40))","v":"CUANGAR"},{"$f":"IF(INTRO!$E$39=\"Non-endemic\",0,IF(INTRO!$E$39=\"Endemic but PC is not required\",IF(COUNTRY_INFO!$H40=1,COUNTRY_INFO!F40+COUNTRY_INFO!G40,0),IF(COUNTRY_INFO!$H40=1,COUNTRY_INFO!F40+COUNTRY_INFO!G40,IF(COUNTRY_INFO!$I40=1,IF(COUNTRY_INFO!N40>=(COUNTRY_INFO!F40+COUNTRY_INFO!G40),COUNTRY_INFO!F40+COUNTRY_INFO!G40,COUNTRY_INFO!$N40),0))))","v":30566},{"$f":"IF(AND(INTRO!$E$39=\"Non-endemic\",INTRO!$E$37=\"Non-endemic\"),\"Not required\",IF(INTRO!$E$39=\"Non-endemic\",\"Treat with DEC\",COUNTRY_INFO!W40))","v":0},{"$f":"IF(INTRO!$E$39<>\"Non-endemic\",COUNTRY_INFO!X40,\"Not required\")","v":1},{"$f":"IF(COUNTRY_INFO!H40=1, IF($E40=1,IF(ALB_MBD!$G40<>\" \",COUNTRY_INFO!F40+COUNTRY_INFO!G40-ALB_MBD!$G40,COUNTRY_INFO!F40+COUNTRY_INFO!G40), 0),0)","v":0},{"$f":"IF(INTRO!$E$39<>\"Endemic\",0, IF(AND(COUNTRY_INFO!$I40=1,$F40<>0),IF(COUNTRY_INFO!N40>=(COUNTRY_INFO!F40+COUNTRY_INFO!G40),COUNTRY_INFO!F40+COUNTRY_INFO!G40,COUNTRY_INFO!$N40), 0))","v":30566},0,85584.799999999988,0,85584.799999999988,null,85584.799999999988]
[{"$f":"IF(INTRO!$E$39=\"Non-endemic\",\" \",IF(COUNTRY_INFO!A41=0,\" \",COUNTRY_INFO!A41))","v":"Angola"},{"$f":"IF(INTRO!$E$39=\"Non-endemic\",\" \",IF(COUNTRY_INFO!B41=0,\" \",COUNTRY_INFO!B41))","v":"CUANDO CUBANGO"},{"$f":"IF(INTRO!$E$39=\"Non-endemic\",\" \",IF(COUNTRY_INFO!C41=0,\" \",COUNTRY_INFO!C41))","v":"CUCHI"},{"$f":"IF(INTRO!$E$39=\"Non-endemic\",0,IF(INTRO!$E$39=\"Endemic but PC is not required\",IF(COUNTRY_INFO!$H41=1,COUNTRY_INFO!F41+COUNTRY_INFO!G41,0),IF(COUNTRY_INFO!$H41=1,COUNTRY_INFO!F41+COUNTRY_INFO!G41,IF(COUNTRY_INFO!$I41=1,IF(COUNTRY_INFO!N41>=(COUNTRY_INFO!F41+COUNTRY_INFO!G41),COUNTRY_INFO!F41+COUNTRY_INFO!G41,COUNTRY_INFO!$N41),0))))","v":46154},{"$f":"IF(AND(INTRO!$E$39=\"Non-endemic\",INTRO!$E$37=\"Non-endemic\"),\"Not required\",IF(INTRO!$E$39=\"Non-endemic\",\"Treat with DEC\",COUNTRY_INFO!W41))","v":0},{"$f":"IF(INTRO!$E$39<>\"Non-endemic\",COUNTRY_INFO!X41,\"Not required\")","v":1},{"$f":"IF(COUNTRY_INFO!H41=1, IF($E41=1,IF(ALB_MBD!$G41<>\" \",COUNTRY_INFO!F41+COUNTRY_INFO!G41-ALB_MBD!$G41,COUNTRY_INFO!F41+COUNTRY_INFO!G41), 0),0)","v":0},{"$f":"IF(INTRO!$E$39<>\"Endemic\",0, IF(AND(COUNTRY_INFO!$I41=1,$F41<>0),IF(COUNTRY_INFO!N41>=(COUNTRY_INFO!F41+COUNTRY_INFO!G41),COUNTRY_INFO!F41+COUNTRY_INFO!G41,COUNTRY_INFO!$N41), 0))","v":46154},0,129231.2,0,129231.2,null,129231.2]
[{"$f":"IF(INTRO!$E$39=\"Non-endemic\",\" \",IF(COUNTRY_INFO!A42=0,\" \",COUNTRY_INFO!A42))","v":"Angola"},{"$f":"IF(INTRO!$E$39=\"Non-endemic\",\" \",IF(COUNTRY_INFO!B42=0,\" \",COUNTRY_INFO!B42))","v":"CUANDO CUBANGO"},{"$f":"IF(INTRO!$E$39=\"Non-endemic\",\" \",IF(COUNTRY_INFO!C42=0,\" \",COUNTRY_INFO!C42))","v":"CUITO CUANAVALE"},{"$f":"IF(INTRO!$E$39=\"Non-endemic\",0,IF(INTRO!$E$39=\"Endemic but PC is not required\",IF(COUNTRY_INFO!$H42=1,COUNTRY_INFO!F42+COUNTRY_INFO!G42,0),IF(COUNTRY_INFO!$H42=1,COUNTRY_INFO!F42+COUNTRY_INFO!G42,IF(COUNTRY_INFO!$I42=1,IF(COUNTRY_INFO!N42>=(COUNTRY_INFO!F42+COUNTRY_INFO!G42),COUNTRY_INFO!F42+COUNTRY_INFO!G42,COUNTRY_INFO!$N42),0))))","v":43851},{"$f":"IF(AND(INTRO!$E$39=\"Non-endemic\",INTRO!$E$37=\"Non-endemic\"),\"Not required\",IF(INTRO!$E$39=\"Non-endemic\",\"Treat with DEC\",COUNTRY_INFO!W42))","v":0},{"$f":"IF(INTRO!$E$39<>\"Non-endemic\",COUNTRY_INFO!X42,\"Not required\")","v":1},{"$f":"IF(COUNTRY_INFO!H42=1, IF($E42=1,IF(ALB_MBD!$G42<>\" \",COUNTRY_INFO!F42+COUNTRY_INFO!G42-ALB_MBD!$G42,COUNTRY_INFO!F42+COUNTRY_INFO!G42), 0),0)","v":0},{"$f":"IF(INTRO!$E$39<>\"Endemic\",0, IF(AND(COUNTRY_INFO!$I42=1,$F42<>0),IF(COUNTRY_INFO!N42>=(COUNTRY_INFO!F42+COUNTRY_INFO!G42),COUNTRY_INFO!F42+COUNTRY_INFO!G42,COUNTRY_INFO!$N42), 0))","v":43851},0,122782.79999999999,0,122782.79999999999,null,122782.79999999999]
[{"$f":"IF(INTRO!$E$39=\"Non-endemic\",\" \",IF(COUNTRY_INFO!A43=0,\" \",COUNTRY_INFO!A43))","v":"Angola"},{"$f":"IF(INTRO!$E$39=\"Non-endemic\",\" \",IF(COUNTRY_INFO!B43=0,\" \",COUNTRY_INFO!B43))","v":"CUANDO CUBANGO"},{"$f":"IF(INTRO!$E$39=\"Non-endemic\",\" \",IF(COUNTRY_INFO!C43=0,\" \",COUNTRY_INFO!C43))","v":"DIRICO"},{"$f":"IF(INTRO!$E$39=\"Non-endemic\",0,IF(INTRO!$E$39=\"Endemic but PC is not required\",IF(COUNTRY_INFO!$H43=1,COUNTRY_INFO!F43+COUNTRY_INFO!G43,0),IF(COUNTRY_INFO!$H43=1,COUNTRY_INFO!F43+COUNTRY_INFO!G43,IF(COUNTRY_INFO!$I43=1,IF(COUNTRY_INFO!N43>=(COUNTRY_INFO!F43+COUNTRY_INFO!G43),COUNTRY_INFO!F43+COUNTRY_INFO!G43,COUNTRY_INFO!$N43),0))))","v":0},{"$f":"IF(AND(INTRO!$E$39=\"Non-endemic\",INTRO!$E$37=\"Non-endemic\"),\"Not required\",IF(INTRO!$E$39=\"Non-endemic\",\"Treat with DEC\",COUNTRY_INFO!W43))","v":0},{"$f":"IF(INTRO!$E$39<>\"Non-endemic\",COUNTRY_INFO!X43,\"Not required\")","v":0},{"$f":"IF(COUNTRY_INFO!H43=1, IF($E43=1,IF(ALB_MBD!$G43<>\" \",COUNTRY_INFO!F43+COUNTRY_INFO!G43-ALB_MBD!$G43,COUNTRY_INFO!F43+COUNTRY_INFO!G43), 0),0)","v":0},{"$f":"IF(INTRO!$E$39<>\"Endemic\",0, IF(AND(COUNTRY_INFO!$I43=1,$F43<>0),IF(COUNTRY_INFO!N43>=(COUNTRY_INFO!F43+COUNTRY_INFO!G43),COUNTRY_INFO!F43+COUNTRY_INFO!G43,COUNTRY_INFO!$N43), 0))","v":0},0,0,0,0,null,0]
[{"$f":"IF(INTRO!$E$39=\"Non-endemic\",\" \",IF(COUNTRY_INFO!A44=0,\" \",COUNTRY_INFO!A44))","v":"Angola"},{"$f":"IF(INTRO!$E$39=\"Non-endemic\",\" \",IF(COUNTRY_INFO!B44=0,\" \",COUNTRY_INFO!B44))","v":"CUANDO CUBANGO"},{"$f":"IF(INTRO!$E$39=\"Non-endemic\",\" \",IF(COUNTRY_INFO!C44=0,\" \",COUNTRY_INFO!C44))","v":"MAVINGA"},{"$f":"IF(INTRO!$E$39=\"Non-endemic\",0,IF(INTRO!$E$39=\"Endemic but PC is not required\",IF(COUNTRY_INFO!$H44=1,COUNTRY_INFO!F44+COUNTRY_INFO!G44,0),IF(COUNTRY_INFO!$H44=1,COUNTRY_INFO!F44+COUNTRY_INFO!G44,IF(COUNTRY_INFO!$I44=1,IF(COUNTRY_INFO!N44>=(COUNTRY_INFO!F44+COUNTRY_INFO!G44),COUNTRY_INFO!F44+COUNTRY_INFO!G44,COUNTRY_INFO!$N44),0))))","v":0},{"$f":"IF(AND(INTRO!$E$39=\"Non-endemic\",INTRO!$E$37=\"Non-endemic\"),\"Not required\",IF(INTRO!$E$39=\"Non-endemic\",\"Treat with DEC\",COUNTRY_INFO!W44))","v":0},{"$f":"IF(INTRO!$E$39<>\"Non-endemic\",COUNTRY_INFO!X44,\"Not required\")","v":0},{"$f":"IF(COUNTRY_INFO!H44=1, IF($E44=1,IF(ALB_MBD!$G44<>\" \",COUNTRY_INFO!F44+COUNTRY_INFO!G44-ALB_MBD!$G44,COUNTRY_INFO!F44+COUNTRY_INFO!G44), 0),0)","v":0},{"$f":"IF(INTRO!$E$39<>\"Endemic\",0, IF(AND(COUNTRY_INFO!$I44=1,$F44<>0),IF(COUNTRY_INFO!N44>=(COUNTRY_INFO!F44+COUNTRY_INFO!G44),COUNTRY_INFO!F44+COUNTRY_INFO!G44,COUNTRY_INFO!$N44), 0))","v":0},0,0,0,0,null,0]
[{"$f":"IF(INTRO!$E$39=\"Non-endemic\",\" \",IF(COUNTRY_INFO!A45=0,\" \",COUNTRY_INFO!A45))","v":"Angola"},{"$f":"IF(INTRO!$E$39=\"Non-endemic\",\" \",IF(COUNTRY_INFO!B45=0,\" \",COUNTRY_INFO!B45))","v":"CUANDO CUBANGO"},{"$f":"IF(INTRO!$E$39=\"Non-endemic\",\" \",IF(COUNTRY_INFO!C45=0,\" \",COUNTRY_INFO!C45))","v":"MENONGUE"},{"$f":"IF(INTRO!$E$39=\"Non-endemic\",0,IF(INTRO!$E$39=\"Endemic but PC is not required\",IF(COUNTRY_INFO!$H45=1,COUNTRY_INFO!F45+COUNTRY_INFO!G45,0),IF(COUNTRY_INFO!$H45=1,COUNTRY_INFO!F45+COUNTRY_INFO!G45,IF(COUNTRY_INFO!$I45=1,IF(COUNTRY_INFO!N45>=(COUNTRY_INFO!F45+COUNTRY_INFO!G45),COUNTRY_INFO!F45+COUNTRY_INFO!G45,COUNTRY_INFO!$N45),0))))","v":344667},{"$f":"IF(AND(INTRO!$E$39=\"Non-endemic\",INTRO!$E$37=\"Non-endemic\"),\"Not required\",IF(INTRO!$E$39=\"Non-endemic\",\"Treat with DEC\",COUNTRY_INFO!W45))","v":0},{"$f":"IF(INTRO!$E$39<>\"Non-endemic\",COUNTRY_INFO!X45,\"Not required\")","v":1},{"$f":"IF(COUNTRY_INFO!H45=1, IF($E45=1,IF(ALB_MBD!$G45<>\" \",COUNTRY_INFO!F45+COUNTRY_INFO!G45-ALB_MBD!$G45,COUNTRY_INFO!F45+COUNTRY_INFO!G45), 0),0)","v":0},{"$f":"IF(INTRO!$E$39<>\"Endemic\",0, IF(AND(COUNTRY_INFO!$I45=1,$F45<>0),IF(COUNTRY_INFO!N45>=(COUNTRY_INFO!F45+COUNTRY_INFO!G45),COUNTRY_INFO!F45+COUNTRY_INFO!G45,COUNTRY_INFO!$N45), 0))","v":344667},0,965067.6,0,965067.6,null,965067.6]
[{"$f":"IF(INTRO!$E$39=\"Non-endemic\",\" \",IF(COUNTRY_INFO!A46=0,\" \",COUNTRY_INFO!A46))","v":"Angola"},{"$f":"IF(INTRO!$E$39=\"Non-endemic\",\" \",IF(COUNTRY_INFO!B46=0,\" \",COUNTRY_INFO!B46))","v":"CUANDO CUBANGO"},{"$f":"IF(INTRO!$E$39=\"Non-endemic\",\" \",IF(COUNTRY_INFO!C46=0,\" \",COUNTRY_INFO!C46))","v":"NANKOVA"},{"$f":"IF(INTRO!$E$39=\"Non-endemic\",0,IF(INTRO!$E$39=\"Endemic but PC is not required\",IF(COUNTRY_INFO!$H46=1,COUNTRY_INFO!F46+COUNTRY_INFO!G46,0),IF(COUNTRY_INFO!$H46=1,COUNTRY_INFO!F46+COUNTRY_INFO!G46,IF(COUNTRY_INFO!$I46=1,IF(COUNTRY_INFO!N46>=(COUNTRY_INFO!F46+COUNTRY_INFO!G46),COUNTRY_INFO!F46+COUNTRY_INFO!G46,COUNTRY_INFO!$N46),0))))","v":3004},{"$f":"IF(AND(INTRO!$E$39=\"Non-endemic\",INTRO!$E$37=\"Non-endemic\"),\"Not required\",IF(INTRO!$E$39=\"Non-endemic\",\"Treat with DEC\",COUNTRY_INFO!W46))","v":0},{"$f":"IF(INTRO!$E$39<>\"Non-endemic\",COUNTRY_INFO!X46,\"Not required\")","v":1},{"$f":"IF(COUNTRY_INFO!H46=1, IF($E46=1,IF(ALB_MBD!$G46<>\" \",COUNTRY_INFO!F46+COUNTRY_INFO!G46-ALB_MBD!$G46,COUNTRY_INFO!F46+COUNTRY_INFO!G46), 0),0)","v":0},{"$f":"IF(INTRO!$E$39<>\"Endemic\",0, IF(AND(COUNTRY_INFO!$I46=1,$F46<>0),IF(COUNTRY_INFO!N46>=(COUNTRY_INFO!F46+COUNTRY_INFO!G46),COUNTRY_INFO!F46+COUNTRY_INFO!G46,COUNTRY_INFO!$N46), 0))","v":3004},0,8411.1999999999989,0,8411.1999999999989,null,8411.1999999999989]
[{"$f":"IF(INTRO!$E$39=\"Non-endemic\",\" \",IF(COUNTRY_INFO!A47=0,\" \",COUNTRY_INFO!A47))","v":"Angola"},{"$f":"IF(INTRO!$E$39=\"Non-endemic\",\" \",IF(COUNTRY_INFO!B47=0,\" \",COUNTRY_INFO!B47))","v":"CUANDO CUBANGO"},{"$f":"IF(INTRO!$E$39=\"Non-endemic\",\" \",IF(COUNTRY_INFO!C47=0,\" \",COUNTRY_INFO!C47))","v":"RIVUNGO"},{"$f":"IF(INTRO!$E$39=\"Non-endemic\",0,IF(INTRO!$E$39=\"Endemic but PC is not required\",IF(COUNTRY_INFO!$H47=1,COUNTRY_INFO!F47+COUNTRY_INFO!G47,0),IF(COUNTRY_INFO!$H47=1,COUNTRY_INFO!F47+COUNTRY_INFO!G47,IF(COUNTRY_INFO!$I47=1,IF(COUNTRY_INFO!N47>=(COUNTRY_INFO!F47+COUNTRY_INFO!G47),COUNTRY_INFO!F47+COUNTRY_INFO!G47,COUNTRY_INFO!$N47),0))))","v":0},{"$f":"IF(AND(INTRO!$E$39=\"Non-endemic\",INTRO!$E$37=\"Non-endemic\"),\"Not required\",IF(INTRO!$E$39=\"Non-endemic\",\"Treat with DEC\",COUNTRY_INFO!W47))","v":0},{"$f":"IF(INTRO!$E$39<>\"Non-endemic\",COUNTRY_INFO!X47,\"Not required\")","v":0},{"$f":"IF(COUNTRY_INFO!H47=1, IF($E47=1,IF(ALB_MBD!$G47<>\" \",COUNTRY_INFO!F47+COUNTRY_INFO!G47-ALB_MBD!$G47,COUNTRY_INFO!F47+COUNTRY_INFO!G47), 0),0)","v":0},{"$f":"IF(INTRO!$E$39<>\"Endemic\",0, IF(AND(COUNTRY_INFO!$I47=1,$F47<>0),IF(COUNTRY_INFO!N47>=(COUNTRY_INFO!F47+COUNTRY_INFO!G47),COUNTRY_INFO!F47+COUNTRY_INFO!G47,COUNTRY_INFO!$N47), 0))","v":0},0,0,0,0,null,0]
[{"$f":"IF(INTRO!$E$39=\"Non-endemic\",\" \",IF(COUNTRY_INFO!A48=0,\" \",COUNTRY_INFO!A48))","v":"Angola"},{"$f":"IF(INTRO!$E$39=\"Non-endemic\",\" \",IF(COUNTRY_INFO!B48=0,\" \",COUNTRY_INFO!B48))","v":"CUANZA NORTE"},{"$f":"IF(INTRO!$E$39=\"Non-endemic\",\" \",IF(COUNTRY_INFO!C48=0,\" \",COUNTRY_INFO!C48))","v":"AMBACA"},{"$f":"IF(INTRO!$E$39=\"Non-endemic\",0,IF(INTRO!$E$39=\"Endemic but PC is not required\",IF(COUNTRY_INFO!$H48=1,COUNTRY_INFO!F48+COUNTRY_INFO!G48,0),IF(COUNTRY_INFO!$H48=1,COUNTRY_INFO!F48+COUNTRY_INFO!G48,IF(COUNTRY_INFO!$I48=1,IF(COUNTRY_INFO!N48>=(COUNTRY_INFO!F48+COUNTRY_INFO!G48),COUNTRY_INFO!F48+COUNTRY_INFO!G48,COUNTRY_INFO!$N48),0))))","v":65524},{"$f":"IF(AND(INTRO!$E$39=\"Non-endemic\",INTRO!$E$37=\"Non-endemic\"),\"Not required\",IF(INTRO!$E$39=\"Non-endemic\",\"Treat with DEC\",COUNTRY_INFO!W48))","v":1},{"$f":"IF(INTRO!$E$39<>\"Non-endemic\",COUNTRY_INFO!X48,\"Not required\")","v":1},{"$f":"IF(COUNTRY_INFO!H48=1, IF($E48=1,IF(ALB_MBD!$G48<>\" \",COUNTRY_INFO!F48+COUNTRY_INFO!G48-ALB_MBD!$G48,COUNTRY_INFO!F48+COUNTRY_INFO!G48), 0),0)","v":65524},{"$f":"IF(INTRO!$E$39<>\"Endemic\",0, IF(AND(COUNTRY_INFO!$I48=1,$F48<>0),IF(COUNTRY_INFO!N48>=(COUNTRY_INFO!F48+COUNTRY_INFO!G48),COUNTRY_INFO!F48+COUNTRY_INFO!G48,COUNTRY_INFO!$N48), 0))","v":65524},0,0,183467.19999999998,183467.19999999998,null,183467.19999999998]
[{"$f":"IF(INTRO!$E$39=\"Non-endemic\",\" \",IF(COUNTRY_INFO!A49=0,\" \",COUNTRY_INFO!A49))","v":"Angola"},{"$f":"IF(INTRO!$E$39=\"Non-endemic\",\" \",IF(COUNTRY_INFO!B49=0,\" \",COUNTRY_INFO!B49))","v":"CUANZA NORTE"},{"$f":"IF(INTRO!$E$39=\"Non-endemic\",\" \",IF(COUNTRY_INFO!C49=0,\" \",COUNTRY_INFO!C49))","v":"BANGA"},{"$f":"IF(INTRO!$E$39=\"Non-endemic\",0,IF(INTRO!$E$39=\"Endemic but PC is not required\",IF(COUNTRY_INFO!$H49=1,COUNTRY_INFO!F49+COUNTRY_INFO!G49,0),IF(COUNTRY_INFO!$H49=1,COUNTRY_INFO!F49+COUNTRY_INFO!G49,IF(COUNTRY_INFO!$I49=1,IF(COUNTRY_INFO!N49>=(COUNTRY_INFO!F49+COUNTRY_INFO!G49),COUNTRY_INFO!F49+COUNTRY_INFO!G49,COUNTRY_INFO!$N49),0))))","v":10983},{"$f":"IF(AND(INTRO!$E$39=\"Non-endemic\",INTRO!$E$37=\"Non-endemic\"),\"Not required\",IF(INTRO!$E$39=\"Non-endemic\",\"Treat with DEC\",COUNTRY_INFO!W49))","v":1},{"$f":"IF(INTRO!$E$39<>\"Non-endemic\",COUNTRY_INFO!X49,\"Not required\")","v":1},{"$f":"IF(COUNTRY_INFO!H49=1, IF($E49=1,IF(ALB_MBD!$G49<>\" \",COUNTRY_INFO!F49+COUNTRY_INFO!G49-ALB_MBD!$G49,COUNTRY_INFO!F49+COUNTRY_INFO!G49), 0),0)","v":10983},{"$f":"IF(INTRO!$E$39<>\"Endemic\",0, IF(AND(COUNTRY_INFO!$I49=1,$F49<>0),IF(COUNTRY_INFO!N49>=(COUNTRY_INFO!F49+COUNTRY_INFO!G49),COUNTRY_INFO!F49+COUNTRY_INFO!G49,COUNTRY_INFO!$N49), 0))","v":10983},0,0,30752.399999999998,30752.399999999998,null,30752.399999999998]
[{"$f":"IF(INTRO!$E$39=\"Non-endemic\",\" \",IF(COUNTRY_INFO!A50=0,\" \",COUNTRY_INFO!A50))","v":"Angola"},{"$f":"IF(INTRO!$E$39=\"Non-endemic\",\" \",IF(COUNTRY_INFO!B50=0,\" \",COUNTRY_INFO!B50))","v":"CUANZA NORTE"},{"$f":"IF(INTRO!$E$39=\"Non-endemic\",\" \",IF(COUNTRY_INFO!C50=0,\" \",COUNTRY_INFO!C50))","v":"BOLONGONGO"},{"$f":"IF(INTRO!$E$39=\"Non-endemic\",0,IF(INTRO!$E$39=\"Endemic but PC is not required\",IF(COUNTRY_INFO!$H50=1,COUNTRY_INFO!F50+COUNTRY_INFO!G50,0),IF(COUNTRY_INFO!$H50=1,COUNTRY_INFO!F50+COUNTRY_INFO!G50,IF(COUNTRY_INFO!$I50=1,IF(COUNTRY_INFO!N50>=(COUNTRY_INFO!F50+COUNTRY_INFO!G50),COUNTRY_INFO!F50+COUNTRY_INFO!G50,COUNTRY_INFO!$N50),0))))","v":13810},{"$f":"IF(AND(INTRO!$E$39=\"Non-endemic\",INTRO!$E$37=\"Non-endemic\"),\"Not required\",IF(INTRO!$E$39=\"Non-endemic\",\"Treat with DEC\",COUNTRY_INFO!W50))","v":1},{"$f":"IF(INTRO!$E$39<>\"Non-endemic\",COUNTRY_INFO!X50,\"Not required\")","v":1},{"$f":"IF(COUNTRY_INFO!H50=1, IF($E50=1,IF(ALB_MBD!$G50<>\" \",COUNTRY_INFO!F50+COUNTRY_INFO!G50-ALB_MBD!$G50,COUNTRY_INFO!F50+COUNTRY_INFO!G50), 0),0)","v":13810},{"$f":"IF(INTRO!$E$39<>\"Endemic\",0, IF(AND(COUNTRY_INFO!$I50=1,$F50<>0),IF(COUNTRY_INFO!N50>=(COUNTRY_INFO!F50+COUNTRY_INFO!G50),COUNTRY_INFO!F50+COUNTRY_INFO!G50,COUNTRY_INFO!$N50), 0))","v":13810},0,0,38668,38668,null,38668]
[{"$f":"IF(INTRO!$E$39=\"Non-endemic\",\" \",IF(COUNTRY_INFO!A51=0,\" \",COUNTRY_INFO!A51))","v":"Angola"},{"$f":"IF(INTRO!$E$39=\"Non-endemic\",\" \",IF(COUNTRY_INFO!B51=0,\" \",COUNTRY_INFO!B51))","v":"CUANZA NORTE"},{"$f":"IF(INTRO!$E$39=\"Non-endemic\",\" \",IF(COUNTRY_INFO!C51=0,\" \",COUNTRY_INFO!C51))","v":"CAMBAMBE"},{"$f":"IF(INTRO!$E$39=\"Non-endemic\",0,IF(INTRO!$E$39=\"Endemic but PC is not required\",IF(COUNTRY_INFO!$H51=1,COUNTRY_INFO!F51+COUNTRY_INFO!G51,0),IF(COUNTRY_INFO!$H51=1,COUNTRY_INFO!F51+COUNTRY_INFO!G51,IF(COUNTRY_INFO!$I51=1,IF(COUNTRY_INFO!N51>=(COUNTRY_INFO!F51+COUNTRY_INFO!G51),COUNTRY_INFO!F51+COUNTRY_INFO!G51,COUNTRY_INFO!$N51),0))))","v":0},{"$f":"IF(AND(INTRO!$E$39=\"Non-endemic\",INTRO!$E$37=\"Non-endemic\"),\"Not required\",IF(INTRO!$E$39=\"Non-endemic\",\"Treat with DEC\",COUNTRY_INFO!W51))","v":0},{"$f":"IF(INTRO!$E$39<>\"Non-endemic\",COUNTRY_INFO!X51,\"Not required\")","v":0},{"$f":"IF(COUNTRY_INFO!H51=1, IF($E51=1,IF(ALB_MBD!$G51<>\" \",COUNTRY_INFO!F51+COUNTRY_INFO!G51-ALB_MBD!$G51,COUNTRY_INFO!F51+COUNTRY_INFO!G51), 0),0)","v":0},{"$f":"IF(INTRO!$E$39<>\"Endemic\",0, IF(AND(COUNTRY_INFO!$I51=1,$F51<>0),IF(COUNTRY_INFO!N51>=(COUNTRY_INFO!F51+COUNTRY_INFO!G51),COUNTRY_INFO!F51+COUNTRY_INFO!G51,COUNTRY_INFO!$N51), 0))","v":0},0,0,0,0,null,0]
[{"$f":"IF(INTRO!$E$39=\"Non-endemic\",\" \",IF(COUNTRY_INFO!A52=0,\" \",COUNTRY_INFO!A52))","v":"Angola"},{"$f":"IF(INTRO!$E$39=\"Non-endemic\",\" \",IF(COUNTRY_INFO!B52=0,\" \",COUNTRY_INFO!B52))","v":"CUANZA NORTE"},{"$f":"IF(INTRO!$E$39=\"Non-endemic\",\" \",IF(COUNTRY_INFO!C52=0,\" \",COUNTRY_INFO!C52))","v":"CAZENGO"},{"$f":"IF(INTRO!$E$39=\"Non-endemic\",0,IF(INTRO!$E$39=\"Endemic but PC is not required\",IF(COUNTRY_INFO!$H52=1,COUNTRY_INFO!F52+COUNTRY_INFO!G52,0),IF(COUNTRY_INFO!$H52=1,COUNTRY_INFO!F52+COUNTRY_INFO!G52,IF(COUNTRY_INFO!$I52=1,IF(COUNTRY_INFO!N52>=(COUNTRY_INFO!F52+COUNTRY_INFO!G52),COUNTRY_INFO!F52+COUNTRY_INFO!G52,COUNTRY_INFO!$N52),0))))","v":182185},{"$f":"IF(AND(INTRO!$E$39=\"Non-endemic\",INTRO!$E$37=\"Non-endemic\"),\"Not required\",IF(INTRO!$E$39=\"Non-endemic\",\"Treat with DEC\",COUNTRY_INFO!W52))","v":1},{"$f":"IF(INTRO!$E$39<>\"Non-endemic\",COUNTRY_INFO!X52,\"Not required\")","v":0},{"$f":"IF(COUNTRY_INFO!H52=1, IF($E52=1,IF(ALB_MBD!$G52<>\" \",COUNTRY_INFO!F52+COUNTRY_INFO!G52-ALB_MBD!$G52,COUNTRY_INFO!F52+COUNTRY_INFO!G52), 0),0)","v":182185},{"$f":"IF(INTRO!$E$39<>\"Endemic\",0, IF(AND(COUNTRY_INFO!$I52=1,$F52<>0),IF(COUNTRY_INFO!N52>=(COUNTRY_INFO!F52+COUNTRY_INFO!G52),COUNTRY_INFO!F52+COUNTRY_INFO!G52,COUNTRY_INFO!$N52), 0))","v":0},510117.99999999994,0,0,510117.99999999994,null,510117.99999999994]
[{"$f":"IF(INTRO!$E$39=\"Non-endemic\",\" \",IF(COUNTRY_INFO!A53=0,\" \",COUNTRY_INFO!A53))","v":"Angola"},{"$f":"IF(INTRO!$E$39=\"Non-endemic\",\" \",IF(COUNTRY_INFO!B53=0,\" \",COUNTRY_INFO!B53))","v":"CUANZA NORTE"},{"$f":"IF(INTRO!$E$39=\"Non-endemic\",\" \",IF(COUNTRY_INFO!C53=0,\" \",COUNTRY_INFO!C53))","v":"GOLUNGO ALTO"},{"$f":"IF(INTRO!$E$39=\"Non-endemic\",0,IF(INTRO!$E$39=\"Endemic but PC is not required\",IF(COUNTRY_INFO!$H53=1,COUNTRY_INFO!F53+COUNTRY_INFO!G53,0),IF(COUNTRY_INFO!$H53=1,COUNTRY_INFO!F53+COUNTRY_INFO!G53,IF(COUNTRY_INFO!$I53=1,IF(COUNTRY_INFO!N53>=(COUNTRY_INFO!F53+COUNTRY_INFO!G53),COUNTRY_INFO!F53+COUNTRY_INFO!G53,COUNTRY_INFO!$N53),0))))","v":35891},{"$f":"IF(AND(INTRO!$E$39=\"Non-endemic\",INTRO!$E$37=\"Non-endemic\"),\"Not required\",IF(INTRO!$E$39=\"Non-endemic\",\"Treat with DEC\",COUNTRY_INFO!W53))","v":1},{"$f":"IF(INTRO!$E$39<>\"Non-endemic\",COUNTRY_INFO!X53,\"Not required\")","v":1},{"$f":"IF(COUNTRY_INFO!H53=1, IF($E53=1,IF(ALB_MBD!$G53<>\" \",COUNTRY_INFO!F53+COUNTRY_INFO!G53-ALB_MBD!$G53,COUNTRY_INFO!F53+COUNTRY_INFO!G53), 0),0)","v":35891},{"$f":"IF(INTRO!$E$39<>\"Endemic\",0, IF(AND(COUNTRY_INFO!$I53=1,$F53<>0),IF(COUNTRY_INFO!N53>=(COUNTRY_INFO!F53+COUNTRY_INFO!G53),COUNTRY_INFO!F53+COUNTRY_INFO!G53,COUNTRY_INFO!$N53), 0))","v":35891},0,0,100494.79999999999,100494.79999999999,null,100494.79999999999]
[{"$f":"IF(INTRO!$E$39=\"Non-endemic\",\" \",IF(COUNTRY_INFO!A54=0,\" \",COUNTRY_INFO!A54))","v":"Angola"},{"$f":"IF(INTRO!$E$39=\"Non-endemic\",\" \",IF(COUNTRY_INFO!B54=0,\" \",COUNTRY_INFO!B54))","v":"CUANZA NORTE"},{"$f":"IF(INTRO!$E$39=\"Non-endemic\",\" \",IF(COUNTRY_INFO!C54=0,\" \",COUNTRY_INFO!C54))","v":"GONGUEMBO"},{"$f":"IF(INTRO!$E$39=\"Non-endemic\",0,IF(INTRO!$E$39=\"Endemic but PC is not required\",IF(COUNTRY_INFO!$H54=1,COUNTRY_INFO!F54+COUNTRY_INFO!G54,0),IF(COUNTRY_INFO!$H54=1,COUNTRY_INFO!F54+COUNTRY_INFO!G54,IF(COUNTRY_INFO!$I54=1,IF(COUNTRY_INFO!N54>=(COUNTRY_INFO!F54+COUNTRY_INFO!G54),COUNTRY_INFO!F54+COUNTRY_INFO!G54,COUNTRY_INFO!$N54),0))))","v":8037},{"$f":"IF(AND(INTRO!$E$39=\"Non-endemic\",INTRO!$E$37=\"Non-endemic\"),\"Not required\",IF(INTRO!$E$39=\"Non-endemic\",\"Treat with DEC\",COUNTRY_INFO!W54))","v":1},{"$f":"IF(INTRO!$E$39<>\"Non-endemic\",COUNTRY_INFO!X54,\"Not required\")","v":1},{"$f":"IF(COUNTRY_INFO!H54=1, IF($E54=1,IF(ALB_MBD!$G54<>\" \",COUNTRY_INFO!F54+COUNTRY_INFO!G54-ALB_MBD!$G54,COUNTRY_INFO!F54+COUNTRY_INFO!G54), 0),0)","v":8037},{"$f":"IF(INTRO!$E$39<>\"Endemic\",0, IF(AND(COUNTRY_INFO!$I54=1,$F54<>0),IF(COUNTRY_INFO!N54>=(COUNTRY_INFO!F54+COUNTRY_INFO!G54),COUNTRY_INFO!F54+COUNTRY_INFO!G54,COUNTRY_INFO!$N54), 0))","v":8037},0,0,22503.599999999999,22503.599999999999,null,22503.599999999999]
[{"$f":"IF(INTRO!$E$39=\"Non-endemic\",\" \",IF(COUNTRY_INFO!A55=0,\" \",COUNTRY_INFO!A55))","v":"Angola"},{"$f":"IF(INTRO!$E$39=\"Non-endemic\",\" \",IF(COUNTRY_INFO!B55=0,\" \",COUNTRY_INFO!B55))","v":"CUANZA NORTE"},{"$f":"IF(INTRO!$E$39=\"Non-endemic\",\" \",IF(COUNTRY_INFO!C55=0,\" \",COUNTRY_INFO!C55))","v":"LUCALA"},{"$f":"IF(INTRO!$E$39=\"Non-endemic\",0,IF(INTRO!$E$39=\"Endemic but PC is not required\",IF(COUNTRY_INFO!$H55=1,COUNTRY_INFO!F55+COUNTRY_INFO!G55,0),IF(COUNTRY_INFO!$H55=1,COUNTRY_INFO!F55+COUNTRY_INFO!G55,IF(COUNTRY_INFO!$I55=1,IF(COUNTRY_INFO!N55>=(COUNTRY_INFO!F55+COUNTRY_INFO!G55),COUNTRY_INFO!F55+COUNTRY_INFO!G55,COUNTRY_INFO!$N55),0))))","v":0},{"$f":"IF(AND(INTRO!$E$39=\"Non-endemic\",INTRO!$E$37=\"Non-endemic\"),\"Not required\",IF(INTRO!$E$39=\"Non-endemic\",\"Treat with DEC\",COUNTRY_INFO!W55))","v":0},{"$f":"IF(INTRO!$E$39<>\"Non-endemic\",COUNTRY_INFO!X55,\"Not required\")","v":0},{"$f":"IF(COUNTRY_INFO!H55=1, IF($E55=1,IF(ALB_MBD!$G55<>\" \",COUNTRY_INFO!F55+COUNTRY_INFO!G55-ALB_MBD!$G55,COUNTRY_INFO!F55+COUNTRY_INFO!G55), 0),0)","v":0},{"$f":"IF(INTRO!$E$39<>\"Endemic\",0, IF(AND(COUNTRY_INFO!$I55=1,$F55<>0),IF(COUNTRY_INFO!N55>=(COUNTRY_INFO!F55+COUNTRY_INFO!G55),COUNTRY_INFO!F55+COUNTRY_INFO!G55,COUNTRY_INFO!$N55), 0))","v":0},0,0,0,0,null,0]
[{"$f":"IF(INTRO!$E$39=\"Non-endemic\",\" \",IF(COUNTRY_INFO!A56=0,\" \",COUNTRY_INFO!A56))","v":"Angola"},{"$f":"IF(INTRO!$E$39=\"Non-endemic\",\" \",IF(COUNTRY_INFO!B56=0,\" \",COUNTRY_INFO!B56))","v":"CUANZA NORTE"},{"$f":"IF(INTRO!$E$39=\"Non-endemic\",\" \",IF(COUNTRY_INFO!C56=0,\" \",COUNTRY_INFO!C56))","v":"QUICULUNGO"},{"$f":"IF(INTRO!$E$39=\"Non-endemic\",0,IF(INTRO!$E$39=\"Endemic but PC is not required\",IF(COUNTRY_INFO!$H56=1,COUNTRY_INFO!F56+COUNTRY_INFO!G56,0),IF(COUNTRY_INFO!$H56=1,COUNTRY_INFO!F56+COUNTRY_INFO!G56,IF(COUNTRY_INFO!$I56=1,IF(COUNTRY_INFO!N56>=(COUNTRY_INFO!F56+COUNTRY_INFO!G56),COUNTRY_INFO!F56+COUNTRY_INFO!G56,COUNTRY_INFO!$N56),0))))","v":10323},{"$f":"IF(AND(INTRO!$E$39=\"Non-endemic\",INTRO!$E$37=\"Non-endemic\"),\"Not required\",IF(INTRO!$E$39=\"Non-endemic\",\"Treat with DEC\",COUNTRY_INFO!W56))","v":1},{"$f":"IF(INTRO!$E$39<>\"Non-endemic\",COUNTRY_INFO!X56,\"Not required\")","v":0},{"$f":"IF(COUNTRY_INFO!H56=1, IF($E56=1,IF(ALB_MBD!$G56<>\" \",COUNTRY_INFO!F56+COUNTRY_INFO!G56-ALB_MBD!$G56,COUNTRY_INFO!F56+COUNTRY_INFO!G56), 0),0)","v":10323},{"$f":"IF(INTRO!$E$39<>\"Endemic\",0, IF(AND(COUNTRY_INFO!$I56=1,$F56<>0),IF(COUNTRY_INFO!N56>=(COUNTRY_INFO!F56+COUNTRY_INFO!G56),COUNTRY_INFO!F56+COUNTRY_INFO!G56,COUNTRY_INFO!$N56), 0))","v":0},28904.399999999998,0,0,28904.399999999998,null,28904.399999999998]
[{"$f":"IF(INTRO!$E$39=\"Non-endemic\",\" \",IF(COUNTRY_INFO!A57=0,\" \",COUNTRY_INFO!A57))","v":"Angola"},{"$f":"IF(INTRO!$E$39=\"Non-endemic\",\" \",IF(COUNTRY_INFO!B57=0,\" \",COUNTRY_INFO!B57))","v":"CUANZA NORTE"},{"$f":"IF(INTRO!$E$39=\"Non-endemic\",\" \",IF(COUNTRY_INFO!C57=0,\" \",COUNTRY_INFO!C57))","v":"SAMBA CAJU"},{"$f":"IF(INTRO!$E$39=\"Non-endemic\",0,IF(INTRO!$E$39=\"Endemic but PC is not required\",IF(COUNTRY_INFO!$H57=1,COUNTRY_INFO!F57+COUNTRY_INFO!G57,0),IF(COUNTRY_INFO!$H57=1,COUNTRY_INFO!F57+COUNTRY_INFO!G57,IF(COUNTRY_INFO!$I57=1,IF(COUNTRY_INFO!N57>=(COUNTRY_INFO!F57+COUNTRY_INFO!G57),COUNTRY_INFO!F57+COUNTRY_INFO!G57,COUNTRY_INFO!$N57),0))))","v":23251},{"$f":"IF(AND(INTRO!$E$39=\"Non-endemic\",INTRO!$E$37=\"Non-endemic\"),\"Not required\",IF(INTRO!$E$39=\"Non-endemic\",\"Treat with DEC\",COUNTRY_INFO!W57))","v":1},{"$f":"IF(INTRO!$E$39<>\"Non-endemic\",COUNTRY_INFO!X57,\"Not required\")","v":0},{"$f":"IF(COUNTRY_INFO!H57=1, IF($E57=1,IF(ALB_MBD!$G57<>\" \",COUNTRY_INFO!F57+COUNTRY_INFO!G57-ALB_MBD!$G57,COUNTRY_INFO!F57+COUNTRY_INFO!G57), 0),0)","v":23251},{"$f":"IF(INTRO!$E$39<>\"Endemic\",0, IF(AND(COUNTRY_INFO!$I57=1,$F57<>0),IF(COUNTRY_INFO!N57>=(COUNTRY_INFO!F57+COUNTRY_INFO!G57),COUNTRY_INFO!F57+COUNTRY_INFO!G57,COUNTRY_INFO!$N57), 0))","v":0},65102.799999999996,0,0,65102.799999999996,null,65102.799999999996]
[{"$f":"IF(INTRO!$E$39=\"Non-endemic\",\" \",IF(COUNTRY_INFO!A58=0,\" \",COUNTRY_INFO!A58))","v":"Angola"},{"$f":"IF(INTRO!$E$39=\"Non-endemic\",\" \",IF(COUNTRY_INFO!B58=0,\" \",COUNTRY_INFO!B58))","v":"CUANZA SUL"},{"$f":"IF(INTRO!$E$39=\"Non-endemic\",\" \",IF(COUNTRY_INFO!C58=0,\" \",COUNTRY_INFO!C58))","v":"AMBOIM"},{"$f":"IF(INTRO!$E$39=\"Non-endemic\",0,IF(INTRO!$E$39=\"Endemic but PC is not required\",IF(COUNTRY_INFO!$H58=1,COUNTRY_INFO!F58+COUNTRY_INFO!G58,0),IF(COUNTRY_INFO!$H58=1,COUNTRY_INFO!F58+COUNTRY_INFO!G58,IF(COUNTRY_INFO!$I58=1,IF(COUNTRY_INFO!N58>=(COUNTRY_INFO!F58+COUNTRY_INFO!G58),COUNTRY_INFO!F58+COUNTRY_INFO!G58,COUNTRY_INFO!$N58),0))))","v":0},{"$f":"IF(AND(INTRO!$E$39=\"Non-endemic\",INTRO!$E$37=\"Non-endemic\"),\"Not required\",IF(INTRO!$E$39=\"Non-endemic\",\"Treat with DEC\",COUNTRY_INFO!W58))","v":0},{"$f":"IF(INTRO!$E$39<>\"Non-endemic\",COUNTRY_INFO!X58,\"Not required\")","v":0},{"$f":"IF(COUNTRY_INFO!H58=1, IF($E58=1,IF(ALB_MBD!$G58<>\" \",COUNTRY_INFO!F58+COUNTRY_INFO!G58-ALB_MBD!$G58,COUNTRY_INFO!F58+COUNTRY_INFO!G58), 0),0)","v":0},{"$f":"IF(INTRO!$E$39<>\"Endemic\",0, IF(AND(COUNTRY_INFO!$I58=1,$F58<>0),IF(COUNTRY_INFO!N58>=(COUNTRY_INFO!F58+COUNTRY_INFO!G58),COUNTRY_INFO!F58+COUNTRY_INFO!G58,COUNTRY_INFO!$N58), 0))","v":0},0,0,0,0,null,0]
[{"$f":"IF(INTRO!$E$39=\"Non-endemic\",\" \",IF(COUNTRY_INFO!A59=0,\" \",COUNTRY_INFO!A59))","v":"Angola"},{"$f":"IF(INTRO!$E$39=\"Non-endemic\",\" \",IF(COUNTRY_INFO!B59=0,\" \",COUNTRY_INFO!B59))","v":"CUANZA SUL"},{"$f":"IF(INTRO!$E$39=\"Non-endemic\",\" \",IF(COUNTRY_INFO!C59=0,\" \",COUNTRY_INFO!C59))","v":"CASSONGUE"},{"$f":"IF(INTRO!$E$39=\"Non-endemic\",0,IF(INTRO!$E$39=\"Endemic but PC is not required\",IF(COUNTRY_INFO!$H59=1,COUNTRY_INFO!F59+COUNTRY_INFO!G59,0),IF(COUNTRY_INFO!$H59=1,COUNTRY_INFO!F59+COUNTRY_INFO!G59,IF(COUNTRY_INFO!$I59=1,IF(COUNTRY_INFO!N59>=(COUNTRY_INFO!F59+COUNTRY_INFO!G59),COUNTRY_INFO!F59+COUNTRY_INFO!G59,COUNTRY_INFO!$N59),0))))","v":0},{"$f":"IF(AND(INTRO!$E$39=\"Non-endemic\",INTRO!$E$37=\"Non-endemic\"),\"Not required\",IF(INTRO!$E$39=\"Non-endemic\",\"Treat with DEC\",COUNTRY_INFO!W59))","v":0},{"$f":"IF(INTRO!$E$39<>\"Non-endemic\",COUNTRY_INFO!X59,\"Not required\")","v":0},{"$f":"IF(COUNTRY_INFO!H59=1, IF($E59=1,IF(ALB_MBD!$G59<>\" \",COUNTRY_INFO!F59+COUNTRY_INFO!G59-ALB_MBD!$G59,COUNTRY_INFO!F59+COUNTRY_INFO!G59), 0),0)","v":0},{"$f":"IF(INTRO!$E$39<>\"Endemic\",0, IF(AND(COUNTRY_INFO!$I59=1,$F59<>0),IF(COUNTRY_INFO!N59>=(COUNTRY_INFO!F59+COUNTRY_INFO!G59),COUNTRY_INFO!F59+COUNTRY_INFO!G59,COUNTRY_INFO!$N59), 0))","v":0},0,0,0,0,null,0]
[{"$f":"IF(INTRO!$E$39=\"Non-endemic\",\" \",IF(COUNTRY_INFO!A60=0,\" \",COUNTRY_INFO!A60))","v":"Angola"},{"$f":"IF(INTRO!$E$39=\"Non-endemic\",\" \",IF(COUNTRY_INFO!B60=0,\" \",COUNTRY_INFO!B60))","v":"CUANZA SUL"},{"$f":"IF(INTRO!$E$39=\"Non-endemic\",\" \",IF(COUNTRY_INFO!C60=0,\" \",COUNTRY_INFO!C60))","v":"CELA (Waku Kungo)"},{"$f":"IF(INTRO!$E$39=\"Non-endemic\",0,IF(INTRO!$E$39=\"Endemic but PC is not required\",IF(COUNTRY_INFO!$H60=1,COUNTRY_INFO!F60+COUNTRY_INFO!G60,0),IF(COUNTRY_INFO!$H60=1,COUNTRY_INFO!F60+COUNTRY_INFO!G60,IF(COUNTRY_INFO!$I60=1,IF(COUNTRY_INFO!N60>=(COUNTRY_INFO!F60+COUNTRY_INFO!G60),COUNTRY_INFO!F60+COUNTRY_INFO!G60,COUNTRY_INFO!$N60),0))))","v":0},{"$f":"IF(AND(INTRO!$E$39=\"Non-endemic\",INTRO!$E$37=\"Non-endemic\"),\"Not required\",IF(INTRO!$E$39=\"Non-endemic\",\"Treat with DEC\",COUNTRY_INFO!W60))","v":0},{"$f":"IF(INTRO!$E$39<>\"Non-endemic\",COUNTRY_INFO!X60,\"Not required\")","v":0},{"$f":"IF(COUNTRY_INFO!H60=1, IF($E60=1,IF(ALB_MBD!$G60<>\" \",COUNTRY_INFO!F60+COUNTRY_INFO!G60-ALB_MBD!$G60,COUNTRY_INFO!F60+COUNTRY_INFO!G60), 0),0)","v":0},{"$f":"IF(INTRO!$E$39<>\"Endemic\",0, IF(AND(COUNTRY_INFO!$I60=1,$F60<>0),IF(COUNTRY_INFO!N60>=(COUNTRY_INFO!F60+COUNTRY_INFO!G60),COUNTRY_INFO!F60+COUNTRY_INFO!G60,COUNTRY_INFO!$N60), 0))","v":0},0,0,0,0,null,0]
[{"$f":"IF(INTRO!$E$39=\"Non-endemic\",\" \",IF(COUNTRY_INFO!A61=0,\" \",COUNTRY_INFO!A61))","v":"Angola"},{"$f":"IF(INTRO!$E$39=\"Non-endemic\",\" \",IF(COUNTRY_INFO!B61=0,\" \",COUNTRY_INFO!B61))","v":"CUANZA SUL"},{"$f":"IF(INTRO!$E$39=\"Non-endemic\",\" \",IF(COUNTRY_INFO!C61=0,\" \",COUNTRY_INFO!C61))","v":"CONDA"},{"$f":"IF(INTRO!$E$39=\"Non-endemic\",0,IF(INTRO!$E$39=\"Endemic but PC is not required\",IF(COUNTRY_INFO!$H61=1,COUNTRY_INFO!F61+COUNTRY_INFO!G61,0),IF(COUNTRY_INFO!$H61=1,COUNTRY_INFO!F61+COUNTRY_INFO!G61,IF(COUNTRY_INFO!$I61=1,IF(COUNTRY_INFO!N61>=(COUNTRY_INFO!F61+COUNTRY_INFO!G61),COUNTRY_INFO!F61+COUNTRY_INFO!G61,COUNTRY_INFO!$N61),0))))","v":0},{"$f":"IF(AND(INTRO!$E$39=\"Non-endemic\",INTRO!$E$37=\"Non-endemic\"),\"Not required\",IF(INTRO!$E$39=\"Non-endemic\",\"Treat with DEC\",COUNTRY_INFO!W61))","v":0},{"$f":"IF(INTRO!$E$39<>\"Non-endemic\",COUNTRY_INFO!X61,\"Not required\")","v":0},{"$f":"IF(COUNTRY_INFO!H61=1, IF($E61=1,IF(ALB_MBD!$G61<>\" \",COUNTRY_INFO!F61+COUNTRY_INFO!G61-ALB_MBD!$G61,COUNTRY_INFO!F61+COUNTRY_INFO!G61), 0),0)","v":0},{"$f":"IF(INTRO!$E$39<>\"Endemic\",0, IF(AND(COUNTRY_INFO!$I61=1,$F61<>0),IF(COUNTRY_INFO!N61>=(COUNTRY_INFO!F61+COUNTRY_INFO!G61),COUNTRY_INFO!F61+COUNTRY_INFO!G61,COUNTRY_INFO!$N61), 0))","v":0},0,0,0,0,null,0]
[{"$f":"IF(INTRO!$E$39=\"Non-endemic\",\" \",IF(COUNTRY_INFO!A62=0,\" \",COUNTRY_INFO!A62))","v":"Angola"},{"$f":"IF(INTRO!$E$39=\"Non-endemic\",\" \",IF(COUNTRY_INFO!B62=0,\" \",COUNTRY_INFO!B62))","v":"CUANZA SUL"},{"$f":"IF(INTRO!$E$39=\"Non-endemic\",\" \",IF(COUNTRY_INFO!C62=0,\" \",COUNTRY_INFO!C62))","v":"EBO"},{"$f":"IF(INTRO!$E$39=\"Non-endemic\",0,IF(INTRO!$E$39=\"Endemic but PC is not required\",IF(COUNTRY_INFO!$H62=1,COUNTRY_INFO!F62+COUNTRY_INFO!G62,0),IF(COUNTRY_INFO!$H62=1,COUNTRY_INFO!F62+COUNTRY_INFO!G62,IF(COUNTRY_INFO!$I62=1,IF(COUNTRY_INFO!N62>=(COUNTRY_INFO!F62+COUNTRY_INFO!G62),COUNTRY_INFO!F62+COUNTRY_INFO!G62,COUNTRY_INFO!$N62),0))))","v":0},{"$f":"IF(AND(INTRO!$E$39=\"Non-endemic\",INTRO!$E$37=\"Non-endemic\"),\"Not required\",IF(INTRO!$E$39=\"Non-endemic\",\"Treat with DEC\",COUNTRY_INFO!W62))","v":0},{"$f":"IF(INTRO!$E$39<>\"Non-endemic\",COUNTRY_INFO!X62,\"Not required\")","v":0},{"$f":"IF(COUNTRY_INFO!H62=1, IF($E62=1,IF(ALB_MBD!$G62<>\" \",COUNTRY_INFO!F62+COUNTRY_INFO!G62-ALB_MBD!$G62,COUNTRY_INFO!F62+COUNTRY_INFO!G62), 0),0)","v":0},{"$f":"IF(INTRO!$E$39<>\"Endemic\",0, IF(AND(COUNTRY_INFO!$I62=1,$F62<>0),IF(COUNTRY_INFO!N62>=(COUNTRY_INFO!F62+COUNTRY_INFO!G62),COUNTRY_INFO!F62+COUNTRY_INFO!G62,COUNTRY_INFO!$N62), 0))","v":0},0,0,0,0,null,0]
[{"$f":"IF(INTRO!$E$39=\"Non-endemic\",\" \",IF(COUNTRY_INFO!A63=0,\" \",COUNTRY_INFO!A63))","v":"Angola"},{"$f":"IF(INTRO!$E$39=\"Non-endemic\",\" \",IF(COUNTRY_INFO!B63=0,\" \",COUNTRY_INFO!B63))","v":"CUANZA SUL"},{"$f":"IF(INTRO!$E$39=\"Non-endemic\",\" \",IF(COUNTRY_INFO!C63=0,\" \",COUNTRY_INFO!C63))","v":"LIBOLO"},{"$f":"IF(INTRO!$E$39=\"Non-endemic\",0,IF(INTRO!$E$39=\"Endemic but PC is not required\",IF(COUNTRY_INFO!$H63=1,COUNTRY_INFO!F63+COUNTRY_INFO!G63,0),IF(COUNTRY_INFO!$H63=1,COUNTRY_INFO!F63+COUNTRY_INFO!G63,IF(COUNTRY_INFO!$I63=1,IF(COUNTRY_INFO!N63>=(COUNTRY_INFO!F63+COUNTRY_INFO!G63),COUNTRY_INFO!F63+COUNTRY_INFO!G63,COUNTRY_INFO!$N63),0))))","v":0},{"$f":"IF(AND(INTRO!$E$39=\"Non-endemic\",INTRO!$E$37=\"Non-endemic\"),\"Not required\",IF(INTRO!$E$39=\"Non-endemic\",\"Treat with DEC\",COUNTRY_INFO!W63))","v":0},{"$f":"IF(INTRO!$E$39<>\"Non-endemic\",COUNTRY_INFO!X63,\"Not required\")","v":0},{"$f":"IF(COUNTRY_INFO!H63=1, IF($E63=1,IF(ALB_MBD!$G63<>\" \",COUNTRY_INFO!F63+COUNTRY_INFO!G63-ALB_MBD!$G63,COUNTRY_INFO!F63+COUNTRY_INFO!G63), 0),0)","v":0},{"$f":"IF(INTRO!$E$39<>\"Endemic\",0, IF(AND(COUNTRY_INFO!$I63=1,$F63<>0),IF(COUNTRY_INFO!N63>=(COUNTRY_INFO!F63+COUNTRY_INFO!G63),COUNTRY_INFO!F63+COUNTRY_INFO!G63,COUNTRY_INFO!$N63), 0))","v":0},0,0,0,0,null,0]
[{"$f":"IF(INTRO!$E$39=\"Non-endemic\",\" \",IF(COUNTRY_INFO!A64=0,\" \",COUNTRY_INFO!A64))","v":"Angola"},{"$f":"IF(INTRO!$E$39=\"Non-endemic\",\" \",IF(COUNTRY_INFO!B64=0,\" \",COUNTRY_INFO!B64))","v":"CUANZA SUL"},{"$f":"IF(INTRO!$E$39=\"Non-endemic\",\" \",IF(COUNTRY_INFO!C64=0,\" \",COUNTRY_INFO!C64))","v":"MUSSENDE"},{"$f":"IF(INTRO!$E$39=\"Non-endemic\",0,IF(INTRO!$E$39=\"Endemic but PC is not required\",IF(COUNTRY_INFO!$H64=1,COUNTRY_INFO!F64+COUNTRY_INFO!G64,0),IF(COUNTRY_INFO!$H64=1,COUNTRY_INFO!F64+COUNTRY_INFO!G64,IF(COUNTRY_INFO!$I64=1,IF(COUNTRY_INFO!N64>=(COUNTRY_INFO!F64+COUNTRY_INFO!G64),COUNTRY_INFO!F64+COUNTRY_INFO!G64,COUNTRY_INFO!$N64),0))))","v":88063},{"$f":"IF(AND(INTRO!$E$39=\"Non-endemic\",INTRO!$E$37=\"Non-endemic\"),\"Not required\",IF(INTRO!$E$39=\"Non-endemic\",\"Treat with DEC\",COUNTRY_INFO!W64))","v":0},{"$f":"IF(INTRO!$E$39<>\"Non-endemic\",COUNTRY_INFO!X64,\"Not required\")","v":1},{"$f":"IF(COUNTRY_INFO!H64=1, IF($E64=1,IF(ALB_MBD!$G64<>\" \",COUNTRY_INFO!F64+COUNTRY_INFO!G64-ALB_MBD!$G64,COUNTRY_INFO!F64+COUNTRY_INFO!G64), 0),0)","v":0},{"$f":"IF(INTRO!$E$39<>\"Endemic\",0, IF(AND(COUNTRY_INFO!$I64=1,$F64<>0),IF(COUNTRY_INFO!N64>=(COUNTRY_INFO!F64+COUNTRY_INFO!G64),COUNTRY_INFO!F64+COUNTRY_INFO!G64,COUNTRY_INFO!$N64), 0))","v":88063},0,246576.4,0,246576.4,null,246576.4]
[{"$f":"IF(INTRO!$E$39=\"Non-endemic\",\" \",IF(COUNTRY_INFO!A65=0,\" \",COUNTRY_INFO!A65))","v":"Angola"},{"$f":"IF(INTRO!$E$39=\"Non-endemic\",\" \",IF(COUNTRY_INFO!B65=0,\" \",COUNTRY_INFO!B65))","v":"CUANZA SUL"},{"$f":"IF(INTRO!$E$39=\"Non-endemic\",\" \",IF(COUNTRY_INFO!C65=0,\" \",COUNTRY_INFO!C65))","v":"PORTO AMBOIM"},{"$f":"IF(INTRO!$E$39=\"Non-endemic\",0,IF(INTRO!$E$39=\"Endemic but PC is not required\",IF(COUNTRY_INFO!$H65=1,COUNTRY_INFO!F65+COUNTRY_INFO!G65,0),IF(COUNTRY_INFO!$H65=1,COUNTRY_INFO!F65+COUNTRY_INFO!G65,IF(COUNTRY_INFO!$I65=1,IF(COUNTRY_INFO!N65>=(COUNTRY_INFO!F65+COUNTRY_INFO!G65),COUNTRY_INFO!F65+COUNTRY_INFO!G65,COUNTRY_INFO!$N65),0))))","v":134388},{"$f":"IF(AND(INTRO!$E$39=\"Non-endemic\",INTRO!$E$37=\"Non-endemic\"),\"Not required\",IF(INTRO!$E$39=\"Non-endemic\",\"Treat with DEC\",COUNTRY_INFO!W65))","v":1},{"$f":"IF(INTRO!$E$39<>\"Non-endemic\",COUNTRY_INFO!X65,\"Not required\")","v":1},{"$f":"IF(COUNTRY_INFO!H65=1, IF($E65=1,IF(ALB_MBD!$G65<>\" \",COUNTRY_INFO!F65+COUNTRY_INFO!G65-ALB_MBD!$G65,COUNTRY_INFO!F65+COUNTRY_INFO!G65), 0),0)","v":134388},{"$f":"IF(INTRO!$E$39<>\"Endemic\",0, IF(AND(COUNTRY_INFO!$I65=1,$F65<>0),IF(COUNTRY_INFO!N65>=(COUNTRY_INFO!F65+COUNTRY_INFO!G65),COUNTRY_INFO!F65+COUNTRY_INFO!G65,COUNTRY_INFO!$N65), 0))","v":134388},0,0,376286.39999999997,376286.39999999997,null,376286.39999999997]
[{"$f":"IF(INTRO!$E$39=\"Non-endemic\",\" \",IF(COUNTRY_INFO!A66=0,\" \",COUNTRY_INFO!A66))","v":"Angola"},{"$f":"IF(INTRO!$E$39=\"Non-endemic\",\" \",IF(COUNTRY_INFO!B66=0,\" \",COUNTRY_INFO!B66))","v":"CUANZA SUL"},{"$f":"IF(INTRO!$E$39=\"Non-endemic\",\" \",IF(COUNTRY_INFO!C66=0,\" \",COUNTRY_INFO!C66))","v":"QUIBALA"},{"$f":"IF(INTRO!$E$39=\"Non-endemic\",0,IF(INTRO!$E$39=\"Endemic but PC is not required\",IF(COUNTRY_INFO!$H66=1,COUNTRY_INFO!F66+COUNTRY_INFO!G66,0),IF(COUNTRY_INFO!$H66=1,COUNTRY_INFO!F66+COUNTRY_INFO!G66,IF(COUNTRY_INFO!$I66=1,IF(COUNTRY_INFO!N66>=(COUNTRY_INFO!F66+COUNTRY_INFO!G66),COUNTRY_INFO!F66+COUNTRY_INFO!G66,COUNTRY_INFO!$N66),0))))","v":0},{"$f":"IF(AND(INTRO!$E$39=\"Non-endemic\",INTRO!$E$37=\"Non-endemic\"),\"Not required\",IF(INTRO!$E$39=\"Non-endemic\",\"Treat with DEC\",COUNTRY_INFO!W66))","v":0},{"$f":"IF(INTRO!$E$39<>\"Non-endemic\",COUNTRY_INFO!X66,\"Not required\")","v":0},{"$f":"IF(COUNTRY_INFO!H66=1, IF($E66=1,IF(ALB_MBD!$G66<>\" \",COUNTRY_INFO!F66+COUNTRY_INFO!G66-ALB_MBD!$G66,COUNTRY_INFO!F66+COUNTRY_INFO!G66), 0),0)","v":0},{"$f":"IF(INTRO!$E$39<>\"Endemic\",0, IF(AND(COUNTRY_INFO!$I66=1,$F66<>0),IF(COUNTRY_INFO!N66>=(COUNTRY_INFO!F66+COUNTRY_INFO!G66),COUNTRY_INFO!F66+COUNTRY_INFO!G66,COUNTRY_INFO!$N66), 0))","v":0},0,0,0,0,null,0]
[{"$f":"IF(INTRO!$E$39=\"Non-endemic\",\" \",IF(COUNTRY_INFO!A67=0,\" \",COUNTRY_INFO!A67))","v":"Angola"},{"$f":"IF(INTRO!$E$39=\"Non-endemic\",\" \",IF(COUNTRY_INFO!B67=0,\" \",COUNTRY_INFO!B67))","v":"CUANZA SUL"},{"$f":"IF(INTRO!$E$39=\"Non-endemic\",\" \",IF(COUNTRY_INFO!C67=0,\" \",COUNTRY_INFO!C67))","v":"QUILENDA"},{"$f":"IF(INTRO!$E$39=\"Non-endemic\",0,IF(INTRO!$E$39=\"Endemic but PC is not required\",IF(COUNTRY_INFO!$H67=1,COUNTRY_INFO!F67+COUNTRY_INFO!G67,0),IF(COUNTRY_INFO!$H67=1,COUNTRY_INFO!F67+COUNTRY_INFO!G67,IF(COUNTRY_INFO!$I67=1,IF(COUNTRY_INFO!N67>=(COUNTRY_INFO!F67+COUNTRY_INFO!G67),COUNTRY_INFO!F67+COUNTRY_INFO!G67,COUNTRY_INFO!$N67),0))))","v":0},{"$f":"IF(AND(INTRO!$E$39=\"Non-endemic\",INTRO!$E$37=\"Non-endemic\"),\"Not required\",IF(INTRO!$E$39=\"Non-endemic\",\"Treat with DEC\",COUNTRY_INFO!W67))","v":0},{"$f":"IF(INTRO!$E$39<>\"Non-endemic\",COUNTRY_INFO!X67,\"Not required\")","v":0},{"$f":"IF(COUNTRY_INFO!H67=1, IF($E67=1,IF(ALB_MBD!$G67<>\" \",COUNTRY_INFO!F67+COUNTRY_INFO!G67-ALB_MBD!$G67,COUNTRY_INFO!F67+COUNTRY_INFO!G67), 0),0)","v":0},{"$f":"IF(INTRO!$E$39<>\"Endemic\",0, IF(AND(COUNTRY_INFO!$I67=1,$F67<>0),IF(COUNTRY_INFO!N67>=(COUNTRY_INFO!F67+COUNTRY_INFO!G67),COUNTRY_INFO!F67+COUNTRY_INFO!G67,COUNTRY_INFO!$N67), 0))","v":0},0,0,0,0,null,0]
[{"$f":"IF(INTRO!$E$39=\"Non-endemic\",\" \",IF(COUNTRY_INFO!A68=0,\" \",COUNTRY_INFO!A68))","v":"Angola"},{"$f":"IF(INTRO!$E$39=\"Non-endemic\",\" \",IF(COUNTRY_INFO!B68=0,\" \",COUNTRY_INFO!B68))","v":"CUANZA SUL"},{"$f":"IF(INTRO!$E$39=\"Non-endemic\",\" \",IF(COUNTRY_INFO!C68=0,\" \",COUNTRY_INFO!C68))","v":"SELES"},{"$f":"IF(INTRO!$E$39=\"Non-endemic\",0,IF(INTRO!$E$39=\"Endemic but PC is not required\",IF(COUNTRY_INFO!$H68=1,COUNTRY_INFO!F68+COUNTRY_INFO!G68,0),IF(COUNTRY_INFO!$H68=1,COUNTRY_INFO!F68+COUNTRY_INFO!G68,IF(COUNTRY_INFO!$I68=1,IF(COUNTRY_INFO!N68>=(COUNTRY_INFO!F68+COUNTRY_INFO!G68),COUNTRY_INFO!F68+COUNTRY_INFO!G68,COUNTRY_INFO!$N68),0))))","v":0},{"$f":"IF(AND(INTRO!$E$39=\"Non-endemic\",INTRO!$E$37=\"Non-endemic\"),\"Not required\",IF(INTRO!$E$39=\"Non-endemic\",\"Treat with DEC\",COUNTRY_INFO!W68))","v":0},{"$f":"IF(INTRO!$E$39<>\"Non-endemic\",COUNTRY_INFO!X68,\"Not required\")","v":0},{"$f":"IF(COUNTRY_INFO!H68=1, IF($E68=1,IF(ALB_MBD!$G68<>\" \",COUNTRY_INFO!F68+COUNTRY_INFO!G68-ALB_MBD!$G68,COUNTRY_INFO!F68+COUNTRY_INFO!G68), 0),0)","v":0},{"$f":"IF(INTRO!$E$39<>\"Endemic\",0, IF(AND(COUNTRY_INFO!$I68=1,$F68<>0),IF(COUNTRY_INFO!N68>=(COUNTRY_INFO!F68+COUNTRY_INFO!G68),COUNTRY_INFO!F68+COUNTRY_INFO!G68,COUNTRY_INFO!$N68), 0))","v":0},0,0,0,0,null,0]
[{"$f":"IF(INTRO!$E$39=\"Non-endemic\",\" \",IF(COUNTRY_INFO!A69=0,\" \",COUNTRY_INFO!A69))","v":"Angola"},{"$f":"IF(INTRO!$E$39=\"Non-endemic\",\" \",IF(COUNTRY_INFO!B69=0,\" \",COUNTRY_INFO!B69))","v":"CUANZA SUL"},{"$f":"IF(INTRO!$E$39=\"Non-endemic\",\" \",IF(COUNTRY_INFO!C69=0,\" \",COUNTRY_INFO!C69))","v":"SUMBE"},{"$f":"IF(INTRO!$E$39=\"Non-endemic\",0,IF(INTRO!$E$39=\"Endemic but PC is not required\",IF(COUNTRY_INFO!$H69=1,COUNTRY_INFO!F69+COUNTRY_INFO!G69,0),IF(COUNTRY_INFO!$H69=1,COUNTRY_INFO!F69+COUNTRY_INFO!G69,IF(COUNTRY_INFO!$I69=1,IF(COUNTRY_INFO!N69>=(COUNTRY_INFO!F69+COUNTRY_INFO!G69),COUNTRY_INFO!F69+COUNTRY_INFO!G69,COUNTRY_INFO!$N69),0))))","v":0},{"$f":"IF(AND(INTRO!$E$39=\"Non-endemic\",INTRO!$E$37=\"Non-endemic\"),\"Not required\",IF(INTRO!$E$39=\"Non-endemic\",\"Treat with DEC\",COUNTRY_INFO!W69))","v":0},{"$f":"IF(INTRO!$E$39<>\"Non-endemic\",COUNTRY_INFO!X69,\"Not required\")","v":0},{"$f":"IF(COUNTRY_INFO!H69=1, IF($E69=1,IF(ALB_MBD!$G69<>\" \",COUNTRY_INFO!F69+COUNTRY_INFO!G69-ALB_MBD!$G69,COUNTRY_INFO!F69+COUNTRY_INFO!G69), 0),0)","v":0},{"$f":"IF(INTRO!$E$39<>\"Endemic\",0, IF(AND(COUNTRY_INFO!$I69=1,$F69<>0),IF(COUNTRY_INFO!N69>=(COUNTRY_INFO!F69+COUNTRY_INFO!G69),COUNTRY_INFO!F69+COUNTRY_INFO!G69,COUNTRY_INFO!$N69), 0))","v":0},0,0,0,0,null,0]
[{"$f":"IF(INTRO!$E$39=\"Non-endemic\",\" \",IF(COUNTRY_INFO!A70=0,\" \",COUNTRY_INFO!A70))","v":"Angola"},{"$f":"IF(INTRO!$E$39=\"Non-endemic\",\" \",IF(COUNTRY_INFO!B70=0,\" \",COUNTRY_INFO!B70))","v":"CUNENE"},{"$f":"IF(INTRO!$E$39=\"Non-endemic\",\" \",IF(COUNTRY_INFO!C70=0,\" \",COUNTRY_INFO!C70))","v":"CAHAMA"},{"$f":"IF(INTRO!$E$39=\"Non-endemic\",0,IF(INTRO!$E$39=\"Endemic but PC is not required\",IF(COUNTRY_INFO!$H70=1,COUNTRY_INFO!F70+COUNTRY_INFO!G70,0),IF(COUNTRY_INFO!$H70=1,COUNTRY_INFO!F70+COUNTRY_INFO!G70,IF(COUNTRY_INFO!$I70=1,IF(COUNTRY_INFO!N70>=(COUNTRY_INFO!F70+COUNTRY_INFO!G70),COUNTRY_INFO!F70+COUNTRY_INFO!G70,COUNTRY_INFO!$N70),0))))","v":0},{"$f":"IF(AND(INTRO!$E$39=\"Non-endemic\",INTRO!$E$37=\"Non-endemic\"),\"Not required\",IF(INTRO!$E$39=\"Non-endemic\",\"Treat with DEC\",COUNTRY_INFO!W70))","v":0},{"$f":"IF(INTRO!$E$39<>\"Non-endemic\",COUNTRY_INFO!X70,\"Not required\")","v":0},{"$f":"IF(COUNTRY_INFO!H70=1, IF($E70=1,IF(ALB_MBD!$G70<>\" \",COUNTRY_INFO!F70+COUNTRY_INFO!G70-ALB_MBD!$G70,COUNTRY_INFO!F70+COUNTRY_INFO!G70), 0),0)","v":0},{"$f":"IF(INTRO!$E$39<>\"Endemic\",0, IF(AND(COUNTRY_INFO!$I70=1,$F70<>0),IF(COUNTRY_INFO!N70>=(COUNTRY_INFO!F70+COUNTRY_INFO!G70),COUNTRY_INFO!F70+COUNTRY_INFO!G70,COUNTRY_INFO!$N70), 0))","v":0},0,0,0,0,null,0]
[{"$f":"IF(INTRO!$E$39=\"Non-endemic\",\" \",IF(COUNTRY_INFO!A71=0,\" \",COUNTRY_INFO!A71))","v":"Angola"},{"$f":"IF(INTRO!$E$39=\"Non-endemic\",\" \",IF(COUNTRY_INFO!B71=0,\" \",COUNTRY_INFO!B71))","v":"CUNENE"},{"$f":"IF(INTRO!$E$39=\"Non-endemic\",\" \",IF(COUNTRY_INFO!C71=0,\" \",COUNTRY_INFO!C71))","v":"CUANHAMA"},{"$f":"IF(INTRO!$E$39=\"Non-endemic\",0,IF(INTRO!$E$39=\"Endemic but PC is not required\",IF(COUNTRY_INFO!$H71=1,COUNTRY_INFO!F71+COUNTRY_INFO!G71,0),IF(COUNTRY_INFO!$H71=1,COUNTRY_INFO!F71+COUNTRY_INFO!G71,IF(COUNTRY_INFO!$I71=1,IF(COUNTRY_INFO!N71>=(COUNTRY_INFO!F71+COUNTRY_INFO!G71),COUNTRY_INFO!F71+COUNTRY_INFO!G71,COUNTRY_INFO!$N71),0))))","v":0},{"$f":"IF(AND(INTRO!$E$39=\"Non-endemic\",INTRO!$E$37=\"Non-endemic\"),\"Not required\",IF(INTRO!$E$39=\"Non-endemic\",\"Treat with DEC\",COUNTRY_INFO!W71))","v":0},{"$f":"IF(INTRO!$E$39<>\"Non-endemic\",COUNTRY_INFO!X71,\"Not required\")","v":0},{"$f":"IF(COUNTRY_INFO!H71=1, IF($E71=1,IF(ALB_MBD!$G71<>\" \",COUNTRY_INFO!F71+COUNTRY_INFO!G71-ALB_MBD!$G71,COUNTRY_INFO!F71+COUNTRY_INFO!G71), 0),0)","v":0},{"$f":"IF(INTRO!$E$39<>\"Endemic\",0, IF(AND(COUNTRY_INFO!$I71=1,$F71<>0),IF(COUNTRY_INFO!N71>=(COUNTRY_INFO!F71+COUNTRY_INFO!G71),COUNTRY_INFO!F71+COUNTRY_INFO!G71,COUNTRY_INFO!$N71), 0))","v":0},0,0,0,0,null,0]
[{"$f":"IF(INTRO!$E$39=\"Non-endemic\",\" \",IF(COUNTRY_INFO!A72=0,\" \",COUNTRY_INFO!A72))","v":"Angola"},{"$f":"IF(INTRO!$E$39=\"Non-endemic\",\" \",IF(COUNTRY_INFO!B72=0,\" \",COUNTRY_INFO!B72))","v":"CUNENE"},{"$f":"IF(INTRO!$E$39=\"Non-endemic\",\" \",IF(COUNTRY_INFO!C72=0,\" \",COUNTRY_INFO!C72))","v":"CUROCA"},{"$f":"IF(INTRO!$E$39=\"Non-endemic\",0,IF(INTRO!$E$39=\"Endemic but PC is not required\",IF(COUNTRY_INFO!$H72=1,COUNTRY_INFO!F72+COUNTRY_INFO!G72,0),IF(COUNTRY_INFO!$H72=1,COUNTRY_INFO!F72+COUNTRY_INFO!G72,IF(COUNTRY_INFO!$I72=1,IF(COUNTRY_INFO!N72>=(COUNTRY_INFO!F72+COUNTRY_INFO!G72),COUNTRY_INFO!F72+COUNTRY_INFO!G72,COUNTRY_INFO!$N72),0))))","v":0},{"$f":"IF(AND(INTRO!$E$39=\"Non-endemic\",INTRO!$E$37=\"Non-endemic\"),\"Not required\",IF(INTRO!$E$39=\"Non-endemic\",\"Treat with DEC\",COUNTRY_INFO!W72))","v":0},{"$f":"IF(INTRO!$E$39<>\"Non-endemic\",COUNTRY_INFO!X72,\"Not required\")","v":0},{"$f":"IF(COUNTRY_INFO!H72=1, IF($E72=1,IF(ALB_MBD!$G72<>\" \",COUNTRY_INFO!F72+COUNTRY_INFO!G72-ALB_MBD!$G72,COUNTRY_INFO!F72+COUNTRY_INFO!G72), 0),0)","v":0},{"$f":"IF(INTRO!$E$39<>\"Endemic\",0, IF(AND(COUNTRY_INFO!$I72=1,$F72<>0),IF(COUNTRY_INFO!N72>=(COUNTRY_INFO!F72+COUNTRY_INFO!G72),COUNTRY_INFO!F72+COUNTRY_INFO!G72,COUNTRY_INFO!$N72), 0))","v":0},0,0,0,0,null,0]
[{"$f":"IF(INTRO!$E$39=\"Non-endemic\",\" \",IF(COUNTRY_INFO!A73=0,\" \",COUNTRY_INFO!A73))","v":"Angola"},{"$f":"IF(INTRO!$E$39=\"Non-endemic\",\" \",IF(COUNTRY_INFO!B73=0,\" \",COUNTRY_INFO!B73))","v":"CUNENE"},{"$f":"IF(INTRO!$E$39=\"Non-endemic\",\" \",IF(COUNTRY_INFO!C73=0,\" \",COUNTRY_INFO!C73))","v":"CUVELAI"},{"$f":"IF(INTRO!$E$39=\"Non-endemic\",0,IF(INTRO!$E$39=\"Endemic but PC is not required\",IF(COUNTRY_INFO!$H73=1,COUNTRY_INFO!F73+COUNTRY_INFO!G73,0),IF(COUNTRY_INFO!$H73=1,COUNTRY_INFO!F73+COUNTRY_INFO!G73,IF(COUNTRY_INFO!$I73=1,IF(COUNTRY_INFO!N73>=(COUNTRY_INFO!F73+COUNTRY_INFO!G73),COUNTRY_INFO!F73+COUNTRY_INFO!G73,COUNTRY_INFO!$N73),0))))","v":0},{"$f":"IF(AND(INTRO!$E$39=\"Non-endemic\",INTRO!$E$37=\"Non-endemic\"),\"Not required\",IF(INTRO!$E$39=\"Non-endemic\",\"Treat with DEC\",COUNTRY_INFO!W73))","v":0},{"$f":"IF(INTRO!$E$39<>\"Non-endemic\",COUNTRY_INFO!X73,\"Not required\")","v":0},{"$f":"IF(COUNTRY_INFO!H73=1, IF($E73=1,IF(ALB_MBD!$G73<>\" \",COUNTRY_INFO!F73+COUNTRY_INFO!G73-ALB_MBD!$G73,COUNTRY_INFO!F73+COUNTRY_INFO!G73), 0),0)","v":0},{"$f":"IF(INTRO!$E$39<>\"Endemic\",0, IF(AND(COUNTRY_INFO!$I73=1,$F73<>0),IF(COUNTRY_INFO!N73>=(COUNTRY_INFO!F73+COUNTRY_INFO!G73),COUNTRY_INFO!F73+COUNTRY_INFO!G73,COUNTRY_INFO!$N73), 0))","v":0},0,0,0,0,null,0]
[{"$f":"IF(INTRO!$E$39=\"Non-endemic\",\" \",IF(COUNTRY_INFO!A74=0,\" \",COUNTRY_INFO!A74))","v":"Angola"},{"$f":"IF(INTRO!$E$39=\"Non-endemic\",\" \",IF(COUNTRY_INFO!B74=0,\" \",COUNTRY_INFO!B74))","v":"CUNENE"},{"$f":"IF(INTRO!$E$39=\"Non-endemic\",\" \",IF(COUNTRY_INFO!C74=0,\" \",COUNTRY_INFO!C74))","v":"NAMACUNDE"},{"$f":"IF(INTRO!$E$39=\"Non-endemic\",0,IF(INTRO!$E$39=\"Endemic but PC is not required\",IF(COUNTRY_INFO!$H74=1,COUNTRY_INFO!F74+COUNTRY_INFO!G74,0),IF(COUNTRY_INFO!$H74=1,COUNTRY_INFO!F74+COUNTRY_INFO!G74,IF(COUNTRY_INFO!$I74=1,IF(COUNTRY_INFO!N74>=(COUNTRY_INFO!F74+COUNTRY_INFO!G74),COUNTRY_INFO!F74+COUNTRY_INFO!G74,COUNTRY_INFO!$N74),0))))","v":0},{"$f":"IF(AND(INTRO!$E$39=\"Non-endemic\",INTRO!$E$37=\"Non-endemic\"),\"Not required\",IF(INTRO!$E$39=\"Non-endemic\",\"Treat with DEC\",COUNTRY_INFO!W74))","v":0},{"$f":"IF(INTRO!$E$39<>\"Non-endemic\",COUNTRY_INFO!X74,\"Not required\")","v":0},{"$f":"IF(COUNTRY_INFO!H74=1, IF($E74=1,IF(ALB_MBD!$G74<>\" \",COUNTRY_INFO!F74+COUNTRY_INFO!G74-ALB_MBD!$G74,COUNTRY_INFO!F74+COUNTRY_INFO!G74), 0),0)","v":0},{"$f":"IF(INTRO!$E$39<>\"Endemic\",0, IF(AND(COUNTRY_INFO!$I74=1,$F74<>0),IF(COUNTRY_INFO!N74>=(COUNTRY_INFO!F74+COUNTRY_INFO!G74),COUNTRY_INFO!F74+COUNTRY_INFO!G74,COUNTRY_INFO!$N74), 0))","v":0},0,0,0,0,null,0]
[{"$f":"IF(INTRO!$E$39=\"Non-endemic\",\" \",IF(COUNTRY_INFO!A75=0,\" \",COUNTRY_INFO!A75))","v":"Angola"},{"$f":"IF(INTRO!$E$39=\"Non-endemic\",\" \",IF(COUNTRY_INFO!B75=0,\" \",COUNTRY_INFO!B75))","v":"CUNENE"},{"$f":"IF(INTRO!$E$39=\"Non-endemic\",\" \",IF(COUNTRY_INFO!C75=0,\" \",COUNTRY_INFO!C75))","v":"OMBADJA"},{"$f":"IF(INTRO!$E$39=\"Non-endemic\",0,IF(INTRO!$E$39=\"Endemic but PC is not required\",IF(COUNTRY_INFO!$H75=1,COUNTRY_INFO!F75+COUNTRY_INFO!G75,0),IF(COUNTRY_INFO!$H75=1,COUNTRY_INFO!F75+COUNTRY_INFO!G75,IF(COUNTRY_INFO!$I75=1,IF(COUNTRY_INFO!N75>=(COUNTRY_INFO!F75+COUNTRY_INFO!G75),COUNTRY_INFO!F75+COUNTRY_INFO!G75,COUNTRY_INFO!$N75),0))))","v":0},{"$f":"IF(AND(INTRO!$E$39=\"Non-endemic\",INTRO!$E$37=\"Non-endemic\"),\"Not required\",IF(INTRO!$E$39=\"Non-endemic\",\"Treat with DEC\",COUNTRY_INFO!W75))","v":0},{"$f":"IF(INTRO!$E$39<>\"Non-endemic\",COUNTRY_INFO!X75,\"Not required\")","v":0},{"$f":"IF(COUNTRY_INFO!H75=1, IF($E75=1,IF(ALB_MBD!$G75<>\" \",COUNTRY_INFO!F75+COUNTRY_INFO!G75-ALB_MBD!$G75,COUNTRY_INFO!F75+COUNTRY_INFO!G75), 0),0)","v":0},{"$f":"IF(INTRO!$E$39<>\"Endemic\",0, IF(AND(COUNTRY_INFO!$I75=1,$F75<>0),IF(COUNTRY_INFO!N75>=(COUNTRY_INFO!F75+COUNTRY_INFO!G75),COUNTRY_INFO!F75+COUNTRY_INFO!G75,COUNTRY_INFO!$N75), 0))","v":0},{"$f":"IF(G75<H75,0,IF($E75=1, (G75-H75)*2.8, 0))","v":0},{"$f":"IF($E75<$F75, H75*(F75-E75)*2.8, 0)","v":0},{"$f":"IF(AND($E75=1, $F75<>0), H75*2.8, 0)","v":0},{"$f":"SUM(I75:K75)","v":0},null,0]
[{"$f":"IF(INTRO!$E$39=\"Non-endemic\",\" \",IF(COUNTRY_INFO!A76=0,\" \",COUNTRY_INFO!A76))","v":"Angola"},{"$f":"IF(INTRO!$E$39=\"Non-endemic\",\" \",IF(COUNTRY_INFO!B76=0,\" \",COUNTRY_INFO!B76))","v":"HUAMBO"},{"$f":"IF(INTRO!$E$39=\"Non-endemic\",\" \",IF(COUNTRY_INFO!C76=0,\" \",COUNTRY_INFO!C76))","v":"BAILUNDO"},{"$f":"IF(INTRO!$E$39=\"Non-endemic\",0,IF(INTRO!$E$39=\"Endemic but PC is not required\",IF(COUNTRY_INFO!$H76=1,COUNTRY_INFO!F76+COUNTRY_INFO!G76,0),IF(COUNTRY_INFO!$H76=1,COUNTRY_INFO!F76+COUNTRY_INFO!G76,IF(COUNTRY_INFO!$I76=1,IF(COUNTRY_INFO!N76>=(COUNTRY_INFO!F76+COUNTRY_INFO!G76),COUNTRY_INFO!F76+COUNTRY_INFO!G76,COUNTRY_INFO!$N76),0))))","v":0},{"$f":"IF(AND(INTRO!$E$39=\"Non-endemic\",INTRO!$E$37=\"Non-endemic\"),\"Not required\",IF(INTRO!$E$39=\"Non-endemic\",\"Treat with DEC\",COUNTRY_INFO!W76))","v":0},{"$f":"IF(INTRO!$E$39<>\"Non-endemic\",COUNTRY_INFO!X76,\"Not required\")","v":0},{"$f":"IF(COUNTRY_INFO!H76=1, IF($E76=1,IF(ALB_MBD!$G76<>\" \",COUNTRY_INFO!F76+COUNTRY_INFO!G76-ALB_MBD!$G76,COUNTRY_INFO!F76+COUNTRY_INFO!G76), 0),0)","v":0},{"$f":"IF(INTRO!$E$39<>\"Endemic\",0, IF(AND(COUNTRY_INFO!$I76=1,$F76<>0),IF(COUNTRY_INFO!N76>=(COUNTRY_INFO!F76+COUNTRY_INFO!G76),COUNTRY_INFO!F76+COUNTRY_INFO!G76,COUNTRY_INFO!$N76), 0))","v":0},0,0,0,0,null,0]
[{"$f":"IF(INTRO!$E$39=\"Non-endemic\",\" \",IF(COUNTRY_INFO!A77=0,\" \",COUNTRY_INFO!A77))","v":"Angola"},{"$f":"IF(INTRO!$E$39=\"Non-endemic\",\" \",IF(COUNTRY_INFO!B77=0,\" \",COUNTRY_INFO!B77))","v":"HUAMBO"},{"$f":"IF(INTRO!$E$39=\"Non-endemic\",\" \",IF(COUNTRY_INFO!C77=0,\" \",COUNTRY_INFO!C77))","v":"CAALA"},{"$f":"IF(INTRO!$E$39=\"Non-endemic\",0,IF(INTRO!$E$39=\"Endemic but PC is not required\",IF(COUNTRY_INFO!$H77=1,COUNTRY_INFO!F77+COUNTRY_INFO!G77,0),IF(COUNTRY_INFO!$H77=1,COUNTRY_INFO!F77+COUNTRY_INFO!G77,IF(COUNTRY_INFO!$I77=1,IF(COUNTRY_INFO!N77>=(COUNTRY_INFO!F77+COUNTRY_INFO!G77),COUNTRY_INFO!F77+COUNTRY_INFO!G77,COUNTRY_INFO!$N77),0))))","v":0},{"$f":"IF(AND(INTRO!$E$39=\"Non-endemic\",INTRO!$E$37=\"Non-endemic\"),\"Not required\",IF(INTRO!$E$39=\"Non-endemic\",\"Treat with DEC\",COUNTRY_INFO!W77))","v":0},{"$f":"IF(INTRO!$E$39<>\"Non-endemic\",COUNTRY_INFO!X77,\"Not required\")","v":0},{"$f":"IF(COUNTRY_INFO!H77=1, IF($E77=1,IF(ALB_MBD!$G77<>\" \",COUNTRY_INFO!F77+COUNTRY_INFO!G77-ALB_MBD!$G77,COUNTRY_INFO!F77+COUNTRY_INFO!G77), 0),0)","v":0},{"$f":"IF(INTRO!$E$39<>\"Endemic\",0, IF(AND(COUNTRY_INFO!$I77=1,$F77<>0),IF(COUNTRY_INFO!N77>=(COUNTRY_INFO!F77+COUNTRY_INFO!G77),COUNTRY_INFO!F77+COUNTRY_INFO!G77,COUNTRY_INFO!$N77), 0))","v":0},0,0,0,0,null,0]
[{"$f":"IF(INTRO!$E$39=\"Non-endemic\",\" \",IF(COUNTRY_INFO!A78=0,\" \",COUNTRY_INFO!A78))","v":"Angola"},{"$f":"IF(INTRO!$E$39=\"Non-endemic\",\" \",IF(COUNTRY_INFO!B78=0,\" \",COUNTRY_INFO!B78))","v":"HUAMBO"},{"$f":"IF(INTRO!$E$39=\"Non-endemic\",\" \",IF(COUNTRY_INFO!C78=0,\" \",COUNTRY_INFO!C78))","v":"CACHIUNGO"},{"$f":"IF(INTRO!$E$39=\"Non-endemic\",0,IF(INTRO!$E$39=\"Endemic but PC is not required\",IF(COUNTRY_INFO!$H78=1,COUNTRY_INFO!F78+COUNTRY_INFO!G78,0),IF(COUNTRY_INFO!$H78=1,COUNTRY_INFO!F78+COUNTRY_INFO!G78,IF(COUNTRY_INFO!$I78=1,IF(COUNTRY_INFO!N78>=(COUNTRY_INFO!F78+COUNTRY_INFO!G78),COUNTRY_INFO!F78+COUNTRY_INFO!G78,COUNTRY_INFO!$N78),0))))","v":0},{"$f":"IF(AND(INTRO!$E$39=\"Non-endemic\",INTRO!$E$37=\"Non-endemic\"),\"Not required\",IF(INTRO!$E$39=\"Non-endemic\",\"Treat with DEC\",COUNTRY_INFO!W78))","v":0},{"$f":"IF(INTRO!$E$39<>\"Non-endemic\",COUNTRY_INFO!X78,\"Not required\")","v":0},{"$f":"IF(COUNTRY_INFO!H78=1, IF($E78=1,IF(ALB_MBD!$G78<>\" \",COUNTRY_INFO!F78+COUNTRY_INFO!G78-ALB_MBD!$G78,COUNTRY_INFO!F78+COUNTRY_INFO!G78), 0),0)","v":0},{"$f":"IF(INTRO!$E$39<>\"Endemic\",0, IF(AND(COUNTRY_INFO!$I78=1,$F78<>0),IF(COUNTRY_INFO!N78>=(COUNTRY_INFO!F78+COUNTRY_INFO!G78),COUNTRY_INFO!F78+COUNTRY_INFO!G78,COUNTRY_INFO!$N78), 0))","v":0},0,0,0,0,null,0]
[{"$f":"IF(INTRO!$E$39=\"Non-endemic\",\" \",IF(COUNTRY_INFO!A79=0,\" \",COUNTRY_INFO!A79))","v":"Angola"},{"$f":"IF(INTRO!$E$39=\"Non-endemic\",\" \",IF(COUNTRY_INFO!B79=0,\" \",COUNTRY_INFO!B79))","v":"HUAMBO"},{"$f":"IF(INTRO!$E$39=\"Non-endemic\",\" \",IF(COUNTRY_INFO!C79=0,\" \",COUNTRY_INFO!C79))","v":"CHICALA CHOLOHANGA"},{"$f":"IF(INTRO!$E$39=\"Non-endemic\",0,IF(INTRO!$E$39=\"Endemic but PC is not required\",IF(COUNTRY_INFO!$H79=1,COUNTRY_INFO!F79+COUNTRY_INFO!G79,0),IF(COUNTRY_INFO!$H79=1,COUNTRY_INFO!F79+COUNTRY_INFO!G79,IF(COUNTRY_INFO!$I79=1,IF(COUNTRY_INFO!N79>=(COUNTRY_INFO!F79+COUNTRY_INFO!G79),COUNTRY_INFO!F79+COUNTRY_INFO!G79,COUNTRY_INFO!$N79),0))))","v":0},{"$f":"IF(AND(INTRO!$E$39=\"Non-endemic\",INTRO!$E$37=\"Non-endemic\"),\"Not required\",IF(INTRO!$E$39=\"Non-endemic\",\"Treat with DEC\",COUNTRY_INFO!W79))","v":0},{"$f":"IF(INTRO!$E$39<>\"Non-endemic\",COUNTRY_INFO!X79,\"Not required\")","v":0},{"$f":"IF(COUNTRY_INFO!H79=1, IF($E79=1,IF(ALB_MBD!$G79<>\" \",COUNTRY_INFO!F79+COUNTRY_INFO!G79-ALB_MBD!$G79,COUNTRY_INFO!F79+COUNTRY_INFO!G79), 0),0)","v":0},{"$f":"IF(INTRO!$E$39<>\"Endemic\",0, IF(AND(COUNTRY_INFO!$I79=1,$F79<>0),IF(COUNTRY_INFO!N79>=(COUNTRY_INFO!F79+COUNTRY_INFO!G79),COUNTRY_INFO!F79+COUNTRY_INFO!G79,COUNTRY_INFO!$N79), 0))","v":0},0,0,0,0,null,0]
[{"$f":"IF(INTRO!$E$39=\"Non-endemic\",\" \",IF(COUNTRY_INFO!A80=0,\" \",COUNTRY_INFO!A80))","v":"Angola"},{"$f":"IF(INTRO!$E$39=\"Non-endemic\",\" \",IF(COUNTRY_INFO!B80=0,\" \",COUNTRY_INFO!B80))","v":"HUAMBO"},{"$f":"IF(INTRO!$E$39=\"Non-endemic\",\" \",IF(COUNTRY_INFO!C80=0,\" \",COUNTRY_INFO!C80))","v":"CHINDJENJE"},{"$f":"IF(INTRO!$E$39=\"Non-endemic\",0,IF(INTRO!$E$39=\"Endemic but PC is not required\",IF(COUNTRY_INFO!$H80=1,COUNTRY_INFO!F80+COUNTRY_INFO!G80,0),IF(COUNTRY_INFO!$H80=1,COUNTRY_INFO!F80+COUNTRY_INFO!G80,IF(COUNTRY_INFO!$I80=1,IF(COUNTRY_INFO!N80>=(COUNTRY_INFO!F80+COUNTRY_INFO!G80),COUNTRY_INFO!F80+COUNTRY_INFO!G80,COUNTRY_INFO!$N80),0))))","v":0},{"$f":"IF(AND(INTRO!$E$39=\"Non-endemic\",INTRO!$E$37=\"Non-endemic\"),\"Not required\",IF(INTRO!$E$39=\"Non-endemic\",\"Treat with DEC\",COUNTRY_INFO!W80))","v":0},{"$f":"IF(INTRO!$E$39<>\"Non-endemic\",COUNTRY_INFO!X80,\"Not required\")","v":0},{"$f":"IF(COUNTRY_INFO!H80=1, IF($E80=1,IF(ALB_MBD!$G80<>\" \",COUNTRY_INFO!F80+COUNTRY_INFO!G80-ALB_MBD!$G80,COUNTRY_INFO!F80+COUNTRY_INFO!G80), 0),0)","v":0},{"$f":"IF(INTRO!$E$39<>\"Endemic\",0, IF(AND(COUNTRY_INFO!$I80=1,$F80<>0),IF(COUNTRY_INFO!N80>=(COUNTRY_INFO!F80+COUNTRY_INFO!G80),COUNTRY_INFO!F80+COUNTRY_INFO!G80,COUNTRY_INFO!$N80), 0))","v":0},0,0,0,0,null,0]
[{"$f":"IF(INTRO!$E$39=\"Non-endemic\",\" \",IF(COUNTRY_INFO!A81=0,\" \",COUNTRY_INFO!A81))","v":"Angola"},{"$f":"IF(INTRO!$E$39=\"Non-endemic\",\" \",IF(COUNTRY_INFO!B81=0,\" \",COUNTRY_INFO!B81))","v":"HUAMBO"},{"$f":"IF(INTRO!$E$39=\"Non-endemic\",\" \",IF(COUNTRY_INFO!C81=0,\" \",COUNTRY_INFO!C81))","v":"ECUNHA"},{"$f":"IF(INTRO!$E$39=\"Non-endemic\",0,IF(INTRO!$E$39=\"Endemic but PC is not required\",IF(COUNTRY_INFO!$H81=1,COUNTRY_INFO!F81+COUNTRY_INFO!G81,0),IF(COUNTRY_INFO!$H81=1,COUNTRY_INFO!F81+COUNTRY_INFO!G81,IF(COUNTRY_INFO!$I81=1,IF(COUNTRY_INFO!N81>=(COUNTRY_INFO!F81+COUNTRY_INFO!G81),COUNTRY_INFO!F81+COUNTRY_INFO!G81,COUNTRY_INFO!$N81),0))))","v":0},{"$f":"IF(AND(INTRO!$E$39=\"Non-endemic\",INTRO!$E$37=\"Non-endemic\"),\"Not required\",IF(INTRO!$E$39=\"Non-endemic\",\"Treat with DEC\",COUNTRY_INFO!W81))","v":0},{"$f":"IF(INTRO!$E$39<>\"Non-endemic\",COUNTRY_INFO!X81,\"Not required\")","v":0},{"$f":"IF(COUNTRY_INFO!H81=1, IF($E81=1,IF(ALB_MBD!$G81<>\" \",COUNTRY_INFO!F81+COUNTRY_INFO!G81-ALB_MBD!$G81,COUNTRY_INFO!F81+COUNTRY_INFO!G81), 0),0)","v":0},{"$f":"IF(INTRO!$E$39<>\"Endemic\",0, IF(AND(COUNTRY_INFO!$I81=1,$F81<>0),IF(COUNTRY_INFO!N81>=(COUNTRY_INFO!F81+COUNTRY_INFO!G81),COUNTRY_INFO!F81+COUNTRY_INFO!G81,COUNTRY_INFO!$N81), 0))","v":0},0,0,0,0,null,0]
[{"$f":"IF(INTRO!$E$39=\"Non-endemic\",\" \",IF(COUNTRY_INFO!A82=0,\" \",COUNTRY_INFO!A82))","v":"Angola"},{"$f":"IF(INTRO!$E$39=\"Non-endemic\",\" \",IF(COUNTRY_INFO!B82=0,\" \",COUNTRY_INFO!B82))","v":"HUAMBO"},{"$f":"IF(INTRO!$E$39=\"Non-endemic\",\" \",IF(COUNTRY_INFO!C82=0,\" \",COUNTRY_INFO!C82))","v":"HUAMBO"},{"$f":"IF(INTRO!$E$39=\"Non-endemic\",0,IF(INTRO!$E$39=\"Endemic but PC is not required\",IF(COUNTRY_INFO!$H82=1,COUNTRY_INFO!F82+COUNTRY_INFO!G82,0),IF(COUNTRY_INFO!$H82=1,COUNTRY_INFO!F82+COUNTRY_INFO!G82,IF(COUNTRY_INFO!$I82=1,IF(COUNTRY_INFO!N82>=(COUNTRY_INFO!F82+COUNTRY_INFO!G82),COUNTRY_INFO!F82+COUNTRY_INFO!G82,COUNTRY_INFO!$N82),0))))","v":0},{"$f":"IF(AND(INTRO!$E$39=\"Non-endemic\",INTRO!$E$37=\"Non-endemic\"),\"Not required\",IF(INTRO!$E$39=\"Non-endemic\",\"Treat with DEC\",COUNTRY_INFO!W82))","v":0},{"$f":"IF(INTRO!$E$39<>\"Non-endemic\",COUNTRY_INFO!X82,\"Not required\")","v":0},{"$f":"IF(COUNTRY_INFO!H82=1, IF($E82=1,IF(ALB_MBD!$G82<>\" \",COUNTRY_INFO!F82+COUNTRY_INFO!G82-ALB_MBD!$G82,COUNTRY_INFO!F82+COUNTRY_INFO!G82), 0),0)","v":0},{"$f":"IF(INTRO!$E$39<>\"Endemic\",0, IF(AND(COUNTRY_INFO!$I82=1,$F82<>0),IF(COUNTRY_INFO!N82>=(COUNTRY_INFO!F82+COUNTRY_INFO!G82),COUNTRY_INFO!F82+COUNTRY_INFO!G82,COUNTRY_INFO!$N82), 0))","v":0},0,0,0,0,null,0]
[{"$f":"IF(INTRO!$E$39=\"Non-endemic\",\" \",IF(COUNTRY_INFO!A83=0,\" \",COUNTRY_INFO!A83))","v":"Angola"},{"$f":"IF(INTRO!$E$39=\"Non-endemic\",\" \",IF(COUNTRY_INFO!B83=0,\" \",COUNTRY_INFO!B83))","v":"HUAMBO"},{"$f":"IF(INTRO!$E$39=\"Non-endemic\",\" \",IF(COUNTRY_INFO!C83=0,\" \",COUNTRY_INFO!C83))","v":"LONDUIMBALI"},{"$f":"IF(INTRO!$E$39=\"Non-endemic\",0,IF(INTRO!$E$39=\"Endemic but PC is not required\",IF(COUNTRY_INFO!$H83=1,COUNTRY_INFO!F83+COUNTRY_INFO!G83,0),IF(COUNTRY_INFO!$H83=1,COUNTRY_INFO!F83+COUNTRY_INFO!G83,IF(COUNTRY_INFO!$I83=1,IF(COUNTRY_INFO!N83>=(COUNTRY_INFO!F83+COUNTRY_INFO!G83),COUNTRY_INFO!F83+COUNTRY_INFO!G83,COUNTRY_INFO!$N83),0))))","v":0},{"$f":"IF(AND(INTRO!$E$39=\"Non-endemic\",INTRO!$E$37=\"Non-endemic\"),\"Not required\",IF(INTRO!$E$39=\"Non-endemic\",\"Treat with DEC\",COUNTRY_INFO!W83))","v":0},{"$f":"IF(INTRO!$E$39<>\"Non-endemic\",COUNTRY_INFO!X83,\"Not required\")","v":0},{"$f":"IF(COUNTRY_INFO!H83=1, IF($E83=1,IF(ALB_MBD!$G83<>\" \",COUNTRY_INFO!F83+COUNTRY_INFO!G83-ALB_MBD!$G83,COUNTRY_INFO!F83+COUNTRY_INFO!G83), 0),0)","v":0},{"$f":"IF(INTRO!$E$39<>\"Endemic\",0, IF(AND(COUNTRY_INFO!$I83=1,$F83<>0),IF(COUNTRY_INFO!N83>=(COUNTRY_INFO!F83+COUNTRY_INFO!G83),COUNTRY_INFO!F83+COUNTRY_INFO!G83,COUNTRY_INFO!$N83), 0))","v":0},0,0,0,0,null,0]
[{"$f":"IF(INTRO!$E$39=\"Non-endemic\",\" \",IF(COUNTRY_INFO!A84=0,\" \",COUNTRY_INFO!A84))","v":"Angola"},{"$f":"IF(INTRO!$E$39=\"Non-endemic\",\" \",IF(COUNTRY_INFO!B84=0,\" \",COUNTRY_INFO!B84))","v":"HUAMBO"},{"$f":"IF(INTRO!$E$39=\"Non-endemic\",\" \",IF(COUNTRY_INFO!C84=0,\" \",COUNTRY_INFO!C84))","v":"LONGONJO"},{"$f":"IF(INTRO!$E$39=\"Non-endemic\",0,IF(INTRO!$E$39=\"Endemic but PC is not required\",IF(COUNTRY_INFO!$H84=1,COUNTRY_INFO!F84+COUNTRY_INFO!G84,0),IF(COUNTRY_INFO!$H84=1,COUNTRY_INFO!F84+COUNTRY_INFO!G84,IF(COUNTRY_INFO!$I84=1,IF(COUNTRY_INFO!N84>=(COUNTRY_INFO!F84+COUNTRY_INFO!G84),COUNTRY_INFO!F84+COUNTRY_INFO!G84,COUNTRY_INFO!$N84),0))))","v":0},{"$f":"IF(AND(INTRO!$E$39=\"Non-endemic\",INTRO!$E$37=\"Non-endemic\"),\"Not required\",IF(INTRO!$E$39=\"Non-endemic\",\"Treat with DEC\",COUNTRY_INFO!W84))","v":0},{"$f":"IF(INTRO!$E$39<>\"Non-endemic\",COUNTRY_INFO!X84,\"Not required\")","v":0},{"$f":"IF(COUNTRY_INFO!H84=1, IF($E84=1,IF(ALB_MBD!$G84<>\" \",COUNTRY_INFO!F84+COUNTRY_INFO!G84-ALB_MBD!$G84,COUNTRY_INFO!F84+COUNTRY_INFO!G84), 0),0)","v":0},{"$f":"IF(INTRO!$E$39<>\"Endemic\",0, IF(AND(COUNTRY_INFO!$I84=1,$F84<>0),IF(COUNTRY_INFO!N84>=(COUNTRY_INFO!F84+COUNTRY_INFO!G84),COUNTRY_INFO!F84+COUNTRY_INFO!G84,COUNTRY_INFO!$N84), 0))","v":0},0,0,0,0,null,0]
[{"$f":"IF(INTRO!$E$39=\"Non-endemic\",\" \",IF(COUNTRY_INFO!A85=0,\" \",COUNTRY_INFO!A85))","v":"Angola"},{"$f":"IF(INTRO!$E$39=\"Non-endemic\",\" \",IF(COUNTRY_INFO!B85=0,\" \",COUNTRY_INFO!B85))","v":"HUAMBO"},{"$f":"IF(INTRO!$E$39=\"Non-endemic\",\" \",IF(COUNTRY_INFO!C85=0,\" \",COUNTRY_INFO!C85))","v":"MUNGO"},{"$f":"IF(INTRO!$E$39=\"Non-endemic\",0,IF(INTRO!$E$39=\"Endemic but PC is not required\",IF(COUNTRY_INFO!$H85=1,COUNTRY_INFO!F85+COUNTRY_INFO!G85,0),IF(COUNTRY_INFO!$H85=1,COUNTRY_INFO!F85+COUNTRY_INFO!G85,IF(COUNTRY_INFO!$I85=1,IF(COUNTRY_INFO!N85>=(COUNTRY_INFO!F85+COUNTRY_INFO!G85),COUNTRY_INFO!F85+COUNTRY_INFO!G85,COUNTRY_INFO!$N85),0))))","v":125195},{"$f":"IF(AND(INTRO!$E$39=\"Non-endemic\",INTRO!$E$37=\"Non-endemic\"),\"Not required\",IF(INTRO!$E$39=\"Non-endemic\",\"Treat with DEC\",COUNTRY_INFO!W85))","v":0},{"$f":"IF(INTRO!$E$39<>\"Non-endemic\",COUNTRY_INFO!X85,\"Not required\")","v":1},{"$f":"IF(COUNTRY_INFO!H85=1, IF($E85=1,IF(ALB_MBD!$G85<>\" \",COUNTRY_INFO!F85+COUNTRY_INFO!G85-ALB_MBD!$G85,COUNTRY_INFO!F85+COUNTRY_INFO!G85), 0),0)","v":0},{"$f":"IF(INTRO!$E$39<>\"Endemic\",0, IF(AND(COUNTRY_INFO!$I85=1,$F85<>0),IF(COUNTRY_INFO!N85>=(COUNTRY_INFO!F85+COUNTRY_INFO!G85),COUNTRY_INFO!F85+COUNTRY_INFO!G85,COUNTRY_INFO!$N85), 0))","v":125195},0,350546,0,350546,null,350546]
[{"$f":"IF(INTRO!$E$39=\"Non-endemic\",\" \",IF(COUNTRY_INFO!A86=0,\" \",COUNTRY_INFO!A86))","v":"Angola"},{"$f":"IF(INTRO!$E$39=\"Non-endemic\",\" \",IF(COUNTRY_INFO!B86=0,\" \",COUNTRY_INFO!B86))","v":"HUAMBO"},{"$f":"IF(INTRO!$E$39=\"Non-endemic\",\" \",IF(COUNTRY_INFO!C86=0,\" \",COUNTRY_INFO!C86))","v":"UCUMA"},{"$f":"IF(INTRO!$E$39=\"Non-endemic\",0,IF(INTRO!$E$39=\"Endemic but PC is not required\",IF(COUNTRY_INFO!$H86=1,COUNTRY_INFO!F86+COUNTRY_INFO!G86,0),IF(COUNTRY_INFO!$H86=1,COUNTRY_INFO!F86+COUNTRY_INFO!G86,IF(COUNTRY_INFO!$I86=1,IF(COUNTRY_INFO!N86>=(COUNTRY_INFO!F86+COUNTRY_INFO!G86),COUNTRY_INFO!F86+COUNTRY_INFO!G86,COUNTRY_INFO!$N86),0))))","v":0},{"$f":"IF(AND(INTRO!$E$39=\"Non-endemic\",INTRO!$E$37=\"Non-endemic\"),\"Not required\",IF(INTRO!$E$39=\"Non-endemic\",\"Treat with DEC\",COUNTRY_INFO!W86))","v":0},{"$f":"IF(INTRO!$E$39<>\"Non-endemic\",COUNTRY_INFO!X86,\"Not required\")","v":0},{"$f":"IF(COUNTRY_INFO!H86=1, IF($E86=1,IF(ALB_MBD!$G86<>\" \",COUNTRY_INFO!F86+COUNTRY_INFO!G86-ALB_MBD!$G86,COUNTRY_INFO!F86+COUNTRY_INFO!G86), 0),0)","v":0},{"$f":"IF(INTRO!$E$39<>\"Endemic\",0, IF(AND(COUNTRY_INFO!$I86=1,$F86<>0),IF(COUNTRY_INFO!N86>=(COUNTRY_INFO!F86+COUNTRY_INFO!G86),COUNTRY_INFO!F86+COUNTRY_INFO!G86,COUNTRY_INFO!$N86), 0))","v":0},0,0,0,0,null,0]
[{"$f":"IF(INTRO!$E$39=\"Non-endemic\",\" \",IF(COUNTRY_INFO!A87=0,\" \",COUNTRY_INFO!A87))","v":"Angola"},{"$f":"IF(INTRO!$E$39=\"Non-endemic\",\" \",IF(COUNTRY_INFO!B87=0,\" \",COUNTRY_INFO!B87))","v":"HUILA"},{"$f":"IF(INTRO!$E$39=\"Non-endemic\",\" \",IF(COUNTRY_INFO!C87=0,\" \",COUNTRY_INFO!C87))","v":"CACONDA"},{"$f":"IF(INTRO!$E$39=\"Non-endemic\",0,IF(INTRO!$E$39=\"Endemic but PC is not required\",IF(COUNTRY_INFO!$H87=1,COUNTRY_INFO!F87+COUNTRY_INFO!G87,0),IF(COUNTRY_INFO!$H87=1,COUNTRY_INFO!F87+COUNTRY_INFO!G87,IF(COUNTRY_INFO!$I87=1,IF(COUNTRY_INFO!N87>=(COUNTRY_INFO!F87+COUNTRY_INFO!G87),COUNTRY_INFO!F87+COUNTRY_INFO!G87,COUNTRY_INFO!$N87),0))))","v":0},{"$f":"IF(AND(INTRO!$E$39=\"Non-endemic\",INTRO!$E$37=\"Non-endemic\"),\"Not required\",IF(INTRO!$E$39=\"Non-endemic\",\"Treat with DEC\",COUNTRY_INFO!W87))","v":0},{"$f":"IF(INTRO!$E$39<>\"Non-endemic\",COUNTRY_INFO!X87,\"Not required\")","v":0},{"$f":"IF(COUNTRY_INFO!H87=1, IF($E87=1,IF(ALB_MBD!$G87<>\" \",COUNTRY_INFO!F87+COUNTRY_INFO!G87-ALB_MBD!$G87,COUNTRY_INFO!F87+COUNTRY_INFO!G87), 0),0)","v":0},{"$f":"IF(INTRO!$E$39<>\"Endemic\",0, IF(AND(COUNTRY_INFO!$I87=1,$F87<>0),IF(COUNTRY_INFO!N87>=(COUNTRY_INFO!F87+COUNTRY_INFO!G87),COUNTRY_INFO!F87+COUNTRY_INFO!G87,COUNTRY_INFO!$N87), 0))","v":0},0,0,0,0,null,0]
[{"$f":"IF(INTRO!$E$39=\"Non-endemic\",\" \",IF(COUNTRY_INFO!A88=0,\" \",COUNTRY_INFO!A88))","v":"Angola"},{"$f":"IF(INTRO!$E$39=\"Non-endemic\",\" \",IF(COUNTRY_INFO!B88=0,\" \",COUNTRY_INFO!B88))","v":"HUILA"},{"$f":"IF(INTRO!$E$39=\"Non-endemic\",\" \",IF(COUNTRY_INFO!C88=0,\" \",COUNTRY_INFO!C88))","v":"CACULA"},{"$f":"IF(INTRO!$E$39=\"Non-endemic\",0,IF(INTRO!$E$39=\"Endemic but PC is not required\",IF(COUNTRY_INFO!$H88=1,COUNTRY_INFO!F88+COUNTRY_INFO!G88,0),IF(COUNTRY_INFO!$H88=1,COUNTRY_INFO!F88+COUNTRY_INFO!G88,IF(COUNTRY_INFO!$I88=1,IF(COUNTRY_INFO!N88>=(COUNTRY_INFO!F88+COUNTRY_INFO!G88),COUNTRY_INFO!F88+COUNTRY_INFO!G88,COUNTRY_INFO!$N88),0))))","v":0},{"$f":"IF(AND(INTRO!$E$39=\"Non-endemic\",INTRO!$E$37=\"Non-endemic\"),\"Not required\",IF(INTRO!$E$39=\"Non-endemic\",\"Treat with DEC\",COUNTRY_INFO!W88))","v":0},{"$f":"IF(INTRO!$E$39<>\"Non-endemic\",COUNTRY_INFO!X88,\"Not required\")","v":0},{"$f":"IF(COUNTRY_INFO!H88=1, IF($E88=1,IF(ALB_MBD!$G88<>\" \",COUNTRY_INFO!F88+COUNTRY_INFO!G88-ALB_MBD!$G88,COUNTRY_INFO!F88+COUNTRY_INFO!G88), 0),0)","v":0},{"$f":"IF(INTRO!$E$39<>\"Endemic\",0, IF(AND(COUNTRY_INFO!$I88=1,$F88<>0),IF(COUNTRY_INFO!N88>=(COUNTRY_INFO!F88+COUNTRY_INFO!G88),COUNTRY_INFO!F88+COUNTRY_INFO!G88,COUNTRY_INFO!$N88), 0))","v":0},0,0,0,0,null,0]
[{"$f":"IF(INTRO!$E$39=\"Non-endemic\",\" \",IF(COUNTRY_INFO!A89=0,\" \",COUNTRY_INFO!A89))","v":"Angola"},{"$f":"IF(INTRO!$E$39=\"Non-endemic\",\" \",IF(COUNTRY_INFO!B89=0,\" \",COUNTRY_INFO!B89))","v":"HUILA"},{"$f":"IF(INTRO!$E$39=\"Non-endemic\",\" \",IF(COUNTRY_INFO!C89=0,\" \",COUNTRY_INFO!C89))","v":"CALUQUEMBE"},{"$f":"IF(INTRO!$E$39=\"Non-endemic\",0,IF(INTRO!$E$39=\"Endemic but PC is not required\",IF(COUNTRY_INFO!$H89=1,COUNTRY_INFO!F89+COUNTRY_INFO!G89,0),IF(COUNTRY_INFO!$H89=1,COUNTRY_INFO!F89+COUNTRY_INFO!G89,IF(COUNTRY_INFO!$I89=1,IF(COUNTRY_INFO!N89>=(COUNTRY_INFO!F89+COUNTRY_INFO!G89),COUNTRY_INFO!F89+COUNTRY_INFO!G89,COUNTRY_INFO!$N89),0))))","v":194094},{"$f":"IF(AND(INTRO!$E$39=\"Non-endemic\",INTRO!$E$37=\"Non-endemic\"),\"Not required\",IF(INTRO!$E$39=\"Non-endemic\",\"Treat with DEC\",COUNTRY_INFO!W89))","v":0},{"$f":"IF(INTRO!$E$39<>\"Non-endemic\",COUNTRY_INFO!X89,\"Not required\")","v":1},{"$f":"IF(COUNTRY_INFO!H89=1, IF($E89=1,IF(ALB_MBD!$G89<>\" \",COUNTRY_INFO!F89+COUNTRY_INFO!G89-ALB_MBD!$G89,COUNTRY_INFO!F89+COUNTRY_INFO!G89), 0),0)","v":0},{"$f":"IF(INTRO!$E$39<>\"Endemic\",0, IF(AND(COUNTRY_INFO!$I89=1,$F89<>0),IF(COUNTRY_INFO!N89>=(COUNTRY_INFO!F89+COUNTRY_INFO!G89),COUNTRY_INFO!F89+COUNTRY_INFO!G89,COUNTRY_INFO!$N89), 0))","v":194094},0,543463.19999999995,0,543463.19999999995,null,543463.19999999995]
[{"$f":"IF(INTRO!$E$39=\"Non-endemic\",\" \",IF(COUNTRY_INFO!A90=0,\" \",COUNTRY_INFO!A90))","v":"Angola"},{"$f":"IF(INTRO!$E$39=\"Non-endemic\",\" \",IF(COUNTRY_INFO!B90=0,\" \",COUNTRY_INFO!B90))","v":"HUILA"},{"$f":"IF(INTRO!$E$39=\"Non-endemic\",\" \",IF(COUNTRY_INFO!C90=0,\" \",COUNTRY_INFO!C90))","v":"CHIBIA"},{"$f":"IF(INTRO!$E$39=\"Non-endemic\",0,IF(INTRO!$E$39=\"Endemic but PC is not required\",IF(COUNTRY_INFO!$H90=1,COUNTRY_INFO!F90+COUNTRY_INFO!G90,0),IF(COUNTRY_INFO!$H90=1,COUNTRY_INFO!F90+COUNTRY_INFO!G90,IF(COUNTRY_INFO!$I90=1,IF(COUNTRY_INFO!N90>=(COUNTRY_INFO!F90+COUNTRY_INFO!G90),COUNTRY_INFO!F90+COUNTRY_INFO!G90,COUNTRY_INFO!$N90),0))))","v":0},{"$f":"IF(AND(INTRO!$E$39=\"Non-endemic\",INTRO!$E$37=\"Non-endemic\"),\"Not required\",IF(INTRO!$E$39=\"Non-endemic\",\"Treat with DEC\",COUNTRY_INFO!W90))","v":0},{"$f":"IF(INTRO!$E$39<>\"Non-endemic\",COUNTRY_INFO!X90,\"Not required\")","v":0},{"$f":"IF(COUNTRY_INFO!H90=1, IF($E90=1,IF(ALB_MBD!$G90<>\" \",COUNTRY_INFO!F90+COUNTRY_INFO!G90-ALB_MBD!$G90,COUNTRY_INFO!F90+COUNTRY_INFO!G90), 0),0)","v":0},{"$f":"IF(INTRO!$E$39<>\"Endemic\",0, IF(AND(COUNTRY_INFO!$I90=1,$F90<>0),IF(COUNTRY_INFO!N90>=(COUNTRY_INFO!F90+COUNTRY_INFO!G90),COUNTRY_INFO!F90+COUNTRY_INFO!G90,COUNTRY_INFO!$N90), 0))","v":0},0,0,0,0,null,0]
[{"$f":"IF(INTRO!$E$39=\"Non-endemic\",\" \",IF(COUNTRY_INFO!A91=0,\" \",COUNTRY_INFO!A91))","v":"Angola"},{"$f":"IF(INTRO!$E$39=\"Non-endemic\",\" \",IF(COUNTRY_INFO!B91=0,\" \",COUNTRY_INFO!B91))","v":"HUILA"},{"$f":"IF(INTRO!$E$39=\"Non-endemic\",\" \",IF(COUNTRY_INFO!C91=0,\" \",COUNTRY_INFO!C91))","v":"CHICOMBA"},{"$f":"IF(INTRO!$E$39=\"Non-endemic\",0,IF(INTRO!$E$39=\"Endemic but PC is not required\",IF(COUNTRY_INFO!$H91=1,COUNTRY_INFO!F91+COUNTRY_INFO!G91,0),IF(COUNTRY_INFO!$H91=1,COUNTRY_INFO!F91+COUNTRY_INFO!G91,IF(COUNTRY_INFO!$I91=1,IF(COUNTRY_INFO!N91>=(COUNTRY_INFO!F91+COUNTRY_INFO!G91),COUNTRY_INFO!F91+COUNTRY_INFO!G91,COUNTRY_INFO!$N91),0))))","v":142183},{"$f":"IF(AND(INTRO!$E$39=\"Non-endemic\",INTRO!$E$37=\"Non-endemic\"),\"Not required\",IF(INTRO!$E$39=\"Non-endemic\",\"Treat with DEC\",COUNTRY_INFO!W91))","v":0},{"$f":"IF(INTRO!$E$39<>\"Non-endemic\",COUNTRY_INFO!X91,\"Not required\")","v":1},{"$f":"IF(COUNTRY_INFO!H91=1, IF($E91=1,IF(ALB_MBD!$G91<>\" \",COUNTRY_INFO!F91+COUNTRY_INFO!G91-ALB_MBD!$G91,COUNTRY_INFO!F91+COUNTRY_INFO!G91), 0),0)","v":0},{"$f":"IF(INTRO!$E$39<>\"Endemic\",0, IF(AND(COUNTRY_INFO!$I91=1,$F91<>0),IF(COUNTRY_INFO!N91>=(COUNTRY_INFO!F91+COUNTRY_INFO!G91),COUNTRY_INFO!F91+COUNTRY_INFO!G91,COUNTRY_INFO!$N91), 0))","v":142183},0,398112.39999999997,0,398112.39999999997,null,398112.39999999997]
[{"$f":"IF(INTRO!$E$39=\"Non-endemic\",\" \",IF(COUNTRY_INFO!A92=0,\" \",COUNTRY_INFO!A92))","v":"Angola"},{"$f":"IF(INTRO!$E$39=\"Non-endemic\",\" \",IF(COUNTRY_INFO!B92=0,\" \",COUNTRY_INFO!B92))","v":"HUILA"},{"$f":"IF(INTRO!$E$39=\"Non-endemic\",\" \",IF(COUNTRY_INFO!C92=0,\" \",COUNTRY_INFO!C92))","v":"CHIPINDO"},{"$f":"IF(INTRO!$E$39=\"Non-endemic\",0,IF(INTRO!$E$39=\"Endemic but PC is not required\",IF(COUNTRY_INFO!$H92=1,COUNTRY_INFO!F92+COUNTRY_INFO!G92,0),IF(COUNTRY_INFO!$H92=1,COUNTRY_INFO!F92+COUNTRY_INFO!G92,IF(COUNTRY_INFO!$I92=1,IF(COUNTRY_INFO!N92>=(COUNTRY_INFO!F92+COUNTRY_INFO!G92),COUNTRY_INFO!F92+COUNTRY_INFO!G92,COUNTRY_INFO!$N92),0))))","v":69808},{"$f":"IF(AND(INTRO!$E$39=\"Non-endemic\",INTRO!$E$37=\"Non-endemic\"),\"Not required\",IF(INTRO!$E$39=\"Non-endemic\",\"Treat with DEC\",COUNTRY_INFO!W92))","v":1},{"$f":"IF(INTRO!$E$39<>\"Non-endemic\",COUNTRY_INFO!X92,\"Not required\")","v":1},{"$f":"IF(COUNTRY_INFO!H92=1, IF($E92=1,IF(ALB_MBD!$G92<>\" \",COUNTRY_INFO!F92+COUNTRY_INFO!G92-ALB_MBD!$G92,COUNTRY_INFO!F92+COUNTRY_INFO!G92), 0),0)","v":69808},{"$f":"IF(INTRO!$E$39<>\"Endemic\",0, IF(AND(COUNTRY_INFO!$I92=1,$F92<>0),IF(COUNTRY_INFO!N92>=(COUNTRY_INFO!F92+COUNTRY_INFO!G92),COUNTRY_INFO!F92+COUNTRY_INFO!G92,COUNTRY_INFO!$N92), 0))","v":69808},0,0,195462.39999999999,195462.39999999999,null,195462.39999999999]
[{"$f":"IF(INTRO!$E$39=\"Non-endemic\",\" \",IF(COUNTRY_INFO!A93=0,\" \",COUNTRY_INFO!A93))","v":"Angola"},{"$f":"IF(INTRO!$E$39=\"Non-endemic\",\" \",IF(COUNTRY_INFO!B93=0,\" \",COUNTRY_INFO!B93))","v":"HUILA"},{"$f":"IF(INTRO!$E$39=\"Non-endemic\",\" \",IF(COUNTRY_INFO!C93=0,\" \",COUNTRY_INFO!C93))","v":"CUVANGO"},{"$f":"IF(INTRO!$E$39=\"Non-endemic\",0,IF(INTRO!$E$39=\"Endemic but PC is not required\",IF(COUNTRY_INFO!$H93=1,COUNTRY_INFO!F93+COUNTRY_INFO!G93,0),IF(COUNTRY_INFO!$H93=1,COUNTRY_INFO!F93+COUNTRY_INFO!G93,IF(COUNTRY_INFO!$I93=1,IF(COUNTRY_INFO!N93>=(COUNTRY_INFO!F93+COUNTRY_INFO!G93),COUNTRY_INFO!F93+COUNTRY_INFO!G93,COUNTRY_INFO!$N93),0))))","v":84726},{"$f":"IF(AND(INTRO!$E$39=\"Non-endemic\",INTRO!$E$37=\"Non-endemic\"),\"Not required\",IF(INTRO!$E$39=\"Non-endemic\",\"Treat with DEC\",COUNTRY_INFO!W93))","v":1},{"$f":"IF(INTRO!$E$39<>\"Non-endemic\",COUNTRY_INFO!X93,\"Not required\")","v":0},{"$f":"IF(COUNTRY_INFO!H93=1, IF($E93=1,IF(ALB_MBD!$G93<>\" \",COUNTRY_INFO!F93+COUNTRY_INFO!G93-ALB_MBD!$G93,COUNTRY_INFO!F93+COUNTRY_INFO!G93), 0),0)","v":84726},{"$f":"IF(INTRO!$E$39<>\"Endemic\",0, IF(AND(COUNTRY_INFO!$I93=1,$F93<>0),IF(COUNTRY_INFO!N93>=(COUNTRY_INFO!F93+COUNTRY_INFO!G93),COUNTRY_INFO!F93+COUNTRY_INFO!G93,COUNTRY_INFO!$N93), 0))","v":0},237232.8,0,0,237232.8,null,237232.8]
[{"$f":"IF(INTRO!$E$39=\"Non-endemic\",\" \",IF(COUNTRY_INFO!A94=0,\" \",COUNTRY_INFO!A94))","v":"Angola"},{"$f":"IF(INTRO!$E$39=\"Non-endemic\",\" \",IF(COUNTRY_INFO!B94=0,\" \",COUNTRY_INFO!B94))","v":"HUILA"},{"$f":"IF(INTRO!$E$39=\"Non-endemic\",\" \",IF(COUNTRY_INFO!C94=0,\" \",COUNTRY_INFO!C94))","v":"GAMBOS"},{"$f":"IF(INTRO!$E$39=\"Non-endemic\",0,IF(INTRO!$E$39=\"Endemic but PC is not required\",IF(COUNTRY_INFO!$H94=1,COUNTRY_INFO!F94+COUNTRY_INFO!G94,0),IF(COUNTRY_INFO!$H94=1,COUNTRY_INFO!F94+COUNTRY_INFO!G94,IF(COUNTRY_INFO!$I94=1,IF(COUNTRY_INFO!N94>=(COUNTRY_INFO!F94+COUNTRY_INFO!G94),COUNTRY_INFO!F94+COUNTRY_INFO!G94,COUNTRY_INFO!$N94),0))))","v":0},{"$f":"IF(AND(INTRO!$E$39=\"Non-endemic\",INTRO!$E$37=\"Non-endemic\"),\"Not required\",IF(INTRO!$E$39=\"Non-endemic\",\"Treat with DEC\",COUNTRY_INFO!W94))","v":0},{"$f":"IF(INTRO!$E$39<>\"Non-endemic\",COUNTRY_INFO!X94,\"Not required\")","v":0},{"$f":"IF(COUNTRY_INFO!H94=1, IF($E94=1,IF(ALB_MBD!$G94<>\" \",COUNTRY_INFO!F94+COUNTRY_INFO!G94-ALB_MBD!$G94,COUNTRY_INFO!F94+COUNTRY_INFO!G94), 0),0)","v":0},{"$f":"IF(INTRO!$E$39<>\"Endemic\",0, IF(AND(COUNTRY_INFO!$I94=1,$F94<>0),IF(COUNTRY_INFO!N94>=(COUNTRY_INFO!F94+COUNTRY_INFO!G94),COUNTRY_INFO!F94+COUNTRY_INFO!G94,COUNTRY_INFO!$N94), 0))","v":0},0,0,0,0,null,0]
[{"$f":"IF(INTRO!$E$39=\"Non-endemic\",\" \",IF(COUNTRY_INFO!A95=0,\" \",COUNTRY_INFO!A95))","v":"Angola"},{"$f":"IF(INTRO!$E$39=\"Non-endemic\",\" \",IF(COUNTRY_INFO!B95=0,\" \",COUNTRY_INFO!B95))","v":"HUILA"},{"$f":"IF(INTRO!$E$39=\"Non-endemic\",\" \",IF(COUNTRY_INFO!C95=0,\" \",COUNTRY_INFO!C95))","v":"HUMPATA"},{"$f":"IF(INTRO!$E$39=\"Non-endemic\",0,IF(INTRO!$E$39=\"Endemic but PC is not required\",IF(COUNTRY_INFO!$H95=1,COUNTRY_INFO!F95+COUNTRY_INFO!G95,0),IF(COUNTRY_INFO!$H95=1,COUNTRY_INFO!F95+COUNTRY_INFO!G95,IF(COUNTRY_INFO!$I95=1,IF(COUNTRY_INFO!N95>=(COUNTRY_INFO!F95+COUNTRY_INFO!G95),COUNTRY_INFO!F95+COUNTRY_INFO!G95,COUNTRY_INFO!$N95),0))))","v":0},{"$f":"IF(AND(INTRO!$E$39=\"Non-endemic\",INTRO!$E$37=\"Non-endemic\"),\"Not required\",IF(INTRO!$E$39=\"Non-endemic\",\"Treat with DEC\",COUNTRY_INFO!W95))","v":0},{"$f":"IF(INTRO!$E$39<>\"Non-endemic\",COUNTRY_INFO!X95,\"Not required\")","v":0},{"$f":"IF(COUNTRY_INFO!H95=1, IF($E95=1,IF(ALB_MBD!$G95<>\" \",COUNTRY_INFO!F95+COUNTRY_INFO!G95-ALB_MBD!$G95,COUNTRY_INFO!F95+COUNTRY_INFO!G95), 0),0)","v":0},{"$f":"IF(INTRO!$E$39<>\"Endemic\",0, IF(AND(COUNTRY_INFO!$I95=1,$F95<>0),IF(COUNTRY_INFO!N95>=(COUNTRY_INFO!F95+COUNTRY_INFO!G95),COUNTRY_INFO!F95+COUNTRY_INFO!G95,COUNTRY_INFO!$N95), 0))","v":0},0,0,0,0,null,0]
[{"$f":"IF(INTRO!$E$39=\"Non-endemic\",\" \",IF(COUNTRY_INFO!A96=0,\" \",COUNTRY_INFO!A96))","v":"Angola"},{"$f":"IF(INTRO!$E$39=\"Non-endemic\",\" \",IF(COUNTRY_INFO!B96=0,\" \",COUNTRY_INFO!B96))","v":"HUILA"},{"$f":"IF(INTRO!$E$39=\"Non-endemic\",\" \",IF(COUNTRY_INFO!C96=0,\" \",COUNTRY_INFO!C96))","v":"JAMBA"},{"$f":"IF(INTRO!$E$39=\"Non-endemic\",0,IF(INTRO!$E$39=\"Endemic but PC is not required\",IF(COUNTRY_INFO!$H96=1,COUNTRY_INFO!F96+COUNTRY_INFO!G96,0),IF(COUNTRY_INFO!$H96=1,COUNTRY_INFO!F96+COUNTRY_INFO!G96,IF(COUNTRY_INFO!$I96=1,IF(COUNTRY_INFO!N96>=(COUNTRY_INFO!F96+COUNTRY_INFO!G96),COUNTRY_INFO!F96+COUNTRY_INFO!G96,COUNTRY_INFO!$N96),0))))","v":113361},{"$f":"IF(AND(INTRO!$E$39=\"Non-endemic\",INTRO!$E$37=\"Non-endemic\"),\"Not required\",IF(INTRO!$E$39=\"Non-endemic\",\"Treat with DEC\",COUNTRY_INFO!W96))","v":1},{"$f":"IF(INTRO!$E$39<>\"Non-endemic\",COUNTRY_INFO!X96,\"Not required\")","v":0},{"$f":"IF(COUNTRY_INFO!H96=1, IF($E96=1,IF(ALB_MBD!$G96<>\" \",COUNTRY_INFO!F96+COUNTRY_INFO!G96-ALB_MBD!$G96,COUNTRY_INFO!F96+COUNTRY_INFO!G96), 0),0)","v":113361},{"$f":"IF(INTRO!$E$39<>\"Endemic\",0, IF(AND(COUNTRY_INFO!$I96=1,$F96<>0),IF(COUNTRY_INFO!N96>=(COUNTRY_INFO!F96+COUNTRY_INFO!G96),COUNTRY_INFO!F96+COUNTRY_INFO!G96,COUNTRY_INFO!$N96), 0))","v":0},317410.8,0,0,317410.8,null,317410.8]
[{"$f":"IF(INTRO!$E$39=\"Non-endemic\",\" \",IF(COUNTRY_INFO!A97=0,\" \",COUNTRY_INFO!A97))","v":"Angola"},{"$f":"IF(INTRO!$E$39=\"Non-endemic\",\" \",IF(COUNTRY_INFO!B97=0,\" \",COUNTRY_INFO!B97))","v":"HUILA"},{"$f":"IF(INTRO!$E$39=\"Non-endemic\",\" \",IF(COUNTRY_INFO!C97=0,\" \",COUNTRY_INFO!C97))","v":"LUBANGO"},{"$f":"IF(INTRO!$E$39=\"Non-endemic\",0,IF(INTRO!$E$39=\"Endemic but PC is not required\",IF(COUNTRY_INFO!$H97=1,COUNTRY_INFO!F97+COUNTRY_INFO!G97,0),IF(COUNTRY_INFO!$H97=1,COUNTRY_INFO!F97+COUNTRY_INFO!G97,IF(COUNTRY_INFO!$I97=1,IF(COUNTRY_INFO!N97>=(COUNTRY_INFO!F97+COUNTRY_INFO!G97),COUNTRY_INFO!F97+COUNTRY_INFO!G97,COUNTRY_INFO!$N97),0))))","v":0},{"$f":"IF(AND(INTRO!$E$39=\"Non-endemic\",INTRO!$E$37=\"Non-endemic\"),\"Not required\",IF(INTRO!$E$39=\"Non-endemic\",\"Treat with DEC\",COUNTRY_INFO!W97))","v":0},{"$f":"IF(INTRO!$E$39<>\"Non-endemic\",COUNTRY_INFO!X97,\"Not required\")","v":0},{"$f":"IF(COUNTRY_INFO!H97=1, IF($E97=1,IF(ALB_MBD!$G97<>\" \",COUNTRY_INFO!F97+COUNTRY_INFO!G97-ALB_MBD!$G97,COUNTRY_INFO!F97+COUNTRY_INFO!G97), 0),0)","v":0},{"$f":"IF(INTRO!$E$39<>\"Endemic\",0, IF(AND(COUNTRY_INFO!$I97=1,$F97<>0),IF(COUNTRY_INFO!N97>=(COUNTRY_INFO!F97+COUNTRY_INFO!G97),COUNTRY_INFO!F97+COUNTRY_INFO!G97,COUNTRY_INFO!$N97), 0))","v":0},0,0,0,0,null,0]
[{"$f":"IF(INTRO!$E$39=\"Non-endemic\",\" \",IF(COUNTRY_INFO!A98=0,\" \",COUNTRY_INFO!A98))","v":"Angola"},{"$f":"IF(INTRO!$E$39=\"Non-endemic\",\" \",IF(COUNTRY_INFO!B98=0,\" \",COUNTRY_INFO!B98))","v":"HUILA"},{"$f":"IF(INTRO!$E$39=\"Non-endemic\",\" \",IF(COUNTRY_INFO!C98=0,\" \",COUNTRY_INFO!C98))","v":"MATALA"},{"$f":"IF(INTRO!$E$39=\"Non-endemic\",0,IF(INTRO!$E$39=\"Endemic but PC is not required\",IF(COUNTRY_INFO!$H98=1,COUNTRY_INFO!F98+COUNTRY_INFO!G98,0),IF(COUNTRY_INFO!$H98=1,COUNTRY_INFO!F98+COUNTRY_INFO!G98,IF(COUNTRY_INFO!$I98=1,IF(COUNTRY_INFO!N98>=(COUNTRY_INFO!F98+COUNTRY_INFO!G98),COUNTRY_INFO!F98+COUNTRY_INFO!G98,COUNTRY_INFO!$N98),0))))","v":283449},{"$f":"IF(AND(INTRO!$E$39=\"Non-endemic\",INTRO!$E$37=\"Non-endemic\"),\"Not required\",IF(INTRO!$E$39=\"Non-endemic\",\"Treat with DEC\",COUNTRY_INFO!W98))","v":0},{"$f":"IF(INTRO!$E$39<>\"Non-endemic\",COUNTRY_INFO!X98,\"Not required\")","v":1},{"$f":"IF(COUNTRY_INFO!H98=1, IF($E98=1,IF(ALB_MBD!$G98<>\" \",COUNTRY_INFO!F98+COUNTRY_INFO!G98-ALB_MBD!$G98,COUNTRY_INFO!F98+COUNTRY_INFO!G98), 0),0)","v":0},{"$f":"IF(INTRO!$E$39<>\"Endemic\",0, IF(AND(COUNTRY_INFO!$I98=1,$F98<>0),IF(COUNTRY_INFO!N98>=(COUNTRY_INFO!F98+COUNTRY_INFO!G98),COUNTRY_INFO!F98+COUNTRY_INFO!G98,COUNTRY_INFO!$N98), 0))","v":283449},0,793657.2,0,793657.2,null,793657.2]
[{"$f":"IF(INTRO!$E$39=\"Non-endemic\",\" \",IF(COUNTRY_INFO!A99=0,\" \",COUNTRY_INFO!A99))","v":"Angola"},{"$f":"IF(INTRO!$E$39=\"Non-endemic\",\" \",IF(COUNTRY_INFO!B99=0,\" \",COUNTRY_INFO!B99))","v":"HUILA"},{"$f":"IF(INTRO!$E$39=\"Non-endemic\",\" \",IF(COUNTRY_INFO!C99=0,\" \",COUNTRY_INFO!C99))","v":"QUILENGUES"},{"$f":"IF(INTRO!$E$39=\"Non-endemic\",0,IF(INTRO!$E$39=\"Endemic but PC is not required\",IF(COUNTRY_INFO!$H99=1,COUNTRY_INFO!F99+COUNTRY_INFO!G99,0),IF(COUNTRY_INFO!$H99=1,COUNTRY_INFO!F99+COUNTRY_INFO!G99,IF(COUNTRY_INFO!$I99=1,IF(COUNTRY_INFO!N99>=(COUNTRY_INFO!F99+COUNTRY_INFO!G99),COUNTRY_INFO!F99+COUNTRY_INFO!G99,COUNTRY_INFO!$N99),0))))","v":81265},{"$f":"IF(AND(INTRO!$E$39=\"Non-endemic\",INTRO!$E$37=\"Non-endemic\"),\"Not required\",IF(INTRO!$E$39=\"Non-endemic\",\"Treat with DEC\",COUNTRY_INFO!W99))","v":0},{"$f":"IF(INTRO!$E$39<>\"Non-endemic\",COUNTRY_INFO!X99,\"Not required\")","v":1},{"$f":"IF(COUNTRY_INFO!H99=1, IF($E99=1,IF(ALB_MBD!$G99<>\" \",COUNTRY_INFO!F99+COUNTRY_INFO!G99-ALB_MBD!$G99,COUNTRY_INFO!F99+COUNTRY_INFO!G99), 0),0)","v":0},{"$f":"IF(INTRO!$E$39<>\"Endemic\",0, IF(AND(COUNTRY_INFO!$I99=1,$F99<>0),IF(COUNTRY_INFO!N99>=(COUNTRY_INFO!F99+COUNTRY_INFO!G99),COUNTRY_INFO!F99+COUNTRY_INFO!G99,COUNTRY_INFO!$N99), 0))","v":81265},0,227542,0,227542,null,227542]
[{"$f":"IF(INTRO!$E$39=\"Non-endemic\",\" \",IF(COUNTRY_INFO!A100=0,\" \",COUNTRY_INFO!A100))","v":"Angola"},{"$f":"IF(INTRO!$E$39=\"Non-endemic\",\" \",IF(COUNTRY_INFO!B100=0,\" \",COUNTRY_INFO!B100))","v":"HUILA"},{"$f":"IF(INTRO!$E$39=\"Non-endemic\",\" \",IF(COUNTRY_INFO!C100=0,\" \",COUNTRY_INFO!C100))","v":"QUIPUNGO"},{"$f":"IF(INTRO!$E$39=\"Non-endemic\",0,IF(INTRO!$E$39=\"Endemic but PC is not required\",IF(COUNTRY_INFO!$H100=1,COUNTRY_INFO!F100+COUNTRY_INFO!G100,0),IF(COUNTRY_INFO!$H100=1,COUNTRY_INFO!F100+COUNTRY_INFO!G100,IF(COUNTRY_INFO!$I100=1,IF(COUNTRY_INFO!N100>=(COUNTRY_INFO!F100+COUNTRY_INFO!G100),COUNTRY_INFO!F100+COUNTRY_INFO!G100,COUNTRY_INFO!$N100),0))))","v":171428},{"$f":"IF(AND(INTRO!$E$39=\"Non-endemic\",INTRO!$E$37=\"Non-endemic\"),\"Not required\",IF(INTRO!$E$39=\"Non-endemic\",\"Treat with DEC\",COUNTRY_INFO!W100))","v":0},{"$f":"IF(INTRO!$E$39<>\"Non-endemic\",COUNTRY_INFO!X100,\"Not required\")","v":1},{"$f":"IF(COUNTRY_INFO!H100=1, IF($E100=1,IF(ALB_MBD!$G100<>\" \",COUNTRY_INFO!F100+COUNTRY_INFO!G100-ALB_MBD!$G100,COUNTRY_INFO!F100+COUNTRY_INFO!G100), 0),0)","v":0},{"$f":"IF(INTRO!$E$39<>\"Endemic\",0, IF(AND(COUNTRY_INFO!$I100=1,$F100<>0),IF(COUNTRY_INFO!N100>=(COUNTRY_INFO!F100+COUNTRY_INFO!G100),COUNTRY_INFO!F100+COUNTRY_INFO!G100,COUNTRY_INFO!$N100), 0))","v":171428},0,479998.39999999997,0,479998.39999999997,null,479998.39999999997]
[{"$f":"IF(INTRO!$E$39=\"Non-endemic\",\" \",IF(COUNTRY_INFO!A101=0,\" \",COUNTRY_INFO!A101))","v":"Angola"},{"$f":"IF(INTRO!$E$39=\"Non-endemic\",\" \",IF(COUNTRY_INFO!B101=0,\" \",COUNTRY_INFO!B101))","v":"LUANDA"},{"$f":"IF(INTRO!$E$39=\"Non-endemic\",\" \",IF(COUNTRY_INFO!C101=0,\" \",COUNTRY_INFO!C101))","v":"BELAS"},{"$f":"IF(INTRO!$E$39=\"Non-endemic\",0,IF(INTRO!$E$39=\"Endemic but PC is not required\",IF(COUNTRY_INFO!$H101=1,COUNTRY_INFO!F101+COUNTRY_INFO!G101,0),IF(COUNTRY_INFO!$H101=1,COUNTRY_INFO!F101+COUNTRY_INFO!G101,IF(COUNTRY_INFO!$I101=1,IF(COUNTRY_INFO!N101>=(COUNTRY_INFO!F101+COUNTRY_INFO!G101),COUNTRY_INFO!F101+COUNTRY_INFO!G101,COUNTRY_INFO!$N101),0))))","v":0},{"$f":"IF(AND(INTRO!$E$39=\"Non-endemic\",INTRO!$E$37=\"Non-endemic\"),\"Not required\",IF(INTRO!$E$39=\"Non-endemic\",\"Treat with DEC\",COUNTRY_INFO!W101))","v":0},{"$f":"IF(INTRO!$E$39<>\"Non-endemic\",COUNTRY_INFO!X101,\"Not required\")","v":0},{"$f":"IF(COUNTRY_INFO!H101=1, IF($E101=1,IF(ALB_MBD!$G101<>\" \",COUNTRY_INFO!F101+COUNTRY_INFO!G101-ALB_MBD!$G101,COUNTRY_INFO!F101+COUNTRY_INFO!G101), 0),0)","v":0},{"$f":"IF(INTRO!$E$39<>\"Endemic\",0, IF(AND(COUNTRY_INFO!$I101=1,$F101<>0),IF(COUNTRY_INFO!N101>=(COUNTRY_INFO!F101+COUNTRY_INFO!G101),COUNTRY_INFO!F101+COUNTRY_INFO!G101,COUNTRY_INFO!$N101), 0))","v":0},0,0,0,0,null,0]
[{"$f":"IF(INTRO!$E$39=\"Non-endemic\",\" \",IF(COUNTRY_INFO!A102=0,\" \",COUNTRY_INFO!A102))","v":"Angola"},{"$f":"IF(INTRO!$E$39=\"Non-endemic\",\" \",IF(COUNTRY_INFO!B102=0,\" \",COUNTRY_INFO!B102))","v":"LUANDA"},{"$f":"IF(INTRO!$E$39=\"Non-endemic\",\" \",IF(COUNTRY_INFO!C102=0,\" \",COUNTRY_INFO!C102))","v":"CACUACO"},{"$f":"IF(INTRO!$E$39=\"Non-endemic\",0,IF(INTRO!$E$39=\"Endemic but PC is not required\",IF(COUNTRY_INFO!$H102=1,COUNTRY_INFO!F102+COUNTRY_INFO!G102,0),IF(COUNTRY_INFO!$H102=1,COUNTRY_INFO!F102+COUNTRY_INFO!G102,IF(COUNTRY_INFO!$I102=1,IF(COUNTRY_INFO!N102>=(COUNTRY_INFO!F102+COUNTRY_INFO!G102),COUNTRY_INFO!F102+COUNTRY_INFO!G102,COUNTRY_INFO!$N102),0))))","v":0},{"$f":"IF(AND(INTRO!$E$39=\"Non-endemic\",INTRO!$E$37=\"Non-endemic\"),\"Not required\",IF(INTRO!$E$39=\"Non-endemic\",\"Treat with DEC\",COUNTRY_INFO!W102))","v":0},{"$f":"IF(INTRO!$E$39<>\"Non-endemic\",COUNTRY_INFO!X102,\"Not required\")","v":0},{"$f":"IF(COUNTRY_INFO!H102=1, IF($E102=1,IF(ALB_MBD!$G102<>\" \",COUNTRY_INFO!F102+COUNTRY_INFO!G102-ALB_MBD!$G102,COUNTRY_INFO!F102+COUNTRY_INFO!G102), 0),0)","v":0},{"$f":"IF(INTRO!$E$39<>\"Endemic\",0, IF(AND(COUNTRY_INFO!$I102=1,$F102<>0),IF(COUNTRY_INFO!N102>=(COUNTRY_INFO!F102+COUNTRY_INFO!G102),COUNTRY_INFO!F102+COUNTRY_INFO!G102,COUNTRY_INFO!$N102), 0))","v":0},0,0,0,0,null,0]
[{"$f":"IF(INTRO!$E$39=\"Non-endemic\",\" \",IF(COUNTRY_INFO!A103=0,\" \",COUNTRY_INFO!A103))","v":"Angola"},{"$f":"IF(INTRO!$E$39=\"Non-endemic\",\" \",IF(COUNTRY_INFO!B103=0,\" \",COUNTRY_INFO!B103))","v":"LUANDA"},{"$f":"IF(INTRO!$E$39=\"Non-endemic\",\" \",IF(COUNTRY_INFO!C103=0,\" \",COUNTRY_INFO!C103))","v":"CAZENGA"},{"$f":"IF(INTRO!$E$39=\"Non-endemic\",0,IF(INTRO!$E$39=\"Endemic but PC is not required\",IF(COUNTRY_INFO!$H103=1,COUNTRY_INFO!F103+COUNTRY_INFO!G103,0),IF(COUNTRY_INFO!$H103=1,COUNTRY_INFO!F103+COUNTRY_INFO!G103,IF(COUNTRY_INFO!$I103=1,IF(COUNTRY_INFO!N103>=(COUNTRY_INFO!F103+COUNTRY_INFO!G103),COUNTRY_INFO!F103+COUNTRY_INFO!G103,COUNTRY_INFO!$N103),0))))","v":0},{"$f":"IF(AND(INTRO!$E$39=\"Non-endemic\",INTRO!$E$37=\"Non-endemic\"),\"Not required\",IF(INTRO!$E$39=\"Non-endemic\",\"Treat with DEC\",COUNTRY_INFO!W103))","v":0},{"$f":"IF(INTRO!$E$39<>\"Non-endemic\",COUNTRY_INFO!X103,\"Not required\")","v":0},{"$f":"IF(COUNTRY_INFO!H103=1, IF($E103=1,IF(ALB_MBD!$G103<>\" \",COUNTRY_INFO!F103+COUNTRY_INFO!G103-ALB_MBD!$G103,COUNTRY_INFO!F103+COUNTRY_INFO!G103), 0),0)","v":0},{"$f":"IF(INTRO!$E$39<>\"Endemic\",0, IF(AND(COUNTRY_INFO!$I103=1,$F103<>0),IF(COUNTRY_INFO!N103>=(COUNTRY_INFO!F103+COUNTRY_INFO!G103),COUNTRY_INFO!F103+COUNTRY_INFO!G103,COUNTRY_INFO!$N103), 0))","v":0},0,0,0,0,null,0]
[{"$f":"IF(INTRO!$E$39=\"Non-endemic\",\" \",IF(COUNTRY_INFO!A104=0,\" \",COUNTRY_INFO!A104))","v":"Angola"},{"$f":"IF(INTRO!$E$39=\"Non-endemic\",\" \",IF(COUNTRY_INFO!B104=0,\" \",COUNTRY_INFO!B104))","v":"LUANDA"},{"$f":"IF(INTRO!$E$39=\"Non-endemic\",\" \",IF(COUNTRY_INFO!C104=0,\" \",COUNTRY_INFO!C104))","v":"ICOLO E BENGO"},{"$f":"IF(INTRO!$E$39=\"Non-endemic\",0,IF(INTRO!$E$39=\"Endemic but PC is not required\",IF(COUNTRY_INFO!$H104=1,COUNTRY_INFO!F104+COUNTRY_INFO!G104,0),IF(COUNTRY_INFO!$H104=1,COUNTRY_INFO!F104+COUNTRY_INFO!G104,IF(COUNTRY_INFO!$I104=1,IF(COUNTRY_INFO!N104>=(COUNTRY_INFO!F104+COUNTRY_INFO!G104),COUNTRY_INFO!F104+COUNTRY_INFO!G104,COUNTRY_INFO!$N104),0))))","v":0},{"$f":"IF(AND(INTRO!$E$39=\"Non-endemic\",INTRO!$E$37=\"Non-endemic\"),\"Not required\",IF(INTRO!$E$39=\"Non-endemic\",\"Treat with DEC\",COUNTRY_INFO!W104))","v":0},{"$f":"IF(INTRO!$E$39<>\"Non-endemic\",COUNTRY_INFO!X104,\"Not required\")","v":0},{"$f":"IF(COUNTRY_INFO!H104=1, IF($E104=1,IF(ALB_MBD!$G104<>\" \",COUNTRY_INFO!F104+COUNTRY_INFO!G104-ALB_MBD!$G104,COUNTRY_INFO!F104+COUNTRY_INFO!G104), 0),0)","v":0},{"$f":"IF(INTRO!$E$39<>\"Endemic\",0, IF(AND(COUNTRY_INFO!$I104=1,$F104<>0),IF(COUNTRY_INFO!N104>=(COUNTRY_INFO!F104+COUNTRY_INFO!G104),COUNTRY_INFO!F104+COUNTRY_INFO!G104,COUNTRY_INFO!$N104), 0))","v":0},0,0,0,0,null,0]
[{"$f":"IF(INTRO!$E$39=\"Non-endemic\",\" \",IF(COUNTRY_INFO!A105=0,\" \",COUNTRY_INFO!A105))","v":"Angola"},{"$f":"IF(INTRO!$E$39=\"Non-endemic\",\" \",IF(COUNTRY_INFO!B105=0,\" \",COUNTRY_INFO!B105))","v":"LUANDA"},{"$f":"IF(INTRO!$E$39=\"Non-endemic\",\" \",IF(COUNTRY_INFO!C105=0,\" \",COUNTRY_INFO!C105))","v":"KILAMBA KIAXI"},{"$f":"IF(INTRO!$E$39=\"Non-endemic\",0,IF(INTRO!$E$39=\"Endemic but PC is not required\",IF(COUNTRY_INFO!$H105=1,COUNTRY_INFO!F105+COUNTRY_INFO!G105,0),IF(COUNTRY_INFO!$H105=1,COUNTRY_INFO!F105+COUNTRY_INFO!G105,IF(COUNTRY_INFO!$I105=1,IF(COUNTRY_INFO!N105>=(COUNTRY_INFO!F105+COUNTRY_INFO!G105),COUNTRY_INFO!F105+COUNTRY_INFO!G105,COUNTRY_INFO!$N105),0))))","v":0},{"$f":"IF(AND(INTRO!$E$39=\"Non-endemic\",INTRO!$E$37=\"Non-endemic\"),\"Not required\",IF(INTRO!$E$39=\"Non-endemic\",\"Treat with DEC\",COUNTRY_INFO!W105))","v":0},{"$f":"IF(INTRO!$E$39<>\"Non-endemic\",COUNTRY_INFO!X105,\"Not required\")","v":0},{"$f":"IF(COUNTRY_INFO!H105=1, IF($E105=1,IF(ALB_MBD!$G105<>\" \",COUNTRY_INFO!F105+COUNTRY_INFO!G105-ALB_MBD!$G105,COUNTRY_INFO!F105+COUNTRY_INFO!G105), 0),0)","v":0},{"$f":"IF(INTRO!$E$39<>\"Endemic\",0, IF(AND(COUNTRY_INFO!$I105=1,$F105<>0),IF(COUNTRY_INFO!N105>=(COUNTRY_INFO!F105+COUNTRY_INFO!G105),COUNTRY_INFO!F105+COUNTRY_INFO!G105,COUNTRY_INFO!$N105), 0))","v":0},0,0,0,0,null,0]
[{"$f":"IF(INTRO!$E$39=\"Non-endemic\",\" \",IF(COUNTRY_INFO!A106=0,\" \",COUNTRY_INFO!A106))","v":"Angola"},{"$f":"IF(INTRO!$E$39=\"Non-endemic\",\" \",IF(COUNTRY_INFO!B106=0,\" \",COUNTRY_INFO!B106))","v":"LUANDA"},{"$f":"IF(INTRO!$E$39=\"Non-endemic\",\" \",IF(COUNTRY_INFO!C106=0,\" \",COUNTRY_INFO!C106))","v":"LUANDA"},{"$f":"IF(INTRO!$E$39=\"Non-endemic\",0,IF(INTRO!$E$39=\"Endemic but PC is not required\",IF(COUNTRY_INFO!$H106=1,COUNTRY_INFO!F106+COUNTRY_INFO!G106,0),IF(COUNTRY_INFO!$H106=1,COUNTRY_INFO!F106+COUNTRY_INFO!G106,IF(COUNTRY_INFO!$I106=1,IF(COUNTRY_INFO!N106>=(COUNTRY_INFO!F106+COUNTRY_INFO!G106),COUNTRY_INFO!F106+COUNTRY_INFO!G106,COUNTRY_INFO!$N106),0))))","v":0},{"$f":"IF(AND(INTRO!$E$39=\"Non-endemic\",INTRO!$E$37=\"Non-endemic\"),\"Not required\",IF(INTRO!$E$39=\"Non-endemic\",\"Treat with DEC\",COUNTRY_INFO!W106))","v":0},{"$f":"IF(INTRO!$E$39<>\"Non-endemic\",COUNTRY_INFO!X106,\"Not required\")","v":0},{"$f":"IF(COUNTRY_INFO!H106=1, IF($E106=1,IF(ALB_MBD!$G106<>\" \",COUNTRY_INFO!F106+COUNTRY_INFO!G106-ALB_MBD!$G106,COUNTRY_INFO!F106+COUNTRY_INFO!G106), 0),0)","v":0},{"$f":"IF(INTRO!$E$39<>\"Endemic\",0, IF(AND(COUNTRY_INFO!$I106=1,$F106<>0),IF(COUNTRY_INFO!N106>=(COUNTRY_INFO!F106+COUNTRY_INFO!G106),COUNTRY_INFO!F106+COUNTRY_INFO!G106,COUNTRY_INFO!$N106), 0))","v":0},0,0,0,0,null,0]
[{"$f":"IF(INTRO!$E$39=\"Non-endemic\",\" \",IF(COUNTRY_INFO!A107=0,\" \",COUNTRY_INFO!A107))","v":"Angola"},{"$f":"IF(INTRO!$E$39=\"Non-endemic\",\" \",IF(COUNTRY_INFO!B107=0,\" \",COUNTRY_INFO!B107))","v":"LUANDA"},{"$f":"IF(INTRO!$E$39=\"Non-endemic\",\" \",IF(COUNTRY_INFO!C107=0,\" \",COUNTRY_INFO!C107))","v":"QUIÇAMA"},{"$f":"IF(INTRO!$E$39=\"Non-endemic\",0,IF(INTRO!$E$39=\"Endemic but PC is not required\",IF(COUNTRY_INFO!$H107=1,COUNTRY_INFO!F107+COUNTRY_INFO!G107,0),IF(COUNTRY_INFO!$H107=1,COUNTRY_INFO!F107+COUNTRY_INFO!G107,IF(COUNTRY_INFO!$I107=1,IF(COUNTRY_INFO!N107>=(COUNTRY_INFO!F107+COUNTRY_INFO!G107),COUNTRY_INFO!F107+COUNTRY_INFO!G107,COUNTRY_INFO!$N107),0))))","v":0},{"$f":"IF(AND(INTRO!$E$39=\"Non-endemic\",INTRO!$E$37=\"Non-endemic\"),\"Not required\",IF(INTRO!$E$39=\"Non-endemic\",\"Treat with DEC\",COUNTRY_INFO!W107))","v":0},{"$f":"IF(INTRO!$E$39<>\"Non-endemic\",COUNTRY_INFO!X107,\"Not required\")","v":0},{"$f":"IF(COUNTRY_INFO!H107=1, IF($E107=1,IF(ALB_MBD!$G107<>\" \",COUNTRY_INFO!F107+COUNTRY_INFO!G107-ALB_MBD!$G107,COUNTRY_INFO!F107+COUNTRY_INFO!G107), 0),0)","v":0},{"$f":"IF(INTRO!$E$39<>\"Endemic\",0, IF(AND(COUNTRY_INFO!$I107=1,$F107<>0),IF(COUNTRY_INFO!N107>=(COUNTRY_INFO!F107+COUNTRY_INFO!G107),COUNTRY_INFO!F107+COUNTRY_INFO!G107,COUNTRY_INFO!$N107), 0))","v":0},0,0,0,0,null,0]
[{"$f":"IF(INTRO!$E$39=\"Non-endemic\",\" \",IF(COUNTRY_INFO!A108=0,\" \",COUNTRY_INFO!A108))","v":"Angola"},{"$f":"IF(INTRO!$E$39=\"Non-endemic\",\" \",IF(COUNTRY_INFO!B108=0,\" \",COUNTRY_INFO!B108))","v":"LUANDA"},{"$f":"IF(INTRO!$E$39=\"Non-endemic\",\" \",IF(COUNTRY_INFO!C108=0,\" \",COUNTRY_INFO!C108))","v":"TALATONA"},{"$f":"IF(INTRO!$E$39=\"Non-endemic\",0,IF(INTRO!$E$39=\"Endemic but PC is not required\",IF(COUNTRY_INFO!$H108=1,COUNTRY_INFO!F108+COUNTRY_INFO!G108,0),IF(COUNTRY_INFO!$H108=1,COUNTRY_INFO!F108+COUNTRY_INFO!G108,IF(COUNTRY_INFO!$I108=1,IF(COUNTRY_INFO!N108>=(COUNTRY_INFO!F108+COUNTRY_INFO!G108),COUNTRY_INFO!F108+COUNTRY_INFO!G108,COUNTRY_INFO!$N108),0))))","v":0},{"$f":"IF(AND(INTRO!$E$39=\"Non-endemic\",INTRO!$E$37=\"Non-endemic\"),\"Not required\",IF(INTRO!$E$39=\"Non-endemic\",\"Treat with DEC\",COUNTRY_INFO!W108))","v":0},{"$f":"IF(INTRO!$E$39<>\"Non-endemic\",COUNTRY_INFO!X108,\"Not required\")","v":0},{"$f":"IF(COUNTRY_INFO!H108=1, IF($E108=1,IF(ALB_MBD!$G108<>\" \",COUNTRY_INFO!F108+COUNTRY_INFO!G108-ALB_MBD!$G108,COUNTRY_INFO!F108+COUNTRY_INFO!G108), 0),0)","v":0},{"$f":"IF(INTRO!$E$39<>\"Endemic\",0, IF(AND(COUNTRY_INFO!$I108=1,$F108<>0),IF(COUNTRY_INFO!N108>=(COUNTRY_INFO!F108+COUNTRY_INFO!G108),COUNTRY_INFO!F108+COUNTRY_INFO!G108,COUNTRY_INFO!$N108), 0))","v":0},0,0,0,0,null,0]
[{"$f":"IF(INTRO!$E$39=\"Non-endemic\",\" \",IF(COUNTRY_INFO!A109=0,\" \",COUNTRY_INFO!A109))","v":"Angola"},{"$f":"IF(INTRO!$E$39=\"Non-endemic\",\" \",IF(COUNTRY_INFO!B109=0,\" \",COUNTRY_INFO!B109))","v":"LUANDA"},{"$f":"IF(INTRO!$E$39=\"Non-endemic\",\" \",IF(COUNTRY_INFO!C109=0,\" \",COUNTRY_INFO!C109))","v":"VIANA"},{"$f":"IF(INTRO!$E$39=\"Non-endemic\",0,IF(INTRO!$E$39=\"Endemic but PC is not required\",IF(COUNTRY_INFO!$H109=1,COUNTRY_INFO!F109+COUNTRY_INFO!G109,0),IF(COUNTRY_INFO!$H109=1,COUNTRY_INFO!F109+COUNTRY_INFO!G109,IF(COUNTRY_INFO!$I109=1,IF(COUNTRY_INFO!N109>=(COUNTRY_INFO!F109+COUNTRY_INFO!G109),COUNTRY_INFO!F109+COUNTRY_INFO!G109,COUNTRY_INFO!$N109),0))))","v":0},{"$f":"IF(AND(INTRO!$E$39=\"Non-endemic\",INTRO!$E$37=\"Non-endemic\"),\"Not required\",IF(INTRO!$E$39=\"Non-endemic\",\"Treat with DEC\",COUNTRY_INFO!W109))","v":0},{"$f":"IF(INTRO!$E$39<>\"Non-endemic\",COUNTRY_INFO!X109,\"Not required\")","v":0},{"$f":"IF(COUNTRY_INFO!H109=1, IF($E109=1,IF(ALB_MBD!$G109<>\" \",COUNTRY_INFO!F109+COUNTRY_INFO!G109-ALB_MBD!$G109,COUNTRY_INFO!F109+COUNTRY_INFO!G109), 0),0)","v":0},{"$f":"IF(INTRO!$E$39<>\"Endemic\",0, IF(AND(COUNTRY_INFO!$I109=1,$F109<>0),IF(COUNTRY_INFO!N109>=(COUNTRY_INFO!F109+COUNTRY_INFO!G109),COUNTRY_INFO!F109+COUNTRY_INFO!G109,COUNTRY_INFO!$N109), 0))","v":0},0,0,0,0,null,0]
[{"$f":"IF(INTRO!$E$39=\"Non-endemic\",\" \",IF(COUNTRY_INFO!A110=0,\" \",COUNTRY_INFO!A110))","v":"Angola"},{"$f":"IF(INTRO!$E$39=\"Non-endemic\",\" \",IF(COUNTRY_INFO!B110=0,\" \",COUNTRY_INFO!B110))","v":"LUNDA NORTE"},{"$f":"IF(INTRO!$E$39=\"Non-endemic\",\" \",IF(COUNTRY_INFO!C110=0,\" \",COUNTRY_INFO!C110))","v":"CAMBULO"},{"$f":"IF(INTRO!$E$39=\"Non-endemic\",0,IF(INTRO!$E$39=\"Endemic but PC is not required\",IF(COUNTRY_INFO!$H110=1,COUNTRY_INFO!F110+COUNTRY_INFO!G110,0),IF(COUNTRY_INFO!$H110=1,COUNTRY_INFO!F110+COUNTRY_INFO!G110,IF(COUNTRY_INFO!$I110=1,IF(COUNTRY_INFO!N110>=(COUNTRY_INFO!F110+COUNTRY_INFO!G110),COUNTRY_INFO!F110+COUNTRY_INFO!G110,COUNTRY_INFO!$N110),0))))","v":128560},{"$f":"IF(AND(INTRO!$E$39=\"Non-endemic\",INTRO!$E$37=\"Non-endemic\"),\"Not required\",IF(INTRO!$E$39=\"Non-endemic\",\"Treat with DEC\",COUNTRY_INFO!W110))","v":1},{"$f":"IF(INTRO!$E$39<>\"Non-endemic\",COUNTRY_INFO!X110,\"Not required\")","v":1},{"$f":"IF(COUNTRY_INFO!H110=1, IF($E110=1,IF(ALB_MBD!$G110<>\" \",COUNTRY_INFO!F110+COUNTRY_INFO!G110-ALB_MBD!$G110,COUNTRY_INFO!F110+COUNTRY_INFO!G110), 0),0)","v":128560},{"$f":"IF(INTRO!$E$39<>\"Endemic\",0, IF(AND(COUNTRY_INFO!$I110=1,$F110<>0),IF(COUNTRY_INFO!N110>=(COUNTRY_INFO!F110+COUNTRY_INFO!G110),COUNTRY_INFO!F110+COUNTRY_INFO!G110,COUNTRY_INFO!$N110), 0))","v":128560},0,0,359968,359968,null,359968]
[{"$f":"IF(INTRO!$E$39=\"Non-endemic\",\" \",IF(COUNTRY_INFO!A111=0,\" \",COUNTRY_INFO!A111))","v":"Angola"},{"$f":"IF(INTRO!$E$39=\"Non-endemic\",\" \",IF(COUNTRY_INFO!B111=0,\" \",COUNTRY_INFO!B111))","v":"LUNDA NORTE"},{"$f":"IF(INTRO!$E$39=\"Non-endemic\",\" \",IF(COUNTRY_INFO!C111=0,\" \",COUNTRY_INFO!C111))","v":"CAPENDA CAMULEMBA"},{"$f":"IF(INTRO!$E$39=\"Non-endemic\",0,IF(INTRO!$E$39=\"Endemic but PC is not required\",IF(COUNTRY_INFO!$H111=1,COUNTRY_INFO!F111+COUNTRY_INFO!G111,0),IF(COUNTRY_INFO!$H111=1,COUNTRY_INFO!F111+COUNTRY_INFO!G111,IF(COUNTRY_INFO!$I111=1,IF(COUNTRY_INFO!N111>=(COUNTRY_INFO!F111+COUNTRY_INFO!G111),COUNTRY_INFO!F111+COUNTRY_INFO!G111,COUNTRY_INFO!$N111),0))))","v":62428},{"$f":"IF(AND(INTRO!$E$39=\"Non-endemic\",INTRO!$E$37=\"Non-endemic\"),\"Not required\",IF(INTRO!$E$39=\"Non-endemic\",\"Treat with DEC\",COUNTRY_INFO!W111))","v":0},{"$f":"IF(INTRO!$E$39<>\"Non-endemic\",COUNTRY_INFO!X111,\"Not required\")","v":1},{"$f":"IF(COUNTRY_INFO!H111=1, IF($E111=1,IF(ALB_MBD!$G111<>\" \",COUNTRY_INFO!F111+COUNTRY_INFO!G111-ALB_MBD!$G111,COUNTRY_INFO!F111+COUNTRY_INFO!G111), 0),0)","v":0},{"$f":"IF(INTRO!$E$39<>\"Endemic\",0, IF(AND(COUNTRY_INFO!$I111=1,$F111<>0),IF(COUNTRY_INFO!N111>=(COUNTRY_INFO!F111+COUNTRY_INFO!G111),COUNTRY_INFO!F111+COUNTRY_INFO!G111,COUNTRY_INFO!$N111), 0))","v":62428},0,174798.4,0,174798.4,null,174798.4]
[{"$f":"IF(INTRO!$E$39=\"Non-endemic\",\" \",IF(COUNTRY_INFO!A112=0,\" \",COUNTRY_INFO!A112))","v":"Angola"},{"$f":"IF(INTRO!$E$39=\"Non-endemic\",\" \",IF(COUNTRY_INFO!B112=0,\" \",COUNTRY_INFO!B112))","v":"LUNDA NORTE"},{"$f":"IF(INTRO!$E$39=\"Non-endemic\",\" \",IF(COUNTRY_INFO!C112=0,\" \",COUNTRY_INFO!C112))","v":"CAUNGULA"},{"$f":"IF(INTRO!$E$39=\"Non-endemic\",0,IF(INTRO!$E$39=\"Endemic but PC is not required\",IF(COUNTRY_INFO!$H112=1,COUNTRY_INFO!F112+COUNTRY_INFO!G112,0),IF(COUNTRY_INFO!$H112=1,COUNTRY_INFO!F112+COUNTRY_INFO!G112,IF(COUNTRY_INFO!$I112=1,IF(COUNTRY_INFO!N112>=(COUNTRY_INFO!F112+COUNTRY_INFO!G112),COUNTRY_INFO!F112+COUNTRY_INFO!G112,COUNTRY_INFO!$N112),0))))","v":30056},{"$f":"IF(AND(INTRO!$E$39=\"Non-endemic\",INTRO!$E$37=\"Non-endemic\"),\"Not required\",IF(INTRO!$E$39=\"Non-endemic\",\"Treat with DEC\",COUNTRY_INFO!W112))","v":0},{"$f":"IF(INTRO!$E$39<>\"Non-endemic\",COUNTRY_INFO!X112,\"Not required\")","v":1},{"$f":"IF(COUNTRY_INFO!H112=1, IF($E112=1,IF(ALB_MBD!$G112<>\" \",COUNTRY_INFO!F112+COUNTRY_INFO!G112-ALB_MBD!$G112,COUNTRY_INFO!F112+COUNTRY_INFO!G112), 0),0)","v":0},{"$f":"IF(INTRO!$E$39<>\"Endemic\",0, IF(AND(COUNTRY_INFO!$I112=1,$F112<>0),IF(COUNTRY_INFO!N112>=(COUNTRY_INFO!F112+COUNTRY_INFO!G112),COUNTRY_INFO!F112+COUNTRY_INFO!G112,COUNTRY_INFO!$N112), 0))","v":30056},0,84156.799999999988,0,84156.799999999988,null,84156.799999999988]
[{"$f":"IF(INTRO!$E$39=\"Non-endemic\",\" \",IF(COUNTRY_INFO!A113=0,\" \",COUNTRY_INFO!A113))","v":"Angola"},{"$f":"IF(INTRO!$E$39=\"Non-endemic\",\" \",IF(COUNTRY_INFO!B113=0,\" \",COUNTRY_INFO!B113))","v":"LUNDA NORTE"},{"$f":"IF(INTRO!$E$39=\"Non-endemic\",\" \",IF(COUNTRY_INFO!C113=0,\" \",COUNTRY_INFO!C113))","v":"CHITATO"},{"$f":"IF(INTRO!$E$39=\"Non-endemic\",0,IF(INTRO!$E$39=\"Endemic but PC is not required\",IF(COUNTRY_INFO!$H113=1,COUNTRY_INFO!F113+COUNTRY_INFO!G113,0),IF(COUNTRY_INFO!$H113=1,COUNTRY_INFO!F113+COUNTRY_INFO!G113,IF(COUNTRY_INFO!$I113=1,IF(COUNTRY_INFO!N113>=(COUNTRY_INFO!F113+COUNTRY_INFO!G113),COUNTRY_INFO!F113+COUNTRY_INFO!G113,COUNTRY_INFO!$N113),0))))","v":202620},{"$f":"IF(AND(INTRO!$E$39=\"Non-endemic\",INTRO!$E$37=\"Non-endemic\"),\"Not required\",IF(INTRO!$E$39=\"Non-endemic\",\"Treat with DEC\",COUNTRY_INFO!W113))","v":0},{"$f":"IF(INTRO!$E$39<>\"Non-endemic\",COUNTRY_INFO!X113,\"Not required\")","v":1},{"$f":"IF(COUNTRY_INFO!H113=1, IF($E113=1,IF(ALB_MBD!$G113<>\" \",COUNTRY_INFO!F113+COUNTRY_INFO!G113-ALB_MBD!$G113,COUNTRY_INFO!F113+COUNTRY_INFO!G113), 0),0)","v":0},{"$f":"IF(INTRO!$E$39<>\"Endemic\",0, IF(AND(COUNTRY_INFO!$I113=1,$F113<>0),IF(COUNTRY_INFO!N113>=(COUNTRY_INFO!F113+COUNTRY_INFO!G113),COUNTRY_INFO!F113+COUNTRY_INFO!G113,COUNTRY_INFO!$N113), 0))","v":202620},0,567336,0,567336,null,567336]
[{"$f":"IF(INTRO!$E$39=\"Non-endemic\",\" \",IF(COUNTRY_INFO!A114=0,\" \",COUNTRY_INFO!A114))","v":"Angola"},{"$f":"IF(INTRO!$E$39=\"Non-endemic\",\" \",IF(COUNTRY_INFO!B114=0,\" \",COUNTRY_INFO!B114))","v":"LUNDA NORTE"},{"$f":"IF(INTRO!$E$39=\"Non-endemic\",\" \",IF(COUNTRY_INFO!C114=0,\" \",COUNTRY_INFO!C114))","v":"CUANGO"},{"$f":"IF(INTRO!$E$39=\"Non-endemic\",0,IF(INTRO!$E$39=\"Endemic but PC is not required\",IF(COUNTRY_INFO!$H114=1,COUNTRY_INFO!F114+COUNTRY_INFO!G114,0),IF(COUNTRY_INFO!$H114=1,COUNTRY_INFO!F114+COUNTRY_INFO!G114,IF(COUNTRY_INFO!$I114=1,IF(COUNTRY_INFO!N114>=(COUNTRY_INFO!F114+COUNTRY_INFO!G114),COUNTRY_INFO!F114+COUNTRY_INFO!G114,COUNTRY_INFO!$N114),0))))","v":0},{"$f":"IF(AND(INTRO!$E$39=\"Non-endemic\",INTRO!$E$37=\"Non-endemic\"),\"Not required\",IF(INTRO!$E$39=\"Non-endemic\",\"Treat with DEC\",COUNTRY_INFO!W114))","v":0},{"$f":"IF(INTRO!$E$39<>\"Non-endemic\",COUNTRY_INFO!X114,\"Not required\")","v":0},{"$f":"IF(COUNTRY_INFO!H114=1, IF($E114=1,IF(ALB_MBD!$G114<>\" \",COUNTRY_INFO!F114+COUNTRY_INFO!G114-ALB_MBD!$G114,COUNTRY_INFO!F114+COUNTRY_INFO!G114), 0),0)","v":0},{"$f":"IF(INTRO!$E$39<>\"Endemic\",0, IF(AND(COUNTRY_INFO!$I114=1,$F114<>0),IF(COUNTRY_INFO!N114>=(COUNTRY_INFO!F114+COUNTRY_INFO!G114),COUNTRY_INFO!F114+COUNTRY_INFO!G114,COUNTRY_INFO!$N114), 0))","v":0},0,0,0,0,null,0]
[{"$f":"IF(INTRO!$E$39=\"Non-endemic\",\" \",IF(COUNTRY_INFO!A115=0,\" \",COUNTRY_INFO!A115))","v":"Angola"},{"$f":"IF(INTRO!$E$39=\"Non-endemic\",\" \",IF(COUNTRY_INFO!B115=0,\" \",COUNTRY_INFO!B115))","v":"LUNDA NORTE"},{"$f":"IF(INTRO!$E$39=\"Non-endemic\",\" \",IF(COUNTRY_INFO!C115=0,\" \",COUNTRY_INFO!C115))","v":"CUILO"},{"$f":"IF(INTRO!$E$39=\"Non-endemic\",0,IF(INTRO!$E$39=\"Endemic but PC is not required\",IF(COUNTRY_INFO!$H115=1,COUNTRY_INFO!F115+COUNTRY_INFO!G115,0),IF(COUNTRY_INFO!$H115=1,COUNTRY_INFO!F115+COUNTRY_INFO!G115,IF(COUNTRY_INFO!$I115=1,IF(COUNTRY_INFO!N115>=(COUNTRY_INFO!F115+COUNTRY_INFO!G115),COUNTRY_INFO!F115+COUNTRY_INFO!G115,COUNTRY_INFO!$N115),0))))","v":22465},{"$f":"IF(AND(INTRO!$E$39=\"Non-endemic\",INTRO!$E$37=\"Non-endemic\"),\"Not required\",IF(INTRO!$E$39=\"Non-endemic\",\"Treat with DEC\",COUNTRY_INFO!W115))","v":1},{"$f":"IF(INTRO!$E$39<>\"Non-endemic\",COUNTRY_INFO!X115,\"Not required\")","v":1},{"$f":"IF(COUNTRY_INFO!H115=1, IF($E115=1,IF(ALB_MBD!$G115<>\" \",COUNTRY_INFO!F115+COUNTRY_INFO!G115-ALB_MBD!$G115,COUNTRY_INFO!F115+COUNTRY_INFO!G115), 0),0)","v":22465},{"$f":"IF(INTRO!$E$39<>\"Endemic\",0, IF(AND(COUNTRY_INFO!$I115=1,$F115<>0),IF(COUNTRY_INFO!N115>=(COUNTRY_INFO!F115+COUNTRY_INFO!G115),COUNTRY_INFO!F115+COUNTRY_INFO!G115,COUNTRY_INFO!$N115), 0))","v":22465},0,0,62901.999999999993,62901.999999999993,null,62901.999999999993]
[{"$f":"IF(INTRO!$E$39=\"Non-endemic\",\" \",IF(COUNTRY_INFO!A116=0,\" \",COUNTRY_INFO!A116))","v":"Angola"},{"$f":"IF(INTRO!$E$39=\"Non-endemic\",\" \",IF(COUNTRY_INFO!B116=0,\" \",COUNTRY_INFO!B116))","v":"LUNDA NORTE"},{"$f":"IF(INTRO!$E$39=\"Non-endemic\",\" \",IF(COUNTRY_INFO!C116=0,\" \",COUNTRY_INFO!C116))","v":"LOVUA"},{"$f":"IF(INTRO!$E$39=\"Non-endemic\",0,IF(INTRO!$E$39=\"Endemic but PC is not required\",IF(COUNTRY_INFO!$H116=1,COUNTRY_INFO!F116+COUNTRY_INFO!G116,0),IF(COUNTRY_INFO!$H116=1,COUNTRY_INFO!F116+COUNTRY_INFO!G116,IF(COUNTRY_INFO!$I116=1,IF(COUNTRY_INFO!N116>=(COUNTRY_INFO!F116+COUNTRY_INFO!G116),COUNTRY_INFO!F116+COUNTRY_INFO!G116,COUNTRY_INFO!$N116),0))))","v":13972},{"$f":"IF(AND(INTRO!$E$39=\"Non-endemic\",INTRO!$E$37=\"Non-endemic\"),\"Not required\",IF(INTRO!$E$39=\"Non-endemic\",\"Treat with DEC\",COUNTRY_INFO!W116))","v":0},{"$f":"IF(INTRO!$E$39<>\"Non-endemic\",COUNTRY_INFO!X116,\"Not required\")","v":1},{"$f":"IF(COUNTRY_INFO!H116=1, IF($E116=1,IF(ALB_MBD!$G116<>\" \",COUNTRY_INFO!F116+COUNTRY_INFO!G116-ALB_MBD!$G116,COUNTRY_INFO!F116+COUNTRY_INFO!G116), 0),0)","v":0},{"$f":"IF(INTRO!$E$39<>\"Endemic\",0, IF(AND(COUNTRY_INFO!$I116=1,$F116<>0),IF(COUNTRY_INFO!N116>=(COUNTRY_INFO!F116+COUNTRY_INFO!G116),COUNTRY_INFO!F116+COUNTRY_INFO!G116,COUNTRY_INFO!$N116), 0))","v":13972},0,39121.599999999999,0,39121.599999999999,null,39121.599999999999]
[{"$f":"IF(INTRO!$E$39=\"Non-endemic\",\" \",IF(COUNTRY_INFO!A117=0,\" \",COUNTRY_INFO!A117))","v":"Angola"},{"$f":"IF(INTRO!$E$39=\"Non-endemic\",\" \",IF(COUNTRY_INFO!B117=0,\" \",COUNTRY_INFO!B117))","v":"LUNDA NORTE"},{"$f":"IF(INTRO!$E$39=\"Non-endemic\",\" \",IF(COUNTRY_INFO!C117=0,\" \",COUNTRY_INFO!C117))","v":"LUBALO"},{"$f":"IF(INTRO!$E$39=\"Non-endemic\",0,IF(INTRO!$E$39=\"Endemic but PC is not required\",IF(COUNTRY_INFO!$H117=1,COUNTRY_INFO!F117+COUNTRY_INFO!G117,0),IF(COUNTRY_INFO!$H117=1,COUNTRY_INFO!F117+COUNTRY_INFO!G117,IF(COUNTRY_INFO!$I117=1,IF(COUNTRY_INFO!N117>=(COUNTRY_INFO!F117+COUNTRY_INFO!G117),COUNTRY_INFO!F117+COUNTRY_INFO!G117,COUNTRY_INFO!$N117),0))))","v":22072},{"$f":"IF(AND(INTRO!$E$39=\"Non-endemic\",INTRO!$E$37=\"Non-endemic\"),\"Not required\",IF(INTRO!$E$39=\"Non-endemic\",\"Treat with DEC\",COUNTRY_INFO!W117))","v":0},{"$f":"IF(INTRO!$E$39<>\"Non-endemic\",COUNTRY_INFO!X117,\"Not required\")","v":1},{"$f":"IF(COUNTRY_INFO!H117=1, IF($E117=1,IF(ALB_MBD!$G117<>\" \",COUNTRY_INFO!F117+COUNTRY_INFO!G117-ALB_MBD!$G117,COUNTRY_INFO!F117+COUNTRY_INFO!G117), 0),0)","v":0},{"$f":"IF(INTRO!$E$39<>\"Endemic\",0, IF(AND(COUNTRY_INFO!$I117=1,$F117<>0),IF(COUNTRY_INFO!N117>=(COUNTRY_INFO!F117+COUNTRY_INFO!G117),COUNTRY_INFO!F117+COUNTRY_INFO!G117,COUNTRY_INFO!$N117), 0))","v":22072},0,61801.599999999999,0,61801.599999999999,null,61801.599999999999]
[{"$f":"IF(INTRO!$E$39=\"Non-endemic\",\" \",IF(COUNTRY_INFO!A118=0,\" \",COUNTRY_INFO!A118))","v":"Angola"},{"$f":"IF(INTRO!$E$39=\"Non-endemic\",\" \",IF(COUNTRY_INFO!B118=0,\" \",COUNTRY_INFO!B118))","v":"LUNDA NORTE"},{"$f":"IF(INTRO!$E$39=\"Non-endemic\",\" \",IF(COUNTRY_INFO!C118=0,\" \",COUNTRY_INFO!C118))","v":"LUCAPA"},{"$f":"IF(INTRO!$E$39=\"Non-endemic\",0,IF(INTRO!$E$39=\"Endemic but PC is not required\",IF(COUNTRY_INFO!$H118=1,COUNTRY_INFO!F118+COUNTRY_INFO!G118,0),IF(COUNTRY_INFO!$H118=1,COUNTRY_INFO!F118+COUNTRY_INFO!G118,IF(COUNTRY_INFO!$I118=1,IF(COUNTRY_INFO!N118>=(COUNTRY_INFO!F118+COUNTRY_INFO!G118),COUNTRY_INFO!F118+COUNTRY_INFO!G118,COUNTRY_INFO!$N118),0))))","v":165171},{"$f":"IF(AND(INTRO!$E$39=\"Non-endemic\",INTRO!$E$37=\"Non-endemic\"),\"Not required\",IF(INTRO!$E$39=\"Non-endemic\",\"Treat with DEC\",COUNTRY_INFO!W118))","v":0},{"$f":"IF(INTRO!$E$39<>\"Non-endemic\",COUNTRY_INFO!X118,\"Not required\")","v":1},{"$f":"IF(COUNTRY_INFO!H118=1, IF($E118=1,IF(ALB_MBD!$G118<>\" \",COUNTRY_INFO!F118+COUNTRY_INFO!G118-ALB_MBD!$G118,COUNTRY_INFO!F118+COUNTRY_INFO!G118), 0),0)","v":0},{"$f":"IF(INTRO!$E$39<>\"Endemic\",0, IF(AND(COUNTRY_INFO!$I118=1,$F118<>0),IF(COUNTRY_INFO!N118>=(COUNTRY_INFO!F118+COUNTRY_INFO!G118),COUNTRY_INFO!F118+COUNTRY_INFO!G118,COUNTRY_INFO!$N118), 0))","v":165171},0,462478.8,0,462478.8,null,462478.8]
[{"$f":"IF(INTRO!$E$39=\"Non-endemic\",\" \",IF(COUNTRY_INFO!A119=0,\" \",COUNTRY_INFO!A119))","v":"Angola"},{"$f":"IF(INTRO!$E$39=\"Non-endemic\",\" \",IF(COUNTRY_INFO!B119=0,\" \",COUNTRY_INFO!B119))","v":"LUNDA NORTE"},{"$f":"IF(INTRO!$E$39=\"Non-endemic\",\" \",IF(COUNTRY_INFO!C119=0,\" \",COUNTRY_INFO!C119))","v":"XA MUTEBA"},{"$f":"IF(INTRO!$E$39=\"Non-endemic\",0,IF(INTRO!$E$39=\"Endemic but PC is not required\",IF(COUNTRY_INFO!$H119=1,COUNTRY_INFO!F119+COUNTRY_INFO!G119,0),IF(COUNTRY_INFO!$H119=1,COUNTRY_INFO!F119+COUNTRY_INFO!G119,IF(COUNTRY_INFO!$I119=1,IF(COUNTRY_INFO!N119>=(COUNTRY_INFO!F119+COUNTRY_INFO!G119),COUNTRY_INFO!F119+COUNTRY_INFO!G119,COUNTRY_INFO!$N119),0))))","v":51466},{"$f":"IF(AND(INTRO!$E$39=\"Non-endemic\",INTRO!$E$37=\"Non-endemic\"),\"Not required\",IF(INTRO!$E$39=\"Non-endemic\",\"Treat with DEC\",COUNTRY_INFO!W119))","v":1},{"$f":"IF(INTRO!$E$39<>\"Non-endemic\",COUNTRY_INFO!X119,\"Not required\")","v":0},{"$f":"IF(COUNTRY_INFO!H119=1, IF($E119=1,IF(ALB_MBD!$G119<>\" \",COUNTRY_INFO!F119+COUNTRY_INFO!G119-ALB_MBD!$G119,COUNTRY_INFO!F119+COUNTRY_INFO!G119), 0),0)","v":51466},{"$f":"IF(INTRO!$E$39<>\"Endemic\",0, IF(AND(COUNTRY_INFO!$I119=1,$F119<>0),IF(COUNTRY_INFO!N119>=(COUNTRY_INFO!F119+COUNTRY_INFO!G119),COUNTRY_INFO!F119+COUNTRY_INFO!G119,COUNTRY_INFO!$N119), 0))","v":0},144104.79999999999,0,0,144104.79999999999,null,144104.79999999999]
[{"$f":"IF(INTRO!$E$39=\"Non-endemic\",\" \",IF(COUNTRY_INFO!A120=0,\" \",COUNTRY_INFO!A120))","v":"Angola"},{"$f":"IF(INTRO!$E$39=\"Non-endemic\",\" \",IF(COUNTRY_INFO!B120=0,\" \",COUNTRY_INFO!B120))","v":"LUNDA SUL"},{"$f":"IF(INTRO!$E$39=\"Non-endemic\",\" \",IF(COUNTRY_INFO!C120=0,\" \",COUNTRY_INFO!C120))","v":"CACOLO"},{"$f":"IF(INTRO!$E$39=\"Non-endemic\",0,IF(INTRO!$E$39=\"Endemic but PC is not required\",IF(COUNTRY_INFO!$H120=1,COUNTRY_INFO!F120+COUNTRY_INFO!G120,0),IF(COUNTRY_INFO!$H120=1,COUNTRY_INFO!F120+COUNTRY_INFO!G120,IF(COUNTRY_INFO!$I120=1,IF(COUNTRY_INFO!N120>=(COUNTRY_INFO!F120+COUNTRY_INFO!G120),COUNTRY_INFO!F120+COUNTRY_INFO!G120,COUNTRY_INFO!$N120),0))))","v":34626},{"$f":"IF(AND(INTRO!$E$39=\"Non-endemic\",INTRO!$E$37=\"Non-endemic\"),\"Not required\",IF(INTRO!$E$39=\"Non-endemic\",\"Treat with DEC\",COUNTRY_INFO!W120))","v":1},{"$f":"IF(INTRO!$E$39<>\"Non-endemic\",COUNTRY_INFO!X120,\"Not required\")","v":1},{"$f":"IF(COUNTRY_INFO!H120=1, IF($E120=1,IF(ALB_MBD!$G120<>\" \",COUNTRY_INFO!F120+COUNTRY_INFO!G120-ALB_MBD!$G120,COUNTRY_INFO!F120+COUNTRY_INFO!G120), 0),0)","v":34626},{"$f":"IF(INTRO!$E$39<>\"Endemic\",0, IF(AND(COUNTRY_INFO!$I120=1,$F120<>0),IF(COUNTRY_INFO!N120>=(COUNTRY_INFO!F120+COUNTRY_INFO!G120),COUNTRY_INFO!F120+COUNTRY_INFO!G120,COUNTRY_INFO!$N120), 0))","v":34626},0,0,96952.799999999988,96952.799999999988,null,96952.799999999988]
[{"$f":"IF(INTRO!$E$39=\"Non-endemic\",\" \",IF(COUNTRY_INFO!A121=0,\" \",COUNTRY_INFO!A121))","v":"Angola"},{"$f":"IF(INTRO!$E$39=\"Non-endemic\",\" \",IF(COUNTRY_INFO!B121=0,\" \",COUNTRY_INFO!B121))","v":"LUNDA SUL"},{"$f":"IF(INTRO!$E$39=\"Non-endemic\",\" \",IF(COUNTRY_INFO!C121=0,\" \",COUNTRY_INFO!C121))","v":"DALA"},{"$f":"IF(INTRO!$E$39=\"Non-endemic\",0,IF(INTRO!$E$39=\"Endemic but PC is not required\",IF(COUNTRY_INFO!$H121=1,COUNTRY_INFO!F121+COUNTRY_INFO!G121,0),IF(COUNTRY_INFO!$H121=1,COUNTRY_INFO!F121+COUNTRY_INFO!G121,IF(COUNTRY_INFO!$I121=1,IF(COUNTRY_INFO!N121>=(COUNTRY_INFO!F121+COUNTRY_INFO!G121),COUNTRY_INFO!F121+COUNTRY_INFO!G121,COUNTRY_INFO!$N121),0))))","v":32560},{"$f":"IF(AND(INTRO!$E$39=\"Non-endemic\",INTRO!$E$37=\"Non-endemic\"),\"Not required\",IF(INTRO!$E$39=\"Non-endemic\",\"Treat with DEC\",COUNTRY_INFO!W121))","v":0},{"$f":"IF(INTRO!$E$39<>\"Non-endemic\",COUNTRY_INFO!X121,\"Not required\")","v":1},{"$f":"IF(COUNTRY_INFO!H121=1, IF($E121=1,IF(ALB_MBD!$G121<>\" \",COUNTRY_INFO!F121+COUNTRY_INFO!G121-ALB_MBD!$G121,COUNTRY_INFO!F121+COUNTRY_INFO!G121), 0),0)","v":0},{"$f":"IF(INTRO!$E$39<>\"Endemic\",0, IF(AND(COUNTRY_INFO!$I121=1,$F121<>0),IF(COUNTRY_INFO!N121>=(COUNTRY_INFO!F121+COUNTRY_INFO!G121),COUNTRY_INFO!F121+COUNTRY_INFO!G121,COUNTRY_INFO!$N121), 0))","v":32560},0,91168,0,91168,null,91168]
[{"$f":"IF(INTRO!$E$39=\"Non-endemic\",\" \",IF(COUNTRY_INFO!A122=0,\" \",COUNTRY_INFO!A122))","v":"Angola"},{"$f":"IF(INTRO!$E$39=\"Non-endemic\",\" \",IF(COUNTRY_INFO!B122=0,\" \",COUNTRY_INFO!B122))","v":"LUNDA SUL"},{"$f":"IF(INTRO!$E$39=\"Non-endemic\",\" \",IF(COUNTRY_INFO!C122=0,\" \",COUNTRY_INFO!C122))","v":"MUCONDA"},{"$f":"IF(INTRO!$E$39=\"Non-endemic\",0,IF(INTRO!$E$39=\"Endemic but PC is not required\",IF(COUNTRY_INFO!$H122=1,COUNTRY_INFO!F122+COUNTRY_INFO!G122,0),IF(COUNTRY_INFO!$H122=1,COUNTRY_INFO!F122+COUNTRY_INFO!G122,IF(COUNTRY_INFO!$I122=1,IF(COUNTRY_INFO!N122>=(COUNTRY_INFO!F122+COUNTRY_INFO!G122),COUNTRY_INFO!F122+COUNTRY_INFO!G122,COUNTRY_INFO!$N122),0))))","v":36111},{"$f":"IF(AND(INTRO!$E$39=\"Non-endemic\",INTRO!$E$37=\"Non-endemic\"),\"Not required\",IF(INTRO!$E$39=\"Non-endemic\",\"Treat with DEC\",COUNTRY_INFO!W122))","v":0},{"$f":"IF(INTRO!$E$39<>\"Non-endemic\",COUNTRY_INFO!X122,\"Not required\")","v":1},{"$f":"IF(COUNTRY_INFO!H122=1, IF($E122=1,IF(ALB_MBD!$G122<>\" \",COUNTRY_INFO!F122+COUNTRY_INFO!G122-ALB_MBD!$G122,COUNTRY_INFO!F122+COUNTRY_INFO!G122), 0),0)","v":0},{"$f":"IF(INTRO!$E$39<>\"Endemic\",0, IF(AND(COUNTRY_INFO!$I122=1,$F122<>0),IF(COUNTRY_INFO!N122>=(COUNTRY_INFO!F122+COUNTRY_INFO!G122),COUNTRY_INFO!F122+COUNTRY_INFO!G122,COUNTRY_INFO!$N122), 0))","v":36111},0,101110.79999999999,0,101110.79999999999,null,101110.79999999999]
[{"$f":"IF(INTRO!$E$39=\"Non-endemic\",\" \",IF(COUNTRY_INFO!A123=0,\" \",COUNTRY_INFO!A123))","v":"Angola"},{"$f":"IF(INTRO!$E$39=\"Non-endemic\",\" \",IF(COUNTRY_INFO!B123=0,\" \",COUNTRY_INFO!B123))","v":"LUNDA SUL"},{"$f":"IF(INTRO!$E$39=\"Non-endemic\",\" \",IF(COUNTRY_INFO!C123=0,\" \",COUNTRY_INFO!C123))","v":"SAURIMO"},{"$f":"IF(INTRO!$E$39=\"Non-endemic\",0,IF(INTRO!$E$39=\"Endemic but PC is not required\",IF(COUNTRY_INFO!$H123=1,COUNTRY_INFO!F123+COUNTRY_INFO!G123,0),IF(COUNTRY_INFO!$H123=1,COUNTRY_INFO!F123+COUNTRY_INFO!G123,IF(COUNTRY_INFO!$I123=1,IF(COUNTRY_INFO!N123>=(COUNTRY_INFO!F123+COUNTRY_INFO!G123),COUNTRY_INFO!F123+COUNTRY_INFO!G123,COUNTRY_INFO!$N123),0))))","v":480322},{"$f":"IF(AND(INTRO!$E$39=\"Non-endemic\",INTRO!$E$37=\"Non-endemic\"),\"Not required\",IF(INTRO!$E$39=\"Non-endemic\",\"Treat with DEC\",COUNTRY_INFO!W123))","v":1},{"$f":"IF(INTRO!$E$39<>\"Non-endemic\",COUNTRY_INFO!X123,\"Not required\")","v":1},{"$f":"IF(COUNTRY_INFO!H123=1, IF($E123=1,IF(ALB_MBD!$G123<>\" \",COUNTRY_INFO!F123+COUNTRY_INFO!G123-ALB_MBD!$G123,COUNTRY_INFO!F123+COUNTRY_INFO!G123), 0),0)","v":480322},{"$f":"IF(INTRO!$E$39<>\"Endemic\",0, IF(AND(COUNTRY_INFO!$I123=1,$F123<>0),IF(COUNTRY_INFO!N123>=(COUNTRY_INFO!F123+COUNTRY_INFO!G123),COUNTRY_INFO!F123+COUNTRY_INFO!G123,COUNTRY_INFO!$N123), 0))","v":480322},0,0,1344901.5999999999,1344901.5999999999,null,1344901.5999999999]
[{"$f":"IF(INTRO!$E$39=\"Non-endemic\",\" \",IF(COUNTRY_INFO!A124=0,\" \",COUNTRY_INFO!A124))","v":"Angola"},{"$f":"IF(INTRO!$E$39=\"Non-endemic\",\" \",IF(COUNTRY_INFO!B124=0,\" \",COUNTRY_INFO!B124))","v":"MALANJE"},{"$f":"IF(INTRO!$E$39=\"Non-endemic\",\" \",IF(COUNTRY_INFO!C124=0,\" \",COUNTRY_INFO!C124))","v":"CACULAMA (Mukari)"},{"$f":"IF(INTRO!$E$39=\"Non-endemic\",0,IF(INTRO!$E$39=\"Endemic but PC is not required\",IF(COUNTRY_INFO!$H124=1,COUNTRY_INFO!F124+COUNTRY_INFO!G124,0),IF(COUNTRY_INFO!$H124=1,COUNTRY_INFO!F124+COUNTRY_INFO!G124,IF(COUNTRY_INFO!$I124=1,IF(COUNTRY_INFO!N124>=(COUNTRY_INFO!F124+COUNTRY_INFO!G124),COUNTRY_INFO!F124+COUNTRY_INFO!G124,COUNTRY_INFO!$N124),0))))","v":32238},{"$f":"IF(AND(INTRO!$E$39=\"Non-endemic\",INTRO!$E$37=\"Non-endemic\"),\"Not required\",IF(INTRO!$E$39=\"Non-endemic\",\"Treat with DEC\",COUNTRY_INFO!W124))","v":1},{"$f":"IF(INTRO!$E$39<>\"Non-endemic\",COUNTRY_INFO!X124,\"Not required\")","v":0},{"$f":"IF(COUNTRY_INFO!H124=1, IF($E124=1,IF(ALB_MBD!$G124<>\" \",COUNTRY_INFO!F124+COUNTRY_INFO!G124-ALB_MBD!$G124,COUNTRY_INFO!F124+COUNTRY_INFO!G124), 0),0)","v":32238},{"$f":"IF(INTRO!$E$39<>\"Endemic\",0, IF(AND(COUNTRY_INFO!$I124=1,$F124<>0),IF(COUNTRY_INFO!N124>=(COUNTRY_INFO!F124+COUNTRY_INFO!G124),COUNTRY_INFO!F124+COUNTRY_INFO!G124,COUNTRY_INFO!$N124), 0))","v":0},90266.4,0,0,90266.4,null,90266.4]
[{"$f":"IF(INTRO!$E$39=\"Non-endemic\",\" \",IF(COUNTRY_INFO!A125=0,\" \",COUNTRY_INFO!A125))","v":"Angola"},{"$f":"IF(INTRO!$E$39=\"Non-endemic\",\" \",IF(COUNTRY_INFO!B125=0,\" \",COUNTRY_INFO!B125))","v":"MALANJE"},{"$f":"IF(INTRO!$E$39=\"Non-endemic\",\" \",IF(COUNTRY_INFO!C125=0,\" \",COUNTRY_INFO!C125))","v":"CACUSO"},{"$f":"IF(INTRO!$E$39=\"Non-endemic\",0,IF(INTRO!$E$39=\"Endemic but PC is not required\",IF(COUNTRY_INFO!$H125=1,COUNTRY_INFO!F125+COUNTRY_INFO!G125,0),IF(COUNTRY_INFO!$H125=1,COUNTRY_INFO!F125+COUNTRY_INFO!G125,IF(COUNTRY_INFO!$I125=1,IF(COUNTRY_INFO!N125>=(COUNTRY_INFO!F125+COUNTRY_INFO!G125),COUNTRY_INFO!F125+COUNTRY_INFO!G125,COUNTRY_INFO!$N125),0))))","v":0},{"$f":"IF(AND(INTRO!$E$39=\"Non-endemic\",INTRO!$E$37=\"Non-endemic\"),\"Not required\",IF(INTRO!$E$39=\"Non-endemic\",\"Treat with DEC\",COUNTRY_INFO!W125))","v":0},{"$f":"IF(INTRO!$E$39<>\"Non-endemic\",COUNTRY_INFO!X125,\"Not required\")","v":0},{"$f":"IF(COUNTRY_INFO!H125=1, IF($E125=1,IF(ALB_MBD!$G125<>\" \",COUNTRY_INFO!F125+COUNTRY_INFO!G125-ALB_MBD!$G125,COUNTRY_INFO!F125+COUNTRY_INFO!G125), 0),0)","v":0},{"$f":"IF(INTRO!$E$39<>\"Endemic\",0, IF(AND(COUNTRY_INFO!$I125=1,$F125<>0),IF(COUNTRY_INFO!N125>=(COUNTRY_INFO!F125+COUNTRY_INFO!G125),COUNTRY_INFO!F125+COUNTRY_INFO!G125,COUNTRY_INFO!$N125), 0))","v":0},0,0,0,0,null,0]
[{"$f":"IF(INTRO!$E$39=\"Non-endemic\",\" \",IF(COUNTRY_INFO!A126=0,\" \",COUNTRY_INFO!A126))","v":"Angola"},{"$f":"IF(INTRO!$E$39=\"Non-endemic\",\" \",IF(COUNTRY_INFO!B126=0,\" \",COUNTRY_INFO!B126))","v":"MALANJE"},{"$f":"IF(INTRO!$E$39=\"Non-endemic\",\" \",IF(COUNTRY_INFO!C126=0,\" \",COUNTRY_INFO!C126))","v":"CAHOMBO"},{"$f":"IF(INTRO!$E$39=\"Non-endemic\",0,IF(INTRO!$E$39=\"Endemic but PC is not required\",IF(COUNTRY_INFO!$H126=1,COUNTRY_INFO!F126+COUNTRY_INFO!G126,0),IF(COUNTRY_INFO!$H126=1,COUNTRY_INFO!F126+COUNTRY_INFO!G126,IF(COUNTRY_INFO!$I126=1,IF(COUNTRY_INFO!N126>=(COUNTRY_INFO!F126+COUNTRY_INFO!G126),COUNTRY_INFO!F126+COUNTRY_INFO!G126,COUNTRY_INFO!$N126),0))))","v":0},{"$f":"IF(AND(INTRO!$E$39=\"Non-endemic\",INTRO!$E$37=\"Non-endemic\"),\"Not required\",IF(INTRO!$E$39=\"Non-endemic\",\"Treat with DEC\",COUNTRY_INFO!W126))","v":0},{"$f":"IF(INTRO!$E$39<>\"Non-endemic\",COUNTRY_INFO!X126,\"Not required\")","v":0},{"$f":"IF(COUNTRY_INFO!H126=1, IF($E126=1,IF(ALB_MBD!$G126<>\" \",COUNTRY_INFO!F126+COUNTRY_INFO!G126-ALB_MBD!$G126,COUNTRY_INFO!F126+COUNTRY_INFO!G126), 0),0)","v":0},{"$f":"IF(INTRO!$E$39<>\"Endemic\",0, IF(AND(COUNTRY_INFO!$I126=1,$F126<>0),IF(COUNTRY_INFO!N126>=(COUNTRY_INFO!F126+COUNTRY_INFO!G126),COUNTRY_INFO!F126+COUNTRY_INFO!G126,COUNTRY_INFO!$N126), 0))","v":0},0,0,0,0,null,0]
[{"$f":"IF(INTRO!$E$39=\"Non-endemic\",\" \",IF(COUNTRY_INFO!A127=0,\" \",COUNTRY_INFO!A127))","v":"Angola"},{"$f":"IF(INTRO!$E$39=\"Non-endemic\",\" \",IF(COUNTRY_INFO!B127=0,\" \",COUNTRY_INFO!B127))","v":"MALANJE"},{"$f":"IF(INTRO!$E$39=\"Non-endemic\",\" \",IF(COUNTRY_INFO!C127=0,\" \",COUNTRY_INFO!C127))","v":"CALANDULA"},{"$f":"IF(INTRO!$E$39=\"Non-endemic\",0,IF(INTRO!$E$39=\"Endemic but PC is not required\",IF(COUNTRY_INFO!$H127=1,COUNTRY_INFO!F127+COUNTRY_INFO!G127,0),IF(COUNTRY_INFO!$H127=1,COUNTRY_INFO!F127+COUNTRY_INFO!G127,IF(COUNTRY_INFO!$I127=1,IF(COUNTRY_INFO!N127>=(COUNTRY_INFO!F127+COUNTRY_INFO!G127),COUNTRY_INFO!F127+COUNTRY_INFO!G127,COUNTRY_INFO!$N127),0))))","v":0},{"$f":"IF(AND(INTRO!$E$39=\"Non-endemic\",INTRO!$E$37=\"Non-endemic\"),\"Not required\",IF(INTRO!$E$39=\"Non-endemic\",\"Treat with DEC\",COUNTRY_INFO!W127))","v":0},{"$f":"IF(INTRO!$E$39<>\"Non-endemic\",COUNTRY_INFO!X127,\"Not required\")","v":0},{"$f":"IF(COUNTRY_INFO!H127=1, IF($E127=1,IF(ALB_MBD!$G127<>\" \",COUNTRY_INFO!F127+COUNTRY_INFO!G127-ALB_MBD!$G127,COUNTRY_INFO!F127+COUNTRY_INFO!G127), 0),0)","v":0},{"$f":"IF(INTRO!$E$39<>\"Endemic\",0, IF(AND(COUNTRY_INFO!$I127=1,$F127<>0),IF(COUNTRY_INFO!N127>=(COUNTRY_INFO!F127+COUNTRY_INFO!G127),COUNTRY_INFO!F127+COUNTRY_INFO!G127,COUNTRY_INFO!$N127), 0))","v":0},0,0,0,0,null,0]
[{"$f":"IF(INTRO!$E$39=\"Non-endemic\",\" \",IF(COUNTRY_INFO!A128=0,\" \",COUNTRY_INFO!A128))","v":"Angola"},{"$f":"IF(INTRO!$E$39=\"Non-endemic\",\" \",IF(COUNTRY_INFO!B128=0,\" \",COUNTRY_INFO!B128))","v":"MALANJE"},{"$f":"IF(INTRO!$E$39=\"Non-endemic\",\" \",IF(COUNTRY_INFO!C128=0,\" \",COUNTRY_INFO!C128))","v":"CAMBUNDI CATEMBO"},{"$f":"IF(INTRO!$E$39=\"Non-endemic\",0,IF(INTRO!$E$39=\"Endemic but PC is not required\",IF(COUNTRY_INFO!$H128=1,COUNTRY_INFO!F128+COUNTRY_INFO!G128,0),IF(COUNTRY_INFO!$H128=1,COUNTRY_INFO!F128+COUNTRY_INFO!G128,IF(COUNTRY_INFO!$I128=1,IF(COUNTRY_INFO!N128>=(COUNTRY_INFO!F128+COUNTRY_INFO!G128),COUNTRY_INFO!F128+COUNTRY_INFO!G128,COUNTRY_INFO!$N128),0))))","v":0},{"$f":"IF(AND(INTRO!$E$39=\"Non-endemic\",INTRO!$E$37=\"Non-endemic\"),\"Not required\",IF(INTRO!$E$39=\"Non-endemic\",\"Treat with DEC\",COUNTRY_INFO!W128))","v":0},{"$f":"IF(INTRO!$E$39<>\"Non-endemic\",COUNTRY_INFO!X128,\"Not required\")","v":0},{"$f":"IF(COUNTRY_INFO!H128=1, IF($E128=1,IF(ALB_MBD!$G128<>\" \",COUNTRY_INFO!F128+COUNTRY_INFO!G128-ALB_MBD!$G128,COUNTRY_INFO!F128+COUNTRY_INFO!G128), 0),0)","v":0},{"$f":"IF(INTRO!$E$39<>\"Endemic\",0, IF(AND(COUNTRY_INFO!$I128=1,$F128<>0),IF(COUNTRY_INFO!N128>=(COUNTRY_INFO!F128+COUNTRY_INFO!G128),COUNTRY_INFO!F128+COUNTRY_INFO!G128,COUNTRY_INFO!$N128), 0))","v":0},0,0,0,0,null,0]
[{"$f":"IF(INTRO!$E$39=\"Non-endemic\",\" \",IF(COUNTRY_INFO!A129=0,\" \",COUNTRY_INFO!A129))","v":"Angola"},{"$f":"IF(INTRO!$E$39=\"Non-endemic\",\" \",IF(COUNTRY_INFO!B129=0,\" \",COUNTRY_INFO!B129))","v":"MALANJE"},{"$f":"IF(INTRO!$E$39=\"Non-endemic\",\" \",IF(COUNTRY_INFO!C129=0,\" \",COUNTRY_INFO!C129))","v":"CANGANDALA"},{"$f":"IF(INTRO!$E$39=\"Non-endemic\",0,IF(INTRO!$E$39=\"Endemic but PC is not required\",IF(COUNTRY_INFO!$H129=1,COUNTRY_INFO!F129+COUNTRY_INFO!G129,0),IF(COUNTRY_INFO!$H129=1,COUNTRY_INFO!F129+COUNTRY_INFO!G129,IF(COUNTRY_INFO!$I129=1,IF(COUNTRY_INFO!N129>=(COUNTRY_INFO!F129+COUNTRY_INFO!G129),COUNTRY_INFO!F129+COUNTRY_INFO!G129,COUNTRY_INFO!$N129),0))))","v":48305},{"$f":"IF(AND(INTRO!$E$39=\"Non-endemic\",INTRO!$E$37=\"Non-endemic\"),\"Not required\",IF(INTRO!$E$39=\"Non-endemic\",\"Treat with DEC\",COUNTRY_INFO!W129))","v":1},{"$f":"IF(INTRO!$E$39<>\"Non-endemic\",COUNTRY_INFO!X129,\"Not required\")","v":0},{"$f":"IF(COUNTRY_INFO!H129=1, IF($E129=1,IF(ALB_MBD!$G129<>\" \",COUNTRY_INFO!F129+COUNTRY_INFO!G129-ALB_MBD!$G129,COUNTRY_INFO!F129+COUNTRY_INFO!G129), 0),0)","v":48305},{"$f":"IF(INTRO!$E$39<>\"Endemic\",0, IF(AND(COUNTRY_INFO!$I129=1,$F129<>0),IF(COUNTRY_INFO!N129>=(COUNTRY_INFO!F129+COUNTRY_INFO!G129),COUNTRY_INFO!F129+COUNTRY_INFO!G129,COUNTRY_INFO!$N129), 0))","v":0},135254,0,0,135254,null,135254]
[{"$f":"IF(INTRO!$E$39=\"Non-endemic\",\" \",IF(COUNTRY_INFO!A130=0,\" \",COUNTRY_INFO!A130))","v":"Angola"},{"$f":"IF(INTRO!$E$39=\"Non-endemic\",\" \",IF(COUNTRY_INFO!B130=0,\" \",COUNTRY_INFO!B130))","v":"MALANJE"},{"$f":"IF(INTRO!$E$39=\"Non-endemic\",\" \",IF(COUNTRY_INFO!C130=0,\" \",COUNTRY_INFO!C130))","v":"KIWABA NZOJI"},{"$f":"IF(INTRO!$E$39=\"Non-endemic\",0,IF(INTRO!$E$39=\"Endemic but PC is not required\",IF(COUNTRY_INFO!$H130=1,COUNTRY_INFO!F130+COUNTRY_INFO!G130,0),IF(COUNTRY_INFO!$H130=1,COUNTRY_INFO!F130+COUNTRY_INFO!G130,IF(COUNTRY_INFO!$I130=1,IF(COUNTRY_INFO!N130>=(COUNTRY_INFO!F130+COUNTRY_INFO!G130),COUNTRY_INFO!F130+COUNTRY_INFO!G130,COUNTRY_INFO!$N130),0))))","v":0},{"$f":"IF(AND(INTRO!$E$39=\"Non-endemic\",INTRO!$E$37=\"Non-endemic\"),\"Not required\",IF(INTRO!$E$39=\"Non-endemic\",\"Treat with DEC\",COUNTRY_INFO!W130))","v":0},{"$f":"IF(INTRO!$E$39<>\"Non-endemic\",COUNTRY_INFO!X130,\"Not required\")","v":0},{"$f":"IF(COUNTRY_INFO!H130=1, IF($E130=1,IF(ALB_MBD!$G130<>\" \",COUNTRY_INFO!F130+COUNTRY_INFO!G130-ALB_MBD!$G130,COUNTRY_INFO!F130+COUNTRY_INFO!G130), 0),0)","v":0},{"$f":"IF(INTRO!$E$39<>\"Endemic\",0, IF(AND(COUNTRY_INFO!$I130=1,$F130<>0),IF(COUNTRY_INFO!N130>=(COUNTRY_INFO!F130+COUNTRY_INFO!G130),COUNTRY_INFO!F130+COUNTRY_INFO!G130,COUNTRY_INFO!$N130), 0))","v":0},0,0,0,0,null,0]
[{"$f":"IF(INTRO!$E$39=\"Non-endemic\",\" \",IF(COUNTRY_INFO!A131=0,\" \",COUNTRY_INFO!A131))","v":"Angola"},{"$f":"IF(INTRO!$E$39=\"Non-endemic\",\" \",IF(COUNTRY_INFO!B131=0,\" \",COUNTRY_INFO!B131))","v":"MALANJE"},{"$f":"IF(INTRO!$E$39=\"Non-endemic\",\" \",IF(COUNTRY_INFO!C131=0,\" \",COUNTRY_INFO!C131))","v":"KUNDA DYA BASE"},{"$f":"IF(INTRO!$E$39=\"Non-endemic\",0,IF(INTRO!$E$39=\"Endemic but PC is not required\",IF(COUNTRY_INFO!$H131=1,COUNTRY_INFO!F131+COUNTRY_INFO!G131,0),IF(COUNTRY_INFO!$H131=1,COUNTRY_INFO!F131+COUNTRY_INFO!G131,IF(COUNTRY_INFO!$I131=1,IF(COUNTRY_INFO!N131>=(COUNTRY_INFO!F131+COUNTRY_INFO!G131),COUNTRY_INFO!F131+COUNTRY_INFO!G131,COUNTRY_INFO!$N131),0))))","v":13510},{"$f":"IF(AND(INTRO!$E$39=\"Non-endemic\",INTRO!$E$37=\"Non-endemic\"),\"Not required\",IF(INTRO!$E$39=\"Non-endemic\",\"Treat with DEC\",COUNTRY_INFO!W131))","v":1},{"$f":"IF(INTRO!$E$39<>\"Non-endemic\",COUNTRY_INFO!X131,\"Not required\")","v":0},{"$f":"IF(COUNTRY_INFO!H131=1, IF($E131=1,IF(ALB_MBD!$G131<>\" \",COUNTRY_INFO!F131+COUNTRY_INFO!G131-ALB_MBD!$G131,COUNTRY_INFO!F131+COUNTRY_INFO!G131), 0),0)","v":13510},{"$f":"IF(INTRO!$E$39<>\"Endemic\",0, IF(AND(COUNTRY_INFO!$I131=1,$F131<>0),IF(COUNTRY_INFO!N131>=(COUNTRY_INFO!F131+COUNTRY_INFO!G131),COUNTRY_INFO!F131+COUNTRY_INFO!G131,COUNTRY_INFO!$N131), 0))","v":0},37828,0,0,37828,null,37828]
[{"$f":"IF(INTRO!$E$39=\"Non-endemic\",\" \",IF(COUNTRY_INFO!A132=0,\" \",COUNTRY_INFO!A132))","v":"Angola"},{"$f":"IF(INTRO!$E$39=\"Non-endemic\",\" \",IF(COUNTRY_INFO!B132=0,\" \",COUNTRY_INFO!B132))","v":"MALANJE"},{"$f":"IF(INTRO!$E$39=\"Non-endemic\",\" \",IF(COUNTRY_INFO!C132=0,\" \",COUNTRY_INFO!C132))","v":"LUQUEMBO"},{"$f":"IF(INTRO!$E$39=\"Non-endemic\",0,IF(INTRO!$E$39=\"Endemic but PC is not required\",IF(COUNTRY_INFO!$H132=1,COUNTRY_INFO!F132+COUNTRY_INFO!G132,0),IF(COUNTRY_INFO!$H132=1,COUNTRY_INFO!F132+COUNTRY_INFO!G132,IF(COUNTRY_INFO!$I132=1,IF(COUNTRY_INFO!N132>=(COUNTRY_INFO!F132+COUNTRY_INFO!G132),COUNTRY_INFO!F132+COUNTRY_INFO!G132,COUNTRY_INFO!$N132),0))))","v":0},{"$f":"IF(AND(INTRO!$E$39=\"Non-endemic\",INTRO!$E$37=\"Non-endemic\"),\"Not required\",IF(INTRO!$E$39=\"Non-endemic\",\"Treat with DEC\",COUNTRY_INFO!W132))","v":0},{"$f":"IF(INTRO!$E$39<>\"Non-endemic\",COUNTRY_INFO!X132,\"Not required\")","v":0},{"$f":"IF(COUNTRY_INFO!H132=1, IF($E132=1,IF(ALB_MBD!$G132<>\" \",COUNTRY_INFO!F132+COUNTRY_INFO!G132-ALB_MBD!$G132,COUNTRY_INFO!F132+COUNTRY_INFO!G132), 0),0)","v":0},{"$f":"IF(INTRO!$E$39<>\"Endemic\",0, IF(AND(COUNTRY_INFO!$I132=1,$F132<>0),IF(COUNTRY_INFO!N132>=(COUNTRY_INFO!F132+COUNTRY_INFO!G132),COUNTRY_INFO!F132+COUNTRY_INFO!G132,COUNTRY_INFO!$N132), 0))","v":0},0,0,0,0,null,0]
[{"$f":"IF(INTRO!$E$39=\"Non-endemic\",\" \",IF(COUNTRY_INFO!A133=0,\" \",COUNTRY_INFO!A133))","v":"Angola"},{"$f":"IF(INTRO!$E$39=\"Non-endemic\",\" \",IF(COUNTRY_INFO!B133=0,\" \",COUNTRY_INFO!B133))","v":"MALANJE"},{"$f":"IF(INTRO!$E$39=\"Non-endemic\",\" \",IF(COUNTRY_INFO!C133=0,\" \",COUNTRY_INFO!C133))","v":"MALANJE"},{"$f":"IF(INTRO!$E$39=\"Non-endemic\",0,IF(INTRO!$E$39=\"Endemic but PC is not required\",IF(COUNTRY_INFO!$H133=1,COUNTRY_INFO!F133+COUNTRY_INFO!G133,0),IF(COUNTRY_INFO!$H133=1,COUNTRY_INFO!F133+COUNTRY_INFO!G133,IF(COUNTRY_INFO!$I133=1,IF(COUNTRY_INFO!N133>=(COUNTRY_INFO!F133+COUNTRY_INFO!G133),COUNTRY_INFO!F133+COUNTRY_INFO!G133,COUNTRY_INFO!$N133),0))))","v":0},{"$f":"IF(AND(INTRO!$E$39=\"Non-endemic\",INTRO!$E$37=\"Non-endemic\"),\"Not required\",IF(INTRO!$E$39=\"Non-endemic\",\"Treat with DEC\",COUNTRY_INFO!W133))","v":0},{"$f":"IF(INTRO!$E$39<>\"Non-endemic\",COUNTRY_INFO!X133,\"Not required\")","v":0},{"$f":"IF(COUNTRY_INFO!H133=1, IF($E133=1,IF(ALB_MBD!$G133<>\" \",COUNTRY_INFO!F133+COUNTRY_INFO!G133-ALB_MBD!$G133,COUNTRY_INFO!F133+COUNTRY_INFO!G133), 0),0)","v":0},{"$f":"IF(INTRO!$E$39<>\"Endemic\",0, IF(AND(COUNTRY_INFO!$I133=1,$F133<>0),IF(COUNTRY_INFO!N133>=(COUNTRY_INFO!F133+COUNTRY_INFO!G133),COUNTRY_INFO!F133+COUNTRY_INFO!G133,COUNTRY_INFO!$N133), 0))","v":0},0,0,0,0,null,0]
[{"$f":"IF(INTRO!$E$39=\"Non-endemic\",\" \",IF(COUNTRY_INFO!A134=0,\" \",COUNTRY_INFO!A134))","v":"Angola"},{"$f":"IF(INTRO!$E$39=\"Non-endemic\",\" \",IF(COUNTRY_INFO!B134=0,\" \",COUNTRY_INFO!B134))","v":"MALANJE"},{"$f":"IF(INTRO!$E$39=\"Non-endemic\",\" \",IF(COUNTRY_INFO!C134=0,\" \",COUNTRY_INFO!C134))","v":"MARIMBA"},{"$f":"IF(INTRO!$E$39=\"Non-endemic\",0,IF(INTRO!$E$39=\"Endemic but PC is not required\",IF(COUNTRY_INFO!$H134=1,COUNTRY_INFO!F134+COUNTRY_INFO!G134,0),IF(COUNTRY_INFO!$H134=1,COUNTRY_INFO!F134+COUNTRY_INFO!G134,IF(COUNTRY_INFO!$I134=1,IF(COUNTRY_INFO!N134>=(COUNTRY_INFO!F134+COUNTRY_INFO!G134),COUNTRY_INFO!F134+COUNTRY_INFO!G134,COUNTRY_INFO!$N134),0))))","v":28028},{"$f":"IF(AND(INTRO!$E$39=\"Non-endemic\",INTRO!$E$37=\"Non-endemic\"),\"Not required\",IF(INTRO!$E$39=\"Non-endemic\",\"Treat with DEC\",COUNTRY_INFO!W134))","v":1},{"$f":"IF(INTRO!$E$39<>\"Non-endemic\",COUNTRY_INFO!X134,\"Not required\")","v":0},{"$f":"IF(COUNTRY_INFO!H134=1, IF($E134=1,IF(ALB_MBD!$G134<>\" \",COUNTRY_INFO!F134+COUNTRY_INFO!G134-ALB_MBD!$G134,COUNTRY_INFO!F134+COUNTRY_INFO!G134), 0),0)","v":28028},{"$f":"IF(INTRO!$E$39<>\"Endemic\",0, IF(AND(COUNTRY_INFO!$I134=1,$F134<>0),IF(COUNTRY_INFO!N134>=(COUNTRY_INFO!F134+COUNTRY_INFO!G134),COUNTRY_INFO!F134+COUNTRY_INFO!G134,COUNTRY_INFO!$N134), 0))","v":0},78478.399999999994,0,0,78478.399999999994,null,78478.399999999994]
[{"$f":"IF(INTRO!$E$39=\"Non-endemic\",\" \",IF(COUNTRY_INFO!A135=0,\" \",COUNTRY_INFO!A135))","v":"Angola"},{"$f":"IF(INTRO!$E$39=\"Non-endemic\",\" \",IF(COUNTRY_INFO!B135=0,\" \",COUNTRY_INFO!B135))","v":"MALANJE"},{"$f":"IF(INTRO!$E$39=\"Non-endemic\",\" \",IF(COUNTRY_INFO!C135=0,\" \",COUNTRY_INFO!C135))","v":"MASSANGO"},{"$f":"IF(INTRO!$E$39=\"Non-endemic\",0,IF(INTRO!$E$39=\"Endemic but PC is not required\",IF(COUNTRY_INFO!$H135=1,COUNTRY_INFO!F135+COUNTRY_INFO!G135,0),IF(COUNTRY_INFO!$H135=1,COUNTRY_INFO!F135+COUNTRY_INFO!G135,IF(COUNTRY_INFO!$I135=1,IF(COUNTRY_INFO!N135>=(COUNTRY_INFO!F135+COUNTRY_INFO!G135),COUNTRY_INFO!F135+COUNTRY_INFO!G135,COUNTRY_INFO!$N135),0))))","v":0},{"$f":"IF(AND(INTRO!$E$39=\"Non-endemic\",INTRO!$E$37=\"Non-endemic\"),\"Not required\",IF(INTRO!$E$39=\"Non-endemic\",\"Treat with DEC\",COUNTRY_INFO!W135))","v":0},{"$f":"IF(INTRO!$E$39<>\"Non-endemic\",COUNTRY_INFO!X135,\"Not required\")","v":0},{"$f":"IF(COUNTRY_INFO!H135=1, IF($E135=1,IF(ALB_MBD!$G135<>\" \",COUNTRY_INFO!F135+COUNTRY_INFO!G135-ALB_MBD!$G135,COUNTRY_INFO!F135+COUNTRY_INFO!G135), 0),0)","v":0},{"$f":"IF(INTRO!$E$39<>\"Endemic\",0, IF(AND(COUNTRY_INFO!$I135=1,$F135<>0),IF(COUNTRY_INFO!N135>=(COUNTRY_INFO!F135+COUNTRY_INFO!G135),COUNTRY_INFO!F135+COUNTRY_INFO!G135,COUNTRY_INFO!$N135), 0))","v":0},0,0,0,0,null,0]
[{"$f":"IF(INTRO!$E$39=\"Non-endemic\",\" \",IF(COUNTRY_INFO!A136=0,\" \",COUNTRY_INFO!A136))","v":"Angola"},{"$f":"IF(INTRO!$E$39=\"Non-endemic\",\" \",IF(COUNTRY_INFO!B136=0,\" \",COUNTRY_INFO!B136))","v":"MALANJE"},{"$f":"IF(INTRO!$E$39=\"Non-endemic\",\" \",IF(COUNTRY_INFO!C136=0,\" \",COUNTRY_INFO!C136))","v":"QUELA"},{"$f":"IF(INTRO!$E$39=\"Non-endemic\",0,IF(INTRO!$E$39=\"Endemic but PC is not required\",IF(COUNTRY_INFO!$H136=1,COUNTRY_INFO!F136+COUNTRY_INFO!G136,0),IF(COUNTRY_INFO!$H136=1,COUNTRY_INFO!F136+COUNTRY_INFO!G136,IF(COUNTRY_INFO!$I136=1,IF(COUNTRY_INFO!N136>=(COUNTRY_INFO!F136+COUNTRY_INFO!G136),COUNTRY_INFO!F136+COUNTRY_INFO!G136,COUNTRY_INFO!$N136),0))))","v":22428},{"$f":"IF(AND(INTRO!$E$39=\"Non-endemic\",INTRO!$E$37=\"Non-endemic\"),\"Not required\",IF(INTRO!$E$39=\"Non-endemic\",\"Treat with DEC\",COUNTRY_INFO!W136))","v":1},{"$f":"IF(INTRO!$E$39<>\"Non-endemic\",COUNTRY_INFO!X136,\"Not required\")","v":0},{"$f":"IF(COUNTRY_INFO!H136=1, IF($E136=1,IF(ALB_MBD!$G136<>\" \",COUNTRY_INFO!F136+COUNTRY_INFO!G136-ALB_MBD!$G136,COUNTRY_INFO!F136+COUNTRY_INFO!G136), 0),0)","v":22428},{"$f":"IF(INTRO!$E$39<>\"Endemic\",0, IF(AND(COUNTRY_INFO!$I136=1,$F136<>0),IF(COUNTRY_INFO!N136>=(COUNTRY_INFO!F136+COUNTRY_INFO!G136),COUNTRY_INFO!F136+COUNTRY_INFO!G136,COUNTRY_INFO!$N136), 0))","v":0},62798.399999999994,0,0,62798.399999999994,null,62798.399999999994]
[{"$f":"IF(INTRO!$E$39=\"Non-endemic\",\" \",IF(COUNTRY_INFO!A137=0,\" \",COUNTRY_INFO!A137))","v":"Angola"},{"$f":"IF(INTRO!$E$39=\"Non-endemic\",\" \",IF(COUNTRY_INFO!B137=0,\" \",COUNTRY_INFO!B137))","v":"MALANJE"},{"$f":"IF(INTRO!$E$39=\"Non-endemic\",\" \",IF(COUNTRY_INFO!C137=0,\" \",COUNTRY_INFO!C137))","v":"QUIRIMA"},{"$f":"IF(INTRO!$E$39=\"Non-endemic\",0,IF(INTRO!$E$39=\"Endemic but PC is not required\",IF(COUNTRY_INFO!$H137=1,COUNTRY_INFO!F137+COUNTRY_INFO!G137,0),IF(COUNTRY_INFO!$H137=1,COUNTRY_INFO!F137+COUNTRY_INFO!G137,IF(COUNTRY_INFO!$I137=1,IF(COUNTRY_INFO!N137>=(COUNTRY_INFO!F137+COUNTRY_INFO!G137),COUNTRY_INFO!F137+COUNTRY_INFO!G137,COUNTRY_INFO!$N137),0))))","v":0},{"$f":"IF(AND(INTRO!$E$39=\"Non-endemic\",INTRO!$E$37=\"Non-endemic\"),\"Not required\",IF(INTRO!$E$39=\"Non-endemic\",\"Treat with DEC\",COUNTRY_INFO!W137))","v":0},{"$f":"IF(INTRO!$E$39<>\"Non-endemic\",COUNTRY_INFO!X137,\"Not required\")","v":0},{"$f":"IF(COUNTRY_INFO!H137=1, IF($E137=1,IF(ALB_MBD!$G137<>\" \",COUNTRY_INFO!F137+COUNTRY_INFO!G137-ALB_MBD!$G137,COUNTRY_INFO!F137+COUNTRY_INFO!G137), 0),0)","v":0},{"$f":"IF(INTRO!$E$39<>\"Endemic\",0, IF(AND(COUNTRY_INFO!$I137=1,$F137<>0),IF(COUNTRY_INFO!N137>=(COUNTRY_INFO!F137+COUNTRY_INFO!G137),COUNTRY_INFO!F137+COUNTRY_INFO!G137,COUNTRY_INFO!$N137), 0))","v":0},0,0,0,0,null,0]
[{"$f":"IF(INTRO!$E$39=\"Non-endemic\",\" \",IF(COUNTRY_INFO!A138=0,\" \",COUNTRY_INFO!A138))","v":"Angola"},{"$f":"IF(INTRO!$E$39=\"Non-endemic\",\" \",IF(COUNTRY_INFO!B138=0,\" \",COUNTRY_INFO!B138))","v":"MOXICO"},{"$f":"IF(INTRO!$E$39=\"Non-endemic\",\" \",IF(COUNTRY_INFO!C138=0,\" \",COUNTRY_INFO!C138))","v":"ALTO ZAMBEZE"},{"$f":"IF(INTRO!$E$39=\"Non-endemic\",0,IF(INTRO!$E$39=\"Endemic but PC is not required\",IF(COUNTRY_INFO!$H138=1,COUNTRY_INFO!F138+COUNTRY_INFO!G138,0),IF(COUNTRY_INFO!$H138=1,COUNTRY_INFO!F138+COUNTRY_INFO!G138,IF(COUNTRY_INFO!$I138=1,IF(COUNTRY_INFO!N138>=(COUNTRY_INFO!F138+COUNTRY_INFO!G138),COUNTRY_INFO!F138+COUNTRY_INFO!G138,COUNTRY_INFO!$N138),0))))","v":0},{"$f":"IF(AND(INTRO!$E$39=\"Non-endemic\",INTRO!$E$37=\"Non-endemic\"),\"Not required\",IF(INTRO!$E$39=\"Non-endemic\",\"Treat with DEC\",COUNTRY_INFO!W138))","v":0},{"$f":"IF(INTRO!$E$39<>\"Non-endemic\",COUNTRY_INFO!X138,\"Not required\")","v":0},{"$f":"IF(COUNTRY_INFO!H138=1, IF($E138=1,IF(ALB_MBD!$G138<>\" \",COUNTRY_INFO!F138+COUNTRY_INFO!G138-ALB_MBD!$G138,COUNTRY_INFO!F138+COUNTRY_INFO!G138), 0),0)","v":0},{"$f":"IF(INTRO!$E$39<>\"Endemic\",0, IF(AND(COUNTRY_INFO!$I138=1,$F138<>0),IF(COUNTRY_INFO!N138>=(COUNTRY_INFO!F138+COUNTRY_INFO!G138),COUNTRY_INFO!F138+COUNTRY_INFO!G138,COUNTRY_INFO!$N138), 0))","v":0},0,0,0,0,null,0]
[{"$f":"IF(INTRO!$E$39=\"Non-endemic\",\" \",IF(COUNTRY_INFO!A139=0,\" \",COUNTRY_INFO!A139))","v":"Angola"},{"$f":"IF(INTRO!$E$39=\"Non-endemic\",\" \",IF(COUNTRY_INFO!B139=0,\" \",COUNTRY_INFO!B139))","v":"MOXICO"},{"$f":"IF(INTRO!$E$39=\"Non-endemic\",\" \",IF(COUNTRY_INFO!C139=0,\" \",COUNTRY_INFO!C139))","v":"BUNDAS (LUMBALA NGUIMBO)"},{"$f":"IF(INTRO!$E$39=\"Non-endemic\",0,IF(INTRO!$E$39=\"Endemic but PC is not required\",IF(COUNTRY_INFO!$H139=1,COUNTRY_INFO!F139+COUNTRY_INFO!G139,0),IF(COUNTRY_INFO!$H139=1,COUNTRY_INFO!F139+COUNTRY_INFO!G139,IF(COUNTRY_INFO!$I139=1,IF(COUNTRY_INFO!N139>=(COUNTRY_INFO!F139+COUNTRY_INFO!G139),COUNTRY_INFO!F139+COUNTRY_INFO!G139,COUNTRY_INFO!$N139),0))))","v":0},{"$f":"IF(AND(INTRO!$E$39=\"Non-endemic\",INTRO!$E$37=\"Non-endemic\"),\"Not required\",IF(INTRO!$E$39=\"Non-endemic\",\"Treat with DEC\",COUNTRY_INFO!W139))","v":0},{"$f":"IF(INTRO!$E$39<>\"Non-endemic\",COUNTRY_INFO!X139,\"Not required\")","v":0},{"$f":"IF(COUNTRY_INFO!H139=1, IF($E139=1,IF(ALB_MBD!$G139<>\" \",COUNTRY_INFO!F139+COUNTRY_INFO!G139-ALB_MBD!$G139,COUNTRY_INFO!F139+COUNTRY_INFO!G139), 0),0)","v":0},{"$f":"IF(INTRO!$E$39<>\"Endemic\",0, IF(AND(COUNTRY_INFO!$I139=1,$F139<>0),IF(COUNTRY_INFO!N139>=(COUNTRY_INFO!F139+COUNTRY_INFO!G139),COUNTRY_INFO!F139+COUNTRY_INFO!G139,COUNTRY_INFO!$N139), 0))","v":0},{"$f":"IF(G139<H139,0,IF($E139=1, (G139-H139)*2.8, 0))","v":0},{"$f":"IF($E139<$F139, H139*(F139-E139)*2.8, 0)","v":0},{"$f":"IF(AND($E139=1, $F139<>0), H139*2.8, 0)","v":0},{"$f":"SUM(I139:K139)","v":0},null,0]
[{"$f":"IF(INTRO!$E$39=\"Non-endemic\",\" \",IF(COUNTRY_INFO!A140=0,\" \",COUNTRY_INFO!A140))","v":"Angola"},{"$f":"IF(INTRO!$E$39=\"Non-endemic\",\" \",IF(COUNTRY_INFO!B140=0,\" \",COUNTRY_INFO!B140))","v":"MOXICO"},{"$f":"IF(INTRO!$E$39=\"Non-endemic\",\" \",IF(COUNTRY_INFO!C140=0,\" \",COUNTRY_INFO!C140))","v":"CAMANONGUE"},{"$f":"IF(INTRO!$E$39=\"Non-endemic\",0,IF(INTRO!$E$39=\"Endemic but PC is not required\",IF(COUNTRY_INFO!$H140=1,COUNTRY_INFO!F140+COUNTRY_INFO!G140,0),IF(COUNTRY_INFO!$H140=1,COUNTRY_INFO!F140+COUNTRY_INFO!G140,IF(COUNTRY_INFO!$I140=1,IF(COUNTRY_INFO!N140>=(COUNTRY_INFO!F140+COUNTRY_INFO!G140),COUNTRY_INFO!F140+COUNTRY_INFO!G140,COUNTRY_INFO!$N140),0))))","v":36742},{"$f":"IF(AND(INTRO!$E$39=\"Non-endemic\",INTRO!$E$37=\"Non-endemic\"),\"Not required\",IF(INTRO!$E$39=\"Non-endemic\",\"Treat with DEC\",COUNTRY_INFO!W140))","v":0},{"$f":"IF(INTRO!$E$39<>\"Non-endemic\",COUNTRY_INFO!X140,\"Not required\")","v":1},{"$f":"IF(COUNTRY_INFO!H140=1, IF($E140=1,IF(ALB_MBD!$G140<>\" \",COUNTRY_INFO!F140+COUNTRY_INFO!G140-ALB_MBD!$G140,COUNTRY_INFO!F140+COUNTRY_INFO!G140), 0),0)","v":0},{"$f":"IF(INTRO!$E$39<>\"Endemic\",0, IF(AND(COUNTRY_INFO!$I140=1,$F140<>0),IF(COUNTRY_INFO!N140>=(COUNTRY_INFO!F140+COUNTRY_INFO!G140),COUNTRY_INFO!F140+COUNTRY_INFO!G140,COUNTRY_INFO!$N140), 0))","v":36742},0,102877.59999999999,0,102877.59999999999,null,102877.59999999999]
[{"$f":"IF(INTRO!$E$39=\"Non-endemic\",\" \",IF(COUNTRY_INFO!A141=0,\" \",COUNTRY_INFO!A141))","v":"Angola"},{"$f":"IF(INTRO!$E$39=\"Non-endemic\",\" \",IF(COUNTRY_INFO!B141=0,\" \",COUNTRY_INFO!B141))","v":"MOXICO"},{"$f":"IF(INTRO!$E$39=\"Non-endemic\",\" \",IF(COUNTRY_INFO!C141=0,\" \",COUNTRY_INFO!C141))","v":"CAMEIA (LUMEJE)"},{"$f":"IF(INTRO!$E$39=\"Non-endemic\",0,IF(INTRO!$E$39=\"Endemic but PC is not required\",IF(COUNTRY_INFO!$H141=1,COUNTRY_INFO!F141+COUNTRY_INFO!G141,0),IF(COUNTRY_INFO!$H141=1,COUNTRY_INFO!F141+COUNTRY_INFO!G141,IF(COUNTRY_INFO!$I141=1,IF(COUNTRY_INFO!N141>=(COUNTRY_INFO!F141+COUNTRY_INFO!G141),COUNTRY_INFO!F141+COUNTRY_INFO!G141,COUNTRY_INFO!$N141),0))))","v":0},{"$f":"IF(AND(INTRO!$E$39=\"Non-endemic\",INTRO!$E$37=\"Non-endemic\"),\"Not required\",IF(INTRO!$E$39=\"Non-endemic\",\"Treat with DEC\",COUNTRY_INFO!W141))","v":0},{"$f":"IF(INTRO!$E$39<>\"Non-endemic\",COUNTRY_INFO!X141,\"Not required\")","v":0},{"$f":"IF(COUNTRY_INFO!H141=1, IF($E141=1,IF(ALB_MBD!$G141<>\" \",COUNTRY_INFO!F141+COUNTRY_INFO!G141-ALB_MBD!$G141,COUNTRY_INFO!F141+COUNTRY_INFO!G141), 0),0)","v":0},{"$f":"IF(INTRO!$E$39<>\"Endemic\",0, IF(AND(COUNTRY_INFO!$I141=1,$F141<>0),IF(COUNTRY_INFO!N141>=(COUNTRY_INFO!F141+COUNTRY_INFO!G141),COUNTRY_INFO!F141+COUNTRY_INFO!G141,COUNTRY_INFO!$N141), 0))","v":0},0,0,0,0,null,0]
[{"$f":"IF(INTRO!$E$39=\"Non-endemic\",\" \",IF(COUNTRY_INFO!A142=0,\" \",COUNTRY_INFO!A142))","v":"Angola"},{"$f":"IF(INTRO!$E$39=\"Non-endemic\",\" \",IF(COUNTRY_INFO!B142=0,\" \",COUNTRY_INFO!B142))","v":"MOXICO"},{"$f":"IF(INTRO!$E$39=\"Non-endemic\",\" \",IF(COUNTRY_INFO!C142=0,\" \",COUNTRY_INFO!C142))","v":"LEUA"},{"$f":"IF(INTRO!$E$39=\"Non-endemic\",0,IF(INTRO!$E$39=\"Endemic but PC is not required\",IF(COUNTRY_INFO!$H142=1,COUNTRY_INFO!F142+COUNTRY_INFO!G142,0),IF(COUNTRY_INFO!$H142=1,COUNTRY_INFO!F142+COUNTRY_INFO!G142,IF(COUNTRY_INFO!$I142=1,IF(COUNTRY_INFO!N142>=(COUNTRY_INFO!F142+COUNTRY_INFO!G142),COUNTRY_INFO!F142+COUNTRY_INFO!G142,COUNTRY_INFO!$N142),0))))","v":34903},{"$f":"IF(AND(INTRO!$E$39=\"Non-endemic\",INTRO!$E$37=\"Non-endemic\"),\"Not required\",IF(INTRO!$E$39=\"Non-endemic\",\"Treat with DEC\",COUNTRY_INFO!W142))","v":0},{"$f":"IF(INTRO!$E$39<>\"Non-endemic\",COUNTRY_INFO!X142,\"Not required\")","v":1},{"$f":"IF(COUNTRY_INFO!H142=1, IF($E142=1,IF(ALB_MBD!$G142<>\" \",COUNTRY_INFO!F142+COUNTRY_INFO!G142-ALB_MBD!$G142,COUNTRY_INFO!F142+COUNTRY_INFO!G142), 0),0)","v":0},{"$f":"IF(INTRO!$E$39<>\"Endemic\",0, IF(AND(COUNTRY_INFO!$I142=1,$F142<>0),IF(COUNTRY_INFO!N142>=(COUNTRY_INFO!F142+COUNTRY_INFO!G142),COUNTRY_INFO!F142+COUNTRY_INFO!G142,COUNTRY_INFO!$N142), 0))","v":34903},0,97728.4,0,97728.4,null,97728.4]
[{"$f":"IF(INTRO!$E$39=\"Non-endemic\",\" \",IF(COUNTRY_INFO!A143=0,\" \",COUNTRY_INFO!A143))","v":"Angola"},{"$f":"IF(INTRO!$E$39=\"Non-endemic\",\" \",IF(COUNTRY_INFO!B143=0,\" \",COUNTRY_INFO!B143))","v":"MOXICO"},{"$f":"IF(INTRO!$E$39=\"Non-endemic\",\" \",IF(COUNTRY_INFO!C143=0,\" \",COUNTRY_INFO!C143))","v":"LUACANO"},{"$f":"IF(INTRO!$E$39=\"Non-endemic\",0,IF(INTRO!$E$39=\"Endemic but PC is not required\",IF(COUNTRY_INFO!$H143=1,COUNTRY_INFO!F143+COUNTRY_INFO!G143,0),IF(COUNTRY_INFO!$H143=1,COUNTRY_INFO!F143+COUNTRY_INFO!G143,IF(COUNTRY_INFO!$I143=1,IF(COUNTRY_INFO!N143>=(COUNTRY_INFO!F143+COUNTRY_INFO!G143),COUNTRY_INFO!F143+COUNTRY_INFO!G143,COUNTRY_INFO!$N143),0))))","v":22319},{"$f":"IF(AND(INTRO!$E$39=\"Non-endemic\",INTRO!$E$37=\"Non-endemic\"),\"Not required\",IF(INTRO!$E$39=\"Non-endemic\",\"Treat with DEC\",COUNTRY_INFO!W143))","v":0},{"$f":"IF(INTRO!$E$39<>\"Non-endemic\",COUNTRY_INFO!X143,\"Not required\")","v":1},{"$f":"IF(COUNTRY_INFO!H143=1, IF($E143=1,IF(ALB_MBD!$G143<>\" \",COUNTRY_INFO!F143+COUNTRY_INFO!G143-ALB_MBD!$G143,COUNTRY_INFO!F143+COUNTRY_INFO!G143), 0),0)","v":0},{"$f":"IF(INTRO!$E$39<>\"Endemic\",0, IF(AND(COUNTRY_INFO!$I143=1,$F143<>0),IF(COUNTRY_INFO!N143>=(COUNTRY_INFO!F143+COUNTRY_INFO!G143),COUNTRY_INFO!F143+COUNTRY_INFO!G143,COUNTRY_INFO!$N143), 0))","v":22319},0,62493.2,0,62493.2,null,62493.2]
[{"$f":"IF(INTRO!$E$39=\"Non-endemic\",\" \",IF(COUNTRY_INFO!A144=0,\" \",COUNTRY_INFO!A144))","v":"Angola"},{"$f":"IF(INTRO!$E$39=\"Non-endemic\",\" \",IF(COUNTRY_INFO!B144=0,\" \",COUNTRY_INFO!B144))","v":"MOXICO"},{"$f":"IF(INTRO!$E$39=\"Non-endemic\",\" \",IF(COUNTRY_INFO!C144=0,\" \",COUNTRY_INFO!C144))","v":"LUAU"},{"$f":"IF(INTRO!$E$39=\"Non-endemic\",0,IF(INTRO!$E$39=\"Endemic but PC is not required\",IF(COUNTRY_INFO!$H144=1,COUNTRY_INFO!F144+COUNTRY_INFO!G144,0),IF(COUNTRY_INFO!$H144=1,COUNTRY_INFO!F144+COUNTRY_INFO!G144,IF(COUNTRY_INFO!$I144=1,IF(COUNTRY_INFO!N144>=(COUNTRY_INFO!F144+COUNTRY_INFO!G144),COUNTRY_INFO!F144+COUNTRY_INFO!G144,COUNTRY_INFO!$N144),0))))","v":0},{"$f":"IF(AND(INTRO!$E$39=\"Non-endemic\",INTRO!$E$37=\"Non-endemic\"),\"Not required\",IF(INTRO!$E$39=\"Non-endemic\",\"Treat with DEC\",COUNTRY_INFO!W144))","v":0},{"$f":"IF(INTRO!$E$39<>\"Non-endemic\",COUNTRY_INFO!X144,\"Not required\")","v":0},{"$f":"IF(COUNTRY_INFO!H144=1, IF($E144=1,IF(ALB_MBD!$G144<>\" \",COUNTRY_INFO!F144+COUNTRY_INFO!G144-ALB_MBD!$G144,COUNTRY_INFO!F144+COUNTRY_INFO!G144), 0),0)","v":0},{"$f":"IF(INTRO!$E$39<>\"Endemic\",0, IF(AND(COUNTRY_INFO!$I144=1,$F144<>0),IF(COUNTRY_INFO!N144>=(COUNTRY_INFO!F144+COUNTRY_INFO!G144),COUNTRY_INFO!F144+COUNTRY_INFO!G144,COUNTRY_INFO!$N144), 0))","v":0},0,0,0,0,null,0]
[{"$f":"IF(INTRO!$E$39=\"Non-endemic\",\" \",IF(COUNTRY_INFO!A145=0,\" \",COUNTRY_INFO!A145))","v":"Angola"},{"$f":"IF(INTRO!$E$39=\"Non-endemic\",\" \",IF(COUNTRY_INFO!B145=0,\" \",COUNTRY_INFO!B145))","v":"MOXICO"},{"$f":"IF(INTRO!$E$39=\"Non-endemic\",\" \",IF(COUNTRY_INFO!C145=0,\" \",COUNTRY_INFO!C145))","v":"LUCHAZES"},{"$f":"IF(INTRO!$E$39=\"Non-endemic\",0,IF(INTRO!$E$39=\"Endemic but PC is not required\",IF(COUNTRY_INFO!$H145=1,COUNTRY_INFO!F145+COUNTRY_INFO!G145,0),IF(COUNTRY_INFO!$H145=1,COUNTRY_INFO!F145+COUNTRY_INFO!G145,IF(COUNTRY_INFO!$I145=1,IF(COUNTRY_INFO!N145>=(COUNTRY_INFO!F145+COUNTRY_INFO!G145),COUNTRY_INFO!F145+COUNTRY_INFO!G145,COUNTRY_INFO!$N145),0))))","v":0},{"$f":"IF(AND(INTRO!$E$39=\"Non-endemic\",INTRO!$E$37=\"Non-endemic\"),\"Not required\",IF(INTRO!$E$39=\"Non-endemic\",\"Treat with DEC\",COUNTRY_INFO!W145))","v":0},{"$f":"IF(INTRO!$E$39<>\"Non-endemic\",COUNTRY_INFO!X145,\"Not required\")","v":0},{"$f":"IF(COUNTRY_INFO!H145=1, IF($E145=1,IF(ALB_MBD!$G145<>\" \",COUNTRY_INFO!F145+COUNTRY_INFO!G145-ALB_MBD!$G145,COUNTRY_INFO!F145+COUNTRY_INFO!G145), 0),0)","v":0},{"$f":"IF(INTRO!$E$39<>\"Endemic\",0, IF(AND(COUNTRY_INFO!$I145=1,$F145<>0),IF(COUNTRY_INFO!N145>=(COUNTRY_INFO!F145+COUNTRY_INFO!G145),COUNTRY_INFO!F145+COUNTRY_INFO!G145,COUNTRY_INFO!$N145), 0))","v":0},0,0,0,0,null,0]
[{"$f":"IF(INTRO!$E$39=\"Non-endemic\",\" \",IF(COUNTRY_INFO!A146=0,\" \",COUNTRY_INFO!A146))","v":"Angola"},{"$f":"IF(INTRO!$E$39=\"Non-endemic\",\" \",IF(COUNTRY_INFO!B146=0,\" \",COUNTRY_INFO!B146))","v":"MOXICO"},{"$f":"IF(INTRO!$E$39=\"Non-endemic\",\" \",IF(COUNTRY_INFO!C146=0,\" \",COUNTRY_INFO!C146))","v":"MOXICO/LUENA"},{"$f":"IF(INTRO!$E$39=\"Non-endemic\",0,IF(INTRO!$E$39=\"Endemic but PC is not required\",IF(COUNTRY_INFO!$H146=1,COUNTRY_INFO!F146+COUNTRY_INFO!G146,0),IF(COUNTRY_INFO!$H146=1,COUNTRY_INFO!F146+COUNTRY_INFO!G146,IF(COUNTRY_INFO!$I146=1,IF(COUNTRY_INFO!N146>=(COUNTRY_INFO!F146+COUNTRY_INFO!G146),COUNTRY_INFO!F146+COUNTRY_INFO!G146,COUNTRY_INFO!$N146),0))))","v":384348},{"$f":"IF(AND(INTRO!$E$39=\"Non-endemic\",INTRO!$E$37=\"Non-endemic\"),\"Not required\",IF(INTRO!$E$39=\"Non-endemic\",\"Treat with DEC\",COUNTRY_INFO!W146))","v":0},{"$f":"IF(INTRO!$E$39<>\"Non-endemic\",COUNTRY_INFO!X146,\"Not required\")","v":1},{"$f":"IF(COUNTRY_INFO!H146=1, IF($E146=1,IF(ALB_MBD!$G146<>\" \",COUNTRY_INFO!F146+COUNTRY_INFO!G146-ALB_MBD!$G146,COUNTRY_INFO!F146+COUNTRY_INFO!G146), 0),0)","v":0},{"$f":"IF(INTRO!$E$39<>\"Endemic\",0, IF(AND(COUNTRY_INFO!$I146=1,$F146<>0),IF(COUNTRY_INFO!N146>=(COUNTRY_INFO!F146+COUNTRY_INFO!G146),COUNTRY_INFO!F146+COUNTRY_INFO!G146,COUNTRY_INFO!$N146), 0))","v":384348},0,1076174.3999999999,0,1076174.3999999999,null,1076174.3999999999]
[{"$f":"IF(INTRO!$E$39=\"Non-endemic\",\" \",IF(COUNTRY_INFO!A147=0,\" \",COUNTRY_INFO!A147))","v":"Angola"},{"$f":"IF(INTRO!$E$39=\"Non-endemic\",\" \",IF(COUNTRY_INFO!B147=0,\" \",COUNTRY_INFO!B147))","v":"NAMIBE"},{"$f":"IF(INTRO!$E$39=\"Non-endemic\",\" \",IF(COUNTRY_INFO!C147=0,\" \",COUNTRY_INFO!C147))","v":"BIBALA"},{"$f":"IF(INTRO!$E$39=\"Non-endemic\",0,IF(INTRO!$E$39=\"Endemic but PC is not required\",IF(COUNTRY_INFO!$H147=1,COUNTRY_INFO!F147+COUNTRY_INFO!G147,0),IF(COUNTRY_INFO!$H147=1,COUNTRY_INFO!F147+COUNTRY_INFO!G147,IF(COUNTRY_INFO!$I147=1,IF(COUNTRY_INFO!N147>=(COUNTRY_INFO!F147+COUNTRY_INFO!G147),COUNTRY_INFO!F147+COUNTRY_INFO!G147,COUNTRY_INFO!$N147),0))))","v":0},{"$f":"IF(AND(INTRO!$E$39=\"Non-endemic\",INTRO!$E$37=\"Non-endemic\"),\"Not required\",IF(INTRO!$E$39=\"Non-endemic\",\"Treat with DEC\",COUNTRY_INFO!W147))","v":0},{"$f":"IF(INTRO!$E$39<>\"Non-endemic\",COUNTRY_INFO!X147,\"Not required\")","v":0},{"$f":"IF(COUNTRY_INFO!H147=1, IF($E147=1,IF(ALB_MBD!$G147<>\" \",COUNTRY_INFO!F147+COUNTRY_INFO!G147-ALB_MBD!$G147,COUNTRY_INFO!F147+COUNTRY_INFO!G147), 0),0)","v":0},{"$f":"IF(INTRO!$E$39<>\"Endemic\",0, IF(AND(COUNTRY_INFO!$I147=1,$F147<>0),IF(COUNTRY_INFO!N147>=(COUNTRY_INFO!F147+COUNTRY_INFO!G147),COUNTRY_INFO!F147+COUNTRY_INFO!G147,COUNTRY_INFO!$N147), 0))","v":0},0,0,0,0,null,0]
[{"$f":"IF(INTRO!$E$39=\"Non-endemic\",\" \",IF(COUNTRY_INFO!A148=0,\" \",COUNTRY_INFO!A148))","v":"Angola"},{"$f":"IF(INTRO!$E$39=\"Non-endemic\",\" \",IF(COUNTRY_INFO!B148=0,\" \",COUNTRY_INFO!B148))","v":"NAMIBE"},{"$f":"IF(INTRO!$E$39=\"Non-endemic\",\" \",IF(COUNTRY_INFO!C148=0,\" \",COUNTRY_INFO!C148))","v":"CAMUCUIO"},{"$f":"IF(INTRO!$E$39=\"Non-endemic\",0,IF(INTRO!$E$39=\"Endemic but PC is not required\",IF(COUNTRY_INFO!$H148=1,COUNTRY_INFO!F148+COUNTRY_INFO!G148,0),IF(COUNTRY_INFO!$H148=1,COUNTRY_INFO!F148+COUNTRY_INFO!G148,IF(COUNTRY_INFO!$I148=1,IF(COUNTRY_INFO!N148>=(COUNTRY_INFO!F148+COUNTRY_INFO!G148),COUNTRY_INFO!F148+COUNTRY_INFO!G148,COUNTRY_INFO!$N148),0))))","v":0},{"$f":"IF(AND(INTRO!$E$39=\"Non-endemic\",INTRO!$E$37=\"Non-endemic\"),\"Not required\",IF(INTRO!$E$39=\"Non-endemic\",\"Treat with DEC\",COUNTRY_INFO!W148))","v":0},{"$f":"IF(INTRO!$E$39<>\"Non-endemic\",COUNTRY_INFO!X148,\"Not required\")","v":0},{"$f":"IF(COUNTRY_INFO!H148=1, IF($E148=1,IF(ALB_MBD!$G148<>\" \",COUNTRY_INFO!F148+COUNTRY_INFO!G148-ALB_MBD!$G148,COUNTRY_INFO!F148+COUNTRY_INFO!G148), 0),0)","v":0},{"$f":"IF(INTRO!$E$39<>\"Endemic\",0, IF(AND(COUNTRY_INFO!$I148=1,$F148<>0),IF(COUNTRY_INFO!N148>=(COUNTRY_INFO!F148+COUNTRY_INFO!G148),COUNTRY_INFO!F148+COUNTRY_INFO!G148,COUNTRY_INFO!$N148), 0))","v":0},0,0,0,0,null,0]
[{"$f":"IF(INTRO!$E$39=\"Non-endemic\",\" \",IF(COUNTRY_INFO!A149=0,\" \",COUNTRY_INFO!A149))","v":"Angola"},{"$f":"IF(INTRO!$E$39=\"Non-endemic\",\" \",IF(COUNTRY_INFO!B149=0,\" \",COUNTRY_INFO!B149))","v":"NAMIBE"},{"$f":"IF(INTRO!$E$39=\"Non-endemic\",\" \",IF(COUNTRY_INFO!C149=0,\" \",COUNTRY_INFO!C149))","v":"MOÇAMEDES"},{"$f":"IF(INTRO!$E$39=\"Non-endemic\",0,IF(INTRO!$E$39=\"Endemic but PC is not required\",IF(COUNTRY_INFO!$H149=1,COUNTRY_INFO!F149+COUNTRY_INFO!G149,0),IF(COUNTRY_INFO!$H149=1,COUNTRY_INFO!F149+COUNTRY_INFO!G149,IF(COUNTRY_INFO!$I149=1,IF(COUNTRY_INFO!N149>=(COUNTRY_INFO!F149+COUNTRY_INFO!G149),COUNTRY_INFO!F149+COUNTRY_INFO!G149,COUNTRY_INFO!$N149),0))))","v":0},{"$f":"IF(AND(INTRO!$E$39=\"Non-endemic\",INTRO!$E$37=\"Non-endemic\"),\"Not required\",IF(INTRO!$E$39=\"Non-endemic\",\"Treat with DEC\",COUNTRY_INFO!W149))","v":0},{"$f":"IF(INTRO!$E$39<>\"Non-endemic\",COUNTRY_INFO!X149,\"Not required\")","v":0},{"$f":"IF(COUNTRY_INFO!H149=1, IF($E149=1,IF(ALB_MBD!$G149<>\" \",COUNTRY_INFO!F149+COUNTRY_INFO!G149-ALB_MBD!$G149,COUNTRY_INFO!F149+COUNTRY_INFO!G149), 0),0)","v":0},{"$f":"IF(INTRO!$E$39<>\"Endemic\",0, IF(AND(COUNTRY_INFO!$I149=1,$F149<>0),IF(COUNTRY_INFO!N149>=(COUNTRY_INFO!F149+COUNTRY_INFO!G149),COUNTRY_INFO!F149+COUNTRY_INFO!G149,COUNTRY_INFO!$N149), 0))","v":0},0,0,0,0,null,0]
[{"$f":"IF(INTRO!$E$39=\"Non-endemic\",\" \",IF(COUNTRY_INFO!A150=0,\" \",COUNTRY_INFO!A150))","v":"Angola"},{"$f":"IF(INTRO!$E$39=\"Non-endemic\",\" \",IF(COUNTRY_INFO!B150=0,\" \",COUNTRY_INFO!B150))","v":"NAMIBE"},{"$f":"IF(INTRO!$E$39=\"Non-endemic\",\" \",IF(COUNTRY_INFO!C150=0,\" \",COUNTRY_INFO!C150))","v":"TOMBWA"},{"$f":"IF(INTRO!$E$39=\"Non-endemic\",0,IF(INTRO!$E$39=\"Endemic but PC is not required\",IF(COUNTRY_INFO!$H150=1,COUNTRY_INFO!F150+COUNTRY_INFO!G150,0),IF(COUNTRY_INFO!$H150=1,COUNTRY_INFO!F150+COUNTRY_INFO!G150,IF(COUNTRY_INFO!$I150=1,IF(COUNTRY_INFO!N150>=(COUNTRY_INFO!F150+COUNTRY_INFO!G150),COUNTRY_INFO!F150+COUNTRY_INFO!G150,COUNTRY_INFO!$N150),0))))","v":0},{"$f":"IF(AND(INTRO!$E$39=\"Non-endemic\",INTRO!$E$37=\"Non-endemic\"),\"Not required\",IF(INTRO!$E$39=\"Non-endemic\",\"Treat with DEC\",COUNTRY_INFO!W150))","v":0},{"$f":"IF(INTRO!$E$39<>\"Non-endemic\",COUNTRY_INFO!X150,\"Not required\")","v":0},{"$f":"IF(COUNTRY_INFO!H150=1, IF($E150=1,IF(ALB_MBD!$G150<>\" \",COUNTRY_INFO!F150+COUNTRY_INFO!G150-ALB_MBD!$G150,COUNTRY_INFO!F150+COUNTRY_INFO!G150), 0),0)","v":0},{"$f":"IF(INTRO!$E$39<>\"Endemic\",0, IF(AND(COUNTRY_INFO!$I150=1,$F150<>0),IF(COUNTRY_INFO!N150>=(COUNTRY_INFO!F150+COUNTRY_INFO!G150),COUNTRY_INFO!F150+COUNTRY_INFO!G150,COUNTRY_INFO!$N150), 0))","v":0},0,0,0,0,null,0]
[{"$f":"IF(INTRO!$E$39=\"Non-endemic\",\" \",IF(COUNTRY_INFO!A151=0,\" \",COUNTRY_INFO!A151))","v":"Angola"},{"$f":"IF(INTRO!$E$39=\"Non-endemic\",\" \",IF(COUNTRY_INFO!B151=0,\" \",COUNTRY_INFO!B151))","v":"NAMIBE"},{"$f":"IF(INTRO!$E$39=\"Non-endemic\",\" \",IF(COUNTRY_INFO!C151=0,\" \",COUNTRY_INFO!C151))","v":"VIREI"},{"$f":"IF(INTRO!$E$39=\"Non-endemic\",0,IF(INTRO!$E$39=\"Endemic but PC is not required\",IF(COUNTRY_INFO!$H151=1,COUNTRY_INFO!F151+COUNTRY_INFO!G151,0),IF(COUNTRY_INFO!$H151=1,COUNTRY_INFO!F151+COUNTRY_INFO!G151,IF(COUNTRY_INFO!$I151=1,IF(COUNTRY_INFO!N151>=(COUNTRY_INFO!F151+COUNTRY_INFO!G151),COUNTRY_INFO!F151+COUNTRY_INFO!G151,COUNTRY_INFO!$N151),0))))","v":0},{"$f":"IF(AND(INTRO!$E$39=\"Non-endemic\",INTRO!$E$37=\"Non-endemic\"),\"Not required\",IF(INTRO!$E$39=\"Non-endemic\",\"Treat with DEC\",COUNTRY_INFO!W151))","v":0},{"$f":"IF(INTRO!$E$39<>\"Non-endemic\",COUNTRY_INFO!X151,\"Not required\")","v":0},{"$f":"IF(COUNTRY_INFO!H151=1, IF($E151=1,IF(ALB_MBD!$G151<>\" \",COUNTRY_INFO!F151+COUNTRY_INFO!G151-ALB_MBD!$G151,COUNTRY_INFO!F151+COUNTRY_INFO!G151), 0),0)","v":0},{"$f":"IF(INTRO!$E$39<>\"Endemic\",0, IF(AND(COUNTRY_INFO!$I151=1,$F151<>0),IF(COUNTRY_INFO!N151>=(COUNTRY_INFO!F151+COUNTRY_INFO!G151),COUNTRY_INFO!F151+COUNTRY_INFO!G151,COUNTRY_INFO!$N151), 0))","v":0},0,0,0,0,null,0]
[{"$f":"IF(INTRO!$E$39=\"Non-endemic\",\" \",IF(COUNTRY_INFO!A152=0,\" \",COUNTRY_INFO!A152))","v":"Angola"},{"$f":"IF(INTRO!$E$39=\"Non-endemic\",\" \",IF(COUNTRY_INFO!B152=0,\" \",COUNTRY_INFO!B152))","v":"UIGE"},{"$f":"IF(INTRO!$E$39=\"Non-endemic\",\" \",IF(COUNTRY_INFO!C152=0,\" \",COUNTRY_INFO!C152))","v":"AMBUILA"},{"$f":"IF(INTRO!$E$39=\"Non-endemic\",0,IF(INTRO!$E$39=\"Endemic but PC is not required\",IF(COUNTRY_INFO!$H152=1,COUNTRY_INFO!F152+COUNTRY_INFO!G152,0),IF(COUNTRY_INFO!$H152=1,COUNTRY_INFO!F152+COUNTRY_INFO!G152,IF(COUNTRY_INFO!$I152=1,IF(COUNTRY_INFO!N152>=(COUNTRY_INFO!F152+COUNTRY_INFO!G152),COUNTRY_INFO!F152+COUNTRY_INFO!G152,COUNTRY_INFO!$N152),0))))","v":19314},{"$f":"IF(AND(INTRO!$E$39=\"Non-endemic\",INTRO!$E$37=\"Non-endemic\"),\"Not required\",IF(INTRO!$E$39=\"Non-endemic\",\"Treat with DEC\",COUNTRY_INFO!W152))","v":1},{"$f":"IF(INTRO!$E$39<>\"Non-endemic\",COUNTRY_INFO!X152,\"Not required\")","v":0},{"$f":"IF(COUNTRY_INFO!H152=1, IF($E152=1,IF(ALB_MBD!$G152<>\" \",COUNTRY_INFO!F152+COUNTRY_INFO!G152-ALB_MBD!$G152,COUNTRY_INFO!F152+COUNTRY_INFO!G152), 0),0)","v":19314},{"$f":"IF(INTRO!$E$39<>\"Endemic\",0, IF(AND(COUNTRY_INFO!$I152=1,$F152<>0),IF(COUNTRY_INFO!N152>=(COUNTRY_INFO!F152+COUNTRY_INFO!G152),COUNTRY_INFO!F152+COUNTRY_INFO!G152,COUNTRY_INFO!$N152), 0))","v":0},54079.199999999997,0,0,54079.199999999997,null,54079.199999999997]
[{"$f":"IF(INTRO!$E$39=\"Non-endemic\",\" \",IF(COUNTRY_INFO!A153=0,\" \",COUNTRY_INFO!A153))","v":"Angola"},{"$f":"IF(INTRO!$E$39=\"Non-endemic\",\" \",IF(COUNTRY_INFO!B153=0,\" \",COUNTRY_INFO!B153))","v":"UIGE"},{"$f":"IF(INTRO!$E$39=\"Non-endemic\",\" \",IF(COUNTRY_INFO!C153=0,\" \",COUNTRY_INFO!C153))","v":"BEMBE"},{"$f":"IF(INTRO!$E$39=\"Non-endemic\",0,IF(INTRO!$E$39=\"Endemic but PC is not required\",IF(COUNTRY_INFO!$H153=1,COUNTRY_INFO!F153+COUNTRY_INFO!G153,0),IF(COUNTRY_INFO!$H153=1,COUNTRY_INFO!F153+COUNTRY_INFO!G153,IF(COUNTRY_INFO!$I153=1,IF(COUNTRY_INFO!N153>=(COUNTRY_INFO!F153+COUNTRY_INFO!G153),COUNTRY_INFO!F153+COUNTRY_INFO!G153,COUNTRY_INFO!$N153),0))))","v":0},{"$f":"IF(AND(INTRO!$E$39=\"Non-endemic\",INTRO!$E$37=\"Non-endemic\"),\"Not required\",IF(INTRO!$E$39=\"Non-endemic\",\"Treat with DEC\",COUNTRY_INFO!W153))","v":0},{"$f":"IF(INTRO!$E$39<>\"Non-endemic\",COUNTRY_INFO!X153,\"Not required\")","v":0},{"$f":"IF(COUNTRY_INFO!H153=1, IF($E153=1,IF(ALB_MBD!$G153<>\" \",COUNTRY_INFO!F153+COUNTRY_INFO!G153-ALB_MBD!$G153,COUNTRY_INFO!F153+COUNTRY_INFO!G153), 0),0)","v":0},{"$f":"IF(INTRO!$E$39<>\"Endemic\",0, IF(AND(COUNTRY_INFO!$I153=1,$F153<>0),IF(COUNTRY_INFO!N153>=(COUNTRY_INFO!F153+COUNTRY_INFO!G153),COUNTRY_INFO!F153+COUNTRY_INFO!G153,COUNTRY_INFO!$N153), 0))","v":0},0,0,0,0,null,0]
[{"$f":"IF(INTRO!$E$39=\"Non-endemic\",\" \",IF(COUNTRY_INFO!A154=0,\" \",COUNTRY_INFO!A154))","v":"Angola"},{"$f":"IF(INTRO!$E$39=\"Non-endemic\",\" \",IF(COUNTRY_INFO!B154=0,\" \",COUNTRY_INFO!B154))","v":"UIGE"},{"$f":"IF(INTRO!$E$39=\"Non-endemic\",\" \",IF(COUNTRY_INFO!C154=0,\" \",COUNTRY_INFO!C154))","v":"BUENGAS"},{"$f":"IF(INTRO!$E$39=\"Non-endemic\",0,IF(INTRO!$E$39=\"Endemic but PC is not required\",IF(COUNTRY_INFO!$H154=1,COUNTRY_INFO!F154+COUNTRY_INFO!G154,0),IF(COUNTRY_INFO!$H154=1,COUNTRY_INFO!F154+COUNTRY_INFO!G154,IF(COUNTRY_INFO!$I154=1,IF(COUNTRY_INFO!N154>=(COUNTRY_INFO!F154+COUNTRY_INFO!G154),COUNTRY_INFO!F154+COUNTRY_INFO!G154,COUNTRY_INFO!$N154),0))))","v":0},{"$f":"IF(AND(INTRO!$E$39=\"Non-endemic\",INTRO!$E$37=\"Non-endemic\"),\"Not required\",IF(INTRO!$E$39=\"Non-endemic\",\"Treat with DEC\",COUNTRY_INFO!W154))","v":0},{"$f":"IF(INTRO!$E$39<>\"Non-endemic\",COUNTRY_INFO!X154,\"Not required\")","v":0},{"$f":"IF(COUNTRY_INFO!H154=1, IF($E154=1,IF(ALB_MBD!$G154<>\" \",COUNTRY_INFO!F154+COUNTRY_INFO!G154-ALB_MBD!$G154,COUNTRY_INFO!F154+COUNTRY_INFO!G154), 0),0)","v":0},{"$f":"IF(INTRO!$E$39<>\"Endemic\",0, IF(AND(COUNTRY_INFO!$I154=1,$F154<>0),IF(COUNTRY_INFO!N154>=(COUNTRY_INFO!F154+COUNTRY_INFO!G154),COUNTRY_INFO!F154+COUNTRY_INFO!G154,COUNTRY_INFO!$N154), 0))","v":0},0,0,0,0,null,0]
[{"$f":"IF(INTRO!$E$39=\"Non-endemic\",\" \",IF(COUNTRY_INFO!A155=0,\" \",COUNTRY_INFO!A155))","v":"Angola"},{"$f":"IF(INTRO!$E$39=\"Non-endemic\",\" \",IF(COUNTRY_INFO!B155=0,\" \",COUNTRY_INFO!B155))","v":"UIGE"},{"$f":"IF(INTRO!$E$39=\"Non-endemic\",\" \",IF(COUNTRY_INFO!C155=0,\" \",COUNTRY_INFO!C155))","v":"BUNGO"},{"$f":"IF(INTRO!$E$39=\"Non-endemic\",0,IF(INTRO!$E$39=\"Endemic but PC is not required\",IF(COUNTRY_INFO!$H155=1,COUNTRY_INFO!F155+COUNTRY_INFO!G155,0),IF(COUNTRY_INFO!$H155=1,COUNTRY_INFO!F155+COUNTRY_INFO!G155,IF(COUNTRY_INFO!$I155=1,IF(COUNTRY_INFO!N155>=(COUNTRY_INFO!F155+COUNTRY_INFO!G155),COUNTRY_INFO!F155+COUNTRY_INFO!G155,COUNTRY_INFO!$N155),0))))","v":39606},{"$f":"IF(AND(INTRO!$E$39=\"Non-endemic\",INTRO!$E$37=\"Non-endemic\"),\"Not required\",IF(INTRO!$E$39=\"Non-endemic\",\"Treat with DEC\",COUNTRY_INFO!W155))","v":0},{"$f":"IF(INTRO!$E$39<>\"Non-endemic\",COUNTRY_INFO!X155,\"Not required\")","v":1},{"$f":"IF(COUNTRY_INFO!H155=1, IF($E155=1,IF(ALB_MBD!$G155<>\" \",COUNTRY_INFO!F155+COUNTRY_INFO!G155-ALB_MBD!$G155,COUNTRY_INFO!F155+COUNTRY_INFO!G155), 0),0)","v":0},{"$f":"IF(INTRO!$E$39<>\"Endemic\",0, IF(AND(COUNTRY_INFO!$I155=1,$F155<>0),IF(COUNTRY_INFO!N155>=(COUNTRY_INFO!F155+COUNTRY_INFO!G155),COUNTRY_INFO!F155+COUNTRY_INFO!G155,COUNTRY_INFO!$N155), 0))","v":39606},0,110896.79999999999,0,110896.79999999999,null,110896.79999999999]
[{"$f":"IF(INTRO!$E$39=\"Non-endemic\",\" \",IF(COUNTRY_INFO!A156=0,\" \",COUNTRY_INFO!A156))","v":"Angola"},{"$f":"IF(INTRO!$E$39=\"Non-endemic\",\" \",IF(COUNTRY_INFO!B156=0,\" \",COUNTRY_INFO!B156))","v":"UIGE"},{"$f":"IF(INTRO!$E$39=\"Non-endemic\",\" \",IF(COUNTRY_INFO!C156=0,\" \",COUNTRY_INFO!C156))","v":"CANGOLA"},{"$f":"IF(INTRO!$E$39=\"Non-endemic\",0,IF(INTRO!$E$39=\"Endemic but PC is not required\",IF(COUNTRY_INFO!$H156=1,COUNTRY_INFO!F156+COUNTRY_INFO!G156,0),IF(COUNTRY_INFO!$H156=1,COUNTRY_INFO!F156+COUNTRY_INFO!G156,IF(COUNTRY_INFO!$I156=1,IF(COUNTRY_INFO!N156>=(COUNTRY_INFO!F156+COUNTRY_INFO!G156),COUNTRY_INFO!F156+COUNTRY_INFO!G156,COUNTRY_INFO!$N156),0))))","v":0},{"$f":"IF(AND(INTRO!$E$39=\"Non-endemic\",INTRO!$E$37=\"Non-endemic\"),\"Not required\",IF(INTRO!$E$39=\"Non-endemic\",\"Treat with DEC\",COUNTRY_INFO!W156))","v":0},{"$f":"IF(INTRO!$E$39<>\"Non-endemic\",COUNTRY_INFO!X156,\"Not required\")","v":0},{"$f":"IF(COUNTRY_INFO!H156=1, IF($E156=1,IF(ALB_MBD!$G156<>\" \",COUNTRY_INFO!F156+COUNTRY_INFO!G156-ALB_MBD!$G156,COUNTRY_INFO!F156+COUNTRY_INFO!G156), 0),0)","v":0},{"$f":"IF(INTRO!$E$39<>\"Endemic\",0, IF(AND(COUNTRY_INFO!$I156=1,$F156<>0),IF(COUNTRY_INFO!N156>=(COUNTRY_INFO!F156+COUNTRY_INFO!G156),COUNTRY_INFO!F156+COUNTRY_INFO!G156,COUNTRY_INFO!$N156), 0))","v":0},0,0,0,0,null,0]
[{"$f":"IF(INTRO!$E$39=\"Non-endemic\",\" \",IF(COUNTRY_INFO!A157=0,\" \",COUNTRY_INFO!A157))","v":"Angola"},{"$f":"IF(INTRO!$E$39=\"Non-endemic\",\" \",IF(COUNTRY_INFO!B157=0,\" \",COUNTRY_INFO!B157))","v":"UIGE"},{"$f":"IF(INTRO!$E$39=\"Non-endemic\",\" \",IF(COUNTRY_INFO!C157=0,\" \",COUNTRY_INFO!C157))","v":"DAMBA"},{"$f":"IF(INTRO!$E$39=\"Non-endemic\",0,IF(INTRO!$E$39=\"Endemic but PC is not required\",IF(COUNTRY_INFO!$H157=1,COUNTRY_INFO!F157+COUNTRY_INFO!G157,0),IF(COUNTRY_INFO!$H157=1,COUNTRY_INFO!F157+COUNTRY_INFO!G157,IF(COUNTRY_INFO!$I157=1,IF(COUNTRY_INFO!N157>=(COUNTRY_INFO!F157+COUNTRY_INFO!G157),COUNTRY_INFO!F157+COUNTRY_INFO!G157,COUNTRY_INFO!$N157),0))))","v":0},{"$f":"IF(AND(INTRO!$E$39=\"Non-endemic\",INTRO!$E$37=\"Non-endemic\"),\"Not required\",IF(INTRO!$E$39=\"Non-endemic\",\"Treat with DEC\",COUNTRY_INFO!W157))","v":0},{"$f":"IF(INTRO!$E$39<>\"Non-endemic\",COUNTRY_INFO!X157,\"Not required\")","v":0},{"$f":"IF(COUNTRY_INFO!H157=1, IF($E157=1,IF(ALB_MBD!$G157<>\" \",COUNTRY_INFO!F157+COUNTRY_INFO!G157-ALB_MBD!$G157,COUNTRY_INFO!F157+COUNTRY_INFO!G157), 0),0)","v":0},{"$f":"IF(INTRO!$E$39<>\"Endemic\",0, IF(AND(COUNTRY_INFO!$I157=1,$F157<>0),IF(COUNTRY_INFO!N157>=(COUNTRY_INFO!F157+COUNTRY_INFO!G157),COUNTRY_INFO!F157+COUNTRY_INFO!G157,COUNTRY_INFO!$N157), 0))","v":0},0,0,0,0,null,0]
[{"$f":"IF(INTRO!$E$39=\"Non-endemic\",\" \",IF(COUNTRY_INFO!A158=0,\" \",COUNTRY_INFO!A158))","v":"Angola"},{"$f":"IF(INTRO!$E$39=\"Non-endemic\",\" \",IF(COUNTRY_INFO!B158=0,\" \",COUNTRY_INFO!B158))","v":"UIGE"},{"$f":"IF(INTRO!$E$39=\"Non-endemic\",\" \",IF(COUNTRY_INFO!C158=0,\" \",COUNTRY_INFO!C158))","v":"MAQUELA DO ZOMBO"},{"$f":"IF(INTRO!$E$39=\"Non-endemic\",0,IF(INTRO!$E$39=\"Endemic but PC is not required\",IF(COUNTRY_INFO!$H158=1,COUNTRY_INFO!F158+COUNTRY_INFO!G158,0),IF(COUNTRY_INFO!$H158=1,COUNTRY_INFO!F158+COUNTRY_INFO!G158,IF(COUNTRY_INFO!$I158=1,IF(COUNTRY_INFO!N158>=(COUNTRY_INFO!F158+COUNTRY_INFO!G158),COUNTRY_INFO!F158+COUNTRY_INFO!G158,COUNTRY_INFO!$N158),0))))","v":0},{"$f":"IF(AND(INTRO!$E$39=\"Non-endemic\",INTRO!$E$37=\"Non-endemic\"),\"Not required\",IF(INTRO!$E$39=\"Non-endemic\",\"Treat with DEC\",COUNTRY_INFO!W158))","v":0},{"$f":"IF(INTRO!$E$39<>\"Non-endemic\",COUNTRY_INFO!X158,\"Not required\")","v":0},{"$f":"IF(COUNTRY_INFO!H158=1, IF($E158=1,IF(ALB_MBD!$G158<>\" \",COUNTRY_INFO!F158+COUNTRY_INFO!G158-ALB_MBD!$G158,COUNTRY_INFO!F158+COUNTRY_INFO!G158), 0),0)","v":0},{"$f":"IF(INTRO!$E$39<>\"Endemic\",0, IF(AND(COUNTRY_INFO!$I158=1,$F158<>0),IF(COUNTRY_INFO!N158>=(COUNTRY_INFO!F158+COUNTRY_INFO!G158),COUNTRY_INFO!F158+COUNTRY_INFO!G158,COUNTRY_INFO!$N158), 0))","v":0},0,0,0,0,null,0]
[{"$f":"IF(INTRO!$E$39=\"Non-endemic\",\" \",IF(COUNTRY_INFO!A159=0,\" \",COUNTRY_INFO!A159))","v":"Angola"},{"$f":"IF(INTRO!$E$39=\"Non-endemic\",\" \",IF(COUNTRY_INFO!B159=0,\" \",COUNTRY_INFO!B159))","v":"UIGE"},{"$f":"IF(INTRO!$E$39=\"Non-endemic\",\" \",IF(COUNTRY_INFO!C159=0,\" \",COUNTRY_INFO!C159))","v":"MILUNGA"},{"$f":"IF(INTRO!$E$39=\"Non-endemic\",0,IF(INTRO!$E$39=\"Endemic but PC is not required\",IF(COUNTRY_INFO!$H159=1,COUNTRY_INFO!F159+COUNTRY_INFO!G159,0),IF(COUNTRY_INFO!$H159=1,COUNTRY_INFO!F159+COUNTRY_INFO!G159,IF(COUNTRY_INFO!$I159=1,IF(COUNTRY_INFO!N159>=(COUNTRY_INFO!F159+COUNTRY_INFO!G159),COUNTRY_INFO!F159+COUNTRY_INFO!G159,COUNTRY_INFO!$N159),0))))","v":0},{"$f":"IF(AND(INTRO!$E$39=\"Non-endemic\",INTRO!$E$37=\"Non-endemic\"),\"Not required\",IF(INTRO!$E$39=\"Non-endemic\",\"Treat with DEC\",COUNTRY_INFO!W159))","v":0},{"$f":"IF(INTRO!$E$39<>\"Non-endemic\",COUNTRY_INFO!X159,\"Not required\")","v":0},{"$f":"IF(COUNTRY_INFO!H159=1, IF($E159=1,IF(ALB_MBD!$G159<>\" \",COUNTRY_INFO!F159+COUNTRY_INFO!G159-ALB_MBD!$G159,COUNTRY_INFO!F159+COUNTRY_INFO!G159), 0),0)","v":0},{"$f":"IF(INTRO!$E$39<>\"Endemic\",0, IF(AND(COUNTRY_INFO!$I159=1,$F159<>0),IF(COUNTRY_INFO!N159>=(COUNTRY_INFO!F159+COUNTRY_INFO!G159),COUNTRY_INFO!F159+COUNTRY_INFO!G159,COUNTRY_INFO!$N159), 0))","v":0},0,0,0,0,null,0]
[{"$f":"IF(INTRO!$E$39=\"Non-endemic\",\" \",IF(COUNTRY_INFO!A160=0,\" \",COUNTRY_INFO!A160))","v":"Angola"},{"$f":"IF(INTRO!$E$39=\"Non-endemic\",\" \",IF(COUNTRY_INFO!B160=0,\" \",COUNTRY_INFO!B160))","v":"UIGE"},{"$f":"IF(INTRO!$E$39=\"Non-endemic\",\" \",IF(COUNTRY_INFO!C160=0,\" \",COUNTRY_INFO!C160))","v":"MUCABA"},{"$f":"IF(INTRO!$E$39=\"Non-endemic\",0,IF(INTRO!$E$39=\"Endemic but PC is not required\",IF(COUNTRY_INFO!$H160=1,COUNTRY_INFO!F160+COUNTRY_INFO!G160,0),IF(COUNTRY_INFO!$H160=1,COUNTRY_INFO!F160+COUNTRY_INFO!G160,IF(COUNTRY_INFO!$I160=1,IF(COUNTRY_INFO!N160>=(COUNTRY_INFO!F160+COUNTRY_INFO!G160),COUNTRY_INFO!F160+COUNTRY_INFO!G160,COUNTRY_INFO!$N160),0))))","v":0},{"$f":"IF(AND(INTRO!$E$39=\"Non-endemic\",INTRO!$E$37=\"Non-endemic\"),\"Not required\",IF(INTRO!$E$39=\"Non-endemic\",\"Treat with DEC\",COUNTRY_INFO!W160))","v":0},{"$f":"IF(INTRO!$E$39<>\"Non-endemic\",COUNTRY_INFO!X160,\"Not required\")","v":0},{"$f":"IF(COUNTRY_INFO!H160=1, IF($E160=1,IF(ALB_MBD!$G160<>\" \",COUNTRY_INFO!F160+COUNTRY_INFO!G160-ALB_MBD!$G160,COUNTRY_INFO!F160+COUNTRY_INFO!G160), 0),0)","v":0},{"$f":"IF(INTRO!$E$39<>\"Endemic\",0, IF(AND(COUNTRY_INFO!$I160=1,$F160<>0),IF(COUNTRY_INFO!N160>=(COUNTRY_INFO!F160+COUNTRY_INFO!G160),COUNTRY_INFO!F160+COUNTRY_INFO!G160,COUNTRY_INFO!$N160), 0))","v":0},0,0,0,0,null,0]
[{"$f":"IF(INTRO!$E$39=\"Non-endemic\",\" \",IF(COUNTRY_INFO!A161=0,\" \",COUNTRY_INFO!A161))","v":"Angola"},{"$f":"IF(INTRO!$E$39=\"Non-endemic\",\" \",IF(COUNTRY_INFO!B161=0,\" \",COUNTRY_INFO!B161))","v":"UIGE"},{"$f":"IF(INTRO!$E$39=\"Non-endemic\",\" \",IF(COUNTRY_INFO!C161=0,\" \",COUNTRY_INFO!C161))","v":"NEGAGE"},{"$f":"IF(INTRO!$E$39=\"Non-endemic\",0,IF(INTRO!$E$39=\"Endemic but PC is not required\",IF(COUNTRY_INFO!$H161=1,COUNTRY_INFO!F161+COUNTRY_INFO!G161,0),IF(COUNTRY_INFO!$H161=1,COUNTRY_INFO!F161+COUNTRY_INFO!G161,IF(COUNTRY_INFO!$I161=1,IF(COUNTRY_INFO!N161>=(COUNTRY_INFO!F161+COUNTRY_INFO!G161),COUNTRY_INFO!F161+COUNTRY_INFO!G161,COUNTRY_INFO!$N161),0))))","v":146639},{"$f":"IF(AND(INTRO!$E$39=\"Non-endemic\",INTRO!$E$37=\"Non-endemic\"),\"Not required\",IF(INTRO!$E$39=\"Non-endemic\",\"Treat with DEC\",COUNTRY_INFO!W161))","v":0},{"$f":"IF(INTRO!$E$39<>\"Non-endemic\",COUNTRY_INFO!X161,\"Not required\")","v":1},{"$f":"IF(COUNTRY_INFO!H161=1, IF($E161=1,IF(ALB_MBD!$G161<>\" \",COUNTRY_INFO!F161+COUNTRY_INFO!G161-ALB_MBD!$G161,COUNTRY_INFO!F161+COUNTRY_INFO!G161), 0),0)","v":0},{"$f":"IF(INTRO!$E$39<>\"Endemic\",0, IF(AND(COUNTRY_INFO!$I161=1,$F161<>0),IF(COUNTRY_INFO!N161>=(COUNTRY_INFO!F161+COUNTRY_INFO!G161),COUNTRY_INFO!F161+COUNTRY_INFO!G161,COUNTRY_INFO!$N161), 0))","v":146639},0,410589.19999999995,0,410589.19999999995,null,410589.19999999995]
[{"$f":"IF(INTRO!$E$39=\"Non-endemic\",\" \",IF(COUNTRY_INFO!A162=0,\" \",COUNTRY_INFO!A162))","v":"Angola"},{"$f":"IF(INTRO!$E$39=\"Non-endemic\",\" \",IF(COUNTRY_INFO!B162=0,\" \",COUNTRY_INFO!B162))","v":"UIGE"},{"$f":"IF(INTRO!$E$39=\"Non-endemic\",\" \",IF(COUNTRY_INFO!C162=0,\" \",COUNTRY_INFO!C162))","v":"PURI"},{"$f":"IF(INTRO!$E$39=\"Non-endemic\",0,IF(INTRO!$E$39=\"Endemic but PC is not required\",IF(COUNTRY_INFO!$H162=1,COUNTRY_INFO!F162+COUNTRY_INFO!G162,0),IF(COUNTRY_INFO!$H162=1,COUNTRY_INFO!F162+COUNTRY_INFO!G162,IF(COUNTRY_INFO!$I162=1,IF(COUNTRY_INFO!N162>=(COUNTRY_INFO!F162+COUNTRY_INFO!G162),COUNTRY_INFO!F162+COUNTRY_INFO!G162,COUNTRY_INFO!$N162),0))))","v":40413},{"$f":"IF(AND(INTRO!$E$39=\"Non-endemic\",INTRO!$E$37=\"Non-endemic\"),\"Not required\",IF(INTRO!$E$39=\"Non-endemic\",\"Treat with DEC\",COUNTRY_INFO!W162))","v":1},{"$f":"IF(INTRO!$E$39<>\"Non-endemic\",COUNTRY_INFO!X162,\"Not required\")","v":1},{"$f":"IF(COUNTRY_INFO!H162=1, IF($E162=1,IF(ALB_MBD!$G162<>\" \",COUNTRY_INFO!F162+COUNTRY_INFO!G162-ALB_MBD!$G162,COUNTRY_INFO!F162+COUNTRY_INFO!G162), 0),0)","v":40413},{"$f":"IF(INTRO!$E$39<>\"Endemic\",0, IF(AND(COUNTRY_INFO!$I162=1,$F162<>0),IF(COUNTRY_INFO!N162>=(COUNTRY_INFO!F162+COUNTRY_INFO!G162),COUNTRY_INFO!F162+COUNTRY_INFO!G162,COUNTRY_INFO!$N162), 0))","v":40413},0,0,113156.4,113156.4,null,113156.4]
[{"$f":"IF(INTRO!$E$39=\"Non-endemic\",\" \",IF(COUNTRY_INFO!A163=0,\" \",COUNTRY_INFO!A163))","v":"Angola"},{"$f":"IF(INTRO!$E$39=\"Non-endemic\",\" \",IF(COUNTRY_INFO!B163=0,\" \",COUNTRY_INFO!B163))","v":"UIGE"},{"$f":"IF(INTRO!$E$39=\"Non-endemic\",\" \",IF(COUNTRY_INFO!C163=0,\" \",COUNTRY_INFO!C163))","v":"QUIMBELE"},{"$f":"IF(INTRO!$E$39=\"Non-endemic\",0,IF(INTRO!$E$39=\"Endemic but PC is not required\",IF(COUNTRY_INFO!$H163=1,COUNTRY_INFO!F163+COUNTRY_INFO!G163,0),IF(COUNTRY_INFO!$H163=1,COUNTRY_INFO!F163+COUNTRY_INFO!G163,IF(COUNTRY_INFO!$I163=1,IF(COUNTRY_INFO!N163>=(COUNTRY_INFO!F163+COUNTRY_INFO!G163),COUNTRY_INFO!F163+COUNTRY_INFO!G163,COUNTRY_INFO!$N163),0))))","v":0},{"$f":"IF(AND(INTRO!$E$39=\"Non-endemic\",INTRO!$E$37=\"Non-endemic\"),\"Not required\",IF(INTRO!$E$39=\"Non-endemic\",\"Treat with DEC\",COUNTRY_INFO!W163))","v":0},{"$f":"IF(INTRO!$E$39<>\"Non-endemic\",COUNTRY_INFO!X163,\"Not required\")","v":0},{"$f":"IF(COUNTRY_INFO!H163=1, IF($E163=1,IF(ALB_MBD!$G163<>\" \",COUNTRY_INFO!F163+COUNTRY_INFO!G163-ALB_MBD!$G163,COUNTRY_INFO!F163+COUNTRY_INFO!G163), 0),0)","v":0},{"$f":"IF(INTRO!$E$39<>\"Endemic\",0, IF(AND(COUNTRY_INFO!$I163=1,$F163<>0),IF(COUNTRY_INFO!N163>=(COUNTRY_INFO!F163+COUNTRY_INFO!G163),COUNTRY_INFO!F163+COUNTRY_INFO!G163,COUNTRY_INFO!$N163), 0))","v":0},0,0,0,0,null,0]
[{"$f":"IF(INTRO!$E$39=\"Non-endemic\",\" \",IF(COUNTRY_INFO!A164=0,\" \",COUNTRY_INFO!A164))","v":"Angola"},{"$f":"IF(INTRO!$E$39=\"Non-endemic\",\" \",IF(COUNTRY_INFO!B164=0,\" \",COUNTRY_INFO!B164))","v":"UIGE"},{"$f":"IF(INTRO!$E$39=\"Non-endemic\",\" \",IF(COUNTRY_INFO!C164=0,\" \",COUNTRY_INFO!C164))","v":"QUITEXE"},{"$f":"IF(INTRO!$E$39=\"Non-endemic\",0,IF(INTRO!$E$39=\"Endemic but PC is not required\",IF(COUNTRY_INFO!$H164=1,COUNTRY_INFO!F164+COUNTRY_INFO!G164,0),IF(COUNTRY_INFO!$H164=1,COUNTRY_INFO!F164+COUNTRY_INFO!G164,IF(COUNTRY_INFO!$I164=1,IF(COUNTRY_INFO!N164>=(COUNTRY_INFO!F164+COUNTRY_INFO!G164),COUNTRY_INFO!F164+COUNTRY_INFO!G164,COUNTRY_INFO!$N164),0))))","v":36561},{"$f":"IF(AND(INTRO!$E$39=\"Non-endemic\",INTRO!$E$37=\"Non-endemic\"),\"Not required\",IF(INTRO!$E$39=\"Non-endemic\",\"Treat with DEC\",COUNTRY_INFO!W164))","v":1},{"$f":"IF(INTRO!$E$39<>\"Non-endemic\",COUNTRY_INFO!X164,\"Not required\")","v":1},{"$f":"IF(COUNTRY_INFO!H164=1, IF($E164=1,IF(ALB_MBD!$G164<>\" \",COUNTRY_INFO!F164+COUNTRY_INFO!G164-ALB_MBD!$G164,COUNTRY_INFO!F164+COUNTRY_INFO!G164), 0),0)","v":36561},{"$f":"IF(INTRO!$E$39<>\"Endemic\",0, IF(AND(COUNTRY_INFO!$I164=1,$F164<>0),IF(COUNTRY_INFO!N164>=(COUNTRY_INFO!F164+COUNTRY_INFO!G164),COUNTRY_INFO!F164+COUNTRY_INFO!G164,COUNTRY_INFO!$N164), 0))","v":36561},0,0,102370.79999999999,102370.79999999999,null,102370.79999999999]
[{"$f":"IF(INTRO!$E$39=\"Non-endemic\",\" \",IF(COUNTRY_INFO!A165=0,\" \",COUNTRY_INFO!A165))","v":"Angola"},{"$f":"IF(INTRO!$E$39=\"Non-endemic\",\" \",IF(COUNTRY_INFO!B165=0,\" \",COUNTRY_INFO!B165))","v":"UIGE"},{"$f":"IF(INTRO!$E$39=\"Non-endemic\",\" \",IF(COUNTRY_INFO!C165=0,\" \",COUNTRY_INFO!C165))","v":"SANZA POMBO"},{"$f":"IF(INTRO!$E$39=\"Non-endemic\",0,IF(INTRO!$E$39=\"Endemic but PC is not required\",IF(COUNTRY_INFO!$H165=1,COUNTRY_INFO!F165+COUNTRY_INFO!G165,0),IF(COUNTRY_INFO!$H165=1,COUNTRY_INFO!F165+COUNTRY_INFO!G165,IF(COUNTRY_INFO!$I165=1,IF(COUNTRY_INFO!N165>=(COUNTRY_INFO!F165+COUNTRY_INFO!G165),COUNTRY_INFO!F165+COUNTRY_INFO!G165,COUNTRY_INFO!$N165),0))))","v":0},{"$f":"IF(AND(INTRO!$E$39=\"Non-endemic\",INTRO!$E$37=\"Non-endemic\"),\"Not required\",IF(INTRO!$E$39=\"Non-endemic\",\"Treat with DEC\",COUNTRY_INFO!W165))","v":0},{"$f":"IF(INTRO!$E$39<>\"Non-endemic\",COUNTRY_INFO!X165,\"Not required\")","v":0},{"$f":"IF(COUNTRY_INFO!H165=1, IF($E165=1,IF(ALB_MBD!$G165<>\" \",COUNTRY_INFO!F165+COUNTRY_INFO!G165-ALB_MBD!$G165,COUNTRY_INFO!F165+COUNTRY_INFO!G165), 0),0)","v":0},{"$f":"IF(INTRO!$E$39<>\"Endemic\",0, IF(AND(COUNTRY_INFO!$I165=1,$F165<>0),IF(COUNTRY_INFO!N165>=(COUNTRY_INFO!F165+COUNTRY_INFO!G165),COUNTRY_INFO!F165+COUNTRY_INFO!G165,COUNTRY_INFO!$N165), 0))","v":0},0,0,0,0,null,0]
[{"$f":"IF(INTRO!$E$39=\"Non-endemic\",\" \",IF(COUNTRY_INFO!A166=0,\" \",COUNTRY_INFO!A166))","v":"Angola"},{"$f":"IF(INTRO!$E$39=\"Non-endemic\",\" \",IF(COUNTRY_INFO!B166=0,\" \",COUNTRY_INFO!B166))","v":"UIGE"},{"$f":"IF(INTRO!$E$39=\"Non-endemic\",\" \",IF(COUNTRY_INFO!C166=0,\" \",COUNTRY_INFO!C166))","v":"SONGO"},{"$f":"IF(INTRO!$E$39=\"Non-endemic\",0,IF(INTRO!$E$39=\"Endemic but PC is not required\",IF(COUNTRY_INFO!$H166=1,COUNTRY_INFO!F166+COUNTRY_INFO!G166,0),IF(COUNTRY_INFO!$H166=1,COUNTRY_INFO!F166+COUNTRY_INFO!G166,IF(COUNTRY_INFO!$I166=1,IF(COUNTRY_INFO!N166>=(COUNTRY_INFO!F166+COUNTRY_INFO!G166),COUNTRY_INFO!F166+COUNTRY_INFO!G166,COUNTRY_INFO!$N166),0))))","v":65754},{"$f":"IF(AND(INTRO!$E$39=\"Non-endemic\",INTRO!$E$37=\"Non-endemic\"),\"Not required\",IF(INTRO!$E$39=\"Non-endemic\",\"Treat with DEC\",COUNTRY_INFO!W166))","v":1},{"$f":"IF(INTRO!$E$39<>\"Non-endemic\",COUNTRY_INFO!X166,\"Not required\")","v":1},{"$f":"IF(COUNTRY_INFO!H166=1, IF($E166=1,IF(ALB_MBD!$G166<>\" \",COUNTRY_INFO!F166+COUNTRY_INFO!G166-ALB_MBD!$G166,COUNTRY_INFO!F166+COUNTRY_INFO!G166), 0),0)","v":65754},{"$f":"IF(INTRO!$E$39<>\"Endemic\",0, IF(AND(COUNTRY_INFO!$I166=1,$F166<>0),IF(COUNTRY_INFO!N166>=(COUNTRY_INFO!F166+COUNTRY_INFO!G166),COUNTRY_INFO!F166+COUNTRY_INFO!G166,COUNTRY_INFO!$N166), 0))","v":65754},0,0,184111.19999999998,184111.19999999998,null,184111.19999999998]
[{"$f":"IF(INTRO!$E$39=\"Non-endemic\",\" \",IF(COUNTRY_INFO!A167=0,\" \",COUNTRY_INFO!A167))","v":"Angola"},{"$f":"IF(INTRO!$E$39=\"Non-endemic\",\" \",IF(COUNTRY_INFO!B167=0,\" \",COUNTRY_INFO!B167))","v":"UIGE"},{"$f":"IF(INTRO!$E$39=\"Non-endemic\",\" \",IF(COUNTRY_INFO!C167=0,\" \",COUNTRY_INFO!C167))","v":"UIGE"},{"$f":"IF(INTRO!$E$39=\"Non-endemic\",0,IF(INTRO!$E$39=\"Endemic but PC is not required\",IF(COUNTRY_INFO!$H167=1,COUNTRY_INFO!F167+COUNTRY_INFO!G167,0),IF(COUNTRY_INFO!$H167=1,COUNTRY_INFO!F167+COUNTRY_INFO!G167,IF(COUNTRY_INFO!$I167=1,IF(COUNTRY_INFO!N167>=(COUNTRY_INFO!F167+COUNTRY_INFO!G167),COUNTRY_INFO!F167+COUNTRY_INFO!G167,COUNTRY_INFO!$N167),0))))","v":0},{"$f":"IF(AND(INTRO!$E$39=\"Non-endemic\",INTRO!$E$37=\"Non-endemic\"),\"Not required\",IF(INTRO!$E$39=\"Non-endemic\",\"Treat with DEC\",COUNTRY_INFO!W167))","v":0},{"$f":"IF(INTRO!$E$39<>\"Non-endemic\",COUNTRY_INFO!X167,\"Not required\")","v":0},{"$f":"IF(COUNTRY_INFO!H167=1, IF($E167=1,IF(ALB_MBD!$G167<>\" \",COUNTRY_INFO!F167+COUNTRY_INFO!G167-ALB_MBD!$G167,COUNTRY_INFO!F167+COUNTRY_INFO!G167), 0),0)","v":0},{"$f":"IF(INTRO!$E$39<>\"Endemic\",0, IF(AND(COUNTRY_INFO!$I167=1,$F167<>0),IF(COUNTRY_INFO!N167>=(COUNTRY_INFO!F167+COUNTRY_INFO!G167),COUNTRY_INFO!F167+COUNTRY_INFO!G167,COUNTRY_INFO!$N167), 0))","v":0},0,0,0,0,null,0]
[{"$f":"IF(INTRO!$E$39=\"Non-endemic\",\" \",IF(COUNTRY_INFO!A168=0,\" \",COUNTRY_INFO!A168))","v":"Angola"},{"$f":"IF(INTRO!$E$39=\"Non-endemic\",\" \",IF(COUNTRY_INFO!B168=0,\" \",COUNTRY_INFO!B168))","v":"ZAIRE"},{"$f":"IF(INTRO!$E$39=\"Non-endemic\",\" \",IF(COUNTRY_INFO!C168=0,\" \",COUNTRY_INFO!C168))","v":"CUIMBA"},{"$f":"IF(INTRO!$E$39=\"Non-endemic\",0,IF(INTRO!$E$39=\"Endemic but PC is not required\",IF(COUNTRY_INFO!$H168=1,COUNTRY_INFO!F168+COUNTRY_INFO!G168,0),IF(COUNTRY_INFO!$H168=1,COUNTRY_INFO!F168+COUNTRY_INFO!G168,IF(COUNTRY_INFO!$I168=1,IF(COUNTRY_INFO!N168>=(COUNTRY_INFO!F168+COUNTRY_INFO!G168),COUNTRY_INFO!F168+COUNTRY_INFO!G168,COUNTRY_INFO!$N168),0))))","v":0},{"$f":"IF(AND(INTRO!$E$39=\"Non-endemic\",INTRO!$E$37=\"Non-endemic\"),\"Not required\",IF(INTRO!$E$39=\"Non-endemic\",\"Treat with DEC\",COUNTRY_INFO!W168))","v":0},{"$f":"IF(INTRO!$E$39<>\"Non-endemic\",COUNTRY_INFO!X168,\"Not required\")","v":0},{"$f":"IF(COUNTRY_INFO!H168=1, IF($E168=1,IF(ALB_MBD!$G168<>\" \",COUNTRY_INFO!F168+COUNTRY_INFO!G168-ALB_MBD!$G168,COUNTRY_INFO!F168+COUNTRY_INFO!G168), 0),0)","v":0},{"$f":"IF(INTRO!$E$39<>\"Endemic\",0, IF(AND(COUNTRY_INFO!$I168=1,$F168<>0),IF(COUNTRY_INFO!N168>=(COUNTRY_INFO!F168+COUNTRY_INFO!G168),COUNTRY_INFO!F168+COUNTRY_INFO!G168,COUNTRY_INFO!$N168), 0))","v":0},0,0,0,0,null,0]
[{"$f":"IF(INTRO!$E$39=\"Non-endemic\",\" \",IF(COUNTRY_INFO!A169=0,\" \",COUNTRY_INFO!A169))","v":"Angola"},{"$f":"IF(INTRO!$E$39=\"Non-endemic\",\" \",IF(COUNTRY_INFO!B169=0,\" \",COUNTRY_INFO!B169))","v":"ZAIRE"},{"$f":"IF(INTRO!$E$39=\"Non-endemic\",\" \",IF(COUNTRY_INFO!C169=0,\" \",COUNTRY_INFO!C169))","v":"MBANZA KONGO"},{"$f":"IF(INTRO!$E$39=\"Non-endemic\",0,IF(INTRO!$E$39=\"Endemic but PC is not required\",IF(COUNTRY_INFO!$H169=1,COUNTRY_INFO!F169+COUNTRY_INFO!G169,0),IF(COUNTRY_INFO!$H169=1,COUNTRY_INFO!F169+COUNTRY_INFO!G169,IF(COUNTRY_INFO!$I169=1,IF(COUNTRY_INFO!N169>=(COUNTRY_INFO!F169+COUNTRY_INFO!G169),COUNTRY_INFO!F169+COUNTRY_INFO!G169,COUNTRY_INFO!$N169),0))))","v":0},{"$f":"IF(AND(INTRO!$E$39=\"Non-endemic\",INTRO!$E$37=\"Non-endemic\"),\"Not required\",IF(INTRO!$E$39=\"Non-endemic\",\"Treat with DEC\",COUNTRY_INFO!W169))","v":0},{"$f":"IF(INTRO!$E$39<>\"Non-endemic\",COUNTRY_INFO!X169,\"Not required\")","v":0},{"$f":"IF(COUNTRY_INFO!H169=1, IF($E169=1,IF(ALB_MBD!$G169<>\" \",COUNTRY_INFO!F169+COUNTRY_INFO!G169-ALB_MBD!$G169,COUNTRY_INFO!F169+COUNTRY_INFO!G169), 0),0)","v":0},{"$f":"IF(INTRO!$E$39<>\"Endemic\",0, IF(AND(COUNTRY_INFO!$I169=1,$F169<>0),IF(COUNTRY_INFO!N169>=(COUNTRY_INFO!F169+COUNTRY_INFO!G169),COUNTRY_INFO!F169+COUNTRY_INFO!G169,COUNTRY_INFO!$N169), 0))","v":0},0,0,0,0,null,0]
[{"$f":"IF(INTRO!$E$39=\"Non-endemic\",\" \",IF(COUNTRY_INFO!A170=0,\" \",COUNTRY_INFO!A170))","v":"Angola"},{"$f":"IF(INTRO!$E$39=\"Non-endemic\",\" \",IF(COUNTRY_INFO!B170=0,\" \",COUNTRY_INFO!B170))","v":"ZAIRE"},{"$f":"IF(INTRO!$E$39=\"Non-endemic\",\" \",IF(COUNTRY_INFO!C170=0,\" \",COUNTRY_INFO!C170))","v":"NOQUI"},{"$f":"IF(INTRO!$E$39=\"Non-endemic\",0,IF(INTRO!$E$39=\"Endemic but PC is not required\",IF(COUNTRY_INFO!$H170=1,COUNTRY_INFO!F170+COUNTRY_INFO!G170,0),IF(COUNTRY_INFO!$H170=1,COUNTRY_INFO!F170+COUNTRY_INFO!G170,IF(COUNTRY_INFO!$I170=1,IF(COUNTRY_INFO!N170>=(COUNTRY_INFO!F170+COUNTRY_INFO!G170),COUNTRY_INFO!F170+COUNTRY_INFO!G170,COUNTRY_INFO!$N170),0))))","v":0},{"$f":"IF(AND(INTRO!$E$39=\"Non-endemic\",INTRO!$E$37=\"Non-endemic\"),\"Not required\",IF(INTRO!$E$39=\"Non-endemic\",\"Treat with DEC\",COUNTRY_INFO!W170))","v":0},{"$f":"IF(INTRO!$E$39<>\"Non-endemic\",COUNTRY_INFO!X170,\"Not required\")","v":0},{"$f":"IF(COUNTRY_INFO!H170=1, IF($E170=1,IF(ALB_MBD!$G170<>\" \",COUNTRY_INFO!F170+COUNTRY_INFO!G170-ALB_MBD!$G170,COUNTRY_INFO!F170+COUNTRY_INFO!G170), 0),0)","v":0},{"$f":"IF(INTRO!$E$39<>\"Endemic\",0, IF(AND(COUNTRY_INFO!$I170=1,$F170<>0),IF(COUNTRY_INFO!N170>=(COUNTRY_INFO!F170+COUNTRY_INFO!G170),COUNTRY_INFO!F170+COUNTRY_INFO!G170,COUNTRY_INFO!$N170), 0))","v":0},0,0,0,0,null,0]
[{"$f":"IF(INTRO!$E$39=\"Non-endemic\",\" \",IF(COUNTRY_INFO!A171=0,\" \",COUNTRY_INFO!A171))","v":"Angola"},{"$f":"IF(INTRO!$E$39=\"Non-endemic\",\" \",IF(COUNTRY_INFO!B171=0,\" \",COUNTRY_INFO!B171))","v":"ZAIRE"},{"$f":"IF(INTRO!$E$39=\"Non-endemic\",\" \",IF(COUNTRY_INFO!C171=0,\" \",COUNTRY_INFO!C171))","v":"NZETO"},{"$f":"IF(INTRO!$E$39=\"Non-endemic\",0,IF(INTRO!$E$39=\"Endemic but PC is not required\",IF(COUNTRY_INFO!$H171=1,COUNTRY_INFO!F171+COUNTRY_INFO!G171,0),IF(COUNTRY_INFO!$H171=1,COUNTRY_INFO!F171+COUNTRY_INFO!G171,IF(COUNTRY_INFO!$I171=1,IF(COUNTRY_INFO!N171>=(COUNTRY_INFO!F171+COUNTRY_INFO!G171),COUNTRY_INFO!F171+COUNTRY_INFO!G171,COUNTRY_INFO!$N171),0))))","v":0},{"$f":"IF(AND(INTRO!$E$39=\"Non-endemic\",INTRO!$E$37=\"Non-endemic\"),\"Not required\",IF(INTRO!$E$39=\"Non-endemic\",\"Treat with DEC\",COUNTRY_INFO!W171))","v":0},{"$f":"IF(INTRO!$E$39<>\"Non-endemic\",COUNTRY_INFO!X171,\"Not required\")","v":0},{"$f":"IF(COUNTRY_INFO!H171=1, IF($E171=1,IF(ALB_MBD!$G171<>\" \",COUNTRY_INFO!F171+COUNTRY_INFO!G171-ALB_MBD!$G171,COUNTRY_INFO!F171+COUNTRY_INFO!G171), 0),0)","v":0},{"$f":"IF(INTRO!$E$39<>\"Endemic\",0, IF(AND(COUNTRY_INFO!$I171=1,$F171<>0),IF(COUNTRY_INFO!N171>=(COUNTRY_INFO!F171+COUNTRY_INFO!G171),COUNTRY_INFO!F171+COUNTRY_INFO!G171,COUNTRY_INFO!$N171), 0))","v":0},0,0,0,0,null,0]
[{"$f":"IF(INTRO!$E$39=\"Non-endemic\",\" \",IF(COUNTRY_INFO!A172=0,\" \",COUNTRY_INFO!A172))","v":"Angola"},{"$f":"IF(INTRO!$E$39=\"Non-endemic\",\" \",IF(COUNTRY_INFO!B172=0,\" \",COUNTRY_INFO!B172))","v":"ZAIRE"},{"$f":"IF(INTRO!$E$39=\"Non-endemic\",\" \",IF(COUNTRY_INFO!C172=0,\" \",COUNTRY_INFO!C172))","v":"SOYO"},{"$f":"IF(INTRO!$E$39=\"Non-endemic\",0,IF(INTRO!$E$39=\"Endemic but PC is not required\",IF(COUNTRY_INFO!$H172=1,COUNTRY_INFO!F172+COUNTRY_INFO!G172,0),IF(COUNTRY_INFO!$H172=1,COUNTRY_INFO!F172+COUNTRY_INFO!G172,IF(COUNTRY_INFO!$I172=1,IF(COUNTRY_INFO!N172>=(COUNTRY_INFO!F172+COUNTRY_INFO!G172),COUNTRY_INFO!F172+COUNTRY_INFO!G172,COUNTRY_INFO!$N172),0))))","v":0},{"$f":"IF(AND(INTRO!$E$39=\"Non-endemic\",INTRO!$E$37=\"Non-endemic\"),\"Not required\",IF(INTRO!$E$39=\"Non-endemic\",\"Treat with DEC\",COUNTRY_INFO!W172))","v":0},{"$f":"IF(INTRO!$E$39<>\"Non-endemic\",COUNTRY_INFO!X172,\"Not required\")","v":0},{"$f":"IF(COUNTRY_INFO!H172=1, IF($E172=1,IF(ALB_MBD!$G172<>\" \",COUNTRY_INFO!F172+COUNTRY_INFO!G172-ALB_MBD!$G172,COUNTRY_INFO!F172+COUNTRY_INFO!G172), 0),0)","v":0},{"$f":"IF(INTRO!$E$39<>\"Endemic\",0, IF(AND(COUNTRY_INFO!$I172=1,$F172<>0),IF(COUNTRY_INFO!N172>=(COUNTRY_INFO!F172+COUNTRY_INFO!G172),COUNTRY_INFO!F172+COUNTRY_INFO!G172,COUNTRY_INFO!$N172), 0))","v":0},0,0,0,0,null,0]
[{"$f":"IF(INTRO!$E$39=\"Non-endemic\",\" \",IF(COUNTRY_INFO!A173=0,\" \",COUNTRY_INFO!A173))","v":"Angola"},{"$f":"IF(INTRO!$E$39=\"Non-endemic\",\" \",IF(COUNTRY_INFO!B173=0,\" \",COUNTRY_INFO!B173))","v":"ZAIRE"},{"$f":"IF(INTRO!$E$39=\"Non-endemic\",\" \",IF(COUNTRY_INFO!C173=0,\" \",COUNTRY_INFO!C173))","v":"TOMBOCO"},{"$f":"IF(INTRO!$E$39=\"Non-endemic\",0,IF(INTRO!$E$39=\"Endemic but PC is not required\",IF(COUNTRY_INFO!$H173=1,COUNTRY_INFO!F173+COUNTRY_INFO!G173,0),IF(COUNTRY_INFO!$H173=1,COUNTRY_INFO!F173+COUNTRY_INFO!G173,IF(COUNTRY_INFO!$I173=1,IF(COUNTRY_INFO!N173>=(COUNTRY_INFO!F173+COUNTRY_INFO!G173),COUNTRY_INFO!F173+COUNTRY_INFO!G173,COUNTRY_INFO!$N173),0))))","v":50192},{"$f":"IF(AND(INTRO!$E$39=\"Non-endemic\",INTRO!$E$37=\"Non-endemic\"),\"Not required\",IF(INTRO!$E$39=\"Non-endemic\",\"Treat with DEC\",COUNTRY_INFO!W173))","v":1},{"$f":"IF(INTRO!$E$39<>\"Non-endemic\",COUNTRY_INFO!X173,\"Not required\")","v":0},{"$f":"IF(COUNTRY_INFO!H173=1, IF($E173=1,IF(ALB_MBD!$G173<>\" \",COUNTRY_INFO!F173+COUNTRY_INFO!G173-ALB_MBD!$G173,COUNTRY_INFO!F173+COUNTRY_INFO!G173), 0),0)","v":50192},{"$f":"IF(INTRO!$E$39<>\"Endemic\",0, IF(AND(COUNTRY_INFO!$I173=1,$F173<>0),IF(COUNTRY_INFO!N173>=(COUNTRY_INFO!F173+COUNTRY_INFO!G173),COUNTRY_INFO!F173+COUNTRY_INFO!G173,COUNTRY_INFO!$N173), 0))","v":0},140537.59999999998,0,0,140537.59999999998,null,140537.59999999998]

{"sheet":"SUMMARY","index":5,"n_rows":93,"n_cols":8,"rows_kept":93,"cut":false,"hidden":false,"merged":[[82,2,82,6],[63,4,63,6],[75,2,75,3],[97,1,97,7],[75,4,75,5],[70,4,70,5],[71,4,71,5],[70,2,70,3],[71,2,71,3],[92,1,92,7],[76,4,76,5],[87,1,87,7],[91,1,91,7],[86,1,86,7],[84,1,84,2],[84,3,84,7],[83,1,83,2],[0,1,0,7],[1,1,1,7],[2,1,2,5],[3,1,3,7],[4,1,4,7],[6,1,6,7],[5,2,5,5],[65,1,65,7],[54,1,54,7],[53,1,53,7],[36,1,36,7],[41,2,41,3],[41,4,41,5],[41,6,41,7],[55,1,55,7],[9,1,10,1],[9,3,9,6],[9,2,10,2],[17,1,19,1],[21,1,23,1],[25,1,27,1],[9,7,10,7],[32,2,35,4],[81,2,81,7],[83,3,83,7],[59,4,59,6],[50,1,50,7],[56,1,56,7],[51,1,51,7],[52,1,52,7],[80,1,80,7],[58,1,58,7],[78,1,78,7],[79,1,79,7],[66,1,66,7],[76,2,76,3],[74,2,74,3],[74,4,74,5],[73,2,73,3],[73,4,73,5],[60,4,60,6],[61,4,61,6],[62,4,62,6],[72,2,72,3],[72,4,72,5]]}
[]
[null,"Joint request for selected PC medicines v.4.1 (Loa)"]
[]
[null,"This form constitutes an official government request to WHO for the supply of the PC medicines. To ensure the medicines are delivered on time, the request for PC medicines should be submitted at least 9 months before the first date of MDA planned in the calendar year of the request. "]
[]
[null,"Country",{"$f":"IF(INTRO!$E$33<>0,INTRO!$E$33,\" \")","v":"Angola"},null,null,null,"Year",{"$f":"IF(INTRO!$E$35<>0,INTRO!$E$35,\" \")","v":2024}]
[]
[null,"Information on PC medicines requested to WHO"]
[]
[null,"PC medicine","Target group","Number of tablets",null,null,null,"Specify \nsource"]
[null,null,null,"Required","In stock","In pipeline","Requested"]
[null,"Diethylcarbamazine citrate","ALL",null,null,null,{"$f":"IF(D12>(E12+F12),D12-E12-F12, 0)","v":0}]
[null,null,null,null,null,null,0]
[null,"Ivermectin","ALL",21546624.399999999,14465000,0,7081624.3999999985,"WHO"]
[]
[null,"Albendazole for LF","ALL",3469611,3996000,null,0]
[null,null,null,null,null,null,0]
[null,"Albendazole for STH","PreSAC",1606229,1120500,null,485729,"WHO"]
[null,null,"SAC",2810280,1120500,null,1689780,"WHO"]
[null,null,"WRA",2332817,0,null,2332817,"WHO"]
[]
[null,"Mebendazole","PreSAC",null,null,null,0]
[null,null,"SAC",null,null,null,0]
[null,null,"WRA",null,null,null,0]
[]
[null,"Praziquantel","PreSAC",0,null,null,0]
[null,null,"SAC",8313201.002444,2695500,1236000,4381701.002444,"WHO"]
[null,null,"Adults",12247695.000791995,2695500,1236000,{"$f":"IF(D28>(E28+F28),D28-E28-F28, 0)","v":8316195.0007919949},"WHO"]
[]
[null,"Number of people to be treated with donated medicine ( see User Guide for details )"]
[]
[null,"Disease",null,null,null,"Round 1","Round 2","Round 3"]
[null,"Lymphatic filariasis","These figures are estimated only \nfor targeted age groups to be treated \nwith donated medicines in areas \nwhere treatment for \na specific disease is planned",null,null,3469611,0]
[null,"Onchocerciasis",null,null,null,5434983,0]
[null,"Schistosomiasis",null,null,null,8239165.5014859997,0]
[null,"Soil-transmitted helminthiases",null,null,null,6301262,2753350,0]
[]
[]
[]
[null,"Information on planned PC interventions"]
[]
[null,"PC medicine","Planned date of the \n1st round of PC",null,"Planned date of the \n2nd round of PC",null,"Date by which the medicine should arrive to the national warehouse"]
[null,"Diethylcarbamazine citrate"]
[null,"Ivermectin","March",2024,null,null,"December",2023]
[null,"Albendazole for LF","March",2024,"September",2024,"December",2023]
[null,"Albendazole for STH","March",2024,"September",2024,"December",2023]
[null,"Mebendazole"]
[null,"Praziquantel","March",2024,null,null,"December",2023]
[]
[null,"Checklist"]
[null,"Submission"]
[null,"What should be submitted?"]
[null,"The supply of the requested medicines should be based on up-to-date epidemiological data, specific usage plans, and capacity for implementation. The following checklist ensures that all necessary forms and information are provided to WHO (in electronic format). "]
[null,"Joint request for selected PC medicines"]
[null,"Joint reporting form"]
[null,"PC epidemiological data reporting form"]
[]
[null,"Availability of funding for implementation in the year for which the medicines are requested"]
[]
[null,"Diseases \ntargeted for implementation","Total treatments","Funding secured for","Source",null,null,"Amount"]
[null,{"$f":"B33","v":"Lymphatic filariasis"},{"$f":"SUM(F33:H33)","v":3469611},1436956,"MoH (Cabinda, Lunda Norte, Lunda Sul, Malanje, Zaire), The MENTOR Initiative/End Fund (Bengo, Cuanza Sul, Cuanza Norte, Bie)"]
[null,{"$f":"B34","v":"Onchocerciasis"},{"$f":"SUM(F34:H34)","v":5434983},3725708,"MoH ( Lunda Norte, Lunda Sul, Moxico), The MENTOR Initiative/End Fund (Bie, Bengo, Cuanza Norte, Cuanza Sul, Huambo, Huila, Uige)"]
[null,{"$f":"B35","v":"Schistosomiasis"},{"$f":"SUM(F35:H35)","v":8239165.5014859997},4511778,"MoH (Benguela, Cabinda, Cunene, Huambo, Luanda, Lunda Norte, Lunda Sul, Malanje, Moxico, Namibe, Uige e Zaire), the MENTOR Initiative/End Fund (Bengo, Bie, Cuando Cubango, Cuanza Sul, Cuanza Norte, Huila, Uige (with ONCO coendemicity)"]
[null,{"$f":"B36","v":"Soil-transmitted helminthiases"},{"$f":"SUM(F36:H36)","v":9054612},1224175,"MoH (Benguela, Cabinda, Cunene, Huambo, Luanda, Lunda Norte, Lunda Sul, Malanje, Moxico, Namibe, Uige e Zaire), the MENTOR Initiative/End Fund (Bengo, Bie, Cuando Cubango, Cuanza Sul, Cuanza Norte, Huila)"]
[]
[null,"Who should fill in the form? "]
[null,"National NTD coordinator should compile all required information needed to complete the request form. In the absence of such a coordinator, specific programme managers should coordinate their respective part. The final single request must be approved by the Ministry of Health."]
[]
[null,"Information on person(s) who has filled in the form"]
[]
[null,"Title ","Name",null,"Phone",null,"Email","Date"]
[null,"NTD/PC Coordinator","Cecília de Almeida",null,926615615,null,"cecidealmeida@hotmail.com","2023-03-16"]
[null,"SCH Programme Manager","Elsa Palma Mendes",null,925115354,null,"elsa.palma.mendes@gmail.com","2023-03-16"]
[]
[]
[]
[]
[]
[null,"The WHO recommends that all serious adverse events suspected to be associated with use of PC medicines should be reported in accordance with national Pharmacovigilance guidelines. In the absence of a national Pharmacovigilance system, contact the WHO Neglected Tropical Disease department for guidance."]
[null,"The WHO is committed to facilitate PC medicines donation with a free-of-charge supply of a) albendazole, mebendazole and praziquantel to the MoH’s national warehouse; and b) diethylcarbamazine citrate to the entry port/airport of recipient countries."]
[null,"The institution submitting the present request is responsible for a) arranging the offloading of the medicines from the truck and storing it in the national warehouse and subsequent shipment to the final distribution centres; b) for registering the donated medicine, if required, by the relevant national regulatory authorities; and c) for informing about any changes of their PC campaigns (e.g. postpone of the planned MDA date, replacement of NTD coordinator, etc.)."]
[null,null,"I have read and accept WHO Data Sharing Policy"]
[null,null,"I confirm that all information provided in this form is complete and correct"]
[null,"Name and signature of NTD coordinator \nor Ministry of Health representative",null,"Maria Cecília de Almeida"]
[null,"Date:",null,"2023-03-16"]
[]
[null,"Please complete information on shipment and consignee in the worksheet SHIPMENT. Any additional details related to this Request should be provided in the \"Additional information\" box in the worksheet SHIPMENT."]
[null,"Please send the national request (signed and in electronic format) to the concerned WR with copy to:"]
[null,"WHO headquarters","PC_JointForms@who.int"]
[null,"WHO Regional Office","Regional Advisor for NTD"]
[null,"Mectizan donation program","Dr Yao Sodahlon, email: ysodahlon@taskforce.org"]
[]
[null,"Please note that your request will be reviewed by an independent panel before approval. The information in this form, joint reporting form and PC epidemiological data reporting form are essential for WHO to ensure efficient usage of medicines. As part of its ongoing monitoring and evaluation activities, and to meet its contractual obligations to donors and other partners, WHO and its appointed agents reserve the right to periodically inspect stocks of the medicines at country level."]

{"sheet":"SHIPMENT","index":6,"n_rows":48,"n_cols":8,"rows_kept":48,"cut":false,"hidden":false,"merged":[[32,2,32,4],[32,5,32,7],[29,2,29,4],[29,5,29,7],[30,2,30,4],[30,5,30,7],[31,2,31,4],[31,5,31,7],[26,2,26,4],[26,5,26,7],[27,2,27,4],[27,5,27,7],[28,2,28,4],[28,5,28,7],[23,2,23,4],[23,5,23,7],[21,5,21,7],[16,5,16,7],[17,2,17,4],[12,2,12,4],[12,5,12,7],[13,2,13,4],[13,5,13,7],[14,2,14,4],[14,5,14,7],[9,2,9,4],[9,5,9,7],[10,2,10,4],[10,5,10,7],[11,2,11,4],[11,5,11,7],[6,1,6,7],[7,2,7,4],[7,5,7,7],[8,2,8,4],[8,5,8,7],[15,5,15,7],[20,2,20,4],[18,2,18,4],[16,2,16,4],[47,1,56,7],[45,1,45,7],[37,1,37,6],[38,1,38,5],[40,1,40,7],[41,1,41,6],[39,1,39,6],[42,1,42,6],[43,1,43,7],[25,2,25,4],[25,5,25,7],[24,1,24,7],[34,1,34,7],[36,1,36,7],[0,1,0,7],[1,1,1,7],[2,1,2,5],[17,5,17,7],[18,5,18,7],[19,2,19,4],[19,5,19,7],[21,2,21,4],[3,2,3,5],[4,1,4,7],[22,2,22,4],[22,5,22,7],[15,2,15,4],[20,5,20,7]]}
[]
[null,"Joint request for selected PC medicines v.4.1 (Loa)"]
[]
[null,"Country",{"$f":"IF(INTRO!$E$33<>0,INTRO!$E$33,\" \")","v":"Angola"},null,null,null,"Year",{"$f":"IF(INTRO!$E$35<>0,INTRO!$E$35,\" \")","v":2024}]
[]
[null,"Information on shipment and consignee "]
[]
[null,"ALB for LF, ALB for STH, PZQ","Consignee",null,null,"Delivery point / Final recipient\nif different from the consignee"]
[null,"Name","Djamila Khady Cabral",null,null,"Maria Cecilia Cesar de Almeida"]
[null,"Department/Unit","Escritorio da OMS ANGOLA",null,null,"Direcção Nacional de Saude Publica "]
[null,"Organization","OMS",null,null,"Ministerio da Saude (MINSA) de Angola"]
[null,"Phone","(244) 222 394153",null,null,"(244) 222 396 722"]
[null,"Fax"]
[null,"E-mail","afwcoaowr@who.int",null,null,"cecidealmeida@hotmail.com"]
[null,"Mailing address","Condomínio Rosalinda, Edifício da ONU, 9º andar Futungo de Belas",null,null,"Rua Primeiro Congresso do MPLA N°67"]
[]
[null,null,"Consignee",null,null,"Delivery point / Final recipient\nif different from the consignee"]
[null,"Name"]
[null,"Department/Unit"]
[null,"Organization"]
[null,"Phone"]
[null,"Fax"]
[null,"E-mail"]
[null,"Mailing address"]
[]
[null,null,"Consignee",null,null,"Delivery point / Final recipient\nif different from the consignee"]
[null,"Name"]
[null,"Department/Unit"]
[null,"Organization"]
[null,"Phone"]
[null,"Fax"]
[null,"E-mail"]
[null,"Mailing address"]
[]
[]
[null,"Information on import requirements"]
[]
[null,"Is the Import Permit required?",null,null,null,null,null,"Yes"]
[null,"How long does it take to obtain the Import Permit?",null,null,null,null,null,"Months"]
[null,"Do you require any documents to be submitted together with the Import Permit application?",null,null,null,null,null,"Yes"]
[null,"Shipping documents for Angola\na.\tGoods arriving by sea freight\n•\tBill of Lading (B/L) (at least two Originals and two Copy Non-Negotiable) \n•\tInvoice\n•\tPacking list\n•\tLoading Certificate \n•\tGift Certificate\nb.\tGoods arriving by air freight\n-     AirWayBill (AWB)\n-     Invoice \n-     Packing list\n-     Gift certificate\n \nRemarks\n1.\tFor drugs should be included i) Certificate of Origin;  ii) Certificate of Analysis; iii) Certificate of Compliance; iv) Quality Control Certificate per Batch.\n2.\tThe invoices should be translated into Portuguese (for the moment invoices in English are acceptable). "]
[null,"Does the consignee have to get customs clearance before the shipment can proceed?",null,null,null,null,null,"No"]
[null,"Is there any additional information may be helpful in ensuring timely clearance and delivery of medicines to your country? ",null,null,null,null,null,"No"]
[]
[]
[null,"Additional information"]
[]
[null,"Please find in attach the medicines inventory and SCH tool filled in for 2024.\nWe would to request a clarification on IVM sheet. In districts with co-endemicity with ONCHO and Loase, it automatically fill in the request for IVM instead of 2 rounds of ALB. Can you please clarify?"]

{"sheet":"DATA_POLICY","index":7,"n_rows":39,"n_cols":8,"rows_kept":39,"cut":false,"hidden":true,"merged":[[55,1,55,2],[0,1,0,5],[1,1,1,7],[3,3,3,5],[6,1,6,7],[8,1,12,7],[13,1,16,7],[17,1,21,7],[22,1,25,7],[26,2,36,7],[38,1,45,7]]}
[]
[null,"Joint request for selected PC medicines v.4.1 (Loa)"]
[]
[null,"Country",null,{"$f":"IF(INTRO!$E$33<>0,INTRO!$E$33,\" \")","v":"Angola"},null,null,"Year",{"$f":"IF(INTRO!$E$35<>0,INTRO!$E$35,\" \")","v":2024}]
[]
[]
[null,"WHO Data Sharing Policy statement"]
[]
[null,"Data are the basis for all sound public health actions and the benefits of data sharing are widely recognized, including scientific and public health benefits. Whenever possible, WHO wishes to promote the sharing of health data, including but not restricted to surveillance and epidemiological data.  "]
[]
[]
[]
[]
[null,{"$f":"\"In this connection, and without prejudice to information sharing and publication pursuant to legally binding instruments, by providing data to WHO, the Ministry of Health of \" & D4 & \":\"","v":"In this connection, and without prejudice to information sharing and publication pursuant to legally binding instruments, by providing data to WHO, the Ministry of Health of Angola:"}]
[]
[]
[]
[null,"Confirms that all data to be supplied to WHO hereunder have been collected in accordance with applicable national laws, including data protection laws aimed at protecting the confidentiality of identifiable persons;"]
[]
[]
[]
[]
[null,{"$f":"\"Agrees that WHO shall be entitled, subject always to measures to ensure the ethical and secure use of the data, and subject always to an appropriate acknowledgement of \"&D4&\":\"","v":"Agrees that WHO shall be entitled, subject always to measures to ensure the ethical and secure use of the data, and subject always to an appropriate acknowledgement of Angola:"}]
[]
[]
[]
[null,null,"to publish the data, stripped of any personal identifiers and make the Data available to any interested party on request (to the extent they have not, or not yet, been published by WHO) on terms that allow non-commercial, not-for-profit use of the Data for public health purposes (provided always that publication of the Data shall remain under the control of WHO); \nto use, compile, aggregate, evaluate and analyse the Data and publish and disseminate the results thereof in conjunction with WHO’s work and in accordance with the Organization’s policies and practices."]
[]
[]
[]
[]
[]
[]
[]
[]
[]
[]
[]
[null,{"$f":"CONCATENATE(\"Except where data sharing and publication is required under legally binding instruments (IHR, WHO Nomenclature Regulations 1967, etc.), the Ministry of Health of \", D4,\" may in respect of certain data opt out of (any part of) the above,\" & \" by notifying WHO thereof in writing at the following address, provided that any such notification shall clearly identify the data in question and clearly indicate the scope of the opt-out (in reference to the  above), \" & \"and provided that specific reasons shall be given for the opt out.\")","v":"Except where data sharing and publication is required under legally binding instruments (IHR, WHO Nomenclature Regulations 1967, etc.), the Ministry of Health of Angola may in respect of certain data opt out of (any part of) the above, by notifying WHO thereof in writing at the following address, provided that any such notification shall clearly identify the data in question and clearly indicate the scope of the opt-out (in reference to the  above), and provided that specific reasons shall be given for the opt out."}]