{"text_format":"1","workbook":"xlsx","n_sheets":9,"sheets":["INTRO","COUNTRY_INFO","ALB_MBD","PZQ","DSD","IVM","SUMMARY","SHIPMENT","DATA_POLICY"],"not_rendered":{"charts":0,"images":4,"macros":1,"external_links":0,"defined_names":7,"comments":7,"pivot_tables":1},"unopened":[],"bounds":{"document_bytes":16777216,"sheet_cells":100000,"rows_first":2000,"rows_last":500,"rows_between":2000,"halvings":0,"cell_chars":16384,"cell_head_chars":4096},"cells_cut":0,"cells_raw":0,"read":"whole","date_system":"1900"}

{"sheet":"INTRO","index":0,"n_rows":50,"n_cols":5,"rows_kept":50,"cut":false,"hidden":false,"merged":[[21,1,21,4],[7,2,7,4],[11,1,11,4],[4,1,4,4],[10,2,10,4],[20,2,20,4],[17,1,17,4],[13,1,13,4],[18,2,18,4],[8,2,8,4],[2,1,2,4],[1,1,1,4],[5,1,5,4],[3,1,3,4],[0,2,0,4],[24,1,24,4],[9,2,9,4],[46,1,46,4],[38,1,38,2],[40,1,40,2],[42,1,42,2],[44,1,44,2],[34,1,34,2],[36,1,36,2],[22,2,23,4],[25,2,26,4],[19,1,19,4],[12,1,12,4],[16,1,16,4],[14,1,14,4],[15,1,15,4],[27,1,27,4],[32,1,32,2],[29,1,29,4],[30,1,30,4],[28,2,28,4]]}
[null,null,"Cette version sera utilisée par les pays endémiques à la Loase"]
[null,"Formulaire de demande commune de médicaments pour CP v.3.1 (L)"]
[]
[null,"Dans le cadre des efforts mondiaux entrepris pour accélérer l'expansion de la chimioprévention (CP) pour l'élimination de la filariose lymphatique et la lutte contre la schistosomiase et les géohelminthiases, l'Organisation mondiale de la Santé (OMS) facilite l'approvisionnement en albendazole, comprimés de 400 mg (GSK), pour les programmes nationaux d'élimination de la filariose lymphatique et programmes nationaux de lutte contre les géohelminthiases; en diethylcarbamazine, comprimés de 100 mg (Eisai), pour les programmes nationaux d'élimination de la filariose lymphatique; en mebendazole, comprimés de 500 mg (J&J) pour les programmes nationaux de lutte contre les géohelminthiases et en praziquantel, comprimés de 600 mg (Merck KGaA), destinés aux enfants d'âge scolaire, pour les programmes nationaux de lutte contre la schistosomiase. L'OMS contribue également à l'approvisionnement en ivermectine, comprimés de 3 mg (Merck), pour les programmes de donation pour l'onchocercose et la filariose lymphatique. \nCet outil Excel est concu pour aider les pays à quantifier le nombre de comprimés nécessaires, selon le traitement de chimioprévention requis, pour atteindre les objectifs de couverture de traitement de populations et districts pour l'année de la demande de médicaments. Le résultat de cet outil est une demande commune de médicaments pour la chimioprévention des maladies tropicales négligées, qui peut être imprimée, signée et soumise à l'OMS pour la demande de ces médicaments. "]
[]
[null,"Structure de l'application (feuilles de travail) :"]
[]
[null,"INTRO","Cette feuille contient des instructions pour compléter le formulaire de demande de médicaments pour la chimioprévention et des informations sur le statut de la chimioprévention pour les maladies d'endémie du pays."]
[null,"COUNTRY_INFO","Cette feuille contient des informations sur la structure administrative du pays, la population par groupe d'âge, le statut d'endémicité pour chaque maladie, la population devant être traitée par chimioprévention et les interventions prévues."]
[null,"DEC, ALB_MBD, PZQ et IVM","Ces feuilles contiennent des informations sur l'endémicité des districts ciblés pour le traitement aux médicaments spécifiques à la chimioprévention, les plans de traitement, et le nombre de comprimés requis et demandés."]
[null,"SUMMARY","Cette feuille inclut un résumé du nombre de comprimés demandés, des informations concernant le stock et les dates de soumission de la demande de médicaments. Avant de générer le rapport (run macros), veuillez sélectionner le médicament pour lequel le rapport est nécessaire. Veuillez suivre la même règle pour voir le nombre de personnes à traiter pour les maladies spécifiques. \nCette feuille doit être imprimée et soumise en tant que \"Formulaire de demande commune de médicaments pour chimioprévention\" (voir les instructions pour la soumission du formulaire sous la feuille SUMMARY)."]
[]
[null,"Instructions pour la saisie des données"]
[]
[null,"La plupart des cellules des feuilles de travail mentionnées ci-dessus contiennent des formules calculées automatiquement en fonction du protocole de traitement recommandé par l'OMS pour chaque maladie.\nVoir : http://www.who.int/neglected_diseases/preventive_chemotherapy/pct_manual/en/index.html"]
[]
[null,"Veuillez entrer vos données dans les cellules en fonction de leur code de couleur :"]
[]
[null,null,"Blanc - la cellule n'est pas protégée. Veuillez entrer la valeur de l'indicateur demandé."]
[]
[null,null,"Jaune - la cellule est protégée et inclut le nom de l'indicateur. Aucune entrée de données requise."]
[]
[null,null,"Orange - la cellule n'est pas protégée et contient un menu déroulant. Veuillez sélectionner la valeur dans le menu déroulant. "]
[]
[]
[null,null,"Vert - la cellule n'est pas protégée et contient des formules. Veuillez changer la valeur indiquée uniquement si vos données sont différentes de celles calculées automatiquement.  "]
[]
[]
[null,null,"Bleu - la cellule est protégée et contient des formules. Aucune entrée de données requise. "]
[]
[null,"Données pays"]
[]
[null,"PAYS",null,null,"Angola"]
[]
[null,"Année de la demande de médicaments",null,null,2023]
[]
[null,"Le pays est-il endémique à la filariose lymphatique (FL) ?",null,null,"Endémique"]
[]
[null,"Le pays est-il endémique à l'onchocercose (ONCHO) ? ",null,null,"Endémique"]
[]
[null,"Le pays est-il endémique aux géohelminthiases (STH) ?",null,null,"Endémique"]
[]
[null,"Le pays est-il endémique à la schistosomiase (SCH) ?",null,null,"Endémique"]
[]
[null,"Combien d'unités administratives compte le pays ?",null,null,164]
[]
[null,"Si les données démographiques par groupe d'âge ne sont pas disponibles au second niveau administratif, veuillez entrer la proportion (%) de population, par groupe d'âge, du pays. Si les données sont disponibles, veuillez laisser les cellules vierges."]
[null,"1-4 ans","Enfants d'âge pré-scolaire (EAPréS)",null,0.16]
[null,"5-14 ans","Enfants d'âge scolaire (EAS)",null,0.27900000000000003]
[null,"15 ans et plus","Adultes",null,0.52700000000000002]

{"sheet":"COUNTRY_INFO","index":1,"n_rows":172,"n_cols":48,"rows_kept":172,"cut":false,"hidden":false,"merged":[[5,0,5,2],[3,20,3,23],[5,20,5,23],[7,0,7,19],[5,3,5,6],[5,7,5,11],[5,12,5,15],[5,16,5,19],[3,0,3,2],[3,7,3,11],[3,16,3,19]]}
["INFORMATIONS PAYS"]
["Struture administrative, population par groupe d'âge, statut d'endémicité et interventions planifiées",null,null,null,null,null,null,null,null,null,null,null,null,null,null,null,null,null,null,null,null,1.03]
[]
["TOTAL",null,null,{"$f":"SUM(D$9:D$1000)","v":34833721},{"$f":"SUM(E$9:E$1000)","v":5573388},{"$f":"SUM(F$9:F$1000)","v":9718611},{"$f":"SUM(G$9:G$1000)","v":18357369},null,null,null,null,null,{"$f":"SUM(M$9:M$1000)","v":4323377},{"$f":"SUM(N$9:N$1000)","v":6772368},{"$f":"SUM(O$9:O$1000)","v":3909105},{"$f":"SUM(P$9:P$1000)","v":10699270}]
[]
["Structure administrative du pays",null,null,"Population",null,null,null,"Endémicité",null,null,null,null,"Population nécessitant la CP",null,null,null,"Nombre de tournées de traitement prévues pour l'année",null,null,null,"Enquêtes épidémiologiques planifiées pour l’année"]
["Pays","Région/Département","District","Total","EAPréS","EAS","Adultes","FL","Oncho","STH","SCH","Loa","FL","Oncho","STH","SCH","FL","Oncho","STH","SCH","FL","Oncho","STH","SCH","IU_ID","IU_NAME",null,"x","x","x","x","x","x","x","x","x","x","x","x","x","x","x","x","x","x","x","x","x"]
[]
[{"$f":"IF(INTRO!$E$33<>0,INTRO!$E$33, \" \")","v":"Angola"},"BENGO","AMBRIZ",33204,{"$f":"IF(INTRO!$E$48=\"\",\"\",ROUND($D9*INTRO!$E$48,0))","v":5313},{"$f":"IF(INTRO!$E$49=\"\",\"\",ROUND($D9*INTRO!$E$49,0))","v":9264},{"$f":"IF(INTRO!$E$50=\"\",\"\",ROUND($D9*INTRO!$E$50,0))","v":17499},1,4,1,3,1,{"$f":"IF(INTRO!$E$37=\"Endémique\",IF($H9>0,IF($H9=4,\"Inconnu\",IF($H9=99,\"Interrompu\",$D9)),0),\"Non requis\")","v":33204},{"$f":"IF(INTRO!$E$39=\"Endémique\", IF($I9>0, IF($I9=4,\"Inconnu\",IF($I9=99,\"Interrompu\",$D9)), 0),\"Non requis\")","v":"Inconnu"},{"$f":"IF(INTRO!$E$41=\"Endémique\", IF(AND($J9>1,$J9<5), IF($J9=4, \"Inconnu\", E9+F9), 0),\"Non requis\")","v":0},18499,1,0,0,1,null,null,null,null,2049,"AMBRIZ"]
[{"$f":"IF(INTRO!$E$33<>0,INTRO!$E$33, \" \")","v":"Angola"},"BENGO","BULA ATUMBA",19670,{"$f":"IF(INTRO!$E$48=\"\",\"\",ROUND($D10*INTRO!$E$48,0))","v":3147},{"$f":"IF(INTRO!$E$49=\"\",\"\",ROUND($D10*INTRO!$E$49,0))","v":5488},{"$f":"IF(INTRO!$E$50=\"\",\"\",ROUND($D10*INTRO!$E$50,0))","v":10366},1,4,3,1,1,{"$f":"IF(INTRO!$E$37=\"Endémique\",IF($H10>0,IF($H10=4,\"Inconnu\",IF($H10=99,\"Interrompu\",$D10)),0),\"Non requis\")","v":19670},{"$f":"IF(INTRO!$E$39=\"Endémique\", IF($I10>0, IF($I10=4,\"Inconnu\",IF($I10=99,\"Interrompu\",$D10)), 0),\"Non requis\")","v":"Inconnu"},{"$f":"IF(INTRO!$E$41=\"Endémique\", IF(AND($J10>1,$J10<5), IF($J10=4, \"Inconnu\", E10+F10), 0),\"Non requis\")","v":8635},5051,1,0,2,0,null,null,null,null,2088,"BULA ATUMBA"]
[{"$f":"IF(INTRO!$E$33<>0,INTRO!$E$33, \" \")","v":"Angola"},"BENGO","DANDE",325323,{"$f":"IF(INTRO!$E$48=\"\",\"\",ROUND($D11*INTRO!$E$48,0))","v":52052},{"$f":"IF(INTRO!$E$49=\"\",\"\",ROUND($D11*INTRO!$E$49,0))","v":90765},{"$f":"IF(INTRO!$E$50=\"\",\"\",ROUND($D11*INTRO!$E$50,0))","v":171445},1,4,1,3,1,{"$f":"IF(INTRO!$E$37=\"Endémique\",IF($H11>0,IF($H11=4,\"Inconnu\",IF($H11=99,\"Interrompu\",$D11)),0),\"Non requis\")","v":325323},{"$f":"IF(INTRO!$E$39=\"Endémique\", IF($I11>0, IF($I11=4,\"Inconnu\",IF($I11=99,\"Interrompu\",$D11)), 0),\"Non requis\")","v":"Inconnu"},{"$f":"IF(INTRO!$E$41=\"Endémique\", IF(AND($J11>1,$J11<5), IF($J11=4, \"Inconnu\", E11+F11), 0),\"Non requis\")","v":0},119223,1,0,0,1,null,null,null,null,2050,"DANDE"]
[{"$f":"IF(INTRO!$E$33<>0,INTRO!$E$33, \" \")","v":"Angola"},"BENGO","DEMBOS",43943,{"$f":"IF(INTRO!$E$48=\"\",\"\",ROUND($D12*INTRO!$E$48,0))","v":7031},{"$f":"IF(INTRO!$E$49=\"\",\"\",ROUND($D12*INTRO!$E$49,0))","v":12260},{"$f":"IF(INTRO!$E$50=\"\",\"\",ROUND($D12*INTRO!$E$50,0))","v":23158},1,4,3,1,1,{"$f":"IF(INTRO!$E$37=\"Endémique\",IF($H12>0,IF($H12=4,\"Inconnu\",IF($H12=99,\"Interrompu\",$D12)),0),\"Non requis\")","v":43943},{"$f":"IF(INTRO!$E$39=\"Endémique\", IF($I12>0, IF($I12=4,\"Inconnu\",IF($I12=99,\"Interrompu\",$D12)), 0),\"Non requis\")","v":"Inconnu"},{"$f":"IF(INTRO!$E$41=\"Endémique\", IF(AND($J12>1,$J12<5), IF($J12=4, \"Inconnu\", E12+F12), 0),\"Non requis\")","v":19291},8319,1,0,2,0,null,null,null,null,2089,"DEMBOS"]
[{"$f":"IF(INTRO!$E$33<>0,INTRO!$E$33, \" \")","v":"Angola"},"BENGO","NAMBUANGONGO",89006,{"$f":"IF(INTRO!$E$48=\"\",\"\",ROUND($D13*INTRO!$E$48,0))","v":14241},{"$f":"IF(INTRO!$E$49=\"\",\"\",ROUND($D13*INTRO!$E$49,0))","v":24833},{"$f":"IF(INTRO!$E$50=\"\",\"\",ROUND($D13*INTRO!$E$50,0))","v":46906},1,4,2,2,1,{"$f":"IF(INTRO!$E$37=\"Endémique\",IF($H13>0,IF($H13=4,\"Inconnu\",IF($H13=99,\"Interrompu\",$D13)),0),\"Non requis\")","v":89006},{"$f":"IF(INTRO!$E$39=\"Endémique\", IF($I13>0, IF($I13=4,\"Inconnu\",IF($I13=99,\"Interrompu\",$D13)), 0),\"Non requis\")","v":"Inconnu"},{"$f":"IF(INTRO!$E$41=\"Endémique\", IF(AND($J13>1,$J13<5), IF($J13=4, \"Inconnu\", E13+F13), 0),\"Non requis\")","v":39074},22178,1,0,1,1,null,null,null,null,2053,"NAMBUANGONGO"]
[{"$f":"IF(INTRO!$E$33<>0,INTRO!$E$33, \" \")","v":"Angola"},"BENGO","PANGO ALUQUEM",10241,{"$f":"IF(INTRO!$E$48=\"\",\"\",ROUND($D14*INTRO!$E$48,0))","v":1639},{"$f":"IF(INTRO!$E$49=\"\",\"\",ROUND($D14*INTRO!$E$49,0))","v":2857},{"$f":"IF(INTRO!$E$50=\"\",\"\",ROUND($D14*INTRO!$E$50,0))","v":5397},0,4,3,2,1,{"$f":"IF(INTRO!$E$37=\"Endémique\",IF($H14>0,IF($H14=4,\"Inconnu\",IF($H14=99,\"Interrompu\",$D14)),0),\"Non requis\")","v":0},{"$f":"IF(INTRO!$E$39=\"Endémique\", IF($I14>0, IF($I14=4,\"Inconnu\",IF($I14=99,\"Interrompu\",$D14)), 0),\"Non requis\")","v":"Inconnu"},{"$f":"IF(INTRO!$E$41=\"Endémique\", IF(AND($J14>1,$J14<5), IF($J14=4, \"Inconnu\", E14+F14), 0),\"Non requis\")","v":4496},2726,0,0,2,1,null,null,null,null,2096,"PANGO ALUQUEM"]
[{"$f":"IF(INTRO!$E$33<>0,INTRO!$E$33, \" \")","v":"Angola"},"BENGUELA","BAIA FARTA",140691,{"$f":"IF(INTRO!$E$48=\"\",\"\",ROUND($D15*INTRO!$E$48,0))","v":22511},{"$f":"IF(INTRO!$E$49=\"\",\"\",ROUND($D15*INTRO!$E$49,0))","v":39253},{"$f":"IF(INTRO!$E$50=\"\",\"\",ROUND($D15*INTRO!$E$50,0))","v":74144},0,4,0,2,0,{"$f":"IF(INTRO!$E$37=\"Endémique\",IF($H15>0,IF($H15=4,\"Inconnu\",IF($H15=99,\"Interrompu\",$D15)),0),\"Non requis\")","v":0},{"$f":"IF(INTRO!$E$39=\"Endémique\", IF($I15>0, IF($I15=4,\"Inconnu\",IF($I15=99,\"Interrompu\",$D15)), 0),\"Non requis\")","v":"Inconnu"},{"$f":"IF(INTRO!$E$41=\"Endémique\", IF(AND($J15>1,$J15<5), IF($J15=4, \"Inconnu\", E15+F15), 0),\"Non requis\")","v":0},49781,0,0,0,1,null,null,null,null,2054,"BAIA FARTA"]
[{"$f":"IF(INTRO!$E$33<>0,INTRO!$E$33, \" \")","v":"Angola"},"BENGUELA","BALOMBO",142157,{"$f":"IF(INTRO!$E$48=\"\",\"\",ROUND($D16*INTRO!$E$48,0))","v":22745},{"$f":"IF(INTRO!$E$49=\"\",\"\",ROUND($D16*INTRO!$E$49,0))","v":39662},{"$f":"IF(INTRO!$E$50=\"\",\"\",ROUND($D16*INTRO!$E$50,0))","v":74917},0,4,1,2,0,{"$f":"IF(INTRO!$E$37=\"Endémique\",IF($H16>0,IF($H16=4,\"Inconnu\",IF($H16=99,\"Interrompu\",$D16)),0),\"Non requis\")","v":0},{"$f":"IF(INTRO!$E$39=\"Endémique\", IF($I16>0, IF($I16=4,\"Inconnu\",IF($I16=99,\"Interrompu\",$D16)), 0),\"Non requis\")","v":"Inconnu"},{"$f":"IF(INTRO!$E$41=\"Endémique\", IF(AND($J16>1,$J16<5), IF($J16=4, \"Inconnu\", E16+F16), 0),\"Non requis\")","v":0},44248,0,0,0,1,null,null,null,null,2055,"BALOMBO"]
[{"$f":"IF(INTRO!$E$33<>0,INTRO!$E$33, \" \")","v":"Angola"},"BENGUELA","BENGUELA",732896,{"$f":"IF(INTRO!$E$48=\"\",\"\",ROUND($D17*INTRO!$E$48,0))","v":117263},{"$f":"IF(INTRO!$E$49=\"\",\"\",ROUND($D17*INTRO!$E$49,0))","v":204478},{"$f":"IF(INTRO!$E$50=\"\",\"\",ROUND($D17*INTRO!$E$50,0))","v":386236},0,4,1,1,0,{"$f":"IF(INTRO!$E$37=\"Endémique\",IF($H17>0,IF($H17=4,\"Inconnu\",IF($H17=99,\"Interrompu\",$D17)),0),\"Non requis\")","v":0},{"$f":"IF(INTRO!$E$39=\"Endémique\", IF($I17>0, IF($I17=4,\"Inconnu\",IF($I17=99,\"Interrompu\",$D17)), 0),\"Non requis\")","v":"Inconnu"},{"$f":"IF(INTRO!$E$41=\"Endémique\", IF(AND($J17>1,$J17<5), IF($J17=4, \"Inconnu\", E17+F17), 0),\"Non requis\")","v":0},188221,0,0,0,0,null,null,null,null,2056,"BENGUELA"]
[{"$f":"IF(INTRO!$E$33<>0,INTRO!$E$33, \" \")","v":"Angola"},"BENGUELA","BOCOIO",214849,{"$f":"IF(INTRO!$E$48=\"\",\"\",ROUND($D18*INTRO!$E$48,0))","v":34376},{"$f":"IF(INTRO!$E$49=\"\",\"\",ROUND($D18*INTRO!$E$49,0))","v":59943},{"$f":"IF(INTRO!$E$50=\"\",\"\",ROUND($D18*INTRO!$E$50,0))","v":113225},0,4,1,3,0,{"$f":"IF(INTRO!$E$37=\"Endémique\",IF($H18>0,IF($H18=4,\"Inconnu\",IF($H18=99,\"Interrompu\",$D18)),0),\"Non requis\")","v":0},{"$f":"IF(INTRO!$E$39=\"Endémique\", IF($I18>0, IF($I18=4,\"Inconnu\",IF($I18=99,\"Interrompu\",$D18)), 0),\"Non requis\")","v":"Inconnu"},{"$f":"IF(INTRO!$E$41=\"Endémique\", IF(AND($J18>1,$J18<5), IF($J18=4, \"Inconnu\", E18+F18), 0),\"Non requis\")","v":0},104241,0,0,0,1,null,null,null,null,2057,"BOCOIO"]
[{"$f":"IF(INTRO!$E$33<>0,INTRO!$E$33, \" \")","v":"Angola"},"BENGUELA","CAIMBAMBO",118509,{"$f":"IF(INTRO!$E$48=\"\",\"\",ROUND($D19*INTRO!$E$48,0))","v":18961},{"$f":"IF(INTRO!$E$49=\"\",\"\",ROUND($D19*INTRO!$E$49,0))","v":33064},{"$f":"IF(INTRO!$E$50=\"\",\"\",ROUND($D19*INTRO!$E$50,0))","v":62454},0,4,1,3,0,{"$f":"IF(INTRO!$E$37=\"Endémique\",IF($H19>0,IF($H19=4,\"Inconnu\",IF($H19=99,\"Interrompu\",$D19)),0),\"Non requis\")","v":0},{"$f":"IF(INTRO!$E$39=\"Endémique\", IF($I19>0, IF($I19=4,\"Inconnu\",IF($I19=99,\"Interrompu\",$D19)), 0),\"Non requis\")","v":"Inconnu"},{"$f":"IF(INTRO!$E$41=\"Endémique\", IF(AND($J19>1,$J19<5), IF($J19=4, \"Inconnu\", E19+F19), 0),\"Non requis\")","v":0},47202,0,0,0,1,null,null,null,null,2061,"CAIMBAMBO"]
[{"$f":"IF(INTRO!$E$33<>0,INTRO!$E$33, \" \")","v":"Angola"},"BENGUELA","CATUMBELA",229357,{"$f":"IF(INTRO!$E$48=\"\",\"\",ROUND($D20*INTRO!$E$48,0))","v":36697},{"$f":"IF(INTRO!$E$49=\"\",\"\",ROUND($D20*INTRO!$E$49,0))","v":63991},{"$f":"IF(INTRO!$E$50=\"\",\"\",ROUND($D20*INTRO!$E$50,0))","v":120871},0,4,0,0,1,{"$f":"IF(INTRO!$E$37=\"Endémique\",IF($H20>0,IF($H20=4,\"Inconnu\",IF($H20=99,\"Interrompu\",$D20)),0),\"Non requis\")","v":0},{"$f":"IF(INTRO!$E$39=\"Endémique\", IF($I20>0, IF($I20=4,\"Inconnu\",IF($I20=99,\"Interrompu\",$D20)), 0),\"Non requis\")","v":"Inconnu"},{"$f":"IF(INTRO!$E$41=\"Endémique\", IF(AND($J20>1,$J20<5), IF($J20=4, \"Inconnu\", E20+F20), 0),\"Non requis\")","v":0},0,0,0,0,0,null,null,null,null,2216,"CATUMBELA"]
[{"$f":"IF(INTRO!$E$33<>0,INTRO!$E$33, \" \")","v":"Angola"},"BENGUELA","CHONGOROI",113865,{"$f":"IF(INTRO!$E$48=\"\",\"\",ROUND($D21*INTRO!$E$48,0))","v":18218},{"$f":"IF(INTRO!$E$49=\"\",\"\",ROUND($D21*INTRO!$E$49,0))","v":31768},{"$f":"IF(INTRO!$E$50=\"\",\"\",ROUND($D21*INTRO!$E$50,0))","v":60007},0,4,0,3,0,{"$f":"IF(INTRO!$E$37=\"Endémique\",IF($H21>0,IF($H21=4,\"Inconnu\",IF($H21=99,\"Interrompu\",$D21)),0),\"Non requis\")","v":0},{"$f":"IF(INTRO!$E$39=\"Endémique\", IF($I21>0, IF($I21=4,\"Inconnu\",IF($I21=99,\"Interrompu\",$D21)), 0),\"Non requis\")","v":"Inconnu"},{"$f":"IF(INTRO!$E$41=\"Endémique\", IF(AND($J21>1,$J21<5), IF($J21=4, \"Inconnu\", E21+F21), 0),\"Non requis\")","v":0},45361,0,0,0,1,null,null,null,null,2058,"CHONGOROI"]
[{"$f":"IF(INTRO!$E$33<>0,INTRO!$E$33, \" \")","v":"Angola"},"BENGUELA","CUBAL",398730,{"$f":"IF(INTRO!$E$48=\"\",\"\",ROUND($D22*INTRO!$E$48,0))","v":63797},{"$f":"IF(INTRO!$E$49=\"\",\"\",ROUND($D22*INTRO!$E$49,0))","v":111246},{"$f":"IF(INTRO!$E$50=\"\",\"\",ROUND($D22*INTRO!$E$50,0))","v":210131},0,4,1,3,0,{"$f":"IF(INTRO!$E$37=\"Endémique\",IF($H22>0,IF($H22=4,\"Inconnu\",IF($H22=99,\"Interrompu\",$D22)),0),\"Non requis\")","v":0},{"$f":"IF(INTRO!$E$39=\"Endémique\", IF($I22>0, IF($I22=4,\"Inconnu\",IF($I22=99,\"Interrompu\",$D22)), 0),\"Non requis\")","v":"Inconnu"},{"$f":"IF(INTRO!$E$41=\"Endémique\", IF(AND($J22>1,$J22<5), IF($J22=4, \"Inconnu\", E22+F22), 0),\"Non requis\")","v":0},153369,0,0,0,1,null,null,null,null,2059,"CUBAL"]
[{"$f":"IF(INTRO!$E$33<>0,INTRO!$E$33, \" \")","v":"Angola"},"BENGUELA","GANDA",307217,{"$f":"IF(INTRO!$E$48=\"\",\"\",ROUND($D23*INTRO!$E$48,0))","v":49155},{"$f":"IF(INTRO!$E$49=\"\",\"\",ROUND($D23*INTRO!$E$49,0))","v":85714},{"$f":"IF(INTRO!$E$50=\"\",\"\",ROUND($D23*INTRO!$E$50,0))","v":161903},0,4,1,3,0,{"$f":"IF(INTRO!$E$37=\"Endémique\",IF($H23>0,IF($H23=4,\"Inconnu\",IF($H23=99,\"Interrompu\",$D23)),0),\"Non requis\")","v":0},{"$f":"IF(INTRO!$E$39=\"Endémique\", IF($I23>0, IF($I23=4,\"Inconnu\",IF($I23=99,\"Interrompu\",$D23)), 0),\"Non requis\")","v":"Inconnu"},{"$f":"IF(INTRO!$E$41=\"Endémique\", IF(AND($J23>1,$J23<5), IF($J23=4, \"Inconnu\", E23+F23), 0),\"Non requis\")","v":0},119361,0,0,0,1,null,null,null,null,2060,"GANDA"]
[{"$f":"IF(INTRO!$E$33<>0,INTRO!$E$33, \" \")","v":"Angola"},"BENGUELA","LOBITO",512815,{"$f":"IF(INTRO!$E$48=\"\",\"\",ROUND($D24*INTRO!$E$48,0))","v":82050},{"$f":"IF(INTRO!$E$49=\"\",\"\",ROUND($D24*INTRO!$E$49,0))","v":143075},{"$f":"IF(INTRO!$E$50=\"\",\"\",ROUND($D24*INTRO!$E$50,0))","v":270254},1,4,1,1,0,{"$f":"IF(INTRO!$E$37=\"Endémique\",IF($H24>0,IF($H24=4,\"Inconnu\",IF($H24=99,\"Interrompu\",$D24)),0),\"Non requis\")","v":512815},{"$f":"IF(INTRO!$E$39=\"Endémique\", IF($I24>0, IF($I24=4,\"Inconnu\",IF($I24=99,\"Interrompu\",$D24)), 0),\"Non requis\")","v":"Inconnu"},{"$f":"IF(INTRO!$E$41=\"Endémique\", IF(AND($J24>1,$J24<5), IF($J24=4, \"Inconnu\", E24+F24), 0),\"Non requis\")","v":0},4585,1,0,0,0,null,null,null,null,2062,"LOBITO"]
[{"$f":"IF(INTRO!$E$33<>0,INTRO!$E$33, \" \")","v":"Angola"},"BIE","ANDULO",351419,{"$f":"IF(INTRO!$E$48=\"\",\"\",ROUND($D25*INTRO!$E$48,0))","v":56227},{"$f":"IF(INTRO!$E$49=\"\",\"\",ROUND($D25*INTRO!$E$49,0))","v":98046},{"$f":"IF(INTRO!$E$50=\"\",\"\",ROUND($D25*INTRO!$E$50,0))","v":185198},0,1,1,1,1,{"$f":"IF(INTRO!$E$37=\"Endémique\",IF($H25>0,IF($H25=4,\"Inconnu\",IF($H25=99,\"Interrompu\",$D25)),0),\"Non requis\")","v":0},{"$f":"IF(INTRO!$E$39=\"Endémique\", IF($I25>0, IF($I25=4,\"Inconnu\",IF($I25=99,\"Interrompu\",$D25)), 0),\"Non requis\")","v":351419},{"$f":"IF(INTRO!$E$41=\"Endémique\", IF(AND($J25>1,$J25<5), IF($J25=4, \"Inconnu\", E25+F25), 0),\"Non requis\")","v":0},15167,0,1,0,0,null,null,null,null,2063,"ANDULO"]
[{"$f":"IF(INTRO!$E$33<>0,INTRO!$E$33, \" \")","v":"Angola"},"BIE","CAMACUPA",210893,{"$f":"IF(INTRO!$E$48=\"\",\"\",ROUND($D26*INTRO!$E$48,0))","v":33743},{"$f":"IF(INTRO!$E$49=\"\",\"\",ROUND($D26*INTRO!$E$49,0))","v":58839},{"$f":"IF(INTRO!$E$50=\"\",\"\",ROUND($D26*INTRO!$E$50,0))","v":111141},0,1,1,2,0,{"$f":"IF(INTRO!$E$37=\"Endémique\",IF($H26>0,IF($H26=4,\"Inconnu\",IF($H26=99,\"Interrompu\",$D26)),0),\"Non requis\")","v":0},{"$f":"IF(INTRO!$E$39=\"Endémique\", IF($I26>0, IF($I26=4,\"Inconnu\",IF($I26=99,\"Interrompu\",$D26)), 0),\"Non requis\")","v":210893},{"$f":"IF(INTRO!$E$41=\"Endémique\", IF(AND($J26>1,$J26<5), IF($J26=4, \"Inconnu\", E26+F26), 0),\"Non requis\")","v":0},26522,0,1,0,1,null,null,null,null,2066,"CAMACUPA"]
[{"$f":"IF(INTRO!$E$33<>0,INTRO!$E$33, \" \")","v":"Angola"},"BIE","CATABOLA",172376,{"$f":"IF(INTRO!$E$48=\"\",\"\",ROUND($D27*INTRO!$E$48,0))","v":27580},{"$f":"IF(INTRO!$E$49=\"\",\"\",ROUND($D27*INTRO!$E$49,0))","v":48093},{"$f":"IF(INTRO!$E$50=\"\",\"\",ROUND($D27*INTRO!$E$50,0))","v":90842},0,1,1,2,1,{"$f":"IF(INTRO!$E$37=\"Endémique\",IF($H27>0,IF($H27=4,\"Inconnu\",IF($H27=99,\"Interrompu\",$D27)),0),\"Non requis\")","v":0},{"$f":"IF(INTRO!$E$39=\"Endémique\", IF($I27>0, IF($I27=4,\"Inconnu\",IF($I27=99,\"Interrompu\",$D27)), 0),\"Non requis\")","v":172376},{"$f":"IF(INTRO!$E$41=\"Endémique\", IF(AND($J27>1,$J27<5), IF($J27=4, \"Inconnu\", E27+F27), 0),\"Non requis\")","v":0},36606,0,1,0,1,null,null,null,null,2067,"CATABOLA"]
[{"$f":"IF(INTRO!$E$33<>0,INTRO!$E$33, \" \")","v":"Angola"},"BIE","CHINGUAR",176103,{"$f":"IF(INTRO!$E$48=\"\",\"\",ROUND($D28*INTRO!$E$48,0))","v":28176},{"$f":"IF(INTRO!$E$49=\"\",\"\",ROUND($D28*INTRO!$E$49,0))","v":49133},{"$f":"IF(INTRO!$E$50=\"\",\"\",ROUND($D28*INTRO!$E$50,0))","v":92806},0,1,1,1,1,{"$f":"IF(INTRO!$E$37=\"Endémique\",IF($H28>0,IF($H28=4,\"Inconnu\",IF($H28=99,\"Interrompu\",$D28)),0),\"Non requis\")","v":0},{"$f":"IF(INTRO!$E$39=\"Endémique\", IF($I28>0, IF($I28=4,\"Inconnu\",IF($I28=99,\"Interrompu\",$D28)), 0),\"Non requis\")","v":176103},{"$f":"IF(INTRO!$E$41=\"Endémique\", IF(AND($J28>1,$J28<5), IF($J28=4, \"Inconnu\", E28+F28), 0),\"Non requis\")","v":0},12229,0,1,0,0,null,null,null,null,2064,"CHINGUAR"]
[{"$f":"IF(INTRO!$E$33<>0,INTRO!$E$33, \" \")","v":"Angola"},"BIE","CHITEMBO",106388,{"$f":"IF(INTRO!$E$48=\"\",\"\",ROUND($D29*INTRO!$E$48,0))","v":17022},{"$f":"IF(INTRO!$E$49=\"\",\"\",ROUND($D29*INTRO!$E$49,0))","v":29682},{"$f":"IF(INTRO!$E$50=\"\",\"\",ROUND($D29*INTRO!$E$50,0))","v":56066},0,4,1,2,1,{"$f":"IF(INTRO!$E$37=\"Endémique\",IF($H29>0,IF($H29=4,\"Inconnu\",IF($H29=99,\"Interrompu\",$D29)),0),\"Non requis\")","v":0},{"$f":"IF(INTRO!$E$39=\"Endémique\", IF($I29>0, IF($I29=4,\"Inconnu\",IF($I29=99,\"Interrompu\",$D29)), 0),\"Non requis\")","v":"Inconnu"},{"$f":"IF(INTRO!$E$41=\"Endémique\", IF(AND($J29>1,$J29<5), IF($J29=4, \"Inconnu\", E29+F29), 0),\"Non requis\")","v":0},15972,0,0,0,1,null,null,null,null,2065,"CHITEMBO"]
[{"$f":"IF(INTRO!$E$33<>0,INTRO!$E$33, \" \")","v":"Angola"},"BIE","CUEMBA",77540,{"$f":"IF(INTRO!$E$48=\"\",\"\",ROUND($D30*INTRO!$E$48,0))","v":12406},{"$f":"IF(INTRO!$E$49=\"\",\"\",ROUND($D30*INTRO!$E$49,0))","v":21634},{"$f":"IF(INTRO!$E$50=\"\",\"\",ROUND($D30*INTRO!$E$50,0))","v":40864},1,1,1,1,0,{"$f":"IF(INTRO!$E$37=\"Endémique\",IF($H30>0,IF($H30=4,\"Inconnu\",IF($H30=99,\"Interrompu\",$D30)),0),\"Non requis\")","v":77540},{"$f":"IF(INTRO!$E$39=\"Endémique\", IF($I30>0, IF($I30=4,\"Inconnu\",IF($I30=99,\"Interrompu\",$D30)), 0),\"Non requis\")","v":77540},{"$f":"IF(INTRO!$E$41=\"Endémique\", IF(AND($J30>1,$J30<5), IF($J30=4, \"Inconnu\", E30+F30), 0),\"Non requis\")","v":0},19914,1,1,0,0,null,null,null,null,2068,"CUEMBA"]
[{"$f":"IF(INTRO!$E$33<>0,INTRO!$E$33, \" \")","v":"Angola"},"BIE","CUNHINGA",100495,{"$f":"IF(INTRO!$E$48=\"\",\"\",ROUND($D31*INTRO!$E$48,0))","v":16079},{"$f":"IF(INTRO!$E$49=\"\",\"\",ROUND($D31*INTRO!$E$49,0))","v":28038},{"$f":"IF(INTRO!$E$50=\"\",\"\",ROUND($D31*INTRO!$E$50,0))","v":52961},0,1,1,1,1,{"$f":"IF(INTRO!$E$37=\"Endémique\",IF($H31>0,IF($H31=4,\"Inconnu\",IF($H31=99,\"Interrompu\",$D31)),0),\"Non requis\")","v":0},{"$f":"IF(INTRO!$E$39=\"Endémique\", IF($I31>0, IF($I31=4,\"Inconnu\",IF($I31=99,\"Interrompu\",$D31)), 0),\"Non requis\")","v":100495},{"$f":"IF(INTRO!$E$41=\"Endémique\", IF(AND($J31>1,$J31<5), IF($J31=4, \"Inconnu\", E31+F31), 0),\"Non requis\")","v":0},17517,0,1,0,0,null,null,null,null,2070,"CUNHINGA"]
[{"$f":"IF(INTRO!$E$33<>0,INTRO!$E$33, \" \")","v":"Angola"},"BIE","CUITO",613756,{"$f":"IF(INTRO!$E$48=\"\",\"\",ROUND($D32*INTRO!$E$48,0))","v":98201},{"$f":"IF(INTRO!$E$49=\"\",\"\",ROUND($D32*INTRO!$E$49,0))","v":171238},{"$f":"IF(INTRO!$E$50=\"\",\"\",ROUND($D32*INTRO!$E$50,0))","v":323449},0,1,1,3,1,{"$f":"IF(INTRO!$E$37=\"Endémique\",IF($H32>0,IF($H32=4,\"Inconnu\",IF($H32=99,\"Interrompu\",$D32)),0),\"Non requis\")","v":0},{"$f":"IF(INTRO!$E$39=\"Endémique\", IF($I32>0, IF($I32=4,\"Inconnu\",IF($I32=99,\"Interrompu\",$D32)), 0),\"Non requis\")","v":613756},{"$f":"IF(INTRO!$E$41=\"Endémique\", IF(AND($J32>1,$J32<5), IF($J32=4, \"Inconnu\", E32+F32), 0),\"Non requis\")","v":0},369705,0,1,0,1,null,null,null,null,2069,"KUITO"]
[{"$f":"IF(INTRO!$E$33<>0,INTRO!$E$33, \" \")","v":"Angola"},"BIE","NHAREA",171976,{"$f":"IF(INTRO!$E$48=\"\",\"\",ROUND($D33*INTRO!$E$48,0))","v":27516},{"$f":"IF(INTRO!$E$49=\"\",\"\",ROUND($D33*INTRO!$E$49,0))","v":47981},{"$f":"IF(INTRO!$E$50=\"\",\"\",ROUND($D33*INTRO!$E$50,0))","v":90631},0,1,1,1,1,{"$f":"IF(INTRO!$E$37=\"Endémique\",IF($H33>0,IF($H33=4,\"Inconnu\",IF($H33=99,\"Interrompu\",$D33)),0),\"Non requis\")","v":0},{"$f":"IF(INTRO!$E$39=\"Endémique\", IF($I33>0, IF($I33=4,\"Inconnu\",IF($I33=99,\"Interrompu\",$D33)), 0),\"Non requis\")","v":171976},{"$f":"IF(INTRO!$E$41=\"Endémique\", IF(AND($J33>1,$J33<5), IF($J33=4, \"Inconnu\", E33+F33), 0),\"Non requis\")","v":0},28436,0,1,0,0,null,null,null,null,2071,"NHAREA"]
[{"$f":"IF(INTRO!$E$33<>0,INTRO!$E$33, \" \")","v":"Angola"},"CABINDA","BELIZE",25841,{"$f":"IF(INTRO!$E$48=\"\",\"\",ROUND($D34*INTRO!$E$48,0))","v":4135},{"$f":"IF(INTRO!$E$49=\"\",\"\",ROUND($D34*INTRO!$E$49,0))","v":7210},{"$f":"IF(INTRO!$E$50=\"\",\"\",ROUND($D34*INTRO!$E$50,0))","v":13618},1,4,2,0,1,{"$f":"IF(INTRO!$E$37=\"Endémique\",IF($H34>0,IF($H34=4,\"Inconnu\",IF($H34=99,\"Interrompu\",$D34)),0),\"Non requis\")","v":25841},{"$f":"IF(INTRO!$E$39=\"Endémique\", IF($I34>0, IF($I34=4,\"Inconnu\",IF($I34=99,\"Interrompu\",$D34)), 0),\"Non requis\")","v":"Inconnu"},{"$f":"IF(INTRO!$E$41=\"Endémique\", IF(AND($J34>1,$J34<5), IF($J34=4, \"Inconnu\", E34+F34), 0),\"Non requis\")","v":11345},0,1,0,1,0,null,null,null,null,2072,"BELIZE"]
[{"$f":"IF(INTRO!$E$33<>0,INTRO!$E$33, \" \")","v":"Angola"},"CABINDA","BUCO ZAU",43320,{"$f":"IF(INTRO!$E$48=\"\",\"\",ROUND($D35*INTRO!$E$48,0))","v":6931},{"$f":"IF(INTRO!$E$49=\"\",\"\",ROUND($D35*INTRO!$E$49,0))","v":12086},{"$f":"IF(INTRO!$E$50=\"\",\"\",ROUND($D35*INTRO!$E$50,0))","v":22830},1,4,2,2,1,{"$f":"IF(INTRO!$E$37=\"Endémique\",IF($H35>0,IF($H35=4,\"Inconnu\",IF($H35=99,\"Interrompu\",$D35)),0),\"Non requis\")","v":43320},{"$f":"IF(INTRO!$E$39=\"Endémique\", IF($I35>0, IF($I35=4,\"Inconnu\",IF($I35=99,\"Interrompu\",$D35)), 0),\"Non requis\")","v":"Inconnu"},{"$f":"IF(INTRO!$E$41=\"Endémique\", IF(AND($J35>1,$J35<5), IF($J35=4, \"Inconnu\", E35+F35), 0),\"Non requis\")","v":19017},5430,1,0,1,1,null,null,null,null,2073,"BUCO ZAU"]
[{"$f":"IF(INTRO!$E$33<>0,INTRO!$E$33, \" \")","v":"Angola"},"CABINDA","CABINDA",825183,{"$f":"IF(INTRO!$E$48=\"\",\"\",ROUND($D36*INTRO!$E$48,0))","v":132029},{"$f":"IF(INTRO!$E$49=\"\",\"\",ROUND($D36*INTRO!$E$49,0))","v":230226},{"$f":"IF(INTRO!$E$50=\"\",\"\",ROUND($D36*INTRO!$E$50,0))","v":434871},1,4,1,3,1,{"$f":"IF(INTRO!$E$37=\"Endémique\",IF($H36>0,IF($H36=4,\"Inconnu\",IF($H36=99,\"Interrompu\",$D36)),0),\"Non requis\")","v":825183},{"$f":"IF(INTRO!$E$39=\"Endémique\", IF($I36>0, IF($I36=4,\"Inconnu\",IF($I36=99,\"Interrompu\",$D36)), 0),\"Non requis\")","v":"Inconnu"},{"$f":"IF(INTRO!$E$41=\"Endémique\", IF(AND($J36>1,$J36<5), IF($J36=4, \"Inconnu\", E36+F36), 0),\"Non requis\")","v":0},594137,1,0,0,1,null,null,null,null,2074,"CABINDA"]
[{"$f":"IF(INTRO!$E$33<>0,INTRO!$E$33, \" \")","v":"Angola"},"CABINDA","CACONGO",51621,{"$f":"IF(INTRO!$E$48=\"\",\"\",ROUND($D37*INTRO!$E$48,0))","v":8259},{"$f":"IF(INTRO!$E$49=\"\",\"\",ROUND($D37*INTRO!$E$49,0))","v":14402},{"$f":"IF(INTRO!$E$50=\"\",\"\",ROUND($D37*INTRO!$E$50,0))","v":27204},1,4,1,1,1,{"$f":"IF(INTRO!$E$37=\"Endémique\",IF($H37>0,IF($H37=4,\"Inconnu\",IF($H37=99,\"Interrompu\",$D37)),0),\"Non requis\")","v":51621},{"$f":"IF(INTRO!$E$39=\"Endémique\", IF($I37>0, IF($I37=4,\"Inconnu\",IF($I37=99,\"Interrompu\",$D37)), 0),\"Non requis\")","v":"Inconnu"},{"$f":"IF(INTRO!$E$41=\"Endémique\", IF(AND($J37>1,$J37<5), IF($J37=4, \"Inconnu\", E37+F37), 0),\"Non requis\")","v":0},13257,1,0,0,0,null,null,null,null,2213,"CACONGO"]
[{"$f":"IF(INTRO!$E$33<>0,INTRO!$E$33, \" \")","v":"Angola"},"CUNENE","CAHAMA",94751,{"$f":"IF(INTRO!$E$48=\"\",\"\",ROUND($D38*INTRO!$E$48,0))","v":15160},{"$f":"IF(INTRO!$E$49=\"\",\"\",ROUND($D38*INTRO!$E$49,0))","v":26436},{"$f":"IF(INTRO!$E$50=\"\",\"\",ROUND($D38*INTRO!$E$50,0))","v":49934},0,4,1,1,0,{"$f":"IF(INTRO!$E$37=\"Endémique\",IF($H38>0,IF($H38=4,\"Inconnu\",IF($H38=99,\"Interrompu\",$D38)),0),\"Non requis\")","v":0},{"$f":"IF(INTRO!$E$39=\"Endémique\", IF($I38>0, IF($I38=4,\"Inconnu\",IF($I38=99,\"Interrompu\",$D38)), 0),\"Non requis\")","v":"Inconnu"},{"$f":"IF(INTRO!$E$41=\"Endémique\", IF(AND($J38>1,$J38<5), IF($J38=4, \"Inconnu\", E38+F38), 0),\"Non requis\")","v":0},24334,0,0,0,0,null,null,null,null,2110,"CAHAMA"]
[{"$f":"IF(INTRO!$E$33<>0,INTRO!$E$33, \" \")","v":"Angola"},"CUNENE","CUANHAMA",506513,{"$f":"IF(INTRO!$E$48=\"\",\"\",ROUND($D39*INTRO!$E$48,0))","v":81042},{"$f":"IF(INTRO!$E$49=\"\",\"\",ROUND($D39*INTRO!$E$49,0))","v":141317},{"$f":"IF(INTRO!$E$50=\"\",\"\",ROUND($D39*INTRO!$E$50,0))","v":266932},0,4,1,3,1,{"$f":"IF(INTRO!$E$37=\"Endémique\",IF($H39>0,IF($H39=4,\"Inconnu\",IF($H39=99,\"Interrompu\",$D39)),0),\"Non requis\")","v":0},{"$f":"IF(INTRO!$E$39=\"Endémique\", IF($I39>0, IF($I39=4,\"Inconnu\",IF($I39=99,\"Interrompu\",$D39)), 0),\"Non requis\")","v":"Inconnu"},{"$f":"IF(INTRO!$E$41=\"Endémique\", IF(AND($J39>1,$J39<5), IF($J39=4, \"Inconnu\", E39+F39), 0),\"Non requis\")","v":0},234304,0,0,0,1,null,null,null,null,2113,"CUANHAMA"]
[{"$f":"IF(INTRO!$E$33<>0,INTRO!$E$33, \" \")","v":"Angola"},"CUNENE","CUROCA",55566,{"$f":"IF(INTRO!$E$48=\"\",\"\",ROUND($D40*INTRO!$E$48,0))","v":8891},{"$f":"IF(INTRO!$E$49=\"\",\"\",ROUND($D40*INTRO!$E$49,0))","v":15503},{"$f":"IF(INTRO!$E$50=\"\",\"\",ROUND($D40*INTRO!$E$50,0))","v":29283},0,4,0,2,0,{"$f":"IF(INTRO!$E$37=\"Endémique\",IF($H40>0,IF($H40=4,\"Inconnu\",IF($H40=99,\"Interrompu\",$D40)),0),\"Non requis\")","v":0},{"$f":"IF(INTRO!$E$39=\"Endémique\", IF($I40>0, IF($I40=4,\"Inconnu\",IF($I40=99,\"Interrompu\",$D40)), 0),\"Non requis\")","v":"Inconnu"},{"$f":"IF(INTRO!$E$41=\"Endémique\", IF(AND($J40>1,$J40<5), IF($J40=4, \"Inconnu\", E40+F40), 0),\"Non requis\")","v":0},16622,0,0,0,1,null,null,null,null,2111,"CUROCA"]
[{"$f":"IF(INTRO!$E$33<>0,INTRO!$E$33, \" \")","v":"Angola"},"CUNENE","CUVELAI",77625,{"$f":"IF(INTRO!$E$48=\"\",\"\",ROUND($D41*INTRO!$E$48,0))","v":12420},{"$f":"IF(INTRO!$E$49=\"\",\"\",ROUND($D41*INTRO!$E$49,0))","v":21657},{"$f":"IF(INTRO!$E$50=\"\",\"\",ROUND($D41*INTRO!$E$50,0))","v":40908},4,4,1,3,1,{"$f":"IF(INTRO!$E$37=\"Endémique\",IF($H41>0,IF($H41=4,\"Inconnu\",IF($H41=99,\"Interrompu\",$D41)),0),\"Non requis\")","v":"Inconnu"},{"$f":"IF(INTRO!$E$39=\"Endémique\", IF($I41>0, IF($I41=4,\"Inconnu\",IF($I41=99,\"Interrompu\",$D41)), 0),\"Non requis\")","v":"Inconnu"},{"$f":"IF(INTRO!$E$41=\"Endémique\", IF(AND($J41>1,$J41<5), IF($J41=4, \"Inconnu\", E41+F41), 0),\"Non requis\")","v":0},35484,0,0,0,1,null,null,null,null,2112,"CUVELAI"]
[{"$f":"IF(INTRO!$E$33<>0,INTRO!$E$33, \" \")","v":"Angola"},"CUNENE","NAMACUNDE",192104,{"$f":"IF(INTRO!$E$48=\"\",\"\",ROUND($D42*INTRO!$E$48,0))","v":30737},{"$f":"IF(INTRO!$E$49=\"\",\"\",ROUND($D42*INTRO!$E$49,0))","v":53597},{"$f":"IF(INTRO!$E$50=\"\",\"\",ROUND($D42*INTRO!$E$50,0))","v":101239},0,4,1,2,1,{"$f":"IF(INTRO!$E$37=\"Endémique\",IF($H42>0,IF($H42=4,\"Inconnu\",IF($H42=99,\"Interrompu\",$D42)),0),\"Non requis\")","v":0},{"$f":"IF(INTRO!$E$39=\"Endémique\", IF($I42>0, IF($I42=4,\"Inconnu\",IF($I42=99,\"Interrompu\",$D42)), 0),\"Non requis\")","v":"Inconnu"},{"$f":"IF(INTRO!$E$41=\"Endémique\", IF(AND($J42>1,$J42<5), IF($J42=4, \"Inconnu\", E42+F42), 0),\"Non requis\")","v":0},60659,0,0,0,1,null,null,null,null,2114,"NAMACUNDE"]
[{"$f":"IF(INTRO!$E$33<>0,INTRO!$E$33, \" \")","v":"Angola"},"CUNENE","OMBADJA",412434,{"$f":"IF(INTRO!$E$48=\"\",\"\",ROUND($D43*INTRO!$E$48,0))","v":65989},{"$f":"IF(INTRO!$E$49=\"\",\"\",ROUND($D43*INTRO!$E$49,0))","v":115069},{"$f":"IF(INTRO!$E$50=\"\",\"\",ROUND($D43*INTRO!$E$50,0))","v":217353},0,4,2,3,1,{"$f":"IF(INTRO!$E$37=\"Endémique\",IF($H43>0,IF($H43=4,\"Inconnu\",IF($H43=99,\"Interrompu\",$D43)),0),\"Non requis\")","v":0},{"$f":"IF(INTRO!$E$39=\"Endémique\", IF($I43>0, IF($I43=4,\"Inconnu\",IF($I43=99,\"Interrompu\",$D43)), 0),\"Non requis\")","v":"Inconnu"},{"$f":"IF(INTRO!$E$41=\"Endémique\", IF(AND($J43>1,$J43<5), IF($J43=4, \"Inconnu\", E43+F43), 0),\"Non requis\")","v":181058},126460,0,0,1,1,null,null,null,null,2115,"OMBADJA"]
[{"$f":"IF(INTRO!$E$33<>0,INTRO!$E$33, \" \")","v":"Angola"},"HUAMBO","BAILUNDO",405070,{"$f":"IF(INTRO!$E$48=\"\",\"\",ROUND($D44*INTRO!$E$48,0))","v":64811},{"$f":"IF(INTRO!$E$49=\"\",\"\",ROUND($D44*INTRO!$E$49,0))","v":113015},{"$f":"IF(INTRO!$E$50=\"\",\"\",ROUND($D44*INTRO!$E$50,0))","v":213472},0,4,1,2,1,{"$f":"IF(INTRO!$E$37=\"Endémique\",IF($H44>0,IF($H44=4,\"Inconnu\",IF($H44=99,\"Interrompu\",$D44)),0),\"Non requis\")","v":0},{"$f":"IF(INTRO!$E$39=\"Endémique\", IF($I44>0, IF($I44=4,\"Inconnu\",IF($I44=99,\"Interrompu\",$D44)), 0),\"Non requis\")","v":"Inconnu"},{"$f":"IF(INTRO!$E$41=\"Endémique\", IF(AND($J44>1,$J44<5), IF($J44=4, \"Inconnu\", E44+F44), 0),\"Non requis\")","v":0},79225,0,0,0,1,null,null,null,null,2116,"BAILUNDO"]
[{"$f":"IF(INTRO!$E$33<>0,INTRO!$E$33, \" \")","v":"Angola"},"HUAMBO","CAALA",384850,{"$f":"IF(INTRO!$E$48=\"\",\"\",ROUND($D45*INTRO!$E$48,0))","v":61576},{"$f":"IF(INTRO!$E$49=\"\",\"\",ROUND($D45*INTRO!$E$49,0))","v":107373},{"$f":"IF(INTRO!$E$50=\"\",\"\",ROUND($D45*INTRO!$E$50,0))","v":202816},0,4,2,3,0,{"$f":"IF(INTRO!$E$37=\"Endémique\",IF($H45>0,IF($H45=4,\"Inconnu\",IF($H45=99,\"Interrompu\",$D45)),0),\"Non requis\")","v":0},{"$f":"IF(INTRO!$E$39=\"Endémique\", IF($I45>0, IF($I45=4,\"Inconnu\",IF($I45=99,\"Interrompu\",$D45)), 0),\"Non requis\")","v":"Inconnu"},{"$f":"IF(INTRO!$E$41=\"Endémique\", IF(AND($J45>1,$J45<5), IF($J45=4, \"Inconnu\", E45+F45), 0),\"Non requis\")","v":168949},141069,0,0,1,1,null,null,null,null,2120,"CAALA"]
[{"$f":"IF(INTRO!$E$33<>0,INTRO!$E$33, \" \")","v":"Angola"},"HUAMBO","ECUNHA",113534,{"$f":"IF(INTRO!$E$48=\"\",\"\",ROUND($D46*INTRO!$E$48,0))","v":18165},{"$f":"IF(INTRO!$E$49=\"\",\"\",ROUND($D46*INTRO!$E$49,0))","v":31676},{"$f":"IF(INTRO!$E$50=\"\",\"\",ROUND($D46*INTRO!$E$50,0))","v":59832},0,4,0,0,0,{"$f":"IF(INTRO!$E$37=\"Endémique\",IF($H46>0,IF($H46=4,\"Inconnu\",IF($H46=99,\"Interrompu\",$D46)),0),\"Non requis\")","v":0},{"$f":"IF(INTRO!$E$39=\"Endémique\", IF($I46>0, IF($I46=4,\"Inconnu\",IF($I46=99,\"Interrompu\",$D46)), 0),\"Non requis\")","v":"Inconnu"},{"$f":"IF(INTRO!$E$41=\"Endémique\", IF(AND($J46>1,$J46<5), IF($J46=4, \"Inconnu\", E46+F46), 0),\"Non requis\")","v":0},0,0,0,0,0,null,null,null,null,2118,"EKUNHA"]
[{"$f":"IF(INTRO!$E$33<>0,INTRO!$E$33, \" \")","v":"Angola"},"HUAMBO","HUAMBO",980902,{"$f":"IF(INTRO!$E$48=\"\",\"\",ROUND($D47*INTRO!$E$48,0))","v":156944},{"$f":"IF(INTRO!$E$49=\"\",\"\",ROUND($D47*INTRO!$E$49,0))","v":273672},{"$f":"IF(INTRO!$E$50=\"\",\"\",ROUND($D47*INTRO!$E$50,0))","v":516935},0,4,1,3,0,{"$f":"IF(INTRO!$E$37=\"Endémique\",IF($H47>0,IF($H47=4,\"Inconnu\",IF($H47=99,\"Interrompu\",$D47)),0),\"Non requis\")","v":0},{"$f":"IF(INTRO!$E$39=\"Endémique\", IF($I47>0, IF($I47=4,\"Inconnu\",IF($I47=99,\"Interrompu\",$D47)), 0),\"Non requis\")","v":"Inconnu"},{"$f":"IF(INTRO!$E$41=\"Endémique\", IF(AND($J47>1,$J47<5), IF($J47=4, \"Inconnu\", E47+F47), 0),\"Non requis\")","v":0},654979,0,0,0,1,null,null,null,null,2119,"HUAMBO"]
[{"$f":"IF(INTRO!$E$33<>0,INTRO!$E$33, \" \")","v":"Angola"},"HUAMBO","CACHIUNGO",165988,{"$f":"IF(INTRO!$E$48=\"\",\"\",ROUND($D48*INTRO!$E$48,0))","v":26558},{"$f":"IF(INTRO!$E$49=\"\",\"\",ROUND($D48*INTRO!$E$49,0))","v":46311},{"$f":"IF(INTRO!$E$50=\"\",\"\",ROUND($D48*INTRO!$E$50,0))","v":87476},0,4,1,1,0,{"$f":"IF(INTRO!$E$37=\"Endémique\",IF($H48>0,IF($H48=4,\"Inconnu\",IF($H48=99,\"Interrompu\",$D48)),0),\"Non requis\")","v":0},{"$f":"IF(INTRO!$E$39=\"Endémique\", IF($I48>0, IF($I48=4,\"Inconnu\",IF($I48=99,\"Interrompu\",$D48)), 0),\"Non requis\")","v":"Inconnu"},{"$f":"IF(INTRO!$E$41=\"Endémique\", IF(AND($J48>1,$J48<5), IF($J48=4, \"Inconnu\", E48+F48), 0),\"Non requis\")","v":0},42629,0,0,0,0,null,null,null,null,2121,"CACHIUNGO"]
[{"$f":"IF(INTRO!$E$33<>0,INTRO!$E$33, \" \")","v":"Angola"},"HUAMBO","LONDUIMBALI",184663,{"$f":"IF(INTRO!$E$48=\"\",\"\",ROUND($D49*INTRO!$E$48,0))","v":29546},{"$f":"IF(INTRO!$E$49=\"\",\"\",ROUND($D49*INTRO!$E$49,0))","v":51521},{"$f":"IF(INTRO!$E$50=\"\",\"\",ROUND($D49*INTRO!$E$50,0))","v":97317},0,4,1,3,0,{"$f":"IF(INTRO!$E$37=\"Endémique\",IF($H49>0,IF($H49=4,\"Inconnu\",IF($H49=99,\"Interrompu\",$D49)),0),\"Non requis\")","v":0},{"$f":"IF(INTRO!$E$39=\"Endémique\", IF($I49>0, IF($I49=4,\"Inconnu\",IF($I49=99,\"Interrompu\",$D49)), 0),\"Non requis\")","v":"Inconnu"},{"$f":"IF(INTRO!$E$41=\"Endémique\", IF(AND($J49>1,$J49<5), IF($J49=4, \"Inconnu\", E49+F49), 0),\"Non requis\")","v":0},57179,0,0,0,1,null,null,null,null,2122,"LONDUIMBALI"]
[{"$f":"IF(INTRO!$E$33<>0,INTRO!$E$33, \" \")","v":"Angola"},"HUAMBO","LONGONJO",126687,{"$f":"IF(INTRO!$E$48=\"\",\"\",ROUND($D50*INTRO!$E$48,0))","v":20270},{"$f":"IF(INTRO!$E$49=\"\",\"\",ROUND($D50*INTRO!$E$49,0))","v":35346},{"$f":"IF(INTRO!$E$50=\"\",\"\",ROUND($D50*INTRO!$E$50,0))","v":66764},0,4,1,3,0,{"$f":"IF(INTRO!$E$37=\"Endémique\",IF($H50>0,IF($H50=4,\"Inconnu\",IF($H50=99,\"Interrompu\",$D50)),0),\"Non requis\")","v":0},{"$f":"IF(INTRO!$E$39=\"Endémique\", IF($I50>0, IF($I50=4,\"Inconnu\",IF($I50=99,\"Interrompu\",$D50)), 0),\"Non requis\")","v":"Inconnu"},{"$f":"IF(INTRO!$E$41=\"Endémique\", IF(AND($J50>1,$J50<5), IF($J50=4, \"Inconnu\", E50+F50), 0),\"Non requis\")","v":0},57112,0,0,0,1,null,null,null,null,2123,"LONGONJO"]
[{"$f":"IF(INTRO!$E$33<>0,INTRO!$E$33, \" \")","v":"Angola"},"HUAMBO","MUNGO",156001,{"$f":"IF(INTRO!$E$48=\"\",\"\",ROUND($D51*INTRO!$E$48,0))","v":24960},{"$f":"IF(INTRO!$E$49=\"\",\"\",ROUND($D51*INTRO!$E$49,0))","v":43524},{"$f":"IF(INTRO!$E$50=\"\",\"\",ROUND($D51*INTRO!$E$50,0))","v":82213},0,1,0,0,1,{"$f":"IF(INTRO!$E$37=\"Endémique\",IF($H51>0,IF($H51=4,\"Inconnu\",IF($H51=99,\"Interrompu\",$D51)),0),\"Non requis\")","v":0},{"$f":"IF(INTRO!$E$39=\"Endémique\", IF($I51>0, IF($I51=4,\"Inconnu\",IF($I51=99,\"Interrompu\",$D51)), 0),\"Non requis\")","v":156001},{"$f":"IF(INTRO!$E$41=\"Endémique\", IF(AND($J51>1,$J51<5), IF($J51=4, \"Inconnu\", E51+F51), 0),\"Non requis\")","v":0},0,0,1,0,0,null,null,null,null,2124,"MUNGO"]
[{"$f":"IF(INTRO!$E$33<>0,INTRO!$E$33, \" \")","v":"Angola"},"HUAMBO","CHICALA CHOLOHANGA",142563,{"$f":"IF(INTRO!$E$48=\"\",\"\",ROUND($D52*INTRO!$E$48,0))","v":22810},{"$f":"IF(INTRO!$E$49=\"\",\"\",ROUND($D52*INTRO!$E$49,0))","v":39775},{"$f":"IF(INTRO!$E$50=\"\",\"\",ROUND($D52*INTRO!$E$50,0))","v":75131},0,4,1,3,0,{"$f":"IF(INTRO!$E$37=\"Endémique\",IF($H52>0,IF($H52=4,\"Inconnu\",IF($H52=99,\"Interrompu\",$D52)),0),\"Non requis\")","v":0},{"$f":"IF(INTRO!$E$39=\"Endémique\", IF($I52>0, IF($I52=4,\"Inconnu\",IF($I52=99,\"Interrompu\",$D52)), 0),\"Non requis\")","v":"Inconnu"},{"$f":"IF(INTRO!$E$41=\"Endémique\", IF(AND($J52>1,$J52<5), IF($J52=4, \"Inconnu\", E52+F52), 0),\"Non requis\")","v":0},65353,0,0,0,1,null,null,null,null,2125,"TCHICALA TCHOLOHANGA"]
[{"$f":"IF(INTRO!$E$33<>0,INTRO!$E$33, \" \")","v":"Angola"},"HUAMBO","CHINDJENJE",41875,{"$f":"IF(INTRO!$E$48=\"\",\"\",ROUND($D53*INTRO!$E$48,0))","v":6700},{"$f":"IF(INTRO!$E$49=\"\",\"\",ROUND($D53*INTRO!$E$49,0))","v":11683},{"$f":"IF(INTRO!$E$50=\"\",\"\",ROUND($D53*INTRO!$E$50,0))","v":22068},0,4,1,3,0,{"$f":"IF(INTRO!$E$37=\"Endémique\",IF($H53>0,IF($H53=4,\"Inconnu\",IF($H53=99,\"Interrompu\",$D53)),0),\"Non requis\")","v":0},{"$f":"IF(INTRO!$E$39=\"Endémique\", IF($I53>0, IF($I53=4,\"Inconnu\",IF($I53=99,\"Interrompu\",$D53)), 0),\"Non requis\")","v":"Inconnu"},{"$f":"IF(INTRO!$E$41=\"Endémique\", IF(AND($J53>1,$J53<5), IF($J53=4, \"Inconnu\", E53+F53), 0),\"Non requis\")","v":0},19018,0,0,0,1,null,null,null,null,2117,"TCHINDJENJE"]
[{"$f":"IF(INTRO!$E$33<>0,INTRO!$E$33, \" \")","v":"Angola"},"HUAMBO","UCUMA",75725,{"$f":"IF(INTRO!$E$48=\"\",\"\",ROUND($D54*INTRO!$E$48,0))","v":12116},{"$f":"IF(INTRO!$E$49=\"\",\"\",ROUND($D54*INTRO!$E$49,0))","v":21127},{"$f":"IF(INTRO!$E$50=\"\",\"\",ROUND($D54*INTRO!$E$50,0))","v":39907},0,4,2,2,0,{"$f":"IF(INTRO!$E$37=\"Endémique\",IF($H54>0,IF($H54=4,\"Inconnu\",IF($H54=99,\"Interrompu\",$D54)),0),\"Non requis\")","v":0},{"$f":"IF(INTRO!$E$39=\"Endémique\", IF($I54>0, IF($I54=4,\"Inconnu\",IF($I54=99,\"Interrompu\",$D54)), 0),\"Non requis\")","v":"Inconnu"},{"$f":"IF(INTRO!$E$41=\"Endémique\", IF(AND($J54>1,$J54<5), IF($J54=4, \"Inconnu\", E54+F54), 0),\"Non requis\")","v":33243},26795,0,0,1,1,null,null,null,null,2126,"UKUMA"]
[{"$f":"IF(INTRO!$E$33<>0,INTRO!$E$33, \" \")","v":"Angola"},"HUILA","CACONDA",225576,{"$f":"IF(INTRO!$E$48=\"\",\"\",ROUND($D55*INTRO!$E$48,0))","v":36092},{"$f":"IF(INTRO!$E$49=\"\",\"\",ROUND($D55*INTRO!$E$49,0))","v":62936},{"$f":"IF(INTRO!$E$50=\"\",\"\",ROUND($D55*INTRO!$E$50,0))","v":118879},0,4,1,3,0,{"$f":"IF(INTRO!$E$37=\"Endémique\",IF($H55>0,IF($H55=4,\"Inconnu\",IF($H55=99,\"Interrompu\",$D55)),0),\"Non requis\")","v":0},{"$f":"IF(INTRO!$E$39=\"Endémique\", IF($I55>0, IF($I55=4,\"Inconnu\",IF($I55=99,\"Interrompu\",$D55)), 0),\"Non requis\")","v":"Inconnu"},{"$f":"IF(INTRO!$E$41=\"Endémique\", IF(AND($J55>1,$J55<5), IF($J55=4, \"Inconnu\", E55+F55), 0),\"Non requis\")","v":0},99616,0,0,0,1,null,null,null,null,2133,"CACONDA"]
[{"$f":"IF(INTRO!$E$33<>0,INTRO!$E$33, \" \")","v":"Angola"},"HUILA","CACULA",184119,{"$f":"IF(INTRO!$E$48=\"\",\"\",ROUND($D56*INTRO!$E$48,0))","v":29459},{"$f":"IF(INTRO!$E$49=\"\",\"\",ROUND($D56*INTRO!$E$49,0))","v":51369},{"$f":"IF(INTRO!$E$50=\"\",\"\",ROUND($D56*INTRO!$E$50,0))","v":97031},0,4,0,2,0,{"$f":"IF(INTRO!$E$37=\"Endémique\",IF($H56>0,IF($H56=4,\"Inconnu\",IF($H56=99,\"Interrompu\",$D56)),0),\"Non requis\")","v":0},{"$f":"IF(INTRO!$E$39=\"Endémique\", IF($I56>0, IF($I56=4,\"Inconnu\",IF($I56=99,\"Interrompu\",$D56)), 0),\"Non requis\")","v":"Inconnu"},{"$f":"IF(INTRO!$E$41=\"Endémique\", IF(AND($J56>1,$J56<5), IF($J56=4, \"Inconnu\", E56+F56), 0),\"Non requis\")","v":0},44436,0,0,0,1,null,null,null,null,2214,"CACULA"]
[{"$f":"IF(INTRO!$E$33<>0,INTRO!$E$33, \" \")","v":"Angola"},"HUILA","CALUQUEMBE",241855,{"$f":"IF(INTRO!$E$48=\"\",\"\",ROUND($D57*INTRO!$E$48,0))","v":38697},{"$f":"IF(INTRO!$E$49=\"\",\"\",ROUND($D57*INTRO!$E$49,0))","v":67478},{"$f":"IF(INTRO!$E$50=\"\",\"\",ROUND($D57*INTRO!$E$50,0))","v":127458},0,1,1,3,0,{"$f":"IF(INTRO!$E$37=\"Endémique\",IF($H57>0,IF($H57=4,\"Inconnu\",IF($H57=99,\"Interrompu\",$D57)),0),\"Non requis\")","v":0},{"$f":"IF(INTRO!$E$39=\"Endémique\", IF($I57>0, IF($I57=4,\"Inconnu\",IF($I57=99,\"Interrompu\",$D57)), 0),\"Non requis\")","v":241855},{"$f":"IF(INTRO!$E$41=\"Endémique\", IF(AND($J57>1,$J57<5), IF($J57=4, \"Inconnu\", E57+F57), 0),\"Non requis\")","v":0},101592,0,1,0,1,null,null,null,null,2134,"CALUQUEMBE"]
[{"$f":"IF(INTRO!$E$33<>0,INTRO!$E$33, \" \")","v":"Angola"},"HUILA","CHIBIA",256292,{"$f":"IF(INTRO!$E$48=\"\",\"\",ROUND($D58*INTRO!$E$48,0))","v":41007},{"$f":"IF(INTRO!$E$49=\"\",\"\",ROUND($D58*INTRO!$E$49,0))","v":71505},{"$f":"IF(INTRO!$E$50=\"\",\"\",ROUND($D58*INTRO!$E$50,0))","v":135066},0,4,0,3,0,{"$f":"IF(INTRO!$E$37=\"Endémique\",IF($H58>0,IF($H58=4,\"Inconnu\",IF($H58=99,\"Interrompu\",$D58)),0),\"Non requis\")","v":0},{"$f":"IF(INTRO!$E$39=\"Endémique\", IF($I58>0, IF($I58=4,\"Inconnu\",IF($I58=99,\"Interrompu\",$D58)), 0),\"Non requis\")","v":"Inconnu"},{"$f":"IF(INTRO!$E$41=\"Endémique\", IF(AND($J58>1,$J58<5), IF($J58=4, \"Inconnu\", E58+F58), 0),\"Non requis\")","v":0},125289,0,0,0,1,null,null,null,null,2127,"CHIBIA"]
[{"$f":"IF(INTRO!$E$33<>0,INTRO!$E$33, \" \")","v":"Angola"},"HUILA","CHICOMBA",177169,{"$f":"IF(INTRO!$E$48=\"\",\"\",ROUND($D59*INTRO!$E$48,0))","v":28347},{"$f":"IF(INTRO!$E$49=\"\",\"\",ROUND($D59*INTRO!$E$49,0))","v":49430},{"$f":"IF(INTRO!$E$50=\"\",\"\",ROUND($D59*INTRO!$E$50,0))","v":93368},0,1,0,3,0,{"$f":"IF(INTRO!$E$37=\"Endémique\",IF($H59>0,IF($H59=4,\"Inconnu\",IF($H59=99,\"Interrompu\",$D59)),0),\"Non requis\")","v":0},{"$f":"IF(INTRO!$E$39=\"Endémique\", IF($I59>0, IF($I59=4,\"Inconnu\",IF($I59=99,\"Interrompu\",$D59)), 0),\"Non requis\")","v":177169},{"$f":"IF(INTRO!$E$41=\"Endémique\", IF(AND($J59>1,$J59<5), IF($J59=4, \"Inconnu\", E59+F59), 0),\"Non requis\")","v":0},110138,0,1,0,1,null,null,null,null,2128,"CHICOMBA"]
[{"$f":"IF(INTRO!$E$33<>0,INTRO!$E$33, \" \")","v":"Angola"},"HUILA","CHIPINDO",86986,{"$f":"IF(INTRO!$E$48=\"\",\"\",ROUND($D60*INTRO!$E$48,0))","v":13918},{"$f":"IF(INTRO!$E$49=\"\",\"\",ROUND($D60*INTRO!$E$49,0))","v":24269},{"$f":"IF(INTRO!$E$50=\"\",\"\",ROUND($D60*INTRO!$E$50,0))","v":45842},1,1,1,2,0,{"$f":"IF(INTRO!$E$37=\"Endémique\",IF($H60>0,IF($H60=4,\"Inconnu\",IF($H60=99,\"Interrompu\",$D60)),0),\"Non requis\")","v":86986},{"$f":"IF(INTRO!$E$39=\"Endémique\", IF($I60>0, IF($I60=4,\"Inconnu\",IF($I60=99,\"Interrompu\",$D60)), 0),\"Non requis\")","v":86986},{"$f":"IF(INTRO!$E$41=\"Endémique\", IF(AND($J60>1,$J60<5), IF($J60=4, \"Inconnu\", E60+F60), 0),\"Non requis\")","v":0},22789,1,1,0,1,null,null,null,null,2129,"CHIPINDO"]
[{"$f":"IF(INTRO!$E$33<>0,INTRO!$E$33, \" \")","v":"Angola"},"HUILA","GAMBOS",106809,{"$f":"IF(INTRO!$E$48=\"\",\"\",ROUND($D61*INTRO!$E$48,0))","v":17089},{"$f":"IF(INTRO!$E$49=\"\",\"\",ROUND($D61*INTRO!$E$49,0))","v":29800},{"$f":"IF(INTRO!$E$50=\"\",\"\",ROUND($D61*INTRO!$E$50,0))","v":56288},0,4,0,2,0,{"$f":"IF(INTRO!$E$37=\"Endémique\",IF($H61>0,IF($H61=4,\"Inconnu\",IF($H61=99,\"Interrompu\",$D61)),0),\"Non requis\")","v":0},{"$f":"IF(INTRO!$E$39=\"Endémique\", IF($I61>0, IF($I61=4,\"Inconnu\",IF($I61=99,\"Interrompu\",$D61)), 0),\"Non requis\")","v":"Inconnu"},{"$f":"IF(INTRO!$E$41=\"Endémique\", IF(AND($J61>1,$J61<5), IF($J61=4, \"Inconnu\", E61+F61), 0),\"Non requis\")","v":0},37794,0,0,0,1,null,null,null,null,2130,"GAMBOS"]
[{"$f":"IF(INTRO!$E$33<>0,INTRO!$E$33, \" \")","v":"Angola"},"HUILA","HUMPATA",119824,{"$f":"IF(INTRO!$E$48=\"\",\"\",ROUND($D62*INTRO!$E$48,0))","v":19172},{"$f":"IF(INTRO!$E$49=\"\",\"\",ROUND($D62*INTRO!$E$49,0))","v":33431},{"$f":"IF(INTRO!$E$50=\"\",\"\",ROUND($D62*INTRO!$E$50,0))","v":63147},0,4,1,2,0,{"$f":"IF(INTRO!$E$37=\"Endémique\",IF($H62>0,IF($H62=4,\"Inconnu\",IF($H62=99,\"Interrompu\",$D62)),0),\"Non requis\")","v":0},{"$f":"IF(INTRO!$E$39=\"Endémique\", IF($I62>0, IF($I62=4,\"Inconnu\",IF($I62=99,\"Interrompu\",$D62)), 0),\"Non requis\")","v":"Inconnu"},{"$f":"IF(INTRO!$E$41=\"Endémique\", IF(AND($J62>1,$J62<5), IF($J62=4, \"Inconnu\", E62+F62), 0),\"Non requis\")","v":0},42398,0,0,0,1,null,null,null,null,2131,"HUMPATA"]
[{"$f":"IF(INTRO!$E$33<>0,INTRO!$E$33, \" \")","v":"Angola"},"HUILA","JAMBA",141258,{"$f":"IF(INTRO!$E$48=\"\",\"\",ROUND($D63*INTRO!$E$48,0))","v":22601},{"$f":"IF(INTRO!$E$49=\"\",\"\",ROUND($D63*INTRO!$E$49,0))","v":39411},{"$f":"IF(INTRO!$E$50=\"\",\"\",ROUND($D63*INTRO!$E$50,0))","v":74443},1,4,0,3,0,{"$f":"IF(INTRO!$E$37=\"Endémique\",IF($H63>0,IF($H63=4,\"Inconnu\",IF($H63=99,\"Interrompu\",$D63)),0),\"Non requis\")","v":141258},{"$f":"IF(INTRO!$E$39=\"Endémique\", IF($I63>0, IF($I63=4,\"Inconnu\",IF($I63=99,\"Interrompu\",$D63)), 0),\"Non requis\")","v":"Inconnu"},{"$f":"IF(INTRO!$E$41=\"Endémique\", IF(AND($J63>1,$J63<5), IF($J63=4, \"Inconnu\", E63+F63), 0),\"Non requis\")","v":0},91076,1,0,0,1,null,null,null,null,2132,"JAMBA"]
[{"$f":"IF(INTRO!$E$33<>0,INTRO!$E$33, \" \")","v":"Angola"},"HUILA","CUVANGO",105575,{"$f":"IF(INTRO!$E$48=\"\",\"\",ROUND($D64*INTRO!$E$48,0))","v":16892},{"$f":"IF(INTRO!$E$49=\"\",\"\",ROUND($D64*INTRO!$E$49,0))","v":29455},{"$f":"IF(INTRO!$E$50=\"\",\"\",ROUND($D64*INTRO!$E$50,0))","v":55638},1,4,0,2,1,{"$f":"IF(INTRO!$E$37=\"Endémique\",IF($H64>0,IF($H64=4,\"Inconnu\",IF($H64=99,\"Interrompu\",$D64)),0),\"Non requis\")","v":105575},{"$f":"IF(INTRO!$E$39=\"Endémique\", IF($I64>0, IF($I64=4,\"Inconnu\",IF($I64=99,\"Interrompu\",$D64)), 0),\"Non requis\")","v":"Inconnu"},{"$f":"IF(INTRO!$E$41=\"Endémique\", IF(AND($J64>1,$J64<5), IF($J64=4, \"Inconnu\", E64+F64), 0),\"Non requis\")","v":0},37357,1,0,0,1,null,null,null,null,2136,"KUVANGO"]
[{"$f":"IF(INTRO!$E$33<>0,INTRO!$E$33, \" \")","v":"Angola"},"HUILA","LUBANGO",1043403,{"$f":"IF(INTRO!$E$48=\"\",\"\",ROUND($D65*INTRO!$E$48,0))","v":166944},{"$f":"IF(INTRO!$E$49=\"\",\"\",ROUND($D65*INTRO!$E$49,0))","v":291109},{"$f":"IF(INTRO!$E$50=\"\",\"\",ROUND($D65*INTRO!$E$50,0))","v":549873},0,4,1,3,0,{"$f":"IF(INTRO!$E$37=\"Endémique\",IF($H65>0,IF($H65=4,\"Inconnu\",IF($H65=99,\"Interrompu\",$D65)),0),\"Non requis\")","v":0},{"$f":"IF(INTRO!$E$39=\"Endémique\", IF($I65>0, IF($I65=4,\"Inconnu\",IF($I65=99,\"Interrompu\",$D65)), 0),\"Non requis\")","v":"Inconnu"},{"$f":"IF(INTRO!$E$41=\"Endémique\", IF(AND($J65>1,$J65<5), IF($J65=4, \"Inconnu\", E65+F65), 0),\"Non requis\")","v":0},431112,0,0,0,1,null,null,null,null,2137,"LUBANGO"]
[{"$f":"IF(INTRO!$E$33<>0,INTRO!$E$33, \" \")","v":"Angola"},"HUILA","MATALA",353196,{"$f":"IF(INTRO!$E$48=\"\",\"\",ROUND($D66*INTRO!$E$48,0))","v":56511},{"$f":"IF(INTRO!$E$49=\"\",\"\",ROUND($D66*INTRO!$E$49,0))","v":98542},{"$f":"IF(INTRO!$E$50=\"\",\"\",ROUND($D66*INTRO!$E$50,0))","v":186134},0,1,1,3,0,{"$f":"IF(INTRO!$E$37=\"Endémique\",IF($H66>0,IF($H66=4,\"Inconnu\",IF($H66=99,\"Interrompu\",$D66)),0),\"Non requis\")","v":0},{"$f":"IF(INTRO!$E$39=\"Endémique\", IF($I66>0, IF($I66=4,\"Inconnu\",IF($I66=99,\"Interrompu\",$D66)), 0),\"Non requis\")","v":353196},{"$f":"IF(INTRO!$E$41=\"Endémique\", IF(AND($J66>1,$J66<5), IF($J66=4, \"Inconnu\", E66+F66), 0),\"Non requis\")","v":0},236249,0,1,0,1,null,null,null,null,2138,"MATALA"]
[{"$f":"IF(INTRO!$E$33<>0,INTRO!$E$33, \" \")","v":"Angola"},"HUILA","QUILENGUES",101261,{"$f":"IF(INTRO!$E$48=\"\",\"\",ROUND($D67*INTRO!$E$48,0))","v":16202},{"$f":"IF(INTRO!$E$49=\"\",\"\",ROUND($D67*INTRO!$E$49,0))","v":28252},{"$f":"IF(INTRO!$E$50=\"\",\"\",ROUND($D67*INTRO!$E$50,0))","v":53365},0,1,0,3,0,{"$f":"IF(INTRO!$E$37=\"Endémique\",IF($H67>0,IF($H67=4,\"Inconnu\",IF($H67=99,\"Interrompu\",$D67)),0),\"Non requis\")","v":0},{"$f":"IF(INTRO!$E$39=\"Endémique\", IF($I67>0, IF($I67=4,\"Inconnu\",IF($I67=99,\"Interrompu\",$D67)), 0),\"Non requis\")","v":101261},{"$f":"IF(INTRO!$E$41=\"Endémique\", IF(AND($J67>1,$J67<5), IF($J67=4, \"Inconnu\", E67+F67), 0),\"Non requis\")","v":0},54518,0,1,0,1,null,null,null,null,2135,"QUILENGUES"]
[{"$f":"IF(INTRO!$E$33<>0,INTRO!$E$33, \" \")","v":"Angola"},"HUILA","QUIPUNGO",213612,{"$f":"IF(INTRO!$E$48=\"\",\"\",ROUND($D68*INTRO!$E$48,0))","v":34178},{"$f":"IF(INTRO!$E$49=\"\",\"\",ROUND($D68*INTRO!$E$49,0))","v":59598},{"$f":"IF(INTRO!$E$50=\"\",\"\",ROUND($D68*INTRO!$E$50,0))","v":112574},0,1,1,3,0,{"$f":"IF(INTRO!$E$37=\"Endémique\",IF($H68>0,IF($H68=4,\"Inconnu\",IF($H68=99,\"Interrompu\",$D68)),0),\"Non requis\")","v":0},{"$f":"IF(INTRO!$E$39=\"Endémique\", IF($I68>0, IF($I68=4,\"Inconnu\",IF($I68=99,\"Interrompu\",$D68)), 0),\"Non requis\")","v":213612},{"$f":"IF(INTRO!$E$41=\"Endémique\", IF(AND($J68>1,$J68<5), IF($J68=4, \"Inconnu\", E68+F68), 0),\"Non requis\")","v":0},158482,0,1,0,1,null,null,null,null,2221,"QUIPUNGO"]
[{"$f":"IF(INTRO!$E$33<>0,INTRO!$E$33, \" \")","v":"Angola"},"CUANDO CUBANGO","CALAI",30318,{"$f":"IF(INTRO!$E$48=\"\",\"\",ROUND($D69*INTRO!$E$48,0))","v":4851},{"$f":"IF(INTRO!$E$49=\"\",\"\",ROUND($D69*INTRO!$E$49,0))","v":8459},{"$f":"IF(INTRO!$E$50=\"\",\"\",ROUND($D69*INTRO!$E$50,0))","v":15978},0,4,1,2,1,{"$f":"IF(INTRO!$E$37=\"Endémique\",IF($H69>0,IF($H69=4,\"Inconnu\",IF($H69=99,\"Interrompu\",$D69)),0),\"Non requis\")","v":0},{"$f":"IF(INTRO!$E$39=\"Endémique\", IF($I69>0, IF($I69=4,\"Inconnu\",IF($I69=99,\"Interrompu\",$D69)), 0),\"Non requis\")","v":"Inconnu"},{"$f":"IF(INTRO!$E$41=\"Endémique\", IF(AND($J69>1,$J69<5), IF($J69=4, \"Inconnu\", E69+F69), 0),\"Non requis\")","v":0},10395,0,0,0,1,null,null,null,null,2078,"CALAI"]
[{"$f":"IF(INTRO!$E$33<>0,INTRO!$E$33, \" \")","v":"Angola"},"CUANDO CUBANGO","CUANGAR",38087,{"$f":"IF(INTRO!$E$48=\"\",\"\",ROUND($D70*INTRO!$E$48,0))","v":6094},{"$f":"IF(INTRO!$E$49=\"\",\"\",ROUND($D70*INTRO!$E$49,0))","v":10626},{"$f":"IF(INTRO!$E$50=\"\",\"\",ROUND($D70*INTRO!$E$50,0))","v":20072},0,1,1,2,1,{"$f":"IF(INTRO!$E$37=\"Endémique\",IF($H70>0,IF($H70=4,\"Inconnu\",IF($H70=99,\"Interrompu\",$D70)),0),\"Non requis\")","v":0},{"$f":"IF(INTRO!$E$39=\"Endémique\", IF($I70>0, IF($I70=4,\"Inconnu\",IF($I70=99,\"Interrompu\",$D70)), 0),\"Non requis\")","v":38087},{"$f":"IF(INTRO!$E$41=\"Endémique\", IF(AND($J70>1,$J70<5), IF($J70=4, \"Inconnu\", E70+F70), 0),\"Non requis\")","v":0},11750,0,1,0,1,null,null,null,null,2076,"CUANGAR"]
[{"$f":"IF(INTRO!$E$33<>0,INTRO!$E$33, \" \")","v":"Angola"},"CUANDO CUBANGO","CUCHI",57512,{"$f":"IF(INTRO!$E$48=\"\",\"\",ROUND($D71*INTRO!$E$48,0))","v":9202},{"$f":"IF(INTRO!$E$49=\"\",\"\",ROUND($D71*INTRO!$E$49,0))","v":16046},{"$f":"IF(INTRO!$E$50=\"\",\"\",ROUND($D71*INTRO!$E$50,0))","v":30309},0,1,0,2,1,{"$f":"IF(INTRO!$E$37=\"Endémique\",IF($H71>0,IF($H71=4,\"Inconnu\",IF($H71=99,\"Interrompu\",$D71)),0),\"Non requis\")","v":0},{"$f":"IF(INTRO!$E$39=\"Endémique\", IF($I71>0, IF($I71=4,\"Inconnu\",IF($I71=99,\"Interrompu\",$D71)), 0),\"Non requis\")","v":57512},{"$f":"IF(INTRO!$E$41=\"Endémique\", IF(AND($J71>1,$J71<5), IF($J71=4, \"Inconnu\", E71+F71), 0),\"Non requis\")","v":0},17320,0,1,0,1,null,null,null,null,2079,"CUCHI"]
[{"$f":"IF(INTRO!$E$33<>0,INTRO!$E$33, \" \")","v":"Angola"},"CUANDO CUBANGO","DIRICO",20243,{"$f":"IF(INTRO!$E$48=\"\",\"\",ROUND($D72*INTRO!$E$48,0))","v":3239},{"$f":"IF(INTRO!$E$49=\"\",\"\",ROUND($D72*INTRO!$E$49,0))","v":5648},{"$f":"IF(INTRO!$E$50=\"\",\"\",ROUND($D72*INTRO!$E$50,0))","v":10668},0,4,1,2,1,{"$f":"IF(INTRO!$E$37=\"Endémique\",IF($H72>0,IF($H72=4,\"Inconnu\",IF($H72=99,\"Interrompu\",$D72)),0),\"Non requis\")","v":0},{"$f":"IF(INTRO!$E$39=\"Endémique\", IF($I72>0, IF($I72=4,\"Inconnu\",IF($I72=99,\"Interrompu\",$D72)), 0),\"Non requis\")","v":"Inconnu"},{"$f":"IF(INTRO!$E$41=\"Endémique\", IF(AND($J72>1,$J72<5), IF($J72=4, \"Inconnu\", E72+F72), 0),\"Non requis\")","v":0},6049,0,0,0,1,null,null,null,null,2077,"DIRICO"]
[{"$f":"IF(INTRO!$E$33<>0,INTRO!$E$33, \" \")","v":"Angola"},"CUANDO CUBANGO","CUITO CUANAVALE",54642,{"$f":"IF(INTRO!$E$48=\"\",\"\",ROUND($D73*INTRO!$E$48,0))","v":8743},{"$f":"IF(INTRO!$E$49=\"\",\"\",ROUND($D73*INTRO!$E$49,0))","v":15245},{"$f":"IF(INTRO!$E$50=\"\",\"\",ROUND($D73*INTRO!$E$50,0))","v":28796},0,1,1,2,1,{"$f":"IF(INTRO!$E$37=\"Endémique\",IF($H73>0,IF($H73=4,\"Inconnu\",IF($H73=99,\"Interrompu\",$D73)),0),\"Non requis\")","v":0},{"$f":"IF(INTRO!$E$39=\"Endémique\", IF($I73>0, IF($I73=4,\"Inconnu\",IF($I73=99,\"Interrompu\",$D73)), 0),\"Non requis\")","v":54642},{"$f":"IF(INTRO!$E$41=\"Endémique\", IF(AND($J73>1,$J73<5), IF($J73=4, \"Inconnu\", E73+F73), 0),\"Non requis\")","v":0},15994,0,1,0,1,null,null,null,null,2080,"KUITO KUANAVALE"]
[{"$f":"IF(INTRO!$E$33<>0,INTRO!$E$33, \" \")","v":"Angola"},"CUANDO CUBANGO","MAVINGA",36397,{"$f":"IF(INTRO!$E$48=\"\",\"\",ROUND($D74*INTRO!$E$48,0))","v":5824},{"$f":"IF(INTRO!$E$49=\"\",\"\",ROUND($D74*INTRO!$E$49,0))","v":10155},{"$f":"IF(INTRO!$E$50=\"\",\"\",ROUND($D74*INTRO!$E$50,0))","v":19181},0,4,1,1,1,{"$f":"IF(INTRO!$E$37=\"Endémique\",IF($H74>0,IF($H74=4,\"Inconnu\",IF($H74=99,\"Interrompu\",$D74)),0),\"Non requis\")","v":0},{"$f":"IF(INTRO!$E$39=\"Endémique\", IF($I74>0, IF($I74=4,\"Inconnu\",IF($I74=99,\"Interrompu\",$D74)), 0),\"Non requis\")","v":"Inconnu"},{"$f":"IF(INTRO!$E$41=\"Endémique\", IF(AND($J74>1,$J74<5), IF($J74=4, \"Inconnu\", E74+F74), 0),\"Non requis\")","v":0},2387,0,0,0,0,null,null,null,null,2081,"MAVINGA"]
[{"$f":"IF(INTRO!$E$33<>0,INTRO!$E$33, \" \")","v":"Angola"},"CUANDO CUBANGO","MENONGUE",429478,{"$f":"IF(INTRO!$E$48=\"\",\"\",ROUND($D75*INTRO!$E$48,0))","v":68716},{"$f":"IF(INTRO!$E$49=\"\",\"\",ROUND($D75*INTRO!$E$49,0))","v":119824},{"$f":"IF(INTRO!$E$50=\"\",\"\",ROUND($D75*INTRO!$E$50,0))","v":226335},0,1,1,2,1,{"$f":"IF(INTRO!$E$37=\"Endémique\",IF($H75>0,IF($H75=4,\"Inconnu\",IF($H75=99,\"Interrompu\",$D75)),0),\"Non requis\")","v":0},{"$f":"IF(INTRO!$E$39=\"Endémique\", IF($I75>0, IF($I75=4,\"Inconnu\",IF($I75=99,\"Interrompu\",$D75)), 0),\"Non requis\")","v":429478},{"$f":"IF(INTRO!$E$41=\"Endémique\", IF(AND($J75>1,$J75<5), IF($J75=4, \"Inconnu\", E75+F75), 0),\"Non requis\")","v":0},151414,0,1,0,1,null,null,null,null,2082,"MENONGUE"]
[{"$f":"IF(INTRO!$E$33<>0,INTRO!$E$33, \" \")","v":"Angola"},"CUANDO CUBANGO","NANKOVA",3742,{"$f":"IF(INTRO!$E$48=\"\",\"\",ROUND($D76*INTRO!$E$48,0))","v":599},{"$f":"IF(INTRO!$E$49=\"\",\"\",ROUND($D76*INTRO!$E$49,0))","v":1044},{"$f":"IF(INTRO!$E$50=\"\",\"\",ROUND($D76*INTRO!$E$50,0))","v":1972},0,1,1,0,1,{"$f":"IF(INTRO!$E$37=\"Endémique\",IF($H76>0,IF($H76=4,\"Inconnu\",IF($H76=99,\"Interrompu\",$D76)),0),\"Non requis\")","v":0},{"$f":"IF(INTRO!$E$39=\"Endémique\", IF($I76>0, IF($I76=4,\"Inconnu\",IF($I76=99,\"Interrompu\",$D76)), 0),\"Non requis\")","v":3742},{"$f":"IF(INTRO!$E$41=\"Endémique\", IF(AND($J76>1,$J76<5), IF($J76=4, \"Inconnu\", E76+F76), 0),\"Non requis\")","v":0},0,0,1,0,0,null,null,null,null,2083,"NANKOVA"]
[{"$f":"IF(INTRO!$E$33<>0,INTRO!$E$33, \" \")","v":"Angola"},"CUANDO CUBANGO","RIVUNGO",44234,{"$f":"IF(INTRO!$E$48=\"\",\"\",ROUND($D77*INTRO!$E$48,0))","v":7077},{"$f":"IF(INTRO!$E$49=\"\",\"\",ROUND($D77*INTRO!$E$49,0))","v":12341},{"$f":"IF(INTRO!$E$50=\"\",\"\",ROUND($D77*INTRO!$E$50,0))","v":23311},0,4,1,1,0,{"$f":"IF(INTRO!$E$37=\"Endémique\",IF($H77>0,IF($H77=4,\"Inconnu\",IF($H77=99,\"Interrompu\",$D77)),0),\"Non requis\")","v":0},{"$f":"IF(INTRO!$E$39=\"Endémique\", IF($I77>0, IF($I77=4,\"Inconnu\",IF($I77=99,\"Interrompu\",$D77)), 0),\"Non requis\")","v":"Inconnu"},{"$f":"IF(INTRO!$E$41=\"Endémique\", IF(AND($J77>1,$J77<5), IF($J77=4, \"Inconnu\", E77+F77), 0),\"Non requis\")","v":0},8492,0,0,0,0,null,null,null,null,2084,"RIVUNGO"]
[{"$f":"IF(INTRO!$E$33<>0,INTRO!$E$33, \" \")","v":"Angola"},"CUANZA NORTE","AMBACA",81648,{"$f":"IF(INTRO!$E$48=\"\",\"\",ROUND($D78*INTRO!$E$48,0))","v":13064},{"$f":"IF(INTRO!$E$49=\"\",\"\",ROUND($D78*INTRO!$E$49,0))","v":22780},{"$f":"IF(INTRO!$E$50=\"\",\"\",ROUND($D78*INTRO!$E$50,0))","v":43028},1,1,3,1,1,{"$f":"IF(INTRO!$E$37=\"Endémique\",IF($H78>0,IF($H78=4,\"Inconnu\",IF($H78=99,\"Interrompu\",$D78)),0),\"Non requis\")","v":81648},{"$f":"IF(INTRO!$E$39=\"Endémique\", IF($I78>0, IF($I78=4,\"Inconnu\",IF($I78=99,\"Interrompu\",$D78)), 0),\"Non requis\")","v":81648},{"$f":"IF(INTRO!$E$41=\"Endémique\", IF(AND($J78>1,$J78<5), IF($J78=4, \"Inconnu\", E78+F78), 0),\"Non requis\")","v":35844},1306,1,1,2,0,null,null,null,null,2085,"AMBACA"]
[{"$f":"IF(INTRO!$E$33<>0,INTRO!$E$33, \" \")","v":"Angola"},"CUANZA NORTE","BANGA",13686,{"$f":"IF(INTRO!$E$48=\"\",\"\",ROUND($D79*INTRO!$E$48,0))","v":2190},{"$f":"IF(INTRO!$E$49=\"\",\"\",ROUND($D79*INTRO!$E$49,0))","v":3818},{"$f":"IF(INTRO!$E$50=\"\",\"\",ROUND($D79*INTRO!$E$50,0))","v":7213},1,1,3,1,1,{"$f":"IF(INTRO!$E$37=\"Endémique\",IF($H79>0,IF($H79=4,\"Inconnu\",IF($H79=99,\"Interrompu\",$D79)),0),\"Non requis\")","v":13686},{"$f":"IF(INTRO!$E$39=\"Endémique\", IF($I79>0, IF($I79=4,\"Inconnu\",IF($I79=99,\"Interrompu\",$D79)), 0),\"Non requis\")","v":13686},{"$f":"IF(INTRO!$E$41=\"Endémique\", IF(AND($J79>1,$J79<5), IF($J79=4, \"Inconnu\", E79+F79), 0),\"Non requis\")","v":6008},564,1,1,2,0,null,null,null,null,2086,"BANGA"]
[{"$f":"IF(INTRO!$E$33<>0,INTRO!$E$33, \" \")","v":"Angola"},"CUANZA NORTE","BOLONGONGO",17210,{"$f":"IF(INTRO!$E$48=\"\",\"\",ROUND($D80*INTRO!$E$48,0))","v":2754},{"$f":"IF(INTRO!$E$49=\"\",\"\",ROUND($D80*INTRO!$E$49,0))","v":4802},{"$f":"IF(INTRO!$E$50=\"\",\"\",ROUND($D80*INTRO!$E$50,0))","v":9070},1,1,3,0,1,{"$f":"IF(INTRO!$E$37=\"Endémique\",IF($H80>0,IF($H80=4,\"Inconnu\",IF($H80=99,\"Interrompu\",$D80)),0),\"Non requis\")","v":17210},{"$f":"IF(INTRO!$E$39=\"Endémique\", IF($I80>0, IF($I80=4,\"Inconnu\",IF($I80=99,\"Interrompu\",$D80)), 0),\"Non requis\")","v":17210},{"$f":"IF(INTRO!$E$41=\"Endémique\", IF(AND($J80>1,$J80<5), IF($J80=4, \"Inconnu\", E80+F80), 0),\"Non requis\")","v":7556},0,1,1,2,0,null,null,null,null,2087,"BOLONGONGO"]
[{"$f":"IF(INTRO!$E$33<>0,INTRO!$E$33, \" \")","v":"Angola"},"CUANZA NORTE","CAMBAMBE",119977,{"$f":"IF(INTRO!$E$48=\"\",\"\",ROUND($D81*INTRO!$E$48,0))","v":19196},{"$f":"IF(INTRO!$E$49=\"\",\"\",ROUND($D81*INTRO!$E$49,0))","v":33474},{"$f":"IF(INTRO!$E$50=\"\",\"\",ROUND($D81*INTRO!$E$50,0))","v":63228},0,4,2,3,0,{"$f":"IF(INTRO!$E$37=\"Endémique\",IF($H81>0,IF($H81=4,\"Inconnu\",IF($H81=99,\"Interrompu\",$D81)),0),\"Non requis\")","v":0},{"$f":"IF(INTRO!$E$39=\"Endémique\", IF($I81>0, IF($I81=4,\"Inconnu\",IF($I81=99,\"Interrompu\",$D81)), 0),\"Non requis\")","v":"Inconnu"},{"$f":"IF(INTRO!$E$41=\"Endémique\", IF(AND($J81>1,$J81<5), IF($J81=4, \"Inconnu\", E81+F81), 0),\"Non requis\")","v":52670},76811,0,0,1,1,null,null,null,null,2091,"CAMBAMBE"]
[{"$f":"IF(INTRO!$E$33<>0,INTRO!$E$33, \" \")","v":"Angola"},"CUANZA NORTE","CAZENGO",227014,{"$f":"IF(INTRO!$E$48=\"\",\"\",ROUND($D82*INTRO!$E$48,0))","v":36322},{"$f":"IF(INTRO!$E$49=\"\",\"\",ROUND($D82*INTRO!$E$49,0))","v":63337},{"$f":"IF(INTRO!$E$50=\"\",\"\",ROUND($D82*INTRO!$E$50,0))","v":119636},1,4,3,2,0,{"$f":"IF(INTRO!$E$37=\"Endémique\",IF($H82>0,IF($H82=4,\"Inconnu\",IF($H82=99,\"Interrompu\",$D82)),0),\"Non requis\")","v":227014},{"$f":"IF(INTRO!$E$39=\"Endémique\", IF($I82>0, IF($I82=4,\"Inconnu\",IF($I82=99,\"Interrompu\",$D82)), 0),\"Non requis\")","v":"Inconnu"},{"$f":"IF(INTRO!$E$41=\"Endémique\", IF(AND($J82>1,$J82<5), IF($J82=4, \"Inconnu\", E82+F82), 0),\"Non requis\")","v":99659},80327,1,0,2,1,null,null,null,null,2092,"CAZENGO"]
[{"$f":"IF(INTRO!$E$33<>0,INTRO!$E$33, \" \")","v":"Angola"},"CUANZA NORTE","GOLUNGO ALTO",44724,{"$f":"IF(INTRO!$E$48=\"\",\"\",ROUND($D83*INTRO!$E$48,0))","v":7156},{"$f":"IF(INTRO!$E$49=\"\",\"\",ROUND($D83*INTRO!$E$49,0))","v":12478},{"$f":"IF(INTRO!$E$50=\"\",\"\",ROUND($D83*INTRO!$E$50,0))","v":23570},1,1,3,3,0,{"$f":"IF(INTRO!$E$37=\"Endémique\",IF($H83>0,IF($H83=4,\"Inconnu\",IF($H83=99,\"Interrompu\",$D83)),0),\"Non requis\")","v":44724},{"$f":"IF(INTRO!$E$39=\"Endémique\", IF($I83>0, IF($I83=4,\"Inconnu\",IF($I83=99,\"Interrompu\",$D83)), 0),\"Non requis\")","v":44724},{"$f":"IF(INTRO!$E$41=\"Endémique\", IF(AND($J83>1,$J83<5), IF($J83=4, \"Inconnu\", E83+F83), 0),\"Non requis\")","v":19634},5968,1,1,2,1,null,null,null,null,2090,"GOLUNGO ALTO"]
[{"$f":"IF(INTRO!$E$33<>0,INTRO!$E$33, \" \")","v":"Angola"},"CUANZA NORTE","GONGUEMBO",10013,{"$f":"IF(INTRO!$E$48=\"\",\"\",ROUND($D84*INTRO!$E$48,0))","v":1602},{"$f":"IF(INTRO!$E$49=\"\",\"\",ROUND($D84*INTRO!$E$49,0))","v":2794},{"$f":"IF(INTRO!$E$50=\"\",\"\",ROUND($D84*INTRO!$E$50,0))","v":5277},1,1,3,1,0,{"$f":"IF(INTRO!$E$37=\"Endémique\",IF($H84>0,IF($H84=4,\"Inconnu\",IF($H84=99,\"Interrompu\",$D84)),0),\"Non requis\")","v":10013},{"$f":"IF(INTRO!$E$39=\"Endémique\", IF($I84>0, IF($I84=4,\"Inconnu\",IF($I84=99,\"Interrompu\",$D84)), 0),\"Non requis\")","v":10013},{"$f":"IF(INTRO!$E$41=\"Endémique\", IF(AND($J84>1,$J84<5), IF($J84=4, \"Inconnu\", E84+F84), 0),\"Non requis\")","v":4396},2572,1,1,2,0,null,null,null,null,2217,"GONGUEMBO"]
[{"$f":"IF(INTRO!$E$33<>0,INTRO!$E$33, \" \")","v":"Angola"},"CUANZA NORTE","QUICULUNGO",12864,{"$f":"IF(INTRO!$E$48=\"\",\"\",ROUND($D85*INTRO!$E$48,0))","v":2058},{"$f":"IF(INTRO!$E$49=\"\",\"\",ROUND($D85*INTRO!$E$49,0))","v":3589},{"$f":"IF(INTRO!$E$50=\"\",\"\",ROUND($D85*INTRO!$E$50,0))","v":6779},1,4,3,3,0,{"$f":"IF(INTRO!$E$37=\"Endémique\",IF($H85>0,IF($H85=4,\"Inconnu\",IF($H85=99,\"Interrompu\",$D85)),0),\"Non requis\")","v":12864},{"$f":"IF(INTRO!$E$39=\"Endémique\", IF($I85>0, IF($I85=4,\"Inconnu\",IF($I85=99,\"Interrompu\",$D85)), 0),\"Non requis\")","v":"Inconnu"},{"$f":"IF(INTRO!$E$41=\"Endémique\", IF(AND($J85>1,$J85<5), IF($J85=4, \"Inconnu\", E85+F85), 0),\"Non requis\")","v":5647},9544,1,0,2,1,null,null,null,null,2093,"KICULUNGO"]
[{"$f":"IF(INTRO!$E$33<>0,INTRO!$E$33, \" \")","v":"Angola"},"CUANZA NORTE","LUCALA",29972,{"$f":"IF(INTRO!$E$48=\"\",\"\",ROUND($D86*INTRO!$E$48,0))","v":4796},{"$f":"IF(INTRO!$E$49=\"\",\"\",ROUND($D86*INTRO!$E$49,0))","v":8362},{"$f":"IF(INTRO!$E$50=\"\",\"\",ROUND($D86*INTRO!$E$50,0))","v":15795},0,4,3,2,0,{"$f":"IF(INTRO!$E$37=\"Endémique\",IF($H86>0,IF($H86=4,\"Inconnu\",IF($H86=99,\"Interrompu\",$D86)),0),\"Non requis\")","v":0},{"$f":"IF(INTRO!$E$39=\"Endémique\", IF($I86>0, IF($I86=4,\"Inconnu\",IF($I86=99,\"Interrompu\",$D86)), 0),\"Non requis\")","v":"Inconnu"},{"$f":"IF(INTRO!$E$41=\"Endémique\", IF(AND($J86>1,$J86<5), IF($J86=4, \"Inconnu\", E86+F86), 0),\"Non requis\")","v":13158},10604,0,0,2,1,null,null,null,null,2094,"LUCALA"]
[{"$f":"IF(INTRO!$E$33<>0,INTRO!$E$33, \" \")","v":"Angola"},"CUANZA NORTE","SAMBA CAJU",28973,{"$f":"IF(INTRO!$E$48=\"\",\"\",ROUND($D87*INTRO!$E$48,0))","v":4636},{"$f":"IF(INTRO!$E$49=\"\",\"\",ROUND($D87*INTRO!$E$49,0))","v":8083},{"$f":"IF(INTRO!$E$50=\"\",\"\",ROUND($D87*INTRO!$E$50,0))","v":15269},1,4,3,1,0,{"$f":"IF(INTRO!$E$37=\"Endémique\",IF($H87>0,IF($H87=4,\"Inconnu\",IF($H87=99,\"Interrompu\",$D87)),0),\"Non requis\")","v":28973},{"$f":"IF(INTRO!$E$39=\"Endémique\", IF($I87>0, IF($I87=4,\"Inconnu\",IF($I87=99,\"Interrompu\",$D87)), 0),\"Non requis\")","v":"Inconnu"},{"$f":"IF(INTRO!$E$41=\"Endémique\", IF(AND($J87>1,$J87<5), IF($J87=4, \"Inconnu\", E87+F87), 0),\"Non requis\")","v":12719},1497,1,0,2,0,null,null,null,null,2097,"SAMBA CAJU"]
[{"$f":"IF(INTRO!$E$33<>0,INTRO!$E$33, \" \")","v":"Angola"},"CUANZA SUL","AMBOIM",322294,{"$f":"IF(INTRO!$E$48=\"\",\"\",ROUND($D88*INTRO!$E$48,0))","v":51567},{"$f":"IF(INTRO!$E$49=\"\",\"\",ROUND($D88*INTRO!$E$49,0))","v":89920},{"$f":"IF(INTRO!$E$50=\"\",\"\",ROUND($D88*INTRO!$E$50,0))","v":169849},0,4,2,2,0,{"$f":"IF(INTRO!$E$37=\"Endémique\",IF($H88>0,IF($H88=4,\"Inconnu\",IF($H88=99,\"Interrompu\",$D88)),0),\"Non requis\")","v":0},{"$f":"IF(INTRO!$E$39=\"Endémique\", IF($I88>0, IF($I88=4,\"Inconnu\",IF($I88=99,\"Interrompu\",$D88)), 0),\"Non requis\")","v":"Inconnu"},{"$f":"IF(INTRO!$E$41=\"Endémique\", IF(AND($J88>1,$J88<5), IF($J88=4, \"Inconnu\", E88+F88), 0),\"Non requis\")","v":141487},114041,0,0,1,1,null,null,null,null,2098,"AMBOIM"]
[{"$f":"IF(INTRO!$E$33<>0,INTRO!$E$33, \" \")","v":"Angola"},"CUANZA SUL","CASSONGUE",201952,{"$f":"IF(INTRO!$E$48=\"\",\"\",ROUND($D89*INTRO!$E$48,0))","v":32312},{"$f":"IF(INTRO!$E$49=\"\",\"\",ROUND($D89*INTRO!$E$49,0))","v":56345},{"$f":"IF(INTRO!$E$50=\"\",\"\",ROUND($D89*INTRO!$E$50,0))","v":106429},0,4,1,2,0,{"$f":"IF(INTRO!$E$37=\"Endémique\",IF($H89>0,IF($H89=4,\"Inconnu\",IF($H89=99,\"Interrompu\",$D89)),0),\"Non requis\")","v":0},{"$f":"IF(INTRO!$E$39=\"Endémique\", IF($I89>0, IF($I89=4,\"Inconnu\",IF($I89=99,\"Interrompu\",$D89)), 0),\"Non requis\")","v":"Inconnu"},{"$f":"IF(INTRO!$E$41=\"Endémique\", IF(AND($J89>1,$J89<5), IF($J89=4, \"Inconnu\", E89+F89), 0),\"Non requis\")","v":0},20748,0,0,0,1,null,null,null,null,2100,"CASSONGUE"]
[{"$f":"IF(INTRO!$E$33<>0,INTRO!$E$33, \" \")","v":"Angola"},"CUANZA SUL","CELA (Waku Kungo)",299798,{"$f":"IF(INTRO!$E$48=\"\",\"\",ROUND($D90*INTRO!$E$48,0))","v":47968},{"$f":"IF(INTRO!$E$49=\"\",\"\",ROUND($D90*INTRO!$E$49,0))","v":83644},{"$f":"IF(INTRO!$E$50=\"\",\"\",ROUND($D90*INTRO!$E$50,0))","v":157994},0,4,1,2,0,{"$f":"IF(INTRO!$E$37=\"Endémique\",IF($H90>0,IF($H90=4,\"Inconnu\",IF($H90=99,\"Interrompu\",$D90)),0),\"Non requis\")","v":0},{"$f":"IF(INTRO!$E$39=\"Endémique\", IF($I90>0, IF($I90=4,\"Inconnu\",IF($I90=99,\"Interrompu\",$D90)), 0),\"Non requis\")","v":"Inconnu"},{"$f":"IF(INTRO!$E$41=\"Endémique\", IF(AND($J90>1,$J90<5), IF($J90=4, \"Inconnu\", E90+F90), 0),\"Non requis\")","v":0},21902,0,0,0,1,null,null,null,null,2167,"CELA (Waku Kungo)"]
[{"$f":"IF(INTRO!$E$33<>0,INTRO!$E$33, \" \")","v":"Angola"},"CUANZA SUL","CONDA",118949,{"$f":"IF(INTRO!$E$48=\"\",\"\",ROUND($D91*INTRO!$E$48,0))","v":19032},{"$f":"IF(INTRO!$E$49=\"\",\"\",ROUND($D91*INTRO!$E$49,0))","v":33187},{"$f":"IF(INTRO!$E$50=\"\",\"\",ROUND($D91*INTRO!$E$50,0))","v":62686},0,4,1,2,0,{"$f":"IF(INTRO!$E$37=\"Endémique\",IF($H91>0,IF($H91=4,\"Inconnu\",IF($H91=99,\"Interrompu\",$D91)),0),\"Non requis\")","v":0},{"$f":"IF(INTRO!$E$39=\"Endémique\", IF($I91>0, IF($I91=4,\"Inconnu\",IF($I91=99,\"Interrompu\",$D91)), 0),\"Non requis\")","v":"Inconnu"},{"$f":"IF(INTRO!$E$41=\"Endémique\", IF(AND($J91>1,$J91<5), IF($J91=4, \"Inconnu\", E91+F91), 0),\"Non requis\")","v":0},37112,0,0,0,1,null,null,null,null,2103,"CONDA"]
[{"$f":"IF(INTRO!$E$33<>0,INTRO!$E$33, \" \")","v":"Angola"},"CUANZA SUL","EBO",219515,{"$f":"IF(INTRO!$E$48=\"\",\"\",ROUND($D92*INTRO!$E$48,0))","v":35122},{"$f":"IF(INTRO!$E$49=\"\",\"\",ROUND($D92*INTRO!$E$49,0))","v":61245},{"$f":"IF(INTRO!$E$50=\"\",\"\",ROUND($D92*INTRO!$E$50,0))","v":115684},0,4,2,2,0,{"$f":"IF(INTRO!$E$37=\"Endémique\",IF($H92>0,IF($H92=4,\"Inconnu\",IF($H92=99,\"Interrompu\",$D92)),0),\"Non requis\")","v":0},{"$f":"IF(INTRO!$E$39=\"Endémique\", IF($I92>0, IF($I92=4,\"Inconnu\",IF($I92=99,\"Interrompu\",$D92)), 0),\"Non requis\")","v":"Inconnu"},{"$f":"IF(INTRO!$E$41=\"Endémique\", IF(AND($J92>1,$J92<5), IF($J92=4, \"Inconnu\", E92+F92), 0),\"Non requis\")","v":96367},69988,0,0,1,1,null,null,null,null,2099,"EBO"]
[{"$f":"IF(INTRO!$E$33<>0,INTRO!$E$33, \" \")","v":"Angola"},"CUANZA SUL","QUIBALA",188845,{"$f":"IF(INTRO!$E$48=\"\",\"\",ROUND($D93*INTRO!$E$48,0))","v":30215},{"$f":"IF(INTRO!$E$49=\"\",\"\",ROUND($D93*INTRO!$E$49,0))","v":52688},{"$f":"IF(INTRO!$E$50=\"\",\"\",ROUND($D93*INTRO!$E$50,0))","v":99521},0,4,2,2,0,{"$f":"IF(INTRO!$E$37=\"Endémique\",IF($H93>0,IF($H93=4,\"Inconnu\",IF($H93=99,\"Interrompu\",$D93)),0),\"Non requis\")","v":0},{"$f":"IF(INTRO!$E$39=\"Endémique\", IF($I93>0, IF($I93=4,\"Inconnu\",IF($I93=99,\"Interrompu\",$D93)), 0),\"Non requis\")","v":"Inconnu"},{"$f":"IF(INTRO!$E$41=\"Endémique\", IF(AND($J93>1,$J93<5), IF($J93=4, \"Inconnu\", E93+F93), 0),\"Non requis\")","v":82903},40699,0,0,1,1,null,null,null,null,2101,"KIBALA"]
[{"$f":"IF(INTRO!$E$33<>0,INTRO!$E$33, \" \")","v":"Angola"},"CUANZA SUL","QUILENDA",129810,{"$f":"IF(INTRO!$E$48=\"\",\"\",ROUND($D94*INTRO!$E$48,0))","v":20770},{"$f":"IF(INTRO!$E$49=\"\",\"\",ROUND($D94*INTRO!$E$49,0))","v":36217},{"$f":"IF(INTRO!$E$50=\"\",\"\",ROUND($D94*INTRO!$E$50,0))","v":68410},0,4,2,3,1,{"$f":"IF(INTRO!$E$37=\"Endémique\",IF($H94>0,IF($H94=4,\"Inconnu\",IF($H94=99,\"Interrompu\",$D94)),0),\"Non requis\")","v":0},{"$f":"IF(INTRO!$E$39=\"Endémique\", IF($I94>0, IF($I94=4,\"Inconnu\",IF($I94=99,\"Interrompu\",$D94)), 0),\"Non requis\")","v":"Inconnu"},{"$f":"IF(INTRO!$E$41=\"Endémique\", IF(AND($J94>1,$J94<5), IF($J94=4, \"Inconnu\", E94+F94), 0),\"Non requis\")","v":56987},54181,0,0,1,1,null,null,null,null,2102,"KILENDA"]
[{"$f":"IF(INTRO!$E$33<>0,INTRO!$E$33, \" \")","v":"Angola"},"CUANZA SUL","LIBOLO",122393,{"$f":"IF(INTRO!$E$48=\"\",\"\",ROUND($D95*INTRO!$E$48,0))","v":19583},{"$f":"IF(INTRO!$E$49=\"\",\"\",ROUND($D95*INTRO!$E$49,0))","v":34148},{"$f":"IF(INTRO!$E$50=\"\",\"\",ROUND($D95*INTRO!$E$50,0))","v":64501},0,4,2,3,0,{"$f":"IF(INTRO!$E$37=\"Endémique\",IF($H95>0,IF($H95=4,\"Inconnu\",IF($H95=99,\"Interrompu\",$D95)),0),\"Non requis\")","v":0},{"$f":"IF(INTRO!$E$39=\"Endémique\", IF($I95>0, IF($I95=4,\"Inconnu\",IF($I95=99,\"Interrompu\",$D95)), 0),\"Non requis\")","v":"Inconnu"},{"$f":"IF(INTRO!$E$41=\"Endémique\", IF(AND($J95>1,$J95<5), IF($J95=4, \"Inconnu\", E95+F95), 0),\"Non requis\")","v":53731},49540,0,0,1,1,null,null,null,null,2104,"LIBOLO"]
[{"$f":"IF(INTRO!$E$33<>0,INTRO!$E$33, \" \")","v":"Angola"},"CUANZA SUL","MUSSENDE",109731,{"$f":"IF(INTRO!$E$48=\"\",\"\",ROUND($D96*INTRO!$E$48,0))","v":17557},{"$f":"IF(INTRO!$E$49=\"\",\"\",ROUND($D96*INTRO!$E$49,0))","v":30615},{"$f":"IF(INTRO!$E$50=\"\",\"\",ROUND($D96*INTRO!$E$50,0))","v":57828},0,1,1,2,0,{"$f":"IF(INTRO!$E$37=\"Endémique\",IF($H96>0,IF($H96=4,\"Inconnu\",IF($H96=99,\"Interrompu\",$D96)),0),\"Non requis\")","v":0},{"$f":"IF(INTRO!$E$39=\"Endémique\", IF($I96>0, IF($I96=4,\"Inconnu\",IF($I96=99,\"Interrompu\",$D96)), 0),\"Non requis\")","v":109731},{"$f":"IF(INTRO!$E$41=\"Endémique\", IF(AND($J96>1,$J96<5), IF($J96=4, \"Inconnu\", E96+F96), 0),\"Non requis\")","v":0},30839,0,1,0,1,null,null,null,null,2105,"MUSSENDE"]
[{"$f":"IF(INTRO!$E$33<>0,INTRO!$E$33, \" \")","v":"Angola"},"CUANZA SUL","PORTO AMBOIM",167459,{"$f":"IF(INTRO!$E$48=\"\",\"\",ROUND($D97*INTRO!$E$48,0))","v":26793},{"$f":"IF(INTRO!$E$49=\"\",\"\",ROUND($D97*INTRO!$E$49,0))","v":46721},{"$f":"IF(INTRO!$E$50=\"\",\"\",ROUND($D97*INTRO!$E$50,0))","v":88251},1,1,1,3,1,{"$f":"IF(INTRO!$E$37=\"Endémique\",IF($H97>0,IF($H97=4,\"Inconnu\",IF($H97=99,\"Interrompu\",$D97)),0),\"Non requis\")","v":167459},{"$f":"IF(INTRO!$E$39=\"Endémique\", IF($I97>0, IF($I97=4,\"Inconnu\",IF($I97=99,\"Interrompu\",$D97)), 0),\"Non requis\")","v":167459},{"$f":"IF(INTRO!$E$41=\"Endémique\", IF(AND($J97>1,$J97<5), IF($J97=4, \"Inconnu\", E97+F97), 0),\"Non requis\")","v":0},124241,1,1,0,1,null,null,null,null,2106,"PORTO AMBOIM"]
[{"$f":"IF(INTRO!$E$33<>0,INTRO!$E$33, \" \")","v":"Angola"},"CUANZA SUL","SELES",248759,{"$f":"IF(INTRO!$E$48=\"\",\"\",ROUND($D98*INTRO!$E$48,0))","v":39801},{"$f":"IF(INTRO!$E$49=\"\",\"\",ROUND($D98*INTRO!$E$49,0))","v":69404},{"$f":"IF(INTRO!$E$50=\"\",\"\",ROUND($D98*INTRO!$E$50,0))","v":131096},0,4,1,3,0,{"$f":"IF(INTRO!$E$37=\"Endémique\",IF($H98>0,IF($H98=4,\"Inconnu\",IF($H98=99,\"Interrompu\",$D98)),0),\"Non requis\")","v":0},{"$f":"IF(INTRO!$E$39=\"Endémique\", IF($I98>0, IF($I98=4,\"Inconnu\",IF($I98=99,\"Interrompu\",$D98)), 0),\"Non requis\")","v":"Inconnu"},{"$f":"IF(INTRO!$E$41=\"Endémique\", IF(AND($J98>1,$J98<5), IF($J98=4, \"Inconnu\", E98+F98), 0),\"Non requis\")","v":0},137891,0,0,0,1,null,null,null,null,2107,"SELES"]
[{"$f":"IF(INTRO!$E$33<>0,INTRO!$E$33, \" \")","v":"Angola"},"CUANZA SUL","SUMBE",372177,{"$f":"IF(INTRO!$E$48=\"\",\"\",ROUND($D99*INTRO!$E$48,0))","v":59548},{"$f":"IF(INTRO!$E$49=\"\",\"\",ROUND($D99*INTRO!$E$49,0))","v":103837},{"$f":"IF(INTRO!$E$50=\"\",\"\",ROUND($D99*INTRO!$E$50,0))","v":196137},0,4,1,2,0,{"$f":"IF(INTRO!$E$37=\"Endémique\",IF($H99>0,IF($H99=4,\"Inconnu\",IF($H99=99,\"Interrompu\",$D99)),0),\"Non requis\")","v":0},{"$f":"IF(INTRO!$E$39=\"Endémique\", IF($I99>0, IF($I99=4,\"Inconnu\",IF($I99=99,\"Interrompu\",$D99)), 0),\"Non requis\")","v":"Inconnu"},{"$f":"IF(INTRO!$E$41=\"Endémique\", IF(AND($J99>1,$J99<5), IF($J99=4, \"Inconnu\", E99+F99), 0),\"Non requis\")","v":0},104600,0,0,0,1,null,null,null,null,2108,"SUMBE"]
[{"$f":"IF(INTRO!$E$33<>0,INTRO!$E$33, \" \")","v":"Angola"},"LUANDA","BELAS",378671,{"$f":"IF(INTRO!$E$48=\"\",\"\",ROUND($D100*INTRO!$E$48,0))","v":60587},{"$f":"IF(INTRO!$E$49=\"\",\"\",ROUND($D100*INTRO!$E$49,0))","v":105649},{"$f":"IF(INTRO!$E$50=\"\",\"\",ROUND($D100*INTRO!$E$50,0))","v":199560},0,4,1,2,1,{"$f":"IF(INTRO!$E$37=\"Endémique\",IF($H100>0,IF($H100=4,\"Inconnu\",IF($H100=99,\"Interrompu\",$D100)),0),\"Non requis\")","v":0},{"$f":"IF(INTRO!$E$39=\"Endémique\", IF($I100>0, IF($I100=4,\"Inconnu\",IF($I100=99,\"Interrompu\",$D100)), 0),\"Non requis\")","v":"Inconnu"},{"$f":"IF(INTRO!$E$41=\"Endémique\", IF(AND($J100>1,$J100<5), IF($J100=4, \"Inconnu\", E100+F100), 0),\"Non requis\")","v":0},125449,0,0,0,1,null,null,null,null,2212,"BELAS"]
[{"$f":"IF(INTRO!$E$33<>0,INTRO!$E$33, \" \")","v":"Angola"},"LUANDA","CACUACO",1211978,{"$f":"IF(INTRO!$E$48=\"\",\"\",ROUND($D101*INTRO!$E$48,0))","v":193916},{"$f":"IF(INTRO!$E$49=\"\",\"\",ROUND($D101*INTRO!$E$49,0))","v":338142},{"$f":"IF(INTRO!$E$50=\"\",\"\",ROUND($D101*INTRO!$E$50,0))","v":638712},0,4,0,2,1,{"$f":"IF(INTRO!$E$37=\"Endémique\",IF($H101>0,IF($H101=4,\"Inconnu\",IF($H101=99,\"Interrompu\",$D101)),0),\"Non requis\")","v":0},{"$f":"IF(INTRO!$E$39=\"Endémique\", IF($I101>0, IF($I101=4,\"Inconnu\",IF($I101=99,\"Interrompu\",$D101)), 0),\"Non requis\")","v":"Inconnu"},{"$f":"IF(INTRO!$E$41=\"Endémique\", IF(AND($J101>1,$J101<5), IF($J101=4, \"Inconnu\", E101+F101), 0),\"Non requis\")","v":0},339735,0,0,0,1,null,null,null,null,2140,"CACUACO"]
[{"$f":"IF(INTRO!$E$33<>0,INTRO!$E$33, \" \")","v":"Angola"},"LUANDA","CAZENGA",1568251,{"$f":"IF(INTRO!$E$48=\"\",\"\",ROUND($D102*INTRO!$E$48,0))","v":250920},{"$f":"IF(INTRO!$E$49=\"\",\"\",ROUND($D102*INTRO!$E$49,0))","v":437542},{"$f":"IF(INTRO!$E$50=\"\",\"\",ROUND($D102*INTRO!$E$50,0))","v":826468},0,4,1,1,1,{"$f":"IF(INTRO!$E$37=\"Endémique\",IF($H102>0,IF($H102=4,\"Inconnu\",IF($H102=99,\"Interrompu\",$D102)),0),\"Non requis\")","v":0},{"$f":"IF(INTRO!$E$39=\"Endémique\", IF($I102>0, IF($I102=4,\"Inconnu\",IF($I102=99,\"Interrompu\",$D102)), 0),\"Non requis\")","v":"Inconnu"},{"$f":"IF(INTRO!$E$41=\"Endémique\", IF(AND($J102>1,$J102<5), IF($J102=4, \"Inconnu\", E102+F102), 0),\"Non requis\")","v":0},402755,0,0,0,0,null,null,null,null,2141,"CAZENGA"]
[{"$f":"IF(INTRO!$E$33<>0,INTRO!$E$33, \" \")","v":"Angola"},"LUANDA","ICOLO E BENGO",127617,{"$f":"IF(INTRO!$E$48=\"\",\"\",ROUND($D103*INTRO!$E$48,0))","v":20419},{"$f":"IF(INTRO!$E$49=\"\",\"\",ROUND($D103*INTRO!$E$49,0))","v":35605},{"$f":"IF(INTRO!$E$50=\"\",\"\",ROUND($D103*INTRO!$E$50,0))","v":67254},0,4,2,3,0,{"$f":"IF(INTRO!$E$37=\"Endémique\",IF($H103>0,IF($H103=4,\"Inconnu\",IF($H103=99,\"Interrompu\",$D103)),0),\"Non requis\")","v":0},{"$f":"IF(INTRO!$E$39=\"Endémique\", IF($I103>0, IF($I103=4,\"Inconnu\",IF($I103=99,\"Interrompu\",$D103)), 0),\"Non requis\")","v":"Inconnu"},{"$f":"IF(INTRO!$E$41=\"Endémique\", IF(AND($J103>1,$J103<5), IF($J103=4, \"Inconnu\", E103+F103), 0),\"Non requis\")","v":56024},59369,0,0,1,1,null,null,null,null,2051,"ICOLO E BENGO"]
[{"$f":"IF(INTRO!$E$33<>0,INTRO!$E$33, \" \")","v":"Angola"},"LUANDA","KILAMBA KIAXI",1185314,{"$f":"IF(INTRO!$E$48=\"\",\"\",ROUND($D104*INTRO!$E$48,0))","v":189650},{"$f":"IF(INTRO!$E$49=\"\",\"\",ROUND($D104*INTRO!$E$49,0))","v":330703},{"$f":"IF(INTRO!$E$50=\"\",\"\",ROUND($D104*INTRO!$E$50,0))","v":624660},4,4,0,1,0,{"$f":"IF(INTRO!$E$37=\"Endémique\",IF($H104>0,IF($H104=4,\"Inconnu\",IF($H104=99,\"Interrompu\",$D104)),0),\"Non requis\")","v":"Inconnu"},{"$f":"IF(INTRO!$E$39=\"Endémique\", IF($I104>0, IF($I104=4,\"Inconnu\",IF($I104=99,\"Interrompu\",$D104)), 0),\"Non requis\")","v":"Inconnu"},{"$f":"IF(INTRO!$E$41=\"Endémique\", IF(AND($J104>1,$J104<5), IF($J104=4, \"Inconnu\", E104+F104), 0),\"Non requis\")","v":0},304410,0,0,0,0,null,null,null,null,2143,"KILAMBA KIAXI"]
[{"$f":"IF(INTRO!$E$33<>0,INTRO!$E$33, \" \")","v":"Angola"},"LUANDA","LUANDA",1885384,{"$f":"IF(INTRO!$E$48=\"\",\"\",ROUND($D105*INTRO!$E$48,0))","v":301661},{"$f":"IF(INTRO!$E$49=\"\",\"\",ROUND($D105*INTRO!$E$49,0))","v":526022},{"$f":"IF(INTRO!$E$50=\"\",\"\",ROUND($D105*INTRO!$E$50,0))","v":993597},0,4,2,1,1,{"$f":"IF(INTRO!$E$37=\"Endémique\",IF($H105>0,IF($H105=4,\"Inconnu\",IF($H105=99,\"Interrompu\",$D105)),0),\"Non requis\")","v":0},{"$f":"IF(INTRO!$E$39=\"Endémique\", IF($I105>0, IF($I105=4,\"Inconnu\",IF($I105=99,\"Interrompu\",$D105)), 0),\"Non requis\")","v":"Inconnu"},{"$f":"IF(INTRO!$E$41=\"Endémique\", IF(AND($J105>1,$J105<5), IF($J105=4, \"Inconnu\", E105+F105), 0),\"Non requis\")","v":827683},484201,0,0,1,0,null,null,null,null,2219,"LUANDA"]
[{"$f":"IF(INTRO!$E$33<>0,INTRO!$E$33, \" \")","v":"Angola"},"LUANDA","QUIÇAMA",35598,{"$f":"IF(INTRO!$E$48=\"\",\"\",ROUND($D106*INTRO!$E$48,0))","v":5696},{"$f":"IF(INTRO!$E$49=\"\",\"\",ROUND($D106*INTRO!$E$49,0))","v":9932},{"$f":"IF(INTRO!$E$50=\"\",\"\",ROUND($D106*INTRO!$E$50,0))","v":18760},0,4,1,3,0,{"$f":"IF(INTRO!$E$37=\"Endémique\",IF($H106>0,IF($H106=4,\"Inconnu\",IF($H106=99,\"Interrompu\",$D106)),0),\"Non requis\")","v":0},{"$f":"IF(INTRO!$E$39=\"Endémique\", IF($I106>0, IF($I106=4,\"Inconnu\",IF($I106=99,\"Interrompu\",$D106)), 0),\"Non requis\")","v":"Inconnu"},{"$f":"IF(INTRO!$E$41=\"Endémique\", IF(AND($J106>1,$J106<5), IF($J106=4, \"Inconnu\", E106+F106), 0),\"Non requis\")","v":0},16365,0,0,0,1,null,null,null,null,2052,"QUISSAMA"]
[{"$f":"IF(INTRO!$E$33<>0,INTRO!$E$33, \" \")","v":"Angola"},"LUANDA","TALATONA",999123,{"$f":"IF(INTRO!$E$48=\"\",\"\",ROUND($D107*INTRO!$E$48,0))","v":159860},{"$f":"IF(INTRO!$E$49=\"\",\"\",ROUND($D107*INTRO!$E$49,0))","v":278755},{"$f":"IF(INTRO!$E$50=\"\",\"\",ROUND($D107*INTRO!$E$50,0))","v":526538},0,4,1,0,0,{"$f":"IF(INTRO!$E$37=\"Endémique\",IF($H107>0,IF($H107=4,\"Inconnu\",IF($H107=99,\"Interrompu\",$D107)),0),\"Non requis\")","v":0},{"$f":"IF(INTRO!$E$39=\"Endémique\", IF($I107>0, IF($I107=4,\"Inconnu\",IF($I107=99,\"Interrompu\",$D107)), 0),\"Non requis\")","v":"Inconnu"},{"$f":"IF(INTRO!$E$41=\"Endémique\", IF(AND($J107>1,$J107<5), IF($J107=4, \"Inconnu\", E107+F107), 0),\"Non requis\")","v":0},0,0,0,0,0,null,null,null,null,2223,"TALATONA"]
[{"$f":"IF(INTRO!$E$33<>0,INTRO!$E$33, \" \")","v":"Angola"},"LUANDA","VIANA",2169253,{"$f":"IF(INTRO!$E$48=\"\",\"\",ROUND($D108*INTRO!$E$48,0))","v":347080},{"$f":"IF(INTRO!$E$49=\"\",\"\",ROUND($D108*INTRO!$E$49,0))","v":605222},{"$f":"IF(INTRO!$E$50=\"\",\"\",ROUND($D108*INTRO!$E$50,0))","v":1143196},0,4,0,2,0,{"$f":"IF(INTRO!$E$37=\"Endémique\",IF($H108>0,IF($H108=4,\"Inconnu\",IF($H108=99,\"Interrompu\",$D108)),0),\"Non requis\")","v":0},{"$f":"IF(INTRO!$E$39=\"Endémique\", IF($I108>0, IF($I108=4,\"Inconnu\",IF($I108=99,\"Interrompu\",$D108)), 0),\"Non requis\")","v":"Inconnu"},{"$f":"IF(INTRO!$E$41=\"Endémique\", IF(AND($J108>1,$J108<5), IF($J108=4, \"Inconnu\", E108+F108), 0),\"Non requis\")","v":0},80328,0,0,0,1,null,null,null,null,2148,"VIANA"]
[{"$f":"IF(INTRO!$E$33<>0,INTRO!$E$33, \" \")","v":"Angola"},"LUNDA NORTE","CAMBULO",160196,{"$f":"IF(INTRO!$E$48=\"\",\"\",ROUND($D109*INTRO!$E$48,0))","v":25631},{"$f":"IF(INTRO!$E$49=\"\",\"\",ROUND($D109*INTRO!$E$49,0))","v":44695},{"$f":"IF(INTRO!$E$50=\"\",\"\",ROUND($D109*INTRO!$E$50,0))","v":84423},1,1,3,0,0,{"$f":"IF(INTRO!$E$37=\"Endémique\",IF($H109>0,IF($H109=4,\"Inconnu\",IF($H109=99,\"Interrompu\",$D109)),0),\"Non requis\")","v":160196},{"$f":"IF(INTRO!$E$39=\"Endémique\", IF($I109>0, IF($I109=4,\"Inconnu\",IF($I109=99,\"Interrompu\",$D109)), 0),\"Non requis\")","v":160196},{"$f":"IF(INTRO!$E$41=\"Endémique\", IF(AND($J109>1,$J109<5), IF($J109=4, \"Inconnu\", E109+F109), 0),\"Non requis\")","v":70326},0,1,1,2,0,null,null,null,null,2150,"CAMBULO"]
[{"$f":"IF(INTRO!$E$33<>0,INTRO!$E$33, \" \")","v":"Angola"},"LUNDA NORTE","CAPENDA CAMULEMBA",77790,{"$f":"IF(INTRO!$E$48=\"\",\"\",ROUND($D110*INTRO!$E$48,0))","v":12446},{"$f":"IF(INTRO!$E$49=\"\",\"\",ROUND($D110*INTRO!$E$49,0))","v":21703},{"$f":"IF(INTRO!$E$50=\"\",\"\",ROUND($D110*INTRO!$E$50,0))","v":40995},0,1,3,1,0,{"$f":"IF(INTRO!$E$37=\"Endémique\",IF($H110>0,IF($H110=4,\"Inconnu\",IF($H110=99,\"Interrompu\",$D110)),0),\"Non requis\")","v":0},{"$f":"IF(INTRO!$E$39=\"Endémique\", IF($I110>0, IF($I110=4,\"Inconnu\",IF($I110=99,\"Interrompu\",$D110)), 0),\"Non requis\")","v":77790},{"$f":"IF(INTRO!$E$41=\"Endémique\", IF(AND($J110>1,$J110<5), IF($J110=4, \"Inconnu\", E110+F110), 0),\"Non requis\")","v":34149},19978,0,1,2,0,null,null,null,null,2151,"CAPENDA CAMULEMBA"]
[{"$f":"IF(INTRO!$E$33<>0,INTRO!$E$33, \" \")","v":"Angola"},"LUNDA NORTE","CAUNGULA",37452,{"$f":"IF(INTRO!$E$48=\"\",\"\",ROUND($D111*INTRO!$E$48,0))","v":5992},{"$f":"IF(INTRO!$E$49=\"\",\"\",ROUND($D111*INTRO!$E$49,0))","v":10449},{"$f":"IF(INTRO!$E$50=\"\",\"\",ROUND($D111*INTRO!$E$50,0))","v":19737},0,1,2,1,0,{"$f":"IF(INTRO!$E$37=\"Endémique\",IF($H111>0,IF($H111=4,\"Inconnu\",IF($H111=99,\"Interrompu\",$D111)),0),\"Non requis\")","v":0},{"$f":"IF(INTRO!$E$39=\"Endémique\", IF($I111>0, IF($I111=4,\"Inconnu\",IF($I111=99,\"Interrompu\",$D111)), 0),\"Non requis\")","v":37452},{"$f":"IF(INTRO!$E$41=\"Endémique\", IF(AND($J111>1,$J111<5), IF($J111=4, \"Inconnu\", E111+F111), 0),\"Non requis\")","v":16441},4474,0,1,1,0,null,null,null,null,2152,"CAUNGULA"]
[{"$f":"IF(INTRO!$E$33<>0,INTRO!$E$33, \" \")","v":"Angola"},"LUNDA NORTE","CHITATO",252478,{"$f":"IF(INTRO!$E$48=\"\",\"\",ROUND($D112*INTRO!$E$48,0))","v":40396},{"$f":"IF(INTRO!$E$49=\"\",\"\",ROUND($D112*INTRO!$E$49,0))","v":70441},{"$f":"IF(INTRO!$E$50=\"\",\"\",ROUND($D112*INTRO!$E$50,0))","v":133056},0,1,3,1,0,{"$f":"IF(INTRO!$E$37=\"Endémique\",IF($H112>0,IF($H112=4,\"Inconnu\",IF($H112=99,\"Interrompu\",$D112)),0),\"Non requis\")","v":0},{"$f":"IF(INTRO!$E$39=\"Endémique\", IF($I112>0, IF($I112=4,\"Inconnu\",IF($I112=99,\"Interrompu\",$D112)), 0),\"Non requis\")","v":252478},{"$f":"IF(INTRO!$E$41=\"Endémique\", IF(AND($J112>1,$J112<5), IF($J112=4, \"Inconnu\", E112+F112), 0),\"Non requis\")","v":110837},64841,0,1,2,0,null,null,null,null,2149,"CHITATO"]
[{"$f":"IF(INTRO!$E$33<>0,INTRO!$E$33, \" \")","v":"Angola"},"LUNDA NORTE","CUANGO",245134,{"$f":"IF(INTRO!$E$48=\"\",\"\",ROUND($D113*INTRO!$E$48,0))","v":39221},{"$f":"IF(INTRO!$E$49=\"\",\"\",ROUND($D113*INTRO!$E$49,0))","v":68392},{"$f":"IF(INTRO!$E$50=\"\",\"\",ROUND($D113*INTRO!$E$50,0))","v":129186},0,4,2,2,0,{"$f":"IF(INTRO!$E$37=\"Endémique\",IF($H113>0,IF($H113=4,\"Inconnu\",IF($H113=99,\"Interrompu\",$D113)),0),\"Non requis\")","v":0},{"$f":"IF(INTRO!$E$39=\"Endémique\", IF($I113>0, IF($I113=4,\"Inconnu\",IF($I113=99,\"Interrompu\",$D113)), 0),\"Non requis\")","v":"Inconnu"},{"$f":"IF(INTRO!$E$41=\"Endémique\", IF(AND($J113>1,$J113<5), IF($J113=4, \"Inconnu\", E113+F113), 0),\"Non requis\")","v":107613},76077,0,0,1,1,null,null,null,null,2153,"CUANGO"]
[{"$f":"IF(INTRO!$E$33<>0,INTRO!$E$33, \" \")","v":"Angola"},"LUNDA NORTE","CUILO",27993,{"$f":"IF(INTRO!$E$48=\"\",\"\",ROUND($D114*INTRO!$E$48,0))","v":4479},{"$f":"IF(INTRO!$E$49=\"\",\"\",ROUND($D114*INTRO!$E$49,0))","v":7810},{"$f":"IF(INTRO!$E$50=\"\",\"\",ROUND($D114*INTRO!$E$50,0))","v":14752},1,1,2,0,0,{"$f":"IF(INTRO!$E$37=\"Endémique\",IF($H114>0,IF($H114=4,\"Inconnu\",IF($H114=99,\"Interrompu\",$D114)),0),\"Non requis\")","v":27993},{"$f":"IF(INTRO!$E$39=\"Endémique\", IF($I114>0, IF($I114=4,\"Inconnu\",IF($I114=99,\"Interrompu\",$D114)), 0),\"Non requis\")","v":27993},{"$f":"IF(INTRO!$E$41=\"Endémique\", IF(AND($J114>1,$J114<5), IF($J114=4, \"Inconnu\", E114+F114), 0),\"Non requis\")","v":12289},0,1,1,1,0,null,null,null,null,2154,"CUILO"]
[{"$f":"IF(INTRO!$E$33<>0,INTRO!$E$33, \" \")","v":"Angola"},"LUNDA NORTE","LOVUA",17409,{"$f":"IF(INTRO!$E$48=\"\",\"\",ROUND($D115*INTRO!$E$48,0))","v":2785},{"$f":"IF(INTRO!$E$49=\"\",\"\",ROUND($D115*INTRO!$E$49,0))","v":4857},{"$f":"IF(INTRO!$E$50=\"\",\"\",ROUND($D115*INTRO!$E$50,0))","v":9175},0,1,2,0,0,{"$f":"IF(INTRO!$E$37=\"Endémique\",IF($H115>0,IF($H115=4,\"Inconnu\",IF($H115=99,\"Interrompu\",$D115)),0),\"Non requis\")","v":0},{"$f":"IF(INTRO!$E$39=\"Endémique\", IF($I115>0, IF($I115=4,\"Inconnu\",IF($I115=99,\"Interrompu\",$D115)), 0),\"Non requis\")","v":17409},{"$f":"IF(INTRO!$E$41=\"Endémique\", IF(AND($J115>1,$J115<5), IF($J115=4, \"Inconnu\", E115+F115), 0),\"Non requis\")","v":7642},0,0,1,1,0,null,null,null,null,2224,"LOVUA"]
[{"$f":"IF(INTRO!$E$33<>0,INTRO!$E$33, \" \")","v":"Angola"},"LUNDA NORTE","LUBALO",27504,{"$f":"IF(INTRO!$E$48=\"\",\"\",ROUND($D116*INTRO!$E$48,0))","v":4401},{"$f":"IF(INTRO!$E$49=\"\",\"\",ROUND($D116*INTRO!$E$49,0))","v":7674},{"$f":"IF(INTRO!$E$50=\"\",\"\",ROUND($D116*INTRO!$E$50,0))","v":14495},0,1,3,1,0,{"$f":"IF(INTRO!$E$37=\"Endémique\",IF($H116>0,IF($H116=4,\"Inconnu\",IF($H116=99,\"Interrompu\",$D116)),0),\"Non requis\")","v":0},{"$f":"IF(INTRO!$E$39=\"Endémique\", IF($I116>0, IF($I116=4,\"Inconnu\",IF($I116=99,\"Interrompu\",$D116)), 0),\"Non requis\")","v":27504},{"$f":"IF(INTRO!$E$41=\"Endémique\", IF(AND($J116>1,$J116<5), IF($J116=4, \"Inconnu\", E116+F116), 0),\"Non requis\")","v":12075},7064,0,1,2,0,null,null,null,null,2155,"LUBALO"]
[{"$f":"IF(INTRO!$E$33<>0,INTRO!$E$33, \" \")","v":"Angola"},"LUNDA NORTE","LUCAPA",205814,{"$f":"IF(INTRO!$E$48=\"\",\"\",ROUND($D117*INTRO!$E$48,0))","v":32930},{"$f":"IF(INTRO!$E$49=\"\",\"\",ROUND($D117*INTRO!$E$49,0))","v":57422},{"$f":"IF(INTRO!$E$50=\"\",\"\",ROUND($D117*INTRO!$E$50,0))","v":108464},0,1,3,0,0,{"$f":"IF(INTRO!$E$37=\"Endémique\",IF($H117>0,IF($H117=4,\"Inconnu\",IF($H117=99,\"Interrompu\",$D117)),0),\"Non requis\")","v":0},{"$f":"IF(INTRO!$E$39=\"Endémique\", IF($I117>0, IF($I117=4,\"Inconnu\",IF($I117=99,\"Interrompu\",$D117)), 0),\"Non requis\")","v":205814},{"$f":"IF(INTRO!$E$41=\"Endémique\", IF(AND($J117>1,$J117<5), IF($J117=4, \"Inconnu\", E117+F117), 0),\"Non requis\")","v":90352},0,0,1,2,0,null,null,null,null,2156,"LUCAPA"]
[{"$f":"IF(INTRO!$E$33<>0,INTRO!$E$33, \" \")","v":"Angola"},"LUNDA NORTE","XA MUTEBA",64130,{"$f":"IF(INTRO!$E$48=\"\",\"\",ROUND($D118*INTRO!$E$48,0))","v":10261},{"$f":"IF(INTRO!$E$49=\"\",\"\",ROUND($D118*INTRO!$E$49,0))","v":17892},{"$f":"IF(INTRO!$E$50=\"\",\"\",ROUND($D118*INTRO!$E$50,0))","v":33797},1,4,3,2,0,{"$f":"IF(INTRO!$E$37=\"Endémique\",IF($H118>0,IF($H118=4,\"Inconnu\",IF($H118=99,\"Interrompu\",$D118)),0),\"Non requis\")","v":64130},{"$f":"IF(INTRO!$E$39=\"Endémique\", IF($I118>0, IF($I118=4,\"Inconnu\",IF($I118=99,\"Interrompu\",$D118)), 0),\"Non requis\")","v":"Inconnu"},{"$f":"IF(INTRO!$E$41=\"Endémique\", IF(AND($J118>1,$J118<5), IF($J118=4, \"Inconnu\", E118+F118), 0),\"Non requis\")","v":28153},22691,1,0,2,1,null,null,null,null,2157,"XA MUTEBA"]
[{"$f":"IF(INTRO!$E$33<>0,INTRO!$E$33, \" \")","v":"Angola"},"LUNDA SUL","CACOLO",43147,{"$f":"IF(INTRO!$E$48=\"\",\"\",ROUND($D119*INTRO!$E$48,0))","v":6904},{"$f":"IF(INTRO!$E$49=\"\",\"\",ROUND($D119*INTRO!$E$49,0))","v":12038},{"$f":"IF(INTRO!$E$50=\"\",\"\",ROUND($D119*INTRO!$E$50,0))","v":22738},1,1,3,3,0,{"$f":"IF(INTRO!$E$37=\"Endémique\",IF($H119>0,IF($H119=4,\"Inconnu\",IF($H119=99,\"Interrompu\",$D119)),0),\"Non requis\")","v":43147},{"$f":"IF(INTRO!$E$39=\"Endémique\", IF($I119>0, IF($I119=4,\"Inconnu\",IF($I119=99,\"Interrompu\",$D119)), 0),\"Non requis\")","v":43147},{"$f":"IF(INTRO!$E$41=\"Endémique\", IF(AND($J119>1,$J119<5), IF($J119=4, \"Inconnu\", E119+F119), 0),\"Non requis\")","v":18942},3333,1,1,2,1,null,null,null,null,2159,"CACOLO"]
[{"$f":"IF(INTRO!$E$33<>0,INTRO!$E$33, \" \")","v":"Angola"},"LUNDA SUL","DALA",40572,{"$f":"IF(INTRO!$E$48=\"\",\"\",ROUND($D120*INTRO!$E$48,0))","v":6492},{"$f":"IF(INTRO!$E$49=\"\",\"\",ROUND($D120*INTRO!$E$49,0))","v":11320},{"$f":"IF(INTRO!$E$50=\"\",\"\",ROUND($D120*INTRO!$E$50,0))","v":21381},0,1,2,0,1,{"$f":"IF(INTRO!$E$37=\"Endémique\",IF($H120>0,IF($H120=4,\"Inconnu\",IF($H120=99,\"Interrompu\",$D120)),0),\"Non requis\")","v":0},{"$f":"IF(INTRO!$E$39=\"Endémique\", IF($I120>0, IF($I120=4,\"Inconnu\",IF($I120=99,\"Interrompu\",$D120)), 0),\"Non requis\")","v":40572},{"$f":"IF(INTRO!$E$41=\"Endémique\", IF(AND($J120>1,$J120<5), IF($J120=4, \"Inconnu\", E120+F120), 0),\"Non requis\")","v":17812},0,0,1,1,0,null,null,null,null,2158,"DALA"]
[{"$f":"IF(INTRO!$E$33<>0,INTRO!$E$33, \" \")","v":"Angola"},"LUNDA SUL","MUCONDA",44999,{"$f":"IF(INTRO!$E$48=\"\",\"\",ROUND($D121*INTRO!$E$48,0))","v":7200},{"$f":"IF(INTRO!$E$49=\"\",\"\",ROUND($D121*INTRO!$E$49,0))","v":12555},{"$f":"IF(INTRO!$E$50=\"\",\"\",ROUND($D121*INTRO!$E$50,0))","v":23714},0,1,3,1,0,{"$f":"IF(INTRO!$E$37=\"Endémique\",IF($H121>0,IF($H121=4,\"Inconnu\",IF($H121=99,\"Interrompu\",$D121)),0),\"Non requis\")","v":0},{"$f":"IF(INTRO!$E$39=\"Endémique\", IF($I121>0, IF($I121=4,\"Inconnu\",IF($I121=99,\"Interrompu\",$D121)), 0),\"Non requis\")","v":44999},{"$f":"IF(INTRO!$E$41=\"Endémique\", IF(AND($J121>1,$J121<5), IF($J121=4, \"Inconnu\", E121+F121), 0),\"Non requis\")","v":19755},3238,0,1,2,0,null,null,null,null,2160,"MUCONDA"]
[{"$f":"IF(INTRO!$E$33<>0,INTRO!$E$33, \" \")","v":"Angola"},"LUNDA SUL","SAURIMO",598513,{"$f":"IF(INTRO!$E$48=\"\",\"\",ROUND($D122*INTRO!$E$48,0))","v":95762},{"$f":"IF(INTRO!$E$49=\"\",\"\",ROUND($D122*INTRO!$E$49,0))","v":166985},{"$f":"IF(INTRO!$E$50=\"\",\"\",ROUND($D122*INTRO!$E$50,0))","v":315416},1,1,3,0,0,{"$f":"IF(INTRO!$E$37=\"Endémique\",IF($H122>0,IF($H122=4,\"Inconnu\",IF($H122=99,\"Interrompu\",$D122)),0),\"Non requis\")","v":598513},{"$f":"IF(INTRO!$E$39=\"Endémique\", IF($I122>0, IF($I122=4,\"Inconnu\",IF($I122=99,\"Interrompu\",$D122)), 0),\"Non requis\")","v":598513},{"$f":"IF(INTRO!$E$41=\"Endémique\", IF(AND($J122>1,$J122<5), IF($J122=4, \"Inconnu\", E122+F122), 0),\"Non requis\")","v":262747},0,1,1,2,0,null,null,null,null,2161,"SAURIMO"]
[{"$f":"IF(INTRO!$E$33<>0,INTRO!$E$33, \" \")","v":"Angola"},"MALANJE","CACULAMA (Mukari)",40169,{"$f":"IF(INTRO!$E$48=\"\",\"\",ROUND($D123*INTRO!$E$48,0))","v":6427},{"$f":"IF(INTRO!$E$49=\"\",\"\",ROUND($D123*INTRO!$E$49,0))","v":11207},{"$f":"IF(INTRO!$E$50=\"\",\"\",ROUND($D123*INTRO!$E$50,0))","v":21169},1,4,3,2,0,{"$f":"IF(INTRO!$E$37=\"Endémique\",IF($H123>0,IF($H123=4,\"Inconnu\",IF($H123=99,\"Interrompu\",$D123)),0),\"Non requis\")","v":40169},{"$f":"IF(INTRO!$E$39=\"Endémique\", IF($I123>0, IF($I123=4,\"Inconnu\",IF($I123=99,\"Interrompu\",$D123)), 0),\"Non requis\")","v":"Inconnu"},{"$f":"IF(INTRO!$E$41=\"Endémique\", IF(AND($J123>1,$J123<5), IF($J123=4, \"Inconnu\", E123+F123), 0),\"Non requis\")","v":17634},13492,1,0,2,1,null,null,null,null,2215,"CACULAMA (Mukari)"]
[{"$f":"IF(INTRO!$E$33<>0,INTRO!$E$33, \" \")","v":"Angola"},"MALANJE","CACUSO",95361,{"$f":"IF(INTRO!$E$48=\"\",\"\",ROUND($D124*INTRO!$E$48,0))","v":15258},{"$f":"IF(INTRO!$E$49=\"\",\"\",ROUND($D124*INTRO!$E$49,0))","v":26606},{"$f":"IF(INTRO!$E$50=\"\",\"\",ROUND($D124*INTRO!$E$50,0))","v":50255},0,4,3,2,0,{"$f":"IF(INTRO!$E$37=\"Endémique\",IF($H124>0,IF($H124=4,\"Inconnu\",IF($H124=99,\"Interrompu\",$D124)),0),\"Non requis\")","v":0},{"$f":"IF(INTRO!$E$39=\"Endémique\", IF($I124>0, IF($I124=4,\"Inconnu\",IF($I124=99,\"Interrompu\",$D124)), 0),\"Non requis\")","v":"Inconnu"},{"$f":"IF(INTRO!$E$41=\"Endémique\", IF(AND($J124>1,$J124<5), IF($J124=4, \"Inconnu\", E124+F124), 0),\"Non requis\")","v":41864},33286,0,0,2,1,null,null,null,null,2163,"CACUSO"]
[{"$f":"IF(INTRO!$E$33<>0,INTRO!$E$33, \" \")","v":"Angola"},"MALANJE","CAMBUNDI CATEMBO",61781,{"$f":"IF(INTRO!$E$48=\"\",\"\",ROUND($D125*INTRO!$E$48,0))","v":9885},{"$f":"IF(INTRO!$E$49=\"\",\"\",ROUND($D125*INTRO!$E$49,0))","v":17237},{"$f":"IF(INTRO!$E$50=\"\",\"\",ROUND($D125*INTRO!$E$50,0))","v":32559},0,4,3,2,0,{"$f":"IF(INTRO!$E$37=\"Endémique\",IF($H125>0,IF($H125=4,\"Inconnu\",IF($H125=99,\"Interrompu\",$D125)),0),\"Non requis\")","v":0},{"$f":"IF(INTRO!$E$39=\"Endémique\", IF($I125>0, IF($I125=4,\"Inconnu\",IF($I125=99,\"Interrompu\",$D125)), 0),\"Non requis\")","v":"Inconnu"},{"$f":"IF(INTRO!$E$41=\"Endémique\", IF(AND($J125>1,$J125<5), IF($J125=4, \"Inconnu\", E125+F125), 0),\"Non requis\")","v":27122},19942,0,0,2,1,null,null,null,null,2165,"CAMBUNDI CATEMBO"]
[{"$f":"IF(INTRO!$E$33<>0,INTRO!$E$33, \" \")","v":"Angola"},"MALANJE","CANGANDALA",60190,{"$f":"IF(INTRO!$E$48=\"\",\"\",ROUND($D126*INTRO!$E$48,0))","v":9630},{"$f":"IF(INTRO!$E$49=\"\",\"\",ROUND($D126*INTRO!$E$49,0))","v":16793},{"$f":"IF(INTRO!$E$50=\"\",\"\",ROUND($D126*INTRO!$E$50,0))","v":31720},1,4,2,3,0,{"$f":"IF(INTRO!$E$37=\"Endémique\",IF($H126>0,IF($H126=4,\"Inconnu\",IF($H126=99,\"Interrompu\",$D126)),0),\"Non requis\")","v":60190},{"$f":"IF(INTRO!$E$39=\"Endémique\", IF($I126>0, IF($I126=4,\"Inconnu\",IF($I126=99,\"Interrompu\",$D126)), 0),\"Non requis\")","v":"Inconnu"},{"$f":"IF(INTRO!$E$41=\"Endémique\", IF(AND($J126>1,$J126<5), IF($J126=4, \"Inconnu\", E126+F126), 0),\"Non requis\")","v":26423},38028,1,0,1,1,null,null,null,null,2166,"CANGANDALA"]
[{"$f":"IF(INTRO!$E$33<>0,INTRO!$E$33, \" \")","v":"Angola"},"MALANJE","CAHOMBO",28696,{"$f":"IF(INTRO!$E$48=\"\",\"\",ROUND($D127*INTRO!$E$48,0))","v":4591},{"$f":"IF(INTRO!$E$49=\"\",\"\",ROUND($D127*INTRO!$E$49,0))","v":8006},{"$f":"IF(INTRO!$E$50=\"\",\"\",ROUND($D127*INTRO!$E$50,0))","v":15123},0,4,2,3,0,{"$f":"IF(INTRO!$E$37=\"Endémique\",IF($H127>0,IF($H127=4,\"Inconnu\",IF($H127=99,\"Interrompu\",$D127)),0),\"Non requis\")","v":0},{"$f":"IF(INTRO!$E$39=\"Endémique\", IF($I127>0, IF($I127=4,\"Inconnu\",IF($I127=99,\"Interrompu\",$D127)), 0),\"Non requis\")","v":"Inconnu"},{"$f":"IF(INTRO!$E$41=\"Endémique\", IF(AND($J127>1,$J127<5), IF($J127=4, \"Inconnu\", E127+F127), 0),\"Non requis\")","v":12597},12413,0,0,1,1,null,null,null,null,2162,"KAHOMBO"]
[{"$f":"IF(INTRO!$E$33<>0,INTRO!$E$33, \" \")","v":"Angola"},"MALANJE","CALANDULA",107275,{"$f":"IF(INTRO!$E$48=\"\",\"\",ROUND($D128*INTRO!$E$48,0))","v":17164},{"$f":"IF(INTRO!$E$49=\"\",\"\",ROUND($D128*INTRO!$E$49,0))","v":29930},{"$f":"IF(INTRO!$E$50=\"\",\"\",ROUND($D128*INTRO!$E$50,0))","v":56534},0,4,3,3,0,{"$f":"IF(INTRO!$E$37=\"Endémique\",IF($H128>0,IF($H128=4,\"Inconnu\",IF($H128=99,\"Interrompu\",$D128)),0),\"Non requis\")","v":0},{"$f":"IF(INTRO!$E$39=\"Endémique\", IF($I128>0, IF($I128=4,\"Inconnu\",IF($I128=99,\"Interrompu\",$D128)), 0),\"Non requis\")","v":"Inconnu"},{"$f":"IF(INTRO!$E$41=\"Endémique\", IF(AND($J128>1,$J128<5), IF($J128=4, \"Inconnu\", E128+F128), 0),\"Non requis\")","v":47094},47887,0,0,2,1,null,null,null,null,2164,"KALANDULA"]
[{"$f":"IF(INTRO!$E$33<>0,INTRO!$E$33, \" \")","v":"Angola"},"MALANJE","KIWABA NZOJI",21184,{"$f":"IF(INTRO!$E$48=\"\",\"\",ROUND($D129*INTRO!$E$48,0))","v":3389},{"$f":"IF(INTRO!$E$49=\"\",\"\",ROUND($D129*INTRO!$E$49,0))","v":5910},{"$f":"IF(INTRO!$E$50=\"\",\"\",ROUND($D129*INTRO!$E$50,0))","v":11164},0,4,3,1,0,{"$f":"IF(INTRO!$E$37=\"Endémique\",IF($H129>0,IF($H129=4,\"Inconnu\",IF($H129=99,\"Interrompu\",$D129)),0),\"Non requis\")","v":0},{"$f":"IF(INTRO!$E$39=\"Endémique\", IF($I129>0, IF($I129=4,\"Inconnu\",IF($I129=99,\"Interrompu\",$D129)), 0),\"Non requis\")","v":"Inconnu"},{"$f":"IF(INTRO!$E$41=\"Endémique\", IF(AND($J129>1,$J129<5), IF($J129=4, \"Inconnu\", E129+F129), 0),\"Non requis\")","v":9299},5441,0,0,2,0,null,null,null,null,2169,"KIWABA NZOGI"]
[{"$f":"IF(INTRO!$E$33<>0,INTRO!$E$33, \" \")","v":"Angola"},"MALANJE","KUNDA DYA BASE",16836,{"$f":"IF(INTRO!$E$48=\"\",\"\",ROUND($D130*INTRO!$E$48,0))","v":2694},{"$f":"IF(INTRO!$E$49=\"\",\"\",ROUND($D130*INTRO!$E$49,0))","v":4697},{"$f":"IF(INTRO!$E$50=\"\",\"\",ROUND($D130*INTRO!$E$50,0))","v":8873},1,4,2,2,0,{"$f":"IF(INTRO!$E$37=\"Endémique\",IF($H130>0,IF($H130=4,\"Inconnu\",IF($H130=99,\"Interrompu\",$D130)),0),\"Non requis\")","v":16836},{"$f":"IF(INTRO!$E$39=\"Endémique\", IF($I130>0, IF($I130=4,\"Inconnu\",IF($I130=99,\"Interrompu\",$D130)), 0),\"Non requis\")","v":"Inconnu"},{"$f":"IF(INTRO!$E$41=\"Endémique\", IF(AND($J130>1,$J130<5), IF($J130=4, \"Inconnu\", E130+F130), 0),\"Non requis\")","v":7391},5957,1,0,1,1,null,null,null,null,2170,"KUNDA DIA BASE"]
[{"$f":"IF(INTRO!$E$33<>0,INTRO!$E$33, \" \")","v":"Angola"},"MALANJE","LUQUEMBO",73211,{"$f":"IF(INTRO!$E$48=\"\",\"\",ROUND($D131*INTRO!$E$48,0))","v":11714},{"$f":"IF(INTRO!$E$49=\"\",\"\",ROUND($D131*INTRO!$E$49,0))","v":20426},{"$f":"IF(INTRO!$E$50=\"\",\"\",ROUND($D131*INTRO!$E$50,0))","v":38582},0,4,3,3,0,{"$f":"IF(INTRO!$E$37=\"Endémique\",IF($H131>0,IF($H131=4,\"Inconnu\",IF($H131=99,\"Interrompu\",$D131)),0),\"Non requis\")","v":0},{"$f":"IF(INTRO!$E$39=\"Endémique\", IF($I131>0, IF($I131=4,\"Inconnu\",IF($I131=99,\"Interrompu\",$D131)), 0),\"Non requis\")","v":"Inconnu"},{"$f":"IF(INTRO!$E$41=\"Endémique\", IF(AND($J131>1,$J131<5), IF($J131=4, \"Inconnu\", E131+F131), 0),\"Non requis\")","v":32140},27070,0,0,2,1,null,null,null,null,2171,"LUQUEMBO"]
[{"$f":"IF(INTRO!$E$33<>0,INTRO!$E$33, \" \")","v":"Angola"},"MALANJE","MALANJE",676139,{"$f":"IF(INTRO!$E$48=\"\",\"\",ROUND($D132*INTRO!$E$48,0))","v":108182},{"$f":"IF(INTRO!$E$49=\"\",\"\",ROUND($D132*INTRO!$E$49,0))","v":188643},{"$f":"IF(INTRO!$E$50=\"\",\"\",ROUND($D132*INTRO!$E$50,0))","v":356325},0,4,3,3,0,{"$f":"IF(INTRO!$E$37=\"Endémique\",IF($H132>0,IF($H132=4,\"Inconnu\",IF($H132=99,\"Interrompu\",$D132)),0),\"Non requis\")","v":0},{"$f":"IF(INTRO!$E$39=\"Endémique\", IF($I132>0, IF($I132=4,\"Inconnu\",IF($I132=99,\"Interrompu\",$D132)), 0),\"Non requis\")","v":"Inconnu"},{"$f":"IF(INTRO!$E$41=\"Endémique\", IF(AND($J132>1,$J132<5), IF($J132=4, \"Inconnu\", E132+F132), 0),\"Non requis\")","v":296825},494864,0,0,2,1,null,null,null,null,2172,"MALANJE"]
[{"$f":"IF(INTRO!$E$33<>0,INTRO!$E$33, \" \")","v":"Angola"},"MALANJE","MARIMBA",34925,{"$f":"IF(INTRO!$E$48=\"\",\"\",ROUND($D133*INTRO!$E$48,0))","v":5588},{"$f":"IF(INTRO!$E$49=\"\",\"\",ROUND($D133*INTRO!$E$49,0))","v":9744},{"$f":"IF(INTRO!$E$50=\"\",\"\",ROUND($D133*INTRO!$E$50,0))","v":18405},1,4,3,2,0,{"$f":"IF(INTRO!$E$37=\"Endémique\",IF($H133>0,IF($H133=4,\"Inconnu\",IF($H133=99,\"Interrompu\",$D133)),0),\"Non requis\")","v":34925},{"$f":"IF(INTRO!$E$39=\"Endémique\", IF($I133>0, IF($I133=4,\"Inconnu\",IF($I133=99,\"Interrompu\",$D133)), 0),\"Non requis\")","v":"Inconnu"},{"$f":"IF(INTRO!$E$41=\"Endémique\", IF(AND($J133>1,$J133<5), IF($J133=4, \"Inconnu\", E133+F133), 0),\"Non requis\")","v":15332},12358,1,0,2,1,null,null,null,null,2173,"MARIMBA"]
[{"$f":"IF(INTRO!$E$33<>0,INTRO!$E$33, \" \")","v":"Angola"},"MALANJE","MASSANGO",43912,{"$f":"IF(INTRO!$E$48=\"\",\"\",ROUND($D134*INTRO!$E$48,0))","v":7026},{"$f":"IF(INTRO!$E$49=\"\",\"\",ROUND($D134*INTRO!$E$49,0))","v":12251},{"$f":"IF(INTRO!$E$50=\"\",\"\",ROUND($D134*INTRO!$E$50,0))","v":23142},0,4,3,1,0,{"$f":"IF(INTRO!$E$37=\"Endémique\",IF($H134>0,IF($H134=4,\"Inconnu\",IF($H134=99,\"Interrompu\",$D134)),0),\"Non requis\")","v":0},{"$f":"IF(INTRO!$E$39=\"Endémique\", IF($I134>0, IF($I134=4,\"Inconnu\",IF($I134=99,\"Interrompu\",$D134)), 0),\"Non requis\")","v":"Inconnu"},{"$f":"IF(INTRO!$E$41=\"Endémique\", IF(AND($J134>1,$J134<5), IF($J134=4, \"Inconnu\", E134+F134), 0),\"Non requis\")","v":19277},8723,0,0,2,0,null,null,null,null,2174,"MASSANGO"]
[{"$f":"IF(INTRO!$E$33<>0,INTRO!$E$33, \" \")","v":"Angola"},"MALANJE","QUELA",27946,{"$f":"IF(INTRO!$E$48=\"\",\"\",ROUND($D135*INTRO!$E$48,0))","v":4471},{"$f":"IF(INTRO!$E$49=\"\",\"\",ROUND($D135*INTRO!$E$49,0))","v":7797},{"$f":"IF(INTRO!$E$50=\"\",\"\",ROUND($D135*INTRO!$E$50,0))","v":14728},1,4,3,2,0,{"$f":"IF(INTRO!$E$37=\"Endémique\",IF($H135>0,IF($H135=4,\"Inconnu\",IF($H135=99,\"Interrompu\",$D135)),0),\"Non requis\")","v":27946},{"$f":"IF(INTRO!$E$39=\"Endémique\", IF($I135>0, IF($I135=4,\"Inconnu\",IF($I135=99,\"Interrompu\",$D135)), 0),\"Non requis\")","v":"Inconnu"},{"$f":"IF(INTRO!$E$41=\"Endémique\", IF(AND($J135>1,$J135<5), IF($J135=4, \"Inconnu\", E135+F135), 0),\"Non requis\")","v":12268},6438,1,0,2,1,null,null,null,null,2222,"QUELA"]
[{"$f":"IF(INTRO!$E$33<>0,INTRO!$E$33, \" \")","v":"Angola"},"MALANJE","QUIRIMA",28193,{"$f":"IF(INTRO!$E$48=\"\",\"\",ROUND($D136*INTRO!$E$48,0))","v":4511},{"$f":"IF(INTRO!$E$49=\"\",\"\",ROUND($D136*INTRO!$E$49,0))","v":7866},{"$f":"IF(INTRO!$E$50=\"\",\"\",ROUND($D136*INTRO!$E$50,0))","v":14858},0,4,3,2,0,{"$f":"IF(INTRO!$E$37=\"Endémique\",IF($H136>0,IF($H136=4,\"Inconnu\",IF($H136=99,\"Interrompu\",$D136)),0),\"Non requis\")","v":0},{"$f":"IF(INTRO!$E$39=\"Endémique\", IF($I136>0, IF($I136=4,\"Inconnu\",IF($I136=99,\"Interrompu\",$D136)), 0),\"Non requis\")","v":"Inconnu"},{"$f":"IF(INTRO!$E$41=\"Endémique\", IF(AND($J136>1,$J136<5), IF($J136=4, \"Inconnu\", E136+F136), 0),\"Non requis\")","v":12377},6429,0,0,2,1,null,null,null,null,2168,"QUIRIMA"]
[{"$f":"IF(INTRO!$E$33<>0,INTRO!$E$33, \" \")","v":"Angola"},"MOXICO","ALTO ZAMBEZE",148603,{"$f":"IF(INTRO!$E$48=\"\",\"\",ROUND($D137*INTRO!$E$48,0))","v":23776},{"$f":"IF(INTRO!$E$49=\"\",\"\",ROUND($D137*INTRO!$E$49,0))","v":41460},{"$f":"IF(INTRO!$E$50=\"\",\"\",ROUND($D137*INTRO!$E$50,0))","v":78314},0,4,2,3,0,{"$f":"IF(INTRO!$E$37=\"Endémique\",IF($H137>0,IF($H137=4,\"Inconnu\",IF($H137=99,\"Interrompu\",$D137)),0),\"Non requis\")","v":0},{"$f":"IF(INTRO!$E$39=\"Endémique\", IF($I137>0, IF($I137=4,\"Inconnu\",IF($I137=99,\"Interrompu\",$D137)), 0),\"Non requis\")","v":"Inconnu"},{"$f":"IF(INTRO!$E$41=\"Endémique\", IF(AND($J137>1,$J137<5), IF($J137=4, \"Inconnu\", E137+F137), 0),\"Non requis\")","v":65236},53040,0,0,1,1,null,null,null,null,2176,"ALTO ZAMBEZE"]
[{"$f":"IF(INTRO!$E$33<>0,INTRO!$E$33, \" \")","v":"Angola"},"MOXICO","CAMANONGUE",45783,{"$f":"IF(INTRO!$E$48=\"\",\"\",ROUND($D138*INTRO!$E$48,0))","v":7325},{"$f":"IF(INTRO!$E$49=\"\",\"\",ROUND($D138*INTRO!$E$49,0))","v":12773},{"$f":"IF(INTRO!$E$50=\"\",\"\",ROUND($D138*INTRO!$E$50,0))","v":24128},0,1,2,0,0,{"$f":"IF(INTRO!$E$37=\"Endémique\",IF($H138>0,IF($H138=4,\"Inconnu\",IF($H138=99,\"Interrompu\",$D138)),0),\"Non requis\")","v":0},{"$f":"IF(INTRO!$E$39=\"Endémique\", IF($I138>0, IF($I138=4,\"Inconnu\",IF($I138=99,\"Interrompu\",$D138)), 0),\"Non requis\")","v":45783},{"$f":"IF(INTRO!$E$41=\"Endémique\", IF(AND($J138>1,$J138<5), IF($J138=4, \"Inconnu\", E138+F138), 0),\"Non requis\")","v":20098},0,0,1,1,0,null,null,null,null,2177,"CAMANONGUE"]
[{"$f":"IF(INTRO!$E$33<>0,INTRO!$E$33, \" \")","v":"Angola"},"MOXICO","LEUA",43491,{"$f":"IF(INTRO!$E$48=\"\",\"\",ROUND($D139*INTRO!$E$48,0))","v":6959},{"$f":"IF(INTRO!$E$49=\"\",\"\",ROUND($D139*INTRO!$E$49,0))","v":12134},{"$f":"IF(INTRO!$E$50=\"\",\"\",ROUND($D139*INTRO!$E$50,0))","v":22920},0,1,1,0,0,{"$f":"IF(INTRO!$E$37=\"Endémique\",IF($H139>0,IF($H139=4,\"Inconnu\",IF($H139=99,\"Interrompu\",$D139)),0),\"Non requis\")","v":0},{"$f":"IF(INTRO!$E$39=\"Endémique\", IF($I139>0, IF($I139=4,\"Inconnu\",IF($I139=99,\"Interrompu\",$D139)), 0),\"Non requis\")","v":43491},{"$f":"IF(INTRO!$E$41=\"Endémique\", IF(AND($J139>1,$J139<5), IF($J139=4, \"Inconnu\", E139+F139), 0),\"Non requis\")","v":0},0,0,1,0,0,null,null,null,null,2179,"LEUA"]
[{"$f":"IF(INTRO!$E$33<>0,INTRO!$E$33, \" \")","v":"Angola"},"MOXICO","LUACANO",27811,{"$f":"IF(INTRO!$E$48=\"\",\"\",ROUND($D140*INTRO!$E$48,0))","v":4450},{"$f":"IF(INTRO!$E$49=\"\",\"\",ROUND($D140*INTRO!$E$49,0))","v":7759},{"$f":"IF(INTRO!$E$50=\"\",\"\",ROUND($D140*INTRO!$E$50,0))","v":14656},0,1,2,1,0,{"$f":"IF(INTRO!$E$37=\"Endémique\",IF($H140>0,IF($H140=4,\"Inconnu\",IF($H140=99,\"Interrompu\",$D140)),0),\"Non requis\")","v":0},{"$f":"IF(INTRO!$E$39=\"Endémique\", IF($I140>0, IF($I140=4,\"Inconnu\",IF($I140=99,\"Interrompu\",$D140)), 0),\"Non requis\")","v":27811},{"$f":"IF(INTRO!$E$41=\"Endémique\", IF(AND($J140>1,$J140<5), IF($J140=4, \"Inconnu\", E140+F140), 0),\"Non requis\")","v":12209},3725,0,1,1,0,null,null,null,null,2180,"LUACANO"]
[{"$f":"IF(INTRO!$E$33<>0,INTRO!$E$33, \" \")","v":"Angola"},"MOXICO","LUAU",119864,{"$f":"IF(INTRO!$E$48=\"\",\"\",ROUND($D141*INTRO!$E$48,0))","v":19178},{"$f":"IF(INTRO!$E$49=\"\",\"\",ROUND($D141*INTRO!$E$49,0))","v":33442},{"$f":"IF(INTRO!$E$50=\"\",\"\",ROUND($D141*INTRO!$E$50,0))","v":63168},0,4,1,1,0,{"$f":"IF(INTRO!$E$37=\"Endémique\",IF($H141>0,IF($H141=4,\"Inconnu\",IF($H141=99,\"Interrompu\",$D141)),0),\"Non requis\")","v":0},{"$f":"IF(INTRO!$E$39=\"Endémique\", IF($I141>0, IF($I141=4,\"Inconnu\",IF($I141=99,\"Interrompu\",$D141)), 0),\"Non requis\")","v":"Inconnu"},{"$f":"IF(INTRO!$E$41=\"Endémique\", IF(AND($J141>1,$J141<5), IF($J141=4, \"Inconnu\", E141+F141), 0),\"Non requis\")","v":0},30783,0,0,0,0,null,null,null,null,2181,"LUAU"]
[{"$f":"IF(INTRO!$E$33<>0,INTRO!$E$33, \" \")","v":"Angola"},"MOXICO","LUCHAZES",19365,{"$f":"IF(INTRO!$E$48=\"\",\"\",ROUND($D142*INTRO!$E$48,0))","v":3098},{"$f":"IF(INTRO!$E$49=\"\",\"\",ROUND($D142*INTRO!$E$49,0))","v":5403},{"$f":"IF(INTRO!$E$50=\"\",\"\",ROUND($D142*INTRO!$E$50,0))","v":10205},0,4,2,1,0,{"$f":"IF(INTRO!$E$37=\"Endémique\",IF($H142>0,IF($H142=4,\"Inconnu\",IF($H142=99,\"Interrompu\",$D142)),0),\"Non requis\")","v":0},{"$f":"IF(INTRO!$E$39=\"Endémique\", IF($I142>0, IF($I142=4,\"Inconnu\",IF($I142=99,\"Interrompu\",$D142)), 0),\"Non requis\")","v":"Inconnu"},{"$f":"IF(INTRO!$E$41=\"Endémique\", IF(AND($J142>1,$J142<5), IF($J142=4, \"Inconnu\", E142+F142), 0),\"Non requis\")","v":8501},2655,0,0,1,0,null,null,null,null,2183,"LUCHAZES"]
[{"$f":"IF(INTRO!$E$33<>0,INTRO!$E$33, \" \")","v":"Angola"},"MOXICO","BUNDAS (LUMBALA NGUIMBO)",93123,{"$f":"IF(INTRO!$E$48=\"\",\"\",ROUND($D143*INTRO!$E$48,0))","v":14900},{"$f":"IF(INTRO!$E$49=\"\",\"\",ROUND($D143*INTRO!$E$49,0))","v":25981},{"$f":"IF(INTRO!$E$50=\"\",\"\",ROUND($D143*INTRO!$E$50,0))","v":49076},0,4,2,2,0,{"$f":"IF(INTRO!$E$37=\"Endémique\",IF($H143>0,IF($H143=4,\"Inconnu\",IF($H143=99,\"Interrompu\",$D143)),0),\"Non requis\")","v":0},{"$f":"IF(INTRO!$E$39=\"Endémique\", IF($I143>0, IF($I143=4,\"Inconnu\",IF($I143=99,\"Interrompu\",$D143)), 0),\"Non requis\")","v":"Inconnu"},{"$f":"IF(INTRO!$E$41=\"Endémique\", IF(AND($J143>1,$J143<5), IF($J143=4, \"Inconnu\", E143+F143), 0),\"Non requis\")","v":40881},17221,0,0,1,1,null,null,null,null,2182,"LUMBALA NGUIMBO"]
[{"$f":"IF(INTRO!$E$33<>0,INTRO!$E$33, \" \")","v":"Angola"},"MOXICO","CAMEIA (LUMEJE)",39497,{"$f":"IF(INTRO!$E$48=\"\",\"\",ROUND($D144*INTRO!$E$48,0))","v":6320},{"$f":"IF(INTRO!$E$49=\"\",\"\",ROUND($D144*INTRO!$E$49,0))","v":11020},{"$f":"IF(INTRO!$E$50=\"\",\"\",ROUND($D144*INTRO!$E$50,0))","v":20815},0,4,1,1,0,{"$f":"IF(INTRO!$E$37=\"Endémique\",IF($H144>0,IF($H144=4,\"Inconnu\",IF($H144=99,\"Interrompu\",$D144)),0),\"Non requis\")","v":0},{"$f":"IF(INTRO!$E$39=\"Endémique\", IF($I144>0, IF($I144=4,\"Inconnu\",IF($I144=99,\"Interrompu\",$D144)), 0),\"Non requis\")","v":"Inconnu"},{"$f":"IF(INTRO!$E$41=\"Endémique\", IF(AND($J144>1,$J144<5), IF($J144=4, \"Inconnu\", E144+F144), 0),\"Non requis\")","v":0},10144,0,0,0,0,null,null,null,null,2220,"LUMEJE"]
[{"$f":"IF(INTRO!$E$33<>0,INTRO!$E$33, \" \")","v":"Angola"},"MOXICO","MOXICO/LUENA",478924,{"$f":"IF(INTRO!$E$48=\"\",\"\",ROUND($D145*INTRO!$E$48,0))","v":76628},{"$f":"IF(INTRO!$E$49=\"\",\"\",ROUND($D145*INTRO!$E$49,0))","v":133620},{"$f":"IF(INTRO!$E$50=\"\",\"\",ROUND($D145*INTRO!$E$50,0))","v":252393},0,1,2,1,0,{"$f":"IF(INTRO!$E$37=\"Endémique\",IF($H145>0,IF($H145=4,\"Inconnu\",IF($H145=99,\"Interrompu\",$D145)),0),\"Non requis\")","v":0},{"$f":"IF(INTRO!$E$39=\"Endémique\", IF($I145>0, IF($I145=4,\"Inconnu\",IF($I145=99,\"Interrompu\",$D145)), 0),\"Non requis\")","v":478924},{"$f":"IF(INTRO!$E$41=\"Endémique\", IF(AND($J145>1,$J145<5), IF($J145=4, \"Inconnu\", E145+F145), 0),\"Non requis\")","v":210248},118829,0,1,1,0,null,null,null,null,2184,"MOXICO / LUENA"]
[{"$f":"IF(INTRO!$E$33<>0,INTRO!$E$33, \" \")","v":"Angola"},"NAMIBE","BIBALA",89036,{"$f":"IF(INTRO!$E$48=\"\",\"\",ROUND($D146*INTRO!$E$48,0))","v":14246},{"$f":"IF(INTRO!$E$49=\"\",\"\",ROUND($D146*INTRO!$E$49,0))","v":24841},{"$f":"IF(INTRO!$E$50=\"\",\"\",ROUND($D146*INTRO!$E$50,0))","v":46922},0,4,1,3,0,{"$f":"IF(INTRO!$E$37=\"Endémique\",IF($H146>0,IF($H146=4,\"Inconnu\",IF($H146=99,\"Interrompu\",$D146)),0),\"Non requis\")","v":0},{"$f":"IF(INTRO!$E$39=\"Endémique\", IF($I146>0, IF($I146=4,\"Inconnu\",IF($I146=99,\"Interrompu\",$D146)), 0),\"Non requis\")","v":"Inconnu"},{"$f":"IF(INTRO!$E$41=\"Endémique\", IF(AND($J146>1,$J146<5), IF($J146=4, \"Inconnu\", E146+F146), 0),\"Non requis\")","v":0},28792,0,0,0,1,null,null,null,null,2185,"BIBALA"]
[{"$f":"IF(INTRO!$E$33<>0,INTRO!$E$33, \" \")","v":"Angola"},"NAMIBE","CAMUCUIO",69498,{"$f":"IF(INTRO!$E$48=\"\",\"\",ROUND($D147*INTRO!$E$48,0))","v":11120},{"$f":"IF(INTRO!$E$49=\"\",\"\",ROUND($D147*INTRO!$E$49,0))","v":19390},{"$f":"IF(INTRO!$E$50=\"\",\"\",ROUND($D147*INTRO!$E$50,0))","v":36625},0,4,1,3,0,{"$f":"IF(INTRO!$E$37=\"Endémique\",IF($H147>0,IF($H147=4,\"Inconnu\",IF($H147=99,\"Interrompu\",$D147)),0),\"Non requis\")","v":0},{"$f":"IF(INTRO!$E$39=\"Endémique\", IF($I147>0, IF($I147=4,\"Inconnu\",IF($I147=99,\"Interrompu\",$D147)), 0),\"Non requis\")","v":"Inconnu"},{"$f":"IF(INTRO!$E$41=\"Endémique\", IF(AND($J147>1,$J147<5), IF($J147=4, \"Inconnu\", E147+F147), 0),\"Non requis\")","v":0},46794,0,0,0,1,null,null,null,null,2186,"CAMUCUIO"]
[{"$f":"IF(INTRO!$E$33<>0,INTRO!$E$33, \" \")","v":"Angola"},"NAMIBE","MOÇAMEDES",403795,{"$f":"IF(INTRO!$E$48=\"\",\"\",ROUND($D148*INTRO!$E$48,0))","v":64607},{"$f":"IF(INTRO!$E$49=\"\",\"\",ROUND($D148*INTRO!$E$49,0))","v":112659},{"$f":"IF(INTRO!$E$50=\"\",\"\",ROUND($D148*INTRO!$E$50,0))","v":212800},0,4,0,2,0,{"$f":"IF(INTRO!$E$37=\"Endémique\",IF($H148>0,IF($H148=4,\"Inconnu\",IF($H148=99,\"Interrompu\",$D148)),0),\"Non requis\")","v":0},{"$f":"IF(INTRO!$E$39=\"Endémique\", IF($I148>0, IF($I148=4,\"Inconnu\",IF($I148=99,\"Interrompu\",$D148)), 0),\"Non requis\")","v":"Inconnu"},{"$f":"IF(INTRO!$E$41=\"Endémique\", IF(AND($J148>1,$J148<5), IF($J148=4, \"Inconnu\", E148+F148), 0),\"Non requis\")","v":0},9195,0,0,0,1,null,null,null,null,2187,"NAMIBE"]
[{"$f":"IF(INTRO!$E$33<>0,INTRO!$E$33, \" \")","v":"Angola"},"NAMIBE","TOMBWA",76600,{"$f":"IF(INTRO!$E$48=\"\",\"\",ROUND($D149*INTRO!$E$48,0))","v":12256},{"$f":"IF(INTRO!$E$49=\"\",\"\",ROUND($D149*INTRO!$E$49,0))","v":21371},{"$f":"IF(INTRO!$E$50=\"\",\"\",ROUND($D149*INTRO!$E$50,0))","v":40368},0,4,1,1,0,{"$f":"IF(INTRO!$E$37=\"Endémique\",IF($H149>0,IF($H149=4,\"Inconnu\",IF($H149=99,\"Interrompu\",$D149)),0),\"Non requis\")","v":0},{"$f":"IF(INTRO!$E$39=\"Endémique\", IF($I149>0, IF($I149=4,\"Inconnu\",IF($I149=99,\"Interrompu\",$D149)), 0),\"Non requis\")","v":"Inconnu"},{"$f":"IF(INTRO!$E$41=\"Endémique\", IF(AND($J149>1,$J149<5), IF($J149=4, \"Inconnu\", E149+F149), 0),\"Non requis\")","v":0},19672,0,0,0,0,null,null,null,null,2188,"TOMBUA"]
[{"$f":"IF(INTRO!$E$33<>0,INTRO!$E$33, \" \")","v":"Angola"},"NAMIBE","VIREI",44783,{"$f":"IF(INTRO!$E$48=\"\",\"\",ROUND($D150*INTRO!$E$48,0))","v":7165},{"$f":"IF(INTRO!$E$49=\"\",\"\",ROUND($D150*INTRO!$E$49,0))","v":12494},{"$f":"IF(INTRO!$E$50=\"\",\"\",ROUND($D150*INTRO!$E$50,0))","v":23601},0,4,1,1,0,{"$f":"IF(INTRO!$E$37=\"Endémique\",IF($H150>0,IF($H150=4,\"Inconnu\",IF($H150=99,\"Interrompu\",$D150)),0),\"Non requis\")","v":0},{"$f":"IF(INTRO!$E$39=\"Endémique\", IF($I150>0, IF($I150=4,\"Inconnu\",IF($I150=99,\"Interrompu\",$D150)), 0),\"Non requis\")","v":"Inconnu"},{"$f":"IF(INTRO!$E$41=\"Endémique\", IF(AND($J150>1,$J150<5), IF($J150=4, \"Inconnu\", E150+F150), 0),\"Non requis\")","v":0},6150,0,0,0,0,null,null,null,null,2189,"VIREI"]
[{"$f":"IF(INTRO!$E$33<>0,INTRO!$E$33, \" \")","v":"Angola"},"UIGE","AMBUILA",24067,{"$f":"IF(INTRO!$E$48=\"\",\"\",ROUND($D151*INTRO!$E$48,0))","v":3851},{"$f":"IF(INTRO!$E$49=\"\",\"\",ROUND($D151*INTRO!$E$49,0))","v":6715},{"$f":"IF(INTRO!$E$50=\"\",\"\",ROUND($D151*INTRO!$E$50,0))","v":12683},1,4,0,2,1,{"$f":"IF(INTRO!$E$37=\"Endémique\",IF($H151>0,IF($H151=4,\"Inconnu\",IF($H151=99,\"Interrompu\",$D151)),0),\"Non requis\")","v":24067},{"$f":"IF(INTRO!$E$39=\"Endémique\", IF($I151>0, IF($I151=4,\"Inconnu\",IF($I151=99,\"Interrompu\",$D151)), 0),\"Non requis\")","v":"Inconnu"},{"$f":"IF(INTRO!$E$41=\"Endémique\", IF(AND($J151>1,$J151<5), IF($J151=4, \"Inconnu\", E151+F151), 0),\"Non requis\")","v":0},7796,1,0,0,1,null,null,null,null,2190,"AMBUILA"]
[{"$f":"IF(INTRO!$E$33<>0,INTRO!$E$33, \" \")","v":"Angola"},"UIGE","BEMBE",43775,{"$f":"IF(INTRO!$E$48=\"\",\"\",ROUND($D152*INTRO!$E$48,0))","v":7004},{"$f":"IF(INTRO!$E$49=\"\",\"\",ROUND($D152*INTRO!$E$49,0))","v":12213},{"$f":"IF(INTRO!$E$50=\"\",\"\",ROUND($D152*INTRO!$E$50,0))","v":23069},0,4,1,3,0,{"$f":"IF(INTRO!$E$37=\"Endémique\",IF($H152>0,IF($H152=4,\"Inconnu\",IF($H152=99,\"Interrompu\",$D152)),0),\"Non requis\")","v":0},{"$f":"IF(INTRO!$E$39=\"Endémique\", IF($I152>0, IF($I152=4,\"Inconnu\",IF($I152=99,\"Interrompu\",$D152)), 0),\"Non requis\")","v":"Inconnu"},{"$f":"IF(INTRO!$E$41=\"Endémique\", IF(AND($J152>1,$J152<5), IF($J152=4, \"Inconnu\", E152+F152), 0),\"Non requis\")","v":0},18437,0,0,0,1,null,null,null,null,2191,"BEMBE"]
[{"$f":"IF(INTRO!$E$33<>0,INTRO!$E$33, \" \")","v":"Angola"},"UIGE","BUENGAS",76044,{"$f":"IF(INTRO!$E$48=\"\",\"\",ROUND($D153*INTRO!$E$48,0))","v":12167},{"$f":"IF(INTRO!$E$49=\"\",\"\",ROUND($D153*INTRO!$E$49,0))","v":21216},{"$f":"IF(INTRO!$E$50=\"\",\"\",ROUND($D153*INTRO!$E$50,0))","v":40075},0,4,1,2,0,{"$f":"IF(INTRO!$E$37=\"Endémique\",IF($H153>0,IF($H153=4,\"Inconnu\",IF($H153=99,\"Interrompu\",$D153)),0),\"Non requis\")","v":0},{"$f":"IF(INTRO!$E$39=\"Endémique\", IF($I153>0, IF($I153=4,\"Inconnu\",IF($I153=99,\"Interrompu\",$D153)), 0),\"Non requis\")","v":"Inconnu"},{"$f":"IF(INTRO!$E$41=\"Endémique\", IF(AND($J153>1,$J153<5), IF($J153=4, \"Inconnu\", E153+F153), 0),\"Non requis\")","v":0},10684,0,0,0,1,null,null,null,null,2192,"BUENGAS"]
[{"$f":"IF(INTRO!$E$33<>0,INTRO!$E$33, \" \")","v":"Angola"},"UIGE","BUNGO",49351,{"$f":"IF(INTRO!$E$48=\"\",\"\",ROUND($D154*INTRO!$E$48,0))","v":7896},{"$f":"IF(INTRO!$E$49=\"\",\"\",ROUND($D154*INTRO!$E$49,0))","v":13769},{"$f":"IF(INTRO!$E$50=\"\",\"\",ROUND($D154*INTRO!$E$50,0))","v":26008},0,1,0,2,1,{"$f":"IF(INTRO!$E$37=\"Endémique\",IF($H154>0,IF($H154=4,\"Inconnu\",IF($H154=99,\"Interrompu\",$D154)),0),\"Non requis\")","v":0},{"$f":"IF(INTRO!$E$39=\"Endémique\", IF($I154>0, IF($I154=4,\"Inconnu\",IF($I154=99,\"Interrompu\",$D154)), 0),\"Non requis\")","v":49351},{"$f":"IF(INTRO!$E$41=\"Endémique\", IF(AND($J154>1,$J154<5), IF($J154=4, \"Inconnu\", E154+F154), 0),\"Non requis\")","v":0},17462,0,1,0,1,null,null,null,null,2193,"BUNGO"]
[{"$f":"IF(INTRO!$E$33<>0,INTRO!$E$33, \" \")","v":"Angola"},"UIGE","CANGOLA",71358,{"$f":"IF(INTRO!$E$48=\"\",\"\",ROUND($D155*INTRO!$E$48,0))","v":11417},{"$f":"IF(INTRO!$E$49=\"\",\"\",ROUND($D155*INTRO!$E$49,0))","v":19909},{"$f":"IF(INTRO!$E$50=\"\",\"\",ROUND($D155*INTRO!$E$50,0))","v":37606},0,4,0,2,0,{"$f":"IF(INTRO!$E$37=\"Endémique\",IF($H155>0,IF($H155=4,\"Inconnu\",IF($H155=99,\"Interrompu\",$D155)),0),\"Non requis\")","v":0},{"$f":"IF(INTRO!$E$39=\"Endémique\", IF($I155>0, IF($I155=4,\"Inconnu\",IF($I155=99,\"Interrompu\",$D155)), 0),\"Non requis\")","v":"Inconnu"},{"$f":"IF(INTRO!$E$41=\"Endémique\", IF(AND($J155>1,$J155<5), IF($J155=4, \"Inconnu\", E155+F155), 0),\"Non requis\")","v":0},10942,0,0,0,1,null,null,null,null,2195,"CANGOLA"]
[{"$f":"IF(INTRO!$E$33<>0,INTRO!$E$33, \" \")","v":"Angola"},"UIGE","DAMBA",88296,{"$f":"IF(INTRO!$E$48=\"\",\"\",ROUND($D156*INTRO!$E$48,0))","v":14127},{"$f":"IF(INTRO!$E$49=\"\",\"\",ROUND($D156*INTRO!$E$49,0))","v":24635},{"$f":"IF(INTRO!$E$50=\"\",\"\",ROUND($D156*INTRO!$E$50,0))","v":46532},0,4,0,2,0,{"$f":"IF(INTRO!$E$37=\"Endémique\",IF($H156>0,IF($H156=4,\"Inconnu\",IF($H156=99,\"Interrompu\",$D156)),0),\"Non requis\")","v":0},{"$f":"IF(INTRO!$E$39=\"Endémique\", IF($I156>0, IF($I156=4,\"Inconnu\",IF($I156=99,\"Interrompu\",$D156)), 0),\"Non requis\")","v":"Inconnu"},{"$f":"IF(INTRO!$E$41=\"Endémique\", IF(AND($J156>1,$J156<5), IF($J156=4, \"Inconnu\", E156+F156), 0),\"Non requis\")","v":0},23098,0,0,0,1,null,null,null,null,2194,"DAMBA"]
[{"$f":"IF(INTRO!$E$33<>0,INTRO!$E$33, \" \")","v":"Angola"},"UIGE","MAQUELA DO ZOMBO",169163,{"$f":"IF(INTRO!$E$48=\"\",\"\",ROUND($D157*INTRO!$E$48,0))","v":27066},{"$f":"IF(INTRO!$E$49=\"\",\"\",ROUND($D157*INTRO!$E$49,0))","v":47196},{"$f":"IF(INTRO!$E$50=\"\",\"\",ROUND($D157*INTRO!$E$50,0))","v":89149},0,4,0,2,0,{"$f":"IF(INTRO!$E$37=\"Endémique\",IF($H157>0,IF($H157=4,\"Inconnu\",IF($H157=99,\"Interrompu\",$D157)),0),\"Non requis\")","v":0},{"$f":"IF(INTRO!$E$39=\"Endémique\", IF($I157>0, IF($I157=4,\"Inconnu\",IF($I157=99,\"Interrompu\",$D157)), 0),\"Non requis\")","v":"Inconnu"},{"$f":"IF(INTRO!$E$41=\"Endémique\", IF(AND($J157>1,$J157<5), IF($J157=4, \"Inconnu\", E157+F157), 0),\"Non requis\")","v":0},44515,0,0,0,1,null,null,null,null,2198,"MAQUELA DO ZOMBO"]
[{"$f":"IF(INTRO!$E$33<>0,INTRO!$E$33, \" \")","v":"Angola"},"UIGE","MILUNGA",67208,{"$f":"IF(INTRO!$E$48=\"\",\"\",ROUND($D158*INTRO!$E$48,0))","v":10753},{"$f":"IF(INTRO!$E$49=\"\",\"\",ROUND($D158*INTRO!$E$49,0))","v":18751},{"$f":"IF(INTRO!$E$50=\"\",\"\",ROUND($D158*INTRO!$E$50,0))","v":35419},0,4,0,2,0,{"$f":"IF(INTRO!$E$37=\"Endémique\",IF($H158>0,IF($H158=4,\"Inconnu\",IF($H158=99,\"Interrompu\",$D158)),0),\"Non requis\")","v":0},{"$f":"IF(INTRO!$E$39=\"Endémique\", IF($I158>0, IF($I158=4,\"Inconnu\",IF($I158=99,\"Interrompu\",$D158)), 0),\"Non requis\")","v":"Inconnu"},{"$f":"IF(INTRO!$E$41=\"Endémique\", IF(AND($J158>1,$J158<5), IF($J158=4, \"Inconnu\", E158+F158), 0),\"Non requis\")","v":0},10926,0,0,0,1,null,null,null,null,2199,"MILUNGA"]
[{"$f":"IF(INTRO!$E$33<>0,INTRO!$E$33, \" \")","v":"Angola"},"UIGE","MUCABA",58412,{"$f":"IF(INTRO!$E$48=\"\",\"\",ROUND($D159*INTRO!$E$48,0))","v":9346},{"$f":"IF(INTRO!$E$49=\"\",\"\",ROUND($D159*INTRO!$E$49,0))","v":16297},{"$f":"IF(INTRO!$E$50=\"\",\"\",ROUND($D159*INTRO!$E$50,0))","v":30783},0,4,0,1,0,{"$f":"IF(INTRO!$E$37=\"Endémique\",IF($H159>0,IF($H159=4,\"Inconnu\",IF($H159=99,\"Interrompu\",$D159)),0),\"Non requis\")","v":0},{"$f":"IF(INTRO!$E$39=\"Endémique\", IF($I159>0, IF($I159=4,\"Inconnu\",IF($I159=99,\"Interrompu\",$D159)), 0),\"Non requis\")","v":"Inconnu"},{"$f":"IF(INTRO!$E$41=\"Endémique\", IF(AND($J159>1,$J159<5), IF($J159=4, \"Inconnu\", E159+F159), 0),\"Non requis\")","v":0},15001,0,0,0,0,null,null,null,null,2200,"MUCABA"]
[{"$f":"IF(INTRO!$E$33<>0,INTRO!$E$33, \" \")","v":"Angola"},"UIGE","NEGAGE",182724,{"$f":"IF(INTRO!$E$48=\"\",\"\",ROUND($D160*INTRO!$E$48,0))","v":29236},{"$f":"IF(INTRO!$E$49=\"\",\"\",ROUND($D160*INTRO!$E$49,0))","v":50980},{"$f":"IF(INTRO!$E$50=\"\",\"\",ROUND($D160*INTRO!$E$50,0))","v":96296},0,1,1,2,1,{"$f":"IF(INTRO!$E$37=\"Endémique\",IF($H160>0,IF($H160=4,\"Inconnu\",IF($H160=99,\"Interrompu\",$D160)),0),\"Non requis\")","v":0},{"$f":"IF(INTRO!$E$39=\"Endémique\", IF($I160>0, IF($I160=4,\"Inconnu\",IF($I160=99,\"Interrompu\",$D160)), 0),\"Non requis\")","v":182724},{"$f":"IF(INTRO!$E$41=\"Endémique\", IF(AND($J160>1,$J160<5), IF($J160=4, \"Inconnu\", E160+F160), 0),\"Non requis\")","v":0},63165,0,1,0,1,null,null,null,null,2201,"NEGAGE"]
[{"$f":"IF(INTRO!$E$33<>0,INTRO!$E$33, \" \")","v":"Angola"},"UIGE","PURI",50357,{"$f":"IF(INTRO!$E$48=\"\",\"\",ROUND($D161*INTRO!$E$48,0))","v":8057},{"$f":"IF(INTRO!$E$49=\"\",\"\",ROUND($D161*INTRO!$E$49,0))","v":14050},{"$f":"IF(INTRO!$E$50=\"\",\"\",ROUND($D161*INTRO!$E$50,0))","v":26538},1,1,0,0,0,{"$f":"IF(INTRO!$E$37=\"Endémique\",IF($H161>0,IF($H161=4,\"Inconnu\",IF($H161=99,\"Interrompu\",$D161)),0),\"Non requis\")","v":50357},{"$f":"IF(INTRO!$E$39=\"Endémique\", IF($I161>0, IF($I161=4,\"Inconnu\",IF($I161=99,\"Interrompu\",$D161)), 0),\"Non requis\")","v":50357},{"$f":"IF(INTRO!$E$41=\"Endémique\", IF(AND($J161>1,$J161<5), IF($J161=4, \"Inconnu\", E161+F161), 0),\"Non requis\")","v":0},0,1,1,0,0,null,null,null,null,2202,"PURI"]
[{"$f":"IF(INTRO!$E$33<>0,INTRO!$E$33, \" \")","v":"Angola"},"UIGE","QUIMBELE",181312,{"$f":"IF(INTRO!$E$48=\"\",\"\",ROUND($D162*INTRO!$E$48,0))","v":29010},{"$f":"IF(INTRO!$E$49=\"\",\"\",ROUND($D162*INTRO!$E$49,0))","v":50586},{"$f":"IF(INTRO!$E$50=\"\",\"\",ROUND($D162*INTRO!$E$50,0))","v":95551},0,4,1,1,1,{"$f":"IF(INTRO!$E$37=\"Endémique\",IF($H162>0,IF($H162=4,\"Inconnu\",IF($H162=99,\"Interrompu\",$D162)),0),\"Non requis\")","v":0},{"$f":"IF(INTRO!$E$39=\"Endémique\", IF($I162>0, IF($I162=4,\"Inconnu\",IF($I162=99,\"Interrompu\",$D162)), 0),\"Non requis\")","v":"Inconnu"},{"$f":"IF(INTRO!$E$41=\"Endémique\", IF(AND($J162>1,$J162<5), IF($J162=4, \"Inconnu\", E162+F162), 0),\"Non requis\")","v":0},13377,0,0,0,0,null,null,null,null,2196,"QUIMBELE"]
[{"$f":"IF(INTRO!$E$33<>0,INTRO!$E$33, \" \")","v":"Angola"},"UIGE","QUITEXE",45557,{"$f":"IF(INTRO!$E$48=\"\",\"\",ROUND($D163*INTRO!$E$48,0))","v":7289},{"$f":"IF(INTRO!$E$49=\"\",\"\",ROUND($D163*INTRO!$E$49,0))","v":12710},{"$f":"IF(INTRO!$E$50=\"\",\"\",ROUND($D163*INTRO!$E$50,0))","v":24009},1,1,0,2,1,{"$f":"IF(INTRO!$E$37=\"Endémique\",IF($H163>0,IF($H163=4,\"Inconnu\",IF($H163=99,\"Interrompu\",$D163)),0),\"Non requis\")","v":45557},{"$f":"IF(INTRO!$E$39=\"Endémique\", IF($I163>0, IF($I163=4,\"Inconnu\",IF($I163=99,\"Interrompu\",$D163)), 0),\"Non requis\")","v":45557},{"$f":"IF(INTRO!$E$41=\"Endémique\", IF(AND($J163>1,$J163<5), IF($J163=4, \"Inconnu\", E163+F163), 0),\"Non requis\")","v":0},4690,1,1,0,1,null,null,null,null,2197,"QUITEXE"]
[{"$f":"IF(INTRO!$E$33<>0,INTRO!$E$33, \" \")","v":"Angola"},"UIGE","SANZA POMBO",90845,{"$f":"IF(INTRO!$E$48=\"\",\"\",ROUND($D164*INTRO!$E$48,0))","v":14535},{"$f":"IF(INTRO!$E$49=\"\",\"\",ROUND($D164*INTRO!$E$49,0))","v":25346},{"$f":"IF(INTRO!$E$50=\"\",\"\",ROUND($D164*INTRO!$E$50,0))","v":47875},0,4,1,2,1,{"$f":"IF(INTRO!$E$37=\"Endémique\",IF($H164>0,IF($H164=4,\"Inconnu\",IF($H164=99,\"Interrompu\",$D164)),0),\"Non requis\")","v":0},{"$f":"IF(INTRO!$E$39=\"Endémique\", IF($I164>0, IF($I164=4,\"Inconnu\",IF($I164=99,\"Interrompu\",$D164)), 0),\"Non requis\")","v":"Inconnu"},{"$f":"IF(INTRO!$E$41=\"Endémique\", IF(AND($J164>1,$J164<5), IF($J164=4, \"Inconnu\", E164+F164), 0),\"Non requis\")","v":0},29330,0,0,0,1,null,null,null,null,2203,"SANZA POMBO"]
[{"$f":"IF(INTRO!$E$33<>0,INTRO!$E$33, \" \")","v":"Angola"},"UIGE","SONGO",81933,{"$f":"IF(INTRO!$E$48=\"\",\"\",ROUND($D165*INTRO!$E$48,0))","v":13109},{"$f":"IF(INTRO!$E$49=\"\",\"\",ROUND($D165*INTRO!$E$49,0))","v":22859},{"$f":"IF(INTRO!$E$50=\"\",\"\",ROUND($D165*INTRO!$E$50,0))","v":43179},1,1,0,3,1,{"$f":"IF(INTRO!$E$37=\"Endémique\",IF($H165>0,IF($H165=4,\"Inconnu\",IF($H165=99,\"Interrompu\",$D165)),0),\"Non requis\")","v":81933},{"$f":"IF(INTRO!$E$39=\"Endémique\", IF($I165>0, IF($I165=4,\"Inconnu\",IF($I165=99,\"Interrompu\",$D165)), 0),\"Non requis\")","v":81933},{"$f":"IF(INTRO!$E$41=\"Endémique\", IF(AND($J165>1,$J165<5), IF($J165=4, \"Inconnu\", E165+F165), 0),\"Non requis\")","v":0},60789,1,1,0,1,null,null,null,null,2204,"SONGO"]
[{"$f":"IF(INTRO!$E$33<>0,INTRO!$E$33, \" \")","v":"Angola"},"UIGE","UIGE",689662,{"$f":"IF(INTRO!$E$48=\"\",\"\",ROUND($D166*INTRO!$E$48,0))","v":110346},{"$f":"IF(INTRO!$E$49=\"\",\"\",ROUND($D166*INTRO!$E$49,0))","v":192416},{"$f":"IF(INTRO!$E$50=\"\",\"\",ROUND($D166*INTRO!$E$50,0))","v":363452},0,4,1,3,1,{"$f":"IF(INTRO!$E$37=\"Endémique\",IF($H166>0,IF($H166=4,\"Inconnu\",IF($H166=99,\"Interrompu\",$D166)),0),\"Non requis\")","v":0},{"$f":"IF(INTRO!$E$39=\"Endémique\", IF($I166>0, IF($I166=4,\"Inconnu\",IF($I166=99,\"Interrompu\",$D166)), 0),\"Non requis\")","v":"Inconnu"},{"$f":"IF(INTRO!$E$41=\"Endémique\", IF(AND($J166>1,$J166<5), IF($J166=4, \"Inconnu\", E166+F166), 0),\"Non requis\")","v":0},511674,0,0,0,1,null,null,null,null,2205,"UIGE"]
[{"$f":"IF(INTRO!$E$33<>0,INTRO!$E$33, \" \")","v":"Angola"},"ZAIRE","CUIMBA",94027,{"$f":"IF(INTRO!$E$48=\"\",\"\",ROUND($D167*INTRO!$E$48,0))","v":15044},{"$f":"IF(INTRO!$E$49=\"\",\"\",ROUND($D167*INTRO!$E$49,0))","v":26234},{"$f":"IF(INTRO!$E$50=\"\",\"\",ROUND($D167*INTRO!$E$50,0))","v":49552},0,4,0,2,0,{"$f":"IF(INTRO!$E$37=\"Endémique\",IF($H167>0,IF($H167=4,\"Inconnu\",IF($H167=99,\"Interrompu\",$D167)),0),\"Non requis\")","v":0},{"$f":"IF(INTRO!$E$39=\"Endémique\", IF($I167>0, IF($I167=4,\"Inconnu\",IF($I167=99,\"Interrompu\",$D167)), 0),\"Non requis\")","v":"Inconnu"},{"$f":"IF(INTRO!$E$41=\"Endémique\", IF(AND($J167>1,$J167<5), IF($J167=4, \"Inconnu\", E167+F167), 0),\"Non requis\")","v":0},1856,0,0,0,1,null,null,null,null,2206,"CUIMBA"]
[{"$f":"IF(INTRO!$E$33<>0,INTRO!$E$33, \" \")","v":"Angola"},"ZAIRE","MBANZA KONGO",245046,{"$f":"IF(INTRO!$E$48=\"\",\"\",ROUND($D168*INTRO!$E$48,0))","v":39207},{"$f":"IF(INTRO!$E$49=\"\",\"\",ROUND($D168*INTRO!$E$49,0))","v":68368},{"$f":"IF(INTRO!$E$50=\"\",\"\",ROUND($D168*INTRO!$E$50,0))","v":129139},0,4,2,3,0,{"$f":"IF(INTRO!$E$37=\"Endémique\",IF($H168>0,IF($H168=4,\"Inconnu\",IF($H168=99,\"Interrompu\",$D168)),0),\"Non requis\")","v":0},{"$f":"IF(INTRO!$E$39=\"Endémique\", IF($I168>0, IF($I168=4,\"Inconnu\",IF($I168=99,\"Interrompu\",$D168)), 0),\"Non requis\")","v":"Inconnu"},{"$f":"IF(INTRO!$E$41=\"Endémique\", IF(AND($J168>1,$J168<5), IF($J168=4, \"Inconnu\", E168+F168), 0),\"Non requis\")","v":107575},90941,0,0,1,1,null,null,null,null,2207,"MBANZA CONGO"]
[{"$f":"IF(INTRO!$E$33<>0,INTRO!$E$33, \" \")","v":"Angola"},"ZAIRE","NOQUI",32451,{"$f":"IF(INTRO!$E$48=\"\",\"\",ROUND($D169*INTRO!$E$48,0))","v":5192},{"$f":"IF(INTRO!$E$49=\"\",\"\",ROUND($D169*INTRO!$E$49,0))","v":9054},{"$f":"IF(INTRO!$E$50=\"\",\"\",ROUND($D169*INTRO!$E$50,0))","v":17102},0,4,0,2,1,{"$f":"IF(INTRO!$E$37=\"Endémique\",IF($H169>0,IF($H169=4,\"Inconnu\",IF($H169=99,\"Interrompu\",$D169)),0),\"Non requis\")","v":0},{"$f":"IF(INTRO!$E$39=\"Endémique\", IF($I169>0, IF($I169=4,\"Inconnu\",IF($I169=99,\"Interrompu\",$D169)), 0),\"Non requis\")","v":"Inconnu"},{"$f":"IF(INTRO!$E$41=\"Endémique\", IF(AND($J169>1,$J169<5), IF($J169=4, \"Inconnu\", E169+F169), 0),\"Non requis\")","v":0},5127,0,0,0,1,null,null,null,null,2208,"NOQUI"]
[{"$f":"IF(INTRO!$E$33<>0,INTRO!$E$33, \" \")","v":"Angola"},"ZAIRE","NZETO",64988,{"$f":"IF(INTRO!$E$48=\"\",\"\",ROUND($D170*INTRO!$E$48,0))","v":10398},{"$f":"IF(INTRO!$E$49=\"\",\"\",ROUND($D170*INTRO!$E$49,0))","v":18132},{"$f":"IF(INTRO!$E$50=\"\",\"\",ROUND($D170*INTRO!$E$50,0))","v":34249},0,4,1,3,1,{"$f":"IF(INTRO!$E$37=\"Endémique\",IF($H170>0,IF($H170=4,\"Inconnu\",IF($H170=99,\"Interrompu\",$D170)),0),\"Non requis\")","v":0},{"$f":"IF(INTRO!$E$39=\"Endémique\", IF($I170>0, IF($I170=4,\"Inconnu\",IF($I170=99,\"Interrompu\",$D170)), 0),\"Non requis\")","v":"Inconnu"},{"$f":"IF(INTRO!$E$41=\"Endémique\", IF(AND($J170>1,$J170<5), IF($J170=4, \"Inconnu\", E170+F170), 0),\"Non requis\")","v":0},18257,0,0,0,1,null,null,null,null,2209,"NZETO"]
[{"$f":"IF(INTRO!$E$33<>0,INTRO!$E$33, \" \")","v":"Angola"},"ZAIRE","SOYO",308706,{"$f":"IF(INTRO!$E$48=\"\",\"\",ROUND($D171*INTRO!$E$48,0))","v":49393},{"$f":"IF(INTRO!$E$49=\"\",\"\",ROUND($D171*INTRO!$E$49,0))","v":86129},{"$f":"IF(INTRO!$E$50=\"\",\"\",ROUND($D171*INTRO!$E$50,0))","v":162688},0,4,1,3,1,{"$f":"IF(INTRO!$E$37=\"Endémique\",IF($H171>0,IF($H171=4,\"Inconnu\",IF($H171=99,\"Interrompu\",$D171)),0),\"Non requis\")","v":0},{"$f":"IF(INTRO!$E$39=\"Endémique\", IF($I171>0, IF($I171=4,\"Inconnu\",IF($I171=99,\"Interrompu\",$D171)), 0),\"Non requis\")","v":"Inconnu"},{"$f":"IF(INTRO!$E$41=\"Endémique\", IF(AND($J171>1,$J171<5), IF($J171=4, \"Inconnu\", E171+F171), 0),\"Non requis\")","v":0},107466,0,0,0,1,null,null,null,null,2210,"SOYO"]
[{"$f":"IF(INTRO!$E$33<>0,INTRO!$E$33, \" \")","v":"Angola"},"ZAIRE","TOMBOCO",62542,{"$f":"IF(INTRO!$E$48=\"\",\"\",ROUND($D172*INTRO!$E$48,0))","v":10007},{"$f":"IF(INTRO!$E$49=\"\",\"\",ROUND($D172*INTRO!$E$49,0))","v":17449},{"$f":"IF(INTRO!$E$50=\"\",\"\",ROUND($D172*INTRO!$E$50,0))","v":32960},1,4,0,0,1,{"$f":"IF(INTRO!$E$37=\"Endémique\",IF($H172>0,IF($H172=4,\"Inconnu\",IF($H172=99,\"Interrompu\",$D172)),0),\"Non requis\")","v":62542},{"$f":"IF(INTRO!$E$39=\"Endémique\", IF($I172>0, IF($I172=4,\"Inconnu\",IF($I172=99,\"Interrompu\",$D172)), 0),\"Non requis\")","v":"Inconnu"},{"$f":"IF(INTRO!$E$41=\"Endémique\", IF(AND($J172>1,$J172<5), IF($J172=4, \"Inconnu\", E172+F172), 0),\"Non requis\")","v":0},0,1,0,0,0,null,null,null,null,2211,"TOMBOCO"]

{"sheet":"ALB_MBD","index":2,"n_rows":172,"n_cols":29,"rows_kept":172,"cut":false,"hidden":false,"merged":[[3,0,3,2],[3,6,3,7],[5,0,5,2],[5,6,5,7],[5,3,5,5],[6,0,7,0],[6,1,7,1],[6,2,7,2],[6,3,7,3],[5,20,5,25],[6,4,7,4],[6,5,7,5],[6,6,7,6],[6,7,7,7],[6,16,6,19],[5,11,7,11],[6,12,6,15],[5,12,5,19],[5,8,7,8],[6,22,7,22],[6,24,7,24],[5,9,5,10],[6,9,7,9],[6,10,7,10],[5,26,5,28],[6,26,7,26],[6,23,7,23],[6,20,7,20],[6,21,7,21],[6,25,7,25],[6,27,7,27],[6,28,7,28]]}
["Albendazole (ALB) et Mebendazole (MBD)"]
["Structure administrative, population ciblée par groupe d'âge, plan de traitement et information sur les comprimés"]
[]
["TOTAL",null,null,{"$f":"SUM(D$9:D$1000)","v":4406546},{"$f":"SUM(E$9:E$1000)","v":7683923},{"$f":"SUM(F$9:F$1000)","v":12090469},null,null,{"$f":"SUM(I$9:I$1000)","v":1912893},{"$f":"SUM(J$9:J$1000)","v":1571749},null,null,{"$f":"SUM(M$9:M$1000)","v":1940671},{"$f":"SUM(N$9:N$1000)","v":3031104.5470216498},{"$f":"SUM(O$9:O$1000)","v":0},{"$f":"SUM(P$9:P$1000)","v":4971775.5470216498},{"$f":"SUM(Q$9:Q$1000)","v":0},{"$f":"SUM(R$9:R$1000)","v":0},0,0,0,5056391,25299,0,3031104.5470216498,15186,0,0,0]
[]
["Structure administrative du pays",null,null,"Population nécessitant un traitement avec ALB/MBD",null,null,"Plan de traitement",null,"Population couverte par le PEFL avec ALB","Endémique à la Loase",null,"Médicament choisi pour le traitement des STH","Population cible",null,null,null,null,null,null,null,"Albendazole (ALB)",null,null,null,null,null,"Mebendazole (MBD)"]
["Pays","Région/Département","District","EAPréS","EAS","Total","FL","STH",null,"Population","Tours planifiés",null,"STH (ALB)",null,null,null,"STH (MBD)",null,null,null,"Reste en stock (FL)","Comprimés devant être fournis (FL)","Flacons (400mg)\n200 comprimés (FL)","Reste en stock (STH)","Comprimés devant être fournis pour EAS (STH)","Flacons (400mg)\n200 comprimés (STH)","Reste en stock","Comprimés devant être fournis pour EAS","Flacons (500mg)\n150 comprimés"]
[null,null,null,null,null,null,null,null,null,null,null,null,"EAPréS","EAS","Autres","Total","EAPréS","EAS","Autres","Total"]
[{"$f":"IF(AND(INTRO!$E$37=\"Non endémique\",INTRO!$E$41=\"Non endémique\"),\" \",IF(COUNTRY_INFO!A9=0,\" \",COUNTRY_INFO!A9))","v":"Angola"},{"$f":"IF(AND(INTRO!$E$37=\"Non endémique\",INTRO!$E$41=\"Non endémique\"),\" \",IF(COUNTRY_INFO!B9=0,\" \",COUNTRY_INFO!B9))","v":"BENGO"},{"$f":"IF(AND(INTRO!$E$37=\"Non endémique\",INTRO!$E$41=\"Non endémique\"),\" \",IF(COUNTRY_INFO!C9=0,\" \",COUNTRY_INFO!C9))","v":"AMBRIZ"},{"$f":"IF(AND(INTRO!$E$37=\"Non endémique\",INTRO!$E$41=\"Non endémique\"),0,IF(AND(OR(COUNTRY_INFO!$H9=0,COUNTRY_INFO!$H9=4,COUNTRY_INFO!$H9=99),OR(COUNTRY_INFO!$J9=0,COUNTRY_INFO!$J9=4)),0,COUNTRY_INFO!$E9))","v":5313},{"$f":"IF(AND(INTRO!$E$37=\"Non endémique\",INTRO!$E$41=\"Non endémique\"),0,IF(AND(OR(COUNTRY_INFO!$H9=0,COUNTRY_INFO!$H9=4,COUNTRY_INFO!$H9=99),OR(COUNTRY_INFO!$J9=0,COUNTRY_INFO!$J9=4)),0,COUNTRY_INFO!$F9))","v":9264},{"$f":"SUM(D9:E9)","v":14577},{"$f":"IF(AND(INTRO!$E$37=\"Non endémique\",INTRO!$E$41=\"Non endémique\"),0,COUNTRY_INFO!Q9)","v":1},{"$f":"IF(AND(INTRO!$E$37=\"Non endémique\",INTRO!$E$41=\"Non endémique\"),0,COUNTRY_INFO!S9)","v":0},{"$f":"IF($G9=1,IVM!$G9,0)","v":1390},25373,2,"ALB",{"$f":"IF($L9=\"ALB\", IF(INTRO!$E$39=\"Non endémique\",IF($H9<>0,$D9*($H9-$G9),0),$D9*$H9), 0)","v":0},{"$f":"IF($L9=\"ALB\", IF($H9=0, 0, IF(AND($I9=0, OR($J9=0,$J9=\" \")), $E9*$H9, IF(AND($I9=0, $J9>0), IF(($H9-$K9)<=0, 0, $E9*(MAX($H9,$K9)-MIN($H9,$K9))), IF(AND($I9>0, $J9=0), $E9*($H9-$G9), IF($J9=\" \", $E9*($H9-$G9), $J9*$E9/($I9+$J9)*$K9+$I9*$E9/($I9+$J9)*($H9-$G9)))))), 0)","v":0},null,{"$f":"SUM(M9:O9)","v":0},{"$f":"IF($L9=\"MBD\", IF(INTRO!$E$39=\"Non endémique\",IF($H9<>0,$D9*($H9-$G9),0),$D9*$H9),0)","v":0},{"$f":"IF($L9=\"MBD\", IF($H9=0, 0, IF(AND($I9=0, OR($J9=0,$J9=\" \")), $E9*$H9, IF(AND($I9=0, $J9>0), IF(($H9-$K9)<=0, 0, $E9*(MAX($H9,$K9)-MIN($H9,$K9))), IF(AND($I9>0, $J9=0), $E9*($H9-$G9), IF($J9=\" \", $E9*($H9-$G9), $J9*$E9/($I9+$J9)*$K9+$I9*$E9/($I9+$J9)*($H9-$G9)))))), 0)","v":0},null,{"$f":"SUM(Q9:S9)","v":0},null,{"$f":"IF($J9<>\" \", IF(($I9+$J9*$K9)>$U9, ($I9+$J9*$K9)-$U9,0), IF($I9>$U9, $I9-$U9, 0))","v":52136},{"$f":"IF($J9<>\" \", ROUNDUP(($I9+$J9*$K9)/200,0), ROUNDUP($I9/200,0))","v":261},null,{"$f":"IF($N9>$X9,$N9-$X9,0)","v":0},{"$f":"ROUNDUP($N9/200,0)","v":0},null,{"$f":"IF($R9>$AA9,$R9-$AA9,0)","v":0},{"$f":"ROUNDUP($R9/150,0)","v":0}]
[{"$f":"IF(AND(INTRO!$E$37=\"Non endémique\",INTRO!$E$41=\"Non endémique\"),\" \",IF(COUNTRY_INFO!A10=0,\" \",COUNTRY_INFO!A10))","v":"Angola"},{"$f":"IF(AND(INTRO!$E$37=\"Non endémique\",INTRO!$E$41=\"Non endémique\"),\" \",IF(COUNTRY_INFO!B10=0,\" \",COUNTRY_INFO!B10))","v":"BENGO"},{"$f":"IF(AND(INTRO!$E$37=\"Non endémique\",INTRO!$E$41=\"Non endémique\"),\" \",IF(COUNTRY_INFO!C10=0,\" \",COUNTRY_INFO!C10))","v":"BULA ATUMBA"},{"$f":"IF(AND(INTRO!$E$37=\"Non endémique\",INTRO!$E$41=\"Non endémique\"),0,IF(AND(OR(COUNTRY_INFO!$H10=0,COUNTRY_INFO!$H10=4,COUNTRY_INFO!$H10=99),OR(COUNTRY_INFO!$J10=0,COUNTRY_INFO!$J10=4)),0,COUNTRY_INFO!$E10))","v":3147},{"$f":"IF(AND(INTRO!$E$37=\"Non endémique\",INTRO!$E$41=\"Non endémique\"),0,IF(AND(OR(COUNTRY_INFO!$H10=0,COUNTRY_INFO!$H10=4,COUNTRY_INFO!$H10=99),OR(COUNTRY_INFO!$J10=0,COUNTRY_INFO!$J10=4)),0,COUNTRY_INFO!$F10))","v":5488},8635,{"$f":"IF(AND(INTRO!$E$37=\"Non endémique\",INTRO!$E$41=\"Non endémique\"),0,COUNTRY_INFO!Q10)","v":1},{"$f":"IF(AND(INTRO!$E$37=\"Non endémique\",INTRO!$E$41=\"Non endémique\"),0,COUNTRY_INFO!S10)","v":2},{"$f":"IF($G10=1,IVM!$G10,0)","v":823},15031,2,"ALB",{"$f":"IF($L10=\"ALB\", IF(INTRO!$E$39=\"Non endémique\",IF($H10<>0,$D10*($H10-$G10),0),$D10*$H10), 0)","v":6294},10691.111391446953,null,16985.111391446953,{"$f":"IF($L10=\"MBD\", IF(INTRO!$E$39=\"Non endémique\",IF($H10<>0,$D10*($H10-$G10),0),$D10*$H10),0)","v":0},0,null,0,null,30885,155,null,10691.111391446953,54,null,0,0]
[{"$f":"IF(AND(INTRO!$E$37=\"Non endémique\",INTRO!$E$41=\"Non endémique\"),\" \",IF(COUNTRY_INFO!A11=0,\" \",COUNTRY_INFO!A11))","v":"Angola"},{"$f":"IF(AND(INTRO!$E$37=\"Non endémique\",INTRO!$E$41=\"Non endémique\"),\" \",IF(COUNTRY_INFO!B11=0,\" \",COUNTRY_INFO!B11))","v":"BENGO"},{"$f":"IF(AND(INTRO!$E$37=\"Non endémique\",INTRO!$E$41=\"Non endémique\"),\" \",IF(COUNTRY_INFO!C11=0,\" \",COUNTRY_INFO!C11))","v":"DANDE"},{"$f":"IF(AND(INTRO!$E$37=\"Non endémique\",INTRO!$E$41=\"Non endémique\"),0,IF(AND(OR(COUNTRY_INFO!$H11=0,COUNTRY_INFO!$H11=4,COUNTRY_INFO!$H11=99),OR(COUNTRY_INFO!$J11=0,COUNTRY_INFO!$J11=4)),0,COUNTRY_INFO!$E11))","v":52052},{"$f":"IF(AND(INTRO!$E$37=\"Non endémique\",INTRO!$E$41=\"Non endémique\"),0,IF(AND(OR(COUNTRY_INFO!$H11=0,COUNTRY_INFO!$H11=4,COUNTRY_INFO!$H11=99),OR(COUNTRY_INFO!$J11=0,COUNTRY_INFO!$J11=4)),0,COUNTRY_INFO!$F11))","v":90765},142817,{"$f":"IF(AND(INTRO!$E$37=\"Non endémique\",INTRO!$E$41=\"Non endémique\"),0,COUNTRY_INFO!Q11)","v":1},{"$f":"IF(AND(INTRO!$E$37=\"Non endémique\",INTRO!$E$41=\"Non endémique\"),0,COUNTRY_INFO!S11)","v":0},{"$f":"IF($G11=1,IVM!$G11,0)","v":13606},248604,2,"ALB",{"$f":"IF($L11=\"ALB\", IF(INTRO!$E$39=\"Non endémique\",IF($H11<>0,$D11*($H11-$G11),0),$D11*$H11), 0)","v":0},0,null,0,{"$f":"IF($L11=\"MBD\", IF(INTRO!$E$39=\"Non endémique\",IF($H11<>0,$D11*($H11-$G11),0),$D11*$H11),0)","v":0},0,null,0,null,510814,2555,null,0,0,null,0,0]
[{"$f":"IF(AND(INTRO!$E$37=\"Non endémique\",INTRO!$E$41=\"Non endémique\"),\" \",IF(COUNTRY_INFO!A12=0,\" \",COUNTRY_INFO!A12))","v":"Angola"},{"$f":"IF(AND(INTRO!$E$37=\"Non endémique\",INTRO!$E$41=\"Non endémique\"),\" \",IF(COUNTRY_INFO!B12=0,\" \",COUNTRY_INFO!B12))","v":"BENGO"},{"$f":"IF(AND(INTRO!$E$37=\"Non endémique\",INTRO!$E$41=\"Non endémique\"),\" \",IF(COUNTRY_INFO!C12=0,\" \",COUNTRY_INFO!C12))","v":"DEMBOS"},{"$f":"IF(AND(INTRO!$E$37=\"Non endémique\",INTRO!$E$41=\"Non endémique\"),0,IF(AND(OR(COUNTRY_INFO!$H12=0,COUNTRY_INFO!$H12=4,COUNTRY_INFO!$H12=99),OR(COUNTRY_INFO!$J12=0,COUNTRY_INFO!$J12=4)),0,COUNTRY_INFO!$E12))","v":7031},{"$f":"IF(AND(INTRO!$E$37=\"Non endémique\",INTRO!$E$41=\"Non endémique\"),0,IF(AND(OR(COUNTRY_INFO!$H12=0,COUNTRY_INFO!$H12=4,COUNTRY_INFO!$H12=99),OR(COUNTRY_INFO!$J12=0,COUNTRY_INFO!$J12=4)),0,COUNTRY_INFO!$F12))","v":12260},19291,{"$f":"IF(AND(INTRO!$E$37=\"Non endémique\",INTRO!$E$41=\"Non endémique\"),0,COUNTRY_INFO!Q12)","v":1},{"$f":"IF(AND(INTRO!$E$37=\"Non endémique\",INTRO!$E$41=\"Non endémique\"),0,COUNTRY_INFO!S12)","v":2},{"$f":"IF($G12=1,IVM!$G12,0)","v":1838},33580,2,"ALB",{"$f":"IF($L12=\"ALB\", IF(INTRO!$E$39=\"Non endémique\",IF($H12<>0,$D12*($H12-$G12),0),$D12*$H12), 0)","v":14062},23883.773222655145,null,37945.773222655145,{"$f":"IF($L12=\"MBD\", IF(INTRO!$E$39=\"Non endémique\",IF($H12<>0,$D12*($H12-$G12),0),$D12*$H12),0)","v":0},0,null,0,null,68998,345,null,23883.773222655145,120,null,0,0]
[{"$f":"IF(AND(INTRO!$E$37=\"Non endémique\",INTRO!$E$41=\"Non endémique\"),\" \",IF(COUNTRY_INFO!A13=0,\" \",COUNTRY_INFO!A13))","v":"Angola"},{"$f":"IF(AND(INTRO!$E$37=\"Non endémique\",INTRO!$E$41=\"Non endémique\"),\" \",IF(COUNTRY_INFO!B13=0,\" \",COUNTRY_INFO!B13))","v":"BENGO"},{"$f":"IF(AND(INTRO!$E$37=\"Non endémique\",INTRO!$E$41=\"Non endémique\"),\" \",IF(COUNTRY_INFO!C13=0,\" \",COUNTRY_INFO!C13))","v":"NAMBUANGONGO"},{"$f":"IF(AND(INTRO!$E$37=\"Non endémique\",INTRO!$E$41=\"Non endémique\"),0,IF(AND(OR(COUNTRY_INFO!$H13=0,COUNTRY_INFO!$H13=4,COUNTRY_INFO!$H13=99),OR(COUNTRY_INFO!$J13=0,COUNTRY_INFO!$J13=4)),0,COUNTRY_INFO!$E13))","v":14241},{"$f":"IF(AND(INTRO!$E$37=\"Non endémique\",INTRO!$E$41=\"Non endémique\"),0,IF(AND(OR(COUNTRY_INFO!$H13=0,COUNTRY_INFO!$H13=4,COUNTRY_INFO!$H13=99),OR(COUNTRY_INFO!$J13=0,COUNTRY_INFO!$J13=4)),0,COUNTRY_INFO!$F13))","v":24833},39074,{"$f":"IF(AND(INTRO!$E$37=\"Non endémique\",INTRO!$E$41=\"Non endémique\"),0,COUNTRY_INFO!Q13)","v":1},{"$f":"IF(AND(INTRO!$E$37=\"Non endémique\",INTRO!$E$41=\"Non endémique\"),0,COUNTRY_INFO!S13)","v":1},{"$f":"IF($G13=1,IVM!$G13,0)","v":3723},68016,2,"ALB",{"$f":"IF($L13=\"ALB\", IF(INTRO!$E$39=\"Non endémique\",IF($H13<>0,$D13*($H13-$G13),0),$D13*$H13), 0)","v":14241},47088.510517291848,null,61329.510517291848,{"$f":"IF($L13=\"MBD\", IF(INTRO!$E$39=\"Non endémique\",IF($H13<>0,$D13*($H13-$G13),0),$D13*$H13),0)","v":0},0,null,0,null,139755,699,null,47088.510517291848,236,null,0,0]
[{"$f":"IF(AND(INTRO!$E$37=\"Non endémique\",INTRO!$E$41=\"Non endémique\"),\" \",IF(COUNTRY_INFO!A14=0,\" \",COUNTRY_INFO!A14))","v":"Angola"},{"$f":"IF(AND(INTRO!$E$37=\"Non endémique\",INTRO!$E$41=\"Non endémique\"),\" \",IF(COUNTRY_INFO!B14=0,\" \",COUNTRY_INFO!B14))","v":"BENGO"},{"$f":"IF(AND(INTRO!$E$37=\"Non endémique\",INTRO!$E$41=\"Non endémique\"),\" \",IF(COUNTRY_INFO!C14=0,\" \",COUNTRY_INFO!C14))","v":"PANGO ALUQUEM"},{"$f":"IF(AND(INTRO!$E$37=\"Non endémique\",INTRO!$E$41=\"Non endémique\"),0,IF(AND(OR(COUNTRY_INFO!$H14=0,COUNTRY_INFO!$H14=4,COUNTRY_INFO!$H14=99),OR(COUNTRY_INFO!$J14=0,COUNTRY_INFO!$J14=4)),0,COUNTRY_INFO!$E14))","v":1639},{"$f":"IF(AND(INTRO!$E$37=\"Non endémique\",INTRO!$E$41=\"Non endémique\"),0,IF(AND(OR(COUNTRY_INFO!$H14=0,COUNTRY_INFO!$H14=4,COUNTRY_INFO!$H14=99),OR(COUNTRY_INFO!$J14=0,COUNTRY_INFO!$J14=4)),0,COUNTRY_INFO!$F14))","v":2857},4496,{"$f":"IF(AND(INTRO!$E$37=\"Non endémique\",INTRO!$E$41=\"Non endémique\"),0,COUNTRY_INFO!Q14)","v":0},{"$f":"IF(AND(INTRO!$E$37=\"Non endémique\",INTRO!$E$41=\"Non endémique\"),0,COUNTRY_INFO!S14)","v":2},{"$f":"IF($G14=1,IVM!$G14,0)","v":0},{"$f":"IF($G14=0, \" \", IF(COUNTRY_INFO!$H14=1, IF(COUNTRY_INFO!$L14=1, 0,\" \"),\" \"))","v":" "},null,"ALB",{"$f":"IF($L14=\"ALB\", IF(INTRO!$E$39=\"Non endémique\",IF($H14<>0,$D14*($H14-$G14),0),$D14*$H14), 0)","v":3278},5714,null,8992,{"$f":"IF($L14=\"MBD\", IF(INTRO!$E$39=\"Non endémique\",IF($H14<>0,$D14*($H14-$G14),0),$D14*$H14),0)","v":0},0,null,0,null,0,0,null,5714,29,null,0,0]
[{"$f":"IF(AND(INTRO!$E$37=\"Non endémique\",INTRO!$E$41=\"Non endémique\"),\" \",IF(COUNTRY_INFO!A15=0,\" \",COUNTRY_INFO!A15))","v":"Angola"},{"$f":"IF(AND(INTRO!$E$37=\"Non endémique\",INTRO!$E$41=\"Non endémique\"),\" \",IF(COUNTRY_INFO!B15=0,\" \",COUNTRY_INFO!B15))","v":"BENGUELA"},{"$f":"IF(AND(INTRO!$E$37=\"Non endémique\",INTRO!$E$41=\"Non endémique\"),\" \",IF(COUNTRY_INFO!C15=0,\" \",COUNTRY_INFO!C15))","v":"BAIA FARTA"},{"$f":"IF(AND(INTRO!$E$37=\"Non endémique\",INTRO!$E$41=\"Non endémique\"),0,IF(AND(OR(COUNTRY_INFO!$H15=0,COUNTRY_INFO!$H15=4,COUNTRY_INFO!$H15=99),OR(COUNTRY_INFO!$J15=0,COUNTRY_INFO!$J15=4)),0,COUNTRY_INFO!$E15))","v":0},{"$f":"IF(AND(INTRO!$E$37=\"Non endémique\",INTRO!$E$41=\"Non endémique\"),0,IF(AND(OR(COUNTRY_INFO!$H15=0,COUNTRY_INFO!$H15=4,COUNTRY_INFO!$H15=99),OR(COUNTRY_INFO!$J15=0,COUNTRY_INFO!$J15=4)),0,COUNTRY_INFO!$F15))","v":0},0,{"$f":"IF(AND(INTRO!$E$37=\"Non endémique\",INTRO!$E$41=\"Non endémique\"),0,COUNTRY_INFO!Q15)","v":0},{"$f":"IF(AND(INTRO!$E$37=\"Non endémique\",INTRO!$E$41=\"Non endémique\"),0,COUNTRY_INFO!S15)","v":0},{"$f":"IF($G15=1,IVM!$G15,0)","v":0},{"$f":"IF($G15=0, \" \", IF(COUNTRY_INFO!$H15=1, IF(COUNTRY_INFO!$L15=1, 0,\" \"),\" \"))","v":" "},null,"ALB",{"$f":"IF($L15=\"ALB\", IF(INTRO!$E$39=\"Non endémique\",IF($H15<>0,$D15*($H15-$G15),0),$D15*$H15), 0)","v":0},0,null,0,{"$f":"IF($L15=\"MBD\", IF(INTRO!$E$39=\"Non endémique\",IF($H15<>0,$D15*($H15-$G15),0),$D15*$H15),0)","v":0},0,null,0,null,0,0,null,0,0,null,0,0]
[{"$f":"IF(AND(INTRO!$E$37=\"Non endémique\",INTRO!$E$41=\"Non endémique\"),\" \",IF(COUNTRY_INFO!A16=0,\" \",COUNTRY_INFO!A16))","v":"Angola"},{"$f":"IF(AND(INTRO!$E$37=\"Non endémique\",INTRO!$E$41=\"Non endémique\"),\" \",IF(COUNTRY_INFO!B16=0,\" \",COUNTRY_INFO!B16))","v":"BENGUELA"},{"$f":"IF(AND(INTRO!$E$37=\"Non endémique\",INTRO!$E$41=\"Non endémique\"),\" \",IF(COUNTRY_INFO!C16=0,\" \",COUNTRY_INFO!C16))","v":"BALOMBO"},{"$f":"IF(AND(INTRO!$E$37=\"Non endémique\",INTRO!$E$41=\"Non endémique\"),0,IF(AND(OR(COUNTRY_INFO!$H16=0,COUNTRY_INFO!$H16=4,COUNTRY_INFO!$H16=99),OR(COUNTRY_INFO!$J16=0,COUNTRY_INFO!$J16=4)),0,COUNTRY_INFO!$E16))","v":22745},{"$f":"IF(AND(INTRO!$E$37=\"Non endémique\",INTRO!$E$41=\"Non endémique\"),0,IF(AND(OR(COUNTRY_INFO!$H16=0,COUNTRY_INFO!$H16=4,COUNTRY_INFO!$H16=99),OR(COUNTRY_INFO!$J16=0,COUNTRY_INFO!$J16=4)),0,COUNTRY_INFO!$F16))","v":39662},62407,{"$f":"IF(AND(INTRO!$E$37=\"Non endémique\",INTRO!$E$41=\"Non endémique\"),0,COUNTRY_INFO!Q16)","v":0},{"$f":"IF(AND(INTRO!$E$37=\"Non endémique\",INTRO!$E$41=\"Non endémique\"),0,COUNTRY_INFO!S16)","v":0},{"$f":"IF($G16=1,IVM!$G16,0)","v":0},{"$f":"IF($G16=0, \" \", IF(COUNTRY_INFO!$H16=1, IF(COUNTRY_INFO!$L16=1, 0,\" \"),\" \"))","v":" "},null,"ALB",{"$f":"IF($L16=\"ALB\", IF(INTRO!$E$39=\"Non endémique\",IF($H16<>0,$D16*($H16-$G16),0),$D16*$H16), 0)","v":0},0,null,0,{"$f":"IF($L16=\"MBD\", IF(INTRO!$E$39=\"Non endémique\",IF($H16<>0,$D16*($H16-$G16),0),$D16*$H16),0)","v":0},0,null,0,null,0,0,null,0,0,null,0,0]
[{"$f":"IF(AND(INTRO!$E$37=\"Non endémique\",INTRO!$E$41=\"Non endémique\"),\" \",IF(COUNTRY_INFO!A17=0,\" \",COUNTRY_INFO!A17))","v":"Angola"},{"$f":"IF(AND(INTRO!$E$37=\"Non endémique\",INTRO!$E$41=\"Non endémique\"),\" \",IF(COUNTRY_INFO!B17=0,\" \",COUNTRY_INFO!B17))","v":"BENGUELA"},{"$f":"IF(AND(INTRO!$E$37=\"Non endémique\",INTRO!$E$41=\"Non endémique\"),\" \",IF(COUNTRY_INFO!C17=0,\" \",COUNTRY_INFO!C17))","v":"BENGUELA"},{"$f":"IF(AND(INTRO!$E$37=\"Non endémique\",INTRO!$E$41=\"Non endémique\"),0,IF(AND(OR(COUNTRY_INFO!$H17=0,COUNTRY_INFO!$H17=4,COUNTRY_INFO!$H17=99),OR(COUNTRY_INFO!$J17=0,COUNTRY_INFO!$J17=4)),0,COUNTRY_INFO!$E17))","v":117263},{"$f":"IF(AND(INTRO!$E$37=\"Non endémique\",INTRO!$E$41=\"Non endémique\"),0,IF(AND(OR(COUNTRY_INFO!$H17=0,COUNTRY_INFO!$H17=4,COUNTRY_INFO!$H17=99),OR(COUNTRY_INFO!$J17=0,COUNTRY_INFO!$J17=4)),0,COUNTRY_INFO!$F17))","v":204478},321741,{"$f":"IF(AND(INTRO!$E$37=\"Non endémique\",INTRO!$E$41=\"Non endémique\"),0,COUNTRY_INFO!Q17)","v":0},{"$f":"IF(AND(INTRO!$E$37=\"Non endémique\",INTRO!$E$41=\"Non endémique\"),0,COUNTRY_INFO!S17)","v":0},{"$f":"IF($G17=1,IVM!$G17,0)","v":0},{"$f":"IF($G17=0, \" \", IF(COUNTRY_INFO!$H17=1, IF(COUNTRY_INFO!$L17=1, 0,\" \"),\" \"))","v":" "},null,"ALB",{"$f":"IF($L17=\"ALB\", IF(INTRO!$E$39=\"Non endémique\",IF($H17<>0,$D17*($H17-$G17),0),$D17*$H17), 0)","v":0},0,null,0,{"$f":"IF($L17=\"MBD\", IF(INTRO!$E$39=\"Non endémique\",IF($H17<>0,$D17*($H17-$G17),0),$D17*$H17),0)","v":0},0,null,0,null,0,0,null,0,0,null,0,0]
[{"$f":"IF(AND(INTRO!$E$37=\"Non endémique\",INTRO!$E$41=\"Non endémique\"),\" \",IF(COUNTRY_INFO!A18=0,\" \",COUNTRY_INFO!A18))","v":"Angola"},{"$f":"IF(AND(INTRO!$E$37=\"Non endémique\",INTRO!$E$41=\"Non endémique\"),\" \",IF(COUNTRY_INFO!B18=0,\" \",COUNTRY_INFO!B18))","v":"BENGUELA"},{"$f":"IF(AND(INTRO!$E$37=\"Non endémique\",INTRO!$E$41=\"Non endémique\"),\" \",IF(COUNTRY_INFO!C18=0,\" \",COUNTRY_INFO!C18))","v":"BOCOIO"},{"$f":"IF(AND(INTRO!$E$37=\"Non endémique\",INTRO!$E$41=\"Non endémique\"),0,IF(AND(OR(COUNTRY_INFO!$H18=0,COUNTRY_INFO!$H18=4,COUNTRY_INFO!$H18=99),OR(COUNTRY_INFO!$J18=0,COUNTRY_INFO!$J18=4)),0,COUNTRY_INFO!$E18))","v":34376},{"$f":"IF(AND(INTRO!$E$37=\"Non endémique\",INTRO!$E$41=\"Non endémique\"),0,IF(AND(OR(COUNTRY_INFO!$H18=0,COUNTRY_INFO!$H18=4,COUNTRY_INFO!$H18=99),OR(COUNTRY_INFO!$J18=0,COUNTRY_INFO!$J18=4)),0,COUNTRY_INFO!$F18))","v":59943},94319,{"$f":"IF(AND(INTRO!$E$37=\"Non endémique\",INTRO!$E$41=\"Non endémique\"),0,COUNTRY_INFO!Q18)","v":0},{"$f":"IF(AND(INTRO!$E$37=\"Non endémique\",INTRO!$E$41=\"Non endémique\"),0,COUNTRY_INFO!S18)","v":0},{"$f":"IF($G18=1,IVM!$G18,0)","v":0},{"$f":"IF($G18=0, \" \", IF(COUNTRY_INFO!$H18=1, IF(COUNTRY_INFO!$L18=1, 0,\" \"),\" \"))","v":" "},null,"ALB",{"$f":"IF($L18=\"ALB\", IF(INTRO!$E$39=\"Non endémique\",IF($H18<>0,$D18*($H18-$G18),0),$D18*$H18), 0)","v":0},0,null,0,{"$f":"IF($L18=\"MBD\", IF(INTRO!$E$39=\"Non endémique\",IF($H18<>0,$D18*($H18-$G18),0),$D18*$H18),0)","v":0},0,null,0,null,0,0,null,0,0,null,0,0]
[{"$f":"IF(AND(INTRO!$E$37=\"Non endémique\",INTRO!$E$41=\"Non endémique\"),\" \",IF(COUNTRY_INFO!A19=0,\" \",COUNTRY_INFO!A19))","v":"Angola"},{"$f":"IF(AND(INTRO!$E$37=\"Non endémique\",INTRO!$E$41=\"Non endémique\"),\" \",IF(COUNTRY_INFO!B19=0,\" \",COUNTRY_INFO!B19))","v":"BENGUELA"},{"$f":"IF(AND(INTRO!$E$37=\"Non endémique\",INTRO!$E$41=\"Non endémique\"),\" \",IF(COUNTRY_INFO!C19=0,\" \",COUNTRY_INFO!C19))","v":"CAIMBAMBO"},{"$f":"IF(AND(INTRO!$E$37=\"Non endémique\",INTRO!$E$41=\"Non endémique\"),0,IF(AND(OR(COUNTRY_INFO!$H19=0,COUNTRY_INFO!$H19=4,COUNTRY_INFO!$H19=99),OR(COUNTRY_INFO!$J19=0,COUNTRY_INFO!$J19=4)),0,COUNTRY_INFO!$E19))","v":18961},{"$f":"IF(AND(INTRO!$E$37=\"Non endémique\",INTRO!$E$41=\"Non endémique\"),0,IF(AND(OR(COUNTRY_INFO!$H19=0,COUNTRY_INFO!$H19=4,COUNTRY_INFO!$H19=99),OR(COUNTRY_INFO!$J19=0,COUNTRY_INFO!$J19=4)),0,COUNTRY_INFO!$F19))","v":33064},52025,{"$f":"IF(AND(INTRO!$E$37=\"Non endémique\",INTRO!$E$41=\"Non endémique\"),0,COUNTRY_INFO!Q19)","v":0},{"$f":"IF(AND(INTRO!$E$37=\"Non endémique\",INTRO!$E$41=\"Non endémique\"),0,COUNTRY_INFO!S19)","v":0},{"$f":"IF($G19=1,IVM!$G19,0)","v":0},{"$f":"IF($G19=0, \" \", IF(COUNTRY_INFO!$H19=1, IF(COUNTRY_INFO!$L19=1, 0,\" \"),\" \"))","v":" "},null,"ALB",{"$f":"IF($L19=\"ALB\", IF(INTRO!$E$39=\"Non endémique\",IF($H19<>0,$D19*($H19-$G19),0),$D19*$H19), 0)","v":0},0,null,0,{"$f":"IF($L19=\"MBD\", IF(INTRO!$E$39=\"Non endémique\",IF($H19<>0,$D19*($H19-$G19),0),$D19*$H19),0)","v":0},0,null,0,null,0,0,null,0,0,null,0,0]
[{"$f":"IF(AND(INTRO!$E$37=\"Non endémique\",INTRO!$E$41=\"Non endémique\"),\" \",IF(COUNTRY_INFO!A20=0,\" \",COUNTRY_INFO!A20))","v":"Angola"},{"$f":"IF(AND(INTRO!$E$37=\"Non endémique\",INTRO!$E$41=\"Non endémique\"),\" \",IF(COUNTRY_INFO!B20=0,\" \",COUNTRY_INFO!B20))","v":"BENGUELA"},{"$f":"IF(AND(INTRO!$E$37=\"Non endémique\",INTRO!$E$41=\"Non endémique\"),\" \",IF(COUNTRY_INFO!C20=0,\" \",COUNTRY_INFO!C20))","v":"CATUMBELA"},{"$f":"IF(AND(INTRO!$E$37=\"Non endémique\",INTRO!$E$41=\"Non endémique\"),0,IF(AND(OR(COUNTRY_INFO!$H20=0,COUNTRY_INFO!$H20=4,COUNTRY_INFO!$H20=99),OR(COUNTRY_INFO!$J20=0,COUNTRY_INFO!$J20=4)),0,COUNTRY_INFO!$E20))","v":0},{"$f":"IF(AND(INTRO!$E$37=\"Non endémique\",INTRO!$E$41=\"Non endémique\"),0,IF(AND(OR(COUNTRY_INFO!$H20=0,COUNTRY_INFO!$H20=4,COUNTRY_INFO!$H20=99),OR(COUNTRY_INFO!$J20=0,COUNTRY_INFO!$J20=4)),0,COUNTRY_INFO!$F20))","v":0},0,{"$f":"IF(AND(INTRO!$E$37=\"Non endémique\",INTRO!$E$41=\"Non endémique\"),0,COUNTRY_INFO!Q20)","v":0},{"$f":"IF(AND(INTRO!$E$37=\"Non endémique\",INTRO!$E$41=\"Non endémique\"),0,COUNTRY_INFO!S20)","v":0},{"$f":"IF($G20=1,IVM!$G20,0)","v":0},{"$f":"IF($G20=0, \" \", IF(COUNTRY_INFO!$H20=1, IF(COUNTRY_INFO!$L20=1, 0,\" \"),\" \"))","v":" "},null,"ALB",{"$f":"IF($L20=\"ALB\", IF(INTRO!$E$39=\"Non endémique\",IF($H20<>0,$D20*($H20-$G20),0),$D20*$H20), 0)","v":0},0,null,0,{"$f":"IF($L20=\"MBD\", IF(INTRO!$E$39=\"Non endémique\",IF($H20<>0,$D20*($H20-$G20),0),$D20*$H20),0)","v":0},0,null,0,null,0,0,null,0,0,null,0,0]
[{"$f":"IF(AND(INTRO!$E$37=\"Non endémique\",INTRO!$E$41=\"Non endémique\"),\" \",IF(COUNTRY_INFO!A21=0,\" \",COUNTRY_INFO!A21))","v":"Angola"},{"$f":"IF(AND(INTRO!$E$37=\"Non endémique\",INTRO!$E$41=\"Non endémique\"),\" \",IF(COUNTRY_INFO!B21=0,\" \",COUNTRY_INFO!B21))","v":"BENGUELA"},{"$f":"IF(AND(INTRO!$E$37=\"Non endémique\",INTRO!$E$41=\"Non endémique\"),\" \",IF(COUNTRY_INFO!C21=0,\" \",COUNTRY_INFO!C21))","v":"CHONGOROI"},{"$f":"IF(AND(INTRO!$E$37=\"Non endémique\",INTRO!$E$41=\"Non endémique\"),0,IF(AND(OR(COUNTRY_INFO!$H21=0,COUNTRY_INFO!$H21=4,COUNTRY_INFO!$H21=99),OR(COUNTRY_INFO!$J21=0,COUNTRY_INFO!$J21=4)),0,COUNTRY_INFO!$E21))","v":0},{"$f":"IF(AND(INTRO!$E$37=\"Non endémique\",INTRO!$E$41=\"Non endémique\"),0,IF(AND(OR(COUNTRY_INFO!$H21=0,COUNTRY_INFO!$H21=4,COUNTRY_INFO!$H21=99),OR(COUNTRY_INFO!$J21=0,COUNTRY_INFO!$J21=4)),0,COUNTRY_INFO!$F21))","v":0},0,{"$f":"IF(AND(INTRO!$E$37=\"Non endémique\",INTRO!$E$41=\"Non endémique\"),0,COUNTRY_INFO!Q21)","v":0},{"$f":"IF(AND(INTRO!$E$37=\"Non endémique\",INTRO!$E$41=\"Non endémique\"),0,COUNTRY_INFO!S21)","v":0},{"$f":"IF($G21=1,IVM!$G21,0)","v":0},{"$f":"IF($G21=0, \" \", IF(COUNTRY_INFO!$H21=1, IF(COUNTRY_INFO!$L21=1, 0,\" \"),\" \"))","v":" "},null,"ALB",{"$f":"IF($L21=\"ALB\", IF(INTRO!$E$39=\"Non endémique\",IF($H21<>0,$D21*($H21-$G21),0),$D21*$H21), 0)","v":0},0,null,0,{"$f":"IF($L21=\"MBD\", IF(INTRO!$E$39=\"Non endémique\",IF($H21<>0,$D21*($H21-$G21),0),$D21*$H21),0)","v":0},0,null,0,null,0,0,null,0,0,null,0,0]
[{"$f":"IF(AND(INTRO!$E$37=\"Non endémique\",INTRO!$E$41=\"Non endémique\"),\" \",IF(COUNTRY_INFO!A22=0,\" \",COUNTRY_INFO!A22))","v":"Angola"},{"$f":"IF(AND(INTRO!$E$37=\"Non endémique\",INTRO!$E$41=\"Non endémique\"),\" \",IF(COUNTRY_INFO!B22=0,\" \",COUNTRY_INFO!B22))","v":"BENGUELA"},{"$f":"IF(AND(INTRO!$E$37=\"Non endémique\",INTRO!$E$41=\"Non endémique\"),\" \",IF(COUNTRY_INFO!C22=0,\" \",COUNTRY_INFO!C22))","v":"CUBAL"},{"$f":"IF(AND(INTRO!$E$37=\"Non endémique\",INTRO!$E$41=\"Non endémique\"),0,IF(AND(OR(COUNTRY_INFO!$H22=0,COUNTRY_INFO!$H22=4,COUNTRY_INFO!$H22=99),OR(COUNTRY_INFO!$J22=0,COUNTRY_INFO!$J22=4)),0,COUNTRY_INFO!$E22))","v":63797},{"$f":"IF(AND(INTRO!$E$37=\"Non endémique\",INTRO!$E$41=\"Non endémique\"),0,IF(AND(OR(COUNTRY_INFO!$H22=0,COUNTRY_INFO!$H22=4,COUNTRY_INFO!$H22=99),OR(COUNTRY_INFO!$J22=0,COUNTRY_INFO!$J22=4)),0,COUNTRY_INFO!$F22))","v":111246},175043,{"$f":"IF(AND(INTRO!$E$37=\"Non endémique\",INTRO!$E$41=\"Non endémique\"),0,COUNTRY_INFO!Q22)","v":0},{"$f":"IF(AND(INTRO!$E$37=\"Non endémique\",INTRO!$E$41=\"Non endémique\"),0,COUNTRY_INFO!S22)","v":0},{"$f":"IF($G22=1,IVM!$G22,0)","v":0},{"$f":"IF($G22=0, \" \", IF(COUNTRY_INFO!$H22=1, IF(COUNTRY_INFO!$L22=1, 0,\" \"),\" \"))","v":" "},null,"ALB",{"$f":"IF($L22=\"ALB\", IF(INTRO!$E$39=\"Non endémique\",IF($H22<>0,$D22*($H22-$G22),0),$D22*$H22), 0)","v":0},0,null,0,{"$f":"IF($L22=\"MBD\", IF(INTRO!$E$39=\"Non endémique\",IF($H22<>0,$D22*($H22-$G22),0),$D22*$H22),0)","v":0},0,null,0,null,0,0,null,0,0,null,0,0]
[{"$f":"IF(AND(INTRO!$E$37=\"Non endémique\",INTRO!$E$41=\"Non endémique\"),\" \",IF(COUNTRY_INFO!A23=0,\" \",COUNTRY_INFO!A23))","v":"Angola"},{"$f":"IF(AND(INTRO!$E$37=\"Non endémique\",INTRO!$E$41=\"Non endémique\"),\" \",IF(COUNTRY_INFO!B23=0,\" \",COUNTRY_INFO!B23))","v":"BENGUELA"},{"$f":"IF(AND(INTRO!$E$37=\"Non endémique\",INTRO!$E$41=\"Non endémique\"),\" \",IF(COUNTRY_INFO!C23=0,\" \",COUNTRY_INFO!C23))","v":"GANDA"},{"$f":"IF(AND(INTRO!$E$37=\"Non endémique\",INTRO!$E$41=\"Non endémique\"),0,IF(AND(OR(COUNTRY_INFO!$H23=0,COUNTRY_INFO!$H23=4,COUNTRY_INFO!$H23=99),OR(COUNTRY_INFO!$J23=0,COUNTRY_INFO!$J23=4)),0,COUNTRY_INFO!$E23))","v":49155},{"$f":"IF(AND(INTRO!$E$37=\"Non endémique\",INTRO!$E$41=\"Non endémique\"),0,IF(AND(OR(COUNTRY_INFO!$H23=0,COUNTRY_INFO!$H23=4,COUNTRY_INFO!$H23=99),OR(COUNTRY_INFO!$J23=0,COUNTRY_INFO!$J23=4)),0,COUNTRY_INFO!$F23))","v":85714},134869,{"$f":"IF(AND(INTRO!$E$37=\"Non endémique\",INTRO!$E$41=\"Non endémique\"),0,COUNTRY_INFO!Q23)","v":0},{"$f":"IF(AND(INTRO!$E$37=\"Non endémique\",INTRO!$E$41=\"Non endémique\"),0,COUNTRY_INFO!S23)","v":0},{"$f":"IF($G23=1,IVM!$G23,0)","v":0},{"$f":"IF($G23=0, \" \", IF(COUNTRY_INFO!$H23=1, IF(COUNTRY_INFO!$L23=1, 0,\" \"),\" \"))","v":" "},null,"ALB",{"$f":"IF($L23=\"ALB\", IF(INTRO!$E$39=\"Non endémique\",IF($H23<>0,$D23*($H23-$G23),0),$D23*$H23), 0)","v":0},0,null,0,{"$f":"IF($L23=\"MBD\", IF(INTRO!$E$39=\"Non endémique\",IF($H23<>0,$D23*($H23-$G23),0),$D23*$H23),0)","v":0},0,null,0,null,0,0,null,0,0,null,0,0]
[{"$f":"IF(AND(INTRO!$E$37=\"Non endémique\",INTRO!$E$41=\"Non endémique\"),\" \",IF(COUNTRY_INFO!A24=0,\" \",COUNTRY_INFO!A24))","v":"Angola"},{"$f":"IF(AND(INTRO!$E$37=\"Non endémique\",INTRO!$E$41=\"Non endémique\"),\" \",IF(COUNTRY_INFO!B24=0,\" \",COUNTRY_INFO!B24))","v":"BENGUELA"},{"$f":"IF(AND(INTRO!$E$37=\"Non endémique\",INTRO!$E$41=\"Non endémique\"),\" \",IF(COUNTRY_INFO!C24=0,\" \",COUNTRY_INFO!C24))","v":"LOBITO"},{"$f":"IF(AND(INTRO!$E$37=\"Non endémique\",INTRO!$E$41=\"Non endémique\"),0,IF(AND(OR(COUNTRY_INFO!$H24=0,COUNTRY_INFO!$H24=4,COUNTRY_INFO!$H24=99),OR(COUNTRY_INFO!$J24=0,COUNTRY_INFO!$J24=4)),0,COUNTRY_INFO!$E24))","v":82050},{"$f":"IF(AND(INTRO!$E$37=\"Non endémique\",INTRO!$E$41=\"Non endémique\"),0,IF(AND(OR(COUNTRY_INFO!$H24=0,COUNTRY_INFO!$H24=4,COUNTRY_INFO!$H24=99),OR(COUNTRY_INFO!$J24=0,COUNTRY_INFO!$J24=4)),0,COUNTRY_INFO!$F24))","v":143075},225125,{"$f":"IF(AND(INTRO!$E$37=\"Non endémique\",INTRO!$E$41=\"Non endémique\"),0,COUNTRY_INFO!Q24)","v":1},{"$f":"IF(AND(INTRO!$E$37=\"Non endémique\",INTRO!$E$41=\"Non endémique\"),0,COUNTRY_INFO!S24)","v":0},{"$f":"IF($G24=1,IVM!$G24,0)","v":413329},{"$f":"IF($G24=0, \" \", IF(COUNTRY_INFO!$H24=1, IF(COUNTRY_INFO!$L24=1, 0,\" \"),\" \"))","v":" "},null,"ALB",{"$f":"IF($L24=\"ALB\", IF(INTRO!$E$39=\"Non endémique\",IF($H24<>0,$D24*($H24-$G24),0),$D24*$H24), 0)","v":0},0,null,0,{"$f":"IF($L24=\"MBD\", IF(INTRO!$E$39=\"Non endémique\",IF($H24<>0,$D24*($H24-$G24),0),$D24*$H24),0)","v":0},0,null,0,null,413329,2067,null,0,0,null,0,0]
[{"$f":"IF(AND(INTRO!$E$37=\"Non endémique\",INTRO!$E$41=\"Non endémique\"),\" \",IF(COUNTRY_INFO!A25=0,\" \",COUNTRY_INFO!A25))","v":"Angola"},{"$f":"IF(AND(INTRO!$E$37=\"Non endémique\",INTRO!$E$41=\"Non endémique\"),\" \",IF(COUNTRY_INFO!B25=0,\" \",COUNTRY_INFO!B25))","v":"BIE"},{"$f":"IF(AND(INTRO!$E$37=\"Non endémique\",INTRO!$E$41=\"Non endémique\"),\" \",IF(COUNTRY_INFO!C25=0,\" \",COUNTRY_INFO!C25))","v":"ANDULO"},{"$f":"IF(AND(INTRO!$E$37=\"Non endémique\",INTRO!$E$41=\"Non endémique\"),0,IF(AND(OR(COUNTRY_INFO!$H25=0,COUNTRY_INFO!$H25=4,COUNTRY_INFO!$H25=99),OR(COUNTRY_INFO!$J25=0,COUNTRY_INFO!$J25=4)),0,COUNTRY_INFO!$E25))","v":56227},{"$f":"IF(AND(INTRO!$E$37=\"Non endémique\",INTRO!$E$41=\"Non endémique\"),0,IF(AND(OR(COUNTRY_INFO!$H25=0,COUNTRY_INFO!$H25=4,COUNTRY_INFO!$H25=99),OR(COUNTRY_INFO!$J25=0,COUNTRY_INFO!$J25=4)),0,COUNTRY_INFO!$F25))","v":98046},154273,{"$f":"IF(AND(INTRO!$E$37=\"Non endémique\",INTRO!$E$41=\"Non endémique\"),0,COUNTRY_INFO!Q25)","v":0},{"$f":"IF(AND(INTRO!$E$37=\"Non endémique\",INTRO!$E$41=\"Non endémique\"),0,COUNTRY_INFO!S25)","v":0},{"$f":"IF($G25=1,IVM!$G25,0)","v":0},{"$f":"IF($G25=0, \" \", IF(COUNTRY_INFO!$H25=1, IF(COUNTRY_INFO!$L25=1, 0,\" \"),\" \"))","v":" "},null,"ALB",{"$f":"IF($L25=\"ALB\", IF(INTRO!$E$39=\"Non endémique\",IF($H25<>0,$D25*($H25-$G25),0),$D25*$H25), 0)","v":0},0,null,0,{"$f":"IF($L25=\"MBD\", IF(INTRO!$E$39=\"Non endémique\",IF($H25<>0,$D25*($H25-$G25),0),$D25*$H25),0)","v":0},0,null,0,null,0,0,null,0,0,null,0,0]
[{"$f":"IF(AND(INTRO!$E$37=\"Non endémique\",INTRO!$E$41=\"Non endémique\"),\" \",IF(COUNTRY_INFO!A26=0,\" \",COUNTRY_INFO!A26))","v":"Angola"},{"$f":"IF(AND(INTRO!$E$37=\"Non endémique\",INTRO!$E$41=\"Non endémique\"),\" \",IF(COUNTRY_INFO!B26=0,\" \",COUNTRY_INFO!B26))","v":"BIE"},{"$f":"IF(AND(INTRO!$E$37=\"Non endémique\",INTRO!$E$41=\"Non endémique\"),\" \",IF(COUNTRY_INFO!C26=0,\" \",COUNTRY_INFO!C26))","v":"CAMACUPA"},{"$f":"IF(AND(INTRO!$E$37=\"Non endémique\",INTRO!$E$41=\"Non endémique\"),0,IF(AND(OR(COUNTRY_INFO!$H26=0,COUNTRY_INFO!$H26=4,COUNTRY_INFO!$H26=99),OR(COUNTRY_INFO!$J26=0,COUNTRY_INFO!$J26=4)),0,COUNTRY_INFO!$E26))","v":33743},{"$f":"IF(AND(INTRO!$E$37=\"Non endémique\",INTRO!$E$41=\"Non endémique\"),0,IF(AND(OR(COUNTRY_INFO!$H26=0,COUNTRY_INFO!$H26=4,COUNTRY_INFO!$H26=99),OR(COUNTRY_INFO!$J26=0,COUNTRY_INFO!$J26=4)),0,COUNTRY_INFO!$F26))","v":58839},92582,{"$f":"IF(AND(INTRO!$E$37=\"Non endémique\",INTRO!$E$41=\"Non endémique\"),0,COUNTRY_INFO!Q26)","v":0},{"$f":"IF(AND(INTRO!$E$37=\"Non endémique\",INTRO!$E$41=\"Non endémique\"),0,COUNTRY_INFO!S26)","v":0},{"$f":"IF($G26=1,IVM!$G26,0)","v":0},{"$f":"IF($G26=0, \" \", IF(COUNTRY_INFO!$H26=1, IF(COUNTRY_INFO!$L26=1, 0,\" \"),\" \"))","v":" "},null,"ALB",{"$f":"IF($L26=\"ALB\", IF(INTRO!$E$39=\"Non endémique\",IF($H26<>0,$D26*($H26-$G26),0),$D26*$H26), 0)","v":0},0,null,0,{"$f":"IF($L26=\"MBD\", IF(INTRO!$E$39=\"Non endémique\",IF($H26<>0,$D26*($H26-$G26),0),$D26*$H26),0)","v":0},0,null,0,null,0,0,null,0,0,null,0,0]
[{"$f":"IF(AND(INTRO!$E$37=\"Non endémique\",INTRO!$E$41=\"Non endémique\"),\" \",IF(COUNTRY_INFO!A27=0,\" \",COUNTRY_INFO!A27))","v":"Angola"},{"$f":"IF(AND(INTRO!$E$37=\"Non endémique\",INTRO!$E$41=\"Non endémique\"),\" \",IF(COUNTRY_INFO!B27=0,\" \",COUNTRY_INFO!B27))","v":"BIE"},{"$f":"IF(AND(INTRO!$E$37=\"Non endémique\",INTRO!$E$41=\"Non endémique\"),\" \",IF(COUNTRY_INFO!C27=0,\" \",COUNTRY_INFO!C27))","v":"CATABOLA"},{"$f":"IF(AND(INTRO!$E$37=\"Non endémique\",INTRO!$E$41=\"Non endémique\"),0,IF(AND(OR(COUNTRY_INFO!$H27=0,COUNTRY_INFO!$H27=4,COUNTRY_INFO!$H27=99),OR(COUNTRY_INFO!$J27=0,COUNTRY_INFO!$J27=4)),0,COUNTRY_INFO!$E27))","v":27580},{"$f":"IF(AND(INTRO!$E$37=\"Non endémique\",INTRO!$E$41=\"Non endémique\"),0,IF(AND(OR(COUNTRY_INFO!$H27=0,COUNTRY_INFO!$H27=4,COUNTRY_INFO!$H27=99),OR(COUNTRY_INFO!$J27=0,COUNTRY_INFO!$J27=4)),0,COUNTRY_INFO!$F27))","v":48093},75673,{"$f":"IF(AND(INTRO!$E$37=\"Non endémique\",INTRO!$E$41=\"Non endémique\"),0,COUNTRY_INFO!Q27)","v":0},{"$f":"IF(AND(INTRO!$E$37=\"Non endémique\",INTRO!$E$41=\"Non endémique\"),0,COUNTRY_INFO!S27)","v":0},{"$f":"IF($G27=1,IVM!$G27,0)","v":0},{"$f":"IF($G27=0, \" \", IF(COUNTRY_INFO!$H27=1, IF(COUNTRY_INFO!$L27=1, 0,\" \"),\" \"))","v":" "},null,"ALB",{"$f":"IF($L27=\"ALB\", IF(INTRO!$E$39=\"Non endémique\",IF($H27<>0,$D27*($H27-$G27),0),$D27*$H27), 0)","v":0},0,null,0,{"$f":"IF($L27=\"MBD\", IF(INTRO!$E$39=\"Non endémique\",IF($H27<>0,$D27*($H27-$G27),0),$D27*$H27),0)","v":0},0,null,0,null,0,0,null,0,0,null,0,0]
[{"$f":"IF(AND(INTRO!$E$37=\"Non endémique\",INTRO!$E$41=\"Non endémique\"),\" \",IF(COUNTRY_INFO!A28=0,\" \",COUNTRY_INFO!A28))","v":"Angola"},{"$f":"IF(AND(INTRO!$E$37=\"Non endémique\",INTRO!$E$41=\"Non endémique\"),\" \",IF(COUNTRY_INFO!B28=0,\" \",COUNTRY_INFO!B28))","v":"BIE"},{"$f":"IF(AND(INTRO!$E$37=\"Non endémique\",INTRO!$E$41=\"Non endémique\"),\" \",IF(COUNTRY_INFO!C28=0,\" \",COUNTRY_INFO!C28))","v":"CHINGUAR"},{"$f":"IF(AND(INTRO!$E$37=\"Non endémique\",INTRO!$E$41=\"Non endémique\"),0,IF(AND(OR(COUNTRY_INFO!$H28=0,COUNTRY_INFO!$H28=4,COUNTRY_INFO!$H28=99),OR(COUNTRY_INFO!$J28=0,COUNTRY_INFO!$J28=4)),0,COUNTRY_INFO!$E28))","v":28176},{"$f":"IF(AND(INTRO!$E$37=\"Non endémique\",INTRO!$E$41=\"Non endémique\"),0,IF(AND(OR(COUNTRY_INFO!$H28=0,COUNTRY_INFO!$H28=4,COUNTRY_INFO!$H28=99),OR(COUNTRY_INFO!$J28=0,COUNTRY_INFO!$J28=4)),0,COUNTRY_INFO!$F28))","v":49133},77309,{"$f":"IF(AND(INTRO!$E$37=\"Non endémique\",INTRO!$E$41=\"Non endémique\"),0,COUNTRY_INFO!Q28)","v":0},{"$f":"IF(AND(INTRO!$E$37=\"Non endémique\",INTRO!$E$41=\"Non endémique\"),0,COUNTRY_INFO!S28)","v":0},{"$f":"IF($G28=1,IVM!$G28,0)","v":0},{"$f":"IF($G28=0, \" \", IF(COUNTRY_INFO!$H28=1, IF(COUNTRY_INFO!$L28=1, 0,\" \"),\" \"))","v":" "},null,"ALB",{"$f":"IF($L28=\"ALB\", IF(INTRO!$E$39=\"Non endémique\",IF($H28<>0,$D28*($H28-$G28),0),$D28*$H28), 0)","v":0},0,null,0,{"$f":"IF($L28=\"MBD\", IF(INTRO!$E$39=\"Non endémique\",IF($H28<>0,$D28*($H28-$G28),0),$D28*$H28),0)","v":0},0,null,0,null,0,0,null,0,0,null,0,0]
[{"$f":"IF(AND(INTRO!$E$37=\"Non endémique\",INTRO!$E$41=\"Non endémique\"),\" \",IF(COUNTRY_INFO!A29=0,\" \",COUNTRY_INFO!A29))","v":"Angola"},{"$f":"IF(AND(INTRO!$E$37=\"Non endémique\",INTRO!$E$41=\"Non endémique\"),\" \",IF(COUNTRY_INFO!B29=0,\" \",COUNTRY_INFO!B29))","v":"BIE"},{"$f":"IF(AND(INTRO!$E$37=\"Non endémique\",INTRO!$E$41=\"Non endémique\"),\" \",IF(COUNTRY_INFO!C29=0,\" \",COUNTRY_INFO!C29))","v":"CHITEMBO"},{"$f":"IF(AND(INTRO!$E$37=\"Non endémique\",INTRO!$E$41=\"Non endémique\"),0,IF(AND(OR(COUNTRY_INFO!$H29=0,COUNTRY_INFO!$H29=4,COUNTRY_INFO!$H29=99),OR(COUNTRY_INFO!$J29=0,COUNTRY_INFO!$J29=4)),0,COUNTRY_INFO!$E29))","v":17022},{"$f":"IF(AND(INTRO!$E$37=\"Non endémique\",INTRO!$E$41=\"Non endémique\"),0,IF(AND(OR(COUNTRY_INFO!$H29=0,COUNTRY_INFO!$H29=4,COUNTRY_INFO!$H29=99),OR(COUNTRY_INFO!$J29=0,COUNTRY_INFO!$J29=4)),0,COUNTRY_INFO!$F29))","v":29682},46704,{"$f":"IF(AND(INTRO!$E$37=\"Non endémique\",INTRO!$E$41=\"Non endémique\"),0,COUNTRY_INFO!Q29)","v":0},{"$f":"IF(AND(INTRO!$E$37=\"Non endémique\",INTRO!$E$41=\"Non endémique\"),0,COUNTRY_INFO!S29)","v":0},{"$f":"IF($G29=1,IVM!$G29,0)","v":0},{"$f":"IF($G29=0, \" \", IF(COUNTRY_INFO!$H29=1, IF(COUNTRY_INFO!$L29=1, 0,\" \"),\" \"))","v":" "},null,"ALB",{"$f":"IF($L29=\"ALB\", IF(INTRO!$E$39=\"Non endémique\",IF($H29<>0,$D29*($H29-$G29),0),$D29*$H29), 0)","v":0},0,null,0,{"$f":"IF($L29=\"MBD\", IF(INTRO!$E$39=\"Non endémique\",IF($H29<>0,$D29*($H29-$G29),0),$D29*$H29),0)","v":0},0,null,0,null,0,0,null,0,0,null,0,0]
[{"$f":"IF(AND(INTRO!$E$37=\"Non endémique\",INTRO!$E$41=\"Non endémique\"),\" \",IF(COUNTRY_INFO!A30=0,\" \",COUNTRY_INFO!A30))","v":"Angola"},{"$f":"IF(AND(INTRO!$E$37=\"Non endémique\",INTRO!$E$41=\"Non endémique\"),\" \",IF(COUNTRY_INFO!B30=0,\" \",COUNTRY_INFO!B30))","v":"BIE"},{"$f":"IF(AND(INTRO!$E$37=\"Non endémique\",INTRO!$E$41=\"Non endémique\"),\" \",IF(COUNTRY_INFO!C30=0,\" \",COUNTRY_INFO!C30))","v":"CUEMBA"},{"$f":"IF(AND(INTRO!$E$37=\"Non endémique\",INTRO!$E$41=\"Non endémique\"),0,IF(AND(OR(COUNTRY_INFO!$H30=0,COUNTRY_INFO!$H30=4,COUNTRY_INFO!$H30=99),OR(COUNTRY_INFO!$J30=0,COUNTRY_INFO!$J30=4)),0,COUNTRY_INFO!$E30))","v":12406},{"$f":"IF(AND(INTRO!$E$37=\"Non endémique\",INTRO!$E$41=\"Non endémique\"),0,IF(AND(OR(COUNTRY_INFO!$H30=0,COUNTRY_INFO!$H30=4,COUNTRY_INFO!$H30=99),OR(COUNTRY_INFO!$J30=0,COUNTRY_INFO!$J30=4)),0,COUNTRY_INFO!$F30))","v":21634},34040,{"$f":"IF(AND(INTRO!$E$37=\"Non endémique\",INTRO!$E$41=\"Non endémique\"),0,COUNTRY_INFO!Q30)","v":1},{"$f":"IF(AND(INTRO!$E$37=\"Non endémique\",INTRO!$E$41=\"Non endémique\"),0,COUNTRY_INFO!S30)","v":0},{"$f":"IF($G30=1,IVM!$G30,0)","v":62498},{"$f":"IF($G30=0, \" \", IF(COUNTRY_INFO!$H30=1, IF(COUNTRY_INFO!$L30=1, 0,\" \"),\" \"))","v":" "},null,"ALB",{"$f":"IF($L30=\"ALB\", IF(INTRO!$E$39=\"Non endémique\",IF($H30<>0,$D30*($H30-$G30),0),$D30*$H30), 0)","v":0},0,null,0,{"$f":"IF($L30=\"MBD\", IF(INTRO!$E$39=\"Non endémique\",IF($H30<>0,$D30*($H30-$G30),0),$D30*$H30),0)","v":0},0,null,0,null,62498,313,null,0,0,null,0,0]
[{"$f":"IF(AND(INTRO!$E$37=\"Non endémique\",INTRO!$E$41=\"Non endémique\"),\" \",IF(COUNTRY_INFO!A31=0,\" \",COUNTRY_INFO!A31))","v":"Angola"},{"$f":"IF(AND(INTRO!$E$37=\"Non endémique\",INTRO!$E$41=\"Non endémique\"),\" \",IF(COUNTRY_INFO!B31=0,\" \",COUNTRY_INFO!B31))","v":"BIE"},{"$f":"IF(AND(INTRO!$E$37=\"Non endémique\",INTRO!$E$41=\"Non endémique\"),\" \",IF(COUNTRY_INFO!C31=0,\" \",COUNTRY_INFO!C31))","v":"CUNHINGA"},{"$f":"IF(AND(INTRO!$E$37=\"Non endémique\",INTRO!$E$41=\"Non endémique\"),0,IF(AND(OR(COUNTRY_INFO!$H31=0,COUNTRY_INFO!$H31=4,COUNTRY_INFO!$H31=99),OR(COUNTRY_INFO!$J31=0,COUNTRY_INFO!$J31=4)),0,COUNTRY_INFO!$E31))","v":16079},{"$f":"IF(AND(INTRO!$E$37=\"Non endémique\",INTRO!$E$41=\"Non endémique\"),0,IF(AND(OR(COUNTRY_INFO!$H31=0,COUNTRY_INFO!$H31=4,COUNTRY_INFO!$H31=99),OR(COUNTRY_INFO!$J31=0,COUNTRY_INFO!$J31=4)),0,COUNTRY_INFO!$F31))","v":28038},44117,{"$f":"IF(AND(INTRO!$E$37=\"Non endémique\",INTRO!$E$41=\"Non endémique\"),0,COUNTRY_INFO!Q31)","v":0},{"$f":"IF(AND(INTRO!$E$37=\"Non endémique\",INTRO!$E$41=\"Non endémique\"),0,COUNTRY_INFO!S31)","v":0},{"$f":"IF($G31=1,IVM!$G31,0)","v":0},{"$f":"IF($G31=0, \" \", IF(COUNTRY_INFO!$H31=1, IF(COUNTRY_INFO!$L31=1, 0,\" \"),\" \"))","v":" "},null,"ALB",{"$f":"IF($L31=\"ALB\", IF(INTRO!$E$39=\"Non endémique\",IF($H31<>0,$D31*($H31-$G31),0),$D31*$H31), 0)","v":0},0,null,0,{"$f":"IF($L31=\"MBD\", IF(INTRO!$E$39=\"Non endémique\",IF($H31<>0,$D31*($H31-$G31),0),$D31*$H31),0)","v":0},0,null,0,null,0,0,null,0,0,null,0,0]
[{"$f":"IF(AND(INTRO!$E$37=\"Non endémique\",INTRO!$E$41=\"Non endémique\"),\" \",IF(COUNTRY_INFO!A32=0,\" \",COUNTRY_INFO!A32))","v":"Angola"},{"$f":"IF(AND(INTRO!$E$37=\"Non endémique\",INTRO!$E$41=\"Non endémique\"),\" \",IF(COUNTRY_INFO!B32=0,\" \",COUNTRY_INFO!B32))","v":"BIE"},{"$f":"IF(AND(INTRO!$E$37=\"Non endémique\",INTRO!$E$41=\"Non endémique\"),\" \",IF(COUNTRY_INFO!C32=0,\" \",COUNTRY_INFO!C32))","v":"CUITO"},{"$f":"IF(AND(INTRO!$E$37=\"Non endémique\",INTRO!$E$41=\"Non endémique\"),0,IF(AND(OR(COUNTRY_INFO!$H32=0,COUNTRY_INFO!$H32=4,COUNTRY_INFO!$H32=99),OR(COUNTRY_INFO!$J32=0,COUNTRY_INFO!$J32=4)),0,COUNTRY_INFO!$E32))","v":98201},{"$f":"IF(AND(INTRO!$E$37=\"Non endémique\",INTRO!$E$41=\"Non endémique\"),0,IF(AND(OR(COUNTRY_INFO!$H32=0,COUNTRY_INFO!$H32=4,COUNTRY_INFO!$H32=99),OR(COUNTRY_INFO!$J32=0,COUNTRY_INFO!$J32=4)),0,COUNTRY_INFO!$F32))","v":171238},269439,{"$f":"IF(AND(INTRO!$E$37=\"Non endémique\",INTRO!$E$41=\"Non endémique\"),0,COUNTRY_INFO!Q32)","v":0},{"$f":"IF(AND(INTRO!$E$37=\"Non endémique\",INTRO!$E$41=\"Non endémique\"),0,COUNTRY_INFO!S32)","v":0},{"$f":"IF($G32=1,IVM!$G32,0)","v":0},{"$f":"IF($G32=0, \" \", IF(COUNTRY_INFO!$H32=1, IF(COUNTRY_INFO!$L32=1, 0,\" \"),\" \"))","v":" "},null,"ALB",{"$f":"IF($L32=\"ALB\", IF(INTRO!$E$39=\"Non endémique\",IF($H32<>0,$D32*($H32-$G32),0),$D32*$H32), 0)","v":0},0,null,0,{"$f":"IF($L32=\"MBD\", IF(INTRO!$E$39=\"Non endémique\",IF($H32<>0,$D32*($H32-$G32),0),$D32*$H32),0)","v":0},0,null,0,null,0,0,null,0,0,null,0,0]
[{"$f":"IF(AND(INTRO!$E$37=\"Non endémique\",INTRO!$E$41=\"Non endémique\"),\" \",IF(COUNTRY_INFO!A33=0,\" \",COUNTRY_INFO!A33))","v":"Angola"},{"$f":"IF(AND(INTRO!$E$37=\"Non endémique\",INTRO!$E$41=\"Non endémique\"),\" \",IF(COUNTRY_INFO!B33=0,\" \",COUNTRY_INFO!B33))","v":"BIE"},{"$f":"IF(AND(INTRO!$E$37=\"Non endémique\",INTRO!$E$41=\"Non endémique\"),\" \",IF(COUNTRY_INFO!C33=0,\" \",COUNTRY_INFO!C33))","v":"NHAREA"},{"$f":"IF(AND(INTRO!$E$37=\"Non endémique\",INTRO!$E$41=\"Non endémique\"),0,IF(AND(OR(COUNTRY_INFO!$H33=0,COUNTRY_INFO!$H33=4,COUNTRY_INFO!$H33=99),OR(COUNTRY_INFO!$J33=0,COUNTRY_INFO!$J33=4)),0,COUNTRY_INFO!$E33))","v":27516},{"$f":"IF(AND(INTRO!$E$37=\"Non endémique\",INTRO!$E$41=\"Non endémique\"),0,IF(AND(OR(COUNTRY_INFO!$H33=0,COUNTRY_INFO!$H33=4,COUNTRY_INFO!$H33=99),OR(COUNTRY_INFO!$J33=0,COUNTRY_INFO!$J33=4)),0,COUNTRY_INFO!$F33))","v":47981},75497,{"$f":"IF(AND(INTRO!$E$37=\"Non endémique\",INTRO!$E$41=\"Non endémique\"),0,COUNTRY_INFO!Q33)","v":0},{"$f":"IF(AND(INTRO!$E$37=\"Non endémique\",INTRO!$E$41=\"Non endémique\"),0,COUNTRY_INFO!S33)","v":0},{"$f":"IF($G33=1,IVM!$G33,0)","v":0},{"$f":"IF($G33=0, \" \", IF(COUNTRY_INFO!$H33=1, IF(COUNTRY_INFO!$L33=1, 0,\" \"),\" \"))","v":" "},null,"ALB",{"$f":"IF($L33=\"ALB\", IF(INTRO!$E$39=\"Non endémique\",IF($H33<>0,$D33*($H33-$G33),0),$D33*$H33), 0)","v":0},0,null,0,{"$f":"IF($L33=\"MBD\", IF(INTRO!$E$39=\"Non endémique\",IF($H33<>0,$D33*($H33-$G33),0),$D33*$H33),0)","v":0},0,null,0,null,0,0,null,0,0,null,0,0]
[{"$f":"IF(AND(INTRO!$E$37=\"Non endémique\",INTRO!$E$41=\"Non endémique\"),\" \",IF(COUNTRY_INFO!A34=0,\" \",COUNTRY_INFO!A34))","v":"Angola"},{"$f":"IF(AND(INTRO!$E$37=\"Non endémique\",INTRO!$E$41=\"Non endémique\"),\" \",IF(COUNTRY_INFO!B34=0,\" \",COUNTRY_INFO!B34))","v":"CABINDA"},{"$f":"IF(AND(INTRO!$E$37=\"Non endémique\",INTRO!$E$41=\"Non endémique\"),\" \",IF(COUNTRY_INFO!C34=0,\" \",COUNTRY_INFO!C34))","v":"BELIZE"},{"$f":"IF(AND(INTRO!$E$37=\"Non endémique\",INTRO!$E$41=\"Non endémique\"),0,IF(AND(OR(COUNTRY_INFO!$H34=0,COUNTRY_INFO!$H34=4,COUNTRY_INFO!$H34=99),OR(COUNTRY_INFO!$J34=0,COUNTRY_INFO!$J34=4)),0,COUNTRY_INFO!$E34))","v":4135},{"$f":"IF(AND(INTRO!$E$37=\"Non endémique\",INTRO!$E$41=\"Non endémique\"),0,IF(AND(OR(COUNTRY_INFO!$H34=0,COUNTRY_INFO!$H34=4,COUNTRY_INFO!$H34=99),OR(COUNTRY_INFO!$J34=0,COUNTRY_INFO!$J34=4)),0,COUNTRY_INFO!$F34))","v":7210},11345,{"$f":"IF(AND(INTRO!$E$37=\"Non endémique\",INTRO!$E$41=\"Non endémique\"),0,COUNTRY_INFO!Q34)","v":1},{"$f":"IF(AND(INTRO!$E$37=\"Non endémique\",INTRO!$E$41=\"Non endémique\"),0,COUNTRY_INFO!S34)","v":1},{"$f":"IF($G34=1,IVM!$G34,0)","v":1080},19748,2,"ALB",{"$f":"IF($L34=\"ALB\", IF(INTRO!$E$39=\"Non endémique\",IF($H34<>0,$D34*($H34-$G34),0),$D34*$H34), 0)","v":4135},13672.275782600345,null,17807.275782600344,{"$f":"IF($L34=\"MBD\", IF(INTRO!$E$39=\"Non endémique\",IF($H34<>0,$D34*($H34-$G34),0),$D34*$H34),0)","v":0},0,null,0,null,40576,203,null,13672.275782600345,69,null,0,0]
[{"$f":"IF(AND(INTRO!$E$37=\"Non endémique\",INTRO!$E$41=\"Non endémique\"),\" \",IF(COUNTRY_INFO!A35=0,\" \",COUNTRY_INFO!A35))","v":"Angola"},{"$f":"IF(AND(INTRO!$E$37=\"Non endémique\",INTRO!$E$41=\"Non endémique\"),\" \",IF(COUNTRY_INFO!B35=0,\" \",COUNTRY_INFO!B35))","v":"CABINDA"},{"$f":"IF(AND(INTRO!$E$37=\"Non endémique\",INTRO!$E$41=\"Non endémique\"),\" \",IF(COUNTRY_INFO!C35=0,\" \",COUNTRY_INFO!C35))","v":"BUCO ZAU"},{"$f":"IF(AND(INTRO!$E$37=\"Non endémique\",INTRO!$E$41=\"Non endémique\"),0,IF(AND(OR(COUNTRY_INFO!$H35=0,COUNTRY_INFO!$H35=4,COUNTRY_INFO!$H35=99),OR(COUNTRY_INFO!$J35=0,COUNTRY_INFO!$J35=4)),0,COUNTRY_INFO!$E35))","v":6931},{"$f":"IF(AND(INTRO!$E$37=\"Non endémique\",INTRO!$E$41=\"Non endémique\"),0,IF(AND(OR(COUNTRY_INFO!$H35=0,COUNTRY_INFO!$H35=4,COUNTRY_INFO!$H35=99),OR(COUNTRY_INFO!$J35=0,COUNTRY_INFO!$J35=4)),0,COUNTRY_INFO!$F35))","v":12086},19017,{"$f":"IF(AND(INTRO!$E$37=\"Non endémique\",INTRO!$E$41=\"Non endémique\"),0,COUNTRY_INFO!Q35)","v":1},{"$f":"IF(AND(INTRO!$E$37=\"Non endémique\",INTRO!$E$41=\"Non endémique\"),0,COUNTRY_INFO!S35)","v":1},{"$f":"IF($G35=1,IVM!$G35,0)","v":1812},33104,2,"ALB",{"$f":"IF($L35=\"ALB\", IF(INTRO!$E$39=\"Non endémique\",IF($H35<>0,$D35*($H35-$G35),0),$D35*$H35), 0)","v":6931},22917.570397525491,null,29848.570397525491,{"$f":"IF($L35=\"MBD\", IF(INTRO!$E$39=\"Non endémique\",IF($H35<>0,$D35*($H35-$G35),0),$D35*$H35),0)","v":0},0,null,0,null,68020,341,null,22917.570397525491,115,null,0,0]
[{"$f":"IF(AND(INTRO!$E$37=\"Non endémique\",INTRO!$E$41=\"Non endémique\"),\" \",IF(COUNTRY_INFO!A36=0,\" \",COUNTRY_INFO!A36))","v":"Angola"},{"$f":"IF(AND(INTRO!$E$37=\"Non endémique\",INTRO!$E$41=\"Non endémique\"),\" \",IF(COUNTRY_INFO!B36=0,\" \",COUNTRY_INFO!B36))","v":"CABINDA"},{"$f":"IF(AND(INTRO!$E$37=\"Non endémique\",INTRO!$E$41=\"Non endémique\"),\" \",IF(COUNTRY_INFO!C36=0,\" \",COUNTRY_INFO!C36))","v":"CABINDA"},{"$f":"IF(AND(INTRO!$E$37=\"Non endémique\",INTRO!$E$41=\"Non endémique\"),0,IF(AND(OR(COUNTRY_INFO!$H36=0,COUNTRY_INFO!$H36=4,COUNTRY_INFO!$H36=99),OR(COUNTRY_INFO!$J36=0,COUNTRY_INFO!$J36=4)),0,COUNTRY_INFO!$E36))","v":132029},{"$f":"IF(AND(INTRO!$E$37=\"Non endémique\",INTRO!$E$41=\"Non endémique\"),0,IF(AND(OR(COUNTRY_INFO!$H36=0,COUNTRY_INFO!$H36=4,COUNTRY_INFO!$H36=99),OR(COUNTRY_INFO!$J36=0,COUNTRY_INFO!$J36=4)),0,COUNTRY_INFO!$F36))","v":230226},362255,{"$f":"IF(AND(INTRO!$E$37=\"Non endémique\",INTRO!$E$41=\"Non endémique\"),0,COUNTRY_INFO!Q36)","v":1},{"$f":"IF(AND(INTRO!$E$37=\"Non endémique\",INTRO!$E$41=\"Non endémique\"),0,COUNTRY_INFO!S36)","v":0},{"$f":"IF($G36=1,IVM!$G36,0)","v":34511},630586,2,"ALB",{"$f":"IF($L36=\"ALB\", IF(INTRO!$E$39=\"Non endémique\",IF($H36<>0,$D36*($H36-$G36),0),$D36*$H36), 0)","v":0},0,null,0,{"$f":"IF($L36=\"MBD\", IF(INTRO!$E$39=\"Non endémique\",IF($H36<>0,$D36*($H36-$G36),0),$D36*$H36),0)","v":0},0,null,0,null,1295683,6479,null,0,0,null,0,0]
[{"$f":"IF(AND(INTRO!$E$37=\"Non endémique\",INTRO!$E$41=\"Non endémique\"),\" \",IF(COUNTRY_INFO!A37=0,\" \",COUNTRY_INFO!A37))","v":"Angola"},{"$f":"IF(AND(INTRO!$E$37=\"Non endémique\",INTRO!$E$41=\"Non endémique\"),\" \",IF(COUNTRY_INFO!B37=0,\" \",COUNTRY_INFO!B37))","v":"CABINDA"},{"$f":"IF(AND(INTRO!$E$37=\"Non endémique\",INTRO!$E$41=\"Non endémique\"),\" \",IF(COUNTRY_INFO!C37=0,\" \",COUNTRY_INFO!C37))","v":"CACONGO"},{"$f":"IF(AND(INTRO!$E$37=\"Non endémique\",INTRO!$E$41=\"Non endémique\"),0,IF(AND(OR(COUNTRY_INFO!$H37=0,COUNTRY_INFO!$H37=4,COUNTRY_INFO!$H37=99),OR(COUNTRY_INFO!$J37=0,COUNTRY_INFO!$J37=4)),0,COUNTRY_INFO!$E37))","v":8259},{"$f":"IF(AND(INTRO!$E$37=\"Non endémique\",INTRO!$E$41=\"Non endémique\"),0,IF(AND(OR(COUNTRY_INFO!$H37=0,COUNTRY_INFO!$H37=4,COUNTRY_INFO!$H37=99),OR(COUNTRY_INFO!$J37=0,COUNTRY_INFO!$J37=4)),0,COUNTRY_INFO!$F37))","v":14402},22661,{"$f":"IF(AND(INTRO!$E$37=\"Non endémique\",INTRO!$E$41=\"Non endémique\"),0,COUNTRY_INFO!Q37)","v":1},{"$f":"IF(AND(INTRO!$E$37=\"Non endémique\",INTRO!$E$41=\"Non endémique\"),0,COUNTRY_INFO!S37)","v":0},{"$f":"IF($G37=1,IVM!$G37,0)","v":2158},39448,2,"ALB",{"$f":"IF($L37=\"ALB\", IF(INTRO!$E$39=\"Non endémique\",IF($H37<>0,$D37*($H37-$G37),0),$D37*$H37), 0)","v":0},0,null,0,{"$f":"IF($L37=\"MBD\", IF(INTRO!$E$39=\"Non endémique\",IF($H37<>0,$D37*($H37-$G37),0),$D37*$H37),0)","v":0},0,null,0,null,81054,406,null,0,0,null,0,0]
[{"$f":"IF(AND(INTRO!$E$37=\"Non endémique\",INTRO!$E$41=\"Non endémique\"),\" \",IF(COUNTRY_INFO!A38=0,\" \",COUNTRY_INFO!A38))","v":"Angola"},{"$f":"IF(AND(INTRO!$E$37=\"Non endémique\",INTRO!$E$41=\"Non endémique\"),\" \",IF(COUNTRY_INFO!B38=0,\" \",COUNTRY_INFO!B38))","v":"CUNENE"},{"$f":"IF(AND(INTRO!$E$37=\"Non endémique\",INTRO!$E$41=\"Non endémique\"),\" \",IF(COUNTRY_INFO!C38=0,\" \",COUNTRY_INFO!C38))","v":"CAHAMA"},{"$f":"IF(AND(INTRO!$E$37=\"Non endémique\",INTRO!$E$41=\"Non endémique\"),0,IF(AND(OR(COUNTRY_INFO!$H38=0,COUNTRY_INFO!$H38=4,COUNTRY_INFO!$H38=99),OR(COUNTRY_INFO!$J38=0,COUNTRY_INFO!$J38=4)),0,COUNTRY_INFO!$E38))","v":15160},{"$f":"IF(AND(INTRO!$E$37=\"Non endémique\",INTRO!$E$41=\"Non endémique\"),0,IF(AND(OR(COUNTRY_INFO!$H38=0,COUNTRY_INFO!$H38=4,COUNTRY_INFO!$H38=99),OR(COUNTRY_INFO!$J38=0,COUNTRY_INFO!$J38=4)),0,COUNTRY_INFO!$F38))","v":26436},41596,{"$f":"IF(AND(INTRO!$E$37=\"Non endémique\",INTRO!$E$41=\"Non endémique\"),0,COUNTRY_INFO!Q38)","v":0},{"$f":"IF(AND(INTRO!$E$37=\"Non endémique\",INTRO!$E$41=\"Non endémique\"),0,COUNTRY_INFO!S38)","v":0},{"$f":"IF($G38=1,IVM!$G38,0)","v":0},{"$f":"IF($G38=0, \" \", IF(COUNTRY_INFO!$H38=1, IF(COUNTRY_INFO!$L38=1, 0,\" \"),\" \"))","v":" "},null,"ALB",{"$f":"IF($L38=\"ALB\", IF(INTRO!$E$39=\"Non endémique\",IF($H38<>0,$D38*($H38-$G38),0),$D38*$H38), 0)","v":0},0,null,0,{"$f":"IF($L38=\"MBD\", IF(INTRO!$E$39=\"Non endémique\",IF($H38<>0,$D38*($H38-$G38),0),$D38*$H38),0)","v":0},0,null,0,null,0,0,null,0,0,null,0,0]
[{"$f":"IF(AND(INTRO!$E$37=\"Non endémique\",INTRO!$E$41=\"Non endémique\"),\" \",IF(COUNTRY_INFO!A39=0,\" \",COUNTRY_INFO!A39))","v":"Angola"},{"$f":"IF(AND(INTRO!$E$37=\"Non endémique\",INTRO!$E$41=\"Non endémique\"),\" \",IF(COUNTRY_INFO!B39=0,\" \",COUNTRY_INFO!B39))","v":"CUNENE"},{"$f":"IF(AND(INTRO!$E$37=\"Non endémique\",INTRO!$E$41=\"Non endémique\"),\" \",IF(COUNTRY_INFO!C39=0,\" \",COUNTRY_INFO!C39))","v":"CUANHAMA"},{"$f":"IF(AND(INTRO!$E$37=\"Non endémique\",INTRO!$E$41=\"Non endémique\"),0,IF(AND(OR(COUNTRY_INFO!$H39=0,COUNTRY_INFO!$H39=4,COUNTRY_INFO!$H39=99),OR(COUNTRY_INFO!$J39=0,COUNTRY_INFO!$J39=4)),0,COUNTRY_INFO!$E39))","v":81042},{"$f":"IF(AND(INTRO!$E$37=\"Non endémique\",INTRO!$E$41=\"Non endémique\"),0,IF(AND(OR(COUNTRY_INFO!$H39=0,COUNTRY_INFO!$H39=4,COUNTRY_INFO!$H39=99),OR(COUNTRY_INFO!$J39=0,COUNTRY_INFO!$J39=4)),0,COUNTRY_INFO!$F39))","v":141317},222359,{"$f":"IF(AND(INTRO!$E$37=\"Non endémique\",INTRO!$E$41=\"Non endémique\"),0,COUNTRY_INFO!Q39)","v":0},{"$f":"IF(AND(INTRO!$E$37=\"Non endémique\",INTRO!$E$41=\"Non endémique\"),0,COUNTRY_INFO!S39)","v":0},{"$f":"IF($G39=1,IVM!$G39,0)","v":0},{"$f":"IF($G39=0, \" \", IF(COUNTRY_INFO!$H39=1, IF(COUNTRY_INFO!$L39=1, 0,\" \"),\" \"))","v":" "},null,"ALB",{"$f":"IF($L39=\"ALB\", IF(INTRO!$E$39=\"Non endémique\",IF($H39<>0,$D39*($H39-$G39),0),$D39*$H39), 0)","v":0},0,null,0,{"$f":"IF($L39=\"MBD\", IF(INTRO!$E$39=\"Non endémique\",IF($H39<>0,$D39*($H39-$G39),0),$D39*$H39),0)","v":0},0,null,0,null,0,0,null,0,0,null,0,0]
[{"$f":"IF(AND(INTRO!$E$37=\"Non endémique\",INTRO!$E$41=\"Non endémique\"),\" \",IF(COUNTRY_INFO!A40=0,\" \",COUNTRY_INFO!A40))","v":"Angola"},{"$f":"IF(AND(INTRO!$E$37=\"Non endémique\",INTRO!$E$41=\"Non endémique\"),\" \",IF(COUNTRY_INFO!B40=0,\" \",COUNTRY_INFO!B40))","v":"CUNENE"},{"$f":"IF(AND(INTRO!$E$37=\"Non endémique\",INTRO!$E$41=\"Non endémique\"),\" \",IF(COUNTRY_INFO!C40=0,\" \",COUNTRY_INFO!C40))","v":"CUROCA"},{"$f":"IF(AND(INTRO!$E$37=\"Non endémique\",INTRO!$E$41=\"Non endémique\"),0,IF(AND(OR(COUNTRY_INFO!$H40=0,COUNTRY_INFO!$H40=4,COUNTRY_INFO!$H40=99),OR(COUNTRY_INFO!$J40=0,COUNTRY_INFO!$J40=4)),0,COUNTRY_INFO!$E40))","v":0},{"$f":"IF(AND(INTRO!$E$37=\"Non endémique\",INTRO!$E$41=\"Non endémique\"),0,IF(AND(OR(COUNTRY_INFO!$H40=0,COUNTRY_INFO!$H40=4,COUNTRY_INFO!$H40=99),OR(COUNTRY_INFO!$J40=0,COUNTRY_INFO!$J40=4)),0,COUNTRY_INFO!$F40))","v":0},0,{"$f":"IF(AND(INTRO!$E$37=\"Non endémique\",INTRO!$E$41=\"Non endémique\"),0,COUNTRY_INFO!Q40)","v":0},{"$f":"IF(AND(INTRO!$E$37=\"Non endémique\",INTRO!$E$41=\"Non endémique\"),0,COUNTRY_INFO!S40)","v":0},{"$f":"IF($G40=1,IVM!$G40,0)","v":0},{"$f":"IF($G40=0, \" \", IF(COUNTRY_INFO!$H40=1, IF(COUNTRY_INFO!$L40=1, 0,\" \"),\" \"))","v":" "},null,"ALB",{"$f":"IF($L40=\"ALB\", IF(INTRO!$E$39=\"Non endémique\",IF($H40<>0,$D40*($H40-$G40),0),$D40*$H40), 0)","v":0},0,null,0,{"$f":"IF($L40=\"MBD\", IF(INTRO!$E$39=\"Non endémique\",IF($H40<>0,$D40*($H40-$G40),0),$D40*$H40),0)","v":0},0,null,0,null,0,0,null,0,0,null,0,0]
[{"$f":"IF(AND(INTRO!$E$37=\"Non endémique\",INTRO!$E$41=\"Non endémique\"),\" \",IF(COUNTRY_INFO!A41=0,\" \",COUNTRY_INFO!A41))","v":"Angola"},{"$f":"IF(AND(INTRO!$E$37=\"Non endémique\",INTRO!$E$41=\"Non endémique\"),\" \",IF(COUNTRY_INFO!B41=0,\" \",COUNTRY_INFO!B41))","v":"CUNENE"},{"$f":"IF(AND(INTRO!$E$37=\"Non endémique\",INTRO!$E$41=\"Non endémique\"),\" \",IF(COUNTRY_INFO!C41=0,\" \",COUNTRY_INFO!C41))","v":"CUVELAI"},{"$f":"IF(AND(INTRO!$E$37=\"Non endémique\",INTRO!$E$41=\"Non endémique\"),0,IF(AND(OR(COUNTRY_INFO!$H41=0,COUNTRY_INFO!$H41=4,COUNTRY_INFO!$H41=99),OR(COUNTRY_INFO!$J41=0,COUNTRY_INFO!$J41=4)),0,COUNTRY_INFO!$E41))","v":12420},{"$f":"IF(AND(INTRO!$E$37=\"Non endémique\",INTRO!$E$41=\"Non endémique\"),0,IF(AND(OR(COUNTRY_INFO!$H41=0,COUNTRY_INFO!$H41=4,COUNTRY_INFO!$H41=99),OR(COUNTRY_INFO!$J41=0,COUNTRY_INFO!$J41=4)),0,COUNTRY_INFO!$F41))","v":21657},{"$f":"SUM(D41:E41)","v":34077},{"$f":"IF(AND(INTRO!$E$37=\"Non endémique\",INTRO!$E$41=\"Non endémique\"),0,COUNTRY_INFO!Q41)","v":0},{"$f":"IF(AND(INTRO!$E$37=\"Non endémique\",INTRO!$E$41=\"Non endémique\"),0,COUNTRY_INFO!S41)","v":0},{"$f":"IF($G41=1,IVM!$G41,0)","v":0},{"$f":"IF($G41=0, \" \", IF(COUNTRY_INFO!$H41=1, IF(COUNTRY_INFO!$L41=1, 0,\" \"),\" \"))","v":" "},null,"ALB",{"$f":"IF($L41=\"ALB\", IF(INTRO!$E$39=\"Non endémique\",IF($H41<>0,$D41*($H41-$G41),0),$D41*$H41), 0)","v":0},{"$f":"IF($L41=\"ALB\", IF($H41=0, 0, IF(AND($I41=0, OR($J41=0,$J41=\" \")), $E41*$H41, IF(AND($I41=0, $J41>0), IF(($H41-$K41)<=0, 0, $E41*(MAX($H41,$K41)-MIN($H41,$K41))), IF(AND($I41>0, $J41=0), $E41*($H41-$G41), IF($J41=\" \", $E41*($H41-$G41), $J41*$E41/($I41+$J41)*$K41+$I41*$E41/($I41+$J41)*($H41-$G41)))))), 0)","v":0},null,{"$f":"SUM(M41:O41)","v":0},{"$f":"IF($L41=\"MBD\", IF(INTRO!$E$39=\"Non endémique\",IF($H41<>0,$D41*($H41-$G41),0),$D41*$H41),0)","v":0},{"$f":"IF($L41=\"MBD\", IF($H41=0, 0, IF(AND($I41=0, OR($J41=0,$J41=\" \")), $E41*$H41, IF(AND($I41=0, $J41>0), IF(($H41-$K41)<=0, 0, $E41*(MAX($H41,$K41)-MIN($H41,$K41))), IF(AND($I41>0, $J41=0), $E41*($H41-$G41), IF($J41=\" \", $E41*($H41-$G41), $J41*$E41/($I41+$J41)*$K41+$I41*$E41/($I41+$J41)*($H41-$G41)))))), 0)","v":0},null,{"$f":"SUM(Q41:S41)","v":0},null,{"$f":"IF($J41<>\" \", IF(($I41+$J41*$K41)>$U41, ($I41+$J41*$K41)-$U41,0), IF($I41>$U41, $I41-$U41, 0))","v":0},{"$f":"IF($J41<>\" \", ROUNDUP(($I41+$J41*$K41)/200,0), ROUNDUP($I41/200,0))","v":0},null,{"$f":"IF($N41>$X41,$N41-$X41,0)","v":0},{"$f":"ROUNDUP($N41/200,0)","v":0},null,{"$f":"IF($R41>$AA41,$R41-$AA41,0)","v":0},{"$f":"ROUNDUP($R41/150,0)","v":0}]
[{"$f":"IF(AND(INTRO!$E$37=\"Non endémique\",INTRO!$E$41=\"Non endémique\"),\" \",IF(COUNTRY_INFO!A42=0,\" \",COUNTRY_INFO!A42))","v":"Angola"},{"$f":"IF(AND(INTRO!$E$37=\"Non endémique\",INTRO!$E$41=\"Non endémique\"),\" \",IF(COUNTRY_INFO!B42=0,\" \",COUNTRY_INFO!B42))","v":"CUNENE"},{"$f":"IF(AND(INTRO!$E$37=\"Non endémique\",INTRO!$E$41=\"Non endémique\"),\" \",IF(COUNTRY_INFO!C42=0,\" \",COUNTRY_INFO!C42))","v":"NAMACUNDE"},{"$f":"IF(AND(INTRO!$E$37=\"Non endémique\",INTRO!$E$41=\"Non endémique\"),0,IF(AND(OR(COUNTRY_INFO!$H42=0,COUNTRY_INFO!$H42=4,COUNTRY_INFO!$H42=99),OR(COUNTRY_INFO!$J42=0,COUNTRY_INFO!$J42=4)),0,COUNTRY_INFO!$E42))","v":30737},{"$f":"IF(AND(INTRO!$E$37=\"Non endémique\",INTRO!$E$41=\"Non endémique\"),0,IF(AND(OR(COUNTRY_INFO!$H42=0,COUNTRY_INFO!$H42=4,COUNTRY_INFO!$H42=99),OR(COUNTRY_INFO!$J42=0,COUNTRY_INFO!$J42=4)),0,COUNTRY_INFO!$F42))","v":53597},84334,{"$f":"IF(AND(INTRO!$E$37=\"Non endémique\",INTRO!$E$41=\"Non endémique\"),0,COUNTRY_INFO!Q42)","v":0},{"$f":"IF(AND(INTRO!$E$37=\"Non endémique\",INTRO!$E$41=\"Non endémique\"),0,COUNTRY_INFO!S42)","v":0},{"$f":"IF($G42=1,IVM!$G42,0)","v":0},{"$f":"IF($G42=0, \" \", IF(COUNTRY_INFO!$H42=1, IF(COUNTRY_INFO!$L42=1, 0,\" \"),\" \"))","v":" "},null,"ALB",{"$f":"IF($L42=\"ALB\", IF(INTRO!$E$39=\"Non endémique\",IF($H42<>0,$D42*($H42-$G42),0),$D42*$H42), 0)","v":0},0,null,0,{"$f":"IF($L42=\"MBD\", IF(INTRO!$E$39=\"Non endémique\",IF($H42<>0,$D42*($H42-$G42),0),$D42*$H42),0)","v":0},0,null,0,null,0,0,null,0,0,null,0,0]
[{"$f":"IF(AND(INTRO!$E$37=\"Non endémique\",INTRO!$E$41=\"Non endémique\"),\" \",IF(COUNTRY_INFO!A43=0,\" \",COUNTRY_INFO!A43))","v":"Angola"},{"$f":"IF(AND(INTRO!$E$37=\"Non endémique\",INTRO!$E$41=\"Non endémique\"),\" \",IF(COUNTRY_INFO!B43=0,\" \",COUNTRY_INFO!B43))","v":"CUNENE"},{"$f":"IF(AND(INTRO!$E$37=\"Non endémique\",INTRO!$E$41=\"Non endémique\"),\" \",IF(COUNTRY_INFO!C43=0,\" \",COUNTRY_INFO!C43))","v":"OMBADJA"},{"$f":"IF(AND(INTRO!$E$37=\"Non endémique\",INTRO!$E$41=\"Non endémique\"),0,IF(AND(OR(COUNTRY_INFO!$H43=0,COUNTRY_INFO!$H43=4,COUNTRY_INFO!$H43=99),OR(COUNTRY_INFO!$J43=0,COUNTRY_INFO!$J43=4)),0,COUNTRY_INFO!$E43))","v":65989},{"$f":"IF(AND(INTRO!$E$37=\"Non endémique\",INTRO!$E$41=\"Non endémique\"),0,IF(AND(OR(COUNTRY_INFO!$H43=0,COUNTRY_INFO!$H43=4,COUNTRY_INFO!$H43=99),OR(COUNTRY_INFO!$J43=0,COUNTRY_INFO!$J43=4)),0,COUNTRY_INFO!$F43))","v":115069},181058,{"$f":"IF(AND(INTRO!$E$37=\"Non endémique\",INTRO!$E$41=\"Non endémique\"),0,COUNTRY_INFO!Q43)","v":0},{"$f":"IF(AND(INTRO!$E$37=\"Non endémique\",INTRO!$E$41=\"Non endémique\"),0,COUNTRY_INFO!S43)","v":1},{"$f":"IF($G43=1,IVM!$G43,0)","v":0},{"$f":"IF($G43=0, \" \", IF(COUNTRY_INFO!$H43=1, IF(COUNTRY_INFO!$L43=1, 0,\" \"),\" \"))","v":" "},null,"ALB",{"$f":"IF($L43=\"ALB\", IF(INTRO!$E$39=\"Non endémique\",IF($H43<>0,$D43*($H43-$G43),0),$D43*$H43), 0)","v":65989},115069,null,181058,{"$f":"IF($L43=\"MBD\", IF(INTRO!$E$39=\"Non endémique\",IF($H43<>0,$D43*($H43-$G43),0),$D43*$H43),0)","v":0},0,null,0,null,0,0,null,115069,576,null,0,0]
[{"$f":"IF(AND(INTRO!$E$37=\"Non endémique\",INTRO!$E$41=\"Non endémique\"),\" \",IF(COUNTRY_INFO!A44=0,\" \",COUNTRY_INFO!A44))","v":"Angola"},{"$f":"IF(AND(INTRO!$E$37=\"Non endémique\",INTRO!$E$41=\"Non endémique\"),\" \",IF(COUNTRY_INFO!B44=0,\" \",COUNTRY_INFO!B44))","v":"HUAMBO"},{"$f":"IF(AND(INTRO!$E$37=\"Non endémique\",INTRO!$E$41=\"Non endémique\"),\" \",IF(COUNTRY_INFO!C44=0,\" \",COUNTRY_INFO!C44))","v":"BAILUNDO"},{"$f":"IF(AND(INTRO!$E$37=\"Non endémique\",INTRO!$E$41=\"Non endémique\"),0,IF(AND(OR(COUNTRY_INFO!$H44=0,COUNTRY_INFO!$H44=4,COUNTRY_INFO!$H44=99),OR(COUNTRY_INFO!$J44=0,COUNTRY_INFO!$J44=4)),0,COUNTRY_INFO!$E44))","v":64811},{"$f":"IF(AND(INTRO!$E$37=\"Non endémique\",INTRO!$E$41=\"Non endémique\"),0,IF(AND(OR(COUNTRY_INFO!$H44=0,COUNTRY_INFO!$H44=4,COUNTRY_INFO!$H44=99),OR(COUNTRY_INFO!$J44=0,COUNTRY_INFO!$J44=4)),0,COUNTRY_INFO!$F44))","v":113015},177826,{"$f":"IF(AND(INTRO!$E$37=\"Non endémique\",INTRO!$E$41=\"Non endémique\"),0,COUNTRY_INFO!Q44)","v":0},{"$f":"IF(AND(INTRO!$E$37=\"Non endémique\",INTRO!$E$41=\"Non endémique\"),0,COUNTRY_INFO!S44)","v":0},{"$f":"IF($G44=1,IVM!$G44,0)","v":0},{"$f":"IF($G44=0, \" \", IF(COUNTRY_INFO!$H44=1, IF(COUNTRY_INFO!$L44=1, 0,\" \"),\" \"))","v":" "},null,"ALB",{"$f":"IF($L44=\"ALB\", IF(INTRO!$E$39=\"Non endémique\",IF($H44<>0,$D44*($H44-$G44),0),$D44*$H44), 0)","v":0},0,null,0,{"$f":"IF($L44=\"MBD\", IF(INTRO!$E$39=\"Non endémique\",IF($H44<>0,$D44*($H44-$G44),0),$D44*$H44),0)","v":0},0,null,0,null,0,0,null,0,0,null,0,0]
[{"$f":"IF(AND(INTRO!$E$37=\"Non endémique\",INTRO!$E$41=\"Non endémique\"),\" \",IF(COUNTRY_INFO!A45=0,\" \",COUNTRY_INFO!A45))","v":"Angola"},{"$f":"IF(AND(INTRO!$E$37=\"Non endémique\",INTRO!$E$41=\"Non endémique\"),\" \",IF(COUNTRY_INFO!B45=0,\" \",COUNTRY_INFO!B45))","v":"HUAMBO"},{"$f":"IF(AND(INTRO!$E$37=\"Non endémique\",INTRO!$E$41=\"Non endémique\"),\" \",IF(COUNTRY_INFO!C45=0,\" \",COUNTRY_INFO!C45))","v":"CAALA"},{"$f":"IF(AND(INTRO!$E$37=\"Non endémique\",INTRO!$E$41=\"Non endémique\"),0,IF(AND(OR(COUNTRY_INFO!$H45=0,COUNTRY_INFO!$H45=4,COUNTRY_INFO!$H45=99),OR(COUNTRY_INFO!$J45=0,COUNTRY_INFO!$J45=4)),0,COUNTRY_INFO!$E45))","v":61576},{"$f":"IF(AND(INTRO!$E$37=\"Non endémique\",INTRO!$E$41=\"Non endémique\"),0,IF(AND(OR(COUNTRY_INFO!$H45=0,COUNTRY_INFO!$H45=4,COUNTRY_INFO!$H45=99),OR(COUNTRY_INFO!$J45=0,COUNTRY_INFO!$J45=4)),0,COUNTRY_INFO!$F45))","v":107373},168949,{"$f":"IF(AND(INTRO!$E$37=\"Non endémique\",INTRO!$E$41=\"Non endémique\"),0,COUNTRY_INFO!Q45)","v":0},{"$f":"IF(AND(INTRO!$E$37=\"Non endémique\",INTRO!$E$41=\"Non endémique\"),0,COUNTRY_INFO!S45)","v":1},{"$f":"IF($G45=1,IVM!$G45,0)","v":0},{"$f":"IF($G45=0, \" \", IF(COUNTRY_INFO!$H45=1, IF(COUNTRY_INFO!$L45=1, 0,\" \"),\" \"))","v":" "},null,"ALB",{"$f":"IF($L45=\"ALB\", IF(INTRO!$E$39=\"Non endémique\",IF($H45<>0,$D45*($H45-$G45),0),$D45*$H45), 0)","v":61576},107373,null,168949,{"$f":"IF($L45=\"MBD\", IF(INTRO!$E$39=\"Non endémique\",IF($H45<>0,$D45*($H45-$G45),0),$D45*$H45),0)","v":0},0,null,0,null,0,0,null,107373,537,null,0,0]
[{"$f":"IF(AND(INTRO!$E$37=\"Non endémique\",INTRO!$E$41=\"Non endémique\"),\" \",IF(COUNTRY_INFO!A46=0,\" \",COUNTRY_INFO!A46))","v":"Angola"},{"$f":"IF(AND(INTRO!$E$37=\"Non endémique\",INTRO!$E$41=\"Non endémique\"),\" \",IF(COUNTRY_INFO!B46=0,\" \",COUNTRY_INFO!B46))","v":"HUAMBO"},{"$f":"IF(AND(INTRO!$E$37=\"Non endémique\",INTRO!$E$41=\"Non endémique\"),\" \",IF(COUNTRY_INFO!C46=0,\" \",COUNTRY_INFO!C46))","v":"ECUNHA"},{"$f":"IF(AND(INTRO!$E$37=\"Non endémique\",INTRO!$E$41=\"Non endémique\"),0,IF(AND(OR(COUNTRY_INFO!$H46=0,COUNTRY_INFO!$H46=4,COUNTRY_INFO!$H46=99),OR(COUNTRY_INFO!$J46=0,COUNTRY_INFO!$J46=4)),0,COUNTRY_INFO!$E46))","v":0},{"$f":"IF(AND(INTRO!$E$37=\"Non endémique\",INTRO!$E$41=\"Non endémique\"),0,IF(AND(OR(COUNTRY_INFO!$H46=0,COUNTRY_INFO!$H46=4,COUNTRY_INFO!$H46=99),OR(COUNTRY_INFO!$J46=0,COUNTRY_INFO!$J46=4)),0,COUNTRY_INFO!$F46))","v":0},0,{"$f":"IF(AND(INTRO!$E$37=\"Non endémique\",INTRO!$E$41=\"Non endémique\"),0,COUNTRY_INFO!Q46)","v":0},{"$f":"IF(AND(INTRO!$E$37=\"Non endémique\",INTRO!$E$41=\"Non endémique\"),0,COUNTRY_INFO!S46)","v":0},{"$f":"IF($G46=1,IVM!$G46,0)","v":0},{"$f":"IF($G46=0, \" \", IF(COUNTRY_INFO!$H46=1, IF(COUNTRY_INFO!$L46=1, 0,\" \"),\" \"))","v":" "},null,"ALB",{"$f":"IF($L46=\"ALB\", IF(INTRO!$E$39=\"Non endémique\",IF($H46<>0,$D46*($H46-$G46),0),$D46*$H46), 0)","v":0},0,null,0,{"$f":"IF($L46=\"MBD\", IF(INTRO!$E$39=\"Non endémique\",IF($H46<>0,$D46*($H46-$G46),0),$D46*$H46),0)","v":0},0,null,0,null,0,0,null,0,0,null,0,0]
[{"$f":"IF(AND(INTRO!$E$37=\"Non endémique\",INTRO!$E$41=\"Non endémique\"),\" \",IF(COUNTRY_INFO!A47=0,\" \",COUNTRY_INFO!A47))","v":"Angola"},{"$f":"IF(AND(INTRO!$E$37=\"Non endémique\",INTRO!$E$41=\"Non endémique\"),\" \",IF(COUNTRY_INFO!B47=0,\" \",COUNTRY_INFO!B47))","v":"HUAMBO"},{"$f":"IF(AND(INTRO!$E$37=\"Non endémique\",INTRO!$E$41=\"Non endémique\"),\" \",IF(COUNTRY_INFO!C47=0,\" \",COUNTRY_INFO!C47))","v":"HUAMBO"},{"$f":"IF(AND(INTRO!$E$37=\"Non endémique\",INTRO!$E$41=\"Non endémique\"),0,IF(AND(OR(COUNTRY_INFO!$H47=0,COUNTRY_INFO!$H47=4,COUNTRY_INFO!$H47=99),OR(COUNTRY_INFO!$J47=0,COUNTRY_INFO!$J47=4)),0,COUNTRY_INFO!$E47))","v":156944},{"$f":"IF(AND(INTRO!$E$37=\"Non endémique\",INTRO!$E$41=\"Non endémique\"),0,IF(AND(OR(COUNTRY_INFO!$H47=0,COUNTRY_INFO!$H47=4,COUNTRY_INFO!$H47=99),OR(COUNTRY_INFO!$J47=0,COUNTRY_INFO!$J47=4)),0,COUNTRY_INFO!$F47))","v":273672},430616,{"$f":"IF(AND(INTRO!$E$37=\"Non endémique\",INTRO!$E$41=\"Non endémique\"),0,COUNTRY_INFO!Q47)","v":0},{"$f":"IF(AND(INTRO!$E$37=\"Non endémique\",INTRO!$E$41=\"Non endémique\"),0,COUNTRY_INFO!S47)","v":0},{"$f":"IF($G47=1,IVM!$G47,0)","v":0},{"$f":"IF($G47=0, \" \", IF(COUNTRY_INFO!$H47=1, IF(COUNTRY_INFO!$L47=1, 0,\" \"),\" \"))","v":" "},null,"ALB",{"$f":"IF($L47=\"ALB\", IF(INTRO!$E$39=\"Non endémique\",IF($H47<>0,$D47*($H47-$G47),0),$D47*$H47), 0)","v":0},0,null,0,{"$f":"IF($L47=\"MBD\", IF(INTRO!$E$39=\"Non endémique\",IF($H47<>0,$D47*($H47-$G47),0),$D47*$H47),0)","v":0},0,null,0,null,0,0,null,0,0,null,0,0]
[{"$f":"IF(AND(INTRO!$E$37=\"Non endémique\",INTRO!$E$41=\"Non endémique\"),\" \",IF(COUNTRY_INFO!A48=0,\" \",COUNTRY_INFO!A48))","v":"Angola"},{"$f":"IF(AND(INTRO!$E$37=\"Non endémique\",INTRO!$E$41=\"Non endémique\"),\" \",IF(COUNTRY_INFO!B48=0,\" \",COUNTRY_INFO!B48))","v":"HUAMBO"},{"$f":"IF(AND(INTRO!$E$37=\"Non endémique\",INTRO!$E$41=\"Non endémique\"),\" \",IF(COUNTRY_INFO!C48=0,\" \",COUNTRY_INFO!C48))","v":"CACHIUNGO"},{"$f":"IF(AND(INTRO!$E$37=\"Non endémique\",INTRO!$E$41=\"Non endémique\"),0,IF(AND(OR(COUNTRY_INFO!$H48=0,COUNTRY_INFO!$H48=4,COUNTRY_INFO!$H48=99),OR(COUNTRY_INFO!$J48=0,COUNTRY_INFO!$J48=4)),0,COUNTRY_INFO!$E48))","v":26558},{"$f":"IF(AND(INTRO!$E$37=\"Non endémique\",INTRO!$E$41=\"Non endémique\"),0,IF(AND(OR(COUNTRY_INFO!$H48=0,COUNTRY_INFO!$H48=4,COUNTRY_INFO!$H48=99),OR(COUNTRY_INFO!$J48=0,COUNTRY_INFO!$J48=4)),0,COUNTRY_INFO!$F48))","v":46311},72869,{"$f":"IF(AND(INTRO!$E$37=\"Non endémique\",INTRO!$E$41=\"Non endémique\"),0,COUNTRY_INFO!Q48)","v":0},{"$f":"IF(AND(INTRO!$E$37=\"Non endémique\",INTRO!$E$41=\"Non endémique\"),0,COUNTRY_INFO!S48)","v":0},{"$f":"IF($G48=1,IVM!$G48,0)","v":0},{"$f":"IF($G48=0, \" \", IF(COUNTRY_INFO!$H48=1, IF(COUNTRY_INFO!$L48=1, 0,\" \"),\" \"))","v":" "},null,"ALB",{"$f":"IF($L48=\"ALB\", IF(INTRO!$E$39=\"Non endémique\",IF($H48<>0,$D48*($H48-$G48),0),$D48*$H48), 0)","v":0},0,null,0,{"$f":"IF($L48=\"MBD\", IF(INTRO!$E$39=\"Non endémique\",IF($H48<>0,$D48*($H48-$G48),0),$D48*$H48),0)","v":0},0,null,0,null,0,0,null,0,0,null,0,0]
[{"$f":"IF(AND(INTRO!$E$37=\"Non endémique\",INTRO!$E$41=\"Non endémique\"),\" \",IF(COUNTRY_INFO!A49=0,\" \",COUNTRY_INFO!A49))","v":"Angola"},{"$f":"IF(AND(INTRO!$E$37=\"Non endémique\",INTRO!$E$41=\"Non endémique\"),\" \",IF(COUNTRY_INFO!B49=0,\" \",COUNTRY_INFO!B49))","v":"HUAMBO"},{"$f":"IF(AND(INTRO!$E$37=\"Non endémique\",INTRO!$E$41=\"Non endémique\"),\" \",IF(COUNTRY_INFO!C49=0,\" \",COUNTRY_INFO!C49))","v":"LONDUIMBALI"},{"$f":"IF(AND(INTRO!$E$37=\"Non endémique\",INTRO!$E$41=\"Non endémique\"),0,IF(AND(OR(COUNTRY_INFO!$H49=0,COUNTRY_INFO!$H49=4,COUNTRY_INFO!$H49=99),OR(COUNTRY_INFO!$J49=0,COUNTRY_INFO!$J49=4)),0,COUNTRY_INFO!$E49))","v":29546},{"$f":"IF(AND(INTRO!$E$37=\"Non endémique\",INTRO!$E$41=\"Non endémique\"),0,IF(AND(OR(COUNTRY_INFO!$H49=0,COUNTRY_INFO!$H49=4,COUNTRY_INFO!$H49=99),OR(COUNTRY_INFO!$J49=0,COUNTRY_INFO!$J49=4)),0,COUNTRY_INFO!$F49))","v":51521},81067,{"$f":"IF(AND(INTRO!$E$37=\"Non endémique\",INTRO!$E$41=\"Non endémique\"),0,COUNTRY_INFO!Q49)","v":0},{"$f":"IF(AND(INTRO!$E$37=\"Non endémique\",INTRO!$E$41=\"Non endémique\"),0,COUNTRY_INFO!S49)","v":0},{"$f":"IF($G49=1,IVM!$G49,0)","v":0},{"$f":"IF($G49=0, \" \", IF(COUNTRY_INFO!$H49=1, IF(COUNTRY_INFO!$L49=1, 0,\" \"),\" \"))","v":" "},null,"ALB",{"$f":"IF($L49=\"ALB\", IF(INTRO!$E$39=\"Non endémique\",IF($H49<>0,$D49*($H49-$G49),0),$D49*$H49), 0)","v":0},0,null,0,{"$f":"IF($L49=\"MBD\", IF(INTRO!$E$39=\"Non endémique\",IF($H49<>0,$D49*($H49-$G49),0),$D49*$H49),0)","v":0},0,null,0,null,0,0,null,0,0,null,0,0]
[{"$f":"IF(AND(INTRO!$E$37=\"Non endémique\",INTRO!$E$41=\"Non endémique\"),\" \",IF(COUNTRY_INFO!A50=0,\" \",COUNTRY_INFO!A50))","v":"Angola"},{"$f":"IF(AND(INTRO!$E$37=\"Non endémique\",INTRO!$E$41=\"Non endémique\"),\" \",IF(COUNTRY_INFO!B50=0,\" \",COUNTRY_INFO!B50))","v":"HUAMBO"},{"$f":"IF(AND(INTRO!$E$37=\"Non endémique\",INTRO!$E$41=\"Non endémique\"),\" \",IF(COUNTRY_INFO!C50=0,\" \",COUNTRY_INFO!C50))","v":"LONGONJO"},{"$f":"IF(AND(INTRO!$E$37=\"Non endémique\",INTRO!$E$41=\"Non endémique\"),0,IF(AND(OR(COUNTRY_INFO!$H50=0,COUNTRY_INFO!$H50=4,COUNTRY_INFO!$H50=99),OR(COUNTRY_INFO!$J50=0,COUNTRY_INFO!$J50=4)),0,COUNTRY_INFO!$E50))","v":20270},{"$f":"IF(AND(INTRO!$E$37=\"Non endémique\",INTRO!$E$41=\"Non endémique\"),0,IF(AND(OR(COUNTRY_INFO!$H50=0,COUNTRY_INFO!$H50=4,COUNTRY_INFO!$H50=99),OR(COUNTRY_INFO!$J50=0,COUNTRY_INFO!$J50=4)),0,COUNTRY_INFO!$F50))","v":35346},55616,{"$f":"IF(AND(INTRO!$E$37=\"Non endémique\",INTRO!$E$41=\"Non endémique\"),0,COUNTRY_INFO!Q50)","v":0},{"$f":"IF(AND(INTRO!$E$37=\"Non endémique\",INTRO!$E$41=\"Non endémique\"),0,COUNTRY_INFO!S50)","v":0},{"$f":"IF($G50=1,IVM!$G50,0)","v":0},{"$f":"IF($G50=0, \" \", IF(COUNTRY_INFO!$H50=1, IF(COUNTRY_INFO!$L50=1, 0,\" \"),\" \"))","v":" "},null,"ALB",{"$f":"IF($L50=\"ALB\", IF(INTRO!$E$39=\"Non endémique\",IF($H50<>0,$D50*($H50-$G50),0),$D50*$H50), 0)","v":0},0,null,0,{"$f":"IF($L50=\"MBD\", IF(INTRO!$E$39=\"Non endémique\",IF($H50<>0,$D50*($H50-$G50),0),$D50*$H50),0)","v":0},0,null,0,null,0,0,null,0,0,null,0,0]
[{"$f":"IF(AND(INTRO!$E$37=\"Non endémique\",INTRO!$E$41=\"Non endémique\"),\" \",IF(COUNTRY_INFO!A51=0,\" \",COUNTRY_INFO!A51))","v":"Angola"},{"$f":"IF(AND(INTRO!$E$37=\"Non endémique\",INTRO!$E$41=\"Non endémique\"),\" \",IF(COUNTRY_INFO!B51=0,\" \",COUNTRY_INFO!B51))","v":"HUAMBO"},{"$f":"IF(AND(INTRO!$E$37=\"Non endémique\",INTRO!$E$41=\"Non endémique\"),\" \",IF(COUNTRY_INFO!C51=0,\" \",COUNTRY_INFO!C51))","v":"MUNGO"},{"$f":"IF(AND(INTRO!$E$37=\"Non endémique\",INTRO!$E$41=\"Non endémique\"),0,IF(AND(OR(COUNTRY_INFO!$H51=0,COUNTRY_INFO!$H51=4,COUNTRY_INFO!$H51=99),OR(COUNTRY_INFO!$J51=0,COUNTRY_INFO!$J51=4)),0,COUNTRY_INFO!$E51))","v":0},{"$f":"IF(AND(INTRO!$E$37=\"Non endémique\",INTRO!$E$41=\"Non endémique\"),0,IF(AND(OR(COUNTRY_INFO!$H51=0,COUNTRY_INFO!$H51=4,COUNTRY_INFO!$H51=99),OR(COUNTRY_INFO!$J51=0,COUNTRY_INFO!$J51=4)),0,COUNTRY_INFO!$F51))","v":0},0,{"$f":"IF(AND(INTRO!$E$37=\"Non endémique\",INTRO!$E$41=\"Non endémique\"),0,COUNTRY_INFO!Q51)","v":0},{"$f":"IF(AND(INTRO!$E$37=\"Non endémique\",INTRO!$E$41=\"Non endémique\"),0,COUNTRY_INFO!S51)","v":0},{"$f":"IF($G51=1,IVM!$G51,0)","v":0},{"$f":"IF($G51=0, \" \", IF(COUNTRY_INFO!$H51=1, IF(COUNTRY_INFO!$L51=1, 0,\" \"),\" \"))","v":" "},null,"ALB",{"$f":"IF($L51=\"ALB\", IF(INTRO!$E$39=\"Non endémique\",IF($H51<>0,$D51*($H51-$G51),0),$D51*$H51), 0)","v":0},0,null,0,{"$f":"IF($L51=\"MBD\", IF(INTRO!$E$39=\"Non endémique\",IF($H51<>0,$D51*($H51-$G51),0),$D51*$H51),0)","v":0},0,null,0,null,0,0,null,0,0,null,0,0]
[{"$f":"IF(AND(INTRO!$E$37=\"Non endémique\",INTRO!$E$41=\"Non endémique\"),\" \",IF(COUNTRY_INFO!A52=0,\" \",COUNTRY_INFO!A52))","v":"Angola"},{"$f":"IF(AND(INTRO!$E$37=\"Non endémique\",INTRO!$E$41=\"Non endémique\"),\" \",IF(COUNTRY_INFO!B52=0,\" \",COUNTRY_INFO!B52))","v":"HUAMBO"},{"$f":"IF(AND(INTRO!$E$37=\"Non endémique\",INTRO!$E$41=\"Non endémique\"),\" \",IF(COUNTRY_INFO!C52=0,\" \",COUNTRY_INFO!C52))","v":"CHICALA CHOLOHANGA"},{"$f":"IF(AND(INTRO!$E$37=\"Non endémique\",INTRO!$E$41=\"Non endémique\"),0,IF(AND(OR(COUNTRY_INFO!$H52=0,COUNTRY_INFO!$H52=4,COUNTRY_INFO!$H52=99),OR(COUNTRY_INFO!$J52=0,COUNTRY_INFO!$J52=4)),0,COUNTRY_INFO!$E52))","v":22810},{"$f":"IF(AND(INTRO!$E$37=\"Non endémique\",INTRO!$E$41=\"Non endémique\"),0,IF(AND(OR(COUNTRY_INFO!$H52=0,COUNTRY_INFO!$H52=4,COUNTRY_INFO!$H52=99),OR(COUNTRY_INFO!$J52=0,COUNTRY_INFO!$J52=4)),0,COUNTRY_INFO!$F52))","v":39775},62585,{"$f":"IF(AND(INTRO!$E$37=\"Non endémique\",INTRO!$E$41=\"Non endémique\"),0,COUNTRY_INFO!Q52)","v":0},{"$f":"IF(AND(INTRO!$E$37=\"Non endémique\",INTRO!$E$41=\"Non endémique\"),0,COUNTRY_INFO!S52)","v":0},{"$f":"IF($G52=1,IVM!$G52,0)","v":0},{"$f":"IF($G52=0, \" \", IF(COUNTRY_INFO!$H52=1, IF(COUNTRY_INFO!$L52=1, 0,\" \"),\" \"))","v":" "},null,"ALB",{"$f":"IF($L52=\"ALB\", IF(INTRO!$E$39=\"Non endémique\",IF($H52<>0,$D52*($H52-$G52),0),$D52*$H52), 0)","v":0},0,null,0,{"$f":"IF($L52=\"MBD\", IF(INTRO!$E$39=\"Non endémique\",IF($H52<>0,$D52*($H52-$G52),0),$D52*$H52),0)","v":0},0,null,0,null,0,0,null,0,0,null,0,0]
[{"$f":"IF(AND(INTRO!$E$37=\"Non endémique\",INTRO!$E$41=\"Non endémique\"),\" \",IF(COUNTRY_INFO!A53=0,\" \",COUNTRY_INFO!A53))","v":"Angola"},{"$f":"IF(AND(INTRO!$E$37=\"Non endémique\",INTRO!$E$41=\"Non endémique\"),\" \",IF(COUNTRY_INFO!B53=0,\" \",COUNTRY_INFO!B53))","v":"HUAMBO"},{"$f":"IF(AND(INTRO!$E$37=\"Non endémique\",INTRO!$E$41=\"Non endémique\"),\" \",IF(COUNTRY_INFO!C53=0,\" \",COUNTRY_INFO!C53))","v":"CHINDJENJE"},{"$f":"IF(AND(INTRO!$E$37=\"Non endémique\",INTRO!$E$41=\"Non endémique\"),0,IF(AND(OR(COUNTRY_INFO!$H53=0,COUNTRY_INFO!$H53=4,COUNTRY_INFO!$H53=99),OR(COUNTRY_INFO!$J53=0,COUNTRY_INFO!$J53=4)),0,COUNTRY_INFO!$E53))","v":6700},{"$f":"IF(AND(INTRO!$E$37=\"Non endémique\",INTRO!$E$41=\"Non endémique\"),0,IF(AND(OR(COUNTRY_INFO!$H53=0,COUNTRY_INFO!$H53=4,COUNTRY_INFO!$H53=99),OR(COUNTRY_INFO!$J53=0,COUNTRY_INFO!$J53=4)),0,COUNTRY_INFO!$F53))","v":11683},18383,{"$f":"IF(AND(INTRO!$E$37=\"Non endémique\",INTRO!$E$41=\"Non endémique\"),0,COUNTRY_INFO!Q53)","v":0},{"$f":"IF(AND(INTRO!$E$37=\"Non endémique\",INTRO!$E$41=\"Non endémique\"),0,COUNTRY_INFO!S53)","v":0},{"$f":"IF($G53=1,IVM!$G53,0)","v":0},{"$f":"IF($G53=0, \" \", IF(COUNTRY_INFO!$H53=1, IF(COUNTRY_INFO!$L53=1, 0,\" \"),\" \"))","v":" "},null,"ALB",{"$f":"IF($L53=\"ALB\", IF(INTRO!$E$39=\"Non endémique\",IF($H53<>0,$D53*($H53-$G53),0),$D53*$H53), 0)","v":0},0,null,0,{"$f":"IF($L53=\"MBD\", IF(INTRO!$E$39=\"Non endémique\",IF($H53<>0,$D53*($H53-$G53),0),$D53*$H53),0)","v":0},0,null,0,null,0,0,null,0,0,null,0,0]
[{"$f":"IF(AND(INTRO!$E$37=\"Non endémique\",INTRO!$E$41=\"Non endémique\"),\" \",IF(COUNTRY_INFO!A54=0,\" \",COUNTRY_INFO!A54))","v":"Angola"},{"$f":"IF(AND(INTRO!$E$37=\"Non endémique\",INTRO!$E$41=\"Non endémique\"),\" \",IF(COUNTRY_INFO!B54=0,\" \",COUNTRY_INFO!B54))","v":"HUAMBO"},{"$f":"IF(AND(INTRO!$E$37=\"Non endémique\",INTRO!$E$41=\"Non endémique\"),\" \",IF(COUNTRY_INFO!C54=0,\" \",COUNTRY_INFO!C54))","v":"UCUMA"},{"$f":"IF(AND(INTRO!$E$37=\"Non endémique\",INTRO!$E$41=\"Non endémique\"),0,IF(AND(OR(COUNTRY_INFO!$H54=0,COUNTRY_INFO!$H54=4,COUNTRY_INFO!$H54=99),OR(COUNTRY_INFO!$J54=0,COUNTRY_INFO!$J54=4)),0,COUNTRY_INFO!$E54))","v":12116},{"$f":"IF(AND(INTRO!$E$37=\"Non endémique\",INTRO!$E$41=\"Non endémique\"),0,IF(AND(OR(COUNTRY_INFO!$H54=0,COUNTRY_INFO!$H54=4,COUNTRY_INFO!$H54=99),OR(COUNTRY_INFO!$J54=0,COUNTRY_INFO!$J54=4)),0,COUNTRY_INFO!$F54))","v":21127},33243,{"$f":"IF(AND(INTRO!$E$37=\"Non endémique\",INTRO!$E$41=\"Non endémique\"),0,COUNTRY_INFO!Q54)","v":0},{"$f":"IF(AND(INTRO!$E$37=\"Non endémique\",INTRO!$E$41=\"Non endémique\"),0,COUNTRY_INFO!S54)","v":1},{"$f":"IF($G54=1,IVM!$G54,0)","v":0},{"$f":"IF($G54=0, \" \", IF(COUNTRY_INFO!$H54=1, IF(COUNTRY_INFO!$L54=1, 0,\" \"),\" \"))","v":" "},null,"ALB",{"$f":"IF($L54=\"ALB\", IF(INTRO!$E$39=\"Non endémique\",IF($H54<>0,$D54*($H54-$G54),0),$D54*$H54), 0)","v":12116},21127,null,33243,{"$f":"IF($L54=\"MBD\", IF(INTRO!$E$39=\"Non endémique\",IF($H54<>0,$D54*($H54-$G54),0),$D54*$H54),0)","v":0},0,null,0,null,0,0,null,21127,106,null,0,0]
[{"$f":"IF(AND(INTRO!$E$37=\"Non endémique\",INTRO!$E$41=\"Non endémique\"),\" \",IF(COUNTRY_INFO!A55=0,\" \",COUNTRY_INFO!A55))","v":"Angola"},{"$f":"IF(AND(INTRO!$E$37=\"Non endémique\",INTRO!$E$41=\"Non endémique\"),\" \",IF(COUNTRY_INFO!B55=0,\" \",COUNTRY_INFO!B55))","v":"HUILA"},{"$f":"IF(AND(INTRO!$E$37=\"Non endémique\",INTRO!$E$41=\"Non endémique\"),\" \",IF(COUNTRY_INFO!C55=0,\" \",COUNTRY_INFO!C55))","v":"CACONDA"},{"$f":"IF(AND(INTRO!$E$37=\"Non endémique\",INTRO!$E$41=\"Non endémique\"),0,IF(AND(OR(COUNTRY_INFO!$H55=0,COUNTRY_INFO!$H55=4,COUNTRY_INFO!$H55=99),OR(COUNTRY_INFO!$J55=0,COUNTRY_INFO!$J55=4)),0,COUNTRY_INFO!$E55))","v":36092},{"$f":"IF(AND(INTRO!$E$37=\"Non endémique\",INTRO!$E$41=\"Non endémique\"),0,IF(AND(OR(COUNTRY_INFO!$H55=0,COUNTRY_INFO!$H55=4,COUNTRY_INFO!$H55=99),OR(COUNTRY_INFO!$J55=0,COUNTRY_INFO!$J55=4)),0,COUNTRY_INFO!$F55))","v":62936},99028,{"$f":"IF(AND(INTRO!$E$37=\"Non endémique\",INTRO!$E$41=\"Non endémique\"),0,COUNTRY_INFO!Q55)","v":0},{"$f":"IF(AND(INTRO!$E$37=\"Non endémique\",INTRO!$E$41=\"Non endémique\"),0,COUNTRY_INFO!S55)","v":0},{"$f":"IF($G55=1,IVM!$G55,0)","v":0},{"$f":"IF($G55=0, \" \", IF(COUNTRY_INFO!$H55=1, IF(COUNTRY_INFO!$L55=1, 0,\" \"),\" \"))","v":" "},null,"ALB",{"$f":"IF($L55=\"ALB\", IF(INTRO!$E$39=\"Non endémique\",IF($H55<>0,$D55*($H55-$G55),0),$D55*$H55), 0)","v":0},0,null,0,{"$f":"IF($L55=\"MBD\", IF(INTRO!$E$39=\"Non endémique\",IF($H55<>0,$D55*($H55-$G55),0),$D55*$H55),0)","v":0},0,null,0,null,0,0,null,0,0,null,0,0]
[{"$f":"IF(AND(INTRO!$E$37=\"Non endémique\",INTRO!$E$41=\"Non endémique\"),\" \",IF(COUNTRY_INFO!A56=0,\" \",COUNTRY_INFO!A56))","v":"Angola"},{"$f":"IF(AND(INTRO!$E$37=\"Non endémique\",INTRO!$E$41=\"Non endémique\"),\" \",IF(COUNTRY_INFO!B56=0,\" \",COUNTRY_INFO!B56))","v":"HUILA"},{"$f":"IF(AND(INTRO!$E$37=\"Non endémique\",INTRO!$E$41=\"Non endémique\"),\" \",IF(COUNTRY_INFO!C56=0,\" \",COUNTRY_INFO!C56))","v":"CACULA"},{"$f":"IF(AND(INTRO!$E$37=\"Non endémique\",INTRO!$E$41=\"Non endémique\"),0,IF(AND(OR(COUNTRY_INFO!$H56=0,COUNTRY_INFO!$H56=4,COUNTRY_INFO!$H56=99),OR(COUNTRY_INFO!$J56=0,COUNTRY_INFO!$J56=4)),0,COUNTRY_INFO!$E56))","v":0},{"$f":"IF(AND(INTRO!$E$37=\"Non endémique\",INTRO!$E$41=\"Non endémique\"),0,IF(AND(OR(COUNTRY_INFO!$H56=0,COUNTRY_INFO!$H56=4,COUNTRY_INFO!$H56=99),OR(COUNTRY_INFO!$J56=0,COUNTRY_INFO!$J56=4)),0,COUNTRY_INFO!$F56))","v":0},0,{"$f":"IF(AND(INTRO!$E$37=\"Non endémique\",INTRO!$E$41=\"Non endémique\"),0,COUNTRY_INFO!Q56)","v":0},{"$f":"IF(AND(INTRO!$E$37=\"Non endémique\",INTRO!$E$41=\"Non endémique\"),0,COUNTRY_INFO!S56)","v":0},{"$f":"IF($G56=1,IVM!$G56,0)","v":0},{"$f":"IF($G56=0, \" \", IF(COUNTRY_INFO!$H56=1, IF(COUNTRY_INFO!$L56=1, 0,\" \"),\" \"))","v":" "},null,"ALB",{"$f":"IF($L56=\"ALB\", IF(INTRO!$E$39=\"Non endémique\",IF($H56<>0,$D56*($H56-$G56),0),$D56*$H56), 0)","v":0},0,null,0,{"$f":"IF($L56=\"MBD\", IF(INTRO!$E$39=\"Non endémique\",IF($H56<>0,$D56*($H56-$G56),0),$D56*$H56),0)","v":0},0,null,0,null,0,0,null,0,0,null,0,0]
[{"$f":"IF(AND(INTRO!$E$37=\"Non endémique\",INTRO!$E$41=\"Non endémique\"),\" \",IF(COUNTRY_INFO!A57=0,\" \",COUNTRY_INFO!A57))","v":"Angola"},{"$f":"IF(AND(INTRO!$E$37=\"Non endémique\",INTRO!$E$41=\"Non endémique\"),\" \",IF(COUNTRY_INFO!B57=0,\" \",COUNTRY_INFO!B57))","v":"HUILA"},{"$f":"IF(AND(INTRO!$E$37=\"Non endémique\",INTRO!$E$41=\"Non endémique\"),\" \",IF(COUNTRY_INFO!C57=0,\" \",COUNTRY_INFO!C57))","v":"CALUQUEMBE"},{"$f":"IF(AND(INTRO!$E$37=\"Non endémique\",INTRO!$E$41=\"Non endémique\"),0,IF(AND(OR(COUNTRY_INFO!$H57=0,COUNTRY_INFO!$H57=4,COUNTRY_INFO!$H57=99),OR(COUNTRY_INFO!$J57=0,COUNTRY_INFO!$J57=4)),0,COUNTRY_INFO!$E57))","v":38697},{"$f":"IF(AND(INTRO!$E$37=\"Non endémique\",INTRO!$E$41=\"Non endémique\"),0,IF(AND(OR(COUNTRY_INFO!$H57=0,COUNTRY_INFO!$H57=4,COUNTRY_INFO!$H57=99),OR(COUNTRY_INFO!$J57=0,COUNTRY_INFO!$J57=4)),0,COUNTRY_INFO!$F57))","v":67478},106175,{"$f":"IF(AND(INTRO!$E$37=\"Non endémique\",INTRO!$E$41=\"Non endémique\"),0,COUNTRY_INFO!Q57)","v":0},{"$f":"IF(AND(INTRO!$E$37=\"Non endémique\",INTRO!$E$41=\"Non endémique\"),0,COUNTRY_INFO!S57)","v":0},{"$f":"IF($G57=1,IVM!$G57,0)","v":0},{"$f":"IF($G57=0, \" \", IF(COUNTRY_INFO!$H57=1, IF(COUNTRY_INFO!$L57=1, 0,\" \"),\" \"))","v":" "},null,"ALB",{"$f":"IF($L57=\"ALB\", IF(INTRO!$E$39=\"Non endémique\",IF($H57<>0,$D57*($H57-$G57),0),$D57*$H57), 0)","v":0},0,null,0,{"$f":"IF($L57=\"MBD\", IF(INTRO!$E$39=\"Non endémique\",IF($H57<>0,$D57*($H57-$G57),0),$D57*$H57),0)","v":0},0,null,0,null,0,0,null,0,0,null,0,0]
[{"$f":"IF(AND(INTRO!$E$37=\"Non endémique\",INTRO!$E$41=\"Non endémique\"),\" \",IF(COUNTRY_INFO!A58=0,\" \",COUNTRY_INFO!A58))","v":"Angola"},{"$f":"IF(AND(INTRO!$E$37=\"Non endémique\",INTRO!$E$41=\"Non endémique\"),\" \",IF(COUNTRY_INFO!B58=0,\" \",COUNTRY_INFO!B58))","v":"HUILA"},{"$f":"IF(AND(INTRO!$E$37=\"Non endémique\",INTRO!$E$41=\"Non endémique\"),\" \",IF(COUNTRY_INFO!C58=0,\" \",COUNTRY_INFO!C58))","v":"CHIBIA"},{"$f":"IF(AND(INTRO!$E$37=\"Non endémique\",INTRO!$E$41=\"Non endémique\"),0,IF(AND(OR(COUNTRY_INFO!$H58=0,COUNTRY_INFO!$H58=4,COUNTRY_INFO!$H58=99),OR(COUNTRY_INFO!$J58=0,COUNTRY_INFO!$J58=4)),0,COUNTRY_INFO!$E58))","v":0},{"$f":"IF(AND(INTRO!$E$37=\"Non endémique\",INTRO!$E$41=\"Non endémique\"),0,IF(AND(OR(COUNTRY_INFO!$H58=0,COUNTRY_INFO!$H58=4,COUNTRY_INFO!$H58=99),OR(COUNTRY_INFO!$J58=0,COUNTRY_INFO!$J58=4)),0,COUNTRY_INFO!$F58))","v":0},0,{"$f":"IF(AND(INTRO!$E$37=\"Non endémique\",INTRO!$E$41=\"Non endémique\"),0,COUNTRY_INFO!Q58)","v":0},{"$f":"IF(AND(INTRO!$E$37=\"Non endémique\",INTRO!$E$41=\"Non endémique\"),0,COUNTRY_INFO!S58)","v":0},{"$f":"IF($G58=1,IVM!$G58,0)","v":0},{"$f":"IF($G58=0, \" \", IF(COUNTRY_INFO!$H58=1, IF(COUNTRY_INFO!$L58=1, 0,\" \"),\" \"))","v":" "},null,"ALB",{"$f":"IF($L58=\"ALB\", IF(INTRO!$E$39=\"Non endémique\",IF($H58<>0,$D58*($H58-$G58),0),$D58*$H58), 0)","v":0},0,null,0,{"$f":"IF($L58=\"MBD\", IF(INTRO!$E$39=\"Non endémique\",IF($H58<>0,$D58*($H58-$G58),0),$D58*$H58),0)","v":0},0,null,0,null,0,0,null,0,0,null,0,0]
[{"$f":"IF(AND(INTRO!$E$37=\"Non endémique\",INTRO!$E$41=\"Non endémique\"),\" \",IF(COUNTRY_INFO!A59=0,\" \",COUNTRY_INFO!A59))","v":"Angola"},{"$f":"IF(AND(INTRO!$E$37=\"Non endémique\",INTRO!$E$41=\"Non endémique\"),\" \",IF(COUNTRY_INFO!B59=0,\" \",COUNTRY_INFO!B59))","v":"HUILA"},{"$f":"IF(AND(INTRO!$E$37=\"Non endémique\",INTRO!$E$41=\"Non endémique\"),\" \",IF(COUNTRY_INFO!C59=0,\" \",COUNTRY_INFO!C59))","v":"CHICOMBA"},{"$f":"IF(AND(INTRO!$E$37=\"Non endémique\",INTRO!$E$41=\"Non endémique\"),0,IF(AND(OR(COUNTRY_INFO!$H59=0,COUNTRY_INFO!$H59=4,COUNTRY_INFO!$H59=99),OR(COUNTRY_INFO!$J59=0,COUNTRY_INFO!$J59=4)),0,COUNTRY_INFO!$E59))","v":0},{"$f":"IF(AND(INTRO!$E$37=\"Non endémique\",INTRO!$E$41=\"Non endémique\"),0,IF(AND(OR(COUNTRY_INFO!$H59=0,COUNTRY_INFO!$H59=4,COUNTRY_INFO!$H59=99),OR(COUNTRY_INFO!$J59=0,COUNTRY_INFO!$J59=4)),0,COUNTRY_INFO!$F59))","v":0},0,{"$f":"IF(AND(INTRO!$E$37=\"Non endémique\",INTRO!$E$41=\"Non endémique\"),0,COUNTRY_INFO!Q59)","v":0},{"$f":"IF(AND(INTRO!$E$37=\"Non endémique\",INTRO!$E$41=\"Non endémique\"),0,COUNTRY_INFO!S59)","v":0},{"$f":"IF($G59=1,IVM!$G59,0)","v":0},{"$f":"IF($G59=0, \" \", IF(COUNTRY_INFO!$H59=1, IF(COUNTRY_INFO!$L59=1, 0,\" \"),\" \"))","v":" "},null,"ALB",{"$f":"IF($L59=\"ALB\", IF(INTRO!$E$39=\"Non endémique\",IF($H59<>0,$D59*($H59-$G59),0),$D59*$H59), 0)","v":0},0,null,0,{"$f":"IF($L59=\"MBD\", IF(INTRO!$E$39=\"Non endémique\",IF($H59<>0,$D59*($H59-$G59),0),$D59*$H59),0)","v":0},0,null,0,null,0,0,null,0,0,null,0,0]
[{"$f":"IF(AND(INTRO!$E$37=\"Non endémique\",INTRO!$E$41=\"Non endémique\"),\" \",IF(COUNTRY_INFO!A60=0,\" \",COUNTRY_INFO!A60))","v":"Angola"},{"$f":"IF(AND(INTRO!$E$37=\"Non endémique\",INTRO!$E$41=\"Non endémique\"),\" \",IF(COUNTRY_INFO!B60=0,\" \",COUNTRY_INFO!B60))","v":"HUILA"},{"$f":"IF(AND(INTRO!$E$37=\"Non endémique\",INTRO!$E$41=\"Non endémique\"),\" \",IF(COUNTRY_INFO!C60=0,\" \",COUNTRY_INFO!C60))","v":"CHIPINDO"},{"$f":"IF(AND(INTRO!$E$37=\"Non endémique\",INTRO!$E$41=\"Non endémique\"),0,IF(AND(OR(COUNTRY_INFO!$H60=0,COUNTRY_INFO!$H60=4,COUNTRY_INFO!$H60=99),OR(COUNTRY_INFO!$J60=0,COUNTRY_INFO!$J60=4)),0,COUNTRY_INFO!$E60))","v":13918},{"$f":"IF(AND(INTRO!$E$37=\"Non endémique\",INTRO!$E$41=\"Non endémique\"),0,IF(AND(OR(COUNTRY_INFO!$H60=0,COUNTRY_INFO!$H60=4,COUNTRY_INFO!$H60=99),OR(COUNTRY_INFO!$J60=0,COUNTRY_INFO!$J60=4)),0,COUNTRY_INFO!$F60))","v":24269},38187,{"$f":"IF(AND(INTRO!$E$37=\"Non endémique\",INTRO!$E$41=\"Non endémique\"),0,COUNTRY_INFO!Q60)","v":1},{"$f":"IF(AND(INTRO!$E$37=\"Non endémique\",INTRO!$E$41=\"Non endémique\"),0,COUNTRY_INFO!S60)","v":0},{"$f":"IF($G60=1,IVM!$G60,0)","v":70111},{"$f":"IF($G60=0, \" \", IF(COUNTRY_INFO!$H60=1, IF(COUNTRY_INFO!$L60=1, 0,\" \"),\" \"))","v":" "},null,"ALB",{"$f":"IF($L60=\"ALB\", IF(INTRO!$E$39=\"Non endémique\",IF($H60<>0,$D60*($H60-$G60),0),$D60*$H60), 0)","v":0},0,null,0,{"$f":"IF($L60=\"MBD\", IF(INTRO!$E$39=\"Non endémique\",IF($H60<>0,$D60*($H60-$G60),0),$D60*$H60),0)","v":0},0,null,0,null,70111,351,null,0,0,null,0,0]
[{"$f":"IF(AND(INTRO!$E$37=\"Non endémique\",INTRO!$E$41=\"Non endémique\"),\" \",IF(COUNTRY_INFO!A61=0,\" \",COUNTRY_INFO!A61))","v":"Angola"},{"$f":"IF(AND(INTRO!$E$37=\"Non endémique\",INTRO!$E$41=\"Non endémique\"),\" \",IF(COUNTRY_INFO!B61=0,\" \",COUNTRY_INFO!B61))","v":"HUILA"},{"$f":"IF(AND(INTRO!$E$37=\"Non endémique\",INTRO!$E$41=\"Non endémique\"),\" \",IF(COUNTRY_INFO!C61=0,\" \",COUNTRY_INFO!C61))","v":"GAMBOS"},{"$f":"IF(AND(INTRO!$E$37=\"Non endémique\",INTRO!$E$41=\"Non endémique\"),0,IF(AND(OR(COUNTRY_INFO!$H61=0,COUNTRY_INFO!$H61=4,COUNTRY_INFO!$H61=99),OR(COUNTRY_INFO!$J61=0,COUNTRY_INFO!$J61=4)),0,COUNTRY_INFO!$E61))","v":0},{"$f":"IF(AND(INTRO!$E$37=\"Non endémique\",INTRO!$E$41=\"Non endémique\"),0,IF(AND(OR(COUNTRY_INFO!$H61=0,COUNTRY_INFO!$H61=4,COUNTRY_INFO!$H61=99),OR(COUNTRY_INFO!$J61=0,COUNTRY_INFO!$J61=4)),0,COUNTRY_INFO!$F61))","v":0},0,{"$f":"IF(AND(INTRO!$E$37=\"Non endémique\",INTRO!$E$41=\"Non endémique\"),0,COUNTRY_INFO!Q61)","v":0},{"$f":"IF(AND(INTRO!$E$37=\"Non endémique\",INTRO!$E$41=\"Non endémique\"),0,COUNTRY_INFO!S61)","v":0},{"$f":"IF($G61=1,IVM!$G61,0)","v":0},{"$f":"IF($G61=0, \" \", IF(COUNTRY_INFO!$H61=1, IF(COUNTRY_INFO!$L61=1, 0,\" \"),\" \"))","v":" "},null,"ALB",{"$f":"IF($L61=\"ALB\", IF(INTRO!$E$39=\"Non endémique\",IF($H61<>0,$D61*($H61-$G61),0),$D61*$H61), 0)","v":0},0,null,0,{"$f":"IF($L61=\"MBD\", IF(INTRO!$E$39=\"Non endémique\",IF($H61<>0,$D61*($H61-$G61),0),$D61*$H61),0)","v":0},0,null,0,null,0,0,null,0,0,null,0,0]
[{"$f":"IF(AND(INTRO!$E$37=\"Non endémique\",INTRO!$E$41=\"Non endémique\"),\" \",IF(COUNTRY_INFO!A62=0,\" \",COUNTRY_INFO!A62))","v":"Angola"},{"$f":"IF(AND(INTRO!$E$37=\"Non endémique\",INTRO!$E$41=\"Non endémique\"),\" \",IF(COUNTRY_INFO!B62=0,\" \",COUNTRY_INFO!B62))","v":"HUILA"},{"$f":"IF(AND(INTRO!$E$37=\"Non endémique\",INTRO!$E$41=\"Non endémique\"),\" \",IF(COUNTRY_INFO!C62=0,\" \",COUNTRY_INFO!C62))","v":"HUMPATA"},{"$f":"IF(AND(INTRO!$E$37=\"Non endémique\",INTRO!$E$41=\"Non endémique\"),0,IF(AND(OR(COUNTRY_INFO!$H62=0,COUNTRY_INFO!$H62=4,COUNTRY_INFO!$H62=99),OR(COUNTRY_INFO!$J62=0,COUNTRY_INFO!$J62=4)),0,COUNTRY_INFO!$E62))","v":19172},{"$f":"IF(AND(INTRO!$E$37=\"Non endémique\",INTRO!$E$41=\"Non endémique\"),0,IF(AND(OR(COUNTRY_INFO!$H62=0,COUNTRY_INFO!$H62=4,COUNTRY_INFO!$H62=99),OR(COUNTRY_INFO!$J62=0,COUNTRY_INFO!$J62=4)),0,COUNTRY_INFO!$F62))","v":33431},52603,{"$f":"IF(AND(INTRO!$E$37=\"Non endémique\",INTRO!$E$41=\"Non endémique\"),0,COUNTRY_INFO!Q62)","v":0},{"$f":"IF(AND(INTRO!$E$37=\"Non endémique\",INTRO!$E$41=\"Non endémique\"),0,COUNTRY_INFO!S62)","v":0},{"$f":"IF($G62=1,IVM!$G62,0)","v":0},{"$f":"IF($G62=0, \" \", IF(COUNTRY_INFO!$H62=1, IF(COUNTRY_INFO!$L62=1, 0,\" \"),\" \"))","v":" "},null,"ALB",{"$f":"IF($L62=\"ALB\", IF(INTRO!$E$39=\"Non endémique\",IF($H62<>0,$D62*($H62-$G62),0),$D62*$H62), 0)","v":0},0,null,0,{"$f":"IF($L62=\"MBD\", IF(INTRO!$E$39=\"Non endémique\",IF($H62<>0,$D62*($H62-$G62),0),$D62*$H62),0)","v":0},0,null,0,null,0,0,null,0,0,null,0,0]
[{"$f":"IF(AND(INTRO!$E$37=\"Non endémique\",INTRO!$E$41=\"Non endémique\"),\" \",IF(COUNTRY_INFO!A63=0,\" \",COUNTRY_INFO!A63))","v":"Angola"},{"$f":"IF(AND(INTRO!$E$37=\"Non endémique\",INTRO!$E$41=\"Non endémique\"),\" \",IF(COUNTRY_INFO!B63=0,\" \",COUNTRY_INFO!B63))","v":"HUILA"},{"$f":"IF(AND(INTRO!$E$37=\"Non endémique\",INTRO!$E$41=\"Non endémique\"),\" \",IF(COUNTRY_INFO!C63=0,\" \",COUNTRY_INFO!C63))","v":"JAMBA"},{"$f":"IF(AND(INTRO!$E$37=\"Non endémique\",INTRO!$E$41=\"Non endémique\"),0,IF(AND(OR(COUNTRY_INFO!$H63=0,COUNTRY_INFO!$H63=4,COUNTRY_INFO!$H63=99),OR(COUNTRY_INFO!$J63=0,COUNTRY_INFO!$J63=4)),0,COUNTRY_INFO!$E63))","v":22601},{"$f":"IF(AND(INTRO!$E$37=\"Non endémique\",INTRO!$E$41=\"Non endémique\"),0,IF(AND(OR(COUNTRY_INFO!$H63=0,COUNTRY_INFO!$H63=4,COUNTRY_INFO!$H63=99),OR(COUNTRY_INFO!$J63=0,COUNTRY_INFO!$J63=4)),0,COUNTRY_INFO!$F63))","v":39411},62012,{"$f":"IF(AND(INTRO!$E$37=\"Non endémique\",INTRO!$E$41=\"Non endémique\"),0,COUNTRY_INFO!Q63)","v":1},{"$f":"IF(AND(INTRO!$E$37=\"Non endémique\",INTRO!$E$41=\"Non endémique\"),0,COUNTRY_INFO!S63)","v":0},{"$f":"IF($G63=1,IVM!$G63,0)","v":113854},{"$f":"IF($G63=0, \" \", IF(COUNTRY_INFO!$H63=1, IF(COUNTRY_INFO!$L63=1, 0,\" \"),\" \"))","v":" "},null,"ALB",{"$f":"IF($L63=\"ALB\", IF(INTRO!$E$39=\"Non endémique\",IF($H63<>0,$D63*($H63-$G63),0),$D63*$H63), 0)","v":0},0,null,0,{"$f":"IF($L63=\"MBD\", IF(INTRO!$E$39=\"Non endémique\",IF($H63<>0,$D63*($H63-$G63),0),$D63*$H63),0)","v":0},0,null,0,null,113854,570,null,0,0,null,0,0]
[{"$f":"IF(AND(INTRO!$E$37=\"Non endémique\",INTRO!$E$41=\"Non endémique\"),\" \",IF(COUNTRY_INFO!A64=0,\" \",COUNTRY_INFO!A64))","v":"Angola"},{"$f":"IF(AND(INTRO!$E$37=\"Non endémique\",INTRO!$E$41=\"Non endémique\"),\" \",IF(COUNTRY_INFO!B64=0,\" \",COUNTRY_INFO!B64))","v":"HUILA"},{"$f":"IF(AND(INTRO!$E$37=\"Non endémique\",INTRO!$E$41=\"Non endémique\"),\" \",IF(COUNTRY_INFO!C64=0,\" \",COUNTRY_INFO!C64))","v":"CUVANGO"},{"$f":"IF(AND(INTRO!$E$37=\"Non endémique\",INTRO!$E$41=\"Non endémique\"),0,IF(AND(OR(COUNTRY_INFO!$H64=0,COUNTRY_INFO!$H64=4,COUNTRY_INFO!$H64=99),OR(COUNTRY_INFO!$J64=0,COUNTRY_INFO!$J64=4)),0,COUNTRY_INFO!$E64))","v":16892},{"$f":"IF(AND(INTRO!$E$37=\"Non endémique\",INTRO!$E$41=\"Non endémique\"),0,IF(AND(OR(COUNTRY_INFO!$H64=0,COUNTRY_INFO!$H64=4,COUNTRY_INFO!$H64=99),OR(COUNTRY_INFO!$J64=0,COUNTRY_INFO!$J64=4)),0,COUNTRY_INFO!$F64))","v":29455},46347,{"$f":"IF(AND(INTRO!$E$37=\"Non endémique\",INTRO!$E$41=\"Non endémique\"),0,COUNTRY_INFO!Q64)","v":1},{"$f":"IF(AND(INTRO!$E$37=\"Non endémique\",INTRO!$E$41=\"Non endémique\"),0,COUNTRY_INFO!S64)","v":0},{"$f":"IF($G64=1,IVM!$G64,0)","v":4415},80678,2,"ALB",{"$f":"IF($L64=\"ALB\", IF(INTRO!$E$39=\"Non endémique\",IF($H64<>0,$D64*($H64-$G64),0),$D64*$H64), 0)","v":0},0,null,0,{"$f":"IF($L64=\"MBD\", IF(INTRO!$E$39=\"Non endémique\",IF($H64<>0,$D64*($H64-$G64),0),$D64*$H64),0)","v":0},0,null,0,null,165771,829,null,0,0,null,0,0]
[{"$f":"IF(AND(INTRO!$E$37=\"Non endémique\",INTRO!$E$41=\"Non endémique\"),\" \",IF(COUNTRY_INFO!A65=0,\" \",COUNTRY_INFO!A65))","v":"Angola"},{"$f":"IF(AND(INTRO!$E$37=\"Non endémique\",INTRO!$E$41=\"Non endémique\"),\" \",IF(COUNTRY_INFO!B65=0,\" \",COUNTRY_INFO!B65))","v":"HUILA"},{"$f":"IF(AND(INTRO!$E$37=\"Non endémique\",INTRO!$E$41=\"Non endémique\"),\" \",IF(COUNTRY_INFO!C65=0,\" \",COUNTRY_INFO!C65))","v":"LUBANGO"},{"$f":"IF(AND(INTRO!$E$37=\"Non endémique\",INTRO!$E$41=\"Non endémique\"),0,IF(AND(OR(COUNTRY_INFO!$H65=0,COUNTRY_INFO!$H65=4,COUNTRY_INFO!$H65=99),OR(COUNTRY_INFO!$J65=0,COUNTRY_INFO!$J65=4)),0,COUNTRY_INFO!$E65))","v":166944},{"$f":"IF(AND(INTRO!$E$37=\"Non endémique\",INTRO!$E$41=\"Non endémique\"),0,IF(AND(OR(COUNTRY_INFO!$H65=0,COUNTRY_INFO!$H65=4,COUNTRY_INFO!$H65=99),OR(COUNTRY_INFO!$J65=0,COUNTRY_INFO!$J65=4)),0,COUNTRY_INFO!$F65))","v":291109},458053,{"$f":"IF(AND(INTRO!$E$37=\"Non endémique\",INTRO!$E$41=\"Non endémique\"),0,COUNTRY_INFO!Q65)","v":0},{"$f":"IF(AND(INTRO!$E$37=\"Non endémique\",INTRO!$E$41=\"Non endémique\"),0,COUNTRY_INFO!S65)","v":0},{"$f":"IF($G65=1,IVM!$G65,0)","v":0},{"$f":"IF($G65=0, \" \", IF(COUNTRY_INFO!$H65=1, IF(COUNTRY_INFO!$L65=1, 0,\" \"),\" \"))","v":" "},null,"ALB",{"$f":"IF($L65=\"ALB\", IF(INTRO!$E$39=\"Non endémique\",IF($H65<>0,$D65*($H65-$G65),0),$D65*$H65), 0)","v":0},0,null,0,{"$f":"IF($L65=\"MBD\", IF(INTRO!$E$39=\"Non endémique\",IF($H65<>0,$D65*($H65-$G65),0),$D65*$H65),0)","v":0},0,null,0,null,0,0,null,0,0,null,0,0]
[{"$f":"IF(AND(INTRO!$E$37=\"Non endémique\",INTRO!$E$41=\"Non endémique\"),\" \",IF(COUNTRY_INFO!A66=0,\" \",COUNTRY_INFO!A66))","v":"Angola"},{"$f":"IF(AND(INTRO!$E$37=\"Non endémique\",INTRO!$E$41=\"Non endémique\"),\" \",IF(COUNTRY_INFO!B66=0,\" \",COUNTRY_INFO!B66))","v":"HUILA"},{"$f":"IF(AND(INTRO!$E$37=\"Non endémique\",INTRO!$E$41=\"Non endémique\"),\" \",IF(COUNTRY_INFO!C66=0,\" \",COUNTRY_INFO!C66))","v":"MATALA"},{"$f":"IF(AND(INTRO!$E$37=\"Non endémique\",INTRO!$E$41=\"Non endémique\"),0,IF(AND(OR(COUNTRY_INFO!$H66=0,COUNTRY_INFO!$H66=4,COUNTRY_INFO!$H66=99),OR(COUNTRY_INFO!$J66=0,COUNTRY_INFO!$J66=4)),0,COUNTRY_INFO!$E66))","v":56511},{"$f":"IF(AND(INTRO!$E$37=\"Non endémique\",INTRO!$E$41=\"Non endémique\"),0,IF(AND(OR(COUNTRY_INFO!$H66=0,COUNTRY_INFO!$H66=4,COUNTRY_INFO!$H66=99),OR(COUNTRY_INFO!$J66=0,COUNTRY_INFO!$J66=4)),0,COUNTRY_INFO!$F66))","v":98542},155053,{"$f":"IF(AND(INTRO!$E$37=\"Non endémique\",INTRO!$E$41=\"Non endémique\"),0,COUNTRY_INFO!Q66)","v":0},{"$f":"IF(AND(INTRO!$E$37=\"Non endémique\",INTRO!$E$41=\"Non endémique\"),0,COUNTRY_INFO!S66)","v":0},{"$f":"IF($G66=1,IVM!$G66,0)","v":0},{"$f":"IF($G66=0, \" \", IF(COUNTRY_INFO!$H66=1, IF(COUNTRY_INFO!$L66=1, 0,\" \"),\" \"))","v":" "},null,"ALB",{"$f":"IF($L66=\"ALB\", IF(INTRO!$E$39=\"Non endémique\",IF($H66<>0,$D66*($H66-$G66),0),$D66*$H66), 0)","v":0},0,null,0,{"$f":"IF($L66=\"MBD\", IF(INTRO!$E$39=\"Non endémique\",IF($H66<>0,$D66*($H66-$G66),0),$D66*$H66),0)","v":0},0,null,0,null,0,0,null,0,0,null,0,0]
[{"$f":"IF(AND(INTRO!$E$37=\"Non endémique\",INTRO!$E$41=\"Non endémique\"),\" \",IF(COUNTRY_INFO!A67=0,\" \",COUNTRY_INFO!A67))","v":"Angola"},{"$f":"IF(AND(INTRO!$E$37=\"Non endémique\",INTRO!$E$41=\"Non endémique\"),\" \",IF(COUNTRY_INFO!B67=0,\" \",COUNTRY_INFO!B67))","v":"HUILA"},{"$f":"IF(AND(INTRO!$E$37=\"Non endémique\",INTRO!$E$41=\"Non endémique\"),\" \",IF(COUNTRY_INFO!C67=0,\" \",COUNTRY_INFO!C67))","v":"QUILENGUES"},{"$f":"IF(AND(INTRO!$E$37=\"Non endémique\",INTRO!$E$41=\"Non endémique\"),0,IF(AND(OR(COUNTRY_INFO!$H67=0,COUNTRY_INFO!$H67=4,COUNTRY_INFO!$H67=99),OR(COUNTRY_INFO!$J67=0,COUNTRY_INFO!$J67=4)),0,COUNTRY_INFO!$E67))","v":0},{"$f":"IF(AND(INTRO!$E$37=\"Non endémique\",INTRO!$E$41=\"Non endémique\"),0,IF(AND(OR(COUNTRY_INFO!$H67=0,COUNTRY_INFO!$H67=4,COUNTRY_INFO!$H67=99),OR(COUNTRY_INFO!$J67=0,COUNTRY_INFO!$J67=4)),0,COUNTRY_INFO!$F67))","v":0},0,{"$f":"IF(AND(INTRO!$E$37=\"Non endémique\",INTRO!$E$41=\"Non endémique\"),0,COUNTRY_INFO!Q67)","v":0},{"$f":"IF(AND(INTRO!$E$37=\"Non endémique\",INTRO!$E$41=\"Non endémique\"),0,COUNTRY_INFO!S67)","v":0},{"$f":"IF($G67=1,IVM!$G67,0)","v":0},{"$f":"IF($G67=0, \" \", IF(COUNTRY_INFO!$H67=1, IF(COUNTRY_INFO!$L67=1, 0,\" \"),\" \"))","v":" "},null,"ALB",{"$f":"IF($L67=\"ALB\", IF(INTRO!$E$39=\"Non endémique\",IF($H67<>0,$D67*($H67-$G67),0),$D67*$H67), 0)","v":0},0,null,0,{"$f":"IF($L67=\"MBD\", IF(INTRO!$E$39=\"Non endémique\",IF($H67<>0,$D67*($H67-$G67),0),$D67*$H67),0)","v":0},0,null,0,null,0,0,null,0,0,null,0,0]
[{"$f":"IF(AND(INTRO!$E$37=\"Non endémique\",INTRO!$E$41=\"Non endémique\"),\" \",IF(COUNTRY_INFO!A68=0,\" \",COUNTRY_INFO!A68))","v":"Angola"},{"$f":"IF(AND(INTRO!$E$37=\"Non endémique\",INTRO!$E$41=\"Non endémique\"),\" \",IF(COUNTRY_INFO!B68=0,\" \",COUNTRY_INFO!B68))","v":"HUILA"},{"$f":"IF(AND(INTRO!$E$37=\"Non endémique\",INTRO!$E$41=\"Non endémique\"),\" \",IF(COUNTRY_INFO!C68=0,\" \",COUNTRY_INFO!C68))","v":"QUIPUNGO"},{"$f":"IF(AND(INTRO!$E$37=\"Non endémique\",INTRO!$E$41=\"Non endémique\"),0,IF(AND(OR(COUNTRY_INFO!$H68=0,COUNTRY_INFO!$H68=4,COUNTRY_INFO!$H68=99),OR(COUNTRY_INFO!$J68=0,COUNTRY_INFO!$J68=4)),0,COUNTRY_INFO!$E68))","v":34178},{"$f":"IF(AND(INTRO!$E$37=\"Non endémique\",INTRO!$E$41=\"Non endémique\"),0,IF(AND(OR(COUNTRY_INFO!$H68=0,COUNTRY_INFO!$H68=4,COUNTRY_INFO!$H68=99),OR(COUNTRY_INFO!$J68=0,COUNTRY_INFO!$J68=4)),0,COUNTRY_INFO!$F68))","v":59598},93776,{"$f":"IF(AND(INTRO!$E$37=\"Non endémique\",INTRO!$E$41=\"Non endémique\"),0,COUNTRY_INFO!Q68)","v":0},{"$f":"IF(AND(INTRO!$E$37=\"Non endémique\",INTRO!$E$41=\"Non endémique\"),0,COUNTRY_INFO!S68)","v":0},{"$f":"IF($G68=1,IVM!$G68,0)","v":0},{"$f":"IF($G68=0, \" \", IF(COUNTRY_INFO!$H68=1, IF(COUNTRY_INFO!$L68=1, 0,\" \"),\" \"))","v":" "},null,"ALB",{"$f":"IF($L68=\"ALB\", IF(INTRO!$E$39=\"Non endémique\",IF($H68<>0,$D68*($H68-$G68),0),$D68*$H68), 0)","v":0},0,null,0,{"$f":"IF($L68=\"MBD\", IF(INTRO!$E$39=\"Non endémique\",IF($H68<>0,$D68*($H68-$G68),0),$D68*$H68),0)","v":0},0,null,0,null,0,0,null,0,0,null,0,0]
[{"$f":"IF(AND(INTRO!$E$37=\"Non endémique\",INTRO!$E$41=\"Non endémique\"),\" \",IF(COUNTRY_INFO!A69=0,\" \",COUNTRY_INFO!A69))","v":"Angola"},{"$f":"IF(AND(INTRO!$E$37=\"Non endémique\",INTRO!$E$41=\"Non endémique\"),\" \",IF(COUNTRY_INFO!B69=0,\" \",COUNTRY_INFO!B69))","v":"CUANDO CUBANGO"},{"$f":"IF(AND(INTRO!$E$37=\"Non endémique\",INTRO!$E$41=\"Non endémique\"),\" \",IF(COUNTRY_INFO!C69=0,\" \",COUNTRY_INFO!C69))","v":"CALAI"},{"$f":"IF(AND(INTRO!$E$37=\"Non endémique\",INTRO!$E$41=\"Non endémique\"),0,IF(AND(OR(COUNTRY_INFO!$H69=0,COUNTRY_INFO!$H69=4,COUNTRY_INFO!$H69=99),OR(COUNTRY_INFO!$J69=0,COUNTRY_INFO!$J69=4)),0,COUNTRY_INFO!$E69))","v":4851},{"$f":"IF(AND(INTRO!$E$37=\"Non endémique\",INTRO!$E$41=\"Non endémique\"),0,IF(AND(OR(COUNTRY_INFO!$H69=0,COUNTRY_INFO!$H69=4,COUNTRY_INFO!$H69=99),OR(COUNTRY_INFO!$J69=0,COUNTRY_INFO!$J69=4)),0,COUNTRY_INFO!$F69))","v":8459},13310,{"$f":"IF(AND(INTRO!$E$37=\"Non endémique\",INTRO!$E$41=\"Non endémique\"),0,COUNTRY_INFO!Q69)","v":0},{"$f":"IF(AND(INTRO!$E$37=\"Non endémique\",INTRO!$E$41=\"Non endémique\"),0,COUNTRY_INFO!S69)","v":0},{"$f":"IF($G69=1,IVM!$G69,0)","v":0},{"$f":"IF($G69=0, \" \", IF(COUNTRY_INFO!$H69=1, IF(COUNTRY_INFO!$L69=1, 0,\" \"),\" \"))","v":" "},null,"ALB",{"$f":"IF($L69=\"ALB\", IF(INTRO!$E$39=\"Non endémique\",IF($H69<>0,$D69*($H69-$G69),0),$D69*$H69), 0)","v":0},0,null,0,{"$f":"IF($L69=\"MBD\", IF(INTRO!$E$39=\"Non endémique\",IF($H69<>0,$D69*($H69-$G69),0),$D69*$H69),0)","v":0},0,null,0,null,0,0,null,0,0,null,0,0]
[{"$f":"IF(AND(INTRO!$E$37=\"Non endémique\",INTRO!$E$41=\"Non endémique\"),\" \",IF(COUNTRY_INFO!A70=0,\" \",COUNTRY_INFO!A70))","v":"Angola"},{"$f":"IF(AND(INTRO!$E$37=\"Non endémique\",INTRO!$E$41=\"Non endémique\"),\" \",IF(COUNTRY_INFO!B70=0,\" \",COUNTRY_INFO!B70))","v":"CUANDO CUBANGO"},{"$f":"IF(AND(INTRO!$E$37=\"Non endémique\",INTRO!$E$41=\"Non endémique\"),\" \",IF(COUNTRY_INFO!C70=0,\" \",COUNTRY_INFO!C70))","v":"CUANGAR"},{"$f":"IF(AND(INTRO!$E$37=\"Non endémique\",INTRO!$E$41=\"Non endémique\"),0,IF(AND(OR(COUNTRY_INFO!$H70=0,COUNTRY_INFO!$H70=4,COUNTRY_INFO!$H70=99),OR(COUNTRY_INFO!$J70=0,COUNTRY_INFO!$J70=4)),0,COUNTRY_INFO!$E70))","v":6094},{"$f":"IF(AND(INTRO!$E$37=\"Non endémique\",INTRO!$E$41=\"Non endémique\"),0,IF(AND(OR(COUNTRY_INFO!$H70=0,COUNTRY_INFO!$H70=4,COUNTRY_INFO!$H70=99),OR(COUNTRY_INFO!$J70=0,COUNTRY_INFO!$J70=4)),0,COUNTRY_INFO!$F70))","v":10626},16720,{"$f":"IF(AND(INTRO!$E$37=\"Non endémique\",INTRO!$E$41=\"Non endémique\"),0,COUNTRY_INFO!Q70)","v":0},{"$f":"IF(AND(INTRO!$E$37=\"Non endémique\",INTRO!$E$41=\"Non endémique\"),0,COUNTRY_INFO!S70)","v":0},{"$f":"IF($G70=1,IVM!$G70,0)","v":0},{"$f":"IF($G70=0, \" \", IF(COUNTRY_INFO!$H70=1, IF(COUNTRY_INFO!$L70=1, 0,\" \"),\" \"))","v":" "},null,"ALB",{"$f":"IF($L70=\"ALB\", IF(INTRO!$E$39=\"Non endémique\",IF($H70<>0,$D70*($H70-$G70),0),$D70*$H70), 0)","v":0},0,null,0,{"$f":"IF($L70=\"MBD\", IF(INTRO!$E$39=\"Non endémique\",IF($H70<>0,$D70*($H70-$G70),0),$D70*$H70),0)","v":0},0,null,0,null,0,0,null,0,0,null,0,0]
[{"$f":"IF(AND(INTRO!$E$37=\"Non endémique\",INTRO!$E$41=\"Non endémique\"),\" \",IF(COUNTRY_INFO!A71=0,\" \",COUNTRY_INFO!A71))","v":"Angola"},{"$f":"IF(AND(INTRO!$E$37=\"Non endémique\",INTRO!$E$41=\"Non endémique\"),\" \",IF(COUNTRY_INFO!B71=0,\" \",COUNTRY_INFO!B71))","v":"CUANDO CUBANGO"},{"$f":"IF(AND(INTRO!$E$37=\"Non endémique\",INTRO!$E$41=\"Non endémique\"),\" \",IF(COUNTRY_INFO!C71=0,\" \",COUNTRY_INFO!C71))","v":"CUCHI"},{"$f":"IF(AND(INTRO!$E$37=\"Non endémique\",INTRO!$E$41=\"Non endémique\"),0,IF(AND(OR(COUNTRY_INFO!$H71=0,COUNTRY_INFO!$H71=4,COUNTRY_INFO!$H71=99),OR(COUNTRY_INFO!$J71=0,COUNTRY_INFO!$J71=4)),0,COUNTRY_INFO!$E71))","v":0},{"$f":"IF(AND(INTRO!$E$37=\"Non endémique\",INTRO!$E$41=\"Non endémique\"),0,IF(AND(OR(COUNTRY_INFO!$H71=0,COUNTRY_INFO!$H71=4,COUNTRY_INFO!$H71=99),OR(COUNTRY_INFO!$J71=0,COUNTRY_INFO!$J71=4)),0,COUNTRY_INFO!$F71))","v":0},0,{"$f":"IF(AND(INTRO!$E$37=\"Non endémique\",INTRO!$E$41=\"Non endémique\"),0,COUNTRY_INFO!Q71)","v":0},{"$f":"IF(AND(INTRO!$E$37=\"Non endémique\",INTRO!$E$41=\"Non endémique\"),0,COUNTRY_INFO!S71)","v":0},{"$f":"IF($G71=1,IVM!$G71,0)","v":0},{"$f":"IF($G71=0, \" \", IF(COUNTRY_INFO!$H71=1, IF(COUNTRY_INFO!$L71=1, 0,\" \"),\" \"))","v":" "},null,"ALB",{"$f":"IF($L71=\"ALB\", IF(INTRO!$E$39=\"Non endémique\",IF($H71<>0,$D71*($H71-$G71),0),$D71*$H71), 0)","v":0},0,null,0,{"$f":"IF($L71=\"MBD\", IF(INTRO!$E$39=\"Non endémique\",IF($H71<>0,$D71*($H71-$G71),0),$D71*$H71),0)","v":0},0,null,0,null,0,0,null,0,0,null,0,0]
[{"$f":"IF(AND(INTRO!$E$37=\"Non endémique\",INTRO!$E$41=\"Non endémique\"),\" \",IF(COUNTRY_INFO!A72=0,\" \",COUNTRY_INFO!A72))","v":"Angola"},{"$f":"IF(AND(INTRO!$E$37=\"Non endémique\",INTRO!$E$41=\"Non endémique\"),\" \",IF(COUNTRY_INFO!B72=0,\" \",COUNTRY_INFO!B72))","v":"CUANDO CUBANGO"},{"$f":"IF(AND(INTRO!$E$37=\"Non endémique\",INTRO!$E$41=\"Non endémique\"),\" \",IF(COUNTRY_INFO!C72=0,\" \",COUNTRY_INFO!C72))","v":"DIRICO"},{"$f":"IF(AND(INTRO!$E$37=\"Non endémique\",INTRO!$E$41=\"Non endémique\"),0,IF(AND(OR(COUNTRY_INFO!$H72=0,COUNTRY_INFO!$H72=4,COUNTRY_INFO!$H72=99),OR(COUNTRY_INFO!$J72=0,COUNTRY_INFO!$J72=4)),0,COUNTRY_INFO!$E72))","v":3239},{"$f":"IF(AND(INTRO!$E$37=\"Non endémique\",INTRO!$E$41=\"Non endémique\"),0,IF(AND(OR(COUNTRY_INFO!$H72=0,COUNTRY_INFO!$H72=4,COUNTRY_INFO!$H72=99),OR(COUNTRY_INFO!$J72=0,COUNTRY_INFO!$J72=4)),0,COUNTRY_INFO!$F72))","v":5648},8887,{"$f":"IF(AND(INTRO!$E$37=\"Non endémique\",INTRO!$E$41=\"Non endémique\"),0,COUNTRY_INFO!Q72)","v":0},{"$f":"IF(AND(INTRO!$E$37=\"Non endémique\",INTRO!$E$41=\"Non endémique\"),0,COUNTRY_INFO!S72)","v":0},{"$f":"IF($G72=1,IVM!$G72,0)","v":0},{"$f":"IF($G72=0, \" \", IF(COUNTRY_INFO!$H72=1, IF(COUNTRY_INFO!$L72=1, 0,\" \"),\" \"))","v":" "},null,"ALB",{"$f":"IF($L72=\"ALB\", IF(INTRO!$E$39=\"Non endémique\",IF($H72<>0,$D72*($H72-$G72),0),$D72*$H72), 0)","v":0},0,null,0,{"$f":"IF($L72=\"MBD\", IF(INTRO!$E$39=\"Non endémique\",IF($H72<>0,$D72*($H72-$G72),0),$D72*$H72),0)","v":0},0,null,0,null,0,0,null,0,0,null,0,0]
[{"$f":"IF(AND(INTRO!$E$37=\"Non endémique\",INTRO!$E$41=\"Non endémique\"),\" \",IF(COUNTRY_INFO!A73=0,\" \",COUNTRY_INFO!A73))","v":"Angola"},{"$f":"IF(AND(INTRO!$E$37=\"Non endémique\",INTRO!$E$41=\"Non endémique\"),\" \",IF(COUNTRY_INFO!B73=0,\" \",COUNTRY_INFO!B73))","v":"CUANDO CUBANGO"},{"$f":"IF(AND(INTRO!$E$37=\"Non endémique\",INTRO!$E$41=\"Non endémique\"),\" \",IF(COUNTRY_INFO!C73=0,\" \",COUNTRY_INFO!C73))","v":"CUITO CUANAVALE"},{"$f":"IF(AND(INTRO!$E$37=\"Non endémique\",INTRO!$E$41=\"Non endémique\"),0,IF(AND(OR(COUNTRY_INFO!$H73=0,COUNTRY_INFO!$H73=4,COUNTRY_INFO!$H73=99),OR(COUNTRY_INFO!$J73=0,COUNTRY_INFO!$J73=4)),0,COUNTRY_INFO!$E73))","v":8743},{"$f":"IF(AND(INTRO!$E$37=\"Non endémique\",INTRO!$E$41=\"Non endémique\"),0,IF(AND(OR(COUNTRY_INFO!$H73=0,COUNTRY_INFO!$H73=4,COUNTRY_INFO!$H73=99),OR(COUNTRY_INFO!$J73=0,COUNTRY_INFO!$J73=4)),0,COUNTRY_INFO!$F73))","v":15245},{"$f":"SUM(D73:E73)","v":23988},{"$f":"IF(AND(INTRO!$E$37=\"Non endémique\",INTRO!$E$41=\"Non endémique\"),0,COUNTRY_INFO!Q73)","v":0},{"$f":"IF(AND(INTRO!$E$37=\"Non endémique\",INTRO!$E$41=\"Non endémique\"),0,COUNTRY_INFO!S73)","v":0},{"$f":"IF($G73=1,IVM!$G73,0)","v":0},{"$f":"IF($G73=0, \" \", IF(COUNTRY_INFO!$H73=1, IF(COUNTRY_INFO!$L73=1, 0,\" \"),\" \"))","v":" "},null,"ALB",{"$f":"IF($L73=\"ALB\", IF(INTRO!$E$39=\"Non endémique\",IF($H73<>0,$D73*($H73-$G73),0),$D73*$H73), 0)","v":0},{"$f":"IF($L73=\"ALB\", IF($H73=0, 0, IF(AND($I73=0, OR($J73=0,$J73=\" \")), $E73*$H73, IF(AND($I73=0, $J73>0), IF(($H73-$K73)<=0, 0, $E73*(MAX($H73,$K73)-MIN($H73,$K73))), IF(AND($I73>0, $J73=0), $E73*($H73-$G73), IF($J73=\" \", $E73*($H73-$G73), $J73*$E73/($I73+$J73)*$K73+$I73*$E73/($I73+$J73)*($H73-$G73)))))), 0)","v":0},null,{"$f":"SUM(M73:O73)","v":0},{"$f":"IF($L73=\"MBD\", IF(INTRO!$E$39=\"Non endémique\",IF($H73<>0,$D73*($H73-$G73),0),$D73*$H73),0)","v":0},{"$f":"IF($L73=\"MBD\", IF($H73=0, 0, IF(AND($I73=0, OR($J73=0,$J73=\" \")), $E73*$H73, IF(AND($I73=0, $J73>0), IF(($H73-$K73)<=0, 0, $E73*(MAX($H73,$K73)-MIN($H73,$K73))), IF(AND($I73>0, $J73=0), $E73*($H73-$G73), IF($J73=\" \", $E73*($H73-$G73), $J73*$E73/($I73+$J73)*$K73+$I73*$E73/($I73+$J73)*($H73-$G73)))))), 0)","v":0},null,{"$f":"SUM(Q73:S73)","v":0},null,{"$f":"IF($J73<>\" \", IF(($I73+$J73*$K73)>$U73, ($I73+$J73*$K73)-$U73,0), IF($I73>$U73, $I73-$U73, 0))","v":0},{"$f":"IF($J73<>\" \", ROUNDUP(($I73+$J73*$K73)/200,0), ROUNDUP($I73/200,0))","v":0},null,{"$f":"IF($N73>$X73,$N73-$X73,0)","v":0},{"$f":"ROUNDUP($N73/200,0)","v":0},null,{"$f":"IF($R73>$AA73,$R73-$AA73,0)","v":0},{"$f":"ROUNDUP($R73/150,0)","v":0}]
[{"$f":"IF(AND(INTRO!$E$37=\"Non endémique\",INTRO!$E$41=\"Non endémique\"),\" \",IF(COUNTRY_INFO!A74=0,\" \",COUNTRY_INFO!A74))","v":"Angola"},{"$f":"IF(AND(INTRO!$E$37=\"Non endémique\",INTRO!$E$41=\"Non endémique\"),\" \",IF(COUNTRY_INFO!B74=0,\" \",COUNTRY_INFO!B74))","v":"CUANDO CUBANGO"},{"$f":"IF(AND(INTRO!$E$37=\"Non endémique\",INTRO!$E$41=\"Non endémique\"),\" \",IF(COUNTRY_INFO!C74=0,\" \",COUNTRY_INFO!C74))","v":"MAVINGA"},{"$f":"IF(AND(INTRO!$E$37=\"Non endémique\",INTRO!$E$41=\"Non endémique\"),0,IF(AND(OR(COUNTRY_INFO!$H74=0,COUNTRY_INFO!$H74=4,COUNTRY_INFO!$H74=99),OR(COUNTRY_INFO!$J74=0,COUNTRY_INFO!$J74=4)),0,COUNTRY_INFO!$E74))","v":5824},{"$f":"IF(AND(INTRO!$E$37=\"Non endémique\",INTRO!$E$41=\"Non endémique\"),0,IF(AND(OR(COUNTRY_INFO!$H74=0,COUNTRY_INFO!$H74=4,COUNTRY_INFO!$H74=99),OR(COUNTRY_INFO!$J74=0,COUNTRY_INFO!$J74=4)),0,COUNTRY_INFO!$F74))","v":10155},15979,{"$f":"IF(AND(INTRO!$E$37=\"Non endémique\",INTRO!$E$41=\"Non endémique\"),0,COUNTRY_INFO!Q74)","v":0},{"$f":"IF(AND(INTRO!$E$37=\"Non endémique\",INTRO!$E$41=\"Non endémique\"),0,COUNTRY_INFO!S74)","v":0},{"$f":"IF($G74=1,IVM!$G74,0)","v":0},{"$f":"IF($G74=0, \" \", IF(COUNTRY_INFO!$H74=1, IF(COUNTRY_INFO!$L74=1, 0,\" \"),\" \"))","v":" "},null,"ALB",{"$f":"IF($L74=\"ALB\", IF(INTRO!$E$39=\"Non endémique\",IF($H74<>0,$D74*($H74-$G74),0),$D74*$H74), 0)","v":0},0,null,0,{"$f":"IF($L74=\"MBD\", IF(INTRO!$E$39=\"Non endémique\",IF($H74<>0,$D74*($H74-$G74),0),$D74*$H74),0)","v":0},0,null,0,null,0,0,null,0,0,null,0,0]
[{"$f":"IF(AND(INTRO!$E$37=\"Non endémique\",INTRO!$E$41=\"Non endémique\"),\" \",IF(COUNTRY_INFO!A75=0,\" \",COUNTRY_INFO!A75))","v":"Angola"},{"$f":"IF(AND(INTRO!$E$37=\"Non endémique\",INTRO!$E$41=\"Non endémique\"),\" \",IF(COUNTRY_INFO!B75=0,\" \",COUNTRY_INFO!B75))","v":"CUANDO CUBANGO"},{"$f":"IF(AND(INTRO!$E$37=\"Non endémique\",INTRO!$E$41=\"Non endémique\"),\" \",IF(COUNTRY_INFO!C75=0,\" \",COUNTRY_INFO!C75))","v":"MENONGUE"},{"$f":"IF(AND(INTRO!$E$37=\"Non endémique\",INTRO!$E$41=\"Non endémique\"),0,IF(AND(OR(COUNTRY_INFO!$H75=0,COUNTRY_INFO!$H75=4,COUNTRY_INFO!$H75=99),OR(COUNTRY_INFO!$J75=0,COUNTRY_INFO!$J75=4)),0,COUNTRY_INFO!$E75))","v":68716},{"$f":"IF(AND(INTRO!$E$37=\"Non endémique\",INTRO!$E$41=\"Non endémique\"),0,IF(AND(OR(COUNTRY_INFO!$H75=0,COUNTRY_INFO!$H75=4,COUNTRY_INFO!$H75=99),OR(COUNTRY_INFO!$J75=0,COUNTRY_INFO!$J75=4)),0,COUNTRY_INFO!$F75))","v":119824},188540,{"$f":"IF(AND(INTRO!$E$37=\"Non endémique\",INTRO!$E$41=\"Non endémique\"),0,COUNTRY_INFO!Q75)","v":0},{"$f":"IF(AND(INTRO!$E$37=\"Non endémique\",INTRO!$E$41=\"Non endémique\"),0,COUNTRY_INFO!S75)","v":0},{"$f":"IF($G75=1,IVM!$G75,0)","v":0},{"$f":"IF($G75=0, \" \", IF(COUNTRY_INFO!$H75=1, IF(COUNTRY_INFO!$L75=1, 0,\" \"),\" \"))","v":" "},null,"ALB",{"$f":"IF($L75=\"ALB\", IF(INTRO!$E$39=\"Non endémique\",IF($H75<>0,$D75*($H75-$G75),0),$D75*$H75), 0)","v":0},0,null,0,{"$f":"IF($L75=\"MBD\", IF(INTRO!$E$39=\"Non endémique\",IF($H75<>0,$D75*($H75-$G75),0),$D75*$H75),0)","v":0},0,null,0,null,0,0,null,0,0,null,0,0]
[{"$f":"IF(AND(INTRO!$E$37=\"Non endémique\",INTRO!$E$41=\"Non endémique\"),\" \",IF(COUNTRY_INFO!A76=0,\" \",COUNTRY_INFO!A76))","v":"Angola"},{"$f":"IF(AND(INTRO!$E$37=\"Non endémique\",INTRO!$E$41=\"Non endémique\"),\" \",IF(COUNTRY_INFO!B76=0,\" \",COUNTRY_INFO!B76))","v":"CUANDO CUBANGO"},{"$f":"IF(AND(INTRO!$E$37=\"Non endémique\",INTRO!$E$41=\"Non endémique\"),\" \",IF(COUNTRY_INFO!C76=0,\" \",COUNTRY_INFO!C76))","v":"NANKOVA"},{"$f":"IF(AND(INTRO!$E$37=\"Non endémique\",INTRO!$E$41=\"Non endémique\"),0,IF(AND(OR(COUNTRY_INFO!$H76=0,COUNTRY_INFO!$H76=4,COUNTRY_INFO!$H76=99),OR(COUNTRY_INFO!$J76=0,COUNTRY_INFO!$J76=4)),0,COUNTRY_INFO!$E76))","v":599},{"$f":"IF(AND(INTRO!$E$37=\"Non endémique\",INTRO!$E$41=\"Non endémique\"),0,IF(AND(OR(COUNTRY_INFO!$H76=0,COUNTRY_INFO!$H76=4,COUNTRY_INFO!$H76=99),OR(COUNTRY_INFO!$J76=0,COUNTRY_INFO!$J76=4)),0,COUNTRY_INFO!$F76))","v":1044},1643,{"$f":"IF(AND(INTRO!$E$37=\"Non endémique\",INTRO!$E$41=\"Non endémique\"),0,COUNTRY_INFO!Q76)","v":0},{"$f":"IF(AND(INTRO!$E$37=\"Non endémique\",INTRO!$E$41=\"Non endémique\"),0,COUNTRY_INFO!S76)","v":0},{"$f":"IF($G76=1,IVM!$G76,0)","v":0},{"$f":"IF($G76=0, \" \", IF(COUNTRY_INFO!$H76=1, IF(COUNTRY_INFO!$L76=1, 0,\" \"),\" \"))","v":" "},null,"ALB",{"$f":"IF($L76=\"ALB\", IF(INTRO!$E$39=\"Non endémique\",IF($H76<>0,$D76*($H76-$G76),0),$D76*$H76), 0)","v":0},0,null,0,{"$f":"IF($L76=\"MBD\", IF(INTRO!$E$39=\"Non endémique\",IF($H76<>0,$D76*($H76-$G76),0),$D76*$H76),0)","v":0},0,null,0,null,0,0,null,0,0,null,0,0]
[{"$f":"IF(AND(INTRO!$E$37=\"Non endémique\",INTRO!$E$41=\"Non endémique\"),\" \",IF(COUNTRY_INFO!A77=0,\" \",COUNTRY_INFO!A77))","v":"Angola"},{"$f":"IF(AND(INTRO!$E$37=\"Non endémique\",INTRO!$E$41=\"Non endémique\"),\" \",IF(COUNTRY_INFO!B77=0,\" \",COUNTRY_INFO!B77))","v":"CUANDO CUBANGO"},{"$f":"IF(AND(INTRO!$E$37=\"Non endémique\",INTRO!$E$41=\"Non endémique\"),\" \",IF(COUNTRY_INFO!C77=0,\" \",COUNTRY_INFO!C77))","v":"RIVUNGO"},{"$f":"IF(AND(INTRO!$E$37=\"Non endémique\",INTRO!$E$41=\"Non endémique\"),0,IF(AND(OR(COUNTRY_INFO!$H77=0,COUNTRY_INFO!$H77=4,COUNTRY_INFO!$H77=99),OR(COUNTRY_INFO!$J77=0,COUNTRY_INFO!$J77=4)),0,COUNTRY_INFO!$E77))","v":7077},{"$f":"IF(AND(INTRO!$E$37=\"Non endémique\",INTRO!$E$41=\"Non endémique\"),0,IF(AND(OR(COUNTRY_INFO!$H77=0,COUNTRY_INFO!$H77=4,COUNTRY_INFO!$H77=99),OR(COUNTRY_INFO!$J77=0,COUNTRY_INFO!$J77=4)),0,COUNTRY_INFO!$F77))","v":12341},19418,{"$f":"IF(AND(INTRO!$E$37=\"Non endémique\",INTRO!$E$41=\"Non endémique\"),0,COUNTRY_INFO!Q77)","v":0},{"$f":"IF(AND(INTRO!$E$37=\"Non endémique\",INTRO!$E$41=\"Non endémique\"),0,COUNTRY_INFO!S77)","v":0},{"$f":"IF($G77=1,IVM!$G77,0)","v":0},{"$f":"IF($G77=0, \" \", IF(COUNTRY_INFO!$H77=1, IF(COUNTRY_INFO!$L77=1, 0,\" \"),\" \"))","v":" "},null,"ALB",{"$f":"IF($L77=\"ALB\", IF(INTRO!$E$39=\"Non endémique\",IF($H77<>0,$D77*($H77-$G77),0),$D77*$H77), 0)","v":0},0,null,0,{"$f":"IF($L77=\"MBD\", IF(INTRO!$E$39=\"Non endémique\",IF($H77<>0,$D77*($H77-$G77),0),$D77*$H77),0)","v":0},0,null,0,null,0,0,null,0,0,null,0,0]
[{"$f":"IF(AND(INTRO!$E$37=\"Non endémique\",INTRO!$E$41=\"Non endémique\"),\" \",IF(COUNTRY_INFO!A78=0,\" \",COUNTRY_INFO!A78))","v":"Angola"},{"$f":"IF(AND(INTRO!$E$37=\"Non endémique\",INTRO!$E$41=\"Non endémique\"),\" \",IF(COUNTRY_INFO!B78=0,\" \",COUNTRY_INFO!B78))","v":"CUANZA NORTE"},{"$f":"IF(AND(INTRO!$E$37=\"Non endémique\",INTRO!$E$41=\"Non endémique\"),\" \",IF(COUNTRY_INFO!C78=0,\" \",COUNTRY_INFO!C78))","v":"AMBACA"},{"$f":"IF(AND(INTRO!$E$37=\"Non endémique\",INTRO!$E$41=\"Non endémique\"),0,IF(AND(OR(COUNTRY_INFO!$H78=0,COUNTRY_INFO!$H78=4,COUNTRY_INFO!$H78=99),OR(COUNTRY_INFO!$J78=0,COUNTRY_INFO!$J78=4)),0,COUNTRY_INFO!$E78))","v":13064},{"$f":"IF(AND(INTRO!$E$37=\"Non endémique\",INTRO!$E$41=\"Non endémique\"),0,IF(AND(OR(COUNTRY_INFO!$H78=0,COUNTRY_INFO!$H78=4,COUNTRY_INFO!$H78=99),OR(COUNTRY_INFO!$J78=0,COUNTRY_INFO!$J78=4)),0,COUNTRY_INFO!$F78))","v":22780},35844,{"$f":"IF(AND(INTRO!$E$37=\"Non endémique\",INTRO!$E$41=\"Non endémique\"),0,COUNTRY_INFO!Q78)","v":1},{"$f":"IF(AND(INTRO!$E$37=\"Non endémique\",INTRO!$E$41=\"Non endémique\"),0,COUNTRY_INFO!S78)","v":2},{"$f":"IF($G78=1,IVM!$G78,0)","v":3414},62394,2,"ALB",{"$f":"IF($L78=\"ALB\", IF(INTRO!$E$39=\"Non endémique\",IF($H78<>0,$D78*($H78-$G78),0),$D78*$H78), 0)","v":26128},44378.214806710435,null,70506.214806710428,{"$f":"IF($L78=\"MBD\", IF(INTRO!$E$39=\"Non endémique\",IF($H78<>0,$D78*($H78-$G78),0),$D78*$H78),0)","v":0},0,null,0,null,128202,642,null,44378.214806710435,222,null,0,0]
[{"$f":"IF(AND(INTRO!$E$37=\"Non endémique\",INTRO!$E$41=\"Non endémique\"),\" \",IF(COUNTRY_INFO!A79=0,\" \",COUNTRY_INFO!A79))","v":"Angola"},{"$f":"IF(AND(INTRO!$E$37=\"Non endémique\",INTRO!$E$41=\"Non endémique\"),\" \",IF(COUNTRY_INFO!B79=0,\" \",COUNTRY_INFO!B79))","v":"CUANZA NORTE"},{"$f":"IF(AND(INTRO!$E$37=\"Non endémique\",INTRO!$E$41=\"Non endémique\"),\" \",IF(COUNTRY_INFO!C79=0,\" \",COUNTRY_INFO!C79))","v":"BANGA"},{"$f":"IF(AND(INTRO!$E$37=\"Non endémique\",INTRO!$E$41=\"Non endémique\"),0,IF(AND(OR(COUNTRY_INFO!$H79=0,COUNTRY_INFO!$H79=4,COUNTRY_INFO!$H79=99),OR(COUNTRY_INFO!$J79=0,COUNTRY_INFO!$J79=4)),0,COUNTRY_INFO!$E79))","v":2190},{"$f":"IF(AND(INTRO!$E$37=\"Non endémique\",INTRO!$E$41=\"Non endémique\"),0,IF(AND(OR(COUNTRY_INFO!$H79=0,COUNTRY_INFO!$H79=4,COUNTRY_INFO!$H79=99),OR(COUNTRY_INFO!$J79=0,COUNTRY_INFO!$J79=4)),0,COUNTRY_INFO!$F79))","v":3818},6008,{"$f":"IF(AND(INTRO!$E$37=\"Non endémique\",INTRO!$E$41=\"Non endémique\"),0,COUNTRY_INFO!Q79)","v":1},{"$f":"IF(AND(INTRO!$E$37=\"Non endémique\",INTRO!$E$41=\"Non endémique\"),0,COUNTRY_INFO!S79)","v":2},{"$f":"IF($G79=1,IVM!$G79,0)","v":573},10458,2,"ALB",{"$f":"IF($L79=\"ALB\", IF(INTRO!$E$39=\"Non endémique\",IF($H79<>0,$D79*($H79-$G79),0),$D79*$H79), 0)","v":4380},7437.6758226815336,null,11817.675822681533,{"$f":"IF($L79=\"MBD\", IF(INTRO!$E$39=\"Non endémique\",IF($H79<>0,$D79*($H79-$G79),0),$D79*$H79),0)","v":0},0,null,0,null,21489,108,null,7437.6758226815336,38,null,0,0]
[{"$f":"IF(AND(INTRO!$E$37=\"Non endémique\",INTRO!$E$41=\"Non endémique\"),\" \",IF(COUNTRY_INFO!A80=0,\" \",COUNTRY_INFO!A80))","v":"Angola"},{"$f":"IF(AND(INTRO!$E$37=\"Non endémique\",INTRO!$E$41=\"Non endémique\"),\" \",IF(COUNTRY_INFO!B80=0,\" \",COUNTRY_INFO!B80))","v":"CUANZA NORTE"},{"$f":"IF(AND(INTRO!$E$37=\"Non endémique\",INTRO!$E$41=\"Non endémique\"),\" \",IF(COUNTRY_INFO!C80=0,\" \",COUNTRY_INFO!C80))","v":"BOLONGONGO"},{"$f":"IF(AND(INTRO!$E$37=\"Non endémique\",INTRO!$E$41=\"Non endémique\"),0,IF(AND(OR(COUNTRY_INFO!$H80=0,COUNTRY_INFO!$H80=4,COUNTRY_INFO!$H80=99),OR(COUNTRY_INFO!$J80=0,COUNTRY_INFO!$J80=4)),0,COUNTRY_INFO!$E80))","v":2754},{"$f":"IF(AND(INTRO!$E$37=\"Non endémique\",INTRO!$E$41=\"Non endémique\"),0,IF(AND(OR(COUNTRY_INFO!$H80=0,COUNTRY_INFO!$H80=4,COUNTRY_INFO!$H80=99),OR(COUNTRY_INFO!$J80=0,COUNTRY_INFO!$J80=4)),0,COUNTRY_INFO!$F80))","v":4802},7556,{"$f":"IF(AND(INTRO!$E$37=\"Non endémique\",INTRO!$E$41=\"Non endémique\"),0,COUNTRY_INFO!Q80)","v":1},{"$f":"IF(AND(INTRO!$E$37=\"Non endémique\",INTRO!$E$41=\"Non endémique\"),0,COUNTRY_INFO!S80)","v":2},{"$f":"IF($G80=1,IVM!$G80,0)","v":721},13151,2,"ALB",{"$f":"IF($L80=\"ALB\", IF(INTRO!$E$39=\"Non endémique\",IF($H80<>0,$D80*($H80-$G80),0),$D80*$H80), 0)","v":5508},9354.4150807381775,null,14862.415080738177,{"$f":"IF($L80=\"MBD\", IF(INTRO!$E$39=\"Non endémique\",IF($H80<>0,$D80*($H80-$G80),0),$D80*$H80),0)","v":0},0,null,0,null,27023,136,null,9354.4150807381775,47,null,0,0]
[{"$f":"IF(AND(INTRO!$E$37=\"Non endémique\",INTRO!$E$41=\"Non endémique\"),\" \",IF(COUNTRY_INFO!A81=0,\" \",COUNTRY_INFO!A81))","v":"Angola"},{"$f":"IF(AND(INTRO!$E$37=\"Non endémique\",INTRO!$E$41=\"Non endémique\"),\" \",IF(COUNTRY_INFO!B81=0,\" \",COUNTRY_INFO!B81))","v":"CUANZA NORTE"},{"$f":"IF(AND(INTRO!$E$37=\"Non endémique\",INTRO!$E$41=\"Non endémique\"),\" \",IF(COUNTRY_INFO!C81=0,\" \",COUNTRY_INFO!C81))","v":"CAMBAMBE"},{"$f":"IF(AND(INTRO!$E$37=\"Non endémique\",INTRO!$E$41=\"Non endémique\"),0,IF(AND(OR(COUNTRY_INFO!$H81=0,COUNTRY_INFO!$H81=4,COUNTRY_INFO!$H81=99),OR(COUNTRY_INFO!$J81=0,COUNTRY_INFO!$J81=4)),0,COUNTRY_INFO!$E81))","v":19196},{"$f":"IF(AND(INTRO!$E$37=\"Non endémique\",INTRO!$E$41=\"Non endémique\"),0,IF(AND(OR(COUNTRY_INFO!$H81=0,COUNTRY_INFO!$H81=4,COUNTRY_INFO!$H81=99),OR(COUNTRY_INFO!$J81=0,COUNTRY_INFO!$J81=4)),0,COUNTRY_INFO!$F81))","v":33474},52670,{"$f":"IF(AND(INTRO!$E$37=\"Non endémique\",INTRO!$E$41=\"Non endémique\"),0,COUNTRY_INFO!Q81)","v":0},{"$f":"IF(AND(INTRO!$E$37=\"Non endémique\",INTRO!$E$41=\"Non endémique\"),0,COUNTRY_INFO!S81)","v":1},{"$f":"IF($G81=1,IVM!$G81,0)","v":0},{"$f":"IF($G81=0, \" \", IF(COUNTRY_INFO!$H81=1, IF(COUNTRY_INFO!$L81=1, 0,\" \"),\" \"))","v":" "},null,"ALB",{"$f":"IF($L81=\"ALB\", IF(INTRO!$E$39=\"Non endémique\",IF($H81<>0,$D81*($H81-$G81),0),$D81*$H81), 0)","v":19196},33474,null,52670,{"$f":"IF($L81=\"MBD\", IF(INTRO!$E$39=\"Non endémique\",IF($H81<>0,$D81*($H81-$G81),0),$D81*$H81),0)","v":0},0,null,0,null,0,0,null,33474,168,null,0,0]
[{"$f":"IF(AND(INTRO!$E$37=\"Non endémique\",INTRO!$E$41=\"Non endémique\"),\" \",IF(COUNTRY_INFO!A82=0,\" \",COUNTRY_INFO!A82))","v":"Angola"},{"$f":"IF(AND(INTRO!$E$37=\"Non endémique\",INTRO!$E$41=\"Non endémique\"),\" \",IF(COUNTRY_INFO!B82=0,\" \",COUNTRY_INFO!B82))","v":"CUANZA NORTE"},{"$f":"IF(AND(INTRO!$E$37=\"Non endémique\",INTRO!$E$41=\"Non endémique\"),\" \",IF(COUNTRY_INFO!C82=0,\" \",COUNTRY_INFO!C82))","v":"CAZENGO"},{"$f":"IF(AND(INTRO!$E$37=\"Non endémique\",INTRO!$E$41=\"Non endémique\"),0,IF(AND(OR(COUNTRY_INFO!$H82=0,COUNTRY_INFO!$H82=4,COUNTRY_INFO!$H82=99),OR(COUNTRY_INFO!$J82=0,COUNTRY_INFO!$J82=4)),0,COUNTRY_INFO!$E82))","v":36322},{"$f":"IF(AND(INTRO!$E$37=\"Non endémique\",INTRO!$E$41=\"Non endémique\"),0,IF(AND(OR(COUNTRY_INFO!$H82=0,COUNTRY_INFO!$H82=4,COUNTRY_INFO!$H82=99),OR(COUNTRY_INFO!$J82=0,COUNTRY_INFO!$J82=4)),0,COUNTRY_INFO!$F82))","v":63337},99659,{"$f":"IF(AND(INTRO!$E$37=\"Non endémique\",INTRO!$E$41=\"Non endémique\"),0,COUNTRY_INFO!Q82)","v":1},{"$f":"IF(AND(INTRO!$E$37=\"Non endémique\",INTRO!$E$41=\"Non endémique\"),0,COUNTRY_INFO!S82)","v":2},{"$f":"IF($G82=1,IVM!$G82,0)","v":182973},{"$f":"IF($G82=0, \" \", IF(COUNTRY_INFO!$H82=1, IF(COUNTRY_INFO!$L82=1, 0,\" \"),\" \"))","v":" "},null,"ALB",{"$f":"IF($L82=\"ALB\", IF(INTRO!$E$39=\"Non endémique\",IF($H82<>0,$D82*($H82-$G82),0),$D82*$H82), 0)","v":72644},63337,null,135981,{"$f":"IF($L82=\"MBD\", IF(INTRO!$E$39=\"Non endémique\",IF($H82<>0,$D82*($H82-$G82),0),$D82*$H82),0)","v":0},0,null,0,null,182973,915,null,63337,317,null,0,0]
[{"$f":"IF(AND(INTRO!$E$37=\"Non endémique\",INTRO!$E$41=\"Non endémique\"),\" \",IF(COUNTRY_INFO!A83=0,\" \",COUNTRY_INFO!A83))","v":"Angola"},{"$f":"IF(AND(INTRO!$E$37=\"Non endémique\",INTRO!$E$41=\"Non endémique\"),\" \",IF(COUNTRY_INFO!B83=0,\" \",COUNTRY_INFO!B83))","v":"CUANZA NORTE"},{"$f":"IF(AND(INTRO!$E$37=\"Non endémique\",INTRO!$E$41=\"Non endémique\"),\" \",IF(COUNTRY_INFO!C83=0,\" \",COUNTRY_INFO!C83))","v":"GOLUNGO ALTO"},{"$f":"IF(AND(INTRO!$E$37=\"Non endémique\",INTRO!$E$41=\"Non endémique\"),0,IF(AND(OR(COUNTRY_INFO!$H83=0,COUNTRY_INFO!$H83=4,COUNTRY_INFO!$H83=99),OR(COUNTRY_INFO!$J83=0,COUNTRY_INFO!$J83=4)),0,COUNTRY_INFO!$E83))","v":7156},{"$f":"IF(AND(INTRO!$E$37=\"Non endémique\",INTRO!$E$41=\"Non endémique\"),0,IF(AND(OR(COUNTRY_INFO!$H83=0,COUNTRY_INFO!$H83=4,COUNTRY_INFO!$H83=99),OR(COUNTRY_INFO!$J83=0,COUNTRY_INFO!$J83=4)),0,COUNTRY_INFO!$F83))","v":12478},19634,{"$f":"IF(AND(INTRO!$E$37=\"Non endémique\",INTRO!$E$41=\"Non endémique\"),0,COUNTRY_INFO!Q83)","v":1},{"$f":"IF(AND(INTRO!$E$37=\"Non endémique\",INTRO!$E$41=\"Non endémique\"),0,COUNTRY_INFO!S83)","v":2},{"$f":"IF($G83=1,IVM!$G83,0)","v":36048},{"$f":"IF($G83=0, \" \", IF(COUNTRY_INFO!$H83=1, IF(COUNTRY_INFO!$L83=1, 0,\" \"),\" \"))","v":" "},null,"ALB",{"$f":"IF($L83=\"ALB\", IF(INTRO!$E$39=\"Non endémique\",IF($H83<>0,$D83*($H83-$G83),0),$D83*$H83), 0)","v":14312},12478,null,26790,{"$f":"IF($L83=\"MBD\", IF(INTRO!$E$39=\"Non endémique\",IF($H83<>0,$D83*($H83-$G83),0),$D83*$H83),0)","v":0},0,null,0,null,36048,181,null,12478,63,null,0,0]
[{"$f":"IF(AND(INTRO!$E$37=\"Non endémique\",INTRO!$E$41=\"Non endémique\"),\" \",IF(COUNTRY_INFO!A84=0,\" \",COUNTRY_INFO!A84))","v":"Angola"},{"$f":"IF(AND(INTRO!$E$37=\"Non endémique\",INTRO!$E$41=\"Non endémique\"),\" \",IF(COUNTRY_INFO!B84=0,\" \",COUNTRY_INFO!B84))","v":"CUANZA NORTE"},{"$f":"IF(AND(INTRO!$E$37=\"Non endémique\",INTRO!$E$41=\"Non endémique\"),\" \",IF(COUNTRY_INFO!C84=0,\" \",COUNTRY_INFO!C84))","v":"GONGUEMBO"},{"$f":"IF(AND(INTRO!$E$37=\"Non endémique\",INTRO!$E$41=\"Non endémique\"),0,IF(AND(OR(COUNTRY_INFO!$H84=0,COUNTRY_INFO!$H84=4,COUNTRY_INFO!$H84=99),OR(COUNTRY_INFO!$J84=0,COUNTRY_INFO!$J84=4)),0,COUNTRY_INFO!$E84))","v":1602},{"$f":"IF(AND(INTRO!$E$37=\"Non endémique\",INTRO!$E$41=\"Non endémique\"),0,IF(AND(OR(COUNTRY_INFO!$H84=0,COUNTRY_INFO!$H84=4,COUNTRY_INFO!$H84=99),OR(COUNTRY_INFO!$J84=0,COUNTRY_INFO!$J84=4)),0,COUNTRY_INFO!$F84))","v":2794},4396,{"$f":"IF(AND(INTRO!$E$37=\"Non endémique\",INTRO!$E$41=\"Non endémique\"),0,COUNTRY_INFO!Q84)","v":1},{"$f":"IF(AND(INTRO!$E$37=\"Non endémique\",INTRO!$E$41=\"Non endémique\"),0,COUNTRY_INFO!S84)","v":2},{"$f":"IF($G84=1,IVM!$G84,0)","v":8071},{"$f":"IF($G84=0, \" \", IF(COUNTRY_INFO!$H84=1, IF(COUNTRY_INFO!$L84=1, 0,\" \"),\" \"))","v":" "},null,"ALB",{"$f":"IF($L84=\"ALB\", IF(INTRO!$E$39=\"Non endémique\",IF($H84<>0,$D84*($H84-$G84),0),$D84*$H84), 0)","v":3204},2794,null,5998,{"$f":"IF($L84=\"MBD\", IF(INTRO!$E$39=\"Non endémique\",IF($H84<>0,$D84*($H84-$G84),0),$D84*$H84),0)","v":0},0,null,0,null,8071,41,null,2794,14,null,0,0]
[{"$f":"IF(AND(INTRO!$E$37=\"Non endémique\",INTRO!$E$41=\"Non endémique\"),\" \",IF(COUNTRY_INFO!A85=0,\" \",COUNTRY_INFO!A85))","v":"Angola"},{"$f":"IF(AND(INTRO!$E$37=\"Non endémique\",INTRO!$E$41=\"Non endémique\"),\" \",IF(COUNTRY_INFO!B85=0,\" \",COUNTRY_INFO!B85))","v":"CUANZA NORTE"},{"$f":"IF(AND(INTRO!$E$37=\"Non endémique\",INTRO!$E$41=\"Non endémique\"),\" \",IF(COUNTRY_INFO!C85=0,\" \",COUNTRY_INFO!C85))","v":"QUICULUNGO"},{"$f":"IF(AND(INTRO!$E$37=\"Non endémique\",INTRO!$E$41=\"Non endémique\"),0,IF(AND(OR(COUNTRY_INFO!$H85=0,COUNTRY_INFO!$H85=4,COUNTRY_INFO!$H85=99),OR(COUNTRY_INFO!$J85=0,COUNTRY_INFO!$J85=4)),0,COUNTRY_INFO!$E85))","v":2058},{"$f":"IF(AND(INTRO!$E$37=\"Non endémique\",INTRO!$E$41=\"Non endémique\"),0,IF(AND(OR(COUNTRY_INFO!$H85=0,COUNTRY_INFO!$H85=4,COUNTRY_INFO!$H85=99),OR(COUNTRY_INFO!$J85=0,COUNTRY_INFO!$J85=4)),0,COUNTRY_INFO!$F85))","v":3589},5647,{"$f":"IF(AND(INTRO!$E$37=\"Non endémique\",INTRO!$E$41=\"Non endémique\"),0,COUNTRY_INFO!Q85)","v":1},{"$f":"IF(AND(INTRO!$E$37=\"Non endémique\",INTRO!$E$41=\"Non endémique\"),0,COUNTRY_INFO!S85)","v":2},{"$f":"IF($G85=1,IVM!$G85,0)","v":10368},{"$f":"IF($G85=0, \" \", IF(COUNTRY_INFO!$H85=1, IF(COUNTRY_INFO!$L85=1, 0,\" \"),\" \"))","v":" "},null,"ALB",{"$f":"IF($L85=\"ALB\", IF(INTRO!$E$39=\"Non endémique\",IF($H85<>0,$D85*($H85-$G85),0),$D85*$H85), 0)","v":4116},3589,null,7705,{"$f":"IF($L85=\"MBD\", IF(INTRO!$E$39=\"Non endémique\",IF($H85<>0,$D85*($H85-$G85),0),$D85*$H85),0)","v":0},0,null,0,null,10368,52,null,3589,18,null,0,0]
[{"$f":"IF(AND(INTRO!$E$37=\"Non endémique\",INTRO!$E$41=\"Non endémique\"),\" \",IF(COUNTRY_INFO!A86=0,\" \",COUNTRY_INFO!A86))","v":"Angola"},{"$f":"IF(AND(INTRO!$E$37=\"Non endémique\",INTRO!$E$41=\"Non endémique\"),\" \",IF(COUNTRY_INFO!B86=0,\" \",COUNTRY_INFO!B86))","v":"CUANZA NORTE"},{"$f":"IF(AND(INTRO!$E$37=\"Non endémique\",INTRO!$E$41=\"Non endémique\"),\" \",IF(COUNTRY_INFO!C86=0,\" \",COUNTRY_INFO!C86))","v":"LUCALA"},{"$f":"IF(AND(INTRO!$E$37=\"Non endémique\",INTRO!$E$41=\"Non endémique\"),0,IF(AND(OR(COUNTRY_INFO!$H86=0,COUNTRY_INFO!$H86=4,COUNTRY_INFO!$H86=99),OR(COUNTRY_INFO!$J86=0,COUNTRY_INFO!$J86=4)),0,COUNTRY_INFO!$E86))","v":4796},{"$f":"IF(AND(INTRO!$E$37=\"Non endémique\",INTRO!$E$41=\"Non endémique\"),0,IF(AND(OR(COUNTRY_INFO!$H86=0,COUNTRY_INFO!$H86=4,COUNTRY_INFO!$H86=99),OR(COUNTRY_INFO!$J86=0,COUNTRY_INFO!$J86=4)),0,COUNTRY_INFO!$F86))","v":8362},13158,{"$f":"IF(AND(INTRO!$E$37=\"Non endémique\",INTRO!$E$41=\"Non endémique\"),0,COUNTRY_INFO!Q86)","v":0},{"$f":"IF(AND(INTRO!$E$37=\"Non endémique\",INTRO!$E$41=\"Non endémique\"),0,COUNTRY_INFO!S86)","v":2},{"$f":"IF($G86=1,IVM!$G86,0)","v":0},{"$f":"IF($G86=0, \" \", IF(COUNTRY_INFO!$H86=1, IF(COUNTRY_INFO!$L86=1, 0,\" \"),\" \"))","v":" "},null,"ALB",{"$f":"IF($L86=\"ALB\", IF(INTRO!$E$39=\"Non endémique\",IF($H86<>0,$D86*($H86-$G86),0),$D86*$H86), 0)","v":9592},16724,null,26316,{"$f":"IF($L86=\"MBD\", IF(INTRO!$E$39=\"Non endémique\",IF($H86<>0,$D86*($H86-$G86),0),$D86*$H86),0)","v":0},0,null,0,null,0,0,null,16724,84,null,0,0]
[{"$f":"IF(AND(INTRO!$E$37=\"Non endémique\",INTRO!$E$41=\"Non endémique\"),\" \",IF(COUNTRY_INFO!A87=0,\" \",COUNTRY_INFO!A87))","v":"Angola"},{"$f":"IF(AND(INTRO!$E$37=\"Non endémique\",INTRO!$E$41=\"Non endémique\"),\" \",IF(COUNTRY_INFO!B87=0,\" \",COUNTRY_INFO!B87))","v":"CUANZA NORTE"},{"$f":"IF(AND(INTRO!$E$37=\"Non endémique\",INTRO!$E$41=\"Non endémique\"),\" \",IF(COUNTRY_INFO!C87=0,\" \",COUNTRY_INFO!C87))","v":"SAMBA CAJU"},{"$f":"IF(AND(INTRO!$E$37=\"Non endémique\",INTRO!$E$41=\"Non endémique\"),0,IF(AND(OR(COUNTRY_INFO!$H87=0,COUNTRY_INFO!$H87=4,COUNTRY_INFO!$H87=99),OR(COUNTRY_INFO!$J87=0,COUNTRY_INFO!$J87=4)),0,COUNTRY_INFO!$E87))","v":4636},{"$f":"IF(AND(INTRO!$E$37=\"Non endémique\",INTRO!$E$41=\"Non endémique\"),0,IF(AND(OR(COUNTRY_INFO!$H87=0,COUNTRY_INFO!$H87=4,COUNTRY_INFO!$H87=99),OR(COUNTRY_INFO!$J87=0,COUNTRY_INFO!$J87=4)),0,COUNTRY_INFO!$F87))","v":8083},12719,{"$f":"IF(AND(INTRO!$E$37=\"Non endémique\",INTRO!$E$41=\"Non endémique\"),0,COUNTRY_INFO!Q87)","v":1},{"$f":"IF(AND(INTRO!$E$37=\"Non endémique\",INTRO!$E$41=\"Non endémique\"),0,COUNTRY_INFO!S87)","v":2},{"$f":"IF($G87=1,IVM!$G87,0)","v":23352},{"$f":"IF($G87=0, \" \", IF(COUNTRY_INFO!$H87=1, IF(COUNTRY_INFO!$L87=1, 0,\" \"),\" \"))","v":" "},null,"ALB",{"$f":"IF($L87=\"ALB\", IF(INTRO!$E$39=\"Non endémique\",IF($H87<>0,$D87*($H87-$G87),0),$D87*$H87), 0)","v":9272},8083,null,17355,{"$f":"IF($L87=\"MBD\", IF(INTRO!$E$39=\"Non endémique\",IF($H87<>0,$D87*($H87-$G87),0),$D87*$H87),0)","v":0},0,null,0,null,23352,117,null,8083,41,null,0,0]
[{"$f":"IF(AND(INTRO!$E$37=\"Non endémique\",INTRO!$E$41=\"Non endémique\"),\" \",IF(COUNTRY_INFO!A88=0,\" \",COUNTRY_INFO!A88))","v":"Angola"},{"$f":"IF(AND(INTRO!$E$37=\"Non endémique\",INTRO!$E$41=\"Non endémique\"),\" \",IF(COUNTRY_INFO!B88=0,\" \",COUNTRY_INFO!B88))","v":"CUANZA SUL"},{"$f":"IF(AND(INTRO!$E$37=\"Non endémique\",INTRO!$E$41=\"Non endémique\"),\" \",IF(COUNTRY_INFO!C88=0,\" \",COUNTRY_INFO!C88))","v":"AMBOIM"},{"$f":"IF(AND(INTRO!$E$37=\"Non endémique\",INTRO!$E$41=\"Non endémique\"),0,IF(AND(OR(COUNTRY_INFO!$H88=0,COUNTRY_INFO!$H88=4,COUNTRY_INFO!$H88=99),OR(COUNTRY_INFO!$J88=0,COUNTRY_INFO!$J88=4)),0,COUNTRY_INFO!$E88))","v":51567},{"$f":"IF(AND(INTRO!$E$37=\"Non endémique\",INTRO!$E$41=\"Non endémique\"),0,IF(AND(OR(COUNTRY_INFO!$H88=0,COUNTRY_INFO!$H88=4,COUNTRY_INFO!$H88=99),OR(COUNTRY_INFO!$J88=0,COUNTRY_INFO!$J88=4)),0,COUNTRY_INFO!$F88))","v":89920},141487,{"$f":"IF(AND(INTRO!$E$37=\"Non endémique\",INTRO!$E$41=\"Non endémique\"),0,COUNTRY_INFO!Q88)","v":0},{"$f":"IF(AND(INTRO!$E$37=\"Non endémique\",INTRO!$E$41=\"Non endémique\"),0,COUNTRY_INFO!S88)","v":1},{"$f":"IF($G88=1,IVM!$G88,0)","v":0},{"$f":"IF($G88=0, \" \", IF(COUNTRY_INFO!$H88=1, IF(COUNTRY_INFO!$L88=1, 0,\" \"),\" \"))","v":" "},null,"ALB",{"$f":"IF($L88=\"ALB\", IF(INTRO!$E$39=\"Non endémique\",IF($H88<>0,$D88*($H88-$G88),0),$D88*$H88), 0)","v":51567},89920,null,141487,{"$f":"IF($L88=\"MBD\", IF(INTRO!$E$39=\"Non endémique\",IF($H88<>0,$D88*($H88-$G88),0),$D88*$H88),0)","v":0},0,null,0,null,0,0,null,89920,450,null,0,0]
[{"$f":"IF(AND(INTRO!$E$37=\"Non endémique\",INTRO!$E$41=\"Non endémique\"),\" \",IF(COUNTRY_INFO!A89=0,\" \",COUNTRY_INFO!A89))","v":"Angola"},{"$f":"IF(AND(INTRO!$E$37=\"Non endémique\",INTRO!$E$41=\"Non endémique\"),\" \",IF(COUNTRY_INFO!B89=0,\" \",COUNTRY_INFO!B89))","v":"CUANZA SUL"},{"$f":"IF(AND(INTRO!$E$37=\"Non endémique\",INTRO!$E$41=\"Non endémique\"),\" \",IF(COUNTRY_INFO!C89=0,\" \",COUNTRY_INFO!C89))","v":"CASSONGUE"},{"$f":"IF(AND(INTRO!$E$37=\"Non endémique\",INTRO!$E$41=\"Non endémique\"),0,IF(AND(OR(COUNTRY_INFO!$H89=0,COUNTRY_INFO!$H89=4,COUNTRY_INFO!$H89=99),OR(COUNTRY_INFO!$J89=0,COUNTRY_INFO!$J89=4)),0,COUNTRY_INFO!$E89))","v":32312},{"$f":"IF(AND(INTRO!$E$37=\"Non endémique\",INTRO!$E$41=\"Non endémique\"),0,IF(AND(OR(COUNTRY_INFO!$H89=0,COUNTRY_INFO!$H89=4,COUNTRY_INFO!$H89=99),OR(COUNTRY_INFO!$J89=0,COUNTRY_INFO!$J89=4)),0,COUNTRY_INFO!$F89))","v":56345},88657,{"$f":"IF(AND(INTRO!$E$37=\"Non endémique\",INTRO!$E$41=\"Non endémique\"),0,COUNTRY_INFO!Q89)","v":0},{"$f":"IF(AND(INTRO!$E$37=\"Non endémique\",INTRO!$E$41=\"Non endémique\"),0,COUNTRY_INFO!S89)","v":0},{"$f":"IF($G89=1,IVM!$G89,0)","v":0},{"$f":"IF($G89=0, \" \", IF(COUNTRY_INFO!$H89=1, IF(COUNTRY_INFO!$L89=1, 0,\" \"),\" \"))","v":" "},null,"ALB",{"$f":"IF($L89=\"ALB\", IF(INTRO!$E$39=\"Non endémique\",IF($H89<>0,$D89*($H89-$G89),0),$D89*$H89), 0)","v":0},0,null,0,{"$f":"IF($L89=\"MBD\", IF(INTRO!$E$39=\"Non endémique\",IF($H89<>0,$D89*($H89-$G89),0),$D89*$H89),0)","v":0},0,null,0,null,0,0,null,0,0,null,0,0]
[{"$f":"IF(AND(INTRO!$E$37=\"Non endémique\",INTRO!$E$41=\"Non endémique\"),\" \",IF(COUNTRY_INFO!A90=0,\" \",COUNTRY_INFO!A90))","v":"Angola"},{"$f":"IF(AND(INTRO!$E$37=\"Non endémique\",INTRO!$E$41=\"Non endémique\"),\" \",IF(COUNTRY_INFO!B90=0,\" \",COUNTRY_INFO!B90))","v":"CUANZA SUL"},{"$f":"IF(AND(INTRO!$E$37=\"Non endémique\",INTRO!$E$41=\"Non endémique\"),\" \",IF(COUNTRY_INFO!C90=0,\" \",COUNTRY_INFO!C90))","v":"CELA (Waku Kungo)"},{"$f":"IF(AND(INTRO!$E$37=\"Non endémique\",INTRO!$E$41=\"Non endémique\"),0,IF(AND(OR(COUNTRY_INFO!$H90=0,COUNTRY_INFO!$H90=4,COUNTRY_INFO!$H90=99),OR(COUNTRY_INFO!$J90=0,COUNTRY_INFO!$J90=4)),0,COUNTRY_INFO!$E90))","v":47968},{"$f":"IF(AND(INTRO!$E$37=\"Non endémique\",INTRO!$E$41=\"Non endémique\"),0,IF(AND(OR(COUNTRY_INFO!$H90=0,COUNTRY_INFO!$H90=4,COUNTRY_INFO!$H90=99),OR(COUNTRY_INFO!$J90=0,COUNTRY_INFO!$J90=4)),0,COUNTRY_INFO!$F90))","v":83644},131612,{"$f":"IF(AND(INTRO!$E$37=\"Non endémique\",INTRO!$E$41=\"Non endémique\"),0,COUNTRY_INFO!Q90)","v":0},{"$f":"IF(AND(INTRO!$E$37=\"Non endémique\",INTRO!$E$41=\"Non endémique\"),0,COUNTRY_INFO!S90)","v":0},{"$f":"IF($G90=1,IVM!$G90,0)","v":0},{"$f":"IF($G90=0, \" \", IF(COUNTRY_INFO!$H90=1, IF(COUNTRY_INFO!$L90=1, 0,\" \"),\" \"))","v":" "},null,"ALB",{"$f":"IF($L90=\"ALB\", IF(INTRO!$E$39=\"Non endémique\",IF($H90<>0,$D90*($H90-$G90),0),$D90*$H90), 0)","v":0},0,null,0,{"$f":"IF($L90=\"MBD\", IF(INTRO!$E$39=\"Non endémique\",IF($H90<>0,$D90*($H90-$G90),0),$D90*$H90),0)","v":0},0,null,0,null,0,0,null,0,0,null,0,0]
[{"$f":"IF(AND(INTRO!$E$37=\"Non endémique\",INTRO!$E$41=\"Non endémique\"),\" \",IF(COUNTRY_INFO!A91=0,\" \",COUNTRY_INFO!A91))","v":"Angola"},{"$f":"IF(AND(INTRO!$E$37=\"Non endémique\",INTRO!$E$41=\"Non endémique\"),\" \",IF(COUNTRY_INFO!B91=0,\" \",COUNTRY_INFO!B91))","v":"CUANZA SUL"},{"$f":"IF(AND(INTRO!$E$37=\"Non endémique\",INTRO!$E$41=\"Non endémique\"),\" \",IF(COUNTRY_INFO!C91=0,\" \",COUNTRY_INFO!C91))","v":"CONDA"},{"$f":"IF(AND(INTRO!$E$37=\"Non endémique\",INTRO!$E$41=\"Non endémique\"),0,IF(AND(OR(COUNTRY_INFO!$H91=0,COUNTRY_INFO!$H91=4,COUNTRY_INFO!$H91=99),OR(COUNTRY_INFO!$J91=0,COUNTRY_INFO!$J91=4)),0,COUNTRY_INFO!$E91))","v":19032},{"$f":"IF(AND(INTRO!$E$37=\"Non endémique\",INTRO!$E$41=\"Non endémique\"),0,IF(AND(OR(COUNTRY_INFO!$H91=0,COUNTRY_INFO!$H91=4,COUNTRY_INFO!$H91=99),OR(COUNTRY_INFO!$J91=0,COUNTRY_INFO!$J91=4)),0,COUNTRY_INFO!$F91))","v":33187},52219,{"$f":"IF(AND(INTRO!$E$37=\"Non endémique\",INTRO!$E$41=\"Non endémique\"),0,COUNTRY_INFO!Q91)","v":0},{"$f":"IF(AND(INTRO!$E$37=\"Non endémique\",INTRO!$E$41=\"Non endémique\"),0,COUNTRY_INFO!S91)","v":0},{"$f":"IF($G91=1,IVM!$G91,0)","v":0},{"$f":"IF($G91=0, \" \", IF(COUNTRY_INFO!$H91=1, IF(COUNTRY_INFO!$L91=1, 0,\" \"),\" \"))","v":" "},null,"ALB",{"$f":"IF($L91=\"ALB\", IF(INTRO!$E$39=\"Non endémique\",IF($H91<>0,$D91*($H91-$G91),0),$D91*$H91), 0)","v":0},0,null,0,{"$f":"IF($L91=\"MBD\", IF(INTRO!$E$39=\"Non endémique\",IF($H91<>0,$D91*($H91-$G91),0),$D91*$H91),0)","v":0},0,null,0,null,0,0,null,0,0,null,0,0]
[{"$f":"IF(AND(INTRO!$E$37=\"Non endémique\",INTRO!$E$41=\"Non endémique\"),\" \",IF(COUNTRY_INFO!A92=0,\" \",COUNTRY_INFO!A92))","v":"Angola"},{"$f":"IF(AND(INTRO!$E$37=\"Non endémique\",INTRO!$E$41=\"Non endémique\"),\" \",IF(COUNTRY_INFO!B92=0,\" \",COUNTRY_INFO!B92))","v":"CUANZA SUL"},{"$f":"IF(AND(INTRO!$E$37=\"Non endémique\",INTRO!$E$41=\"Non endémique\"),\" \",IF(COUNTRY_INFO!C92=0,\" \",COUNTRY_INFO!C92))","v":"EBO"},{"$f":"IF(AND(INTRO!$E$37=\"Non endémique\",INTRO!$E$41=\"Non endémique\"),0,IF(AND(OR(COUNTRY_INFO!$H92=0,COUNTRY_INFO!$H92=4,COUNTRY_INFO!$H92=99),OR(COUNTRY_INFO!$J92=0,COUNTRY_INFO!$J92=4)),0,COUNTRY_INFO!$E92))","v":35122},{"$f":"IF(AND(INTRO!$E$37=\"Non endémique\",INTRO!$E$41=\"Non endémique\"),0,IF(AND(OR(COUNTRY_INFO!$H92=0,COUNTRY_INFO!$H92=4,COUNTRY_INFO!$H92=99),OR(COUNTRY_INFO!$J92=0,COUNTRY_INFO!$J92=4)),0,COUNTRY_INFO!$F92))","v":61245},96367,{"$f":"IF(AND(INTRO!$E$37=\"Non endémique\",INTRO!$E$41=\"Non endémique\"),0,COUNTRY_INFO!Q92)","v":0},{"$f":"IF(AND(INTRO!$E$37=\"Non endémique\",INTRO!$E$41=\"Non endémique\"),0,COUNTRY_INFO!S92)","v":1},{"$f":"IF($G92=1,IVM!$G92,0)","v":0},{"$f":"IF($G92=0, \" \", IF(COUNTRY_INFO!$H92=1, IF(COUNTRY_INFO!$L92=1, 0,\" \"),\" \"))","v":" "},null,"ALB",{"$f":"IF($L92=\"ALB\", IF(INTRO!$E$39=\"Non endémique\",IF($H92<>0,$D92*($H92-$G92),0),$D92*$H92), 0)","v":35122},61245,null,96367,{"$f":"IF($L92=\"MBD\", IF(INTRO!$E$39=\"Non endémique\",IF($H92<>0,$D92*($H92-$G92),0),$D92*$H92),0)","v":0},0,null,0,null,0,0,null,61245,307,null,0,0]
[{"$f":"IF(AND(INTRO!$E$37=\"Non endémique\",INTRO!$E$41=\"Non endémique\"),\" \",IF(COUNTRY_INFO!A93=0,\" \",COUNTRY_INFO!A93))","v":"Angola"},{"$f":"IF(AND(INTRO!$E$37=\"Non endémique\",INTRO!$E$41=\"Non endémique\"),\" \",IF(COUNTRY_INFO!B93=0,\" \",COUNTRY_INFO!B93))","v":"CUANZA SUL"},{"$f":"IF(AND(INTRO!$E$37=\"Non endémique\",INTRO!$E$41=\"Non endémique\"),\" \",IF(COUNTRY_INFO!C93=0,\" \",COUNTRY_INFO!C93))","v":"QUIBALA"},{"$f":"IF(AND(INTRO!$E$37=\"Non endémique\",INTRO!$E$41=\"Non endémique\"),0,IF(AND(OR(COUNTRY_INFO!$H93=0,COUNTRY_INFO!$H93=4,COUNTRY_INFO!$H93=99),OR(COUNTRY_INFO!$J93=0,COUNTRY_INFO!$J93=4)),0,COUNTRY_INFO!$E93))","v":30215},{"$f":"IF(AND(INTRO!$E$37=\"Non endémique\",INTRO!$E$41=\"Non endémique\"),0,IF(AND(OR(COUNTRY_INFO!$H93=0,COUNTRY_INFO!$H93=4,COUNTRY_INFO!$H93=99),OR(COUNTRY_INFO!$J93=0,COUNTRY_INFO!$J93=4)),0,COUNTRY_INFO!$F93))","v":52688},82903,{"$f":"IF(AND(INTRO!$E$37=\"Non endémique\",INTRO!$E$41=\"Non endémique\"),0,COUNTRY_INFO!Q93)","v":0},{"$f":"IF(AND(INTRO!$E$37=\"Non endémique\",INTRO!$E$41=\"Non endémique\"),0,COUNTRY_INFO!S93)","v":1},{"$f":"IF($G93=1,IVM!$G93,0)","v":0},{"$f":"IF($G93=0, \" \", IF(COUNTRY_INFO!$H93=1, IF(COUNTRY_INFO!$L93=1, 0,\" \"),\" \"))","v":" "},null,"ALB",{"$f":"IF($L93=\"ALB\", IF(INTRO!$E$39=\"Non endémique\",IF($H93<>0,$D93*($H93-$G93),0),$D93*$H93), 0)","v":30215},52688,null,82903,{"$f":"IF($L93=\"MBD\", IF(INTRO!$E$39=\"Non endémique\",IF($H93<>0,$D93*($H93-$G93),0),$D93*$H93),0)","v":0},0,null,0,null,0,0,null,52688,264,null,0,0]
[{"$f":"IF(AND(INTRO!$E$37=\"Non endémique\",INTRO!$E$41=\"Non endémique\"),\" \",IF(COUNTRY_INFO!A94=0,\" \",COUNTRY_INFO!A94))","v":"Angola"},{"$f":"IF(AND(INTRO!$E$37=\"Non endémique\",INTRO!$E$41=\"Non endémique\"),\" \",IF(COUNTRY_INFO!B94=0,\" \",COUNTRY_INFO!B94))","v":"CUANZA SUL"},{"$f":"IF(AND(INTRO!$E$37=\"Non endémique\",INTRO!$E$41=\"Non endémique\"),\" \",IF(COUNTRY_INFO!C94=0,\" \",COUNTRY_INFO!C94))","v":"QUILENDA"},{"$f":"IF(AND(INTRO!$E$37=\"Non endémique\",INTRO!$E$41=\"Non endémique\"),0,IF(AND(OR(COUNTRY_INFO!$H94=0,COUNTRY_INFO!$H94=4,COUNTRY_INFO!$H94=99),OR(COUNTRY_INFO!$J94=0,COUNTRY_INFO!$J94=4)),0,COUNTRY_INFO!$E94))","v":20770},{"$f":"IF(AND(INTRO!$E$37=\"Non endémique\",INTRO!$E$41=\"Non endémique\"),0,IF(AND(OR(COUNTRY_INFO!$H94=0,COUNTRY_INFO!$H94=4,COUNTRY_INFO!$H94=99),OR(COUNTRY_INFO!$J94=0,COUNTRY_INFO!$J94=4)),0,COUNTRY_INFO!$F94))","v":36217},56987,{"$f":"IF(AND(INTRO!$E$37=\"Non endémique\",INTRO!$E$41=\"Non endémique\"),0,COUNTRY_INFO!Q94)","v":0},{"$f":"IF(AND(INTRO!$E$37=\"Non endémique\",INTRO!$E$41=\"Non endémique\"),0,COUNTRY_INFO!S94)","v":1},{"$f":"IF($G94=1,IVM!$G94,0)","v":0},{"$f":"IF($G94=0, \" \", IF(COUNTRY_INFO!$H94=1, IF(COUNTRY_INFO!$L94=1, 0,\" \"),\" \"))","v":" "},null,"ALB",{"$f":"IF($L94=\"ALB\", IF(INTRO!$E$39=\"Non endémique\",IF($H94<>0,$D94*($H94-$G94),0),$D94*$H94), 0)","v":20770},36217,null,56987,{"$f":"IF($L94=\"MBD\", IF(INTRO!$E$39=\"Non endémique\",IF($H94<>0,$D94*($H94-$G94),0),$D94*$H94),0)","v":0},0,null,0,null,0,0,null,36217,182,null,0,0]
[{"$f":"IF(AND(INTRO!$E$37=\"Non endémique\",INTRO!$E$41=\"Non endémique\"),\" \",IF(COUNTRY_INFO!A95=0,\" \",COUNTRY_INFO!A95))","v":"Angola"},{"$f":"IF(AND(INTRO!$E$37=\"Non endémique\",INTRO!$E$41=\"Non endémique\"),\" \",IF(COUNTRY_INFO!B95=0,\" \",COUNTRY_INFO!B95))","v":"CUANZA SUL"},{"$f":"IF(AND(INTRO!$E$37=\"Non endémique\",INTRO!$E$41=\"Non endémique\"),\" \",IF(COUNTRY_INFO!C95=0,\" \",COUNTRY_INFO!C95))","v":"LIBOLO"},{"$f":"IF(AND(INTRO!$E$37=\"Non endémique\",INTRO!$E$41=\"Non endémique\"),0,IF(AND(OR(COUNTRY_INFO!$H95=0,COUNTRY_INFO!$H95=4,COUNTRY_INFO!$H95=99),OR(COUNTRY_INFO!$J95=0,COUNTRY_INFO!$J95=4)),0,COUNTRY_INFO!$E95))","v":19583},{"$f":"IF(AND(INTRO!$E$37=\"Non endémique\",INTRO!$E$41=\"Non endémique\"),0,IF(AND(OR(COUNTRY_INFO!$H95=0,COUNTRY_INFO!$H95=4,COUNTRY_INFO!$H95=99),OR(COUNTRY_INFO!$J95=0,COUNTRY_INFO!$J95=4)),0,COUNTRY_INFO!$F95))","v":34148},53731,{"$f":"IF(AND(INTRO!$E$37=\"Non endémique\",INTRO!$E$41=\"Non endémique\"),0,COUNTRY_INFO!Q95)","v":0},{"$f":"IF(AND(INTRO!$E$37=\"Non endémique\",INTRO!$E$41=\"Non endémique\"),0,COUNTRY_INFO!S95)","v":1},{"$f":"IF($G95=1,IVM!$G95,0)","v":0},{"$f":"IF($G95=0, \" \", IF(COUNTRY_INFO!$H95=1, IF(COUNTRY_INFO!$L95=1, 0,\" \"),\" \"))","v":" "},null,"ALB",{"$f":"IF($L95=\"ALB\", IF(INTRO!$E$39=\"Non endémique\",IF($H95<>0,$D95*($H95-$G95),0),$D95*$H95), 0)","v":19583},34148,null,53731,{"$f":"IF($L95=\"MBD\", IF(INTRO!$E$39=\"Non endémique\",IF($H95<>0,$D95*($H95-$G95),0),$D95*$H95),0)","v":0},0,null,0,null,0,0,null,34148,171,null,0,0]
[{"$f":"IF(AND(INTRO!$E$37=\"Non endémique\",INTRO!$E$41=\"Non endémique\"),\" \",IF(COUNTRY_INFO!A96=0,\" \",COUNTRY_INFO!A96))","v":"Angola"},{"$f":"IF(AND(INTRO!$E$37=\"Non endémique\",INTRO!$E$41=\"Non endémique\"),\" \",IF(COUNTRY_INFO!B96=0,\" \",COUNTRY_INFO!B96))","v":"CUANZA SUL"},{"$f":"IF(AND(INTRO!$E$37=\"Non endémique\",INTRO!$E$41=\"Non endémique\"),\" \",IF(COUNTRY_INFO!C96=0,\" \",COUNTRY_INFO!C96))","v":"MUSSENDE"},{"$f":"IF(AND(INTRO!$E$37=\"Non endémique\",INTRO!$E$41=\"Non endémique\"),0,IF(AND(OR(COUNTRY_INFO!$H96=0,COUNTRY_INFO!$H96=4,COUNTRY_INFO!$H96=99),OR(COUNTRY_INFO!$J96=0,COUNTRY_INFO!$J96=4)),0,COUNTRY_INFO!$E96))","v":17557},{"$f":"IF(AND(INTRO!$E$37=\"Non endémique\",INTRO!$E$41=\"Non endémique\"),0,IF(AND(OR(COUNTRY_INFO!$H96=0,COUNTRY_INFO!$H96=4,COUNTRY_INFO!$H96=99),OR(COUNTRY_INFO!$J96=0,COUNTRY_INFO!$J96=4)),0,COUNTRY_INFO!$F96))","v":30615},48172,{"$f":"IF(AND(INTRO!$E$37=\"Non endémique\",INTRO!$E$41=\"Non endémique\"),0,COUNTRY_INFO!Q96)","v":0},{"$f":"IF(AND(INTRO!$E$37=\"Non endémique\",INTRO!$E$41=\"Non endémique\"),0,COUNTRY_INFO!S96)","v":0},{"$f":"IF($G96=1,IVM!$G96,0)","v":0},{"$f":"IF($G96=0, \" \", IF(COUNTRY_INFO!$H96=1, IF(COUNTRY_INFO!$L96=1, 0,\" \"),\" \"))","v":" "},null,"ALB",{"$f":"IF($L96=\"ALB\", IF(INTRO!$E$39=\"Non endémique\",IF($H96<>0,$D96*($H96-$G96),0),$D96*$H96), 0)","v":0},0,null,0,{"$f":"IF($L96=\"MBD\", IF(INTRO!$E$39=\"Non endémique\",IF($H96<>0,$D96*($H96-$G96),0),$D96*$H96),0)","v":0},0,null,0,null,0,0,null,0,0,null,0,0]
[{"$f":"IF(AND(INTRO!$E$37=\"Non endémique\",INTRO!$E$41=\"Non endémique\"),\" \",IF(COUNTRY_INFO!A97=0,\" \",COUNTRY_INFO!A97))","v":"Angola"},{"$f":"IF(AND(INTRO!$E$37=\"Non endémique\",INTRO!$E$41=\"Non endémique\"),\" \",IF(COUNTRY_INFO!B97=0,\" \",COUNTRY_INFO!B97))","v":"CUANZA SUL"},{"$f":"IF(AND(INTRO!$E$37=\"Non endémique\",INTRO!$E$41=\"Non endémique\"),\" \",IF(COUNTRY_INFO!C97=0,\" \",COUNTRY_INFO!C97))","v":"PORTO AMBOIM"},{"$f":"IF(AND(INTRO!$E$37=\"Non endémique\",INTRO!$E$41=\"Non endémique\"),0,IF(AND(OR(COUNTRY_INFO!$H97=0,COUNTRY_INFO!$H97=4,COUNTRY_INFO!$H97=99),OR(COUNTRY_INFO!$J97=0,COUNTRY_INFO!$J97=4)),0,COUNTRY_INFO!$E97))","v":26793},{"$f":"IF(AND(INTRO!$E$37=\"Non endémique\",INTRO!$E$41=\"Non endémique\"),0,IF(AND(OR(COUNTRY_INFO!$H97=0,COUNTRY_INFO!$H97=4,COUNTRY_INFO!$H97=99),OR(COUNTRY_INFO!$J97=0,COUNTRY_INFO!$J97=4)),0,COUNTRY_INFO!$F97))","v":46721},73514,{"$f":"IF(AND(INTRO!$E$37=\"Non endémique\",INTRO!$E$41=\"Non endémique\"),0,COUNTRY_INFO!Q97)","v":1},{"$f":"IF(AND(INTRO!$E$37=\"Non endémique\",INTRO!$E$41=\"Non endémique\"),0,COUNTRY_INFO!S97)","v":0},{"$f":"IF($G97=1,IVM!$G97,0)","v":7004},127968,2,"ALB",{"$f":"IF($L97=\"ALB\", IF(INTRO!$E$39=\"Non endémique\",IF($H97<>0,$D97*($H97-$G97),0),$D97*$H97), 0)","v":0},0,null,0,{"$f":"IF($L97=\"MBD\", IF(INTRO!$E$39=\"Non endémique\",IF($H97<>0,$D97*($H97-$G97),0),$D97*$H97),0)","v":0},0,null,0,null,262940,1315,null,0,0,null,0,0]
[{"$f":"IF(AND(INTRO!$E$37=\"Non endémique\",INTRO!$E$41=\"Non endémique\"),\" \",IF(COUNTRY_INFO!A98=0,\" \",COUNTRY_INFO!A98))","v":"Angola"},{"$f":"IF(AND(INTRO!$E$37=\"Non endémique\",INTRO!$E$41=\"Non endémique\"),\" \",IF(COUNTRY_INFO!B98=0,\" \",COUNTRY_INFO!B98))","v":"CUANZA SUL"},{"$f":"IF(AND(INTRO!$E$37=\"Non endémique\",INTRO!$E$41=\"Non endémique\"),\" \",IF(COUNTRY_INFO!C98=0,\" \",COUNTRY_INFO!C98))","v":"SELES"},{"$f":"IF(AND(INTRO!$E$37=\"Non endémique\",INTRO!$E$41=\"Non endémique\"),0,IF(AND(OR(COUNTRY_INFO!$H98=0,COUNTRY_INFO!$H98=4,COUNTRY_INFO!$H98=99),OR(COUNTRY_INFO!$J98=0,COUNTRY_INFO!$J98=4)),0,COUNTRY_INFO!$E98))","v":39801},{"$f":"IF(AND(INTRO!$E$37=\"Non endémique\",INTRO!$E$41=\"Non endémique\"),0,IF(AND(OR(COUNTRY_INFO!$H98=0,COUNTRY_INFO!$H98=4,COUNTRY_INFO!$H98=99),OR(COUNTRY_INFO!$J98=0,COUNTRY_INFO!$J98=4)),0,COUNTRY_INFO!$F98))","v":69404},109205,{"$f":"IF(AND(INTRO!$E$37=\"Non endémique\",INTRO!$E$41=\"Non endémique\"),0,COUNTRY_INFO!Q98)","v":0},{"$f":"IF(AND(INTRO!$E$37=\"Non endémique\",INTRO!$E$41=\"Non endémique\"),0,COUNTRY_INFO!S98)","v":0},{"$f":"IF($G98=1,IVM!$G98,0)","v":0},{"$f":"IF($G98=0, \" \", IF(COUNTRY_INFO!$H98=1, IF(COUNTRY_INFO!$L98=1, 0,\" \"),\" \"))","v":" "},null,"ALB",{"$f":"IF($L98=\"ALB\", IF(INTRO!$E$39=\"Non endémique\",IF($H98<>0,$D98*($H98-$G98),0),$D98*$H98), 0)","v":0},0,null,0,{"$f":"IF($L98=\"MBD\", IF(INTRO!$E$39=\"Non endémique\",IF($H98<>0,$D98*($H98-$G98),0),$D98*$H98),0)","v":0},0,null,0,null,0,0,null,0,0,null,0,0]
[{"$f":"IF(AND(INTRO!$E$37=\"Non endémique\",INTRO!$E$41=\"Non endémique\"),\" \",IF(COUNTRY_INFO!A99=0,\" \",COUNTRY_INFO!A99))","v":"Angola"},{"$f":"IF(AND(INTRO!$E$37=\"Non endémique\",INTRO!$E$41=\"Non endémique\"),\" \",IF(COUNTRY_INFO!B99=0,\" \",COUNTRY_INFO!B99))","v":"CUANZA SUL"},{"$f":"IF(AND(INTRO!$E$37=\"Non endémique\",INTRO!$E$41=\"Non endémique\"),\" \",IF(COUNTRY_INFO!C99=0,\" \",COUNTRY_INFO!C99))","v":"SUMBE"},{"$f":"IF(AND(INTRO!$E$37=\"Non endémique\",INTRO!$E$41=\"Non endémique\"),0,IF(AND(OR(COUNTRY_INFO!$H99=0,COUNTRY_INFO!$H99=4,COUNTRY_INFO!$H99=99),OR(COUNTRY_INFO!$J99=0,COUNTRY_INFO!$J99=4)),0,COUNTRY_INFO!$E99))","v":59548},{"$f":"IF(AND(INTRO!$E$37=\"Non endémique\",INTRO!$E$41=\"Non endémique\"),0,IF(AND(OR(COUNTRY_INFO!$H99=0,COUNTRY_INFO!$H99=4,COUNTRY_INFO!$H99=99),OR(COUNTRY_INFO!$J99=0,COUNTRY_INFO!$J99=4)),0,COUNTRY_INFO!$F99))","v":103837},163385,{"$f":"IF(AND(INTRO!$E$37=\"Non endémique\",INTRO!$E$41=\"Non endémique\"),0,COUNTRY_INFO!Q99)","v":0},{"$f":"IF(AND(INTRO!$E$37=\"Non endémique\",INTRO!$E$41=\"Non endémique\"),0,COUNTRY_INFO!S99)","v":0},{"$f":"IF($G99=1,IVM!$G99,0)","v":0},{"$f":"IF($G99=0, \" \", IF(COUNTRY_INFO!$H99=1, IF(COUNTRY_INFO!$L99=1, 0,\" \"),\" \"))","v":" "},null,"ALB",{"$f":"IF($L99=\"ALB\", IF(INTRO!$E$39=\"Non endémique\",IF($H99<>0,$D99*($H99-$G99),0),$D99*$H99), 0)","v":0},0,null,0,{"$f":"IF($L99=\"MBD\", IF(INTRO!$E$39=\"Non endémique\",IF($H99<>0,$D99*($H99-$G99),0),$D99*$H99),0)","v":0},0,null,0,null,0,0,null,0,0,null,0,0]
[{"$f":"IF(AND(INTRO!$E$37=\"Non endémique\",INTRO!$E$41=\"Non endémique\"),\" \",IF(COUNTRY_INFO!A100=0,\" \",COUNTRY_INFO!A100))","v":"Angola"},{"$f":"IF(AND(INTRO!$E$37=\"Non endémique\",INTRO!$E$41=\"Non endémique\"),\" \",IF(COUNTRY_INFO!B100=0,\" \",COUNTRY_INFO!B100))","v":"LUANDA"},{"$f":"IF(AND(INTRO!$E$37=\"Non endémique\",INTRO!$E$41=\"Non endémique\"),\" \",IF(COUNTRY_INFO!C100=0,\" \",COUNTRY_INFO!C100))","v":"BELAS"},{"$f":"IF(AND(INTRO!$E$37=\"Non endémique\",INTRO!$E$41=\"Non endémique\"),0,IF(AND(OR(COUNTRY_INFO!$H100=0,COUNTRY_INFO!$H100=4,COUNTRY_INFO!$H100=99),OR(COUNTRY_INFO!$J100=0,COUNTRY_INFO!$J100=4)),0,COUNTRY_INFO!$E100))","v":60587},{"$f":"IF(AND(INTRO!$E$37=\"Non endémique\",INTRO!$E$41=\"Non endémique\"),0,IF(AND(OR(COUNTRY_INFO!$H100=0,COUNTRY_INFO!$H100=4,COUNTRY_INFO!$H100=99),OR(COUNTRY_INFO!$J100=0,COUNTRY_INFO!$J100=4)),0,COUNTRY_INFO!$F100))","v":105649},166236,{"$f":"IF(AND(INTRO!$E$37=\"Non endémique\",INTRO!$E$41=\"Non endémique\"),0,COUNTRY_INFO!Q100)","v":0},{"$f":"IF(AND(INTRO!$E$37=\"Non endémique\",INTRO!$E$41=\"Non endémique\"),0,COUNTRY_INFO!S100)","v":0},{"$f":"IF($G100=1,IVM!$G100,0)","v":0},{"$f":"IF($G100=0, \" \", IF(COUNTRY_INFO!$H100=1, IF(COUNTRY_INFO!$L100=1, 0,\" \"),\" \"))","v":" "},null,"ALB",{"$f":"IF($L100=\"ALB\", IF(INTRO!$E$39=\"Non endémique\",IF($H100<>0,$D100*($H100-$G100),0),$D100*$H100), 0)","v":0},0,null,0,{"$f":"IF($L100=\"MBD\", IF(INTRO!$E$39=\"Non endémique\",IF($H100<>0,$D100*($H100-$G100),0),$D100*$H100),0)","v":0},0,null,0,null,0,0,null,0,0,null,0,0]
[{"$f":"IF(AND(INTRO!$E$37=\"Non endémique\",INTRO!$E$41=\"Non endémique\"),\" \",IF(COUNTRY_INFO!A101=0,\" \",COUNTRY_INFO!A101))","v":"Angola"},{"$f":"IF(AND(INTRO!$E$37=\"Non endémique\",INTRO!$E$41=\"Non endémique\"),\" \",IF(COUNTRY_INFO!B101=0,\" \",COUNTRY_INFO!B101))","v":"LUANDA"},{"$f":"IF(AND(INTRO!$E$37=\"Non endémique\",INTRO!$E$41=\"Non endémique\"),\" \",IF(COUNTRY_INFO!C101=0,\" \",COUNTRY_INFO!C101))","v":"CACUACO"},{"$f":"IF(AND(INTRO!$E$37=\"Non endémique\",INTRO!$E$41=\"Non endémique\"),0,IF(AND(OR(COUNTRY_INFO!$H101=0,COUNTRY_INFO!$H101=4,COUNTRY_INFO!$H101=99),OR(COUNTRY_INFO!$J101=0,COUNTRY_INFO!$J101=4)),0,COUNTRY_INFO!$E101))","v":0},{"$f":"IF(AND(INTRO!$E$37=\"Non endémique\",INTRO!$E$41=\"Non endémique\"),0,IF(AND(OR(COUNTRY_INFO!$H101=0,COUNTRY_INFO!$H101=4,COUNTRY_INFO!$H101=99),OR(COUNTRY_INFO!$J101=0,COUNTRY_INFO!$J101=4)),0,COUNTRY_INFO!$F101))","v":0},0,{"$f":"IF(AND(INTRO!$E$37=\"Non endémique\",INTRO!$E$41=\"Non endémique\"),0,COUNTRY_INFO!Q101)","v":0},{"$f":"IF(AND(INTRO!$E$37=\"Non endémique\",INTRO!$E$41=\"Non endémique\"),0,COUNTRY_INFO!S101)","v":0},{"$f":"IF($G101=1,IVM!$G101,0)","v":0},{"$f":"IF($G101=0, \" \", IF(COUNTRY_INFO!$H101=1, IF(COUNTRY_INFO!$L101=1, 0,\" \"),\" \"))","v":" "},null,"ALB",{"$f":"IF($L101=\"ALB\", IF(INTRO!$E$39=\"Non endémique\",IF($H101<>0,$D101*($H101-$G101),0),$D101*$H101), 0)","v":0},0,null,0,{"$f":"IF($L101=\"MBD\", IF(INTRO!$E$39=\"Non endémique\",IF($H101<>0,$D101*($H101-$G101),0),$D101*$H101),0)","v":0},0,null,0,null,0,0,null,0,0,null,0,0]
[{"$f":"IF(AND(INTRO!$E$37=\"Non endémique\",INTRO!$E$41=\"Non endémique\"),\" \",IF(COUNTRY_INFO!A102=0,\" \",COUNTRY_INFO!A102))","v":"Angola"},{"$f":"IF(AND(INTRO!$E$37=\"Non endémique\",INTRO!$E$41=\"Non endémique\"),\" \",IF(COUNTRY_INFO!B102=0,\" \",COUNTRY_INFO!B102))","v":"LUANDA"},{"$f":"IF(AND(INTRO!$E$37=\"Non endémique\",INTRO!$E$41=\"Non endémique\"),\" \",IF(COUNTRY_INFO!C102=0,\" \",COUNTRY_INFO!C102))","v":"CAZENGA"},{"$f":"IF(AND(INTRO!$E$37=\"Non endémique\",INTRO!$E$41=\"Non endémique\"),0,IF(AND(OR(COUNTRY_INFO!$H102=0,COUNTRY_INFO!$H102=4,COUNTRY_INFO!$H102=99),OR(COUNTRY_INFO!$J102=0,COUNTRY_INFO!$J102=4)),0,COUNTRY_INFO!$E102))","v":250920},{"$f":"IF(AND(INTRO!$E$37=\"Non endémique\",INTRO!$E$41=\"Non endémique\"),0,IF(AND(OR(COUNTRY_INFO!$H102=0,COUNTRY_INFO!$H102=4,COUNTRY_INFO!$H102=99),OR(COUNTRY_INFO!$J102=0,COUNTRY_INFO!$J102=4)),0,COUNTRY_INFO!$F102))","v":437542},688462,{"$f":"IF(AND(INTRO!$E$37=\"Non endémique\",INTRO!$E$41=\"Non endémique\"),0,COUNTRY_INFO!Q102)","v":0},{"$f":"IF(AND(INTRO!$E$37=\"Non endémique\",INTRO!$E$41=\"Non endémique\"),0,COUNTRY_INFO!S102)","v":0},{"$f":"IF($G102=1,IVM!$G102,0)","v":0},{"$f":"IF($G102=0, \" \", IF(COUNTRY_INFO!$H102=1, IF(COUNTRY_INFO!$L102=1, 0,\" \"),\" \"))","v":" "},null,"ALB",{"$f":"IF($L102=\"ALB\", IF(INTRO!$E$39=\"Non endémique\",IF($H102<>0,$D102*($H102-$G102),0),$D102*$H102), 0)","v":0},0,null,0,{"$f":"IF($L102=\"MBD\", IF(INTRO!$E$39=\"Non endémique\",IF($H102<>0,$D102*($H102-$G102),0),$D102*$H102),0)","v":0},0,null,0,null,0,0,null,0,0,null,0,0]
[{"$f":"IF(AND(INTRO!$E$37=\"Non endémique\",INTRO!$E$41=\"Non endémique\"),\" \",IF(COUNTRY_INFO!A103=0,\" \",COUNTRY_INFO!A103))","v":"Angola"},{"$f":"IF(AND(INTRO!$E$37=\"Non endémique\",INTRO!$E$41=\"Non endémique\"),\" \",IF(COUNTRY_INFO!B103=0,\" \",COUNTRY_INFO!B103))","v":"LUANDA"},{"$f":"IF(AND(INTRO!$E$37=\"Non endémique\",INTRO!$E$41=\"Non endémique\"),\" \",IF(COUNTRY_INFO!C103=0,\" \",COUNTRY_INFO!C103))","v":"ICOLO E BENGO"},{"$f":"IF(AND(INTRO!$E$37=\"Non endémique\",INTRO!$E$41=\"Non endémique\"),0,IF(AND(OR(COUNTRY_INFO!$H103=0,COUNTRY_INFO!$H103=4,COUNTRY_INFO!$H103=99),OR(COUNTRY_INFO!$J103=0,COUNTRY_INFO!$J103=4)),0,COUNTRY_INFO!$E103))","v":20419},{"$f":"IF(AND(INTRO!$E$37=\"Non endémique\",INTRO!$E$41=\"Non endémique\"),0,IF(AND(OR(COUNTRY_INFO!$H103=0,COUNTRY_INFO!$H103=4,COUNTRY_INFO!$H103=99),OR(COUNTRY_INFO!$J103=0,COUNTRY_INFO!$J103=4)),0,COUNTRY_INFO!$F103))","v":35605},56024,{"$f":"IF(AND(INTRO!$E$37=\"Non endémique\",INTRO!$E$41=\"Non endémique\"),0,COUNTRY_INFO!Q103)","v":0},{"$f":"IF(AND(INTRO!$E$37=\"Non endémique\",INTRO!$E$41=\"Non endémique\"),0,COUNTRY_INFO!S103)","v":1},{"$f":"IF($G103=1,IVM!$G103,0)","v":0},{"$f":"IF($G103=0, \" \", IF(COUNTRY_INFO!$H103=1, IF(COUNTRY_INFO!$L103=1, 0,\" \"),\" \"))","v":" "},null,"ALB",{"$f":"IF($L103=\"ALB\", IF(INTRO!$E$39=\"Non endémique\",IF($H103<>0,$D103*($H103-$G103),0),$D103*$H103), 0)","v":20419},35605,null,56024,{"$f":"IF($L103=\"MBD\", IF(INTRO!$E$39=\"Non endémique\",IF($H103<>0,$D103*($H103-$G103),0),$D103*$H103),0)","v":0},0,null,0,null,0,0,null,35605,179,null,0,0]
[{"$f":"IF(AND(INTRO!$E$37=\"Non endémique\",INTRO!$E$41=\"Non endémique\"),\" \",IF(COUNTRY_INFO!A104=0,\" \",COUNTRY_INFO!A104))","v":"Angola"},{"$f":"IF(AND(INTRO!$E$37=\"Non endémique\",INTRO!$E$41=\"Non endémique\"),\" \",IF(COUNTRY_INFO!B104=0,\" \",COUNTRY_INFO!B104))","v":"LUANDA"},{"$f":"IF(AND(INTRO!$E$37=\"Non endémique\",INTRO!$E$41=\"Non endémique\"),\" \",IF(COUNTRY_INFO!C104=0,\" \",COUNTRY_INFO!C104))","v":"KILAMBA KIAXI"},{"$f":"IF(AND(INTRO!$E$37=\"Non endémique\",INTRO!$E$41=\"Non endémique\"),0,IF(AND(OR(COUNTRY_INFO!$H104=0,COUNTRY_INFO!$H104=4,COUNTRY_INFO!$H104=99),OR(COUNTRY_INFO!$J104=0,COUNTRY_INFO!$J104=4)),0,COUNTRY_INFO!$E104))","v":0},{"$f":"IF(AND(INTRO!$E$37=\"Non endémique\",INTRO!$E$41=\"Non endémique\"),0,IF(AND(OR(COUNTRY_INFO!$H104=0,COUNTRY_INFO!$H104=4,COUNTRY_INFO!$H104=99),OR(COUNTRY_INFO!$J104=0,COUNTRY_INFO!$J104=4)),0,COUNTRY_INFO!$F104))","v":0},0,{"$f":"IF(AND(INTRO!$E$37=\"Non endémique\",INTRO!$E$41=\"Non endémique\"),0,COUNTRY_INFO!Q104)","v":0},{"$f":"IF(AND(INTRO!$E$37=\"Non endémique\",INTRO!$E$41=\"Non endémique\"),0,COUNTRY_INFO!S104)","v":0},{"$f":"IF($G104=1,IVM!$G104,0)","v":0},{"$f":"IF($G104=0, \" \", IF(COUNTRY_INFO!$H104=1, IF(COUNTRY_INFO!$L104=1, 0,\" \"),\" \"))","v":" "},null,"ALB",{"$f":"IF($L104=\"ALB\", IF(INTRO!$E$39=\"Non endémique\",IF($H104<>0,$D104*($H104-$G104),0),$D104*$H104), 0)","v":0},0,null,0,{"$f":"IF($L104=\"MBD\", IF(INTRO!$E$39=\"Non endémique\",IF($H104<>0,$D104*($H104-$G104),0),$D104*$H104),0)","v":0},0,null,0,null,0,0,null,0,0,null,0,0]
[{"$f":"IF(AND(INTRO!$E$37=\"Non endémique\",INTRO!$E$41=\"Non endémique\"),\" \",IF(COUNTRY_INFO!A105=0,\" \",COUNTRY_INFO!A105))","v":"Angola"},{"$f":"IF(AND(INTRO!$E$37=\"Non endémique\",INTRO!$E$41=\"Non endémique\"),\" \",IF(COUNTRY_INFO!B105=0,\" \",COUNTRY_INFO!B105))","v":"LUANDA"},{"$f":"IF(AND(INTRO!$E$37=\"Non endémique\",INTRO!$E$41=\"Non endémique\"),\" \",IF(COUNTRY_INFO!C105=0,\" \",COUNTRY_INFO!C105))","v":"LUANDA"},{"$f":"IF(AND(INTRO!$E$37=\"Non endémique\",INTRO!$E$41=\"Non endémique\"),0,IF(AND(OR(COUNTRY_INFO!$H105=0,COUNTRY_INFO!$H105=4,COUNTRY_INFO!$H105=99),OR(COUNTRY_INFO!$J105=0,COUNTRY_INFO!$J105=4)),0,COUNTRY_INFO!$E105))","v":301661},{"$f":"IF(AND(INTRO!$E$37=\"Non endémique\",INTRO!$E$41=\"Non endémique\"),0,IF(AND(OR(COUNTRY_INFO!$H105=0,COUNTRY_INFO!$H105=4,COUNTRY_INFO!$H105=99),OR(COUNTRY_INFO!$J105=0,COUNTRY_INFO!$J105=4)),0,COUNTRY_INFO!$F105))","v":526022},{"$f":"SUM(D105:E105)","v":827683},{"$f":"IF(AND(INTRO!$E$37=\"Non endémique\",INTRO!$E$41=\"Non endémique\"),0,COUNTRY_INFO!Q105)","v":0},{"$f":"IF(AND(INTRO!$E$37=\"Non endémique\",INTRO!$E$41=\"Non endémique\"),0,COUNTRY_INFO!S105)","v":1},{"$f":"IF($G105=1,IVM!$G105,0)","v":0},{"$f":"IF($G105=0, \" \", IF(COUNTRY_INFO!$H105=1, IF(COUNTRY_INFO!$L105=1, 0,\" \"),\" \"))","v":" "},null,"ALB",{"$f":"IF($L105=\"ALB\", IF(INTRO!$E$39=\"Non endémique\",IF($H105<>0,$D105*($H105-$G105),0),$D105*$H105), 0)","v":301661},{"$f":"IF($L105=\"ALB\", IF($H105=0, 0, IF(AND($I105=0, OR($J105=0,$J105=\" \")), $E105*$H105, IF(AND($I105=0, $J105>0), IF(($H105-$K105)<=0, 0, $E105*(MAX($H105,$K105)-MIN($H105,$K105))), IF(AND($I105>0, $J105=0), $E105*($H105-$G105), IF($J105=\" \", $E105*($H105-$G105), $J105*$E105/($I105+$J105)*$K105+$I105*$E105/($I105+$J105)*($H105-$G105)))))), 0)","v":526022},null,{"$f":"SUM(M105:O105)","v":827683},{"$f":"IF($L105=\"MBD\", IF(INTRO!$E$39=\"Non endémique\",IF($H105<>0,$D105*($H105-$G105),0),$D105*$H105),0)","v":0},{"$f":"IF($L105=\"MBD\", IF($H105=0, 0, IF(AND($I105=0, OR($J105=0,$J105=\" \")), $E105*$H105, IF(AND($I105=0, $J105>0), IF(($H105-$K105)<=0, 0, $E105*(MAX($H105,$K105)-MIN($H105,$K105))), IF(AND($I105>0, $J105=0), $E105*($H105-$G105), IF($J105=\" \", $E105*($H105-$G105), $J105*$E105/($I105+$J105)*$K105+$I105*$E105/($I105+$J105)*($H105-$G105)))))), 0)","v":0},null,{"$f":"SUM(Q105:S105)","v":0},null,{"$f":"IF($J105<>\" \", IF(($I105+$J105*$K105)>$U105, ($I105+$J105*$K105)-$U105,0), IF($I105>$U105, $I105-$U105, 0))","v":0},{"$f":"IF($J105<>\" \", ROUNDUP(($I105+$J105*$K105)/200,0), ROUNDUP($I105/200,0))","v":0},null,{"$f":"IF($N105>$X105,$N105-$X105,0)","v":526022},{"$f":"ROUNDUP($N105/200,0)","v":2631},null,{"$f":"IF($R105>$AA105,$R105-$AA105,0)","v":0},{"$f":"ROUNDUP($R105/150,0)","v":0}]
[{"$f":"IF(AND(INTRO!$E$37=\"Non endémique\",INTRO!$E$41=\"Non endémique\"),\" \",IF(COUNTRY_INFO!A106=0,\" \",COUNTRY_INFO!A106))","v":"Angola"},{"$f":"IF(AND(INTRO!$E$37=\"Non endémique\",INTRO!$E$41=\"Non endémique\"),\" \",IF(COUNTRY_INFO!B106=0,\" \",COUNTRY_INFO!B106))","v":"LUANDA"},{"$f":"IF(AND(INTRO!$E$37=\"Non endémique\",INTRO!$E$41=\"Non endémique\"),\" \",IF(COUNTRY_INFO!C106=0,\" \",COUNTRY_INFO!C106))","v":"QUIÇAMA"},{"$f":"IF(AND(INTRO!$E$37=\"Non endémique\",INTRO!$E$41=\"Non endémique\"),0,IF(AND(OR(COUNTRY_INFO!$H106=0,COUNTRY_INFO!$H106=4,COUNTRY_INFO!$H106=99),OR(COUNTRY_INFO!$J106=0,COUNTRY_INFO!$J106=4)),0,COUNTRY_INFO!$E106))","v":5696},{"$f":"IF(AND(INTRO!$E$37=\"Non endémique\",INTRO!$E$41=\"Non endémique\"),0,IF(AND(OR(COUNTRY_INFO!$H106=0,COUNTRY_INFO!$H106=4,COUNTRY_INFO!$H106=99),OR(COUNTRY_INFO!$J106=0,COUNTRY_INFO!$J106=4)),0,COUNTRY_INFO!$F106))","v":9932},15628,{"$f":"IF(AND(INTRO!$E$37=\"Non endémique\",INTRO!$E$41=\"Non endémique\"),0,COUNTRY_INFO!Q106)","v":0},{"$f":"IF(AND(INTRO!$E$37=\"Non endémique\",INTRO!$E$41=\"Non endémique\"),0,COUNTRY_INFO!S106)","v":0},{"$f":"IF($G106=1,IVM!$G106,0)","v":0},{"$f":"IF($G106=0, \" \", IF(COUNTRY_INFO!$H106=1, IF(COUNTRY_INFO!$L106=1, 0,\" \"),\" \"))","v":" "},null,"ALB",{"$f":"IF($L106=\"ALB\", IF(INTRO!$E$39=\"Non endémique\",IF($H106<>0,$D106*($H106-$G106),0),$D106*$H106), 0)","v":0},0,null,0,{"$f":"IF($L106=\"MBD\", IF(INTRO!$E$39=\"Non endémique\",IF($H106<>0,$D106*($H106-$G106),0),$D106*$H106),0)","v":0},0,null,0,null,0,0,null,0,0,null,0,0]
[{"$f":"IF(AND(INTRO!$E$37=\"Non endémique\",INTRO!$E$41=\"Non endémique\"),\" \",IF(COUNTRY_INFO!A107=0,\" \",COUNTRY_INFO!A107))","v":"Angola"},{"$f":"IF(AND(INTRO!$E$37=\"Non endémique\",INTRO!$E$41=\"Non endémique\"),\" \",IF(COUNTRY_INFO!B107=0,\" \",COUNTRY_INFO!B107))","v":"LUANDA"},{"$f":"IF(AND(INTRO!$E$37=\"Non endémique\",INTRO!$E$41=\"Non endémique\"),\" \",IF(COUNTRY_INFO!C107=0,\" \",COUNTRY_INFO!C107))","v":"TALATONA"},{"$f":"IF(AND(INTRO!$E$37=\"Non endémique\",INTRO!$E$41=\"Non endémique\"),0,IF(AND(OR(COUNTRY_INFO!$H107=0,COUNTRY_INFO!$H107=4,COUNTRY_INFO!$H107=99),OR(COUNTRY_INFO!$J107=0,COUNTRY_INFO!$J107=4)),0,COUNTRY_INFO!$E107))","v":159860},{"$f":"IF(AND(INTRO!$E$37=\"Non endémique\",INTRO!$E$41=\"Non endémique\"),0,IF(AND(OR(COUNTRY_INFO!$H107=0,COUNTRY_INFO!$H107=4,COUNTRY_INFO!$H107=99),OR(COUNTRY_INFO!$J107=0,COUNTRY_INFO!$J107=4)),0,COUNTRY_INFO!$F107))","v":278755},438615,{"$f":"IF(AND(INTRO!$E$37=\"Non endémique\",INTRO!$E$41=\"Non endémique\"),0,COUNTRY_INFO!Q107)","v":0},{"$f":"IF(AND(INTRO!$E$37=\"Non endémique\",INTRO!$E$41=\"Non endémique\"),0,COUNTRY_INFO!S107)","v":0},{"$f":"IF($G107=1,IVM!$G107,0)","v":0},{"$f":"IF($G107=0, \" \", IF(COUNTRY_INFO!$H107=1, IF(COUNTRY_INFO!$L107=1, 0,\" \"),\" \"))","v":" "},null,"ALB",{"$f":"IF($L107=\"ALB\", IF(INTRO!$E$39=\"Non endémique\",IF($H107<>0,$D107*($H107-$G107),0),$D107*$H107), 0)","v":0},0,null,0,{"$f":"IF($L107=\"MBD\", IF(INTRO!$E$39=\"Non endémique\",IF($H107<>0,$D107*($H107-$G107),0),$D107*$H107),0)","v":0},0,null,0,null,0,0,null,0,0,null,0,0]
[{"$f":"IF(AND(INTRO!$E$37=\"Non endémique\",INTRO!$E$41=\"Non endémique\"),\" \",IF(COUNTRY_INFO!A108=0,\" \",COUNTRY_INFO!A108))","v":"Angola"},{"$f":"IF(AND(INTRO!$E$37=\"Non endémique\",INTRO!$E$41=\"Non endémique\"),\" \",IF(COUNTRY_INFO!B108=0,\" \",COUNTRY_INFO!B108))","v":"LUANDA"},{"$f":"IF(AND(INTRO!$E$37=\"Non endémique\",INTRO!$E$41=\"Non endémique\"),\" \",IF(COUNTRY_INFO!C108=0,\" \",COUNTRY_INFO!C108))","v":"VIANA"},{"$f":"IF(AND(INTRO!$E$37=\"Non endémique\",INTRO!$E$41=\"Non endémique\"),0,IF(AND(OR(COUNTRY_INFO!$H108=0,COUNTRY_INFO!$H108=4,COUNTRY_INFO!$H108=99),OR(COUNTRY_INFO!$J108=0,COUNTRY_INFO!$J108=4)),0,COUNTRY_INFO!$E108))","v":0},{"$f":"IF(AND(INTRO!$E$37=\"Non endémique\",INTRO!$E$41=\"Non endémique\"),0,IF(AND(OR(COUNTRY_INFO!$H108=0,COUNTRY_INFO!$H108=4,COUNTRY_INFO!$H108=99),OR(COUNTRY_INFO!$J108=0,COUNTRY_INFO!$J108=4)),0,COUNTRY_INFO!$F108))","v":0},0,{"$f":"IF(AND(INTRO!$E$37=\"Non endémique\",INTRO!$E$41=\"Non endémique\"),0,COUNTRY_INFO!Q108)","v":0},{"$f":"IF(AND(INTRO!$E$37=\"Non endémique\",INTRO!$E$41=\"Non endémique\"),0,COUNTRY_INFO!S108)","v":0},{"$f":"IF($G108=1,IVM!$G108,0)","v":0},{"$f":"IF($G108=0, \" \", IF(COUNTRY_INFO!$H108=1, IF(COUNTRY_INFO!$L108=1, 0,\" \"),\" \"))","v":" "},null,"ALB",{"$f":"IF($L108=\"ALB\", IF(INTRO!$E$39=\"Non endémique\",IF($H108<>0,$D108*($H108-$G108),0),$D108*$H108), 0)","v":0},0,null,0,{"$f":"IF($L108=\"MBD\", IF(INTRO!$E$39=\"Non endémique\",IF($H108<>0,$D108*($H108-$G108),0),$D108*$H108),0)","v":0},0,null,0,null,0,0,null,0,0,null,0,0]
[{"$f":"IF(AND(INTRO!$E$37=\"Non endémique\",INTRO!$E$41=\"Non endémique\"),\" \",IF(COUNTRY_INFO!A109=0,\" \",COUNTRY_INFO!A109))","v":"Angola"},{"$f":"IF(AND(INTRO!$E$37=\"Non endémique\",INTRO!$E$41=\"Non endémique\"),\" \",IF(COUNTRY_INFO!B109=0,\" \",COUNTRY_INFO!B109))","v":"LUNDA NORTE"},{"$f":"IF(AND(INTRO!$E$37=\"Non endémique\",INTRO!$E$41=\"Non endémique\"),\" \",IF(COUNTRY_INFO!C109=0,\" \",COUNTRY_INFO!C109))","v":"CAMBULO"},{"$f":"IF(AND(INTRO!$E$37=\"Non endémique\",INTRO!$E$41=\"Non endémique\"),0,IF(AND(OR(COUNTRY_INFO!$H109=0,COUNTRY_INFO!$H109=4,COUNTRY_INFO!$H109=99),OR(COUNTRY_INFO!$J109=0,COUNTRY_INFO!$J109=4)),0,COUNTRY_INFO!$E109))","v":25631},{"$f":"IF(AND(INTRO!$E$37=\"Non endémique\",INTRO!$E$41=\"Non endémique\"),0,IF(AND(OR(COUNTRY_INFO!$H109=0,COUNTRY_INFO!$H109=4,COUNTRY_INFO!$H109=99),OR(COUNTRY_INFO!$J109=0,COUNTRY_INFO!$J109=4)),0,COUNTRY_INFO!$F109))","v":44695},70326,{"$f":"IF(AND(INTRO!$E$37=\"Non endémique\",INTRO!$E$41=\"Non endémique\"),0,COUNTRY_INFO!Q109)","v":1},{"$f":"IF(AND(INTRO!$E$37=\"Non endémique\",INTRO!$E$41=\"Non endémique\"),0,COUNTRY_INFO!S109)","v":2},{"$f":"IF($G109=1,IVM!$G109,0)","v":129118},{"$f":"IF($G109=0, \" \", IF(COUNTRY_INFO!$H109=1, IF(COUNTRY_INFO!$L109=1, 0,\" \"),\" \"))","v":" "},null,"ALB",{"$f":"IF($L109=\"ALB\", IF(INTRO!$E$39=\"Non endémique\",IF($H109<>0,$D109*($H109-$G109),0),$D109*$H109), 0)","v":51262},44695,null,95957,{"$f":"IF($L109=\"MBD\", IF(INTRO!$E$39=\"Non endémique\",IF($H109<>0,$D109*($H109-$G109),0),$D109*$H109),0)","v":0},0,null,0,null,129118,646,null,44695,224,null,0,0]
[{"$f":"IF(AND(INTRO!$E$37=\"Non endémique\",INTRO!$E$41=\"Non endémique\"),\" \",IF(COUNTRY_INFO!A110=0,\" \",COUNTRY_INFO!A110))","v":"Angola"},{"$f":"IF(AND(INTRO!$E$37=\"Non endémique\",INTRO!$E$41=\"Non endémique\"),\" \",IF(COUNTRY_INFO!B110=0,\" \",COUNTRY_INFO!B110))","v":"LUNDA NORTE"},{"$f":"IF(AND(INTRO!$E$37=\"Non endémique\",INTRO!$E$41=\"Non endémique\"),\" \",IF(COUNTRY_INFO!C110=0,\" \",COUNTRY_INFO!C110))","v":"CAPENDA CAMULEMBA"},{"$f":"IF(AND(INTRO!$E$37=\"Non endémique\",INTRO!$E$41=\"Non endémique\"),0,IF(AND(OR(COUNTRY_INFO!$H110=0,COUNTRY_INFO!$H110=4,COUNTRY_INFO!$H110=99),OR(COUNTRY_INFO!$J110=0,COUNTRY_INFO!$J110=4)),0,COUNTRY_INFO!$E110))","v":12446},{"$f":"IF(AND(INTRO!$E$37=\"Non endémique\",INTRO!$E$41=\"Non endémique\"),0,IF(AND(OR(COUNTRY_INFO!$H110=0,COUNTRY_INFO!$H110=4,COUNTRY_INFO!$H110=99),OR(COUNTRY_INFO!$J110=0,COUNTRY_INFO!$J110=4)),0,COUNTRY_INFO!$F110))","v":21703},34149,{"$f":"IF(AND(INTRO!$E$37=\"Non endémique\",INTRO!$E$41=\"Non endémique\"),0,COUNTRY_INFO!Q110)","v":0},{"$f":"IF(AND(INTRO!$E$37=\"Non endémique\",INTRO!$E$41=\"Non endémique\"),0,COUNTRY_INFO!S110)","v":2},{"$f":"IF($G110=1,IVM!$G110,0)","v":0},{"$f":"IF($G110=0, \" \", IF(COUNTRY_INFO!$H110=1, IF(COUNTRY_INFO!$L110=1, 0,\" \"),\" \"))","v":" "},null,"ALB",{"$f":"IF($L110=\"ALB\", IF(INTRO!$E$39=\"Non endémique\",IF($H110<>0,$D110*($H110-$G110),0),$D110*$H110), 0)","v":24892},43406,null,68298,{"$f":"IF($L110=\"MBD\", IF(INTRO!$E$39=\"Non endémique\",IF($H110<>0,$D110*($H110-$G110),0),$D110*$H110),0)","v":0},0,null,0,null,0,0,null,43406,218,null,0,0]
[{"$f":"IF(AND(INTRO!$E$37=\"Non endémique\",INTRO!$E$41=\"Non endémique\"),\" \",IF(COUNTRY_INFO!A111=0,\" \",COUNTRY_INFO!A111))","v":"Angola"},{"$f":"IF(AND(INTRO!$E$37=\"Non endémique\",INTRO!$E$41=\"Non endémique\"),\" \",IF(COUNTRY_INFO!B111=0,\" \",COUNTRY_INFO!B111))","v":"LUNDA NORTE"},{"$f":"IF(AND(INTRO!$E$37=\"Non endémique\",INTRO!$E$41=\"Non endémique\"),\" \",IF(COUNTRY_INFO!C111=0,\" \",COUNTRY_INFO!C111))","v":"CAUNGULA"},{"$f":"IF(AND(INTRO!$E$37=\"Non endémique\",INTRO!$E$41=\"Non endémique\"),0,IF(AND(OR(COUNTRY_INFO!$H111=0,COUNTRY_INFO!$H111=4,COUNTRY_INFO!$H111=99),OR(COUNTRY_INFO!$J111=0,COUNTRY_INFO!$J111=4)),0,COUNTRY_INFO!$E111))","v":5992},{"$f":"IF(AND(INTRO!$E$37=\"Non endémique\",INTRO!$E$41=\"Non endémique\"),0,IF(AND(OR(COUNTRY_INFO!$H111=0,COUNTRY_INFO!$H111=4,COUNTRY_INFO!$H111=99),OR(COUNTRY_INFO!$J111=0,COUNTRY_INFO!$J111=4)),0,COUNTRY_INFO!$F111))","v":10449},16441,{"$f":"IF(AND(INTRO!$E$37=\"Non endémique\",INTRO!$E$41=\"Non endémique\"),0,COUNTRY_INFO!Q111)","v":0},{"$f":"IF(AND(INTRO!$E$37=\"Non endémique\",INTRO!$E$41=\"Non endémique\"),0,COUNTRY_INFO!S111)","v":1},{"$f":"IF($G111=1,IVM!$G111,0)","v":0},{"$f":"IF($G111=0, \" \", IF(COUNTRY_INFO!$H111=1, IF(COUNTRY_INFO!$L111=1, 0,\" \"),\" \"))","v":" "},null,"ALB",{"$f":"IF($L111=\"ALB\", IF(INTRO!$E$39=\"Non endémique\",IF($H111<>0,$D111*($H111-$G111),0),$D111*$H111), 0)","v":5992},10449,null,16441,{"$f":"IF($L111=\"MBD\", IF(INTRO!$E$39=\"Non endémique\",IF($H111<>0,$D111*($H111-$G111),0),$D111*$H111),0)","v":0},0,null,0,null,0,0,null,10449,53,null,0,0]
[{"$f":"IF(AND(INTRO!$E$37=\"Non endémique\",INTRO!$E$41=\"Non endémique\"),\" \",IF(COUNTRY_INFO!A112=0,\" \",COUNTRY_INFO!A112))","v":"Angola"},{"$f":"IF(AND(INTRO!$E$37=\"Non endémique\",INTRO!$E$41=\"Non endémique\"),\" \",IF(COUNTRY_INFO!B112=0,\" \",COUNTRY_INFO!B112))","v":"LUNDA NORTE"},{"$f":"IF(AND(INTRO!$E$37=\"Non endémique\",INTRO!$E$41=\"Non endémique\"),\" \",IF(COUNTRY_INFO!C112=0,\" \",COUNTRY_INFO!C112))","v":"CHITATO"},{"$f":"IF(AND(INTRO!$E$37=\"Non endémique\",INTRO!$E$41=\"Non endémique\"),0,IF(AND(OR(COUNTRY_INFO!$H112=0,COUNTRY_INFO!$H112=4,COUNTRY_INFO!$H112=99),OR(COUNTRY_INFO!$J112=0,COUNTRY_INFO!$J112=4)),0,COUNTRY_INFO!$E112))","v":40396},{"$f":"IF(AND(INTRO!$E$37=\"Non endémique\",INTRO!$E$41=\"Non endémique\"),0,IF(AND(OR(COUNTRY_INFO!$H112=0,COUNTRY_INFO!$H112=4,COUNTRY_INFO!$H112=99),OR(COUNTRY_INFO!$J112=0,COUNTRY_INFO!$J112=4)),0,COUNTRY_INFO!$F112))","v":70441},110837,{"$f":"IF(AND(INTRO!$E$37=\"Non endémique\",INTRO!$E$41=\"Non endémique\"),0,COUNTRY_INFO!Q112)","v":0},{"$f":"IF(AND(INTRO!$E$37=\"Non endémique\",INTRO!$E$41=\"Non endémique\"),0,COUNTRY_INFO!S112)","v":2},{"$f":"IF($G112=1,IVM!$G112,0)","v":0},{"$f":"IF($G112=0, \" \", IF(COUNTRY_INFO!$H112=1, IF(COUNTRY_INFO!$L112=1, 0,\" \"),\" \"))","v":" "},null,"ALB",{"$f":"IF($L112=\"ALB\", IF(INTRO!$E$39=\"Non endémique\",IF($H112<>0,$D112*($H112-$G112),0),$D112*$H112), 0)","v":80792},140882,null,221674,{"$f":"IF($L112=\"MBD\", IF(INTRO!$E$39=\"Non endémique\",IF($H112<>0,$D112*($H112-$G112),0),$D112*$H112),0)","v":0},0,null,0,null,0,0,null,140882,705,null,0,0]
[{"$f":"IF(AND(INTRO!$E$37=\"Non endémique\",INTRO!$E$41=\"Non endémique\"),\" \",IF(COUNTRY_INFO!A113=0,\" \",COUNTRY_INFO!A113))","v":"Angola"},{"$f":"IF(AND(INTRO!$E$37=\"Non endémique\",INTRO!$E$41=\"Non endémique\"),\" \",IF(COUNTRY_INFO!B113=0,\" \",COUNTRY_INFO!B113))","v":"LUNDA NORTE"},{"$f":"IF(AND(INTRO!$E$37=\"Non endémique\",INTRO!$E$41=\"Non endémique\"),\" \",IF(COUNTRY_INFO!C113=0,\" \",COUNTRY_INFO!C113))","v":"CUANGO"},{"$f":"IF(AND(INTRO!$E$37=\"Non endémique\",INTRO!$E$41=\"Non endémique\"),0,IF(AND(OR(COUNTRY_INFO!$H113=0,COUNTRY_INFO!$H113=4,COUNTRY_INFO!$H113=99),OR(COUNTRY_INFO!$J113=0,COUNTRY_INFO!$J113=4)),0,COUNTRY_INFO!$E113))","v":39221},{"$f":"IF(AND(INTRO!$E$37=\"Non endémique\",INTRO!$E$41=\"Non endémique\"),0,IF(AND(OR(COUNTRY_INFO!$H113=0,COUNTRY_INFO!$H113=4,COUNTRY_INFO!$H113=99),OR(COUNTRY_INFO!$J113=0,COUNTRY_INFO!$J113=4)),0,COUNTRY_INFO!$F113))","v":68392},107613,{"$f":"IF(AND(INTRO!$E$37=\"Non endémique\",INTRO!$E$41=\"Non endémique\"),0,COUNTRY_INFO!Q113)","v":0},{"$f":"IF(AND(INTRO!$E$37=\"Non endémique\",INTRO!$E$41=\"Non endémique\"),0,COUNTRY_INFO!S113)","v":1},{"$f":"IF($G113=1,IVM!$G113,0)","v":0},{"$f":"IF($G113=0, \" \", IF(COUNTRY_INFO!$H113=1, IF(COUNTRY_INFO!$L113=1, 0,\" \"),\" \"))","v":" "},null,"ALB",{"$f":"IF($L113=\"ALB\", IF(INTRO!$E$39=\"Non endémique\",IF($H113<>0,$D113*($H113-$G113),0),$D113*$H113), 0)","v":39221},68392,null,107613,{"$f":"IF($L113=\"MBD\", IF(INTRO!$E$39=\"Non endémique\",IF($H113<>0,$D113*($H113-$G113),0),$D113*$H113),0)","v":0},0,null,0,null,0,0,null,68392,342,null,0,0]
[{"$f":"IF(AND(INTRO!$E$37=\"Non endémique\",INTRO!$E$41=\"Non endémique\"),\" \",IF(COUNTRY_INFO!A114=0,\" \",COUNTRY_INFO!A114))","v":"Angola"},{"$f":"IF(AND(INTRO!$E$37=\"Non endémique\",INTRO!$E$41=\"Non endémique\"),\" \",IF(COUNTRY_INFO!B114=0,\" \",COUNTRY_INFO!B114))","v":"LUNDA NORTE"},{"$f":"IF(AND(INTRO!$E$37=\"Non endémique\",INTRO!$E$41=\"Non endémique\"),\" \",IF(COUNTRY_INFO!C114=0,\" \",COUNTRY_INFO!C114))","v":"CUILO"},{"$f":"IF(AND(INTRO!$E$37=\"Non endémique\",INTRO!$E$41=\"Non endémique\"),0,IF(AND(OR(COUNTRY_INFO!$H114=0,COUNTRY_INFO!$H114=4,COUNTRY_INFO!$H114=99),OR(COUNTRY_INFO!$J114=0,COUNTRY_INFO!$J114=4)),0,COUNTRY_INFO!$E114))","v":4479},{"$f":"IF(AND(INTRO!$E$37=\"Non endémique\",INTRO!$E$41=\"Non endémique\"),0,IF(AND(OR(COUNTRY_INFO!$H114=0,COUNTRY_INFO!$H114=4,COUNTRY_INFO!$H114=99),OR(COUNTRY_INFO!$J114=0,COUNTRY_INFO!$J114=4)),0,COUNTRY_INFO!$F114))","v":7810},12289,{"$f":"IF(AND(INTRO!$E$37=\"Non endémique\",INTRO!$E$41=\"Non endémique\"),0,COUNTRY_INFO!Q114)","v":1},{"$f":"IF(AND(INTRO!$E$37=\"Non endémique\",INTRO!$E$41=\"Non endémique\"),0,COUNTRY_INFO!S114)","v":1},{"$f":"IF($G114=1,IVM!$G114,0)","v":22562},{"$f":"IF($G114=0, \" \", IF(COUNTRY_INFO!$H114=1, IF(COUNTRY_INFO!$L114=1, 0,\" \"),\" \"))","v":" "},null,"ALB",{"$f":"IF($L114=\"ALB\", IF(INTRO!$E$39=\"Non endémique\",IF($H114<>0,$D114*($H114-$G114),0),$D114*$H114), 0)","v":4479},0,null,4479,{"$f":"IF($L114=\"MBD\", IF(INTRO!$E$39=\"Non endémique\",IF($H114<>0,$D114*($H114-$G114),0),$D114*$H114),0)","v":0},0,null,0,null,22562,113,null,0,0,null,0,0]
[{"$f":"IF(AND(INTRO!$E$37=\"Non endémique\",INTRO!$E$41=\"Non endémique\"),\" \",IF(COUNTRY_INFO!A115=0,\" \",COUNTRY_INFO!A115))","v":"Angola"},{"$f":"IF(AND(INTRO!$E$37=\"Non endémique\",INTRO!$E$41=\"Non endémique\"),\" \",IF(COUNTRY_INFO!B115=0,\" \",COUNTRY_INFO!B115))","v":"LUNDA NORTE"},{"$f":"IF(AND(INTRO!$E$37=\"Non endémique\",INTRO!$E$41=\"Non endémique\"),\" \",IF(COUNTRY_INFO!C115=0,\" \",COUNTRY_INFO!C115))","v":"LOVUA"},{"$f":"IF(AND(INTRO!$E$37=\"Non endémique\",INTRO!$E$41=\"Non endémique\"),0,IF(AND(OR(COUNTRY_INFO!$H115=0,COUNTRY_INFO!$H115=4,COUNTRY_INFO!$H115=99),OR(COUNTRY_INFO!$J115=0,COUNTRY_INFO!$J115=4)),0,COUNTRY_INFO!$E115))","v":2785},{"$f":"IF(AND(INTRO!$E$37=\"Non endémique\",INTRO!$E$41=\"Non endémique\"),0,IF(AND(OR(COUNTRY_INFO!$H115=0,COUNTRY_INFO!$H115=4,COUNTRY_INFO!$H115=99),OR(COUNTRY_INFO!$J115=0,COUNTRY_INFO!$J115=4)),0,COUNTRY_INFO!$F115))","v":4857},7642,{"$f":"IF(AND(INTRO!$E$37=\"Non endémique\",INTRO!$E$41=\"Non endémique\"),0,COUNTRY_INFO!Q115)","v":0},{"$f":"IF(AND(INTRO!$E$37=\"Non endémique\",INTRO!$E$41=\"Non endémique\"),0,COUNTRY_INFO!S115)","v":1},{"$f":"IF($G115=1,IVM!$G115,0)","v":0},{"$f":"IF($G115=0, \" \", IF(COUNTRY_INFO!$H115=1, IF(COUNTRY_INFO!$L115=1, 0,\" \"),\" \"))","v":" "},null,"ALB",{"$f":"IF($L115=\"ALB\", IF(INTRO!$E$39=\"Non endémique\",IF($H115<>0,$D115*($H115-$G115),0),$D115*$H115), 0)","v":2785},4857,null,7642,{"$f":"IF($L115=\"MBD\", IF(INTRO!$E$39=\"Non endémique\",IF($H115<>0,$D115*($H115-$G115),0),$D115*$H115),0)","v":0},0,null,0,null,0,0,null,4857,25,null,0,0]
[{"$f":"IF(AND(INTRO!$E$37=\"Non endémique\",INTRO!$E$41=\"Non endémique\"),\" \",IF(COUNTRY_INFO!A116=0,\" \",COUNTRY_INFO!A116))","v":"Angola"},{"$f":"IF(AND(INTRO!$E$37=\"Non endémique\",INTRO!$E$41=\"Non endémique\"),\" \",IF(COUNTRY_INFO!B116=0,\" \",COUNTRY_INFO!B116))","v":"LUNDA NORTE"},{"$f":"IF(AND(INTRO!$E$37=\"Non endémique\",INTRO!$E$41=\"Non endémique\"),\" \",IF(COUNTRY_INFO!C116=0,\" \",COUNTRY_INFO!C116))","v":"LUBALO"},{"$f":"IF(AND(INTRO!$E$37=\"Non endémique\",INTRO!$E$41=\"Non endémique\"),0,IF(AND(OR(COUNTRY_INFO!$H116=0,COUNTRY_INFO!$H116=4,COUNTRY_INFO!$H116=99),OR(COUNTRY_INFO!$J116=0,COUNTRY_INFO!$J116=4)),0,COUNTRY_INFO!$E116))","v":4401},{"$f":"IF(AND(INTRO!$E$37=\"Non endémique\",INTRO!$E$41=\"Non endémique\"),0,IF(AND(OR(COUNTRY_INFO!$H116=0,COUNTRY_INFO!$H116=4,COUNTRY_INFO!$H116=99),OR(COUNTRY_INFO!$J116=0,COUNTRY_INFO!$J116=4)),0,COUNTRY_INFO!$F116))","v":7674},12075,{"$f":"IF(AND(INTRO!$E$37=\"Non endémique\",INTRO!$E$41=\"Non endémique\"),0,COUNTRY_INFO!Q116)","v":0},{"$f":"IF(AND(INTRO!$E$37=\"Non endémique\",INTRO!$E$41=\"Non endémique\"),0,COUNTRY_INFO!S116)","v":2},{"$f":"IF($G116=1,IVM!$G116,0)","v":0},{"$f":"IF($G116=0, \" \", IF(COUNTRY_INFO!$H116=1, IF(COUNTRY_INFO!$L116=1, 0,\" \"),\" \"))","v":" "},null,"ALB",{"$f":"IF($L116=\"ALB\", IF(INTRO!$E$39=\"Non endémique\",IF($H116<>0,$D116*($H116-$G116),0),$D116*$H116), 0)","v":8802},15348,null,24150,{"$f":"IF($L116=\"MBD\", IF(INTRO!$E$39=\"Non endémique\",IF($H116<>0,$D116*($H116-$G116),0),$D116*$H116),0)","v":0},0,null,0,null,0,0,null,15348,77,null,0,0]
[{"$f":"IF(AND(INTRO!$E$37=\"Non endémique\",INTRO!$E$41=\"Non endémique\"),\" \",IF(COUNTRY_INFO!A117=0,\" \",COUNTRY_INFO!A117))","v":"Angola"},{"$f":"IF(AND(INTRO!$E$37=\"Non endémique\",INTRO!$E$41=\"Non endémique\"),\" \",IF(COUNTRY_INFO!B117=0,\" \",COUNTRY_INFO!B117))","v":"LUNDA NORTE"},{"$f":"IF(AND(INTRO!$E$37=\"Non endémique\",INTRO!$E$41=\"Non endémique\"),\" \",IF(COUNTRY_INFO!C117=0,\" \",COUNTRY_INFO!C117))","v":"LUCAPA"},{"$f":"IF(AND(INTRO!$E$37=\"Non endémique\",INTRO!$E$41=\"Non endémique\"),0,IF(AND(OR(COUNTRY_INFO!$H117=0,COUNTRY_INFO!$H117=4,COUNTRY_INFO!$H117=99),OR(COUNTRY_INFO!$J117=0,COUNTRY_INFO!$J117=4)),0,COUNTRY_INFO!$E117))","v":32930},{"$f":"IF(AND(INTRO!$E$37=\"Non endémique\",INTRO!$E$41=\"Non endémique\"),0,IF(AND(OR(COUNTRY_INFO!$H117=0,COUNTRY_INFO!$H117=4,COUNTRY_INFO!$H117=99),OR(COUNTRY_INFO!$J117=0,COUNTRY_INFO!$J117=4)),0,COUNTRY_INFO!$F117))","v":57422},90352,{"$f":"IF(AND(INTRO!$E$37=\"Non endémique\",INTRO!$E$41=\"Non endémique\"),0,COUNTRY_INFO!Q117)","v":0},{"$f":"IF(AND(INTRO!$E$37=\"Non endémique\",INTRO!$E$41=\"Non endémique\"),0,COUNTRY_INFO!S117)","v":2},{"$f":"IF($G117=1,IVM!$G117,0)","v":0},{"$f":"IF($G117=0, \" \", IF(COUNTRY_INFO!$H117=1, IF(COUNTRY_INFO!$L117=1, 0,\" \"),\" \"))","v":" "},null,"ALB",{"$f":"IF($L117=\"ALB\", IF(INTRO!$E$39=\"Non endémique\",IF($H117<>0,$D117*($H117-$G117),0),$D117*$H117), 0)","v":65860},114844,null,180704,{"$f":"IF($L117=\"MBD\", IF(INTRO!$E$39=\"Non endémique\",IF($H117<>0,$D117*($H117-$G117),0),$D117*$H117),0)","v":0},0,null,0,null,0,0,null,114844,575,null,0,0]
[{"$f":"IF(AND(INTRO!$E$37=\"Non endémique\",INTRO!$E$41=\"Non endémique\"),\" \",IF(COUNTRY_INFO!A118=0,\" \",COUNTRY_INFO!A118))","v":"Angola"},{"$f":"IF(AND(INTRO!$E$37=\"Non endémique\",INTRO!$E$41=\"Non endémique\"),\" \",IF(COUNTRY_INFO!B118=0,\" \",COUNTRY_INFO!B118))","v":"LUNDA NORTE"},{"$f":"IF(AND(INTRO!$E$37=\"Non endémique\",INTRO!$E$41=\"Non endémique\"),\" \",IF(COUNTRY_INFO!C118=0,\" \",COUNTRY_INFO!C118))","v":"XA MUTEBA"},{"$f":"IF(AND(INTRO!$E$37=\"Non endémique\",INTRO!$E$41=\"Non endémique\"),0,IF(AND(OR(COUNTRY_INFO!$H118=0,COUNTRY_INFO!$H118=4,COUNTRY_INFO!$H118=99),OR(COUNTRY_INFO!$J118=0,COUNTRY_INFO!$J118=4)),0,COUNTRY_INFO!$E118))","v":10261},{"$f":"IF(AND(INTRO!$E$37=\"Non endémique\",INTRO!$E$41=\"Non endémique\"),0,IF(AND(OR(COUNTRY_INFO!$H118=0,COUNTRY_INFO!$H118=4,COUNTRY_INFO!$H118=99),OR(COUNTRY_INFO!$J118=0,COUNTRY_INFO!$J118=4)),0,COUNTRY_INFO!$F118))","v":17892},28153,{"$f":"IF(AND(INTRO!$E$37=\"Non endémique\",INTRO!$E$41=\"Non endémique\"),0,COUNTRY_INFO!Q118)","v":1},{"$f":"IF(AND(INTRO!$E$37=\"Non endémique\",INTRO!$E$41=\"Non endémique\"),0,COUNTRY_INFO!S118)","v":2},{"$f":"IF($G118=1,IVM!$G118,0)","v":51689},{"$f":"IF($G118=0, \" \", IF(COUNTRY_INFO!$H118=1, IF(COUNTRY_INFO!$L118=1, 0,\" \"),\" \"))","v":" "},null,"ALB",{"$f":"IF($L118=\"ALB\", IF(INTRO!$E$39=\"Non endémique\",IF($H118<>0,$D118*($H118-$G118),0),$D118*$H118), 0)","v":20522},17892,null,38414,{"$f":"IF($L118=\"MBD\", IF(INTRO!$E$39=\"Non endémique\",IF($H118<>0,$D118*($H118-$G118),0),$D118*$H118),0)","v":0},0,null,0,null,51689,259,null,17892,90,null,0,0]
[{"$f":"IF(AND(INTRO!$E$37=\"Non endémique\",INTRO!$E$41=\"Non endémique\"),\" \",IF(COUNTRY_INFO!A119=0,\" \",COUNTRY_INFO!A119))","v":"Angola"},{"$f":"IF(AND(INTRO!$E$37=\"Non endémique\",INTRO!$E$41=\"Non endémique\"),\" \",IF(COUNTRY_INFO!B119=0,\" \",COUNTRY_INFO!B119))","v":"LUNDA SUL"},{"$f":"IF(AND(INTRO!$E$37=\"Non endémique\",INTRO!$E$41=\"Non endémique\"),\" \",IF(COUNTRY_INFO!C119=0,\" \",COUNTRY_INFO!C119))","v":"CACOLO"},{"$f":"IF(AND(INTRO!$E$37=\"Non endémique\",INTRO!$E$41=\"Non endémique\"),0,IF(AND(OR(COUNTRY_INFO!$H119=0,COUNTRY_INFO!$H119=4,COUNTRY_INFO!$H119=99),OR(COUNTRY_INFO!$J119=0,COUNTRY_INFO!$J119=4)),0,COUNTRY_INFO!$E119))","v":6904},{"$f":"IF(AND(INTRO!$E$37=\"Non endémique\",INTRO!$E$41=\"Non endémique\"),0,IF(AND(OR(COUNTRY_INFO!$H119=0,COUNTRY_INFO!$H119=4,COUNTRY_INFO!$H119=99),OR(COUNTRY_INFO!$J119=0,COUNTRY_INFO!$J119=4)),0,COUNTRY_INFO!$F119))","v":12038},18942,{"$f":"IF(AND(INTRO!$E$37=\"Non endémique\",INTRO!$E$41=\"Non endémique\"),0,COUNTRY_INFO!Q119)","v":1},{"$f":"IF(AND(INTRO!$E$37=\"Non endémique\",INTRO!$E$41=\"Non endémique\"),0,COUNTRY_INFO!S119)","v":2},{"$f":"IF($G119=1,IVM!$G119,0)","v":34776},{"$f":"IF($G119=0, \" \", IF(COUNTRY_INFO!$H119=1, IF(COUNTRY_INFO!$L119=1, 0,\" \"),\" \"))","v":" "},null,"ALB",{"$f":"IF($L119=\"ALB\", IF(INTRO!$E$39=\"Non endémique\",IF($H119<>0,$D119*($H119-$G119),0),$D119*$H119), 0)","v":13808},12038,null,25846,{"$f":"IF($L119=\"MBD\", IF(INTRO!$E$39=\"Non endémique\",IF($H119<>0,$D119*($H119-$G119),0),$D119*$H119),0)","v":0},0,null,0,null,34776,174,null,12038,61,null,0,0]
[{"$f":"IF(AND(INTRO!$E$37=\"Non endémique\",INTRO!$E$41=\"Non endémique\"),\" \",IF(COUNTRY_INFO!A120=0,\" \",COUNTRY_INFO!A120))","v":"Angola"},{"$f":"IF(AND(INTRO!$E$37=\"Non endémique\",INTRO!$E$41=\"Non endémique\"),\" \",IF(COUNTRY_INFO!B120=0,\" \",COUNTRY_INFO!B120))","v":"LUNDA SUL"},{"$f":"IF(AND(INTRO!$E$37=\"Non endémique\",INTRO!$E$41=\"Non endémique\"),\" \",IF(COUNTRY_INFO!C120=0,\" \",COUNTRY_INFO!C120))","v":"DALA"},{"$f":"IF(AND(INTRO!$E$37=\"Non endémique\",INTRO!$E$41=\"Non endémique\"),0,IF(AND(OR(COUNTRY_INFO!$H120=0,COUNTRY_INFO!$H120=4,COUNTRY_INFO!$H120=99),OR(COUNTRY_INFO!$J120=0,COUNTRY_INFO!$J120=4)),0,COUNTRY_INFO!$E120))","v":6492},{"$f":"IF(AND(INTRO!$E$37=\"Non endémique\",INTRO!$E$41=\"Non endémique\"),0,IF(AND(OR(COUNTRY_INFO!$H120=0,COUNTRY_INFO!$H120=4,COUNTRY_INFO!$H120=99),OR(COUNTRY_INFO!$J120=0,COUNTRY_INFO!$J120=4)),0,COUNTRY_INFO!$F120))","v":11320},17812,{"$f":"IF(AND(INTRO!$E$37=\"Non endémique\",INTRO!$E$41=\"Non endémique\"),0,COUNTRY_INFO!Q120)","v":0},{"$f":"IF(AND(INTRO!$E$37=\"Non endémique\",INTRO!$E$41=\"Non endémique\"),0,COUNTRY_INFO!S120)","v":1},{"$f":"IF($G120=1,IVM!$G120,0)","v":0},{"$f":"IF($G120=0, \" \", IF(COUNTRY_INFO!$H120=1, IF(COUNTRY_INFO!$L120=1, 0,\" \"),\" \"))","v":" "},null,"ALB",{"$f":"IF($L120=\"ALB\", IF(INTRO!$E$39=\"Non endémique\",IF($H120<>0,$D120*($H120-$G120),0),$D120*$H120), 0)","v":6492},11320,null,17812,{"$f":"IF($L120=\"MBD\", IF(INTRO!$E$39=\"Non endémique\",IF($H120<>0,$D120*($H120-$G120),0),$D120*$H120),0)","v":0},0,null,0,null,0,0,null,11320,57,null,0,0]
[{"$f":"IF(AND(INTRO!$E$37=\"Non endémique\",INTRO!$E$41=\"Non endémique\"),\" \",IF(COUNTRY_INFO!A121=0,\" \",COUNTRY_INFO!A121))","v":"Angola"},{"$f":"IF(AND(INTRO!$E$37=\"Non endémique\",INTRO!$E$41=\"Non endémique\"),\" \",IF(COUNTRY_INFO!B121=0,\" \",COUNTRY_INFO!B121))","v":"LUNDA SUL"},{"$f":"IF(AND(INTRO!$E$37=\"Non endémique\",INTRO!$E$41=\"Non endémique\"),\" \",IF(COUNTRY_INFO!C121=0,\" \",COUNTRY_INFO!C121))","v":"MUCONDA"},{"$f":"IF(AND(INTRO!$E$37=\"Non endémique\",INTRO!$E$41=\"Non endémique\"),0,IF(AND(OR(COUNTRY_INFO!$H121=0,COUNTRY_INFO!$H121=4,COUNTRY_INFO!$H121=99),OR(COUNTRY_INFO!$J121=0,COUNTRY_INFO!$J121=4)),0,COUNTRY_INFO!$E121))","v":7200},{"$f":"IF(AND(INTRO!$E$37=\"Non endémique\",INTRO!$E$41=\"Non endémique\"),0,IF(AND(OR(COUNTRY_INFO!$H121=0,COUNTRY_INFO!$H121=4,COUNTRY_INFO!$H121=99),OR(COUNTRY_INFO!$J121=0,COUNTRY_INFO!$J121=4)),0,COUNTRY_INFO!$F121))","v":12555},19755,{"$f":"IF(AND(INTRO!$E$37=\"Non endémique\",INTRO!$E$41=\"Non endémique\"),0,COUNTRY_INFO!Q121)","v":0},{"$f":"IF(AND(INTRO!$E$37=\"Non endémique\",INTRO!$E$41=\"Non endémique\"),0,COUNTRY_INFO!S121)","v":2},{"$f":"IF($G121=1,IVM!$G121,0)","v":0},{"$f":"IF($G121=0, \" \", IF(COUNTRY_INFO!$H121=1, IF(COUNTRY_INFO!$L121=1, 0,\" \"),\" \"))","v":" "},null,"ALB",{"$f":"IF($L121=\"ALB\", IF(INTRO!$E$39=\"Non endémique\",IF($H121<>0,$D121*($H121-$G121),0),$D121*$H121), 0)","v":14400},25110,null,39510,{"$f":"IF($L121=\"MBD\", IF(INTRO!$E$39=\"Non endémique\",IF($H121<>0,$D121*($H121-$G121),0),$D121*$H121),0)","v":0},0,null,0,null,0,0,null,25110,126,null,0,0]
[{"$f":"IF(AND(INTRO!$E$37=\"Non endémique\",INTRO!$E$41=\"Non endémique\"),\" \",IF(COUNTRY_INFO!A122=0,\" \",COUNTRY_INFO!A122))","v":"Angola"},{"$f":"IF(AND(INTRO!$E$37=\"Non endémique\",INTRO!$E$41=\"Non endémique\"),\" \",IF(COUNTRY_INFO!B122=0,\" \",COUNTRY_INFO!B122))","v":"LUNDA SUL"},{"$f":"IF(AND(INTRO!$E$37=\"Non endémique\",INTRO!$E$41=\"Non endémique\"),\" \",IF(COUNTRY_INFO!C122=0,\" \",COUNTRY_INFO!C122))","v":"SAURIMO"},{"$f":"IF(AND(INTRO!$E$37=\"Non endémique\",INTRO!$E$41=\"Non endémique\"),0,IF(AND(OR(COUNTRY_INFO!$H122=0,COUNTRY_INFO!$H122=4,COUNTRY_INFO!$H122=99),OR(COUNTRY_INFO!$J122=0,COUNTRY_INFO!$J122=4)),0,COUNTRY_INFO!$E122))","v":95762},{"$f":"IF(AND(INTRO!$E$37=\"Non endémique\",INTRO!$E$41=\"Non endémique\"),0,IF(AND(OR(COUNTRY_INFO!$H122=0,COUNTRY_INFO!$H122=4,COUNTRY_INFO!$H122=99),OR(COUNTRY_INFO!$J122=0,COUNTRY_INFO!$J122=4)),0,COUNTRY_INFO!$F122))","v":166985},262747,{"$f":"IF(AND(INTRO!$E$37=\"Non endémique\",INTRO!$E$41=\"Non endémique\"),0,COUNTRY_INFO!Q122)","v":1},{"$f":"IF(AND(INTRO!$E$37=\"Non endémique\",INTRO!$E$41=\"Non endémique\"),0,COUNTRY_INFO!S122)","v":2},{"$f":"IF($G122=1,IVM!$G122,0)","v":482401},{"$f":"IF($G122=0, \" \", IF(COUNTRY_INFO!$H122=1, IF(COUNTRY_INFO!$L122=1, 0,\" \"),\" \"))","v":" "},null,"ALB",{"$f":"IF($L122=\"ALB\", IF(INTRO!$E$39=\"Non endémique\",IF($H122<>0,$D122*($H122-$G122),0),$D122*$H122), 0)","v":191524},166985,null,358509,{"$f":"IF($L122=\"MBD\", IF(INTRO!$E$39=\"Non endémique\",IF($H122<>0,$D122*($H122-$G122),0),$D122*$H122),0)","v":0},0,null,0,null,482401,2413,null,166985,835,null,0,0]
[{"$f":"IF(AND(INTRO!$E$37=\"Non endémique\",INTRO!$E$41=\"Non endémique\"),\" \",IF(COUNTRY_INFO!A123=0,\" \",COUNTRY_INFO!A123))","v":"Angola"},{"$f":"IF(AND(INTRO!$E$37=\"Non endémique\",INTRO!$E$41=\"Non endémique\"),\" \",IF(COUNTRY_INFO!B123=0,\" \",COUNTRY_INFO!B123))","v":"MALANJE"},{"$f":"IF(AND(INTRO!$E$37=\"Non endémique\",INTRO!$E$41=\"Non endémique\"),\" \",IF(COUNTRY_INFO!C123=0,\" \",COUNTRY_INFO!C123))","v":"CACULAMA (Mukari)"},{"$f":"IF(AND(INTRO!$E$37=\"Non endémique\",INTRO!$E$41=\"Non endémique\"),0,IF(AND(OR(COUNTRY_INFO!$H123=0,COUNTRY_INFO!$H123=4,COUNTRY_INFO!$H123=99),OR(COUNTRY_INFO!$J123=0,COUNTRY_INFO!$J123=4)),0,COUNTRY_INFO!$E123))","v":6427},{"$f":"IF(AND(INTRO!$E$37=\"Non endémique\",INTRO!$E$41=\"Non endémique\"),0,IF(AND(OR(COUNTRY_INFO!$H123=0,COUNTRY_INFO!$H123=4,COUNTRY_INFO!$H123=99),OR(COUNTRY_INFO!$J123=0,COUNTRY_INFO!$J123=4)),0,COUNTRY_INFO!$F123))","v":11207},17634,{"$f":"IF(AND(INTRO!$E$37=\"Non endémique\",INTRO!$E$41=\"Non endémique\"),0,COUNTRY_INFO!Q123)","v":1},{"$f":"IF(AND(INTRO!$E$37=\"Non endémique\",INTRO!$E$41=\"Non endémique\"),0,COUNTRY_INFO!S123)","v":2},{"$f":"IF($G123=1,IVM!$G123,0)","v":32376},{"$f":"IF($G123=0, \" \", IF(COUNTRY_INFO!$H123=1, IF(COUNTRY_INFO!$L123=1, 0,\" \"),\" \"))","v":" "},null,"ALB",{"$f":"IF($L123=\"ALB\", IF(INTRO!$E$39=\"Non endémique\",IF($H123<>0,$D123*($H123-$G123),0),$D123*$H123), 0)","v":12854},11207,null,24061,{"$f":"IF($L123=\"MBD\", IF(INTRO!$E$39=\"Non endémique\",IF($H123<>0,$D123*($H123-$G123),0),$D123*$H123),0)","v":0},0,null,0,null,32376,162,null,11207,57,null,0,0]
[{"$f":"IF(AND(INTRO!$E$37=\"Non endémique\",INTRO!$E$41=\"Non endémique\"),\" \",IF(COUNTRY_INFO!A124=0,\" \",COUNTRY_INFO!A124))","v":"Angola"},{"$f":"IF(AND(INTRO!$E$37=\"Non endémique\",INTRO!$E$41=\"Non endémique\"),\" \",IF(COUNTRY_INFO!B124=0,\" \",COUNTRY_INFO!B124))","v":"MALANJE"},{"$f":"IF(AND(INTRO!$E$37=\"Non endémique\",INTRO!$E$41=\"Non endémique\"),\" \",IF(COUNTRY_INFO!C124=0,\" \",COUNTRY_INFO!C124))","v":"CACUSO"},{"$f":"IF(AND(INTRO!$E$37=\"Non endémique\",INTRO!$E$41=\"Non endémique\"),0,IF(AND(OR(COUNTRY_INFO!$H124=0,COUNTRY_INFO!$H124=4,COUNTRY_INFO!$H124=99),OR(COUNTRY_INFO!$J124=0,COUNTRY_INFO!$J124=4)),0,COUNTRY_INFO!$E124))","v":15258},{"$f":"IF(AND(INTRO!$E$37=\"Non endémique\",INTRO!$E$41=\"Non endémique\"),0,IF(AND(OR(COUNTRY_INFO!$H124=0,COUNTRY_INFO!$H124=4,COUNTRY_INFO!$H124=99),OR(COUNTRY_INFO!$J124=0,COUNTRY_INFO!$J124=4)),0,COUNTRY_INFO!$F124))","v":26606},41864,{"$f":"IF(AND(INTRO!$E$37=\"Non endémique\",INTRO!$E$41=\"Non endémique\"),0,COUNTRY_INFO!Q124)","v":0},{"$f":"IF(AND(INTRO!$E$37=\"Non endémique\",INTRO!$E$41=\"Non endémique\"),0,COUNTRY_INFO!S124)","v":2},{"$f":"IF($G124=1,IVM!$G124,0)","v":0},{"$f":"IF($G124=0, \" \", IF(COUNTRY_INFO!$H124=1, IF(COUNTRY_INFO!$L124=1, 0,\" \"),\" \"))","v":" "},null,"ALB",{"$f":"IF($L124=\"ALB\", IF(INTRO!$E$39=\"Non endémique\",IF($H124<>0,$D124*($H124-$G124),0),$D124*$H124), 0)","v":30516},53212,null,83728,{"$f":"IF($L124=\"MBD\", IF(INTRO!$E$39=\"Non endémique\",IF($H124<>0,$D124*($H124-$G124),0),$D124*$H124),0)","v":0},0,null,0,null,0,0,null,53212,267,null,0,0]
[{"$f":"IF(AND(INTRO!$E$37=\"Non endémique\",INTRO!$E$41=\"Non endémique\"),\" \",IF(COUNTRY_INFO!A125=0,\" \",COUNTRY_INFO!A125))","v":"Angola"},{"$f":"IF(AND(INTRO!$E$37=\"Non endémique\",INTRO!$E$41=\"Non endémique\"),\" \",IF(COUNTRY_INFO!B125=0,\" \",COUNTRY_INFO!B125))","v":"MALANJE"},{"$f":"IF(AND(INTRO!$E$37=\"Non endémique\",INTRO!$E$41=\"Non endémique\"),\" \",IF(COUNTRY_INFO!C125=0,\" \",COUNTRY_INFO!C125))","v":"CAMBUNDI CATEMBO"},{"$f":"IF(AND(INTRO!$E$37=\"Non endémique\",INTRO!$E$41=\"Non endémique\"),0,IF(AND(OR(COUNTRY_INFO!$H125=0,COUNTRY_INFO!$H125=4,COUNTRY_INFO!$H125=99),OR(COUNTRY_INFO!$J125=0,COUNTRY_INFO!$J125=4)),0,COUNTRY_INFO!$E125))","v":9885},{"$f":"IF(AND(INTRO!$E$37=\"Non endémique\",INTRO!$E$41=\"Non endémique\"),0,IF(AND(OR(COUNTRY_INFO!$H125=0,COUNTRY_INFO!$H125=4,COUNTRY_INFO!$H125=99),OR(COUNTRY_INFO!$J125=0,COUNTRY_INFO!$J125=4)),0,COUNTRY_INFO!$F125))","v":17237},27122,{"$f":"IF(AND(INTRO!$E$37=\"Non endémique\",INTRO!$E$41=\"Non endémique\"),0,COUNTRY_INFO!Q125)","v":0},{"$f":"IF(AND(INTRO!$E$37=\"Non endémique\",INTRO!$E$41=\"Non endémique\"),0,COUNTRY_INFO!S125)","v":2},{"$f":"IF($G125=1,IVM!$G125,0)","v":0},{"$f":"IF($G125=0, \" \", IF(COUNTRY_INFO!$H125=1, IF(COUNTRY_INFO!$L125=1, 0,\" \"),\" \"))","v":" "},null,"ALB",{"$f":"IF($L125=\"ALB\", IF(INTRO!$E$39=\"Non endémique\",IF($H125<>0,$D125*($H125-$G125),0),$D125*$H125), 0)","v":19770},34474,null,54244,{"$f":"IF($L125=\"MBD\", IF(INTRO!$E$39=\"Non endémique\",IF($H125<>0,$D125*($H125-$G125),0),$D125*$H125),0)","v":0},0,null,0,null,0,0,null,34474,173,null,0,0]
[{"$f":"IF(AND(INTRO!$E$37=\"Non endémique\",INTRO!$E$41=\"Non endémique\"),\" \",IF(COUNTRY_INFO!A126=0,\" \",COUNTRY_INFO!A126))","v":"Angola"},{"$f":"IF(AND(INTRO!$E$37=\"Non endémique\",INTRO!$E$41=\"Non endémique\"),\" \",IF(COUNTRY_INFO!B126=0,\" \",COUNTRY_INFO!B126))","v":"MALANJE"},{"$f":"IF(AND(INTRO!$E$37=\"Non endémique\",INTRO!$E$41=\"Non endémique\"),\" \",IF(COUNTRY_INFO!C126=0,\" \",COUNTRY_INFO!C126))","v":"CANGANDALA"},{"$f":"IF(AND(INTRO!$E$37=\"Non endémique\",INTRO!$E$41=\"Non endémique\"),0,IF(AND(OR(COUNTRY_INFO!$H126=0,COUNTRY_INFO!$H126=4,COUNTRY_INFO!$H126=99),OR(COUNTRY_INFO!$J126=0,COUNTRY_INFO!$J126=4)),0,COUNTRY_INFO!$E126))","v":9630},{"$f":"IF(AND(INTRO!$E$37=\"Non endémique\",INTRO!$E$41=\"Non endémique\"),0,IF(AND(OR(COUNTRY_INFO!$H126=0,COUNTRY_INFO!$H126=4,COUNTRY_INFO!$H126=99),OR(COUNTRY_INFO!$J126=0,COUNTRY_INFO!$J126=4)),0,COUNTRY_INFO!$F126))","v":16793},26423,{"$f":"IF(AND(INTRO!$E$37=\"Non endémique\",INTRO!$E$41=\"Non endémique\"),0,COUNTRY_INFO!Q126)","v":1},{"$f":"IF(AND(INTRO!$E$37=\"Non endémique\",INTRO!$E$41=\"Non endémique\"),0,COUNTRY_INFO!S126)","v":1},{"$f":"IF($G126=1,IVM!$G126,0)","v":48513},{"$f":"IF($G126=0, \" \", IF(COUNTRY_INFO!$H126=1, IF(COUNTRY_INFO!$L126=1, 0,\" \"),\" \"))","v":" "},null,"ALB",{"$f":"IF($L126=\"ALB\", IF(INTRO!$E$39=\"Non endémique\",IF($H126<>0,$D126*($H126-$G126),0),$D126*$H126), 0)","v":9630},0,null,9630,{"$f":"IF($L126=\"MBD\", IF(INTRO!$E$39=\"Non endémique\",IF($H126<>0,$D126*($H126-$G126),0),$D126*$H126),0)","v":0},0,null,0,null,48513,243,null,0,0,null,0,0]
[{"$f":"IF(AND(INTRO!$E$37=\"Non endémique\",INTRO!$E$41=\"Non endémique\"),\" \",IF(COUNTRY_INFO!A127=0,\" \",COUNTRY_INFO!A127))","v":"Angola"},{"$f":"IF(AND(INTRO!$E$37=\"Non endémique\",INTRO!$E$41=\"Non endémique\"),\" \",IF(COUNTRY_INFO!B127=0,\" \",COUNTRY_INFO!B127))","v":"MALANJE"},{"$f":"IF(AND(INTRO!$E$37=\"Non endémique\",INTRO!$E$41=\"Non endémique\"),\" \",IF(COUNTRY_INFO!C127=0,\" \",COUNTRY_INFO!C127))","v":"CAHOMBO"},{"$f":"IF(AND(INTRO!$E$37=\"Non endémique\",INTRO!$E$41=\"Non endémique\"),0,IF(AND(OR(COUNTRY_INFO!$H127=0,COUNTRY_INFO!$H127=4,COUNTRY_INFO!$H127=99),OR(COUNTRY_INFO!$J127=0,COUNTRY_INFO!$J127=4)),0,COUNTRY_INFO!$E127))","v":4591},{"$f":"IF(AND(INTRO!$E$37=\"Non endémique\",INTRO!$E$41=\"Non endémique\"),0,IF(AND(OR(COUNTRY_INFO!$H127=0,COUNTRY_INFO!$H127=4,COUNTRY_INFO!$H127=99),OR(COUNTRY_INFO!$J127=0,COUNTRY_INFO!$J127=4)),0,COUNTRY_INFO!$F127))","v":8006},12597,{"$f":"IF(AND(INTRO!$E$37=\"Non endémique\",INTRO!$E$41=\"Non endémique\"),0,COUNTRY_INFO!Q127)","v":0},{"$f":"IF(AND(INTRO!$E$37=\"Non endémique\",INTRO!$E$41=\"Non endémique\"),0,COUNTRY_INFO!S127)","v":1},{"$f":"IF($G127=1,IVM!$G127,0)","v":0},{"$f":"IF($G127=0, \" \", IF(COUNTRY_INFO!$H127=1, IF(COUNTRY_INFO!$L127=1, 0,\" \"),\" \"))","v":" "},null,"ALB",{"$f":"IF($L127=\"ALB\", IF(INTRO!$E$39=\"Non endémique\",IF($H127<>0,$D127*($H127-$G127),0),$D127*$H127), 0)","v":4591},8006,null,12597,{"$f":"IF($L127=\"MBD\", IF(INTRO!$E$39=\"Non endémique\",IF($H127<>0,$D127*($H127-$G127),0),$D127*$H127),0)","v":0},0,null,0,null,0,0,null,8006,41,null,0,0]
[{"$f":"IF(AND(INTRO!$E$37=\"Non endémique\",INTRO!$E$41=\"Non endémique\"),\" \",IF(COUNTRY_INFO!A128=0,\" \",COUNTRY_INFO!A128))","v":"Angola"},{"$f":"IF(AND(INTRO!$E$37=\"Non endémique\",INTRO!$E$41=\"Non endémique\"),\" \",IF(COUNTRY_INFO!B128=0,\" \",COUNTRY_INFO!B128))","v":"MALANJE"},{"$f":"IF(AND(INTRO!$E$37=\"Non endémique\",INTRO!$E$41=\"Non endémique\"),\" \",IF(COUNTRY_INFO!C128=0,\" \",COUNTRY_INFO!C128))","v":"CALANDULA"},{"$f":"IF(AND(INTRO!$E$37=\"Non endémique\",INTRO!$E$41=\"Non endémique\"),0,IF(AND(OR(COUNTRY_INFO!$H128=0,COUNTRY_INFO!$H128=4,COUNTRY_INFO!$H128=99),OR(COUNTRY_INFO!$J128=0,COUNTRY_INFO!$J128=4)),0,COUNTRY_INFO!$E128))","v":17164},{"$f":"IF(AND(INTRO!$E$37=\"Non endémique\",INTRO!$E$41=\"Non endémique\"),0,IF(AND(OR(COUNTRY_INFO!$H128=0,COUNTRY_INFO!$H128=4,COUNTRY_INFO!$H128=99),OR(COUNTRY_INFO!$J128=0,COUNTRY_INFO!$J128=4)),0,COUNTRY_INFO!$F128))","v":29930},47094,{"$f":"IF(AND(INTRO!$E$37=\"Non endémique\",INTRO!$E$41=\"Non endémique\"),0,COUNTRY_INFO!Q128)","v":0},{"$f":"IF(AND(INTRO!$E$37=\"Non endémique\",INTRO!$E$41=\"Non endémique\"),0,COUNTRY_INFO!S128)","v":2},{"$f":"IF($G128=1,IVM!$G128,0)","v":0},{"$f":"IF($G128=0, \" \", IF(COUNTRY_INFO!$H128=1, IF(COUNTRY_INFO!$L128=1, 0,\" \"),\" \"))","v":" "},null,"ALB",{"$f":"IF($L128=\"ALB\", IF(INTRO!$E$39=\"Non endémique\",IF($H128<>0,$D128*($H128-$G128),0),$D128*$H128), 0)","v":34328},59860,null,94188,{"$f":"IF($L128=\"MBD\", IF(INTRO!$E$39=\"Non endémique\",IF($H128<>0,$D128*($H128-$G128),0),$D128*$H128),0)","v":0},0,null,0,null,0,0,null,59860,300,null,0,0]
[{"$f":"IF(AND(INTRO!$E$37=\"Non endémique\",INTRO!$E$41=\"Non endémique\"),\" \",IF(COUNTRY_INFO!A129=0,\" \",COUNTRY_INFO!A129))","v":"Angola"},{"$f":"IF(AND(INTRO!$E$37=\"Non endémique\",INTRO!$E$41=\"Non endémique\"),\" \",IF(COUNTRY_INFO!B129=0,\" \",COUNTRY_INFO!B129))","v":"MALANJE"},{"$f":"IF(AND(INTRO!$E$37=\"Non endémique\",INTRO!$E$41=\"Non endémique\"),\" \",IF(COUNTRY_INFO!C129=0,\" \",COUNTRY_INFO!C129))","v":"KIWABA NZOJI"},{"$f":"IF(AND(INTRO!$E$37=\"Non endémique\",INTRO!$E$41=\"Non endémique\"),0,IF(AND(OR(COUNTRY_INFO!$H129=0,COUNTRY_INFO!$H129=4,COUNTRY_INFO!$H129=99),OR(COUNTRY_INFO!$J129=0,COUNTRY_INFO!$J129=4)),0,COUNTRY_INFO!$E129))","v":3389},{"$f":"IF(AND(INTRO!$E$37=\"Non endémique\",INTRO!$E$41=\"Non endémique\"),0,IF(AND(OR(COUNTRY_INFO!$H129=0,COUNTRY_INFO!$H129=4,COUNTRY_INFO!$H129=99),OR(COUNTRY_INFO!$J129=0,COUNTRY_INFO!$J129=4)),0,COUNTRY_INFO!$F129))","v":5910},9299,{"$f":"IF(AND(INTRO!$E$37=\"Non endémique\",INTRO!$E$41=\"Non endémique\"),0,COUNTRY_INFO!Q129)","v":0},{"$f":"IF(AND(INTRO!$E$37=\"Non endémique\",INTRO!$E$41=\"Non endémique\"),0,COUNTRY_INFO!S129)","v":2},{"$f":"IF($G129=1,IVM!$G129,0)","v":0},{"$f":"IF($G129=0, \" \", IF(COUNTRY_INFO!$H129=1, IF(COUNTRY_INFO!$L129=1, 0,\" \"),\" \"))","v":" "},null,"ALB",{"$f":"IF($L129=\"ALB\", IF(INTRO!$E$39=\"Non endémique\",IF($H129<>0,$D129*($H129-$G129),0),$D129*$H129), 0)","v":6778},11820,null,18598,{"$f":"IF($L129=\"MBD\", IF(INTRO!$E$39=\"Non endémique\",IF($H129<>0,$D129*($H129-$G129),0),$D129*$H129),0)","v":0},0,null,0,null,0,0,null,11820,60,null,0,0]
[{"$f":"IF(AND(INTRO!$E$37=\"Non endémique\",INTRO!$E$41=\"Non endémique\"),\" \",IF(COUNTRY_INFO!A130=0,\" \",COUNTRY_INFO!A130))","v":"Angola"},{"$f":"IF(AND(INTRO!$E$37=\"Non endémique\",INTRO!$E$41=\"Non endémique\"),\" \",IF(COUNTRY_INFO!B130=0,\" \",COUNTRY_INFO!B130))","v":"MALANJE"},{"$f":"IF(AND(INTRO!$E$37=\"Non endémique\",INTRO!$E$41=\"Non endémique\"),\" \",IF(COUNTRY_INFO!C130=0,\" \",COUNTRY_INFO!C130))","v":"KUNDA DYA BASE"},{"$f":"IF(AND(INTRO!$E$37=\"Non endémique\",INTRO!$E$41=\"Non endémique\"),0,IF(AND(OR(COUNTRY_INFO!$H130=0,COUNTRY_INFO!$H130=4,COUNTRY_INFO!$H130=99),OR(COUNTRY_INFO!$J130=0,COUNTRY_INFO!$J130=4)),0,COUNTRY_INFO!$E130))","v":2694},{"$f":"IF(AND(INTRO!$E$37=\"Non endémique\",INTRO!$E$41=\"Non endémique\"),0,IF(AND(OR(COUNTRY_INFO!$H130=0,COUNTRY_INFO!$H130=4,COUNTRY_INFO!$H130=99),OR(COUNTRY_INFO!$J130=0,COUNTRY_INFO!$J130=4)),0,COUNTRY_INFO!$F130))","v":4697},7391,{"$f":"IF(AND(INTRO!$E$37=\"Non endémique\",INTRO!$E$41=\"Non endémique\"),0,COUNTRY_INFO!Q130)","v":1},{"$f":"IF(AND(INTRO!$E$37=\"Non endémique\",INTRO!$E$41=\"Non endémique\"),0,COUNTRY_INFO!S130)","v":1},{"$f":"IF($G130=1,IVM!$G130,0)","v":13570},{"$f":"IF($G130=0, \" \", IF(COUNTRY_INFO!$H130=1, IF(COUNTRY_INFO!$L130=1, 0,\" \"),\" \"))","v":" "},null,"ALB",{"$f":"IF($L130=\"ALB\", IF(INTRO!$E$39=\"Non endémique\",IF($H130<>0,$D130*($H130-$G130),0),$D130*$H130), 0)","v":2694},0,null,2694,{"$f":"IF($L130=\"MBD\", IF(INTRO!$E$39=\"Non endémique\",IF($H130<>0,$D130*($H130-$G130),0),$D130*$H130),0)","v":0},0,null,0,null,13570,68,null,0,0,null,0,0]
[{"$f":"IF(AND(INTRO!$E$37=\"Non endémique\",INTRO!$E$41=\"Non endémique\"),\" \",IF(COUNTRY_INFO!A131=0,\" \",COUNTRY_INFO!A131))","v":"Angola"},{"$f":"IF(AND(INTRO!$E$37=\"Non endémique\",INTRO!$E$41=\"Non endémique\"),\" \",IF(COUNTRY_INFO!B131=0,\" \",COUNTRY_INFO!B131))","v":"MALANJE"},{"$f":"IF(AND(INTRO!$E$37=\"Non endémique\",INTRO!$E$41=\"Non endémique\"),\" \",IF(COUNTRY_INFO!C131=0,\" \",COUNTRY_INFO!C131))","v":"LUQUEMBO"},{"$f":"IF(AND(INTRO!$E$37=\"Non endémique\",INTRO!$E$41=\"Non endémique\"),0,IF(AND(OR(COUNTRY_INFO!$H131=0,COUNTRY_INFO!$H131=4,COUNTRY_INFO!$H131=99),OR(COUNTRY_INFO!$J131=0,COUNTRY_INFO!$J131=4)),0,COUNTRY_INFO!$E131))","v":11714},{"$f":"IF(AND(INTRO!$E$37=\"Non endémique\",INTRO!$E$41=\"Non endémique\"),0,IF(AND(OR(COUNTRY_INFO!$H131=0,COUNTRY_INFO!$H131=4,COUNTRY_INFO!$H131=99),OR(COUNTRY_INFO!$J131=0,COUNTRY_INFO!$J131=4)),0,COUNTRY_INFO!$F131))","v":20426},32140,{"$f":"IF(AND(INTRO!$E$37=\"Non endémique\",INTRO!$E$41=\"Non endémique\"),0,COUNTRY_INFO!Q131)","v":0},{"$f":"IF(AND(INTRO!$E$37=\"Non endémique\",INTRO!$E$41=\"Non endémique\"),0,COUNTRY_INFO!S131)","v":2},{"$f":"IF($G131=1,IVM!$G131,0)","v":0},{"$f":"IF($G131=0, \" \", IF(COUNTRY_INFO!$H131=1, IF(COUNTRY_INFO!$L131=1, 0,\" \"),\" \"))","v":" "},null,"ALB",{"$f":"IF($L131=\"ALB\", IF(INTRO!$E$39=\"Non endémique\",IF($H131<>0,$D131*($H131-$G131),0),$D131*$H131), 0)","v":23428},40852,null,64280,{"$f":"IF($L131=\"MBD\", IF(INTRO!$E$39=\"Non endémique\",IF($H131<>0,$D131*($H131-$G131),0),$D131*$H131),0)","v":0},0,null,0,null,0,0,null,40852,205,null,0,0]
[{"$f":"IF(AND(INTRO!$E$37=\"Non endémique\",INTRO!$E$41=\"Non endémique\"),\" \",IF(COUNTRY_INFO!A132=0,\" \",COUNTRY_INFO!A132))","v":"Angola"},{"$f":"IF(AND(INTRO!$E$37=\"Non endémique\",INTRO!$E$41=\"Non endémique\"),\" \",IF(COUNTRY_INFO!B132=0,\" \",COUNTRY_INFO!B132))","v":"MALANJE"},{"$f":"IF(AND(INTRO!$E$37=\"Non endémique\",INTRO!$E$41=\"Non endémique\"),\" \",IF(COUNTRY_INFO!C132=0,\" \",COUNTRY_INFO!C132))","v":"MALANJE"},{"$f":"IF(AND(INTRO!$E$37=\"Non endémique\",INTRO!$E$41=\"Non endémique\"),0,IF(AND(OR(COUNTRY_INFO!$H132=0,COUNTRY_INFO!$H132=4,COUNTRY_INFO!$H132=99),OR(COUNTRY_INFO!$J132=0,COUNTRY_INFO!$J132=4)),0,COUNTRY_INFO!$E132))","v":108182},{"$f":"IF(AND(INTRO!$E$37=\"Non endémique\",INTRO!$E$41=\"Non endémique\"),0,IF(AND(OR(COUNTRY_INFO!$H132=0,COUNTRY_INFO!$H132=4,COUNTRY_INFO!$H132=99),OR(COUNTRY_INFO!$J132=0,COUNTRY_INFO!$J132=4)),0,COUNTRY_INFO!$F132))","v":188643},296825,{"$f":"IF(AND(INTRO!$E$37=\"Non endémique\",INTRO!$E$41=\"Non endémique\"),0,COUNTRY_INFO!Q132)","v":0},{"$f":"IF(AND(INTRO!$E$37=\"Non endémique\",INTRO!$E$41=\"Non endémique\"),0,COUNTRY_INFO!S132)","v":2},{"$f":"IF($G132=1,IVM!$G132,0)","v":0},{"$f":"IF($G132=0, \" \", IF(COUNTRY_INFO!$H132=1, IF(COUNTRY_INFO!$L132=1, 0,\" \"),\" \"))","v":" "},null,"ALB",{"$f":"IF($L132=\"ALB\", IF(INTRO!$E$39=\"Non endémique\",IF($H132<>0,$D132*($H132-$G132),0),$D132*$H132), 0)","v":216364},377286,null,593650,{"$f":"IF($L132=\"MBD\", IF(INTRO!$E$39=\"Non endémique\",IF($H132<>0,$D132*($H132-$G132),0),$D132*$H132),0)","v":0},0,null,0,null,0,0,null,377286,1887,null,0,0]
[{"$f":"IF(AND(INTRO!$E$37=\"Non endémique\",INTRO!$E$41=\"Non endémique\"),\" \",IF(COUNTRY_INFO!A133=0,\" \",COUNTRY_INFO!A133))","v":"Angola"},{"$f":"IF(AND(INTRO!$E$37=\"Non endémique\",INTRO!$E$41=\"Non endémique\"),\" \",IF(COUNTRY_INFO!B133=0,\" \",COUNTRY_INFO!B133))","v":"MALANJE"},{"$f":"IF(AND(INTRO!$E$37=\"Non endémique\",INTRO!$E$41=\"Non endémique\"),\" \",IF(COUNTRY_INFO!C133=0,\" \",COUNTRY_INFO!C133))","v":"MARIMBA"},{"$f":"IF(AND(INTRO!$E$37=\"Non endémique\",INTRO!$E$41=\"Non endémique\"),0,IF(AND(OR(COUNTRY_INFO!$H133=0,COUNTRY_INFO!$H133=4,COUNTRY_INFO!$H133=99),OR(COUNTRY_INFO!$J133=0,COUNTRY_INFO!$J133=4)),0,COUNTRY_INFO!$E133))","v":5588},{"$f":"IF(AND(INTRO!$E$37=\"Non endémique\",INTRO!$E$41=\"Non endémique\"),0,IF(AND(OR(COUNTRY_INFO!$H133=0,COUNTRY_INFO!$H133=4,COUNTRY_INFO!$H133=99),OR(COUNTRY_INFO!$J133=0,COUNTRY_INFO!$J133=4)),0,COUNTRY_INFO!$F133))","v":9744},15332,{"$f":"IF(AND(INTRO!$E$37=\"Non endémique\",INTRO!$E$41=\"Non endémique\"),0,COUNTRY_INFO!Q133)","v":1},{"$f":"IF(AND(INTRO!$E$37=\"Non endémique\",INTRO!$E$41=\"Non endémique\"),0,COUNTRY_INFO!S133)","v":2},{"$f":"IF($G133=1,IVM!$G133,0)","v":28149},{"$f":"IF($G133=0, \" \", IF(COUNTRY_INFO!$H133=1, IF(COUNTRY_INFO!$L133=1, 0,\" \"),\" \"))","v":" "},null,"ALB",{"$f":"IF($L133=\"ALB\", IF(INTRO!$E$39=\"Non endémique\",IF($H133<>0,$D133*($H133-$G133),0),$D133*$H133), 0)","v":11176},9744,null,20920,{"$f":"IF($L133=\"MBD\", IF(INTRO!$E$39=\"Non endémique\",IF($H133<>0,$D133*($H133-$G133),0),$D133*$H133),0)","v":0},0,null,0,null,28149,141,null,9744,49,null,0,0]
[{"$f":"IF(AND(INTRO!$E$37=\"Non endémique\",INTRO!$E$41=\"Non endémique\"),\" \",IF(COUNTRY_INFO!A134=0,\" \",COUNTRY_INFO!A134))","v":"Angola"},{"$f":"IF(AND(INTRO!$E$37=\"Non endémique\",INTRO!$E$41=\"Non endémique\"),\" \",IF(COUNTRY_INFO!B134=0,\" \",COUNTRY_INFO!B134))","v":"MALANJE"},{"$f":"IF(AND(INTRO!$E$37=\"Non endémique\",INTRO!$E$41=\"Non endémique\"),\" \",IF(COUNTRY_INFO!C134=0,\" \",COUNTRY_INFO!C134))","v":"MASSANGO"},{"$f":"IF(AND(INTRO!$E$37=\"Non endémique\",INTRO!$E$41=\"Non endémique\"),0,IF(AND(OR(COUNTRY_INFO!$H134=0,COUNTRY_INFO!$H134=4,COUNTRY_INFO!$H134=99),OR(COUNTRY_INFO!$J134=0,COUNTRY_INFO!$J134=4)),0,COUNTRY_INFO!$E134))","v":7026},{"$f":"IF(AND(INTRO!$E$37=\"Non endémique\",INTRO!$E$41=\"Non endémique\"),0,IF(AND(OR(COUNTRY_INFO!$H134=0,COUNTRY_INFO!$H134=4,COUNTRY_INFO!$H134=99),OR(COUNTRY_INFO!$J134=0,COUNTRY_INFO!$J134=4)),0,COUNTRY_INFO!$F134))","v":12251},19277,{"$f":"IF(AND(INTRO!$E$37=\"Non endémique\",INTRO!$E$41=\"Non endémique\"),0,COUNTRY_INFO!Q134)","v":0},{"$f":"IF(AND(INTRO!$E$37=\"Non endémique\",INTRO!$E$41=\"Non endémique\"),0,COUNTRY_INFO!S134)","v":2},{"$f":"IF($G134=1,IVM!$G134,0)","v":0},{"$f":"IF($G134=0, \" \", IF(COUNTRY_INFO!$H134=1, IF(COUNTRY_INFO!$L134=1, 0,\" \"),\" \"))","v":" "},null,"ALB",{"$f":"IF($L134=\"ALB\", IF(INTRO!$E$39=\"Non endémique\",IF($H134<>0,$D134*($H134-$G134),0),$D134*$H134), 0)","v":14052},24502,null,38554,{"$f":"IF($L134=\"MBD\", IF(INTRO!$E$39=\"Non endémique\",IF($H134<>0,$D134*($H134-$G134),0),$D134*$H134),0)","v":0},0,null,0,null,0,0,null,24502,123,null,0,0]
[{"$f":"IF(AND(INTRO!$E$37=\"Non endémique\",INTRO!$E$41=\"Non endémique\"),\" \",IF(COUNTRY_INFO!A135=0,\" \",COUNTRY_INFO!A135))","v":"Angola"},{"$f":"IF(AND(INTRO!$E$37=\"Non endémique\",INTRO!$E$41=\"Non endémique\"),\" \",IF(COUNTRY_INFO!B135=0,\" \",COUNTRY_INFO!B135))","v":"MALANJE"},{"$f":"IF(AND(INTRO!$E$37=\"Non endémique\",INTRO!$E$41=\"Non endémique\"),\" \",IF(COUNTRY_INFO!C135=0,\" \",COUNTRY_INFO!C135))","v":"QUELA"},{"$f":"IF(AND(INTRO!$E$37=\"Non endémique\",INTRO!$E$41=\"Non endémique\"),0,IF(AND(OR(COUNTRY_INFO!$H135=0,COUNTRY_INFO!$H135=4,COUNTRY_INFO!$H135=99),OR(COUNTRY_INFO!$J135=0,COUNTRY_INFO!$J135=4)),0,COUNTRY_INFO!$E135))","v":4471},{"$f":"IF(AND(INTRO!$E$37=\"Non endémique\",INTRO!$E$41=\"Non endémique\"),0,IF(AND(OR(COUNTRY_INFO!$H135=0,COUNTRY_INFO!$H135=4,COUNTRY_INFO!$H135=99),OR(COUNTRY_INFO!$J135=0,COUNTRY_INFO!$J135=4)),0,COUNTRY_INFO!$F135))","v":7797},12268,{"$f":"IF(AND(INTRO!$E$37=\"Non endémique\",INTRO!$E$41=\"Non endémique\"),0,COUNTRY_INFO!Q135)","v":1},{"$f":"IF(AND(INTRO!$E$37=\"Non endémique\",INTRO!$E$41=\"Non endémique\"),0,COUNTRY_INFO!S135)","v":2},{"$f":"IF($G135=1,IVM!$G135,0)","v":22525},{"$f":"IF($G135=0, \" \", IF(COUNTRY_INFO!$H135=1, IF(COUNTRY_INFO!$L135=1, 0,\" \"),\" \"))","v":" "},null,"ALB",{"$f":"IF($L135=\"ALB\", IF(INTRO!$E$39=\"Non endémique\",IF($H135<>0,$D135*($H135-$G135),0),$D135*$H135), 0)","v":8942},7797,null,16739,{"$f":"IF($L135=\"MBD\", IF(INTRO!$E$39=\"Non endémique\",IF($H135<>0,$D135*($H135-$G135),0),$D135*$H135),0)","v":0},0,null,0,null,22525,113,null,7797,39,null,0,0]
[{"$f":"IF(AND(INTRO!$E$37=\"Non endémique\",INTRO!$E$41=\"Non endémique\"),\" \",IF(COUNTRY_INFO!A136=0,\" \",COUNTRY_INFO!A136))","v":"Angola"},{"$f":"IF(AND(INTRO!$E$37=\"Non endémique\",INTRO!$E$41=\"Non endémique\"),\" \",IF(COUNTRY_INFO!B136=0,\" \",COUNTRY_INFO!B136))","v":"MALANJE"},{"$f":"IF(AND(INTRO!$E$37=\"Non endémique\",INTRO!$E$41=\"Non endémique\"),\" \",IF(COUNTRY_INFO!C136=0,\" \",COUNTRY_INFO!C136))","v":"QUIRIMA"},{"$f":"IF(AND(INTRO!$E$37=\"Non endémique\",INTRO!$E$41=\"Non endémique\"),0,IF(AND(OR(COUNTRY_INFO!$H136=0,COUNTRY_INFO!$H136=4,COUNTRY_INFO!$H136=99),OR(COUNTRY_INFO!$J136=0,COUNTRY_INFO!$J136=4)),0,COUNTRY_INFO!$E136))","v":4511},{"$f":"IF(AND(INTRO!$E$37=\"Non endémique\",INTRO!$E$41=\"Non endémique\"),0,IF(AND(OR(COUNTRY_INFO!$H136=0,COUNTRY_INFO!$H136=4,COUNTRY_INFO!$H136=99),OR(COUNTRY_INFO!$J136=0,COUNTRY_INFO!$J136=4)),0,COUNTRY_INFO!$F136))","v":7866},12377,{"$f":"IF(AND(INTRO!$E$37=\"Non endémique\",INTRO!$E$41=\"Non endémique\"),0,COUNTRY_INFO!Q136)","v":0},{"$f":"IF(AND(INTRO!$E$37=\"Non endémique\",INTRO!$E$41=\"Non endémique\"),0,COUNTRY_INFO!S136)","v":2},{"$f":"IF($G136=1,IVM!$G136,0)","v":0},{"$f":"IF($G136=0, \" \", IF(COUNTRY_INFO!$H136=1, IF(COUNTRY_INFO!$L136=1, 0,\" \"),\" \"))","v":" "},null,"ALB",{"$f":"IF($L136=\"ALB\", IF(INTRO!$E$39=\"Non endémique\",IF($H136<>0,$D136*($H136-$G136),0),$D136*$H136), 0)","v":9022},15732,null,24754,{"$f":"IF($L136=\"MBD\", IF(INTRO!$E$39=\"Non endémique\",IF($H136<>0,$D136*($H136-$G136),0),$D136*$H136),0)","v":0},0,null,0,null,0,0,null,15732,79,null,0,0]
[{"$f":"IF(AND(INTRO!$E$37=\"Non endémique\",INTRO!$E$41=\"Non endémique\"),\" \",IF(COUNTRY_INFO!A137=0,\" \",COUNTRY_INFO!A137))","v":"Angola"},{"$f":"IF(AND(INTRO!$E$37=\"Non endémique\",INTRO!$E$41=\"Non endémique\"),\" \",IF(COUNTRY_INFO!B137=0,\" \",COUNTRY_INFO!B137))","v":"MOXICO"},{"$f":"IF(AND(INTRO!$E$37=\"Non endémique\",INTRO!$E$41=\"Non endémique\"),\" \",IF(COUNTRY_INFO!C137=0,\" \",COUNTRY_INFO!C137))","v":"ALTO ZAMBEZE"},{"$f":"IF(AND(INTRO!$E$37=\"Non endémique\",INTRO!$E$41=\"Non endémique\"),0,IF(AND(OR(COUNTRY_INFO!$H137=0,COUNTRY_INFO!$H137=4,COUNTRY_INFO!$H137=99),OR(COUNTRY_INFO!$J137=0,COUNTRY_INFO!$J137=4)),0,COUNTRY_INFO!$E137))","v":23776},{"$f":"IF(AND(INTRO!$E$37=\"Non endémique\",INTRO!$E$41=\"Non endémique\"),0,IF(AND(OR(COUNTRY_INFO!$H137=0,COUNTRY_INFO!$H137=4,COUNTRY_INFO!$H137=99),OR(COUNTRY_INFO!$J137=0,COUNTRY_INFO!$J137=4)),0,COUNTRY_INFO!$F137))","v":41460},{"$f":"SUM(D137:E137)","v":65236},{"$f":"IF(AND(INTRO!$E$37=\"Non endémique\",INTRO!$E$41=\"Non endémique\"),0,COUNTRY_INFO!Q137)","v":0},{"$f":"IF(AND(INTRO!$E$37=\"Non endémique\",INTRO!$E$41=\"Non endémique\"),0,COUNTRY_INFO!S137)","v":1},{"$f":"IF($G137=1,IVM!$G137,0)","v":0},{"$f":"IF($G137=0, \" \", IF(COUNTRY_INFO!$H137=1, IF(COUNTRY_INFO!$L137=1, 0,\" \"),\" \"))","v":" "},null,"ALB",{"$f":"IF($L137=\"ALB\", IF(INTRO!$E$39=\"Non endémique\",IF($H137<>0,$D137*($H137-$G137),0),$D137*$H137), 0)","v":23776},{"$f":"IF($L137=\"ALB\", IF($H137=0, 0, IF(AND($I137=0, OR($J137=0,$J137=\" \")), $E137*$H137, IF(AND($I137=0, $J137>0), IF(($H137-$K137)<=0, 0, $E137*(MAX($H137,$K137)-MIN($H137,$K137))), IF(AND($I137>0, $J137=0), $E137*($H137-$G137), IF($J137=\" \", $E137*($H137-$G137), $J137*$E137/($I137+$J137)*$K137+$I137*$E137/($I137+$J137)*($H137-$G137)))))), 0)","v":41460},null,{"$f":"SUM(M137:O137)","v":65236},{"$f":"IF($L137=\"MBD\", IF(INTRO!$E$39=\"Non endémique\",IF($H137<>0,$D137*($H137-$G137),0),$D137*$H137),0)","v":0},{"$f":"IF($L137=\"MBD\", IF($H137=0, 0, IF(AND($I137=0, OR($J137=0,$J137=\" \")), $E137*$H137, IF(AND($I137=0, $J137>0), IF(($H137-$K137)<=0, 0, $E137*(MAX($H137,$K137)-MIN($H137,$K137))), IF(AND($I137>0, $J137=0), $E137*($H137-$G137), IF($J137=\" \", $E137*($H137-$G137), $J137*$E137/($I137+$J137)*$K137+$I137*$E137/($I137+$J137)*($H137-$G137)))))), 0)","v":0},null,{"$f":"SUM(Q137:S137)","v":0},null,{"$f":"IF($J137<>\" \", IF(($I137+$J137*$K137)>$U137, ($I137+$J137*$K137)-$U137,0), IF($I137>$U137, $I137-$U137, 0))","v":0},{"$f":"IF($J137<>\" \", ROUNDUP(($I137+$J137*$K137)/200,0), ROUNDUP($I137/200,0))","v":0},null,{"$f":"IF($N137>$X137,$N137-$X137,0)","v":41460},{"$f":"ROUNDUP($N137/200,0)","v":208},null,{"$f":"IF($R137>$AA137,$R137-$AA137,0)","v":0},{"$f":"ROUNDUP($R137/150,0)","v":0}]
[{"$f":"IF(AND(INTRO!$E$37=\"Non endémique\",INTRO!$E$41=\"Non endémique\"),\" \",IF(COUNTRY_INFO!A138=0,\" \",COUNTRY_INFO!A138))","v":"Angola"},{"$f":"IF(AND(INTRO!$E$37=\"Non endémique\",INTRO!$E$41=\"Non endémique\"),\" \",IF(COUNTRY_INFO!B138=0,\" \",COUNTRY_INFO!B138))","v":"MOXICO"},{"$f":"IF(AND(INTRO!$E$37=\"Non endémique\",INTRO!$E$41=\"Non endémique\"),\" \",IF(COUNTRY_INFO!C138=0,\" \",COUNTRY_INFO!C138))","v":"CAMANONGUE"},{"$f":"IF(AND(INTRO!$E$37=\"Non endémique\",INTRO!$E$41=\"Non endémique\"),0,IF(AND(OR(COUNTRY_INFO!$H138=0,COUNTRY_INFO!$H138=4,COUNTRY_INFO!$H138=99),OR(COUNTRY_INFO!$J138=0,COUNTRY_INFO!$J138=4)),0,COUNTRY_INFO!$E138))","v":7325},{"$f":"IF(AND(INTRO!$E$37=\"Non endémique\",INTRO!$E$41=\"Non endémique\"),0,IF(AND(OR(COUNTRY_INFO!$H138=0,COUNTRY_INFO!$H138=4,COUNTRY_INFO!$H138=99),OR(COUNTRY_INFO!$J138=0,COUNTRY_INFO!$J138=4)),0,COUNTRY_INFO!$F138))","v":12773},20098,{"$f":"IF(AND(INTRO!$E$37=\"Non endémique\",INTRO!$E$41=\"Non endémique\"),0,COUNTRY_INFO!Q138)","v":0},{"$f":"IF(AND(INTRO!$E$37=\"Non endémique\",INTRO!$E$41=\"Non endémique\"),0,COUNTRY_INFO!S138)","v":1},{"$f":"IF($G138=1,IVM!$G138,0)","v":0},{"$f":"IF($G138=0, \" \", IF(COUNTRY_INFO!$H138=1, IF(COUNTRY_INFO!$L138=1, 0,\" \"),\" \"))","v":" "},null,"ALB",{"$f":"IF($L138=\"ALB\", IF(INTRO!$E$39=\"Non endémique\",IF($H138<>0,$D138*($H138-$G138),0),$D138*$H138), 0)","v":7325},12773,null,20098,{"$f":"IF($L138=\"MBD\", IF(INTRO!$E$39=\"Non endémique\",IF($H138<>0,$D138*($H138-$G138),0),$D138*$H138),0)","v":0},0,null,0,null,0,0,null,12773,64,null,0,0]
[{"$f":"IF(AND(INTRO!$E$37=\"Non endémique\",INTRO!$E$41=\"Non endémique\"),\" \",IF(COUNTRY_INFO!A139=0,\" \",COUNTRY_INFO!A139))","v":"Angola"},{"$f":"IF(AND(INTRO!$E$37=\"Non endémique\",INTRO!$E$41=\"Non endémique\"),\" \",IF(COUNTRY_INFO!B139=0,\" \",COUNTRY_INFO!B139))","v":"MOXICO"},{"$f":"IF(AND(INTRO!$E$37=\"Non endémique\",INTRO!$E$41=\"Non endémique\"),\" \",IF(COUNTRY_INFO!C139=0,\" \",COUNTRY_INFO!C139))","v":"LEUA"},{"$f":"IF(AND(INTRO!$E$37=\"Non endémique\",INTRO!$E$41=\"Non endémique\"),0,IF(AND(OR(COUNTRY_INFO!$H139=0,COUNTRY_INFO!$H139=4,COUNTRY_INFO!$H139=99),OR(COUNTRY_INFO!$J139=0,COUNTRY_INFO!$J139=4)),0,COUNTRY_INFO!$E139))","v":6959},{"$f":"IF(AND(INTRO!$E$37=\"Non endémique\",INTRO!$E$41=\"Non endémique\"),0,IF(AND(OR(COUNTRY_INFO!$H139=0,COUNTRY_INFO!$H139=4,COUNTRY_INFO!$H139=99),OR(COUNTRY_INFO!$J139=0,COUNTRY_INFO!$J139=4)),0,COUNTRY_INFO!$F139))","v":12134},19093,{"$f":"IF(AND(INTRO!$E$37=\"Non endémique\",INTRO!$E$41=\"Non endémique\"),0,COUNTRY_INFO!Q139)","v":0},{"$f":"IF(AND(INTRO!$E$37=\"Non endémique\",INTRO!$E$41=\"Non endémique\"),0,COUNTRY_INFO!S139)","v":0},{"$f":"IF($G139=1,IVM!$G139,0)","v":0},{"$f":"IF($G139=0, \" \", IF(COUNTRY_INFO!$H139=1, IF(COUNTRY_INFO!$L139=1, 0,\" \"),\" \"))","v":" "},null,"ALB",{"$f":"IF($L139=\"ALB\", IF(INTRO!$E$39=\"Non endémique\",IF($H139<>0,$D139*($H139-$G139),0),$D139*$H139), 0)","v":0},0,null,0,{"$f":"IF($L139=\"MBD\", IF(INTRO!$E$39=\"Non endémique\",IF($H139<>0,$D139*($H139-$G139),0),$D139*$H139),0)","v":0},0,null,0,null,0,0,null,0,0,null,0,0]
[{"$f":"IF(AND(INTRO!$E$37=\"Non endémique\",INTRO!$E$41=\"Non endémique\"),\" \",IF(COUNTRY_INFO!A140=0,\" \",COUNTRY_INFO!A140))","v":"Angola"},{"$f":"IF(AND(INTRO!$E$37=\"Non endémique\",INTRO!$E$41=\"Non endémique\"),\" \",IF(COUNTRY_INFO!B140=0,\" \",COUNTRY_INFO!B140))","v":"MOXICO"},{"$f":"IF(AND(INTRO!$E$37=\"Non endémique\",INTRO!$E$41=\"Non endémique\"),\" \",IF(COUNTRY_INFO!C140=0,\" \",COUNTRY_INFO!C140))","v":"LUACANO"},{"$f":"IF(AND(INTRO!$E$37=\"Non endémique\",INTRO!$E$41=\"Non endémique\"),0,IF(AND(OR(COUNTRY_INFO!$H140=0,COUNTRY_INFO!$H140=4,COUNTRY_INFO!$H140=99),OR(COUNTRY_INFO!$J140=0,COUNTRY_INFO!$J140=4)),0,COUNTRY_INFO!$E140))","v":4450},{"$f":"IF(AND(INTRO!$E$37=\"Non endémique\",INTRO!$E$41=\"Non endémique\"),0,IF(AND(OR(COUNTRY_INFO!$H140=0,COUNTRY_INFO!$H140=4,COUNTRY_INFO!$H140=99),OR(COUNTRY_INFO!$J140=0,COUNTRY_INFO!$J140=4)),0,COUNTRY_INFO!$F140))","v":7759},12209,{"$f":"IF(AND(INTRO!$E$37=\"Non endémique\",INTRO!$E$41=\"Non endémique\"),0,COUNTRY_INFO!Q140)","v":0},{"$f":"IF(AND(INTRO!$E$37=\"Non endémique\",INTRO!$E$41=\"Non endémique\"),0,COUNTRY_INFO!S140)","v":1},{"$f":"IF($G140=1,IVM!$G140,0)","v":0},{"$f":"IF($G140=0, \" \", IF(COUNTRY_INFO!$H140=1, IF(COUNTRY_INFO!$L140=1, 0,\" \"),\" \"))","v":" "},null,"ALB",{"$f":"IF($L140=\"ALB\", IF(INTRO!$E$39=\"Non endémique\",IF($H140<>0,$D140*($H140-$G140),0),$D140*$H140), 0)","v":4450},7759,null,12209,{"$f":"IF($L140=\"MBD\", IF(INTRO!$E$39=\"Non endémique\",IF($H140<>0,$D140*($H140-$G140),0),$D140*$H140),0)","v":0},0,null,0,null,0,0,null,7759,39,null,0,0]
[{"$f":"IF(AND(INTRO!$E$37=\"Non endémique\",INTRO!$E$41=\"Non endémique\"),\" \",IF(COUNTRY_INFO!A141=0,\" \",COUNTRY_INFO!A141))","v":"Angola"},{"$f":"IF(AND(INTRO!$E$37=\"Non endémique\",INTRO!$E$41=\"Non endémique\"),\" \",IF(COUNTRY_INFO!B141=0,\" \",COUNTRY_INFO!B141))","v":"MOXICO"},{"$f":"IF(AND(INTRO!$E$37=\"Non endémique\",INTRO!$E$41=\"Non endémique\"),\" \",IF(COUNTRY_INFO!C141=0,\" \",COUNTRY_INFO!C141))","v":"LUAU"},{"$f":"IF(AND(INTRO!$E$37=\"Non endémique\",INTRO!$E$41=\"Non endémique\"),0,IF(AND(OR(COUNTRY_INFO!$H141=0,COUNTRY_INFO!$H141=4,COUNTRY_INFO!$H141=99),OR(COUNTRY_INFO!$J141=0,COUNTRY_INFO!$J141=4)),0,COUNTRY_INFO!$E141))","v":19178},{"$f":"IF(AND(INTRO!$E$37=\"Non endémique\",INTRO!$E$41=\"Non endémique\"),0,IF(AND(OR(COUNTRY_INFO!$H141=0,COUNTRY_INFO!$H141=4,COUNTRY_INFO!$H141=99),OR(COUNTRY_INFO!$J141=0,COUNTRY_INFO!$J141=4)),0,COUNTRY_INFO!$F141))","v":33442},52620,{"$f":"IF(AND(INTRO!$E$37=\"Non endémique\",INTRO!$E$41=\"Non endémique\"),0,COUNTRY_INFO!Q141)","v":0},{"$f":"IF(AND(INTRO!$E$37=\"Non endémique\",INTRO!$E$41=\"Non endémique\"),0,COUNTRY_INFO!S141)","v":0},{"$f":"IF($G141=1,IVM!$G141,0)","v":0},{"$f":"IF($G141=0, \" \", IF(COUNTRY_INFO!$H141=1, IF(COUNTRY_INFO!$L141=1, 0,\" \"),\" \"))","v":" "},null,"ALB",{"$f":"IF($L141=\"ALB\", IF(INTRO!$E$39=\"Non endémique\",IF($H141<>0,$D141*($H141-$G141),0),$D141*$H141), 0)","v":0},0,null,0,{"$f":"IF($L141=\"MBD\", IF(INTRO!$E$39=\"Non endémique\",IF($H141<>0,$D141*($H141-$G141),0),$D141*$H141),0)","v":0},0,null,0,null,0,0,null,0,0,null,0,0]
[{"$f":"IF(AND(INTRO!$E$37=\"Non endémique\",INTRO!$E$41=\"Non endémique\"),\" \",IF(COUNTRY_INFO!A142=0,\" \",COUNTRY_INFO!A142))","v":"Angola"},{"$f":"IF(AND(INTRO!$E$37=\"Non endémique\",INTRO!$E$41=\"Non endémique\"),\" \",IF(COUNTRY_INFO!B142=0,\" \",COUNTRY_INFO!B142))","v":"MOXICO"},{"$f":"IF(AND(INTRO!$E$37=\"Non endémique\",INTRO!$E$41=\"Non endémique\"),\" \",IF(COUNTRY_INFO!C142=0,\" \",COUNTRY_INFO!C142))","v":"LUCHAZES"},{"$f":"IF(AND(INTRO!$E$37=\"Non endémique\",INTRO!$E$41=\"Non endémique\"),0,IF(AND(OR(COUNTRY_INFO!$H142=0,COUNTRY_INFO!$H142=4,COUNTRY_INFO!$H142=99),OR(COUNTRY_INFO!$J142=0,COUNTRY_INFO!$J142=4)),0,COUNTRY_INFO!$E142))","v":3098},{"$f":"IF(AND(INTRO!$E$37=\"Non endémique\",INTRO!$E$41=\"Non endémique\"),0,IF(AND(OR(COUNTRY_INFO!$H142=0,COUNTRY_INFO!$H142=4,COUNTRY_INFO!$H142=99),OR(COUNTRY_INFO!$J142=0,COUNTRY_INFO!$J142=4)),0,COUNTRY_INFO!$F142))","v":5403},8501,{"$f":"IF(AND(INTRO!$E$37=\"Non endémique\",INTRO!$E$41=\"Non endémique\"),0,COUNTRY_INFO!Q142)","v":0},{"$f":"IF(AND(INTRO!$E$37=\"Non endémique\",INTRO!$E$41=\"Non endémique\"),0,COUNTRY_INFO!S142)","v":1},{"$f":"IF($G142=1,IVM!$G142,0)","v":0},{"$f":"IF($G142=0, \" \", IF(COUNTRY_INFO!$H142=1, IF(COUNTRY_INFO!$L142=1, 0,\" \"),\" \"))","v":" "},null,"ALB",{"$f":"IF($L142=\"ALB\", IF(INTRO!$E$39=\"Non endémique\",IF($H142<>0,$D142*($H142-$G142),0),$D142*$H142), 0)","v":3098},5403,null,8501,{"$f":"IF($L142=\"MBD\", IF(INTRO!$E$39=\"Non endémique\",IF($H142<>0,$D142*($H142-$G142),0),$D142*$H142),0)","v":0},0,null,0,null,0,0,null,5403,28,null,0,0]
[{"$f":"IF(AND(INTRO!$E$37=\"Non endémique\",INTRO!$E$41=\"Non endémique\"),\" \",IF(COUNTRY_INFO!A143=0,\" \",COUNTRY_INFO!A143))","v":"Angola"},{"$f":"IF(AND(INTRO!$E$37=\"Non endémique\",INTRO!$E$41=\"Non endémique\"),\" \",IF(COUNTRY_INFO!B143=0,\" \",COUNTRY_INFO!B143))","v":"MOXICO"},{"$f":"IF(AND(INTRO!$E$37=\"Non endémique\",INTRO!$E$41=\"Non endémique\"),\" \",IF(COUNTRY_INFO!C143=0,\" \",COUNTRY_INFO!C143))","v":"BUNDAS (LUMBALA NGUIMBO)"},{"$f":"IF(AND(INTRO!$E$37=\"Non endémique\",INTRO!$E$41=\"Non endémique\"),0,IF(AND(OR(COUNTRY_INFO!$H143=0,COUNTRY_INFO!$H143=4,COUNTRY_INFO!$H143=99),OR(COUNTRY_INFO!$J143=0,COUNTRY_INFO!$J143=4)),0,COUNTRY_INFO!$E143))","v":14900},{"$f":"IF(AND(INTRO!$E$37=\"Non endémique\",INTRO!$E$41=\"Non endémique\"),0,IF(AND(OR(COUNTRY_INFO!$H143=0,COUNTRY_INFO!$H143=4,COUNTRY_INFO!$H143=99),OR(COUNTRY_INFO!$J143=0,COUNTRY_INFO!$J143=4)),0,COUNTRY_INFO!$F143))","v":25981},40881,{"$f":"IF(AND(INTRO!$E$37=\"Non endémique\",INTRO!$E$41=\"Non endémique\"),0,COUNTRY_INFO!Q143)","v":0},{"$f":"IF(AND(INTRO!$E$37=\"Non endémique\",INTRO!$E$41=\"Non endémique\"),0,COUNTRY_INFO!S143)","v":1},{"$f":"IF($G143=1,IVM!$G143,0)","v":0},{"$f":"IF($G143=0, \" \", IF(COUNTRY_INFO!$H143=1, IF(COUNTRY_INFO!$L143=1, 0,\" \"),\" \"))","v":" "},null,"ALB",{"$f":"IF($L143=\"ALB\", IF(INTRO!$E$39=\"Non endémique\",IF($H143<>0,$D143*($H143-$G143),0),$D143*$H143), 0)","v":14900},25981,null,40881,{"$f":"IF($L143=\"MBD\", IF(INTRO!$E$39=\"Non endémique\",IF($H143<>0,$D143*($H143-$G143),0),$D143*$H143),0)","v":0},0,null,0,null,0,0,null,25981,130,null,0,0]
[{"$f":"IF(AND(INTRO!$E$37=\"Non endémique\",INTRO!$E$41=\"Non endémique\"),\" \",IF(COUNTRY_INFO!A144=0,\" \",COUNTRY_INFO!A144))","v":"Angola"},{"$f":"IF(AND(INTRO!$E$37=\"Non endémique\",INTRO!$E$41=\"Non endémique\"),\" \",IF(COUNTRY_INFO!B144=0,\" \",COUNTRY_INFO!B144))","v":"MOXICO"},{"$f":"IF(AND(INTRO!$E$37=\"Non endémique\",INTRO!$E$41=\"Non endémique\"),\" \",IF(COUNTRY_INFO!C144=0,\" \",COUNTRY_INFO!C144))","v":"CAMEIA (LUMEJE)"},{"$f":"IF(AND(INTRO!$E$37=\"Non endémique\",INTRO!$E$41=\"Non endémique\"),0,IF(AND(OR(COUNTRY_INFO!$H144=0,COUNTRY_INFO!$H144=4,COUNTRY_INFO!$H144=99),OR(COUNTRY_INFO!$J144=0,COUNTRY_INFO!$J144=4)),0,COUNTRY_INFO!$E144))","v":6320},{"$f":"IF(AND(INTRO!$E$37=\"Non endémique\",INTRO!$E$41=\"Non endémique\"),0,IF(AND(OR(COUNTRY_INFO!$H144=0,COUNTRY_INFO!$H144=4,COUNTRY_INFO!$H144=99),OR(COUNTRY_INFO!$J144=0,COUNTRY_INFO!$J144=4)),0,COUNTRY_INFO!$F144))","v":11020},17340,{"$f":"IF(AND(INTRO!$E$37=\"Non endémique\",INTRO!$E$41=\"Non endémique\"),0,COUNTRY_INFO!Q144)","v":0},{"$f":"IF(AND(INTRO!$E$37=\"Non endémique\",INTRO!$E$41=\"Non endémique\"),0,COUNTRY_INFO!S144)","v":0},{"$f":"IF($G144=1,IVM!$G144,0)","v":0},{"$f":"IF($G144=0, \" \", IF(COUNTRY_INFO!$H144=1, IF(COUNTRY_INFO!$L144=1, 0,\" \"),\" \"))","v":" "},null,"ALB",{"$f":"IF($L144=\"ALB\", IF(INTRO!$E$39=\"Non endémique\",IF($H144<>0,$D144*($H144-$G144),0),$D144*$H144), 0)","v":0},0,null,0,{"$f":"IF($L144=\"MBD\", IF(INTRO!$E$39=\"Non endémique\",IF($H144<>0,$D144*($H144-$G144),0),$D144*$H144),0)","v":0},0,null,0,null,0,0,null,0,0,null,0,0]
[{"$f":"IF(AND(INTRO!$E$37=\"Non endémique\",INTRO!$E$41=\"Non endémique\"),\" \",IF(COUNTRY_INFO!A145=0,\" \",COUNTRY_INFO!A145))","v":"Angola"},{"$f":"IF(AND(INTRO!$E$37=\"Non endémique\",INTRO!$E$41=\"Non endémique\"),\" \",IF(COUNTRY_INFO!B145=0,\" \",COUNTRY_INFO!B145))","v":"MOXICO"},{"$f":"IF(AND(INTRO!$E$37=\"Non endémique\",INTRO!$E$41=\"Non endémique\"),\" \",IF(COUNTRY_INFO!C145=0,\" \",COUNTRY_INFO!C145))","v":"MOXICO/LUENA"},{"$f":"IF(AND(INTRO!$E$37=\"Non endémique\",INTRO!$E$41=\"Non endémique\"),0,IF(AND(OR(COUNTRY_INFO!$H145=0,COUNTRY_INFO!$H145=4,COUNTRY_INFO!$H145=99),OR(COUNTRY_INFO!$J145=0,COUNTRY_INFO!$J145=4)),0,COUNTRY_INFO!$E145))","v":76628},{"$f":"IF(AND(INTRO!$E$37=\"Non endémique\",INTRO!$E$41=\"Non endémique\"),0,IF(AND(OR(COUNTRY_INFO!$H145=0,COUNTRY_INFO!$H145=4,COUNTRY_INFO!$H145=99),OR(COUNTRY_INFO!$J145=0,COUNTRY_INFO!$J145=4)),0,COUNTRY_INFO!$F145))","v":133620},210248,{"$f":"IF(AND(INTRO!$E$37=\"Non endémique\",INTRO!$E$41=\"Non endémique\"),0,COUNTRY_INFO!Q145)","v":0},{"$f":"IF(AND(INTRO!$E$37=\"Non endémique\",INTRO!$E$41=\"Non endémique\"),0,COUNTRY_INFO!S145)","v":1},{"$f":"IF($G145=1,IVM!$G145,0)","v":0},{"$f":"IF($G145=0, \" \", IF(COUNTRY_INFO!$H145=1, IF(COUNTRY_INFO!$L145=1, 0,\" \"),\" \"))","v":" "},null,"ALB",{"$f":"IF($L145=\"ALB\", IF(INTRO!$E$39=\"Non endémique\",IF($H145<>0,$D145*($H145-$G145),0),$D145*$H145), 0)","v":76628},133620,null,210248,{"$f":"IF($L145=\"MBD\", IF(INTRO!$E$39=\"Non endémique\",IF($H145<>0,$D145*($H145-$G145),0),$D145*$H145),0)","v":0},0,null,0,null,0,0,null,133620,669,null,0,0]
[{"$f":"IF(AND(INTRO!$E$37=\"Non endémique\",INTRO!$E$41=\"Non endémique\"),\" \",IF(COUNTRY_INFO!A146=0,\" \",COUNTRY_INFO!A146))","v":"Angola"},{"$f":"IF(AND(INTRO!$E$37=\"Non endémique\",INTRO!$E$41=\"Non endémique\"),\" \",IF(COUNTRY_INFO!B146=0,\" \",COUNTRY_INFO!B146))","v":"NAMIBE"},{"$f":"IF(AND(INTRO!$E$37=\"Non endémique\",INTRO!$E$41=\"Non endémique\"),\" \",IF(COUNTRY_INFO!C146=0,\" \",COUNTRY_INFO!C146))","v":"BIBALA"},{"$f":"IF(AND(INTRO!$E$37=\"Non endémique\",INTRO!$E$41=\"Non endémique\"),0,IF(AND(OR(COUNTRY_INFO!$H146=0,COUNTRY_INFO!$H146=4,COUNTRY_INFO!$H146=99),OR(COUNTRY_INFO!$J146=0,COUNTRY_INFO!$J146=4)),0,COUNTRY_INFO!$E146))","v":14246},{"$f":"IF(AND(INTRO!$E$37=\"Non endémique\",INTRO!$E$41=\"Non endémique\"),0,IF(AND(OR(COUNTRY_INFO!$H146=0,COUNTRY_INFO!$H146=4,COUNTRY_INFO!$H146=99),OR(COUNTRY_INFO!$J146=0,COUNTRY_INFO!$J146=4)),0,COUNTRY_INFO!$F146))","v":24841},39087,{"$f":"IF(AND(INTRO!$E$37=\"Non endémique\",INTRO!$E$41=\"Non endémique\"),0,COUNTRY_INFO!Q146)","v":0},{"$f":"IF(AND(INTRO!$E$37=\"Non endémique\",INTRO!$E$41=\"Non endémique\"),0,COUNTRY_INFO!S146)","v":0},{"$f":"IF($G146=1,IVM!$G146,0)","v":0},{"$f":"IF($G146=0, \" \", IF(COUNTRY_INFO!$H146=1, IF(COUNTRY_INFO!$L146=1, 0,\" \"),\" \"))","v":" "},null,"ALB",{"$f":"IF($L146=\"ALB\", IF(INTRO!$E$39=\"Non endémique\",IF($H146<>0,$D146*($H146-$G146),0),$D146*$H146), 0)","v":0},0,null,0,{"$f":"IF($L146=\"MBD\", IF(INTRO!$E$39=\"Non endémique\",IF($H146<>0,$D146*($H146-$G146),0),$D146*$H146),0)","v":0},0,null,0,null,0,0,null,0,0,null,0,0]
[{"$f":"IF(AND(INTRO!$E$37=\"Non endémique\",INTRO!$E$41=\"Non endémique\"),\" \",IF(COUNTRY_INFO!A147=0,\" \",COUNTRY_INFO!A147))","v":"Angola"},{"$f":"IF(AND(INTRO!$E$37=\"Non endémique\",INTRO!$E$41=\"Non endémique\"),\" \",IF(COUNTRY_INFO!B147=0,\" \",COUNTRY_INFO!B147))","v":"NAMIBE"},{"$f":"IF(AND(INTRO!$E$37=\"Non endémique\",INTRO!$E$41=\"Non endémique\"),\" \",IF(COUNTRY_INFO!C147=0,\" \",COUNTRY_INFO!C147))","v":"CAMUCUIO"},{"$f":"IF(AND(INTRO!$E$37=\"Non endémique\",INTRO!$E$41=\"Non endémique\"),0,IF(AND(OR(COUNTRY_INFO!$H147=0,COUNTRY_INFO!$H147=4,COUNTRY_INFO!$H147=99),OR(COUNTRY_INFO!$J147=0,COUNTRY_INFO!$J147=4)),0,COUNTRY_INFO!$E147))","v":11120},{"$f":"IF(AND(INTRO!$E$37=\"Non endémique\",INTRO!$E$41=\"Non endémique\"),0,IF(AND(OR(COUNTRY_INFO!$H147=0,COUNTRY_INFO!$H147=4,COUNTRY_INFO!$H147=99),OR(COUNTRY_INFO!$J147=0,COUNTRY_INFO!$J147=4)),0,COUNTRY_INFO!$F147))","v":19390},30510,{"$f":"IF(AND(INTRO!$E$37=\"Non endémique\",INTRO!$E$41=\"Non endémique\"),0,COUNTRY_INFO!Q147)","v":0},{"$f":"IF(AND(INTRO!$E$37=\"Non endémique\",INTRO!$E$41=\"Non endémique\"),0,COUNTRY_INFO!S147)","v":0},{"$f":"IF($G147=1,IVM!$G147,0)","v":0},{"$f":"IF($G147=0, \" \", IF(COUNTRY_INFO!$H147=1, IF(COUNTRY_INFO!$L147=1, 0,\" \"),\" \"))","v":" "},null,"ALB",{"$f":"IF($L147=\"ALB\", IF(INTRO!$E$39=\"Non endémique\",IF($H147<>0,$D147*($H147-$G147),0),$D147*$H147), 0)","v":0},0,null,0,{"$f":"IF($L147=\"MBD\", IF(INTRO!$E$39=\"Non endémique\",IF($H147<>0,$D147*($H147-$G147),0),$D147*$H147),0)","v":0},0,null,0,null,0,0,null,0,0,null,0,0]
[{"$f":"IF(AND(INTRO!$E$37=\"Non endémique\",INTRO!$E$41=\"Non endémique\"),\" \",IF(COUNTRY_INFO!A148=0,\" \",COUNTRY_INFO!A148))","v":"Angola"},{"$f":"IF(AND(INTRO!$E$37=\"Non endémique\",INTRO!$E$41=\"Non endémique\"),\" \",IF(COUNTRY_INFO!B148=0,\" \",COUNTRY_INFO!B148))","v":"NAMIBE"},{"$f":"IF(AND(INTRO!$E$37=\"Non endémique\",INTRO!$E$41=\"Non endémique\"),\" \",IF(COUNTRY_INFO!C148=0,\" \",COUNTRY_INFO!C148))","v":"MOÇAMEDES"},{"$f":"IF(AND(INTRO!$E$37=\"Non endémique\",INTRO!$E$41=\"Non endémique\"),0,IF(AND(OR(COUNTRY_INFO!$H148=0,COUNTRY_INFO!$H148=4,COUNTRY_INFO!$H148=99),OR(COUNTRY_INFO!$J148=0,COUNTRY_INFO!$J148=4)),0,COUNTRY_INFO!$E148))","v":0},{"$f":"IF(AND(INTRO!$E$37=\"Non endémique\",INTRO!$E$41=\"Non endémique\"),0,IF(AND(OR(COUNTRY_INFO!$H148=0,COUNTRY_INFO!$H148=4,COUNTRY_INFO!$H148=99),OR(COUNTRY_INFO!$J148=0,COUNTRY_INFO!$J148=4)),0,COUNTRY_INFO!$F148))","v":0},0,{"$f":"IF(AND(INTRO!$E$37=\"Non endémique\",INTRO!$E$41=\"Non endémique\"),0,COUNTRY_INFO!Q148)","v":0},{"$f":"IF(AND(INTRO!$E$37=\"Non endémique\",INTRO!$E$41=\"Non endémique\"),0,COUNTRY_INFO!S148)","v":0},{"$f":"IF($G148=1,IVM!$G148,0)","v":0},{"$f":"IF($G148=0, \" \", IF(COUNTRY_INFO!$H148=1, IF(COUNTRY_INFO!$L148=1, 0,\" \"),\" \"))","v":" "},null,"ALB",{"$f":"IF($L148=\"ALB\", IF(INTRO!$E$39=\"Non endémique\",IF($H148<>0,$D148*($H148-$G148),0),$D148*$H148), 0)","v":0},0,null,0,{"$f":"IF($L148=\"MBD\", IF(INTRO!$E$39=\"Non endémique\",IF($H148<>0,$D148*($H148-$G148),0),$D148*$H148),0)","v":0},0,null,0,null,0,0,null,0,0,null,0,0]
[{"$f":"IF(AND(INTRO!$E$37=\"Non endémique\",INTRO!$E$41=\"Non endémique\"),\" \",IF(COUNTRY_INFO!A149=0,\" \",COUNTRY_INFO!A149))","v":"Angola"},{"$f":"IF(AND(INTRO!$E$37=\"Non endémique\",INTRO!$E$41=\"Non endémique\"),\" \",IF(COUNTRY_INFO!B149=0,\" \",COUNTRY_INFO!B149))","v":"NAMIBE"},{"$f":"IF(AND(INTRO!$E$37=\"Non endémique\",INTRO!$E$41=\"Non endémique\"),\" \",IF(COUNTRY_INFO!C149=0,\" \",COUNTRY_INFO!C149))","v":"TOMBWA"},{"$f":"IF(AND(INTRO!$E$37=\"Non endémique\",INTRO!$E$41=\"Non endémique\"),0,IF(AND(OR(COUNTRY_INFO!$H149=0,COUNTRY_INFO!$H149=4,COUNTRY_INFO!$H149=99),OR(COUNTRY_INFO!$J149=0,COUNTRY_INFO!$J149=4)),0,COUNTRY_INFO!$E149))","v":12256},{"$f":"IF(AND(INTRO!$E$37=\"Non endémique\",INTRO!$E$41=\"Non endémique\"),0,IF(AND(OR(COUNTRY_INFO!$H149=0,COUNTRY_INFO!$H149=4,COUNTRY_INFO!$H149=99),OR(COUNTRY_INFO!$J149=0,COUNTRY_INFO!$J149=4)),0,COUNTRY_INFO!$F149))","v":21371},33627,{"$f":"IF(AND(INTRO!$E$37=\"Non endémique\",INTRO!$E$41=\"Non endémique\"),0,COUNTRY_INFO!Q149)","v":0},{"$f":"IF(AND(INTRO!$E$37=\"Non endémique\",INTRO!$E$41=\"Non endémique\"),0,COUNTRY_INFO!S149)","v":0},{"$f":"IF($G149=1,IVM!$G149,0)","v":0},{"$f":"IF($G149=0, \" \", IF(COUNTRY_INFO!$H149=1, IF(COUNTRY_INFO!$L149=1, 0,\" \"),\" \"))","v":" "},null,"ALB",{"$f":"IF($L149=\"ALB\", IF(INTRO!$E$39=\"Non endémique\",IF($H149<>0,$D149*($H149-$G149),0),$D149*$H149), 0)","v":0},0,null,0,{"$f":"IF($L149=\"MBD\", IF(INTRO!$E$39=\"Non endémique\",IF($H149<>0,$D149*($H149-$G149),0),$D149*$H149),0)","v":0},0,null,0,null,0,0,null,0,0,null,0,0]
[{"$f":"IF(AND(INTRO!$E$37=\"Non endémique\",INTRO!$E$41=\"Non endémique\"),\" \",IF(COUNTRY_INFO!A150=0,\" \",COUNTRY_INFO!A150))","v":"Angola"},{"$f":"IF(AND(INTRO!$E$37=\"Non endémique\",INTRO!$E$41=\"Non endémique\"),\" \",IF(COUNTRY_INFO!B150=0,\" \",COUNTRY_INFO!B150))","v":"NAMIBE"},{"$f":"IF(AND(INTRO!$E$37=\"Non endémique\",INTRO!$E$41=\"Non endémique\"),\" \",IF(COUNTRY_INFO!C150=0,\" \",COUNTRY_INFO!C150))","v":"VIREI"},{"$f":"IF(AND(INTRO!$E$37=\"Non endémique\",INTRO!$E$41=\"Non endémique\"),0,IF(AND(OR(COUNTRY_INFO!$H150=0,COUNTRY_INFO!$H150=4,COUNTRY_INFO!$H150=99),OR(COUNTRY_INFO!$J150=0,COUNTRY_INFO!$J150=4)),0,COUNTRY_INFO!$E150))","v":7165},{"$f":"IF(AND(INTRO!$E$37=\"Non endémique\",INTRO!$E$41=\"Non endémique\"),0,IF(AND(OR(COUNTRY_INFO!$H150=0,COUNTRY_INFO!$H150=4,COUNTRY_INFO!$H150=99),OR(COUNTRY_INFO!$J150=0,COUNTRY_INFO!$J150=4)),0,COUNTRY_INFO!$F150))","v":12494},19659,{"$f":"IF(AND(INTRO!$E$37=\"Non endémique\",INTRO!$E$41=\"Non endémique\"),0,COUNTRY_INFO!Q150)","v":0},{"$f":"IF(AND(INTRO!$E$37=\"Non endémique\",INTRO!$E$41=\"Non endémique\"),0,COUNTRY_INFO!S150)","v":0},{"$f":"IF($G150=1,IVM!$G150,0)","v":0},{"$f":"IF($G150=0, \" \", IF(COUNTRY_INFO!$H150=1, IF(COUNTRY_INFO!$L150=1, 0,\" \"),\" \"))","v":" "},null,"ALB",{"$f":"IF($L150=\"ALB\", IF(INTRO!$E$39=\"Non endémique\",IF($H150<>0,$D150*($H150-$G150),0),$D150*$H150), 0)","v":0},0,null,0,{"$f":"IF($L150=\"MBD\", IF(INTRO!$E$39=\"Non endémique\",IF($H150<>0,$D150*($H150-$G150),0),$D150*$H150),0)","v":0},0,null,0,null,0,0,null,0,0,null,0,0]
[{"$f":"IF(AND(INTRO!$E$37=\"Non endémique\",INTRO!$E$41=\"Non endémique\"),\" \",IF(COUNTRY_INFO!A151=0,\" \",COUNTRY_INFO!A151))","v":"Angola"},{"$f":"IF(AND(INTRO!$E$37=\"Non endémique\",INTRO!$E$41=\"Non endémique\"),\" \",IF(COUNTRY_INFO!B151=0,\" \",COUNTRY_INFO!B151))","v":"UIGE"},{"$f":"IF(AND(INTRO!$E$37=\"Non endémique\",INTRO!$E$41=\"Non endémique\"),\" \",IF(COUNTRY_INFO!C151=0,\" \",COUNTRY_INFO!C151))","v":"AMBUILA"},{"$f":"IF(AND(INTRO!$E$37=\"Non endémique\",INTRO!$E$41=\"Non endémique\"),0,IF(AND(OR(COUNTRY_INFO!$H151=0,COUNTRY_INFO!$H151=4,COUNTRY_INFO!$H151=99),OR(COUNTRY_INFO!$J151=0,COUNTRY_INFO!$J151=4)),0,COUNTRY_INFO!$E151))","v":3851},{"$f":"IF(AND(INTRO!$E$37=\"Non endémique\",INTRO!$E$41=\"Non endémique\"),0,IF(AND(OR(COUNTRY_INFO!$H151=0,COUNTRY_INFO!$H151=4,COUNTRY_INFO!$H151=99),OR(COUNTRY_INFO!$J151=0,COUNTRY_INFO!$J151=4)),0,COUNTRY_INFO!$F151))","v":6715},10566,{"$f":"IF(AND(INTRO!$E$37=\"Non endémique\",INTRO!$E$41=\"Non endémique\"),0,COUNTRY_INFO!Q151)","v":1},{"$f":"IF(AND(INTRO!$E$37=\"Non endémique\",INTRO!$E$41=\"Non endémique\"),0,COUNTRY_INFO!S151)","v":0},{"$f":"IF($G151=1,IVM!$G151,0)","v":1007},18391,2,"ALB",{"$f":"IF($L151=\"ALB\", IF(INTRO!$E$39=\"Non endémique\",IF($H151<>0,$D151*($H151-$G151),0),$D151*$H151), 0)","v":0},0,null,0,{"$f":"IF($L151=\"MBD\", IF(INTRO!$E$39=\"Non endémique\",IF($H151<>0,$D151*($H151-$G151),0),$D151*$H151),0)","v":0},0,null,0,null,37789,189,null,0,0,null,0,0]
[{"$f":"IF(AND(INTRO!$E$37=\"Non endémique\",INTRO!$E$41=\"Non endémique\"),\" \",IF(COUNTRY_INFO!A152=0,\" \",COUNTRY_INFO!A152))","v":"Angola"},{"$f":"IF(AND(INTRO!$E$37=\"Non endémique\",INTRO!$E$41=\"Non endémique\"),\" \",IF(COUNTRY_INFO!B152=0,\" \",COUNTRY_INFO!B152))","v":"UIGE"},{"$f":"IF(AND(INTRO!$E$37=\"Non endémique\",INTRO!$E$41=\"Non endémique\"),\" \",IF(COUNTRY_INFO!C152=0,\" \",COUNTRY_INFO!C152))","v":"BEMBE"},{"$f":"IF(AND(INTRO!$E$37=\"Non endémique\",INTRO!$E$41=\"Non endémique\"),0,IF(AND(OR(COUNTRY_INFO!$H152=0,COUNTRY_INFO!$H152=4,COUNTRY_INFO!$H152=99),OR(COUNTRY_INFO!$J152=0,COUNTRY_INFO!$J152=4)),0,COUNTRY_INFO!$E152))","v":7004},{"$f":"IF(AND(INTRO!$E$37=\"Non endémique\",INTRO!$E$41=\"Non endémique\"),0,IF(AND(OR(COUNTRY_INFO!$H152=0,COUNTRY_INFO!$H152=4,COUNTRY_INFO!$H152=99),OR(COUNTRY_INFO!$J152=0,COUNTRY_INFO!$J152=4)),0,COUNTRY_INFO!$F152))","v":12213},19217,{"$f":"IF(AND(INTRO!$E$37=\"Non endémique\",INTRO!$E$41=\"Non endémique\"),0,COUNTRY_INFO!Q152)","v":0},{"$f":"IF(AND(INTRO!$E$37=\"Non endémique\",INTRO!$E$41=\"Non endémique\"),0,COUNTRY_INFO!S152)","v":0},{"$f":"IF($G152=1,IVM!$G152,0)","v":0},{"$f":"IF($G152=0, \" \", IF(COUNTRY_INFO!$H152=1, IF(COUNTRY_INFO!$L152=1, 0,\" \"),\" \"))","v":" "},null,"ALB",{"$f":"IF($L152=\"ALB\", IF(INTRO!$E$39=\"Non endémique\",IF($H152<>0,$D152*($H152-$G152),0),$D152*$H152), 0)","v":0},0,null,0,{"$f":"IF($L152=\"MBD\", IF(INTRO!$E$39=\"Non endémique\",IF($H152<>0,$D152*($H152-$G152),0),$D152*$H152),0)","v":0},0,null,0,null,0,0,null,0,0,null,0,0]
[{"$f":"IF(AND(INTRO!$E$37=\"Non endémique\",INTRO!$E$41=\"Non endémique\"),\" \",IF(COUNTRY_INFO!A153=0,\" \",COUNTRY_INFO!A153))","v":"Angola"},{"$f":"IF(AND(INTRO!$E$37=\"Non endémique\",INTRO!$E$41=\"Non endémique\"),\" \",IF(COUNTRY_INFO!B153=0,\" \",COUNTRY_INFO!B153))","v":"UIGE"},{"$f":"IF(AND(INTRO!$E$37=\"Non endémique\",INTRO!$E$41=\"Non endémique\"),\" \",IF(COUNTRY_INFO!C153=0,\" \",COUNTRY_INFO!C153))","v":"BUENGAS"},{"$f":"IF(AND(INTRO!$E$37=\"Non endémique\",INTRO!$E$41=\"Non endémique\"),0,IF(AND(OR(COUNTRY_INFO!$H153=0,COUNTRY_INFO!$H153=4,COUNTRY_INFO!$H153=99),OR(COUNTRY_INFO!$J153=0,COUNTRY_INFO!$J153=4)),0,COUNTRY_INFO!$E153))","v":12167},{"$f":"IF(AND(INTRO!$E$37=\"Non endémique\",INTRO!$E$41=\"Non endémique\"),0,IF(AND(OR(COUNTRY_INFO!$H153=0,COUNTRY_INFO!$H153=4,COUNTRY_INFO!$H153=99),OR(COUNTRY_INFO!$J153=0,COUNTRY_INFO!$J153=4)),0,COUNTRY_INFO!$F153))","v":21216},33383,{"$f":"IF(AND(INTRO!$E$37=\"Non endémique\",INTRO!$E$41=\"Non endémique\"),0,COUNTRY_INFO!Q153)","v":0},{"$f":"IF(AND(INTRO!$E$37=\"Non endémique\",INTRO!$E$41=\"Non endémique\"),0,COUNTRY_INFO!S153)","v":0},{"$f":"IF($G153=1,IVM!$G153,0)","v":0},{"$f":"IF($G153=0, \" \", IF(COUNTRY_INFO!$H153=1, IF(COUNTRY_INFO!$L153=1, 0,\" \"),\" \"))","v":" "},null,"ALB",{"$f":"IF($L153=\"ALB\", IF(INTRO!$E$39=\"Non endémique\",IF($H153<>0,$D153*($H153-$G153),0),$D153*$H153), 0)","v":0},0,null,0,{"$f":"IF($L153=\"MBD\", IF(INTRO!$E$39=\"Non endémique\",IF($H153<>0,$D153*($H153-$G153),0),$D153*$H153),0)","v":0},0,null,0,null,0,0,null,0,0,null,0,0]
[{"$f":"IF(AND(INTRO!$E$37=\"Non endémique\",INTRO!$E$41=\"Non endémique\"),\" \",IF(COUNTRY_INFO!A154=0,\" \",COUNTRY_INFO!A154))","v":"Angola"},{"$f":"IF(AND(INTRO!$E$37=\"Non endémique\",INTRO!$E$41=\"Non endémique\"),\" \",IF(COUNTRY_INFO!B154=0,\" \",COUNTRY_INFO!B154))","v":"UIGE"},{"$f":"IF(AND(INTRO!$E$37=\"Non endémique\",INTRO!$E$41=\"Non endémique\"),\" \",IF(COUNTRY_INFO!C154=0,\" \",COUNTRY_INFO!C154))","v":"BUNGO"},{"$f":"IF(AND(INTRO!$E$37=\"Non endémique\",INTRO!$E$41=\"Non endémique\"),0,IF(AND(OR(COUNTRY_INFO!$H154=0,COUNTRY_INFO!$H154=4,COUNTRY_INFO!$H154=99),OR(COUNTRY_INFO!$J154=0,COUNTRY_INFO!$J154=4)),0,COUNTRY_INFO!$E154))","v":0},{"$f":"IF(AND(INTRO!$E$37=\"Non endémique\",INTRO!$E$41=\"Non endémique\"),0,IF(AND(OR(COUNTRY_INFO!$H154=0,COUNTRY_INFO!$H154=4,COUNTRY_INFO!$H154=99),OR(COUNTRY_INFO!$J154=0,COUNTRY_INFO!$J154=4)),0,COUNTRY_INFO!$F154))","v":0},0,{"$f":"IF(AND(INTRO!$E$37=\"Non endémique\",INTRO!$E$41=\"Non endémique\"),0,COUNTRY_INFO!Q154)","v":0},{"$f":"IF(AND(INTRO!$E$37=\"Non endémique\",INTRO!$E$41=\"Non endémique\"),0,COUNTRY_INFO!S154)","v":0},{"$f":"IF($G154=1,IVM!$G154,0)","v":0},{"$f":"IF($G154=0, \" \", IF(COUNTRY_INFO!$H154=1, IF(COUNTRY_INFO!$L154=1, 0,\" \"),\" \"))","v":" "},null,"ALB",{"$f":"IF($L154=\"ALB\", IF(INTRO!$E$39=\"Non endémique\",IF($H154<>0,$D154*($H154-$G154),0),$D154*$H154), 0)","v":0},0,null,0,{"$f":"IF($L154=\"MBD\", IF(INTRO!$E$39=\"Non endémique\",IF($H154<>0,$D154*($H154-$G154),0),$D154*$H154),0)","v":0},0,null,0,null,0,0,null,0,0,null,0,0]
[{"$f":"IF(AND(INTRO!$E$37=\"Non endémique\",INTRO!$E$41=\"Non endémique\"),\" \",IF(COUNTRY_INFO!A155=0,\" \",COUNTRY_INFO!A155))","v":"Angola"},{"$f":"IF(AND(INTRO!$E$37=\"Non endémique\",INTRO!$E$41=\"Non endémique\"),\" \",IF(COUNTRY_INFO!B155=0,\" \",COUNTRY_INFO!B155))","v":"UIGE"},{"$f":"IF(AND(INTRO!$E$37=\"Non endémique\",INTRO!$E$41=\"Non endémique\"),\" \",IF(COUNTRY_INFO!C155=0,\" \",COUNTRY_INFO!C155))","v":"CANGOLA"},{"$f":"IF(AND(INTRO!$E$37=\"Non endémique\",INTRO!$E$41=\"Non endémique\"),0,IF(AND(OR(COUNTRY_INFO!$H155=0,COUNTRY_INFO!$H155=4,COUNTRY_INFO!$H155=99),OR(COUNTRY_INFO!$J155=0,COUNTRY_INFO!$J155=4)),0,COUNTRY_INFO!$E155))","v":0},{"$f":"IF(AND(INTRO!$E$37=\"Non endémique\",INTRO!$E$41=\"Non endémique\"),0,IF(AND(OR(COUNTRY_INFO!$H155=0,COUNTRY_INFO!$H155=4,COUNTRY_INFO!$H155=99),OR(COUNTRY_INFO!$J155=0,COUNTRY_INFO!$J155=4)),0,COUNTRY_INFO!$F155))","v":0},0,{"$f":"IF(AND(INTRO!$E$37=\"Non endémique\",INTRO!$E$41=\"Non endémique\"),0,COUNTRY_INFO!Q155)","v":0},{"$f":"IF(AND(INTRO!$E$37=\"Non endémique\",INTRO!$E$41=\"Non endémique\"),0,COUNTRY_INFO!S155)","v":0},{"$f":"IF($G155=1,IVM!$G155,0)","v":0},{"$f":"IF($G155=0, \" \", IF(COUNTRY_INFO!$H155=1, IF(COUNTRY_INFO!$L155=1, 0,\" \"),\" \"))","v":" "},null,"ALB",{"$f":"IF($L155=\"ALB\", IF(INTRO!$E$39=\"Non endémique\",IF($H155<>0,$D155*($H155-$G155),0),$D155*$H155), 0)","v":0},0,null,0,{"$f":"IF($L155=\"MBD\", IF(INTRO!$E$39=\"Non endémique\",IF($H155<>0,$D155*($H155-$G155),0),$D155*$H155),0)","v":0},0,null,0,null,0,0,null,0,0,null,0,0]
[{"$f":"IF(AND(INTRO!$E$37=\"Non endémique\",INTRO!$E$41=\"Non endémique\"),\" \",IF(COUNTRY_INFO!A156=0,\" \",COUNTRY_INFO!A156))","v":"Angola"},{"$f":"IF(AND(INTRO!$E$37=\"Non endémique\",INTRO!$E$41=\"Non endémique\"),\" \",IF(COUNTRY_INFO!B156=0,\" \",COUNTRY_INFO!B156))","v":"UIGE"},{"$f":"IF(AND(INTRO!$E$37=\"Non endémique\",INTRO!$E$41=\"Non endémique\"),\" \",IF(COUNTRY_INFO!C156=0,\" \",COUNTRY_INFO!C156))","v":"DAMBA"},{"$f":"IF(AND(INTRO!$E$37=\"Non endémique\",INTRO!$E$41=\"Non endémique\"),0,IF(AND(OR(COUNTRY_INFO!$H156=0,COUNTRY_INFO!$H156=4,COUNTRY_INFO!$H156=99),OR(COUNTRY_INFO!$J156=0,COUNTRY_INFO!$J156=4)),0,COUNTRY_INFO!$E156))","v":0},{"$f":"IF(AND(INTRO!$E$37=\"Non endémique\",INTRO!$E$41=\"Non endémique\"),0,IF(AND(OR(COUNTRY_INFO!$H156=0,COUNTRY_INFO!$H156=4,COUNTRY_INFO!$H156=99),OR(COUNTRY_INFO!$J156=0,COUNTRY_INFO!$J156=4)),0,COUNTRY_INFO!$F156))","v":0},0,{"$f":"IF(AND(INTRO!$E$37=\"Non endémique\",INTRO!$E$41=\"Non endémique\"),0,COUNTRY_INFO!Q156)","v":0},{"$f":"IF(AND(INTRO!$E$37=\"Non endémique\",INTRO!$E$41=\"Non endémique\"),0,COUNTRY_INFO!S156)","v":0},{"$f":"IF($G156=1,IVM!$G156,0)","v":0},{"$f":"IF($G156=0, \" \", IF(COUNTRY_INFO!$H156=1, IF(COUNTRY_INFO!$L156=1, 0,\" \"),\" \"))","v":" "},null,"ALB",{"$f":"IF($L156=\"ALB\", IF(INTRO!$E$39=\"Non endémique\",IF($H156<>0,$D156*($H156-$G156),0),$D156*$H156), 0)","v":0},0,null,0,{"$f":"IF($L156=\"MBD\", IF(INTRO!$E$39=\"Non endémique\",IF($H156<>0,$D156*($H156-$G156),0),$D156*$H156),0)","v":0},0,null,0,null,0,0,null,0,0,null,0,0]
[{"$f":"IF(AND(INTRO!$E$37=\"Non endémique\",INTRO!$E$41=\"Non endémique\"),\" \",IF(COUNTRY_INFO!A157=0,\" \",COUNTRY_INFO!A157))","v":"Angola"},{"$f":"IF(AND(INTRO!$E$37=\"Non endémique\",INTRO!$E$41=\"Non endémique\"),\" \",IF(COUNTRY_INFO!B157=0,\" \",COUNTRY_INFO!B157))","v":"UIGE"},{"$f":"IF(AND(INTRO!$E$37=\"Non endémique\",INTRO!$E$41=\"Non endémique\"),\" \",IF(COUNTRY_INFO!C157=0,\" \",COUNTRY_INFO!C157))","v":"MAQUELA DO ZOMBO"},{"$f":"IF(AND(INTRO!$E$37=\"Non endémique\",INTRO!$E$41=\"Non endémique\"),0,IF(AND(OR(COUNTRY_INFO!$H157=0,COUNTRY_INFO!$H157=4,COUNTRY_INFO!$H157=99),OR(COUNTRY_INFO!$J157=0,COUNTRY_INFO!$J157=4)),0,COUNTRY_INFO!$E157))","v":0},{"$f":"IF(AND(INTRO!$E$37=\"Non endémique\",INTRO!$E$41=\"Non endémique\"),0,IF(AND(OR(COUNTRY_INFO!$H157=0,COUNTRY_INFO!$H157=4,COUNTRY_INFO!$H157=99),OR(COUNTRY_INFO!$J157=0,COUNTRY_INFO!$J157=4)),0,COUNTRY_INFO!$F157))","v":0},0,{"$f":"IF(AND(INTRO!$E$37=\"Non endémique\",INTRO!$E$41=\"Non endémique\"),0,COUNTRY_INFO!Q157)","v":0},{"$f":"IF(AND(INTRO!$E$37=\"Non endémique\",INTRO!$E$41=\"Non endémique\"),0,COUNTRY_INFO!S157)","v":0},{"$f":"IF($G157=1,IVM!$G157,0)","v":0},{"$f":"IF($G157=0, \" \", IF(COUNTRY_INFO!$H157=1, IF(COUNTRY_INFO!$L157=1, 0,\" \"),\" \"))","v":" "},null,"ALB",{"$f":"IF($L157=\"ALB\", IF(INTRO!$E$39=\"Non endémique\",IF($H157<>0,$D157*($H157-$G157),0),$D157*$H157), 0)","v":0},0,null,0,{"$f":"IF($L157=\"MBD\", IF(INTRO!$E$39=\"Non endémique\",IF($H157<>0,$D157*($H157-$G157),0),$D157*$H157),0)","v":0},0,null,0,null,0,0,null,0,0,null,0,0]
[{"$f":"IF(AND(INTRO!$E$37=\"Non endémique\",INTRO!$E$41=\"Non endémique\"),\" \",IF(COUNTRY_INFO!A158=0,\" \",COUNTRY_INFO!A158))","v":"Angola"},{"$f":"IF(AND(INTRO!$E$37=\"Non endémique\",INTRO!$E$41=\"Non endémique\"),\" \",IF(COUNTRY_INFO!B158=0,\" \",COUNTRY_INFO!B158))","v":"UIGE"},{"$f":"IF(AND(INTRO!$E$37=\"Non endémique\",INTRO!$E$41=\"Non endémique\"),\" \",IF(COUNTRY_INFO!C158=0,\" \",COUNTRY_INFO!C158))","v":"MILUNGA"},{"$f":"IF(AND(INTRO!$E$37=\"Non endémique\",INTRO!$E$41=\"Non endémique\"),0,IF(AND(OR(COUNTRY_INFO!$H158=0,COUNTRY_INFO!$H158=4,COUNTRY_INFO!$H158=99),OR(COUNTRY_INFO!$J158=0,COUNTRY_INFO!$J158=4)),0,COUNTRY_INFO!$E158))","v":0},{"$f":"IF(AND(INTRO!$E$37=\"Non endémique\",INTRO!$E$41=\"Non endémique\"),0,IF(AND(OR(COUNTRY_INFO!$H158=0,COUNTRY_INFO!$H158=4,COUNTRY_INFO!$H158=99),OR(COUNTRY_INFO!$J158=0,COUNTRY_INFO!$J158=4)),0,COUNTRY_INFO!$F158))","v":0},0,{"$f":"IF(AND(INTRO!$E$37=\"Non endémique\",INTRO!$E$41=\"Non endémique\"),0,COUNTRY_INFO!Q158)","v":0},{"$f":"IF(AND(INTRO!$E$37=\"Non endémique\",INTRO!$E$41=\"Non endémique\"),0,COUNTRY_INFO!S158)","v":0},{"$f":"IF($G158=1,IVM!$G158,0)","v":0},{"$f":"IF($G158=0, \" \", IF(COUNTRY_INFO!$H158=1, IF(COUNTRY_INFO!$L158=1, 0,\" \"),\" \"))","v":" "},null,"ALB",{"$f":"IF($L158=\"ALB\", IF(INTRO!$E$39=\"Non endémique\",IF($H158<>0,$D158*($H158-$G158),0),$D158*$H158), 0)","v":0},0,null,0,{"$f":"IF($L158=\"MBD\", IF(INTRO!$E$39=\"Non endémique\",IF($H158<>0,$D158*($H158-$G158),0),$D158*$H158),0)","v":0},0,null,0,null,0,0,null,0,0,null,0,0]
[{"$f":"IF(AND(INTRO!$E$37=\"Non endémique\",INTRO!$E$41=\"Non endémique\"),\" \",IF(COUNTRY_INFO!A159=0,\" \",COUNTRY_INFO!A159))","v":"Angola"},{"$f":"IF(AND(INTRO!$E$37=\"Non endémique\",INTRO!$E$41=\"Non endémique\"),\" \",IF(COUNTRY_INFO!B159=0,\" \",COUNTRY_INFO!B159))","v":"UIGE"},{"$f":"IF(AND(INTRO!$E$37=\"Non endémique\",INTRO!$E$41=\"Non endémique\"),\" \",IF(COUNTRY_INFO!C159=0,\" \",COUNTRY_INFO!C159))","v":"MUCABA"},{"$f":"IF(AND(INTRO!$E$37=\"Non endémique\",INTRO!$E$41=\"Non endémique\"),0,IF(AND(OR(COUNTRY_INFO!$H159=0,COUNTRY_INFO!$H159=4,COUNTRY_INFO!$H159=99),OR(COUNTRY_INFO!$J159=0,COUNTRY_INFO!$J159=4)),0,COUNTRY_INFO!$E159))","v":0},{"$f":"IF(AND(INTRO!$E$37=\"Non endémique\",INTRO!$E$41=\"Non endémique\"),0,IF(AND(OR(COUNTRY_INFO!$H159=0,COUNTRY_INFO!$H159=4,COUNTRY_INFO!$H159=99),OR(COUNTRY_INFO!$J159=0,COUNTRY_INFO!$J159=4)),0,COUNTRY_INFO!$F159))","v":0},0,{"$f":"IF(AND(INTRO!$E$37=\"Non endémique\",INTRO!$E$41=\"Non endémique\"),0,COUNTRY_INFO!Q159)","v":0},{"$f":"IF(AND(INTRO!$E$37=\"Non endémique\",INTRO!$E$41=\"Non endémique\"),0,COUNTRY_INFO!S159)","v":0},{"$f":"IF($G159=1,IVM!$G159,0)","v":0},{"$f":"IF($G159=0, \" \", IF(COUNTRY_INFO!$H159=1, IF(COUNTRY_INFO!$L159=1, 0,\" \"),\" \"))","v":" "},null,"ALB",{"$f":"IF($L159=\"ALB\", IF(INTRO!$E$39=\"Non endémique\",IF($H159<>0,$D159*($H159-$G159),0),$D159*$H159), 0)","v":0},0,null,0,{"$f":"IF($L159=\"MBD\", IF(INTRO!$E$39=\"Non endémique\",IF($H159<>0,$D159*($H159-$G159),0),$D159*$H159),0)","v":0},0,null,0,null,0,0,null,0,0,null,0,0]
[{"$f":"IF(AND(INTRO!$E$37=\"Non endémique\",INTRO!$E$41=\"Non endémique\"),\" \",IF(COUNTRY_INFO!A160=0,\" \",COUNTRY_INFO!A160))","v":"Angola"},{"$f":"IF(AND(INTRO!$E$37=\"Non endémique\",INTRO!$E$41=\"Non endémique\"),\" \",IF(COUNTRY_INFO!B160=0,\" \",COUNTRY_INFO!B160))","v":"UIGE"},{"$f":"IF(AND(INTRO!$E$37=\"Non endémique\",INTRO!$E$41=\"Non endémique\"),\" \",IF(COUNTRY_INFO!C160=0,\" \",COUNTRY_INFO!C160))","v":"NEGAGE"},{"$f":"IF(AND(INTRO!$E$37=\"Non endémique\",INTRO!$E$41=\"Non endémique\"),0,IF(AND(OR(COUNTRY_INFO!$H160=0,COUNTRY_INFO!$H160=4,COUNTRY_INFO!$H160=99),OR(COUNTRY_INFO!$J160=0,COUNTRY_INFO!$J160=4)),0,COUNTRY_INFO!$E160))","v":29236},{"$f":"IF(AND(INTRO!$E$37=\"Non endémique\",INTRO!$E$41=\"Non endémique\"),0,IF(AND(OR(COUNTRY_INFO!$H160=0,COUNTRY_INFO!$H160=4,COUNTRY_INFO!$H160=99),OR(COUNTRY_INFO!$J160=0,COUNTRY_INFO!$J160=4)),0,COUNTRY_INFO!$F160))","v":50980},80216,{"$f":"IF(AND(INTRO!$E$37=\"Non endémique\",INTRO!$E$41=\"Non endémique\"),0,COUNTRY_INFO!Q160)","v":0},{"$f":"IF(AND(INTRO!$E$37=\"Non endémique\",INTRO!$E$41=\"Non endémique\"),0,COUNTRY_INFO!S160)","v":0},{"$f":"IF($G160=1,IVM!$G160,0)","v":0},{"$f":"IF($G160=0, \" \", IF(COUNTRY_INFO!$H160=1, IF(COUNTRY_INFO!$L160=1, 0,\" \"),\" \"))","v":" "},null,"ALB",{"$f":"IF($L160=\"ALB\", IF(INTRO!$E$39=\"Non endémique\",IF($H160<>0,$D160*($H160-$G160),0),$D160*$H160), 0)","v":0},0,null,0,{"$f":"IF($L160=\"MBD\", IF(INTRO!$E$39=\"Non endémique\",IF($H160<>0,$D160*($H160-$G160),0),$D160*$H160),0)","v":0},0,null,0,null,0,0,null,0,0,null,0,0]
[{"$f":"IF(AND(INTRO!$E$37=\"Non endémique\",INTRO!$E$41=\"Non endémique\"),\" \",IF(COUNTRY_INFO!A161=0,\" \",COUNTRY_INFO!A161))","v":"Angola"},{"$f":"IF(AND(INTRO!$E$37=\"Non endémique\",INTRO!$E$41=\"Non endémique\"),\" \",IF(COUNTRY_INFO!B161=0,\" \",COUNTRY_INFO!B161))","v":"UIGE"},{"$f":"IF(AND(INTRO!$E$37=\"Non endémique\",INTRO!$E$41=\"Non endémique\"),\" \",IF(COUNTRY_INFO!C161=0,\" \",COUNTRY_INFO!C161))","v":"PURI"},{"$f":"IF(AND(INTRO!$E$37=\"Non endémique\",INTRO!$E$41=\"Non endémique\"),0,IF(AND(OR(COUNTRY_INFO!$H161=0,COUNTRY_INFO!$H161=4,COUNTRY_INFO!$H161=99),OR(COUNTRY_INFO!$J161=0,COUNTRY_INFO!$J161=4)),0,COUNTRY_INFO!$E161))","v":8057},{"$f":"IF(AND(INTRO!$E$37=\"Non endémique\",INTRO!$E$41=\"Non endémique\"),0,IF(AND(OR(COUNTRY_INFO!$H161=0,COUNTRY_INFO!$H161=4,COUNTRY_INFO!$H161=99),OR(COUNTRY_INFO!$J161=0,COUNTRY_INFO!$J161=4)),0,COUNTRY_INFO!$F161))","v":14050},22107,{"$f":"IF(AND(INTRO!$E$37=\"Non endémique\",INTRO!$E$41=\"Non endémique\"),0,COUNTRY_INFO!Q161)","v":1},{"$f":"IF(AND(INTRO!$E$37=\"Non endémique\",INTRO!$E$41=\"Non endémique\"),0,COUNTRY_INFO!S161)","v":0},{"$f":"IF($G161=1,IVM!$G161,0)","v":40588},{"$f":"IF($G161=0, \" \", IF(COUNTRY_INFO!$H161=1, IF(COUNTRY_INFO!$L161=1, 0,\" \"),\" \"))","v":" "},null,"ALB",{"$f":"IF($L161=\"ALB\", IF(INTRO!$E$39=\"Non endémique\",IF($H161<>0,$D161*($H161-$G161),0),$D161*$H161), 0)","v":0},0,null,0,{"$f":"IF($L161=\"MBD\", IF(INTRO!$E$39=\"Non endémique\",IF($H161<>0,$D161*($H161-$G161),0),$D161*$H161),0)","v":0},0,null,0,null,40588,203,null,0,0,null,0,0]
[{"$f":"IF(AND(INTRO!$E$37=\"Non endémique\",INTRO!$E$41=\"Non endémique\"),\" \",IF(COUNTRY_INFO!A162=0,\" \",COUNTRY_INFO!A162))","v":"Angola"},{"$f":"IF(AND(INTRO!$E$37=\"Non endémique\",INTRO!$E$41=\"Non endémique\"),\" \",IF(COUNTRY_INFO!B162=0,\" \",COUNTRY_INFO!B162))","v":"UIGE"},{"$f":"IF(AND(INTRO!$E$37=\"Non endémique\",INTRO!$E$41=\"Non endémique\"),\" \",IF(COUNTRY_INFO!C162=0,\" \",COUNTRY_INFO!C162))","v":"QUIMBELE"},{"$f":"IF(AND(INTRO!$E$37=\"Non endémique\",INTRO!$E$41=\"Non endémique\"),0,IF(AND(OR(COUNTRY_INFO!$H162=0,COUNTRY_INFO!$H162=4,COUNTRY_INFO!$H162=99),OR(COUNTRY_INFO!$J162=0,COUNTRY_INFO!$J162=4)),0,COUNTRY_INFO!$E162))","v":29010},{"$f":"IF(AND(INTRO!$E$37=\"Non endémique\",INTRO!$E$41=\"Non endémique\"),0,IF(AND(OR(COUNTRY_INFO!$H162=0,COUNTRY_INFO!$H162=4,COUNTRY_INFO!$H162=99),OR(COUNTRY_INFO!$J162=0,COUNTRY_INFO!$J162=4)),0,COUNTRY_INFO!$F162))","v":50586},79596,{"$f":"IF(AND(INTRO!$E$37=\"Non endémique\",INTRO!$E$41=\"Non endémique\"),0,COUNTRY_INFO!Q162)","v":0},{"$f":"IF(AND(INTRO!$E$37=\"Non endémique\",INTRO!$E$41=\"Non endémique\"),0,COUNTRY_INFO!S162)","v":0},{"$f":"IF($G162=1,IVM!$G162,0)","v":0},{"$f":"IF($G162=0, \" \", IF(COUNTRY_INFO!$H162=1, IF(COUNTRY_INFO!$L162=1, 0,\" \"),\" \"))","v":" "},null,"ALB",{"$f":"IF($L162=\"ALB\", IF(INTRO!$E$39=\"Non endémique\",IF($H162<>0,$D162*($H162-$G162),0),$D162*$H162), 0)","v":0},0,null,0,{"$f":"IF($L162=\"MBD\", IF(INTRO!$E$39=\"Non endémique\",IF($H162<>0,$D162*($H162-$G162),0),$D162*$H162),0)","v":0},0,null,0,null,0,0,null,0,0,null,0,0]
[{"$f":"IF(AND(INTRO!$E$37=\"Non endémique\",INTRO!$E$41=\"Non endémique\"),\" \",IF(COUNTRY_INFO!A163=0,\" \",COUNTRY_INFO!A163))","v":"Angola"},{"$f":"IF(AND(INTRO!$E$37=\"Non endémique\",INTRO!$E$41=\"Non endémique\"),\" \",IF(COUNTRY_INFO!B163=0,\" \",COUNTRY_INFO!B163))","v":"UIGE"},{"$f":"IF(AND(INTRO!$E$37=\"Non endémique\",INTRO!$E$41=\"Non endémique\"),\" \",IF(COUNTRY_INFO!C163=0,\" \",COUNTRY_INFO!C163))","v":"QUITEXE"},{"$f":"IF(AND(INTRO!$E$37=\"Non endémique\",INTRO!$E$41=\"Non endémique\"),0,IF(AND(OR(COUNTRY_INFO!$H163=0,COUNTRY_INFO!$H163=4,COUNTRY_INFO!$H163=99),OR(COUNTRY_INFO!$J163=0,COUNTRY_INFO!$J163=4)),0,COUNTRY_INFO!$E163))","v":7289},{"$f":"IF(AND(INTRO!$E$37=\"Non endémique\",INTRO!$E$41=\"Non endémique\"),0,IF(AND(OR(COUNTRY_INFO!$H163=0,COUNTRY_INFO!$H163=4,COUNTRY_INFO!$H163=99),OR(COUNTRY_INFO!$J163=0,COUNTRY_INFO!$J163=4)),0,COUNTRY_INFO!$F163))","v":12710},19999,{"$f":"IF(AND(INTRO!$E$37=\"Non endémique\",INTRO!$E$41=\"Non endémique\"),0,COUNTRY_INFO!Q163)","v":1},{"$f":"IF(AND(INTRO!$E$37=\"Non endémique\",INTRO!$E$41=\"Non endémique\"),0,COUNTRY_INFO!S163)","v":0},{"$f":"IF($G163=1,IVM!$G163,0)","v":1905},34814,2,"ALB",{"$f":"IF($L163=\"ALB\", IF(INTRO!$E$39=\"Non endémique\",IF($H163<>0,$D163*($H163-$G163),0),$D163*$H163), 0)","v":0},0,null,0,{"$f":"IF($L163=\"MBD\", IF(INTRO!$E$39=\"Non endémique\",IF($H163<>0,$D163*($H163-$G163),0),$D163*$H163),0)","v":0},0,null,0,null,71533,358,null,0,0,null,0,0]
[{"$f":"IF(AND(INTRO!$E$37=\"Non endémique\",INTRO!$E$41=\"Non endémique\"),\" \",IF(COUNTRY_INFO!A164=0,\" \",COUNTRY_INFO!A164))","v":"Angola"},{"$f":"IF(AND(INTRO!$E$37=\"Non endémique\",INTRO!$E$41=\"Non endémique\"),\" \",IF(COUNTRY_INFO!B164=0,\" \",COUNTRY_INFO!B164))","v":"UIGE"},{"$f":"IF(AND(INTRO!$E$37=\"Non endémique\",INTRO!$E$41=\"Non endémique\"),\" \",IF(COUNTRY_INFO!C164=0,\" \",COUNTRY_INFO!C164))","v":"SANZA POMBO"},{"$f":"IF(AND(INTRO!$E$37=\"Non endémique\",INTRO!$E$41=\"Non endémique\"),0,IF(AND(OR(COUNTRY_INFO!$H164=0,COUNTRY_INFO!$H164=4,COUNTRY_INFO!$H164=99),OR(COUNTRY_INFO!$J164=0,COUNTRY_INFO!$J164=4)),0,COUNTRY_INFO!$E164))","v":14535},{"$f":"IF(AND(INTRO!$E$37=\"Non endémique\",INTRO!$E$41=\"Non endémique\"),0,IF(AND(OR(COUNTRY_INFO!$H164=0,COUNTRY_INFO!$H164=4,COUNTRY_INFO!$H164=99),OR(COUNTRY_INFO!$J164=0,COUNTRY_INFO!$J164=4)),0,COUNTRY_INFO!$F164))","v":25346},39881,{"$f":"IF(AND(INTRO!$E$37=\"Non endémique\",INTRO!$E$41=\"Non endémique\"),0,COUNTRY_INFO!Q164)","v":0},{"$f":"IF(AND(INTRO!$E$37=\"Non endémique\",INTRO!$E$41=\"Non endémique\"),0,COUNTRY_INFO!S164)","v":0},{"$f":"IF($G164=1,IVM!$G164,0)","v":0},{"$f":"IF($G164=0, \" \", IF(COUNTRY_INFO!$H164=1, IF(COUNTRY_INFO!$L164=1, 0,\" \"),\" \"))","v":" "},null,"ALB",{"$f":"IF($L164=\"ALB\", IF(INTRO!$E$39=\"Non endémique\",IF($H164<>0,$D164*($H164-$G164),0),$D164*$H164), 0)","v":0},0,null,0,{"$f":"IF($L164=\"MBD\", IF(INTRO!$E$39=\"Non endémique\",IF($H164<>0,$D164*($H164-$G164),0),$D164*$H164),0)","v":0},0,null,0,null,0,0,null,0,0,null,0,0]
[{"$f":"IF(AND(INTRO!$E$37=\"Non endémique\",INTRO!$E$41=\"Non endémique\"),\" \",IF(COUNTRY_INFO!A165=0,\" \",COUNTRY_INFO!A165))","v":"Angola"},{"$f":"IF(AND(INTRO!$E$37=\"Non endémique\",INTRO!$E$41=\"Non endémique\"),\" \",IF(COUNTRY_INFO!B165=0,\" \",COUNTRY_INFO!B165))","v":"UIGE"},{"$f":"IF(AND(INTRO!$E$37=\"Non endémique\",INTRO!$E$41=\"Non endémique\"),\" \",IF(COUNTRY_INFO!C165=0,\" \",COUNTRY_INFO!C165))","v":"SONGO"},{"$f":"IF(AND(INTRO!$E$37=\"Non endémique\",INTRO!$E$41=\"Non endémique\"),0,IF(AND(OR(COUNTRY_INFO!$H165=0,COUNTRY_INFO!$H165=4,COUNTRY_INFO!$H165=99),OR(COUNTRY_INFO!$J165=0,COUNTRY_INFO!$J165=4)),0,COUNTRY_INFO!$E165))","v":13109},{"$f":"IF(AND(INTRO!$E$37=\"Non endémique\",INTRO!$E$41=\"Non endémique\"),0,IF(AND(OR(COUNTRY_INFO!$H165=0,COUNTRY_INFO!$H165=4,COUNTRY_INFO!$H165=99),OR(COUNTRY_INFO!$J165=0,COUNTRY_INFO!$J165=4)),0,COUNTRY_INFO!$F165))","v":22859},35968,{"$f":"IF(AND(INTRO!$E$37=\"Non endémique\",INTRO!$E$41=\"Non endémique\"),0,COUNTRY_INFO!Q165)","v":1},{"$f":"IF(AND(INTRO!$E$37=\"Non endémique\",INTRO!$E$41=\"Non endémique\"),0,COUNTRY_INFO!S165)","v":0},{"$f":"IF($G165=1,IVM!$G165,0)","v":3427},62611,2,"ALB",{"$f":"IF($L165=\"ALB\", IF(INTRO!$E$39=\"Non endémique\",IF($H165<>0,$D165*($H165-$G165),0),$D165*$H165), 0)","v":0},0,null,0,{"$f":"IF($L165=\"MBD\", IF(INTRO!$E$39=\"Non endémique\",IF($H165<>0,$D165*($H165-$G165),0),$D165*$H165),0)","v":0},0,null,0,null,128649,644,null,0,0,null,0,0]
[{"$f":"IF(AND(INTRO!$E$37=\"Non endémique\",INTRO!$E$41=\"Non endémique\"),\" \",IF(COUNTRY_INFO!A166=0,\" \",COUNTRY_INFO!A166))","v":"Angola"},{"$f":"IF(AND(INTRO!$E$37=\"Non endémique\",INTRO!$E$41=\"Non endémique\"),\" \",IF(COUNTRY_INFO!B166=0,\" \",COUNTRY_INFO!B166))","v":"UIGE"},{"$f":"IF(AND(INTRO!$E$37=\"Non endémique\",INTRO!$E$41=\"Non endémique\"),\" \",IF(COUNTRY_INFO!C166=0,\" \",COUNTRY_INFO!C166))","v":"UIGE"},{"$f":"IF(AND(INTRO!$E$37=\"Non endémique\",INTRO!$E$41=\"Non endémique\"),0,IF(AND(OR(COUNTRY_INFO!$H166=0,COUNTRY_INFO!$H166=4,COUNTRY_INFO!$H166=99),OR(COUNTRY_INFO!$J166=0,COUNTRY_INFO!$J166=4)),0,COUNTRY_INFO!$E166))","v":110346},{"$f":"IF(AND(INTRO!$E$37=\"Non endémique\",INTRO!$E$41=\"Non endémique\"),0,IF(AND(OR(COUNTRY_INFO!$H166=0,COUNTRY_INFO!$H166=4,COUNTRY_INFO!$H166=99),OR(COUNTRY_INFO!$J166=0,COUNTRY_INFO!$J166=4)),0,COUNTRY_INFO!$F166))","v":192416},302762,{"$f":"IF(AND(INTRO!$E$37=\"Non endémique\",INTRO!$E$41=\"Non endémique\"),0,COUNTRY_INFO!Q166)","v":0},{"$f":"IF(AND(INTRO!$E$37=\"Non endémique\",INTRO!$E$41=\"Non endémique\"),0,COUNTRY_INFO!S166)","v":0},{"$f":"IF($G166=1,IVM!$G166,0)","v":0},{"$f":"IF($G166=0, \" \", IF(COUNTRY_INFO!$H166=1, IF(COUNTRY_INFO!$L166=1, 0,\" \"),\" \"))","v":" "},null,"ALB",{"$f":"IF($L166=\"ALB\", IF(INTRO!$E$39=\"Non endémique\",IF($H166<>0,$D166*($H166-$G166),0),$D166*$H166), 0)","v":0},0,null,0,{"$f":"IF($L166=\"MBD\", IF(INTRO!$E$39=\"Non endémique\",IF($H166<>0,$D166*($H166-$G166),0),$D166*$H166),0)","v":0},0,null,0,null,0,0,null,0,0,null,0,0]
[{"$f":"IF(AND(INTRO!$E$37=\"Non endémique\",INTRO!$E$41=\"Non endémique\"),\" \",IF(COUNTRY_INFO!A167=0,\" \",COUNTRY_INFO!A167))","v":"Angola"},{"$f":"IF(AND(INTRO!$E$37=\"Non endémique\",INTRO!$E$41=\"Non endémique\"),\" \",IF(COUNTRY_INFO!B167=0,\" \",COUNTRY_INFO!B167))","v":"ZAIRE"},{"$f":"IF(AND(INTRO!$E$37=\"Non endémique\",INTRO!$E$41=\"Non endémique\"),\" \",IF(COUNTRY_INFO!C167=0,\" \",COUNTRY_INFO!C167))","v":"CUIMBA"},{"$f":"IF(AND(INTRO!$E$37=\"Non endémique\",INTRO!$E$41=\"Non endémique\"),0,IF(AND(OR(COUNTRY_INFO!$H167=0,COUNTRY_INFO!$H167=4,COUNTRY_INFO!$H167=99),OR(COUNTRY_INFO!$J167=0,COUNTRY_INFO!$J167=4)),0,COUNTRY_INFO!$E167))","v":0},{"$f":"IF(AND(INTRO!$E$37=\"Non endémique\",INTRO!$E$41=\"Non endémique\"),0,IF(AND(OR(COUNTRY_INFO!$H167=0,COUNTRY_INFO!$H167=4,COUNTRY_INFO!$H167=99),OR(COUNTRY_INFO!$J167=0,COUNTRY_INFO!$J167=4)),0,COUNTRY_INFO!$F167))","v":0},0,{"$f":"IF(AND(INTRO!$E$37=\"Non endémique\",INTRO!$E$41=\"Non endémique\"),0,COUNTRY_INFO!Q167)","v":0},{"$f":"IF(AND(INTRO!$E$37=\"Non endémique\",INTRO!$E$41=\"Non endémique\"),0,COUNTRY_INFO!S167)","v":0},{"$f":"IF($G167=1,IVM!$G167,0)","v":0},{"$f":"IF($G167=0, \" \", IF(COUNTRY_INFO!$H167=1, IF(COUNTRY_INFO!$L167=1, 0,\" \"),\" \"))","v":" "},null,"ALB",{"$f":"IF($L167=\"ALB\", IF(INTRO!$E$39=\"Non endémique\",IF($H167<>0,$D167*($H167-$G167),0),$D167*$H167), 0)","v":0},0,null,0,{"$f":"IF($L167=\"MBD\", IF(INTRO!$E$39=\"Non endémique\",IF($H167<>0,$D167*($H167-$G167),0),$D167*$H167),0)","v":0},0,null,0,null,0,0,null,0,0,null,0,0]
[{"$f":"IF(AND(INTRO!$E$37=\"Non endémique\",INTRO!$E$41=\"Non endémique\"),\" \",IF(COUNTRY_INFO!A168=0,\" \",COUNTRY_INFO!A168))","v":"Angola"},{"$f":"IF(AND(INTRO!$E$37=\"Non endémique\",INTRO!$E$41=\"Non endémique\"),\" \",IF(COUNTRY_INFO!B168=0,\" \",COUNTRY_INFO!B168))","v":"ZAIRE"},{"$f":"IF(AND(INTRO!$E$37=\"Non endémique\",INTRO!$E$41=\"Non endémique\"),\" \",IF(COUNTRY_INFO!C168=0,\" \",COUNTRY_INFO!C168))","v":"MBANZA KONGO"},{"$f":"IF(AND(INTRO!$E$37=\"Non endémique\",INTRO!$E$41=\"Non endémique\"),0,IF(AND(OR(COUNTRY_INFO!$H168=0,COUNTRY_INFO!$H168=4,COUNTRY_INFO!$H168=99),OR(COUNTRY_INFO!$J168=0,COUNTRY_INFO!$J168=4)),0,COUNTRY_INFO!$E168))","v":39207},{"$f":"IF(AND(INTRO!$E$37=\"Non endémique\",INTRO!$E$41=\"Non endémique\"),0,IF(AND(OR(COUNTRY_INFO!$H168=0,COUNTRY_INFO!$H168=4,COUNTRY_INFO!$H168=99),OR(COUNTRY_INFO!$J168=0,COUNTRY_INFO!$J168=4)),0,COUNTRY_INFO!$F168))","v":68368},107575,{"$f":"IF(AND(INTRO!$E$37=\"Non endémique\",INTRO!$E$41=\"Non endémique\"),0,COUNTRY_INFO!Q168)","v":0},{"$f":"IF(AND(INTRO!$E$37=\"Non endémique\",INTRO!$E$41=\"Non endémique\"),0,COUNTRY_INFO!S168)","v":1},{"$f":"IF($G168=1,IVM!$G168,0)","v":0},{"$f":"IF($G168=0, \" \", IF(COUNTRY_INFO!$H168=1, IF(COUNTRY_INFO!$L168=1, 0,\" \"),\" \"))","v":" "},null,"ALB",{"$f":"IF($L168=\"ALB\", IF(INTRO!$E$39=\"Non endémique\",IF($H168<>0,$D168*($H168-$G168),0),$D168*$H168), 0)","v":39207},68368,null,107575,{"$f":"IF($L168=\"MBD\", IF(INTRO!$E$39=\"Non endémique\",IF($H168<>0,$D168*($H168-$G168),0),$D168*$H168),0)","v":0},0,null,0,null,0,0,null,68368,342,null,0,0]
[{"$f":"IF(AND(INTRO!$E$37=\"Non endémique\",INTRO!$E$41=\"Non endémique\"),\" \",IF(COUNTRY_INFO!A169=0,\" \",COUNTRY_INFO!A169))","v":"Angola"},{"$f":"IF(AND(INTRO!$E$37=\"Non endémique\",INTRO!$E$41=\"Non endémique\"),\" \",IF(COUNTRY_INFO!B169=0,\" \",COUNTRY_INFO!B169))","v":"ZAIRE"},{"$f":"IF(AND(INTRO!$E$37=\"Non endémique\",INTRO!$E$41=\"Non endémique\"),\" \",IF(COUNTRY_INFO!C169=0,\" \",COUNTRY_INFO!C169))","v":"NOQUI"},{"$f":"IF(AND(INTRO!$E$37=\"Non endémique\",INTRO!$E$41=\"Non endémique\"),0,IF(AND(OR(COUNTRY_INFO!$H169=0,COUNTRY_INFO!$H169=4,COUNTRY_INFO!$H169=99),OR(COUNTRY_INFO!$J169=0,COUNTRY_INFO!$J169=4)),0,COUNTRY_INFO!$E169))","v":0},{"$f":"IF(AND(INTRO!$E$37=\"Non endémique\",INTRO!$E$41=\"Non endémique\"),0,IF(AND(OR(COUNTRY_INFO!$H169=0,COUNTRY_INFO!$H169=4,COUNTRY_INFO!$H169=99),OR(COUNTRY_INFO!$J169=0,COUNTRY_INFO!$J169=4)),0,COUNTRY_INFO!$F169))","v":0},{"$f":"SUM(D169:E169)","v":0},{"$f":"IF(AND(INTRO!$E$37=\"Non endémique\",INTRO!$E$41=\"Non endémique\"),0,COUNTRY_INFO!Q169)","v":0},{"$f":"IF(AND(INTRO!$E$37=\"Non endémique\",INTRO!$E$41=\"Non endémique\"),0,COUNTRY_INFO!S169)","v":0},{"$f":"IF($G169=1,IVM!$G169,0)","v":0},{"$f":"IF($G169=0, \" \", IF(COUNTRY_INFO!$H169=1, IF(COUNTRY_INFO!$L169=1, 0,\" \"),\" \"))","v":" "},null,"ALB",{"$f":"IF($L169=\"ALB\", IF(INTRO!$E$39=\"Non endémique\",IF($H169<>0,$D169*($H169-$G169),0),$D169*$H169), 0)","v":0},0,null,{"$f":"SUM(M169:O169)","v":0},{"$f":"IF($L169=\"MBD\", IF(INTRO!$E$39=\"Non endémique\",IF($H169<>0,$D169*($H169-$G169),0),$D169*$H169),0)","v":0},0,null,{"$f":"SUM(Q169:S169)","v":0},null,0,0,null,0,0,null,0,0]
[{"$f":"IF(AND(INTRO!$E$37=\"Non endémique\",INTRO!$E$41=\"Non endémique\"),\" \",IF(COUNTRY_INFO!A170=0,\" \",COUNTRY_INFO!A170))","v":"Angola"},{"$f":"IF(AND(INTRO!$E$37=\"Non endémique\",INTRO!$E$41=\"Non endémique\"),\" \",IF(COUNTRY_INFO!B170=0,\" \",COUNTRY_INFO!B170))","v":"ZAIRE"},{"$f":"IF(AND(INTRO!$E$37=\"Non endémique\",INTRO!$E$41=\"Non endémique\"),\" \",IF(COUNTRY_INFO!C170=0,\" \",COUNTRY_INFO!C170))","v":"NZETO"},{"$f":"IF(AND(INTRO!$E$37=\"Non endémique\",INTRO!$E$41=\"Non endémique\"),0,IF(AND(OR(COUNTRY_INFO!$H170=0,COUNTRY_INFO!$H170=4,COUNTRY_INFO!$H170=99),OR(COUNTRY_INFO!$J170=0,COUNTRY_INFO!$J170=4)),0,COUNTRY_INFO!$E170))","v":10398},{"$f":"IF(AND(INTRO!$E$37=\"Non endémique\",INTRO!$E$41=\"Non endémique\"),0,IF(AND(OR(COUNTRY_INFO!$H170=0,COUNTRY_INFO!$H170=4,COUNTRY_INFO!$H170=99),OR(COUNTRY_INFO!$J170=0,COUNTRY_INFO!$J170=4)),0,COUNTRY_INFO!$F170))","v":18132},28530,{"$f":"IF(AND(INTRO!$E$37=\"Non endémique\",INTRO!$E$41=\"Non endémique\"),0,COUNTRY_INFO!Q170)","v":0},{"$f":"IF(AND(INTRO!$E$37=\"Non endémique\",INTRO!$E$41=\"Non endémique\"),0,COUNTRY_INFO!S170)","v":0},{"$f":"IF($G170=1,IVM!$G170,0)","v":0},{"$f":"IF($G170=0, \" \", IF(COUNTRY_INFO!$H170=1, IF(COUNTRY_INFO!$L170=1, 0,\" \"),\" \"))","v":" "},null,"ALB",{"$f":"IF($L170=\"ALB\", IF(INTRO!$E$39=\"Non endémique\",IF($H170<>0,$D170*($H170-$G170),0),$D170*$H170), 0)","v":0},0,null,0,{"$f":"IF($L170=\"MBD\", IF(INTRO!$E$39=\"Non endémique\",IF($H170<>0,$D170*($H170-$G170),0),$D170*$H170),0)","v":0},0,null,0,null,0,0,null,0,0,null,0,0]
[{"$f":"IF(AND(INTRO!$E$37=\"Non endémique\",INTRO!$E$41=\"Non endémique\"),\" \",IF(COUNTRY_INFO!A171=0,\" \",COUNTRY_INFO!A171))","v":"Angola"},{"$f":"IF(AND(INTRO!$E$37=\"Non endémique\",INTRO!$E$41=\"Non endémique\"),\" \",IF(COUNTRY_INFO!B171=0,\" \",COUNTRY_INFO!B171))","v":"ZAIRE"},{"$f":"IF(AND(INTRO!$E$37=\"Non endémique\",INTRO!$E$41=\"Non endémique\"),\" \",IF(COUNTRY_INFO!C171=0,\" \",COUNTRY_INFO!C171))","v":"SOYO"},{"$f":"IF(AND(INTRO!$E$37=\"Non endémique\",INTRO!$E$41=\"Non endémique\"),0,IF(AND(OR(COUNTRY_INFO!$H171=0,COUNTRY_INFO!$H171=4,COUNTRY_INFO!$H171=99),OR(COUNTRY_INFO!$J171=0,COUNTRY_INFO!$J171=4)),0,COUNTRY_INFO!$E171))","v":49393},{"$f":"IF(AND(INTRO!$E$37=\"Non endémique\",INTRO!$E$41=\"Non endémique\"),0,IF(AND(OR(COUNTRY_INFO!$H171=0,COUNTRY_INFO!$H171=4,COUNTRY_INFO!$H171=99),OR(COUNTRY_INFO!$J171=0,COUNTRY_INFO!$J171=4)),0,COUNTRY_INFO!$F171))","v":86129},135522,{"$f":"IF(AND(INTRO!$E$37=\"Non endémique\",INTRO!$E$41=\"Non endémique\"),0,COUNTRY_INFO!Q171)","v":0},{"$f":"IF(AND(INTRO!$E$37=\"Non endémique\",INTRO!$E$41=\"Non endémique\"),0,COUNTRY_INFO!S171)","v":0},{"$f":"IF($G171=1,IVM!$G171,0)","v":0},{"$f":"IF($G171=0, \" \", IF(COUNTRY_INFO!$H171=1, IF(COUNTRY_INFO!$L171=1, 0,\" \"),\" \"))","v":" "},null,"ALB",{"$f":"IF($L171=\"ALB\", IF(INTRO!$E$39=\"Non endémique\",IF($H171<>0,$D171*($H171-$G171),0),$D171*$H171), 0)","v":0},0,null,0,{"$f":"IF($L171=\"MBD\", IF(INTRO!$E$39=\"Non endémique\",IF($H171<>0,$D171*($H171-$G171),0),$D171*$H171),0)","v":0},0,null,0,null,0,0,null,0,0,null,0,0]
[{"$f":"IF(AND(INTRO!$E$37=\"Non endémique\",INTRO!$E$41=\"Non endémique\"),\" \",IF(COUNTRY_INFO!A172=0,\" \",COUNTRY_INFO!A172))","v":"Angola"},{"$f":"IF(AND(INTRO!$E$37=\"Non endémique\",INTRO!$E$41=\"Non endémique\"),\" \",IF(COUNTRY_INFO!B172=0,\" \",COUNTRY_INFO!B172))","v":"ZAIRE"},{"$f":"IF(AND(INTRO!$E$37=\"Non endémique\",INTRO!$E$41=\"Non endémique\"),\" \",IF(COUNTRY_INFO!C172=0,\" \",COUNTRY_INFO!C172))","v":"TOMBOCO"},{"$f":"IF(AND(INTRO!$E$37=\"Non endémique\",INTRO!$E$41=\"Non endémique\"),0,IF(AND(OR(COUNTRY_INFO!$H172=0,COUNTRY_INFO!$H172=4,COUNTRY_INFO!$H172=99),OR(COUNTRY_INFO!$J172=0,COUNTRY_INFO!$J172=4)),0,COUNTRY_INFO!$E172))","v":10007},{"$f":"IF(AND(INTRO!$E$37=\"Non endémique\",INTRO!$E$41=\"Non endémique\"),0,IF(AND(OR(COUNTRY_INFO!$H172=0,COUNTRY_INFO!$H172=4,COUNTRY_INFO!$H172=99),OR(COUNTRY_INFO!$J172=0,COUNTRY_INFO!$J172=4)),0,COUNTRY_INFO!$F172))","v":17449},27456,{"$f":"IF(AND(INTRO!$E$37=\"Non endémique\",INTRO!$E$41=\"Non endémique\"),0,COUNTRY_INFO!Q172)","v":1},{"$f":"IF(AND(INTRO!$E$37=\"Non endémique\",INTRO!$E$41=\"Non endémique\"),0,COUNTRY_INFO!S172)","v":0},{"$f":"IF($G172=1,IVM!$G172,0)","v":2615},47794,2,"ALB",{"$f":"IF($L172=\"ALB\", IF(INTRO!$E$39=\"Non endémique\",IF($H172<>0,$D172*($H172-$G172),0),$D172*$H172), 0)","v":0},0,null,0,{"$f":"IF($L172=\"MBD\", IF(INTRO!$E$39=\"Non endémique\",IF($H172<>0,$D172*($H172-$G172),0),$D172*$H172),0)","v":0},0,null,0,null,98203,492,null,0,0,null,0,0]

{"sheet":"PZQ","index":3,"n_rows":172,"n_cols":18,"rows_kept":172,"cut":false,"hidden":false,"merged":[[5,12,5,17],[6,6,7,6],[6,8,7,8],[6,9,7,9],[3,0,3,2],[5,0,5,2],[5,3,5,5],[5,8,5,11],[5,6,5,7],[6,10,7,10],[6,17,7,17],[6,13,7,13],[6,14,7,14],[6,15,7,15],[6,11,7,11],[6,12,7,12],[6,16,7,16],[6,4,7,4],[6,5,7,5],[6,7,7,7],[6,0,7,0],[6,1,7,1],[6,2,7,2],[6,3,7,3]]}
["Praziquantel (PZQ)"]
["Structure administrative, population ciblée par groupe d'âge, plan de traitement et information sur les comprimés",null,null,null,null,null,null,null,null,{"$f":"J4*2","v":7863896}]
[]
["TOTAL",null,null,{"$f":"SUM(D$9:D$1000)","v":6828545},{"$f":"SUM(E$9:E$1000)","v":3870725},{"$f":"SUM(F$9:F$1000)","v":10699270},null,null,{"$f":"SUM(I$9:I$1000)","v":4906607},{"$f":"SUM(J$9:J$1000)","v":3931948},3238930.0059999996,7179848.0059999991,9852295,9716790.018000003,9852295,0,9852295,9905]
[]
["Structure administrative du pays",null,null,"Population nécessitant un traitement avec PZQ",null,null,"Plan de traitement",null,"Population cible",null,null,null,"Praziquantel (PZQ)"]
["Pays","Région/Département","District","EAS","Adultes","Total","SCH","Tous EAS ciblés ?","EAS","EAS à un niveau inférieur","Adultes","Total","EAS","Adultes","Total requis\npour EAS","Reste en stock","Comprimés devant être fournis","Flacons (600mg)\n1000 comprimés"]
[]
[{"$f":"IF(INTRO!$E$43=\"Non endémique\",\" \", IF(COUNTRY_INFO!A9=0,\" \",COUNTRY_INFO!A9))","v":"Angola"},{"$f":"IF(INTRO!$E$43=\"Non endémique\",\" \", IF(COUNTRY_INFO!B9=0,\" \",COUNTRY_INFO!B9))","v":"BENGO"},{"$f":"IF(INTRO!$E$43=\"Non endémique\",\" \", IF(COUNTRY_INFO!C9=0,\" \",COUNTRY_INFO!C9))","v":"AMBRIZ"},8528,9971,{"$f":"SUM(D9:E9)","v":18499},{"$f":"IF(INTRO!$E$43=\"Non endémique\", \"Non requis\", COUNTRY_INFO!T9)","v":1},null,{"$f":"IF($D9=0,0,IF(AND($G9>0,$H9<>\"Oui\"),D9,IF(AND($G9>0,$H9=\"Oui\"),COUNTRY_INFO!$F9,0)))","v":8528},7083,9456.616,{"$f":"IF($J9=0,SUM(I9,K9),SUM(J9,K9))","v":16539.616000000002},{"$f":"IF($J9=0,$I9*2.5,$J9*2.5)","v":17707.5},{"$f":"$K9*3","v":28369.847999999998},{"$f":"M9","v":17707.5},null,{"$f":"IF($O9>$P9,O9-P9,0)","v":17707.5},{"$f":"ROUNDUP($O9/1000,0)","v":18}]
[{"$f":"IF(INTRO!$E$43=\"Non endémique\",\" \", IF(COUNTRY_INFO!A10=0,\" \",COUNTRY_INFO!A10))","v":"Angola"},{"$f":"IF(INTRO!$E$43=\"Non endémique\",\" \", IF(COUNTRY_INFO!B10=0,\" \",COUNTRY_INFO!B10))","v":"BENGO"},{"$f":"IF(INTRO!$E$43=\"Non endémique\",\" \", IF(COUNTRY_INFO!C10=0,\" \",COUNTRY_INFO!C10))","v":"BULA ATUMBA"},5051,0,5051,{"$f":"IF(INTRO!$E$43=\"Non endémique\", \"Non requis\", COUNTRY_INFO!T10)","v":0},null,{"$f":"IF($D10=0,0,IF(AND($G10>0,$H10<>\"Oui\"),D10,IF(AND($G10>0,$H10=\"Oui\"),COUNTRY_INFO!$F10,0)))","v":0},0,0,0,0,0,0,null,0,0]
[{"$f":"IF(INTRO!$E$43=\"Non endémique\",\" \", IF(COUNTRY_INFO!A11=0,\" \",COUNTRY_INFO!A11))","v":"Angola"},{"$f":"IF(INTRO!$E$43=\"Non endémique\",\" \", IF(COUNTRY_INFO!B11=0,\" \",COUNTRY_INFO!B11))","v":"BENGO"},{"$f":"IF(INTRO!$E$43=\"Non endémique\",\" \", IF(COUNTRY_INFO!C11=0,\" \",COUNTRY_INFO!C11))","v":"DANDE"},83547,35676,119223,{"$f":"IF(INTRO!$E$43=\"Non endémique\", \"Non requis\", COUNTRY_INFO!T11)","v":1},null,{"$f":"IF($D11=0,0,IF(AND($G11>0,$H11<>\"Oui\"),D11,IF(AND($G11>0,$H11=\"Oui\"),COUNTRY_INFO!$F11,0)))","v":83547},80853,7616.2319999999991,88469.232000000004,202132.5,22848.695999999996,202132.5,null,202132.5,203]
[{"$f":"IF(INTRO!$E$43=\"Non endémique\",\" \", IF(COUNTRY_INFO!A12=0,\" \",COUNTRY_INFO!A12))","v":"Angola"},{"$f":"IF(INTRO!$E$43=\"Non endémique\",\" \", IF(COUNTRY_INFO!B12=0,\" \",COUNTRY_INFO!B12))","v":"BENGO"},{"$f":"IF(INTRO!$E$43=\"Non endémique\",\" \", IF(COUNTRY_INFO!C12=0,\" \",COUNTRY_INFO!C12))","v":"DEMBOS"},8319,0,8319,{"$f":"IF(INTRO!$E$43=\"Non endémique\", \"Non requis\", COUNTRY_INFO!T12)","v":0},null,{"$f":"IF($D12=0,0,IF(AND($G12>0,$H12<>\"Oui\"),D12,IF(AND($G12>0,$H12=\"Oui\"),COUNTRY_INFO!$F12,0)))","v":0},0,0,0,0,0,0,null,0,0]
[{"$f":"IF(INTRO!$E$43=\"Non endémique\",\" \", IF(COUNTRY_INFO!A13=0,\" \",COUNTRY_INFO!A13))","v":"Angola"},{"$f":"IF(INTRO!$E$43=\"Non endémique\",\" \", IF(COUNTRY_INFO!B13=0,\" \",COUNTRY_INFO!B13))","v":"BENGO"},{"$f":"IF(INTRO!$E$43=\"Non endémique\",\" \", IF(COUNTRY_INFO!C13=0,\" \",COUNTRY_INFO!C13))","v":"NAMBUANGONGO"},19706,2472,22178,{"$f":"IF(INTRO!$E$43=\"Non endémique\", \"Non requis\", COUNTRY_INFO!T13)","v":1},null,{"$f":"IF($D13=0,0,IF(AND($G13>0,$H13<>\"Oui\"),D13,IF(AND($G13>0,$H13=\"Oui\"),COUNTRY_INFO!$F13,0)))","v":19706},6719,0,6719,16797.5,0,16797.5,null,16797.5,17]
[{"$f":"IF(INTRO!$E$43=\"Non endémique\",\" \", IF(COUNTRY_INFO!A14=0,\" \",COUNTRY_INFO!A14))","v":"Angola"},{"$f":"IF(INTRO!$E$43=\"Non endémique\",\" \", IF(COUNTRY_INFO!B14=0,\" \",COUNTRY_INFO!B14))","v":"BENGO"},{"$f":"IF(INTRO!$E$43=\"Non endémique\",\" \", IF(COUNTRY_INFO!C14=0,\" \",COUNTRY_INFO!C14))","v":"PANGO ALUQUEM"},2630,96,2726,{"$f":"IF(INTRO!$E$43=\"Non endémique\", \"Non requis\", COUNTRY_INFO!T14)","v":1},null,{"$f":"IF($D14=0,0,IF(AND($G14>0,$H14<>\"Oui\"),D14,IF(AND($G14>0,$H14=\"Oui\"),COUNTRY_INFO!$F14,0)))","v":2630},261,0,261,652.5,0,652.5,null,652.5,1]
[{"$f":"IF(INTRO!$E$43=\"Non endémique\",\" \", IF(COUNTRY_INFO!A15=0,\" \",COUNTRY_INFO!A15))","v":"Angola"},{"$f":"IF(INTRO!$E$43=\"Non endémique\",\" \", IF(COUNTRY_INFO!B15=0,\" \",COUNTRY_INFO!B15))","v":"BENGUELA"},{"$f":"IF(INTRO!$E$43=\"Non endémique\",\" \", IF(COUNTRY_INFO!C15=0,\" \",COUNTRY_INFO!C15))","v":"BAIA FARTA"},36132,13649,49781,{"$f":"IF(INTRO!$E$43=\"Non endémique\", \"Non requis\", COUNTRY_INFO!T15)","v":1},null,{"$f":"IF($D15=0,0,IF(AND($G15>0,$H15<>\"Oui\"),D15,IF(AND($G15>0,$H15=\"Oui\"),COUNTRY_INFO!$F15,0)))","v":36132},36132,0,36132,90330,0,90330,null,90330,91]
[{"$f":"IF(INTRO!$E$43=\"Non endémique\",\" \", IF(COUNTRY_INFO!A16=0,\" \",COUNTRY_INFO!A16))","v":"Angola"},{"$f":"IF(INTRO!$E$43=\"Non endémique\",\" \", IF(COUNTRY_INFO!B16=0,\" \",COUNTRY_INFO!B16))","v":"BENGUELA"},{"$f":"IF(INTRO!$E$43=\"Non endémique\",\" \", IF(COUNTRY_INFO!C16=0,\" \",COUNTRY_INFO!C16))","v":"BALOMBO"},36507,7741,44248,{"$f":"IF(INTRO!$E$43=\"Non endémique\", \"Non requis\", COUNTRY_INFO!T16)","v":1},null,{"$f":"IF($D16=0,0,IF(AND($G16>0,$H16<>\"Oui\"),D16,IF(AND($G16>0,$H16=\"Oui\"),COUNTRY_INFO!$F16,0)))","v":36507},36507,7950.0069999999996,44457.006999999998,91267.5,23850.021000000001,91267.5,null,91267.5,92]
[{"$f":"IF(INTRO!$E$43=\"Non endémique\",\" \", IF(COUNTRY_INFO!A17=0,\" \",COUNTRY_INFO!A17))","v":"Angola"},{"$f":"IF(INTRO!$E$43=\"Non endémique\",\" \", IF(COUNTRY_INFO!B17=0,\" \",COUNTRY_INFO!B17))","v":"BENGUELA"},{"$f":"IF(INTRO!$E$43=\"Non endémique\",\" \", IF(COUNTRY_INFO!C17=0,\" \",COUNTRY_INFO!C17))","v":"BENGUELA"},188221,0,188221,{"$f":"IF(INTRO!$E$43=\"Non endémique\", \"Non requis\", COUNTRY_INFO!T17)","v":0},null,{"$f":"IF($D17=0,0,IF(AND($G17>0,$H17<>\"Oui\"),D17,IF(AND($G17>0,$H17=\"Oui\"),COUNTRY_INFO!$F17,0)))","v":0},0,0,0,0,0,0,null,0,0]
[{"$f":"IF(INTRO!$E$43=\"Non endémique\",\" \", IF(COUNTRY_INFO!A18=0,\" \",COUNTRY_INFO!A18))","v":"Angola"},{"$f":"IF(INTRO!$E$43=\"Non endémique\",\" \", IF(COUNTRY_INFO!B18=0,\" \",COUNTRY_INFO!B18))","v":"BENGUELA"},{"$f":"IF(INTRO!$E$43=\"Non endémique\",\" \", IF(COUNTRY_INFO!C18=0,\" \",COUNTRY_INFO!C18))","v":"BOCOIO"},55176,49065,104241,{"$f":"IF(INTRO!$E$43=\"Non endémique\", \"Non requis\", COUNTRY_INFO!T18)","v":1},null,{"$f":"IF($D18=0,0,IF(AND($G18>0,$H18<>\"Oui\"),D18,IF(AND($G18>0,$H18=\"Oui\"),COUNTRY_INFO!$F18,0)))","v":55176},21828,41230.968999999997,63058.968999999997,54570,123692.90699999999,54570,null,54570,55]
[{"$f":"IF(INTRO!$E$43=\"Non endémique\",\" \", IF(COUNTRY_INFO!A19=0,\" \",COUNTRY_INFO!A19))","v":"Angola"},{"$f":"IF(INTRO!$E$43=\"Non endémique\",\" \", IF(COUNTRY_INFO!B19=0,\" \",COUNTRY_INFO!B19))","v":"BENGUELA"},{"$f":"IF(INTRO!$E$43=\"Non endémique\",\" \", IF(COUNTRY_INFO!C19=0,\" \",COUNTRY_INFO!C19))","v":"CAIMBAMBO"},30434,16768,47202,{"$f":"IF(INTRO!$E$43=\"Non endémique\", \"Non requis\", COUNTRY_INFO!T19)","v":1},null,{"$f":"IF($D19=0,0,IF(AND($G19>0,$H19<>\"Oui\"),D19,IF(AND($G19>0,$H19=\"Oui\"),COUNTRY_INFO!$F19,0)))","v":30434},5281,9974.2239999999983,15255.223999999998,13202.5,29922.671999999995,13202.5,null,13202.5,14]
[{"$f":"IF(INTRO!$E$43=\"Non endémique\",\" \", IF(COUNTRY_INFO!A20=0,\" \",COUNTRY_INFO!A20))","v":"Angola"},{"$f":"IF(INTRO!$E$43=\"Non endémique\",\" \", IF(COUNTRY_INFO!B20=0,\" \",COUNTRY_INFO!B20))","v":"BENGUELA"},{"$f":"IF(INTRO!$E$43=\"Non endémique\",\" \", IF(COUNTRY_INFO!C20=0,\" \",COUNTRY_INFO!C20))","v":"CATUMBELA"},0,0,0,{"$f":"IF(INTRO!$E$43=\"Non endémique\", \"Non requis\", COUNTRY_INFO!T20)","v":0},null,{"$f":"IF($D20=0,0,IF(AND($G20>0,$H20<>\"Oui\"),D20,IF(AND($G20>0,$H20=\"Oui\"),COUNTRY_INFO!$F20,0)))","v":0},0,0,0,0,0,0,null,0,0]
[{"$f":"IF(INTRO!$E$43=\"Non endémique\",\" \", IF(COUNTRY_INFO!A21=0,\" \",COUNTRY_INFO!A21))","v":"Angola"},{"$f":"IF(INTRO!$E$43=\"Non endémique\",\" \", IF(COUNTRY_INFO!B21=0,\" \",COUNTRY_INFO!B21))","v":"BENGUELA"},{"$f":"IF(INTRO!$E$43=\"Non endémique\",\" \", IF(COUNTRY_INFO!C21=0,\" \",COUNTRY_INFO!C21))","v":"CHONGOROI"},29243,16118,45361,{"$f":"IF(INTRO!$E$43=\"Non endémique\", \"Non requis\", COUNTRY_INFO!T21)","v":1},null,{"$f":"IF($D21=0,0,IF(AND($G21>0,$H21<>\"Oui\"),D21,IF(AND($G21>0,$H21=\"Oui\"),COUNTRY_INFO!$F21,0)))","v":29243},3446,6509.1259999999993,9955.1260000000002,8615,19527.377999999997,8615,null,8615,9]
[{"$f":"IF(INTRO!$E$43=\"Non endémique\",\" \", IF(COUNTRY_INFO!A22=0,\" \",COUNTRY_INFO!A22))","v":"Angola"},{"$f":"IF(INTRO!$E$43=\"Non endémique\",\" \", IF(COUNTRY_INFO!B22=0,\" \",COUNTRY_INFO!B22))","v":"BENGUELA"},{"$f":"IF(INTRO!$E$43=\"Non endémique\",\" \", IF(COUNTRY_INFO!C22=0,\" \",COUNTRY_INFO!C22))","v":"CUBAL"},102401,50968,153369,{"$f":"IF(INTRO!$E$43=\"Non endémique\", \"Non requis\", COUNTRY_INFO!T22)","v":1},null,{"$f":"IF($D22=0,0,IF(AND($G22>0,$H22<>\"Oui\"),D22,IF(AND($G22>0,$H22=\"Oui\"),COUNTRY_INFO!$F22,0)))","v":102401},8348,15768.557999999999,24116.557999999997,20870,47305.673999999999,20870,null,20870,21]
[{"$f":"IF(INTRO!$E$43=\"Non endémique\",\" \", IF(COUNTRY_INFO!A23=0,\" \",COUNTRY_INFO!A23))","v":"Angola"},{"$f":"IF(INTRO!$E$43=\"Non endémique\",\" \", IF(COUNTRY_INFO!B23=0,\" \",COUNTRY_INFO!B23))","v":"BENGUELA"},{"$f":"IF(INTRO!$E$43=\"Non endémique\",\" \", IF(COUNTRY_INFO!C23=0,\" \",COUNTRY_INFO!C23))","v":"GANDA"},78899,40462,119361,{"$f":"IF(INTRO!$E$43=\"Non endémique\", \"Non requis\", COUNTRY_INFO!T23)","v":1},null,{"$f":"IF($D23=0,0,IF(AND($G23>0,$H23<>\"Oui\"),D23,IF(AND($G23>0,$H23=\"Oui\"),COUNTRY_INFO!$F23,0)))","v":78899},9306,17577.105,26883.105,23265,52731.315000000002,23265,null,23265,24]
[{"$f":"IF(INTRO!$E$43=\"Non endémique\",\" \", IF(COUNTRY_INFO!A24=0,\" \",COUNTRY_INFO!A24))","v":"Angola"},{"$f":"IF(INTRO!$E$43=\"Non endémique\",\" \", IF(COUNTRY_INFO!B24=0,\" \",COUNTRY_INFO!B24))","v":"BENGUELA"},{"$f":"IF(INTRO!$E$43=\"Non endémique\",\" \", IF(COUNTRY_INFO!C24=0,\" \",COUNTRY_INFO!C24))","v":"LOBITO"},4585,0,4585,{"$f":"IF(INTRO!$E$43=\"Non endémique\", \"Non requis\", COUNTRY_INFO!T24)","v":0},null,{"$f":"IF($D24=0,0,IF(AND($G24>0,$H24<>\"Oui\"),D24,IF(AND($G24>0,$H24=\"Oui\"),COUNTRY_INFO!$F24,0)))","v":0},0,0,0,0,0,0,null,0,0]
[{"$f":"IF(INTRO!$E$43=\"Non endémique\",\" \", IF(COUNTRY_INFO!A25=0,\" \",COUNTRY_INFO!A25))","v":"Angola"},{"$f":"IF(INTRO!$E$43=\"Non endémique\",\" \", IF(COUNTRY_INFO!B25=0,\" \",COUNTRY_INFO!B25))","v":"BIE"},{"$f":"IF(INTRO!$E$43=\"Non endémique\",\" \", IF(COUNTRY_INFO!C25=0,\" \",COUNTRY_INFO!C25))","v":"ANDULO"},15167,0,15167,{"$f":"IF(INTRO!$E$43=\"Non endémique\", \"Non requis\", COUNTRY_INFO!T25)","v":0},null,{"$f":"IF($D25=0,0,IF(AND($G25>0,$H25<>\"Oui\"),D25,IF(AND($G25>0,$H25=\"Oui\"),COUNTRY_INFO!$F25,0)))","v":0},0,0,0,0,0,0,null,0,0]
[{"$f":"IF(INTRO!$E$43=\"Non endémique\",\" \", IF(COUNTRY_INFO!A26=0,\" \",COUNTRY_INFO!A26))","v":"Angola"},{"$f":"IF(INTRO!$E$43=\"Non endémique\",\" \", IF(COUNTRY_INFO!B26=0,\" \",COUNTRY_INFO!B26))","v":"BIE"},{"$f":"IF(INTRO!$E$43=\"Non endémique\",\" \", IF(COUNTRY_INFO!C26=0,\" \",COUNTRY_INFO!C26))","v":"CAMACUPA"},21917,4605,26522,{"$f":"IF(INTRO!$E$43=\"Non endémique\", \"Non requis\", COUNTRY_INFO!T26)","v":1},null,{"$f":"IF($D26=0,0,IF(AND($G26>0,$H26<>\"Oui\"),D26,IF(AND($G26>0,$H26=\"Oui\"),COUNTRY_INFO!$F26,0)))","v":21917},9199,0,9199,22997.5,0,22997.5,null,22997.5,23]
[{"$f":"IF(INTRO!$E$43=\"Non endémique\",\" \", IF(COUNTRY_INFO!A27=0,\" \",COUNTRY_INFO!A27))","v":"Angola"},{"$f":"IF(INTRO!$E$43=\"Non endémique\",\" \", IF(COUNTRY_INFO!B27=0,\" \",COUNTRY_INFO!B27))","v":"BIE"},{"$f":"IF(INTRO!$E$43=\"Non endémique\",\" \", IF(COUNTRY_INFO!C27=0,\" \",COUNTRY_INFO!C27))","v":"CATABOLA"},34470,2136,36606,{"$f":"IF(INTRO!$E$43=\"Non endémique\", \"Non requis\", COUNTRY_INFO!T27)","v":1},null,{"$f":"IF($D27=0,0,IF(AND($G27>0,$H27<>\"Oui\"),D27,IF(AND($G27>0,$H27=\"Oui\"),COUNTRY_INFO!$F27,0)))","v":34470},5807,2193.672,8000.6720000000005,14517.5,6581.0159999999996,14517.5,null,14517.5,15]
[{"$f":"IF(INTRO!$E$43=\"Non endémique\",\" \", IF(COUNTRY_INFO!A28=0,\" \",COUNTRY_INFO!A28))","v":"Angola"},{"$f":"IF(INTRO!$E$43=\"Non endémique\",\" \", IF(COUNTRY_INFO!B28=0,\" \",COUNTRY_INFO!B28))","v":"BIE"},{"$f":"IF(INTRO!$E$43=\"Non endémique\",\" \", IF(COUNTRY_INFO!C28=0,\" \",COUNTRY_INFO!C28))","v":"CHINGUAR"},12229,0,12229,{"$f":"IF(INTRO!$E$43=\"Non endémique\", \"Non requis\", COUNTRY_INFO!T28)","v":0},null,{"$f":"IF($D28=0,0,IF(AND($G28>0,$H28<>\"Oui\"),D28,IF(AND($G28>0,$H28=\"Oui\"),COUNTRY_INFO!$F28,0)))","v":0},0,0,0,0,0,0,null,0,0]
[{"$f":"IF(INTRO!$E$43=\"Non endémique\",\" \", IF(COUNTRY_INFO!A29=0,\" \",COUNTRY_INFO!A29))","v":"Angola"},{"$f":"IF(INTRO!$E$43=\"Non endémique\",\" \", IF(COUNTRY_INFO!B29=0,\" \",COUNTRY_INFO!B29))","v":"BIE"},{"$f":"IF(INTRO!$E$43=\"Non endémique\",\" \", IF(COUNTRY_INFO!C29=0,\" \",COUNTRY_INFO!C29))","v":"CHITEMBO"},11845,4127,15972,{"$f":"IF(INTRO!$E$43=\"Non endémique\", \"Non requis\", COUNTRY_INFO!T29)","v":1},null,{"$f":"IF($D29=0,0,IF(AND($G29>0,$H29<>\"Oui\"),D29,IF(AND($G29>0,$H29=\"Oui\"),COUNTRY_INFO!$F29,0)))","v":11845},11220,0,11220,28050,0,28050,null,28050,29]
[{"$f":"IF(INTRO!$E$43=\"Non endémique\",\" \", IF(COUNTRY_INFO!A30=0,\" \",COUNTRY_INFO!A30))","v":"Angola"},{"$f":"IF(INTRO!$E$43=\"Non endémique\",\" \", IF(COUNTRY_INFO!B30=0,\" \",COUNTRY_INFO!B30))","v":"BIE"},{"$f":"IF(INTRO!$E$43=\"Non endémique\",\" \", IF(COUNTRY_INFO!C30=0,\" \",COUNTRY_INFO!C30))","v":"CUEMBA"},19914,0,19914,{"$f":"IF(INTRO!$E$43=\"Non endémique\", \"Non requis\", COUNTRY_INFO!T30)","v":0},null,{"$f":"IF($D30=0,0,IF(AND($G30>0,$H30<>\"Oui\"),D30,IF(AND($G30>0,$H30=\"Oui\"),COUNTRY_INFO!$F30,0)))","v":0},0,0,0,0,0,0,null,0,0]
[{"$f":"IF(INTRO!$E$43=\"Non endémique\",\" \", IF(COUNTRY_INFO!A31=0,\" \",COUNTRY_INFO!A31))","v":"Angola"},{"$f":"IF(INTRO!$E$43=\"Non endémique\",\" \", IF(COUNTRY_INFO!B31=0,\" \",COUNTRY_INFO!B31))","v":"BIE"},{"$f":"IF(INTRO!$E$43=\"Non endémique\",\" \", IF(COUNTRY_INFO!C31=0,\" \",COUNTRY_INFO!C31))","v":"CUNHINGA"},17517,0,17517,{"$f":"IF(INTRO!$E$43=\"Non endémique\", \"Non requis\", COUNTRY_INFO!T31)","v":0},null,{"$f":"IF($D31=0,0,IF(AND($G31>0,$H31<>\"Oui\"),D31,IF(AND($G31>0,$H31=\"Oui\"),COUNTRY_INFO!$F31,0)))","v":0},0,0,0,0,0,0,null,0,0]
[{"$f":"IF(INTRO!$E$43=\"Non endémique\",\" \", IF(COUNTRY_INFO!A32=0,\" \",COUNTRY_INFO!A32))","v":"Angola"},{"$f":"IF(INTRO!$E$43=\"Non endémique\",\" \", IF(COUNTRY_INFO!B32=0,\" \",COUNTRY_INFO!B32))","v":"BIE"},{"$f":"IF(INTRO!$E$43=\"Non endémique\",\" \", IF(COUNTRY_INFO!C32=0,\" \",COUNTRY_INFO!C32))","v":"CUITO"},152970,216735,369705,{"$f":"IF(INTRO!$E$43=\"Non endémique\", \"Non requis\", COUNTRY_INFO!T32)","v":1},null,{"$f":"IF($D32=0,0,IF(AND($G32>0,$H32<>\"Oui\"),D32,IF(AND($G32>0,$H32=\"Oui\"),COUNTRY_INFO!$F32,0)))","v":152970},148526,208095.87499999997,356621.875,371315,624287.62499999988,371315,null,371315,372]
[{"$f":"IF(INTRO!$E$43=\"Non endémique\",\" \", IF(COUNTRY_INFO!A33=0,\" \",COUNTRY_INFO!A33))","v":"Angola"},{"$f":"IF(INTRO!$E$43=\"Non endémique\",\" \", IF(COUNTRY_INFO!B33=0,\" \",COUNTRY_INFO!B33))","v":"BIE"},{"$f":"IF(INTRO!$E$43=\"Non endémique\",\" \", IF(COUNTRY_INFO!C33=0,\" \",COUNTRY_INFO!C33))","v":"NHAREA"},28436,0,28436,{"$f":"IF(INTRO!$E$43=\"Non endémique\", \"Non requis\", COUNTRY_INFO!T33)","v":0},null,{"$f":"IF($D33=0,0,IF(AND($G33>0,$H33<>\"Oui\"),D33,IF(AND($G33>0,$H33=\"Oui\"),COUNTRY_INFO!$F33,0)))","v":0},0,0,0,0,0,0,null,0,0]
[{"$f":"IF(INTRO!$E$43=\"Non endémique\",\" \", IF(COUNTRY_INFO!A34=0,\" \",COUNTRY_INFO!A34))","v":"Angola"},{"$f":"IF(INTRO!$E$43=\"Non endémique\",\" \", IF(COUNTRY_INFO!B34=0,\" \",COUNTRY_INFO!B34))","v":"CABINDA"},{"$f":"IF(INTRO!$E$43=\"Non endémique\",\" \", IF(COUNTRY_INFO!C34=0,\" \",COUNTRY_INFO!C34))","v":"BELIZE"},0,0,0,{"$f":"IF(INTRO!$E$43=\"Non endémique\", \"Non requis\", COUNTRY_INFO!T34)","v":0},null,{"$f":"IF($D34=0,0,IF(AND($G34>0,$H34<>\"Oui\"),D34,IF(AND($G34>0,$H34=\"Oui\"),COUNTRY_INFO!$F34,0)))","v":0},0,0,0,0,0,0,null,0,0]
[{"$f":"IF(INTRO!$E$43=\"Non endémique\",\" \", IF(COUNTRY_INFO!A35=0,\" \",COUNTRY_INFO!A35))","v":"Angola"},{"$f":"IF(INTRO!$E$43=\"Non endémique\",\" \", IF(COUNTRY_INFO!B35=0,\" \",COUNTRY_INFO!B35))","v":"CABINDA"},{"$f":"IF(INTRO!$E$43=\"Non endémique\",\" \", IF(COUNTRY_INFO!C35=0,\" \",COUNTRY_INFO!C35))","v":"BUCO ZAU"},4107,1323,5430,{"$f":"IF(INTRO!$E$43=\"Non endémique\", \"Non requis\", COUNTRY_INFO!T35)","v":1},null,{"$f":"IF($D35=0,0,IF(AND($G35>0,$H35<>\"Oui\"),D35,IF(AND($G35>0,$H35=\"Oui\"),COUNTRY_INFO!$F35,0)))","v":4107},4107,1358.7209999999998,5465.7209999999995,10267.5,4076.1629999999996,10267.5,null,10267.5,11]
[{"$f":"IF(INTRO!$E$43=\"Non endémique\",\" \", IF(COUNTRY_INFO!A36=0,\" \",COUNTRY_INFO!A36))","v":"Angola"},{"$f":"IF(INTRO!$E$43=\"Non endémique\",\" \", IF(COUNTRY_INFO!B36=0,\" \",COUNTRY_INFO!B36))","v":"CABINDA"},{"$f":"IF(INTRO!$E$43=\"Non endémique\",\" \", IF(COUNTRY_INFO!C36=0,\" \",COUNTRY_INFO!C36))","v":"CABINDA"},211923,382214,594137,{"$f":"IF(INTRO!$E$43=\"Non endémique\", \"Non requis\", COUNTRY_INFO!T36)","v":1},null,{"$f":"IF($D36=0,0,IF(AND($G36>0,$H36<>\"Oui\"),D36,IF(AND($G36>0,$H36=\"Oui\"),COUNTRY_INFO!$F36,0)))","v":211923},207812,392533.77799999999,600345.77799999993,519530,1177601.334,519530,null,519530,520]
[{"$f":"IF(INTRO!$E$43=\"Non endémique\",\" \", IF(COUNTRY_INFO!A37=0,\" \",COUNTRY_INFO!A37))","v":"Angola"},{"$f":"IF(INTRO!$E$43=\"Non endémique\",\" \", IF(COUNTRY_INFO!B37=0,\" \",COUNTRY_INFO!B37))","v":"CABINDA"},{"$f":"IF(INTRO!$E$43=\"Non endémique\",\" \", IF(COUNTRY_INFO!C37=0,\" \",COUNTRY_INFO!C37))","v":"CACONGO"},13257,0,13257,{"$f":"IF(INTRO!$E$43=\"Non endémique\", \"Non requis\", COUNTRY_INFO!T37)","v":0},null,{"$f":"IF($D37=0,0,IF(AND($G37>0,$H37<>\"Oui\"),D37,IF(AND($G37>0,$H37=\"Oui\"),COUNTRY_INFO!$F37,0)))","v":0},0,0,0,0,0,0,null,0,0]
[{"$f":"IF(INTRO!$E$43=\"Non endémique\",\" \", IF(COUNTRY_INFO!A38=0,\" \",COUNTRY_INFO!A38))","v":"Angola"},{"$f":"IF(INTRO!$E$43=\"Non endémique\",\" \", IF(COUNTRY_INFO!B38=0,\" \",COUNTRY_INFO!B38))","v":"CUNENE"},{"$f":"IF(INTRO!$E$43=\"Non endémique\",\" \", IF(COUNTRY_INFO!C38=0,\" \",COUNTRY_INFO!C38))","v":"CAHAMA"},24334,0,24334,{"$f":"IF(INTRO!$E$43=\"Non endémique\", \"Non requis\", COUNTRY_INFO!T38)","v":0},null,{"$f":"IF($D38=0,0,IF(AND($G38>0,$H38<>\"Oui\"),D38,IF(AND($G38>0,$H38=\"Oui\"),COUNTRY_INFO!$F38,0)))","v":0},0,0,0,0,0,0,null,0,0]
[{"$f":"IF(INTRO!$E$43=\"Non endémique\",\" \", IF(COUNTRY_INFO!A39=0,\" \",COUNTRY_INFO!A39))","v":"Angola"},{"$f":"IF(INTRO!$E$43=\"Non endémique\",\" \", IF(COUNTRY_INFO!B39=0,\" \",COUNTRY_INFO!B39))","v":"CUNENE"},{"$f":"IF(INTRO!$E$43=\"Non endémique\",\" \", IF(COUNTRY_INFO!C39=0,\" \",COUNTRY_INFO!C39))","v":"CUANHAMA"},103751,130553,234304,{"$f":"IF(INTRO!$E$43=\"Non endémique\", \"Non requis\", COUNTRY_INFO!T39)","v":1},null,{"$f":"IF($D39=0,0,IF(AND($G39>0,$H39<>\"Oui\"),D39,IF(AND($G39>0,$H39=\"Oui\"),COUNTRY_INFO!$F39,0)))","v":103751},67028,134077.93099999998,201105.93099999998,167570,402233.79299999995,167570,null,167570,168]
[{"$f":"IF(INTRO!$E$43=\"Non endémique\",\" \", IF(COUNTRY_INFO!A40=0,\" \",COUNTRY_INFO!A40))","v":"Angola"},{"$f":"IF(INTRO!$E$43=\"Non endémique\",\" \", IF(COUNTRY_INFO!B40=0,\" \",COUNTRY_INFO!B40))","v":"CUNENE"},{"$f":"IF(INTRO!$E$43=\"Non endémique\",\" \", IF(COUNTRY_INFO!C40=0,\" \",COUNTRY_INFO!C40))","v":"CUROCA"},14270,2352,16622,{"$f":"IF(INTRO!$E$43=\"Non endémique\", \"Non requis\", COUNTRY_INFO!T40)","v":1},null,{"$f":"IF($D40=0,0,IF(AND($G40>0,$H40<>\"Oui\"),D40,IF(AND($G40>0,$H40=\"Oui\"),COUNTRY_INFO!$F40,0)))","v":14270},14270,0,14270,35675,0,35675,null,35675,36]
[{"$f":"IF(INTRO!$E$43=\"Non endémique\",\" \", IF(COUNTRY_INFO!A41=0,\" \",COUNTRY_INFO!A41))","v":"Angola"},{"$f":"IF(INTRO!$E$43=\"Non endémique\",\" \", IF(COUNTRY_INFO!B41=0,\" \",COUNTRY_INFO!B41))","v":"CUNENE"},{"$f":"IF(INTRO!$E$43=\"Non endémique\",\" \", IF(COUNTRY_INFO!C41=0,\" \",COUNTRY_INFO!C41))","v":"CUVELAI"},19936,15548,{"$f":"SUM(D41:E41)","v":35484},{"$f":"IF(INTRO!$E$43=\"Non endémique\", \"Non requis\", COUNTRY_INFO!T41)","v":1},null,{"$f":"IF($D41=0,0,IF(AND($G41>0,$H41<>\"Oui\"),D41,IF(AND($G41>0,$H41=\"Oui\"),COUNTRY_INFO!$F41,0)))","v":19936},7718,15967.795999999998,{"$f":"IF($J41=0,SUM(I41,K41),SUM(J41,K41))","v":23685.795999999998},{"$f":"IF($J41=0,$I41*2.5,$J41*2.5)","v":19295},{"$f":"$K41*3","v":47903.387999999992},{"$f":"M41","v":19295},null,{"$f":"IF($O41>$P41,O41-P41,0)","v":19295},{"$f":"ROUNDUP($O41/1000,0)","v":20}]
[{"$f":"IF(INTRO!$E$43=\"Non endémique\",\" \", IF(COUNTRY_INFO!A42=0,\" \",COUNTRY_INFO!A42))","v":"Angola"},{"$f":"IF(INTRO!$E$43=\"Non endémique\",\" \", IF(COUNTRY_INFO!B42=0,\" \",COUNTRY_INFO!B42))","v":"CUNENE"},{"$f":"IF(INTRO!$E$43=\"Non endémique\",\" \", IF(COUNTRY_INFO!C42=0,\" \",COUNTRY_INFO!C42))","v":"NAMACUNDE"},49336,11323,60659,{"$f":"IF(INTRO!$E$43=\"Non endémique\", \"Non requis\", COUNTRY_INFO!T42)","v":1},null,{"$f":"IF($D42=0,0,IF(AND($G42>0,$H42<>\"Oui\"),D42,IF(AND($G42>0,$H42=\"Oui\"),COUNTRY_INFO!$F42,0)))","v":49336},49336,0,49336,123340,0,123340,null,123340,124]
[{"$f":"IF(INTRO!$E$43=\"Non endémique\",\" \", IF(COUNTRY_INFO!A43=0,\" \",COUNTRY_INFO!A43))","v":"Angola"},{"$f":"IF(INTRO!$E$43=\"Non endémique\",\" \", IF(COUNTRY_INFO!B43=0,\" \",COUNTRY_INFO!B43))","v":"CUNENE"},{"$f":"IF(INTRO!$E$43=\"Non endémique\",\" \", IF(COUNTRY_INFO!C43=0,\" \",COUNTRY_INFO!C43))","v":"OMBADJA"},78752,47708,126460,{"$f":"IF(INTRO!$E$43=\"Non endémique\", \"Non requis\", COUNTRY_INFO!T43)","v":1},null,{"$f":"IF($D43=0,0,IF(AND($G43>0,$H43<>\"Oui\"),D43,IF(AND($G43>0,$H43=\"Oui\"),COUNTRY_INFO!$F43,0)))","v":78752},21707,48996.115999999995,70703.115999999995,54267.5,146988.348,54267.5,null,54267.5,55]
[{"$f":"IF(INTRO!$E$43=\"Non endémique\",\" \", IF(COUNTRY_INFO!A44=0,\" \",COUNTRY_INFO!A44))","v":"Angola"},{"$f":"IF(INTRO!$E$43=\"Non endémique\",\" \", IF(COUNTRY_INFO!B44=0,\" \",COUNTRY_INFO!B44))","v":"HUAMBO"},{"$f":"IF(INTRO!$E$43=\"Non endémique\",\" \", IF(COUNTRY_INFO!C44=0,\" \",COUNTRY_INFO!C44))","v":"BAILUNDO"},73182,6043,79225,{"$f":"IF(INTRO!$E$43=\"Non endémique\", \"Non requis\", COUNTRY_INFO!T44)","v":1},null,{"$f":"IF($D44=0,0,IF(AND($G44>0,$H44<>\"Oui\"),D44,IF(AND($G44>0,$H44=\"Oui\"),COUNTRY_INFO!$F44,0)))","v":73182},73182,0,73182,182955,0,182955,null,182955,183]
[{"$f":"IF(INTRO!$E$43=\"Non endémique\",\" \", IF(COUNTRY_INFO!A45=0,\" \",COUNTRY_INFO!A45))","v":"Angola"},{"$f":"IF(INTRO!$E$43=\"Non endémique\",\" \", IF(COUNTRY_INFO!B45=0,\" \",COUNTRY_INFO!B45))","v":"HUAMBO"},{"$f":"IF(INTRO!$E$43=\"Non endémique\",\" \", IF(COUNTRY_INFO!C45=0,\" \",COUNTRY_INFO!C45))","v":"CAALA"},98836,42233,141069,{"$f":"IF(INTRO!$E$43=\"Non endémique\", \"Non requis\", COUNTRY_INFO!T45)","v":1},null,{"$f":"IF($D45=0,0,IF(AND($G45>0,$H45<>\"Oui\"),D45,IF(AND($G45>0,$H45=\"Oui\"),COUNTRY_INFO!$F45,0)))","v":98836},15999,30219.474999999999,46218.474999999999,39997.5,90658.424999999988,39997.5,null,39997.5,40]
[{"$f":"IF(INTRO!$E$43=\"Non endémique\",\" \", IF(COUNTRY_INFO!A46=0,\" \",COUNTRY_INFO!A46))","v":"Angola"},{"$f":"IF(INTRO!$E$43=\"Non endémique\",\" \", IF(COUNTRY_INFO!B46=0,\" \",COUNTRY_INFO!B46))","v":"HUAMBO"},{"$f":"IF(INTRO!$E$43=\"Non endémique\",\" \", IF(COUNTRY_INFO!C46=0,\" \",COUNTRY_INFO!C46))","v":"ECUNHA"},0,0,0,{"$f":"IF(INTRO!$E$43=\"Non endémique\", \"Non requis\", COUNTRY_INFO!T46)","v":0},null,{"$f":"IF($D46=0,0,IF(AND($G46>0,$H46<>\"Oui\"),D46,IF(AND($G46>0,$H46=\"Oui\"),COUNTRY_INFO!$F46,0)))","v":0},0,0,0,0,0,0,null,0,0]
[{"$f":"IF(INTRO!$E$43=\"Non endémique\",\" \", IF(COUNTRY_INFO!A47=0,\" \",COUNTRY_INFO!A47))","v":"Angola"},{"$f":"IF(INTRO!$E$43=\"Non endémique\",\" \", IF(COUNTRY_INFO!B47=0,\" \",COUNTRY_INFO!B47))","v":"HUAMBO"},{"$f":"IF(INTRO!$E$43=\"Non endémique\",\" \", IF(COUNTRY_INFO!C47=0,\" \",COUNTRY_INFO!C47))","v":"HUAMBO"},232862,422117,654979,{"$f":"IF(INTRO!$E$43=\"Non endémique\", \"Non requis\", COUNTRY_INFO!T47)","v":1},null,{"$f":"IF($D47=0,0,IF(AND($G47>0,$H47<>\"Oui\"),D47,IF(AND($G47>0,$H47=\"Oui\"),COUNTRY_INFO!$F47,0)))","v":232862},227096,428960.44099999999,656056.44099999999,567740,1286881.3229999999,567740,null,567740,568]
[{"$f":"IF(INTRO!$E$43=\"Non endémique\",\" \", IF(COUNTRY_INFO!A48=0,\" \",COUNTRY_INFO!A48))","v":"Angola"},{"$f":"IF(INTRO!$E$43=\"Non endémique\",\" \", IF(COUNTRY_INFO!B48=0,\" \",COUNTRY_INFO!B48))","v":"HUAMBO"},{"$f":"IF(INTRO!$E$43=\"Non endémique\",\" \", IF(COUNTRY_INFO!C48=0,\" \",COUNTRY_INFO!C48))","v":"CACHIUNGO"},42629,0,42629,{"$f":"IF(INTRO!$E$43=\"Non endémique\", \"Non requis\", COUNTRY_INFO!T48)","v":0},null,{"$f":"IF($D48=0,0,IF(AND($G48>0,$H48<>\"Oui\"),D48,IF(AND($G48>0,$H48=\"Oui\"),COUNTRY_INFO!$F48,0)))","v":0},0,0,0,0,0,0,null,0,0]
[{"$f":"IF(INTRO!$E$43=\"Non endémique\",\" \", IF(COUNTRY_INFO!A49=0,\" \",COUNTRY_INFO!A49))","v":"Angola"},{"$f":"IF(INTRO!$E$43=\"Non endémique\",\" \", IF(COUNTRY_INFO!B49=0,\" \",COUNTRY_INFO!B49))","v":"HUAMBO"},{"$f":"IF(INTRO!$E$43=\"Non endémique\",\" \", IF(COUNTRY_INFO!C49=0,\" \",COUNTRY_INFO!C49))","v":"LONDUIMBALI"},42843,14336,57179,{"$f":"IF(INTRO!$E$43=\"Non endémique\", \"Non requis\", COUNTRY_INFO!T49)","v":1},null,{"$f":"IF($D49=0,0,IF(AND($G49>0,$H49<>\"Oui\"),D49,IF(AND($G49>0,$H49=\"Oui\"),COUNTRY_INFO!$F49,0)))","v":42843},5165,9755.473,14920.473,12912.5,29266.419000000002,12912.5,null,12912.5,13]
[{"$f":"IF(INTRO!$E$43=\"Non endémique\",\" \", IF(COUNTRY_INFO!A50=0,\" \",COUNTRY_INFO!A50))","v":"Angola"},{"$f":"IF(INTRO!$E$43=\"Non endémique\",\" \", IF(COUNTRY_INFO!B50=0,\" \",COUNTRY_INFO!B50))","v":"HUAMBO"},{"$f":"IF(INTRO!$E$43=\"Non endémique\",\" \", IF(COUNTRY_INFO!C50=0,\" \",COUNTRY_INFO!C50))","v":"LONGONJO"},32535,24577,57112,{"$f":"IF(INTRO!$E$43=\"Non endémique\", \"Non requis\", COUNTRY_INFO!T50)","v":1},null,{"$f":"IF($D50=0,0,IF(AND($G50>0,$H50<>\"Oui\"),D50,IF(AND($G50>0,$H50=\"Oui\"),COUNTRY_INFO!$F50,0)))","v":32535},10443,19725.589,30168.589,26107.5,59176.767,26107.5,null,26107.5,27]
[{"$f":"IF(INTRO!$E$43=\"Non endémique\",\" \", IF(COUNTRY_INFO!A51=0,\" \",COUNTRY_INFO!A51))","v":"Angola"},{"$f":"IF(INTRO!$E$43=\"Non endémique\",\" \", IF(COUNTRY_INFO!B51=0,\" \",COUNTRY_INFO!B51))","v":"HUAMBO"},{"$f":"IF(INTRO!$E$43=\"Non endémique\",\" \", IF(COUNTRY_INFO!C51=0,\" \",COUNTRY_INFO!C51))","v":"MUNGO"},0,0,0,{"$f":"IF(INTRO!$E$43=\"Non endémique\", \"Non requis\", COUNTRY_INFO!T51)","v":0},null,{"$f":"IF($D51=0,0,IF(AND($G51>0,$H51<>\"Oui\"),D51,IF(AND($G51>0,$H51=\"Oui\"),COUNTRY_INFO!$F51,0)))","v":0},0,0,0,0,0,0,null,0,0]
[{"$f":"IF(INTRO!$E$43=\"Non endémique\",\" \", IF(COUNTRY_INFO!A52=0,\" \",COUNTRY_INFO!A52))","v":"Angola"},{"$f":"IF(INTRO!$E$43=\"Non endémique\",\" \", IF(COUNTRY_INFO!B52=0,\" \",COUNTRY_INFO!B52))","v":"HUAMBO"},{"$f":"IF(INTRO!$E$43=\"Non endémique\",\" \", IF(COUNTRY_INFO!C52=0,\" \",COUNTRY_INFO!C52))","v":"CHICALA CHOLOHANGA"},36612,28741,65353,{"$f":"IF(INTRO!$E$43=\"Non endémique\", \"Non requis\", COUNTRY_INFO!T52)","v":1},null,{"$f":"IF($D52=0,0,IF(AND($G52>0,$H52<>\"Oui\"),D52,IF(AND($G52>0,$H52=\"Oui\"),COUNTRY_INFO!$F52,0)))","v":36612},11085,20939.502999999997,32024.502999999997,27712.5,62818.508999999991,27712.5,null,27712.5,28]
[{"$f":"IF(INTRO!$E$43=\"Non endémique\",\" \", IF(COUNTRY_INFO!A53=0,\" \",COUNTRY_INFO!A53))","v":"Angola"},{"$f":"IF(INTRO!$E$43=\"Non endémique\",\" \", IF(COUNTRY_INFO!B53=0,\" \",COUNTRY_INFO!B53))","v":"HUAMBO"},{"$f":"IF(INTRO!$E$43=\"Non endémique\",\" \", IF(COUNTRY_INFO!C53=0,\" \",COUNTRY_INFO!C53))","v":"CHINDJENJE"},10754,8264,19018,{"$f":"IF(INTRO!$E$43=\"Non endémique\", \"Non requis\", COUNTRY_INFO!T53)","v":1},null,{"$f":"IF($D53=0,0,IF(AND($G53>0,$H53<>\"Oui\"),D53,IF(AND($G53>0,$H53=\"Oui\"),COUNTRY_INFO!$F53,0)))","v":10754},4493,8487.1279999999988,12980.127999999999,11232.5,25461.383999999998,11232.5,null,11232.5,12]
[{"$f":"IF(INTRO!$E$43=\"Non endémique\",\" \", IF(COUNTRY_INFO!A54=0,\" \",COUNTRY_INFO!A54))","v":"Angola"},{"$f":"IF(INTRO!$E$43=\"Non endémique\",\" \", IF(COUNTRY_INFO!B54=0,\" \",COUNTRY_INFO!B54))","v":"HUAMBO"},{"$f":"IF(INTRO!$E$43=\"Non endémique\",\" \", IF(COUNTRY_INFO!C54=0,\" \",COUNTRY_INFO!C54))","v":"UCUMA"},19448,7347,26795,{"$f":"IF(INTRO!$E$43=\"Non endémique\", \"Non requis\", COUNTRY_INFO!T54)","v":1},null,{"$f":"IF($D54=0,0,IF(AND($G54>0,$H54<>\"Oui\"),D54,IF(AND($G54>0,$H54=\"Oui\"),COUNTRY_INFO!$F54,0)))","v":19448},19448,0,19448,48620,0,48620,null,48620,49]
[{"$f":"IF(INTRO!$E$43=\"Non endémique\",\" \", IF(COUNTRY_INFO!A55=0,\" \",COUNTRY_INFO!A55))","v":"Angola"},{"$f":"IF(INTRO!$E$43=\"Non endémique\",\" \", IF(COUNTRY_INFO!B55=0,\" \",COUNTRY_INFO!B55))","v":"HUILA"},{"$f":"IF(INTRO!$E$43=\"Non endémique\",\" \", IF(COUNTRY_INFO!C55=0,\" \",COUNTRY_INFO!C55))","v":"CACONDA"},57933,41683,99616,{"$f":"IF(INTRO!$E$43=\"Non endémique\", \"Non requis\", COUNTRY_INFO!T55)","v":1},null,{"$f":"IF($D55=0,0,IF(AND($G55>0,$H55<>\"Oui\"),D55,IF(AND($G55>0,$H55=\"Oui\"),COUNTRY_INFO!$F55,0)))","v":57933},59498,25415.168999999998,84913.168999999994,148745,76245.506999999998,148745,null,148745,149]
[{"$f":"IF(INTRO!$E$43=\"Non endémique\",\" \", IF(COUNTRY_INFO!A56=0,\" \",COUNTRY_INFO!A56))","v":"Angola"},{"$f":"IF(INTRO!$E$43=\"Non endémique\",\" \", IF(COUNTRY_INFO!B56=0,\" \",COUNTRY_INFO!B56))","v":"HUILA"},{"$f":"IF(INTRO!$E$43=\"Non endémique\",\" \", IF(COUNTRY_INFO!C56=0,\" \",COUNTRY_INFO!C56))","v":"CACULA"},35400,9036,44436,{"$f":"IF(INTRO!$E$43=\"Non endémique\", \"Non requis\", COUNTRY_INFO!T56)","v":1},null,{"$f":"IF($D56=0,0,IF(AND($G56>0,$H56<>\"Oui\"),D56,IF(AND($G56>0,$H56=\"Oui\"),COUNTRY_INFO!$F56,0)))","v":35400},24562,0,24562,61405,0,61405,null,61405,62]
[{"$f":"IF(INTRO!$E$43=\"Non endémique\",\" \", IF(COUNTRY_INFO!A57=0,\" \",COUNTRY_INFO!A57))","v":"Angola"},{"$f":"IF(INTRO!$E$43=\"Non endémique\",\" \", IF(COUNTRY_INFO!B57=0,\" \",COUNTRY_INFO!B57))","v":"HUILA"},{"$f":"IF(INTRO!$E$43=\"Non endémique\",\" \", IF(COUNTRY_INFO!C57=0,\" \",COUNTRY_INFO!C57))","v":"CALUQUEMBE"},62113,39479,101592,{"$f":"IF(INTRO!$E$43=\"Non endémique\", \"Non requis\", COUNTRY_INFO!T57)","v":1},null,{"$f":"IF($D57=0,0,IF(AND($G57>0,$H57<>\"Oui\"),D57,IF(AND($G57>0,$H57=\"Oui\"),COUNTRY_INFO!$F57,0)))","v":62113},63790,20558.485999999997,84348.486000000004,159475,61675.457999999991,159475,null,159475,160]
[{"$f":"IF(INTRO!$E$43=\"Non endémique\",\" \", IF(COUNTRY_INFO!A58=0,\" \",COUNTRY_INFO!A58))","v":"Angola"},{"$f":"IF(INTRO!$E$43=\"Non endémique\",\" \", IF(COUNTRY_INFO!B58=0,\" \",COUNTRY_INFO!B58))","v":"HUILA"},{"$f":"IF(INTRO!$E$43=\"Non endémique\",\" \", IF(COUNTRY_INFO!C58=0,\" \",COUNTRY_INFO!C58))","v":"CHIBIA"},65819,59470,125289,{"$f":"IF(INTRO!$E$43=\"Non endémique\", \"Non requis\", COUNTRY_INFO!T58)","v":1},null,{"$f":"IF($D58=0,0,IF(AND($G58>0,$H58<>\"Oui\"),D58,IF(AND($G58>0,$H58=\"Oui\"),COUNTRY_INFO!$F58,0)))","v":65819},67596,44422.884999999995,112018.88499999999,168990,133268.65499999997,168990,null,168990,169]
[{"$f":"IF(INTRO!$E$43=\"Non endémique\",\" \", IF(COUNTRY_INFO!A59=0,\" \",COUNTRY_INFO!A59))","v":"Angola"},{"$f":"IF(INTRO!$E$43=\"Non endémique\",\" \", IF(COUNTRY_INFO!B59=0,\" \",COUNTRY_INFO!B59))","v":"HUILA"},{"$f":"IF(INTRO!$E$43=\"Non endémique\",\" \", IF(COUNTRY_INFO!C59=0,\" \",COUNTRY_INFO!C59))","v":"CHICOMBA"},45501,64637,110138,{"$f":"IF(INTRO!$E$43=\"Non endémique\", \"Non requis\", COUNTRY_INFO!T59)","v":1},null,{"$f":"IF($D59=0,0,IF(AND($G59>0,$H59<>\"Oui\"),D59,IF(AND($G59>0,$H59=\"Oui\"),COUNTRY_INFO!$F59,0)))","v":45501},46730,60911.369999999995,107641.37,116825,182734.11,116825,null,116825,117]
[{"$f":"IF(INTRO!$E$43=\"Non endémique\",\" \", IF(COUNTRY_INFO!A60=0,\" \",COUNTRY_INFO!A60))","v":"Angola"},{"$f":"IF(INTRO!$E$43=\"Non endémique\",\" \", IF(COUNTRY_INFO!B60=0,\" \",COUNTRY_INFO!B60))","v":"HUILA"},{"$f":"IF(INTRO!$E$43=\"Non endémique\",\" \", IF(COUNTRY_INFO!C60=0,\" \",COUNTRY_INFO!C60))","v":"CHIPINDO"},16540,6249,22789,{"$f":"IF(INTRO!$E$43=\"Non endémique\", \"Non requis\", COUNTRY_INFO!T60)","v":1},null,{"$f":"IF($D60=0,0,IF(AND($G60>0,$H60<>\"Oui\"),D60,IF(AND($G60>0,$H60=\"Oui\"),COUNTRY_INFO!$F60,0)))","v":16540},23508,0,23508,58770,0,58770,null,58770,59]
[{"$f":"IF(INTRO!$E$43=\"Non endémique\",\" \", IF(COUNTRY_INFO!A61=0,\" \",COUNTRY_INFO!A61))","v":"Angola"},{"$f":"IF(INTRO!$E$43=\"Non endémique\",\" \", IF(COUNTRY_INFO!B61=0,\" \",COUNTRY_INFO!B61))","v":"HUILA"},{"$f":"IF(INTRO!$E$43=\"Non endémique\",\" \", IF(COUNTRY_INFO!C61=0,\" \",COUNTRY_INFO!C61))","v":"GAMBOS"},27431,10363,37794,{"$f":"IF(INTRO!$E$43=\"Non endémique\", \"Non requis\", COUNTRY_INFO!T61)","v":1},null,{"$f":"IF($D61=0,0,IF(AND($G61>0,$H61<>\"Oui\"),D61,IF(AND($G61>0,$H61=\"Oui\"),COUNTRY_INFO!$F61,0)))","v":27431},28172,0,28172,70430,0,70430,null,70430,71]
[{"$f":"IF(INTRO!$E$43=\"Non endémique\",\" \", IF(COUNTRY_INFO!A62=0,\" \",COUNTRY_INFO!A62))","v":"Angola"},{"$f":"IF(INTRO!$E$43=\"Non endémique\",\" \", IF(COUNTRY_INFO!B62=0,\" \",COUNTRY_INFO!B62))","v":"HUILA"},{"$f":"IF(INTRO!$E$43=\"Non endémique\",\" \", IF(COUNTRY_INFO!C62=0,\" \",COUNTRY_INFO!C62))","v":"HUMPATA"},30773,11625,42398,{"$f":"IF(INTRO!$E$43=\"Non endémique\", \"Non requis\", COUNTRY_INFO!T62)","v":1},null,{"$f":"IF($D62=0,0,IF(AND($G62>0,$H62<>\"Oui\"),D62,IF(AND($G62>0,$H62=\"Oui\"),COUNTRY_INFO!$F62,0)))","v":30773},31604,0,31604,79010,0,79010,null,79010,80]
[{"$f":"IF(INTRO!$E$43=\"Non endémique\",\" \", IF(COUNTRY_INFO!A63=0,\" \",COUNTRY_INFO!A63))","v":"Angola"},{"$f":"IF(INTRO!$E$43=\"Non endémique\",\" \", IF(COUNTRY_INFO!B63=0,\" \",COUNTRY_INFO!B63))","v":"HUILA"},{"$f":"IF(INTRO!$E$43=\"Non endémique\",\" \", IF(COUNTRY_INFO!C63=0,\" \",COUNTRY_INFO!C63))","v":"JAMBA"},36277,54799,91076,{"$f":"IF(INTRO!$E$43=\"Non endémique\", \"Non requis\", COUNTRY_INFO!T63)","v":1},null,{"$f":"IF($D63=0,0,IF(AND($G63>0,$H63<>\"Oui\"),D63,IF(AND($G63>0,$H63=\"Oui\"),COUNTRY_INFO!$F63,0)))","v":36277},37256,56278.572999999997,93534.573000000004,93140,168835.71899999998,93140,null,93140,94]
[{"$f":"IF(INTRO!$E$43=\"Non endémique\",\" \", IF(COUNTRY_INFO!A64=0,\" \",COUNTRY_INFO!A64))","v":"Angola"},{"$f":"IF(INTRO!$E$43=\"Non endémique\",\" \", IF(COUNTRY_INFO!B64=0,\" \",COUNTRY_INFO!B64))","v":"HUILA"},{"$f":"IF(INTRO!$E$43=\"Non endémique\",\" \", IF(COUNTRY_INFO!C64=0,\" \",COUNTRY_INFO!C64))","v":"CUVANGO"},27114,10243,37357,{"$f":"IF(INTRO!$E$43=\"Non endémique\", \"Non requis\", COUNTRY_INFO!T64)","v":1},null,{"$f":"IF($D64=0,0,IF(AND($G64>0,$H64<>\"Oui\"),D64,IF(AND($G64>0,$H64=\"Oui\"),COUNTRY_INFO!$F64,0)))","v":27114},27845,0,27845,69612.5,0,69612.5,null,69612.5,70]
[{"$f":"IF(INTRO!$E$43=\"Non endémique\",\" \", IF(COUNTRY_INFO!A65=0,\" \",COUNTRY_INFO!A65))","v":"Angola"},{"$f":"IF(INTRO!$E$43=\"Non endémique\",\" \", IF(COUNTRY_INFO!B65=0,\" \",COUNTRY_INFO!B65))","v":"HUILA"},{"$f":"IF(INTRO!$E$43=\"Non endémique\",\" \", IF(COUNTRY_INFO!C65=0,\" \",COUNTRY_INFO!C65))","v":"LUBANGO"},267965,163147,431112,{"$f":"IF(INTRO!$E$43=\"Non endémique\", \"Non requis\", COUNTRY_INFO!T65)","v":1},null,{"$f":"IF($D65=0,0,IF(AND($G65>0,$H65<>\"Oui\"),D65,IF(AND($G65>0,$H65=\"Oui\"),COUNTRY_INFO!$F65,0)))","v":267965},266610,83541.314999999988,350151.315,666525,250623.94499999995,666525,null,666525,667]
[{"$f":"IF(INTRO!$E$43=\"Non endémique\",\" \", IF(COUNTRY_INFO!A66=0,\" \",COUNTRY_INFO!A66))","v":"Angola"},{"$f":"IF(INTRO!$E$43=\"Non endémique\",\" \", IF(COUNTRY_INFO!B66=0,\" \",COUNTRY_INFO!B66))","v":"HUILA"},{"$f":"IF(INTRO!$E$43=\"Non endémique\",\" \", IF(COUNTRY_INFO!C66=0,\" \",COUNTRY_INFO!C66))","v":"MATALA"},90707,145542,236249,{"$f":"IF(INTRO!$E$43=\"Non endémique\", \"Non requis\", COUNTRY_INFO!T66)","v":1},null,{"$f":"IF($D66=0,0,IF(AND($G66>0,$H66<>\"Oui\"),D66,IF(AND($G66>0,$H66=\"Oui\"),COUNTRY_INFO!$F66,0)))","v":90707},93156,149471.63399999999,242627.63399999999,232890,448414.902,232890,null,232890,233]
[{"$f":"IF(INTRO!$E$43=\"Non endémique\",\" \", IF(COUNTRY_INFO!A67=0,\" \",COUNTRY_INFO!A67))","v":"Angola"},{"$f":"IF(INTRO!$E$43=\"Non endémique\",\" \", IF(COUNTRY_INFO!B67=0,\" \",COUNTRY_INFO!B67))","v":"HUILA"},{"$f":"IF(INTRO!$E$43=\"Non endémique\",\" \", IF(COUNTRY_INFO!C67=0,\" \",COUNTRY_INFO!C67))","v":"QUILENGUES"},26006,28512,54518,{"$f":"IF(INTRO!$E$43=\"Non endémique\", \"Non requis\", COUNTRY_INFO!T67)","v":1},null,{"$f":"IF($D67=0,0,IF(AND($G67>0,$H67<>\"Oui\"),D67,IF(AND($G67>0,$H67=\"Oui\"),COUNTRY_INFO!$F67,0)))","v":26006},26708,23989.692999999999,50697.692999999999,66770,71969.078999999998,66770,null,66770,67]
[{"$f":"IF(INTRO!$E$43=\"Non endémique\",\" \", IF(COUNTRY_INFO!A68=0,\" \",COUNTRY_INFO!A68))","v":"Angola"},{"$f":"IF(INTRO!$E$43=\"Non endémique\",\" \", IF(COUNTRY_INFO!B68=0,\" \",COUNTRY_INFO!B68))","v":"HUILA"},{"$f":"IF(INTRO!$E$43=\"Non endémique\",\" \", IF(COUNTRY_INFO!C68=0,\" \",COUNTRY_INFO!C68))","v":"QUIPUNGO"},54859,103623,158482,{"$f":"IF(INTRO!$E$43=\"Non endémique\", \"Non requis\", COUNTRY_INFO!T68)","v":1},null,{"$f":"IF($D68=0,0,IF(AND($G68>0,$H68<>\"Oui\"),D68,IF(AND($G68>0,$H68=\"Oui\"),COUNTRY_INFO!$F68,0)))","v":54859},56340,106420.821,162760.821,140850,319262.46299999999,140850,null,140850,141]
[{"$f":"IF(INTRO!$E$43=\"Non endémique\",\" \", IF(COUNTRY_INFO!A69=0,\" \",COUNTRY_INFO!A69))","v":"Angola"},{"$f":"IF(INTRO!$E$43=\"Non endémique\",\" \", IF(COUNTRY_INFO!B69=0,\" \",COUNTRY_INFO!B69))","v":"CUANDO CUBANGO"},{"$f":"IF(INTRO!$E$43=\"Non endémique\",\" \", IF(COUNTRY_INFO!C69=0,\" \",COUNTRY_INFO!C69))","v":"CALAI"},7786,2609,10395,{"$f":"IF(INTRO!$E$43=\"Non endémique\", \"Non requis\", COUNTRY_INFO!T69)","v":1},null,{"$f":"IF($D69=0,0,IF(AND($G69>0,$H69<>\"Oui\"),D69,IF(AND($G69>0,$H69=\"Oui\"),COUNTRY_INFO!$F69,0)))","v":7786},7092,2679.4429999999998,9771.4429999999993,17730,8038.3289999999997,17730,null,17730,18]
[{"$f":"IF(INTRO!$E$43=\"Non endémique\",\" \", IF(COUNTRY_INFO!A70=0,\" \",COUNTRY_INFO!A70))","v":"Angola"},{"$f":"IF(INTRO!$E$43=\"Non endémique\",\" \", IF(COUNTRY_INFO!B70=0,\" \",COUNTRY_INFO!B70))","v":"CUANDO CUBANGO"},{"$f":"IF(INTRO!$E$43=\"Non endémique\",\" \", IF(COUNTRY_INFO!C70=0,\" \",COUNTRY_INFO!C70))","v":"CUANGAR"},9781,1969,11750,{"$f":"IF(INTRO!$E$43=\"Non endémique\", \"Non requis\", COUNTRY_INFO!T70)","v":1},null,{"$f":"IF($D70=0,0,IF(AND($G70>0,$H70<>\"Oui\"),D70,IF(AND($G70>0,$H70=\"Oui\"),COUNTRY_INFO!$F70,0)))","v":9781},5350,2022.1629999999998,7372.1629999999996,13375,6066.4889999999996,13375,null,13375,14]
[{"$f":"IF(INTRO!$E$43=\"Non endémique\",\" \", IF(COUNTRY_INFO!A71=0,\" \",COUNTRY_INFO!A71))","v":"Angola"},{"$f":"IF(INTRO!$E$43=\"Non endémique\",\" \", IF(COUNTRY_INFO!B71=0,\" \",COUNTRY_INFO!B71))","v":"CUANDO CUBANGO"},{"$f":"IF(INTRO!$E$43=\"Non endémique\",\" \", IF(COUNTRY_INFO!C71=0,\" \",COUNTRY_INFO!C71))","v":"CUCHI"},13010,4310,17320,{"$f":"IF(INTRO!$E$43=\"Non endémique\", \"Non requis\", COUNTRY_INFO!T71)","v":1},null,{"$f":"IF($D71=0,0,IF(AND($G71>0,$H71<>\"Oui\"),D71,IF(AND($G71>0,$H71=\"Oui\"),COUNTRY_INFO!$F71,0)))","v":13010},11717,0,11717,29292.5,0,29292.5,null,29292.5,30]
[{"$f":"IF(INTRO!$E$43=\"Non endémique\",\" \", IF(COUNTRY_INFO!A72=0,\" \",COUNTRY_INFO!A72))","v":"Angola"},{"$f":"IF(INTRO!$E$43=\"Non endémique\",\" \", IF(COUNTRY_INFO!B72=0,\" \",COUNTRY_INFO!B72))","v":"CUANDO CUBANGO"},{"$f":"IF(INTRO!$E$43=\"Non endémique\",\" \", IF(COUNTRY_INFO!C72=0,\" \",COUNTRY_INFO!C72))","v":"DIRICO"},5199,850,6049,{"$f":"IF(INTRO!$E$43=\"Non endémique\", \"Non requis\", COUNTRY_INFO!T72)","v":1},null,{"$f":"IF($D72=0,0,IF(AND($G72>0,$H72<>\"Oui\"),D72,IF(AND($G72>0,$H72=\"Oui\"),COUNTRY_INFO!$F72,0)))","v":5199},2312,0,2312,5780,0,5780,null,5780,6]
[{"$f":"IF(INTRO!$E$43=\"Non endémique\",\" \", IF(COUNTRY_INFO!A73=0,\" \",COUNTRY_INFO!A73))","v":"Angola"},{"$f":"IF(INTRO!$E$43=\"Non endémique\",\" \", IF(COUNTRY_INFO!B73=0,\" \",COUNTRY_INFO!B73))","v":"CUANDO CUBANGO"},{"$f":"IF(INTRO!$E$43=\"Non endémique\",\" \", IF(COUNTRY_INFO!C73=0,\" \",COUNTRY_INFO!C73))","v":"CUITO CUANAVALE"},14033,1961,{"$f":"SUM(D73:E73)","v":15994},{"$f":"IF(INTRO!$E$43=\"Non endémique\", \"Non requis\", COUNTRY_INFO!T73)","v":1},null,{"$f":"IF($D73=0,0,IF(AND($G73>0,$H73<>\"Oui\"),D73,IF(AND($G73>0,$H73=\"Oui\"),COUNTRY_INFO!$F73,0)))","v":14033},5331,2013.9469999999999,{"$f":"IF($J73=0,SUM(I73,K73),SUM(J73,K73))","v":7344.9470000000001},{"$f":"IF($J73=0,$I73*2.5,$J73*2.5)","v":13327.5},{"$f":"$K73*3","v":6041.8409999999994},{"$f":"M73","v":13327.5},null,{"$f":"IF($O73>$P73,O73-P73,0)","v":13327.5},{"$f":"ROUNDUP($O73/1000,0)","v":14}]
[{"$f":"IF(INTRO!$E$43=\"Non endémique\",\" \", IF(COUNTRY_INFO!A74=0,\" \",COUNTRY_INFO!A74))","v":"Angola"},{"$f":"IF(INTRO!$E$43=\"Non endémique\",\" \", IF(COUNTRY_INFO!B74=0,\" \",COUNTRY_INFO!B74))","v":"CUANDO CUBANGO"},{"$f":"IF(INTRO!$E$43=\"Non endémique\",\" \", IF(COUNTRY_INFO!C74=0,\" \",COUNTRY_INFO!C74))","v":"MAVINGA"},2387,0,2387,{"$f":"IF(INTRO!$E$43=\"Non endémique\", \"Non requis\", COUNTRY_INFO!T74)","v":0},null,{"$f":"IF($D74=0,0,IF(AND($G74>0,$H74<>\"Oui\"),D74,IF(AND($G74>0,$H74=\"Oui\"),COUNTRY_INFO!$F74,0)))","v":0},0,0,0,0,0,0,null,0,0]
[{"$f":"IF(INTRO!$E$43=\"Non endémique\",\" \", IF(COUNTRY_INFO!A75=0,\" \",COUNTRY_INFO!A75))","v":"Angola"},{"$f":"IF(INTRO!$E$43=\"Non endémique\",\" \", IF(COUNTRY_INFO!B75=0,\" \",COUNTRY_INFO!B75))","v":"CUANDO CUBANGO"},{"$f":"IF(INTRO!$E$43=\"Non endémique\",\" \", IF(COUNTRY_INFO!C75=0,\" \",COUNTRY_INFO!C75))","v":"MENONGUE"},110298,41116,151414,{"$f":"IF(INTRO!$E$43=\"Non endémique\", \"Non requis\", COUNTRY_INFO!T75)","v":1},null,{"$f":"IF($D75=0,0,IF(AND($G75>0,$H75<>\"Oui\"),D75,IF(AND($G75>0,$H75=\"Oui\"),COUNTRY_INFO!$F75,0)))","v":110298},111777,0,111777,279442.5,0,279442.5,null,279442.5,280]
[{"$f":"IF(INTRO!$E$43=\"Non endémique\",\" \", IF(COUNTRY_INFO!A76=0,\" \",COUNTRY_INFO!A76))","v":"Angola"},{"$f":"IF(INTRO!$E$43=\"Non endémique\",\" \", IF(COUNTRY_INFO!B76=0,\" \",COUNTRY_INFO!B76))","v":"CUANDO CUBANGO"},{"$f":"IF(INTRO!$E$43=\"Non endémique\",\" \", IF(COUNTRY_INFO!C76=0,\" \",COUNTRY_INFO!C76))","v":"NANKOVA"},0,0,0,{"$f":"IF(INTRO!$E$43=\"Non endémique\", \"Non requis\", COUNTRY_INFO!T76)","v":0},null,{"$f":"IF($D76=0,0,IF(AND($G76>0,$H76<>\"Oui\"),D76,IF(AND($G76>0,$H76=\"Oui\"),COUNTRY_INFO!$F76,0)))","v":0},0,0,0,0,0,0,null,0,0]
[{"$f":"IF(INTRO!$E$43=\"Non endémique\",\" \", IF(COUNTRY_INFO!A77=0,\" \",COUNTRY_INFO!A77))","v":"Angola"},{"$f":"IF(INTRO!$E$43=\"Non endémique\",\" \", IF(COUNTRY_INFO!B77=0,\" \",COUNTRY_INFO!B77))","v":"CUANDO CUBANGO"},{"$f":"IF(INTRO!$E$43=\"Non endémique\",\" \", IF(COUNTRY_INFO!C77=0,\" \",COUNTRY_INFO!C77))","v":"RIVUNGO"},8492,0,8492,{"$f":"IF(INTRO!$E$43=\"Non endémique\", \"Non requis\", COUNTRY_INFO!T77)","v":0},null,{"$f":"IF($D77=0,0,IF(AND($G77>0,$H77<>\"Oui\"),D77,IF(AND($G77>0,$H77=\"Oui\"),COUNTRY_INFO!$F77,0)))","v":0},0,0,0,0,0,0,null,0,0]
[{"$f":"IF(INTRO!$E$43=\"Non endémique\",\" \", IF(COUNTRY_INFO!A78=0,\" \",COUNTRY_INFO!A78))","v":"Angola"},{"$f":"IF(INTRO!$E$43=\"Non endémique\",\" \", IF(COUNTRY_INFO!B78=0,\" \",COUNTRY_INFO!B78))","v":"CUANZA NORTE"},{"$f":"IF(INTRO!$E$43=\"Non endémique\",\" \", IF(COUNTRY_INFO!C78=0,\" \",COUNTRY_INFO!C78))","v":"AMBACA"},1306,0,1306,{"$f":"IF(INTRO!$E$43=\"Non endémique\", \"Non requis\", COUNTRY_INFO!T78)","v":0},null,{"$f":"IF($D78=0,0,IF(AND($G78>0,$H78<>\"Oui\"),D78,IF(AND($G78>0,$H78=\"Oui\"),COUNTRY_INFO!$F78,0)))","v":0},0,0,0,0,0,0,null,0,0]
[{"$f":"IF(INTRO!$E$43=\"Non endémique\",\" \", IF(COUNTRY_INFO!A79=0,\" \",COUNTRY_INFO!A79))","v":"Angola"},{"$f":"IF(INTRO!$E$43=\"Non endémique\",\" \", IF(COUNTRY_INFO!B79=0,\" \",COUNTRY_INFO!B79))","v":"CUANZA NORTE"},{"$f":"IF(INTRO!$E$43=\"Non endémique\",\" \", IF(COUNTRY_INFO!C79=0,\" \",COUNTRY_INFO!C79))","v":"BANGA"},564,0,564,{"$f":"IF(INTRO!$E$43=\"Non endémique\", \"Non requis\", COUNTRY_INFO!T79)","v":0},null,{"$f":"IF($D79=0,0,IF(AND($G79>0,$H79<>\"Oui\"),D79,IF(AND($G79>0,$H79=\"Oui\"),COUNTRY_INFO!$F79,0)))","v":0},0,0,0,0,0,0,null,0,0]
[{"$f":"IF(INTRO!$E$43=\"Non endémique\",\" \", IF(COUNTRY_INFO!A80=0,\" \",COUNTRY_INFO!A80))","v":"Angola"},{"$f":"IF(INTRO!$E$43=\"Non endémique\",\" \", IF(COUNTRY_INFO!B80=0,\" \",COUNTRY_INFO!B80))","v":"CUANZA NORTE"},{"$f":"IF(INTRO!$E$43=\"Non endémique\",\" \", IF(COUNTRY_INFO!C80=0,\" \",COUNTRY_INFO!C80))","v":"BOLONGONGO"},0,0,0,{"$f":"IF(INTRO!$E$43=\"Non endémique\", \"Non requis\", COUNTRY_INFO!T80)","v":0},null,{"$f":"IF($D80=0,0,IF(AND($G80>0,$H80<>\"Oui\"),D80,IF(AND($G80>0,$H80=\"Oui\"),COUNTRY_INFO!$F80,0)))","v":0},0,0,0,0,0,0,null,0,0]
[{"$f":"IF(INTRO!$E$43=\"Non endémique\",\" \", IF(COUNTRY_INFO!A81=0,\" \",COUNTRY_INFO!A81))","v":"Angola"},{"$f":"IF(INTRO!$E$43=\"Non endémique\",\" \", IF(COUNTRY_INFO!B81=0,\" \",COUNTRY_INFO!B81))","v":"CUANZA NORTE"},{"$f":"IF(INTRO!$E$43=\"Non endémique\",\" \", IF(COUNTRY_INFO!C81=0,\" \",COUNTRY_INFO!C81))","v":"CAMBAMBE"},29282,47529,76811,{"$f":"IF(INTRO!$E$43=\"Non endémique\", \"Non requis\", COUNTRY_INFO!T81)","v":1},null,{"$f":"IF($D81=0,0,IF(AND($G81>0,$H81<>\"Oui\"),D81,IF(AND($G81>0,$H81=\"Oui\"),COUNTRY_INFO!$F81,0)))","v":29282},29199,47226.594999999994,76425.595000000001,72997.5,141679.78499999997,72997.5,null,72997.5,73]
[{"$f":"IF(INTRO!$E$43=\"Non endémique\",\" \", IF(COUNTRY_INFO!A82=0,\" \",COUNTRY_INFO!A82))","v":"Angola"},{"$f":"IF(INTRO!$E$43=\"Non endémique\",\" \", IF(COUNTRY_INFO!B82=0,\" \",COUNTRY_INFO!B82))","v":"CUANZA NORTE"},{"$f":"IF(INTRO!$E$43=\"Non endémique\",\" \", IF(COUNTRY_INFO!C82=0,\" \",COUNTRY_INFO!C82))","v":"CAZENGO"},58302,22025,80327,{"$f":"IF(INTRO!$E$43=\"Non endémique\", \"Non requis\", COUNTRY_INFO!T82)","v":1},null,{"$f":"IF($D82=0,0,IF(AND($G82>0,$H82<>\"Oui\"),D82,IF(AND($G82>0,$H82=\"Oui\"),COUNTRY_INFO!$F82,0)))","v":58302},59876,0,59876,149690,0,149690,null,149690,150]
[{"$f":"IF(INTRO!$E$43=\"Non endémique\",\" \", IF(COUNTRY_INFO!A83=0,\" \",COUNTRY_INFO!A83))","v":"Angola"},{"$f":"IF(INTRO!$E$43=\"Non endémique\",\" \", IF(COUNTRY_INFO!B83=0,\" \",COUNTRY_INFO!B83))","v":"CUANZA NORTE"},{"$f":"IF(INTRO!$E$43=\"Non endémique\",\" \", IF(COUNTRY_INFO!C83=0,\" \",COUNTRY_INFO!C83))","v":"GOLUNGO ALTO"},3400,2568,5968,{"$f":"IF(INTRO!$E$43=\"Non endémique\", \"Non requis\", COUNTRY_INFO!T83)","v":1},null,{"$f":"IF($D83=0,0,IF(AND($G83>0,$H83<>\"Oui\"),D83,IF(AND($G83>0,$H83=\"Oui\"),COUNTRY_INFO!$F83,0)))","v":3400},1397,2637.3359999999998,4034.3359999999998,3492.5,7912.0079999999998,3492.5,null,3492.5,4]
[{"$f":"IF(INTRO!$E$43=\"Non endémique\",\" \", IF(COUNTRY_INFO!A84=0,\" \",COUNTRY_INFO!A84))","v":"Angola"},{"$f":"IF(INTRO!$E$43=\"Non endémique\",\" \", IF(COUNTRY_INFO!B84=0,\" \",COUNTRY_INFO!B84))","v":"CUANZA NORTE"},{"$f":"IF(INTRO!$E$43=\"Non endémique\",\" \", IF(COUNTRY_INFO!C84=0,\" \",COUNTRY_INFO!C84))","v":"GONGUEMBO"},2572,0,2572,{"$f":"IF(INTRO!$E$43=\"Non endémique\", \"Non requis\", COUNTRY_INFO!T84)","v":0},null,{"$f":"IF($D84=0,0,IF(AND($G84>0,$H84<>\"Oui\"),D84,IF(AND($G84>0,$H84=\"Oui\"),COUNTRY_INFO!$F84,0)))","v":0},0,0,0,0,0,0,null,0,0]
[{"$f":"IF(INTRO!$E$43=\"Non endémique\",\" \", IF(COUNTRY_INFO!A85=0,\" \",COUNTRY_INFO!A85))","v":"Angola"},{"$f":"IF(INTRO!$E$43=\"Non endémique\",\" \", IF(COUNTRY_INFO!B85=0,\" \",COUNTRY_INFO!B85))","v":"CUANZA NORTE"},{"$f":"IF(INTRO!$E$43=\"Non endémique\",\" \", IF(COUNTRY_INFO!C85=0,\" \",COUNTRY_INFO!C85))","v":"QUICULUNGO"},3304,6240,9544,{"$f":"IF(INTRO!$E$43=\"Non endémique\", \"Non requis\", COUNTRY_INFO!T85)","v":1},null,{"$f":"IF($D85=0,0,IF(AND($G85>0,$H85<>\"Oui\"),D85,IF(AND($G85>0,$H85=\"Oui\"),COUNTRY_INFO!$F85,0)))","v":3304},3393,6408.48,9801.48,8482.5,19225.439999999999,8482.5,null,8482.5,9]
[{"$f":"IF(INTRO!$E$43=\"Non endémique\",\" \", IF(COUNTRY_INFO!A86=0,\" \",COUNTRY_INFO!A86))","v":"Angola"},{"$f":"IF(INTRO!$E$43=\"Non endémique\",\" \", IF(COUNTRY_INFO!B86=0,\" \",COUNTRY_INFO!B86))","v":"CUANZA NORTE"},{"$f":"IF(INTRO!$E$43=\"Non endémique\",\" \", IF(COUNTRY_INFO!C86=0,\" \",COUNTRY_INFO!C86))","v":"LUCALA"},7697,2907,10604,{"$f":"IF(INTRO!$E$43=\"Non endémique\", \"Non requis\", COUNTRY_INFO!T86)","v":1},null,{"$f":"IF($D86=0,0,IF(AND($G86>0,$H86<>\"Oui\"),D86,IF(AND($G86>0,$H86=\"Oui\"),COUNTRY_INFO!$F86,0)))","v":7697},7905,0,7905,19762.5,0,19762.5,null,19762.5,20]
[{"$f":"IF(INTRO!$E$43=\"Non endémique\",\" \", IF(COUNTRY_INFO!A87=0,\" \",COUNTRY_INFO!A87))","v":"Angola"},{"$f":"IF(INTRO!$E$43=\"Non endémique\",\" \", IF(COUNTRY_INFO!B87=0,\" \",COUNTRY_INFO!B87))","v":"CUANZA NORTE"},{"$f":"IF(INTRO!$E$43=\"Non endémique\",\" \", IF(COUNTRY_INFO!C87=0,\" \",COUNTRY_INFO!C87))","v":"SAMBA CAJU"},1497,0,1497,{"$f":"IF(INTRO!$E$43=\"Non endémique\", \"Non requis\", COUNTRY_INFO!T87)","v":0},null,{"$f":"IF($D87=0,0,IF(AND($G87>0,$H87<>\"Oui\"),D87,IF(AND($G87>0,$H87=\"Oui\"),COUNTRY_INFO!$F87,0)))","v":0},0,0,0,0,0,0,null,0,0]
[{"$f":"IF(INTRO!$E$43=\"Non endémique\",\" \", IF(COUNTRY_INFO!A88=0,\" \",COUNTRY_INFO!A88))","v":"Angola"},{"$f":"IF(INTRO!$E$43=\"Non endémique\",\" \", IF(COUNTRY_INFO!B88=0,\" \",COUNTRY_INFO!B88))","v":"CUANZA SUL"},{"$f":"IF(INTRO!$E$43=\"Non endémique\",\" \", IF(COUNTRY_INFO!C88=0,\" \",COUNTRY_INFO!C88))","v":"AMBOIM"},82771,31270,114041,{"$f":"IF(INTRO!$E$43=\"Non endémique\", \"Non requis\", COUNTRY_INFO!T88)","v":1},null,{"$f":"IF($D88=0,0,IF(AND($G88>0,$H88<>\"Oui\"),D88,IF(AND($G88>0,$H88=\"Oui\"),COUNTRY_INFO!$F88,0)))","v":82771},85006,0,85006,212515,0,212515,null,212515,213]
[{"$f":"IF(INTRO!$E$43=\"Non endémique\",\" \", IF(COUNTRY_INFO!A89=0,\" \",COUNTRY_INFO!A89))","v":"Angola"},{"$f":"IF(INTRO!$E$43=\"Non endémique\",\" \", IF(COUNTRY_INFO!B89=0,\" \",COUNTRY_INFO!B89))","v":"CUANZA SUL"},{"$f":"IF(INTRO!$E$43=\"Non endémique\",\" \", IF(COUNTRY_INFO!C89=0,\" \",COUNTRY_INFO!C89))","v":"CASSONGUE"},19271,1477,20748,{"$f":"IF(INTRO!$E$43=\"Non endémique\", \"Non requis\", COUNTRY_INFO!T89)","v":1},null,{"$f":"IF($D89=0,0,IF(AND($G89>0,$H89<>\"Oui\"),D89,IF(AND($G89>0,$H89=\"Oui\"),COUNTRY_INFO!$F89,0)))","v":19271},4017,1516.8789999999999,5533.8789999999999,10042.5,4550.6369999999997,10042.5,null,10042.5,11]
[{"$f":"IF(INTRO!$E$43=\"Non endémique\",\" \", IF(COUNTRY_INFO!A90=0,\" \",COUNTRY_INFO!A90))","v":"Angola"},{"$f":"IF(INTRO!$E$43=\"Non endémique\",\" \", IF(COUNTRY_INFO!B90=0,\" \",COUNTRY_INFO!B90))","v":"CUANZA SUL"},{"$f":"IF(INTRO!$E$43=\"Non endémique\",\" \", IF(COUNTRY_INFO!C90=0,\" \",COUNTRY_INFO!C90))","v":"CELA (Waku Kungo)"},15897,6005,21902,{"$f":"IF(INTRO!$E$43=\"Non endémique\", \"Non requis\", COUNTRY_INFO!T90)","v":1},null,{"$f":"IF($D90=0,0,IF(AND($G90>0,$H90<>\"Oui\"),D90,IF(AND($G90>0,$H90=\"Oui\"),COUNTRY_INFO!$F90,0)))","v":15897},16326,6167.1349999999993,22493.134999999998,40815,18501.404999999999,40815,null,40815,41]
[{"$f":"IF(INTRO!$E$43=\"Non endémique\",\" \", IF(COUNTRY_INFO!A91=0,\" \",COUNTRY_INFO!A91))","v":"Angola"},{"$f":"IF(INTRO!$E$43=\"Non endémique\",\" \", IF(COUNTRY_INFO!B91=0,\" \",COUNTRY_INFO!B91))","v":"CUANZA SUL"},{"$f":"IF(INTRO!$E$43=\"Non endémique\",\" \", IF(COUNTRY_INFO!C91=0,\" \",COUNTRY_INFO!C91))","v":"CONDA"},30549,6563,37112,{"$f":"IF(INTRO!$E$43=\"Non endémique\", \"Non requis\", COUNTRY_INFO!T91)","v":1},null,{"$f":"IF($D91=0,0,IF(AND($G91>0,$H91<>\"Oui\"),D91,IF(AND($G91>0,$H91=\"Oui\"),COUNTRY_INFO!$F91,0)))","v":30549},17842,6740.2009999999991,24582.201000000001,44605,20220.602999999996,44605,null,44605,45]
[{"$f":"IF(INTRO!$E$43=\"Non endémique\",\" \", IF(COUNTRY_INFO!A92=0,\" \",COUNTRY_INFO!A92))","v":"Angola"},{"$f":"IF(INTRO!$E$43=\"Non endémique\",\" \", IF(COUNTRY_INFO!B92=0,\" \",COUNTRY_INFO!B92))","v":"CUANZA SUL"},{"$f":"IF(INTRO!$E$43=\"Non endémique\",\" \", IF(COUNTRY_INFO!C92=0,\" \",COUNTRY_INFO!C92))","v":"EBO"},56376,13612,69988,{"$f":"IF(INTRO!$E$43=\"Non endémique\", \"Non requis\", COUNTRY_INFO!T92)","v":1},null,{"$f":"IF($D92=0,0,IF(AND($G92>0,$H92<>\"Oui\"),D92,IF(AND($G92>0,$H92=\"Oui\"),COUNTRY_INFO!$F92,0)))","v":56376},37006,0,37006,92515,0,92515,null,92515,93]
[{"$f":"IF(INTRO!$E$43=\"Non endémique\",\" \", IF(COUNTRY_INFO!A93=0,\" \",COUNTRY_INFO!A93))","v":"Angola"},{"$f":"IF(INTRO!$E$43=\"Non endémique\",\" \", IF(COUNTRY_INFO!B93=0,\" \",COUNTRY_INFO!B93))","v":"CUANZA SUL"},{"$f":"IF(INTRO!$E$43=\"Non endémique\",\" \", IF(COUNTRY_INFO!C93=0,\" \",COUNTRY_INFO!C93))","v":"QUIBALA"},38972,1727,40699,{"$f":"IF(INTRO!$E$43=\"Non endémique\", \"Non requis\", COUNTRY_INFO!T93)","v":1},null,{"$f":"IF($D93=0,0,IF(AND($G93>0,$H93<>\"Oui\"),D93,IF(AND($G93>0,$H93=\"Oui\"),COUNTRY_INFO!$F93,0)))","v":38972},4694,1773.6289999999999,6467.6289999999999,11735,5320.8869999999997,11735,null,11735,12]
[{"$f":"IF(INTRO!$E$43=\"Non endémique\",\" \", IF(COUNTRY_INFO!A94=0,\" \",COUNTRY_INFO!A94))","v":"Angola"},{"$f":"IF(INTRO!$E$43=\"Non endémique\",\" \", IF(COUNTRY_INFO!B94=0,\" \",COUNTRY_INFO!B94))","v":"CUANZA SUL"},{"$f":"IF(INTRO!$E$43=\"Non endémique\",\" \", IF(COUNTRY_INFO!C94=0,\" \",COUNTRY_INFO!C94))","v":"QUILENDA"},33337,20844,54181,{"$f":"IF(INTRO!$E$43=\"Non endémique\", \"Non requis\", COUNTRY_INFO!T94)","v":1},null,{"$f":"IF($D94=0,0,IF(AND($G94>0,$H94<>\"Oui\"),D94,IF(AND($G94>0,$H94=\"Oui\"),COUNTRY_INFO!$F94,0)))","v":33337},34237,10591.450999999999,44828.451000000001,85592.5,31774.352999999996,85592.5,null,85592.5,86]
[{"$f":"IF(INTRO!$E$43=\"Non endémique\",\" \", IF(COUNTRY_INFO!A95=0,\" \",COUNTRY_INFO!A95))","v":"Angola"},{"$f":"IF(INTRO!$E$43=\"Non endémique\",\" \", IF(COUNTRY_INFO!B95=0,\" \",COUNTRY_INFO!B95))","v":"CUANZA SUL"},{"$f":"IF(INTRO!$E$43=\"Non endémique\",\" \", IF(COUNTRY_INFO!C95=0,\" \",COUNTRY_INFO!C95))","v":"LIBOLO"},31432,18108,49540,{"$f":"IF(INTRO!$E$43=\"Non endémique\", \"Non requis\", COUNTRY_INFO!T95)","v":1},null,{"$f":"IF($D95=0,0,IF(AND($G95>0,$H95<>\"Oui\"),D95,IF(AND($G95>0,$H95=\"Oui\"),COUNTRY_INFO!$F95,0)))","v":31432},32280,8001.3569999999991,40281.356999999996,80700,24004.070999999996,80700,null,80700,81]
[{"$f":"IF(INTRO!$E$43=\"Non endémique\",\" \", IF(COUNTRY_INFO!A96=0,\" \",COUNTRY_INFO!A96))","v":"Angola"},{"$f":"IF(INTRO!$E$43=\"Non endémique\",\" \", IF(COUNTRY_INFO!B96=0,\" \",COUNTRY_INFO!B96))","v":"CUANZA SUL"},{"$f":"IF(INTRO!$E$43=\"Non endémique\",\" \", IF(COUNTRY_INFO!C96=0,\" \",COUNTRY_INFO!C96))","v":"MUSSENDE"},22615,8224,30839,{"$f":"IF(INTRO!$E$43=\"Non endémique\", \"Non requis\", COUNTRY_INFO!T96)","v":1},null,{"$f":"IF($D96=0,0,IF(AND($G96>0,$H96<>\"Oui\"),D96,IF(AND($G96>0,$H96=\"Oui\"),COUNTRY_INFO!$F96,0)))","v":22615},22358,0,22358,55895,0,55895,null,55895,56]
[{"$f":"IF(INTRO!$E$43=\"Non endémique\",\" \", IF(COUNTRY_INFO!A97=0,\" \",COUNTRY_INFO!A97))","v":"Angola"},{"$f":"IF(INTRO!$E$43=\"Non endémique\",\" \", IF(COUNTRY_INFO!B97=0,\" \",COUNTRY_INFO!B97))","v":"CUANZA SUL"},{"$f":"IF(INTRO!$E$43=\"Non endémique\",\" \", IF(COUNTRY_INFO!C97=0,\" \",COUNTRY_INFO!C97))","v":"PORTO AMBOIM"},43007,81234,124241,{"$f":"IF(INTRO!$E$43=\"Non endémique\", \"Non requis\", COUNTRY_INFO!T97)","v":1},null,{"$f":"IF($D97=0,0,IF(AND($G97>0,$H97<>\"Oui\"),D97,IF(AND($G97>0,$H97=\"Oui\"),COUNTRY_INFO!$F97,0)))","v":43007},44168,83427.317999999999,127595.318,110420,250281.954,110420,null,110420,111]
[{"$f":"IF(INTRO!$E$43=\"Non endémique\",\" \", IF(COUNTRY_INFO!A98=0,\" \",COUNTRY_INFO!A98))","v":"Angola"},{"$f":"IF(INTRO!$E$43=\"Non endémique\",\" \", IF(COUNTRY_INFO!B98=0,\" \",COUNTRY_INFO!B98))","v":"CUANZA SUL"},{"$f":"IF(INTRO!$E$43=\"Non endémique\",\" \", IF(COUNTRY_INFO!C98=0,\" \",COUNTRY_INFO!C98))","v":"SELES"},63885,74006,137891,{"$f":"IF(INTRO!$E$43=\"Non endémique\", \"Non requis\", COUNTRY_INFO!T98)","v":1},null,{"$f":"IF($D98=0,0,IF(AND($G98>0,$H98<>\"Oui\"),D98,IF(AND($G98>0,$H98=\"Oui\"),COUNTRY_INFO!$F98,0)))","v":63885},40237,76004.161999999997,116241.162,100592.5,228012.48599999998,100592.5,null,100592.5,101]
[{"$f":"IF(INTRO!$E$43=\"Non endémique\",\" \", IF(COUNTRY_INFO!A99=0,\" \",COUNTRY_INFO!A99))","v":"Angola"},{"$f":"IF(INTRO!$E$43=\"Non endémique\",\" \", IF(COUNTRY_INFO!B99=0,\" \",COUNTRY_INFO!B99))","v":"CUANZA SUL"},{"$f":"IF(INTRO!$E$43=\"Non endémique\",\" \", IF(COUNTRY_INFO!C99=0,\" \",COUNTRY_INFO!C99))","v":"SUMBE"},75919,28681,104600,{"$f":"IF(INTRO!$E$43=\"Non endémique\", \"Non requis\", COUNTRY_INFO!T99)","v":1},null,{"$f":"IF($D99=0,0,IF(AND($G99>0,$H99<>\"Oui\"),D99,IF(AND($G99>0,$H99=\"Oui\"),COUNTRY_INFO!$F99,0)))","v":75919},77968,29455.386999999999,107423.387,194920,88366.160999999993,194920,null,194920,195]
[{"$f":"IF(INTRO!$E$43=\"Non endémique\",\" \", IF(COUNTRY_INFO!A100=0,\" \",COUNTRY_INFO!A100))","v":"Angola"},{"$f":"IF(INTRO!$E$43=\"Non endémique\",\" \", IF(COUNTRY_INFO!B100=0,\" \",COUNTRY_INFO!B100))","v":"LUANDA"},{"$f":"IF(INTRO!$E$43=\"Non endémique\",\" \", IF(COUNTRY_INFO!C100=0,\" \",COUNTRY_INFO!C100))","v":"BELAS"},91052,34397,125449,{"$f":"IF(INTRO!$E$43=\"Non endémique\", \"Non requis\", COUNTRY_INFO!T100)","v":1},null,{"$f":"IF($D100=0,0,IF(AND($G100>0,$H100<>\"Oui\"),D100,IF(AND($G100>0,$H100=\"Oui\"),COUNTRY_INFO!$F100,0)))","v":91052},91052,0,91052,227630,0,227630,null,227630,228]
[{"$f":"IF(INTRO!$E$43=\"Non endémique\",\" \", IF(COUNTRY_INFO!A101=0,\" \",COUNTRY_INFO!A101))","v":"Angola"},{"$f":"IF(INTRO!$E$43=\"Non endémique\",\" \", IF(COUNTRY_INFO!B101=0,\" \",COUNTRY_INFO!B101))","v":"LUANDA"},{"$f":"IF(INTRO!$E$43=\"Non endémique\",\" \", IF(COUNTRY_INFO!C101=0,\" \",COUNTRY_INFO!C101))","v":"CACUACO"},311259,28476,339735,{"$f":"IF(INTRO!$E$43=\"Non endémique\", \"Non requis\", COUNTRY_INFO!T101)","v":1},null,{"$f":"IF($D101=0,0,IF(AND($G101>0,$H101<>\"Oui\"),D101,IF(AND($G101>0,$H101=\"Oui\"),COUNTRY_INFO!$F101,0)))","v":311259},311259,0,311259,778147.5,0,778147.5,null,778147.5,779]
[{"$f":"IF(INTRO!$E$43=\"Non endémique\",\" \", IF(COUNTRY_INFO!A102=0,\" \",COUNTRY_INFO!A102))","v":"Angola"},{"$f":"IF(INTRO!$E$43=\"Non endémique\",\" \", IF(COUNTRY_INFO!B102=0,\" \",COUNTRY_INFO!B102))","v":"LUANDA"},{"$f":"IF(INTRO!$E$43=\"Non endémique\",\" \", IF(COUNTRY_INFO!C102=0,\" \",COUNTRY_INFO!C102))","v":"CAZENGA"},402755,0,402755,{"$f":"IF(INTRO!$E$43=\"Non endémique\", \"Non requis\", COUNTRY_INFO!T102)","v":0},null,{"$f":"IF($D102=0,0,IF(AND($G102>0,$H102<>\"Oui\"),D102,IF(AND($G102>0,$H102=\"Oui\"),COUNTRY_INFO!$F102,0)))","v":0},0,0,0,0,0,0,null,0,0]
[{"$f":"IF(INTRO!$E$43=\"Non endémique\",\" \", IF(COUNTRY_INFO!A103=0,\" \",COUNTRY_INFO!A103))","v":"Angola"},{"$f":"IF(INTRO!$E$43=\"Non endémique\",\" \", IF(COUNTRY_INFO!B103=0,\" \",COUNTRY_INFO!B103))","v":"LUANDA"},{"$f":"IF(INTRO!$E$43=\"Non endémique\",\" \", IF(COUNTRY_INFO!C103=0,\" \",COUNTRY_INFO!C103))","v":"ICOLO E BENGO"},32775,26594,59369,{"$f":"IF(INTRO!$E$43=\"Non endémique\", \"Non requis\", COUNTRY_INFO!T103)","v":1},null,{"$f":"IF($D103=0,0,IF(AND($G103>0,$H103<>\"Oui\"),D103,IF(AND($G103>0,$H103=\"Oui\"),COUNTRY_INFO!$F103,0)))","v":32775},9659,18244.654999999999,27903.654999999999,24147.5,54733.964999999997,24147.5,null,24147.5,25]
[{"$f":"IF(INTRO!$E$43=\"Non endémique\",\" \", IF(COUNTRY_INFO!A104=0,\" \",COUNTRY_INFO!A104))","v":"Angola"},{"$f":"IF(INTRO!$E$43=\"Non endémique\",\" \", IF(COUNTRY_INFO!B104=0,\" \",COUNTRY_INFO!B104))","v":"LUANDA"},{"$f":"IF(INTRO!$E$43=\"Non endémique\",\" \", IF(COUNTRY_INFO!C104=0,\" \",COUNTRY_INFO!C104))","v":"KILAMBA KIAXI"},304410,0,304410,{"$f":"IF(INTRO!$E$43=\"Non endémique\", \"Non requis\", COUNTRY_INFO!T104)","v":0},null,{"$f":"IF($D104=0,0,IF(AND($G104>0,$H104<>\"Oui\"),D104,IF(AND($G104>0,$H104=\"Oui\"),COUNTRY_INFO!$F104,0)))","v":0},0,0,0,0,0,0,null,0,0]
[{"$f":"IF(INTRO!$E$43=\"Non endémique\",\" \", IF(COUNTRY_INFO!A105=0,\" \",COUNTRY_INFO!A105))","v":"Angola"},{"$f":"IF(INTRO!$E$43=\"Non endémique\",\" \", IF(COUNTRY_INFO!B105=0,\" \",COUNTRY_INFO!B105))","v":"LUANDA"},{"$f":"IF(INTRO!$E$43=\"Non endémique\",\" \", IF(COUNTRY_INFO!C105=0,\" \",COUNTRY_INFO!C105))","v":"LUANDA"},484201,0,{"$f":"SUM(D105:E105)","v":484201},{"$f":"IF(INTRO!$E$43=\"Non endémique\", \"Non requis\", COUNTRY_INFO!T105)","v":0},null,{"$f":"IF($D105=0,0,IF(AND($G105>0,$H105<>\"Oui\"),D105,IF(AND($G105>0,$H105=\"Oui\"),COUNTRY_INFO!$F105,0)))","v":0},0,0,{"$f":"IF($J105=0,SUM(I105,K105),SUM(J105,K105))","v":0},{"$f":"IF($J105=0,$I105*2.5,$J105*2.5)","v":0},{"$f":"$K105*3","v":0},{"$f":"M105","v":0},null,{"$f":"IF($O105>$P105,O105-P105,0)","v":0},{"$f":"ROUNDUP($O105/1000,0)","v":0}]
[{"$f":"IF(INTRO!$E$43=\"Non endémique\",\" \", IF(COUNTRY_INFO!A106=0,\" \",COUNTRY_INFO!A106))","v":"Angola"},{"$f":"IF(INTRO!$E$43=\"Non endémique\",\" \", IF(COUNTRY_INFO!B106=0,\" \",COUNTRY_INFO!B106))","v":"LUANDA"},{"$f":"IF(INTRO!$E$43=\"Non endémique\",\" \", IF(COUNTRY_INFO!C106=0,\" \",COUNTRY_INFO!C106))","v":"QUIÇAMA"},8794,7571,16365,{"$f":"IF(INTRO!$E$43=\"Non endémique\", \"Non requis\", COUNTRY_INFO!T106)","v":1},null,{"$f":"IF($D106=0,0,IF(AND($G106>0,$H106<>\"Oui\"),D106,IF(AND($G106>0,$H106=\"Oui\"),COUNTRY_INFO!$F106,0)))","v":8794},2888,5455.424,8343.4239999999991,7220,16366.272000000001,7220,null,7220,8]
[{"$f":"IF(INTRO!$E$43=\"Non endémique\",\" \", IF(COUNTRY_INFO!A107=0,\" \",COUNTRY_INFO!A107))","v":"Angola"},{"$f":"IF(INTRO!$E$43=\"Non endémique\",\" \", IF(COUNTRY_INFO!B107=0,\" \",COUNTRY_INFO!B107))","v":"LUANDA"},{"$f":"IF(INTRO!$E$43=\"Non endémique\",\" \", IF(COUNTRY_INFO!C107=0,\" \",COUNTRY_INFO!C107))","v":"TALATONA"},0,0,0,{"$f":"IF(INTRO!$E$43=\"Non endémique\", \"Non requis\", COUNTRY_INFO!T107)","v":0},null,{"$f":"IF($D107=0,0,IF(AND($G107>0,$H107<>\"Oui\"),D107,IF(AND($G107>0,$H107=\"Oui\"),COUNTRY_INFO!$F107,0)))","v":0},0,0,0,0,0,0,null,0,0]
[{"$f":"IF(INTRO!$E$43=\"Non endémique\",\" \", IF(COUNTRY_INFO!A108=0,\" \",COUNTRY_INFO!A108))","v":"Angola"},{"$f":"IF(INTRO!$E$43=\"Non endémique\",\" \", IF(COUNTRY_INFO!B108=0,\" \",COUNTRY_INFO!B108))","v":"LUANDA"},{"$f":"IF(INTRO!$E$43=\"Non endémique\",\" \", IF(COUNTRY_INFO!C108=0,\" \",COUNTRY_INFO!C108))","v":"VIANA"},77195,3133,80328,{"$f":"IF(INTRO!$E$43=\"Non endémique\", \"Non requis\", COUNTRY_INFO!T108)","v":1},null,{"$f":"IF($D108=0,0,IF(AND($G108>0,$H108<>\"Oui\"),D108,IF(AND($G108>0,$H108=\"Oui\"),COUNTRY_INFO!$F108,0)))","v":77195},77195,0,77195,192987.5,0,192987.5,null,192987.5,193]
[{"$f":"IF(INTRO!$E$43=\"Non endémique\",\" \", IF(COUNTRY_INFO!A109=0,\" \",COUNTRY_INFO!A109))","v":"Angola"},{"$f":"IF(INTRO!$E$43=\"Non endémique\",\" \", IF(COUNTRY_INFO!B109=0,\" \",COUNTRY_INFO!B109))","v":"LUNDA NORTE"},{"$f":"IF(INTRO!$E$43=\"Non endémique\",\" \", IF(COUNTRY_INFO!C109=0,\" \",COUNTRY_INFO!C109))","v":"CAMBULO"},0,0,0,{"$f":"IF(INTRO!$E$43=\"Non endémique\", \"Non requis\", COUNTRY_INFO!T109)","v":0},null,{"$f":"IF($D109=0,0,IF(AND($G109>0,$H109<>\"Oui\"),D109,IF(AND($G109>0,$H109=\"Oui\"),COUNTRY_INFO!$F109,0)))","v":0},0,0,0,0,0,0,null,0,0]
[{"$f":"IF(INTRO!$E$43=\"Non endémique\",\" \", IF(COUNTRY_INFO!A110=0,\" \",COUNTRY_INFO!A110))","v":"Angola"},{"$f":"IF(INTRO!$E$43=\"Non endémique\",\" \", IF(COUNTRY_INFO!B110=0,\" \",COUNTRY_INFO!B110))","v":"LUNDA NORTE"},{"$f":"IF(INTRO!$E$43=\"Non endémique\",\" \", IF(COUNTRY_INFO!C110=0,\" \",COUNTRY_INFO!C110))","v":"CAPENDA CAMULEMBA"},19978,0,19978,{"$f":"IF(INTRO!$E$43=\"Non endémique\", \"Non requis\", COUNTRY_INFO!T110)","v":0},null,{"$f":"IF($D110=0,0,IF(AND($G110>0,$H110<>\"Oui\"),D110,IF(AND($G110>0,$H110=\"Oui\"),COUNTRY_INFO!$F110,0)))","v":0},0,0,0,0,0,0,null,0,0]
[{"$f":"IF(INTRO!$E$43=\"Non endémique\",\" \", IF(COUNTRY_INFO!A111=0,\" \",COUNTRY_INFO!A111))","v":"Angola"},{"$f":"IF(INTRO!$E$43=\"Non endémique\",\" \", IF(COUNTRY_INFO!B111=0,\" \",COUNTRY_INFO!B111))","v":"LUNDA NORTE"},{"$f":"IF(INTRO!$E$43=\"Non endémique\",\" \", IF(COUNTRY_INFO!C111=0,\" \",COUNTRY_INFO!C111))","v":"CAUNGULA"},4474,0,4474,{"$f":"IF(INTRO!$E$43=\"Non endémique\", \"Non requis\", COUNTRY_INFO!T111)","v":0},null,{"$f":"IF($D111=0,0,IF(AND($G111>0,$H111<>\"Oui\"),D111,IF(AND($G111>0,$H111=\"Oui\"),COUNTRY_INFO!$F111,0)))","v":0},0,0,0,0,0,0,null,0,0]
[{"$f":"IF(INTRO!$E$43=\"Non endémique\",\" \", IF(COUNTRY_INFO!A112=0,\" \",COUNTRY_INFO!A112))","v":"Angola"},{"$f":"IF(INTRO!$E$43=\"Non endémique\",\" \", IF(COUNTRY_INFO!B112=0,\" \",COUNTRY_INFO!B112))","v":"LUNDA NORTE"},{"$f":"IF(INTRO!$E$43=\"Non endémique\",\" \", IF(COUNTRY_INFO!C112=0,\" \",COUNTRY_INFO!C112))","v":"CHITATO"},64841,0,64841,{"$f":"IF(INTRO!$E$43=\"Non endémique\", \"Non requis\", COUNTRY_INFO!T112)","v":0},null,{"$f":"IF($D112=0,0,IF(AND($G112>0,$H112<>\"Oui\"),D112,IF(AND($G112>0,$H112=\"Oui\"),COUNTRY_INFO!$F112,0)))","v":0},0,0,0,0,0,0,null,0,0]
[{"$f":"IF(INTRO!$E$43=\"Non endémique\",\" \", IF(COUNTRY_INFO!A113=0,\" \",COUNTRY_INFO!A113))","v":"Angola"},{"$f":"IF(INTRO!$E$43=\"Non endémique\",\" \", IF(COUNTRY_INFO!B113=0,\" \",COUNTRY_INFO!B113))","v":"LUNDA NORTE"},{"$f":"IF(INTRO!$E$43=\"Non endémique\",\" \", IF(COUNTRY_INFO!C113=0,\" \",COUNTRY_INFO!C113))","v":"CUANGO"},55217,20860,76077,{"$f":"IF(INTRO!$E$43=\"Non endémique\", \"Non requis\", COUNTRY_INFO!T113)","v":1},null,{"$f":"IF($D113=0,0,IF(AND($G113>0,$H113<>\"Oui\"),D113,IF(AND($G113>0,$H113=\"Oui\"),COUNTRY_INFO!$F113,0)))","v":55217},55217,0,55217,138042.5,0,138042.5,null,138042.5,139]
[{"$f":"IF(INTRO!$E$43=\"Non endémique\",\" \", IF(COUNTRY_INFO!A114=0,\" \",COUNTRY_INFO!A114))","v":"Angola"},{"$f":"IF(INTRO!$E$43=\"Non endémique\",\" \", IF(COUNTRY_INFO!B114=0,\" \",COUNTRY_INFO!B114))","v":"LUNDA NORTE"},{"$f":"IF(INTRO!$E$43=\"Non endémique\",\" \", IF(COUNTRY_INFO!C114=0,\" \",COUNTRY_INFO!C114))","v":"CUILO"},0,0,0,{"$f":"IF(INTRO!$E$43=\"Non endémique\", \"Non requis\", COUNTRY_INFO!T114)","v":0},null,{"$f":"IF($D114=0,0,IF(AND($G114>0,$H114<>\"Oui\"),D114,IF(AND($G114>0,$H114=\"Oui\"),COUNTRY_INFO!$F114,0)))","v":0},0,0,0,0,0,0,null,0,0]
[{"$f":"IF(INTRO!$E$43=\"Non endémique\",\" \", IF(COUNTRY_INFO!A115=0,\" \",COUNTRY_INFO!A115))","v":"Angola"},{"$f":"IF(INTRO!$E$43=\"Non endémique\",\" \", IF(COUNTRY_INFO!B115=0,\" \",COUNTRY_INFO!B115))","v":"LUNDA NORTE"},{"$f":"IF(INTRO!$E$43=\"Non endémique\",\" \", IF(COUNTRY_INFO!C115=0,\" \",COUNTRY_INFO!C115))","v":"LOVUA"},0,0,0,{"$f":"IF(INTRO!$E$43=\"Non endémique\", \"Non requis\", COUNTRY_INFO!T115)","v":0},null,{"$f":"IF($D115=0,0,IF(AND($G115>0,$H115<>\"Oui\"),D115,IF(AND($G115>0,$H115=\"Oui\"),COUNTRY_INFO!$F115,0)))","v":0},0,0,0,0,0,0,null,0,0]
[{"$f":"IF(INTRO!$E$43=\"Non endémique\",\" \", IF(COUNTRY_INFO!A116=0,\" \",COUNTRY_INFO!A116))","v":"Angola"},{"$f":"IF(INTRO!$E$43=\"Non endémique\",\" \", IF(COUNTRY_INFO!B116=0,\" \",COUNTRY_INFO!B116))","v":"LUNDA NORTE"},{"$f":"IF(INTRO!$E$43=\"Non endémique\",\" \", IF(COUNTRY_INFO!C116=0,\" \",COUNTRY_INFO!C116))","v":"LUBALO"},7064,0,7064,{"$f":"IF(INTRO!$E$43=\"Non endémique\", \"Non requis\", COUNTRY_INFO!T116)","v":0},null,{"$f":"IF($D116=0,0,IF(AND($G116>0,$H116<>\"Oui\"),D116,IF(AND($G116>0,$H116=\"Oui\"),COUNTRY_INFO!$F116,0)))","v":0},0,0,0,0,0,0,null,0,0]
[{"$f":"IF(INTRO!$E$43=\"Non endémique\",\" \", IF(COUNTRY_INFO!A117=0,\" \",COUNTRY_INFO!A117))","v":"Angola"},{"$f":"IF(INTRO!$E$43=\"Non endémique\",\" \", IF(COUNTRY_INFO!B117=0,\" \",COUNTRY_INFO!B117))","v":"LUNDA NORTE"},{"$f":"IF(INTRO!$E$43=\"Non endémique\",\" \", IF(COUNTRY_INFO!C117=0,\" \",COUNTRY_INFO!C117))","v":"LUCAPA"},0,0,0,{"$f":"IF(INTRO!$E$43=\"Non endémique\", \"Non requis\", COUNTRY_INFO!T117)","v":0},null,{"$f":"IF($D117=0,0,IF(AND($G117>0,$H117<>\"Oui\"),D117,IF(AND($G117>0,$H117=\"Oui\"),COUNTRY_INFO!$F117,0)))","v":0},0,0,0,0,0,0,null,0,0]
[{"$f":"IF(INTRO!$E$43=\"Non endémique\",\" \", IF(COUNTRY_INFO!A118=0,\" \",COUNTRY_INFO!A118))","v":"Angola"},{"$f":"IF(INTRO!$E$43=\"Non endémique\",\" \", IF(COUNTRY_INFO!B118=0,\" \",COUNTRY_INFO!B118))","v":"LUNDA NORTE"},{"$f":"IF(INTRO!$E$43=\"Non endémique\",\" \", IF(COUNTRY_INFO!C118=0,\" \",COUNTRY_INFO!C118))","v":"XA MUTEBA"},16470,6221,22691,{"$f":"IF(INTRO!$E$43=\"Non endémique\", \"Non requis\", COUNTRY_INFO!T118)","v":1},null,{"$f":"IF($D118=0,0,IF(AND($G118>0,$H118<>\"Oui\"),D118,IF(AND($G118>0,$H118=\"Oui\"),COUNTRY_INFO!$F118,0)))","v":16470},16470,0,16470,41175,0,41175,null,41175,42]
[{"$f":"IF(INTRO!$E$43=\"Non endémique\",\" \", IF(COUNTRY_INFO!A119=0,\" \",COUNTRY_INFO!A119))","v":"Angola"},{"$f":"IF(INTRO!$E$43=\"Non endémique\",\" \", IF(COUNTRY_INFO!B119=0,\" \",COUNTRY_INFO!B119))","v":"LUNDA SUL"},{"$f":"IF(INTRO!$E$43=\"Non endémique\",\" \", IF(COUNTRY_INFO!C119=0,\" \",COUNTRY_INFO!C119))","v":"CACOLO"},1154,2179,3333,{"$f":"IF(INTRO!$E$43=\"Non endémique\", \"Non requis\", COUNTRY_INFO!T119)","v":1},null,{"$f":"IF($D119=0,0,IF(AND($G119>0,$H119<>\"Oui\"),D119,IF(AND($G119>0,$H119=\"Oui\"),COUNTRY_INFO!$F119,0)))","v":1154},1185,2237.8329999999996,3422.8329999999996,2962.5,6713.4989999999989,2962.5,null,2962.5,3]
[{"$f":"IF(INTRO!$E$43=\"Non endémique\",\" \", IF(COUNTRY_INFO!A120=0,\" \",COUNTRY_INFO!A120))","v":"Angola"},{"$f":"IF(INTRO!$E$43=\"Non endémique\",\" \", IF(COUNTRY_INFO!B120=0,\" \",COUNTRY_INFO!B120))","v":"LUNDA SUL"},{"$f":"IF(INTRO!$E$43=\"Non endémique\",\" \", IF(COUNTRY_INFO!C120=0,\" \",COUNTRY_INFO!C120))","v":"DALA"},0,0,0,{"$f":"IF(INTRO!$E$43=\"Non endémique\", \"Non requis\", COUNTRY_INFO!T120)","v":0},null,{"$f":"IF($D120=0,0,IF(AND($G120>0,$H120<>\"Oui\"),D120,IF(AND($G120>0,$H120=\"Oui\"),COUNTRY_INFO!$F120,0)))","v":0},0,0,0,0,0,0,null,0,0]
[{"$f":"IF(INTRO!$E$43=\"Non endémique\",\" \", IF(COUNTRY_INFO!A121=0,\" \",COUNTRY_INFO!A121))","v":"Angola"},{"$f":"IF(INTRO!$E$43=\"Non endémique\",\" \", IF(COUNTRY_INFO!B121=0,\" \",COUNTRY_INFO!B121))","v":"LUNDA SUL"},{"$f":"IF(INTRO!$E$43=\"Non endémique\",\" \", IF(COUNTRY_INFO!C121=0,\" \",COUNTRY_INFO!C121))","v":"MUCONDA"},3238,0,3238,{"$f":"IF(INTRO!$E$43=\"Non endémique\", \"Non requis\", COUNTRY_INFO!T121)","v":0},null,{"$f":"IF($D121=0,0,IF(AND($G121>0,$H121<>\"Oui\"),D121,IF(AND($G121>0,$H121=\"Oui\"),COUNTRY_INFO!$F121,0)))","v":0},0,0,0,0,0,0,null,0,0]
[{"$f":"IF(INTRO!$E$43=\"Non endémique\",\" \", IF(COUNTRY_INFO!A122=0,\" \",COUNTRY_INFO!A122))","v":"Angola"},{"$f":"IF(INTRO!$E$43=\"Non endémique\",\" \", IF(COUNTRY_INFO!B122=0,\" \",COUNTRY_INFO!B122))","v":"LUNDA SUL"},{"$f":"IF(INTRO!$E$43=\"Non endémique\",\" \", IF(COUNTRY_INFO!C122=0,\" \",COUNTRY_INFO!C122))","v":"SAURIMO"},0,0,0,{"$f":"IF(INTRO!$E$43=\"Non endémique\", \"Non requis\", COUNTRY_INFO!T122)","v":0},null,{"$f":"IF($D122=0,0,IF(AND($G122>0,$H122<>\"Oui\"),D122,IF(AND($G122>0,$H122=\"Oui\"),COUNTRY_INFO!$F122,0)))","v":0},0,0,0,0,0,0,null,0,0]
[{"$f":"IF(INTRO!$E$43=\"Non endémique\",\" \", IF(COUNTRY_INFO!A123=0,\" \",COUNTRY_INFO!A123))","v":"Angola"},{"$f":"IF(INTRO!$E$43=\"Non endémique\",\" \", IF(COUNTRY_INFO!B123=0,\" \",COUNTRY_INFO!B123))","v":"MALANJE"},{"$f":"IF(INTRO!$E$43=\"Non endémique\",\" \", IF(COUNTRY_INFO!C123=0,\" \",COUNTRY_INFO!C123))","v":"CACULAMA (Mukari)"},10316,3176,13492,{"$f":"IF(INTRO!$E$43=\"Non endémique\", \"Non requis\", COUNTRY_INFO!T123)","v":1},null,{"$f":"IF($D123=0,0,IF(AND($G123>0,$H123<>\"Oui\"),D123,IF(AND($G123>0,$H123=\"Oui\"),COUNTRY_INFO!$F123,0)))","v":10316},10316,0,10316,25790,0,25790,null,25790,26]
[{"$f":"IF(INTRO!$E$43=\"Non endémique\",\" \", IF(COUNTRY_INFO!A124=0,\" \",COUNTRY_INFO!A124))","v":"Angola"},{"$f":"IF(INTRO!$E$43=\"Non endémique\",\" \", IF(COUNTRY_INFO!B124=0,\" \",COUNTRY_INFO!B124))","v":"MALANJE"},{"$f":"IF(INTRO!$E$43=\"Non endémique\",\" \", IF(COUNTRY_INFO!C124=0,\" \",COUNTRY_INFO!C124))","v":"CACUSO"},24491,8795,33286,{"$f":"IF(INTRO!$E$43=\"Non endémique\", \"Non requis\", COUNTRY_INFO!T124)","v":1},null,{"$f":"IF($D124=0,0,IF(AND($G124>0,$H124<>\"Oui\"),D124,IF(AND($G124>0,$H124=\"Oui\"),COUNTRY_INFO!$F124,0)))","v":24491},24491,0,24491,61227.5,0,61227.5,null,61227.5,62]
[{"$f":"IF(INTRO!$E$43=\"Non endémique\",\" \", IF(COUNTRY_INFO!A125=0,\" \",COUNTRY_INFO!A125))","v":"Angola"},{"$f":"IF(INTRO!$E$43=\"Non endémique\",\" \", IF(COUNTRY_INFO!B125=0,\" \",COUNTRY_INFO!B125))","v":"MALANJE"},{"$f":"IF(INTRO!$E$43=\"Non endémique\",\" \", IF(COUNTRY_INFO!C125=0,\" \",COUNTRY_INFO!C125))","v":"CAMBUNDI CATEMBO"},14474,5468,19942,{"$f":"IF(INTRO!$E$43=\"Non endémique\", \"Non requis\", COUNTRY_INFO!T125)","v":1},null,{"$f":"IF($D125=0,0,IF(AND($G125>0,$H125<>\"Oui\"),D125,IF(AND($G125>0,$H125=\"Oui\"),COUNTRY_INFO!$F125,0)))","v":14474},14474,0,14474,36185,0,36185,null,36185,37]
[{"$f":"IF(INTRO!$E$43=\"Non endémique\",\" \", IF(COUNTRY_INFO!A126=0,\" \",COUNTRY_INFO!A126))","v":"Angola"},{"$f":"IF(INTRO!$E$43=\"Non endémique\",\" \", IF(COUNTRY_INFO!B126=0,\" \",COUNTRY_INFO!B126))","v":"MALANJE"},{"$f":"IF(INTRO!$E$43=\"Non endémique\",\" \", IF(COUNTRY_INFO!C126=0,\" \",COUNTRY_INFO!C126))","v":"CANGANDALA"},15458,22570,38028,{"$f":"IF(INTRO!$E$43=\"Non endémique\", \"Non requis\", COUNTRY_INFO!T126)","v":1},null,{"$f":"IF($D126=0,0,IF(AND($G126>0,$H126<>\"Oui\"),D126,IF(AND($G126>0,$H126=\"Oui\"),COUNTRY_INFO!$F126,0)))","v":15458},11370,21476.624,32846.623999999996,28425,64429.872000000003,28425,null,28425,29]
[{"$f":"IF(INTRO!$E$43=\"Non endémique\",\" \", IF(COUNTRY_INFO!A127=0,\" \",COUNTRY_INFO!A127))","v":"Angola"},{"$f":"IF(INTRO!$E$43=\"Non endémique\",\" \", IF(COUNTRY_INFO!B127=0,\" \",COUNTRY_INFO!B127))","v":"MALANJE"},{"$f":"IF(INTRO!$E$43=\"Non endémique\",\" \", IF(COUNTRY_INFO!C127=0,\" \",COUNTRY_INFO!C127))","v":"CAHOMBO"},5674,6739,12413,{"$f":"IF(INTRO!$E$43=\"Non endémique\", \"Non requis\", COUNTRY_INFO!T127)","v":1},null,{"$f":"IF($D127=0,0,IF(AND($G127>0,$H127<>\"Oui\"),D127,IF(AND($G127>0,$H127=\"Oui\"),COUNTRY_INFO!$F127,0)))","v":5674},3122,5898.0609999999997,9020.0609999999997,7805,17694.182999999997,7805,null,7805,8]
[{"$f":"IF(INTRO!$E$43=\"Non endémique\",\" \", IF(COUNTRY_INFO!A128=0,\" \",COUNTRY_INFO!A128))","v":"Angola"},{"$f":"IF(INTRO!$E$43=\"Non endémique\",\" \", IF(COUNTRY_INFO!B128=0,\" \",COUNTRY_INFO!B128))","v":"MALANJE"},{"$f":"IF(INTRO!$E$43=\"Non endémique\",\" \", IF(COUNTRY_INFO!C128=0,\" \",COUNTRY_INFO!C128))","v":"CALANDULA"},27550,20337,47887,{"$f":"IF(INTRO!$E$43=\"Non endémique\", \"Non requis\", COUNTRY_INFO!T128)","v":1},null,{"$f":"IF($D128=0,0,IF(AND($G128>0,$H128<>\"Oui\"),D128,IF(AND($G128>0,$H128=\"Oui\"),COUNTRY_INFO!$F128,0)))","v":27550},7727,14595.723999999998,22322.723999999998,19317.5,43787.171999999991,19317.5,null,19317.5,20]
[{"$f":"IF(INTRO!$E$43=\"Non endémique\",\" \", IF(COUNTRY_INFO!A129=0,\" \",COUNTRY_INFO!A129))","v":"Angola"},{"$f":"IF(INTRO!$E$43=\"Non endémique\",\" \", IF(COUNTRY_INFO!B129=0,\" \",COUNTRY_INFO!B129))","v":"MALANJE"},{"$f":"IF(INTRO!$E$43=\"Non endémique\",\" \", IF(COUNTRY_INFO!C129=0,\" \",COUNTRY_INFO!C129))","v":"KIWABA NZOJI"},5441,0,5441,{"$f":"IF(INTRO!$E$43=\"Non endémique\", \"Non requis\", COUNTRY_INFO!T129)","v":0},null,{"$f":"IF($D129=0,0,IF(AND($G129>0,$H129<>\"Oui\"),D129,IF(AND($G129>0,$H129=\"Oui\"),COUNTRY_INFO!$F129,0)))","v":0},0,0,0,0,0,0,null,0,0]
[{"$f":"IF(INTRO!$E$43=\"Non endémique\",\" \", IF(COUNTRY_INFO!A130=0,\" \",COUNTRY_INFO!A130))","v":"Angola"},{"$f":"IF(INTRO!$E$43=\"Non endémique\",\" \", IF(COUNTRY_INFO!B130=0,\" \",COUNTRY_INFO!B130))","v":"MALANJE"},{"$f":"IF(INTRO!$E$43=\"Non endémique\",\" \", IF(COUNTRY_INFO!C130=0,\" \",COUNTRY_INFO!C130))","v":"KUNDA DYA BASE"},4324,1633,5957,{"$f":"IF(INTRO!$E$43=\"Non endémique\", \"Non requis\", COUNTRY_INFO!T130)","v":1},null,{"$f":"IF($D130=0,0,IF(AND($G130>0,$H130<>\"Oui\"),D130,IF(AND($G130>0,$H130=\"Oui\"),COUNTRY_INFO!$F130,0)))","v":4324},4324,0,4324,10810,0,10810,null,10810,11]
[{"$f":"IF(INTRO!$E$43=\"Non endémique\",\" \", IF(COUNTRY_INFO!A131=0,\" \",COUNTRY_INFO!A131))","v":"Angola"},{"$f":"IF(INTRO!$E$43=\"Non endémique\",\" \", IF(COUNTRY_INFO!B131=0,\" \",COUNTRY_INFO!B131))","v":"MALANJE"},{"$f":"IF(INTRO!$E$43=\"Non endémique\",\" \", IF(COUNTRY_INFO!C131=0,\" \",COUNTRY_INFO!C131))","v":"LUQUEMBO"},18802,8268,27070,{"$f":"IF(INTRO!$E$43=\"Non endémique\", \"Non requis\", COUNTRY_INFO!T131)","v":1},null,{"$f":"IF($D131=0,0,IF(AND($G131>0,$H131<>\"Oui\"),D131,IF(AND($G131>0,$H131=\"Oui\"),COUNTRY_INFO!$F131,0)))","v":18802},2317,4376.0469999999996,6693.0469999999996,5792.5,13128.141,5792.5,null,5792.5,6]
[{"$f":"IF(INTRO!$E$43=\"Non endémique\",\" \", IF(COUNTRY_INFO!A132=0,\" \",COUNTRY_INFO!A132))","v":"Angola"},{"$f":"IF(INTRO!$E$43=\"Non endémique\",\" \", IF(COUNTRY_INFO!B132=0,\" \",COUNTRY_INFO!B132))","v":"MALANJE"},{"$f":"IF(INTRO!$E$43=\"Non endémique\",\" \", IF(COUNTRY_INFO!C132=0,\" \",COUNTRY_INFO!C132))","v":"MALANJE"},173645,321219,494864,{"$f":"IF(INTRO!$E$43=\"Non endémique\", \"Non requis\", COUNTRY_INFO!T132)","v":1},null,{"$f":"IF($D132=0,0,IF(AND($G132>0,$H132<>\"Oui\"),D132,IF(AND($G132>0,$H132=\"Oui\"),COUNTRY_INFO!$F132,0)))","v":173645},174475,329564.3,504039.3,436187.5,988692.89999999991,436187.5,null,436187.5,437]
[{"$f":"IF(INTRO!$E$43=\"Non endémique\",\" \", IF(COUNTRY_INFO!A133=0,\" \",COUNTRY_INFO!A133))","v":"Angola"},{"$f":"IF(INTRO!$E$43=\"Non endémique\",\" \", IF(COUNTRY_INFO!B133=0,\" \",COUNTRY_INFO!B133))","v":"MALANJE"},{"$f":"IF(INTRO!$E$43=\"Non endémique\",\" \", IF(COUNTRY_INFO!C133=0,\" \",COUNTRY_INFO!C133))","v":"MARIMBA"},8970,3388,12358,{"$f":"IF(INTRO!$E$43=\"Non endémique\", \"Non requis\", COUNTRY_INFO!T133)","v":1},null,{"$f":"IF($D133=0,0,IF(AND($G133>0,$H133<>\"Oui\"),D133,IF(AND($G133>0,$H133=\"Oui\"),COUNTRY_INFO!$F133,0)))","v":8970},0,0,8970,22425,0,22425,null,22425,23]
[{"$f":"IF(INTRO!$E$43=\"Non endémique\",\" \", IF(COUNTRY_INFO!A134=0,\" \",COUNTRY_INFO!A134))","v":"Angola"},{"$f":"IF(INTRO!$E$43=\"Non endémique\",\" \", IF(COUNTRY_INFO!B134=0,\" \",COUNTRY_INFO!B134))","v":"MALANJE"},{"$f":"IF(INTRO!$E$43=\"Non endémique\",\" \", IF(COUNTRY_INFO!C134=0,\" \",COUNTRY_INFO!C134))","v":"MASSANGO"},8723,0,8723,{"$f":"IF(INTRO!$E$43=\"Non endémique\", \"Non requis\", COUNTRY_INFO!T134)","v":0},null,{"$f":"IF($D134=0,0,IF(AND($G134>0,$H134<>\"Oui\"),D134,IF(AND($G134>0,$H134=\"Oui\"),COUNTRY_INFO!$F134,0)))","v":0},0,0,0,0,0,0,null,0,0]
[{"$f":"IF(INTRO!$E$43=\"Non endémique\",\" \", IF(COUNTRY_INFO!A135=0,\" \",COUNTRY_INFO!A135))","v":"Angola"},{"$f":"IF(INTRO!$E$43=\"Non endémique\",\" \", IF(COUNTRY_INFO!B135=0,\" \",COUNTRY_INFO!B135))","v":"MALANJE"},{"$f":"IF(INTRO!$E$43=\"Non endémique\",\" \", IF(COUNTRY_INFO!C135=0,\" \",COUNTRY_INFO!C135))","v":"QUELA"},6325,113,6438,{"$f":"IF(INTRO!$E$43=\"Non endémique\", \"Non requis\", COUNTRY_INFO!T135)","v":1},null,{"$f":"IF($D135=0,0,IF(AND($G135>0,$H135<>\"Oui\"),D135,IF(AND($G135>0,$H135=\"Oui\"),COUNTRY_INFO!$F135,0)))","v":6325},6325,0,6325,15812.5,0,15812.5,null,15812.5,16]
[{"$f":"IF(INTRO!$E$43=\"Non endémique\",\" \", IF(COUNTRY_INFO!A136=0,\" \",COUNTRY_INFO!A136))","v":"Angola"},{"$f":"IF(INTRO!$E$43=\"Non endémique\",\" \", IF(COUNTRY_INFO!B136=0,\" \",COUNTRY_INFO!B136))","v":"MALANJE"},{"$f":"IF(INTRO!$E$43=\"Non endémique\",\" \", IF(COUNTRY_INFO!C136=0,\" \",COUNTRY_INFO!C136))","v":"QUIRIMA"},4666,1763,6429,{"$f":"IF(INTRO!$E$43=\"Non endémique\", \"Non requis\", COUNTRY_INFO!T136)","v":1},null,{"$f":"IF($D136=0,0,IF(AND($G136>0,$H136<>\"Oui\"),D136,IF(AND($G136>0,$H136=\"Oui\"),COUNTRY_INFO!$F136,0)))","v":4666},4666,0,4666,11665,0,11665,null,11665,12]
[{"$f":"IF(INTRO!$E$43=\"Non endémique\",\" \", IF(COUNTRY_INFO!A137=0,\" \",COUNTRY_INFO!A137))","v":"Angola"},{"$f":"IF(INTRO!$E$43=\"Non endémique\",\" \", IF(COUNTRY_INFO!B137=0,\" \",COUNTRY_INFO!B137))","v":"MOXICO"},{"$f":"IF(INTRO!$E$43=\"Non endémique\",\" \", IF(COUNTRY_INFO!C137=0,\" \",COUNTRY_INFO!C137))","v":"ALTO ZAMBEZE"},34313,18727,{"$f":"SUM(D137:E137)","v":53040},{"$f":"IF(INTRO!$E$43=\"Non endémique\", \"Non requis\", COUNTRY_INFO!T137)","v":1},null,{"$f":"IF($D137=0,0,IF(AND($G137>0,$H137<>\"Oui\"),D137,IF(AND($G137>0,$H137=\"Oui\"),COUNTRY_INFO!$F137,0)))","v":34313},4403,8316.6459999999988,{"$f":"IF($J137=0,SUM(I137,K137),SUM(J137,K137))","v":12719.645999999999},{"$f":"IF($J137=0,$I137*2.5,$J137*2.5)","v":11007.5},{"$f":"$K137*3","v":24949.937999999995},{"$f":"M137","v":11007.5},null,{"$f":"IF($O137>$P137,O137-P137,0)","v":11007.5},{"$f":"ROUNDUP($O137/1000,0)","v":12}]
[{"$f":"IF(INTRO!$E$43=\"Non endémique\",\" \", IF(COUNTRY_INFO!A138=0,\" \",COUNTRY_INFO!A138))","v":"Angola"},{"$f":"IF(INTRO!$E$43=\"Non endémique\",\" \", IF(COUNTRY_INFO!B138=0,\" \",COUNTRY_INFO!B138))","v":"MOXICO"},{"$f":"IF(INTRO!$E$43=\"Non endémique\",\" \", IF(COUNTRY_INFO!C138=0,\" \",COUNTRY_INFO!C138))","v":"CAMANONGUE"},0,0,0,{"$f":"IF(INTRO!$E$43=\"Non endémique\", \"Non requis\", COUNTRY_INFO!T138)","v":0},null,{"$f":"IF($D138=0,0,IF(AND($G138>0,$H138<>\"Oui\"),D138,IF(AND($G138>0,$H138=\"Oui\"),COUNTRY_INFO!$F138,0)))","v":0},0,0,0,0,0,0,null,0,0]
[{"$f":"IF(INTRO!$E$43=\"Non endémique\",\" \", IF(COUNTRY_INFO!A139=0,\" \",COUNTRY_INFO!A139))","v":"Angola"},{"$f":"IF(INTRO!$E$43=\"Non endémique\",\" \", IF(COUNTRY_INFO!B139=0,\" \",COUNTRY_INFO!B139))","v":"MOXICO"},{"$f":"IF(INTRO!$E$43=\"Non endémique\",\" \", IF(COUNTRY_INFO!C139=0,\" \",COUNTRY_INFO!C139))","v":"LEUA"},0,0,0,{"$f":"IF(INTRO!$E$43=\"Non endémique\", \"Non requis\", COUNTRY_INFO!T139)","v":0},null,{"$f":"IF($D139=0,0,IF(AND($G139>0,$H139<>\"Oui\"),D139,IF(AND($G139>0,$H139=\"Oui\"),COUNTRY_INFO!$F139,0)))","v":0},0,0,0,0,0,0,null,0,0]
[{"$f":"IF(INTRO!$E$43=\"Non endémique\",\" \", IF(COUNTRY_INFO!A140=0,\" \",COUNTRY_INFO!A140))","v":"Angola"},{"$f":"IF(INTRO!$E$43=\"Non endémique\",\" \", IF(COUNTRY_INFO!B140=0,\" \",COUNTRY_INFO!B140))","v":"MOXICO"},{"$f":"IF(INTRO!$E$43=\"Non endémique\",\" \", IF(COUNTRY_INFO!C140=0,\" \",COUNTRY_INFO!C140))","v":"LUACANO"},3725,0,3725,{"$f":"IF(INTRO!$E$43=\"Non endémique\", \"Non requis\", COUNTRY_INFO!T140)","v":0},null,{"$f":"IF($D140=0,0,IF(AND($G140>0,$H140<>\"Oui\"),D140,IF(AND($G140>0,$H140=\"Oui\"),COUNTRY_INFO!$F140,0)))","v":0},0,0,0,0,0,0,null,0,0]
[{"$f":"IF(INTRO!$E$43=\"Non endémique\",\" \", IF(COUNTRY_INFO!A141=0,\" \",COUNTRY_INFO!A141))","v":"Angola"},{"$f":"IF(INTRO!$E$43=\"Non endémique\",\" \", IF(COUNTRY_INFO!B141=0,\" \",COUNTRY_INFO!B141))","v":"MOXICO"},{"$f":"IF(INTRO!$E$43=\"Non endémique\",\" \", IF(COUNTRY_INFO!C141=0,\" \",COUNTRY_INFO!C141))","v":"LUAU"},30783,0,30783,{"$f":"IF(INTRO!$E$43=\"Non endémique\", \"Non requis\", COUNTRY_INFO!T141)","v":0},null,{"$f":"IF($D141=0,0,IF(AND($G141>0,$H141<>\"Oui\"),D141,IF(AND($G141>0,$H141=\"Oui\"),COUNTRY_INFO!$F141,0)))","v":0},0,0,0,0,0,0,null,0,0]
[{"$f":"IF(INTRO!$E$43=\"Non endémique\",\" \", IF(COUNTRY_INFO!A142=0,\" \",COUNTRY_INFO!A142))","v":"Angola"},{"$f":"IF(INTRO!$E$43=\"Non endémique\",\" \", IF(COUNTRY_INFO!B142=0,\" \",COUNTRY_INFO!B142))","v":"MOXICO"},{"$f":"IF(INTRO!$E$43=\"Non endémique\",\" \", IF(COUNTRY_INFO!C142=0,\" \",COUNTRY_INFO!C142))","v":"LUCHAZES"},2655,0,2655,{"$f":"IF(INTRO!$E$43=\"Non endémique\", \"Non requis\", COUNTRY_INFO!T142)","v":0},null,{"$f":"IF($D142=0,0,IF(AND($G142>0,$H142<>\"Oui\"),D142,IF(AND($G142>0,$H142=\"Oui\"),COUNTRY_INFO!$F142,0)))","v":0},0,0,0,0,0,0,null,0,0]
[{"$f":"IF(INTRO!$E$43=\"Non endémique\",\" \", IF(COUNTRY_INFO!A143=0,\" \",COUNTRY_INFO!A143))","v":"Angola"},{"$f":"IF(INTRO!$E$43=\"Non endémique\",\" \", IF(COUNTRY_INFO!B143=0,\" \",COUNTRY_INFO!B143))","v":"MOXICO"},{"$f":"IF(INTRO!$E$43=\"Non endémique\",\" \", IF(COUNTRY_INFO!C143=0,\" \",COUNTRY_INFO!C143))","v":"BUNDAS (LUMBALA NGUIMBO)"},13282,3939,17221,{"$f":"IF(INTRO!$E$43=\"Non endémique\", \"Non requis\", COUNTRY_INFO!T143)","v":1},null,{"$f":"IF($D143=0,0,IF(AND($G143>0,$H143<>\"Oui\"),D143,IF(AND($G143>0,$H143=\"Oui\"),COUNTRY_INFO!$F143,0)))","v":13282},13282,0,13282,33205,0,33205,null,33205,34]
[{"$f":"IF(INTRO!$E$43=\"Non endémique\",\" \", IF(COUNTRY_INFO!A144=0,\" \",COUNTRY_INFO!A144))","v":"Angola"},{"$f":"IF(INTRO!$E$43=\"Non endémique\",\" \", IF(COUNTRY_INFO!B144=0,\" \",COUNTRY_INFO!B144))","v":"MOXICO"},{"$f":"IF(INTRO!$E$43=\"Non endémique\",\" \", IF(COUNTRY_INFO!C144=0,\" \",COUNTRY_INFO!C144))","v":"CAMEIA (LUMEJE)"},10144,0,10144,{"$f":"IF(INTRO!$E$43=\"Non endémique\", \"Non requis\", COUNTRY_INFO!T144)","v":0},null,{"$f":"IF($D144=0,0,IF(AND($G144>0,$H144<>\"Oui\"),D144,IF(AND($G144>0,$H144=\"Oui\"),COUNTRY_INFO!$F144,0)))","v":0},0,0,0,0,0,0,null,0,0]
[{"$f":"IF(INTRO!$E$43=\"Non endémique\",\" \", IF(COUNTRY_INFO!A145=0,\" \",COUNTRY_INFO!A145))","v":"Angola"},{"$f":"IF(INTRO!$E$43=\"Non endémique\",\" \", IF(COUNTRY_INFO!B145=0,\" \",COUNTRY_INFO!B145))","v":"MOXICO"},{"$f":"IF(INTRO!$E$43=\"Non endémique\",\" \", IF(COUNTRY_INFO!C145=0,\" \",COUNTRY_INFO!C145))","v":"MOXICO/LUENA"},118829,0,118829,{"$f":"IF(INTRO!$E$43=\"Non endémique\", \"Non requis\", COUNTRY_INFO!T145)","v":0},null,{"$f":"IF($D145=0,0,IF(AND($G145>0,$H145<>\"Oui\"),D145,IF(AND($G145>0,$H145=\"Oui\"),COUNTRY_INFO!$F145,0)))","v":0},0,0,0,0,0,0,null,0,0]
[{"$f":"IF(INTRO!$E$43=\"Non endémique\",\" \", IF(COUNTRY_INFO!A146=0,\" \",COUNTRY_INFO!A146))","v":"Angola"},{"$f":"IF(INTRO!$E$43=\"Non endémique\",\" \", IF(COUNTRY_INFO!B146=0,\" \",COUNTRY_INFO!B146))","v":"NAMIBE"},{"$f":"IF(INTRO!$E$43=\"Non endémique\",\" \", IF(COUNTRY_INFO!C146=0,\" \",COUNTRY_INFO!C146))","v":"BIBALA"},17802,10990,28792,{"$f":"IF(INTRO!$E$43=\"Non endémique\", \"Non requis\", COUNTRY_INFO!T146)","v":1},null,{"$f":"IF($D146=0,0,IF(AND($G146>0,$H146<>\"Oui\"),D146,IF(AND($G146>0,$H146=\"Oui\"),COUNTRY_INFO!$F146,0)))","v":17802},5212,9844.8219999999983,15056.821999999998,13030,29534.465999999993,13030,null,13030,14]
[{"$f":"IF(INTRO!$E$43=\"Non endémique\",\" \", IF(COUNTRY_INFO!A147=0,\" \",COUNTRY_INFO!A147))","v":"Angola"},{"$f":"IF(INTRO!$E$43=\"Non endémique\",\" \", IF(COUNTRY_INFO!B147=0,\" \",COUNTRY_INFO!B147))","v":"NAMIBE"},{"$f":"IF(INTRO!$E$43=\"Non endémique\",\" \", IF(COUNTRY_INFO!C147=0,\" \",COUNTRY_INFO!C147))","v":"CAMUCUIO"},17848,28946,46794,{"$f":"IF(INTRO!$E$43=\"Non endémique\", \"Non requis\", COUNTRY_INFO!T147)","v":1},null,{"$f":"IF($D147=0,0,IF(AND($G147>0,$H147<>\"Oui\"),D147,IF(AND($G147>0,$H147=\"Oui\"),COUNTRY_INFO!$F147,0)))","v":17848},15090,28503.357999999997,43593.357999999993,37725,85510.073999999993,37725,null,37725,38]
[{"$f":"IF(INTRO!$E$43=\"Non endémique\",\" \", IF(COUNTRY_INFO!A148=0,\" \",COUNTRY_INFO!A148))","v":"Angola"},{"$f":"IF(INTRO!$E$43=\"Non endémique\",\" \", IF(COUNTRY_INFO!B148=0,\" \",COUNTRY_INFO!B148))","v":"NAMIBE"},{"$f":"IF(INTRO!$E$43=\"Non endémique\",\" \", IF(COUNTRY_INFO!C148=0,\" \",COUNTRY_INFO!C148))","v":"MOÇAMEDES"},7734,1461,9195,{"$f":"IF(INTRO!$E$43=\"Non endémique\", \"Non requis\", COUNTRY_INFO!T148)","v":1},null,{"$f":"IF($D148=0,0,IF(AND($G148>0,$H148<>\"Oui\"),D148,IF(AND($G148>0,$H148=\"Oui\"),COUNTRY_INFO!$F148,0)))","v":7734},7734,0,7734,19335,0,19335,null,19335,20]
[{"$f":"IF(INTRO!$E$43=\"Non endémique\",\" \", IF(COUNTRY_INFO!A149=0,\" \",COUNTRY_INFO!A149))","v":"Angola"},{"$f":"IF(INTRO!$E$43=\"Non endémique\",\" \", IF(COUNTRY_INFO!B149=0,\" \",COUNTRY_INFO!B149))","v":"NAMIBE"},{"$f":"IF(INTRO!$E$43=\"Non endémique\",\" \", IF(COUNTRY_INFO!C149=0,\" \",COUNTRY_INFO!C149))","v":"TOMBWA"},19672,0,19672,{"$f":"IF(INTRO!$E$43=\"Non endémique\", \"Non requis\", COUNTRY_INFO!T149)","v":0},null,{"$f":"IF($D149=0,0,IF(AND($G149>0,$H149<>\"Oui\"),D149,IF(AND($G149>0,$H149=\"Oui\"),COUNTRY_INFO!$F149,0)))","v":0},0,0,0,0,0,0,null,0,0]
[{"$f":"IF(INTRO!$E$43=\"Non endémique\",\" \", IF(COUNTRY_INFO!A150=0,\" \",COUNTRY_INFO!A150))","v":"Angola"},{"$f":"IF(INTRO!$E$43=\"Non endémique\",\" \", IF(COUNTRY_INFO!B150=0,\" \",COUNTRY_INFO!B150))","v":"NAMIBE"},{"$f":"IF(INTRO!$E$43=\"Non endémique\",\" \", IF(COUNTRY_INFO!C150=0,\" \",COUNTRY_INFO!C150))","v":"VIREI"},6150,0,6150,{"$f":"IF(INTRO!$E$43=\"Non endémique\", \"Non requis\", COUNTRY_INFO!T150)","v":0},null,{"$f":"IF($D150=0,0,IF(AND($G150>0,$H150<>\"Oui\"),D150,IF(AND($G150>0,$H150=\"Oui\"),COUNTRY_INFO!$F150,0)))","v":0},0,0,0,0,0,0,null,0,0]
[{"$f":"IF(INTRO!$E$43=\"Non endémique\",\" \", IF(COUNTRY_INFO!A151=0,\" \",COUNTRY_INFO!A151))","v":"Angola"},{"$f":"IF(INTRO!$E$43=\"Non endémique\",\" \", IF(COUNTRY_INFO!B151=0,\" \",COUNTRY_INFO!B151))","v":"UIGE"},{"$f":"IF(INTRO!$E$43=\"Non endémique\",\" \", IF(COUNTRY_INFO!C151=0,\" \",COUNTRY_INFO!C151))","v":"AMBUILA"},6181,1615,7796,{"$f":"IF(INTRO!$E$43=\"Non endémique\", \"Non requis\", COUNTRY_INFO!T151)","v":1},null,{"$f":"IF($D151=0,0,IF(AND($G151>0,$H151<>\"Oui\"),D151,IF(AND($G151>0,$H151=\"Oui\"),COUNTRY_INFO!$F151,0)))","v":6181},6181,1658.6049999999998,7839.6049999999996,15452.5,4975.8149999999996,15452.5,null,15452.5,16]
[{"$f":"IF(INTRO!$E$43=\"Non endémique\",\" \", IF(COUNTRY_INFO!A152=0,\" \",COUNTRY_INFO!A152))","v":"Angola"},{"$f":"IF(INTRO!$E$43=\"Non endémique\",\" \", IF(COUNTRY_INFO!B152=0,\" \",COUNTRY_INFO!B152))","v":"UIGE"},{"$f":"IF(INTRO!$E$43=\"Non endémique\",\" \", IF(COUNTRY_INFO!C152=0,\" \",COUNTRY_INFO!C152))","v":"BEMBE"},11242,7195,18437,{"$f":"IF(INTRO!$E$43=\"Non endémique\", \"Non requis\", COUNTRY_INFO!T152)","v":1},null,{"$f":"IF($D152=0,0,IF(AND($G152>0,$H152<>\"Oui\"),D152,IF(AND($G152>0,$H152=\"Oui\"),COUNTRY_INFO!$F152,0)))","v":11242},11242,7389.2649999999994,18631.264999999999,28105,22167.794999999998,28105,null,28105,29]
[{"$f":"IF(INTRO!$E$43=\"Non endémique\",\" \", IF(COUNTRY_INFO!A153=0,\" \",COUNTRY_INFO!A153))","v":"Angola"},{"$f":"IF(INTRO!$E$43=\"Non endémique\",\" \", IF(COUNTRY_INFO!B153=0,\" \",COUNTRY_INFO!B153))","v":"UIGE"},{"$f":"IF(INTRO!$E$43=\"Non endémique\",\" \", IF(COUNTRY_INFO!C153=0,\" \",COUNTRY_INFO!C153))","v":"BUENGAS"},7755,2929,10684,{"$f":"IF(INTRO!$E$43=\"Non endémique\", \"Non requis\", COUNTRY_INFO!T153)","v":1},null,{"$f":"IF($D153=0,0,IF(AND($G153>0,$H153<>\"Oui\"),D153,IF(AND($G153>0,$H153=\"Oui\"),COUNTRY_INFO!$F153,0)))","v":7755},7755,3008.0829999999996,10763.082999999999,19387.5,9024.2489999999998,19387.5,null,19387.5,20]
[{"$f":"IF(INTRO!$E$43=\"Non endémique\",\" \", IF(COUNTRY_INFO!A154=0,\" \",COUNTRY_INFO!A154))","v":"Angola"},{"$f":"IF(INTRO!$E$43=\"Non endémique\",\" \", IF(COUNTRY_INFO!B154=0,\" \",COUNTRY_INFO!B154))","v":"UIGE"},{"$f":"IF(INTRO!$E$43=\"Non endémique\",\" \", IF(COUNTRY_INFO!C154=0,\" \",COUNTRY_INFO!C154))","v":"BUNGO"},12674,4788,17462,{"$f":"IF(INTRO!$E$43=\"Non endémique\", \"Non requis\", COUNTRY_INFO!T154)","v":1},null,{"$f":"IF($D154=0,0,IF(AND($G154>0,$H154<>\"Oui\"),D154,IF(AND($G154>0,$H154=\"Oui\"),COUNTRY_INFO!$F154,0)))","v":12674},12674,4917.2759999999998,17591.275999999998,31685,14751.828,31685,null,31685,32]
[{"$f":"IF(INTRO!$E$43=\"Non endémique\",\" \", IF(COUNTRY_INFO!A155=0,\" \",COUNTRY_INFO!A155))","v":"Angola"},{"$f":"IF(INTRO!$E$43=\"Non endémique\",\" \", IF(COUNTRY_INFO!B155=0,\" \",COUNTRY_INFO!B155))","v":"UIGE"},{"$f":"IF(INTRO!$E$43=\"Non endémique\",\" \", IF(COUNTRY_INFO!C155=0,\" \",COUNTRY_INFO!C155))","v":"CANGOLA"},9015,1927,10942,{"$f":"IF(INTRO!$E$43=\"Non endémique\", \"Non requis\", COUNTRY_INFO!T155)","v":1},null,{"$f":"IF($D155=0,0,IF(AND($G155>0,$H155<>\"Oui\"),D155,IF(AND($G155>0,$H155=\"Oui\"),COUNTRY_INFO!$F155,0)))","v":9015},9015,0,9015,22537.5,0,22537.5,null,22537.5,23]
[{"$f":"IF(INTRO!$E$43=\"Non endémique\",\" \", IF(COUNTRY_INFO!A156=0,\" \",COUNTRY_INFO!A156))","v":"Angola"},{"$f":"IF(INTRO!$E$43=\"Non endémique\",\" \", IF(COUNTRY_INFO!B156=0,\" \",COUNTRY_INFO!B156))","v":"UIGE"},{"$f":"IF(INTRO!$E$43=\"Non endémique\",\" \", IF(COUNTRY_INFO!C156=0,\" \",COUNTRY_INFO!C156))","v":"DAMBA"},22677,421,23098,{"$f":"IF(INTRO!$E$43=\"Non endémique\", \"Non requis\", COUNTRY_INFO!T156)","v":1},null,{"$f":"IF($D156=0,0,IF(AND($G156>0,$H156<>\"Oui\"),D156,IF(AND($G156>0,$H156=\"Oui\"),COUNTRY_INFO!$F156,0)))","v":22677},22677,432.36699999999996,23109.366999999998,56692.5,1297.1009999999999,56692.5,null,56692.5,57]
[{"$f":"IF(INTRO!$E$43=\"Non endémique\",\" \", IF(COUNTRY_INFO!A157=0,\" \",COUNTRY_INFO!A157))","v":"Angola"},{"$f":"IF(INTRO!$E$43=\"Non endémique\",\" \", IF(COUNTRY_INFO!B157=0,\" \",COUNTRY_INFO!B157))","v":"UIGE"},{"$f":"IF(INTRO!$E$43=\"Non endémique\",\" \", IF(COUNTRY_INFO!C157=0,\" \",COUNTRY_INFO!C157))","v":"MAQUELA DO ZOMBO"},43444,1071,44515,{"$f":"IF(INTRO!$E$43=\"Non endémique\", \"Non requis\", COUNTRY_INFO!T157)","v":1},null,{"$f":"IF($D157=0,0,IF(AND($G157>0,$H157<>\"Oui\"),D157,IF(AND($G157>0,$H157=\"Oui\"),COUNTRY_INFO!$F157,0)))","v":43444},43444,1099.9169999999999,44543.917000000001,108610,3299.7509999999997,108610,null,108610,109]
[{"$f":"IF(INTRO!$E$43=\"Non endémique\",\" \", IF(COUNTRY_INFO!A158=0,\" \",COUNTRY_INFO!A158))","v":"Angola"},{"$f":"IF(INTRO!$E$43=\"Non endémique\",\" \", IF(COUNTRY_INFO!B158=0,\" \",COUNTRY_INFO!B158))","v":"UIGE"},{"$f":"IF(INTRO!$E$43=\"Non endémique\",\" \", IF(COUNTRY_INFO!C158=0,\" \",COUNTRY_INFO!C158))","v":"MILUNGA"},10290,636,10926,{"$f":"IF(INTRO!$E$43=\"Non endémique\", \"Non requis\", COUNTRY_INFO!T158)","v":1},null,{"$f":"IF($D158=0,0,IF(AND($G158>0,$H158<>\"Oui\"),D158,IF(AND($G158>0,$H158=\"Oui\"),COUNTRY_INFO!$F158,0)))","v":10290},10290,653.17199999999991,10943.172,25725,1959.5159999999996,25725,null,25725,26]
[{"$f":"IF(INTRO!$E$43=\"Non endémique\",\" \", IF(COUNTRY_INFO!A159=0,\" \",COUNTRY_INFO!A159))","v":"Angola"},{"$f":"IF(INTRO!$E$43=\"Non endémique\",\" \", IF(COUNTRY_INFO!B159=0,\" \",COUNTRY_INFO!B159))","v":"UIGE"},{"$f":"IF(INTRO!$E$43=\"Non endémique\",\" \", IF(COUNTRY_INFO!C159=0,\" \",COUNTRY_INFO!C159))","v":"MUCABA"},15001,0,15001,{"$f":"IF(INTRO!$E$43=\"Non endémique\", \"Non requis\", COUNTRY_INFO!T159)","v":0},null,{"$f":"IF($D159=0,0,IF(AND($G159>0,$H159<>\"Oui\"),D159,IF(AND($G159>0,$H159=\"Oui\"),COUNTRY_INFO!$F159,0)))","v":0},0,0,0,0,0,0,null,0,0]
[{"$f":"IF(INTRO!$E$43=\"Non endémique\",\" \", IF(COUNTRY_INFO!A160=0,\" \",COUNTRY_INFO!A160))","v":"Angola"},{"$f":"IF(INTRO!$E$43=\"Non endémique\",\" \", IF(COUNTRY_INFO!B160=0,\" \",COUNTRY_INFO!B160))","v":"UIGE"},{"$f":"IF(INTRO!$E$43=\"Non endémique\",\" \", IF(COUNTRY_INFO!C160=0,\" \",COUNTRY_INFO!C160))","v":"NEGAGE"},46926,16239,63165,{"$f":"IF(INTRO!$E$43=\"Non endémique\", \"Non requis\", COUNTRY_INFO!T160)","v":1},null,{"$f":"IF($D160=0,0,IF(AND($G160>0,$H160<>\"Oui\"),D160,IF(AND($G160>0,$H160=\"Oui\"),COUNTRY_INFO!$F160,0)))","v":46926},46926,16677.452999999998,63603.452999999994,117315,50032.358999999997,117315,null,117315,118]
[{"$f":"IF(INTRO!$E$43=\"Non endémique\",\" \", IF(COUNTRY_INFO!A161=0,\" \",COUNTRY_INFO!A161))","v":"Angola"},{"$f":"IF(INTRO!$E$43=\"Non endémique\",\" \", IF(COUNTRY_INFO!B161=0,\" \",COUNTRY_INFO!B161))","v":"UIGE"},{"$f":"IF(INTRO!$E$43=\"Non endémique\",\" \", IF(COUNTRY_INFO!C161=0,\" \",COUNTRY_INFO!C161))","v":"PURI"},0,0,0,{"$f":"IF(INTRO!$E$43=\"Non endémique\", \"Non requis\", COUNTRY_INFO!T161)","v":0},null,{"$f":"IF($D161=0,0,IF(AND($G161>0,$H161<>\"Oui\"),D161,IF(AND($G161>0,$H161=\"Oui\"),COUNTRY_INFO!$F161,0)))","v":0},0,0,0,0,0,0,null,0,0]
[{"$f":"IF(INTRO!$E$43=\"Non endémique\",\" \", IF(COUNTRY_INFO!A162=0,\" \",COUNTRY_INFO!A162))","v":"Angola"},{"$f":"IF(INTRO!$E$43=\"Non endémique\",\" \", IF(COUNTRY_INFO!B162=0,\" \",COUNTRY_INFO!B162))","v":"UIGE"},{"$f":"IF(INTRO!$E$43=\"Non endémique\",\" \", IF(COUNTRY_INFO!C162=0,\" \",COUNTRY_INFO!C162))","v":"QUIMBELE"},13377,0,13377,{"$f":"IF(INTRO!$E$43=\"Non endémique\", \"Non requis\", COUNTRY_INFO!T162)","v":0},null,{"$f":"IF($D162=0,0,IF(AND($G162>0,$H162<>\"Oui\"),D162,IF(AND($G162>0,$H162=\"Oui\"),COUNTRY_INFO!$F162,0)))","v":0},0,0,0,0,0,0,null,0,0]
[{"$f":"IF(INTRO!$E$43=\"Non endémique\",\" \", IF(COUNTRY_INFO!A163=0,\" \",COUNTRY_INFO!A163))","v":"Angola"},{"$f":"IF(INTRO!$E$43=\"Non endémique\",\" \", IF(COUNTRY_INFO!B163=0,\" \",COUNTRY_INFO!B163))","v":"UIGE"},{"$f":"IF(INTRO!$E$43=\"Non endémique\",\" \", IF(COUNTRY_INFO!C163=0,\" \",COUNTRY_INFO!C163))","v":"QUITEXE"},3404,1286,4690,{"$f":"IF(INTRO!$E$43=\"Non endémique\", \"Non requis\", COUNTRY_INFO!T163)","v":1},null,{"$f":"IF($D163=0,0,IF(AND($G163>0,$H163<>\"Oui\"),D163,IF(AND($G163>0,$H163=\"Oui\"),COUNTRY_INFO!$F163,0)))","v":3404},3404,1320.722,4724.7219999999998,8510,3962.1660000000002,8510,null,8510,9]
[{"$f":"IF(INTRO!$E$43=\"Non endémique\",\" \", IF(COUNTRY_INFO!A164=0,\" \",COUNTRY_INFO!A164))","v":"Angola"},{"$f":"IF(INTRO!$E$43=\"Non endémique\",\" \", IF(COUNTRY_INFO!B164=0,\" \",COUNTRY_INFO!B164))","v":"UIGE"},{"$f":"IF(INTRO!$E$43=\"Non endémique\",\" \", IF(COUNTRY_INFO!C164=0,\" \",COUNTRY_INFO!C164))","v":"SANZA POMBO"},23331,5999,29330,{"$f":"IF(INTRO!$E$43=\"Non endémique\", \"Non requis\", COUNTRY_INFO!T164)","v":1},null,{"$f":"IF($D164=0,0,IF(AND($G164>0,$H164<>\"Oui\"),D164,IF(AND($G164>0,$H164=\"Oui\"),COUNTRY_INFO!$F164,0)))","v":23331},23331,6160.972999999999,29491.972999999998,58327.5,18482.918999999998,58327.5,null,58327.5,59]
[{"$f":"IF(INTRO!$E$43=\"Non endémique\",\" \", IF(COUNTRY_INFO!A165=0,\" \",COUNTRY_INFO!A165))","v":"Angola"},{"$f":"IF(INTRO!$E$43=\"Non endémique\",\" \", IF(COUNTRY_INFO!B165=0,\" \",COUNTRY_INFO!B165))","v":"UIGE"},{"$f":"IF(INTRO!$E$43=\"Non endémique\",\" \", IF(COUNTRY_INFO!C165=0,\" \",COUNTRY_INFO!C165))","v":"SONGO"},21043,39746,60789,{"$f":"IF(INTRO!$E$43=\"Non endémique\", \"Non requis\", COUNTRY_INFO!T165)","v":1},null,{"$f":"IF($D165=0,0,IF(AND($G165>0,$H165<>\"Oui\"),D165,IF(AND($G165>0,$H165=\"Oui\"),COUNTRY_INFO!$F165,0)))","v":21043},21611,40819.142,62430.142,54027.5,122457.42600000001,54027.5,null,54027.5,55]
[{"$f":"IF(INTRO!$E$43=\"Non endémique\",\" \", IF(COUNTRY_INFO!A166=0,\" \",COUNTRY_INFO!A166))","v":"Angola"},{"$f":"IF(INTRO!$E$43=\"Non endémique\",\" \", IF(COUNTRY_INFO!B166=0,\" \",COUNTRY_INFO!B166))","v":"UIGE"},{"$f":"IF(INTRO!$E$43=\"Non endémique\",\" \", IF(COUNTRY_INFO!C166=0,\" \",COUNTRY_INFO!C166))","v":"UIGE"},177118,334556,511674,{"$f":"IF(INTRO!$E$43=\"Non endémique\", \"Non requis\", COUNTRY_INFO!T166)","v":1},null,{"$f":"IF($D166=0,0,IF(AND($G166>0,$H166<>\"Oui\"),D166,IF(AND($G166>0,$H166=\"Oui\"),COUNTRY_INFO!$F166,0)))","v":177118},181900,343589.01199999999,525489.01199999999,454750,1030767.036,454750,null,454750,455]
[{"$f":"IF(INTRO!$E$43=\"Non endémique\",\" \", IF(COUNTRY_INFO!A167=0,\" \",COUNTRY_INFO!A167))","v":"Angola"},{"$f":"IF(INTRO!$E$43=\"Non endémique\",\" \", IF(COUNTRY_INFO!B167=0,\" \",COUNTRY_INFO!B167))","v":"ZAIRE"},{"$f":"IF(INTRO!$E$43=\"Non endémique\",\" \", IF(COUNTRY_INFO!C167=0,\" \",COUNTRY_INFO!C167))","v":"CUIMBA"},1347,509,1856,{"$f":"IF(INTRO!$E$43=\"Non endémique\", \"Non requis\", COUNTRY_INFO!T167)","v":1},null,{"$f":"IF($D167=0,0,IF(AND($G167>0,$H167<>\"Oui\"),D167,IF(AND($G167>0,$H167=\"Oui\"),COUNTRY_INFO!$F167,0)))","v":1347},1347,522.74299999999994,1869.7429999999999,3367.5,1568.2289999999998,3367.5,null,3367.5,4]
[{"$f":"IF(INTRO!$E$43=\"Non endémique\",\" \", IF(COUNTRY_INFO!A168=0,\" \",COUNTRY_INFO!A168))","v":"Angola"},{"$f":"IF(INTRO!$E$43=\"Non endémique\",\" \", IF(COUNTRY_INFO!B168=0,\" \",COUNTRY_INFO!B168))","v":"ZAIRE"},{"$f":"IF(INTRO!$E$43=\"Non endémique\",\" \", IF(COUNTRY_INFO!C168=0,\" \",COUNTRY_INFO!C168))","v":"MBANZA KONGO"},61793,29148,90941,{"$f":"IF(INTRO!$E$43=\"Non endémique\", \"Non requis\", COUNTRY_INFO!T168)","v":1},null,{"$f":"IF($D168=0,0,IF(AND($G168>0,$H168<>\"Oui\"),D168,IF(AND($G168>0,$H168=\"Oui\"),COUNTRY_INFO!$F168,0)))","v":61793},3944,29934.995999999999,33878.995999999999,9860,89804.987999999998,9860,null,9860,10]
[{"$f":"IF(INTRO!$E$43=\"Non endémique\",\" \", IF(COUNTRY_INFO!A169=0,\" \",COUNTRY_INFO!A169))","v":"Angola"},{"$f":"IF(INTRO!$E$43=\"Non endémique\",\" \", IF(COUNTRY_INFO!B169=0,\" \",COUNTRY_INFO!B169))","v":"ZAIRE"},{"$f":"IF(INTRO!$E$43=\"Non endémique\",\" \", IF(COUNTRY_INFO!C169=0,\" \",COUNTRY_INFO!C169))","v":"NOQUI"},3721,1406,{"$f":"SUM(D169:E169)","v":5127},{"$f":"IF(INTRO!$E$43=\"Non endémique\", \"Non requis\", COUNTRY_INFO!T169)","v":1},null,{"$f":"IF($D169=0,0,IF(AND($G169>0,$H169<>\"Oui\"),D169,IF(AND($G169>0,$H169=\"Oui\"),COUNTRY_INFO!$F169,0)))","v":3721},3721,1443.962,{"$f":"IF($J169=0,SUM(I169,K169),SUM(J169,K169))","v":5164.9619999999995},9302.5,4331.8860000000004,9302.5,null,{"$f":"IF($O169>$P169,O169-P169,0)","v":9302.5},10]
[{"$f":"IF(INTRO!$E$43=\"Non endémique\",\" \", IF(COUNTRY_INFO!A170=0,\" \",COUNTRY_INFO!A170))","v":"Angola"},{"$f":"IF(INTRO!$E$43=\"Non endémique\",\" \", IF(COUNTRY_INFO!B170=0,\" \",COUNTRY_INFO!B170))","v":"ZAIRE"},{"$f":"IF(INTRO!$E$43=\"Non endémique\",\" \", IF(COUNTRY_INFO!C170=0,\" \",COUNTRY_INFO!C170))","v":"NZETO"},14925,3332,18257,{"$f":"IF(INTRO!$E$43=\"Non endémique\", \"Non requis\", COUNTRY_INFO!T170)","v":1},null,{"$f":"IF($D170=0,0,IF(AND($G170>0,$H170<>\"Oui\"),D170,IF(AND($G170>0,$H170=\"Oui\"),COUNTRY_INFO!$F170,0)))","v":14925},1812,3421.9639999999995,5233.9639999999999,4530,10265.891999999998,4530,null,4530,5]
[{"$f":"IF(INTRO!$E$43=\"Non endémique\",\" \", IF(COUNTRY_INFO!A171=0,\" \",COUNTRY_INFO!A171))","v":"Angola"},{"$f":"IF(INTRO!$E$43=\"Non endémique\",\" \", IF(COUNTRY_INFO!B171=0,\" \",COUNTRY_INFO!B171))","v":"ZAIRE"},{"$f":"IF(INTRO!$E$43=\"Non endémique\",\" \", IF(COUNTRY_INFO!C171=0,\" \",COUNTRY_INFO!C171))","v":"SOYO"},76018,31448,107466,{"$f":"IF(INTRO!$E$43=\"Non endémique\", \"Non requis\", COUNTRY_INFO!T171)","v":1},null,{"$f":"IF($D171=0,0,IF(AND($G171>0,$H171<>\"Oui\"),D171,IF(AND($G171>0,$H171=\"Oui\"),COUNTRY_INFO!$F171,0)))","v":76018},2153,32297.095999999998,34450.095999999998,5382.5,96891.288,5382.5,null,5382.5,6]
[{"$f":"IF(INTRO!$E$43=\"Non endémique\",\" \", IF(COUNTRY_INFO!A172=0,\" \",COUNTRY_INFO!A172))","v":"Angola"},{"$f":"IF(INTRO!$E$43=\"Non endémique\",\" \", IF(COUNTRY_INFO!B172=0,\" \",COUNTRY_INFO!B172))","v":"ZAIRE"},{"$f":"IF(INTRO!$E$43=\"Non endémique\",\" \", IF(COUNTRY_INFO!C172=0,\" \",COUNTRY_INFO!C172))","v":"TOMBOCO"},0,0,0,{"$f":"IF(INTRO!$E$43=\"Non endémique\", \"Non requis\", COUNTRY_INFO!T172)","v":0},null,{"$f":"IF($D172=0,0,IF(AND($G172>0,$H172<>\"Oui\"),D172,IF(AND($G172>0,$H172=\"Oui\"),COUNTRY_INFO!$F172,0)))","v":0},0,0,0,0,0,0,null,0,0]

{"sheet":"DSD","index":4,"n_rows":576,"n_cols":26,"rows_kept":576,"cut":false,"hidden":false,"merged":[[0,0,0,6],[0,8,0,14]]}
["Géographie",null,null,null,null,null,null,"EPI","Population nécessitant la CP et \rProjections annuelles de traitement -  2023"]
["SN","Pays","ISO3","Province","Commune","ESPEN_UMO_ID","Aire de santé","Endemicité","EAS nécessitant CP","Adultes nécessitant CP","Total nécessitant CP","Programmé pour Rx","EAS à traiter","Adultes à traiter Rx","Total à traiter","Endemicidade","Apoio MENTOR","Campanha",null,"Province","Commune","Aire de santé","Soma de EAS à traiter","Soma de Adultes à traiter Rx","Soma de Total à traiter","Soma de Programmé pour Rx"]
[1,"Angola","AGO","Bengo","Ambriz",2049,"Ambriz","Forte",5007,9457,14463,1,5007,9457,14463,{"$f":"IF(H3=\"Forte\",3,IF(H3=\"Modérée\",2,IF(H3=\"Faible\",1,0)))","v":3},1,null,null,"Bengo","Ambriz","Ambriz",5007,9457,14463,1]
[2,"Angola","AGO","Bengo","Ambriz",2049,"Bela Vista","Faible",1676,0,1676,0,0,0,0,1,1,null,null,"Bengo","Ambriz","Bela Vista",0,0,0,0]
[3,"Angola","AGO","Bengo","Ambriz",2049,"Tabi","Modérée",2076,784,2859,0,0,0,0,2,1,null,null,"Bengo","Ambriz","Tabi",0,0,0,0]
[4,"Angola","AGO","Bengo","Bula Atumba",2088,"Bula Atumba","Faible",4613,0,4613,0,0,0,0,1,1,null,null,"Bengo","Bula Atumba","Bula Atumba",0,0,0,0]
[5,"Angola","AGO","Bengo","Bula Atumba",2088,"Quiage","Faible",574,0,574,0,0,0,0,1,1,null,null,"Bengo","Bula Atumba","Quiage",0,0,0,0]
[6,"Angola","AGO","Bengo","Dande",2050,"Barra do Dande","Modérée",37012,13983,50995,0,0,0,0,2,1,null,null,"Bengo","Dande","Barra do Dande",0,0,0,0]
[7,"Angola","AGO","Bengo","Dande",2050,"Caxito","Faible",4949,0,4949,0,0,0,0,1,1,null,null,"Bengo","Dande","Caxito",0,0,0,0]
[8,"Angola","AGO","Bengo","Dande",2050,"Mabubas","Forte",4032,7616,11648,1,4032,7616,11648,3,1,null,null,"Bengo","Dande","Mabubas",4032,7616,11648,1]
[9,"Angola","AGO","Bengo","Dande",2050,"Quicabo","Modérée",10013,3783,13797,0,0,0,0,2,1,null,null,"Bengo","Dande","Quicabo",0,0,0,0]
[10,"Angola","AGO","Bengo","Dande",2050,"Ucua","Modérée",29796,11257,41053,0,0,0,0,2,1,null,null,"Bengo","Dande","Ucua",0,0,0,0]
[11,"Angola","AGO","Bengo","Dembos",2089,"Coxe","Faible",7008,0,7008,0,0,0,0,1,1,null,null,"Bengo","Dembos","Coxe",0,0,0,0]
[12,"Angola","AGO","Bengo","Dembos",2089,"Paredes","Non endémique",0,0,0,0,0,0,0,0,1,null,null,"Bengo","Dembos","Paredes",0,0,0,0]
[13,"Angola","AGO","Bengo","Dembos",2089,"Piri","Faible",778,0,778,0,0,0,0,1,1,null,null,"Bengo","Dembos","Piri",0,0,0,0]
[14,"Angola","AGO","Bengo","Dembos",2089,"Quibaxe (S. José das Matas)","Faible",757,0,757,0,0,0,0,1,1,null,null,"Bengo","Dembos","Quibaxe (S. José das Matas)",0,0,0,0]
[15,"Angola","AGO","Bengo","Nambuangongo",2053,"Cage","Faible",3708,0,3708,0,0,0,0,1,1,null,null,"Bengo","Nambuangongo","Cage",0,0,0,0]
[16,"Angola","AGO","Bengo","Nambuangongo",2053,"Canacassala","Modérée",3627,1370,4997,0,0,0,0,2,1,null,null,"Bengo","Nambuangongo","Canacassala",0,0,0,0]
[17,"Angola","AGO","Bengo","Nambuangongo",2053,"Gombe","Non endémique",0,0,0,0,0,0,0,0,1,null,null,"Bengo","Nambuangongo","Gombe",0,0,0,0]
[18,"Angola","AGO","Bengo","Nambuangongo",2053,"Muxaluando","Faible",3860,0,3860,0,0,0,0,1,1,null,null,"Bengo","Nambuangongo","Muxaluando",0,0,0,0]
[19,"Angola","AGO","Bengo","Nambuangongo",2053,"Quicunzo","Faible",3311,0,3311,0,0,0,0,1,1,null,null,"Bengo","Nambuangongo","Quicunzo",0,0,0,0]
[20,"Angola","AGO","Bengo","Nambuangongo",2053,"Quixico","Faible",2638,0,2638,0,0,0,0,1,1,null,null,"Bengo","Nambuangongo","Quixico",0,0,0,0]
[21,"Angola","AGO","Bengo","Nambuangongo",2053,"Zala","Modérée",3092,1169,4261,0,0,0,0,2,1,null,null,"Bengo","Nambuangongo","Zala",0,0,0,0]
[22,"Angola","AGO","Bengo","Pango Aluquem",2096,"Cazuangongo","Faible",2440,0,2440,0,0,0,0,1,1,null,null,"Bengo","Pango Aluquem","Cazuangongo",0,0,0,0]
[23,"Angola","AGO","Bengo","Pango Aluquem",2096,"Pango Aluquem","Modérée",261,99,359,0,0,0,0,2,1,null,null,"Bengo","Pango Aluquem","Pango Aluquem",0,0,0,0]
[24,"Angola","AGO","Benguela","Baia Farta",2054,"Baia Farta","Modérée",21187,8003,29190,0,0,0,0,2,0,null,null,"Benguela","Baia Farta","Baia Farta",0,0,0,0]
[25,"Angola","AGO","Benguela","Baia Farta",2054,"Calohanga","Modérée",14257,5386,19642,0,0,0,0,2,0,null,null,"Benguela","Baia Farta","Calohanga",0,0,0,0]
[26,"Angola","AGO","Benguela","Baia Farta",2054,"Dombe Grande","Modérée",1061,401,1461,0,0,0,0,2,0,null,null,"Benguela","Baia Farta","Dombe Grande",0,0,0,0]
[27,"Angola","AGO","Benguela","Baia Farta",2054,"Equimina","Modérée",603,228,831,0,0,0,0,2,0,null,null,"Benguela","Baia Farta","Equimina",0,0,0,0]
[28,"Angola","AGO","Benguela","Balombo",2055,"Balombo","Faible",16449,0,16449,1,16449,0,16449,1,0,null,null,"Benguela","Balombo","Balombo",16449,0,16449,1]
[29,"Angola","AGO","Benguela","Balombo",2055,"Chindumbo","Modérée",7095,2680,9775,1,7095,2680,9775,2,0,null,null,"Benguela","Balombo","Chindumbo",7095,2680,9775,1]
[30,"Angola","AGO","Benguela","Balombo",2055,"Chingongo","Modérée",9075,3428,12503,1,9075,3428,12503,2,0,null,null,"Benguela","Balombo","Chingongo",9075,3428,12503,1]
[31,"Angola","AGO","Benguela","Balombo",2055,"Maca Mombolo","Modérée",4874,1841,6716,1,4874,1841,6716,2,0,null,null,"Benguela","Balombo","Maca Mombolo",4874,1841,6716,1]
[32,"Angola","AGO","Benguela","Benguela",2056,"Benguela/Sede","Faible",193303,0,193303,0,0,0,0,1,0,null,null,"Benguela","Benguela","Benguela/Sede",0,0,0,0]
[33,"Angola","AGO","Benguela","Bocoio",2057,"Bocoio","Forte",21828,41231,63059,1,21828,41231,63059,3,0,null,null,"Benguela","Bocoio","Bocoio",21828,41231,63059,1]
[34,"Angola","AGO","Benguela","Bocoio",2057,"Chila","Modérée",6079,2296,8375,0,0,0,0,2,0,null,null,"Benguela","Bocoio","Chila",0,0,0,0]
[35,"Angola","AGO","Benguela","Bocoio",2057,"Cubal do Lumbo","Modérée",13057,4933,17990,0,0,0,0,2,0,null,null,"Benguela","Bocoio","Cubal do Lumbo",0,0,0,0]
[36,"Angola","AGO","Benguela","Bocoio",2057,"Monte Belo","Modérée",5108,1930,7038,0,0,0,0,2,0,null,null,"Benguela","Bocoio","Monte Belo",0,0,0,0]
[37,"Angola","AGO","Benguela","Bocoio",2057,"Passe","Faible",10594,0,10594,0,0,0,0,1,0,null,null,"Benguela","Bocoio","Passe",0,0,0,0]
[38,"Angola","AGO","Benguela","Caimbambo",2061,"Caiave","Modérée",12268,4635,16902,0,0,0,0,2,0,null,null,"Benguela","Caimbambo","Caiave",0,0,0,0]
[39,"Angola","AGO","Benguela","Caimbambo",2061,"Caimbambo","Forte",5281,9974,15255,1,5281,9974,15255,3,0,null,null,"Benguela","Caimbambo","Caimbambo",5281,9974,15255,1]
[40,"Angola","AGO","Benguela","Caimbambo",2061,"Canhamela","Faible",6797,0,6797,0,0,0,0,1,0,null,null,"Benguela","Caimbambo","Canhamela",0,0,0,0]
[41,"Angola","AGO","Benguela","Caimbambo",2061,"Catengue","Modérée",1067,404,1471,0,0,0,0,2,0,null,null,"Benguela","Caimbambo","Catengue",0,0,0,0]
[42,"Angola","AGO","Benguela","Caimbambo",2061,"Viangombe","Modérée",5844,2208,8052,0,0,0,0,2,0,null,null,"Benguela","Caimbambo","Viangombe",0,0,0,0]
[43,"Angola","AGO","Benguela","Catumbela",2216,"Biopio","Non endémique",0,0,0,0,0,0,0,0,0,null,null,"Benguela","Catumbela","Biopio",0,0,0,0]
[44,"Angola","AGO","Benguela","Catumbela",2216,"Catumbela","Non endémique",0,0,0,0,0,0,0,0,0,null,null,"Benguela","Catumbela","Catumbela",0,0,0,0]
[45,"Angola","AGO","Benguela","Catumbela",2216,"Gama","Non endémique",0,0,0,0,0,0,0,0,0,null,null,"Benguela","Catumbela","Gama",0,0,0,0]
[46,"Angola","AGO","Benguela","Catumbela",2216,"Praia Bebe","Non endémique",0,0,0,0,0,0,0,0,0,null,null,"Benguela","Catumbela","Praia Bebe",0,0,0,0]
[47,"Angola","AGO","Benguela","Chongoroi",2058,"Bolonguera","Modérée",23240,8780,32020,0,0,0,0,2,0,null,null,"Benguela","Chongoroi","Bolonguera",0,0,0,0]
[48,"Angola","AGO","Benguela","Chongoroi",2058,"Camuine","Modérée",3347,1264,4611,0,0,0,0,2,0,null,null,"Benguela","Chongoroi","Camuine",0,0,0,0]
[49,"Angola","AGO","Benguela","Chongoroi",2058,"Chongoroi","Forte",3446,6509,9955,1,3446,6509,9955,3,0,null,null,"Benguela","Chongoroi","Chongoroi",3446,6509,9955,1]
[50,"Angola","AGO","Benguela","Cubal",2059,"Capupa","Modérée",57389,21680,79069,0,0,0,0,2,0,null,null,"Benguela","Cubal","Capupa",0,0,0,0]
[51,"Angola","AGO","Benguela","Cubal",2059,"Cubal","Modérée",17600,6649,24248,0,0,0,0,2,0,null,null,"Benguela","Cubal","Cubal",0,0,0,0]
[52,"Angola","AGO","Benguela","Cubal",2059,"Lambala","Modérée",21829,8247,30076,0,0,0,0,2,0,null,null,"Benguela","Cubal","Lambala",0,0,0,0]
[53,"Angola","AGO","Benguela","Cubal",2059,"Tumbulo","Forte",8348,15769,24117,1,8348,15769,24117,3,0,null,null,"Benguela","Cubal","Tumbulo",8348,15769,24117,1]
[54,"Angola","AGO","Benguela","Ganda",2060,"Babaera","Modérée",32211,12168,44379,0,0,0,0,2,0,null,null,"Benguela","Ganda","Babaera",0,0,0,0]
[55,"Angola","AGO","Benguela","Ganda",2060,"Casseque","Forte",9306,17577,26883,1,9306,17577,26883,3,0,null,null,"Benguela","Ganda","Casseque",9306,17577,26883,1]
[56,"Angola","AGO","Benguela","Ganda",2060,"Chicuma","Modérée",15402,5819,21221,0,0,0,0,2,0,null,null,"Benguela","Ganda","Chicuma",0,0,0,0]
[57,"Angola","AGO","Benguela","Ganda",2060,"Ebanga","Faible",8253,0,8253,0,0,0,0,1,0,null,null,"Benguela","Ganda","Ebanga",0,0,0,0]
[58,"Angola","AGO","Benguela","Ganda",2060,"Ganda","Modérée",15858,5990,21848,0,0,0,0,2,0,null,null,"Benguela","Ganda","Ganda",0,0,0,0]
[59,"Angola","AGO","Benguela","Lobito",2062,"Canjala","Non endémique",0,0,0,0,0,0,0,0,0,null,null,"Benguela","Lobito","Canjala",0,0,0,0]
[60,"Angola","AGO","Benguela","Lobito",2062,"Egito Praia","Faible",4709,0,4709,0,0,0,0,1,0,null,null,"Benguela","Lobito","Egito Praia",0,0,0,0]
[61,"Angola","AGO","Benguela","Lobito",2062,"Lobito","Non endémique",0,0,0,0,0,0,0,0,0,null,null,"Benguela","Lobito","Lobito",0,0,0,0]
[62,"Angola","AGO","Bie","Andulo",2063,"Andulo","Non endémique",0,0,0,0,0,0,0,0,1,null,null,"Bie","Andulo","Andulo",0,0,0,0]
[63,"Angola","AGO","Bie","Andulo",2063,"Calucinga","Faible",15577,0,15577,0,0,0,0,1,1,null,null,"Bie","Andulo","Calucinga",0,0,0,0]
[64,"Angola","AGO","Bie","Andulo",2063,"Cassumbe","Non endémique",0,0,0,0,0,0,0,0,1,null,null,"Bie","Andulo","Cassumbe",0,0,0,0]
[65,"Angola","AGO","Bie","Andulo",2063,"Chivaulo","Non endémique",0,0,0,0,0,0,0,{"$f":"IF(H67=\"Forte\",3,IF(H67=\"Modérée\",2,IF(H67=\"Faible\",1,0)))","v":0},1,null,null,"Bie","Andulo","Chivaulo",0,0,0,0]
[66,"Angola","AGO","Bie","Camacupa",2066,"Camacupa","Non endémique",0,0,0,0,0,0,0,0,1,null,null,"Bie","Camacupa","Camacupa",0,0,0,0]
[67,"Angola","AGO","Bie","Camacupa",2066,"Cuanza","Modérée",2905,1098,4003,0,0,0,0,2,1,null,null,"Bie","Camacupa","Cuanza",0,0,0,0]
[68,"Angola","AGO","Bie","Camacupa",2066,"Muinha","Modérée",3320,1254,4574,0,0,0,0,2,1,null,null,"Bie","Camacupa","Muinha",0,0,0,0]
[69,"Angola","AGO","Bie","Camacupa",2066,"Ringoma","Faible",9989,0,9989,0,0,0,0,1,1,null,null,"Bie","Camacupa","Ringoma",0,0,0,0]
[70,"Angola","AGO","Bie","Camacupa",2066,"Umpulo","Modérée",6294,2378,8672,0,0,0,0,2,1,null,null,"Bie","Camacupa","Umpulo",0,0,0,0]
[71,"Angola","AGO","Bie","Catabola",2067,"Caiuera","Faible",22034,0,22034,1,22034,0,22034,1,1,null,null,"Bie","Catabola","Caiuera",22034,0,22034,1]
[72,"Angola","AGO","Bie","Catabola",2067,"Catabola","Faible",7560,0,7560,1,7560,0,7560,1,1,null,null,"Bie","Catabola","Catabola",7560,0,7560,1]
[73,"Angola","AGO","Bie","Catabola",2067,"Chipeta","Modérée",5807,2194,8000,1,5807,2194,8000,2,1,null,null,"Bie","Catabola","Chipeta",5807,2194,8000,1]
[74,"Angola","AGO","Bie","Catabola",2067,"Chiuca","Non endémique",0,0,0,0,0,0,0,0,1,null,null,"Bie","Catabola","Chiuca",0,0,0,0]
[75,"Angola","AGO","Bie","Catabola",2067,"Sande","Non endémique",0,0,0,0,0,0,0,0,1,null,null,"Bie","Catabola","Sande",0,0,0,0]
[76,"Angola","AGO","Bie","Chinguar",2064,"Cangote","Non endémique",0,0,0,0,0,0,0,0,1,null,null,"Bie","Chinguar","Cangote",0,0,0,0]
[77,"Angola","AGO","Bie","Chinguar",2064,"Chinguar","Faible",12559,0,12559,0,0,0,0,1,1,null,null,"Bie","Chinguar","Chinguar",0,0,0,0]
[78,"Angola","AGO","Bie","Chinguar",2064,"Cutato","Non endémique",0,0,0,0,0,0,0,0,1,null,null,"Bie","Chinguar","Cutato",0,0,0,0]
[79,"Angola","AGO","Bie","Chitembo",2065,"Cachingues","Non endémique",0,0,0,0,0,0,0,0,1,null,null,"Bie","Chitembo","Cachingues",0,0,0,0]
[80,"Angola","AGO","Bie","Chitembo",2065,"Chitembo","Modérée",4875,1841,6717,0,0,0,0,2,1,null,null,"Bie","Chitembo","Chitembo",0,0,0,0]
[81,"Angola","AGO","Bie","Chitembo",2065,"Malengue","Modérée",5740,2169,7909,0,0,0,0,2,1,null,null,"Bie","Chitembo","Malengue",0,0,0,0]
[82,"Angola","AGO","Bie","Chitembo",2065,"Mumbué","Faible",945,0,945,0,0,0,0,1,1,null,null,"Bie","Chitembo","Mumbué",0,0,0,0]
[83,"Angola","AGO","Bie","Chitembo",2065,"Mutombo","Non endémique",0,0,0,0,0,0,0,0,1,null,null,"Bie","Chitembo","Mutombo",0,0,0,0]
[84,"Angola","AGO","Bie","Chitembo",2065,"Soma Cuanza","Modérée",605,228,833,0,0,0,0,2,1,null,null,"Bie","Chitembo","Soma Cuanza",0,0,0,0]
[85,"Angola","AGO","Bie","Cuemba",2068,"Cuemba","Faible",12362,0,12362,1,12362,0,12362,1,1,null,null,"Bie","Cuemba","Cuemba",12362,0,12362,1]
[86,"Angola","AGO","Bie","Cuemba",2068,"Luando","Faible",769,0,769,1,769,0,769,1,1,null,null,"Bie","Cuemba","Luando",769,0,769,1]
[87,"Angola","AGO","Bie","Cuemba",2068,"Munhango","Faible",3543,0,3543,1,3543,0,3543,1,1,null,null,"Bie","Cuemba","Munhango",3543,0,3543,1]
[88,"Angola","AGO","Bie","Cuemba",2068,"Sachinemuna","Faible",3777,0,3777,1,3777,0,3777,1,1,null,null,"Bie","Cuemba","Sachinemuna",3777,0,3777,1]
[89,"Angola","AGO","Bie","Cuito",2069,"Cambondua","Forte",110168,208096,318264,1,110168,208096,318264,3,1,null,null,"Bie","Cuito","Cambondua",110168,208096,318264,1]
[90,"Angola","AGO","Bie","Cuito",2069,"Chicala","Faible",2340,0,2340,0,0,0,0,1,1,null,null,"Bie","Cuito","Chicala",0,0,0,0]
[91,"Angola","AGO","Bie","Cuito",2069,"Cuito","Faible",6234,0,6234,0,0,0,0,1,1,null,null,"Bie","Cuito","Cuito",0,0,0,0]
[92,"Angola","AGO","Bie","Cuito",2069,"Cunje","Non endémique",0,0,0,0,0,0,0,0,1,null,null,"Bie","Cuito","Cunje",0,0,0,0]
[93,"Angola","AGO","Bie","Cuito",2069,"Trumba","Modérée",38358,14491,52849,0,0,0,0,2,1,null,null,"Bie","Cuito","Trumba",0,0,0,0]
[94,"Angola","AGO","Bie","Cunhinga",2070,"Belo Horizonte","Faible",17990,0,17990,0,0,0,0,1,1,null,null,"Bie","Cunhinga","Belo Horizonte",0,0,0,0]
[95,"Angola","AGO","Bie","Cunhinga",2070,"Cunhinga","Non endémique",0,0,0,0,0,0,0,0,1,null,null,"Bie","Cunhinga","Cunhinga",0,0,0,0]
[96,"Angola","AGO","Bie","Nharea",2071,"Caiei","Faible",19529,0,19529,1,19529,0,19529,1,1,null,null,"Bie","Nharea","Caiei",19529,0,19529,1]
[97,"Angola","AGO","Bie","Nharea",2071,"Dando","Faible",6745,0,6745,1,6745,0,6745,1,1,null,null,"Bie","Nharea","Dando",6745,0,6745,1]
[98,"Angola","AGO","Bie","Nharea",2071,"Gamba","Non endémique",0,0,0,0,0,0,0,0,1,null,null,"Bie","Nharea","Gamba",0,0,0,0]
[99,"Angola","AGO","Bie","Nharea",2071,"Lubia","Non endémique",0,0,0,0,0,0,0,0,1,null,null,"Bie","Nharea","Lubia",0,0,0,0]
[100,"Angola","AGO","Bie","Nharea",2071,"Nharea","Faible",2929,0,2929,1,2929,0,2929,1,1,null,null,"Bie","Nharea","Nharea",2929,0,2929,1]
[101,"Angola","AGO","Cabinda","Belize",2072,"Belize","Non endémique",0,0,0,0,0,0,0,0,0,null,null,"Cabinda","Belize","Belize",0,0,0,0]
[102,"Angola","AGO","Cabinda","Belize",2072,"Luali","Non endémique",0,0,0,0,0,0,0,0,0,null,null,"Cabinda","Belize","Luali",0,0,0,0]
[103,"Angola","AGO","Cabinda","Belize",2072,"Miconje","Non endémique",0,0,0,0,0,0,0,0,0,null,null,"Cabinda","Belize","Miconje",0,0,0,0]
[104,"Angola","AGO","Cabinda","Buco Zau",2073,"Buco Zau","Non endémique",0,0,0,0,0,0,0,0,0,null,null,"Cabinda","Buco Zau","Buco Zau",0,0,0,0]
[105,"Angola","AGO","Cabinda","Buco Zau",2073,"Inhuca","Faible",620,0,620,1,620,0,620,1,0,null,null,"Cabinda","Buco Zau","Inhuca",620,0,620,1]
[106,"Angola","AGO","Cabinda","Buco Zau",2073,"Necuto","Modérée",3598,1359,4956,1,3598,1359,4956,2,0,null,null,"Cabinda","Buco Zau","Necuto",3598,1359,4956,1]
[107,"Angola","AGO","Cabinda","Cabinda",2074,"Cabinda","Forte",207812,392534,600346,1,207812,392534,600346,3,0,null,null,"Cabinda","Cabinda","Cabinda",207812,392534,600346,1]
[108,"Angola","AGO","Cabinda","Cabinda",2074,"Malembo","Faible",3253,0,3253,0,0,0,0,1,0,null,null,"Cabinda","Cabinda","Malembo",0,0,0,0]
[109,"Angola","AGO","Cabinda","Cabinda",2074,"Tando Zinze","Faible",6580,0,6580,0,0,0,0,1,0,null,null,"Cabinda","Cabinda","Tando Zinze",0,0,0,0]
[110,"Angola","AGO","Cabinda","Cacongo",2213,"Cacongo","Faible",8280,0,8280,1,8280,0,8280,1,0,null,null,"Cabinda","Cacongo","Cacongo",8280,0,8280,1]
[111,"Angola","AGO","Cabinda","Cacongo",2213,"Dinge","Faible",2362,0,2362,1,2362,0,2362,1,0,null,null,"Cabinda","Cacongo","Dinge",2362,0,2362,1]
[112,"Angola","AGO","Cabinda","Cacongo",2213,"Massabi","Faible",2973,0,2973,1,2973,0,2973,1,0,null,null,"Cabinda","Cacongo","Massabi",2973,0,2973,1]
[113,"Angola","AGO","Cuando Cubango","Calai",2078,"Calai","Modérée",7092,2679,9772,1,7092,2679,9772,2,1,null,null,"Cuando Cubango","Calai","Calai",7092,2679,9772,1]
[114,"Angola","AGO","Cuando Cubango","Calai",2078,"Maue","Faible",293,0,293,1,293,0,293,1,1,null,null,"Cuando Cubango","Calai","Maue",293,0,293,1]
[115,"Angola","AGO","Cuando Cubango","Calai",2078,"Mavengue","Faible",611,0,611,1,611,0,611,1,1,null,null,"Cuando Cubango","Calai","Mavengue",611,0,611,1]
[116,"Angola","AGO","Cuando Cubango","Cuangar",2076,"Caila","Faible",4694,0,4694,1,4694,0,4694,1,1,null,null,"Cuando Cubango","Cuangar","Caila",4694,0,4694,1]
[117,"Angola","AGO","Cuando Cubango","Cuangar",2076,"Cuangar","Modérée",4691,1773,6464,1,4691,1773,6464,2,1,null,null,"Cuando Cubango","Cuangar","Cuangar",4691,1773,6464,1]
[118,"Angola","AGO","Cuando Cubango","Cuangar",2076,"Savate","Modérée",659,250,909,1,659,250,909,2,1,null,null,"Cuando Cubango","Cuangar","Savate",659,250,909,1]
[119,"Angola","AGO","Cuando Cubango","Cuchi",2079,"Chinguanja","Faible",1644,0,1644,0,0,0,0,1,1,null,null,"Cuando Cubango","Cuchi","Chinguanja",0,0,0,0]
[120,"Angola","AGO","Cuando Cubango","Cuchi",2079,"Cuchi","Modérée",4876,1842,6719,0,0,0,0,2,1,null,null,"Cuando Cubango","Cuchi","Cuchi",0,0,0,0]
[121,"Angola","AGO","Cuando Cubango","Cuchi",2079,"Cutato","Modérée",6841,2584,9425,0,0,0,0,2,1,null,null,"Cuando Cubango","Cuchi","Cutato",0,0,0,0]
[122,"Angola","AGO","Cuando Cubango","Cuchi",2079,"Vissati","Non endémique",0,0,0,0,0,0,0,0,1,null,null,"Cuando Cubango","Cuchi","Vissati",0,0,0,0]
[123,"Angola","AGO","Cuando Cubango","Cuito Cuanavale",2080,"Baixo Longa","Faible",8038,0,8038,1,8038,0,8038,1,1,null,null,"Cuando Cubango","Cuito Cuanavale","Baixo Longa",8038,0,8038,1]
[124,"Angola","AGO","Cuando Cubango","Cuito Cuanavale",2080,"Cuito Cuanavale","Modérée",5331,2014,7345,1,5331,2014,7345,2,1,null,null,"Cuando Cubango","Cuito Cuanavale","Cuito Cuanavale",5331,2014,7345,1]
[125,"Angola","AGO","Cuando Cubango","Cuito Cuanavale",2080,"Longa","Faible",565,0,565,1,565,0,565,1,1,null,null,"Cuando Cubango","Cuito Cuanavale","Longa",565,0,565,1]
[126,"Angola","AGO","Cuando Cubango","Cuito Cuanavale",2080,"Lupire","Faible",478,0,478,1,478,0,478,1,1,null,null,"Cuando Cubango","Cuito Cuanavale","Lupire",478,0,478,1]
[127,"Angola","AGO","Cuando Cubango","Dirico",2077,"Dirico","Modérée",2312,873,3185,0,0,0,0,2,1,null,null,"Cuando Cubango","Dirico","Dirico",0,0,0,0]
[128,"Angola","AGO","Cuando Cubango","Dirico",2077,"Mucusso","Faible",1756,0,1756,0,0,0,0,1,1,null,null,"Cuando Cubango","Dirico","Mucusso",0,0,0,0]
[129,"Angola","AGO","Cuando Cubango","Dirico",2077,"Xamavera","Faible",1271,0,1271,0,0,0,0,{"$f":"IF(H131=\"Forte\",3,IF(H131=\"Modérée\",2,IF(H131=\"Faible\",1,0)))","v":1},1,null,null,"Cuando Cubango","Dirico","Xamavera",0,0,0,0]
[130,"Angola","AGO","Cuando Cubango","Mavinga",2081,"Cunjamba","Non endémique",0,0,0,0,0,0,0,0,1,null,null,"Cuando Cubango","Mavinga","Cunjamba",0,0,0,0]
[131,"Angola","AGO","Cuando Cubango","Mavinga",2081,"Cutuile","Faible",376,0,376,0,0,0,0,1,1,null,null,"Cuando Cubango","Mavinga","Cutuile",0,0,0,0]
[132,"Angola","AGO","Cuando Cubango","Mavinga",2081,"Luengue","Faible",824,0,824,0,0,0,0,1,1,null,null,"Cuando Cubango","Mavinga","Luengue",0,0,0,0]
[133,"Angola","AGO","Cuando Cubango","Mavinga",2081,"Mavinga","Faible",1252,0,1252,0,0,0,0,1,1,null,null,"Cuando Cubango","Mavinga","Mavinga",0,0,0,0]
[134,"Angola","AGO","Cuando Cubango","Menongue",2082,"Caiundo","Modérée",5176,1955,7131,0,0,0,0,2,1,null,null,"Cuando Cubango","Menongue","Caiundo",0,0,0,0]
[135,"Angola","AGO","Cuando Cubango","Menongue",2082,"Cueio","Faible",1499,0,1499,0,0,0,0,1,1,null,null,"Cuando Cubango","Menongue","Cueio",0,0,0,0]
[136,"Angola","AGO","Cuando Cubango","Menongue",2082,"Menongue","Modérée",103259,39009,142267,0,0,0,0,2,1,null,null,"Cuando Cubango","Menongue","Menongue",0,0,0,0]
[137,"Angola","AGO","Cuando Cubango","Menongue",2082,"Missombo","Modérée",3342,1262,4604,0,0,0,0,2,1,null,null,"Cuando Cubango","Menongue","Missombo",0,0,0,0]
[138,"Angola","AGO","Cuando Cubango","Nancova",2083,"Nancova","Non endémique",0,0,0,0,0,0,0,0,1,null,null,"Cuando Cubango","Nancova","Nancova",0,0,0,0]
[139,"Angola","AGO","Cuando Cubango","Nancova",2083,"Rito","Non endémique",0,0,0,0,0,0,0,0,1,null,null,"Cuando Cubango","Nancova","Rito",0,0,0,0]
[140,"Angola","AGO","Cuando Cubango","Rivungo",2084,"Luiana","Non endémique",0,0,0,0,0,0,0,0,1,null,null,"Cuando Cubango","Rivungo","Luiana",0,0,0,0]
[141,"Angola","AGO","Cuando Cubango","Rivungo",2084,"Rivungo","Faible",5559,0,5559,0,0,0,0,1,1,null,null,"Cuando Cubango","Rivungo","Rivungo",0,0,0,0]
[142,"Angola","AGO","Cuando Cubango","Rivungo",2084,"Xipundo","Faible",3162,0,3162,0,0,0,0,1,1,null,null,"Cuando Cubango","Rivungo","Xipundo",0,0,0,0]
[179,"Angola","AGO","Cuanza Norte","Ambaca",2085,"Bindo","Non endémique",0,0,0,0,0,0,0,0,1,null,null,"Cuanza Norte","Ambaca","Bindo",0,0,0,0]
[180,"Angola","AGO","Cuanza Norte","Ambaca",2085,"Camabatela","Non endémique",0,0,0,0,0,0,0,0,1,null,null,"Cuanza Norte","Ambaca","Camabatela",0,0,0,0]
[181,"Angola","AGO","Cuanza Norte","Ambaca",2085,"Luinga","Non endémique",0,0,0,0,0,0,0,0,1,null,null,"Cuanza Norte","Ambaca","Luinga",0,0,0,0]
[182,"Angola","AGO","Cuanza Norte","Ambaca",2085,"Maua","Non endémique",0,0,0,0,0,0,0,0,1,null,null,"Cuanza Norte","Ambaca","Maua",0,0,0,0]
[183,"Angola","AGO","Cuanza Norte","Ambaca",2085,"Tango","Faible",1341,0,1341,0,0,0,0,1,1,null,null,"Cuanza Norte","Ambaca","Tango",0,0,0,0]
[184,"Angola","AGO","Cuanza Norte","Banga",2086,"Aldeia Nova","Non endémique",0,0,0,0,0,0,0,0,1,null,null,"Cuanza Norte","Banga","Aldeia Nova",0,0,0,0]
[185,"Angola","AGO","Cuanza Norte","Banga",2086,"Banga","Non endémique",0,0,0,0,0,0,0,0,1,null,null,"Cuanza Norte","Banga","Banga",0,0,0,0]
[186,"Angola","AGO","Cuanza Norte","Banga",2086,"Caculo Cabaça","Non endémique",0,0,0,0,0,0,0,0,1,null,null,"Cuanza Norte","Banga","Caculo Cabaça",0,0,0,0]
[187,"Angola","AGO","Cuanza Norte","Banga",2086,"Cariamba","Faible",579,0,579,0,0,0,0,1,1,null,null,"Cuanza Norte","Banga","Cariamba",0,0,0,0]
[188,"Angola","AGO","Cuanza Norte","Bolongongo",2087,"Bolongongo","Non endémique",0,0,0,0,0,0,0,0,1,null,null,"Cuanza Norte","Bolongongo","Bolongongo",0,0,0,0]
[189,"Angola","AGO","Cuanza Norte","Bolongongo",2087,"Quiquiemba","Non endémique",0,0,0,0,0,0,0,0,1,null,null,"Cuanza Norte","Bolongongo","Quiquiemba",0,0,0,0]
[190,"Angola","AGO","Cuanza Norte","Bolongongo",2087,"Terreiro","Non endémique",0,0,0,0,0,0,0,0,1,null,null,"Cuanza Norte","Bolongongo","Terreiro",0,0,0,0]
[191,"Angola","AGO","Cuanza Norte","Cambambe",2091,"Dange ya Menha","Forte",25002,47227,72229,1,25002,47227,72229,3,1,null,null,"Cuanza Norte","Cambambe","Dange ya Menha",25002,47227,72229,1]
[192,"Angola","AGO","Cuanza Norte","Cambambe",2091,"Dondo","Modérée",3680,1391,5070,0,0,0,0,2,1,null,null,"Cuanza Norte","Cambambe","Dondo",0,0,0,0]
[193,"Angola","AGO","Cuanza Norte","Cambambe",2091,"Massangano","Faible",874,0,874,0,0,0,0,1,1,null,null,"Cuanza Norte","Cambambe","Massangano",0,0,0,0]
[194,"Angola","AGO","Cuanza Norte","Cambambe",2091,"Sao Pedro da Quilemba","Non endémique",0,0,0,0,0,0,0,0,1,null,null,"Cuanza Norte","Cambambe","Sao Pedro da Quilemba",0,0,0,0]
[195,"Angola","AGO","Cuanza Norte","Cambambe",2091,"Zenza do Itombe","Modérée",517,195,712,0,0,0,0,2,1,null,null,"Cuanza Norte","Cambambe","Zenza do Itombe",0,0,0,0]
[196,"Angola","AGO","Cuanza Norte","Cazengo",2092,"Canhoca","Modérée",58861,22237,81098,0,0,0,0,2,1,null,null,"Cuanza Norte","Cazengo","Canhoca",0,0,0,0]
[197,"Angola","AGO","Cuanza Norte","Cazengo",2092,"Ndalatando","Modérée",1015,383,1398,0,0,0,0,2,1,null,null,"Cuanza Norte","Cazengo","Ndalatando",0,0,0,0]
[198,"Angola","AGO","Cuanza Norte","Golungo Alto",2090,"Cambondo","Faible",755,0,755,0,0,0,0,1,1,null,null,"Cuanza Norte","Golungo Alto","Cambondo",0,0,0,0]
[199,"Angola","AGO","Cuanza Norte","Golungo Alto",2090,"Cerca","Non endémique",0,0,0,0,0,0,0,0,1,null,null,"Cuanza Norte","Golungo Alto","Cerca",0,0,0,0]
[200,"Angola","AGO","Cuanza Norte","Golungo Alto",2090,"Golungo Alto","Forte",1397,2637,4034,1,1397,2637,4034,3,1,null,null,"Cuanza Norte","Golungo Alto","Golungo Alto",1397,2637,4034,1]
[201,"Angola","AGO","Cuanza Norte","Golungo Alto",2090,"Quiluanje","Faible",1340,0,1340,0,0,0,0,1,1,null,null,"Cuanza Norte","Golungo Alto","Quiluanje",0,0,0,0]
[202,"Angola","AGO","Cuanza Norte","Lucala",2094,"Lucala","Modérée",7580,2863,10444,0,0,0,0,2,1,null,null,"Cuanza Norte","Lucala","Lucala",0,0,0,0]
[203,"Angola","AGO","Cuanza Norte","Lucala",2094,"Quiangombe","Modérée",325,122,447,0,0,0,0,2,1,null,null,"Cuanza Norte","Lucala","Quiangombe",0,0,0,0]
[204,"Angola","AGO","Cuanza Norte","Ngonguembo",2217,"Camame","Faible",1764,0,1764,0,0,0,0,1,1,null,null,"Cuanza Norte","Ngonguembo","Camame",0,0,0,0]
[205,"Angola","AGO","Cuanza Norte","Ngonguembo",2217,"Cavunga","Faible",705,0,705,0,0,0,0,1,1,null,null,"Cuanza Norte","Ngonguembo","Cavunga",0,0,0,0]
[206,"Angola","AGO","Cuanza Norte","Ngonguembo",2217,"Quilombo dos Dembos","Faible",173,0,173,0,0,0,0,1,1,null,null,"Cuanza Norte","Ngonguembo","Quilombo dos Dembos",0,0,0,0]
[207,"Angola","AGO","Cuanza Norte","Quiculungo",2093,"Quiculungo","Forte",3393,6408,9802,1,3393,6408,9802,3,1,null,null,"Cuanza Norte","Quiculungo","Quiculungo",3393,6408,9802,1]
[208,"Angola","AGO","Cuanza Norte","Samba Caju",2097,"Samba Caju","Non endémique",0,0,0,0,0,0,0,0,1,null,null,"Cuanza Norte","Samba Caju","Samba Caju",0,0,0,0]
[209,"Angola","AGO","Cuanza Norte","Samba Caju",2097,"Samba Lucala","Faible",1537,0,1537,0,0,0,0,1,1,null,null,"Cuanza Norte","Samba Caju","Samba Lucala",0,0,0,0]
[143,"Angola","AGO","Cuanza Sul","Amboim",2098,"Assango","Modérée",64768,24468,89236,0,0,0,0,2,1,null,null,"Cuanza Sul","Amboim","Assango",0,0,0,0]
[144,"Angola","AGO","Cuanza Sul","Amboim",2098,"Gabela","Modérée",20238,7646,27884,0,0,0,0,2,1,null,null,"Cuanza Sul","Amboim","Gabela",0,0,0,0]
[145,"Angola","AGO","Cuanza Sul","Cassongue",2100,"Atome","Faible",15775,0,15775,1,15775,0,15775,1,1,null,null,"Cuanza Sul","Cassongue","Atome",15775,0,15775,1]
[146,"Angola","AGO","Cuanza Sul","Cassongue",2100,"Cassongue","Non endémique",0,0,0,0,0,0,0,0,1,null,null,"Cuanza Sul","Cassongue","Cassongue",0,0,0,0]
[147,"Angola","AGO","Cuanza Sul","Cassongue",2100,"Dumbi","Non endémique",0,0,0,0,0,0,0,0,1,null,null,"Cuanza Sul","Cassongue","Dumbi",0,0,0,0]
[148,"Angola","AGO","Cuanza Sul","Cassongue",2100,"Pambangala","Modérée",4017,1517,5533,1,4017,1517,5533,2,1,null,null,"Cuanza Sul","Cassongue","Pambangala",4017,1517,5533,1]
[149,"Angola","AGO","Cuanza Sul","Cela (WAKU KUNGO)",2167,"Quissanga Cunjo","Non endémique",0,0,0,0,0,0,0,0,1,null,null,"Cuanza Sul","Cela (WAKU KUNGO)","Quissanga Cunjo",0,0,0,0]
[150,"Angola","AGO","Cuanza Sul","Cela (WAKU KUNGO)",2167,"Sanga","Non endémique",0,0,0,0,0,0,0,0,1,null,null,"Cuanza Sul","Cela (WAKU KUNGO)","Sanga",0,0,0,0]
[151,"Angola","AGO","Cuanza Sul","Cela (WAKU KUNGO)",2167,"Waku Kungo","Modérée",16326,6167,22493,1,16326,6167,22493,2,1,null,null,"Cuanza Sul","Cela (WAKU KUNGO)","Waku Kungo",16326,6167,22493,1]
[152,"Angola","AGO","Cuanza Sul","Conda",2103,"Conda","Modérée",17842,6740,24582,1,17842,6740,24582,2,1,null,null,"Cuanza Sul","Conda","Conda",17842,6740,24582,1]
[153,"Angola","AGO","Cuanza Sul","Conda",2103,"Cunjo","Faible",13532,0,13532,1,13532,0,13532,1,1,null,null,"Cuanza Sul","Conda","Cunjo",13532,0,13532,1]
[154,"Angola","AGO","Cuanza Sul","Ebo",2099,"Conde","Modérée",25764,9733,35497,0,0,0,0,2,1,null,null,"Cuanza Sul","Ebo","Conde",0,0,0,0]
[155,"Angola","AGO","Cuanza Sul","Ebo",2099,"Ebo","Faible",20892,0,20892,0,0,0,0,1,1,null,null,"Cuanza Sul","Ebo","Ebo",0,0,0,0]
[156,"Angola","AGO","Cuanza Sul","Ebo",2099,"Quissanje","Modérée",11242,4247,15488,0,0,0,0,2,1,null,null,"Cuanza Sul","Ebo","Quissanje",0,0,0,0]
[157,"Angola","AGO","Cuanza Sul","Libolo",2104,"Cabuta","Modérée",21286,8041,29327,0,0,0,0,2,1,null,null,"Cuanza Sul","Libolo","Cabuta",0,0,0,0]
[158,"Angola","AGO","Cuanza Sul","Libolo",2104,"Calulo","Forte",4235,8001,12237,1,4235,8001,12237,3,1,null,null,"Cuanza Sul","Libolo","Calulo",4235,8001,12237,1]
[159,"Angola","AGO","Cuanza Sul","Libolo",2104,"Munenga","Modérée",4916,1858,6774,0,0,0,0,2,1,null,null,"Cuanza Sul","Libolo","Munenga",0,0,0,0]
[160,"Angola","AGO","Cuanza Sul","Libolo",2104,"Quissongo","Modérée",1843,696,2540,0,0,0,0,2,1,null,null,"Cuanza Sul","Libolo","Quissongo",0,0,0,0]
[161,"Angola","AGO","Cuanza Sul","Mussende",2105,"Mussende","Modérée",22358,8446,30804,0,0,0,0,2,1,null,null,"Cuanza Sul","Mussende","Mussende",0,0,0,0]
[162,"Angola","AGO","Cuanza Sul","Mussende",2105,"Quienha","Faible",868,0,868,0,0,0,0,{"$f":"IF(H195=\"Forte\",3,IF(H195=\"Modérée\",2,IF(H195=\"Faible\",1,0)))","v":1},1,null,null,"Cuanza Sul","Mussende","Quienha",0,0,0,0]
[163,"Angola","AGO","Cuanza Sul","Mussende",2105,"Sao Lucas","Non endémique",0,0,0,0,0,0,0,0,1,null,null,"Cuanza Sul","Mussende","Sao Lucas",0,0,0,0]
[164,"Angola","AGO","Cuanza Sul","Porto Amboim",2106,"Capolo","Forte",38397,72528,110925,1,38397,72528,110925,3,1,null,null,"Cuanza Sul","Porto Amboim","Capolo",38397,72528,110925,1]
[165,"Angola","AGO","Cuanza Sul","Porto Amboim",2106,"Porto Amboim","Forte",5771,10900,16670,1,5771,10900,16670,3,1,null,null,"Cuanza Sul","Porto Amboim","Porto Amboim",5771,10900,16670,1]
[166,"Angola","AGO","Cuanza Sul","Quibala",2101,"Cariango","Faible",35330,0,35330,1,35330,0,35330,1,1,null,null,"Cuanza Sul","Quibala","Cariango",35330,0,35330,1]
[167,"Angola","AGO","Cuanza Sul","Quibala",2101,"Dala Cachibo","Non endémique",0,0,0,0,0,0,0,0,1,null,null,"Cuanza Sul","Quibala","Dala Cachibo",0,0,0,0]
[168,"Angola","AGO","Cuanza Sul","Quibala",2101,"Lonhe","Non endémique",0,0,0,0,0,0,0,0,1,null,null,"Cuanza Sul","Quibala","Lonhe",0,0,0,0]
[169,"Angola","AGO","Cuanza Sul","Quibala",2101,"Quibala","Modérée",4694,1774,6468,1,4694,1774,6468,2,1,null,null,"Cuanza Sul","Quibala","Quibala",4694,1774,6468,1]
[170,"Angola","AGO","Cuanza Sul","Quilenda",2102,"Quilenda","Modérée",28630,10815,39445,0,0,0,0,2,1,null,null,"Cuanza Sul","Quilenda","Quilenda",0,0,0,0]
[171,"Angola","AGO","Cuanza Sul","Quilenda",2102,"Quirimbo","Forte",5607,10591,16199,1,5607,10591,16199,3,1,null,null,"Cuanza Sul","Quilenda","Quirimbo",5607,10591,16199,1]
[172,"Angola","AGO","Cuanza Sul","Seles",2107,"Amboiva","Forte",40237,76004,116241,1,40237,76004,116241,3,1,null,null,"Cuanza Sul","Seles","Amboiva",40237,76004,116241,1]
[173,"Angola","AGO","Cuanza Sul","Seles",2107,"Botera","Faible",18120,0,18120,0,0,0,0,1,1,null,null,"Cuanza Sul","Seles","Botera",0,0,0,0]
[174,"Angola","AGO","Cuanza Sul","Seles",2107,"Seles","Faible",7253,0,7253,0,0,0,0,1,1,null,null,"Cuanza Sul","Seles","Seles",0,0,0,0]
[175,"Angola","AGO","Cuanza Sul","Sumbe",2108,"Gangula","Modérée",73467,27755,101222,1,73467,27755,101222,2,1,null,null,"Cuanza Sul","Sumbe","Gangula",73467,27755,101222,1]
[176,"Angola","AGO","Cuanza Sul","Sumbe",2108,"Gungo","Non endémique",0,0,0,0,0,0,0,0,1,null,null,"Cuanza Sul","Sumbe","Gungo",0,0,0,0]
[177,"Angola","AGO","Cuanza Sul","Sumbe",2108,"Quicombo","Non endémique",0,0,0,0,0,0,0,0,1,null,null,"Cuanza Sul","Sumbe","Quicombo",0,0,0,0]
[178,"Angola","AGO","Cuanza Sul","Sumbe",2108,"Sumbe","Modérée",4501,1701,6202,1,4501,1701,6202,2,1,null,null,"Cuanza Sul","Sumbe","Sumbe",4501,1701,6202,1]
[210,"Angola","AGO","Cunene","Cahama",2110,"Cahama","Faible",14541,0,14541,0,0,0,0,1,0,null,null,"Cunene","Cahama","Cahama",0,0,0,0]
[211,"Angola","AGO","Cunene","Cahama",2110,"Otchinjau","Faible",10450,0,10450,0,0,0,0,1,0,null,null,"Cunene","Cahama","Otchinjau",0,0,0,0]
[212,"Angola","AGO","Cunene","Cuanhama",2113,"Evale","Forte",67028,126610,193638,1,67028,126610,193638,3,0,null,null,"Cunene","Cuanhama","Evale",67028,126610,193638,1]
[213,"Angola","AGO","Cunene","Cuanhama",2113,"Mongwa","Non endémique",0,0,0,0,0,0,0,0,0,null,null,"Cunene","Cuanhama","Mongwa",0,0,0,0]
[214,"Angola","AGO","Cunene","Cuanhama",2113,"Nehone Cafima","Faible",19756,0,19756,1,19756,0,19756,1,0,null,null,"Cunene","Cuanhama","Nehone Cafima",19756,0,19756,1]
[215,"Angola","AGO","Cunene","Cuanhama",2113,"Ondjiva","Modérée",17917,6769,24686,1,17917,6769,24686,2,0,null,null,"Cunene","Cuanhama","Ondjiva",17917,6769,24686,1]
[216,"Angola","AGO","Cunene","Cuanhama",2113,"Tchomporo Oximolo","Modérée",1851,699,2550,1,1851,699,2550,2,0,null,null,"Cunene","Cuanhama","Tchomporo Oximolo",1851,699,2550,1]
[217,"Angola","AGO","Cunene","Curoca",2111,"Chitado","Modérée",6393,2416,8809,0,0,0,0,2,0,null,null,"Cunene","Curoca","Chitado",0,0,0,0]
[218,"Angola","AGO","Cunene","Curoca",2111,"Oncocua","Faible",8262,0,8262,0,0,0,0,1,0,null,null,"Cunene","Curoca","Oncocua",0,0,0,0]
[219,"Angola","AGO","Cunene","Cuvelai",2112,"Calonga","Faible",9079,0,9079,1,9079,0,9079,1,0,null,null,"Cunene","Cuvelai","Calonga",9079,0,9079,1]
[220,"Angola","AGO","Cunene","Cuvelai",2112,"Cubati","Modérée",2269,857,3125,1,2269,857,3125,2,0,null,null,"Cunene","Cuvelai","Cubati",2269,857,3125,1]
[221,"Angola","AGO","Cunene","Cuvelai",2112,"Mukolongodjo","Modérée",1409,532,1941,1,1409,532,1941,2,0,null,null,"Cunene","Cuvelai","Mukolongodjo",1409,532,1941,1]
[222,"Angola","AGO","Cunene","Cuvelai",2112,"Mupa","Forte",7718,14579,22297,1,7718,14579,22297,3,0,null,null,"Cunene","Cuvelai","Mupa",7718,14579,22297,1]
[223,"Angola","AGO","Cunene","Namacunde",2114,"Chiede","Modérée",30783,11629,42412,0,0,0,0,2,0,null,null,"Cunene","Namacunde","Chiede",0,0,0,0]
[224,"Angola","AGO","Cunene","Namacunde",2114,"Namacunde","Faible",19885,0,19885,0,0,0,0,1,0,null,null,"Cunene","Namacunde","Namacunde",0,0,0,0]
[225,"Angola","AGO","Cunene","Ombadja",2115,"Humbe","Faible",25172,0,25172,1,25172,0,25172,1,0,null,null,"Cunene","Ombadja","Humbe",25172,0,25172,1]
[226,"Angola","AGO","Cunene","Ombadja",2115,"Mucope","Modérée",21163,7995,29159,1,21163,7995,29159,2,0,null,null,"Cunene","Ombadja","Mucope",21163,7995,29159,1]
[227,"Angola","AGO","Cunene","Ombadja",2115,"Naulila","Faible",12836,0,12836,1,12836,0,12836,1,0,null,null,"Cunene","Ombadja","Naulila",12836,0,12836,1]
[228,"Angola","AGO","Cunene","Ombadja",2115,"Ombala yo Mungu","Non endémique",0,0,0,0,0,0,0,0,0,null,null,"Cunene","Ombadja","Ombala yo Mungu",0,0,0,0]
[229,"Angola","AGO","Cunene","Ombadja",2115,"Xangongo","Forte",21707,41001,62708,1,21707,41001,62708,3,0,null,null,"Cunene","Ombadja","Xangongo",21707,41001,62708,1]
[230,"Angola","AGO","Huambo","Bailundo",2116,"Bailundo","Faible",37141,0,37141,0,0,0,0,1,1,null,null,"Huambo","Bailundo","Bailundo",0,0,0,0]
[231,"Angola","AGO","Huambo","Bailundo",2116,"Bimbe","Non endémique",0,0,0,0,0,0,0,0,1,null,null,"Huambo","Bailundo","Bimbe",0,0,0,0]
[232,"Angola","AGO","Huambo","Bailundo",2116,"Hengue","Faible",21589,0,21589,0,0,0,0,1,1,null,null,"Huambo","Bailundo","Hengue",0,0,0,0]
[233,"Angola","AGO","Huambo","Bailundo",2116,"Lunge","Modérée",16428,6206,22634,0,0,0,0,2,1,null,null,"Huambo","Bailundo","Lunge",0,0,0,0]
[234,"Angola","AGO","Huambo","Bailundo",2116,"Luvemba","Non endémique",0,0,0,0,0,0,0,0,1,null,null,"Huambo","Bailundo","Luvemba",0,0,0,0]
[235,"Angola","AGO","Huambo","Caala",2120,"Caala","Faible",50689,0,50689,0,0,0,0,1,1,null,null,"Huambo","Caala","Caala",0,0,0,0]
[236,"Angola","AGO","Huambo","Caala",2120,"Calenga","Modérée",22595,8536,31131,0,0,0,0,2,1,null,null,"Huambo","Caala","Calenga",0,0,0,0]
[237,"Angola","AGO","Huambo","Caala",2120,"Catata","Modérée",12222,4617,16840,0,0,0,0,2,1,null,null,"Huambo","Caala","Catata",0,0,0,0]
[238,"Angola","AGO","Huambo","Caala",2120,"Cuima","Forte",15999,30219,46218,1,15999,30219,46218,3,0,null,null,"Huambo","Caala","Cuima",15999,30219,46218,1]
[239,"Angola","AGO","Huambo","Cachiungo",2121,"Cachiungo","Faible",25224,0,25224,0,0,0,0,1,1,null,null,"Huambo","Cachiungo","Cachiungo",0,0,0,0]
[240,"Angola","AGO","Huambo","Cachiungo",2121,"Chinhama","Faible",10141,0,10141,0,0,0,0,1,1,null,null,"Huambo","Cachiungo","Chinhama",0,0,0,0]
[241,"Angola","AGO","Huambo","Cachiungo",2121,"Chiumbo","Faible",8415,0,8415,0,0,0,0,1,1,null,null,"Huambo","Cachiungo","Chiumbo",0,0,0,0]
[242,"Angola","AGO","Huambo","CHICALA CHOLOHANGA",2125,"Chiaca","Modérée",10033,3791,13823,0,0,0,0,2,1,null,null,"Huambo","CHICALA CHOLOHANGA","Chiaca",0,0,0,0]
[243,"Angola","AGO","Huambo","CHICALA CHOLOHANGA",2125,"Mbave","Faible",3810,0,3810,0,0,0,0,1,1,null,null,"Huambo","CHICALA CHOLOHANGA","Mbave",0,0,0,0]
[244,"Angola","AGO","Huambo","CHICALA CHOLOHANGA",2125,"Sambo","Modérée",12672,4787,17459,0,0,0,0,2,1,null,null,"Huambo","CHICALA CHOLOHANGA","Sambo",0,0,0,0]
[245,"Angola","AGO","Huambo","CHICALA CHOLOHANGA",2125,"Samboto","Forte",11085,20940,32025,1,11085,20940,32025,3,0,null,null,"Huambo","CHICALA CHOLOHANGA","Samboto",11085,20940,32025,1]
[246,"Angola","AGO","Huambo","CHINDJENJE",2117,"Chilata","Faible",6551,0,6551,0,0,0,0,1,1,null,null,"Huambo","CHINDJENJE","Chilata",0,0,0,0]
[247,"Angola","AGO","Huambo","CHINDJENJE",2117,"Chinjenje","Forte",4493,8487,12980,1,4493,8487,12980,3,0,null,null,"Huambo","CHINDJENJE","Chinjenje",4493,8487,12980,1]
[248,"Angola","AGO","Huambo","Ecunha",2118,"Ecunha","Non endémique",0,0,0,0,0,0,0,0,1,null,null,"Huambo","Ecunha","Ecunha",0,0,0,0]
[249,"Angola","AGO","Huambo","Ecunha",2118,"Quipeio","Non endémique",0,0,0,0,0,0,0,0,1,null,null,"Huambo","Ecunha","Quipeio",0,0,0,0]
[250,"Angola","AGO","Huambo","Huambo",2119,"Calima","Forte",227096,428960,656057,1,227096,428960,656057,3,0,null,null,"Huambo","Huambo","Calima",227096,428960,656057,1]
[251,"Angola","AGO","Huambo","Huambo",2119,"Chipipa","Non endémique",0,0,0,0,0,0,0,0,1,null,null,"Huambo","Huambo","Chipipa",0,0,0,0]
[252,"Angola","AGO","Huambo","Huambo",2119,"Huambo","Modérée",12053,4554,16607,0,0,0,0,2,1,null,null,"Huambo","Huambo","Huambo",0,0,0,0]
[253,"Angola","AGO","Huambo","Londuimbali",2122,"Alto Hama","Modérée",13151,4968,18118,0,0,0,0,2,1,null,null,"Huambo","Londuimbali","Alto Hama",0,0,0,0]
[254,"Angola","AGO","Huambo","Londuimbali",2122,"Cumbira","Forte",5165,9755,14920,1,5165,9755,14920,3,0,null,null,"Huambo","Londuimbali","Cumbira",5165,9755,14920,1]
[255,"Angola","AGO","Huambo","Londuimbali",2122,"Galanga","Faible",12385,0,12385,0,0,0,0,1,1,null,null,"Huambo","Londuimbali","Galanga",0,0,0,0]
[256,"Angola","AGO","Huambo","Londuimbali",2122,"Londuimbali","Non endémique",0,0,0,0,0,0,0,0,1,null,null,"Huambo","Londuimbali","Londuimbali",0,0,0,0]
[257,"Angola","AGO","Huambo","Londuimbali",2122,"Ussoque","Faible",13300,0,13300,0,0,0,0,{"$f":"IF(H259=\"Forte\",3,IF(H259=\"Modérée\",2,IF(H259=\"Faible\",1,0)))","v":1},1,null,null,"Huambo","Londuimbali","Ussoque",0,0,0,0]
[258,"Angola","AGO","Huambo","Longonjo",2123,"Chilata","Forte",10443,19726,30168,1,10443,19726,30168,3,0,null,null,"Huambo","Longonjo","Chilata",10443,19726,30168,1]
[259,"Angola","AGO","Huambo","Longonjo",2123,"Iava","Faible",8371,0,8371,0,0,0,0,1,1,null,null,"Huambo","Longonjo","Iava",0,0,0,0]
[260,"Angola","AGO","Huambo","Longonjo",2123,"Lepi","Modérée",4661,1760,6421,0,0,0,0,2,1,null,null,"Huambo","Longonjo","Lepi",0,0,0,0]
[261,"Angola","AGO","Huambo","Longonjo",2123,"Longonjo","Modérée",9939,3755,13694,0,0,0,0,2,1,null,null,"Huambo","Longonjo","Longonjo",0,0,0,0]
[262,"Angola","AGO","Huambo","Mungo",2124,"Cambuengo","Non endémique",0,0,0,0,0,0,0,0,1,null,null,"Huambo","Mungo","Cambuengo",0,0,0,0]
[263,"Angola","AGO","Huambo","Mungo",2124,"Mungo","Non endémique",0,0,0,0,0,0,0,0,1,null,null,"Huambo","Mungo","Mungo",0,0,0,0]
[264,"Angola","AGO","Huambo","Ucuma",2126,"Cacoma","Modérée",11732,4433,16165,0,0,0,0,2,1,null,null,"Huambo","Ucuma","Cacoma",0,0,0,0]
[265,"Angola","AGO","Huambo","Ucuma",2126,"Mundundo","Modérée",5141,1942,7083,0,0,0,0,2,1,null,null,"Huambo","Ucuma","Mundundo",0,0,0,0]
[266,"Angola","AGO","Huambo","Ucuma",2126,"Ucuma","Modérée",3099,1171,4270,0,0,0,0,2,1,null,null,"Huambo","Ucuma","Ucuma",0,0,0,0]
[267,"Angola","AGO","Huila","Caconda",2133,"Caconda","Modérée",21160,7994,29154,0,0,0,0,2,0,null,null,"Huila","Caconda","Caconda",0,0,0,0]
[268,"Angola","AGO","Huila","Caconda",2133,"Cusse","Modérée",8316,3142,11457,0,0,0,0,2,0,null,null,"Huila","Caconda","Cusse",0,0,0,0]
[269,"Angola","AGO","Huila","Caconda",2133,"Gungue","Forte",13456,25415,38871,1,13456,25415,38871,3,0,null,null,"Huila","Caconda","Gungue",13456,25415,38871,1]
[270,"Angola","AGO","Huila","Caconda",2133,"Uaba","Modérée",16566,6258,22823,0,0,0,0,2,0,null,null,"Huila","Caconda","Uaba",0,0,0,0]
[271,"Angola","AGO","Huila","Cacula",2214,"Cacula","Non endémique",0,0,0,0,0,0,0,0,0,null,null,"Huila","Cacula","Cacula",0,0,0,0]
[272,"Angola","AGO","Huila","Cacula",2214,"Chituto","Modérée",10780,4073,14854,0,0,0,0,2,0,null,null,"Huila","Cacula","Chituto",0,0,0,0]
[273,"Angola","AGO","Huila","Cacula",2214,"Tchicuaqueia","Modérée",13782,5207,18989,0,0,0,0,2,0,null,null,"Huila","Cacula","Tchicuaqueia",0,0,0,0]
[274,"Angola","AGO","Huila","Cacula",2214,"Vite Vivali","Faible",11793,0,11793,0,0,0,0,1,0,null,null,"Huila","Cacula","Vite Vivali",0,0,0,0]
[275,"Angola","AGO","Huila","Caluquembe",2134,"Calepi","Modérée",34070,12870,46940,0,0,0,0,2,0,null,null,"Huila","Caluquembe","Calepi",0,0,0,0]
[276,"Angola","AGO","Huila","Caluquembe",2134,"Caluquembe","Forte",10884,20558,31443,1,10884,20558,31443,3,0,null,null,"Huila","Caluquembe","Caluquembe",10884,20558,31443,1]
[277,"Angola","AGO","Huila","Caluquembe",2134,"Ngola","Modérée",18836,7116,25952,0,0,0,0,2,0,null,null,"Huila","Caluquembe","Ngola",0,0,0,0]
[278,"Angola","AGO","Huila","Chibia",2127,"Capunda Cavilongo","Modérée",26352,9956,36308,0,0,0,0,2,0,null,null,"Huila","Chibia","Capunda Cavilongo",0,0,0,0]
[279,"Angola","AGO","Huila","Chibia",2127,"Chibia","Forte",23517,44423,67940,1,23517,44423,67940,3,0,null,null,"Huila","Chibia","Chibia",23517,44423,67940,1]
[280,"Angola","AGO","Huila","Chibia",2127,"Jau","Modérée",8929,3374,12302,0,0,0,0,2,0,null,null,"Huila","Chibia","Jau",0,0,0,0]
[281,"Angola","AGO","Huila","Chibia",2127,"Quihita","Modérée",8798,3323,12122,0,0,0,0,2,0,null,null,"Huila","Chibia","Quihita",0,0,0,0]
[282,"Angola","AGO","Huila","Chicomba",2128,"Chicomba","Forte",10260,19379,29639,1,10260,19379,29639,3,0,null,null,"Huila","Chicomba","Chicomba",10260,19379,29639,1]
[283,"Angola","AGO","Huila","Chicomba",2128,"Cutenda (ex-Chitenda)","Modérée",14482,5471,19953,0,0,0,0,2,0,null,null,"Huila","Chicomba","Cutenda (ex-Chitenda)",0,0,0,0]
[284,"Angola","AGO","Huila","Chicomba",2128,"Libongue","Forte",2247,4244,6491,1,2247,4244,6491,3,0,null,null,"Huila","Chicomba","Libongue",2247,4244,6491,1]
[285,"Angola","AGO","Huila","Chicomba",2128,"Quê","Forte",19741,37288,57029,1,19741,37288,57029,3,0,null,null,"Huila","Chicomba","Quê",19741,37288,57029,1]
[286,"Angola","AGO","Huila","Chipindo",2129,"Bambi","Modérée",5233,1977,7210,0,0,0,0,2,0,null,null,"Huila","Chipindo","Bambi",0,0,0,0]
[287,"Angola","AGO","Huila","Chipindo",2129,"Bunjei","Non endémique",0,0,0,0,0,0,0,0,0,null,null,"Huila","Chipindo","Bunjei",0,0,0,0]
[288,"Angola","AGO","Huila","Chipindo",2129,"Chipindo ","Modérée",11754,4441,16195,0,0,0,0,2,0,null,null,"Huila","Chipindo","Chipindo ",0,0,0,0]
[289,"Angola","AGO","Huila","Cuvango",2136,"Cuvango","Modérée",12875,4864,17739,0,0,0,0,2,0,null,null,"Huila","Cuvango","Cuvango",0,0,0,0]
[290,"Angola","AGO","Huila","Cuvango",2136,"Galangue","Modérée",2832,1070,3903,0,0,0,0,2,0,null,null,"Huila","Cuvango","Galangue",0,0,0,0]
[291,"Angola","AGO","Huila","Cuvango",2136,"Vicungo","Modérée",12138,4586,16724,0,0,0,0,2,0,null,null,"Huila","Cuvango","Vicungo",0,0,0,0]
[292,"Angola","AGO","Huila","Gambos",2130,"Chiange","Modérée",14402,5441,19843,0,0,0,0,2,0,null,null,"Huila","Gambos","Chiange",0,0,0,0]
[293,"Angola","AGO","Huila","Gambos",2130,"Chimbemba","Modérée",13770,5202,18972,0,0,0,0,2,0,null,null,"Huila","Gambos","Chimbemba",0,0,0,0]
[294,"Angola","AGO","Huila","Humpata",2131,"Humpata/Sede","Modérée",31604,11939,43543,0,0,0,0,2,0,null,null,"Huila","Humpata","Humpata/Sede",0,0,0,0]
[295,"Angola","AGO","Huila","Jamba",2132,"Cassinga (Tchamutete)","Modérée",9327,3524,12851,1,9327,3524,12851,2,0,null,null,"Huila","Jamba","Cassinga (Tchamutete)",9327,3524,12851,1]
[296,"Angola","AGO","Huila","Jamba",2132,"Dongo","Forte",15513,29302,44815,1,15513,29302,44815,3,0,null,null,"Huila","Jamba","Dongo",15513,29302,44815,1]
[297,"Angola","AGO","Huila","Jamba",2132,"Jamba","Forte",12416,23453,35869,1,12416,23453,35869,3,0,null,null,"Huila","Jamba","Jamba",12416,23453,35869,1]
[298,"Angola","AGO","Huila","Lubango",2137,"Arimba","Modérée",16338,6172,22510,0,0,0,0,2,0,null,null,"Huila","Lubango","Arimba",0,0,0,0]
[299,"Angola","AGO","Huila","Lubango",2137,"Hoque","Forte",22858,43176,66034,1,22858,43176,66034,3,0,null,null,"Huila","Lubango","Hoque",22858,43176,66034,1]
[300,"Angola","AGO","Huila","Lubango",2137,"Huila C","Forte",21370,40365,61735,1,21370,40365,61735,3,0,null,null,"Huila","Lubango","Huila C",21370,40365,61735,1]
[301,"Angola","AGO","Huila","Lubango",2137,"Lubango","Modérée",206044,77838,283882,0,0,0,0,2,0,null,null,"Huila","Lubango","Lubango",0,0,0,0]
[302,"Angola","AGO","Huila","Lubango",2137,"Quilenda","Faible",8591,0,8591,0,0,0,0,1,0,null,null,"Huila","Lubango","Quilenda",0,0,0,0]
[303,"Angola","AGO","Huila","Matala",2138,"Capelongo","Modérée",17530,6622,24152,1,17530,6622,24152,2,0,null,null,"Huila","Matala","Capelongo",17530,6622,24152,1]
[304,"Angola","AGO","Huila","Matala",2138,"Matala","Forte",50045,94529,144574,1,50045,94529,144574,3,0,null,null,"Huila","Matala","Matala",50045,94529,144574,1]
[305,"Angola","AGO","Huila","Matala",2138,"Micosse","Forte",16781,31698,48480,1,16781,31698,48480,3,0,null,null,"Huila","Matala","Micosse",16781,31698,48480,1]
[306,"Angola","AGO","Huila","Matala",2138,"Mulondo","Forte",8800,16622,25422,1,8800,16622,25422,3,0,null,null,"Huila","Matala","Mulondo",8800,16622,25422,1]
[307,"Angola","AGO","Huila","Quilengues",2135,"Dinde","Forte",7126,13462,20588,1,7126,13462,20588,3,0,null,null,"Huila","Quilengues","Dinde",7126,13462,20588,1]
[308,"Angola","AGO","Huila","Quilengues",2135,"Impulo","Forte",5574,10528,16101,1,5574,10528,16101,3,0,null,null,"Huila","Quilengues","Impulo",5574,10528,16101,1]
[309,"Angola","AGO","Huila","Quilengues",2135,"Quilengues","Modérée",14008,5292,19300,0,0,0,0,2,0,null,null,"Huila","Quilengues","Quilengues",0,0,0,0]
[310,"Angola","AGO","Huila","Quipungo",2221,"Quipungo/Sede","Forte",56340,106421,162761,1,56340,106421,162761,3,0,null,null,"Huila","Quipungo","Quipungo/Sede",56340,106421,162761,1]
[311,"Angola","AGO","Luanda","Belas",2212,"Barra do Kwanza","Non endémique",0,0,0,0,0,0,0,0,0,null,null,"Luanda","Belas","Barra do Kwanza",0,0,0,0]
[316,"Angola","AGO","Luanda","Belas",2212,"Cabolombo","Modérée",0,0,0,0,0,0,0,2,0,null,null,"Luanda","Belas","Cabolombo",0,0,0,0]
[315,"Angola","AGO","Luanda","Belas",2212,"Kilamba","Modérée",61887,23380,85267,0,0,0,0,2,0,null,null,"Luanda","Belas","Kilamba",0,0,0,0]
[314,"Angola","AGO","Luanda","Belas",2212,"Morro dos veados","Modérée",0,0,0,0,0,0,0,2,0,null,null,"Luanda","Belas","Morro dos veados",0,0,0,0]
[313,"Angola","AGO","Luanda","Belas",2212,"Quenguela","Modérée",0,0,0,0,0,0,0,2,0,null,null,"Luanda","Belas","Quenguela",0,0,0,0]
[317,"Angola","AGO","Luanda","Belas",2212,"Ramiros","Modérée",31623,11946,43569,0,0,0,0,2,0,null,null,"Luanda","Belas","Ramiros",0,0,0,0]
[312,"Angola","AGO","Luanda","Belas",2212,"Vila verde","Modérée",0,0,0,0,0,0,0,2,0,null,null,"Luanda","Belas","Vila verde",0,0,0,0]
[318,"Angola","AGO","Luanda","Cacuaco",2140,"Cacuaco","Modérée",77414,29245,106659,0,0,0,0,2,0,null,null,"Luanda","Cacuaco","Cacuaco",0,0,0,0]
[319,"Angola","AGO","Luanda","Cacuaco",2140,"Funda","Faible",62546,0,62546,0,0,0,0,1,0,null,null,"Luanda","Cacuaco","Funda",0,0,0,0]
[320,"Angola","AGO","Luanda","Cacuaco",2140,"Kikolo","Faible",179702,0,179702,0,0,0,0,1,0,null,null,"Luanda","Cacuaco","Kikolo",0,0,0,0]
[321,"Angola","AGO","Luanda","Cacuaco",2140,"Mulenvos de Baixo","Faible",0,0,0,0,0,0,0,{"$f":"IF(H323=\"Forte\",3,IF(H323=\"Modérée\",2,IF(H323=\"Faible\",1,0)))","v":1},0,null,null,"Luanda","Cacuaco","Mulenvos de Baixo",0,0,0,0]
[322,"Angola","AGO","Luanda","Cacuaco",2140,"Sequele","Faible",0,0,0,0,0,0,0,1,0,null,null,"Luanda","Cacuaco","Sequele",0,0,0,0]
[323,"Angola","AGO","Luanda","Cazenga",2141,"11 de Novembro","Faible",0,0,0,0,0,0,0,1,0,null,null,"Luanda","Cazenga","11 de Novembro",0,0,0,0]
[324,"Angola","AGO","Luanda","Cazenga",2141,"Cazenga","Faible",160069,0,160069,0,0,0,0,1,0,null,null,"Luanda","Cazenga","Cazenga",0,0,0,0]
[325,"Angola","AGO","Luanda","Cazenga",2141,"Hoji ya Henda","Faible",143507,0,143507,0,0,0,0,1,0,null,null,"Luanda","Cazenga","Hoji ya Henda",0,0,0,0]
[326,"Angola","AGO","Luanda","Cazenga",2141,"Kalawenda","Faible",0,0,0,0,0,0,0,1,0,null,null,"Luanda","Cazenga","Kalawenda",0,0,0,0]
[327,"Angola","AGO","Luanda","Cazenga",2141,"Kima Kieza","Faible",0,0,0,0,0,0,0,1,0,null,null,"Luanda","Cazenga","Kima Kieza",0,0,0,0]
[328,"Angola","AGO","Luanda","Cazenga",2141,"Tala Hadi","Faible",110053,0,110053,0,0,0,0,1,0,null,null,"Luanda","Cazenga","Tala Hadi",0,0,0,0]
[329,"Angola","AGO","Luanda","Icolo e Bengo",2051,"Bela  Vista","Modérée",0,0,0,0,0,0,0,2,0,null,null,"Luanda","Icolo e Bengo","Bela  Vista",0,0,0,0]
[330,"Angola","AGO","Luanda","Icolo e Bengo",2051,"Bom Jesus","Modérée",9042,3416,12458,0,0,0,0,2,0,null,null,"Luanda","Icolo e Bengo","Bom Jesus",0,0,0,0]
[331,"Angola","AGO","Luanda","Icolo e Bengo",2051,"Cabiri","Modérée",7280,2750,10031,0,0,0,0,2,0,null,null,"Luanda","Icolo e Bengo","Cabiri",0,0,0,0]
[332,"Angola","AGO","Luanda","Icolo e Bengo",2051,"Caculo Cahongo","Modérée",1268,480,1748,0,0,0,0,2,0,null,null,"Luanda","Icolo e Bengo","Caculo Cahongo",0,0,0,0]
[333,"Angola","AGO","Luanda","Icolo e Bengo",2051,"Calomboloca","Modérée",6411,2422,8832,0,0,0,0,2,0,null,null,"Luanda","Icolo e Bengo","Calomboloca",0,0,0,0]
[334,"Angola","AGO","Luanda","Icolo e Bengo",2051,"Catete","Forte",9659,18245,27904,1,9659,18245,27904,3,0,null,null,"Luanda","Icolo e Bengo","Catete",9659,18245,27904,1]
[335,"Angola","AGO","Luanda","Icolo e Bengo",2051,"Quiminha","Modérée",0,0,0,0,0,0,0,2,0,null,null,"Luanda","Icolo e Bengo","Quiminha",0,0,0,0]
[336,"Angola","AGO","Luanda","Kilamba Kiaxi",2143,"Golfe","Faible",312629,0,312629,0,0,0,0,1,0,null,null,"Luanda","Kilamba Kiaxi","Golfe",0,0,0,0]
[337,"Angola","AGO","Luanda","Kilamba Kiaxi",2143,"Nova Vida","Faible",0,0,0,0,0,0,0,1,0,null,null,"Luanda","Kilamba Kiaxi","Nova Vida",0,0,0,0]
[338,"Angola","AGO","Luanda","Kilamba Kiaxi",2143,"Palanca","Faible",0,0,0,0,0,0,0,1,0,null,null,"Luanda","Kilamba Kiaxi","Palanca",0,0,0,0]
[339,"Angola","AGO","Luanda","Kilamba Kiaxi",2143,"Sapu","Faible",0,0,0,0,0,0,0,1,0,null,null,"Luanda","Kilamba Kiaxi","Sapu",0,0,0,0]
[340,"Angola","AGO","Luanda","Luanda",2219,"Ingombota","Faible",23396,0,23396,0,0,0,0,1,0,null,null,"Luanda","Luanda","Ingombota",0,0,0,0]
[341,"Angola","AGO","Luanda","Luanda",2219,"Kilamba Kiaxi","Faible",190642,0,190642,0,0,0,0,1,0,null,null,"Luanda","Luanda","Kilamba Kiaxi",0,0,0,0]
[342,"Angola","AGO","Luanda","Luanda",2219,"Maianga","Faible",135631,0,135631,0,0,0,0,1,0,null,null,"Luanda","Luanda","Maianga",0,0,0,0]
[343,"Angola","AGO","Luanda","Luanda",2219,"Ngola Kilunaje","Faible",0,0,0,0,0,0,0,1,0,null,null,"Luanda","Luanda","Ngola Kilunaje",0,0,0,0]
[344,"Angola","AGO","Luanda","Luanda",2219,"Rangel","Faible",30917,0,30917,0,0,0,0,1,0,null,null,"Luanda","Luanda","Rangel",0,0,0,0]
[345,"Angola","AGO","Luanda","Luanda",2219,"Samba","Faible",33527,0,33527,0,0,0,0,1,0,null,null,"Luanda","Luanda","Samba",0,0,0,0]
[346,"Angola","AGO","Luanda","Luanda",2219,"Sambizanga","Faible",83161,0,83161,0,0,0,0,1,0,null,null,"Luanda","Luanda","Sambizanga",0,0,0,0]
[347,"Angola","AGO","Luanda","Quissama",2052,"Cabo Ledo","Modérée",4142,1564,5706,0,0,0,0,2,0,null,null,"Luanda","Quissama","Cabo Ledo",0,0,0,0]
[348,"Angola","AGO","Luanda","Quissama",2052,"Demba Chio","Non endémique",0,0,0,0,0,0,0,0,0,null,null,"Luanda","Quissama","Demba Chio",0,0,0,0]
[349,"Angola","AGO","Luanda","Quissama",2052,"Mumbondo","Modérée",1208,456,1664,0,0,0,0,2,0,null,null,"Luanda","Quissama","Mumbondo",0,0,0,0]
[350,"Angola","AGO","Luanda","Quissama",2052,"Muxima","Forte",2888,5455,8343,1,2888,5455,8343,3,0,null,null,"Luanda","Quissama","Muxima",2888,5455,8343,1]
[351,"Angola","AGO","Luanda","Quissama",2052,"Quixinge","Modérée",794,300,1094,0,0,0,0,2,0,null,null,"Luanda","Quissama","Quixinge",0,0,0,0]
[352,"Angola","AGO","Luanda","Talatona",2223,"Benfica","Non endémique",0,0,0,0,0,0,0,0,0,null,null,"Luanda","Talatona","Benfica",0,0,0,0]
[353,"Angola","AGO","Luanda","Talatona",2223,"Camama","Non endémique",0,0,0,0,0,0,0,0,0,null,null,"Luanda","Talatona","Camama",0,0,0,0]
[354,"Angola","AGO","Luanda","Talatona",2223,"Cidade Universitaria","Non endémique",0,0,0,0,0,0,0,0,0,null,null,"Luanda","Talatona","Cidade Universitaria",0,0,0,0]
[355,"Angola","AGO","Luanda","Talatona",2223,"Futungo de Belas","Non endémique",0,0,0,0,0,0,0,0,0,null,null,"Luanda","Talatona","Futungo de Belas",0,0,0,0]
[356,"Angola","AGO","Luanda","Talatona",2223,"Lar do Patriota","Non endémique",0,0,0,0,0,0,0,0,0,null,null,"Luanda","Talatona","Lar do Patriota",0,0,0,0]
[357,"Angola","AGO","Luanda","Talatona",2223,"Mussulo","Non endémique",0,0,0,0,0,0,0,0,0,null,null,"Luanda","Talatona","Mussulo",0,0,0,0]
[358,"Angola","AGO","Luanda","Talatona",2223,"Talatona","Non endémique",0,0,0,0,0,0,0,0,0,null,null,"Luanda","Talatona","Talatona",0,0,0,0]
[359,"Angola","AGO","Luanda","Viana",2148,"Baia","Faible",0,0,0,0,0,0,0,1,0,null,null,"Luanda","Viana","Baia",0,0,0,0]
[360,"Angola","AGO","Luanda","Viana",2148,"Calumbo","Modérée",8518,3218,11736,0,0,0,0,2,0,null,null,"Luanda","Viana","Calumbo",0,0,0,0]
[361,"Angola","AGO","Luanda","Viana",2148,"Estalagem","Faible",0,0,0,0,0,0,0,1,0,null,null,"Luanda","Viana","Estalagem",0,0,0,0]
[362,"Angola","AGO","Luanda","Viana",2148,"Kikuxi","Faible",0,0,0,0,0,0,0,1,0,null,null,"Luanda","Viana","Kikuxi",0,0,0,0]
[363,"Angola","AGO","Luanda","Viana",2148,"Viana","Non endémique",0,0,0,0,0,0,0,0,0,null,null,"Luanda","Viana","Viana",0,0,0,0]
[364,"Angola","AGO","Luanda","Viana",2148,"Vila Flor","Faible",0,0,0,0,0,0,0,1,0,null,null,"Luanda","Viana","Vila Flor",0,0,0,0]
[365,"Angola","AGO","Luanda","Viana",2148,"Zango","Faible",70761,0,70761,0,0,0,0,1,0,null,null,"Luanda","Viana","Zango",0,0,0,0]
[366,"Angola","AGO","Lunda Norte","Cambulo",2150,"Cachimo","Non endémique",0,0,0,0,0,0,0,0,0,null,null,"Lunda Norte","Cambulo","Cachimo",0,0,0,0]
[367,"Angola","AGO","Lunda Norte","Cambulo",2150,"Cambulo","Non endémique",0,0,0,0,0,0,0,0,0,null,null,"Lunda Norte","Cambulo","Cambulo",0,0,0,0]
[368,"Angola","AGO","Lunda Norte","Cambulo",2150,"Canzar","Non endémique",0,0,0,0,0,0,0,0,0,null,null,"Lunda Norte","Cambulo","Canzar",0,0,0,0]
[369,"Angola","AGO","Lunda Norte","Cambulo",2150,"Luia","Non endémique",0,0,0,0,0,0,0,0,0,null,null,"Lunda Norte","Cambulo","Luia",0,0,0,0]
[370,"Angola","AGO","Lunda Norte","Capenda Camulemba",2151,"Capenda Camulemba","Faible",14575,0,14575,0,0,0,0,1,0,null,null,"Lunda Norte","Capenda Camulemba","Capenda Camulemba",0,0,0,0]
[371,"Angola","AGO","Lunda Norte","Capenda Camulemba",2151,"Xingue","Faible",5942,0,5942,0,0,0,0,1,0,null,null,"Lunda Norte","Capenda Camulemba","Xingue",0,0,0,0]
[372,"Angola","AGO","Lunda Norte","Caungula",2152,"Camaxilo","Faible",4595,0,4595,0,0,0,0,1,0,null,null,"Lunda Norte","Caungula","Camaxilo",0,0,0,0]
[373,"Angola","AGO","Lunda Norte","Caungula",2152,"Caungula","Non endémique",0,0,0,0,0,0,0,0,0,null,null,"Lunda Norte","Caungula","Caungula",0,0,0,0]
[374,"Angola","AGO","Lunda Norte","Chitato",2149,"Chitato","Faible",2015,0,2015,0,0,0,0,1,0,null,null,"Lunda Norte","Chitato","Chitato",0,0,0,0]
[375,"Angola","AGO","Lunda Norte","Chitato",2149,"Dundo","Faible",0,0,0,0,0,0,0,1,0,null,null,"Lunda Norte","Chitato","Dundo",0,0,0,0]
[376,"Angola","AGO","Lunda Norte","Chitato",2149,"Luachimo","Faible",64577,0,64577,0,0,0,0,1,0,null,null,"Lunda Norte","Chitato","Luachimo",0,0,0,0]
[377,"Angola","AGO","Lunda Norte","Chitato",2149,"Mussungue","Faible",0,0,0,0,0,0,0,1,0,null,null,"Lunda Norte","Chitato","Mussungue",0,0,0,0]
[378,"Angola","AGO","Lunda Norte","Cuango",2153,"Cuango","Modérée",56708,21423,78131,0,0,0,0,2,0,null,null,"Lunda Norte","Cuango","Cuango",0,0,0,0]
[379,"Angola","AGO","Lunda Norte","Cuango",2153,"Luremo","Non endémique",0,0,0,0,0,0,0,0,0,null,null,"Lunda Norte","Cuango","Luremo",0,0,0,0]
[380,"Angola","AGO","Lunda Norte","Cuilo",2154,"Caluango","Non endémique",0,0,0,0,0,0,0,0,0,null,null,"Lunda Norte","Cuilo","Caluango",0,0,0,0]
[381,"Angola","AGO","Lunda Norte","Cuilo",2154,"Cuilo","Non endémique",0,0,0,0,0,0,0,0,0,null,null,"Lunda Norte","Cuilo","Cuilo",0,0,0,0]
[382,"Angola","AGO","Lunda Norte","Lovua",2224,"Lovua","Non endémique",0,0,0,0,0,0,0,0,0,null,null,"Lunda Norte","Lovua","Lovua",0,0,0,0]
[383,"Angola","AGO","Lunda Norte","Lubalo",2155,"Luangue","Faible",1768,0,1768,0,0,0,0,1,0,null,null,"Lunda Norte","Lubalo","Luangue",0,0,0,0]
[384,"Angola","AGO","Lunda Norte","Lubalo",2155,"Lubalo","Faible",4542,0,4542,0,0,0,0,1,0,null,null,"Lunda Norte","Lubalo","Lubalo",0,0,0,0]
[385,"Angola","AGO","Lunda Norte","Lubalo",2155,"Muvulege","Faible",944,0,944,0,0,0,0,{"$f":"IF(H387=\"Forte\",3,IF(H387=\"Modérée\",2,IF(H387=\"Faible\",1,0)))","v":1},0,null,null,"Lunda Norte","Lubalo","Muvulege",0,0,0,0]
[386,"Angola","AGO","Lunda Norte","Lucapa",2156,"Camissombo","Non endémique",0,0,0,0,0,0,0,0,0,null,null,"Lunda Norte","Lucapa","Camissombo",0,0,0,0]
[387,"Angola","AGO","Lunda Norte","Lucapa",2156,"Capaia","Non endémique",0,0,0,0,0,0,0,0,0,null,null,"Lunda Norte","Lucapa","Capaia",0,0,0,0]
[388,"Angola","AGO","Lunda Norte","Lucapa",2156,"Lucapa","Non endémique",0,0,0,0,0,0,0,0,0,null,null,"Lunda Norte","Lucapa","Lucapa",0,0,0,0]
[389,"Angola","AGO","Lunda Norte","Lucapa",2156,"Xa-Cassau","Non endémique",0,0,0,0,0,0,0,0,0,null,null,"Lunda Norte","Lucapa","Xa-Cassau",0,0,0,0]
[390,"Angola","AGO","Lunda Norte","Xa Muteba",2157,"Cassange Calucala","Modérée",5395,2038,7432,0,0,0,0,2,0,null,null,"Lunda Norte","Xa Muteba","Cassange Calucala",0,0,0,0]
[391,"Angola","AGO","Lunda Norte","Xa Muteba",2157,"Longo","Modérée",3902,1474,5375,0,0,0,0,2,0,null,null,"Lunda Norte","Xa Muteba","Longo",0,0,0,0]
[392,"Angola","AGO","Lunda Norte","Xa Muteba",2157,"Xá Muteba","Modérée",7618,2878,10496,0,0,0,0,2,0,null,null,"Lunda Norte","Xa Muteba","Xá Muteba",0,0,0,0]
[393,"Angola","AGO","Lunda Sul","Cacolo",2159,"Alto-Chicapa","Non endémique",0,0,0,0,0,0,0,0,0,null,null,"Lunda Sul","Cacolo","Alto-Chicapa",0,0,0,0]
[394,"Angola","AGO","Lunda Sul","Cacolo",2159,"Cacolo","Non endémique",0,0,0,0,0,0,0,0,0,null,null,"Lunda Sul","Cacolo","Cacolo",0,0,0,0]
[395,"Angola","AGO","Lunda Sul","Cacolo",2159,"Cucumbi","Forte",1185,2238,3423,1,1185,2238,3423,3,0,null,null,"Lunda Sul","Cacolo","Cucumbi",1185,2238,3423,1]
[396,"Angola","AGO","Lunda Sul","Cacolo",2159,"Xassengue","Non endémique",0,0,0,0,0,0,0,0,0,null,null,"Lunda Sul","Cacolo","Xassengue",0,0,0,0]
[397,"Angola","AGO","Lunda Sul","Dala",2158,"Cazaje","Non endémique",0,0,0,0,0,0,0,0,0,null,null,"Lunda Sul","Dala","Cazaje",0,0,0,0]
[398,"Angola","AGO","Lunda Sul","Dala",2158,"Dala","Non endémique",0,0,0,0,0,0,0,0,0,null,null,"Lunda Sul","Dala","Dala",0,0,0,0]
[399,"Angola","AGO","Lunda Sul","Dala",2158,"Luma Cassai","Non endémique",0,0,0,0,0,0,0,0,0,null,null,"Lunda Sul","Dala","Luma Cassai",0,0,0,0]
[400,"Angola","AGO","Lunda Sul","Muconda",2160,"Cassai Sul","Non endémique",0,0,0,0,0,0,0,0,0,null,null,"Lunda Sul","Muconda","Cassai Sul",0,0,0,0]
[401,"Angola","AGO","Lunda Sul","Muconda",2160,"Chiluanje","Non endémique",0,0,0,0,0,0,0,0,0,null,null,"Lunda Sul","Muconda","Chiluanje",0,0,0,0]
[402,"Angola","AGO","Lunda Sul","Muconda",2160,"Muconda","Faible",3325,0,3325,0,0,0,0,1,0,null,null,"Lunda Sul","Muconda","Muconda",0,0,0,0]
[403,"Angola","AGO","Lunda Sul","Muconda",2160,"Murieje","Non endémique",0,0,0,0,0,0,0,0,0,null,null,"Lunda Sul","Muconda","Murieje",0,0,0,0]
[404,"Angola","AGO","Lunda Sul","Saurimo",2161,"Mona Quimbundo","Non endémique",0,0,0,0,0,0,0,0,0,null,null,"Lunda Sul","Saurimo","Mona Quimbundo",0,0,0,0]
[405,"Angola","AGO","Lunda Sul","Saurimo",2161,"Saurimo","Non endémique",0,0,0,0,0,0,0,0,0,null,null,"Lunda Sul","Saurimo","Saurimo",0,0,0,0]
[406,"Angola","AGO","Lunda Sul","Saurimo",2161,"Sombo","Non endémique",0,0,0,0,0,0,0,0,0,null,null,"Lunda Sul","Saurimo","Sombo",0,0,0,0]
[449,"Angola","AGO","Malanje","Caculama (Mukari)",2215,"Caculama","Modérée",4361,1647,6008,0,0,0,0,2,0,null,null,"Malanje","Caculama (Mukari)","Caculama",0,0,0,0]
[450,"Angola","AGO","Malanje","Caculama (Mukari)",2215,"Catala","Faible",1961,0,1961,0,0,0,0,1,0,null,null,"Malanje","Caculama (Mukari)","Catala",0,0,0,0]
[451,"Angola","AGO","Malanje","Caculama (Mukari)",2215,"Caxinga","Modérée",3249,1227,4477,0,0,0,0,2,0,null,null,"Malanje","Caculama (Mukari)","Caxinga",0,0,0,0]
[452,"Angola","AGO","Malanje","Caculama (Mukari)",2215,"Muquixi","Modérée",1024,387,1411,0,0,0,0,2,0,null,null,"Malanje","Caculama (Mukari)","Muquixi",0,0,0,0]
[407,"Angola","AGO","Malanje","Cacuso",2163,"Cacuso","Modérée",16224,6129,22353,0,0,0,0,2,0,null,null,"Malanje","Cacuso","Cacuso",0,0,0,0]
[408,"Angola","AGO","Malanje","Cacuso",2163,"Lombe","Modérée",5455,2061,7517,0,0,0,0,2,0,null,null,"Malanje","Cacuso","Lombe",0,0,0,0]
[409,"Angola","AGO","Malanje","Cacuso",2163,"Pungu a Ndongo","Modérée",1226,463,1689,0,0,0,0,2,0,null,null,"Malanje","Cacuso","Pungu a Ndongo",0,0,0,0]
[410,"Angola","AGO","Malanje","Cacuso",2163,"Quizenga","Faible",1244,0,1244,0,0,0,0,1,0,null,null,"Malanje","Cacuso","Quizenga",0,0,0,0]
[411,"Angola","AGO","Malanje","Cacuso",2163,"Soqueco","Modérée",1003,379,1382,0,0,0,0,2,0,null,null,"Malanje","Cacuso","Soqueco",0,0,0,0]
[412,"Angola","AGO","Malanje","Cahombo",2162,"Cahombo","Forte",3122,5898,9020,1,3122,5898,9020,3,0,null,null,"Malanje","Cahombo","Cahombo",3122,5898,9020,1]
[413,"Angola","AGO","Malanje","Cahombo",2162,"Cambo Suinginge","Modérée",1717,649,2366,0,0,0,0,2,0,null,null,"Malanje","Cahombo","Cambo Suinginge",0,0,0,0]
[414,"Angola","AGO","Malanje","Cahombo",2162,"Mbanji ya Ngola","Modérée",988,374,1362,0,0,0,0,2,0,null,null,"Malanje","Cahombo","Mbanji ya Ngola",0,0,0,0]
[415,"Angola","AGO","Malanje","Cahombo",2162,"Micanda","Non endémique",0,0,0,0,0,0,0,0,0,null,null,"Malanje","Cahombo","Micanda",0,0,0,0]
[416,"Angola","AGO","Malanje","Calandula",2164,"Calandula","Modérée",8399,3172,11571,0,0,0,0,2,0,null,null,"Malanje","Calandula","Calandula",0,0,0,0]
[417,"Angola","AGO","Malanje","Calandula",2164,"Cateco Cangola","Faible",3913,0,3913,0,0,0,0,1,0,null,null,"Malanje","Calandula","Cateco Cangola",0,0,0,0]
[418,"Angola","AGO","Malanje","Calandula",2164,"Cota","Forte",7727,14596,22323,1,7727,14596,22323,3,0,null,null,"Malanje","Calandula","Cota",7727,14596,22323,1]
[419,"Angola","AGO","Malanje","Calandula",2164,"Cuale","Modérée",5362,2025,7387,0,0,0,0,2,0,null,null,"Malanje","Calandula","Cuale",0,0,0,0]
[420,"Angola","AGO","Malanje","Calandula",2164,"Quinje","Modérée",2893,1093,3986,0,0,0,0,2,0,null,null,"Malanje","Calandula","Quinje",0,0,0,0]
[421,"Angola","AGO","Malanje","Cambundi Catembo",2165,"Cambundi Catembo","Modérée",8365,3160,11525,0,0,0,0,2,0,null,null,"Malanje","Cambundi Catembo","Cambundi Catembo",0,0,0,0]
[422,"Angola","AGO","Malanje","Cambundi Catembo",2165,"Dumba Cabango","Modérée",5499,2078,7576,0,0,0,0,2,0,null,null,"Malanje","Cambundi Catembo","Dumba Cabango",0,0,0,0]
[423,"Angola","AGO","Malanje","Cambundi Catembo",2165,"Quitapa","Modérée",1001,378,1379,0,0,0,0,2,0,null,null,"Malanje","Cambundi Catembo","Quitapa",0,0,0,0]
[424,"Angola","AGO","Malanje","Cambundi Catembo",2165,"Talamungongo","Non endémique",0,0,0,0,0,0,0,0,0,null,null,"Malanje","Cambundi Catembo","Talamungongo",0,0,0,0]
[425,"Angola","AGO","Malanje","Cangandala",2166,"Bembo","Modérée",2584,977,3561,0,0,0,0,2,0,null,null,"Malanje","Cangandala","Bembo",0,0,0,0]
[426,"Angola","AGO","Malanje","Cangandala",2166,"Cangandala","Forte",11370,21477,32847,1,11370,21477,32847,3,0,null,null,"Malanje","Cangandala","Cangandala",11370,21477,32847,1]
[427,"Angola","AGO","Malanje","Cangandala",2166,"Caribo","Modérée",1038,392,1431,0,0,0,0,2,0,null,null,"Malanje","Cangandala","Caribo",0,0,0,0]
[428,"Angola","AGO","Malanje","Cangandala",2166,"Culamagia","Modérée",883,334,1217,0,0,0,0,2,0,null,null,"Malanje","Cangandala","Culamagia",0,0,0,0]
[429,"Angola","AGO","Malanje","KIWABA NZOGI",2169,"Kiwaba Nzoji","Faible",3563,0,3563,0,0,0,0,1,0,null,null,"Malanje","KIWABA NZOGI","Kiwaba Nzoji",0,0,0,0]
[430,"Angola","AGO","Malanje","KIWABA NZOGI",2169,"Mufuma","Faible",2025,0,2025,0,0,0,0,1,0,null,null,"Malanje","KIWABA NZOGI","Mufuma",0,0,0,0]
[431,"Angola","AGO","Malanje","KUNDA DIA BASE",2170,"Kunda-Dia-Baze","Modérée",1825,689,2514,0,0,0,0,2,0,null,null,"Malanje","KUNDA DIA BASE","Kunda-Dia-Baze",0,0,0,0]
[432,"Angola","AGO","Malanje","KUNDA DIA BASE",2170,"Lemba","Modérée",764,289,1053,0,0,0,0,2,0,null,null,"Malanje","KUNDA DIA BASE","Lemba",0,0,0,0]
[433,"Angola","AGO","Malanje","KUNDA DIA BASE",2170,"Milando","Modérée",1852,699,2551,0,0,0,0,2,0,null,null,"Malanje","KUNDA DIA BASE","Milando",0,0,0,0]
[434,"Angola","AGO","Malanje","Luquembo",2171,"Cunga Palanca","Modérée",1172,443,1614,0,0,0,0,2,0,null,null,"Malanje","Luquembo","Cunga Palanca",0,0,0,0]
[435,"Angola","AGO","Malanje","Luquembo",2171,"Dombo wa Zanga","Modérée",2565,969,3535,0,0,0,0,2,0,null,null,"Malanje","Luquembo","Dombo wa Zanga",0,0,0,0]
[436,"Angola","AGO","Malanje","Luquembo",2171,"Kapunda","Forte",2317,4376,6693,1,2317,4376,6693,3,0,null,null,"Malanje","Luquembo","Kapunda",2317,4376,6693,1]
[437,"Angola","AGO","Malanje","Luquembo",2171,"Luquembo","Faible",6100,0,6100,0,0,0,0,1,0,null,null,"Malanje","Luquembo","Luquembo",0,0,0,0]
[438,"Angola","AGO","Malanje","Luquembo",2171,"Quimbango","Modérée",4556,1721,6277,0,0,0,0,2,0,null,null,"Malanje","Luquembo","Quimbango",0,0,0,0]
[439,"Angola","AGO","Malanje","Luquembo",2171,"Rimba","Modérée",2599,982,3581,0,0,0,0,2,0,null,null,"Malanje","Luquembo","Rimba",0,0,0,0]
[440,"Angola","AGO","Malanje","Malanje",2172,"Cambaxe","Modérée",869,328,1196,0,0,0,0,2,0,null,null,"Malanje","Malanje","Cambaxe",0,0,0,0]
[441,"Angola","AGO","Malanje","Malanje",2172,"Malanje","Forte",174475,329564,504039,1,174475,329564,504039,3,0,null,null,"Malanje","Malanje","Malanje",174475,329564,504039,1]
[442,"Angola","AGO","Malanje","Malanje",2172,"Ngola Luiji","Faible",2990,0,2990,0,0,0,0,1,0,null,null,"Malanje","Malanje","Ngola Luiji",0,0,0,0]
[443,"Angola","AGO","Malanje","Marimba",2173,"Dala-Samba (CAHOMBO)","Modérée",2192,828,3019,0,0,0,0,2,0,null,null,"Malanje","Marimba","Dala-Samba (CAHOMBO)",0,0,0,0]
[444,"Angola","AGO","Malanje","Marimba",2173,"Marimba","Modérée",2860,1080,3941,0,0,0,0,2,0,null,null,"Malanje","Marimba","Marimba",0,0,0,0]
[445,"Angola","AGO","Malanje","Marimba",2173,"Tembo-Aluma","Modérée",4160,1571,5732,0,0,0,0,{"$f":"IF(H451=\"Forte\",3,IF(H451=\"Modérée\",2,IF(H451=\"Faible\",1,0)))","v":2},0,null,null,"Malanje","Marimba","Tembo-Aluma",0,0,0,0]
[446,"Angola","AGO","Malanje","Massango",2174,"Massango","Faible",4750,0,4750,0,0,0,0,1,0,null,null,"Malanje","Massango","Massango",0,0,0,0]
[447,"Angola","AGO","Malanje","Massango",2174,"Quihuhu","Non endémique",0,0,0,0,0,0,0,0,0,null,null,"Malanje","Massango","Quihuhu",0,0,0,0]
[448,"Angola","AGO","Malanje","Massango",2174,"Quingengue","Faible",4209,0,4209,0,0,0,0,1,0,null,null,"Malanje","Massango","Quingengue",0,0,0,0]
[453,"Angola","AGO","Malanje","Quela",2222,"Bangalas","Faible",459,0,459,0,0,0,0,1,0,null,null,"Malanje","Quela","Bangalas",0,0,0,0]
[455,"Angola","AGO","Malanje","Quela",2222,"Moma","Modérée",307,116,423,0,0,0,0,2,0,null,null,"Malanje","Quela","Moma",0,0,0,0]
[454,"Angola","AGO","Malanje","Quela",2222,"Quela","Faible",5730,0,5730,0,0,0,0,1,0,null,null,"Malanje","Quela","Quela",0,0,0,0]
[456,"Angola","AGO","Malanje","Quela",2222,"Xandel","Non endémique",0,0,0,0,0,0,0,0,0,null,null,"Malanje","Quela","Xandel",0,0,0,0]
[457,"Angola","AGO","Malanje","Quirima",2168,"Quirima","Modérée",4792,1811,6603,0,0,0,0,2,0,null,null,"Malanje","Quirima","Quirima",0,0,0,0]
[458,"Angola","AGO","Malanje","Quirima",2168,"Sautar","Non endémique",0,0,0,0,0,0,0,0,0,null,null,"Malanje","Quirima","Sautar",0,0,0,0]
[459,"Angola","AGO","Moxico","Alto Zambeze",2176,"Caianda","Faible",1940,0,1940,0,0,0,0,1,0,null,null,"Moxico","Alto Zambeze","Caianda",0,0,0,0]
[460,"Angola","AGO","Moxico","Alto Zambeze",2176,"Calunda","Forte",3336,6301,9636,1,3336,6301,9636,3,0,null,null,"Moxico","Alto Zambeze","Calunda",3336,6301,9636,1]
[461,"Angola","AGO","Moxico","Alto Zambeze",2176,"Cazombo","Modérée",22812,8618,31429,0,0,0,0,2,0,null,null,"Moxico","Alto Zambeze","Cazombo",0,0,0,0]
[462,"Angola","AGO","Moxico","Alto Zambeze",2176,"Lovua","Modérée",2006,758,2764,0,0,0,0,2,0,null,null,"Moxico","Alto Zambeze","Lovua",0,0,0,0]
[463,"Angola","AGO","Moxico","Alto Zambeze",2176,"Lumbala Caquengue","Modérée",4079,1541,5620,0,0,0,0,2,0,null,null,"Moxico","Alto Zambeze","Lumbala Caquengue",0,0,0,0]
[464,"Angola","AGO","Moxico","Alto Zambeze",2176,"Macondo","Forte",1067,2016,3083,1,1067,2016,3083,3,0,null,null,"Moxico","Alto Zambeze","Macondo",1067,2016,3083,1]
[465,"Angola","AGO","Moxico","Alto Zambeze",2176,"Nana Candundo","Non endémique",0,0,0,0,0,0,0,0,0,null,null,"Moxico","Alto Zambeze","Nana Candundo",0,0,0,0]
[466,"Angola","AGO","Moxico","BUNDAS (LUMBALA NGUIMBO)",2182,"Chiume","Non endémique",0,0,0,0,0,0,0,0,0,null,null,"Moxico","BUNDAS (LUMBALA NGUIMBO)","Chiume",0,0,0,0]
[467,"Angola","AGO","Moxico","BUNDAS (LUMBALA NGUIMBO)",2182,"Lumbala Nguimbo","Modérée",10708,4045,14753,0,0,0,0,2,0,null,null,"Moxico","BUNDAS (LUMBALA NGUIMBO)","Lumbala Nguimbo",0,0,0,0]
[468,"Angola","AGO","Moxico","BUNDAS (LUMBALA NGUIMBO)",2182,"Lutembo","Faible",2799,0,2799,0,0,0,0,1,0,null,null,"Moxico","BUNDAS (LUMBALA NGUIMBO)","Lutembo",0,0,0,0]
[469,"Angola","AGO","Moxico","BUNDAS (LUMBALA NGUIMBO)",2182,"Luvuei","Non endémique",0,0,0,0,0,0,0,0,0,null,null,"Moxico","BUNDAS (LUMBALA NGUIMBO)","Luvuei",0,0,0,0]
[470,"Angola","AGO","Moxico","BUNDAS (LUMBALA NGUIMBO)",2182,"Mussuma","Non endémique",0,0,0,0,0,0,0,0,0,null,null,"Moxico","BUNDAS (LUMBALA NGUIMBO)","Mussuma",0,0,0,0]
[471,"Angola","AGO","Moxico","BUNDAS (LUMBALA NGUIMBO)",2182,"Ninda","Non endémique",0,0,0,0,0,0,0,0,0,null,null,"Moxico","BUNDAS (LUMBALA NGUIMBO)","Ninda",0,0,0,0]
[472,"Angola","AGO","Moxico","BUNDAS (LUMBALA NGUIMBO)",2182,"Sessa","Faible",135,0,135,0,0,0,0,1,0,null,null,"Moxico","BUNDAS (LUMBALA NGUIMBO)","Sessa",0,0,0,0]
[473,"Angola","AGO","Moxico","Camanongue",2177,"Camanongue","Non endémique",0,0,0,0,0,0,0,0,0,null,null,"Moxico","Camanongue","Camanongue",0,0,0,0]
[474,"Angola","AGO","Moxico","CAMEIA (LUMEJE)",2220,"CAMEIA (Lumege)","Faible",10418,0,10418,0,0,0,0,1,0,null,null,"Moxico","CAMEIA (LUMEJE)","CAMEIA (Lumege)",0,0,0,0]
[475,"Angola","AGO","Moxico","Leua",2179,"Leua","Non endémique",0,0,0,0,0,0,0,0,0,null,null,"Moxico","Leua","Leua",0,0,0,0]
[476,"Angola","AGO","Moxico","Leua",2179,"Liangongo","Non endémique",0,0,0,0,0,0,0,0,0,null,null,"Moxico","Leua","Liangongo",0,0,0,0]
[477,"Angola","AGO","Moxico","Luacano",2180,"Lago-Dilolo","Faible",3826,0,3826,0,0,0,0,1,0,null,null,"Moxico","Luacano","Lago-Dilolo",0,0,0,0]
[478,"Angola","AGO","Moxico","Luacano",2180,"Luacano","Non endémique",0,0,0,0,0,0,0,0,0,null,null,"Moxico","Luacano","Luacano",0,0,0,0]
[479,"Angola","AGO","Moxico","Luau",2181,"Luau","Faible",31614,0,31614,0,0,0,0,1,0,null,null,"Moxico","Luau","Luau",0,0,0,0]
[481,"Angola","AGO","Moxico","Luchazes",2183,"Cangombe","Faible",524,0,524,0,0,0,0,1,0,null,null,"Moxico","Luchazes","Cangombe",0,0,0,0]
[482,"Angola","AGO","Moxico","Luchazes",2183,"Cassamba","Faible",580,0,580,0,0,0,0,1,0,null,null,"Moxico","Luchazes","Cassamba",0,0,0,0]
[480,"Angola","AGO","Moxico","Luchazes",2183,"Luchazes (Cangamba)","Non endémique",0,0,0,0,0,0,0,0,0,null,null,"Moxico","Luchazes","Luchazes (Cangamba)",0,0,0,0]
[483,"Angola","AGO","Moxico","Luchazes",2183,"Muie","Non endémique",0,0,0,0,0,0,0,0,0,null,null,"Moxico","Luchazes","Muie",0,0,0,0]
[484,"Angola","AGO","Moxico","Luchazes",2183,"Tempue","Faible",1623,0,1623,0,0,0,0,1,0,null,null,"Moxico","Luchazes","Tempue",0,0,0,0]
[485,"Angola","AGO","Moxico","Luena",2184,"Cangumbe (Kachipoque)","Non endémique",0,0,0,0,0,0,0,0,0,null,null,"Moxico","Luena","Cangumbe (Kachipoque)",0,0,0,0]
[486,"Angola","AGO","Moxico","Luena",2184,"Lucusse","Faible",6737,0,6737,0,0,0,0,1,0,null,null,"Moxico","Luena","Lucusse",0,0,0,0]
[487,"Angola","AGO","Moxico","Luena",2184,"Luena","Faible",113140,0,113140,0,0,0,0,1,0,null,null,"Moxico","Luena","Luena",0,0,0,0]
[488,"Angola","AGO","Moxico","Luena",2184,"Muangai (Lutuai)","Faible",2160,0,2160,0,0,0,0,1,0,null,null,"Moxico","Luena","Muangai (Lutuai)",0,0,0,0]
[489,"Angola","AGO","Namibe","Bibala",2185,"Bibala","Faible",9253,0,9253,0,0,0,0,1,0,null,null,"Namibe","Bibala","Bibala",0,0,0,0]
[490,"Angola","AGO","Namibe","Bibala",2185,"Caitou","Modérée",3817,1442,5259,0,0,0,0,2,0,null,null,"Namibe","Bibala","Caitou",0,0,0,0]
[491,"Angola","AGO","Namibe","Bibala",2185,"Capangombe","Non endémique",0,0,0,0,0,0,0,0,0,null,null,"Namibe","Bibala","Capangombe",0,0,0,0]
[492,"Angola","AGO","Namibe","Bibala",2185,"Lola","Forte",5212,9845,15057,1,5212,9845,15057,3,0,null,null,"Namibe","Bibala","Lola",5212,9845,15057,1]
[493,"Angola","AGO","Namibe","Camucuio",2186,"Camucuio","Forte",15090,28503,43593,1,15090,28503,43593,3,0,null,null,"Namibe","Camucuio","Camucuio",15090,28503,43593,1]
[494,"Angola","AGO","Namibe","Camucuio",2186,"Chingo","Modérée",1271,481,1752,0,0,0,0,2,0,null,null,"Namibe","Camucuio","Chingo",0,0,0,0]
[495,"Angola","AGO","Namibe","Camucuio",2186,"Mamúe","Modérée",1969,744,2712,0,0,0,0,2,0,null,null,"Namibe","Camucuio","Mamúe",0,0,0,0]
[496,"Angola","AGO","Namibe","Moçamedes",2187,"Bentiaba","Faible",3971,0,3971,0,0,0,0,1,0,null,null,"Namibe","Moçamedes","Bentiaba",0,0,0,0]
[498,"Angola","AGO","Namibe","Moçamedes",2187,"Lucira","Modérée",3971,1500,5472,0,0,0,0,2,0,null,null,"Namibe","Moçamedes","Lucira",0,0,0,0]
[497,"Angola","AGO","Namibe","Moçamedes",2187,"Namibe (Forte Santa Rita)","Non endémique",0,0,0,0,0,0,0,0,0,null,null,"Namibe","Moçamedes","Namibe (Forte Santa Rita)",0,0,0,0]
[499,"Angola","AGO","Namibe","Tombwa",2188,"Baia dos Tigres","Faible",19049,0,19049,0,0,0,0,1,0,null,null,"Namibe","Tombwa","Baia dos Tigres",0,0,0,0]
[500,"Angola","AGO","Namibe","Tombwa",2188,"Iona","Faible",1154,0,1154,0,0,0,0,1,0,null,null,"Namibe","Tombwa","Iona",0,0,0,0]
[501,"Angola","AGO","Namibe","Virei",2189,"Cainde","Faible",6316,0,6316,0,0,0,0,1,0,null,null,"Namibe","Virei","Cainde",0,0,0,0]
[502,"Angola","AGO","Namibe","Virei",2189,"Virei","Non endémique",0,0,0,0,0,0,0,0,0,null,null,"Namibe","Virei","Virei",0,0,0,0]
[506,"Angola","AGO","Uige","Ambuila",2190,"Nova Ambuila","Modérée",4389,1659,6048,1,4389,1659,6048,2,1,null,null,"Uige","Ambuila","Nova Ambuila",4389,1659,6048,1]
[507,"Angola","AGO","Uige","Ambuila",2190,"Quipedro","Faible",1958,0,1958,1,1958,0,1958,1,1,null,null,"Uige","Ambuila","Quipedro",1958,0,1958,1]
[508,"Angola","AGO","Uige","Bembe",2191,"Bembe","Modérée",4352,1644,5997,1,4352,1644,5997,2,1,null,null,"Uige","Bembe","Bembe",4352,1644,5997,1]
[509,"Angola","AGO","Uige","Bembe",2191,"Lucunga","Faible",4151,0,4151,1,4151,0,4151,1,1,null,null,"Uige","Bembe","Lucunga",4151,0,4151,1]
[510,"Angola","AGO","Uige","Bembe",2191,"Mabaia","Forte",3042,5745,8787,1,3042,5745,8787,3,0,null,null,"Uige","Bembe","Mabaia",3042,5745,8787,1]
[511,"Angola","AGO","Uige","Buengas",2192,"Buengas Sul (Quimbianda)","Modérée",4484,1694,6177,1,4484,1694,6177,2,1,null,null,"Uige","Buengas","Buengas Sul (Quimbianda)",4484,1694,6177,1]
[512,"Angola","AGO","Uige","Buengas",2192,"Cuilo Camboso","Modérée",3481,1315,4795,1,3481,1315,4795,2,1,null,null,"Uige","Buengas","Cuilo Camboso",3481,1315,4795,1]
[513,"Angola","AGO","Uige","Buengas",2192,"Nova Esperanca","Non endémique",0,0,0,0,0,0,0,0,1,null,null,"Uige","Buengas","Nova Esperanca",0,0,0,0]
[514,"Angola","AGO","Uige","Bungo",2193,"Bungo/Vila","Modérée",13016,4917,17933,1,13016,4917,17933,2,1,null,null,"Uige","Bungo","Bungo/Vila",13016,4917,17933,1]
[503,"Angola","AGO","Uige","Cangola",2195,"Bengo","Faible",4020,0,4020,0,0,0,0,1,1,null,null,"Uige","Cangola","Bengo",0,0,0,0]
[504,"Angola","AGO","Uige","Cangola",2195,"Caiongo","Modérée",5239,1979,7218,0,0,0,0,{"$f":"IF(H515=\"Forte\",3,IF(H515=\"Modérée\",2,IF(H515=\"Faible\",1,0)))","v":2},1,null,null,"Uige","Cangola","Caiongo",0,0,0,0]
[505,"Angola","AGO","Uige","Cangola",2195,"Cangola","Non endémique",0,0,0,0,0,0,0,0,1,null,null,"Uige","Cangola","Cangola",0,0,0,0]
[515,"Angola","AGO","Uige","Damba",2194,"Camatambo","Modérée",1143,432,1575,1,1143,432,1575,2,1,null,null,"Uige","Damba","Camatambo",1143,432,1575,1]
[516,"Angola","AGO","Uige","Damba",2194,"Damba","Faible",8219,0,8219,1,8219,0,8219,1,1,null,null,"Uige","Damba","Damba",8219,0,8219,1]
[517,"Angola","AGO","Uige","Damba",2194,"Lemboa","Faible",1738,0,1738,1,1738,0,1738,1,1,null,null,"Uige","Damba","Lemboa",1738,0,1738,1]
[518,"Angola","AGO","Uige","Damba",2194,"N'Sosso (Lombe)","Faible",9526,0,9526,1,9526,0,9526,1,1,null,null,"Uige","Damba","N'Sosso (Lombe)",9526,0,9526,1]
[519,"Angola","AGO","Uige","Damba",2194,"Petecusso (Ex-Sacamo)","Faible",2663,0,2663,1,2663,0,2663,1,1,null,null,"Uige","Damba","Petecusso (Ex-Sacamo)",2663,0,2663,1]
[524,"Angola","AGO","Uige","Maquela do Zombo",2198,"Beu","Faible",6576,0,6576,1,6576,0,6576,1,1,null,null,"Uige","Maquela do Zombo","Beu",6576,0,6576,1]
[525,"Angola","AGO","Uige","Maquela do Zombo",2198,"Cuilo Futa","Faible",3459,0,3459,1,3459,0,3459,1,1,null,null,"Uige","Maquela do Zombo","Cuilo Futa",3459,0,3459,1]
[526,"Angola","AGO","Uige","Maquela do Zombo",2198,"Maquela do Zombo","Faible",23834,0,23834,1,23834,0,23834,1,1,null,null,"Uige","Maquela do Zombo","Maquela do Zombo",23834,0,23834,1]
[527,"Angola","AGO","Uige","Maquela do Zombo",2198,"Quibocolo","Modérée",2912,1100,4011,1,2912,1100,4011,2,1,null,null,"Uige","Maquela do Zombo","Quibocolo",2912,1100,4011,1]
[528,"Angola","AGO","Uige","Maquela do Zombo",2198,"Sacandica","Faible",7837,0,7837,1,7837,0,7837,1,1,null,null,"Uige","Maquela do Zombo","Sacandica",7837,0,7837,1]
[529,"Angola","AGO","Uige","Milunga",2199,"Macocola","Non endémique",0,0,0,0,0,0,0,0,1,null,null,"Uige","Milunga","Macocola",0,0,0,0]
[530,"Angola","AGO","Uige","Milunga",2199,"Macolo","Modérée",1727,653,2381,1,1727,653,2381,2,1,null,null,"Uige","Milunga","Macolo",1727,653,2381,1]
[531,"Angola","AGO","Uige","Milunga",2199,"Massau","Faible",3647,0,3647,1,3647,0,3647,1,1,null,null,"Uige","Milunga","Massau",3647,0,3647,1]
[532,"Angola","AGO","Uige","Milunga",2199,"Milunga (Santa Cruz)","Faible",5194,0,5194,1,5194,0,5194,1,1,null,null,"Uige","Milunga","Milunga (Santa Cruz)",5194,0,5194,1]
[533,"Angola","AGO","Uige","Mucaba",2200,"Mucaba","Faible",13503,0,13503,1,13503,0,13503,1,1,null,null,"Uige","Mucaba","Mucaba",13503,0,13503,1]
[534,"Angola","AGO","Uige","Mucaba",2200,"Uando Mucaba","Faible",1903,0,1903,1,1903,0,1903,1,1,null,null,"Uige","Mucaba","Uando Mucaba",1903,0,1903,1]
[535,"Angola","AGO","Uige","Negage",2201,"Dimuca","Faible",4048,0,4048,1,4048,0,4048,1,1,null,null,"Uige","Negage","Dimuca",4048,0,4048,1]
[536,"Angola","AGO","Uige","Negage",2201,"Negage","Modérée",40272,15214,55486,1,40272,15214,55486,2,1,null,null,"Uige","Negage","Negage",40272,15214,55486,1]
[537,"Angola","AGO","Uige","Negage",2201,"Quisseque","Modérée",3873,1463,5336,1,3873,1463,5336,2,1,null,null,"Uige","Negage","Quisseque",3873,1463,5336,1]
[538,"Angola","AGO","Uige","Puri",2202,"Puri/Sede","Non endémique",0,0,0,0,0,0,0,0,1,null,null,"Uige","Puri","Puri/Sede",0,0,0,0]
[543,"Angola","AGO","Uige","Quimbele",2196,"Alto Zaza","Faible",7013,0,7013,1,7013,0,7013,1,1,null,null,"Uige","Quimbele","Alto Zaza",7013,0,7013,1]
[544,"Angola","AGO","Uige","Quimbele",2196,"Cuango","Faible",6725,0,6725,1,6725,0,6725,1,1,null,null,"Uige","Quimbele","Cuango",6725,0,6725,1]
[545,"Angola","AGO","Uige","Quimbele",2196,"Icoca","Non endémique",0,0,0,0,0,0,0,0,1,null,null,"Uige","Quimbele","Icoca",0,0,0,0]
[546,"Angola","AGO","Uige","Quimbele",2196,"Quimbele","Non endémique",0,0,0,0,0,0,0,0,1,null,null,"Uige","Quimbele","Quimbele",0,0,0,0]
[520,"Angola","AGO","Uige","Quitexe",2197,"Aldeia Vissosa (Quitende)","Modérée",1998,755,2752,1,1998,755,2752,2,1,null,null,"Uige","Quitexe","Aldeia Vissosa (Quitende)",1998,755,2752,1]
[521,"Angola","AGO","Uige","Quitexe",2197,"Cambamba","Modérée",1498,566,2064,1,1498,566,2064,2,1,null,null,"Uige","Quitexe","Cambamba",1498,566,2064,1]
[522,"Angola","AGO","Uige","Quitexe",2197,"Quitexe","Non endémique",0,0,0,0,0,0,0,0,1,null,null,"Uige","Quitexe","Quitexe",0,0,0,0]
[523,"Angola","AGO","Uige","Quitexe",2197,"Vista Alegre (Quifuafua)","Non endémique",0,0,0,0,0,0,0,0,1,null,null,"Uige","Quitexe","Vista Alegre (Quifuafua)",0,0,0,0]
[539,"Angola","AGO","Uige","Sanza Pombo",2203,"Alfandega","Modérée",1354,511,1865,1,1354,511,1865,2,1,null,null,"Uige","Sanza Pombo","Alfandega",1354,511,1865,1]
[540,"Angola","AGO","Uige","Sanza Pombo",2203,"Cuilo Pombo","Faible",3494,0,3494,1,3494,0,3494,1,1,null,null,"Uige","Sanza Pombo","Cuilo Pombo",3494,0,3494,1]
[541,"Angola","AGO","Uige","Sanza Pombo",2203,"Sanza Pombo","Modérée",14953,5650,20603,1,14953,5650,20603,2,1,null,null,"Uige","Sanza Pombo","Sanza Pombo",14953,5650,20603,1]
[542,"Angola","AGO","Uige","Sanza Pombo",2203,"Uamba","Faible",4160,0,4160,1,4160,0,4160,1,1,null,null,"Uige","Sanza Pombo","Uamba",4160,0,4160,1]
[547,"Angola","AGO","Uige","Songo",2204,"Quivuenga","Forte",3190,6024,9214,1,3190,6024,9214,3,0,null,null,"Uige","Songo","Quivuenga",3190,6024,9214,1]
[548,"Angola","AGO","Uige","Songo",2204,"Songo","Forte",18421,34795,53216,1,18421,34795,53216,3,0,null,null,"Uige","Songo","Songo",18421,34795,53216,1]
[549,"Angola","AGO","Uige","Uige",2205,"Uige","Forte",181900,343589,525489,1,181900,343589,525489,3,0,null,null,"Uige","Uige","Uige",181900,343589,525489,1]
[550,"Angola","AGO","Zaire","Cuimba",2206,"Buela","Modérée",1383,523,1906,1,1383,523,1906,2,1,null,null,"Zaire","Cuimba","Buela",1383,523,1906,1]
[551,"Angola","AGO","Zaire","Cuimba",2206,"Cuimba","Non endémique",0,0,0,0,0,0,0,0,1,null,null,"Zaire","Cuimba","Cuimba",0,0,0,0]
[552,"Angola","AGO","Zaire","Cuimba",2206,"Luvaca","Non endémique",0,0,0,0,0,0,0,0,1,null,null,"Zaire","Cuimba","Luvaca",0,0,0,0]
[553,"Angola","AGO","Zaire","Cuimba",2206,"Serra da Canda","Non endémique",0,0,0,0,0,0,0,0,1,null,null,"Zaire","Cuimba","Serra da Canda",0,0,0,0]
[554,"Angola","AGO","Zaire","Mbanza Kongo",2207,"Calambata (Kalambota)","Modérée",1009,381,1390,1,1009,381,1390,2,1,null,null,"Zaire","Mbanza Kongo","Calambata (Kalambota)",1009,381,1390,1]
[555,"Angola","AGO","Zaire","Mbanza Kongo",2207,"Caluca","Non endémique",0,0,0,0,0,0,0,0,1,null,null,"Zaire","Mbanza Kongo","Caluca",0,0,0,0]
[556,"Angola","AGO","Zaire","Mbanza Kongo",2207,"Luvo","Forte",3944,7450,11394,1,3944,7450,11394,3,0,null,null,"Zaire","Mbanza Kongo","Luvo",3944,7450,11394,1]
[557,"Angola","AGO","Zaire","Mbanza Kongo",2207,"Madimba","Modérée",1129,426,1555,1,1129,426,1555,2,1,null,null,"Zaire","Mbanza Kongo","Madimba",1129,426,1555,1]
[558,"Angola","AGO","Zaire","Mbanza Kongo",2207,"Mbanza Kongo","Modérée",55615,21010,76625,1,55615,21010,76625,2,1,null,null,"Zaire","Mbanza Kongo","Mbanza Kongo",55615,21010,76625,1]
[559,"Angola","AGO","Zaire","Mbanza Kongo",2207,"Quindeje","Modérée",1765,668,2433,1,1765,668,2433,2,1,null,null,"Zaire","Mbanza Kongo","Quindeje",1765,668,2433,1]
[560,"Angola","AGO","Zaire","Noqui",2208,"Lufico","Non endémique",0,0,0,0,0,0,0,0,1,null,null,"Zaire","Noqui","Lufico",0,0,0,0]
[561,"Angola","AGO","Zaire","Noqui",2208,"Lulendo (Mpala)","Modérée",3821,1444,5265,1,3821,1444,5265,2,1,null,null,"Zaire","Noqui","Lulendo (Mpala)",3821,1444,5265,1]
[562,"Angola","AGO","Zaire","Noqui",2208,"Mpala","Non endémique",0,0,0,0,0,0,0,0,1,null,null,"Zaire","Noqui","Mpala",0,0,0,0]
[563,"Angola","AGO","Zaire","Nzeto",2209,"Musserra","Non endémique",0,0,0,0,0,0,0,0,1,null,null,"Zaire","Nzeto","Musserra",0,0,0,0]
[564,"Angola","AGO","Zaire","Nzeto",2209,"Nzeto","Faible",10007,0,10007,1,10007,0,10007,1,1,null,null,"Zaire","Nzeto","Nzeto",10007,0,10007,1]
[565,"Angola","AGO","Zaire","Nzeto",2209,"Quibala Norte (Loge)","Forte",1812,3422,5234,1,1812,3422,5234,3,0,null,null,"Zaire","Nzeto","Quibala Norte (Loge)",1812,3422,5234,1]
[566,"Angola","AGO","Zaire","Nzeto",2209,"Quindeje (Quindenje)","Faible",3509,0,3509,1,3509,0,3509,1,1,null,null,"Zaire","Nzeto","Quindeje (Quindenje)",3509,0,3509,1]
[567,"Angola","AGO","Zaire","Soyo",2210,"Mangua Grande","Non endémique",0,0,0,0,0,0,0,0,1,null,null,"Zaire","Soyo","Mangua Grande",0,0,0,0]
[568,"Angola","AGO","Zaire","Soyo",2210,"Pedra do Feitiço","Faible",1190,0,1190,1,1190,0,1190,1,1,null,null,"Zaire","Soyo","Pedra do Feitiço",1190,0,1190,1]
[569,"Angola","AGO","Zaire","Soyo",2210,"Quelo","Non endémique",0,0,0,0,0,0,0,0,1,null,null,"Zaire","Soyo","Quelo",0,0,0,0]
[570,"Angola","AGO","Zaire","Soyo",2210,"Soyo","Modérée",74728,28230,102958,1,74728,28230,102958,2,1,null,null,"Zaire","Soyo","Soyo",74728,28230,102958,1]
[571,"Angola","AGO","Zaire","Soyo",2210,"Sumba","Forte",2153,4067,6220,1,2153,4067,6220,3,0,null,null,"Zaire","Soyo","Sumba",2153,4067,6220,1]
[572,"Angola","AGO","Zaire","Tomboco",2211,"Quinsimba (Kinximba)","Non endémique",0,0,0,0,0,0,0,0,1,null,null,"Zaire","Tomboco","Quinsimba (Kinximba)",0,0,0,0]
[573,"Angola","AGO","Zaire","Tomboco",2211,"Quinzau","Non endémique",0,0,0,0,0,0,0,0,1,null,null,"Zaire","Tomboco","Quinzau",0,0,0,0]
[574,"Angola","AGO","Zaire","Tomboco",2211,"Tomboco","Non endémique",0,0,0,0,0,0,0,0,1,null,null,"Zaire","Tomboco","Tomboco",0,0,0,0]

{"sheet":"IVM","index":5,"n_rows":172,"n_cols":17,"rows_kept":172,"cut":false,"hidden":false,"merged":[[5,10,5,16],[6,15,7,15],[6,16,7,16],[6,14,7,14],[6,10,7,10],[6,11,7,11],[6,12,7,12],[6,13,7,13],[5,0,5,2],[5,4,5,5],[5,6,5,9],[6,6,7,6],[3,0,3,2],[3,4,3,5],[6,3,7,3],[6,4,7,4],[6,5,7,5],[6,0,7,0],[6,1,7,1],[6,2,7,2],[6,7,6,9]]}
["Ivermectine (IVM)"]
["Structure administrative, population ciblée par groupe d'âge, plan de traitement et information sur les comprimés"]
[]
["TOTAL",null,null,{"$f":"SUM(D$9:D$1000)","v":7728560},null,null,{"$f":"SUM(G$9:G$1000)","v":1912893},5458531,0,5458531,2827092.8000000003,11882970.4,3400916.4,18110979.600000001,0,18110979.600000001,36258]
[]
["Structure administrative du pays",null,null,null,"Plan de traitement",null,"Population cible",null,null,null,"Ivermectine (IVM)"]
["Pays","Région/Département","District","Population nécessitant un traitement avec IVM","FL","Oncho","FL","Oncho",null,null,"FL uniquement","Oncho uniquement","FL+Oncho","Total requis","Reste en stock","Comprimés devant être fournis","Flacons (3mg)\n500 comprimés"]
[null,null,null,null,null,null,null,"dans le district","dans les village","total"]
[{"$f":"IF(INTRO!$E$39=\"Non endémique\",\" \",IF(COUNTRY_INFO!A9=0,\" \",COUNTRY_INFO!A9))","v":"Angola"},{"$f":"IF(INTRO!$E$39=\"Non endémique\",\" \",IF(COUNTRY_INFO!B9=0,\" \",COUNTRY_INFO!B9))","v":"BENGO"},{"$f":"IF(INTRO!$E$39=\"Non endémique\",\" \",IF(COUNTRY_INFO!C9=0,\" \",COUNTRY_INFO!C9))","v":"AMBRIZ"},{"$f":"IF(INTRO!$E$39=\"Non endémique\",0,IF(INTRO!$E$39=\"Endémique mais pas de CP\",IF(COUNTRY_INFO!$H9=1,COUNTRY_INFO!F9+COUNTRY_INFO!G9,0),IF(COUNTRY_INFO!$H9=1,COUNTRY_INFO!F9+COUNTRY_INFO!G9,IF(COUNTRY_INFO!$I9=1,IF(COUNTRY_INFO!N9>=(COUNTRY_INFO!F9+COUNTRY_INFO!G9),COUNTRY_INFO!F9+COUNTRY_INFO!G9,COUNTRY_INFO!$N9),0))))","v":26763},{"$f":"IF(AND(INTRO!$E$39=\"Non endémique\",INTRO!$E$37=\"Non endémique\"),\"Non requis\",IF(INTRO!$E$39=\"Non endémique\",\"Traiter avec DEC\",COUNTRY_INFO!Q9))","v":1},{"$f":"IF(INTRO!$E$39<>\"Non endémique\",COUNTRY_INFO!R9,\"Non requis\")","v":0},{"$f":"IF(COUNTRY_INFO!H9=1, IF($E9=1,IF(ALB_MBD!$J9<>\" \",COUNTRY_INFO!F9+COUNTRY_INFO!G9-ALB_MBD!$J9,COUNTRY_INFO!F9+COUNTRY_INFO!G9), 0),0)","v":1390},{"$f":"IF(INTRO!$E$39<>\"Endémique\",0, IF(AND(COUNTRY_INFO!$I9=1,$F9<>0),IF(COUNTRY_INFO!N9>=(COUNTRY_INFO!F9+COUNTRY_INFO!G9),COUNTRY_INFO!F9+COUNTRY_INFO!G9,COUNTRY_INFO!$N9), 0))","v":0},null,{"$f":"IF(I9=0,H9,IF(I9>H9,H9,I9))","v":0},{"$f":"IF(G9<J9,0,IF($E9=1, (G9-J9)*2.8, 0))","v":3891.9999999999995},{"$f":"IF($E9<$F9, J9*(F9-E9)*2.8, 0)","v":0},{"$f":"IF(AND($E9=1, $F9<>0), J9*2.8, 0)","v":0},{"$f":"SUM(K9:M9)","v":3891.9999999999995},null,{"$f":"IF($N9>$O9,$N9-$O9,0)","v":3891.9999999999995},{"$f":"ROUNDUP($N9/500,0)","v":8}]
[{"$f":"IF(INTRO!$E$39=\"Non endémique\",\" \",IF(COUNTRY_INFO!A10=0,\" \",COUNTRY_INFO!A10))","v":"Angola"},{"$f":"IF(INTRO!$E$39=\"Non endémique\",\" \",IF(COUNTRY_INFO!B10=0,\" \",COUNTRY_INFO!B10))","v":"BENGO"},{"$f":"IF(INTRO!$E$39=\"Non endémique\",\" \",IF(COUNTRY_INFO!C10=0,\" \",COUNTRY_INFO!C10))","v":"BULA ATUMBA"},{"$f":"IF(INTRO!$E$39=\"Non endémique\",0,IF(INTRO!$E$39=\"Endémique mais pas de CP\",IF(COUNTRY_INFO!$H10=1,COUNTRY_INFO!F10+COUNTRY_INFO!G10,0),IF(COUNTRY_INFO!$H10=1,COUNTRY_INFO!F10+COUNTRY_INFO!G10,IF(COUNTRY_INFO!$I10=1,IF(COUNTRY_INFO!N10>=(COUNTRY_INFO!F10+COUNTRY_INFO!G10),COUNTRY_INFO!F10+COUNTRY_INFO!G10,COUNTRY_INFO!$N10),0))))","v":15854},{"$f":"IF(AND(INTRO!$E$39=\"Non endémique\",INTRO!$E$37=\"Non endémique\"),\"Non requis\",IF(INTRO!$E$39=\"Non endémique\",\"Traiter avec DEC\",COUNTRY_INFO!Q10))","v":1},{"$f":"IF(INTRO!$E$39<>\"Non endémique\",COUNTRY_INFO!R10,\"Non requis\")","v":0},{"$f":"IF(COUNTRY_INFO!H10=1, IF($E10=1,IF(ALB_MBD!$J10<>\" \",COUNTRY_INFO!F10+COUNTRY_INFO!G10-ALB_MBD!$J10,COUNTRY_INFO!F10+COUNTRY_INFO!G10), 0),0)","v":823},{"$f":"IF(INTRO!$E$39<>\"Endémique\",0, IF(AND(COUNTRY_INFO!$I10=1,$F10<>0),IF(COUNTRY_INFO!N10>=(COUNTRY_INFO!F10+COUNTRY_INFO!G10),COUNTRY_INFO!F10+COUNTRY_INFO!G10,COUNTRY_INFO!$N10), 0))","v":0},null,0,2304.3999999999996,0,0,2304.3999999999996,null,2304.3999999999996,5]
[{"$f":"IF(INTRO!$E$39=\"Non endémique\",\" \",IF(COUNTRY_INFO!A11=0,\" \",COUNTRY_INFO!A11))","v":"Angola"},{"$f":"IF(INTRO!$E$39=\"Non endémique\",\" \",IF(COUNTRY_INFO!B11=0,\" \",COUNTRY_INFO!B11))","v":"BENGO"},{"$f":"IF(INTRO!$E$39=\"Non endémique\",\" \",IF(COUNTRY_INFO!C11=0,\" \",COUNTRY_INFO!C11))","v":"DANDE"},{"$f":"IF(INTRO!$E$39=\"Non endémique\",0,IF(INTRO!$E$39=\"Endémique mais pas de CP\",IF(COUNTRY_INFO!$H11=1,COUNTRY_INFO!F11+COUNTRY_INFO!G11,0),IF(COUNTRY_INFO!$H11=1,COUNTRY_INFO!F11+COUNTRY_INFO!G11,IF(COUNTRY_INFO!$I11=1,IF(COUNTRY_INFO!N11>=(COUNTRY_INFO!F11+COUNTRY_INFO!G11),COUNTRY_INFO!F11+COUNTRY_INFO!G11,COUNTRY_INFO!$N11),0))))","v":262210},{"$f":"IF(AND(INTRO!$E$39=\"Non endémique\",INTRO!$E$37=\"Non endémique\"),\"Non requis\",IF(INTRO!$E$39=\"Non endémique\",\"Traiter avec DEC\",COUNTRY_INFO!Q11))","v":1},{"$f":"IF(INTRO!$E$39<>\"Non endémique\",COUNTRY_INFO!R11,\"Non requis\")","v":0},{"$f":"IF(COUNTRY_INFO!H11=1, IF($E11=1,IF(ALB_MBD!$J11<>\" \",COUNTRY_INFO!F11+COUNTRY_INFO!G11-ALB_MBD!$J11,COUNTRY_INFO!F11+COUNTRY_INFO!G11), 0),0)","v":13606},{"$f":"IF(INTRO!$E$39<>\"Endémique\",0, IF(AND(COUNTRY_INFO!$I11=1,$F11<>0),IF(COUNTRY_INFO!N11>=(COUNTRY_INFO!F11+COUNTRY_INFO!G11),COUNTRY_INFO!F11+COUNTRY_INFO!G11,COUNTRY_INFO!$N11), 0))","v":0},null,0,38096.799999999996,0,0,38096.799999999996,null,38096.799999999996,77]
[{"$f":"IF(INTRO!$E$39=\"Non endémique\",\" \",IF(COUNTRY_INFO!A12=0,\" \",COUNTRY_INFO!A12))","v":"Angola"},{"$f":"IF(INTRO!$E$39=\"Non endémique\",\" \",IF(COUNTRY_INFO!B12=0,\" \",COUNTRY_INFO!B12))","v":"BENGO"},{"$f":"IF(INTRO!$E$39=\"Non endémique\",\" \",IF(COUNTRY_INFO!C12=0,\" \",COUNTRY_INFO!C12))","v":"DEMBOS"},{"$f":"IF(INTRO!$E$39=\"Non endémique\",0,IF(INTRO!$E$39=\"Endémique mais pas de CP\",IF(COUNTRY_INFO!$H12=1,COUNTRY_INFO!F12+COUNTRY_INFO!G12,0),IF(COUNTRY_INFO!$H12=1,COUNTRY_INFO!F12+COUNTRY_INFO!G12,IF(COUNTRY_INFO!$I12=1,IF(COUNTRY_INFO!N12>=(COUNTRY_INFO!F12+COUNTRY_INFO!G12),COUNTRY_INFO!F12+COUNTRY_INFO!G12,COUNTRY_INFO!$N12),0))))","v":35418},{"$f":"IF(AND(INTRO!$E$39=\"Non endémique\",INTRO!$E$37=\"Non endémique\"),\"Non requis\",IF(INTRO!$E$39=\"Non endémique\",\"Traiter avec DEC\",COUNTRY_INFO!Q12))","v":1},{"$f":"IF(INTRO!$E$39<>\"Non endémique\",COUNTRY_INFO!R12,\"Non requis\")","v":0},{"$f":"IF(COUNTRY_INFO!H12=1, IF($E12=1,IF(ALB_MBD!$J12<>\" \",COUNTRY_INFO!F12+COUNTRY_INFO!G12-ALB_MBD!$J12,COUNTRY_INFO!F12+COUNTRY_INFO!G12), 0),0)","v":1838},{"$f":"IF(INTRO!$E$39<>\"Endémique\",0, IF(AND(COUNTRY_INFO!$I12=1,$F12<>0),IF(COUNTRY_INFO!N12>=(COUNTRY_INFO!F12+COUNTRY_INFO!G12),COUNTRY_INFO!F12+COUNTRY_INFO!G12,COUNTRY_INFO!$N12), 0))","v":0},null,0,5146.3999999999996,0,0,5146.3999999999996,null,5146.3999999999996,11]
[{"$f":"IF(INTRO!$E$39=\"Non endémique\",\" \",IF(COUNTRY_INFO!A13=0,\" \",COUNTRY_INFO!A13))","v":"Angola"},{"$f":"IF(INTRO!$E$39=\"Non endémique\",\" \",IF(COUNTRY_INFO!B13=0,\" \",COUNTRY_INFO!B13))","v":"BENGO"},{"$f":"IF(INTRO!$E$39=\"Non endémique\",\" \",IF(COUNTRY_INFO!C13=0,\" \",COUNTRY_INFO!C13))","v":"NAMBUANGONGO"},{"$f":"IF(INTRO!$E$39=\"Non endémique\",0,IF(INTRO!$E$39=\"Endémique mais pas de CP\",IF(COUNTRY_INFO!$H13=1,COUNTRY_INFO!F13+COUNTRY_INFO!G13,0),IF(COUNTRY_INFO!$H13=1,COUNTRY_INFO!F13+COUNTRY_INFO!G13,IF(COUNTRY_INFO!$I13=1,IF(COUNTRY_INFO!N13>=(COUNTRY_INFO!F13+COUNTRY_INFO!G13),COUNTRY_INFO!F13+COUNTRY_INFO!G13,COUNTRY_INFO!$N13),0))))","v":71739},{"$f":"IF(AND(INTRO!$E$39=\"Non endémique\",INTRO!$E$37=\"Non endémique\"),\"Non requis\",IF(INTRO!$E$39=\"Non endémique\",\"Traiter avec DEC\",COUNTRY_INFO!Q13))","v":1},{"$f":"IF(INTRO!$E$39<>\"Non endémique\",COUNTRY_INFO!R13,\"Non requis\")","v":0},{"$f":"IF(COUNTRY_INFO!H13=1, IF($E13=1,IF(ALB_MBD!$J13<>\" \",COUNTRY_INFO!F13+COUNTRY_INFO!G13-ALB_MBD!$J13,COUNTRY_INFO!F13+COUNTRY_INFO!G13), 0),0)","v":3723},{"$f":"IF(INTRO!$E$39<>\"Endémique\",0, IF(AND(COUNTRY_INFO!$I13=1,$F13<>0),IF(COUNTRY_INFO!N13>=(COUNTRY_INFO!F13+COUNTRY_INFO!G13),COUNTRY_INFO!F13+COUNTRY_INFO!G13,COUNTRY_INFO!$N13), 0))","v":0},null,0,10424.4,0,0,10424.4,null,10424.4,21]
[{"$f":"IF(INTRO!$E$39=\"Non endémique\",\" \",IF(COUNTRY_INFO!A14=0,\" \",COUNTRY_INFO!A14))","v":"Angola"},{"$f":"IF(INTRO!$E$39=\"Non endémique\",\" \",IF(COUNTRY_INFO!B14=0,\" \",COUNTRY_INFO!B14))","v":"BENGO"},{"$f":"IF(INTRO!$E$39=\"Non endémique\",\" \",IF(COUNTRY_INFO!C14=0,\" \",COUNTRY_INFO!C14))","v":"PANGO ALUQUEM"},{"$f":"IF(INTRO!$E$39=\"Non endémique\",0,IF(INTRO!$E$39=\"Endémique mais pas de CP\",IF(COUNTRY_INFO!$H14=1,COUNTRY_INFO!F14+COUNTRY_INFO!G14,0),IF(COUNTRY_INFO!$H14=1,COUNTRY_INFO!F14+COUNTRY_INFO!G14,IF(COUNTRY_INFO!$I14=1,IF(COUNTRY_INFO!N14>=(COUNTRY_INFO!F14+COUNTRY_INFO!G14),COUNTRY_INFO!F14+COUNTRY_INFO!G14,COUNTRY_INFO!$N14),0))))","v":0},{"$f":"IF(AND(INTRO!$E$39=\"Non endémique\",INTRO!$E$37=\"Non endémique\"),\"Non requis\",IF(INTRO!$E$39=\"Non endémique\",\"Traiter avec DEC\",COUNTRY_INFO!Q14))","v":0},{"$f":"IF(INTRO!$E$39<>\"Non endémique\",COUNTRY_INFO!R14,\"Non requis\")","v":0},{"$f":"IF(COUNTRY_INFO!H14=1, IF($E14=1,IF(ALB_MBD!$J14<>\" \",COUNTRY_INFO!F14+COUNTRY_INFO!G14-ALB_MBD!$J14,COUNTRY_INFO!F14+COUNTRY_INFO!G14), 0),0)","v":0},{"$f":"IF(INTRO!$E$39<>\"Endémique\",0, IF(AND(COUNTRY_INFO!$I14=1,$F14<>0),IF(COUNTRY_INFO!N14>=(COUNTRY_INFO!F14+COUNTRY_INFO!G14),COUNTRY_INFO!F14+COUNTRY_INFO!G14,COUNTRY_INFO!$N14), 0))","v":0},null,0,0,0,0,0,null,0,0]
[{"$f":"IF(INTRO!$E$39=\"Non endémique\",\" \",IF(COUNTRY_INFO!A15=0,\" \",COUNTRY_INFO!A15))","v":"Angola"},{"$f":"IF(INTRO!$E$39=\"Non endémique\",\" \",IF(COUNTRY_INFO!B15=0,\" \",COUNTRY_INFO!B15))","v":"BENGUELA"},{"$f":"IF(INTRO!$E$39=\"Non endémique\",\" \",IF(COUNTRY_INFO!C15=0,\" \",COUNTRY_INFO!C15))","v":"BAIA FARTA"},{"$f":"IF(INTRO!$E$39=\"Non endémique\",0,IF(INTRO!$E$39=\"Endémique mais pas de CP\",IF(COUNTRY_INFO!$H15=1,COUNTRY_INFO!F15+COUNTRY_INFO!G15,0),IF(COUNTRY_INFO!$H15=1,COUNTRY_INFO!F15+COUNTRY_INFO!G15,IF(COUNTRY_INFO!$I15=1,IF(COUNTRY_INFO!N15>=(COUNTRY_INFO!F15+COUNTRY_INFO!G15),COUNTRY_INFO!F15+COUNTRY_INFO!G15,COUNTRY_INFO!$N15),0))))","v":0},{"$f":"IF(AND(INTRO!$E$39=\"Non endémique\",INTRO!$E$37=\"Non endémique\"),\"Non requis\",IF(INTRO!$E$39=\"Non endémique\",\"Traiter avec DEC\",COUNTRY_INFO!Q15))","v":0},{"$f":"IF(INTRO!$E$39<>\"Non endémique\",COUNTRY_INFO!R15,\"Non requis\")","v":0},{"$f":"IF(COUNTRY_INFO!H15=1, IF($E15=1,IF(ALB_MBD!$J15<>\" \",COUNTRY_INFO!F15+COUNTRY_INFO!G15-ALB_MBD!$J15,COUNTRY_INFO!F15+COUNTRY_INFO!G15), 0),0)","v":0},{"$f":"IF(INTRO!$E$39<>\"Endémique\",0, IF(AND(COUNTRY_INFO!$I15=1,$F15<>0),IF(COUNTRY_INFO!N15>=(COUNTRY_INFO!F15+COUNTRY_INFO!G15),COUNTRY_INFO!F15+COUNTRY_INFO!G15,COUNTRY_INFO!$N15), 0))","v":0},null,0,0,0,0,0,null,0,0]
[{"$f":"IF(INTRO!$E$39=\"Non endémique\",\" \",IF(COUNTRY_INFO!A16=0,\" \",COUNTRY_INFO!A16))","v":"Angola"},{"$f":"IF(INTRO!$E$39=\"Non endémique\",\" \",IF(COUNTRY_INFO!B16=0,\" \",COUNTRY_INFO!B16))","v":"BENGUELA"},{"$f":"IF(INTRO!$E$39=\"Non endémique\",\" \",IF(COUNTRY_INFO!C16=0,\" \",COUNTRY_INFO!C16))","v":"BALOMBO"},{"$f":"IF(INTRO!$E$39=\"Non endémique\",0,IF(INTRO!$E$39=\"Endémique mais pas de CP\",IF(COUNTRY_INFO!$H16=1,COUNTRY_INFO!F16+COUNTRY_INFO!G16,0),IF(COUNTRY_INFO!$H16=1,COUNTRY_INFO!F16+COUNTRY_INFO!G16,IF(COUNTRY_INFO!$I16=1,IF(COUNTRY_INFO!N16>=(COUNTRY_INFO!F16+COUNTRY_INFO!G16),COUNTRY_INFO!F16+COUNTRY_INFO!G16,COUNTRY_INFO!$N16),0))))","v":0},{"$f":"IF(AND(INTRO!$E$39=\"Non endémique\",INTRO!$E$37=\"Non endémique\"),\"Non requis\",IF(INTRO!$E$39=\"Non endémique\",\"Traiter avec DEC\",COUNTRY_INFO!Q16))","v":0},{"$f":"IF(INTRO!$E$39<>\"Non endémique\",COUNTRY_INFO!R16,\"Non requis\")","v":0},{"$f":"IF(COUNTRY_INFO!H16=1, IF($E16=1,IF(ALB_MBD!$J16<>\" \",COUNTRY_INFO!F16+COUNTRY_INFO!G16-ALB_MBD!$J16,COUNTRY_INFO!F16+COUNTRY_INFO!G16), 0),0)","v":0},{"$f":"IF(INTRO!$E$39<>\"Endémique\",0, IF(AND(COUNTRY_INFO!$I16=1,$F16<>0),IF(COUNTRY_INFO!N16>=(COUNTRY_INFO!F16+COUNTRY_INFO!G16),COUNTRY_INFO!F16+COUNTRY_INFO!G16,COUNTRY_INFO!$N16), 0))","v":0},null,0,0,0,0,0,null,0,0]
[{"$f":"IF(INTRO!$E$39=\"Non endémique\",\" \",IF(COUNTRY_INFO!A17=0,\" \",COUNTRY_INFO!A17))","v":"Angola"},{"$f":"IF(INTRO!$E$39=\"Non endémique\",\" \",IF(COUNTRY_INFO!B17=0,\" \",COUNTRY_INFO!B17))","v":"BENGUELA"},{"$f":"IF(INTRO!$E$39=\"Non endémique\",\" \",IF(COUNTRY_INFO!C17=0,\" \",COUNTRY_INFO!C17))","v":"BENGUELA"},{"$f":"IF(INTRO!$E$39=\"Non endémique\",0,IF(INTRO!$E$39=\"Endémique mais pas de CP\",IF(COUNTRY_INFO!$H17=1,COUNTRY_INFO!F17+COUNTRY_INFO!G17,0),IF(COUNTRY_INFO!$H17=1,COUNTRY_INFO!F17+COUNTRY_INFO!G17,IF(COUNTRY_INFO!$I17=1,IF(COUNTRY_INFO!N17>=(COUNTRY_INFO!F17+COUNTRY_INFO!G17),COUNTRY_INFO!F17+COUNTRY_INFO!G17,COUNTRY_INFO!$N17),0))))","v":0},{"$f":"IF(AND(INTRO!$E$39=\"Non endémique\",INTRO!$E$37=\"Non endémique\"),\"Non requis\",IF(INTRO!$E$39=\"Non endémique\",\"Traiter avec DEC\",COUNTRY_INFO!Q17))","v":0},{"$f":"IF(INTRO!$E$39<>\"Non endémique\",COUNTRY_INFO!R17,\"Non requis\")","v":0},{"$f":"IF(COUNTRY_INFO!H17=1, IF($E17=1,IF(ALB_MBD!$J17<>\" \",COUNTRY_INFO!F17+COUNTRY_INFO!G17-ALB_MBD!$J17,COUNTRY_INFO!F17+COUNTRY_INFO!G17), 0),0)","v":0},{"$f":"IF(INTRO!$E$39<>\"Endémique\",0, IF(AND(COUNTRY_INFO!$I17=1,$F17<>0),IF(COUNTRY_INFO!N17>=(COUNTRY_INFO!F17+COUNTRY_INFO!G17),COUNTRY_INFO!F17+COUNTRY_INFO!G17,COUNTRY_INFO!$N17), 0))","v":0},null,0,0,0,0,0,null,0,0]
[{"$f":"IF(INTRO!$E$39=\"Non endémique\",\" \",IF(COUNTRY_INFO!A18=0,\" \",COUNTRY_INFO!A18))","v":"Angola"},{"$f":"IF(INTRO!$E$39=\"Non endémique\",\" \",IF(COUNTRY_INFO!B18=0,\" \",COUNTRY_INFO!B18))","v":"BENGUELA"},{"$f":"IF(INTRO!$E$39=\"Non endémique\",\" \",IF(COUNTRY_INFO!C18=0,\" \",COUNTRY_INFO!C18))","v":"BOCOIO"},{"$f":"IF(INTRO!$E$39=\"Non endémique\",0,IF(INTRO!$E$39=\"Endémique mais pas de CP\",IF(COUNTRY_INFO!$H18=1,COUNTRY_INFO!F18+COUNTRY_INFO!G18,0),IF(COUNTRY_INFO!$H18=1,COUNTRY_INFO!F18+COUNTRY_INFO!G18,IF(COUNTRY_INFO!$I18=1,IF(COUNTRY_INFO!N18>=(COUNTRY_INFO!F18+COUNTRY_INFO!G18),COUNTRY_INFO!F18+COUNTRY_INFO!G18,COUNTRY_INFO!$N18),0))))","v":0},{"$f":"IF(AND(INTRO!$E$39=\"Non endémique\",INTRO!$E$37=\"Non endémique\"),\"Non requis\",IF(INTRO!$E$39=\"Non endémique\",\"Traiter avec DEC\",COUNTRY_INFO!Q18))","v":0},{"$f":"IF(INTRO!$E$39<>\"Non endémique\",COUNTRY_INFO!R18,\"Non requis\")","v":0},{"$f":"IF(COUNTRY_INFO!H18=1, IF($E18=1,IF(ALB_MBD!$J18<>\" \",COUNTRY_INFO!F18+COUNTRY_INFO!G18-ALB_MBD!$J18,COUNTRY_INFO!F18+COUNTRY_INFO!G18), 0),0)","v":0},{"$f":"IF(INTRO!$E$39<>\"Endémique\",0, IF(AND(COUNTRY_INFO!$I18=1,$F18<>0),IF(COUNTRY_INFO!N18>=(COUNTRY_INFO!F18+COUNTRY_INFO!G18),COUNTRY_INFO!F18+COUNTRY_INFO!G18,COUNTRY_INFO!$N18), 0))","v":0},null,0,0,0,0,0,null,0,0]
[{"$f":"IF(INTRO!$E$39=\"Non endémique\",\" \",IF(COUNTRY_INFO!A19=0,\" \",COUNTRY_INFO!A19))","v":"Angola"},{"$f":"IF(INTRO!$E$39=\"Non endémique\",\" \",IF(COUNTRY_INFO!B19=0,\" \",COUNTRY_INFO!B19))","v":"BENGUELA"},{"$f":"IF(INTRO!$E$39=\"Non endémique\",\" \",IF(COUNTRY_INFO!C19=0,\" \",COUNTRY_INFO!C19))","v":"CAIMBAMBO"},{"$f":"IF(INTRO!$E$39=\"Non endémique\",0,IF(INTRO!$E$39=\"Endémique mais pas de CP\",IF(COUNTRY_INFO!$H19=1,COUNTRY_INFO!F19+COUNTRY_INFO!G19,0),IF(COUNTRY_INFO!$H19=1,COUNTRY_INFO!F19+COUNTRY_INFO!G19,IF(COUNTRY_INFO!$I19=1,IF(COUNTRY_INFO!N19>=(COUNTRY_INFO!F19+COUNTRY_INFO!G19),COUNTRY_INFO!F19+COUNTRY_INFO!G19,COUNTRY_INFO!$N19),0))))","v":0},{"$f":"IF(AND(INTRO!$E$39=\"Non endémique\",INTRO!$E$37=\"Non endémique\"),\"Non requis\",IF(INTRO!$E$39=\"Non endémique\",\"Traiter avec DEC\",COUNTRY_INFO!Q19))","v":0},{"$f":"IF(INTRO!$E$39<>\"Non endémique\",COUNTRY_INFO!R19,\"Non requis\")","v":0},{"$f":"IF(COUNTRY_INFO!H19=1, IF($E19=1,IF(ALB_MBD!$J19<>\" \",COUNTRY_INFO!F19+COUNTRY_INFO!G19-ALB_MBD!$J19,COUNTRY_INFO!F19+COUNTRY_INFO!G19), 0),0)","v":0},{"$f":"IF(INTRO!$E$39<>\"Endémique\",0, IF(AND(COUNTRY_INFO!$I19=1,$F19<>0),IF(COUNTRY_INFO!N19>=(COUNTRY_INFO!F19+COUNTRY_INFO!G19),COUNTRY_INFO!F19+COUNTRY_INFO!G19,COUNTRY_INFO!$N19), 0))","v":0},null,0,0,0,0,0,null,0,0]
[{"$f":"IF(INTRO!$E$39=\"Non endémique\",\" \",IF(COUNTRY_INFO!A20=0,\" \",COUNTRY_INFO!A20))","v":"Angola"},{"$f":"IF(INTRO!$E$39=\"Non endémique\",\" \",IF(COUNTRY_INFO!B20=0,\" \",COUNTRY_INFO!B20))","v":"BENGUELA"},{"$f":"IF(INTRO!$E$39=\"Non endémique\",\" \",IF(COUNTRY_INFO!C20=0,\" \",COUNTRY_INFO!C20))","v":"CATUMBELA"},{"$f":"IF(INTRO!$E$39=\"Non endémique\",0,IF(INTRO!$E$39=\"Endémique mais pas de CP\",IF(COUNTRY_INFO!$H20=1,COUNTRY_INFO!F20+COUNTRY_INFO!G20,0),IF(COUNTRY_INFO!$H20=1,COUNTRY_INFO!F20+COUNTRY_INFO!G20,IF(COUNTRY_INFO!$I20=1,IF(COUNTRY_INFO!N20>=(COUNTRY_INFO!F20+COUNTRY_INFO!G20),COUNTRY_INFO!F20+COUNTRY_INFO!G20,COUNTRY_INFO!$N20),0))))","v":0},{"$f":"IF(AND(INTRO!$E$39=\"Non endémique\",INTRO!$E$37=\"Non endémique\"),\"Non requis\",IF(INTRO!$E$39=\"Non endémique\",\"Traiter avec DEC\",COUNTRY_INFO!Q20))","v":0},{"$f":"IF(INTRO!$E$39<>\"Non endémique\",COUNTRY_INFO!R20,\"Non requis\")","v":0},{"$f":"IF(COUNTRY_INFO!H20=1, IF($E20=1,IF(ALB_MBD!$J20<>\" \",COUNTRY_INFO!F20+COUNTRY_INFO!G20-ALB_MBD!$J20,COUNTRY_INFO!F20+COUNTRY_INFO!G20), 0),0)","v":0},{"$f":"IF(INTRO!$E$39<>\"Endémique\",0, IF(AND(COUNTRY_INFO!$I20=1,$F20<>0),IF(COUNTRY_INFO!N20>=(COUNTRY_INFO!F20+COUNTRY_INFO!G20),COUNTRY_INFO!F20+COUNTRY_INFO!G20,COUNTRY_INFO!$N20), 0))","v":0},null,0,0,0,0,0,null,0,0]
[{"$f":"IF(INTRO!$E$39=\"Non endémique\",\" \",IF(COUNTRY_INFO!A21=0,\" \",COUNTRY_INFO!A21))","v":"Angola"},{"$f":"IF(INTRO!$E$39=\"Non endémique\",\" \",IF(COUNTRY_INFO!B21=0,\" \",COUNTRY_INFO!B21))","v":"BENGUELA"},{"$f":"IF(INTRO!$E$39=\"Non endémique\",\" \",IF(COUNTRY_INFO!C21=0,\" \",COUNTRY_INFO!C21))","v":"CHONGOROI"},{"$f":"IF(INTRO!$E$39=\"Non endémique\",0,IF(INTRO!$E$39=\"Endémique mais pas de CP\",IF(COUNTRY_INFO!$H21=1,COUNTRY_INFO!F21+COUNTRY_INFO!G21,0),IF(COUNTRY_INFO!$H21=1,COUNTRY_INFO!F21+COUNTRY_INFO!G21,IF(COUNTRY_INFO!$I21=1,IF(COUNTRY_INFO!N21>=(COUNTRY_INFO!F21+COUNTRY_INFO!G21),COUNTRY_INFO!F21+COUNTRY_INFO!G21,COUNTRY_INFO!$N21),0))))","v":0},{"$f":"IF(AND(INTRO!$E$39=\"Non endémique\",INTRO!$E$37=\"Non endémique\"),\"Non requis\",IF(INTRO!$E$39=\"Non endémique\",\"Traiter avec DEC\",COUNTRY_INFO!Q21))","v":0},{"$f":"IF(INTRO!$E$39<>\"Non endémique\",COUNTRY_INFO!R21,\"Non requis\")","v":0},{"$f":"IF(COUNTRY_INFO!H21=1, IF($E21=1,IF(ALB_MBD!$J21<>\" \",COUNTRY_INFO!F21+COUNTRY_INFO!G21-ALB_MBD!$J21,COUNTRY_INFO!F21+COUNTRY_INFO!G21), 0),0)","v":0},{"$f":"IF(INTRO!$E$39<>\"Endémique\",0, IF(AND(COUNTRY_INFO!$I21=1,$F21<>0),IF(COUNTRY_INFO!N21>=(COUNTRY_INFO!F21+COUNTRY_INFO!G21),COUNTRY_INFO!F21+COUNTRY_INFO!G21,COUNTRY_INFO!$N21), 0))","v":0},null,0,0,0,0,0,null,0,0]
[{"$f":"IF(INTRO!$E$39=\"Non endémique\",\" \",IF(COUNTRY_INFO!A22=0,\" \",COUNTRY_INFO!A22))","v":"Angola"},{"$f":"IF(INTRO!$E$39=\"Non endémique\",\" \",IF(COUNTRY_INFO!B22=0,\" \",COUNTRY_INFO!B22))","v":"BENGUELA"},{"$f":"IF(INTRO!$E$39=\"Non endémique\",\" \",IF(COUNTRY_INFO!C22=0,\" \",COUNTRY_INFO!C22))","v":"CUBAL"},{"$f":"IF(INTRO!$E$39=\"Non endémique\",0,IF(INTRO!$E$39=\"Endémique mais pas de CP\",IF(COUNTRY_INFO!$H22=1,COUNTRY_INFO!F22+COUNTRY_INFO!G22,0),IF(COUNTRY_INFO!$H22=1,COUNTRY_INFO!F22+COUNTRY_INFO!G22,IF(COUNTRY_INFO!$I22=1,IF(COUNTRY_INFO!N22>=(COUNTRY_INFO!F22+COUNTRY_INFO!G22),COUNTRY_INFO!F22+COUNTRY_INFO!G22,COUNTRY_INFO!$N22),0))))","v":0},{"$f":"IF(AND(INTRO!$E$39=\"Non endémique\",INTRO!$E$37=\"Non endémique\"),\"Non requis\",IF(INTRO!$E$39=\"Non endémique\",\"Traiter avec DEC\",COUNTRY_INFO!Q22))","v":0},{"$f":"IF(INTRO!$E$39<>\"Non endémique\",COUNTRY_INFO!R22,\"Non requis\")","v":0},{"$f":"IF(COUNTRY_INFO!H22=1, IF($E22=1,IF(ALB_MBD!$J22<>\" \",COUNTRY_INFO!F22+COUNTRY_INFO!G22-ALB_MBD!$J22,COUNTRY_INFO!F22+COUNTRY_INFO!G22), 0),0)","v":0},{"$f":"IF(INTRO!$E$39<>\"Endémique\",0, IF(AND(COUNTRY_INFO!$I22=1,$F22<>0),IF(COUNTRY_INFO!N22>=(COUNTRY_INFO!F22+COUNTRY_INFO!G22),COUNTRY_INFO!F22+COUNTRY_INFO!G22,COUNTRY_INFO!$N22), 0))","v":0},null,0,0,0,0,0,null,0,0]
[{"$f":"IF(INTRO!$E$39=\"Non endémique\",\" \",IF(COUNTRY_INFO!A23=0,\" \",COUNTRY_INFO!A23))","v":"Angola"},{"$f":"IF(INTRO!$E$39=\"Non endémique\",\" \",IF(COUNTRY_INFO!B23=0,\" \",COUNTRY_INFO!B23))","v":"BENGUELA"},{"$f":"IF(INTRO!$E$39=\"Non endémique\",\" \",IF(COUNTRY_INFO!C23=0,\" \",COUNTRY_INFO!C23))","v":"GANDA"},{"$f":"IF(INTRO!$E$39=\"Non endémique\",0,IF(INTRO!$E$39=\"Endémique mais pas de CP\",IF(COUNTRY_INFO!$H23=1,COUNTRY_INFO!F23+COUNTRY_INFO!G23,0),IF(COUNTRY_INFO!$H23=1,COUNTRY_INFO!F23+COUNTRY_INFO!G23,IF(COUNTRY_INFO!$I23=1,IF(COUNTRY_INFO!N23>=(COUNTRY_INFO!F23+COUNTRY_INFO!G23),COUNTRY_INFO!F23+COUNTRY_INFO!G23,COUNTRY_INFO!$N23),0))))","v":0},{"$f":"IF(AND(INTRO!$E$39=\"Non endémique\",INTRO!$E$37=\"Non endémique\"),\"Non requis\",IF(INTRO!$E$39=\"Non endémique\",\"Traiter avec DEC\",COUNTRY_INFO!Q23))","v":0},{"$f":"IF(INTRO!$E$39<>\"Non endémique\",COUNTRY_INFO!R23,\"Non requis\")","v":0},{"$f":"IF(COUNTRY_INFO!H23=1, IF($E23=1,IF(ALB_MBD!$J23<>\" \",COUNTRY_INFO!F23+COUNTRY_INFO!G23-ALB_MBD!$J23,COUNTRY_INFO!F23+COUNTRY_INFO!G23), 0),0)","v":0},{"$f":"IF(INTRO!$E$39<>\"Endémique\",0, IF(AND(COUNTRY_INFO!$I23=1,$F23<>0),IF(COUNTRY_INFO!N23>=(COUNTRY_INFO!F23+COUNTRY_INFO!G23),COUNTRY_INFO!F23+COUNTRY_INFO!G23,COUNTRY_INFO!$N23), 0))","v":0},null,0,0,0,0,0,null,0,0]
[{"$f":"IF(INTRO!$E$39=\"Non endémique\",\" \",IF(COUNTRY_INFO!A24=0,\" \",COUNTRY_INFO!A24))","v":"Angola"},{"$f":"IF(INTRO!$E$39=\"Non endémique\",\" \",IF(COUNTRY_INFO!B24=0,\" \",COUNTRY_INFO!B24))","v":"BENGUELA"},{"$f":"IF(INTRO!$E$39=\"Non endémique\",\" \",IF(COUNTRY_INFO!C24=0,\" \",COUNTRY_INFO!C24))","v":"LOBITO"},{"$f":"IF(INTRO!$E$39=\"Non endémique\",0,IF(INTRO!$E$39=\"Endémique mais pas de CP\",IF(COUNTRY_INFO!$H24=1,COUNTRY_INFO!F24+COUNTRY_INFO!G24,0),IF(COUNTRY_INFO!$H24=1,COUNTRY_INFO!F24+COUNTRY_INFO!G24,IF(COUNTRY_INFO!$I24=1,IF(COUNTRY_INFO!N24>=(COUNTRY_INFO!F24+COUNTRY_INFO!G24),COUNTRY_INFO!F24+COUNTRY_INFO!G24,COUNTRY_INFO!$N24),0))))","v":413329},{"$f":"IF(AND(INTRO!$E$39=\"Non endémique\",INTRO!$E$37=\"Non endémique\"),\"Non requis\",IF(INTRO!$E$39=\"Non endémique\",\"Traiter avec DEC\",COUNTRY_INFO!Q24))","v":1},{"$f":"IF(INTRO!$E$39<>\"Non endémique\",COUNTRY_INFO!R24,\"Non requis\")","v":0},{"$f":"IF(COUNTRY_INFO!H24=1, IF($E24=1,IF(ALB_MBD!$J24<>\" \",COUNTRY_INFO!F24+COUNTRY_INFO!G24-ALB_MBD!$J24,COUNTRY_INFO!F24+COUNTRY_INFO!G24), 0),0)","v":413329},{"$f":"IF(INTRO!$E$39<>\"Endémique\",0, IF(AND(COUNTRY_INFO!$I24=1,$F24<>0),IF(COUNTRY_INFO!N24>=(COUNTRY_INFO!F24+COUNTRY_INFO!G24),COUNTRY_INFO!F24+COUNTRY_INFO!G24,COUNTRY_INFO!$N24), 0))","v":0},null,0,1157321.2,0,0,1157321.2,null,1157321.2,2315]
[{"$f":"IF(INTRO!$E$39=\"Non endémique\",\" \",IF(COUNTRY_INFO!A25=0,\" \",COUNTRY_INFO!A25))","v":"Angola"},{"$f":"IF(INTRO!$E$39=\"Non endémique\",\" \",IF(COUNTRY_INFO!B25=0,\" \",COUNTRY_INFO!B25))","v":"BIE"},{"$f":"IF(INTRO!$E$39=\"Non endémique\",\" \",IF(COUNTRY_INFO!C25=0,\" \",COUNTRY_INFO!C25))","v":"ANDULO"},{"$f":"IF(INTRO!$E$39=\"Non endémique\",0,IF(INTRO!$E$39=\"Endémique mais pas de CP\",IF(COUNTRY_INFO!$H25=1,COUNTRY_INFO!F25+COUNTRY_INFO!G25,0),IF(COUNTRY_INFO!$H25=1,COUNTRY_INFO!F25+COUNTRY_INFO!G25,IF(COUNTRY_INFO!$I25=1,IF(COUNTRY_INFO!N25>=(COUNTRY_INFO!F25+COUNTRY_INFO!G25),COUNTRY_INFO!F25+COUNTRY_INFO!G25,COUNTRY_INFO!$N25),0))))","v":283244},{"$f":"IF(AND(INTRO!$E$39=\"Non endémique\",INTRO!$E$37=\"Non endémique\"),\"Non requis\",IF(INTRO!$E$39=\"Non endémique\",\"Traiter avec DEC\",COUNTRY_INFO!Q25))","v":0},{"$f":"IF(INTRO!$E$39<>\"Non endémique\",COUNTRY_INFO!R25,\"Non requis\")","v":1},{"$f":"IF(COUNTRY_INFO!H25=1, IF($E25=1,IF(ALB_MBD!$J25<>\" \",COUNTRY_INFO!F25+COUNTRY_INFO!G25-ALB_MBD!$J25,COUNTRY_INFO!F25+COUNTRY_INFO!G25), 0),0)","v":0},{"$f":"IF(INTRO!$E$39<>\"Endémique\",0, IF(AND(COUNTRY_INFO!$I25=1,$F25<>0),IF(COUNTRY_INFO!N25>=(COUNTRY_INFO!F25+COUNTRY_INFO!G25),COUNTRY_INFO!F25+COUNTRY_INFO!G25,COUNTRY_INFO!$N25), 0))","v":283244},null,283244,0,793083.2,0,793083.2,null,793083.2,1587]
[{"$f":"IF(INTRO!$E$39=\"Non endémique\",\" \",IF(COUNTRY_INFO!A26=0,\" \",COUNTRY_INFO!A26))","v":"Angola"},{"$f":"IF(INTRO!$E$39=\"Non endémique\",\" \",IF(COUNTRY_INFO!B26=0,\" \",COUNTRY_INFO!B26))","v":"BIE"},{"$f":"IF(INTRO!$E$39=\"Non endémique\",\" \",IF(COUNTRY_INFO!C26=0,\" \",COUNTRY_INFO!C26))","v":"CAMACUPA"},{"$f":"IF(INTRO!$E$39=\"Non endémique\",0,IF(INTRO!$E$39=\"Endémique mais pas de CP\",IF(COUNTRY_INFO!$H26=1,COUNTRY_INFO!F26+COUNTRY_INFO!G26,0),IF(COUNTRY_INFO!$H26=1,COUNTRY_INFO!F26+COUNTRY_INFO!G26,IF(COUNTRY_INFO!$I26=1,IF(COUNTRY_INFO!N26>=(COUNTRY_INFO!F26+COUNTRY_INFO!G26),COUNTRY_INFO!F26+COUNTRY_INFO!G26,COUNTRY_INFO!$N26),0))))","v":169980},{"$f":"IF(AND(INTRO!$E$39=\"Non endémique\",INTRO!$E$37=\"Non endémique\"),\"Non requis\",IF(INTRO!$E$39=\"Non endémique\",\"Traiter avec DEC\",COUNTRY_INFO!Q26))","v":0},{"$f":"IF(INTRO!$E$39<>\"Non endémique\",COUNTRY_INFO!R26,\"Non requis\")","v":1},{"$f":"IF(COUNTRY_INFO!H26=1, IF($E26=1,IF(ALB_MBD!$J26<>\" \",COUNTRY_INFO!F26+COUNTRY_INFO!G26-ALB_MBD!$J26,COUNTRY_INFO!F26+COUNTRY_INFO!G26), 0),0)","v":0},{"$f":"IF(INTRO!$E$39<>\"Endémique\",0, IF(AND(COUNTRY_INFO!$I26=1,$F26<>0),IF(COUNTRY_INFO!N26>=(COUNTRY_INFO!F26+COUNTRY_INFO!G26),COUNTRY_INFO!F26+COUNTRY_INFO!G26,COUNTRY_INFO!$N26), 0))","v":169980},null,169980,0,475943.99999999994,0,475943.99999999994,null,475943.99999999994,952]
[{"$f":"IF(INTRO!$E$39=\"Non endémique\",\" \",IF(COUNTRY_INFO!A27=0,\" \",COUNTRY_INFO!A27))","v":"Angola"},{"$f":"IF(INTRO!$E$39=\"Non endémique\",\" \",IF(COUNTRY_INFO!B27=0,\" \",COUNTRY_INFO!B27))","v":"BIE"},{"$f":"IF(INTRO!$E$39=\"Non endémique\",\" \",IF(COUNTRY_INFO!C27=0,\" \",COUNTRY_INFO!C27))","v":"CATABOLA"},{"$f":"IF(INTRO!$E$39=\"Non endémique\",0,IF(INTRO!$E$39=\"Endémique mais pas de CP\",IF(COUNTRY_INFO!$H27=1,COUNTRY_INFO!F27+COUNTRY_INFO!G27,0),IF(COUNTRY_INFO!$H27=1,COUNTRY_INFO!F27+COUNTRY_INFO!G27,IF(COUNTRY_INFO!$I27=1,IF(COUNTRY_INFO!N27>=(COUNTRY_INFO!F27+COUNTRY_INFO!G27),COUNTRY_INFO!F27+COUNTRY_INFO!G27,COUNTRY_INFO!$N27),0))))","v":138935},{"$f":"IF(AND(INTRO!$E$39=\"Non endémique\",INTRO!$E$37=\"Non endémique\"),\"Non requis\",IF(INTRO!$E$39=\"Non endémique\",\"Traiter avec DEC\",COUNTRY_INFO!Q27))","v":0},{"$f":"IF(INTRO!$E$39<>\"Non endémique\",COUNTRY_INFO!R27,\"Non requis\")","v":1},{"$f":"IF(COUNTRY_INFO!H27=1, IF($E27=1,IF(ALB_MBD!$J27<>\" \",COUNTRY_INFO!F27+COUNTRY_INFO!G27-ALB_MBD!$J27,COUNTRY_INFO!F27+COUNTRY_INFO!G27), 0),0)","v":0},{"$f":"IF(INTRO!$E$39<>\"Endémique\",0, IF(AND(COUNTRY_INFO!$I27=1,$F27<>0),IF(COUNTRY_INFO!N27>=(COUNTRY_INFO!F27+COUNTRY_INFO!G27),COUNTRY_INFO!F27+COUNTRY_INFO!G27,COUNTRY_INFO!$N27), 0))","v":138935},null,138935,0,389018,0,389018,null,389018,779]
[{"$f":"IF(INTRO!$E$39=\"Non endémique\",\" \",IF(COUNTRY_INFO!A28=0,\" \",COUNTRY_INFO!A28))","v":"Angola"},{"$f":"IF(INTRO!$E$39=\"Non endémique\",\" \",IF(COUNTRY_INFO!B28=0,\" \",COUNTRY_INFO!B28))","v":"BIE"},{"$f":"IF(INTRO!$E$39=\"Non endémique\",\" \",IF(COUNTRY_INFO!C28=0,\" \",COUNTRY_INFO!C28))","v":"CHINGUAR"},{"$f":"IF(INTRO!$E$39=\"Non endémique\",0,IF(INTRO!$E$39=\"Endémique mais pas de CP\",IF(COUNTRY_INFO!$H28=1,COUNTRY_INFO!F28+COUNTRY_INFO!G28,0),IF(COUNTRY_INFO!$H28=1,COUNTRY_INFO!F28+COUNTRY_INFO!G28,IF(COUNTRY_INFO!$I28=1,IF(COUNTRY_INFO!N28>=(COUNTRY_INFO!F28+COUNTRY_INFO!G28),COUNTRY_INFO!F28+COUNTRY_INFO!G28,COUNTRY_INFO!$N28),0))))","v":141939},{"$f":"IF(AND(INTRO!$E$39=\"Non endémique\",INTRO!$E$37=\"Non endémique\"),\"Non requis\",IF(INTRO!$E$39=\"Non endémique\",\"Traiter avec DEC\",COUNTRY_INFO!Q28))","v":0},{"$f":"IF(INTRO!$E$39<>\"Non endémique\",COUNTRY_INFO!R28,\"Non requis\")","v":1},{"$f":"IF(COUNTRY_INFO!H28=1, IF($E28=1,IF(ALB_MBD!$J28<>\" \",COUNTRY_INFO!F28+COUNTRY_INFO!G28-ALB_MBD!$J28,COUNTRY_INFO!F28+COUNTRY_INFO!G28), 0),0)","v":0},{"$f":"IF(INTRO!$E$39<>\"Endémique\",0, IF(AND(COUNTRY_INFO!$I28=1,$F28<>0),IF(COUNTRY_INFO!N28>=(COUNTRY_INFO!F28+COUNTRY_INFO!G28),COUNTRY_INFO!F28+COUNTRY_INFO!G28,COUNTRY_INFO!$N28), 0))","v":141939},null,141939,0,397429.19999999995,0,397429.19999999995,null,397429.19999999995,795]
[{"$f":"IF(INTRO!$E$39=\"Non endémique\",\" \",IF(COUNTRY_INFO!A29=0,\" \",COUNTRY_INFO!A29))","v":"Angola"},{"$f":"IF(INTRO!$E$39=\"Non endémique\",\" \",IF(COUNTRY_INFO!B29=0,\" \",COUNTRY_INFO!B29))","v":"BIE"},{"$f":"IF(INTRO!$E$39=\"Non endémique\",\" \",IF(COUNTRY_INFO!C29=0,\" \",COUNTRY_INFO!C29))","v":"CHITEMBO"},{"$f":"IF(INTRO!$E$39=\"Non endémique\",0,IF(INTRO!$E$39=\"Endémique mais pas de CP\",IF(COUNTRY_INFO!$H29=1,COUNTRY_INFO!F29+COUNTRY_INFO!G29,0),IF(COUNTRY_INFO!$H29=1,COUNTRY_INFO!F29+COUNTRY_INFO!G29,IF(COUNTRY_INFO!$I29=1,IF(COUNTRY_INFO!N29>=(COUNTRY_INFO!F29+COUNTRY_INFO!G29),COUNTRY_INFO!F29+COUNTRY_INFO!G29,COUNTRY_INFO!$N29),0))))","v":0},{"$f":"IF(AND(INTRO!$E$39=\"Non endémique\",INTRO!$E$37=\"Non endémique\"),\"Non requis\",IF(INTRO!$E$39=\"Non endémique\",\"Traiter avec DEC\",COUNTRY_INFO!Q29))","v":0},{"$f":"IF(INTRO!$E$39<>\"Non endémique\",COUNTRY_INFO!R29,\"Non requis\")","v":0},{"$f":"IF(COUNTRY_INFO!H29=1, IF($E29=1,IF(ALB_MBD!$J29<>\" \",COUNTRY_INFO!F29+COUNTRY_INFO!G29-ALB_MBD!$J29,COUNTRY_INFO!F29+COUNTRY_INFO!G29), 0),0)","v":0},{"$f":"IF(INTRO!$E$39<>\"Endémique\",0, IF(AND(COUNTRY_INFO!$I29=1,$F29<>0),IF(COUNTRY_INFO!N29>=(COUNTRY_INFO!F29+COUNTRY_INFO!G29),COUNTRY_INFO!F29+COUNTRY_INFO!G29,COUNTRY_INFO!$N29), 0))","v":0},null,0,0,0,0,0,null,0,0]
[{"$f":"IF(INTRO!$E$39=\"Non endémique\",\" \",IF(COUNTRY_INFO!A30=0,\" \",COUNTRY_INFO!A30))","v":"Angola"},{"$f":"IF(INTRO!$E$39=\"Non endémique\",\" \",IF(COUNTRY_INFO!B30=0,\" \",COUNTRY_INFO!B30))","v":"BIE"},{"$f":"IF(INTRO!$E$39=\"Non endémique\",\" \",IF(COUNTRY_INFO!C30=0,\" \",COUNTRY_INFO!C30))","v":"CUEMBA"},{"$f":"IF(INTRO!$E$39=\"Non endémique\",0,IF(INTRO!$E$39=\"Endémique mais pas de CP\",IF(COUNTRY_INFO!$H30=1,COUNTRY_INFO!F30+COUNTRY_INFO!G30,0),IF(COUNTRY_INFO!$H30=1,COUNTRY_INFO!F30+COUNTRY_INFO!G30,IF(COUNTRY_INFO!$I30=1,IF(COUNTRY_INFO!N30>=(COUNTRY_INFO!F30+COUNTRY_INFO!G30),COUNTRY_INFO!F30+COUNTRY_INFO!G30,COUNTRY_INFO!$N30),0))))","v":62498},{"$f":"IF(AND(INTRO!$E$39=\"Non endémique\",INTRO!$E$37=\"Non endémique\"),\"Non requis\",IF(INTRO!$E$39=\"Non endémique\",\"Traiter avec DEC\",COUNTRY_INFO!Q30))","v":1},{"$f":"IF(INTRO!$E$39<>\"Non endémique\",COUNTRY_INFO!R30,\"Non requis\")","v":1},{"$f":"IF(COUNTRY_INFO!H30=1, IF($E30=1,IF(ALB_MBD!$J30<>\" \",COUNTRY_INFO!F30+COUNTRY_INFO!G30-ALB_MBD!$J30,COUNTRY_INFO!F30+COUNTRY_INFO!G30), 0),0)","v":62498},{"$f":"IF(INTRO!$E$39<>\"Endémique\",0, IF(AND(COUNTRY_INFO!$I30=1,$F30<>0),IF(COUNTRY_INFO!N30>=(COUNTRY_INFO!F30+COUNTRY_INFO!G30),COUNTRY_INFO!F30+COUNTRY_INFO!G30,COUNTRY_INFO!$N30), 0))","v":62498},null,62498,0,0,174994.4,174994.4,null,174994.4,350]
[{"$f":"IF(INTRO!$E$39=\"Non endémique\",\" \",IF(COUNTRY_INFO!A31=0,\" \",COUNTRY_INFO!A31))","v":"Angola"},{"$f":"IF(INTRO!$E$39=\"Non endémique\",\" \",IF(COUNTRY_INFO!B31=0,\" \",COUNTRY_INFO!B31))","v":"BIE"},{"$f":"IF(INTRO!$E$39=\"Non endémique\",\" \",IF(COUNTRY_INFO!C31=0,\" \",COUNTRY_INFO!C31))","v":"CUNHINGA"},{"$f":"IF(INTRO!$E$39=\"Non endémique\",0,IF(INTRO!$E$39=\"Endémique mais pas de CP\",IF(COUNTRY_INFO!$H31=1,COUNTRY_INFO!F31+COUNTRY_INFO!G31,0),IF(COUNTRY_INFO!$H31=1,COUNTRY_INFO!F31+COUNTRY_INFO!G31,IF(COUNTRY_INFO!$I31=1,IF(COUNTRY_INFO!N31>=(COUNTRY_INFO!F31+COUNTRY_INFO!G31),COUNTRY_INFO!F31+COUNTRY_INFO!G31,COUNTRY_INFO!$N31),0))))","v":80999},{"$f":"IF(AND(INTRO!$E$39=\"Non endémique\",INTRO!$E$37=\"Non endémique\"),\"Non requis\",IF(INTRO!$E$39=\"Non endémique\",\"Traiter avec DEC\",COUNTRY_INFO!Q31))","v":0},{"$f":"IF(INTRO!$E$39<>\"Non endémique\",COUNTRY_INFO!R31,\"Non requis\")","v":1},{"$f":"IF(COUNTRY_INFO!H31=1, IF($E31=1,IF(ALB_MBD!$J31<>\" \",COUNTRY_INFO!F31+COUNTRY_INFO!G31-ALB_MBD!$J31,COUNTRY_INFO!F31+COUNTRY_INFO!G31), 0),0)","v":0},{"$f":"IF(INTRO!$E$39<>\"Endémique\",0, IF(AND(COUNTRY_INFO!$I31=1,$F31<>0),IF(COUNTRY_INFO!N31>=(COUNTRY_INFO!F31+COUNTRY_INFO!G31),COUNTRY_INFO!F31+COUNTRY_INFO!G31,COUNTRY_INFO!$N31), 0))","v":80999},null,80999,0,226797.19999999998,0,226797.19999999998,null,226797.19999999998,454]
[{"$f":"IF(INTRO!$E$39=\"Non endémique\",\" \",IF(COUNTRY_INFO!A32=0,\" \",COUNTRY_INFO!A32))","v":"Angola"},{"$f":"IF(INTRO!$E$39=\"Non endémique\",\" \",IF(COUNTRY_INFO!B32=0,\" \",COUNTRY_INFO!B32))","v":"BIE"},{"$f":"IF(INTRO!$E$39=\"Non endémique\",\" \",IF(COUNTRY_INFO!C32=0,\" \",COUNTRY_INFO!C32))","v":"CUITO"},{"$f":"IF(INTRO!$E$39=\"Non endémique\",0,IF(INTRO!$E$39=\"Endémique mais pas de CP\",IF(COUNTRY_INFO!$H32=1,COUNTRY_INFO!F32+COUNTRY_INFO!G32,0),IF(COUNTRY_INFO!$H32=1,COUNTRY_INFO!F32+COUNTRY_INFO!G32,IF(COUNTRY_INFO!$I32=1,IF(COUNTRY_INFO!N32>=(COUNTRY_INFO!F32+COUNTRY_INFO!G32),COUNTRY_INFO!F32+COUNTRY_INFO!G32,COUNTRY_INFO!$N32),0))))","v":494687},{"$f":"IF(AND(INTRO!$E$39=\"Non endémique\",INTRO!$E$37=\"Non endémique\"),\"Non requis\",IF(INTRO!$E$39=\"Non endémique\",\"Traiter avec DEC\",COUNTRY_INFO!Q32))","v":0},{"$f":"IF(INTRO!$E$39<>\"Non endémique\",COUNTRY_INFO!R32,\"Non requis\")","v":1},{"$f":"IF(COUNTRY_INFO!H32=1, IF($E32=1,IF(ALB_MBD!$J32<>\" \",COUNTRY_INFO!F32+COUNTRY_INFO!G32-ALB_MBD!$J32,COUNTRY_INFO!F32+COUNTRY_INFO!G32), 0),0)","v":0},{"$f":"IF(INTRO!$E$39<>\"Endémique\",0, IF(AND(COUNTRY_INFO!$I32=1,$F32<>0),IF(COUNTRY_INFO!N32>=(COUNTRY_INFO!F32+COUNTRY_INFO!G32),COUNTRY_INFO!F32+COUNTRY_INFO!G32,COUNTRY_INFO!$N32), 0))","v":494687},null,494687,0,1385123.5999999999,0,1385123.5999999999,null,1385123.5999999999,2771]
[{"$f":"IF(INTRO!$E$39=\"Non endémique\",\" \",IF(COUNTRY_INFO!A33=0,\" \",COUNTRY_INFO!A33))","v":"Angola"},{"$f":"IF(INTRO!$E$39=\"Non endémique\",\" \",IF(COUNTRY_INFO!B33=0,\" \",COUNTRY_INFO!B33))","v":"BIE"},{"$f":"IF(INTRO!$E$39=\"Non endémique\",\" \",IF(COUNTRY_INFO!C33=0,\" \",COUNTRY_INFO!C33))","v":"NHAREA"},{"$f":"IF(INTRO!$E$39=\"Non endémique\",0,IF(INTRO!$E$39=\"Endémique mais pas de CP\",IF(COUNTRY_INFO!$H33=1,COUNTRY_INFO!F33+COUNTRY_INFO!G33,0),IF(COUNTRY_INFO!$H33=1,COUNTRY_INFO!F33+COUNTRY_INFO!G33,IF(COUNTRY_INFO!$I33=1,IF(COUNTRY_INFO!N33>=(COUNTRY_INFO!F33+COUNTRY_INFO!G33),COUNTRY_INFO!F33+COUNTRY_INFO!G33,COUNTRY_INFO!$N33),0))))","v":138612},{"$f":"IF(AND(INTRO!$E$39=\"Non endémique\",INTRO!$E$37=\"Non endémique\"),\"Non requis\",IF(INTRO!$E$39=\"Non endémique\",\"Traiter avec DEC\",COUNTRY_INFO!Q33))","v":0},{"$f":"IF(INTRO!$E$39<>\"Non endémique\",COUNTRY_INFO!R33,\"Non requis\")","v":1},{"$f":"IF(COUNTRY_INFO!H33=1, IF($E33=1,IF(ALB_MBD!$J33<>\" \",COUNTRY_INFO!F33+COUNTRY_INFO!G33-ALB_MBD!$J33,COUNTRY_INFO!F33+COUNTRY_INFO!G33), 0),0)","v":0},{"$f":"IF(INTRO!$E$39<>\"Endémique\",0, IF(AND(COUNTRY_INFO!$I33=1,$F33<>0),IF(COUNTRY_INFO!N33>=(COUNTRY_INFO!F33+COUNTRY_INFO!G33),COUNTRY_INFO!F33+COUNTRY_INFO!G33,COUNTRY_INFO!$N33), 0))","v":138612},null,138612,0,388113.6,0,388113.6,null,388113.6,777]
[{"$f":"IF(INTRO!$E$39=\"Non endémique\",\" \",IF(COUNTRY_INFO!A34=0,\" \",COUNTRY_INFO!A34))","v":"Angola"},{"$f":"IF(INTRO!$E$39=\"Non endémique\",\" \",IF(COUNTRY_INFO!B34=0,\" \",COUNTRY_INFO!B34))","v":"CABINDA"},{"$f":"IF(INTRO!$E$39=\"Non endémique\",\" \",IF(COUNTRY_INFO!C34=0,\" \",COUNTRY_INFO!C34))","v":"BELIZE"},{"$f":"IF(INTRO!$E$39=\"Non endémique\",0,IF(INTRO!$E$39=\"Endémique mais pas de CP\",IF(COUNTRY_INFO!$H34=1,COUNTRY_INFO!F34+COUNTRY_INFO!G34,0),IF(COUNTRY_INFO!$H34=1,COUNTRY_INFO!F34+COUNTRY_INFO!G34,IF(COUNTRY_INFO!$I34=1,IF(COUNTRY_INFO!N34>=(COUNTRY_INFO!F34+COUNTRY_INFO!G34),COUNTRY_INFO!F34+COUNTRY_INFO!G34,COUNTRY_INFO!$N34),0))))","v":20828},{"$f":"IF(AND(INTRO!$E$39=\"Non endémique\",INTRO!$E$37=\"Non endémique\"),\"Non requis\",IF(INTRO!$E$39=\"Non endémique\",\"Traiter avec DEC\",COUNTRY_INFO!Q34))","v":1},{"$f":"IF(INTRO!$E$39<>\"Non endémique\",COUNTRY_INFO!R34,\"Non requis\")","v":0},{"$f":"IF(COUNTRY_INFO!H34=1, IF($E34=1,IF(ALB_MBD!$J34<>\" \",COUNTRY_INFO!F34+COUNTRY_INFO!G34-ALB_MBD!$J34,COUNTRY_INFO!F34+COUNTRY_INFO!G34), 0),0)","v":1080},{"$f":"IF(INTRO!$E$39<>\"Endémique\",0, IF(AND(COUNTRY_INFO!$I34=1,$F34<>0),IF(COUNTRY_INFO!N34>=(COUNTRY_INFO!F34+COUNTRY_INFO!G34),COUNTRY_INFO!F34+COUNTRY_INFO!G34,COUNTRY_INFO!$N34), 0))","v":0},null,0,3024,0,0,3024,null,3024,7]
[{"$f":"IF(INTRO!$E$39=\"Non endémique\",\" \",IF(COUNTRY_INFO!A35=0,\" \",COUNTRY_INFO!A35))","v":"Angola"},{"$f":"IF(INTRO!$E$39=\"Non endémique\",\" \",IF(COUNTRY_INFO!B35=0,\" \",COUNTRY_INFO!B35))","v":"CABINDA"},{"$f":"IF(INTRO!$E$39=\"Non endémique\",\" \",IF(COUNTRY_INFO!C35=0,\" \",COUNTRY_INFO!C35))","v":"BUCO ZAU"},{"$f":"IF(INTRO!$E$39=\"Non endémique\",0,IF(INTRO!$E$39=\"Endémique mais pas de CP\",IF(COUNTRY_INFO!$H35=1,COUNTRY_INFO!F35+COUNTRY_INFO!G35,0),IF(COUNTRY_INFO!$H35=1,COUNTRY_INFO!F35+COUNTRY_INFO!G35,IF(COUNTRY_INFO!$I35=1,IF(COUNTRY_INFO!N35>=(COUNTRY_INFO!F35+COUNTRY_INFO!G35),COUNTRY_INFO!F35+COUNTRY_INFO!G35,COUNTRY_INFO!$N35),0))))","v":34916},{"$f":"IF(AND(INTRO!$E$39=\"Non endémique\",INTRO!$E$37=\"Non endémique\"),\"Non requis\",IF(INTRO!$E$39=\"Non endémique\",\"Traiter avec DEC\",COUNTRY_INFO!Q35))","v":1},{"$f":"IF(INTRO!$E$39<>\"Non endémique\",COUNTRY_INFO!R35,\"Non requis\")","v":0},{"$f":"IF(COUNTRY_INFO!H35=1, IF($E35=1,IF(ALB_MBD!$J35<>\" \",COUNTRY_INFO!F35+COUNTRY_INFO!G35-ALB_MBD!$J35,COUNTRY_INFO!F35+COUNTRY_INFO!G35), 0),0)","v":1812},{"$f":"IF(INTRO!$E$39<>\"Endémique\",0, IF(AND(COUNTRY_INFO!$I35=1,$F35<>0),IF(COUNTRY_INFO!N35>=(COUNTRY_INFO!F35+COUNTRY_INFO!G35),COUNTRY_INFO!F35+COUNTRY_INFO!G35,COUNTRY_INFO!$N35), 0))","v":0},null,0,5073.5999999999995,0,0,5073.5999999999995,null,5073.5999999999995,11]
[{"$f":"IF(INTRO!$E$39=\"Non endémique\",\" \",IF(COUNTRY_INFO!A36=0,\" \",COUNTRY_INFO!A36))","v":"Angola"},{"$f":"IF(INTRO!$E$39=\"Non endémique\",\" \",IF(COUNTRY_INFO!B36=0,\" \",COUNTRY_INFO!B36))","v":"CABINDA"},{"$f":"IF(INTRO!$E$39=\"Non endémique\",\" \",IF(COUNTRY_INFO!C36=0,\" \",COUNTRY_INFO!C36))","v":"CABINDA"},{"$f":"IF(INTRO!$E$39=\"Non endémique\",0,IF(INTRO!$E$39=\"Endémique mais pas de CP\",IF(COUNTRY_INFO!$H36=1,COUNTRY_INFO!F36+COUNTRY_INFO!G36,0),IF(COUNTRY_INFO!$H36=1,COUNTRY_INFO!F36+COUNTRY_INFO!G36,IF(COUNTRY_INFO!$I36=1,IF(COUNTRY_INFO!N36>=(COUNTRY_INFO!F36+COUNTRY_INFO!G36),COUNTRY_INFO!F36+COUNTRY_INFO!G36,COUNTRY_INFO!$N36),0))))","v":665097},{"$f":"IF(AND(INTRO!$E$39=\"Non endémique\",INTRO!$E$37=\"Non endémique\"),\"Non requis\",IF(INTRO!$E$39=\"Non endémique\",\"Traiter avec DEC\",COUNTRY_INFO!Q36))","v":1},{"$f":"IF(INTRO!$E$39<>\"Non endémique\",COUNTRY_INFO!R36,\"Non requis\")","v":0},{"$f":"IF(COUNTRY_INFO!H36=1, IF($E36=1,IF(ALB_MBD!$J36<>\" \",COUNTRY_INFO!F36+COUNTRY_INFO!G36-ALB_MBD!$J36,COUNTRY_INFO!F36+COUNTRY_INFO!G36), 0),0)","v":34511},{"$f":"IF(INTRO!$E$39<>\"Endémique\",0, IF(AND(COUNTRY_INFO!$I36=1,$F36<>0),IF(COUNTRY_INFO!N36>=(COUNTRY_INFO!F36+COUNTRY_INFO!G36),COUNTRY_INFO!F36+COUNTRY_INFO!G36,COUNTRY_INFO!$N36), 0))","v":0},null,0,96630.799999999988,0,0,96630.799999999988,null,96630.799999999988,194]
[{"$f":"IF(INTRO!$E$39=\"Non endémique\",\" \",IF(COUNTRY_INFO!A37=0,\" \",COUNTRY_INFO!A37))","v":"Angola"},{"$f":"IF(INTRO!$E$39=\"Non endémique\",\" \",IF(COUNTRY_INFO!B37=0,\" \",COUNTRY_INFO!B37))","v":"CABINDA"},{"$f":"IF(INTRO!$E$39=\"Non endémique\",\" \",IF(COUNTRY_INFO!C37=0,\" \",COUNTRY_INFO!C37))","v":"CACONGO"},{"$f":"IF(INTRO!$E$39=\"Non endémique\",0,IF(INTRO!$E$39=\"Endémique mais pas de CP\",IF(COUNTRY_INFO!$H37=1,COUNTRY_INFO!F37+COUNTRY_INFO!G37,0),IF(COUNTRY_INFO!$H37=1,COUNTRY_INFO!F37+COUNTRY_INFO!G37,IF(COUNTRY_INFO!$I37=1,IF(COUNTRY_INFO!N37>=(COUNTRY_INFO!F37+COUNTRY_INFO!G37),COUNTRY_INFO!F37+COUNTRY_INFO!G37,COUNTRY_INFO!$N37),0))))","v":41606},{"$f":"IF(AND(INTRO!$E$39=\"Non endémique\",INTRO!$E$37=\"Non endémique\"),\"Non requis\",IF(INTRO!$E$39=\"Non endémique\",\"Traiter avec DEC\",COUNTRY_INFO!Q37))","v":1},{"$f":"IF(INTRO!$E$39<>\"Non endémique\",COUNTRY_INFO!R37,\"Non requis\")","v":0},{"$f":"IF(COUNTRY_INFO!H37=1, IF($E37=1,IF(ALB_MBD!$J37<>\" \",COUNTRY_INFO!F37+COUNTRY_INFO!G37-ALB_MBD!$J37,COUNTRY_INFO!F37+COUNTRY_INFO!G37), 0),0)","v":2158},{"$f":"IF(INTRO!$E$39<>\"Endémique\",0, IF(AND(COUNTRY_INFO!$I37=1,$F37<>0),IF(COUNTRY_INFO!N37>=(COUNTRY_INFO!F37+COUNTRY_INFO!G37),COUNTRY_INFO!F37+COUNTRY_INFO!G37,COUNTRY_INFO!$N37), 0))","v":0},null,0,6042.4,0,0,6042.4,null,6042.4,13]
[{"$f":"IF(INTRO!$E$39=\"Non endémique\",\" \",IF(COUNTRY_INFO!A38=0,\" \",COUNTRY_INFO!A38))","v":"Angola"},{"$f":"IF(INTRO!$E$39=\"Non endémique\",\" \",IF(COUNTRY_INFO!B38=0,\" \",COUNTRY_INFO!B38))","v":"CUNENE"},{"$f":"IF(INTRO!$E$39=\"Non endémique\",\" \",IF(COUNTRY_INFO!C38=0,\" \",COUNTRY_INFO!C38))","v":"CAHAMA"},{"$f":"IF(INTRO!$E$39=\"Non endémique\",0,IF(INTRO!$E$39=\"Endémique mais pas de CP\",IF(COUNTRY_INFO!$H38=1,COUNTRY_INFO!F38+COUNTRY_INFO!G38,0),IF(COUNTRY_INFO!$H38=1,COUNTRY_INFO!F38+COUNTRY_INFO!G38,IF(COUNTRY_INFO!$I38=1,IF(COUNTRY_INFO!N38>=(COUNTRY_INFO!F38+COUNTRY_INFO!G38),COUNTRY_INFO!F38+COUNTRY_INFO!G38,COUNTRY_INFO!$N38),0))))","v":0},{"$f":"IF(AND(INTRO!$E$39=\"Non endémique\",INTRO!$E$37=\"Non endémique\"),\"Non requis\",IF(INTRO!$E$39=\"Non endémique\",\"Traiter avec DEC\",COUNTRY_INFO!Q38))","v":0},{"$f":"IF(INTRO!$E$39<>\"Non endémique\",COUNTRY_INFO!R38,\"Non requis\")","v":0},{"$f":"IF(COUNTRY_INFO!H38=1, IF($E38=1,IF(ALB_MBD!$J38<>\" \",COUNTRY_INFO!F38+COUNTRY_INFO!G38-ALB_MBD!$J38,COUNTRY_INFO!F38+COUNTRY_INFO!G38), 0),0)","v":0},{"$f":"IF(INTRO!$E$39<>\"Endémique\",0, IF(AND(COUNTRY_INFO!$I38=1,$F38<>0),IF(COUNTRY_INFO!N38>=(COUNTRY_INFO!F38+COUNTRY_INFO!G38),COUNTRY_INFO!F38+COUNTRY_INFO!G38,COUNTRY_INFO!$N38), 0))","v":0},null,0,0,0,0,0,null,0,0]
[{"$f":"IF(INTRO!$E$39=\"Non endémique\",\" \",IF(COUNTRY_INFO!A39=0,\" \",COUNTRY_INFO!A39))","v":"Angola"},{"$f":"IF(INTRO!$E$39=\"Non endémique\",\" \",IF(COUNTRY_INFO!B39=0,\" \",COUNTRY_INFO!B39))","v":"CUNENE"},{"$f":"IF(INTRO!$E$39=\"Non endémique\",\" \",IF(COUNTRY_INFO!C39=0,\" \",COUNTRY_INFO!C39))","v":"CUANHAMA"},{"$f":"IF(INTRO!$E$39=\"Non endémique\",0,IF(INTRO!$E$39=\"Endémique mais pas de CP\",IF(COUNTRY_INFO!$H39=1,COUNTRY_INFO!F39+COUNTRY_INFO!G39,0),IF(COUNTRY_INFO!$H39=1,COUNTRY_INFO!F39+COUNTRY_INFO!G39,IF(COUNTRY_INFO!$I39=1,IF(COUNTRY_INFO!N39>=(COUNTRY_INFO!F39+COUNTRY_INFO!G39),COUNTRY_INFO!F39+COUNTRY_INFO!G39,COUNTRY_INFO!$N39),0))))","v":0},{"$f":"IF(AND(INTRO!$E$39=\"Non endémique\",INTRO!$E$37=\"Non endémique\"),\"Non requis\",IF(INTRO!$E$39=\"Non endémique\",\"Traiter avec DEC\",COUNTRY_INFO!Q39))","v":0},{"$f":"IF(INTRO!$E$39<>\"Non endémique\",COUNTRY_INFO!R39,\"Non requis\")","v":0},{"$f":"IF(COUNTRY_INFO!H39=1, IF($E39=1,IF(ALB_MBD!$J39<>\" \",COUNTRY_INFO!F39+COUNTRY_INFO!G39-ALB_MBD!$J39,COUNTRY_INFO!F39+COUNTRY_INFO!G39), 0),0)","v":0},{"$f":"IF(INTRO!$E$39<>\"Endémique\",0, IF(AND(COUNTRY_INFO!$I39=1,$F39<>0),IF(COUNTRY_INFO!N39>=(COUNTRY_INFO!F39+COUNTRY_INFO!G39),COUNTRY_INFO!F39+COUNTRY_INFO!G39,COUNTRY_INFO!$N39), 0))","v":0},null,0,0,0,0,0,null,0,0]
[{"$f":"IF(INTRO!$E$39=\"Non endémique\",\" \",IF(COUNTRY_INFO!A40=0,\" \",COUNTRY_INFO!A40))","v":"Angola"},{"$f":"IF(INTRO!$E$39=\"Non endémique\",\" \",IF(COUNTRY_INFO!B40=0,\" \",COUNTRY_INFO!B40))","v":"CUNENE"},{"$f":"IF(INTRO!$E$39=\"Non endémique\",\" \",IF(COUNTRY_INFO!C40=0,\" \",COUNTRY_INFO!C40))","v":"CUROCA"},{"$f":"IF(INTRO!$E$39=\"Non endémique\",0,IF(INTRO!$E$39=\"Endémique mais pas de CP\",IF(COUNTRY_INFO!$H40=1,COUNTRY_INFO!F40+COUNTRY_INFO!G40,0),IF(COUNTRY_INFO!$H40=1,COUNTRY_INFO!F40+COUNTRY_INFO!G40,IF(COUNTRY_INFO!$I40=1,IF(COUNTRY_INFO!N40>=(COUNTRY_INFO!F40+COUNTRY_INFO!G40),COUNTRY_INFO!F40+COUNTRY_INFO!G40,COUNTRY_INFO!$N40),0))))","v":0},{"$f":"IF(AND(INTRO!$E$39=\"Non endémique\",INTRO!$E$37=\"Non endémique\"),\"Non requis\",IF(INTRO!$E$39=\"Non endémique\",\"Traiter avec DEC\",COUNTRY_INFO!Q40))","v":0},{"$f":"IF(INTRO!$E$39<>\"Non endémique\",COUNTRY_INFO!R40,\"Non requis\")","v":0},{"$f":"IF(COUNTRY_INFO!H40=1, IF($E40=1,IF(ALB_MBD!$J40<>\" \",COUNTRY_INFO!F40+COUNTRY_INFO!G40-ALB_MBD!$J40,COUNTRY_INFO!F40+COUNTRY_INFO!G40), 0),0)","v":0},{"$f":"IF(INTRO!$E$39<>\"Endémique\",0, IF(AND(COUNTRY_INFO!$I40=1,$F40<>0),IF(COUNTRY_INFO!N40>=(COUNTRY_INFO!F40+COUNTRY_INFO!G40),COUNTRY_INFO!F40+COUNTRY_INFO!G40,COUNTRY_INFO!$N40), 0))","v":0},null,0,0,0,0,0,null,0,0]
[{"$f":"IF(INTRO!$E$39=\"Non endémique\",\" \",IF(COUNTRY_INFO!A41=0,\" \",COUNTRY_INFO!A41))","v":"Angola"},{"$f":"IF(INTRO!$E$39=\"Non endémique\",\" \",IF(COUNTRY_INFO!B41=0,\" \",COUNTRY_INFO!B41))","v":"CUNENE"},{"$f":"IF(INTRO!$E$39=\"Non endémique\",\" \",IF(COUNTRY_INFO!C41=0,\" \",COUNTRY_INFO!C41))","v":"CUVELAI"},{"$f":"IF(INTRO!$E$39=\"Non endémique\",0,IF(INTRO!$E$39=\"Endémique mais pas de CP\",IF(COUNTRY_INFO!$H41=1,COUNTRY_INFO!F41+COUNTRY_INFO!G41,0),IF(COUNTRY_INFO!$H41=1,COUNTRY_INFO!F41+COUNTRY_INFO!G41,IF(COUNTRY_INFO!$I41=1,IF(COUNTRY_INFO!N41>=(COUNTRY_INFO!F41+COUNTRY_INFO!G41),COUNTRY_INFO!F41+COUNTRY_INFO!G41,COUNTRY_INFO!$N41),0))))","v":0},{"$f":"IF(AND(INTRO!$E$39=\"Non endémique\",INTRO!$E$37=\"Non endémique\"),\"Non requis\",IF(INTRO!$E$39=\"Non endémique\",\"Traiter avec DEC\",COUNTRY_INFO!Q41))","v":0},{"$f":"IF(INTRO!$E$39<>\"Non endémique\",COUNTRY_INFO!R41,\"Non requis\")","v":0},{"$f":"IF(COUNTRY_INFO!H41=1, IF($E41=1,IF(ALB_MBD!$J41<>\" \",COUNTRY_INFO!F41+COUNTRY_INFO!G41-ALB_MBD!$J41,COUNTRY_INFO!F41+COUNTRY_INFO!G41), 0),0)","v":0},{"$f":"IF(INTRO!$E$39<>\"Endémique\",0, IF(AND(COUNTRY_INFO!$I41=1,$F41<>0),IF(COUNTRY_INFO!N41>=(COUNTRY_INFO!F41+COUNTRY_INFO!G41),COUNTRY_INFO!F41+COUNTRY_INFO!G41,COUNTRY_INFO!$N41), 0))","v":0},null,{"$f":"IF(I41=0,H41,IF(I41>H41,H41,I41))","v":0},{"$f":"IF(G41<J41,0,IF($E41=1, (G41-J41)*2.8, 0))","v":0},{"$f":"IF($E41<$F41, J41*(F41-E41)*2.8, 0)","v":0},{"$f":"IF(AND($E41=1, $F41<>0), J41*2.8, 0)","v":0},{"$f":"SUM(K41:M41)","v":0},null,{"$f":"IF($N41>$O41,$N41-$O41,0)","v":0},{"$f":"ROUNDUP($N41/500,0)","v":0}]
[{"$f":"IF(INTRO!$E$39=\"Non endémique\",\" \",IF(COUNTRY_INFO!A42=0,\" \",COUNTRY_INFO!A42))","v":"Angola"},{"$f":"IF(INTRO!$E$39=\"Non endémique\",\" \",IF(COUNTRY_INFO!B42=0,\" \",COUNTRY_INFO!B42))","v":"CUNENE"},{"$f":"IF(INTRO!$E$39=\"Non endémique\",\" \",IF(COUNTRY_INFO!C42=0,\" \",COUNTRY_INFO!C42))","v":"NAMACUNDE"},{"$f":"IF(INTRO!$E$39=\"Non endémique\",0,IF(INTRO!$E$39=\"Endémique mais pas de CP\",IF(COUNTRY_INFO!$H42=1,COUNTRY_INFO!F42+COUNTRY_INFO!G42,0),IF(COUNTRY_INFO!$H42=1,COUNTRY_INFO!F42+COUNTRY_INFO!G42,IF(COUNTRY_INFO!$I42=1,IF(COUNTRY_INFO!N42>=(COUNTRY_INFO!F42+COUNTRY_INFO!G42),COUNTRY_INFO!F42+COUNTRY_INFO!G42,COUNTRY_INFO!$N42),0))))","v":0},{"$f":"IF(AND(INTRO!$E$39=\"Non endémique\",INTRO!$E$37=\"Non endémique\"),\"Non requis\",IF(INTRO!$E$39=\"Non endémique\",\"Traiter avec DEC\",COUNTRY_INFO!Q42))","v":0},{"$f":"IF(INTRO!$E$39<>\"Non endémique\",COUNTRY_INFO!R42,\"Non requis\")","v":0},{"$f":"IF(COUNTRY_INFO!H42=1, IF($E42=1,IF(ALB_MBD!$J42<>\" \",COUNTRY_INFO!F42+COUNTRY_INFO!G42-ALB_MBD!$J42,COUNTRY_INFO!F42+COUNTRY_INFO!G42), 0),0)","v":0},{"$f":"IF(INTRO!$E$39<>\"Endémique\",0, IF(AND(COUNTRY_INFO!$I42=1,$F42<>0),IF(COUNTRY_INFO!N42>=(COUNTRY_INFO!F42+COUNTRY_INFO!G42),COUNTRY_INFO!F42+COUNTRY_INFO!G42,COUNTRY_INFO!$N42), 0))","v":0},null,0,0,0,0,0,null,0,0]
[{"$f":"IF(INTRO!$E$39=\"Non endémique\",\" \",IF(COUNTRY_INFO!A43=0,\" \",COUNTRY_INFO!A43))","v":"Angola"},{"$f":"IF(INTRO!$E$39=\"Non endémique\",\" \",IF(COUNTRY_INFO!B43=0,\" \",COUNTRY_INFO!B43))","v":"CUNENE"},{"$f":"IF(INTRO!$E$39=\"Non endémique\",\" \",IF(COUNTRY_INFO!C43=0,\" \",COUNTRY_INFO!C43))","v":"OMBADJA"},{"$f":"IF(INTRO!$E$39=\"Non endémique\",0,IF(INTRO!$E$39=\"Endémique mais pas de CP\",IF(COUNTRY_INFO!$H43=1,COUNTRY_INFO!F43+COUNTRY_INFO!G43,0),IF(COUNTRY_INFO!$H43=1,COUNTRY_INFO!F43+COUNTRY_INFO!G43,IF(COUNTRY_INFO!$I43=1,IF(COUNTRY_INFO!N43>=(COUNTRY_INFO!F43+COUNTRY_INFO!G43),COUNTRY_INFO!F43+COUNTRY_INFO!G43,COUNTRY_INFO!$N43),0))))","v":0},{"$f":"IF(AND(INTRO!$E$39=\"Non endémique\",INTRO!$E$37=\"Non endémique\"),\"Non requis\",IF(INTRO!$E$39=\"Non endémique\",\"Traiter avec DEC\",COUNTRY_INFO!Q43))","v":0},{"$f":"IF(INTRO!$E$39<>\"Non endémique\",COUNTRY_INFO!R43,\"Non requis\")","v":0},{"$f":"IF(COUNTRY_INFO!H43=1, IF($E43=1,IF(ALB_MBD!$J43<>\" \",COUNTRY_INFO!F43+COUNTRY_INFO!G43-ALB_MBD!$J43,COUNTRY_INFO!F43+COUNTRY_INFO!G43), 0),0)","v":0},{"$f":"IF(INTRO!$E$39<>\"Endémique\",0, IF(AND(COUNTRY_INFO!$I43=1,$F43<>0),IF(COUNTRY_INFO!N43>=(COUNTRY_INFO!F43+COUNTRY_INFO!G43),COUNTRY_INFO!F43+COUNTRY_INFO!G43,COUNTRY_INFO!$N43), 0))","v":0},null,0,0,0,0,0,null,0,0]
[{"$f":"IF(INTRO!$E$39=\"Non endémique\",\" \",IF(COUNTRY_INFO!A44=0,\" \",COUNTRY_INFO!A44))","v":"Angola"},{"$f":"IF(INTRO!$E$39=\"Non endémique\",\" \",IF(COUNTRY_INFO!B44=0,\" \",COUNTRY_INFO!B44))","v":"HUAMBO"},{"$f":"IF(INTRO!$E$39=\"Non endémique\",\" \",IF(COUNTRY_INFO!C44=0,\" \",COUNTRY_INFO!C44))","v":"BAILUNDO"},{"$f":"IF(INTRO!$E$39=\"Non endémique\",0,IF(INTRO!$E$39=\"Endémique mais pas de CP\",IF(COUNTRY_INFO!$H44=1,COUNTRY_INFO!F44+COUNTRY_INFO!G44,0),IF(COUNTRY_INFO!$H44=1,COUNTRY_INFO!F44+COUNTRY_INFO!G44,IF(COUNTRY_INFO!$I44=1,IF(COUNTRY_INFO!N44>=(COUNTRY_INFO!F44+COUNTRY_INFO!G44),COUNTRY_INFO!F44+COUNTRY_INFO!G44,COUNTRY_INFO!$N44),0))))","v":0},{"$f":"IF(AND(INTRO!$E$39=\"Non endémique\",INTRO!$E$37=\"Non endémique\"),\"Non requis\",IF(INTRO!$E$39=\"Non endémique\",\"Traiter avec DEC\",COUNTRY_INFO!Q44))","v":0},{"$f":"IF(INTRO!$E$39<>\"Non endémique\",COUNTRY_INFO!R44,\"Non requis\")","v":0},{"$f":"IF(COUNTRY_INFO!H44=1, IF($E44=1,IF(ALB_MBD!$J44<>\" \",COUNTRY_INFO!F44+COUNTRY_INFO!G44-ALB_MBD!$J44,COUNTRY_INFO!F44+COUNTRY_INFO!G44), 0),0)","v":0},{"$f":"IF(INTRO!$E$39<>\"Endémique\",0, IF(AND(COUNTRY_INFO!$I44=1,$F44<>0),IF(COUNTRY_INFO!N44>=(COUNTRY_INFO!F44+COUNTRY_INFO!G44),COUNTRY_INFO!F44+COUNTRY_INFO!G44,COUNTRY_INFO!$N44), 0))","v":0},null,0,0,0,0,0,null,0,0]
[{"$f":"IF(INTRO!$E$39=\"Non endémique\",\" \",IF(COUNTRY_INFO!A45=0,\" \",COUNTRY_INFO!A45))","v":"Angola"},{"$f":"IF(INTRO!$E$39=\"Non endémique\",\" \",IF(COUNTRY_INFO!B45=0,\" \",COUNTRY_INFO!B45))","v":"HUAMBO"},{"$f":"IF(INTRO!$E$39=\"Non endémique\",\" \",IF(COUNTRY_INFO!C45=0,\" \",COUNTRY_INFO!C45))","v":"CAALA"},{"$f":"IF(INTRO!$E$39=\"Non endémique\",0,IF(INTRO!$E$39=\"Endémique mais pas de CP\",IF(COUNTRY_INFO!$H45=1,COUNTRY_INFO!F45+COUNTRY_INFO!G45,0),IF(COUNTRY_INFO!$H45=1,COUNTRY_INFO!F45+COUNTRY_INFO!G45,IF(COUNTRY_INFO!$I45=1,IF(COUNTRY_INFO!N45>=(COUNTRY_INFO!F45+COUNTRY_INFO!G45),COUNTRY_INFO!F45+COUNTRY_INFO!G45,COUNTRY_INFO!$N45),0))))","v":0},{"$f":"IF(AND(INTRO!$E$39=\"Non endémique\",INTRO!$E$37=\"Non endémique\"),\"Non requis\",IF(INTRO!$E$39=\"Non endémique\",\"Traiter avec DEC\",COUNTRY_INFO!Q45))","v":0},{"$f":"IF(INTRO!$E$39<>\"Non endémique\",COUNTRY_INFO!R45,\"Non requis\")","v":0},{"$f":"IF(COUNTRY_INFO!H45=1, IF($E45=1,IF(ALB_MBD!$J45<>\" \",COUNTRY_INFO!F45+COUNTRY_INFO!G45-ALB_MBD!$J45,COUNTRY_INFO!F45+COUNTRY_INFO!G45), 0),0)","v":0},{"$f":"IF(INTRO!$E$39<>\"Endémique\",0, IF(AND(COUNTRY_INFO!$I45=1,$F45<>0),IF(COUNTRY_INFO!N45>=(COUNTRY_INFO!F45+COUNTRY_INFO!G45),COUNTRY_INFO!F45+COUNTRY_INFO!G45,COUNTRY_INFO!$N45), 0))","v":0},null,0,0,0,0,0,null,0,0]
[{"$f":"IF(INTRO!$E$39=\"Non endémique\",\" \",IF(COUNTRY_INFO!A46=0,\" \",COUNTRY_INFO!A46))","v":"Angola"},{"$f":"IF(INTRO!$E$39=\"Non endémique\",\" \",IF(COUNTRY_INFO!B46=0,\" \",COUNTRY_INFO!B46))","v":"HUAMBO"},{"$f":"IF(INTRO!$E$39=\"Non endémique\",\" \",IF(COUNTRY_INFO!C46=0,\" \",COUNTRY_INFO!C46))","v":"ECUNHA"},{"$f":"IF(INTRO!$E$39=\"Non endémique\",0,IF(INTRO!$E$39=\"Endémique mais pas de CP\",IF(COUNTRY_INFO!$H46=1,COUNTRY_INFO!F46+COUNTRY_INFO!G46,0),IF(COUNTRY_INFO!$H46=1,COUNTRY_INFO!F46+COUNTRY_INFO!G46,IF(COUNTRY_INFO!$I46=1,IF(COUNTRY_INFO!N46>=(COUNTRY_INFO!F46+COUNTRY_INFO!G46),COUNTRY_INFO!F46+COUNTRY_INFO!G46,COUNTRY_INFO!$N46),0))))","v":0},{"$f":"IF(AND(INTRO!$E$39=\"Non endémique\",INTRO!$E$37=\"Non endémique\"),\"Non requis\",IF(INTRO!$E$39=\"Non endémique\",\"Traiter avec DEC\",COUNTRY_INFO!Q46))","v":0},{"$f":"IF(INTRO!$E$39<>\"Non endémique\",COUNTRY_INFO!R46,\"Non requis\")","v":0},{"$f":"IF(COUNTRY_INFO!H46=1, IF($E46=1,IF(ALB_MBD!$J46<>\" \",COUNTRY_INFO!F46+COUNTRY_INFO!G46-ALB_MBD!$J46,COUNTRY_INFO!F46+COUNTRY_INFO!G46), 0),0)","v":0},{"$f":"IF(INTRO!$E$39<>\"Endémique\",0, IF(AND(COUNTRY_INFO!$I46=1,$F46<>0),IF(COUNTRY_INFO!N46>=(COUNTRY_INFO!F46+COUNTRY_INFO!G46),COUNTRY_INFO!F46+COUNTRY_INFO!G46,COUNTRY_INFO!$N46), 0))","v":0},null,0,0,0,0,0,null,0,0]
[{"$f":"IF(INTRO!$E$39=\"Non endémique\",\" \",IF(COUNTRY_INFO!A47=0,\" \",COUNTRY_INFO!A47))","v":"Angola"},{"$f":"IF(INTRO!$E$39=\"Non endémique\",\" \",IF(COUNTRY_INFO!B47=0,\" \",COUNTRY_INFO!B47))","v":"HUAMBO"},{"$f":"IF(INTRO!$E$39=\"Non endémique\",\" \",IF(COUNTRY_INFO!C47=0,\" \",COUNTRY_INFO!C47))","v":"HUAMBO"},{"$f":"IF(INTRO!$E$39=\"Non endémique\",0,IF(INTRO!$E$39=\"Endémique mais pas de CP\",IF(COUNTRY_INFO!$H47=1,COUNTRY_INFO!F47+COUNTRY_INFO!G47,0),IF(COUNTRY_INFO!$H47=1,COUNTRY_INFO!F47+COUNTRY_INFO!G47,IF(COUNTRY_INFO!$I47=1,IF(COUNTRY_INFO!N47>=(COUNTRY_INFO!F47+COUNTRY_INFO!G47),COUNTRY_INFO!F47+COUNTRY_INFO!G47,COUNTRY_INFO!$N47),0))))","v":0},{"$f":"IF(AND(INTRO!$E$39=\"Non endémique\",INTRO!$E$37=\"Non endémique\"),\"Non requis\",IF(INTRO!$E$39=\"Non endémique\",\"Traiter avec DEC\",COUNTRY_INFO!Q47))","v":0},{"$f":"IF(INTRO!$E$39<>\"Non endémique\",COUNTRY_INFO!R47,\"Non requis\")","v":0},{"$f":"IF(COUNTRY_INFO!H47=1, IF($E47=1,IF(ALB_MBD!$J47<>\" \",COUNTRY_INFO!F47+COUNTRY_INFO!G47-ALB_MBD!$J47,COUNTRY_INFO!F47+COUNTRY_INFO!G47), 0),0)","v":0},{"$f":"IF(INTRO!$E$39<>\"Endémique\",0, IF(AND(COUNTRY_INFO!$I47=1,$F47<>0),IF(COUNTRY_INFO!N47>=(COUNTRY_INFO!F47+COUNTRY_INFO!G47),COUNTRY_INFO!F47+COUNTRY_INFO!G47,COUNTRY_INFO!$N47), 0))","v":0},null,0,0,0,0,0,null,0,0]
[{"$f":"IF(INTRO!$E$39=\"Non endémique\",\" \",IF(COUNTRY_INFO!A48=0,\" \",COUNTRY_INFO!A48))","v":"Angola"},{"$f":"IF(INTRO!$E$39=\"Non endémique\",\" \",IF(COUNTRY_INFO!B48=0,\" \",COUNTRY_INFO!B48))","v":"HUAMBO"},{"$f":"IF(INTRO!$E$39=\"Non endémique\",\" \",IF(COUNTRY_INFO!C48=0,\" \",COUNTRY_INFO!C48))","v":"CACHIUNGO"},{"$f":"IF(INTRO!$E$39=\"Non endémique\",0,IF(INTRO!$E$39=\"Endémique mais pas de CP\",IF(COUNTRY_INFO!$H48=1,COUNTRY_INFO!F48+COUNTRY_INFO!G48,0),IF(COUNTRY_INFO!$H48=1,COUNTRY_INFO!F48+COUNTRY_INFO!G48,IF(COUNTRY_INFO!$I48=1,IF(COUNTRY_INFO!N48>=(COUNTRY_INFO!F48+COUNTRY_INFO!G48),COUNTRY_INFO!F48+COUNTRY_INFO!G48,COUNTRY_INFO!$N48),0))))","v":0},{"$f":"IF(AND(INTRO!$E$39=\"Non endémique\",INTRO!$E$37=\"Non endémique\"),\"Non requis\",IF(INTRO!$E$39=\"Non endémique\",\"Traiter avec DEC\",COUNTRY_INFO!Q48))","v":0},{"$f":"IF(INTRO!$E$39<>\"Non endémique\",COUNTRY_INFO!R48,\"Non requis\")","v":0},{"$f":"IF(COUNTRY_INFO!H48=1, IF($E48=1,IF(ALB_MBD!$J48<>\" \",COUNTRY_INFO!F48+COUNTRY_INFO!G48-ALB_MBD!$J48,COUNTRY_INFO!F48+COUNTRY_INFO!G48), 0),0)","v":0},{"$f":"IF(INTRO!$E$39<>\"Endémique\",0, IF(AND(COUNTRY_INFO!$I48=1,$F48<>0),IF(COUNTRY_INFO!N48>=(COUNTRY_INFO!F48+COUNTRY_INFO!G48),COUNTRY_INFO!F48+COUNTRY_INFO!G48,COUNTRY_INFO!$N48), 0))","v":0},null,0,0,0,0,0,null,0,0]
[{"$f":"IF(INTRO!$E$39=\"Non endémique\",\" \",IF(COUNTRY_INFO!A49=0,\" \",COUNTRY_INFO!A49))","v":"Angola"},{"$f":"IF(INTRO!$E$39=\"Non endémique\",\" \",IF(COUNTRY_INFO!B49=0,\" \",COUNTRY_INFO!B49))","v":"HUAMBO"},{"$f":"IF(INTRO!$E$39=\"Non endémique\",\" \",IF(COUNTRY_INFO!C49=0,\" \",COUNTRY_INFO!C49))","v":"LONDUIMBALI"},{"$f":"IF(INTRO!$E$39=\"Non endémique\",0,IF(INTRO!$E$39=\"Endémique mais pas de CP\",IF(COUNTRY_INFO!$H49=1,COUNTRY_INFO!F49+COUNTRY_INFO!G49,0),IF(COUNTRY_INFO!$H49=1,COUNTRY_INFO!F49+COUNTRY_INFO!G49,IF(COUNTRY_INFO!$I49=1,IF(COUNTRY_INFO!N49>=(COUNTRY_INFO!F49+COUNTRY_INFO!G49),COUNTRY_INFO!F49+COUNTRY_INFO!G49,COUNTRY_INFO!$N49),0))))","v":0},{"$f":"IF(AND(INTRO!$E$39=\"Non endémique\",INTRO!$E$37=\"Non endémique\"),\"Non requis\",IF(INTRO!$E$39=\"Non endémique\",\"Traiter avec DEC\",COUNTRY_INFO!Q49))","v":0},{"$f":"IF(INTRO!$E$39<>\"Non endémique\",COUNTRY_INFO!R49,\"Non requis\")","v":0},{"$f":"IF(COUNTRY_INFO!H49=1, IF($E49=1,IF(ALB_MBD!$J49<>\" \",COUNTRY_INFO!F49+COUNTRY_INFO!G49-ALB_MBD!$J49,COUNTRY_INFO!F49+COUNTRY_INFO!G49), 0),0)","v":0},{"$f":"IF(INTRO!$E$39<>\"Endémique\",0, IF(AND(COUNTRY_INFO!$I49=1,$F49<>0),IF(COUNTRY_INFO!N49>=(COUNTRY_INFO!F49+COUNTRY_INFO!G49),COUNTRY_INFO!F49+COUNTRY_INFO!G49,COUNTRY_INFO!$N49), 0))","v":0},null,0,0,0,0,0,null,0,0]
[{"$f":"IF(INTRO!$E$39=\"Non endémique\",\" \",IF(COUNTRY_INFO!A50=0,\" \",COUNTRY_INFO!A50))","v":"Angola"},{"$f":"IF(INTRO!$E$39=\"Non endémique\",\" \",IF(COUNTRY_INFO!B50=0,\" \",COUNTRY_INFO!B50))","v":"HUAMBO"},{"$f":"IF(INTRO!$E$39=\"Non endémique\",\" \",IF(COUNTRY_INFO!C50=0,\" \",COUNTRY_INFO!C50))","v":"LONGONJO"},{"$f":"IF(INTRO!$E$39=\"Non endémique\",0,IF(INTRO!$E$39=\"Endémique mais pas de CP\",IF(COUNTRY_INFO!$H50=1,COUNTRY_INFO!F50+COUNTRY_INFO!G50,0),IF(COUNTRY_INFO!$H50=1,COUNTRY_INFO!F50+COUNTRY_INFO!G50,IF(COUNTRY_INFO!$I50=1,IF(COUNTRY_INFO!N50>=(COUNTRY_INFO!F50+COUNTRY_INFO!G50),COUNTRY_INFO!F50+COUNTRY_INFO!G50,COUNTRY_INFO!$N50),0))))","v":0},{"$f":"IF(AND(INTRO!$E$39=\"Non endémique\",INTRO!$E$37=\"Non endémique\"),\"Non requis\",IF(INTRO!$E$39=\"Non endémique\",\"Traiter avec DEC\",COUNTRY_INFO!Q50))","v":0},{"$f":"IF(INTRO!$E$39<>\"Non endémique\",COUNTRY_INFO!R50,\"Non requis\")","v":0},{"$f":"IF(COUNTRY_INFO!H50=1, IF($E50=1,IF(ALB_MBD!$J50<>\" \",COUNTRY_INFO!F50+COUNTRY_INFO!G50-ALB_MBD!$J50,COUNTRY_INFO!F50+COUNTRY_INFO!G50), 0),0)","v":0},{"$f":"IF(INTRO!$E$39<>\"Endémique\",0, IF(AND(COUNTRY_INFO!$I50=1,$F50<>0),IF(COUNTRY_INFO!N50>=(COUNTRY_INFO!F50+COUNTRY_INFO!G50),COUNTRY_INFO!F50+COUNTRY_INFO!G50,COUNTRY_INFO!$N50), 0))","v":0},null,0,0,0,0,0,null,0,0]
[{"$f":"IF(INTRO!$E$39=\"Non endémique\",\" \",IF(COUNTRY_INFO!A51=0,\" \",COUNTRY_INFO!A51))","v":"Angola"},{"$f":"IF(INTRO!$E$39=\"Non endémique\",\" \",IF(COUNTRY_INFO!B51=0,\" \",COUNTRY_INFO!B51))","v":"HUAMBO"},{"$f":"IF(INTRO!$E$39=\"Non endémique\",\" \",IF(COUNTRY_INFO!C51=0,\" \",COUNTRY_INFO!C51))","v":"MUNGO"},{"$f":"IF(INTRO!$E$39=\"Non endémique\",0,IF(INTRO!$E$39=\"Endémique mais pas de CP\",IF(COUNTRY_INFO!$H51=1,COUNTRY_INFO!F51+COUNTRY_INFO!G51,0),IF(COUNTRY_INFO!$H51=1,COUNTRY_INFO!F51+COUNTRY_INFO!G51,IF(COUNTRY_INFO!$I51=1,IF(COUNTRY_INFO!N51>=(COUNTRY_INFO!F51+COUNTRY_INFO!G51),COUNTRY_INFO!F51+COUNTRY_INFO!G51,COUNTRY_INFO!$N51),0))))","v":125737},{"$f":"IF(AND(INTRO!$E$39=\"Non endémique\",INTRO!$E$37=\"Non endémique\"),\"Non requis\",IF(INTRO!$E$39=\"Non endémique\",\"Traiter avec DEC\",COUNTRY_INFO!Q51))","v":0},{"$f":"IF(INTRO!$E$39<>\"Non endémique\",COUNTRY_INFO!R51,\"Non requis\")","v":1},{"$f":"IF(COUNTRY_INFO!H51=1, IF($E51=1,IF(ALB_MBD!$J51<>\" \",COUNTRY_INFO!F51+COUNTRY_INFO!G51-ALB_MBD!$J51,COUNTRY_INFO!F51+COUNTRY_INFO!G51), 0),0)","v":0},{"$f":"IF(INTRO!$E$39<>\"Endémique\",0, IF(AND(COUNTRY_INFO!$I51=1,$F51<>0),IF(COUNTRY_INFO!N51>=(COUNTRY_INFO!F51+COUNTRY_INFO!G51),COUNTRY_INFO!F51+COUNTRY_INFO!G51,COUNTRY_INFO!$N51), 0))","v":125737},null,125737,0,352063.6,0,352063.6,null,352063.6,705]
[{"$f":"IF(INTRO!$E$39=\"Non endémique\",\" \",IF(COUNTRY_INFO!A52=0,\" \",COUNTRY_INFO!A52))","v":"Angola"},{"$f":"IF(INTRO!$E$39=\"Non endémique\",\" \",IF(COUNTRY_INFO!B52=0,\" \",COUNTRY_INFO!B52))","v":"HUAMBO"},{"$f":"IF(INTRO!$E$39=\"Non endémique\",\" \",IF(COUNTRY_INFO!C52=0,\" \",COUNTRY_INFO!C52))","v":"CHICALA CHOLOHANGA"},{"$f":"IF(INTRO!$E$39=\"Non endémique\",0,IF(INTRO!$E$39=\"Endémique mais pas de CP\",IF(COUNTRY_INFO!$H52=1,COUNTRY_INFO!F52+COUNTRY_INFO!G52,0),IF(COUNTRY_INFO!$H52=1,COUNTRY_INFO!F52+COUNTRY_INFO!G52,IF(COUNTRY_INFO!$I52=1,IF(COUNTRY_INFO!N52>=(COUNTRY_INFO!F52+COUNTRY_INFO!G52),COUNTRY_INFO!F52+COUNTRY_INFO!G52,COUNTRY_INFO!$N52),0))))","v":0},{"$f":"IF(AND(INTRO!$E$39=\"Non endémique\",INTRO!$E$37=\"Non endémique\"),\"Non requis\",IF(INTRO!$E$39=\"Non endémique\",\"Traiter avec DEC\",COUNTRY_INFO!Q52))","v":0},{"$f":"IF(INTRO!$E$39<>\"Non endémique\",COUNTRY_INFO!R52,\"Non requis\")","v":0},{"$f":"IF(COUNTRY_INFO!H52=1, IF($E52=1,IF(ALB_MBD!$J52<>\" \",COUNTRY_INFO!F52+COUNTRY_INFO!G52-ALB_MBD!$J52,COUNTRY_INFO!F52+COUNTRY_INFO!G52), 0),0)","v":0},{"$f":"IF(INTRO!$E$39<>\"Endémique\",0, IF(AND(COUNTRY_INFO!$I52=1,$F52<>0),IF(COUNTRY_INFO!N52>=(COUNTRY_INFO!F52+COUNTRY_INFO!G52),COUNTRY_INFO!F52+COUNTRY_INFO!G52,COUNTRY_INFO!$N52), 0))","v":0},null,0,0,0,0,0,null,0,0]
[{"$f":"IF(INTRO!$E$39=\"Non endémique\",\" \",IF(COUNTRY_INFO!A53=0,\" \",COUNTRY_INFO!A53))","v":"Angola"},{"$f":"IF(INTRO!$E$39=\"Non endémique\",\" \",IF(COUNTRY_INFO!B53=0,\" \",COUNTRY_INFO!B53))","v":"HUAMBO"},{"$f":"IF(INTRO!$E$39=\"Non endémique\",\" \",IF(COUNTRY_INFO!C53=0,\" \",COUNTRY_INFO!C53))","v":"CHINDJENJE"},{"$f":"IF(INTRO!$E$39=\"Non endémique\",0,IF(INTRO!$E$39=\"Endémique mais pas de CP\",IF(COUNTRY_INFO!$H53=1,COUNTRY_INFO!F53+COUNTRY_INFO!G53,0),IF(COUNTRY_INFO!$H53=1,COUNTRY_INFO!F53+COUNTRY_INFO!G53,IF(COUNTRY_INFO!$I53=1,IF(COUNTRY_INFO!N53>=(COUNTRY_INFO!F53+COUNTRY_INFO!G53),COUNTRY_INFO!F53+COUNTRY_INFO!G53,COUNTRY_INFO!$N53),0))))","v":0},{"$f":"IF(AND(INTRO!$E$39=\"Non endémique\",INTRO!$E$37=\"Non endémique\"),\"Non requis\",IF(INTRO!$E$39=\"Non endémique\",\"Traiter avec DEC\",COUNTRY_INFO!Q53))","v":0},{"$f":"IF(INTRO!$E$39<>\"Non endémique\",COUNTRY_INFO!R53,\"Non requis\")","v":0},{"$f":"IF(COUNTRY_INFO!H53=1, IF($E53=1,IF(ALB_MBD!$J53<>\" \",COUNTRY_INFO!F53+COUNTRY_INFO!G53-ALB_MBD!$J53,COUNTRY_INFO!F53+COUNTRY_INFO!G53), 0),0)","v":0},{"$f":"IF(INTRO!$E$39<>\"Endémique\",0, IF(AND(COUNTRY_INFO!$I53=1,$F53<>0),IF(COUNTRY_INFO!N53>=(COUNTRY_INFO!F53+COUNTRY_INFO!G53),COUNTRY_INFO!F53+COUNTRY_INFO!G53,COUNTRY_INFO!$N53), 0))","v":0},null,0,0,0,0,0,null,0,0]
[{"$f":"IF(INTRO!$E$39=\"Non endémique\",\" \",IF(COUNTRY_INFO!A54=0,\" \",COUNTRY_INFO!A54))","v":"Angola"},{"$f":"IF(INTRO!$E$39=\"Non endémique\",\" \",IF(COUNTRY_INFO!B54=0,\" \",COUNTRY_INFO!B54))","v":"HUAMBO"},{"$f":"IF(INTRO!$E$39=\"Non endémique\",\" \",IF(COUNTRY_INFO!C54=0,\" \",COUNTRY_INFO!C54))","v":"UCUMA"},{"$f":"IF(INTRO!$E$39=\"Non endémique\",0,IF(INTRO!$E$39=\"Endémique mais pas de CP\",IF(COUNTRY_INFO!$H54=1,COUNTRY_INFO!F54+COUNTRY_INFO!G54,0),IF(COUNTRY_INFO!$H54=1,COUNTRY_INFO!F54+COUNTRY_INFO!G54,IF(COUNTRY_INFO!$I54=1,IF(COUNTRY_INFO!N54>=(COUNTRY_INFO!F54+COUNTRY_INFO!G54),COUNTRY_INFO!F54+COUNTRY_INFO!G54,COUNTRY_INFO!$N54),0))))","v":0},{"$f":"IF(AND(INTRO!$E$39=\"Non endémique\",INTRO!$E$37=\"Non endémique\"),\"Non requis\",IF(INTRO!$E$39=\"Non endémique\",\"Traiter avec DEC\",COUNTRY_INFO!Q54))","v":0},{"$f":"IF(INTRO!$E$39<>\"Non endémique\",COUNTRY_INFO!R54,\"Non requis\")","v":0},{"$f":"IF(COUNTRY_INFO!H54=1, IF($E54=1,IF(ALB_MBD!$J54<>\" \",COUNTRY_INFO!F54+COUNTRY_INFO!G54-ALB_MBD!$J54,COUNTRY_INFO!F54+COUNTRY_INFO!G54), 0),0)","v":0},{"$f":"IF(INTRO!$E$39<>\"Endémique\",0, IF(AND(COUNTRY_INFO!$I54=1,$F54<>0),IF(COUNTRY_INFO!N54>=(COUNTRY_INFO!F54+COUNTRY_INFO!G54),COUNTRY_INFO!F54+COUNTRY_INFO!G54,COUNTRY_INFO!$N54), 0))","v":0},null,0,0,0,0,0,null,0,0]
[{"$f":"IF(INTRO!$E$39=\"Non endémique\",\" \",IF(COUNTRY_INFO!A55=0,\" \",COUNTRY_INFO!A55))","v":"Angola"},{"$f":"IF(INTRO!$E$39=\"Non endémique\",\" \",IF(COUNTRY_INFO!B55=0,\" \",COUNTRY_INFO!B55))","v":"HUILA"},{"$f":"IF(INTRO!$E$39=\"Non endémique\",\" \",IF(COUNTRY_INFO!C55=0,\" \",COUNTRY_INFO!C55))","v":"CACONDA"},{"$f":"IF(INTRO!$E$39=\"Non endémique\",0,IF(INTRO!$E$39=\"Endémique mais pas de CP\",IF(COUNTRY_INFO!$H55=1,COUNTRY_INFO!F55+COUNTRY_INFO!G55,0),IF(COUNTRY_INFO!$H55=1,COUNTRY_INFO!F55+COUNTRY_INFO!G55,IF(COUNTRY_INFO!$I55=1,IF(COUNTRY_INFO!N55>=(COUNTRY_INFO!F55+COUNTRY_INFO!G55),COUNTRY_INFO!F55+COUNTRY_INFO!G55,COUNTRY_INFO!$N55),0))))","v":0},{"$f":"IF(AND(INTRO!$E$39=\"Non endémique\",INTRO!$E$37=\"Non endémique\"),\"Non requis\",IF(INTRO!$E$39=\"Non endémique\",\"Traiter avec DEC\",COUNTRY_INFO!Q55))","v":0},{"$f":"IF(INTRO!$E$39<>\"Non endémique\",COUNTRY_INFO!R55,\"Non requis\")","v":0},{"$f":"IF(COUNTRY_INFO!H55=1, IF($E55=1,IF(ALB_MBD!$J55<>\" \",COUNTRY_INFO!F55+COUNTRY_INFO!G55-ALB_MBD!$J55,COUNTRY_INFO!F55+COUNTRY_INFO!G55), 0),0)","v":0},{"$f":"IF(INTRO!$E$39<>\"Endémique\",0, IF(AND(COUNTRY_INFO!$I55=1,$F55<>0),IF(COUNTRY_INFO!N55>=(COUNTRY_INFO!F55+COUNTRY_INFO!G55),COUNTRY_INFO!F55+COUNTRY_INFO!G55,COUNTRY_INFO!$N55), 0))","v":0},null,0,0,0,0,0,null,0,0]
[{"$f":"IF(INTRO!$E$39=\"Non endémique\",\" \",IF(COUNTRY_INFO!A56=0,\" \",COUNTRY_INFO!A56))","v":"Angola"},{"$f":"IF(INTRO!$E$39=\"Non endémique\",\" \",IF(COUNTRY_INFO!B56=0,\" \",COUNTRY_INFO!B56))","v":"HUILA"},{"$f":"IF(INTRO!$E$39=\"Non endémique\",\" \",IF(COUNTRY_INFO!C56=0,\" \",COUNTRY_INFO!C56))","v":"CACULA"},{"$f":"IF(INTRO!$E$39=\"Non endémique\",0,IF(INTRO!$E$39=\"Endémique mais pas de CP\",IF(COUNTRY_INFO!$H56=1,COUNTRY_INFO!F56+COUNTRY_INFO!G56,0),IF(COUNTRY_INFO!$H56=1,COUNTRY_INFO!F56+COUNTRY_INFO!G56,IF(COUNTRY_INFO!$I56=1,IF(COUNTRY_INFO!N56>=(COUNTRY_INFO!F56+COUNTRY_INFO!G56),COUNTRY_INFO!F56+COUNTRY_INFO!G56,COUNTRY_INFO!$N56),0))))","v":0},{"$f":"IF(AND(INTRO!$E$39=\"Non endémique\",INTRO!$E$37=\"Non endémique\"),\"Non requis\",IF(INTRO!$E$39=\"Non endémique\",\"Traiter avec DEC\",COUNTRY_INFO!Q56))","v":0},{"$f":"IF(INTRO!$E$39<>\"Non endémique\",COUNTRY_INFO!R56,\"Non requis\")","v":0},{"$f":"IF(COUNTRY_INFO!H56=1, IF($E56=1,IF(ALB_MBD!$J56<>\" \",COUNTRY_INFO!F56+COUNTRY_INFO!G56-ALB_MBD!$J56,COUNTRY_INFO!F56+COUNTRY_INFO!G56), 0),0)","v":0},{"$f":"IF(INTRO!$E$39<>\"Endémique\",0, IF(AND(COUNTRY_INFO!$I56=1,$F56<>0),IF(COUNTRY_INFO!N56>=(COUNTRY_INFO!F56+COUNTRY_INFO!G56),COUNTRY_INFO!F56+COUNTRY_INFO!G56,COUNTRY_INFO!$N56), 0))","v":0},null,0,0,0,0,0,null,0,0]
[{"$f":"IF(INTRO!$E$39=\"Non endémique\",\" \",IF(COUNTRY_INFO!A57=0,\" \",COUNTRY_INFO!A57))","v":"Angola"},{"$f":"IF(INTRO!$E$39=\"Non endémique\",\" \",IF(COUNTRY_INFO!B57=0,\" \",COUNTRY_INFO!B57))","v":"HUILA"},{"$f":"IF(INTRO!$E$39=\"Non endémique\",\" \",IF(COUNTRY_INFO!C57=0,\" \",COUNTRY_INFO!C57))","v":"CALUQUEMBE"},{"$f":"IF(INTRO!$E$39=\"Non endémique\",0,IF(INTRO!$E$39=\"Endémique mais pas de CP\",IF(COUNTRY_INFO!$H57=1,COUNTRY_INFO!F57+COUNTRY_INFO!G57,0),IF(COUNTRY_INFO!$H57=1,COUNTRY_INFO!F57+COUNTRY_INFO!G57,IF(COUNTRY_INFO!$I57=1,IF(COUNTRY_INFO!N57>=(COUNTRY_INFO!F57+COUNTRY_INFO!G57),COUNTRY_INFO!F57+COUNTRY_INFO!G57,COUNTRY_INFO!$N57),0))))","v":194936},{"$f":"IF(AND(INTRO!$E$39=\"Non endémique\",INTRO!$E$37=\"Non endémique\"),\"Non requis\",IF(INTRO!$E$39=\"Non endémique\",\"Traiter avec DEC\",COUNTRY_INFO!Q57))","v":0},{"$f":"IF(INTRO!$E$39<>\"Non endémique\",COUNTRY_INFO!R57,\"Non requis\")","v":1},{"$f":"IF(COUNTRY_INFO!H57=1, IF($E57=1,IF(ALB_MBD!$J57<>\" \",COUNTRY_INFO!F57+COUNTRY_INFO!G57-ALB_MBD!$J57,COUNTRY_INFO!F57+COUNTRY_INFO!G57), 0),0)","v":0},{"$f":"IF(INTRO!$E$39<>\"Endémique\",0, IF(AND(COUNTRY_INFO!$I57=1,$F57<>0),IF(COUNTRY_INFO!N57>=(COUNTRY_INFO!F57+COUNTRY_INFO!G57),COUNTRY_INFO!F57+COUNTRY_INFO!G57,COUNTRY_INFO!$N57), 0))","v":194936},null,194936,0,545820.79999999993,0,545820.79999999993,null,545820.79999999993,1092]
[{"$f":"IF(INTRO!$E$39=\"Non endémique\",\" \",IF(COUNTRY_INFO!A58=0,\" \",COUNTRY_INFO!A58))","v":"Angola"},{"$f":"IF(INTRO!$E$39=\"Non endémique\",\" \",IF(COUNTRY_INFO!B58=0,\" \",COUNTRY_INFO!B58))","v":"HUILA"},{"$f":"IF(INTRO!$E$39=\"Non endémique\",\" \",IF(COUNTRY_INFO!C58=0,\" \",COUNTRY_INFO!C58))","v":"CHIBIA"},{"$f":"IF(INTRO!$E$39=\"Non endémique\",0,IF(INTRO!$E$39=\"Endémique mais pas de CP\",IF(COUNTRY_INFO!$H58=1,COUNTRY_INFO!F58+COUNTRY_INFO!G58,0),IF(COUNTRY_INFO!$H58=1,COUNTRY_INFO!F58+COUNTRY_INFO!G58,IF(COUNTRY_INFO!$I58=1,IF(COUNTRY_INFO!N58>=(COUNTRY_INFO!F58+COUNTRY_INFO!G58),COUNTRY_INFO!F58+COUNTRY_INFO!G58,COUNTRY_INFO!$N58),0))))","v":0},{"$f":"IF(AND(INTRO!$E$39=\"Non endémique\",INTRO!$E$37=\"Non endémique\"),\"Non requis\",IF(INTRO!$E$39=\"Non endémique\",\"Traiter avec DEC\",COUNTRY_INFO!Q58))","v":0},{"$f":"IF(INTRO!$E$39<>\"Non endémique\",COUNTRY_INFO!R58,\"Non requis\")","v":0},{"$f":"IF(COUNTRY_INFO!H58=1, IF($E58=1,IF(ALB_MBD!$J58<>\" \",COUNTRY_INFO!F58+COUNTRY_INFO!G58-ALB_MBD!$J58,COUNTRY_INFO!F58+COUNTRY_INFO!G58), 0),0)","v":0},{"$f":"IF(INTRO!$E$39<>\"Endémique\",0, IF(AND(COUNTRY_INFO!$I58=1,$F58<>0),IF(COUNTRY_INFO!N58>=(COUNTRY_INFO!F58+COUNTRY_INFO!G58),COUNTRY_INFO!F58+COUNTRY_INFO!G58,COUNTRY_INFO!$N58), 0))","v":0},null,0,0,0,0,0,null,0,0]
[{"$f":"IF(INTRO!$E$39=\"Non endémique\",\" \",IF(COUNTRY_INFO!A59=0,\" \",COUNTRY_INFO!A59))","v":"Angola"},{"$f":"IF(INTRO!$E$39=\"Non endémique\",\" \",IF(COUNTRY_INFO!B59=0,\" \",COUNTRY_INFO!B59))","v":"HUILA"},{"$f":"IF(INTRO!$E$39=\"Non endémique\",\" \",IF(COUNTRY_INFO!C59=0,\" \",COUNTRY_INFO!C59))","v":"CHICOMBA"},{"$f":"IF(INTRO!$E$39=\"Non endémique\",0,IF(INTRO!$E$39=\"Endémique mais pas de CP\",IF(COUNTRY_INFO!$H59=1,COUNTRY_INFO!F59+COUNTRY_INFO!G59,0),IF(COUNTRY_INFO!$H59=1,COUNTRY_INFO!F59+COUNTRY_INFO!G59,IF(COUNTRY_INFO!$I59=1,IF(COUNTRY_INFO!N59>=(COUNTRY_INFO!F59+COUNTRY_INFO!G59),COUNTRY_INFO!F59+COUNTRY_INFO!G59,COUNTRY_INFO!$N59),0))))","v":142798},{"$f":"IF(AND(INTRO!$E$39=\"Non endémique\",INTRO!$E$37=\"Non endémique\"),\"Non requis\",IF(INTRO!$E$39=\"Non endémique\",\"Traiter avec DEC\",COUNTRY_INFO!Q59))","v":0},{"$f":"IF(INTRO!$E$39<>\"Non endémique\",COUNTRY_INFO!R59,\"Non requis\")","v":1},{"$f":"IF(COUNTRY_INFO!H59=1, IF($E59=1,IF(ALB_MBD!$J59<>\" \",COUNTRY_INFO!F59+COUNTRY_INFO!G59-ALB_MBD!$J59,COUNTRY_INFO!F59+COUNTRY_INFO!G59), 0),0)","v":0},{"$f":"IF(INTRO!$E$39<>\"Endémique\",0, IF(AND(COUNTRY_INFO!$I59=1,$F59<>0),IF(COUNTRY_INFO!N59>=(COUNTRY_INFO!F59+COUNTRY_INFO!G59),COUNTRY_INFO!F59+COUNTRY_INFO!G59,COUNTRY_INFO!$N59), 0))","v":142798},null,142798,0,399834.39999999997,0,399834.39999999997,null,399834.39999999997,800]
[{"$f":"IF(INTRO!$E$39=\"Non endémique\",\" \",IF(COUNTRY_INFO!A60=0,\" \",COUNTRY_INFO!A60))","v":"Angola"},{"$f":"IF(INTRO!$E$39=\"Non endémique\",\" \",IF(COUNTRY_INFO!B60=0,\" \",COUNTRY_INFO!B60))","v":"HUILA"},{"$f":"IF(INTRO!$E$39=\"Non endémique\",\" \",IF(COUNTRY_INFO!C60=0,\" \",COUNTRY_INFO!C60))","v":"CHIPINDO"},{"$f":"IF(INTRO!$E$39=\"Non endémique\",0,IF(INTRO!$E$39=\"Endémique mais pas de CP\",IF(COUNTRY_INFO!$H60=1,COUNTRY_INFO!F60+COUNTRY_INFO!G60,0),IF(COUNTRY_INFO!$H60=1,COUNTRY_INFO!F60+COUNTRY_INFO!G60,IF(COUNTRY_INFO!$I60=1,IF(COUNTRY_INFO!N60>=(COUNTRY_INFO!F60+COUNTRY_INFO!G60),COUNTRY_INFO!F60+COUNTRY_INFO!G60,COUNTRY_INFO!$N60),0))))","v":70111},{"$f":"IF(AND(INTRO!$E$39=\"Non endémique\",INTRO!$E$37=\"Non endémique\"),\"Non requis\",IF(INTRO!$E$39=\"Non endémique\",\"Traiter avec DEC\",COUNTRY_INFO!Q60))","v":1},{"$f":"IF(INTRO!$E$39<>\"Non endémique\",COUNTRY_INFO!R60,\"Non requis\")","v":1},{"$f":"IF(COUNTRY_INFO!H60=1, IF($E60=1,IF(ALB_MBD!$J60<>\" \",COUNTRY_INFO!F60+COUNTRY_INFO!G60-ALB_MBD!$J60,COUNTRY_INFO!F60+COUNTRY_INFO!G60), 0),0)","v":70111},{"$f":"IF(INTRO!$E$39<>\"Endémique\",0, IF(AND(COUNTRY_INFO!$I60=1,$F60<>0),IF(COUNTRY_INFO!N60>=(COUNTRY_INFO!F60+COUNTRY_INFO!G60),COUNTRY_INFO!F60+COUNTRY_INFO!G60,COUNTRY_INFO!$N60), 0))","v":70111},null,70111,0,0,196310.8,196310.8,null,196310.8,393]
[{"$f":"IF(INTRO!$E$39=\"Non endémique\",\" \",IF(COUNTRY_INFO!A61=0,\" \",COUNTRY_INFO!A61))","v":"Angola"},{"$f":"IF(INTRO!$E$39=\"Non endémique\",\" \",IF(COUNTRY_INFO!B61=0,\" \",COUNTRY_INFO!B61))","v":"HUILA"},{"$f":"IF(INTRO!$E$39=\"Non endémique\",\" \",IF(COUNTRY_INFO!C61=0,\" \",COUNTRY_INFO!C61))","v":"GAMBOS"},{"$f":"IF(INTRO!$E$39=\"Non endémique\",0,IF(INTRO!$E$39=\"Endémique mais pas de CP\",IF(COUNTRY_INFO!$H61=1,COUNTRY_INFO!F61+COUNTRY_INFO!G61,0),IF(COUNTRY_INFO!$H61=1,COUNTRY_INFO!F61+COUNTRY_INFO!G61,IF(COUNTRY_INFO!$I61=1,IF(COUNTRY_INFO!N61>=(COUNTRY_INFO!F61+COUNTRY_INFO!G61),COUNTRY_INFO!F61+COUNTRY_INFO!G61,COUNTRY_INFO!$N61),0))))","v":0},{"$f":"IF(AND(INTRO!$E$39=\"Non endémique\",INTRO!$E$37=\"Non endémique\"),\"Non requis\",IF(INTRO!$E$39=\"Non endémique\",\"Traiter avec DEC\",COUNTRY_INFO!Q61))","v":0},{"$f":"IF(INTRO!$E$39<>\"Non endémique\",COUNTRY_INFO!R61,\"Non requis\")","v":0},{"$f":"IF(COUNTRY_INFO!H61=1, IF($E61=1,IF(ALB_MBD!$J61<>\" \",COUNTRY_INFO!F61+COUNTRY_INFO!G61-ALB_MBD!$J61,COUNTRY_INFO!F61+COUNTRY_INFO!G61), 0),0)","v":0},{"$f":"IF(INTRO!$E$39<>\"Endémique\",0, IF(AND(COUNTRY_INFO!$I61=1,$F61<>0),IF(COUNTRY_INFO!N61>=(COUNTRY_INFO!F61+COUNTRY_INFO!G61),COUNTRY_INFO!F61+COUNTRY_INFO!G61,COUNTRY_INFO!$N61), 0))","v":0},null,0,0,0,0,0,null,0,0]
[{"$f":"IF(INTRO!$E$39=\"Non endémique\",\" \",IF(COUNTRY_INFO!A62=0,\" \",COUNTRY_INFO!A62))","v":"Angola"},{"$f":"IF(INTRO!$E$39=\"Non endémique\",\" \",IF(COUNTRY_INFO!B62=0,\" \",COUNTRY_INFO!B62))","v":"HUILA"},{"$f":"IF(INTRO!$E$39=\"Non endémique\",\" \",IF(COUNTRY_INFO!C62=0,\" \",COUNTRY_INFO!C62))","v":"HUMPATA"},{"$f":"IF(INTRO!$E$39=\"Non endémique\",0,IF(INTRO!$E$39=\"Endémique mais pas de CP\",IF(COUNTRY_INFO!$H62=1,COUNTRY_INFO!F62+COUNTRY_INFO!G62,0),IF(COUNTRY_INFO!$H62=1,COUNTRY_INFO!F62+COUNTRY_INFO!G62,IF(COUNTRY_INFO!$I62=1,IF(COUNTRY_INFO!N62>=(COUNTRY_INFO!F62+COUNTRY_INFO!G62),COUNTRY_INFO!F62+COUNTRY_INFO!G62,COUNTRY_INFO!$N62),0))))","v":0},{"$f":"IF(AND(INTRO!$E$39=\"Non endémique\",INTRO!$E$37=\"Non endémique\"),\"Non requis\",IF(INTRO!$E$39=\"Non endémique\",\"Traiter avec DEC\",COUNTRY_INFO!Q62))","v":0},{"$f":"IF(INTRO!$E$39<>\"Non endémique\",COUNTRY_INFO!R62,\"Non requis\")","v":0},{"$f":"IF(COUNTRY_INFO!H62=1, IF($E62=1,IF(ALB_MBD!$J62<>\" \",COUNTRY_INFO!F62+COUNTRY_INFO!G62-ALB_MBD!$J62,COUNTRY_INFO!F62+COUNTRY_INFO!G62), 0),0)","v":0},{"$f":"IF(INTRO!$E$39<>\"Endémique\",0, IF(AND(COUNTRY_INFO!$I62=1,$F62<>0),IF(COUNTRY_INFO!N62>=(COUNTRY_INFO!F62+COUNTRY_INFO!G62),COUNTRY_INFO!F62+COUNTRY_INFO!G62,COUNTRY_INFO!$N62), 0))","v":0},null,0,0,0,0,0,null,0,0]
[{"$f":"IF(INTRO!$E$39=\"Non endémique\",\" \",IF(COUNTRY_INFO!A63=0,\" \",COUNTRY_INFO!A63))","v":"Angola"},{"$f":"IF(INTRO!$E$39=\"Non endémique\",\" \",IF(COUNTRY_INFO!B63=0,\" \",COUNTRY_INFO!B63))","v":"HUILA"},{"$f":"IF(INTRO!$E$39=\"Non endémique\",\" \",IF(COUNTRY_INFO!C63=0,\" \",COUNTRY_INFO!C63))","v":"JAMBA"},{"$f":"IF(INTRO!$E$39=\"Non endémique\",0,IF(INTRO!$E$39=\"Endémique mais pas de CP\",IF(COUNTRY_INFO!$H63=1,COUNTRY_INFO!F63+COUNTRY_INFO!G63,0),IF(COUNTRY_INFO!$H63=1,COUNTRY_INFO!F63+COUNTRY_INFO!G63,IF(COUNTRY_INFO!$I63=1,IF(COUNTRY_INFO!N63>=(COUNTRY_INFO!F63+COUNTRY_INFO!G63),COUNTRY_INFO!F63+COUNTRY_INFO!G63,COUNTRY_INFO!$N63),0))))","v":113854},{"$f":"IF(AND(INTRO!$E$39=\"Non endémique\",INTRO!$E$37=\"Non endémique\"),\"Non requis\",IF(INTRO!$E$39=\"Non endémique\",\"Traiter avec DEC\",COUNTRY_INFO!Q63))","v":1},{"$f":"IF(INTRO!$E$39<>\"Non endémique\",COUNTRY_INFO!R63,\"Non requis\")","v":0},{"$f":"IF(COUNTRY_INFO!H63=1, IF($E63=1,IF(ALB_MBD!$J63<>\" \",COUNTRY_INFO!F63+COUNTRY_INFO!G63-ALB_MBD!$J63,COUNTRY_INFO!F63+COUNTRY_INFO!G63), 0),0)","v":113854},{"$f":"IF(INTRO!$E$39<>\"Endémique\",0, IF(AND(COUNTRY_INFO!$I63=1,$F63<>0),IF(COUNTRY_INFO!N63>=(COUNTRY_INFO!F63+COUNTRY_INFO!G63),COUNTRY_INFO!F63+COUNTRY_INFO!G63,COUNTRY_INFO!$N63), 0))","v":0},null,0,318791.19999999995,0,0,318791.19999999995,null,318791.19999999995,638]
[{"$f":"IF(INTRO!$E$39=\"Non endémique\",\" \",IF(COUNTRY_INFO!A64=0,\" \",COUNTRY_INFO!A64))","v":"Angola"},{"$f":"IF(INTRO!$E$39=\"Non endémique\",\" \",IF(COUNTRY_INFO!B64=0,\" \",COUNTRY_INFO!B64))","v":"HUILA"},{"$f":"IF(INTRO!$E$39=\"Non endémique\",\" \",IF(COUNTRY_INFO!C64=0,\" \",COUNTRY_INFO!C64))","v":"CUVANGO"},{"$f":"IF(INTRO!$E$39=\"Non endémique\",0,IF(INTRO!$E$39=\"Endémique mais pas de CP\",IF(COUNTRY_INFO!$H64=1,COUNTRY_INFO!F64+COUNTRY_INFO!G64,0),IF(COUNTRY_INFO!$H64=1,COUNTRY_INFO!F64+COUNTRY_INFO!G64,IF(COUNTRY_INFO!$I64=1,IF(COUNTRY_INFO!N64>=(COUNTRY_INFO!F64+COUNTRY_INFO!G64),COUNTRY_INFO!F64+COUNTRY_INFO!G64,COUNTRY_INFO!$N64),0))))","v":85093},{"$f":"IF(AND(INTRO!$E$39=\"Non endémique\",INTRO!$E$37=\"Non endémique\"),\"Non requis\",IF(INTRO!$E$39=\"Non endémique\",\"Traiter avec DEC\",COUNTRY_INFO!Q64))","v":1},{"$f":"IF(INTRO!$E$39<>\"Non endémique\",COUNTRY_INFO!R64,\"Non requis\")","v":0},{"$f":"IF(COUNTRY_INFO!H64=1, IF($E64=1,IF(ALB_MBD!$J64<>\" \",COUNTRY_INFO!F64+COUNTRY_INFO!G64-ALB_MBD!$J64,COUNTRY_INFO!F64+COUNTRY_INFO!G64), 0),0)","v":4415},{"$f":"IF(INTRO!$E$39<>\"Endémique\",0, IF(AND(COUNTRY_INFO!$I64=1,$F64<>0),IF(COUNTRY_INFO!N64>=(COUNTRY_INFO!F64+COUNTRY_INFO!G64),COUNTRY_INFO!F64+COUNTRY_INFO!G64,COUNTRY_INFO!$N64), 0))","v":0},null,0,12362,0,0,12362,null,12362,25]
[{"$f":"IF(INTRO!$E$39=\"Non endémique\",\" \",IF(COUNTRY_INFO!A65=0,\" \",COUNTRY_INFO!A65))","v":"Angola"},{"$f":"IF(INTRO!$E$39=\"Non endémique\",\" \",IF(COUNTRY_INFO!B65=0,\" \",COUNTRY_INFO!B65))","v":"HUILA"},{"$f":"IF(INTRO!$E$39=\"Non endémique\",\" \",IF(COUNTRY_INFO!C65=0,\" \",COUNTRY_INFO!C65))","v":"LUBANGO"},{"$f":"IF(INTRO!$E$39=\"Non endémique\",0,IF(INTRO!$E$39=\"Endémique mais pas de CP\",IF(COUNTRY_INFO!$H65=1,COUNTRY_INFO!F65+COUNTRY_INFO!G65,0),IF(COUNTRY_INFO!$H65=1,COUNTRY_INFO!F65+COUNTRY_INFO!G65,IF(COUNTRY_INFO!$I65=1,IF(COUNTRY_INFO!N65>=(COUNTRY_INFO!F65+COUNTRY_INFO!G65),COUNTRY_INFO!F65+COUNTRY_INFO!G65,COUNTRY_INFO!$N65),0))))","v":0},{"$f":"IF(AND(INTRO!$E$39=\"Non endémique\",INTRO!$E$37=\"Non endémique\"),\"Non requis\",IF(INTRO!$E$39=\"Non endémique\",\"Traiter avec DEC\",COUNTRY_INFO!Q65))","v":0},{"$f":"IF(INTRO!$E$39<>\"Non endémique\",COUNTRY_INFO!R65,\"Non requis\")","v":0},{"$f":"IF(COUNTRY_INFO!H65=1, IF($E65=1,IF(ALB_MBD!$J65<>\" \",COUNTRY_INFO!F65+COUNTRY_INFO!G65-ALB_MBD!$J65,COUNTRY_INFO!F65+COUNTRY_INFO!G65), 0),0)","v":0},{"$f":"IF(INTRO!$E$39<>\"Endémique\",0, IF(AND(COUNTRY_INFO!$I65=1,$F65<>0),IF(COUNTRY_INFO!N65>=(COUNTRY_INFO!F65+COUNTRY_INFO!G65),COUNTRY_INFO!F65+COUNTRY_INFO!G65,COUNTRY_INFO!$N65), 0))","v":0},null,0,0,0,0,0,null,0,0]
[{"$f":"IF(INTRO!$E$39=\"Non endémique\",\" \",IF(COUNTRY_INFO!A66=0,\" \",COUNTRY_INFO!A66))","v":"Angola"},{"$f":"IF(INTRO!$E$39=\"Non endémique\",\" \",IF(COUNTRY_INFO!B66=0,\" \",COUNTRY_INFO!B66))","v":"HUILA"},{"$f":"IF(INTRO!$E$39=\"Non endémique\",\" \",IF(COUNTRY_INFO!C66=0,\" \",COUNTRY_INFO!C66))","v":"MATALA"},{"$f":"IF(INTRO!$E$39=\"Non endémique\",0,IF(INTRO!$E$39=\"Endémique mais pas de CP\",IF(COUNTRY_INFO!$H66=1,COUNTRY_INFO!F66+COUNTRY_INFO!G66,0),IF(COUNTRY_INFO!$H66=1,COUNTRY_INFO!F66+COUNTRY_INFO!G66,IF(COUNTRY_INFO!$I66=1,IF(COUNTRY_INFO!N66>=(COUNTRY_INFO!F66+COUNTRY_INFO!G66),COUNTRY_INFO!F66+COUNTRY_INFO!G66,COUNTRY_INFO!$N66),0))))","v":284676},{"$f":"IF(AND(INTRO!$E$39=\"Non endémique\",INTRO!$E$37=\"Non endémique\"),\"Non requis\",IF(INTRO!$E$39=\"Non endémique\",\"Traiter avec DEC\",COUNTRY_INFO!Q66))","v":0},{"$f":"IF(INTRO!$E$39<>\"Non endémique\",COUNTRY_INFO!R66,\"Non requis\")","v":1},{"$f":"IF(COUNTRY_INFO!H66=1, IF($E66=1,IF(ALB_MBD!$J66<>\" \",COUNTRY_INFO!F66+COUNTRY_INFO!G66-ALB_MBD!$J66,COUNTRY_INFO!F66+COUNTRY_INFO!G66), 0),0)","v":0},{"$f":"IF(INTRO!$E$39<>\"Endémique\",0, IF(AND(COUNTRY_INFO!$I66=1,$F66<>0),IF(COUNTRY_INFO!N66>=(COUNTRY_INFO!F66+COUNTRY_INFO!G66),COUNTRY_INFO!F66+COUNTRY_INFO!G66,COUNTRY_INFO!$N66), 0))","v":284676},null,284676,0,797092.79999999993,0,797092.79999999993,null,797092.79999999993,1595]
[{"$f":"IF(INTRO!$E$39=\"Non endémique\",\" \",IF(COUNTRY_INFO!A67=0,\" \",COUNTRY_INFO!A67))","v":"Angola"},{"$f":"IF(INTRO!$E$39=\"Non endémique\",\" \",IF(COUNTRY_INFO!B67=0,\" \",COUNTRY_INFO!B67))","v":"HUILA"},{"$f":"IF(INTRO!$E$39=\"Non endémique\",\" \",IF(COUNTRY_INFO!C67=0,\" \",COUNTRY_INFO!C67))","v":"QUILENGUES"},{"$f":"IF(INTRO!$E$39=\"Non endémique\",0,IF(INTRO!$E$39=\"Endémique mais pas de CP\",IF(COUNTRY_INFO!$H67=1,COUNTRY_INFO!F67+COUNTRY_INFO!G67,0),IF(COUNTRY_INFO!$H67=1,COUNTRY_INFO!F67+COUNTRY_INFO!G67,IF(COUNTRY_INFO!$I67=1,IF(COUNTRY_INFO!N67>=(COUNTRY_INFO!F67+COUNTRY_INFO!G67),COUNTRY_INFO!F67+COUNTRY_INFO!G67,COUNTRY_INFO!$N67),0))))","v":81617},{"$f":"IF(AND(INTRO!$E$39=\"Non endémique\",INTRO!$E$37=\"Non endémique\"),\"Non requis\",IF(INTRO!$E$39=\"Non endémique\",\"Traiter avec DEC\",COUNTRY_INFO!Q67))","v":0},{"$f":"IF(INTRO!$E$39<>\"Non endémique\",COUNTRY_INFO!R67,\"Non requis\")","v":1},{"$f":"IF(COUNTRY_INFO!H67=1, IF($E67=1,IF(ALB_MBD!$J67<>\" \",COUNTRY_INFO!F67+COUNTRY_INFO!G67-ALB_MBD!$J67,COUNTRY_INFO!F67+COUNTRY_INFO!G67), 0),0)","v":0},{"$f":"IF(INTRO!$E$39<>\"Endémique\",0, IF(AND(COUNTRY_INFO!$I67=1,$F67<>0),IF(COUNTRY_INFO!N67>=(COUNTRY_INFO!F67+COUNTRY_INFO!G67),COUNTRY_INFO!F67+COUNTRY_INFO!G67,COUNTRY_INFO!$N67), 0))","v":81617},null,81617,0,228527.59999999998,0,228527.59999999998,null,228527.59999999998,458]
[{"$f":"IF(INTRO!$E$39=\"Non endémique\",\" \",IF(COUNTRY_INFO!A68=0,\" \",COUNTRY_INFO!A68))","v":"Angola"},{"$f":"IF(INTRO!$E$39=\"Non endémique\",\" \",IF(COUNTRY_INFO!B68=0,\" \",COUNTRY_INFO!B68))","v":"HUILA"},{"$f":"IF(INTRO!$E$39=\"Non endémique\",\" \",IF(COUNTRY_INFO!C68=0,\" \",COUNTRY_INFO!C68))","v":"QUIPUNGO"},{"$f":"IF(INTRO!$E$39=\"Non endémique\",0,IF(INTRO!$E$39=\"Endémique mais pas de CP\",IF(COUNTRY_INFO!$H68=1,COUNTRY_INFO!F68+COUNTRY_INFO!G68,0),IF(COUNTRY_INFO!$H68=1,COUNTRY_INFO!F68+COUNTRY_INFO!G68,IF(COUNTRY_INFO!$I68=1,IF(COUNTRY_INFO!N68>=(COUNTRY_INFO!F68+COUNTRY_INFO!G68),COUNTRY_INFO!F68+COUNTRY_INFO!G68,COUNTRY_INFO!$N68),0))))","v":172172},{"$f":"IF(AND(INTRO!$E$39=\"Non endémique\",INTRO!$E$37=\"Non endémique\"),\"Non requis\",IF(INTRO!$E$39=\"Non endémique\",\"Traiter avec DEC\",COUNTRY_INFO!Q68))","v":0},{"$f":"IF(INTRO!$E$39<>\"Non endémique\",COUNTRY_INFO!R68,\"Non requis\")","v":1},{"$f":"IF(COUNTRY_INFO!H68=1, IF($E68=1,IF(ALB_MBD!$J68<>\" \",COUNTRY_INFO!F68+COUNTRY_INFO!G68-ALB_MBD!$J68,COUNTRY_INFO!F68+COUNTRY_INFO!G68), 0),0)","v":0},{"$f":"IF(INTRO!$E$39<>\"Endémique\",0, IF(AND(COUNTRY_INFO!$I68=1,$F68<>0),IF(COUNTRY_INFO!N68>=(COUNTRY_INFO!F68+COUNTRY_INFO!G68),COUNTRY_INFO!F68+COUNTRY_INFO!G68,COUNTRY_INFO!$N68), 0))","v":172172},null,172172,0,482081.6,0,482081.6,null,482081.6,965]
[{"$f":"IF(INTRO!$E$39=\"Non endémique\",\" \",IF(COUNTRY_INFO!A69=0,\" \",COUNTRY_INFO!A69))","v":"Angola"},{"$f":"IF(INTRO!$E$39=\"Non endémique\",\" \",IF(COUNTRY_INFO!B69=0,\" \",COUNTRY_INFO!B69))","v":"CUANDO CUBANGO"},{"$f":"IF(INTRO!$E$39=\"Non endémique\",\" \",IF(COUNTRY_INFO!C69=0,\" \",COUNTRY_INFO!C69))","v":"CALAI"},{"$f":"IF(INTRO!$E$39=\"Non endémique\",0,IF(INTRO!$E$39=\"Endémique mais pas de CP\",IF(COUNTRY_INFO!$H69=1,COUNTRY_INFO!F69+COUNTRY_INFO!G69,0),IF(COUNTRY_INFO!$H69=1,COUNTRY_INFO!F69+COUNTRY_INFO!G69,IF(COUNTRY_INFO!$I69=1,IF(COUNTRY_INFO!N69>=(COUNTRY_INFO!F69+COUNTRY_INFO!G69),COUNTRY_INFO!F69+COUNTRY_INFO!G69,COUNTRY_INFO!$N69),0))))","v":0},{"$f":"IF(AND(INTRO!$E$39=\"Non endémique\",INTRO!$E$37=\"Non endémique\"),\"Non requis\",IF(INTRO!$E$39=\"Non endémique\",\"Traiter avec DEC\",COUNTRY_INFO!Q69))","v":0},{"$f":"IF(INTRO!$E$39<>\"Non endémique\",COUNTRY_INFO!R69,\"Non requis\")","v":0},{"$f":"IF(COUNTRY_INFO!H69=1, IF($E69=1,IF(ALB_MBD!$J69<>\" \",COUNTRY_INFO!F69+COUNTRY_INFO!G69-ALB_MBD!$J69,COUNTRY_INFO!F69+COUNTRY_INFO!G69), 0),0)","v":0},{"$f":"IF(INTRO!$E$39<>\"Endémique\",0, IF(AND(COUNTRY_INFO!$I69=1,$F69<>0),IF(COUNTRY_INFO!N69>=(COUNTRY_INFO!F69+COUNTRY_INFO!G69),COUNTRY_INFO!F69+COUNTRY_INFO!G69,COUNTRY_INFO!$N69), 0))","v":0},null,0,0,0,0,0,null,0,0]
[{"$f":"IF(INTRO!$E$39=\"Non endémique\",\" \",IF(COUNTRY_INFO!A70=0,\" \",COUNTRY_INFO!A70))","v":"Angola"},{"$f":"IF(INTRO!$E$39=\"Non endémique\",\" \",IF(COUNTRY_INFO!B70=0,\" \",COUNTRY_INFO!B70))","v":"CUANDO CUBANGO"},{"$f":"IF(INTRO!$E$39=\"Non endémique\",\" \",IF(COUNTRY_INFO!C70=0,\" \",COUNTRY_INFO!C70))","v":"CUANGAR"},{"$f":"IF(INTRO!$E$39=\"Non endémique\",0,IF(INTRO!$E$39=\"Endémique mais pas de CP\",IF(COUNTRY_INFO!$H70=1,COUNTRY_INFO!F70+COUNTRY_INFO!G70,0),IF(COUNTRY_INFO!$H70=1,COUNTRY_INFO!F70+COUNTRY_INFO!G70,IF(COUNTRY_INFO!$I70=1,IF(COUNTRY_INFO!N70>=(COUNTRY_INFO!F70+COUNTRY_INFO!G70),COUNTRY_INFO!F70+COUNTRY_INFO!G70,COUNTRY_INFO!$N70),0))))","v":30698},{"$f":"IF(AND(INTRO!$E$39=\"Non endémique\",INTRO!$E$37=\"Non endémique\"),\"Non requis\",IF(INTRO!$E$39=\"Non endémique\",\"Traiter avec DEC\",COUNTRY_INFO!Q70))","v":0},{"$f":"IF(INTRO!$E$39<>\"Non endémique\",COUNTRY_INFO!R70,\"Non requis\")","v":1},{"$f":"IF(COUNTRY_INFO!H70=1, IF($E70=1,IF(ALB_MBD!$J70<>\" \",COUNTRY_INFO!F70+COUNTRY_INFO!G70-ALB_MBD!$J70,COUNTRY_INFO!F70+COUNTRY_INFO!G70), 0),0)","v":0},{"$f":"IF(INTRO!$E$39<>\"Endémique\",0, IF(AND(COUNTRY_INFO!$I70=1,$F70<>0),IF(COUNTRY_INFO!N70>=(COUNTRY_INFO!F70+COUNTRY_INFO!G70),COUNTRY_INFO!F70+COUNTRY_INFO!G70,COUNTRY_INFO!$N70), 0))","v":30698},null,30698,0,85954.4,0,85954.4,null,85954.4,172]
[{"$f":"IF(INTRO!$E$39=\"Non endémique\",\" \",IF(COUNTRY_INFO!A71=0,\" \",COUNTRY_INFO!A71))","v":"Angola"},{"$f":"IF(INTRO!$E$39=\"Non endémique\",\" \",IF(COUNTRY_INFO!B71=0,\" \",COUNTRY_INFO!B71))","v":"CUANDO CUBANGO"},{"$f":"IF(INTRO!$E$39=\"Non endémique\",\" \",IF(COUNTRY_INFO!C71=0,\" \",COUNTRY_INFO!C71))","v":"CUCHI"},{"$f":"IF(INTRO!$E$39=\"Non endémique\",0,IF(INTRO!$E$39=\"Endémique mais pas de CP\",IF(COUNTRY_INFO!$H71=1,COUNTRY_INFO!F71+COUNTRY_INFO!G71,0),IF(COUNTRY_INFO!$H71=1,COUNTRY_INFO!F71+COUNTRY_INFO!G71,IF(COUNTRY_INFO!$I71=1,IF(COUNTRY_INFO!N71>=(COUNTRY_INFO!F71+COUNTRY_INFO!G71),COUNTRY_INFO!F71+COUNTRY_INFO!G71,COUNTRY_INFO!$N71),0))))","v":46355},{"$f":"IF(AND(INTRO!$E$39=\"Non endémique\",INTRO!$E$37=\"Non endémique\"),\"Non requis\",IF(INTRO!$E$39=\"Non endémique\",\"Traiter avec DEC\",COUNTRY_INFO!Q71))","v":0},{"$f":"IF(INTRO!$E$39<>\"Non endémique\",COUNTRY_INFO!R71,\"Non requis\")","v":1},{"$f":"IF(COUNTRY_INFO!H71=1, IF($E71=1,IF(ALB_MBD!$J71<>\" \",COUNTRY_INFO!F71+COUNTRY_INFO!G71-ALB_MBD!$J71,COUNTRY_INFO!F71+COUNTRY_INFO!G71), 0),0)","v":0},{"$f":"IF(INTRO!$E$39<>\"Endémique\",0, IF(AND(COUNTRY_INFO!$I71=1,$F71<>0),IF(COUNTRY_INFO!N71>=(COUNTRY_INFO!F71+COUNTRY_INFO!G71),COUNTRY_INFO!F71+COUNTRY_INFO!G71,COUNTRY_INFO!$N71), 0))","v":46355},null,46355,0,129793.99999999999,0,129793.99999999999,null,129793.99999999999,260]
[{"$f":"IF(INTRO!$E$39=\"Non endémique\",\" \",IF(COUNTRY_INFO!A72=0,\" \",COUNTRY_INFO!A72))","v":"Angola"},{"$f":"IF(INTRO!$E$39=\"Non endémique\",\" \",IF(COUNTRY_INFO!B72=0,\" \",COUNTRY_INFO!B72))","v":"CUANDO CUBANGO"},{"$f":"IF(INTRO!$E$39=\"Non endémique\",\" \",IF(COUNTRY_INFO!C72=0,\" \",COUNTRY_INFO!C72))","v":"DIRICO"},{"$f":"IF(INTRO!$E$39=\"Non endémique\",0,IF(INTRO!$E$39=\"Endémique mais pas de CP\",IF(COUNTRY_INFO!$H72=1,COUNTRY_INFO!F72+COUNTRY_INFO!G72,0),IF(COUNTRY_INFO!$H72=1,COUNTRY_INFO!F72+COUNTRY_INFO!G72,IF(COUNTRY_INFO!$I72=1,IF(COUNTRY_INFO!N72>=(COUNTRY_INFO!F72+COUNTRY_INFO!G72),COUNTRY_INFO!F72+COUNTRY_INFO!G72,COUNTRY_INFO!$N72),0))))","v":0},{"$f":"IF(AND(INTRO!$E$39=\"Non endémique\",INTRO!$E$37=\"Non endémique\"),\"Non requis\",IF(INTRO!$E$39=\"Non endémique\",\"Traiter avec DEC\",COUNTRY_INFO!Q72))","v":0},{"$f":"IF(INTRO!$E$39<>\"Non endémique\",COUNTRY_INFO!R72,\"Non requis\")","v":0},{"$f":"IF(COUNTRY_INFO!H72=1, IF($E72=1,IF(ALB_MBD!$J72<>\" \",COUNTRY_INFO!F72+COUNTRY_INFO!G72-ALB_MBD!$J72,COUNTRY_INFO!F72+COUNTRY_INFO!G72), 0),0)","v":0},{"$f":"IF(INTRO!$E$39<>\"Endémique\",0, IF(AND(COUNTRY_INFO!$I72=1,$F72<>0),IF(COUNTRY_INFO!N72>=(COUNTRY_INFO!F72+COUNTRY_INFO!G72),COUNTRY_INFO!F72+COUNTRY_INFO!G72,COUNTRY_INFO!$N72), 0))","v":0},null,0,0,0,0,0,null,0,0]
[{"$f":"IF(INTRO!$E$39=\"Non endémique\",\" \",IF(COUNTRY_INFO!A73=0,\" \",COUNTRY_INFO!A73))","v":"Angola"},{"$f":"IF(INTRO!$E$39=\"Non endémique\",\" \",IF(COUNTRY_INFO!B73=0,\" \",COUNTRY_INFO!B73))","v":"CUANDO CUBANGO"},{"$f":"IF(INTRO!$E$39=\"Non endémique\",\" \",IF(COUNTRY_INFO!C73=0,\" \",COUNTRY_INFO!C73))","v":"CUITO CUANAVALE"},{"$f":"IF(INTRO!$E$39=\"Non endémique\",0,IF(INTRO!$E$39=\"Endémique mais pas de CP\",IF(COUNTRY_INFO!$H73=1,COUNTRY_INFO!F73+COUNTRY_INFO!G73,0),IF(COUNTRY_INFO!$H73=1,COUNTRY_INFO!F73+COUNTRY_INFO!G73,IF(COUNTRY_INFO!$I73=1,IF(COUNTRY_INFO!N73>=(COUNTRY_INFO!F73+COUNTRY_INFO!G73),COUNTRY_INFO!F73+COUNTRY_INFO!G73,COUNTRY_INFO!$N73),0))))","v":44041},{"$f":"IF(AND(INTRO!$E$39=\"Non endémique\",INTRO!$E$37=\"Non endémique\"),\"Non requis\",IF(INTRO!$E$39=\"Non endémique\",\"Traiter avec DEC\",COUNTRY_INFO!Q73))","v":0},{"$f":"IF(INTRO!$E$39<>\"Non endémique\",COUNTRY_INFO!R73,\"Non requis\")","v":1},{"$f":"IF(COUNTRY_INFO!H73=1, IF($E73=1,IF(ALB_MBD!$J73<>\" \",COUNTRY_INFO!F73+COUNTRY_INFO!G73-ALB_MBD!$J73,COUNTRY_INFO!F73+COUNTRY_INFO!G73), 0),0)","v":0},{"$f":"IF(INTRO!$E$39<>\"Endémique\",0, IF(AND(COUNTRY_INFO!$I73=1,$F73<>0),IF(COUNTRY_INFO!N73>=(COUNTRY_INFO!F73+COUNTRY_INFO!G73),COUNTRY_INFO!F73+COUNTRY_INFO!G73,COUNTRY_INFO!$N73), 0))","v":44041},null,{"$f":"IF(I73=0,H73,IF(I73>H73,H73,I73))","v":44041},{"$f":"IF(G73<J73,0,IF($E73=1, (G73-J73)*2.8, 0))","v":0},{"$f":"IF($E73<$F73, J73*(F73-E73)*2.8, 0)","v":123314.79999999999},{"$f":"IF(AND($E73=1, $F73<>0), J73*2.8, 0)","v":0},{"$f":"SUM(K73:M73)","v":123314.79999999999},null,{"$f":"IF($N73>$O73,$N73-$O73,0)","v":123314.79999999999},{"$f":"ROUNDUP($N73/500,0)","v":247}]
[{"$f":"IF(INTRO!$E$39=\"Non endémique\",\" \",IF(COUNTRY_INFO!A74=0,\" \",COUNTRY_INFO!A74))","v":"Angola"},{"$f":"IF(INTRO!$E$39=\"Non endémique\",\" \",IF(COUNTRY_INFO!B74=0,\" \",COUNTRY_INFO!B74))","v":"CUANDO CUBANGO"},{"$f":"IF(INTRO!$E$39=\"Non endémique\",\" \",IF(COUNTRY_INFO!C74=0,\" \",COUNTRY_INFO!C74))","v":"MAVINGA"},{"$f":"IF(INTRO!$E$39=\"Non endémique\",0,IF(INTRO!$E$39=\"Endémique mais pas de CP\",IF(COUNTRY_INFO!$H74=1,COUNTRY_INFO!F74+COUNTRY_INFO!G74,0),IF(COUNTRY_INFO!$H74=1,COUNTRY_INFO!F74+COUNTRY_INFO!G74,IF(COUNTRY_INFO!$I74=1,IF(COUNTRY_INFO!N74>=(COUNTRY_INFO!F74+COUNTRY_INFO!G74),COUNTRY_INFO!F74+COUNTRY_INFO!G74,COUNTRY_INFO!$N74),0))))","v":0},{"$f":"IF(AND(INTRO!$E$39=\"Non endémique\",INTRO!$E$37=\"Non endémique\"),\"Non requis\",IF(INTRO!$E$39=\"Non endémique\",\"Traiter avec DEC\",COUNTRY_INFO!Q74))","v":0},{"$f":"IF(INTRO!$E$39<>\"Non endémique\",COUNTRY_INFO!R74,\"Non requis\")","v":0},{"$f":"IF(COUNTRY_INFO!H74=1, IF($E74=1,IF(ALB_MBD!$J74<>\" \",COUNTRY_INFO!F74+COUNTRY_INFO!G74-ALB_MBD!$J74,COUNTRY_INFO!F74+COUNTRY_INFO!G74), 0),0)","v":0},{"$f":"IF(INTRO!$E$39<>\"Endémique\",0, IF(AND(COUNTRY_INFO!$I74=1,$F74<>0),IF(COUNTRY_INFO!N74>=(COUNTRY_INFO!F74+COUNTRY_INFO!G74),COUNTRY_INFO!F74+COUNTRY_INFO!G74,COUNTRY_INFO!$N74), 0))","v":0},null,0,0,0,0,0,null,0,0]
[{"$f":"IF(INTRO!$E$39=\"Non endémique\",\" \",IF(COUNTRY_INFO!A75=0,\" \",COUNTRY_INFO!A75))","v":"Angola"},{"$f":"IF(INTRO!$E$39=\"Non endémique\",\" \",IF(COUNTRY_INFO!B75=0,\" \",COUNTRY_INFO!B75))","v":"CUANDO CUBANGO"},{"$f":"IF(INTRO!$E$39=\"Non endémique\",\" \",IF(COUNTRY_INFO!C75=0,\" \",COUNTRY_INFO!C75))","v":"MENONGUE"},{"$f":"IF(INTRO!$E$39=\"Non endémique\",0,IF(INTRO!$E$39=\"Endémique mais pas de CP\",IF(COUNTRY_INFO!$H75=1,COUNTRY_INFO!F75+COUNTRY_INFO!G75,0),IF(COUNTRY_INFO!$H75=1,COUNTRY_INFO!F75+COUNTRY_INFO!G75,IF(COUNTRY_INFO!$I75=1,IF(COUNTRY_INFO!N75>=(COUNTRY_INFO!F75+COUNTRY_INFO!G75),COUNTRY_INFO!F75+COUNTRY_INFO!G75,COUNTRY_INFO!$N75),0))))","v":346159},{"$f":"IF(AND(INTRO!$E$39=\"Non endémique\",INTRO!$E$37=\"Non endémique\"),\"Non requis\",IF(INTRO!$E$39=\"Non endémique\",\"Traiter avec DEC\",COUNTRY_INFO!Q75))","v":0},{"$f":"IF(INTRO!$E$39<>\"Non endémique\",COUNTRY_INFO!R75,\"Non requis\")","v":1},{"$f":"IF(COUNTRY_INFO!H75=1, IF($E75=1,IF(ALB_MBD!$J75<>\" \",COUNTRY_INFO!F75+COUNTRY_INFO!G75-ALB_MBD!$J75,COUNTRY_INFO!F75+COUNTRY_INFO!G75), 0),0)","v":0},{"$f":"IF(INTRO!$E$39<>\"Endémique\",0, IF(AND(COUNTRY_INFO!$I75=1,$F75<>0),IF(COUNTRY_INFO!N75>=(COUNTRY_INFO!F75+COUNTRY_INFO!G75),COUNTRY_INFO!F75+COUNTRY_INFO!G75,COUNTRY_INFO!$N75), 0))","v":346159},null,346159,0,969245.2,0,969245.2,null,969245.2,1939]
[{"$f":"IF(INTRO!$E$39=\"Non endémique\",\" \",IF(COUNTRY_INFO!A76=0,\" \",COUNTRY_INFO!A76))","v":"Angola"},{"$f":"IF(INTRO!$E$39=\"Non endémique\",\" \",IF(COUNTRY_INFO!B76=0,\" \",COUNTRY_INFO!B76))","v":"CUANDO CUBANGO"},{"$f":"IF(INTRO!$E$39=\"Non endémique\",\" \",IF(COUNTRY_INFO!C76=0,\" \",COUNTRY_INFO!C76))","v":"NANKOVA"},{"$f":"IF(INTRO!$E$39=\"Non endémique\",0,IF(INTRO!$E$39=\"Endémique mais pas de CP\",IF(COUNTRY_INFO!$H76=1,COUNTRY_INFO!F76+COUNTRY_INFO!G76,0),IF(COUNTRY_INFO!$H76=1,COUNTRY_INFO!F76+COUNTRY_INFO!G76,IF(COUNTRY_INFO!$I76=1,IF(COUNTRY_INFO!N76>=(COUNTRY_INFO!F76+COUNTRY_INFO!G76),COUNTRY_INFO!F76+COUNTRY_INFO!G76,COUNTRY_INFO!$N76),0))))","v":3016},{"$f":"IF(AND(INTRO!$E$39=\"Non endémique\",INTRO!$E$37=\"Non endémique\"),\"Non requis\",IF(INTRO!$E$39=\"Non endémique\",\"Traiter avec DEC\",COUNTRY_INFO!Q76))","v":0},{"$f":"IF(INTRO!$E$39<>\"Non endémique\",COUNTRY_INFO!R76,\"Non requis\")","v":1},{"$f":"IF(COUNTRY_INFO!H76=1, IF($E76=1,IF(ALB_MBD!$J76<>\" \",COUNTRY_INFO!F76+COUNTRY_INFO!G76-ALB_MBD!$J76,COUNTRY_INFO!F76+COUNTRY_INFO!G76), 0),0)","v":0},{"$f":"IF(INTRO!$E$39<>\"Endémique\",0, IF(AND(COUNTRY_INFO!$I76=1,$F76<>0),IF(COUNTRY_INFO!N76>=(COUNTRY_INFO!F76+COUNTRY_INFO!G76),COUNTRY_INFO!F76+COUNTRY_INFO!G76,COUNTRY_INFO!$N76), 0))","v":3016},null,3016,0,8444.7999999999993,0,8444.7999999999993,null,8444.7999999999993,17]
[{"$f":"IF(INTRO!$E$39=\"Non endémique\",\" \",IF(COUNTRY_INFO!A77=0,\" \",COUNTRY_INFO!A77))","v":"Angola"},{"$f":"IF(INTRO!$E$39=\"Non endémique\",\" \",IF(COUNTRY_INFO!B77=0,\" \",COUNTRY_INFO!B77))","v":"CUANDO CUBANGO"},{"$f":"IF(INTRO!$E$39=\"Non endémique\",\" \",IF(COUNTRY_INFO!C77=0,\" \",COUNTRY_INFO!C77))","v":"RIVUNGO"},{"$f":"IF(INTRO!$E$39=\"Non endémique\",0,IF(INTRO!$E$39=\"Endémique mais pas de CP\",IF(COUNTRY_INFO!$H77=1,COUNTRY_INFO!F77+COUNTRY_INFO!G77,0),IF(COUNTRY_INFO!$H77=1,COUNTRY_INFO!F77+COUNTRY_INFO!G77,IF(COUNTRY_INFO!$I77=1,IF(COUNTRY_INFO!N77>=(COUNTRY_INFO!F77+COUNTRY_INFO!G77),COUNTRY_INFO!F77+COUNTRY_INFO!G77,COUNTRY_INFO!$N77),0))))","v":0},{"$f":"IF(AND(INTRO!$E$39=\"Non endémique\",INTRO!$E$37=\"Non endémique\"),\"Non requis\",IF(INTRO!$E$39=\"Non endémique\",\"Traiter avec DEC\",COUNTRY_INFO!Q77))","v":0},{"$f":"IF(INTRO!$E$39<>\"Non endémique\",COUNTRY_INFO!R77,\"Non requis\")","v":0},{"$f":"IF(COUNTRY_INFO!H77=1, IF($E77=1,IF(ALB_MBD!$J77<>\" \",COUNTRY_INFO!F77+COUNTRY_INFO!G77-ALB_MBD!$J77,COUNTRY_INFO!F77+COUNTRY_INFO!G77), 0),0)","v":0},{"$f":"IF(INTRO!$E$39<>\"Endémique\",0, IF(AND(COUNTRY_INFO!$I77=1,$F77<>0),IF(COUNTRY_INFO!N77>=(COUNTRY_INFO!F77+COUNTRY_INFO!G77),COUNTRY_INFO!F77+COUNTRY_INFO!G77,COUNTRY_INFO!$N77), 0))","v":0},null,0,0,0,0,0,null,0,0]
[{"$f":"IF(INTRO!$E$39=\"Non endémique\",\" \",IF(COUNTRY_INFO!A78=0,\" \",COUNTRY_INFO!A78))","v":"Angola"},{"$f":"IF(INTRO!$E$39=\"Non endémique\",\" \",IF(COUNTRY_INFO!B78=0,\" \",COUNTRY_INFO!B78))","v":"CUANZA NORTE"},{"$f":"IF(INTRO!$E$39=\"Non endémique\",\" \",IF(COUNTRY_INFO!C78=0,\" \",COUNTRY_INFO!C78))","v":"AMBACA"},{"$f":"IF(INTRO!$E$39=\"Non endémique\",0,IF(INTRO!$E$39=\"Endémique mais pas de CP\",IF(COUNTRY_INFO!$H78=1,COUNTRY_INFO!F78+COUNTRY_INFO!G78,0),IF(COUNTRY_INFO!$H78=1,COUNTRY_INFO!F78+COUNTRY_INFO!G78,IF(COUNTRY_INFO!$I78=1,IF(COUNTRY_INFO!N78>=(COUNTRY_INFO!F78+COUNTRY_INFO!G78),COUNTRY_INFO!F78+COUNTRY_INFO!G78,COUNTRY_INFO!$N78),0))))","v":65808},{"$f":"IF(AND(INTRO!$E$39=\"Non endémique\",INTRO!$E$37=\"Non endémique\"),\"Non requis\",IF(INTRO!$E$39=\"Non endémique\",\"Traiter avec DEC\",COUNTRY_INFO!Q78))","v":1},{"$f":"IF(INTRO!$E$39<>\"Non endémique\",COUNTRY_INFO!R78,\"Non requis\")","v":1},{"$f":"IF(COUNTRY_INFO!H78=1, IF($E78=1,IF(ALB_MBD!$J78<>\" \",COUNTRY_INFO!F78+COUNTRY_INFO!G78-ALB_MBD!$J78,COUNTRY_INFO!F78+COUNTRY_INFO!G78), 0),0)","v":3414},{"$f":"IF(INTRO!$E$39<>\"Endémique\",0, IF(AND(COUNTRY_INFO!$I78=1,$F78<>0),IF(COUNTRY_INFO!N78>=(COUNTRY_INFO!F78+COUNTRY_INFO!G78),COUNTRY_INFO!F78+COUNTRY_INFO!G78,COUNTRY_INFO!$N78), 0))","v":65808},null,65808,0,0,184262.39999999999,184262.39999999999,null,184262.39999999999,369]
[{"$f":"IF(INTRO!$E$39=\"Non endémique\",\" \",IF(COUNTRY_INFO!A79=0,\" \",COUNTRY_INFO!A79))","v":"Angola"},{"$f":"IF(INTRO!$E$39=\"Non endémique\",\" \",IF(COUNTRY_INFO!B79=0,\" \",COUNTRY_INFO!B79))","v":"CUANZA NORTE"},{"$f":"IF(INTRO!$E$39=\"Non endémique\",\" \",IF(COUNTRY_INFO!C79=0,\" \",COUNTRY_INFO!C79))","v":"BANGA"},{"$f":"IF(INTRO!$E$39=\"Non endémique\",0,IF(INTRO!$E$39=\"Endémique mais pas de CP\",IF(COUNTRY_INFO!$H79=1,COUNTRY_INFO!F79+COUNTRY_INFO!G79,0),IF(COUNTRY_INFO!$H79=1,COUNTRY_INFO!F79+COUNTRY_INFO!G79,IF(COUNTRY_INFO!$I79=1,IF(COUNTRY_INFO!N79>=(COUNTRY_INFO!F79+COUNTRY_INFO!G79),COUNTRY_INFO!F79+COUNTRY_INFO!G79,COUNTRY_INFO!$N79),0))))","v":11031},{"$f":"IF(AND(INTRO!$E$39=\"Non endémique\",INTRO!$E$37=\"Non endémique\"),\"Non requis\",IF(INTRO!$E$39=\"Non endémique\",\"Traiter avec DEC\",COUNTRY_INFO!Q79))","v":1},{"$f":"IF(INTRO!$E$39<>\"Non endémique\",COUNTRY_INFO!R79,\"Non requis\")","v":1},{"$f":"IF(COUNTRY_INFO!H79=1, IF($E79=1,IF(ALB_MBD!$J79<>\" \",COUNTRY_INFO!F79+COUNTRY_INFO!G79-ALB_MBD!$J79,COUNTRY_INFO!F79+COUNTRY_INFO!G79), 0),0)","v":573},{"$f":"IF(INTRO!$E$39<>\"Endémique\",0, IF(AND(COUNTRY_INFO!$I79=1,$F79<>0),IF(COUNTRY_INFO!N79>=(COUNTRY_INFO!F79+COUNTRY_INFO!G79),COUNTRY_INFO!F79+COUNTRY_INFO!G79,COUNTRY_INFO!$N79), 0))","v":11031},null,11031,0,0,30886.799999999999,30886.799999999999,null,30886.799999999999,62]
[{"$f":"IF(INTRO!$E$39=\"Non endémique\",\" \",IF(COUNTRY_INFO!A80=0,\" \",COUNTRY_INFO!A80))","v":"Angola"},{"$f":"IF(INTRO!$E$39=\"Non endémique\",\" \",IF(COUNTRY_INFO!B80=0,\" \",COUNTRY_INFO!B80))","v":"CUANZA NORTE"},{"$f":"IF(INTRO!$E$39=\"Non endémique\",\" \",IF(COUNTRY_INFO!C80=0,\" \",COUNTRY_INFO!C80))","v":"BOLONGONGO"},{"$f":"IF(INTRO!$E$39=\"Non endémique\",0,IF(INTRO!$E$39=\"Endémique mais pas de CP\",IF(COUNTRY_INFO!$H80=1,COUNTRY_INFO!F80+COUNTRY_INFO!G80,0),IF(COUNTRY_INFO!$H80=1,COUNTRY_INFO!F80+COUNTRY_INFO!G80,IF(COUNTRY_INFO!$I80=1,IF(COUNTRY_INFO!N80>=(COUNTRY_INFO!F80+COUNTRY_INFO!G80),COUNTRY_INFO!F80+COUNTRY_INFO!G80,COUNTRY_INFO!$N80),0))))","v":13872},{"$f":"IF(AND(INTRO!$E$39=\"Non endémique\",INTRO!$E$37=\"Non endémique\"),\"Non requis\",IF(INTRO!$E$39=\"Non endémique\",\"Traiter avec DEC\",COUNTRY_INFO!Q80))","v":1},{"$f":"IF(INTRO!$E$39<>\"Non endémique\",COUNTRY_INFO!R80,\"Non requis\")","v":1},{"$f":"IF(COUNTRY_INFO!H80=1, IF($E80=1,IF(ALB_MBD!$J80<>\" \",COUNTRY_INFO!F80+COUNTRY_INFO!G80-ALB_MBD!$J80,COUNTRY_INFO!F80+COUNTRY_INFO!G80), 0),0)","v":721},{"$f":"IF(INTRO!$E$39<>\"Endémique\",0, IF(AND(COUNTRY_INFO!$I80=1,$F80<>0),IF(COUNTRY_INFO!N80>=(COUNTRY_INFO!F80+COUNTRY_INFO!G80),COUNTRY_INFO!F80+COUNTRY_INFO!G80,COUNTRY_INFO!$N80), 0))","v":13872},null,13872,0,0,38841.599999999999,38841.599999999999,null,38841.599999999999,78]
[{"$f":"IF(INTRO!$E$39=\"Non endémique\",\" \",IF(COUNTRY_INFO!A81=0,\" \",COUNTRY_INFO!A81))","v":"Angola"},{"$f":"IF(INTRO!$E$39=\"Non endémique\",\" \",IF(COUNTRY_INFO!B81=0,\" \",COUNTRY_INFO!B81))","v":"CUANZA NORTE"},{"$f":"IF(INTRO!$E$39=\"Non endémique\",\" \",IF(COUNTRY_INFO!C81=0,\" \",COUNTRY_INFO!C81))","v":"CAMBAMBE"},{"$f":"IF(INTRO!$E$39=\"Non endémique\",0,IF(INTRO!$E$39=\"Endémique mais pas de CP\",IF(COUNTRY_INFO!$H81=1,COUNTRY_INFO!F81+COUNTRY_INFO!G81,0),IF(COUNTRY_INFO!$H81=1,COUNTRY_INFO!F81+COUNTRY_INFO!G81,IF(COUNTRY_INFO!$I81=1,IF(COUNTRY_INFO!N81>=(COUNTRY_INFO!F81+COUNTRY_INFO!G81),COUNTRY_INFO!F81+COUNTRY_INFO!G81,COUNTRY_INFO!$N81),0))))","v":0},{"$f":"IF(AND(INTRO!$E$39=\"Non endémique\",INTRO!$E$37=\"Non endémique\"),\"Non requis\",IF(INTRO!$E$39=\"Non endémique\",\"Traiter avec DEC\",COUNTRY_INFO!Q81))","v":0},{"$f":"IF(INTRO!$E$39<>\"Non endémique\",COUNTRY_INFO!R81,\"Non requis\")","v":0},{"$f":"IF(COUNTRY_INFO!H81=1, IF($E81=1,IF(ALB_MBD!$J81<>\" \",COUNTRY_INFO!F81+COUNTRY_INFO!G81-ALB_MBD!$J81,COUNTRY_INFO!F81+COUNTRY_INFO!G81), 0),0)","v":0},{"$f":"IF(INTRO!$E$39<>\"Endémique\",0, IF(AND(COUNTRY_INFO!$I81=1,$F81<>0),IF(COUNTRY_INFO!N81>=(COUNTRY_INFO!F81+COUNTRY_INFO!G81),COUNTRY_INFO!F81+COUNTRY_INFO!G81,COUNTRY_INFO!$N81), 0))","v":0},null,0,0,0,0,0,null,0,0]
[{"$f":"IF(INTRO!$E$39=\"Non endémique\",\" \",IF(COUNTRY_INFO!A82=0,\" \",COUNTRY_INFO!A82))","v":"Angola"},{"$f":"IF(INTRO!$E$39=\"Non endémique\",\" \",IF(COUNTRY_INFO!B82=0,\" \",COUNTRY_INFO!B82))","v":"CUANZA NORTE"},{"$f":"IF(INTRO!$E$39=\"Non endémique\",\" \",IF(COUNTRY_INFO!C82=0,\" \",COUNTRY_INFO!C82))","v":"CAZENGO"},{"$f":"IF(INTRO!$E$39=\"Non endémique\",0,IF(INTRO!$E$39=\"Endémique mais pas de CP\",IF(COUNTRY_INFO!$H82=1,COUNTRY_INFO!F82+COUNTRY_INFO!G82,0),IF(COUNTRY_INFO!$H82=1,COUNTRY_INFO!F82+COUNTRY_INFO!G82,IF(COUNTRY_INFO!$I82=1,IF(COUNTRY_INFO!N82>=(COUNTRY_INFO!F82+COUNTRY_INFO!G82),COUNTRY_INFO!F82+COUNTRY_INFO!G82,COUNTRY_INFO!$N82),0))))","v":182973},{"$f":"IF(AND(INTRO!$E$39=\"Non endémique\",INTRO!$E$37=\"Non endémique\"),\"Non requis\",IF(INTRO!$E$39=\"Non endémique\",\"Traiter avec DEC\",COUNTRY_INFO!Q82))","v":1},{"$f":"IF(INTRO!$E$39<>\"Non endémique\",COUNTRY_INFO!R82,\"Non requis\")","v":0},{"$f":"IF(COUNTRY_INFO!H82=1, IF($E82=1,IF(ALB_MBD!$J82<>\" \",COUNTRY_INFO!F82+COUNTRY_INFO!G82-ALB_MBD!$J82,COUNTRY_INFO!F82+COUNTRY_INFO!G82), 0),0)","v":182973},{"$f":"IF(INTRO!$E$39<>\"Endémique\",0, IF(AND(COUNTRY_INFO!$I82=1,$F82<>0),IF(COUNTRY_INFO!N82>=(COUNTRY_INFO!F82+COUNTRY_INFO!G82),COUNTRY_INFO!F82+COUNTRY_INFO!G82,COUNTRY_INFO!$N82), 0))","v":0},null,0,512324.39999999997,0,0,512324.39999999997,null,512324.39999999997,1025]
[{"$f":"IF(INTRO!$E$39=\"Non endémique\",\" \",IF(COUNTRY_INFO!A83=0,\" \",COUNTRY_INFO!A83))","v":"Angola"},{"$f":"IF(INTRO!$E$39=\"Non endémique\",\" \",IF(COUNTRY_INFO!B83=0,\" \",COUNTRY_INFO!B83))","v":"CUANZA NORTE"},{"$f":"IF(INTRO!$E$39=\"Non endémique\",\" \",IF(COUNTRY_INFO!C83=0,\" \",COUNTRY_INFO!C83))","v":"GOLUNGO ALTO"},{"$f":"IF(INTRO!$E$39=\"Non endémique\",0,IF(INTRO!$E$39=\"Endémique mais pas de CP\",IF(COUNTRY_INFO!$H83=1,COUNTRY_INFO!F83+COUNTRY_INFO!G83,0),IF(COUNTRY_INFO!$H83=1,COUNTRY_INFO!F83+COUNTRY_INFO!G83,IF(COUNTRY_INFO!$I83=1,IF(COUNTRY_INFO!N83>=(COUNTRY_INFO!F83+COUNTRY_INFO!G83),COUNTRY_INFO!F83+COUNTRY_INFO!G83,COUNTRY_INFO!$N83),0))))","v":36048},{"$f":"IF(AND(INTRO!$E$39=\"Non endémique\",INTRO!$E$37=\"Non endémique\"),\"Non requis\",IF(INTRO!$E$39=\"Non endémique\",\"Traiter avec DEC\",COUNTRY_INFO!Q83))","v":1},{"$f":"IF(INTRO!$E$39<>\"Non endémique\",COUNTRY_INFO!R83,\"Non requis\")","v":1},{"$f":"IF(COUNTRY_INFO!H83=1, IF($E83=1,IF(ALB_MBD!$J83<>\" \",COUNTRY_INFO!F83+COUNTRY_INFO!G83-ALB_MBD!$J83,COUNTRY_INFO!F83+COUNTRY_INFO!G83), 0),0)","v":36048},{"$f":"IF(INTRO!$E$39<>\"Endémique\",0, IF(AND(COUNTRY_INFO!$I83=1,$F83<>0),IF(COUNTRY_INFO!N83>=(COUNTRY_INFO!F83+COUNTRY_INFO!G83),COUNTRY_INFO!F83+COUNTRY_INFO!G83,COUNTRY_INFO!$N83), 0))","v":36048},null,36048,0,0,100934.39999999999,100934.39999999999,null,100934.39999999999,202]
[{"$f":"IF(INTRO!$E$39=\"Non endémique\",\" \",IF(COUNTRY_INFO!A84=0,\" \",COUNTRY_INFO!A84))","v":"Angola"},{"$f":"IF(INTRO!$E$39=\"Non endémique\",\" \",IF(COUNTRY_INFO!B84=0,\" \",COUNTRY_INFO!B84))","v":"CUANZA NORTE"},{"$f":"IF(INTRO!$E$39=\"Non endémique\",\" \",IF(COUNTRY_INFO!C84=0,\" \",COUNTRY_INFO!C84))","v":"GONGUEMBO"},{"$f":"IF(INTRO!$E$39=\"Non endémique\",0,IF(INTRO!$E$39=\"Endémique mais pas de CP\",IF(COUNTRY_INFO!$H84=1,COUNTRY_INFO!F84+COUNTRY_INFO!G84,0),IF(COUNTRY_INFO!$H84=1,COUNTRY_INFO!F84+COUNTRY_INFO!G84,IF(COUNTRY_INFO!$I84=1,IF(COUNTRY_INFO!N84>=(COUNTRY_INFO!F84+COUNTRY_INFO!G84),COUNTRY_INFO!F84+COUNTRY_INFO!G84,COUNTRY_INFO!$N84),0))))","v":8071},{"$f":"IF(AND(INTRO!$E$39=\"Non endémique\",INTRO!$E$37=\"Non endémique\"),\"Non requis\",IF(INTRO!$E$39=\"Non endémique\",\"Traiter avec DEC\",COUNTRY_INFO!Q84))","v":1},{"$f":"IF(INTRO!$E$39<>\"Non endémique\",COUNTRY_INFO!R84,\"Non requis\")","v":1},{"$f":"IF(COUNTRY_INFO!H84=1, IF($E84=1,IF(ALB_MBD!$J84<>\" \",COUNTRY_INFO!F84+COUNTRY_INFO!G84-ALB_MBD!$J84,COUNTRY_INFO!F84+COUNTRY_INFO!G84), 0),0)","v":8071},{"$f":"IF(INTRO!$E$39<>\"Endémique\",0, IF(AND(COUNTRY_INFO!$I84=1,$F84<>0),IF(COUNTRY_INFO!N84>=(COUNTRY_INFO!F84+COUNTRY_INFO!G84),COUNTRY_INFO!F84+COUNTRY_INFO!G84,COUNTRY_INFO!$N84), 0))","v":8071},null,8071,0,0,22598.799999999999,22598.799999999999,null,22598.799999999999,46]
[{"$f":"IF(INTRO!$E$39=\"Non endémique\",\" \",IF(COUNTRY_INFO!A85=0,\" \",COUNTRY_INFO!A85))","v":"Angola"},{"$f":"IF(INTRO!$E$39=\"Non endémique\",\" \",IF(COUNTRY_INFO!B85=0,\" \",COUNTRY_INFO!B85))","v":"CUANZA NORTE"},{"$f":"IF(INTRO!$E$39=\"Non endémique\",\" \",IF(COUNTRY_INFO!C85=0,\" \",COUNTRY_INFO!C85))","v":"QUICULUNGO"},{"$f":"IF(INTRO!$E$39=\"Non endémique\",0,IF(INTRO!$E$39=\"Endémique mais pas de CP\",IF(COUNTRY_INFO!$H85=1,COUNTRY_INFO!F85+COUNTRY_INFO!G85,0),IF(COUNTRY_INFO!$H85=1,COUNTRY_INFO!F85+COUNTRY_INFO!G85,IF(COUNTRY_INFO!$I85=1,IF(COUNTRY_INFO!N85>=(COUNTRY_INFO!F85+COUNTRY_INFO!G85),COUNTRY_INFO!F85+COUNTRY_INFO!G85,COUNTRY_INFO!$N85),0))))","v":10368},{"$f":"IF(AND(INTRO!$E$39=\"Non endémique\",INTRO!$E$37=\"Non endémique\"),\"Non requis\",IF(INTRO!$E$39=\"Non endémique\",\"Traiter avec DEC\",COUNTRY_INFO!Q85))","v":1},{"$f":"IF(INTRO!$E$39<>\"Non endémique\",COUNTRY_INFO!R85,\"Non requis\")","v":0},{"$f":"IF(COUNTRY_INFO!H85=1, IF($E85=1,IF(ALB_MBD!$J85<>\" \",COUNTRY_INFO!F85+COUNTRY_INFO!G85-ALB_MBD!$J85,COUNTRY_INFO!F85+COUNTRY_INFO!G85), 0),0)","v":10368},{"$f":"IF(INTRO!$E$39<>\"Endémique\",0, IF(AND(COUNTRY_INFO!$I85=1,$F85<>0),IF(COUNTRY_INFO!N85>=(COUNTRY_INFO!F85+COUNTRY_INFO!G85),COUNTRY_INFO!F85+COUNTRY_INFO!G85,COUNTRY_INFO!$N85), 0))","v":0},null,0,29030.399999999998,0,0,29030.399999999998,null,29030.399999999998,59]
[{"$f":"IF(INTRO!$E$39=\"Non endémique\",\" \",IF(COUNTRY_INFO!A86=0,\" \",COUNTRY_INFO!A86))","v":"Angola"},{"$f":"IF(INTRO!$E$39=\"Non endémique\",\" \",IF(COUNTRY_INFO!B86=0,\" \",COUNTRY_INFO!B86))","v":"CUANZA NORTE"},{"$f":"IF(INTRO!$E$39=\"Non endémique\",\" \",IF(COUNTRY_INFO!C86=0,\" \",COUNTRY_INFO!C86))","v":"LUCALA"},{"$f":"IF(INTRO!$E$39=\"Non endémique\",0,IF(INTRO!$E$39=\"Endémique mais pas de CP\",IF(COUNTRY_INFO!$H86=1,COUNTRY_INFO!F86+COUNTRY_INFO!G86,0),IF(COUNTRY_INFO!$H86=1,COUNTRY_INFO!F86+COUNTRY_INFO!G86,IF(COUNTRY_INFO!$I86=1,IF(COUNTRY_INFO!N86>=(COUNTRY_INFO!F86+COUNTRY_INFO!G86),COUNTRY_INFO!F86+COUNTRY_INFO!G86,COUNTRY_INFO!$N86),0))))","v":0},{"$f":"IF(AND(INTRO!$E$39=\"Non endémique\",INTRO!$E$37=\"Non endémique\"),\"Non requis\",IF(INTRO!$E$39=\"Non endémique\",\"Traiter avec DEC\",COUNTRY_INFO!Q86))","v":0},{"$f":"IF(INTRO!$E$39<>\"Non endémique\",COUNTRY_INFO!R86,\"Non requis\")","v":0},{"$f":"IF(COUNTRY_INFO!H86=1, IF($E86=1,IF(ALB_MBD!$J86<>\" \",COUNTRY_INFO!F86+COUNTRY_INFO!G86-ALB_MBD!$J86,COUNTRY_INFO!F86+COUNTRY_INFO!G86), 0),0)","v":0},{"$f":"IF(INTRO!$E$39<>\"Endémique\",0, IF(AND(COUNTRY_INFO!$I86=1,$F86<>0),IF(COUNTRY_INFO!N86>=(COUNTRY_INFO!F86+COUNTRY_INFO!G86),COUNTRY_INFO!F86+COUNTRY_INFO!G86,COUNTRY_INFO!$N86), 0))","v":0},null,0,0,0,0,0,null,0,0]
[{"$f":"IF(INTRO!$E$39=\"Non endémique\",\" \",IF(COUNTRY_INFO!A87=0,\" \",COUNTRY_INFO!A87))","v":"Angola"},{"$f":"IF(INTRO!$E$39=\"Non endémique\",\" \",IF(COUNTRY_INFO!B87=0,\" \",COUNTRY_INFO!B87))","v":"CUANZA NORTE"},{"$f":"IF(INTRO!$E$39=\"Non endémique\",\" \",IF(COUNTRY_INFO!C87=0,\" \",COUNTRY_INFO!C87))","v":"SAMBA CAJU"},{"$f":"IF(INTRO!$E$39=\"Non endémique\",0,IF(INTRO!$E$39=\"Endémique mais pas de CP\",IF(COUNTRY_INFO!$H87=1,COUNTRY_INFO!F87+COUNTRY_INFO!G87,0),IF(COUNTRY_INFO!$H87=1,COUNTRY_INFO!F87+COUNTRY_INFO!G87,IF(COUNTRY_INFO!$I87=1,IF(COUNTRY_INFO!N87>=(COUNTRY_INFO!F87+COUNTRY_INFO!G87),COUNTRY_INFO!F87+COUNTRY_INFO!G87,COUNTRY_INFO!$N87),0))))","v":23352},{"$f":"IF(AND(INTRO!$E$39=\"Non endémique\",INTRO!$E$37=\"Non endémique\"),\"Non requis\",IF(INTRO!$E$39=\"Non endémique\",\"Traiter avec DEC\",COUNTRY_INFO!Q87))","v":1},{"$f":"IF(INTRO!$E$39<>\"Non endémique\",COUNTRY_INFO!R87,\"Non requis\")","v":0},{"$f":"IF(COUNTRY_INFO!H87=1, IF($E87=1,IF(ALB_MBD!$J87<>\" \",COUNTRY_INFO!F87+COUNTRY_INFO!G87-ALB_MBD!$J87,COUNTRY_INFO!F87+COUNTRY_INFO!G87), 0),0)","v":23352},{"$f":"IF(INTRO!$E$39<>\"Endémique\",0, IF(AND(COUNTRY_INFO!$I87=1,$F87<>0),IF(COUNTRY_INFO!N87>=(COUNTRY_INFO!F87+COUNTRY_INFO!G87),COUNTRY_INFO!F87+COUNTRY_INFO!G87,COUNTRY_INFO!$N87), 0))","v":0},null,0,65385.599999999999,0,0,65385.599999999999,null,65385.599999999999,131]
[{"$f":"IF(INTRO!$E$39=\"Non endémique\",\" \",IF(COUNTRY_INFO!A88=0,\" \",COUNTRY_INFO!A88))","v":"Angola"},{"$f":"IF(INTRO!$E$39=\"Non endémique\",\" \",IF(COUNTRY_INFO!B88=0,\" \",COUNTRY_INFO!B88))","v":"CUANZA SUL"},{"$f":"IF(INTRO!$E$39=\"Non endémique\",\" \",IF(COUNTRY_INFO!C88=0,\" \",COUNTRY_INFO!C88))","v":"AMBOIM"},{"$f":"IF(INTRO!$E$39=\"Non endémique\",0,IF(INTRO!$E$39=\"Endémique mais pas de CP\",IF(COUNTRY_INFO!$H88=1,COUNTRY_INFO!F88+COUNTRY_INFO!G88,0),IF(COUNTRY_INFO!$H88=1,COUNTRY_INFO!F88+COUNTRY_INFO!G88,IF(COUNTRY_INFO!$I88=1,IF(COUNTRY_INFO!N88>=(COUNTRY_INFO!F88+COUNTRY_INFO!G88),COUNTRY_INFO!F88+COUNTRY_INFO!G88,COUNTRY_INFO!$N88),0))))","v":0},{"$f":"IF(AND(INTRO!$E$39=\"Non endémique\",INTRO!$E$37=\"Non endémique\"),\"Non requis\",IF(INTRO!$E$39=\"Non endémique\",\"Traiter avec DEC\",COUNTRY_INFO!Q88))","v":0},{"$f":"IF(INTRO!$E$39<>\"Non endémique\",COUNTRY_INFO!R88,\"Non requis\")","v":0},{"$f":"IF(COUNTRY_INFO!H88=1, IF($E88=1,IF(ALB_MBD!$J88<>\" \",COUNTRY_INFO!F88+COUNTRY_INFO!G88-ALB_MBD!$J88,COUNTRY_INFO!F88+COUNTRY_INFO!G88), 0),0)","v":0},{"$f":"IF(INTRO!$E$39<>\"Endémique\",0, IF(AND(COUNTRY_INFO!$I88=1,$F88<>0),IF(COUNTRY_INFO!N88>=(COUNTRY_INFO!F88+COUNTRY_INFO!G88),COUNTRY_INFO!F88+COUNTRY_INFO!G88,COUNTRY_INFO!$N88), 0))","v":0},null,0,0,0,0,0,null,0,0]
[{"$f":"IF(INTRO!$E$39=\"Non endémique\",\" \",IF(COUNTRY_INFO!A89=0,\" \",COUNTRY_INFO!A89))","v":"Angola"},{"$f":"IF(INTRO!$E$39=\"Non endémique\",\" \",IF(COUNTRY_INFO!B89=0,\" \",COUNTRY_INFO!B89))","v":"CUANZA SUL"},{"$f":"IF(INTRO!$E$39=\"Non endémique\",\" \",IF(COUNTRY_INFO!C89=0,\" \",COUNTRY_INFO!C89))","v":"CASSONGUE"},{"$f":"IF(INTRO!$E$39=\"Non endémique\",0,IF(INTRO!$E$39=\"Endémique mais pas de CP\",IF(COUNTRY_INFO!$H89=1,COUNTRY_INFO!F89+COUNTRY_INFO!G89,0),IF(COUNTRY_INFO!$H89=1,COUNTRY_INFO!F89+COUNTRY_INFO!G89,IF(COUNTRY_INFO!$I89=1,IF(COUNTRY_INFO!N89>=(COUNTRY_INFO!F89+COUNTRY_INFO!G89),COUNTRY_INFO!F89+COUNTRY_INFO!G89,COUNTRY_INFO!$N89),0))))","v":0},{"$f":"IF(AND(INTRO!$E$39=\"Non endémique\",INTRO!$E$37=\"Non endémique\"),\"Non requis\",IF(INTRO!$E$39=\"Non endémique\",\"Traiter avec DEC\",COUNTRY_INFO!Q89))","v":0},{"$f":"IF(INTRO!$E$39<>\"Non endémique\",COUNTRY_INFO!R89,\"Non requis\")","v":0},{"$f":"IF(COUNTRY_INFO!H89=1, IF($E89=1,IF(ALB_MBD!$J89<>\" \",COUNTRY_INFO!F89+COUNTRY_INFO!G89-ALB_MBD!$J89,COUNTRY_INFO!F89+COUNTRY_INFO!G89), 0),0)","v":0},{"$f":"IF(INTRO!$E$39<>\"Endémique\",0, IF(AND(COUNTRY_INFO!$I89=1,$F89<>0),IF(COUNTRY_INFO!N89>=(COUNTRY_INFO!F89+COUNTRY_INFO!G89),COUNTRY_INFO!F89+COUNTRY_INFO!G89,COUNTRY_INFO!$N89), 0))","v":0},null,0,0,0,0,0,null,0,0]
[{"$f":"IF(INTRO!$E$39=\"Non endémique\",\" \",IF(COUNTRY_INFO!A90=0,\" \",COUNTRY_INFO!A90))","v":"Angola"},{"$f":"IF(INTRO!$E$39=\"Non endémique\",\" \",IF(COUNTRY_INFO!B90=0,\" \",COUNTRY_INFO!B90))","v":"CUANZA SUL"},{"$f":"IF(INTRO!$E$39=\"Non endémique\",\" \",IF(COUNTRY_INFO!C90=0,\" \",COUNTRY_INFO!C90))","v":"CELA (Waku Kungo)"},{"$f":"IF(INTRO!$E$39=\"Non endémique\",0,IF(INTRO!$E$39=\"Endémique mais pas de CP\",IF(COUNTRY_INFO!$H90=1,COUNTRY_INFO!F90+COUNTRY_INFO!G90,0),IF(COUNTRY_INFO!$H90=1,COUNTRY_INFO!F90+COUNTRY_INFO!G90,IF(COUNTRY_INFO!$I90=1,IF(COUNTRY_INFO!N90>=(COUNTRY_INFO!F90+COUNTRY_INFO!G90),COUNTRY_INFO!F90+COUNTRY_INFO!G90,COUNTRY_INFO!$N90),0))))","v":0},{"$f":"IF(AND(INTRO!$E$39=\"Non endémique\",INTRO!$E$37=\"Non endémique\"),\"Non requis\",IF(INTRO!$E$39=\"Non endémique\",\"Traiter avec DEC\",COUNTRY_INFO!Q90))","v":0},{"$f":"IF(INTRO!$E$39<>\"Non endémique\",COUNTRY_INFO!R90,\"Non requis\")","v":0},{"$f":"IF(COUNTRY_INFO!H90=1, IF($E90=1,IF(ALB_MBD!$J90<>\" \",COUNTRY_INFO!F90+COUNTRY_INFO!G90-ALB_MBD!$J90,COUNTRY_INFO!F90+COUNTRY_INFO!G90), 0),0)","v":0},{"$f":"IF(INTRO!$E$39<>\"Endémique\",0, IF(AND(COUNTRY_INFO!$I90=1,$F90<>0),IF(COUNTRY_INFO!N90>=(COUNTRY_INFO!F90+COUNTRY_INFO!G90),COUNTRY_INFO!F90+COUNTRY_INFO!G90,COUNTRY_INFO!$N90), 0))","v":0},null,0,0,0,0,0,null,0,0]
[{"$f":"IF(INTRO!$E$39=\"Non endémique\",\" \",IF(COUNTRY_INFO!A91=0,\" \",COUNTRY_INFO!A91))","v":"Angola"},{"$f":"IF(INTRO!$E$39=\"Non endémique\",\" \",IF(COUNTRY_INFO!B91=0,\" \",COUNTRY_INFO!B91))","v":"CUANZA SUL"},{"$f":"IF(INTRO!$E$39=\"Non endémique\",\" \",IF(COUNTRY_INFO!C91=0,\" \",COUNTRY_INFO!C91))","v":"CONDA"},{"$f":"IF(INTRO!$E$39=\"Non endémique\",0,IF(INTRO!$E$39=\"Endémique mais pas de CP\",IF(COUNTRY_INFO!$H91=1,COUNTRY_INFO!F91+COUNTRY_INFO!G91,0),IF(COUNTRY_INFO!$H91=1,COUNTRY_INFO!F91+COUNTRY_INFO!G91,IF(COUNTRY_INFO!$I91=1,IF(COUNTRY_INFO!N91>=(COUNTRY_INFO!F91+COUNTRY_INFO!G91),COUNTRY_INFO!F91+COUNTRY_INFO!G91,COUNTRY_INFO!$N91),0))))","v":0},{"$f":"IF(AND(INTRO!$E$39=\"Non endémique\",INTRO!$E$37=\"Non endémique\"),\"Non requis\",IF(INTRO!$E$39=\"Non endémique\",\"Traiter avec DEC\",COUNTRY_INFO!Q91))","v":0},{"$f":"IF(INTRO!$E$39<>\"Non endémique\",COUNTRY_INFO!R91,\"Non requis\")","v":0},{"$f":"IF(COUNTRY_INFO!H91=1, IF($E91=1,IF(ALB_MBD!$J91<>\" \",COUNTRY_INFO!F91+COUNTRY_INFO!G91-ALB_MBD!$J91,COUNTRY_INFO!F91+COUNTRY_INFO!G91), 0),0)","v":0},{"$f":"IF(INTRO!$E$39<>\"Endémique\",0, IF(AND(COUNTRY_INFO!$I91=1,$F91<>0),IF(COUNTRY_INFO!N91>=(COUNTRY_INFO!F91+COUNTRY_INFO!G91),COUNTRY_INFO!F91+COUNTRY_INFO!G91,COUNTRY_INFO!$N91), 0))","v":0},null,0,0,0,0,0,null,0,0]
[{"$f":"IF(INTRO!$E$39=\"Non endémique\",\" \",IF(COUNTRY_INFO!A92=0,\" \",COUNTRY_INFO!A92))","v":"Angola"},{"$f":"IF(INTRO!$E$39=\"Non endémique\",\" \",IF(COUNTRY_INFO!B92=0,\" \",COUNTRY_INFO!B92))","v":"CUANZA SUL"},{"$f":"IF(INTRO!$E$39=\"Non endémique\",\" \",IF(COUNTRY_INFO!C92=0,\" \",COUNTRY_INFO!C92))","v":"EBO"},{"$f":"IF(INTRO!$E$39=\"Non endémique\",0,IF(INTRO!$E$39=\"Endémique mais pas de CP\",IF(COUNTRY_INFO!$H92=1,COUNTRY_INFO!F92+COUNTRY_INFO!G92,0),IF(COUNTRY_INFO!$H92=1,COUNTRY_INFO!F92+COUNTRY_INFO!G92,IF(COUNTRY_INFO!$I92=1,IF(COUNTRY_INFO!N92>=(COUNTRY_INFO!F92+COUNTRY_INFO!G92),COUNTRY_INFO!F92+COUNTRY_INFO!G92,COUNTRY_INFO!$N92),0))))","v":0},{"$f":"IF(AND(INTRO!$E$39=\"Non endémique\",INTRO!$E$37=\"Non endémique\"),\"Non requis\",IF(INTRO!$E$39=\"Non endémique\",\"Traiter avec DEC\",COUNTRY_INFO!Q92))","v":0},{"$f":"IF(INTRO!$E$39<>\"Non endémique\",COUNTRY_INFO!R92,\"Non requis\")","v":0},{"$f":"IF(COUNTRY_INFO!H92=1, IF($E92=1,IF(ALB_MBD!$J92<>\" \",COUNTRY_INFO!F92+COUNTRY_INFO!G92-ALB_MBD!$J92,COUNTRY_INFO!F92+COUNTRY_INFO!G92), 0),0)","v":0},{"$f":"IF(INTRO!$E$39<>\"Endémique\",0, IF(AND(COUNTRY_INFO!$I92=1,$F92<>0),IF(COUNTRY_INFO!N92>=(COUNTRY_INFO!F92+COUNTRY_INFO!G92),COUNTRY_INFO!F92+COUNTRY_INFO!G92,COUNTRY_INFO!$N92), 0))","v":0},null,0,0,0,0,0,null,0,0]
[{"$f":"IF(INTRO!$E$39=\"Non endémique\",\" \",IF(COUNTRY_INFO!A93=0,\" \",COUNTRY_INFO!A93))","v":"Angola"},{"$f":"IF(INTRO!$E$39=\"Non endémique\",\" \",IF(COUNTRY_INFO!B93=0,\" \",COUNTRY_INFO!B93))","v":"CUANZA SUL"},{"$f":"IF(INTRO!$E$39=\"Non endémique\",\" \",IF(COUNTRY_INFO!C93=0,\" \",COUNTRY_INFO!C93))","v":"QUIBALA"},{"$f":"IF(INTRO!$E$39=\"Non endémique\",0,IF(INTRO!$E$39=\"Endémique mais pas de CP\",IF(COUNTRY_INFO!$H93=1,COUNTRY_INFO!F93+COUNTRY_INFO!G93,0),IF(COUNTRY_INFO!$H93=1,COUNTRY_INFO!F93+COUNTRY_INFO!G93,IF(COUNTRY_INFO!$I93=1,IF(COUNTRY_INFO!N93>=(COUNTRY_INFO!F93+COUNTRY_INFO!G93),COUNTRY_INFO!F93+COUNTRY_INFO!G93,COUNTRY_INFO!$N93),0))))","v":0},{"$f":"IF(AND(INTRO!$E$39=\"Non endémique\",INTRO!$E$37=\"Non endémique\"),\"Non requis\",IF(INTRO!$E$39=\"Non endémique\",\"Traiter avec DEC\",COUNTRY_INFO!Q93))","v":0},{"$f":"IF(INTRO!$E$39<>\"Non endémique\",COUNTRY_INFO!R93,\"Non requis\")","v":0},{"$f":"IF(COUNTRY_INFO!H93=1, IF($E93=1,IF(ALB_MBD!$J93<>\" \",COUNTRY_INFO!F93+COUNTRY_INFO!G93-ALB_MBD!$J93,COUNTRY_INFO!F93+COUNTRY_INFO!G93), 0),0)","v":0},{"$f":"IF(INTRO!$E$39<>\"Endémique\",0, IF(AND(COUNTRY_INFO!$I93=1,$F93<>0),IF(COUNTRY_INFO!N93>=(COUNTRY_INFO!F93+COUNTRY_INFO!G93),COUNTRY_INFO!F93+COUNTRY_INFO!G93,COUNTRY_INFO!$N93), 0))","v":0},null,0,0,0,0,0,null,0,0]
[{"$f":"IF(INTRO!$E$39=\"Non endémique\",\" \",IF(COUNTRY_INFO!A94=0,\" \",COUNTRY_INFO!A94))","v":"Angola"},{"$f":"IF(INTRO!$E$39=\"Non endémique\",\" \",IF(COUNTRY_INFO!B94=0,\" \",COUNTRY_INFO!B94))","v":"CUANZA SUL"},{"$f":"IF(INTRO!$E$39=\"Non endémique\",\" \",IF(COUNTRY_INFO!C94=0,\" \",COUNTRY_INFO!C94))","v":"QUILENDA"},{"$f":"IF(INTRO!$E$39=\"Non endémique\",0,IF(INTRO!$E$39=\"Endémique mais pas de CP\",IF(COUNTRY_INFO!$H94=1,COUNTRY_INFO!F94+COUNTRY_INFO!G94,0),IF(COUNTRY_INFO!$H94=1,COUNTRY_INFO!F94+COUNTRY_INFO!G94,IF(COUNTRY_INFO!$I94=1,IF(COUNTRY_INFO!N94>=(COUNTRY_INFO!F94+COUNTRY_INFO!G94),COUNTRY_INFO!F94+COUNTRY_INFO!G94,COUNTRY_INFO!$N94),0))))","v":0},{"$f":"IF(AND(INTRO!$E$39=\"Non endémique\",INTRO!$E$37=\"Non endémique\"),\"Non requis\",IF(INTRO!$E$39=\"Non endémique\",\"Traiter avec DEC\",COUNTRY_INFO!Q94))","v":0},{"$f":"IF(INTRO!$E$39<>\"Non endémique\",COUNTRY_INFO!R94,\"Non requis\")","v":0},{"$f":"IF(COUNTRY_INFO!H94=1, IF($E94=1,IF(ALB_MBD!$J94<>\" \",COUNTRY_INFO!F94+COUNTRY_INFO!G94-ALB_MBD!$J94,COUNTRY_INFO!F94+COUNTRY_INFO!G94), 0),0)","v":0},{"$f":"IF(INTRO!$E$39<>\"Endémique\",0, IF(AND(COUNTRY_INFO!$I94=1,$F94<>0),IF(COUNTRY_INFO!N94>=(COUNTRY_INFO!F94+COUNTRY_INFO!G94),COUNTRY_INFO!F94+COUNTRY_INFO!G94,COUNTRY_INFO!$N94), 0))","v":0},null,0,0,0,0,0,null,0,0]
[{"$f":"IF(INTRO!$E$39=\"Non endémique\",\" \",IF(COUNTRY_INFO!A95=0,\" \",COUNTRY_INFO!A95))","v":"Angola"},{"$f":"IF(INTRO!$E$39=\"Non endémique\",\" \",IF(COUNTRY_INFO!B95=0,\" \",COUNTRY_INFO!B95))","v":"CUANZA SUL"},{"$f":"IF(INTRO!$E$39=\"Non endémique\",\" \",IF(COUNTRY_INFO!C95=0,\" \",COUNTRY_INFO!C95))","v":"LIBOLO"},{"$f":"IF(INTRO!$E$39=\"Non endémique\",0,IF(INTRO!$E$39=\"Endémique mais pas de CP\",IF(COUNTRY_INFO!$H95=1,COUNTRY_INFO!F95+COUNTRY_INFO!G95,0),IF(COUNTRY_INFO!$H95=1,COUNTRY_INFO!F95+COUNTRY_INFO!G95,IF(COUNTRY_INFO!$I95=1,IF(COUNTRY_INFO!N95>=(COUNTRY_INFO!F95+COUNTRY_INFO!G95),COUNTRY_INFO!F95+COUNTRY_INFO!G95,COUNTRY_INFO!$N95),0))))","v":0},{"$f":"IF(AND(INTRO!$E$39=\"Non endémique\",INTRO!$E$37=\"Non endémique\"),\"Non requis\",IF(INTRO!$E$39=\"Non endémique\",\"Traiter avec DEC\",COUNTRY_INFO!Q95))","v":0},{"$f":"IF(INTRO!$E$39<>\"Non endémique\",COUNTRY_INFO!R95,\"Non requis\")","v":0},{"$f":"IF(COUNTRY_INFO!H95=1, IF($E95=1,IF(ALB_MBD!$J95<>\" \",COUNTRY_INFO!F95+COUNTRY_INFO!G95-ALB_MBD!$J95,COUNTRY_INFO!F95+COUNTRY_INFO!G95), 0),0)","v":0},{"$f":"IF(INTRO!$E$39<>\"Endémique\",0, IF(AND(COUNTRY_INFO!$I95=1,$F95<>0),IF(COUNTRY_INFO!N95>=(COUNTRY_INFO!F95+COUNTRY_INFO!G95),COUNTRY_INFO!F95+COUNTRY_INFO!G95,COUNTRY_INFO!$N95), 0))","v":0},null,0,0,0,0,0,null,0,0]
[{"$f":"IF(INTRO!$E$39=\"Non endémique\",\" \",IF(COUNTRY_INFO!A96=0,\" \",COUNTRY_INFO!A96))","v":"Angola"},{"$f":"IF(INTRO!$E$39=\"Non endémique\",\" \",IF(COUNTRY_INFO!B96=0,\" \",COUNTRY_INFO!B96))","v":"CUANZA SUL"},{"$f":"IF(INTRO!$E$39=\"Non endémique\",\" \",IF(COUNTRY_INFO!C96=0,\" \",COUNTRY_INFO!C96))","v":"MUSSENDE"},{"$f":"IF(INTRO!$E$39=\"Non endémique\",0,IF(INTRO!$E$39=\"Endémique mais pas de CP\",IF(COUNTRY_INFO!$H96=1,COUNTRY_INFO!F96+COUNTRY_INFO!G96,0),IF(COUNTRY_INFO!$H96=1,COUNTRY_INFO!F96+COUNTRY_INFO!G96,IF(COUNTRY_INFO!$I96=1,IF(COUNTRY_INFO!N96>=(COUNTRY_INFO!F96+COUNTRY_INFO!G96),COUNTRY_INFO!F96+COUNTRY_INFO!G96,COUNTRY_INFO!$N96),0))))","v":88443},{"$f":"IF(AND(INTRO!$E$39=\"Non endémique\",INTRO!$E$37=\"Non endémique\"),\"Non requis\",IF(INTRO!$E$39=\"Non endémique\",\"Traiter avec DEC\",COUNTRY_INFO!Q96))","v":0},{"$f":"IF(INTRO!$E$39<>\"Non endémique\",COUNTRY_INFO!R96,\"Non requis\")","v":1},{"$f":"IF(COUNTRY_INFO!H96=1, IF($E96=1,IF(ALB_MBD!$J96<>\" \",COUNTRY_INFO!F96+COUNTRY_INFO!G96-ALB_MBD!$J96,COUNTRY_INFO!F96+COUNTRY_INFO!G96), 0),0)","v":0},{"$f":"IF(INTRO!$E$39<>\"Endémique\",0, IF(AND(COUNTRY_INFO!$I96=1,$F96<>0),IF(COUNTRY_INFO!N96>=(COUNTRY_INFO!F96+COUNTRY_INFO!G96),COUNTRY_INFO!F96+COUNTRY_INFO!G96,COUNTRY_INFO!$N96), 0))","v":88443},null,88443,0,247640.4,0,247640.4,null,247640.4,496]
[{"$f":"IF(INTRO!$E$39=\"Non endémique\",\" \",IF(COUNTRY_INFO!A97=0,\" \",COUNTRY_INFO!A97))","v":"Angola"},{"$f":"IF(INTRO!$E$39=\"Non endémique\",\" \",IF(COUNTRY_INFO!B97=0,\" \",COUNTRY_INFO!B97))","v":"CUANZA SUL"},{"$f":"IF(INTRO!$E$39=\"Non endémique\",\" \",IF(COUNTRY_INFO!C97=0,\" \",COUNTRY_INFO!C97))","v":"PORTO AMBOIM"},{"$f":"IF(INTRO!$E$39=\"Non endémique\",0,IF(INTRO!$E$39=\"Endémique mais pas de CP\",IF(COUNTRY_INFO!$H97=1,COUNTRY_INFO!F97+COUNTRY_INFO!G97,0),IF(COUNTRY_INFO!$H97=1,COUNTRY_INFO!F97+COUNTRY_INFO!G97,IF(COUNTRY_INFO!$I97=1,IF(COUNTRY_INFO!N97>=(COUNTRY_INFO!F97+COUNTRY_INFO!G97),COUNTRY_INFO!F97+COUNTRY_INFO!G97,COUNTRY_INFO!$N97),0))))","v":134972},{"$f":"IF(AND(INTRO!$E$39=\"Non endémique\",INTRO!$E$37=\"Non endémique\"),\"Non requis\",IF(INTRO!$E$39=\"Non endémique\",\"Traiter avec DEC\",COUNTRY_INFO!Q97))","v":1},{"$f":"IF(INTRO!$E$39<>\"Non endémique\",COUNTRY_INFO!R97,\"Non requis\")","v":1},{"$f":"IF(COUNTRY_INFO!H97=1, IF($E97=1,IF(ALB_MBD!$J97<>\" \",COUNTRY_INFO!F97+COUNTRY_INFO!G97-ALB_MBD!$J97,COUNTRY_INFO!F97+COUNTRY_INFO!G97), 0),0)","v":7004},{"$f":"IF(INTRO!$E$39<>\"Endémique\",0, IF(AND(COUNTRY_INFO!$I97=1,$F97<>0),IF(COUNTRY_INFO!N97>=(COUNTRY_INFO!F97+COUNTRY_INFO!G97),COUNTRY_INFO!F97+COUNTRY_INFO!G97,COUNTRY_INFO!$N97), 0))","v":134972},null,134972,0,0,377921.6,377921.6,null,377921.6,756]
[{"$f":"IF(INTRO!$E$39=\"Non endémique\",\" \",IF(COUNTRY_INFO!A98=0,\" \",COUNTRY_INFO!A98))","v":"Angola"},{"$f":"IF(INTRO!$E$39=\"Non endémique\",\" \",IF(COUNTRY_INFO!B98=0,\" \",COUNTRY_INFO!B98))","v":"CUANZA SUL"},{"$f":"IF(INTRO!$E$39=\"Non endémique\",\" \",IF(COUNTRY_INFO!C98=0,\" \",COUNTRY_INFO!C98))","v":"SELES"},{"$f":"IF(INTRO!$E$39=\"Non endémique\",0,IF(INTRO!$E$39=\"Endémique mais pas de CP\",IF(COUNTRY_INFO!$H98=1,COUNTRY_INFO!F98+COUNTRY_INFO!G98,0),IF(COUNTRY_INFO!$H98=1,COUNTRY_INFO!F98+COUNTRY_INFO!G98,IF(COUNTRY_INFO!$I98=1,IF(COUNTRY_INFO!N98>=(COUNTRY_INFO!F98+COUNTRY_INFO!G98),COUNTRY_INFO!F98+COUNTRY_INFO!G98,COUNTRY_INFO!$N98),0))))","v":0},{"$f":"IF(AND(INTRO!$E$39=\"Non endémique\",INTRO!$E$37=\"Non endémique\"),\"Non requis\",IF(INTRO!$E$39=\"Non endémique\",\"Traiter avec DEC\",COUNTRY_INFO!Q98))","v":0},{"$f":"IF(INTRO!$E$39<>\"Non endémique\",COUNTRY_INFO!R98,\"Non requis\")","v":0},{"$f":"IF(COUNTRY_INFO!H98=1, IF($E98=1,IF(ALB_MBD!$J98<>\" \",COUNTRY_INFO!F98+COUNTRY_INFO!G98-ALB_MBD!$J98,COUNTRY_INFO!F98+COUNTRY_INFO!G98), 0),0)","v":0},{"$f":"IF(INTRO!$E$39<>\"Endémique\",0, IF(AND(COUNTRY_INFO!$I98=1,$F98<>0),IF(COUNTRY_INFO!N98>=(COUNTRY_INFO!F98+COUNTRY_INFO!G98),COUNTRY_INFO!F98+COUNTRY_INFO!G98,COUNTRY_INFO!$N98), 0))","v":0},null,0,0,0,0,0,null,0,0]
[{"$f":"IF(INTRO!$E$39=\"Non endémique\",\" \",IF(COUNTRY_INFO!A99=0,\" \",COUNTRY_INFO!A99))","v":"Angola"},{"$f":"IF(INTRO!$E$39=\"Non endémique\",\" \",IF(COUNTRY_INFO!B99=0,\" \",COUNTRY_INFO!B99))","v":"CUANZA SUL"},{"$f":"IF(INTRO!$E$39=\"Non endémique\",\" \",IF(COUNTRY_INFO!C99=0,\" \",COUNTRY_INFO!C99))","v":"SUMBE"},{"$f":"IF(INTRO!$E$39=\"Non endémique\",0,IF(INTRO!$E$39=\"Endémique mais pas de CP\",IF(COUNTRY_INFO!$H99=1,COUNTRY_INFO!F99+COUNTRY_INFO!G99,0),IF(COUNTRY_INFO!$H99=1,COUNTRY_INFO!F99+COUNTRY_INFO!G99,IF(COUNTRY_INFO!$I99=1,IF(COUNTRY_INFO!N99>=(COUNTRY_INFO!F99+COUNTRY_INFO!G99),COUNTRY_INFO!F99+COUNTRY_INFO!G99,COUNTRY_INFO!$N99),0))))","v":0},{"$f":"IF(AND(INTRO!$E$39=\"Non endémique\",INTRO!$E$37=\"Non endémique\"),\"Non requis\",IF(INTRO!$E$39=\"Non endémique\",\"Traiter avec DEC\",COUNTRY_INFO!Q99))","v":0},{"$f":"IF(INTRO!$E$39<>\"Non endémique\",COUNTRY_INFO!R99,\"Non requis\")","v":0},{"$f":"IF(COUNTRY_INFO!H99=1, IF($E99=1,IF(ALB_MBD!$J99<>\" \",COUNTRY_INFO!F99+COUNTRY_INFO!G99-ALB_MBD!$J99,COUNTRY_INFO!F99+COUNTRY_INFO!G99), 0),0)","v":0},{"$f":"IF(INTRO!$E$39<>\"Endémique\",0, IF(AND(COUNTRY_INFO!$I99=1,$F99<>0),IF(COUNTRY_INFO!N99>=(COUNTRY_INFO!F99+COUNTRY_INFO!G99),COUNTRY_INFO!F99+COUNTRY_INFO!G99,COUNTRY_INFO!$N99), 0))","v":0},null,0,0,0,0,0,null,0,0]
[{"$f":"IF(INTRO!$E$39=\"Non endémique\",\" \",IF(COUNTRY_INFO!A100=0,\" \",COUNTRY_INFO!A100))","v":"Angola"},{"$f":"IF(INTRO!$E$39=\"Non endémique\",\" \",IF(COUNTRY_INFO!B100=0,\" \",COUNTRY_INFO!B100))","v":"LUANDA"},{"$f":"IF(INTRO!$E$39=\"Non endémique\",\" \",IF(COUNTRY_INFO!C100=0,\" \",COUNTRY_INFO!C100))","v":"BELAS"},{"$f":"IF(INTRO!$E$39=\"Non endémique\",0,IF(INTRO!$E$39=\"Endémique mais pas de CP\",IF(COUNTRY_INFO!$H100=1,COUNTRY_INFO!F100+COUNTRY_INFO!G100,0),IF(COUNTRY_INFO!$H100=1,COUNTRY_INFO!F100+COUNTRY_INFO!G100,IF(COUNTRY_INFO!$I100=1,IF(COUNTRY_INFO!N100>=(COUNTRY_INFO!F100+COUNTRY_INFO!G100),COUNTRY_INFO!F100+COUNTRY_INFO!G100,COUNTRY_INFO!$N100),0))))","v":0},{"$f":"IF(AND(INTRO!$E$39=\"Non endémique\",INTRO!$E$37=\"Non endémique\"),\"Non requis\",IF(INTRO!$E$39=\"Non endémique\",\"Traiter avec DEC\",COUNTRY_INFO!Q100))","v":0},{"$f":"IF(INTRO!$E$39<>\"Non endémique\",COUNTRY_INFO!R100,\"Non requis\")","v":0},{"$f":"IF(COUNTRY_INFO!H100=1, IF($E100=1,IF(ALB_MBD!$J100<>\" \",COUNTRY_INFO!F100+COUNTRY_INFO!G100-ALB_MBD!$J100,COUNTRY_INFO!F100+COUNTRY_INFO!G100), 0),0)","v":0},{"$f":"IF(INTRO!$E$39<>\"Endémique\",0, IF(AND(COUNTRY_INFO!$I100=1,$F100<>0),IF(COUNTRY_INFO!N100>=(COUNTRY_INFO!F100+COUNTRY_INFO!G100),COUNTRY_INFO!F100+COUNTRY_INFO!G100,COUNTRY_INFO!$N100), 0))","v":0},null,0,0,0,0,0,null,0,0]
[{"$f":"IF(INTRO!$E$39=\"Non endémique\",\" \",IF(COUNTRY_INFO!A101=0,\" \",COUNTRY_INFO!A101))","v":"Angola"},{"$f":"IF(INTRO!$E$39=\"Non endémique\",\" \",IF(COUNTRY_INFO!B101=0,\" \",COUNTRY_INFO!B101))","v":"LUANDA"},{"$f":"IF(INTRO!$E$39=\"Non endémique\",\" \",IF(COUNTRY_INFO!C101=0,\" \",COUNTRY_INFO!C101))","v":"CACUACO"},{"$f":"IF(INTRO!$E$39=\"Non endémique\",0,IF(INTRO!$E$39=\"Endémique mais pas de CP\",IF(COUNTRY_INFO!$H101=1,COUNTRY_INFO!F101+COUNTRY_INFO!G101,0),IF(COUNTRY_INFO!$H101=1,COUNTRY_INFO!F101+COUNTRY_INFO!G101,IF(COUNTRY_INFO!$I101=1,IF(COUNTRY_INFO!N101>=(COUNTRY_INFO!F101+COUNTRY_INFO!G101),COUNTRY_INFO!F101+COUNTRY_INFO!G101,COUNTRY_INFO!$N101),0))))","v":0},{"$f":"IF(AND(INTRO!$E$39=\"Non endémique\",INTRO!$E$37=\"Non endémique\"),\"Non requis\",IF(INTRO!$E$39=\"Non endémique\",\"Traiter avec DEC\",COUNTRY_INFO!Q101))","v":0},{"$f":"IF(INTRO!$E$39<>\"Non endémique\",COUNTRY_INFO!R101,\"Non requis\")","v":0},{"$f":"IF(COUNTRY_INFO!H101=1, IF($E101=1,IF(ALB_MBD!$J101<>\" \",COUNTRY_INFO!F101+COUNTRY_INFO!G101-ALB_MBD!$J101,COUNTRY_INFO!F101+COUNTRY_INFO!G101), 0),0)","v":0},{"$f":"IF(INTRO!$E$39<>\"Endémique\",0, IF(AND(COUNTRY_INFO!$I101=1,$F101<>0),IF(COUNTRY_INFO!N101>=(COUNTRY_INFO!F101+COUNTRY_INFO!G101),COUNTRY_INFO!F101+COUNTRY_INFO!G101,COUNTRY_INFO!$N101), 0))","v":0},null,0,0,0,0,0,null,0,0]
[{"$f":"IF(INTRO!$E$39=\"Non endémique\",\" \",IF(COUNTRY_INFO!A102=0,\" \",COUNTRY_INFO!A102))","v":"Angola"},{"$f":"IF(INTRO!$E$39=\"Non endémique\",\" \",IF(COUNTRY_INFO!B102=0,\" \",COUNTRY_INFO!B102))","v":"LUANDA"},{"$f":"IF(INTRO!$E$39=\"Non endémique\",\" \",IF(COUNTRY_INFO!C102=0,\" \",COUNTRY_INFO!C102))","v":"CAZENGA"},{"$f":"IF(INTRO!$E$39=\"Non endémique\",0,IF(INTRO!$E$39=\"Endémique mais pas de CP\",IF(COUNTRY_INFO!$H102=1,COUNTRY_INFO!F102+COUNTRY_INFO!G102,0),IF(COUNTRY_INFO!$H102=1,COUNTRY_INFO!F102+COUNTRY_INFO!G102,IF(COUNTRY_INFO!$I102=1,IF(COUNTRY_INFO!N102>=(COUNTRY_INFO!F102+COUNTRY_INFO!G102),COUNTRY_INFO!F102+COUNTRY_INFO!G102,COUNTRY_INFO!$N102),0))))","v":0},{"$f":"IF(AND(INTRO!$E$39=\"Non endémique\",INTRO!$E$37=\"Non endémique\"),\"Non requis\",IF(INTRO!$E$39=\"Non endémique\",\"Traiter avec DEC\",COUNTRY_INFO!Q102))","v":0},{"$f":"IF(INTRO!$E$39<>\"Non endémique\",COUNTRY_INFO!R102,\"Non requis\")","v":0},{"$f":"IF(COUNTRY_INFO!H102=1, IF($E102=1,IF(ALB_MBD!$J102<>\" \",COUNTRY_INFO!F102+COUNTRY_INFO!G102-ALB_MBD!$J102,COUNTRY_INFO!F102+COUNTRY_INFO!G102), 0),0)","v":0},{"$f":"IF(INTRO!$E$39<>\"Endémique\",0, IF(AND(COUNTRY_INFO!$I102=1,$F102<>0),IF(COUNTRY_INFO!N102>=(COUNTRY_INFO!F102+COUNTRY_INFO!G102),COUNTRY_INFO!F102+COUNTRY_INFO!G102,COUNTRY_INFO!$N102), 0))","v":0},null,0,0,0,0,0,null,0,0]
[{"$f":"IF(INTRO!$E$39=\"Non endémique\",\" \",IF(COUNTRY_INFO!A103=0,\" \",COUNTRY_INFO!A103))","v":"Angola"},{"$f":"IF(INTRO!$E$39=\"Non endémique\",\" \",IF(COUNTRY_INFO!B103=0,\" \",COUNTRY_INFO!B103))","v":"LUANDA"},{"$f":"IF(INTRO!$E$39=\"Non endémique\",\" \",IF(COUNTRY_INFO!C103=0,\" \",COUNTRY_INFO!C103))","v":"ICOLO E BENGO"},{"$f":"IF(INTRO!$E$39=\"Non endémique\",0,IF(INTRO!$E$39=\"Endémique mais pas de CP\",IF(COUNTRY_INFO!$H103=1,COUNTRY_INFO!F103+COUNTRY_INFO!G103,0),IF(COUNTRY_INFO!$H103=1,COUNTRY_INFO!F103+COUNTRY_INFO!G103,IF(COUNTRY_INFO!$I103=1,IF(COUNTRY_INFO!N103>=(COUNTRY_INFO!F103+COUNTRY_INFO!G103),COUNTRY_INFO!F103+COUNTRY_INFO!G103,COUNTRY_INFO!$N103),0))))","v":0},{"$f":"IF(AND(INTRO!$E$39=\"Non endémique\",INTRO!$E$37=\"Non endémique\"),\"Non requis\",IF(INTRO!$E$39=\"Non endémique\",\"Traiter avec DEC\",COUNTRY_INFO!Q103))","v":0},{"$f":"IF(INTRO!$E$39<>\"Non endémique\",COUNTRY_INFO!R103,\"Non requis\")","v":0},{"$f":"IF(COUNTRY_INFO!H103=1, IF($E103=1,IF(ALB_MBD!$J103<>\" \",COUNTRY_INFO!F103+COUNTRY_INFO!G103-ALB_MBD!$J103,COUNTRY_INFO!F103+COUNTRY_INFO!G103), 0),0)","v":0},{"$f":"IF(INTRO!$E$39<>\"Endémique\",0, IF(AND(COUNTRY_INFO!$I103=1,$F103<>0),IF(COUNTRY_INFO!N103>=(COUNTRY_INFO!F103+COUNTRY_INFO!G103),COUNTRY_INFO!F103+COUNTRY_INFO!G103,COUNTRY_INFO!$N103), 0))","v":0},null,0,0,0,0,0,null,0,0]
[{"$f":"IF(INTRO!$E$39=\"Non endémique\",\" \",IF(COUNTRY_INFO!A104=0,\" \",COUNTRY_INFO!A104))","v":"Angola"},{"$f":"IF(INTRO!$E$39=\"Non endémique\",\" \",IF(COUNTRY_INFO!B104=0,\" \",COUNTRY_INFO!B104))","v":"LUANDA"},{"$f":"IF(INTRO!$E$39=\"Non endémique\",\" \",IF(COUNTRY_INFO!C104=0,\" \",COUNTRY_INFO!C104))","v":"KILAMBA KIAXI"},{"$f":"IF(INTRO!$E$39=\"Non endémique\",0,IF(INTRO!$E$39=\"Endémique mais pas de CP\",IF(COUNTRY_INFO!$H104=1,COUNTRY_INFO!F104+COUNTRY_INFO!G104,0),IF(COUNTRY_INFO!$H104=1,COUNTRY_INFO!F104+COUNTRY_INFO!G104,IF(COUNTRY_INFO!$I104=1,IF(COUNTRY_INFO!N104>=(COUNTRY_INFO!F104+COUNTRY_INFO!G104),COUNTRY_INFO!F104+COUNTRY_INFO!G104,COUNTRY_INFO!$N104),0))))","v":0},{"$f":"IF(AND(INTRO!$E$39=\"Non endémique\",INTRO!$E$37=\"Non endémique\"),\"Non requis\",IF(INTRO!$E$39=\"Non endémique\",\"Traiter avec DEC\",COUNTRY_INFO!Q104))","v":0},{"$f":"IF(INTRO!$E$39<>\"Non endémique\",COUNTRY_INFO!R104,\"Non requis\")","v":0},{"$f":"IF(COUNTRY_INFO!H104=1, IF($E104=1,IF(ALB_MBD!$J104<>\" \",COUNTRY_INFO!F104+COUNTRY_INFO!G104-ALB_MBD!$J104,COUNTRY_INFO!F104+COUNTRY_INFO!G104), 0),0)","v":0},{"$f":"IF(INTRO!$E$39<>\"Endémique\",0, IF(AND(COUNTRY_INFO!$I104=1,$F104<>0),IF(COUNTRY_INFO!N104>=(COUNTRY_INFO!F104+COUNTRY_INFO!G104),COUNTRY_INFO!F104+COUNTRY_INFO!G104,COUNTRY_INFO!$N104), 0))","v":0},null,0,0,0,0,0,null,0,0]
[{"$f":"IF(INTRO!$E$39=\"Non endémique\",\" \",IF(COUNTRY_INFO!A105=0,\" \",COUNTRY_INFO!A105))","v":"Angola"},{"$f":"IF(INTRO!$E$39=\"Non endémique\",\" \",IF(COUNTRY_INFO!B105=0,\" \",COUNTRY_INFO!B105))","v":"LUANDA"},{"$f":"IF(INTRO!$E$39=\"Non endémique\",\" \",IF(COUNTRY_INFO!C105=0,\" \",COUNTRY_INFO!C105))","v":"LUANDA"},{"$f":"IF(INTRO!$E$39=\"Non endémique\",0,IF(INTRO!$E$39=\"Endémique mais pas de CP\",IF(COUNTRY_INFO!$H105=1,COUNTRY_INFO!F105+COUNTRY_INFO!G105,0),IF(COUNTRY_INFO!$H105=1,COUNTRY_INFO!F105+COUNTRY_INFO!G105,IF(COUNTRY_INFO!$I105=1,IF(COUNTRY_INFO!N105>=(COUNTRY_INFO!F105+COUNTRY_INFO!G105),COUNTRY_INFO!F105+COUNTRY_INFO!G105,COUNTRY_INFO!$N105),0))))","v":0},{"$f":"IF(AND(INTRO!$E$39=\"Non endémique\",INTRO!$E$37=\"Non endémique\"),\"Non requis\",IF(INTRO!$E$39=\"Non endémique\",\"Traiter avec DEC\",COUNTRY_INFO!Q105))","v":0},{"$f":"IF(INTRO!$E$39<>\"Non endémique\",COUNTRY_INFO!R105,\"Non requis\")","v":0},{"$f":"IF(COUNTRY_INFO!H105=1, IF($E105=1,IF(ALB_MBD!$J105<>\" \",COUNTRY_INFO!F105+COUNTRY_INFO!G105-ALB_MBD!$J105,COUNTRY_INFO!F105+COUNTRY_INFO!G105), 0),0)","v":0},{"$f":"IF(INTRO!$E$39<>\"Endémique\",0, IF(AND(COUNTRY_INFO!$I105=1,$F105<>0),IF(COUNTRY_INFO!N105>=(COUNTRY_INFO!F105+COUNTRY_INFO!G105),COUNTRY_INFO!F105+COUNTRY_INFO!G105,COUNTRY_INFO!$N105), 0))","v":0},null,{"$f":"IF(I105=0,H105,IF(I105>H105,H105,I105))","v":0},{"$f":"IF(G105<J105,0,IF($E105=1, (G105-J105)*2.8, 0))","v":0},{"$f":"IF($E105<$F105, J105*(F105-E105)*2.8, 0)","v":0},{"$f":"IF(AND($E105=1, $F105<>0), J105*2.8, 0)","v":0},{"$f":"SUM(K105:M105)","v":0},null,{"$f":"IF($N105>$O105,$N105-$O105,0)","v":0},{"$f":"ROUNDUP($N105/500,0)","v":0}]
[{"$f":"IF(INTRO!$E$39=\"Non endémique\",\" \",IF(COUNTRY_INFO!A106=0,\" \",COUNTRY_INFO!A106))","v":"Angola"},{"$f":"IF(INTRO!$E$39=\"Non endémique\",\" \",IF(COUNTRY_INFO!B106=0,\" \",COUNTRY_INFO!B106))","v":"LUANDA"},{"$f":"IF(INTRO!$E$39=\"Non endémique\",\" \",IF(COUNTRY_INFO!C106=0,\" \",COUNTRY_INFO!C106))","v":"QUIÇAMA"},{"$f":"IF(INTRO!$E$39=\"Non endémique\",0,IF(INTRO!$E$39=\"Endémique mais pas de CP\",IF(COUNTRY_INFO!$H106=1,COUNTRY_INFO!F106+COUNTRY_INFO!G106,0),IF(COUNTRY_INFO!$H106=1,COUNTRY_INFO!F106+COUNTRY_INFO!G106,IF(COUNTRY_INFO!$I106=1,IF(COUNTRY_INFO!N106>=(COUNTRY_INFO!F106+COUNTRY_INFO!G106),COUNTRY_INFO!F106+COUNTRY_INFO!G106,COUNTRY_INFO!$N106),0))))","v":0},{"$f":"IF(AND(INTRO!$E$39=\"Non endémique\",INTRO!$E$37=\"Non endémique\"),\"Non requis\",IF(INTRO!$E$39=\"Non endémique\",\"Traiter avec DEC\",COUNTRY_INFO!Q106))","v":0},{"$f":"IF(INTRO!$E$39<>\"Non endémique\",COUNTRY_INFO!R106,\"Non requis\")","v":0},{"$f":"IF(COUNTRY_INFO!H106=1, IF($E106=1,IF(ALB_MBD!$J106<>\" \",COUNTRY_INFO!F106+COUNTRY_INFO!G106-ALB_MBD!$J106,COUNTRY_INFO!F106+COUNTRY_INFO!G106), 0),0)","v":0},{"$f":"IF(INTRO!$E$39<>\"Endémique\",0, IF(AND(COUNTRY_INFO!$I106=1,$F106<>0),IF(COUNTRY_INFO!N106>=(COUNTRY_INFO!F106+COUNTRY_INFO!G106),COUNTRY_INFO!F106+COUNTRY_INFO!G106,COUNTRY_INFO!$N106), 0))","v":0},null,0,0,0,0,0,null,0,0]
[{"$f":"IF(INTRO!$E$39=\"Non endémique\",\" \",IF(COUNTRY_INFO!A107=0,\" \",COUNTRY_INFO!A107))","v":"Angola"},{"$f":"IF(INTRO!$E$39=\"Non endémique\",\" \",IF(COUNTRY_INFO!B107=0,\" \",COUNTRY_INFO!B107))","v":"LUANDA"},{"$f":"IF(INTRO!$E$39=\"Non endémique\",\" \",IF(COUNTRY_INFO!C107=0,\" \",COUNTRY_INFO!C107))","v":"TALATONA"},{"$f":"IF(INTRO!$E$39=\"Non endémique\",0,IF(INTRO!$E$39=\"Endémique mais pas de CP\",IF(COUNTRY_INFO!$H107=1,COUNTRY_INFO!F107+COUNTRY_INFO!G107,0),IF(COUNTRY_INFO!$H107=1,COUNTRY_INFO!F107+COUNTRY_INFO!G107,IF(COUNTRY_INFO!$I107=1,IF(COUNTRY_INFO!N107>=(COUNTRY_INFO!F107+COUNTRY_INFO!G107),COUNTRY_INFO!F107+COUNTRY_INFO!G107,COUNTRY_INFO!$N107),0))))","v":0},{"$f":"IF(AND(INTRO!$E$39=\"Non endémique\",INTRO!$E$37=\"Non endémique\"),\"Non requis\",IF(INTRO!$E$39=\"Non endémique\",\"Traiter avec DEC\",COUNTRY_INFO!Q107))","v":0},{"$f":"IF(INTRO!$E$39<>\"Non endémique\",COUNTRY_INFO!R107,\"Non requis\")","v":0},{"$f":"IF(COUNTRY_INFO!H107=1, IF($E107=1,IF(ALB_MBD!$J107<>\" \",COUNTRY_INFO!F107+COUNTRY_INFO!G107-ALB_MBD!$J107,COUNTRY_INFO!F107+COUNTRY_INFO!G107), 0),0)","v":0},{"$f":"IF(INTRO!$E$39<>\"Endémique\",0, IF(AND(COUNTRY_INFO!$I107=1,$F107<>0),IF(COUNTRY_INFO!N107>=(COUNTRY_INFO!F107+COUNTRY_INFO!G107),COUNTRY_INFO!F107+COUNTRY_INFO!G107,COUNTRY_INFO!$N107), 0))","v":0},null,0,0,0,0,0,null,0,0]
[{"$f":"IF(INTRO!$E$39=\"Non endémique\",\" \",IF(COUNTRY_INFO!A108=0,\" \",COUNTRY_INFO!A108))","v":"Angola"},{"$f":"IF(INTRO!$E$39=\"Non endémique\",\" \",IF(COUNTRY_INFO!B108=0,\" \",COUNTRY_INFO!B108))","v":"LUANDA"},{"$f":"IF(INTRO!$E$39=\"Non endémique\",\" \",IF(COUNTRY_INFO!C108=0,\" \",COUNTRY_INFO!C108))","v":"VIANA"},{"$f":"IF(INTRO!$E$39=\"Non endémique\",0,IF(INTRO!$E$39=\"Endémique mais pas de CP\",IF(COUNTRY_INFO!$H108=1,COUNTRY_INFO!F108+COUNTRY_INFO!G108,0),IF(COUNTRY_INFO!$H108=1,COUNTRY_INFO!F108+COUNTRY_INFO!G108,IF(COUNTRY_INFO!$I108=1,IF(COUNTRY_INFO!N108>=(COUNTRY_INFO!F108+COUNTRY_INFO!G108),COUNTRY_INFO!F108+COUNTRY_INFO!G108,COUNTRY_INFO!$N108),0))))","v":0},{"$f":"IF(AND(INTRO!$E$39=\"Non endémique\",INTRO!$E$37=\"Non endémique\"),\"Non requis\",IF(INTRO!$E$39=\"Non endémique\",\"Traiter avec DEC\",COUNTRY_INFO!Q108))","v":0},{"$f":"IF(INTRO!$E$39<>\"Non endémique\",COUNTRY_INFO!R108,\"Non requis\")","v":0},{"$f":"IF(COUNTRY_INFO!H108=1, IF($E108=1,IF(ALB_MBD!$J108<>\" \",COUNTRY_INFO!F108+COUNTRY_INFO!G108-ALB_MBD!$J108,COUNTRY_INFO!F108+COUNTRY_INFO!G108), 0),0)","v":0},{"$f":"IF(INTRO!$E$39<>\"Endémique\",0, IF(AND(COUNTRY_INFO!$I108=1,$F108<>0),IF(COUNTRY_INFO!N108>=(COUNTRY_INFO!F108+COUNTRY_INFO!G108),COUNTRY_INFO!F108+COUNTRY_INFO!G108,COUNTRY_INFO!$N108), 0))","v":0},null,0,0,0,0,0,null,0,0]
[{"$f":"IF(INTRO!$E$39=\"Non endémique\",\" \",IF(COUNTRY_INFO!A109=0,\" \",COUNTRY_INFO!A109))","v":"Angola"},{"$f":"IF(INTRO!$E$39=\"Non endémique\",\" \",IF(COUNTRY_INFO!B109=0,\" \",COUNTRY_INFO!B109))","v":"LUNDA NORTE"},{"$f":"IF(INTRO!$E$39=\"Non endémique\",\" \",IF(COUNTRY_INFO!C109=0,\" \",COUNTRY_INFO!C109))","v":"CAMBULO"},{"$f":"IF(INTRO!$E$39=\"Non endémique\",0,IF(INTRO!$E$39=\"Endémique mais pas de CP\",IF(COUNTRY_INFO!$H109=1,COUNTRY_INFO!F109+COUNTRY_INFO!G109,0),IF(COUNTRY_INFO!$H109=1,COUNTRY_INFO!F109+COUNTRY_INFO!G109,IF(COUNTRY_INFO!$I109=1,IF(COUNTRY_INFO!N109>=(COUNTRY_INFO!F109+COUNTRY_INFO!G109),COUNTRY_INFO!F109+COUNTRY_INFO!G109,COUNTRY_INFO!$N109),0))))","v":129118},{"$f":"IF(AND(INTRO!$E$39=\"Non endémique\",INTRO!$E$37=\"Non endémique\"),\"Non requis\",IF(INTRO!$E$39=\"Non endémique\",\"Traiter avec DEC\",COUNTRY_INFO!Q109))","v":1},{"$f":"IF(INTRO!$E$39<>\"Non endémique\",COUNTRY_INFO!R109,\"Non requis\")","v":1},{"$f":"IF(COUNTRY_INFO!H109=1, IF($E109=1,IF(ALB_MBD!$J109<>\" \",COUNTRY_INFO!F109+COUNTRY_INFO!G109-ALB_MBD!$J109,COUNTRY_INFO!F109+COUNTRY_INFO!G109), 0),0)","v":129118},{"$f":"IF(INTRO!$E$39<>\"Endémique\",0, IF(AND(COUNTRY_INFO!$I109=1,$F109<>0),IF(COUNTRY_INFO!N109>=(COUNTRY_INFO!F109+COUNTRY_INFO!G109),COUNTRY_INFO!F109+COUNTRY_INFO!G109,COUNTRY_INFO!$N109), 0))","v":129118},null,129118,0,0,361530.39999999997,361530.39999999997,null,361530.39999999997,724]
[{"$f":"IF(INTRO!$E$39=\"Non endémique\",\" \",IF(COUNTRY_INFO!A110=0,\" \",COUNTRY_INFO!A110))","v":"Angola"},{"$f":"IF(INTRO!$E$39=\"Non endémique\",\" \",IF(COUNTRY_INFO!B110=0,\" \",COUNTRY_INFO!B110))","v":"LUNDA NORTE"},{"$f":"IF(INTRO!$E$39=\"Non endémique\",\" \",IF(COUNTRY_INFO!C110=0,\" \",COUNTRY_INFO!C110))","v":"CAPENDA CAMULEMBA"},{"$f":"IF(INTRO!$E$39=\"Non endémique\",0,IF(INTRO!$E$39=\"Endémique mais pas de CP\",IF(COUNTRY_INFO!$H110=1,COUNTRY_INFO!F110+COUNTRY_INFO!G110,0),IF(COUNTRY_INFO!$H110=1,COUNTRY_INFO!F110+COUNTRY_INFO!G110,IF(COUNTRY_INFO!$I110=1,IF(COUNTRY_INFO!N110>=(COUNTRY_INFO!F110+COUNTRY_INFO!G110),COUNTRY_INFO!F110+COUNTRY_INFO!G110,COUNTRY_INFO!$N110),0))))","v":62698},{"$f":"IF(AND(INTRO!$E$39=\"Non endémique\",INTRO!$E$37=\"Non endémique\"),\"Non requis\",IF(INTRO!$E$39=\"Non endémique\",\"Traiter avec DEC\",COUNTRY_INFO!Q110))","v":0},{"$f":"IF(INTRO!$E$39<>\"Non endémique\",COUNTRY_INFO!R110,\"Non requis\")","v":1},{"$f":"IF(COUNTRY_INFO!H110=1, IF($E110=1,IF(ALB_MBD!$J110<>\" \",COUNTRY_INFO!F110+COUNTRY_INFO!G110-ALB_MBD!$J110,COUNTRY_INFO!F110+COUNTRY_INFO!G110), 0),0)","v":0},{"$f":"IF(INTRO!$E$39<>\"Endémique\",0, IF(AND(COUNTRY_INFO!$I110=1,$F110<>0),IF(COUNTRY_INFO!N110>=(COUNTRY_INFO!F110+COUNTRY_INFO!G110),COUNTRY_INFO!F110+COUNTRY_INFO!G110,COUNTRY_INFO!$N110), 0))","v":62698},null,62698,0,175554.4,0,175554.4,null,175554.4,352]
[{"$f":"IF(INTRO!$E$39=\"Non endémique\",\" \",IF(COUNTRY_INFO!A111=0,\" \",COUNTRY_INFO!A111))","v":"Angola"},{"$f":"IF(INTRO!$E$39=\"Non endémique\",\" \",IF(COUNTRY_INFO!B111=0,\" \",COUNTRY_INFO!B111))","v":"LUNDA NORTE"},{"$f":"IF(INTRO!$E$39=\"Non endémique\",\" \",IF(COUNTRY_INFO!C111=0,\" \",COUNTRY_INFO!C111))","v":"CAUNGULA"},{"$f":"IF(INTRO!$E$39=\"Non endémique\",0,IF(INTRO!$E$39=\"Endémique mais pas de CP\",IF(COUNTRY_INFO!$H111=1,COUNTRY_INFO!F111+COUNTRY_INFO!G111,0),IF(COUNTRY_INFO!$H111=1,COUNTRY_INFO!F111+COUNTRY_INFO!G111,IF(COUNTRY_INFO!$I111=1,IF(COUNTRY_INFO!N111>=(COUNTRY_INFO!F111+COUNTRY_INFO!G111),COUNTRY_INFO!F111+COUNTRY_INFO!G111,COUNTRY_INFO!$N111),0))))","v":30186},{"$f":"IF(AND(INTRO!$E$39=\"Non endémique\",INTRO!$E$37=\"Non endémique\"),\"Non requis\",IF(INTRO!$E$39=\"Non endémique\",\"Traiter avec DEC\",COUNTRY_INFO!Q111))","v":0},{"$f":"IF(INTRO!$E$39<>\"Non endémique\",COUNTRY_INFO!R111,\"Non requis\")","v":1},{"$f":"IF(COUNTRY_INFO!H111=1, IF($E111=1,IF(ALB_MBD!$J111<>\" \",COUNTRY_INFO!F111+COUNTRY_INFO!G111-ALB_MBD!$J111,COUNTRY_INFO!F111+COUNTRY_INFO!G111), 0),0)","v":0},{"$f":"IF(INTRO!$E$39<>\"Endémique\",0, IF(AND(COUNTRY_INFO!$I111=1,$F111<>0),IF(COUNTRY_INFO!N111>=(COUNTRY_INFO!F111+COUNTRY_INFO!G111),COUNTRY_INFO!F111+COUNTRY_INFO!G111,COUNTRY_INFO!$N111), 0))","v":30186},null,30186,0,84520.799999999988,0,84520.799999999988,null,84520.799999999988,170]
[{"$f":"IF(INTRO!$E$39=\"Non endémique\",\" \",IF(COUNTRY_INFO!A112=0,\" \",COUNTRY_INFO!A112))","v":"Angola"},{"$f":"IF(INTRO!$E$39=\"Non endémique\",\" \",IF(COUNTRY_INFO!B112=0,\" \",COUNTRY_INFO!B112))","v":"LUNDA NORTE"},{"$f":"IF(INTRO!$E$39=\"Non endémique\",\" \",IF(COUNTRY_INFO!C112=0,\" \",COUNTRY_INFO!C112))","v":"CHITATO"},{"$f":"IF(INTRO!$E$39=\"Non endémique\",0,IF(INTRO!$E$39=\"Endémique mais pas de CP\",IF(COUNTRY_INFO!$H112=1,COUNTRY_INFO!F112+COUNTRY_INFO!G112,0),IF(COUNTRY_INFO!$H112=1,COUNTRY_INFO!F112+COUNTRY_INFO!G112,IF(COUNTRY_INFO!$I112=1,IF(COUNTRY_INFO!N112>=(COUNTRY_INFO!F112+COUNTRY_INFO!G112),COUNTRY_INFO!F112+COUNTRY_INFO!G112,COUNTRY_INFO!$N112),0))))","v":203497},{"$f":"IF(AND(INTRO!$E$39=\"Non endémique\",INTRO!$E$37=\"Non endémique\"),\"Non requis\",IF(INTRO!$E$39=\"Non endémique\",\"Traiter avec DEC\",COUNTRY_INFO!Q112))","v":0},{"$f":"IF(INTRO!$E$39<>\"Non endémique\",COUNTRY_INFO!R112,\"Non requis\")","v":1},{"$f":"IF(COUNTRY_INFO!H112=1, IF($E112=1,IF(ALB_MBD!$J112<>\" \",COUNTRY_INFO!F112+COUNTRY_INFO!G112-ALB_MBD!$J112,COUNTRY_INFO!F112+COUNTRY_INFO!G112), 0),0)","v":0},{"$f":"IF(INTRO!$E$39<>\"Endémique\",0, IF(AND(COUNTRY_INFO!$I112=1,$F112<>0),IF(COUNTRY_INFO!N112>=(COUNTRY_INFO!F112+COUNTRY_INFO!G112),COUNTRY_INFO!F112+COUNTRY_INFO!G112,COUNTRY_INFO!$N112), 0))","v":203497},null,203497,0,569791.6,0,569791.6,null,569791.6,1140]
[{"$f":"IF(INTRO!$E$39=\"Non endémique\",\" \",IF(COUNTRY_INFO!A113=0,\" \",COUNTRY_INFO!A113))","v":"Angola"},{"$f":"IF(INTRO!$E$39=\"Non endémique\",\" \",IF(COUNTRY_INFO!B113=0,\" \",COUNTRY_INFO!B113))","v":"LUNDA NORTE"},{"$f":"IF(INTRO!$E$39=\"Non endémique\",\" \",IF(COUNTRY_INFO!C113=0,\" \",COUNTRY_INFO!C113))","v":"CUANGO"},{"$f":"IF(INTRO!$E$39=\"Non endémique\",0,IF(INTRO!$E$39=\"Endémique mais pas de CP\",IF(COUNTRY_INFO!$H113=1,COUNTRY_INFO!F113+COUNTRY_INFO!G113,0),IF(COUNTRY_INFO!$H113=1,COUNTRY_INFO!F113+COUNTRY_INFO!G113,IF(COUNTRY_INFO!$I113=1,IF(COUNTRY_INFO!N113>=(COUNTRY_INFO!F113+COUNTRY_INFO!G113),COUNTRY_INFO!F113+COUNTRY_INFO!G113,COUNTRY_INFO!$N113),0))))","v":0},{"$f":"IF(AND(INTRO!$E$39=\"Non endémique\",INTRO!$E$37=\"Non endémique\"),\"Non requis\",IF(INTRO!$E$39=\"Non endémique\",\"Traiter avec DEC\",COUNTRY_INFO!Q113))","v":0},{"$f":"IF(INTRO!$E$39<>\"Non endémique\",COUNTRY_INFO!R113,\"Non requis\")","v":0},{"$f":"IF(COUNTRY_INFO!H113=1, IF($E113=1,IF(ALB_MBD!$J113<>\" \",COUNTRY_INFO!F113+COUNTRY_INFO!G113-ALB_MBD!$J113,COUNTRY_INFO!F113+COUNTRY_INFO!G113), 0),0)","v":0},{"$f":"IF(INTRO!$E$39<>\"Endémique\",0, IF(AND(COUNTRY_INFO!$I113=1,$F113<>0),IF(COUNTRY_INFO!N113>=(COUNTRY_INFO!F113+COUNTRY_INFO!G113),COUNTRY_INFO!F113+COUNTRY_INFO!G113,COUNTRY_INFO!$N113), 0))","v":0},null,0,0,0,0,0,null,0,0]
[{"$f":"IF(INTRO!$E$39=\"Non endémique\",\" \",IF(COUNTRY_INFO!A114=0,\" \",COUNTRY_INFO!A114))","v":"Angola"},{"$f":"IF(INTRO!$E$39=\"Non endémique\",\" \",IF(COUNTRY_INFO!B114=0,\" \",COUNTRY_INFO!B114))","v":"LUNDA NORTE"},{"$f":"IF(INTRO!$E$39=\"Non endémique\",\" \",IF(COUNTRY_INFO!C114=0,\" \",COUNTRY_INFO!C114))","v":"CUILO"},{"$f":"IF(INTRO!$E$39=\"Non endémique\",0,IF(INTRO!$E$39=\"Endémique mais pas de CP\",IF(COUNTRY_INFO!$H114=1,COUNTRY_INFO!F114+COUNTRY_INFO!G114,0),IF(COUNTRY_INFO!$H114=1,COUNTRY_INFO!F114+COUNTRY_INFO!G114,IF(COUNTRY_INFO!$I114=1,IF(COUNTRY_INFO!N114>=(COUNTRY_INFO!F114+COUNTRY_INFO!G114),COUNTRY_INFO!F114+COUNTRY_INFO!G114,COUNTRY_INFO!$N114),0))))","v":22562},{"$f":"IF(AND(INTRO!$E$39=\"Non endémique\",INTRO!$E$37=\"Non endémique\"),\"Non requis\",IF(INTRO!$E$39=\"Non endémique\",\"Traiter avec DEC\",COUNTRY_INFO!Q114))","v":1},{"$f":"IF(INTRO!$E$39<>\"Non endémique\",COUNTRY_INFO!R114,\"Non requis\")","v":1},{"$f":"IF(COUNTRY_INFO!H114=1, IF($E114=1,IF(ALB_MBD!$J114<>\" \",COUNTRY_INFO!F114+COUNTRY_INFO!G114-ALB_MBD!$J114,COUNTRY_INFO!F114+COUNTRY_INFO!G114), 0),0)","v":22562},{"$f":"IF(INTRO!$E$39<>\"Endémique\",0, IF(AND(COUNTRY_INFO!$I114=1,$F114<>0),IF(COUNTRY_INFO!N114>=(COUNTRY_INFO!F114+COUNTRY_INFO!G114),COUNTRY_INFO!F114+COUNTRY_INFO!G114,COUNTRY_INFO!$N114), 0))","v":22562},null,22562,0,0,63173.599999999999,63173.599999999999,null,63173.599999999999,127]
[{"$f":"IF(INTRO!$E$39=\"Non endémique\",\" \",IF(COUNTRY_INFO!A115=0,\" \",COUNTRY_INFO!A115))","v":"Angola"},{"$f":"IF(INTRO!$E$39=\"Non endémique\",\" \",IF(COUNTRY_INFO!B115=0,\" \",COUNTRY_INFO!B115))","v":"LUNDA NORTE"},{"$f":"IF(INTRO!$E$39=\"Non endémique\",\" \",IF(COUNTRY_INFO!C115=0,\" \",COUNTRY_INFO!C115))","v":"LOVUA"},{"$f":"IF(INTRO!$E$39=\"Non endémique\",0,IF(INTRO!$E$39=\"Endémique mais pas de CP\",IF(COUNTRY_INFO!$H115=1,COUNTRY_INFO!F115+COUNTRY_INFO!G115,0),IF(COUNTRY_INFO!$H115=1,COUNTRY_INFO!F115+COUNTRY_INFO!G115,IF(COUNTRY_INFO!$I115=1,IF(COUNTRY_INFO!N115>=(COUNTRY_INFO!F115+COUNTRY_INFO!G115),COUNTRY_INFO!F115+COUNTRY_INFO!G115,COUNTRY_INFO!$N115),0))))","v":14032},{"$f":"IF(AND(INTRO!$E$39=\"Non endémique\",INTRO!$E$37=\"Non endémique\"),\"Non requis\",IF(INTRO!$E$39=\"Non endémique\",\"Traiter avec DEC\",COUNTRY_INFO!Q115))","v":0},{"$f":"IF(INTRO!$E$39<>\"Non endémique\",COUNTRY_INFO!R115,\"Non requis\")","v":1},{"$f":"IF(COUNTRY_INFO!H115=1, IF($E115=1,IF(ALB_MBD!$J115<>\" \",COUNTRY_INFO!F115+COUNTRY_INFO!G115-ALB_MBD!$J115,COUNTRY_INFO!F115+COUNTRY_INFO!G115), 0),0)","v":0},{"$f":"IF(INTRO!$E$39<>\"Endémique\",0, IF(AND(COUNTRY_INFO!$I115=1,$F115<>0),IF(COUNTRY_INFO!N115>=(COUNTRY_INFO!F115+COUNTRY_INFO!G115),COUNTRY_INFO!F115+COUNTRY_INFO!G115,COUNTRY_INFO!$N115), 0))","v":14032},null,14032,0,39289.599999999999,0,39289.599999999999,null,39289.599999999999,79]
[{"$f":"IF(INTRO!$E$39=\"Non endémique\",\" \",IF(COUNTRY_INFO!A116=0,\" \",COUNTRY_INFO!A116))","v":"Angola"},{"$f":"IF(INTRO!$E$39=\"Non endémique\",\" \",IF(COUNTRY_INFO!B116=0,\" \",COUNTRY_INFO!B116))","v":"LUNDA NORTE"},{"$f":"IF(INTRO!$E$39=\"Non endémique\",\" \",IF(COUNTRY_INFO!C116=0,\" \",COUNTRY_INFO!C116))","v":"LUBALO"},{"$f":"IF(INTRO!$E$39=\"Non endémique\",0,IF(INTRO!$E$39=\"Endémique mais pas de CP\",IF(COUNTRY_INFO!$H116=1,COUNTRY_INFO!F116+COUNTRY_INFO!G116,0),IF(COUNTRY_INFO!$H116=1,COUNTRY_INFO!F116+COUNTRY_INFO!G116,IF(COUNTRY_INFO!$I116=1,IF(COUNTRY_INFO!N116>=(COUNTRY_INFO!F116+COUNTRY_INFO!G116),COUNTRY_INFO!F116+COUNTRY_INFO!G116,COUNTRY_INFO!$N116),0))))","v":22169},{"$f":"IF(AND(INTRO!$E$39=\"Non endémique\",INTRO!$E$37=\"Non endémique\"),\"Non requis\",IF(INTRO!$E$39=\"Non endémique\",\"Traiter avec DEC\",COUNTRY_INFO!Q116))","v":0},{"$f":"IF(INTRO!$E$39<>\"Non endémique\",COUNTRY_INFO!R116,\"Non requis\")","v":1},{"$f":"IF(COUNTRY_INFO!H116=1, IF($E116=1,IF(ALB_MBD!$J116<>\" \",COUNTRY_INFO!F116+COUNTRY_INFO!G116-ALB_MBD!$J116,COUNTRY_INFO!F116+COUNTRY_INFO!G116), 0),0)","v":0},{"$f":"IF(INTRO!$E$39<>\"Endémique\",0, IF(AND(COUNTRY_INFO!$I116=1,$F116<>0),IF(COUNTRY_INFO!N116>=(COUNTRY_INFO!F116+COUNTRY_INFO!G116),COUNTRY_INFO!F116+COUNTRY_INFO!G116,COUNTRY_INFO!$N116), 0))","v":22169},null,22169,0,62073.2,0,62073.2,null,62073.2,125]
[{"$f":"IF(INTRO!$E$39=\"Non endémique\",\" \",IF(COUNTRY_INFO!A117=0,\" \",COUNTRY_INFO!A117))","v":"Angola"},{"$f":"IF(INTRO!$E$39=\"Non endémique\",\" \",IF(COUNTRY_INFO!B117=0,\" \",COUNTRY_INFO!B117))","v":"LUNDA NORTE"},{"$f":"IF(INTRO!$E$39=\"Non endémique\",\" \",IF(COUNTRY_INFO!C117=0,\" \",COUNTRY_INFO!C117))","v":"LUCAPA"},{"$f":"IF(INTRO!$E$39=\"Non endémique\",0,IF(INTRO!$E$39=\"Endémique mais pas de CP\",IF(COUNTRY_INFO!$H117=1,COUNTRY_INFO!F117+COUNTRY_INFO!G117,0),IF(COUNTRY_INFO!$H117=1,COUNTRY_INFO!F117+COUNTRY_INFO!G117,IF(COUNTRY_INFO!$I117=1,IF(COUNTRY_INFO!N117>=(COUNTRY_INFO!F117+COUNTRY_INFO!G117),COUNTRY_INFO!F117+COUNTRY_INFO!G117,COUNTRY_INFO!$N117),0))))","v":165886},{"$f":"IF(AND(INTRO!$E$39=\"Non endémique\",INTRO!$E$37=\"Non endémique\"),\"Non requis\",IF(INTRO!$E$39=\"Non endémique\",\"Traiter avec DEC\",COUNTRY_INFO!Q117))","v":0},{"$f":"IF(INTRO!$E$39<>\"Non endémique\",COUNTRY_INFO!R117,\"Non requis\")","v":1},{"$f":"IF(COUNTRY_INFO!H117=1, IF($E117=1,IF(ALB_MBD!$J117<>\" \",COUNTRY_INFO!F117+COUNTRY_INFO!G117-ALB_MBD!$J117,COUNTRY_INFO!F117+COUNTRY_INFO!G117), 0),0)","v":0},{"$f":"IF(INTRO!$E$39<>\"Endémique\",0, IF(AND(COUNTRY_INFO!$I117=1,$F117<>0),IF(COUNTRY_INFO!N117>=(COUNTRY_INFO!F117+COUNTRY_INFO!G117),COUNTRY_INFO!F117+COUNTRY_INFO!G117,COUNTRY_INFO!$N117), 0))","v":165886},null,165886,0,464480.8,0,464480.8,null,464480.8,929]
[{"$f":"IF(INTRO!$E$39=\"Non endémique\",\" \",IF(COUNTRY_INFO!A118=0,\" \",COUNTRY_INFO!A118))","v":"Angola"},{"$f":"IF(INTRO!$E$39=\"Non endémique\",\" \",IF(COUNTRY_INFO!B118=0,\" \",COUNTRY_INFO!B118))","v":"LUNDA NORTE"},{"$f":"IF(INTRO!$E$39=\"Non endémique\",\" \",IF(COUNTRY_INFO!C118=0,\" \",COUNTRY_INFO!C118))","v":"XA MUTEBA"},{"$f":"IF(INTRO!$E$39=\"Non endémique\",0,IF(INTRO!$E$39=\"Endémique mais pas de CP\",IF(COUNTRY_INFO!$H118=1,COUNTRY_INFO!F118+COUNTRY_INFO!G118,0),IF(COUNTRY_INFO!$H118=1,COUNTRY_INFO!F118+COUNTRY_INFO!G118,IF(COUNTRY_INFO!$I118=1,IF(COUNTRY_INFO!N118>=(COUNTRY_INFO!F118+COUNTRY_INFO!G118),COUNTRY_INFO!F118+COUNTRY_INFO!G118,COUNTRY_INFO!$N118),0))))","v":51689},{"$f":"IF(AND(INTRO!$E$39=\"Non endémique\",INTRO!$E$37=\"Non endémique\"),\"Non requis\",IF(INTRO!$E$39=\"Non endémique\",\"Traiter avec DEC\",COUNTRY_INFO!Q118))","v":1},{"$f":"IF(INTRO!$E$39<>\"Non endémique\",COUNTRY_INFO!R118,\"Non requis\")","v":0},{"$f":"IF(COUNTRY_INFO!H118=1, IF($E118=1,IF(ALB_MBD!$J118<>\" \",COUNTRY_INFO!F118+COUNTRY_INFO!G118-ALB_MBD!$J118,COUNTRY_INFO!F118+COUNTRY_INFO!G118), 0),0)","v":51689},{"$f":"IF(INTRO!$E$39<>\"Endémique\",0, IF(AND(COUNTRY_INFO!$I118=1,$F118<>0),IF(COUNTRY_INFO!N118>=(COUNTRY_INFO!F118+COUNTRY_INFO!G118),COUNTRY_INFO!F118+COUNTRY_INFO!G118,COUNTRY_INFO!$N118), 0))","v":0},null,0,144729.19999999998,0,0,144729.19999999998,null,144729.19999999998,290]
[{"$f":"IF(INTRO!$E$39=\"Non endémique\",\" \",IF(COUNTRY_INFO!A119=0,\" \",COUNTRY_INFO!A119))","v":"Angola"},{"$f":"IF(INTRO!$E$39=\"Non endémique\",\" \",IF(COUNTRY_INFO!B119=0,\" \",COUNTRY_INFO!B119))","v":"LUNDA SUL"},{"$f":"IF(INTRO!$E$39=\"Non endémique\",\" \",IF(COUNTRY_INFO!C119=0,\" \",COUNTRY_INFO!C119))","v":"CACOLO"},{"$f":"IF(INTRO!$E$39=\"Non endémique\",0,IF(INTRO!$E$39=\"Endémique mais pas de CP\",IF(COUNTRY_INFO!$H119=1,COUNTRY_INFO!F119+COUNTRY_INFO!G119,0),IF(COUNTRY_INFO!$H119=1,COUNTRY_INFO!F119+COUNTRY_INFO!G119,IF(COUNTRY_INFO!$I119=1,IF(COUNTRY_INFO!N119>=(COUNTRY_INFO!F119+COUNTRY_INFO!G119),COUNTRY_INFO!F119+COUNTRY_INFO!G119,COUNTRY_INFO!$N119),0))))","v":34776},{"$f":"IF(AND(INTRO!$E$39=\"Non endémique\",INTRO!$E$37=\"Non endémique\"),\"Non requis\",IF(INTRO!$E$39=\"Non endémique\",\"Traiter avec DEC\",COUNTRY_INFO!Q119))","v":1},{"$f":"IF(INTRO!$E$39<>\"Non endémique\",COUNTRY_INFO!R119,\"Non requis\")","v":1},{"$f":"IF(COUNTRY_INFO!H119=1, IF($E119=1,IF(ALB_MBD!$J119<>\" \",COUNTRY_INFO!F119+COUNTRY_INFO!G119-ALB_MBD!$J119,COUNTRY_INFO!F119+COUNTRY_INFO!G119), 0),0)","v":34776},{"$f":"IF(INTRO!$E$39<>\"Endémique\",0, IF(AND(COUNTRY_INFO!$I119=1,$F119<>0),IF(COUNTRY_INFO!N119>=(COUNTRY_INFO!F119+COUNTRY_INFO!G119),COUNTRY_INFO!F119+COUNTRY_INFO!G119,COUNTRY_INFO!$N119), 0))","v":34776},null,34776,0,0,97372.799999999988,97372.799999999988,null,97372.799999999988,195]
[{"$f":"IF(INTRO!$E$39=\"Non endémique\",\" \",IF(COUNTRY_INFO!A120=0,\" \",COUNTRY_INFO!A120))","v":"Angola"},{"$f":"IF(INTRO!$E$39=\"Non endémique\",\" \",IF(COUNTRY_INFO!B120=0,\" \",COUNTRY_INFO!B120))","v":"LUNDA SUL"},{"$f":"IF(INTRO!$E$39=\"Non endémique\",\" \",IF(COUNTRY_INFO!C120=0,\" \",COUNTRY_INFO!C120))","v":"DALA"},{"$f":"IF(INTRO!$E$39=\"Non endémique\",0,IF(INTRO!$E$39=\"Endémique mais pas de CP\",IF(COUNTRY_INFO!$H120=1,COUNTRY_INFO!F120+COUNTRY_INFO!G120,0),IF(COUNTRY_INFO!$H120=1,COUNTRY_INFO!F120+COUNTRY_INFO!G120,IF(COUNTRY_INFO!$I120=1,IF(COUNTRY_INFO!N120>=(COUNTRY_INFO!F120+COUNTRY_INFO!G120),COUNTRY_INFO!F120+COUNTRY_INFO!G120,COUNTRY_INFO!$N120),0))))","v":32701},{"$f":"IF(AND(INTRO!$E$39=\"Non endémique\",INTRO!$E$37=\"Non endémique\"),\"Non requis\",IF(INTRO!$E$39=\"Non endémique\",\"Traiter avec DEC\",COUNTRY_INFO!Q120))","v":0},{"$f":"IF(INTRO!$E$39<>\"Non endémique\",COUNTRY_INFO!R120,\"Non requis\")","v":1},{"$f":"IF(COUNTRY_INFO!H120=1, IF($E120=1,IF(ALB_MBD!$J120<>\" \",COUNTRY_INFO!F120+COUNTRY_INFO!G120-ALB_MBD!$J120,COUNTRY_INFO!F120+COUNTRY_INFO!G120), 0),0)","v":0},{"$f":"IF(INTRO!$E$39<>\"Endémique\",0, IF(AND(COUNTRY_INFO!$I120=1,$F120<>0),IF(COUNTRY_INFO!N120>=(COUNTRY_INFO!F120+COUNTRY_INFO!G120),COUNTRY_INFO!F120+COUNTRY_INFO!G120,COUNTRY_INFO!$N120), 0))","v":32701},null,32701,0,91562.799999999988,0,91562.799999999988,null,91562.799999999988,184]
[{"$f":"IF(INTRO!$E$39=\"Non endémique\",\" \",IF(COUNTRY_INFO!A121=0,\" \",COUNTRY_INFO!A121))","v":"Angola"},{"$f":"IF(INTRO!$E$39=\"Non endémique\",\" \",IF(COUNTRY_INFO!B121=0,\" \",COUNTRY_INFO!B121))","v":"LUNDA SUL"},{"$f":"IF(INTRO!$E$39=\"Non endémique\",\" \",IF(COUNTRY_INFO!C121=0,\" \",COUNTRY_INFO!C121))","v":"MUCONDA"},{"$f":"IF(INTRO!$E$39=\"Non endémique\",0,IF(INTRO!$E$39=\"Endémique mais pas de CP\",IF(COUNTRY_INFO!$H121=1,COUNTRY_INFO!F121+COUNTRY_INFO!G121,0),IF(COUNTRY_INFO!$H121=1,COUNTRY_INFO!F121+COUNTRY_INFO!G121,IF(COUNTRY_INFO!$I121=1,IF(COUNTRY_INFO!N121>=(COUNTRY_INFO!F121+COUNTRY_INFO!G121),COUNTRY_INFO!F121+COUNTRY_INFO!G121,COUNTRY_INFO!$N121),0))))","v":36269},{"$f":"IF(AND(INTRO!$E$39=\"Non endémique\",INTRO!$E$37=\"Non endémique\"),\"Non requis\",IF(INTRO!$E$39=\"Non endémique\",\"Traiter avec DEC\",COUNTRY_INFO!Q121))","v":0},{"$f":"IF(INTRO!$E$39<>\"Non endémique\",COUNTRY_INFO!R121,\"Non requis\")","v":1},{"$f":"IF(COUNTRY_INFO!H121=1, IF($E121=1,IF(ALB_MBD!$J121<>\" \",COUNTRY_INFO!F121+COUNTRY_INFO!G121-ALB_MBD!$J121,COUNTRY_INFO!F121+COUNTRY_INFO!G121), 0),0)","v":0},{"$f":"IF(INTRO!$E$39<>\"Endémique\",0, IF(AND(COUNTRY_INFO!$I121=1,$F121<>0),IF(COUNTRY_INFO!N121>=(COUNTRY_INFO!F121+COUNTRY_INFO!G121),COUNTRY_INFO!F121+COUNTRY_INFO!G121,COUNTRY_INFO!$N121), 0))","v":36269},null,36269,0,101553.2,0,101553.2,null,101553.2,204]
[{"$f":"IF(INTRO!$E$39=\"Non endémique\",\" \",IF(COUNTRY_INFO!A122=0,\" \",COUNTRY_INFO!A122))","v":"Angola"},{"$f":"IF(INTRO!$E$39=\"Non endémique\",\" \",IF(COUNTRY_INFO!B122=0,\" \",COUNTRY_INFO!B122))","v":"LUNDA SUL"},{"$f":"IF(INTRO!$E$39=\"Non endémique\",\" \",IF(COUNTRY_INFO!C122=0,\" \",COUNTRY_INFO!C122))","v":"SAURIMO"},{"$f":"IF(INTRO!$E$39=\"Non endémique\",0,IF(INTRO!$E$39=\"Endémique mais pas de CP\",IF(COUNTRY_INFO!$H122=1,COUNTRY_INFO!F122+COUNTRY_INFO!G122,0),IF(COUNTRY_INFO!$H122=1,COUNTRY_INFO!F122+COUNTRY_INFO!G122,IF(COUNTRY_INFO!$I122=1,IF(COUNTRY_INFO!N122>=(COUNTRY_INFO!F122+COUNTRY_INFO!G122),COUNTRY_INFO!F122+COUNTRY_INFO!G122,COUNTRY_INFO!$N122),0))))","v":482401},{"$f":"IF(AND(INTRO!$E$39=\"Non endémique\",INTRO!$E$37=\"Non endémique\"),\"Non requis\",IF(INTRO!$E$39=\"Non endémique\",\"Traiter avec DEC\",COUNTRY_INFO!Q122))","v":1},{"$f":"IF(INTRO!$E$39<>\"Non endémique\",COUNTRY_INFO!R122,\"Non requis\")","v":1},{"$f":"IF(COUNTRY_INFO!H122=1, IF($E122=1,IF(ALB_MBD!$J122<>\" \",COUNTRY_INFO!F122+COUNTRY_INFO!G122-ALB_MBD!$J122,COUNTRY_INFO!F122+COUNTRY_INFO!G122), 0),0)","v":482401},{"$f":"IF(INTRO!$E$39<>\"Endémique\",0, IF(AND(COUNTRY_INFO!$I122=1,$F122<>0),IF(COUNTRY_INFO!N122>=(COUNTRY_INFO!F122+COUNTRY_INFO!G122),COUNTRY_INFO!F122+COUNTRY_INFO!G122,COUNTRY_INFO!$N122), 0))","v":482401},null,482401,0,0,1350722.7999999998,1350722.7999999998,null,1350722.7999999998,2702]
[{"$f":"IF(INTRO!$E$39=\"Non endémique\",\" \",IF(COUNTRY_INFO!A123=0,\" \",COUNTRY_INFO!A123))","v":"Angola"},{"$f":"IF(INTRO!$E$39=\"Non endémique\",\" \",IF(COUNTRY_INFO!B123=0,\" \",COUNTRY_INFO!B123))","v":"MALANJE"},{"$f":"IF(INTRO!$E$39=\"Non endémique\",\" \",IF(COUNTRY_INFO!C123=0,\" \",COUNTRY_INFO!C123))","v":"CACULAMA (Mukari)"},{"$f":"IF(INTRO!$E$39=\"Non endémique\",0,IF(INTRO!$E$39=\"Endémique mais pas de CP\",IF(COUNTRY_INFO!$H123=1,COUNTRY_INFO!F123+COUNTRY_INFO!G123,0),IF(COUNTRY_INFO!$H123=1,COUNTRY_INFO!F123+COUNTRY_INFO!G123,IF(COUNTRY_INFO!$I123=1,IF(COUNTRY_INFO!N123>=(COUNTRY_INFO!F123+COUNTRY_INFO!G123),COUNTRY_INFO!F123+COUNTRY_INFO!G123,COUNTRY_INFO!$N123),0))))","v":32376},{"$f":"IF(AND(INTRO!$E$39=\"Non endémique\",INTRO!$E$37=\"Non endémique\"),\"Non requis\",IF(INTRO!$E$39=\"Non endémique\",\"Traiter avec DEC\",COUNTRY_INFO!Q123))","v":1},{"$f":"IF(INTRO!$E$39<>\"Non endémique\",COUNTRY_INFO!R123,\"Non requis\")","v":0},{"$f":"IF(COUNTRY_INFO!H123=1, IF($E123=1,IF(ALB_MBD!$J123<>\" \",COUNTRY_INFO!F123+COUNTRY_INFO!G123-ALB_MBD!$J123,COUNTRY_INFO!F123+COUNTRY_INFO!G123), 0),0)","v":32376},{"$f":"IF(INTRO!$E$39<>\"Endémique\",0, IF(AND(COUNTRY_INFO!$I123=1,$F123<>0),IF(COUNTRY_INFO!N123>=(COUNTRY_INFO!F123+COUNTRY_INFO!G123),COUNTRY_INFO!F123+COUNTRY_INFO!G123,COUNTRY_INFO!$N123), 0))","v":0},null,0,90652.799999999988,0,0,90652.799999999988,null,90652.799999999988,182]
[{"$f":"IF(INTRO!$E$39=\"Non endémique\",\" \",IF(COUNTRY_INFO!A124=0,\" \",COUNTRY_INFO!A124))","v":"Angola"},{"$f":"IF(INTRO!$E$39=\"Non endémique\",\" \",IF(COUNTRY_INFO!B124=0,\" \",COUNTRY_INFO!B124))","v":"MALANJE"},{"$f":"IF(INTRO!$E$39=\"Non endémique\",\" \",IF(COUNTRY_INFO!C124=0,\" \",COUNTRY_INFO!C124))","v":"CACUSO"},{"$f":"IF(INTRO!$E$39=\"Non endémique\",0,IF(INTRO!$E$39=\"Endémique mais pas de CP\",IF(COUNTRY_INFO!$H124=1,COUNTRY_INFO!F124+COUNTRY_INFO!G124,0),IF(COUNTRY_INFO!$H124=1,COUNTRY_INFO!F124+COUNTRY_INFO!G124,IF(COUNTRY_INFO!$I124=1,IF(COUNTRY_INFO!N124>=(COUNTRY_INFO!F124+COUNTRY_INFO!G124),COUNTRY_INFO!F124+COUNTRY_INFO!G124,COUNTRY_INFO!$N124),0))))","v":0},{"$f":"IF(AND(INTRO!$E$39=\"Non endémique\",INTRO!$E$37=\"Non endémique\"),\"Non requis\",IF(INTRO!$E$39=\"Non endémique\",\"Traiter avec DEC\",COUNTRY_INFO!Q124))","v":0},{"$f":"IF(INTRO!$E$39<>\"Non endémique\",COUNTRY_INFO!R124,\"Non requis\")","v":0},{"$f":"IF(COUNTRY_INFO!H124=1, IF($E124=1,IF(ALB_MBD!$J124<>\" \",COUNTRY_INFO!F124+COUNTRY_INFO!G124-ALB_MBD!$J124,COUNTRY_INFO!F124+COUNTRY_INFO!G124), 0),0)","v":0},{"$f":"IF(INTRO!$E$39<>\"Endémique\",0, IF(AND(COUNTRY_INFO!$I124=1,$F124<>0),IF(COUNTRY_INFO!N124>=(COUNTRY_INFO!F124+COUNTRY_INFO!G124),COUNTRY_INFO!F124+COUNTRY_INFO!G124,COUNTRY_INFO!$N124), 0))","v":0},null,0,0,0,0,0,null,0,0]
[{"$f":"IF(INTRO!$E$39=\"Non endémique\",\" \",IF(COUNTRY_INFO!A125=0,\" \",COUNTRY_INFO!A125))","v":"Angola"},{"$f":"IF(INTRO!$E$39=\"Non endémique\",\" \",IF(COUNTRY_INFO!B125=0,\" \",COUNTRY_INFO!B125))","v":"MALANJE"},{"$f":"IF(INTRO!$E$39=\"Non endémique\",\" \",IF(COUNTRY_INFO!C125=0,\" \",COUNTRY_INFO!C125))","v":"CAMBUNDI CATEMBO"},{"$f":"IF(INTRO!$E$39=\"Non endémique\",0,IF(INTRO!$E$39=\"Endémique mais pas de CP\",IF(COUNTRY_INFO!$H125=1,COUNTRY_INFO!F125+COUNTRY_INFO!G125,0),IF(COUNTRY_INFO!$H125=1,COUNTRY_INFO!F125+COUNTRY_INFO!G125,IF(COUNTRY_INFO!$I125=1,IF(COUNTRY_INFO!N125>=(COUNTRY_INFO!F125+COUNTRY_INFO!G125),COUNTRY_INFO!F125+COUNTRY_INFO!G125,COUNTRY_INFO!$N125),0))))","v":0},{"$f":"IF(AND(INTRO!$E$39=\"Non endémique\",INTRO!$E$37=\"Non endémique\"),\"Non requis\",IF(INTRO!$E$39=\"Non endémique\",\"Traiter avec DEC\",COUNTRY_INFO!Q125))","v":0},{"$f":"IF(INTRO!$E$39<>\"Non endémique\",COUNTRY_INFO!R125,\"Non requis\")","v":0},{"$f":"IF(COUNTRY_INFO!H125=1, IF($E125=1,IF(ALB_MBD!$J125<>\" \",COUNTRY_INFO!F125+COUNTRY_INFO!G125-ALB_MBD!$J125,COUNTRY_INFO!F125+COUNTRY_INFO!G125), 0),0)","v":0},{"$f":"IF(INTRO!$E$39<>\"Endémique\",0, IF(AND(COUNTRY_INFO!$I125=1,$F125<>0),IF(COUNTRY_INFO!N125>=(COUNTRY_INFO!F125+COUNTRY_INFO!G125),COUNTRY_INFO!F125+COUNTRY_INFO!G125,COUNTRY_INFO!$N125), 0))","v":0},null,0,0,0,0,0,null,0,0]
[{"$f":"IF(INTRO!$E$39=\"Non endémique\",\" \",IF(COUNTRY_INFO!A126=0,\" \",COUNTRY_INFO!A126))","v":"Angola"},{"$f":"IF(INTRO!$E$39=\"Non endémique\",\" \",IF(COUNTRY_INFO!B126=0,\" \",COUNTRY_INFO!B126))","v":"MALANJE"},{"$f":"IF(INTRO!$E$39=\"Non endémique\",\" \",IF(COUNTRY_INFO!C126=0,\" \",COUNTRY_INFO!C126))","v":"CANGANDALA"},{"$f":"IF(INTRO!$E$39=\"Non endémique\",0,IF(INTRO!$E$39=\"Endémique mais pas de CP\",IF(COUNTRY_INFO!$H126=1,COUNTRY_INFO!F126+COUNTRY_INFO!G126,0),IF(COUNTRY_INFO!$H126=1,COUNTRY_INFO!F126+COUNTRY_INFO!G126,IF(COUNTRY_INFO!$I126=1,IF(COUNTRY_INFO!N126>=(COUNTRY_INFO!F126+COUNTRY_INFO!G126),COUNTRY_INFO!F126+COUNTRY_INFO!G126,COUNTRY_INFO!$N126),0))))","v":48513},{"$f":"IF(AND(INTRO!$E$39=\"Non endémique\",INTRO!$E$37=\"Non endémique\"),\"Non requis\",IF(INTRO!$E$39=\"Non endémique\",\"Traiter avec DEC\",COUNTRY_INFO!Q126))","v":1},{"$f":"IF(INTRO!$E$39<>\"Non endémique\",COUNTRY_INFO!R126,\"Non requis\")","v":0},{"$f":"IF(COUNTRY_INFO!H126=1, IF($E126=1,IF(ALB_MBD!$J126<>\" \",COUNTRY_INFO!F126+COUNTRY_INFO!G126-ALB_MBD!$J126,COUNTRY_INFO!F126+COUNTRY_INFO!G126), 0),0)","v":48513},{"$f":"IF(INTRO!$E$39<>\"Endémique\",0, IF(AND(COUNTRY_INFO!$I126=1,$F126<>0),IF(COUNTRY_INFO!N126>=(COUNTRY_INFO!F126+COUNTRY_INFO!G126),COUNTRY_INFO!F126+COUNTRY_INFO!G126,COUNTRY_INFO!$N126), 0))","v":0},null,0,135836.4,0,0,135836.4,null,135836.4,272]
[{"$f":"IF(INTRO!$E$39=\"Non endémique\",\" \",IF(COUNTRY_INFO!A127=0,\" \",COUNTRY_INFO!A127))","v":"Angola"},{"$f":"IF(INTRO!$E$39=\"Non endémique\",\" \",IF(COUNTRY_INFO!B127=0,\" \",COUNTRY_INFO!B127))","v":"MALANJE"},{"$f":"IF(INTRO!$E$39=\"Non endémique\",\" \",IF(COUNTRY_INFO!C127=0,\" \",COUNTRY_INFO!C127))","v":"CAHOMBO"},{"$f":"IF(INTRO!$E$39=\"Non endémique\",0,IF(INTRO!$E$39=\"Endémique mais pas de CP\",IF(COUNTRY_INFO!$H127=1,COUNTRY_INFO!F127+COUNTRY_INFO!G127,0),IF(COUNTRY_INFO!$H127=1,COUNTRY_INFO!F127+COUNTRY_INFO!G127,IF(COUNTRY_INFO!$I127=1,IF(COUNTRY_INFO!N127>=(COUNTRY_INFO!F127+COUNTRY_INFO!G127),COUNTRY_INFO!F127+COUNTRY_INFO!G127,COUNTRY_INFO!$N127),0))))","v":0},{"$f":"IF(AND(INTRO!$E$39=\"Non endémique\",INTRO!$E$37=\"Non endémique\"),\"Non requis\",IF(INTRO!$E$39=\"Non endémique\",\"Traiter avec DEC\",COUNTRY_INFO!Q127))","v":0},{"$f":"IF(INTRO!$E$39<>\"Non endémique\",COUNTRY_INFO!R127,\"Non requis\")","v":0},{"$f":"IF(COUNTRY_INFO!H127=1, IF($E127=1,IF(ALB_MBD!$J127<>\" \",COUNTRY_INFO!F127+COUNTRY_INFO!G127-ALB_MBD!$J127,COUNTRY_INFO!F127+COUNTRY_INFO!G127), 0),0)","v":0},{"$f":"IF(INTRO!$E$39<>\"Endémique\",0, IF(AND(COUNTRY_INFO!$I127=1,$F127<>0),IF(COUNTRY_INFO!N127>=(COUNTRY_INFO!F127+COUNTRY_INFO!G127),COUNTRY_INFO!F127+COUNTRY_INFO!G127,COUNTRY_INFO!$N127), 0))","v":0},null,0,0,0,0,0,null,0,0]
[{"$f":"IF(INTRO!$E$39=\"Non endémique\",\" \",IF(COUNTRY_INFO!A128=0,\" \",COUNTRY_INFO!A128))","v":"Angola"},{"$f":"IF(INTRO!$E$39=\"Non endémique\",\" \",IF(COUNTRY_INFO!B128=0,\" \",COUNTRY_INFO!B128))","v":"MALANJE"},{"$f":"IF(INTRO!$E$39=\"Non endémique\",\" \",IF(COUNTRY_INFO!C128=0,\" \",COUNTRY_INFO!C128))","v":"CALANDULA"},{"$f":"IF(INTRO!$E$39=\"Non endémique\",0,IF(INTRO!$E$39=\"Endémique mais pas de CP\",IF(COUNTRY_INFO!$H128=1,COUNTRY_INFO!F128+COUNTRY_INFO!G128,0),IF(COUNTRY_INFO!$H128=1,COUNTRY_INFO!F128+COUNTRY_INFO!G128,IF(COUNTRY_INFO!$I128=1,IF(COUNTRY_INFO!N128>=(COUNTRY_INFO!F128+COUNTRY_INFO!G128),COUNTRY_INFO!F128+COUNTRY_INFO!G128,COUNTRY_INFO!$N128),0))))","v":0},{"$f":"IF(AND(INTRO!$E$39=\"Non endémique\",INTRO!$E$37=\"Non endémique\"),\"Non requis\",IF(INTRO!$E$39=\"Non endémique\",\"Traiter avec DEC\",COUNTRY_INFO!Q128))","v":0},{"$f":"IF(INTRO!$E$39<>\"Non endémique\",COUNTRY_INFO!R128,\"Non requis\")","v":0},{"$f":"IF(COUNTRY_INFO!H128=1, IF($E128=1,IF(ALB_MBD!$J128<>\" \",COUNTRY_INFO!F128+COUNTRY_INFO!G128-ALB_MBD!$J128,COUNTRY_INFO!F128+COUNTRY_INFO!G128), 0),0)","v":0},{"$f":"IF(INTRO!$E$39<>\"Endémique\",0, IF(AND(COUNTRY_INFO!$I128=1,$F128<>0),IF(COUNTRY_INFO!N128>=(COUNTRY_INFO!F128+COUNTRY_INFO!G128),COUNTRY_INFO!F128+COUNTRY_INFO!G128,COUNTRY_INFO!$N128), 0))","v":0},null,0,0,0,0,0,null,0,0]
[{"$f":"IF(INTRO!$E$39=\"Non endémique\",\" \",IF(COUNTRY_INFO!A129=0,\" \",COUNTRY_INFO!A129))","v":"Angola"},{"$f":"IF(INTRO!$E$39=\"Non endémique\",\" \",IF(COUNTRY_INFO!B129=0,\" \",COUNTRY_INFO!B129))","v":"MALANJE"},{"$f":"IF(INTRO!$E$39=\"Non endémique\",\" \",IF(COUNTRY_INFO!C129=0,\" \",COUNTRY_INFO!C129))","v":"KIWABA NZOJI"},{"$f":"IF(INTRO!$E$39=\"Non endémique\",0,IF(INTRO!$E$39=\"Endémique mais pas de CP\",IF(COUNTRY_INFO!$H129=1,COUNTRY_INFO!F129+COUNTRY_INFO!G129,0),IF(COUNTRY_INFO!$H129=1,COUNTRY_INFO!F129+COUNTRY_INFO!G129,IF(COUNTRY_INFO!$I129=1,IF(COUNTRY_INFO!N129>=(COUNTRY_INFO!F129+COUNTRY_INFO!G129),COUNTRY_INFO!F129+COUNTRY_INFO!G129,COUNTRY_INFO!$N129),0))))","v":0},{"$f":"IF(AND(INTRO!$E$39=\"Non endémique\",INTRO!$E$37=\"Non endémique\"),\"Non requis\",IF(INTRO!$E$39=\"Non endémique\",\"Traiter avec DEC\",COUNTRY_INFO!Q129))","v":0},{"$f":"IF(INTRO!$E$39<>\"Non endémique\",COUNTRY_INFO!R129,\"Non requis\")","v":0},{"$f":"IF(COUNTRY_INFO!H129=1, IF($E129=1,IF(ALB_MBD!$J129<>\" \",COUNTRY_INFO!F129+COUNTRY_INFO!G129-ALB_MBD!$J129,COUNTRY_INFO!F129+COUNTRY_INFO!G129), 0),0)","v":0},{"$f":"IF(INTRO!$E$39<>\"Endémique\",0, IF(AND(COUNTRY_INFO!$I129=1,$F129<>0),IF(COUNTRY_INFO!N129>=(COUNTRY_INFO!F129+COUNTRY_INFO!G129),COUNTRY_INFO!F129+COUNTRY_INFO!G129,COUNTRY_INFO!$N129), 0))","v":0},null,0,0,0,0,0,null,0,0]
[{"$f":"IF(INTRO!$E$39=\"Non endémique\",\" \",IF(COUNTRY_INFO!A130=0,\" \",COUNTRY_INFO!A130))","v":"Angola"},{"$f":"IF(INTRO!$E$39=\"Non endémique\",\" \",IF(COUNTRY_INFO!B130=0,\" \",COUNTRY_INFO!B130))","v":"MALANJE"},{"$f":"IF(INTRO!$E$39=\"Non endémique\",\" \",IF(COUNTRY_INFO!C130=0,\" \",COUNTRY_INFO!C130))","v":"KUNDA DYA BASE"},{"$f":"IF(INTRO!$E$39=\"Non endémique\",0,IF(INTRO!$E$39=\"Endémique mais pas de CP\",IF(COUNTRY_INFO!$H130=1,COUNTRY_INFO!F130+COUNTRY_INFO!G130,0),IF(COUNTRY_INFO!$H130=1,COUNTRY_INFO!F130+COUNTRY_INFO!G130,IF(COUNTRY_INFO!$I130=1,IF(COUNTRY_INFO!N130>=(COUNTRY_INFO!F130+COUNTRY_INFO!G130),COUNTRY_INFO!F130+COUNTRY_INFO!G130,COUNTRY_INFO!$N130),0))))","v":13570},{"$f":"IF(AND(INTRO!$E$39=\"Non endémique\",INTRO!$E$37=\"Non endémique\"),\"Non requis\",IF(INTRO!$E$39=\"Non endémique\",\"Traiter avec DEC\",COUNTRY_INFO!Q130))","v":1},{"$f":"IF(INTRO!$E$39<>\"Non endémique\",COUNTRY_INFO!R130,\"Non requis\")","v":0},{"$f":"IF(COUNTRY_INFO!H130=1, IF($E130=1,IF(ALB_MBD!$J130<>\" \",COUNTRY_INFO!F130+COUNTRY_INFO!G130-ALB_MBD!$J130,COUNTRY_INFO!F130+COUNTRY_INFO!G130), 0),0)","v":13570},{"$f":"IF(INTRO!$E$39<>\"Endémique\",0, IF(AND(COUNTRY_INFO!$I130=1,$F130<>0),IF(COUNTRY_INFO!N130>=(COUNTRY_INFO!F130+COUNTRY_INFO!G130),COUNTRY_INFO!F130+COUNTRY_INFO!G130,COUNTRY_INFO!$N130), 0))","v":0},null,0,37996,0,0,37996,null,37996,76]
[{"$f":"IF(INTRO!$E$39=\"Non endémique\",\" \",IF(COUNTRY_INFO!A131=0,\" \",COUNTRY_INFO!A131))","v":"Angola"},{"$f":"IF(INTRO!$E$39=\"Non endémique\",\" \",IF(COUNTRY_INFO!B131=0,\" \",COUNTRY_INFO!B131))","v":"MALANJE"},{"$f":"IF(INTRO!$E$39=\"Non endémique\",\" \",IF(COUNTRY_INFO!C131=0,\" \",COUNTRY_INFO!C131))","v":"LUQUEMBO"},{"$f":"IF(INTRO!$E$39=\"Non endémique\",0,IF(INTRO!$E$39=\"Endémique mais pas de CP\",IF(COUNTRY_INFO!$H131=1,COUNTRY_INFO!F131+COUNTRY_INFO!G131,0),IF(COUNTRY_INFO!$H131=1,COUNTRY_INFO!F131+COUNTRY_INFO!G131,IF(COUNTRY_INFO!$I131=1,IF(COUNTRY_INFO!N131>=(COUNTRY_INFO!F131+COUNTRY_INFO!G131),COUNTRY_INFO!F131+COUNTRY_INFO!G131,COUNTRY_INFO!$N131),0))))","v":0},{"$f":"IF(AND(INTRO!$E$39=\"Non endémique\",INTRO!$E$37=\"Non endémique\"),\"Non requis\",IF(INTRO!$E$39=\"Non endémique\",\"Traiter avec DEC\",COUNTRY_INFO!Q131))","v":0},{"$f":"IF(INTRO!$E$39<>\"Non endémique\",COUNTRY_INFO!R131,\"Non requis\")","v":0},{"$f":"IF(COUNTRY_INFO!H131=1, IF($E131=1,IF(ALB_MBD!$J131<>\" \",COUNTRY_INFO!F131+COUNTRY_INFO!G131-ALB_MBD!$J131,COUNTRY_INFO!F131+COUNTRY_INFO!G131), 0),0)","v":0},{"$f":"IF(INTRO!$E$39<>\"Endémique\",0, IF(AND(COUNTRY_INFO!$I131=1,$F131<>0),IF(COUNTRY_INFO!N131>=(COUNTRY_INFO!F131+COUNTRY_INFO!G131),COUNTRY_INFO!F131+COUNTRY_INFO!G131,COUNTRY_INFO!$N131), 0))","v":0},null,0,0,0,0,0,null,0,0]
[{"$f":"IF(INTRO!$E$39=\"Non endémique\",\" \",IF(COUNTRY_INFO!A132=0,\" \",COUNTRY_INFO!A132))","v":"Angola"},{"$f":"IF(INTRO!$E$39=\"Non endémique\",\" \",IF(COUNTRY_INFO!B132=0,\" \",COUNTRY_INFO!B132))","v":"MALANJE"},{"$f":"IF(INTRO!$E$39=\"Non endémique\",\" \",IF(COUNTRY_INFO!C132=0,\" \",COUNTRY_INFO!C132))","v":"MALANJE"},{"$f":"IF(INTRO!$E$39=\"Non endémique\",0,IF(INTRO!$E$39=\"Endémique mais pas de CP\",IF(COUNTRY_INFO!$H132=1,COUNTRY_INFO!F132+COUNTRY_INFO!G132,0),IF(COUNTRY_INFO!$H132=1,COUNTRY_INFO!F132+COUNTRY_INFO!G132,IF(COUNTRY_INFO!$I132=1,IF(COUNTRY_INFO!N132>=(COUNTRY_INFO!F132+COUNTRY_INFO!G132),COUNTRY_INFO!F132+COUNTRY_INFO!G132,COUNTRY_INFO!$N132),0))))","v":0},{"$f":"IF(AND(INTRO!$E$39=\"Non endémique\",INTRO!$E$37=\"Non endémique\"),\"Non requis\",IF(INTRO!$E$39=\"Non endémique\",\"Traiter avec DEC\",COUNTRY_INFO!Q132))","v":0},{"$f":"IF(INTRO!$E$39<>\"Non endémique\",COUNTRY_INFO!R132,\"Non requis\")","v":0},{"$f":"IF(COUNTRY_INFO!H132=1, IF($E132=1,IF(ALB_MBD!$J132<>\" \",COUNTRY_INFO!F132+COUNTRY_INFO!G132-ALB_MBD!$J132,COUNTRY_INFO!F132+COUNTRY_INFO!G132), 0),0)","v":0},{"$f":"IF(INTRO!$E$39<>\"Endémique\",0, IF(AND(COUNTRY_INFO!$I132=1,$F132<>0),IF(COUNTRY_INFO!N132>=(COUNTRY_INFO!F132+COUNTRY_INFO!G132),COUNTRY_INFO!F132+COUNTRY_INFO!G132,COUNTRY_INFO!$N132), 0))","v":0},null,0,0,0,0,0,null,0,0]
[{"$f":"IF(INTRO!$E$39=\"Non endémique\",\" \",IF(COUNTRY_INFO!A133=0,\" \",COUNTRY_INFO!A133))","v":"Angola"},{"$f":"IF(INTRO!$E$39=\"Non endémique\",\" \",IF(COUNTRY_INFO!B133=0,\" \",COUNTRY_INFO!B133))","v":"MALANJE"},{"$f":"IF(INTRO!$E$39=\"Non endémique\",\" \",IF(COUNTRY_INFO!C133=0,\" \",COUNTRY_INFO!C133))","v":"MARIMBA"},{"$f":"IF(INTRO!$E$39=\"Non endémique\",0,IF(INTRO!$E$39=\"Endémique mais pas de CP\",IF(COUNTRY_INFO!$H133=1,COUNTRY_INFO!F133+COUNTRY_INFO!G133,0),IF(COUNTRY_INFO!$H133=1,COUNTRY_INFO!F133+COUNTRY_INFO!G133,IF(COUNTRY_INFO!$I133=1,IF(COUNTRY_INFO!N133>=(COUNTRY_INFO!F133+COUNTRY_INFO!G133),COUNTRY_INFO!F133+COUNTRY_INFO!G133,COUNTRY_INFO!$N133),0))))","v":28149},{"$f":"IF(AND(INTRO!$E$39=\"Non endémique\",INTRO!$E$37=\"Non endémique\"),\"Non requis\",IF(INTRO!$E$39=\"Non endémique\",\"Traiter avec DEC\",COUNTRY_INFO!Q133))","v":1},{"$f":"IF(INTRO!$E$39<>\"Non endémique\",COUNTRY_INFO!R133,\"Non requis\")","v":0},{"$f":"IF(COUNTRY_INFO!H133=1, IF($E133=1,IF(ALB_MBD!$J133<>\" \",COUNTRY_INFO!F133+COUNTRY_INFO!G133-ALB_MBD!$J133,COUNTRY_INFO!F133+COUNTRY_INFO!G133), 0),0)","v":28149},{"$f":"IF(INTRO!$E$39<>\"Endémique\",0, IF(AND(COUNTRY_INFO!$I133=1,$F133<>0),IF(COUNTRY_INFO!N133>=(COUNTRY_INFO!F133+COUNTRY_INFO!G133),COUNTRY_INFO!F133+COUNTRY_INFO!G133,COUNTRY_INFO!$N133), 0))","v":0},null,0,78817.2,0,0,78817.2,null,78817.2,158]
[{"$f":"IF(INTRO!$E$39=\"Non endémique\",\" \",IF(COUNTRY_INFO!A134=0,\" \",COUNTRY_INFO!A134))","v":"Angola"},{"$f":"IF(INTRO!$E$39=\"Non endémique\",\" \",IF(COUNTRY_INFO!B134=0,\" \",COUNTRY_INFO!B134))","v":"MALANJE"},{"$f":"IF(INTRO!$E$39=\"Non endémique\",\" \",IF(COUNTRY_INFO!C134=0,\" \",COUNTRY_INFO!C134))","v":"MASSANGO"},{"$f":"IF(INTRO!$E$39=\"Non endémique\",0,IF(INTRO!$E$39=\"Endémique mais pas de CP\",IF(COUNTRY_INFO!$H134=1,COUNTRY_INFO!F134+COUNTRY_INFO!G134,0),IF(COUNTRY_INFO!$H134=1,COUNTRY_INFO!F134+COUNTRY_INFO!G134,IF(COUNTRY_INFO!$I134=1,IF(COUNTRY_INFO!N134>=(COUNTRY_INFO!F134+COUNTRY_INFO!G134),COUNTRY_INFO!F134+COUNTRY_INFO!G134,COUNTRY_INFO!$N134),0))))","v":0},{"$f":"IF(AND(INTRO!$E$39=\"Non endémique\",INTRO!$E$37=\"Non endémique\"),\"Non requis\",IF(INTRO!$E$39=\"Non endémique\",\"Traiter avec DEC\",COUNTRY_INFO!Q134))","v":0},{"$f":"IF(INTRO!$E$39<>\"Non endémique\",COUNTRY_INFO!R134,\"Non requis\")","v":0},{"$f":"IF(COUNTRY_INFO!H134=1, IF($E134=1,IF(ALB_MBD!$J134<>\" \",COUNTRY_INFO!F134+COUNTRY_INFO!G134-ALB_MBD!$J134,COUNTRY_INFO!F134+COUNTRY_INFO!G134), 0),0)","v":0},{"$f":"IF(INTRO!$E$39<>\"Endémique\",0, IF(AND(COUNTRY_INFO!$I134=1,$F134<>0),IF(COUNTRY_INFO!N134>=(COUNTRY_INFO!F134+COUNTRY_INFO!G134),COUNTRY_INFO!F134+COUNTRY_INFO!G134,COUNTRY_INFO!$N134), 0))","v":0},null,0,0,0,0,0,null,0,0]
[{"$f":"IF(INTRO!$E$39=\"Non endémique\",\" \",IF(COUNTRY_INFO!A135=0,\" \",COUNTRY_INFO!A135))","v":"Angola"},{"$f":"IF(INTRO!$E$39=\"Non endémique\",\" \",IF(COUNTRY_INFO!B135=0,\" \",COUNTRY_INFO!B135))","v":"MALANJE"},{"$f":"IF(INTRO!$E$39=\"Non endémique\",\" \",IF(COUNTRY_INFO!C135=0,\" \",COUNTRY_INFO!C135))","v":"QUELA"},{"$f":"IF(INTRO!$E$39=\"Non endémique\",0,IF(INTRO!$E$39=\"Endémique mais pas de CP\",IF(COUNTRY_INFO!$H135=1,COUNTRY_INFO!F135+COUNTRY_INFO!G135,0),IF(COUNTRY_INFO!$H135=1,COUNTRY_INFO!F135+COUNTRY_INFO!G135,IF(COUNTRY_INFO!$I135=1,IF(COUNTRY_INFO!N135>=(COUNTRY_INFO!F135+COUNTRY_INFO!G135),COUNTRY_INFO!F135+COUNTRY_INFO!G135,COUNTRY_INFO!$N135),0))))","v":22525},{"$f":"IF(AND(INTRO!$E$39=\"Non endémique\",INTRO!$E$37=\"Non endémique\"),\"Non requis\",IF(INTRO!$E$39=\"Non endémique\",\"Traiter avec DEC\",COUNTRY_INFO!Q135))","v":1},{"$f":"IF(INTRO!$E$39<>\"Non endémique\",COUNTRY_INFO!R135,\"Non requis\")","v":0},{"$f":"IF(COUNTRY_INFO!H135=1, IF($E135=1,IF(ALB_MBD!$J135<>\" \",COUNTRY_INFO!F135+COUNTRY_INFO!G135-ALB_MBD!$J135,COUNTRY_INFO!F135+COUNTRY_INFO!G135), 0),0)","v":22525},{"$f":"IF(INTRO!$E$39<>\"Endémique\",0, IF(AND(COUNTRY_INFO!$I135=1,$F135<>0),IF(COUNTRY_INFO!N135>=(COUNTRY_INFO!F135+COUNTRY_INFO!G135),COUNTRY_INFO!F135+COUNTRY_INFO!G135,COUNTRY_INFO!$N135), 0))","v":0},null,0,63069.999999999993,0,0,63069.999999999993,null,63069.999999999993,127]
[{"$f":"IF(INTRO!$E$39=\"Non endémique\",\" \",IF(COUNTRY_INFO!A136=0,\" \",COUNTRY_INFO!A136))","v":"Angola"},{"$f":"IF(INTRO!$E$39=\"Non endémique\",\" \",IF(COUNTRY_INFO!B136=0,\" \",COUNTRY_INFO!B136))","v":"MALANJE"},{"$f":"IF(INTRO!$E$39=\"Non endémique\",\" \",IF(COUNTRY_INFO!C136=0,\" \",COUNTRY_INFO!C136))","v":"QUIRIMA"},{"$f":"IF(INTRO!$E$39=\"Non endémique\",0,IF(INTRO!$E$39=\"Endémique mais pas de CP\",IF(COUNTRY_INFO!$H136=1,COUNTRY_INFO!F136+COUNTRY_INFO!G136,0),IF(COUNTRY_INFO!$H136=1,COUNTRY_INFO!F136+COUNTRY_INFO!G136,IF(COUNTRY_INFO!$I136=1,IF(COUNTRY_INFO!N136>=(COUNTRY_INFO!F136+COUNTRY_INFO!G136),COUNTRY_INFO!F136+COUNTRY_INFO!G136,COUNTRY_INFO!$N136),0))))","v":0},{"$f":"IF(AND(INTRO!$E$39=\"Non endémique\",INTRO!$E$37=\"Non endémique\"),\"Non requis\",IF(INTRO!$E$39=\"Non endémique\",\"Traiter avec DEC\",COUNTRY_INFO!Q136))","v":0},{"$f":"IF(INTRO!$E$39<>\"Non endémique\",COUNTRY_INFO!R136,\"Non requis\")","v":0},{"$f":"IF(COUNTRY_INFO!H136=1, IF($E136=1,IF(ALB_MBD!$J136<>\" \",COUNTRY_INFO!F136+COUNTRY_INFO!G136-ALB_MBD!$J136,COUNTRY_INFO!F136+COUNTRY_INFO!G136), 0),0)","v":0},{"$f":"IF(INTRO!$E$39<>\"Endémique\",0, IF(AND(COUNTRY_INFO!$I136=1,$F136<>0),IF(COUNTRY_INFO!N136>=(COUNTRY_INFO!F136+COUNTRY_INFO!G136),COUNTRY_INFO!F136+COUNTRY_INFO!G136,COUNTRY_INFO!$N136), 0))","v":0},null,0,0,0,0,0,null,0,0]
[{"$f":"IF(INTRO!$E$39=\"Non endémique\",\" \",IF(COUNTRY_INFO!A137=0,\" \",COUNTRY_INFO!A137))","v":"Angola"},{"$f":"IF(INTRO!$E$39=\"Non endémique\",\" \",IF(COUNTRY_INFO!B137=0,\" \",COUNTRY_INFO!B137))","v":"MOXICO"},{"$f":"IF(INTRO!$E$39=\"Non endémique\",\" \",IF(COUNTRY_INFO!C137=0,\" \",COUNTRY_INFO!C137))","v":"ALTO ZAMBEZE"},{"$f":"IF(INTRO!$E$39=\"Non endémique\",0,IF(INTRO!$E$39=\"Endémique mais pas de CP\",IF(COUNTRY_INFO!$H137=1,COUNTRY_INFO!F137+COUNTRY_INFO!G137,0),IF(COUNTRY_INFO!$H137=1,COUNTRY_INFO!F137+COUNTRY_INFO!G137,IF(COUNTRY_INFO!$I137=1,IF(COUNTRY_INFO!N137>=(COUNTRY_INFO!F137+COUNTRY_INFO!G137),COUNTRY_INFO!F137+COUNTRY_INFO!G137,COUNTRY_INFO!$N137),0))))","v":0},{"$f":"IF(AND(INTRO!$E$39=\"Non endémique\",INTRO!$E$37=\"Non endémique\"),\"Non requis\",IF(INTRO!$E$39=\"Non endémique\",\"Traiter avec DEC\",COUNTRY_INFO!Q137))","v":0},{"$f":"IF(INTRO!$E$39<>\"Non endémique\",COUNTRY_INFO!R137,\"Non requis\")","v":0},{"$f":"IF(COUNTRY_INFO!H137=1, IF($E137=1,IF(ALB_MBD!$J137<>\" \",COUNTRY_INFO!F137+COUNTRY_INFO!G137-ALB_MBD!$J137,COUNTRY_INFO!F137+COUNTRY_INFO!G137), 0),0)","v":0},{"$f":"IF(INTRO!$E$39<>\"Endémique\",0, IF(AND(COUNTRY_INFO!$I137=1,$F137<>0),IF(COUNTRY_INFO!N137>=(COUNTRY_INFO!F137+COUNTRY_INFO!G137),COUNTRY_INFO!F137+COUNTRY_INFO!G137,COUNTRY_INFO!$N137), 0))","v":0},null,{"$f":"IF(I137=0,H137,IF(I137>H137,H137,I137))","v":0},{"$f":"IF(G137<J137,0,IF($E137=1, (G137-J137)*2.8, 0))","v":0},{"$f":"IF($E137<$F137, J137*(F137-E137)*2.8, 0)","v":0},{"$f":"IF(AND($E137=1, $F137<>0), J137*2.8, 0)","v":0},{"$f":"SUM(K137:M137)","v":0},null,{"$f":"IF($N137>$O137,$N137-$O137,0)","v":0},{"$f":"ROUNDUP($N137/500,0)","v":0}]
[{"$f":"IF(INTRO!$E$39=\"Non endémique\",\" \",IF(COUNTRY_INFO!A138=0,\" \",COUNTRY_INFO!A138))","v":"Angola"},{"$f":"IF(INTRO!$E$39=\"Non endémique\",\" \",IF(COUNTRY_INFO!B138=0,\" \",COUNTRY_INFO!B138))","v":"MOXICO"},{"$f":"IF(INTRO!$E$39=\"Non endémique\",\" \",IF(COUNTRY_INFO!C138=0,\" \",COUNTRY_INFO!C138))","v":"CAMANONGUE"},{"$f":"IF(INTRO!$E$39=\"Non endémique\",0,IF(INTRO!$E$39=\"Endémique mais pas de CP\",IF(COUNTRY_INFO!$H138=1,COUNTRY_INFO!F138+COUNTRY_INFO!G138,0),IF(COUNTRY_INFO!$H138=1,COUNTRY_INFO!F138+COUNTRY_INFO!G138,IF(COUNTRY_INFO!$I138=1,IF(COUNTRY_INFO!N138>=(COUNTRY_INFO!F138+COUNTRY_INFO!G138),COUNTRY_INFO!F138+COUNTRY_INFO!G138,COUNTRY_INFO!$N138),0))))","v":36901},{"$f":"IF(AND(INTRO!$E$39=\"Non endémique\",INTRO!$E$37=\"Non endémique\"),\"Non requis\",IF(INTRO!$E$39=\"Non endémique\",\"Traiter avec DEC\",COUNTRY_INFO!Q138))","v":0},{"$f":"IF(INTRO!$E$39<>\"Non endémique\",COUNTRY_INFO!R138,\"Non requis\")","v":1},{"$f":"IF(COUNTRY_INFO!H138=1, IF($E138=1,IF(ALB_MBD!$J138<>\" \",COUNTRY_INFO!F138+COUNTRY_INFO!G138-ALB_MBD!$J138,COUNTRY_INFO!F138+COUNTRY_INFO!G138), 0),0)","v":0},{"$f":"IF(INTRO!$E$39<>\"Endémique\",0, IF(AND(COUNTRY_INFO!$I138=1,$F138<>0),IF(COUNTRY_INFO!N138>=(COUNTRY_INFO!F138+COUNTRY_INFO!G138),COUNTRY_INFO!F138+COUNTRY_INFO!G138,COUNTRY_INFO!$N138), 0))","v":36901},null,36901,0,103322.79999999999,0,103322.79999999999,null,103322.79999999999,207]
[{"$f":"IF(INTRO!$E$39=\"Non endémique\",\" \",IF(COUNTRY_INFO!A139=0,\" \",COUNTRY_INFO!A139))","v":"Angola"},{"$f":"IF(INTRO!$E$39=\"Non endémique\",\" \",IF(COUNTRY_INFO!B139=0,\" \",COUNTRY_INFO!B139))","v":"MOXICO"},{"$f":"IF(INTRO!$E$39=\"Non endémique\",\" \",IF(COUNTRY_INFO!C139=0,\" \",COUNTRY_INFO!C139))","v":"LEUA"},{"$f":"IF(INTRO!$E$39=\"Non endémique\",0,IF(INTRO!$E$39=\"Endémique mais pas de CP\",IF(COUNTRY_INFO!$H139=1,COUNTRY_INFO!F139+COUNTRY_INFO!G139,0),IF(COUNTRY_INFO!$H139=1,COUNTRY_INFO!F139+COUNTRY_INFO!G139,IF(COUNTRY_INFO!$I139=1,IF(COUNTRY_INFO!N139>=(COUNTRY_INFO!F139+COUNTRY_INFO!G139),COUNTRY_INFO!F139+COUNTRY_INFO!G139,COUNTRY_INFO!$N139),0))))","v":35054},{"$f":"IF(AND(INTRO!$E$39=\"Non endémique\",INTRO!$E$37=\"Non endémique\"),\"Non requis\",IF(INTRO!$E$39=\"Non endémique\",\"Traiter avec DEC\",COUNTRY_INFO!Q139))","v":0},{"$f":"IF(INTRO!$E$39<>\"Non endémique\",COUNTRY_INFO!R139,\"Non requis\")","v":1},{"$f":"IF(COUNTRY_INFO!H139=1, IF($E139=1,IF(ALB_MBD!$J139<>\" \",COUNTRY_INFO!F139+COUNTRY_INFO!G139-ALB_MBD!$J139,COUNTRY_INFO!F139+COUNTRY_INFO!G139), 0),0)","v":0},{"$f":"IF(INTRO!$E$39<>\"Endémique\",0, IF(AND(COUNTRY_INFO!$I139=1,$F139<>0),IF(COUNTRY_INFO!N139>=(COUNTRY_INFO!F139+COUNTRY_INFO!G139),COUNTRY_INFO!F139+COUNTRY_INFO!G139,COUNTRY_INFO!$N139), 0))","v":35054},null,35054,0,98151.2,0,98151.2,null,98151.2,197]
[{"$f":"IF(INTRO!$E$39=\"Non endémique\",\" \",IF(COUNTRY_INFO!A140=0,\" \",COUNTRY_INFO!A140))","v":"Angola"},{"$f":"IF(INTRO!$E$39=\"Non endémique\",\" \",IF(COUNTRY_INFO!B140=0,\" \",COUNTRY_INFO!B140))","v":"MOXICO"},{"$f":"IF(INTRO!$E$39=\"Non endémique\",\" \",IF(COUNTRY_INFO!C140=0,\" \",COUNTRY_INFO!C140))","v":"LUACANO"},{"$f":"IF(INTRO!$E$39=\"Non endémique\",0,IF(INTRO!$E$39=\"Endémique mais pas de CP\",IF(COUNTRY_INFO!$H140=1,COUNTRY_INFO!F140+COUNTRY_INFO!G140,0),IF(COUNTRY_INFO!$H140=1,COUNTRY_INFO!F140+COUNTRY_INFO!G140,IF(COUNTRY_INFO!$I140=1,IF(COUNTRY_INFO!N140>=(COUNTRY_INFO!F140+COUNTRY_INFO!G140),COUNTRY_INFO!F140+COUNTRY_INFO!G140,COUNTRY_INFO!$N140),0))))","v":22415},{"$f":"IF(AND(INTRO!$E$39=\"Non endémique\",INTRO!$E$37=\"Non endémique\"),\"Non requis\",IF(INTRO!$E$39=\"Non endémique\",\"Traiter avec DEC\",COUNTRY_INFO!Q140))","v":0},{"$f":"IF(INTRO!$E$39<>\"Non endémique\",COUNTRY_INFO!R140,\"Non requis\")","v":1},{"$f":"IF(COUNTRY_INFO!H140=1, IF($E140=1,IF(ALB_MBD!$J140<>\" \",COUNTRY_INFO!F140+COUNTRY_INFO!G140-ALB_MBD!$J140,COUNTRY_INFO!F140+COUNTRY_INFO!G140), 0),0)","v":0},{"$f":"IF(INTRO!$E$39<>\"Endémique\",0, IF(AND(COUNTRY_INFO!$I140=1,$F140<>0),IF(COUNTRY_INFO!N140>=(COUNTRY_INFO!F140+COUNTRY_INFO!G140),COUNTRY_INFO!F140+COUNTRY_INFO!G140,COUNTRY_INFO!$N140), 0))","v":22415},null,22415,0,62761.999999999993,0,62761.999999999993,null,62761.999999999993,126]
[{"$f":"IF(INTRO!$E$39=\"Non endémique\",\" \",IF(COUNTRY_INFO!A141=0,\" \",COUNTRY_INFO!A141))","v":"Angola"},{"$f":"IF(INTRO!$E$39=\"Non endémique\",\" \",IF(COUNTRY_INFO!B141=0,\" \",COUNTRY_INFO!B141))","v":"MOXICO"},{"$f":"IF(INTRO!$E$39=\"Non endémique\",\" \",IF(COUNTRY_INFO!C141=0,\" \",COUNTRY_INFO!C141))","v":"LUAU"},{"$f":"IF(INTRO!$E$39=\"Non endémique\",0,IF(INTRO!$E$39=\"Endémique mais pas de CP\",IF(COUNTRY_INFO!$H141=1,COUNTRY_INFO!F141+COUNTRY_INFO!G141,0),IF(COUNTRY_INFO!$H141=1,COUNTRY_INFO!F141+COUNTRY_INFO!G141,IF(COUNTRY_INFO!$I141=1,IF(COUNTRY_INFO!N141>=(COUNTRY_INFO!F141+COUNTRY_INFO!G141),COUNTRY_INFO!F141+COUNTRY_INFO!G141,COUNTRY_INFO!$N141),0))))","v":0},{"$f":"IF(AND(INTRO!$E$39=\"Non endémique\",INTRO!$E$37=\"Non endémique\"),\"Non requis\",IF(INTRO!$E$39=\"Non endémique\",\"Traiter avec DEC\",COUNTRY_INFO!Q141))","v":0},{"$f":"IF(INTRO!$E$39<>\"Non endémique\",COUNTRY_INFO!R141,\"Non requis\")","v":0},{"$f":"IF(COUNTRY_INFO!H141=1, IF($E141=1,IF(ALB_MBD!$J141<>\" \",COUNTRY_INFO!F141+COUNTRY_INFO!G141-ALB_MBD!$J141,COUNTRY_INFO!F141+COUNTRY_INFO!G141), 0),0)","v":0},{"$f":"IF(INTRO!$E$39<>\"Endémique\",0, IF(AND(COUNTRY_INFO!$I141=1,$F141<>0),IF(COUNTRY_INFO!N141>=(COUNTRY_INFO!F141+COUNTRY_INFO!G141),COUNTRY_INFO!F141+COUNTRY_INFO!G141,COUNTRY_INFO!$N141), 0))","v":0},null,0,0,0,0,0,null,0,0]
[{"$f":"IF(INTRO!$E$39=\"Non endémique\",\" \",IF(COUNTRY_INFO!A142=0,\" \",COUNTRY_INFO!A142))","v":"Angola"},{"$f":"IF(INTRO!$E$39=\"Non endémique\",\" \",IF(COUNTRY_INFO!B142=0,\" \",COUNTRY_INFO!B142))","v":"MOXICO"},{"$f":"IF(INTRO!$E$39=\"Non endémique\",\" \",IF(COUNTRY_INFO!C142=0,\" \",COUNTRY_INFO!C142))","v":"LUCHAZES"},{"$f":"IF(INTRO!$E$39=\"Non endémique\",0,IF(INTRO!$E$39=\"Endémique mais pas de CP\",IF(COUNTRY_INFO!$H142=1,COUNTRY_INFO!F142+COUNTRY_INFO!G142,0),IF(COUNTRY_INFO!$H142=1,COUNTRY_INFO!F142+COUNTRY_INFO!G142,IF(COUNTRY_INFO!$I142=1,IF(COUNTRY_INFO!N142>=(COUNTRY_INFO!F142+COUNTRY_INFO!G142),COUNTRY_INFO!F142+COUNTRY_INFO!G142,COUNTRY_INFO!$N142),0))))","v":0},{"$f":"IF(AND(INTRO!$E$39=\"Non endémique\",INTRO!$E$37=\"Non endémique\"),\"Non requis\",IF(INTRO!$E$39=\"Non endémique\",\"Traiter avec DEC\",COUNTRY_INFO!Q142))","v":0},{"$f":"IF(INTRO!$E$39<>\"Non endémique\",COUNTRY_INFO!R142,\"Non requis\")","v":0},{"$f":"IF(COUNTRY_INFO!H142=1, IF($E142=1,IF(ALB_MBD!$J142<>\" \",COUNTRY_INFO!F142+COUNTRY_INFO!G142-ALB_MBD!$J142,COUNTRY_INFO!F142+COUNTRY_INFO!G142), 0),0)","v":0},{"$f":"IF(INTRO!$E$39<>\"Endémique\",0, IF(AND(COUNTRY_INFO!$I142=1,$F142<>0),IF(COUNTRY_INFO!N142>=(COUNTRY_INFO!F142+COUNTRY_INFO!G142),COUNTRY_INFO!F142+COUNTRY_INFO!G142,COUNTRY_INFO!$N142), 0))","v":0},null,0,0,0,0,0,null,0,0]
[{"$f":"IF(INTRO!$E$39=\"Non endémique\",\" \",IF(COUNTRY_INFO!A143=0,\" \",COUNTRY_INFO!A143))","v":"Angola"},{"$f":"IF(INTRO!$E$39=\"Non endémique\",\" \",IF(COUNTRY_INFO!B143=0,\" \",COUNTRY_INFO!B143))","v":"MOXICO"},{"$f":"IF(INTRO!$E$39=\"Non endémique\",\" \",IF(COUNTRY_INFO!C143=0,\" \",COUNTRY_INFO!C143))","v":"BUNDAS (LUMBALA NGUIMBO)"},{"$f":"IF(INTRO!$E$39=\"Non endémique\",0,IF(INTRO!$E$39=\"Endémique mais pas de CP\",IF(COUNTRY_INFO!$H143=1,COUNTRY_INFO!F143+COUNTRY_INFO!G143,0),IF(COUNTRY_INFO!$H143=1,COUNTRY_INFO!F143+COUNTRY_INFO!G143,IF(COUNTRY_INFO!$I143=1,IF(COUNTRY_INFO!N143>=(COUNTRY_INFO!F143+COUNTRY_INFO!G143),COUNTRY_INFO!F143+COUNTRY_INFO!G143,COUNTRY_INFO!$N143),0))))","v":0},{"$f":"IF(AND(INTRO!$E$39=\"Non endémique\",INTRO!$E$37=\"Non endémique\"),\"Non requis\",IF(INTRO!$E$39=\"Non endémique\",\"Traiter avec DEC\",COUNTRY_INFO!Q143))","v":0},{"$f":"IF(INTRO!$E$39<>\"Non endémique\",COUNTRY_INFO!R143,\"Non requis\")","v":0},{"$f":"IF(COUNTRY_INFO!H143=1, IF($E143=1,IF(ALB_MBD!$J143<>\" \",COUNTRY_INFO!F143+COUNTRY_INFO!G143-ALB_MBD!$J143,COUNTRY_INFO!F143+COUNTRY_INFO!G143), 0),0)","v":0},{"$f":"IF(INTRO!$E$39<>\"Endémique\",0, IF(AND(COUNTRY_INFO!$I143=1,$F143<>0),IF(COUNTRY_INFO!N143>=(COUNTRY_INFO!F143+COUNTRY_INFO!G143),COUNTRY_INFO!F143+COUNTRY_INFO!G143,COUNTRY_INFO!$N143), 0))","v":0},null,0,0,0,0,0,null,0,0]
[{"$f":"IF(INTRO!$E$39=\"Non endémique\",\" \",IF(COUNTRY_INFO!A144=0,\" \",COUNTRY_INFO!A144))","v":"Angola"},{"$f":"IF(INTRO!$E$39=\"Non endémique\",\" \",IF(COUNTRY_INFO!B144=0,\" \",COUNTRY_INFO!B144))","v":"MOXICO"},{"$f":"IF(INTRO!$E$39=\"Non endémique\",\" \",IF(COUNTRY_INFO!C144=0,\" \",COUNTRY_INFO!C144))","v":"CAMEIA (LUMEJE)"},{"$f":"IF(INTRO!$E$39=\"Non endémique\",0,IF(INTRO!$E$39=\"Endémique mais pas de CP\",IF(COUNTRY_INFO!$H144=1,COUNTRY_INFO!F144+COUNTRY_INFO!G144,0),IF(COUNTRY_INFO!$H144=1,COUNTRY_INFO!F144+COUNTRY_INFO!G144,IF(COUNTRY_INFO!$I144=1,IF(COUNTRY_INFO!N144>=(COUNTRY_INFO!F144+COUNTRY_INFO!G144),COUNTRY_INFO!F144+COUNTRY_INFO!G144,COUNTRY_INFO!$N144),0))))","v":0},{"$f":"IF(AND(INTRO!$E$39=\"Non endémique\",INTRO!$E$37=\"Non endémique\"),\"Non requis\",IF(INTRO!$E$39=\"Non endémique\",\"Traiter avec DEC\",COUNTRY_INFO!Q144))","v":0},{"$f":"IF(INTRO!$E$39<>\"Non endémique\",COUNTRY_INFO!R144,\"Non requis\")","v":0},{"$f":"IF(COUNTRY_INFO!H144=1, IF($E144=1,IF(ALB_MBD!$J144<>\" \",COUNTRY_INFO!F144+COUNTRY_INFO!G144-ALB_MBD!$J144,COUNTRY_INFO!F144+COUNTRY_INFO!G144), 0),0)","v":0},{"$f":"IF(INTRO!$E$39<>\"Endémique\",0, IF(AND(COUNTRY_INFO!$I144=1,$F144<>0),IF(COUNTRY_INFO!N144>=(COUNTRY_INFO!F144+COUNTRY_INFO!G144),COUNTRY_INFO!F144+COUNTRY_INFO!G144,COUNTRY_INFO!$N144), 0))","v":0},null,0,0,0,0,0,null,0,0]
[{"$f":"IF(INTRO!$E$39=\"Non endémique\",\" \",IF(COUNTRY_INFO!A145=0,\" \",COUNTRY_INFO!A145))","v":"Angola"},{"$f":"IF(INTRO!$E$39=\"Non endémique\",\" \",IF(COUNTRY_INFO!B145=0,\" \",COUNTRY_INFO!B145))","v":"MOXICO"},{"$f":"IF(INTRO!$E$39=\"Non endémique\",\" \",IF(COUNTRY_INFO!C145=0,\" \",COUNTRY_INFO!C145))","v":"MOXICO/LUENA"},{"$f":"IF(INTRO!$E$39=\"Non endémique\",0,IF(INTRO!$E$39=\"Endémique mais pas de CP\",IF(COUNTRY_INFO!$H145=1,COUNTRY_INFO!F145+COUNTRY_INFO!G145,0),IF(COUNTRY_INFO!$H145=1,COUNTRY_INFO!F145+COUNTRY_INFO!G145,IF(COUNTRY_INFO!$I145=1,IF(COUNTRY_INFO!N145>=(COUNTRY_INFO!F145+COUNTRY_INFO!G145),COUNTRY_INFO!F145+COUNTRY_INFO!G145,COUNTRY_INFO!$N145),0))))","v":386013},{"$f":"IF(AND(INTRO!$E$39=\"Non endémique\",INTRO!$E$37=\"Non endémique\"),\"Non requis\",IF(INTRO!$E$39=\"Non endémique\",\"Traiter avec DEC\",COUNTRY_INFO!Q145))","v":0},{"$f":"IF(INTRO!$E$39<>\"Non endémique\",COUNTRY_INFO!R145,\"Non requis\")","v":1},{"$f":"IF(COUNTRY_INFO!H145=1, IF($E145=1,IF(ALB_MBD!$J145<>\" \",COUNTRY_INFO!F145+COUNTRY_INFO!G145-ALB_MBD!$J145,COUNTRY_INFO!F145+COUNTRY_INFO!G145), 0),0)","v":0},{"$f":"IF(INTRO!$E$39<>\"Endémique\",0, IF(AND(COUNTRY_INFO!$I145=1,$F145<>0),IF(COUNTRY_INFO!N145>=(COUNTRY_INFO!F145+COUNTRY_INFO!G145),COUNTRY_INFO!F145+COUNTRY_INFO!G145,COUNTRY_INFO!$N145), 0))","v":386013},null,386013,0,1080836.3999999999,0,1080836.3999999999,null,1080836.3999999999,2162]
[{"$f":"IF(INTRO!$E$39=\"Non endémique\",\" \",IF(COUNTRY_INFO!A146=0,\" \",COUNTRY_INFO!A146))","v":"Angola"},{"$f":"IF(INTRO!$E$39=\"Non endémique\",\" \",IF(COUNTRY_INFO!B146=0,\" \",COUNTRY_INFO!B146))","v":"NAMIBE"},{"$f":"IF(INTRO!$E$39=\"Non endémique\",\" \",IF(COUNTRY_INFO!C146=0,\" \",COUNTRY_INFO!C146))","v":"BIBALA"},{"$f":"IF(INTRO!$E$39=\"Non endémique\",0,IF(INTRO!$E$39=\"Endémique mais pas de CP\",IF(COUNTRY_INFO!$H146=1,COUNTRY_INFO!F146+COUNTRY_INFO!G146,0),IF(COUNTRY_INFO!$H146=1,COUNTRY_INFO!F146+COUNTRY_INFO!G146,IF(COUNTRY_INFO!$I146=1,IF(COUNTRY_INFO!N146>=(COUNTRY_INFO!F146+COUNTRY_INFO!G146),COUNTRY_INFO!F146+COUNTRY_INFO!G146,COUNTRY_INFO!$N146),0))))","v":0},{"$f":"IF(AND(INTRO!$E$39=\"Non endémique\",INTRO!$E$37=\"Non endémique\"),\"Non requis\",IF(INTRO!$E$39=\"Non endémique\",\"Traiter avec DEC\",COUNTRY_INFO!Q146))","v":0},{"$f":"IF(INTRO!$E$39<>\"Non endémique\",COUNTRY_INFO!R146,\"Non requis\")","v":0},{"$f":"IF(COUNTRY_INFO!H146=1, IF($E146=1,IF(ALB_MBD!$J146<>\" \",COUNTRY_INFO!F146+COUNTRY_INFO!G146-ALB_MBD!$J146,COUNTRY_INFO!F146+COUNTRY_INFO!G146), 0),0)","v":0},{"$f":"IF(INTRO!$E$39<>\"Endémique\",0, IF(AND(COUNTRY_INFO!$I146=1,$F146<>0),IF(COUNTRY_INFO!N146>=(COUNTRY_INFO!F146+COUNTRY_INFO!G146),COUNTRY_INFO!F146+COUNTRY_INFO!G146,COUNTRY_INFO!$N146), 0))","v":0},null,0,0,0,0,0,null,0,0]
[{"$f":"IF(INTRO!$E$39=\"Non endémique\",\" \",IF(COUNTRY_INFO!A147=0,\" \",COUNTRY_INFO!A147))","v":"Angola"},{"$f":"IF(INTRO!$E$39=\"Non endémique\",\" \",IF(COUNTRY_INFO!B147=0,\" \",COUNTRY_INFO!B147))","v":"NAMIBE"},{"$f":"IF(INTRO!$E$39=\"Non endémique\",\" \",IF(COUNTRY_INFO!C147=0,\" \",COUNTRY_INFO!C147))","v":"CAMUCUIO"},{"$f":"IF(INTRO!$E$39=\"Non endémique\",0,IF(INTRO!$E$39=\"Endémique mais pas de CP\",IF(COUNTRY_INFO!$H147=1,COUNTRY_INFO!F147+COUNTRY_INFO!G147,0),IF(COUNTRY_INFO!$H147=1,COUNTRY_INFO!F147+COUNTRY_INFO!G147,IF(COUNTRY_INFO!$I147=1,IF(COUNTRY_INFO!N147>=(COUNTRY_INFO!F147+COUNTRY_INFO!G147),COUNTRY_INFO!F147+COUNTRY_INFO!G147,COUNTRY_INFO!$N147),0))))","v":0},{"$f":"IF(AND(INTRO!$E$39=\"Non endémique\",INTRO!$E$37=\"Non endémique\"),\"Non requis\",IF(INTRO!$E$39=\"Non endémique\",\"Traiter avec DEC\",COUNTRY_INFO!Q147))","v":0},{"$f":"IF(INTRO!$E$39<>\"Non endémique\",COUNTRY_INFO!R147,\"Non requis\")","v":0},{"$f":"IF(COUNTRY_INFO!H147=1, IF($E147=1,IF(ALB_MBD!$J147<>\" \",COUNTRY_INFO!F147+COUNTRY_INFO!G147-ALB_MBD!$J147,COUNTRY_INFO!F147+COUNTRY_INFO!G147), 0),0)","v":0},{"$f":"IF(INTRO!$E$39<>\"Endémique\",0, IF(AND(COUNTRY_INFO!$I147=1,$F147<>0),IF(COUNTRY_INFO!N147>=(COUNTRY_INFO!F147+COUNTRY_INFO!G147),COUNTRY_INFO!F147+COUNTRY_INFO!G147,COUNTRY_INFO!$N147), 0))","v":0},null,0,0,0,0,0,null,0,0]
[{"$f":"IF(INTRO!$E$39=\"Non endémique\",\" \",IF(COUNTRY_INFO!A148=0,\" \",COUNTRY_INFO!A148))","v":"Angola"},{"$f":"IF(INTRO!$E$39=\"Non endémique\",\" \",IF(COUNTRY_INFO!B148=0,\" \",COUNTRY_INFO!B148))","v":"NAMIBE"},{"$f":"IF(INTRO!$E$39=\"Non endémique\",\" \",IF(COUNTRY_INFO!C148=0,\" \",COUNTRY_INFO!C148))","v":"MOÇAMEDES"},{"$f":"IF(INTRO!$E$39=\"Non endémique\",0,IF(INTRO!$E$39=\"Endémique mais pas de CP\",IF(COUNTRY_INFO!$H148=1,COUNTRY_INFO!F148+COUNTRY_INFO!G148,0),IF(COUNTRY_INFO!$H148=1,COUNTRY_INFO!F148+COUNTRY_INFO!G148,IF(COUNTRY_INFO!$I148=1,IF(COUNTRY_INFO!N148>=(COUNTRY_INFO!F148+COUNTRY_INFO!G148),COUNTRY_INFO!F148+COUNTRY_INFO!G148,COUNTRY_INFO!$N148),0))))","v":0},{"$f":"IF(AND(INTRO!$E$39=\"Non endémique\",INTRO!$E$37=\"Non endémique\"),\"Non requis\",IF(INTRO!$E$39=\"Non endémique\",\"Traiter avec DEC\",COUNTRY_INFO!Q148))","v":0},{"$f":"IF(INTRO!$E$39<>\"Non endémique\",COUNTRY_INFO!R148,\"Non requis\")","v":0},{"$f":"IF(COUNTRY_INFO!H148=1, IF($E148=1,IF(ALB_MBD!$J148<>\" \",COUNTRY_INFO!F148+COUNTRY_INFO!G148-ALB_MBD!$J148,COUNTRY_INFO!F148+COUNTRY_INFO!G148), 0),0)","v":0},{"$f":"IF(INTRO!$E$39<>\"Endémique\",0, IF(AND(COUNTRY_INFO!$I148=1,$F148<>0),IF(COUNTRY_INFO!N148>=(COUNTRY_INFO!F148+COUNTRY_INFO!G148),COUNTRY_INFO!F148+COUNTRY_INFO!G148,COUNTRY_INFO!$N148), 0))","v":0},null,0,0,0,0,0,null,0,0]
[{"$f":"IF(INTRO!$E$39=\"Non endémique\",\" \",IF(COUNTRY_INFO!A149=0,\" \",COUNTRY_INFO!A149))","v":"Angola"},{"$f":"IF(INTRO!$E$39=\"Non endémique\",\" \",IF(COUNTRY_INFO!B149=0,\" \",COUNTRY_INFO!B149))","v":"NAMIBE"},{"$f":"IF(INTRO!$E$39=\"Non endémique\",\" \",IF(COUNTRY_INFO!C149=0,\" \",COUNTRY_INFO!C149))","v":"TOMBWA"},{"$f":"IF(INTRO!$E$39=\"Non endémique\",0,IF(INTRO!$E$39=\"Endémique mais pas de CP\",IF(COUNTRY_INFO!$H149=1,COUNTRY_INFO!F149+COUNTRY_INFO!G149,0),IF(COUNTRY_INFO!$H149=1,COUNTRY_INFO!F149+COUNTRY_INFO!G149,IF(COUNTRY_INFO!$I149=1,IF(COUNTRY_INFO!N149>=(COUNTRY_INFO!F149+COUNTRY_INFO!G149),COUNTRY_INFO!F149+COUNTRY_INFO!G149,COUNTRY_INFO!$N149),0))))","v":0},{"$f":"IF(AND(INTRO!$E$39=\"Non endémique\",INTRO!$E$37=\"Non endémique\"),\"Non requis\",IF(INTRO!$E$39=\"Non endémique\",\"Traiter avec DEC\",COUNTRY_INFO!Q149))","v":0},{"$f":"IF(INTRO!$E$39<>\"Non endémique\",COUNTRY_INFO!R149,\"Non requis\")","v":0},{"$f":"IF(COUNTRY_INFO!H149=1, IF($E149=1,IF(ALB_MBD!$J149<>\" \",COUNTRY_INFO!F149+COUNTRY_INFO!G149-ALB_MBD!$J149,COUNTRY_INFO!F149+COUNTRY_INFO!G149), 0),0)","v":0},{"$f":"IF(INTRO!$E$39<>\"Endémique\",0, IF(AND(COUNTRY_INFO!$I149=1,$F149<>0),IF(COUNTRY_INFO!N149>=(COUNTRY_INFO!F149+COUNTRY_INFO!G149),COUNTRY_INFO!F149+COUNTRY_INFO!G149,COUNTRY_INFO!$N149), 0))","v":0},null,0,0,0,0,0,null,0,0]
[{"$f":"IF(INTRO!$E$39=\"Non endémique\",\" \",IF(COUNTRY_INFO!A150=0,\" \",COUNTRY_INFO!A150))","v":"Angola"},{"$f":"IF(INTRO!$E$39=\"Non endémique\",\" \",IF(COUNTRY_INFO!B150=0,\" \",COUNTRY_INFO!B150))","v":"NAMIBE"},{"$f":"IF(INTRO!$E$39=\"Non endémique\",\" \",IF(COUNTRY_INFO!C150=0,\" \",COUNTRY_INFO!C150))","v":"VIREI"},{"$f":"IF(INTRO!$E$39=\"Non endémique\",0,IF(INTRO!$E$39=\"Endémique mais pas de CP\",IF(COUNTRY_INFO!$H150=1,COUNTRY_INFO!F150+COUNTRY_INFO!G150,0),IF(COUNTRY_INFO!$H150=1,COUNTRY_INFO!F150+COUNTRY_INFO!G150,IF(COUNTRY_INFO!$I150=1,IF(COUNTRY_INFO!N150>=(COUNTRY_INFO!F150+COUNTRY_INFO!G150),COUNTRY_INFO!F150+COUNTRY_INFO!G150,COUNTRY_INFO!$N150),0))))","v":0},{"$f":"IF(AND(INTRO!$E$39=\"Non endémique\",INTRO!$E$37=\"Non endémique\"),\"Non requis\",IF(INTRO!$E$39=\"Non endémique\",\"Traiter avec DEC\",COUNTRY_INFO!Q150))","v":0},{"$f":"IF(INTRO!$E$39<>\"Non endémique\",COUNTRY_INFO!R150,\"Non requis\")","v":0},{"$f":"IF(COUNTRY_INFO!H150=1, IF($E150=1,IF(ALB_MBD!$J150<>\" \",COUNTRY_INFO!F150+COUNTRY_INFO!G150-ALB_MBD!$J150,COUNTRY_INFO!F150+COUNTRY_INFO!G150), 0),0)","v":0},{"$f":"IF(INTRO!$E$39<>\"Endémique\",0, IF(AND(COUNTRY_INFO!$I150=1,$F150<>0),IF(COUNTRY_INFO!N150>=(COUNTRY_INFO!F150+COUNTRY_INFO!G150),COUNTRY_INFO!F150+COUNTRY_INFO!G150,COUNTRY_INFO!$N150), 0))","v":0},null,0,0,0,0,0,null,0,0]
[{"$f":"IF(INTRO!$E$39=\"Non endémique\",\" \",IF(COUNTRY_INFO!A151=0,\" \",COUNTRY_INFO!A151))","v":"Angola"},{"$f":"IF(INTRO!$E$39=\"Non endémique\",\" \",IF(COUNTRY_INFO!B151=0,\" \",COUNTRY_INFO!B151))","v":"UIGE"},{"$f":"IF(INTRO!$E$39=\"Non endémique\",\" \",IF(COUNTRY_INFO!C151=0,\" \",COUNTRY_INFO!C151))","v":"AMBUILA"},{"$f":"IF(INTRO!$E$39=\"Non endémique\",0,IF(INTRO!$E$39=\"Endémique mais pas de CP\",IF(COUNTRY_INFO!$H151=1,COUNTRY_INFO!F151+COUNTRY_INFO!G151,0),IF(COUNTRY_INFO!$H151=1,COUNTRY_INFO!F151+COUNTRY_INFO!G151,IF(COUNTRY_INFO!$I151=1,IF(COUNTRY_INFO!N151>=(COUNTRY_INFO!F151+COUNTRY_INFO!G151),COUNTRY_INFO!F151+COUNTRY_INFO!G151,COUNTRY_INFO!$N151),0))))","v":19398},{"$f":"IF(AND(INTRO!$E$39=\"Non endémique\",INTRO!$E$37=\"Non endémique\"),\"Non requis\",IF(INTRO!$E$39=\"Non endémique\",\"Traiter avec DEC\",COUNTRY_INFO!Q151))","v":1},{"$f":"IF(INTRO!$E$39<>\"Non endémique\",COUNTRY_INFO!R151,\"Non requis\")","v":0},{"$f":"IF(COUNTRY_INFO!H151=1, IF($E151=1,IF(ALB_MBD!$J151<>\" \",COUNTRY_INFO!F151+COUNTRY_INFO!G151-ALB_MBD!$J151,COUNTRY_INFO!F151+COUNTRY_INFO!G151), 0),0)","v":1007},{"$f":"IF(INTRO!$E$39<>\"Endémique\",0, IF(AND(COUNTRY_INFO!$I151=1,$F151<>0),IF(COUNTRY_INFO!N151>=(COUNTRY_INFO!F151+COUNTRY_INFO!G151),COUNTRY_INFO!F151+COUNTRY_INFO!G151,COUNTRY_INFO!$N151), 0))","v":0},null,0,2819.6,0,0,2819.6,null,2819.6,6]
[{"$f":"IF(INTRO!$E$39=\"Non endémique\",\" \",IF(COUNTRY_INFO!A152=0,\" \",COUNTRY_INFO!A152))","v":"Angola"},{"$f":"IF(INTRO!$E$39=\"Non endémique\",\" \",IF(COUNTRY_INFO!B152=0,\" \",COUNTRY_INFO!B152))","v":"UIGE"},{"$f":"IF(INTRO!$E$39=\"Non endémique\",\" \",IF(COUNTRY_INFO!C152=0,\" \",COUNTRY_INFO!C152))","v":"BEMBE"},{"$f":"IF(INTRO!$E$39=\"Non endémique\",0,IF(INTRO!$E$39=\"Endémique mais pas de CP\",IF(COUNTRY_INFO!$H152=1,COUNTRY_INFO!F152+COUNTRY_INFO!G152,0),IF(COUNTRY_INFO!$H152=1,COUNTRY_INFO!F152+COUNTRY_INFO!G152,IF(COUNTRY_INFO!$I152=1,IF(COUNTRY_INFO!N152>=(COUNTRY_INFO!F152+COUNTRY_INFO!G152),COUNTRY_INFO!F152+COUNTRY_INFO!G152,COUNTRY_INFO!$N152),0))))","v":0},{"$f":"IF(AND(INTRO!$E$39=\"Non endémique\",INTRO!$E$37=\"Non endémique\"),\"Non requis\",IF(INTRO!$E$39=\"Non endémique\",\"Traiter avec DEC\",COUNTRY_INFO!Q152))","v":0},{"$f":"IF(INTRO!$E$39<>\"Non endémique\",COUNTRY_INFO!R152,\"Non requis\")","v":0},{"$f":"IF(COUNTRY_INFO!H152=1, IF($E152=1,IF(ALB_MBD!$J152<>\" \",COUNTRY_INFO!F152+COUNTRY_INFO!G152-ALB_MBD!$J152,COUNTRY_INFO!F152+COUNTRY_INFO!G152), 0),0)","v":0},{"$f":"IF(INTRO!$E$39<>\"Endémique\",0, IF(AND(COUNTRY_INFO!$I152=1,$F152<>0),IF(COUNTRY_INFO!N152>=(COUNTRY_INFO!F152+COUNTRY_INFO!G152),COUNTRY_INFO!F152+COUNTRY_INFO!G152,COUNTRY_INFO!$N152), 0))","v":0},null,0,0,0,0,0,null,0,0]
[{"$f":"IF(INTRO!$E$39=\"Non endémique\",\" \",IF(COUNTRY_INFO!A153=0,\" \",COUNTRY_INFO!A153))","v":"Angola"},{"$f":"IF(INTRO!$E$39=\"Non endémique\",\" \",IF(COUNTRY_INFO!B153=0,\" \",COUNTRY_INFO!B153))","v":"UIGE"},{"$f":"IF(INTRO!$E$39=\"Non endémique\",\" \",IF(COUNTRY_INFO!C153=0,\" \",COUNTRY_INFO!C153))","v":"BUENGAS"},{"$f":"IF(INTRO!$E$39=\"Non endémique\",0,IF(INTRO!$E$39=\"Endémique mais pas de CP\",IF(COUNTRY_INFO!$H153=1,COUNTRY_INFO!F153+COUNTRY_INFO!G153,0),IF(COUNTRY_INFO!$H153=1,COUNTRY_INFO!F153+COUNTRY_INFO!G153,IF(COUNTRY_INFO!$I153=1,IF(COUNTRY_INFO!N153>=(COUNTRY_INFO!F153+COUNTRY_INFO!G153),COUNTRY_INFO!F153+COUNTRY_INFO!G153,COUNTRY_INFO!$N153),0))))","v":0},{"$f":"IF(AND(INTRO!$E$39=\"Non endémique\",INTRO!$E$37=\"Non endémique\"),\"Non requis\",IF(INTRO!$E$39=\"Non endémique\",\"Traiter avec DEC\",COUNTRY_INFO!Q153))","v":0},{"$f":"IF(INTRO!$E$39<>\"Non endémique\",COUNTRY_INFO!R153,\"Non requis\")","v":0},{"$f":"IF(COUNTRY_INFO!H153=1, IF($E153=1,IF(ALB_MBD!$J153<>\" \",COUNTRY_INFO!F153+COUNTRY_INFO!G153-ALB_MBD!$J153,COUNTRY_INFO!F153+COUNTRY_INFO!G153), 0),0)","v":0},{"$f":"IF(INTRO!$E$39<>\"Endémique\",0, IF(AND(COUNTRY_INFO!$I153=1,$F153<>0),IF(COUNTRY_INFO!N153>=(COUNTRY_INFO!F153+COUNTRY_INFO!G153),COUNTRY_INFO!F153+COUNTRY_INFO!G153,COUNTRY_INFO!$N153), 0))","v":0},null,0,0,0,0,0,null,0,0]
[{"$f":"IF(INTRO!$E$39=\"Non endémique\",\" \",IF(COUNTRY_INFO!A154=0,\" \",COUNTRY_INFO!A154))","v":"Angola"},{"$f":"IF(INTRO!$E$39=\"Non endémique\",\" \",IF(COUNTRY_INFO!B154=0,\" \",COUNTRY_INFO!B154))","v":"UIGE"},{"$f":"IF(INTRO!$E$39=\"Non endémique\",\" \",IF(COUNTRY_INFO!C154=0,\" \",COUNTRY_INFO!C154))","v":"BUNGO"},{"$f":"IF(INTRO!$E$39=\"Non endémique\",0,IF(INTRO!$E$39=\"Endémique mais pas de CP\",IF(COUNTRY_INFO!$H154=1,COUNTRY_INFO!F154+COUNTRY_INFO!G154,0),IF(COUNTRY_INFO!$H154=1,COUNTRY_INFO!F154+COUNTRY_INFO!G154,IF(COUNTRY_INFO!$I154=1,IF(COUNTRY_INFO!N154>=(COUNTRY_INFO!F154+COUNTRY_INFO!G154),COUNTRY_INFO!F154+COUNTRY_INFO!G154,COUNTRY_INFO!$N154),0))))","v":39777},{"$f":"IF(AND(INTRO!$E$39=\"Non endémique\",INTRO!$E$37=\"Non endémique\"),\"Non requis\",IF(INTRO!$E$39=\"Non endémique\",\"Traiter avec DEC\",COUNTRY_INFO!Q154))","v":0},{"$f":"IF(INTRO!$E$39<>\"Non endémique\",COUNTRY_INFO!R154,\"Non requis\")","v":1},{"$f":"IF(COUNTRY_INFO!H154=1, IF($E154=1,IF(ALB_MBD!$J154<>\" \",COUNTRY_INFO!F154+COUNTRY_INFO!G154-ALB_MBD!$J154,COUNTRY_INFO!F154+COUNTRY_INFO!G154), 0),0)","v":0},{"$f":"IF(INTRO!$E$39<>\"Endémique\",0, IF(AND(COUNTRY_INFO!$I154=1,$F154<>0),IF(COUNTRY_INFO!N154>=(COUNTRY_INFO!F154+COUNTRY_INFO!G154),COUNTRY_INFO!F154+COUNTRY_INFO!G154,COUNTRY_INFO!$N154), 0))","v":39777},null,39777,0,111375.59999999999,0,111375.59999999999,null,111375.59999999999,223]
[{"$f":"IF(INTRO!$E$39=\"Non endémique\",\" \",IF(COUNTRY_INFO!A155=0,\" \",COUNTRY_INFO!A155))","v":"Angola"},{"$f":"IF(INTRO!$E$39=\"Non endémique\",\" \",IF(COUNTRY_INFO!B155=0,\" \",COUNTRY_INFO!B155))","v":"UIGE"},{"$f":"IF(INTRO!$E$39=\"Non endémique\",\" \",IF(COUNTRY_INFO!C155=0,\" \",COUNTRY_INFO!C155))","v":"CANGOLA"},{"$f":"IF(INTRO!$E$39=\"Non endémique\",0,IF(INTRO!$E$39=\"Endémique mais pas de CP\",IF(COUNTRY_INFO!$H155=1,COUNTRY_INFO!F155+COUNTRY_INFO!G155,0),IF(COUNTRY_INFO!$H155=1,COUNTRY_INFO!F155+COUNTRY_INFO!G155,IF(COUNTRY_INFO!$I155=1,IF(COUNTRY_INFO!N155>=(COUNTRY_INFO!F155+COUNTRY_INFO!G155),COUNTRY_INFO!F155+COUNTRY_INFO!G155,COUNTRY_INFO!$N155),0))))","v":0},{"$f":"IF(AND(INTRO!$E$39=\"Non endémique\",INTRO!$E$37=\"Non endémique\"),\"Non requis\",IF(INTRO!$E$39=\"Non endémique\",\"Traiter avec DEC\",COUNTRY_INFO!Q155))","v":0},{"$f":"IF(INTRO!$E$39<>\"Non endémique\",COUNTRY_INFO!R155,\"Non requis\")","v":0},{"$f":"IF(COUNTRY_INFO!H155=1, IF($E155=1,IF(ALB_MBD!$J155<>\" \",COUNTRY_INFO!F155+COUNTRY_INFO!G155-ALB_MBD!$J155,COUNTRY_INFO!F155+COUNTRY_INFO!G155), 0),0)","v":0},{"$f":"IF(INTRO!$E$39<>\"Endémique\",0, IF(AND(COUNTRY_INFO!$I155=1,$F155<>0),IF(COUNTRY_INFO!N155>=(COUNTRY_INFO!F155+COUNTRY_INFO!G155),COUNTRY_INFO!F155+COUNTRY_INFO!G155,COUNTRY_INFO!$N155), 0))","v":0},null,0,0,0,0,0,null,0,0]
[{"$f":"IF(INTRO!$E$39=\"Non endémique\",\" \",IF(COUNTRY_INFO!A156=0,\" \",COUNTRY_INFO!A156))","v":"Angola"},{"$f":"IF(INTRO!$E$39=\"Non endémique\",\" \",IF(COUNTRY_INFO!B156=0,\" \",COUNTRY_INFO!B156))","v":"UIGE"},{"$f":"IF(INTRO!$E$39=\"Non endémique\",\" \",IF(COUNTRY_INFO!C156=0,\" \",COUNTRY_INFO!C156))","v":"DAMBA"},{"$f":"IF(INTRO!$E$39=\"Non endémique\",0,IF(INTRO!$E$39=\"Endémique mais pas de CP\",IF(COUNTRY_INFO!$H156=1,COUNTRY_INFO!F156+COUNTRY_INFO!G156,0),IF(COUNTRY_INFO!$H156=1,COUNTRY_INFO!F156+COUNTRY_INFO!G156,IF(COUNTRY_INFO!$I156=1,IF(COUNTRY_INFO!N156>=(COUNTRY_INFO!F156+COUNTRY_INFO!G156),COUNTRY_INFO!F156+COUNTRY_INFO!G156,COUNTRY_INFO!$N156),0))))","v":0},{"$f":"IF(AND(INTRO!$E$39=\"Non endémique\",INTRO!$E$37=\"Non endémique\"),\"Non requis\",IF(INTRO!$E$39=\"Non endémique\",\"Traiter avec DEC\",COUNTRY_INFO!Q156))","v":0},{"$f":"IF(INTRO!$E$39<>\"Non endémique\",COUNTRY_INFO!R156,\"Non requis\")","v":0},{"$f":"IF(COUNTRY_INFO!H156=1, IF($E156=1,IF(ALB_MBD!$J156<>\" \",COUNTRY_INFO!F156+COUNTRY_INFO!G156-ALB_MBD!$J156,COUNTRY_INFO!F156+COUNTRY_INFO!G156), 0),0)","v":0},{"$f":"IF(INTRO!$E$39<>\"Endémique\",0, IF(AND(COUNTRY_INFO!$I156=1,$F156<>0),IF(COUNTRY_INFO!N156>=(COUNTRY_INFO!F156+COUNTRY_INFO!G156),COUNTRY_INFO!F156+COUNTRY_INFO!G156,COUNTRY_INFO!$N156), 0))","v":0},null,0,0,0,0,0,null,0,0]
[{"$f":"IF(INTRO!$E$39=\"Non endémique\",\" \",IF(COUNTRY_INFO!A157=0,\" \",COUNTRY_INFO!A157))","v":"Angola"},{"$f":"IF(INTRO!$E$39=\"Non endémique\",\" \",IF(COUNTRY_INFO!B157=0,\" \",COUNTRY_INFO!B157))","v":"UIGE"},{"$f":"IF(INTRO!$E$39=\"Non endémique\",\" \",IF(COUNTRY_INFO!C157=0,\" \",COUNTRY_INFO!C157))","v":"MAQUELA DO ZOMBO"},{"$f":"IF(INTRO!$E$39=\"Non endémique\",0,IF(INTRO!$E$39=\"Endémique mais pas de CP\",IF(COUNTRY_INFO!$H157=1,COUNTRY_INFO!F157+COUNTRY_INFO!G157,0),IF(COUNTRY_INFO!$H157=1,COUNTRY_INFO!F157+COUNTRY_INFO!G157,IF(COUNTRY_INFO!$I157=1,IF(COUNTRY_INFO!N157>=(COUNTRY_INFO!F157+COUNTRY_INFO!G157),COUNTRY_INFO!F157+COUNTRY_INFO!G157,COUNTRY_INFO!$N157),0))))","v":0},{"$f":"IF(AND(INTRO!$E$39=\"Non endémique\",INTRO!$E$37=\"Non endémique\"),\"Non requis\",IF(INTRO!$E$39=\"Non endémique\",\"Traiter avec DEC\",COUNTRY_INFO!Q157))","v":0},{"$f":"IF(INTRO!$E$39<>\"Non endémique\",COUNTRY_INFO!R157,\"Non requis\")","v":0},{"$f":"IF(COUNTRY_INFO!H157=1, IF($E157=1,IF(ALB_MBD!$J157<>\" \",COUNTRY_INFO!F157+COUNTRY_INFO!G157-ALB_MBD!$J157,COUNTRY_INFO!F157+COUNTRY_INFO!G157), 0),0)","v":0},{"$f":"IF(INTRO!$E$39<>\"Endémique\",0, IF(AND(COUNTRY_INFO!$I157=1,$F157<>0),IF(COUNTRY_INFO!N157>=(COUNTRY_INFO!F157+COUNTRY_INFO!G157),COUNTRY_INFO!F157+COUNTRY_INFO!G157,COUNTRY_INFO!$N157), 0))","v":0},null,0,0,0,0,0,null,0,0]
[{"$f":"IF(INTRO!$E$39=\"Non endémique\",\" \",IF(COUNTRY_INFO!A158=0,\" \",COUNTRY_INFO!A158))","v":"Angola"},{"$f":"IF(INTRO!$E$39=\"Non endémique\",\" \",IF(COUNTRY_INFO!B158=0,\" \",COUNTRY_INFO!B158))","v":"UIGE"},{"$f":"IF(INTRO!$E$39=\"Non endémique\",\" \",IF(COUNTRY_INFO!C158=0,\" \",COUNTRY_INFO!C158))","v":"MILUNGA"},{"$f":"IF(INTRO!$E$39=\"Non endémique\",0,IF(INTRO!$E$39=\"Endémique mais pas de CP\",IF(COUNTRY_INFO!$H158=1,COUNTRY_INFO!F158+COUNTRY_INFO!G158,0),IF(COUNTRY_INFO!$H158=1,COUNTRY_INFO!F158+COUNTRY_INFO!G158,IF(COUNTRY_INFO!$I158=1,IF(COUNTRY_INFO!N158>=(COUNTRY_INFO!F158+COUNTRY_INFO!G158),COUNTRY_INFO!F158+COUNTRY_INFO!G158,COUNTRY_INFO!$N158),0))))","v":0},{"$f":"IF(AND(INTRO!$E$39=\"Non endémique\",INTRO!$E$37=\"Non endémique\"),\"Non requis\",IF(INTRO!$E$39=\"Non endémique\",\"Traiter avec DEC\",COUNTRY_INFO!Q158))","v":0},{"$f":"IF(INTRO!$E$39<>\"Non endémique\",COUNTRY_INFO!R158,\"Non requis\")","v":0},{"$f":"IF(COUNTRY_INFO!H158=1, IF($E158=1,IF(ALB_MBD!$J158<>\" \",COUNTRY_INFO!F158+COUNTRY_INFO!G158-ALB_MBD!$J158,COUNTRY_INFO!F158+COUNTRY_INFO!G158), 0),0)","v":0},{"$f":"IF(INTRO!$E$39<>\"Endémique\",0, IF(AND(COUNTRY_INFO!$I158=1,$F158<>0),IF(COUNTRY_INFO!N158>=(COUNTRY_INFO!F158+COUNTRY_INFO!G158),COUNTRY_INFO!F158+COUNTRY_INFO!G158,COUNTRY_INFO!$N158), 0))","v":0},null,0,0,0,0,0,null,0,0]
[{"$f":"IF(INTRO!$E$39=\"Non endémique\",\" \",IF(COUNTRY_INFO!A159=0,\" \",COUNTRY_INFO!A159))","v":"Angola"},{"$f":"IF(INTRO!$E$39=\"Non endémique\",\" \",IF(COUNTRY_INFO!B159=0,\" \",COUNTRY_INFO!B159))","v":"UIGE"},{"$f":"IF(INTRO!$E$39=\"Non endémique\",\" \",IF(COUNTRY_INFO!C159=0,\" \",COUNTRY_INFO!C159))","v":"MUCABA"},{"$f":"IF(INTRO!$E$39=\"Non endémique\",0,IF(INTRO!$E$39=\"Endémique mais pas de CP\",IF(COUNTRY_INFO!$H159=1,COUNTRY_INFO!F159+COUNTRY_INFO!G159,0),IF(COUNTRY_INFO!$H159=1,COUNTRY_INFO!F159+COUNTRY_INFO!G159,IF(COUNTRY_INFO!$I159=1,IF(COUNTRY_INFO!N159>=(COUNTRY_INFO!F159+COUNTRY_INFO!G159),COUNTRY_INFO!F159+COUNTRY_INFO!G159,COUNTRY_INFO!$N159),0))))","v":0},{"$f":"IF(AND(INTRO!$E$39=\"Non endémique\",INTRO!$E$37=\"Non endémique\"),\"Non requis\",IF(INTRO!$E$39=\"Non endémique\",\"Traiter avec DEC\",COUNTRY_INFO!Q159))","v":0},{"$f":"IF(INTRO!$E$39<>\"Non endémique\",COUNTRY_INFO!R159,\"Non requis\")","v":0},{"$f":"IF(COUNTRY_INFO!H159=1, IF($E159=1,IF(ALB_MBD!$J159<>\" \",COUNTRY_INFO!F159+COUNTRY_INFO!G159-ALB_MBD!$J159,COUNTRY_INFO!F159+COUNTRY_INFO!G159), 0),0)","v":0},{"$f":"IF(INTRO!$E$39<>\"Endémique\",0, IF(AND(COUNTRY_INFO!$I159=1,$F159<>0),IF(COUNTRY_INFO!N159>=(COUNTRY_INFO!F159+COUNTRY_INFO!G159),COUNTRY_INFO!F159+COUNTRY_INFO!G159,COUNTRY_INFO!$N159), 0))","v":0},null,0,0,0,0,0,null,0,0]
[{"$f":"IF(INTRO!$E$39=\"Non endémique\",\" \",IF(COUNTRY_INFO!A160=0,\" \",COUNTRY_INFO!A160))","v":"Angola"},{"$f":"IF(INTRO!$E$39=\"Non endémique\",\" \",IF(COUNTRY_INFO!B160=0,\" \",COUNTRY_INFO!B160))","v":"UIGE"},{"$f":"IF(INTRO!$E$39=\"Non endémique\",\" \",IF(COUNTRY_INFO!C160=0,\" \",COUNTRY_INFO!C160))","v":"NEGAGE"},{"$f":"IF(INTRO!$E$39=\"Non endémique\",0,IF(INTRO!$E$39=\"Endémique mais pas de CP\",IF(COUNTRY_INFO!$H160=1,COUNTRY_INFO!F160+COUNTRY_INFO!G160,0),IF(COUNTRY_INFO!$H160=1,COUNTRY_INFO!F160+COUNTRY_INFO!G160,IF(COUNTRY_INFO!$I160=1,IF(COUNTRY_INFO!N160>=(COUNTRY_INFO!F160+COUNTRY_INFO!G160),COUNTRY_INFO!F160+COUNTRY_INFO!G160,COUNTRY_INFO!$N160),0))))","v":147276},{"$f":"IF(AND(INTRO!$E$39=\"Non endémique\",INTRO!$E$37=\"Non endémique\"),\"Non requis\",IF(INTRO!$E$39=\"Non endémique\",\"Traiter avec DEC\",COUNTRY_INFO!Q160))","v":0},{"$f":"IF(INTRO!$E$39<>\"Non endémique\",COUNTRY_INFO!R160,\"Non requis\")","v":1},{"$f":"IF(COUNTRY_INFO!H160=1, IF($E160=1,IF(ALB_MBD!$J160<>\" \",COUNTRY_INFO!F160+COUNTRY_INFO!G160-ALB_MBD!$J160,COUNTRY_INFO!F160+COUNTRY_INFO!G160), 0),0)","v":0},{"$f":"IF(INTRO!$E$39<>\"Endémique\",0, IF(AND(COUNTRY_INFO!$I160=1,$F160<>0),IF(COUNTRY_INFO!N160>=(COUNTRY_INFO!F160+COUNTRY_INFO!G160),COUNTRY_INFO!F160+COUNTRY_INFO!G160,COUNTRY_INFO!$N160), 0))","v":147276},null,147276,0,412372.8,0,412372.8,null,412372.8,825]
[{"$f":"IF(INTRO!$E$39=\"Non endémique\",\" \",IF(COUNTRY_INFO!A161=0,\" \",COUNTRY_INFO!A161))","v":"Angola"},{"$f":"IF(INTRO!$E$39=\"Non endémique\",\" \",IF(COUNTRY_INFO!B161=0,\" \",COUNTRY_INFO!B161))","v":"UIGE"},{"$f":"IF(INTRO!$E$39=\"Non endémique\",\" \",IF(COUNTRY_INFO!C161=0,\" \",COUNTRY_INFO!C161))","v":"PURI"},{"$f":"IF(INTRO!$E$39=\"Non endémique\",0,IF(INTRO!$E$39=\"Endémique mais pas de CP\",IF(COUNTRY_INFO!$H161=1,COUNTRY_INFO!F161+COUNTRY_INFO!G161,0),IF(COUNTRY_INFO!$H161=1,COUNTRY_INFO!F161+COUNTRY_INFO!G161,IF(COUNTRY_INFO!$I161=1,IF(COUNTRY_INFO!N161>=(COUNTRY_INFO!F161+COUNTRY_INFO!G161),COUNTRY_INFO!F161+COUNTRY_INFO!G161,COUNTRY_INFO!$N161),0))))","v":40588},{"$f":"IF(AND(INTRO!$E$39=\"Non endémique\",INTRO!$E$37=\"Non endémique\"),\"Non requis\",IF(INTRO!$E$39=\"Non endémique\",\"Traiter avec DEC\",COUNTRY_INFO!Q161))","v":1},{"$f":"IF(INTRO!$E$39<>\"Non endémique\",COUNTRY_INFO!R161,\"Non requis\")","v":1},{"$f":"IF(COUNTRY_INFO!H161=1, IF($E161=1,IF(ALB_MBD!$J161<>\" \",COUNTRY_INFO!F161+COUNTRY_INFO!G161-ALB_MBD!$J161,COUNTRY_INFO!F161+COUNTRY_INFO!G161), 0),0)","v":40588},{"$f":"IF(INTRO!$E$39<>\"Endémique\",0, IF(AND(COUNTRY_INFO!$I161=1,$F161<>0),IF(COUNTRY_INFO!N161>=(COUNTRY_INFO!F161+COUNTRY_INFO!G161),COUNTRY_INFO!F161+COUNTRY_INFO!G161,COUNTRY_INFO!$N161), 0))","v":40588},null,40588,0,0,113646.39999999999,113646.39999999999,null,113646.39999999999,228]
[{"$f":"IF(INTRO!$E$39=\"Non endémique\",\" \",IF(COUNTRY_INFO!A162=0,\" \",COUNTRY_INFO!A162))","v":"Angola"},{"$f":"IF(INTRO!$E$39=\"Non endémique\",\" \",IF(COUNTRY_INFO!B162=0,\" \",COUNTRY_INFO!B162))","v":"UIGE"},{"$f":"IF(INTRO!$E$39=\"Non endémique\",\" \",IF(COUNTRY_INFO!C162=0,\" \",COUNTRY_INFO!C162))","v":"QUIMBELE"},{"$f":"IF(INTRO!$E$39=\"Non endémique\",0,IF(INTRO!$E$39=\"Endémique mais pas de CP\",IF(COUNTRY_INFO!$H162=1,COUNTRY_INFO!F162+COUNTRY_INFO!G162,0),IF(COUNTRY_INFO!$H162=1,COUNTRY_INFO!F162+COUNTRY_INFO!G162,IF(COUNTRY_INFO!$I162=1,IF(COUNTRY_INFO!N162>=(COUNTRY_INFO!F162+COUNTRY_INFO!G162),COUNTRY_INFO!F162+COUNTRY_INFO!G162,COUNTRY_INFO!$N162),0))))","v":0},{"$f":"IF(AND(INTRO!$E$39=\"Non endémique\",INTRO!$E$37=\"Non endémique\"),\"Non requis\",IF(INTRO!$E$39=\"Non endémique\",\"Traiter avec DEC\",COUNTRY_INFO!Q162))","v":0},{"$f":"IF(INTRO!$E$39<>\"Non endémique\",COUNTRY_INFO!R162,\"Non requis\")","v":0},{"$f":"IF(COUNTRY_INFO!H162=1, IF($E162=1,IF(ALB_MBD!$J162<>\" \",COUNTRY_INFO!F162+COUNTRY_INFO!G162-ALB_MBD!$J162,COUNTRY_INFO!F162+COUNTRY_INFO!G162), 0),0)","v":0},{"$f":"IF(INTRO!$E$39<>\"Endémique\",0, IF(AND(COUNTRY_INFO!$I162=1,$F162<>0),IF(COUNTRY_INFO!N162>=(COUNTRY_INFO!F162+COUNTRY_INFO!G162),COUNTRY_INFO!F162+COUNTRY_INFO!G162,COUNTRY_INFO!$N162), 0))","v":0},null,0,0,0,0,0,null,0,0]
[{"$f":"IF(INTRO!$E$39=\"Non endémique\",\" \",IF(COUNTRY_INFO!A163=0,\" \",COUNTRY_INFO!A163))","v":"Angola"},{"$f":"IF(INTRO!$E$39=\"Non endémique\",\" \",IF(COUNTRY_INFO!B163=0,\" \",COUNTRY_INFO!B163))","v":"UIGE"},{"$f":"IF(INTRO!$E$39=\"Non endémique\",\" \",IF(COUNTRY_INFO!C163=0,\" \",COUNTRY_INFO!C163))","v":"QUITEXE"},{"$f":"IF(INTRO!$E$39=\"Non endémique\",0,IF(INTRO!$E$39=\"Endémique mais pas de CP\",IF(COUNTRY_INFO!$H163=1,COUNTRY_INFO!F163+COUNTRY_INFO!G163,0),IF(COUNTRY_INFO!$H163=1,COUNTRY_INFO!F163+COUNTRY_INFO!G163,IF(COUNTRY_INFO!$I163=1,IF(COUNTRY_INFO!N163>=(COUNTRY_INFO!F163+COUNTRY_INFO!G163),COUNTRY_INFO!F163+COUNTRY_INFO!G163,COUNTRY_INFO!$N163),0))))","v":36719},{"$f":"IF(AND(INTRO!$E$39=\"Non endémique\",INTRO!$E$37=\"Non endémique\"),\"Non requis\",IF(INTRO!$E$39=\"Non endémique\",\"Traiter avec DEC\",COUNTRY_INFO!Q163))","v":1},{"$f":"IF(INTRO!$E$39<>\"Non endémique\",COUNTRY_INFO!R163,\"Non requis\")","v":1},{"$f":"IF(COUNTRY_INFO!H163=1, IF($E163=1,IF(ALB_MBD!$J163<>\" \",COUNTRY_INFO!F163+COUNTRY_INFO!G163-ALB_MBD!$J163,COUNTRY_INFO!F163+COUNTRY_INFO!G163), 0),0)","v":1905},{"$f":"IF(INTRO!$E$39<>\"Endémique\",0, IF(AND(COUNTRY_INFO!$I163=1,$F163<>0),IF(COUNTRY_INFO!N163>=(COUNTRY_INFO!F163+COUNTRY_INFO!G163),COUNTRY_INFO!F163+COUNTRY_INFO!G163,COUNTRY_INFO!$N163), 0))","v":36719},null,36719,0,0,102813.2,102813.2,null,102813.2,206]
[{"$f":"IF(INTRO!$E$39=\"Non endémique\",\" \",IF(COUNTRY_INFO!A164=0,\" \",COUNTRY_INFO!A164))","v":"Angola"},{"$f":"IF(INTRO!$E$39=\"Non endémique\",\" \",IF(COUNTRY_INFO!B164=0,\" \",COUNTRY_INFO!B164))","v":"UIGE"},{"$f":"IF(INTRO!$E$39=\"Non endémique\",\" \",IF(COUNTRY_INFO!C164=0,\" \",COUNTRY_INFO!C164))","v":"SANZA POMBO"},{"$f":"IF(INTRO!$E$39=\"Non endémique\",0,IF(INTRO!$E$39=\"Endémique mais pas de CP\",IF(COUNTRY_INFO!$H164=1,COUNTRY_INFO!F164+COUNTRY_INFO!G164,0),IF(COUNTRY_INFO!$H164=1,COUNTRY_INFO!F164+COUNTRY_INFO!G164,IF(COUNTRY_INFO!$I164=1,IF(COUNTRY_INFO!N164>=(COUNTRY_INFO!F164+COUNTRY_INFO!G164),COUNTRY_INFO!F164+COUNTRY_INFO!G164,COUNTRY_INFO!$N164),0))))","v":0},{"$f":"IF(AND(INTRO!$E$39=\"Non endémique\",INTRO!$E$37=\"Non endémique\"),\"Non requis\",IF(INTRO!$E$39=\"Non endémique\",\"Traiter avec DEC\",COUNTRY_INFO!Q164))","v":0},{"$f":"IF(INTRO!$E$39<>\"Non endémique\",COUNTRY_INFO!R164,\"Non requis\")","v":0},{"$f":"IF(COUNTRY_INFO!H164=1, IF($E164=1,IF(ALB_MBD!$J164<>\" \",COUNTRY_INFO!F164+COUNTRY_INFO!G164-ALB_MBD!$J164,COUNTRY_INFO!F164+COUNTRY_INFO!G164), 0),0)","v":0},{"$f":"IF(INTRO!$E$39<>\"Endémique\",0, IF(AND(COUNTRY_INFO!$I164=1,$F164<>0),IF(COUNTRY_INFO!N164>=(COUNTRY_INFO!F164+COUNTRY_INFO!G164),COUNTRY_INFO!F164+COUNTRY_INFO!G164,COUNTRY_INFO!$N164), 0))","v":0},null,0,0,0,0,0,null,0,0]
[{"$f":"IF(INTRO!$E$39=\"Non endémique\",\" \",IF(COUNTRY_INFO!A165=0,\" \",COUNTRY_INFO!A165))","v":"Angola"},{"$f":"IF(INTRO!$E$39=\"Non endémique\",\" \",IF(COUNTRY_INFO!B165=0,\" \",COUNTRY_INFO!B165))","v":"UIGE"},{"$f":"IF(INTRO!$E$39=\"Non endémique\",\" \",IF(COUNTRY_INFO!C165=0,\" \",COUNTRY_INFO!C165))","v":"SONGO"},{"$f":"IF(INTRO!$E$39=\"Non endémique\",0,IF(INTRO!$E$39=\"Endémique mais pas de CP\",IF(COUNTRY_INFO!$H165=1,COUNTRY_INFO!F165+COUNTRY_INFO!G165,0),IF(COUNTRY_INFO!$H165=1,COUNTRY_INFO!F165+COUNTRY_INFO!G165,IF(COUNTRY_INFO!$I165=1,IF(COUNTRY_INFO!N165>=(COUNTRY_INFO!F165+COUNTRY_INFO!G165),COUNTRY_INFO!F165+COUNTRY_INFO!G165,COUNTRY_INFO!$N165),0))))","v":66038},{"$f":"IF(AND(INTRO!$E$39=\"Non endémique\",INTRO!$E$37=\"Non endémique\"),\"Non requis\",IF(INTRO!$E$39=\"Non endémique\",\"Traiter avec DEC\",COUNTRY_INFO!Q165))","v":1},{"$f":"IF(INTRO!$E$39<>\"Non endémique\",COUNTRY_INFO!R165,\"Non requis\")","v":1},{"$f":"IF(COUNTRY_INFO!H165=1, IF($E165=1,IF(ALB_MBD!$J165<>\" \",COUNTRY_INFO!F165+COUNTRY_INFO!G165-ALB_MBD!$J165,COUNTRY_INFO!F165+COUNTRY_INFO!G165), 0),0)","v":3427},{"$f":"IF(INTRO!$E$39<>\"Endémique\",0, IF(AND(COUNTRY_INFO!$I165=1,$F165<>0),IF(COUNTRY_INFO!N165>=(COUNTRY_INFO!F165+COUNTRY_INFO!G165),COUNTRY_INFO!F165+COUNTRY_INFO!G165,COUNTRY_INFO!$N165), 0))","v":66038},null,66038,0,0,184906.4,184906.4,null,184906.4,370]
[{"$f":"IF(INTRO!$E$39=\"Non endémique\",\" \",IF(COUNTRY_INFO!A166=0,\" \",COUNTRY_INFO!A166))","v":"Angola"},{"$f":"IF(INTRO!$E$39=\"Non endémique\",\" \",IF(COUNTRY_INFO!B166=0,\" \",COUNTRY_INFO!B166))","v":"UIGE"},{"$f":"IF(INTRO!$E$39=\"Non endémique\",\" \",IF(COUNTRY_INFO!C166=0,\" \",COUNTRY_INFO!C166))","v":"UIGE"},{"$f":"IF(INTRO!$E$39=\"Non endémique\",0,IF(INTRO!$E$39=\"Endémique mais pas de CP\",IF(COUNTRY_INFO!$H166=1,COUNTRY_INFO!F166+COUNTRY_INFO!G166,0),IF(COUNTRY_INFO!$H166=1,COUNTRY_INFO!F166+COUNTRY_INFO!G166,IF(COUNTRY_INFO!$I166=1,IF(COUNTRY_INFO!N166>=(COUNTRY_INFO!F166+COUNTRY_INFO!G166),COUNTRY_INFO!F166+COUNTRY_INFO!G166,COUNTRY_INFO!$N166),0))))","v":0},{"$f":"IF(AND(INTRO!$E$39=\"Non endémique\",INTRO!$E$37=\"Non endémique\"),\"Non requis\",IF(INTRO!$E$39=\"Non endémique\",\"Traiter avec DEC\",COUNTRY_INFO!Q166))","v":0},{"$f":"IF(INTRO!$E$39<>\"Non endémique\",COUNTRY_INFO!R166,\"Non requis\")","v":0},{"$f":"IF(COUNTRY_INFO!H166=1, IF($E166=1,IF(ALB_MBD!$J166<>\" \",COUNTRY_INFO!F166+COUNTRY_INFO!G166-ALB_MBD!$J166,COUNTRY_INFO!F166+COUNTRY_INFO!G166), 0),0)","v":0},{"$f":"IF(INTRO!$E$39<>\"Endémique\",0, IF(AND(COUNTRY_INFO!$I166=1,$F166<>0),IF(COUNTRY_INFO!N166>=(COUNTRY_INFO!F166+COUNTRY_INFO!G166),COUNTRY_INFO!F166+COUNTRY_INFO!G166,COUNTRY_INFO!$N166), 0))","v":0},null,0,0,0,0,0,null,0,0]
[{"$f":"IF(INTRO!$E$39=\"Non endémique\",\" \",IF(COUNTRY_INFO!A167=0,\" \",COUNTRY_INFO!A167))","v":"Angola"},{"$f":"IF(INTRO!$E$39=\"Non endémique\",\" \",IF(COUNTRY_INFO!B167=0,\" \",COUNTRY_INFO!B167))","v":"ZAIRE"},{"$f":"IF(INTRO!$E$39=\"Non endémique\",\" \",IF(COUNTRY_INFO!C167=0,\" \",COUNTRY_INFO!C167))","v":"CUIMBA"},{"$f":"IF(INTRO!$E$39=\"Non endémique\",0,IF(INTRO!$E$39=\"Endémique mais pas de CP\",IF(COUNTRY_INFO!$H167=1,COUNTRY_INFO!F167+COUNTRY_INFO!G167,0),IF(COUNTRY_INFO!$H167=1,COUNTRY_INFO!F167+COUNTRY_INFO!G167,IF(COUNTRY_INFO!$I167=1,IF(COUNTRY_INFO!N167>=(COUNTRY_INFO!F167+COUNTRY_INFO!G167),COUNTRY_INFO!F167+COUNTRY_INFO!G167,COUNTRY_INFO!$N167),0))))","v":0},{"$f":"IF(AND(INTRO!$E$39=\"Non endémique\",INTRO!$E$37=\"Non endémique\"),\"Non requis\",IF(INTRO!$E$39=\"Non endémique\",\"Traiter avec DEC\",COUNTRY_INFO!Q167))","v":0},{"$f":"IF(INTRO!$E$39<>\"Non endémique\",COUNTRY_INFO!R167,\"Non requis\")","v":0},{"$f":"IF(COUNTRY_INFO!H167=1, IF($E167=1,IF(ALB_MBD!$J167<>\" \",COUNTRY_INFO!F167+COUNTRY_INFO!G167-ALB_MBD!$J167,COUNTRY_INFO!F167+COUNTRY_INFO!G167), 0),0)","v":0},{"$f":"IF(INTRO!$E$39<>\"Endémique\",0, IF(AND(COUNTRY_INFO!$I167=1,$F167<>0),IF(COUNTRY_INFO!N167>=(COUNTRY_INFO!F167+COUNTRY_INFO!G167),COUNTRY_INFO!F167+COUNTRY_INFO!G167,COUNTRY_INFO!$N167), 0))","v":0},null,0,0,0,0,0,null,0,0]
[{"$f":"IF(INTRO!$E$39=\"Non endémique\",\" \",IF(COUNTRY_INFO!A168=0,\" \",COUNTRY_INFO!A168))","v":"Angola"},{"$f":"IF(INTRO!$E$39=\"Non endémique\",\" \",IF(COUNTRY_INFO!B168=0,\" \",COUNTRY_INFO!B168))","v":"ZAIRE"},{"$f":"IF(INTRO!$E$39=\"Non endémique\",\" \",IF(COUNTRY_INFO!C168=0,\" \",COUNTRY_INFO!C168))","v":"MBANZA KONGO"},{"$f":"IF(INTRO!$E$39=\"Non endémique\",0,IF(INTRO!$E$39=\"Endémique mais pas de CP\",IF(COUNTRY_INFO!$H168=1,COUNTRY_INFO!F168+COUNTRY_INFO!G168,0),IF(COUNTRY_INFO!$H168=1,COUNTRY_INFO!F168+COUNTRY_INFO!G168,IF(COUNTRY_INFO!$I168=1,IF(COUNTRY_INFO!N168>=(COUNTRY_INFO!F168+COUNTRY_INFO!G168),COUNTRY_INFO!F168+COUNTRY_INFO!G168,COUNTRY_INFO!$N168),0))))","v":0},{"$f":"IF(AND(INTRO!$E$39=\"Non endémique\",INTRO!$E$37=\"Non endémique\"),\"Non requis\",IF(INTRO!$E$39=\"Non endémique\",\"Traiter avec DEC\",COUNTRY_INFO!Q168))","v":0},{"$f":"IF(INTRO!$E$39<>\"Non endémique\",COUNTRY_INFO!R168,\"Non requis\")","v":0},{"$f":"IF(COUNTRY_INFO!H168=1, IF($E168=1,IF(ALB_MBD!$J168<>\" \",COUNTRY_INFO!F168+COUNTRY_INFO!G168-ALB_MBD!$J168,COUNTRY_INFO!F168+COUNTRY_INFO!G168), 0),0)","v":0},{"$f":"IF(INTRO!$E$39<>\"Endémique\",0, IF(AND(COUNTRY_INFO!$I168=1,$F168<>0),IF(COUNTRY_INFO!N168>=(COUNTRY_INFO!F168+COUNTRY_INFO!G168),COUNTRY_INFO!F168+COUNTRY_INFO!G168,COUNTRY_INFO!$N168), 0))","v":0},null,0,0,0,0,0,null,0,0]
[{"$f":"IF(INTRO!$E$39=\"Non endémique\",\" \",IF(COUNTRY_INFO!A169=0,\" \",COUNTRY_INFO!A169))","v":"Angola"},{"$f":"IF(INTRO!$E$39=\"Non endémique\",\" \",IF(COUNTRY_INFO!B169=0,\" \",COUNTRY_INFO!B169))","v":"ZAIRE"},{"$f":"IF(INTRO!$E$39=\"Non endémique\",\" \",IF(COUNTRY_INFO!C169=0,\" \",COUNTRY_INFO!C169))","v":"NOQUI"},{"$f":"IF(INTRO!$E$39=\"Non endémique\",0,IF(INTRO!$E$39=\"Endémique mais pas de CP\",IF(COUNTRY_INFO!$H169=1,COUNTRY_INFO!F169+COUNTRY_INFO!G169,0),IF(COUNTRY_INFO!$H169=1,COUNTRY_INFO!F169+COUNTRY_INFO!G169,IF(COUNTRY_INFO!$I169=1,IF(COUNTRY_INFO!N169>=(COUNTRY_INFO!F169+COUNTRY_INFO!G169),COUNTRY_INFO!F169+COUNTRY_INFO!G169,COUNTRY_INFO!$N169),0))))","v":0},{"$f":"IF(AND(INTRO!$E$39=\"Non endémique\",INTRO!$E$37=\"Non endémique\"),\"Non requis\",IF(INTRO!$E$39=\"Non endémique\",\"Traiter avec DEC\",COUNTRY_INFO!Q169))","v":0},{"$f":"IF(INTRO!$E$39<>\"Non endémique\",COUNTRY_INFO!R169,\"Non requis\")","v":0},{"$f":"IF(COUNTRY_INFO!H169=1, IF($E169=1,IF(ALB_MBD!$J169<>\" \",COUNTRY_INFO!F169+COUNTRY_INFO!G169-ALB_MBD!$J169,COUNTRY_INFO!F169+COUNTRY_INFO!G169), 0),0)","v":0},{"$f":"IF(INTRO!$E$39<>\"Endémique\",0, IF(AND(COUNTRY_INFO!$I169=1,$F169<>0),IF(COUNTRY_INFO!N169>=(COUNTRY_INFO!F169+COUNTRY_INFO!G169),COUNTRY_INFO!F169+COUNTRY_INFO!G169,COUNTRY_INFO!$N169), 0))","v":0},null,{"$f":"IF(I169=0,H169,IF(I169>H169,H169,I169))","v":0},{"$f":"IF(G169<J169,0,IF($E169=1, (G169-J169)*2.8, 0))","v":0},0,0,{"$f":"SUM(K169:M169)","v":0},null,0,0]
[{"$f":"IF(INTRO!$E$39=\"Non endémique\",\" \",IF(COUNTRY_INFO!A170=0,\" \",COUNTRY_INFO!A170))","v":"Angola"},{"$f":"IF(INTRO!$E$39=\"Non endémique\",\" \",IF(COUNTRY_INFO!B170=0,\" \",COUNTRY_INFO!B170))","v":"ZAIRE"},{"$f":"IF(INTRO!$E$39=\"Non endémique\",\" \",IF(COUNTRY_INFO!C170=0,\" \",COUNTRY_INFO!C170))","v":"NZETO"},{"$f":"IF(INTRO!$E$39=\"Non endémique\",0,IF(INTRO!$E$39=\"Endémique mais pas de CP\",IF(COUNTRY_INFO!$H170=1,COUNTRY_INFO!F170+COUNTRY_INFO!G170,0),IF(COUNTRY_INFO!$H170=1,COUNTRY_INFO!F170+COUNTRY_INFO!G170,IF(COUNTRY_INFO!$I170=1,IF(COUNTRY_INFO!N170>=(COUNTRY_INFO!F170+COUNTRY_INFO!G170),COUNTRY_INFO!F170+COUNTRY_INFO!G170,COUNTRY_INFO!$N170),0))))","v":0},{"$f":"IF(AND(INTRO!$E$39=\"Non endémique\",INTRO!$E$37=\"Non endémique\"),\"Non requis\",IF(INTRO!$E$39=\"Non endémique\",\"Traiter avec DEC\",COUNTRY_INFO!Q170))","v":0},{"$f":"IF(INTRO!$E$39<>\"Non endémique\",COUNTRY_INFO!R170,\"Non requis\")","v":0},{"$f":"IF(COUNTRY_INFO!H170=1, IF($E170=1,IF(ALB_MBD!$J170<>\" \",COUNTRY_INFO!F170+COUNTRY_INFO!G170-ALB_MBD!$J170,COUNTRY_INFO!F170+COUNTRY_INFO!G170), 0),0)","v":0},{"$f":"IF(INTRO!$E$39<>\"Endémique\",0, IF(AND(COUNTRY_INFO!$I170=1,$F170<>0),IF(COUNTRY_INFO!N170>=(COUNTRY_INFO!F170+COUNTRY_INFO!G170),COUNTRY_INFO!F170+COUNTRY_INFO!G170,COUNTRY_INFO!$N170), 0))","v":0},null,0,0,0,0,0,null,0,0]
[{"$f":"IF(INTRO!$E$39=\"Non endémique\",\" \",IF(COUNTRY_INFO!A171=0,\" \",COUNTRY_INFO!A171))","v":"Angola"},{"$f":"IF(INTRO!$E$39=\"Non endémique\",\" \",IF(COUNTRY_INFO!B171=0,\" \",COUNTRY_INFO!B171))","v":"ZAIRE"},{"$f":"IF(INTRO!$E$39=\"Non endémique\",\" \",IF(COUNTRY_INFO!C171=0,\" \",COUNTRY_INFO!C171))","v":"SOYO"},{"$f":"IF(INTRO!$E$39=\"Non endémique\",0,IF(INTRO!$E$39=\"Endémique mais pas de CP\",IF(COUNTRY_INFO!$H171=1,COUNTRY_INFO!F171+COUNTRY_INFO!G171,0),IF(COUNTRY_INFO!$H171=1,COUNTRY_INFO!F171+COUNTRY_INFO!G171,IF(COUNTRY_INFO!$I171=1,IF(COUNTRY_INFO!N171>=(COUNTRY_INFO!F171+COUNTRY_INFO!G171),COUNTRY_INFO!F171+COUNTRY_INFO!G171,COUNTRY_INFO!$N171),0))))","v":0},{"$f":"IF(AND(INTRO!$E$39=\"Non endémique\",INTRO!$E$37=\"Non endémique\"),\"Non requis\",IF(INTRO!$E$39=\"Non endémique\",\"Traiter avec DEC\",COUNTRY_INFO!Q171))","v":0},{"$f":"IF(INTRO!$E$39<>\"Non endémique\",COUNTRY_INFO!R171,\"Non requis\")","v":0},{"$f":"IF(COUNTRY_INFO!H171=1, IF($E171=1,IF(ALB_MBD!$J171<>\" \",COUNTRY_INFO!F171+COUNTRY_INFO!G171-ALB_MBD!$J171,COUNTRY_INFO!F171+COUNTRY_INFO!G171), 0),0)","v":0},{"$f":"IF(INTRO!$E$39<>\"Endémique\",0, IF(AND(COUNTRY_INFO!$I171=1,$F171<>0),IF(COUNTRY_INFO!N171>=(COUNTRY_INFO!F171+COUNTRY_INFO!G171),COUNTRY_INFO!F171+COUNTRY_INFO!G171,COUNTRY_INFO!$N171), 0))","v":0},null,0,0,0,0,0,null,0,0]
[{"$f":"IF(INTRO!$E$39=\"Non endémique\",\" \",IF(COUNTRY_INFO!A172=0,\" \",COUNTRY_INFO!A172))","v":"Angola"},{"$f":"IF(INTRO!$E$39=\"Non endémique\",\" \",IF(COUNTRY_INFO!B172=0,\" \",COUNTRY_INFO!B172))","v":"ZAIRE"},{"$f":"IF(INTRO!$E$39=\"Non endémique\",\" \",IF(COUNTRY_INFO!C172=0,\" \",COUNTRY_INFO!C172))","v":"TOMBOCO"},{"$f":"IF(INTRO!$E$39=\"Non endémique\",0,IF(INTRO!$E$39=\"Endémique mais pas de CP\",IF(COUNTRY_INFO!$H172=1,COUNTRY_INFO!F172+COUNTRY_INFO!G172,0),IF(COUNTRY_INFO!$H172=1,COUNTRY_INFO!F172+COUNTRY_INFO!G172,IF(COUNTRY_INFO!$I172=1,IF(COUNTRY_INFO!N172>=(COUNTRY_INFO!F172+COUNTRY_INFO!G172),COUNTRY_INFO!F172+COUNTRY_INFO!G172,COUNTRY_INFO!$N172),0))))","v":50409},{"$f":"IF(AND(INTRO!$E$39=\"Non endémique\",INTRO!$E$37=\"Non endémique\"),\"Non requis\",IF(INTRO!$E$39=\"Non endémique\",\"Traiter avec DEC\",COUNTRY_INFO!Q172))","v":1},{"$f":"IF(INTRO!$E$39<>\"Non endémique\",COUNTRY_INFO!R172,\"Non requis\")","v":0},{"$f":"IF(COUNTRY_INFO!H172=1, IF($E172=1,IF(ALB_MBD!$J172<>\" \",COUNTRY_INFO!F172+COUNTRY_INFO!G172-ALB_MBD!$J172,COUNTRY_INFO!F172+COUNTRY_INFO!G172), 0),0)","v":2615},{"$f":"IF(INTRO!$E$39<>\"Endémique\",0, IF(AND(COUNTRY_INFO!$I172=1,$F172<>0),IF(COUNTRY_INFO!N172>=(COUNTRY_INFO!F172+COUNTRY_INFO!G172),COUNTRY_INFO!F172+COUNTRY_INFO!G172,COUNTRY_INFO!$N172), 0))","v":0},null,0,7321.9999999999991,0,0,7321.9999999999991,null,7321.9999999999991,15]

{"sheet":"SUMMARY","index":6,"n_rows":93,"n_cols":8,"rows_kept":93,"cut":false,"hidden":false,"merged":[[86,1,86,7],[69,1,69,7],[83,1,83,2],[73,2,73,3],[73,4,73,5],[84,3,84,7],[84,1,84,2],[83,3,83,7],[21,2,24,5],[25,1,25,7],[53,1,53,7],[46,5,46,6],[47,5,47,6],[48,5,48,6],[49,5,49,6],[50,5,50,6],[30,6,30,7],[42,5,42,6],[40,5,40,6],[41,5,41,6],[43,5,43,6],[44,5,44,6],[45,5,45,6],[60,1,60,7],[62,4,62,6],[82,1,82,7],[58,1,58,7],[54,1,54,7],[81,1,81,7],[68,1,68,7],[9,1,10,1],[9,2,9,5],[9,6,9,7],[5,2,5,5],[92,1,92,7],[87,1,87,7],[91,1,91,7],[57,1,57,7],[30,4,30,5],[56,1,56,7],[38,1,38,7],[79,1,79,7],[80,1,80,7],[6,1,6,7],[55,1,55,7],[30,2,30,3],[1,1,1,7],[2,1,2,5],[3,1,3,7],[4,1,4,7],[0,2,0,7]]}
[null,null,"Cette version sera utilisée par les pays endémiques à la Loase"]
[null,"Formulaire de demande commune de médicaments pour CP v.3.1 (L)"]
[]
[null,"Ce formulaire constitue une demande officielle du Gouvernement à l'OMS pour l'approvisionnement des médicaments mentionnés ci-dessus. Ce formulaire peut-être soumis à n'importe quel moment, avant le 15 août de l'année en cours, pour une livraison de médicaments au courant de l'année suivante, mais au moins 6-8 mois avant l’intervention planifiée afin de laisser le temps nécessaire pour réviser et approuver la demande, placer la commande, élaborer les médicaments et les expédier vers les pays."]
[]
[null,"Pays",{"$f":"IF(INTRO!$E$33<>0,INTRO!$E$33,\" \")","v":"Angola"},null,null,null,"Année",{"$f":"IF(INTRO!$E$35<>0,INTRO!$E$35,\" \")","v":2023}]
[]
[null,"Informations concernant les médicaments CP demandés à l’OMS"]
[]
[null,"Le médicament","Nombre de comprimés",null,null,null,"Nombre total de flacons"]
[null,null,"Requis","En stock","En cours de demande","Demandés","Requis","Demandés"]
[null,"Albendazole pour FL",5056391,3998600,null,{"$f":"IF(C12>(D12+E12),C12-D12-E12, 0)","v":1057791},{"$f":"IF($C12=0,0,IF($B12=\"Albendazole pour FL\",IF($C12=(ALB_MBD!$U$4+ALB_MBD!$V$4),ALB_MBD!$W$4,ROUNDUP($C12/200,0)),IF($B12=\"Albendazole pour STH (EAS)\",IF($C12=ALB_MBD!$N$4,ALB_MBD!$Z$4,ROUNDUP($C12/200,0)),IF($B12=\"Mebendazole (EAS)\",IF($C12=ALB_MBD!$R$4,ALB_MBD!$AC$4,ROUNDUP($C12/150,0)),IF($B12=\"Praziquantel (EAS)\",IF($C12=PZQ!$O$4,PZQ!$R$4,ROUNDUP($C12/1000,0)),IF($B12=\"Ivermectine\",IF($C12=IVM!$N$4,IVM!$Q$4,$C12/500+0.49),0))))))","v":25299},{"$f":"IF($F12=0,0,IF(OR($B12=\"Albendazole pour FL\",$B12=\"Albendazole pour STH (EAS)\"),$G12-ROUNDUP(($E12+$D12)/200,0),IF($B12=\"Ivermectine\",$G12-ROUNDUP(($E12+$D12)/500,0),IF($B12=\"Mebendazole (EAS)\",$G12-ROUNDUP(($E12+$D12)/150,0),$G12-ROUNDUP(($E12+$D12)/1000,0)))))","v":5306}]
[null,"Albendazole pour STH (EAS)",3031104.5470216498,2473629,null,557475.54702164978,{"$f":"IF($C13=0,0,IF($B13=\"Albendazole pour FL\",IF($C13=(ALB_MBD!$U$4+ALB_MBD!$V$4),ALB_MBD!$W$4,ROUNDUP($C13/200,0)),IF($B13=\"Albendazole pour STH (EAS)\",IF($C13=ALB_MBD!$N$4,ALB_MBD!$Z$4,ROUNDUP($C13/200,0)),IF($B13=\"Mebendazole (EAS)\",IF($C13=ALB_MBD!$R$4,ALB_MBD!$AC$4,ROUNDUP($C13/150,0)),IF($B13=\"Praziquantel (EAS)\",IF($C13=PZQ!$O$4,PZQ!$R$4,ROUNDUP($C13/1000,0)),IF($B13=\"Ivermectine\",IF($C13=IVM!$N$4,IVM!$Q$4,$C13/500+0.49),0))))))","v":15186},2817]
[null,"Praziquantel (EAS)",7863896,44621,null,7819275,{"$f":"IF($C14=0,0,IF($B14=\"Albendazole pour FL\",IF($C14=(ALB_MBD!$U$4+ALB_MBD!$V$4),ALB_MBD!$W$4,ROUNDUP($C14/200,0)),IF($B14=\"Albendazole pour STH (EAS)\",IF($C14=ALB_MBD!$N$4,ALB_MBD!$Z$4,ROUNDUP($C14/200,0)),IF($B14=\"Mebendazole (EAS)\",IF($C14=ALB_MBD!$R$4,ALB_MBD!$AC$4,ROUNDUP($C14/150,0)),IF($B14=\"Praziquantel (EAS)\",IF($C14=PZQ!$O$4,PZQ!$R$4,ROUNDUP($C14/1000,0)),IF($B14=\"Ivermectine\",IF($C14=IVM!$N$4,IVM!$Q$4,$C14/500+0.49),0))))))","v":7864},7819]
[null,"Ivermectine",18110979.600000001,0,null,18110979.600000001,{"$f":"IF($C15=0,0,IF($B15=\"Albendazole pour FL\",IF($C15=(ALB_MBD!$U$4+ALB_MBD!$V$4),ALB_MBD!$W$4,ROUNDUP($C15/200,0)),IF($B15=\"Albendazole pour STH (EAS)\",IF($C15=ALB_MBD!$N$4,ALB_MBD!$Z$4,ROUNDUP($C15/200,0)),IF($B15=\"Mebendazole (EAS)\",IF($C15=ALB_MBD!$R$4,ALB_MBD!$AC$4,ROUNDUP($C15/150,0)),IF($B15=\"Praziquantel (EAS)\",IF($C15=PZQ!$O$4,PZQ!$R$4,ROUNDUP($C15/1000,0)),IF($B15=\"Ivermectine\",IF($C15=IVM!$N$4,IVM!$Q$4,$C15/500+0.49),0))))))","v":36258},36258]
[null,"Mebendazole (EAS)",0,0,null,0,{"$f":"IF($C16=0,0,IF($B16=\"Albendazole pour FL\",IF($C16=(ALB_MBD!$U$4+ALB_MBD!$V$4),ALB_MBD!$W$4,ROUNDUP($C16/200,0)),IF($B16=\"Albendazole pour STH (EAS)\",IF($C16=ALB_MBD!$N$4,ALB_MBD!$Z$4,ROUNDUP($C16/200,0)),IF($B16=\"Mebendazole (EAS)\",IF($C16=ALB_MBD!$R$4,ALB_MBD!$AC$4,ROUNDUP($C16/150,0)),IF($B16=\"Praziquantel (EAS)\",IF($C16=PZQ!$O$4,PZQ!$R$4,ROUNDUP($C16/1000,0)),IF($B16=\"Ivermectine\",IF($C16=IVM!$N$4,IVM!$Q$4,$C16/500+0.49),0))))))","v":0},0]
[null,null,0,0,null,0,{"$f":"IF($C17=0,0,IF($B17=\"Albendazole pour FL\",IF($C17=(ALB_MBD!$U$4+ALB_MBD!$V$4),ALB_MBD!$W$4,ROUNDUP($C17/200,0)),IF($B17=\"Albendazole pour STH (EAS)\",IF($C17=ALB_MBD!$N$4,ALB_MBD!$Z$4,ROUNDUP($C17/200,0)),IF($B17=\"Mebendazole (EAS)\",IF($C17=ALB_MBD!$R$4,ALB_MBD!$AC$4,ROUNDUP($C17/150,0)),IF($B17=\"Praziquantel (EAS)\",IF($C17=PZQ!$O$4,PZQ!$R$4,ROUNDUP($C17/1000,0)),IF($B17=\"Ivermectine\",IF($C17=IVM!$N$4,IVM!$Q$4,$C17/500+0.49),0))))))","v":0},0]
[]
[null,"Nombre de personnes devant être traitées avec le médicament donné"]
[]
[null,"Veuillez sélectionner la maladie",null,null,null,null,"1er tour","2ème tour"]
[null,"Filariose lymphatique","Ces chiffres sont estimés uniquement pour les goupes d'âge ciblés pour le traitement avec les médicaments donnés, dans les régions où le traitement de maladies spécifiques est requis",null,null,null,3484642," "]
[null,"Onchocercose",null,null,null,null,5458531,0]
[null,"Schistosomiase",null,null,null,null,3940918," "]
[null,"Géohelminthiases",null,null,null,null,3207380,899670]
[]
[]
[]
[null,"Informations sur les interventions CP planifiées "]
[]
[null,"Le médicament","Veuillez sélectionner une date (mois et année) pour la 1ère tournée de CP",null,"Veuillez sélectionner une date (mois et année) pour la 2ème tournée de CP",null,"Date à laquelle les médicaments devraient atteindre l’entrepôt national"]
[null,"Albendazole pour FL","Octobre",2023,"Avril",2024,"Juillet",2023]
[null,"Albendazole pour STH (EAS)","Octobre",2023,"Avril",2024,"Juillet",2023]
[null,"Praziquantel (EAS)","Octobre",2023,null,null,"Juillet",2023]
[null,"Ivermectine","Octobre",2023,null,null,"Juillet",2023]
[null,"Mebendazole (EAS)"]
[]
[]
[null,"Informations sur les médicaments de chimiothérapie préventive pour le traitement de populations non ciblées par la donation en cours via l’OMS"]
[]
[null,"Le médicament","Groupe d'âge","# de personnes","# de comprimés","Source",null,"Statut"]
[]
[]
[]
[]
[]
[]
[]
[]
[]
[]
[]
[null,"Récapitulatif - Checklist"]
[null,"Submission"]
[null,"Que faut-il soumettre ?"]
[null,"L'approvisionnement des médicaments demandés doit être basé sur des données épidémiologiques à jour, des plans d'utilisation des médicaments spécifiques et sur la capacité de mise en oeuvre. La liste suivante permet d'assurer que tous les formulaires et toutes les informations sont fournis à l'OMS (en format électronique)."]
[null,"Formulaire de demande commune de médicaments pour chimioprévention"]
[null,"Formulaire de rapport commun"]
[null,"Déclaration des données épidémiologiques pour la CP"]
[]
[null,"Disponibilité de financement pour la mise en oeuvre de tournées pendant l’année pour laquelle les medicaments ont été demandés"]
[]
[null,"Maladies ciblées pour la mise en oeuvre","# de traitements ","Financement assuré pour","Origine",null,null,"Montant"]
[null,{"$f":"B22","v":"Filariose lymphatique"},{"$f":"SUM(G22:H22)","v":3484642},"No","Request to WHO, MoH not yet approved"]
[null,{"$f":"B23","v":"Onchocercose"},{"$f":"SUM(G23:H23)","v":5458531},"No","Request to WHO, MoH not yet approved"]
[null,{"$f":"B24","v":"Schistosomiase"},{"$f":"SUM(G24:H24)","v":3940918},"Oui pour 7 provinces","Request to WHO, WB, MENTOR, MoH, not yet approved",null,null,122266]
[null,{"$f":"B25","v":"Géohelminthiases"},{"$f":"SUM(G25:H25)","v":4107050},"Oui pour 7 provinces","Request to WHO, WB, MENTOR, MoH, not yet approved",null,null,122266]
[]
[null,"Qui doit remplir le formulaire ?"]
[null,"Le Coordonnateur national MTN doit compiler toutes les informations nécessaires pour compléter le formulaire de demande.  En l'absence d'un coordonnateur, les gestionnaires de programmes spécifiques devraient coordonner leurs sections respectives. Une fois finalisée, chaque demande individuelle doit être approuvée par le Ministère de la Santé."]
[]
[null,"Informations concernant la (les) personne(s) ayant rempli le formulaire"]
[]
[null,"Titre/fonction ","Nom",null,"Téléphone",null,"Email","Date"]
[null,"Gestionnaire de programme SCH","Elsa Mendes",null,925115354,null,"elsa.palma.mendes@gmail.com","2022-08-27"]
[null,"autre","Julio Perez",null,921042633,null,"julio@mentor-initiative.net","2022-08-27"]
[]
[]
[]
[null,"L’OMS recommende que tous les effets secondaires graves suspectés d’être associés à l’ingestion de médicaments de CP soient rapportés en suivant les lignes directrices nationales de pharmacovigilance.  En l’absence d’un système de pharmacovigilance national, contactez le département de Contrôle des Maladies Tropicales Négligées pour être conseillé."]
[null,"L’OMS s’est engagée à rendre possible la donation de médicaments en fournissant gratuitement: a) albendazole, mebendazole et praziquantel à l’entrepôt national du Ministère de la Santé et b) diethylcarbamazine au port d’entrée du pays receveur."]
[null,"L’institution soumettant la présente requête est responsable de: a) l’organisation du déchargement des médicaments du camion, du stockage dans l’entrepôt national et de l’expédition vers les centres où aura lieu la distribution finale; b) de l’enregistrement, si nécessaire, des médicaments donnés, auprès des autorités nationales en charge; et de c) de l’information de n’importe quels changements ayant trait à leurs campagnes de traitement (par exemple le report d’une date planifiée de distribution en masse de médicaments, le remplacement d’un coordonateur MTN, etc.)."]
[null,"         J’ai pris connaissance et accepté la politique de la communication de données de l’OMS"]
[null,"Nom et signature \ndu Coordonnateur MTN ou du \nReprésentant du Ministère de la Santé",null,"Maria Cécilia César de Almeida "]
[null,"Date",null,"2022-08-27"]
[]
[null,"Si vous avez plus d'un destinataire final pour les médicaments de chimioprévention demandés, veuillez compléter les informations de la rubrique \"Informations concernant l'envoi et le destinataire\" dans la feuille de travail SHIPMENT."]
[null,"Veuillez envoyer le rapport national (signé et sous format électronique) au représentant de I'OMS du pays en mettant en copie:"]
[null,"Siège de l'OMS ","PC_JointForms@who.int"]
[null,"Bureau régional de l'OMS","Conseiller régional MTN"]
[null,"Mectizan donation programme","Dr Yao Sodahlon, email: ysodahlon@taskforce.org"]
[]
[null,"Veuillez noter que votre demande sera examinée par un panel d'experts indépendants (Comité ad hoc d’évaluation conjointe). Les informations contenues dans ce formulaire, le rapport commun d'activités (ou rapport national d'activités) et le plan d'action annuel sont essentiels à l'OMS pour assurer un usage optimal des médicaments. Dans le cadre de ses activités courantes de suivi et d'évaluation, et afin d'honorer ses obligations contractuelles envers les bailleurs de fonds  et autres partenaires, l'OMS et ses agents affiliés se réservent le droit d'inspecter, périodiquement, les stocks de médicaments au niveau national. "]

{"sheet":"SHIPMENT","index":7,"n_rows":46,"n_cols":8,"rows_kept":46,"cut":false,"hidden":false,"merged":[[0,2,0,7],[35,1,35,7],[47,1,57,7],[45,1,45,7],[30,2,30,4],[30,5,30,7],[31,2,31,4],[31,5,31,7],[32,2,32,4],[32,5,32,7],[36,1,36,6],[37,1,37,5],[39,1,39,7],[40,1,40,6],[38,1,38,6],[41,1,41,6],[42,1,42,7],[28,2,28,4],[28,5,28,7],[29,2,29,4],[29,5,29,7],[27,2,27,4],[27,5,27,7],[13,5,13,7],[17,5,17,7],[26,2,26,4],[20,2,20,4],[20,5,20,7],[26,5,26,7],[21,5,21,7],[18,5,18,7],[19,2,19,4],[19,5,19,7],[23,2,23,4],[21,2,21,4],[17,2,17,4],[25,2,25,4],[25,5,25,7],[18,2,18,4],[1,1,1,7],[2,1,2,5],[12,2,12,4],[15,1,15,7],[14,2,14,4],[14,5,14,7],[12,5,12,7],[13,2,13,4],[11,5,11,7],[11,2,11,4],[6,1,6,7],[9,2,9,4],[7,2,7,4],[7,5,7,7],[8,2,8,4],[9,5,9,7],[10,2,10,4],[10,5,10,7],[3,2,3,5],[4,1,4,7],[8,5,8,7],[23,5,23,7],[16,2,16,4],[16,5,16,7],[22,2,22,4],[22,5,22,7]]}
[null,null,"Cette version sera utilisée par les pays endémiques à la Loase"]
[null,"Formulaire de demande commune de médicaments pour CP v.3.1 (L)"]
[]
[null,"Pays",{"$f":"IF(INTRO!$E$33<>0,INTRO!$E$33,\" \")","v":"Angola"},null,null,null,"Année",{"$f":"IF(INTRO!$E$35<>0,INTRO!$E$35,\" \")","v":2023}]
[]
[null,"Informations sur l'envoi et le destinataire "]
[]
[null,null,"Destinataire",null,null,"Destinataire final\nsi différent du destinaire précédent"]
[null,"Nom","Djamila Khady Cabral",null,null,"Maria Cecilia Cesar de Almeida"]
[null,"Département/Unité","Escritorio da OMS ANGOLA",null,null,"Direcção Nacional de Saude Publica "]
[null,"Organisation","OMS",null,null,"Ministerio da Saude (MINSA) de Angola"]
[null,"Téléphone","(244) 222 394153",null,null,"(244) 222 396 722"]
[null,"Fax"]
[null,"E-mail","afwcoaowr@who.int",null,null,"cecidealmeida@hotmail.com"]
[null,"Adresse postale","Condomínio Rosalinda, Edifício da ONU, 9º andar Futungo de Belas",null,null,"Rua Primeiro Congresso do MPLA N°67"]
[]
[null,null,"Destinataire",null,null,"Destinataire final\nsi différent du destinaire précédent"]
[null,"Nom"]
[null,"Département/Unité"]
[null,"Organisation"]
[null,"Téléphone"]
[null,"Fax"]
[null,"E-mail"]
[null,"Adresse postale"]
[]
[null,null,"Destinataire",null,null,"Destinataire final\nsi différent du destinaire précédent"]
[null,"Nom"]
[null,"Département/Unité"]
[null,"Organisation"]
[null,"Téléphone"]
[null,"Fax"]
[null,"E-mail"]
[null,"Adresse postale"]
[]
[null,"Information concernant les obligations légales d’importation"]
[]
[null,"Est le permis d'importation nécessaire?"]
[null,"Combien de temps cela prend-il pour obtenir le permis d’importation?"]
[null,"Avez vous besoin que certains documents soient remis en même temps que la demande de permis d’importation?"]
[null,"Si oui, merci de bien vouloir spécifier lesquels ici"]
[null,"Est-ce que le destinataire doit procéder au dédouanement avant que l’expédition puisse avoir lieu?"]
[null,"Y a-t-il des informations supplémentaires qui pourraient être utiles afin d’assurer un dédouanement et une livraison rapide des médicaments dans votre pays?"]
[null,"Si oui, merci de bien vouloir spécifier lesquels ici"]
[]
[]
[null,"Remarques supplémentaires éventuelles liées à cette requête"]

{"sheet":"DATA_POLICY","index":8,"n_rows":39,"n_cols":8,"rows_kept":39,"cut":false,"hidden":true,"merged":[[55,1,55,2],[0,1,0,5],[1,1,1,7],[3,3,3,5],[6,1,6,7],[8,1,12,7],[13,1,16,7],[17,1,21,7],[22,1,25,7],[26,2,36,7],[38,1,45,7]]}
[]
[null,"Formulaire de demande commune de médicaments pour CP v.3.1"]
[]
[null,"Pays",null,{"$f":"IF(INTRO!$E$33<>0,INTRO!$E$33,\" \")","v":"Angola"},null,null,"Année",{"$f":"IF(INTRO!$E$35<>0,INTRO!$E$35,\" \")","v":2023}]
[]
[]
[null,"Déclaration de principe sur la communication de données par l’OMS"]
[]
[null,"Les données sont le fondement de toutes les mesures rationnelles de santé publique et les avantages de la communication de données, y compris pour la science et la santé publique, sont largement reconnus. L’OMS souhaite promouvoir autant que possible la communication de données sanitaires, y compris, mais pas uniquement, de données épidémiologiques et de surveillance."]
[]
[]
[]
[]
[null,{"$f":"\"À cet égard, et sans préjudice des instruments juridiquement contraignants régissant la communication et la publication d’informations, le Ministère de la santé de \" & D4 & \", en fournissant des données à l’OMS :\"","v":"À cet égard, et sans préjudice des instruments juridiquement contraignants régissant la communication et la publication d’informations, le Ministère de la santé de Angola, en fournissant des données à l’OMS :"}]
[]
[]
[]
[null,"confirme que toutes les données à fournir à l’OMS, ont été collectées conformément à la législation nationale applicable, y compris aux lois de protection des données visant à préserver l’anonymat des personnes identifiables ;"]
[]
[]
[]
[]
[null,{"$f":"\"convient que l’OMS aura le droit, toujours sous réserve des mesures visant à garantir l’utilisation éthique et sécurisée des données et toujours sous réserve d’une reconnaissance appropriée de la part de \"&D4&\":\"","v":"convient que l’OMS aura le droit, toujours sous réserve des mesures visant à garantir l’utilisation éthique et sécurisée des données et toujours sous réserve d’une reconnaissance appropriée de la part de Angola:"}]
[]
[]
[]
[null,null,"de publier les données, dépourvues de tout élément d’identification personnelle (ci-après dénommées « les données ») et de les mettre à la disposition de toute partie intéressée, sur demande (dans la mesure où elles n’ont pas, ou pas encore, été publiées par l’OMS), selon des modalités autorisant leur utilisation non commerciale et sans but lucratif à des fins de santé publique (pour autant que l’OMS garde la maîtrise de la publication des données) ;\nd’utiliser, de compiler, d’agréger, d’évaluer et d’analyser les données et de publier et de diffuser les résultats obtenus grâce à ces données en rapport avec des travaux de l’OMS et conformément aux politiques et pratiques de l’Organisation."]
[]
[]
[]
[]
[]
[]
[]
[]
[]
[]
[]
[null,{"$f":"CONCATENATE(\"Sauf lorsque des instruments juridiquement contraignants (RSI, Règlement de Nomenclature de l’OMS, de 1967, etc.) disposent que les données doivent être communiquées et publiées, le Ministère de la santé de \", D4,\" peut, pour certaines données, décider de ne pas appliquer (tout ou partie des) (les) dispositions qui précèdent,\" & \" en informant l’OMS par écrit à l’adresse suivante, à condition que cette notification précise clairement les données, \" & \"dont il s’agit et indique clairement lesquelles des dispositions qui précèdent ne seront pas appliquées, et pour quels motifs.\")","v":"Sauf lorsque des instruments juridiquement contraignants (RSI, Règlement de Nomenclature de l’OMS, de 1967, etc.) disposent que les données doivent être communiquées et publiées, le Ministère de la santé de Angola peut, pour certaines données, décider de ne pas appliquer (tout ou partie des) (les) dispositions qui précèdent, en informant l’OMS par écrit à l’adresse suivante, à condition que cette notification précise clairement les données, dont il s’agit et indique clairement lesquelles des dispositions qui précèdent ne seront pas appliquées, et pour quels motifs."}]