{"text_format":"1","workbook":"xlsx","n_sheets":7,"sheets":["INTRO","COUNTRY_INFO","ALB_MBD","PZQ","IVM","SUMMARY","SHIPMENT"],"not_rendered":{"charts":0,"images":2,"macros":1,"external_links":0,"defined_names":4,"comments":0,"pivot_tables":0},"unopened":[],"bounds":{"document_bytes":16777216,"sheet_cells":100000,"rows_first":2000,"rows_last":500,"rows_between":2000,"halvings":0,"cell_chars":16384,"cell_head_chars":4096},"cells_cut":0,"cells_raw":0,"read":"whole","date_system":"1900"}

{"sheet":"INTRO","index":0,"n_rows":50,"n_cols":5,"rows_kept":50,"cut":false,"hidden":false,"merged":[[1,1,1,4],[5,1,5,4],[3,1,3,4],[0,2,0,4],[21,1,21,4],[7,2,7,4],[11,1,11,4],[4,1,4,4],[10,2,10,4],[20,2,20,4],[2,1,2,4],[17,1,17,4],[13,1,13,4],[18,2,18,4],[8,2,8,4],[24,1,24,4],[9,2,9,4],[46,1,46,4],[38,1,38,2],[40,1,40,2],[42,1,42,2],[44,1,44,2],[34,1,34,2],[36,1,36,2],[22,2,23,4],[25,2,26,4],[19,1,19,4],[12,1,12,4],[16,1,16,4],[14,1,14,4],[15,1,15,4],[27,1,27,4],[32,1,32,2],[29,1,29,4],[30,1,30,4],[28,2,28,4]]}
[null,null,"Cette version sera utilisée par les pays endémiques à la Loase"]
[null,"Formulaire de demande commune de médicaments pour CP v.3 (L)"]
[]
[null,"Dans le cadre des efforts mondiaux entrepris pour accélérer l'expansion de la chimioprévention (CP) pour l'élimination de la filariose lymphatique et la lutte contre la schistosomiase et les géohelminthiases, l'Organisation mondiale de la Santé (OMS) facilite l'approvisionnement en albendazole, comprimés de 400 mg (GSK), pour les programmes nationaux d'élimination de la filariose lymphatique et programmes nationaux de lutte contre les géohelminthiases; en diethylcarbamazine, comprimés de 100 mg (Eisai), pour les programmes nationaux d'élimination de la filariose lymphatique; en mebendazole, comprimés de 500 mg (J&J) pour les programmes nationaux de lutte contre les géohelminthiases et en praziquantel, comprimés de 600 mg (Merck KGaA), destinés aux enfants d'âge scolaire, pour les programmes nationaux de lutte contre la schistosomiase. L'OMS contribue également à l'approvisionnement en ivermectine, comprimés de 3 mg (Merck), pour les programmes de donation pour l'onchocercose et la filariose lymphatique. \nCet outil Excel est concu pour aider les pays à quantifier le nombre de comprimés nécessaires, selon le traitement de chimioprévention requis, pour atteindre les objectifs de couverture de traitement de populations et districts pour l'année de la demande de médicaments. Le résultat de cet outil est une demande commune de médicaments pour la chimioprévention des maladies tropicales négligées, qui peut être imprimée, signée et soumise à l'OMS pour la demande de ces médicaments. "]
[]
[null,"Structure de l'application (feuilles de travail) :"]
[]
[null,"INTRO","Cette feuille contient des instructions pour compléter le formulaire de demande de médicaments pour la chimioprévention et des informations sur le statut de la chimioprévention pour les maladies d'endémie du pays."]
[null,"COUNTRY_INFO","Cette feuille contient des informations sur la structure administrative du pays, la population par groupe d'âge, le statut d'endémicité pour chaque maladie, la population devant être traitée par chimioprévention et les interventions prévues."]
[null,"DEC, ALB_MBD, PZQ et IVM","Ces feuilles contiennent des informations sur l'endémicité des districts ciblés pour le traitement aux médicaments spécifiques à la chimioprévention, les plans de traitement, et le nombre de comprimés requis et demandés."]
[null,"SUMMARY","Cette feuille inclut un résumé du nombre de comprimés demandés, des informations concernant le stock et les dates de soumission de la demande de médicaments. Avant de générer le rapport (run macros), veuillez sélectionner le médicament pour lequel le rapport est nécessaire. Veuillez suivre la même règle pour voir le nombre de personnes à traiter pour les maladies spécifiques. \nCette feuille doit être imprimée et soumise en tant que \"Formulaire de demande commune de médicaments pour chimioprévention\" (voir les instructions pour la soumission du formulaire sous la feuille SUMMARY)."]
[]
[null,"Instructions pour la saisie des données"]
[]
[null,"La plupart des cellules des feuilles de travail mentionnées ci-dessus contiennent des formules calculées automatiquement en fonction du protocole de traitement recommandé par l'OMS pour chaque maladie.\nVoir : http://www.who.int/neglected_diseases/preventive_chemotherapy/pct_manual/en/index.html"]
[]
[null,"Veuillez entrer vos données dans les cellules en fonction de leur code de couleur :"]
[]
[null,null,"Blanc - la cellule n'est pas protégée. Veuillez entrer la valeur de l'indicateur demandé."]
[]
[null,null,"Jaune - la cellule est protégée et inclut le nom de l'indicateur. Aucune entrée de données requise."]
[]
[null,null,"Orange - la cellule n'est pas protégée et contient un menu déroulant. Veuillez sélectionner la valeur dans le menu déroulant. "]
[]
[]
[null,null,"Vert - la cellule n'est pas protégée et contient des formules. Veuillez changer la valeur indiquée uniquement si vos données sont différentes de celles calculées automatiquement.  "]
[]
[]
[null,null,"Bleu - la cellule est protégée et contient des formules. Aucune entrée de données requise. "]
[]
[null,"Données pays"]
[]
[null,"PAYS",null,null,"Angola"]
[]
[null,"Année de la demande de médicaments",null,null,2019]
[]
[null,"Le pays est-il endémique à la filariose lymphatique (FL) ?",null,null,"Endémique"]
[]
[null,"Le pays est-il endémique à l'onchocercose (ONCHO) ? ",null,null,"Endémique"]
[]
[null,"Le pays est-il endémique aux géohelminthiases (STH) ?",null,null,"Endémique"]
[]
[null,"Le pays est-il endémique à la schistosomiase (SCH) ?",null,null,"Endémique"]
[]
[null,"Combien d'unités administratives compte le pays ?",null,null,164]
[]
[null,"Si les données démographiques par groupe d'âge ne sont pas disponibles au second niveau administratif, veuillez entrer la proportion (%) de population, par groupe d'âge, du pays. Si les données sont disponibles, veuillez laisser les cellules vierges."]
[null,"1-4 ans","Enfants d'âge pré-scolaire (EAPréS)",null,0.16]
[null,"5-14 ans","Enfants d'âge scolaire (EAS)",null,0.27900000000000003]
[null,"15 ans et plus","Adultes",null,0.52700000000000002]

{"sheet":"COUNTRY_INFO","index":1,"n_rows":172,"n_cols":26,"rows_kept":172,"cut":false,"hidden":false,"merged":[[3,0,3,2],[3,7,3,11],[3,16,3,19],[5,0,5,2],[3,20,3,23],[5,20,5,23],[7,0,7,19],[5,3,5,6],[5,7,5,11],[5,12,5,15],[5,16,5,19]]}
["INFORMATIONS PAYS"]
["Struture administrative, population par groupe d'âge, statut d'endémicité et interventions planifiées"]
[]
["TOTAL",null,null,{"$f":"SUM(D$9:D$1000)","v":29463690},{"$f":"SUM(E$9:E$1000)","v":4714188},{"$f":"SUM(F$9:F$1000)","v":8220371},{"$f":"SUM(G$9:G$1000)","v":15527367},null,null,null,null,null,{"$f":"SUM(M$9:M$1000)","v":733205},{"$f":"SUM(N$9:N$1000)","v":5759008},{"$f":"SUM(O$9:O$1000)","v":12194554},{"$f":"SUM(P$9:P$1000)","v":7089383.4399999958}]
[]
["Structure administrative du pays",null,null,"Population",null,null,null,"Endémicité",null,null,null,null,"Population nécessitant la CP",null,null,null,"Nombre de tournées de traitement prévues pour l'année",null,null,null,"Enquêtes épidémiologiques planifiées pour l’année"]
["Pays","Région/Département","District","Total","EAPréS","EAS","Adultes","FL","Oncho","STH","SCH","Loa","FL","Oncho","STH","SCH","FL","Oncho","STH","SCH","FL","Oncho","STH","SCH","IU_ID","IU_Name"]
[]
[{"$f":"IF(INTRO!$E$33<>0,INTRO!$E$33, \" \")","v":"Angola"},"BENGO","AMBRIZ",25948,{"$f":"IF(INTRO!$E$48=\"\",\"\",ROUND($D9*INTRO!$E$48,0))","v":4152},{"$f":"IF(INTRO!$E$49=\"\",\"\",ROUND($D9*INTRO!$E$49,0))","v":7239},{"$f":"IF(INTRO!$E$50=\"\",\"\",ROUND($D9*INTRO!$E$50,0))","v":13675},0,4,3,2,1,{"$f":"IF(INTRO!$E$37=\"Endémique\",IF($H9>0,IF($H9=4,\"Inconnu\",IF($H9=99,\"Interrompu\",$D9)),0),\"Non requis\")","v":0},{"$f":"IF(INTRO!$E$39=\"Endémique\", IF($I9>0, IF($I9=4,\"Inconnu\",IF($I9=99,\"Interrompu\",$D9)), 0),\"Non requis\")","v":"Inconnu"},{"$f":"IF(INTRO!$E$41=\"Endémique\", IF(AND($J9>1,$J9<5), IF($J9=4, \"Inconnu\", E9+F9), 0),\"Non requis\")","v":11391},{"$f":"IF(INTRO!$E$43=\"Endémique\", IF(AND($K9>0,$K9<5), IF($K9=4,\"Inconnu\", IF($K9=1, $F9*0.33, IF($K9=2, $F9*0.5+$G9*0.2, SUM(F9:G9)))), 0),\"Non requis\")","v":6354.5},0,0,1,0,null,null,"Oui","Oui",2049,"AMBRIZ"]
[{"$f":"IF(INTRO!$E$33<>0,INTRO!$E$33, \" \")","v":"Angola"},"BENGO","BULA ATUMBA",15371,{"$f":"IF(INTRO!$E$48=\"\",\"\",ROUND($D10*INTRO!$E$48,0))","v":2459},{"$f":"IF(INTRO!$E$49=\"\",\"\",ROUND($D10*INTRO!$E$49,0))","v":4289},{"$f":"IF(INTRO!$E$50=\"\",\"\",ROUND($D10*INTRO!$E$50,0))","v":8101},0,4,3,2,1,{"$f":"IF(INTRO!$E$37=\"Endémique\",IF($H10>0,IF($H10=4,\"Inconnu\",IF($H10=99,\"Interrompu\",$D10)),0),\"Non requis\")","v":0},{"$f":"IF(INTRO!$E$39=\"Endémique\", IF($I10>0, IF($I10=4,\"Inconnu\",IF($I10=99,\"Interrompu\",$D10)), 0),\"Non requis\")","v":"Inconnu"},{"$f":"IF(INTRO!$E$41=\"Endémique\", IF(AND($J10>1,$J10<5), IF($J10=4, \"Inconnu\", E10+F10), 0),\"Non requis\")","v":6748},{"$f":"IF(INTRO!$E$43=\"Endémique\", IF(AND($K10>0,$K10<5), IF($K10=4,\"Inconnu\", IF($K10=1, $F10*0.33, IF($K10=2, $F10*0.5+$G10*0.2, SUM(F10:G10)))), 0),\"Non requis\")","v":3764.7},0,0,1,0,null,null,"Oui","Oui",2088,"BULA ATUMBA"]
[{"$f":"IF(INTRO!$E$33<>0,INTRO!$E$33, \" \")","v":"Angola"},"BENGO","DANDE",254236,{"$f":"IF(INTRO!$E$48=\"\",\"\",ROUND($D11*INTRO!$E$48,0))","v":40678},{"$f":"IF(INTRO!$E$49=\"\",\"\",ROUND($D11*INTRO!$E$49,0))","v":70932},{"$f":"IF(INTRO!$E$50=\"\",\"\",ROUND($D11*INTRO!$E$50,0))","v":133982},0,4,3,2,1,{"$f":"IF(INTRO!$E$37=\"Endémique\",IF($H11>0,IF($H11=4,\"Inconnu\",IF($H11=99,\"Interrompu\",$D11)),0),\"Non requis\")","v":0},{"$f":"IF(INTRO!$E$39=\"Endémique\", IF($I11>0, IF($I11=4,\"Inconnu\",IF($I11=99,\"Interrompu\",$D11)), 0),\"Non requis\")","v":"Inconnu"},{"$f":"IF(INTRO!$E$41=\"Endémique\", IF(AND($J11>1,$J11<5), IF($J11=4, \"Inconnu\", E11+F11), 0),\"Non requis\")","v":111610},{"$f":"IF(INTRO!$E$43=\"Endémique\", IF(AND($K11>0,$K11<5), IF($K11=4,\"Inconnu\", IF($K11=1, $F11*0.33, IF($K11=2, $F11*0.5+$G11*0.2, SUM(F11:G11)))), 0),\"Non requis\")","v":62262.400000000001},0,0,1,0,null,null,"Oui","Oui",2050,"DANDE"]
[{"$f":"IF(INTRO!$E$33<>0,INTRO!$E$33, \" \")","v":"Angola"},"BENGO","DEMBOS",34341,{"$f":"IF(INTRO!$E$48=\"\",\"\",ROUND($D12*INTRO!$E$48,0))","v":5495},{"$f":"IF(INTRO!$E$49=\"\",\"\",ROUND($D12*INTRO!$E$49,0))","v":9581},{"$f":"IF(INTRO!$E$50=\"\",\"\",ROUND($D12*INTRO!$E$50,0))","v":18098},0,4,3,2,1,{"$f":"IF(INTRO!$E$37=\"Endémique\",IF($H12>0,IF($H12=4,\"Inconnu\",IF($H12=99,\"Interrompu\",$D12)),0),\"Non requis\")","v":0},{"$f":"IF(INTRO!$E$39=\"Endémique\", IF($I12>0, IF($I12=4,\"Inconnu\",IF($I12=99,\"Interrompu\",$D12)), 0),\"Non requis\")","v":"Inconnu"},{"$f":"IF(INTRO!$E$41=\"Endémique\", IF(AND($J12>1,$J12<5), IF($J12=4, \"Inconnu\", E12+F12), 0),\"Non requis\")","v":15076},{"$f":"IF(INTRO!$E$43=\"Endémique\", IF(AND($K12>0,$K12<5), IF($K12=4,\"Inconnu\", IF($K12=1, $F12*0.33, IF($K12=2, $F12*0.5+$G12*0.2, SUM(F12:G12)))), 0),\"Non requis\")","v":8410.1},0,0,1,0,null,null,"Oui","Oui",2089,"DEMBOS"]
[{"$f":"IF(INTRO!$E$33<>0,INTRO!$E$33, \" \")","v":"Angola"},"BENGO","NAMBUANGONGO",69558,{"$f":"IF(INTRO!$E$48=\"\",\"\",ROUND($D13*INTRO!$E$48,0))","v":11129},{"$f":"IF(INTRO!$E$49=\"\",\"\",ROUND($D13*INTRO!$E$49,0))","v":19407},{"$f":"IF(INTRO!$E$50=\"\",\"\",ROUND($D13*INTRO!$E$50,0))","v":36657},1,4,3,2,1,{"$f":"IF(INTRO!$E$37=\"Endémique\",IF($H13>0,IF($H13=4,\"Inconnu\",IF($H13=99,\"Interrompu\",$D13)),0),\"Non requis\")","v":69558},{"$f":"IF(INTRO!$E$39=\"Endémique\", IF($I13>0, IF($I13=4,\"Inconnu\",IF($I13=99,\"Interrompu\",$D13)), 0),\"Non requis\")","v":"Inconnu"},{"$f":"IF(INTRO!$E$41=\"Endémique\", IF(AND($J13>1,$J13<5), IF($J13=4, \"Inconnu\", E13+F13), 0),\"Non requis\")","v":30536},{"$f":"IF(INTRO!$E$43=\"Endémique\", IF(AND($K13>0,$K13<5), IF($K13=4,\"Inconnu\", IF($K13=1, $F13*0.33, IF($K13=2, $F13*0.5+$G13*0.2, SUM(F13:G13)))), 0),\"Non requis\")","v":17034.900000000001},0,0,2,0,null,null,"Oui","Oui",2053,"NAMBUANGONGO"]
[{"$f":"IF(INTRO!$E$33<>0,INTRO!$E$33, \" \")","v":"Angola"},"BENGO","PANGO ALUQUEM",8004,{"$f":"IF(INTRO!$E$48=\"\",\"\",ROUND($D14*INTRO!$E$48,0))","v":1281},{"$f":"IF(INTRO!$E$49=\"\",\"\",ROUND($D14*INTRO!$E$49,0))","v":2233},{"$f":"IF(INTRO!$E$50=\"\",\"\",ROUND($D14*INTRO!$E$50,0))","v":4218},0,4,3,2,1,{"$f":"IF(INTRO!$E$37=\"Endémique\",IF($H14>0,IF($H14=4,\"Inconnu\",IF($H14=99,\"Interrompu\",$D14)),0),\"Non requis\")","v":0},{"$f":"IF(INTRO!$E$39=\"Endémique\", IF($I14>0, IF($I14=4,\"Inconnu\",IF($I14=99,\"Interrompu\",$D14)), 0),\"Non requis\")","v":"Inconnu"},{"$f":"IF(INTRO!$E$41=\"Endémique\", IF(AND($J14>1,$J14<5), IF($J14=4, \"Inconnu\", E14+F14), 0),\"Non requis\")","v":3514},{"$f":"IF(INTRO!$E$43=\"Endémique\", IF(AND($K14>0,$K14<5), IF($K14=4,\"Inconnu\", IF($K14=1, $F14*0.33, IF($K14=2, $F14*0.5+$G14*0.2, SUM(F14:G14)))), 0),\"Non requis\")","v":1960.1},0,0,1,0,null,null,"Oui","Oui",2096,"PANGO ALUQUEM"]
[{"$f":"IF(INTRO!$E$33<>0,INTRO!$E$33, \" \")","v":"Angola"},"BENGUELA","BAIA FARTA",123207,{"$f":"IF(INTRO!$E$48=\"\",\"\",ROUND($D15*INTRO!$E$48,0))","v":19713},{"$f":"IF(INTRO!$E$49=\"\",\"\",ROUND($D15*INTRO!$E$49,0))","v":34375},{"$f":"IF(INTRO!$E$50=\"\",\"\",ROUND($D15*INTRO!$E$50,0))","v":64930},0,4,2,2,4,{"$f":"IF(INTRO!$E$37=\"Endémique\",IF($H15>0,IF($H15=4,\"Inconnu\",IF($H15=99,\"Interrompu\",$D15)),0),\"Non requis\")","v":0},{"$f":"IF(INTRO!$E$39=\"Endémique\", IF($I15>0, IF($I15=4,\"Inconnu\",IF($I15=99,\"Interrompu\",$D15)), 0),\"Non requis\")","v":"Inconnu"},{"$f":"IF(INTRO!$E$41=\"Endémique\", IF(AND($J15>1,$J15<5), IF($J15=4, \"Inconnu\", E15+F15), 0),\"Non requis\")","v":54088},{"$f":"IF(INTRO!$E$43=\"Endémique\", IF(AND($K15>0,$K15<5), IF($K15=4,\"Inconnu\", IF($K15=1, $F15*0.33, IF($K15=2, $F15*0.5+$G15*0.2, SUM(F15:G15)))), 0),\"Non requis\")","v":30173.5},0,0,1,0,null,null,"Oui","Oui",2054,"BAIA FARTA"]
[{"$f":"IF(INTRO!$E$33<>0,INTRO!$E$33, \" \")","v":"Angola"},"BENGUELA","BALOMBO",124491,{"$f":"IF(INTRO!$E$48=\"\",\"\",ROUND($D16*INTRO!$E$48,0))","v":19919},{"$f":"IF(INTRO!$E$49=\"\",\"\",ROUND($D16*INTRO!$E$49,0))","v":34733},{"$f":"IF(INTRO!$E$50=\"\",\"\",ROUND($D16*INTRO!$E$50,0))","v":65607},0,4,2,2,1,{"$f":"IF(INTRO!$E$37=\"Endémique\",IF($H16>0,IF($H16=4,\"Inconnu\",IF($H16=99,\"Interrompu\",$D16)),0),\"Non requis\")","v":0},{"$f":"IF(INTRO!$E$39=\"Endémique\", IF($I16>0, IF($I16=4,\"Inconnu\",IF($I16=99,\"Interrompu\",$D16)), 0),\"Non requis\")","v":"Inconnu"},{"$f":"IF(INTRO!$E$41=\"Endémique\", IF(AND($J16>1,$J16<5), IF($J16=4, \"Inconnu\", E16+F16), 0),\"Non requis\")","v":54652},{"$f":"IF(INTRO!$E$43=\"Endémique\", IF(AND($K16>0,$K16<5), IF($K16=4,\"Inconnu\", IF($K16=1, $F16*0.33, IF($K16=2, $F16*0.5+$G16*0.2, SUM(F16:G16)))), 0),\"Non requis\")","v":30487.9},0,0,1,0,null,null,"Oui","Oui",2055,"BALOMBO"]
[{"$f":"IF(INTRO!$E$33<>0,INTRO!$E$33, \" \")","v":"Angola"},"BENGUELA","BENGUELA",641822,{"$f":"IF(INTRO!$E$48=\"\",\"\",ROUND($D17*INTRO!$E$48,0))","v":102692},{"$f":"IF(INTRO!$E$49=\"\",\"\",ROUND($D17*INTRO!$E$49,0))","v":179068},{"$f":"IF(INTRO!$E$50=\"\",\"\",ROUND($D17*INTRO!$E$50,0))","v":338240},0,4,2,2,4,{"$f":"IF(INTRO!$E$37=\"Endémique\",IF($H17>0,IF($H17=4,\"Inconnu\",IF($H17=99,\"Interrompu\",$D17)),0),\"Non requis\")","v":0},{"$f":"IF(INTRO!$E$39=\"Endémique\", IF($I17>0, IF($I17=4,\"Inconnu\",IF($I17=99,\"Interrompu\",$D17)), 0),\"Non requis\")","v":"Inconnu"},{"$f":"IF(INTRO!$E$41=\"Endémique\", IF(AND($J17>1,$J17<5), IF($J17=4, \"Inconnu\", E17+F17), 0),\"Non requis\")","v":281760},{"$f":"IF(INTRO!$E$43=\"Endémique\", IF(AND($K17>0,$K17<5), IF($K17=4,\"Inconnu\", IF($K17=1, $F17*0.33, IF($K17=2, $F17*0.5+$G17*0.2, SUM(F17:G17)))), 0),\"Non requis\")","v":157182},0,0,1,0,null,null,"Oui","Oui",2056,"BENGUELA"]
[{"$f":"IF(INTRO!$E$33<>0,INTRO!$E$33, \" \")","v":"Angola"},"BENGUELA","BOCOIO",188151,{"$f":"IF(INTRO!$E$48=\"\",\"\",ROUND($D18*INTRO!$E$48,0))","v":30104},{"$f":"IF(INTRO!$E$49=\"\",\"\",ROUND($D18*INTRO!$E$49,0))","v":52494},{"$f":"IF(INTRO!$E$50=\"\",\"\",ROUND($D18*INTRO!$E$50,0))","v":99156},0,4,2,2,1,{"$f":"IF(INTRO!$E$37=\"Endémique\",IF($H18>0,IF($H18=4,\"Inconnu\",IF($H18=99,\"Interrompu\",$D18)),0),\"Non requis\")","v":0},{"$f":"IF(INTRO!$E$39=\"Endémique\", IF($I18>0, IF($I18=4,\"Inconnu\",IF($I18=99,\"Interrompu\",$D18)), 0),\"Non requis\")","v":"Inconnu"},{"$f":"IF(INTRO!$E$41=\"Endémique\", IF(AND($J18>1,$J18<5), IF($J18=4, \"Inconnu\", E18+F18), 0),\"Non requis\")","v":82598},{"$f":"IF(INTRO!$E$43=\"Endémique\", IF(AND($K18>0,$K18<5), IF($K18=4,\"Inconnu\", IF($K18=1, $F18*0.33, IF($K18=2, $F18*0.5+$G18*0.2, SUM(F18:G18)))), 0),\"Non requis\")","v":46078.2},0,0,1,0,null,null,"Oui","Oui",2057,"BOCOIO"]
[{"$f":"IF(INTRO!$E$33<>0,INTRO!$E$33, \" \")","v":"Angola"},"BENGUELA","CAIMBAMBO",103781,{"$f":"IF(INTRO!$E$48=\"\",\"\",ROUND($D19*INTRO!$E$48,0))","v":16605},{"$f":"IF(INTRO!$E$49=\"\",\"\",ROUND($D19*INTRO!$E$49,0))","v":28955},{"$f":"IF(INTRO!$E$50=\"\",\"\",ROUND($D19*INTRO!$E$50,0))","v":54693},0,4,2,2,4,{"$f":"IF(INTRO!$E$37=\"Endémique\",IF($H19>0,IF($H19=4,\"Inconnu\",IF($H19=99,\"Interrompu\",$D19)),0),\"Non requis\")","v":0},{"$f":"IF(INTRO!$E$39=\"Endémique\", IF($I19>0, IF($I19=4,\"Inconnu\",IF($I19=99,\"Interrompu\",$D19)), 0),\"Non requis\")","v":"Inconnu"},{"$f":"IF(INTRO!$E$41=\"Endémique\", IF(AND($J19>1,$J19<5), IF($J19=4, \"Inconnu\", E19+F19), 0),\"Non requis\")","v":45560},{"$f":"IF(INTRO!$E$43=\"Endémique\", IF(AND($K19>0,$K19<5), IF($K19=4,\"Inconnu\", IF($K19=1, $F19*0.33, IF($K19=2, $F19*0.5+$G19*0.2, SUM(F19:G19)))), 0),\"Non requis\")","v":25416.1},0,0,1,0,null,null,"Oui","Oui",2061,"CAIMBAMBO"]
[{"$f":"IF(INTRO!$E$33<>0,INTRO!$E$33, \" \")","v":"Angola"},"BENGUELA","CATUMBELA",200856,{"$f":"IF(INTRO!$E$48=\"\",\"\",ROUND($D20*INTRO!$E$48,0))","v":32137},{"$f":"IF(INTRO!$E$49=\"\",\"\",ROUND($D20*INTRO!$E$49,0))","v":56039},{"$f":"IF(INTRO!$E$50=\"\",\"\",ROUND($D20*INTRO!$E$50,0))","v":105851},0,4,2,2,4,{"$f":"IF(INTRO!$E$37=\"Endémique\",IF($H20>0,IF($H20=4,\"Inconnu\",IF($H20=99,\"Interrompu\",$D20)),0),\"Non requis\")","v":0},{"$f":"IF(INTRO!$E$39=\"Endémique\", IF($I20>0, IF($I20=4,\"Inconnu\",IF($I20=99,\"Interrompu\",$D20)), 0),\"Non requis\")","v":"Inconnu"},{"$f":"IF(INTRO!$E$41=\"Endémique\", IF(AND($J20>1,$J20<5), IF($J20=4, \"Inconnu\", E20+F20), 0),\"Non requis\")","v":88176},{"$f":"IF(INTRO!$E$43=\"Endémique\", IF(AND($K20>0,$K20<5), IF($K20=4,\"Inconnu\", IF($K20=1, $F20*0.33, IF($K20=2, $F20*0.5+$G20*0.2, SUM(F20:G20)))), 0),\"Non requis\")","v":49189.7},0,0,1,0,null,null,"Oui","Oui",2216,"CATUMBELA"]
[{"$f":"IF(INTRO!$E$33<>0,INTRO!$E$33, \" \")","v":"Angola"},"BENGUELA","CHONGOROI",99715,{"$f":"IF(INTRO!$E$48=\"\",\"\",ROUND($D21*INTRO!$E$48,0))","v":15954},{"$f":"IF(INTRO!$E$49=\"\",\"\",ROUND($D21*INTRO!$E$49,0))","v":27820},{"$f":"IF(INTRO!$E$50=\"\",\"\",ROUND($D21*INTRO!$E$50,0))","v":52550},0,4,2,2,4,{"$f":"IF(INTRO!$E$37=\"Endémique\",IF($H21>0,IF($H21=4,\"Inconnu\",IF($H21=99,\"Interrompu\",$D21)),0),\"Non requis\")","v":0},{"$f":"IF(INTRO!$E$39=\"Endémique\", IF($I21>0, IF($I21=4,\"Inconnu\",IF($I21=99,\"Interrompu\",$D21)), 0),\"Non requis\")","v":"Inconnu"},{"$f":"IF(INTRO!$E$41=\"Endémique\", IF(AND($J21>1,$J21<5), IF($J21=4, \"Inconnu\", E21+F21), 0),\"Non requis\")","v":43774},{"$f":"IF(INTRO!$E$43=\"Endémique\", IF(AND($K21>0,$K21<5), IF($K21=4,\"Inconnu\", IF($K21=1, $F21*0.33, IF($K21=2, $F21*0.5+$G21*0.2, SUM(F21:G21)))), 0),\"Non requis\")","v":24420},0,0,1,0,null,null,"Oui","Oui",2058,"CHONGOROI"]
[{"$f":"IF(INTRO!$E$33<>0,INTRO!$E$33, \" \")","v":"Angola"},"BENGUELA","CUBAL",349181,{"$f":"IF(INTRO!$E$48=\"\",\"\",ROUND($D22*INTRO!$E$48,0))","v":55869},{"$f":"IF(INTRO!$E$49=\"\",\"\",ROUND($D22*INTRO!$E$49,0))","v":97421},{"$f":"IF(INTRO!$E$50=\"\",\"\",ROUND($D22*INTRO!$E$50,0))","v":184018},0,4,2,2,4,{"$f":"IF(INTRO!$E$37=\"Endémique\",IF($H22>0,IF($H22=4,\"Inconnu\",IF($H22=99,\"Interrompu\",$D22)),0),\"Non requis\")","v":0},{"$f":"IF(INTRO!$E$39=\"Endémique\", IF($I22>0, IF($I22=4,\"Inconnu\",IF($I22=99,\"Interrompu\",$D22)), 0),\"Non requis\")","v":"Inconnu"},{"$f":"IF(INTRO!$E$41=\"Endémique\", IF(AND($J22>1,$J22<5), IF($J22=4, \"Inconnu\", E22+F22), 0),\"Non requis\")","v":153290},{"$f":"IF(INTRO!$E$43=\"Endémique\", IF(AND($K22>0,$K22<5), IF($K22=4,\"Inconnu\", IF($K22=1, $F22*0.33, IF($K22=2, $F22*0.5+$G22*0.2, SUM(F22:G22)))), 0),\"Non requis\")","v":85514.1},0,0,1,0,null,null,"Oui","Oui",2059,"CUBAL"]
[{"$f":"IF(INTRO!$E$33<>0,INTRO!$E$33, \" \")","v":"Angola"},"BENGUELA","GANDA",269040,{"$f":"IF(INTRO!$E$48=\"\",\"\",ROUND($D23*INTRO!$E$48,0))","v":43046},{"$f":"IF(INTRO!$E$49=\"\",\"\",ROUND($D23*INTRO!$E$49,0))","v":75062},{"$f":"IF(INTRO!$E$50=\"\",\"\",ROUND($D23*INTRO!$E$50,0))","v":141784},0,4,2,2,4,{"$f":"IF(INTRO!$E$37=\"Endémique\",IF($H23>0,IF($H23=4,\"Inconnu\",IF($H23=99,\"Interrompu\",$D23)),0),\"Non requis\")","v":0},{"$f":"IF(INTRO!$E$39=\"Endémique\", IF($I23>0, IF($I23=4,\"Inconnu\",IF($I23=99,\"Interrompu\",$D23)), 0),\"Non requis\")","v":"Inconnu"},{"$f":"IF(INTRO!$E$41=\"Endémique\", IF(AND($J23>1,$J23<5), IF($J23=4, \"Inconnu\", E23+F23), 0),\"Non requis\")","v":118108},{"$f":"IF(INTRO!$E$43=\"Endémique\", IF(AND($K23>0,$K23<5), IF($K23=4,\"Inconnu\", IF($K23=1, $F23*0.33, IF($K23=2, $F23*0.5+$G23*0.2, SUM(F23:G23)))), 0),\"Non requis\")","v":65887.8},0,0,1,0,null,null,"Oui","Oui",2060,"GANDA"]
[{"$f":"IF(INTRO!$E$33<>0,INTRO!$E$33, \" \")","v":"Angola"},"BENGUELA","LOBITO",449089,{"$f":"IF(INTRO!$E$48=\"\",\"\",ROUND($D24*INTRO!$E$48,0))","v":71854},{"$f":"IF(INTRO!$E$49=\"\",\"\",ROUND($D24*INTRO!$E$49,0))","v":125296},{"$f":"IF(INTRO!$E$50=\"\",\"\",ROUND($D24*INTRO!$E$50,0))","v":236670},4,4,2,2,1,{"$f":"IF(INTRO!$E$37=\"Endémique\",IF($H24>0,IF($H24=4,\"Inconnu\",IF($H24=99,\"Interrompu\",$D24)),0),\"Non requis\")","v":"Inconnu"},{"$f":"IF(INTRO!$E$39=\"Endémique\", IF($I24>0, IF($I24=4,\"Inconnu\",IF($I24=99,\"Interrompu\",$D24)), 0),\"Non requis\")","v":"Inconnu"},{"$f":"IF(INTRO!$E$41=\"Endémique\", IF(AND($J24>1,$J24<5), IF($J24=4, \"Inconnu\", E24+F24), 0),\"Non requis\")","v":197150},{"$f":"IF(INTRO!$E$43=\"Endémique\", IF(AND($K24>0,$K24<5), IF($K24=4,\"Inconnu\", IF($K24=1, $F24*0.33, IF($K24=2, $F24*0.5+$G24*0.2, SUM(F24:G24)))), 0),\"Non requis\")","v":109982},0,0,1,0,null,null,"Oui","Oui",2062,"LOBITO"]
[{"$f":"IF(INTRO!$E$33<>0,INTRO!$E$33, \" \")","v":"Angola"},"BIE","ANDULO",294946,{"$f":"IF(INTRO!$E$48=\"\",\"\",ROUND($D25*INTRO!$E$48,0))","v":47191},{"$f":"IF(INTRO!$E$49=\"\",\"\",ROUND($D25*INTRO!$E$49,0))","v":82290},{"$f":"IF(INTRO!$E$50=\"\",\"\",ROUND($D25*INTRO!$E$50,0))","v":155437},0,1,2,2,1,{"$f":"IF(INTRO!$E$37=\"Endémique\",IF($H25>0,IF($H25=4,\"Inconnu\",IF($H25=99,\"Interrompu\",$D25)),0),\"Non requis\")","v":0},{"$f":"IF(INTRO!$E$39=\"Endémique\", IF($I25>0, IF($I25=4,\"Inconnu\",IF($I25=99,\"Interrompu\",$D25)), 0),\"Non requis\")","v":294946},{"$f":"IF(INTRO!$E$41=\"Endémique\", IF(AND($J25>1,$J25<5), IF($J25=4, \"Inconnu\", E25+F25), 0),\"Non requis\")","v":129481},{"$f":"IF(INTRO!$E$43=\"Endémique\", IF(AND($K25>0,$K25<5), IF($K25=4,\"Inconnu\", IF($K25=1, $F25*0.33, IF($K25=2, $F25*0.5+$G25*0.2, SUM(F25:G25)))), 0),\"Non requis\")","v":72232.399999999994},0,1,1,0,null,null,"Oui","Oui",2063,"ANDULO"]
[{"$f":"IF(INTRO!$E$33<>0,INTRO!$E$33, \" \")","v":"Angola"},"BIE","CAMACUPA",177003,{"$f":"IF(INTRO!$E$48=\"\",\"\",ROUND($D26*INTRO!$E$48,0))","v":28320},{"$f":"IF(INTRO!$E$49=\"\",\"\",ROUND($D26*INTRO!$E$49,0))","v":49384},{"$f":"IF(INTRO!$E$50=\"\",\"\",ROUND($D26*INTRO!$E$50,0))","v":93281},0,1,2,2,1,{"$f":"IF(INTRO!$E$37=\"Endémique\",IF($H26>0,IF($H26=4,\"Inconnu\",IF($H26=99,\"Interrompu\",$D26)),0),\"Non requis\")","v":0},{"$f":"IF(INTRO!$E$39=\"Endémique\", IF($I26>0, IF($I26=4,\"Inconnu\",IF($I26=99,\"Interrompu\",$D26)), 0),\"Non requis\")","v":177003},{"$f":"IF(INTRO!$E$41=\"Endémique\", IF(AND($J26>1,$J26<5), IF($J26=4, \"Inconnu\", E26+F26), 0),\"Non requis\")","v":77704},{"$f":"IF(INTRO!$E$43=\"Endémique\", IF(AND($K26>0,$K26<5), IF($K26=4,\"Inconnu\", IF($K26=1, $F26*0.33, IF($K26=2, $F26*0.5+$G26*0.2, SUM(F26:G26)))), 0),\"Non requis\")","v":43348.2},0,1,1,0,null,null,"Oui","Oui",2066,"CAMACUPA"]
[{"$f":"IF(INTRO!$E$33<>0,INTRO!$E$33, \" \")","v":"Angola"},"BIE","CATABOLA",144675,{"$f":"IF(INTRO!$E$48=\"\",\"\",ROUND($D27*INTRO!$E$48,0))","v":23148},{"$f":"IF(INTRO!$E$49=\"\",\"\",ROUND($D27*INTRO!$E$49,0))","v":40364},{"$f":"IF(INTRO!$E$50=\"\",\"\",ROUND($D27*INTRO!$E$50,0))","v":76244},0,1,2,2,1,{"$f":"IF(INTRO!$E$37=\"Endémique\",IF($H27>0,IF($H27=4,\"Inconnu\",IF($H27=99,\"Interrompu\",$D27)),0),\"Non requis\")","v":0},{"$f":"IF(INTRO!$E$39=\"Endémique\", IF($I27>0, IF($I27=4,\"Inconnu\",IF($I27=99,\"Interrompu\",$D27)), 0),\"Non requis\")","v":144675},{"$f":"IF(INTRO!$E$41=\"Endémique\", IF(AND($J27>1,$J27<5), IF($J27=4, \"Inconnu\", E27+F27), 0),\"Non requis\")","v":63512},{"$f":"IF(INTRO!$E$43=\"Endémique\", IF(AND($K27>0,$K27<5), IF($K27=4,\"Inconnu\", IF($K27=1, $F27*0.33, IF($K27=2, $F27*0.5+$G27*0.2, SUM(F27:G27)))), 0),\"Non requis\")","v":35430.800000000003},0,1,1,0,null,null,"Oui","Oui",2067,"CATABOLA"]
[{"$f":"IF(INTRO!$E$33<>0,INTRO!$E$33, \" \")","v":"Angola"},"BIE","CHINGUAR",147804,{"$f":"IF(INTRO!$E$48=\"\",\"\",ROUND($D28*INTRO!$E$48,0))","v":23649},{"$f":"IF(INTRO!$E$49=\"\",\"\",ROUND($D28*INTRO!$E$49,0))","v":41237},{"$f":"IF(INTRO!$E$50=\"\",\"\",ROUND($D28*INTRO!$E$50,0))","v":77893},0,1,2,2,1,{"$f":"IF(INTRO!$E$37=\"Endémique\",IF($H28>0,IF($H28=4,\"Inconnu\",IF($H28=99,\"Interrompu\",$D28)),0),\"Non requis\")","v":0},{"$f":"IF(INTRO!$E$39=\"Endémique\", IF($I28>0, IF($I28=4,\"Inconnu\",IF($I28=99,\"Interrompu\",$D28)), 0),\"Non requis\")","v":147804},{"$f":"IF(INTRO!$E$41=\"Endémique\", IF(AND($J28>1,$J28<5), IF($J28=4, \"Inconnu\", E28+F28), 0),\"Non requis\")","v":64886},{"$f":"IF(INTRO!$E$43=\"Endémique\", IF(AND($K28>0,$K28<5), IF($K28=4,\"Inconnu\", IF($K28=1, $F28*0.33, IF($K28=2, $F28*0.5+$G28*0.2, SUM(F28:G28)))), 0),\"Non requis\")","v":36197.1},0,1,1,0,null,null,"Oui","Oui",2064,"CHINGUAR"]
[{"$f":"IF(INTRO!$E$33<>0,INTRO!$E$33, \" \")","v":"Angola"},"BIE","CHITEMBO",89293,{"$f":"IF(INTRO!$E$48=\"\",\"\",ROUND($D29*INTRO!$E$48,0))","v":14287},{"$f":"IF(INTRO!$E$49=\"\",\"\",ROUND($D29*INTRO!$E$49,0))","v":24913},{"$f":"IF(INTRO!$E$50=\"\",\"\",ROUND($D29*INTRO!$E$50,0))","v":47057},0,4,2,2,1,{"$f":"IF(INTRO!$E$37=\"Endémique\",IF($H29>0,IF($H29=4,\"Inconnu\",IF($H29=99,\"Interrompu\",$D29)),0),\"Non requis\")","v":0},{"$f":"IF(INTRO!$E$39=\"Endémique\", IF($I29>0, IF($I29=4,\"Inconnu\",IF($I29=99,\"Interrompu\",$D29)), 0),\"Non requis\")","v":"Inconnu"},{"$f":"IF(INTRO!$E$41=\"Endémique\", IF(AND($J29>1,$J29<5), IF($J29=4, \"Inconnu\", E29+F29), 0),\"Non requis\")","v":39200},{"$f":"IF(INTRO!$E$43=\"Endémique\", IF(AND($K29>0,$K29<5), IF($K29=4,\"Inconnu\", IF($K29=1, $F29*0.33, IF($K29=2, $F29*0.5+$G29*0.2, SUM(F29:G29)))), 0),\"Non requis\")","v":21867.9},0,0,1,0,null,null,"Oui","Oui",2065,"CHITEMBO"]
[{"$f":"IF(INTRO!$E$33<>0,INTRO!$E$33, \" \")","v":"Angola"},"BIE","CUEMBA",65080,{"$f":"IF(INTRO!$E$48=\"\",\"\",ROUND($D30*INTRO!$E$48,0))","v":10413},{"$f":"IF(INTRO!$E$49=\"\",\"\",ROUND($D30*INTRO!$E$49,0))","v":18157},{"$f":"IF(INTRO!$E$50=\"\",\"\",ROUND($D30*INTRO!$E$50,0))","v":34297},0,1,2,2,1,{"$f":"IF(INTRO!$E$37=\"Endémique\",IF($H30>0,IF($H30=4,\"Inconnu\",IF($H30=99,\"Interrompu\",$D30)),0),\"Non requis\")","v":0},{"$f":"IF(INTRO!$E$39=\"Endémique\", IF($I30>0, IF($I30=4,\"Inconnu\",IF($I30=99,\"Interrompu\",$D30)), 0),\"Non requis\")","v":65080},{"$f":"IF(INTRO!$E$41=\"Endémique\", IF(AND($J30>1,$J30<5), IF($J30=4, \"Inconnu\", E30+F30), 0),\"Non requis\")","v":28570},{"$f":"IF(INTRO!$E$43=\"Endémique\", IF(AND($K30>0,$K30<5), IF($K30=4,\"Inconnu\", IF($K30=1, $F30*0.33, IF($K30=2, $F30*0.5+$G30*0.2, SUM(F30:G30)))), 0),\"Non requis\")","v":15937.900000000001},0,1,1,0,"SS/SC","Oui","Oui","Oui",2068,"CUEMBA"]
[{"$f":"IF(INTRO!$E$33<>0,INTRO!$E$33, \" \")","v":"Angola"},"BIE","CUNHINGA",84345,{"$f":"IF(INTRO!$E$48=\"\",\"\",ROUND($D31*INTRO!$E$48,0))","v":13495},{"$f":"IF(INTRO!$E$49=\"\",\"\",ROUND($D31*INTRO!$E$49,0))","v":23532},{"$f":"IF(INTRO!$E$50=\"\",\"\",ROUND($D31*INTRO!$E$50,0))","v":44450},0,1,2,2,1,{"$f":"IF(INTRO!$E$37=\"Endémique\",IF($H31>0,IF($H31=4,\"Inconnu\",IF($H31=99,\"Interrompu\",$D31)),0),\"Non requis\")","v":0},{"$f":"IF(INTRO!$E$39=\"Endémique\", IF($I31>0, IF($I31=4,\"Inconnu\",IF($I31=99,\"Interrompu\",$D31)), 0),\"Non requis\")","v":84345},{"$f":"IF(INTRO!$E$41=\"Endémique\", IF(AND($J31>1,$J31<5), IF($J31=4, \"Inconnu\", E31+F31), 0),\"Non requis\")","v":37027},{"$f":"IF(INTRO!$E$43=\"Endémique\", IF(AND($K31>0,$K31<5), IF($K31=4,\"Inconnu\", IF($K31=1, $F31*0.33, IF($K31=2, $F31*0.5+$G31*0.2, SUM(F31:G31)))), 0),\"Non requis\")","v":20656},0,1,1,0,null,null,"Oui","Oui",2070,"CUNHINGA"]
[{"$f":"IF(INTRO!$E$33<>0,INTRO!$E$33, \" \")","v":"Angola"},"BIE","KUITO",515127,{"$f":"IF(INTRO!$E$48=\"\",\"\",ROUND($D32*INTRO!$E$48,0))","v":82420},{"$f":"IF(INTRO!$E$49=\"\",\"\",ROUND($D32*INTRO!$E$49,0))","v":143720},{"$f":"IF(INTRO!$E$50=\"\",\"\",ROUND($D32*INTRO!$E$50,0))","v":271472},0,1,2,2,1,{"$f":"IF(INTRO!$E$37=\"Endémique\",IF($H32>0,IF($H32=4,\"Inconnu\",IF($H32=99,\"Interrompu\",$D32)),0),\"Non requis\")","v":0},{"$f":"IF(INTRO!$E$39=\"Endémique\", IF($I32>0, IF($I32=4,\"Inconnu\",IF($I32=99,\"Interrompu\",$D32)), 0),\"Non requis\")","v":515127},{"$f":"IF(INTRO!$E$41=\"Endémique\", IF(AND($J32>1,$J32<5), IF($J32=4, \"Inconnu\", E32+F32), 0),\"Non requis\")","v":226140},{"$f":"IF(INTRO!$E$43=\"Endémique\", IF(AND($K32>0,$K32<5), IF($K32=4,\"Inconnu\", IF($K32=1, $F32*0.33, IF($K32=2, $F32*0.5+$G32*0.2, SUM(F32:G32)))), 0),\"Non requis\")","v":126154.4},0,1,1,0,null,null,"Oui","Oui",2069,"KUITO"]
[{"$f":"IF(INTRO!$E$33<>0,INTRO!$E$33, \" \")","v":"Angola"},"BIE","NHAREA",144341,{"$f":"IF(INTRO!$E$48=\"\",\"\",ROUND($D33*INTRO!$E$48,0))","v":23095},{"$f":"IF(INTRO!$E$49=\"\",\"\",ROUND($D33*INTRO!$E$49,0))","v":40271},{"$f":"IF(INTRO!$E$50=\"\",\"\",ROUND($D33*INTRO!$E$50,0))","v":76068},0,1,2,2,1,{"$f":"IF(INTRO!$E$37=\"Endémique\",IF($H33>0,IF($H33=4,\"Inconnu\",IF($H33=99,\"Interrompu\",$D33)),0),\"Non requis\")","v":0},{"$f":"IF(INTRO!$E$39=\"Endémique\", IF($I33>0, IF($I33=4,\"Inconnu\",IF($I33=99,\"Interrompu\",$D33)), 0),\"Non requis\")","v":144341},{"$f":"IF(INTRO!$E$41=\"Endémique\", IF(AND($J33>1,$J33<5), IF($J33=4, \"Inconnu\", E33+F33), 0),\"Non requis\")","v":63366},{"$f":"IF(INTRO!$E$43=\"Endémique\", IF(AND($K33>0,$K33<5), IF($K33=4,\"Inconnu\", IF($K33=1, $F33*0.33, IF($K33=2, $F33*0.5+$G33*0.2, SUM(F33:G33)))), 0),\"Non requis\")","v":35349.1},0,1,1,0,null,null,"Oui","Oui",2071,"NHAREA"]
[{"$f":"IF(INTRO!$E$33<>0,INTRO!$E$33, \" \")","v":"Angola"},"CABINDA","BELIZE",22349,{"$f":"IF(INTRO!$E$48=\"\",\"\",ROUND($D34*INTRO!$E$48,0))","v":3576},{"$f":"IF(INTRO!$E$49=\"\",\"\",ROUND($D34*INTRO!$E$49,0))","v":6235},{"$f":"IF(INTRO!$E$50=\"\",\"\",ROUND($D34*INTRO!$E$50,0))","v":11778},4,4,3,2,1,{"$f":"IF(INTRO!$E$37=\"Endémique\",IF($H34>0,IF($H34=4,\"Inconnu\",IF($H34=99,\"Interrompu\",$D34)),0),\"Non requis\")","v":"Inconnu"},{"$f":"IF(INTRO!$E$39=\"Endémique\", IF($I34>0, IF($I34=4,\"Inconnu\",IF($I34=99,\"Interrompu\",$D34)), 0),\"Non requis\")","v":"Inconnu"},{"$f":"IF(INTRO!$E$41=\"Endémique\", IF(AND($J34>1,$J34<5), IF($J34=4, \"Inconnu\", E34+F34), 0),\"Non requis\")","v":9811},{"$f":"IF(INTRO!$E$43=\"Endémique\", IF(AND($K34>0,$K34<5), IF($K34=4,\"Inconnu\", IF($K34=1, $F34*0.33, IF($K34=2, $F34*0.5+$G34*0.2, SUM(F34:G34)))), 0),\"Non requis\")","v":5473.1},0,0,1,0,null,null,"Oui","Oui",2072,"BELIZE"]
[{"$f":"IF(INTRO!$E$33<>0,INTRO!$E$33, \" \")","v":"Angola"},"CABINDA","BUCO ZAU",37465,{"$f":"IF(INTRO!$E$48=\"\",\"\",ROUND($D35*INTRO!$E$48,0))","v":5994},{"$f":"IF(INTRO!$E$49=\"\",\"\",ROUND($D35*INTRO!$E$49,0))","v":10453},{"$f":"IF(INTRO!$E$50=\"\",\"\",ROUND($D35*INTRO!$E$50,0))","v":19744},4,4,3,2,1,{"$f":"IF(INTRO!$E$37=\"Endémique\",IF($H35>0,IF($H35=4,\"Inconnu\",IF($H35=99,\"Interrompu\",$D35)),0),\"Non requis\")","v":"Inconnu"},{"$f":"IF(INTRO!$E$39=\"Endémique\", IF($I35>0, IF($I35=4,\"Inconnu\",IF($I35=99,\"Interrompu\",$D35)), 0),\"Non requis\")","v":"Inconnu"},{"$f":"IF(INTRO!$E$41=\"Endémique\", IF(AND($J35>1,$J35<5), IF($J35=4, \"Inconnu\", E35+F35), 0),\"Non requis\")","v":16447},{"$f":"IF(INTRO!$E$43=\"Endémique\", IF(AND($K35>0,$K35<5), IF($K35=4,\"Inconnu\", IF($K35=1, $F35*0.33, IF($K35=2, $F35*0.5+$G35*0.2, SUM(F35:G35)))), 0),\"Non requis\")","v":9175.2999999999993},0,0,1,0,null,null,"Oui","Oui",2073,"BUCO ZAU"]
[{"$f":"IF(INTRO!$E$33<>0,INTRO!$E$33, \" \")","v":"Angola"},"CABINDA","CABINDA",713651,{"$f":"IF(INTRO!$E$48=\"\",\"\",ROUND($D36*INTRO!$E$48,0))","v":114184},{"$f":"IF(INTRO!$E$49=\"\",\"\",ROUND($D36*INTRO!$E$49,0))","v":199109},{"$f":"IF(INTRO!$E$50=\"\",\"\",ROUND($D36*INTRO!$E$50,0))","v":376094},4,4,3,2,1,{"$f":"IF(INTRO!$E$37=\"Endémique\",IF($H36>0,IF($H36=4,\"Inconnu\",IF($H36=99,\"Interrompu\",$D36)),0),\"Non requis\")","v":"Inconnu"},{"$f":"IF(INTRO!$E$39=\"Endémique\", IF($I36>0, IF($I36=4,\"Inconnu\",IF($I36=99,\"Interrompu\",$D36)), 0),\"Non requis\")","v":"Inconnu"},{"$f":"IF(INTRO!$E$41=\"Endémique\", IF(AND($J36>1,$J36<5), IF($J36=4, \"Inconnu\", E36+F36), 0),\"Non requis\")","v":313293},{"$f":"IF(INTRO!$E$43=\"Endémique\", IF(AND($K36>0,$K36<5), IF($K36=4,\"Inconnu\", IF($K36=1, $F36*0.33, IF($K36=2, $F36*0.5+$G36*0.2, SUM(F36:G36)))), 0),\"Non requis\")","v":174773.3},0,0,1,0,null,null,"Oui","Oui",2074,"CABINDA"]
[{"$f":"IF(INTRO!$E$33<>0,INTRO!$E$33, \" \")","v":"Angola"},"CABINDA","CACONGO",44644,{"$f":"IF(INTRO!$E$48=\"\",\"\",ROUND($D37*INTRO!$E$48,0))","v":7143},{"$f":"IF(INTRO!$E$49=\"\",\"\",ROUND($D37*INTRO!$E$49,0))","v":12456},{"$f":"IF(INTRO!$E$50=\"\",\"\",ROUND($D37*INTRO!$E$50,0))","v":23527},4,4,3,2,1,{"$f":"IF(INTRO!$E$37=\"Endémique\",IF($H37>0,IF($H37=4,\"Inconnu\",IF($H37=99,\"Interrompu\",$D37)),0),\"Non requis\")","v":"Inconnu"},{"$f":"IF(INTRO!$E$39=\"Endémique\", IF($I37>0, IF($I37=4,\"Inconnu\",IF($I37=99,\"Interrompu\",$D37)), 0),\"Non requis\")","v":"Inconnu"},{"$f":"IF(INTRO!$E$41=\"Endémique\", IF(AND($J37>1,$J37<5), IF($J37=4, \"Inconnu\", E37+F37), 0),\"Non requis\")","v":19599},{"$f":"IF(INTRO!$E$43=\"Endémique\", IF(AND($K37>0,$K37<5), IF($K37=4,\"Inconnu\", IF($K37=1, $F37*0.33, IF($K37=2, $F37*0.5+$G37*0.2, SUM(F37:G37)))), 0),\"Non requis\")","v":10933.400000000001},0,0,1,0,null,null,"Oui","Oui",2213,"CACONGO"]
[{"$f":"IF(INTRO!$E$33<>0,INTRO!$E$33, \" \")","v":"Angola"},"CUNENE","CAHAMA",80044,{"$f":"IF(INTRO!$E$48=\"\",\"\",ROUND($D38*INTRO!$E$48,0))","v":12807},{"$f":"IF(INTRO!$E$49=\"\",\"\",ROUND($D38*INTRO!$E$49,0))","v":22332},{"$f":"IF(INTRO!$E$50=\"\",\"\",ROUND($D38*INTRO!$E$50,0))","v":42183},0,4,2,2,1,{"$f":"IF(INTRO!$E$37=\"Endémique\",IF($H38>0,IF($H38=4,\"Inconnu\",IF($H38=99,\"Interrompu\",$D38)),0),\"Non requis\")","v":0},{"$f":"IF(INTRO!$E$39=\"Endémique\", IF($I38>0, IF($I38=4,\"Inconnu\",IF($I38=99,\"Interrompu\",$D38)), 0),\"Non requis\")","v":"Inconnu"},{"$f":"IF(INTRO!$E$41=\"Endémique\", IF(AND($J38>1,$J38<5), IF($J38=4, \"Inconnu\", E38+F38), 0),\"Non requis\")","v":35139},{"$f":"IF(INTRO!$E$43=\"Endémique\", IF(AND($K38>0,$K38<5), IF($K38=4,\"Inconnu\", IF($K38=1, $F38*0.33, IF($K38=2, $F38*0.5+$G38*0.2, SUM(F38:G38)))), 0),\"Non requis\")","v":19602.599999999999},0,0,1,1,null,null,"Oui","Oui",2110,"CAHAMA"]
[{"$f":"IF(INTRO!$E$33<>0,INTRO!$E$33, \" \")","v":"Angola"},"CUNENE","CUANHAMA",427895,{"$f":"IF(INTRO!$E$48=\"\",\"\",ROUND($D39*INTRO!$E$48,0))","v":68463},{"$f":"IF(INTRO!$E$49=\"\",\"\",ROUND($D39*INTRO!$E$49,0))","v":119383},{"$f":"IF(INTRO!$E$50=\"\",\"\",ROUND($D39*INTRO!$E$50,0))","v":225501},0,4,2,2,1,{"$f":"IF(INTRO!$E$37=\"Endémique\",IF($H39>0,IF($H39=4,\"Inconnu\",IF($H39=99,\"Interrompu\",$D39)),0),\"Non requis\")","v":0},{"$f":"IF(INTRO!$E$39=\"Endémique\", IF($I39>0, IF($I39=4,\"Inconnu\",IF($I39=99,\"Interrompu\",$D39)), 0),\"Non requis\")","v":"Inconnu"},{"$f":"IF(INTRO!$E$41=\"Endémique\", IF(AND($J39>1,$J39<5), IF($J39=4, \"Inconnu\", E39+F39), 0),\"Non requis\")","v":187846},{"$f":"IF(INTRO!$E$43=\"Endémique\", IF(AND($K39>0,$K39<5), IF($K39=4,\"Inconnu\", IF($K39=1, $F39*0.33, IF($K39=2, $F39*0.5+$G39*0.2, SUM(F39:G39)))), 0),\"Non requis\")","v":104791.70000000001},0,0,1,1,null,null,"Oui","Oui",2113,"CUANHAMA"]
[{"$f":"IF(INTRO!$E$33<>0,INTRO!$E$33, \" \")","v":"Angola"},"CUNENE","CUROCA",46941,{"$f":"IF(INTRO!$E$48=\"\",\"\",ROUND($D40*INTRO!$E$48,0))","v":7511},{"$f":"IF(INTRO!$E$49=\"\",\"\",ROUND($D40*INTRO!$E$49,0))","v":13097},{"$f":"IF(INTRO!$E$50=\"\",\"\",ROUND($D40*INTRO!$E$50,0))","v":24738},0,4,2,2,4,{"$f":"IF(INTRO!$E$37=\"Endémique\",IF($H40>0,IF($H40=4,\"Inconnu\",IF($H40=99,\"Interrompu\",$D40)),0),\"Non requis\")","v":0},{"$f":"IF(INTRO!$E$39=\"Endémique\", IF($I40>0, IF($I40=4,\"Inconnu\",IF($I40=99,\"Interrompu\",$D40)), 0),\"Non requis\")","v":"Inconnu"},{"$f":"IF(INTRO!$E$41=\"Endémique\", IF(AND($J40>1,$J40<5), IF($J40=4, \"Inconnu\", E40+F40), 0),\"Non requis\")","v":20608},{"$f":"IF(INTRO!$E$43=\"Endémique\", IF(AND($K40>0,$K40<5), IF($K40=4,\"Inconnu\", IF($K40=1, $F40*0.33, IF($K40=2, $F40*0.5+$G40*0.2, SUM(F40:G40)))), 0),\"Non requis\")","v":11496.1},0,0,1,1,null,null,"Oui","Oui",2111,"CUROCA"]
[{"$f":"IF(INTRO!$E$33<>0,INTRO!$E$33, \" \")","v":"Angola"},"CUNENE","CUVELAI",65577,{"$f":"IF(INTRO!$E$48=\"\",\"\",ROUND($D41*INTRO!$E$48,0))","v":10492},{"$f":"IF(INTRO!$E$49=\"\",\"\",ROUND($D41*INTRO!$E$49,0))","v":18296},{"$f":"IF(INTRO!$E$50=\"\",\"\",ROUND($D41*INTRO!$E$50,0))","v":34559},0,4,2,2,1,{"$f":"IF(INTRO!$E$37=\"Endémique\",IF($H41>0,IF($H41=4,\"Inconnu\",IF($H41=99,\"Interrompu\",$D41)),0),\"Non requis\")","v":0},{"$f":"IF(INTRO!$E$39=\"Endémique\", IF($I41>0, IF($I41=4,\"Inconnu\",IF($I41=99,\"Interrompu\",$D41)), 0),\"Non requis\")","v":"Inconnu"},{"$f":"IF(INTRO!$E$41=\"Endémique\", IF(AND($J41>1,$J41<5), IF($J41=4, \"Inconnu\", E41+F41), 0),\"Non requis\")","v":28788},{"$f":"IF(INTRO!$E$43=\"Endémique\", IF(AND($K41>0,$K41<5), IF($K41=4,\"Inconnu\", IF($K41=1, $F41*0.33, IF($K41=2, $F41*0.5+$G41*0.2, SUM(F41:G41)))), 0),\"Non requis\")","v":16059.8},0,0,1,1,null,null,"Oui","Oui",2112,"CUVELAI"]
[{"$f":"IF(INTRO!$E$33<>0,INTRO!$E$33, \" \")","v":"Angola"},"CUNENE","NAMACUNDE",162288,{"$f":"IF(INTRO!$E$48=\"\",\"\",ROUND($D42*INTRO!$E$48,0))","v":25966},{"$f":"IF(INTRO!$E$49=\"\",\"\",ROUND($D42*INTRO!$E$49,0))","v":45278},{"$f":"IF(INTRO!$E$50=\"\",\"\",ROUND($D42*INTRO!$E$50,0))","v":85526},0,4,2,2,1,{"$f":"IF(INTRO!$E$37=\"Endémique\",IF($H42>0,IF($H42=4,\"Inconnu\",IF($H42=99,\"Interrompu\",$D42)),0),\"Non requis\")","v":0},{"$f":"IF(INTRO!$E$39=\"Endémique\", IF($I42>0, IF($I42=4,\"Inconnu\",IF($I42=99,\"Interrompu\",$D42)), 0),\"Non requis\")","v":"Inconnu"},{"$f":"IF(INTRO!$E$41=\"Endémique\", IF(AND($J42>1,$J42<5), IF($J42=4, \"Inconnu\", E42+F42), 0),\"Non requis\")","v":71244},{"$f":"IF(INTRO!$E$43=\"Endémique\", IF(AND($K42>0,$K42<5), IF($K42=4,\"Inconnu\", IF($K42=1, $F42*0.33, IF($K42=2, $F42*0.5+$G42*0.2, SUM(F42:G42)))), 0),\"Non requis\")","v":39744.199999999997},0,0,1,1,null,null,"Oui","Oui",2114,"NAMACUNDE"]
[{"$f":"IF(INTRO!$E$33<>0,INTRO!$E$33, \" \")","v":"Angola"},"CUNENE","OMBADJA",348418,{"$f":"IF(INTRO!$E$48=\"\",\"\",ROUND($D43*INTRO!$E$48,0))","v":55747},{"$f":"IF(INTRO!$E$49=\"\",\"\",ROUND($D43*INTRO!$E$49,0))","v":97209},{"$f":"IF(INTRO!$E$50=\"\",\"\",ROUND($D43*INTRO!$E$50,0))","v":183616},0,4,2,2,1,{"$f":"IF(INTRO!$E$37=\"Endémique\",IF($H43>0,IF($H43=4,\"Inconnu\",IF($H43=99,\"Interrompu\",$D43)),0),\"Non requis\")","v":0},{"$f":"IF(INTRO!$E$39=\"Endémique\", IF($I43>0, IF($I43=4,\"Inconnu\",IF($I43=99,\"Interrompu\",$D43)), 0),\"Non requis\")","v":"Inconnu"},{"$f":"IF(INTRO!$E$41=\"Endémique\", IF(AND($J43>1,$J43<5), IF($J43=4, \"Inconnu\", E43+F43), 0),\"Non requis\")","v":152956},{"$f":"IF(INTRO!$E$43=\"Endémique\", IF(AND($K43>0,$K43<5), IF($K43=4,\"Inconnu\", IF($K43=1, $F43*0.33, IF($K43=2, $F43*0.5+$G43*0.2, SUM(F43:G43)))), 0),\"Non requis\")","v":85327.700000000012},0,0,1,1,null,null,"Oui","Oui",2115,"OMBADJA"]
[{"$f":"IF(INTRO!$E$33<>0,INTRO!$E$33, \" \")","v":"Angola"},"HUAMBO","BAILUNDO",336456,{"$f":"IF(INTRO!$E$48=\"\",\"\",ROUND($D44*INTRO!$E$48,0))","v":53833},{"$f":"IF(INTRO!$E$49=\"\",\"\",ROUND($D44*INTRO!$E$49,0))","v":93871},{"$f":"IF(INTRO!$E$50=\"\",\"\",ROUND($D44*INTRO!$E$50,0))","v":177312},0,4,1,2,1,{"$f":"IF(INTRO!$E$37=\"Endémique\",IF($H44>0,IF($H44=4,\"Inconnu\",IF($H44=99,\"Interrompu\",$D44)),0),\"Non requis\")","v":0},{"$f":"IF(INTRO!$E$39=\"Endémique\", IF($I44>0, IF($I44=4,\"Inconnu\",IF($I44=99,\"Interrompu\",$D44)), 0),\"Non requis\")","v":"Inconnu"},{"$f":"IF(INTRO!$E$41=\"Endémique\", IF(AND($J44>1,$J44<5), IF($J44=4, \"Inconnu\", E44+F44), 0),\"Non requis\")","v":0},{"$f":"IF(INTRO!$E$43=\"Endémique\", IF(AND($K44>0,$K44<5), IF($K44=4,\"Inconnu\", IF($K44=1, $F44*0.33, IF($K44=2, $F44*0.5+$G44*0.2, SUM(F44:G44)))), 0),\"Non requis\")","v":82397.899999999994},0,0,0,0,null,null,null,null,2116,"BAILUNDO"]
[{"$f":"IF(INTRO!$E$33<>0,INTRO!$E$33, \" \")","v":"Angola"},"HUAMBO","CAALA",319660,{"$f":"IF(INTRO!$E$48=\"\",\"\",ROUND($D45*INTRO!$E$48,0))","v":51146},{"$f":"IF(INTRO!$E$49=\"\",\"\",ROUND($D45*INTRO!$E$49,0))","v":89185},{"$f":"IF(INTRO!$E$50=\"\",\"\",ROUND($D45*INTRO!$E$50,0))","v":168461},0,4,1,2,1,{"$f":"IF(INTRO!$E$37=\"Endémique\",IF($H45>0,IF($H45=4,\"Inconnu\",IF($H45=99,\"Interrompu\",$D45)),0),\"Non requis\")","v":0},{"$f":"IF(INTRO!$E$39=\"Endémique\", IF($I45>0, IF($I45=4,\"Inconnu\",IF($I45=99,\"Interrompu\",$D45)), 0),\"Non requis\")","v":"Inconnu"},{"$f":"IF(INTRO!$E$41=\"Endémique\", IF(AND($J45>1,$J45<5), IF($J45=4, \"Inconnu\", E45+F45), 0),\"Non requis\")","v":0},{"$f":"IF(INTRO!$E$43=\"Endémique\", IF(AND($K45>0,$K45<5), IF($K45=4,\"Inconnu\", IF($K45=1, $F45*0.33, IF($K45=2, $F45*0.5+$G45*0.2, SUM(F45:G45)))), 0),\"Non requis\")","v":78284.700000000012},0,0,0,0,null,null,null,null,2120,"CAALA"]
[{"$f":"IF(INTRO!$E$33<>0,INTRO!$E$33, \" \")","v":"Angola"},"HUAMBO","EKUNHA",94302,{"$f":"IF(INTRO!$E$48=\"\",\"\",ROUND($D46*INTRO!$E$48,0))","v":15088},{"$f":"IF(INTRO!$E$49=\"\",\"\",ROUND($D46*INTRO!$E$49,0))","v":26310},{"$f":"IF(INTRO!$E$50=\"\",\"\",ROUND($D46*INTRO!$E$50,0))","v":49697},0,4,1,2,1,{"$f":"IF(INTRO!$E$37=\"Endémique\",IF($H46>0,IF($H46=4,\"Inconnu\",IF($H46=99,\"Interrompu\",$D46)),0),\"Non requis\")","v":0},{"$f":"IF(INTRO!$E$39=\"Endémique\", IF($I46>0, IF($I46=4,\"Inconnu\",IF($I46=99,\"Interrompu\",$D46)), 0),\"Non requis\")","v":"Inconnu"},{"$f":"IF(INTRO!$E$41=\"Endémique\", IF(AND($J46>1,$J46<5), IF($J46=4, \"Inconnu\", E46+F46), 0),\"Non requis\")","v":0},{"$f":"IF(INTRO!$E$43=\"Endémique\", IF(AND($K46>0,$K46<5), IF($K46=4,\"Inconnu\", IF($K46=1, $F46*0.33, IF($K46=2, $F46*0.5+$G46*0.2, SUM(F46:G46)))), 0),\"Non requis\")","v":23094.400000000001},0,0,0,0,"SS/SC","Oui",null,null,2118,"EKUNHA"]
[{"$f":"IF(INTRO!$E$33<>0,INTRO!$E$33, \" \")","v":"Angola"},"HUAMBO","HUAMBO",814748,{"$f":"IF(INTRO!$E$48=\"\",\"\",ROUND($D47*INTRO!$E$48,0))","v":130360},{"$f":"IF(INTRO!$E$49=\"\",\"\",ROUND($D47*INTRO!$E$49,0))","v":227315},{"$f":"IF(INTRO!$E$50=\"\",\"\",ROUND($D47*INTRO!$E$50,0))","v":429372},0,4,2,2,1,{"$f":"IF(INTRO!$E$37=\"Endémique\",IF($H47>0,IF($H47=4,\"Inconnu\",IF($H47=99,\"Interrompu\",$D47)),0),\"Non requis\")","v":0},{"$f":"IF(INTRO!$E$39=\"Endémique\", IF($I47>0, IF($I47=4,\"Inconnu\",IF($I47=99,\"Interrompu\",$D47)), 0),\"Non requis\")","v":"Inconnu"},{"$f":"IF(INTRO!$E$41=\"Endémique\", IF(AND($J47>1,$J47<5), IF($J47=4, \"Inconnu\", E47+F47), 0),\"Non requis\")","v":357675},{"$f":"IF(INTRO!$E$43=\"Endémique\", IF(AND($K47>0,$K47<5), IF($K47=4,\"Inconnu\", IF($K47=1, $F47*0.33, IF($K47=2, $F47*0.5+$G47*0.2, SUM(F47:G47)))), 0),\"Non requis\")","v":199531.90000000002},0,0,1,0,null,null,null,null,2119,"HUAMBO"]
[{"$f":"IF(INTRO!$E$33<>0,INTRO!$E$33, \" \")","v":"Angola"},"HUAMBO","CACHIUNGO",137873,{"$f":"IF(INTRO!$E$48=\"\",\"\",ROUND($D48*INTRO!$E$48,0))","v":22060},{"$f":"IF(INTRO!$E$49=\"\",\"\",ROUND($D48*INTRO!$E$49,0))","v":38467},{"$f":"IF(INTRO!$E$50=\"\",\"\",ROUND($D48*INTRO!$E$50,0))","v":72659},0,4,1,2,1,{"$f":"IF(INTRO!$E$37=\"Endémique\",IF($H48>0,IF($H48=4,\"Inconnu\",IF($H48=99,\"Interrompu\",$D48)),0),\"Non requis\")","v":0},{"$f":"IF(INTRO!$E$39=\"Endémique\", IF($I48>0, IF($I48=4,\"Inconnu\",IF($I48=99,\"Interrompu\",$D48)), 0),\"Non requis\")","v":"Inconnu"},{"$f":"IF(INTRO!$E$41=\"Endémique\", IF(AND($J48>1,$J48<5), IF($J48=4, \"Inconnu\", E48+F48), 0),\"Non requis\")","v":0},{"$f":"IF(INTRO!$E$43=\"Endémique\", IF(AND($K48>0,$K48<5), IF($K48=4,\"Inconnu\", IF($K48=1, $F48*0.33, IF($K48=2, $F48*0.5+$G48*0.2, SUM(F48:G48)))), 0),\"Non requis\")","v":33765.300000000003},0,0,0,0,null,null,null,null,2121,"CACHIUNGO"]
[{"$f":"IF(INTRO!$E$33<>0,INTRO!$E$33, \" \")","v":"Angola"},"HUAMBO","LONDUIMBALI",153383,{"$f":"IF(INTRO!$E$48=\"\",\"\",ROUND($D49*INTRO!$E$48,0))","v":24541},{"$f":"IF(INTRO!$E$49=\"\",\"\",ROUND($D49*INTRO!$E$49,0))","v":42794},{"$f":"IF(INTRO!$E$50=\"\",\"\",ROUND($D49*INTRO!$E$50,0))","v":80833},0,4,1,2,1,{"$f":"IF(INTRO!$E$37=\"Endémique\",IF($H49>0,IF($H49=4,\"Inconnu\",IF($H49=99,\"Interrompu\",$D49)),0),\"Non requis\")","v":0},{"$f":"IF(INTRO!$E$39=\"Endémique\", IF($I49>0, IF($I49=4,\"Inconnu\",IF($I49=99,\"Interrompu\",$D49)), 0),\"Non requis\")","v":"Inconnu"},{"$f":"IF(INTRO!$E$41=\"Endémique\", IF(AND($J49>1,$J49<5), IF($J49=4, \"Inconnu\", E49+F49), 0),\"Non requis\")","v":0},{"$f":"IF(INTRO!$E$43=\"Endémique\", IF(AND($K49>0,$K49<5), IF($K49=4,\"Inconnu\", IF($K49=1, $F49*0.33, IF($K49=2, $F49*0.5+$G49*0.2, SUM(F49:G49)))), 0),\"Non requis\")","v":37563.599999999999},0,0,0,0,null,null,null,null,2122,"LONDUIMBALI"]
[{"$f":"IF(INTRO!$E$33<>0,INTRO!$E$33, \" \")","v":"Angola"},"HUAMBO","LONGONJO",105226,{"$f":"IF(INTRO!$E$48=\"\",\"\",ROUND($D50*INTRO!$E$48,0))","v":16836},{"$f":"IF(INTRO!$E$49=\"\",\"\",ROUND($D50*INTRO!$E$49,0))","v":29358},{"$f":"IF(INTRO!$E$50=\"\",\"\",ROUND($D50*INTRO!$E$50,0))","v":55454},0,4,2,2,4,{"$f":"IF(INTRO!$E$37=\"Endémique\",IF($H50>0,IF($H50=4,\"Inconnu\",IF($H50=99,\"Interrompu\",$D50)),0),\"Non requis\")","v":0},{"$f":"IF(INTRO!$E$39=\"Endémique\", IF($I50>0, IF($I50=4,\"Inconnu\",IF($I50=99,\"Interrompu\",$D50)), 0),\"Non requis\")","v":"Inconnu"},{"$f":"IF(INTRO!$E$41=\"Endémique\", IF(AND($J50>1,$J50<5), IF($J50=4, \"Inconnu\", E50+F50), 0),\"Non requis\")","v":46194},{"$f":"IF(INTRO!$E$43=\"Endémique\", IF(AND($K50>0,$K50<5), IF($K50=4,\"Inconnu\", IF($K50=1, $F50*0.33, IF($K50=2, $F50*0.5+$G50*0.2, SUM(F50:G50)))), 0),\"Non requis\")","v":25769.800000000003},0,0,1,0,null,null,null,null,2123,"LONGONJO"]
[{"$f":"IF(INTRO!$E$33<>0,INTRO!$E$33, \" \")","v":"Angola"},"HUAMBO","MUNGO",129578,{"$f":"IF(INTRO!$E$48=\"\",\"\",ROUND($D51*INTRO!$E$48,0))","v":20732},{"$f":"IF(INTRO!$E$49=\"\",\"\",ROUND($D51*INTRO!$E$49,0))","v":36152},{"$f":"IF(INTRO!$E$50=\"\",\"\",ROUND($D51*INTRO!$E$50,0))","v":68288},0,1,1,2,1,{"$f":"IF(INTRO!$E$37=\"Endémique\",IF($H51>0,IF($H51=4,\"Inconnu\",IF($H51=99,\"Interrompu\",$D51)),0),\"Non requis\")","v":0},{"$f":"IF(INTRO!$E$39=\"Endémique\", IF($I51>0, IF($I51=4,\"Inconnu\",IF($I51=99,\"Interrompu\",$D51)), 0),\"Non requis\")","v":129578},{"$f":"IF(INTRO!$E$41=\"Endémique\", IF(AND($J51>1,$J51<5), IF($J51=4, \"Inconnu\", E51+F51), 0),\"Non requis\")","v":0},{"$f":"IF(INTRO!$E$43=\"Endémique\", IF(AND($K51>0,$K51<5), IF($K51=4,\"Inconnu\", IF($K51=1, $F51*0.33, IF($K51=2, $F51*0.5+$G51*0.2, SUM(F51:G51)))), 0),\"Non requis\")","v":31733.599999999999},0,1,0,0,null,null,null,null,2124,"MUNGO"]
[{"$f":"IF(INTRO!$E$33<>0,INTRO!$E$33, \" \")","v":"Angola"},"HUAMBO","TCHICALA TCHOLOHANGA",118414,{"$f":"IF(INTRO!$E$48=\"\",\"\",ROUND($D52*INTRO!$E$48,0))","v":18946},{"$f":"IF(INTRO!$E$49=\"\",\"\",ROUND($D52*INTRO!$E$49,0))","v":33038},{"$f":"IF(INTRO!$E$50=\"\",\"\",ROUND($D52*INTRO!$E$50,0))","v":62404},0,4,1,2,1,{"$f":"IF(INTRO!$E$37=\"Endémique\",IF($H52>0,IF($H52=4,\"Inconnu\",IF($H52=99,\"Interrompu\",$D52)),0),\"Non requis\")","v":0},{"$f":"IF(INTRO!$E$39=\"Endémique\", IF($I52>0, IF($I52=4,\"Inconnu\",IF($I52=99,\"Interrompu\",$D52)), 0),\"Non requis\")","v":"Inconnu"},{"$f":"IF(INTRO!$E$41=\"Endémique\", IF(AND($J52>1,$J52<5), IF($J52=4, \"Inconnu\", E52+F52), 0),\"Non requis\")","v":0},{"$f":"IF(INTRO!$E$43=\"Endémique\", IF(AND($K52>0,$K52<5), IF($K52=4,\"Inconnu\", IF($K52=1, $F52*0.33, IF($K52=2, $F52*0.5+$G52*0.2, SUM(F52:G52)))), 0),\"Non requis\")","v":28999.800000000003},0,0,0,0,null,null,null,null,2125,"TCHICALA TCHOLOHANGA"]
[{"$f":"IF(INTRO!$E$33<>0,INTRO!$E$33, \" \")","v":"Angola"},"HUAMBO","TCHINDJENJE",34780,{"$f":"IF(INTRO!$E$48=\"\",\"\",ROUND($D53*INTRO!$E$48,0))","v":5565},{"$f":"IF(INTRO!$E$49=\"\",\"\",ROUND($D53*INTRO!$E$49,0))","v":9704},{"$f":"IF(INTRO!$E$50=\"\",\"\",ROUND($D53*INTRO!$E$50,0))","v":18329},0,4,1,2,4,{"$f":"IF(INTRO!$E$37=\"Endémique\",IF($H53>0,IF($H53=4,\"Inconnu\",IF($H53=99,\"Interrompu\",$D53)),0),\"Non requis\")","v":0},{"$f":"IF(INTRO!$E$39=\"Endémique\", IF($I53>0, IF($I53=4,\"Inconnu\",IF($I53=99,\"Interrompu\",$D53)), 0),\"Non requis\")","v":"Inconnu"},{"$f":"IF(INTRO!$E$41=\"Endémique\", IF(AND($J53>1,$J53<5), IF($J53=4, \"Inconnu\", E53+F53), 0),\"Non requis\")","v":0},{"$f":"IF(INTRO!$E$43=\"Endémique\", IF(AND($K53>0,$K53<5), IF($K53=4,\"Inconnu\", IF($K53=1, $F53*0.33, IF($K53=2, $F53*0.5+$G53*0.2, SUM(F53:G53)))), 0),\"Non requis\")","v":8517.7999999999993},0,0,0,0,null,null,null,null,2117,"TCHINDJENJE"]
[{"$f":"IF(INTRO!$E$33<>0,INTRO!$E$33, \" \")","v":"Angola"},"HUAMBO","UKUMA",62899,{"$f":"IF(INTRO!$E$48=\"\",\"\",ROUND($D54*INTRO!$E$48,0))","v":10064},{"$f":"IF(INTRO!$E$49=\"\",\"\",ROUND($D54*INTRO!$E$49,0))","v":17549},{"$f":"IF(INTRO!$E$50=\"\",\"\",ROUND($D54*INTRO!$E$50,0))","v":33148},0,4,1,2,4,{"$f":"IF(INTRO!$E$37=\"Endémique\",IF($H54>0,IF($H54=4,\"Inconnu\",IF($H54=99,\"Interrompu\",$D54)),0),\"Non requis\")","v":0},{"$f":"IF(INTRO!$E$39=\"Endémique\", IF($I54>0, IF($I54=4,\"Inconnu\",IF($I54=99,\"Interrompu\",$D54)), 0),\"Non requis\")","v":"Inconnu"},{"$f":"IF(INTRO!$E$41=\"Endémique\", IF(AND($J54>1,$J54<5), IF($J54=4, \"Inconnu\", E54+F54), 0),\"Non requis\")","v":0},{"$f":"IF(INTRO!$E$43=\"Endémique\", IF(AND($K54>0,$K54<5), IF($K54=4,\"Inconnu\", IF($K54=1, $F54*0.33, IF($K54=2, $F54*0.5+$G54*0.2, SUM(F54:G54)))), 0),\"Non requis\")","v":15404.1},0,0,0,0,null,null,null,null,2126,"UKUMA"]
[{"$f":"IF(INTRO!$E$33<>0,INTRO!$E$33, \" \")","v":"Angola"},"HUILA","CACONDA",191733,{"$f":"IF(INTRO!$E$48=\"\",\"\",ROUND($D55*INTRO!$E$48,0))","v":30677},{"$f":"IF(INTRO!$E$49=\"\",\"\",ROUND($D55*INTRO!$E$49,0))","v":53494},{"$f":"IF(INTRO!$E$50=\"\",\"\",ROUND($D55*INTRO!$E$50,0))","v":101043},0,4,2,2,4,{"$f":"IF(INTRO!$E$37=\"Endémique\",IF($H55>0,IF($H55=4,\"Inconnu\",IF($H55=99,\"Interrompu\",$D55)),0),\"Non requis\")","v":0},{"$f":"IF(INTRO!$E$39=\"Endémique\", IF($I55>0, IF($I55=4,\"Inconnu\",IF($I55=99,\"Interrompu\",$D55)), 0),\"Non requis\")","v":"Inconnu"},{"$f":"IF(INTRO!$E$41=\"Endémique\", IF(AND($J55>1,$J55<5), IF($J55=4, \"Inconnu\", E55+F55), 0),\"Non requis\")","v":84171},{"$f":"IF(INTRO!$E$43=\"Endémique\", IF(AND($K55>0,$K55<5), IF($K55=4,\"Inconnu\", IF($K55=1, $F55*0.33, IF($K55=2, $F55*0.5+$G55*0.2, SUM(F55:G55)))), 0),\"Non requis\")","v":46955.600000000006},0,0,1,0,null,null,"Oui","Oui",2133,"CACONDA"]
[{"$f":"IF(INTRO!$E$33<>0,INTRO!$E$33, \" \")","v":"Angola"},"HUILA","CACULA",156495,{"$f":"IF(INTRO!$E$48=\"\",\"\",ROUND($D56*INTRO!$E$48,0))","v":25039},{"$f":"IF(INTRO!$E$49=\"\",\"\",ROUND($D56*INTRO!$E$49,0))","v":43662},{"$f":"IF(INTRO!$E$50=\"\",\"\",ROUND($D56*INTRO!$E$50,0))","v":82473},0,4,2,2,4,{"$f":"IF(INTRO!$E$37=\"Endémique\",IF($H56>0,IF($H56=4,\"Inconnu\",IF($H56=99,\"Interrompu\",$D56)),0),\"Non requis\")","v":0},{"$f":"IF(INTRO!$E$39=\"Endémique\", IF($I56>0, IF($I56=4,\"Inconnu\",IF($I56=99,\"Interrompu\",$D56)), 0),\"Non requis\")","v":"Inconnu"},{"$f":"IF(INTRO!$E$41=\"Endémique\", IF(AND($J56>1,$J56<5), IF($J56=4, \"Inconnu\", E56+F56), 0),\"Non requis\")","v":68701},{"$f":"IF(INTRO!$E$43=\"Endémique\", IF(AND($K56>0,$K56<5), IF($K56=4,\"Inconnu\", IF($K56=1, $F56*0.33, IF($K56=2, $F56*0.5+$G56*0.2, SUM(F56:G56)))), 0),\"Non requis\")","v":38325.600000000006},0,0,1,0,null,null,"Oui","Oui",2214,"CACULA"]
[{"$f":"IF(INTRO!$E$33<>0,INTRO!$E$33, \" \")","v":"Angola"},"HUILA","CALUQUEMBE",205569,{"$f":"IF(INTRO!$E$48=\"\",\"\",ROUND($D57*INTRO!$E$48,0))","v":32891},{"$f":"IF(INTRO!$E$49=\"\",\"\",ROUND($D57*INTRO!$E$49,0))","v":57354},{"$f":"IF(INTRO!$E$50=\"\",\"\",ROUND($D57*INTRO!$E$50,0))","v":108335},0,1,2,2,4,{"$f":"IF(INTRO!$E$37=\"Endémique\",IF($H57>0,IF($H57=4,\"Inconnu\",IF($H57=99,\"Interrompu\",$D57)),0),\"Non requis\")","v":0},{"$f":"IF(INTRO!$E$39=\"Endémique\", IF($I57>0, IF($I57=4,\"Inconnu\",IF($I57=99,\"Interrompu\",$D57)), 0),\"Non requis\")","v":205569},{"$f":"IF(INTRO!$E$41=\"Endémique\", IF(AND($J57>1,$J57<5), IF($J57=4, \"Inconnu\", E57+F57), 0),\"Non requis\")","v":90245},{"$f":"IF(INTRO!$E$43=\"Endémique\", IF(AND($K57>0,$K57<5), IF($K57=4,\"Inconnu\", IF($K57=1, $F57*0.33, IF($K57=2, $F57*0.5+$G57*0.2, SUM(F57:G57)))), 0),\"Non requis\")","v":50344},0,1,1,0,null,null,"Oui","Oui",2134,"CALUQUEMBE"]
[{"$f":"IF(INTRO!$E$33<>0,INTRO!$E$33, \" \")","v":"Angola"},"HUILA","CHIBIA",189486,{"$f":"IF(INTRO!$E$48=\"\",\"\",ROUND($D58*INTRO!$E$48,0))","v":30318},{"$f":"IF(INTRO!$E$49=\"\",\"\",ROUND($D58*INTRO!$E$49,0))","v":52867},{"$f":"IF(INTRO!$E$50=\"\",\"\",ROUND($D58*INTRO!$E$50,0))","v":99859},0,4,2,2,1,{"$f":"IF(INTRO!$E$37=\"Endémique\",IF($H58>0,IF($H58=4,\"Inconnu\",IF($H58=99,\"Interrompu\",$D58)),0),\"Non requis\")","v":0},{"$f":"IF(INTRO!$E$39=\"Endémique\", IF($I58>0, IF($I58=4,\"Inconnu\",IF($I58=99,\"Interrompu\",$D58)), 0),\"Non requis\")","v":"Inconnu"},{"$f":"IF(INTRO!$E$41=\"Endémique\", IF(AND($J58>1,$J58<5), IF($J58=4, \"Inconnu\", E58+F58), 0),\"Non requis\")","v":83185},{"$f":"IF(INTRO!$E$43=\"Endémique\", IF(AND($K58>0,$K58<5), IF($K58=4,\"Inconnu\", IF($K58=1, $F58*0.33, IF($K58=2, $F58*0.5+$G58*0.2, SUM(F58:G58)))), 0),\"Non requis\")","v":46405.3},0,0,1,0,null,null,"Oui","Oui",2127,"CHIBIA"]
[{"$f":"IF(INTRO!$E$33<>0,INTRO!$E$33, \" \")","v":"Angola"},"HUILA","CHICOMBA",150588,{"$f":"IF(INTRO!$E$48=\"\",\"\",ROUND($D59*INTRO!$E$48,0))","v":24094},{"$f":"IF(INTRO!$E$49=\"\",\"\",ROUND($D59*INTRO!$E$49,0))","v":42014},{"$f":"IF(INTRO!$E$50=\"\",\"\",ROUND($D59*INTRO!$E$50,0))","v":79360},0,1,2,2,4,{"$f":"IF(INTRO!$E$37=\"Endémique\",IF($H59>0,IF($H59=4,\"Inconnu\",IF($H59=99,\"Interrompu\",$D59)),0),\"Non requis\")","v":0},{"$f":"IF(INTRO!$E$39=\"Endémique\", IF($I59>0, IF($I59=4,\"Inconnu\",IF($I59=99,\"Interrompu\",$D59)), 0),\"Non requis\")","v":150588},{"$f":"IF(INTRO!$E$41=\"Endémique\", IF(AND($J59>1,$J59<5), IF($J59=4, \"Inconnu\", E59+F59), 0),\"Non requis\")","v":66108},{"$f":"IF(INTRO!$E$43=\"Endémique\", IF(AND($K59>0,$K59<5), IF($K59=4,\"Inconnu\", IF($K59=1, $F59*0.33, IF($K59=2, $F59*0.5+$G59*0.2, SUM(F59:G59)))), 0),\"Non requis\")","v":36879},0,1,1,0,null,null,"Oui","Oui",2128,"CHICOMBA"]
[{"$f":"IF(INTRO!$E$33<>0,INTRO!$E$33, \" \")","v":"Angola"},"HUILA","CHIPINDO",73935,{"$f":"IF(INTRO!$E$48=\"\",\"\",ROUND($D60*INTRO!$E$48,0))","v":11830},{"$f":"IF(INTRO!$E$49=\"\",\"\",ROUND($D60*INTRO!$E$49,0))","v":20628},{"$f":"IF(INTRO!$E$50=\"\",\"\",ROUND($D60*INTRO!$E$50,0))","v":38964},0,1,2,2,1,{"$f":"IF(INTRO!$E$37=\"Endémique\",IF($H60>0,IF($H60=4,\"Inconnu\",IF($H60=99,\"Interrompu\",$D60)),0),\"Non requis\")","v":0},{"$f":"IF(INTRO!$E$39=\"Endémique\", IF($I60>0, IF($I60=4,\"Inconnu\",IF($I60=99,\"Interrompu\",$D60)), 0),\"Non requis\")","v":73935},{"$f":"IF(INTRO!$E$41=\"Endémique\", IF(AND($J60>1,$J60<5), IF($J60=4, \"Inconnu\", E60+F60), 0),\"Non requis\")","v":32458},{"$f":"IF(INTRO!$E$43=\"Endémique\", IF(AND($K60>0,$K60<5), IF($K60=4,\"Inconnu\", IF($K60=1, $F60*0.33, IF($K60=2, $F60*0.5+$G60*0.2, SUM(F60:G60)))), 0),\"Non requis\")","v":18106.8},0,1,1,0,null,null,"Oui","Oui",2129,"CHIPINDO"]
[{"$f":"IF(INTRO!$E$33<>0,INTRO!$E$33, \" \")","v":"Angola"},"HUILA","GAMBOS",90785,{"$f":"IF(INTRO!$E$48=\"\",\"\",ROUND($D61*INTRO!$E$48,0))","v":14526},{"$f":"IF(INTRO!$E$49=\"\",\"\",ROUND($D61*INTRO!$E$49,0))","v":25329},{"$f":"IF(INTRO!$E$50=\"\",\"\",ROUND($D61*INTRO!$E$50,0))","v":47844},0,4,2,2,1,{"$f":"IF(INTRO!$E$37=\"Endémique\",IF($H61>0,IF($H61=4,\"Inconnu\",IF($H61=99,\"Interrompu\",$D61)),0),\"Non requis\")","v":0},{"$f":"IF(INTRO!$E$39=\"Endémique\", IF($I61>0, IF($I61=4,\"Inconnu\",IF($I61=99,\"Interrompu\",$D61)), 0),\"Non requis\")","v":"Inconnu"},{"$f":"IF(INTRO!$E$41=\"Endémique\", IF(AND($J61>1,$J61<5), IF($J61=4, \"Inconnu\", E61+F61), 0),\"Non requis\")","v":39855},{"$f":"IF(INTRO!$E$43=\"Endémique\", IF(AND($K61>0,$K61<5), IF($K61=4,\"Inconnu\", IF($K61=1, $F61*0.33, IF($K61=2, $F61*0.5+$G61*0.2, SUM(F61:G61)))), 0),\"Non requis\")","v":22233.300000000003},0,0,1,0,null,null,"Oui","Oui",2130,"GAMBOS"]
[{"$f":"IF(INTRO!$E$33<>0,INTRO!$E$33, \" \")","v":"Angola"},"HUILA","HUMPATA",101847,{"$f":"IF(INTRO!$E$48=\"\",\"\",ROUND($D62*INTRO!$E$48,0))","v":16296},{"$f":"IF(INTRO!$E$49=\"\",\"\",ROUND($D62*INTRO!$E$49,0))","v":28415},{"$f":"IF(INTRO!$E$50=\"\",\"\",ROUND($D62*INTRO!$E$50,0))","v":53673},0,4,2,2,4,{"$f":"IF(INTRO!$E$37=\"Endémique\",IF($H62>0,IF($H62=4,\"Inconnu\",IF($H62=99,\"Interrompu\",$D62)),0),\"Non requis\")","v":0},{"$f":"IF(INTRO!$E$39=\"Endémique\", IF($I62>0, IF($I62=4,\"Inconnu\",IF($I62=99,\"Interrompu\",$D62)), 0),\"Non requis\")","v":"Inconnu"},{"$f":"IF(INTRO!$E$41=\"Endémique\", IF(AND($J62>1,$J62<5), IF($J62=4, \"Inconnu\", E62+F62), 0),\"Non requis\")","v":44711},{"$f":"IF(INTRO!$E$43=\"Endémique\", IF(AND($K62>0,$K62<5), IF($K62=4,\"Inconnu\", IF($K62=1, $F62*0.33, IF($K62=2, $F62*0.5+$G62*0.2, SUM(F62:G62)))), 0),\"Non requis\")","v":24942.1},0,0,1,0,null,null,"Oui","Oui",2131,"HUMPATA"]
[{"$f":"IF(INTRO!$E$33<>0,INTRO!$E$33, \" \")","v":"Angola"},"HUILA","JAMBA",120065,{"$f":"IF(INTRO!$E$48=\"\",\"\",ROUND($D63*INTRO!$E$48,0))","v":19210},{"$f":"IF(INTRO!$E$49=\"\",\"\",ROUND($D63*INTRO!$E$49,0))","v":33498},{"$f":"IF(INTRO!$E$50=\"\",\"\",ROUND($D63*INTRO!$E$50,0))","v":63274},0,4,2,2,1,{"$f":"IF(INTRO!$E$37=\"Endémique\",IF($H63>0,IF($H63=4,\"Inconnu\",IF($H63=99,\"Interrompu\",$D63)),0),\"Non requis\")","v":0},{"$f":"IF(INTRO!$E$39=\"Endémique\", IF($I63>0, IF($I63=4,\"Inconnu\",IF($I63=99,\"Interrompu\",$D63)), 0),\"Non requis\")","v":"Inconnu"},{"$f":"IF(INTRO!$E$41=\"Endémique\", IF(AND($J63>1,$J63<5), IF($J63=4, \"Inconnu\", E63+F63), 0),\"Non requis\")","v":52708},{"$f":"IF(INTRO!$E$43=\"Endémique\", IF(AND($K63>0,$K63<5), IF($K63=4,\"Inconnu\", IF($K63=1, $F63*0.33, IF($K63=2, $F63*0.5+$G63*0.2, SUM(F63:G63)))), 0),\"Non requis\")","v":29403.800000000003},0,0,1,0,null,null,"Oui","Oui",2132,"JAMBA"]
[{"$f":"IF(INTRO!$E$33<>0,INTRO!$E$33, \" \")","v":"Angola"},"HUILA","KUVANGO",89734,{"$f":"IF(INTRO!$E$48=\"\",\"\",ROUND($D64*INTRO!$E$48,0))","v":14357},{"$f":"IF(INTRO!$E$49=\"\",\"\",ROUND($D64*INTRO!$E$49,0))","v":25036},{"$f":"IF(INTRO!$E$50=\"\",\"\",ROUND($D64*INTRO!$E$50,0))","v":47290},0,4,2,2,1,{"$f":"IF(INTRO!$E$37=\"Endémique\",IF($H64>0,IF($H64=4,\"Inconnu\",IF($H64=99,\"Interrompu\",$D64)),0),\"Non requis\")","v":0},{"$f":"IF(INTRO!$E$39=\"Endémique\", IF($I64>0, IF($I64=4,\"Inconnu\",IF($I64=99,\"Interrompu\",$D64)), 0),\"Non requis\")","v":"Inconnu"},{"$f":"IF(INTRO!$E$41=\"Endémique\", IF(AND($J64>1,$J64<5), IF($J64=4, \"Inconnu\", E64+F64), 0),\"Non requis\")","v":39393},{"$f":"IF(INTRO!$E$43=\"Endémique\", IF(AND($K64>0,$K64<5), IF($K64=4,\"Inconnu\", IF($K64=1, $F64*0.33, IF($K64=2, $F64*0.5+$G64*0.2, SUM(F64:G64)))), 0),\"Non requis\")","v":21976},0,0,1,0,null,null,"Oui","Oui",2136,"KUVANGO"]
[{"$f":"IF(INTRO!$E$33<>0,INTRO!$E$33, \" \")","v":"Angola"},"HUILA","LUBANGO",886857,{"$f":"IF(INTRO!$E$48=\"\",\"\",ROUND($D65*INTRO!$E$48,0))","v":141897},{"$f":"IF(INTRO!$E$49=\"\",\"\",ROUND($D65*INTRO!$E$49,0))","v":247433},{"$f":"IF(INTRO!$E$50=\"\",\"\",ROUND($D65*INTRO!$E$50,0))","v":467374},0,4,2,2,4,{"$f":"IF(INTRO!$E$37=\"Endémique\",IF($H65>0,IF($H65=4,\"Inconnu\",IF($H65=99,\"Interrompu\",$D65)),0),\"Non requis\")","v":0},{"$f":"IF(INTRO!$E$39=\"Endémique\", IF($I65>0, IF($I65=4,\"Inconnu\",IF($I65=99,\"Interrompu\",$D65)), 0),\"Non requis\")","v":"Inconnu"},{"$f":"IF(INTRO!$E$41=\"Endémique\", IF(AND($J65>1,$J65<5), IF($J65=4, \"Inconnu\", E65+F65), 0),\"Non requis\")","v":389330},{"$f":"IF(INTRO!$E$43=\"Endémique\", IF(AND($K65>0,$K65<5), IF($K65=4,\"Inconnu\", IF($K65=1, $F65*0.33, IF($K65=2, $F65*0.5+$G65*0.2, SUM(F65:G65)))), 0),\"Non requis\")","v":217191.3},0,0,1,0,null,null,"Oui","Oui",2137,"LUBANGO"]
[{"$f":"IF(INTRO!$E$33<>0,INTRO!$E$33, \" \")","v":"Angola"},"HUILA","MATALA",328564,{"$f":"IF(INTRO!$E$48=\"\",\"\",ROUND($D66*INTRO!$E$48,0))","v":52570},{"$f":"IF(INTRO!$E$49=\"\",\"\",ROUND($D66*INTRO!$E$49,0))","v":91669},{"$f":"IF(INTRO!$E$50=\"\",\"\",ROUND($D66*INTRO!$E$50,0))","v":173153},0,1,2,2,1,{"$f":"IF(INTRO!$E$37=\"Endémique\",IF($H66>0,IF($H66=4,\"Inconnu\",IF($H66=99,\"Interrompu\",$D66)),0),\"Non requis\")","v":0},{"$f":"IF(INTRO!$E$39=\"Endémique\", IF($I66>0, IF($I66=4,\"Inconnu\",IF($I66=99,\"Interrompu\",$D66)), 0),\"Non requis\")","v":328564},{"$f":"IF(INTRO!$E$41=\"Endémique\", IF(AND($J66>1,$J66<5), IF($J66=4, \"Inconnu\", E66+F66), 0),\"Non requis\")","v":144239},{"$f":"IF(INTRO!$E$43=\"Endémique\", IF(AND($K66>0,$K66<5), IF($K66=4,\"Inconnu\", IF($K66=1, $F66*0.33, IF($K66=2, $F66*0.5+$G66*0.2, SUM(F66:G66)))), 0),\"Non requis\")","v":80465.100000000006},0,1,1,0,null,null,"Oui","Oui",2138,"MATALA"]
[{"$f":"IF(INTRO!$E$33<>0,INTRO!$E$33, \" \")","v":"Angola"},"HUILA","QUILENGUES",86069,{"$f":"IF(INTRO!$E$48=\"\",\"\",ROUND($D67*INTRO!$E$48,0))","v":13771},{"$f":"IF(INTRO!$E$49=\"\",\"\",ROUND($D67*INTRO!$E$49,0))","v":24013},{"$f":"IF(INTRO!$E$50=\"\",\"\",ROUND($D67*INTRO!$E$50,0))","v":45358},0,1,2,2,4,{"$f":"IF(INTRO!$E$37=\"Endémique\",IF($H67>0,IF($H67=4,\"Inconnu\",IF($H67=99,\"Interrompu\",$D67)),0),\"Non requis\")","v":0},{"$f":"IF(INTRO!$E$39=\"Endémique\", IF($I67>0, IF($I67=4,\"Inconnu\",IF($I67=99,\"Interrompu\",$D67)), 0),\"Non requis\")","v":86069},{"$f":"IF(INTRO!$E$41=\"Endémique\", IF(AND($J67>1,$J67<5), IF($J67=4, \"Inconnu\", E67+F67), 0),\"Non requis\")","v":37784},{"$f":"IF(INTRO!$E$43=\"Endémique\", IF(AND($K67>0,$K67<5), IF($K67=4,\"Inconnu\", IF($K67=1, $F67*0.33, IF($K67=2, $F67*0.5+$G67*0.2, SUM(F67:G67)))), 0),\"Non requis\")","v":21078.1},0,1,1,0,null,null,"Oui","Oui",2135,"QUILENGUES"]
[{"$f":"IF(INTRO!$E$33<>0,INTRO!$E$33, \" \")","v":"Angola"},"HUILA","QUIPUNGO",181562,{"$f":"IF(INTRO!$E$48=\"\",\"\",ROUND($D68*INTRO!$E$48,0))","v":29050},{"$f":"IF(INTRO!$E$49=\"\",\"\",ROUND($D68*INTRO!$E$49,0))","v":50656},{"$f":"IF(INTRO!$E$50=\"\",\"\",ROUND($D68*INTRO!$E$50,0))","v":95683},0,1,2,2,1,{"$f":"IF(INTRO!$E$37=\"Endémique\",IF($H68>0,IF($H68=4,\"Inconnu\",IF($H68=99,\"Interrompu\",$D68)),0),\"Non requis\")","v":0},{"$f":"IF(INTRO!$E$39=\"Endémique\", IF($I68>0, IF($I68=4,\"Inconnu\",IF($I68=99,\"Interrompu\",$D68)), 0),\"Non requis\")","v":181562},{"$f":"IF(INTRO!$E$41=\"Endémique\", IF(AND($J68>1,$J68<5), IF($J68=4, \"Inconnu\", E68+F68), 0),\"Non requis\")","v":79706},{"$f":"IF(INTRO!$E$43=\"Endémique\", IF(AND($K68>0,$K68<5), IF($K68=4,\"Inconnu\", IF($K68=1, $F68*0.33, IF($K68=2, $F68*0.5+$G68*0.2, SUM(F68:G68)))), 0),\"Non requis\")","v":44464.600000000006},0,1,1,0,null,null,"Oui","Oui",2221,"QUIPUNGO"]
[{"$f":"IF(INTRO!$E$33<>0,INTRO!$E$33, \" \")","v":"Angola"},"KUANDO KUBANGO","CALAI",25882,{"$f":"IF(INTRO!$E$48=\"\",\"\",ROUND($D69*INTRO!$E$48,0))","v":4141},{"$f":"IF(INTRO!$E$49=\"\",\"\",ROUND($D69*INTRO!$E$49,0))","v":7221},{"$f":"IF(INTRO!$E$50=\"\",\"\",ROUND($D69*INTRO!$E$50,0))","v":13640},0,4,2,2,1,{"$f":"IF(INTRO!$E$37=\"Endémique\",IF($H69>0,IF($H69=4,\"Inconnu\",IF($H69=99,\"Interrompu\",$D69)),0),\"Non requis\")","v":0},{"$f":"IF(INTRO!$E$39=\"Endémique\", IF($I69>0, IF($I69=4,\"Inconnu\",IF($I69=99,\"Interrompu\",$D69)), 0),\"Non requis\")","v":"Inconnu"},{"$f":"IF(INTRO!$E$41=\"Endémique\", IF(AND($J69>1,$J69<5), IF($J69=4, \"Inconnu\", E69+F69), 0),\"Non requis\")","v":11362},{"$f":"IF(INTRO!$E$43=\"Endémique\", IF(AND($K69>0,$K69<5), IF($K69=4,\"Inconnu\", IF($K69=1, $F69*0.33, IF($K69=2, $F69*0.5+$G69*0.2, SUM(F69:G69)))), 0),\"Non requis\")","v":6338.5},0,0,1,0,null,null,"Oui","Oui",2078,"CALAI"]
[{"$f":"IF(INTRO!$E$33<>0,INTRO!$E$33, \" \")","v":"Angola"},"KUANDO KUBANGO","CUANGAR",32514,{"$f":"IF(INTRO!$E$48=\"\",\"\",ROUND($D70*INTRO!$E$48,0))","v":5202},{"$f":"IF(INTRO!$E$49=\"\",\"\",ROUND($D70*INTRO!$E$49,0))","v":9071},{"$f":"IF(INTRO!$E$50=\"\",\"\",ROUND($D70*INTRO!$E$50,0))","v":17135},0,1,2,2,1,{"$f":"IF(INTRO!$E$37=\"Endémique\",IF($H70>0,IF($H70=4,\"Inconnu\",IF($H70=99,\"Interrompu\",$D70)),0),\"Non requis\")","v":0},{"$f":"IF(INTRO!$E$39=\"Endémique\", IF($I70>0, IF($I70=4,\"Inconnu\",IF($I70=99,\"Interrompu\",$D70)), 0),\"Non requis\")","v":32514},{"$f":"IF(INTRO!$E$41=\"Endémique\", IF(AND($J70>1,$J70<5), IF($J70=4, \"Inconnu\", E70+F70), 0),\"Non requis\")","v":14273},{"$f":"IF(INTRO!$E$43=\"Endémique\", IF(AND($K70>0,$K70<5), IF($K70=4,\"Inconnu\", IF($K70=1, $F70*0.33, IF($K70=2, $F70*0.5+$G70*0.2, SUM(F70:G70)))), 0),\"Non requis\")","v":7962.5},0,1,1,0,null,null,"Oui","Oui",2076,"CUANGAR"]
[{"$f":"IF(INTRO!$E$33<>0,INTRO!$E$33, \" \")","v":"Angola"},"KUANDO KUBANGO","CUCHI",49098,{"$f":"IF(INTRO!$E$48=\"\",\"\",ROUND($D71*INTRO!$E$48,0))","v":7856},{"$f":"IF(INTRO!$E$49=\"\",\"\",ROUND($D71*INTRO!$E$49,0))","v":13698},{"$f":"IF(INTRO!$E$50=\"\",\"\",ROUND($D71*INTRO!$E$50,0))","v":25875},0,1,2,2,1,{"$f":"IF(INTRO!$E$37=\"Endémique\",IF($H71>0,IF($H71=4,\"Inconnu\",IF($H71=99,\"Interrompu\",$D71)),0),\"Non requis\")","v":0},{"$f":"IF(INTRO!$E$39=\"Endémique\", IF($I71>0, IF($I71=4,\"Inconnu\",IF($I71=99,\"Interrompu\",$D71)), 0),\"Non requis\")","v":49098},{"$f":"IF(INTRO!$E$41=\"Endémique\", IF(AND($J71>1,$J71<5), IF($J71=4, \"Inconnu\", E71+F71), 0),\"Non requis\")","v":21554},{"$f":"IF(INTRO!$E$43=\"Endémique\", IF(AND($K71>0,$K71<5), IF($K71=4,\"Inconnu\", IF($K71=1, $F71*0.33, IF($K71=2, $F71*0.5+$G71*0.2, SUM(F71:G71)))), 0),\"Non requis\")","v":12024},0,1,1,0,null,null,"Oui","Oui",2079,"CUCHI"]
[{"$f":"IF(INTRO!$E$33<>0,INTRO!$E$33, \" \")","v":"Angola"},"KUANDO KUBANGO","DIRICO",17281,{"$f":"IF(INTRO!$E$48=\"\",\"\",ROUND($D72*INTRO!$E$48,0))","v":2765},{"$f":"IF(INTRO!$E$49=\"\",\"\",ROUND($D72*INTRO!$E$49,0))","v":4821},{"$f":"IF(INTRO!$E$50=\"\",\"\",ROUND($D72*INTRO!$E$50,0))","v":9107},0,4,2,2,1,{"$f":"IF(INTRO!$E$37=\"Endémique\",IF($H72>0,IF($H72=4,\"Inconnu\",IF($H72=99,\"Interrompu\",$D72)),0),\"Non requis\")","v":0},{"$f":"IF(INTRO!$E$39=\"Endémique\", IF($I72>0, IF($I72=4,\"Inconnu\",IF($I72=99,\"Interrompu\",$D72)), 0),\"Non requis\")","v":"Inconnu"},{"$f":"IF(INTRO!$E$41=\"Endémique\", IF(AND($J72>1,$J72<5), IF($J72=4, \"Inconnu\", E72+F72), 0),\"Non requis\")","v":7586},{"$f":"IF(INTRO!$E$43=\"Endémique\", IF(AND($K72>0,$K72<5), IF($K72=4,\"Inconnu\", IF($K72=1, $F72*0.33, IF($K72=2, $F72*0.5+$G72*0.2, SUM(F72:G72)))), 0),\"Non requis\")","v":4231.8999999999996},0,0,1,0,null,null,"Oui","Oui",2077,"DIRICO"]
[{"$f":"IF(INTRO!$E$33<>0,INTRO!$E$33, \" \")","v":"Angola"},"KUANDO KUBANGO","KUITO KUANAVALE",46646,{"$f":"IF(INTRO!$E$48=\"\",\"\",ROUND($D73*INTRO!$E$48,0))","v":7463},{"$f":"IF(INTRO!$E$49=\"\",\"\",ROUND($D73*INTRO!$E$49,0))","v":13014},{"$f":"IF(INTRO!$E$50=\"\",\"\",ROUND($D73*INTRO!$E$50,0))","v":24582},0,1,2,2,1,{"$f":"IF(INTRO!$E$37=\"Endémique\",IF($H73>0,IF($H73=4,\"Inconnu\",IF($H73=99,\"Interrompu\",$D73)),0),\"Non requis\")","v":0},{"$f":"IF(INTRO!$E$39=\"Endémique\", IF($I73>0, IF($I73=4,\"Inconnu\",IF($I73=99,\"Interrompu\",$D73)), 0),\"Non requis\")","v":46646},{"$f":"IF(INTRO!$E$41=\"Endémique\", IF(AND($J73>1,$J73<5), IF($J73=4, \"Inconnu\", E73+F73), 0),\"Non requis\")","v":20477},{"$f":"IF(INTRO!$E$43=\"Endémique\", IF(AND($K73>0,$K73<5), IF($K73=4,\"Inconnu\", IF($K73=1, $F73*0.33, IF($K73=2, $F73*0.5+$G73*0.2, SUM(F73:G73)))), 0),\"Non requis\")","v":11423.400000000001},0,1,1,0,null,null,"Oui","Oui",2080,"KUITO KUANAVALE"]
[{"$f":"IF(INTRO!$E$33<>0,INTRO!$E$33, \" \")","v":"Angola"},"KUANDO KUBANGO","MAVINGA",31071,{"$f":"IF(INTRO!$E$48=\"\",\"\",ROUND($D74*INTRO!$E$48,0))","v":4971},{"$f":"IF(INTRO!$E$49=\"\",\"\",ROUND($D74*INTRO!$E$49,0))","v":8669},{"$f":"IF(INTRO!$E$50=\"\",\"\",ROUND($D74*INTRO!$E$50,0))","v":16374},0,4,2,2,1,{"$f":"IF(INTRO!$E$37=\"Endémique\",IF($H74>0,IF($H74=4,\"Inconnu\",IF($H74=99,\"Interrompu\",$D74)),0),\"Non requis\")","v":0},{"$f":"IF(INTRO!$E$39=\"Endémique\", IF($I74>0, IF($I74=4,\"Inconnu\",IF($I74=99,\"Interrompu\",$D74)), 0),\"Non requis\")","v":"Inconnu"},{"$f":"IF(INTRO!$E$41=\"Endémique\", IF(AND($J74>1,$J74<5), IF($J74=4, \"Inconnu\", E74+F74), 0),\"Non requis\")","v":13640},{"$f":"IF(INTRO!$E$43=\"Endémique\", IF(AND($K74>0,$K74<5), IF($K74=4,\"Inconnu\", IF($K74=1, $F74*0.33, IF($K74=2, $F74*0.5+$G74*0.2, SUM(F74:G74)))), 0),\"Non requis\")","v":7609.3},0,0,1,0,null,null,"Oui","Oui",2081,"MAVINGA"]
[{"$f":"IF(INTRO!$E$33<>0,INTRO!$E$33, \" \")","v":"Angola"},"KUANDO KUBANGO","MENONGUE",366641,{"$f":"IF(INTRO!$E$48=\"\",\"\",ROUND($D75*INTRO!$E$48,0))","v":58663},{"$f":"IF(INTRO!$E$49=\"\",\"\",ROUND($D75*INTRO!$E$49,0))","v":102293},{"$f":"IF(INTRO!$E$50=\"\",\"\",ROUND($D75*INTRO!$E$50,0))","v":193220},0,1,2,2,1,{"$f":"IF(INTRO!$E$37=\"Endémique\",IF($H75>0,IF($H75=4,\"Inconnu\",IF($H75=99,\"Interrompu\",$D75)),0),\"Non requis\")","v":0},{"$f":"IF(INTRO!$E$39=\"Endémique\", IF($I75>0, IF($I75=4,\"Inconnu\",IF($I75=99,\"Interrompu\",$D75)), 0),\"Non requis\")","v":366641},{"$f":"IF(INTRO!$E$41=\"Endémique\", IF(AND($J75>1,$J75<5), IF($J75=4, \"Inconnu\", E75+F75), 0),\"Non requis\")","v":160956},{"$f":"IF(INTRO!$E$43=\"Endémique\", IF(AND($K75>0,$K75<5), IF($K75=4,\"Inconnu\", IF($K75=1, $F75*0.33, IF($K75=2, $F75*0.5+$G75*0.2, SUM(F75:G75)))), 0),\"Non requis\")","v":89790.5},0,1,1,0,null,null,"Oui","Oui",2082,"MENONGUE"]
[{"$f":"IF(INTRO!$E$33<>0,INTRO!$E$33, \" \")","v":"Angola"},"KUANDO KUBANGO","NANKOVA",3194,{"$f":"IF(INTRO!$E$48=\"\",\"\",ROUND($D76*INTRO!$E$48,0))","v":511},{"$f":"IF(INTRO!$E$49=\"\",\"\",ROUND($D76*INTRO!$E$49,0))","v":891},{"$f":"IF(INTRO!$E$50=\"\",\"\",ROUND($D76*INTRO!$E$50,0))","v":1683},0,1,2,2,1,{"$f":"IF(INTRO!$E$37=\"Endémique\",IF($H76>0,IF($H76=4,\"Inconnu\",IF($H76=99,\"Interrompu\",$D76)),0),\"Non requis\")","v":0},{"$f":"IF(INTRO!$E$39=\"Endémique\", IF($I76>0, IF($I76=4,\"Inconnu\",IF($I76=99,\"Interrompu\",$D76)), 0),\"Non requis\")","v":3194},{"$f":"IF(INTRO!$E$41=\"Endémique\", IF(AND($J76>1,$J76<5), IF($J76=4, \"Inconnu\", E76+F76), 0),\"Non requis\")","v":1402},{"$f":"IF(INTRO!$E$43=\"Endémique\", IF(AND($K76>0,$K76<5), IF($K76=4,\"Inconnu\", IF($K76=1, $F76*0.33, IF($K76=2, $F76*0.5+$G76*0.2, SUM(F76:G76)))), 0),\"Non requis\")","v":782.1},0,1,1,0,null,null,"Oui","Oui",2083,"NANKOVA"]
[{"$f":"IF(INTRO!$E$33<>0,INTRO!$E$33, \" \")","v":"Angola"},"KUANDO KUBANGO","RIVUNGO",37763,{"$f":"IF(INTRO!$E$48=\"\",\"\",ROUND($D77*INTRO!$E$48,0))","v":6042},{"$f":"IF(INTRO!$E$49=\"\",\"\",ROUND($D77*INTRO!$E$49,0))","v":10536},{"$f":"IF(INTRO!$E$50=\"\",\"\",ROUND($D77*INTRO!$E$50,0))","v":19901},0,4,2,2,4,{"$f":"IF(INTRO!$E$37=\"Endémique\",IF($H77>0,IF($H77=4,\"Inconnu\",IF($H77=99,\"Interrompu\",$D77)),0),\"Non requis\")","v":0},{"$f":"IF(INTRO!$E$39=\"Endémique\", IF($I77>0, IF($I77=4,\"Inconnu\",IF($I77=99,\"Interrompu\",$D77)), 0),\"Non requis\")","v":"Inconnu"},{"$f":"IF(INTRO!$E$41=\"Endémique\", IF(AND($J77>1,$J77<5), IF($J77=4, \"Inconnu\", E77+F77), 0),\"Non requis\")","v":16578},{"$f":"IF(INTRO!$E$43=\"Endémique\", IF(AND($K77>0,$K77<5), IF($K77=4,\"Inconnu\", IF($K77=1, $F77*0.33, IF($K77=2, $F77*0.5+$G77*0.2, SUM(F77:G77)))), 0),\"Non requis\")","v":9248.2000000000007},0,0,1,0,null,null,"Oui","Oui",2084,"RIVUNGO"]
[{"$f":"IF(INTRO!$E$33<>0,INTRO!$E$33, \" \")","v":"Angola"},"KWANZA NORTE","AMBACA",70570,{"$f":"IF(INTRO!$E$48=\"\",\"\",ROUND($D78*INTRO!$E$48,0))","v":11291},{"$f":"IF(INTRO!$E$49=\"\",\"\",ROUND($D78*INTRO!$E$49,0))","v":19689},{"$f":"IF(INTRO!$E$50=\"\",\"\",ROUND($D78*INTRO!$E$50,0))","v":37190},4,1,3,2,1,{"$f":"IF(INTRO!$E$37=\"Endémique\",IF($H78>0,IF($H78=4,\"Inconnu\",IF($H78=99,\"Interrompu\",$D78)),0),\"Non requis\")","v":"Inconnu"},{"$f":"IF(INTRO!$E$39=\"Endémique\", IF($I78>0, IF($I78=4,\"Inconnu\",IF($I78=99,\"Interrompu\",$D78)), 0),\"Non requis\")","v":70570},{"$f":"IF(INTRO!$E$41=\"Endémique\", IF(AND($J78>1,$J78<5), IF($J78=4, \"Inconnu\", E78+F78), 0),\"Non requis\")","v":30980},{"$f":"IF(INTRO!$E$43=\"Endémique\", IF(AND($K78>0,$K78<5), IF($K78=4,\"Inconnu\", IF($K78=1, $F78*0.33, IF($K78=2, $F78*0.5+$G78*0.2, SUM(F78:G78)))), 0),\"Non requis\")","v":17282.5},0,1,1,0,null,null,"Oui","Oui",2085,"AMBACA"]
[{"$f":"IF(INTRO!$E$33<>0,INTRO!$E$33, \" \")","v":"Angola"},"KWANZA NORTE","BANGA",11829,{"$f":"IF(INTRO!$E$48=\"\",\"\",ROUND($D79*INTRO!$E$48,0))","v":1893},{"$f":"IF(INTRO!$E$49=\"\",\"\",ROUND($D79*INTRO!$E$49,0))","v":3300},{"$f":"IF(INTRO!$E$50=\"\",\"\",ROUND($D79*INTRO!$E$50,0))","v":6234},4,1,3,2,1,{"$f":"IF(INTRO!$E$37=\"Endémique\",IF($H79>0,IF($H79=4,\"Inconnu\",IF($H79=99,\"Interrompu\",$D79)),0),\"Non requis\")","v":"Inconnu"},{"$f":"IF(INTRO!$E$39=\"Endémique\", IF($I79>0, IF($I79=4,\"Inconnu\",IF($I79=99,\"Interrompu\",$D79)), 0),\"Non requis\")","v":11829},{"$f":"IF(INTRO!$E$41=\"Endémique\", IF(AND($J79>1,$J79<5), IF($J79=4, \"Inconnu\", E79+F79), 0),\"Non requis\")","v":5193},{"$f":"IF(INTRO!$E$43=\"Endémique\", IF(AND($K79>0,$K79<5), IF($K79=4,\"Inconnu\", IF($K79=1, $F79*0.33, IF($K79=2, $F79*0.5+$G79*0.2, SUM(F79:G79)))), 0),\"Non requis\")","v":2896.8},0,1,1,0,null,null,"Oui","Oui",2086,"BANGA"]
[{"$f":"IF(INTRO!$E$33<>0,INTRO!$E$33, \" \")","v":"Angola"},"KWANZA NORTE","BOLONGONGO",14874,{"$f":"IF(INTRO!$E$48=\"\",\"\",ROUND($D80*INTRO!$E$48,0))","v":2380},{"$f":"IF(INTRO!$E$49=\"\",\"\",ROUND($D80*INTRO!$E$49,0))","v":4150},{"$f":"IF(INTRO!$E$50=\"\",\"\",ROUND($D80*INTRO!$E$50,0))","v":7839},4,1,3,2,1,{"$f":"IF(INTRO!$E$37=\"Endémique\",IF($H80>0,IF($H80=4,\"Inconnu\",IF($H80=99,\"Interrompu\",$D80)),0),\"Non requis\")","v":"Inconnu"},{"$f":"IF(INTRO!$E$39=\"Endémique\", IF($I80>0, IF($I80=4,\"Inconnu\",IF($I80=99,\"Interrompu\",$D80)), 0),\"Non requis\")","v":14874},{"$f":"IF(INTRO!$E$41=\"Endémique\", IF(AND($J80>1,$J80<5), IF($J80=4, \"Inconnu\", E80+F80), 0),\"Non requis\")","v":6530},{"$f":"IF(INTRO!$E$43=\"Endémique\", IF(AND($K80>0,$K80<5), IF($K80=4,\"Inconnu\", IF($K80=1, $F80*0.33, IF($K80=2, $F80*0.5+$G80*0.2, SUM(F80:G80)))), 0),\"Non requis\")","v":3642.8},0,1,1,0,null,null,"Oui","Oui",2087,"BOLONGONGO"]
[{"$f":"IF(INTRO!$E$33<>0,INTRO!$E$33, \" \")","v":"Angola"},"KWANZA NORTE","CAMBAMBE",103699,{"$f":"IF(INTRO!$E$48=\"\",\"\",ROUND($D81*INTRO!$E$48,0))","v":16592},{"$f":"IF(INTRO!$E$49=\"\",\"\",ROUND($D81*INTRO!$E$49,0))","v":28932},{"$f":"IF(INTRO!$E$50=\"\",\"\",ROUND($D81*INTRO!$E$50,0))","v":54649},0,4,3,2,1,{"$f":"IF(INTRO!$E$37=\"Endémique\",IF($H81>0,IF($H81=4,\"Inconnu\",IF($H81=99,\"Interrompu\",$D81)),0),\"Non requis\")","v":0},{"$f":"IF(INTRO!$E$39=\"Endémique\", IF($I81>0, IF($I81=4,\"Inconnu\",IF($I81=99,\"Interrompu\",$D81)), 0),\"Non requis\")","v":"Inconnu"},{"$f":"IF(INTRO!$E$41=\"Endémique\", IF(AND($J81>1,$J81<5), IF($J81=4, \"Inconnu\", E81+F81), 0),\"Non requis\")","v":45524},{"$f":"IF(INTRO!$E$43=\"Endémique\", IF(AND($K81>0,$K81<5), IF($K81=4,\"Inconnu\", IF($K81=1, $F81*0.33, IF($K81=2, $F81*0.5+$G81*0.2, SUM(F81:G81)))), 0),\"Non requis\")","v":25395.800000000003},0,0,1,0,null,null,"Oui","Oui",2091,"CAMBAMBE"]
[{"$f":"IF(INTRO!$E$33<>0,INTRO!$E$33, \" \")","v":"Angola"},"KWANZA NORTE","CAZENGO",196215,{"$f":"IF(INTRO!$E$48=\"\",\"\",ROUND($D82*INTRO!$E$48,0))","v":31394},{"$f":"IF(INTRO!$E$49=\"\",\"\",ROUND($D82*INTRO!$E$49,0))","v":54744},{"$f":"IF(INTRO!$E$50=\"\",\"\",ROUND($D82*INTRO!$E$50,0))","v":103405},4,4,3,2,1,{"$f":"IF(INTRO!$E$37=\"Endémique\",IF($H82>0,IF($H82=4,\"Inconnu\",IF($H82=99,\"Interrompu\",$D82)),0),\"Non requis\")","v":"Inconnu"},{"$f":"IF(INTRO!$E$39=\"Endémique\", IF($I82>0, IF($I82=4,\"Inconnu\",IF($I82=99,\"Interrompu\",$D82)), 0),\"Non requis\")","v":"Inconnu"},{"$f":"IF(INTRO!$E$41=\"Endémique\", IF(AND($J82>1,$J82<5), IF($J82=4, \"Inconnu\", E82+F82), 0),\"Non requis\")","v":86138},{"$f":"IF(INTRO!$E$43=\"Endémique\", IF(AND($K82>0,$K82<5), IF($K82=4,\"Inconnu\", IF($K82=1, $F82*0.33, IF($K82=2, $F82*0.5+$G82*0.2, SUM(F82:G82)))), 0),\"Non requis\")","v":48053},0,0,1,0,null,null,"Oui","Oui",2092,"CAZENGO"]
[{"$f":"IF(INTRO!$E$33<>0,INTRO!$E$33, \" \")","v":"Angola"},"KWANZA NORTE","GOLUNGO ALTO",38655,{"$f":"IF(INTRO!$E$48=\"\",\"\",ROUND($D83*INTRO!$E$48,0))","v":6185},{"$f":"IF(INTRO!$E$49=\"\",\"\",ROUND($D83*INTRO!$E$49,0))","v":10785},{"$f":"IF(INTRO!$E$50=\"\",\"\",ROUND($D83*INTRO!$E$50,0))","v":20371},4,1,3,2,1,{"$f":"IF(INTRO!$E$37=\"Endémique\",IF($H83>0,IF($H83=4,\"Inconnu\",IF($H83=99,\"Interrompu\",$D83)),0),\"Non requis\")","v":"Inconnu"},{"$f":"IF(INTRO!$E$39=\"Endémique\", IF($I83>0, IF($I83=4,\"Inconnu\",IF($I83=99,\"Interrompu\",$D83)), 0),\"Non requis\")","v":38655},{"$f":"IF(INTRO!$E$41=\"Endémique\", IF(AND($J83>1,$J83<5), IF($J83=4, \"Inconnu\", E83+F83), 0),\"Non requis\")","v":16970},{"$f":"IF(INTRO!$E$43=\"Endémique\", IF(AND($K83>0,$K83<5), IF($K83=4,\"Inconnu\", IF($K83=1, $F83*0.33, IF($K83=2, $F83*0.5+$G83*0.2, SUM(F83:G83)))), 0),\"Non requis\")","v":9466.7000000000007},0,1,1,0,null,null,"Oui","Oui",2090,"GOLUNGO ALTO"]
[{"$f":"IF(INTRO!$E$33<>0,INTRO!$E$33, \" \")","v":"Angola"},"KWANZA NORTE","GONGUEMBO",8656,{"$f":"IF(INTRO!$E$48=\"\",\"\",ROUND($D84*INTRO!$E$48,0))","v":1385},{"$f":"IF(INTRO!$E$49=\"\",\"\",ROUND($D84*INTRO!$E$49,0))","v":2415},{"$f":"IF(INTRO!$E$50=\"\",\"\",ROUND($D84*INTRO!$E$50,0))","v":4562},4,1,3,2,1,{"$f":"IF(INTRO!$E$37=\"Endémique\",IF($H84>0,IF($H84=4,\"Inconnu\",IF($H84=99,\"Interrompu\",$D84)),0),\"Non requis\")","v":"Inconnu"},{"$f":"IF(INTRO!$E$39=\"Endémique\", IF($I84>0, IF($I84=4,\"Inconnu\",IF($I84=99,\"Interrompu\",$D84)), 0),\"Non requis\")","v":8656},{"$f":"IF(INTRO!$E$41=\"Endémique\", IF(AND($J84>1,$J84<5), IF($J84=4, \"Inconnu\", E84+F84), 0),\"Non requis\")","v":3800},{"$f":"IF(INTRO!$E$43=\"Endémique\", IF(AND($K84>0,$K84<5), IF($K84=4,\"Inconnu\", IF($K84=1, $F84*0.33, IF($K84=2, $F84*0.5+$G84*0.2, SUM(F84:G84)))), 0),\"Non requis\")","v":2119.9},0,1,1,0,null,null,"Oui","Oui",2217,"GONGUEMBO"]
[{"$f":"IF(INTRO!$E$33<>0,INTRO!$E$33, \" \")","v":"Angola"},"KWANZA NORTE","KICULUNGO",11118,{"$f":"IF(INTRO!$E$48=\"\",\"\",ROUND($D85*INTRO!$E$48,0))","v":1779},{"$f":"IF(INTRO!$E$49=\"\",\"\",ROUND($D85*INTRO!$E$49,0))","v":3102},{"$f":"IF(INTRO!$E$50=\"\",\"\",ROUND($D85*INTRO!$E$50,0))","v":5859},4,4,3,2,1,{"$f":"IF(INTRO!$E$37=\"Endémique\",IF($H85>0,IF($H85=4,\"Inconnu\",IF($H85=99,\"Interrompu\",$D85)),0),\"Non requis\")","v":"Inconnu"},{"$f":"IF(INTRO!$E$39=\"Endémique\", IF($I85>0, IF($I85=4,\"Inconnu\",IF($I85=99,\"Interrompu\",$D85)), 0),\"Non requis\")","v":"Inconnu"},{"$f":"IF(INTRO!$E$41=\"Endémique\", IF(AND($J85>1,$J85<5), IF($J85=4, \"Inconnu\", E85+F85), 0),\"Non requis\")","v":4881},{"$f":"IF(INTRO!$E$43=\"Endémique\", IF(AND($K85>0,$K85<5), IF($K85=4,\"Inconnu\", IF($K85=1, $F85*0.33, IF($K85=2, $F85*0.5+$G85*0.2, SUM(F85:G85)))), 0),\"Non requis\")","v":2722.8},0,0,1,0,null,null,"Oui","Oui",2093,"KICULUNGO"]
[{"$f":"IF(INTRO!$E$33<>0,INTRO!$E$33, \" \")","v":"Angola"},"KWANZA NORTE","LUCALA",25905,{"$f":"IF(INTRO!$E$48=\"\",\"\",ROUND($D86*INTRO!$E$48,0))","v":4145},{"$f":"IF(INTRO!$E$49=\"\",\"\",ROUND($D86*INTRO!$E$49,0))","v":7227},{"$f":"IF(INTRO!$E$50=\"\",\"\",ROUND($D86*INTRO!$E$50,0))","v":13652},4,4,3,2,1,{"$f":"IF(INTRO!$E$37=\"Endémique\",IF($H86>0,IF($H86=4,\"Inconnu\",IF($H86=99,\"Interrompu\",$D86)),0),\"Non requis\")","v":"Inconnu"},{"$f":"IF(INTRO!$E$39=\"Endémique\", IF($I86>0, IF($I86=4,\"Inconnu\",IF($I86=99,\"Interrompu\",$D86)), 0),\"Non requis\")","v":"Inconnu"},{"$f":"IF(INTRO!$E$41=\"Endémique\", IF(AND($J86>1,$J86<5), IF($J86=4, \"Inconnu\", E86+F86), 0),\"Non requis\")","v":11372},{"$f":"IF(INTRO!$E$43=\"Endémique\", IF(AND($K86>0,$K86<5), IF($K86=4,\"Inconnu\", IF($K86=1, $F86*0.33, IF($K86=2, $F86*0.5+$G86*0.2, SUM(F86:G86)))), 0),\"Non requis\")","v":6343.9},0,0,1,0,null,null,"Oui","Oui",2094,"LUCALA"]
[{"$f":"IF(INTRO!$E$33<>0,INTRO!$E$33, \" \")","v":"Angola"},"KWANZA NORTE","SAMBA CAJU",25041,{"$f":"IF(INTRO!$E$48=\"\",\"\",ROUND($D87*INTRO!$E$48,0))","v":4007},{"$f":"IF(INTRO!$E$49=\"\",\"\",ROUND($D87*INTRO!$E$49,0))","v":6986},{"$f":"IF(INTRO!$E$50=\"\",\"\",ROUND($D87*INTRO!$E$50,0))","v":13197},4,4,3,2,1,{"$f":"IF(INTRO!$E$37=\"Endémique\",IF($H87>0,IF($H87=4,\"Inconnu\",IF($H87=99,\"Interrompu\",$D87)),0),\"Non requis\")","v":"Inconnu"},{"$f":"IF(INTRO!$E$39=\"Endémique\", IF($I87>0, IF($I87=4,\"Inconnu\",IF($I87=99,\"Interrompu\",$D87)), 0),\"Non requis\")","v":"Inconnu"},{"$f":"IF(INTRO!$E$41=\"Endémique\", IF(AND($J87>1,$J87<5), IF($J87=4, \"Inconnu\", E87+F87), 0),\"Non requis\")","v":10993},{"$f":"IF(INTRO!$E$43=\"Endémique\", IF(AND($K87>0,$K87<5), IF($K87=4,\"Inconnu\", IF($K87=1, $F87*0.33, IF($K87=2, $F87*0.5+$G87*0.2, SUM(F87:G87)))), 0),\"Non requis\")","v":6132.4},0,0,1,0,null,null,"Oui","Oui",2097,"SAMBA CAJU"]
[{"$f":"IF(INTRO!$E$33<>0,INTRO!$E$33, \" \")","v":"Angola"},"KWANZA SUL","AMBOIM",276990,{"$f":"IF(INTRO!$E$48=\"\",\"\",ROUND($D88*INTRO!$E$48,0))","v":44318},{"$f":"IF(INTRO!$E$49=\"\",\"\",ROUND($D88*INTRO!$E$49,0))","v":77280},{"$f":"IF(INTRO!$E$50=\"\",\"\",ROUND($D88*INTRO!$E$50,0))","v":145974},0,4,3,2,1,{"$f":"IF(INTRO!$E$37=\"Endémique\",IF($H88>0,IF($H88=4,\"Inconnu\",IF($H88=99,\"Interrompu\",$D88)),0),\"Non requis\")","v":0},{"$f":"IF(INTRO!$E$39=\"Endémique\", IF($I88>0, IF($I88=4,\"Inconnu\",IF($I88=99,\"Interrompu\",$D88)), 0),\"Non requis\")","v":"Inconnu"},{"$f":"IF(INTRO!$E$41=\"Endémique\", IF(AND($J88>1,$J88<5), IF($J88=4, \"Inconnu\", E88+F88), 0),\"Non requis\")","v":121598},{"$f":"IF(INTRO!$E$43=\"Endémique\", IF(AND($K88>0,$K88<5), IF($K88=4,\"Inconnu\", IF($K88=1, $F88*0.33, IF($K88=2, $F88*0.5+$G88*0.2, SUM(F88:G88)))), 0),\"Non requis\")","v":67834.8},0,0,2,0,null,null,"Oui","Oui",2098,"AMBOIM"]
[{"$f":"IF(INTRO!$E$33<>0,INTRO!$E$33, \" \")","v":"Angola"},"KWANZA SUL","CASSONGUE",173564,{"$f":"IF(INTRO!$E$48=\"\",\"\",ROUND($D89*INTRO!$E$48,0))","v":27770},{"$f":"IF(INTRO!$E$49=\"\",\"\",ROUND($D89*INTRO!$E$49,0))","v":48424},{"$f":"IF(INTRO!$E$50=\"\",\"\",ROUND($D89*INTRO!$E$50,0))","v":91468},4,4,3,2,1,{"$f":"IF(INTRO!$E$37=\"Endémique\",IF($H89>0,IF($H89=4,\"Inconnu\",IF($H89=99,\"Interrompu\",$D89)),0),\"Non requis\")","v":"Inconnu"},{"$f":"IF(INTRO!$E$39=\"Endémique\", IF($I89>0, IF($I89=4,\"Inconnu\",IF($I89=99,\"Interrompu\",$D89)), 0),\"Non requis\")","v":"Inconnu"},{"$f":"IF(INTRO!$E$41=\"Endémique\", IF(AND($J89>1,$J89<5), IF($J89=4, \"Inconnu\", E89+F89), 0),\"Non requis\")","v":76194},{"$f":"IF(INTRO!$E$43=\"Endémique\", IF(AND($K89>0,$K89<5), IF($K89=4,\"Inconnu\", IF($K89=1, $F89*0.33, IF($K89=2, $F89*0.5+$G89*0.2, SUM(F89:G89)))), 0),\"Non requis\")","v":42505.600000000006},0,0,2,0,null,null,"Oui","Oui",2100,"CASSONGUE"]
[{"$f":"IF(INTRO!$E$33<>0,INTRO!$E$33, \" \")","v":"Angola"},"KWANZA SUL","CELA (Waku Kungo)",257654,{"$f":"IF(INTRO!$E$48=\"\",\"\",ROUND($D90*INTRO!$E$48,0))","v":41225},{"$f":"IF(INTRO!$E$49=\"\",\"\",ROUND($D90*INTRO!$E$49,0))","v":71885},{"$f":"IF(INTRO!$E$50=\"\",\"\",ROUND($D90*INTRO!$E$50,0))","v":135784},0,4,3,2,1,{"$f":"IF(INTRO!$E$37=\"Endémique\",IF($H90>0,IF($H90=4,\"Inconnu\",IF($H90=99,\"Interrompu\",$D90)),0),\"Non requis\")","v":0},{"$f":"IF(INTRO!$E$39=\"Endémique\", IF($I90>0, IF($I90=4,\"Inconnu\",IF($I90=99,\"Interrompu\",$D90)), 0),\"Non requis\")","v":"Inconnu"},{"$f":"IF(INTRO!$E$41=\"Endémique\", IF(AND($J90>1,$J90<5), IF($J90=4, \"Inconnu\", E90+F90), 0),\"Non requis\")","v":113110},{"$f":"IF(INTRO!$E$43=\"Endémique\", IF(AND($K90>0,$K90<5), IF($K90=4,\"Inconnu\", IF($K90=1, $F90*0.33, IF($K90=2, $F90*0.5+$G90*0.2, SUM(F90:G90)))), 0),\"Non requis\")","v":63099.3},0,0,2,0,null,null,"Oui","Oui",2167,"CELA (Waku Kungo)"]
[{"$f":"IF(INTRO!$E$33<>0,INTRO!$E$33, \" \")","v":"Angola"},"KWANZA SUL","CONDA",102229,{"$f":"IF(INTRO!$E$48=\"\",\"\",ROUND($D91*INTRO!$E$48,0))","v":16357},{"$f":"IF(INTRO!$E$49=\"\",\"\",ROUND($D91*INTRO!$E$49,0))","v":28522},{"$f":"IF(INTRO!$E$50=\"\",\"\",ROUND($D91*INTRO!$E$50,0))","v":53875},0,4,3,2,1,{"$f":"IF(INTRO!$E$37=\"Endémique\",IF($H91>0,IF($H91=4,\"Inconnu\",IF($H91=99,\"Interrompu\",$D91)),0),\"Non requis\")","v":0},{"$f":"IF(INTRO!$E$39=\"Endémique\", IF($I91>0, IF($I91=4,\"Inconnu\",IF($I91=99,\"Interrompu\",$D91)), 0),\"Non requis\")","v":"Inconnu"},{"$f":"IF(INTRO!$E$41=\"Endémique\", IF(AND($J91>1,$J91<5), IF($J91=4, \"Inconnu\", E91+F91), 0),\"Non requis\")","v":44879},{"$f":"IF(INTRO!$E$43=\"Endémique\", IF(AND($K91>0,$K91<5), IF($K91=4,\"Inconnu\", IF($K91=1, $F91*0.33, IF($K91=2, $F91*0.5+$G91*0.2, SUM(F91:G91)))), 0),\"Non requis\")","v":25036},0,0,2,0,null,null,"Oui","Oui",2103,"CONDA"]
[{"$f":"IF(INTRO!$E$33<>0,INTRO!$E$33, \" \")","v":"Angola"},"KWANZA SUL","EBO",188658,{"$f":"IF(INTRO!$E$48=\"\",\"\",ROUND($D92*INTRO!$E$48,0))","v":30185},{"$f":"IF(INTRO!$E$49=\"\",\"\",ROUND($D92*INTRO!$E$49,0))","v":52636},{"$f":"IF(INTRO!$E$50=\"\",\"\",ROUND($D92*INTRO!$E$50,0))","v":99423},0,4,3,2,1,{"$f":"IF(INTRO!$E$37=\"Endémique\",IF($H92>0,IF($H92=4,\"Inconnu\",IF($H92=99,\"Interrompu\",$D92)),0),\"Non requis\")","v":0},{"$f":"IF(INTRO!$E$39=\"Endémique\", IF($I92>0, IF($I92=4,\"Inconnu\",IF($I92=99,\"Interrompu\",$D92)), 0),\"Non requis\")","v":"Inconnu"},{"$f":"IF(INTRO!$E$41=\"Endémique\", IF(AND($J92>1,$J92<5), IF($J92=4, \"Inconnu\", E92+F92), 0),\"Non requis\")","v":82821},{"$f":"IF(INTRO!$E$43=\"Endémique\", IF(AND($K92>0,$K92<5), IF($K92=4,\"Inconnu\", IF($K92=1, $F92*0.33, IF($K92=2, $F92*0.5+$G92*0.2, SUM(F92:G92)))), 0),\"Non requis\")","v":46202.600000000006},0,0,2,0,null,null,"Oui","Oui",2099,"EBO"]
[{"$f":"IF(INTRO!$E$33<>0,INTRO!$E$33, \" \")","v":"Angola"},"KWANZA SUL","KIBALA",162299,{"$f":"IF(INTRO!$E$48=\"\",\"\",ROUND($D93*INTRO!$E$48,0))","v":25968},{"$f":"IF(INTRO!$E$49=\"\",\"\",ROUND($D93*INTRO!$E$49,0))","v":45281},{"$f":"IF(INTRO!$E$50=\"\",\"\",ROUND($D93*INTRO!$E$50,0))","v":85532},0,4,3,2,1,{"$f":"IF(INTRO!$E$37=\"Endémique\",IF($H93>0,IF($H93=4,\"Inconnu\",IF($H93=99,\"Interrompu\",$D93)),0),\"Non requis\")","v":0},{"$f":"IF(INTRO!$E$39=\"Endémique\", IF($I93>0, IF($I93=4,\"Inconnu\",IF($I93=99,\"Interrompu\",$D93)), 0),\"Non requis\")","v":"Inconnu"},{"$f":"IF(INTRO!$E$41=\"Endémique\", IF(AND($J93>1,$J93<5), IF($J93=4, \"Inconnu\", E93+F93), 0),\"Non requis\")","v":71249},{"$f":"IF(INTRO!$E$43=\"Endémique\", IF(AND($K93>0,$K93<5), IF($K93=4,\"Inconnu\", IF($K93=1, $F93*0.33, IF($K93=2, $F93*0.5+$G93*0.2, SUM(F93:G93)))), 0),\"Non requis\")","v":39746.9},0,0,2,0,null,null,"Oui","Oui",2101,"KIBALA"]
[{"$f":"IF(INTRO!$E$33<>0,INTRO!$E$33, \" \")","v":"Angola"},"KWANZA SUL","KILENDA",111562,{"$f":"IF(INTRO!$E$48=\"\",\"\",ROUND($D94*INTRO!$E$48,0))","v":17850},{"$f":"IF(INTRO!$E$49=\"\",\"\",ROUND($D94*INTRO!$E$49,0))","v":31126},{"$f":"IF(INTRO!$E$50=\"\",\"\",ROUND($D94*INTRO!$E$50,0))","v":58793},4,4,3,2,1,{"$f":"IF(INTRO!$E$37=\"Endémique\",IF($H94>0,IF($H94=4,\"Inconnu\",IF($H94=99,\"Interrompu\",$D94)),0),\"Non requis\")","v":"Inconnu"},{"$f":"IF(INTRO!$E$39=\"Endémique\", IF($I94>0, IF($I94=4,\"Inconnu\",IF($I94=99,\"Interrompu\",$D94)), 0),\"Non requis\")","v":"Inconnu"},{"$f":"IF(INTRO!$E$41=\"Endémique\", IF(AND($J94>1,$J94<5), IF($J94=4, \"Inconnu\", E94+F94), 0),\"Non requis\")","v":48976},{"$f":"IF(INTRO!$E$43=\"Endémique\", IF(AND($K94>0,$K94<5), IF($K94=4,\"Inconnu\", IF($K94=1, $F94*0.33, IF($K94=2, $F94*0.5+$G94*0.2, SUM(F94:G94)))), 0),\"Non requis\")","v":27321.599999999999},0,0,2,0,null,null,"Oui","Oui",2102,"KILENDA"]
[{"$f":"IF(INTRO!$E$33<>0,INTRO!$E$33, \" \")","v":"Angola"},"KWANZA SUL","LIBOLO",105187,{"$f":"IF(INTRO!$E$48=\"\",\"\",ROUND($D95*INTRO!$E$48,0))","v":16830},{"$f":"IF(INTRO!$E$49=\"\",\"\",ROUND($D95*INTRO!$E$49,0))","v":29347},{"$f":"IF(INTRO!$E$50=\"\",\"\",ROUND($D95*INTRO!$E$50,0))","v":55434},0,4,3,2,1,{"$f":"IF(INTRO!$E$37=\"Endémique\",IF($H95>0,IF($H95=4,\"Inconnu\",IF($H95=99,\"Interrompu\",$D95)),0),\"Non requis\")","v":0},{"$f":"IF(INTRO!$E$39=\"Endémique\", IF($I95>0, IF($I95=4,\"Inconnu\",IF($I95=99,\"Interrompu\",$D95)), 0),\"Non requis\")","v":"Inconnu"},{"$f":"IF(INTRO!$E$41=\"Endémique\", IF(AND($J95>1,$J95<5), IF($J95=4, \"Inconnu\", E95+F95), 0),\"Non requis\")","v":46177},{"$f":"IF(INTRO!$E$43=\"Endémique\", IF(AND($K95>0,$K95<5), IF($K95=4,\"Inconnu\", IF($K95=1, $F95*0.33, IF($K95=2, $F95*0.5+$G95*0.2, SUM(F95:G95)))), 0),\"Non requis\")","v":25760.300000000003},0,0,2,0,null,null,"Oui","Oui",2104,"LIBOLO"]
[{"$f":"IF(INTRO!$E$33<>0,INTRO!$E$33, \" \")","v":"Angola"},"KWANZA SUL","MUSSENDE",94305,{"$f":"IF(INTRO!$E$48=\"\",\"\",ROUND($D96*INTRO!$E$48,0))","v":15089},{"$f":"IF(INTRO!$E$49=\"\",\"\",ROUND($D96*INTRO!$E$49,0))","v":26311},{"$f":"IF(INTRO!$E$50=\"\",\"\",ROUND($D96*INTRO!$E$50,0))","v":49699},0,1,3,2,1,{"$f":"IF(INTRO!$E$37=\"Endémique\",IF($H96>0,IF($H96=4,\"Inconnu\",IF($H96=99,\"Interrompu\",$D96)),0),\"Non requis\")","v":0},{"$f":"IF(INTRO!$E$39=\"Endémique\", IF($I96>0, IF($I96=4,\"Inconnu\",IF($I96=99,\"Interrompu\",$D96)), 0),\"Non requis\")","v":94305},{"$f":"IF(INTRO!$E$41=\"Endémique\", IF(AND($J96>1,$J96<5), IF($J96=4, \"Inconnu\", E96+F96), 0),\"Non requis\")","v":41400},{"$f":"IF(INTRO!$E$43=\"Endémique\", IF(AND($K96>0,$K96<5), IF($K96=4,\"Inconnu\", IF($K96=1, $F96*0.33, IF($K96=2, $F96*0.5+$G96*0.2, SUM(F96:G96)))), 0),\"Non requis\")","v":23095.300000000003},0,1,2,0,null,null,"Oui","Oui",2105,"MUSSENDE"]
[{"$f":"IF(INTRO!$E$33<>0,INTRO!$E$33, \" \")","v":"Angola"},"KWANZA SUL","PORTO AMBOIM",143919,{"$f":"IF(INTRO!$E$48=\"\",\"\",ROUND($D97*INTRO!$E$48,0))","v":23027},{"$f":"IF(INTRO!$E$49=\"\",\"\",ROUND($D97*INTRO!$E$49,0))","v":40153},{"$f":"IF(INTRO!$E$50=\"\",\"\",ROUND($D97*INTRO!$E$50,0))","v":75845},4,1,3,2,1,{"$f":"IF(INTRO!$E$37=\"Endémique\",IF($H97>0,IF($H97=4,\"Inconnu\",IF($H97=99,\"Interrompu\",$D97)),0),\"Non requis\")","v":"Inconnu"},{"$f":"IF(INTRO!$E$39=\"Endémique\", IF($I97>0, IF($I97=4,\"Inconnu\",IF($I97=99,\"Interrompu\",$D97)), 0),\"Non requis\")","v":143919},{"$f":"IF(INTRO!$E$41=\"Endémique\", IF(AND($J97>1,$J97<5), IF($J97=4, \"Inconnu\", E97+F97), 0),\"Non requis\")","v":63180},{"$f":"IF(INTRO!$E$43=\"Endémique\", IF(AND($K97>0,$K97<5), IF($K97=4,\"Inconnu\", IF($K97=1, $F97*0.33, IF($K97=2, $F97*0.5+$G97*0.2, SUM(F97:G97)))), 0),\"Non requis\")","v":35245.5},0,1,2,0,null,null,"Oui","Oui",2106,"PORTO AMBOIM"]
[{"$f":"IF(INTRO!$E$33<>0,INTRO!$E$33, \" \")","v":"Angola"},"KWANZA SUL","SELES",213791,{"$f":"IF(INTRO!$E$48=\"\",\"\",ROUND($D98*INTRO!$E$48,0))","v":34207},{"$f":"IF(INTRO!$E$49=\"\",\"\",ROUND($D98*INTRO!$E$49,0))","v":59648},{"$f":"IF(INTRO!$E$50=\"\",\"\",ROUND($D98*INTRO!$E$50,0))","v":112668},0,4,3,2,1,{"$f":"IF(INTRO!$E$37=\"Endémique\",IF($H98>0,IF($H98=4,\"Inconnu\",IF($H98=99,\"Interrompu\",$D98)),0),\"Non requis\")","v":0},{"$f":"IF(INTRO!$E$39=\"Endémique\", IF($I98>0, IF($I98=4,\"Inconnu\",IF($I98=99,\"Interrompu\",$D98)), 0),\"Non requis\")","v":"Inconnu"},{"$f":"IF(INTRO!$E$41=\"Endémique\", IF(AND($J98>1,$J98<5), IF($J98=4, \"Inconnu\", E98+F98), 0),\"Non requis\")","v":93855},{"$f":"IF(INTRO!$E$43=\"Endémique\", IF(AND($K98>0,$K98<5), IF($K98=4,\"Inconnu\", IF($K98=1, $F98*0.33, IF($K98=2, $F98*0.5+$G98*0.2, SUM(F98:G98)))), 0),\"Non requis\")","v":52357.600000000006},0,0,2,0,null,null,"Oui","Oui",2107,"SELES"]
[{"$f":"IF(INTRO!$E$33<>0,INTRO!$E$33, \" \")","v":"Angola"},"KWANZA SUL","SUMBE",319860,{"$f":"IF(INTRO!$E$48=\"\",\"\",ROUND($D99*INTRO!$E$48,0))","v":51178},{"$f":"IF(INTRO!$E$49=\"\",\"\",ROUND($D99*INTRO!$E$49,0))","v":89241},{"$f":"IF(INTRO!$E$50=\"\",\"\",ROUND($D99*INTRO!$E$50,0))","v":168566},0,4,3,2,1,{"$f":"IF(INTRO!$E$37=\"Endémique\",IF($H99>0,IF($H99=4,\"Inconnu\",IF($H99=99,\"Interrompu\",$D99)),0),\"Non requis\")","v":0},{"$f":"IF(INTRO!$E$39=\"Endémique\", IF($I99>0, IF($I99=4,\"Inconnu\",IF($I99=99,\"Interrompu\",$D99)), 0),\"Non requis\")","v":"Inconnu"},{"$f":"IF(INTRO!$E$41=\"Endémique\", IF(AND($J99>1,$J99<5), IF($J99=4, \"Inconnu\", E99+F99), 0),\"Non requis\")","v":140419},{"$f":"IF(INTRO!$E$43=\"Endémique\", IF(AND($K99>0,$K99<5), IF($K99=4,\"Inconnu\", IF($K99=1, $F99*0.33, IF($K99=2, $F99*0.5+$G99*0.2, SUM(F99:G99)))), 0),\"Non requis\")","v":78333.700000000012},0,0,2,0,null,null,"Oui","Oui",2108,"SUMBE"]
[{"$f":"IF(INTRO!$E$33<>0,INTRO!$E$33, \" \")","v":"Angola"},"LUANDA","BELAS",319220,{"$f":"IF(INTRO!$E$48=\"\",\"\",ROUND($D100*INTRO!$E$48,0))","v":51075},{"$f":"IF(INTRO!$E$49=\"\",\"\",ROUND($D100*INTRO!$E$49,0))","v":89062},{"$f":"IF(INTRO!$E$50=\"\",\"\",ROUND($D100*INTRO!$E$50,0))","v":168229},0,4,2,2,1,{"$f":"IF(INTRO!$E$37=\"Endémique\",IF($H100>0,IF($H100=4,\"Inconnu\",IF($H100=99,\"Interrompu\",$D100)),0),\"Non requis\")","v":0},{"$f":"IF(INTRO!$E$39=\"Endémique\", IF($I100>0, IF($I100=4,\"Inconnu\",IF($I100=99,\"Interrompu\",$D100)), 0),\"Non requis\")","v":"Inconnu"},{"$f":"IF(INTRO!$E$41=\"Endémique\", IF(AND($J100>1,$J100<5), IF($J100=4, \"Inconnu\", E100+F100), 0),\"Non requis\")","v":140137},{"$f":"IF(INTRO!$E$43=\"Endémique\", IF(AND($K100>0,$K100<5), IF($K100=4,\"Inconnu\", IF($K100=1, $F100*0.33, IF($K100=2, $F100*0.5+$G100*0.2, SUM(F100:G100)))), 0),\"Non requis\")","v":78176.800000000003},0,0,1,0,null,null,"Oui","Oui",2212,"BELAS"]
[{"$f":"IF(INTRO!$E$33<>0,INTRO!$E$33, \" \")","v":"Angola"},"LUANDA","CACUACO",1222632,{"$f":"IF(INTRO!$E$48=\"\",\"\",ROUND($D101*INTRO!$E$48,0))","v":195621},{"$f":"IF(INTRO!$E$49=\"\",\"\",ROUND($D101*INTRO!$E$49,0))","v":341114},{"$f":"IF(INTRO!$E$50=\"\",\"\",ROUND($D101*INTRO!$E$50,0))","v":644327},0,4,2,2,1,{"$f":"IF(INTRO!$E$37=\"Endémique\",IF($H101>0,IF($H101=4,\"Inconnu\",IF($H101=99,\"Interrompu\",$D101)),0),\"Non requis\")","v":0},{"$f":"IF(INTRO!$E$39=\"Endémique\", IF($I101>0, IF($I101=4,\"Inconnu\",IF($I101=99,\"Interrompu\",$D101)), 0),\"Non requis\")","v":"Inconnu"},{"$f":"IF(INTRO!$E$41=\"Endémique\", IF(AND($J101>1,$J101<5), IF($J101=4, \"Inconnu\", E101+F101), 0),\"Non requis\")","v":536735},{"$f":"IF(INTRO!$E$43=\"Endémique\", IF(AND($K101>0,$K101<5), IF($K101=4,\"Inconnu\", IF($K101=1, $F101*0.33, IF($K101=2, $F101*0.5+$G101*0.2, SUM(F101:G101)))), 0),\"Non requis\")","v":299422.40000000002},0,0,1,0,null,null,"Oui","Oui",2140,"CACUACO"]
[{"$f":"IF(INTRO!$E$33<>0,INTRO!$E$33, \" \")","v":"Angola"},"LUANDA","CAZENGA",1019558,{"$f":"IF(INTRO!$E$48=\"\",\"\",ROUND($D102*INTRO!$E$48,0))","v":163129},{"$f":"IF(INTRO!$E$49=\"\",\"\",ROUND($D102*INTRO!$E$49,0))","v":284457},{"$f":"IF(INTRO!$E$50=\"\",\"\",ROUND($D102*INTRO!$E$50,0))","v":537307},0,4,2,2,1,{"$f":"IF(INTRO!$E$37=\"Endémique\",IF($H102>0,IF($H102=4,\"Inconnu\",IF($H102=99,\"Interrompu\",$D102)),0),\"Non requis\")","v":0},{"$f":"IF(INTRO!$E$39=\"Endémique\", IF($I102>0, IF($I102=4,\"Inconnu\",IF($I102=99,\"Interrompu\",$D102)), 0),\"Non requis\")","v":"Inconnu"},{"$f":"IF(INTRO!$E$41=\"Endémique\", IF(AND($J102>1,$J102<5), IF($J102=4, \"Inconnu\", E102+F102), 0),\"Non requis\")","v":447586},{"$f":"IF(INTRO!$E$43=\"Endémique\", IF(AND($K102>0,$K102<5), IF($K102=4,\"Inconnu\", IF($K102=1, $F102*0.33, IF($K102=2, $F102*0.5+$G102*0.2, SUM(F102:G102)))), 0),\"Non requis\")","v":249689.90000000002},0,0,1,0,null,null,"Oui","Oui",2141,"CAZENGA"]
[{"$f":"IF(INTRO!$E$33<>0,INTRO!$E$33, \" \")","v":"Angola"},"LUANDA","ICOLO E BENGO",92706,{"$f":"IF(INTRO!$E$48=\"\",\"\",ROUND($D103*INTRO!$E$48,0))","v":14833},{"$f":"IF(INTRO!$E$49=\"\",\"\",ROUND($D103*INTRO!$E$49,0))","v":25865},{"$f":"IF(INTRO!$E$50=\"\",\"\",ROUND($D103*INTRO!$E$50,0))","v":48856},0,4,3,2,1,{"$f":"IF(INTRO!$E$37=\"Endémique\",IF($H103>0,IF($H103=4,\"Inconnu\",IF($H103=99,\"Interrompu\",$D103)),0),\"Non requis\")","v":0},{"$f":"IF(INTRO!$E$39=\"Endémique\", IF($I103>0, IF($I103=4,\"Inconnu\",IF($I103=99,\"Interrompu\",$D103)), 0),\"Non requis\")","v":"Inconnu"},{"$f":"IF(INTRO!$E$41=\"Endémique\", IF(AND($J103>1,$J103<5), IF($J103=4, \"Inconnu\", E103+F103), 0),\"Non requis\")","v":40698},{"$f":"IF(INTRO!$E$43=\"Endémique\", IF(AND($K103>0,$K103<5), IF($K103=4,\"Inconnu\", IF($K103=1, $F103*0.33, IF($K103=2, $F103*0.5+$G103*0.2, SUM(F103:G103)))), 0),\"Non requis\")","v":22703.7},0,0,1,0,null,null,"Oui","Oui",2051,"ICOLO E BENGO"]
[{"$f":"IF(INTRO!$E$33<>0,INTRO!$E$33, \" \")","v":"Angola"},"LUANDA","KILAMBA KIAXI",961303,{"$f":"IF(INTRO!$E$48=\"\",\"\",ROUND($D104*INTRO!$E$48,0))","v":153808},{"$f":"IF(INTRO!$E$49=\"\",\"\",ROUND($D104*INTRO!$E$49,0))","v":268204},{"$f":"IF(INTRO!$E$50=\"\",\"\",ROUND($D104*INTRO!$E$50,0))","v":506607},0,4,2,2,4,{"$f":"IF(INTRO!$E$37=\"Endémique\",IF($H104>0,IF($H104=4,\"Inconnu\",IF($H104=99,\"Interrompu\",$D104)),0),\"Non requis\")","v":0},{"$f":"IF(INTRO!$E$39=\"Endémique\", IF($I104>0, IF($I104=4,\"Inconnu\",IF($I104=99,\"Interrompu\",$D104)), 0),\"Non requis\")","v":"Inconnu"},{"$f":"IF(INTRO!$E$41=\"Endémique\", IF(AND($J104>1,$J104<5), IF($J104=4, \"Inconnu\", E104+F104), 0),\"Non requis\")","v":422012},{"$f":"IF(INTRO!$E$43=\"Endémique\", IF(AND($K104>0,$K104<5), IF($K104=4,\"Inconnu\", IF($K104=1, $F104*0.33, IF($K104=2, $F104*0.5+$G104*0.2, SUM(F104:G104)))), 0),\"Non requis\")","v":235423.40000000002},0,0,1,0,null,null,"Oui","Oui",2143,"KILAMBA KIAXI"]
[{"$f":"IF(INTRO!$E$33<>0,INTRO!$E$33, \" \")","v":"Angola"},"LUANDA","LUANDA",1546173,{"$f":"IF(INTRO!$E$48=\"\",\"\",ROUND($D105*INTRO!$E$48,0))","v":247388},{"$f":"IF(INTRO!$E$49=\"\",\"\",ROUND($D105*INTRO!$E$49,0))","v":431382},{"$f":"IF(INTRO!$E$50=\"\",\"\",ROUND($D105*INTRO!$E$50,0))","v":814833},0,4,2,2,1,{"$f":"IF(INTRO!$E$37=\"Endémique\",IF($H105>0,IF($H105=4,\"Inconnu\",IF($H105=99,\"Interrompu\",$D105)),0),\"Non requis\")","v":0},{"$f":"IF(INTRO!$E$39=\"Endémique\", IF($I105>0, IF($I105=4,\"Inconnu\",IF($I105=99,\"Interrompu\",$D105)), 0),\"Non requis\")","v":"Inconnu"},{"$f":"IF(INTRO!$E$41=\"Endémique\", IF(AND($J105>1,$J105<5), IF($J105=4, \"Inconnu\", E105+F105), 0),\"Non requis\")","v":678770},{"$f":"IF(INTRO!$E$43=\"Endémique\", IF(AND($K105>0,$K105<5), IF($K105=4,\"Inconnu\", IF($K105=1, $F105*0.33, IF($K105=2, $F105*0.5+$G105*0.2, SUM(F105:G105)))), 0),\"Non requis\")","v":378657.6},0,0,1,0,null,null,"Oui","Oui",2219,"LUANDA"]
[{"$f":"IF(INTRO!$E$33<>0,INTRO!$E$33, \" \")","v":"Angola"},"LUANDA","QUISSAMA",30328,{"$f":"IF(INTRO!$E$48=\"\",\"\",ROUND($D106*INTRO!$E$48,0))","v":4852},{"$f":"IF(INTRO!$E$49=\"\",\"\",ROUND($D106*INTRO!$E$49,0))","v":8462},{"$f":"IF(INTRO!$E$50=\"\",\"\",ROUND($D106*INTRO!$E$50,0))","v":15983},0,4,3,2,1,{"$f":"IF(INTRO!$E$37=\"Endémique\",IF($H106>0,IF($H106=4,\"Inconnu\",IF($H106=99,\"Interrompu\",$D106)),0),\"Non requis\")","v":0},{"$f":"IF(INTRO!$E$39=\"Endémique\", IF($I106>0, IF($I106=4,\"Inconnu\",IF($I106=99,\"Interrompu\",$D106)), 0),\"Non requis\")","v":"Inconnu"},{"$f":"IF(INTRO!$E$41=\"Endémique\", IF(AND($J106>1,$J106<5), IF($J106=4, \"Inconnu\", E106+F106), 0),\"Non requis\")","v":13314},{"$f":"IF(INTRO!$E$43=\"Endémique\", IF(AND($K106>0,$K106<5), IF($K106=4,\"Inconnu\", IF($K106=1, $F106*0.33, IF($K106=2, $F106*0.5+$G106*0.2, SUM(F106:G106)))), 0),\"Non requis\")","v":7427.6},0,0,1,0,null,null,"Oui","Oui",2052,"QUISSAMA"]
[{"$f":"IF(INTRO!$E$33<>0,INTRO!$E$33, \" \")","v":"Angola"},"LUANDA","TALATONA",909081,{"$f":"IF(INTRO!$E$48=\"\",\"\",ROUND($D107*INTRO!$E$48,0))","v":145453},{"$f":"IF(INTRO!$E$49=\"\",\"\",ROUND($D107*INTRO!$E$49,0))","v":253634},{"$f":"IF(INTRO!$E$50=\"\",\"\",ROUND($D107*INTRO!$E$50,0))","v":479086},0,4,2,2,4,{"$f":"IF(INTRO!$E$37=\"Endémique\",IF($H107>0,IF($H107=4,\"Inconnu\",IF($H107=99,\"Interrompu\",$D107)),0),\"Non requis\")","v":0},{"$f":"IF(INTRO!$E$39=\"Endémique\", IF($I107>0, IF($I107=4,\"Inconnu\",IF($I107=99,\"Interrompu\",$D107)), 0),\"Non requis\")","v":"Inconnu"},{"$f":"IF(INTRO!$E$41=\"Endémique\", IF(AND($J107>1,$J107<5), IF($J107=4, \"Inconnu\", E107+F107), 0),\"Non requis\")","v":399087},{"$f":"IF(INTRO!$E$43=\"Endémique\", IF(AND($K107>0,$K107<5), IF($K107=4,\"Inconnu\", IF($K107=1, $F107*0.33, IF($K107=2, $F107*0.5+$G107*0.2, SUM(F107:G107)))), 0),\"Non requis\")","v":222634.2},0,0,1,0,null,null,"Oui","Oui",2223,"TALATONA"]
[{"$f":"IF(INTRO!$E$33<>0,INTRO!$E$33, \" \")","v":"Angola"},"LUANDA","VIANA",1834028,{"$f":"IF(INTRO!$E$48=\"\",\"\",ROUND($D108*INTRO!$E$48,0))","v":293444},{"$f":"IF(INTRO!$E$49=\"\",\"\",ROUND($D108*INTRO!$E$49,0))","v":511694},{"$f":"IF(INTRO!$E$50=\"\",\"\",ROUND($D108*INTRO!$E$50,0))","v":966533},0,4,2,2,1,{"$f":"IF(INTRO!$E$37=\"Endémique\",IF($H108>0,IF($H108=4,\"Inconnu\",IF($H108=99,\"Interrompu\",$D108)),0),\"Non requis\")","v":0},{"$f":"IF(INTRO!$E$39=\"Endémique\", IF($I108>0, IF($I108=4,\"Inconnu\",IF($I108=99,\"Interrompu\",$D108)), 0),\"Non requis\")","v":"Inconnu"},{"$f":"IF(INTRO!$E$41=\"Endémique\", IF(AND($J108>1,$J108<5), IF($J108=4, \"Inconnu\", E108+F108), 0),\"Non requis\")","v":805138},{"$f":"IF(INTRO!$E$43=\"Endémique\", IF(AND($K108>0,$K108<5), IF($K108=4,\"Inconnu\", IF($K108=1, $F108*0.33, IF($K108=2, $F108*0.5+$G108*0.2, SUM(F108:G108)))), 0),\"Non requis\")","v":449153.6},0,0,1,0,null,null,"Oui","Oui",2148,"VIANA"]
[{"$f":"IF(INTRO!$E$33<>0,INTRO!$E$33, \" \")","v":"Angola"},"LUNDA NORTE","CAMBULO",137244,{"$f":"IF(INTRO!$E$48=\"\",\"\",ROUND($D109*INTRO!$E$48,0))","v":21959},{"$f":"IF(INTRO!$E$49=\"\",\"\",ROUND($D109*INTRO!$E$49,0))","v":38291},{"$f":"IF(INTRO!$E$50=\"\",\"\",ROUND($D109*INTRO!$E$50,0))","v":72328},4,1,3,2,1,{"$f":"IF(INTRO!$E$37=\"Endémique\",IF($H109>0,IF($H109=4,\"Inconnu\",IF($H109=99,\"Interrompu\",$D109)),0),\"Non requis\")","v":"Inconnu"},{"$f":"IF(INTRO!$E$39=\"Endémique\", IF($I109>0, IF($I109=4,\"Inconnu\",IF($I109=99,\"Interrompu\",$D109)), 0),\"Non requis\")","v":137244},{"$f":"IF(INTRO!$E$41=\"Endémique\", IF(AND($J109>1,$J109<5), IF($J109=4, \"Inconnu\", E109+F109), 0),\"Non requis\")","v":60250},{"$f":"IF(INTRO!$E$43=\"Endémique\", IF(AND($K109>0,$K109<5), IF($K109=4,\"Inconnu\", IF($K109=1, $F109*0.33, IF($K109=2, $F109*0.5+$G109*0.2, SUM(F109:G109)))), 0),\"Non requis\")","v":33611.1},0,1,1,0,null,null,"Oui","Oui",2150,"CAMBULO"]
[{"$f":"IF(INTRO!$E$33<>0,INTRO!$E$33, \" \")","v":"Angola"},"LUNDA NORTE","CAPENDA CAMULEMBA",66590,{"$f":"IF(INTRO!$E$48=\"\",\"\",ROUND($D110*INTRO!$E$48,0))","v":10654},{"$f":"IF(INTRO!$E$49=\"\",\"\",ROUND($D110*INTRO!$E$49,0))","v":18579},{"$f":"IF(INTRO!$E$50=\"\",\"\",ROUND($D110*INTRO!$E$50,0))","v":35093},4,1,3,2,1,{"$f":"IF(INTRO!$E$37=\"Endémique\",IF($H110>0,IF($H110=4,\"Inconnu\",IF($H110=99,\"Interrompu\",$D110)),0),\"Non requis\")","v":"Inconnu"},{"$f":"IF(INTRO!$E$39=\"Endémique\", IF($I110>0, IF($I110=4,\"Inconnu\",IF($I110=99,\"Interrompu\",$D110)), 0),\"Non requis\")","v":66590},{"$f":"IF(INTRO!$E$41=\"Endémique\", IF(AND($J110>1,$J110<5), IF($J110=4, \"Inconnu\", E110+F110), 0),\"Non requis\")","v":29233},{"$f":"IF(INTRO!$E$43=\"Endémique\", IF(AND($K110>0,$K110<5), IF($K110=4,\"Inconnu\", IF($K110=1, $F110*0.33, IF($K110=2, $F110*0.5+$G110*0.2, SUM(F110:G110)))), 0),\"Non requis\")","v":16308.1},0,1,1,0,null,null,"Oui","Oui",2151,"CAPENDA CAMULEMBA"]
[{"$f":"IF(INTRO!$E$33<>0,INTRO!$E$33, \" \")","v":"Angola"},"LUNDA NORTE","CAUNGULA",32177,{"$f":"IF(INTRO!$E$48=\"\",\"\",ROUND($D111*INTRO!$E$48,0))","v":5148},{"$f":"IF(INTRO!$E$49=\"\",\"\",ROUND($D111*INTRO!$E$49,0))","v":8977},{"$f":"IF(INTRO!$E$50=\"\",\"\",ROUND($D111*INTRO!$E$50,0))","v":16957},0,1,3,2,1,{"$f":"IF(INTRO!$E$37=\"Endémique\",IF($H111>0,IF($H111=4,\"Inconnu\",IF($H111=99,\"Interrompu\",$D111)),0),\"Non requis\")","v":0},{"$f":"IF(INTRO!$E$39=\"Endémique\", IF($I111>0, IF($I111=4,\"Inconnu\",IF($I111=99,\"Interrompu\",$D111)), 0),\"Non requis\")","v":32177},{"$f":"IF(INTRO!$E$41=\"Endémique\", IF(AND($J111>1,$J111<5), IF($J111=4, \"Inconnu\", E111+F111), 0),\"Non requis\")","v":14125},{"$f":"IF(INTRO!$E$43=\"Endémique\", IF(AND($K111>0,$K111<5), IF($K111=4,\"Inconnu\", IF($K111=1, $F111*0.33, IF($K111=2, $F111*0.5+$G111*0.2, SUM(F111:G111)))), 0),\"Non requis\")","v":7879.9},0,1,1,0,null,null,"Oui","Oui",2152,"CAUNGULA"]
[{"$f":"IF(INTRO!$E$33<>0,INTRO!$E$33, \" \")","v":"Angola"},"LUNDA NORTE","CHITATO",222341,{"$f":"IF(INTRO!$E$48=\"\",\"\",ROUND($D112*INTRO!$E$48,0))","v":35575},{"$f":"IF(INTRO!$E$49=\"\",\"\",ROUND($D112*INTRO!$E$49,0))","v":62033},{"$f":"IF(INTRO!$E$50=\"\",\"\",ROUND($D112*INTRO!$E$50,0))","v":117174},4,1,3,2,1,{"$f":"IF(INTRO!$E$37=\"Endémique\",IF($H112>0,IF($H112=4,\"Inconnu\",IF($H112=99,\"Interrompu\",$D112)),0),\"Non requis\")","v":"Inconnu"},{"$f":"IF(INTRO!$E$39=\"Endémique\", IF($I112>0, IF($I112=4,\"Inconnu\",IF($I112=99,\"Interrompu\",$D112)), 0),\"Non requis\")","v":222341},{"$f":"IF(INTRO!$E$41=\"Endémique\", IF(AND($J112>1,$J112<5), IF($J112=4, \"Inconnu\", E112+F112), 0),\"Non requis\")","v":97608},{"$f":"IF(INTRO!$E$43=\"Endémique\", IF(AND($K112>0,$K112<5), IF($K112=4,\"Inconnu\", IF($K112=1, $F112*0.33, IF($K112=2, $F112*0.5+$G112*0.2, SUM(F112:G112)))), 0),\"Non requis\")","v":54451.3},0,1,1,0,null,null,"Oui","Oui",2149,"CHITATO"]
[{"$f":"IF(INTRO!$E$33<>0,INTRO!$E$33, \" \")","v":"Angola"},"LUNDA NORTE","CUANGO",209952,{"$f":"IF(INTRO!$E$48=\"\",\"\",ROUND($D113*INTRO!$E$48,0))","v":33592},{"$f":"IF(INTRO!$E$49=\"\",\"\",ROUND($D113*INTRO!$E$49,0))","v":58577},{"$f":"IF(INTRO!$E$50=\"\",\"\",ROUND($D113*INTRO!$E$50,0))","v":110645},0,4,3,2,1,{"$f":"IF(INTRO!$E$37=\"Endémique\",IF($H113>0,IF($H113=4,\"Inconnu\",IF($H113=99,\"Interrompu\",$D113)),0),\"Non requis\")","v":0},{"$f":"IF(INTRO!$E$39=\"Endémique\", IF($I113>0, IF($I113=4,\"Inconnu\",IF($I113=99,\"Interrompu\",$D113)), 0),\"Non requis\")","v":"Inconnu"},{"$f":"IF(INTRO!$E$41=\"Endémique\", IF(AND($J113>1,$J113<5), IF($J113=4, \"Inconnu\", E113+F113), 0),\"Non requis\")","v":92169},{"$f":"IF(INTRO!$E$43=\"Endémique\", IF(AND($K113>0,$K113<5), IF($K113=4,\"Inconnu\", IF($K113=1, $F113*0.33, IF($K113=2, $F113*0.5+$G113*0.2, SUM(F113:G113)))), 0),\"Non requis\")","v":51417.5},0,0,1,0,null,null,"Oui","Oui",2153,"CUANGO"]
[{"$f":"IF(INTRO!$E$33<>0,INTRO!$E$33, \" \")","v":"Angola"},"LUNDA NORTE","CUILO",23997,{"$f":"IF(INTRO!$E$48=\"\",\"\",ROUND($D114*INTRO!$E$48,0))","v":3840},{"$f":"IF(INTRO!$E$49=\"\",\"\",ROUND($D114*INTRO!$E$49,0))","v":6695},{"$f":"IF(INTRO!$E$50=\"\",\"\",ROUND($D114*INTRO!$E$50,0))","v":12646},4,1,3,2,1,{"$f":"IF(INTRO!$E$37=\"Endémique\",IF($H114>0,IF($H114=4,\"Inconnu\",IF($H114=99,\"Interrompu\",$D114)),0),\"Non requis\")","v":"Inconnu"},{"$f":"IF(INTRO!$E$39=\"Endémique\", IF($I114>0, IF($I114=4,\"Inconnu\",IF($I114=99,\"Interrompu\",$D114)), 0),\"Non requis\")","v":23997},{"$f":"IF(INTRO!$E$41=\"Endémique\", IF(AND($J114>1,$J114<5), IF($J114=4, \"Inconnu\", E114+F114), 0),\"Non requis\")","v":10535},{"$f":"IF(INTRO!$E$43=\"Endémique\", IF(AND($K114>0,$K114<5), IF($K114=4,\"Inconnu\", IF($K114=1, $F114*0.33, IF($K114=2, $F114*0.5+$G114*0.2, SUM(F114:G114)))), 0),\"Non requis\")","v":5876.7000000000007},0,1,1,0,null,null,"Oui","Oui",2154,"CUILO"]
[{"$f":"IF(INTRO!$E$33<>0,INTRO!$E$33, \" \")","v":"Angola"},"LUNDA NORTE","LOVUA",15489,{"$f":"IF(INTRO!$E$48=\"\",\"\",ROUND($D115*INTRO!$E$48,0))","v":2478},{"$f":"IF(INTRO!$E$49=\"\",\"\",ROUND($D115*INTRO!$E$49,0))","v":4321},{"$f":"IF(INTRO!$E$50=\"\",\"\",ROUND($D115*INTRO!$E$50,0))","v":8163},0,1,3,2,4,{"$f":"IF(INTRO!$E$37=\"Endémique\",IF($H115>0,IF($H115=4,\"Inconnu\",IF($H115=99,\"Interrompu\",$D115)),0),\"Non requis\")","v":0},{"$f":"IF(INTRO!$E$39=\"Endémique\", IF($I115>0, IF($I115=4,\"Inconnu\",IF($I115=99,\"Interrompu\",$D115)), 0),\"Non requis\")","v":15489},{"$f":"IF(INTRO!$E$41=\"Endémique\", IF(AND($J115>1,$J115<5), IF($J115=4, \"Inconnu\", E115+F115), 0),\"Non requis\")","v":6799},{"$f":"IF(INTRO!$E$43=\"Endémique\", IF(AND($K115>0,$K115<5), IF($K115=4,\"Inconnu\", IF($K115=1, $F115*0.33, IF($K115=2, $F115*0.5+$G115*0.2, SUM(F115:G115)))), 0),\"Non requis\")","v":3793.1000000000004},0,1,1,0,null,null,"Oui","Oui",2224,"LOVUA"]
[{"$f":"IF(INTRO!$E$33<>0,INTRO!$E$33, \" \")","v":"Angola"},"LUNDA NORTE","LUBALO",23571,{"$f":"IF(INTRO!$E$48=\"\",\"\",ROUND($D116*INTRO!$E$48,0))","v":3771},{"$f":"IF(INTRO!$E$49=\"\",\"\",ROUND($D116*INTRO!$E$49,0))","v":6576},{"$f":"IF(INTRO!$E$50=\"\",\"\",ROUND($D116*INTRO!$E$50,0))","v":12422},4,1,3,2,1,{"$f":"IF(INTRO!$E$37=\"Endémique\",IF($H116>0,IF($H116=4,\"Inconnu\",IF($H116=99,\"Interrompu\",$D116)),0),\"Non requis\")","v":"Inconnu"},{"$f":"IF(INTRO!$E$39=\"Endémique\", IF($I116>0, IF($I116=4,\"Inconnu\",IF($I116=99,\"Interrompu\",$D116)), 0),\"Non requis\")","v":23571},{"$f":"IF(INTRO!$E$41=\"Endémique\", IF(AND($J116>1,$J116<5), IF($J116=4, \"Inconnu\", E116+F116), 0),\"Non requis\")","v":10347},{"$f":"IF(INTRO!$E$43=\"Endémique\", IF(AND($K116>0,$K116<5), IF($K116=4,\"Inconnu\", IF($K116=1, $F116*0.33, IF($K116=2, $F116*0.5+$G116*0.2, SUM(F116:G116)))), 0),\"Non requis\")","v":5772.4},0,1,1,0,null,null,"Oui","Oui",2155,"LUBALO"]
[{"$f":"IF(INTRO!$E$33<>0,INTRO!$E$33, \" \")","v":"Angola"},"LUNDA NORTE","LUCAPA",176292,{"$f":"IF(INTRO!$E$48=\"\",\"\",ROUND($D117*INTRO!$E$48,0))","v":28207},{"$f":"IF(INTRO!$E$49=\"\",\"\",ROUND($D117*INTRO!$E$49,0))","v":49185},{"$f":"IF(INTRO!$E$50=\"\",\"\",ROUND($D117*INTRO!$E$50,0))","v":92906},0,1,3,2,1,{"$f":"IF(INTRO!$E$37=\"Endémique\",IF($H117>0,IF($H117=4,\"Inconnu\",IF($H117=99,\"Interrompu\",$D117)),0),\"Non requis\")","v":0},{"$f":"IF(INTRO!$E$39=\"Endémique\", IF($I117>0, IF($I117=4,\"Inconnu\",IF($I117=99,\"Interrompu\",$D117)), 0),\"Non requis\")","v":176292},{"$f":"IF(INTRO!$E$41=\"Endémique\", IF(AND($J117>1,$J117<5), IF($J117=4, \"Inconnu\", E117+F117), 0),\"Non requis\")","v":77392},{"$f":"IF(INTRO!$E$43=\"Endémique\", IF(AND($K117>0,$K117<5), IF($K117=4,\"Inconnu\", IF($K117=1, $F117*0.33, IF($K117=2, $F117*0.5+$G117*0.2, SUM(F117:G117)))), 0),\"Non requis\")","v":43173.7},0,1,1,0,null,null,"Oui","Oui",2156,"LUCAPA"]
[{"$f":"IF(INTRO!$E$33<>0,INTRO!$E$33, \" \")","v":"Angola"},"LUNDA NORTE","XA MUTEBA",77820,{"$f":"IF(INTRO!$E$48=\"\",\"\",ROUND($D118*INTRO!$E$48,0))","v":12451},{"$f":"IF(INTRO!$E$49=\"\",\"\",ROUND($D118*INTRO!$E$49,0))","v":21712},{"$f":"IF(INTRO!$E$50=\"\",\"\",ROUND($D118*INTRO!$E$50,0))","v":41011},4,4,3,2,1,{"$f":"IF(INTRO!$E$37=\"Endémique\",IF($H118>0,IF($H118=4,\"Inconnu\",IF($H118=99,\"Interrompu\",$D118)),0),\"Non requis\")","v":"Inconnu"},{"$f":"IF(INTRO!$E$39=\"Endémique\", IF($I118>0, IF($I118=4,\"Inconnu\",IF($I118=99,\"Interrompu\",$D118)), 0),\"Non requis\")","v":"Inconnu"},{"$f":"IF(INTRO!$E$41=\"Endémique\", IF(AND($J118>1,$J118<5), IF($J118=4, \"Inconnu\", E118+F118), 0),\"Non requis\")","v":34163},{"$f":"IF(INTRO!$E$43=\"Endémique\", IF(AND($K118>0,$K118<5), IF($K118=4,\"Inconnu\", IF($K118=1, $F118*0.33, IF($K118=2, $F118*0.5+$G118*0.2, SUM(F118:G118)))), 0),\"Non requis\")","v":19058.2},0,0,1,0,null,null,"Oui","Oui",2157,"XA MUTEBA"]
[{"$f":"IF(INTRO!$E$33<>0,INTRO!$E$33, \" \")","v":"Angola"},"LUNDA SUL","CACOLO",36440,{"$f":"IF(INTRO!$E$48=\"\",\"\",ROUND($D119*INTRO!$E$48,0))","v":5830},{"$f":"IF(INTRO!$E$49=\"\",\"\",ROUND($D119*INTRO!$E$49,0))","v":10167},{"$f":"IF(INTRO!$E$50=\"\",\"\",ROUND($D119*INTRO!$E$50,0))","v":19204},4,1,2,2,1,{"$f":"IF(INTRO!$E$37=\"Endémique\",IF($H119>0,IF($H119=4,\"Inconnu\",IF($H119=99,\"Interrompu\",$D119)),0),\"Non requis\")","v":"Inconnu"},{"$f":"IF(INTRO!$E$39=\"Endémique\", IF($I119>0, IF($I119=4,\"Inconnu\",IF($I119=99,\"Interrompu\",$D119)), 0),\"Non requis\")","v":36440},{"$f":"IF(INTRO!$E$41=\"Endémique\", IF(AND($J119>1,$J119<5), IF($J119=4, \"Inconnu\", E119+F119), 0),\"Non requis\")","v":15997},{"$f":"IF(INTRO!$E$43=\"Endémique\", IF(AND($K119>0,$K119<5), IF($K119=4,\"Inconnu\", IF($K119=1, $F119*0.33, IF($K119=2, $F119*0.5+$G119*0.2, SUM(F119:G119)))), 0),\"Non requis\")","v":8924.2999999999993},0,1,1,0,null,null,"Oui","Oui",2159,"CACOLO"]
[{"$f":"IF(INTRO!$E$33<>0,INTRO!$E$33, \" \")","v":"Angola"},"LUNDA SUL","DALA",34265,{"$f":"IF(INTRO!$E$48=\"\",\"\",ROUND($D120*INTRO!$E$48,0))","v":5482},{"$f":"IF(INTRO!$E$49=\"\",\"\",ROUND($D120*INTRO!$E$49,0))","v":9560},{"$f":"IF(INTRO!$E$50=\"\",\"\",ROUND($D120*INTRO!$E$50,0))","v":18058},0,1,2,2,1,{"$f":"IF(INTRO!$E$37=\"Endémique\",IF($H120>0,IF($H120=4,\"Inconnu\",IF($H120=99,\"Interrompu\",$D120)),0),\"Non requis\")","v":0},{"$f":"IF(INTRO!$E$39=\"Endémique\", IF($I120>0, IF($I120=4,\"Inconnu\",IF($I120=99,\"Interrompu\",$D120)), 0),\"Non requis\")","v":34265},{"$f":"IF(INTRO!$E$41=\"Endémique\", IF(AND($J120>1,$J120<5), IF($J120=4, \"Inconnu\", E120+F120), 0),\"Non requis\")","v":15042},{"$f":"IF(INTRO!$E$43=\"Endémique\", IF(AND($K120>0,$K120<5), IF($K120=4,\"Inconnu\", IF($K120=1, $F120*0.33, IF($K120=2, $F120*0.5+$G120*0.2, SUM(F120:G120)))), 0),\"Non requis\")","v":8391.6},0,1,1,0,null,null,"Oui","Oui",2158,"DALA"]
[{"$f":"IF(INTRO!$E$33<>0,INTRO!$E$33, \" \")","v":"Angola"},"LUNDA SUL","MUCONDA",38004,{"$f":"IF(INTRO!$E$48=\"\",\"\",ROUND($D121*INTRO!$E$48,0))","v":6081},{"$f":"IF(INTRO!$E$49=\"\",\"\",ROUND($D121*INTRO!$E$49,0))","v":10603},{"$f":"IF(INTRO!$E$50=\"\",\"\",ROUND($D121*INTRO!$E$50,0))","v":20028},0,1,2,2,1,{"$f":"IF(INTRO!$E$37=\"Endémique\",IF($H121>0,IF($H121=4,\"Inconnu\",IF($H121=99,\"Interrompu\",$D121)),0),\"Non requis\")","v":0},{"$f":"IF(INTRO!$E$39=\"Endémique\", IF($I121>0, IF($I121=4,\"Inconnu\",IF($I121=99,\"Interrompu\",$D121)), 0),\"Non requis\")","v":38004},{"$f":"IF(INTRO!$E$41=\"Endémique\", IF(AND($J121>1,$J121<5), IF($J121=4, \"Inconnu\", E121+F121), 0),\"Non requis\")","v":16684},{"$f":"IF(INTRO!$E$43=\"Endémique\", IF(AND($K121>0,$K121<5), IF($K121=4,\"Inconnu\", IF($K121=1, $F121*0.33, IF($K121=2, $F121*0.5+$G121*0.2, SUM(F121:G121)))), 0),\"Non requis\")","v":9307.1},0,1,1,0,null,null,"Oui","Oui",2160,"MUCONDA"]
[{"$f":"IF(INTRO!$E$33<>0,INTRO!$E$33, \" \")","v":"Angola"},"LUNDA SUL","SAURIMO",505479,{"$f":"IF(INTRO!$E$48=\"\",\"\",ROUND($D122*INTRO!$E$48,0))","v":80877},{"$f":"IF(INTRO!$E$49=\"\",\"\",ROUND($D122*INTRO!$E$49,0))","v":141029},{"$f":"IF(INTRO!$E$50=\"\",\"\",ROUND($D122*INTRO!$E$50,0))","v":266387},4,1,2,2,1,{"$f":"IF(INTRO!$E$37=\"Endémique\",IF($H122>0,IF($H122=4,\"Inconnu\",IF($H122=99,\"Interrompu\",$D122)),0),\"Non requis\")","v":"Inconnu"},{"$f":"IF(INTRO!$E$39=\"Endémique\", IF($I122>0, IF($I122=4,\"Inconnu\",IF($I122=99,\"Interrompu\",$D122)), 0),\"Non requis\")","v":505479},{"$f":"IF(INTRO!$E$41=\"Endémique\", IF(AND($J122>1,$J122<5), IF($J122=4, \"Inconnu\", E122+F122), 0),\"Non requis\")","v":221906},{"$f":"IF(INTRO!$E$43=\"Endémique\", IF(AND($K122>0,$K122<5), IF($K122=4,\"Inconnu\", IF($K122=1, $F122*0.33, IF($K122=2, $F122*0.5+$G122*0.2, SUM(F122:G122)))), 0),\"Non requis\")","v":123791.9},0,1,1,0,null,null,"Oui","Oui",2161,"SAURIMO"]
[{"$f":"IF(INTRO!$E$33<>0,INTRO!$E$33, \" \")","v":"Angola"},"MALANGE","CACULAMA (Mukari)",34402,{"$f":"IF(INTRO!$E$48=\"\",\"\",ROUND($D123*INTRO!$E$48,0))","v":5504},{"$f":"IF(INTRO!$E$49=\"\",\"\",ROUND($D123*INTRO!$E$49,0))","v":9598},{"$f":"IF(INTRO!$E$50=\"\",\"\",ROUND($D123*INTRO!$E$50,0))","v":18130},4,4,3,2,1,{"$f":"IF(INTRO!$E$37=\"Endémique\",IF($H123>0,IF($H123=4,\"Inconnu\",IF($H123=99,\"Interrompu\",$D123)),0),\"Non requis\")","v":"Inconnu"},{"$f":"IF(INTRO!$E$39=\"Endémique\", IF($I123>0, IF($I123=4,\"Inconnu\",IF($I123=99,\"Interrompu\",$D123)), 0),\"Non requis\")","v":"Inconnu"},{"$f":"IF(INTRO!$E$41=\"Endémique\", IF(AND($J123>1,$J123<5), IF($J123=4, \"Inconnu\", E123+F123), 0),\"Non requis\")","v":15102},{"$f":"IF(INTRO!$E$43=\"Endémique\", IF(AND($K123>0,$K123<5), IF($K123=4,\"Inconnu\", IF($K123=1, $F123*0.33, IF($K123=2, $F123*0.5+$G123*0.2, SUM(F123:G123)))), 0),\"Non requis\")","v":8425},0,0,1,0,null,null,"Oui","Oui",2215,"CACULAMA (Mukari)"]
[{"$f":"IF(INTRO!$E$33<>0,INTRO!$E$33, \" \")","v":"Angola"},"MALANGE","CACUSO",81671,{"$f":"IF(INTRO!$E$48=\"\",\"\",ROUND($D124*INTRO!$E$48,0))","v":13067},{"$f":"IF(INTRO!$E$49=\"\",\"\",ROUND($D124*INTRO!$E$49,0))","v":22786},{"$f":"IF(INTRO!$E$50=\"\",\"\",ROUND($D124*INTRO!$E$50,0))","v":43041},0,4,3,2,1,{"$f":"IF(INTRO!$E$37=\"Endémique\",IF($H124>0,IF($H124=4,\"Inconnu\",IF($H124=99,\"Interrompu\",$D124)),0),\"Non requis\")","v":0},{"$f":"IF(INTRO!$E$39=\"Endémique\", IF($I124>0, IF($I124=4,\"Inconnu\",IF($I124=99,\"Interrompu\",$D124)), 0),\"Non requis\")","v":"Inconnu"},{"$f":"IF(INTRO!$E$41=\"Endémique\", IF(AND($J124>1,$J124<5), IF($J124=4, \"Inconnu\", E124+F124), 0),\"Non requis\")","v":35853},{"$f":"IF(INTRO!$E$43=\"Endémique\", IF(AND($K124>0,$K124<5), IF($K124=4,\"Inconnu\", IF($K124=1, $F124*0.33, IF($K124=2, $F124*0.5+$G124*0.2, SUM(F124:G124)))), 0),\"Non requis\")","v":20001.2},0,0,1,0,null,null,"Oui","Oui",2163,"CACUSO"]
[{"$f":"IF(INTRO!$E$33<>0,INTRO!$E$33, \" \")","v":"Angola"},"MALANGE","CAMBUNDI CATEMBO",52911,{"$f":"IF(INTRO!$E$48=\"\",\"\",ROUND($D125*INTRO!$E$48,0))","v":8466},{"$f":"IF(INTRO!$E$49=\"\",\"\",ROUND($D125*INTRO!$E$49,0))","v":14762},{"$f":"IF(INTRO!$E$50=\"\",\"\",ROUND($D125*INTRO!$E$50,0))","v":27884},4,4,3,2,1,{"$f":"IF(INTRO!$E$37=\"Endémique\",IF($H125>0,IF($H125=4,\"Inconnu\",IF($H125=99,\"Interrompu\",$D125)),0),\"Non requis\")","v":"Inconnu"},{"$f":"IF(INTRO!$E$39=\"Endémique\", IF($I125>0, IF($I125=4,\"Inconnu\",IF($I125=99,\"Interrompu\",$D125)), 0),\"Non requis\")","v":"Inconnu"},{"$f":"IF(INTRO!$E$41=\"Endémique\", IF(AND($J125>1,$J125<5), IF($J125=4, \"Inconnu\", E125+F125), 0),\"Non requis\")","v":23228},{"$f":"IF(INTRO!$E$43=\"Endémique\", IF(AND($K125>0,$K125<5), IF($K125=4,\"Inconnu\", IF($K125=1, $F125*0.33, IF($K125=2, $F125*0.5+$G125*0.2, SUM(F125:G125)))), 0),\"Non requis\")","v":12957.8},0,0,1,0,null,null,"Oui","Oui",2165,"CAMBUNDI CATEMBO"]
[{"$f":"IF(INTRO!$E$33<>0,INTRO!$E$33, \" \")","v":"Angola"},"MALANGE","CANGANDALA",51549,{"$f":"IF(INTRO!$E$48=\"\",\"\",ROUND($D126*INTRO!$E$48,0))","v":8248},{"$f":"IF(INTRO!$E$49=\"\",\"\",ROUND($D126*INTRO!$E$49,0))","v":14382},{"$f":"IF(INTRO!$E$50=\"\",\"\",ROUND($D126*INTRO!$E$50,0))","v":27166},4,4,3,2,1,{"$f":"IF(INTRO!$E$37=\"Endémique\",IF($H126>0,IF($H126=4,\"Inconnu\",IF($H126=99,\"Interrompu\",$D126)),0),\"Non requis\")","v":"Inconnu"},{"$f":"IF(INTRO!$E$39=\"Endémique\", IF($I126>0, IF($I126=4,\"Inconnu\",IF($I126=99,\"Interrompu\",$D126)), 0),\"Non requis\")","v":"Inconnu"},{"$f":"IF(INTRO!$E$41=\"Endémique\", IF(AND($J126>1,$J126<5), IF($J126=4, \"Inconnu\", E126+F126), 0),\"Non requis\")","v":22630},{"$f":"IF(INTRO!$E$43=\"Endémique\", IF(AND($K126>0,$K126<5), IF($K126=4,\"Inconnu\", IF($K126=1, $F126*0.33, IF($K126=2, $F126*0.5+$G126*0.2, SUM(F126:G126)))), 0),\"Non requis\")","v":12624.2},0,0,1,0,null,null,"Oui","Oui",2166,"CANGANDALA"]
[{"$f":"IF(INTRO!$E$33<>0,INTRO!$E$33, \" \")","v":"Angola"},"MALANGE","KAHOMBO",24576,{"$f":"IF(INTRO!$E$48=\"\",\"\",ROUND($D127*INTRO!$E$48,0))","v":3932},{"$f":"IF(INTRO!$E$49=\"\",\"\",ROUND($D127*INTRO!$E$49,0))","v":6857},{"$f":"IF(INTRO!$E$50=\"\",\"\",ROUND($D127*INTRO!$E$50,0))","v":12952},0,4,3,2,1,{"$f":"IF(INTRO!$E$37=\"Endémique\",IF($H127>0,IF($H127=4,\"Inconnu\",IF($H127=99,\"Interrompu\",$D127)),0),\"Non requis\")","v":0},{"$f":"IF(INTRO!$E$39=\"Endémique\", IF($I127>0, IF($I127=4,\"Inconnu\",IF($I127=99,\"Interrompu\",$D127)), 0),\"Non requis\")","v":"Inconnu"},{"$f":"IF(INTRO!$E$41=\"Endémique\", IF(AND($J127>1,$J127<5), IF($J127=4, \"Inconnu\", E127+F127), 0),\"Non requis\")","v":10789},{"$f":"IF(INTRO!$E$43=\"Endémique\", IF(AND($K127>0,$K127<5), IF($K127=4,\"Inconnu\", IF($K127=1, $F127*0.33, IF($K127=2, $F127*0.5+$G127*0.2, SUM(F127:G127)))), 0),\"Non requis\")","v":6018.9},0,0,1,0,null,null,"Oui","Oui",2162,"KAHOMBO"]
[{"$f":"IF(INTRO!$E$33<>0,INTRO!$E$33, \" \")","v":"Angola"},"MALANGE","KALANDULA",91873,{"$f":"IF(INTRO!$E$48=\"\",\"\",ROUND($D128*INTRO!$E$48,0))","v":14700},{"$f":"IF(INTRO!$E$49=\"\",\"\",ROUND($D128*INTRO!$E$49,0))","v":25633},{"$f":"IF(INTRO!$E$50=\"\",\"\",ROUND($D128*INTRO!$E$50,0))","v":48417},4,4,3,2,1,{"$f":"IF(INTRO!$E$37=\"Endémique\",IF($H128>0,IF($H128=4,\"Inconnu\",IF($H128=99,\"Interrompu\",$D128)),0),\"Non requis\")","v":"Inconnu"},{"$f":"IF(INTRO!$E$39=\"Endémique\", IF($I128>0, IF($I128=4,\"Inconnu\",IF($I128=99,\"Interrompu\",$D128)), 0),\"Non requis\")","v":"Inconnu"},{"$f":"IF(INTRO!$E$41=\"Endémique\", IF(AND($J128>1,$J128<5), IF($J128=4, \"Inconnu\", E128+F128), 0),\"Non requis\")","v":40333},{"$f":"IF(INTRO!$E$43=\"Endémique\", IF(AND($K128>0,$K128<5), IF($K128=4,\"Inconnu\", IF($K128=1, $F128*0.33, IF($K128=2, $F128*0.5+$G128*0.2, SUM(F128:G128)))), 0),\"Non requis\")","v":22499.9},0,0,1,0,null,null,"Oui","Oui",2164,"KALANDULA"]
[{"$f":"IF(INTRO!$E$33<>0,INTRO!$E$33, \" \")","v":"Angola"},"MALANGE","KIWABA NZOGI",18143,{"$f":"IF(INTRO!$E$48=\"\",\"\",ROUND($D129*INTRO!$E$48,0))","v":2903},{"$f":"IF(INTRO!$E$49=\"\",\"\",ROUND($D129*INTRO!$E$49,0))","v":5062},{"$f":"IF(INTRO!$E$50=\"\",\"\",ROUND($D129*INTRO!$E$50,0))","v":9561},0,4,3,2,1,{"$f":"IF(INTRO!$E$37=\"Endémique\",IF($H129>0,IF($H129=4,\"Inconnu\",IF($H129=99,\"Interrompu\",$D129)),0),\"Non requis\")","v":0},{"$f":"IF(INTRO!$E$39=\"Endémique\", IF($I129>0, IF($I129=4,\"Inconnu\",IF($I129=99,\"Interrompu\",$D129)), 0),\"Non requis\")","v":"Inconnu"},{"$f":"IF(INTRO!$E$41=\"Endémique\", IF(AND($J129>1,$J129<5), IF($J129=4, \"Inconnu\", E129+F129), 0),\"Non requis\")","v":7965},{"$f":"IF(INTRO!$E$43=\"Endémique\", IF(AND($K129>0,$K129<5), IF($K129=4,\"Inconnu\", IF($K129=1, $F129*0.33, IF($K129=2, $F129*0.5+$G129*0.2, SUM(F129:G129)))), 0),\"Non requis\")","v":4443.2},0,0,1,0,null,null,"Oui","Oui",2169,"KIWABA NZOGI"]
[{"$f":"IF(INTRO!$E$33<>0,INTRO!$E$33, \" \")","v":"Angola"},"MALANGE","KUNDA DIA BASE",14418,{"$f":"IF(INTRO!$E$48=\"\",\"\",ROUND($D130*INTRO!$E$48,0))","v":2307},{"$f":"IF(INTRO!$E$49=\"\",\"\",ROUND($D130*INTRO!$E$49,0))","v":4023},{"$f":"IF(INTRO!$E$50=\"\",\"\",ROUND($D130*INTRO!$E$50,0))","v":7598},4,4,3,2,1,{"$f":"IF(INTRO!$E$37=\"Endémique\",IF($H130>0,IF($H130=4,\"Inconnu\",IF($H130=99,\"Interrompu\",$D130)),0),\"Non requis\")","v":"Inconnu"},{"$f":"IF(INTRO!$E$39=\"Endémique\", IF($I130>0, IF($I130=4,\"Inconnu\",IF($I130=99,\"Interrompu\",$D130)), 0),\"Non requis\")","v":"Inconnu"},{"$f":"IF(INTRO!$E$41=\"Endémique\", IF(AND($J130>1,$J130<5), IF($J130=4, \"Inconnu\", E130+F130), 0),\"Non requis\")","v":6330},{"$f":"IF(INTRO!$E$43=\"Endémique\", IF(AND($K130>0,$K130<5), IF($K130=4,\"Inconnu\", IF($K130=1, $F130*0.33, IF($K130=2, $F130*0.5+$G130*0.2, SUM(F130:G130)))), 0),\"Non requis\")","v":3531.1000000000004},0,0,1,0,null,null,"Oui","Oui",2170,"KUNDA DIA BASE"]
[{"$f":"IF(INTRO!$E$33<>0,INTRO!$E$33, \" \")","v":"Angola"},"MALANGE","LUQUEMBO",62699,{"$f":"IF(INTRO!$E$48=\"\",\"\",ROUND($D131*INTRO!$E$48,0))","v":10032},{"$f":"IF(INTRO!$E$49=\"\",\"\",ROUND($D131*INTRO!$E$49,0))","v":17493},{"$f":"IF(INTRO!$E$50=\"\",\"\",ROUND($D131*INTRO!$E$50,0))","v":33042},0,4,3,2,1,{"$f":"IF(INTRO!$E$37=\"Endémique\",IF($H131>0,IF($H131=4,\"Inconnu\",IF($H131=99,\"Interrompu\",$D131)),0),\"Non requis\")","v":0},{"$f":"IF(INTRO!$E$39=\"Endémique\", IF($I131>0, IF($I131=4,\"Inconnu\",IF($I131=99,\"Interrompu\",$D131)), 0),\"Non requis\")","v":"Inconnu"},{"$f":"IF(INTRO!$E$41=\"Endémique\", IF(AND($J131>1,$J131<5), IF($J131=4, \"Inconnu\", E131+F131), 0),\"Non requis\")","v":27525},{"$f":"IF(INTRO!$E$43=\"Endémique\", IF(AND($K131>0,$K131<5), IF($K131=4,\"Inconnu\", IF($K131=1, $F131*0.33, IF($K131=2, $F131*0.5+$G131*0.2, SUM(F131:G131)))), 0),\"Non requis\")","v":15354.900000000001},0,0,1,0,null,null,"Oui","Oui",2171,"LUQUEMBO"]
[{"$f":"IF(INTRO!$E$33<>0,INTRO!$E$33, \" \")","v":"Angola"},"MALANJE","MALANJE",579068,{"$f":"IF(INTRO!$E$48=\"\",\"\",ROUND($D132*INTRO!$E$48,0))","v":92651},{"$f":"IF(INTRO!$E$49=\"\",\"\",ROUND($D132*INTRO!$E$49,0))","v":161560},{"$f":"IF(INTRO!$E$50=\"\",\"\",ROUND($D132*INTRO!$E$50,0))","v":305169},0,4,3,2,1,{"$f":"IF(INTRO!$E$37=\"Endémique\",IF($H132>0,IF($H132=4,\"Inconnu\",IF($H132=99,\"Interrompu\",$D132)),0),\"Non requis\")","v":0},{"$f":"IF(INTRO!$E$39=\"Endémique\", IF($I132>0, IF($I132=4,\"Inconnu\",IF($I132=99,\"Interrompu\",$D132)), 0),\"Non requis\")","v":"Inconnu"},{"$f":"IF(INTRO!$E$41=\"Endémique\", IF(AND($J132>1,$J132<5), IF($J132=4, \"Inconnu\", E132+F132), 0),\"Non requis\")","v":254211},{"$f":"IF(INTRO!$E$43=\"Endémique\", IF(AND($K132>0,$K132<5), IF($K132=4,\"Inconnu\", IF($K132=1, $F132*0.33, IF($K132=2, $F132*0.5+$G132*0.2, SUM(F132:G132)))), 0),\"Non requis\")","v":141813.79999999999},0,0,1,0,null,null,"Oui","Oui",2172,"MALANJE"]
[{"$f":"IF(INTRO!$E$33<>0,INTRO!$E$33, \" \")","v":"Angola"},"MALANGE","MARIMBA",29910,{"$f":"IF(INTRO!$E$48=\"\",\"\",ROUND($D133*INTRO!$E$48,0))","v":4786},{"$f":"IF(INTRO!$E$49=\"\",\"\",ROUND($D133*INTRO!$E$49,0))","v":8345},{"$f":"IF(INTRO!$E$50=\"\",\"\",ROUND($D133*INTRO!$E$50,0))","v":15763},4,4,3,2,1,{"$f":"IF(INTRO!$E$37=\"Endémique\",IF($H133>0,IF($H133=4,\"Inconnu\",IF($H133=99,\"Interrompu\",$D133)),0),\"Non requis\")","v":"Inconnu"},{"$f":"IF(INTRO!$E$39=\"Endémique\", IF($I133>0, IF($I133=4,\"Inconnu\",IF($I133=99,\"Interrompu\",$D133)), 0),\"Non requis\")","v":"Inconnu"},{"$f":"IF(INTRO!$E$41=\"Endémique\", IF(AND($J133>1,$J133<5), IF($J133=4, \"Inconnu\", E133+F133), 0),\"Non requis\")","v":13131},{"$f":"IF(INTRO!$E$43=\"Endémique\", IF(AND($K133>0,$K133<5), IF($K133=4,\"Inconnu\", IF($K133=1, $F133*0.33, IF($K133=2, $F133*0.5+$G133*0.2, SUM(F133:G133)))), 0),\"Non requis\")","v":7325.1},0,0,1,0,null,null,"Oui","Oui",2173,"MARIMBA"]
[{"$f":"IF(INTRO!$E$33<>0,INTRO!$E$33, \" \")","v":"Angola"},"MALANGE","MASSANGO",37609,{"$f":"IF(INTRO!$E$48=\"\",\"\",ROUND($D134*INTRO!$E$48,0))","v":6017},{"$f":"IF(INTRO!$E$49=\"\",\"\",ROUND($D134*INTRO!$E$49,0))","v":10493},{"$f":"IF(INTRO!$E$50=\"\",\"\",ROUND($D134*INTRO!$E$50,0))","v":19820},0,4,3,2,1,{"$f":"IF(INTRO!$E$37=\"Endémique\",IF($H134>0,IF($H134=4,\"Inconnu\",IF($H134=99,\"Interrompu\",$D134)),0),\"Non requis\")","v":0},{"$f":"IF(INTRO!$E$39=\"Endémique\", IF($I134>0, IF($I134=4,\"Inconnu\",IF($I134=99,\"Interrompu\",$D134)), 0),\"Non requis\")","v":"Inconnu"},{"$f":"IF(INTRO!$E$41=\"Endémique\", IF(AND($J134>1,$J134<5), IF($J134=4, \"Inconnu\", E134+F134), 0),\"Non requis\")","v":16510},{"$f":"IF(INTRO!$E$43=\"Endémique\", IF(AND($K134>0,$K134<5), IF($K134=4,\"Inconnu\", IF($K134=1, $F134*0.33, IF($K134=2, $F134*0.5+$G134*0.2, SUM(F134:G134)))), 0),\"Non requis\")","v":9210.5},0,0,1,0,null,null,"Oui","Oui",2174,"MASSANGO"]
[{"$f":"IF(INTRO!$E$33<>0,INTRO!$E$33, \" \")","v":"Angola"},"MALANGE","QUELA",23934,{"$f":"IF(INTRO!$E$48=\"\",\"\",ROUND($D135*INTRO!$E$48,0))","v":3829},{"$f":"IF(INTRO!$E$49=\"\",\"\",ROUND($D135*INTRO!$E$49,0))","v":6678},{"$f":"IF(INTRO!$E$50=\"\",\"\",ROUND($D135*INTRO!$E$50,0))","v":12613},4,4,3,2,1,{"$f":"IF(INTRO!$E$37=\"Endémique\",IF($H135>0,IF($H135=4,\"Inconnu\",IF($H135=99,\"Interrompu\",$D135)),0),\"Non requis\")","v":"Inconnu"},{"$f":"IF(INTRO!$E$39=\"Endémique\", IF($I135>0, IF($I135=4,\"Inconnu\",IF($I135=99,\"Interrompu\",$D135)), 0),\"Non requis\")","v":"Inconnu"},{"$f":"IF(INTRO!$E$41=\"Endémique\", IF(AND($J135>1,$J135<5), IF($J135=4, \"Inconnu\", E135+F135), 0),\"Non requis\")","v":10507},{"$f":"IF(INTRO!$E$43=\"Endémique\", IF(AND($K135>0,$K135<5), IF($K135=4,\"Inconnu\", IF($K135=1, $F135*0.33, IF($K135=2, $F135*0.5+$G135*0.2, SUM(F135:G135)))), 0),\"Non requis\")","v":5861.6},0,0,1,0,null,null,"Oui","Oui",2222,"QUELA"]
[{"$f":"IF(INTRO!$E$33<>0,INTRO!$E$33, \" \")","v":"Angola"},"MALANGE","QUIRIMA",24146,{"$f":"IF(INTRO!$E$48=\"\",\"\",ROUND($D136*INTRO!$E$48,0))","v":3863},{"$f":"IF(INTRO!$E$49=\"\",\"\",ROUND($D136*INTRO!$E$49,0))","v":6737},{"$f":"IF(INTRO!$E$50=\"\",\"\",ROUND($D136*INTRO!$E$50,0))","v":12725},0,4,3,2,1,{"$f":"IF(INTRO!$E$37=\"Endémique\",IF($H136>0,IF($H136=4,\"Inconnu\",IF($H136=99,\"Interrompu\",$D136)),0),\"Non requis\")","v":0},{"$f":"IF(INTRO!$E$39=\"Endémique\", IF($I136>0, IF($I136=4,\"Inconnu\",IF($I136=99,\"Interrompu\",$D136)), 0),\"Non requis\")","v":"Inconnu"},{"$f":"IF(INTRO!$E$41=\"Endémique\", IF(AND($J136>1,$J136<5), IF($J136=4, \"Inconnu\", E136+F136), 0),\"Non requis\")","v":10600},{"$f":"IF(INTRO!$E$43=\"Endémique\", IF(AND($K136>0,$K136<5), IF($K136=4,\"Inconnu\", IF($K136=1, $F136*0.33, IF($K136=2, $F136*0.5+$G136*0.2, SUM(F136:G136)))), 0),\"Non requis\")","v":5913.5},0,0,1,0,null,null,"Oui","Oui",2168,"QUIRIMA"]
[{"$f":"IF(INTRO!$E$33<>0,INTRO!$E$33, \" \")","v":"Angola"},"MOXICO","ALTO ZAMBEZE",16510,{"$f":"IF(INTRO!$E$48=\"\",\"\",ROUND($D137*INTRO!$E$48,0))","v":2642},{"$f":"IF(INTRO!$E$49=\"\",\"\",ROUND($D137*INTRO!$E$49,0))","v":4606},{"$f":"IF(INTRO!$E$50=\"\",\"\",ROUND($D137*INTRO!$E$50,0))","v":8701},0,4,2,2,1,{"$f":"IF(INTRO!$E$37=\"Endémique\",IF($H137>0,IF($H137=4,\"Inconnu\",IF($H137=99,\"Interrompu\",$D137)),0),\"Non requis\")","v":0},{"$f":"IF(INTRO!$E$39=\"Endémique\", IF($I137>0, IF($I137=4,\"Inconnu\",IF($I137=99,\"Interrompu\",$D137)), 0),\"Non requis\")","v":"Inconnu"},{"$f":"IF(INTRO!$E$41=\"Endémique\", IF(AND($J137>1,$J137<5), IF($J137=4, \"Inconnu\", E137+F137), 0),\"Non requis\")","v":7248},{"$f":"IF(INTRO!$E$43=\"Endémique\", IF(AND($K137>0,$K137<5), IF($K137=4,\"Inconnu\", IF($K137=1, $F137*0.33, IF($K137=2, $F137*0.5+$G137*0.2, SUM(F137:G137)))), 0),\"Non requis\")","v":4043.2},0,0,1,0,null,null,"Oui","Oui",2176,"ALTO ZAMBEZE"]
[{"$f":"IF(INTRO!$E$33<>0,INTRO!$E$33, \" \")","v":"Angola"},"MOXICO","CAMANONGUE",39035,{"$f":"IF(INTRO!$E$48=\"\",\"\",ROUND($D138*INTRO!$E$48,0))","v":6246},{"$f":"IF(INTRO!$E$49=\"\",\"\",ROUND($D138*INTRO!$E$49,0))","v":10891},{"$f":"IF(INTRO!$E$50=\"\",\"\",ROUND($D138*INTRO!$E$50,0))","v":20571},0,1,2,2,1,{"$f":"IF(INTRO!$E$37=\"Endémique\",IF($H138>0,IF($H138=4,\"Inconnu\",IF($H138=99,\"Interrompu\",$D138)),0),\"Non requis\")","v":0},{"$f":"IF(INTRO!$E$39=\"Endémique\", IF($I138>0, IF($I138=4,\"Inconnu\",IF($I138=99,\"Interrompu\",$D138)), 0),\"Non requis\")","v":39035},{"$f":"IF(INTRO!$E$41=\"Endémique\", IF(AND($J138>1,$J138<5), IF($J138=4, \"Inconnu\", E138+F138), 0),\"Non requis\")","v":17137},{"$f":"IF(INTRO!$E$43=\"Endémique\", IF(AND($K138>0,$K138<5), IF($K138=4,\"Inconnu\", IF($K138=1, $F138*0.33, IF($K138=2, $F138*0.5+$G138*0.2, SUM(F138:G138)))), 0),\"Non requis\")","v":9559.7000000000007},0,1,1,0,null,null,"Oui","Oui",2177,"CAMANONGUE"]
[{"$f":"IF(INTRO!$E$33<>0,INTRO!$E$33, \" \")","v":"Angola"},"MOXICO","LEUA",21195,{"$f":"IF(INTRO!$E$48=\"\",\"\",ROUND($D139*INTRO!$E$48,0))","v":3391},{"$f":"IF(INTRO!$E$49=\"\",\"\",ROUND($D139*INTRO!$E$49,0))","v":5913},{"$f":"IF(INTRO!$E$50=\"\",\"\",ROUND($D139*INTRO!$E$50,0))","v":11170},0,1,2,2,1,{"$f":"IF(INTRO!$E$37=\"Endémique\",IF($H139>0,IF($H139=4,\"Inconnu\",IF($H139=99,\"Interrompu\",$D139)),0),\"Non requis\")","v":0},{"$f":"IF(INTRO!$E$39=\"Endémique\", IF($I139>0, IF($I139=4,\"Inconnu\",IF($I139=99,\"Interrompu\",$D139)), 0),\"Non requis\")","v":21195},{"$f":"IF(INTRO!$E$41=\"Endémique\", IF(AND($J139>1,$J139<5), IF($J139=4, \"Inconnu\", E139+F139), 0),\"Non requis\")","v":9304},{"$f":"IF(INTRO!$E$43=\"Endémique\", IF(AND($K139>0,$K139<5), IF($K139=4,\"Inconnu\", IF($K139=1, $F139*0.33, IF($K139=2, $F139*0.5+$G139*0.2, SUM(F139:G139)))), 0),\"Non requis\")","v":5190.5},0,1,1,0,null,null,"Oui","Oui",2179,"LEUA"]
[{"$f":"IF(INTRO!$E$33<>0,INTRO!$E$33, \" \")","v":"Angola"},"MOXICO","LUACANO",15888,{"$f":"IF(INTRO!$E$48=\"\",\"\",ROUND($D140*INTRO!$E$48,0))","v":2542},{"$f":"IF(INTRO!$E$49=\"\",\"\",ROUND($D140*INTRO!$E$49,0))","v":4433},{"$f":"IF(INTRO!$E$50=\"\",\"\",ROUND($D140*INTRO!$E$50,0))","v":8373},0,1,2,2,4,{"$f":"IF(INTRO!$E$37=\"Endémique\",IF($H140>0,IF($H140=4,\"Inconnu\",IF($H140=99,\"Interrompu\",$D140)),0),\"Non requis\")","v":0},{"$f":"IF(INTRO!$E$39=\"Endémique\", IF($I140>0, IF($I140=4,\"Inconnu\",IF($I140=99,\"Interrompu\",$D140)), 0),\"Non requis\")","v":15888},{"$f":"IF(INTRO!$E$41=\"Endémique\", IF(AND($J140>1,$J140<5), IF($J140=4, \"Inconnu\", E140+F140), 0),\"Non requis\")","v":6975},{"$f":"IF(INTRO!$E$43=\"Endémique\", IF(AND($K140>0,$K140<5), IF($K140=4,\"Inconnu\", IF($K140=1, $F140*0.33, IF($K140=2, $F140*0.5+$G140*0.2, SUM(F140:G140)))), 0),\"Non requis\")","v":3891.1000000000004},0,1,1,0,null,null,"Oui","Oui",2180,"LUACANO"]
[{"$f":"IF(INTRO!$E$33<>0,INTRO!$E$33, \" \")","v":"Angola"},"MOXICO","LUAU",228901,{"$f":"IF(INTRO!$E$48=\"\",\"\",ROUND($D141*INTRO!$E$48,0))","v":36624},{"$f":"IF(INTRO!$E$49=\"\",\"\",ROUND($D141*INTRO!$E$49,0))","v":63863},{"$f":"IF(INTRO!$E$50=\"\",\"\",ROUND($D141*INTRO!$E$50,0))","v":120631},0,4,2,2,1,{"$f":"IF(INTRO!$E$37=\"Endémique\",IF($H141>0,IF($H141=4,\"Inconnu\",IF($H141=99,\"Interrompu\",$D141)),0),\"Non requis\")","v":0},{"$f":"IF(INTRO!$E$39=\"Endémique\", IF($I141>0, IF($I141=4,\"Inconnu\",IF($I141=99,\"Interrompu\",$D141)), 0),\"Non requis\")","v":"Inconnu"},{"$f":"IF(INTRO!$E$41=\"Endémique\", IF(AND($J141>1,$J141<5), IF($J141=4, \"Inconnu\", E141+F141), 0),\"Non requis\")","v":100487},{"$f":"IF(INTRO!$E$43=\"Endémique\", IF(AND($K141>0,$K141<5), IF($K141=4,\"Inconnu\", IF($K141=1, $F141*0.33, IF($K141=2, $F141*0.5+$G141*0.2, SUM(F141:G141)))), 0),\"Non requis\")","v":56057.7},0,0,1,0,null,null,"Oui","Oui",2181,"LUAU"]
[{"$f":"IF(INTRO!$E$33<>0,INTRO!$E$33, \" \")","v":"Angola"},"MOXICO","LUCHAZES",79398,{"$f":"IF(INTRO!$E$48=\"\",\"\",ROUND($D142*INTRO!$E$48,0))","v":12704},{"$f":"IF(INTRO!$E$49=\"\",\"\",ROUND($D142*INTRO!$E$49,0))","v":22152},{"$f":"IF(INTRO!$E$50=\"\",\"\",ROUND($D142*INTRO!$E$50,0))","v":41843},0,4,2,2,1,{"$f":"IF(INTRO!$E$37=\"Endémique\",IF($H142>0,IF($H142=4,\"Inconnu\",IF($H142=99,\"Interrompu\",$D142)),0),\"Non requis\")","v":0},{"$f":"IF(INTRO!$E$39=\"Endémique\", IF($I142>0, IF($I142=4,\"Inconnu\",IF($I142=99,\"Interrompu\",$D142)), 0),\"Non requis\")","v":"Inconnu"},{"$f":"IF(INTRO!$E$41=\"Endémique\", IF(AND($J142>1,$J142<5), IF($J142=4, \"Inconnu\", E142+F142), 0),\"Non requis\")","v":34856},{"$f":"IF(INTRO!$E$43=\"Endémique\", IF(AND($K142>0,$K142<5), IF($K142=4,\"Inconnu\", IF($K142=1, $F142*0.33, IF($K142=2, $F142*0.5+$G142*0.2, SUM(F142:G142)))), 0),\"Non requis\")","v":19444.599999999999},0,0,1,0,null,null,"Oui","Oui",2183,"LUCHAZES"]
[{"$f":"IF(INTRO!$E$33<>0,INTRO!$E$33, \" \")","v":"Angola"},"MOXICO","LUMBALA NGUIMBO",33676,{"$f":"IF(INTRO!$E$48=\"\",\"\",ROUND($D143*INTRO!$E$48,0))","v":5388},{"$f":"IF(INTRO!$E$49=\"\",\"\",ROUND($D143*INTRO!$E$49,0))","v":9396},{"$f":"IF(INTRO!$E$50=\"\",\"\",ROUND($D143*INTRO!$E$50,0))","v":17747},4,4,2,2,1,{"$f":"IF(INTRO!$E$37=\"Endémique\",IF($H143>0,IF($H143=4,\"Inconnu\",IF($H143=99,\"Interrompu\",$D143)),0),\"Non requis\")","v":"Inconnu"},{"$f":"IF(INTRO!$E$39=\"Endémique\", IF($I143>0, IF($I143=4,\"Inconnu\",IF($I143=99,\"Interrompu\",$D143)), 0),\"Non requis\")","v":"Inconnu"},{"$f":"IF(INTRO!$E$41=\"Endémique\", IF(AND($J143>1,$J143<5), IF($J143=4, \"Inconnu\", E143+F143), 0),\"Non requis\")","v":14784},{"$f":"IF(INTRO!$E$43=\"Endémique\", IF(AND($K143>0,$K143<5), IF($K143=4,\"Inconnu\", IF($K143=1, $F143*0.33, IF($K143=2, $F143*0.5+$G143*0.2, SUM(F143:G143)))), 0),\"Non requis\")","v":8247.4},0,0,1,0,null,null,"Oui","Oui",2182,"LUMBALA NGUIMBO"]
[{"$f":"IF(INTRO!$E$33<>0,INTRO!$E$33, \" \")","v":"Angola"},"MOXICO","LUMEJE",23712,{"$f":"IF(INTRO!$E$48=\"\",\"\",ROUND($D144*INTRO!$E$48,0))","v":3794},{"$f":"IF(INTRO!$E$49=\"\",\"\",ROUND($D144*INTRO!$E$49,0))","v":6616},{"$f":"IF(INTRO!$E$50=\"\",\"\",ROUND($D144*INTRO!$E$50,0))","v":12496},0,4,2,2,1,{"$f":"IF(INTRO!$E$37=\"Endémique\",IF($H144>0,IF($H144=4,\"Inconnu\",IF($H144=99,\"Interrompu\",$D144)),0),\"Non requis\")","v":0},{"$f":"IF(INTRO!$E$39=\"Endémique\", IF($I144>0, IF($I144=4,\"Inconnu\",IF($I144=99,\"Interrompu\",$D144)), 0),\"Non requis\")","v":"Inconnu"},{"$f":"IF(INTRO!$E$41=\"Endémique\", IF(AND($J144>1,$J144<5), IF($J144=4, \"Inconnu\", E144+F144), 0),\"Non requis\")","v":10410},{"$f":"IF(INTRO!$E$43=\"Endémique\", IF(AND($K144>0,$K144<5), IF($K144=4,\"Inconnu\", IF($K144=1, $F144*0.33, IF($K144=2, $F144*0.5+$G144*0.2, SUM(F144:G144)))), 0),\"Non requis\")","v":5807.2000000000007},0,0,1,0,null,null,"Oui","Oui",2220,"LUMEJE"]
[{"$f":"IF(INTRO!$E$33<>0,INTRO!$E$33, \" \")","v":"Angola"},"MOXICO","MOXICO / LUENA",408340,{"$f":"IF(INTRO!$E$48=\"\",\"\",ROUND($D145*INTRO!$E$48,0))","v":65334},{"$f":"IF(INTRO!$E$49=\"\",\"\",ROUND($D145*INTRO!$E$49,0))","v":113927},{"$f":"IF(INTRO!$E$50=\"\",\"\",ROUND($D145*INTRO!$E$50,0))","v":215195},0,1,2,2,1,{"$f":"IF(INTRO!$E$37=\"Endémique\",IF($H145>0,IF($H145=4,\"Inconnu\",IF($H145=99,\"Interrompu\",$D145)),0),\"Non requis\")","v":0},{"$f":"IF(INTRO!$E$39=\"Endémique\", IF($I145>0, IF($I145=4,\"Inconnu\",IF($I145=99,\"Interrompu\",$D145)), 0),\"Non requis\")","v":408340},{"$f":"IF(INTRO!$E$41=\"Endémique\", IF(AND($J145>1,$J145<5), IF($J145=4, \"Inconnu\", E145+F145), 0),\"Non requis\")","v":179261},{"$f":"IF(INTRO!$E$43=\"Endémique\", IF(AND($K145>0,$K145<5), IF($K145=4,\"Inconnu\", IF($K145=1, $F145*0.33, IF($K145=2, $F145*0.5+$G145*0.2, SUM(F145:G145)))), 0),\"Non requis\")","v":100002.5},0,1,1,0,null,null,"Oui","Oui",2184,"MOXICO / LUENA"]
[{"$f":"IF(INTRO!$E$33<>0,INTRO!$E$33, \" \")","v":"Angola"},"NAMIBE","BIBALA",73695,{"$f":"IF(INTRO!$E$48=\"\",\"\",ROUND($D146*INTRO!$E$48,0))","v":11791},{"$f":"IF(INTRO!$E$49=\"\",\"\",ROUND($D146*INTRO!$E$49,0))","v":20561},{"$f":"IF(INTRO!$E$50=\"\",\"\",ROUND($D146*INTRO!$E$50,0))","v":38837},0,4,2,2,1,{"$f":"IF(INTRO!$E$37=\"Endémique\",IF($H146>0,IF($H146=4,\"Inconnu\",IF($H146=99,\"Interrompu\",$D146)),0),\"Non requis\")","v":0},{"$f":"IF(INTRO!$E$39=\"Endémique\", IF($I146>0, IF($I146=4,\"Inconnu\",IF($I146=99,\"Interrompu\",$D146)), 0),\"Non requis\")","v":"Inconnu"},{"$f":"IF(INTRO!$E$41=\"Endémique\", IF(AND($J146>1,$J146<5), IF($J146=4, \"Inconnu\", E146+F146), 0),\"Non requis\")","v":32352},{"$f":"IF(INTRO!$E$43=\"Endémique\", IF(AND($K146>0,$K146<5), IF($K146=4,\"Inconnu\", IF($K146=1, $F146*0.33, IF($K146=2, $F146*0.5+$G146*0.2, SUM(F146:G146)))), 0),\"Non requis\")","v":18047.900000000001},0,0,1,1,null,null,"Oui","Oui",2185,"BIBALA"]
[{"$f":"IF(INTRO!$E$33<>0,INTRO!$E$33, \" \")","v":"Angola"},"NAMIBE","CAMUCUIO",57523,{"$f":"IF(INTRO!$E$48=\"\",\"\",ROUND($D147*INTRO!$E$48,0))","v":9204},{"$f":"IF(INTRO!$E$49=\"\",\"\",ROUND($D147*INTRO!$E$49,0))","v":16049},{"$f":"IF(INTRO!$E$50=\"\",\"\",ROUND($D147*INTRO!$E$50,0))","v":30315},0,4,2,2,4,{"$f":"IF(INTRO!$E$37=\"Endémique\",IF($H147>0,IF($H147=4,\"Inconnu\",IF($H147=99,\"Interrompu\",$D147)),0),\"Non requis\")","v":0},{"$f":"IF(INTRO!$E$39=\"Endémique\", IF($I147>0, IF($I147=4,\"Inconnu\",IF($I147=99,\"Interrompu\",$D147)), 0),\"Non requis\")","v":"Inconnu"},{"$f":"IF(INTRO!$E$41=\"Endémique\", IF(AND($J147>1,$J147<5), IF($J147=4, \"Inconnu\", E147+F147), 0),\"Non requis\")","v":25253},{"$f":"IF(INTRO!$E$43=\"Endémique\", IF(AND($K147>0,$K147<5), IF($K147=4,\"Inconnu\", IF($K147=1, $F147*0.33, IF($K147=2, $F147*0.5+$G147*0.2, SUM(F147:G147)))), 0),\"Non requis\")","v":14087.5},0,0,1,1,null,null,"Oui","Oui",2186,"CAMUCUIO"]
[{"$f":"IF(INTRO!$E$33<>0,INTRO!$E$33, \" \")","v":"Angola"},"NAMIBE","NAMIBE",334219,{"$f":"IF(INTRO!$E$48=\"\",\"\",ROUND($D148*INTRO!$E$48,0))","v":53475},{"$f":"IF(INTRO!$E$49=\"\",\"\",ROUND($D148*INTRO!$E$49,0))","v":93247},{"$f":"IF(INTRO!$E$50=\"\",\"\",ROUND($D148*INTRO!$E$50,0))","v":176133},0,4,2,2,1,{"$f":"IF(INTRO!$E$37=\"Endémique\",IF($H148>0,IF($H148=4,\"Inconnu\",IF($H148=99,\"Interrompu\",$D148)),0),\"Non requis\")","v":0},{"$f":"IF(INTRO!$E$39=\"Endémique\", IF($I148>0, IF($I148=4,\"Inconnu\",IF($I148=99,\"Interrompu\",$D148)), 0),\"Non requis\")","v":"Inconnu"},{"$f":"IF(INTRO!$E$41=\"Endémique\", IF(AND($J148>1,$J148<5), IF($J148=4, \"Inconnu\", E148+F148), 0),\"Non requis\")","v":146722},{"$f":"IF(INTRO!$E$43=\"Endémique\", IF(AND($K148>0,$K148<5), IF($K148=4,\"Inconnu\", IF($K148=1, $F148*0.33, IF($K148=2, $F148*0.5+$G148*0.2, SUM(F148:G148)))), 0),\"Non requis\")","v":81850.100000000006},0,0,1,1,null,null,"Oui","Oui",2187,"NAMIBE"]
[{"$f":"IF(INTRO!$E$33<>0,INTRO!$E$33, \" \")","v":"Angola"},"NAMIBE","TOMBUA",63401,{"$f":"IF(INTRO!$E$48=\"\",\"\",ROUND($D149*INTRO!$E$48,0))","v":10144},{"$f":"IF(INTRO!$E$49=\"\",\"\",ROUND($D149*INTRO!$E$49,0))","v":17689},{"$f":"IF(INTRO!$E$50=\"\",\"\",ROUND($D149*INTRO!$E$50,0))","v":33412},0,4,2,2,1,{"$f":"IF(INTRO!$E$37=\"Endémique\",IF($H149>0,IF($H149=4,\"Inconnu\",IF($H149=99,\"Interrompu\",$D149)),0),\"Non requis\")","v":0},{"$f":"IF(INTRO!$E$39=\"Endémique\", IF($I149>0, IF($I149=4,\"Inconnu\",IF($I149=99,\"Interrompu\",$D149)), 0),\"Non requis\")","v":"Inconnu"},{"$f":"IF(INTRO!$E$41=\"Endémique\", IF(AND($J149>1,$J149<5), IF($J149=4, \"Inconnu\", E149+F149), 0),\"Non requis\")","v":27833},{"$f":"IF(INTRO!$E$43=\"Endémique\", IF(AND($K149>0,$K149<5), IF($K149=4,\"Inconnu\", IF($K149=1, $F149*0.33, IF($K149=2, $F149*0.5+$G149*0.2, SUM(F149:G149)))), 0),\"Non requis\")","v":15526.900000000001},0,0,1,1,null,null,"Oui","Oui",2188,"TOMBUA"]
[{"$f":"IF(INTRO!$E$33<>0,INTRO!$E$33, \" \")","v":"Angola"},"NAMIBE","VIREI",37069,{"$f":"IF(INTRO!$E$48=\"\",\"\",ROUND($D150*INTRO!$E$48,0))","v":5931},{"$f":"IF(INTRO!$E$49=\"\",\"\",ROUND($D150*INTRO!$E$49,0))","v":10342},{"$f":"IF(INTRO!$E$50=\"\",\"\",ROUND($D150*INTRO!$E$50,0))","v":19535},0,4,2,2,1,{"$f":"IF(INTRO!$E$37=\"Endémique\",IF($H150>0,IF($H150=4,\"Inconnu\",IF($H150=99,\"Interrompu\",$D150)),0),\"Non requis\")","v":0},{"$f":"IF(INTRO!$E$39=\"Endémique\", IF($I150>0, IF($I150=4,\"Inconnu\",IF($I150=99,\"Interrompu\",$D150)), 0),\"Non requis\")","v":"Inconnu"},{"$f":"IF(INTRO!$E$41=\"Endémique\", IF(AND($J150>1,$J150<5), IF($J150=4, \"Inconnu\", E150+F150), 0),\"Non requis\")","v":16273},{"$f":"IF(INTRO!$E$43=\"Endémique\", IF(AND($K150>0,$K150<5), IF($K150=4,\"Inconnu\", IF($K150=1, $F150*0.33, IF($K150=2, $F150*0.5+$G150*0.2, SUM(F150:G150)))), 0),\"Non requis\")","v":9078},0,0,1,1,null,null,"Oui","Oui",2189,"VIREI"]
[{"$f":"IF(INTRO!$E$33<>0,INTRO!$E$33, \" \")","v":"Angola"},"UIGE","AMBUILA",20699,{"$f":"IF(INTRO!$E$48=\"\",\"\",ROUND($D151*INTRO!$E$48,0))","v":3312},{"$f":"IF(INTRO!$E$49=\"\",\"\",ROUND($D151*INTRO!$E$49,0))","v":5775},{"$f":"IF(INTRO!$E$50=\"\",\"\",ROUND($D151*INTRO!$E$50,0))","v":10908},0,4,2,2,1,{"$f":"IF(INTRO!$E$37=\"Endémique\",IF($H151>0,IF($H151=4,\"Inconnu\",IF($H151=99,\"Interrompu\",$D151)),0),\"Non requis\")","v":0},{"$f":"IF(INTRO!$E$39=\"Endémique\", IF($I151>0, IF($I151=4,\"Inconnu\",IF($I151=99,\"Interrompu\",$D151)), 0),\"Non requis\")","v":"Inconnu"},{"$f":"IF(INTRO!$E$41=\"Endémique\", IF(AND($J151>1,$J151<5), IF($J151=4, \"Inconnu\", E151+F151), 0),\"Non requis\")","v":9087},{"$f":"IF(INTRO!$E$43=\"Endémique\", IF(AND($K151>0,$K151<5), IF($K151=4,\"Inconnu\", IF($K151=1, $F151*0.33, IF($K151=2, $F151*0.5+$G151*0.2, SUM(F151:G151)))), 0),\"Non requis\")","v":5069.1000000000004},0,0,1,0,null,null,null,null,2190,"AMBUILA"]
[{"$f":"IF(INTRO!$E$33<>0,INTRO!$E$33, \" \")","v":"Angola"},"UIGE","BEMBE",37651,{"$f":"IF(INTRO!$E$48=\"\",\"\",ROUND($D152*INTRO!$E$48,0))","v":6024},{"$f":"IF(INTRO!$E$49=\"\",\"\",ROUND($D152*INTRO!$E$49,0))","v":10505},{"$f":"IF(INTRO!$E$50=\"\",\"\",ROUND($D152*INTRO!$E$50,0))","v":19842},0,4,1,2,1,{"$f":"IF(INTRO!$E$37=\"Endémique\",IF($H152>0,IF($H152=4,\"Inconnu\",IF($H152=99,\"Interrompu\",$D152)),0),\"Non requis\")","v":0},{"$f":"IF(INTRO!$E$39=\"Endémique\", IF($I152>0, IF($I152=4,\"Inconnu\",IF($I152=99,\"Interrompu\",$D152)), 0),\"Non requis\")","v":"Inconnu"},{"$f":"IF(INTRO!$E$41=\"Endémique\", IF(AND($J152>1,$J152<5), IF($J152=4, \"Inconnu\", E152+F152), 0),\"Non requis\")","v":0},{"$f":"IF(INTRO!$E$43=\"Endémique\", IF(AND($K152>0,$K152<5), IF($K152=4,\"Inconnu\", IF($K152=1, $F152*0.33, IF($K152=2, $F152*0.5+$G152*0.2, SUM(F152:G152)))), 0),\"Non requis\")","v":9220.9},0,0,0,0,null,null,null,null,2191,"BEMBE"]
[{"$f":"IF(INTRO!$E$33<>0,INTRO!$E$33, \" \")","v":"Angola"},"UIGE","BUENGAS",65406,{"$f":"IF(INTRO!$E$48=\"\",\"\",ROUND($D153*INTRO!$E$48,0))","v":10465},{"$f":"IF(INTRO!$E$49=\"\",\"\",ROUND($D153*INTRO!$E$49,0))","v":18248},{"$f":"IF(INTRO!$E$50=\"\",\"\",ROUND($D153*INTRO!$E$50,0))","v":34469},0,4,3,1,1,{"$f":"IF(INTRO!$E$37=\"Endémique\",IF($H153>0,IF($H153=4,\"Inconnu\",IF($H153=99,\"Interrompu\",$D153)),0),\"Non requis\")","v":0},{"$f":"IF(INTRO!$E$39=\"Endémique\", IF($I153>0, IF($I153=4,\"Inconnu\",IF($I153=99,\"Interrompu\",$D153)), 0),\"Non requis\")","v":"Inconnu"},{"$f":"IF(INTRO!$E$41=\"Endémique\", IF(AND($J153>1,$J153<5), IF($J153=4, \"Inconnu\", E153+F153), 0),\"Non requis\")","v":28713},{"$f":"IF(INTRO!$E$43=\"Endémique\", IF(AND($K153>0,$K153<5), IF($K153=4,\"Inconnu\", IF($K153=1, $F153*0.33, IF($K153=2, $F153*0.5+$G153*0.2, SUM(F153:G153)))), 0),\"Non requis\")","v":6021.84},0,0,2,0,null,null,null,null,2192,"BUENGAS"]
[{"$f":"IF(INTRO!$E$33<>0,INTRO!$E$33, \" \")","v":"Angola"},"UIGE","BUNGO",42447,{"$f":"IF(INTRO!$E$48=\"\",\"\",ROUND($D154*INTRO!$E$48,0))","v":6792},{"$f":"IF(INTRO!$E$49=\"\",\"\",ROUND($D154*INTRO!$E$49,0))","v":11843},{"$f":"IF(INTRO!$E$50=\"\",\"\",ROUND($D154*INTRO!$E$50,0))","v":22370},0,1,3,2,1,{"$f":"IF(INTRO!$E$37=\"Endémique\",IF($H154>0,IF($H154=4,\"Inconnu\",IF($H154=99,\"Interrompu\",$D154)),0),\"Non requis\")","v":0},{"$f":"IF(INTRO!$E$39=\"Endémique\", IF($I154>0, IF($I154=4,\"Inconnu\",IF($I154=99,\"Interrompu\",$D154)), 0),\"Non requis\")","v":42447},{"$f":"IF(INTRO!$E$41=\"Endémique\", IF(AND($J154>1,$J154<5), IF($J154=4, \"Inconnu\", E154+F154), 0),\"Non requis\")","v":18635},{"$f":"IF(INTRO!$E$43=\"Endémique\", IF(AND($K154>0,$K154<5), IF($K154=4,\"Inconnu\", IF($K154=1, $F154*0.33, IF($K154=2, $F154*0.5+$G154*0.2, SUM(F154:G154)))), 0),\"Non requis\")","v":10395.5},0,1,2,0,null,null,null,null,2193,"BUNGO"]
[{"$f":"IF(INTRO!$E$33<>0,INTRO!$E$33, \" \")","v":"Angola"},"UIGE","CANGOLA",61375,{"$f":"IF(INTRO!$E$48=\"\",\"\",ROUND($D155*INTRO!$E$48,0))","v":9820},{"$f":"IF(INTRO!$E$49=\"\",\"\",ROUND($D155*INTRO!$E$49,0))","v":17124},{"$f":"IF(INTRO!$E$50=\"\",\"\",ROUND($D155*INTRO!$E$50,0))","v":32345},0,4,3,1,1,{"$f":"IF(INTRO!$E$37=\"Endémique\",IF($H155>0,IF($H155=4,\"Inconnu\",IF($H155=99,\"Interrompu\",$D155)),0),\"Non requis\")","v":0},{"$f":"IF(INTRO!$E$39=\"Endémique\", IF($I155>0, IF($I155=4,\"Inconnu\",IF($I155=99,\"Interrompu\",$D155)), 0),\"Non requis\")","v":"Inconnu"},{"$f":"IF(INTRO!$E$41=\"Endémique\", IF(AND($J155>1,$J155<5), IF($J155=4, \"Inconnu\", E155+F155), 0),\"Non requis\")","v":26944},{"$f":"IF(INTRO!$E$43=\"Endémique\", IF(AND($K155>0,$K155<5), IF($K155=4,\"Inconnu\", IF($K155=1, $F155*0.33, IF($K155=2, $F155*0.5+$G155*0.2, SUM(F155:G155)))), 0),\"Non requis\")","v":5650.92},0,0,2,0,null,null,null,null,2195,"CANGOLA"]
[{"$f":"IF(INTRO!$E$33<>0,INTRO!$E$33, \" \")","v":"Angola"},"UIGE","DAMBA",75944,{"$f":"IF(INTRO!$E$48=\"\",\"\",ROUND($D156*INTRO!$E$48,0))","v":12151},{"$f":"IF(INTRO!$E$49=\"\",\"\",ROUND($D156*INTRO!$E$49,0))","v":21188},{"$f":"IF(INTRO!$E$50=\"\",\"\",ROUND($D156*INTRO!$E$50,0))","v":40022},0,4,3,1,1,{"$f":"IF(INTRO!$E$37=\"Endémique\",IF($H156>0,IF($H156=4,\"Inconnu\",IF($H156=99,\"Interrompu\",$D156)),0),\"Non requis\")","v":0},{"$f":"IF(INTRO!$E$39=\"Endémique\", IF($I156>0, IF($I156=4,\"Inconnu\",IF($I156=99,\"Interrompu\",$D156)), 0),\"Non requis\")","v":"Inconnu"},{"$f":"IF(INTRO!$E$41=\"Endémique\", IF(AND($J156>1,$J156<5), IF($J156=4, \"Inconnu\", E156+F156), 0),\"Non requis\")","v":33339},{"$f":"IF(INTRO!$E$43=\"Endémique\", IF(AND($K156>0,$K156<5), IF($K156=4,\"Inconnu\", IF($K156=1, $F156*0.33, IF($K156=2, $F156*0.5+$G156*0.2, SUM(F156:G156)))), 0),\"Non requis\")","v":6992.04},0,0,2,0,null,null,null,null,2194,"DAMBA"]
[{"$f":"IF(INTRO!$E$33<>0,INTRO!$E$33, \" \")","v":"Angola"},"UIGE","MAQUELA DO ZOMBO",145497,{"$f":"IF(INTRO!$E$48=\"\",\"\",ROUND($D157*INTRO!$E$48,0))","v":23280},{"$f":"IF(INTRO!$E$49=\"\",\"\",ROUND($D157*INTRO!$E$49,0))","v":40594},{"$f":"IF(INTRO!$E$50=\"\",\"\",ROUND($D157*INTRO!$E$50,0))","v":76677},0,4,3,1,1,{"$f":"IF(INTRO!$E$37=\"Endémique\",IF($H157>0,IF($H157=4,\"Inconnu\",IF($H157=99,\"Interrompu\",$D157)),0),\"Non requis\")","v":0},{"$f":"IF(INTRO!$E$39=\"Endémique\", IF($I157>0, IF($I157=4,\"Inconnu\",IF($I157=99,\"Interrompu\",$D157)), 0),\"Non requis\")","v":"Inconnu"},{"$f":"IF(INTRO!$E$41=\"Endémique\", IF(AND($J157>1,$J157<5), IF($J157=4, \"Inconnu\", E157+F157), 0),\"Non requis\")","v":63874},{"$f":"IF(INTRO!$E$43=\"Endémique\", IF(AND($K157>0,$K157<5), IF($K157=4,\"Inconnu\", IF($K157=1, $F157*0.33, IF($K157=2, $F157*0.5+$G157*0.2, SUM(F157:G157)))), 0),\"Non requis\")","v":13396.02},0,0,2,0,null,null,null,null,2198,"MAQUELA DO ZOMBO"]
[{"$f":"IF(INTRO!$E$33<>0,INTRO!$E$33, \" \")","v":"Angola"},"UIGE","MILUNGA",57806,{"$f":"IF(INTRO!$E$48=\"\",\"\",ROUND($D158*INTRO!$E$48,0))","v":9249},{"$f":"IF(INTRO!$E$49=\"\",\"\",ROUND($D158*INTRO!$E$49,0))","v":16128},{"$f":"IF(INTRO!$E$50=\"\",\"\",ROUND($D158*INTRO!$E$50,0))","v":30464},0,4,3,1,1,{"$f":"IF(INTRO!$E$37=\"Endémique\",IF($H158>0,IF($H158=4,\"Inconnu\",IF($H158=99,\"Interrompu\",$D158)),0),\"Non requis\")","v":0},{"$f":"IF(INTRO!$E$39=\"Endémique\", IF($I158>0, IF($I158=4,\"Inconnu\",IF($I158=99,\"Interrompu\",$D158)), 0),\"Non requis\")","v":"Inconnu"},{"$f":"IF(INTRO!$E$41=\"Endémique\", IF(AND($J158>1,$J158<5), IF($J158=4, \"Inconnu\", E158+F158), 0),\"Non requis\")","v":25377},{"$f":"IF(INTRO!$E$43=\"Endémique\", IF(AND($K158>0,$K158<5), IF($K158=4,\"Inconnu\", IF($K158=1, $F158*0.33, IF($K158=2, $F158*0.5+$G158*0.2, SUM(F158:G158)))), 0),\"Non requis\")","v":5322.2400000000007},0,0,2,0,null,null,null,null,2199,"MILUNGA"]
[{"$f":"IF(INTRO!$E$33<>0,INTRO!$E$33, \" \")","v":"Angola"},"UIGE","MUCABA",50240,{"$f":"IF(INTRO!$E$48=\"\",\"\",ROUND($D159*INTRO!$E$48,0))","v":8038},{"$f":"IF(INTRO!$E$49=\"\",\"\",ROUND($D159*INTRO!$E$49,0))","v":14017},{"$f":"IF(INTRO!$E$50=\"\",\"\",ROUND($D159*INTRO!$E$50,0))","v":26476},0,4,3,1,1,{"$f":"IF(INTRO!$E$37=\"Endémique\",IF($H159>0,IF($H159=4,\"Inconnu\",IF($H159=99,\"Interrompu\",$D159)),0),\"Non requis\")","v":0},{"$f":"IF(INTRO!$E$39=\"Endémique\", IF($I159>0, IF($I159=4,\"Inconnu\",IF($I159=99,\"Interrompu\",$D159)), 0),\"Non requis\")","v":"Inconnu"},{"$f":"IF(INTRO!$E$41=\"Endémique\", IF(AND($J159>1,$J159<5), IF($J159=4, \"Inconnu\", E159+F159), 0),\"Non requis\")","v":22055},{"$f":"IF(INTRO!$E$43=\"Endémique\", IF(AND($K159>0,$K159<5), IF($K159=4,\"Inconnu\", IF($K159=1, $F159*0.33, IF($K159=2, $F159*0.5+$G159*0.2, SUM(F159:G159)))), 0),\"Non requis\")","v":4625.6100000000006},0,0,2,0,null,null,null,null,2200,"MUCABA"]
[{"$f":"IF(INTRO!$E$33<>0,INTRO!$E$33, \" \")","v":"Angola"},"UIGE","NEGAGE",157160,{"$f":"IF(INTRO!$E$48=\"\",\"\",ROUND($D160*INTRO!$E$48,0))","v":25146},{"$f":"IF(INTRO!$E$49=\"\",\"\",ROUND($D160*INTRO!$E$49,0))","v":43848},{"$f":"IF(INTRO!$E$50=\"\",\"\",ROUND($D160*INTRO!$E$50,0))","v":82823},0,1,3,2,1,{"$f":"IF(INTRO!$E$37=\"Endémique\",IF($H160>0,IF($H160=4,\"Inconnu\",IF($H160=99,\"Interrompu\",$D160)),0),\"Non requis\")","v":0},{"$f":"IF(INTRO!$E$39=\"Endémique\", IF($I160>0, IF($I160=4,\"Inconnu\",IF($I160=99,\"Interrompu\",$D160)), 0),\"Non requis\")","v":157160},{"$f":"IF(INTRO!$E$41=\"Endémique\", IF(AND($J160>1,$J160<5), IF($J160=4, \"Inconnu\", E160+F160), 0),\"Non requis\")","v":68994},{"$f":"IF(INTRO!$E$43=\"Endémique\", IF(AND($K160>0,$K160<5), IF($K160=4,\"Inconnu\", IF($K160=1, $F160*0.33, IF($K160=2, $F160*0.5+$G160*0.2, SUM(F160:G160)))), 0),\"Non requis\")","v":38488.600000000006},0,1,2,0,null,null,null,null,2201,"NEGAGE"]
[{"$f":"IF(INTRO!$E$33<>0,INTRO!$E$33, \" \")","v":"Angola"},"UIGE","PURI",43312,{"$f":"IF(INTRO!$E$48=\"\",\"\",ROUND($D161*INTRO!$E$48,0))","v":6930},{"$f":"IF(INTRO!$E$49=\"\",\"\",ROUND($D161*INTRO!$E$49,0))","v":12084},{"$f":"IF(INTRO!$E$50=\"\",\"\",ROUND($D161*INTRO!$E$50,0))","v":22825},0,1,3,1,1,{"$f":"IF(INTRO!$E$37=\"Endémique\",IF($H161>0,IF($H161=4,\"Inconnu\",IF($H161=99,\"Interrompu\",$D161)),0),\"Non requis\")","v":0},{"$f":"IF(INTRO!$E$39=\"Endémique\", IF($I161>0, IF($I161=4,\"Inconnu\",IF($I161=99,\"Interrompu\",$D161)), 0),\"Non requis\")","v":43312},{"$f":"IF(INTRO!$E$41=\"Endémique\", IF(AND($J161>1,$J161<5), IF($J161=4, \"Inconnu\", E161+F161), 0),\"Non requis\")","v":19014},{"$f":"IF(INTRO!$E$43=\"Endémique\", IF(AND($K161>0,$K161<5), IF($K161=4,\"Inconnu\", IF($K161=1, $F161*0.33, IF($K161=2, $F161*0.5+$G161*0.2, SUM(F161:G161)))), 0),\"Non requis\")","v":3987.7200000000003},0,1,2,0,null,null,null,null,2202,"PURI"]
[{"$f":"IF(INTRO!$E$33<>0,INTRO!$E$33, \" \")","v":"Angola"},"UIGE","QUIMBELE",155945,{"$f":"IF(INTRO!$E$48=\"\",\"\",ROUND($D162*INTRO!$E$48,0))","v":24951},{"$f":"IF(INTRO!$E$49=\"\",\"\",ROUND($D162*INTRO!$E$49,0))","v":43509},{"$f":"IF(INTRO!$E$50=\"\",\"\",ROUND($D162*INTRO!$E$50,0))","v":82183},0,4,3,1,1,{"$f":"IF(INTRO!$E$37=\"Endémique\",IF($H162>0,IF($H162=4,\"Inconnu\",IF($H162=99,\"Interrompu\",$D162)),0),\"Non requis\")","v":0},{"$f":"IF(INTRO!$E$39=\"Endémique\", IF($I162>0, IF($I162=4,\"Inconnu\",IF($I162=99,\"Interrompu\",$D162)), 0),\"Non requis\")","v":"Inconnu"},{"$f":"IF(INTRO!$E$41=\"Endémique\", IF(AND($J162>1,$J162<5), IF($J162=4, \"Inconnu\", E162+F162), 0),\"Non requis\")","v":68460},{"$f":"IF(INTRO!$E$43=\"Endémique\", IF(AND($K162>0,$K162<5), IF($K162=4,\"Inconnu\", IF($K162=1, $F162*0.33, IF($K162=2, $F162*0.5+$G162*0.2, SUM(F162:G162)))), 0),\"Non requis\")","v":14357.970000000001},0,0,2,0,null,null,null,null,2196,"QUIMBELE"]
[{"$f":"IF(INTRO!$E$33<>0,INTRO!$E$33, \" \")","v":"Angola"},"UIGE","QUITEXE",39184,{"$f":"IF(INTRO!$E$48=\"\",\"\",ROUND($D163*INTRO!$E$48,0))","v":6269},{"$f":"IF(INTRO!$E$49=\"\",\"\",ROUND($D163*INTRO!$E$49,0))","v":10932},{"$f":"IF(INTRO!$E$50=\"\",\"\",ROUND($D163*INTRO!$E$50,0))","v":20650},0,1,3,1,1,{"$f":"IF(INTRO!$E$37=\"Endémique\",IF($H163>0,IF($H163=4,\"Inconnu\",IF($H163=99,\"Interrompu\",$D163)),0),\"Non requis\")","v":0},{"$f":"IF(INTRO!$E$39=\"Endémique\", IF($I163>0, IF($I163=4,\"Inconnu\",IF($I163=99,\"Interrompu\",$D163)), 0),\"Non requis\")","v":39184},{"$f":"IF(INTRO!$E$41=\"Endémique\", IF(AND($J163>1,$J163<5), IF($J163=4, \"Inconnu\", E163+F163), 0),\"Non requis\")","v":17201},{"$f":"IF(INTRO!$E$43=\"Endémique\", IF(AND($K163>0,$K163<5), IF($K163=4,\"Inconnu\", IF($K163=1, $F163*0.33, IF($K163=2, $F163*0.5+$G163*0.2, SUM(F163:G163)))), 0),\"Non requis\")","v":3607.56},0,1,2,0,null,null,null,null,2197,"QUITEXE"]
[{"$f":"IF(INTRO!$E$33<>0,INTRO!$E$33, \" \")","v":"Angola"},"UIGE","SANZA POMBO",78136,{"$f":"IF(INTRO!$E$48=\"\",\"\",ROUND($D164*INTRO!$E$48,0))","v":12502},{"$f":"IF(INTRO!$E$49=\"\",\"\",ROUND($D164*INTRO!$E$49,0))","v":21800},{"$f":"IF(INTRO!$E$50=\"\",\"\",ROUND($D164*INTRO!$E$50,0))","v":41178},0,4,2,1,1,{"$f":"IF(INTRO!$E$37=\"Endémique\",IF($H164>0,IF($H164=4,\"Inconnu\",IF($H164=99,\"Interrompu\",$D164)),0),\"Non requis\")","v":0},{"$f":"IF(INTRO!$E$39=\"Endémique\", IF($I164>0, IF($I164=4,\"Inconnu\",IF($I164=99,\"Interrompu\",$D164)), 0),\"Non requis\")","v":"Inconnu"},{"$f":"IF(INTRO!$E$41=\"Endémique\", IF(AND($J164>1,$J164<5), IF($J164=4, \"Inconnu\", E164+F164), 0),\"Non requis\")","v":34302},{"$f":"IF(INTRO!$E$43=\"Endémique\", IF(AND($K164>0,$K164<5), IF($K164=4,\"Inconnu\", IF($K164=1, $F164*0.33, IF($K164=2, $F164*0.5+$G164*0.2, SUM(F164:G164)))), 0),\"Non requis\")","v":7194},0,0,1,0,null,null,null,null,2203,"SANZA POMBO"]
[{"$f":"IF(INTRO!$E$33<>0,INTRO!$E$33, \" \")","v":"Angola"},"UIGE","SONGO",70471,{"$f":"IF(INTRO!$E$48=\"\",\"\",ROUND($D165*INTRO!$E$48,0))","v":11275},{"$f":"IF(INTRO!$E$49=\"\",\"\",ROUND($D165*INTRO!$E$49,0))","v":19661},{"$f":"IF(INTRO!$E$50=\"\",\"\",ROUND($D165*INTRO!$E$50,0))","v":37138},1,1,3,3,1,{"$f":"IF(INTRO!$E$37=\"Endémique\",IF($H165>0,IF($H165=4,\"Inconnu\",IF($H165=99,\"Interrompu\",$D165)),0),\"Non requis\")","v":70471},{"$f":"IF(INTRO!$E$39=\"Endémique\", IF($I165>0, IF($I165=4,\"Inconnu\",IF($I165=99,\"Interrompu\",$D165)), 0),\"Non requis\")","v":70471},{"$f":"IF(INTRO!$E$41=\"Endémique\", IF(AND($J165>1,$J165<5), IF($J165=4, \"Inconnu\", E165+F165), 0),\"Non requis\")","v":30936},{"$f":"IF(INTRO!$E$43=\"Endémique\", IF(AND($K165>0,$K165<5), IF($K165=4,\"Inconnu\", IF($K165=1, $F165*0.33, IF($K165=2, $F165*0.5+$G165*0.2, SUM(F165:G165)))), 0),\"Non requis\")","v":56799},1,1,2,1,null,null,null,null,2204,"SONGO"]
[{"$f":"IF(INTRO!$E$33<>0,INTRO!$E$33, \" \")","v":"Angola"},"UIGE","UIGE",593176,{"$f":"IF(INTRO!$E$48=\"\",\"\",ROUND($D166*INTRO!$E$48,0))","v":94908},{"$f":"IF(INTRO!$E$49=\"\",\"\",ROUND($D166*INTRO!$E$49,0))","v":165496},{"$f":"IF(INTRO!$E$50=\"\",\"\",ROUND($D166*INTRO!$E$50,0))","v":312604},1,4,2,2,1,{"$f":"IF(INTRO!$E$37=\"Endémique\",IF($H166>0,IF($H166=4,\"Inconnu\",IF($H166=99,\"Interrompu\",$D166)),0),\"Non requis\")","v":593176},{"$f":"IF(INTRO!$E$39=\"Endémique\", IF($I166>0, IF($I166=4,\"Inconnu\",IF($I166=99,\"Interrompu\",$D166)), 0),\"Non requis\")","v":"Inconnu"},{"$f":"IF(INTRO!$E$41=\"Endémique\", IF(AND($J166>1,$J166<5), IF($J166=4, \"Inconnu\", E166+F166), 0),\"Non requis\")","v":260404},{"$f":"IF(INTRO!$E$43=\"Endémique\", IF(AND($K166>0,$K166<5), IF($K166=4,\"Inconnu\", IF($K166=1, $F166*0.33, IF($K166=2, $F166*0.5+$G166*0.2, SUM(F166:G166)))), 0),\"Non requis\")","v":145268.79999999999},1,0,1,0,null,null,null,null,2205,"UIGE"]
[{"$f":"IF(INTRO!$E$33<>0,INTRO!$E$33, \" \")","v":"Angola"},"ZAIRE","CUIMBA",79053,{"$f":"IF(INTRO!$E$48=\"\",\"\",ROUND($D167*INTRO!$E$48,0))","v":12648},{"$f":"IF(INTRO!$E$49=\"\",\"\",ROUND($D167*INTRO!$E$49,0))","v":22056},{"$f":"IF(INTRO!$E$50=\"\",\"\",ROUND($D167*INTRO!$E$50,0))","v":41661},0,4,2,2,1,{"$f":"IF(INTRO!$E$37=\"Endémique\",IF($H167>0,IF($H167=4,\"Inconnu\",IF($H167=99,\"Interrompu\",$D167)),0),\"Non requis\")","v":0},{"$f":"IF(INTRO!$E$39=\"Endémique\", IF($I167>0, IF($I167=4,\"Inconnu\",IF($I167=99,\"Interrompu\",$D167)), 0),\"Non requis\")","v":"Inconnu"},{"$f":"IF(INTRO!$E$41=\"Endémique\", IF(AND($J167>1,$J167<5), IF($J167=4, \"Inconnu\", E167+F167), 0),\"Non requis\")","v":34704},{"$f":"IF(INTRO!$E$43=\"Endémique\", IF(AND($K167>0,$K167<5), IF($K167=4,\"Inconnu\", IF($K167=1, $F167*0.33, IF($K167=2, $F167*0.5+$G167*0.2, SUM(F167:G167)))), 0),\"Non requis\")","v":19360.2},0,0,1,0,null,null,null,null,2206,"CUIMBA"]
[{"$f":"IF(INTRO!$E$33<>0,INTRO!$E$33, \" \")","v":"Angola"},"ZAIRE","MBANZA CONGO",206024,{"$f":"IF(INTRO!$E$48=\"\",\"\",ROUND($D168*INTRO!$E$48,0))","v":32964},{"$f":"IF(INTRO!$E$49=\"\",\"\",ROUND($D168*INTRO!$E$49,0))","v":57481},{"$f":"IF(INTRO!$E$50=\"\",\"\",ROUND($D168*INTRO!$E$50,0))","v":108575},0,4,1,2,1,{"$f":"IF(INTRO!$E$37=\"Endémique\",IF($H168>0,IF($H168=4,\"Inconnu\",IF($H168=99,\"Interrompu\",$D168)),0),\"Non requis\")","v":0},{"$f":"IF(INTRO!$E$39=\"Endémique\", IF($I168>0, IF($I168=4,\"Inconnu\",IF($I168=99,\"Interrompu\",$D168)), 0),\"Non requis\")","v":"Inconnu"},{"$f":"IF(INTRO!$E$41=\"Endémique\", IF(AND($J168>1,$J168<5), IF($J168=4, \"Inconnu\", E168+F168), 0),\"Non requis\")","v":0},{"$f":"IF(INTRO!$E$43=\"Endémique\", IF(AND($K168>0,$K168<5), IF($K168=4,\"Inconnu\", IF($K168=1, $F168*0.33, IF($K168=2, $F168*0.5+$G168*0.2, SUM(F168:G168)))), 0),\"Non requis\")","v":50455.5},0,0,0,0,null,null,null,null,2207,"MBANZA CONGO"]
[{"$f":"IF(INTRO!$E$33<>0,INTRO!$E$33, \" \")","v":"Angola"},"ZAIRE","NOQUI",27282,{"$f":"IF(INTRO!$E$48=\"\",\"\",ROUND($D169*INTRO!$E$48,0))","v":4365},{"$f":"IF(INTRO!$E$49=\"\",\"\",ROUND($D169*INTRO!$E$49,0))","v":7612},{"$f":"IF(INTRO!$E$50=\"\",\"\",ROUND($D169*INTRO!$E$50,0))","v":14378},0,4,2,2,1,{"$f":"IF(INTRO!$E$37=\"Endémique\",IF($H169>0,IF($H169=4,\"Inconnu\",IF($H169=99,\"Interrompu\",$D169)),0),\"Non requis\")","v":0},{"$f":"IF(INTRO!$E$39=\"Endémique\", IF($I169>0, IF($I169=4,\"Inconnu\",IF($I169=99,\"Interrompu\",$D169)), 0),\"Non requis\")","v":"Inconnu"},{"$f":"IF(INTRO!$E$41=\"Endémique\", IF(AND($J169>1,$J169<5), IF($J169=4, \"Inconnu\", E169+F169), 0),\"Non requis\")","v":11977},{"$f":"IF(INTRO!$E$43=\"Endémique\", IF(AND($K169>0,$K169<5), IF($K169=4,\"Inconnu\", IF($K169=1, $F169*0.33, IF($K169=2, $F169*0.5+$G169*0.2, SUM(F169:G169)))), 0),\"Non requis\")","v":6681.6},0,0,1,0,null,null,null,null,2208,"NOQUI"]
[{"$f":"IF(INTRO!$E$33<>0,INTRO!$E$33, \" \")","v":"Angola"},"ZAIRE","NZETO",54638,{"$f":"IF(INTRO!$E$48=\"\",\"\",ROUND($D170*INTRO!$E$48,0))","v":8742},{"$f":"IF(INTRO!$E$49=\"\",\"\",ROUND($D170*INTRO!$E$49,0))","v":15244},{"$f":"IF(INTRO!$E$50=\"\",\"\",ROUND($D170*INTRO!$E$50,0))","v":28794},0,4,1,2,1,{"$f":"IF(INTRO!$E$37=\"Endémique\",IF($H170>0,IF($H170=4,\"Inconnu\",IF($H170=99,\"Interrompu\",$D170)),0),\"Non requis\")","v":0},{"$f":"IF(INTRO!$E$39=\"Endémique\", IF($I170>0, IF($I170=4,\"Inconnu\",IF($I170=99,\"Interrompu\",$D170)), 0),\"Non requis\")","v":"Inconnu"},{"$f":"IF(INTRO!$E$41=\"Endémique\", IF(AND($J170>1,$J170<5), IF($J170=4, \"Inconnu\", E170+F170), 0),\"Non requis\")","v":0},{"$f":"IF(INTRO!$E$43=\"Endémique\", IF(AND($K170>0,$K170<5), IF($K170=4,\"Inconnu\", IF($K170=1, $F170*0.33, IF($K170=2, $F170*0.5+$G170*0.2, SUM(F170:G170)))), 0),\"Non requis\")","v":13380.8},0,0,0,0,null,null,null,null,2209,"NZETO"]
[{"$f":"IF(INTRO!$E$33<>0,INTRO!$E$33, \" \")","v":"Angola"},"ZAIRE","SOYO",259545,{"$f":"IF(INTRO!$E$48=\"\",\"\",ROUND($D171*INTRO!$E$48,0))","v":41527},{"$f":"IF(INTRO!$E$49=\"\",\"\",ROUND($D171*INTRO!$E$49,0))","v":72413},{"$f":"IF(INTRO!$E$50=\"\",\"\",ROUND($D171*INTRO!$E$50,0))","v":136780},0,4,2,1,1,{"$f":"IF(INTRO!$E$37=\"Endémique\",IF($H171>0,IF($H171=4,\"Inconnu\",IF($H171=99,\"Interrompu\",$D171)),0),\"Non requis\")","v":0},{"$f":"IF(INTRO!$E$39=\"Endémique\", IF($I171>0, IF($I171=4,\"Inconnu\",IF($I171=99,\"Interrompu\",$D171)), 0),\"Non requis\")","v":"Inconnu"},{"$f":"IF(INTRO!$E$41=\"Endémique\", IF(AND($J171>1,$J171<5), IF($J171=4, \"Inconnu\", E171+F171), 0),\"Non requis\")","v":113940},{"$f":"IF(INTRO!$E$43=\"Endémique\", IF(AND($K171>0,$K171<5), IF($K171=4,\"Inconnu\", IF($K171=1, $F171*0.33, IF($K171=2, $F171*0.5+$G171*0.2, SUM(F171:G171)))), 0),\"Non requis\")","v":23896.29},0,0,1,0,null,null,null,null,2210,"SOYO"]
[{"$f":"IF(INTRO!$E$33<>0,INTRO!$E$33, \" \")","v":"Angola"},"ZAIRE","TOMBOCO",52583,{"$f":"IF(INTRO!$E$48=\"\",\"\",ROUND($D172*INTRO!$E$48,0))","v":8413},{"$f":"IF(INTRO!$E$49=\"\",\"\",ROUND($D172*INTRO!$E$49,0))","v":14671},{"$f":"IF(INTRO!$E$50=\"\",\"\",ROUND($D172*INTRO!$E$50,0))","v":27711},0,4,2,1,1,{"$f":"IF(INTRO!$E$37=\"Endémique\",IF($H172>0,IF($H172=4,\"Inconnu\",IF($H172=99,\"Interrompu\",$D172)),0),\"Non requis\")","v":0},{"$f":"IF(INTRO!$E$39=\"Endémique\", IF($I172>0, IF($I172=4,\"Inconnu\",IF($I172=99,\"Interrompu\",$D172)), 0),\"Non requis\")","v":"Inconnu"},{"$f":"IF(INTRO!$E$41=\"Endémique\", IF(AND($J172>1,$J172<5), IF($J172=4, \"Inconnu\", E172+F172), 0),\"Non requis\")","v":23084},{"$f":"IF(INTRO!$E$43=\"Endémique\", IF(AND($K172>0,$K172<5), IF($K172=4,\"Inconnu\", IF($K172=1, $F172*0.33, IF($K172=2, $F172*0.5+$G172*0.2, SUM(F172:G172)))), 0),\"Non requis\")","v":4841.43},0,0,1,0,null,null,null,null,2211,"TOMBOCO"]

{"sheet":"ALB_MBD","index":2,"n_rows":172,"n_cols":29,"rows_kept":172,"cut":false,"hidden":false,"merged":[[3,0,3,2],[3,6,3,7],[5,0,5,2],[5,6,5,7],[5,3,5,5],[6,28,7,28],[6,12,6,15],[5,12,5,19],[6,21,7,21],[6,24,7,24],[5,26,5,28],[6,27,7,27],[6,6,7,6],[6,7,7,7],[6,16,6,19],[6,9,7,9],[6,10,7,10],[5,8,7,8],[6,26,7,26],[6,23,7,23],[6,0,7,0],[6,1,7,1],[6,2,7,2],[6,3,7,3],[5,20,5,25],[6,25,7,25],[6,22,7,22],[5,9,5,10],[5,11,7,11],[6,20,7,20],[6,4,7,4],[6,5,7,5]]}
["Albendazole (ALB) et Mebendazole (MBD)"]
["Structure administrative, population ciblée par groupe d'âge, plan de traitement et information sur les comprimés"]
[]
["TOTAL",null,null,{"$f":"SUM(D$9:D$1000)","v":4714188},{"$f":"SUM(E$9:E$1000)","v":8220371},{"$f":"SUM(F$9:F$1000)","v":12934559},null,null,{"$f":"SUM(I$9:I$1000)","v":534899},{"$f":"SUM(J$9:J$1000)","v":0},null,null,{"$f":"SUM(M$9:M$1000)","v":4953982},{"$f":"SUM(N$9:N$1000)","v":8453351},{"$f":"SUM(O$9:O$1000)","v":0},{"$f":"SUM(P$9:P$1000)","v":13407333},{"$f":"SUM(Q$9:Q$1000)","v":0},{"$f":"SUM(R$9:R$1000)","v":0},0,0,0,534899,2675,8610400,8185147,42347,0,0,0]
[]
["Structure administrative du pays",null,null,"Population nécessitant un traitement avec ALB/MBD",null,null,"Plan de traitement",null,"Population couverte par le PEFL avec ALB","Endémique à la Loase",null,"Médicament choisi pour le traitement des STH","Population cible",null,null,null,null,null,null,null,"Albendazole (ALB)",null,null,null,null,null,"Mebendazole (MBD)"]
["Pays","Région/Département","District","EAPréS","EAS","Total","FL","STH",null,"Population","Tours planifiés",null,"STH (ALB)",null,null,null,"STH (MBD)",null,null,null,"Reste en stock (FL)","Comprimés devant être fournis (FL)","Flacons (400mg)\n200 comprimés (FL)","Reste en stock (STH)","Comprimés devant être fournis pour EAS (STH)","Flacons (400mg)\n200 comprimés (STH)","Reste en stock","Comprimés devant être fournis pour EAS","Flacons (500mg)\n150 comprimés"]
[null,null,null,null,null,null,null,null,null,null,null,null,"EAPréS","EAS","Autres","Total","EAPréS","EAS","Autres","Total"]
[{"$f":"IF(AND(INTRO!$E$37=\"Non endémique\",INTRO!$E$41=\"Non endémique\"),\" \",IF(COUNTRY_INFO!A9=0,\" \",COUNTRY_INFO!A9))","v":"Angola"},{"$f":"IF(AND(INTRO!$E$37=\"Non endémique\",INTRO!$E$41=\"Non endémique\"),\" \",IF(COUNTRY_INFO!B9=0,\" \",COUNTRY_INFO!B9))","v":"BENGO"},{"$f":"IF(AND(INTRO!$E$37=\"Non endémique\",INTRO!$E$41=\"Non endémique\"),\" \",IF(COUNTRY_INFO!C9=0,\" \",COUNTRY_INFO!C9))","v":"AMBRIZ"},{"$f":"IF(AND(INTRO!$E$37=\"Non endémique\",INTRO!$E$41=\"Non endémique\"),0,IF(AND(OR(COUNTRY_INFO!$H9=0,COUNTRY_INFO!$H9=4,COUNTRY_INFO!$H9=99),OR(COUNTRY_INFO!$J9=0,COUNTRY_INFO!$J9=4)),0,COUNTRY_INFO!$E9))","v":4152},{"$f":"IF(AND(INTRO!$E$37=\"Non endémique\",INTRO!$E$41=\"Non endémique\"),0,IF(AND(OR(COUNTRY_INFO!$H9=0,COUNTRY_INFO!$H9=4,COUNTRY_INFO!$H9=99),OR(COUNTRY_INFO!$J9=0,COUNTRY_INFO!$J9=4)),0,COUNTRY_INFO!$F9))","v":7239},{"$f":"SUM(D9:E9)","v":11391},{"$f":"IF(AND(INTRO!$E$37=\"Non endémique\",INTRO!$E$41=\"Non endémique\"),0,COUNTRY_INFO!Q9)","v":0},{"$f":"IF(AND(INTRO!$E$37=\"Non endémique\",INTRO!$E$41=\"Non endémique\"),0,COUNTRY_INFO!S9)","v":1},{"$f":"IF($G9=1,IVM!$G9,0)","v":0},{"$f":"IF($G9=0, \" \", IF(COUNTRY_INFO!$H9=1, IF(COUNTRY_INFO!$L9=1, 0,\" \"),\" \"))","v":" "},null,"ALB",{"$f":"IF($L9=\"ALB\", IF(INTRO!$E$39=\"Non endémique\",IF($H9<>0,$D9*($H9-$G9),0),$D9*$H9), 0)","v":4152},{"$f":"IF($L9=\"ALB\", IF($H9<>0, IF($I9=0, $E9*$H9, $E9*($H9-$G9)),0), 0)","v":7239},null,{"$f":"SUM(M9:O9)","v":11391},{"$f":"IF($L9=\"MBD\", IF(INTRO!$E$39=\"Non endémique\",IF($H9<>0,$D9*($H9-$G9),0),$D9*$H9),0)","v":0},{"$f":"IF($L9=\"MBD\", IF($H9<>0,IF($I9=0, $E9*$H9, $E9*($H9-$G9)),0), 0 )","v":0},null,{"$f":"SUM(Q9:S9)","v":0},null,{"$f":"IF($J9<>\" \", IF(($I9+$J9*$K9)>$U9, ($I9+$J9*$K9)-$U9,0), IF($I9>$U9, $I9-$U9, 0))","v":0},{"$f":"IF($J9<>\" \", ROUNDUP(($I9+$J9*$K9)/200,0), ROUNDUP($I9/200,0))","v":0},null,{"$f":"IF($N9>$X9,$N9-$X9,0)","v":7239},{"$f":"ROUNDUP($N9/200,0)","v":37},null,{"$f":"IF($R9>$AA9,$R9-$AA9,0)","v":0},{"$f":"ROUNDUP($R9/150,0)","v":0}]
[{"$f":"IF(AND(INTRO!$E$37=\"Non endémique\",INTRO!$E$41=\"Non endémique\"),\" \",IF(COUNTRY_INFO!A10=0,\" \",COUNTRY_INFO!A10))","v":"Angola"},{"$f":"IF(AND(INTRO!$E$37=\"Non endémique\",INTRO!$E$41=\"Non endémique\"),\" \",IF(COUNTRY_INFO!B10=0,\" \",COUNTRY_INFO!B10))","v":"BENGO"},{"$f":"IF(AND(INTRO!$E$37=\"Non endémique\",INTRO!$E$41=\"Non endémique\"),\" \",IF(COUNTRY_INFO!C10=0,\" \",COUNTRY_INFO!C10))","v":"BULA ATUMBA"},{"$f":"IF(AND(INTRO!$E$37=\"Non endémique\",INTRO!$E$41=\"Non endémique\"),0,IF(AND(OR(COUNTRY_INFO!$H10=0,COUNTRY_INFO!$H10=4,COUNTRY_INFO!$H10=99),OR(COUNTRY_INFO!$J10=0,COUNTRY_INFO!$J10=4)),0,COUNTRY_INFO!$E10))","v":2459},{"$f":"IF(AND(INTRO!$E$37=\"Non endémique\",INTRO!$E$41=\"Non endémique\"),0,IF(AND(OR(COUNTRY_INFO!$H10=0,COUNTRY_INFO!$H10=4,COUNTRY_INFO!$H10=99),OR(COUNTRY_INFO!$J10=0,COUNTRY_INFO!$J10=4)),0,COUNTRY_INFO!$F10))","v":4289},6748,{"$f":"IF(AND(INTRO!$E$37=\"Non endémique\",INTRO!$E$41=\"Non endémique\"),0,COUNTRY_INFO!Q10)","v":0},{"$f":"IF(AND(INTRO!$E$37=\"Non endémique\",INTRO!$E$41=\"Non endémique\"),0,COUNTRY_INFO!S10)","v":1},{"$f":"IF($G10=1,IVM!$G10,0)","v":0},{"$f":"IF($G10=0, \" \", IF(COUNTRY_INFO!$H10=1, IF(COUNTRY_INFO!$L10=1, 0,\" \"),\" \"))","v":" "},null,"ALB",{"$f":"IF($L10=\"ALB\", IF(INTRO!$E$39=\"Non endémique\",IF($H10<>0,$D10*($H10-$G10),0),$D10*$H10), 0)","v":2459},4289,null,6748,{"$f":"IF($L10=\"MBD\", IF(INTRO!$E$39=\"Non endémique\",IF($H10<>0,$D10*($H10-$G10),0),$D10*$H10),0)","v":0},0,null,0,null,0,0,null,4289,22,null,0,0]
[{"$f":"IF(AND(INTRO!$E$37=\"Non endémique\",INTRO!$E$41=\"Non endémique\"),\" \",IF(COUNTRY_INFO!A11=0,\" \",COUNTRY_INFO!A11))","v":"Angola"},{"$f":"IF(AND(INTRO!$E$37=\"Non endémique\",INTRO!$E$41=\"Non endémique\"),\" \",IF(COUNTRY_INFO!B11=0,\" \",COUNTRY_INFO!B11))","v":"BENGO"},{"$f":"IF(AND(INTRO!$E$37=\"Non endémique\",INTRO!$E$41=\"Non endémique\"),\" \",IF(COUNTRY_INFO!C11=0,\" \",COUNTRY_INFO!C11))","v":"DANDE"},{"$f":"IF(AND(INTRO!$E$37=\"Non endémique\",INTRO!$E$41=\"Non endémique\"),0,IF(AND(OR(COUNTRY_INFO!$H11=0,COUNTRY_INFO!$H11=4,COUNTRY_INFO!$H11=99),OR(COUNTRY_INFO!$J11=0,COUNTRY_INFO!$J11=4)),0,COUNTRY_INFO!$E11))","v":40678},{"$f":"IF(AND(INTRO!$E$37=\"Non endémique\",INTRO!$E$41=\"Non endémique\"),0,IF(AND(OR(COUNTRY_INFO!$H11=0,COUNTRY_INFO!$H11=4,COUNTRY_INFO!$H11=99),OR(COUNTRY_INFO!$J11=0,COUNTRY_INFO!$J11=4)),0,COUNTRY_INFO!$F11))","v":70932},111610,{"$f":"IF(AND(INTRO!$E$37=\"Non endémique\",INTRO!$E$41=\"Non endémique\"),0,COUNTRY_INFO!Q11)","v":0},{"$f":"IF(AND(INTRO!$E$37=\"Non endémique\",INTRO!$E$41=\"Non endémique\"),0,COUNTRY_INFO!S11)","v":1},{"$f":"IF($G11=1,IVM!$G11,0)","v":0},{"$f":"IF($G11=0, \" \", IF(COUNTRY_INFO!$H11=1, IF(COUNTRY_INFO!$L11=1, 0,\" \"),\" \"))","v":" "},null,"ALB",{"$f":"IF($L11=\"ALB\", IF(INTRO!$E$39=\"Non endémique\",IF($H11<>0,$D11*($H11-$G11),0),$D11*$H11), 0)","v":40678},70932,null,111610,{"$f":"IF($L11=\"MBD\", IF(INTRO!$E$39=\"Non endémique\",IF($H11<>0,$D11*($H11-$G11),0),$D11*$H11),0)","v":0},0,null,0,null,0,0,null,70932,355,null,0,0]
[{"$f":"IF(AND(INTRO!$E$37=\"Non endémique\",INTRO!$E$41=\"Non endémique\"),\" \",IF(COUNTRY_INFO!A12=0,\" \",COUNTRY_INFO!A12))","v":"Angola"},{"$f":"IF(AND(INTRO!$E$37=\"Non endémique\",INTRO!$E$41=\"Non endémique\"),\" \",IF(COUNTRY_INFO!B12=0,\" \",COUNTRY_INFO!B12))","v":"BENGO"},{"$f":"IF(AND(INTRO!$E$37=\"Non endémique\",INTRO!$E$41=\"Non endémique\"),\" \",IF(COUNTRY_INFO!C12=0,\" \",COUNTRY_INFO!C12))","v":"DEMBOS"},{"$f":"IF(AND(INTRO!$E$37=\"Non endémique\",INTRO!$E$41=\"Non endémique\"),0,IF(AND(OR(COUNTRY_INFO!$H12=0,COUNTRY_INFO!$H12=4,COUNTRY_INFO!$H12=99),OR(COUNTRY_INFO!$J12=0,COUNTRY_INFO!$J12=4)),0,COUNTRY_INFO!$E12))","v":5495},{"$f":"IF(AND(INTRO!$E$37=\"Non endémique\",INTRO!$E$41=\"Non endémique\"),0,IF(AND(OR(COUNTRY_INFO!$H12=0,COUNTRY_INFO!$H12=4,COUNTRY_INFO!$H12=99),OR(COUNTRY_INFO!$J12=0,COUNTRY_INFO!$J12=4)),0,COUNTRY_INFO!$F12))","v":9581},15076,{"$f":"IF(AND(INTRO!$E$37=\"Non endémique\",INTRO!$E$41=\"Non endémique\"),0,COUNTRY_INFO!Q12)","v":0},{"$f":"IF(AND(INTRO!$E$37=\"Non endémique\",INTRO!$E$41=\"Non endémique\"),0,COUNTRY_INFO!S12)","v":1},{"$f":"IF($G12=1,IVM!$G12,0)","v":0},{"$f":"IF($G12=0, \" \", IF(COUNTRY_INFO!$H12=1, IF(COUNTRY_INFO!$L12=1, 0,\" \"),\" \"))","v":" "},null,"ALB",{"$f":"IF($L12=\"ALB\", IF(INTRO!$E$39=\"Non endémique\",IF($H12<>0,$D12*($H12-$G12),0),$D12*$H12), 0)","v":5495},9581,null,15076,{"$f":"IF($L12=\"MBD\", IF(INTRO!$E$39=\"Non endémique\",IF($H12<>0,$D12*($H12-$G12),0),$D12*$H12),0)","v":0},0,null,0,null,0,0,null,9581,48,null,0,0]
[{"$f":"IF(AND(INTRO!$E$37=\"Non endémique\",INTRO!$E$41=\"Non endémique\"),\" \",IF(COUNTRY_INFO!A13=0,\" \",COUNTRY_INFO!A13))","v":"Angola"},{"$f":"IF(AND(INTRO!$E$37=\"Non endémique\",INTRO!$E$41=\"Non endémique\"),\" \",IF(COUNTRY_INFO!B13=0,\" \",COUNTRY_INFO!B13))","v":"BENGO"},{"$f":"IF(AND(INTRO!$E$37=\"Non endémique\",INTRO!$E$41=\"Non endémique\"),\" \",IF(COUNTRY_INFO!C13=0,\" \",COUNTRY_INFO!C13))","v":"NAMBUANGONGO"},{"$f":"IF(AND(INTRO!$E$37=\"Non endémique\",INTRO!$E$41=\"Non endémique\"),0,IF(AND(OR(COUNTRY_INFO!$H13=0,COUNTRY_INFO!$H13=4,COUNTRY_INFO!$H13=99),OR(COUNTRY_INFO!$J13=0,COUNTRY_INFO!$J13=4)),0,COUNTRY_INFO!$E13))","v":11129},{"$f":"IF(AND(INTRO!$E$37=\"Non endémique\",INTRO!$E$41=\"Non endémique\"),0,IF(AND(OR(COUNTRY_INFO!$H13=0,COUNTRY_INFO!$H13=4,COUNTRY_INFO!$H13=99),OR(COUNTRY_INFO!$J13=0,COUNTRY_INFO!$J13=4)),0,COUNTRY_INFO!$F13))","v":19407},30536,{"$f":"IF(AND(INTRO!$E$37=\"Non endémique\",INTRO!$E$41=\"Non endémique\"),0,COUNTRY_INFO!Q13)","v":0},{"$f":"IF(AND(INTRO!$E$37=\"Non endémique\",INTRO!$E$41=\"Non endémique\"),0,COUNTRY_INFO!S13)","v":2},{"$f":"IF($G13=1,IVM!$G13,0)","v":0},{"$f":"IF($G13=0, \" \", IF(COUNTRY_INFO!$H13=1, IF(COUNTRY_INFO!$L13=1, 0,\" \"),\" \"))","v":" "},null,"ALB",{"$f":"IF($L13=\"ALB\", IF(INTRO!$E$39=\"Non endémique\",IF($H13<>0,$D13*($H13-$G13),0),$D13*$H13), 0)","v":22258},38814,null,61072,{"$f":"IF($L13=\"MBD\", IF(INTRO!$E$39=\"Non endémique\",IF($H13<>0,$D13*($H13-$G13),0),$D13*$H13),0)","v":0},0,null,0,null,0,0,null,38814,195,null,0,0]
[{"$f":"IF(AND(INTRO!$E$37=\"Non endémique\",INTRO!$E$41=\"Non endémique\"),\" \",IF(COUNTRY_INFO!A14=0,\" \",COUNTRY_INFO!A14))","v":"Angola"},{"$f":"IF(AND(INTRO!$E$37=\"Non endémique\",INTRO!$E$41=\"Non endémique\"),\" \",IF(COUNTRY_INFO!B14=0,\" \",COUNTRY_INFO!B14))","v":"BENGO"},{"$f":"IF(AND(INTRO!$E$37=\"Non endémique\",INTRO!$E$41=\"Non endémique\"),\" \",IF(COUNTRY_INFO!C14=0,\" \",COUNTRY_INFO!C14))","v":"PANGO ALUQUEM"},{"$f":"IF(AND(INTRO!$E$37=\"Non endémique\",INTRO!$E$41=\"Non endémique\"),0,IF(AND(OR(COUNTRY_INFO!$H14=0,COUNTRY_INFO!$H14=4,COUNTRY_INFO!$H14=99),OR(COUNTRY_INFO!$J14=0,COUNTRY_INFO!$J14=4)),0,COUNTRY_INFO!$E14))","v":1281},{"$f":"IF(AND(INTRO!$E$37=\"Non endémique\",INTRO!$E$41=\"Non endémique\"),0,IF(AND(OR(COUNTRY_INFO!$H14=0,COUNTRY_INFO!$H14=4,COUNTRY_INFO!$H14=99),OR(COUNTRY_INFO!$J14=0,COUNTRY_INFO!$J14=4)),0,COUNTRY_INFO!$F14))","v":2233},3514,{"$f":"IF(AND(INTRO!$E$37=\"Non endémique\",INTRO!$E$41=\"Non endémique\"),0,COUNTRY_INFO!Q14)","v":0},{"$f":"IF(AND(INTRO!$E$37=\"Non endémique\",INTRO!$E$41=\"Non endémique\"),0,COUNTRY_INFO!S14)","v":1},{"$f":"IF($G14=1,IVM!$G14,0)","v":0},{"$f":"IF($G14=0, \" \", IF(COUNTRY_INFO!$H14=1, IF(COUNTRY_INFO!$L14=1, 0,\" \"),\" \"))","v":" "},null,"ALB",{"$f":"IF($L14=\"ALB\", IF(INTRO!$E$39=\"Non endémique\",IF($H14<>0,$D14*($H14-$G14),0),$D14*$H14), 0)","v":1281},2233,null,3514,{"$f":"IF($L14=\"MBD\", IF(INTRO!$E$39=\"Non endémique\",IF($H14<>0,$D14*($H14-$G14),0),$D14*$H14),0)","v":0},0,null,0,null,0,0,null,2233,12,null,0,0]
[{"$f":"IF(AND(INTRO!$E$37=\"Non endémique\",INTRO!$E$41=\"Non endémique\"),\" \",IF(COUNTRY_INFO!A15=0,\" \",COUNTRY_INFO!A15))","v":"Angola"},{"$f":"IF(AND(INTRO!$E$37=\"Non endémique\",INTRO!$E$41=\"Non endémique\"),\" \",IF(COUNTRY_INFO!B15=0,\" \",COUNTRY_INFO!B15))","v":"BENGUELA"},{"$f":"IF(AND(INTRO!$E$37=\"Non endémique\",INTRO!$E$41=\"Non endémique\"),\" \",IF(COUNTRY_INFO!C15=0,\" \",COUNTRY_INFO!C15))","v":"BAIA FARTA"},{"$f":"IF(AND(INTRO!$E$37=\"Non endémique\",INTRO!$E$41=\"Non endémique\"),0,IF(AND(OR(COUNTRY_INFO!$H15=0,COUNTRY_INFO!$H15=4,COUNTRY_INFO!$H15=99),OR(COUNTRY_INFO!$J15=0,COUNTRY_INFO!$J15=4)),0,COUNTRY_INFO!$E15))","v":19713},{"$f":"IF(AND(INTRO!$E$37=\"Non endémique\",INTRO!$E$41=\"Non endémique\"),0,IF(AND(OR(COUNTRY_INFO!$H15=0,COUNTRY_INFO!$H15=4,COUNTRY_INFO!$H15=99),OR(COUNTRY_INFO!$J15=0,COUNTRY_INFO!$J15=4)),0,COUNTRY_INFO!$F15))","v":34375},54088,{"$f":"IF(AND(INTRO!$E$37=\"Non endémique\",INTRO!$E$41=\"Non endémique\"),0,COUNTRY_INFO!Q15)","v":0},{"$f":"IF(AND(INTRO!$E$37=\"Non endémique\",INTRO!$E$41=\"Non endémique\"),0,COUNTRY_INFO!S15)","v":1},{"$f":"IF($G15=1,IVM!$G15,0)","v":0},{"$f":"IF($G15=0, \" \", IF(COUNTRY_INFO!$H15=1, IF(COUNTRY_INFO!$L15=1, 0,\" \"),\" \"))","v":" "},null,"ALB",{"$f":"IF($L15=\"ALB\", IF(INTRO!$E$39=\"Non endémique\",IF($H15<>0,$D15*($H15-$G15),0),$D15*$H15), 0)","v":19713},34375,null,54088,{"$f":"IF($L15=\"MBD\", IF(INTRO!$E$39=\"Non endémique\",IF($H15<>0,$D15*($H15-$G15),0),$D15*$H15),0)","v":0},0,null,0,null,0,0,null,34375,172,null,0,0]
[{"$f":"IF(AND(INTRO!$E$37=\"Non endémique\",INTRO!$E$41=\"Non endémique\"),\" \",IF(COUNTRY_INFO!A16=0,\" \",COUNTRY_INFO!A16))","v":"Angola"},{"$f":"IF(AND(INTRO!$E$37=\"Non endémique\",INTRO!$E$41=\"Non endémique\"),\" \",IF(COUNTRY_INFO!B16=0,\" \",COUNTRY_INFO!B16))","v":"BENGUELA"},{"$f":"IF(AND(INTRO!$E$37=\"Non endémique\",INTRO!$E$41=\"Non endémique\"),\" \",IF(COUNTRY_INFO!C16=0,\" \",COUNTRY_INFO!C16))","v":"BALOMBO"},{"$f":"IF(AND(INTRO!$E$37=\"Non endémique\",INTRO!$E$41=\"Non endémique\"),0,IF(AND(OR(COUNTRY_INFO!$H16=0,COUNTRY_INFO!$H16=4,COUNTRY_INFO!$H16=99),OR(COUNTRY_INFO!$J16=0,COUNTRY_INFO!$J16=4)),0,COUNTRY_INFO!$E16))","v":19919},{"$f":"IF(AND(INTRO!$E$37=\"Non endémique\",INTRO!$E$41=\"Non endémique\"),0,IF(AND(OR(COUNTRY_INFO!$H16=0,COUNTRY_INFO!$H16=4,COUNTRY_INFO!$H16=99),OR(COUNTRY_INFO!$J16=0,COUNTRY_INFO!$J16=4)),0,COUNTRY_INFO!$F16))","v":34733},54652,{"$f":"IF(AND(INTRO!$E$37=\"Non endémique\",INTRO!$E$41=\"Non endémique\"),0,COUNTRY_INFO!Q16)","v":0},{"$f":"IF(AND(INTRO!$E$37=\"Non endémique\",INTRO!$E$41=\"Non endémique\"),0,COUNTRY_INFO!S16)","v":1},{"$f":"IF($G16=1,IVM!$G16,0)","v":0},{"$f":"IF($G16=0, \" \", IF(COUNTRY_INFO!$H16=1, IF(COUNTRY_INFO!$L16=1, 0,\" \"),\" \"))","v":" "},null,"ALB",{"$f":"IF($L16=\"ALB\", IF(INTRO!$E$39=\"Non endémique\",IF($H16<>0,$D16*($H16-$G16),0),$D16*$H16), 0)","v":19919},34733,null,54652,{"$f":"IF($L16=\"MBD\", IF(INTRO!$E$39=\"Non endémique\",IF($H16<>0,$D16*($H16-$G16),0),$D16*$H16),0)","v":0},0,null,0,null,0,0,null,34733,174,null,0,0]
[{"$f":"IF(AND(INTRO!$E$37=\"Non endémique\",INTRO!$E$41=\"Non endémique\"),\" \",IF(COUNTRY_INFO!A17=0,\" \",COUNTRY_INFO!A17))","v":"Angola"},{"$f":"IF(AND(INTRO!$E$37=\"Non endémique\",INTRO!$E$41=\"Non endémique\"),\" \",IF(COUNTRY_INFO!B17=0,\" \",COUNTRY_INFO!B17))","v":"BENGUELA"},{"$f":"IF(AND(INTRO!$E$37=\"Non endémique\",INTRO!$E$41=\"Non endémique\"),\" \",IF(COUNTRY_INFO!C17=0,\" \",COUNTRY_INFO!C17))","v":"BENGUELA"},{"$f":"IF(AND(INTRO!$E$37=\"Non endémique\",INTRO!$E$41=\"Non endémique\"),0,IF(AND(OR(COUNTRY_INFO!$H17=0,COUNTRY_INFO!$H17=4,COUNTRY_INFO!$H17=99),OR(COUNTRY_INFO!$J17=0,COUNTRY_INFO!$J17=4)),0,COUNTRY_INFO!$E17))","v":102692},{"$f":"IF(AND(INTRO!$E$37=\"Non endémique\",INTRO!$E$41=\"Non endémique\"),0,IF(AND(OR(COUNTRY_INFO!$H17=0,COUNTRY_INFO!$H17=4,COUNTRY_INFO!$H17=99),OR(COUNTRY_INFO!$J17=0,COUNTRY_INFO!$J17=4)),0,COUNTRY_INFO!$F17))","v":179068},281760,{"$f":"IF(AND(INTRO!$E$37=\"Non endémique\",INTRO!$E$41=\"Non endémique\"),0,COUNTRY_INFO!Q17)","v":0},{"$f":"IF(AND(INTRO!$E$37=\"Non endémique\",INTRO!$E$41=\"Non endémique\"),0,COUNTRY_INFO!S17)","v":1},{"$f":"IF($G17=1,IVM!$G17,0)","v":0},{"$f":"IF($G17=0, \" \", IF(COUNTRY_INFO!$H17=1, IF(COUNTRY_INFO!$L17=1, 0,\" \"),\" \"))","v":" "},null,"ALB",{"$f":"IF($L17=\"ALB\", IF(INTRO!$E$39=\"Non endémique\",IF($H17<>0,$D17*($H17-$G17),0),$D17*$H17), 0)","v":102692},179068,null,281760,{"$f":"IF($L17=\"MBD\", IF(INTRO!$E$39=\"Non endémique\",IF($H17<>0,$D17*($H17-$G17),0),$D17*$H17),0)","v":0},0,null,0,null,0,0,null,179068,896,null,0,0]
[{"$f":"IF(AND(INTRO!$E$37=\"Non endémique\",INTRO!$E$41=\"Non endémique\"),\" \",IF(COUNTRY_INFO!A18=0,\" \",COUNTRY_INFO!A18))","v":"Angola"},{"$f":"IF(AND(INTRO!$E$37=\"Non endémique\",INTRO!$E$41=\"Non endémique\"),\" \",IF(COUNTRY_INFO!B18=0,\" \",COUNTRY_INFO!B18))","v":"BENGUELA"},{"$f":"IF(AND(INTRO!$E$37=\"Non endémique\",INTRO!$E$41=\"Non endémique\"),\" \",IF(COUNTRY_INFO!C18=0,\" \",COUNTRY_INFO!C18))","v":"BOCOIO"},{"$f":"IF(AND(INTRO!$E$37=\"Non endémique\",INTRO!$E$41=\"Non endémique\"),0,IF(AND(OR(COUNTRY_INFO!$H18=0,COUNTRY_INFO!$H18=4,COUNTRY_INFO!$H18=99),OR(COUNTRY_INFO!$J18=0,COUNTRY_INFO!$J18=4)),0,COUNTRY_INFO!$E18))","v":30104},{"$f":"IF(AND(INTRO!$E$37=\"Non endémique\",INTRO!$E$41=\"Non endémique\"),0,IF(AND(OR(COUNTRY_INFO!$H18=0,COUNTRY_INFO!$H18=4,COUNTRY_INFO!$H18=99),OR(COUNTRY_INFO!$J18=0,COUNTRY_INFO!$J18=4)),0,COUNTRY_INFO!$F18))","v":52494},82598,{"$f":"IF(AND(INTRO!$E$37=\"Non endémique\",INTRO!$E$41=\"Non endémique\"),0,COUNTRY_INFO!Q18)","v":0},{"$f":"IF(AND(INTRO!$E$37=\"Non endémique\",INTRO!$E$41=\"Non endémique\"),0,COUNTRY_INFO!S18)","v":1},{"$f":"IF($G18=1,IVM!$G18,0)","v":0},{"$f":"IF($G18=0, \" \", IF(COUNTRY_INFO!$H18=1, IF(COUNTRY_INFO!$L18=1, 0,\" \"),\" \"))","v":" "},null,"ALB",{"$f":"IF($L18=\"ALB\", IF(INTRO!$E$39=\"Non endémique\",IF($H18<>0,$D18*($H18-$G18),0),$D18*$H18), 0)","v":30104},52494,null,82598,{"$f":"IF($L18=\"MBD\", IF(INTRO!$E$39=\"Non endémique\",IF($H18<>0,$D18*($H18-$G18),0),$D18*$H18),0)","v":0},0,null,0,null,0,0,null,52494,263,null,0,0]
[{"$f":"IF(AND(INTRO!$E$37=\"Non endémique\",INTRO!$E$41=\"Non endémique\"),\" \",IF(COUNTRY_INFO!A19=0,\" \",COUNTRY_INFO!A19))","v":"Angola"},{"$f":"IF(AND(INTRO!$E$37=\"Non endémique\",INTRO!$E$41=\"Non endémique\"),\" \",IF(COUNTRY_INFO!B19=0,\" \",COUNTRY_INFO!B19))","v":"BENGUELA"},{"$f":"IF(AND(INTRO!$E$37=\"Non endémique\",INTRO!$E$41=\"Non endémique\"),\" \",IF(COUNTRY_INFO!C19=0,\" \",COUNTRY_INFO!C19))","v":"CAIMBAMBO"},{"$f":"IF(AND(INTRO!$E$37=\"Non endémique\",INTRO!$E$41=\"Non endémique\"),0,IF(AND(OR(COUNTRY_INFO!$H19=0,COUNTRY_INFO!$H19=4,COUNTRY_INFO!$H19=99),OR(COUNTRY_INFO!$J19=0,COUNTRY_INFO!$J19=4)),0,COUNTRY_INFO!$E19))","v":16605},{"$f":"IF(AND(INTRO!$E$37=\"Non endémique\",INTRO!$E$41=\"Non endémique\"),0,IF(AND(OR(COUNTRY_INFO!$H19=0,COUNTRY_INFO!$H19=4,COUNTRY_INFO!$H19=99),OR(COUNTRY_INFO!$J19=0,COUNTRY_INFO!$J19=4)),0,COUNTRY_INFO!$F19))","v":28955},45560,{"$f":"IF(AND(INTRO!$E$37=\"Non endémique\",INTRO!$E$41=\"Non endémique\"),0,COUNTRY_INFO!Q19)","v":0},{"$f":"IF(AND(INTRO!$E$37=\"Non endémique\",INTRO!$E$41=\"Non endémique\"),0,COUNTRY_INFO!S19)","v":1},{"$f":"IF($G19=1,IVM!$G19,0)","v":0},{"$f":"IF($G19=0, \" \", IF(COUNTRY_INFO!$H19=1, IF(COUNTRY_INFO!$L19=1, 0,\" \"),\" \"))","v":" "},null,"ALB",{"$f":"IF($L19=\"ALB\", IF(INTRO!$E$39=\"Non endémique\",IF($H19<>0,$D19*($H19-$G19),0),$D19*$H19), 0)","v":16605},28955,null,45560,{"$f":"IF($L19=\"MBD\", IF(INTRO!$E$39=\"Non endémique\",IF($H19<>0,$D19*($H19-$G19),0),$D19*$H19),0)","v":0},0,null,0,null,0,0,null,28955,145,null,0,0]
[{"$f":"IF(AND(INTRO!$E$37=\"Non endémique\",INTRO!$E$41=\"Non endémique\"),\" \",IF(COUNTRY_INFO!A20=0,\" \",COUNTRY_INFO!A20))","v":"Angola"},{"$f":"IF(AND(INTRO!$E$37=\"Non endémique\",INTRO!$E$41=\"Non endémique\"),\" \",IF(COUNTRY_INFO!B20=0,\" \",COUNTRY_INFO!B20))","v":"BENGUELA"},{"$f":"IF(AND(INTRO!$E$37=\"Non endémique\",INTRO!$E$41=\"Non endémique\"),\" \",IF(COUNTRY_INFO!C20=0,\" \",COUNTRY_INFO!C20))","v":"CATUMBELA"},{"$f":"IF(AND(INTRO!$E$37=\"Non endémique\",INTRO!$E$41=\"Non endémique\"),0,IF(AND(OR(COUNTRY_INFO!$H20=0,COUNTRY_INFO!$H20=4,COUNTRY_INFO!$H20=99),OR(COUNTRY_INFO!$J20=0,COUNTRY_INFO!$J20=4)),0,COUNTRY_INFO!$E20))","v":32137},{"$f":"IF(AND(INTRO!$E$37=\"Non endémique\",INTRO!$E$41=\"Non endémique\"),0,IF(AND(OR(COUNTRY_INFO!$H20=0,COUNTRY_INFO!$H20=4,COUNTRY_INFO!$H20=99),OR(COUNTRY_INFO!$J20=0,COUNTRY_INFO!$J20=4)),0,COUNTRY_INFO!$F20))","v":56039},88176,{"$f":"IF(AND(INTRO!$E$37=\"Non endémique\",INTRO!$E$41=\"Non endémique\"),0,COUNTRY_INFO!Q20)","v":0},{"$f":"IF(AND(INTRO!$E$37=\"Non endémique\",INTRO!$E$41=\"Non endémique\"),0,COUNTRY_INFO!S20)","v":1},{"$f":"IF($G20=1,IVM!$G20,0)","v":0},{"$f":"IF($G20=0, \" \", IF(COUNTRY_INFO!$H20=1, IF(COUNTRY_INFO!$L20=1, 0,\" \"),\" \"))","v":" "},null,"ALB",{"$f":"IF($L20=\"ALB\", IF(INTRO!$E$39=\"Non endémique\",IF($H20<>0,$D20*($H20-$G20),0),$D20*$H20), 0)","v":32137},56039,null,88176,{"$f":"IF($L20=\"MBD\", IF(INTRO!$E$39=\"Non endémique\",IF($H20<>0,$D20*($H20-$G20),0),$D20*$H20),0)","v":0},0,null,0,null,0,0,null,56039,281,null,0,0]
[{"$f":"IF(AND(INTRO!$E$37=\"Non endémique\",INTRO!$E$41=\"Non endémique\"),\" \",IF(COUNTRY_INFO!A21=0,\" \",COUNTRY_INFO!A21))","v":"Angola"},{"$f":"IF(AND(INTRO!$E$37=\"Non endémique\",INTRO!$E$41=\"Non endémique\"),\" \",IF(COUNTRY_INFO!B21=0,\" \",COUNTRY_INFO!B21))","v":"BENGUELA"},{"$f":"IF(AND(INTRO!$E$37=\"Non endémique\",INTRO!$E$41=\"Non endémique\"),\" \",IF(COUNTRY_INFO!C21=0,\" \",COUNTRY_INFO!C21))","v":"CHONGOROI"},{"$f":"IF(AND(INTRO!$E$37=\"Non endémique\",INTRO!$E$41=\"Non endémique\"),0,IF(AND(OR(COUNTRY_INFO!$H21=0,COUNTRY_INFO!$H21=4,COUNTRY_INFO!$H21=99),OR(COUNTRY_INFO!$J21=0,COUNTRY_INFO!$J21=4)),0,COUNTRY_INFO!$E21))","v":15954},{"$f":"IF(AND(INTRO!$E$37=\"Non endémique\",INTRO!$E$41=\"Non endémique\"),0,IF(AND(OR(COUNTRY_INFO!$H21=0,COUNTRY_INFO!$H21=4,COUNTRY_INFO!$H21=99),OR(COUNTRY_INFO!$J21=0,COUNTRY_INFO!$J21=4)),0,COUNTRY_INFO!$F21))","v":27820},43774,{"$f":"IF(AND(INTRO!$E$37=\"Non endémique\",INTRO!$E$41=\"Non endémique\"),0,COUNTRY_INFO!Q21)","v":0},{"$f":"IF(AND(INTRO!$E$37=\"Non endémique\",INTRO!$E$41=\"Non endémique\"),0,COUNTRY_INFO!S21)","v":1},{"$f":"IF($G21=1,IVM!$G21,0)","v":0},{"$f":"IF($G21=0, \" \", IF(COUNTRY_INFO!$H21=1, IF(COUNTRY_INFO!$L21=1, 0,\" \"),\" \"))","v":" "},null,"ALB",{"$f":"IF($L21=\"ALB\", IF(INTRO!$E$39=\"Non endémique\",IF($H21<>0,$D21*($H21-$G21),0),$D21*$H21), 0)","v":15954},27820,null,43774,{"$f":"IF($L21=\"MBD\", IF(INTRO!$E$39=\"Non endémique\",IF($H21<>0,$D21*($H21-$G21),0),$D21*$H21),0)","v":0},0,null,0,null,0,0,null,27820,140,null,0,0]
[{"$f":"IF(AND(INTRO!$E$37=\"Non endémique\",INTRO!$E$41=\"Non endémique\"),\" \",IF(COUNTRY_INFO!A22=0,\" \",COUNTRY_INFO!A22))","v":"Angola"},{"$f":"IF(AND(INTRO!$E$37=\"Non endémique\",INTRO!$E$41=\"Non endémique\"),\" \",IF(COUNTRY_INFO!B22=0,\" \",COUNTRY_INFO!B22))","v":"BENGUELA"},{"$f":"IF(AND(INTRO!$E$37=\"Non endémique\",INTRO!$E$41=\"Non endémique\"),\" \",IF(COUNTRY_INFO!C22=0,\" \",COUNTRY_INFO!C22))","v":"CUBAL"},{"$f":"IF(AND(INTRO!$E$37=\"Non endémique\",INTRO!$E$41=\"Non endémique\"),0,IF(AND(OR(COUNTRY_INFO!$H22=0,COUNTRY_INFO!$H22=4,COUNTRY_INFO!$H22=99),OR(COUNTRY_INFO!$J22=0,COUNTRY_INFO!$J22=4)),0,COUNTRY_INFO!$E22))","v":55869},{"$f":"IF(AND(INTRO!$E$37=\"Non endémique\",INTRO!$E$41=\"Non endémique\"),0,IF(AND(OR(COUNTRY_INFO!$H22=0,COUNTRY_INFO!$H22=4,COUNTRY_INFO!$H22=99),OR(COUNTRY_INFO!$J22=0,COUNTRY_INFO!$J22=4)),0,COUNTRY_INFO!$F22))","v":97421},153290,{"$f":"IF(AND(INTRO!$E$37=\"Non endémique\",INTRO!$E$41=\"Non endémique\"),0,COUNTRY_INFO!Q22)","v":0},{"$f":"IF(AND(INTRO!$E$37=\"Non endémique\",INTRO!$E$41=\"Non endémique\"),0,COUNTRY_INFO!S22)","v":1},{"$f":"IF($G22=1,IVM!$G22,0)","v":0},{"$f":"IF($G22=0, \" \", IF(COUNTRY_INFO!$H22=1, IF(COUNTRY_INFO!$L22=1, 0,\" \"),\" \"))","v":" "},null,"ALB",{"$f":"IF($L22=\"ALB\", IF(INTRO!$E$39=\"Non endémique\",IF($H22<>0,$D22*($H22-$G22),0),$D22*$H22), 0)","v":55869},97421,null,153290,{"$f":"IF($L22=\"MBD\", IF(INTRO!$E$39=\"Non endémique\",IF($H22<>0,$D22*($H22-$G22),0),$D22*$H22),0)","v":0},0,null,0,null,0,0,null,97421,488,null,0,0]
[{"$f":"IF(AND(INTRO!$E$37=\"Non endémique\",INTRO!$E$41=\"Non endémique\"),\" \",IF(COUNTRY_INFO!A23=0,\" \",COUNTRY_INFO!A23))","v":"Angola"},{"$f":"IF(AND(INTRO!$E$37=\"Non endémique\",INTRO!$E$41=\"Non endémique\"),\" \",IF(COUNTRY_INFO!B23=0,\" \",COUNTRY_INFO!B23))","v":"BENGUELA"},{"$f":"IF(AND(INTRO!$E$37=\"Non endémique\",INTRO!$E$41=\"Non endémique\"),\" \",IF(COUNTRY_INFO!C23=0,\" \",COUNTRY_INFO!C23))","v":"GANDA"},{"$f":"IF(AND(INTRO!$E$37=\"Non endémique\",INTRO!$E$41=\"Non endémique\"),0,IF(AND(OR(COUNTRY_INFO!$H23=0,COUNTRY_INFO!$H23=4,COUNTRY_INFO!$H23=99),OR(COUNTRY_INFO!$J23=0,COUNTRY_INFO!$J23=4)),0,COUNTRY_INFO!$E23))","v":43046},{"$f":"IF(AND(INTRO!$E$37=\"Non endémique\",INTRO!$E$41=\"Non endémique\"),0,IF(AND(OR(COUNTRY_INFO!$H23=0,COUNTRY_INFO!$H23=4,COUNTRY_INFO!$H23=99),OR(COUNTRY_INFO!$J23=0,COUNTRY_INFO!$J23=4)),0,COUNTRY_INFO!$F23))","v":75062},118108,{"$f":"IF(AND(INTRO!$E$37=\"Non endémique\",INTRO!$E$41=\"Non endémique\"),0,COUNTRY_INFO!Q23)","v":0},{"$f":"IF(AND(INTRO!$E$37=\"Non endémique\",INTRO!$E$41=\"Non endémique\"),0,COUNTRY_INFO!S23)","v":1},{"$f":"IF($G23=1,IVM!$G23,0)","v":0},{"$f":"IF($G23=0, \" \", IF(COUNTRY_INFO!$H23=1, IF(COUNTRY_INFO!$L23=1, 0,\" \"),\" \"))","v":" "},null,"ALB",{"$f":"IF($L23=\"ALB\", IF(INTRO!$E$39=\"Non endémique\",IF($H23<>0,$D23*($H23-$G23),0),$D23*$H23), 0)","v":43046},75062,null,118108,{"$f":"IF($L23=\"MBD\", IF(INTRO!$E$39=\"Non endémique\",IF($H23<>0,$D23*($H23-$G23),0),$D23*$H23),0)","v":0},0,null,0,null,0,0,null,75062,376,null,0,0]
[{"$f":"IF(AND(INTRO!$E$37=\"Non endémique\",INTRO!$E$41=\"Non endémique\"),\" \",IF(COUNTRY_INFO!A24=0,\" \",COUNTRY_INFO!A24))","v":"Angola"},{"$f":"IF(AND(INTRO!$E$37=\"Non endémique\",INTRO!$E$41=\"Non endémique\"),\" \",IF(COUNTRY_INFO!B24=0,\" \",COUNTRY_INFO!B24))","v":"BENGUELA"},{"$f":"IF(AND(INTRO!$E$37=\"Non endémique\",INTRO!$E$41=\"Non endémique\"),\" \",IF(COUNTRY_INFO!C24=0,\" \",COUNTRY_INFO!C24))","v":"LOBITO"},{"$f":"IF(AND(INTRO!$E$37=\"Non endémique\",INTRO!$E$41=\"Non endémique\"),0,IF(AND(OR(COUNTRY_INFO!$H24=0,COUNTRY_INFO!$H24=4,COUNTRY_INFO!$H24=99),OR(COUNTRY_INFO!$J24=0,COUNTRY_INFO!$J24=4)),0,COUNTRY_INFO!$E24))","v":71854},{"$f":"IF(AND(INTRO!$E$37=\"Non endémique\",INTRO!$E$41=\"Non endémique\"),0,IF(AND(OR(COUNTRY_INFO!$H24=0,COUNTRY_INFO!$H24=4,COUNTRY_INFO!$H24=99),OR(COUNTRY_INFO!$J24=0,COUNTRY_INFO!$J24=4)),0,COUNTRY_INFO!$F24))","v":125296},197150,{"$f":"IF(AND(INTRO!$E$37=\"Non endémique\",INTRO!$E$41=\"Non endémique\"),0,COUNTRY_INFO!Q24)","v":0},{"$f":"IF(AND(INTRO!$E$37=\"Non endémique\",INTRO!$E$41=\"Non endémique\"),0,COUNTRY_INFO!S24)","v":1},{"$f":"IF($G24=1,IVM!$G24,0)","v":0},{"$f":"IF($G24=0, \" \", IF(COUNTRY_INFO!$H24=1, IF(COUNTRY_INFO!$L24=1, 0,\" \"),\" \"))","v":" "},null,"ALB",{"$f":"IF($L24=\"ALB\", IF(INTRO!$E$39=\"Non endémique\",IF($H24<>0,$D24*($H24-$G24),0),$D24*$H24), 0)","v":71854},125296,null,197150,{"$f":"IF($L24=\"MBD\", IF(INTRO!$E$39=\"Non endémique\",IF($H24<>0,$D24*($H24-$G24),0),$D24*$H24),0)","v":0},0,null,0,null,0,0,null,125296,627,null,0,0]
[{"$f":"IF(AND(INTRO!$E$37=\"Non endémique\",INTRO!$E$41=\"Non endémique\"),\" \",IF(COUNTRY_INFO!A25=0,\" \",COUNTRY_INFO!A25))","v":"Angola"},{"$f":"IF(AND(INTRO!$E$37=\"Non endémique\",INTRO!$E$41=\"Non endémique\"),\" \",IF(COUNTRY_INFO!B25=0,\" \",COUNTRY_INFO!B25))","v":"BIE"},{"$f":"IF(AND(INTRO!$E$37=\"Non endémique\",INTRO!$E$41=\"Non endémique\"),\" \",IF(COUNTRY_INFO!C25=0,\" \",COUNTRY_INFO!C25))","v":"ANDULO"},{"$f":"IF(AND(INTRO!$E$37=\"Non endémique\",INTRO!$E$41=\"Non endémique\"),0,IF(AND(OR(COUNTRY_INFO!$H25=0,COUNTRY_INFO!$H25=4,COUNTRY_INFO!$H25=99),OR(COUNTRY_INFO!$J25=0,COUNTRY_INFO!$J25=4)),0,COUNTRY_INFO!$E25))","v":47191},{"$f":"IF(AND(INTRO!$E$37=\"Non endémique\",INTRO!$E$41=\"Non endémique\"),0,IF(AND(OR(COUNTRY_INFO!$H25=0,COUNTRY_INFO!$H25=4,COUNTRY_INFO!$H25=99),OR(COUNTRY_INFO!$J25=0,COUNTRY_INFO!$J25=4)),0,COUNTRY_INFO!$F25))","v":82290},129481,{"$f":"IF(AND(INTRO!$E$37=\"Non endémique\",INTRO!$E$41=\"Non endémique\"),0,COUNTRY_INFO!Q25)","v":0},{"$f":"IF(AND(INTRO!$E$37=\"Non endémique\",INTRO!$E$41=\"Non endémique\"),0,COUNTRY_INFO!S25)","v":1},{"$f":"IF($G25=1,IVM!$G25,0)","v":0},{"$f":"IF($G25=0, \" \", IF(COUNTRY_INFO!$H25=1, IF(COUNTRY_INFO!$L25=1, 0,\" \"),\" \"))","v":" "},null,"ALB",{"$f":"IF($L25=\"ALB\", IF(INTRO!$E$39=\"Non endémique\",IF($H25<>0,$D25*($H25-$G25),0),$D25*$H25), 0)","v":47191},82290,null,129481,{"$f":"IF($L25=\"MBD\", IF(INTRO!$E$39=\"Non endémique\",IF($H25<>0,$D25*($H25-$G25),0),$D25*$H25),0)","v":0},0,null,0,null,0,0,null,82290,412,null,0,0]
[{"$f":"IF(AND(INTRO!$E$37=\"Non endémique\",INTRO!$E$41=\"Non endémique\"),\" \",IF(COUNTRY_INFO!A26=0,\" \",COUNTRY_INFO!A26))","v":"Angola"},{"$f":"IF(AND(INTRO!$E$37=\"Non endémique\",INTRO!$E$41=\"Non endémique\"),\" \",IF(COUNTRY_INFO!B26=0,\" \",COUNTRY_INFO!B26))","v":"BIE"},{"$f":"IF(AND(INTRO!$E$37=\"Non endémique\",INTRO!$E$41=\"Non endémique\"),\" \",IF(COUNTRY_INFO!C26=0,\" \",COUNTRY_INFO!C26))","v":"CAMACUPA"},{"$f":"IF(AND(INTRO!$E$37=\"Non endémique\",INTRO!$E$41=\"Non endémique\"),0,IF(AND(OR(COUNTRY_INFO!$H26=0,COUNTRY_INFO!$H26=4,COUNTRY_INFO!$H26=99),OR(COUNTRY_INFO!$J26=0,COUNTRY_INFO!$J26=4)),0,COUNTRY_INFO!$E26))","v":28320},{"$f":"IF(AND(INTRO!$E$37=\"Non endémique\",INTRO!$E$41=\"Non endémique\"),0,IF(AND(OR(COUNTRY_INFO!$H26=0,COUNTRY_INFO!$H26=4,COUNTRY_INFO!$H26=99),OR(COUNTRY_INFO!$J26=0,COUNTRY_INFO!$J26=4)),0,COUNTRY_INFO!$F26))","v":49384},77704,{"$f":"IF(AND(INTRO!$E$37=\"Non endémique\",INTRO!$E$41=\"Non endémique\"),0,COUNTRY_INFO!Q26)","v":0},{"$f":"IF(AND(INTRO!$E$37=\"Non endémique\",INTRO!$E$41=\"Non endémique\"),0,COUNTRY_INFO!S26)","v":1},{"$f":"IF($G26=1,IVM!$G26,0)","v":0},{"$f":"IF($G26=0, \" \", IF(COUNTRY_INFO!$H26=1, IF(COUNTRY_INFO!$L26=1, 0,\" \"),\" \"))","v":" "},null,"ALB",{"$f":"IF($L26=\"ALB\", IF(INTRO!$E$39=\"Non endémique\",IF($H26<>0,$D26*($H26-$G26),0),$D26*$H26), 0)","v":28320},49384,null,77704,{"$f":"IF($L26=\"MBD\", IF(INTRO!$E$39=\"Non endémique\",IF($H26<>0,$D26*($H26-$G26),0),$D26*$H26),0)","v":0},0,null,0,null,0,0,null,49384,247,null,0,0]
[{"$f":"IF(AND(INTRO!$E$37=\"Non endémique\",INTRO!$E$41=\"Non endémique\"),\" \",IF(COUNTRY_INFO!A27=0,\" \",COUNTRY_INFO!A27))","v":"Angola"},{"$f":"IF(AND(INTRO!$E$37=\"Non endémique\",INTRO!$E$41=\"Non endémique\"),\" \",IF(COUNTRY_INFO!B27=0,\" \",COUNTRY_INFO!B27))","v":"BIE"},{"$f":"IF(AND(INTRO!$E$37=\"Non endémique\",INTRO!$E$41=\"Non endémique\"),\" \",IF(COUNTRY_INFO!C27=0,\" \",COUNTRY_INFO!C27))","v":"CATABOLA"},{"$f":"IF(AND(INTRO!$E$37=\"Non endémique\",INTRO!$E$41=\"Non endémique\"),0,IF(AND(OR(COUNTRY_INFO!$H27=0,COUNTRY_INFO!$H27=4,COUNTRY_INFO!$H27=99),OR(COUNTRY_INFO!$J27=0,COUNTRY_INFO!$J27=4)),0,COUNTRY_INFO!$E27))","v":23148},{"$f":"IF(AND(INTRO!$E$37=\"Non endémique\",INTRO!$E$41=\"Non endémique\"),0,IF(AND(OR(COUNTRY_INFO!$H27=0,COUNTRY_INFO!$H27=4,COUNTRY_INFO!$H27=99),OR(COUNTRY_INFO!$J27=0,COUNTRY_INFO!$J27=4)),0,COUNTRY_INFO!$F27))","v":40364},63512,{"$f":"IF(AND(INTRO!$E$37=\"Non endémique\",INTRO!$E$41=\"Non endémique\"),0,COUNTRY_INFO!Q27)","v":0},{"$f":"IF(AND(INTRO!$E$37=\"Non endémique\",INTRO!$E$41=\"Non endémique\"),0,COUNTRY_INFO!S27)","v":1},{"$f":"IF($G27=1,IVM!$G27,0)","v":0},{"$f":"IF($G27=0, \" \", IF(COUNTRY_INFO!$H27=1, IF(COUNTRY_INFO!$L27=1, 0,\" \"),\" \"))","v":" "},null,"ALB",{"$f":"IF($L27=\"ALB\", IF(INTRO!$E$39=\"Non endémique\",IF($H27<>0,$D27*($H27-$G27),0),$D27*$H27), 0)","v":23148},40364,null,63512,{"$f":"IF($L27=\"MBD\", IF(INTRO!$E$39=\"Non endémique\",IF($H27<>0,$D27*($H27-$G27),0),$D27*$H27),0)","v":0},0,null,0,null,0,0,null,40364,202,null,0,0]
[{"$f":"IF(AND(INTRO!$E$37=\"Non endémique\",INTRO!$E$41=\"Non endémique\"),\" \",IF(COUNTRY_INFO!A28=0,\" \",COUNTRY_INFO!A28))","v":"Angola"},{"$f":"IF(AND(INTRO!$E$37=\"Non endémique\",INTRO!$E$41=\"Non endémique\"),\" \",IF(COUNTRY_INFO!B28=0,\" \",COUNTRY_INFO!B28))","v":"BIE"},{"$f":"IF(AND(INTRO!$E$37=\"Non endémique\",INTRO!$E$41=\"Non endémique\"),\" \",IF(COUNTRY_INFO!C28=0,\" \",COUNTRY_INFO!C28))","v":"CHINGUAR"},{"$f":"IF(AND(INTRO!$E$37=\"Non endémique\",INTRO!$E$41=\"Non endémique\"),0,IF(AND(OR(COUNTRY_INFO!$H28=0,COUNTRY_INFO!$H28=4,COUNTRY_INFO!$H28=99),OR(COUNTRY_INFO!$J28=0,COUNTRY_INFO!$J28=4)),0,COUNTRY_INFO!$E28))","v":23649},{"$f":"IF(AND(INTRO!$E$37=\"Non endémique\",INTRO!$E$41=\"Non endémique\"),0,IF(AND(OR(COUNTRY_INFO!$H28=0,COUNTRY_INFO!$H28=4,COUNTRY_INFO!$H28=99),OR(COUNTRY_INFO!$J28=0,COUNTRY_INFO!$J28=4)),0,COUNTRY_INFO!$F28))","v":41237},64886,{"$f":"IF(AND(INTRO!$E$37=\"Non endémique\",INTRO!$E$41=\"Non endémique\"),0,COUNTRY_INFO!Q28)","v":0},{"$f":"IF(AND(INTRO!$E$37=\"Non endémique\",INTRO!$E$41=\"Non endémique\"),0,COUNTRY_INFO!S28)","v":1},{"$f":"IF($G28=1,IVM!$G28,0)","v":0},{"$f":"IF($G28=0, \" \", IF(COUNTRY_INFO!$H28=1, IF(COUNTRY_INFO!$L28=1, 0,\" \"),\" \"))","v":" "},null,"ALB",{"$f":"IF($L28=\"ALB\", IF(INTRO!$E$39=\"Non endémique\",IF($H28<>0,$D28*($H28-$G28),0),$D28*$H28), 0)","v":23649},41237,null,64886,{"$f":"IF($L28=\"MBD\", IF(INTRO!$E$39=\"Non endémique\",IF($H28<>0,$D28*($H28-$G28),0),$D28*$H28),0)","v":0},0,null,0,null,0,0,null,41237,207,null,0,0]
[{"$f":"IF(AND(INTRO!$E$37=\"Non endémique\",INTRO!$E$41=\"Non endémique\"),\" \",IF(COUNTRY_INFO!A29=0,\" \",COUNTRY_INFO!A29))","v":"Angola"},{"$f":"IF(AND(INTRO!$E$37=\"Non endémique\",INTRO!$E$41=\"Non endémique\"),\" \",IF(COUNTRY_INFO!B29=0,\" \",COUNTRY_INFO!B29))","v":"BIE"},{"$f":"IF(AND(INTRO!$E$37=\"Non endémique\",INTRO!$E$41=\"Non endémique\"),\" \",IF(COUNTRY_INFO!C29=0,\" \",COUNTRY_INFO!C29))","v":"CHITEMBO"},{"$f":"IF(AND(INTRO!$E$37=\"Non endémique\",INTRO!$E$41=\"Non endémique\"),0,IF(AND(OR(COUNTRY_INFO!$H29=0,COUNTRY_INFO!$H29=4,COUNTRY_INFO!$H29=99),OR(COUNTRY_INFO!$J29=0,COUNTRY_INFO!$J29=4)),0,COUNTRY_INFO!$E29))","v":14287},{"$f":"IF(AND(INTRO!$E$37=\"Non endémique\",INTRO!$E$41=\"Non endémique\"),0,IF(AND(OR(COUNTRY_INFO!$H29=0,COUNTRY_INFO!$H29=4,COUNTRY_INFO!$H29=99),OR(COUNTRY_INFO!$J29=0,COUNTRY_INFO!$J29=4)),0,COUNTRY_INFO!$F29))","v":24913},39200,{"$f":"IF(AND(INTRO!$E$37=\"Non endémique\",INTRO!$E$41=\"Non endémique\"),0,COUNTRY_INFO!Q29)","v":0},{"$f":"IF(AND(INTRO!$E$37=\"Non endémique\",INTRO!$E$41=\"Non endémique\"),0,COUNTRY_INFO!S29)","v":1},{"$f":"IF($G29=1,IVM!$G29,0)","v":0},{"$f":"IF($G29=0, \" \", IF(COUNTRY_INFO!$H29=1, IF(COUNTRY_INFO!$L29=1, 0,\" \"),\" \"))","v":" "},null,"ALB",{"$f":"IF($L29=\"ALB\", IF(INTRO!$E$39=\"Non endémique\",IF($H29<>0,$D29*($H29-$G29),0),$D29*$H29), 0)","v":14287},24913,null,39200,{"$f":"IF($L29=\"MBD\", IF(INTRO!$E$39=\"Non endémique\",IF($H29<>0,$D29*($H29-$G29),0),$D29*$H29),0)","v":0},0,null,0,null,0,0,null,24913,125,null,0,0]
[{"$f":"IF(AND(INTRO!$E$37=\"Non endémique\",INTRO!$E$41=\"Non endémique\"),\" \",IF(COUNTRY_INFO!A30=0,\" \",COUNTRY_INFO!A30))","v":"Angola"},{"$f":"IF(AND(INTRO!$E$37=\"Non endémique\",INTRO!$E$41=\"Non endémique\"),\" \",IF(COUNTRY_INFO!B30=0,\" \",COUNTRY_INFO!B30))","v":"BIE"},{"$f":"IF(AND(INTRO!$E$37=\"Non endémique\",INTRO!$E$41=\"Non endémique\"),\" \",IF(COUNTRY_INFO!C30=0,\" \",COUNTRY_INFO!C30))","v":"CUEMBA"},{"$f":"IF(AND(INTRO!$E$37=\"Non endémique\",INTRO!$E$41=\"Non endémique\"),0,IF(AND(OR(COUNTRY_INFO!$H30=0,COUNTRY_INFO!$H30=4,COUNTRY_INFO!$H30=99),OR(COUNTRY_INFO!$J30=0,COUNTRY_INFO!$J30=4)),0,COUNTRY_INFO!$E30))","v":10413},{"$f":"IF(AND(INTRO!$E$37=\"Non endémique\",INTRO!$E$41=\"Non endémique\"),0,IF(AND(OR(COUNTRY_INFO!$H30=0,COUNTRY_INFO!$H30=4,COUNTRY_INFO!$H30=99),OR(COUNTRY_INFO!$J30=0,COUNTRY_INFO!$J30=4)),0,COUNTRY_INFO!$F30))","v":18157},28570,{"$f":"IF(AND(INTRO!$E$37=\"Non endémique\",INTRO!$E$41=\"Non endémique\"),0,COUNTRY_INFO!Q30)","v":0},{"$f":"IF(AND(INTRO!$E$37=\"Non endémique\",INTRO!$E$41=\"Non endémique\"),0,COUNTRY_INFO!S30)","v":1},{"$f":"IF($G30=1,IVM!$G30,0)","v":0},{"$f":"IF($G30=0, \" \", IF(COUNTRY_INFO!$H30=1, IF(COUNTRY_INFO!$L30=1, 0,\" \"),\" \"))","v":" "},null,"ALB",{"$f":"IF($L30=\"ALB\", IF(INTRO!$E$39=\"Non endémique\",IF($H30<>0,$D30*($H30-$G30),0),$D30*$H30), 0)","v":10413},18157,null,28570,{"$f":"IF($L30=\"MBD\", IF(INTRO!$E$39=\"Non endémique\",IF($H30<>0,$D30*($H30-$G30),0),$D30*$H30),0)","v":0},0,null,0,null,0,0,null,18157,91,null,0,0]
[{"$f":"IF(AND(INTRO!$E$37=\"Non endémique\",INTRO!$E$41=\"Non endémique\"),\" \",IF(COUNTRY_INFO!A31=0,\" \",COUNTRY_INFO!A31))","v":"Angola"},{"$f":"IF(AND(INTRO!$E$37=\"Non endémique\",INTRO!$E$41=\"Non endémique\"),\" \",IF(COUNTRY_INFO!B31=0,\" \",COUNTRY_INFO!B31))","v":"BIE"},{"$f":"IF(AND(INTRO!$E$37=\"Non endémique\",INTRO!$E$41=\"Non endémique\"),\" \",IF(COUNTRY_INFO!C31=0,\" \",COUNTRY_INFO!C31))","v":"CUNHINGA"},{"$f":"IF(AND(INTRO!$E$37=\"Non endémique\",INTRO!$E$41=\"Non endémique\"),0,IF(AND(OR(COUNTRY_INFO!$H31=0,COUNTRY_INFO!$H31=4,COUNTRY_INFO!$H31=99),OR(COUNTRY_INFO!$J31=0,COUNTRY_INFO!$J31=4)),0,COUNTRY_INFO!$E31))","v":13495},{"$f":"IF(AND(INTRO!$E$37=\"Non endémique\",INTRO!$E$41=\"Non endémique\"),0,IF(AND(OR(COUNTRY_INFO!$H31=0,COUNTRY_INFO!$H31=4,COUNTRY_INFO!$H31=99),OR(COUNTRY_INFO!$J31=0,COUNTRY_INFO!$J31=4)),0,COUNTRY_INFO!$F31))","v":23532},37027,{"$f":"IF(AND(INTRO!$E$37=\"Non endémique\",INTRO!$E$41=\"Non endémique\"),0,COUNTRY_INFO!Q31)","v":0},{"$f":"IF(AND(INTRO!$E$37=\"Non endémique\",INTRO!$E$41=\"Non endémique\"),0,COUNTRY_INFO!S31)","v":1},{"$f":"IF($G31=1,IVM!$G31,0)","v":0},{"$f":"IF($G31=0, \" \", IF(COUNTRY_INFO!$H31=1, IF(COUNTRY_INFO!$L31=1, 0,\" \"),\" \"))","v":" "},null,"ALB",{"$f":"IF($L31=\"ALB\", IF(INTRO!$E$39=\"Non endémique\",IF($H31<>0,$D31*($H31-$G31),0),$D31*$H31), 0)","v":13495},23532,null,37027,{"$f":"IF($L31=\"MBD\", IF(INTRO!$E$39=\"Non endémique\",IF($H31<>0,$D31*($H31-$G31),0),$D31*$H31),0)","v":0},0,null,0,null,0,0,null,23532,118,null,0,0]
[{"$f":"IF(AND(INTRO!$E$37=\"Non endémique\",INTRO!$E$41=\"Non endémique\"),\" \",IF(COUNTRY_INFO!A32=0,\" \",COUNTRY_INFO!A32))","v":"Angola"},{"$f":"IF(AND(INTRO!$E$37=\"Non endémique\",INTRO!$E$41=\"Non endémique\"),\" \",IF(COUNTRY_INFO!B32=0,\" \",COUNTRY_INFO!B32))","v":"BIE"},{"$f":"IF(AND(INTRO!$E$37=\"Non endémique\",INTRO!$E$41=\"Non endémique\"),\" \",IF(COUNTRY_INFO!C32=0,\" \",COUNTRY_INFO!C32))","v":"KUITO"},{"$f":"IF(AND(INTRO!$E$37=\"Non endémique\",INTRO!$E$41=\"Non endémique\"),0,IF(AND(OR(COUNTRY_INFO!$H32=0,COUNTRY_INFO!$H32=4,COUNTRY_INFO!$H32=99),OR(COUNTRY_INFO!$J32=0,COUNTRY_INFO!$J32=4)),0,COUNTRY_INFO!$E32))","v":82420},{"$f":"IF(AND(INTRO!$E$37=\"Non endémique\",INTRO!$E$41=\"Non endémique\"),0,IF(AND(OR(COUNTRY_INFO!$H32=0,COUNTRY_INFO!$H32=4,COUNTRY_INFO!$H32=99),OR(COUNTRY_INFO!$J32=0,COUNTRY_INFO!$J32=4)),0,COUNTRY_INFO!$F32))","v":143720},226140,{"$f":"IF(AND(INTRO!$E$37=\"Non endémique\",INTRO!$E$41=\"Non endémique\"),0,COUNTRY_INFO!Q32)","v":0},{"$f":"IF(AND(INTRO!$E$37=\"Non endémique\",INTRO!$E$41=\"Non endémique\"),0,COUNTRY_INFO!S32)","v":1},{"$f":"IF($G32=1,IVM!$G32,0)","v":0},{"$f":"IF($G32=0, \" \", IF(COUNTRY_INFO!$H32=1, IF(COUNTRY_INFO!$L32=1, 0,\" \"),\" \"))","v":" "},null,"ALB",{"$f":"IF($L32=\"ALB\", IF(INTRO!$E$39=\"Non endémique\",IF($H32<>0,$D32*($H32-$G32),0),$D32*$H32), 0)","v":82420},143720,null,226140,{"$f":"IF($L32=\"MBD\", IF(INTRO!$E$39=\"Non endémique\",IF($H32<>0,$D32*($H32-$G32),0),$D32*$H32),0)","v":0},0,null,0,null,0,0,null,143720,719,null,0,0]
[{"$f":"IF(AND(INTRO!$E$37=\"Non endémique\",INTRO!$E$41=\"Non endémique\"),\" \",IF(COUNTRY_INFO!A33=0,\" \",COUNTRY_INFO!A33))","v":"Angola"},{"$f":"IF(AND(INTRO!$E$37=\"Non endémique\",INTRO!$E$41=\"Non endémique\"),\" \",IF(COUNTRY_INFO!B33=0,\" \",COUNTRY_INFO!B33))","v":"BIE"},{"$f":"IF(AND(INTRO!$E$37=\"Non endémique\",INTRO!$E$41=\"Non endémique\"),\" \",IF(COUNTRY_INFO!C33=0,\" \",COUNTRY_INFO!C33))","v":"NHAREA"},{"$f":"IF(AND(INTRO!$E$37=\"Non endémique\",INTRO!$E$41=\"Non endémique\"),0,IF(AND(OR(COUNTRY_INFO!$H33=0,COUNTRY_INFO!$H33=4,COUNTRY_INFO!$H33=99),OR(COUNTRY_INFO!$J33=0,COUNTRY_INFO!$J33=4)),0,COUNTRY_INFO!$E33))","v":23095},{"$f":"IF(AND(INTRO!$E$37=\"Non endémique\",INTRO!$E$41=\"Non endémique\"),0,IF(AND(OR(COUNTRY_INFO!$H33=0,COUNTRY_INFO!$H33=4,COUNTRY_INFO!$H33=99),OR(COUNTRY_INFO!$J33=0,COUNTRY_INFO!$J33=4)),0,COUNTRY_INFO!$F33))","v":40271},63366,{"$f":"IF(AND(INTRO!$E$37=\"Non endémique\",INTRO!$E$41=\"Non endémique\"),0,COUNTRY_INFO!Q33)","v":0},{"$f":"IF(AND(INTRO!$E$37=\"Non endémique\",INTRO!$E$41=\"Non endémique\"),0,COUNTRY_INFO!S33)","v":1},{"$f":"IF($G33=1,IVM!$G33,0)","v":0},{"$f":"IF($G33=0, \" \", IF(COUNTRY_INFO!$H33=1, IF(COUNTRY_INFO!$L33=1, 0,\" \"),\" \"))","v":" "},null,"ALB",{"$f":"IF($L33=\"ALB\", IF(INTRO!$E$39=\"Non endémique\",IF($H33<>0,$D33*($H33-$G33),0),$D33*$H33), 0)","v":23095},40271,null,63366,{"$f":"IF($L33=\"MBD\", IF(INTRO!$E$39=\"Non endémique\",IF($H33<>0,$D33*($H33-$G33),0),$D33*$H33),0)","v":0},0,null,0,null,0,0,null,40271,202,null,0,0]
[{"$f":"IF(AND(INTRO!$E$37=\"Non endémique\",INTRO!$E$41=\"Non endémique\"),\" \",IF(COUNTRY_INFO!A34=0,\" \",COUNTRY_INFO!A34))","v":"Angola"},{"$f":"IF(AND(INTRO!$E$37=\"Non endémique\",INTRO!$E$41=\"Non endémique\"),\" \",IF(COUNTRY_INFO!B34=0,\" \",COUNTRY_INFO!B34))","v":"CABINDA"},{"$f":"IF(AND(INTRO!$E$37=\"Non endémique\",INTRO!$E$41=\"Non endémique\"),\" \",IF(COUNTRY_INFO!C34=0,\" \",COUNTRY_INFO!C34))","v":"BELIZE"},{"$f":"IF(AND(INTRO!$E$37=\"Non endémique\",INTRO!$E$41=\"Non endémique\"),0,IF(AND(OR(COUNTRY_INFO!$H34=0,COUNTRY_INFO!$H34=4,COUNTRY_INFO!$H34=99),OR(COUNTRY_INFO!$J34=0,COUNTRY_INFO!$J34=4)),0,COUNTRY_INFO!$E34))","v":3576},{"$f":"IF(AND(INTRO!$E$37=\"Non endémique\",INTRO!$E$41=\"Non endémique\"),0,IF(AND(OR(COUNTRY_INFO!$H34=0,COUNTRY_INFO!$H34=4,COUNTRY_INFO!$H34=99),OR(COUNTRY_INFO!$J34=0,COUNTRY_INFO!$J34=4)),0,COUNTRY_INFO!$F34))","v":6235},9811,{"$f":"IF(AND(INTRO!$E$37=\"Non endémique\",INTRO!$E$41=\"Non endémique\"),0,COUNTRY_INFO!Q34)","v":0},{"$f":"IF(AND(INTRO!$E$37=\"Non endémique\",INTRO!$E$41=\"Non endémique\"),0,COUNTRY_INFO!S34)","v":1},{"$f":"IF($G34=1,IVM!$G34,0)","v":0},{"$f":"IF($G34=0, \" \", IF(COUNTRY_INFO!$H34=1, IF(COUNTRY_INFO!$L34=1, 0,\" \"),\" \"))","v":" "},null,"ALB",{"$f":"IF($L34=\"ALB\", IF(INTRO!$E$39=\"Non endémique\",IF($H34<>0,$D34*($H34-$G34),0),$D34*$H34), 0)","v":3576},6235,null,9811,{"$f":"IF($L34=\"MBD\", IF(INTRO!$E$39=\"Non endémique\",IF($H34<>0,$D34*($H34-$G34),0),$D34*$H34),0)","v":0},0,null,0,null,0,0,null,6235,32,null,0,0]
[{"$f":"IF(AND(INTRO!$E$37=\"Non endémique\",INTRO!$E$41=\"Non endémique\"),\" \",IF(COUNTRY_INFO!A35=0,\" \",COUNTRY_INFO!A35))","v":"Angola"},{"$f":"IF(AND(INTRO!$E$37=\"Non endémique\",INTRO!$E$41=\"Non endémique\"),\" \",IF(COUNTRY_INFO!B35=0,\" \",COUNTRY_INFO!B35))","v":"CABINDA"},{"$f":"IF(AND(INTRO!$E$37=\"Non endémique\",INTRO!$E$41=\"Non endémique\"),\" \",IF(COUNTRY_INFO!C35=0,\" \",COUNTRY_INFO!C35))","v":"BUCO ZAU"},{"$f":"IF(AND(INTRO!$E$37=\"Non endémique\",INTRO!$E$41=\"Non endémique\"),0,IF(AND(OR(COUNTRY_INFO!$H35=0,COUNTRY_INFO!$H35=4,COUNTRY_INFO!$H35=99),OR(COUNTRY_INFO!$J35=0,COUNTRY_INFO!$J35=4)),0,COUNTRY_INFO!$E35))","v":5994},{"$f":"IF(AND(INTRO!$E$37=\"Non endémique\",INTRO!$E$41=\"Non endémique\"),0,IF(AND(OR(COUNTRY_INFO!$H35=0,COUNTRY_INFO!$H35=4,COUNTRY_INFO!$H35=99),OR(COUNTRY_INFO!$J35=0,COUNTRY_INFO!$J35=4)),0,COUNTRY_INFO!$F35))","v":10453},16447,{"$f":"IF(AND(INTRO!$E$37=\"Non endémique\",INTRO!$E$41=\"Non endémique\"),0,COUNTRY_INFO!Q35)","v":0},{"$f":"IF(AND(INTRO!$E$37=\"Non endémique\",INTRO!$E$41=\"Non endémique\"),0,COUNTRY_INFO!S35)","v":1},{"$f":"IF($G35=1,IVM!$G35,0)","v":0},{"$f":"IF($G35=0, \" \", IF(COUNTRY_INFO!$H35=1, IF(COUNTRY_INFO!$L35=1, 0,\" \"),\" \"))","v":" "},null,"ALB",{"$f":"IF($L35=\"ALB\", IF(INTRO!$E$39=\"Non endémique\",IF($H35<>0,$D35*($H35-$G35),0),$D35*$H35), 0)","v":5994},10453,null,16447,{"$f":"IF($L35=\"MBD\", IF(INTRO!$E$39=\"Non endémique\",IF($H35<>0,$D35*($H35-$G35),0),$D35*$H35),0)","v":0},0,null,0,null,0,0,null,10453,53,null,0,0]
[{"$f":"IF(AND(INTRO!$E$37=\"Non endémique\",INTRO!$E$41=\"Non endémique\"),\" \",IF(COUNTRY_INFO!A36=0,\" \",COUNTRY_INFO!A36))","v":"Angola"},{"$f":"IF(AND(INTRO!$E$37=\"Non endémique\",INTRO!$E$41=\"Non endémique\"),\" \",IF(COUNTRY_INFO!B36=0,\" \",COUNTRY_INFO!B36))","v":"CABINDA"},{"$f":"IF(AND(INTRO!$E$37=\"Non endémique\",INTRO!$E$41=\"Non endémique\"),\" \",IF(COUNTRY_INFO!C36=0,\" \",COUNTRY_INFO!C36))","v":"CABINDA"},{"$f":"IF(AND(INTRO!$E$37=\"Non endémique\",INTRO!$E$41=\"Non endémique\"),0,IF(AND(OR(COUNTRY_INFO!$H36=0,COUNTRY_INFO!$H36=4,COUNTRY_INFO!$H36=99),OR(COUNTRY_INFO!$J36=0,COUNTRY_INFO!$J36=4)),0,COUNTRY_INFO!$E36))","v":114184},{"$f":"IF(AND(INTRO!$E$37=\"Non endémique\",INTRO!$E$41=\"Non endémique\"),0,IF(AND(OR(COUNTRY_INFO!$H36=0,COUNTRY_INFO!$H36=4,COUNTRY_INFO!$H36=99),OR(COUNTRY_INFO!$J36=0,COUNTRY_INFO!$J36=4)),0,COUNTRY_INFO!$F36))","v":199109},313293,{"$f":"IF(AND(INTRO!$E$37=\"Non endémique\",INTRO!$E$41=\"Non endémique\"),0,COUNTRY_INFO!Q36)","v":0},{"$f":"IF(AND(INTRO!$E$37=\"Non endémique\",INTRO!$E$41=\"Non endémique\"),0,COUNTRY_INFO!S36)","v":1},{"$f":"IF($G36=1,IVM!$G36,0)","v":0},{"$f":"IF($G36=0, \" \", IF(COUNTRY_INFO!$H36=1, IF(COUNTRY_INFO!$L36=1, 0,\" \"),\" \"))","v":" "},null,"ALB",{"$f":"IF($L36=\"ALB\", IF(INTRO!$E$39=\"Non endémique\",IF($H36<>0,$D36*($H36-$G36),0),$D36*$H36), 0)","v":114184},199109,null,313293,{"$f":"IF($L36=\"MBD\", IF(INTRO!$E$39=\"Non endémique\",IF($H36<>0,$D36*($H36-$G36),0),$D36*$H36),0)","v":0},0,null,0,null,0,0,null,199109,996,null,0,0]
[{"$f":"IF(AND(INTRO!$E$37=\"Non endémique\",INTRO!$E$41=\"Non endémique\"),\" \",IF(COUNTRY_INFO!A37=0,\" \",COUNTRY_INFO!A37))","v":"Angola"},{"$f":"IF(AND(INTRO!$E$37=\"Non endémique\",INTRO!$E$41=\"Non endémique\"),\" \",IF(COUNTRY_INFO!B37=0,\" \",COUNTRY_INFO!B37))","v":"CABINDA"},{"$f":"IF(AND(INTRO!$E$37=\"Non endémique\",INTRO!$E$41=\"Non endémique\"),\" \",IF(COUNTRY_INFO!C37=0,\" \",COUNTRY_INFO!C37))","v":"CACONGO"},{"$f":"IF(AND(INTRO!$E$37=\"Non endémique\",INTRO!$E$41=\"Non endémique\"),0,IF(AND(OR(COUNTRY_INFO!$H37=0,COUNTRY_INFO!$H37=4,COUNTRY_INFO!$H37=99),OR(COUNTRY_INFO!$J37=0,COUNTRY_INFO!$J37=4)),0,COUNTRY_INFO!$E37))","v":7143},{"$f":"IF(AND(INTRO!$E$37=\"Non endémique\",INTRO!$E$41=\"Non endémique\"),0,IF(AND(OR(COUNTRY_INFO!$H37=0,COUNTRY_INFO!$H37=4,COUNTRY_INFO!$H37=99),OR(COUNTRY_INFO!$J37=0,COUNTRY_INFO!$J37=4)),0,COUNTRY_INFO!$F37))","v":12456},19599,{"$f":"IF(AND(INTRO!$E$37=\"Non endémique\",INTRO!$E$41=\"Non endémique\"),0,COUNTRY_INFO!Q37)","v":0},{"$f":"IF(AND(INTRO!$E$37=\"Non endémique\",INTRO!$E$41=\"Non endémique\"),0,COUNTRY_INFO!S37)","v":1},{"$f":"IF($G37=1,IVM!$G37,0)","v":0},{"$f":"IF($G37=0, \" \", IF(COUNTRY_INFO!$H37=1, IF(COUNTRY_INFO!$L37=1, 0,\" \"),\" \"))","v":" "},null,"ALB",{"$f":"IF($L37=\"ALB\", IF(INTRO!$E$39=\"Non endémique\",IF($H37<>0,$D37*($H37-$G37),0),$D37*$H37), 0)","v":7143},12456,null,19599,{"$f":"IF($L37=\"MBD\", IF(INTRO!$E$39=\"Non endémique\",IF($H37<>0,$D37*($H37-$G37),0),$D37*$H37),0)","v":0},0,null,0,null,0,0,null,12456,63,null,0,0]
[{"$f":"IF(AND(INTRO!$E$37=\"Non endémique\",INTRO!$E$41=\"Non endémique\"),\" \",IF(COUNTRY_INFO!A38=0,\" \",COUNTRY_INFO!A38))","v":"Angola"},{"$f":"IF(AND(INTRO!$E$37=\"Non endémique\",INTRO!$E$41=\"Non endémique\"),\" \",IF(COUNTRY_INFO!B38=0,\" \",COUNTRY_INFO!B38))","v":"CUNENE"},{"$f":"IF(AND(INTRO!$E$37=\"Non endémique\",INTRO!$E$41=\"Non endémique\"),\" \",IF(COUNTRY_INFO!C38=0,\" \",COUNTRY_INFO!C38))","v":"CAHAMA"},{"$f":"IF(AND(INTRO!$E$37=\"Non endémique\",INTRO!$E$41=\"Non endémique\"),0,IF(AND(OR(COUNTRY_INFO!$H38=0,COUNTRY_INFO!$H38=4,COUNTRY_INFO!$H38=99),OR(COUNTRY_INFO!$J38=0,COUNTRY_INFO!$J38=4)),0,COUNTRY_INFO!$E38))","v":12807},{"$f":"IF(AND(INTRO!$E$37=\"Non endémique\",INTRO!$E$41=\"Non endémique\"),0,IF(AND(OR(COUNTRY_INFO!$H38=0,COUNTRY_INFO!$H38=4,COUNTRY_INFO!$H38=99),OR(COUNTRY_INFO!$J38=0,COUNTRY_INFO!$J38=4)),0,COUNTRY_INFO!$F38))","v":22332},35139,{"$f":"IF(AND(INTRO!$E$37=\"Non endémique\",INTRO!$E$41=\"Non endémique\"),0,COUNTRY_INFO!Q38)","v":0},{"$f":"IF(AND(INTRO!$E$37=\"Non endémique\",INTRO!$E$41=\"Non endémique\"),0,COUNTRY_INFO!S38)","v":1},{"$f":"IF($G38=1,IVM!$G38,0)","v":0},{"$f":"IF($G38=0, \" \", IF(COUNTRY_INFO!$H38=1, IF(COUNTRY_INFO!$L38=1, 0,\" \"),\" \"))","v":" "},null,"ALB",{"$f":"IF($L38=\"ALB\", IF(INTRO!$E$39=\"Non endémique\",IF($H38<>0,$D38*($H38-$G38),0),$D38*$H38), 0)","v":12807},22332,null,35139,{"$f":"IF($L38=\"MBD\", IF(INTRO!$E$39=\"Non endémique\",IF($H38<>0,$D38*($H38-$G38),0),$D38*$H38),0)","v":0},0,null,0,null,0,0,null,22332,112,null,0,0]
[{"$f":"IF(AND(INTRO!$E$37=\"Non endémique\",INTRO!$E$41=\"Non endémique\"),\" \",IF(COUNTRY_INFO!A39=0,\" \",COUNTRY_INFO!A39))","v":"Angola"},{"$f":"IF(AND(INTRO!$E$37=\"Non endémique\",INTRO!$E$41=\"Non endémique\"),\" \",IF(COUNTRY_INFO!B39=0,\" \",COUNTRY_INFO!B39))","v":"CUNENE"},{"$f":"IF(AND(INTRO!$E$37=\"Non endémique\",INTRO!$E$41=\"Non endémique\"),\" \",IF(COUNTRY_INFO!C39=0,\" \",COUNTRY_INFO!C39))","v":"CUANHAMA"},{"$f":"IF(AND(INTRO!$E$37=\"Non endémique\",INTRO!$E$41=\"Non endémique\"),0,IF(AND(OR(COUNTRY_INFO!$H39=0,COUNTRY_INFO!$H39=4,COUNTRY_INFO!$H39=99),OR(COUNTRY_INFO!$J39=0,COUNTRY_INFO!$J39=4)),0,COUNTRY_INFO!$E39))","v":68463},{"$f":"IF(AND(INTRO!$E$37=\"Non endémique\",INTRO!$E$41=\"Non endémique\"),0,IF(AND(OR(COUNTRY_INFO!$H39=0,COUNTRY_INFO!$H39=4,COUNTRY_INFO!$H39=99),OR(COUNTRY_INFO!$J39=0,COUNTRY_INFO!$J39=4)),0,COUNTRY_INFO!$F39))","v":119383},187846,{"$f":"IF(AND(INTRO!$E$37=\"Non endémique\",INTRO!$E$41=\"Non endémique\"),0,COUNTRY_INFO!Q39)","v":0},{"$f":"IF(AND(INTRO!$E$37=\"Non endémique\",INTRO!$E$41=\"Non endémique\"),0,COUNTRY_INFO!S39)","v":1},{"$f":"IF($G39=1,IVM!$G39,0)","v":0},{"$f":"IF($G39=0, \" \", IF(COUNTRY_INFO!$H39=1, IF(COUNTRY_INFO!$L39=1, 0,\" \"),\" \"))","v":" "},null,"ALB",{"$f":"IF($L39=\"ALB\", IF(INTRO!$E$39=\"Non endémique\",IF($H39<>0,$D39*($H39-$G39),0),$D39*$H39), 0)","v":68463},119383,null,187846,{"$f":"IF($L39=\"MBD\", IF(INTRO!$E$39=\"Non endémique\",IF($H39<>0,$D39*($H39-$G39),0),$D39*$H39),0)","v":0},0,null,0,null,0,0,null,119383,597,null,0,0]
[{"$f":"IF(AND(INTRO!$E$37=\"Non endémique\",INTRO!$E$41=\"Non endémique\"),\" \",IF(COUNTRY_INFO!A40=0,\" \",COUNTRY_INFO!A40))","v":"Angola"},{"$f":"IF(AND(INTRO!$E$37=\"Non endémique\",INTRO!$E$41=\"Non endémique\"),\" \",IF(COUNTRY_INFO!B40=0,\" \",COUNTRY_INFO!B40))","v":"CUNENE"},{"$f":"IF(AND(INTRO!$E$37=\"Non endémique\",INTRO!$E$41=\"Non endémique\"),\" \",IF(COUNTRY_INFO!C40=0,\" \",COUNTRY_INFO!C40))","v":"CUROCA"},{"$f":"IF(AND(INTRO!$E$37=\"Non endémique\",INTRO!$E$41=\"Non endémique\"),0,IF(AND(OR(COUNTRY_INFO!$H40=0,COUNTRY_INFO!$H40=4,COUNTRY_INFO!$H40=99),OR(COUNTRY_INFO!$J40=0,COUNTRY_INFO!$J40=4)),0,COUNTRY_INFO!$E40))","v":7511},{"$f":"IF(AND(INTRO!$E$37=\"Non endémique\",INTRO!$E$41=\"Non endémique\"),0,IF(AND(OR(COUNTRY_INFO!$H40=0,COUNTRY_INFO!$H40=4,COUNTRY_INFO!$H40=99),OR(COUNTRY_INFO!$J40=0,COUNTRY_INFO!$J40=4)),0,COUNTRY_INFO!$F40))","v":13097},20608,{"$f":"IF(AND(INTRO!$E$37=\"Non endémique\",INTRO!$E$41=\"Non endémique\"),0,COUNTRY_INFO!Q40)","v":0},{"$f":"IF(AND(INTRO!$E$37=\"Non endémique\",INTRO!$E$41=\"Non endémique\"),0,COUNTRY_INFO!S40)","v":1},{"$f":"IF($G40=1,IVM!$G40,0)","v":0},{"$f":"IF($G40=0, \" \", IF(COUNTRY_INFO!$H40=1, IF(COUNTRY_INFO!$L40=1, 0,\" \"),\" \"))","v":" "},null,"ALB",{"$f":"IF($L40=\"ALB\", IF(INTRO!$E$39=\"Non endémique\",IF($H40<>0,$D40*($H40-$G40),0),$D40*$H40), 0)","v":7511},13097,null,20608,{"$f":"IF($L40=\"MBD\", IF(INTRO!$E$39=\"Non endémique\",IF($H40<>0,$D40*($H40-$G40),0),$D40*$H40),0)","v":0},0,null,0,null,0,0,null,13097,66,null,0,0]
[{"$f":"IF(AND(INTRO!$E$37=\"Non endémique\",INTRO!$E$41=\"Non endémique\"),\" \",IF(COUNTRY_INFO!A41=0,\" \",COUNTRY_INFO!A41))","v":"Angola"},{"$f":"IF(AND(INTRO!$E$37=\"Non endémique\",INTRO!$E$41=\"Non endémique\"),\" \",IF(COUNTRY_INFO!B41=0,\" \",COUNTRY_INFO!B41))","v":"CUNENE"},{"$f":"IF(AND(INTRO!$E$37=\"Non endémique\",INTRO!$E$41=\"Non endémique\"),\" \",IF(COUNTRY_INFO!C41=0,\" \",COUNTRY_INFO!C41))","v":"CUVELAI"},{"$f":"IF(AND(INTRO!$E$37=\"Non endémique\",INTRO!$E$41=\"Non endémique\"),0,IF(AND(OR(COUNTRY_INFO!$H41=0,COUNTRY_INFO!$H41=4,COUNTRY_INFO!$H41=99),OR(COUNTRY_INFO!$J41=0,COUNTRY_INFO!$J41=4)),0,COUNTRY_INFO!$E41))","v":10492},{"$f":"IF(AND(INTRO!$E$37=\"Non endémique\",INTRO!$E$41=\"Non endémique\"),0,IF(AND(OR(COUNTRY_INFO!$H41=0,COUNTRY_INFO!$H41=4,COUNTRY_INFO!$H41=99),OR(COUNTRY_INFO!$J41=0,COUNTRY_INFO!$J41=4)),0,COUNTRY_INFO!$F41))","v":18296},{"$f":"SUM(D41:E41)","v":28788},{"$f":"IF(AND(INTRO!$E$37=\"Non endémique\",INTRO!$E$41=\"Non endémique\"),0,COUNTRY_INFO!Q41)","v":0},{"$f":"IF(AND(INTRO!$E$37=\"Non endémique\",INTRO!$E$41=\"Non endémique\"),0,COUNTRY_INFO!S41)","v":1},{"$f":"IF($G41=1,IVM!$G41,0)","v":0},{"$f":"IF($G41=0, \" \", IF(COUNTRY_INFO!$H41=1, IF(COUNTRY_INFO!$L41=1, 0,\" \"),\" \"))","v":" "},null,"ALB",{"$f":"IF($L41=\"ALB\", IF(INTRO!$E$39=\"Non endémique\",IF($H41<>0,$D41*($H41-$G41),0),$D41*$H41), 0)","v":10492},{"$f":"IF($L41=\"ALB\", IF($H41<>0, IF($I41=0, $E41*$H41, $E41*($H41-$G41)),0), 0)","v":18296},null,{"$f":"SUM(M41:O41)","v":28788},{"$f":"IF($L41=\"MBD\", IF(INTRO!$E$39=\"Non endémique\",IF($H41<>0,$D41*($H41-$G41),0),$D41*$H41),0)","v":0},{"$f":"IF($L41=\"MBD\", IF($H41<>0,IF($I41=0, $E41*$H41, $E41*($H41-$G41)),0), 0 )","v":0},null,{"$f":"SUM(Q41:S41)","v":0},null,{"$f":"IF($J41<>\" \", IF(($I41+$J41*$K41)>$U41, ($I41+$J41*$K41)-$U41,0), IF($I41>$U41, $I41-$U41, 0))","v":0},{"$f":"IF($J41<>\" \", ROUNDUP(($I41+$J41*$K41)/200,0), ROUNDUP($I41/200,0))","v":0},null,{"$f":"IF($N41>$X41,$N41-$X41,0)","v":18296},{"$f":"ROUNDUP($N41/200,0)","v":92},null,{"$f":"IF($R41>$AA41,$R41-$AA41,0)","v":0},{"$f":"ROUNDUP($R41/150,0)","v":0}]
[{"$f":"IF(AND(INTRO!$E$37=\"Non endémique\",INTRO!$E$41=\"Non endémique\"),\" \",IF(COUNTRY_INFO!A42=0,\" \",COUNTRY_INFO!A42))","v":"Angola"},{"$f":"IF(AND(INTRO!$E$37=\"Non endémique\",INTRO!$E$41=\"Non endémique\"),\" \",IF(COUNTRY_INFO!B42=0,\" \",COUNTRY_INFO!B42))","v":"CUNENE"},{"$f":"IF(AND(INTRO!$E$37=\"Non endémique\",INTRO!$E$41=\"Non endémique\"),\" \",IF(COUNTRY_INFO!C42=0,\" \",COUNTRY_INFO!C42))","v":"NAMACUNDE"},{"$f":"IF(AND(INTRO!$E$37=\"Non endémique\",INTRO!$E$41=\"Non endémique\"),0,IF(AND(OR(COUNTRY_INFO!$H42=0,COUNTRY_INFO!$H42=4,COUNTRY_INFO!$H42=99),OR(COUNTRY_INFO!$J42=0,COUNTRY_INFO!$J42=4)),0,COUNTRY_INFO!$E42))","v":25966},{"$f":"IF(AND(INTRO!$E$37=\"Non endémique\",INTRO!$E$41=\"Non endémique\"),0,IF(AND(OR(COUNTRY_INFO!$H42=0,COUNTRY_INFO!$H42=4,COUNTRY_INFO!$H42=99),OR(COUNTRY_INFO!$J42=0,COUNTRY_INFO!$J42=4)),0,COUNTRY_INFO!$F42))","v":45278},71244,{"$f":"IF(AND(INTRO!$E$37=\"Non endémique\",INTRO!$E$41=\"Non endémique\"),0,COUNTRY_INFO!Q42)","v":0},{"$f":"IF(AND(INTRO!$E$37=\"Non endémique\",INTRO!$E$41=\"Non endémique\"),0,COUNTRY_INFO!S42)","v":1},{"$f":"IF($G42=1,IVM!$G42,0)","v":0},{"$f":"IF($G42=0, \" \", IF(COUNTRY_INFO!$H42=1, IF(COUNTRY_INFO!$L42=1, 0,\" \"),\" \"))","v":" "},null,"ALB",{"$f":"IF($L42=\"ALB\", IF(INTRO!$E$39=\"Non endémique\",IF($H42<>0,$D42*($H42-$G42),0),$D42*$H42), 0)","v":25966},45278,null,71244,{"$f":"IF($L42=\"MBD\", IF(INTRO!$E$39=\"Non endémique\",IF($H42<>0,$D42*($H42-$G42),0),$D42*$H42),0)","v":0},0,null,0,null,0,0,null,45278,227,null,0,0]
[{"$f":"IF(AND(INTRO!$E$37=\"Non endémique\",INTRO!$E$41=\"Non endémique\"),\" \",IF(COUNTRY_INFO!A43=0,\" \",COUNTRY_INFO!A43))","v":"Angola"},{"$f":"IF(AND(INTRO!$E$37=\"Non endémique\",INTRO!$E$41=\"Non endémique\"),\" \",IF(COUNTRY_INFO!B43=0,\" \",COUNTRY_INFO!B43))","v":"CUNENE"},{"$f":"IF(AND(INTRO!$E$37=\"Non endémique\",INTRO!$E$41=\"Non endémique\"),\" \",IF(COUNTRY_INFO!C43=0,\" \",COUNTRY_INFO!C43))","v":"OMBADJA"},{"$f":"IF(AND(INTRO!$E$37=\"Non endémique\",INTRO!$E$41=\"Non endémique\"),0,IF(AND(OR(COUNTRY_INFO!$H43=0,COUNTRY_INFO!$H43=4,COUNTRY_INFO!$H43=99),OR(COUNTRY_INFO!$J43=0,COUNTRY_INFO!$J43=4)),0,COUNTRY_INFO!$E43))","v":55747},{"$f":"IF(AND(INTRO!$E$37=\"Non endémique\",INTRO!$E$41=\"Non endémique\"),0,IF(AND(OR(COUNTRY_INFO!$H43=0,COUNTRY_INFO!$H43=4,COUNTRY_INFO!$H43=99),OR(COUNTRY_INFO!$J43=0,COUNTRY_INFO!$J43=4)),0,COUNTRY_INFO!$F43))","v":97209},152956,{"$f":"IF(AND(INTRO!$E$37=\"Non endémique\",INTRO!$E$41=\"Non endémique\"),0,COUNTRY_INFO!Q43)","v":0},{"$f":"IF(AND(INTRO!$E$37=\"Non endémique\",INTRO!$E$41=\"Non endémique\"),0,COUNTRY_INFO!S43)","v":1},{"$f":"IF($G43=1,IVM!$G43,0)","v":0},{"$f":"IF($G43=0, \" \", IF(COUNTRY_INFO!$H43=1, IF(COUNTRY_INFO!$L43=1, 0,\" \"),\" \"))","v":" "},null,"ALB",{"$f":"IF($L43=\"ALB\", IF(INTRO!$E$39=\"Non endémique\",IF($H43<>0,$D43*($H43-$G43),0),$D43*$H43), 0)","v":55747},97209,null,152956,{"$f":"IF($L43=\"MBD\", IF(INTRO!$E$39=\"Non endémique\",IF($H43<>0,$D43*($H43-$G43),0),$D43*$H43),0)","v":0},0,null,0,null,0,0,null,97209,487,null,0,0]
[{"$f":"IF(AND(INTRO!$E$37=\"Non endémique\",INTRO!$E$41=\"Non endémique\"),\" \",IF(COUNTRY_INFO!A44=0,\" \",COUNTRY_INFO!A44))","v":"Angola"},{"$f":"IF(AND(INTRO!$E$37=\"Non endémique\",INTRO!$E$41=\"Non endémique\"),\" \",IF(COUNTRY_INFO!B44=0,\" \",COUNTRY_INFO!B44))","v":"HUAMBO"},{"$f":"IF(AND(INTRO!$E$37=\"Non endémique\",INTRO!$E$41=\"Non endémique\"),\" \",IF(COUNTRY_INFO!C44=0,\" \",COUNTRY_INFO!C44))","v":"BAILUNDO"},{"$f":"IF(AND(INTRO!$E$37=\"Non endémique\",INTRO!$E$41=\"Non endémique\"),0,IF(AND(OR(COUNTRY_INFO!$H44=0,COUNTRY_INFO!$H44=4,COUNTRY_INFO!$H44=99),OR(COUNTRY_INFO!$J44=0,COUNTRY_INFO!$J44=4)),0,COUNTRY_INFO!$E44))","v":53833},{"$f":"IF(AND(INTRO!$E$37=\"Non endémique\",INTRO!$E$41=\"Non endémique\"),0,IF(AND(OR(COUNTRY_INFO!$H44=0,COUNTRY_INFO!$H44=4,COUNTRY_INFO!$H44=99),OR(COUNTRY_INFO!$J44=0,COUNTRY_INFO!$J44=4)),0,COUNTRY_INFO!$F44))","v":93871},147704,{"$f":"IF(AND(INTRO!$E$37=\"Non endémique\",INTRO!$E$41=\"Non endémique\"),0,COUNTRY_INFO!Q44)","v":0},{"$f":"IF(AND(INTRO!$E$37=\"Non endémique\",INTRO!$E$41=\"Non endémique\"),0,COUNTRY_INFO!S44)","v":0},{"$f":"IF($G44=1,IVM!$G44,0)","v":0},{"$f":"IF($G44=0, \" \", IF(COUNTRY_INFO!$H44=1, IF(COUNTRY_INFO!$L44=1, 0,\" \"),\" \"))","v":" "},null,"ALB",{"$f":"IF($L44=\"ALB\", IF(INTRO!$E$39=\"Non endémique\",IF($H44<>0,$D44*($H44-$G44),0),$D44*$H44), 0)","v":0},0,null,0,{"$f":"IF($L44=\"MBD\", IF(INTRO!$E$39=\"Non endémique\",IF($H44<>0,$D44*($H44-$G44),0),$D44*$H44),0)","v":0},0,null,0,null,0,0,null,0,0,null,0,0]
[{"$f":"IF(AND(INTRO!$E$37=\"Non endémique\",INTRO!$E$41=\"Non endémique\"),\" \",IF(COUNTRY_INFO!A45=0,\" \",COUNTRY_INFO!A45))","v":"Angola"},{"$f":"IF(AND(INTRO!$E$37=\"Non endémique\",INTRO!$E$41=\"Non endémique\"),\" \",IF(COUNTRY_INFO!B45=0,\" \",COUNTRY_INFO!B45))","v":"HUAMBO"},{"$f":"IF(AND(INTRO!$E$37=\"Non endémique\",INTRO!$E$41=\"Non endémique\"),\" \",IF(COUNTRY_INFO!C45=0,\" \",COUNTRY_INFO!C45))","v":"CAALA"},{"$f":"IF(AND(INTRO!$E$37=\"Non endémique\",INTRO!$E$41=\"Non endémique\"),0,IF(AND(OR(COUNTRY_INFO!$H45=0,COUNTRY_INFO!$H45=4,COUNTRY_INFO!$H45=99),OR(COUNTRY_INFO!$J45=0,COUNTRY_INFO!$J45=4)),0,COUNTRY_INFO!$E45))","v":51146},{"$f":"IF(AND(INTRO!$E$37=\"Non endémique\",INTRO!$E$41=\"Non endémique\"),0,IF(AND(OR(COUNTRY_INFO!$H45=0,COUNTRY_INFO!$H45=4,COUNTRY_INFO!$H45=99),OR(COUNTRY_INFO!$J45=0,COUNTRY_INFO!$J45=4)),0,COUNTRY_INFO!$F45))","v":89185},140331,{"$f":"IF(AND(INTRO!$E$37=\"Non endémique\",INTRO!$E$41=\"Non endémique\"),0,COUNTRY_INFO!Q45)","v":0},{"$f":"IF(AND(INTRO!$E$37=\"Non endémique\",INTRO!$E$41=\"Non endémique\"),0,COUNTRY_INFO!S45)","v":0},{"$f":"IF($G45=1,IVM!$G45,0)","v":0},{"$f":"IF($G45=0, \" \", IF(COUNTRY_INFO!$H45=1, IF(COUNTRY_INFO!$L45=1, 0,\" \"),\" \"))","v":" "},null,"ALB",{"$f":"IF($L45=\"ALB\", IF(INTRO!$E$39=\"Non endémique\",IF($H45<>0,$D45*($H45-$G45),0),$D45*$H45), 0)","v":0},0,null,0,{"$f":"IF($L45=\"MBD\", IF(INTRO!$E$39=\"Non endémique\",IF($H45<>0,$D45*($H45-$G45),0),$D45*$H45),0)","v":0},0,null,0,null,0,0,null,0,0,null,0,0]
[{"$f":"IF(AND(INTRO!$E$37=\"Non endémique\",INTRO!$E$41=\"Non endémique\"),\" \",IF(COUNTRY_INFO!A46=0,\" \",COUNTRY_INFO!A46))","v":"Angola"},{"$f":"IF(AND(INTRO!$E$37=\"Non endémique\",INTRO!$E$41=\"Non endémique\"),\" \",IF(COUNTRY_INFO!B46=0,\" \",COUNTRY_INFO!B46))","v":"HUAMBO"},{"$f":"IF(AND(INTRO!$E$37=\"Non endémique\",INTRO!$E$41=\"Non endémique\"),\" \",IF(COUNTRY_INFO!C46=0,\" \",COUNTRY_INFO!C46))","v":"EKUNHA"},{"$f":"IF(AND(INTRO!$E$37=\"Non endémique\",INTRO!$E$41=\"Non endémique\"),0,IF(AND(OR(COUNTRY_INFO!$H46=0,COUNTRY_INFO!$H46=4,COUNTRY_INFO!$H46=99),OR(COUNTRY_INFO!$J46=0,COUNTRY_INFO!$J46=4)),0,COUNTRY_INFO!$E46))","v":15088},{"$f":"IF(AND(INTRO!$E$37=\"Non endémique\",INTRO!$E$41=\"Non endémique\"),0,IF(AND(OR(COUNTRY_INFO!$H46=0,COUNTRY_INFO!$H46=4,COUNTRY_INFO!$H46=99),OR(COUNTRY_INFO!$J46=0,COUNTRY_INFO!$J46=4)),0,COUNTRY_INFO!$F46))","v":26310},41398,{"$f":"IF(AND(INTRO!$E$37=\"Non endémique\",INTRO!$E$41=\"Non endémique\"),0,COUNTRY_INFO!Q46)","v":0},{"$f":"IF(AND(INTRO!$E$37=\"Non endémique\",INTRO!$E$41=\"Non endémique\"),0,COUNTRY_INFO!S46)","v":0},{"$f":"IF($G46=1,IVM!$G46,0)","v":0},{"$f":"IF($G46=0, \" \", IF(COUNTRY_INFO!$H46=1, IF(COUNTRY_INFO!$L46=1, 0,\" \"),\" \"))","v":" "},null,"ALB",{"$f":"IF($L46=\"ALB\", IF(INTRO!$E$39=\"Non endémique\",IF($H46<>0,$D46*($H46-$G46),0),$D46*$H46), 0)","v":0},0,null,0,{"$f":"IF($L46=\"MBD\", IF(INTRO!$E$39=\"Non endémique\",IF($H46<>0,$D46*($H46-$G46),0),$D46*$H46),0)","v":0},0,null,0,null,0,0,null,0,0,null,0,0]
[{"$f":"IF(AND(INTRO!$E$37=\"Non endémique\",INTRO!$E$41=\"Non endémique\"),\" \",IF(COUNTRY_INFO!A47=0,\" \",COUNTRY_INFO!A47))","v":"Angola"},{"$f":"IF(AND(INTRO!$E$37=\"Non endémique\",INTRO!$E$41=\"Non endémique\"),\" \",IF(COUNTRY_INFO!B47=0,\" \",COUNTRY_INFO!B47))","v":"HUAMBO"},{"$f":"IF(AND(INTRO!$E$37=\"Non endémique\",INTRO!$E$41=\"Non endémique\"),\" \",IF(COUNTRY_INFO!C47=0,\" \",COUNTRY_INFO!C47))","v":"HUAMBO"},{"$f":"IF(AND(INTRO!$E$37=\"Non endémique\",INTRO!$E$41=\"Non endémique\"),0,IF(AND(OR(COUNTRY_INFO!$H47=0,COUNTRY_INFO!$H47=4,COUNTRY_INFO!$H47=99),OR(COUNTRY_INFO!$J47=0,COUNTRY_INFO!$J47=4)),0,COUNTRY_INFO!$E47))","v":130360},{"$f":"IF(AND(INTRO!$E$37=\"Non endémique\",INTRO!$E$41=\"Non endémique\"),0,IF(AND(OR(COUNTRY_INFO!$H47=0,COUNTRY_INFO!$H47=4,COUNTRY_INFO!$H47=99),OR(COUNTRY_INFO!$J47=0,COUNTRY_INFO!$J47=4)),0,COUNTRY_INFO!$F47))","v":227315},357675,{"$f":"IF(AND(INTRO!$E$37=\"Non endémique\",INTRO!$E$41=\"Non endémique\"),0,COUNTRY_INFO!Q47)","v":0},{"$f":"IF(AND(INTRO!$E$37=\"Non endémique\",INTRO!$E$41=\"Non endémique\"),0,COUNTRY_INFO!S47)","v":1},{"$f":"IF($G47=1,IVM!$G47,0)","v":0},{"$f":"IF($G47=0, \" \", IF(COUNTRY_INFO!$H47=1, IF(COUNTRY_INFO!$L47=1, 0,\" \"),\" \"))","v":" "},null,"ALB",{"$f":"IF($L47=\"ALB\", IF(INTRO!$E$39=\"Non endémique\",IF($H47<>0,$D47*($H47-$G47),0),$D47*$H47), 0)","v":130360},227315,null,357675,{"$f":"IF($L47=\"MBD\", IF(INTRO!$E$39=\"Non endémique\",IF($H47<>0,$D47*($H47-$G47),0),$D47*$H47),0)","v":0},0,null,0,null,0,0,null,227315,1137,null,0,0]
[{"$f":"IF(AND(INTRO!$E$37=\"Non endémique\",INTRO!$E$41=\"Non endémique\"),\" \",IF(COUNTRY_INFO!A48=0,\" \",COUNTRY_INFO!A48))","v":"Angola"},{"$f":"IF(AND(INTRO!$E$37=\"Non endémique\",INTRO!$E$41=\"Non endémique\"),\" \",IF(COUNTRY_INFO!B48=0,\" \",COUNTRY_INFO!B48))","v":"HUAMBO"},{"$f":"IF(AND(INTRO!$E$37=\"Non endémique\",INTRO!$E$41=\"Non endémique\"),\" \",IF(COUNTRY_INFO!C48=0,\" \",COUNTRY_INFO!C48))","v":"CACHIUNGO"},{"$f":"IF(AND(INTRO!$E$37=\"Non endémique\",INTRO!$E$41=\"Non endémique\"),0,IF(AND(OR(COUNTRY_INFO!$H48=0,COUNTRY_INFO!$H48=4,COUNTRY_INFO!$H48=99),OR(COUNTRY_INFO!$J48=0,COUNTRY_INFO!$J48=4)),0,COUNTRY_INFO!$E48))","v":22060},{"$f":"IF(AND(INTRO!$E$37=\"Non endémique\",INTRO!$E$41=\"Non endémique\"),0,IF(AND(OR(COUNTRY_INFO!$H48=0,COUNTRY_INFO!$H48=4,COUNTRY_INFO!$H48=99),OR(COUNTRY_INFO!$J48=0,COUNTRY_INFO!$J48=4)),0,COUNTRY_INFO!$F48))","v":38467},60527,{"$f":"IF(AND(INTRO!$E$37=\"Non endémique\",INTRO!$E$41=\"Non endémique\"),0,COUNTRY_INFO!Q48)","v":0},{"$f":"IF(AND(INTRO!$E$37=\"Non endémique\",INTRO!$E$41=\"Non endémique\"),0,COUNTRY_INFO!S48)","v":0},{"$f":"IF($G48=1,IVM!$G48,0)","v":0},{"$f":"IF($G48=0, \" \", IF(COUNTRY_INFO!$H48=1, IF(COUNTRY_INFO!$L48=1, 0,\" \"),\" \"))","v":" "},null,"ALB",{"$f":"IF($L48=\"ALB\", IF(INTRO!$E$39=\"Non endémique\",IF($H48<>0,$D48*($H48-$G48),0),$D48*$H48), 0)","v":0},0,null,0,{"$f":"IF($L48=\"MBD\", IF(INTRO!$E$39=\"Non endémique\",IF($H48<>0,$D48*($H48-$G48),0),$D48*$H48),0)","v":0},0,null,0,null,0,0,null,0,0,null,0,0]
[{"$f":"IF(AND(INTRO!$E$37=\"Non endémique\",INTRO!$E$41=\"Non endémique\"),\" \",IF(COUNTRY_INFO!A49=0,\" \",COUNTRY_INFO!A49))","v":"Angola"},{"$f":"IF(AND(INTRO!$E$37=\"Non endémique\",INTRO!$E$41=\"Non endémique\"),\" \",IF(COUNTRY_INFO!B49=0,\" \",COUNTRY_INFO!B49))","v":"HUAMBO"},{"$f":"IF(AND(INTRO!$E$37=\"Non endémique\",INTRO!$E$41=\"Non endémique\"),\" \",IF(COUNTRY_INFO!C49=0,\" \",COUNTRY_INFO!C49))","v":"LONDUIMBALI"},{"$f":"IF(AND(INTRO!$E$37=\"Non endémique\",INTRO!$E$41=\"Non endémique\"),0,IF(AND(OR(COUNTRY_INFO!$H49=0,COUNTRY_INFO!$H49=4,COUNTRY_INFO!$H49=99),OR(COUNTRY_INFO!$J49=0,COUNTRY_INFO!$J49=4)),0,COUNTRY_INFO!$E49))","v":24541},{"$f":"IF(AND(INTRO!$E$37=\"Non endémique\",INTRO!$E$41=\"Non endémique\"),0,IF(AND(OR(COUNTRY_INFO!$H49=0,COUNTRY_INFO!$H49=4,COUNTRY_INFO!$H49=99),OR(COUNTRY_INFO!$J49=0,COUNTRY_INFO!$J49=4)),0,COUNTRY_INFO!$F49))","v":42794},67335,{"$f":"IF(AND(INTRO!$E$37=\"Non endémique\",INTRO!$E$41=\"Non endémique\"),0,COUNTRY_INFO!Q49)","v":0},{"$f":"IF(AND(INTRO!$E$37=\"Non endémique\",INTRO!$E$41=\"Non endémique\"),0,COUNTRY_INFO!S49)","v":0},{"$f":"IF($G49=1,IVM!$G49,0)","v":0},{"$f":"IF($G49=0, \" \", IF(COUNTRY_INFO!$H49=1, IF(COUNTRY_INFO!$L49=1, 0,\" \"),\" \"))","v":" "},null,"ALB",{"$f":"IF($L49=\"ALB\", IF(INTRO!$E$39=\"Non endémique\",IF($H49<>0,$D49*($H49-$G49),0),$D49*$H49), 0)","v":0},0,null,0,{"$f":"IF($L49=\"MBD\", IF(INTRO!$E$39=\"Non endémique\",IF($H49<>0,$D49*($H49-$G49),0),$D49*$H49),0)","v":0},0,null,0,null,0,0,null,0,0,null,0,0]
[{"$f":"IF(AND(INTRO!$E$37=\"Non endémique\",INTRO!$E$41=\"Non endémique\"),\" \",IF(COUNTRY_INFO!A50=0,\" \",COUNTRY_INFO!A50))","v":"Angola"},{"$f":"IF(AND(INTRO!$E$37=\"Non endémique\",INTRO!$E$41=\"Non endémique\"),\" \",IF(COUNTRY_INFO!B50=0,\" \",COUNTRY_INFO!B50))","v":"HUAMBO"},{"$f":"IF(AND(INTRO!$E$37=\"Non endémique\",INTRO!$E$41=\"Non endémique\"),\" \",IF(COUNTRY_INFO!C50=0,\" \",COUNTRY_INFO!C50))","v":"LONGONJO"},{"$f":"IF(AND(INTRO!$E$37=\"Non endémique\",INTRO!$E$41=\"Non endémique\"),0,IF(AND(OR(COUNTRY_INFO!$H50=0,COUNTRY_INFO!$H50=4,COUNTRY_INFO!$H50=99),OR(COUNTRY_INFO!$J50=0,COUNTRY_INFO!$J50=4)),0,COUNTRY_INFO!$E50))","v":16836},{"$f":"IF(AND(INTRO!$E$37=\"Non endémique\",INTRO!$E$41=\"Non endémique\"),0,IF(AND(OR(COUNTRY_INFO!$H50=0,COUNTRY_INFO!$H50=4,COUNTRY_INFO!$H50=99),OR(COUNTRY_INFO!$J50=0,COUNTRY_INFO!$J50=4)),0,COUNTRY_INFO!$F50))","v":29358},46194,{"$f":"IF(AND(INTRO!$E$37=\"Non endémique\",INTRO!$E$41=\"Non endémique\"),0,COUNTRY_INFO!Q50)","v":0},{"$f":"IF(AND(INTRO!$E$37=\"Non endémique\",INTRO!$E$41=\"Non endémique\"),0,COUNTRY_INFO!S50)","v":1},{"$f":"IF($G50=1,IVM!$G50,0)","v":0},{"$f":"IF($G50=0, \" \", IF(COUNTRY_INFO!$H50=1, IF(COUNTRY_INFO!$L50=1, 0,\" \"),\" \"))","v":" "},null,"ALB",{"$f":"IF($L50=\"ALB\", IF(INTRO!$E$39=\"Non endémique\",IF($H50<>0,$D50*($H50-$G50),0),$D50*$H50), 0)","v":16836},29358,null,46194,{"$f":"IF($L50=\"MBD\", IF(INTRO!$E$39=\"Non endémique\",IF($H50<>0,$D50*($H50-$G50),0),$D50*$H50),0)","v":0},0,null,0,null,0,0,null,29358,147,null,0,0]
[{"$f":"IF(AND(INTRO!$E$37=\"Non endémique\",INTRO!$E$41=\"Non endémique\"),\" \",IF(COUNTRY_INFO!A51=0,\" \",COUNTRY_INFO!A51))","v":"Angola"},{"$f":"IF(AND(INTRO!$E$37=\"Non endémique\",INTRO!$E$41=\"Non endémique\"),\" \",IF(COUNTRY_INFO!B51=0,\" \",COUNTRY_INFO!B51))","v":"HUAMBO"},{"$f":"IF(AND(INTRO!$E$37=\"Non endémique\",INTRO!$E$41=\"Non endémique\"),\" \",IF(COUNTRY_INFO!C51=0,\" \",COUNTRY_INFO!C51))","v":"MUNGO"},{"$f":"IF(AND(INTRO!$E$37=\"Non endémique\",INTRO!$E$41=\"Non endémique\"),0,IF(AND(OR(COUNTRY_INFO!$H51=0,COUNTRY_INFO!$H51=4,COUNTRY_INFO!$H51=99),OR(COUNTRY_INFO!$J51=0,COUNTRY_INFO!$J51=4)),0,COUNTRY_INFO!$E51))","v":20732},{"$f":"IF(AND(INTRO!$E$37=\"Non endémique\",INTRO!$E$41=\"Non endémique\"),0,IF(AND(OR(COUNTRY_INFO!$H51=0,COUNTRY_INFO!$H51=4,COUNTRY_INFO!$H51=99),OR(COUNTRY_INFO!$J51=0,COUNTRY_INFO!$J51=4)),0,COUNTRY_INFO!$F51))","v":36152},56884,{"$f":"IF(AND(INTRO!$E$37=\"Non endémique\",INTRO!$E$41=\"Non endémique\"),0,COUNTRY_INFO!Q51)","v":0},{"$f":"IF(AND(INTRO!$E$37=\"Non endémique\",INTRO!$E$41=\"Non endémique\"),0,COUNTRY_INFO!S51)","v":0},{"$f":"IF($G51=1,IVM!$G51,0)","v":0},{"$f":"IF($G51=0, \" \", IF(COUNTRY_INFO!$H51=1, IF(COUNTRY_INFO!$L51=1, 0,\" \"),\" \"))","v":" "},null,"ALB",{"$f":"IF($L51=\"ALB\", IF(INTRO!$E$39=\"Non endémique\",IF($H51<>0,$D51*($H51-$G51),0),$D51*$H51), 0)","v":0},0,null,0,{"$f":"IF($L51=\"MBD\", IF(INTRO!$E$39=\"Non endémique\",IF($H51<>0,$D51*($H51-$G51),0),$D51*$H51),0)","v":0},0,null,0,null,0,0,null,0,0,null,0,0]
[{"$f":"IF(AND(INTRO!$E$37=\"Non endémique\",INTRO!$E$41=\"Non endémique\"),\" \",IF(COUNTRY_INFO!A52=0,\" \",COUNTRY_INFO!A52))","v":"Angola"},{"$f":"IF(AND(INTRO!$E$37=\"Non endémique\",INTRO!$E$41=\"Non endémique\"),\" \",IF(COUNTRY_INFO!B52=0,\" \",COUNTRY_INFO!B52))","v":"HUAMBO"},{"$f":"IF(AND(INTRO!$E$37=\"Non endémique\",INTRO!$E$41=\"Non endémique\"),\" \",IF(COUNTRY_INFO!C52=0,\" \",COUNTRY_INFO!C52))","v":"TCHICALA TCHOLOHANGA"},{"$f":"IF(AND(INTRO!$E$37=\"Non endémique\",INTRO!$E$41=\"Non endémique\"),0,IF(AND(OR(COUNTRY_INFO!$H52=0,COUNTRY_INFO!$H52=4,COUNTRY_INFO!$H52=99),OR(COUNTRY_INFO!$J52=0,COUNTRY_INFO!$J52=4)),0,COUNTRY_INFO!$E52))","v":18946},{"$f":"IF(AND(INTRO!$E$37=\"Non endémique\",INTRO!$E$41=\"Non endémique\"),0,IF(AND(OR(COUNTRY_INFO!$H52=0,COUNTRY_INFO!$H52=4,COUNTRY_INFO!$H52=99),OR(COUNTRY_INFO!$J52=0,COUNTRY_INFO!$J52=4)),0,COUNTRY_INFO!$F52))","v":33038},51984,{"$f":"IF(AND(INTRO!$E$37=\"Non endémique\",INTRO!$E$41=\"Non endémique\"),0,COUNTRY_INFO!Q52)","v":0},{"$f":"IF(AND(INTRO!$E$37=\"Non endémique\",INTRO!$E$41=\"Non endémique\"),0,COUNTRY_INFO!S52)","v":0},{"$f":"IF($G52=1,IVM!$G52,0)","v":0},{"$f":"IF($G52=0, \" \", IF(COUNTRY_INFO!$H52=1, IF(COUNTRY_INFO!$L52=1, 0,\" \"),\" \"))","v":" "},null,"ALB",{"$f":"IF($L52=\"ALB\", IF(INTRO!$E$39=\"Non endémique\",IF($H52<>0,$D52*($H52-$G52),0),$D52*$H52), 0)","v":0},0,null,0,{"$f":"IF($L52=\"MBD\", IF(INTRO!$E$39=\"Non endémique\",IF($H52<>0,$D52*($H52-$G52),0),$D52*$H52),0)","v":0},0,null,0,null,0,0,null,0,0,null,0,0]
[{"$f":"IF(AND(INTRO!$E$37=\"Non endémique\",INTRO!$E$41=\"Non endémique\"),\" \",IF(COUNTRY_INFO!A53=0,\" \",COUNTRY_INFO!A53))","v":"Angola"},{"$f":"IF(AND(INTRO!$E$37=\"Non endémique\",INTRO!$E$41=\"Non endémique\"),\" \",IF(COUNTRY_INFO!B53=0,\" \",COUNTRY_INFO!B53))","v":"HUAMBO"},{"$f":"IF(AND(INTRO!$E$37=\"Non endémique\",INTRO!$E$41=\"Non endémique\"),\" \",IF(COUNTRY_INFO!C53=0,\" \",COUNTRY_INFO!C53))","v":"TCHINDJENJE"},{"$f":"IF(AND(INTRO!$E$37=\"Non endémique\",INTRO!$E$41=\"Non endémique\"),0,IF(AND(OR(COUNTRY_INFO!$H53=0,COUNTRY_INFO!$H53=4,COUNTRY_INFO!$H53=99),OR(COUNTRY_INFO!$J53=0,COUNTRY_INFO!$J53=4)),0,COUNTRY_INFO!$E53))","v":5565},{"$f":"IF(AND(INTRO!$E$37=\"Non endémique\",INTRO!$E$41=\"Non endémique\"),0,IF(AND(OR(COUNTRY_INFO!$H53=0,COUNTRY_INFO!$H53=4,COUNTRY_INFO!$H53=99),OR(COUNTRY_INFO!$J53=0,COUNTRY_INFO!$J53=4)),0,COUNTRY_INFO!$F53))","v":9704},15269,{"$f":"IF(AND(INTRO!$E$37=\"Non endémique\",INTRO!$E$41=\"Non endémique\"),0,COUNTRY_INFO!Q53)","v":0},{"$f":"IF(AND(INTRO!$E$37=\"Non endémique\",INTRO!$E$41=\"Non endémique\"),0,COUNTRY_INFO!S53)","v":0},{"$f":"IF($G53=1,IVM!$G53,0)","v":0},{"$f":"IF($G53=0, \" \", IF(COUNTRY_INFO!$H53=1, IF(COUNTRY_INFO!$L53=1, 0,\" \"),\" \"))","v":" "},null,"ALB",{"$f":"IF($L53=\"ALB\", IF(INTRO!$E$39=\"Non endémique\",IF($H53<>0,$D53*($H53-$G53),0),$D53*$H53), 0)","v":0},0,null,0,{"$f":"IF($L53=\"MBD\", IF(INTRO!$E$39=\"Non endémique\",IF($H53<>0,$D53*($H53-$G53),0),$D53*$H53),0)","v":0},0,null,0,null,0,0,null,0,0,null,0,0]
[{"$f":"IF(AND(INTRO!$E$37=\"Non endémique\",INTRO!$E$41=\"Non endémique\"),\" \",IF(COUNTRY_INFO!A54=0,\" \",COUNTRY_INFO!A54))","v":"Angola"},{"$f":"IF(AND(INTRO!$E$37=\"Non endémique\",INTRO!$E$41=\"Non endémique\"),\" \",IF(COUNTRY_INFO!B54=0,\" \",COUNTRY_INFO!B54))","v":"HUAMBO"},{"$f":"IF(AND(INTRO!$E$37=\"Non endémique\",INTRO!$E$41=\"Non endémique\"),\" \",IF(COUNTRY_INFO!C54=0,\" \",COUNTRY_INFO!C54))","v":"UKUMA"},{"$f":"IF(AND(INTRO!$E$37=\"Non endémique\",INTRO!$E$41=\"Non endémique\"),0,IF(AND(OR(COUNTRY_INFO!$H54=0,COUNTRY_INFO!$H54=4,COUNTRY_INFO!$H54=99),OR(COUNTRY_INFO!$J54=0,COUNTRY_INFO!$J54=4)),0,COUNTRY_INFO!$E54))","v":10064},{"$f":"IF(AND(INTRO!$E$37=\"Non endémique\",INTRO!$E$41=\"Non endémique\"),0,IF(AND(OR(COUNTRY_INFO!$H54=0,COUNTRY_INFO!$H54=4,COUNTRY_INFO!$H54=99),OR(COUNTRY_INFO!$J54=0,COUNTRY_INFO!$J54=4)),0,COUNTRY_INFO!$F54))","v":17549},27613,{"$f":"IF(AND(INTRO!$E$37=\"Non endémique\",INTRO!$E$41=\"Non endémique\"),0,COUNTRY_INFO!Q54)","v":0},{"$f":"IF(AND(INTRO!$E$37=\"Non endémique\",INTRO!$E$41=\"Non endémique\"),0,COUNTRY_INFO!S54)","v":0},{"$f":"IF($G54=1,IVM!$G54,0)","v":0},{"$f":"IF($G54=0, \" \", IF(COUNTRY_INFO!$H54=1, IF(COUNTRY_INFO!$L54=1, 0,\" \"),\" \"))","v":" "},null,"ALB",{"$f":"IF($L54=\"ALB\", IF(INTRO!$E$39=\"Non endémique\",IF($H54<>0,$D54*($H54-$G54),0),$D54*$H54), 0)","v":0},0,null,0,{"$f":"IF($L54=\"MBD\", IF(INTRO!$E$39=\"Non endémique\",IF($H54<>0,$D54*($H54-$G54),0),$D54*$H54),0)","v":0},0,null,0,null,0,0,null,0,0,null,0,0]
[{"$f":"IF(AND(INTRO!$E$37=\"Non endémique\",INTRO!$E$41=\"Non endémique\"),\" \",IF(COUNTRY_INFO!A55=0,\" \",COUNTRY_INFO!A55))","v":"Angola"},{"$f":"IF(AND(INTRO!$E$37=\"Non endémique\",INTRO!$E$41=\"Non endémique\"),\" \",IF(COUNTRY_INFO!B55=0,\" \",COUNTRY_INFO!B55))","v":"HUILA"},{"$f":"IF(AND(INTRO!$E$37=\"Non endémique\",INTRO!$E$41=\"Non endémique\"),\" \",IF(COUNTRY_INFO!C55=0,\" \",COUNTRY_INFO!C55))","v":"CACONDA"},{"$f":"IF(AND(INTRO!$E$37=\"Non endémique\",INTRO!$E$41=\"Non endémique\"),0,IF(AND(OR(COUNTRY_INFO!$H55=0,COUNTRY_INFO!$H55=4,COUNTRY_INFO!$H55=99),OR(COUNTRY_INFO!$J55=0,COUNTRY_INFO!$J55=4)),0,COUNTRY_INFO!$E55))","v":30677},{"$f":"IF(AND(INTRO!$E$37=\"Non endémique\",INTRO!$E$41=\"Non endémique\"),0,IF(AND(OR(COUNTRY_INFO!$H55=0,COUNTRY_INFO!$H55=4,COUNTRY_INFO!$H55=99),OR(COUNTRY_INFO!$J55=0,COUNTRY_INFO!$J55=4)),0,COUNTRY_INFO!$F55))","v":53494},84171,{"$f":"IF(AND(INTRO!$E$37=\"Non endémique\",INTRO!$E$41=\"Non endémique\"),0,COUNTRY_INFO!Q55)","v":0},{"$f":"IF(AND(INTRO!$E$37=\"Non endémique\",INTRO!$E$41=\"Non endémique\"),0,COUNTRY_INFO!S55)","v":1},{"$f":"IF($G55=1,IVM!$G55,0)","v":0},{"$f":"IF($G55=0, \" \", IF(COUNTRY_INFO!$H55=1, IF(COUNTRY_INFO!$L55=1, 0,\" \"),\" \"))","v":" "},null,"ALB",{"$f":"IF($L55=\"ALB\", IF(INTRO!$E$39=\"Non endémique\",IF($H55<>0,$D55*($H55-$G55),0),$D55*$H55), 0)","v":30677},53494,null,84171,{"$f":"IF($L55=\"MBD\", IF(INTRO!$E$39=\"Non endémique\",IF($H55<>0,$D55*($H55-$G55),0),$D55*$H55),0)","v":0},0,null,0,null,0,0,null,53494,268,null,0,0]
[{"$f":"IF(AND(INTRO!$E$37=\"Non endémique\",INTRO!$E$41=\"Non endémique\"),\" \",IF(COUNTRY_INFO!A56=0,\" \",COUNTRY_INFO!A56))","v":"Angola"},{"$f":"IF(AND(INTRO!$E$37=\"Non endémique\",INTRO!$E$41=\"Non endémique\"),\" \",IF(COUNTRY_INFO!B56=0,\" \",COUNTRY_INFO!B56))","v":"HUILA"},{"$f":"IF(AND(INTRO!$E$37=\"Non endémique\",INTRO!$E$41=\"Non endémique\"),\" \",IF(COUNTRY_INFO!C56=0,\" \",COUNTRY_INFO!C56))","v":"CACULA"},{"$f":"IF(AND(INTRO!$E$37=\"Non endémique\",INTRO!$E$41=\"Non endémique\"),0,IF(AND(OR(COUNTRY_INFO!$H56=0,COUNTRY_INFO!$H56=4,COUNTRY_INFO!$H56=99),OR(COUNTRY_INFO!$J56=0,COUNTRY_INFO!$J56=4)),0,COUNTRY_INFO!$E56))","v":25039},{"$f":"IF(AND(INTRO!$E$37=\"Non endémique\",INTRO!$E$41=\"Non endémique\"),0,IF(AND(OR(COUNTRY_INFO!$H56=0,COUNTRY_INFO!$H56=4,COUNTRY_INFO!$H56=99),OR(COUNTRY_INFO!$J56=0,COUNTRY_INFO!$J56=4)),0,COUNTRY_INFO!$F56))","v":43662},68701,{"$f":"IF(AND(INTRO!$E$37=\"Non endémique\",INTRO!$E$41=\"Non endémique\"),0,COUNTRY_INFO!Q56)","v":0},{"$f":"IF(AND(INTRO!$E$37=\"Non endémique\",INTRO!$E$41=\"Non endémique\"),0,COUNTRY_INFO!S56)","v":1},{"$f":"IF($G56=1,IVM!$G56,0)","v":0},{"$f":"IF($G56=0, \" \", IF(COUNTRY_INFO!$H56=1, IF(COUNTRY_INFO!$L56=1, 0,\" \"),\" \"))","v":" "},null,"ALB",{"$f":"IF($L56=\"ALB\", IF(INTRO!$E$39=\"Non endémique\",IF($H56<>0,$D56*($H56-$G56),0),$D56*$H56), 0)","v":25039},43662,null,68701,{"$f":"IF($L56=\"MBD\", IF(INTRO!$E$39=\"Non endémique\",IF($H56<>0,$D56*($H56-$G56),0),$D56*$H56),0)","v":0},0,null,0,null,0,0,null,43662,219,null,0,0]
[{"$f":"IF(AND(INTRO!$E$37=\"Non endémique\",INTRO!$E$41=\"Non endémique\"),\" \",IF(COUNTRY_INFO!A57=0,\" \",COUNTRY_INFO!A57))","v":"Angola"},{"$f":"IF(AND(INTRO!$E$37=\"Non endémique\",INTRO!$E$41=\"Non endémique\"),\" \",IF(COUNTRY_INFO!B57=0,\" \",COUNTRY_INFO!B57))","v":"HUILA"},{"$f":"IF(AND(INTRO!$E$37=\"Non endémique\",INTRO!$E$41=\"Non endémique\"),\" \",IF(COUNTRY_INFO!C57=0,\" \",COUNTRY_INFO!C57))","v":"CALUQUEMBE"},{"$f":"IF(AND(INTRO!$E$37=\"Non endémique\",INTRO!$E$41=\"Non endémique\"),0,IF(AND(OR(COUNTRY_INFO!$H57=0,COUNTRY_INFO!$H57=4,COUNTRY_INFO!$H57=99),OR(COUNTRY_INFO!$J57=0,COUNTRY_INFO!$J57=4)),0,COUNTRY_INFO!$E57))","v":32891},{"$f":"IF(AND(INTRO!$E$37=\"Non endémique\",INTRO!$E$41=\"Non endémique\"),0,IF(AND(OR(COUNTRY_INFO!$H57=0,COUNTRY_INFO!$H57=4,COUNTRY_INFO!$H57=99),OR(COUNTRY_INFO!$J57=0,COUNTRY_INFO!$J57=4)),0,COUNTRY_INFO!$F57))","v":57354},90245,{"$f":"IF(AND(INTRO!$E$37=\"Non endémique\",INTRO!$E$41=\"Non endémique\"),0,COUNTRY_INFO!Q57)","v":0},{"$f":"IF(AND(INTRO!$E$37=\"Non endémique\",INTRO!$E$41=\"Non endémique\"),0,COUNTRY_INFO!S57)","v":1},{"$f":"IF($G57=1,IVM!$G57,0)","v":0},{"$f":"IF($G57=0, \" \", IF(COUNTRY_INFO!$H57=1, IF(COUNTRY_INFO!$L57=1, 0,\" \"),\" \"))","v":" "},null,"ALB",{"$f":"IF($L57=\"ALB\", IF(INTRO!$E$39=\"Non endémique\",IF($H57<>0,$D57*($H57-$G57),0),$D57*$H57), 0)","v":32891},57354,null,90245,{"$f":"IF($L57=\"MBD\", IF(INTRO!$E$39=\"Non endémique\",IF($H57<>0,$D57*($H57-$G57),0),$D57*$H57),0)","v":0},0,null,0,null,0,0,null,57354,287,null,0,0]
[{"$f":"IF(AND(INTRO!$E$37=\"Non endémique\",INTRO!$E$41=\"Non endémique\"),\" \",IF(COUNTRY_INFO!A58=0,\" \",COUNTRY_INFO!A58))","v":"Angola"},{"$f":"IF(AND(INTRO!$E$37=\"Non endémique\",INTRO!$E$41=\"Non endémique\"),\" \",IF(COUNTRY_INFO!B58=0,\" \",COUNTRY_INFO!B58))","v":"HUILA"},{"$f":"IF(AND(INTRO!$E$37=\"Non endémique\",INTRO!$E$41=\"Non endémique\"),\" \",IF(COUNTRY_INFO!C58=0,\" \",COUNTRY_INFO!C58))","v":"CHIBIA"},{"$f":"IF(AND(INTRO!$E$37=\"Non endémique\",INTRO!$E$41=\"Non endémique\"),0,IF(AND(OR(COUNTRY_INFO!$H58=0,COUNTRY_INFO!$H58=4,COUNTRY_INFO!$H58=99),OR(COUNTRY_INFO!$J58=0,COUNTRY_INFO!$J58=4)),0,COUNTRY_INFO!$E58))","v":30318},{"$f":"IF(AND(INTRO!$E$37=\"Non endémique\",INTRO!$E$41=\"Non endémique\"),0,IF(AND(OR(COUNTRY_INFO!$H58=0,COUNTRY_INFO!$H58=4,COUNTRY_INFO!$H58=99),OR(COUNTRY_INFO!$J58=0,COUNTRY_INFO!$J58=4)),0,COUNTRY_INFO!$F58))","v":52867},83185,{"$f":"IF(AND(INTRO!$E$37=\"Non endémique\",INTRO!$E$41=\"Non endémique\"),0,COUNTRY_INFO!Q58)","v":0},{"$f":"IF(AND(INTRO!$E$37=\"Non endémique\",INTRO!$E$41=\"Non endémique\"),0,COUNTRY_INFO!S58)","v":1},{"$f":"IF($G58=1,IVM!$G58,0)","v":0},{"$f":"IF($G58=0, \" \", IF(COUNTRY_INFO!$H58=1, IF(COUNTRY_INFO!$L58=1, 0,\" \"),\" \"))","v":" "},null,"ALB",{"$f":"IF($L58=\"ALB\", IF(INTRO!$E$39=\"Non endémique\",IF($H58<>0,$D58*($H58-$G58),0),$D58*$H58), 0)","v":30318},52867,null,83185,{"$f":"IF($L58=\"MBD\", IF(INTRO!$E$39=\"Non endémique\",IF($H58<>0,$D58*($H58-$G58),0),$D58*$H58),0)","v":0},0,null,0,null,0,0,null,52867,265,null,0,0]
[{"$f":"IF(AND(INTRO!$E$37=\"Non endémique\",INTRO!$E$41=\"Non endémique\"),\" \",IF(COUNTRY_INFO!A59=0,\" \",COUNTRY_INFO!A59))","v":"Angola"},{"$f":"IF(AND(INTRO!$E$37=\"Non endémique\",INTRO!$E$41=\"Non endémique\"),\" \",IF(COUNTRY_INFO!B59=0,\" \",COUNTRY_INFO!B59))","v":"HUILA"},{"$f":"IF(AND(INTRO!$E$37=\"Non endémique\",INTRO!$E$41=\"Non endémique\"),\" \",IF(COUNTRY_INFO!C59=0,\" \",COUNTRY_INFO!C59))","v":"CHICOMBA"},{"$f":"IF(AND(INTRO!$E$37=\"Non endémique\",INTRO!$E$41=\"Non endémique\"),0,IF(AND(OR(COUNTRY_INFO!$H59=0,COUNTRY_INFO!$H59=4,COUNTRY_INFO!$H59=99),OR(COUNTRY_INFO!$J59=0,COUNTRY_INFO!$J59=4)),0,COUNTRY_INFO!$E59))","v":24094},{"$f":"IF(AND(INTRO!$E$37=\"Non endémique\",INTRO!$E$41=\"Non endémique\"),0,IF(AND(OR(COUNTRY_INFO!$H59=0,COUNTRY_INFO!$H59=4,COUNTRY_INFO!$H59=99),OR(COUNTRY_INFO!$J59=0,COUNTRY_INFO!$J59=4)),0,COUNTRY_INFO!$F59))","v":42014},66108,{"$f":"IF(AND(INTRO!$E$37=\"Non endémique\",INTRO!$E$41=\"Non endémique\"),0,COUNTRY_INFO!Q59)","v":0},{"$f":"IF(AND(INTRO!$E$37=\"Non endémique\",INTRO!$E$41=\"Non endémique\"),0,COUNTRY_INFO!S59)","v":1},{"$f":"IF($G59=1,IVM!$G59,0)","v":0},{"$f":"IF($G59=0, \" \", IF(COUNTRY_INFO!$H59=1, IF(COUNTRY_INFO!$L59=1, 0,\" \"),\" \"))","v":" "},null,"ALB",{"$f":"IF($L59=\"ALB\", IF(INTRO!$E$39=\"Non endémique\",IF($H59<>0,$D59*($H59-$G59),0),$D59*$H59), 0)","v":24094},42014,null,66108,{"$f":"IF($L59=\"MBD\", IF(INTRO!$E$39=\"Non endémique\",IF($H59<>0,$D59*($H59-$G59),0),$D59*$H59),0)","v":0},0,null,0,null,0,0,null,42014,211,null,0,0]
[{"$f":"IF(AND(INTRO!$E$37=\"Non endémique\",INTRO!$E$41=\"Non endémique\"),\" \",IF(COUNTRY_INFO!A60=0,\" \",COUNTRY_INFO!A60))","v":"Angola"},{"$f":"IF(AND(INTRO!$E$37=\"Non endémique\",INTRO!$E$41=\"Non endémique\"),\" \",IF(COUNTRY_INFO!B60=0,\" \",COUNTRY_INFO!B60))","v":"HUILA"},{"$f":"IF(AND(INTRO!$E$37=\"Non endémique\",INTRO!$E$41=\"Non endémique\"),\" \",IF(COUNTRY_INFO!C60=0,\" \",COUNTRY_INFO!C60))","v":"CHIPINDO"},{"$f":"IF(AND(INTRO!$E$37=\"Non endémique\",INTRO!$E$41=\"Non endémique\"),0,IF(AND(OR(COUNTRY_INFO!$H60=0,COUNTRY_INFO!$H60=4,COUNTRY_INFO!$H60=99),OR(COUNTRY_INFO!$J60=0,COUNTRY_INFO!$J60=4)),0,COUNTRY_INFO!$E60))","v":11830},{"$f":"IF(AND(INTRO!$E$37=\"Non endémique\",INTRO!$E$41=\"Non endémique\"),0,IF(AND(OR(COUNTRY_INFO!$H60=0,COUNTRY_INFO!$H60=4,COUNTRY_INFO!$H60=99),OR(COUNTRY_INFO!$J60=0,COUNTRY_INFO!$J60=4)),0,COUNTRY_INFO!$F60))","v":20628},32458,{"$f":"IF(AND(INTRO!$E$37=\"Non endémique\",INTRO!$E$41=\"Non endémique\"),0,COUNTRY_INFO!Q60)","v":0},{"$f":"IF(AND(INTRO!$E$37=\"Non endémique\",INTRO!$E$41=\"Non endémique\"),0,COUNTRY_INFO!S60)","v":1},{"$f":"IF($G60=1,IVM!$G60,0)","v":0},{"$f":"IF($G60=0, \" \", IF(COUNTRY_INFO!$H60=1, IF(COUNTRY_INFO!$L60=1, 0,\" \"),\" \"))","v":" "},null,"ALB",{"$f":"IF($L60=\"ALB\", IF(INTRO!$E$39=\"Non endémique\",IF($H60<>0,$D60*($H60-$G60),0),$D60*$H60), 0)","v":11830},20628,null,32458,{"$f":"IF($L60=\"MBD\", IF(INTRO!$E$39=\"Non endémique\",IF($H60<>0,$D60*($H60-$G60),0),$D60*$H60),0)","v":0},0,null,0,null,0,0,null,20628,104,null,0,0]
[{"$f":"IF(AND(INTRO!$E$37=\"Non endémique\",INTRO!$E$41=\"Non endémique\"),\" \",IF(COUNTRY_INFO!A61=0,\" \",COUNTRY_INFO!A61))","v":"Angola"},{"$f":"IF(AND(INTRO!$E$37=\"Non endémique\",INTRO!$E$41=\"Non endémique\"),\" \",IF(COUNTRY_INFO!B61=0,\" \",COUNTRY_INFO!B61))","v":"HUILA"},{"$f":"IF(AND(INTRO!$E$37=\"Non endémique\",INTRO!$E$41=\"Non endémique\"),\" \",IF(COUNTRY_INFO!C61=0,\" \",COUNTRY_INFO!C61))","v":"GAMBOS"},{"$f":"IF(AND(INTRO!$E$37=\"Non endémique\",INTRO!$E$41=\"Non endémique\"),0,IF(AND(OR(COUNTRY_INFO!$H61=0,COUNTRY_INFO!$H61=4,COUNTRY_INFO!$H61=99),OR(COUNTRY_INFO!$J61=0,COUNTRY_INFO!$J61=4)),0,COUNTRY_INFO!$E61))","v":14526},{"$f":"IF(AND(INTRO!$E$37=\"Non endémique\",INTRO!$E$41=\"Non endémique\"),0,IF(AND(OR(COUNTRY_INFO!$H61=0,COUNTRY_INFO!$H61=4,COUNTRY_INFO!$H61=99),OR(COUNTRY_INFO!$J61=0,COUNTRY_INFO!$J61=4)),0,COUNTRY_INFO!$F61))","v":25329},39855,{"$f":"IF(AND(INTRO!$E$37=\"Non endémique\",INTRO!$E$41=\"Non endémique\"),0,COUNTRY_INFO!Q61)","v":0},{"$f":"IF(AND(INTRO!$E$37=\"Non endémique\",INTRO!$E$41=\"Non endémique\"),0,COUNTRY_INFO!S61)","v":1},{"$f":"IF($G61=1,IVM!$G61,0)","v":0},{"$f":"IF($G61=0, \" \", IF(COUNTRY_INFO!$H61=1, IF(COUNTRY_INFO!$L61=1, 0,\" \"),\" \"))","v":" "},null,"ALB",{"$f":"IF($L61=\"ALB\", IF(INTRO!$E$39=\"Non endémique\",IF($H61<>0,$D61*($H61-$G61),0),$D61*$H61), 0)","v":14526},25329,null,39855,{"$f":"IF($L61=\"MBD\", IF(INTRO!$E$39=\"Non endémique\",IF($H61<>0,$D61*($H61-$G61),0),$D61*$H61),0)","v":0},0,null,0,null,0,0,null,25329,127,null,0,0]
[{"$f":"IF(AND(INTRO!$E$37=\"Non endémique\",INTRO!$E$41=\"Non endémique\"),\" \",IF(COUNTRY_INFO!A62=0,\" \",COUNTRY_INFO!A62))","v":"Angola"},{"$f":"IF(AND(INTRO!$E$37=\"Non endémique\",INTRO!$E$41=\"Non endémique\"),\" \",IF(COUNTRY_INFO!B62=0,\" \",COUNTRY_INFO!B62))","v":"HUILA"},{"$f":"IF(AND(INTRO!$E$37=\"Non endémique\",INTRO!$E$41=\"Non endémique\"),\" \",IF(COUNTRY_INFO!C62=0,\" \",COUNTRY_INFO!C62))","v":"HUMPATA"},{"$f":"IF(AND(INTRO!$E$37=\"Non endémique\",INTRO!$E$41=\"Non endémique\"),0,IF(AND(OR(COUNTRY_INFO!$H62=0,COUNTRY_INFO!$H62=4,COUNTRY_INFO!$H62=99),OR(COUNTRY_INFO!$J62=0,COUNTRY_INFO!$J62=4)),0,COUNTRY_INFO!$E62))","v":16296},{"$f":"IF(AND(INTRO!$E$37=\"Non endémique\",INTRO!$E$41=\"Non endémique\"),0,IF(AND(OR(COUNTRY_INFO!$H62=0,COUNTRY_INFO!$H62=4,COUNTRY_INFO!$H62=99),OR(COUNTRY_INFO!$J62=0,COUNTRY_INFO!$J62=4)),0,COUNTRY_INFO!$F62))","v":28415},44711,{"$f":"IF(AND(INTRO!$E$37=\"Non endémique\",INTRO!$E$41=\"Non endémique\"),0,COUNTRY_INFO!Q62)","v":0},{"$f":"IF(AND(INTRO!$E$37=\"Non endémique\",INTRO!$E$41=\"Non endémique\"),0,COUNTRY_INFO!S62)","v":1},{"$f":"IF($G62=1,IVM!$G62,0)","v":0},{"$f":"IF($G62=0, \" \", IF(COUNTRY_INFO!$H62=1, IF(COUNTRY_INFO!$L62=1, 0,\" \"),\" \"))","v":" "},null,"ALB",{"$f":"IF($L62=\"ALB\", IF(INTRO!$E$39=\"Non endémique\",IF($H62<>0,$D62*($H62-$G62),0),$D62*$H62), 0)","v":16296},28415,null,44711,{"$f":"IF($L62=\"MBD\", IF(INTRO!$E$39=\"Non endémique\",IF($H62<>0,$D62*($H62-$G62),0),$D62*$H62),0)","v":0},0,null,0,null,0,0,null,28415,143,null,0,0]
[{"$f":"IF(AND(INTRO!$E$37=\"Non endémique\",INTRO!$E$41=\"Non endémique\"),\" \",IF(COUNTRY_INFO!A63=0,\" \",COUNTRY_INFO!A63))","v":"Angola"},{"$f":"IF(AND(INTRO!$E$37=\"Non endémique\",INTRO!$E$41=\"Non endémique\"),\" \",IF(COUNTRY_INFO!B63=0,\" \",COUNTRY_INFO!B63))","v":"HUILA"},{"$f":"IF(AND(INTRO!$E$37=\"Non endémique\",INTRO!$E$41=\"Non endémique\"),\" \",IF(COUNTRY_INFO!C63=0,\" \",COUNTRY_INFO!C63))","v":"JAMBA"},{"$f":"IF(AND(INTRO!$E$37=\"Non endémique\",INTRO!$E$41=\"Non endémique\"),0,IF(AND(OR(COUNTRY_INFO!$H63=0,COUNTRY_INFO!$H63=4,COUNTRY_INFO!$H63=99),OR(COUNTRY_INFO!$J63=0,COUNTRY_INFO!$J63=4)),0,COUNTRY_INFO!$E63))","v":19210},{"$f":"IF(AND(INTRO!$E$37=\"Non endémique\",INTRO!$E$41=\"Non endémique\"),0,IF(AND(OR(COUNTRY_INFO!$H63=0,COUNTRY_INFO!$H63=4,COUNTRY_INFO!$H63=99),OR(COUNTRY_INFO!$J63=0,COUNTRY_INFO!$J63=4)),0,COUNTRY_INFO!$F63))","v":33498},52708,{"$f":"IF(AND(INTRO!$E$37=\"Non endémique\",INTRO!$E$41=\"Non endémique\"),0,COUNTRY_INFO!Q63)","v":0},{"$f":"IF(AND(INTRO!$E$37=\"Non endémique\",INTRO!$E$41=\"Non endémique\"),0,COUNTRY_INFO!S63)","v":1},{"$f":"IF($G63=1,IVM!$G63,0)","v":0},{"$f":"IF($G63=0, \" \", IF(COUNTRY_INFO!$H63=1, IF(COUNTRY_INFO!$L63=1, 0,\" \"),\" \"))","v":" "},null,"ALB",{"$f":"IF($L63=\"ALB\", IF(INTRO!$E$39=\"Non endémique\",IF($H63<>0,$D63*($H63-$G63),0),$D63*$H63), 0)","v":19210},33498,null,52708,{"$f":"IF($L63=\"MBD\", IF(INTRO!$E$39=\"Non endémique\",IF($H63<>0,$D63*($H63-$G63),0),$D63*$H63),0)","v":0},0,null,0,null,0,0,null,33498,168,null,0,0]
[{"$f":"IF(AND(INTRO!$E$37=\"Non endémique\",INTRO!$E$41=\"Non endémique\"),\" \",IF(COUNTRY_INFO!A64=0,\" \",COUNTRY_INFO!A64))","v":"Angola"},{"$f":"IF(AND(INTRO!$E$37=\"Non endémique\",INTRO!$E$41=\"Non endémique\"),\" \",IF(COUNTRY_INFO!B64=0,\" \",COUNTRY_INFO!B64))","v":"HUILA"},{"$f":"IF(AND(INTRO!$E$37=\"Non endémique\",INTRO!$E$41=\"Non endémique\"),\" \",IF(COUNTRY_INFO!C64=0,\" \",COUNTRY_INFO!C64))","v":"KUVANGO"},{"$f":"IF(AND(INTRO!$E$37=\"Non endémique\",INTRO!$E$41=\"Non endémique\"),0,IF(AND(OR(COUNTRY_INFO!$H64=0,COUNTRY_INFO!$H64=4,COUNTRY_INFO!$H64=99),OR(COUNTRY_INFO!$J64=0,COUNTRY_INFO!$J64=4)),0,COUNTRY_INFO!$E64))","v":14357},{"$f":"IF(AND(INTRO!$E$37=\"Non endémique\",INTRO!$E$41=\"Non endémique\"),0,IF(AND(OR(COUNTRY_INFO!$H64=0,COUNTRY_INFO!$H64=4,COUNTRY_INFO!$H64=99),OR(COUNTRY_INFO!$J64=0,COUNTRY_INFO!$J64=4)),0,COUNTRY_INFO!$F64))","v":25036},39393,{"$f":"IF(AND(INTRO!$E$37=\"Non endémique\",INTRO!$E$41=\"Non endémique\"),0,COUNTRY_INFO!Q64)","v":0},{"$f":"IF(AND(INTRO!$E$37=\"Non endémique\",INTRO!$E$41=\"Non endémique\"),0,COUNTRY_INFO!S64)","v":1},{"$f":"IF($G64=1,IVM!$G64,0)","v":0},{"$f":"IF($G64=0, \" \", IF(COUNTRY_INFO!$H64=1, IF(COUNTRY_INFO!$L64=1, 0,\" \"),\" \"))","v":" "},null,"ALB",{"$f":"IF($L64=\"ALB\", IF(INTRO!$E$39=\"Non endémique\",IF($H64<>0,$D64*($H64-$G64),0),$D64*$H64), 0)","v":14357},25036,null,39393,{"$f":"IF($L64=\"MBD\", IF(INTRO!$E$39=\"Non endémique\",IF($H64<>0,$D64*($H64-$G64),0),$D64*$H64),0)","v":0},0,null,0,null,0,0,null,25036,126,null,0,0]
[{"$f":"IF(AND(INTRO!$E$37=\"Non endémique\",INTRO!$E$41=\"Non endémique\"),\" \",IF(COUNTRY_INFO!A65=0,\" \",COUNTRY_INFO!A65))","v":"Angola"},{"$f":"IF(AND(INTRO!$E$37=\"Non endémique\",INTRO!$E$41=\"Non endémique\"),\" \",IF(COUNTRY_INFO!B65=0,\" \",COUNTRY_INFO!B65))","v":"HUILA"},{"$f":"IF(AND(INTRO!$E$37=\"Non endémique\",INTRO!$E$41=\"Non endémique\"),\" \",IF(COUNTRY_INFO!C65=0,\" \",COUNTRY_INFO!C65))","v":"LUBANGO"},{"$f":"IF(AND(INTRO!$E$37=\"Non endémique\",INTRO!$E$41=\"Non endémique\"),0,IF(AND(OR(COUNTRY_INFO!$H65=0,COUNTRY_INFO!$H65=4,COUNTRY_INFO!$H65=99),OR(COUNTRY_INFO!$J65=0,COUNTRY_INFO!$J65=4)),0,COUNTRY_INFO!$E65))","v":141897},{"$f":"IF(AND(INTRO!$E$37=\"Non endémique\",INTRO!$E$41=\"Non endémique\"),0,IF(AND(OR(COUNTRY_INFO!$H65=0,COUNTRY_INFO!$H65=4,COUNTRY_INFO!$H65=99),OR(COUNTRY_INFO!$J65=0,COUNTRY_INFO!$J65=4)),0,COUNTRY_INFO!$F65))","v":247433},389330,{"$f":"IF(AND(INTRO!$E$37=\"Non endémique\",INTRO!$E$41=\"Non endémique\"),0,COUNTRY_INFO!Q65)","v":0},{"$f":"IF(AND(INTRO!$E$37=\"Non endémique\",INTRO!$E$41=\"Non endémique\"),0,COUNTRY_INFO!S65)","v":1},{"$f":"IF($G65=1,IVM!$G65,0)","v":0},{"$f":"IF($G65=0, \" \", IF(COUNTRY_INFO!$H65=1, IF(COUNTRY_INFO!$L65=1, 0,\" \"),\" \"))","v":" "},null,"ALB",{"$f":"IF($L65=\"ALB\", IF(INTRO!$E$39=\"Non endémique\",IF($H65<>0,$D65*($H65-$G65),0),$D65*$H65), 0)","v":141897},247433,null,389330,{"$f":"IF($L65=\"MBD\", IF(INTRO!$E$39=\"Non endémique\",IF($H65<>0,$D65*($H65-$G65),0),$D65*$H65),0)","v":0},0,null,0,null,0,0,null,247433,1238,null,0,0]
[{"$f":"IF(AND(INTRO!$E$37=\"Non endémique\",INTRO!$E$41=\"Non endémique\"),\" \",IF(COUNTRY_INFO!A66=0,\" \",COUNTRY_INFO!A66))","v":"Angola"},{"$f":"IF(AND(INTRO!$E$37=\"Non endémique\",INTRO!$E$41=\"Non endémique\"),\" \",IF(COUNTRY_INFO!B66=0,\" \",COUNTRY_INFO!B66))","v":"HUILA"},{"$f":"IF(AND(INTRO!$E$37=\"Non endémique\",INTRO!$E$41=\"Non endémique\"),\" \",IF(COUNTRY_INFO!C66=0,\" \",COUNTRY_INFO!C66))","v":"MATALA"},{"$f":"IF(AND(INTRO!$E$37=\"Non endémique\",INTRO!$E$41=\"Non endémique\"),0,IF(AND(OR(COUNTRY_INFO!$H66=0,COUNTRY_INFO!$H66=4,COUNTRY_INFO!$H66=99),OR(COUNTRY_INFO!$J66=0,COUNTRY_INFO!$J66=4)),0,COUNTRY_INFO!$E66))","v":52570},{"$f":"IF(AND(INTRO!$E$37=\"Non endémique\",INTRO!$E$41=\"Non endémique\"),0,IF(AND(OR(COUNTRY_INFO!$H66=0,COUNTRY_INFO!$H66=4,COUNTRY_INFO!$H66=99),OR(COUNTRY_INFO!$J66=0,COUNTRY_INFO!$J66=4)),0,COUNTRY_INFO!$F66))","v":91669},144239,{"$f":"IF(AND(INTRO!$E$37=\"Non endémique\",INTRO!$E$41=\"Non endémique\"),0,COUNTRY_INFO!Q66)","v":0},{"$f":"IF(AND(INTRO!$E$37=\"Non endémique\",INTRO!$E$41=\"Non endémique\"),0,COUNTRY_INFO!S66)","v":1},{"$f":"IF($G66=1,IVM!$G66,0)","v":0},{"$f":"IF($G66=0, \" \", IF(COUNTRY_INFO!$H66=1, IF(COUNTRY_INFO!$L66=1, 0,\" \"),\" \"))","v":" "},null,"ALB",{"$f":"IF($L66=\"ALB\", IF(INTRO!$E$39=\"Non endémique\",IF($H66<>0,$D66*($H66-$G66),0),$D66*$H66), 0)","v":52570},91669,null,144239,{"$f":"IF($L66=\"MBD\", IF(INTRO!$E$39=\"Non endémique\",IF($H66<>0,$D66*($H66-$G66),0),$D66*$H66),0)","v":0},0,null,0,null,0,0,null,91669,459,null,0,0]
[{"$f":"IF(AND(INTRO!$E$37=\"Non endémique\",INTRO!$E$41=\"Non endémique\"),\" \",IF(COUNTRY_INFO!A67=0,\" \",COUNTRY_INFO!A67))","v":"Angola"},{"$f":"IF(AND(INTRO!$E$37=\"Non endémique\",INTRO!$E$41=\"Non endémique\"),\" \",IF(COUNTRY_INFO!B67=0,\" \",COUNTRY_INFO!B67))","v":"HUILA"},{"$f":"IF(AND(INTRO!$E$37=\"Non endémique\",INTRO!$E$41=\"Non endémique\"),\" \",IF(COUNTRY_INFO!C67=0,\" \",COUNTRY_INFO!C67))","v":"QUILENGUES"},{"$f":"IF(AND(INTRO!$E$37=\"Non endémique\",INTRO!$E$41=\"Non endémique\"),0,IF(AND(OR(COUNTRY_INFO!$H67=0,COUNTRY_INFO!$H67=4,COUNTRY_INFO!$H67=99),OR(COUNTRY_INFO!$J67=0,COUNTRY_INFO!$J67=4)),0,COUNTRY_INFO!$E67))","v":13771},{"$f":"IF(AND(INTRO!$E$37=\"Non endémique\",INTRO!$E$41=\"Non endémique\"),0,IF(AND(OR(COUNTRY_INFO!$H67=0,COUNTRY_INFO!$H67=4,COUNTRY_INFO!$H67=99),OR(COUNTRY_INFO!$J67=0,COUNTRY_INFO!$J67=4)),0,COUNTRY_INFO!$F67))","v":24013},37784,{"$f":"IF(AND(INTRO!$E$37=\"Non endémique\",INTRO!$E$41=\"Non endémique\"),0,COUNTRY_INFO!Q67)","v":0},{"$f":"IF(AND(INTRO!$E$37=\"Non endémique\",INTRO!$E$41=\"Non endémique\"),0,COUNTRY_INFO!S67)","v":1},{"$f":"IF($G67=1,IVM!$G67,0)","v":0},{"$f":"IF($G67=0, \" \", IF(COUNTRY_INFO!$H67=1, IF(COUNTRY_INFO!$L67=1, 0,\" \"),\" \"))","v":" "},null,"ALB",{"$f":"IF($L67=\"ALB\", IF(INTRO!$E$39=\"Non endémique\",IF($H67<>0,$D67*($H67-$G67),0),$D67*$H67), 0)","v":13771},24013,null,37784,{"$f":"IF($L67=\"MBD\", IF(INTRO!$E$39=\"Non endémique\",IF($H67<>0,$D67*($H67-$G67),0),$D67*$H67),0)","v":0},0,null,0,null,0,0,null,24013,121,null,0,0]
[{"$f":"IF(AND(INTRO!$E$37=\"Non endémique\",INTRO!$E$41=\"Non endémique\"),\" \",IF(COUNTRY_INFO!A68=0,\" \",COUNTRY_INFO!A68))","v":"Angola"},{"$f":"IF(AND(INTRO!$E$37=\"Non endémique\",INTRO!$E$41=\"Non endémique\"),\" \",IF(COUNTRY_INFO!B68=0,\" \",COUNTRY_INFO!B68))","v":"HUILA"},{"$f":"IF(AND(INTRO!$E$37=\"Non endémique\",INTRO!$E$41=\"Non endémique\"),\" \",IF(COUNTRY_INFO!C68=0,\" \",COUNTRY_INFO!C68))","v":"QUIPUNGO"},{"$f":"IF(AND(INTRO!$E$37=\"Non endémique\",INTRO!$E$41=\"Non endémique\"),0,IF(AND(OR(COUNTRY_INFO!$H68=0,COUNTRY_INFO!$H68=4,COUNTRY_INFO!$H68=99),OR(COUNTRY_INFO!$J68=0,COUNTRY_INFO!$J68=4)),0,COUNTRY_INFO!$E68))","v":29050},{"$f":"IF(AND(INTRO!$E$37=\"Non endémique\",INTRO!$E$41=\"Non endémique\"),0,IF(AND(OR(COUNTRY_INFO!$H68=0,COUNTRY_INFO!$H68=4,COUNTRY_INFO!$H68=99),OR(COUNTRY_INFO!$J68=0,COUNTRY_INFO!$J68=4)),0,COUNTRY_INFO!$F68))","v":50656},79706,{"$f":"IF(AND(INTRO!$E$37=\"Non endémique\",INTRO!$E$41=\"Non endémique\"),0,COUNTRY_INFO!Q68)","v":0},{"$f":"IF(AND(INTRO!$E$37=\"Non endémique\",INTRO!$E$41=\"Non endémique\"),0,COUNTRY_INFO!S68)","v":1},{"$f":"IF($G68=1,IVM!$G68,0)","v":0},{"$f":"IF($G68=0, \" \", IF(COUNTRY_INFO!$H68=1, IF(COUNTRY_INFO!$L68=1, 0,\" \"),\" \"))","v":" "},null,"ALB",{"$f":"IF($L68=\"ALB\", IF(INTRO!$E$39=\"Non endémique\",IF($H68<>0,$D68*($H68-$G68),0),$D68*$H68), 0)","v":29050},50656,null,79706,{"$f":"IF($L68=\"MBD\", IF(INTRO!$E$39=\"Non endémique\",IF($H68<>0,$D68*($H68-$G68),0),$D68*$H68),0)","v":0},0,null,0,null,0,0,null,50656,254,null,0,0]
[{"$f":"IF(AND(INTRO!$E$37=\"Non endémique\",INTRO!$E$41=\"Non endémique\"),\" \",IF(COUNTRY_INFO!A69=0,\" \",COUNTRY_INFO!A69))","v":"Angola"},{"$f":"IF(AND(INTRO!$E$37=\"Non endémique\",INTRO!$E$41=\"Non endémique\"),\" \",IF(COUNTRY_INFO!B69=0,\" \",COUNTRY_INFO!B69))","v":"KUANDO KUBANGO"},{"$f":"IF(AND(INTRO!$E$37=\"Non endémique\",INTRO!$E$41=\"Non endémique\"),\" \",IF(COUNTRY_INFO!C69=0,\" \",COUNTRY_INFO!C69))","v":"CALAI"},{"$f":"IF(AND(INTRO!$E$37=\"Non endémique\",INTRO!$E$41=\"Non endémique\"),0,IF(AND(OR(COUNTRY_INFO!$H69=0,COUNTRY_INFO!$H69=4,COUNTRY_INFO!$H69=99),OR(COUNTRY_INFO!$J69=0,COUNTRY_INFO!$J69=4)),0,COUNTRY_INFO!$E69))","v":4141},{"$f":"IF(AND(INTRO!$E$37=\"Non endémique\",INTRO!$E$41=\"Non endémique\"),0,IF(AND(OR(COUNTRY_INFO!$H69=0,COUNTRY_INFO!$H69=4,COUNTRY_INFO!$H69=99),OR(COUNTRY_INFO!$J69=0,COUNTRY_INFO!$J69=4)),0,COUNTRY_INFO!$F69))","v":7221},11362,{"$f":"IF(AND(INTRO!$E$37=\"Non endémique\",INTRO!$E$41=\"Non endémique\"),0,COUNTRY_INFO!Q69)","v":0},{"$f":"IF(AND(INTRO!$E$37=\"Non endémique\",INTRO!$E$41=\"Non endémique\"),0,COUNTRY_INFO!S69)","v":1},{"$f":"IF($G69=1,IVM!$G69,0)","v":0},{"$f":"IF($G69=0, \" \", IF(COUNTRY_INFO!$H69=1, IF(COUNTRY_INFO!$L69=1, 0,\" \"),\" \"))","v":" "},null,"ALB",{"$f":"IF($L69=\"ALB\", IF(INTRO!$E$39=\"Non endémique\",IF($H69<>0,$D69*($H69-$G69),0),$D69*$H69), 0)","v":4141},7221,null,11362,{"$f":"IF($L69=\"MBD\", IF(INTRO!$E$39=\"Non endémique\",IF($H69<>0,$D69*($H69-$G69),0),$D69*$H69),0)","v":0},0,null,0,null,0,0,null,7221,37,null,0,0]
[{"$f":"IF(AND(INTRO!$E$37=\"Non endémique\",INTRO!$E$41=\"Non endémique\"),\" \",IF(COUNTRY_INFO!A70=0,\" \",COUNTRY_INFO!A70))","v":"Angola"},{"$f":"IF(AND(INTRO!$E$37=\"Non endémique\",INTRO!$E$41=\"Non endémique\"),\" \",IF(COUNTRY_INFO!B70=0,\" \",COUNTRY_INFO!B70))","v":"KUANDO KUBANGO"},{"$f":"IF(AND(INTRO!$E$37=\"Non endémique\",INTRO!$E$41=\"Non endémique\"),\" \",IF(COUNTRY_INFO!C70=0,\" \",COUNTRY_INFO!C70))","v":"CUANGAR"},{"$f":"IF(AND(INTRO!$E$37=\"Non endémique\",INTRO!$E$41=\"Non endémique\"),0,IF(AND(OR(COUNTRY_INFO!$H70=0,COUNTRY_INFO!$H70=4,COUNTRY_INFO!$H70=99),OR(COUNTRY_INFO!$J70=0,COUNTRY_INFO!$J70=4)),0,COUNTRY_INFO!$E70))","v":5202},{"$f":"IF(AND(INTRO!$E$37=\"Non endémique\",INTRO!$E$41=\"Non endémique\"),0,IF(AND(OR(COUNTRY_INFO!$H70=0,COUNTRY_INFO!$H70=4,COUNTRY_INFO!$H70=99),OR(COUNTRY_INFO!$J70=0,COUNTRY_INFO!$J70=4)),0,COUNTRY_INFO!$F70))","v":9071},14273,{"$f":"IF(AND(INTRO!$E$37=\"Non endémique\",INTRO!$E$41=\"Non endémique\"),0,COUNTRY_INFO!Q70)","v":0},{"$f":"IF(AND(INTRO!$E$37=\"Non endémique\",INTRO!$E$41=\"Non endémique\"),0,COUNTRY_INFO!S70)","v":1},{"$f":"IF($G70=1,IVM!$G70,0)","v":0},{"$f":"IF($G70=0, \" \", IF(COUNTRY_INFO!$H70=1, IF(COUNTRY_INFO!$L70=1, 0,\" \"),\" \"))","v":" "},null,"ALB",{"$f":"IF($L70=\"ALB\", IF(INTRO!$E$39=\"Non endémique\",IF($H70<>0,$D70*($H70-$G70),0),$D70*$H70), 0)","v":5202},9071,null,14273,{"$f":"IF($L70=\"MBD\", IF(INTRO!$E$39=\"Non endémique\",IF($H70<>0,$D70*($H70-$G70),0),$D70*$H70),0)","v":0},0,null,0,null,0,0,null,9071,46,null,0,0]
[{"$f":"IF(AND(INTRO!$E$37=\"Non endémique\",INTRO!$E$41=\"Non endémique\"),\" \",IF(COUNTRY_INFO!A71=0,\" \",COUNTRY_INFO!A71))","v":"Angola"},{"$f":"IF(AND(INTRO!$E$37=\"Non endémique\",INTRO!$E$41=\"Non endémique\"),\" \",IF(COUNTRY_INFO!B71=0,\" \",COUNTRY_INFO!B71))","v":"KUANDO KUBANGO"},{"$f":"IF(AND(INTRO!$E$37=\"Non endémique\",INTRO!$E$41=\"Non endémique\"),\" \",IF(COUNTRY_INFO!C71=0,\" \",COUNTRY_INFO!C71))","v":"CUCHI"},{"$f":"IF(AND(INTRO!$E$37=\"Non endémique\",INTRO!$E$41=\"Non endémique\"),0,IF(AND(OR(COUNTRY_INFO!$H71=0,COUNTRY_INFO!$H71=4,COUNTRY_INFO!$H71=99),OR(COUNTRY_INFO!$J71=0,COUNTRY_INFO!$J71=4)),0,COUNTRY_INFO!$E71))","v":7856},{"$f":"IF(AND(INTRO!$E$37=\"Non endémique\",INTRO!$E$41=\"Non endémique\"),0,IF(AND(OR(COUNTRY_INFO!$H71=0,COUNTRY_INFO!$H71=4,COUNTRY_INFO!$H71=99),OR(COUNTRY_INFO!$J71=0,COUNTRY_INFO!$J71=4)),0,COUNTRY_INFO!$F71))","v":13698},21554,{"$f":"IF(AND(INTRO!$E$37=\"Non endémique\",INTRO!$E$41=\"Non endémique\"),0,COUNTRY_INFO!Q71)","v":0},{"$f":"IF(AND(INTRO!$E$37=\"Non endémique\",INTRO!$E$41=\"Non endémique\"),0,COUNTRY_INFO!S71)","v":1},{"$f":"IF($G71=1,IVM!$G71,0)","v":0},{"$f":"IF($G71=0, \" \", IF(COUNTRY_INFO!$H71=1, IF(COUNTRY_INFO!$L71=1, 0,\" \"),\" \"))","v":" "},null,"ALB",{"$f":"IF($L71=\"ALB\", IF(INTRO!$E$39=\"Non endémique\",IF($H71<>0,$D71*($H71-$G71),0),$D71*$H71), 0)","v":7856},13698,null,21554,{"$f":"IF($L71=\"MBD\", IF(INTRO!$E$39=\"Non endémique\",IF($H71<>0,$D71*($H71-$G71),0),$D71*$H71),0)","v":0},0,null,0,null,0,0,null,13698,69,null,0,0]
[{"$f":"IF(AND(INTRO!$E$37=\"Non endémique\",INTRO!$E$41=\"Non endémique\"),\" \",IF(COUNTRY_INFO!A72=0,\" \",COUNTRY_INFO!A72))","v":"Angola"},{"$f":"IF(AND(INTRO!$E$37=\"Non endémique\",INTRO!$E$41=\"Non endémique\"),\" \",IF(COUNTRY_INFO!B72=0,\" \",COUNTRY_INFO!B72))","v":"KUANDO KUBANGO"},{"$f":"IF(AND(INTRO!$E$37=\"Non endémique\",INTRO!$E$41=\"Non endémique\"),\" \",IF(COUNTRY_INFO!C72=0,\" \",COUNTRY_INFO!C72))","v":"DIRICO"},{"$f":"IF(AND(INTRO!$E$37=\"Non endémique\",INTRO!$E$41=\"Non endémique\"),0,IF(AND(OR(COUNTRY_INFO!$H72=0,COUNTRY_INFO!$H72=4,COUNTRY_INFO!$H72=99),OR(COUNTRY_INFO!$J72=0,COUNTRY_INFO!$J72=4)),0,COUNTRY_INFO!$E72))","v":2765},{"$f":"IF(AND(INTRO!$E$37=\"Non endémique\",INTRO!$E$41=\"Non endémique\"),0,IF(AND(OR(COUNTRY_INFO!$H72=0,COUNTRY_INFO!$H72=4,COUNTRY_INFO!$H72=99),OR(COUNTRY_INFO!$J72=0,COUNTRY_INFO!$J72=4)),0,COUNTRY_INFO!$F72))","v":4821},7586,{"$f":"IF(AND(INTRO!$E$37=\"Non endémique\",INTRO!$E$41=\"Non endémique\"),0,COUNTRY_INFO!Q72)","v":0},{"$f":"IF(AND(INTRO!$E$37=\"Non endémique\",INTRO!$E$41=\"Non endémique\"),0,COUNTRY_INFO!S72)","v":1},{"$f":"IF($G72=1,IVM!$G72,0)","v":0},{"$f":"IF($G72=0, \" \", IF(COUNTRY_INFO!$H72=1, IF(COUNTRY_INFO!$L72=1, 0,\" \"),\" \"))","v":" "},null,"ALB",{"$f":"IF($L72=\"ALB\", IF(INTRO!$E$39=\"Non endémique\",IF($H72<>0,$D72*($H72-$G72),0),$D72*$H72), 0)","v":2765},4821,null,7586,{"$f":"IF($L72=\"MBD\", IF(INTRO!$E$39=\"Non endémique\",IF($H72<>0,$D72*($H72-$G72),0),$D72*$H72),0)","v":0},0,null,0,null,0,0,null,4821,25,null,0,0]
[{"$f":"IF(AND(INTRO!$E$37=\"Non endémique\",INTRO!$E$41=\"Non endémique\"),\" \",IF(COUNTRY_INFO!A73=0,\" \",COUNTRY_INFO!A73))","v":"Angola"},{"$f":"IF(AND(INTRO!$E$37=\"Non endémique\",INTRO!$E$41=\"Non endémique\"),\" \",IF(COUNTRY_INFO!B73=0,\" \",COUNTRY_INFO!B73))","v":"KUANDO KUBANGO"},{"$f":"IF(AND(INTRO!$E$37=\"Non endémique\",INTRO!$E$41=\"Non endémique\"),\" \",IF(COUNTRY_INFO!C73=0,\" \",COUNTRY_INFO!C73))","v":"KUITO KUANAVALE"},{"$f":"IF(AND(INTRO!$E$37=\"Non endémique\",INTRO!$E$41=\"Non endémique\"),0,IF(AND(OR(COUNTRY_INFO!$H73=0,COUNTRY_INFO!$H73=4,COUNTRY_INFO!$H73=99),OR(COUNTRY_INFO!$J73=0,COUNTRY_INFO!$J73=4)),0,COUNTRY_INFO!$E73))","v":7463},{"$f":"IF(AND(INTRO!$E$37=\"Non endémique\",INTRO!$E$41=\"Non endémique\"),0,IF(AND(OR(COUNTRY_INFO!$H73=0,COUNTRY_INFO!$H73=4,COUNTRY_INFO!$H73=99),OR(COUNTRY_INFO!$J73=0,COUNTRY_INFO!$J73=4)),0,COUNTRY_INFO!$F73))","v":13014},{"$f":"SUM(D73:E73)","v":20477},{"$f":"IF(AND(INTRO!$E$37=\"Non endémique\",INTRO!$E$41=\"Non endémique\"),0,COUNTRY_INFO!Q73)","v":0},{"$f":"IF(AND(INTRO!$E$37=\"Non endémique\",INTRO!$E$41=\"Non endémique\"),0,COUNTRY_INFO!S73)","v":1},{"$f":"IF($G73=1,IVM!$G73,0)","v":0},{"$f":"IF($G73=0, \" \", IF(COUNTRY_INFO!$H73=1, IF(COUNTRY_INFO!$L73=1, 0,\" \"),\" \"))","v":" "},null,"ALB",{"$f":"IF($L73=\"ALB\", IF(INTRO!$E$39=\"Non endémique\",IF($H73<>0,$D73*($H73-$G73),0),$D73*$H73), 0)","v":7463},{"$f":"IF($L73=\"ALB\", IF($H73<>0, IF($I73=0, $E73*$H73, $E73*($H73-$G73)),0), 0)","v":13014},null,{"$f":"SUM(M73:O73)","v":20477},{"$f":"IF($L73=\"MBD\", IF(INTRO!$E$39=\"Non endémique\",IF($H73<>0,$D73*($H73-$G73),0),$D73*$H73),0)","v":0},{"$f":"IF($L73=\"MBD\", IF($H73<>0,IF($I73=0, $E73*$H73, $E73*($H73-$G73)),0), 0 )","v":0},null,{"$f":"SUM(Q73:S73)","v":0},null,{"$f":"IF($J73<>\" \", IF(($I73+$J73*$K73)>$U73, ($I73+$J73*$K73)-$U73,0), IF($I73>$U73, $I73-$U73, 0))","v":0},{"$f":"IF($J73<>\" \", ROUNDUP(($I73+$J73*$K73)/200,0), ROUNDUP($I73/200,0))","v":0},null,{"$f":"IF($N73>$X73,$N73-$X73,0)","v":13014},{"$f":"ROUNDUP($N73/200,0)","v":66},null,{"$f":"IF($R73>$AA73,$R73-$AA73,0)","v":0},{"$f":"ROUNDUP($R73/150,0)","v":0}]
[{"$f":"IF(AND(INTRO!$E$37=\"Non endémique\",INTRO!$E$41=\"Non endémique\"),\" \",IF(COUNTRY_INFO!A74=0,\" \",COUNTRY_INFO!A74))","v":"Angola"},{"$f":"IF(AND(INTRO!$E$37=\"Non endémique\",INTRO!$E$41=\"Non endémique\"),\" \",IF(COUNTRY_INFO!B74=0,\" \",COUNTRY_INFO!B74))","v":"KUANDO KUBANGO"},{"$f":"IF(AND(INTRO!$E$37=\"Non endémique\",INTRO!$E$41=\"Non endémique\"),\" \",IF(COUNTRY_INFO!C74=0,\" \",COUNTRY_INFO!C74))","v":"MAVINGA"},{"$f":"IF(AND(INTRO!$E$37=\"Non endémique\",INTRO!$E$41=\"Non endémique\"),0,IF(AND(OR(COUNTRY_INFO!$H74=0,COUNTRY_INFO!$H74=4,COUNTRY_INFO!$H74=99),OR(COUNTRY_INFO!$J74=0,COUNTRY_INFO!$J74=4)),0,COUNTRY_INFO!$E74))","v":4971},{"$f":"IF(AND(INTRO!$E$37=\"Non endémique\",INTRO!$E$41=\"Non endémique\"),0,IF(AND(OR(COUNTRY_INFO!$H74=0,COUNTRY_INFO!$H74=4,COUNTRY_INFO!$H74=99),OR(COUNTRY_INFO!$J74=0,COUNTRY_INFO!$J74=4)),0,COUNTRY_INFO!$F74))","v":8669},13640,{"$f":"IF(AND(INTRO!$E$37=\"Non endémique\",INTRO!$E$41=\"Non endémique\"),0,COUNTRY_INFO!Q74)","v":0},{"$f":"IF(AND(INTRO!$E$37=\"Non endémique\",INTRO!$E$41=\"Non endémique\"),0,COUNTRY_INFO!S74)","v":1},{"$f":"IF($G74=1,IVM!$G74,0)","v":0},{"$f":"IF($G74=0, \" \", IF(COUNTRY_INFO!$H74=1, IF(COUNTRY_INFO!$L74=1, 0,\" \"),\" \"))","v":" "},null,"ALB",{"$f":"IF($L74=\"ALB\", IF(INTRO!$E$39=\"Non endémique\",IF($H74<>0,$D74*($H74-$G74),0),$D74*$H74), 0)","v":4971},8669,null,13640,{"$f":"IF($L74=\"MBD\", IF(INTRO!$E$39=\"Non endémique\",IF($H74<>0,$D74*($H74-$G74),0),$D74*$H74),0)","v":0},0,null,0,null,0,0,null,8669,44,null,0,0]
[{"$f":"IF(AND(INTRO!$E$37=\"Non endémique\",INTRO!$E$41=\"Non endémique\"),\" \",IF(COUNTRY_INFO!A75=0,\" \",COUNTRY_INFO!A75))","v":"Angola"},{"$f":"IF(AND(INTRO!$E$37=\"Non endémique\",INTRO!$E$41=\"Non endémique\"),\" \",IF(COUNTRY_INFO!B75=0,\" \",COUNTRY_INFO!B75))","v":"KUANDO KUBANGO"},{"$f":"IF(AND(INTRO!$E$37=\"Non endémique\",INTRO!$E$41=\"Non endémique\"),\" \",IF(COUNTRY_INFO!C75=0,\" \",COUNTRY_INFO!C75))","v":"MENONGUE"},{"$f":"IF(AND(INTRO!$E$37=\"Non endémique\",INTRO!$E$41=\"Non endémique\"),0,IF(AND(OR(COUNTRY_INFO!$H75=0,COUNTRY_INFO!$H75=4,COUNTRY_INFO!$H75=99),OR(COUNTRY_INFO!$J75=0,COUNTRY_INFO!$J75=4)),0,COUNTRY_INFO!$E75))","v":58663},{"$f":"IF(AND(INTRO!$E$37=\"Non endémique\",INTRO!$E$41=\"Non endémique\"),0,IF(AND(OR(COUNTRY_INFO!$H75=0,COUNTRY_INFO!$H75=4,COUNTRY_INFO!$H75=99),OR(COUNTRY_INFO!$J75=0,COUNTRY_INFO!$J75=4)),0,COUNTRY_INFO!$F75))","v":102293},160956,{"$f":"IF(AND(INTRO!$E$37=\"Non endémique\",INTRO!$E$41=\"Non endémique\"),0,COUNTRY_INFO!Q75)","v":0},{"$f":"IF(AND(INTRO!$E$37=\"Non endémique\",INTRO!$E$41=\"Non endémique\"),0,COUNTRY_INFO!S75)","v":1},{"$f":"IF($G75=1,IVM!$G75,0)","v":0},{"$f":"IF($G75=0, \" \", IF(COUNTRY_INFO!$H75=1, IF(COUNTRY_INFO!$L75=1, 0,\" \"),\" \"))","v":" "},null,"ALB",{"$f":"IF($L75=\"ALB\", IF(INTRO!$E$39=\"Non endémique\",IF($H75<>0,$D75*($H75-$G75),0),$D75*$H75), 0)","v":58663},102293,null,160956,{"$f":"IF($L75=\"MBD\", IF(INTRO!$E$39=\"Non endémique\",IF($H75<>0,$D75*($H75-$G75),0),$D75*$H75),0)","v":0},0,null,0,null,0,0,null,102293,512,null,0,0]
[{"$f":"IF(AND(INTRO!$E$37=\"Non endémique\",INTRO!$E$41=\"Non endémique\"),\" \",IF(COUNTRY_INFO!A76=0,\" \",COUNTRY_INFO!A76))","v":"Angola"},{"$f":"IF(AND(INTRO!$E$37=\"Non endémique\",INTRO!$E$41=\"Non endémique\"),\" \",IF(COUNTRY_INFO!B76=0,\" \",COUNTRY_INFO!B76))","v":"KUANDO KUBANGO"},{"$f":"IF(AND(INTRO!$E$37=\"Non endémique\",INTRO!$E$41=\"Non endémique\"),\" \",IF(COUNTRY_INFO!C76=0,\" \",COUNTRY_INFO!C76))","v":"NANKOVA"},{"$f":"IF(AND(INTRO!$E$37=\"Non endémique\",INTRO!$E$41=\"Non endémique\"),0,IF(AND(OR(COUNTRY_INFO!$H76=0,COUNTRY_INFO!$H76=4,COUNTRY_INFO!$H76=99),OR(COUNTRY_INFO!$J76=0,COUNTRY_INFO!$J76=4)),0,COUNTRY_INFO!$E76))","v":511},{"$f":"IF(AND(INTRO!$E$37=\"Non endémique\",INTRO!$E$41=\"Non endémique\"),0,IF(AND(OR(COUNTRY_INFO!$H76=0,COUNTRY_INFO!$H76=4,COUNTRY_INFO!$H76=99),OR(COUNTRY_INFO!$J76=0,COUNTRY_INFO!$J76=4)),0,COUNTRY_INFO!$F76))","v":891},1402,{"$f":"IF(AND(INTRO!$E$37=\"Non endémique\",INTRO!$E$41=\"Non endémique\"),0,COUNTRY_INFO!Q76)","v":0},{"$f":"IF(AND(INTRO!$E$37=\"Non endémique\",INTRO!$E$41=\"Non endémique\"),0,COUNTRY_INFO!S76)","v":1},{"$f":"IF($G76=1,IVM!$G76,0)","v":0},{"$f":"IF($G76=0, \" \", IF(COUNTRY_INFO!$H76=1, IF(COUNTRY_INFO!$L76=1, 0,\" \"),\" \"))","v":" "},null,"ALB",{"$f":"IF($L76=\"ALB\", IF(INTRO!$E$39=\"Non endémique\",IF($H76<>0,$D76*($H76-$G76),0),$D76*$H76), 0)","v":511},891,null,1402,{"$f":"IF($L76=\"MBD\", IF(INTRO!$E$39=\"Non endémique\",IF($H76<>0,$D76*($H76-$G76),0),$D76*$H76),0)","v":0},0,null,0,null,0,0,null,891,5,null,0,0]
[{"$f":"IF(AND(INTRO!$E$37=\"Non endémique\",INTRO!$E$41=\"Non endémique\"),\" \",IF(COUNTRY_INFO!A77=0,\" \",COUNTRY_INFO!A77))","v":"Angola"},{"$f":"IF(AND(INTRO!$E$37=\"Non endémique\",INTRO!$E$41=\"Non endémique\"),\" \",IF(COUNTRY_INFO!B77=0,\" \",COUNTRY_INFO!B77))","v":"KUANDO KUBANGO"},{"$f":"IF(AND(INTRO!$E$37=\"Non endémique\",INTRO!$E$41=\"Non endémique\"),\" \",IF(COUNTRY_INFO!C77=0,\" \",COUNTRY_INFO!C77))","v":"RIVUNGO"},{"$f":"IF(AND(INTRO!$E$37=\"Non endémique\",INTRO!$E$41=\"Non endémique\"),0,IF(AND(OR(COUNTRY_INFO!$H77=0,COUNTRY_INFO!$H77=4,COUNTRY_INFO!$H77=99),OR(COUNTRY_INFO!$J77=0,COUNTRY_INFO!$J77=4)),0,COUNTRY_INFO!$E77))","v":6042},{"$f":"IF(AND(INTRO!$E$37=\"Non endémique\",INTRO!$E$41=\"Non endémique\"),0,IF(AND(OR(COUNTRY_INFO!$H77=0,COUNTRY_INFO!$H77=4,COUNTRY_INFO!$H77=99),OR(COUNTRY_INFO!$J77=0,COUNTRY_INFO!$J77=4)),0,COUNTRY_INFO!$F77))","v":10536},16578,{"$f":"IF(AND(INTRO!$E$37=\"Non endémique\",INTRO!$E$41=\"Non endémique\"),0,COUNTRY_INFO!Q77)","v":0},{"$f":"IF(AND(INTRO!$E$37=\"Non endémique\",INTRO!$E$41=\"Non endémique\"),0,COUNTRY_INFO!S77)","v":1},{"$f":"IF($G77=1,IVM!$G77,0)","v":0},{"$f":"IF($G77=0, \" \", IF(COUNTRY_INFO!$H77=1, IF(COUNTRY_INFO!$L77=1, 0,\" \"),\" \"))","v":" "},null,"ALB",{"$f":"IF($L77=\"ALB\", IF(INTRO!$E$39=\"Non endémique\",IF($H77<>0,$D77*($H77-$G77),0),$D77*$H77), 0)","v":6042},10536,null,16578,{"$f":"IF($L77=\"MBD\", IF(INTRO!$E$39=\"Non endémique\",IF($H77<>0,$D77*($H77-$G77),0),$D77*$H77),0)","v":0},0,null,0,null,0,0,null,10536,53,null,0,0]
[{"$f":"IF(AND(INTRO!$E$37=\"Non endémique\",INTRO!$E$41=\"Non endémique\"),\" \",IF(COUNTRY_INFO!A78=0,\" \",COUNTRY_INFO!A78))","v":"Angola"},{"$f":"IF(AND(INTRO!$E$37=\"Non endémique\",INTRO!$E$41=\"Non endémique\"),\" \",IF(COUNTRY_INFO!B78=0,\" \",COUNTRY_INFO!B78))","v":"KWANZA NORTE"},{"$f":"IF(AND(INTRO!$E$37=\"Non endémique\",INTRO!$E$41=\"Non endémique\"),\" \",IF(COUNTRY_INFO!C78=0,\" \",COUNTRY_INFO!C78))","v":"AMBACA"},{"$f":"IF(AND(INTRO!$E$37=\"Non endémique\",INTRO!$E$41=\"Non endémique\"),0,IF(AND(OR(COUNTRY_INFO!$H78=0,COUNTRY_INFO!$H78=4,COUNTRY_INFO!$H78=99),OR(COUNTRY_INFO!$J78=0,COUNTRY_INFO!$J78=4)),0,COUNTRY_INFO!$E78))","v":11291},{"$f":"IF(AND(INTRO!$E$37=\"Non endémique\",INTRO!$E$41=\"Non endémique\"),0,IF(AND(OR(COUNTRY_INFO!$H78=0,COUNTRY_INFO!$H78=4,COUNTRY_INFO!$H78=99),OR(COUNTRY_INFO!$J78=0,COUNTRY_INFO!$J78=4)),0,COUNTRY_INFO!$F78))","v":19689},30980,{"$f":"IF(AND(INTRO!$E$37=\"Non endémique\",INTRO!$E$41=\"Non endémique\"),0,COUNTRY_INFO!Q78)","v":0},{"$f":"IF(AND(INTRO!$E$37=\"Non endémique\",INTRO!$E$41=\"Non endémique\"),0,COUNTRY_INFO!S78)","v":1},{"$f":"IF($G78=1,IVM!$G78,0)","v":0},{"$f":"IF($G78=0, \" \", IF(COUNTRY_INFO!$H78=1, IF(COUNTRY_INFO!$L78=1, 0,\" \"),\" \"))","v":" "},null,"ALB",{"$f":"IF($L78=\"ALB\", IF(INTRO!$E$39=\"Non endémique\",IF($H78<>0,$D78*($H78-$G78),0),$D78*$H78), 0)","v":11291},19689,null,30980,{"$f":"IF($L78=\"MBD\", IF(INTRO!$E$39=\"Non endémique\",IF($H78<>0,$D78*($H78-$G78),0),$D78*$H78),0)","v":0},0,null,0,null,0,0,null,19689,99,null,0,0]
[{"$f":"IF(AND(INTRO!$E$37=\"Non endémique\",INTRO!$E$41=\"Non endémique\"),\" \",IF(COUNTRY_INFO!A79=0,\" \",COUNTRY_INFO!A79))","v":"Angola"},{"$f":"IF(AND(INTRO!$E$37=\"Non endémique\",INTRO!$E$41=\"Non endémique\"),\" \",IF(COUNTRY_INFO!B79=0,\" \",COUNTRY_INFO!B79))","v":"KWANZA NORTE"},{"$f":"IF(AND(INTRO!$E$37=\"Non endémique\",INTRO!$E$41=\"Non endémique\"),\" \",IF(COUNTRY_INFO!C79=0,\" \",COUNTRY_INFO!C79))","v":"BANGA"},{"$f":"IF(AND(INTRO!$E$37=\"Non endémique\",INTRO!$E$41=\"Non endémique\"),0,IF(AND(OR(COUNTRY_INFO!$H79=0,COUNTRY_INFO!$H79=4,COUNTRY_INFO!$H79=99),OR(COUNTRY_INFO!$J79=0,COUNTRY_INFO!$J79=4)),0,COUNTRY_INFO!$E79))","v":1893},{"$f":"IF(AND(INTRO!$E$37=\"Non endémique\",INTRO!$E$41=\"Non endémique\"),0,IF(AND(OR(COUNTRY_INFO!$H79=0,COUNTRY_INFO!$H79=4,COUNTRY_INFO!$H79=99),OR(COUNTRY_INFO!$J79=0,COUNTRY_INFO!$J79=4)),0,COUNTRY_INFO!$F79))","v":3300},5193,{"$f":"IF(AND(INTRO!$E$37=\"Non endémique\",INTRO!$E$41=\"Non endémique\"),0,COUNTRY_INFO!Q79)","v":0},{"$f":"IF(AND(INTRO!$E$37=\"Non endémique\",INTRO!$E$41=\"Non endémique\"),0,COUNTRY_INFO!S79)","v":1},{"$f":"IF($G79=1,IVM!$G79,0)","v":0},{"$f":"IF($G79=0, \" \", IF(COUNTRY_INFO!$H79=1, IF(COUNTRY_INFO!$L79=1, 0,\" \"),\" \"))","v":" "},null,"ALB",{"$f":"IF($L79=\"ALB\", IF(INTRO!$E$39=\"Non endémique\",IF($H79<>0,$D79*($H79-$G79),0),$D79*$H79), 0)","v":1893},3300,null,5193,{"$f":"IF($L79=\"MBD\", IF(INTRO!$E$39=\"Non endémique\",IF($H79<>0,$D79*($H79-$G79),0),$D79*$H79),0)","v":0},0,null,0,null,0,0,null,3300,17,null,0,0]
[{"$f":"IF(AND(INTRO!$E$37=\"Non endémique\",INTRO!$E$41=\"Non endémique\"),\" \",IF(COUNTRY_INFO!A80=0,\" \",COUNTRY_INFO!A80))","v":"Angola"},{"$f":"IF(AND(INTRO!$E$37=\"Non endémique\",INTRO!$E$41=\"Non endémique\"),\" \",IF(COUNTRY_INFO!B80=0,\" \",COUNTRY_INFO!B80))","v":"KWANZA NORTE"},{"$f":"IF(AND(INTRO!$E$37=\"Non endémique\",INTRO!$E$41=\"Non endémique\"),\" \",IF(COUNTRY_INFO!C80=0,\" \",COUNTRY_INFO!C80))","v":"BOLONGONGO"},{"$f":"IF(AND(INTRO!$E$37=\"Non endémique\",INTRO!$E$41=\"Non endémique\"),0,IF(AND(OR(COUNTRY_INFO!$H80=0,COUNTRY_INFO!$H80=4,COUNTRY_INFO!$H80=99),OR(COUNTRY_INFO!$J80=0,COUNTRY_INFO!$J80=4)),0,COUNTRY_INFO!$E80))","v":2380},{"$f":"IF(AND(INTRO!$E$37=\"Non endémique\",INTRO!$E$41=\"Non endémique\"),0,IF(AND(OR(COUNTRY_INFO!$H80=0,COUNTRY_INFO!$H80=4,COUNTRY_INFO!$H80=99),OR(COUNTRY_INFO!$J80=0,COUNTRY_INFO!$J80=4)),0,COUNTRY_INFO!$F80))","v":4150},6530,{"$f":"IF(AND(INTRO!$E$37=\"Non endémique\",INTRO!$E$41=\"Non endémique\"),0,COUNTRY_INFO!Q80)","v":0},{"$f":"IF(AND(INTRO!$E$37=\"Non endémique\",INTRO!$E$41=\"Non endémique\"),0,COUNTRY_INFO!S80)","v":1},{"$f":"IF($G80=1,IVM!$G80,0)","v":0},{"$f":"IF($G80=0, \" \", IF(COUNTRY_INFO!$H80=1, IF(COUNTRY_INFO!$L80=1, 0,\" \"),\" \"))","v":" "},null,"ALB",{"$f":"IF($L80=\"ALB\", IF(INTRO!$E$39=\"Non endémique\",IF($H80<>0,$D80*($H80-$G80),0),$D80*$H80), 0)","v":2380},4150,null,6530,{"$f":"IF($L80=\"MBD\", IF(INTRO!$E$39=\"Non endémique\",IF($H80<>0,$D80*($H80-$G80),0),$D80*$H80),0)","v":0},0,null,0,null,0,0,null,4150,21,null,0,0]
[{"$f":"IF(AND(INTRO!$E$37=\"Non endémique\",INTRO!$E$41=\"Non endémique\"),\" \",IF(COUNTRY_INFO!A81=0,\" \",COUNTRY_INFO!A81))","v":"Angola"},{"$f":"IF(AND(INTRO!$E$37=\"Non endémique\",INTRO!$E$41=\"Non endémique\"),\" \",IF(COUNTRY_INFO!B81=0,\" \",COUNTRY_INFO!B81))","v":"KWANZA NORTE"},{"$f":"IF(AND(INTRO!$E$37=\"Non endémique\",INTRO!$E$41=\"Non endémique\"),\" \",IF(COUNTRY_INFO!C81=0,\" \",COUNTRY_INFO!C81))","v":"CAMBAMBE"},{"$f":"IF(AND(INTRO!$E$37=\"Non endémique\",INTRO!$E$41=\"Non endémique\"),0,IF(AND(OR(COUNTRY_INFO!$H81=0,COUNTRY_INFO!$H81=4,COUNTRY_INFO!$H81=99),OR(COUNTRY_INFO!$J81=0,COUNTRY_INFO!$J81=4)),0,COUNTRY_INFO!$E81))","v":16592},{"$f":"IF(AND(INTRO!$E$37=\"Non endémique\",INTRO!$E$41=\"Non endémique\"),0,IF(AND(OR(COUNTRY_INFO!$H81=0,COUNTRY_INFO!$H81=4,COUNTRY_INFO!$H81=99),OR(COUNTRY_INFO!$J81=0,COUNTRY_INFO!$J81=4)),0,COUNTRY_INFO!$F81))","v":28932},45524,{"$f":"IF(AND(INTRO!$E$37=\"Non endémique\",INTRO!$E$41=\"Non endémique\"),0,COUNTRY_INFO!Q81)","v":0},{"$f":"IF(AND(INTRO!$E$37=\"Non endémique\",INTRO!$E$41=\"Non endémique\"),0,COUNTRY_INFO!S81)","v":1},{"$f":"IF($G81=1,IVM!$G81,0)","v":0},{"$f":"IF($G81=0, \" \", IF(COUNTRY_INFO!$H81=1, IF(COUNTRY_INFO!$L81=1, 0,\" \"),\" \"))","v":" "},null,"ALB",{"$f":"IF($L81=\"ALB\", IF(INTRO!$E$39=\"Non endémique\",IF($H81<>0,$D81*($H81-$G81),0),$D81*$H81), 0)","v":16592},28932,null,45524,{"$f":"IF($L81=\"MBD\", IF(INTRO!$E$39=\"Non endémique\",IF($H81<>0,$D81*($H81-$G81),0),$D81*$H81),0)","v":0},0,null,0,null,0,0,null,28932,145,null,0,0]
[{"$f":"IF(AND(INTRO!$E$37=\"Non endémique\",INTRO!$E$41=\"Non endémique\"),\" \",IF(COUNTRY_INFO!A82=0,\" \",COUNTRY_INFO!A82))","v":"Angola"},{"$f":"IF(AND(INTRO!$E$37=\"Non endémique\",INTRO!$E$41=\"Non endémique\"),\" \",IF(COUNTRY_INFO!B82=0,\" \",COUNTRY_INFO!B82))","v":"KWANZA NORTE"},{"$f":"IF(AND(INTRO!$E$37=\"Non endémique\",INTRO!$E$41=\"Non endémique\"),\" \",IF(COUNTRY_INFO!C82=0,\" \",COUNTRY_INFO!C82))","v":"CAZENGO"},{"$f":"IF(AND(INTRO!$E$37=\"Non endémique\",INTRO!$E$41=\"Non endémique\"),0,IF(AND(OR(COUNTRY_INFO!$H82=0,COUNTRY_INFO!$H82=4,COUNTRY_INFO!$H82=99),OR(COUNTRY_INFO!$J82=0,COUNTRY_INFO!$J82=4)),0,COUNTRY_INFO!$E82))","v":31394},{"$f":"IF(AND(INTRO!$E$37=\"Non endémique\",INTRO!$E$41=\"Non endémique\"),0,IF(AND(OR(COUNTRY_INFO!$H82=0,COUNTRY_INFO!$H82=4,COUNTRY_INFO!$H82=99),OR(COUNTRY_INFO!$J82=0,COUNTRY_INFO!$J82=4)),0,COUNTRY_INFO!$F82))","v":54744},86138,{"$f":"IF(AND(INTRO!$E$37=\"Non endémique\",INTRO!$E$41=\"Non endémique\"),0,COUNTRY_INFO!Q82)","v":0},{"$f":"IF(AND(INTRO!$E$37=\"Non endémique\",INTRO!$E$41=\"Non endémique\"),0,COUNTRY_INFO!S82)","v":1},{"$f":"IF($G82=1,IVM!$G82,0)","v":0},{"$f":"IF($G82=0, \" \", IF(COUNTRY_INFO!$H82=1, IF(COUNTRY_INFO!$L82=1, 0,\" \"),\" \"))","v":" "},null,"ALB",{"$f":"IF($L82=\"ALB\", IF(INTRO!$E$39=\"Non endémique\",IF($H82<>0,$D82*($H82-$G82),0),$D82*$H82), 0)","v":31394},54744,null,86138,{"$f":"IF($L82=\"MBD\", IF(INTRO!$E$39=\"Non endémique\",IF($H82<>0,$D82*($H82-$G82),0),$D82*$H82),0)","v":0},0,null,0,null,0,0,null,54744,274,null,0,0]
[{"$f":"IF(AND(INTRO!$E$37=\"Non endémique\",INTRO!$E$41=\"Non endémique\"),\" \",IF(COUNTRY_INFO!A83=0,\" \",COUNTRY_INFO!A83))","v":"Angola"},{"$f":"IF(AND(INTRO!$E$37=\"Non endémique\",INTRO!$E$41=\"Non endémique\"),\" \",IF(COUNTRY_INFO!B83=0,\" \",COUNTRY_INFO!B83))","v":"KWANZA NORTE"},{"$f":"IF(AND(INTRO!$E$37=\"Non endémique\",INTRO!$E$41=\"Non endémique\"),\" \",IF(COUNTRY_INFO!C83=0,\" \",COUNTRY_INFO!C83))","v":"GOLUNGO ALTO"},{"$f":"IF(AND(INTRO!$E$37=\"Non endémique\",INTRO!$E$41=\"Non endémique\"),0,IF(AND(OR(COUNTRY_INFO!$H83=0,COUNTRY_INFO!$H83=4,COUNTRY_INFO!$H83=99),OR(COUNTRY_INFO!$J83=0,COUNTRY_INFO!$J83=4)),0,COUNTRY_INFO!$E83))","v":6185},{"$f":"IF(AND(INTRO!$E$37=\"Non endémique\",INTRO!$E$41=\"Non endémique\"),0,IF(AND(OR(COUNTRY_INFO!$H83=0,COUNTRY_INFO!$H83=4,COUNTRY_INFO!$H83=99),OR(COUNTRY_INFO!$J83=0,COUNTRY_INFO!$J83=4)),0,COUNTRY_INFO!$F83))","v":10785},16970,{"$f":"IF(AND(INTRO!$E$37=\"Non endémique\",INTRO!$E$41=\"Non endémique\"),0,COUNTRY_INFO!Q83)","v":0},{"$f":"IF(AND(INTRO!$E$37=\"Non endémique\",INTRO!$E$41=\"Non endémique\"),0,COUNTRY_INFO!S83)","v":1},{"$f":"IF($G83=1,IVM!$G83,0)","v":0},{"$f":"IF($G83=0, \" \", IF(COUNTRY_INFO!$H83=1, IF(COUNTRY_INFO!$L83=1, 0,\" \"),\" \"))","v":" "},null,"ALB",{"$f":"IF($L83=\"ALB\", IF(INTRO!$E$39=\"Non endémique\",IF($H83<>0,$D83*($H83-$G83),0),$D83*$H83), 0)","v":6185},10785,null,16970,{"$f":"IF($L83=\"MBD\", IF(INTRO!$E$39=\"Non endémique\",IF($H83<>0,$D83*($H83-$G83),0),$D83*$H83),0)","v":0},0,null,0,null,0,0,null,10785,54,null,0,0]
[{"$f":"IF(AND(INTRO!$E$37=\"Non endémique\",INTRO!$E$41=\"Non endémique\"),\" \",IF(COUNTRY_INFO!A84=0,\" \",COUNTRY_INFO!A84))","v":"Angola"},{"$f":"IF(AND(INTRO!$E$37=\"Non endémique\",INTRO!$E$41=\"Non endémique\"),\" \",IF(COUNTRY_INFO!B84=0,\" \",COUNTRY_INFO!B84))","v":"KWANZA NORTE"},{"$f":"IF(AND(INTRO!$E$37=\"Non endémique\",INTRO!$E$41=\"Non endémique\"),\" \",IF(COUNTRY_INFO!C84=0,\" \",COUNTRY_INFO!C84))","v":"GONGUEMBO"},{"$f":"IF(AND(INTRO!$E$37=\"Non endémique\",INTRO!$E$41=\"Non endémique\"),0,IF(AND(OR(COUNTRY_INFO!$H84=0,COUNTRY_INFO!$H84=4,COUNTRY_INFO!$H84=99),OR(COUNTRY_INFO!$J84=0,COUNTRY_INFO!$J84=4)),0,COUNTRY_INFO!$E84))","v":1385},{"$f":"IF(AND(INTRO!$E$37=\"Non endémique\",INTRO!$E$41=\"Non endémique\"),0,IF(AND(OR(COUNTRY_INFO!$H84=0,COUNTRY_INFO!$H84=4,COUNTRY_INFO!$H84=99),OR(COUNTRY_INFO!$J84=0,COUNTRY_INFO!$J84=4)),0,COUNTRY_INFO!$F84))","v":2415},3800,{"$f":"IF(AND(INTRO!$E$37=\"Non endémique\",INTRO!$E$41=\"Non endémique\"),0,COUNTRY_INFO!Q84)","v":0},{"$f":"IF(AND(INTRO!$E$37=\"Non endémique\",INTRO!$E$41=\"Non endémique\"),0,COUNTRY_INFO!S84)","v":1},{"$f":"IF($G84=1,IVM!$G84,0)","v":0},{"$f":"IF($G84=0, \" \", IF(COUNTRY_INFO!$H84=1, IF(COUNTRY_INFO!$L84=1, 0,\" \"),\" \"))","v":" "},null,"ALB",{"$f":"IF($L84=\"ALB\", IF(INTRO!$E$39=\"Non endémique\",IF($H84<>0,$D84*($H84-$G84),0),$D84*$H84), 0)","v":1385},2415,null,3800,{"$f":"IF($L84=\"MBD\", IF(INTRO!$E$39=\"Non endémique\",IF($H84<>0,$D84*($H84-$G84),0),$D84*$H84),0)","v":0},0,null,0,null,0,0,null,2415,13,null,0,0]
[{"$f":"IF(AND(INTRO!$E$37=\"Non endémique\",INTRO!$E$41=\"Non endémique\"),\" \",IF(COUNTRY_INFO!A85=0,\" \",COUNTRY_INFO!A85))","v":"Angola"},{"$f":"IF(AND(INTRO!$E$37=\"Non endémique\",INTRO!$E$41=\"Non endémique\"),\" \",IF(COUNTRY_INFO!B85=0,\" \",COUNTRY_INFO!B85))","v":"KWANZA NORTE"},{"$f":"IF(AND(INTRO!$E$37=\"Non endémique\",INTRO!$E$41=\"Non endémique\"),\" \",IF(COUNTRY_INFO!C85=0,\" \",COUNTRY_INFO!C85))","v":"KICULUNGO"},{"$f":"IF(AND(INTRO!$E$37=\"Non endémique\",INTRO!$E$41=\"Non endémique\"),0,IF(AND(OR(COUNTRY_INFO!$H85=0,COUNTRY_INFO!$H85=4,COUNTRY_INFO!$H85=99),OR(COUNTRY_INFO!$J85=0,COUNTRY_INFO!$J85=4)),0,COUNTRY_INFO!$E85))","v":1779},{"$f":"IF(AND(INTRO!$E$37=\"Non endémique\",INTRO!$E$41=\"Non endémique\"),0,IF(AND(OR(COUNTRY_INFO!$H85=0,COUNTRY_INFO!$H85=4,COUNTRY_INFO!$H85=99),OR(COUNTRY_INFO!$J85=0,COUNTRY_INFO!$J85=4)),0,COUNTRY_INFO!$F85))","v":3102},4881,{"$f":"IF(AND(INTRO!$E$37=\"Non endémique\",INTRO!$E$41=\"Non endémique\"),0,COUNTRY_INFO!Q85)","v":0},{"$f":"IF(AND(INTRO!$E$37=\"Non endémique\",INTRO!$E$41=\"Non endémique\"),0,COUNTRY_INFO!S85)","v":1},{"$f":"IF($G85=1,IVM!$G85,0)","v":0},{"$f":"IF($G85=0, \" \", IF(COUNTRY_INFO!$H85=1, IF(COUNTRY_INFO!$L85=1, 0,\" \"),\" \"))","v":" "},null,"ALB",{"$f":"IF($L85=\"ALB\", IF(INTRO!$E$39=\"Non endémique\",IF($H85<>0,$D85*($H85-$G85),0),$D85*$H85), 0)","v":1779},3102,null,4881,{"$f":"IF($L85=\"MBD\", IF(INTRO!$E$39=\"Non endémique\",IF($H85<>0,$D85*($H85-$G85),0),$D85*$H85),0)","v":0},0,null,0,null,0,0,null,3102,16,null,0,0]
[{"$f":"IF(AND(INTRO!$E$37=\"Non endémique\",INTRO!$E$41=\"Non endémique\"),\" \",IF(COUNTRY_INFO!A86=0,\" \",COUNTRY_INFO!A86))","v":"Angola"},{"$f":"IF(AND(INTRO!$E$37=\"Non endémique\",INTRO!$E$41=\"Non endémique\"),\" \",IF(COUNTRY_INFO!B86=0,\" \",COUNTRY_INFO!B86))","v":"KWANZA NORTE"},{"$f":"IF(AND(INTRO!$E$37=\"Non endémique\",INTRO!$E$41=\"Non endémique\"),\" \",IF(COUNTRY_INFO!C86=0,\" \",COUNTRY_INFO!C86))","v":"LUCALA"},{"$f":"IF(AND(INTRO!$E$37=\"Non endémique\",INTRO!$E$41=\"Non endémique\"),0,IF(AND(OR(COUNTRY_INFO!$H86=0,COUNTRY_INFO!$H86=4,COUNTRY_INFO!$H86=99),OR(COUNTRY_INFO!$J86=0,COUNTRY_INFO!$J86=4)),0,COUNTRY_INFO!$E86))","v":4145},{"$f":"IF(AND(INTRO!$E$37=\"Non endémique\",INTRO!$E$41=\"Non endémique\"),0,IF(AND(OR(COUNTRY_INFO!$H86=0,COUNTRY_INFO!$H86=4,COUNTRY_INFO!$H86=99),OR(COUNTRY_INFO!$J86=0,COUNTRY_INFO!$J86=4)),0,COUNTRY_INFO!$F86))","v":7227},11372,{"$f":"IF(AND(INTRO!$E$37=\"Non endémique\",INTRO!$E$41=\"Non endémique\"),0,COUNTRY_INFO!Q86)","v":0},{"$f":"IF(AND(INTRO!$E$37=\"Non endémique\",INTRO!$E$41=\"Non endémique\"),0,COUNTRY_INFO!S86)","v":1},{"$f":"IF($G86=1,IVM!$G86,0)","v":0},{"$f":"IF($G86=0, \" \", IF(COUNTRY_INFO!$H86=1, IF(COUNTRY_INFO!$L86=1, 0,\" \"),\" \"))","v":" "},null,"ALB",{"$f":"IF($L86=\"ALB\", IF(INTRO!$E$39=\"Non endémique\",IF($H86<>0,$D86*($H86-$G86),0),$D86*$H86), 0)","v":4145},7227,null,11372,{"$f":"IF($L86=\"MBD\", IF(INTRO!$E$39=\"Non endémique\",IF($H86<>0,$D86*($H86-$G86),0),$D86*$H86),0)","v":0},0,null,0,null,0,0,null,7227,37,null,0,0]
[{"$f":"IF(AND(INTRO!$E$37=\"Non endémique\",INTRO!$E$41=\"Non endémique\"),\" \",IF(COUNTRY_INFO!A87=0,\" \",COUNTRY_INFO!A87))","v":"Angola"},{"$f":"IF(AND(INTRO!$E$37=\"Non endémique\",INTRO!$E$41=\"Non endémique\"),\" \",IF(COUNTRY_INFO!B87=0,\" \",COUNTRY_INFO!B87))","v":"KWANZA NORTE"},{"$f":"IF(AND(INTRO!$E$37=\"Non endémique\",INTRO!$E$41=\"Non endémique\"),\" \",IF(COUNTRY_INFO!C87=0,\" \",COUNTRY_INFO!C87))","v":"SAMBA CAJU"},{"$f":"IF(AND(INTRO!$E$37=\"Non endémique\",INTRO!$E$41=\"Non endémique\"),0,IF(AND(OR(COUNTRY_INFO!$H87=0,COUNTRY_INFO!$H87=4,COUNTRY_INFO!$H87=99),OR(COUNTRY_INFO!$J87=0,COUNTRY_INFO!$J87=4)),0,COUNTRY_INFO!$E87))","v":4007},{"$f":"IF(AND(INTRO!$E$37=\"Non endémique\",INTRO!$E$41=\"Non endémique\"),0,IF(AND(OR(COUNTRY_INFO!$H87=0,COUNTRY_INFO!$H87=4,COUNTRY_INFO!$H87=99),OR(COUNTRY_INFO!$J87=0,COUNTRY_INFO!$J87=4)),0,COUNTRY_INFO!$F87))","v":6986},10993,{"$f":"IF(AND(INTRO!$E$37=\"Non endémique\",INTRO!$E$41=\"Non endémique\"),0,COUNTRY_INFO!Q87)","v":0},{"$f":"IF(AND(INTRO!$E$37=\"Non endémique\",INTRO!$E$41=\"Non endémique\"),0,COUNTRY_INFO!S87)","v":1},{"$f":"IF($G87=1,IVM!$G87,0)","v":0},{"$f":"IF($G87=0, \" \", IF(COUNTRY_INFO!$H87=1, IF(COUNTRY_INFO!$L87=1, 0,\" \"),\" \"))","v":" "},null,"ALB",{"$f":"IF($L87=\"ALB\", IF(INTRO!$E$39=\"Non endémique\",IF($H87<>0,$D87*($H87-$G87),0),$D87*$H87), 0)","v":4007},6986,null,10993,{"$f":"IF($L87=\"MBD\", IF(INTRO!$E$39=\"Non endémique\",IF($H87<>0,$D87*($H87-$G87),0),$D87*$H87),0)","v":0},0,null,0,null,0,0,null,6986,35,null,0,0]
[{"$f":"IF(AND(INTRO!$E$37=\"Non endémique\",INTRO!$E$41=\"Non endémique\"),\" \",IF(COUNTRY_INFO!A88=0,\" \",COUNTRY_INFO!A88))","v":"Angola"},{"$f":"IF(AND(INTRO!$E$37=\"Non endémique\",INTRO!$E$41=\"Non endémique\"),\" \",IF(COUNTRY_INFO!B88=0,\" \",COUNTRY_INFO!B88))","v":"KWANZA SUL"},{"$f":"IF(AND(INTRO!$E$37=\"Non endémique\",INTRO!$E$41=\"Non endémique\"),\" \",IF(COUNTRY_INFO!C88=0,\" \",COUNTRY_INFO!C88))","v":"AMBOIM"},{"$f":"IF(AND(INTRO!$E$37=\"Non endémique\",INTRO!$E$41=\"Non endémique\"),0,IF(AND(OR(COUNTRY_INFO!$H88=0,COUNTRY_INFO!$H88=4,COUNTRY_INFO!$H88=99),OR(COUNTRY_INFO!$J88=0,COUNTRY_INFO!$J88=4)),0,COUNTRY_INFO!$E88))","v":44318},{"$f":"IF(AND(INTRO!$E$37=\"Non endémique\",INTRO!$E$41=\"Non endémique\"),0,IF(AND(OR(COUNTRY_INFO!$H88=0,COUNTRY_INFO!$H88=4,COUNTRY_INFO!$H88=99),OR(COUNTRY_INFO!$J88=0,COUNTRY_INFO!$J88=4)),0,COUNTRY_INFO!$F88))","v":77280},121598,{"$f":"IF(AND(INTRO!$E$37=\"Non endémique\",INTRO!$E$41=\"Non endémique\"),0,COUNTRY_INFO!Q88)","v":0},{"$f":"IF(AND(INTRO!$E$37=\"Non endémique\",INTRO!$E$41=\"Non endémique\"),0,COUNTRY_INFO!S88)","v":2},{"$f":"IF($G88=1,IVM!$G88,0)","v":0},{"$f":"IF($G88=0, \" \", IF(COUNTRY_INFO!$H88=1, IF(COUNTRY_INFO!$L88=1, 0,\" \"),\" \"))","v":" "},null,"ALB",{"$f":"IF($L88=\"ALB\", IF(INTRO!$E$39=\"Non endémique\",IF($H88<>0,$D88*($H88-$G88),0),$D88*$H88), 0)","v":88636},154560,null,243196,{"$f":"IF($L88=\"MBD\", IF(INTRO!$E$39=\"Non endémique\",IF($H88<>0,$D88*($H88-$G88),0),$D88*$H88),0)","v":0},0,null,0,null,0,0,null,154560,773,null,0,0]
[{"$f":"IF(AND(INTRO!$E$37=\"Non endémique\",INTRO!$E$41=\"Non endémique\"),\" \",IF(COUNTRY_INFO!A89=0,\" \",COUNTRY_INFO!A89))","v":"Angola"},{"$f":"IF(AND(INTRO!$E$37=\"Non endémique\",INTRO!$E$41=\"Non endémique\"),\" \",IF(COUNTRY_INFO!B89=0,\" \",COUNTRY_INFO!B89))","v":"KWANZA SUL"},{"$f":"IF(AND(INTRO!$E$37=\"Non endémique\",INTRO!$E$41=\"Non endémique\"),\" \",IF(COUNTRY_INFO!C89=0,\" \",COUNTRY_INFO!C89))","v":"CASSONGUE"},{"$f":"IF(AND(INTRO!$E$37=\"Non endémique\",INTRO!$E$41=\"Non endémique\"),0,IF(AND(OR(COUNTRY_INFO!$H89=0,COUNTRY_INFO!$H89=4,COUNTRY_INFO!$H89=99),OR(COUNTRY_INFO!$J89=0,COUNTRY_INFO!$J89=4)),0,COUNTRY_INFO!$E89))","v":27770},{"$f":"IF(AND(INTRO!$E$37=\"Non endémique\",INTRO!$E$41=\"Non endémique\"),0,IF(AND(OR(COUNTRY_INFO!$H89=0,COUNTRY_INFO!$H89=4,COUNTRY_INFO!$H89=99),OR(COUNTRY_INFO!$J89=0,COUNTRY_INFO!$J89=4)),0,COUNTRY_INFO!$F89))","v":48424},76194,{"$f":"IF(AND(INTRO!$E$37=\"Non endémique\",INTRO!$E$41=\"Non endémique\"),0,COUNTRY_INFO!Q89)","v":0},{"$f":"IF(AND(INTRO!$E$37=\"Non endémique\",INTRO!$E$41=\"Non endémique\"),0,COUNTRY_INFO!S89)","v":2},{"$f":"IF($G89=1,IVM!$G89,0)","v":0},{"$f":"IF($G89=0, \" \", IF(COUNTRY_INFO!$H89=1, IF(COUNTRY_INFO!$L89=1, 0,\" \"),\" \"))","v":" "},null,"ALB",{"$f":"IF($L89=\"ALB\", IF(INTRO!$E$39=\"Non endémique\",IF($H89<>0,$D89*($H89-$G89),0),$D89*$H89), 0)","v":55540},96848,null,152388,{"$f":"IF($L89=\"MBD\", IF(INTRO!$E$39=\"Non endémique\",IF($H89<>0,$D89*($H89-$G89),0),$D89*$H89),0)","v":0},0,null,0,null,0,0,null,96848,485,null,0,0]
[{"$f":"IF(AND(INTRO!$E$37=\"Non endémique\",INTRO!$E$41=\"Non endémique\"),\" \",IF(COUNTRY_INFO!A90=0,\" \",COUNTRY_INFO!A90))","v":"Angola"},{"$f":"IF(AND(INTRO!$E$37=\"Non endémique\",INTRO!$E$41=\"Non endémique\"),\" \",IF(COUNTRY_INFO!B90=0,\" \",COUNTRY_INFO!B90))","v":"KWANZA SUL"},{"$f":"IF(AND(INTRO!$E$37=\"Non endémique\",INTRO!$E$41=\"Non endémique\"),\" \",IF(COUNTRY_INFO!C90=0,\" \",COUNTRY_INFO!C90))","v":"CELA (Waku Kungo)"},{"$f":"IF(AND(INTRO!$E$37=\"Non endémique\",INTRO!$E$41=\"Non endémique\"),0,IF(AND(OR(COUNTRY_INFO!$H90=0,COUNTRY_INFO!$H90=4,COUNTRY_INFO!$H90=99),OR(COUNTRY_INFO!$J90=0,COUNTRY_INFO!$J90=4)),0,COUNTRY_INFO!$E90))","v":41225},{"$f":"IF(AND(INTRO!$E$37=\"Non endémique\",INTRO!$E$41=\"Non endémique\"),0,IF(AND(OR(COUNTRY_INFO!$H90=0,COUNTRY_INFO!$H90=4,COUNTRY_INFO!$H90=99),OR(COUNTRY_INFO!$J90=0,COUNTRY_INFO!$J90=4)),0,COUNTRY_INFO!$F90))","v":71885},113110,{"$f":"IF(AND(INTRO!$E$37=\"Non endémique\",INTRO!$E$41=\"Non endémique\"),0,COUNTRY_INFO!Q90)","v":0},{"$f":"IF(AND(INTRO!$E$37=\"Non endémique\",INTRO!$E$41=\"Non endémique\"),0,COUNTRY_INFO!S90)","v":2},{"$f":"IF($G90=1,IVM!$G90,0)","v":0},{"$f":"IF($G90=0, \" \", IF(COUNTRY_INFO!$H90=1, IF(COUNTRY_INFO!$L90=1, 0,\" \"),\" \"))","v":" "},null,"ALB",{"$f":"IF($L90=\"ALB\", IF(INTRO!$E$39=\"Non endémique\",IF($H90<>0,$D90*($H90-$G90),0),$D90*$H90), 0)","v":82450},143770,null,226220,{"$f":"IF($L90=\"MBD\", IF(INTRO!$E$39=\"Non endémique\",IF($H90<>0,$D90*($H90-$G90),0),$D90*$H90),0)","v":0},0,null,0,null,0,0,null,143770,719,null,0,0]
[{"$f":"IF(AND(INTRO!$E$37=\"Non endémique\",INTRO!$E$41=\"Non endémique\"),\" \",IF(COUNTRY_INFO!A91=0,\" \",COUNTRY_INFO!A91))","v":"Angola"},{"$f":"IF(AND(INTRO!$E$37=\"Non endémique\",INTRO!$E$41=\"Non endémique\"),\" \",IF(COUNTRY_INFO!B91=0,\" \",COUNTRY_INFO!B91))","v":"KWANZA SUL"},{"$f":"IF(AND(INTRO!$E$37=\"Non endémique\",INTRO!$E$41=\"Non endémique\"),\" \",IF(COUNTRY_INFO!C91=0,\" \",COUNTRY_INFO!C91))","v":"CONDA"},{"$f":"IF(AND(INTRO!$E$37=\"Non endémique\",INTRO!$E$41=\"Non endémique\"),0,IF(AND(OR(COUNTRY_INFO!$H91=0,COUNTRY_INFO!$H91=4,COUNTRY_INFO!$H91=99),OR(COUNTRY_INFO!$J91=0,COUNTRY_INFO!$J91=4)),0,COUNTRY_INFO!$E91))","v":16357},{"$f":"IF(AND(INTRO!$E$37=\"Non endémique\",INTRO!$E$41=\"Non endémique\"),0,IF(AND(OR(COUNTRY_INFO!$H91=0,COUNTRY_INFO!$H91=4,COUNTRY_INFO!$H91=99),OR(COUNTRY_INFO!$J91=0,COUNTRY_INFO!$J91=4)),0,COUNTRY_INFO!$F91))","v":28522},44879,{"$f":"IF(AND(INTRO!$E$37=\"Non endémique\",INTRO!$E$41=\"Non endémique\"),0,COUNTRY_INFO!Q91)","v":0},{"$f":"IF(AND(INTRO!$E$37=\"Non endémique\",INTRO!$E$41=\"Non endémique\"),0,COUNTRY_INFO!S91)","v":2},{"$f":"IF($G91=1,IVM!$G91,0)","v":0},{"$f":"IF($G91=0, \" \", IF(COUNTRY_INFO!$H91=1, IF(COUNTRY_INFO!$L91=1, 0,\" \"),\" \"))","v":" "},null,"ALB",{"$f":"IF($L91=\"ALB\", IF(INTRO!$E$39=\"Non endémique\",IF($H91<>0,$D91*($H91-$G91),0),$D91*$H91), 0)","v":32714},57044,null,89758,{"$f":"IF($L91=\"MBD\", IF(INTRO!$E$39=\"Non endémique\",IF($H91<>0,$D91*($H91-$G91),0),$D91*$H91),0)","v":0},0,null,0,null,0,0,null,57044,286,null,0,0]
[{"$f":"IF(AND(INTRO!$E$37=\"Non endémique\",INTRO!$E$41=\"Non endémique\"),\" \",IF(COUNTRY_INFO!A92=0,\" \",COUNTRY_INFO!A92))","v":"Angola"},{"$f":"IF(AND(INTRO!$E$37=\"Non endémique\",INTRO!$E$41=\"Non endémique\"),\" \",IF(COUNTRY_INFO!B92=0,\" \",COUNTRY_INFO!B92))","v":"KWANZA SUL"},{"$f":"IF(AND(INTRO!$E$37=\"Non endémique\",INTRO!$E$41=\"Non endémique\"),\" \",IF(COUNTRY_INFO!C92=0,\" \",COUNTRY_INFO!C92))","v":"EBO"},{"$f":"IF(AND(INTRO!$E$37=\"Non endémique\",INTRO!$E$41=\"Non endémique\"),0,IF(AND(OR(COUNTRY_INFO!$H92=0,COUNTRY_INFO!$H92=4,COUNTRY_INFO!$H92=99),OR(COUNTRY_INFO!$J92=0,COUNTRY_INFO!$J92=4)),0,COUNTRY_INFO!$E92))","v":30185},{"$f":"IF(AND(INTRO!$E$37=\"Non endémique\",INTRO!$E$41=\"Non endémique\"),0,IF(AND(OR(COUNTRY_INFO!$H92=0,COUNTRY_INFO!$H92=4,COUNTRY_INFO!$H92=99),OR(COUNTRY_INFO!$J92=0,COUNTRY_INFO!$J92=4)),0,COUNTRY_INFO!$F92))","v":52636},82821,{"$f":"IF(AND(INTRO!$E$37=\"Non endémique\",INTRO!$E$41=\"Non endémique\"),0,COUNTRY_INFO!Q92)","v":0},{"$f":"IF(AND(INTRO!$E$37=\"Non endémique\",INTRO!$E$41=\"Non endémique\"),0,COUNTRY_INFO!S92)","v":2},{"$f":"IF($G92=1,IVM!$G92,0)","v":0},{"$f":"IF($G92=0, \" \", IF(COUNTRY_INFO!$H92=1, IF(COUNTRY_INFO!$L92=1, 0,\" \"),\" \"))","v":" "},null,"ALB",{"$f":"IF($L92=\"ALB\", IF(INTRO!$E$39=\"Non endémique\",IF($H92<>0,$D92*($H92-$G92),0),$D92*$H92), 0)","v":60370},105272,null,165642,{"$f":"IF($L92=\"MBD\", IF(INTRO!$E$39=\"Non endémique\",IF($H92<>0,$D92*($H92-$G92),0),$D92*$H92),0)","v":0},0,null,0,null,0,0,null,105272,527,null,0,0]
[{"$f":"IF(AND(INTRO!$E$37=\"Non endémique\",INTRO!$E$41=\"Non endémique\"),\" \",IF(COUNTRY_INFO!A93=0,\" \",COUNTRY_INFO!A93))","v":"Angola"},{"$f":"IF(AND(INTRO!$E$37=\"Non endémique\",INTRO!$E$41=\"Non endémique\"),\" \",IF(COUNTRY_INFO!B93=0,\" \",COUNTRY_INFO!B93))","v":"KWANZA SUL"},{"$f":"IF(AND(INTRO!$E$37=\"Non endémique\",INTRO!$E$41=\"Non endémique\"),\" \",IF(COUNTRY_INFO!C93=0,\" \",COUNTRY_INFO!C93))","v":"KIBALA"},{"$f":"IF(AND(INTRO!$E$37=\"Non endémique\",INTRO!$E$41=\"Non endémique\"),0,IF(AND(OR(COUNTRY_INFO!$H93=0,COUNTRY_INFO!$H93=4,COUNTRY_INFO!$H93=99),OR(COUNTRY_INFO!$J93=0,COUNTRY_INFO!$J93=4)),0,COUNTRY_INFO!$E93))","v":25968},{"$f":"IF(AND(INTRO!$E$37=\"Non endémique\",INTRO!$E$41=\"Non endémique\"),0,IF(AND(OR(COUNTRY_INFO!$H93=0,COUNTRY_INFO!$H93=4,COUNTRY_INFO!$H93=99),OR(COUNTRY_INFO!$J93=0,COUNTRY_INFO!$J93=4)),0,COUNTRY_INFO!$F93))","v":45281},71249,{"$f":"IF(AND(INTRO!$E$37=\"Non endémique\",INTRO!$E$41=\"Non endémique\"),0,COUNTRY_INFO!Q93)","v":0},{"$f":"IF(AND(INTRO!$E$37=\"Non endémique\",INTRO!$E$41=\"Non endémique\"),0,COUNTRY_INFO!S93)","v":2},{"$f":"IF($G93=1,IVM!$G93,0)","v":0},{"$f":"IF($G93=0, \" \", IF(COUNTRY_INFO!$H93=1, IF(COUNTRY_INFO!$L93=1, 0,\" \"),\" \"))","v":" "},null,"ALB",{"$f":"IF($L93=\"ALB\", IF(INTRO!$E$39=\"Non endémique\",IF($H93<>0,$D93*($H93-$G93),0),$D93*$H93), 0)","v":51936},90562,null,142498,{"$f":"IF($L93=\"MBD\", IF(INTRO!$E$39=\"Non endémique\",IF($H93<>0,$D93*($H93-$G93),0),$D93*$H93),0)","v":0},0,null,0,null,0,0,null,90562,453,null,0,0]
[{"$f":"IF(AND(INTRO!$E$37=\"Non endémique\",INTRO!$E$41=\"Non endémique\"),\" \",IF(COUNTRY_INFO!A94=0,\" \",COUNTRY_INFO!A94))","v":"Angola"},{"$f":"IF(AND(INTRO!$E$37=\"Non endémique\",INTRO!$E$41=\"Non endémique\"),\" \",IF(COUNTRY_INFO!B94=0,\" \",COUNTRY_INFO!B94))","v":"KWANZA SUL"},{"$f":"IF(AND(INTRO!$E$37=\"Non endémique\",INTRO!$E$41=\"Non endémique\"),\" \",IF(COUNTRY_INFO!C94=0,\" \",COUNTRY_INFO!C94))","v":"KILENDA"},{"$f":"IF(AND(INTRO!$E$37=\"Non endémique\",INTRO!$E$41=\"Non endémique\"),0,IF(AND(OR(COUNTRY_INFO!$H94=0,COUNTRY_INFO!$H94=4,COUNTRY_INFO!$H94=99),OR(COUNTRY_INFO!$J94=0,COUNTRY_INFO!$J94=4)),0,COUNTRY_INFO!$E94))","v":17850},{"$f":"IF(AND(INTRO!$E$37=\"Non endémique\",INTRO!$E$41=\"Non endémique\"),0,IF(AND(OR(COUNTRY_INFO!$H94=0,COUNTRY_INFO!$H94=4,COUNTRY_INFO!$H94=99),OR(COUNTRY_INFO!$J94=0,COUNTRY_INFO!$J94=4)),0,COUNTRY_INFO!$F94))","v":31126},48976,{"$f":"IF(AND(INTRO!$E$37=\"Non endémique\",INTRO!$E$41=\"Non endémique\"),0,COUNTRY_INFO!Q94)","v":0},{"$f":"IF(AND(INTRO!$E$37=\"Non endémique\",INTRO!$E$41=\"Non endémique\"),0,COUNTRY_INFO!S94)","v":2},{"$f":"IF($G94=1,IVM!$G94,0)","v":0},{"$f":"IF($G94=0, \" \", IF(COUNTRY_INFO!$H94=1, IF(COUNTRY_INFO!$L94=1, 0,\" \"),\" \"))","v":" "},null,"ALB",{"$f":"IF($L94=\"ALB\", IF(INTRO!$E$39=\"Non endémique\",IF($H94<>0,$D94*($H94-$G94),0),$D94*$H94), 0)","v":35700},62252,null,97952,{"$f":"IF($L94=\"MBD\", IF(INTRO!$E$39=\"Non endémique\",IF($H94<>0,$D94*($H94-$G94),0),$D94*$H94),0)","v":0},0,null,0,null,0,0,null,62252,312,null,0,0]
[{"$f":"IF(AND(INTRO!$E$37=\"Non endémique\",INTRO!$E$41=\"Non endémique\"),\" \",IF(COUNTRY_INFO!A95=0,\" \",COUNTRY_INFO!A95))","v":"Angola"},{"$f":"IF(AND(INTRO!$E$37=\"Non endémique\",INTRO!$E$41=\"Non endémique\"),\" \",IF(COUNTRY_INFO!B95=0,\" \",COUNTRY_INFO!B95))","v":"KWANZA SUL"},{"$f":"IF(AND(INTRO!$E$37=\"Non endémique\",INTRO!$E$41=\"Non endémique\"),\" \",IF(COUNTRY_INFO!C95=0,\" \",COUNTRY_INFO!C95))","v":"LIBOLO"},{"$f":"IF(AND(INTRO!$E$37=\"Non endémique\",INTRO!$E$41=\"Non endémique\"),0,IF(AND(OR(COUNTRY_INFO!$H95=0,COUNTRY_INFO!$H95=4,COUNTRY_INFO!$H95=99),OR(COUNTRY_INFO!$J95=0,COUNTRY_INFO!$J95=4)),0,COUNTRY_INFO!$E95))","v":16830},{"$f":"IF(AND(INTRO!$E$37=\"Non endémique\",INTRO!$E$41=\"Non endémique\"),0,IF(AND(OR(COUNTRY_INFO!$H95=0,COUNTRY_INFO!$H95=4,COUNTRY_INFO!$H95=99),OR(COUNTRY_INFO!$J95=0,COUNTRY_INFO!$J95=4)),0,COUNTRY_INFO!$F95))","v":29347},46177,{"$f":"IF(AND(INTRO!$E$37=\"Non endémique\",INTRO!$E$41=\"Non endémique\"),0,COUNTRY_INFO!Q95)","v":0},{"$f":"IF(AND(INTRO!$E$37=\"Non endémique\",INTRO!$E$41=\"Non endémique\"),0,COUNTRY_INFO!S95)","v":2},{"$f":"IF($G95=1,IVM!$G95,0)","v":0},{"$f":"IF($G95=0, \" \", IF(COUNTRY_INFO!$H95=1, IF(COUNTRY_INFO!$L95=1, 0,\" \"),\" \"))","v":" "},null,"ALB",{"$f":"IF($L95=\"ALB\", IF(INTRO!$E$39=\"Non endémique\",IF($H95<>0,$D95*($H95-$G95),0),$D95*$H95), 0)","v":33660},58694,null,92354,{"$f":"IF($L95=\"MBD\", IF(INTRO!$E$39=\"Non endémique\",IF($H95<>0,$D95*($H95-$G95),0),$D95*$H95),0)","v":0},0,null,0,null,0,0,null,58694,294,null,0,0]
[{"$f":"IF(AND(INTRO!$E$37=\"Non endémique\",INTRO!$E$41=\"Non endémique\"),\" \",IF(COUNTRY_INFO!A96=0,\" \",COUNTRY_INFO!A96))","v":"Angola"},{"$f":"IF(AND(INTRO!$E$37=\"Non endémique\",INTRO!$E$41=\"Non endémique\"),\" \",IF(COUNTRY_INFO!B96=0,\" \",COUNTRY_INFO!B96))","v":"KWANZA SUL"},{"$f":"IF(AND(INTRO!$E$37=\"Non endémique\",INTRO!$E$41=\"Non endémique\"),\" \",IF(COUNTRY_INFO!C96=0,\" \",COUNTRY_INFO!C96))","v":"MUSSENDE"},{"$f":"IF(AND(INTRO!$E$37=\"Non endémique\",INTRO!$E$41=\"Non endémique\"),0,IF(AND(OR(COUNTRY_INFO!$H96=0,COUNTRY_INFO!$H96=4,COUNTRY_INFO!$H96=99),OR(COUNTRY_INFO!$J96=0,COUNTRY_INFO!$J96=4)),0,COUNTRY_INFO!$E96))","v":15089},{"$f":"IF(AND(INTRO!$E$37=\"Non endémique\",INTRO!$E$41=\"Non endémique\"),0,IF(AND(OR(COUNTRY_INFO!$H96=0,COUNTRY_INFO!$H96=4,COUNTRY_INFO!$H96=99),OR(COUNTRY_INFO!$J96=0,COUNTRY_INFO!$J96=4)),0,COUNTRY_INFO!$F96))","v":26311},41400,{"$f":"IF(AND(INTRO!$E$37=\"Non endémique\",INTRO!$E$41=\"Non endémique\"),0,COUNTRY_INFO!Q96)","v":0},{"$f":"IF(AND(INTRO!$E$37=\"Non endémique\",INTRO!$E$41=\"Non endémique\"),0,COUNTRY_INFO!S96)","v":2},{"$f":"IF($G96=1,IVM!$G96,0)","v":0},{"$f":"IF($G96=0, \" \", IF(COUNTRY_INFO!$H96=1, IF(COUNTRY_INFO!$L96=1, 0,\" \"),\" \"))","v":" "},null,"ALB",{"$f":"IF($L96=\"ALB\", IF(INTRO!$E$39=\"Non endémique\",IF($H96<>0,$D96*($H96-$G96),0),$D96*$H96), 0)","v":30178},52622,null,82800,{"$f":"IF($L96=\"MBD\", IF(INTRO!$E$39=\"Non endémique\",IF($H96<>0,$D96*($H96-$G96),0),$D96*$H96),0)","v":0},0,null,0,null,0,0,null,52622,264,null,0,0]
[{"$f":"IF(AND(INTRO!$E$37=\"Non endémique\",INTRO!$E$41=\"Non endémique\"),\" \",IF(COUNTRY_INFO!A97=0,\" \",COUNTRY_INFO!A97))","v":"Angola"},{"$f":"IF(AND(INTRO!$E$37=\"Non endémique\",INTRO!$E$41=\"Non endémique\"),\" \",IF(COUNTRY_INFO!B97=0,\" \",COUNTRY_INFO!B97))","v":"KWANZA SUL"},{"$f":"IF(AND(INTRO!$E$37=\"Non endémique\",INTRO!$E$41=\"Non endémique\"),\" \",IF(COUNTRY_INFO!C97=0,\" \",COUNTRY_INFO!C97))","v":"PORTO AMBOIM"},{"$f":"IF(AND(INTRO!$E$37=\"Non endémique\",INTRO!$E$41=\"Non endémique\"),0,IF(AND(OR(COUNTRY_INFO!$H97=0,COUNTRY_INFO!$H97=4,COUNTRY_INFO!$H97=99),OR(COUNTRY_INFO!$J97=0,COUNTRY_INFO!$J97=4)),0,COUNTRY_INFO!$E97))","v":23027},{"$f":"IF(AND(INTRO!$E$37=\"Non endémique\",INTRO!$E$41=\"Non endémique\"),0,IF(AND(OR(COUNTRY_INFO!$H97=0,COUNTRY_INFO!$H97=4,COUNTRY_INFO!$H97=99),OR(COUNTRY_INFO!$J97=0,COUNTRY_INFO!$J97=4)),0,COUNTRY_INFO!$F97))","v":40153},63180,{"$f":"IF(AND(INTRO!$E$37=\"Non endémique\",INTRO!$E$41=\"Non endémique\"),0,COUNTRY_INFO!Q97)","v":0},{"$f":"IF(AND(INTRO!$E$37=\"Non endémique\",INTRO!$E$41=\"Non endémique\"),0,COUNTRY_INFO!S97)","v":2},{"$f":"IF($G97=1,IVM!$G97,0)","v":0},{"$f":"IF($G97=0, \" \", IF(COUNTRY_INFO!$H97=1, IF(COUNTRY_INFO!$L97=1, 0,\" \"),\" \"))","v":" "},null,"ALB",{"$f":"IF($L97=\"ALB\", IF(INTRO!$E$39=\"Non endémique\",IF($H97<>0,$D97*($H97-$G97),0),$D97*$H97), 0)","v":46054},80306,null,126360,{"$f":"IF($L97=\"MBD\", IF(INTRO!$E$39=\"Non endémique\",IF($H97<>0,$D97*($H97-$G97),0),$D97*$H97),0)","v":0},0,null,0,null,0,0,null,80306,402,null,0,0]
[{"$f":"IF(AND(INTRO!$E$37=\"Non endémique\",INTRO!$E$41=\"Non endémique\"),\" \",IF(COUNTRY_INFO!A98=0,\" \",COUNTRY_INFO!A98))","v":"Angola"},{"$f":"IF(AND(INTRO!$E$37=\"Non endémique\",INTRO!$E$41=\"Non endémique\"),\" \",IF(COUNTRY_INFO!B98=0,\" \",COUNTRY_INFO!B98))","v":"KWANZA SUL"},{"$f":"IF(AND(INTRO!$E$37=\"Non endémique\",INTRO!$E$41=\"Non endémique\"),\" \",IF(COUNTRY_INFO!C98=0,\" \",COUNTRY_INFO!C98))","v":"SELES"},{"$f":"IF(AND(INTRO!$E$37=\"Non endémique\",INTRO!$E$41=\"Non endémique\"),0,IF(AND(OR(COUNTRY_INFO!$H98=0,COUNTRY_INFO!$H98=4,COUNTRY_INFO!$H98=99),OR(COUNTRY_INFO!$J98=0,COUNTRY_INFO!$J98=4)),0,COUNTRY_INFO!$E98))","v":34207},{"$f":"IF(AND(INTRO!$E$37=\"Non endémique\",INTRO!$E$41=\"Non endémique\"),0,IF(AND(OR(COUNTRY_INFO!$H98=0,COUNTRY_INFO!$H98=4,COUNTRY_INFO!$H98=99),OR(COUNTRY_INFO!$J98=0,COUNTRY_INFO!$J98=4)),0,COUNTRY_INFO!$F98))","v":59648},93855,{"$f":"IF(AND(INTRO!$E$37=\"Non endémique\",INTRO!$E$41=\"Non endémique\"),0,COUNTRY_INFO!Q98)","v":0},{"$f":"IF(AND(INTRO!$E$37=\"Non endémique\",INTRO!$E$41=\"Non endémique\"),0,COUNTRY_INFO!S98)","v":2},{"$f":"IF($G98=1,IVM!$G98,0)","v":0},{"$f":"IF($G98=0, \" \", IF(COUNTRY_INFO!$H98=1, IF(COUNTRY_INFO!$L98=1, 0,\" \"),\" \"))","v":" "},null,"ALB",{"$f":"IF($L98=\"ALB\", IF(INTRO!$E$39=\"Non endémique\",IF($H98<>0,$D98*($H98-$G98),0),$D98*$H98), 0)","v":68414},119296,null,187710,{"$f":"IF($L98=\"MBD\", IF(INTRO!$E$39=\"Non endémique\",IF($H98<>0,$D98*($H98-$G98),0),$D98*$H98),0)","v":0},0,null,0,null,0,0,null,119296,597,null,0,0]
[{"$f":"IF(AND(INTRO!$E$37=\"Non endémique\",INTRO!$E$41=\"Non endémique\"),\" \",IF(COUNTRY_INFO!A99=0,\" \",COUNTRY_INFO!A99))","v":"Angola"},{"$f":"IF(AND(INTRO!$E$37=\"Non endémique\",INTRO!$E$41=\"Non endémique\"),\" \",IF(COUNTRY_INFO!B99=0,\" \",COUNTRY_INFO!B99))","v":"KWANZA SUL"},{"$f":"IF(AND(INTRO!$E$37=\"Non endémique\",INTRO!$E$41=\"Non endémique\"),\" \",IF(COUNTRY_INFO!C99=0,\" \",COUNTRY_INFO!C99))","v":"SUMBE"},{"$f":"IF(AND(INTRO!$E$37=\"Non endémique\",INTRO!$E$41=\"Non endémique\"),0,IF(AND(OR(COUNTRY_INFO!$H99=0,COUNTRY_INFO!$H99=4,COUNTRY_INFO!$H99=99),OR(COUNTRY_INFO!$J99=0,COUNTRY_INFO!$J99=4)),0,COUNTRY_INFO!$E99))","v":51178},{"$f":"IF(AND(INTRO!$E$37=\"Non endémique\",INTRO!$E$41=\"Non endémique\"),0,IF(AND(OR(COUNTRY_INFO!$H99=0,COUNTRY_INFO!$H99=4,COUNTRY_INFO!$H99=99),OR(COUNTRY_INFO!$J99=0,COUNTRY_INFO!$J99=4)),0,COUNTRY_INFO!$F99))","v":89241},140419,{"$f":"IF(AND(INTRO!$E$37=\"Non endémique\",INTRO!$E$41=\"Non endémique\"),0,COUNTRY_INFO!Q99)","v":0},{"$f":"IF(AND(INTRO!$E$37=\"Non endémique\",INTRO!$E$41=\"Non endémique\"),0,COUNTRY_INFO!S99)","v":2},{"$f":"IF($G99=1,IVM!$G99,0)","v":0},{"$f":"IF($G99=0, \" \", IF(COUNTRY_INFO!$H99=1, IF(COUNTRY_INFO!$L99=1, 0,\" \"),\" \"))","v":" "},null,"ALB",{"$f":"IF($L99=\"ALB\", IF(INTRO!$E$39=\"Non endémique\",IF($H99<>0,$D99*($H99-$G99),0),$D99*$H99), 0)","v":102356},178482,null,280838,{"$f":"IF($L99=\"MBD\", IF(INTRO!$E$39=\"Non endémique\",IF($H99<>0,$D99*($H99-$G99),0),$D99*$H99),0)","v":0},0,null,0,null,0,0,null,178482,893,null,0,0]
[{"$f":"IF(AND(INTRO!$E$37=\"Non endémique\",INTRO!$E$41=\"Non endémique\"),\" \",IF(COUNTRY_INFO!A100=0,\" \",COUNTRY_INFO!A100))","v":"Angola"},{"$f":"IF(AND(INTRO!$E$37=\"Non endémique\",INTRO!$E$41=\"Non endémique\"),\" \",IF(COUNTRY_INFO!B100=0,\" \",COUNTRY_INFO!B100))","v":"LUANDA"},{"$f":"IF(AND(INTRO!$E$37=\"Non endémique\",INTRO!$E$41=\"Non endémique\"),\" \",IF(COUNTRY_INFO!C100=0,\" \",COUNTRY_INFO!C100))","v":"BELAS"},{"$f":"IF(AND(INTRO!$E$37=\"Non endémique\",INTRO!$E$41=\"Non endémique\"),0,IF(AND(OR(COUNTRY_INFO!$H100=0,COUNTRY_INFO!$H100=4,COUNTRY_INFO!$H100=99),OR(COUNTRY_INFO!$J100=0,COUNTRY_INFO!$J100=4)),0,COUNTRY_INFO!$E100))","v":51075},{"$f":"IF(AND(INTRO!$E$37=\"Non endémique\",INTRO!$E$41=\"Non endémique\"),0,IF(AND(OR(COUNTRY_INFO!$H100=0,COUNTRY_INFO!$H100=4,COUNTRY_INFO!$H100=99),OR(COUNTRY_INFO!$J100=0,COUNTRY_INFO!$J100=4)),0,COUNTRY_INFO!$F100))","v":89062},140137,{"$f":"IF(AND(INTRO!$E$37=\"Non endémique\",INTRO!$E$41=\"Non endémique\"),0,COUNTRY_INFO!Q100)","v":0},{"$f":"IF(AND(INTRO!$E$37=\"Non endémique\",INTRO!$E$41=\"Non endémique\"),0,COUNTRY_INFO!S100)","v":1},{"$f":"IF($G100=1,IVM!$G100,0)","v":0},{"$f":"IF($G100=0, \" \", IF(COUNTRY_INFO!$H100=1, IF(COUNTRY_INFO!$L100=1, 0,\" \"),\" \"))","v":" "},null,"ALB",{"$f":"IF($L100=\"ALB\", IF(INTRO!$E$39=\"Non endémique\",IF($H100<>0,$D100*($H100-$G100),0),$D100*$H100), 0)","v":51075},89062,null,140137,{"$f":"IF($L100=\"MBD\", IF(INTRO!$E$39=\"Non endémique\",IF($H100<>0,$D100*($H100-$G100),0),$D100*$H100),0)","v":0},0,null,0,null,0,0,null,89062,446,null,0,0]
[{"$f":"IF(AND(INTRO!$E$37=\"Non endémique\",INTRO!$E$41=\"Non endémique\"),\" \",IF(COUNTRY_INFO!A101=0,\" \",COUNTRY_INFO!A101))","v":"Angola"},{"$f":"IF(AND(INTRO!$E$37=\"Non endémique\",INTRO!$E$41=\"Non endémique\"),\" \",IF(COUNTRY_INFO!B101=0,\" \",COUNTRY_INFO!B101))","v":"LUANDA"},{"$f":"IF(AND(INTRO!$E$37=\"Non endémique\",INTRO!$E$41=\"Non endémique\"),\" \",IF(COUNTRY_INFO!C101=0,\" \",COUNTRY_INFO!C101))","v":"CACUACO"},{"$f":"IF(AND(INTRO!$E$37=\"Non endémique\",INTRO!$E$41=\"Non endémique\"),0,IF(AND(OR(COUNTRY_INFO!$H101=0,COUNTRY_INFO!$H101=4,COUNTRY_INFO!$H101=99),OR(COUNTRY_INFO!$J101=0,COUNTRY_INFO!$J101=4)),0,COUNTRY_INFO!$E101))","v":195621},{"$f":"IF(AND(INTRO!$E$37=\"Non endémique\",INTRO!$E$41=\"Non endémique\"),0,IF(AND(OR(COUNTRY_INFO!$H101=0,COUNTRY_INFO!$H101=4,COUNTRY_INFO!$H101=99),OR(COUNTRY_INFO!$J101=0,COUNTRY_INFO!$J101=4)),0,COUNTRY_INFO!$F101))","v":341114},536735,{"$f":"IF(AND(INTRO!$E$37=\"Non endémique\",INTRO!$E$41=\"Non endémique\"),0,COUNTRY_INFO!Q101)","v":0},{"$f":"IF(AND(INTRO!$E$37=\"Non endémique\",INTRO!$E$41=\"Non endémique\"),0,COUNTRY_INFO!S101)","v":1},{"$f":"IF($G101=1,IVM!$G101,0)","v":0},{"$f":"IF($G101=0, \" \", IF(COUNTRY_INFO!$H101=1, IF(COUNTRY_INFO!$L101=1, 0,\" \"),\" \"))","v":" "},null,"ALB",{"$f":"IF($L101=\"ALB\", IF(INTRO!$E$39=\"Non endémique\",IF($H101<>0,$D101*($H101-$G101),0),$D101*$H101), 0)","v":195621},341114,null,536735,{"$f":"IF($L101=\"MBD\", IF(INTRO!$E$39=\"Non endémique\",IF($H101<>0,$D101*($H101-$G101),0),$D101*$H101),0)","v":0},0,null,0,null,0,0,null,341114,1706,null,0,0]
[{"$f":"IF(AND(INTRO!$E$37=\"Non endémique\",INTRO!$E$41=\"Non endémique\"),\" \",IF(COUNTRY_INFO!A102=0,\" \",COUNTRY_INFO!A102))","v":"Angola"},{"$f":"IF(AND(INTRO!$E$37=\"Non endémique\",INTRO!$E$41=\"Non endémique\"),\" \",IF(COUNTRY_INFO!B102=0,\" \",COUNTRY_INFO!B102))","v":"LUANDA"},{"$f":"IF(AND(INTRO!$E$37=\"Non endémique\",INTRO!$E$41=\"Non endémique\"),\" \",IF(COUNTRY_INFO!C102=0,\" \",COUNTRY_INFO!C102))","v":"CAZENGA"},{"$f":"IF(AND(INTRO!$E$37=\"Non endémique\",INTRO!$E$41=\"Non endémique\"),0,IF(AND(OR(COUNTRY_INFO!$H102=0,COUNTRY_INFO!$H102=4,COUNTRY_INFO!$H102=99),OR(COUNTRY_INFO!$J102=0,COUNTRY_INFO!$J102=4)),0,COUNTRY_INFO!$E102))","v":163129},{"$f":"IF(AND(INTRO!$E$37=\"Non endémique\",INTRO!$E$41=\"Non endémique\"),0,IF(AND(OR(COUNTRY_INFO!$H102=0,COUNTRY_INFO!$H102=4,COUNTRY_INFO!$H102=99),OR(COUNTRY_INFO!$J102=0,COUNTRY_INFO!$J102=4)),0,COUNTRY_INFO!$F102))","v":284457},447586,{"$f":"IF(AND(INTRO!$E$37=\"Non endémique\",INTRO!$E$41=\"Non endémique\"),0,COUNTRY_INFO!Q102)","v":0},{"$f":"IF(AND(INTRO!$E$37=\"Non endémique\",INTRO!$E$41=\"Non endémique\"),0,COUNTRY_INFO!S102)","v":1},{"$f":"IF($G102=1,IVM!$G102,0)","v":0},{"$f":"IF($G102=0, \" \", IF(COUNTRY_INFO!$H102=1, IF(COUNTRY_INFO!$L102=1, 0,\" \"),\" \"))","v":" "},null,"ALB",{"$f":"IF($L102=\"ALB\", IF(INTRO!$E$39=\"Non endémique\",IF($H102<>0,$D102*($H102-$G102),0),$D102*$H102), 0)","v":163129},284457,null,447586,{"$f":"IF($L102=\"MBD\", IF(INTRO!$E$39=\"Non endémique\",IF($H102<>0,$D102*($H102-$G102),0),$D102*$H102),0)","v":0},0,null,0,null,0,0,null,284457,1423,null,0,0]
[{"$f":"IF(AND(INTRO!$E$37=\"Non endémique\",INTRO!$E$41=\"Non endémique\"),\" \",IF(COUNTRY_INFO!A103=0,\" \",COUNTRY_INFO!A103))","v":"Angola"},{"$f":"IF(AND(INTRO!$E$37=\"Non endémique\",INTRO!$E$41=\"Non endémique\"),\" \",IF(COUNTRY_INFO!B103=0,\" \",COUNTRY_INFO!B103))","v":"LUANDA"},{"$f":"IF(AND(INTRO!$E$37=\"Non endémique\",INTRO!$E$41=\"Non endémique\"),\" \",IF(COUNTRY_INFO!C103=0,\" \",COUNTRY_INFO!C103))","v":"ICOLO E BENGO"},{"$f":"IF(AND(INTRO!$E$37=\"Non endémique\",INTRO!$E$41=\"Non endémique\"),0,IF(AND(OR(COUNTRY_INFO!$H103=0,COUNTRY_INFO!$H103=4,COUNTRY_INFO!$H103=99),OR(COUNTRY_INFO!$J103=0,COUNTRY_INFO!$J103=4)),0,COUNTRY_INFO!$E103))","v":14833},{"$f":"IF(AND(INTRO!$E$37=\"Non endémique\",INTRO!$E$41=\"Non endémique\"),0,IF(AND(OR(COUNTRY_INFO!$H103=0,COUNTRY_INFO!$H103=4,COUNTRY_INFO!$H103=99),OR(COUNTRY_INFO!$J103=0,COUNTRY_INFO!$J103=4)),0,COUNTRY_INFO!$F103))","v":25865},40698,{"$f":"IF(AND(INTRO!$E$37=\"Non endémique\",INTRO!$E$41=\"Non endémique\"),0,COUNTRY_INFO!Q103)","v":0},{"$f":"IF(AND(INTRO!$E$37=\"Non endémique\",INTRO!$E$41=\"Non endémique\"),0,COUNTRY_INFO!S103)","v":1},{"$f":"IF($G103=1,IVM!$G103,0)","v":0},{"$f":"IF($G103=0, \" \", IF(COUNTRY_INFO!$H103=1, IF(COUNTRY_INFO!$L103=1, 0,\" \"),\" \"))","v":" "},null,"ALB",{"$f":"IF($L103=\"ALB\", IF(INTRO!$E$39=\"Non endémique\",IF($H103<>0,$D103*($H103-$G103),0),$D103*$H103), 0)","v":14833},25865,null,40698,{"$f":"IF($L103=\"MBD\", IF(INTRO!$E$39=\"Non endémique\",IF($H103<>0,$D103*($H103-$G103),0),$D103*$H103),0)","v":0},0,null,0,null,0,0,null,25865,130,null,0,0]
[{"$f":"IF(AND(INTRO!$E$37=\"Non endémique\",INTRO!$E$41=\"Non endémique\"),\" \",IF(COUNTRY_INFO!A104=0,\" \",COUNTRY_INFO!A104))","v":"Angola"},{"$f":"IF(AND(INTRO!$E$37=\"Non endémique\",INTRO!$E$41=\"Non endémique\"),\" \",IF(COUNTRY_INFO!B104=0,\" \",COUNTRY_INFO!B104))","v":"LUANDA"},{"$f":"IF(AND(INTRO!$E$37=\"Non endémique\",INTRO!$E$41=\"Non endémique\"),\" \",IF(COUNTRY_INFO!C104=0,\" \",COUNTRY_INFO!C104))","v":"KILAMBA KIAXI"},{"$f":"IF(AND(INTRO!$E$37=\"Non endémique\",INTRO!$E$41=\"Non endémique\"),0,IF(AND(OR(COUNTRY_INFO!$H104=0,COUNTRY_INFO!$H104=4,COUNTRY_INFO!$H104=99),OR(COUNTRY_INFO!$J104=0,COUNTRY_INFO!$J104=4)),0,COUNTRY_INFO!$E104))","v":153808},{"$f":"IF(AND(INTRO!$E$37=\"Non endémique\",INTRO!$E$41=\"Non endémique\"),0,IF(AND(OR(COUNTRY_INFO!$H104=0,COUNTRY_INFO!$H104=4,COUNTRY_INFO!$H104=99),OR(COUNTRY_INFO!$J104=0,COUNTRY_INFO!$J104=4)),0,COUNTRY_INFO!$F104))","v":268204},422012,{"$f":"IF(AND(INTRO!$E$37=\"Non endémique\",INTRO!$E$41=\"Non endémique\"),0,COUNTRY_INFO!Q104)","v":0},{"$f":"IF(AND(INTRO!$E$37=\"Non endémique\",INTRO!$E$41=\"Non endémique\"),0,COUNTRY_INFO!S104)","v":1},{"$f":"IF($G104=1,IVM!$G104,0)","v":0},{"$f":"IF($G104=0, \" \", IF(COUNTRY_INFO!$H104=1, IF(COUNTRY_INFO!$L104=1, 0,\" \"),\" \"))","v":" "},null,"ALB",{"$f":"IF($L104=\"ALB\", IF(INTRO!$E$39=\"Non endémique\",IF($H104<>0,$D104*($H104-$G104),0),$D104*$H104), 0)","v":153808},268204,null,422012,{"$f":"IF($L104=\"MBD\", IF(INTRO!$E$39=\"Non endémique\",IF($H104<>0,$D104*($H104-$G104),0),$D104*$H104),0)","v":0},0,null,0,null,0,0,8610400,0,1342,null,0,0]
[{"$f":"IF(AND(INTRO!$E$37=\"Non endémique\",INTRO!$E$41=\"Non endémique\"),\" \",IF(COUNTRY_INFO!A105=0,\" \",COUNTRY_INFO!A105))","v":"Angola"},{"$f":"IF(AND(INTRO!$E$37=\"Non endémique\",INTRO!$E$41=\"Non endémique\"),\" \",IF(COUNTRY_INFO!B105=0,\" \",COUNTRY_INFO!B105))","v":"LUANDA"},{"$f":"IF(AND(INTRO!$E$37=\"Non endémique\",INTRO!$E$41=\"Non endémique\"),\" \",IF(COUNTRY_INFO!C105=0,\" \",COUNTRY_INFO!C105))","v":"LUANDA"},{"$f":"IF(AND(INTRO!$E$37=\"Non endémique\",INTRO!$E$41=\"Non endémique\"),0,IF(AND(OR(COUNTRY_INFO!$H105=0,COUNTRY_INFO!$H105=4,COUNTRY_INFO!$H105=99),OR(COUNTRY_INFO!$J105=0,COUNTRY_INFO!$J105=4)),0,COUNTRY_INFO!$E105))","v":247388},{"$f":"IF(AND(INTRO!$E$37=\"Non endémique\",INTRO!$E$41=\"Non endémique\"),0,IF(AND(OR(COUNTRY_INFO!$H105=0,COUNTRY_INFO!$H105=4,COUNTRY_INFO!$H105=99),OR(COUNTRY_INFO!$J105=0,COUNTRY_INFO!$J105=4)),0,COUNTRY_INFO!$F105))","v":431382},{"$f":"SUM(D105:E105)","v":678770},{"$f":"IF(AND(INTRO!$E$37=\"Non endémique\",INTRO!$E$41=\"Non endémique\"),0,COUNTRY_INFO!Q105)","v":0},{"$f":"IF(AND(INTRO!$E$37=\"Non endémique\",INTRO!$E$41=\"Non endémique\"),0,COUNTRY_INFO!S105)","v":1},{"$f":"IF($G105=1,IVM!$G105,0)","v":0},{"$f":"IF($G105=0, \" \", IF(COUNTRY_INFO!$H105=1, IF(COUNTRY_INFO!$L105=1, 0,\" \"),\" \"))","v":" "},null,"ALB",{"$f":"IF($L105=\"ALB\", IF(INTRO!$E$39=\"Non endémique\",IF($H105<>0,$D105*($H105-$G105),0),$D105*$H105), 0)","v":247388},{"$f":"IF($L105=\"ALB\", IF($H105<>0, IF($I105=0, $E105*$H105, $E105*($H105-$G105)),0), 0)","v":431382},null,{"$f":"SUM(M105:O105)","v":678770},{"$f":"IF($L105=\"MBD\", IF(INTRO!$E$39=\"Non endémique\",IF($H105<>0,$D105*($H105-$G105),0),$D105*$H105),0)","v":0},{"$f":"IF($L105=\"MBD\", IF($H105<>0,IF($I105=0, $E105*$H105, $E105*($H105-$G105)),0), 0 )","v":0},null,{"$f":"SUM(Q105:S105)","v":0},null,{"$f":"IF($J105<>\" \", IF(($I105+$J105*$K105)>$U105, ($I105+$J105*$K105)-$U105,0), IF($I105>$U105, $I105-$U105, 0))","v":0},{"$f":"IF($J105<>\" \", ROUNDUP(($I105+$J105*$K105)/200,0), ROUNDUP($I105/200,0))","v":0},null,{"$f":"IF($N105>$X105,$N105-$X105,0)","v":431382},{"$f":"ROUNDUP($N105/200,0)","v":2157},null,{"$f":"IF($R105>$AA105,$R105-$AA105,0)","v":0},{"$f":"ROUNDUP($R105/150,0)","v":0}]
[{"$f":"IF(AND(INTRO!$E$37=\"Non endémique\",INTRO!$E$41=\"Non endémique\"),\" \",IF(COUNTRY_INFO!A106=0,\" \",COUNTRY_INFO!A106))","v":"Angola"},{"$f":"IF(AND(INTRO!$E$37=\"Non endémique\",INTRO!$E$41=\"Non endémique\"),\" \",IF(COUNTRY_INFO!B106=0,\" \",COUNTRY_INFO!B106))","v":"LUANDA"},{"$f":"IF(AND(INTRO!$E$37=\"Non endémique\",INTRO!$E$41=\"Non endémique\"),\" \",IF(COUNTRY_INFO!C106=0,\" \",COUNTRY_INFO!C106))","v":"QUISSAMA"},{"$f":"IF(AND(INTRO!$E$37=\"Non endémique\",INTRO!$E$41=\"Non endémique\"),0,IF(AND(OR(COUNTRY_INFO!$H106=0,COUNTRY_INFO!$H106=4,COUNTRY_INFO!$H106=99),OR(COUNTRY_INFO!$J106=0,COUNTRY_INFO!$J106=4)),0,COUNTRY_INFO!$E106))","v":4852},{"$f":"IF(AND(INTRO!$E$37=\"Non endémique\",INTRO!$E$41=\"Non endémique\"),0,IF(AND(OR(COUNTRY_INFO!$H106=0,COUNTRY_INFO!$H106=4,COUNTRY_INFO!$H106=99),OR(COUNTRY_INFO!$J106=0,COUNTRY_INFO!$J106=4)),0,COUNTRY_INFO!$F106))","v":8462},13314,{"$f":"IF(AND(INTRO!$E$37=\"Non endémique\",INTRO!$E$41=\"Non endémique\"),0,COUNTRY_INFO!Q106)","v":0},{"$f":"IF(AND(INTRO!$E$37=\"Non endémique\",INTRO!$E$41=\"Non endémique\"),0,COUNTRY_INFO!S106)","v":1},{"$f":"IF($G106=1,IVM!$G106,0)","v":0},{"$f":"IF($G106=0, \" \", IF(COUNTRY_INFO!$H106=1, IF(COUNTRY_INFO!$L106=1, 0,\" \"),\" \"))","v":" "},null,"ALB",{"$f":"IF($L106=\"ALB\", IF(INTRO!$E$39=\"Non endémique\",IF($H106<>0,$D106*($H106-$G106),0),$D106*$H106), 0)","v":4852},8462,null,13314,{"$f":"IF($L106=\"MBD\", IF(INTRO!$E$39=\"Non endémique\",IF($H106<>0,$D106*($H106-$G106),0),$D106*$H106),0)","v":0},0,null,0,null,0,0,null,8462,43,null,0,0]
[{"$f":"IF(AND(INTRO!$E$37=\"Non endémique\",INTRO!$E$41=\"Non endémique\"),\" \",IF(COUNTRY_INFO!A107=0,\" \",COUNTRY_INFO!A107))","v":"Angola"},{"$f":"IF(AND(INTRO!$E$37=\"Non endémique\",INTRO!$E$41=\"Non endémique\"),\" \",IF(COUNTRY_INFO!B107=0,\" \",COUNTRY_INFO!B107))","v":"LUANDA"},{"$f":"IF(AND(INTRO!$E$37=\"Non endémique\",INTRO!$E$41=\"Non endémique\"),\" \",IF(COUNTRY_INFO!C107=0,\" \",COUNTRY_INFO!C107))","v":"TALATONA"},{"$f":"IF(AND(INTRO!$E$37=\"Non endémique\",INTRO!$E$41=\"Non endémique\"),0,IF(AND(OR(COUNTRY_INFO!$H107=0,COUNTRY_INFO!$H107=4,COUNTRY_INFO!$H107=99),OR(COUNTRY_INFO!$J107=0,COUNTRY_INFO!$J107=4)),0,COUNTRY_INFO!$E107))","v":145453},{"$f":"IF(AND(INTRO!$E$37=\"Non endémique\",INTRO!$E$41=\"Non endémique\"),0,IF(AND(OR(COUNTRY_INFO!$H107=0,COUNTRY_INFO!$H107=4,COUNTRY_INFO!$H107=99),OR(COUNTRY_INFO!$J107=0,COUNTRY_INFO!$J107=4)),0,COUNTRY_INFO!$F107))","v":253634},399087,{"$f":"IF(AND(INTRO!$E$37=\"Non endémique\",INTRO!$E$41=\"Non endémique\"),0,COUNTRY_INFO!Q107)","v":0},{"$f":"IF(AND(INTRO!$E$37=\"Non endémique\",INTRO!$E$41=\"Non endémique\"),0,COUNTRY_INFO!S107)","v":1},{"$f":"IF($G107=1,IVM!$G107,0)","v":0},{"$f":"IF($G107=0, \" \", IF(COUNTRY_INFO!$H107=1, IF(COUNTRY_INFO!$L107=1, 0,\" \"),\" \"))","v":" "},null,"ALB",{"$f":"IF($L107=\"ALB\", IF(INTRO!$E$39=\"Non endémique\",IF($H107<>0,$D107*($H107-$G107),0),$D107*$H107), 0)","v":145453},253634,null,399087,{"$f":"IF($L107=\"MBD\", IF(INTRO!$E$39=\"Non endémique\",IF($H107<>0,$D107*($H107-$G107),0),$D107*$H107),0)","v":0},0,null,0,null,0,0,null,253634,1269,null,0,0]
[{"$f":"IF(AND(INTRO!$E$37=\"Non endémique\",INTRO!$E$41=\"Non endémique\"),\" \",IF(COUNTRY_INFO!A108=0,\" \",COUNTRY_INFO!A108))","v":"Angola"},{"$f":"IF(AND(INTRO!$E$37=\"Non endémique\",INTRO!$E$41=\"Non endémique\"),\" \",IF(COUNTRY_INFO!B108=0,\" \",COUNTRY_INFO!B108))","v":"LUANDA"},{"$f":"IF(AND(INTRO!$E$37=\"Non endémique\",INTRO!$E$41=\"Non endémique\"),\" \",IF(COUNTRY_INFO!C108=0,\" \",COUNTRY_INFO!C108))","v":"VIANA"},{"$f":"IF(AND(INTRO!$E$37=\"Non endémique\",INTRO!$E$41=\"Non endémique\"),0,IF(AND(OR(COUNTRY_INFO!$H108=0,COUNTRY_INFO!$H108=4,COUNTRY_INFO!$H108=99),OR(COUNTRY_INFO!$J108=0,COUNTRY_INFO!$J108=4)),0,COUNTRY_INFO!$E108))","v":293444},{"$f":"IF(AND(INTRO!$E$37=\"Non endémique\",INTRO!$E$41=\"Non endémique\"),0,IF(AND(OR(COUNTRY_INFO!$H108=0,COUNTRY_INFO!$H108=4,COUNTRY_INFO!$H108=99),OR(COUNTRY_INFO!$J108=0,COUNTRY_INFO!$J108=4)),0,COUNTRY_INFO!$F108))","v":511694},805138,{"$f":"IF(AND(INTRO!$E$37=\"Non endémique\",INTRO!$E$41=\"Non endémique\"),0,COUNTRY_INFO!Q108)","v":0},{"$f":"IF(AND(INTRO!$E$37=\"Non endémique\",INTRO!$E$41=\"Non endémique\"),0,COUNTRY_INFO!S108)","v":1},{"$f":"IF($G108=1,IVM!$G108,0)","v":0},{"$f":"IF($G108=0, \" \", IF(COUNTRY_INFO!$H108=1, IF(COUNTRY_INFO!$L108=1, 0,\" \"),\" \"))","v":" "},null,"ALB",{"$f":"IF($L108=\"ALB\", IF(INTRO!$E$39=\"Non endémique\",IF($H108<>0,$D108*($H108-$G108),0),$D108*$H108), 0)","v":293444},511694,null,805138,{"$f":"IF($L108=\"MBD\", IF(INTRO!$E$39=\"Non endémique\",IF($H108<>0,$D108*($H108-$G108),0),$D108*$H108),0)","v":0},0,null,0,null,0,0,null,511694,2559,null,0,0]
[{"$f":"IF(AND(INTRO!$E$37=\"Non endémique\",INTRO!$E$41=\"Non endémique\"),\" \",IF(COUNTRY_INFO!A109=0,\" \",COUNTRY_INFO!A109))","v":"Angola"},{"$f":"IF(AND(INTRO!$E$37=\"Non endémique\",INTRO!$E$41=\"Non endémique\"),\" \",IF(COUNTRY_INFO!B109=0,\" \",COUNTRY_INFO!B109))","v":"LUNDA NORTE"},{"$f":"IF(AND(INTRO!$E$37=\"Non endémique\",INTRO!$E$41=\"Non endémique\"),\" \",IF(COUNTRY_INFO!C109=0,\" \",COUNTRY_INFO!C109))","v":"CAMBULO"},{"$f":"IF(AND(INTRO!$E$37=\"Non endémique\",INTRO!$E$41=\"Non endémique\"),0,IF(AND(OR(COUNTRY_INFO!$H109=0,COUNTRY_INFO!$H109=4,COUNTRY_INFO!$H109=99),OR(COUNTRY_INFO!$J109=0,COUNTRY_INFO!$J109=4)),0,COUNTRY_INFO!$E109))","v":21959},{"$f":"IF(AND(INTRO!$E$37=\"Non endémique\",INTRO!$E$41=\"Non endémique\"),0,IF(AND(OR(COUNTRY_INFO!$H109=0,COUNTRY_INFO!$H109=4,COUNTRY_INFO!$H109=99),OR(COUNTRY_INFO!$J109=0,COUNTRY_INFO!$J109=4)),0,COUNTRY_INFO!$F109))","v":38291},60250,{"$f":"IF(AND(INTRO!$E$37=\"Non endémique\",INTRO!$E$41=\"Non endémique\"),0,COUNTRY_INFO!Q109)","v":0},{"$f":"IF(AND(INTRO!$E$37=\"Non endémique\",INTRO!$E$41=\"Non endémique\"),0,COUNTRY_INFO!S109)","v":1},{"$f":"IF($G109=1,IVM!$G109,0)","v":0},{"$f":"IF($G109=0, \" \", IF(COUNTRY_INFO!$H109=1, IF(COUNTRY_INFO!$L109=1, 0,\" \"),\" \"))","v":" "},null,"ALB",{"$f":"IF($L109=\"ALB\", IF(INTRO!$E$39=\"Non endémique\",IF($H109<>0,$D109*($H109-$G109),0),$D109*$H109), 0)","v":21959},38291,null,60250,{"$f":"IF($L109=\"MBD\", IF(INTRO!$E$39=\"Non endémique\",IF($H109<>0,$D109*($H109-$G109),0),$D109*$H109),0)","v":0},0,null,0,null,0,0,null,38291,192,null,0,0]
[{"$f":"IF(AND(INTRO!$E$37=\"Non endémique\",INTRO!$E$41=\"Non endémique\"),\" \",IF(COUNTRY_INFO!A110=0,\" \",COUNTRY_INFO!A110))","v":"Angola"},{"$f":"IF(AND(INTRO!$E$37=\"Non endémique\",INTRO!$E$41=\"Non endémique\"),\" \",IF(COUNTRY_INFO!B110=0,\" \",COUNTRY_INFO!B110))","v":"LUNDA NORTE"},{"$f":"IF(AND(INTRO!$E$37=\"Non endémique\",INTRO!$E$41=\"Non endémique\"),\" \",IF(COUNTRY_INFO!C110=0,\" \",COUNTRY_INFO!C110))","v":"CAPENDA CAMULEMBA"},{"$f":"IF(AND(INTRO!$E$37=\"Non endémique\",INTRO!$E$41=\"Non endémique\"),0,IF(AND(OR(COUNTRY_INFO!$H110=0,COUNTRY_INFO!$H110=4,COUNTRY_INFO!$H110=99),OR(COUNTRY_INFO!$J110=0,COUNTRY_INFO!$J110=4)),0,COUNTRY_INFO!$E110))","v":10654},{"$f":"IF(AND(INTRO!$E$37=\"Non endémique\",INTRO!$E$41=\"Non endémique\"),0,IF(AND(OR(COUNTRY_INFO!$H110=0,COUNTRY_INFO!$H110=4,COUNTRY_INFO!$H110=99),OR(COUNTRY_INFO!$J110=0,COUNTRY_INFO!$J110=4)),0,COUNTRY_INFO!$F110))","v":18579},29233,{"$f":"IF(AND(INTRO!$E$37=\"Non endémique\",INTRO!$E$41=\"Non endémique\"),0,COUNTRY_INFO!Q110)","v":0},{"$f":"IF(AND(INTRO!$E$37=\"Non endémique\",INTRO!$E$41=\"Non endémique\"),0,COUNTRY_INFO!S110)","v":1},{"$f":"IF($G110=1,IVM!$G110,0)","v":0},{"$f":"IF($G110=0, \" \", IF(COUNTRY_INFO!$H110=1, IF(COUNTRY_INFO!$L110=1, 0,\" \"),\" \"))","v":" "},null,"ALB",{"$f":"IF($L110=\"ALB\", IF(INTRO!$E$39=\"Non endémique\",IF($H110<>0,$D110*($H110-$G110),0),$D110*$H110), 0)","v":10654},18579,null,29233,{"$f":"IF($L110=\"MBD\", IF(INTRO!$E$39=\"Non endémique\",IF($H110<>0,$D110*($H110-$G110),0),$D110*$H110),0)","v":0},0,null,0,null,0,0,null,18579,93,null,0,0]
[{"$f":"IF(AND(INTRO!$E$37=\"Non endémique\",INTRO!$E$41=\"Non endémique\"),\" \",IF(COUNTRY_INFO!A111=0,\" \",COUNTRY_INFO!A111))","v":"Angola"},{"$f":"IF(AND(INTRO!$E$37=\"Non endémique\",INTRO!$E$41=\"Non endémique\"),\" \",IF(COUNTRY_INFO!B111=0,\" \",COUNTRY_INFO!B111))","v":"LUNDA NORTE"},{"$f":"IF(AND(INTRO!$E$37=\"Non endémique\",INTRO!$E$41=\"Non endémique\"),\" \",IF(COUNTRY_INFO!C111=0,\" \",COUNTRY_INFO!C111))","v":"CAUNGULA"},{"$f":"IF(AND(INTRO!$E$37=\"Non endémique\",INTRO!$E$41=\"Non endémique\"),0,IF(AND(OR(COUNTRY_INFO!$H111=0,COUNTRY_INFO!$H111=4,COUNTRY_INFO!$H111=99),OR(COUNTRY_INFO!$J111=0,COUNTRY_INFO!$J111=4)),0,COUNTRY_INFO!$E111))","v":5148},{"$f":"IF(AND(INTRO!$E$37=\"Non endémique\",INTRO!$E$41=\"Non endémique\"),0,IF(AND(OR(COUNTRY_INFO!$H111=0,COUNTRY_INFO!$H111=4,COUNTRY_INFO!$H111=99),OR(COUNTRY_INFO!$J111=0,COUNTRY_INFO!$J111=4)),0,COUNTRY_INFO!$F111))","v":8977},14125,{"$f":"IF(AND(INTRO!$E$37=\"Non endémique\",INTRO!$E$41=\"Non endémique\"),0,COUNTRY_INFO!Q111)","v":0},{"$f":"IF(AND(INTRO!$E$37=\"Non endémique\",INTRO!$E$41=\"Non endémique\"),0,COUNTRY_INFO!S111)","v":1},{"$f":"IF($G111=1,IVM!$G111,0)","v":0},{"$f":"IF($G111=0, \" \", IF(COUNTRY_INFO!$H111=1, IF(COUNTRY_INFO!$L111=1, 0,\" \"),\" \"))","v":" "},null,"ALB",{"$f":"IF($L111=\"ALB\", IF(INTRO!$E$39=\"Non endémique\",IF($H111<>0,$D111*($H111-$G111),0),$D111*$H111), 0)","v":5148},8977,null,14125,{"$f":"IF($L111=\"MBD\", IF(INTRO!$E$39=\"Non endémique\",IF($H111<>0,$D111*($H111-$G111),0),$D111*$H111),0)","v":0},0,null,0,null,0,0,null,8977,45,null,0,0]
[{"$f":"IF(AND(INTRO!$E$37=\"Non endémique\",INTRO!$E$41=\"Non endémique\"),\" \",IF(COUNTRY_INFO!A112=0,\" \",COUNTRY_INFO!A112))","v":"Angola"},{"$f":"IF(AND(INTRO!$E$37=\"Non endémique\",INTRO!$E$41=\"Non endémique\"),\" \",IF(COUNTRY_INFO!B112=0,\" \",COUNTRY_INFO!B112))","v":"LUNDA NORTE"},{"$f":"IF(AND(INTRO!$E$37=\"Non endémique\",INTRO!$E$41=\"Non endémique\"),\" \",IF(COUNTRY_INFO!C112=0,\" \",COUNTRY_INFO!C112))","v":"CHITATO"},{"$f":"IF(AND(INTRO!$E$37=\"Non endémique\",INTRO!$E$41=\"Non endémique\"),0,IF(AND(OR(COUNTRY_INFO!$H112=0,COUNTRY_INFO!$H112=4,COUNTRY_INFO!$H112=99),OR(COUNTRY_INFO!$J112=0,COUNTRY_INFO!$J112=4)),0,COUNTRY_INFO!$E112))","v":35575},{"$f":"IF(AND(INTRO!$E$37=\"Non endémique\",INTRO!$E$41=\"Non endémique\"),0,IF(AND(OR(COUNTRY_INFO!$H112=0,COUNTRY_INFO!$H112=4,COUNTRY_INFO!$H112=99),OR(COUNTRY_INFO!$J112=0,COUNTRY_INFO!$J112=4)),0,COUNTRY_INFO!$F112))","v":62033},97608,{"$f":"IF(AND(INTRO!$E$37=\"Non endémique\",INTRO!$E$41=\"Non endémique\"),0,COUNTRY_INFO!Q112)","v":0},{"$f":"IF(AND(INTRO!$E$37=\"Non endémique\",INTRO!$E$41=\"Non endémique\"),0,COUNTRY_INFO!S112)","v":1},{"$f":"IF($G112=1,IVM!$G112,0)","v":0},{"$f":"IF($G112=0, \" \", IF(COUNTRY_INFO!$H112=1, IF(COUNTRY_INFO!$L112=1, 0,\" \"),\" \"))","v":" "},null,"ALB",{"$f":"IF($L112=\"ALB\", IF(INTRO!$E$39=\"Non endémique\",IF($H112<>0,$D112*($H112-$G112),0),$D112*$H112), 0)","v":35575},62033,null,97608,{"$f":"IF($L112=\"MBD\", IF(INTRO!$E$39=\"Non endémique\",IF($H112<>0,$D112*($H112-$G112),0),$D112*$H112),0)","v":0},0,null,0,null,0,0,null,62033,311,null,0,0]
[{"$f":"IF(AND(INTRO!$E$37=\"Non endémique\",INTRO!$E$41=\"Non endémique\"),\" \",IF(COUNTRY_INFO!A113=0,\" \",COUNTRY_INFO!A113))","v":"Angola"},{"$f":"IF(AND(INTRO!$E$37=\"Non endémique\",INTRO!$E$41=\"Non endémique\"),\" \",IF(COUNTRY_INFO!B113=0,\" \",COUNTRY_INFO!B113))","v":"LUNDA NORTE"},{"$f":"IF(AND(INTRO!$E$37=\"Non endémique\",INTRO!$E$41=\"Non endémique\"),\" \",IF(COUNTRY_INFO!C113=0,\" \",COUNTRY_INFO!C113))","v":"CUANGO"},{"$f":"IF(AND(INTRO!$E$37=\"Non endémique\",INTRO!$E$41=\"Non endémique\"),0,IF(AND(OR(COUNTRY_INFO!$H113=0,COUNTRY_INFO!$H113=4,COUNTRY_INFO!$H113=99),OR(COUNTRY_INFO!$J113=0,COUNTRY_INFO!$J113=4)),0,COUNTRY_INFO!$E113))","v":33592},{"$f":"IF(AND(INTRO!$E$37=\"Non endémique\",INTRO!$E$41=\"Non endémique\"),0,IF(AND(OR(COUNTRY_INFO!$H113=0,COUNTRY_INFO!$H113=4,COUNTRY_INFO!$H113=99),OR(COUNTRY_INFO!$J113=0,COUNTRY_INFO!$J113=4)),0,COUNTRY_INFO!$F113))","v":58577},92169,{"$f":"IF(AND(INTRO!$E$37=\"Non endémique\",INTRO!$E$41=\"Non endémique\"),0,COUNTRY_INFO!Q113)","v":0},{"$f":"IF(AND(INTRO!$E$37=\"Non endémique\",INTRO!$E$41=\"Non endémique\"),0,COUNTRY_INFO!S113)","v":1},{"$f":"IF($G113=1,IVM!$G113,0)","v":0},{"$f":"IF($G113=0, \" \", IF(COUNTRY_INFO!$H113=1, IF(COUNTRY_INFO!$L113=1, 0,\" \"),\" \"))","v":" "},null,"ALB",{"$f":"IF($L113=\"ALB\", IF(INTRO!$E$39=\"Non endémique\",IF($H113<>0,$D113*($H113-$G113),0),$D113*$H113), 0)","v":33592},58577,null,92169,{"$f":"IF($L113=\"MBD\", IF(INTRO!$E$39=\"Non endémique\",IF($H113<>0,$D113*($H113-$G113),0),$D113*$H113),0)","v":0},0,null,0,null,0,0,null,58577,293,null,0,0]
[{"$f":"IF(AND(INTRO!$E$37=\"Non endémique\",INTRO!$E$41=\"Non endémique\"),\" \",IF(COUNTRY_INFO!A114=0,\" \",COUNTRY_INFO!A114))","v":"Angola"},{"$f":"IF(AND(INTRO!$E$37=\"Non endémique\",INTRO!$E$41=\"Non endémique\"),\" \",IF(COUNTRY_INFO!B114=0,\" \",COUNTRY_INFO!B114))","v":"LUNDA NORTE"},{"$f":"IF(AND(INTRO!$E$37=\"Non endémique\",INTRO!$E$41=\"Non endémique\"),\" \",IF(COUNTRY_INFO!C114=0,\" \",COUNTRY_INFO!C114))","v":"CUILO"},{"$f":"IF(AND(INTRO!$E$37=\"Non endémique\",INTRO!$E$41=\"Non endémique\"),0,IF(AND(OR(COUNTRY_INFO!$H114=0,COUNTRY_INFO!$H114=4,COUNTRY_INFO!$H114=99),OR(COUNTRY_INFO!$J114=0,COUNTRY_INFO!$J114=4)),0,COUNTRY_INFO!$E114))","v":3840},{"$f":"IF(AND(INTRO!$E$37=\"Non endémique\",INTRO!$E$41=\"Non endémique\"),0,IF(AND(OR(COUNTRY_INFO!$H114=0,COUNTRY_INFO!$H114=4,COUNTRY_INFO!$H114=99),OR(COUNTRY_INFO!$J114=0,COUNTRY_INFO!$J114=4)),0,COUNTRY_INFO!$F114))","v":6695},10535,{"$f":"IF(AND(INTRO!$E$37=\"Non endémique\",INTRO!$E$41=\"Non endémique\"),0,COUNTRY_INFO!Q114)","v":0},{"$f":"IF(AND(INTRO!$E$37=\"Non endémique\",INTRO!$E$41=\"Non endémique\"),0,COUNTRY_INFO!S114)","v":1},{"$f":"IF($G114=1,IVM!$G114,0)","v":0},{"$f":"IF($G114=0, \" \", IF(COUNTRY_INFO!$H114=1, IF(COUNTRY_INFO!$L114=1, 0,\" \"),\" \"))","v":" "},null,"ALB",{"$f":"IF($L114=\"ALB\", IF(INTRO!$E$39=\"Non endémique\",IF($H114<>0,$D114*($H114-$G114),0),$D114*$H114), 0)","v":3840},6695,null,10535,{"$f":"IF($L114=\"MBD\", IF(INTRO!$E$39=\"Non endémique\",IF($H114<>0,$D114*($H114-$G114),0),$D114*$H114),0)","v":0},0,null,0,null,0,0,null,6695,34,null,0,0]
[{"$f":"IF(AND(INTRO!$E$37=\"Non endémique\",INTRO!$E$41=\"Non endémique\"),\" \",IF(COUNTRY_INFO!A115=0,\" \",COUNTRY_INFO!A115))","v":"Angola"},{"$f":"IF(AND(INTRO!$E$37=\"Non endémique\",INTRO!$E$41=\"Non endémique\"),\" \",IF(COUNTRY_INFO!B115=0,\" \",COUNTRY_INFO!B115))","v":"LUNDA NORTE"},{"$f":"IF(AND(INTRO!$E$37=\"Non endémique\",INTRO!$E$41=\"Non endémique\"),\" \",IF(COUNTRY_INFO!C115=0,\" \",COUNTRY_INFO!C115))","v":"LOVUA"},{"$f":"IF(AND(INTRO!$E$37=\"Non endémique\",INTRO!$E$41=\"Non endémique\"),0,IF(AND(OR(COUNTRY_INFO!$H115=0,COUNTRY_INFO!$H115=4,COUNTRY_INFO!$H115=99),OR(COUNTRY_INFO!$J115=0,COUNTRY_INFO!$J115=4)),0,COUNTRY_INFO!$E115))","v":2478},{"$f":"IF(AND(INTRO!$E$37=\"Non endémique\",INTRO!$E$41=\"Non endémique\"),0,IF(AND(OR(COUNTRY_INFO!$H115=0,COUNTRY_INFO!$H115=4,COUNTRY_INFO!$H115=99),OR(COUNTRY_INFO!$J115=0,COUNTRY_INFO!$J115=4)),0,COUNTRY_INFO!$F115))","v":4321},6799,{"$f":"IF(AND(INTRO!$E$37=\"Non endémique\",INTRO!$E$41=\"Non endémique\"),0,COUNTRY_INFO!Q115)","v":0},{"$f":"IF(AND(INTRO!$E$37=\"Non endémique\",INTRO!$E$41=\"Non endémique\"),0,COUNTRY_INFO!S115)","v":1},{"$f":"IF($G115=1,IVM!$G115,0)","v":0},{"$f":"IF($G115=0, \" \", IF(COUNTRY_INFO!$H115=1, IF(COUNTRY_INFO!$L115=1, 0,\" \"),\" \"))","v":" "},null,"ALB",{"$f":"IF($L115=\"ALB\", IF(INTRO!$E$39=\"Non endémique\",IF($H115<>0,$D115*($H115-$G115),0),$D115*$H115), 0)","v":2478},4321,null,6799,{"$f":"IF($L115=\"MBD\", IF(INTRO!$E$39=\"Non endémique\",IF($H115<>0,$D115*($H115-$G115),0),$D115*$H115),0)","v":0},0,null,0,null,0,0,null,4321,22,null,0,0]
[{"$f":"IF(AND(INTRO!$E$37=\"Non endémique\",INTRO!$E$41=\"Non endémique\"),\" \",IF(COUNTRY_INFO!A116=0,\" \",COUNTRY_INFO!A116))","v":"Angola"},{"$f":"IF(AND(INTRO!$E$37=\"Non endémique\",INTRO!$E$41=\"Non endémique\"),\" \",IF(COUNTRY_INFO!B116=0,\" \",COUNTRY_INFO!B116))","v":"LUNDA NORTE"},{"$f":"IF(AND(INTRO!$E$37=\"Non endémique\",INTRO!$E$41=\"Non endémique\"),\" \",IF(COUNTRY_INFO!C116=0,\" \",COUNTRY_INFO!C116))","v":"LUBALO"},{"$f":"IF(AND(INTRO!$E$37=\"Non endémique\",INTRO!$E$41=\"Non endémique\"),0,IF(AND(OR(COUNTRY_INFO!$H116=0,COUNTRY_INFO!$H116=4,COUNTRY_INFO!$H116=99),OR(COUNTRY_INFO!$J116=0,COUNTRY_INFO!$J116=4)),0,COUNTRY_INFO!$E116))","v":3771},{"$f":"IF(AND(INTRO!$E$37=\"Non endémique\",INTRO!$E$41=\"Non endémique\"),0,IF(AND(OR(COUNTRY_INFO!$H116=0,COUNTRY_INFO!$H116=4,COUNTRY_INFO!$H116=99),OR(COUNTRY_INFO!$J116=0,COUNTRY_INFO!$J116=4)),0,COUNTRY_INFO!$F116))","v":6576},10347,{"$f":"IF(AND(INTRO!$E$37=\"Non endémique\",INTRO!$E$41=\"Non endémique\"),0,COUNTRY_INFO!Q116)","v":0},{"$f":"IF(AND(INTRO!$E$37=\"Non endémique\",INTRO!$E$41=\"Non endémique\"),0,COUNTRY_INFO!S116)","v":1},{"$f":"IF($G116=1,IVM!$G116,0)","v":0},{"$f":"IF($G116=0, \" \", IF(COUNTRY_INFO!$H116=1, IF(COUNTRY_INFO!$L116=1, 0,\" \"),\" \"))","v":" "},null,"ALB",{"$f":"IF($L116=\"ALB\", IF(INTRO!$E$39=\"Non endémique\",IF($H116<>0,$D116*($H116-$G116),0),$D116*$H116), 0)","v":3771},6576,null,10347,{"$f":"IF($L116=\"MBD\", IF(INTRO!$E$39=\"Non endémique\",IF($H116<>0,$D116*($H116-$G116),0),$D116*$H116),0)","v":0},0,null,0,null,0,0,null,6576,33,null,0,0]
[{"$f":"IF(AND(INTRO!$E$37=\"Non endémique\",INTRO!$E$41=\"Non endémique\"),\" \",IF(COUNTRY_INFO!A117=0,\" \",COUNTRY_INFO!A117))","v":"Angola"},{"$f":"IF(AND(INTRO!$E$37=\"Non endémique\",INTRO!$E$41=\"Non endémique\"),\" \",IF(COUNTRY_INFO!B117=0,\" \",COUNTRY_INFO!B117))","v":"LUNDA NORTE"},{"$f":"IF(AND(INTRO!$E$37=\"Non endémique\",INTRO!$E$41=\"Non endémique\"),\" \",IF(COUNTRY_INFO!C117=0,\" \",COUNTRY_INFO!C117))","v":"LUCAPA"},{"$f":"IF(AND(INTRO!$E$37=\"Non endémique\",INTRO!$E$41=\"Non endémique\"),0,IF(AND(OR(COUNTRY_INFO!$H117=0,COUNTRY_INFO!$H117=4,COUNTRY_INFO!$H117=99),OR(COUNTRY_INFO!$J117=0,COUNTRY_INFO!$J117=4)),0,COUNTRY_INFO!$E117))","v":28207},{"$f":"IF(AND(INTRO!$E$37=\"Non endémique\",INTRO!$E$41=\"Non endémique\"),0,IF(AND(OR(COUNTRY_INFO!$H117=0,COUNTRY_INFO!$H117=4,COUNTRY_INFO!$H117=99),OR(COUNTRY_INFO!$J117=0,COUNTRY_INFO!$J117=4)),0,COUNTRY_INFO!$F117))","v":49185},77392,{"$f":"IF(AND(INTRO!$E$37=\"Non endémique\",INTRO!$E$41=\"Non endémique\"),0,COUNTRY_INFO!Q117)","v":0},{"$f":"IF(AND(INTRO!$E$37=\"Non endémique\",INTRO!$E$41=\"Non endémique\"),0,COUNTRY_INFO!S117)","v":1},{"$f":"IF($G117=1,IVM!$G117,0)","v":0},{"$f":"IF($G117=0, \" \", IF(COUNTRY_INFO!$H117=1, IF(COUNTRY_INFO!$L117=1, 0,\" \"),\" \"))","v":" "},null,"ALB",{"$f":"IF($L117=\"ALB\", IF(INTRO!$E$39=\"Non endémique\",IF($H117<>0,$D117*($H117-$G117),0),$D117*$H117), 0)","v":28207},49185,null,77392,{"$f":"IF($L117=\"MBD\", IF(INTRO!$E$39=\"Non endémique\",IF($H117<>0,$D117*($H117-$G117),0),$D117*$H117),0)","v":0},0,null,0,null,0,0,null,49185,246,null,0,0]
[{"$f":"IF(AND(INTRO!$E$37=\"Non endémique\",INTRO!$E$41=\"Non endémique\"),\" \",IF(COUNTRY_INFO!A118=0,\" \",COUNTRY_INFO!A118))","v":"Angola"},{"$f":"IF(AND(INTRO!$E$37=\"Non endémique\",INTRO!$E$41=\"Non endémique\"),\" \",IF(COUNTRY_INFO!B118=0,\" \",COUNTRY_INFO!B118))","v":"LUNDA NORTE"},{"$f":"IF(AND(INTRO!$E$37=\"Non endémique\",INTRO!$E$41=\"Non endémique\"),\" \",IF(COUNTRY_INFO!C118=0,\" \",COUNTRY_INFO!C118))","v":"XA MUTEBA"},{"$f":"IF(AND(INTRO!$E$37=\"Non endémique\",INTRO!$E$41=\"Non endémique\"),0,IF(AND(OR(COUNTRY_INFO!$H118=0,COUNTRY_INFO!$H118=4,COUNTRY_INFO!$H118=99),OR(COUNTRY_INFO!$J118=0,COUNTRY_INFO!$J118=4)),0,COUNTRY_INFO!$E118))","v":12451},{"$f":"IF(AND(INTRO!$E$37=\"Non endémique\",INTRO!$E$41=\"Non endémique\"),0,IF(AND(OR(COUNTRY_INFO!$H118=0,COUNTRY_INFO!$H118=4,COUNTRY_INFO!$H118=99),OR(COUNTRY_INFO!$J118=0,COUNTRY_INFO!$J118=4)),0,COUNTRY_INFO!$F118))","v":21712},34163,{"$f":"IF(AND(INTRO!$E$37=\"Non endémique\",INTRO!$E$41=\"Non endémique\"),0,COUNTRY_INFO!Q118)","v":0},{"$f":"IF(AND(INTRO!$E$37=\"Non endémique\",INTRO!$E$41=\"Non endémique\"),0,COUNTRY_INFO!S118)","v":1},{"$f":"IF($G118=1,IVM!$G118,0)","v":0},{"$f":"IF($G118=0, \" \", IF(COUNTRY_INFO!$H118=1, IF(COUNTRY_INFO!$L118=1, 0,\" \"),\" \"))","v":" "},null,"ALB",{"$f":"IF($L118=\"ALB\", IF(INTRO!$E$39=\"Non endémique\",IF($H118<>0,$D118*($H118-$G118),0),$D118*$H118), 0)","v":12451},21712,null,34163,{"$f":"IF($L118=\"MBD\", IF(INTRO!$E$39=\"Non endémique\",IF($H118<>0,$D118*($H118-$G118),0),$D118*$H118),0)","v":0},0,null,0,null,0,0,null,21712,109,null,0,0]
[{"$f":"IF(AND(INTRO!$E$37=\"Non endémique\",INTRO!$E$41=\"Non endémique\"),\" \",IF(COUNTRY_INFO!A119=0,\" \",COUNTRY_INFO!A119))","v":"Angola"},{"$f":"IF(AND(INTRO!$E$37=\"Non endémique\",INTRO!$E$41=\"Non endémique\"),\" \",IF(COUNTRY_INFO!B119=0,\" \",COUNTRY_INFO!B119))","v":"LUNDA SUL"},{"$f":"IF(AND(INTRO!$E$37=\"Non endémique\",INTRO!$E$41=\"Non endémique\"),\" \",IF(COUNTRY_INFO!C119=0,\" \",COUNTRY_INFO!C119))","v":"CACOLO"},{"$f":"IF(AND(INTRO!$E$37=\"Non endémique\",INTRO!$E$41=\"Non endémique\"),0,IF(AND(OR(COUNTRY_INFO!$H119=0,COUNTRY_INFO!$H119=4,COUNTRY_INFO!$H119=99),OR(COUNTRY_INFO!$J119=0,COUNTRY_INFO!$J119=4)),0,COUNTRY_INFO!$E119))","v":5830},{"$f":"IF(AND(INTRO!$E$37=\"Non endémique\",INTRO!$E$41=\"Non endémique\"),0,IF(AND(OR(COUNTRY_INFO!$H119=0,COUNTRY_INFO!$H119=4,COUNTRY_INFO!$H119=99),OR(COUNTRY_INFO!$J119=0,COUNTRY_INFO!$J119=4)),0,COUNTRY_INFO!$F119))","v":10167},15997,{"$f":"IF(AND(INTRO!$E$37=\"Non endémique\",INTRO!$E$41=\"Non endémique\"),0,COUNTRY_INFO!Q119)","v":0},{"$f":"IF(AND(INTRO!$E$37=\"Non endémique\",INTRO!$E$41=\"Non endémique\"),0,COUNTRY_INFO!S119)","v":1},{"$f":"IF($G119=1,IVM!$G119,0)","v":0},{"$f":"IF($G119=0, \" \", IF(COUNTRY_INFO!$H119=1, IF(COUNTRY_INFO!$L119=1, 0,\" \"),\" \"))","v":" "},null,"ALB",{"$f":"IF($L119=\"ALB\", IF(INTRO!$E$39=\"Non endémique\",IF($H119<>0,$D119*($H119-$G119),0),$D119*$H119), 0)","v":5830},10167,null,15997,{"$f":"IF($L119=\"MBD\", IF(INTRO!$E$39=\"Non endémique\",IF($H119<>0,$D119*($H119-$G119),0),$D119*$H119),0)","v":0},0,null,0,null,0,0,null,10167,51,null,0,0]
[{"$f":"IF(AND(INTRO!$E$37=\"Non endémique\",INTRO!$E$41=\"Non endémique\"),\" \",IF(COUNTRY_INFO!A120=0,\" \",COUNTRY_INFO!A120))","v":"Angola"},{"$f":"IF(AND(INTRO!$E$37=\"Non endémique\",INTRO!$E$41=\"Non endémique\"),\" \",IF(COUNTRY_INFO!B120=0,\" \",COUNTRY_INFO!B120))","v":"LUNDA SUL"},{"$f":"IF(AND(INTRO!$E$37=\"Non endémique\",INTRO!$E$41=\"Non endémique\"),\" \",IF(COUNTRY_INFO!C120=0,\" \",COUNTRY_INFO!C120))","v":"DALA"},{"$f":"IF(AND(INTRO!$E$37=\"Non endémique\",INTRO!$E$41=\"Non endémique\"),0,IF(AND(OR(COUNTRY_INFO!$H120=0,COUNTRY_INFO!$H120=4,COUNTRY_INFO!$H120=99),OR(COUNTRY_INFO!$J120=0,COUNTRY_INFO!$J120=4)),0,COUNTRY_INFO!$E120))","v":5482},{"$f":"IF(AND(INTRO!$E$37=\"Non endémique\",INTRO!$E$41=\"Non endémique\"),0,IF(AND(OR(COUNTRY_INFO!$H120=0,COUNTRY_INFO!$H120=4,COUNTRY_INFO!$H120=99),OR(COUNTRY_INFO!$J120=0,COUNTRY_INFO!$J120=4)),0,COUNTRY_INFO!$F120))","v":9560},15042,{"$f":"IF(AND(INTRO!$E$37=\"Non endémique\",INTRO!$E$41=\"Non endémique\"),0,COUNTRY_INFO!Q120)","v":0},{"$f":"IF(AND(INTRO!$E$37=\"Non endémique\",INTRO!$E$41=\"Non endémique\"),0,COUNTRY_INFO!S120)","v":1},{"$f":"IF($G120=1,IVM!$G120,0)","v":0},{"$f":"IF($G120=0, \" \", IF(COUNTRY_INFO!$H120=1, IF(COUNTRY_INFO!$L120=1, 0,\" \"),\" \"))","v":" "},null,"ALB",{"$f":"IF($L120=\"ALB\", IF(INTRO!$E$39=\"Non endémique\",IF($H120<>0,$D120*($H120-$G120),0),$D120*$H120), 0)","v":5482},9560,null,15042,{"$f":"IF($L120=\"MBD\", IF(INTRO!$E$39=\"Non endémique\",IF($H120<>0,$D120*($H120-$G120),0),$D120*$H120),0)","v":0},0,null,0,null,0,0,null,9560,48,null,0,0]
[{"$f":"IF(AND(INTRO!$E$37=\"Non endémique\",INTRO!$E$41=\"Non endémique\"),\" \",IF(COUNTRY_INFO!A121=0,\" \",COUNTRY_INFO!A121))","v":"Angola"},{"$f":"IF(AND(INTRO!$E$37=\"Non endémique\",INTRO!$E$41=\"Non endémique\"),\" \",IF(COUNTRY_INFO!B121=0,\" \",COUNTRY_INFO!B121))","v":"LUNDA SUL"},{"$f":"IF(AND(INTRO!$E$37=\"Non endémique\",INTRO!$E$41=\"Non endémique\"),\" \",IF(COUNTRY_INFO!C121=0,\" \",COUNTRY_INFO!C121))","v":"MUCONDA"},{"$f":"IF(AND(INTRO!$E$37=\"Non endémique\",INTRO!$E$41=\"Non endémique\"),0,IF(AND(OR(COUNTRY_INFO!$H121=0,COUNTRY_INFO!$H121=4,COUNTRY_INFO!$H121=99),OR(COUNTRY_INFO!$J121=0,COUNTRY_INFO!$J121=4)),0,COUNTRY_INFO!$E121))","v":6081},{"$f":"IF(AND(INTRO!$E$37=\"Non endémique\",INTRO!$E$41=\"Non endémique\"),0,IF(AND(OR(COUNTRY_INFO!$H121=0,COUNTRY_INFO!$H121=4,COUNTRY_INFO!$H121=99),OR(COUNTRY_INFO!$J121=0,COUNTRY_INFO!$J121=4)),0,COUNTRY_INFO!$F121))","v":10603},16684,{"$f":"IF(AND(INTRO!$E$37=\"Non endémique\",INTRO!$E$41=\"Non endémique\"),0,COUNTRY_INFO!Q121)","v":0},{"$f":"IF(AND(INTRO!$E$37=\"Non endémique\",INTRO!$E$41=\"Non endémique\"),0,COUNTRY_INFO!S121)","v":1},{"$f":"IF($G121=1,IVM!$G121,0)","v":0},{"$f":"IF($G121=0, \" \", IF(COUNTRY_INFO!$H121=1, IF(COUNTRY_INFO!$L121=1, 0,\" \"),\" \"))","v":" "},null,"ALB",{"$f":"IF($L121=\"ALB\", IF(INTRO!$E$39=\"Non endémique\",IF($H121<>0,$D121*($H121-$G121),0),$D121*$H121), 0)","v":6081},10603,null,16684,{"$f":"IF($L121=\"MBD\", IF(INTRO!$E$39=\"Non endémique\",IF($H121<>0,$D121*($H121-$G121),0),$D121*$H121),0)","v":0},0,null,0,null,0,0,null,10603,54,null,0,0]
[{"$f":"IF(AND(INTRO!$E$37=\"Non endémique\",INTRO!$E$41=\"Non endémique\"),\" \",IF(COUNTRY_INFO!A122=0,\" \",COUNTRY_INFO!A122))","v":"Angola"},{"$f":"IF(AND(INTRO!$E$37=\"Non endémique\",INTRO!$E$41=\"Non endémique\"),\" \",IF(COUNTRY_INFO!B122=0,\" \",COUNTRY_INFO!B122))","v":"LUNDA SUL"},{"$f":"IF(AND(INTRO!$E$37=\"Non endémique\",INTRO!$E$41=\"Non endémique\"),\" \",IF(COUNTRY_INFO!C122=0,\" \",COUNTRY_INFO!C122))","v":"SAURIMO"},{"$f":"IF(AND(INTRO!$E$37=\"Non endémique\",INTRO!$E$41=\"Non endémique\"),0,IF(AND(OR(COUNTRY_INFO!$H122=0,COUNTRY_INFO!$H122=4,COUNTRY_INFO!$H122=99),OR(COUNTRY_INFO!$J122=0,COUNTRY_INFO!$J122=4)),0,COUNTRY_INFO!$E122))","v":80877},{"$f":"IF(AND(INTRO!$E$37=\"Non endémique\",INTRO!$E$41=\"Non endémique\"),0,IF(AND(OR(COUNTRY_INFO!$H122=0,COUNTRY_INFO!$H122=4,COUNTRY_INFO!$H122=99),OR(COUNTRY_INFO!$J122=0,COUNTRY_INFO!$J122=4)),0,COUNTRY_INFO!$F122))","v":141029},221906,{"$f":"IF(AND(INTRO!$E$37=\"Non endémique\",INTRO!$E$41=\"Non endémique\"),0,COUNTRY_INFO!Q122)","v":0},{"$f":"IF(AND(INTRO!$E$37=\"Non endémique\",INTRO!$E$41=\"Non endémique\"),0,COUNTRY_INFO!S122)","v":1},{"$f":"IF($G122=1,IVM!$G122,0)","v":0},{"$f":"IF($G122=0, \" \", IF(COUNTRY_INFO!$H122=1, IF(COUNTRY_INFO!$L122=1, 0,\" \"),\" \"))","v":" "},null,"ALB",{"$f":"IF($L122=\"ALB\", IF(INTRO!$E$39=\"Non endémique\",IF($H122<>0,$D122*($H122-$G122),0),$D122*$H122), 0)","v":80877},141029,null,221906,{"$f":"IF($L122=\"MBD\", IF(INTRO!$E$39=\"Non endémique\",IF($H122<>0,$D122*($H122-$G122),0),$D122*$H122),0)","v":0},0,null,0,null,0,0,null,141029,706,null,0,0]
[{"$f":"IF(AND(INTRO!$E$37=\"Non endémique\",INTRO!$E$41=\"Non endémique\"),\" \",IF(COUNTRY_INFO!A123=0,\" \",COUNTRY_INFO!A123))","v":"Angola"},{"$f":"IF(AND(INTRO!$E$37=\"Non endémique\",INTRO!$E$41=\"Non endémique\"),\" \",IF(COUNTRY_INFO!B123=0,\" \",COUNTRY_INFO!B123))","v":"MALANGE"},{"$f":"IF(AND(INTRO!$E$37=\"Non endémique\",INTRO!$E$41=\"Non endémique\"),\" \",IF(COUNTRY_INFO!C123=0,\" \",COUNTRY_INFO!C123))","v":"CACULAMA (Mukari)"},{"$f":"IF(AND(INTRO!$E$37=\"Non endémique\",INTRO!$E$41=\"Non endémique\"),0,IF(AND(OR(COUNTRY_INFO!$H123=0,COUNTRY_INFO!$H123=4,COUNTRY_INFO!$H123=99),OR(COUNTRY_INFO!$J123=0,COUNTRY_INFO!$J123=4)),0,COUNTRY_INFO!$E123))","v":5504},{"$f":"IF(AND(INTRO!$E$37=\"Non endémique\",INTRO!$E$41=\"Non endémique\"),0,IF(AND(OR(COUNTRY_INFO!$H123=0,COUNTRY_INFO!$H123=4,COUNTRY_INFO!$H123=99),OR(COUNTRY_INFO!$J123=0,COUNTRY_INFO!$J123=4)),0,COUNTRY_INFO!$F123))","v":9598},15102,{"$f":"IF(AND(INTRO!$E$37=\"Non endémique\",INTRO!$E$41=\"Non endémique\"),0,COUNTRY_INFO!Q123)","v":0},{"$f":"IF(AND(INTRO!$E$37=\"Non endémique\",INTRO!$E$41=\"Non endémique\"),0,COUNTRY_INFO!S123)","v":1},{"$f":"IF($G123=1,IVM!$G123,0)","v":0},{"$f":"IF($G123=0, \" \", IF(COUNTRY_INFO!$H123=1, IF(COUNTRY_INFO!$L123=1, 0,\" \"),\" \"))","v":" "},null,"ALB",{"$f":"IF($L123=\"ALB\", IF(INTRO!$E$39=\"Non endémique\",IF($H123<>0,$D123*($H123-$G123),0),$D123*$H123), 0)","v":5504},9598,null,15102,{"$f":"IF($L123=\"MBD\", IF(INTRO!$E$39=\"Non endémique\",IF($H123<>0,$D123*($H123-$G123),0),$D123*$H123),0)","v":0},0,null,0,null,0,0,null,9598,48,null,0,0]
[{"$f":"IF(AND(INTRO!$E$37=\"Non endémique\",INTRO!$E$41=\"Non endémique\"),\" \",IF(COUNTRY_INFO!A124=0,\" \",COUNTRY_INFO!A124))","v":"Angola"},{"$f":"IF(AND(INTRO!$E$37=\"Non endémique\",INTRO!$E$41=\"Non endémique\"),\" \",IF(COUNTRY_INFO!B124=0,\" \",COUNTRY_INFO!B124))","v":"MALANGE"},{"$f":"IF(AND(INTRO!$E$37=\"Non endémique\",INTRO!$E$41=\"Non endémique\"),\" \",IF(COUNTRY_INFO!C124=0,\" \",COUNTRY_INFO!C124))","v":"CACUSO"},{"$f":"IF(AND(INTRO!$E$37=\"Non endémique\",INTRO!$E$41=\"Non endémique\"),0,IF(AND(OR(COUNTRY_INFO!$H124=0,COUNTRY_INFO!$H124=4,COUNTRY_INFO!$H124=99),OR(COUNTRY_INFO!$J124=0,COUNTRY_INFO!$J124=4)),0,COUNTRY_INFO!$E124))","v":13067},{"$f":"IF(AND(INTRO!$E$37=\"Non endémique\",INTRO!$E$41=\"Non endémique\"),0,IF(AND(OR(COUNTRY_INFO!$H124=0,COUNTRY_INFO!$H124=4,COUNTRY_INFO!$H124=99),OR(COUNTRY_INFO!$J124=0,COUNTRY_INFO!$J124=4)),0,COUNTRY_INFO!$F124))","v":22786},35853,{"$f":"IF(AND(INTRO!$E$37=\"Non endémique\",INTRO!$E$41=\"Non endémique\"),0,COUNTRY_INFO!Q124)","v":0},{"$f":"IF(AND(INTRO!$E$37=\"Non endémique\",INTRO!$E$41=\"Non endémique\"),0,COUNTRY_INFO!S124)","v":1},{"$f":"IF($G124=1,IVM!$G124,0)","v":0},{"$f":"IF($G124=0, \" \", IF(COUNTRY_INFO!$H124=1, IF(COUNTRY_INFO!$L124=1, 0,\" \"),\" \"))","v":" "},null,"ALB",{"$f":"IF($L124=\"ALB\", IF(INTRO!$E$39=\"Non endémique\",IF($H124<>0,$D124*($H124-$G124),0),$D124*$H124), 0)","v":13067},22786,null,35853,{"$f":"IF($L124=\"MBD\", IF(INTRO!$E$39=\"Non endémique\",IF($H124<>0,$D124*($H124-$G124),0),$D124*$H124),0)","v":0},0,null,0,null,0,0,null,22786,114,null,0,0]
[{"$f":"IF(AND(INTRO!$E$37=\"Non endémique\",INTRO!$E$41=\"Non endémique\"),\" \",IF(COUNTRY_INFO!A125=0,\" \",COUNTRY_INFO!A125))","v":"Angola"},{"$f":"IF(AND(INTRO!$E$37=\"Non endémique\",INTRO!$E$41=\"Non endémique\"),\" \",IF(COUNTRY_INFO!B125=0,\" \",COUNTRY_INFO!B125))","v":"MALANGE"},{"$f":"IF(AND(INTRO!$E$37=\"Non endémique\",INTRO!$E$41=\"Non endémique\"),\" \",IF(COUNTRY_INFO!C125=0,\" \",COUNTRY_INFO!C125))","v":"CAMBUNDI CATEMBO"},{"$f":"IF(AND(INTRO!$E$37=\"Non endémique\",INTRO!$E$41=\"Non endémique\"),0,IF(AND(OR(COUNTRY_INFO!$H125=0,COUNTRY_INFO!$H125=4,COUNTRY_INFO!$H125=99),OR(COUNTRY_INFO!$J125=0,COUNTRY_INFO!$J125=4)),0,COUNTRY_INFO!$E125))","v":8466},{"$f":"IF(AND(INTRO!$E$37=\"Non endémique\",INTRO!$E$41=\"Non endémique\"),0,IF(AND(OR(COUNTRY_INFO!$H125=0,COUNTRY_INFO!$H125=4,COUNTRY_INFO!$H125=99),OR(COUNTRY_INFO!$J125=0,COUNTRY_INFO!$J125=4)),0,COUNTRY_INFO!$F125))","v":14762},23228,{"$f":"IF(AND(INTRO!$E$37=\"Non endémique\",INTRO!$E$41=\"Non endémique\"),0,COUNTRY_INFO!Q125)","v":0},{"$f":"IF(AND(INTRO!$E$37=\"Non endémique\",INTRO!$E$41=\"Non endémique\"),0,COUNTRY_INFO!S125)","v":1},{"$f":"IF($G125=1,IVM!$G125,0)","v":0},{"$f":"IF($G125=0, \" \", IF(COUNTRY_INFO!$H125=1, IF(COUNTRY_INFO!$L125=1, 0,\" \"),\" \"))","v":" "},null,"ALB",{"$f":"IF($L125=\"ALB\", IF(INTRO!$E$39=\"Non endémique\",IF($H125<>0,$D125*($H125-$G125),0),$D125*$H125), 0)","v":8466},14762,null,23228,{"$f":"IF($L125=\"MBD\", IF(INTRO!$E$39=\"Non endémique\",IF($H125<>0,$D125*($H125-$G125),0),$D125*$H125),0)","v":0},0,null,0,null,0,0,null,14762,74,null,0,0]
[{"$f":"IF(AND(INTRO!$E$37=\"Non endémique\",INTRO!$E$41=\"Non endémique\"),\" \",IF(COUNTRY_INFO!A126=0,\" \",COUNTRY_INFO!A126))","v":"Angola"},{"$f":"IF(AND(INTRO!$E$37=\"Non endémique\",INTRO!$E$41=\"Non endémique\"),\" \",IF(COUNTRY_INFO!B126=0,\" \",COUNTRY_INFO!B126))","v":"MALANGE"},{"$f":"IF(AND(INTRO!$E$37=\"Non endémique\",INTRO!$E$41=\"Non endémique\"),\" \",IF(COUNTRY_INFO!C126=0,\" \",COUNTRY_INFO!C126))","v":"CANGANDALA"},{"$f":"IF(AND(INTRO!$E$37=\"Non endémique\",INTRO!$E$41=\"Non endémique\"),0,IF(AND(OR(COUNTRY_INFO!$H126=0,COUNTRY_INFO!$H126=4,COUNTRY_INFO!$H126=99),OR(COUNTRY_INFO!$J126=0,COUNTRY_INFO!$J126=4)),0,COUNTRY_INFO!$E126))","v":8248},{"$f":"IF(AND(INTRO!$E$37=\"Non endémique\",INTRO!$E$41=\"Non endémique\"),0,IF(AND(OR(COUNTRY_INFO!$H126=0,COUNTRY_INFO!$H126=4,COUNTRY_INFO!$H126=99),OR(COUNTRY_INFO!$J126=0,COUNTRY_INFO!$J126=4)),0,COUNTRY_INFO!$F126))","v":14382},22630,{"$f":"IF(AND(INTRO!$E$37=\"Non endémique\",INTRO!$E$41=\"Non endémique\"),0,COUNTRY_INFO!Q126)","v":0},{"$f":"IF(AND(INTRO!$E$37=\"Non endémique\",INTRO!$E$41=\"Non endémique\"),0,COUNTRY_INFO!S126)","v":1},{"$f":"IF($G126=1,IVM!$G126,0)","v":0},{"$f":"IF($G126=0, \" \", IF(COUNTRY_INFO!$H126=1, IF(COUNTRY_INFO!$L126=1, 0,\" \"),\" \"))","v":" "},null,"ALB",{"$f":"IF($L126=\"ALB\", IF(INTRO!$E$39=\"Non endémique\",IF($H126<>0,$D126*($H126-$G126),0),$D126*$H126), 0)","v":8248},14382,null,22630,{"$f":"IF($L126=\"MBD\", IF(INTRO!$E$39=\"Non endémique\",IF($H126<>0,$D126*($H126-$G126),0),$D126*$H126),0)","v":0},0,null,0,null,0,0,null,14382,72,null,0,0]
[{"$f":"IF(AND(INTRO!$E$37=\"Non endémique\",INTRO!$E$41=\"Non endémique\"),\" \",IF(COUNTRY_INFO!A127=0,\" \",COUNTRY_INFO!A127))","v":"Angola"},{"$f":"IF(AND(INTRO!$E$37=\"Non endémique\",INTRO!$E$41=\"Non endémique\"),\" \",IF(COUNTRY_INFO!B127=0,\" \",COUNTRY_INFO!B127))","v":"MALANGE"},{"$f":"IF(AND(INTRO!$E$37=\"Non endémique\",INTRO!$E$41=\"Non endémique\"),\" \",IF(COUNTRY_INFO!C127=0,\" \",COUNTRY_INFO!C127))","v":"KAHOMBO"},{"$f":"IF(AND(INTRO!$E$37=\"Non endémique\",INTRO!$E$41=\"Non endémique\"),0,IF(AND(OR(COUNTRY_INFO!$H127=0,COUNTRY_INFO!$H127=4,COUNTRY_INFO!$H127=99),OR(COUNTRY_INFO!$J127=0,COUNTRY_INFO!$J127=4)),0,COUNTRY_INFO!$E127))","v":3932},{"$f":"IF(AND(INTRO!$E$37=\"Non endémique\",INTRO!$E$41=\"Non endémique\"),0,IF(AND(OR(COUNTRY_INFO!$H127=0,COUNTRY_INFO!$H127=4,COUNTRY_INFO!$H127=99),OR(COUNTRY_INFO!$J127=0,COUNTRY_INFO!$J127=4)),0,COUNTRY_INFO!$F127))","v":6857},10789,{"$f":"IF(AND(INTRO!$E$37=\"Non endémique\",INTRO!$E$41=\"Non endémique\"),0,COUNTRY_INFO!Q127)","v":0},{"$f":"IF(AND(INTRO!$E$37=\"Non endémique\",INTRO!$E$41=\"Non endémique\"),0,COUNTRY_INFO!S127)","v":1},{"$f":"IF($G127=1,IVM!$G127,0)","v":0},{"$f":"IF($G127=0, \" \", IF(COUNTRY_INFO!$H127=1, IF(COUNTRY_INFO!$L127=1, 0,\" \"),\" \"))","v":" "},null,"ALB",{"$f":"IF($L127=\"ALB\", IF(INTRO!$E$39=\"Non endémique\",IF($H127<>0,$D127*($H127-$G127),0),$D127*$H127), 0)","v":3932},6857,null,10789,{"$f":"IF($L127=\"MBD\", IF(INTRO!$E$39=\"Non endémique\",IF($H127<>0,$D127*($H127-$G127),0),$D127*$H127),0)","v":0},0,null,0,null,0,0,null,6857,35,null,0,0]
[{"$f":"IF(AND(INTRO!$E$37=\"Non endémique\",INTRO!$E$41=\"Non endémique\"),\" \",IF(COUNTRY_INFO!A128=0,\" \",COUNTRY_INFO!A128))","v":"Angola"},{"$f":"IF(AND(INTRO!$E$37=\"Non endémique\",INTRO!$E$41=\"Non endémique\"),\" \",IF(COUNTRY_INFO!B128=0,\" \",COUNTRY_INFO!B128))","v":"MALANGE"},{"$f":"IF(AND(INTRO!$E$37=\"Non endémique\",INTRO!$E$41=\"Non endémique\"),\" \",IF(COUNTRY_INFO!C128=0,\" \",COUNTRY_INFO!C128))","v":"KALANDULA"},{"$f":"IF(AND(INTRO!$E$37=\"Non endémique\",INTRO!$E$41=\"Non endémique\"),0,IF(AND(OR(COUNTRY_INFO!$H128=0,COUNTRY_INFO!$H128=4,COUNTRY_INFO!$H128=99),OR(COUNTRY_INFO!$J128=0,COUNTRY_INFO!$J128=4)),0,COUNTRY_INFO!$E128))","v":14700},{"$f":"IF(AND(INTRO!$E$37=\"Non endémique\",INTRO!$E$41=\"Non endémique\"),0,IF(AND(OR(COUNTRY_INFO!$H128=0,COUNTRY_INFO!$H128=4,COUNTRY_INFO!$H128=99),OR(COUNTRY_INFO!$J128=0,COUNTRY_INFO!$J128=4)),0,COUNTRY_INFO!$F128))","v":25633},40333,{"$f":"IF(AND(INTRO!$E$37=\"Non endémique\",INTRO!$E$41=\"Non endémique\"),0,COUNTRY_INFO!Q128)","v":0},{"$f":"IF(AND(INTRO!$E$37=\"Non endémique\",INTRO!$E$41=\"Non endémique\"),0,COUNTRY_INFO!S128)","v":1},{"$f":"IF($G128=1,IVM!$G128,0)","v":0},{"$f":"IF($G128=0, \" \", IF(COUNTRY_INFO!$H128=1, IF(COUNTRY_INFO!$L128=1, 0,\" \"),\" \"))","v":" "},null,"ALB",{"$f":"IF($L128=\"ALB\", IF(INTRO!$E$39=\"Non endémique\",IF($H128<>0,$D128*($H128-$G128),0),$D128*$H128), 0)","v":14700},25633,null,40333,{"$f":"IF($L128=\"MBD\", IF(INTRO!$E$39=\"Non endémique\",IF($H128<>0,$D128*($H128-$G128),0),$D128*$H128),0)","v":0},0,null,0,null,0,0,null,25633,129,null,0,0]
[{"$f":"IF(AND(INTRO!$E$37=\"Non endémique\",INTRO!$E$41=\"Non endémique\"),\" \",IF(COUNTRY_INFO!A129=0,\" \",COUNTRY_INFO!A129))","v":"Angola"},{"$f":"IF(AND(INTRO!$E$37=\"Non endémique\",INTRO!$E$41=\"Non endémique\"),\" \",IF(COUNTRY_INFO!B129=0,\" \",COUNTRY_INFO!B129))","v":"MALANGE"},{"$f":"IF(AND(INTRO!$E$37=\"Non endémique\",INTRO!$E$41=\"Non endémique\"),\" \",IF(COUNTRY_INFO!C129=0,\" \",COUNTRY_INFO!C129))","v":"KIWABA NZOGI"},{"$f":"IF(AND(INTRO!$E$37=\"Non endémique\",INTRO!$E$41=\"Non endémique\"),0,IF(AND(OR(COUNTRY_INFO!$H129=0,COUNTRY_INFO!$H129=4,COUNTRY_INFO!$H129=99),OR(COUNTRY_INFO!$J129=0,COUNTRY_INFO!$J129=4)),0,COUNTRY_INFO!$E129))","v":2903},{"$f":"IF(AND(INTRO!$E$37=\"Non endémique\",INTRO!$E$41=\"Non endémique\"),0,IF(AND(OR(COUNTRY_INFO!$H129=0,COUNTRY_INFO!$H129=4,COUNTRY_INFO!$H129=99),OR(COUNTRY_INFO!$J129=0,COUNTRY_INFO!$J129=4)),0,COUNTRY_INFO!$F129))","v":5062},7965,{"$f":"IF(AND(INTRO!$E$37=\"Non endémique\",INTRO!$E$41=\"Non endémique\"),0,COUNTRY_INFO!Q129)","v":0},{"$f":"IF(AND(INTRO!$E$37=\"Non endémique\",INTRO!$E$41=\"Non endémique\"),0,COUNTRY_INFO!S129)","v":1},{"$f":"IF($G129=1,IVM!$G129,0)","v":0},{"$f":"IF($G129=0, \" \", IF(COUNTRY_INFO!$H129=1, IF(COUNTRY_INFO!$L129=1, 0,\" \"),\" \"))","v":" "},null,"ALB",{"$f":"IF($L129=\"ALB\", IF(INTRO!$E$39=\"Non endémique\",IF($H129<>0,$D129*($H129-$G129),0),$D129*$H129), 0)","v":2903},5062,null,7965,{"$f":"IF($L129=\"MBD\", IF(INTRO!$E$39=\"Non endémique\",IF($H129<>0,$D129*($H129-$G129),0),$D129*$H129),0)","v":0},0,null,0,null,0,0,null,5062,26,null,0,0]
[{"$f":"IF(AND(INTRO!$E$37=\"Non endémique\",INTRO!$E$41=\"Non endémique\"),\" \",IF(COUNTRY_INFO!A130=0,\" \",COUNTRY_INFO!A130))","v":"Angola"},{"$f":"IF(AND(INTRO!$E$37=\"Non endémique\",INTRO!$E$41=\"Non endémique\"),\" \",IF(COUNTRY_INFO!B130=0,\" \",COUNTRY_INFO!B130))","v":"MALANGE"},{"$f":"IF(AND(INTRO!$E$37=\"Non endémique\",INTRO!$E$41=\"Non endémique\"),\" \",IF(COUNTRY_INFO!C130=0,\" \",COUNTRY_INFO!C130))","v":"KUNDA DIA BASE"},{"$f":"IF(AND(INTRO!$E$37=\"Non endémique\",INTRO!$E$41=\"Non endémique\"),0,IF(AND(OR(COUNTRY_INFO!$H130=0,COUNTRY_INFO!$H130=4,COUNTRY_INFO!$H130=99),OR(COUNTRY_INFO!$J130=0,COUNTRY_INFO!$J130=4)),0,COUNTRY_INFO!$E130))","v":2307},{"$f":"IF(AND(INTRO!$E$37=\"Non endémique\",INTRO!$E$41=\"Non endémique\"),0,IF(AND(OR(COUNTRY_INFO!$H130=0,COUNTRY_INFO!$H130=4,COUNTRY_INFO!$H130=99),OR(COUNTRY_INFO!$J130=0,COUNTRY_INFO!$J130=4)),0,COUNTRY_INFO!$F130))","v":4023},6330,{"$f":"IF(AND(INTRO!$E$37=\"Non endémique\",INTRO!$E$41=\"Non endémique\"),0,COUNTRY_INFO!Q130)","v":0},{"$f":"IF(AND(INTRO!$E$37=\"Non endémique\",INTRO!$E$41=\"Non endémique\"),0,COUNTRY_INFO!S130)","v":1},{"$f":"IF($G130=1,IVM!$G130,0)","v":0},{"$f":"IF($G130=0, \" \", IF(COUNTRY_INFO!$H130=1, IF(COUNTRY_INFO!$L130=1, 0,\" \"),\" \"))","v":" "},null,"ALB",{"$f":"IF($L130=\"ALB\", IF(INTRO!$E$39=\"Non endémique\",IF($H130<>0,$D130*($H130-$G130),0),$D130*$H130), 0)","v":2307},4023,null,6330,{"$f":"IF($L130=\"MBD\", IF(INTRO!$E$39=\"Non endémique\",IF($H130<>0,$D130*($H130-$G130),0),$D130*$H130),0)","v":0},0,null,0,null,0,0,null,4023,21,null,0,0]
[{"$f":"IF(AND(INTRO!$E$37=\"Non endémique\",INTRO!$E$41=\"Non endémique\"),\" \",IF(COUNTRY_INFO!A131=0,\" \",COUNTRY_INFO!A131))","v":"Angola"},{"$f":"IF(AND(INTRO!$E$37=\"Non endémique\",INTRO!$E$41=\"Non endémique\"),\" \",IF(COUNTRY_INFO!B131=0,\" \",COUNTRY_INFO!B131))","v":"MALANGE"},{"$f":"IF(AND(INTRO!$E$37=\"Non endémique\",INTRO!$E$41=\"Non endémique\"),\" \",IF(COUNTRY_INFO!C131=0,\" \",COUNTRY_INFO!C131))","v":"LUQUEMBO"},{"$f":"IF(AND(INTRO!$E$37=\"Non endémique\",INTRO!$E$41=\"Non endémique\"),0,IF(AND(OR(COUNTRY_INFO!$H131=0,COUNTRY_INFO!$H131=4,COUNTRY_INFO!$H131=99),OR(COUNTRY_INFO!$J131=0,COUNTRY_INFO!$J131=4)),0,COUNTRY_INFO!$E131))","v":10032},{"$f":"IF(AND(INTRO!$E$37=\"Non endémique\",INTRO!$E$41=\"Non endémique\"),0,IF(AND(OR(COUNTRY_INFO!$H131=0,COUNTRY_INFO!$H131=4,COUNTRY_INFO!$H131=99),OR(COUNTRY_INFO!$J131=0,COUNTRY_INFO!$J131=4)),0,COUNTRY_INFO!$F131))","v":17493},27525,{"$f":"IF(AND(INTRO!$E$37=\"Non endémique\",INTRO!$E$41=\"Non endémique\"),0,COUNTRY_INFO!Q131)","v":0},{"$f":"IF(AND(INTRO!$E$37=\"Non endémique\",INTRO!$E$41=\"Non endémique\"),0,COUNTRY_INFO!S131)","v":1},{"$f":"IF($G131=1,IVM!$G131,0)","v":0},{"$f":"IF($G131=0, \" \", IF(COUNTRY_INFO!$H131=1, IF(COUNTRY_INFO!$L131=1, 0,\" \"),\" \"))","v":" "},null,"ALB",{"$f":"IF($L131=\"ALB\", IF(INTRO!$E$39=\"Non endémique\",IF($H131<>0,$D131*($H131-$G131),0),$D131*$H131), 0)","v":10032},17493,null,27525,{"$f":"IF($L131=\"MBD\", IF(INTRO!$E$39=\"Non endémique\",IF($H131<>0,$D131*($H131-$G131),0),$D131*$H131),0)","v":0},0,null,0,null,0,0,null,17493,88,null,0,0]
[{"$f":"IF(AND(INTRO!$E$37=\"Non endémique\",INTRO!$E$41=\"Non endémique\"),\" \",IF(COUNTRY_INFO!A132=0,\" \",COUNTRY_INFO!A132))","v":"Angola"},{"$f":"IF(AND(INTRO!$E$37=\"Non endémique\",INTRO!$E$41=\"Non endémique\"),\" \",IF(COUNTRY_INFO!B132=0,\" \",COUNTRY_INFO!B132))","v":"MALANJE"},{"$f":"IF(AND(INTRO!$E$37=\"Non endémique\",INTRO!$E$41=\"Non endémique\"),\" \",IF(COUNTRY_INFO!C132=0,\" \",COUNTRY_INFO!C132))","v":"MALANJE"},{"$f":"IF(AND(INTRO!$E$37=\"Non endémique\",INTRO!$E$41=\"Non endémique\"),0,IF(AND(OR(COUNTRY_INFO!$H132=0,COUNTRY_INFO!$H132=4,COUNTRY_INFO!$H132=99),OR(COUNTRY_INFO!$J132=0,COUNTRY_INFO!$J132=4)),0,COUNTRY_INFO!$E132))","v":92651},{"$f":"IF(AND(INTRO!$E$37=\"Non endémique\",INTRO!$E$41=\"Non endémique\"),0,IF(AND(OR(COUNTRY_INFO!$H132=0,COUNTRY_INFO!$H132=4,COUNTRY_INFO!$H132=99),OR(COUNTRY_INFO!$J132=0,COUNTRY_INFO!$J132=4)),0,COUNTRY_INFO!$F132))","v":161560},254211,{"$f":"IF(AND(INTRO!$E$37=\"Non endémique\",INTRO!$E$41=\"Non endémique\"),0,COUNTRY_INFO!Q132)","v":0},{"$f":"IF(AND(INTRO!$E$37=\"Non endémique\",INTRO!$E$41=\"Non endémique\"),0,COUNTRY_INFO!S132)","v":1},{"$f":"IF($G132=1,IVM!$G132,0)","v":0},{"$f":"IF($G132=0, \" \", IF(COUNTRY_INFO!$H132=1, IF(COUNTRY_INFO!$L132=1, 0,\" \"),\" \"))","v":" "},null,"ALB",{"$f":"IF($L132=\"ALB\", IF(INTRO!$E$39=\"Non endémique\",IF($H132<>0,$D132*($H132-$G132),0),$D132*$H132), 0)","v":92651},161560,null,254211,{"$f":"IF($L132=\"MBD\", IF(INTRO!$E$39=\"Non endémique\",IF($H132<>0,$D132*($H132-$G132),0),$D132*$H132),0)","v":0},0,null,0,null,0,0,null,161560,808,null,0,0]
[{"$f":"IF(AND(INTRO!$E$37=\"Non endémique\",INTRO!$E$41=\"Non endémique\"),\" \",IF(COUNTRY_INFO!A133=0,\" \",COUNTRY_INFO!A133))","v":"Angola"},{"$f":"IF(AND(INTRO!$E$37=\"Non endémique\",INTRO!$E$41=\"Non endémique\"),\" \",IF(COUNTRY_INFO!B133=0,\" \",COUNTRY_INFO!B133))","v":"MALANGE"},{"$f":"IF(AND(INTRO!$E$37=\"Non endémique\",INTRO!$E$41=\"Non endémique\"),\" \",IF(COUNTRY_INFO!C133=0,\" \",COUNTRY_INFO!C133))","v":"MARIMBA"},{"$f":"IF(AND(INTRO!$E$37=\"Non endémique\",INTRO!$E$41=\"Non endémique\"),0,IF(AND(OR(COUNTRY_INFO!$H133=0,COUNTRY_INFO!$H133=4,COUNTRY_INFO!$H133=99),OR(COUNTRY_INFO!$J133=0,COUNTRY_INFO!$J133=4)),0,COUNTRY_INFO!$E133))","v":4786},{"$f":"IF(AND(INTRO!$E$37=\"Non endémique\",INTRO!$E$41=\"Non endémique\"),0,IF(AND(OR(COUNTRY_INFO!$H133=0,COUNTRY_INFO!$H133=4,COUNTRY_INFO!$H133=99),OR(COUNTRY_INFO!$J133=0,COUNTRY_INFO!$J133=4)),0,COUNTRY_INFO!$F133))","v":8345},13131,{"$f":"IF(AND(INTRO!$E$37=\"Non endémique\",INTRO!$E$41=\"Non endémique\"),0,COUNTRY_INFO!Q133)","v":0},{"$f":"IF(AND(INTRO!$E$37=\"Non endémique\",INTRO!$E$41=\"Non endémique\"),0,COUNTRY_INFO!S133)","v":1},{"$f":"IF($G133=1,IVM!$G133,0)","v":0},{"$f":"IF($G133=0, \" \", IF(COUNTRY_INFO!$H133=1, IF(COUNTRY_INFO!$L133=1, 0,\" \"),\" \"))","v":" "},null,"ALB",{"$f":"IF($L133=\"ALB\", IF(INTRO!$E$39=\"Non endémique\",IF($H133<>0,$D133*($H133-$G133),0),$D133*$H133), 0)","v":4786},8345,null,13131,{"$f":"IF($L133=\"MBD\", IF(INTRO!$E$39=\"Non endémique\",IF($H133<>0,$D133*($H133-$G133),0),$D133*$H133),0)","v":0},0,null,0,null,0,0,null,8345,42,null,0,0]
[{"$f":"IF(AND(INTRO!$E$37=\"Non endémique\",INTRO!$E$41=\"Non endémique\"),\" \",IF(COUNTRY_INFO!A134=0,\" \",COUNTRY_INFO!A134))","v":"Angola"},{"$f":"IF(AND(INTRO!$E$37=\"Non endémique\",INTRO!$E$41=\"Non endémique\"),\" \",IF(COUNTRY_INFO!B134=0,\" \",COUNTRY_INFO!B134))","v":"MALANGE"},{"$f":"IF(AND(INTRO!$E$37=\"Non endémique\",INTRO!$E$41=\"Non endémique\"),\" \",IF(COUNTRY_INFO!C134=0,\" \",COUNTRY_INFO!C134))","v":"MASSANGO"},{"$f":"IF(AND(INTRO!$E$37=\"Non endémique\",INTRO!$E$41=\"Non endémique\"),0,IF(AND(OR(COUNTRY_INFO!$H134=0,COUNTRY_INFO!$H134=4,COUNTRY_INFO!$H134=99),OR(COUNTRY_INFO!$J134=0,COUNTRY_INFO!$J134=4)),0,COUNTRY_INFO!$E134))","v":6017},{"$f":"IF(AND(INTRO!$E$37=\"Non endémique\",INTRO!$E$41=\"Non endémique\"),0,IF(AND(OR(COUNTRY_INFO!$H134=0,COUNTRY_INFO!$H134=4,COUNTRY_INFO!$H134=99),OR(COUNTRY_INFO!$J134=0,COUNTRY_INFO!$J134=4)),0,COUNTRY_INFO!$F134))","v":10493},16510,{"$f":"IF(AND(INTRO!$E$37=\"Non endémique\",INTRO!$E$41=\"Non endémique\"),0,COUNTRY_INFO!Q134)","v":0},{"$f":"IF(AND(INTRO!$E$37=\"Non endémique\",INTRO!$E$41=\"Non endémique\"),0,COUNTRY_INFO!S134)","v":1},{"$f":"IF($G134=1,IVM!$G134,0)","v":0},{"$f":"IF($G134=0, \" \", IF(COUNTRY_INFO!$H134=1, IF(COUNTRY_INFO!$L134=1, 0,\" \"),\" \"))","v":" "},null,"ALB",{"$f":"IF($L134=\"ALB\", IF(INTRO!$E$39=\"Non endémique\",IF($H134<>0,$D134*($H134-$G134),0),$D134*$H134), 0)","v":6017},10493,null,16510,{"$f":"IF($L134=\"MBD\", IF(INTRO!$E$39=\"Non endémique\",IF($H134<>0,$D134*($H134-$G134),0),$D134*$H134),0)","v":0},0,null,0,null,0,0,null,10493,53,null,0,0]
[{"$f":"IF(AND(INTRO!$E$37=\"Non endémique\",INTRO!$E$41=\"Non endémique\"),\" \",IF(COUNTRY_INFO!A135=0,\" \",COUNTRY_INFO!A135))","v":"Angola"},{"$f":"IF(AND(INTRO!$E$37=\"Non endémique\",INTRO!$E$41=\"Non endémique\"),\" \",IF(COUNTRY_INFO!B135=0,\" \",COUNTRY_INFO!B135))","v":"MALANGE"},{"$f":"IF(AND(INTRO!$E$37=\"Non endémique\",INTRO!$E$41=\"Non endémique\"),\" \",IF(COUNTRY_INFO!C135=0,\" \",COUNTRY_INFO!C135))","v":"QUELA"},{"$f":"IF(AND(INTRO!$E$37=\"Non endémique\",INTRO!$E$41=\"Non endémique\"),0,IF(AND(OR(COUNTRY_INFO!$H135=0,COUNTRY_INFO!$H135=4,COUNTRY_INFO!$H135=99),OR(COUNTRY_INFO!$J135=0,COUNTRY_INFO!$J135=4)),0,COUNTRY_INFO!$E135))","v":3829},{"$f":"IF(AND(INTRO!$E$37=\"Non endémique\",INTRO!$E$41=\"Non endémique\"),0,IF(AND(OR(COUNTRY_INFO!$H135=0,COUNTRY_INFO!$H135=4,COUNTRY_INFO!$H135=99),OR(COUNTRY_INFO!$J135=0,COUNTRY_INFO!$J135=4)),0,COUNTRY_INFO!$F135))","v":6678},10507,{"$f":"IF(AND(INTRO!$E$37=\"Non endémique\",INTRO!$E$41=\"Non endémique\"),0,COUNTRY_INFO!Q135)","v":0},{"$f":"IF(AND(INTRO!$E$37=\"Non endémique\",INTRO!$E$41=\"Non endémique\"),0,COUNTRY_INFO!S135)","v":1},{"$f":"IF($G135=1,IVM!$G135,0)","v":0},{"$f":"IF($G135=0, \" \", IF(COUNTRY_INFO!$H135=1, IF(COUNTRY_INFO!$L135=1, 0,\" \"),\" \"))","v":" "},null,"ALB",{"$f":"IF($L135=\"ALB\", IF(INTRO!$E$39=\"Non endémique\",IF($H135<>0,$D135*($H135-$G135),0),$D135*$H135), 0)","v":3829},6678,null,10507,{"$f":"IF($L135=\"MBD\", IF(INTRO!$E$39=\"Non endémique\",IF($H135<>0,$D135*($H135-$G135),0),$D135*$H135),0)","v":0},0,null,0,null,0,0,null,6678,34,null,0,0]
[{"$f":"IF(AND(INTRO!$E$37=\"Non endémique\",INTRO!$E$41=\"Non endémique\"),\" \",IF(COUNTRY_INFO!A136=0,\" \",COUNTRY_INFO!A136))","v":"Angola"},{"$f":"IF(AND(INTRO!$E$37=\"Non endémique\",INTRO!$E$41=\"Non endémique\"),\" \",IF(COUNTRY_INFO!B136=0,\" \",COUNTRY_INFO!B136))","v":"MALANGE"},{"$f":"IF(AND(INTRO!$E$37=\"Non endémique\",INTRO!$E$41=\"Non endémique\"),\" \",IF(COUNTRY_INFO!C136=0,\" \",COUNTRY_INFO!C136))","v":"QUIRIMA"},{"$f":"IF(AND(INTRO!$E$37=\"Non endémique\",INTRO!$E$41=\"Non endémique\"),0,IF(AND(OR(COUNTRY_INFO!$H136=0,COUNTRY_INFO!$H136=4,COUNTRY_INFO!$H136=99),OR(COUNTRY_INFO!$J136=0,COUNTRY_INFO!$J136=4)),0,COUNTRY_INFO!$E136))","v":3863},{"$f":"IF(AND(INTRO!$E$37=\"Non endémique\",INTRO!$E$41=\"Non endémique\"),0,IF(AND(OR(COUNTRY_INFO!$H136=0,COUNTRY_INFO!$H136=4,COUNTRY_INFO!$H136=99),OR(COUNTRY_INFO!$J136=0,COUNTRY_INFO!$J136=4)),0,COUNTRY_INFO!$F136))","v":6737},10600,{"$f":"IF(AND(INTRO!$E$37=\"Non endémique\",INTRO!$E$41=\"Non endémique\"),0,COUNTRY_INFO!Q136)","v":0},{"$f":"IF(AND(INTRO!$E$37=\"Non endémique\",INTRO!$E$41=\"Non endémique\"),0,COUNTRY_INFO!S136)","v":1},{"$f":"IF($G136=1,IVM!$G136,0)","v":0},{"$f":"IF($G136=0, \" \", IF(COUNTRY_INFO!$H136=1, IF(COUNTRY_INFO!$L136=1, 0,\" \"),\" \"))","v":" "},null,"ALB",{"$f":"IF($L136=\"ALB\", IF(INTRO!$E$39=\"Non endémique\",IF($H136<>0,$D136*($H136-$G136),0),$D136*$H136), 0)","v":3863},6737,null,10600,{"$f":"IF($L136=\"MBD\", IF(INTRO!$E$39=\"Non endémique\",IF($H136<>0,$D136*($H136-$G136),0),$D136*$H136),0)","v":0},0,null,0,null,0,0,null,6737,34,null,0,0]
[{"$f":"IF(AND(INTRO!$E$37=\"Non endémique\",INTRO!$E$41=\"Non endémique\"),\" \",IF(COUNTRY_INFO!A137=0,\" \",COUNTRY_INFO!A137))","v":"Angola"},{"$f":"IF(AND(INTRO!$E$37=\"Non endémique\",INTRO!$E$41=\"Non endémique\"),\" \",IF(COUNTRY_INFO!B137=0,\" \",COUNTRY_INFO!B137))","v":"MOXICO"},{"$f":"IF(AND(INTRO!$E$37=\"Non endémique\",INTRO!$E$41=\"Non endémique\"),\" \",IF(COUNTRY_INFO!C137=0,\" \",COUNTRY_INFO!C137))","v":"ALTO ZAMBEZE"},{"$f":"IF(AND(INTRO!$E$37=\"Non endémique\",INTRO!$E$41=\"Non endémique\"),0,IF(AND(OR(COUNTRY_INFO!$H137=0,COUNTRY_INFO!$H137=4,COUNTRY_INFO!$H137=99),OR(COUNTRY_INFO!$J137=0,COUNTRY_INFO!$J137=4)),0,COUNTRY_INFO!$E137))","v":2642},{"$f":"IF(AND(INTRO!$E$37=\"Non endémique\",INTRO!$E$41=\"Non endémique\"),0,IF(AND(OR(COUNTRY_INFO!$H137=0,COUNTRY_INFO!$H137=4,COUNTRY_INFO!$H137=99),OR(COUNTRY_INFO!$J137=0,COUNTRY_INFO!$J137=4)),0,COUNTRY_INFO!$F137))","v":4606},{"$f":"SUM(D137:E137)","v":7248},{"$f":"IF(AND(INTRO!$E$37=\"Non endémique\",INTRO!$E$41=\"Non endémique\"),0,COUNTRY_INFO!Q137)","v":0},{"$f":"IF(AND(INTRO!$E$37=\"Non endémique\",INTRO!$E$41=\"Non endémique\"),0,COUNTRY_INFO!S137)","v":1},{"$f":"IF($G137=1,IVM!$G137,0)","v":0},{"$f":"IF($G137=0, \" \", IF(COUNTRY_INFO!$H137=1, IF(COUNTRY_INFO!$L137=1, 0,\" \"),\" \"))","v":" "},null,"ALB",{"$f":"IF($L137=\"ALB\", IF(INTRO!$E$39=\"Non endémique\",IF($H137<>0,$D137*($H137-$G137),0),$D137*$H137), 0)","v":2642},{"$f":"IF($L137=\"ALB\", IF($H137<>0, IF($I137=0, $E137*$H137, $E137*($H137-$G137)),0), 0)","v":4606},null,{"$f":"SUM(M137:O137)","v":7248},{"$f":"IF($L137=\"MBD\", IF(INTRO!$E$39=\"Non endémique\",IF($H137<>0,$D137*($H137-$G137),0),$D137*$H137),0)","v":0},{"$f":"IF($L137=\"MBD\", IF($H137<>0,IF($I137=0, $E137*$H137, $E137*($H137-$G137)),0), 0 )","v":0},null,{"$f":"SUM(Q137:S137)","v":0},null,{"$f":"IF($J137<>\" \", IF(($I137+$J137*$K137)>$U137, ($I137+$J137*$K137)-$U137,0), IF($I137>$U137, $I137-$U137, 0))","v":0},{"$f":"IF($J137<>\" \", ROUNDUP(($I137+$J137*$K137)/200,0), ROUNDUP($I137/200,0))","v":0},null,{"$f":"IF($N137>$X137,$N137-$X137,0)","v":4606},{"$f":"ROUNDUP($N137/200,0)","v":24},null,{"$f":"IF($R137>$AA137,$R137-$AA137,0)","v":0},{"$f":"ROUNDUP($R137/150,0)","v":0}]
[{"$f":"IF(AND(INTRO!$E$37=\"Non endémique\",INTRO!$E$41=\"Non endémique\"),\" \",IF(COUNTRY_INFO!A138=0,\" \",COUNTRY_INFO!A138))","v":"Angola"},{"$f":"IF(AND(INTRO!$E$37=\"Non endémique\",INTRO!$E$41=\"Non endémique\"),\" \",IF(COUNTRY_INFO!B138=0,\" \",COUNTRY_INFO!B138))","v":"MOXICO"},{"$f":"IF(AND(INTRO!$E$37=\"Non endémique\",INTRO!$E$41=\"Non endémique\"),\" \",IF(COUNTRY_INFO!C138=0,\" \",COUNTRY_INFO!C138))","v":"CAMANONGUE"},{"$f":"IF(AND(INTRO!$E$37=\"Non endémique\",INTRO!$E$41=\"Non endémique\"),0,IF(AND(OR(COUNTRY_INFO!$H138=0,COUNTRY_INFO!$H138=4,COUNTRY_INFO!$H138=99),OR(COUNTRY_INFO!$J138=0,COUNTRY_INFO!$J138=4)),0,COUNTRY_INFO!$E138))","v":6246},{"$f":"IF(AND(INTRO!$E$37=\"Non endémique\",INTRO!$E$41=\"Non endémique\"),0,IF(AND(OR(COUNTRY_INFO!$H138=0,COUNTRY_INFO!$H138=4,COUNTRY_INFO!$H138=99),OR(COUNTRY_INFO!$J138=0,COUNTRY_INFO!$J138=4)),0,COUNTRY_INFO!$F138))","v":10891},17137,{"$f":"IF(AND(INTRO!$E$37=\"Non endémique\",INTRO!$E$41=\"Non endémique\"),0,COUNTRY_INFO!Q138)","v":0},{"$f":"IF(AND(INTRO!$E$37=\"Non endémique\",INTRO!$E$41=\"Non endémique\"),0,COUNTRY_INFO!S138)","v":1},{"$f":"IF($G138=1,IVM!$G138,0)","v":0},{"$f":"IF($G138=0, \" \", IF(COUNTRY_INFO!$H138=1, IF(COUNTRY_INFO!$L138=1, 0,\" \"),\" \"))","v":" "},null,"ALB",{"$f":"IF($L138=\"ALB\", IF(INTRO!$E$39=\"Non endémique\",IF($H138<>0,$D138*($H138-$G138),0),$D138*$H138), 0)","v":6246},10891,null,17137,{"$f":"IF($L138=\"MBD\", IF(INTRO!$E$39=\"Non endémique\",IF($H138<>0,$D138*($H138-$G138),0),$D138*$H138),0)","v":0},0,null,0,null,0,0,null,10891,55,null,0,0]
[{"$f":"IF(AND(INTRO!$E$37=\"Non endémique\",INTRO!$E$41=\"Non endémique\"),\" \",IF(COUNTRY_INFO!A139=0,\" \",COUNTRY_INFO!A139))","v":"Angola"},{"$f":"IF(AND(INTRO!$E$37=\"Non endémique\",INTRO!$E$41=\"Non endémique\"),\" \",IF(COUNTRY_INFO!B139=0,\" \",COUNTRY_INFO!B139))","v":"MOXICO"},{"$f":"IF(AND(INTRO!$E$37=\"Non endémique\",INTRO!$E$41=\"Non endémique\"),\" \",IF(COUNTRY_INFO!C139=0,\" \",COUNTRY_INFO!C139))","v":"LEUA"},{"$f":"IF(AND(INTRO!$E$37=\"Non endémique\",INTRO!$E$41=\"Non endémique\"),0,IF(AND(OR(COUNTRY_INFO!$H139=0,COUNTRY_INFO!$H139=4,COUNTRY_INFO!$H139=99),OR(COUNTRY_INFO!$J139=0,COUNTRY_INFO!$J139=4)),0,COUNTRY_INFO!$E139))","v":3391},{"$f":"IF(AND(INTRO!$E$37=\"Non endémique\",INTRO!$E$41=\"Non endémique\"),0,IF(AND(OR(COUNTRY_INFO!$H139=0,COUNTRY_INFO!$H139=4,COUNTRY_INFO!$H139=99),OR(COUNTRY_INFO!$J139=0,COUNTRY_INFO!$J139=4)),0,COUNTRY_INFO!$F139))","v":5913},9304,{"$f":"IF(AND(INTRO!$E$37=\"Non endémique\",INTRO!$E$41=\"Non endémique\"),0,COUNTRY_INFO!Q139)","v":0},{"$f":"IF(AND(INTRO!$E$37=\"Non endémique\",INTRO!$E$41=\"Non endémique\"),0,COUNTRY_INFO!S139)","v":1},{"$f":"IF($G139=1,IVM!$G139,0)","v":0},{"$f":"IF($G139=0, \" \", IF(COUNTRY_INFO!$H139=1, IF(COUNTRY_INFO!$L139=1, 0,\" \"),\" \"))","v":" "},null,"ALB",{"$f":"IF($L139=\"ALB\", IF(INTRO!$E$39=\"Non endémique\",IF($H139<>0,$D139*($H139-$G139),0),$D139*$H139), 0)","v":3391},5913,null,9304,{"$f":"IF($L139=\"MBD\", IF(INTRO!$E$39=\"Non endémique\",IF($H139<>0,$D139*($H139-$G139),0),$D139*$H139),0)","v":0},0,null,0,null,0,0,null,5913,30,null,0,0]
[{"$f":"IF(AND(INTRO!$E$37=\"Non endémique\",INTRO!$E$41=\"Non endémique\"),\" \",IF(COUNTRY_INFO!A140=0,\" \",COUNTRY_INFO!A140))","v":"Angola"},{"$f":"IF(AND(INTRO!$E$37=\"Non endémique\",INTRO!$E$41=\"Non endémique\"),\" \",IF(COUNTRY_INFO!B140=0,\" \",COUNTRY_INFO!B140))","v":"MOXICO"},{"$f":"IF(AND(INTRO!$E$37=\"Non endémique\",INTRO!$E$41=\"Non endémique\"),\" \",IF(COUNTRY_INFO!C140=0,\" \",COUNTRY_INFO!C140))","v":"LUACANO"},{"$f":"IF(AND(INTRO!$E$37=\"Non endémique\",INTRO!$E$41=\"Non endémique\"),0,IF(AND(OR(COUNTRY_INFO!$H140=0,COUNTRY_INFO!$H140=4,COUNTRY_INFO!$H140=99),OR(COUNTRY_INFO!$J140=0,COUNTRY_INFO!$J140=4)),0,COUNTRY_INFO!$E140))","v":2542},{"$f":"IF(AND(INTRO!$E$37=\"Non endémique\",INTRO!$E$41=\"Non endémique\"),0,IF(AND(OR(COUNTRY_INFO!$H140=0,COUNTRY_INFO!$H140=4,COUNTRY_INFO!$H140=99),OR(COUNTRY_INFO!$J140=0,COUNTRY_INFO!$J140=4)),0,COUNTRY_INFO!$F140))","v":4433},6975,{"$f":"IF(AND(INTRO!$E$37=\"Non endémique\",INTRO!$E$41=\"Non endémique\"),0,COUNTRY_INFO!Q140)","v":0},{"$f":"IF(AND(INTRO!$E$37=\"Non endémique\",INTRO!$E$41=\"Non endémique\"),0,COUNTRY_INFO!S140)","v":1},{"$f":"IF($G140=1,IVM!$G140,0)","v":0},{"$f":"IF($G140=0, \" \", IF(COUNTRY_INFO!$H140=1, IF(COUNTRY_INFO!$L140=1, 0,\" \"),\" \"))","v":" "},null,"ALB",{"$f":"IF($L140=\"ALB\", IF(INTRO!$E$39=\"Non endémique\",IF($H140<>0,$D140*($H140-$G140),0),$D140*$H140), 0)","v":2542},4433,null,6975,{"$f":"IF($L140=\"MBD\", IF(INTRO!$E$39=\"Non endémique\",IF($H140<>0,$D140*($H140-$G140),0),$D140*$H140),0)","v":0},0,null,0,null,0,0,null,4433,23,null,0,0]
[{"$f":"IF(AND(INTRO!$E$37=\"Non endémique\",INTRO!$E$41=\"Non endémique\"),\" \",IF(COUNTRY_INFO!A141=0,\" \",COUNTRY_INFO!A141))","v":"Angola"},{"$f":"IF(AND(INTRO!$E$37=\"Non endémique\",INTRO!$E$41=\"Non endémique\"),\" \",IF(COUNTRY_INFO!B141=0,\" \",COUNTRY_INFO!B141))","v":"MOXICO"},{"$f":"IF(AND(INTRO!$E$37=\"Non endémique\",INTRO!$E$41=\"Non endémique\"),\" \",IF(COUNTRY_INFO!C141=0,\" \",COUNTRY_INFO!C141))","v":"LUAU"},{"$f":"IF(AND(INTRO!$E$37=\"Non endémique\",INTRO!$E$41=\"Non endémique\"),0,IF(AND(OR(COUNTRY_INFO!$H141=0,COUNTRY_INFO!$H141=4,COUNTRY_INFO!$H141=99),OR(COUNTRY_INFO!$J141=0,COUNTRY_INFO!$J141=4)),0,COUNTRY_INFO!$E141))","v":36624},{"$f":"IF(AND(INTRO!$E$37=\"Non endémique\",INTRO!$E$41=\"Non endémique\"),0,IF(AND(OR(COUNTRY_INFO!$H141=0,COUNTRY_INFO!$H141=4,COUNTRY_INFO!$H141=99),OR(COUNTRY_INFO!$J141=0,COUNTRY_INFO!$J141=4)),0,COUNTRY_INFO!$F141))","v":63863},100487,{"$f":"IF(AND(INTRO!$E$37=\"Non endémique\",INTRO!$E$41=\"Non endémique\"),0,COUNTRY_INFO!Q141)","v":0},{"$f":"IF(AND(INTRO!$E$37=\"Non endémique\",INTRO!$E$41=\"Non endémique\"),0,COUNTRY_INFO!S141)","v":1},{"$f":"IF($G141=1,IVM!$G141,0)","v":0},{"$f":"IF($G141=0, \" \", IF(COUNTRY_INFO!$H141=1, IF(COUNTRY_INFO!$L141=1, 0,\" \"),\" \"))","v":" "},null,"ALB",{"$f":"IF($L141=\"ALB\", IF(INTRO!$E$39=\"Non endémique\",IF($H141<>0,$D141*($H141-$G141),0),$D141*$H141), 0)","v":36624},63863,null,100487,{"$f":"IF($L141=\"MBD\", IF(INTRO!$E$39=\"Non endémique\",IF($H141<>0,$D141*($H141-$G141),0),$D141*$H141),0)","v":0},0,null,0,null,0,0,null,63863,320,null,0,0]
[{"$f":"IF(AND(INTRO!$E$37=\"Non endémique\",INTRO!$E$41=\"Non endémique\"),\" \",IF(COUNTRY_INFO!A142=0,\" \",COUNTRY_INFO!A142))","v":"Angola"},{"$f":"IF(AND(INTRO!$E$37=\"Non endémique\",INTRO!$E$41=\"Non endémique\"),\" \",IF(COUNTRY_INFO!B142=0,\" \",COUNTRY_INFO!B142))","v":"MOXICO"},{"$f":"IF(AND(INTRO!$E$37=\"Non endémique\",INTRO!$E$41=\"Non endémique\"),\" \",IF(COUNTRY_INFO!C142=0,\" \",COUNTRY_INFO!C142))","v":"LUCHAZES"},{"$f":"IF(AND(INTRO!$E$37=\"Non endémique\",INTRO!$E$41=\"Non endémique\"),0,IF(AND(OR(COUNTRY_INFO!$H142=0,COUNTRY_INFO!$H142=4,COUNTRY_INFO!$H142=99),OR(COUNTRY_INFO!$J142=0,COUNTRY_INFO!$J142=4)),0,COUNTRY_INFO!$E142))","v":12704},{"$f":"IF(AND(INTRO!$E$37=\"Non endémique\",INTRO!$E$41=\"Non endémique\"),0,IF(AND(OR(COUNTRY_INFO!$H142=0,COUNTRY_INFO!$H142=4,COUNTRY_INFO!$H142=99),OR(COUNTRY_INFO!$J142=0,COUNTRY_INFO!$J142=4)),0,COUNTRY_INFO!$F142))","v":22152},34856,{"$f":"IF(AND(INTRO!$E$37=\"Non endémique\",INTRO!$E$41=\"Non endémique\"),0,COUNTRY_INFO!Q142)","v":0},{"$f":"IF(AND(INTRO!$E$37=\"Non endémique\",INTRO!$E$41=\"Non endémique\"),0,COUNTRY_INFO!S142)","v":1},{"$f":"IF($G142=1,IVM!$G142,0)","v":0},{"$f":"IF($G142=0, \" \", IF(COUNTRY_INFO!$H142=1, IF(COUNTRY_INFO!$L142=1, 0,\" \"),\" \"))","v":" "},null,"ALB",{"$f":"IF($L142=\"ALB\", IF(INTRO!$E$39=\"Non endémique\",IF($H142<>0,$D142*($H142-$G142),0),$D142*$H142), 0)","v":12704},22152,null,34856,{"$f":"IF($L142=\"MBD\", IF(INTRO!$E$39=\"Non endémique\",IF($H142<>0,$D142*($H142-$G142),0),$D142*$H142),0)","v":0},0,null,0,null,0,0,null,22152,111,null,0,0]
[{"$f":"IF(AND(INTRO!$E$37=\"Non endémique\",INTRO!$E$41=\"Non endémique\"),\" \",IF(COUNTRY_INFO!A143=0,\" \",COUNTRY_INFO!A143))","v":"Angola"},{"$f":"IF(AND(INTRO!$E$37=\"Non endémique\",INTRO!$E$41=\"Non endémique\"),\" \",IF(COUNTRY_INFO!B143=0,\" \",COUNTRY_INFO!B143))","v":"MOXICO"},{"$f":"IF(AND(INTRO!$E$37=\"Non endémique\",INTRO!$E$41=\"Non endémique\"),\" \",IF(COUNTRY_INFO!C143=0,\" \",COUNTRY_INFO!C143))","v":"LUMBALA NGUIMBO"},{"$f":"IF(AND(INTRO!$E$37=\"Non endémique\",INTRO!$E$41=\"Non endémique\"),0,IF(AND(OR(COUNTRY_INFO!$H143=0,COUNTRY_INFO!$H143=4,COUNTRY_INFO!$H143=99),OR(COUNTRY_INFO!$J143=0,COUNTRY_INFO!$J143=4)),0,COUNTRY_INFO!$E143))","v":5388},{"$f":"IF(AND(INTRO!$E$37=\"Non endémique\",INTRO!$E$41=\"Non endémique\"),0,IF(AND(OR(COUNTRY_INFO!$H143=0,COUNTRY_INFO!$H143=4,COUNTRY_INFO!$H143=99),OR(COUNTRY_INFO!$J143=0,COUNTRY_INFO!$J143=4)),0,COUNTRY_INFO!$F143))","v":9396},14784,{"$f":"IF(AND(INTRO!$E$37=\"Non endémique\",INTRO!$E$41=\"Non endémique\"),0,COUNTRY_INFO!Q143)","v":0},{"$f":"IF(AND(INTRO!$E$37=\"Non endémique\",INTRO!$E$41=\"Non endémique\"),0,COUNTRY_INFO!S143)","v":1},{"$f":"IF($G143=1,IVM!$G143,0)","v":0},{"$f":"IF($G143=0, \" \", IF(COUNTRY_INFO!$H143=1, IF(COUNTRY_INFO!$L143=1, 0,\" \"),\" \"))","v":" "},null,"ALB",{"$f":"IF($L143=\"ALB\", IF(INTRO!$E$39=\"Non endémique\",IF($H143<>0,$D143*($H143-$G143),0),$D143*$H143), 0)","v":5388},9396,null,14784,{"$f":"IF($L143=\"MBD\", IF(INTRO!$E$39=\"Non endémique\",IF($H143<>0,$D143*($H143-$G143),0),$D143*$H143),0)","v":0},0,null,0,null,0,0,null,9396,47,null,0,0]
[{"$f":"IF(AND(INTRO!$E$37=\"Non endémique\",INTRO!$E$41=\"Non endémique\"),\" \",IF(COUNTRY_INFO!A144=0,\" \",COUNTRY_INFO!A144))","v":"Angola"},{"$f":"IF(AND(INTRO!$E$37=\"Non endémique\",INTRO!$E$41=\"Non endémique\"),\" \",IF(COUNTRY_INFO!B144=0,\" \",COUNTRY_INFO!B144))","v":"MOXICO"},{"$f":"IF(AND(INTRO!$E$37=\"Non endémique\",INTRO!$E$41=\"Non endémique\"),\" \",IF(COUNTRY_INFO!C144=0,\" \",COUNTRY_INFO!C144))","v":"LUMEJE"},{"$f":"IF(AND(INTRO!$E$37=\"Non endémique\",INTRO!$E$41=\"Non endémique\"),0,IF(AND(OR(COUNTRY_INFO!$H144=0,COUNTRY_INFO!$H144=4,COUNTRY_INFO!$H144=99),OR(COUNTRY_INFO!$J144=0,COUNTRY_INFO!$J144=4)),0,COUNTRY_INFO!$E144))","v":3794},{"$f":"IF(AND(INTRO!$E$37=\"Non endémique\",INTRO!$E$41=\"Non endémique\"),0,IF(AND(OR(COUNTRY_INFO!$H144=0,COUNTRY_INFO!$H144=4,COUNTRY_INFO!$H144=99),OR(COUNTRY_INFO!$J144=0,COUNTRY_INFO!$J144=4)),0,COUNTRY_INFO!$F144))","v":6616},10410,{"$f":"IF(AND(INTRO!$E$37=\"Non endémique\",INTRO!$E$41=\"Non endémique\"),0,COUNTRY_INFO!Q144)","v":0},{"$f":"IF(AND(INTRO!$E$37=\"Non endémique\",INTRO!$E$41=\"Non endémique\"),0,COUNTRY_INFO!S144)","v":1},{"$f":"IF($G144=1,IVM!$G144,0)","v":0},{"$f":"IF($G144=0, \" \", IF(COUNTRY_INFO!$H144=1, IF(COUNTRY_INFO!$L144=1, 0,\" \"),\" \"))","v":" "},null,"ALB",{"$f":"IF($L144=\"ALB\", IF(INTRO!$E$39=\"Non endémique\",IF($H144<>0,$D144*($H144-$G144),0),$D144*$H144), 0)","v":3794},6616,null,10410,{"$f":"IF($L144=\"MBD\", IF(INTRO!$E$39=\"Non endémique\",IF($H144<>0,$D144*($H144-$G144),0),$D144*$H144),0)","v":0},0,null,0,null,0,0,null,6616,34,null,0,0]
[{"$f":"IF(AND(INTRO!$E$37=\"Non endémique\",INTRO!$E$41=\"Non endémique\"),\" \",IF(COUNTRY_INFO!A145=0,\" \",COUNTRY_INFO!A145))","v":"Angola"},{"$f":"IF(AND(INTRO!$E$37=\"Non endémique\",INTRO!$E$41=\"Non endémique\"),\" \",IF(COUNTRY_INFO!B145=0,\" \",COUNTRY_INFO!B145))","v":"MOXICO"},{"$f":"IF(AND(INTRO!$E$37=\"Non endémique\",INTRO!$E$41=\"Non endémique\"),\" \",IF(COUNTRY_INFO!C145=0,\" \",COUNTRY_INFO!C145))","v":"MOXICO / LUENA"},{"$f":"IF(AND(INTRO!$E$37=\"Non endémique\",INTRO!$E$41=\"Non endémique\"),0,IF(AND(OR(COUNTRY_INFO!$H145=0,COUNTRY_INFO!$H145=4,COUNTRY_INFO!$H145=99),OR(COUNTRY_INFO!$J145=0,COUNTRY_INFO!$J145=4)),0,COUNTRY_INFO!$E145))","v":65334},{"$f":"IF(AND(INTRO!$E$37=\"Non endémique\",INTRO!$E$41=\"Non endémique\"),0,IF(AND(OR(COUNTRY_INFO!$H145=0,COUNTRY_INFO!$H145=4,COUNTRY_INFO!$H145=99),OR(COUNTRY_INFO!$J145=0,COUNTRY_INFO!$J145=4)),0,COUNTRY_INFO!$F145))","v":113927},179261,{"$f":"IF(AND(INTRO!$E$37=\"Non endémique\",INTRO!$E$41=\"Non endémique\"),0,COUNTRY_INFO!Q145)","v":0},{"$f":"IF(AND(INTRO!$E$37=\"Non endémique\",INTRO!$E$41=\"Non endémique\"),0,COUNTRY_INFO!S145)","v":1},{"$f":"IF($G145=1,IVM!$G145,0)","v":0},{"$f":"IF($G145=0, \" \", IF(COUNTRY_INFO!$H145=1, IF(COUNTRY_INFO!$L145=1, 0,\" \"),\" \"))","v":" "},null,"ALB",{"$f":"IF($L145=\"ALB\", IF(INTRO!$E$39=\"Non endémique\",IF($H145<>0,$D145*($H145-$G145),0),$D145*$H145), 0)","v":65334},113927,null,179261,{"$f":"IF($L145=\"MBD\", IF(INTRO!$E$39=\"Non endémique\",IF($H145<>0,$D145*($H145-$G145),0),$D145*$H145),0)","v":0},0,null,0,null,0,0,null,113927,570,null,0,0]
[{"$f":"IF(AND(INTRO!$E$37=\"Non endémique\",INTRO!$E$41=\"Non endémique\"),\" \",IF(COUNTRY_INFO!A146=0,\" \",COUNTRY_INFO!A146))","v":"Angola"},{"$f":"IF(AND(INTRO!$E$37=\"Non endémique\",INTRO!$E$41=\"Non endémique\"),\" \",IF(COUNTRY_INFO!B146=0,\" \",COUNTRY_INFO!B146))","v":"NAMIBE"},{"$f":"IF(AND(INTRO!$E$37=\"Non endémique\",INTRO!$E$41=\"Non endémique\"),\" \",IF(COUNTRY_INFO!C146=0,\" \",COUNTRY_INFO!C146))","v":"BIBALA"},{"$f":"IF(AND(INTRO!$E$37=\"Non endémique\",INTRO!$E$41=\"Non endémique\"),0,IF(AND(OR(COUNTRY_INFO!$H146=0,COUNTRY_INFO!$H146=4,COUNTRY_INFO!$H146=99),OR(COUNTRY_INFO!$J146=0,COUNTRY_INFO!$J146=4)),0,COUNTRY_INFO!$E146))","v":11791},{"$f":"IF(AND(INTRO!$E$37=\"Non endémique\",INTRO!$E$41=\"Non endémique\"),0,IF(AND(OR(COUNTRY_INFO!$H146=0,COUNTRY_INFO!$H146=4,COUNTRY_INFO!$H146=99),OR(COUNTRY_INFO!$J146=0,COUNTRY_INFO!$J146=4)),0,COUNTRY_INFO!$F146))","v":20561},32352,{"$f":"IF(AND(INTRO!$E$37=\"Non endémique\",INTRO!$E$41=\"Non endémique\"),0,COUNTRY_INFO!Q146)","v":0},{"$f":"IF(AND(INTRO!$E$37=\"Non endémique\",INTRO!$E$41=\"Non endémique\"),0,COUNTRY_INFO!S146)","v":1},{"$f":"IF($G146=1,IVM!$G146,0)","v":0},{"$f":"IF($G146=0, \" \", IF(COUNTRY_INFO!$H146=1, IF(COUNTRY_INFO!$L146=1, 0,\" \"),\" \"))","v":" "},null,"ALB",{"$f":"IF($L146=\"ALB\", IF(INTRO!$E$39=\"Non endémique\",IF($H146<>0,$D146*($H146-$G146),0),$D146*$H146), 0)","v":11791},20561,null,32352,{"$f":"IF($L146=\"MBD\", IF(INTRO!$E$39=\"Non endémique\",IF($H146<>0,$D146*($H146-$G146),0),$D146*$H146),0)","v":0},0,null,0,null,0,0,null,20561,103,null,0,0]
[{"$f":"IF(AND(INTRO!$E$37=\"Non endémique\",INTRO!$E$41=\"Non endémique\"),\" \",IF(COUNTRY_INFO!A147=0,\" \",COUNTRY_INFO!A147))","v":"Angola"},{"$f":"IF(AND(INTRO!$E$37=\"Non endémique\",INTRO!$E$41=\"Non endémique\"),\" \",IF(COUNTRY_INFO!B147=0,\" \",COUNTRY_INFO!B147))","v":"NAMIBE"},{"$f":"IF(AND(INTRO!$E$37=\"Non endémique\",INTRO!$E$41=\"Non endémique\"),\" \",IF(COUNTRY_INFO!C147=0,\" \",COUNTRY_INFO!C147))","v":"CAMUCUIO"},{"$f":"IF(AND(INTRO!$E$37=\"Non endémique\",INTRO!$E$41=\"Non endémique\"),0,IF(AND(OR(COUNTRY_INFO!$H147=0,COUNTRY_INFO!$H147=4,COUNTRY_INFO!$H147=99),OR(COUNTRY_INFO!$J147=0,COUNTRY_INFO!$J147=4)),0,COUNTRY_INFO!$E147))","v":9204},{"$f":"IF(AND(INTRO!$E$37=\"Non endémique\",INTRO!$E$41=\"Non endémique\"),0,IF(AND(OR(COUNTRY_INFO!$H147=0,COUNTRY_INFO!$H147=4,COUNTRY_INFO!$H147=99),OR(COUNTRY_INFO!$J147=0,COUNTRY_INFO!$J147=4)),0,COUNTRY_INFO!$F147))","v":16049},25253,{"$f":"IF(AND(INTRO!$E$37=\"Non endémique\",INTRO!$E$41=\"Non endémique\"),0,COUNTRY_INFO!Q147)","v":0},{"$f":"IF(AND(INTRO!$E$37=\"Non endémique\",INTRO!$E$41=\"Non endémique\"),0,COUNTRY_INFO!S147)","v":1},{"$f":"IF($G147=1,IVM!$G147,0)","v":0},{"$f":"IF($G147=0, \" \", IF(COUNTRY_INFO!$H147=1, IF(COUNTRY_INFO!$L147=1, 0,\" \"),\" \"))","v":" "},null,"ALB",{"$f":"IF($L147=\"ALB\", IF(INTRO!$E$39=\"Non endémique\",IF($H147<>0,$D147*($H147-$G147),0),$D147*$H147), 0)","v":9204},16049,null,25253,{"$f":"IF($L147=\"MBD\", IF(INTRO!$E$39=\"Non endémique\",IF($H147<>0,$D147*($H147-$G147),0),$D147*$H147),0)","v":0},0,null,0,null,0,0,null,16049,81,null,0,0]
[{"$f":"IF(AND(INTRO!$E$37=\"Non endémique\",INTRO!$E$41=\"Non endémique\"),\" \",IF(COUNTRY_INFO!A148=0,\" \",COUNTRY_INFO!A148))","v":"Angola"},{"$f":"IF(AND(INTRO!$E$37=\"Non endémique\",INTRO!$E$41=\"Non endémique\"),\" \",IF(COUNTRY_INFO!B148=0,\" \",COUNTRY_INFO!B148))","v":"NAMIBE"},{"$f":"IF(AND(INTRO!$E$37=\"Non endémique\",INTRO!$E$41=\"Non endémique\"),\" \",IF(COUNTRY_INFO!C148=0,\" \",COUNTRY_INFO!C148))","v":"NAMIBE"},{"$f":"IF(AND(INTRO!$E$37=\"Non endémique\",INTRO!$E$41=\"Non endémique\"),0,IF(AND(OR(COUNTRY_INFO!$H148=0,COUNTRY_INFO!$H148=4,COUNTRY_INFO!$H148=99),OR(COUNTRY_INFO!$J148=0,COUNTRY_INFO!$J148=4)),0,COUNTRY_INFO!$E148))","v":53475},{"$f":"IF(AND(INTRO!$E$37=\"Non endémique\",INTRO!$E$41=\"Non endémique\"),0,IF(AND(OR(COUNTRY_INFO!$H148=0,COUNTRY_INFO!$H148=4,COUNTRY_INFO!$H148=99),OR(COUNTRY_INFO!$J148=0,COUNTRY_INFO!$J148=4)),0,COUNTRY_INFO!$F148))","v":93247},146722,{"$f":"IF(AND(INTRO!$E$37=\"Non endémique\",INTRO!$E$41=\"Non endémique\"),0,COUNTRY_INFO!Q148)","v":0},{"$f":"IF(AND(INTRO!$E$37=\"Non endémique\",INTRO!$E$41=\"Non endémique\"),0,COUNTRY_INFO!S148)","v":1},{"$f":"IF($G148=1,IVM!$G148,0)","v":0},{"$f":"IF($G148=0, \" \", IF(COUNTRY_INFO!$H148=1, IF(COUNTRY_INFO!$L148=1, 0,\" \"),\" \"))","v":" "},null,"ALB",{"$f":"IF($L148=\"ALB\", IF(INTRO!$E$39=\"Non endémique\",IF($H148<>0,$D148*($H148-$G148),0),$D148*$H148), 0)","v":53475},93247,null,146722,{"$f":"IF($L148=\"MBD\", IF(INTRO!$E$39=\"Non endémique\",IF($H148<>0,$D148*($H148-$G148),0),$D148*$H148),0)","v":0},0,null,0,null,0,0,null,93247,467,null,0,0]
[{"$f":"IF(AND(INTRO!$E$37=\"Non endémique\",INTRO!$E$41=\"Non endémique\"),\" \",IF(COUNTRY_INFO!A149=0,\" \",COUNTRY_INFO!A149))","v":"Angola"},{"$f":"IF(AND(INTRO!$E$37=\"Non endémique\",INTRO!$E$41=\"Non endémique\"),\" \",IF(COUNTRY_INFO!B149=0,\" \",COUNTRY_INFO!B149))","v":"NAMIBE"},{"$f":"IF(AND(INTRO!$E$37=\"Non endémique\",INTRO!$E$41=\"Non endémique\"),\" \",IF(COUNTRY_INFO!C149=0,\" \",COUNTRY_INFO!C149))","v":"TOMBUA"},{"$f":"IF(AND(INTRO!$E$37=\"Non endémique\",INTRO!$E$41=\"Non endémique\"),0,IF(AND(OR(COUNTRY_INFO!$H149=0,COUNTRY_INFO!$H149=4,COUNTRY_INFO!$H149=99),OR(COUNTRY_INFO!$J149=0,COUNTRY_INFO!$J149=4)),0,COUNTRY_INFO!$E149))","v":10144},{"$f":"IF(AND(INTRO!$E$37=\"Non endémique\",INTRO!$E$41=\"Non endémique\"),0,IF(AND(OR(COUNTRY_INFO!$H149=0,COUNTRY_INFO!$H149=4,COUNTRY_INFO!$H149=99),OR(COUNTRY_INFO!$J149=0,COUNTRY_INFO!$J149=4)),0,COUNTRY_INFO!$F149))","v":17689},27833,{"$f":"IF(AND(INTRO!$E$37=\"Non endémique\",INTRO!$E$41=\"Non endémique\"),0,COUNTRY_INFO!Q149)","v":0},{"$f":"IF(AND(INTRO!$E$37=\"Non endémique\",INTRO!$E$41=\"Non endémique\"),0,COUNTRY_INFO!S149)","v":1},{"$f":"IF($G149=1,IVM!$G149,0)","v":0},{"$f":"IF($G149=0, \" \", IF(COUNTRY_INFO!$H149=1, IF(COUNTRY_INFO!$L149=1, 0,\" \"),\" \"))","v":" "},null,"ALB",{"$f":"IF($L149=\"ALB\", IF(INTRO!$E$39=\"Non endémique\",IF($H149<>0,$D149*($H149-$G149),0),$D149*$H149), 0)","v":10144},17689,null,27833,{"$f":"IF($L149=\"MBD\", IF(INTRO!$E$39=\"Non endémique\",IF($H149<>0,$D149*($H149-$G149),0),$D149*$H149),0)","v":0},0,null,0,null,0,0,null,17689,89,null,0,0]
[{"$f":"IF(AND(INTRO!$E$37=\"Non endémique\",INTRO!$E$41=\"Non endémique\"),\" \",IF(COUNTRY_INFO!A150=0,\" \",COUNTRY_INFO!A150))","v":"Angola"},{"$f":"IF(AND(INTRO!$E$37=\"Non endémique\",INTRO!$E$41=\"Non endémique\"),\" \",IF(COUNTRY_INFO!B150=0,\" \",COUNTRY_INFO!B150))","v":"NAMIBE"},{"$f":"IF(AND(INTRO!$E$37=\"Non endémique\",INTRO!$E$41=\"Non endémique\"),\" \",IF(COUNTRY_INFO!C150=0,\" \",COUNTRY_INFO!C150))","v":"VIREI"},{"$f":"IF(AND(INTRO!$E$37=\"Non endémique\",INTRO!$E$41=\"Non endémique\"),0,IF(AND(OR(COUNTRY_INFO!$H150=0,COUNTRY_INFO!$H150=4,COUNTRY_INFO!$H150=99),OR(COUNTRY_INFO!$J150=0,COUNTRY_INFO!$J150=4)),0,COUNTRY_INFO!$E150))","v":5931},{"$f":"IF(AND(INTRO!$E$37=\"Non endémique\",INTRO!$E$41=\"Non endémique\"),0,IF(AND(OR(COUNTRY_INFO!$H150=0,COUNTRY_INFO!$H150=4,COUNTRY_INFO!$H150=99),OR(COUNTRY_INFO!$J150=0,COUNTRY_INFO!$J150=4)),0,COUNTRY_INFO!$F150))","v":10342},16273,{"$f":"IF(AND(INTRO!$E$37=\"Non endémique\",INTRO!$E$41=\"Non endémique\"),0,COUNTRY_INFO!Q150)","v":0},{"$f":"IF(AND(INTRO!$E$37=\"Non endémique\",INTRO!$E$41=\"Non endémique\"),0,COUNTRY_INFO!S150)","v":1},{"$f":"IF($G150=1,IVM!$G150,0)","v":0},{"$f":"IF($G150=0, \" \", IF(COUNTRY_INFO!$H150=1, IF(COUNTRY_INFO!$L150=1, 0,\" \"),\" \"))","v":" "},null,"ALB",{"$f":"IF($L150=\"ALB\", IF(INTRO!$E$39=\"Non endémique\",IF($H150<>0,$D150*($H150-$G150),0),$D150*$H150), 0)","v":5931},10342,null,16273,{"$f":"IF($L150=\"MBD\", IF(INTRO!$E$39=\"Non endémique\",IF($H150<>0,$D150*($H150-$G150),0),$D150*$H150),0)","v":0},0,null,0,null,0,0,null,10342,52,null,0,0]
[{"$f":"IF(AND(INTRO!$E$37=\"Non endémique\",INTRO!$E$41=\"Non endémique\"),\" \",IF(COUNTRY_INFO!A151=0,\" \",COUNTRY_INFO!A151))","v":"Angola"},{"$f":"IF(AND(INTRO!$E$37=\"Non endémique\",INTRO!$E$41=\"Non endémique\"),\" \",IF(COUNTRY_INFO!B151=0,\" \",COUNTRY_INFO!B151))","v":"UIGE"},{"$f":"IF(AND(INTRO!$E$37=\"Non endémique\",INTRO!$E$41=\"Non endémique\"),\" \",IF(COUNTRY_INFO!C151=0,\" \",COUNTRY_INFO!C151))","v":"AMBUILA"},{"$f":"IF(AND(INTRO!$E$37=\"Non endémique\",INTRO!$E$41=\"Non endémique\"),0,IF(AND(OR(COUNTRY_INFO!$H151=0,COUNTRY_INFO!$H151=4,COUNTRY_INFO!$H151=99),OR(COUNTRY_INFO!$J151=0,COUNTRY_INFO!$J151=4)),0,COUNTRY_INFO!$E151))","v":3312},{"$f":"IF(AND(INTRO!$E$37=\"Non endémique\",INTRO!$E$41=\"Non endémique\"),0,IF(AND(OR(COUNTRY_INFO!$H151=0,COUNTRY_INFO!$H151=4,COUNTRY_INFO!$H151=99),OR(COUNTRY_INFO!$J151=0,COUNTRY_INFO!$J151=4)),0,COUNTRY_INFO!$F151))","v":5775},9087,{"$f":"IF(AND(INTRO!$E$37=\"Non endémique\",INTRO!$E$41=\"Non endémique\"),0,COUNTRY_INFO!Q151)","v":0},{"$f":"IF(AND(INTRO!$E$37=\"Non endémique\",INTRO!$E$41=\"Non endémique\"),0,COUNTRY_INFO!S151)","v":1},{"$f":"IF($G151=1,IVM!$G151,0)","v":0},{"$f":"IF($G151=0, \" \", IF(COUNTRY_INFO!$H151=1, IF(COUNTRY_INFO!$L151=1, 0,\" \"),\" \"))","v":" "},null,"ALB",{"$f":"IF($L151=\"ALB\", IF(INTRO!$E$39=\"Non endémique\",IF($H151<>0,$D151*($H151-$G151),0),$D151*$H151), 0)","v":3312},5775,null,9087,{"$f":"IF($L151=\"MBD\", IF(INTRO!$E$39=\"Non endémique\",IF($H151<>0,$D151*($H151-$G151),0),$D151*$H151),0)","v":0},0,null,0,null,0,0,null,5775,29,null,0,0]
[{"$f":"IF(AND(INTRO!$E$37=\"Non endémique\",INTRO!$E$41=\"Non endémique\"),\" \",IF(COUNTRY_INFO!A152=0,\" \",COUNTRY_INFO!A152))","v":"Angola"},{"$f":"IF(AND(INTRO!$E$37=\"Non endémique\",INTRO!$E$41=\"Non endémique\"),\" \",IF(COUNTRY_INFO!B152=0,\" \",COUNTRY_INFO!B152))","v":"UIGE"},{"$f":"IF(AND(INTRO!$E$37=\"Non endémique\",INTRO!$E$41=\"Non endémique\"),\" \",IF(COUNTRY_INFO!C152=0,\" \",COUNTRY_INFO!C152))","v":"BEMBE"},{"$f":"IF(AND(INTRO!$E$37=\"Non endémique\",INTRO!$E$41=\"Non endémique\"),0,IF(AND(OR(COUNTRY_INFO!$H152=0,COUNTRY_INFO!$H152=4,COUNTRY_INFO!$H152=99),OR(COUNTRY_INFO!$J152=0,COUNTRY_INFO!$J152=4)),0,COUNTRY_INFO!$E152))","v":6024},{"$f":"IF(AND(INTRO!$E$37=\"Non endémique\",INTRO!$E$41=\"Non endémique\"),0,IF(AND(OR(COUNTRY_INFO!$H152=0,COUNTRY_INFO!$H152=4,COUNTRY_INFO!$H152=99),OR(COUNTRY_INFO!$J152=0,COUNTRY_INFO!$J152=4)),0,COUNTRY_INFO!$F152))","v":10505},16529,{"$f":"IF(AND(INTRO!$E$37=\"Non endémique\",INTRO!$E$41=\"Non endémique\"),0,COUNTRY_INFO!Q152)","v":0},{"$f":"IF(AND(INTRO!$E$37=\"Non endémique\",INTRO!$E$41=\"Non endémique\"),0,COUNTRY_INFO!S152)","v":0},{"$f":"IF($G152=1,IVM!$G152,0)","v":0},{"$f":"IF($G152=0, \" \", IF(COUNTRY_INFO!$H152=1, IF(COUNTRY_INFO!$L152=1, 0,\" \"),\" \"))","v":" "},null,"ALB",{"$f":"IF($L152=\"ALB\", IF(INTRO!$E$39=\"Non endémique\",IF($H152<>0,$D152*($H152-$G152),0),$D152*$H152), 0)","v":0},0,null,0,{"$f":"IF($L152=\"MBD\", IF(INTRO!$E$39=\"Non endémique\",IF($H152<>0,$D152*($H152-$G152),0),$D152*$H152),0)","v":0},0,null,0,null,0,0,null,0,0,null,0,0]
[{"$f":"IF(AND(INTRO!$E$37=\"Non endémique\",INTRO!$E$41=\"Non endémique\"),\" \",IF(COUNTRY_INFO!A153=0,\" \",COUNTRY_INFO!A153))","v":"Angola"},{"$f":"IF(AND(INTRO!$E$37=\"Non endémique\",INTRO!$E$41=\"Non endémique\"),\" \",IF(COUNTRY_INFO!B153=0,\" \",COUNTRY_INFO!B153))","v":"UIGE"},{"$f":"IF(AND(INTRO!$E$37=\"Non endémique\",INTRO!$E$41=\"Non endémique\"),\" \",IF(COUNTRY_INFO!C153=0,\" \",COUNTRY_INFO!C153))","v":"BUENGAS"},{"$f":"IF(AND(INTRO!$E$37=\"Non endémique\",INTRO!$E$41=\"Non endémique\"),0,IF(AND(OR(COUNTRY_INFO!$H153=0,COUNTRY_INFO!$H153=4,COUNTRY_INFO!$H153=99),OR(COUNTRY_INFO!$J153=0,COUNTRY_INFO!$J153=4)),0,COUNTRY_INFO!$E153))","v":10465},{"$f":"IF(AND(INTRO!$E$37=\"Non endémique\",INTRO!$E$41=\"Non endémique\"),0,IF(AND(OR(COUNTRY_INFO!$H153=0,COUNTRY_INFO!$H153=4,COUNTRY_INFO!$H153=99),OR(COUNTRY_INFO!$J153=0,COUNTRY_INFO!$J153=4)),0,COUNTRY_INFO!$F153))","v":18248},28713,{"$f":"IF(AND(INTRO!$E$37=\"Non endémique\",INTRO!$E$41=\"Non endémique\"),0,COUNTRY_INFO!Q153)","v":0},{"$f":"IF(AND(INTRO!$E$37=\"Non endémique\",INTRO!$E$41=\"Non endémique\"),0,COUNTRY_INFO!S153)","v":2},{"$f":"IF($G153=1,IVM!$G153,0)","v":0},{"$f":"IF($G153=0, \" \", IF(COUNTRY_INFO!$H153=1, IF(COUNTRY_INFO!$L153=1, 0,\" \"),\" \"))","v":" "},null,"ALB",{"$f":"IF($L153=\"ALB\", IF(INTRO!$E$39=\"Non endémique\",IF($H153<>0,$D153*($H153-$G153),0),$D153*$H153), 0)","v":20930},36496,null,57426,{"$f":"IF($L153=\"MBD\", IF(INTRO!$E$39=\"Non endémique\",IF($H153<>0,$D153*($H153-$G153),0),$D153*$H153),0)","v":0},0,null,0,null,0,0,null,36496,183,null,0,0]
[{"$f":"IF(AND(INTRO!$E$37=\"Non endémique\",INTRO!$E$41=\"Non endémique\"),\" \",IF(COUNTRY_INFO!A154=0,\" \",COUNTRY_INFO!A154))","v":"Angola"},{"$f":"IF(AND(INTRO!$E$37=\"Non endémique\",INTRO!$E$41=\"Non endémique\"),\" \",IF(COUNTRY_INFO!B154=0,\" \",COUNTRY_INFO!B154))","v":"UIGE"},{"$f":"IF(AND(INTRO!$E$37=\"Non endémique\",INTRO!$E$41=\"Non endémique\"),\" \",IF(COUNTRY_INFO!C154=0,\" \",COUNTRY_INFO!C154))","v":"BUNGO"},{"$f":"IF(AND(INTRO!$E$37=\"Non endémique\",INTRO!$E$41=\"Non endémique\"),0,IF(AND(OR(COUNTRY_INFO!$H154=0,COUNTRY_INFO!$H154=4,COUNTRY_INFO!$H154=99),OR(COUNTRY_INFO!$J154=0,COUNTRY_INFO!$J154=4)),0,COUNTRY_INFO!$E154))","v":6792},{"$f":"IF(AND(INTRO!$E$37=\"Non endémique\",INTRO!$E$41=\"Non endémique\"),0,IF(AND(OR(COUNTRY_INFO!$H154=0,COUNTRY_INFO!$H154=4,COUNTRY_INFO!$H154=99),OR(COUNTRY_INFO!$J154=0,COUNTRY_INFO!$J154=4)),0,COUNTRY_INFO!$F154))","v":11843},18635,{"$f":"IF(AND(INTRO!$E$37=\"Non endémique\",INTRO!$E$41=\"Non endémique\"),0,COUNTRY_INFO!Q154)","v":0},{"$f":"IF(AND(INTRO!$E$37=\"Non endémique\",INTRO!$E$41=\"Non endémique\"),0,COUNTRY_INFO!S154)","v":2},{"$f":"IF($G154=1,IVM!$G154,0)","v":0},{"$f":"IF($G154=0, \" \", IF(COUNTRY_INFO!$H154=1, IF(COUNTRY_INFO!$L154=1, 0,\" \"),\" \"))","v":" "},null,"ALB",{"$f":"IF($L154=\"ALB\", IF(INTRO!$E$39=\"Non endémique\",IF($H154<>0,$D154*($H154-$G154),0),$D154*$H154), 0)","v":13584},23686,null,37270,{"$f":"IF($L154=\"MBD\", IF(INTRO!$E$39=\"Non endémique\",IF($H154<>0,$D154*($H154-$G154),0),$D154*$H154),0)","v":0},0,null,0,null,0,0,null,23686,119,null,0,0]
[{"$f":"IF(AND(INTRO!$E$37=\"Non endémique\",INTRO!$E$41=\"Non endémique\"),\" \",IF(COUNTRY_INFO!A155=0,\" \",COUNTRY_INFO!A155))","v":"Angola"},{"$f":"IF(AND(INTRO!$E$37=\"Non endémique\",INTRO!$E$41=\"Non endémique\"),\" \",IF(COUNTRY_INFO!B155=0,\" \",COUNTRY_INFO!B155))","v":"UIGE"},{"$f":"IF(AND(INTRO!$E$37=\"Non endémique\",INTRO!$E$41=\"Non endémique\"),\" \",IF(COUNTRY_INFO!C155=0,\" \",COUNTRY_INFO!C155))","v":"CANGOLA"},{"$f":"IF(AND(INTRO!$E$37=\"Non endémique\",INTRO!$E$41=\"Non endémique\"),0,IF(AND(OR(COUNTRY_INFO!$H155=0,COUNTRY_INFO!$H155=4,COUNTRY_INFO!$H155=99),OR(COUNTRY_INFO!$J155=0,COUNTRY_INFO!$J155=4)),0,COUNTRY_INFO!$E155))","v":9820},{"$f":"IF(AND(INTRO!$E$37=\"Non endémique\",INTRO!$E$41=\"Non endémique\"),0,IF(AND(OR(COUNTRY_INFO!$H155=0,COUNTRY_INFO!$H155=4,COUNTRY_INFO!$H155=99),OR(COUNTRY_INFO!$J155=0,COUNTRY_INFO!$J155=4)),0,COUNTRY_INFO!$F155))","v":17124},26944,{"$f":"IF(AND(INTRO!$E$37=\"Non endémique\",INTRO!$E$41=\"Non endémique\"),0,COUNTRY_INFO!Q155)","v":0},{"$f":"IF(AND(INTRO!$E$37=\"Non endémique\",INTRO!$E$41=\"Non endémique\"),0,COUNTRY_INFO!S155)","v":2},{"$f":"IF($G155=1,IVM!$G155,0)","v":0},{"$f":"IF($G155=0, \" \", IF(COUNTRY_INFO!$H155=1, IF(COUNTRY_INFO!$L155=1, 0,\" \"),\" \"))","v":" "},null,"ALB",{"$f":"IF($L155=\"ALB\", IF(INTRO!$E$39=\"Non endémique\",IF($H155<>0,$D155*($H155-$G155),0),$D155*$H155), 0)","v":19640},34248,null,53888,{"$f":"IF($L155=\"MBD\", IF(INTRO!$E$39=\"Non endémique\",IF($H155<>0,$D155*($H155-$G155),0),$D155*$H155),0)","v":0},0,null,0,null,0,0,null,34248,172,null,0,0]
[{"$f":"IF(AND(INTRO!$E$37=\"Non endémique\",INTRO!$E$41=\"Non endémique\"),\" \",IF(COUNTRY_INFO!A156=0,\" \",COUNTRY_INFO!A156))","v":"Angola"},{"$f":"IF(AND(INTRO!$E$37=\"Non endémique\",INTRO!$E$41=\"Non endémique\"),\" \",IF(COUNTRY_INFO!B156=0,\" \",COUNTRY_INFO!B156))","v":"UIGE"},{"$f":"IF(AND(INTRO!$E$37=\"Non endémique\",INTRO!$E$41=\"Non endémique\"),\" \",IF(COUNTRY_INFO!C156=0,\" \",COUNTRY_INFO!C156))","v":"DAMBA"},{"$f":"IF(AND(INTRO!$E$37=\"Non endémique\",INTRO!$E$41=\"Non endémique\"),0,IF(AND(OR(COUNTRY_INFO!$H156=0,COUNTRY_INFO!$H156=4,COUNTRY_INFO!$H156=99),OR(COUNTRY_INFO!$J156=0,COUNTRY_INFO!$J156=4)),0,COUNTRY_INFO!$E156))","v":12151},{"$f":"IF(AND(INTRO!$E$37=\"Non endémique\",INTRO!$E$41=\"Non endémique\"),0,IF(AND(OR(COUNTRY_INFO!$H156=0,COUNTRY_INFO!$H156=4,COUNTRY_INFO!$H156=99),OR(COUNTRY_INFO!$J156=0,COUNTRY_INFO!$J156=4)),0,COUNTRY_INFO!$F156))","v":21188},33339,{"$f":"IF(AND(INTRO!$E$37=\"Non endémique\",INTRO!$E$41=\"Non endémique\"),0,COUNTRY_INFO!Q156)","v":0},{"$f":"IF(AND(INTRO!$E$37=\"Non endémique\",INTRO!$E$41=\"Non endémique\"),0,COUNTRY_INFO!S156)","v":2},{"$f":"IF($G156=1,IVM!$G156,0)","v":0},{"$f":"IF($G156=0, \" \", IF(COUNTRY_INFO!$H156=1, IF(COUNTRY_INFO!$L156=1, 0,\" \"),\" \"))","v":" "},null,"ALB",{"$f":"IF($L156=\"ALB\", IF(INTRO!$E$39=\"Non endémique\",IF($H156<>0,$D156*($H156-$G156),0),$D156*$H156), 0)","v":24302},42376,null,66678,{"$f":"IF($L156=\"MBD\", IF(INTRO!$E$39=\"Non endémique\",IF($H156<>0,$D156*($H156-$G156),0),$D156*$H156),0)","v":0},0,null,0,null,0,0,null,42376,212,null,0,0]
[{"$f":"IF(AND(INTRO!$E$37=\"Non endémique\",INTRO!$E$41=\"Non endémique\"),\" \",IF(COUNTRY_INFO!A157=0,\" \",COUNTRY_INFO!A157))","v":"Angola"},{"$f":"IF(AND(INTRO!$E$37=\"Non endémique\",INTRO!$E$41=\"Non endémique\"),\" \",IF(COUNTRY_INFO!B157=0,\" \",COUNTRY_INFO!B157))","v":"UIGE"},{"$f":"IF(AND(INTRO!$E$37=\"Non endémique\",INTRO!$E$41=\"Non endémique\"),\" \",IF(COUNTRY_INFO!C157=0,\" \",COUNTRY_INFO!C157))","v":"MAQUELA DO ZOMBO"},{"$f":"IF(AND(INTRO!$E$37=\"Non endémique\",INTRO!$E$41=\"Non endémique\"),0,IF(AND(OR(COUNTRY_INFO!$H157=0,COUNTRY_INFO!$H157=4,COUNTRY_INFO!$H157=99),OR(COUNTRY_INFO!$J157=0,COUNTRY_INFO!$J157=4)),0,COUNTRY_INFO!$E157))","v":23280},{"$f":"IF(AND(INTRO!$E$37=\"Non endémique\",INTRO!$E$41=\"Non endémique\"),0,IF(AND(OR(COUNTRY_INFO!$H157=0,COUNTRY_INFO!$H157=4,COUNTRY_INFO!$H157=99),OR(COUNTRY_INFO!$J157=0,COUNTRY_INFO!$J157=4)),0,COUNTRY_INFO!$F157))","v":40594},63874,{"$f":"IF(AND(INTRO!$E$37=\"Non endémique\",INTRO!$E$41=\"Non endémique\"),0,COUNTRY_INFO!Q157)","v":0},{"$f":"IF(AND(INTRO!$E$37=\"Non endémique\",INTRO!$E$41=\"Non endémique\"),0,COUNTRY_INFO!S157)","v":2},{"$f":"IF($G157=1,IVM!$G157,0)","v":0},{"$f":"IF($G157=0, \" \", IF(COUNTRY_INFO!$H157=1, IF(COUNTRY_INFO!$L157=1, 0,\" \"),\" \"))","v":" "},null,"ALB",{"$f":"IF($L157=\"ALB\", IF(INTRO!$E$39=\"Non endémique\",IF($H157<>0,$D157*($H157-$G157),0),$D157*$H157), 0)","v":46560},81188,null,127748,{"$f":"IF($L157=\"MBD\", IF(INTRO!$E$39=\"Non endémique\",IF($H157<>0,$D157*($H157-$G157),0),$D157*$H157),0)","v":0},0,null,0,null,0,0,null,81188,406,null,0,0]
[{"$f":"IF(AND(INTRO!$E$37=\"Non endémique\",INTRO!$E$41=\"Non endémique\"),\" \",IF(COUNTRY_INFO!A158=0,\" \",COUNTRY_INFO!A158))","v":"Angola"},{"$f":"IF(AND(INTRO!$E$37=\"Non endémique\",INTRO!$E$41=\"Non endémique\"),\" \",IF(COUNTRY_INFO!B158=0,\" \",COUNTRY_INFO!B158))","v":"UIGE"},{"$f":"IF(AND(INTRO!$E$37=\"Non endémique\",INTRO!$E$41=\"Non endémique\"),\" \",IF(COUNTRY_INFO!C158=0,\" \",COUNTRY_INFO!C158))","v":"MILUNGA"},{"$f":"IF(AND(INTRO!$E$37=\"Non endémique\",INTRO!$E$41=\"Non endémique\"),0,IF(AND(OR(COUNTRY_INFO!$H158=0,COUNTRY_INFO!$H158=4,COUNTRY_INFO!$H158=99),OR(COUNTRY_INFO!$J158=0,COUNTRY_INFO!$J158=4)),0,COUNTRY_INFO!$E158))","v":9249},{"$f":"IF(AND(INTRO!$E$37=\"Non endémique\",INTRO!$E$41=\"Non endémique\"),0,IF(AND(OR(COUNTRY_INFO!$H158=0,COUNTRY_INFO!$H158=4,COUNTRY_INFO!$H158=99),OR(COUNTRY_INFO!$J158=0,COUNTRY_INFO!$J158=4)),0,COUNTRY_INFO!$F158))","v":16128},25377,{"$f":"IF(AND(INTRO!$E$37=\"Non endémique\",INTRO!$E$41=\"Non endémique\"),0,COUNTRY_INFO!Q158)","v":0},{"$f":"IF(AND(INTRO!$E$37=\"Non endémique\",INTRO!$E$41=\"Non endémique\"),0,COUNTRY_INFO!S158)","v":2},{"$f":"IF($G158=1,IVM!$G158,0)","v":0},{"$f":"IF($G158=0, \" \", IF(COUNTRY_INFO!$H158=1, IF(COUNTRY_INFO!$L158=1, 0,\" \"),\" \"))","v":" "},null,"ALB",{"$f":"IF($L158=\"ALB\", IF(INTRO!$E$39=\"Non endémique\",IF($H158<>0,$D158*($H158-$G158),0),$D158*$H158), 0)","v":18498},32256,null,50754,{"$f":"IF($L158=\"MBD\", IF(INTRO!$E$39=\"Non endémique\",IF($H158<>0,$D158*($H158-$G158),0),$D158*$H158),0)","v":0},0,null,0,null,0,0,null,32256,162,null,0,0]
[{"$f":"IF(AND(INTRO!$E$37=\"Non endémique\",INTRO!$E$41=\"Non endémique\"),\" \",IF(COUNTRY_INFO!A159=0,\" \",COUNTRY_INFO!A159))","v":"Angola"},{"$f":"IF(AND(INTRO!$E$37=\"Non endémique\",INTRO!$E$41=\"Non endémique\"),\" \",IF(COUNTRY_INFO!B159=0,\" \",COUNTRY_INFO!B159))","v":"UIGE"},{"$f":"IF(AND(INTRO!$E$37=\"Non endémique\",INTRO!$E$41=\"Non endémique\"),\" \",IF(COUNTRY_INFO!C159=0,\" \",COUNTRY_INFO!C159))","v":"MUCABA"},{"$f":"IF(AND(INTRO!$E$37=\"Non endémique\",INTRO!$E$41=\"Non endémique\"),0,IF(AND(OR(COUNTRY_INFO!$H159=0,COUNTRY_INFO!$H159=4,COUNTRY_INFO!$H159=99),OR(COUNTRY_INFO!$J159=0,COUNTRY_INFO!$J159=4)),0,COUNTRY_INFO!$E159))","v":8038},{"$f":"IF(AND(INTRO!$E$37=\"Non endémique\",INTRO!$E$41=\"Non endémique\"),0,IF(AND(OR(COUNTRY_INFO!$H159=0,COUNTRY_INFO!$H159=4,COUNTRY_INFO!$H159=99),OR(COUNTRY_INFO!$J159=0,COUNTRY_INFO!$J159=4)),0,COUNTRY_INFO!$F159))","v":14017},22055,{"$f":"IF(AND(INTRO!$E$37=\"Non endémique\",INTRO!$E$41=\"Non endémique\"),0,COUNTRY_INFO!Q159)","v":0},{"$f":"IF(AND(INTRO!$E$37=\"Non endémique\",INTRO!$E$41=\"Non endémique\"),0,COUNTRY_INFO!S159)","v":2},{"$f":"IF($G159=1,IVM!$G159,0)","v":0},{"$f":"IF($G159=0, \" \", IF(COUNTRY_INFO!$H159=1, IF(COUNTRY_INFO!$L159=1, 0,\" \"),\" \"))","v":" "},null,"ALB",{"$f":"IF($L159=\"ALB\", IF(INTRO!$E$39=\"Non endémique\",IF($H159<>0,$D159*($H159-$G159),0),$D159*$H159), 0)","v":16076},28034,null,44110,{"$f":"IF($L159=\"MBD\", IF(INTRO!$E$39=\"Non endémique\",IF($H159<>0,$D159*($H159-$G159),0),$D159*$H159),0)","v":0},0,null,0,null,0,0,null,28034,141,null,0,0]
[{"$f":"IF(AND(INTRO!$E$37=\"Non endémique\",INTRO!$E$41=\"Non endémique\"),\" \",IF(COUNTRY_INFO!A160=0,\" \",COUNTRY_INFO!A160))","v":"Angola"},{"$f":"IF(AND(INTRO!$E$37=\"Non endémique\",INTRO!$E$41=\"Non endémique\"),\" \",IF(COUNTRY_INFO!B160=0,\" \",COUNTRY_INFO!B160))","v":"UIGE"},{"$f":"IF(AND(INTRO!$E$37=\"Non endémique\",INTRO!$E$41=\"Non endémique\"),\" \",IF(COUNTRY_INFO!C160=0,\" \",COUNTRY_INFO!C160))","v":"NEGAGE"},{"$f":"IF(AND(INTRO!$E$37=\"Non endémique\",INTRO!$E$41=\"Non endémique\"),0,IF(AND(OR(COUNTRY_INFO!$H160=0,COUNTRY_INFO!$H160=4,COUNTRY_INFO!$H160=99),OR(COUNTRY_INFO!$J160=0,COUNTRY_INFO!$J160=4)),0,COUNTRY_INFO!$E160))","v":25146},{"$f":"IF(AND(INTRO!$E$37=\"Non endémique\",INTRO!$E$41=\"Non endémique\"),0,IF(AND(OR(COUNTRY_INFO!$H160=0,COUNTRY_INFO!$H160=4,COUNTRY_INFO!$H160=99),OR(COUNTRY_INFO!$J160=0,COUNTRY_INFO!$J160=4)),0,COUNTRY_INFO!$F160))","v":43848},68994,{"$f":"IF(AND(INTRO!$E$37=\"Non endémique\",INTRO!$E$41=\"Non endémique\"),0,COUNTRY_INFO!Q160)","v":0},{"$f":"IF(AND(INTRO!$E$37=\"Non endémique\",INTRO!$E$41=\"Non endémique\"),0,COUNTRY_INFO!S160)","v":2},{"$f":"IF($G160=1,IVM!$G160,0)","v":0},{"$f":"IF($G160=0, \" \", IF(COUNTRY_INFO!$H160=1, IF(COUNTRY_INFO!$L160=1, 0,\" \"),\" \"))","v":" "},null,"ALB",{"$f":"IF($L160=\"ALB\", IF(INTRO!$E$39=\"Non endémique\",IF($H160<>0,$D160*($H160-$G160),0),$D160*$H160), 0)","v":50292},87696,null,137988,{"$f":"IF($L160=\"MBD\", IF(INTRO!$E$39=\"Non endémique\",IF($H160<>0,$D160*($H160-$G160),0),$D160*$H160),0)","v":0},0,null,0,null,0,0,null,87696,439,null,0,0]
[{"$f":"IF(AND(INTRO!$E$37=\"Non endémique\",INTRO!$E$41=\"Non endémique\"),\" \",IF(COUNTRY_INFO!A161=0,\" \",COUNTRY_INFO!A161))","v":"Angola"},{"$f":"IF(AND(INTRO!$E$37=\"Non endémique\",INTRO!$E$41=\"Non endémique\"),\" \",IF(COUNTRY_INFO!B161=0,\" \",COUNTRY_INFO!B161))","v":"UIGE"},{"$f":"IF(AND(INTRO!$E$37=\"Non endémique\",INTRO!$E$41=\"Non endémique\"),\" \",IF(COUNTRY_INFO!C161=0,\" \",COUNTRY_INFO!C161))","v":"PURI"},{"$f":"IF(AND(INTRO!$E$37=\"Non endémique\",INTRO!$E$41=\"Non endémique\"),0,IF(AND(OR(COUNTRY_INFO!$H161=0,COUNTRY_INFO!$H161=4,COUNTRY_INFO!$H161=99),OR(COUNTRY_INFO!$J161=0,COUNTRY_INFO!$J161=4)),0,COUNTRY_INFO!$E161))","v":6930},{"$f":"IF(AND(INTRO!$E$37=\"Non endémique\",INTRO!$E$41=\"Non endémique\"),0,IF(AND(OR(COUNTRY_INFO!$H161=0,COUNTRY_INFO!$H161=4,COUNTRY_INFO!$H161=99),OR(COUNTRY_INFO!$J161=0,COUNTRY_INFO!$J161=4)),0,COUNTRY_INFO!$F161))","v":12084},19014,{"$f":"IF(AND(INTRO!$E$37=\"Non endémique\",INTRO!$E$41=\"Non endémique\"),0,COUNTRY_INFO!Q161)","v":0},{"$f":"IF(AND(INTRO!$E$37=\"Non endémique\",INTRO!$E$41=\"Non endémique\"),0,COUNTRY_INFO!S161)","v":2},{"$f":"IF($G161=1,IVM!$G161,0)","v":0},{"$f":"IF($G161=0, \" \", IF(COUNTRY_INFO!$H161=1, IF(COUNTRY_INFO!$L161=1, 0,\" \"),\" \"))","v":" "},null,"ALB",{"$f":"IF($L161=\"ALB\", IF(INTRO!$E$39=\"Non endémique\",IF($H161<>0,$D161*($H161-$G161),0),$D161*$H161), 0)","v":13860},24168,null,38028,{"$f":"IF($L161=\"MBD\", IF(INTRO!$E$39=\"Non endémique\",IF($H161<>0,$D161*($H161-$G161),0),$D161*$H161),0)","v":0},0,null,0,null,0,0,null,24168,121,null,0,0]
[{"$f":"IF(AND(INTRO!$E$37=\"Non endémique\",INTRO!$E$41=\"Non endémique\"),\" \",IF(COUNTRY_INFO!A162=0,\" \",COUNTRY_INFO!A162))","v":"Angola"},{"$f":"IF(AND(INTRO!$E$37=\"Non endémique\",INTRO!$E$41=\"Non endémique\"),\" \",IF(COUNTRY_INFO!B162=0,\" \",COUNTRY_INFO!B162))","v":"UIGE"},{"$f":"IF(AND(INTRO!$E$37=\"Non endémique\",INTRO!$E$41=\"Non endémique\"),\" \",IF(COUNTRY_INFO!C162=0,\" \",COUNTRY_INFO!C162))","v":"QUIMBELE"},{"$f":"IF(AND(INTRO!$E$37=\"Non endémique\",INTRO!$E$41=\"Non endémique\"),0,IF(AND(OR(COUNTRY_INFO!$H162=0,COUNTRY_INFO!$H162=4,COUNTRY_INFO!$H162=99),OR(COUNTRY_INFO!$J162=0,COUNTRY_INFO!$J162=4)),0,COUNTRY_INFO!$E162))","v":24951},{"$f":"IF(AND(INTRO!$E$37=\"Non endémique\",INTRO!$E$41=\"Non endémique\"),0,IF(AND(OR(COUNTRY_INFO!$H162=0,COUNTRY_INFO!$H162=4,COUNTRY_INFO!$H162=99),OR(COUNTRY_INFO!$J162=0,COUNTRY_INFO!$J162=4)),0,COUNTRY_INFO!$F162))","v":43509},68460,{"$f":"IF(AND(INTRO!$E$37=\"Non endémique\",INTRO!$E$41=\"Non endémique\"),0,COUNTRY_INFO!Q162)","v":0},{"$f":"IF(AND(INTRO!$E$37=\"Non endémique\",INTRO!$E$41=\"Non endémique\"),0,COUNTRY_INFO!S162)","v":2},{"$f":"IF($G162=1,IVM!$G162,0)","v":0},{"$f":"IF($G162=0, \" \", IF(COUNTRY_INFO!$H162=1, IF(COUNTRY_INFO!$L162=1, 0,\" \"),\" \"))","v":" "},null,"ALB",{"$f":"IF($L162=\"ALB\", IF(INTRO!$E$39=\"Non endémique\",IF($H162<>0,$D162*($H162-$G162),0),$D162*$H162), 0)","v":49902},87018,null,136920,{"$f":"IF($L162=\"MBD\", IF(INTRO!$E$39=\"Non endémique\",IF($H162<>0,$D162*($H162-$G162),0),$D162*$H162),0)","v":0},0,null,0,null,0,0,null,87018,436,null,0,0]
[{"$f":"IF(AND(INTRO!$E$37=\"Non endémique\",INTRO!$E$41=\"Non endémique\"),\" \",IF(COUNTRY_INFO!A163=0,\" \",COUNTRY_INFO!A163))","v":"Angola"},{"$f":"IF(AND(INTRO!$E$37=\"Non endémique\",INTRO!$E$41=\"Non endémique\"),\" \",IF(COUNTRY_INFO!B163=0,\" \",COUNTRY_INFO!B163))","v":"UIGE"},{"$f":"IF(AND(INTRO!$E$37=\"Non endémique\",INTRO!$E$41=\"Non endémique\"),\" \",IF(COUNTRY_INFO!C163=0,\" \",COUNTRY_INFO!C163))","v":"QUITEXE"},{"$f":"IF(AND(INTRO!$E$37=\"Non endémique\",INTRO!$E$41=\"Non endémique\"),0,IF(AND(OR(COUNTRY_INFO!$H163=0,COUNTRY_INFO!$H163=4,COUNTRY_INFO!$H163=99),OR(COUNTRY_INFO!$J163=0,COUNTRY_INFO!$J163=4)),0,COUNTRY_INFO!$E163))","v":6269},{"$f":"IF(AND(INTRO!$E$37=\"Non endémique\",INTRO!$E$41=\"Non endémique\"),0,IF(AND(OR(COUNTRY_INFO!$H163=0,COUNTRY_INFO!$H163=4,COUNTRY_INFO!$H163=99),OR(COUNTRY_INFO!$J163=0,COUNTRY_INFO!$J163=4)),0,COUNTRY_INFO!$F163))","v":10932},17201,{"$f":"IF(AND(INTRO!$E$37=\"Non endémique\",INTRO!$E$41=\"Non endémique\"),0,COUNTRY_INFO!Q163)","v":0},{"$f":"IF(AND(INTRO!$E$37=\"Non endémique\",INTRO!$E$41=\"Non endémique\"),0,COUNTRY_INFO!S163)","v":2},{"$f":"IF($G163=1,IVM!$G163,0)","v":0},{"$f":"IF($G163=0, \" \", IF(COUNTRY_INFO!$H163=1, IF(COUNTRY_INFO!$L163=1, 0,\" \"),\" \"))","v":" "},null,"ALB",{"$f":"IF($L163=\"ALB\", IF(INTRO!$E$39=\"Non endémique\",IF($H163<>0,$D163*($H163-$G163),0),$D163*$H163), 0)","v":12538},21864,null,34402,{"$f":"IF($L163=\"MBD\", IF(INTRO!$E$39=\"Non endémique\",IF($H163<>0,$D163*($H163-$G163),0),$D163*$H163),0)","v":0},0,null,0,null,0,0,null,21864,110,null,0,0]
[{"$f":"IF(AND(INTRO!$E$37=\"Non endémique\",INTRO!$E$41=\"Non endémique\"),\" \",IF(COUNTRY_INFO!A164=0,\" \",COUNTRY_INFO!A164))","v":"Angola"},{"$f":"IF(AND(INTRO!$E$37=\"Non endémique\",INTRO!$E$41=\"Non endémique\"),\" \",IF(COUNTRY_INFO!B164=0,\" \",COUNTRY_INFO!B164))","v":"UIGE"},{"$f":"IF(AND(INTRO!$E$37=\"Non endémique\",INTRO!$E$41=\"Non endémique\"),\" \",IF(COUNTRY_INFO!C164=0,\" \",COUNTRY_INFO!C164))","v":"SANZA POMBO"},{"$f":"IF(AND(INTRO!$E$37=\"Non endémique\",INTRO!$E$41=\"Non endémique\"),0,IF(AND(OR(COUNTRY_INFO!$H164=0,COUNTRY_INFO!$H164=4,COUNTRY_INFO!$H164=99),OR(COUNTRY_INFO!$J164=0,COUNTRY_INFO!$J164=4)),0,COUNTRY_INFO!$E164))","v":12502},{"$f":"IF(AND(INTRO!$E$37=\"Non endémique\",INTRO!$E$41=\"Non endémique\"),0,IF(AND(OR(COUNTRY_INFO!$H164=0,COUNTRY_INFO!$H164=4,COUNTRY_INFO!$H164=99),OR(COUNTRY_INFO!$J164=0,COUNTRY_INFO!$J164=4)),0,COUNTRY_INFO!$F164))","v":21800},34302,{"$f":"IF(AND(INTRO!$E$37=\"Non endémique\",INTRO!$E$41=\"Non endémique\"),0,COUNTRY_INFO!Q164)","v":0},{"$f":"IF(AND(INTRO!$E$37=\"Non endémique\",INTRO!$E$41=\"Non endémique\"),0,COUNTRY_INFO!S164)","v":1},{"$f":"IF($G164=1,IVM!$G164,0)","v":0},{"$f":"IF($G164=0, \" \", IF(COUNTRY_INFO!$H164=1, IF(COUNTRY_INFO!$L164=1, 0,\" \"),\" \"))","v":" "},null,"ALB",{"$f":"IF($L164=\"ALB\", IF(INTRO!$E$39=\"Non endémique\",IF($H164<>0,$D164*($H164-$G164),0),$D164*$H164), 0)","v":12502},21800,null,34302,{"$f":"IF($L164=\"MBD\", IF(INTRO!$E$39=\"Non endémique\",IF($H164<>0,$D164*($H164-$G164),0),$D164*$H164),0)","v":0},0,null,0,null,0,0,null,21800,109,null,0,0]
[{"$f":"IF(AND(INTRO!$E$37=\"Non endémique\",INTRO!$E$41=\"Non endémique\"),\" \",IF(COUNTRY_INFO!A165=0,\" \",COUNTRY_INFO!A165))","v":"Angola"},{"$f":"IF(AND(INTRO!$E$37=\"Non endémique\",INTRO!$E$41=\"Non endémique\"),\" \",IF(COUNTRY_INFO!B165=0,\" \",COUNTRY_INFO!B165))","v":"UIGE"},{"$f":"IF(AND(INTRO!$E$37=\"Non endémique\",INTRO!$E$41=\"Non endémique\"),\" \",IF(COUNTRY_INFO!C165=0,\" \",COUNTRY_INFO!C165))","v":"SONGO"},{"$f":"IF(AND(INTRO!$E$37=\"Non endémique\",INTRO!$E$41=\"Non endémique\"),0,IF(AND(OR(COUNTRY_INFO!$H165=0,COUNTRY_INFO!$H165=4,COUNTRY_INFO!$H165=99),OR(COUNTRY_INFO!$J165=0,COUNTRY_INFO!$J165=4)),0,COUNTRY_INFO!$E165))","v":11275},{"$f":"IF(AND(INTRO!$E$37=\"Non endémique\",INTRO!$E$41=\"Non endémique\"),0,IF(AND(OR(COUNTRY_INFO!$H165=0,COUNTRY_INFO!$H165=4,COUNTRY_INFO!$H165=99),OR(COUNTRY_INFO!$J165=0,COUNTRY_INFO!$J165=4)),0,COUNTRY_INFO!$F165))","v":19661},30936,{"$f":"IF(AND(INTRO!$E$37=\"Non endémique\",INTRO!$E$41=\"Non endémique\"),0,COUNTRY_INFO!Q165)","v":1},{"$f":"IF(AND(INTRO!$E$37=\"Non endémique\",INTRO!$E$41=\"Non endémique\"),0,COUNTRY_INFO!S165)","v":2},{"$f":"IF($G165=1,IVM!$G165,0)","v":56799},{"$f":"IF($G165=0, \" \", IF(COUNTRY_INFO!$H165=1, IF(COUNTRY_INFO!$L165=1, 0,\" \"),\" \"))","v":0},null,"ALB",{"$f":"IF($L165=\"ALB\", IF(INTRO!$E$39=\"Non endémique\",IF($H165<>0,$D165*($H165-$G165),0),$D165*$H165), 0)","v":22550},19661,null,42211,{"$f":"IF($L165=\"MBD\", IF(INTRO!$E$39=\"Non endémique\",IF($H165<>0,$D165*($H165-$G165),0),$D165*$H165),0)","v":0},0,null,0,null,56799,284,null,19661,99,null,0,0]
[{"$f":"IF(AND(INTRO!$E$37=\"Non endémique\",INTRO!$E$41=\"Non endémique\"),\" \",IF(COUNTRY_INFO!A166=0,\" \",COUNTRY_INFO!A166))","v":"Angola"},{"$f":"IF(AND(INTRO!$E$37=\"Non endémique\",INTRO!$E$41=\"Non endémique\"),\" \",IF(COUNTRY_INFO!B166=0,\" \",COUNTRY_INFO!B166))","v":"UIGE"},{"$f":"IF(AND(INTRO!$E$37=\"Non endémique\",INTRO!$E$41=\"Non endémique\"),\" \",IF(COUNTRY_INFO!C166=0,\" \",COUNTRY_INFO!C166))","v":"UIGE"},{"$f":"IF(AND(INTRO!$E$37=\"Non endémique\",INTRO!$E$41=\"Non endémique\"),0,IF(AND(OR(COUNTRY_INFO!$H166=0,COUNTRY_INFO!$H166=4,COUNTRY_INFO!$H166=99),OR(COUNTRY_INFO!$J166=0,COUNTRY_INFO!$J166=4)),0,COUNTRY_INFO!$E166))","v":94908},{"$f":"IF(AND(INTRO!$E$37=\"Non endémique\",INTRO!$E$41=\"Non endémique\"),0,IF(AND(OR(COUNTRY_INFO!$H166=0,COUNTRY_INFO!$H166=4,COUNTRY_INFO!$H166=99),OR(COUNTRY_INFO!$J166=0,COUNTRY_INFO!$J166=4)),0,COUNTRY_INFO!$F166))","v":165496},260404,{"$f":"IF(AND(INTRO!$E$37=\"Non endémique\",INTRO!$E$41=\"Non endémique\"),0,COUNTRY_INFO!Q166)","v":1},{"$f":"IF(AND(INTRO!$E$37=\"Non endémique\",INTRO!$E$41=\"Non endémique\"),0,COUNTRY_INFO!S166)","v":1},{"$f":"IF($G166=1,IVM!$G166,0)","v":478100},0,null,"ALB",{"$f":"IF($L166=\"ALB\", IF(INTRO!$E$39=\"Non endémique\",IF($H166<>0,$D166*($H166-$G166),0),$D166*$H166), 0)","v":94908},0,null,94908,{"$f":"IF($L166=\"MBD\", IF(INTRO!$E$39=\"Non endémique\",IF($H166<>0,$D166*($H166-$G166),0),$D166*$H166),0)","v":0},0,null,0,null,478100,2391,null,0,0,null,0,0]
[{"$f":"IF(AND(INTRO!$E$37=\"Non endémique\",INTRO!$E$41=\"Non endémique\"),\" \",IF(COUNTRY_INFO!A167=0,\" \",COUNTRY_INFO!A167))","v":"Angola"},{"$f":"IF(AND(INTRO!$E$37=\"Non endémique\",INTRO!$E$41=\"Non endémique\"),\" \",IF(COUNTRY_INFO!B167=0,\" \",COUNTRY_INFO!B167))","v":"ZAIRE"},{"$f":"IF(AND(INTRO!$E$37=\"Non endémique\",INTRO!$E$41=\"Non endémique\"),\" \",IF(COUNTRY_INFO!C167=0,\" \",COUNTRY_INFO!C167))","v":"CUIMBA"},{"$f":"IF(AND(INTRO!$E$37=\"Non endémique\",INTRO!$E$41=\"Non endémique\"),0,IF(AND(OR(COUNTRY_INFO!$H167=0,COUNTRY_INFO!$H167=4,COUNTRY_INFO!$H167=99),OR(COUNTRY_INFO!$J167=0,COUNTRY_INFO!$J167=4)),0,COUNTRY_INFO!$E167))","v":12648},{"$f":"IF(AND(INTRO!$E$37=\"Non endémique\",INTRO!$E$41=\"Non endémique\"),0,IF(AND(OR(COUNTRY_INFO!$H167=0,COUNTRY_INFO!$H167=4,COUNTRY_INFO!$H167=99),OR(COUNTRY_INFO!$J167=0,COUNTRY_INFO!$J167=4)),0,COUNTRY_INFO!$F167))","v":22056},34704,{"$f":"IF(AND(INTRO!$E$37=\"Non endémique\",INTRO!$E$41=\"Non endémique\"),0,COUNTRY_INFO!Q167)","v":0},{"$f":"IF(AND(INTRO!$E$37=\"Non endémique\",INTRO!$E$41=\"Non endémique\"),0,COUNTRY_INFO!S167)","v":1},{"$f":"IF($G167=1,IVM!$G167,0)","v":0},{"$f":"IF($G167=0, \" \", IF(COUNTRY_INFO!$H167=1, IF(COUNTRY_INFO!$L167=1, 0,\" \"),\" \"))","v":" "},null,"ALB",{"$f":"IF($L167=\"ALB\", IF(INTRO!$E$39=\"Non endémique\",IF($H167<>0,$D167*($H167-$G167),0),$D167*$H167), 0)","v":12648},22056,null,34704,{"$f":"IF($L167=\"MBD\", IF(INTRO!$E$39=\"Non endémique\",IF($H167<>0,$D167*($H167-$G167),0),$D167*$H167),0)","v":0},0,null,0,null,0,0,null,22056,111,null,0,0]
[{"$f":"IF(AND(INTRO!$E$37=\"Non endémique\",INTRO!$E$41=\"Non endémique\"),\" \",IF(COUNTRY_INFO!A168=0,\" \",COUNTRY_INFO!A168))","v":"Angola"},{"$f":"IF(AND(INTRO!$E$37=\"Non endémique\",INTRO!$E$41=\"Non endémique\"),\" \",IF(COUNTRY_INFO!B168=0,\" \",COUNTRY_INFO!B168))","v":"ZAIRE"},{"$f":"IF(AND(INTRO!$E$37=\"Non endémique\",INTRO!$E$41=\"Non endémique\"),\" \",IF(COUNTRY_INFO!C168=0,\" \",COUNTRY_INFO!C168))","v":"MBANZA CONGO"},{"$f":"IF(AND(INTRO!$E$37=\"Non endémique\",INTRO!$E$41=\"Non endémique\"),0,IF(AND(OR(COUNTRY_INFO!$H168=0,COUNTRY_INFO!$H168=4,COUNTRY_INFO!$H168=99),OR(COUNTRY_INFO!$J168=0,COUNTRY_INFO!$J168=4)),0,COUNTRY_INFO!$E168))","v":32964},{"$f":"IF(AND(INTRO!$E$37=\"Non endémique\",INTRO!$E$41=\"Non endémique\"),0,IF(AND(OR(COUNTRY_INFO!$H168=0,COUNTRY_INFO!$H168=4,COUNTRY_INFO!$H168=99),OR(COUNTRY_INFO!$J168=0,COUNTRY_INFO!$J168=4)),0,COUNTRY_INFO!$F168))","v":57481},90445,{"$f":"IF(AND(INTRO!$E$37=\"Non endémique\",INTRO!$E$41=\"Non endémique\"),0,COUNTRY_INFO!Q168)","v":0},{"$f":"IF(AND(INTRO!$E$37=\"Non endémique\",INTRO!$E$41=\"Non endémique\"),0,COUNTRY_INFO!S168)","v":0},{"$f":"IF($G168=1,IVM!$G168,0)","v":0},{"$f":"IF($G168=0, \" \", IF(COUNTRY_INFO!$H168=1, IF(COUNTRY_INFO!$L168=1, 0,\" \"),\" \"))","v":" "},null,"ALB",{"$f":"IF($L168=\"ALB\", IF(INTRO!$E$39=\"Non endémique\",IF($H168<>0,$D168*($H168-$G168),0),$D168*$H168), 0)","v":0},0,null,0,{"$f":"IF($L168=\"MBD\", IF(INTRO!$E$39=\"Non endémique\",IF($H168<>0,$D168*($H168-$G168),0),$D168*$H168),0)","v":0},0,null,0,null,0,0,null,0,0,null,0,0]
[{"$f":"IF(AND(INTRO!$E$37=\"Non endémique\",INTRO!$E$41=\"Non endémique\"),\" \",IF(COUNTRY_INFO!A169=0,\" \",COUNTRY_INFO!A169))","v":"Angola"},{"$f":"IF(AND(INTRO!$E$37=\"Non endémique\",INTRO!$E$41=\"Non endémique\"),\" \",IF(COUNTRY_INFO!B169=0,\" \",COUNTRY_INFO!B169))","v":"ZAIRE"},{"$f":"IF(AND(INTRO!$E$37=\"Non endémique\",INTRO!$E$41=\"Non endémique\"),\" \",IF(COUNTRY_INFO!C169=0,\" \",COUNTRY_INFO!C169))","v":"NOQUI"},{"$f":"IF(AND(INTRO!$E$37=\"Non endémique\",INTRO!$E$41=\"Non endémique\"),0,IF(AND(OR(COUNTRY_INFO!$H169=0,COUNTRY_INFO!$H169=4,COUNTRY_INFO!$H169=99),OR(COUNTRY_INFO!$J169=0,COUNTRY_INFO!$J169=4)),0,COUNTRY_INFO!$E169))","v":4365},{"$f":"IF(AND(INTRO!$E$37=\"Non endémique\",INTRO!$E$41=\"Non endémique\"),0,IF(AND(OR(COUNTRY_INFO!$H169=0,COUNTRY_INFO!$H169=4,COUNTRY_INFO!$H169=99),OR(COUNTRY_INFO!$J169=0,COUNTRY_INFO!$J169=4)),0,COUNTRY_INFO!$F169))","v":7612},{"$f":"SUM(D169:E169)","v":11977},{"$f":"IF(AND(INTRO!$E$37=\"Non endémique\",INTRO!$E$41=\"Non endémique\"),0,COUNTRY_INFO!Q169)","v":0},{"$f":"IF(AND(INTRO!$E$37=\"Non endémique\",INTRO!$E$41=\"Non endémique\"),0,COUNTRY_INFO!S169)","v":1},{"$f":"IF($G169=1,IVM!$G169,0)","v":0},{"$f":"IF($G169=0, \" \", IF(COUNTRY_INFO!$H169=1, IF(COUNTRY_INFO!$L169=1, 0,\" \"),\" \"))","v":" "},null,"ALB",{"$f":"IF($L169=\"ALB\", IF(INTRO!$E$39=\"Non endémique\",IF($H169<>0,$D169*($H169-$G169),0),$D169*$H169), 0)","v":4365},7612,null,{"$f":"SUM(M169:O169)","v":11977},{"$f":"IF($L169=\"MBD\", IF(INTRO!$E$39=\"Non endémique\",IF($H169<>0,$D169*($H169-$G169),0),$D169*$H169),0)","v":0},0,null,{"$f":"SUM(Q169:S169)","v":0},null,0,0,null,7612,39,null,0,0]
[{"$f":"IF(AND(INTRO!$E$37=\"Non endémique\",INTRO!$E$41=\"Non endémique\"),\" \",IF(COUNTRY_INFO!A170=0,\" \",COUNTRY_INFO!A170))","v":"Angola"},{"$f":"IF(AND(INTRO!$E$37=\"Non endémique\",INTRO!$E$41=\"Non endémique\"),\" \",IF(COUNTRY_INFO!B170=0,\" \",COUNTRY_INFO!B170))","v":"ZAIRE"},{"$f":"IF(AND(INTRO!$E$37=\"Non endémique\",INTRO!$E$41=\"Non endémique\"),\" \",IF(COUNTRY_INFO!C170=0,\" \",COUNTRY_INFO!C170))","v":"NZETO"},{"$f":"IF(AND(INTRO!$E$37=\"Non endémique\",INTRO!$E$41=\"Non endémique\"),0,IF(AND(OR(COUNTRY_INFO!$H170=0,COUNTRY_INFO!$H170=4,COUNTRY_INFO!$H170=99),OR(COUNTRY_INFO!$J170=0,COUNTRY_INFO!$J170=4)),0,COUNTRY_INFO!$E170))","v":8742},{"$f":"IF(AND(INTRO!$E$37=\"Non endémique\",INTRO!$E$41=\"Non endémique\"),0,IF(AND(OR(COUNTRY_INFO!$H170=0,COUNTRY_INFO!$H170=4,COUNTRY_INFO!$H170=99),OR(COUNTRY_INFO!$J170=0,COUNTRY_INFO!$J170=4)),0,COUNTRY_INFO!$F170))","v":15244},{"$f":"SUM(D170:E170)","v":23986},{"$f":"IF(AND(INTRO!$E$37=\"Non endémique\",INTRO!$E$41=\"Non endémique\"),0,COUNTRY_INFO!Q170)","v":0},{"$f":"IF(AND(INTRO!$E$37=\"Non endémique\",INTRO!$E$41=\"Non endémique\"),0,COUNTRY_INFO!S170)","v":0},{"$f":"IF($G170=1,IVM!$G170,0)","v":0},{"$f":"IF($G170=0, \" \", IF(COUNTRY_INFO!$H170=1, IF(COUNTRY_INFO!$L170=1, 0,\" \"),\" \"))","v":" "},null,"ALB",{"$f":"IF($L170=\"ALB\", IF(INTRO!$E$39=\"Non endémique\",IF($H170<>0,$D170*($H170-$G170),0),$D170*$H170), 0)","v":0},0,null,{"$f":"SUM(M170:O170)","v":0},{"$f":"IF($L170=\"MBD\", IF(INTRO!$E$39=\"Non endémique\",IF($H170<>0,$D170*($H170-$G170),0),$D170*$H170),0)","v":0},0,null,{"$f":"SUM(Q170:S170)","v":0},null,0,0,null,0,0,null,0,0]
[{"$f":"IF(AND(INTRO!$E$37=\"Non endémique\",INTRO!$E$41=\"Non endémique\"),\" \",IF(COUNTRY_INFO!A171=0,\" \",COUNTRY_INFO!A171))","v":"Angola"},{"$f":"IF(AND(INTRO!$E$37=\"Non endémique\",INTRO!$E$41=\"Non endémique\"),\" \",IF(COUNTRY_INFO!B171=0,\" \",COUNTRY_INFO!B171))","v":"ZAIRE"},{"$f":"IF(AND(INTRO!$E$37=\"Non endémique\",INTRO!$E$41=\"Non endémique\"),\" \",IF(COUNTRY_INFO!C171=0,\" \",COUNTRY_INFO!C171))","v":"SOYO"},{"$f":"IF(AND(INTRO!$E$37=\"Non endémique\",INTRO!$E$41=\"Non endémique\"),0,IF(AND(OR(COUNTRY_INFO!$H171=0,COUNTRY_INFO!$H171=4,COUNTRY_INFO!$H171=99),OR(COUNTRY_INFO!$J171=0,COUNTRY_INFO!$J171=4)),0,COUNTRY_INFO!$E171))","v":41527},{"$f":"IF(AND(INTRO!$E$37=\"Non endémique\",INTRO!$E$41=\"Non endémique\"),0,IF(AND(OR(COUNTRY_INFO!$H171=0,COUNTRY_INFO!$H171=4,COUNTRY_INFO!$H171=99),OR(COUNTRY_INFO!$J171=0,COUNTRY_INFO!$J171=4)),0,COUNTRY_INFO!$F171))","v":72413},{"$f":"SUM(D171:E171)","v":113940},{"$f":"IF(AND(INTRO!$E$37=\"Non endémique\",INTRO!$E$41=\"Non endémique\"),0,COUNTRY_INFO!Q171)","v":0},{"$f":"IF(AND(INTRO!$E$37=\"Non endémique\",INTRO!$E$41=\"Non endémique\"),0,COUNTRY_INFO!S171)","v":1},{"$f":"IF($G171=1,IVM!$G171,0)","v":0},{"$f":"IF($G171=0, \" \", IF(COUNTRY_INFO!$H171=1, IF(COUNTRY_INFO!$L171=1, 0,\" \"),\" \"))","v":" "},null,"ALB",{"$f":"IF($L171=\"ALB\", IF(INTRO!$E$39=\"Non endémique\",IF($H171<>0,$D171*($H171-$G171),0),$D171*$H171), 0)","v":41527},72413,null,{"$f":"SUM(M171:O171)","v":113940},{"$f":"IF($L171=\"MBD\", IF(INTRO!$E$39=\"Non endémique\",IF($H171<>0,$D171*($H171-$G171),0),$D171*$H171),0)","v":0},0,null,{"$f":"SUM(Q171:S171)","v":0},null,0,0,null,72413,363,null,0,0]
[{"$f":"IF(AND(INTRO!$E$37=\"Non endémique\",INTRO!$E$41=\"Non endémique\"),\" \",IF(COUNTRY_INFO!A172=0,\" \",COUNTRY_INFO!A172))","v":"Angola"},{"$f":"IF(AND(INTRO!$E$37=\"Non endémique\",INTRO!$E$41=\"Non endémique\"),\" \",IF(COUNTRY_INFO!B172=0,\" \",COUNTRY_INFO!B172))","v":"ZAIRE"},{"$f":"IF(AND(INTRO!$E$37=\"Non endémique\",INTRO!$E$41=\"Non endémique\"),\" \",IF(COUNTRY_INFO!C172=0,\" \",COUNTRY_INFO!C172))","v":"TOMBOCO"},{"$f":"IF(AND(INTRO!$E$37=\"Non endémique\",INTRO!$E$41=\"Non endémique\"),0,IF(AND(OR(COUNTRY_INFO!$H172=0,COUNTRY_INFO!$H172=4,COUNTRY_INFO!$H172=99),OR(COUNTRY_INFO!$J172=0,COUNTRY_INFO!$J172=4)),0,COUNTRY_INFO!$E172))","v":8413},{"$f":"IF(AND(INTRO!$E$37=\"Non endémique\",INTRO!$E$41=\"Non endémique\"),0,IF(AND(OR(COUNTRY_INFO!$H172=0,COUNTRY_INFO!$H172=4,COUNTRY_INFO!$H172=99),OR(COUNTRY_INFO!$J172=0,COUNTRY_INFO!$J172=4)),0,COUNTRY_INFO!$F172))","v":14671},{"$f":"SUM(D172:E172)","v":23084},{"$f":"IF(AND(INTRO!$E$37=\"Non endémique\",INTRO!$E$41=\"Non endémique\"),0,COUNTRY_INFO!Q172)","v":0},{"$f":"IF(AND(INTRO!$E$37=\"Non endémique\",INTRO!$E$41=\"Non endémique\"),0,COUNTRY_INFO!S172)","v":1},{"$f":"IF($G172=1,IVM!$G172,0)","v":0},{"$f":"IF($G172=0, \" \", IF(COUNTRY_INFO!$H172=1, IF(COUNTRY_INFO!$L172=1, 0,\" \"),\" \"))","v":" "},null,"ALB",{"$f":"IF($L172=\"ALB\", IF(INTRO!$E$39=\"Non endémique\",IF($H172<>0,$D172*($H172-$G172),0),$D172*$H172), 0)","v":8413},14671,null,{"$f":"SUM(M172:O172)","v":23084},{"$f":"IF($L172=\"MBD\", IF(INTRO!$E$39=\"Non endémique\",IF($H172<>0,$D172*($H172-$G172),0),$D172*$H172),0)","v":0},0,null,{"$f":"SUM(Q172:S172)","v":0},null,0,0,null,14671,74,null,0,0]

{"sheet":"PZQ","index":3,"n_rows":172,"n_cols":18,"rows_kept":172,"cut":false,"hidden":false,"merged":[[6,16,7,16],[5,12,5,17],[6,6,7,6],[6,8,7,8],[6,9,7,9],[3,0,3,2],[5,0,5,2],[5,3,5,5],[5,8,5,11],[5,6,5,7],[6,10,7,10],[6,17,7,17],[6,13,7,13],[6,14,7,14],[6,15,7,15],[6,11,7,11],[6,12,7,12],[6,4,7,4],[6,5,7,5],[6,7,7,7],[6,0,7,0],[6,1,7,1],[6,2,7,2],[6,3,7,3]]}
["Praziquantel (PZQ)"]
["Structure administrative, population ciblée par groupe d'âge, plan de traitement et information sur les comprimés"]
[]
["TOTAL",null,null,{"$f":"SUM(D$9:D$1000)","v":4068555.6400000006},{"$f":"SUM(E$9:E$1000)","v":3020827.8000000021},{"$f":"SUM(F$9:F$1000)","v":7089383.4399999958},null,null,{"$f":"SUM(I$9:I$1000)","v":256402.5},0,216009,472411.50000000012,641006.25,648027,641006.25,1308000,641006.25,647]
[]
["Structure administrative du pays",null,null,"Population nécessitant un traitement avec PZQ",null,null,"Plan de traitement",null,"Population cible",null,null,null,"Praziquantel (PZQ)"]
["Pays","Région/Département","District","EAS","Adultes","Total","SCH","Tous EAS ciblés ?","EAS","EAS à un niveau inférieur","Adultes","Total","EAS","Adultes","Total requis\npour EAS","Reste en stock","Comprimés devant être fournis","Flacons (600mg)\n1000 comprimés"]
[]
[{"$f":"IF(INTRO!$E$43=\"Non endémique\",\" \", IF(COUNTRY_INFO!A9=0,\" \",COUNTRY_INFO!A9))","v":"Angola"},{"$f":"IF(INTRO!$E$43=\"Non endémique\",\" \", IF(COUNTRY_INFO!B9=0,\" \",COUNTRY_INFO!B9))","v":"BENGO"},{"$f":"IF(INTRO!$E$43=\"Non endémique\",\" \", IF(COUNTRY_INFO!C9=0,\" \",COUNTRY_INFO!C9))","v":"AMBRIZ"},{"$f":"IF(INTRO!$E$43=\"Non endémique\", 0, IF(COUNTRY_INFO!$K9>0, IF(COUNTRY_INFO!$K9=4, 0, IF(COUNTRY_INFO!$K9=1, COUNTRY_INFO!$F9*0.33, IF(COUNTRY_INFO!$K9=2, COUNTRY_INFO!$F9*0.5, COUNTRY_INFO!$F9))), 0))","v":3619.5},{"$f":"IF(INTRO!$E$43=\"Non endémique\", 0, IF(COUNTRY_INFO!$K9>0, IF(COUNTRY_INFO!$K9=4, 0, IF(COUNTRY_INFO!$K9=1, 0, IF(COUNTRY_INFO!$K9=2, COUNTRY_INFO!$G9*0.2, COUNTRY_INFO!$G9))), 0))","v":2735},{"$f":"SUM(D9:E9)","v":6354.5},{"$f":"IF(INTRO!$E$43=\"Non endémique\", \"Non requis\", COUNTRY_INFO!T9)","v":0},null,{"$f":"IF($D9=0,0,IF(AND($G9>0,$H9<>\"Oui\"),D9,IF(AND($G9>0,$H9=\"Oui\"),COUNTRY_INFO!$F9,0)))","v":0},null,{"$f":"IF($G9>0,E9, 0)","v":0},{"$f":"IF($J9=0,SUM(I9,K9),SUM(J9,K9))","v":0},{"$f":"IF($J9=0,$I9*2.5,$J9*2.5)","v":0},{"$f":"$K9*3","v":0},{"$f":"M9","v":0},null,{"$f":"IF($O9>$P9,O9-P9,0)","v":0},{"$f":"ROUNDUP($O9/1000,0)","v":0}]
[{"$f":"IF(INTRO!$E$43=\"Non endémique\",\" \", IF(COUNTRY_INFO!A10=0,\" \",COUNTRY_INFO!A10))","v":"Angola"},{"$f":"IF(INTRO!$E$43=\"Non endémique\",\" \", IF(COUNTRY_INFO!B10=0,\" \",COUNTRY_INFO!B10))","v":"BENGO"},{"$f":"IF(INTRO!$E$43=\"Non endémique\",\" \", IF(COUNTRY_INFO!C10=0,\" \",COUNTRY_INFO!C10))","v":"BULA ATUMBA"},{"$f":"IF(INTRO!$E$43=\"Non endémique\", 0, IF(COUNTRY_INFO!$K10>0, IF(COUNTRY_INFO!$K10=4, 0, IF(COUNTRY_INFO!$K10=1, COUNTRY_INFO!$F10*0.33, IF(COUNTRY_INFO!$K10=2, COUNTRY_INFO!$F10*0.5, COUNTRY_INFO!$F10))), 0))","v":2144.5},{"$f":"IF(INTRO!$E$43=\"Non endémique\", 0, IF(COUNTRY_INFO!$K10>0, IF(COUNTRY_INFO!$K10=4, 0, IF(COUNTRY_INFO!$K10=1, 0, IF(COUNTRY_INFO!$K10=2, COUNTRY_INFO!$G10*0.2, COUNTRY_INFO!$G10))), 0))","v":1620.2},3764.7,{"$f":"IF(INTRO!$E$43=\"Non endémique\", \"Non requis\", COUNTRY_INFO!T10)","v":0},null,{"$f":"IF($D10=0,0,IF(AND($G10>0,$H10<>\"Oui\"),D10,IF(AND($G10>0,$H10=\"Oui\"),COUNTRY_INFO!$F10,0)))","v":0},null,0,0,0,0,0,null,0,0]
[{"$f":"IF(INTRO!$E$43=\"Non endémique\",\" \", IF(COUNTRY_INFO!A11=0,\" \",COUNTRY_INFO!A11))","v":"Angola"},{"$f":"IF(INTRO!$E$43=\"Non endémique\",\" \", IF(COUNTRY_INFO!B11=0,\" \",COUNTRY_INFO!B11))","v":"BENGO"},{"$f":"IF(INTRO!$E$43=\"Non endémique\",\" \", IF(COUNTRY_INFO!C11=0,\" \",COUNTRY_INFO!C11))","v":"DANDE"},{"$f":"IF(INTRO!$E$43=\"Non endémique\", 0, IF(COUNTRY_INFO!$K11>0, IF(COUNTRY_INFO!$K11=4, 0, IF(COUNTRY_INFO!$K11=1, COUNTRY_INFO!$F11*0.33, IF(COUNTRY_INFO!$K11=2, COUNTRY_INFO!$F11*0.5, COUNTRY_INFO!$F11))), 0))","v":35466},{"$f":"IF(INTRO!$E$43=\"Non endémique\", 0, IF(COUNTRY_INFO!$K11>0, IF(COUNTRY_INFO!$K11=4, 0, IF(COUNTRY_INFO!$K11=1, 0, IF(COUNTRY_INFO!$K11=2, COUNTRY_INFO!$G11*0.2, COUNTRY_INFO!$G11))), 0))","v":26796.400000000001},62262.400000000001,{"$f":"IF(INTRO!$E$43=\"Non endémique\", \"Non requis\", COUNTRY_INFO!T11)","v":0},null,{"$f":"IF($D11=0,0,IF(AND($G11>0,$H11<>\"Oui\"),D11,IF(AND($G11>0,$H11=\"Oui\"),COUNTRY_INFO!$F11,0)))","v":0},null,0,0,0,0,0,null,0,0]
[{"$f":"IF(INTRO!$E$43=\"Non endémique\",\" \", IF(COUNTRY_INFO!A12=0,\" \",COUNTRY_INFO!A12))","v":"Angola"},{"$f":"IF(INTRO!$E$43=\"Non endémique\",\" \", IF(COUNTRY_INFO!B12=0,\" \",COUNTRY_INFO!B12))","v":"BENGO"},{"$f":"IF(INTRO!$E$43=\"Non endémique\",\" \", IF(COUNTRY_INFO!C12=0,\" \",COUNTRY_INFO!C12))","v":"DEMBOS"},{"$f":"IF(INTRO!$E$43=\"Non endémique\", 0, IF(COUNTRY_INFO!$K12>0, IF(COUNTRY_INFO!$K12=4, 0, IF(COUNTRY_INFO!$K12=1, COUNTRY_INFO!$F12*0.33, IF(COUNTRY_INFO!$K12=2, COUNTRY_INFO!$F12*0.5, COUNTRY_INFO!$F12))), 0))","v":4790.5},{"$f":"IF(INTRO!$E$43=\"Non endémique\", 0, IF(COUNTRY_INFO!$K12>0, IF(COUNTRY_INFO!$K12=4, 0, IF(COUNTRY_INFO!$K12=1, 0, IF(COUNTRY_INFO!$K12=2, COUNTRY_INFO!$G12*0.2, COUNTRY_INFO!$G12))), 0))","v":3619.6000000000004},8410.1,{"$f":"IF(INTRO!$E$43=\"Non endémique\", \"Non requis\", COUNTRY_INFO!T12)","v":0},null,{"$f":"IF($D12=0,0,IF(AND($G12>0,$H12<>\"Oui\"),D12,IF(AND($G12>0,$H12=\"Oui\"),COUNTRY_INFO!$F12,0)))","v":0},null,0,0,0,0,0,null,0,0]
[{"$f":"IF(INTRO!$E$43=\"Non endémique\",\" \", IF(COUNTRY_INFO!A13=0,\" \",COUNTRY_INFO!A13))","v":"Angola"},{"$f":"IF(INTRO!$E$43=\"Non endémique\",\" \", IF(COUNTRY_INFO!B13=0,\" \",COUNTRY_INFO!B13))","v":"BENGO"},{"$f":"IF(INTRO!$E$43=\"Non endémique\",\" \", IF(COUNTRY_INFO!C13=0,\" \",COUNTRY_INFO!C13))","v":"NAMBUANGONGO"},{"$f":"IF(INTRO!$E$43=\"Non endémique\", 0, IF(COUNTRY_INFO!$K13>0, IF(COUNTRY_INFO!$K13=4, 0, IF(COUNTRY_INFO!$K13=1, COUNTRY_INFO!$F13*0.33, IF(COUNTRY_INFO!$K13=2, COUNTRY_INFO!$F13*0.5, COUNTRY_INFO!$F13))), 0))","v":9703.5},{"$f":"IF(INTRO!$E$43=\"Non endémique\", 0, IF(COUNTRY_INFO!$K13>0, IF(COUNTRY_INFO!$K13=4, 0, IF(COUNTRY_INFO!$K13=1, 0, IF(COUNTRY_INFO!$K13=2, COUNTRY_INFO!$G13*0.2, COUNTRY_INFO!$G13))), 0))","v":7331.4000000000005},17034.900000000001,{"$f":"IF(INTRO!$E$43=\"Non endémique\", \"Non requis\", COUNTRY_INFO!T13)","v":0},null,{"$f":"IF($D13=0,0,IF(AND($G13>0,$H13<>\"Oui\"),D13,IF(AND($G13>0,$H13=\"Oui\"),COUNTRY_INFO!$F13,0)))","v":0},null,0,0,0,0,0,null,0,0]
[{"$f":"IF(INTRO!$E$43=\"Non endémique\",\" \", IF(COUNTRY_INFO!A14=0,\" \",COUNTRY_INFO!A14))","v":"Angola"},{"$f":"IF(INTRO!$E$43=\"Non endémique\",\" \", IF(COUNTRY_INFO!B14=0,\" \",COUNTRY_INFO!B14))","v":"BENGO"},{"$f":"IF(INTRO!$E$43=\"Non endémique\",\" \", IF(COUNTRY_INFO!C14=0,\" \",COUNTRY_INFO!C14))","v":"PANGO ALUQUEM"},{"$f":"IF(INTRO!$E$43=\"Non endémique\", 0, IF(COUNTRY_INFO!$K14>0, IF(COUNTRY_INFO!$K14=4, 0, IF(COUNTRY_INFO!$K14=1, COUNTRY_INFO!$F14*0.33, IF(COUNTRY_INFO!$K14=2, COUNTRY_INFO!$F14*0.5, COUNTRY_INFO!$F14))), 0))","v":1116.5},{"$f":"IF(INTRO!$E$43=\"Non endémique\", 0, IF(COUNTRY_INFO!$K14>0, IF(COUNTRY_INFO!$K14=4, 0, IF(COUNTRY_INFO!$K14=1, 0, IF(COUNTRY_INFO!$K14=2, COUNTRY_INFO!$G14*0.2, COUNTRY_INFO!$G14))), 0))","v":843.6},1960.1,{"$f":"IF(INTRO!$E$43=\"Non endémique\", \"Non requis\", COUNTRY_INFO!T14)","v":0},null,{"$f":"IF($D14=0,0,IF(AND($G14>0,$H14<>\"Oui\"),D14,IF(AND($G14>0,$H14=\"Oui\"),COUNTRY_INFO!$F14,0)))","v":0},null,0,0,0,0,0,null,0,0]
[{"$f":"IF(INTRO!$E$43=\"Non endémique\",\" \", IF(COUNTRY_INFO!A15=0,\" \",COUNTRY_INFO!A15))","v":"Angola"},{"$f":"IF(INTRO!$E$43=\"Non endémique\",\" \", IF(COUNTRY_INFO!B15=0,\" \",COUNTRY_INFO!B15))","v":"BENGUELA"},{"$f":"IF(INTRO!$E$43=\"Non endémique\",\" \", IF(COUNTRY_INFO!C15=0,\" \",COUNTRY_INFO!C15))","v":"BAIA FARTA"},{"$f":"IF(INTRO!$E$43=\"Non endémique\", 0, IF(COUNTRY_INFO!$K15>0, IF(COUNTRY_INFO!$K15=4, 0, IF(COUNTRY_INFO!$K15=1, COUNTRY_INFO!$F15*0.33, IF(COUNTRY_INFO!$K15=2, COUNTRY_INFO!$F15*0.5, COUNTRY_INFO!$F15))), 0))","v":17187.5},{"$f":"IF(INTRO!$E$43=\"Non endémique\", 0, IF(COUNTRY_INFO!$K15>0, IF(COUNTRY_INFO!$K15=4, 0, IF(COUNTRY_INFO!$K15=1, 0, IF(COUNTRY_INFO!$K15=2, COUNTRY_INFO!$G15*0.2, COUNTRY_INFO!$G15))), 0))","v":12986},30173.5,{"$f":"IF(INTRO!$E$43=\"Non endémique\", \"Non requis\", COUNTRY_INFO!T15)","v":0},null,{"$f":"IF($D15=0,0,IF(AND($G15>0,$H15<>\"Oui\"),D15,IF(AND($G15>0,$H15=\"Oui\"),COUNTRY_INFO!$F15,0)))","v":0},null,0,0,0,0,0,null,0,0]
[{"$f":"IF(INTRO!$E$43=\"Non endémique\",\" \", IF(COUNTRY_INFO!A16=0,\" \",COUNTRY_INFO!A16))","v":"Angola"},{"$f":"IF(INTRO!$E$43=\"Non endémique\",\" \", IF(COUNTRY_INFO!B16=0,\" \",COUNTRY_INFO!B16))","v":"BENGUELA"},{"$f":"IF(INTRO!$E$43=\"Non endémique\",\" \", IF(COUNTRY_INFO!C16=0,\" \",COUNTRY_INFO!C16))","v":"BALOMBO"},{"$f":"IF(INTRO!$E$43=\"Non endémique\", 0, IF(COUNTRY_INFO!$K16>0, IF(COUNTRY_INFO!$K16=4, 0, IF(COUNTRY_INFO!$K16=1, COUNTRY_INFO!$F16*0.33, IF(COUNTRY_INFO!$K16=2, COUNTRY_INFO!$F16*0.5, COUNTRY_INFO!$F16))), 0))","v":17366.5},{"$f":"IF(INTRO!$E$43=\"Non endémique\", 0, IF(COUNTRY_INFO!$K16>0, IF(COUNTRY_INFO!$K16=4, 0, IF(COUNTRY_INFO!$K16=1, 0, IF(COUNTRY_INFO!$K16=2, COUNTRY_INFO!$G16*0.2, COUNTRY_INFO!$G16))), 0))","v":13121.400000000001},30487.9,{"$f":"IF(INTRO!$E$43=\"Non endémique\", \"Non requis\", COUNTRY_INFO!T16)","v":0},null,{"$f":"IF($D16=0,0,IF(AND($G16>0,$H16<>\"Oui\"),D16,IF(AND($G16>0,$H16=\"Oui\"),COUNTRY_INFO!$F16,0)))","v":0},null,0,0,0,0,0,null,0,0]
[{"$f":"IF(INTRO!$E$43=\"Non endémique\",\" \", IF(COUNTRY_INFO!A17=0,\" \",COUNTRY_INFO!A17))","v":"Angola"},{"$f":"IF(INTRO!$E$43=\"Non endémique\",\" \", IF(COUNTRY_INFO!B17=0,\" \",COUNTRY_INFO!B17))","v":"BENGUELA"},{"$f":"IF(INTRO!$E$43=\"Non endémique\",\" \", IF(COUNTRY_INFO!C17=0,\" \",COUNTRY_INFO!C17))","v":"BENGUELA"},{"$f":"IF(INTRO!$E$43=\"Non endémique\", 0, IF(COUNTRY_INFO!$K17>0, IF(COUNTRY_INFO!$K17=4, 0, IF(COUNTRY_INFO!$K17=1, COUNTRY_INFO!$F17*0.33, IF(COUNTRY_INFO!$K17=2, COUNTRY_INFO!$F17*0.5, COUNTRY_INFO!$F17))), 0))","v":89534},{"$f":"IF(INTRO!$E$43=\"Non endémique\", 0, IF(COUNTRY_INFO!$K17>0, IF(COUNTRY_INFO!$K17=4, 0, IF(COUNTRY_INFO!$K17=1, 0, IF(COUNTRY_INFO!$K17=2, COUNTRY_INFO!$G17*0.2, COUNTRY_INFO!$G17))), 0))","v":67648},157182,{"$f":"IF(INTRO!$E$43=\"Non endémique\", \"Non requis\", COUNTRY_INFO!T17)","v":0},null,{"$f":"IF($D17=0,0,IF(AND($G17>0,$H17<>\"Oui\"),D17,IF(AND($G17>0,$H17=\"Oui\"),COUNTRY_INFO!$F17,0)))","v":0},null,0,0,0,0,0,null,0,0]
[{"$f":"IF(INTRO!$E$43=\"Non endémique\",\" \", IF(COUNTRY_INFO!A18=0,\" \",COUNTRY_INFO!A18))","v":"Angola"},{"$f":"IF(INTRO!$E$43=\"Non endémique\",\" \", IF(COUNTRY_INFO!B18=0,\" \",COUNTRY_INFO!B18))","v":"BENGUELA"},{"$f":"IF(INTRO!$E$43=\"Non endémique\",\" \", IF(COUNTRY_INFO!C18=0,\" \",COUNTRY_INFO!C18))","v":"BOCOIO"},{"$f":"IF(INTRO!$E$43=\"Non endémique\", 0, IF(COUNTRY_INFO!$K18>0, IF(COUNTRY_INFO!$K18=4, 0, IF(COUNTRY_INFO!$K18=1, COUNTRY_INFO!$F18*0.33, IF(COUNTRY_INFO!$K18=2, COUNTRY_INFO!$F18*0.5, COUNTRY_INFO!$F18))), 0))","v":26247},{"$f":"IF(INTRO!$E$43=\"Non endémique\", 0, IF(COUNTRY_INFO!$K18>0, IF(COUNTRY_INFO!$K18=4, 0, IF(COUNTRY_INFO!$K18=1, 0, IF(COUNTRY_INFO!$K18=2, COUNTRY_INFO!$G18*0.2, COUNTRY_INFO!$G18))), 0))","v":19831.2},46078.2,{"$f":"IF(INTRO!$E$43=\"Non endémique\", \"Non requis\", COUNTRY_INFO!T18)","v":0},null,{"$f":"IF($D18=0,0,IF(AND($G18>0,$H18<>\"Oui\"),D18,IF(AND($G18>0,$H18=\"Oui\"),COUNTRY_INFO!$F18,0)))","v":0},null,0,0,0,0,0,null,0,0]
[{"$f":"IF(INTRO!$E$43=\"Non endémique\",\" \", IF(COUNTRY_INFO!A19=0,\" \",COUNTRY_INFO!A19))","v":"Angola"},{"$f":"IF(INTRO!$E$43=\"Non endémique\",\" \", IF(COUNTRY_INFO!B19=0,\" \",COUNTRY_INFO!B19))","v":"BENGUELA"},{"$f":"IF(INTRO!$E$43=\"Non endémique\",\" \", IF(COUNTRY_INFO!C19=0,\" \",COUNTRY_INFO!C19))","v":"CAIMBAMBO"},{"$f":"IF(INTRO!$E$43=\"Non endémique\", 0, IF(COUNTRY_INFO!$K19>0, IF(COUNTRY_INFO!$K19=4, 0, IF(COUNTRY_INFO!$K19=1, COUNTRY_INFO!$F19*0.33, IF(COUNTRY_INFO!$K19=2, COUNTRY_INFO!$F19*0.5, COUNTRY_INFO!$F19))), 0))","v":14477.5},{"$f":"IF(INTRO!$E$43=\"Non endémique\", 0, IF(COUNTRY_INFO!$K19>0, IF(COUNTRY_INFO!$K19=4, 0, IF(COUNTRY_INFO!$K19=1, 0, IF(COUNTRY_INFO!$K19=2, COUNTRY_INFO!$G19*0.2, COUNTRY_INFO!$G19))), 0))","v":10938.6},25416.1,{"$f":"IF(INTRO!$E$43=\"Non endémique\", \"Non requis\", COUNTRY_INFO!T19)","v":0},null,{"$f":"IF($D19=0,0,IF(AND($G19>0,$H19<>\"Oui\"),D19,IF(AND($G19>0,$H19=\"Oui\"),COUNTRY_INFO!$F19,0)))","v":0},null,0,0,0,0,0,null,0,0]
[{"$f":"IF(INTRO!$E$43=\"Non endémique\",\" \", IF(COUNTRY_INFO!A20=0,\" \",COUNTRY_INFO!A20))","v":"Angola"},{"$f":"IF(INTRO!$E$43=\"Non endémique\",\" \", IF(COUNTRY_INFO!B20=0,\" \",COUNTRY_INFO!B20))","v":"BENGUELA"},{"$f":"IF(INTRO!$E$43=\"Non endémique\",\" \", IF(COUNTRY_INFO!C20=0,\" \",COUNTRY_INFO!C20))","v":"CATUMBELA"},{"$f":"IF(INTRO!$E$43=\"Non endémique\", 0, IF(COUNTRY_INFO!$K20>0, IF(COUNTRY_INFO!$K20=4, 0, IF(COUNTRY_INFO!$K20=1, COUNTRY_INFO!$F20*0.33, IF(COUNTRY_INFO!$K20=2, COUNTRY_INFO!$F20*0.5, COUNTRY_INFO!$F20))), 0))","v":28019.5},{"$f":"IF(INTRO!$E$43=\"Non endémique\", 0, IF(COUNTRY_INFO!$K20>0, IF(COUNTRY_INFO!$K20=4, 0, IF(COUNTRY_INFO!$K20=1, 0, IF(COUNTRY_INFO!$K20=2, COUNTRY_INFO!$G20*0.2, COUNTRY_INFO!$G20))), 0))","v":21170.2},49189.7,{"$f":"IF(INTRO!$E$43=\"Non endémique\", \"Non requis\", COUNTRY_INFO!T20)","v":0},null,{"$f":"IF($D20=0,0,IF(AND($G20>0,$H20<>\"Oui\"),D20,IF(AND($G20>0,$H20=\"Oui\"),COUNTRY_INFO!$F20,0)))","v":0},null,0,0,0,0,0,null,0,0]
[{"$f":"IF(INTRO!$E$43=\"Non endémique\",\" \", IF(COUNTRY_INFO!A21=0,\" \",COUNTRY_INFO!A21))","v":"Angola"},{"$f":"IF(INTRO!$E$43=\"Non endémique\",\" \", IF(COUNTRY_INFO!B21=0,\" \",COUNTRY_INFO!B21))","v":"BENGUELA"},{"$f":"IF(INTRO!$E$43=\"Non endémique\",\" \", IF(COUNTRY_INFO!C21=0,\" \",COUNTRY_INFO!C21))","v":"CHONGOROI"},{"$f":"IF(INTRO!$E$43=\"Non endémique\", 0, IF(COUNTRY_INFO!$K21>0, IF(COUNTRY_INFO!$K21=4, 0, IF(COUNTRY_INFO!$K21=1, COUNTRY_INFO!$F21*0.33, IF(COUNTRY_INFO!$K21=2, COUNTRY_INFO!$F21*0.5, COUNTRY_INFO!$F21))), 0))","v":13910},{"$f":"IF(INTRO!$E$43=\"Non endémique\", 0, IF(COUNTRY_INFO!$K21>0, IF(COUNTRY_INFO!$K21=4, 0, IF(COUNTRY_INFO!$K21=1, 0, IF(COUNTRY_INFO!$K21=2, COUNTRY_INFO!$G21*0.2, COUNTRY_INFO!$G21))), 0))","v":10510},24420,{"$f":"IF(INTRO!$E$43=\"Non endémique\", \"Non requis\", COUNTRY_INFO!T21)","v":0},null,{"$f":"IF($D21=0,0,IF(AND($G21>0,$H21<>\"Oui\"),D21,IF(AND($G21>0,$H21=\"Oui\"),COUNTRY_INFO!$F21,0)))","v":0},null,0,0,0,0,0,null,0,0]
[{"$f":"IF(INTRO!$E$43=\"Non endémique\",\" \", IF(COUNTRY_INFO!A22=0,\" \",COUNTRY_INFO!A22))","v":"Angola"},{"$f":"IF(INTRO!$E$43=\"Non endémique\",\" \", IF(COUNTRY_INFO!B22=0,\" \",COUNTRY_INFO!B22))","v":"BENGUELA"},{"$f":"IF(INTRO!$E$43=\"Non endémique\",\" \", IF(COUNTRY_INFO!C22=0,\" \",COUNTRY_INFO!C22))","v":"CUBAL"},{"$f":"IF(INTRO!$E$43=\"Non endémique\", 0, IF(COUNTRY_INFO!$K22>0, IF(COUNTRY_INFO!$K22=4, 0, IF(COUNTRY_INFO!$K22=1, COUNTRY_INFO!$F22*0.33, IF(COUNTRY_INFO!$K22=2, COUNTRY_INFO!$F22*0.5, COUNTRY_INFO!$F22))), 0))","v":48710.5},{"$f":"IF(INTRO!$E$43=\"Non endémique\", 0, IF(COUNTRY_INFO!$K22>0, IF(COUNTRY_INFO!$K22=4, 0, IF(COUNTRY_INFO!$K22=1, 0, IF(COUNTRY_INFO!$K22=2, COUNTRY_INFO!$G22*0.2, COUNTRY_INFO!$G22))), 0))","v":36803.599999999999},85514.1,{"$f":"IF(INTRO!$E$43=\"Non endémique\", \"Non requis\", COUNTRY_INFO!T22)","v":0},null,{"$f":"IF($D22=0,0,IF(AND($G22>0,$H22<>\"Oui\"),D22,IF(AND($G22>0,$H22=\"Oui\"),COUNTRY_INFO!$F22,0)))","v":0},null,0,0,0,0,0,null,0,0]
[{"$f":"IF(INTRO!$E$43=\"Non endémique\",\" \", IF(COUNTRY_INFO!A23=0,\" \",COUNTRY_INFO!A23))","v":"Angola"},{"$f":"IF(INTRO!$E$43=\"Non endémique\",\" \", IF(COUNTRY_INFO!B23=0,\" \",COUNTRY_INFO!B23))","v":"BENGUELA"},{"$f":"IF(INTRO!$E$43=\"Non endémique\",\" \", IF(COUNTRY_INFO!C23=0,\" \",COUNTRY_INFO!C23))","v":"GANDA"},{"$f":"IF(INTRO!$E$43=\"Non endémique\", 0, IF(COUNTRY_INFO!$K23>0, IF(COUNTRY_INFO!$K23=4, 0, IF(COUNTRY_INFO!$K23=1, COUNTRY_INFO!$F23*0.33, IF(COUNTRY_INFO!$K23=2, COUNTRY_INFO!$F23*0.5, COUNTRY_INFO!$F23))), 0))","v":37531},{"$f":"IF(INTRO!$E$43=\"Non endémique\", 0, IF(COUNTRY_INFO!$K23>0, IF(COUNTRY_INFO!$K23=4, 0, IF(COUNTRY_INFO!$K23=1, 0, IF(COUNTRY_INFO!$K23=2, COUNTRY_INFO!$G23*0.2, COUNTRY_INFO!$G23))), 0))","v":28356.800000000003},65887.8,{"$f":"IF(INTRO!$E$43=\"Non endémique\", \"Non requis\", COUNTRY_INFO!T23)","v":0},null,{"$f":"IF($D23=0,0,IF(AND($G23>0,$H23<>\"Oui\"),D23,IF(AND($G23>0,$H23=\"Oui\"),COUNTRY_INFO!$F23,0)))","v":0},null,0,0,0,0,0,null,0,0]
[{"$f":"IF(INTRO!$E$43=\"Non endémique\",\" \", IF(COUNTRY_INFO!A24=0,\" \",COUNTRY_INFO!A24))","v":"Angola"},{"$f":"IF(INTRO!$E$43=\"Non endémique\",\" \", IF(COUNTRY_INFO!B24=0,\" \",COUNTRY_INFO!B24))","v":"BENGUELA"},{"$f":"IF(INTRO!$E$43=\"Non endémique\",\" \", IF(COUNTRY_INFO!C24=0,\" \",COUNTRY_INFO!C24))","v":"LOBITO"},{"$f":"IF(INTRO!$E$43=\"Non endémique\", 0, IF(COUNTRY_INFO!$K24>0, IF(COUNTRY_INFO!$K24=4, 0, IF(COUNTRY_INFO!$K24=1, COUNTRY_INFO!$F24*0.33, IF(COUNTRY_INFO!$K24=2, COUNTRY_INFO!$F24*0.5, COUNTRY_INFO!$F24))), 0))","v":62648},{"$f":"IF(INTRO!$E$43=\"Non endémique\", 0, IF(COUNTRY_INFO!$K24>0, IF(COUNTRY_INFO!$K24=4, 0, IF(COUNTRY_INFO!$K24=1, 0, IF(COUNTRY_INFO!$K24=2, COUNTRY_INFO!$G24*0.2, COUNTRY_INFO!$G24))), 0))","v":47334},109982,{"$f":"IF(INTRO!$E$43=\"Non endémique\", \"Non requis\", COUNTRY_INFO!T24)","v":0},null,{"$f":"IF($D24=0,0,IF(AND($G24>0,$H24<>\"Oui\"),D24,IF(AND($G24>0,$H24=\"Oui\"),COUNTRY_INFO!$F24,0)))","v":0},null,0,0,0,0,0,null,0,0]
[{"$f":"IF(INTRO!$E$43=\"Non endémique\",\" \", IF(COUNTRY_INFO!A25=0,\" \",COUNTRY_INFO!A25))","v":"Angola"},{"$f":"IF(INTRO!$E$43=\"Non endémique\",\" \", IF(COUNTRY_INFO!B25=0,\" \",COUNTRY_INFO!B25))","v":"BIE"},{"$f":"IF(INTRO!$E$43=\"Non endémique\",\" \", IF(COUNTRY_INFO!C25=0,\" \",COUNTRY_INFO!C25))","v":"ANDULO"},{"$f":"IF(INTRO!$E$43=\"Non endémique\", 0, IF(COUNTRY_INFO!$K25>0, IF(COUNTRY_INFO!$K25=4, 0, IF(COUNTRY_INFO!$K25=1, COUNTRY_INFO!$F25*0.33, IF(COUNTRY_INFO!$K25=2, COUNTRY_INFO!$F25*0.5, COUNTRY_INFO!$F25))), 0))","v":41145},{"$f":"IF(INTRO!$E$43=\"Non endémique\", 0, IF(COUNTRY_INFO!$K25>0, IF(COUNTRY_INFO!$K25=4, 0, IF(COUNTRY_INFO!$K25=1, 0, IF(COUNTRY_INFO!$K25=2, COUNTRY_INFO!$G25*0.2, COUNTRY_INFO!$G25))), 0))","v":31087.4},72232.399999999994,{"$f":"IF(INTRO!$E$43=\"Non endémique\", \"Non requis\", COUNTRY_INFO!T25)","v":0},null,{"$f":"IF($D25=0,0,IF(AND($G25>0,$H25<>\"Oui\"),D25,IF(AND($G25>0,$H25=\"Oui\"),COUNTRY_INFO!$F25,0)))","v":0},null,0,0,0,0,0,null,0,0]
[{"$f":"IF(INTRO!$E$43=\"Non endémique\",\" \", IF(COUNTRY_INFO!A26=0,\" \",COUNTRY_INFO!A26))","v":"Angola"},{"$f":"IF(INTRO!$E$43=\"Non endémique\",\" \", IF(COUNTRY_INFO!B26=0,\" \",COUNTRY_INFO!B26))","v":"BIE"},{"$f":"IF(INTRO!$E$43=\"Non endémique\",\" \", IF(COUNTRY_INFO!C26=0,\" \",COUNTRY_INFO!C26))","v":"CAMACUPA"},{"$f":"IF(INTRO!$E$43=\"Non endémique\", 0, IF(COUNTRY_INFO!$K26>0, IF(COUNTRY_INFO!$K26=4, 0, IF(COUNTRY_INFO!$K26=1, COUNTRY_INFO!$F26*0.33, IF(COUNTRY_INFO!$K26=2, COUNTRY_INFO!$F26*0.5, COUNTRY_INFO!$F26))), 0))","v":24692},{"$f":"IF(INTRO!$E$43=\"Non endémique\", 0, IF(COUNTRY_INFO!$K26>0, IF(COUNTRY_INFO!$K26=4, 0, IF(COUNTRY_INFO!$K26=1, 0, IF(COUNTRY_INFO!$K26=2, COUNTRY_INFO!$G26*0.2, COUNTRY_INFO!$G26))), 0))","v":18656.2},43348.2,{"$f":"IF(INTRO!$E$43=\"Non endémique\", \"Non requis\", COUNTRY_INFO!T26)","v":0},null,{"$f":"IF($D26=0,0,IF(AND($G26>0,$H26<>\"Oui\"),D26,IF(AND($G26>0,$H26=\"Oui\"),COUNTRY_INFO!$F26,0)))","v":0},null,0,0,0,0,0,null,0,0]
[{"$f":"IF(INTRO!$E$43=\"Non endémique\",\" \", IF(COUNTRY_INFO!A27=0,\" \",COUNTRY_INFO!A27))","v":"Angola"},{"$f":"IF(INTRO!$E$43=\"Non endémique\",\" \", IF(COUNTRY_INFO!B27=0,\" \",COUNTRY_INFO!B27))","v":"BIE"},{"$f":"IF(INTRO!$E$43=\"Non endémique\",\" \", IF(COUNTRY_INFO!C27=0,\" \",COUNTRY_INFO!C27))","v":"CATABOLA"},{"$f":"IF(INTRO!$E$43=\"Non endémique\", 0, IF(COUNTRY_INFO!$K27>0, IF(COUNTRY_INFO!$K27=4, 0, IF(COUNTRY_INFO!$K27=1, COUNTRY_INFO!$F27*0.33, IF(COUNTRY_INFO!$K27=2, COUNTRY_INFO!$F27*0.5, COUNTRY_INFO!$F27))), 0))","v":20182},{"$f":"IF(INTRO!$E$43=\"Non endémique\", 0, IF(COUNTRY_INFO!$K27>0, IF(COUNTRY_INFO!$K27=4, 0, IF(COUNTRY_INFO!$K27=1, 0, IF(COUNTRY_INFO!$K27=2, COUNTRY_INFO!$G27*0.2, COUNTRY_INFO!$G27))), 0))","v":15248.800000000001},35430.800000000003,{"$f":"IF(INTRO!$E$43=\"Non endémique\", \"Non requis\", COUNTRY_INFO!T27)","v":0},null,{"$f":"IF($D27=0,0,IF(AND($G27>0,$H27<>\"Oui\"),D27,IF(AND($G27>0,$H27=\"Oui\"),COUNTRY_INFO!$F27,0)))","v":0},null,0,0,0,0,0,null,0,0]
[{"$f":"IF(INTRO!$E$43=\"Non endémique\",\" \", IF(COUNTRY_INFO!A28=0,\" \",COUNTRY_INFO!A28))","v":"Angola"},{"$f":"IF(INTRO!$E$43=\"Non endémique\",\" \", IF(COUNTRY_INFO!B28=0,\" \",COUNTRY_INFO!B28))","v":"BIE"},{"$f":"IF(INTRO!$E$43=\"Non endémique\",\" \", IF(COUNTRY_INFO!C28=0,\" \",COUNTRY_INFO!C28))","v":"CHINGUAR"},{"$f":"IF(INTRO!$E$43=\"Non endémique\", 0, IF(COUNTRY_INFO!$K28>0, IF(COUNTRY_INFO!$K28=4, 0, IF(COUNTRY_INFO!$K28=1, COUNTRY_INFO!$F28*0.33, IF(COUNTRY_INFO!$K28=2, COUNTRY_INFO!$F28*0.5, COUNTRY_INFO!$F28))), 0))","v":20618.5},{"$f":"IF(INTRO!$E$43=\"Non endémique\", 0, IF(COUNTRY_INFO!$K28>0, IF(COUNTRY_INFO!$K28=4, 0, IF(COUNTRY_INFO!$K28=1, 0, IF(COUNTRY_INFO!$K28=2, COUNTRY_INFO!$G28*0.2, COUNTRY_INFO!$G28))), 0))","v":15578.6},36197.1,{"$f":"IF(INTRO!$E$43=\"Non endémique\", \"Non requis\", COUNTRY_INFO!T28)","v":0},null,{"$f":"IF($D28=0,0,IF(AND($G28>0,$H28<>\"Oui\"),D28,IF(AND($G28>0,$H28=\"Oui\"),COUNTRY_INFO!$F28,0)))","v":0},null,0,0,0,0,0,null,0,0]
[{"$f":"IF(INTRO!$E$43=\"Non endémique\",\" \", IF(COUNTRY_INFO!A29=0,\" \",COUNTRY_INFO!A29))","v":"Angola"},{"$f":"IF(INTRO!$E$43=\"Non endémique\",\" \", IF(COUNTRY_INFO!B29=0,\" \",COUNTRY_INFO!B29))","v":"BIE"},{"$f":"IF(INTRO!$E$43=\"Non endémique\",\" \", IF(COUNTRY_INFO!C29=0,\" \",COUNTRY_INFO!C29))","v":"CHITEMBO"},{"$f":"IF(INTRO!$E$43=\"Non endémique\", 0, IF(COUNTRY_INFO!$K29>0, IF(COUNTRY_INFO!$K29=4, 0, IF(COUNTRY_INFO!$K29=1, COUNTRY_INFO!$F29*0.33, IF(COUNTRY_INFO!$K29=2, COUNTRY_INFO!$F29*0.5, COUNTRY_INFO!$F29))), 0))","v":12456.5},{"$f":"IF(INTRO!$E$43=\"Non endémique\", 0, IF(COUNTRY_INFO!$K29>0, IF(COUNTRY_INFO!$K29=4, 0, IF(COUNTRY_INFO!$K29=1, 0, IF(COUNTRY_INFO!$K29=2, COUNTRY_INFO!$G29*0.2, COUNTRY_INFO!$G29))), 0))","v":9411.4},21867.9,{"$f":"IF(INTRO!$E$43=\"Non endémique\", \"Non requis\", COUNTRY_INFO!T29)","v":0},null,{"$f":"IF($D29=0,0,IF(AND($G29>0,$H29<>\"Oui\"),D29,IF(AND($G29>0,$H29=\"Oui\"),COUNTRY_INFO!$F29,0)))","v":0},null,0,0,0,0,0,null,0,0]
[{"$f":"IF(INTRO!$E$43=\"Non endémique\",\" \", IF(COUNTRY_INFO!A30=0,\" \",COUNTRY_INFO!A30))","v":"Angola"},{"$f":"IF(INTRO!$E$43=\"Non endémique\",\" \", IF(COUNTRY_INFO!B30=0,\" \",COUNTRY_INFO!B30))","v":"BIE"},{"$f":"IF(INTRO!$E$43=\"Non endémique\",\" \", IF(COUNTRY_INFO!C30=0,\" \",COUNTRY_INFO!C30))","v":"CUEMBA"},{"$f":"IF(INTRO!$E$43=\"Non endémique\", 0, IF(COUNTRY_INFO!$K30>0, IF(COUNTRY_INFO!$K30=4, 0, IF(COUNTRY_INFO!$K30=1, COUNTRY_INFO!$F30*0.33, IF(COUNTRY_INFO!$K30=2, COUNTRY_INFO!$F30*0.5, COUNTRY_INFO!$F30))), 0))","v":9078.5},{"$f":"IF(INTRO!$E$43=\"Non endémique\", 0, IF(COUNTRY_INFO!$K30>0, IF(COUNTRY_INFO!$K30=4, 0, IF(COUNTRY_INFO!$K30=1, 0, IF(COUNTRY_INFO!$K30=2, COUNTRY_INFO!$G30*0.2, COUNTRY_INFO!$G30))), 0))","v":6859.4000000000005},15937.900000000001,{"$f":"IF(INTRO!$E$43=\"Non endémique\", \"Non requis\", COUNTRY_INFO!T30)","v":0},null,{"$f":"IF($D30=0,0,IF(AND($G30>0,$H30<>\"Oui\"),D30,IF(AND($G30>0,$H30=\"Oui\"),COUNTRY_INFO!$F30,0)))","v":0},null,0,0,0,0,0,null,0,0]
[{"$f":"IF(INTRO!$E$43=\"Non endémique\",\" \", IF(COUNTRY_INFO!A31=0,\" \",COUNTRY_INFO!A31))","v":"Angola"},{"$f":"IF(INTRO!$E$43=\"Non endémique\",\" \", IF(COUNTRY_INFO!B31=0,\" \",COUNTRY_INFO!B31))","v":"BIE"},{"$f":"IF(INTRO!$E$43=\"Non endémique\",\" \", IF(COUNTRY_INFO!C31=0,\" \",COUNTRY_INFO!C31))","v":"CUNHINGA"},{"$f":"IF(INTRO!$E$43=\"Non endémique\", 0, IF(COUNTRY_INFO!$K31>0, IF(COUNTRY_INFO!$K31=4, 0, IF(COUNTRY_INFO!$K31=1, COUNTRY_INFO!$F31*0.33, IF(COUNTRY_INFO!$K31=2, COUNTRY_INFO!$F31*0.5, COUNTRY_INFO!$F31))), 0))","v":11766},{"$f":"IF(INTRO!$E$43=\"Non endémique\", 0, IF(COUNTRY_INFO!$K31>0, IF(COUNTRY_INFO!$K31=4, 0, IF(COUNTRY_INFO!$K31=1, 0, IF(COUNTRY_INFO!$K31=2, COUNTRY_INFO!$G31*0.2, COUNTRY_INFO!$G31))), 0))","v":8890},20656,{"$f":"IF(INTRO!$E$43=\"Non endémique\", \"Non requis\", COUNTRY_INFO!T31)","v":0},null,{"$f":"IF($D31=0,0,IF(AND($G31>0,$H31<>\"Oui\"),D31,IF(AND($G31>0,$H31=\"Oui\"),COUNTRY_INFO!$F31,0)))","v":0},null,0,0,0,0,0,null,0,0]
[{"$f":"IF(INTRO!$E$43=\"Non endémique\",\" \", IF(COUNTRY_INFO!A32=0,\" \",COUNTRY_INFO!A32))","v":"Angola"},{"$f":"IF(INTRO!$E$43=\"Non endémique\",\" \", IF(COUNTRY_INFO!B32=0,\" \",COUNTRY_INFO!B32))","v":"BIE"},{"$f":"IF(INTRO!$E$43=\"Non endémique\",\" \", IF(COUNTRY_INFO!C32=0,\" \",COUNTRY_INFO!C32))","v":"KUITO"},{"$f":"IF(INTRO!$E$43=\"Non endémique\", 0, IF(COUNTRY_INFO!$K32>0, IF(COUNTRY_INFO!$K32=4, 0, IF(COUNTRY_INFO!$K32=1, COUNTRY_INFO!$F32*0.33, IF(COUNTRY_INFO!$K32=2, COUNTRY_INFO!$F32*0.5, COUNTRY_INFO!$F32))), 0))","v":71860},{"$f":"IF(INTRO!$E$43=\"Non endémique\", 0, IF(COUNTRY_INFO!$K32>0, IF(COUNTRY_INFO!$K32=4, 0, IF(COUNTRY_INFO!$K32=1, 0, IF(COUNTRY_INFO!$K32=2, COUNTRY_INFO!$G32*0.2, COUNTRY_INFO!$G32))), 0))","v":54294.400000000001},126154.4,{"$f":"IF(INTRO!$E$43=\"Non endémique\", \"Non requis\", COUNTRY_INFO!T32)","v":0},null,{"$f":"IF($D32=0,0,IF(AND($G32>0,$H32<>\"Oui\"),D32,IF(AND($G32>0,$H32=\"Oui\"),COUNTRY_INFO!$F32,0)))","v":0},null,0,0,0,0,0,null,0,0]
[{"$f":"IF(INTRO!$E$43=\"Non endémique\",\" \", IF(COUNTRY_INFO!A33=0,\" \",COUNTRY_INFO!A33))","v":"Angola"},{"$f":"IF(INTRO!$E$43=\"Non endémique\",\" \", IF(COUNTRY_INFO!B33=0,\" \",COUNTRY_INFO!B33))","v":"BIE"},{"$f":"IF(INTRO!$E$43=\"Non endémique\",\" \", IF(COUNTRY_INFO!C33=0,\" \",COUNTRY_INFO!C33))","v":"NHAREA"},{"$f":"IF(INTRO!$E$43=\"Non endémique\", 0, IF(COUNTRY_INFO!$K33>0, IF(COUNTRY_INFO!$K33=4, 0, IF(COUNTRY_INFO!$K33=1, COUNTRY_INFO!$F33*0.33, IF(COUNTRY_INFO!$K33=2, COUNTRY_INFO!$F33*0.5, COUNTRY_INFO!$F33))), 0))","v":20135.5},{"$f":"IF(INTRO!$E$43=\"Non endémique\", 0, IF(COUNTRY_INFO!$K33>0, IF(COUNTRY_INFO!$K33=4, 0, IF(COUNTRY_INFO!$K33=1, 0, IF(COUNTRY_INFO!$K33=2, COUNTRY_INFO!$G33*0.2, COUNTRY_INFO!$G33))), 0))","v":15213.6},35349.1,{"$f":"IF(INTRO!$E$43=\"Non endémique\", \"Non requis\", COUNTRY_INFO!T33)","v":0},null,{"$f":"IF($D33=0,0,IF(AND($G33>0,$H33<>\"Oui\"),D33,IF(AND($G33>0,$H33=\"Oui\"),COUNTRY_INFO!$F33,0)))","v":0},null,0,0,0,0,0,null,0,0]
[{"$f":"IF(INTRO!$E$43=\"Non endémique\",\" \", IF(COUNTRY_INFO!A34=0,\" \",COUNTRY_INFO!A34))","v":"Angola"},{"$f":"IF(INTRO!$E$43=\"Non endémique\",\" \", IF(COUNTRY_INFO!B34=0,\" \",COUNTRY_INFO!B34))","v":"CABINDA"},{"$f":"IF(INTRO!$E$43=\"Non endémique\",\" \", IF(COUNTRY_INFO!C34=0,\" \",COUNTRY_INFO!C34))","v":"BELIZE"},{"$f":"IF(INTRO!$E$43=\"Non endémique\", 0, IF(COUNTRY_INFO!$K34>0, IF(COUNTRY_INFO!$K34=4, 0, IF(COUNTRY_INFO!$K34=1, COUNTRY_INFO!$F34*0.33, IF(COUNTRY_INFO!$K34=2, COUNTRY_INFO!$F34*0.5, COUNTRY_INFO!$F34))), 0))","v":3117.5},{"$f":"IF(INTRO!$E$43=\"Non endémique\", 0, IF(COUNTRY_INFO!$K34>0, IF(COUNTRY_INFO!$K34=4, 0, IF(COUNTRY_INFO!$K34=1, 0, IF(COUNTRY_INFO!$K34=2, COUNTRY_INFO!$G34*0.2, COUNTRY_INFO!$G34))), 0))","v":2355.6},5473.1,{"$f":"IF(INTRO!$E$43=\"Non endémique\", \"Non requis\", COUNTRY_INFO!T34)","v":0},null,{"$f":"IF($D34=0,0,IF(AND($G34>0,$H34<>\"Oui\"),D34,IF(AND($G34>0,$H34=\"Oui\"),COUNTRY_INFO!$F34,0)))","v":0},null,0,0,0,0,0,null,0,0]
[{"$f":"IF(INTRO!$E$43=\"Non endémique\",\" \", IF(COUNTRY_INFO!A35=0,\" \",COUNTRY_INFO!A35))","v":"Angola"},{"$f":"IF(INTRO!$E$43=\"Non endémique\",\" \", IF(COUNTRY_INFO!B35=0,\" \",COUNTRY_INFO!B35))","v":"CABINDA"},{"$f":"IF(INTRO!$E$43=\"Non endémique\",\" \", IF(COUNTRY_INFO!C35=0,\" \",COUNTRY_INFO!C35))","v":"BUCO ZAU"},{"$f":"IF(INTRO!$E$43=\"Non endémique\", 0, IF(COUNTRY_INFO!$K35>0, IF(COUNTRY_INFO!$K35=4, 0, IF(COUNTRY_INFO!$K35=1, COUNTRY_INFO!$F35*0.33, IF(COUNTRY_INFO!$K35=2, COUNTRY_INFO!$F35*0.5, COUNTRY_INFO!$F35))), 0))","v":5226.5},{"$f":"IF(INTRO!$E$43=\"Non endémique\", 0, IF(COUNTRY_INFO!$K35>0, IF(COUNTRY_INFO!$K35=4, 0, IF(COUNTRY_INFO!$K35=1, 0, IF(COUNTRY_INFO!$K35=2, COUNTRY_INFO!$G35*0.2, COUNTRY_INFO!$G35))), 0))","v":3948.8},9175.2999999999993,{"$f":"IF(INTRO!$E$43=\"Non endémique\", \"Non requis\", COUNTRY_INFO!T35)","v":0},null,{"$f":"IF($D35=0,0,IF(AND($G35>0,$H35<>\"Oui\"),D35,IF(AND($G35>0,$H35=\"Oui\"),COUNTRY_INFO!$F35,0)))","v":0},null,0,0,0,0,0,null,0,0]
[{"$f":"IF(INTRO!$E$43=\"Non endémique\",\" \", IF(COUNTRY_INFO!A36=0,\" \",COUNTRY_INFO!A36))","v":"Angola"},{"$f":"IF(INTRO!$E$43=\"Non endémique\",\" \", IF(COUNTRY_INFO!B36=0,\" \",COUNTRY_INFO!B36))","v":"CABINDA"},{"$f":"IF(INTRO!$E$43=\"Non endémique\",\" \", IF(COUNTRY_INFO!C36=0,\" \",COUNTRY_INFO!C36))","v":"CABINDA"},{"$f":"IF(INTRO!$E$43=\"Non endémique\", 0, IF(COUNTRY_INFO!$K36>0, IF(COUNTRY_INFO!$K36=4, 0, IF(COUNTRY_INFO!$K36=1, COUNTRY_INFO!$F36*0.33, IF(COUNTRY_INFO!$K36=2, COUNTRY_INFO!$F36*0.5, COUNTRY_INFO!$F36))), 0))","v":99554.5},{"$f":"IF(INTRO!$E$43=\"Non endémique\", 0, IF(COUNTRY_INFO!$K36>0, IF(COUNTRY_INFO!$K36=4, 0, IF(COUNTRY_INFO!$K36=1, 0, IF(COUNTRY_INFO!$K36=2, COUNTRY_INFO!$G36*0.2, COUNTRY_INFO!$G36))), 0))","v":75218.8},174773.3,{"$f":"IF(INTRO!$E$43=\"Non endémique\", \"Non requis\", COUNTRY_INFO!T36)","v":0},null,{"$f":"IF($D36=0,0,IF(AND($G36>0,$H36<>\"Oui\"),D36,IF(AND($G36>0,$H36=\"Oui\"),COUNTRY_INFO!$F36,0)))","v":0},null,0,0,0,0,0,null,0,0]
[{"$f":"IF(INTRO!$E$43=\"Non endémique\",\" \", IF(COUNTRY_INFO!A37=0,\" \",COUNTRY_INFO!A37))","v":"Angola"},{"$f":"IF(INTRO!$E$43=\"Non endémique\",\" \", IF(COUNTRY_INFO!B37=0,\" \",COUNTRY_INFO!B37))","v":"CABINDA"},{"$f":"IF(INTRO!$E$43=\"Non endémique\",\" \", IF(COUNTRY_INFO!C37=0,\" \",COUNTRY_INFO!C37))","v":"CACONGO"},{"$f":"IF(INTRO!$E$43=\"Non endémique\", 0, IF(COUNTRY_INFO!$K37>0, IF(COUNTRY_INFO!$K37=4, 0, IF(COUNTRY_INFO!$K37=1, COUNTRY_INFO!$F37*0.33, IF(COUNTRY_INFO!$K37=2, COUNTRY_INFO!$F37*0.5, COUNTRY_INFO!$F37))), 0))","v":6228},{"$f":"IF(INTRO!$E$43=\"Non endémique\", 0, IF(COUNTRY_INFO!$K37>0, IF(COUNTRY_INFO!$K37=4, 0, IF(COUNTRY_INFO!$K37=1, 0, IF(COUNTRY_INFO!$K37=2, COUNTRY_INFO!$G37*0.2, COUNTRY_INFO!$G37))), 0))","v":4705.4000000000005},10933.400000000001,{"$f":"IF(INTRO!$E$43=\"Non endémique\", \"Non requis\", COUNTRY_INFO!T37)","v":0},null,{"$f":"IF($D37=0,0,IF(AND($G37>0,$H37<>\"Oui\"),D37,IF(AND($G37>0,$H37=\"Oui\"),COUNTRY_INFO!$F37,0)))","v":0},null,0,0,0,0,0,null,0,0]
[{"$f":"IF(INTRO!$E$43=\"Non endémique\",\" \", IF(COUNTRY_INFO!A38=0,\" \",COUNTRY_INFO!A38))","v":"Angola"},{"$f":"IF(INTRO!$E$43=\"Non endémique\",\" \", IF(COUNTRY_INFO!B38=0,\" \",COUNTRY_INFO!B38))","v":"CUNENE"},{"$f":"IF(INTRO!$E$43=\"Non endémique\",\" \", IF(COUNTRY_INFO!C38=0,\" \",COUNTRY_INFO!C38))","v":"CAHAMA"},{"$f":"IF(INTRO!$E$43=\"Non endémique\", 0, IF(COUNTRY_INFO!$K38>0, IF(COUNTRY_INFO!$K38=4, 0, IF(COUNTRY_INFO!$K38=1, COUNTRY_INFO!$F38*0.33, IF(COUNTRY_INFO!$K38=2, COUNTRY_INFO!$F38*0.5, COUNTRY_INFO!$F38))), 0))","v":11166},{"$f":"IF(INTRO!$E$43=\"Non endémique\", 0, IF(COUNTRY_INFO!$K38>0, IF(COUNTRY_INFO!$K38=4, 0, IF(COUNTRY_INFO!$K38=1, 0, IF(COUNTRY_INFO!$K38=2, COUNTRY_INFO!$G38*0.2, COUNTRY_INFO!$G38))), 0))","v":8436.6},19602.599999999999,{"$f":"IF(INTRO!$E$43=\"Non endémique\", \"Non requis\", COUNTRY_INFO!T38)","v":1},null,{"$f":"IF($D38=0,0,IF(AND($G38>0,$H38<>\"Oui\"),D38,IF(AND($G38>0,$H38=\"Oui\"),COUNTRY_INFO!$F38,0)))","v":11166},null,8436.6,19602.599999999999,27915,25309.800000000003,27915,null,27915,28]
[{"$f":"IF(INTRO!$E$43=\"Non endémique\",\" \", IF(COUNTRY_INFO!A39=0,\" \",COUNTRY_INFO!A39))","v":"Angola"},{"$f":"IF(INTRO!$E$43=\"Non endémique\",\" \", IF(COUNTRY_INFO!B39=0,\" \",COUNTRY_INFO!B39))","v":"CUNENE"},{"$f":"IF(INTRO!$E$43=\"Non endémique\",\" \", IF(COUNTRY_INFO!C39=0,\" \",COUNTRY_INFO!C39))","v":"CUANHAMA"},{"$f":"IF(INTRO!$E$43=\"Non endémique\", 0, IF(COUNTRY_INFO!$K39>0, IF(COUNTRY_INFO!$K39=4, 0, IF(COUNTRY_INFO!$K39=1, COUNTRY_INFO!$F39*0.33, IF(COUNTRY_INFO!$K39=2, COUNTRY_INFO!$F39*0.5, COUNTRY_INFO!$F39))), 0))","v":59691.5},{"$f":"IF(INTRO!$E$43=\"Non endémique\", 0, IF(COUNTRY_INFO!$K39>0, IF(COUNTRY_INFO!$K39=4, 0, IF(COUNTRY_INFO!$K39=1, 0, IF(COUNTRY_INFO!$K39=2, COUNTRY_INFO!$G39*0.2, COUNTRY_INFO!$G39))), 0))","v":45100.200000000004},104791.70000000001,{"$f":"IF(INTRO!$E$43=\"Non endémique\", \"Non requis\", COUNTRY_INFO!T39)","v":1},null,{"$f":"IF($D39=0,0,IF(AND($G39>0,$H39<>\"Oui\"),D39,IF(AND($G39>0,$H39=\"Oui\"),COUNTRY_INFO!$F39,0)))","v":59691.5},null,45100.200000000004,104791.70000000001,149228.75,135300.6,149228.75,null,149228.75,150]
[{"$f":"IF(INTRO!$E$43=\"Non endémique\",\" \", IF(COUNTRY_INFO!A40=0,\" \",COUNTRY_INFO!A40))","v":"Angola"},{"$f":"IF(INTRO!$E$43=\"Non endémique\",\" \", IF(COUNTRY_INFO!B40=0,\" \",COUNTRY_INFO!B40))","v":"CUNENE"},{"$f":"IF(INTRO!$E$43=\"Non endémique\",\" \", IF(COUNTRY_INFO!C40=0,\" \",COUNTRY_INFO!C40))","v":"CUROCA"},{"$f":"IF(INTRO!$E$43=\"Non endémique\", 0, IF(COUNTRY_INFO!$K40>0, IF(COUNTRY_INFO!$K40=4, 0, IF(COUNTRY_INFO!$K40=1, COUNTRY_INFO!$F40*0.33, IF(COUNTRY_INFO!$K40=2, COUNTRY_INFO!$F40*0.5, COUNTRY_INFO!$F40))), 0))","v":6548.5},{"$f":"IF(INTRO!$E$43=\"Non endémique\", 0, IF(COUNTRY_INFO!$K40>0, IF(COUNTRY_INFO!$K40=4, 0, IF(COUNTRY_INFO!$K40=1, 0, IF(COUNTRY_INFO!$K40=2, COUNTRY_INFO!$G40*0.2, COUNTRY_INFO!$G40))), 0))","v":4947.6000000000004},11496.1,{"$f":"IF(INTRO!$E$43=\"Non endémique\", \"Non requis\", COUNTRY_INFO!T40)","v":1},null,{"$f":"IF($D40=0,0,IF(AND($G40>0,$H40<>\"Oui\"),D40,IF(AND($G40>0,$H40=\"Oui\"),COUNTRY_INFO!$F40,0)))","v":6548.5},null,4947.6000000000004,11496.1,16371.25,14842.800000000001,16371.25,null,16371.25,17]
[{"$f":"IF(INTRO!$E$43=\"Non endémique\",\" \", IF(COUNTRY_INFO!A41=0,\" \",COUNTRY_INFO!A41))","v":"Angola"},{"$f":"IF(INTRO!$E$43=\"Non endémique\",\" \", IF(COUNTRY_INFO!B41=0,\" \",COUNTRY_INFO!B41))","v":"CUNENE"},{"$f":"IF(INTRO!$E$43=\"Non endémique\",\" \", IF(COUNTRY_INFO!C41=0,\" \",COUNTRY_INFO!C41))","v":"CUVELAI"},{"$f":"IF(INTRO!$E$43=\"Non endémique\", 0, IF(COUNTRY_INFO!$K41>0, IF(COUNTRY_INFO!$K41=4, 0, IF(COUNTRY_INFO!$K41=1, COUNTRY_INFO!$F41*0.33, IF(COUNTRY_INFO!$K41=2, COUNTRY_INFO!$F41*0.5, COUNTRY_INFO!$F41))), 0))","v":9148},{"$f":"IF(INTRO!$E$43=\"Non endémique\", 0, IF(COUNTRY_INFO!$K41>0, IF(COUNTRY_INFO!$K41=4, 0, IF(COUNTRY_INFO!$K41=1, 0, IF(COUNTRY_INFO!$K41=2, COUNTRY_INFO!$G41*0.2, COUNTRY_INFO!$G41))), 0))","v":6911.8},{"$f":"SUM(D41:E41)","v":16059.8},{"$f":"IF(INTRO!$E$43=\"Non endémique\", \"Non requis\", COUNTRY_INFO!T41)","v":1},null,{"$f":"IF($D41=0,0,IF(AND($G41>0,$H41<>\"Oui\"),D41,IF(AND($G41>0,$H41=\"Oui\"),COUNTRY_INFO!$F41,0)))","v":9148},null,{"$f":"IF($G41>0,E41, 0)","v":6911.8},{"$f":"IF($J41=0,SUM(I41,K41),SUM(J41,K41))","v":16059.8},{"$f":"IF($J41=0,$I41*2.5,$J41*2.5)","v":22870},{"$f":"$K41*3","v":20735.400000000001},{"$f":"M41","v":22870},null,{"$f":"IF($O41>$P41,O41-P41,0)","v":22870},{"$f":"ROUNDUP($O41/1000,0)","v":23}]
[{"$f":"IF(INTRO!$E$43=\"Non endémique\",\" \", IF(COUNTRY_INFO!A42=0,\" \",COUNTRY_INFO!A42))","v":"Angola"},{"$f":"IF(INTRO!$E$43=\"Non endémique\",\" \", IF(COUNTRY_INFO!B42=0,\" \",COUNTRY_INFO!B42))","v":"CUNENE"},{"$f":"IF(INTRO!$E$43=\"Non endémique\",\" \", IF(COUNTRY_INFO!C42=0,\" \",COUNTRY_INFO!C42))","v":"NAMACUNDE"},{"$f":"IF(INTRO!$E$43=\"Non endémique\", 0, IF(COUNTRY_INFO!$K42>0, IF(COUNTRY_INFO!$K42=4, 0, IF(COUNTRY_INFO!$K42=1, COUNTRY_INFO!$F42*0.33, IF(COUNTRY_INFO!$K42=2, COUNTRY_INFO!$F42*0.5, COUNTRY_INFO!$F42))), 0))","v":22639},{"$f":"IF(INTRO!$E$43=\"Non endémique\", 0, IF(COUNTRY_INFO!$K42>0, IF(COUNTRY_INFO!$K42=4, 0, IF(COUNTRY_INFO!$K42=1, 0, IF(COUNTRY_INFO!$K42=2, COUNTRY_INFO!$G42*0.2, COUNTRY_INFO!$G42))), 0))","v":17105.2},39744.199999999997,{"$f":"IF(INTRO!$E$43=\"Non endémique\", \"Non requis\", COUNTRY_INFO!T42)","v":1},null,{"$f":"IF($D42=0,0,IF(AND($G42>0,$H42<>\"Oui\"),D42,IF(AND($G42>0,$H42=\"Oui\"),COUNTRY_INFO!$F42,0)))","v":22639},null,17105.2,39744.199999999997,56597.5,51315.600000000006,56597.5,null,56597.5,57]
[{"$f":"IF(INTRO!$E$43=\"Non endémique\",\" \", IF(COUNTRY_INFO!A43=0,\" \",COUNTRY_INFO!A43))","v":"Angola"},{"$f":"IF(INTRO!$E$43=\"Non endémique\",\" \", IF(COUNTRY_INFO!B43=0,\" \",COUNTRY_INFO!B43))","v":"CUNENE"},{"$f":"IF(INTRO!$E$43=\"Non endémique\",\" \", IF(COUNTRY_INFO!C43=0,\" \",COUNTRY_INFO!C43))","v":"OMBADJA"},{"$f":"IF(INTRO!$E$43=\"Non endémique\", 0, IF(COUNTRY_INFO!$K43>0, IF(COUNTRY_INFO!$K43=4, 0, IF(COUNTRY_INFO!$K43=1, COUNTRY_INFO!$F43*0.33, IF(COUNTRY_INFO!$K43=2, COUNTRY_INFO!$F43*0.5, COUNTRY_INFO!$F43))), 0))","v":48604.5},{"$f":"IF(INTRO!$E$43=\"Non endémique\", 0, IF(COUNTRY_INFO!$K43>0, IF(COUNTRY_INFO!$K43=4, 0, IF(COUNTRY_INFO!$K43=1, 0, IF(COUNTRY_INFO!$K43=2, COUNTRY_INFO!$G43*0.2, COUNTRY_INFO!$G43))), 0))","v":36723.200000000004},85327.700000000012,{"$f":"IF(INTRO!$E$43=\"Non endémique\", \"Non requis\", COUNTRY_INFO!T43)","v":1},null,{"$f":"IF($D43=0,0,IF(AND($G43>0,$H43<>\"Oui\"),D43,IF(AND($G43>0,$H43=\"Oui\"),COUNTRY_INFO!$F43,0)))","v":48604.5},null,36723.200000000004,85327.700000000012,121511.25,110169.60000000001,121511.25,null,121511.25,122]
[{"$f":"IF(INTRO!$E$43=\"Non endémique\",\" \", IF(COUNTRY_INFO!A44=0,\" \",COUNTRY_INFO!A44))","v":"Angola"},{"$f":"IF(INTRO!$E$43=\"Non endémique\",\" \", IF(COUNTRY_INFO!B44=0,\" \",COUNTRY_INFO!B44))","v":"HUAMBO"},{"$f":"IF(INTRO!$E$43=\"Non endémique\",\" \", IF(COUNTRY_INFO!C44=0,\" \",COUNTRY_INFO!C44))","v":"BAILUNDO"},{"$f":"IF(INTRO!$E$43=\"Non endémique\", 0, IF(COUNTRY_INFO!$K44>0, IF(COUNTRY_INFO!$K44=4, 0, IF(COUNTRY_INFO!$K44=1, COUNTRY_INFO!$F44*0.33, IF(COUNTRY_INFO!$K44=2, COUNTRY_INFO!$F44*0.5, COUNTRY_INFO!$F44))), 0))","v":46935.5},{"$f":"IF(INTRO!$E$43=\"Non endémique\", 0, IF(COUNTRY_INFO!$K44>0, IF(COUNTRY_INFO!$K44=4, 0, IF(COUNTRY_INFO!$K44=1, 0, IF(COUNTRY_INFO!$K44=2, COUNTRY_INFO!$G44*0.2, COUNTRY_INFO!$G44))), 0))","v":35462.400000000001},82397.899999999994,{"$f":"IF(INTRO!$E$43=\"Non endémique\", \"Non requis\", COUNTRY_INFO!T44)","v":0},null,{"$f":"IF($D44=0,0,IF(AND($G44>0,$H44<>\"Oui\"),D44,IF(AND($G44>0,$H44=\"Oui\"),COUNTRY_INFO!$F44,0)))","v":0},null,0,0,0,0,0,null,0,0]
[{"$f":"IF(INTRO!$E$43=\"Non endémique\",\" \", IF(COUNTRY_INFO!A45=0,\" \",COUNTRY_INFO!A45))","v":"Angola"},{"$f":"IF(INTRO!$E$43=\"Non endémique\",\" \", IF(COUNTRY_INFO!B45=0,\" \",COUNTRY_INFO!B45))","v":"HUAMBO"},{"$f":"IF(INTRO!$E$43=\"Non endémique\",\" \", IF(COUNTRY_INFO!C45=0,\" \",COUNTRY_INFO!C45))","v":"CAALA"},{"$f":"IF(INTRO!$E$43=\"Non endémique\", 0, IF(COUNTRY_INFO!$K45>0, IF(COUNTRY_INFO!$K45=4, 0, IF(COUNTRY_INFO!$K45=1, COUNTRY_INFO!$F45*0.33, IF(COUNTRY_INFO!$K45=2, COUNTRY_INFO!$F45*0.5, COUNTRY_INFO!$F45))), 0))","v":44592.5},{"$f":"IF(INTRO!$E$43=\"Non endémique\", 0, IF(COUNTRY_INFO!$K45>0, IF(COUNTRY_INFO!$K45=4, 0, IF(COUNTRY_INFO!$K45=1, 0, IF(COUNTRY_INFO!$K45=2, COUNTRY_INFO!$G45*0.2, COUNTRY_INFO!$G45))), 0))","v":33692.200000000004},78284.700000000012,{"$f":"IF(INTRO!$E$43=\"Non endémique\", \"Non requis\", COUNTRY_INFO!T45)","v":0},null,{"$f":"IF($D45=0,0,IF(AND($G45>0,$H45<>\"Oui\"),D45,IF(AND($G45>0,$H45=\"Oui\"),COUNTRY_INFO!$F45,0)))","v":0},null,0,0,0,0,0,null,0,0]
[{"$f":"IF(INTRO!$E$43=\"Non endémique\",\" \", IF(COUNTRY_INFO!A46=0,\" \",COUNTRY_INFO!A46))","v":"Angola"},{"$f":"IF(INTRO!$E$43=\"Non endémique\",\" \", IF(COUNTRY_INFO!B46=0,\" \",COUNTRY_INFO!B46))","v":"HUAMBO"},{"$f":"IF(INTRO!$E$43=\"Non endémique\",\" \", IF(COUNTRY_INFO!C46=0,\" \",COUNTRY_INFO!C46))","v":"EKUNHA"},{"$f":"IF(INTRO!$E$43=\"Non endémique\", 0, IF(COUNTRY_INFO!$K46>0, IF(COUNTRY_INFO!$K46=4, 0, IF(COUNTRY_INFO!$K46=1, COUNTRY_INFO!$F46*0.33, IF(COUNTRY_INFO!$K46=2, COUNTRY_INFO!$F46*0.5, COUNTRY_INFO!$F46))), 0))","v":13155},{"$f":"IF(INTRO!$E$43=\"Non endémique\", 0, IF(COUNTRY_INFO!$K46>0, IF(COUNTRY_INFO!$K46=4, 0, IF(COUNTRY_INFO!$K46=1, 0, IF(COUNTRY_INFO!$K46=2, COUNTRY_INFO!$G46*0.2, COUNTRY_INFO!$G46))), 0))","v":9939.4000000000015},23094.400000000001,{"$f":"IF(INTRO!$E$43=\"Non endémique\", \"Non requis\", COUNTRY_INFO!T46)","v":0},null,{"$f":"IF($D46=0,0,IF(AND($G46>0,$H46<>\"Oui\"),D46,IF(AND($G46>0,$H46=\"Oui\"),COUNTRY_INFO!$F46,0)))","v":0},null,0,0,0,0,0,null,0,0]
[{"$f":"IF(INTRO!$E$43=\"Non endémique\",\" \", IF(COUNTRY_INFO!A47=0,\" \",COUNTRY_INFO!A47))","v":"Angola"},{"$f":"IF(INTRO!$E$43=\"Non endémique\",\" \", IF(COUNTRY_INFO!B47=0,\" \",COUNTRY_INFO!B47))","v":"HUAMBO"},{"$f":"IF(INTRO!$E$43=\"Non endémique\",\" \", IF(COUNTRY_INFO!C47=0,\" \",COUNTRY_INFO!C47))","v":"HUAMBO"},{"$f":"IF(INTRO!$E$43=\"Non endémique\", 0, IF(COUNTRY_INFO!$K47>0, IF(COUNTRY_INFO!$K47=4, 0, IF(COUNTRY_INFO!$K47=1, COUNTRY_INFO!$F47*0.33, IF(COUNTRY_INFO!$K47=2, COUNTRY_INFO!$F47*0.5, COUNTRY_INFO!$F47))), 0))","v":113657.5},{"$f":"IF(INTRO!$E$43=\"Non endémique\", 0, IF(COUNTRY_INFO!$K47>0, IF(COUNTRY_INFO!$K47=4, 0, IF(COUNTRY_INFO!$K47=1, 0, IF(COUNTRY_INFO!$K47=2, COUNTRY_INFO!$G47*0.2, COUNTRY_INFO!$G47))), 0))","v":85874.400000000009},199531.90000000002,{"$f":"IF(INTRO!$E$43=\"Non endémique\", \"Non requis\", COUNTRY_INFO!T47)","v":0},null,{"$f":"IF($D47=0,0,IF(AND($G47>0,$H47<>\"Oui\"),D47,IF(AND($G47>0,$H47=\"Oui\"),COUNTRY_INFO!$F47,0)))","v":0},null,0,0,0,0,0,null,0,0]
[{"$f":"IF(INTRO!$E$43=\"Non endémique\",\" \", IF(COUNTRY_INFO!A48=0,\" \",COUNTRY_INFO!A48))","v":"Angola"},{"$f":"IF(INTRO!$E$43=\"Non endémique\",\" \", IF(COUNTRY_INFO!B48=0,\" \",COUNTRY_INFO!B48))","v":"HUAMBO"},{"$f":"IF(INTRO!$E$43=\"Non endémique\",\" \", IF(COUNTRY_INFO!C48=0,\" \",COUNTRY_INFO!C48))","v":"CACHIUNGO"},{"$f":"IF(INTRO!$E$43=\"Non endémique\", 0, IF(COUNTRY_INFO!$K48>0, IF(COUNTRY_INFO!$K48=4, 0, IF(COUNTRY_INFO!$K48=1, COUNTRY_INFO!$F48*0.33, IF(COUNTRY_INFO!$K48=2, COUNTRY_INFO!$F48*0.5, COUNTRY_INFO!$F48))), 0))","v":19233.5},{"$f":"IF(INTRO!$E$43=\"Non endémique\", 0, IF(COUNTRY_INFO!$K48>0, IF(COUNTRY_INFO!$K48=4, 0, IF(COUNTRY_INFO!$K48=1, 0, IF(COUNTRY_INFO!$K48=2, COUNTRY_INFO!$G48*0.2, COUNTRY_INFO!$G48))), 0))","v":14531.800000000001},33765.300000000003,{"$f":"IF(INTRO!$E$43=\"Non endémique\", \"Non requis\", COUNTRY_INFO!T48)","v":0},null,{"$f":"IF($D48=0,0,IF(AND($G48>0,$H48<>\"Oui\"),D48,IF(AND($G48>0,$H48=\"Oui\"),COUNTRY_INFO!$F48,0)))","v":0},null,0,0,0,0,0,null,0,0]
[{"$f":"IF(INTRO!$E$43=\"Non endémique\",\" \", IF(COUNTRY_INFO!A49=0,\" \",COUNTRY_INFO!A49))","v":"Angola"},{"$f":"IF(INTRO!$E$43=\"Non endémique\",\" \", IF(COUNTRY_INFO!B49=0,\" \",COUNTRY_INFO!B49))","v":"HUAMBO"},{"$f":"IF(INTRO!$E$43=\"Non endémique\",\" \", IF(COUNTRY_INFO!C49=0,\" \",COUNTRY_INFO!C49))","v":"LONDUIMBALI"},{"$f":"IF(INTRO!$E$43=\"Non endémique\", 0, IF(COUNTRY_INFO!$K49>0, IF(COUNTRY_INFO!$K49=4, 0, IF(COUNTRY_INFO!$K49=1, COUNTRY_INFO!$F49*0.33, IF(COUNTRY_INFO!$K49=2, COUNTRY_INFO!$F49*0.5, COUNTRY_INFO!$F49))), 0))","v":21397},{"$f":"IF(INTRO!$E$43=\"Non endémique\", 0, IF(COUNTRY_INFO!$K49>0, IF(COUNTRY_INFO!$K49=4, 0, IF(COUNTRY_INFO!$K49=1, 0, IF(COUNTRY_INFO!$K49=2, COUNTRY_INFO!$G49*0.2, COUNTRY_INFO!$G49))), 0))","v":16166.6},37563.599999999999,{"$f":"IF(INTRO!$E$43=\"Non endémique\", \"Non requis\", COUNTRY_INFO!T49)","v":0},null,{"$f":"IF($D49=0,0,IF(AND($G49>0,$H49<>\"Oui\"),D49,IF(AND($G49>0,$H49=\"Oui\"),COUNTRY_INFO!$F49,0)))","v":0},null,0,0,0,0,0,null,0,0]
[{"$f":"IF(INTRO!$E$43=\"Non endémique\",\" \", IF(COUNTRY_INFO!A50=0,\" \",COUNTRY_INFO!A50))","v":"Angola"},{"$f":"IF(INTRO!$E$43=\"Non endémique\",\" \", IF(COUNTRY_INFO!B50=0,\" \",COUNTRY_INFO!B50))","v":"HUAMBO"},{"$f":"IF(INTRO!$E$43=\"Non endémique\",\" \", IF(COUNTRY_INFO!C50=0,\" \",COUNTRY_INFO!C50))","v":"LONGONJO"},{"$f":"IF(INTRO!$E$43=\"Non endémique\", 0, IF(COUNTRY_INFO!$K50>0, IF(COUNTRY_INFO!$K50=4, 0, IF(COUNTRY_INFO!$K50=1, COUNTRY_INFO!$F50*0.33, IF(COUNTRY_INFO!$K50=2, COUNTRY_INFO!$F50*0.5, COUNTRY_INFO!$F50))), 0))","v":14679},{"$f":"IF(INTRO!$E$43=\"Non endémique\", 0, IF(COUNTRY_INFO!$K50>0, IF(COUNTRY_INFO!$K50=4, 0, IF(COUNTRY_INFO!$K50=1, 0, IF(COUNTRY_INFO!$K50=2, COUNTRY_INFO!$G50*0.2, COUNTRY_INFO!$G50))), 0))","v":11090.800000000001},25769.800000000003,{"$f":"IF(INTRO!$E$43=\"Non endémique\", \"Non requis\", COUNTRY_INFO!T50)","v":0},null,{"$f":"IF($D50=0,0,IF(AND($G50>0,$H50<>\"Oui\"),D50,IF(AND($G50>0,$H50=\"Oui\"),COUNTRY_INFO!$F50,0)))","v":0},null,0,0,0,0,0,null,0,0]
[{"$f":"IF(INTRO!$E$43=\"Non endémique\",\" \", IF(COUNTRY_INFO!A51=0,\" \",COUNTRY_INFO!A51))","v":"Angola"},{"$f":"IF(INTRO!$E$43=\"Non endémique\",\" \", IF(COUNTRY_INFO!B51=0,\" \",COUNTRY_INFO!B51))","v":"HUAMBO"},{"$f":"IF(INTRO!$E$43=\"Non endémique\",\" \", IF(COUNTRY_INFO!C51=0,\" \",COUNTRY_INFO!C51))","v":"MUNGO"},{"$f":"IF(INTRO!$E$43=\"Non endémique\", 0, IF(COUNTRY_INFO!$K51>0, IF(COUNTRY_INFO!$K51=4, 0, IF(COUNTRY_INFO!$K51=1, COUNTRY_INFO!$F51*0.33, IF(COUNTRY_INFO!$K51=2, COUNTRY_INFO!$F51*0.5, COUNTRY_INFO!$F51))), 0))","v":18076},{"$f":"IF(INTRO!$E$43=\"Non endémique\", 0, IF(COUNTRY_INFO!$K51>0, IF(COUNTRY_INFO!$K51=4, 0, IF(COUNTRY_INFO!$K51=1, 0, IF(COUNTRY_INFO!$K51=2, COUNTRY_INFO!$G51*0.2, COUNTRY_INFO!$G51))), 0))","v":13657.6},31733.599999999999,{"$f":"IF(INTRO!$E$43=\"Non endémique\", \"Non requis\", COUNTRY_INFO!T51)","v":0},null,{"$f":"IF($D51=0,0,IF(AND($G51>0,$H51<>\"Oui\"),D51,IF(AND($G51>0,$H51=\"Oui\"),COUNTRY_INFO!$F51,0)))","v":0},null,0,0,0,0,0,null,0,0]
[{"$f":"IF(INTRO!$E$43=\"Non endémique\",\" \", IF(COUNTRY_INFO!A52=0,\" \",COUNTRY_INFO!A52))","v":"Angola"},{"$f":"IF(INTRO!$E$43=\"Non endémique\",\" \", IF(COUNTRY_INFO!B52=0,\" \",COUNTRY_INFO!B52))","v":"HUAMBO"},{"$f":"IF(INTRO!$E$43=\"Non endémique\",\" \", IF(COUNTRY_INFO!C52=0,\" \",COUNTRY_INFO!C52))","v":"TCHICALA TCHOLOHANGA"},{"$f":"IF(INTRO!$E$43=\"Non endémique\", 0, IF(COUNTRY_INFO!$K52>0, IF(COUNTRY_INFO!$K52=4, 0, IF(COUNTRY_INFO!$K52=1, COUNTRY_INFO!$F52*0.33, IF(COUNTRY_INFO!$K52=2, COUNTRY_INFO!$F52*0.5, COUNTRY_INFO!$F52))), 0))","v":16519},{"$f":"IF(INTRO!$E$43=\"Non endémique\", 0, IF(COUNTRY_INFO!$K52>0, IF(COUNTRY_INFO!$K52=4, 0, IF(COUNTRY_INFO!$K52=1, 0, IF(COUNTRY_INFO!$K52=2, COUNTRY_INFO!$G52*0.2, COUNTRY_INFO!$G52))), 0))","v":12480.800000000001},28999.800000000003,{"$f":"IF(INTRO!$E$43=\"Non endémique\", \"Non requis\", COUNTRY_INFO!T52)","v":0},null,{"$f":"IF($D52=0,0,IF(AND($G52>0,$H52<>\"Oui\"),D52,IF(AND($G52>0,$H52=\"Oui\"),COUNTRY_INFO!$F52,0)))","v":0},null,0,0,0,0,0,null,0,0]
[{"$f":"IF(INTRO!$E$43=\"Non endémique\",\" \", IF(COUNTRY_INFO!A53=0,\" \",COUNTRY_INFO!A53))","v":"Angola"},{"$f":"IF(INTRO!$E$43=\"Non endémique\",\" \", IF(COUNTRY_INFO!B53=0,\" \",COUNTRY_INFO!B53))","v":"HUAMBO"},{"$f":"IF(INTRO!$E$43=\"Non endémique\",\" \", IF(COUNTRY_INFO!C53=0,\" \",COUNTRY_INFO!C53))","v":"TCHINDJENJE"},{"$f":"IF(INTRO!$E$43=\"Non endémique\", 0, IF(COUNTRY_INFO!$K53>0, IF(COUNTRY_INFO!$K53=4, 0, IF(COUNTRY_INFO!$K53=1, COUNTRY_INFO!$F53*0.33, IF(COUNTRY_INFO!$K53=2, COUNTRY_INFO!$F53*0.5, COUNTRY_INFO!$F53))), 0))","v":4852},{"$f":"IF(INTRO!$E$43=\"Non endémique\", 0, IF(COUNTRY_INFO!$K53>0, IF(COUNTRY_INFO!$K53=4, 0, IF(COUNTRY_INFO!$K53=1, 0, IF(COUNTRY_INFO!$K53=2, COUNTRY_INFO!$G53*0.2, COUNTRY_INFO!$G53))), 0))","v":3665.8},8517.7999999999993,{"$f":"IF(INTRO!$E$43=\"Non endémique\", \"Non requis\", COUNTRY_INFO!T53)","v":0},null,{"$f":"IF($D53=0,0,IF(AND($G53>0,$H53<>\"Oui\"),D53,IF(AND($G53>0,$H53=\"Oui\"),COUNTRY_INFO!$F53,0)))","v":0},null,0,0,0,0,0,null,0,0]
[{"$f":"IF(INTRO!$E$43=\"Non endémique\",\" \", IF(COUNTRY_INFO!A54=0,\" \",COUNTRY_INFO!A54))","v":"Angola"},{"$f":"IF(INTRO!$E$43=\"Non endémique\",\" \", IF(COUNTRY_INFO!B54=0,\" \",COUNTRY_INFO!B54))","v":"HUAMBO"},{"$f":"IF(INTRO!$E$43=\"Non endémique\",\" \", IF(COUNTRY_INFO!C54=0,\" \",COUNTRY_INFO!C54))","v":"UKUMA"},{"$f":"IF(INTRO!$E$43=\"Non endémique\", 0, IF(COUNTRY_INFO!$K54>0, IF(COUNTRY_INFO!$K54=4, 0, IF(COUNTRY_INFO!$K54=1, COUNTRY_INFO!$F54*0.33, IF(COUNTRY_INFO!$K54=2, COUNTRY_INFO!$F54*0.5, COUNTRY_INFO!$F54))), 0))","v":8774.5},{"$f":"IF(INTRO!$E$43=\"Non endémique\", 0, IF(COUNTRY_INFO!$K54>0, IF(COUNTRY_INFO!$K54=4, 0, IF(COUNTRY_INFO!$K54=1, 0, IF(COUNTRY_INFO!$K54=2, COUNTRY_INFO!$G54*0.2, COUNTRY_INFO!$G54))), 0))","v":6629.6},15404.1,{"$f":"IF(INTRO!$E$43=\"Non endémique\", \"Non requis\", COUNTRY_INFO!T54)","v":0},null,{"$f":"IF($D54=0,0,IF(AND($G54>0,$H54<>\"Oui\"),D54,IF(AND($G54>0,$H54=\"Oui\"),COUNTRY_INFO!$F54,0)))","v":0},null,0,0,0,0,0,null,0,0]
[{"$f":"IF(INTRO!$E$43=\"Non endémique\",\" \", IF(COUNTRY_INFO!A55=0,\" \",COUNTRY_INFO!A55))","v":"Angola"},{"$f":"IF(INTRO!$E$43=\"Non endémique\",\" \", IF(COUNTRY_INFO!B55=0,\" \",COUNTRY_INFO!B55))","v":"HUILA"},{"$f":"IF(INTRO!$E$43=\"Non endémique\",\" \", IF(COUNTRY_INFO!C55=0,\" \",COUNTRY_INFO!C55))","v":"CACONDA"},{"$f":"IF(INTRO!$E$43=\"Non endémique\", 0, IF(COUNTRY_INFO!$K55>0, IF(COUNTRY_INFO!$K55=4, 0, IF(COUNTRY_INFO!$K55=1, COUNTRY_INFO!$F55*0.33, IF(COUNTRY_INFO!$K55=2, COUNTRY_INFO!$F55*0.5, COUNTRY_INFO!$F55))), 0))","v":26747},{"$f":"IF(INTRO!$E$43=\"Non endémique\", 0, IF(COUNTRY_INFO!$K55>0, IF(COUNTRY_INFO!$K55=4, 0, IF(COUNTRY_INFO!$K55=1, 0, IF(COUNTRY_INFO!$K55=2, COUNTRY_INFO!$G55*0.2, COUNTRY_INFO!$G55))), 0))","v":20208.600000000002},46955.600000000006,{"$f":"IF(INTRO!$E$43=\"Non endémique\", \"Non requis\", COUNTRY_INFO!T55)","v":0},null,{"$f":"IF($D55=0,0,IF(AND($G55>0,$H55<>\"Oui\"),D55,IF(AND($G55>0,$H55=\"Oui\"),COUNTRY_INFO!$F55,0)))","v":0},null,0,0,0,0,0,null,0,0]
[{"$f":"IF(INTRO!$E$43=\"Non endémique\",\" \", IF(COUNTRY_INFO!A56=0,\" \",COUNTRY_INFO!A56))","v":"Angola"},{"$f":"IF(INTRO!$E$43=\"Non endémique\",\" \", IF(COUNTRY_INFO!B56=0,\" \",COUNTRY_INFO!B56))","v":"HUILA"},{"$f":"IF(INTRO!$E$43=\"Non endémique\",\" \", IF(COUNTRY_INFO!C56=0,\" \",COUNTRY_INFO!C56))","v":"CACULA"},{"$f":"IF(INTRO!$E$43=\"Non endémique\", 0, IF(COUNTRY_INFO!$K56>0, IF(COUNTRY_INFO!$K56=4, 0, IF(COUNTRY_INFO!$K56=1, COUNTRY_INFO!$F56*0.33, IF(COUNTRY_INFO!$K56=2, COUNTRY_INFO!$F56*0.5, COUNTRY_INFO!$F56))), 0))","v":21831},{"$f":"IF(INTRO!$E$43=\"Non endémique\", 0, IF(COUNTRY_INFO!$K56>0, IF(COUNTRY_INFO!$K56=4, 0, IF(COUNTRY_INFO!$K56=1, 0, IF(COUNTRY_INFO!$K56=2, COUNTRY_INFO!$G56*0.2, COUNTRY_INFO!$G56))), 0))","v":16494.600000000002},38325.600000000006,{"$f":"IF(INTRO!$E$43=\"Non endémique\", \"Non requis\", COUNTRY_INFO!T56)","v":0},null,{"$f":"IF($D56=0,0,IF(AND($G56>0,$H56<>\"Oui\"),D56,IF(AND($G56>0,$H56=\"Oui\"),COUNTRY_INFO!$F56,0)))","v":0},null,0,0,0,0,0,null,0,0]
[{"$f":"IF(INTRO!$E$43=\"Non endémique\",\" \", IF(COUNTRY_INFO!A57=0,\" \",COUNTRY_INFO!A57))","v":"Angola"},{"$f":"IF(INTRO!$E$43=\"Non endémique\",\" \", IF(COUNTRY_INFO!B57=0,\" \",COUNTRY_INFO!B57))","v":"HUILA"},{"$f":"IF(INTRO!$E$43=\"Non endémique\",\" \", IF(COUNTRY_INFO!C57=0,\" \",COUNTRY_INFO!C57))","v":"CALUQUEMBE"},{"$f":"IF(INTRO!$E$43=\"Non endémique\", 0, IF(COUNTRY_INFO!$K57>0, IF(COUNTRY_INFO!$K57=4, 0, IF(COUNTRY_INFO!$K57=1, COUNTRY_INFO!$F57*0.33, IF(COUNTRY_INFO!$K57=2, COUNTRY_INFO!$F57*0.5, COUNTRY_INFO!$F57))), 0))","v":28677},{"$f":"IF(INTRO!$E$43=\"Non endémique\", 0, IF(COUNTRY_INFO!$K57>0, IF(COUNTRY_INFO!$K57=4, 0, IF(COUNTRY_INFO!$K57=1, 0, IF(COUNTRY_INFO!$K57=2, COUNTRY_INFO!$G57*0.2, COUNTRY_INFO!$G57))), 0))","v":21667},50344,{"$f":"IF(INTRO!$E$43=\"Non endémique\", \"Non requis\", COUNTRY_INFO!T57)","v":0},null,{"$f":"IF($D57=0,0,IF(AND($G57>0,$H57<>\"Oui\"),D57,IF(AND($G57>0,$H57=\"Oui\"),COUNTRY_INFO!$F57,0)))","v":0},null,0,0,0,0,0,null,0,0]
[{"$f":"IF(INTRO!$E$43=\"Non endémique\",\" \", IF(COUNTRY_INFO!A58=0,\" \",COUNTRY_INFO!A58))","v":"Angola"},{"$f":"IF(INTRO!$E$43=\"Non endémique\",\" \", IF(COUNTRY_INFO!B58=0,\" \",COUNTRY_INFO!B58))","v":"HUILA"},{"$f":"IF(INTRO!$E$43=\"Non endémique\",\" \", IF(COUNTRY_INFO!C58=0,\" \",COUNTRY_INFO!C58))","v":"CHIBIA"},{"$f":"IF(INTRO!$E$43=\"Non endémique\", 0, IF(COUNTRY_INFO!$K58>0, IF(COUNTRY_INFO!$K58=4, 0, IF(COUNTRY_INFO!$K58=1, COUNTRY_INFO!$F58*0.33, IF(COUNTRY_INFO!$K58=2, COUNTRY_INFO!$F58*0.5, COUNTRY_INFO!$F58))), 0))","v":26433.5},{"$f":"IF(INTRO!$E$43=\"Non endémique\", 0, IF(COUNTRY_INFO!$K58>0, IF(COUNTRY_INFO!$K58=4, 0, IF(COUNTRY_INFO!$K58=1, 0, IF(COUNTRY_INFO!$K58=2, COUNTRY_INFO!$G58*0.2, COUNTRY_INFO!$G58))), 0))","v":19971.800000000003},46405.3,{"$f":"IF(INTRO!$E$43=\"Non endémique\", \"Non requis\", COUNTRY_INFO!T58)","v":0},null,{"$f":"IF($D58=0,0,IF(AND($G58>0,$H58<>\"Oui\"),D58,IF(AND($G58>0,$H58=\"Oui\"),COUNTRY_INFO!$F58,0)))","v":0},null,0,0,0,0,0,null,0,0]
[{"$f":"IF(INTRO!$E$43=\"Non endémique\",\" \", IF(COUNTRY_INFO!A59=0,\" \",COUNTRY_INFO!A59))","v":"Angola"},{"$f":"IF(INTRO!$E$43=\"Non endémique\",\" \", IF(COUNTRY_INFO!B59=0,\" \",COUNTRY_INFO!B59))","v":"HUILA"},{"$f":"IF(INTRO!$E$43=\"Non endémique\",\" \", IF(COUNTRY_INFO!C59=0,\" \",COUNTRY_INFO!C59))","v":"CHICOMBA"},{"$f":"IF(INTRO!$E$43=\"Non endémique\", 0, IF(COUNTRY_INFO!$K59>0, IF(COUNTRY_INFO!$K59=4, 0, IF(COUNTRY_INFO!$K59=1, COUNTRY_INFO!$F59*0.33, IF(COUNTRY_INFO!$K59=2, COUNTRY_INFO!$F59*0.5, COUNTRY_INFO!$F59))), 0))","v":21007},{"$f":"IF(INTRO!$E$43=\"Non endémique\", 0, IF(COUNTRY_INFO!$K59>0, IF(COUNTRY_INFO!$K59=4, 0, IF(COUNTRY_INFO!$K59=1, 0, IF(COUNTRY_INFO!$K59=2, COUNTRY_INFO!$G59*0.2, COUNTRY_INFO!$G59))), 0))","v":15872},36879,{"$f":"IF(INTRO!$E$43=\"Non endémique\", \"Non requis\", COUNTRY_INFO!T59)","v":0},null,{"$f":"IF($D59=0,0,IF(AND($G59>0,$H59<>\"Oui\"),D59,IF(AND($G59>0,$H59=\"Oui\"),COUNTRY_INFO!$F59,0)))","v":0},null,0,0,0,0,0,null,0,0]
[{"$f":"IF(INTRO!$E$43=\"Non endémique\",\" \", IF(COUNTRY_INFO!A60=0,\" \",COUNTRY_INFO!A60))","v":"Angola"},{"$f":"IF(INTRO!$E$43=\"Non endémique\",\" \", IF(COUNTRY_INFO!B60=0,\" \",COUNTRY_INFO!B60))","v":"HUILA"},{"$f":"IF(INTRO!$E$43=\"Non endémique\",\" \", IF(COUNTRY_INFO!C60=0,\" \",COUNTRY_INFO!C60))","v":"CHIPINDO"},{"$f":"IF(INTRO!$E$43=\"Non endémique\", 0, IF(COUNTRY_INFO!$K60>0, IF(COUNTRY_INFO!$K60=4, 0, IF(COUNTRY_INFO!$K60=1, COUNTRY_INFO!$F60*0.33, IF(COUNTRY_INFO!$K60=2, COUNTRY_INFO!$F60*0.5, COUNTRY_INFO!$F60))), 0))","v":10314},{"$f":"IF(INTRO!$E$43=\"Non endémique\", 0, IF(COUNTRY_INFO!$K60>0, IF(COUNTRY_INFO!$K60=4, 0, IF(COUNTRY_INFO!$K60=1, 0, IF(COUNTRY_INFO!$K60=2, COUNTRY_INFO!$G60*0.2, COUNTRY_INFO!$G60))), 0))","v":7792.8},18106.8,{"$f":"IF(INTRO!$E$43=\"Non endémique\", \"Non requis\", COUNTRY_INFO!T60)","v":0},null,{"$f":"IF($D60=0,0,IF(AND($G60>0,$H60<>\"Oui\"),D60,IF(AND($G60>0,$H60=\"Oui\"),COUNTRY_INFO!$F60,0)))","v":0},null,0,0,0,0,0,null,0,0]
[{"$f":"IF(INTRO!$E$43=\"Non endémique\",\" \", IF(COUNTRY_INFO!A61=0,\" \",COUNTRY_INFO!A61))","v":"Angola"},{"$f":"IF(INTRO!$E$43=\"Non endémique\",\" \", IF(COUNTRY_INFO!B61=0,\" \",COUNTRY_INFO!B61))","v":"HUILA"},{"$f":"IF(INTRO!$E$43=\"Non endémique\",\" \", IF(COUNTRY_INFO!C61=0,\" \",COUNTRY_INFO!C61))","v":"GAMBOS"},{"$f":"IF(INTRO!$E$43=\"Non endémique\", 0, IF(COUNTRY_INFO!$K61>0, IF(COUNTRY_INFO!$K61=4, 0, IF(COUNTRY_INFO!$K61=1, COUNTRY_INFO!$F61*0.33, IF(COUNTRY_INFO!$K61=2, COUNTRY_INFO!$F61*0.5, COUNTRY_INFO!$F61))), 0))","v":12664.5},{"$f":"IF(INTRO!$E$43=\"Non endémique\", 0, IF(COUNTRY_INFO!$K61>0, IF(COUNTRY_INFO!$K61=4, 0, IF(COUNTRY_INFO!$K61=1, 0, IF(COUNTRY_INFO!$K61=2, COUNTRY_INFO!$G61*0.2, COUNTRY_INFO!$G61))), 0))","v":9568.8000000000011},22233.300000000003,{"$f":"IF(INTRO!$E$43=\"Non endémique\", \"Non requis\", COUNTRY_INFO!T61)","v":0},null,{"$f":"IF($D61=0,0,IF(AND($G61>0,$H61<>\"Oui\"),D61,IF(AND($G61>0,$H61=\"Oui\"),COUNTRY_INFO!$F61,0)))","v":0},null,0,0,0,0,0,null,0,0]
[{"$f":"IF(INTRO!$E$43=\"Non endémique\",\" \", IF(COUNTRY_INFO!A62=0,\" \",COUNTRY_INFO!A62))","v":"Angola"},{"$f":"IF(INTRO!$E$43=\"Non endémique\",\" \", IF(COUNTRY_INFO!B62=0,\" \",COUNTRY_INFO!B62))","v":"HUILA"},{"$f":"IF(INTRO!$E$43=\"Non endémique\",\" \", IF(COUNTRY_INFO!C62=0,\" \",COUNTRY_INFO!C62))","v":"HUMPATA"},{"$f":"IF(INTRO!$E$43=\"Non endémique\", 0, IF(COUNTRY_INFO!$K62>0, IF(COUNTRY_INFO!$K62=4, 0, IF(COUNTRY_INFO!$K62=1, COUNTRY_INFO!$F62*0.33, IF(COUNTRY_INFO!$K62=2, COUNTRY_INFO!$F62*0.5, COUNTRY_INFO!$F62))), 0))","v":14207.5},{"$f":"IF(INTRO!$E$43=\"Non endémique\", 0, IF(COUNTRY_INFO!$K62>0, IF(COUNTRY_INFO!$K62=4, 0, IF(COUNTRY_INFO!$K62=1, 0, IF(COUNTRY_INFO!$K62=2, COUNTRY_INFO!$G62*0.2, COUNTRY_INFO!$G62))), 0))","v":10734.6},24942.1,{"$f":"IF(INTRO!$E$43=\"Non endémique\", \"Non requis\", COUNTRY_INFO!T62)","v":0},null,{"$f":"IF($D62=0,0,IF(AND($G62>0,$H62<>\"Oui\"),D62,IF(AND($G62>0,$H62=\"Oui\"),COUNTRY_INFO!$F62,0)))","v":0},null,0,0,0,0,0,null,0,0]
[{"$f":"IF(INTRO!$E$43=\"Non endémique\",\" \", IF(COUNTRY_INFO!A63=0,\" \",COUNTRY_INFO!A63))","v":"Angola"},{"$f":"IF(INTRO!$E$43=\"Non endémique\",\" \", IF(COUNTRY_INFO!B63=0,\" \",COUNTRY_INFO!B63))","v":"HUILA"},{"$f":"IF(INTRO!$E$43=\"Non endémique\",\" \", IF(COUNTRY_INFO!C63=0,\" \",COUNTRY_INFO!C63))","v":"JAMBA"},{"$f":"IF(INTRO!$E$43=\"Non endémique\", 0, IF(COUNTRY_INFO!$K63>0, IF(COUNTRY_INFO!$K63=4, 0, IF(COUNTRY_INFO!$K63=1, COUNTRY_INFO!$F63*0.33, IF(COUNTRY_INFO!$K63=2, COUNTRY_INFO!$F63*0.5, COUNTRY_INFO!$F63))), 0))","v":16749},{"$f":"IF(INTRO!$E$43=\"Non endémique\", 0, IF(COUNTRY_INFO!$K63>0, IF(COUNTRY_INFO!$K63=4, 0, IF(COUNTRY_INFO!$K63=1, 0, IF(COUNTRY_INFO!$K63=2, COUNTRY_INFO!$G63*0.2, COUNTRY_INFO!$G63))), 0))","v":12654.800000000001},29403.800000000003,{"$f":"IF(INTRO!$E$43=\"Non endémique\", \"Non requis\", COUNTRY_INFO!T63)","v":0},null,{"$f":"IF($D63=0,0,IF(AND($G63>0,$H63<>\"Oui\"),D63,IF(AND($G63>0,$H63=\"Oui\"),COUNTRY_INFO!$F63,0)))","v":0},null,0,0,0,0,0,null,0,0]
[{"$f":"IF(INTRO!$E$43=\"Non endémique\",\" \", IF(COUNTRY_INFO!A64=0,\" \",COUNTRY_INFO!A64))","v":"Angola"},{"$f":"IF(INTRO!$E$43=\"Non endémique\",\" \", IF(COUNTRY_INFO!B64=0,\" \",COUNTRY_INFO!B64))","v":"HUILA"},{"$f":"IF(INTRO!$E$43=\"Non endémique\",\" \", IF(COUNTRY_INFO!C64=0,\" \",COUNTRY_INFO!C64))","v":"KUVANGO"},{"$f":"IF(INTRO!$E$43=\"Non endémique\", 0, IF(COUNTRY_INFO!$K64>0, IF(COUNTRY_INFO!$K64=4, 0, IF(COUNTRY_INFO!$K64=1, COUNTRY_INFO!$F64*0.33, IF(COUNTRY_INFO!$K64=2, COUNTRY_INFO!$F64*0.5, COUNTRY_INFO!$F64))), 0))","v":12518},{"$f":"IF(INTRO!$E$43=\"Non endémique\", 0, IF(COUNTRY_INFO!$K64>0, IF(COUNTRY_INFO!$K64=4, 0, IF(COUNTRY_INFO!$K64=1, 0, IF(COUNTRY_INFO!$K64=2, COUNTRY_INFO!$G64*0.2, COUNTRY_INFO!$G64))), 0))","v":9458},21976,{"$f":"IF(INTRO!$E$43=\"Non endémique\", \"Non requis\", COUNTRY_INFO!T64)","v":0},null,{"$f":"IF($D64=0,0,IF(AND($G64>0,$H64<>\"Oui\"),D64,IF(AND($G64>0,$H64=\"Oui\"),COUNTRY_INFO!$F64,0)))","v":0},null,0,0,0,0,0,null,0,0]
[{"$f":"IF(INTRO!$E$43=\"Non endémique\",\" \", IF(COUNTRY_INFO!A65=0,\" \",COUNTRY_INFO!A65))","v":"Angola"},{"$f":"IF(INTRO!$E$43=\"Non endémique\",\" \", IF(COUNTRY_INFO!B65=0,\" \",COUNTRY_INFO!B65))","v":"HUILA"},{"$f":"IF(INTRO!$E$43=\"Non endémique\",\" \", IF(COUNTRY_INFO!C65=0,\" \",COUNTRY_INFO!C65))","v":"LUBANGO"},{"$f":"IF(INTRO!$E$43=\"Non endémique\", 0, IF(COUNTRY_INFO!$K65>0, IF(COUNTRY_INFO!$K65=4, 0, IF(COUNTRY_INFO!$K65=1, COUNTRY_INFO!$F65*0.33, IF(COUNTRY_INFO!$K65=2, COUNTRY_INFO!$F65*0.5, COUNTRY_INFO!$F65))), 0))","v":123716.5},{"$f":"IF(INTRO!$E$43=\"Non endémique\", 0, IF(COUNTRY_INFO!$K65>0, IF(COUNTRY_INFO!$K65=4, 0, IF(COUNTRY_INFO!$K65=1, 0, IF(COUNTRY_INFO!$K65=2, COUNTRY_INFO!$G65*0.2, COUNTRY_INFO!$G65))), 0))","v":93474.8},217191.3,{"$f":"IF(INTRO!$E$43=\"Non endémique\", \"Non requis\", COUNTRY_INFO!T65)","v":0},null,{"$f":"IF($D65=0,0,IF(AND($G65>0,$H65<>\"Oui\"),D65,IF(AND($G65>0,$H65=\"Oui\"),COUNTRY_INFO!$F65,0)))","v":0},null,0,0,0,0,0,null,0,0]
[{"$f":"IF(INTRO!$E$43=\"Non endémique\",\" \", IF(COUNTRY_INFO!A66=0,\" \",COUNTRY_INFO!A66))","v":"Angola"},{"$f":"IF(INTRO!$E$43=\"Non endémique\",\" \", IF(COUNTRY_INFO!B66=0,\" \",COUNTRY_INFO!B66))","v":"HUILA"},{"$f":"IF(INTRO!$E$43=\"Non endémique\",\" \", IF(COUNTRY_INFO!C66=0,\" \",COUNTRY_INFO!C66))","v":"MATALA"},{"$f":"IF(INTRO!$E$43=\"Non endémique\", 0, IF(COUNTRY_INFO!$K66>0, IF(COUNTRY_INFO!$K66=4, 0, IF(COUNTRY_INFO!$K66=1, COUNTRY_INFO!$F66*0.33, IF(COUNTRY_INFO!$K66=2, COUNTRY_INFO!$F66*0.5, COUNTRY_INFO!$F66))), 0))","v":45834.5},{"$f":"IF(INTRO!$E$43=\"Non endémique\", 0, IF(COUNTRY_INFO!$K66>0, IF(COUNTRY_INFO!$K66=4, 0, IF(COUNTRY_INFO!$K66=1, 0, IF(COUNTRY_INFO!$K66=2, COUNTRY_INFO!$G66*0.2, COUNTRY_INFO!$G66))), 0))","v":34630.6},80465.100000000006,{"$f":"IF(INTRO!$E$43=\"Non endémique\", \"Non requis\", COUNTRY_INFO!T66)","v":0},null,{"$f":"IF($D66=0,0,IF(AND($G66>0,$H66<>\"Oui\"),D66,IF(AND($G66>0,$H66=\"Oui\"),COUNTRY_INFO!$F66,0)))","v":0},null,0,0,0,0,0,null,0,0]
[{"$f":"IF(INTRO!$E$43=\"Non endémique\",\" \", IF(COUNTRY_INFO!A67=0,\" \",COUNTRY_INFO!A67))","v":"Angola"},{"$f":"IF(INTRO!$E$43=\"Non endémique\",\" \", IF(COUNTRY_INFO!B67=0,\" \",COUNTRY_INFO!B67))","v":"HUILA"},{"$f":"IF(INTRO!$E$43=\"Non endémique\",\" \", IF(COUNTRY_INFO!C67=0,\" \",COUNTRY_INFO!C67))","v":"QUILENGUES"},{"$f":"IF(INTRO!$E$43=\"Non endémique\", 0, IF(COUNTRY_INFO!$K67>0, IF(COUNTRY_INFO!$K67=4, 0, IF(COUNTRY_INFO!$K67=1, COUNTRY_INFO!$F67*0.33, IF(COUNTRY_INFO!$K67=2, COUNTRY_INFO!$F67*0.5, COUNTRY_INFO!$F67))), 0))","v":12006.5},{"$f":"IF(INTRO!$E$43=\"Non endémique\", 0, IF(COUNTRY_INFO!$K67>0, IF(COUNTRY_INFO!$K67=4, 0, IF(COUNTRY_INFO!$K67=1, 0, IF(COUNTRY_INFO!$K67=2, COUNTRY_INFO!$G67*0.2, COUNTRY_INFO!$G67))), 0))","v":9071.6},21078.1,{"$f":"IF(INTRO!$E$43=\"Non endémique\", \"Non requis\", COUNTRY_INFO!T67)","v":0},null,{"$f":"IF($D67=0,0,IF(AND($G67>0,$H67<>\"Oui\"),D67,IF(AND($G67>0,$H67=\"Oui\"),COUNTRY_INFO!$F67,0)))","v":0},null,0,0,0,0,0,null,0,0]
[{"$f":"IF(INTRO!$E$43=\"Non endémique\",\" \", IF(COUNTRY_INFO!A68=0,\" \",COUNTRY_INFO!A68))","v":"Angola"},{"$f":"IF(INTRO!$E$43=\"Non endémique\",\" \", IF(COUNTRY_INFO!B68=0,\" \",COUNTRY_INFO!B68))","v":"HUILA"},{"$f":"IF(INTRO!$E$43=\"Non endémique\",\" \", IF(COUNTRY_INFO!C68=0,\" \",COUNTRY_INFO!C68))","v":"QUIPUNGO"},{"$f":"IF(INTRO!$E$43=\"Non endémique\", 0, IF(COUNTRY_INFO!$K68>0, IF(COUNTRY_INFO!$K68=4, 0, IF(COUNTRY_INFO!$K68=1, COUNTRY_INFO!$F68*0.33, IF(COUNTRY_INFO!$K68=2, COUNTRY_INFO!$F68*0.5, COUNTRY_INFO!$F68))), 0))","v":25328},{"$f":"IF(INTRO!$E$43=\"Non endémique\", 0, IF(COUNTRY_INFO!$K68>0, IF(COUNTRY_INFO!$K68=4, 0, IF(COUNTRY_INFO!$K68=1, 0, IF(COUNTRY_INFO!$K68=2, COUNTRY_INFO!$G68*0.2, COUNTRY_INFO!$G68))), 0))","v":19136.600000000002},44464.600000000006,{"$f":"IF(INTRO!$E$43=\"Non endémique\", \"Non requis\", COUNTRY_INFO!T68)","v":0},null,{"$f":"IF($D68=0,0,IF(AND($G68>0,$H68<>\"Oui\"),D68,IF(AND($G68>0,$H68=\"Oui\"),COUNTRY_INFO!$F68,0)))","v":0},null,0,0,0,0,0,null,0,0]
[{"$f":"IF(INTRO!$E$43=\"Non endémique\",\" \", IF(COUNTRY_INFO!A69=0,\" \",COUNTRY_INFO!A69))","v":"Angola"},{"$f":"IF(INTRO!$E$43=\"Non endémique\",\" \", IF(COUNTRY_INFO!B69=0,\" \",COUNTRY_INFO!B69))","v":"KUANDO KUBANGO"},{"$f":"IF(INTRO!$E$43=\"Non endémique\",\" \", IF(COUNTRY_INFO!C69=0,\" \",COUNTRY_INFO!C69))","v":"CALAI"},{"$f":"IF(INTRO!$E$43=\"Non endémique\", 0, IF(COUNTRY_INFO!$K69>0, IF(COUNTRY_INFO!$K69=4, 0, IF(COUNTRY_INFO!$K69=1, COUNTRY_INFO!$F69*0.33, IF(COUNTRY_INFO!$K69=2, COUNTRY_INFO!$F69*0.5, COUNTRY_INFO!$F69))), 0))","v":3610.5},{"$f":"IF(INTRO!$E$43=\"Non endémique\", 0, IF(COUNTRY_INFO!$K69>0, IF(COUNTRY_INFO!$K69=4, 0, IF(COUNTRY_INFO!$K69=1, 0, IF(COUNTRY_INFO!$K69=2, COUNTRY_INFO!$G69*0.2, COUNTRY_INFO!$G69))), 0))","v":2728},6338.5,{"$f":"IF(INTRO!$E$43=\"Non endémique\", \"Non requis\", COUNTRY_INFO!T69)","v":0},null,{"$f":"IF($D69=0,0,IF(AND($G69>0,$H69<>\"Oui\"),D69,IF(AND($G69>0,$H69=\"Oui\"),COUNTRY_INFO!$F69,0)))","v":0},null,0,0,0,0,0,null,0,0]
[{"$f":"IF(INTRO!$E$43=\"Non endémique\",\" \", IF(COUNTRY_INFO!A70=0,\" \",COUNTRY_INFO!A70))","v":"Angola"},{"$f":"IF(INTRO!$E$43=\"Non endémique\",\" \", IF(COUNTRY_INFO!B70=0,\" \",COUNTRY_INFO!B70))","v":"KUANDO KUBANGO"},{"$f":"IF(INTRO!$E$43=\"Non endémique\",\" \", IF(COUNTRY_INFO!C70=0,\" \",COUNTRY_INFO!C70))","v":"CUANGAR"},{"$f":"IF(INTRO!$E$43=\"Non endémique\", 0, IF(COUNTRY_INFO!$K70>0, IF(COUNTRY_INFO!$K70=4, 0, IF(COUNTRY_INFO!$K70=1, COUNTRY_INFO!$F70*0.33, IF(COUNTRY_INFO!$K70=2, COUNTRY_INFO!$F70*0.5, COUNTRY_INFO!$F70))), 0))","v":4535.5},{"$f":"IF(INTRO!$E$43=\"Non endémique\", 0, IF(COUNTRY_INFO!$K70>0, IF(COUNTRY_INFO!$K70=4, 0, IF(COUNTRY_INFO!$K70=1, 0, IF(COUNTRY_INFO!$K70=2, COUNTRY_INFO!$G70*0.2, COUNTRY_INFO!$G70))), 0))","v":3427},7962.5,{"$f":"IF(INTRO!$E$43=\"Non endémique\", \"Non requis\", COUNTRY_INFO!T70)","v":0},null,{"$f":"IF($D70=0,0,IF(AND($G70>0,$H70<>\"Oui\"),D70,IF(AND($G70>0,$H70=\"Oui\"),COUNTRY_INFO!$F70,0)))","v":0},null,0,0,0,0,0,null,0,0]
[{"$f":"IF(INTRO!$E$43=\"Non endémique\",\" \", IF(COUNTRY_INFO!A71=0,\" \",COUNTRY_INFO!A71))","v":"Angola"},{"$f":"IF(INTRO!$E$43=\"Non endémique\",\" \", IF(COUNTRY_INFO!B71=0,\" \",COUNTRY_INFO!B71))","v":"KUANDO KUBANGO"},{"$f":"IF(INTRO!$E$43=\"Non endémique\",\" \", IF(COUNTRY_INFO!C71=0,\" \",COUNTRY_INFO!C71))","v":"CUCHI"},{"$f":"IF(INTRO!$E$43=\"Non endémique\", 0, IF(COUNTRY_INFO!$K71>0, IF(COUNTRY_INFO!$K71=4, 0, IF(COUNTRY_INFO!$K71=1, COUNTRY_INFO!$F71*0.33, IF(COUNTRY_INFO!$K71=2, COUNTRY_INFO!$F71*0.5, COUNTRY_INFO!$F71))), 0))","v":6849},{"$f":"IF(INTRO!$E$43=\"Non endémique\", 0, IF(COUNTRY_INFO!$K71>0, IF(COUNTRY_INFO!$K71=4, 0, IF(COUNTRY_INFO!$K71=1, 0, IF(COUNTRY_INFO!$K71=2, COUNTRY_INFO!$G71*0.2, COUNTRY_INFO!$G71))), 0))","v":5175},12024,{"$f":"IF(INTRO!$E$43=\"Non endémique\", \"Non requis\", COUNTRY_INFO!T71)","v":0},null,{"$f":"IF($D71=0,0,IF(AND($G71>0,$H71<>\"Oui\"),D71,IF(AND($G71>0,$H71=\"Oui\"),COUNTRY_INFO!$F71,0)))","v":0},null,0,0,0,0,0,null,0,0]
[{"$f":"IF(INTRO!$E$43=\"Non endémique\",\" \", IF(COUNTRY_INFO!A72=0,\" \",COUNTRY_INFO!A72))","v":"Angola"},{"$f":"IF(INTRO!$E$43=\"Non endémique\",\" \", IF(COUNTRY_INFO!B72=0,\" \",COUNTRY_INFO!B72))","v":"KUANDO KUBANGO"},{"$f":"IF(INTRO!$E$43=\"Non endémique\",\" \", IF(COUNTRY_INFO!C72=0,\" \",COUNTRY_INFO!C72))","v":"DIRICO"},{"$f":"IF(INTRO!$E$43=\"Non endémique\", 0, IF(COUNTRY_INFO!$K72>0, IF(COUNTRY_INFO!$K72=4, 0, IF(COUNTRY_INFO!$K72=1, COUNTRY_INFO!$F72*0.33, IF(COUNTRY_INFO!$K72=2, COUNTRY_INFO!$F72*0.5, COUNTRY_INFO!$F72))), 0))","v":2410.5},{"$f":"IF(INTRO!$E$43=\"Non endémique\", 0, IF(COUNTRY_INFO!$K72>0, IF(COUNTRY_INFO!$K72=4, 0, IF(COUNTRY_INFO!$K72=1, 0, IF(COUNTRY_INFO!$K72=2, COUNTRY_INFO!$G72*0.2, COUNTRY_INFO!$G72))), 0))","v":1821.4},4231.8999999999996,{"$f":"IF(INTRO!$E$43=\"Non endémique\", \"Non requis\", COUNTRY_INFO!T72)","v":0},null,{"$f":"IF($D72=0,0,IF(AND($G72>0,$H72<>\"Oui\"),D72,IF(AND($G72>0,$H72=\"Oui\"),COUNTRY_INFO!$F72,0)))","v":0},null,0,0,0,0,0,null,0,0]
[{"$f":"IF(INTRO!$E$43=\"Non endémique\",\" \", IF(COUNTRY_INFO!A73=0,\" \",COUNTRY_INFO!A73))","v":"Angola"},{"$f":"IF(INTRO!$E$43=\"Non endémique\",\" \", IF(COUNTRY_INFO!B73=0,\" \",COUNTRY_INFO!B73))","v":"KUANDO KUBANGO"},{"$f":"IF(INTRO!$E$43=\"Non endémique\",\" \", IF(COUNTRY_INFO!C73=0,\" \",COUNTRY_INFO!C73))","v":"KUITO KUANAVALE"},{"$f":"IF(INTRO!$E$43=\"Non endémique\", 0, IF(COUNTRY_INFO!$K73>0, IF(COUNTRY_INFO!$K73=4, 0, IF(COUNTRY_INFO!$K73=1, COUNTRY_INFO!$F73*0.33, IF(COUNTRY_INFO!$K73=2, COUNTRY_INFO!$F73*0.5, COUNTRY_INFO!$F73))), 0))","v":6507},{"$f":"IF(INTRO!$E$43=\"Non endémique\", 0, IF(COUNTRY_INFO!$K73>0, IF(COUNTRY_INFO!$K73=4, 0, IF(COUNTRY_INFO!$K73=1, 0, IF(COUNTRY_INFO!$K73=2, COUNTRY_INFO!$G73*0.2, COUNTRY_INFO!$G73))), 0))","v":4916.4000000000005},{"$f":"SUM(D73:E73)","v":11423.400000000001},{"$f":"IF(INTRO!$E$43=\"Non endémique\", \"Non requis\", COUNTRY_INFO!T73)","v":0},null,{"$f":"IF($D73=0,0,IF(AND($G73>0,$H73<>\"Oui\"),D73,IF(AND($G73>0,$H73=\"Oui\"),COUNTRY_INFO!$F73,0)))","v":0},null,{"$f":"IF($G73>0,E73, 0)","v":0},{"$f":"IF($J73=0,SUM(I73,K73),SUM(J73,K73))","v":0},{"$f":"IF($J73=0,$I73*2.5,$J73*2.5)","v":0},{"$f":"$K73*3","v":0},{"$f":"M73","v":0},null,{"$f":"IF($O73>$P73,O73-P73,0)","v":0},{"$f":"ROUNDUP($O73/1000,0)","v":0}]
[{"$f":"IF(INTRO!$E$43=\"Non endémique\",\" \", IF(COUNTRY_INFO!A74=0,\" \",COUNTRY_INFO!A74))","v":"Angola"},{"$f":"IF(INTRO!$E$43=\"Non endémique\",\" \", IF(COUNTRY_INFO!B74=0,\" \",COUNTRY_INFO!B74))","v":"KUANDO KUBANGO"},{"$f":"IF(INTRO!$E$43=\"Non endémique\",\" \", IF(COUNTRY_INFO!C74=0,\" \",COUNTRY_INFO!C74))","v":"MAVINGA"},{"$f":"IF(INTRO!$E$43=\"Non endémique\", 0, IF(COUNTRY_INFO!$K74>0, IF(COUNTRY_INFO!$K74=4, 0, IF(COUNTRY_INFO!$K74=1, COUNTRY_INFO!$F74*0.33, IF(COUNTRY_INFO!$K74=2, COUNTRY_INFO!$F74*0.5, COUNTRY_INFO!$F74))), 0))","v":4334.5},{"$f":"IF(INTRO!$E$43=\"Non endémique\", 0, IF(COUNTRY_INFO!$K74>0, IF(COUNTRY_INFO!$K74=4, 0, IF(COUNTRY_INFO!$K74=1, 0, IF(COUNTRY_INFO!$K74=2, COUNTRY_INFO!$G74*0.2, COUNTRY_INFO!$G74))), 0))","v":3274.8},7609.3,{"$f":"IF(INTRO!$E$43=\"Non endémique\", \"Non requis\", COUNTRY_INFO!T74)","v":0},null,{"$f":"IF($D74=0,0,IF(AND($G74>0,$H74<>\"Oui\"),D74,IF(AND($G74>0,$H74=\"Oui\"),COUNTRY_INFO!$F74,0)))","v":0},null,0,0,0,0,0,null,0,0]
[{"$f":"IF(INTRO!$E$43=\"Non endémique\",\" \", IF(COUNTRY_INFO!A75=0,\" \",COUNTRY_INFO!A75))","v":"Angola"},{"$f":"IF(INTRO!$E$43=\"Non endémique\",\" \", IF(COUNTRY_INFO!B75=0,\" \",COUNTRY_INFO!B75))","v":"KUANDO KUBANGO"},{"$f":"IF(INTRO!$E$43=\"Non endémique\",\" \", IF(COUNTRY_INFO!C75=0,\" \",COUNTRY_INFO!C75))","v":"MENONGUE"},{"$f":"IF(INTRO!$E$43=\"Non endémique\", 0, IF(COUNTRY_INFO!$K75>0, IF(COUNTRY_INFO!$K75=4, 0, IF(COUNTRY_INFO!$K75=1, COUNTRY_INFO!$F75*0.33, IF(COUNTRY_INFO!$K75=2, COUNTRY_INFO!$F75*0.5, COUNTRY_INFO!$F75))), 0))","v":51146.5},{"$f":"IF(INTRO!$E$43=\"Non endémique\", 0, IF(COUNTRY_INFO!$K75>0, IF(COUNTRY_INFO!$K75=4, 0, IF(COUNTRY_INFO!$K75=1, 0, IF(COUNTRY_INFO!$K75=2, COUNTRY_INFO!$G75*0.2, COUNTRY_INFO!$G75))), 0))","v":38644},89790.5,{"$f":"IF(INTRO!$E$43=\"Non endémique\", \"Non requis\", COUNTRY_INFO!T75)","v":0},null,{"$f":"IF($D75=0,0,IF(AND($G75>0,$H75<>\"Oui\"),D75,IF(AND($G75>0,$H75=\"Oui\"),COUNTRY_INFO!$F75,0)))","v":0},null,0,0,0,0,0,null,0,0]
[{"$f":"IF(INTRO!$E$43=\"Non endémique\",\" \", IF(COUNTRY_INFO!A76=0,\" \",COUNTRY_INFO!A76))","v":"Angola"},{"$f":"IF(INTRO!$E$43=\"Non endémique\",\" \", IF(COUNTRY_INFO!B76=0,\" \",COUNTRY_INFO!B76))","v":"KUANDO KUBANGO"},{"$f":"IF(INTRO!$E$43=\"Non endémique\",\" \", IF(COUNTRY_INFO!C76=0,\" \",COUNTRY_INFO!C76))","v":"NANKOVA"},{"$f":"IF(INTRO!$E$43=\"Non endémique\", 0, IF(COUNTRY_INFO!$K76>0, IF(COUNTRY_INFO!$K76=4, 0, IF(COUNTRY_INFO!$K76=1, COUNTRY_INFO!$F76*0.33, IF(COUNTRY_INFO!$K76=2, COUNTRY_INFO!$F76*0.5, COUNTRY_INFO!$F76))), 0))","v":445.5},{"$f":"IF(INTRO!$E$43=\"Non endémique\", 0, IF(COUNTRY_INFO!$K76>0, IF(COUNTRY_INFO!$K76=4, 0, IF(COUNTRY_INFO!$K76=1, 0, IF(COUNTRY_INFO!$K76=2, COUNTRY_INFO!$G76*0.2, COUNTRY_INFO!$G76))), 0))","v":336.6},782.1,{"$f":"IF(INTRO!$E$43=\"Non endémique\", \"Non requis\", COUNTRY_INFO!T76)","v":0},null,{"$f":"IF($D76=0,0,IF(AND($G76>0,$H76<>\"Oui\"),D76,IF(AND($G76>0,$H76=\"Oui\"),COUNTRY_INFO!$F76,0)))","v":0},null,0,0,0,0,0,null,0,0]
[{"$f":"IF(INTRO!$E$43=\"Non endémique\",\" \", IF(COUNTRY_INFO!A77=0,\" \",COUNTRY_INFO!A77))","v":"Angola"},{"$f":"IF(INTRO!$E$43=\"Non endémique\",\" \", IF(COUNTRY_INFO!B77=0,\" \",COUNTRY_INFO!B77))","v":"KUANDO KUBANGO"},{"$f":"IF(INTRO!$E$43=\"Non endémique\",\" \", IF(COUNTRY_INFO!C77=0,\" \",COUNTRY_INFO!C77))","v":"RIVUNGO"},{"$f":"IF(INTRO!$E$43=\"Non endémique\", 0, IF(COUNTRY_INFO!$K77>0, IF(COUNTRY_INFO!$K77=4, 0, IF(COUNTRY_INFO!$K77=1, COUNTRY_INFO!$F77*0.33, IF(COUNTRY_INFO!$K77=2, COUNTRY_INFO!$F77*0.5, COUNTRY_INFO!$F77))), 0))","v":5268},{"$f":"IF(INTRO!$E$43=\"Non endémique\", 0, IF(COUNTRY_INFO!$K77>0, IF(COUNTRY_INFO!$K77=4, 0, IF(COUNTRY_INFO!$K77=1, 0, IF(COUNTRY_INFO!$K77=2, COUNTRY_INFO!$G77*0.2, COUNTRY_INFO!$G77))), 0))","v":3980.2000000000003},9248.2000000000007,{"$f":"IF(INTRO!$E$43=\"Non endémique\", \"Non requis\", COUNTRY_INFO!T77)","v":0},null,{"$f":"IF($D77=0,0,IF(AND($G77>0,$H77<>\"Oui\"),D77,IF(AND($G77>0,$H77=\"Oui\"),COUNTRY_INFO!$F77,0)))","v":0},null,0,0,0,0,0,null,0,0]
[{"$f":"IF(INTRO!$E$43=\"Non endémique\",\" \", IF(COUNTRY_INFO!A78=0,\" \",COUNTRY_INFO!A78))","v":"Angola"},{"$f":"IF(INTRO!$E$43=\"Non endémique\",\" \", IF(COUNTRY_INFO!B78=0,\" \",COUNTRY_INFO!B78))","v":"KWANZA NORTE"},{"$f":"IF(INTRO!$E$43=\"Non endémique\",\" \", IF(COUNTRY_INFO!C78=0,\" \",COUNTRY_INFO!C78))","v":"AMBACA"},{"$f":"IF(INTRO!$E$43=\"Non endémique\", 0, IF(COUNTRY_INFO!$K78>0, IF(COUNTRY_INFO!$K78=4, 0, IF(COUNTRY_INFO!$K78=1, COUNTRY_INFO!$F78*0.33, IF(COUNTRY_INFO!$K78=2, COUNTRY_INFO!$F78*0.5, COUNTRY_INFO!$F78))), 0))","v":9844.5},{"$f":"IF(INTRO!$E$43=\"Non endémique\", 0, IF(COUNTRY_INFO!$K78>0, IF(COUNTRY_INFO!$K78=4, 0, IF(COUNTRY_INFO!$K78=1, 0, IF(COUNTRY_INFO!$K78=2, COUNTRY_INFO!$G78*0.2, COUNTRY_INFO!$G78))), 0))","v":7438},17282.5,{"$f":"IF(INTRO!$E$43=\"Non endémique\", \"Non requis\", COUNTRY_INFO!T78)","v":0},null,{"$f":"IF($D78=0,0,IF(AND($G78>0,$H78<>\"Oui\"),D78,IF(AND($G78>0,$H78=\"Oui\"),COUNTRY_INFO!$F78,0)))","v":0},null,0,0,0,0,0,null,0,0]
[{"$f":"IF(INTRO!$E$43=\"Non endémique\",\" \", IF(COUNTRY_INFO!A79=0,\" \",COUNTRY_INFO!A79))","v":"Angola"},{"$f":"IF(INTRO!$E$43=\"Non endémique\",\" \", IF(COUNTRY_INFO!B79=0,\" \",COUNTRY_INFO!B79))","v":"KWANZA NORTE"},{"$f":"IF(INTRO!$E$43=\"Non endémique\",\" \", IF(COUNTRY_INFO!C79=0,\" \",COUNTRY_INFO!C79))","v":"BANGA"},{"$f":"IF(INTRO!$E$43=\"Non endémique\", 0, IF(COUNTRY_INFO!$K79>0, IF(COUNTRY_INFO!$K79=4, 0, IF(COUNTRY_INFO!$K79=1, COUNTRY_INFO!$F79*0.33, IF(COUNTRY_INFO!$K79=2, COUNTRY_INFO!$F79*0.5, COUNTRY_INFO!$F79))), 0))","v":1650},{"$f":"IF(INTRO!$E$43=\"Non endémique\", 0, IF(COUNTRY_INFO!$K79>0, IF(COUNTRY_INFO!$K79=4, 0, IF(COUNTRY_INFO!$K79=1, 0, IF(COUNTRY_INFO!$K79=2, COUNTRY_INFO!$G79*0.2, COUNTRY_INFO!$G79))), 0))","v":1246.8000000000002},2896.8,{"$f":"IF(INTRO!$E$43=\"Non endémique\", \"Non requis\", COUNTRY_INFO!T79)","v":0},null,{"$f":"IF($D79=0,0,IF(AND($G79>0,$H79<>\"Oui\"),D79,IF(AND($G79>0,$H79=\"Oui\"),COUNTRY_INFO!$F79,0)))","v":0},null,0,0,0,0,0,null,0,0]
[{"$f":"IF(INTRO!$E$43=\"Non endémique\",\" \", IF(COUNTRY_INFO!A80=0,\" \",COUNTRY_INFO!A80))","v":"Angola"},{"$f":"IF(INTRO!$E$43=\"Non endémique\",\" \", IF(COUNTRY_INFO!B80=0,\" \",COUNTRY_INFO!B80))","v":"KWANZA NORTE"},{"$f":"IF(INTRO!$E$43=\"Non endémique\",\" \", IF(COUNTRY_INFO!C80=0,\" \",COUNTRY_INFO!C80))","v":"BOLONGONGO"},{"$f":"IF(INTRO!$E$43=\"Non endémique\", 0, IF(COUNTRY_INFO!$K80>0, IF(COUNTRY_INFO!$K80=4, 0, IF(COUNTRY_INFO!$K80=1, COUNTRY_INFO!$F80*0.33, IF(COUNTRY_INFO!$K80=2, COUNTRY_INFO!$F80*0.5, COUNTRY_INFO!$F80))), 0))","v":2075},{"$f":"IF(INTRO!$E$43=\"Non endémique\", 0, IF(COUNTRY_INFO!$K80>0, IF(COUNTRY_INFO!$K80=4, 0, IF(COUNTRY_INFO!$K80=1, 0, IF(COUNTRY_INFO!$K80=2, COUNTRY_INFO!$G80*0.2, COUNTRY_INFO!$G80))), 0))","v":1567.8000000000002},3642.8,{"$f":"IF(INTRO!$E$43=\"Non endémique\", \"Non requis\", COUNTRY_INFO!T80)","v":0},null,{"$f":"IF($D80=0,0,IF(AND($G80>0,$H80<>\"Oui\"),D80,IF(AND($G80>0,$H80=\"Oui\"),COUNTRY_INFO!$F80,0)))","v":0},null,0,0,0,0,0,null,0,0]
[{"$f":"IF(INTRO!$E$43=\"Non endémique\",\" \", IF(COUNTRY_INFO!A81=0,\" \",COUNTRY_INFO!A81))","v":"Angola"},{"$f":"IF(INTRO!$E$43=\"Non endémique\",\" \", IF(COUNTRY_INFO!B81=0,\" \",COUNTRY_INFO!B81))","v":"KWANZA NORTE"},{"$f":"IF(INTRO!$E$43=\"Non endémique\",\" \", IF(COUNTRY_INFO!C81=0,\" \",COUNTRY_INFO!C81))","v":"CAMBAMBE"},{"$f":"IF(INTRO!$E$43=\"Non endémique\", 0, IF(COUNTRY_INFO!$K81>0, IF(COUNTRY_INFO!$K81=4, 0, IF(COUNTRY_INFO!$K81=1, COUNTRY_INFO!$F81*0.33, IF(COUNTRY_INFO!$K81=2, COUNTRY_INFO!$F81*0.5, COUNTRY_INFO!$F81))), 0))","v":14466},{"$f":"IF(INTRO!$E$43=\"Non endémique\", 0, IF(COUNTRY_INFO!$K81>0, IF(COUNTRY_INFO!$K81=4, 0, IF(COUNTRY_INFO!$K81=1, 0, IF(COUNTRY_INFO!$K81=2, COUNTRY_INFO!$G81*0.2, COUNTRY_INFO!$G81))), 0))","v":10929.800000000001},25395.800000000003,{"$f":"IF(INTRO!$E$43=\"Non endémique\", \"Non requis\", COUNTRY_INFO!T81)","v":0},null,{"$f":"IF($D81=0,0,IF(AND($G81>0,$H81<>\"Oui\"),D81,IF(AND($G81>0,$H81=\"Oui\"),COUNTRY_INFO!$F81,0)))","v":0},null,0,0,0,0,0,null,0,0]
[{"$f":"IF(INTRO!$E$43=\"Non endémique\",\" \", IF(COUNTRY_INFO!A82=0,\" \",COUNTRY_INFO!A82))","v":"Angola"},{"$f":"IF(INTRO!$E$43=\"Non endémique\",\" \", IF(COUNTRY_INFO!B82=0,\" \",COUNTRY_INFO!B82))","v":"KWANZA NORTE"},{"$f":"IF(INTRO!$E$43=\"Non endémique\",\" \", IF(COUNTRY_INFO!C82=0,\" \",COUNTRY_INFO!C82))","v":"CAZENGO"},{"$f":"IF(INTRO!$E$43=\"Non endémique\", 0, IF(COUNTRY_INFO!$K82>0, IF(COUNTRY_INFO!$K82=4, 0, IF(COUNTRY_INFO!$K82=1, COUNTRY_INFO!$F82*0.33, IF(COUNTRY_INFO!$K82=2, COUNTRY_INFO!$F82*0.5, COUNTRY_INFO!$F82))), 0))","v":27372},{"$f":"IF(INTRO!$E$43=\"Non endémique\", 0, IF(COUNTRY_INFO!$K82>0, IF(COUNTRY_INFO!$K82=4, 0, IF(COUNTRY_INFO!$K82=1, 0, IF(COUNTRY_INFO!$K82=2, COUNTRY_INFO!$G82*0.2, COUNTRY_INFO!$G82))), 0))","v":20681},48053,{"$f":"IF(INTRO!$E$43=\"Non endémique\", \"Non requis\", COUNTRY_INFO!T82)","v":0},null,{"$f":"IF($D82=0,0,IF(AND($G82>0,$H82<>\"Oui\"),D82,IF(AND($G82>0,$H82=\"Oui\"),COUNTRY_INFO!$F82,0)))","v":0},null,0,0,0,0,0,null,0,0]
[{"$f":"IF(INTRO!$E$43=\"Non endémique\",\" \", IF(COUNTRY_INFO!A83=0,\" \",COUNTRY_INFO!A83))","v":"Angola"},{"$f":"IF(INTRO!$E$43=\"Non endémique\",\" \", IF(COUNTRY_INFO!B83=0,\" \",COUNTRY_INFO!B83))","v":"KWANZA NORTE"},{"$f":"IF(INTRO!$E$43=\"Non endémique\",\" \", IF(COUNTRY_INFO!C83=0,\" \",COUNTRY_INFO!C83))","v":"GOLUNGO ALTO"},{"$f":"IF(INTRO!$E$43=\"Non endémique\", 0, IF(COUNTRY_INFO!$K83>0, IF(COUNTRY_INFO!$K83=4, 0, IF(COUNTRY_INFO!$K83=1, COUNTRY_INFO!$F83*0.33, IF(COUNTRY_INFO!$K83=2, COUNTRY_INFO!$F83*0.5, COUNTRY_INFO!$F83))), 0))","v":5392.5},{"$f":"IF(INTRO!$E$43=\"Non endémique\", 0, IF(COUNTRY_INFO!$K83>0, IF(COUNTRY_INFO!$K83=4, 0, IF(COUNTRY_INFO!$K83=1, 0, IF(COUNTRY_INFO!$K83=2, COUNTRY_INFO!$G83*0.2, COUNTRY_INFO!$G83))), 0))","v":4074.2000000000003},9466.7000000000007,{"$f":"IF(INTRO!$E$43=\"Non endémique\", \"Non requis\", COUNTRY_INFO!T83)","v":0},null,{"$f":"IF($D83=0,0,IF(AND($G83>0,$H83<>\"Oui\"),D83,IF(AND($G83>0,$H83=\"Oui\"),COUNTRY_INFO!$F83,0)))","v":0},null,0,0,0,0,0,null,0,0]
[{"$f":"IF(INTRO!$E$43=\"Non endémique\",\" \", IF(COUNTRY_INFO!A84=0,\" \",COUNTRY_INFO!A84))","v":"Angola"},{"$f":"IF(INTRO!$E$43=\"Non endémique\",\" \", IF(COUNTRY_INFO!B84=0,\" \",COUNTRY_INFO!B84))","v":"KWANZA NORTE"},{"$f":"IF(INTRO!$E$43=\"Non endémique\",\" \", IF(COUNTRY_INFO!C84=0,\" \",COUNTRY_INFO!C84))","v":"GONGUEMBO"},{"$f":"IF(INTRO!$E$43=\"Non endémique\", 0, IF(COUNTRY_INFO!$K84>0, IF(COUNTRY_INFO!$K84=4, 0, IF(COUNTRY_INFO!$K84=1, COUNTRY_INFO!$F84*0.33, IF(COUNTRY_INFO!$K84=2, COUNTRY_INFO!$F84*0.5, COUNTRY_INFO!$F84))), 0))","v":1207.5},{"$f":"IF(INTRO!$E$43=\"Non endémique\", 0, IF(COUNTRY_INFO!$K84>0, IF(COUNTRY_INFO!$K84=4, 0, IF(COUNTRY_INFO!$K84=1, 0, IF(COUNTRY_INFO!$K84=2, COUNTRY_INFO!$G84*0.2, COUNTRY_INFO!$G84))), 0))","v":912.40000000000009},2119.9,{"$f":"IF(INTRO!$E$43=\"Non endémique\", \"Non requis\", COUNTRY_INFO!T84)","v":0},null,{"$f":"IF($D84=0,0,IF(AND($G84>0,$H84<>\"Oui\"),D84,IF(AND($G84>0,$H84=\"Oui\"),COUNTRY_INFO!$F84,0)))","v":0},null,0,0,0,0,0,null,0,0]
[{"$f":"IF(INTRO!$E$43=\"Non endémique\",\" \", IF(COUNTRY_INFO!A85=0,\" \",COUNTRY_INFO!A85))","v":"Angola"},{"$f":"IF(INTRO!$E$43=\"Non endémique\",\" \", IF(COUNTRY_INFO!B85=0,\" \",COUNTRY_INFO!B85))","v":"KWANZA NORTE"},{"$f":"IF(INTRO!$E$43=\"Non endémique\",\" \", IF(COUNTRY_INFO!C85=0,\" \",COUNTRY_INFO!C85))","v":"KICULUNGO"},{"$f":"IF(INTRO!$E$43=\"Non endémique\", 0, IF(COUNTRY_INFO!$K85>0, IF(COUNTRY_INFO!$K85=4, 0, IF(COUNTRY_INFO!$K85=1, COUNTRY_INFO!$F85*0.33, IF(COUNTRY_INFO!$K85=2, COUNTRY_INFO!$F85*0.5, COUNTRY_INFO!$F85))), 0))","v":1551},{"$f":"IF(INTRO!$E$43=\"Non endémique\", 0, IF(COUNTRY_INFO!$K85>0, IF(COUNTRY_INFO!$K85=4, 0, IF(COUNTRY_INFO!$K85=1, 0, IF(COUNTRY_INFO!$K85=2, COUNTRY_INFO!$G85*0.2, COUNTRY_INFO!$G85))), 0))","v":1171.8},2722.8,{"$f":"IF(INTRO!$E$43=\"Non endémique\", \"Non requis\", COUNTRY_INFO!T85)","v":0},null,{"$f":"IF($D85=0,0,IF(AND($G85>0,$H85<>\"Oui\"),D85,IF(AND($G85>0,$H85=\"Oui\"),COUNTRY_INFO!$F85,0)))","v":0},null,0,0,0,0,0,null,0,0]
[{"$f":"IF(INTRO!$E$43=\"Non endémique\",\" \", IF(COUNTRY_INFO!A86=0,\" \",COUNTRY_INFO!A86))","v":"Angola"},{"$f":"IF(INTRO!$E$43=\"Non endémique\",\" \", IF(COUNTRY_INFO!B86=0,\" \",COUNTRY_INFO!B86))","v":"KWANZA NORTE"},{"$f":"IF(INTRO!$E$43=\"Non endémique\",\" \", IF(COUNTRY_INFO!C86=0,\" \",COUNTRY_INFO!C86))","v":"LUCALA"},{"$f":"IF(INTRO!$E$43=\"Non endémique\", 0, IF(COUNTRY_INFO!$K86>0, IF(COUNTRY_INFO!$K86=4, 0, IF(COUNTRY_INFO!$K86=1, COUNTRY_INFO!$F86*0.33, IF(COUNTRY_INFO!$K86=2, COUNTRY_INFO!$F86*0.5, COUNTRY_INFO!$F86))), 0))","v":3613.5},{"$f":"IF(INTRO!$E$43=\"Non endémique\", 0, IF(COUNTRY_INFO!$K86>0, IF(COUNTRY_INFO!$K86=4, 0, IF(COUNTRY_INFO!$K86=1, 0, IF(COUNTRY_INFO!$K86=2, COUNTRY_INFO!$G86*0.2, COUNTRY_INFO!$G86))), 0))","v":2730.4},6343.9,{"$f":"IF(INTRO!$E$43=\"Non endémique\", \"Non requis\", COUNTRY_INFO!T86)","v":0},null,{"$f":"IF($D86=0,0,IF(AND($G86>0,$H86<>\"Oui\"),D86,IF(AND($G86>0,$H86=\"Oui\"),COUNTRY_INFO!$F86,0)))","v":0},null,0,0,0,0,0,null,0,0]
[{"$f":"IF(INTRO!$E$43=\"Non endémique\",\" \", IF(COUNTRY_INFO!A87=0,\" \",COUNTRY_INFO!A87))","v":"Angola"},{"$f":"IF(INTRO!$E$43=\"Non endémique\",\" \", IF(COUNTRY_INFO!B87=0,\" \",COUNTRY_INFO!B87))","v":"KWANZA NORTE"},{"$f":"IF(INTRO!$E$43=\"Non endémique\",\" \", IF(COUNTRY_INFO!C87=0,\" \",COUNTRY_INFO!C87))","v":"SAMBA CAJU"},{"$f":"IF(INTRO!$E$43=\"Non endémique\", 0, IF(COUNTRY_INFO!$K87>0, IF(COUNTRY_INFO!$K87=4, 0, IF(COUNTRY_INFO!$K87=1, COUNTRY_INFO!$F87*0.33, IF(COUNTRY_INFO!$K87=2, COUNTRY_INFO!$F87*0.5, COUNTRY_INFO!$F87))), 0))","v":3493},{"$f":"IF(INTRO!$E$43=\"Non endémique\", 0, IF(COUNTRY_INFO!$K87>0, IF(COUNTRY_INFO!$K87=4, 0, IF(COUNTRY_INFO!$K87=1, 0, IF(COUNTRY_INFO!$K87=2, COUNTRY_INFO!$G87*0.2, COUNTRY_INFO!$G87))), 0))","v":2639.4},6132.4,{"$f":"IF(INTRO!$E$43=\"Non endémique\", \"Non requis\", COUNTRY_INFO!T87)","v":0},null,{"$f":"IF($D87=0,0,IF(AND($G87>0,$H87<>\"Oui\"),D87,IF(AND($G87>0,$H87=\"Oui\"),COUNTRY_INFO!$F87,0)))","v":0},null,0,0,0,0,0,null,0,0]
[{"$f":"IF(INTRO!$E$43=\"Non endémique\",\" \", IF(COUNTRY_INFO!A88=0,\" \",COUNTRY_INFO!A88))","v":"Angola"},{"$f":"IF(INTRO!$E$43=\"Non endémique\",\" \", IF(COUNTRY_INFO!B88=0,\" \",COUNTRY_INFO!B88))","v":"KWANZA SUL"},{"$f":"IF(INTRO!$E$43=\"Non endémique\",\" \", IF(COUNTRY_INFO!C88=0,\" \",COUNTRY_INFO!C88))","v":"AMBOIM"},{"$f":"IF(INTRO!$E$43=\"Non endémique\", 0, IF(COUNTRY_INFO!$K88>0, IF(COUNTRY_INFO!$K88=4, 0, IF(COUNTRY_INFO!$K88=1, COUNTRY_INFO!$F88*0.33, IF(COUNTRY_INFO!$K88=2, COUNTRY_INFO!$F88*0.5, COUNTRY_INFO!$F88))), 0))","v":38640},{"$f":"IF(INTRO!$E$43=\"Non endémique\", 0, IF(COUNTRY_INFO!$K88>0, IF(COUNTRY_INFO!$K88=4, 0, IF(COUNTRY_INFO!$K88=1, 0, IF(COUNTRY_INFO!$K88=2, COUNTRY_INFO!$G88*0.2, COUNTRY_INFO!$G88))), 0))","v":29194.800000000003},67834.8,{"$f":"IF(INTRO!$E$43=\"Non endémique\", \"Non requis\", COUNTRY_INFO!T88)","v":0},null,{"$f":"IF($D88=0,0,IF(AND($G88>0,$H88<>\"Oui\"),D88,IF(AND($G88>0,$H88=\"Oui\"),COUNTRY_INFO!$F88,0)))","v":0},null,0,0,0,0,0,null,0,0]
[{"$f":"IF(INTRO!$E$43=\"Non endémique\",\" \", IF(COUNTRY_INFO!A89=0,\" \",COUNTRY_INFO!A89))","v":"Angola"},{"$f":"IF(INTRO!$E$43=\"Non endémique\",\" \", IF(COUNTRY_INFO!B89=0,\" \",COUNTRY_INFO!B89))","v":"KWANZA SUL"},{"$f":"IF(INTRO!$E$43=\"Non endémique\",\" \", IF(COUNTRY_INFO!C89=0,\" \",COUNTRY_INFO!C89))","v":"CASSONGUE"},{"$f":"IF(INTRO!$E$43=\"Non endémique\", 0, IF(COUNTRY_INFO!$K89>0, IF(COUNTRY_INFO!$K89=4, 0, IF(COUNTRY_INFO!$K89=1, COUNTRY_INFO!$F89*0.33, IF(COUNTRY_INFO!$K89=2, COUNTRY_INFO!$F89*0.5, COUNTRY_INFO!$F89))), 0))","v":24212},{"$f":"IF(INTRO!$E$43=\"Non endémique\", 0, IF(COUNTRY_INFO!$K89>0, IF(COUNTRY_INFO!$K89=4, 0, IF(COUNTRY_INFO!$K89=1, 0, IF(COUNTRY_INFO!$K89=2, COUNTRY_INFO!$G89*0.2, COUNTRY_INFO!$G89))), 0))","v":18293.600000000002},42505.600000000006,{"$f":"IF(INTRO!$E$43=\"Non endémique\", \"Non requis\", COUNTRY_INFO!T89)","v":0},null,{"$f":"IF($D89=0,0,IF(AND($G89>0,$H89<>\"Oui\"),D89,IF(AND($G89>0,$H89=\"Oui\"),COUNTRY_INFO!$F89,0)))","v":0},null,0,0,0,0,0,null,0,0]
[{"$f":"IF(INTRO!$E$43=\"Non endémique\",\" \", IF(COUNTRY_INFO!A90=0,\" \",COUNTRY_INFO!A90))","v":"Angola"},{"$f":"IF(INTRO!$E$43=\"Non endémique\",\" \", IF(COUNTRY_INFO!B90=0,\" \",COUNTRY_INFO!B90))","v":"KWANZA SUL"},{"$f":"IF(INTRO!$E$43=\"Non endémique\",\" \", IF(COUNTRY_INFO!C90=0,\" \",COUNTRY_INFO!C90))","v":"CELA (Waku Kungo)"},{"$f":"IF(INTRO!$E$43=\"Non endémique\", 0, IF(COUNTRY_INFO!$K90>0, IF(COUNTRY_INFO!$K90=4, 0, IF(COUNTRY_INFO!$K90=1, COUNTRY_INFO!$F90*0.33, IF(COUNTRY_INFO!$K90=2, COUNTRY_INFO!$F90*0.5, COUNTRY_INFO!$F90))), 0))","v":35942.5},{"$f":"IF(INTRO!$E$43=\"Non endémique\", 0, IF(COUNTRY_INFO!$K90>0, IF(COUNTRY_INFO!$K90=4, 0, IF(COUNTRY_INFO!$K90=1, 0, IF(COUNTRY_INFO!$K90=2, COUNTRY_INFO!$G90*0.2, COUNTRY_INFO!$G90))), 0))","v":27156.800000000003},63099.3,{"$f":"IF(INTRO!$E$43=\"Non endémique\", \"Non requis\", COUNTRY_INFO!T90)","v":0},null,{"$f":"IF($D90=0,0,IF(AND($G90>0,$H90<>\"Oui\"),D90,IF(AND($G90>0,$H90=\"Oui\"),COUNTRY_INFO!$F90,0)))","v":0},null,0,0,0,0,0,null,0,0]
[{"$f":"IF(INTRO!$E$43=\"Non endémique\",\" \", IF(COUNTRY_INFO!A91=0,\" \",COUNTRY_INFO!A91))","v":"Angola"},{"$f":"IF(INTRO!$E$43=\"Non endémique\",\" \", IF(COUNTRY_INFO!B91=0,\" \",COUNTRY_INFO!B91))","v":"KWANZA SUL"},{"$f":"IF(INTRO!$E$43=\"Non endémique\",\" \", IF(COUNTRY_INFO!C91=0,\" \",COUNTRY_INFO!C91))","v":"CONDA"},{"$f":"IF(INTRO!$E$43=\"Non endémique\", 0, IF(COUNTRY_INFO!$K91>0, IF(COUNTRY_INFO!$K91=4, 0, IF(COUNTRY_INFO!$K91=1, COUNTRY_INFO!$F91*0.33, IF(COUNTRY_INFO!$K91=2, COUNTRY_INFO!$F91*0.5, COUNTRY_INFO!$F91))), 0))","v":14261},{"$f":"IF(INTRO!$E$43=\"Non endémique\", 0, IF(COUNTRY_INFO!$K91>0, IF(COUNTRY_INFO!$K91=4, 0, IF(COUNTRY_INFO!$K91=1, 0, IF(COUNTRY_INFO!$K91=2, COUNTRY_INFO!$G91*0.2, COUNTRY_INFO!$G91))), 0))","v":10775},25036,{"$f":"IF(INTRO!$E$43=\"Non endémique\", \"Non requis\", COUNTRY_INFO!T91)","v":0},null,{"$f":"IF($D91=0,0,IF(AND($G91>0,$H91<>\"Oui\"),D91,IF(AND($G91>0,$H91=\"Oui\"),COUNTRY_INFO!$F91,0)))","v":0},null,0,0,0,0,0,null,0,0]
[{"$f":"IF(INTRO!$E$43=\"Non endémique\",\" \", IF(COUNTRY_INFO!A92=0,\" \",COUNTRY_INFO!A92))","v":"Angola"},{"$f":"IF(INTRO!$E$43=\"Non endémique\",\" \", IF(COUNTRY_INFO!B92=0,\" \",COUNTRY_INFO!B92))","v":"KWANZA SUL"},{"$f":"IF(INTRO!$E$43=\"Non endémique\",\" \", IF(COUNTRY_INFO!C92=0,\" \",COUNTRY_INFO!C92))","v":"EBO"},{"$f":"IF(INTRO!$E$43=\"Non endémique\", 0, IF(COUNTRY_INFO!$K92>0, IF(COUNTRY_INFO!$K92=4, 0, IF(COUNTRY_INFO!$K92=1, COUNTRY_INFO!$F92*0.33, IF(COUNTRY_INFO!$K92=2, COUNTRY_INFO!$F92*0.5, COUNTRY_INFO!$F92))), 0))","v":26318},{"$f":"IF(INTRO!$E$43=\"Non endémique\", 0, IF(COUNTRY_INFO!$K92>0, IF(COUNTRY_INFO!$K92=4, 0, IF(COUNTRY_INFO!$K92=1, 0, IF(COUNTRY_INFO!$K92=2, COUNTRY_INFO!$G92*0.2, COUNTRY_INFO!$G92))), 0))","v":19884.600000000002},46202.600000000006,{"$f":"IF(INTRO!$E$43=\"Non endémique\", \"Non requis\", COUNTRY_INFO!T92)","v":0},null,{"$f":"IF($D92=0,0,IF(AND($G92>0,$H92<>\"Oui\"),D92,IF(AND($G92>0,$H92=\"Oui\"),COUNTRY_INFO!$F92,0)))","v":0},null,0,0,0,0,0,null,0,0]
[{"$f":"IF(INTRO!$E$43=\"Non endémique\",\" \", IF(COUNTRY_INFO!A93=0,\" \",COUNTRY_INFO!A93))","v":"Angola"},{"$f":"IF(INTRO!$E$43=\"Non endémique\",\" \", IF(COUNTRY_INFO!B93=0,\" \",COUNTRY_INFO!B93))","v":"KWANZA SUL"},{"$f":"IF(INTRO!$E$43=\"Non endémique\",\" \", IF(COUNTRY_INFO!C93=0,\" \",COUNTRY_INFO!C93))","v":"KIBALA"},{"$f":"IF(INTRO!$E$43=\"Non endémique\", 0, IF(COUNTRY_INFO!$K93>0, IF(COUNTRY_INFO!$K93=4, 0, IF(COUNTRY_INFO!$K93=1, COUNTRY_INFO!$F93*0.33, IF(COUNTRY_INFO!$K93=2, COUNTRY_INFO!$F93*0.5, COUNTRY_INFO!$F93))), 0))","v":22640.5},{"$f":"IF(INTRO!$E$43=\"Non endémique\", 0, IF(COUNTRY_INFO!$K93>0, IF(COUNTRY_INFO!$K93=4, 0, IF(COUNTRY_INFO!$K93=1, 0, IF(COUNTRY_INFO!$K93=2, COUNTRY_INFO!$G93*0.2, COUNTRY_INFO!$G93))), 0))","v":17106.400000000001},39746.9,{"$f":"IF(INTRO!$E$43=\"Non endémique\", \"Non requis\", COUNTRY_INFO!T93)","v":0},null,{"$f":"IF($D93=0,0,IF(AND($G93>0,$H93<>\"Oui\"),D93,IF(AND($G93>0,$H93=\"Oui\"),COUNTRY_INFO!$F93,0)))","v":0},null,0,0,0,0,0,null,0,0]
[{"$f":"IF(INTRO!$E$43=\"Non endémique\",\" \", IF(COUNTRY_INFO!A94=0,\" \",COUNTRY_INFO!A94))","v":"Angola"},{"$f":"IF(INTRO!$E$43=\"Non endémique\",\" \", IF(COUNTRY_INFO!B94=0,\" \",COUNTRY_INFO!B94))","v":"KWANZA SUL"},{"$f":"IF(INTRO!$E$43=\"Non endémique\",\" \", IF(COUNTRY_INFO!C94=0,\" \",COUNTRY_INFO!C94))","v":"KILENDA"},{"$f":"IF(INTRO!$E$43=\"Non endémique\", 0, IF(COUNTRY_INFO!$K94>0, IF(COUNTRY_INFO!$K94=4, 0, IF(COUNTRY_INFO!$K94=1, COUNTRY_INFO!$F94*0.33, IF(COUNTRY_INFO!$K94=2, COUNTRY_INFO!$F94*0.5, COUNTRY_INFO!$F94))), 0))","v":15563},{"$f":"IF(INTRO!$E$43=\"Non endémique\", 0, IF(COUNTRY_INFO!$K94>0, IF(COUNTRY_INFO!$K94=4, 0, IF(COUNTRY_INFO!$K94=1, 0, IF(COUNTRY_INFO!$K94=2, COUNTRY_INFO!$G94*0.2, COUNTRY_INFO!$G94))), 0))","v":11758.6},27321.599999999999,{"$f":"IF(INTRO!$E$43=\"Non endémique\", \"Non requis\", COUNTRY_INFO!T94)","v":0},null,{"$f":"IF($D94=0,0,IF(AND($G94>0,$H94<>\"Oui\"),D94,IF(AND($G94>0,$H94=\"Oui\"),COUNTRY_INFO!$F94,0)))","v":0},null,0,0,0,0,0,null,0,0]
[{"$f":"IF(INTRO!$E$43=\"Non endémique\",\" \", IF(COUNTRY_INFO!A95=0,\" \",COUNTRY_INFO!A95))","v":"Angola"},{"$f":"IF(INTRO!$E$43=\"Non endémique\",\" \", IF(COUNTRY_INFO!B95=0,\" \",COUNTRY_INFO!B95))","v":"KWANZA SUL"},{"$f":"IF(INTRO!$E$43=\"Non endémique\",\" \", IF(COUNTRY_INFO!C95=0,\" \",COUNTRY_INFO!C95))","v":"LIBOLO"},{"$f":"IF(INTRO!$E$43=\"Non endémique\", 0, IF(COUNTRY_INFO!$K95>0, IF(COUNTRY_INFO!$K95=4, 0, IF(COUNTRY_INFO!$K95=1, COUNTRY_INFO!$F95*0.33, IF(COUNTRY_INFO!$K95=2, COUNTRY_INFO!$F95*0.5, COUNTRY_INFO!$F95))), 0))","v":14673.5},{"$f":"IF(INTRO!$E$43=\"Non endémique\", 0, IF(COUNTRY_INFO!$K95>0, IF(COUNTRY_INFO!$K95=4, 0, IF(COUNTRY_INFO!$K95=1, 0, IF(COUNTRY_INFO!$K95=2, COUNTRY_INFO!$G95*0.2, COUNTRY_INFO!$G95))), 0))","v":11086.800000000001},25760.300000000003,{"$f":"IF(INTRO!$E$43=\"Non endémique\", \"Non requis\", COUNTRY_INFO!T95)","v":0},null,{"$f":"IF($D95=0,0,IF(AND($G95>0,$H95<>\"Oui\"),D95,IF(AND($G95>0,$H95=\"Oui\"),COUNTRY_INFO!$F95,0)))","v":0},null,0,0,0,0,0,null,0,0]
[{"$f":"IF(INTRO!$E$43=\"Non endémique\",\" \", IF(COUNTRY_INFO!A96=0,\" \",COUNTRY_INFO!A96))","v":"Angola"},{"$f":"IF(INTRO!$E$43=\"Non endémique\",\" \", IF(COUNTRY_INFO!B96=0,\" \",COUNTRY_INFO!B96))","v":"KWANZA SUL"},{"$f":"IF(INTRO!$E$43=\"Non endémique\",\" \", IF(COUNTRY_INFO!C96=0,\" \",COUNTRY_INFO!C96))","v":"MUSSENDE"},{"$f":"IF(INTRO!$E$43=\"Non endémique\", 0, IF(COUNTRY_INFO!$K96>0, IF(COUNTRY_INFO!$K96=4, 0, IF(COUNTRY_INFO!$K96=1, COUNTRY_INFO!$F96*0.33, IF(COUNTRY_INFO!$K96=2, COUNTRY_INFO!$F96*0.5, COUNTRY_INFO!$F96))), 0))","v":13155.5},{"$f":"IF(INTRO!$E$43=\"Non endémique\", 0, IF(COUNTRY_INFO!$K96>0, IF(COUNTRY_INFO!$K96=4, 0, IF(COUNTRY_INFO!$K96=1, 0, IF(COUNTRY_INFO!$K96=2, COUNTRY_INFO!$G96*0.2, COUNTRY_INFO!$G96))), 0))","v":9939.8000000000011},23095.300000000003,{"$f":"IF(INTRO!$E$43=\"Non endémique\", \"Non requis\", COUNTRY_INFO!T96)","v":0},null,{"$f":"IF($D96=0,0,IF(AND($G96>0,$H96<>\"Oui\"),D96,IF(AND($G96>0,$H96=\"Oui\"),COUNTRY_INFO!$F96,0)))","v":0},null,0,0,0,0,0,null,0,0]
[{"$f":"IF(INTRO!$E$43=\"Non endémique\",\" \", IF(COUNTRY_INFO!A97=0,\" \",COUNTRY_INFO!A97))","v":"Angola"},{"$f":"IF(INTRO!$E$43=\"Non endémique\",\" \", IF(COUNTRY_INFO!B97=0,\" \",COUNTRY_INFO!B97))","v":"KWANZA SUL"},{"$f":"IF(INTRO!$E$43=\"Non endémique\",\" \", IF(COUNTRY_INFO!C97=0,\" \",COUNTRY_INFO!C97))","v":"PORTO AMBOIM"},{"$f":"IF(INTRO!$E$43=\"Non endémique\", 0, IF(COUNTRY_INFO!$K97>0, IF(COUNTRY_INFO!$K97=4, 0, IF(COUNTRY_INFO!$K97=1, COUNTRY_INFO!$F97*0.33, IF(COUNTRY_INFO!$K97=2, COUNTRY_INFO!$F97*0.5, COUNTRY_INFO!$F97))), 0))","v":20076.5},{"$f":"IF(INTRO!$E$43=\"Non endémique\", 0, IF(COUNTRY_INFO!$K97>0, IF(COUNTRY_INFO!$K97=4, 0, IF(COUNTRY_INFO!$K97=1, 0, IF(COUNTRY_INFO!$K97=2, COUNTRY_INFO!$G97*0.2, COUNTRY_INFO!$G97))), 0))","v":15169},35245.5,{"$f":"IF(INTRO!$E$43=\"Non endémique\", \"Non requis\", COUNTRY_INFO!T97)","v":0},null,{"$f":"IF($D97=0,0,IF(AND($G97>0,$H97<>\"Oui\"),D97,IF(AND($G97>0,$H97=\"Oui\"),COUNTRY_INFO!$F97,0)))","v":0},null,0,0,0,0,0,null,0,0]
[{"$f":"IF(INTRO!$E$43=\"Non endémique\",\" \", IF(COUNTRY_INFO!A98=0,\" \",COUNTRY_INFO!A98))","v":"Angola"},{"$f":"IF(INTRO!$E$43=\"Non endémique\",\" \", IF(COUNTRY_INFO!B98=0,\" \",COUNTRY_INFO!B98))","v":"KWANZA SUL"},{"$f":"IF(INTRO!$E$43=\"Non endémique\",\" \", IF(COUNTRY_INFO!C98=0,\" \",COUNTRY_INFO!C98))","v":"SELES"},{"$f":"IF(INTRO!$E$43=\"Non endémique\", 0, IF(COUNTRY_INFO!$K98>0, IF(COUNTRY_INFO!$K98=4, 0, IF(COUNTRY_INFO!$K98=1, COUNTRY_INFO!$F98*0.33, IF(COUNTRY_INFO!$K98=2, COUNTRY_INFO!$F98*0.5, COUNTRY_INFO!$F98))), 0))","v":29824},{"$f":"IF(INTRO!$E$43=\"Non endémique\", 0, IF(COUNTRY_INFO!$K98>0, IF(COUNTRY_INFO!$K98=4, 0, IF(COUNTRY_INFO!$K98=1, 0, IF(COUNTRY_INFO!$K98=2, COUNTRY_INFO!$G98*0.2, COUNTRY_INFO!$G98))), 0))","v":22533.600000000002},52357.600000000006,{"$f":"IF(INTRO!$E$43=\"Non endémique\", \"Non requis\", COUNTRY_INFO!T98)","v":0},null,{"$f":"IF($D98=0,0,IF(AND($G98>0,$H98<>\"Oui\"),D98,IF(AND($G98>0,$H98=\"Oui\"),COUNTRY_INFO!$F98,0)))","v":0},null,0,0,0,0,0,null,0,0]
[{"$f":"IF(INTRO!$E$43=\"Non endémique\",\" \", IF(COUNTRY_INFO!A99=0,\" \",COUNTRY_INFO!A99))","v":"Angola"},{"$f":"IF(INTRO!$E$43=\"Non endémique\",\" \", IF(COUNTRY_INFO!B99=0,\" \",COUNTRY_INFO!B99))","v":"KWANZA SUL"},{"$f":"IF(INTRO!$E$43=\"Non endémique\",\" \", IF(COUNTRY_INFO!C99=0,\" \",COUNTRY_INFO!C99))","v":"SUMBE"},{"$f":"IF(INTRO!$E$43=\"Non endémique\", 0, IF(COUNTRY_INFO!$K99>0, IF(COUNTRY_INFO!$K99=4, 0, IF(COUNTRY_INFO!$K99=1, COUNTRY_INFO!$F99*0.33, IF(COUNTRY_INFO!$K99=2, COUNTRY_INFO!$F99*0.5, COUNTRY_INFO!$F99))), 0))","v":44620.5},{"$f":"IF(INTRO!$E$43=\"Non endémique\", 0, IF(COUNTRY_INFO!$K99>0, IF(COUNTRY_INFO!$K99=4, 0, IF(COUNTRY_INFO!$K99=1, 0, IF(COUNTRY_INFO!$K99=2, COUNTRY_INFO!$G99*0.2, COUNTRY_INFO!$G99))), 0))","v":33713.200000000004},78333.700000000012,{"$f":"IF(INTRO!$E$43=\"Non endémique\", \"Non requis\", COUNTRY_INFO!T99)","v":0},null,{"$f":"IF($D99=0,0,IF(AND($G99>0,$H99<>\"Oui\"),D99,IF(AND($G99>0,$H99=\"Oui\"),COUNTRY_INFO!$F99,0)))","v":0},null,0,0,0,0,0,null,0,0]
[{"$f":"IF(INTRO!$E$43=\"Non endémique\",\" \", IF(COUNTRY_INFO!A100=0,\" \",COUNTRY_INFO!A100))","v":"Angola"},{"$f":"IF(INTRO!$E$43=\"Non endémique\",\" \", IF(COUNTRY_INFO!B100=0,\" \",COUNTRY_INFO!B100))","v":"LUANDA"},{"$f":"IF(INTRO!$E$43=\"Non endémique\",\" \", IF(COUNTRY_INFO!C100=0,\" \",COUNTRY_INFO!C100))","v":"BELAS"},{"$f":"IF(INTRO!$E$43=\"Non endémique\", 0, IF(COUNTRY_INFO!$K100>0, IF(COUNTRY_INFO!$K100=4, 0, IF(COUNTRY_INFO!$K100=1, COUNTRY_INFO!$F100*0.33, IF(COUNTRY_INFO!$K100=2, COUNTRY_INFO!$F100*0.5, COUNTRY_INFO!$F100))), 0))","v":44531},{"$f":"IF(INTRO!$E$43=\"Non endémique\", 0, IF(COUNTRY_INFO!$K100>0, IF(COUNTRY_INFO!$K100=4, 0, IF(COUNTRY_INFO!$K100=1, 0, IF(COUNTRY_INFO!$K100=2, COUNTRY_INFO!$G100*0.2, COUNTRY_INFO!$G100))), 0))","v":33645.800000000003},78176.800000000003,{"$f":"IF(INTRO!$E$43=\"Non endémique\", \"Non requis\", COUNTRY_INFO!T100)","v":0},null,{"$f":"IF($D100=0,0,IF(AND($G100>0,$H100<>\"Oui\"),D100,IF(AND($G100>0,$H100=\"Oui\"),COUNTRY_INFO!$F100,0)))","v":0},null,0,0,0,0,0,null,0,0]
[{"$f":"IF(INTRO!$E$43=\"Non endémique\",\" \", IF(COUNTRY_INFO!A101=0,\" \",COUNTRY_INFO!A101))","v":"Angola"},{"$f":"IF(INTRO!$E$43=\"Non endémique\",\" \", IF(COUNTRY_INFO!B101=0,\" \",COUNTRY_INFO!B101))","v":"LUANDA"},{"$f":"IF(INTRO!$E$43=\"Non endémique\",\" \", IF(COUNTRY_INFO!C101=0,\" \",COUNTRY_INFO!C101))","v":"CACUACO"},{"$f":"IF(INTRO!$E$43=\"Non endémique\", 0, IF(COUNTRY_INFO!$K101>0, IF(COUNTRY_INFO!$K101=4, 0, IF(COUNTRY_INFO!$K101=1, COUNTRY_INFO!$F101*0.33, IF(COUNTRY_INFO!$K101=2, COUNTRY_INFO!$F101*0.5, COUNTRY_INFO!$F101))), 0))","v":170557},{"$f":"IF(INTRO!$E$43=\"Non endémique\", 0, IF(COUNTRY_INFO!$K101>0, IF(COUNTRY_INFO!$K101=4, 0, IF(COUNTRY_INFO!$K101=1, 0, IF(COUNTRY_INFO!$K101=2, COUNTRY_INFO!$G101*0.2, COUNTRY_INFO!$G101))), 0))","v":128865.40000000001},299422.40000000002,{"$f":"IF(INTRO!$E$43=\"Non endémique\", \"Non requis\", COUNTRY_INFO!T101)","v":0},null,{"$f":"IF($D101=0,0,IF(AND($G101>0,$H101<>\"Oui\"),D101,IF(AND($G101>0,$H101=\"Oui\"),COUNTRY_INFO!$F101,0)))","v":0},null,0,0,0,0,0,null,0,0]
[{"$f":"IF(INTRO!$E$43=\"Non endémique\",\" \", IF(COUNTRY_INFO!A102=0,\" \",COUNTRY_INFO!A102))","v":"Angola"},{"$f":"IF(INTRO!$E$43=\"Non endémique\",\" \", IF(COUNTRY_INFO!B102=0,\" \",COUNTRY_INFO!B102))","v":"LUANDA"},{"$f":"IF(INTRO!$E$43=\"Non endémique\",\" \", IF(COUNTRY_INFO!C102=0,\" \",COUNTRY_INFO!C102))","v":"CAZENGA"},{"$f":"IF(INTRO!$E$43=\"Non endémique\", 0, IF(COUNTRY_INFO!$K102>0, IF(COUNTRY_INFO!$K102=4, 0, IF(COUNTRY_INFO!$K102=1, COUNTRY_INFO!$F102*0.33, IF(COUNTRY_INFO!$K102=2, COUNTRY_INFO!$F102*0.5, COUNTRY_INFO!$F102))), 0))","v":142228.5},{"$f":"IF(INTRO!$E$43=\"Non endémique\", 0, IF(COUNTRY_INFO!$K102>0, IF(COUNTRY_INFO!$K102=4, 0, IF(COUNTRY_INFO!$K102=1, 0, IF(COUNTRY_INFO!$K102=2, COUNTRY_INFO!$G102*0.2, COUNTRY_INFO!$G102))), 0))","v":107461.40000000001},249689.90000000002,{"$f":"IF(INTRO!$E$43=\"Non endémique\", \"Non requis\", COUNTRY_INFO!T102)","v":0},null,{"$f":"IF($D102=0,0,IF(AND($G102>0,$H102<>\"Oui\"),D102,IF(AND($G102>0,$H102=\"Oui\"),COUNTRY_INFO!$F102,0)))","v":0},null,0,0,0,0,0,null,0,0]
[{"$f":"IF(INTRO!$E$43=\"Non endémique\",\" \", IF(COUNTRY_INFO!A103=0,\" \",COUNTRY_INFO!A103))","v":"Angola"},{"$f":"IF(INTRO!$E$43=\"Non endémique\",\" \", IF(COUNTRY_INFO!B103=0,\" \",COUNTRY_INFO!B103))","v":"LUANDA"},{"$f":"IF(INTRO!$E$43=\"Non endémique\",\" \", IF(COUNTRY_INFO!C103=0,\" \",COUNTRY_INFO!C103))","v":"ICOLO E BENGO"},{"$f":"IF(INTRO!$E$43=\"Non endémique\", 0, IF(COUNTRY_INFO!$K103>0, IF(COUNTRY_INFO!$K103=4, 0, IF(COUNTRY_INFO!$K103=1, COUNTRY_INFO!$F103*0.33, IF(COUNTRY_INFO!$K103=2, COUNTRY_INFO!$F103*0.5, COUNTRY_INFO!$F103))), 0))","v":12932.5},{"$f":"IF(INTRO!$E$43=\"Non endémique\", 0, IF(COUNTRY_INFO!$K103>0, IF(COUNTRY_INFO!$K103=4, 0, IF(COUNTRY_INFO!$K103=1, 0, IF(COUNTRY_INFO!$K103=2, COUNTRY_INFO!$G103*0.2, COUNTRY_INFO!$G103))), 0))","v":9771.2000000000007},22703.7,{"$f":"IF(INTRO!$E$43=\"Non endémique\", \"Non requis\", COUNTRY_INFO!T103)","v":0},null,{"$f":"IF($D103=0,0,IF(AND($G103>0,$H103<>\"Oui\"),D103,IF(AND($G103>0,$H103=\"Oui\"),COUNTRY_INFO!$F103,0)))","v":0},null,0,0,0,0,0,null,0,0]
[{"$f":"IF(INTRO!$E$43=\"Non endémique\",\" \", IF(COUNTRY_INFO!A104=0,\" \",COUNTRY_INFO!A104))","v":"Angola"},{"$f":"IF(INTRO!$E$43=\"Non endémique\",\" \", IF(COUNTRY_INFO!B104=0,\" \",COUNTRY_INFO!B104))","v":"LUANDA"},{"$f":"IF(INTRO!$E$43=\"Non endémique\",\" \", IF(COUNTRY_INFO!C104=0,\" \",COUNTRY_INFO!C104))","v":"KILAMBA KIAXI"},{"$f":"IF(INTRO!$E$43=\"Non endémique\", 0, IF(COUNTRY_INFO!$K104>0, IF(COUNTRY_INFO!$K104=4, 0, IF(COUNTRY_INFO!$K104=1, COUNTRY_INFO!$F104*0.33, IF(COUNTRY_INFO!$K104=2, COUNTRY_INFO!$F104*0.5, COUNTRY_INFO!$F104))), 0))","v":134102},{"$f":"IF(INTRO!$E$43=\"Non endémique\", 0, IF(COUNTRY_INFO!$K104>0, IF(COUNTRY_INFO!$K104=4, 0, IF(COUNTRY_INFO!$K104=1, 0, IF(COUNTRY_INFO!$K104=2, COUNTRY_INFO!$G104*0.2, COUNTRY_INFO!$G104))), 0))","v":101321.40000000001},235423.40000000002,{"$f":"IF(INTRO!$E$43=\"Non endémique\", \"Non requis\", COUNTRY_INFO!T104)","v":0},null,{"$f":"IF($D104=0,0,IF(AND($G104>0,$H104<>\"Oui\"),D104,IF(AND($G104>0,$H104=\"Oui\"),COUNTRY_INFO!$F104,0)))","v":0},null,0,0,0,0,0,1308000,0,0]
[{"$f":"IF(INTRO!$E$43=\"Non endémique\",\" \", IF(COUNTRY_INFO!A105=0,\" \",COUNTRY_INFO!A105))","v":"Angola"},{"$f":"IF(INTRO!$E$43=\"Non endémique\",\" \", IF(COUNTRY_INFO!B105=0,\" \",COUNTRY_INFO!B105))","v":"LUANDA"},{"$f":"IF(INTRO!$E$43=\"Non endémique\",\" \", IF(COUNTRY_INFO!C105=0,\" \",COUNTRY_INFO!C105))","v":"LUANDA"},{"$f":"IF(INTRO!$E$43=\"Non endémique\", 0, IF(COUNTRY_INFO!$K105>0, IF(COUNTRY_INFO!$K105=4, 0, IF(COUNTRY_INFO!$K105=1, COUNTRY_INFO!$F105*0.33, IF(COUNTRY_INFO!$K105=2, COUNTRY_INFO!$F105*0.5, COUNTRY_INFO!$F105))), 0))","v":215691},{"$f":"IF(INTRO!$E$43=\"Non endémique\", 0, IF(COUNTRY_INFO!$K105>0, IF(COUNTRY_INFO!$K105=4, 0, IF(COUNTRY_INFO!$K105=1, 0, IF(COUNTRY_INFO!$K105=2, COUNTRY_INFO!$G105*0.2, COUNTRY_INFO!$G105))), 0))","v":162966.6},{"$f":"SUM(D105:E105)","v":378657.6},{"$f":"IF(INTRO!$E$43=\"Non endémique\", \"Non requis\", COUNTRY_INFO!T105)","v":0},null,{"$f":"IF($D105=0,0,IF(AND($G105>0,$H105<>\"Oui\"),D105,IF(AND($G105>0,$H105=\"Oui\"),COUNTRY_INFO!$F105,0)))","v":0},null,{"$f":"IF($G105>0,E105, 0)","v":0},{"$f":"IF($J105=0,SUM(I105,K105),SUM(J105,K105))","v":0},{"$f":"IF($J105=0,$I105*2.5,$J105*2.5)","v":0},{"$f":"$K105*3","v":0},{"$f":"M105","v":0},null,{"$f":"IF($O105>$P105,O105-P105,0)","v":0},{"$f":"ROUNDUP($O105/1000,0)","v":0}]
[{"$f":"IF(INTRO!$E$43=\"Non endémique\",\" \", IF(COUNTRY_INFO!A106=0,\" \",COUNTRY_INFO!A106))","v":"Angola"},{"$f":"IF(INTRO!$E$43=\"Non endémique\",\" \", IF(COUNTRY_INFO!B106=0,\" \",COUNTRY_INFO!B106))","v":"LUANDA"},{"$f":"IF(INTRO!$E$43=\"Non endémique\",\" \", IF(COUNTRY_INFO!C106=0,\" \",COUNTRY_INFO!C106))","v":"QUISSAMA"},{"$f":"IF(INTRO!$E$43=\"Non endémique\", 0, IF(COUNTRY_INFO!$K106>0, IF(COUNTRY_INFO!$K106=4, 0, IF(COUNTRY_INFO!$K106=1, COUNTRY_INFO!$F106*0.33, IF(COUNTRY_INFO!$K106=2, COUNTRY_INFO!$F106*0.5, COUNTRY_INFO!$F106))), 0))","v":4231},{"$f":"IF(INTRO!$E$43=\"Non endémique\", 0, IF(COUNTRY_INFO!$K106>0, IF(COUNTRY_INFO!$K106=4, 0, IF(COUNTRY_INFO!$K106=1, 0, IF(COUNTRY_INFO!$K106=2, COUNTRY_INFO!$G106*0.2, COUNTRY_INFO!$G106))), 0))","v":3196.6000000000004},7427.6,{"$f":"IF(INTRO!$E$43=\"Non endémique\", \"Non requis\", COUNTRY_INFO!T106)","v":0},null,{"$f":"IF($D106=0,0,IF(AND($G106>0,$H106<>\"Oui\"),D106,IF(AND($G106>0,$H106=\"Oui\"),COUNTRY_INFO!$F106,0)))","v":0},null,0,0,0,0,0,null,0,0]
[{"$f":"IF(INTRO!$E$43=\"Non endémique\",\" \", IF(COUNTRY_INFO!A107=0,\" \",COUNTRY_INFO!A107))","v":"Angola"},{"$f":"IF(INTRO!$E$43=\"Non endémique\",\" \", IF(COUNTRY_INFO!B107=0,\" \",COUNTRY_INFO!B107))","v":"LUANDA"},{"$f":"IF(INTRO!$E$43=\"Non endémique\",\" \", IF(COUNTRY_INFO!C107=0,\" \",COUNTRY_INFO!C107))","v":"TALATONA"},{"$f":"IF(INTRO!$E$43=\"Non endémique\", 0, IF(COUNTRY_INFO!$K107>0, IF(COUNTRY_INFO!$K107=4, 0, IF(COUNTRY_INFO!$K107=1, COUNTRY_INFO!$F107*0.33, IF(COUNTRY_INFO!$K107=2, COUNTRY_INFO!$F107*0.5, COUNTRY_INFO!$F107))), 0))","v":126817},{"$f":"IF(INTRO!$E$43=\"Non endémique\", 0, IF(COUNTRY_INFO!$K107>0, IF(COUNTRY_INFO!$K107=4, 0, IF(COUNTRY_INFO!$K107=1, 0, IF(COUNTRY_INFO!$K107=2, COUNTRY_INFO!$G107*0.2, COUNTRY_INFO!$G107))), 0))","v":95817.200000000012},222634.2,{"$f":"IF(INTRO!$E$43=\"Non endémique\", \"Non requis\", COUNTRY_INFO!T107)","v":0},null,{"$f":"IF($D107=0,0,IF(AND($G107>0,$H107<>\"Oui\"),D107,IF(AND($G107>0,$H107=\"Oui\"),COUNTRY_INFO!$F107,0)))","v":0},null,0,0,0,0,0,null,0,0]
[{"$f":"IF(INTRO!$E$43=\"Non endémique\",\" \", IF(COUNTRY_INFO!A108=0,\" \",COUNTRY_INFO!A108))","v":"Angola"},{"$f":"IF(INTRO!$E$43=\"Non endémique\",\" \", IF(COUNTRY_INFO!B108=0,\" \",COUNTRY_INFO!B108))","v":"LUANDA"},{"$f":"IF(INTRO!$E$43=\"Non endémique\",\" \", IF(COUNTRY_INFO!C108=0,\" \",COUNTRY_INFO!C108))","v":"VIANA"},{"$f":"IF(INTRO!$E$43=\"Non endémique\", 0, IF(COUNTRY_INFO!$K108>0, IF(COUNTRY_INFO!$K108=4, 0, IF(COUNTRY_INFO!$K108=1, COUNTRY_INFO!$F108*0.33, IF(COUNTRY_INFO!$K108=2, COUNTRY_INFO!$F108*0.5, COUNTRY_INFO!$F108))), 0))","v":255847},{"$f":"IF(INTRO!$E$43=\"Non endémique\", 0, IF(COUNTRY_INFO!$K108>0, IF(COUNTRY_INFO!$K108=4, 0, IF(COUNTRY_INFO!$K108=1, 0, IF(COUNTRY_INFO!$K108=2, COUNTRY_INFO!$G108*0.2, COUNTRY_INFO!$G108))), 0))","v":193306.6},449153.6,{"$f":"IF(INTRO!$E$43=\"Non endémique\", \"Non requis\", COUNTRY_INFO!T108)","v":0},null,{"$f":"IF($D108=0,0,IF(AND($G108>0,$H108<>\"Oui\"),D108,IF(AND($G108>0,$H108=\"Oui\"),COUNTRY_INFO!$F108,0)))","v":0},null,0,0,0,0,0,null,0,0]
[{"$f":"IF(INTRO!$E$43=\"Non endémique\",\" \", IF(COUNTRY_INFO!A109=0,\" \",COUNTRY_INFO!A109))","v":"Angola"},{"$f":"IF(INTRO!$E$43=\"Non endémique\",\" \", IF(COUNTRY_INFO!B109=0,\" \",COUNTRY_INFO!B109))","v":"LUNDA NORTE"},{"$f":"IF(INTRO!$E$43=\"Non endémique\",\" \", IF(COUNTRY_INFO!C109=0,\" \",COUNTRY_INFO!C109))","v":"CAMBULO"},{"$f":"IF(INTRO!$E$43=\"Non endémique\", 0, IF(COUNTRY_INFO!$K109>0, IF(COUNTRY_INFO!$K109=4, 0, IF(COUNTRY_INFO!$K109=1, COUNTRY_INFO!$F109*0.33, IF(COUNTRY_INFO!$K109=2, COUNTRY_INFO!$F109*0.5, COUNTRY_INFO!$F109))), 0))","v":19145.5},{"$f":"IF(INTRO!$E$43=\"Non endémique\", 0, IF(COUNTRY_INFO!$K109>0, IF(COUNTRY_INFO!$K109=4, 0, IF(COUNTRY_INFO!$K109=1, 0, IF(COUNTRY_INFO!$K109=2, COUNTRY_INFO!$G109*0.2, COUNTRY_INFO!$G109))), 0))","v":14465.6},33611.1,{"$f":"IF(INTRO!$E$43=\"Non endémique\", \"Non requis\", COUNTRY_INFO!T109)","v":0},null,{"$f":"IF($D109=0,0,IF(AND($G109>0,$H109<>\"Oui\"),D109,IF(AND($G109>0,$H109=\"Oui\"),COUNTRY_INFO!$F109,0)))","v":0},null,0,0,0,0,0,null,0,0]
[{"$f":"IF(INTRO!$E$43=\"Non endémique\",\" \", IF(COUNTRY_INFO!A110=0,\" \",COUNTRY_INFO!A110))","v":"Angola"},{"$f":"IF(INTRO!$E$43=\"Non endémique\",\" \", IF(COUNTRY_INFO!B110=0,\" \",COUNTRY_INFO!B110))","v":"LUNDA NORTE"},{"$f":"IF(INTRO!$E$43=\"Non endémique\",\" \", IF(COUNTRY_INFO!C110=0,\" \",COUNTRY_INFO!C110))","v":"CAPENDA CAMULEMBA"},{"$f":"IF(INTRO!$E$43=\"Non endémique\", 0, IF(COUNTRY_INFO!$K110>0, IF(COUNTRY_INFO!$K110=4, 0, IF(COUNTRY_INFO!$K110=1, COUNTRY_INFO!$F110*0.33, IF(COUNTRY_INFO!$K110=2, COUNTRY_INFO!$F110*0.5, COUNTRY_INFO!$F110))), 0))","v":9289.5},{"$f":"IF(INTRO!$E$43=\"Non endémique\", 0, IF(COUNTRY_INFO!$K110>0, IF(COUNTRY_INFO!$K110=4, 0, IF(COUNTRY_INFO!$K110=1, 0, IF(COUNTRY_INFO!$K110=2, COUNTRY_INFO!$G110*0.2, COUNTRY_INFO!$G110))), 0))","v":7018.6},16308.1,{"$f":"IF(INTRO!$E$43=\"Non endémique\", \"Non requis\", COUNTRY_INFO!T110)","v":0},null,{"$f":"IF($D110=0,0,IF(AND($G110>0,$H110<>\"Oui\"),D110,IF(AND($G110>0,$H110=\"Oui\"),COUNTRY_INFO!$F110,0)))","v":0},null,0,0,0,0,0,null,0,0]
[{"$f":"IF(INTRO!$E$43=\"Non endémique\",\" \", IF(COUNTRY_INFO!A111=0,\" \",COUNTRY_INFO!A111))","v":"Angola"},{"$f":"IF(INTRO!$E$43=\"Non endémique\",\" \", IF(COUNTRY_INFO!B111=0,\" \",COUNTRY_INFO!B111))","v":"LUNDA NORTE"},{"$f":"IF(INTRO!$E$43=\"Non endémique\",\" \", IF(COUNTRY_INFO!C111=0,\" \",COUNTRY_INFO!C111))","v":"CAUNGULA"},{"$f":"IF(INTRO!$E$43=\"Non endémique\", 0, IF(COUNTRY_INFO!$K111>0, IF(COUNTRY_INFO!$K111=4, 0, IF(COUNTRY_INFO!$K111=1, COUNTRY_INFO!$F111*0.33, IF(COUNTRY_INFO!$K111=2, COUNTRY_INFO!$F111*0.5, COUNTRY_INFO!$F111))), 0))","v":4488.5},{"$f":"IF(INTRO!$E$43=\"Non endémique\", 0, IF(COUNTRY_INFO!$K111>0, IF(COUNTRY_INFO!$K111=4, 0, IF(COUNTRY_INFO!$K111=1, 0, IF(COUNTRY_INFO!$K111=2, COUNTRY_INFO!$G111*0.2, COUNTRY_INFO!$G111))), 0))","v":3391.4},7879.9,{"$f":"IF(INTRO!$E$43=\"Non endémique\", \"Non requis\", COUNTRY_INFO!T111)","v":0},null,{"$f":"IF($D111=0,0,IF(AND($G111>0,$H111<>\"Oui\"),D111,IF(AND($G111>0,$H111=\"Oui\"),COUNTRY_INFO!$F111,0)))","v":0},null,0,0,0,0,0,null,0,0]
[{"$f":"IF(INTRO!$E$43=\"Non endémique\",\" \", IF(COUNTRY_INFO!A112=0,\" \",COUNTRY_INFO!A112))","v":"Angola"},{"$f":"IF(INTRO!$E$43=\"Non endémique\",\" \", IF(COUNTRY_INFO!B112=0,\" \",COUNTRY_INFO!B112))","v":"LUNDA NORTE"},{"$f":"IF(INTRO!$E$43=\"Non endémique\",\" \", IF(COUNTRY_INFO!C112=0,\" \",COUNTRY_INFO!C112))","v":"CHITATO"},{"$f":"IF(INTRO!$E$43=\"Non endémique\", 0, IF(COUNTRY_INFO!$K112>0, IF(COUNTRY_INFO!$K112=4, 0, IF(COUNTRY_INFO!$K112=1, COUNTRY_INFO!$F112*0.33, IF(COUNTRY_INFO!$K112=2, COUNTRY_INFO!$F112*0.5, COUNTRY_INFO!$F112))), 0))","v":31016.5},{"$f":"IF(INTRO!$E$43=\"Non endémique\", 0, IF(COUNTRY_INFO!$K112>0, IF(COUNTRY_INFO!$K112=4, 0, IF(COUNTRY_INFO!$K112=1, 0, IF(COUNTRY_INFO!$K112=2, COUNTRY_INFO!$G112*0.2, COUNTRY_INFO!$G112))), 0))","v":23434.800000000003},54451.3,{"$f":"IF(INTRO!$E$43=\"Non endémique\", \"Non requis\", COUNTRY_INFO!T112)","v":0},null,{"$f":"IF($D112=0,0,IF(AND($G112>0,$H112<>\"Oui\"),D112,IF(AND($G112>0,$H112=\"Oui\"),COUNTRY_INFO!$F112,0)))","v":0},null,0,0,0,0,0,null,0,0]
[{"$f":"IF(INTRO!$E$43=\"Non endémique\",\" \", IF(COUNTRY_INFO!A113=0,\" \",COUNTRY_INFO!A113))","v":"Angola"},{"$f":"IF(INTRO!$E$43=\"Non endémique\",\" \", IF(COUNTRY_INFO!B113=0,\" \",COUNTRY_INFO!B113))","v":"LUNDA NORTE"},{"$f":"IF(INTRO!$E$43=\"Non endémique\",\" \", IF(COUNTRY_INFO!C113=0,\" \",COUNTRY_INFO!C113))","v":"CUANGO"},{"$f":"IF(INTRO!$E$43=\"Non endémique\", 0, IF(COUNTRY_INFO!$K113>0, IF(COUNTRY_INFO!$K113=4, 0, IF(COUNTRY_INFO!$K113=1, COUNTRY_INFO!$F113*0.33, IF(COUNTRY_INFO!$K113=2, COUNTRY_INFO!$F113*0.5, COUNTRY_INFO!$F113))), 0))","v":29288.5},{"$f":"IF(INTRO!$E$43=\"Non endémique\", 0, IF(COUNTRY_INFO!$K113>0, IF(COUNTRY_INFO!$K113=4, 0, IF(COUNTRY_INFO!$K113=1, 0, IF(COUNTRY_INFO!$K113=2, COUNTRY_INFO!$G113*0.2, COUNTRY_INFO!$G113))), 0))","v":22129},51417.5,{"$f":"IF(INTRO!$E$43=\"Non endémique\", \"Non requis\", COUNTRY_INFO!T113)","v":0},null,{"$f":"IF($D113=0,0,IF(AND($G113>0,$H113<>\"Oui\"),D113,IF(AND($G113>0,$H113=\"Oui\"),COUNTRY_INFO!$F113,0)))","v":0},null,0,0,0,0,0,null,0,0]
[{"$f":"IF(INTRO!$E$43=\"Non endémique\",\" \", IF(COUNTRY_INFO!A114=0,\" \",COUNTRY_INFO!A114))","v":"Angola"},{"$f":"IF(INTRO!$E$43=\"Non endémique\",\" \", IF(COUNTRY_INFO!B114=0,\" \",COUNTRY_INFO!B114))","v":"LUNDA NORTE"},{"$f":"IF(INTRO!$E$43=\"Non endémique\",\" \", IF(COUNTRY_INFO!C114=0,\" \",COUNTRY_INFO!C114))","v":"CUILO"},{"$f":"IF(INTRO!$E$43=\"Non endémique\", 0, IF(COUNTRY_INFO!$K114>0, IF(COUNTRY_INFO!$K114=4, 0, IF(COUNTRY_INFO!$K114=1, COUNTRY_INFO!$F114*0.33, IF(COUNTRY_INFO!$K114=2, COUNTRY_INFO!$F114*0.5, COUNTRY_INFO!$F114))), 0))","v":3347.5},{"$f":"IF(INTRO!$E$43=\"Non endémique\", 0, IF(COUNTRY_INFO!$K114>0, IF(COUNTRY_INFO!$K114=4, 0, IF(COUNTRY_INFO!$K114=1, 0, IF(COUNTRY_INFO!$K114=2, COUNTRY_INFO!$G114*0.2, COUNTRY_INFO!$G114))), 0))","v":2529.2000000000003},5876.7000000000007,{"$f":"IF(INTRO!$E$43=\"Non endémique\", \"Non requis\", COUNTRY_INFO!T114)","v":0},null,{"$f":"IF($D114=0,0,IF(AND($G114>0,$H114<>\"Oui\"),D114,IF(AND($G114>0,$H114=\"Oui\"),COUNTRY_INFO!$F114,0)))","v":0},null,0,0,0,0,0,null,0,0]
[{"$f":"IF(INTRO!$E$43=\"Non endémique\",\" \", IF(COUNTRY_INFO!A115=0,\" \",COUNTRY_INFO!A115))","v":"Angola"},{"$f":"IF(INTRO!$E$43=\"Non endémique\",\" \", IF(COUNTRY_INFO!B115=0,\" \",COUNTRY_INFO!B115))","v":"LUNDA NORTE"},{"$f":"IF(INTRO!$E$43=\"Non endémique\",\" \", IF(COUNTRY_INFO!C115=0,\" \",COUNTRY_INFO!C115))","v":"LOVUA"},{"$f":"IF(INTRO!$E$43=\"Non endémique\", 0, IF(COUNTRY_INFO!$K115>0, IF(COUNTRY_INFO!$K115=4, 0, IF(COUNTRY_INFO!$K115=1, COUNTRY_INFO!$F115*0.33, IF(COUNTRY_INFO!$K115=2, COUNTRY_INFO!$F115*0.5, COUNTRY_INFO!$F115))), 0))","v":2160.5},{"$f":"IF(INTRO!$E$43=\"Non endémique\", 0, IF(COUNTRY_INFO!$K115>0, IF(COUNTRY_INFO!$K115=4, 0, IF(COUNTRY_INFO!$K115=1, 0, IF(COUNTRY_INFO!$K115=2, COUNTRY_INFO!$G115*0.2, COUNTRY_INFO!$G115))), 0))","v":1632.6000000000001},3793.1000000000004,{"$f":"IF(INTRO!$E$43=\"Non endémique\", \"Non requis\", COUNTRY_INFO!T115)","v":0},null,{"$f":"IF($D115=0,0,IF(AND($G115>0,$H115<>\"Oui\"),D115,IF(AND($G115>0,$H115=\"Oui\"),COUNTRY_INFO!$F115,0)))","v":0},null,0,0,0,0,0,null,0,0]
[{"$f":"IF(INTRO!$E$43=\"Non endémique\",\" \", IF(COUNTRY_INFO!A116=0,\" \",COUNTRY_INFO!A116))","v":"Angola"},{"$f":"IF(INTRO!$E$43=\"Non endémique\",\" \", IF(COUNTRY_INFO!B116=0,\" \",COUNTRY_INFO!B116))","v":"LUNDA NORTE"},{"$f":"IF(INTRO!$E$43=\"Non endémique\",\" \", IF(COUNTRY_INFO!C116=0,\" \",COUNTRY_INFO!C116))","v":"LUBALO"},{"$f":"IF(INTRO!$E$43=\"Non endémique\", 0, IF(COUNTRY_INFO!$K116>0, IF(COUNTRY_INFO!$K116=4, 0, IF(COUNTRY_INFO!$K116=1, COUNTRY_INFO!$F116*0.33, IF(COUNTRY_INFO!$K116=2, COUNTRY_INFO!$F116*0.5, COUNTRY_INFO!$F116))), 0))","v":3288},{"$f":"IF(INTRO!$E$43=\"Non endémique\", 0, IF(COUNTRY_INFO!$K116>0, IF(COUNTRY_INFO!$K116=4, 0, IF(COUNTRY_INFO!$K116=1, 0, IF(COUNTRY_INFO!$K116=2, COUNTRY_INFO!$G116*0.2, COUNTRY_INFO!$G116))), 0))","v":2484.4},5772.4,{"$f":"IF(INTRO!$E$43=\"Non endémique\", \"Non requis\", COUNTRY_INFO!T116)","v":0},null,{"$f":"IF($D116=0,0,IF(AND($G116>0,$H116<>\"Oui\"),D116,IF(AND($G116>0,$H116=\"Oui\"),COUNTRY_INFO!$F116,0)))","v":0},null,0,0,0,0,0,null,0,0]
[{"$f":"IF(INTRO!$E$43=\"Non endémique\",\" \", IF(COUNTRY_INFO!A117=0,\" \",COUNTRY_INFO!A117))","v":"Angola"},{"$f":"IF(INTRO!$E$43=\"Non endémique\",\" \", IF(COUNTRY_INFO!B117=0,\" \",COUNTRY_INFO!B117))","v":"LUNDA NORTE"},{"$f":"IF(INTRO!$E$43=\"Non endémique\",\" \", IF(COUNTRY_INFO!C117=0,\" \",COUNTRY_INFO!C117))","v":"LUCAPA"},{"$f":"IF(INTRO!$E$43=\"Non endémique\", 0, IF(COUNTRY_INFO!$K117>0, IF(COUNTRY_INFO!$K117=4, 0, IF(COUNTRY_INFO!$K117=1, COUNTRY_INFO!$F117*0.33, IF(COUNTRY_INFO!$K117=2, COUNTRY_INFO!$F117*0.5, COUNTRY_INFO!$F117))), 0))","v":24592.5},{"$f":"IF(INTRO!$E$43=\"Non endémique\", 0, IF(COUNTRY_INFO!$K117>0, IF(COUNTRY_INFO!$K117=4, 0, IF(COUNTRY_INFO!$K117=1, 0, IF(COUNTRY_INFO!$K117=2, COUNTRY_INFO!$G117*0.2, COUNTRY_INFO!$G117))), 0))","v":18581.2},43173.7,{"$f":"IF(INTRO!$E$43=\"Non endémique\", \"Non requis\", COUNTRY_INFO!T117)","v":0},null,{"$f":"IF($D117=0,0,IF(AND($G117>0,$H117<>\"Oui\"),D117,IF(AND($G117>0,$H117=\"Oui\"),COUNTRY_INFO!$F117,0)))","v":0},null,0,0,0,0,0,null,0,0]
[{"$f":"IF(INTRO!$E$43=\"Non endémique\",\" \", IF(COUNTRY_INFO!A118=0,\" \",COUNTRY_INFO!A118))","v":"Angola"},{"$f":"IF(INTRO!$E$43=\"Non endémique\",\" \", IF(COUNTRY_INFO!B118=0,\" \",COUNTRY_INFO!B118))","v":"LUNDA NORTE"},{"$f":"IF(INTRO!$E$43=\"Non endémique\",\" \", IF(COUNTRY_INFO!C118=0,\" \",COUNTRY_INFO!C118))","v":"XA MUTEBA"},{"$f":"IF(INTRO!$E$43=\"Non endémique\", 0, IF(COUNTRY_INFO!$K118>0, IF(COUNTRY_INFO!$K118=4, 0, IF(COUNTRY_INFO!$K118=1, COUNTRY_INFO!$F118*0.33, IF(COUNTRY_INFO!$K118=2, COUNTRY_INFO!$F118*0.5, COUNTRY_INFO!$F118))), 0))","v":10856},{"$f":"IF(INTRO!$E$43=\"Non endémique\", 0, IF(COUNTRY_INFO!$K118>0, IF(COUNTRY_INFO!$K118=4, 0, IF(COUNTRY_INFO!$K118=1, 0, IF(COUNTRY_INFO!$K118=2, COUNTRY_INFO!$G118*0.2, COUNTRY_INFO!$G118))), 0))","v":8202.2000000000007},19058.2,{"$f":"IF(INTRO!$E$43=\"Non endémique\", \"Non requis\", COUNTRY_INFO!T118)","v":0},null,{"$f":"IF($D118=0,0,IF(AND($G118>0,$H118<>\"Oui\"),D118,IF(AND($G118>0,$H118=\"Oui\"),COUNTRY_INFO!$F118,0)))","v":0},null,0,0,0,0,0,null,0,0]
[{"$f":"IF(INTRO!$E$43=\"Non endémique\",\" \", IF(COUNTRY_INFO!A119=0,\" \",COUNTRY_INFO!A119))","v":"Angola"},{"$f":"IF(INTRO!$E$43=\"Non endémique\",\" \", IF(COUNTRY_INFO!B119=0,\" \",COUNTRY_INFO!B119))","v":"LUNDA SUL"},{"$f":"IF(INTRO!$E$43=\"Non endémique\",\" \", IF(COUNTRY_INFO!C119=0,\" \",COUNTRY_INFO!C119))","v":"CACOLO"},{"$f":"IF(INTRO!$E$43=\"Non endémique\", 0, IF(COUNTRY_INFO!$K119>0, IF(COUNTRY_INFO!$K119=4, 0, IF(COUNTRY_INFO!$K119=1, COUNTRY_INFO!$F119*0.33, IF(COUNTRY_INFO!$K119=2, COUNTRY_INFO!$F119*0.5, COUNTRY_INFO!$F119))), 0))","v":5083.5},{"$f":"IF(INTRO!$E$43=\"Non endémique\", 0, IF(COUNTRY_INFO!$K119>0, IF(COUNTRY_INFO!$K119=4, 0, IF(COUNTRY_INFO!$K119=1, 0, IF(COUNTRY_INFO!$K119=2, COUNTRY_INFO!$G119*0.2, COUNTRY_INFO!$G119))), 0))","v":3840.8},8924.2999999999993,{"$f":"IF(INTRO!$E$43=\"Non endémique\", \"Non requis\", COUNTRY_INFO!T119)","v":0},null,{"$f":"IF($D119=0,0,IF(AND($G119>0,$H119<>\"Oui\"),D119,IF(AND($G119>0,$H119=\"Oui\"),COUNTRY_INFO!$F119,0)))","v":0},null,0,0,0,0,0,null,0,0]
[{"$f":"IF(INTRO!$E$43=\"Non endémique\",\" \", IF(COUNTRY_INFO!A120=0,\" \",COUNTRY_INFO!A120))","v":"Angola"},{"$f":"IF(INTRO!$E$43=\"Non endémique\",\" \", IF(COUNTRY_INFO!B120=0,\" \",COUNTRY_INFO!B120))","v":"LUNDA SUL"},{"$f":"IF(INTRO!$E$43=\"Non endémique\",\" \", IF(COUNTRY_INFO!C120=0,\" \",COUNTRY_INFO!C120))","v":"DALA"},{"$f":"IF(INTRO!$E$43=\"Non endémique\", 0, IF(COUNTRY_INFO!$K120>0, IF(COUNTRY_INFO!$K120=4, 0, IF(COUNTRY_INFO!$K120=1, COUNTRY_INFO!$F120*0.33, IF(COUNTRY_INFO!$K120=2, COUNTRY_INFO!$F120*0.5, COUNTRY_INFO!$F120))), 0))","v":4780},{"$f":"IF(INTRO!$E$43=\"Non endémique\", 0, IF(COUNTRY_INFO!$K120>0, IF(COUNTRY_INFO!$K120=4, 0, IF(COUNTRY_INFO!$K120=1, 0, IF(COUNTRY_INFO!$K120=2, COUNTRY_INFO!$G120*0.2, COUNTRY_INFO!$G120))), 0))","v":3611.6000000000004},8391.6,{"$f":"IF(INTRO!$E$43=\"Non endémique\", \"Non requis\", COUNTRY_INFO!T120)","v":0},null,{"$f":"IF($D120=0,0,IF(AND($G120>0,$H120<>\"Oui\"),D120,IF(AND($G120>0,$H120=\"Oui\"),COUNTRY_INFO!$F120,0)))","v":0},null,0,0,0,0,0,null,0,0]
[{"$f":"IF(INTRO!$E$43=\"Non endémique\",\" \", IF(COUNTRY_INFO!A121=0,\" \",COUNTRY_INFO!A121))","v":"Angola"},{"$f":"IF(INTRO!$E$43=\"Non endémique\",\" \", IF(COUNTRY_INFO!B121=0,\" \",COUNTRY_INFO!B121))","v":"LUNDA SUL"},{"$f":"IF(INTRO!$E$43=\"Non endémique\",\" \", IF(COUNTRY_INFO!C121=0,\" \",COUNTRY_INFO!C121))","v":"MUCONDA"},{"$f":"IF(INTRO!$E$43=\"Non endémique\", 0, IF(COUNTRY_INFO!$K121>0, IF(COUNTRY_INFO!$K121=4, 0, IF(COUNTRY_INFO!$K121=1, COUNTRY_INFO!$F121*0.33, IF(COUNTRY_INFO!$K121=2, COUNTRY_INFO!$F121*0.5, COUNTRY_INFO!$F121))), 0))","v":5301.5},{"$f":"IF(INTRO!$E$43=\"Non endémique\", 0, IF(COUNTRY_INFO!$K121>0, IF(COUNTRY_INFO!$K121=4, 0, IF(COUNTRY_INFO!$K121=1, 0, IF(COUNTRY_INFO!$K121=2, COUNTRY_INFO!$G121*0.2, COUNTRY_INFO!$G121))), 0))","v":4005.6000000000004},9307.1,{"$f":"IF(INTRO!$E$43=\"Non endémique\", \"Non requis\", COUNTRY_INFO!T121)","v":0},null,{"$f":"IF($D121=0,0,IF(AND($G121>0,$H121<>\"Oui\"),D121,IF(AND($G121>0,$H121=\"Oui\"),COUNTRY_INFO!$F121,0)))","v":0},null,0,0,0,0,0,null,0,0]
[{"$f":"IF(INTRO!$E$43=\"Non endémique\",\" \", IF(COUNTRY_INFO!A122=0,\" \",COUNTRY_INFO!A122))","v":"Angola"},{"$f":"IF(INTRO!$E$43=\"Non endémique\",\" \", IF(COUNTRY_INFO!B122=0,\" \",COUNTRY_INFO!B122))","v":"LUNDA SUL"},{"$f":"IF(INTRO!$E$43=\"Non endémique\",\" \", IF(COUNTRY_INFO!C122=0,\" \",COUNTRY_INFO!C122))","v":"SAURIMO"},{"$f":"IF(INTRO!$E$43=\"Non endémique\", 0, IF(COUNTRY_INFO!$K122>0, IF(COUNTRY_INFO!$K122=4, 0, IF(COUNTRY_INFO!$K122=1, COUNTRY_INFO!$F122*0.33, IF(COUNTRY_INFO!$K122=2, COUNTRY_INFO!$F122*0.5, COUNTRY_INFO!$F122))), 0))","v":70514.5},{"$f":"IF(INTRO!$E$43=\"Non endémique\", 0, IF(COUNTRY_INFO!$K122>0, IF(COUNTRY_INFO!$K122=4, 0, IF(COUNTRY_INFO!$K122=1, 0, IF(COUNTRY_INFO!$K122=2, COUNTRY_INFO!$G122*0.2, COUNTRY_INFO!$G122))), 0))","v":53277.4},123791.9,{"$f":"IF(INTRO!$E$43=\"Non endémique\", \"Non requis\", COUNTRY_INFO!T122)","v":0},null,{"$f":"IF($D122=0,0,IF(AND($G122>0,$H122<>\"Oui\"),D122,IF(AND($G122>0,$H122=\"Oui\"),COUNTRY_INFO!$F122,0)))","v":0},null,0,0,0,0,0,null,0,0]
[{"$f":"IF(INTRO!$E$43=\"Non endémique\",\" \", IF(COUNTRY_INFO!A123=0,\" \",COUNTRY_INFO!A123))","v":"Angola"},{"$f":"IF(INTRO!$E$43=\"Non endémique\",\" \", IF(COUNTRY_INFO!B123=0,\" \",COUNTRY_INFO!B123))","v":"MALANGE"},{"$f":"IF(INTRO!$E$43=\"Non endémique\",\" \", IF(COUNTRY_INFO!C123=0,\" \",COUNTRY_INFO!C123))","v":"CACULAMA (Mukari)"},{"$f":"IF(INTRO!$E$43=\"Non endémique\", 0, IF(COUNTRY_INFO!$K123>0, IF(COUNTRY_INFO!$K123=4, 0, IF(COUNTRY_INFO!$K123=1, COUNTRY_INFO!$F123*0.33, IF(COUNTRY_INFO!$K123=2, COUNTRY_INFO!$F123*0.5, COUNTRY_INFO!$F123))), 0))","v":4799},{"$f":"IF(INTRO!$E$43=\"Non endémique\", 0, IF(COUNTRY_INFO!$K123>0, IF(COUNTRY_INFO!$K123=4, 0, IF(COUNTRY_INFO!$K123=1, 0, IF(COUNTRY_INFO!$K123=2, COUNTRY_INFO!$G123*0.2, COUNTRY_INFO!$G123))), 0))","v":3626},8425,{"$f":"IF(INTRO!$E$43=\"Non endémique\", \"Non requis\", COUNTRY_INFO!T123)","v":0},null,{"$f":"IF($D123=0,0,IF(AND($G123>0,$H123<>\"Oui\"),D123,IF(AND($G123>0,$H123=\"Oui\"),COUNTRY_INFO!$F123,0)))","v":0},null,0,0,0,0,0,null,0,0]
[{"$f":"IF(INTRO!$E$43=\"Non endémique\",\" \", IF(COUNTRY_INFO!A124=0,\" \",COUNTRY_INFO!A124))","v":"Angola"},{"$f":"IF(INTRO!$E$43=\"Non endémique\",\" \", IF(COUNTRY_INFO!B124=0,\" \",COUNTRY_INFO!B124))","v":"MALANGE"},{"$f":"IF(INTRO!$E$43=\"Non endémique\",\" \", IF(COUNTRY_INFO!C124=0,\" \",COUNTRY_INFO!C124))","v":"CACUSO"},{"$f":"IF(INTRO!$E$43=\"Non endémique\", 0, IF(COUNTRY_INFO!$K124>0, IF(COUNTRY_INFO!$K124=4, 0, IF(COUNTRY_INFO!$K124=1, COUNTRY_INFO!$F124*0.33, IF(COUNTRY_INFO!$K124=2, COUNTRY_INFO!$F124*0.5, COUNTRY_INFO!$F124))), 0))","v":11393},{"$f":"IF(INTRO!$E$43=\"Non endémique\", 0, IF(COUNTRY_INFO!$K124>0, IF(COUNTRY_INFO!$K124=4, 0, IF(COUNTRY_INFO!$K124=1, 0, IF(COUNTRY_INFO!$K124=2, COUNTRY_INFO!$G124*0.2, COUNTRY_INFO!$G124))), 0))","v":8608.2000000000007},20001.2,{"$f":"IF(INTRO!$E$43=\"Non endémique\", \"Non requis\", COUNTRY_INFO!T124)","v":0},null,{"$f":"IF($D124=0,0,IF(AND($G124>0,$H124<>\"Oui\"),D124,IF(AND($G124>0,$H124=\"Oui\"),COUNTRY_INFO!$F124,0)))","v":0},null,0,0,0,0,0,null,0,0]
[{"$f":"IF(INTRO!$E$43=\"Non endémique\",\" \", IF(COUNTRY_INFO!A125=0,\" \",COUNTRY_INFO!A125))","v":"Angola"},{"$f":"IF(INTRO!$E$43=\"Non endémique\",\" \", IF(COUNTRY_INFO!B125=0,\" \",COUNTRY_INFO!B125))","v":"MALANGE"},{"$f":"IF(INTRO!$E$43=\"Non endémique\",\" \", IF(COUNTRY_INFO!C125=0,\" \",COUNTRY_INFO!C125))","v":"CAMBUNDI CATEMBO"},{"$f":"IF(INTRO!$E$43=\"Non endémique\", 0, IF(COUNTRY_INFO!$K125>0, IF(COUNTRY_INFO!$K125=4, 0, IF(COUNTRY_INFO!$K125=1, COUNTRY_INFO!$F125*0.33, IF(COUNTRY_INFO!$K125=2, COUNTRY_INFO!$F125*0.5, COUNTRY_INFO!$F125))), 0))","v":7381},{"$f":"IF(INTRO!$E$43=\"Non endémique\", 0, IF(COUNTRY_INFO!$K125>0, IF(COUNTRY_INFO!$K125=4, 0, IF(COUNTRY_INFO!$K125=1, 0, IF(COUNTRY_INFO!$K125=2, COUNTRY_INFO!$G125*0.2, COUNTRY_INFO!$G125))), 0))","v":5576.8},12957.8,{"$f":"IF(INTRO!$E$43=\"Non endémique\", \"Non requis\", COUNTRY_INFO!T125)","v":0},null,{"$f":"IF($D125=0,0,IF(AND($G125>0,$H125<>\"Oui\"),D125,IF(AND($G125>0,$H125=\"Oui\"),COUNTRY_INFO!$F125,0)))","v":0},null,0,0,0,0,0,null,0,0]
[{"$f":"IF(INTRO!$E$43=\"Non endémique\",\" \", IF(COUNTRY_INFO!A126=0,\" \",COUNTRY_INFO!A126))","v":"Angola"},{"$f":"IF(INTRO!$E$43=\"Non endémique\",\" \", IF(COUNTRY_INFO!B126=0,\" \",COUNTRY_INFO!B126))","v":"MALANGE"},{"$f":"IF(INTRO!$E$43=\"Non endémique\",\" \", IF(COUNTRY_INFO!C126=0,\" \",COUNTRY_INFO!C126))","v":"CANGANDALA"},{"$f":"IF(INTRO!$E$43=\"Non endémique\", 0, IF(COUNTRY_INFO!$K126>0, IF(COUNTRY_INFO!$K126=4, 0, IF(COUNTRY_INFO!$K126=1, COUNTRY_INFO!$F126*0.33, IF(COUNTRY_INFO!$K126=2, COUNTRY_INFO!$F126*0.5, COUNTRY_INFO!$F126))), 0))","v":7191},{"$f":"IF(INTRO!$E$43=\"Non endémique\", 0, IF(COUNTRY_INFO!$K126>0, IF(COUNTRY_INFO!$K126=4, 0, IF(COUNTRY_INFO!$K126=1, 0, IF(COUNTRY_INFO!$K126=2, COUNTRY_INFO!$G126*0.2, COUNTRY_INFO!$G126))), 0))","v":5433.2000000000007},12624.2,{"$f":"IF(INTRO!$E$43=\"Non endémique\", \"Non requis\", COUNTRY_INFO!T126)","v":0},null,{"$f":"IF($D126=0,0,IF(AND($G126>0,$H126<>\"Oui\"),D126,IF(AND($G126>0,$H126=\"Oui\"),COUNTRY_INFO!$F126,0)))","v":0},null,0,0,0,0,0,null,0,0]
[{"$f":"IF(INTRO!$E$43=\"Non endémique\",\" \", IF(COUNTRY_INFO!A127=0,\" \",COUNTRY_INFO!A127))","v":"Angola"},{"$f":"IF(INTRO!$E$43=\"Non endémique\",\" \", IF(COUNTRY_INFO!B127=0,\" \",COUNTRY_INFO!B127))","v":"MALANGE"},{"$f":"IF(INTRO!$E$43=\"Non endémique\",\" \", IF(COUNTRY_INFO!C127=0,\" \",COUNTRY_INFO!C127))","v":"KAHOMBO"},{"$f":"IF(INTRO!$E$43=\"Non endémique\", 0, IF(COUNTRY_INFO!$K127>0, IF(COUNTRY_INFO!$K127=4, 0, IF(COUNTRY_INFO!$K127=1, COUNTRY_INFO!$F127*0.33, IF(COUNTRY_INFO!$K127=2, COUNTRY_INFO!$F127*0.5, COUNTRY_INFO!$F127))), 0))","v":3428.5},{"$f":"IF(INTRO!$E$43=\"Non endémique\", 0, IF(COUNTRY_INFO!$K127>0, IF(COUNTRY_INFO!$K127=4, 0, IF(COUNTRY_INFO!$K127=1, 0, IF(COUNTRY_INFO!$K127=2, COUNTRY_INFO!$G127*0.2, COUNTRY_INFO!$G127))), 0))","v":2590.4},6018.9,{"$f":"IF(INTRO!$E$43=\"Non endémique\", \"Non requis\", COUNTRY_INFO!T127)","v":0},null,{"$f":"IF($D127=0,0,IF(AND($G127>0,$H127<>\"Oui\"),D127,IF(AND($G127>0,$H127=\"Oui\"),COUNTRY_INFO!$F127,0)))","v":0},null,0,0,0,0,0,null,0,0]
[{"$f":"IF(INTRO!$E$43=\"Non endémique\",\" \", IF(COUNTRY_INFO!A128=0,\" \",COUNTRY_INFO!A128))","v":"Angola"},{"$f":"IF(INTRO!$E$43=\"Non endémique\",\" \", IF(COUNTRY_INFO!B128=0,\" \",COUNTRY_INFO!B128))","v":"MALANGE"},{"$f":"IF(INTRO!$E$43=\"Non endémique\",\" \", IF(COUNTRY_INFO!C128=0,\" \",COUNTRY_INFO!C128))","v":"KALANDULA"},{"$f":"IF(INTRO!$E$43=\"Non endémique\", 0, IF(COUNTRY_INFO!$K128>0, IF(COUNTRY_INFO!$K128=4, 0, IF(COUNTRY_INFO!$K128=1, COUNTRY_INFO!$F128*0.33, IF(COUNTRY_INFO!$K128=2, COUNTRY_INFO!$F128*0.5, COUNTRY_INFO!$F128))), 0))","v":12816.5},{"$f":"IF(INTRO!$E$43=\"Non endémique\", 0, IF(COUNTRY_INFO!$K128>0, IF(COUNTRY_INFO!$K128=4, 0, IF(COUNTRY_INFO!$K128=1, 0, IF(COUNTRY_INFO!$K128=2, COUNTRY_INFO!$G128*0.2, COUNTRY_INFO!$G128))), 0))","v":9683.4},22499.9,{"$f":"IF(INTRO!$E$43=\"Non endémique\", \"Non requis\", COUNTRY_INFO!T128)","v":0},null,{"$f":"IF($D128=0,0,IF(AND($G128>0,$H128<>\"Oui\"),D128,IF(AND($G128>0,$H128=\"Oui\"),COUNTRY_INFO!$F128,0)))","v":0},null,0,0,0,0,0,null,0,0]
[{"$f":"IF(INTRO!$E$43=\"Non endémique\",\" \", IF(COUNTRY_INFO!A129=0,\" \",COUNTRY_INFO!A129))","v":"Angola"},{"$f":"IF(INTRO!$E$43=\"Non endémique\",\" \", IF(COUNTRY_INFO!B129=0,\" \",COUNTRY_INFO!B129))","v":"MALANGE"},{"$f":"IF(INTRO!$E$43=\"Non endémique\",\" \", IF(COUNTRY_INFO!C129=0,\" \",COUNTRY_INFO!C129))","v":"KIWABA NZOGI"},{"$f":"IF(INTRO!$E$43=\"Non endémique\", 0, IF(COUNTRY_INFO!$K129>0, IF(COUNTRY_INFO!$K129=4, 0, IF(COUNTRY_INFO!$K129=1, COUNTRY_INFO!$F129*0.33, IF(COUNTRY_INFO!$K129=2, COUNTRY_INFO!$F129*0.5, COUNTRY_INFO!$F129))), 0))","v":2531},{"$f":"IF(INTRO!$E$43=\"Non endémique\", 0, IF(COUNTRY_INFO!$K129>0, IF(COUNTRY_INFO!$K129=4, 0, IF(COUNTRY_INFO!$K129=1, 0, IF(COUNTRY_INFO!$K129=2, COUNTRY_INFO!$G129*0.2, COUNTRY_INFO!$G129))), 0))","v":1912.2},4443.2,{"$f":"IF(INTRO!$E$43=\"Non endémique\", \"Non requis\", COUNTRY_INFO!T129)","v":0},null,{"$f":"IF($D129=0,0,IF(AND($G129>0,$H129<>\"Oui\"),D129,IF(AND($G129>0,$H129=\"Oui\"),COUNTRY_INFO!$F129,0)))","v":0},null,0,0,0,0,0,null,0,0]
[{"$f":"IF(INTRO!$E$43=\"Non endémique\",\" \", IF(COUNTRY_INFO!A130=0,\" \",COUNTRY_INFO!A130))","v":"Angola"},{"$f":"IF(INTRO!$E$43=\"Non endémique\",\" \", IF(COUNTRY_INFO!B130=0,\" \",COUNTRY_INFO!B130))","v":"MALANGE"},{"$f":"IF(INTRO!$E$43=\"Non endémique\",\" \", IF(COUNTRY_INFO!C130=0,\" \",COUNTRY_INFO!C130))","v":"KUNDA DIA BASE"},{"$f":"IF(INTRO!$E$43=\"Non endémique\", 0, IF(COUNTRY_INFO!$K130>0, IF(COUNTRY_INFO!$K130=4, 0, IF(COUNTRY_INFO!$K130=1, COUNTRY_INFO!$F130*0.33, IF(COUNTRY_INFO!$K130=2, COUNTRY_INFO!$F130*0.5, COUNTRY_INFO!$F130))), 0))","v":2011.5},{"$f":"IF(INTRO!$E$43=\"Non endémique\", 0, IF(COUNTRY_INFO!$K130>0, IF(COUNTRY_INFO!$K130=4, 0, IF(COUNTRY_INFO!$K130=1, 0, IF(COUNTRY_INFO!$K130=2, COUNTRY_INFO!$G130*0.2, COUNTRY_INFO!$G130))), 0))","v":1519.6000000000001},3531.1000000000004,{"$f":"IF(INTRO!$E$43=\"Non endémique\", \"Non requis\", COUNTRY_INFO!T130)","v":0},null,{"$f":"IF($D130=0,0,IF(AND($G130>0,$H130<>\"Oui\"),D130,IF(AND($G130>0,$H130=\"Oui\"),COUNTRY_INFO!$F130,0)))","v":0},null,0,0,0,0,0,null,0,0]
[{"$f":"IF(INTRO!$E$43=\"Non endémique\",\" \", IF(COUNTRY_INFO!A131=0,\" \",COUNTRY_INFO!A131))","v":"Angola"},{"$f":"IF(INTRO!$E$43=\"Non endémique\",\" \", IF(COUNTRY_INFO!B131=0,\" \",COUNTRY_INFO!B131))","v":"MALANGE"},{"$f":"IF(INTRO!$E$43=\"Non endémique\",\" \", IF(COUNTRY_INFO!C131=0,\" \",COUNTRY_INFO!C131))","v":"LUQUEMBO"},{"$f":"IF(INTRO!$E$43=\"Non endémique\", 0, IF(COUNTRY_INFO!$K131>0, IF(COUNTRY_INFO!$K131=4, 0, IF(COUNTRY_INFO!$K131=1, COUNTRY_INFO!$F131*0.33, IF(COUNTRY_INFO!$K131=2, COUNTRY_INFO!$F131*0.5, COUNTRY_INFO!$F131))), 0))","v":8746.5},{"$f":"IF(INTRO!$E$43=\"Non endémique\", 0, IF(COUNTRY_INFO!$K131>0, IF(COUNTRY_INFO!$K131=4, 0, IF(COUNTRY_INFO!$K131=1, 0, IF(COUNTRY_INFO!$K131=2, COUNTRY_INFO!$G131*0.2, COUNTRY_INFO!$G131))), 0))","v":6608.4000000000005},15354.900000000001,{"$f":"IF(INTRO!$E$43=\"Non endémique\", \"Non requis\", COUNTRY_INFO!T131)","v":0},null,{"$f":"IF($D131=0,0,IF(AND($G131>0,$H131<>\"Oui\"),D131,IF(AND($G131>0,$H131=\"Oui\"),COUNTRY_INFO!$F131,0)))","v":0},null,0,0,0,0,0,null,0,0]
[{"$f":"IF(INTRO!$E$43=\"Non endémique\",\" \", IF(COUNTRY_INFO!A132=0,\" \",COUNTRY_INFO!A132))","v":"Angola"},{"$f":"IF(INTRO!$E$43=\"Non endémique\",\" \", IF(COUNTRY_INFO!B132=0,\" \",COUNTRY_INFO!B132))","v":"MALANJE"},{"$f":"IF(INTRO!$E$43=\"Non endémique\",\" \", IF(COUNTRY_INFO!C132=0,\" \",COUNTRY_INFO!C132))","v":"MALANJE"},{"$f":"IF(INTRO!$E$43=\"Non endémique\", 0, IF(COUNTRY_INFO!$K132>0, IF(COUNTRY_INFO!$K132=4, 0, IF(COUNTRY_INFO!$K132=1, COUNTRY_INFO!$F132*0.33, IF(COUNTRY_INFO!$K132=2, COUNTRY_INFO!$F132*0.5, COUNTRY_INFO!$F132))), 0))","v":80780},{"$f":"IF(INTRO!$E$43=\"Non endémique\", 0, IF(COUNTRY_INFO!$K132>0, IF(COUNTRY_INFO!$K132=4, 0, IF(COUNTRY_INFO!$K132=1, 0, IF(COUNTRY_INFO!$K132=2, COUNTRY_INFO!$G132*0.2, COUNTRY_INFO!$G132))), 0))","v":61033.8},141813.79999999999,{"$f":"IF(INTRO!$E$43=\"Non endémique\", \"Non requis\", COUNTRY_INFO!T132)","v":0},null,{"$f":"IF($D132=0,0,IF(AND($G132>0,$H132<>\"Oui\"),D132,IF(AND($G132>0,$H132=\"Oui\"),COUNTRY_INFO!$F132,0)))","v":0},null,0,0,0,0,0,null,0,0]
[{"$f":"IF(INTRO!$E$43=\"Non endémique\",\" \", IF(COUNTRY_INFO!A133=0,\" \",COUNTRY_INFO!A133))","v":"Angola"},{"$f":"IF(INTRO!$E$43=\"Non endémique\",\" \", IF(COUNTRY_INFO!B133=0,\" \",COUNTRY_INFO!B133))","v":"MALANGE"},{"$f":"IF(INTRO!$E$43=\"Non endémique\",\" \", IF(COUNTRY_INFO!C133=0,\" \",COUNTRY_INFO!C133))","v":"MARIMBA"},{"$f":"IF(INTRO!$E$43=\"Non endémique\", 0, IF(COUNTRY_INFO!$K133>0, IF(COUNTRY_INFO!$K133=4, 0, IF(COUNTRY_INFO!$K133=1, COUNTRY_INFO!$F133*0.33, IF(COUNTRY_INFO!$K133=2, COUNTRY_INFO!$F133*0.5, COUNTRY_INFO!$F133))), 0))","v":4172.5},{"$f":"IF(INTRO!$E$43=\"Non endémique\", 0, IF(COUNTRY_INFO!$K133>0, IF(COUNTRY_INFO!$K133=4, 0, IF(COUNTRY_INFO!$K133=1, 0, IF(COUNTRY_INFO!$K133=2, COUNTRY_INFO!$G133*0.2, COUNTRY_INFO!$G133))), 0))","v":3152.6000000000004},7325.1,{"$f":"IF(INTRO!$E$43=\"Non endémique\", \"Non requis\", COUNTRY_INFO!T133)","v":0},null,{"$f":"IF($D133=0,0,IF(AND($G133>0,$H133<>\"Oui\"),D133,IF(AND($G133>0,$H133=\"Oui\"),COUNTRY_INFO!$F133,0)))","v":0},null,0,0,0,0,0,null,0,0]
[{"$f":"IF(INTRO!$E$43=\"Non endémique\",\" \", IF(COUNTRY_INFO!A134=0,\" \",COUNTRY_INFO!A134))","v":"Angola"},{"$f":"IF(INTRO!$E$43=\"Non endémique\",\" \", IF(COUNTRY_INFO!B134=0,\" \",COUNTRY_INFO!B134))","v":"MALANGE"},{"$f":"IF(INTRO!$E$43=\"Non endémique\",\" \", IF(COUNTRY_INFO!C134=0,\" \",COUNTRY_INFO!C134))","v":"MASSANGO"},{"$f":"IF(INTRO!$E$43=\"Non endémique\", 0, IF(COUNTRY_INFO!$K134>0, IF(COUNTRY_INFO!$K134=4, 0, IF(COUNTRY_INFO!$K134=1, COUNTRY_INFO!$F134*0.33, IF(COUNTRY_INFO!$K134=2, COUNTRY_INFO!$F134*0.5, COUNTRY_INFO!$F134))), 0))","v":5246.5},{"$f":"IF(INTRO!$E$43=\"Non endémique\", 0, IF(COUNTRY_INFO!$K134>0, IF(COUNTRY_INFO!$K134=4, 0, IF(COUNTRY_INFO!$K134=1, 0, IF(COUNTRY_INFO!$K134=2, COUNTRY_INFO!$G134*0.2, COUNTRY_INFO!$G134))), 0))","v":3964},9210.5,{"$f":"IF(INTRO!$E$43=\"Non endémique\", \"Non requis\", COUNTRY_INFO!T134)","v":0},null,{"$f":"IF($D134=0,0,IF(AND($G134>0,$H134<>\"Oui\"),D134,IF(AND($G134>0,$H134=\"Oui\"),COUNTRY_INFO!$F134,0)))","v":0},null,0,0,0,0,0,null,0,0]
[{"$f":"IF(INTRO!$E$43=\"Non endémique\",\" \", IF(COUNTRY_INFO!A135=0,\" \",COUNTRY_INFO!A135))","v":"Angola"},{"$f":"IF(INTRO!$E$43=\"Non endémique\",\" \", IF(COUNTRY_INFO!B135=0,\" \",COUNTRY_INFO!B135))","v":"MALANGE"},{"$f":"IF(INTRO!$E$43=\"Non endémique\",\" \", IF(COUNTRY_INFO!C135=0,\" \",COUNTRY_INFO!C135))","v":"QUELA"},{"$f":"IF(INTRO!$E$43=\"Non endémique\", 0, IF(COUNTRY_INFO!$K135>0, IF(COUNTRY_INFO!$K135=4, 0, IF(COUNTRY_INFO!$K135=1, COUNTRY_INFO!$F135*0.33, IF(COUNTRY_INFO!$K135=2, COUNTRY_INFO!$F135*0.5, COUNTRY_INFO!$F135))), 0))","v":3339},{"$f":"IF(INTRO!$E$43=\"Non endémique\", 0, IF(COUNTRY_INFO!$K135>0, IF(COUNTRY_INFO!$K135=4, 0, IF(COUNTRY_INFO!$K135=1, 0, IF(COUNTRY_INFO!$K135=2, COUNTRY_INFO!$G135*0.2, COUNTRY_INFO!$G135))), 0))","v":2522.6000000000004},5861.6,{"$f":"IF(INTRO!$E$43=\"Non endémique\", \"Non requis\", COUNTRY_INFO!T135)","v":0},null,{"$f":"IF($D135=0,0,IF(AND($G135>0,$H135<>\"Oui\"),D135,IF(AND($G135>0,$H135=\"Oui\"),COUNTRY_INFO!$F135,0)))","v":0},null,0,0,0,0,0,null,0,0]
[{"$f":"IF(INTRO!$E$43=\"Non endémique\",\" \", IF(COUNTRY_INFO!A136=0,\" \",COUNTRY_INFO!A136))","v":"Angola"},{"$f":"IF(INTRO!$E$43=\"Non endémique\",\" \", IF(COUNTRY_INFO!B136=0,\" \",COUNTRY_INFO!B136))","v":"MALANGE"},{"$f":"IF(INTRO!$E$43=\"Non endémique\",\" \", IF(COUNTRY_INFO!C136=0,\" \",COUNTRY_INFO!C136))","v":"QUIRIMA"},{"$f":"IF(INTRO!$E$43=\"Non endémique\", 0, IF(COUNTRY_INFO!$K136>0, IF(COUNTRY_INFO!$K136=4, 0, IF(COUNTRY_INFO!$K136=1, COUNTRY_INFO!$F136*0.33, IF(COUNTRY_INFO!$K136=2, COUNTRY_INFO!$F136*0.5, COUNTRY_INFO!$F136))), 0))","v":3368.5},{"$f":"IF(INTRO!$E$43=\"Non endémique\", 0, IF(COUNTRY_INFO!$K136>0, IF(COUNTRY_INFO!$K136=4, 0, IF(COUNTRY_INFO!$K136=1, 0, IF(COUNTRY_INFO!$K136=2, COUNTRY_INFO!$G136*0.2, COUNTRY_INFO!$G136))), 0))","v":2545},5913.5,{"$f":"IF(INTRO!$E$43=\"Non endémique\", \"Non requis\", COUNTRY_INFO!T136)","v":0},null,{"$f":"IF($D136=0,0,IF(AND($G136>0,$H136<>\"Oui\"),D136,IF(AND($G136>0,$H136=\"Oui\"),COUNTRY_INFO!$F136,0)))","v":0},null,0,0,0,0,0,null,0,0]
[{"$f":"IF(INTRO!$E$43=\"Non endémique\",\" \", IF(COUNTRY_INFO!A137=0,\" \",COUNTRY_INFO!A137))","v":"Angola"},{"$f":"IF(INTRO!$E$43=\"Non endémique\",\" \", IF(COUNTRY_INFO!B137=0,\" \",COUNTRY_INFO!B137))","v":"MOXICO"},{"$f":"IF(INTRO!$E$43=\"Non endémique\",\" \", IF(COUNTRY_INFO!C137=0,\" \",COUNTRY_INFO!C137))","v":"ALTO ZAMBEZE"},{"$f":"IF(INTRO!$E$43=\"Non endémique\", 0, IF(COUNTRY_INFO!$K137>0, IF(COUNTRY_INFO!$K137=4, 0, IF(COUNTRY_INFO!$K137=1, COUNTRY_INFO!$F137*0.33, IF(COUNTRY_INFO!$K137=2, COUNTRY_INFO!$F137*0.5, COUNTRY_INFO!$F137))), 0))","v":2303},{"$f":"IF(INTRO!$E$43=\"Non endémique\", 0, IF(COUNTRY_INFO!$K137>0, IF(COUNTRY_INFO!$K137=4, 0, IF(COUNTRY_INFO!$K137=1, 0, IF(COUNTRY_INFO!$K137=2, COUNTRY_INFO!$G137*0.2, COUNTRY_INFO!$G137))), 0))","v":1740.2},{"$f":"SUM(D137:E137)","v":4043.2},{"$f":"IF(INTRO!$E$43=\"Non endémique\", \"Non requis\", COUNTRY_INFO!T137)","v":0},null,{"$f":"IF($D137=0,0,IF(AND($G137>0,$H137<>\"Oui\"),D137,IF(AND($G137>0,$H137=\"Oui\"),COUNTRY_INFO!$F137,0)))","v":0},null,{"$f":"IF($G137>0,E137, 0)","v":0},{"$f":"IF($J137=0,SUM(I137,K137),SUM(J137,K137))","v":0},{"$f":"IF($J137=0,$I137*2.5,$J137*2.5)","v":0},{"$f":"$K137*3","v":0},{"$f":"M137","v":0},null,{"$f":"IF($O137>$P137,O137-P137,0)","v":0},{"$f":"ROUNDUP($O137/1000,0)","v":0}]
[{"$f":"IF(INTRO!$E$43=\"Non endémique\",\" \", IF(COUNTRY_INFO!A138=0,\" \",COUNTRY_INFO!A138))","v":"Angola"},{"$f":"IF(INTRO!$E$43=\"Non endémique\",\" \", IF(COUNTRY_INFO!B138=0,\" \",COUNTRY_INFO!B138))","v":"MOXICO"},{"$f":"IF(INTRO!$E$43=\"Non endémique\",\" \", IF(COUNTRY_INFO!C138=0,\" \",COUNTRY_INFO!C138))","v":"CAMANONGUE"},{"$f":"IF(INTRO!$E$43=\"Non endémique\", 0, IF(COUNTRY_INFO!$K138>0, IF(COUNTRY_INFO!$K138=4, 0, IF(COUNTRY_INFO!$K138=1, COUNTRY_INFO!$F138*0.33, IF(COUNTRY_INFO!$K138=2, COUNTRY_INFO!$F138*0.5, COUNTRY_INFO!$F138))), 0))","v":5445.5},{"$f":"IF(INTRO!$E$43=\"Non endémique\", 0, IF(COUNTRY_INFO!$K138>0, IF(COUNTRY_INFO!$K138=4, 0, IF(COUNTRY_INFO!$K138=1, 0, IF(COUNTRY_INFO!$K138=2, COUNTRY_INFO!$G138*0.2, COUNTRY_INFO!$G138))), 0))","v":4114.2},9559.7000000000007,{"$f":"IF(INTRO!$E$43=\"Non endémique\", \"Non requis\", COUNTRY_INFO!T138)","v":0},null,{"$f":"IF($D138=0,0,IF(AND($G138>0,$H138<>\"Oui\"),D138,IF(AND($G138>0,$H138=\"Oui\"),COUNTRY_INFO!$F138,0)))","v":0},null,0,0,0,0,0,null,0,0]
[{"$f":"IF(INTRO!$E$43=\"Non endémique\",\" \", IF(COUNTRY_INFO!A139=0,\" \",COUNTRY_INFO!A139))","v":"Angola"},{"$f":"IF(INTRO!$E$43=\"Non endémique\",\" \", IF(COUNTRY_INFO!B139=0,\" \",COUNTRY_INFO!B139))","v":"MOXICO"},{"$f":"IF(INTRO!$E$43=\"Non endémique\",\" \", IF(COUNTRY_INFO!C139=0,\" \",COUNTRY_INFO!C139))","v":"LEUA"},{"$f":"IF(INTRO!$E$43=\"Non endémique\", 0, IF(COUNTRY_INFO!$K139>0, IF(COUNTRY_INFO!$K139=4, 0, IF(COUNTRY_INFO!$K139=1, COUNTRY_INFO!$F139*0.33, IF(COUNTRY_INFO!$K139=2, COUNTRY_INFO!$F139*0.5, COUNTRY_INFO!$F139))), 0))","v":2956.5},{"$f":"IF(INTRO!$E$43=\"Non endémique\", 0, IF(COUNTRY_INFO!$K139>0, IF(COUNTRY_INFO!$K139=4, 0, IF(COUNTRY_INFO!$K139=1, 0, IF(COUNTRY_INFO!$K139=2, COUNTRY_INFO!$G139*0.2, COUNTRY_INFO!$G139))), 0))","v":2234},5190.5,{"$f":"IF(INTRO!$E$43=\"Non endémique\", \"Non requis\", COUNTRY_INFO!T139)","v":0},null,{"$f":"IF($D139=0,0,IF(AND($G139>0,$H139<>\"Oui\"),D139,IF(AND($G139>0,$H139=\"Oui\"),COUNTRY_INFO!$F139,0)))","v":0},null,0,0,0,0,0,null,0,0]
[{"$f":"IF(INTRO!$E$43=\"Non endémique\",\" \", IF(COUNTRY_INFO!A140=0,\" \",COUNTRY_INFO!A140))","v":"Angola"},{"$f":"IF(INTRO!$E$43=\"Non endémique\",\" \", IF(COUNTRY_INFO!B140=0,\" \",COUNTRY_INFO!B140))","v":"MOXICO"},{"$f":"IF(INTRO!$E$43=\"Non endémique\",\" \", IF(COUNTRY_INFO!C140=0,\" \",COUNTRY_INFO!C140))","v":"LUACANO"},{"$f":"IF(INTRO!$E$43=\"Non endémique\", 0, IF(COUNTRY_INFO!$K140>0, IF(COUNTRY_INFO!$K140=4, 0, IF(COUNTRY_INFO!$K140=1, COUNTRY_INFO!$F140*0.33, IF(COUNTRY_INFO!$K140=2, COUNTRY_INFO!$F140*0.5, COUNTRY_INFO!$F140))), 0))","v":2216.5},{"$f":"IF(INTRO!$E$43=\"Non endémique\", 0, IF(COUNTRY_INFO!$K140>0, IF(COUNTRY_INFO!$K140=4, 0, IF(COUNTRY_INFO!$K140=1, 0, IF(COUNTRY_INFO!$K140=2, COUNTRY_INFO!$G140*0.2, COUNTRY_INFO!$G140))), 0))","v":1674.6000000000001},3891.1000000000004,{"$f":"IF(INTRO!$E$43=\"Non endémique\", \"Non requis\", COUNTRY_INFO!T140)","v":0},null,{"$f":"IF($D140=0,0,IF(AND($G140>0,$H140<>\"Oui\"),D140,IF(AND($G140>0,$H140=\"Oui\"),COUNTRY_INFO!$F140,0)))","v":0},null,0,0,0,0,0,null,0,0]
[{"$f":"IF(INTRO!$E$43=\"Non endémique\",\" \", IF(COUNTRY_INFO!A141=0,\" \",COUNTRY_INFO!A141))","v":"Angola"},{"$f":"IF(INTRO!$E$43=\"Non endémique\",\" \", IF(COUNTRY_INFO!B141=0,\" \",COUNTRY_INFO!B141))","v":"MOXICO"},{"$f":"IF(INTRO!$E$43=\"Non endémique\",\" \", IF(COUNTRY_INFO!C141=0,\" \",COUNTRY_INFO!C141))","v":"LUAU"},{"$f":"IF(INTRO!$E$43=\"Non endémique\", 0, IF(COUNTRY_INFO!$K141>0, IF(COUNTRY_INFO!$K141=4, 0, IF(COUNTRY_INFO!$K141=1, COUNTRY_INFO!$F141*0.33, IF(COUNTRY_INFO!$K141=2, COUNTRY_INFO!$F141*0.5, COUNTRY_INFO!$F141))), 0))","v":31931.5},{"$f":"IF(INTRO!$E$43=\"Non endémique\", 0, IF(COUNTRY_INFO!$K141>0, IF(COUNTRY_INFO!$K141=4, 0, IF(COUNTRY_INFO!$K141=1, 0, IF(COUNTRY_INFO!$K141=2, COUNTRY_INFO!$G141*0.2, COUNTRY_INFO!$G141))), 0))","v":24126.2},56057.7,{"$f":"IF(INTRO!$E$43=\"Non endémique\", \"Non requis\", COUNTRY_INFO!T141)","v":0},null,{"$f":"IF($D141=0,0,IF(AND($G141>0,$H141<>\"Oui\"),D141,IF(AND($G141>0,$H141=\"Oui\"),COUNTRY_INFO!$F141,0)))","v":0},null,0,0,0,0,0,null,0,0]
[{"$f":"IF(INTRO!$E$43=\"Non endémique\",\" \", IF(COUNTRY_INFO!A142=0,\" \",COUNTRY_INFO!A142))","v":"Angola"},{"$f":"IF(INTRO!$E$43=\"Non endémique\",\" \", IF(COUNTRY_INFO!B142=0,\" \",COUNTRY_INFO!B142))","v":"MOXICO"},{"$f":"IF(INTRO!$E$43=\"Non endémique\",\" \", IF(COUNTRY_INFO!C142=0,\" \",COUNTRY_INFO!C142))","v":"LUCHAZES"},{"$f":"IF(INTRO!$E$43=\"Non endémique\", 0, IF(COUNTRY_INFO!$K142>0, IF(COUNTRY_INFO!$K142=4, 0, IF(COUNTRY_INFO!$K142=1, COUNTRY_INFO!$F142*0.33, IF(COUNTRY_INFO!$K142=2, COUNTRY_INFO!$F142*0.5, COUNTRY_INFO!$F142))), 0))","v":11076},{"$f":"IF(INTRO!$E$43=\"Non endémique\", 0, IF(COUNTRY_INFO!$K142>0, IF(COUNTRY_INFO!$K142=4, 0, IF(COUNTRY_INFO!$K142=1, 0, IF(COUNTRY_INFO!$K142=2, COUNTRY_INFO!$G142*0.2, COUNTRY_INFO!$G142))), 0))","v":8368.6},19444.599999999999,{"$f":"IF(INTRO!$E$43=\"Non endémique\", \"Non requis\", COUNTRY_INFO!T142)","v":0},null,{"$f":"IF($D142=0,0,IF(AND($G142>0,$H142<>\"Oui\"),D142,IF(AND($G142>0,$H142=\"Oui\"),COUNTRY_INFO!$F142,0)))","v":0},null,0,0,0,0,0,null,0,0]
[{"$f":"IF(INTRO!$E$43=\"Non endémique\",\" \", IF(COUNTRY_INFO!A143=0,\" \",COUNTRY_INFO!A143))","v":"Angola"},{"$f":"IF(INTRO!$E$43=\"Non endémique\",\" \", IF(COUNTRY_INFO!B143=0,\" \",COUNTRY_INFO!B143))","v":"MOXICO"},{"$f":"IF(INTRO!$E$43=\"Non endémique\",\" \", IF(COUNTRY_INFO!C143=0,\" \",COUNTRY_INFO!C143))","v":"LUMBALA NGUIMBO"},{"$f":"IF(INTRO!$E$43=\"Non endémique\", 0, IF(COUNTRY_INFO!$K143>0, IF(COUNTRY_INFO!$K143=4, 0, IF(COUNTRY_INFO!$K143=1, COUNTRY_INFO!$F143*0.33, IF(COUNTRY_INFO!$K143=2, COUNTRY_INFO!$F143*0.5, COUNTRY_INFO!$F143))), 0))","v":4698},{"$f":"IF(INTRO!$E$43=\"Non endémique\", 0, IF(COUNTRY_INFO!$K143>0, IF(COUNTRY_INFO!$K143=4, 0, IF(COUNTRY_INFO!$K143=1, 0, IF(COUNTRY_INFO!$K143=2, COUNTRY_INFO!$G143*0.2, COUNTRY_INFO!$G143))), 0))","v":3549.4},8247.4,{"$f":"IF(INTRO!$E$43=\"Non endémique\", \"Non requis\", COUNTRY_INFO!T143)","v":0},null,{"$f":"IF($D143=0,0,IF(AND($G143>0,$H143<>\"Oui\"),D143,IF(AND($G143>0,$H143=\"Oui\"),COUNTRY_INFO!$F143,0)))","v":0},null,0,0,0,0,0,null,0,0]
[{"$f":"IF(INTRO!$E$43=\"Non endémique\",\" \", IF(COUNTRY_INFO!A144=0,\" \",COUNTRY_INFO!A144))","v":"Angola"},{"$f":"IF(INTRO!$E$43=\"Non endémique\",\" \", IF(COUNTRY_INFO!B144=0,\" \",COUNTRY_INFO!B144))","v":"MOXICO"},{"$f":"IF(INTRO!$E$43=\"Non endémique\",\" \", IF(COUNTRY_INFO!C144=0,\" \",COUNTRY_INFO!C144))","v":"LUMEJE"},{"$f":"IF(INTRO!$E$43=\"Non endémique\", 0, IF(COUNTRY_INFO!$K144>0, IF(COUNTRY_INFO!$K144=4, 0, IF(COUNTRY_INFO!$K144=1, COUNTRY_INFO!$F144*0.33, IF(COUNTRY_INFO!$K144=2, COUNTRY_INFO!$F144*0.5, COUNTRY_INFO!$F144))), 0))","v":3308},{"$f":"IF(INTRO!$E$43=\"Non endémique\", 0, IF(COUNTRY_INFO!$K144>0, IF(COUNTRY_INFO!$K144=4, 0, IF(COUNTRY_INFO!$K144=1, 0, IF(COUNTRY_INFO!$K144=2, COUNTRY_INFO!$G144*0.2, COUNTRY_INFO!$G144))), 0))","v":2499.2000000000003},5807.2000000000007,{"$f":"IF(INTRO!$E$43=\"Non endémique\", \"Non requis\", COUNTRY_INFO!T144)","v":0},null,{"$f":"IF($D144=0,0,IF(AND($G144>0,$H144<>\"Oui\"),D144,IF(AND($G144>0,$H144=\"Oui\"),COUNTRY_INFO!$F144,0)))","v":0},null,0,0,0,0,0,null,0,0]
[{"$f":"IF(INTRO!$E$43=\"Non endémique\",\" \", IF(COUNTRY_INFO!A145=0,\" \",COUNTRY_INFO!A145))","v":"Angola"},{"$f":"IF(INTRO!$E$43=\"Non endémique\",\" \", IF(COUNTRY_INFO!B145=0,\" \",COUNTRY_INFO!B145))","v":"MOXICO"},{"$f":"IF(INTRO!$E$43=\"Non endémique\",\" \", IF(COUNTRY_INFO!C145=0,\" \",COUNTRY_INFO!C145))","v":"MOXICO / LUENA"},{"$f":"IF(INTRO!$E$43=\"Non endémique\", 0, IF(COUNTRY_INFO!$K145>0, IF(COUNTRY_INFO!$K145=4, 0, IF(COUNTRY_INFO!$K145=1, COUNTRY_INFO!$F145*0.33, IF(COUNTRY_INFO!$K145=2, COUNTRY_INFO!$F145*0.5, COUNTRY_INFO!$F145))), 0))","v":56963.5},{"$f":"IF(INTRO!$E$43=\"Non endémique\", 0, IF(COUNTRY_INFO!$K145>0, IF(COUNTRY_INFO!$K145=4, 0, IF(COUNTRY_INFO!$K145=1, 0, IF(COUNTRY_INFO!$K145=2, COUNTRY_INFO!$G145*0.2, COUNTRY_INFO!$G145))), 0))","v":43039},100002.5,{"$f":"IF(INTRO!$E$43=\"Non endémique\", \"Non requis\", COUNTRY_INFO!T145)","v":0},null,{"$f":"IF($D145=0,0,IF(AND($G145>0,$H145<>\"Oui\"),D145,IF(AND($G145>0,$H145=\"Oui\"),COUNTRY_INFO!$F145,0)))","v":0},null,0,0,0,0,0,null,0,0]
[{"$f":"IF(INTRO!$E$43=\"Non endémique\",\" \", IF(COUNTRY_INFO!A146=0,\" \",COUNTRY_INFO!A146))","v":"Angola"},{"$f":"IF(INTRO!$E$43=\"Non endémique\",\" \", IF(COUNTRY_INFO!B146=0,\" \",COUNTRY_INFO!B146))","v":"NAMIBE"},{"$f":"IF(INTRO!$E$43=\"Non endémique\",\" \", IF(COUNTRY_INFO!C146=0,\" \",COUNTRY_INFO!C146))","v":"BIBALA"},{"$f":"IF(INTRO!$E$43=\"Non endémique\", 0, IF(COUNTRY_INFO!$K146>0, IF(COUNTRY_INFO!$K146=4, 0, IF(COUNTRY_INFO!$K146=1, COUNTRY_INFO!$F146*0.33, IF(COUNTRY_INFO!$K146=2, COUNTRY_INFO!$F146*0.5, COUNTRY_INFO!$F146))), 0))","v":10280.5},{"$f":"IF(INTRO!$E$43=\"Non endémique\", 0, IF(COUNTRY_INFO!$K146>0, IF(COUNTRY_INFO!$K146=4, 0, IF(COUNTRY_INFO!$K146=1, 0, IF(COUNTRY_INFO!$K146=2, COUNTRY_INFO!$G146*0.2, COUNTRY_INFO!$G146))), 0))","v":7767.4000000000005},18047.900000000001,{"$f":"IF(INTRO!$E$43=\"Non endémique\", \"Non requis\", COUNTRY_INFO!T146)","v":1},null,{"$f":"IF($D146=0,0,IF(AND($G146>0,$H146<>\"Oui\"),D146,IF(AND($G146>0,$H146=\"Oui\"),COUNTRY_INFO!$F146,0)))","v":10280.5},null,7767.4000000000005,18047.900000000001,25701.25,23302.2,25701.25,null,25701.25,26]
[{"$f":"IF(INTRO!$E$43=\"Non endémique\",\" \", IF(COUNTRY_INFO!A147=0,\" \",COUNTRY_INFO!A147))","v":"Angola"},{"$f":"IF(INTRO!$E$43=\"Non endémique\",\" \", IF(COUNTRY_INFO!B147=0,\" \",COUNTRY_INFO!B147))","v":"NAMIBE"},{"$f":"IF(INTRO!$E$43=\"Non endémique\",\" \", IF(COUNTRY_INFO!C147=0,\" \",COUNTRY_INFO!C147))","v":"CAMUCUIO"},{"$f":"IF(INTRO!$E$43=\"Non endémique\", 0, IF(COUNTRY_INFO!$K147>0, IF(COUNTRY_INFO!$K147=4, 0, IF(COUNTRY_INFO!$K147=1, COUNTRY_INFO!$F147*0.33, IF(COUNTRY_INFO!$K147=2, COUNTRY_INFO!$F147*0.5, COUNTRY_INFO!$F147))), 0))","v":8024.5},{"$f":"IF(INTRO!$E$43=\"Non endémique\", 0, IF(COUNTRY_INFO!$K147>0, IF(COUNTRY_INFO!$K147=4, 0, IF(COUNTRY_INFO!$K147=1, 0, IF(COUNTRY_INFO!$K147=2, COUNTRY_INFO!$G147*0.2, COUNTRY_INFO!$G147))), 0))","v":6063},14087.5,{"$f":"IF(INTRO!$E$43=\"Non endémique\", \"Non requis\", COUNTRY_INFO!T147)","v":1},null,{"$f":"IF($D147=0,0,IF(AND($G147>0,$H147<>\"Oui\"),D147,IF(AND($G147>0,$H147=\"Oui\"),COUNTRY_INFO!$F147,0)))","v":8024.5},null,6063,14087.5,20061.25,18189,20061.25,null,20061.25,21]
[{"$f":"IF(INTRO!$E$43=\"Non endémique\",\" \", IF(COUNTRY_INFO!A148=0,\" \",COUNTRY_INFO!A148))","v":"Angola"},{"$f":"IF(INTRO!$E$43=\"Non endémique\",\" \", IF(COUNTRY_INFO!B148=0,\" \",COUNTRY_INFO!B148))","v":"NAMIBE"},{"$f":"IF(INTRO!$E$43=\"Non endémique\",\" \", IF(COUNTRY_INFO!C148=0,\" \",COUNTRY_INFO!C148))","v":"NAMIBE"},{"$f":"IF(INTRO!$E$43=\"Non endémique\", 0, IF(COUNTRY_INFO!$K148>0, IF(COUNTRY_INFO!$K148=4, 0, IF(COUNTRY_INFO!$K148=1, COUNTRY_INFO!$F148*0.33, IF(COUNTRY_INFO!$K148=2, COUNTRY_INFO!$F148*0.5, COUNTRY_INFO!$F148))), 0))","v":46623.5},{"$f":"IF(INTRO!$E$43=\"Non endémique\", 0, IF(COUNTRY_INFO!$K148>0, IF(COUNTRY_INFO!$K148=4, 0, IF(COUNTRY_INFO!$K148=1, 0, IF(COUNTRY_INFO!$K148=2, COUNTRY_INFO!$G148*0.2, COUNTRY_INFO!$G148))), 0))","v":35226.6},81850.100000000006,{"$f":"IF(INTRO!$E$43=\"Non endémique\", \"Non requis\", COUNTRY_INFO!T148)","v":1},null,{"$f":"IF($D148=0,0,IF(AND($G148>0,$H148<>\"Oui\"),D148,IF(AND($G148>0,$H148=\"Oui\"),COUNTRY_INFO!$F148,0)))","v":46623.5},null,35226.6,81850.100000000006,116558.75,105679.79999999999,116558.75,null,116558.75,117]
[{"$f":"IF(INTRO!$E$43=\"Non endémique\",\" \", IF(COUNTRY_INFO!A149=0,\" \",COUNTRY_INFO!A149))","v":"Angola"},{"$f":"IF(INTRO!$E$43=\"Non endémique\",\" \", IF(COUNTRY_INFO!B149=0,\" \",COUNTRY_INFO!B149))","v":"NAMIBE"},{"$f":"IF(INTRO!$E$43=\"Non endémique\",\" \", IF(COUNTRY_INFO!C149=0,\" \",COUNTRY_INFO!C149))","v":"TOMBUA"},{"$f":"IF(INTRO!$E$43=\"Non endémique\", 0, IF(COUNTRY_INFO!$K149>0, IF(COUNTRY_INFO!$K149=4, 0, IF(COUNTRY_INFO!$K149=1, COUNTRY_INFO!$F149*0.33, IF(COUNTRY_INFO!$K149=2, COUNTRY_INFO!$F149*0.5, COUNTRY_INFO!$F149))), 0))","v":8844.5},{"$f":"IF(INTRO!$E$43=\"Non endémique\", 0, IF(COUNTRY_INFO!$K149>0, IF(COUNTRY_INFO!$K149=4, 0, IF(COUNTRY_INFO!$K149=1, 0, IF(COUNTRY_INFO!$K149=2, COUNTRY_INFO!$G149*0.2, COUNTRY_INFO!$G149))), 0))","v":6682.4000000000005},15526.900000000001,{"$f":"IF(INTRO!$E$43=\"Non endémique\", \"Non requis\", COUNTRY_INFO!T149)","v":1},null,{"$f":"IF($D149=0,0,IF(AND($G149>0,$H149<>\"Oui\"),D149,IF(AND($G149>0,$H149=\"Oui\"),COUNTRY_INFO!$F149,0)))","v":8844.5},null,6682.4000000000005,15526.900000000001,22111.25,20047.2,22111.25,null,22111.25,23]
[{"$f":"IF(INTRO!$E$43=\"Non endémique\",\" \", IF(COUNTRY_INFO!A150=0,\" \",COUNTRY_INFO!A150))","v":"Angola"},{"$f":"IF(INTRO!$E$43=\"Non endémique\",\" \", IF(COUNTRY_INFO!B150=0,\" \",COUNTRY_INFO!B150))","v":"NAMIBE"},{"$f":"IF(INTRO!$E$43=\"Non endémique\",\" \", IF(COUNTRY_INFO!C150=0,\" \",COUNTRY_INFO!C150))","v":"VIREI"},{"$f":"IF(INTRO!$E$43=\"Non endémique\", 0, IF(COUNTRY_INFO!$K150>0, IF(COUNTRY_INFO!$K150=4, 0, IF(COUNTRY_INFO!$K150=1, COUNTRY_INFO!$F150*0.33, IF(COUNTRY_INFO!$K150=2, COUNTRY_INFO!$F150*0.5, COUNTRY_INFO!$F150))), 0))","v":5171},{"$f":"IF(INTRO!$E$43=\"Non endémique\", 0, IF(COUNTRY_INFO!$K150>0, IF(COUNTRY_INFO!$K150=4, 0, IF(COUNTRY_INFO!$K150=1, 0, IF(COUNTRY_INFO!$K150=2, COUNTRY_INFO!$G150*0.2, COUNTRY_INFO!$G150))), 0))","v":3907},9078,{"$f":"IF(INTRO!$E$43=\"Non endémique\", \"Non requis\", COUNTRY_INFO!T150)","v":1},null,{"$f":"IF($D150=0,0,IF(AND($G150>0,$H150<>\"Oui\"),D150,IF(AND($G150>0,$H150=\"Oui\"),COUNTRY_INFO!$F150,0)))","v":5171},null,3907,9078,12927.5,11721,12927.5,null,12927.5,13]
[{"$f":"IF(INTRO!$E$43=\"Non endémique\",\" \", IF(COUNTRY_INFO!A151=0,\" \",COUNTRY_INFO!A151))","v":"Angola"},{"$f":"IF(INTRO!$E$43=\"Non endémique\",\" \", IF(COUNTRY_INFO!B151=0,\" \",COUNTRY_INFO!B151))","v":"UIGE"},{"$f":"IF(INTRO!$E$43=\"Non endémique\",\" \", IF(COUNTRY_INFO!C151=0,\" \",COUNTRY_INFO!C151))","v":"AMBUILA"},{"$f":"IF(INTRO!$E$43=\"Non endémique\", 0, IF(COUNTRY_INFO!$K151>0, IF(COUNTRY_INFO!$K151=4, 0, IF(COUNTRY_INFO!$K151=1, COUNTRY_INFO!$F151*0.33, IF(COUNTRY_INFO!$K151=2, COUNTRY_INFO!$F151*0.5, COUNTRY_INFO!$F151))), 0))","v":2887.5},{"$f":"IF(INTRO!$E$43=\"Non endémique\", 0, IF(COUNTRY_INFO!$K151>0, IF(COUNTRY_INFO!$K151=4, 0, IF(COUNTRY_INFO!$K151=1, 0, IF(COUNTRY_INFO!$K151=2, COUNTRY_INFO!$G151*0.2, COUNTRY_INFO!$G151))), 0))","v":2181.6},5069.1000000000004,{"$f":"IF(INTRO!$E$43=\"Non endémique\", \"Non requis\", COUNTRY_INFO!T151)","v":0},null,{"$f":"IF($D151=0,0,IF(AND($G151>0,$H151<>\"Oui\"),D151,IF(AND($G151>0,$H151=\"Oui\"),COUNTRY_INFO!$F151,0)))","v":0},null,0,0,0,0,0,null,0,0]
[{"$f":"IF(INTRO!$E$43=\"Non endémique\",\" \", IF(COUNTRY_INFO!A152=0,\" \",COUNTRY_INFO!A152))","v":"Angola"},{"$f":"IF(INTRO!$E$43=\"Non endémique\",\" \", IF(COUNTRY_INFO!B152=0,\" \",COUNTRY_INFO!B152))","v":"UIGE"},{"$f":"IF(INTRO!$E$43=\"Non endémique\",\" \", IF(COUNTRY_INFO!C152=0,\" \",COUNTRY_INFO!C152))","v":"BEMBE"},{"$f":"IF(INTRO!$E$43=\"Non endémique\", 0, IF(COUNTRY_INFO!$K152>0, IF(COUNTRY_INFO!$K152=4, 0, IF(COUNTRY_INFO!$K152=1, COUNTRY_INFO!$F152*0.33, IF(COUNTRY_INFO!$K152=2, COUNTRY_INFO!$F152*0.5, COUNTRY_INFO!$F152))), 0))","v":5252.5},{"$f":"IF(INTRO!$E$43=\"Non endémique\", 0, IF(COUNTRY_INFO!$K152>0, IF(COUNTRY_INFO!$K152=4, 0, IF(COUNTRY_INFO!$K152=1, 0, IF(COUNTRY_INFO!$K152=2, COUNTRY_INFO!$G152*0.2, COUNTRY_INFO!$G152))), 0))","v":3968.4},9220.9,{"$f":"IF(INTRO!$E$43=\"Non endémique\", \"Non requis\", COUNTRY_INFO!T152)","v":0},null,{"$f":"IF($D152=0,0,IF(AND($G152>0,$H152<>\"Oui\"),D152,IF(AND($G152>0,$H152=\"Oui\"),COUNTRY_INFO!$F152,0)))","v":0},null,0,0,0,0,0,null,0,0]
[{"$f":"IF(INTRO!$E$43=\"Non endémique\",\" \", IF(COUNTRY_INFO!A153=0,\" \",COUNTRY_INFO!A153))","v":"Angola"},{"$f":"IF(INTRO!$E$43=\"Non endémique\",\" \", IF(COUNTRY_INFO!B153=0,\" \",COUNTRY_INFO!B153))","v":"UIGE"},{"$f":"IF(INTRO!$E$43=\"Non endémique\",\" \", IF(COUNTRY_INFO!C153=0,\" \",COUNTRY_INFO!C153))","v":"BUENGAS"},{"$f":"IF(INTRO!$E$43=\"Non endémique\", 0, IF(COUNTRY_INFO!$K153>0, IF(COUNTRY_INFO!$K153=4, 0, IF(COUNTRY_INFO!$K153=1, COUNTRY_INFO!$F153*0.33, IF(COUNTRY_INFO!$K153=2, COUNTRY_INFO!$F153*0.5, COUNTRY_INFO!$F153))), 0))","v":6021.84},{"$f":"IF(INTRO!$E$43=\"Non endémique\", 0, IF(COUNTRY_INFO!$K153>0, IF(COUNTRY_INFO!$K153=4, 0, IF(COUNTRY_INFO!$K153=1, 0, IF(COUNTRY_INFO!$K153=2, COUNTRY_INFO!$G153*0.2, COUNTRY_INFO!$G153))), 0))","v":0},6021.84,{"$f":"IF(INTRO!$E$43=\"Non endémique\", \"Non requis\", COUNTRY_INFO!T153)","v":0},null,{"$f":"IF($D153=0,0,IF(AND($G153>0,$H153<>\"Oui\"),D153,IF(AND($G153>0,$H153=\"Oui\"),COUNTRY_INFO!$F153,0)))","v":0},null,0,0,0,0,0,null,0,0]
[{"$f":"IF(INTRO!$E$43=\"Non endémique\",\" \", IF(COUNTRY_INFO!A154=0,\" \",COUNTRY_INFO!A154))","v":"Angola"},{"$f":"IF(INTRO!$E$43=\"Non endémique\",\" \", IF(COUNTRY_INFO!B154=0,\" \",COUNTRY_INFO!B154))","v":"UIGE"},{"$f":"IF(INTRO!$E$43=\"Non endémique\",\" \", IF(COUNTRY_INFO!C154=0,\" \",COUNTRY_INFO!C154))","v":"BUNGO"},{"$f":"IF(INTRO!$E$43=\"Non endémique\", 0, IF(COUNTRY_INFO!$K154>0, IF(COUNTRY_INFO!$K154=4, 0, IF(COUNTRY_INFO!$K154=1, COUNTRY_INFO!$F154*0.33, IF(COUNTRY_INFO!$K154=2, COUNTRY_INFO!$F154*0.5, COUNTRY_INFO!$F154))), 0))","v":5921.5},{"$f":"IF(INTRO!$E$43=\"Non endémique\", 0, IF(COUNTRY_INFO!$K154>0, IF(COUNTRY_INFO!$K154=4, 0, IF(COUNTRY_INFO!$K154=1, 0, IF(COUNTRY_INFO!$K154=2, COUNTRY_INFO!$G154*0.2, COUNTRY_INFO!$G154))), 0))","v":4474},10395.5,{"$f":"IF(INTRO!$E$43=\"Non endémique\", \"Non requis\", COUNTRY_INFO!T154)","v":0},null,{"$f":"IF($D154=0,0,IF(AND($G154>0,$H154<>\"Oui\"),D154,IF(AND($G154>0,$H154=\"Oui\"),COUNTRY_INFO!$F154,0)))","v":0},null,0,0,0,0,0,null,0,0]
[{"$f":"IF(INTRO!$E$43=\"Non endémique\",\" \", IF(COUNTRY_INFO!A155=0,\" \",COUNTRY_INFO!A155))","v":"Angola"},{"$f":"IF(INTRO!$E$43=\"Non endémique\",\" \", IF(COUNTRY_INFO!B155=0,\" \",COUNTRY_INFO!B155))","v":"UIGE"},{"$f":"IF(INTRO!$E$43=\"Non endémique\",\" \", IF(COUNTRY_INFO!C155=0,\" \",COUNTRY_INFO!C155))","v":"CANGOLA"},{"$f":"IF(INTRO!$E$43=\"Non endémique\", 0, IF(COUNTRY_INFO!$K155>0, IF(COUNTRY_INFO!$K155=4, 0, IF(COUNTRY_INFO!$K155=1, COUNTRY_INFO!$F155*0.33, IF(COUNTRY_INFO!$K155=2, COUNTRY_INFO!$F155*0.5, COUNTRY_INFO!$F155))), 0))","v":5650.92},{"$f":"IF(INTRO!$E$43=\"Non endémique\", 0, IF(COUNTRY_INFO!$K155>0, IF(COUNTRY_INFO!$K155=4, 0, IF(COUNTRY_INFO!$K155=1, 0, IF(COUNTRY_INFO!$K155=2, COUNTRY_INFO!$G155*0.2, COUNTRY_INFO!$G155))), 0))","v":0},5650.92,{"$f":"IF(INTRO!$E$43=\"Non endémique\", \"Non requis\", COUNTRY_INFO!T155)","v":0},null,{"$f":"IF($D155=0,0,IF(AND($G155>0,$H155<>\"Oui\"),D155,IF(AND($G155>0,$H155=\"Oui\"),COUNTRY_INFO!$F155,0)))","v":0},null,0,0,0,0,0,null,0,0]
[{"$f":"IF(INTRO!$E$43=\"Non endémique\",\" \", IF(COUNTRY_INFO!A156=0,\" \",COUNTRY_INFO!A156))","v":"Angola"},{"$f":"IF(INTRO!$E$43=\"Non endémique\",\" \", IF(COUNTRY_INFO!B156=0,\" \",COUNTRY_INFO!B156))","v":"UIGE"},{"$f":"IF(INTRO!$E$43=\"Non endémique\",\" \", IF(COUNTRY_INFO!C156=0,\" \",COUNTRY_INFO!C156))","v":"DAMBA"},{"$f":"IF(INTRO!$E$43=\"Non endémique\", 0, IF(COUNTRY_INFO!$K156>0, IF(COUNTRY_INFO!$K156=4, 0, IF(COUNTRY_INFO!$K156=1, COUNTRY_INFO!$F156*0.33, IF(COUNTRY_INFO!$K156=2, COUNTRY_INFO!$F156*0.5, COUNTRY_INFO!$F156))), 0))","v":6992.04},{"$f":"IF(INTRO!$E$43=\"Non endémique\", 0, IF(COUNTRY_INFO!$K156>0, IF(COUNTRY_INFO!$K156=4, 0, IF(COUNTRY_INFO!$K156=1, 0, IF(COUNTRY_INFO!$K156=2, COUNTRY_INFO!$G156*0.2, COUNTRY_INFO!$G156))), 0))","v":0},6992.04,{"$f":"IF(INTRO!$E$43=\"Non endémique\", \"Non requis\", COUNTRY_INFO!T156)","v":0},null,{"$f":"IF($D156=0,0,IF(AND($G156>0,$H156<>\"Oui\"),D156,IF(AND($G156>0,$H156=\"Oui\"),COUNTRY_INFO!$F156,0)))","v":0},null,0,0,0,0,0,null,0,0]
[{"$f":"IF(INTRO!$E$43=\"Non endémique\",\" \", IF(COUNTRY_INFO!A157=0,\" \",COUNTRY_INFO!A157))","v":"Angola"},{"$f":"IF(INTRO!$E$43=\"Non endémique\",\" \", IF(COUNTRY_INFO!B157=0,\" \",COUNTRY_INFO!B157))","v":"UIGE"},{"$f":"IF(INTRO!$E$43=\"Non endémique\",\" \", IF(COUNTRY_INFO!C157=0,\" \",COUNTRY_INFO!C157))","v":"MAQUELA DO ZOMBO"},{"$f":"IF(INTRO!$E$43=\"Non endémique\", 0, IF(COUNTRY_INFO!$K157>0, IF(COUNTRY_INFO!$K157=4, 0, IF(COUNTRY_INFO!$K157=1, COUNTRY_INFO!$F157*0.33, IF(COUNTRY_INFO!$K157=2, COUNTRY_INFO!$F157*0.5, COUNTRY_INFO!$F157))), 0))","v":13396.02},{"$f":"IF(INTRO!$E$43=\"Non endémique\", 0, IF(COUNTRY_INFO!$K157>0, IF(COUNTRY_INFO!$K157=4, 0, IF(COUNTRY_INFO!$K157=1, 0, IF(COUNTRY_INFO!$K157=2, COUNTRY_INFO!$G157*0.2, COUNTRY_INFO!$G157))), 0))","v":0},13396.02,{"$f":"IF(INTRO!$E$43=\"Non endémique\", \"Non requis\", COUNTRY_INFO!T157)","v":0},null,{"$f":"IF($D157=0,0,IF(AND($G157>0,$H157<>\"Oui\"),D157,IF(AND($G157>0,$H157=\"Oui\"),COUNTRY_INFO!$F157,0)))","v":0},null,0,0,0,0,0,null,0,0]
[{"$f":"IF(INTRO!$E$43=\"Non endémique\",\" \", IF(COUNTRY_INFO!A158=0,\" \",COUNTRY_INFO!A158))","v":"Angola"},{"$f":"IF(INTRO!$E$43=\"Non endémique\",\" \", IF(COUNTRY_INFO!B158=0,\" \",COUNTRY_INFO!B158))","v":"UIGE"},{"$f":"IF(INTRO!$E$43=\"Non endémique\",\" \", IF(COUNTRY_INFO!C158=0,\" \",COUNTRY_INFO!C158))","v":"MILUNGA"},{"$f":"IF(INTRO!$E$43=\"Non endémique\", 0, IF(COUNTRY_INFO!$K158>0, IF(COUNTRY_INFO!$K158=4, 0, IF(COUNTRY_INFO!$K158=1, COUNTRY_INFO!$F158*0.33, IF(COUNTRY_INFO!$K158=2, COUNTRY_INFO!$F158*0.5, COUNTRY_INFO!$F158))), 0))","v":5322.2400000000007},{"$f":"IF(INTRO!$E$43=\"Non endémique\", 0, IF(COUNTRY_INFO!$K158>0, IF(COUNTRY_INFO!$K158=4, 0, IF(COUNTRY_INFO!$K158=1, 0, IF(COUNTRY_INFO!$K158=2, COUNTRY_INFO!$G158*0.2, COUNTRY_INFO!$G158))), 0))","v":0},5322.2400000000007,{"$f":"IF(INTRO!$E$43=\"Non endémique\", \"Non requis\", COUNTRY_INFO!T158)","v":0},null,{"$f":"IF($D158=0,0,IF(AND($G158>0,$H158<>\"Oui\"),D158,IF(AND($G158>0,$H158=\"Oui\"),COUNTRY_INFO!$F158,0)))","v":0},null,0,0,0,0,0,null,0,0]
[{"$f":"IF(INTRO!$E$43=\"Non endémique\",\" \", IF(COUNTRY_INFO!A159=0,\" \",COUNTRY_INFO!A159))","v":"Angola"},{"$f":"IF(INTRO!$E$43=\"Non endémique\",\" \", IF(COUNTRY_INFO!B159=0,\" \",COUNTRY_INFO!B159))","v":"UIGE"},{"$f":"IF(INTRO!$E$43=\"Non endémique\",\" \", IF(COUNTRY_INFO!C159=0,\" \",COUNTRY_INFO!C159))","v":"MUCABA"},{"$f":"IF(INTRO!$E$43=\"Non endémique\", 0, IF(COUNTRY_INFO!$K159>0, IF(COUNTRY_INFO!$K159=4, 0, IF(COUNTRY_INFO!$K159=1, COUNTRY_INFO!$F159*0.33, IF(COUNTRY_INFO!$K159=2, COUNTRY_INFO!$F159*0.5, COUNTRY_INFO!$F159))), 0))","v":4625.6100000000006},{"$f":"IF(INTRO!$E$43=\"Non endémique\", 0, IF(COUNTRY_INFO!$K159>0, IF(COUNTRY_INFO!$K159=4, 0, IF(COUNTRY_INFO!$K159=1, 0, IF(COUNTRY_INFO!$K159=2, COUNTRY_INFO!$G159*0.2, COUNTRY_INFO!$G159))), 0))","v":0},4625.6100000000006,{"$f":"IF(INTRO!$E$43=\"Non endémique\", \"Non requis\", COUNTRY_INFO!T159)","v":0},null,{"$f":"IF($D159=0,0,IF(AND($G159>0,$H159<>\"Oui\"),D159,IF(AND($G159>0,$H159=\"Oui\"),COUNTRY_INFO!$F159,0)))","v":0},null,0,0,0,0,0,null,0,0]
[{"$f":"IF(INTRO!$E$43=\"Non endémique\",\" \", IF(COUNTRY_INFO!A160=0,\" \",COUNTRY_INFO!A160))","v":"Angola"},{"$f":"IF(INTRO!$E$43=\"Non endémique\",\" \", IF(COUNTRY_INFO!B160=0,\" \",COUNTRY_INFO!B160))","v":"UIGE"},{"$f":"IF(INTRO!$E$43=\"Non endémique\",\" \", IF(COUNTRY_INFO!C160=0,\" \",COUNTRY_INFO!C160))","v":"NEGAGE"},{"$f":"IF(INTRO!$E$43=\"Non endémique\", 0, IF(COUNTRY_INFO!$K160>0, IF(COUNTRY_INFO!$K160=4, 0, IF(COUNTRY_INFO!$K160=1, COUNTRY_INFO!$F160*0.33, IF(COUNTRY_INFO!$K160=2, COUNTRY_INFO!$F160*0.5, COUNTRY_INFO!$F160))), 0))","v":21924},{"$f":"IF(INTRO!$E$43=\"Non endémique\", 0, IF(COUNTRY_INFO!$K160>0, IF(COUNTRY_INFO!$K160=4, 0, IF(COUNTRY_INFO!$K160=1, 0, IF(COUNTRY_INFO!$K160=2, COUNTRY_INFO!$G160*0.2, COUNTRY_INFO!$G160))), 0))","v":16564.600000000002},38488.600000000006,{"$f":"IF(INTRO!$E$43=\"Non endémique\", \"Non requis\", COUNTRY_INFO!T160)","v":0},null,{"$f":"IF($D160=0,0,IF(AND($G160>0,$H160<>\"Oui\"),D160,IF(AND($G160>0,$H160=\"Oui\"),COUNTRY_INFO!$F160,0)))","v":0},null,0,0,0,0,0,null,0,0]
[{"$f":"IF(INTRO!$E$43=\"Non endémique\",\" \", IF(COUNTRY_INFO!A161=0,\" \",COUNTRY_INFO!A161))","v":"Angola"},{"$f":"IF(INTRO!$E$43=\"Non endémique\",\" \", IF(COUNTRY_INFO!B161=0,\" \",COUNTRY_INFO!B161))","v":"UIGE"},{"$f":"IF(INTRO!$E$43=\"Non endémique\",\" \", IF(COUNTRY_INFO!C161=0,\" \",COUNTRY_INFO!C161))","v":"PURI"},{"$f":"IF(INTRO!$E$43=\"Non endémique\", 0, IF(COUNTRY_INFO!$K161>0, IF(COUNTRY_INFO!$K161=4, 0, IF(COUNTRY_INFO!$K161=1, COUNTRY_INFO!$F161*0.33, IF(COUNTRY_INFO!$K161=2, COUNTRY_INFO!$F161*0.5, COUNTRY_INFO!$F161))), 0))","v":3987.7200000000003},{"$f":"IF(INTRO!$E$43=\"Non endémique\", 0, IF(COUNTRY_INFO!$K161>0, IF(COUNTRY_INFO!$K161=4, 0, IF(COUNTRY_INFO!$K161=1, 0, IF(COUNTRY_INFO!$K161=2, COUNTRY_INFO!$G161*0.2, COUNTRY_INFO!$G161))), 0))","v":0},3987.7200000000003,{"$f":"IF(INTRO!$E$43=\"Non endémique\", \"Non requis\", COUNTRY_INFO!T161)","v":0},null,{"$f":"IF($D161=0,0,IF(AND($G161>0,$H161<>\"Oui\"),D161,IF(AND($G161>0,$H161=\"Oui\"),COUNTRY_INFO!$F161,0)))","v":0},null,0,0,0,0,0,null,0,0]
[{"$f":"IF(INTRO!$E$43=\"Non endémique\",\" \", IF(COUNTRY_INFO!A162=0,\" \",COUNTRY_INFO!A162))","v":"Angola"},{"$f":"IF(INTRO!$E$43=\"Non endémique\",\" \", IF(COUNTRY_INFO!B162=0,\" \",COUNTRY_INFO!B162))","v":"UIGE"},{"$f":"IF(INTRO!$E$43=\"Non endémique\",\" \", IF(COUNTRY_INFO!C162=0,\" \",COUNTRY_INFO!C162))","v":"QUIMBELE"},{"$f":"IF(INTRO!$E$43=\"Non endémique\", 0, IF(COUNTRY_INFO!$K162>0, IF(COUNTRY_INFO!$K162=4, 0, IF(COUNTRY_INFO!$K162=1, COUNTRY_INFO!$F162*0.33, IF(COUNTRY_INFO!$K162=2, COUNTRY_INFO!$F162*0.5, COUNTRY_INFO!$F162))), 0))","v":14357.970000000001},{"$f":"IF(INTRO!$E$43=\"Non endémique\", 0, IF(COUNTRY_INFO!$K162>0, IF(COUNTRY_INFO!$K162=4, 0, IF(COUNTRY_INFO!$K162=1, 0, IF(COUNTRY_INFO!$K162=2, COUNTRY_INFO!$G162*0.2, COUNTRY_INFO!$G162))), 0))","v":0},14357.970000000001,{"$f":"IF(INTRO!$E$43=\"Non endémique\", \"Non requis\", COUNTRY_INFO!T162)","v":0},null,{"$f":"IF($D162=0,0,IF(AND($G162>0,$H162<>\"Oui\"),D162,IF(AND($G162>0,$H162=\"Oui\"),COUNTRY_INFO!$F162,0)))","v":0},null,0,0,0,0,0,null,0,0]
[{"$f":"IF(INTRO!$E$43=\"Non endémique\",\" \", IF(COUNTRY_INFO!A163=0,\" \",COUNTRY_INFO!A163))","v":"Angola"},{"$f":"IF(INTRO!$E$43=\"Non endémique\",\" \", IF(COUNTRY_INFO!B163=0,\" \",COUNTRY_INFO!B163))","v":"UIGE"},{"$f":"IF(INTRO!$E$43=\"Non endémique\",\" \", IF(COUNTRY_INFO!C163=0,\" \",COUNTRY_INFO!C163))","v":"QUITEXE"},{"$f":"IF(INTRO!$E$43=\"Non endémique\", 0, IF(COUNTRY_INFO!$K163>0, IF(COUNTRY_INFO!$K163=4, 0, IF(COUNTRY_INFO!$K163=1, COUNTRY_INFO!$F163*0.33, IF(COUNTRY_INFO!$K163=2, COUNTRY_INFO!$F163*0.5, COUNTRY_INFO!$F163))), 0))","v":3607.56},{"$f":"IF(INTRO!$E$43=\"Non endémique\", 0, IF(COUNTRY_INFO!$K163>0, IF(COUNTRY_INFO!$K163=4, 0, IF(COUNTRY_INFO!$K163=1, 0, IF(COUNTRY_INFO!$K163=2, COUNTRY_INFO!$G163*0.2, COUNTRY_INFO!$G163))), 0))","v":0},3607.56,{"$f":"IF(INTRO!$E$43=\"Non endémique\", \"Non requis\", COUNTRY_INFO!T163)","v":0},null,{"$f":"IF($D163=0,0,IF(AND($G163>0,$H163<>\"Oui\"),D163,IF(AND($G163>0,$H163=\"Oui\"),COUNTRY_INFO!$F163,0)))","v":0},null,0,0,0,0,0,null,0,0]
[{"$f":"IF(INTRO!$E$43=\"Non endémique\",\" \", IF(COUNTRY_INFO!A164=0,\" \",COUNTRY_INFO!A164))","v":"Angola"},{"$f":"IF(INTRO!$E$43=\"Non endémique\",\" \", IF(COUNTRY_INFO!B164=0,\" \",COUNTRY_INFO!B164))","v":"UIGE"},{"$f":"IF(INTRO!$E$43=\"Non endémique\",\" \", IF(COUNTRY_INFO!C164=0,\" \",COUNTRY_INFO!C164))","v":"SANZA POMBO"},{"$f":"IF(INTRO!$E$43=\"Non endémique\", 0, IF(COUNTRY_INFO!$K164>0, IF(COUNTRY_INFO!$K164=4, 0, IF(COUNTRY_INFO!$K164=1, COUNTRY_INFO!$F164*0.33, IF(COUNTRY_INFO!$K164=2, COUNTRY_INFO!$F164*0.5, COUNTRY_INFO!$F164))), 0))","v":7194},{"$f":"IF(INTRO!$E$43=\"Non endémique\", 0, IF(COUNTRY_INFO!$K164>0, IF(COUNTRY_INFO!$K164=4, 0, IF(COUNTRY_INFO!$K164=1, 0, IF(COUNTRY_INFO!$K164=2, COUNTRY_INFO!$G164*0.2, COUNTRY_INFO!$G164))), 0))","v":0},7194,{"$f":"IF(INTRO!$E$43=\"Non endémique\", \"Non requis\", COUNTRY_INFO!T164)","v":0},null,{"$f":"IF($D164=0,0,IF(AND($G164>0,$H164<>\"Oui\"),D164,IF(AND($G164>0,$H164=\"Oui\"),COUNTRY_INFO!$F164,0)))","v":0},null,0,0,0,0,0,null,0,0]
[{"$f":"IF(INTRO!$E$43=\"Non endémique\",\" \", IF(COUNTRY_INFO!A165=0,\" \",COUNTRY_INFO!A165))","v":"Angola"},{"$f":"IF(INTRO!$E$43=\"Non endémique\",\" \", IF(COUNTRY_INFO!B165=0,\" \",COUNTRY_INFO!B165))","v":"UIGE"},{"$f":"IF(INTRO!$E$43=\"Non endémique\",\" \", IF(COUNTRY_INFO!C165=0,\" \",COUNTRY_INFO!C165))","v":"SONGO"},{"$f":"IF(INTRO!$E$43=\"Non endémique\", 0, IF(COUNTRY_INFO!$K165>0, IF(COUNTRY_INFO!$K165=4, 0, IF(COUNTRY_INFO!$K165=1, COUNTRY_INFO!$F165*0.33, IF(COUNTRY_INFO!$K165=2, COUNTRY_INFO!$F165*0.5, COUNTRY_INFO!$F165))), 0))","v":19661},{"$f":"IF(INTRO!$E$43=\"Non endémique\", 0, IF(COUNTRY_INFO!$K165>0, IF(COUNTRY_INFO!$K165=4, 0, IF(COUNTRY_INFO!$K165=1, 0, IF(COUNTRY_INFO!$K165=2, COUNTRY_INFO!$G165*0.2, COUNTRY_INFO!$G165))), 0))","v":37138},56799,{"$f":"IF(INTRO!$E$43=\"Non endémique\", \"Non requis\", COUNTRY_INFO!T165)","v":1},null,{"$f":"IF($D165=0,0,IF(AND($G165>0,$H165<>\"Oui\"),D165,IF(AND($G165>0,$H165=\"Oui\"),COUNTRY_INFO!$F165,0)))","v":19661},null,37138,56799,49152.5,111414,49152.5,null,49152.5,50]
[{"$f":"IF(INTRO!$E$43=\"Non endémique\",\" \", IF(COUNTRY_INFO!A166=0,\" \",COUNTRY_INFO!A166))","v":"Angola"},{"$f":"IF(INTRO!$E$43=\"Non endémique\",\" \", IF(COUNTRY_INFO!B166=0,\" \",COUNTRY_INFO!B166))","v":"UIGE"},{"$f":"IF(INTRO!$E$43=\"Non endémique\",\" \", IF(COUNTRY_INFO!C166=0,\" \",COUNTRY_INFO!C166))","v":"UIGE"},{"$f":"IF(INTRO!$E$43=\"Non endémique\", 0, IF(COUNTRY_INFO!$K166>0, IF(COUNTRY_INFO!$K166=4, 0, IF(COUNTRY_INFO!$K166=1, COUNTRY_INFO!$F166*0.33, IF(COUNTRY_INFO!$K166=2, COUNTRY_INFO!$F166*0.5, COUNTRY_INFO!$F166))), 0))","v":82748},{"$f":"IF(INTRO!$E$43=\"Non endémique\", 0, IF(COUNTRY_INFO!$K166>0, IF(COUNTRY_INFO!$K166=4, 0, IF(COUNTRY_INFO!$K166=1, 0, IF(COUNTRY_INFO!$K166=2, COUNTRY_INFO!$G166*0.2, COUNTRY_INFO!$G166))), 0))","v":62520.800000000003},145268.79999999999,{"$f":"IF(INTRO!$E$43=\"Non endémique\", \"Non requis\", COUNTRY_INFO!T166)","v":0},null,{"$f":"IF($D166=0,0,IF(AND($G166>0,$H166<>\"Oui\"),D166,IF(AND($G166>0,$H166=\"Oui\"),COUNTRY_INFO!$F166,0)))","v":0},null,0,0,0,0,0,null,0,0]
[{"$f":"IF(INTRO!$E$43=\"Non endémique\",\" \", IF(COUNTRY_INFO!A167=0,\" \",COUNTRY_INFO!A167))","v":"Angola"},{"$f":"IF(INTRO!$E$43=\"Non endémique\",\" \", IF(COUNTRY_INFO!B167=0,\" \",COUNTRY_INFO!B167))","v":"ZAIRE"},{"$f":"IF(INTRO!$E$43=\"Non endémique\",\" \", IF(COUNTRY_INFO!C167=0,\" \",COUNTRY_INFO!C167))","v":"CUIMBA"},{"$f":"IF(INTRO!$E$43=\"Non endémique\", 0, IF(COUNTRY_INFO!$K167>0, IF(COUNTRY_INFO!$K167=4, 0, IF(COUNTRY_INFO!$K167=1, COUNTRY_INFO!$F167*0.33, IF(COUNTRY_INFO!$K167=2, COUNTRY_INFO!$F167*0.5, COUNTRY_INFO!$F167))), 0))","v":11028},{"$f":"IF(INTRO!$E$43=\"Non endémique\", 0, IF(COUNTRY_INFO!$K167>0, IF(COUNTRY_INFO!$K167=4, 0, IF(COUNTRY_INFO!$K167=1, 0, IF(COUNTRY_INFO!$K167=2, COUNTRY_INFO!$G167*0.2, COUNTRY_INFO!$G167))), 0))","v":8332.2000000000007},19360.2,{"$f":"IF(INTRO!$E$43=\"Non endémique\", \"Non requis\", COUNTRY_INFO!T167)","v":0},null,{"$f":"IF($D167=0,0,IF(AND($G167>0,$H167<>\"Oui\"),D167,IF(AND($G167>0,$H167=\"Oui\"),COUNTRY_INFO!$F167,0)))","v":0},null,0,0,0,0,0,null,0,0]
[{"$f":"IF(INTRO!$E$43=\"Non endémique\",\" \", IF(COUNTRY_INFO!A168=0,\" \",COUNTRY_INFO!A168))","v":"Angola"},{"$f":"IF(INTRO!$E$43=\"Non endémique\",\" \", IF(COUNTRY_INFO!B168=0,\" \",COUNTRY_INFO!B168))","v":"ZAIRE"},{"$f":"IF(INTRO!$E$43=\"Non endémique\",\" \", IF(COUNTRY_INFO!C168=0,\" \",COUNTRY_INFO!C168))","v":"MBANZA CONGO"},{"$f":"IF(INTRO!$E$43=\"Non endémique\", 0, IF(COUNTRY_INFO!$K168>0, IF(COUNTRY_INFO!$K168=4, 0, IF(COUNTRY_INFO!$K168=1, COUNTRY_INFO!$F168*0.33, IF(COUNTRY_INFO!$K168=2, COUNTRY_INFO!$F168*0.5, COUNTRY_INFO!$F168))), 0))","v":28740.5},{"$f":"IF(INTRO!$E$43=\"Non endémique\", 0, IF(COUNTRY_INFO!$K168>0, IF(COUNTRY_INFO!$K168=4, 0, IF(COUNTRY_INFO!$K168=1, 0, IF(COUNTRY_INFO!$K168=2, COUNTRY_INFO!$G168*0.2, COUNTRY_INFO!$G168))), 0))","v":21715},50455.5,{"$f":"IF(INTRO!$E$43=\"Non endémique\", \"Non requis\", COUNTRY_INFO!T168)","v":0},null,{"$f":"IF($D168=0,0,IF(AND($G168>0,$H168<>\"Oui\"),D168,IF(AND($G168>0,$H168=\"Oui\"),COUNTRY_INFO!$F168,0)))","v":0},null,0,0,0,0,0,null,0,0]
[{"$f":"IF(INTRO!$E$43=\"Non endémique\",\" \", IF(COUNTRY_INFO!A169=0,\" \",COUNTRY_INFO!A169))","v":"Angola"},{"$f":"IF(INTRO!$E$43=\"Non endémique\",\" \", IF(COUNTRY_INFO!B169=0,\" \",COUNTRY_INFO!B169))","v":"ZAIRE"},{"$f":"IF(INTRO!$E$43=\"Non endémique\",\" \", IF(COUNTRY_INFO!C169=0,\" \",COUNTRY_INFO!C169))","v":"NOQUI"},{"$f":"IF(INTRO!$E$43=\"Non endémique\", 0, IF(COUNTRY_INFO!$K169>0, IF(COUNTRY_INFO!$K169=4, 0, IF(COUNTRY_INFO!$K169=1, COUNTRY_INFO!$F169*0.33, IF(COUNTRY_INFO!$K169=2, COUNTRY_INFO!$F169*0.5, COUNTRY_INFO!$F169))), 0))","v":3806},{"$f":"IF(INTRO!$E$43=\"Non endémique\", 0, IF(COUNTRY_INFO!$K169>0, IF(COUNTRY_INFO!$K169=4, 0, IF(COUNTRY_INFO!$K169=1, 0, IF(COUNTRY_INFO!$K169=2, COUNTRY_INFO!$G169*0.2, COUNTRY_INFO!$G169))), 0))","v":2875.6000000000004},{"$f":"SUM(D169:E169)","v":6681.6},{"$f":"IF(INTRO!$E$43=\"Non endémique\", \"Non requis\", COUNTRY_INFO!T169)","v":0},null,{"$f":"IF($D169=0,0,IF(AND($G169>0,$H169<>\"Oui\"),D169,IF(AND($G169>0,$H169=\"Oui\"),COUNTRY_INFO!$F169,0)))","v":0},null,0,{"$f":"IF($J169=0,SUM(I169,K169),SUM(J169,K169))","v":0},0,0,0,null,{"$f":"IF($O169>$P169,O169-P169,0)","v":0},0]
[{"$f":"IF(INTRO!$E$43=\"Non endémique\",\" \", IF(COUNTRY_INFO!A170=0,\" \",COUNTRY_INFO!A170))","v":"Angola"},{"$f":"IF(INTRO!$E$43=\"Non endémique\",\" \", IF(COUNTRY_INFO!B170=0,\" \",COUNTRY_INFO!B170))","v":"ZAIRE"},{"$f":"IF(INTRO!$E$43=\"Non endémique\",\" \", IF(COUNTRY_INFO!C170=0,\" \",COUNTRY_INFO!C170))","v":"NZETO"},{"$f":"IF(INTRO!$E$43=\"Non endémique\", 0, IF(COUNTRY_INFO!$K170>0, IF(COUNTRY_INFO!$K170=4, 0, IF(COUNTRY_INFO!$K170=1, COUNTRY_INFO!$F170*0.33, IF(COUNTRY_INFO!$K170=2, COUNTRY_INFO!$F170*0.5, COUNTRY_INFO!$F170))), 0))","v":7622},{"$f":"IF(INTRO!$E$43=\"Non endémique\", 0, IF(COUNTRY_INFO!$K170>0, IF(COUNTRY_INFO!$K170=4, 0, IF(COUNTRY_INFO!$K170=1, 0, IF(COUNTRY_INFO!$K170=2, COUNTRY_INFO!$G170*0.2, COUNTRY_INFO!$G170))), 0))","v":5758.8},{"$f":"SUM(D170:E170)","v":13380.8},{"$f":"IF(INTRO!$E$43=\"Non endémique\", \"Non requis\", COUNTRY_INFO!T170)","v":0},null,{"$f":"IF($D170=0,0,IF(AND($G170>0,$H170<>\"Oui\"),D170,IF(AND($G170>0,$H170=\"Oui\"),COUNTRY_INFO!$F170,0)))","v":0},null,0,{"$f":"IF($J170=0,SUM(I170,K170),SUM(J170,K170))","v":0},0,0,0,null,{"$f":"IF($O170>$P170,O170-P170,0)","v":0},0]
[{"$f":"IF(INTRO!$E$43=\"Non endémique\",\" \", IF(COUNTRY_INFO!A171=0,\" \",COUNTRY_INFO!A171))","v":"Angola"},{"$f":"IF(INTRO!$E$43=\"Non endémique\",\" \", IF(COUNTRY_INFO!B171=0,\" \",COUNTRY_INFO!B171))","v":"ZAIRE"},{"$f":"IF(INTRO!$E$43=\"Non endémique\",\" \", IF(COUNTRY_INFO!C171=0,\" \",COUNTRY_INFO!C171))","v":"SOYO"},{"$f":"IF(INTRO!$E$43=\"Non endémique\", 0, IF(COUNTRY_INFO!$K171>0, IF(COUNTRY_INFO!$K171=4, 0, IF(COUNTRY_INFO!$K171=1, COUNTRY_INFO!$F171*0.33, IF(COUNTRY_INFO!$K171=2, COUNTRY_INFO!$F171*0.5, COUNTRY_INFO!$F171))), 0))","v":23896.29},{"$f":"IF(INTRO!$E$43=\"Non endémique\", 0, IF(COUNTRY_INFO!$K171>0, IF(COUNTRY_INFO!$K171=4, 0, IF(COUNTRY_INFO!$K171=1, 0, IF(COUNTRY_INFO!$K171=2, COUNTRY_INFO!$G171*0.2, COUNTRY_INFO!$G171))), 0))","v":0},{"$f":"SUM(D171:E171)","v":23896.29},{"$f":"IF(INTRO!$E$43=\"Non endémique\", \"Non requis\", COUNTRY_INFO!T171)","v":0},null,{"$f":"IF($D171=0,0,IF(AND($G171>0,$H171<>\"Oui\"),D171,IF(AND($G171>0,$H171=\"Oui\"),COUNTRY_INFO!$F171,0)))","v":0},null,0,{"$f":"IF($J171=0,SUM(I171,K171),SUM(J171,K171))","v":0},0,0,0,null,{"$f":"IF($O171>$P171,O171-P171,0)","v":0},0]
[{"$f":"IF(INTRO!$E$43=\"Non endémique\",\" \", IF(COUNTRY_INFO!A172=0,\" \",COUNTRY_INFO!A172))","v":"Angola"},{"$f":"IF(INTRO!$E$43=\"Non endémique\",\" \", IF(COUNTRY_INFO!B172=0,\" \",COUNTRY_INFO!B172))","v":"ZAIRE"},{"$f":"IF(INTRO!$E$43=\"Non endémique\",\" \", IF(COUNTRY_INFO!C172=0,\" \",COUNTRY_INFO!C172))","v":"TOMBOCO"},{"$f":"IF(INTRO!$E$43=\"Non endémique\", 0, IF(COUNTRY_INFO!$K172>0, IF(COUNTRY_INFO!$K172=4, 0, IF(COUNTRY_INFO!$K172=1, COUNTRY_INFO!$F172*0.33, IF(COUNTRY_INFO!$K172=2, COUNTRY_INFO!$F172*0.5, COUNTRY_INFO!$F172))), 0))","v":4841.43},{"$f":"IF(INTRO!$E$43=\"Non endémique\", 0, IF(COUNTRY_INFO!$K172>0, IF(COUNTRY_INFO!$K172=4, 0, IF(COUNTRY_INFO!$K172=1, 0, IF(COUNTRY_INFO!$K172=2, COUNTRY_INFO!$G172*0.2, COUNTRY_INFO!$G172))), 0))","v":0},{"$f":"SUM(D172:E172)","v":4841.43},{"$f":"IF(INTRO!$E$43=\"Non endémique\", \"Non requis\", COUNTRY_INFO!T172)","v":0},null,{"$f":"IF($D172=0,0,IF(AND($G172>0,$H172<>\"Oui\"),D172,IF(AND($G172>0,$H172=\"Oui\"),COUNTRY_INFO!$F172,0)))","v":0},null,0,{"$f":"IF($J172=0,SUM(I172,K172),SUM(J172,K172))","v":0},0,0,0,null,{"$f":"IF($O172>$P172,O172-P172,0)","v":0},0]

{"sheet":"IVM","index":4,"n_rows":172,"n_cols":17,"rows_kept":172,"cut":false,"hidden":false,"merged":[[3,0,3,2],[3,4,3,5],[6,3,7,3],[6,4,7,4],[6,5,7,5],[5,0,5,2],[6,0,7,0],[6,14,7,14],[6,2,7,2],[6,11,7,11],[6,12,7,12],[6,1,7,1],[6,10,7,10],[6,13,7,13],[6,7,6,9],[5,4,5,5],[5,6,5,9],[6,6,7,6],[6,15,7,15],[5,10,5,16],[6,16,7,16]]}
["Ivermectine (IVM)"]
["Structure administrative, population ciblée par groupe d'âge, plan de traitement et information sur les comprimés"]
[]
["TOTAL",null,null,{"$f":"SUM(D$9:D$1000)","v":5175922},null,null,{"$f":"SUM(G$9:G$1000)","v":534899},4641758,0,4641758,1338680,12837885.200000001,159037.19999999998,14335602.4,5045000,14335602.4,28696]
[]
["Structure administrative du pays",null,null,null,"Plan de traitement",null,"Population cible",null,null,null,"Ivermectine (IVM)"]
["Pays","Région/Département","District","Population nécessitant un traitement avec IVM","FL","Oncho","FL","Oncho",null,null,"FL uniquement","Oncho uniquement","FL+Oncho","Total requis","Reste en stock","Comprimés devant être fournis","Flacons (3mg)\n500 comprimés"]
[null,null,null,null,null,null,null,"dans le district","dans les village","total"]
[{"$f":"IF(INTRO!$E$39=\"Non endémique\",\" \",IF(COUNTRY_INFO!A9=0,\" \",COUNTRY_INFO!A9))","v":"Angola"},{"$f":"IF(INTRO!$E$39=\"Non endémique\",\" \",IF(COUNTRY_INFO!B9=0,\" \",COUNTRY_INFO!B9))","v":"BENGO"},{"$f":"IF(INTRO!$E$39=\"Non endémique\",\" \",IF(COUNTRY_INFO!C9=0,\" \",COUNTRY_INFO!C9))","v":"AMBRIZ"},{"$f":"IF(INTRO!$E$39=\"Non endémique\",0,IF(INTRO!$E$39=\"Endémique mais pas de CP\",IF(COUNTRY_INFO!$H9=1,COUNTRY_INFO!F9+COUNTRY_INFO!G9,0),IF(COUNTRY_INFO!$H9=1,COUNTRY_INFO!F9+COUNTRY_INFO!G9,IF(COUNTRY_INFO!$I9=1,IF(COUNTRY_INFO!N9>=(COUNTRY_INFO!F9+COUNTRY_INFO!G9),COUNTRY_INFO!F9+COUNTRY_INFO!G9,COUNTRY_INFO!$N9),0))))","v":0},{"$f":"IF(AND(INTRO!$E$39=\"Non endémique\",INTRO!$E$37=\"Non endémique\"),\"Non requis\",IF(INTRO!$E$39=\"Non endémique\",\"Traiter avec DEC\",COUNTRY_INFO!Q9))","v":0},{"$f":"IF(INTRO!$E$39<>\"Non endémique\",COUNTRY_INFO!R9,\"Non requis\")","v":0},{"$f":"IF(COUNTRY_INFO!H9=1, IF($E9=1,IF(ALB_MBD!$J9<>\" \",COUNTRY_INFO!F9+COUNTRY_INFO!G9-ALB_MBD!$J9,COUNTRY_INFO!F9+COUNTRY_INFO!G9), 0),0)","v":0},{"$f":"IF(INTRO!$E$39<>\"Endémique\",0, IF(AND(COUNTRY_INFO!$I9=1,$F9<>0),IF(COUNTRY_INFO!N9>=(COUNTRY_INFO!F9+COUNTRY_INFO!G9),COUNTRY_INFO!F9+COUNTRY_INFO!G9,COUNTRY_INFO!$N9), 0))","v":0},null,{"$f":"IF(I9=0,H9,IF(I9>H9,H9,I9))","v":0},{"$f":"IF(G9<J9,0,IF($E9=1, (G9-J9)*2.8, 0))","v":0},{"$f":"IF($E9<$F9, J9*(F9-E9)*2.8, 0)","v":0},{"$f":"IF(AND($E9=1, $F9<>0), J9*2.8, 0)","v":0},{"$f":"SUM(K9:M9)","v":0},null,{"$f":"IF($N9>$O9,$N9-$O9,0)","v":0},{"$f":"ROUNDUP($N9/500,0)","v":0}]
[{"$f":"IF(INTRO!$E$39=\"Non endémique\",\" \",IF(COUNTRY_INFO!A10=0,\" \",COUNTRY_INFO!A10))","v":"Angola"},{"$f":"IF(INTRO!$E$39=\"Non endémique\",\" \",IF(COUNTRY_INFO!B10=0,\" \",COUNTRY_INFO!B10))","v":"BENGO"},{"$f":"IF(INTRO!$E$39=\"Non endémique\",\" \",IF(COUNTRY_INFO!C10=0,\" \",COUNTRY_INFO!C10))","v":"BULA ATUMBA"},{"$f":"IF(INTRO!$E$39=\"Non endémique\",0,IF(INTRO!$E$39=\"Endémique mais pas de CP\",IF(COUNTRY_INFO!$H10=1,COUNTRY_INFO!F10+COUNTRY_INFO!G10,0),IF(COUNTRY_INFO!$H10=1,COUNTRY_INFO!F10+COUNTRY_INFO!G10,IF(COUNTRY_INFO!$I10=1,IF(COUNTRY_INFO!N10>=(COUNTRY_INFO!F10+COUNTRY_INFO!G10),COUNTRY_INFO!F10+COUNTRY_INFO!G10,COUNTRY_INFO!$N10),0))))","v":0},{"$f":"IF(AND(INTRO!$E$39=\"Non endémique\",INTRO!$E$37=\"Non endémique\"),\"Non requis\",IF(INTRO!$E$39=\"Non endémique\",\"Traiter avec DEC\",COUNTRY_INFO!Q10))","v":0},{"$f":"IF(INTRO!$E$39<>\"Non endémique\",COUNTRY_INFO!R10,\"Non requis\")","v":0},{"$f":"IF(COUNTRY_INFO!H10=1, IF($E10=1,IF(ALB_MBD!$J10<>\" \",COUNTRY_INFO!F10+COUNTRY_INFO!G10-ALB_MBD!$J10,COUNTRY_INFO!F10+COUNTRY_INFO!G10), 0),0)","v":0},{"$f":"IF(INTRO!$E$39<>\"Endémique\",0, IF(AND(COUNTRY_INFO!$I10=1,$F10<>0),IF(COUNTRY_INFO!N10>=(COUNTRY_INFO!F10+COUNTRY_INFO!G10),COUNTRY_INFO!F10+COUNTRY_INFO!G10,COUNTRY_INFO!$N10), 0))","v":0},null,0,0,0,0,0,null,0,0]
[{"$f":"IF(INTRO!$E$39=\"Non endémique\",\" \",IF(COUNTRY_INFO!A11=0,\" \",COUNTRY_INFO!A11))","v":"Angola"},{"$f":"IF(INTRO!$E$39=\"Non endémique\",\" \",IF(COUNTRY_INFO!B11=0,\" \",COUNTRY_INFO!B11))","v":"BENGO"},{"$f":"IF(INTRO!$E$39=\"Non endémique\",\" \",IF(COUNTRY_INFO!C11=0,\" \",COUNTRY_INFO!C11))","v":"DANDE"},{"$f":"IF(INTRO!$E$39=\"Non endémique\",0,IF(INTRO!$E$39=\"Endémique mais pas de CP\",IF(COUNTRY_INFO!$H11=1,COUNTRY_INFO!F11+COUNTRY_INFO!G11,0),IF(COUNTRY_INFO!$H11=1,COUNTRY_INFO!F11+COUNTRY_INFO!G11,IF(COUNTRY_INFO!$I11=1,IF(COUNTRY_INFO!N11>=(COUNTRY_INFO!F11+COUNTRY_INFO!G11),COUNTRY_INFO!F11+COUNTRY_INFO!G11,COUNTRY_INFO!$N11),0))))","v":0},{"$f":"IF(AND(INTRO!$E$39=\"Non endémique\",INTRO!$E$37=\"Non endémique\"),\"Non requis\",IF(INTRO!$E$39=\"Non endémique\",\"Traiter avec DEC\",COUNTRY_INFO!Q11))","v":0},{"$f":"IF(INTRO!$E$39<>\"Non endémique\",COUNTRY_INFO!R11,\"Non requis\")","v":0},{"$f":"IF(COUNTRY_INFO!H11=1, IF($E11=1,IF(ALB_MBD!$J11<>\" \",COUNTRY_INFO!F11+COUNTRY_INFO!G11-ALB_MBD!$J11,COUNTRY_INFO!F11+COUNTRY_INFO!G11), 0),0)","v":0},{"$f":"IF(INTRO!$E$39<>\"Endémique\",0, IF(AND(COUNTRY_INFO!$I11=1,$F11<>0),IF(COUNTRY_INFO!N11>=(COUNTRY_INFO!F11+COUNTRY_INFO!G11),COUNTRY_INFO!F11+COUNTRY_INFO!G11,COUNTRY_INFO!$N11), 0))","v":0},null,0,0,0,0,0,null,0,0]
[{"$f":"IF(INTRO!$E$39=\"Non endémique\",\" \",IF(COUNTRY_INFO!A12=0,\" \",COUNTRY_INFO!A12))","v":"Angola"},{"$f":"IF(INTRO!$E$39=\"Non endémique\",\" \",IF(COUNTRY_INFO!B12=0,\" \",COUNTRY_INFO!B12))","v":"BENGO"},{"$f":"IF(INTRO!$E$39=\"Non endémique\",\" \",IF(COUNTRY_INFO!C12=0,\" \",COUNTRY_INFO!C12))","v":"DEMBOS"},{"$f":"IF(INTRO!$E$39=\"Non endémique\",0,IF(INTRO!$E$39=\"Endémique mais pas de CP\",IF(COUNTRY_INFO!$H12=1,COUNTRY_INFO!F12+COUNTRY_INFO!G12,0),IF(COUNTRY_INFO!$H12=1,COUNTRY_INFO!F12+COUNTRY_INFO!G12,IF(COUNTRY_INFO!$I12=1,IF(COUNTRY_INFO!N12>=(COUNTRY_INFO!F12+COUNTRY_INFO!G12),COUNTRY_INFO!F12+COUNTRY_INFO!G12,COUNTRY_INFO!$N12),0))))","v":0},{"$f":"IF(AND(INTRO!$E$39=\"Non endémique\",INTRO!$E$37=\"Non endémique\"),\"Non requis\",IF(INTRO!$E$39=\"Non endémique\",\"Traiter avec DEC\",COUNTRY_INFO!Q12))","v":0},{"$f":"IF(INTRO!$E$39<>\"Non endémique\",COUNTRY_INFO!R12,\"Non requis\")","v":0},{"$f":"IF(COUNTRY_INFO!H12=1, IF($E12=1,IF(ALB_MBD!$J12<>\" \",COUNTRY_INFO!F12+COUNTRY_INFO!G12-ALB_MBD!$J12,COUNTRY_INFO!F12+COUNTRY_INFO!G12), 0),0)","v":0},{"$f":"IF(INTRO!$E$39<>\"Endémique\",0, IF(AND(COUNTRY_INFO!$I12=1,$F12<>0),IF(COUNTRY_INFO!N12>=(COUNTRY_INFO!F12+COUNTRY_INFO!G12),COUNTRY_INFO!F12+COUNTRY_INFO!G12,COUNTRY_INFO!$N12), 0))","v":0},null,0,0,0,0,0,null,0,0]
[{"$f":"IF(INTRO!$E$39=\"Non endémique\",\" \",IF(COUNTRY_INFO!A13=0,\" \",COUNTRY_INFO!A13))","v":"Angola"},{"$f":"IF(INTRO!$E$39=\"Non endémique\",\" \",IF(COUNTRY_INFO!B13=0,\" \",COUNTRY_INFO!B13))","v":"BENGO"},{"$f":"IF(INTRO!$E$39=\"Non endémique\",\" \",IF(COUNTRY_INFO!C13=0,\" \",COUNTRY_INFO!C13))","v":"NAMBUANGONGO"},{"$f":"IF(INTRO!$E$39=\"Non endémique\",0,IF(INTRO!$E$39=\"Endémique mais pas de CP\",IF(COUNTRY_INFO!$H13=1,COUNTRY_INFO!F13+COUNTRY_INFO!G13,0),IF(COUNTRY_INFO!$H13=1,COUNTRY_INFO!F13+COUNTRY_INFO!G13,IF(COUNTRY_INFO!$I13=1,IF(COUNTRY_INFO!N13>=(COUNTRY_INFO!F13+COUNTRY_INFO!G13),COUNTRY_INFO!F13+COUNTRY_INFO!G13,COUNTRY_INFO!$N13),0))))","v":56064},{"$f":"IF(AND(INTRO!$E$39=\"Non endémique\",INTRO!$E$37=\"Non endémique\"),\"Non requis\",IF(INTRO!$E$39=\"Non endémique\",\"Traiter avec DEC\",COUNTRY_INFO!Q13))","v":0},{"$f":"IF(INTRO!$E$39<>\"Non endémique\",COUNTRY_INFO!R13,\"Non requis\")","v":0},{"$f":"IF(COUNTRY_INFO!H13=1, IF($E13=1,IF(ALB_MBD!$J13<>\" \",COUNTRY_INFO!F13+COUNTRY_INFO!G13-ALB_MBD!$J13,COUNTRY_INFO!F13+COUNTRY_INFO!G13), 0),0)","v":0},{"$f":"IF(INTRO!$E$39<>\"Endémique\",0, IF(AND(COUNTRY_INFO!$I13=1,$F13<>0),IF(COUNTRY_INFO!N13>=(COUNTRY_INFO!F13+COUNTRY_INFO!G13),COUNTRY_INFO!F13+COUNTRY_INFO!G13,COUNTRY_INFO!$N13), 0))","v":0},null,0,0,0,0,0,null,0,0]
[{"$f":"IF(INTRO!$E$39=\"Non endémique\",\" \",IF(COUNTRY_INFO!A14=0,\" \",COUNTRY_INFO!A14))","v":"Angola"},{"$f":"IF(INTRO!$E$39=\"Non endémique\",\" \",IF(COUNTRY_INFO!B14=0,\" \",COUNTRY_INFO!B14))","v":"BENGO"},{"$f":"IF(INTRO!$E$39=\"Non endémique\",\" \",IF(COUNTRY_INFO!C14=0,\" \",COUNTRY_INFO!C14))","v":"PANGO ALUQUEM"},{"$f":"IF(INTRO!$E$39=\"Non endémique\",0,IF(INTRO!$E$39=\"Endémique mais pas de CP\",IF(COUNTRY_INFO!$H14=1,COUNTRY_INFO!F14+COUNTRY_INFO!G14,0),IF(COUNTRY_INFO!$H14=1,COUNTRY_INFO!F14+COUNTRY_INFO!G14,IF(COUNTRY_INFO!$I14=1,IF(COUNTRY_INFO!N14>=(COUNTRY_INFO!F14+COUNTRY_INFO!G14),COUNTRY_INFO!F14+COUNTRY_INFO!G14,COUNTRY_INFO!$N14),0))))","v":0},{"$f":"IF(AND(INTRO!$E$39=\"Non endémique\",INTRO!$E$37=\"Non endémique\"),\"Non requis\",IF(INTRO!$E$39=\"Non endémique\",\"Traiter avec DEC\",COUNTRY_INFO!Q14))","v":0},{"$f":"IF(INTRO!$E$39<>\"Non endémique\",COUNTRY_INFO!R14,\"Non requis\")","v":0},{"$f":"IF(COUNTRY_INFO!H14=1, IF($E14=1,IF(ALB_MBD!$J14<>\" \",COUNTRY_INFO!F14+COUNTRY_INFO!G14-ALB_MBD!$J14,COUNTRY_INFO!F14+COUNTRY_INFO!G14), 0),0)","v":0},{"$f":"IF(INTRO!$E$39<>\"Endémique\",0, IF(AND(COUNTRY_INFO!$I14=1,$F14<>0),IF(COUNTRY_INFO!N14>=(COUNTRY_INFO!F14+COUNTRY_INFO!G14),COUNTRY_INFO!F14+COUNTRY_INFO!G14,COUNTRY_INFO!$N14), 0))","v":0},null,0,0,0,0,0,null,0,0]
[{"$f":"IF(INTRO!$E$39=\"Non endémique\",\" \",IF(COUNTRY_INFO!A15=0,\" \",COUNTRY_INFO!A15))","v":"Angola"},{"$f":"IF(INTRO!$E$39=\"Non endémique\",\" \",IF(COUNTRY_INFO!B15=0,\" \",COUNTRY_INFO!B15))","v":"BENGUELA"},{"$f":"IF(INTRO!$E$39=\"Non endémique\",\" \",IF(COUNTRY_INFO!C15=0,\" \",COUNTRY_INFO!C15))","v":"BAIA FARTA"},{"$f":"IF(INTRO!$E$39=\"Non endémique\",0,IF(INTRO!$E$39=\"Endémique mais pas de CP\",IF(COUNTRY_INFO!$H15=1,COUNTRY_INFO!F15+COUNTRY_INFO!G15,0),IF(COUNTRY_INFO!$H15=1,COUNTRY_INFO!F15+COUNTRY_INFO!G15,IF(COUNTRY_INFO!$I15=1,IF(COUNTRY_INFO!N15>=(COUNTRY_INFO!F15+COUNTRY_INFO!G15),COUNTRY_INFO!F15+COUNTRY_INFO!G15,COUNTRY_INFO!$N15),0))))","v":0},{"$f":"IF(AND(INTRO!$E$39=\"Non endémique\",INTRO!$E$37=\"Non endémique\"),\"Non requis\",IF(INTRO!$E$39=\"Non endémique\",\"Traiter avec DEC\",COUNTRY_INFO!Q15))","v":0},{"$f":"IF(INTRO!$E$39<>\"Non endémique\",COUNTRY_INFO!R15,\"Non requis\")","v":0},{"$f":"IF(COUNTRY_INFO!H15=1, IF($E15=1,IF(ALB_MBD!$J15<>\" \",COUNTRY_INFO!F15+COUNTRY_INFO!G15-ALB_MBD!$J15,COUNTRY_INFO!F15+COUNTRY_INFO!G15), 0),0)","v":0},{"$f":"IF(INTRO!$E$39<>\"Endémique\",0, IF(AND(COUNTRY_INFO!$I15=1,$F15<>0),IF(COUNTRY_INFO!N15>=(COUNTRY_INFO!F15+COUNTRY_INFO!G15),COUNTRY_INFO!F15+COUNTRY_INFO!G15,COUNTRY_INFO!$N15), 0))","v":0},null,0,0,0,0,0,null,0,0]
[{"$f":"IF(INTRO!$E$39=\"Non endémique\",\" \",IF(COUNTRY_INFO!A16=0,\" \",COUNTRY_INFO!A16))","v":"Angola"},{"$f":"IF(INTRO!$E$39=\"Non endémique\",\" \",IF(COUNTRY_INFO!B16=0,\" \",COUNTRY_INFO!B16))","v":"BENGUELA"},{"$f":"IF(INTRO!$E$39=\"Non endémique\",\" \",IF(COUNTRY_INFO!C16=0,\" \",COUNTRY_INFO!C16))","v":"BALOMBO"},{"$f":"IF(INTRO!$E$39=\"Non endémique\",0,IF(INTRO!$E$39=\"Endémique mais pas de CP\",IF(COUNTRY_INFO!$H16=1,COUNTRY_INFO!F16+COUNTRY_INFO!G16,0),IF(COUNTRY_INFO!$H16=1,COUNTRY_INFO!F16+COUNTRY_INFO!G16,IF(COUNTRY_INFO!$I16=1,IF(COUNTRY_INFO!N16>=(COUNTRY_INFO!F16+COUNTRY_INFO!G16),COUNTRY_INFO!F16+COUNTRY_INFO!G16,COUNTRY_INFO!$N16),0))))","v":0},{"$f":"IF(AND(INTRO!$E$39=\"Non endémique\",INTRO!$E$37=\"Non endémique\"),\"Non requis\",IF(INTRO!$E$39=\"Non endémique\",\"Traiter avec DEC\",COUNTRY_INFO!Q16))","v":0},{"$f":"IF(INTRO!$E$39<>\"Non endémique\",COUNTRY_INFO!R16,\"Non requis\")","v":0},{"$f":"IF(COUNTRY_INFO!H16=1, IF($E16=1,IF(ALB_MBD!$J16<>\" \",COUNTRY_INFO!F16+COUNTRY_INFO!G16-ALB_MBD!$J16,COUNTRY_INFO!F16+COUNTRY_INFO!G16), 0),0)","v":0},{"$f":"IF(INTRO!$E$39<>\"Endémique\",0, IF(AND(COUNTRY_INFO!$I16=1,$F16<>0),IF(COUNTRY_INFO!N16>=(COUNTRY_INFO!F16+COUNTRY_INFO!G16),COUNTRY_INFO!F16+COUNTRY_INFO!G16,COUNTRY_INFO!$N16), 0))","v":0},null,0,0,0,0,0,null,0,0]
[{"$f":"IF(INTRO!$E$39=\"Non endémique\",\" \",IF(COUNTRY_INFO!A17=0,\" \",COUNTRY_INFO!A17))","v":"Angola"},{"$f":"IF(INTRO!$E$39=\"Non endémique\",\" \",IF(COUNTRY_INFO!B17=0,\" \",COUNTRY_INFO!B17))","v":"BENGUELA"},{"$f":"IF(INTRO!$E$39=\"Non endémique\",\" \",IF(COUNTRY_INFO!C17=0,\" \",COUNTRY_INFO!C17))","v":"BENGUELA"},{"$f":"IF(INTRO!$E$39=\"Non endémique\",0,IF(INTRO!$E$39=\"Endémique mais pas de CP\",IF(COUNTRY_INFO!$H17=1,COUNTRY_INFO!F17+COUNTRY_INFO!G17,0),IF(COUNTRY_INFO!$H17=1,COUNTRY_INFO!F17+COUNTRY_INFO!G17,IF(COUNTRY_INFO!$I17=1,IF(COUNTRY_INFO!N17>=(COUNTRY_INFO!F17+COUNTRY_INFO!G17),COUNTRY_INFO!F17+COUNTRY_INFO!G17,COUNTRY_INFO!$N17),0))))","v":0},{"$f":"IF(AND(INTRO!$E$39=\"Non endémique\",INTRO!$E$37=\"Non endémique\"),\"Non requis\",IF(INTRO!$E$39=\"Non endémique\",\"Traiter avec DEC\",COUNTRY_INFO!Q17))","v":0},{"$f":"IF(INTRO!$E$39<>\"Non endémique\",COUNTRY_INFO!R17,\"Non requis\")","v":0},{"$f":"IF(COUNTRY_INFO!H17=1, IF($E17=1,IF(ALB_MBD!$J17<>\" \",COUNTRY_INFO!F17+COUNTRY_INFO!G17-ALB_MBD!$J17,COUNTRY_INFO!F17+COUNTRY_INFO!G17), 0),0)","v":0},{"$f":"IF(INTRO!$E$39<>\"Endémique\",0, IF(AND(COUNTRY_INFO!$I17=1,$F17<>0),IF(COUNTRY_INFO!N17>=(COUNTRY_INFO!F17+COUNTRY_INFO!G17),COUNTRY_INFO!F17+COUNTRY_INFO!G17,COUNTRY_INFO!$N17), 0))","v":0},null,0,0,0,0,0,null,0,0]
[{"$f":"IF(INTRO!$E$39=\"Non endémique\",\" \",IF(COUNTRY_INFO!A18=0,\" \",COUNTRY_INFO!A18))","v":"Angola"},{"$f":"IF(INTRO!$E$39=\"Non endémique\",\" \",IF(COUNTRY_INFO!B18=0,\" \",COUNTRY_INFO!B18))","v":"BENGUELA"},{"$f":"IF(INTRO!$E$39=\"Non endémique\",\" \",IF(COUNTRY_INFO!C18=0,\" \",COUNTRY_INFO!C18))","v":"BOCOIO"},{"$f":"IF(INTRO!$E$39=\"Non endémique\",0,IF(INTRO!$E$39=\"Endémique mais pas de CP\",IF(COUNTRY_INFO!$H18=1,COUNTRY_INFO!F18+COUNTRY_INFO!G18,0),IF(COUNTRY_INFO!$H18=1,COUNTRY_INFO!F18+COUNTRY_INFO!G18,IF(COUNTRY_INFO!$I18=1,IF(COUNTRY_INFO!N18>=(COUNTRY_INFO!F18+COUNTRY_INFO!G18),COUNTRY_INFO!F18+COUNTRY_INFO!G18,COUNTRY_INFO!$N18),0))))","v":0},{"$f":"IF(AND(INTRO!$E$39=\"Non endémique\",INTRO!$E$37=\"Non endémique\"),\"Non requis\",IF(INTRO!$E$39=\"Non endémique\",\"Traiter avec DEC\",COUNTRY_INFO!Q18))","v":0},{"$f":"IF(INTRO!$E$39<>\"Non endémique\",COUNTRY_INFO!R18,\"Non requis\")","v":0},{"$f":"IF(COUNTRY_INFO!H18=1, IF($E18=1,IF(ALB_MBD!$J18<>\" \",COUNTRY_INFO!F18+COUNTRY_INFO!G18-ALB_MBD!$J18,COUNTRY_INFO!F18+COUNTRY_INFO!G18), 0),0)","v":0},{"$f":"IF(INTRO!$E$39<>\"Endémique\",0, IF(AND(COUNTRY_INFO!$I18=1,$F18<>0),IF(COUNTRY_INFO!N18>=(COUNTRY_INFO!F18+COUNTRY_INFO!G18),COUNTRY_INFO!F18+COUNTRY_INFO!G18,COUNTRY_INFO!$N18), 0))","v":0},null,0,0,0,0,0,null,0,0]
[{"$f":"IF(INTRO!$E$39=\"Non endémique\",\" \",IF(COUNTRY_INFO!A19=0,\" \",COUNTRY_INFO!A19))","v":"Angola"},{"$f":"IF(INTRO!$E$39=\"Non endémique\",\" \",IF(COUNTRY_INFO!B19=0,\" \",COUNTRY_INFO!B19))","v":"BENGUELA"},{"$f":"IF(INTRO!$E$39=\"Non endémique\",\" \",IF(COUNTRY_INFO!C19=0,\" \",COUNTRY_INFO!C19))","v":"CAIMBAMBO"},{"$f":"IF(INTRO!$E$39=\"Non endémique\",0,IF(INTRO!$E$39=\"Endémique mais pas de CP\",IF(COUNTRY_INFO!$H19=1,COUNTRY_INFO!F19+COUNTRY_INFO!G19,0),IF(COUNTRY_INFO!$H19=1,COUNTRY_INFO!F19+COUNTRY_INFO!G19,IF(COUNTRY_INFO!$I19=1,IF(COUNTRY_INFO!N19>=(COUNTRY_INFO!F19+COUNTRY_INFO!G19),COUNTRY_INFO!F19+COUNTRY_INFO!G19,COUNTRY_INFO!$N19),0))))","v":0},{"$f":"IF(AND(INTRO!$E$39=\"Non endémique\",INTRO!$E$37=\"Non endémique\"),\"Non requis\",IF(INTRO!$E$39=\"Non endémique\",\"Traiter avec DEC\",COUNTRY_INFO!Q19))","v":0},{"$f":"IF(INTRO!$E$39<>\"Non endémique\",COUNTRY_INFO!R19,\"Non requis\")","v":0},{"$f":"IF(COUNTRY_INFO!H19=1, IF($E19=1,IF(ALB_MBD!$J19<>\" \",COUNTRY_INFO!F19+COUNTRY_INFO!G19-ALB_MBD!$J19,COUNTRY_INFO!F19+COUNTRY_INFO!G19), 0),0)","v":0},{"$f":"IF(INTRO!$E$39<>\"Endémique\",0, IF(AND(COUNTRY_INFO!$I19=1,$F19<>0),IF(COUNTRY_INFO!N19>=(COUNTRY_INFO!F19+COUNTRY_INFO!G19),COUNTRY_INFO!F19+COUNTRY_INFO!G19,COUNTRY_INFO!$N19), 0))","v":0},null,0,0,0,0,0,null,0,0]
[{"$f":"IF(INTRO!$E$39=\"Non endémique\",\" \",IF(COUNTRY_INFO!A20=0,\" \",COUNTRY_INFO!A20))","v":"Angola"},{"$f":"IF(INTRO!$E$39=\"Non endémique\",\" \",IF(COUNTRY_INFO!B20=0,\" \",COUNTRY_INFO!B20))","v":"BENGUELA"},{"$f":"IF(INTRO!$E$39=\"Non endémique\",\" \",IF(COUNTRY_INFO!C20=0,\" \",COUNTRY_INFO!C20))","v":"CATUMBELA"},{"$f":"IF(INTRO!$E$39=\"Non endémique\",0,IF(INTRO!$E$39=\"Endémique mais pas de CP\",IF(COUNTRY_INFO!$H20=1,COUNTRY_INFO!F20+COUNTRY_INFO!G20,0),IF(COUNTRY_INFO!$H20=1,COUNTRY_INFO!F20+COUNTRY_INFO!G20,IF(COUNTRY_INFO!$I20=1,IF(COUNTRY_INFO!N20>=(COUNTRY_INFO!F20+COUNTRY_INFO!G20),COUNTRY_INFO!F20+COUNTRY_INFO!G20,COUNTRY_INFO!$N20),0))))","v":0},{"$f":"IF(AND(INTRO!$E$39=\"Non endémique\",INTRO!$E$37=\"Non endémique\"),\"Non requis\",IF(INTRO!$E$39=\"Non endémique\",\"Traiter avec DEC\",COUNTRY_INFO!Q20))","v":0},{"$f":"IF(INTRO!$E$39<>\"Non endémique\",COUNTRY_INFO!R20,\"Non requis\")","v":0},{"$f":"IF(COUNTRY_INFO!H20=1, IF($E20=1,IF(ALB_MBD!$J20<>\" \",COUNTRY_INFO!F20+COUNTRY_INFO!G20-ALB_MBD!$J20,COUNTRY_INFO!F20+COUNTRY_INFO!G20), 0),0)","v":0},{"$f":"IF(INTRO!$E$39<>\"Endémique\",0, IF(AND(COUNTRY_INFO!$I20=1,$F20<>0),IF(COUNTRY_INFO!N20>=(COUNTRY_INFO!F20+COUNTRY_INFO!G20),COUNTRY_INFO!F20+COUNTRY_INFO!G20,COUNTRY_INFO!$N20), 0))","v":0},null,0,0,0,0,0,null,0,0]
[{"$f":"IF(INTRO!$E$39=\"Non endémique\",\" \",IF(COUNTRY_INFO!A21=0,\" \",COUNTRY_INFO!A21))","v":"Angola"},{"$f":"IF(INTRO!$E$39=\"Non endémique\",\" \",IF(COUNTRY_INFO!B21=0,\" \",COUNTRY_INFO!B21))","v":"BENGUELA"},{"$f":"IF(INTRO!$E$39=\"Non endémique\",\" \",IF(COUNTRY_INFO!C21=0,\" \",COUNTRY_INFO!C21))","v":"CHONGOROI"},{"$f":"IF(INTRO!$E$39=\"Non endémique\",0,IF(INTRO!$E$39=\"Endémique mais pas de CP\",IF(COUNTRY_INFO!$H21=1,COUNTRY_INFO!F21+COUNTRY_INFO!G21,0),IF(COUNTRY_INFO!$H21=1,COUNTRY_INFO!F21+COUNTRY_INFO!G21,IF(COUNTRY_INFO!$I21=1,IF(COUNTRY_INFO!N21>=(COUNTRY_INFO!F21+COUNTRY_INFO!G21),COUNTRY_INFO!F21+COUNTRY_INFO!G21,COUNTRY_INFO!$N21),0))))","v":0},{"$f":"IF(AND(INTRO!$E$39=\"Non endémique\",INTRO!$E$37=\"Non endémique\"),\"Non requis\",IF(INTRO!$E$39=\"Non endémique\",\"Traiter avec DEC\",COUNTRY_INFO!Q21))","v":0},{"$f":"IF(INTRO!$E$39<>\"Non endémique\",COUNTRY_INFO!R21,\"Non requis\")","v":0},{"$f":"IF(COUNTRY_INFO!H21=1, IF($E21=1,IF(ALB_MBD!$J21<>\" \",COUNTRY_INFO!F21+COUNTRY_INFO!G21-ALB_MBD!$J21,COUNTRY_INFO!F21+COUNTRY_INFO!G21), 0),0)","v":0},{"$f":"IF(INTRO!$E$39<>\"Endémique\",0, IF(AND(COUNTRY_INFO!$I21=1,$F21<>0),IF(COUNTRY_INFO!N21>=(COUNTRY_INFO!F21+COUNTRY_INFO!G21),COUNTRY_INFO!F21+COUNTRY_INFO!G21,COUNTRY_INFO!$N21), 0))","v":0},null,0,0,0,0,0,null,0,0]
[{"$f":"IF(INTRO!$E$39=\"Non endémique\",\" \",IF(COUNTRY_INFO!A22=0,\" \",COUNTRY_INFO!A22))","v":"Angola"},{"$f":"IF(INTRO!$E$39=\"Non endémique\",\" \",IF(COUNTRY_INFO!B22=0,\" \",COUNTRY_INFO!B22))","v":"BENGUELA"},{"$f":"IF(INTRO!$E$39=\"Non endémique\",\" \",IF(COUNTRY_INFO!C22=0,\" \",COUNTRY_INFO!C22))","v":"CUBAL"},{"$f":"IF(INTRO!$E$39=\"Non endémique\",0,IF(INTRO!$E$39=\"Endémique mais pas de CP\",IF(COUNTRY_INFO!$H22=1,COUNTRY_INFO!F22+COUNTRY_INFO!G22,0),IF(COUNTRY_INFO!$H22=1,COUNTRY_INFO!F22+COUNTRY_INFO!G22,IF(COUNTRY_INFO!$I22=1,IF(COUNTRY_INFO!N22>=(COUNTRY_INFO!F22+COUNTRY_INFO!G22),COUNTRY_INFO!F22+COUNTRY_INFO!G22,COUNTRY_INFO!$N22),0))))","v":0},{"$f":"IF(AND(INTRO!$E$39=\"Non endémique\",INTRO!$E$37=\"Non endémique\"),\"Non requis\",IF(INTRO!$E$39=\"Non endémique\",\"Traiter avec DEC\",COUNTRY_INFO!Q22))","v":0},{"$f":"IF(INTRO!$E$39<>\"Non endémique\",COUNTRY_INFO!R22,\"Non requis\")","v":0},{"$f":"IF(COUNTRY_INFO!H22=1, IF($E22=1,IF(ALB_MBD!$J22<>\" \",COUNTRY_INFO!F22+COUNTRY_INFO!G22-ALB_MBD!$J22,COUNTRY_INFO!F22+COUNTRY_INFO!G22), 0),0)","v":0},{"$f":"IF(INTRO!$E$39<>\"Endémique\",0, IF(AND(COUNTRY_INFO!$I22=1,$F22<>0),IF(COUNTRY_INFO!N22>=(COUNTRY_INFO!F22+COUNTRY_INFO!G22),COUNTRY_INFO!F22+COUNTRY_INFO!G22,COUNTRY_INFO!$N22), 0))","v":0},null,0,0,0,0,0,null,0,0]
[{"$f":"IF(INTRO!$E$39=\"Non endémique\",\" \",IF(COUNTRY_INFO!A23=0,\" \",COUNTRY_INFO!A23))","v":"Angola"},{"$f":"IF(INTRO!$E$39=\"Non endémique\",\" \",IF(COUNTRY_INFO!B23=0,\" \",COUNTRY_INFO!B23))","v":"BENGUELA"},{"$f":"IF(INTRO!$E$39=\"Non endémique\",\" \",IF(COUNTRY_INFO!C23=0,\" \",COUNTRY_INFO!C23))","v":"GANDA"},{"$f":"IF(INTRO!$E$39=\"Non endémique\",0,IF(INTRO!$E$39=\"Endémique mais pas de CP\",IF(COUNTRY_INFO!$H23=1,COUNTRY_INFO!F23+COUNTRY_INFO!G23,0),IF(COUNTRY_INFO!$H23=1,COUNTRY_INFO!F23+COUNTRY_INFO!G23,IF(COUNTRY_INFO!$I23=1,IF(COUNTRY_INFO!N23>=(COUNTRY_INFO!F23+COUNTRY_INFO!G23),COUNTRY_INFO!F23+COUNTRY_INFO!G23,COUNTRY_INFO!$N23),0))))","v":0},{"$f":"IF(AND(INTRO!$E$39=\"Non endémique\",INTRO!$E$37=\"Non endémique\"),\"Non requis\",IF(INTRO!$E$39=\"Non endémique\",\"Traiter avec DEC\",COUNTRY_INFO!Q23))","v":0},{"$f":"IF(INTRO!$E$39<>\"Non endémique\",COUNTRY_INFO!R23,\"Non requis\")","v":0},{"$f":"IF(COUNTRY_INFO!H23=1, IF($E23=1,IF(ALB_MBD!$J23<>\" \",COUNTRY_INFO!F23+COUNTRY_INFO!G23-ALB_MBD!$J23,COUNTRY_INFO!F23+COUNTRY_INFO!G23), 0),0)","v":0},{"$f":"IF(INTRO!$E$39<>\"Endémique\",0, IF(AND(COUNTRY_INFO!$I23=1,$F23<>0),IF(COUNTRY_INFO!N23>=(COUNTRY_INFO!F23+COUNTRY_INFO!G23),COUNTRY_INFO!F23+COUNTRY_INFO!G23,COUNTRY_INFO!$N23), 0))","v":0},null,0,0,0,0,0,null,0,0]
[{"$f":"IF(INTRO!$E$39=\"Non endémique\",\" \",IF(COUNTRY_INFO!A24=0,\" \",COUNTRY_INFO!A24))","v":"Angola"},{"$f":"IF(INTRO!$E$39=\"Non endémique\",\" \",IF(COUNTRY_INFO!B24=0,\" \",COUNTRY_INFO!B24))","v":"BENGUELA"},{"$f":"IF(INTRO!$E$39=\"Non endémique\",\" \",IF(COUNTRY_INFO!C24=0,\" \",COUNTRY_INFO!C24))","v":"LOBITO"},{"$f":"IF(INTRO!$E$39=\"Non endémique\",0,IF(INTRO!$E$39=\"Endémique mais pas de CP\",IF(COUNTRY_INFO!$H24=1,COUNTRY_INFO!F24+COUNTRY_INFO!G24,0),IF(COUNTRY_INFO!$H24=1,COUNTRY_INFO!F24+COUNTRY_INFO!G24,IF(COUNTRY_INFO!$I24=1,IF(COUNTRY_INFO!N24>=(COUNTRY_INFO!F24+COUNTRY_INFO!G24),COUNTRY_INFO!F24+COUNTRY_INFO!G24,COUNTRY_INFO!$N24),0))))","v":0},{"$f":"IF(AND(INTRO!$E$39=\"Non endémique\",INTRO!$E$37=\"Non endémique\"),\"Non requis\",IF(INTRO!$E$39=\"Non endémique\",\"Traiter avec DEC\",COUNTRY_INFO!Q24))","v":0},{"$f":"IF(INTRO!$E$39<>\"Non endémique\",COUNTRY_INFO!R24,\"Non requis\")","v":0},{"$f":"IF(COUNTRY_INFO!H24=1, IF($E24=1,IF(ALB_MBD!$J24<>\" \",COUNTRY_INFO!F24+COUNTRY_INFO!G24-ALB_MBD!$J24,COUNTRY_INFO!F24+COUNTRY_INFO!G24), 0),0)","v":0},{"$f":"IF(INTRO!$E$39<>\"Endémique\",0, IF(AND(COUNTRY_INFO!$I24=1,$F24<>0),IF(COUNTRY_INFO!N24>=(COUNTRY_INFO!F24+COUNTRY_INFO!G24),COUNTRY_INFO!F24+COUNTRY_INFO!G24,COUNTRY_INFO!$N24), 0))","v":0},null,0,0,0,0,0,null,0,0]
[{"$f":"IF(INTRO!$E$39=\"Non endémique\",\" \",IF(COUNTRY_INFO!A25=0,\" \",COUNTRY_INFO!A25))","v":"Angola"},{"$f":"IF(INTRO!$E$39=\"Non endémique\",\" \",IF(COUNTRY_INFO!B25=0,\" \",COUNTRY_INFO!B25))","v":"BIE"},{"$f":"IF(INTRO!$E$39=\"Non endémique\",\" \",IF(COUNTRY_INFO!C25=0,\" \",COUNTRY_INFO!C25))","v":"ANDULO"},{"$f":"IF(INTRO!$E$39=\"Non endémique\",0,IF(INTRO!$E$39=\"Endémique mais pas de CP\",IF(COUNTRY_INFO!$H25=1,COUNTRY_INFO!F25+COUNTRY_INFO!G25,0),IF(COUNTRY_INFO!$H25=1,COUNTRY_INFO!F25+COUNTRY_INFO!G25,IF(COUNTRY_INFO!$I25=1,IF(COUNTRY_INFO!N25>=(COUNTRY_INFO!F25+COUNTRY_INFO!G25),COUNTRY_INFO!F25+COUNTRY_INFO!G25,COUNTRY_INFO!$N25),0))))","v":237727},{"$f":"IF(AND(INTRO!$E$39=\"Non endémique\",INTRO!$E$37=\"Non endémique\"),\"Non requis\",IF(INTRO!$E$39=\"Non endémique\",\"Traiter avec DEC\",COUNTRY_INFO!Q25))","v":0},{"$f":"IF(INTRO!$E$39<>\"Non endémique\",COUNTRY_INFO!R25,\"Non requis\")","v":1},{"$f":"IF(COUNTRY_INFO!H25=1, IF($E25=1,IF(ALB_MBD!$J25<>\" \",COUNTRY_INFO!F25+COUNTRY_INFO!G25-ALB_MBD!$J25,COUNTRY_INFO!F25+COUNTRY_INFO!G25), 0),0)","v":0},{"$f":"IF(INTRO!$E$39<>\"Endémique\",0, IF(AND(COUNTRY_INFO!$I25=1,$F25<>0),IF(COUNTRY_INFO!N25>=(COUNTRY_INFO!F25+COUNTRY_INFO!G25),COUNTRY_INFO!F25+COUNTRY_INFO!G25,COUNTRY_INFO!$N25), 0))","v":237727},null,237727,0,665635.6,0,665635.6,null,665635.6,1332]
[{"$f":"IF(INTRO!$E$39=\"Non endémique\",\" \",IF(COUNTRY_INFO!A26=0,\" \",COUNTRY_INFO!A26))","v":"Angola"},{"$f":"IF(INTRO!$E$39=\"Non endémique\",\" \",IF(COUNTRY_INFO!B26=0,\" \",COUNTRY_INFO!B26))","v":"BIE"},{"$f":"IF(INTRO!$E$39=\"Non endémique\",\" \",IF(COUNTRY_INFO!C26=0,\" \",COUNTRY_INFO!C26))","v":"CAMACUPA"},{"$f":"IF(INTRO!$E$39=\"Non endémique\",0,IF(INTRO!$E$39=\"Endémique mais pas de CP\",IF(COUNTRY_INFO!$H26=1,COUNTRY_INFO!F26+COUNTRY_INFO!G26,0),IF(COUNTRY_INFO!$H26=1,COUNTRY_INFO!F26+COUNTRY_INFO!G26,IF(COUNTRY_INFO!$I26=1,IF(COUNTRY_INFO!N26>=(COUNTRY_INFO!F26+COUNTRY_INFO!G26),COUNTRY_INFO!F26+COUNTRY_INFO!G26,COUNTRY_INFO!$N26),0))))","v":142665},{"$f":"IF(AND(INTRO!$E$39=\"Non endémique\",INTRO!$E$37=\"Non endémique\"),\"Non requis\",IF(INTRO!$E$39=\"Non endémique\",\"Traiter avec DEC\",COUNTRY_INFO!Q26))","v":0},{"$f":"IF(INTRO!$E$39<>\"Non endémique\",COUNTRY_INFO!R26,\"Non requis\")","v":1},{"$f":"IF(COUNTRY_INFO!H26=1, IF($E26=1,IF(ALB_MBD!$J26<>\" \",COUNTRY_INFO!F26+COUNTRY_INFO!G26-ALB_MBD!$J26,COUNTRY_INFO!F26+COUNTRY_INFO!G26), 0),0)","v":0},{"$f":"IF(INTRO!$E$39<>\"Endémique\",0, IF(AND(COUNTRY_INFO!$I26=1,$F26<>0),IF(COUNTRY_INFO!N26>=(COUNTRY_INFO!F26+COUNTRY_INFO!G26),COUNTRY_INFO!F26+COUNTRY_INFO!G26,COUNTRY_INFO!$N26), 0))","v":142665},null,142665,0,399462,0,399462,null,399462,799]
[{"$f":"IF(INTRO!$E$39=\"Non endémique\",\" \",IF(COUNTRY_INFO!A27=0,\" \",COUNTRY_INFO!A27))","v":"Angola"},{"$f":"IF(INTRO!$E$39=\"Non endémique\",\" \",IF(COUNTRY_INFO!B27=0,\" \",COUNTRY_INFO!B27))","v":"BIE"},{"$f":"IF(INTRO!$E$39=\"Non endémique\",\" \",IF(COUNTRY_INFO!C27=0,\" \",COUNTRY_INFO!C27))","v":"CATABOLA"},{"$f":"IF(INTRO!$E$39=\"Non endémique\",0,IF(INTRO!$E$39=\"Endémique mais pas de CP\",IF(COUNTRY_INFO!$H27=1,COUNTRY_INFO!F27+COUNTRY_INFO!G27,0),IF(COUNTRY_INFO!$H27=1,COUNTRY_INFO!F27+COUNTRY_INFO!G27,IF(COUNTRY_INFO!$I27=1,IF(COUNTRY_INFO!N27>=(COUNTRY_INFO!F27+COUNTRY_INFO!G27),COUNTRY_INFO!F27+COUNTRY_INFO!G27,COUNTRY_INFO!$N27),0))))","v":116608},{"$f":"IF(AND(INTRO!$E$39=\"Non endémique\",INTRO!$E$37=\"Non endémique\"),\"Non requis\",IF(INTRO!$E$39=\"Non endémique\",\"Traiter avec DEC\",COUNTRY_INFO!Q27))","v":0},{"$f":"IF(INTRO!$E$39<>\"Non endémique\",COUNTRY_INFO!R27,\"Non requis\")","v":1},{"$f":"IF(COUNTRY_INFO!H27=1, IF($E27=1,IF(ALB_MBD!$J27<>\" \",COUNTRY_INFO!F27+COUNTRY_INFO!G27-ALB_MBD!$J27,COUNTRY_INFO!F27+COUNTRY_INFO!G27), 0),0)","v":0},{"$f":"IF(INTRO!$E$39<>\"Endémique\",0, IF(AND(COUNTRY_INFO!$I27=1,$F27<>0),IF(COUNTRY_INFO!N27>=(COUNTRY_INFO!F27+COUNTRY_INFO!G27),COUNTRY_INFO!F27+COUNTRY_INFO!G27,COUNTRY_INFO!$N27), 0))","v":116608},null,116608,0,326502.39999999997,0,326502.39999999997,null,326502.39999999997,654]
[{"$f":"IF(INTRO!$E$39=\"Non endémique\",\" \",IF(COUNTRY_INFO!A28=0,\" \",COUNTRY_INFO!A28))","v":"Angola"},{"$f":"IF(INTRO!$E$39=\"Non endémique\",\" \",IF(COUNTRY_INFO!B28=0,\" \",COUNTRY_INFO!B28))","v":"BIE"},{"$f":"IF(INTRO!$E$39=\"Non endémique\",\" \",IF(COUNTRY_INFO!C28=0,\" \",COUNTRY_INFO!C28))","v":"CHINGUAR"},{"$f":"IF(INTRO!$E$39=\"Non endémique\",0,IF(INTRO!$E$39=\"Endémique mais pas de CP\",IF(COUNTRY_INFO!$H28=1,COUNTRY_INFO!F28+COUNTRY_INFO!G28,0),IF(COUNTRY_INFO!$H28=1,COUNTRY_INFO!F28+COUNTRY_INFO!G28,IF(COUNTRY_INFO!$I28=1,IF(COUNTRY_INFO!N28>=(COUNTRY_INFO!F28+COUNTRY_INFO!G28),COUNTRY_INFO!F28+COUNTRY_INFO!G28,COUNTRY_INFO!$N28),0))))","v":119130},{"$f":"IF(AND(INTRO!$E$39=\"Non endémique\",INTRO!$E$37=\"Non endémique\"),\"Non requis\",IF(INTRO!$E$39=\"Non endémique\",\"Traiter avec DEC\",COUNTRY_INFO!Q28))","v":0},{"$f":"IF(INTRO!$E$39<>\"Non endémique\",COUNTRY_INFO!R28,\"Non requis\")","v":1},{"$f":"IF(COUNTRY_INFO!H28=1, IF($E28=1,IF(ALB_MBD!$J28<>\" \",COUNTRY_INFO!F28+COUNTRY_INFO!G28-ALB_MBD!$J28,COUNTRY_INFO!F28+COUNTRY_INFO!G28), 0),0)","v":0},{"$f":"IF(INTRO!$E$39<>\"Endémique\",0, IF(AND(COUNTRY_INFO!$I28=1,$F28<>0),IF(COUNTRY_INFO!N28>=(COUNTRY_INFO!F28+COUNTRY_INFO!G28),COUNTRY_INFO!F28+COUNTRY_INFO!G28,COUNTRY_INFO!$N28), 0))","v":119130},null,119130,0,333564,0,333564,null,333564,668]
[{"$f":"IF(INTRO!$E$39=\"Non endémique\",\" \",IF(COUNTRY_INFO!A29=0,\" \",COUNTRY_INFO!A29))","v":"Angola"},{"$f":"IF(INTRO!$E$39=\"Non endémique\",\" \",IF(COUNTRY_INFO!B29=0,\" \",COUNTRY_INFO!B29))","v":"BIE"},{"$f":"IF(INTRO!$E$39=\"Non endémique\",\" \",IF(COUNTRY_INFO!C29=0,\" \",COUNTRY_INFO!C29))","v":"CHITEMBO"},{"$f":"IF(INTRO!$E$39=\"Non endémique\",0,IF(INTRO!$E$39=\"Endémique mais pas de CP\",IF(COUNTRY_INFO!$H29=1,COUNTRY_INFO!F29+COUNTRY_INFO!G29,0),IF(COUNTRY_INFO!$H29=1,COUNTRY_INFO!F29+COUNTRY_INFO!G29,IF(COUNTRY_INFO!$I29=1,IF(COUNTRY_INFO!N29>=(COUNTRY_INFO!F29+COUNTRY_INFO!G29),COUNTRY_INFO!F29+COUNTRY_INFO!G29,COUNTRY_INFO!$N29),0))))","v":0},{"$f":"IF(AND(INTRO!$E$39=\"Non endémique\",INTRO!$E$37=\"Non endémique\"),\"Non requis\",IF(INTRO!$E$39=\"Non endémique\",\"Traiter avec DEC\",COUNTRY_INFO!Q29))","v":0},{"$f":"IF(INTRO!$E$39<>\"Non endémique\",COUNTRY_INFO!R29,\"Non requis\")","v":0},{"$f":"IF(COUNTRY_INFO!H29=1, IF($E29=1,IF(ALB_MBD!$J29<>\" \",COUNTRY_INFO!F29+COUNTRY_INFO!G29-ALB_MBD!$J29,COUNTRY_INFO!F29+COUNTRY_INFO!G29), 0),0)","v":0},{"$f":"IF(INTRO!$E$39<>\"Endémique\",0, IF(AND(COUNTRY_INFO!$I29=1,$F29<>0),IF(COUNTRY_INFO!N29>=(COUNTRY_INFO!F29+COUNTRY_INFO!G29),COUNTRY_INFO!F29+COUNTRY_INFO!G29,COUNTRY_INFO!$N29), 0))","v":0},null,0,0,0,0,0,null,0,0]
[{"$f":"IF(INTRO!$E$39=\"Non endémique\",\" \",IF(COUNTRY_INFO!A30=0,\" \",COUNTRY_INFO!A30))","v":"Angola"},{"$f":"IF(INTRO!$E$39=\"Non endémique\",\" \",IF(COUNTRY_INFO!B30=0,\" \",COUNTRY_INFO!B30))","v":"BIE"},{"$f":"IF(INTRO!$E$39=\"Non endémique\",\" \",IF(COUNTRY_INFO!C30=0,\" \",COUNTRY_INFO!C30))","v":"CUEMBA"},{"$f":"IF(INTRO!$E$39=\"Non endémique\",0,IF(INTRO!$E$39=\"Endémique mais pas de CP\",IF(COUNTRY_INFO!$H30=1,COUNTRY_INFO!F30+COUNTRY_INFO!G30,0),IF(COUNTRY_INFO!$H30=1,COUNTRY_INFO!F30+COUNTRY_INFO!G30,IF(COUNTRY_INFO!$I30=1,IF(COUNTRY_INFO!N30>=(COUNTRY_INFO!F30+COUNTRY_INFO!G30),COUNTRY_INFO!F30+COUNTRY_INFO!G30,COUNTRY_INFO!$N30),0))))","v":52454},{"$f":"IF(AND(INTRO!$E$39=\"Non endémique\",INTRO!$E$37=\"Non endémique\"),\"Non requis\",IF(INTRO!$E$39=\"Non endémique\",\"Traiter avec DEC\",COUNTRY_INFO!Q30))","v":0},{"$f":"IF(INTRO!$E$39<>\"Non endémique\",COUNTRY_INFO!R30,\"Non requis\")","v":1},{"$f":"IF(COUNTRY_INFO!H30=1, IF($E30=1,IF(ALB_MBD!$J30<>\" \",COUNTRY_INFO!F30+COUNTRY_INFO!G30-ALB_MBD!$J30,COUNTRY_INFO!F30+COUNTRY_INFO!G30), 0),0)","v":0},{"$f":"IF(INTRO!$E$39<>\"Endémique\",0, IF(AND(COUNTRY_INFO!$I30=1,$F30<>0),IF(COUNTRY_INFO!N30>=(COUNTRY_INFO!F30+COUNTRY_INFO!G30),COUNTRY_INFO!F30+COUNTRY_INFO!G30,COUNTRY_INFO!$N30), 0))","v":52454},null,52454,0,146871.19999999998,0,146871.19999999998,null,146871.19999999998,294]
[{"$f":"IF(INTRO!$E$39=\"Non endémique\",\" \",IF(COUNTRY_INFO!A31=0,\" \",COUNTRY_INFO!A31))","v":"Angola"},{"$f":"IF(INTRO!$E$39=\"Non endémique\",\" \",IF(COUNTRY_INFO!B31=0,\" \",COUNTRY_INFO!B31))","v":"BIE"},{"$f":"IF(INTRO!$E$39=\"Non endémique\",\" \",IF(COUNTRY_INFO!C31=0,\" \",COUNTRY_INFO!C31))","v":"CUNHINGA"},{"$f":"IF(INTRO!$E$39=\"Non endémique\",0,IF(INTRO!$E$39=\"Endémique mais pas de CP\",IF(COUNTRY_INFO!$H31=1,COUNTRY_INFO!F31+COUNTRY_INFO!G31,0),IF(COUNTRY_INFO!$H31=1,COUNTRY_INFO!F31+COUNTRY_INFO!G31,IF(COUNTRY_INFO!$I31=1,IF(COUNTRY_INFO!N31>=(COUNTRY_INFO!F31+COUNTRY_INFO!G31),COUNTRY_INFO!F31+COUNTRY_INFO!G31,COUNTRY_INFO!$N31),0))))","v":67982},{"$f":"IF(AND(INTRO!$E$39=\"Non endémique\",INTRO!$E$37=\"Non endémique\"),\"Non requis\",IF(INTRO!$E$39=\"Non endémique\",\"Traiter avec DEC\",COUNTRY_INFO!Q31))","v":0},{"$f":"IF(INTRO!$E$39<>\"Non endémique\",COUNTRY_INFO!R31,\"Non requis\")","v":1},{"$f":"IF(COUNTRY_INFO!H31=1, IF($E31=1,IF(ALB_MBD!$J31<>\" \",COUNTRY_INFO!F31+COUNTRY_INFO!G31-ALB_MBD!$J31,COUNTRY_INFO!F31+COUNTRY_INFO!G31), 0),0)","v":0},{"$f":"IF(INTRO!$E$39<>\"Endémique\",0, IF(AND(COUNTRY_INFO!$I31=1,$F31<>0),IF(COUNTRY_INFO!N31>=(COUNTRY_INFO!F31+COUNTRY_INFO!G31),COUNTRY_INFO!F31+COUNTRY_INFO!G31,COUNTRY_INFO!$N31), 0))","v":67982},null,67982,0,190349.59999999998,0,190349.59999999998,null,190349.59999999998,381]
[{"$f":"IF(INTRO!$E$39=\"Non endémique\",\" \",IF(COUNTRY_INFO!A32=0,\" \",COUNTRY_INFO!A32))","v":"Angola"},{"$f":"IF(INTRO!$E$39=\"Non endémique\",\" \",IF(COUNTRY_INFO!B32=0,\" \",COUNTRY_INFO!B32))","v":"BIE"},{"$f":"IF(INTRO!$E$39=\"Non endémique\",\" \",IF(COUNTRY_INFO!C32=0,\" \",COUNTRY_INFO!C32))","v":"KUITO"},{"$f":"IF(INTRO!$E$39=\"Non endémique\",0,IF(INTRO!$E$39=\"Endémique mais pas de CP\",IF(COUNTRY_INFO!$H32=1,COUNTRY_INFO!F32+COUNTRY_INFO!G32,0),IF(COUNTRY_INFO!$H32=1,COUNTRY_INFO!F32+COUNTRY_INFO!G32,IF(COUNTRY_INFO!$I32=1,IF(COUNTRY_INFO!N32>=(COUNTRY_INFO!F32+COUNTRY_INFO!G32),COUNTRY_INFO!F32+COUNTRY_INFO!G32,COUNTRY_INFO!$N32),0))))","v":415192},{"$f":"IF(AND(INTRO!$E$39=\"Non endémique\",INTRO!$E$37=\"Non endémique\"),\"Non requis\",IF(INTRO!$E$39=\"Non endémique\",\"Traiter avec DEC\",COUNTRY_INFO!Q32))","v":0},{"$f":"IF(INTRO!$E$39<>\"Non endémique\",COUNTRY_INFO!R32,\"Non requis\")","v":1},{"$f":"IF(COUNTRY_INFO!H32=1, IF($E32=1,IF(ALB_MBD!$J32<>\" \",COUNTRY_INFO!F32+COUNTRY_INFO!G32-ALB_MBD!$J32,COUNTRY_INFO!F32+COUNTRY_INFO!G32), 0),0)","v":0},{"$f":"IF(INTRO!$E$39<>\"Endémique\",0, IF(AND(COUNTRY_INFO!$I32=1,$F32<>0),IF(COUNTRY_INFO!N32>=(COUNTRY_INFO!F32+COUNTRY_INFO!G32),COUNTRY_INFO!F32+COUNTRY_INFO!G32,COUNTRY_INFO!$N32), 0))","v":415192},null,415192,0,1162537.5999999999,0,1162537.5999999999,null,1162537.5999999999,2326]
[{"$f":"IF(INTRO!$E$39=\"Non endémique\",\" \",IF(COUNTRY_INFO!A33=0,\" \",COUNTRY_INFO!A33))","v":"Angola"},{"$f":"IF(INTRO!$E$39=\"Non endémique\",\" \",IF(COUNTRY_INFO!B33=0,\" \",COUNTRY_INFO!B33))","v":"BIE"},{"$f":"IF(INTRO!$E$39=\"Non endémique\",\" \",IF(COUNTRY_INFO!C33=0,\" \",COUNTRY_INFO!C33))","v":"NHAREA"},{"$f":"IF(INTRO!$E$39=\"Non endémique\",0,IF(INTRO!$E$39=\"Endémique mais pas de CP\",IF(COUNTRY_INFO!$H33=1,COUNTRY_INFO!F33+COUNTRY_INFO!G33,0),IF(COUNTRY_INFO!$H33=1,COUNTRY_INFO!F33+COUNTRY_INFO!G33,IF(COUNTRY_INFO!$I33=1,IF(COUNTRY_INFO!N33>=(COUNTRY_INFO!F33+COUNTRY_INFO!G33),COUNTRY_INFO!F33+COUNTRY_INFO!G33,COUNTRY_INFO!$N33),0))))","v":116339},{"$f":"IF(AND(INTRO!$E$39=\"Non endémique\",INTRO!$E$37=\"Non endémique\"),\"Non requis\",IF(INTRO!$E$39=\"Non endémique\",\"Traiter avec DEC\",COUNTRY_INFO!Q33))","v":0},{"$f":"IF(INTRO!$E$39<>\"Non endémique\",COUNTRY_INFO!R33,\"Non requis\")","v":1},{"$f":"IF(COUNTRY_INFO!H33=1, IF($E33=1,IF(ALB_MBD!$J33<>\" \",COUNTRY_INFO!F33+COUNTRY_INFO!G33-ALB_MBD!$J33,COUNTRY_INFO!F33+COUNTRY_INFO!G33), 0),0)","v":0},{"$f":"IF(INTRO!$E$39<>\"Endémique\",0, IF(AND(COUNTRY_INFO!$I33=1,$F33<>0),IF(COUNTRY_INFO!N33>=(COUNTRY_INFO!F33+COUNTRY_INFO!G33),COUNTRY_INFO!F33+COUNTRY_INFO!G33,COUNTRY_INFO!$N33), 0))","v":116339},null,116339,0,325749.19999999995,0,325749.19999999995,null,325749.19999999995,652]
[{"$f":"IF(INTRO!$E$39=\"Non endémique\",\" \",IF(COUNTRY_INFO!A34=0,\" \",COUNTRY_INFO!A34))","v":"Angola"},{"$f":"IF(INTRO!$E$39=\"Non endémique\",\" \",IF(COUNTRY_INFO!B34=0,\" \",COUNTRY_INFO!B34))","v":"CABINDA"},{"$f":"IF(INTRO!$E$39=\"Non endémique\",\" \",IF(COUNTRY_INFO!C34=0,\" \",COUNTRY_INFO!C34))","v":"BELIZE"},{"$f":"IF(INTRO!$E$39=\"Non endémique\",0,IF(INTRO!$E$39=\"Endémique mais pas de CP\",IF(COUNTRY_INFO!$H34=1,COUNTRY_INFO!F34+COUNTRY_INFO!G34,0),IF(COUNTRY_INFO!$H34=1,COUNTRY_INFO!F34+COUNTRY_INFO!G34,IF(COUNTRY_INFO!$I34=1,IF(COUNTRY_INFO!N34>=(COUNTRY_INFO!F34+COUNTRY_INFO!G34),COUNTRY_INFO!F34+COUNTRY_INFO!G34,COUNTRY_INFO!$N34),0))))","v":0},{"$f":"IF(AND(INTRO!$E$39=\"Non endémique\",INTRO!$E$37=\"Non endémique\"),\"Non requis\",IF(INTRO!$E$39=\"Non endémique\",\"Traiter avec DEC\",COUNTRY_INFO!Q34))","v":0},{"$f":"IF(INTRO!$E$39<>\"Non endémique\",COUNTRY_INFO!R34,\"Non requis\")","v":0},{"$f":"IF(COUNTRY_INFO!H34=1, IF($E34=1,IF(ALB_MBD!$J34<>\" \",COUNTRY_INFO!F34+COUNTRY_INFO!G34-ALB_MBD!$J34,COUNTRY_INFO!F34+COUNTRY_INFO!G34), 0),0)","v":0},{"$f":"IF(INTRO!$E$39<>\"Endémique\",0, IF(AND(COUNTRY_INFO!$I34=1,$F34<>0),IF(COUNTRY_INFO!N34>=(COUNTRY_INFO!F34+COUNTRY_INFO!G34),COUNTRY_INFO!F34+COUNTRY_INFO!G34,COUNTRY_INFO!$N34), 0))","v":0},null,0,0,0,0,0,null,0,0]
[{"$f":"IF(INTRO!$E$39=\"Non endémique\",\" \",IF(COUNTRY_INFO!A35=0,\" \",COUNTRY_INFO!A35))","v":"Angola"},{"$f":"IF(INTRO!$E$39=\"Non endémique\",\" \",IF(COUNTRY_INFO!B35=0,\" \",COUNTRY_INFO!B35))","v":"CABINDA"},{"$f":"IF(INTRO!$E$39=\"Non endémique\",\" \",IF(COUNTRY_INFO!C35=0,\" \",COUNTRY_INFO!C35))","v":"BUCO ZAU"},{"$f":"IF(INTRO!$E$39=\"Non endémique\",0,IF(INTRO!$E$39=\"Endémique mais pas de CP\",IF(COUNTRY_INFO!$H35=1,COUNTRY_INFO!F35+COUNTRY_INFO!G35,0),IF(COUNTRY_INFO!$H35=1,COUNTRY_INFO!F35+COUNTRY_INFO!G35,IF(COUNTRY_INFO!$I35=1,IF(COUNTRY_INFO!N35>=(COUNTRY_INFO!F35+COUNTRY_INFO!G35),COUNTRY_INFO!F35+COUNTRY_INFO!G35,COUNTRY_INFO!$N35),0))))","v":0},{"$f":"IF(AND(INTRO!$E$39=\"Non endémique\",INTRO!$E$37=\"Non endémique\"),\"Non requis\",IF(INTRO!$E$39=\"Non endémique\",\"Traiter avec DEC\",COUNTRY_INFO!Q35))","v":0},{"$f":"IF(INTRO!$E$39<>\"Non endémique\",COUNTRY_INFO!R35,\"Non requis\")","v":0},{"$f":"IF(COUNTRY_INFO!H35=1, IF($E35=1,IF(ALB_MBD!$J35<>\" \",COUNTRY_INFO!F35+COUNTRY_INFO!G35-ALB_MBD!$J35,COUNTRY_INFO!F35+COUNTRY_INFO!G35), 0),0)","v":0},{"$f":"IF(INTRO!$E$39<>\"Endémique\",0, IF(AND(COUNTRY_INFO!$I35=1,$F35<>0),IF(COUNTRY_INFO!N35>=(COUNTRY_INFO!F35+COUNTRY_INFO!G35),COUNTRY_INFO!F35+COUNTRY_INFO!G35,COUNTRY_INFO!$N35), 0))","v":0},null,0,0,0,0,0,null,0,0]
[{"$f":"IF(INTRO!$E$39=\"Non endémique\",\" \",IF(COUNTRY_INFO!A36=0,\" \",COUNTRY_INFO!A36))","v":"Angola"},{"$f":"IF(INTRO!$E$39=\"Non endémique\",\" \",IF(COUNTRY_INFO!B36=0,\" \",COUNTRY_INFO!B36))","v":"CABINDA"},{"$f":"IF(INTRO!$E$39=\"Non endémique\",\" \",IF(COUNTRY_INFO!C36=0,\" \",COUNTRY_INFO!C36))","v":"CABINDA"},{"$f":"IF(INTRO!$E$39=\"Non endémique\",0,IF(INTRO!$E$39=\"Endémique mais pas de CP\",IF(COUNTRY_INFO!$H36=1,COUNTRY_INFO!F36+COUNTRY_INFO!G36,0),IF(COUNTRY_INFO!$H36=1,COUNTRY_INFO!F36+COUNTRY_INFO!G36,IF(COUNTRY_INFO!$I36=1,IF(COUNTRY_INFO!N36>=(COUNTRY_INFO!F36+COUNTRY_INFO!G36),COUNTRY_INFO!F36+COUNTRY_INFO!G36,COUNTRY_INFO!$N36),0))))","v":0},{"$f":"IF(AND(INTRO!$E$39=\"Non endémique\",INTRO!$E$37=\"Non endémique\"),\"Non requis\",IF(INTRO!$E$39=\"Non endémique\",\"Traiter avec DEC\",COUNTRY_INFO!Q36))","v":0},{"$f":"IF(INTRO!$E$39<>\"Non endémique\",COUNTRY_INFO!R36,\"Non requis\")","v":0},{"$f":"IF(COUNTRY_INFO!H36=1, IF($E36=1,IF(ALB_MBD!$J36<>\" \",COUNTRY_INFO!F36+COUNTRY_INFO!G36-ALB_MBD!$J36,COUNTRY_INFO!F36+COUNTRY_INFO!G36), 0),0)","v":0},{"$f":"IF(INTRO!$E$39<>\"Endémique\",0, IF(AND(COUNTRY_INFO!$I36=1,$F36<>0),IF(COUNTRY_INFO!N36>=(COUNTRY_INFO!F36+COUNTRY_INFO!G36),COUNTRY_INFO!F36+COUNTRY_INFO!G36,COUNTRY_INFO!$N36), 0))","v":0},null,0,0,0,0,0,null,0,0]
[{"$f":"IF(INTRO!$E$39=\"Non endémique\",\" \",IF(COUNTRY_INFO!A37=0,\" \",COUNTRY_INFO!A37))","v":"Angola"},{"$f":"IF(INTRO!$E$39=\"Non endémique\",\" \",IF(COUNTRY_INFO!B37=0,\" \",COUNTRY_INFO!B37))","v":"CABINDA"},{"$f":"IF(INTRO!$E$39=\"Non endémique\",\" \",IF(COUNTRY_INFO!C37=0,\" \",COUNTRY_INFO!C37))","v":"CACONGO"},{"$f":"IF(INTRO!$E$39=\"Non endémique\",0,IF(INTRO!$E$39=\"Endémique mais pas de CP\",IF(COUNTRY_INFO!$H37=1,COUNTRY_INFO!F37+COUNTRY_INFO!G37,0),IF(COUNTRY_INFO!$H37=1,COUNTRY_INFO!F37+COUNTRY_INFO!G37,IF(COUNTRY_INFO!$I37=1,IF(COUNTRY_INFO!N37>=(COUNTRY_INFO!F37+COUNTRY_INFO!G37),COUNTRY_INFO!F37+COUNTRY_INFO!G37,COUNTRY_INFO!$N37),0))))","v":0},{"$f":"IF(AND(INTRO!$E$39=\"Non endémique\",INTRO!$E$37=\"Non endémique\"),\"Non requis\",IF(INTRO!$E$39=\"Non endémique\",\"Traiter avec DEC\",COUNTRY_INFO!Q37))","v":0},{"$f":"IF(INTRO!$E$39<>\"Non endémique\",COUNTRY_INFO!R37,\"Non requis\")","v":0},{"$f":"IF(COUNTRY_INFO!H37=1, IF($E37=1,IF(ALB_MBD!$J37<>\" \",COUNTRY_INFO!F37+COUNTRY_INFO!G37-ALB_MBD!$J37,COUNTRY_INFO!F37+COUNTRY_INFO!G37), 0),0)","v":0},{"$f":"IF(INTRO!$E$39<>\"Endémique\",0, IF(AND(COUNTRY_INFO!$I37=1,$F37<>0),IF(COUNTRY_INFO!N37>=(COUNTRY_INFO!F37+COUNTRY_INFO!G37),COUNTRY_INFO!F37+COUNTRY_INFO!G37,COUNTRY_INFO!$N37), 0))","v":0},null,0,0,0,0,0,null,0,0]
[{"$f":"IF(INTRO!$E$39=\"Non endémique\",\" \",IF(COUNTRY_INFO!A38=0,\" \",COUNTRY_INFO!A38))","v":"Angola"},{"$f":"IF(INTRO!$E$39=\"Non endémique\",\" \",IF(COUNTRY_INFO!B38=0,\" \",COUNTRY_INFO!B38))","v":"CUNENE"},{"$f":"IF(INTRO!$E$39=\"Non endémique\",\" \",IF(COUNTRY_INFO!C38=0,\" \",COUNTRY_INFO!C38))","v":"CAHAMA"},{"$f":"IF(INTRO!$E$39=\"Non endémique\",0,IF(INTRO!$E$39=\"Endémique mais pas de CP\",IF(COUNTRY_INFO!$H38=1,COUNTRY_INFO!F38+COUNTRY_INFO!G38,0),IF(COUNTRY_INFO!$H38=1,COUNTRY_INFO!F38+COUNTRY_INFO!G38,IF(COUNTRY_INFO!$I38=1,IF(COUNTRY_INFO!N38>=(COUNTRY_INFO!F38+COUNTRY_INFO!G38),COUNTRY_INFO!F38+COUNTRY_INFO!G38,COUNTRY_INFO!$N38),0))))","v":0},{"$f":"IF(AND(INTRO!$E$39=\"Non endémique\",INTRO!$E$37=\"Non endémique\"),\"Non requis\",IF(INTRO!$E$39=\"Non endémique\",\"Traiter avec DEC\",COUNTRY_INFO!Q38))","v":0},{"$f":"IF(INTRO!$E$39<>\"Non endémique\",COUNTRY_INFO!R38,\"Non requis\")","v":0},{"$f":"IF(COUNTRY_INFO!H38=1, IF($E38=1,IF(ALB_MBD!$J38<>\" \",COUNTRY_INFO!F38+COUNTRY_INFO!G38-ALB_MBD!$J38,COUNTRY_INFO!F38+COUNTRY_INFO!G38), 0),0)","v":0},{"$f":"IF(INTRO!$E$39<>\"Endémique\",0, IF(AND(COUNTRY_INFO!$I38=1,$F38<>0),IF(COUNTRY_INFO!N38>=(COUNTRY_INFO!F38+COUNTRY_INFO!G38),COUNTRY_INFO!F38+COUNTRY_INFO!G38,COUNTRY_INFO!$N38), 0))","v":0},null,0,0,0,0,0,null,0,0]
[{"$f":"IF(INTRO!$E$39=\"Non endémique\",\" \",IF(COUNTRY_INFO!A39=0,\" \",COUNTRY_INFO!A39))","v":"Angola"},{"$f":"IF(INTRO!$E$39=\"Non endémique\",\" \",IF(COUNTRY_INFO!B39=0,\" \",COUNTRY_INFO!B39))","v":"CUNENE"},{"$f":"IF(INTRO!$E$39=\"Non endémique\",\" \",IF(COUNTRY_INFO!C39=0,\" \",COUNTRY_INFO!C39))","v":"CUANHAMA"},{"$f":"IF(INTRO!$E$39=\"Non endémique\",0,IF(INTRO!$E$39=\"Endémique mais pas de CP\",IF(COUNTRY_INFO!$H39=1,COUNTRY_INFO!F39+COUNTRY_INFO!G39,0),IF(COUNTRY_INFO!$H39=1,COUNTRY_INFO!F39+COUNTRY_INFO!G39,IF(COUNTRY_INFO!$I39=1,IF(COUNTRY_INFO!N39>=(COUNTRY_INFO!F39+COUNTRY_INFO!G39),COUNTRY_INFO!F39+COUNTRY_INFO!G39,COUNTRY_INFO!$N39),0))))","v":0},{"$f":"IF(AND(INTRO!$E$39=\"Non endémique\",INTRO!$E$37=\"Non endémique\"),\"Non requis\",IF(INTRO!$E$39=\"Non endémique\",\"Traiter avec DEC\",COUNTRY_INFO!Q39))","v":0},{"$f":"IF(INTRO!$E$39<>\"Non endémique\",COUNTRY_INFO!R39,\"Non requis\")","v":0},{"$f":"IF(COUNTRY_INFO!H39=1, IF($E39=1,IF(ALB_MBD!$J39<>\" \",COUNTRY_INFO!F39+COUNTRY_INFO!G39-ALB_MBD!$J39,COUNTRY_INFO!F39+COUNTRY_INFO!G39), 0),0)","v":0},{"$f":"IF(INTRO!$E$39<>\"Endémique\",0, IF(AND(COUNTRY_INFO!$I39=1,$F39<>0),IF(COUNTRY_INFO!N39>=(COUNTRY_INFO!F39+COUNTRY_INFO!G39),COUNTRY_INFO!F39+COUNTRY_INFO!G39,COUNTRY_INFO!$N39), 0))","v":0},null,0,0,0,0,0,null,0,0]
[{"$f":"IF(INTRO!$E$39=\"Non endémique\",\" \",IF(COUNTRY_INFO!A40=0,\" \",COUNTRY_INFO!A40))","v":"Angola"},{"$f":"IF(INTRO!$E$39=\"Non endémique\",\" \",IF(COUNTRY_INFO!B40=0,\" \",COUNTRY_INFO!B40))","v":"CUNENE"},{"$f":"IF(INTRO!$E$39=\"Non endémique\",\" \",IF(COUNTRY_INFO!C40=0,\" \",COUNTRY_INFO!C40))","v":"CUROCA"},{"$f":"IF(INTRO!$E$39=\"Non endémique\",0,IF(INTRO!$E$39=\"Endémique mais pas de CP\",IF(COUNTRY_INFO!$H40=1,COUNTRY_INFO!F40+COUNTRY_INFO!G40,0),IF(COUNTRY_INFO!$H40=1,COUNTRY_INFO!F40+COUNTRY_INFO!G40,IF(COUNTRY_INFO!$I40=1,IF(COUNTRY_INFO!N40>=(COUNTRY_INFO!F40+COUNTRY_INFO!G40),COUNTRY_INFO!F40+COUNTRY_INFO!G40,COUNTRY_INFO!$N40),0))))","v":0},{"$f":"IF(AND(INTRO!$E$39=\"Non endémique\",INTRO!$E$37=\"Non endémique\"),\"Non requis\",IF(INTRO!$E$39=\"Non endémique\",\"Traiter avec DEC\",COUNTRY_INFO!Q40))","v":0},{"$f":"IF(INTRO!$E$39<>\"Non endémique\",COUNTRY_INFO!R40,\"Non requis\")","v":0},{"$f":"IF(COUNTRY_INFO!H40=1, IF($E40=1,IF(ALB_MBD!$J40<>\" \",COUNTRY_INFO!F40+COUNTRY_INFO!G40-ALB_MBD!$J40,COUNTRY_INFO!F40+COUNTRY_INFO!G40), 0),0)","v":0},{"$f":"IF(INTRO!$E$39<>\"Endémique\",0, IF(AND(COUNTRY_INFO!$I40=1,$F40<>0),IF(COUNTRY_INFO!N40>=(COUNTRY_INFO!F40+COUNTRY_INFO!G40),COUNTRY_INFO!F40+COUNTRY_INFO!G40,COUNTRY_INFO!$N40), 0))","v":0},null,0,0,0,0,0,null,0,0]
[{"$f":"IF(INTRO!$E$39=\"Non endémique\",\" \",IF(COUNTRY_INFO!A41=0,\" \",COUNTRY_INFO!A41))","v":"Angola"},{"$f":"IF(INTRO!$E$39=\"Non endémique\",\" \",IF(COUNTRY_INFO!B41=0,\" \",COUNTRY_INFO!B41))","v":"CUNENE"},{"$f":"IF(INTRO!$E$39=\"Non endémique\",\" \",IF(COUNTRY_INFO!C41=0,\" \",COUNTRY_INFO!C41))","v":"CUVELAI"},{"$f":"IF(INTRO!$E$39=\"Non endémique\",0,IF(INTRO!$E$39=\"Endémique mais pas de CP\",IF(COUNTRY_INFO!$H41=1,COUNTRY_INFO!F41+COUNTRY_INFO!G41,0),IF(COUNTRY_INFO!$H41=1,COUNTRY_INFO!F41+COUNTRY_INFO!G41,IF(COUNTRY_INFO!$I41=1,IF(COUNTRY_INFO!N41>=(COUNTRY_INFO!F41+COUNTRY_INFO!G41),COUNTRY_INFO!F41+COUNTRY_INFO!G41,COUNTRY_INFO!$N41),0))))","v":0},{"$f":"IF(AND(INTRO!$E$39=\"Non endémique\",INTRO!$E$37=\"Non endémique\"),\"Non requis\",IF(INTRO!$E$39=\"Non endémique\",\"Traiter avec DEC\",COUNTRY_INFO!Q41))","v":0},{"$f":"IF(INTRO!$E$39<>\"Non endémique\",COUNTRY_INFO!R41,\"Non requis\")","v":0},{"$f":"IF(COUNTRY_INFO!H41=1, IF($E41=1,IF(ALB_MBD!$J41<>\" \",COUNTRY_INFO!F41+COUNTRY_INFO!G41-ALB_MBD!$J41,COUNTRY_INFO!F41+COUNTRY_INFO!G41), 0),0)","v":0},{"$f":"IF(INTRO!$E$39<>\"Endémique\",0, IF(AND(COUNTRY_INFO!$I41=1,$F41<>0),IF(COUNTRY_INFO!N41>=(COUNTRY_INFO!F41+COUNTRY_INFO!G41),COUNTRY_INFO!F41+COUNTRY_INFO!G41,COUNTRY_INFO!$N41), 0))","v":0},null,{"$f":"IF(I41=0,H41,IF(I41>H41,H41,I41))","v":0},{"$f":"IF(G41<J41,0,IF($E41=1, (G41-J41)*2.8, 0))","v":0},{"$f":"IF($E41<$F41, J41*(F41-E41)*2.8, 0)","v":0},{"$f":"IF(AND($E41=1, $F41<>0), J41*2.8, 0)","v":0},{"$f":"SUM(K41:M41)","v":0},null,{"$f":"IF($N41>$O41,$N41-$O41,0)","v":0},{"$f":"ROUNDUP($N41/500,0)","v":0}]
[{"$f":"IF(INTRO!$E$39=\"Non endémique\",\" \",IF(COUNTRY_INFO!A42=0,\" \",COUNTRY_INFO!A42))","v":"Angola"},{"$f":"IF(INTRO!$E$39=\"Non endémique\",\" \",IF(COUNTRY_INFO!B42=0,\" \",COUNTRY_INFO!B42))","v":"CUNENE"},{"$f":"IF(INTRO!$E$39=\"Non endémique\",\" \",IF(COUNTRY_INFO!C42=0,\" \",COUNTRY_INFO!C42))","v":"NAMACUNDE"},{"$f":"IF(INTRO!$E$39=\"Non endémique\",0,IF(INTRO!$E$39=\"Endémique mais pas de CP\",IF(COUNTRY_INFO!$H42=1,COUNTRY_INFO!F42+COUNTRY_INFO!G42,0),IF(COUNTRY_INFO!$H42=1,COUNTRY_INFO!F42+COUNTRY_INFO!G42,IF(COUNTRY_INFO!$I42=1,IF(COUNTRY_INFO!N42>=(COUNTRY_INFO!F42+COUNTRY_INFO!G42),COUNTRY_INFO!F42+COUNTRY_INFO!G42,COUNTRY_INFO!$N42),0))))","v":0},{"$f":"IF(AND(INTRO!$E$39=\"Non endémique\",INTRO!$E$37=\"Non endémique\"),\"Non requis\",IF(INTRO!$E$39=\"Non endémique\",\"Traiter avec DEC\",COUNTRY_INFO!Q42))","v":0},{"$f":"IF(INTRO!$E$39<>\"Non endémique\",COUNTRY_INFO!R42,\"Non requis\")","v":0},{"$f":"IF(COUNTRY_INFO!H42=1, IF($E42=1,IF(ALB_MBD!$J42<>\" \",COUNTRY_INFO!F42+COUNTRY_INFO!G42-ALB_MBD!$J42,COUNTRY_INFO!F42+COUNTRY_INFO!G42), 0),0)","v":0},{"$f":"IF(INTRO!$E$39<>\"Endémique\",0, IF(AND(COUNTRY_INFO!$I42=1,$F42<>0),IF(COUNTRY_INFO!N42>=(COUNTRY_INFO!F42+COUNTRY_INFO!G42),COUNTRY_INFO!F42+COUNTRY_INFO!G42,COUNTRY_INFO!$N42), 0))","v":0},null,0,0,0,0,0,null,0,0]
[{"$f":"IF(INTRO!$E$39=\"Non endémique\",\" \",IF(COUNTRY_INFO!A43=0,\" \",COUNTRY_INFO!A43))","v":"Angola"},{"$f":"IF(INTRO!$E$39=\"Non endémique\",\" \",IF(COUNTRY_INFO!B43=0,\" \",COUNTRY_INFO!B43))","v":"CUNENE"},{"$f":"IF(INTRO!$E$39=\"Non endémique\",\" \",IF(COUNTRY_INFO!C43=0,\" \",COUNTRY_INFO!C43))","v":"OMBADJA"},{"$f":"IF(INTRO!$E$39=\"Non endémique\",0,IF(INTRO!$E$39=\"Endémique mais pas de CP\",IF(COUNTRY_INFO!$H43=1,COUNTRY_INFO!F43+COUNTRY_INFO!G43,0),IF(COUNTRY_INFO!$H43=1,COUNTRY_INFO!F43+COUNTRY_INFO!G43,IF(COUNTRY_INFO!$I43=1,IF(COUNTRY_INFO!N43>=(COUNTRY_INFO!F43+COUNTRY_INFO!G43),COUNTRY_INFO!F43+COUNTRY_INFO!G43,COUNTRY_INFO!$N43),0))))","v":0},{"$f":"IF(AND(INTRO!$E$39=\"Non endémique\",INTRO!$E$37=\"Non endémique\"),\"Non requis\",IF(INTRO!$E$39=\"Non endémique\",\"Traiter avec DEC\",COUNTRY_INFO!Q43))","v":0},{"$f":"IF(INTRO!$E$39<>\"Non endémique\",COUNTRY_INFO!R43,\"Non requis\")","v":0},{"$f":"IF(COUNTRY_INFO!H43=1, IF($E43=1,IF(ALB_MBD!$J43<>\" \",COUNTRY_INFO!F43+COUNTRY_INFO!G43-ALB_MBD!$J43,COUNTRY_INFO!F43+COUNTRY_INFO!G43), 0),0)","v":0},{"$f":"IF(INTRO!$E$39<>\"Endémique\",0, IF(AND(COUNTRY_INFO!$I43=1,$F43<>0),IF(COUNTRY_INFO!N43>=(COUNTRY_INFO!F43+COUNTRY_INFO!G43),COUNTRY_INFO!F43+COUNTRY_INFO!G43,COUNTRY_INFO!$N43), 0))","v":0},null,0,0,0,0,0,null,0,0]
[{"$f":"IF(INTRO!$E$39=\"Non endémique\",\" \",IF(COUNTRY_INFO!A44=0,\" \",COUNTRY_INFO!A44))","v":"Angola"},{"$f":"IF(INTRO!$E$39=\"Non endémique\",\" \",IF(COUNTRY_INFO!B44=0,\" \",COUNTRY_INFO!B44))","v":"HUAMBO"},{"$f":"IF(INTRO!$E$39=\"Non endémique\",\" \",IF(COUNTRY_INFO!C44=0,\" \",COUNTRY_INFO!C44))","v":"BAILUNDO"},{"$f":"IF(INTRO!$E$39=\"Non endémique\",0,IF(INTRO!$E$39=\"Endémique mais pas de CP\",IF(COUNTRY_INFO!$H44=1,COUNTRY_INFO!F44+COUNTRY_INFO!G44,0),IF(COUNTRY_INFO!$H44=1,COUNTRY_INFO!F44+COUNTRY_INFO!G44,IF(COUNTRY_INFO!$I44=1,IF(COUNTRY_INFO!N44>=(COUNTRY_INFO!F44+COUNTRY_INFO!G44),COUNTRY_INFO!F44+COUNTRY_INFO!G44,COUNTRY_INFO!$N44),0))))","v":0},{"$f":"IF(AND(INTRO!$E$39=\"Non endémique\",INTRO!$E$37=\"Non endémique\"),\"Non requis\",IF(INTRO!$E$39=\"Non endémique\",\"Traiter avec DEC\",COUNTRY_INFO!Q44))","v":0},{"$f":"IF(INTRO!$E$39<>\"Non endémique\",COUNTRY_INFO!R44,\"Non requis\")","v":0},{"$f":"IF(COUNTRY_INFO!H44=1, IF($E44=1,IF(ALB_MBD!$J44<>\" \",COUNTRY_INFO!F44+COUNTRY_INFO!G44-ALB_MBD!$J44,COUNTRY_INFO!F44+COUNTRY_INFO!G44), 0),0)","v":0},{"$f":"IF(INTRO!$E$39<>\"Endémique\",0, IF(AND(COUNTRY_INFO!$I44=1,$F44<>0),IF(COUNTRY_INFO!N44>=(COUNTRY_INFO!F44+COUNTRY_INFO!G44),COUNTRY_INFO!F44+COUNTRY_INFO!G44,COUNTRY_INFO!$N44), 0))","v":0},null,0,0,0,0,0,null,0,0]
[{"$f":"IF(INTRO!$E$39=\"Non endémique\",\" \",IF(COUNTRY_INFO!A45=0,\" \",COUNTRY_INFO!A45))","v":"Angola"},{"$f":"IF(INTRO!$E$39=\"Non endémique\",\" \",IF(COUNTRY_INFO!B45=0,\" \",COUNTRY_INFO!B45))","v":"HUAMBO"},{"$f":"IF(INTRO!$E$39=\"Non endémique\",\" \",IF(COUNTRY_INFO!C45=0,\" \",COUNTRY_INFO!C45))","v":"CAALA"},{"$f":"IF(INTRO!$E$39=\"Non endémique\",0,IF(INTRO!$E$39=\"Endémique mais pas de CP\",IF(COUNTRY_INFO!$H45=1,COUNTRY_INFO!F45+COUNTRY_INFO!G45,0),IF(COUNTRY_INFO!$H45=1,COUNTRY_INFO!F45+COUNTRY_INFO!G45,IF(COUNTRY_INFO!$I45=1,IF(COUNTRY_INFO!N45>=(COUNTRY_INFO!F45+COUNTRY_INFO!G45),COUNTRY_INFO!F45+COUNTRY_INFO!G45,COUNTRY_INFO!$N45),0))))","v":0},{"$f":"IF(AND(INTRO!$E$39=\"Non endémique\",INTRO!$E$37=\"Non endémique\"),\"Non requis\",IF(INTRO!$E$39=\"Non endémique\",\"Traiter avec DEC\",COUNTRY_INFO!Q45))","v":0},{"$f":"IF(INTRO!$E$39<>\"Non endémique\",COUNTRY_INFO!R45,\"Non requis\")","v":0},{"$f":"IF(COUNTRY_INFO!H45=1, IF($E45=1,IF(ALB_MBD!$J45<>\" \",COUNTRY_INFO!F45+COUNTRY_INFO!G45-ALB_MBD!$J45,COUNTRY_INFO!F45+COUNTRY_INFO!G45), 0),0)","v":0},{"$f":"IF(INTRO!$E$39<>\"Endémique\",0, IF(AND(COUNTRY_INFO!$I45=1,$F45<>0),IF(COUNTRY_INFO!N45>=(COUNTRY_INFO!F45+COUNTRY_INFO!G45),COUNTRY_INFO!F45+COUNTRY_INFO!G45,COUNTRY_INFO!$N45), 0))","v":0},null,0,0,0,0,0,null,0,0]
[{"$f":"IF(INTRO!$E$39=\"Non endémique\",\" \",IF(COUNTRY_INFO!A46=0,\" \",COUNTRY_INFO!A46))","v":"Angola"},{"$f":"IF(INTRO!$E$39=\"Non endémique\",\" \",IF(COUNTRY_INFO!B46=0,\" \",COUNTRY_INFO!B46))","v":"HUAMBO"},{"$f":"IF(INTRO!$E$39=\"Non endémique\",\" \",IF(COUNTRY_INFO!C46=0,\" \",COUNTRY_INFO!C46))","v":"EKUNHA"},{"$f":"IF(INTRO!$E$39=\"Non endémique\",0,IF(INTRO!$E$39=\"Endémique mais pas de CP\",IF(COUNTRY_INFO!$H46=1,COUNTRY_INFO!F46+COUNTRY_INFO!G46,0),IF(COUNTRY_INFO!$H46=1,COUNTRY_INFO!F46+COUNTRY_INFO!G46,IF(COUNTRY_INFO!$I46=1,IF(COUNTRY_INFO!N46>=(COUNTRY_INFO!F46+COUNTRY_INFO!G46),COUNTRY_INFO!F46+COUNTRY_INFO!G46,COUNTRY_INFO!$N46),0))))","v":0},{"$f":"IF(AND(INTRO!$E$39=\"Non endémique\",INTRO!$E$37=\"Non endémique\"),\"Non requis\",IF(INTRO!$E$39=\"Non endémique\",\"Traiter avec DEC\",COUNTRY_INFO!Q46))","v":0},{"$f":"IF(INTRO!$E$39<>\"Non endémique\",COUNTRY_INFO!R46,\"Non requis\")","v":0},{"$f":"IF(COUNTRY_INFO!H46=1, IF($E46=1,IF(ALB_MBD!$J46<>\" \",COUNTRY_INFO!F46+COUNTRY_INFO!G46-ALB_MBD!$J46,COUNTRY_INFO!F46+COUNTRY_INFO!G46), 0),0)","v":0},{"$f":"IF(INTRO!$E$39<>\"Endémique\",0, IF(AND(COUNTRY_INFO!$I46=1,$F46<>0),IF(COUNTRY_INFO!N46>=(COUNTRY_INFO!F46+COUNTRY_INFO!G46),COUNTRY_INFO!F46+COUNTRY_INFO!G46,COUNTRY_INFO!$N46), 0))","v":0},null,0,0,0,0,0,null,0,0]
[{"$f":"IF(INTRO!$E$39=\"Non endémique\",\" \",IF(COUNTRY_INFO!A47=0,\" \",COUNTRY_INFO!A47))","v":"Angola"},{"$f":"IF(INTRO!$E$39=\"Non endémique\",\" \",IF(COUNTRY_INFO!B47=0,\" \",COUNTRY_INFO!B47))","v":"HUAMBO"},{"$f":"IF(INTRO!$E$39=\"Non endémique\",\" \",IF(COUNTRY_INFO!C47=0,\" \",COUNTRY_INFO!C47))","v":"HUAMBO"},{"$f":"IF(INTRO!$E$39=\"Non endémique\",0,IF(INTRO!$E$39=\"Endémique mais pas de CP\",IF(COUNTRY_INFO!$H47=1,COUNTRY_INFO!F47+COUNTRY_INFO!G47,0),IF(COUNTRY_INFO!$H47=1,COUNTRY_INFO!F47+COUNTRY_INFO!G47,IF(COUNTRY_INFO!$I47=1,IF(COUNTRY_INFO!N47>=(COUNTRY_INFO!F47+COUNTRY_INFO!G47),COUNTRY_INFO!F47+COUNTRY_INFO!G47,COUNTRY_INFO!$N47),0))))","v":0},{"$f":"IF(AND(INTRO!$E$39=\"Non endémique\",INTRO!$E$37=\"Non endémique\"),\"Non requis\",IF(INTRO!$E$39=\"Non endémique\",\"Traiter avec DEC\",COUNTRY_INFO!Q47))","v":0},{"$f":"IF(INTRO!$E$39<>\"Non endémique\",COUNTRY_INFO!R47,\"Non requis\")","v":0},{"$f":"IF(COUNTRY_INFO!H47=1, IF($E47=1,IF(ALB_MBD!$J47<>\" \",COUNTRY_INFO!F47+COUNTRY_INFO!G47-ALB_MBD!$J47,COUNTRY_INFO!F47+COUNTRY_INFO!G47), 0),0)","v":0},{"$f":"IF(INTRO!$E$39<>\"Endémique\",0, IF(AND(COUNTRY_INFO!$I47=1,$F47<>0),IF(COUNTRY_INFO!N47>=(COUNTRY_INFO!F47+COUNTRY_INFO!G47),COUNTRY_INFO!F47+COUNTRY_INFO!G47,COUNTRY_INFO!$N47), 0))","v":0},null,0,0,0,0,0,null,0,0]
[{"$f":"IF(INTRO!$E$39=\"Non endémique\",\" \",IF(COUNTRY_INFO!A48=0,\" \",COUNTRY_INFO!A48))","v":"Angola"},{"$f":"IF(INTRO!$E$39=\"Non endémique\",\" \",IF(COUNTRY_INFO!B48=0,\" \",COUNTRY_INFO!B48))","v":"HUAMBO"},{"$f":"IF(INTRO!$E$39=\"Non endémique\",\" \",IF(COUNTRY_INFO!C48=0,\" \",COUNTRY_INFO!C48))","v":"CACHIUNGO"},{"$f":"IF(INTRO!$E$39=\"Non endémique\",0,IF(INTRO!$E$39=\"Endémique mais pas de CP\",IF(COUNTRY_INFO!$H48=1,COUNTRY_INFO!F48+COUNTRY_INFO!G48,0),IF(COUNTRY_INFO!$H48=1,COUNTRY_INFO!F48+COUNTRY_INFO!G48,IF(COUNTRY_INFO!$I48=1,IF(COUNTRY_INFO!N48>=(COUNTRY_INFO!F48+COUNTRY_INFO!G48),COUNTRY_INFO!F48+COUNTRY_INFO!G48,COUNTRY_INFO!$N48),0))))","v":0},{"$f":"IF(AND(INTRO!$E$39=\"Non endémique\",INTRO!$E$37=\"Non endémique\"),\"Non requis\",IF(INTRO!$E$39=\"Non endémique\",\"Traiter avec DEC\",COUNTRY_INFO!Q48))","v":0},{"$f":"IF(INTRO!$E$39<>\"Non endémique\",COUNTRY_INFO!R48,\"Non requis\")","v":0},{"$f":"IF(COUNTRY_INFO!H48=1, IF($E48=1,IF(ALB_MBD!$J48<>\" \",COUNTRY_INFO!F48+COUNTRY_INFO!G48-ALB_MBD!$J48,COUNTRY_INFO!F48+COUNTRY_INFO!G48), 0),0)","v":0},{"$f":"IF(INTRO!$E$39<>\"Endémique\",0, IF(AND(COUNTRY_INFO!$I48=1,$F48<>0),IF(COUNTRY_INFO!N48>=(COUNTRY_INFO!F48+COUNTRY_INFO!G48),COUNTRY_INFO!F48+COUNTRY_INFO!G48,COUNTRY_INFO!$N48), 0))","v":0},null,0,0,0,0,0,null,0,0]
[{"$f":"IF(INTRO!$E$39=\"Non endémique\",\" \",IF(COUNTRY_INFO!A49=0,\" \",COUNTRY_INFO!A49))","v":"Angola"},{"$f":"IF(INTRO!$E$39=\"Non endémique\",\" \",IF(COUNTRY_INFO!B49=0,\" \",COUNTRY_INFO!B49))","v":"HUAMBO"},{"$f":"IF(INTRO!$E$39=\"Non endémique\",\" \",IF(COUNTRY_INFO!C49=0,\" \",COUNTRY_INFO!C49))","v":"LONDUIMBALI"},{"$f":"IF(INTRO!$E$39=\"Non endémique\",0,IF(INTRO!$E$39=\"Endémique mais pas de CP\",IF(COUNTRY_INFO!$H49=1,COUNTRY_INFO!F49+COUNTRY_INFO!G49,0),IF(COUNTRY_INFO!$H49=1,COUNTRY_INFO!F49+COUNTRY_INFO!G49,IF(COUNTRY_INFO!$I49=1,IF(COUNTRY_INFO!N49>=(COUNTRY_INFO!F49+COUNTRY_INFO!G49),COUNTRY_INFO!F49+COUNTRY_INFO!G49,COUNTRY_INFO!$N49),0))))","v":0},{"$f":"IF(AND(INTRO!$E$39=\"Non endémique\",INTRO!$E$37=\"Non endémique\"),\"Non requis\",IF(INTRO!$E$39=\"Non endémique\",\"Traiter avec DEC\",COUNTRY_INFO!Q49))","v":0},{"$f":"IF(INTRO!$E$39<>\"Non endémique\",COUNTRY_INFO!R49,\"Non requis\")","v":0},{"$f":"IF(COUNTRY_INFO!H49=1, IF($E49=1,IF(ALB_MBD!$J49<>\" \",COUNTRY_INFO!F49+COUNTRY_INFO!G49-ALB_MBD!$J49,COUNTRY_INFO!F49+COUNTRY_INFO!G49), 0),0)","v":0},{"$f":"IF(INTRO!$E$39<>\"Endémique\",0, IF(AND(COUNTRY_INFO!$I49=1,$F49<>0),IF(COUNTRY_INFO!N49>=(COUNTRY_INFO!F49+COUNTRY_INFO!G49),COUNTRY_INFO!F49+COUNTRY_INFO!G49,COUNTRY_INFO!$N49), 0))","v":0},null,0,0,0,0,0,null,0,0]
[{"$f":"IF(INTRO!$E$39=\"Non endémique\",\" \",IF(COUNTRY_INFO!A50=0,\" \",COUNTRY_INFO!A50))","v":"Angola"},{"$f":"IF(INTRO!$E$39=\"Non endémique\",\" \",IF(COUNTRY_INFO!B50=0,\" \",COUNTRY_INFO!B50))","v":"HUAMBO"},{"$f":"IF(INTRO!$E$39=\"Non endémique\",\" \",IF(COUNTRY_INFO!C50=0,\" \",COUNTRY_INFO!C50))","v":"LONGONJO"},{"$f":"IF(INTRO!$E$39=\"Non endémique\",0,IF(INTRO!$E$39=\"Endémique mais pas de CP\",IF(COUNTRY_INFO!$H50=1,COUNTRY_INFO!F50+COUNTRY_INFO!G50,0),IF(COUNTRY_INFO!$H50=1,COUNTRY_INFO!F50+COUNTRY_INFO!G50,IF(COUNTRY_INFO!$I50=1,IF(COUNTRY_INFO!N50>=(COUNTRY_INFO!F50+COUNTRY_INFO!G50),COUNTRY_INFO!F50+COUNTRY_INFO!G50,COUNTRY_INFO!$N50),0))))","v":0},{"$f":"IF(AND(INTRO!$E$39=\"Non endémique\",INTRO!$E$37=\"Non endémique\"),\"Non requis\",IF(INTRO!$E$39=\"Non endémique\",\"Traiter avec DEC\",COUNTRY_INFO!Q50))","v":0},{"$f":"IF(INTRO!$E$39<>\"Non endémique\",COUNTRY_INFO!R50,\"Non requis\")","v":0},{"$f":"IF(COUNTRY_INFO!H50=1, IF($E50=1,IF(ALB_MBD!$J50<>\" \",COUNTRY_INFO!F50+COUNTRY_INFO!G50-ALB_MBD!$J50,COUNTRY_INFO!F50+COUNTRY_INFO!G50), 0),0)","v":0},{"$f":"IF(INTRO!$E$39<>\"Endémique\",0, IF(AND(COUNTRY_INFO!$I50=1,$F50<>0),IF(COUNTRY_INFO!N50>=(COUNTRY_INFO!F50+COUNTRY_INFO!G50),COUNTRY_INFO!F50+COUNTRY_INFO!G50,COUNTRY_INFO!$N50), 0))","v":0},null,0,0,0,0,0,null,0,0]
[{"$f":"IF(INTRO!$E$39=\"Non endémique\",\" \",IF(COUNTRY_INFO!A51=0,\" \",COUNTRY_INFO!A51))","v":"Angola"},{"$f":"IF(INTRO!$E$39=\"Non endémique\",\" \",IF(COUNTRY_INFO!B51=0,\" \",COUNTRY_INFO!B51))","v":"HUAMBO"},{"$f":"IF(INTRO!$E$39=\"Non endémique\",\" \",IF(COUNTRY_INFO!C51=0,\" \",COUNTRY_INFO!C51))","v":"MUNGO"},{"$f":"IF(INTRO!$E$39=\"Non endémique\",0,IF(INTRO!$E$39=\"Endémique mais pas de CP\",IF(COUNTRY_INFO!$H51=1,COUNTRY_INFO!F51+COUNTRY_INFO!G51,0),IF(COUNTRY_INFO!$H51=1,COUNTRY_INFO!F51+COUNTRY_INFO!G51,IF(COUNTRY_INFO!$I51=1,IF(COUNTRY_INFO!N51>=(COUNTRY_INFO!F51+COUNTRY_INFO!G51),COUNTRY_INFO!F51+COUNTRY_INFO!G51,COUNTRY_INFO!$N51),0))))","v":104440},{"$f":"IF(AND(INTRO!$E$39=\"Non endémique\",INTRO!$E$37=\"Non endémique\"),\"Non requis\",IF(INTRO!$E$39=\"Non endémique\",\"Traiter avec DEC\",COUNTRY_INFO!Q51))","v":0},{"$f":"IF(INTRO!$E$39<>\"Non endémique\",COUNTRY_INFO!R51,\"Non requis\")","v":1},{"$f":"IF(COUNTRY_INFO!H51=1, IF($E51=1,IF(ALB_MBD!$J51<>\" \",COUNTRY_INFO!F51+COUNTRY_INFO!G51-ALB_MBD!$J51,COUNTRY_INFO!F51+COUNTRY_INFO!G51), 0),0)","v":0},{"$f":"IF(INTRO!$E$39<>\"Endémique\",0, IF(AND(COUNTRY_INFO!$I51=1,$F51<>0),IF(COUNTRY_INFO!N51>=(COUNTRY_INFO!F51+COUNTRY_INFO!G51),COUNTRY_INFO!F51+COUNTRY_INFO!G51,COUNTRY_INFO!$N51), 0))","v":104440},null,104440,0,292432,0,292432,null,292432,585]
[{"$f":"IF(INTRO!$E$39=\"Non endémique\",\" \",IF(COUNTRY_INFO!A52=0,\" \",COUNTRY_INFO!A52))","v":"Angola"},{"$f":"IF(INTRO!$E$39=\"Non endémique\",\" \",IF(COUNTRY_INFO!B52=0,\" \",COUNTRY_INFO!B52))","v":"HUAMBO"},{"$f":"IF(INTRO!$E$39=\"Non endémique\",\" \",IF(COUNTRY_INFO!C52=0,\" \",COUNTRY_INFO!C52))","v":"TCHICALA TCHOLOHANGA"},{"$f":"IF(INTRO!$E$39=\"Non endémique\",0,IF(INTRO!$E$39=\"Endémique mais pas de CP\",IF(COUNTRY_INFO!$H52=1,COUNTRY_INFO!F52+COUNTRY_INFO!G52,0),IF(COUNTRY_INFO!$H52=1,COUNTRY_INFO!F52+COUNTRY_INFO!G52,IF(COUNTRY_INFO!$I52=1,IF(COUNTRY_INFO!N52>=(COUNTRY_INFO!F52+COUNTRY_INFO!G52),COUNTRY_INFO!F52+COUNTRY_INFO!G52,COUNTRY_INFO!$N52),0))))","v":0},{"$f":"IF(AND(INTRO!$E$39=\"Non endémique\",INTRO!$E$37=\"Non endémique\"),\"Non requis\",IF(INTRO!$E$39=\"Non endémique\",\"Traiter avec DEC\",COUNTRY_INFO!Q52))","v":0},{"$f":"IF(INTRO!$E$39<>\"Non endémique\",COUNTRY_INFO!R52,\"Non requis\")","v":0},{"$f":"IF(COUNTRY_INFO!H52=1, IF($E52=1,IF(ALB_MBD!$J52<>\" \",COUNTRY_INFO!F52+COUNTRY_INFO!G52-ALB_MBD!$J52,COUNTRY_INFO!F52+COUNTRY_INFO!G52), 0),0)","v":0},{"$f":"IF(INTRO!$E$39<>\"Endémique\",0, IF(AND(COUNTRY_INFO!$I52=1,$F52<>0),IF(COUNTRY_INFO!N52>=(COUNTRY_INFO!F52+COUNTRY_INFO!G52),COUNTRY_INFO!F52+COUNTRY_INFO!G52,COUNTRY_INFO!$N52), 0))","v":0},null,0,0,0,0,0,null,0,0]
[{"$f":"IF(INTRO!$E$39=\"Non endémique\",\" \",IF(COUNTRY_INFO!A53=0,\" \",COUNTRY_INFO!A53))","v":"Angola"},{"$f":"IF(INTRO!$E$39=\"Non endémique\",\" \",IF(COUNTRY_INFO!B53=0,\" \",COUNTRY_INFO!B53))","v":"HUAMBO"},{"$f":"IF(INTRO!$E$39=\"Non endémique\",\" \",IF(COUNTRY_INFO!C53=0,\" \",COUNTRY_INFO!C53))","v":"TCHINDJENJE"},{"$f":"IF(INTRO!$E$39=\"Non endémique\",0,IF(INTRO!$E$39=\"Endémique mais pas de CP\",IF(COUNTRY_INFO!$H53=1,COUNTRY_INFO!F53+COUNTRY_INFO!G53,0),IF(COUNTRY_INFO!$H53=1,COUNTRY_INFO!F53+COUNTRY_INFO!G53,IF(COUNTRY_INFO!$I53=1,IF(COUNTRY_INFO!N53>=(COUNTRY_INFO!F53+COUNTRY_INFO!G53),COUNTRY_INFO!F53+COUNTRY_INFO!G53,COUNTRY_INFO!$N53),0))))","v":0},{"$f":"IF(AND(INTRO!$E$39=\"Non endémique\",INTRO!$E$37=\"Non endémique\"),\"Non requis\",IF(INTRO!$E$39=\"Non endémique\",\"Traiter avec DEC\",COUNTRY_INFO!Q53))","v":0},{"$f":"IF(INTRO!$E$39<>\"Non endémique\",COUNTRY_INFO!R53,\"Non requis\")","v":0},{"$f":"IF(COUNTRY_INFO!H53=1, IF($E53=1,IF(ALB_MBD!$J53<>\" \",COUNTRY_INFO!F53+COUNTRY_INFO!G53-ALB_MBD!$J53,COUNTRY_INFO!F53+COUNTRY_INFO!G53), 0),0)","v":0},{"$f":"IF(INTRO!$E$39<>\"Endémique\",0, IF(AND(COUNTRY_INFO!$I53=1,$F53<>0),IF(COUNTRY_INFO!N53>=(COUNTRY_INFO!F53+COUNTRY_INFO!G53),COUNTRY_INFO!F53+COUNTRY_INFO!G53,COUNTRY_INFO!$N53), 0))","v":0},null,0,0,0,0,0,null,0,0]
[{"$f":"IF(INTRO!$E$39=\"Non endémique\",\" \",IF(COUNTRY_INFO!A54=0,\" \",COUNTRY_INFO!A54))","v":"Angola"},{"$f":"IF(INTRO!$E$39=\"Non endémique\",\" \",IF(COUNTRY_INFO!B54=0,\" \",COUNTRY_INFO!B54))","v":"HUAMBO"},{"$f":"IF(INTRO!$E$39=\"Non endémique\",\" \",IF(COUNTRY_INFO!C54=0,\" \",COUNTRY_INFO!C54))","v":"UKUMA"},{"$f":"IF(INTRO!$E$39=\"Non endémique\",0,IF(INTRO!$E$39=\"Endémique mais pas de CP\",IF(COUNTRY_INFO!$H54=1,COUNTRY_INFO!F54+COUNTRY_INFO!G54,0),IF(COUNTRY_INFO!$H54=1,COUNTRY_INFO!F54+COUNTRY_INFO!G54,IF(COUNTRY_INFO!$I54=1,IF(COUNTRY_INFO!N54>=(COUNTRY_INFO!F54+COUNTRY_INFO!G54),COUNTRY_INFO!F54+COUNTRY_INFO!G54,COUNTRY_INFO!$N54),0))))","v":0},{"$f":"IF(AND(INTRO!$E$39=\"Non endémique\",INTRO!$E$37=\"Non endémique\"),\"Non requis\",IF(INTRO!$E$39=\"Non endémique\",\"Traiter avec DEC\",COUNTRY_INFO!Q54))","v":0},{"$f":"IF(INTRO!$E$39<>\"Non endémique\",COUNTRY_INFO!R54,\"Non requis\")","v":0},{"$f":"IF(COUNTRY_INFO!H54=1, IF($E54=1,IF(ALB_MBD!$J54<>\" \",COUNTRY_INFO!F54+COUNTRY_INFO!G54-ALB_MBD!$J54,COUNTRY_INFO!F54+COUNTRY_INFO!G54), 0),0)","v":0},{"$f":"IF(INTRO!$E$39<>\"Endémique\",0, IF(AND(COUNTRY_INFO!$I54=1,$F54<>0),IF(COUNTRY_INFO!N54>=(COUNTRY_INFO!F54+COUNTRY_INFO!G54),COUNTRY_INFO!F54+COUNTRY_INFO!G54,COUNTRY_INFO!$N54), 0))","v":0},null,0,0,0,0,0,null,0,0]
[{"$f":"IF(INTRO!$E$39=\"Non endémique\",\" \",IF(COUNTRY_INFO!A55=0,\" \",COUNTRY_INFO!A55))","v":"Angola"},{"$f":"IF(INTRO!$E$39=\"Non endémique\",\" \",IF(COUNTRY_INFO!B55=0,\" \",COUNTRY_INFO!B55))","v":"HUILA"},{"$f":"IF(INTRO!$E$39=\"Non endémique\",\" \",IF(COUNTRY_INFO!C55=0,\" \",COUNTRY_INFO!C55))","v":"CACONDA"},{"$f":"IF(INTRO!$E$39=\"Non endémique\",0,IF(INTRO!$E$39=\"Endémique mais pas de CP\",IF(COUNTRY_INFO!$H55=1,COUNTRY_INFO!F55+COUNTRY_INFO!G55,0),IF(COUNTRY_INFO!$H55=1,COUNTRY_INFO!F55+COUNTRY_INFO!G55,IF(COUNTRY_INFO!$I55=1,IF(COUNTRY_INFO!N55>=(COUNTRY_INFO!F55+COUNTRY_INFO!G55),COUNTRY_INFO!F55+COUNTRY_INFO!G55,COUNTRY_INFO!$N55),0))))","v":0},{"$f":"IF(AND(INTRO!$E$39=\"Non endémique\",INTRO!$E$37=\"Non endémique\"),\"Non requis\",IF(INTRO!$E$39=\"Non endémique\",\"Traiter avec DEC\",COUNTRY_INFO!Q55))","v":0},{"$f":"IF(INTRO!$E$39<>\"Non endémique\",COUNTRY_INFO!R55,\"Non requis\")","v":0},{"$f":"IF(COUNTRY_INFO!H55=1, IF($E55=1,IF(ALB_MBD!$J55<>\" \",COUNTRY_INFO!F55+COUNTRY_INFO!G55-ALB_MBD!$J55,COUNTRY_INFO!F55+COUNTRY_INFO!G55), 0),0)","v":0},{"$f":"IF(INTRO!$E$39<>\"Endémique\",0, IF(AND(COUNTRY_INFO!$I55=1,$F55<>0),IF(COUNTRY_INFO!N55>=(COUNTRY_INFO!F55+COUNTRY_INFO!G55),COUNTRY_INFO!F55+COUNTRY_INFO!G55,COUNTRY_INFO!$N55), 0))","v":0},null,0,0,0,0,0,null,0,0]
[{"$f":"IF(INTRO!$E$39=\"Non endémique\",\" \",IF(COUNTRY_INFO!A56=0,\" \",COUNTRY_INFO!A56))","v":"Angola"},{"$f":"IF(INTRO!$E$39=\"Non endémique\",\" \",IF(COUNTRY_INFO!B56=0,\" \",COUNTRY_INFO!B56))","v":"HUILA"},{"$f":"IF(INTRO!$E$39=\"Non endémique\",\" \",IF(COUNTRY_INFO!C56=0,\" \",COUNTRY_INFO!C56))","v":"CACULA"},{"$f":"IF(INTRO!$E$39=\"Non endémique\",0,IF(INTRO!$E$39=\"Endémique mais pas de CP\",IF(COUNTRY_INFO!$H56=1,COUNTRY_INFO!F56+COUNTRY_INFO!G56,0),IF(COUNTRY_INFO!$H56=1,COUNTRY_INFO!F56+COUNTRY_INFO!G56,IF(COUNTRY_INFO!$I56=1,IF(COUNTRY_INFO!N56>=(COUNTRY_INFO!F56+COUNTRY_INFO!G56),COUNTRY_INFO!F56+COUNTRY_INFO!G56,COUNTRY_INFO!$N56),0))))","v":0},{"$f":"IF(AND(INTRO!$E$39=\"Non endémique\",INTRO!$E$37=\"Non endémique\"),\"Non requis\",IF(INTRO!$E$39=\"Non endémique\",\"Traiter avec DEC\",COUNTRY_INFO!Q56))","v":0},{"$f":"IF(INTRO!$E$39<>\"Non endémique\",COUNTRY_INFO!R56,\"Non requis\")","v":0},{"$f":"IF(COUNTRY_INFO!H56=1, IF($E56=1,IF(ALB_MBD!$J56<>\" \",COUNTRY_INFO!F56+COUNTRY_INFO!G56-ALB_MBD!$J56,COUNTRY_INFO!F56+COUNTRY_INFO!G56), 0),0)","v":0},{"$f":"IF(INTRO!$E$39<>\"Endémique\",0, IF(AND(COUNTRY_INFO!$I56=1,$F56<>0),IF(COUNTRY_INFO!N56>=(COUNTRY_INFO!F56+COUNTRY_INFO!G56),COUNTRY_INFO!F56+COUNTRY_INFO!G56,COUNTRY_INFO!$N56), 0))","v":0},null,0,0,0,0,0,null,0,0]
[{"$f":"IF(INTRO!$E$39=\"Non endémique\",\" \",IF(COUNTRY_INFO!A57=0,\" \",COUNTRY_INFO!A57))","v":"Angola"},{"$f":"IF(INTRO!$E$39=\"Non endémique\",\" \",IF(COUNTRY_INFO!B57=0,\" \",COUNTRY_INFO!B57))","v":"HUILA"},{"$f":"IF(INTRO!$E$39=\"Non endémique\",\" \",IF(COUNTRY_INFO!C57=0,\" \",COUNTRY_INFO!C57))","v":"CALUQUEMBE"},{"$f":"IF(INTRO!$E$39=\"Non endémique\",0,IF(INTRO!$E$39=\"Endémique mais pas de CP\",IF(COUNTRY_INFO!$H57=1,COUNTRY_INFO!F57+COUNTRY_INFO!G57,0),IF(COUNTRY_INFO!$H57=1,COUNTRY_INFO!F57+COUNTRY_INFO!G57,IF(COUNTRY_INFO!$I57=1,IF(COUNTRY_INFO!N57>=(COUNTRY_INFO!F57+COUNTRY_INFO!G57),COUNTRY_INFO!F57+COUNTRY_INFO!G57,COUNTRY_INFO!$N57),0))))","v":165689},{"$f":"IF(AND(INTRO!$E$39=\"Non endémique\",INTRO!$E$37=\"Non endémique\"),\"Non requis\",IF(INTRO!$E$39=\"Non endémique\",\"Traiter avec DEC\",COUNTRY_INFO!Q57))","v":0},{"$f":"IF(INTRO!$E$39<>\"Non endémique\",COUNTRY_INFO!R57,\"Non requis\")","v":1},{"$f":"IF(COUNTRY_INFO!H57=1, IF($E57=1,IF(ALB_MBD!$J57<>\" \",COUNTRY_INFO!F57+COUNTRY_INFO!G57-ALB_MBD!$J57,COUNTRY_INFO!F57+COUNTRY_INFO!G57), 0),0)","v":0},{"$f":"IF(INTRO!$E$39<>\"Endémique\",0, IF(AND(COUNTRY_INFO!$I57=1,$F57<>0),IF(COUNTRY_INFO!N57>=(COUNTRY_INFO!F57+COUNTRY_INFO!G57),COUNTRY_INFO!F57+COUNTRY_INFO!G57,COUNTRY_INFO!$N57), 0))","v":165689},null,165689,0,463929.19999999995,0,463929.19999999995,null,463929.19999999995,928]
[{"$f":"IF(INTRO!$E$39=\"Non endémique\",\" \",IF(COUNTRY_INFO!A58=0,\" \",COUNTRY_INFO!A58))","v":"Angola"},{"$f":"IF(INTRO!$E$39=\"Non endémique\",\" \",IF(COUNTRY_INFO!B58=0,\" \",COUNTRY_INFO!B58))","v":"HUILA"},{"$f":"IF(INTRO!$E$39=\"Non endémique\",\" \",IF(COUNTRY_INFO!C58=0,\" \",COUNTRY_INFO!C58))","v":"CHIBIA"},{"$f":"IF(INTRO!$E$39=\"Non endémique\",0,IF(INTRO!$E$39=\"Endémique mais pas de CP\",IF(COUNTRY_INFO!$H58=1,COUNTRY_INFO!F58+COUNTRY_INFO!G58,0),IF(COUNTRY_INFO!$H58=1,COUNTRY_INFO!F58+COUNTRY_INFO!G58,IF(COUNTRY_INFO!$I58=1,IF(COUNTRY_INFO!N58>=(COUNTRY_INFO!F58+COUNTRY_INFO!G58),COUNTRY_INFO!F58+COUNTRY_INFO!G58,COUNTRY_INFO!$N58),0))))","v":0},{"$f":"IF(AND(INTRO!$E$39=\"Non endémique\",INTRO!$E$37=\"Non endémique\"),\"Non requis\",IF(INTRO!$E$39=\"Non endémique\",\"Traiter avec DEC\",COUNTRY_INFO!Q58))","v":0},{"$f":"IF(INTRO!$E$39<>\"Non endémique\",COUNTRY_INFO!R58,\"Non requis\")","v":0},{"$f":"IF(COUNTRY_INFO!H58=1, IF($E58=1,IF(ALB_MBD!$J58<>\" \",COUNTRY_INFO!F58+COUNTRY_INFO!G58-ALB_MBD!$J58,COUNTRY_INFO!F58+COUNTRY_INFO!G58), 0),0)","v":0},{"$f":"IF(INTRO!$E$39<>\"Endémique\",0, IF(AND(COUNTRY_INFO!$I58=1,$F58<>0),IF(COUNTRY_INFO!N58>=(COUNTRY_INFO!F58+COUNTRY_INFO!G58),COUNTRY_INFO!F58+COUNTRY_INFO!G58,COUNTRY_INFO!$N58), 0))","v":0},null,0,0,0,0,0,null,0,0]
[{"$f":"IF(INTRO!$E$39=\"Non endémique\",\" \",IF(COUNTRY_INFO!A59=0,\" \",COUNTRY_INFO!A59))","v":"Angola"},{"$f":"IF(INTRO!$E$39=\"Non endémique\",\" \",IF(COUNTRY_INFO!B59=0,\" \",COUNTRY_INFO!B59))","v":"HUILA"},{"$f":"IF(INTRO!$E$39=\"Non endémique\",\" \",IF(COUNTRY_INFO!C59=0,\" \",COUNTRY_INFO!C59))","v":"CHICOMBA"},{"$f":"IF(INTRO!$E$39=\"Non endémique\",0,IF(INTRO!$E$39=\"Endémique mais pas de CP\",IF(COUNTRY_INFO!$H59=1,COUNTRY_INFO!F59+COUNTRY_INFO!G59,0),IF(COUNTRY_INFO!$H59=1,COUNTRY_INFO!F59+COUNTRY_INFO!G59,IF(COUNTRY_INFO!$I59=1,IF(COUNTRY_INFO!N59>=(COUNTRY_INFO!F59+COUNTRY_INFO!G59),COUNTRY_INFO!F59+COUNTRY_INFO!G59,COUNTRY_INFO!$N59),0))))","v":121374},{"$f":"IF(AND(INTRO!$E$39=\"Non endémique\",INTRO!$E$37=\"Non endémique\"),\"Non requis\",IF(INTRO!$E$39=\"Non endémique\",\"Traiter avec DEC\",COUNTRY_INFO!Q59))","v":0},{"$f":"IF(INTRO!$E$39<>\"Non endémique\",COUNTRY_INFO!R59,\"Non requis\")","v":1},{"$f":"IF(COUNTRY_INFO!H59=1, IF($E59=1,IF(ALB_MBD!$J59<>\" \",COUNTRY_INFO!F59+COUNTRY_INFO!G59-ALB_MBD!$J59,COUNTRY_INFO!F59+COUNTRY_INFO!G59), 0),0)","v":0},{"$f":"IF(INTRO!$E$39<>\"Endémique\",0, IF(AND(COUNTRY_INFO!$I59=1,$F59<>0),IF(COUNTRY_INFO!N59>=(COUNTRY_INFO!F59+COUNTRY_INFO!G59),COUNTRY_INFO!F59+COUNTRY_INFO!G59,COUNTRY_INFO!$N59), 0))","v":121374},null,121374,0,339847.19999999995,0,339847.19999999995,null,339847.19999999995,680]
[{"$f":"IF(INTRO!$E$39=\"Non endémique\",\" \",IF(COUNTRY_INFO!A60=0,\" \",COUNTRY_INFO!A60))","v":"Angola"},{"$f":"IF(INTRO!$E$39=\"Non endémique\",\" \",IF(COUNTRY_INFO!B60=0,\" \",COUNTRY_INFO!B60))","v":"HUILA"},{"$f":"IF(INTRO!$E$39=\"Non endémique\",\" \",IF(COUNTRY_INFO!C60=0,\" \",COUNTRY_INFO!C60))","v":"CHIPINDO"},{"$f":"IF(INTRO!$E$39=\"Non endémique\",0,IF(INTRO!$E$39=\"Endémique mais pas de CP\",IF(COUNTRY_INFO!$H60=1,COUNTRY_INFO!F60+COUNTRY_INFO!G60,0),IF(COUNTRY_INFO!$H60=1,COUNTRY_INFO!F60+COUNTRY_INFO!G60,IF(COUNTRY_INFO!$I60=1,IF(COUNTRY_INFO!N60>=(COUNTRY_INFO!F60+COUNTRY_INFO!G60),COUNTRY_INFO!F60+COUNTRY_INFO!G60,COUNTRY_INFO!$N60),0))))","v":59592},{"$f":"IF(AND(INTRO!$E$39=\"Non endémique\",INTRO!$E$37=\"Non endémique\"),\"Non requis\",IF(INTRO!$E$39=\"Non endémique\",\"Traiter avec DEC\",COUNTRY_INFO!Q60))","v":0},{"$f":"IF(INTRO!$E$39<>\"Non endémique\",COUNTRY_INFO!R60,\"Non requis\")","v":1},{"$f":"IF(COUNTRY_INFO!H60=1, IF($E60=1,IF(ALB_MBD!$J60<>\" \",COUNTRY_INFO!F60+COUNTRY_INFO!G60-ALB_MBD!$J60,COUNTRY_INFO!F60+COUNTRY_INFO!G60), 0),0)","v":0},{"$f":"IF(INTRO!$E$39<>\"Endémique\",0, IF(AND(COUNTRY_INFO!$I60=1,$F60<>0),IF(COUNTRY_INFO!N60>=(COUNTRY_INFO!F60+COUNTRY_INFO!G60),COUNTRY_INFO!F60+COUNTRY_INFO!G60,COUNTRY_INFO!$N60), 0))","v":59592},null,59592,0,166857.59999999998,0,166857.59999999998,null,166857.59999999998,334]
[{"$f":"IF(INTRO!$E$39=\"Non endémique\",\" \",IF(COUNTRY_INFO!A61=0,\" \",COUNTRY_INFO!A61))","v":"Angola"},{"$f":"IF(INTRO!$E$39=\"Non endémique\",\" \",IF(COUNTRY_INFO!B61=0,\" \",COUNTRY_INFO!B61))","v":"HUILA"},{"$f":"IF(INTRO!$E$39=\"Non endémique\",\" \",IF(COUNTRY_INFO!C61=0,\" \",COUNTRY_INFO!C61))","v":"GAMBOS"},{"$f":"IF(INTRO!$E$39=\"Non endémique\",0,IF(INTRO!$E$39=\"Endémique mais pas de CP\",IF(COUNTRY_INFO!$H61=1,COUNTRY_INFO!F61+COUNTRY_INFO!G61,0),IF(COUNTRY_INFO!$H61=1,COUNTRY_INFO!F61+COUNTRY_INFO!G61,IF(COUNTRY_INFO!$I61=1,IF(COUNTRY_INFO!N61>=(COUNTRY_INFO!F61+COUNTRY_INFO!G61),COUNTRY_INFO!F61+COUNTRY_INFO!G61,COUNTRY_INFO!$N61),0))))","v":0},{"$f":"IF(AND(INTRO!$E$39=\"Non endémique\",INTRO!$E$37=\"Non endémique\"),\"Non requis\",IF(INTRO!$E$39=\"Non endémique\",\"Traiter avec DEC\",COUNTRY_INFO!Q61))","v":0},{"$f":"IF(INTRO!$E$39<>\"Non endémique\",COUNTRY_INFO!R61,\"Non requis\")","v":0},{"$f":"IF(COUNTRY_INFO!H61=1, IF($E61=1,IF(ALB_MBD!$J61<>\" \",COUNTRY_INFO!F61+COUNTRY_INFO!G61-ALB_MBD!$J61,COUNTRY_INFO!F61+COUNTRY_INFO!G61), 0),0)","v":0},{"$f":"IF(INTRO!$E$39<>\"Endémique\",0, IF(AND(COUNTRY_INFO!$I61=1,$F61<>0),IF(COUNTRY_INFO!N61>=(COUNTRY_INFO!F61+COUNTRY_INFO!G61),COUNTRY_INFO!F61+COUNTRY_INFO!G61,COUNTRY_INFO!$N61), 0))","v":0},null,0,0,0,0,0,null,0,0]
[{"$f":"IF(INTRO!$E$39=\"Non endémique\",\" \",IF(COUNTRY_INFO!A62=0,\" \",COUNTRY_INFO!A62))","v":"Angola"},{"$f":"IF(INTRO!$E$39=\"Non endémique\",\" \",IF(COUNTRY_INFO!B62=0,\" \",COUNTRY_INFO!B62))","v":"HUILA"},{"$f":"IF(INTRO!$E$39=\"Non endémique\",\" \",IF(COUNTRY_INFO!C62=0,\" \",COUNTRY_INFO!C62))","v":"HUMPATA"},{"$f":"IF(INTRO!$E$39=\"Non endémique\",0,IF(INTRO!$E$39=\"Endémique mais pas de CP\",IF(COUNTRY_INFO!$H62=1,COUNTRY_INFO!F62+COUNTRY_INFO!G62,0),IF(COUNTRY_INFO!$H62=1,COUNTRY_INFO!F62+COUNTRY_INFO!G62,IF(COUNTRY_INFO!$I62=1,IF(COUNTRY_INFO!N62>=(COUNTRY_INFO!F62+COUNTRY_INFO!G62),COUNTRY_INFO!F62+COUNTRY_INFO!G62,COUNTRY_INFO!$N62),0))))","v":0},{"$f":"IF(AND(INTRO!$E$39=\"Non endémique\",INTRO!$E$37=\"Non endémique\"),\"Non requis\",IF(INTRO!$E$39=\"Non endémique\",\"Traiter avec DEC\",COUNTRY_INFO!Q62))","v":0},{"$f":"IF(INTRO!$E$39<>\"Non endémique\",COUNTRY_INFO!R62,\"Non requis\")","v":0},{"$f":"IF(COUNTRY_INFO!H62=1, IF($E62=1,IF(ALB_MBD!$J62<>\" \",COUNTRY_INFO!F62+COUNTRY_INFO!G62-ALB_MBD!$J62,COUNTRY_INFO!F62+COUNTRY_INFO!G62), 0),0)","v":0},{"$f":"IF(INTRO!$E$39<>\"Endémique\",0, IF(AND(COUNTRY_INFO!$I62=1,$F62<>0),IF(COUNTRY_INFO!N62>=(COUNTRY_INFO!F62+COUNTRY_INFO!G62),COUNTRY_INFO!F62+COUNTRY_INFO!G62,COUNTRY_INFO!$N62), 0))","v":0},null,0,0,0,0,0,null,0,0]
[{"$f":"IF(INTRO!$E$39=\"Non endémique\",\" \",IF(COUNTRY_INFO!A63=0,\" \",COUNTRY_INFO!A63))","v":"Angola"},{"$f":"IF(INTRO!$E$39=\"Non endémique\",\" \",IF(COUNTRY_INFO!B63=0,\" \",COUNTRY_INFO!B63))","v":"HUILA"},{"$f":"IF(INTRO!$E$39=\"Non endémique\",\" \",IF(COUNTRY_INFO!C63=0,\" \",COUNTRY_INFO!C63))","v":"JAMBA"},{"$f":"IF(INTRO!$E$39=\"Non endémique\",0,IF(INTRO!$E$39=\"Endémique mais pas de CP\",IF(COUNTRY_INFO!$H63=1,COUNTRY_INFO!F63+COUNTRY_INFO!G63,0),IF(COUNTRY_INFO!$H63=1,COUNTRY_INFO!F63+COUNTRY_INFO!G63,IF(COUNTRY_INFO!$I63=1,IF(COUNTRY_INFO!N63>=(COUNTRY_INFO!F63+COUNTRY_INFO!G63),COUNTRY_INFO!F63+COUNTRY_INFO!G63,COUNTRY_INFO!$N63),0))))","v":0},{"$f":"IF(AND(INTRO!$E$39=\"Non endémique\",INTRO!$E$37=\"Non endémique\"),\"Non requis\",IF(INTRO!$E$39=\"Non endémique\",\"Traiter avec DEC\",COUNTRY_INFO!Q63))","v":0},{"$f":"IF(INTRO!$E$39<>\"Non endémique\",COUNTRY_INFO!R63,\"Non requis\")","v":0},{"$f":"IF(COUNTRY_INFO!H63=1, IF($E63=1,IF(ALB_MBD!$J63<>\" \",COUNTRY_INFO!F63+COUNTRY_INFO!G63-ALB_MBD!$J63,COUNTRY_INFO!F63+COUNTRY_INFO!G63), 0),0)","v":0},{"$f":"IF(INTRO!$E$39<>\"Endémique\",0, IF(AND(COUNTRY_INFO!$I63=1,$F63<>0),IF(COUNTRY_INFO!N63>=(COUNTRY_INFO!F63+COUNTRY_INFO!G63),COUNTRY_INFO!F63+COUNTRY_INFO!G63,COUNTRY_INFO!$N63), 0))","v":0},null,0,0,0,0,0,null,0,0]
[{"$f":"IF(INTRO!$E$39=\"Non endémique\",\" \",IF(COUNTRY_INFO!A64=0,\" \",COUNTRY_INFO!A64))","v":"Angola"},{"$f":"IF(INTRO!$E$39=\"Non endémique\",\" \",IF(COUNTRY_INFO!B64=0,\" \",COUNTRY_INFO!B64))","v":"HUILA"},{"$f":"IF(INTRO!$E$39=\"Non endémique\",\" \",IF(COUNTRY_INFO!C64=0,\" \",COUNTRY_INFO!C64))","v":"KUVANGO"},{"$f":"IF(INTRO!$E$39=\"Non endémique\",0,IF(INTRO!$E$39=\"Endémique mais pas de CP\",IF(COUNTRY_INFO!$H64=1,COUNTRY_INFO!F64+COUNTRY_INFO!G64,0),IF(COUNTRY_INFO!$H64=1,COUNTRY_INFO!F64+COUNTRY_INFO!G64,IF(COUNTRY_INFO!$I64=1,IF(COUNTRY_INFO!N64>=(COUNTRY_INFO!F64+COUNTRY_INFO!G64),COUNTRY_INFO!F64+COUNTRY_INFO!G64,COUNTRY_INFO!$N64),0))))","v":0},{"$f":"IF(AND(INTRO!$E$39=\"Non endémique\",INTRO!$E$37=\"Non endémique\"),\"Non requis\",IF(INTRO!$E$39=\"Non endémique\",\"Traiter avec DEC\",COUNTRY_INFO!Q64))","v":0},{"$f":"IF(INTRO!$E$39<>\"Non endémique\",COUNTRY_INFO!R64,\"Non requis\")","v":0},{"$f":"IF(COUNTRY_INFO!H64=1, IF($E64=1,IF(ALB_MBD!$J64<>\" \",COUNTRY_INFO!F64+COUNTRY_INFO!G64-ALB_MBD!$J64,COUNTRY_INFO!F64+COUNTRY_INFO!G64), 0),0)","v":0},{"$f":"IF(INTRO!$E$39<>\"Endémique\",0, IF(AND(COUNTRY_INFO!$I64=1,$F64<>0),IF(COUNTRY_INFO!N64>=(COUNTRY_INFO!F64+COUNTRY_INFO!G64),COUNTRY_INFO!F64+COUNTRY_INFO!G64,COUNTRY_INFO!$N64), 0))","v":0},null,0,0,0,0,0,null,0,0]
[{"$f":"IF(INTRO!$E$39=\"Non endémique\",\" \",IF(COUNTRY_INFO!A65=0,\" \",COUNTRY_INFO!A65))","v":"Angola"},{"$f":"IF(INTRO!$E$39=\"Non endémique\",\" \",IF(COUNTRY_INFO!B65=0,\" \",COUNTRY_INFO!B65))","v":"HUILA"},{"$f":"IF(INTRO!$E$39=\"Non endémique\",\" \",IF(COUNTRY_INFO!C65=0,\" \",COUNTRY_INFO!C65))","v":"LUBANGO"},{"$f":"IF(INTRO!$E$39=\"Non endémique\",0,IF(INTRO!$E$39=\"Endémique mais pas de CP\",IF(COUNTRY_INFO!$H65=1,COUNTRY_INFO!F65+COUNTRY_INFO!G65,0),IF(COUNTRY_INFO!$H65=1,COUNTRY_INFO!F65+COUNTRY_INFO!G65,IF(COUNTRY_INFO!$I65=1,IF(COUNTRY_INFO!N65>=(COUNTRY_INFO!F65+COUNTRY_INFO!G65),COUNTRY_INFO!F65+COUNTRY_INFO!G65,COUNTRY_INFO!$N65),0))))","v":0},{"$f":"IF(AND(INTRO!$E$39=\"Non endémique\",INTRO!$E$37=\"Non endémique\"),\"Non requis\",IF(INTRO!$E$39=\"Non endémique\",\"Traiter avec DEC\",COUNTRY_INFO!Q65))","v":0},{"$f":"IF(INTRO!$E$39<>\"Non endémique\",COUNTRY_INFO!R65,\"Non requis\")","v":0},{"$f":"IF(COUNTRY_INFO!H65=1, IF($E65=1,IF(ALB_MBD!$J65<>\" \",COUNTRY_INFO!F65+COUNTRY_INFO!G65-ALB_MBD!$J65,COUNTRY_INFO!F65+COUNTRY_INFO!G65), 0),0)","v":0},{"$f":"IF(INTRO!$E$39<>\"Endémique\",0, IF(AND(COUNTRY_INFO!$I65=1,$F65<>0),IF(COUNTRY_INFO!N65>=(COUNTRY_INFO!F65+COUNTRY_INFO!G65),COUNTRY_INFO!F65+COUNTRY_INFO!G65,COUNTRY_INFO!$N65), 0))","v":0},null,0,0,0,0,0,null,0,0]
[{"$f":"IF(INTRO!$E$39=\"Non endémique\",\" \",IF(COUNTRY_INFO!A66=0,\" \",COUNTRY_INFO!A66))","v":"Angola"},{"$f":"IF(INTRO!$E$39=\"Non endémique\",\" \",IF(COUNTRY_INFO!B66=0,\" \",COUNTRY_INFO!B66))","v":"HUILA"},{"$f":"IF(INTRO!$E$39=\"Non endémique\",\" \",IF(COUNTRY_INFO!C66=0,\" \",COUNTRY_INFO!C66))","v":"MATALA"},{"$f":"IF(INTRO!$E$39=\"Non endémique\",0,IF(INTRO!$E$39=\"Endémique mais pas de CP\",IF(COUNTRY_INFO!$H66=1,COUNTRY_INFO!F66+COUNTRY_INFO!G66,0),IF(COUNTRY_INFO!$H66=1,COUNTRY_INFO!F66+COUNTRY_INFO!G66,IF(COUNTRY_INFO!$I66=1,IF(COUNTRY_INFO!N66>=(COUNTRY_INFO!F66+COUNTRY_INFO!G66),COUNTRY_INFO!F66+COUNTRY_INFO!G66,COUNTRY_INFO!$N66),0))))","v":264822},{"$f":"IF(AND(INTRO!$E$39=\"Non endémique\",INTRO!$E$37=\"Non endémique\"),\"Non requis\",IF(INTRO!$E$39=\"Non endémique\",\"Traiter avec DEC\",COUNTRY_INFO!Q66))","v":0},{"$f":"IF(INTRO!$E$39<>\"Non endémique\",COUNTRY_INFO!R66,\"Non requis\")","v":1},{"$f":"IF(COUNTRY_INFO!H66=1, IF($E66=1,IF(ALB_MBD!$J66<>\" \",COUNTRY_INFO!F66+COUNTRY_INFO!G66-ALB_MBD!$J66,COUNTRY_INFO!F66+COUNTRY_INFO!G66), 0),0)","v":0},{"$f":"IF(INTRO!$E$39<>\"Endémique\",0, IF(AND(COUNTRY_INFO!$I66=1,$F66<>0),IF(COUNTRY_INFO!N66>=(COUNTRY_INFO!F66+COUNTRY_INFO!G66),COUNTRY_INFO!F66+COUNTRY_INFO!G66,COUNTRY_INFO!$N66), 0))","v":264822},null,264822,0,741501.6,0,741501.6,null,741501.6,1484]
[{"$f":"IF(INTRO!$E$39=\"Non endémique\",\" \",IF(COUNTRY_INFO!A67=0,\" \",COUNTRY_INFO!A67))","v":"Angola"},{"$f":"IF(INTRO!$E$39=\"Non endémique\",\" \",IF(COUNTRY_INFO!B67=0,\" \",COUNTRY_INFO!B67))","v":"HUILA"},{"$f":"IF(INTRO!$E$39=\"Non endémique\",\" \",IF(COUNTRY_INFO!C67=0,\" \",COUNTRY_INFO!C67))","v":"QUILENGUES"},{"$f":"IF(INTRO!$E$39=\"Non endémique\",0,IF(INTRO!$E$39=\"Endémique mais pas de CP\",IF(COUNTRY_INFO!$H67=1,COUNTRY_INFO!F67+COUNTRY_INFO!G67,0),IF(COUNTRY_INFO!$H67=1,COUNTRY_INFO!F67+COUNTRY_INFO!G67,IF(COUNTRY_INFO!$I67=1,IF(COUNTRY_INFO!N67>=(COUNTRY_INFO!F67+COUNTRY_INFO!G67),COUNTRY_INFO!F67+COUNTRY_INFO!G67,COUNTRY_INFO!$N67),0))))","v":69371},{"$f":"IF(AND(INTRO!$E$39=\"Non endémique\",INTRO!$E$37=\"Non endémique\"),\"Non requis\",IF(INTRO!$E$39=\"Non endémique\",\"Traiter avec DEC\",COUNTRY_INFO!Q67))","v":0},{"$f":"IF(INTRO!$E$39<>\"Non endémique\",COUNTRY_INFO!R67,\"Non requis\")","v":1},{"$f":"IF(COUNTRY_INFO!H67=1, IF($E67=1,IF(ALB_MBD!$J67<>\" \",COUNTRY_INFO!F67+COUNTRY_INFO!G67-ALB_MBD!$J67,COUNTRY_INFO!F67+COUNTRY_INFO!G67), 0),0)","v":0},{"$f":"IF(INTRO!$E$39<>\"Endémique\",0, IF(AND(COUNTRY_INFO!$I67=1,$F67<>0),IF(COUNTRY_INFO!N67>=(COUNTRY_INFO!F67+COUNTRY_INFO!G67),COUNTRY_INFO!F67+COUNTRY_INFO!G67,COUNTRY_INFO!$N67), 0))","v":69371},null,69371,0,194238.8,0,194238.8,null,194238.8,389]
[{"$f":"IF(INTRO!$E$39=\"Non endémique\",\" \",IF(COUNTRY_INFO!A68=0,\" \",COUNTRY_INFO!A68))","v":"Angola"},{"$f":"IF(INTRO!$E$39=\"Non endémique\",\" \",IF(COUNTRY_INFO!B68=0,\" \",COUNTRY_INFO!B68))","v":"HUILA"},{"$f":"IF(INTRO!$E$39=\"Non endémique\",\" \",IF(COUNTRY_INFO!C68=0,\" \",COUNTRY_INFO!C68))","v":"QUIPUNGO"},{"$f":"IF(INTRO!$E$39=\"Non endémique\",0,IF(INTRO!$E$39=\"Endémique mais pas de CP\",IF(COUNTRY_INFO!$H68=1,COUNTRY_INFO!F68+COUNTRY_INFO!G68,0),IF(COUNTRY_INFO!$H68=1,COUNTRY_INFO!F68+COUNTRY_INFO!G68,IF(COUNTRY_INFO!$I68=1,IF(COUNTRY_INFO!N68>=(COUNTRY_INFO!F68+COUNTRY_INFO!G68),COUNTRY_INFO!F68+COUNTRY_INFO!G68,COUNTRY_INFO!$N68),0))))","v":146339},{"$f":"IF(AND(INTRO!$E$39=\"Non endémique\",INTRO!$E$37=\"Non endémique\"),\"Non requis\",IF(INTRO!$E$39=\"Non endémique\",\"Traiter avec DEC\",COUNTRY_INFO!Q68))","v":0},{"$f":"IF(INTRO!$E$39<>\"Non endémique\",COUNTRY_INFO!R68,\"Non requis\")","v":1},{"$f":"IF(COUNTRY_INFO!H68=1, IF($E68=1,IF(ALB_MBD!$J68<>\" \",COUNTRY_INFO!F68+COUNTRY_INFO!G68-ALB_MBD!$J68,COUNTRY_INFO!F68+COUNTRY_INFO!G68), 0),0)","v":0},{"$f":"IF(INTRO!$E$39<>\"Endémique\",0, IF(AND(COUNTRY_INFO!$I68=1,$F68<>0),IF(COUNTRY_INFO!N68>=(COUNTRY_INFO!F68+COUNTRY_INFO!G68),COUNTRY_INFO!F68+COUNTRY_INFO!G68,COUNTRY_INFO!$N68), 0))","v":146339},null,146339,0,409749.19999999995,0,409749.19999999995,null,409749.19999999995,820]
[{"$f":"IF(INTRO!$E$39=\"Non endémique\",\" \",IF(COUNTRY_INFO!A69=0,\" \",COUNTRY_INFO!A69))","v":"Angola"},{"$f":"IF(INTRO!$E$39=\"Non endémique\",\" \",IF(COUNTRY_INFO!B69=0,\" \",COUNTRY_INFO!B69))","v":"KUANDO KUBANGO"},{"$f":"IF(INTRO!$E$39=\"Non endémique\",\" \",IF(COUNTRY_INFO!C69=0,\" \",COUNTRY_INFO!C69))","v":"CALAI"},{"$f":"IF(INTRO!$E$39=\"Non endémique\",0,IF(INTRO!$E$39=\"Endémique mais pas de CP\",IF(COUNTRY_INFO!$H69=1,COUNTRY_INFO!F69+COUNTRY_INFO!G69,0),IF(COUNTRY_INFO!$H69=1,COUNTRY_INFO!F69+COUNTRY_INFO!G69,IF(COUNTRY_INFO!$I69=1,IF(COUNTRY_INFO!N69>=(COUNTRY_INFO!F69+COUNTRY_INFO!G69),COUNTRY_INFO!F69+COUNTRY_INFO!G69,COUNTRY_INFO!$N69),0))))","v":0},{"$f":"IF(AND(INTRO!$E$39=\"Non endémique\",INTRO!$E$37=\"Non endémique\"),\"Non requis\",IF(INTRO!$E$39=\"Non endémique\",\"Traiter avec DEC\",COUNTRY_INFO!Q69))","v":0},{"$f":"IF(INTRO!$E$39<>\"Non endémique\",COUNTRY_INFO!R69,\"Non requis\")","v":0},{"$f":"IF(COUNTRY_INFO!H69=1, IF($E69=1,IF(ALB_MBD!$J69<>\" \",COUNTRY_INFO!F69+COUNTRY_INFO!G69-ALB_MBD!$J69,COUNTRY_INFO!F69+COUNTRY_INFO!G69), 0),0)","v":0},{"$f":"IF(INTRO!$E$39<>\"Endémique\",0, IF(AND(COUNTRY_INFO!$I69=1,$F69<>0),IF(COUNTRY_INFO!N69>=(COUNTRY_INFO!F69+COUNTRY_INFO!G69),COUNTRY_INFO!F69+COUNTRY_INFO!G69,COUNTRY_INFO!$N69), 0))","v":0},null,0,0,0,0,0,null,0,0]
[{"$f":"IF(INTRO!$E$39=\"Non endémique\",\" \",IF(COUNTRY_INFO!A70=0,\" \",COUNTRY_INFO!A70))","v":"Angola"},{"$f":"IF(INTRO!$E$39=\"Non endémique\",\" \",IF(COUNTRY_INFO!B70=0,\" \",COUNTRY_INFO!B70))","v":"KUANDO KUBANGO"},{"$f":"IF(INTRO!$E$39=\"Non endémique\",\" \",IF(COUNTRY_INFO!C70=0,\" \",COUNTRY_INFO!C70))","v":"CUANGAR"},{"$f":"IF(INTRO!$E$39=\"Non endémique\",0,IF(INTRO!$E$39=\"Endémique mais pas de CP\",IF(COUNTRY_INFO!$H70=1,COUNTRY_INFO!F70+COUNTRY_INFO!G70,0),IF(COUNTRY_INFO!$H70=1,COUNTRY_INFO!F70+COUNTRY_INFO!G70,IF(COUNTRY_INFO!$I70=1,IF(COUNTRY_INFO!N70>=(COUNTRY_INFO!F70+COUNTRY_INFO!G70),COUNTRY_INFO!F70+COUNTRY_INFO!G70,COUNTRY_INFO!$N70),0))))","v":26206},{"$f":"IF(AND(INTRO!$E$39=\"Non endémique\",INTRO!$E$37=\"Non endémique\"),\"Non requis\",IF(INTRO!$E$39=\"Non endémique\",\"Traiter avec DEC\",COUNTRY_INFO!Q70))","v":0},{"$f":"IF(INTRO!$E$39<>\"Non endémique\",COUNTRY_INFO!R70,\"Non requis\")","v":1},{"$f":"IF(COUNTRY_INFO!H70=1, IF($E70=1,IF(ALB_MBD!$J70<>\" \",COUNTRY_INFO!F70+COUNTRY_INFO!G70-ALB_MBD!$J70,COUNTRY_INFO!F70+COUNTRY_INFO!G70), 0),0)","v":0},{"$f":"IF(INTRO!$E$39<>\"Endémique\",0, IF(AND(COUNTRY_INFO!$I70=1,$F70<>0),IF(COUNTRY_INFO!N70>=(COUNTRY_INFO!F70+COUNTRY_INFO!G70),COUNTRY_INFO!F70+COUNTRY_INFO!G70,COUNTRY_INFO!$N70), 0))","v":26206},null,26206,0,73376.799999999988,0,73376.799999999988,null,73376.799999999988,147]
[{"$f":"IF(INTRO!$E$39=\"Non endémique\",\" \",IF(COUNTRY_INFO!A71=0,\" \",COUNTRY_INFO!A71))","v":"Angola"},{"$f":"IF(INTRO!$E$39=\"Non endémique\",\" \",IF(COUNTRY_INFO!B71=0,\" \",COUNTRY_INFO!B71))","v":"KUANDO KUBANGO"},{"$f":"IF(INTRO!$E$39=\"Non endémique\",\" \",IF(COUNTRY_INFO!C71=0,\" \",COUNTRY_INFO!C71))","v":"CUCHI"},{"$f":"IF(INTRO!$E$39=\"Non endémique\",0,IF(INTRO!$E$39=\"Endémique mais pas de CP\",IF(COUNTRY_INFO!$H71=1,COUNTRY_INFO!F71+COUNTRY_INFO!G71,0),IF(COUNTRY_INFO!$H71=1,COUNTRY_INFO!F71+COUNTRY_INFO!G71,IF(COUNTRY_INFO!$I71=1,IF(COUNTRY_INFO!N71>=(COUNTRY_INFO!F71+COUNTRY_INFO!G71),COUNTRY_INFO!F71+COUNTRY_INFO!G71,COUNTRY_INFO!$N71),0))))","v":39573},{"$f":"IF(AND(INTRO!$E$39=\"Non endémique\",INTRO!$E$37=\"Non endémique\"),\"Non requis\",IF(INTRO!$E$39=\"Non endémique\",\"Traiter avec DEC\",COUNTRY_INFO!Q71))","v":0},{"$f":"IF(INTRO!$E$39<>\"Non endémique\",COUNTRY_INFO!R71,\"Non requis\")","v":1},{"$f":"IF(COUNTRY_INFO!H71=1, IF($E71=1,IF(ALB_MBD!$J71<>\" \",COUNTRY_INFO!F71+COUNTRY_INFO!G71-ALB_MBD!$J71,COUNTRY_INFO!F71+COUNTRY_INFO!G71), 0),0)","v":0},{"$f":"IF(INTRO!$E$39<>\"Endémique\",0, IF(AND(COUNTRY_INFO!$I71=1,$F71<>0),IF(COUNTRY_INFO!N71>=(COUNTRY_INFO!F71+COUNTRY_INFO!G71),COUNTRY_INFO!F71+COUNTRY_INFO!G71,COUNTRY_INFO!$N71), 0))","v":39573},null,39573,0,110804.4,0,110804.4,null,110804.4,222]
[{"$f":"IF(INTRO!$E$39=\"Non endémique\",\" \",IF(COUNTRY_INFO!A72=0,\" \",COUNTRY_INFO!A72))","v":"Angola"},{"$f":"IF(INTRO!$E$39=\"Non endémique\",\" \",IF(COUNTRY_INFO!B72=0,\" \",COUNTRY_INFO!B72))","v":"KUANDO KUBANGO"},{"$f":"IF(INTRO!$E$39=\"Non endémique\",\" \",IF(COUNTRY_INFO!C72=0,\" \",COUNTRY_INFO!C72))","v":"DIRICO"},{"$f":"IF(INTRO!$E$39=\"Non endémique\",0,IF(INTRO!$E$39=\"Endémique mais pas de CP\",IF(COUNTRY_INFO!$H72=1,COUNTRY_INFO!F72+COUNTRY_INFO!G72,0),IF(COUNTRY_INFO!$H72=1,COUNTRY_INFO!F72+COUNTRY_INFO!G72,IF(COUNTRY_INFO!$I72=1,IF(COUNTRY_INFO!N72>=(COUNTRY_INFO!F72+COUNTRY_INFO!G72),COUNTRY_INFO!F72+COUNTRY_INFO!G72,COUNTRY_INFO!$N72),0))))","v":0},{"$f":"IF(AND(INTRO!$E$39=\"Non endémique\",INTRO!$E$37=\"Non endémique\"),\"Non requis\",IF(INTRO!$E$39=\"Non endémique\",\"Traiter avec DEC\",COUNTRY_INFO!Q72))","v":0},{"$f":"IF(INTRO!$E$39<>\"Non endémique\",COUNTRY_INFO!R72,\"Non requis\")","v":0},{"$f":"IF(COUNTRY_INFO!H72=1, IF($E72=1,IF(ALB_MBD!$J72<>\" \",COUNTRY_INFO!F72+COUNTRY_INFO!G72-ALB_MBD!$J72,COUNTRY_INFO!F72+COUNTRY_INFO!G72), 0),0)","v":0},{"$f":"IF(INTRO!$E$39<>\"Endémique\",0, IF(AND(COUNTRY_INFO!$I72=1,$F72<>0),IF(COUNTRY_INFO!N72>=(COUNTRY_INFO!F72+COUNTRY_INFO!G72),COUNTRY_INFO!F72+COUNTRY_INFO!G72,COUNTRY_INFO!$N72), 0))","v":0},null,0,0,0,0,0,null,0,0]
[{"$f":"IF(INTRO!$E$39=\"Non endémique\",\" \",IF(COUNTRY_INFO!A73=0,\" \",COUNTRY_INFO!A73))","v":"Angola"},{"$f":"IF(INTRO!$E$39=\"Non endémique\",\" \",IF(COUNTRY_INFO!B73=0,\" \",COUNTRY_INFO!B73))","v":"KUANDO KUBANGO"},{"$f":"IF(INTRO!$E$39=\"Non endémique\",\" \",IF(COUNTRY_INFO!C73=0,\" \",COUNTRY_INFO!C73))","v":"KUITO KUANAVALE"},{"$f":"IF(INTRO!$E$39=\"Non endémique\",0,IF(INTRO!$E$39=\"Endémique mais pas de CP\",IF(COUNTRY_INFO!$H73=1,COUNTRY_INFO!F73+COUNTRY_INFO!G73,0),IF(COUNTRY_INFO!$H73=1,COUNTRY_INFO!F73+COUNTRY_INFO!G73,IF(COUNTRY_INFO!$I73=1,IF(COUNTRY_INFO!N73>=(COUNTRY_INFO!F73+COUNTRY_INFO!G73),COUNTRY_INFO!F73+COUNTRY_INFO!G73,COUNTRY_INFO!$N73),0))))","v":37596},{"$f":"IF(AND(INTRO!$E$39=\"Non endémique\",INTRO!$E$37=\"Non endémique\"),\"Non requis\",IF(INTRO!$E$39=\"Non endémique\",\"Traiter avec DEC\",COUNTRY_INFO!Q73))","v":0},{"$f":"IF(INTRO!$E$39<>\"Non endémique\",COUNTRY_INFO!R73,\"Non requis\")","v":1},{"$f":"IF(COUNTRY_INFO!H73=1, IF($E73=1,IF(ALB_MBD!$J73<>\" \",COUNTRY_INFO!F73+COUNTRY_INFO!G73-ALB_MBD!$J73,COUNTRY_INFO!F73+COUNTRY_INFO!G73), 0),0)","v":0},{"$f":"IF(INTRO!$E$39<>\"Endémique\",0, IF(AND(COUNTRY_INFO!$I73=1,$F73<>0),IF(COUNTRY_INFO!N73>=(COUNTRY_INFO!F73+COUNTRY_INFO!G73),COUNTRY_INFO!F73+COUNTRY_INFO!G73,COUNTRY_INFO!$N73), 0))","v":37596},null,{"$f":"IF(I73=0,H73,IF(I73>H73,H73,I73))","v":37596},{"$f":"IF(G73<J73,0,IF($E73=1, (G73-J73)*2.8, 0))","v":0},{"$f":"IF($E73<$F73, J73*(F73-E73)*2.8, 0)","v":105268.79999999999},{"$f":"IF(AND($E73=1, $F73<>0), J73*2.8, 0)","v":0},{"$f":"SUM(K73:M73)","v":105268.79999999999},null,{"$f":"IF($N73>$O73,$N73-$O73,0)","v":105268.79999999999},{"$f":"ROUNDUP($N73/500,0)","v":211}]
[{"$f":"IF(INTRO!$E$39=\"Non endémique\",\" \",IF(COUNTRY_INFO!A74=0,\" \",COUNTRY_INFO!A74))","v":"Angola"},{"$f":"IF(INTRO!$E$39=\"Non endémique\",\" \",IF(COUNTRY_INFO!B74=0,\" \",COUNTRY_INFO!B74))","v":"KUANDO KUBANGO"},{"$f":"IF(INTRO!$E$39=\"Non endémique\",\" \",IF(COUNTRY_INFO!C74=0,\" \",COUNTRY_INFO!C74))","v":"MAVINGA"},{"$f":"IF(INTRO!$E$39=\"Non endémique\",0,IF(INTRO!$E$39=\"Endémique mais pas de CP\",IF(COUNTRY_INFO!$H74=1,COUNTRY_INFO!F74+COUNTRY_INFO!G74,0),IF(COUNTRY_INFO!$H74=1,COUNTRY_INFO!F74+COUNTRY_INFO!G74,IF(COUNTRY_INFO!$I74=1,IF(COUNTRY_INFO!N74>=(COUNTRY_INFO!F74+COUNTRY_INFO!G74),COUNTRY_INFO!F74+COUNTRY_INFO!G74,COUNTRY_INFO!$N74),0))))","v":0},{"$f":"IF(AND(INTRO!$E$39=\"Non endémique\",INTRO!$E$37=\"Non endémique\"),\"Non requis\",IF(INTRO!$E$39=\"Non endémique\",\"Traiter avec DEC\",COUNTRY_INFO!Q74))","v":0},{"$f":"IF(INTRO!$E$39<>\"Non endémique\",COUNTRY_INFO!R74,\"Non requis\")","v":0},{"$f":"IF(COUNTRY_INFO!H74=1, IF($E74=1,IF(ALB_MBD!$J74<>\" \",COUNTRY_INFO!F74+COUNTRY_INFO!G74-ALB_MBD!$J74,COUNTRY_INFO!F74+COUNTRY_INFO!G74), 0),0)","v":0},{"$f":"IF(INTRO!$E$39<>\"Endémique\",0, IF(AND(COUNTRY_INFO!$I74=1,$F74<>0),IF(COUNTRY_INFO!N74>=(COUNTRY_INFO!F74+COUNTRY_INFO!G74),COUNTRY_INFO!F74+COUNTRY_INFO!G74,COUNTRY_INFO!$N74), 0))","v":0},null,0,0,0,0,0,null,0,0]
[{"$f":"IF(INTRO!$E$39=\"Non endémique\",\" \",IF(COUNTRY_INFO!A75=0,\" \",COUNTRY_INFO!A75))","v":"Angola"},{"$f":"IF(INTRO!$E$39=\"Non endémique\",\" \",IF(COUNTRY_INFO!B75=0,\" \",COUNTRY_INFO!B75))","v":"KUANDO KUBANGO"},{"$f":"IF(INTRO!$E$39=\"Non endémique\",\" \",IF(COUNTRY_INFO!C75=0,\" \",COUNTRY_INFO!C75))","v":"MENONGUE"},{"$f":"IF(INTRO!$E$39=\"Non endémique\",0,IF(INTRO!$E$39=\"Endémique mais pas de CP\",IF(COUNTRY_INFO!$H75=1,COUNTRY_INFO!F75+COUNTRY_INFO!G75,0),IF(COUNTRY_INFO!$H75=1,COUNTRY_INFO!F75+COUNTRY_INFO!G75,IF(COUNTRY_INFO!$I75=1,IF(COUNTRY_INFO!N75>=(COUNTRY_INFO!F75+COUNTRY_INFO!G75),COUNTRY_INFO!F75+COUNTRY_INFO!G75,COUNTRY_INFO!$N75),0))))","v":295513},{"$f":"IF(AND(INTRO!$E$39=\"Non endémique\",INTRO!$E$37=\"Non endémique\"),\"Non requis\",IF(INTRO!$E$39=\"Non endémique\",\"Traiter avec DEC\",COUNTRY_INFO!Q75))","v":0},{"$f":"IF(INTRO!$E$39<>\"Non endémique\",COUNTRY_INFO!R75,\"Non requis\")","v":1},{"$f":"IF(COUNTRY_INFO!H75=1, IF($E75=1,IF(ALB_MBD!$J75<>\" \",COUNTRY_INFO!F75+COUNTRY_INFO!G75-ALB_MBD!$J75,COUNTRY_INFO!F75+COUNTRY_INFO!G75), 0),0)","v":0},{"$f":"IF(INTRO!$E$39<>\"Endémique\",0, IF(AND(COUNTRY_INFO!$I75=1,$F75<>0),IF(COUNTRY_INFO!N75>=(COUNTRY_INFO!F75+COUNTRY_INFO!G75),COUNTRY_INFO!F75+COUNTRY_INFO!G75,COUNTRY_INFO!$N75), 0))","v":295513},null,295513,0,827436.39999999991,0,827436.39999999991,null,827436.39999999991,1655]
[{"$f":"IF(INTRO!$E$39=\"Non endémique\",\" \",IF(COUNTRY_INFO!A76=0,\" \",COUNTRY_INFO!A76))","v":"Angola"},{"$f":"IF(INTRO!$E$39=\"Non endémique\",\" \",IF(COUNTRY_INFO!B76=0,\" \",COUNTRY_INFO!B76))","v":"KUANDO KUBANGO"},{"$f":"IF(INTRO!$E$39=\"Non endémique\",\" \",IF(COUNTRY_INFO!C76=0,\" \",COUNTRY_INFO!C76))","v":"NANKOVA"},{"$f":"IF(INTRO!$E$39=\"Non endémique\",0,IF(INTRO!$E$39=\"Endémique mais pas de CP\",IF(COUNTRY_INFO!$H76=1,COUNTRY_INFO!F76+COUNTRY_INFO!G76,0),IF(COUNTRY_INFO!$H76=1,COUNTRY_INFO!F76+COUNTRY_INFO!G76,IF(COUNTRY_INFO!$I76=1,IF(COUNTRY_INFO!N76>=(COUNTRY_INFO!F76+COUNTRY_INFO!G76),COUNTRY_INFO!F76+COUNTRY_INFO!G76,COUNTRY_INFO!$N76),0))))","v":2574},{"$f":"IF(AND(INTRO!$E$39=\"Non endémique\",INTRO!$E$37=\"Non endémique\"),\"Non requis\",IF(INTRO!$E$39=\"Non endémique\",\"Traiter avec DEC\",COUNTRY_INFO!Q76))","v":0},{"$f":"IF(INTRO!$E$39<>\"Non endémique\",COUNTRY_INFO!R76,\"Non requis\")","v":1},{"$f":"IF(COUNTRY_INFO!H76=1, IF($E76=1,IF(ALB_MBD!$J76<>\" \",COUNTRY_INFO!F76+COUNTRY_INFO!G76-ALB_MBD!$J76,COUNTRY_INFO!F76+COUNTRY_INFO!G76), 0),0)","v":0},{"$f":"IF(INTRO!$E$39<>\"Endémique\",0, IF(AND(COUNTRY_INFO!$I76=1,$F76<>0),IF(COUNTRY_INFO!N76>=(COUNTRY_INFO!F76+COUNTRY_INFO!G76),COUNTRY_INFO!F76+COUNTRY_INFO!G76,COUNTRY_INFO!$N76), 0))","v":2574},null,2574,0,7207.2,0,7207.2,null,7207.2,15]
[{"$f":"IF(INTRO!$E$39=\"Non endémique\",\" \",IF(COUNTRY_INFO!A77=0,\" \",COUNTRY_INFO!A77))","v":"Angola"},{"$f":"IF(INTRO!$E$39=\"Non endémique\",\" \",IF(COUNTRY_INFO!B77=0,\" \",COUNTRY_INFO!B77))","v":"KUANDO KUBANGO"},{"$f":"IF(INTRO!$E$39=\"Non endémique\",\" \",IF(COUNTRY_INFO!C77=0,\" \",COUNTRY_INFO!C77))","v":"RIVUNGO"},{"$f":"IF(INTRO!$E$39=\"Non endémique\",0,IF(INTRO!$E$39=\"Endémique mais pas de CP\",IF(COUNTRY_INFO!$H77=1,COUNTRY_INFO!F77+COUNTRY_INFO!G77,0),IF(COUNTRY_INFO!$H77=1,COUNTRY_INFO!F77+COUNTRY_INFO!G77,IF(COUNTRY_INFO!$I77=1,IF(COUNTRY_INFO!N77>=(COUNTRY_INFO!F77+COUNTRY_INFO!G77),COUNTRY_INFO!F77+COUNTRY_INFO!G77,COUNTRY_INFO!$N77),0))))","v":0},{"$f":"IF(AND(INTRO!$E$39=\"Non endémique\",INTRO!$E$37=\"Non endémique\"),\"Non requis\",IF(INTRO!$E$39=\"Non endémique\",\"Traiter avec DEC\",COUNTRY_INFO!Q77))","v":0},{"$f":"IF(INTRO!$E$39<>\"Non endémique\",COUNTRY_INFO!R77,\"Non requis\")","v":0},{"$f":"IF(COUNTRY_INFO!H77=1, IF($E77=1,IF(ALB_MBD!$J77<>\" \",COUNTRY_INFO!F77+COUNTRY_INFO!G77-ALB_MBD!$J77,COUNTRY_INFO!F77+COUNTRY_INFO!G77), 0),0)","v":0},{"$f":"IF(INTRO!$E$39<>\"Endémique\",0, IF(AND(COUNTRY_INFO!$I77=1,$F77<>0),IF(COUNTRY_INFO!N77>=(COUNTRY_INFO!F77+COUNTRY_INFO!G77),COUNTRY_INFO!F77+COUNTRY_INFO!G77,COUNTRY_INFO!$N77), 0))","v":0},null,0,0,0,0,0,null,0,0]
[{"$f":"IF(INTRO!$E$39=\"Non endémique\",\" \",IF(COUNTRY_INFO!A78=0,\" \",COUNTRY_INFO!A78))","v":"Angola"},{"$f":"IF(INTRO!$E$39=\"Non endémique\",\" \",IF(COUNTRY_INFO!B78=0,\" \",COUNTRY_INFO!B78))","v":"KWANZA NORTE"},{"$f":"IF(INTRO!$E$39=\"Non endémique\",\" \",IF(COUNTRY_INFO!C78=0,\" \",COUNTRY_INFO!C78))","v":"AMBACA"},{"$f":"IF(INTRO!$E$39=\"Non endémique\",0,IF(INTRO!$E$39=\"Endémique mais pas de CP\",IF(COUNTRY_INFO!$H78=1,COUNTRY_INFO!F78+COUNTRY_INFO!G78,0),IF(COUNTRY_INFO!$H78=1,COUNTRY_INFO!F78+COUNTRY_INFO!G78,IF(COUNTRY_INFO!$I78=1,IF(COUNTRY_INFO!N78>=(COUNTRY_INFO!F78+COUNTRY_INFO!G78),COUNTRY_INFO!F78+COUNTRY_INFO!G78,COUNTRY_INFO!$N78),0))))","v":56879},{"$f":"IF(AND(INTRO!$E$39=\"Non endémique\",INTRO!$E$37=\"Non endémique\"),\"Non requis\",IF(INTRO!$E$39=\"Non endémique\",\"Traiter avec DEC\",COUNTRY_INFO!Q78))","v":0},{"$f":"IF(INTRO!$E$39<>\"Non endémique\",COUNTRY_INFO!R78,\"Non requis\")","v":1},{"$f":"IF(COUNTRY_INFO!H78=1, IF($E78=1,IF(ALB_MBD!$J78<>\" \",COUNTRY_INFO!F78+COUNTRY_INFO!G78-ALB_MBD!$J78,COUNTRY_INFO!F78+COUNTRY_INFO!G78), 0),0)","v":0},{"$f":"IF(INTRO!$E$39<>\"Endémique\",0, IF(AND(COUNTRY_INFO!$I78=1,$F78<>0),IF(COUNTRY_INFO!N78>=(COUNTRY_INFO!F78+COUNTRY_INFO!G78),COUNTRY_INFO!F78+COUNTRY_INFO!G78,COUNTRY_INFO!$N78), 0))","v":56879},null,56879,0,159261.19999999998,0,159261.19999999998,null,159261.19999999998,319]
[{"$f":"IF(INTRO!$E$39=\"Non endémique\",\" \",IF(COUNTRY_INFO!A79=0,\" \",COUNTRY_INFO!A79))","v":"Angola"},{"$f":"IF(INTRO!$E$39=\"Non endémique\",\" \",IF(COUNTRY_INFO!B79=0,\" \",COUNTRY_INFO!B79))","v":"KWANZA NORTE"},{"$f":"IF(INTRO!$E$39=\"Non endémique\",\" \",IF(COUNTRY_INFO!C79=0,\" \",COUNTRY_INFO!C79))","v":"BANGA"},{"$f":"IF(INTRO!$E$39=\"Non endémique\",0,IF(INTRO!$E$39=\"Endémique mais pas de CP\",IF(COUNTRY_INFO!$H79=1,COUNTRY_INFO!F79+COUNTRY_INFO!G79,0),IF(COUNTRY_INFO!$H79=1,COUNTRY_INFO!F79+COUNTRY_INFO!G79,IF(COUNTRY_INFO!$I79=1,IF(COUNTRY_INFO!N79>=(COUNTRY_INFO!F79+COUNTRY_INFO!G79),COUNTRY_INFO!F79+COUNTRY_INFO!G79,COUNTRY_INFO!$N79),0))))","v":9534},{"$f":"IF(AND(INTRO!$E$39=\"Non endémique\",INTRO!$E$37=\"Non endémique\"),\"Non requis\",IF(INTRO!$E$39=\"Non endémique\",\"Traiter avec DEC\",COUNTRY_INFO!Q79))","v":0},{"$f":"IF(INTRO!$E$39<>\"Non endémique\",COUNTRY_INFO!R79,\"Non requis\")","v":1},{"$f":"IF(COUNTRY_INFO!H79=1, IF($E79=1,IF(ALB_MBD!$J79<>\" \",COUNTRY_INFO!F79+COUNTRY_INFO!G79-ALB_MBD!$J79,COUNTRY_INFO!F79+COUNTRY_INFO!G79), 0),0)","v":0},{"$f":"IF(INTRO!$E$39<>\"Endémique\",0, IF(AND(COUNTRY_INFO!$I79=1,$F79<>0),IF(COUNTRY_INFO!N79>=(COUNTRY_INFO!F79+COUNTRY_INFO!G79),COUNTRY_INFO!F79+COUNTRY_INFO!G79,COUNTRY_INFO!$N79), 0))","v":9534},null,9534,0,26695.199999999997,0,26695.199999999997,null,26695.199999999997,54]
[{"$f":"IF(INTRO!$E$39=\"Non endémique\",\" \",IF(COUNTRY_INFO!A80=0,\" \",COUNTRY_INFO!A80))","v":"Angola"},{"$f":"IF(INTRO!$E$39=\"Non endémique\",\" \",IF(COUNTRY_INFO!B80=0,\" \",COUNTRY_INFO!B80))","v":"KWANZA NORTE"},{"$f":"IF(INTRO!$E$39=\"Non endémique\",\" \",IF(COUNTRY_INFO!C80=0,\" \",COUNTRY_INFO!C80))","v":"BOLONGONGO"},{"$f":"IF(INTRO!$E$39=\"Non endémique\",0,IF(INTRO!$E$39=\"Endémique mais pas de CP\",IF(COUNTRY_INFO!$H80=1,COUNTRY_INFO!F80+COUNTRY_INFO!G80,0),IF(COUNTRY_INFO!$H80=1,COUNTRY_INFO!F80+COUNTRY_INFO!G80,IF(COUNTRY_INFO!$I80=1,IF(COUNTRY_INFO!N80>=(COUNTRY_INFO!F80+COUNTRY_INFO!G80),COUNTRY_INFO!F80+COUNTRY_INFO!G80,COUNTRY_INFO!$N80),0))))","v":11989},{"$f":"IF(AND(INTRO!$E$39=\"Non endémique\",INTRO!$E$37=\"Non endémique\"),\"Non requis\",IF(INTRO!$E$39=\"Non endémique\",\"Traiter avec DEC\",COUNTRY_INFO!Q80))","v":0},{"$f":"IF(INTRO!$E$39<>\"Non endémique\",COUNTRY_INFO!R80,\"Non requis\")","v":1},{"$f":"IF(COUNTRY_INFO!H80=1, IF($E80=1,IF(ALB_MBD!$J80<>\" \",COUNTRY_INFO!F80+COUNTRY_INFO!G80-ALB_MBD!$J80,COUNTRY_INFO!F80+COUNTRY_INFO!G80), 0),0)","v":0},{"$f":"IF(INTRO!$E$39<>\"Endémique\",0, IF(AND(COUNTRY_INFO!$I80=1,$F80<>0),IF(COUNTRY_INFO!N80>=(COUNTRY_INFO!F80+COUNTRY_INFO!G80),COUNTRY_INFO!F80+COUNTRY_INFO!G80,COUNTRY_INFO!$N80), 0))","v":11989},null,11989,0,33569.199999999997,0,33569.199999999997,null,33569.199999999997,68]
[{"$f":"IF(INTRO!$E$39=\"Non endémique\",\" \",IF(COUNTRY_INFO!A81=0,\" \",COUNTRY_INFO!A81))","v":"Angola"},{"$f":"IF(INTRO!$E$39=\"Non endémique\",\" \",IF(COUNTRY_INFO!B81=0,\" \",COUNTRY_INFO!B81))","v":"KWANZA NORTE"},{"$f":"IF(INTRO!$E$39=\"Non endémique\",\" \",IF(COUNTRY_INFO!C81=0,\" \",COUNTRY_INFO!C81))","v":"CAMBAMBE"},{"$f":"IF(INTRO!$E$39=\"Non endémique\",0,IF(INTRO!$E$39=\"Endémique mais pas de CP\",IF(COUNTRY_INFO!$H81=1,COUNTRY_INFO!F81+COUNTRY_INFO!G81,0),IF(COUNTRY_INFO!$H81=1,COUNTRY_INFO!F81+COUNTRY_INFO!G81,IF(COUNTRY_INFO!$I81=1,IF(COUNTRY_INFO!N81>=(COUNTRY_INFO!F81+COUNTRY_INFO!G81),COUNTRY_INFO!F81+COUNTRY_INFO!G81,COUNTRY_INFO!$N81),0))))","v":0},{"$f":"IF(AND(INTRO!$E$39=\"Non endémique\",INTRO!$E$37=\"Non endémique\"),\"Non requis\",IF(INTRO!$E$39=\"Non endémique\",\"Traiter avec DEC\",COUNTRY_INFO!Q81))","v":0},{"$f":"IF(INTRO!$E$39<>\"Non endémique\",COUNTRY_INFO!R81,\"Non requis\")","v":0},{"$f":"IF(COUNTRY_INFO!H81=1, IF($E81=1,IF(ALB_MBD!$J81<>\" \",COUNTRY_INFO!F81+COUNTRY_INFO!G81-ALB_MBD!$J81,COUNTRY_INFO!F81+COUNTRY_INFO!G81), 0),0)","v":0},{"$f":"IF(INTRO!$E$39<>\"Endémique\",0, IF(AND(COUNTRY_INFO!$I81=1,$F81<>0),IF(COUNTRY_INFO!N81>=(COUNTRY_INFO!F81+COUNTRY_INFO!G81),COUNTRY_INFO!F81+COUNTRY_INFO!G81,COUNTRY_INFO!$N81), 0))","v":0},null,0,0,0,0,0,null,0,0]
[{"$f":"IF(INTRO!$E$39=\"Non endémique\",\" \",IF(COUNTRY_INFO!A82=0,\" \",COUNTRY_INFO!A82))","v":"Angola"},{"$f":"IF(INTRO!$E$39=\"Non endémique\",\" \",IF(COUNTRY_INFO!B82=0,\" \",COUNTRY_INFO!B82))","v":"KWANZA NORTE"},{"$f":"IF(INTRO!$E$39=\"Non endémique\",\" \",IF(COUNTRY_INFO!C82=0,\" \",COUNTRY_INFO!C82))","v":"CAZENGO"},{"$f":"IF(INTRO!$E$39=\"Non endémique\",0,IF(INTRO!$E$39=\"Endémique mais pas de CP\",IF(COUNTRY_INFO!$H82=1,COUNTRY_INFO!F82+COUNTRY_INFO!G82,0),IF(COUNTRY_INFO!$H82=1,COUNTRY_INFO!F82+COUNTRY_INFO!G82,IF(COUNTRY_INFO!$I82=1,IF(COUNTRY_INFO!N82>=(COUNTRY_INFO!F82+COUNTRY_INFO!G82),COUNTRY_INFO!F82+COUNTRY_INFO!G82,COUNTRY_INFO!$N82),0))))","v":0},{"$f":"IF(AND(INTRO!$E$39=\"Non endémique\",INTRO!$E$37=\"Non endémique\"),\"Non requis\",IF(INTRO!$E$39=\"Non endémique\",\"Traiter avec DEC\",COUNTRY_INFO!Q82))","v":0},{"$f":"IF(INTRO!$E$39<>\"Non endémique\",COUNTRY_INFO!R82,\"Non requis\")","v":0},{"$f":"IF(COUNTRY_INFO!H82=1, IF($E82=1,IF(ALB_MBD!$J82<>\" \",COUNTRY_INFO!F82+COUNTRY_INFO!G82-ALB_MBD!$J82,COUNTRY_INFO!F82+COUNTRY_INFO!G82), 0),0)","v":0},{"$f":"IF(INTRO!$E$39<>\"Endémique\",0, IF(AND(COUNTRY_INFO!$I82=1,$F82<>0),IF(COUNTRY_INFO!N82>=(COUNTRY_INFO!F82+COUNTRY_INFO!G82),COUNTRY_INFO!F82+COUNTRY_INFO!G82,COUNTRY_INFO!$N82), 0))","v":0},null,0,0,0,0,0,null,0,0]
[{"$f":"IF(INTRO!$E$39=\"Non endémique\",\" \",IF(COUNTRY_INFO!A83=0,\" \",COUNTRY_INFO!A83))","v":"Angola"},{"$f":"IF(INTRO!$E$39=\"Non endémique\",\" \",IF(COUNTRY_INFO!B83=0,\" \",COUNTRY_INFO!B83))","v":"KWANZA NORTE"},{"$f":"IF(INTRO!$E$39=\"Non endémique\",\" \",IF(COUNTRY_INFO!C83=0,\" \",COUNTRY_INFO!C83))","v":"GOLUNGO ALTO"},{"$f":"IF(INTRO!$E$39=\"Non endémique\",0,IF(INTRO!$E$39=\"Endémique mais pas de CP\",IF(COUNTRY_INFO!$H83=1,COUNTRY_INFO!F83+COUNTRY_INFO!G83,0),IF(COUNTRY_INFO!$H83=1,COUNTRY_INFO!F83+COUNTRY_INFO!G83,IF(COUNTRY_INFO!$I83=1,IF(COUNTRY_INFO!N83>=(COUNTRY_INFO!F83+COUNTRY_INFO!G83),COUNTRY_INFO!F83+COUNTRY_INFO!G83,COUNTRY_INFO!$N83),0))))","v":31156},{"$f":"IF(AND(INTRO!$E$39=\"Non endémique\",INTRO!$E$37=\"Non endémique\"),\"Non requis\",IF(INTRO!$E$39=\"Non endémique\",\"Traiter avec DEC\",COUNTRY_INFO!Q83))","v":0},{"$f":"IF(INTRO!$E$39<>\"Non endémique\",COUNTRY_INFO!R83,\"Non requis\")","v":1},{"$f":"IF(COUNTRY_INFO!H83=1, IF($E83=1,IF(ALB_MBD!$J83<>\" \",COUNTRY_INFO!F83+COUNTRY_INFO!G83-ALB_MBD!$J83,COUNTRY_INFO!F83+COUNTRY_INFO!G83), 0),0)","v":0},{"$f":"IF(INTRO!$E$39<>\"Endémique\",0, IF(AND(COUNTRY_INFO!$I83=1,$F83<>0),IF(COUNTRY_INFO!N83>=(COUNTRY_INFO!F83+COUNTRY_INFO!G83),COUNTRY_INFO!F83+COUNTRY_INFO!G83,COUNTRY_INFO!$N83), 0))","v":31156},null,31156,0,87236.799999999988,0,87236.799999999988,null,87236.799999999988,175]
[{"$f":"IF(INTRO!$E$39=\"Non endémique\",\" \",IF(COUNTRY_INFO!A84=0,\" \",COUNTRY_INFO!A84))","v":"Angola"},{"$f":"IF(INTRO!$E$39=\"Non endémique\",\" \",IF(COUNTRY_INFO!B84=0,\" \",COUNTRY_INFO!B84))","v":"KWANZA NORTE"},{"$f":"IF(INTRO!$E$39=\"Non endémique\",\" \",IF(COUNTRY_INFO!C84=0,\" \",COUNTRY_INFO!C84))","v":"GONGUEMBO"},{"$f":"IF(INTRO!$E$39=\"Non endémique\",0,IF(INTRO!$E$39=\"Endémique mais pas de CP\",IF(COUNTRY_INFO!$H84=1,COUNTRY_INFO!F84+COUNTRY_INFO!G84,0),IF(COUNTRY_INFO!$H84=1,COUNTRY_INFO!F84+COUNTRY_INFO!G84,IF(COUNTRY_INFO!$I84=1,IF(COUNTRY_INFO!N84>=(COUNTRY_INFO!F84+COUNTRY_INFO!G84),COUNTRY_INFO!F84+COUNTRY_INFO!G84,COUNTRY_INFO!$N84),0))))","v":6977},{"$f":"IF(AND(INTRO!$E$39=\"Non endémique\",INTRO!$E$37=\"Non endémique\"),\"Non requis\",IF(INTRO!$E$39=\"Non endémique\",\"Traiter avec DEC\",COUNTRY_INFO!Q84))","v":0},{"$f":"IF(INTRO!$E$39<>\"Non endémique\",COUNTRY_INFO!R84,\"Non requis\")","v":1},{"$f":"IF(COUNTRY_INFO!H84=1, IF($E84=1,IF(ALB_MBD!$J84<>\" \",COUNTRY_INFO!F84+COUNTRY_INFO!G84-ALB_MBD!$J84,COUNTRY_INFO!F84+COUNTRY_INFO!G84), 0),0)","v":0},{"$f":"IF(INTRO!$E$39<>\"Endémique\",0, IF(AND(COUNTRY_INFO!$I84=1,$F84<>0),IF(COUNTRY_INFO!N84>=(COUNTRY_INFO!F84+COUNTRY_INFO!G84),COUNTRY_INFO!F84+COUNTRY_INFO!G84,COUNTRY_INFO!$N84), 0))","v":6977},null,6977,0,19535.599999999999,0,19535.599999999999,null,19535.599999999999,40]
[{"$f":"IF(INTRO!$E$39=\"Non endémique\",\" \",IF(COUNTRY_INFO!A85=0,\" \",COUNTRY_INFO!A85))","v":"Angola"},{"$f":"IF(INTRO!$E$39=\"Non endémique\",\" \",IF(COUNTRY_INFO!B85=0,\" \",COUNTRY_INFO!B85))","v":"KWANZA NORTE"},{"$f":"IF(INTRO!$E$39=\"Non endémique\",\" \",IF(COUNTRY_INFO!C85=0,\" \",COUNTRY_INFO!C85))","v":"KICULUNGO"},{"$f":"IF(INTRO!$E$39=\"Non endémique\",0,IF(INTRO!$E$39=\"Endémique mais pas de CP\",IF(COUNTRY_INFO!$H85=1,COUNTRY_INFO!F85+COUNTRY_INFO!G85,0),IF(COUNTRY_INFO!$H85=1,COUNTRY_INFO!F85+COUNTRY_INFO!G85,IF(COUNTRY_INFO!$I85=1,IF(COUNTRY_INFO!N85>=(COUNTRY_INFO!F85+COUNTRY_INFO!G85),COUNTRY_INFO!F85+COUNTRY_INFO!G85,COUNTRY_INFO!$N85),0))))","v":0},{"$f":"IF(AND(INTRO!$E$39=\"Non endémique\",INTRO!$E$37=\"Non endémique\"),\"Non requis\",IF(INTRO!$E$39=\"Non endémique\",\"Traiter avec DEC\",COUNTRY_INFO!Q85))","v":0},{"$f":"IF(INTRO!$E$39<>\"Non endémique\",COUNTRY_INFO!R85,\"Non requis\")","v":0},{"$f":"IF(COUNTRY_INFO!H85=1, IF($E85=1,IF(ALB_MBD!$J85<>\" \",COUNTRY_INFO!F85+COUNTRY_INFO!G85-ALB_MBD!$J85,COUNTRY_INFO!F85+COUNTRY_INFO!G85), 0),0)","v":0},{"$f":"IF(INTRO!$E$39<>\"Endémique\",0, IF(AND(COUNTRY_INFO!$I85=1,$F85<>0),IF(COUNTRY_INFO!N85>=(COUNTRY_INFO!F85+COUNTRY_INFO!G85),COUNTRY_INFO!F85+COUNTRY_INFO!G85,COUNTRY_INFO!$N85), 0))","v":0},null,0,0,0,0,0,null,0,0]
[{"$f":"IF(INTRO!$E$39=\"Non endémique\",\" \",IF(COUNTRY_INFO!A86=0,\" \",COUNTRY_INFO!A86))","v":"Angola"},{"$f":"IF(INTRO!$E$39=\"Non endémique\",\" \",IF(COUNTRY_INFO!B86=0,\" \",COUNTRY_INFO!B86))","v":"KWANZA NORTE"},{"$f":"IF(INTRO!$E$39=\"Non endémique\",\" \",IF(COUNTRY_INFO!C86=0,\" \",COUNTRY_INFO!C86))","v":"LUCALA"},{"$f":"IF(INTRO!$E$39=\"Non endémique\",0,IF(INTRO!$E$39=\"Endémique mais pas de CP\",IF(COUNTRY_INFO!$H86=1,COUNTRY_INFO!F86+COUNTRY_INFO!G86,0),IF(COUNTRY_INFO!$H86=1,COUNTRY_INFO!F86+COUNTRY_INFO!G86,IF(COUNTRY_INFO!$I86=1,IF(COUNTRY_INFO!N86>=(COUNTRY_INFO!F86+COUNTRY_INFO!G86),COUNTRY_INFO!F86+COUNTRY_INFO!G86,COUNTRY_INFO!$N86),0))))","v":0},{"$f":"IF(AND(INTRO!$E$39=\"Non endémique\",INTRO!$E$37=\"Non endémique\"),\"Non requis\",IF(INTRO!$E$39=\"Non endémique\",\"Traiter avec DEC\",COUNTRY_INFO!Q86))","v":0},{"$f":"IF(INTRO!$E$39<>\"Non endémique\",COUNTRY_INFO!R86,\"Non requis\")","v":0},{"$f":"IF(COUNTRY_INFO!H86=1, IF($E86=1,IF(ALB_MBD!$J86<>\" \",COUNTRY_INFO!F86+COUNTRY_INFO!G86-ALB_MBD!$J86,COUNTRY_INFO!F86+COUNTRY_INFO!G86), 0),0)","v":0},{"$f":"IF(INTRO!$E$39<>\"Endémique\",0, IF(AND(COUNTRY_INFO!$I86=1,$F86<>0),IF(COUNTRY_INFO!N86>=(COUNTRY_INFO!F86+COUNTRY_INFO!G86),COUNTRY_INFO!F86+COUNTRY_INFO!G86,COUNTRY_INFO!$N86), 0))","v":0},null,0,0,0,0,0,null,0,0]
[{"$f":"IF(INTRO!$E$39=\"Non endémique\",\" \",IF(COUNTRY_INFO!A87=0,\" \",COUNTRY_INFO!A87))","v":"Angola"},{"$f":"IF(INTRO!$E$39=\"Non endémique\",\" \",IF(COUNTRY_INFO!B87=0,\" \",COUNTRY_INFO!B87))","v":"KWANZA NORTE"},{"$f":"IF(INTRO!$E$39=\"Non endémique\",\" \",IF(COUNTRY_INFO!C87=0,\" \",COUNTRY_INFO!C87))","v":"SAMBA CAJU"},{"$f":"IF(INTRO!$E$39=\"Non endémique\",0,IF(INTRO!$E$39=\"Endémique mais pas de CP\",IF(COUNTRY_INFO!$H87=1,COUNTRY_INFO!F87+COUNTRY_INFO!G87,0),IF(COUNTRY_INFO!$H87=1,COUNTRY_INFO!F87+COUNTRY_INFO!G87,IF(COUNTRY_INFO!$I87=1,IF(COUNTRY_INFO!N87>=(COUNTRY_INFO!F87+COUNTRY_INFO!G87),COUNTRY_INFO!F87+COUNTRY_INFO!G87,COUNTRY_INFO!$N87),0))))","v":0},{"$f":"IF(AND(INTRO!$E$39=\"Non endémique\",INTRO!$E$37=\"Non endémique\"),\"Non requis\",IF(INTRO!$E$39=\"Non endémique\",\"Traiter avec DEC\",COUNTRY_INFO!Q87))","v":0},{"$f":"IF(INTRO!$E$39<>\"Non endémique\",COUNTRY_INFO!R87,\"Non requis\")","v":0},{"$f":"IF(COUNTRY_INFO!H87=1, IF($E87=1,IF(ALB_MBD!$J87<>\" \",COUNTRY_INFO!F87+COUNTRY_INFO!G87-ALB_MBD!$J87,COUNTRY_INFO!F87+COUNTRY_INFO!G87), 0),0)","v":0},{"$f":"IF(INTRO!$E$39<>\"Endémique\",0, IF(AND(COUNTRY_INFO!$I87=1,$F87<>0),IF(COUNTRY_INFO!N87>=(COUNTRY_INFO!F87+COUNTRY_INFO!G87),COUNTRY_INFO!F87+COUNTRY_INFO!G87,COUNTRY_INFO!$N87), 0))","v":0},null,0,0,0,0,0,null,0,0]
[{"$f":"IF(INTRO!$E$39=\"Non endémique\",\" \",IF(COUNTRY_INFO!A88=0,\" \",COUNTRY_INFO!A88))","v":"Angola"},{"$f":"IF(INTRO!$E$39=\"Non endémique\",\" \",IF(COUNTRY_INFO!B88=0,\" \",COUNTRY_INFO!B88))","v":"KWANZA SUL"},{"$f":"IF(INTRO!$E$39=\"Non endémique\",\" \",IF(COUNTRY_INFO!C88=0,\" \",COUNTRY_INFO!C88))","v":"AMBOIM"},{"$f":"IF(INTRO!$E$39=\"Non endémique\",0,IF(INTRO!$E$39=\"Endémique mais pas de CP\",IF(COUNTRY_INFO!$H88=1,COUNTRY_INFO!F88+COUNTRY_INFO!G88,0),IF(COUNTRY_INFO!$H88=1,COUNTRY_INFO!F88+COUNTRY_INFO!G88,IF(COUNTRY_INFO!$I88=1,IF(COUNTRY_INFO!N88>=(COUNTRY_INFO!F88+COUNTRY_INFO!G88),COUNTRY_INFO!F88+COUNTRY_INFO!G88,COUNTRY_INFO!$N88),0))))","v":0},{"$f":"IF(AND(INTRO!$E$39=\"Non endémique\",INTRO!$E$37=\"Non endémique\"),\"Non requis\",IF(INTRO!$E$39=\"Non endémique\",\"Traiter avec DEC\",COUNTRY_INFO!Q88))","v":0},{"$f":"IF(INTRO!$E$39<>\"Non endémique\",COUNTRY_INFO!R88,\"Non requis\")","v":0},{"$f":"IF(COUNTRY_INFO!H88=1, IF($E88=1,IF(ALB_MBD!$J88<>\" \",COUNTRY_INFO!F88+COUNTRY_INFO!G88-ALB_MBD!$J88,COUNTRY_INFO!F88+COUNTRY_INFO!G88), 0),0)","v":0},{"$f":"IF(INTRO!$E$39<>\"Endémique\",0, IF(AND(COUNTRY_INFO!$I88=1,$F88<>0),IF(COUNTRY_INFO!N88>=(COUNTRY_INFO!F88+COUNTRY_INFO!G88),COUNTRY_INFO!F88+COUNTRY_INFO!G88,COUNTRY_INFO!$N88), 0))","v":0},null,0,0,0,0,0,null,0,0]
[{"$f":"IF(INTRO!$E$39=\"Non endémique\",\" \",IF(COUNTRY_INFO!A89=0,\" \",COUNTRY_INFO!A89))","v":"Angola"},{"$f":"IF(INTRO!$E$39=\"Non endémique\",\" \",IF(COUNTRY_INFO!B89=0,\" \",COUNTRY_INFO!B89))","v":"KWANZA SUL"},{"$f":"IF(INTRO!$E$39=\"Non endémique\",\" \",IF(COUNTRY_INFO!C89=0,\" \",COUNTRY_INFO!C89))","v":"CASSONGUE"},{"$f":"IF(INTRO!$E$39=\"Non endémique\",0,IF(INTRO!$E$39=\"Endémique mais pas de CP\",IF(COUNTRY_INFO!$H89=1,COUNTRY_INFO!F89+COUNTRY_INFO!G89,0),IF(COUNTRY_INFO!$H89=1,COUNTRY_INFO!F89+COUNTRY_INFO!G89,IF(COUNTRY_INFO!$I89=1,IF(COUNTRY_INFO!N89>=(COUNTRY_INFO!F89+COUNTRY_INFO!G89),COUNTRY_INFO!F89+COUNTRY_INFO!G89,COUNTRY_INFO!$N89),0))))","v":0},{"$f":"IF(AND(INTRO!$E$39=\"Non endémique\",INTRO!$E$37=\"Non endémique\"),\"Non requis\",IF(INTRO!$E$39=\"Non endémique\",\"Traiter avec DEC\",COUNTRY_INFO!Q89))","v":0},{"$f":"IF(INTRO!$E$39<>\"Non endémique\",COUNTRY_INFO!R89,\"Non requis\")","v":0},{"$f":"IF(COUNTRY_INFO!H89=1, IF($E89=1,IF(ALB_MBD!$J89<>\" \",COUNTRY_INFO!F89+COUNTRY_INFO!G89-ALB_MBD!$J89,COUNTRY_INFO!F89+COUNTRY_INFO!G89), 0),0)","v":0},{"$f":"IF(INTRO!$E$39<>\"Endémique\",0, IF(AND(COUNTRY_INFO!$I89=1,$F89<>0),IF(COUNTRY_INFO!N89>=(COUNTRY_INFO!F89+COUNTRY_INFO!G89),COUNTRY_INFO!F89+COUNTRY_INFO!G89,COUNTRY_INFO!$N89), 0))","v":0},null,0,0,0,0,0,null,0,0]
[{"$f":"IF(INTRO!$E$39=\"Non endémique\",\" \",IF(COUNTRY_INFO!A90=0,\" \",COUNTRY_INFO!A90))","v":"Angola"},{"$f":"IF(INTRO!$E$39=\"Non endémique\",\" \",IF(COUNTRY_INFO!B90=0,\" \",COUNTRY_INFO!B90))","v":"KWANZA SUL"},{"$f":"IF(INTRO!$E$39=\"Non endémique\",\" \",IF(COUNTRY_INFO!C90=0,\" \",COUNTRY_INFO!C90))","v":"CELA (Waku Kungo)"},{"$f":"IF(INTRO!$E$39=\"Non endémique\",0,IF(INTRO!$E$39=\"Endémique mais pas de CP\",IF(COUNTRY_INFO!$H90=1,COUNTRY_INFO!F90+COUNTRY_INFO!G90,0),IF(COUNTRY_INFO!$H90=1,COUNTRY_INFO!F90+COUNTRY_INFO!G90,IF(COUNTRY_INFO!$I90=1,IF(COUNTRY_INFO!N90>=(COUNTRY_INFO!F90+COUNTRY_INFO!G90),COUNTRY_INFO!F90+COUNTRY_INFO!G90,COUNTRY_INFO!$N90),0))))","v":0},{"$f":"IF(AND(INTRO!$E$39=\"Non endémique\",INTRO!$E$37=\"Non endémique\"),\"Non requis\",IF(INTRO!$E$39=\"Non endémique\",\"Traiter avec DEC\",COUNTRY_INFO!Q90))","v":0},{"$f":"IF(INTRO!$E$39<>\"Non endémique\",COUNTRY_INFO!R90,\"Non requis\")","v":0},{"$f":"IF(COUNTRY_INFO!H90=1, IF($E90=1,IF(ALB_MBD!$J90<>\" \",COUNTRY_INFO!F90+COUNTRY_INFO!G90-ALB_MBD!$J90,COUNTRY_INFO!F90+COUNTRY_INFO!G90), 0),0)","v":0},{"$f":"IF(INTRO!$E$39<>\"Endémique\",0, IF(AND(COUNTRY_INFO!$I90=1,$F90<>0),IF(COUNTRY_INFO!N90>=(COUNTRY_INFO!F90+COUNTRY_INFO!G90),COUNTRY_INFO!F90+COUNTRY_INFO!G90,COUNTRY_INFO!$N90), 0))","v":0},null,0,0,0,0,0,null,0,0]
[{"$f":"IF(INTRO!$E$39=\"Non endémique\",\" \",IF(COUNTRY_INFO!A91=0,\" \",COUNTRY_INFO!A91))","v":"Angola"},{"$f":"IF(INTRO!$E$39=\"Non endémique\",\" \",IF(COUNTRY_INFO!B91=0,\" \",COUNTRY_INFO!B91))","v":"KWANZA SUL"},{"$f":"IF(INTRO!$E$39=\"Non endémique\",\" \",IF(COUNTRY_INFO!C91=0,\" \",COUNTRY_INFO!C91))","v":"CONDA"},{"$f":"IF(INTRO!$E$39=\"Non endémique\",0,IF(INTRO!$E$39=\"Endémique mais pas de CP\",IF(COUNTRY_INFO!$H91=1,COUNTRY_INFO!F91+COUNTRY_INFO!G91,0),IF(COUNTRY_INFO!$H91=1,COUNTRY_INFO!F91+COUNTRY_INFO!G91,IF(COUNTRY_INFO!$I91=1,IF(COUNTRY_INFO!N91>=(COUNTRY_INFO!F91+COUNTRY_INFO!G91),COUNTRY_INFO!F91+COUNTRY_INFO!G91,COUNTRY_INFO!$N91),0))))","v":0},{"$f":"IF(AND(INTRO!$E$39=\"Non endémique\",INTRO!$E$37=\"Non endémique\"),\"Non requis\",IF(INTRO!$E$39=\"Non endémique\",\"Traiter avec DEC\",COUNTRY_INFO!Q91))","v":0},{"$f":"IF(INTRO!$E$39<>\"Non endémique\",COUNTRY_INFO!R91,\"Non requis\")","v":0},{"$f":"IF(COUNTRY_INFO!H91=1, IF($E91=1,IF(ALB_MBD!$J91<>\" \",COUNTRY_INFO!F91+COUNTRY_INFO!G91-ALB_MBD!$J91,COUNTRY_INFO!F91+COUNTRY_INFO!G91), 0),0)","v":0},{"$f":"IF(INTRO!$E$39<>\"Endémique\",0, IF(AND(COUNTRY_INFO!$I91=1,$F91<>0),IF(COUNTRY_INFO!N91>=(COUNTRY_INFO!F91+COUNTRY_INFO!G91),COUNTRY_INFO!F91+COUNTRY_INFO!G91,COUNTRY_INFO!$N91), 0))","v":0},null,0,0,0,0,0,null,0,0]
[{"$f":"IF(INTRO!$E$39=\"Non endémique\",\" \",IF(COUNTRY_INFO!A92=0,\" \",COUNTRY_INFO!A92))","v":"Angola"},{"$f":"IF(INTRO!$E$39=\"Non endémique\",\" \",IF(COUNTRY_INFO!B92=0,\" \",COUNTRY_INFO!B92))","v":"KWANZA SUL"},{"$f":"IF(INTRO!$E$39=\"Non endémique\",\" \",IF(COUNTRY_INFO!C92=0,\" \",COUNTRY_INFO!C92))","v":"EBO"},{"$f":"IF(INTRO!$E$39=\"Non endémique\",0,IF(INTRO!$E$39=\"Endémique mais pas de CP\",IF(COUNTRY_INFO!$H92=1,COUNTRY_INFO!F92+COUNTRY_INFO!G92,0),IF(COUNTRY_INFO!$H92=1,COUNTRY_INFO!F92+COUNTRY_INFO!G92,IF(COUNTRY_INFO!$I92=1,IF(COUNTRY_INFO!N92>=(COUNTRY_INFO!F92+COUNTRY_INFO!G92),COUNTRY_INFO!F92+COUNTRY_INFO!G92,COUNTRY_INFO!$N92),0))))","v":0},{"$f":"IF(AND(INTRO!$E$39=\"Non endémique\",INTRO!$E$37=\"Non endémique\"),\"Non requis\",IF(INTRO!$E$39=\"Non endémique\",\"Traiter avec DEC\",COUNTRY_INFO!Q92))","v":0},{"$f":"IF(INTRO!$E$39<>\"Non endémique\",COUNTRY_INFO!R92,\"Non requis\")","v":0},{"$f":"IF(COUNTRY_INFO!H92=1, IF($E92=1,IF(ALB_MBD!$J92<>\" \",COUNTRY_INFO!F92+COUNTRY_INFO!G92-ALB_MBD!$J92,COUNTRY_INFO!F92+COUNTRY_INFO!G92), 0),0)","v":0},{"$f":"IF(INTRO!$E$39<>\"Endémique\",0, IF(AND(COUNTRY_INFO!$I92=1,$F92<>0),IF(COUNTRY_INFO!N92>=(COUNTRY_INFO!F92+COUNTRY_INFO!G92),COUNTRY_INFO!F92+COUNTRY_INFO!G92,COUNTRY_INFO!$N92), 0))","v":0},null,0,0,0,0,0,null,0,0]
[{"$f":"IF(INTRO!$E$39=\"Non endémique\",\" \",IF(COUNTRY_INFO!A93=0,\" \",COUNTRY_INFO!A93))","v":"Angola"},{"$f":"IF(INTRO!$E$39=\"Non endémique\",\" \",IF(COUNTRY_INFO!B93=0,\" \",COUNTRY_INFO!B93))","v":"KWANZA SUL"},{"$f":"IF(INTRO!$E$39=\"Non endémique\",\" \",IF(COUNTRY_INFO!C93=0,\" \",COUNTRY_INFO!C93))","v":"KIBALA"},{"$f":"IF(INTRO!$E$39=\"Non endémique\",0,IF(INTRO!$E$39=\"Endémique mais pas de CP\",IF(COUNTRY_INFO!$H93=1,COUNTRY_INFO!F93+COUNTRY_INFO!G93,0),IF(COUNTRY_INFO!$H93=1,COUNTRY_INFO!F93+COUNTRY_INFO!G93,IF(COUNTRY_INFO!$I93=1,IF(COUNTRY_INFO!N93>=(COUNTRY_INFO!F93+COUNTRY_INFO!G93),COUNTRY_INFO!F93+COUNTRY_INFO!G93,COUNTRY_INFO!$N93),0))))","v":0},{"$f":"IF(AND(INTRO!$E$39=\"Non endémique\",INTRO!$E$37=\"Non endémique\"),\"Non requis\",IF(INTRO!$E$39=\"Non endémique\",\"Traiter avec DEC\",COUNTRY_INFO!Q93))","v":0},{"$f":"IF(INTRO!$E$39<>\"Non endémique\",COUNTRY_INFO!R93,\"Non requis\")","v":0},{"$f":"IF(COUNTRY_INFO!H93=1, IF($E93=1,IF(ALB_MBD!$J93<>\" \",COUNTRY_INFO!F93+COUNTRY_INFO!G93-ALB_MBD!$J93,COUNTRY_INFO!F93+COUNTRY_INFO!G93), 0),0)","v":0},{"$f":"IF(INTRO!$E$39<>\"Endémique\",0, IF(AND(COUNTRY_INFO!$I93=1,$F93<>0),IF(COUNTRY_INFO!N93>=(COUNTRY_INFO!F93+COUNTRY_INFO!G93),COUNTRY_INFO!F93+COUNTRY_INFO!G93,COUNTRY_INFO!$N93), 0))","v":0},null,0,0,0,0,0,null,0,0]
[{"$f":"IF(INTRO!$E$39=\"Non endémique\",\" \",IF(COUNTRY_INFO!A94=0,\" \",COUNTRY_INFO!A94))","v":"Angola"},{"$f":"IF(INTRO!$E$39=\"Non endémique\",\" \",IF(COUNTRY_INFO!B94=0,\" \",COUNTRY_INFO!B94))","v":"KWANZA SUL"},{"$f":"IF(INTRO!$E$39=\"Non endémique\",\" \",IF(COUNTRY_INFO!C94=0,\" \",COUNTRY_INFO!C94))","v":"KILENDA"},{"$f":"IF(INTRO!$E$39=\"Non endémique\",0,IF(INTRO!$E$39=\"Endémique mais pas de CP\",IF(COUNTRY_INFO!$H94=1,COUNTRY_INFO!F94+COUNTRY_INFO!G94,0),IF(COUNTRY_INFO!$H94=1,COUNTRY_INFO!F94+COUNTRY_INFO!G94,IF(COUNTRY_INFO!$I94=1,IF(COUNTRY_INFO!N94>=(COUNTRY_INFO!F94+COUNTRY_INFO!G94),COUNTRY_INFO!F94+COUNTRY_INFO!G94,COUNTRY_INFO!$N94),0))))","v":0},{"$f":"IF(AND(INTRO!$E$39=\"Non endémique\",INTRO!$E$37=\"Non endémique\"),\"Non requis\",IF(INTRO!$E$39=\"Non endémique\",\"Traiter avec DEC\",COUNTRY_INFO!Q94))","v":0},{"$f":"IF(INTRO!$E$39<>\"Non endémique\",COUNTRY_INFO!R94,\"Non requis\")","v":0},{"$f":"IF(COUNTRY_INFO!H94=1, IF($E94=1,IF(ALB_MBD!$J94<>\" \",COUNTRY_INFO!F94+COUNTRY_INFO!G94-ALB_MBD!$J94,COUNTRY_INFO!F94+COUNTRY_INFO!G94), 0),0)","v":0},{"$f":"IF(INTRO!$E$39<>\"Endémique\",0, IF(AND(COUNTRY_INFO!$I94=1,$F94<>0),IF(COUNTRY_INFO!N94>=(COUNTRY_INFO!F94+COUNTRY_INFO!G94),COUNTRY_INFO!F94+COUNTRY_INFO!G94,COUNTRY_INFO!$N94), 0))","v":0},null,0,0,0,0,0,null,0,0]
[{"$f":"IF(INTRO!$E$39=\"Non endémique\",\" \",IF(COUNTRY_INFO!A95=0,\" \",COUNTRY_INFO!A95))","v":"Angola"},{"$f":"IF(INTRO!$E$39=\"Non endémique\",\" \",IF(COUNTRY_INFO!B95=0,\" \",COUNTRY_INFO!B95))","v":"KWANZA SUL"},{"$f":"IF(INTRO!$E$39=\"Non endémique\",\" \",IF(COUNTRY_INFO!C95=0,\" \",COUNTRY_INFO!C95))","v":"LIBOLO"},{"$f":"IF(INTRO!$E$39=\"Non endémique\",0,IF(INTRO!$E$39=\"Endémique mais pas de CP\",IF(COUNTRY_INFO!$H95=1,COUNTRY_INFO!F95+COUNTRY_INFO!G95,0),IF(COUNTRY_INFO!$H95=1,COUNTRY_INFO!F95+COUNTRY_INFO!G95,IF(COUNTRY_INFO!$I95=1,IF(COUNTRY_INFO!N95>=(COUNTRY_INFO!F95+COUNTRY_INFO!G95),COUNTRY_INFO!F95+COUNTRY_INFO!G95,COUNTRY_INFO!$N95),0))))","v":0},{"$f":"IF(AND(INTRO!$E$39=\"Non endémique\",INTRO!$E$37=\"Non endémique\"),\"Non requis\",IF(INTRO!$E$39=\"Non endémique\",\"Traiter avec DEC\",COUNTRY_INFO!Q95))","v":0},{"$f":"IF(INTRO!$E$39<>\"Non endémique\",COUNTRY_INFO!R95,\"Non requis\")","v":0},{"$f":"IF(COUNTRY_INFO!H95=1, IF($E95=1,IF(ALB_MBD!$J95<>\" \",COUNTRY_INFO!F95+COUNTRY_INFO!G95-ALB_MBD!$J95,COUNTRY_INFO!F95+COUNTRY_INFO!G95), 0),0)","v":0},{"$f":"IF(INTRO!$E$39<>\"Endémique\",0, IF(AND(COUNTRY_INFO!$I95=1,$F95<>0),IF(COUNTRY_INFO!N95>=(COUNTRY_INFO!F95+COUNTRY_INFO!G95),COUNTRY_INFO!F95+COUNTRY_INFO!G95,COUNTRY_INFO!$N95), 0))","v":0},null,0,0,0,0,0,null,0,0]
[{"$f":"IF(INTRO!$E$39=\"Non endémique\",\" \",IF(COUNTRY_INFO!A96=0,\" \",COUNTRY_INFO!A96))","v":"Angola"},{"$f":"IF(INTRO!$E$39=\"Non endémique\",\" \",IF(COUNTRY_INFO!B96=0,\" \",COUNTRY_INFO!B96))","v":"KWANZA SUL"},{"$f":"IF(INTRO!$E$39=\"Non endémique\",\" \",IF(COUNTRY_INFO!C96=0,\" \",COUNTRY_INFO!C96))","v":"MUSSENDE"},{"$f":"IF(INTRO!$E$39=\"Non endémique\",0,IF(INTRO!$E$39=\"Endémique mais pas de CP\",IF(COUNTRY_INFO!$H96=1,COUNTRY_INFO!F96+COUNTRY_INFO!G96,0),IF(COUNTRY_INFO!$H96=1,COUNTRY_INFO!F96+COUNTRY_INFO!G96,IF(COUNTRY_INFO!$I96=1,IF(COUNTRY_INFO!N96>=(COUNTRY_INFO!F96+COUNTRY_INFO!G96),COUNTRY_INFO!F96+COUNTRY_INFO!G96,COUNTRY_INFO!$N96),0))))","v":76010},{"$f":"IF(AND(INTRO!$E$39=\"Non endémique\",INTRO!$E$37=\"Non endémique\"),\"Non requis\",IF(INTRO!$E$39=\"Non endémique\",\"Traiter avec DEC\",COUNTRY_INFO!Q96))","v":0},{"$f":"IF(INTRO!$E$39<>\"Non endémique\",COUNTRY_INFO!R96,\"Non requis\")","v":1},{"$f":"IF(COUNTRY_INFO!H96=1, IF($E96=1,IF(ALB_MBD!$J96<>\" \",COUNTRY_INFO!F96+COUNTRY_INFO!G96-ALB_MBD!$J96,COUNTRY_INFO!F96+COUNTRY_INFO!G96), 0),0)","v":0},{"$f":"IF(INTRO!$E$39<>\"Endémique\",0, IF(AND(COUNTRY_INFO!$I96=1,$F96<>0),IF(COUNTRY_INFO!N96>=(COUNTRY_INFO!F96+COUNTRY_INFO!G96),COUNTRY_INFO!F96+COUNTRY_INFO!G96,COUNTRY_INFO!$N96), 0))","v":76010},null,76010,0,212828,0,212828,null,212828,426]
[{"$f":"IF(INTRO!$E$39=\"Non endémique\",\" \",IF(COUNTRY_INFO!A97=0,\" \",COUNTRY_INFO!A97))","v":"Angola"},{"$f":"IF(INTRO!$E$39=\"Non endémique\",\" \",IF(COUNTRY_INFO!B97=0,\" \",COUNTRY_INFO!B97))","v":"KWANZA SUL"},{"$f":"IF(INTRO!$E$39=\"Non endémique\",\" \",IF(COUNTRY_INFO!C97=0,\" \",COUNTRY_INFO!C97))","v":"PORTO AMBOIM"},{"$f":"IF(INTRO!$E$39=\"Non endémique\",0,IF(INTRO!$E$39=\"Endémique mais pas de CP\",IF(COUNTRY_INFO!$H97=1,COUNTRY_INFO!F97+COUNTRY_INFO!G97,0),IF(COUNTRY_INFO!$H97=1,COUNTRY_INFO!F97+COUNTRY_INFO!G97,IF(COUNTRY_INFO!$I97=1,IF(COUNTRY_INFO!N97>=(COUNTRY_INFO!F97+COUNTRY_INFO!G97),COUNTRY_INFO!F97+COUNTRY_INFO!G97,COUNTRY_INFO!$N97),0))))","v":115998},{"$f":"IF(AND(INTRO!$E$39=\"Non endémique\",INTRO!$E$37=\"Non endémique\"),\"Non requis\",IF(INTRO!$E$39=\"Non endémique\",\"Traiter avec DEC\",COUNTRY_INFO!Q97))","v":0},{"$f":"IF(INTRO!$E$39<>\"Non endémique\",COUNTRY_INFO!R97,\"Non requis\")","v":1},{"$f":"IF(COUNTRY_INFO!H97=1, IF($E97=1,IF(ALB_MBD!$J97<>\" \",COUNTRY_INFO!F97+COUNTRY_INFO!G97-ALB_MBD!$J97,COUNTRY_INFO!F97+COUNTRY_INFO!G97), 0),0)","v":0},{"$f":"IF(INTRO!$E$39<>\"Endémique\",0, IF(AND(COUNTRY_INFO!$I97=1,$F97<>0),IF(COUNTRY_INFO!N97>=(COUNTRY_INFO!F97+COUNTRY_INFO!G97),COUNTRY_INFO!F97+COUNTRY_INFO!G97,COUNTRY_INFO!$N97), 0))","v":115998},null,115998,0,324794.39999999997,0,324794.39999999997,null,324794.39999999997,650]
[{"$f":"IF(INTRO!$E$39=\"Non endémique\",\" \",IF(COUNTRY_INFO!A98=0,\" \",COUNTRY_INFO!A98))","v":"Angola"},{"$f":"IF(INTRO!$E$39=\"Non endémique\",\" \",IF(COUNTRY_INFO!B98=0,\" \",COUNTRY_INFO!B98))","v":"KWANZA SUL"},{"$f":"IF(INTRO!$E$39=\"Non endémique\",\" \",IF(COUNTRY_INFO!C98=0,\" \",COUNTRY_INFO!C98))","v":"SELES"},{"$f":"IF(INTRO!$E$39=\"Non endémique\",0,IF(INTRO!$E$39=\"Endémique mais pas de CP\",IF(COUNTRY_INFO!$H98=1,COUNTRY_INFO!F98+COUNTRY_INFO!G98,0),IF(COUNTRY_INFO!$H98=1,COUNTRY_INFO!F98+COUNTRY_INFO!G98,IF(COUNTRY_INFO!$I98=1,IF(COUNTRY_INFO!N98>=(COUNTRY_INFO!F98+COUNTRY_INFO!G98),COUNTRY_INFO!F98+COUNTRY_INFO!G98,COUNTRY_INFO!$N98),0))))","v":0},{"$f":"IF(AND(INTRO!$E$39=\"Non endémique\",INTRO!$E$37=\"Non endémique\"),\"Non requis\",IF(INTRO!$E$39=\"Non endémique\",\"Traiter avec DEC\",COUNTRY_INFO!Q98))","v":0},{"$f":"IF(INTRO!$E$39<>\"Non endémique\",COUNTRY_INFO!R98,\"Non requis\")","v":0},{"$f":"IF(COUNTRY_INFO!H98=1, IF($E98=1,IF(ALB_MBD!$J98<>\" \",COUNTRY_INFO!F98+COUNTRY_INFO!G98-ALB_MBD!$J98,COUNTRY_INFO!F98+COUNTRY_INFO!G98), 0),0)","v":0},{"$f":"IF(INTRO!$E$39<>\"Endémique\",0, IF(AND(COUNTRY_INFO!$I98=1,$F98<>0),IF(COUNTRY_INFO!N98>=(COUNTRY_INFO!F98+COUNTRY_INFO!G98),COUNTRY_INFO!F98+COUNTRY_INFO!G98,COUNTRY_INFO!$N98), 0))","v":0},null,0,0,0,0,0,null,0,0]
[{"$f":"IF(INTRO!$E$39=\"Non endémique\",\" \",IF(COUNTRY_INFO!A99=0,\" \",COUNTRY_INFO!A99))","v":"Angola"},{"$f":"IF(INTRO!$E$39=\"Non endémique\",\" \",IF(COUNTRY_INFO!B99=0,\" \",COUNTRY_INFO!B99))","v":"KWANZA SUL"},{"$f":"IF(INTRO!$E$39=\"Non endémique\",\" \",IF(COUNTRY_INFO!C99=0,\" \",COUNTRY_INFO!C99))","v":"SUMBE"},{"$f":"IF(INTRO!$E$39=\"Non endémique\",0,IF(INTRO!$E$39=\"Endémique mais pas de CP\",IF(COUNTRY_INFO!$H99=1,COUNTRY_INFO!F99+COUNTRY_INFO!G99,0),IF(COUNTRY_INFO!$H99=1,COUNTRY_INFO!F99+COUNTRY_INFO!G99,IF(COUNTRY_INFO!$I99=1,IF(COUNTRY_INFO!N99>=(COUNTRY_INFO!F99+COUNTRY_INFO!G99),COUNTRY_INFO!F99+COUNTRY_INFO!G99,COUNTRY_INFO!$N99),0))))","v":0},{"$f":"IF(AND(INTRO!$E$39=\"Non endémique\",INTRO!$E$37=\"Non endémique\"),\"Non requis\",IF(INTRO!$E$39=\"Non endémique\",\"Traiter avec DEC\",COUNTRY_INFO!Q99))","v":0},{"$f":"IF(INTRO!$E$39<>\"Non endémique\",COUNTRY_INFO!R99,\"Non requis\")","v":0},{"$f":"IF(COUNTRY_INFO!H99=1, IF($E99=1,IF(ALB_MBD!$J99<>\" \",COUNTRY_INFO!F99+COUNTRY_INFO!G99-ALB_MBD!$J99,COUNTRY_INFO!F99+COUNTRY_INFO!G99), 0),0)","v":0},{"$f":"IF(INTRO!$E$39<>\"Endémique\",0, IF(AND(COUNTRY_INFO!$I99=1,$F99<>0),IF(COUNTRY_INFO!N99>=(COUNTRY_INFO!F99+COUNTRY_INFO!G99),COUNTRY_INFO!F99+COUNTRY_INFO!G99,COUNTRY_INFO!$N99), 0))","v":0},null,0,0,0,0,0,null,0,0]
[{"$f":"IF(INTRO!$E$39=\"Non endémique\",\" \",IF(COUNTRY_INFO!A100=0,\" \",COUNTRY_INFO!A100))","v":"Angola"},{"$f":"IF(INTRO!$E$39=\"Non endémique\",\" \",IF(COUNTRY_INFO!B100=0,\" \",COUNTRY_INFO!B100))","v":"LUANDA"},{"$f":"IF(INTRO!$E$39=\"Non endémique\",\" \",IF(COUNTRY_INFO!C100=0,\" \",COUNTRY_INFO!C100))","v":"BELAS"},{"$f":"IF(INTRO!$E$39=\"Non endémique\",0,IF(INTRO!$E$39=\"Endémique mais pas de CP\",IF(COUNTRY_INFO!$H100=1,COUNTRY_INFO!F100+COUNTRY_INFO!G100,0),IF(COUNTRY_INFO!$H100=1,COUNTRY_INFO!F100+COUNTRY_INFO!G100,IF(COUNTRY_INFO!$I100=1,IF(COUNTRY_INFO!N100>=(COUNTRY_INFO!F100+COUNTRY_INFO!G100),COUNTRY_INFO!F100+COUNTRY_INFO!G100,COUNTRY_INFO!$N100),0))))","v":0},{"$f":"IF(AND(INTRO!$E$39=\"Non endémique\",INTRO!$E$37=\"Non endémique\"),\"Non requis\",IF(INTRO!$E$39=\"Non endémique\",\"Traiter avec DEC\",COUNTRY_INFO!Q100))","v":0},{"$f":"IF(INTRO!$E$39<>\"Non endémique\",COUNTRY_INFO!R100,\"Non requis\")","v":0},{"$f":"IF(COUNTRY_INFO!H100=1, IF($E100=1,IF(ALB_MBD!$J100<>\" \",COUNTRY_INFO!F100+COUNTRY_INFO!G100-ALB_MBD!$J100,COUNTRY_INFO!F100+COUNTRY_INFO!G100), 0),0)","v":0},{"$f":"IF(INTRO!$E$39<>\"Endémique\",0, IF(AND(COUNTRY_INFO!$I100=1,$F100<>0),IF(COUNTRY_INFO!N100>=(COUNTRY_INFO!F100+COUNTRY_INFO!G100),COUNTRY_INFO!F100+COUNTRY_INFO!G100,COUNTRY_INFO!$N100), 0))","v":0},null,0,0,0,0,0,null,0,0]
[{"$f":"IF(INTRO!$E$39=\"Non endémique\",\" \",IF(COUNTRY_INFO!A101=0,\" \",COUNTRY_INFO!A101))","v":"Angola"},{"$f":"IF(INTRO!$E$39=\"Non endémique\",\" \",IF(COUNTRY_INFO!B101=0,\" \",COUNTRY_INFO!B101))","v":"LUANDA"},{"$f":"IF(INTRO!$E$39=\"Non endémique\",\" \",IF(COUNTRY_INFO!C101=0,\" \",COUNTRY_INFO!C101))","v":"CACUACO"},{"$f":"IF(INTRO!$E$39=\"Non endémique\",0,IF(INTRO!$E$39=\"Endémique mais pas de CP\",IF(COUNTRY_INFO!$H101=1,COUNTRY_INFO!F101+COUNTRY_INFO!G101,0),IF(COUNTRY_INFO!$H101=1,COUNTRY_INFO!F101+COUNTRY_INFO!G101,IF(COUNTRY_INFO!$I101=1,IF(COUNTRY_INFO!N101>=(COUNTRY_INFO!F101+COUNTRY_INFO!G101),COUNTRY_INFO!F101+COUNTRY_INFO!G101,COUNTRY_INFO!$N101),0))))","v":0},{"$f":"IF(AND(INTRO!$E$39=\"Non endémique\",INTRO!$E$37=\"Non endémique\"),\"Non requis\",IF(INTRO!$E$39=\"Non endémique\",\"Traiter avec DEC\",COUNTRY_INFO!Q101))","v":0},{"$f":"IF(INTRO!$E$39<>\"Non endémique\",COUNTRY_INFO!R101,\"Non requis\")","v":0},{"$f":"IF(COUNTRY_INFO!H101=1, IF($E101=1,IF(ALB_MBD!$J101<>\" \",COUNTRY_INFO!F101+COUNTRY_INFO!G101-ALB_MBD!$J101,COUNTRY_INFO!F101+COUNTRY_INFO!G101), 0),0)","v":0},{"$f":"IF(INTRO!$E$39<>\"Endémique\",0, IF(AND(COUNTRY_INFO!$I101=1,$F101<>0),IF(COUNTRY_INFO!N101>=(COUNTRY_INFO!F101+COUNTRY_INFO!G101),COUNTRY_INFO!F101+COUNTRY_INFO!G101,COUNTRY_INFO!$N101), 0))","v":0},null,0,0,0,0,0,null,0,0]
[{"$f":"IF(INTRO!$E$39=\"Non endémique\",\" \",IF(COUNTRY_INFO!A102=0,\" \",COUNTRY_INFO!A102))","v":"Angola"},{"$f":"IF(INTRO!$E$39=\"Non endémique\",\" \",IF(COUNTRY_INFO!B102=0,\" \",COUNTRY_INFO!B102))","v":"LUANDA"},{"$f":"IF(INTRO!$E$39=\"Non endémique\",\" \",IF(COUNTRY_INFO!C102=0,\" \",COUNTRY_INFO!C102))","v":"CAZENGA"},{"$f":"IF(INTRO!$E$39=\"Non endémique\",0,IF(INTRO!$E$39=\"Endémique mais pas de CP\",IF(COUNTRY_INFO!$H102=1,COUNTRY_INFO!F102+COUNTRY_INFO!G102,0),IF(COUNTRY_INFO!$H102=1,COUNTRY_INFO!F102+COUNTRY_INFO!G102,IF(COUNTRY_INFO!$I102=1,IF(COUNTRY_INFO!N102>=(COUNTRY_INFO!F102+COUNTRY_INFO!G102),COUNTRY_INFO!F102+COUNTRY_INFO!G102,COUNTRY_INFO!$N102),0))))","v":0},{"$f":"IF(AND(INTRO!$E$39=\"Non endémique\",INTRO!$E$37=\"Non endémique\"),\"Non requis\",IF(INTRO!$E$39=\"Non endémique\",\"Traiter avec DEC\",COUNTRY_INFO!Q102))","v":0},{"$f":"IF(INTRO!$E$39<>\"Non endémique\",COUNTRY_INFO!R102,\"Non requis\")","v":0},{"$f":"IF(COUNTRY_INFO!H102=1, IF($E102=1,IF(ALB_MBD!$J102<>\" \",COUNTRY_INFO!F102+COUNTRY_INFO!G102-ALB_MBD!$J102,COUNTRY_INFO!F102+COUNTRY_INFO!G102), 0),0)","v":0},{"$f":"IF(INTRO!$E$39<>\"Endémique\",0, IF(AND(COUNTRY_INFO!$I102=1,$F102<>0),IF(COUNTRY_INFO!N102>=(COUNTRY_INFO!F102+COUNTRY_INFO!G102),COUNTRY_INFO!F102+COUNTRY_INFO!G102,COUNTRY_INFO!$N102), 0))","v":0},null,0,0,0,0,0,null,0,0]
[{"$f":"IF(INTRO!$E$39=\"Non endémique\",\" \",IF(COUNTRY_INFO!A103=0,\" \",COUNTRY_INFO!A103))","v":"Angola"},{"$f":"IF(INTRO!$E$39=\"Non endémique\",\" \",IF(COUNTRY_INFO!B103=0,\" \",COUNTRY_INFO!B103))","v":"LUANDA"},{"$f":"IF(INTRO!$E$39=\"Non endémique\",\" \",IF(COUNTRY_INFO!C103=0,\" \",COUNTRY_INFO!C103))","v":"ICOLO E BENGO"},{"$f":"IF(INTRO!$E$39=\"Non endémique\",0,IF(INTRO!$E$39=\"Endémique mais pas de CP\",IF(COUNTRY_INFO!$H103=1,COUNTRY_INFO!F103+COUNTRY_INFO!G103,0),IF(COUNTRY_INFO!$H103=1,COUNTRY_INFO!F103+COUNTRY_INFO!G103,IF(COUNTRY_INFO!$I103=1,IF(COUNTRY_INFO!N103>=(COUNTRY_INFO!F103+COUNTRY_INFO!G103),COUNTRY_INFO!F103+COUNTRY_INFO!G103,COUNTRY_INFO!$N103),0))))","v":0},{"$f":"IF(AND(INTRO!$E$39=\"Non endémique\",INTRO!$E$37=\"Non endémique\"),\"Non requis\",IF(INTRO!$E$39=\"Non endémique\",\"Traiter avec DEC\",COUNTRY_INFO!Q103))","v":0},{"$f":"IF(INTRO!$E$39<>\"Non endémique\",COUNTRY_INFO!R103,\"Non requis\")","v":0},{"$f":"IF(COUNTRY_INFO!H103=1, IF($E103=1,IF(ALB_MBD!$J103<>\" \",COUNTRY_INFO!F103+COUNTRY_INFO!G103-ALB_MBD!$J103,COUNTRY_INFO!F103+COUNTRY_INFO!G103), 0),0)","v":0},{"$f":"IF(INTRO!$E$39<>\"Endémique\",0, IF(AND(COUNTRY_INFO!$I103=1,$F103<>0),IF(COUNTRY_INFO!N103>=(COUNTRY_INFO!F103+COUNTRY_INFO!G103),COUNTRY_INFO!F103+COUNTRY_INFO!G103,COUNTRY_INFO!$N103), 0))","v":0},null,0,0,0,0,0,null,0,0]
[{"$f":"IF(INTRO!$E$39=\"Non endémique\",\" \",IF(COUNTRY_INFO!A104=0,\" \",COUNTRY_INFO!A104))","v":"Angola"},{"$f":"IF(INTRO!$E$39=\"Non endémique\",\" \",IF(COUNTRY_INFO!B104=0,\" \",COUNTRY_INFO!B104))","v":"LUANDA"},{"$f":"IF(INTRO!$E$39=\"Non endémique\",\" \",IF(COUNTRY_INFO!C104=0,\" \",COUNTRY_INFO!C104))","v":"KILAMBA KIAXI"},{"$f":"IF(INTRO!$E$39=\"Non endémique\",0,IF(INTRO!$E$39=\"Endémique mais pas de CP\",IF(COUNTRY_INFO!$H104=1,COUNTRY_INFO!F104+COUNTRY_INFO!G104,0),IF(COUNTRY_INFO!$H104=1,COUNTRY_INFO!F104+COUNTRY_INFO!G104,IF(COUNTRY_INFO!$I104=1,IF(COUNTRY_INFO!N104>=(COUNTRY_INFO!F104+COUNTRY_INFO!G104),COUNTRY_INFO!F104+COUNTRY_INFO!G104,COUNTRY_INFO!$N104),0))))","v":0},{"$f":"IF(AND(INTRO!$E$39=\"Non endémique\",INTRO!$E$37=\"Non endémique\"),\"Non requis\",IF(INTRO!$E$39=\"Non endémique\",\"Traiter avec DEC\",COUNTRY_INFO!Q104))","v":0},{"$f":"IF(INTRO!$E$39<>\"Non endémique\",COUNTRY_INFO!R104,\"Non requis\")","v":0},{"$f":"IF(COUNTRY_INFO!H104=1, IF($E104=1,IF(ALB_MBD!$J104<>\" \",COUNTRY_INFO!F104+COUNTRY_INFO!G104-ALB_MBD!$J104,COUNTRY_INFO!F104+COUNTRY_INFO!G104), 0),0)","v":0},{"$f":"IF(INTRO!$E$39<>\"Endémique\",0, IF(AND(COUNTRY_INFO!$I104=1,$F104<>0),IF(COUNTRY_INFO!N104>=(COUNTRY_INFO!F104+COUNTRY_INFO!G104),COUNTRY_INFO!F104+COUNTRY_INFO!G104,COUNTRY_INFO!$N104), 0))","v":0},null,0,0,0,0,0,5045000,0,0]
[{"$f":"IF(INTRO!$E$39=\"Non endémique\",\" \",IF(COUNTRY_INFO!A105=0,\" \",COUNTRY_INFO!A105))","v":"Angola"},{"$f":"IF(INTRO!$E$39=\"Non endémique\",\" \",IF(COUNTRY_INFO!B105=0,\" \",COUNTRY_INFO!B105))","v":"LUANDA"},{"$f":"IF(INTRO!$E$39=\"Non endémique\",\" \",IF(COUNTRY_INFO!C105=0,\" \",COUNTRY_INFO!C105))","v":"LUANDA"},{"$f":"IF(INTRO!$E$39=\"Non endémique\",0,IF(INTRO!$E$39=\"Endémique mais pas de CP\",IF(COUNTRY_INFO!$H105=1,COUNTRY_INFO!F105+COUNTRY_INFO!G105,0),IF(COUNTRY_INFO!$H105=1,COUNTRY_INFO!F105+COUNTRY_INFO!G105,IF(COUNTRY_INFO!$I105=1,IF(COUNTRY_INFO!N105>=(COUNTRY_INFO!F105+COUNTRY_INFO!G105),COUNTRY_INFO!F105+COUNTRY_INFO!G105,COUNTRY_INFO!$N105),0))))","v":0},{"$f":"IF(AND(INTRO!$E$39=\"Non endémique\",INTRO!$E$37=\"Non endémique\"),\"Non requis\",IF(INTRO!$E$39=\"Non endémique\",\"Traiter avec DEC\",COUNTRY_INFO!Q105))","v":0},{"$f":"IF(INTRO!$E$39<>\"Non endémique\",COUNTRY_INFO!R105,\"Non requis\")","v":0},{"$f":"IF(COUNTRY_INFO!H105=1, IF($E105=1,IF(ALB_MBD!$J105<>\" \",COUNTRY_INFO!F105+COUNTRY_INFO!G105-ALB_MBD!$J105,COUNTRY_INFO!F105+COUNTRY_INFO!G105), 0),0)","v":0},{"$f":"IF(INTRO!$E$39<>\"Endémique\",0, IF(AND(COUNTRY_INFO!$I105=1,$F105<>0),IF(COUNTRY_INFO!N105>=(COUNTRY_INFO!F105+COUNTRY_INFO!G105),COUNTRY_INFO!F105+COUNTRY_INFO!G105,COUNTRY_INFO!$N105), 0))","v":0},null,{"$f":"IF(I105=0,H105,IF(I105>H105,H105,I105))","v":0},{"$f":"IF(G105<J105,0,IF($E105=1, (G105-J105)*2.8, 0))","v":0},{"$f":"IF($E105<$F105, J105*(F105-E105)*2.8, 0)","v":0},{"$f":"IF(AND($E105=1, $F105<>0), J105*2.8, 0)","v":0},{"$f":"SUM(K105:M105)","v":0},null,{"$f":"IF($N105>$O105,$N105-$O105,0)","v":0},{"$f":"ROUNDUP($N105/500,0)","v":0}]
[{"$f":"IF(INTRO!$E$39=\"Non endémique\",\" \",IF(COUNTRY_INFO!A106=0,\" \",COUNTRY_INFO!A106))","v":"Angola"},{"$f":"IF(INTRO!$E$39=\"Non endémique\",\" \",IF(COUNTRY_INFO!B106=0,\" \",COUNTRY_INFO!B106))","v":"LUANDA"},{"$f":"IF(INTRO!$E$39=\"Non endémique\",\" \",IF(COUNTRY_INFO!C106=0,\" \",COUNTRY_INFO!C106))","v":"QUISSAMA"},{"$f":"IF(INTRO!$E$39=\"Non endémique\",0,IF(INTRO!$E$39=\"Endémique mais pas de CP\",IF(COUNTRY_INFO!$H106=1,COUNTRY_INFO!F106+COUNTRY_INFO!G106,0),IF(COUNTRY_INFO!$H106=1,COUNTRY_INFO!F106+COUNTRY_INFO!G106,IF(COUNTRY_INFO!$I106=1,IF(COUNTRY_INFO!N106>=(COUNTRY_INFO!F106+COUNTRY_INFO!G106),COUNTRY_INFO!F106+COUNTRY_INFO!G106,COUNTRY_INFO!$N106),0))))","v":0},{"$f":"IF(AND(INTRO!$E$39=\"Non endémique\",INTRO!$E$37=\"Non endémique\"),\"Non requis\",IF(INTRO!$E$39=\"Non endémique\",\"Traiter avec DEC\",COUNTRY_INFO!Q106))","v":0},{"$f":"IF(INTRO!$E$39<>\"Non endémique\",COUNTRY_INFO!R106,\"Non requis\")","v":0},{"$f":"IF(COUNTRY_INFO!H106=1, IF($E106=1,IF(ALB_MBD!$J106<>\" \",COUNTRY_INFO!F106+COUNTRY_INFO!G106-ALB_MBD!$J106,COUNTRY_INFO!F106+COUNTRY_INFO!G106), 0),0)","v":0},{"$f":"IF(INTRO!$E$39<>\"Endémique\",0, IF(AND(COUNTRY_INFO!$I106=1,$F106<>0),IF(COUNTRY_INFO!N106>=(COUNTRY_INFO!F106+COUNTRY_INFO!G106),COUNTRY_INFO!F106+COUNTRY_INFO!G106,COUNTRY_INFO!$N106), 0))","v":0},null,0,0,0,0,0,null,0,0]
[{"$f":"IF(INTRO!$E$39=\"Non endémique\",\" \",IF(COUNTRY_INFO!A107=0,\" \",COUNTRY_INFO!A107))","v":"Angola"},{"$f":"IF(INTRO!$E$39=\"Non endémique\",\" \",IF(COUNTRY_INFO!B107=0,\" \",COUNTRY_INFO!B107))","v":"LUANDA"},{"$f":"IF(INTRO!$E$39=\"Non endémique\",\" \",IF(COUNTRY_INFO!C107=0,\" \",COUNTRY_INFO!C107))","v":"TALATONA"},{"$f":"IF(INTRO!$E$39=\"Non endémique\",0,IF(INTRO!$E$39=\"Endémique mais pas de CP\",IF(COUNTRY_INFO!$H107=1,COUNTRY_INFO!F107+COUNTRY_INFO!G107,0),IF(COUNTRY_INFO!$H107=1,COUNTRY_INFO!F107+COUNTRY_INFO!G107,IF(COUNTRY_INFO!$I107=1,IF(COUNTRY_INFO!N107>=(COUNTRY_INFO!F107+COUNTRY_INFO!G107),COUNTRY_INFO!F107+COUNTRY_INFO!G107,COUNTRY_INFO!$N107),0))))","v":0},{"$f":"IF(AND(INTRO!$E$39=\"Non endémique\",INTRO!$E$37=\"Non endémique\"),\"Non requis\",IF(INTRO!$E$39=\"Non endémique\",\"Traiter avec DEC\",COUNTRY_INFO!Q107))","v":0},{"$f":"IF(INTRO!$E$39<>\"Non endémique\",COUNTRY_INFO!R107,\"Non requis\")","v":0},{"$f":"IF(COUNTRY_INFO!H107=1, IF($E107=1,IF(ALB_MBD!$J107<>\" \",COUNTRY_INFO!F107+COUNTRY_INFO!G107-ALB_MBD!$J107,COUNTRY_INFO!F107+COUNTRY_INFO!G107), 0),0)","v":0},{"$f":"IF(INTRO!$E$39<>\"Endémique\",0, IF(AND(COUNTRY_INFO!$I107=1,$F107<>0),IF(COUNTRY_INFO!N107>=(COUNTRY_INFO!F107+COUNTRY_INFO!G107),COUNTRY_INFO!F107+COUNTRY_INFO!G107,COUNTRY_INFO!$N107), 0))","v":0},null,0,0,0,0,0,null,0,0]
[{"$f":"IF(INTRO!$E$39=\"Non endémique\",\" \",IF(COUNTRY_INFO!A108=0,\" \",COUNTRY_INFO!A108))","v":"Angola"},{"$f":"IF(INTRO!$E$39=\"Non endémique\",\" \",IF(COUNTRY_INFO!B108=0,\" \",COUNTRY_INFO!B108))","v":"LUANDA"},{"$f":"IF(INTRO!$E$39=\"Non endémique\",\" \",IF(COUNTRY_INFO!C108=0,\" \",COUNTRY_INFO!C108))","v":"VIANA"},{"$f":"IF(INTRO!$E$39=\"Non endémique\",0,IF(INTRO!$E$39=\"Endémique mais pas de CP\",IF(COUNTRY_INFO!$H108=1,COUNTRY_INFO!F108+COUNTRY_INFO!G108,0),IF(COUNTRY_INFO!$H108=1,COUNTRY_INFO!F108+COUNTRY_INFO!G108,IF(COUNTRY_INFO!$I108=1,IF(COUNTRY_INFO!N108>=(COUNTRY_INFO!F108+COUNTRY_INFO!G108),COUNTRY_INFO!F108+COUNTRY_INFO!G108,COUNTRY_INFO!$N108),0))))","v":0},{"$f":"IF(AND(INTRO!$E$39=\"Non endémique\",INTRO!$E$37=\"Non endémique\"),\"Non requis\",IF(INTRO!$E$39=\"Non endémique\",\"Traiter avec DEC\",COUNTRY_INFO!Q108))","v":0},{"$f":"IF(INTRO!$E$39<>\"Non endémique\",COUNTRY_INFO!R108,\"Non requis\")","v":0},{"$f":"IF(COUNTRY_INFO!H108=1, IF($E108=1,IF(ALB_MBD!$J108<>\" \",COUNTRY_INFO!F108+COUNTRY_INFO!G108-ALB_MBD!$J108,COUNTRY_INFO!F108+COUNTRY_INFO!G108), 0),0)","v":0},{"$f":"IF(INTRO!$E$39<>\"Endémique\",0, IF(AND(COUNTRY_INFO!$I108=1,$F108<>0),IF(COUNTRY_INFO!N108>=(COUNTRY_INFO!F108+COUNTRY_INFO!G108),COUNTRY_INFO!F108+COUNTRY_INFO!G108,COUNTRY_INFO!$N108), 0))","v":0},null,0,0,0,0,0,null,0,0]
[{"$f":"IF(INTRO!$E$39=\"Non endémique\",\" \",IF(COUNTRY_INFO!A109=0,\" \",COUNTRY_INFO!A109))","v":"Angola"},{"$f":"IF(INTRO!$E$39=\"Non endémique\",\" \",IF(COUNTRY_INFO!B109=0,\" \",COUNTRY_INFO!B109))","v":"LUNDA NORTE"},{"$f":"IF(INTRO!$E$39=\"Non endémique\",\" \",IF(COUNTRY_INFO!C109=0,\" \",COUNTRY_INFO!C109))","v":"CAMBULO"},{"$f":"IF(INTRO!$E$39=\"Non endémique\",0,IF(INTRO!$E$39=\"Endémique mais pas de CP\",IF(COUNTRY_INFO!$H109=1,COUNTRY_INFO!F109+COUNTRY_INFO!G109,0),IF(COUNTRY_INFO!$H109=1,COUNTRY_INFO!F109+COUNTRY_INFO!G109,IF(COUNTRY_INFO!$I109=1,IF(COUNTRY_INFO!N109>=(COUNTRY_INFO!F109+COUNTRY_INFO!G109),COUNTRY_INFO!F109+COUNTRY_INFO!G109,COUNTRY_INFO!$N109),0))))","v":110619},{"$f":"IF(AND(INTRO!$E$39=\"Non endémique\",INTRO!$E$37=\"Non endémique\"),\"Non requis\",IF(INTRO!$E$39=\"Non endémique\",\"Traiter avec DEC\",COUNTRY_INFO!Q109))","v":0},{"$f":"IF(INTRO!$E$39<>\"Non endémique\",COUNTRY_INFO!R109,\"Non requis\")","v":1},{"$f":"IF(COUNTRY_INFO!H109=1, IF($E109=1,IF(ALB_MBD!$J109<>\" \",COUNTRY_INFO!F109+COUNTRY_INFO!G109-ALB_MBD!$J109,COUNTRY_INFO!F109+COUNTRY_INFO!G109), 0),0)","v":0},{"$f":"IF(INTRO!$E$39<>\"Endémique\",0, IF(AND(COUNTRY_INFO!$I109=1,$F109<>0),IF(COUNTRY_INFO!N109>=(COUNTRY_INFO!F109+COUNTRY_INFO!G109),COUNTRY_INFO!F109+COUNTRY_INFO!G109,COUNTRY_INFO!$N109), 0))","v":110619},null,110619,0,309733.19999999995,0,309733.19999999995,null,309733.19999999995,620]
[{"$f":"IF(INTRO!$E$39=\"Non endémique\",\" \",IF(COUNTRY_INFO!A110=0,\" \",COUNTRY_INFO!A110))","v":"Angola"},{"$f":"IF(INTRO!$E$39=\"Non endémique\",\" \",IF(COUNTRY_INFO!B110=0,\" \",COUNTRY_INFO!B110))","v":"LUNDA NORTE"},{"$f":"IF(INTRO!$E$39=\"Non endémique\",\" \",IF(COUNTRY_INFO!C110=0,\" \",COUNTRY_INFO!C110))","v":"CAPENDA CAMULEMBA"},{"$f":"IF(INTRO!$E$39=\"Non endémique\",0,IF(INTRO!$E$39=\"Endémique mais pas de CP\",IF(COUNTRY_INFO!$H110=1,COUNTRY_INFO!F110+COUNTRY_INFO!G110,0),IF(COUNTRY_INFO!$H110=1,COUNTRY_INFO!F110+COUNTRY_INFO!G110,IF(COUNTRY_INFO!$I110=1,IF(COUNTRY_INFO!N110>=(COUNTRY_INFO!F110+COUNTRY_INFO!G110),COUNTRY_INFO!F110+COUNTRY_INFO!G110,COUNTRY_INFO!$N110),0))))","v":53672},{"$f":"IF(AND(INTRO!$E$39=\"Non endémique\",INTRO!$E$37=\"Non endémique\"),\"Non requis\",IF(INTRO!$E$39=\"Non endémique\",\"Traiter avec DEC\",COUNTRY_INFO!Q110))","v":0},{"$f":"IF(INTRO!$E$39<>\"Non endémique\",COUNTRY_INFO!R110,\"Non requis\")","v":1},{"$f":"IF(COUNTRY_INFO!H110=1, IF($E110=1,IF(ALB_MBD!$J110<>\" \",COUNTRY_INFO!F110+COUNTRY_INFO!G110-ALB_MBD!$J110,COUNTRY_INFO!F110+COUNTRY_INFO!G110), 0),0)","v":0},{"$f":"IF(INTRO!$E$39<>\"Endémique\",0, IF(AND(COUNTRY_INFO!$I110=1,$F110<>0),IF(COUNTRY_INFO!N110>=(COUNTRY_INFO!F110+COUNTRY_INFO!G110),COUNTRY_INFO!F110+COUNTRY_INFO!G110,COUNTRY_INFO!$N110), 0))","v":53672},null,53672,0,150281.59999999998,0,150281.59999999998,null,150281.59999999998,301]
[{"$f":"IF(INTRO!$E$39=\"Non endémique\",\" \",IF(COUNTRY_INFO!A111=0,\" \",COUNTRY_INFO!A111))","v":"Angola"},{"$f":"IF(INTRO!$E$39=\"Non endémique\",\" \",IF(COUNTRY_INFO!B111=0,\" \",COUNTRY_INFO!B111))","v":"LUNDA NORTE"},{"$f":"IF(INTRO!$E$39=\"Non endémique\",\" \",IF(COUNTRY_INFO!C111=0,\" \",COUNTRY_INFO!C111))","v":"CAUNGULA"},{"$f":"IF(INTRO!$E$39=\"Non endémique\",0,IF(INTRO!$E$39=\"Endémique mais pas de CP\",IF(COUNTRY_INFO!$H111=1,COUNTRY_INFO!F111+COUNTRY_INFO!G111,0),IF(COUNTRY_INFO!$H111=1,COUNTRY_INFO!F111+COUNTRY_INFO!G111,IF(COUNTRY_INFO!$I111=1,IF(COUNTRY_INFO!N111>=(COUNTRY_INFO!F111+COUNTRY_INFO!G111),COUNTRY_INFO!F111+COUNTRY_INFO!G111,COUNTRY_INFO!$N111),0))))","v":25934},{"$f":"IF(AND(INTRO!$E$39=\"Non endémique\",INTRO!$E$37=\"Non endémique\"),\"Non requis\",IF(INTRO!$E$39=\"Non endémique\",\"Traiter avec DEC\",COUNTRY_INFO!Q111))","v":0},{"$f":"IF(INTRO!$E$39<>\"Non endémique\",COUNTRY_INFO!R111,\"Non requis\")","v":1},{"$f":"IF(COUNTRY_INFO!H111=1, IF($E111=1,IF(ALB_MBD!$J111<>\" \",COUNTRY_INFO!F111+COUNTRY_INFO!G111-ALB_MBD!$J111,COUNTRY_INFO!F111+COUNTRY_INFO!G111), 0),0)","v":0},{"$f":"IF(INTRO!$E$39<>\"Endémique\",0, IF(AND(COUNTRY_INFO!$I111=1,$F111<>0),IF(COUNTRY_INFO!N111>=(COUNTRY_INFO!F111+COUNTRY_INFO!G111),COUNTRY_INFO!F111+COUNTRY_INFO!G111,COUNTRY_INFO!$N111), 0))","v":25934},null,25934,0,72615.199999999997,0,72615.199999999997,null,72615.199999999997,146]
[{"$f":"IF(INTRO!$E$39=\"Non endémique\",\" \",IF(COUNTRY_INFO!A112=0,\" \",COUNTRY_INFO!A112))","v":"Angola"},{"$f":"IF(INTRO!$E$39=\"Non endémique\",\" \",IF(COUNTRY_INFO!B112=0,\" \",COUNTRY_INFO!B112))","v":"LUNDA NORTE"},{"$f":"IF(INTRO!$E$39=\"Non endémique\",\" \",IF(COUNTRY_INFO!C112=0,\" \",COUNTRY_INFO!C112))","v":"CHITATO"},{"$f":"IF(INTRO!$E$39=\"Non endémique\",0,IF(INTRO!$E$39=\"Endémique mais pas de CP\",IF(COUNTRY_INFO!$H112=1,COUNTRY_INFO!F112+COUNTRY_INFO!G112,0),IF(COUNTRY_INFO!$H112=1,COUNTRY_INFO!F112+COUNTRY_INFO!G112,IF(COUNTRY_INFO!$I112=1,IF(COUNTRY_INFO!N112>=(COUNTRY_INFO!F112+COUNTRY_INFO!G112),COUNTRY_INFO!F112+COUNTRY_INFO!G112,COUNTRY_INFO!$N112),0))))","v":179207},{"$f":"IF(AND(INTRO!$E$39=\"Non endémique\",INTRO!$E$37=\"Non endémique\"),\"Non requis\",IF(INTRO!$E$39=\"Non endémique\",\"Traiter avec DEC\",COUNTRY_INFO!Q112))","v":0},{"$f":"IF(INTRO!$E$39<>\"Non endémique\",COUNTRY_INFO!R112,\"Non requis\")","v":1},{"$f":"IF(COUNTRY_INFO!H112=1, IF($E112=1,IF(ALB_MBD!$J112<>\" \",COUNTRY_INFO!F112+COUNTRY_INFO!G112-ALB_MBD!$J112,COUNTRY_INFO!F112+COUNTRY_INFO!G112), 0),0)","v":0},{"$f":"IF(INTRO!$E$39<>\"Endémique\",0, IF(AND(COUNTRY_INFO!$I112=1,$F112<>0),IF(COUNTRY_INFO!N112>=(COUNTRY_INFO!F112+COUNTRY_INFO!G112),COUNTRY_INFO!F112+COUNTRY_INFO!G112,COUNTRY_INFO!$N112), 0))","v":179207},null,179207,0,501779.6,0,501779.6,null,501779.6,1004]
[{"$f":"IF(INTRO!$E$39=\"Non endémique\",\" \",IF(COUNTRY_INFO!A113=0,\" \",COUNTRY_INFO!A113))","v":"Angola"},{"$f":"IF(INTRO!$E$39=\"Non endémique\",\" \",IF(COUNTRY_INFO!B113=0,\" \",COUNTRY_INFO!B113))","v":"LUNDA NORTE"},{"$f":"IF(INTRO!$E$39=\"Non endémique\",\" \",IF(COUNTRY_INFO!C113=0,\" \",COUNTRY_INFO!C113))","v":"CUANGO"},{"$f":"IF(INTRO!$E$39=\"Non endémique\",0,IF(INTRO!$E$39=\"Endémique mais pas de CP\",IF(COUNTRY_INFO!$H113=1,COUNTRY_INFO!F113+COUNTRY_INFO!G113,0),IF(COUNTRY_INFO!$H113=1,COUNTRY_INFO!F113+COUNTRY_INFO!G113,IF(COUNTRY_INFO!$I113=1,IF(COUNTRY_INFO!N113>=(COUNTRY_INFO!F113+COUNTRY_INFO!G113),COUNTRY_INFO!F113+COUNTRY_INFO!G113,COUNTRY_INFO!$N113),0))))","v":0},{"$f":"IF(AND(INTRO!$E$39=\"Non endémique\",INTRO!$E$37=\"Non endémique\"),\"Non requis\",IF(INTRO!$E$39=\"Non endémique\",\"Traiter avec DEC\",COUNTRY_INFO!Q113))","v":0},{"$f":"IF(INTRO!$E$39<>\"Non endémique\",COUNTRY_INFO!R113,\"Non requis\")","v":0},{"$f":"IF(COUNTRY_INFO!H113=1, IF($E113=1,IF(ALB_MBD!$J113<>\" \",COUNTRY_INFO!F113+COUNTRY_INFO!G113-ALB_MBD!$J113,COUNTRY_INFO!F113+COUNTRY_INFO!G113), 0),0)","v":0},{"$f":"IF(INTRO!$E$39<>\"Endémique\",0, IF(AND(COUNTRY_INFO!$I113=1,$F113<>0),IF(COUNTRY_INFO!N113>=(COUNTRY_INFO!F113+COUNTRY_INFO!G113),COUNTRY_INFO!F113+COUNTRY_INFO!G113,COUNTRY_INFO!$N113), 0))","v":0},null,0,0,0,0,0,null,0,0]
[{"$f":"IF(INTRO!$E$39=\"Non endémique\",\" \",IF(COUNTRY_INFO!A114=0,\" \",COUNTRY_INFO!A114))","v":"Angola"},{"$f":"IF(INTRO!$E$39=\"Non endémique\",\" \",IF(COUNTRY_INFO!B114=0,\" \",COUNTRY_INFO!B114))","v":"LUNDA NORTE"},{"$f":"IF(INTRO!$E$39=\"Non endémique\",\" \",IF(COUNTRY_INFO!C114=0,\" \",COUNTRY_INFO!C114))","v":"CUILO"},{"$f":"IF(INTRO!$E$39=\"Non endémique\",0,IF(INTRO!$E$39=\"Endémique mais pas de CP\",IF(COUNTRY_INFO!$H114=1,COUNTRY_INFO!F114+COUNTRY_INFO!G114,0),IF(COUNTRY_INFO!$H114=1,COUNTRY_INFO!F114+COUNTRY_INFO!G114,IF(COUNTRY_INFO!$I114=1,IF(COUNTRY_INFO!N114>=(COUNTRY_INFO!F114+COUNTRY_INFO!G114),COUNTRY_INFO!F114+COUNTRY_INFO!G114,COUNTRY_INFO!$N114),0))))","v":19341},{"$f":"IF(AND(INTRO!$E$39=\"Non endémique\",INTRO!$E$37=\"Non endémique\"),\"Non requis\",IF(INTRO!$E$39=\"Non endémique\",\"Traiter avec DEC\",COUNTRY_INFO!Q114))","v":0},{"$f":"IF(INTRO!$E$39<>\"Non endémique\",COUNTRY_INFO!R114,\"Non requis\")","v":1},{"$f":"IF(COUNTRY_INFO!H114=1, IF($E114=1,IF(ALB_MBD!$J114<>\" \",COUNTRY_INFO!F114+COUNTRY_INFO!G114-ALB_MBD!$J114,COUNTRY_INFO!F114+COUNTRY_INFO!G114), 0),0)","v":0},{"$f":"IF(INTRO!$E$39<>\"Endémique\",0, IF(AND(COUNTRY_INFO!$I114=1,$F114<>0),IF(COUNTRY_INFO!N114>=(COUNTRY_INFO!F114+COUNTRY_INFO!G114),COUNTRY_INFO!F114+COUNTRY_INFO!G114,COUNTRY_INFO!$N114), 0))","v":19341},null,19341,0,54154.799999999996,0,54154.799999999996,null,54154.799999999996,109]
[{"$f":"IF(INTRO!$E$39=\"Non endémique\",\" \",IF(COUNTRY_INFO!A115=0,\" \",COUNTRY_INFO!A115))","v":"Angola"},{"$f":"IF(INTRO!$E$39=\"Non endémique\",\" \",IF(COUNTRY_INFO!B115=0,\" \",COUNTRY_INFO!B115))","v":"LUNDA NORTE"},{"$f":"IF(INTRO!$E$39=\"Non endémique\",\" \",IF(COUNTRY_INFO!C115=0,\" \",COUNTRY_INFO!C115))","v":"LOVUA"},{"$f":"IF(INTRO!$E$39=\"Non endémique\",0,IF(INTRO!$E$39=\"Endémique mais pas de CP\",IF(COUNTRY_INFO!$H115=1,COUNTRY_INFO!F115+COUNTRY_INFO!G115,0),IF(COUNTRY_INFO!$H115=1,COUNTRY_INFO!F115+COUNTRY_INFO!G115,IF(COUNTRY_INFO!$I115=1,IF(COUNTRY_INFO!N115>=(COUNTRY_INFO!F115+COUNTRY_INFO!G115),COUNTRY_INFO!F115+COUNTRY_INFO!G115,COUNTRY_INFO!$N115),0))))","v":12484},{"$f":"IF(AND(INTRO!$E$39=\"Non endémique\",INTRO!$E$37=\"Non endémique\"),\"Non requis\",IF(INTRO!$E$39=\"Non endémique\",\"Traiter avec DEC\",COUNTRY_INFO!Q115))","v":0},{"$f":"IF(INTRO!$E$39<>\"Non endémique\",COUNTRY_INFO!R115,\"Non requis\")","v":1},{"$f":"IF(COUNTRY_INFO!H115=1, IF($E115=1,IF(ALB_MBD!$J115<>\" \",COUNTRY_INFO!F115+COUNTRY_INFO!G115-ALB_MBD!$J115,COUNTRY_INFO!F115+COUNTRY_INFO!G115), 0),0)","v":0},{"$f":"IF(INTRO!$E$39<>\"Endémique\",0, IF(AND(COUNTRY_INFO!$I115=1,$F115<>0),IF(COUNTRY_INFO!N115>=(COUNTRY_INFO!F115+COUNTRY_INFO!G115),COUNTRY_INFO!F115+COUNTRY_INFO!G115,COUNTRY_INFO!$N115), 0))","v":12484},null,12484,0,34955.199999999997,0,34955.199999999997,null,34955.199999999997,70]
[{"$f":"IF(INTRO!$E$39=\"Non endémique\",\" \",IF(COUNTRY_INFO!A116=0,\" \",COUNTRY_INFO!A116))","v":"Angola"},{"$f":"IF(INTRO!$E$39=\"Non endémique\",\" \",IF(COUNTRY_INFO!B116=0,\" \",COUNTRY_INFO!B116))","v":"LUNDA NORTE"},{"$f":"IF(INTRO!$E$39=\"Non endémique\",\" \",IF(COUNTRY_INFO!C116=0,\" \",COUNTRY_INFO!C116))","v":"LUBALO"},{"$f":"IF(INTRO!$E$39=\"Non endémique\",0,IF(INTRO!$E$39=\"Endémique mais pas de CP\",IF(COUNTRY_INFO!$H116=1,COUNTRY_INFO!F116+COUNTRY_INFO!G116,0),IF(COUNTRY_INFO!$H116=1,COUNTRY_INFO!F116+COUNTRY_INFO!G116,IF(COUNTRY_INFO!$I116=1,IF(COUNTRY_INFO!N116>=(COUNTRY_INFO!F116+COUNTRY_INFO!G116),COUNTRY_INFO!F116+COUNTRY_INFO!G116,COUNTRY_INFO!$N116),0))))","v":18998},{"$f":"IF(AND(INTRO!$E$39=\"Non endémique\",INTRO!$E$37=\"Non endémique\"),\"Non requis\",IF(INTRO!$E$39=\"Non endémique\",\"Traiter avec DEC\",COUNTRY_INFO!Q116))","v":0},{"$f":"IF(INTRO!$E$39<>\"Non endémique\",COUNTRY_INFO!R116,\"Non requis\")","v":1},{"$f":"IF(COUNTRY_INFO!H116=1, IF($E116=1,IF(ALB_MBD!$J116<>\" \",COUNTRY_INFO!F116+COUNTRY_INFO!G116-ALB_MBD!$J116,COUNTRY_INFO!F116+COUNTRY_INFO!G116), 0),0)","v":0},{"$f":"IF(INTRO!$E$39<>\"Endémique\",0, IF(AND(COUNTRY_INFO!$I116=1,$F116<>0),IF(COUNTRY_INFO!N116>=(COUNTRY_INFO!F116+COUNTRY_INFO!G116),COUNTRY_INFO!F116+COUNTRY_INFO!G116,COUNTRY_INFO!$N116), 0))","v":18998},null,18998,0,53194.399999999994,0,53194.399999999994,null,53194.399999999994,107]
[{"$f":"IF(INTRO!$E$39=\"Non endémique\",\" \",IF(COUNTRY_INFO!A117=0,\" \",COUNTRY_INFO!A117))","v":"Angola"},{"$f":"IF(INTRO!$E$39=\"Non endémique\",\" \",IF(COUNTRY_INFO!B117=0,\" \",COUNTRY_INFO!B117))","v":"LUNDA NORTE"},{"$f":"IF(INTRO!$E$39=\"Non endémique\",\" \",IF(COUNTRY_INFO!C117=0,\" \",COUNTRY_INFO!C117))","v":"LUCAPA"},{"$f":"IF(INTRO!$E$39=\"Non endémique\",0,IF(INTRO!$E$39=\"Endémique mais pas de CP\",IF(COUNTRY_INFO!$H117=1,COUNTRY_INFO!F117+COUNTRY_INFO!G117,0),IF(COUNTRY_INFO!$H117=1,COUNTRY_INFO!F117+COUNTRY_INFO!G117,IF(COUNTRY_INFO!$I117=1,IF(COUNTRY_INFO!N117>=(COUNTRY_INFO!F117+COUNTRY_INFO!G117),COUNTRY_INFO!F117+COUNTRY_INFO!G117,COUNTRY_INFO!$N117),0))))","v":142091},{"$f":"IF(AND(INTRO!$E$39=\"Non endémique\",INTRO!$E$37=\"Non endémique\"),\"Non requis\",IF(INTRO!$E$39=\"Non endémique\",\"Traiter avec DEC\",COUNTRY_INFO!Q117))","v":0},{"$f":"IF(INTRO!$E$39<>\"Non endémique\",COUNTRY_INFO!R117,\"Non requis\")","v":1},{"$f":"IF(COUNTRY_INFO!H117=1, IF($E117=1,IF(ALB_MBD!$J117<>\" \",COUNTRY_INFO!F117+COUNTRY_INFO!G117-ALB_MBD!$J117,COUNTRY_INFO!F117+COUNTRY_INFO!G117), 0),0)","v":0},{"$f":"IF(INTRO!$E$39<>\"Endémique\",0, IF(AND(COUNTRY_INFO!$I117=1,$F117<>0),IF(COUNTRY_INFO!N117>=(COUNTRY_INFO!F117+COUNTRY_INFO!G117),COUNTRY_INFO!F117+COUNTRY_INFO!G117,COUNTRY_INFO!$N117), 0))","v":142091},null,142091,0,397854.8,0,397854.8,null,397854.8,796]
[{"$f":"IF(INTRO!$E$39=\"Non endémique\",\" \",IF(COUNTRY_INFO!A118=0,\" \",COUNTRY_INFO!A118))","v":"Angola"},{"$f":"IF(INTRO!$E$39=\"Non endémique\",\" \",IF(COUNTRY_INFO!B118=0,\" \",COUNTRY_INFO!B118))","v":"LUNDA NORTE"},{"$f":"IF(INTRO!$E$39=\"Non endémique\",\" \",IF(COUNTRY_INFO!C118=0,\" \",COUNTRY_INFO!C118))","v":"XA MUTEBA"},{"$f":"IF(INTRO!$E$39=\"Non endémique\",0,IF(INTRO!$E$39=\"Endémique mais pas de CP\",IF(COUNTRY_INFO!$H118=1,COUNTRY_INFO!F118+COUNTRY_INFO!G118,0),IF(COUNTRY_INFO!$H118=1,COUNTRY_INFO!F118+COUNTRY_INFO!G118,IF(COUNTRY_INFO!$I118=1,IF(COUNTRY_INFO!N118>=(COUNTRY_INFO!F118+COUNTRY_INFO!G118),COUNTRY_INFO!F118+COUNTRY_INFO!G118,COUNTRY_INFO!$N118),0))))","v":0},{"$f":"IF(AND(INTRO!$E$39=\"Non endémique\",INTRO!$E$37=\"Non endémique\"),\"Non requis\",IF(INTRO!$E$39=\"Non endémique\",\"Traiter avec DEC\",COUNTRY_INFO!Q118))","v":0},{"$f":"IF(INTRO!$E$39<>\"Non endémique\",COUNTRY_INFO!R118,\"Non requis\")","v":0},{"$f":"IF(COUNTRY_INFO!H118=1, IF($E118=1,IF(ALB_MBD!$J118<>\" \",COUNTRY_INFO!F118+COUNTRY_INFO!G118-ALB_MBD!$J118,COUNTRY_INFO!F118+COUNTRY_INFO!G118), 0),0)","v":0},{"$f":"IF(INTRO!$E$39<>\"Endémique\",0, IF(AND(COUNTRY_INFO!$I118=1,$F118<>0),IF(COUNTRY_INFO!N118>=(COUNTRY_INFO!F118+COUNTRY_INFO!G118),COUNTRY_INFO!F118+COUNTRY_INFO!G118,COUNTRY_INFO!$N118), 0))","v":0},null,0,0,0,0,0,null,0,0]
[{"$f":"IF(INTRO!$E$39=\"Non endémique\",\" \",IF(COUNTRY_INFO!A119=0,\" \",COUNTRY_INFO!A119))","v":"Angola"},{"$f":"IF(INTRO!$E$39=\"Non endémique\",\" \",IF(COUNTRY_INFO!B119=0,\" \",COUNTRY_INFO!B119))","v":"LUNDA SUL"},{"$f":"IF(INTRO!$E$39=\"Non endémique\",\" \",IF(COUNTRY_INFO!C119=0,\" \",COUNTRY_INFO!C119))","v":"CACOLO"},{"$f":"IF(INTRO!$E$39=\"Non endémique\",0,IF(INTRO!$E$39=\"Endémique mais pas de CP\",IF(COUNTRY_INFO!$H119=1,COUNTRY_INFO!F119+COUNTRY_INFO!G119,0),IF(COUNTRY_INFO!$H119=1,COUNTRY_INFO!F119+COUNTRY_INFO!G119,IF(COUNTRY_INFO!$I119=1,IF(COUNTRY_INFO!N119>=(COUNTRY_INFO!F119+COUNTRY_INFO!G119),COUNTRY_INFO!F119+COUNTRY_INFO!G119,COUNTRY_INFO!$N119),0))))","v":29371},{"$f":"IF(AND(INTRO!$E$39=\"Non endémique\",INTRO!$E$37=\"Non endémique\"),\"Non requis\",IF(INTRO!$E$39=\"Non endémique\",\"Traiter avec DEC\",COUNTRY_INFO!Q119))","v":0},{"$f":"IF(INTRO!$E$39<>\"Non endémique\",COUNTRY_INFO!R119,\"Non requis\")","v":1},{"$f":"IF(COUNTRY_INFO!H119=1, IF($E119=1,IF(ALB_MBD!$J119<>\" \",COUNTRY_INFO!F119+COUNTRY_INFO!G119-ALB_MBD!$J119,COUNTRY_INFO!F119+COUNTRY_INFO!G119), 0),0)","v":0},{"$f":"IF(INTRO!$E$39<>\"Endémique\",0, IF(AND(COUNTRY_INFO!$I119=1,$F119<>0),IF(COUNTRY_INFO!N119>=(COUNTRY_INFO!F119+COUNTRY_INFO!G119),COUNTRY_INFO!F119+COUNTRY_INFO!G119,COUNTRY_INFO!$N119), 0))","v":29371},null,29371,0,82238.799999999988,0,82238.799999999988,null,82238.799999999988,165]
[{"$f":"IF(INTRO!$E$39=\"Non endémique\",\" \",IF(COUNTRY_INFO!A120=0,\" \",COUNTRY_INFO!A120))","v":"Angola"},{"$f":"IF(INTRO!$E$39=\"Non endémique\",\" \",IF(COUNTRY_INFO!B120=0,\" \",COUNTRY_INFO!B120))","v":"LUNDA SUL"},{"$f":"IF(INTRO!$E$39=\"Non endémique\",\" \",IF(COUNTRY_INFO!C120=0,\" \",COUNTRY_INFO!C120))","v":"DALA"},{"$f":"IF(INTRO!$E$39=\"Non endémique\",0,IF(INTRO!$E$39=\"Endémique mais pas de CP\",IF(COUNTRY_INFO!$H120=1,COUNTRY_INFO!F120+COUNTRY_INFO!G120,0),IF(COUNTRY_INFO!$H120=1,COUNTRY_INFO!F120+COUNTRY_INFO!G120,IF(COUNTRY_INFO!$I120=1,IF(COUNTRY_INFO!N120>=(COUNTRY_INFO!F120+COUNTRY_INFO!G120),COUNTRY_INFO!F120+COUNTRY_INFO!G120,COUNTRY_INFO!$N120),0))))","v":27618},{"$f":"IF(AND(INTRO!$E$39=\"Non endémique\",INTRO!$E$37=\"Non endémique\"),\"Non requis\",IF(INTRO!$E$39=\"Non endémique\",\"Traiter avec DEC\",COUNTRY_INFO!Q120))","v":0},{"$f":"IF(INTRO!$E$39<>\"Non endémique\",COUNTRY_INFO!R120,\"Non requis\")","v":1},{"$f":"IF(COUNTRY_INFO!H120=1, IF($E120=1,IF(ALB_MBD!$J120<>\" \",COUNTRY_INFO!F120+COUNTRY_INFO!G120-ALB_MBD!$J120,COUNTRY_INFO!F120+COUNTRY_INFO!G120), 0),0)","v":0},{"$f":"IF(INTRO!$E$39<>\"Endémique\",0, IF(AND(COUNTRY_INFO!$I120=1,$F120<>0),IF(COUNTRY_INFO!N120>=(COUNTRY_INFO!F120+COUNTRY_INFO!G120),COUNTRY_INFO!F120+COUNTRY_INFO!G120,COUNTRY_INFO!$N120), 0))","v":27618},null,27618,0,77330.399999999994,0,77330.399999999994,null,77330.399999999994,155]
[{"$f":"IF(INTRO!$E$39=\"Non endémique\",\" \",IF(COUNTRY_INFO!A121=0,\" \",COUNTRY_INFO!A121))","v":"Angola"},{"$f":"IF(INTRO!$E$39=\"Non endémique\",\" \",IF(COUNTRY_INFO!B121=0,\" \",COUNTRY_INFO!B121))","v":"LUNDA SUL"},{"$f":"IF(INTRO!$E$39=\"Non endémique\",\" \",IF(COUNTRY_INFO!C121=0,\" \",COUNTRY_INFO!C121))","v":"MUCONDA"},{"$f":"IF(INTRO!$E$39=\"Non endémique\",0,IF(INTRO!$E$39=\"Endémique mais pas de CP\",IF(COUNTRY_INFO!$H121=1,COUNTRY_INFO!F121+COUNTRY_INFO!G121,0),IF(COUNTRY_INFO!$H121=1,COUNTRY_INFO!F121+COUNTRY_INFO!G121,IF(COUNTRY_INFO!$I121=1,IF(COUNTRY_INFO!N121>=(COUNTRY_INFO!F121+COUNTRY_INFO!G121),COUNTRY_INFO!F121+COUNTRY_INFO!G121,COUNTRY_INFO!$N121),0))))","v":30631},{"$f":"IF(AND(INTRO!$E$39=\"Non endémique\",INTRO!$E$37=\"Non endémique\"),\"Non requis\",IF(INTRO!$E$39=\"Non endémique\",\"Traiter avec DEC\",COUNTRY_INFO!Q121))","v":0},{"$f":"IF(INTRO!$E$39<>\"Non endémique\",COUNTRY_INFO!R121,\"Non requis\")","v":1},{"$f":"IF(COUNTRY_INFO!H121=1, IF($E121=1,IF(ALB_MBD!$J121<>\" \",COUNTRY_INFO!F121+COUNTRY_INFO!G121-ALB_MBD!$J121,COUNTRY_INFO!F121+COUNTRY_INFO!G121), 0),0)","v":0},{"$f":"IF(INTRO!$E$39<>\"Endémique\",0, IF(AND(COUNTRY_INFO!$I121=1,$F121<>0),IF(COUNTRY_INFO!N121>=(COUNTRY_INFO!F121+COUNTRY_INFO!G121),COUNTRY_INFO!F121+COUNTRY_INFO!G121,COUNTRY_INFO!$N121), 0))","v":30631},null,30631,0,85766.799999999988,0,85766.799999999988,null,85766.799999999988,172]
[{"$f":"IF(INTRO!$E$39=\"Non endémique\",\" \",IF(COUNTRY_INFO!A122=0,\" \",COUNTRY_INFO!A122))","v":"Angola"},{"$f":"IF(INTRO!$E$39=\"Non endémique\",\" \",IF(COUNTRY_INFO!B122=0,\" \",COUNTRY_INFO!B122))","v":"LUNDA SUL"},{"$f":"IF(INTRO!$E$39=\"Non endémique\",\" \",IF(COUNTRY_INFO!C122=0,\" \",COUNTRY_INFO!C122))","v":"SAURIMO"},{"$f":"IF(INTRO!$E$39=\"Non endémique\",0,IF(INTRO!$E$39=\"Endémique mais pas de CP\",IF(COUNTRY_INFO!$H122=1,COUNTRY_INFO!F122+COUNTRY_INFO!G122,0),IF(COUNTRY_INFO!$H122=1,COUNTRY_INFO!F122+COUNTRY_INFO!G122,IF(COUNTRY_INFO!$I122=1,IF(COUNTRY_INFO!N122>=(COUNTRY_INFO!F122+COUNTRY_INFO!G122),COUNTRY_INFO!F122+COUNTRY_INFO!G122,COUNTRY_INFO!$N122),0))))","v":407416},{"$f":"IF(AND(INTRO!$E$39=\"Non endémique\",INTRO!$E$37=\"Non endémique\"),\"Non requis\",IF(INTRO!$E$39=\"Non endémique\",\"Traiter avec DEC\",COUNTRY_INFO!Q122))","v":0},{"$f":"IF(INTRO!$E$39<>\"Non endémique\",COUNTRY_INFO!R122,\"Non requis\")","v":1},{"$f":"IF(COUNTRY_INFO!H122=1, IF($E122=1,IF(ALB_MBD!$J122<>\" \",COUNTRY_INFO!F122+COUNTRY_INFO!G122-ALB_MBD!$J122,COUNTRY_INFO!F122+COUNTRY_INFO!G122), 0),0)","v":0},{"$f":"IF(INTRO!$E$39<>\"Endémique\",0, IF(AND(COUNTRY_INFO!$I122=1,$F122<>0),IF(COUNTRY_INFO!N122>=(COUNTRY_INFO!F122+COUNTRY_INFO!G122),COUNTRY_INFO!F122+COUNTRY_INFO!G122,COUNTRY_INFO!$N122), 0))","v":407416},null,407416,0,1140764.7999999998,0,1140764.7999999998,null,1140764.7999999998,2282]
[{"$f":"IF(INTRO!$E$39=\"Non endémique\",\" \",IF(COUNTRY_INFO!A123=0,\" \",COUNTRY_INFO!A123))","v":"Angola"},{"$f":"IF(INTRO!$E$39=\"Non endémique\",\" \",IF(COUNTRY_INFO!B123=0,\" \",COUNTRY_INFO!B123))","v":"MALANGE"},{"$f":"IF(INTRO!$E$39=\"Non endémique\",\" \",IF(COUNTRY_INFO!C123=0,\" \",COUNTRY_INFO!C123))","v":"CACULAMA (Mukari)"},{"$f":"IF(INTRO!$E$39=\"Non endémique\",0,IF(INTRO!$E$39=\"Endémique mais pas de CP\",IF(COUNTRY_INFO!$H123=1,COUNTRY_INFO!F123+COUNTRY_INFO!G123,0),IF(COUNTRY_INFO!$H123=1,COUNTRY_INFO!F123+COUNTRY_INFO!G123,IF(COUNTRY_INFO!$I123=1,IF(COUNTRY_INFO!N123>=(COUNTRY_INFO!F123+COUNTRY_INFO!G123),COUNTRY_INFO!F123+COUNTRY_INFO!G123,COUNTRY_INFO!$N123),0))))","v":0},{"$f":"IF(AND(INTRO!$E$39=\"Non endémique\",INTRO!$E$37=\"Non endémique\"),\"Non requis\",IF(INTRO!$E$39=\"Non endémique\",\"Traiter avec DEC\",COUNTRY_INFO!Q123))","v":0},{"$f":"IF(INTRO!$E$39<>\"Non endémique\",COUNTRY_INFO!R123,\"Non requis\")","v":0},{"$f":"IF(COUNTRY_INFO!H123=1, IF($E123=1,IF(ALB_MBD!$J123<>\" \",COUNTRY_INFO!F123+COUNTRY_INFO!G123-ALB_MBD!$J123,COUNTRY_INFO!F123+COUNTRY_INFO!G123), 0),0)","v":0},{"$f":"IF(INTRO!$E$39<>\"Endémique\",0, IF(AND(COUNTRY_INFO!$I123=1,$F123<>0),IF(COUNTRY_INFO!N123>=(COUNTRY_INFO!F123+COUNTRY_INFO!G123),COUNTRY_INFO!F123+COUNTRY_INFO!G123,COUNTRY_INFO!$N123), 0))","v":0},null,0,0,0,0,0,null,0,0]
[{"$f":"IF(INTRO!$E$39=\"Non endémique\",\" \",IF(COUNTRY_INFO!A124=0,\" \",COUNTRY_INFO!A124))","v":"Angola"},{"$f":"IF(INTRO!$E$39=\"Non endémique\",\" \",IF(COUNTRY_INFO!B124=0,\" \",COUNTRY_INFO!B124))","v":"MALANGE"},{"$f":"IF(INTRO!$E$39=\"Non endémique\",\" \",IF(COUNTRY_INFO!C124=0,\" \",COUNTRY_INFO!C124))","v":"CACUSO"},{"$f":"IF(INTRO!$E$39=\"Non endémique\",0,IF(INTRO!$E$39=\"Endémique mais pas de CP\",IF(COUNTRY_INFO!$H124=1,COUNTRY_INFO!F124+COUNTRY_INFO!G124,0),IF(COUNTRY_INFO!$H124=1,COUNTRY_INFO!F124+COUNTRY_INFO!G124,IF(COUNTRY_INFO!$I124=1,IF(COUNTRY_INFO!N124>=(COUNTRY_INFO!F124+COUNTRY_INFO!G124),COUNTRY_INFO!F124+COUNTRY_INFO!G124,COUNTRY_INFO!$N124),0))))","v":0},{"$f":"IF(AND(INTRO!$E$39=\"Non endémique\",INTRO!$E$37=\"Non endémique\"),\"Non requis\",IF(INTRO!$E$39=\"Non endémique\",\"Traiter avec DEC\",COUNTRY_INFO!Q124))","v":0},{"$f":"IF(INTRO!$E$39<>\"Non endémique\",COUNTRY_INFO!R124,\"Non requis\")","v":0},{"$f":"IF(COUNTRY_INFO!H124=1, IF($E124=1,IF(ALB_MBD!$J124<>\" \",COUNTRY_INFO!F124+COUNTRY_INFO!G124-ALB_MBD!$J124,COUNTRY_INFO!F124+COUNTRY_INFO!G124), 0),0)","v":0},{"$f":"IF(INTRO!$E$39<>\"Endémique\",0, IF(AND(COUNTRY_INFO!$I124=1,$F124<>0),IF(COUNTRY_INFO!N124>=(COUNTRY_INFO!F124+COUNTRY_INFO!G124),COUNTRY_INFO!F124+COUNTRY_INFO!G124,COUNTRY_INFO!$N124), 0))","v":0},null,0,0,0,0,0,null,0,0]
[{"$f":"IF(INTRO!$E$39=\"Non endémique\",\" \",IF(COUNTRY_INFO!A125=0,\" \",COUNTRY_INFO!A125))","v":"Angola"},{"$f":"IF(INTRO!$E$39=\"Non endémique\",\" \",IF(COUNTRY_INFO!B125=0,\" \",COUNTRY_INFO!B125))","v":"MALANGE"},{"$f":"IF(INTRO!$E$39=\"Non endémique\",\" \",IF(COUNTRY_INFO!C125=0,\" \",COUNTRY_INFO!C125))","v":"CAMBUNDI CATEMBO"},{"$f":"IF(INTRO!$E$39=\"Non endémique\",0,IF(INTRO!$E$39=\"Endémique mais pas de CP\",IF(COUNTRY_INFO!$H125=1,COUNTRY_INFO!F125+COUNTRY_INFO!G125,0),IF(COUNTRY_INFO!$H125=1,COUNTRY_INFO!F125+COUNTRY_INFO!G125,IF(COUNTRY_INFO!$I125=1,IF(COUNTRY_INFO!N125>=(COUNTRY_INFO!F125+COUNTRY_INFO!G125),COUNTRY_INFO!F125+COUNTRY_INFO!G125,COUNTRY_INFO!$N125),0))))","v":0},{"$f":"IF(AND(INTRO!$E$39=\"Non endémique\",INTRO!$E$37=\"Non endémique\"),\"Non requis\",IF(INTRO!$E$39=\"Non endémique\",\"Traiter avec DEC\",COUNTRY_INFO!Q125))","v":0},{"$f":"IF(INTRO!$E$39<>\"Non endémique\",COUNTRY_INFO!R125,\"Non requis\")","v":0},{"$f":"IF(COUNTRY_INFO!H125=1, IF($E125=1,IF(ALB_MBD!$J125<>\" \",COUNTRY_INFO!F125+COUNTRY_INFO!G125-ALB_MBD!$J125,COUNTRY_INFO!F125+COUNTRY_INFO!G125), 0),0)","v":0},{"$f":"IF(INTRO!$E$39<>\"Endémique\",0, IF(AND(COUNTRY_INFO!$I125=1,$F125<>0),IF(COUNTRY_INFO!N125>=(COUNTRY_INFO!F125+COUNTRY_INFO!G125),COUNTRY_INFO!F125+COUNTRY_INFO!G125,COUNTRY_INFO!$N125), 0))","v":0},null,0,0,0,0,0,null,0,0]
[{"$f":"IF(INTRO!$E$39=\"Non endémique\",\" \",IF(COUNTRY_INFO!A126=0,\" \",COUNTRY_INFO!A126))","v":"Angola"},{"$f":"IF(INTRO!$E$39=\"Non endémique\",\" \",IF(COUNTRY_INFO!B126=0,\" \",COUNTRY_INFO!B126))","v":"MALANGE"},{"$f":"IF(INTRO!$E$39=\"Non endémique\",\" \",IF(COUNTRY_INFO!C126=0,\" \",COUNTRY_INFO!C126))","v":"CANGANDALA"},{"$f":"IF(INTRO!$E$39=\"Non endémique\",0,IF(INTRO!$E$39=\"Endémique mais pas de CP\",IF(COUNTRY_INFO!$H126=1,COUNTRY_INFO!F126+COUNTRY_INFO!G126,0),IF(COUNTRY_INFO!$H126=1,COUNTRY_INFO!F126+COUNTRY_INFO!G126,IF(COUNTRY_INFO!$I126=1,IF(COUNTRY_INFO!N126>=(COUNTRY_INFO!F126+COUNTRY_INFO!G126),COUNTRY_INFO!F126+COUNTRY_INFO!G126,COUNTRY_INFO!$N126),0))))","v":0},{"$f":"IF(AND(INTRO!$E$39=\"Non endémique\",INTRO!$E$37=\"Non endémique\"),\"Non requis\",IF(INTRO!$E$39=\"Non endémique\",\"Traiter avec DEC\",COUNTRY_INFO!Q126))","v":0},{"$f":"IF(INTRO!$E$39<>\"Non endémique\",COUNTRY_INFO!R126,\"Non requis\")","v":0},{"$f":"IF(COUNTRY_INFO!H126=1, IF($E126=1,IF(ALB_MBD!$J126<>\" \",COUNTRY_INFO!F126+COUNTRY_INFO!G126-ALB_MBD!$J126,COUNTRY_INFO!F126+COUNTRY_INFO!G126), 0),0)","v":0},{"$f":"IF(INTRO!$E$39<>\"Endémique\",0, IF(AND(COUNTRY_INFO!$I126=1,$F126<>0),IF(COUNTRY_INFO!N126>=(COUNTRY_INFO!F126+COUNTRY_INFO!G126),COUNTRY_INFO!F126+COUNTRY_INFO!G126,COUNTRY_INFO!$N126), 0))","v":0},null,0,0,0,0,0,null,0,0]
[{"$f":"IF(INTRO!$E$39=\"Non endémique\",\" \",IF(COUNTRY_INFO!A127=0,\" \",COUNTRY_INFO!A127))","v":"Angola"},{"$f":"IF(INTRO!$E$39=\"Non endémique\",\" \",IF(COUNTRY_INFO!B127=0,\" \",COUNTRY_INFO!B127))","v":"MALANGE"},{"$f":"IF(INTRO!$E$39=\"Non endémique\",\" \",IF(COUNTRY_INFO!C127=0,\" \",COUNTRY_INFO!C127))","v":"KAHOMBO"},{"$f":"IF(INTRO!$E$39=\"Non endémique\",0,IF(INTRO!$E$39=\"Endémique mais pas de CP\",IF(COUNTRY_INFO!$H127=1,COUNTRY_INFO!F127+COUNTRY_INFO!G127,0),IF(COUNTRY_INFO!$H127=1,COUNTRY_INFO!F127+COUNTRY_INFO!G127,IF(COUNTRY_INFO!$I127=1,IF(COUNTRY_INFO!N127>=(COUNTRY_INFO!F127+COUNTRY_INFO!G127),COUNTRY_INFO!F127+COUNTRY_INFO!G127,COUNTRY_INFO!$N127),0))))","v":0},{"$f":"IF(AND(INTRO!$E$39=\"Non endémique\",INTRO!$E$37=\"Non endémique\"),\"Non requis\",IF(INTRO!$E$39=\"Non endémique\",\"Traiter avec DEC\",COUNTRY_INFO!Q127))","v":0},{"$f":"IF(INTRO!$E$39<>\"Non endémique\",COUNTRY_INFO!R127,\"Non requis\")","v":0},{"$f":"IF(COUNTRY_INFO!H127=1, IF($E127=1,IF(ALB_MBD!$J127<>\" \",COUNTRY_INFO!F127+COUNTRY_INFO!G127-ALB_MBD!$J127,COUNTRY_INFO!F127+COUNTRY_INFO!G127), 0),0)","v":0},{"$f":"IF(INTRO!$E$39<>\"Endémique\",0, IF(AND(COUNTRY_INFO!$I127=1,$F127<>0),IF(COUNTRY_INFO!N127>=(COUNTRY_INFO!F127+COUNTRY_INFO!G127),COUNTRY_INFO!F127+COUNTRY_INFO!G127,COUNTRY_INFO!$N127), 0))","v":0},null,0,0,0,0,0,null,0,0]
[{"$f":"IF(INTRO!$E$39=\"Non endémique\",\" \",IF(COUNTRY_INFO!A128=0,\" \",COUNTRY_INFO!A128))","v":"Angola"},{"$f":"IF(INTRO!$E$39=\"Non endémique\",\" \",IF(COUNTRY_INFO!B128=0,\" \",COUNTRY_INFO!B128))","v":"MALANGE"},{"$f":"IF(INTRO!$E$39=\"Non endémique\",\" \",IF(COUNTRY_INFO!C128=0,\" \",COUNTRY_INFO!C128))","v":"KALANDULA"},{"$f":"IF(INTRO!$E$39=\"Non endémique\",0,IF(INTRO!$E$39=\"Endémique mais pas de CP\",IF(COUNTRY_INFO!$H128=1,COUNTRY_INFO!F128+COUNTRY_INFO!G128,0),IF(COUNTRY_INFO!$H128=1,COUNTRY_INFO!F128+COUNTRY_INFO!G128,IF(COUNTRY_INFO!$I128=1,IF(COUNTRY_INFO!N128>=(COUNTRY_INFO!F128+COUNTRY_INFO!G128),COUNTRY_INFO!F128+COUNTRY_INFO!G128,COUNTRY_INFO!$N128),0))))","v":0},{"$f":"IF(AND(INTRO!$E$39=\"Non endémique\",INTRO!$E$37=\"Non endémique\"),\"Non requis\",IF(INTRO!$E$39=\"Non endémique\",\"Traiter avec DEC\",COUNTRY_INFO!Q128))","v":0},{"$f":"IF(INTRO!$E$39<>\"Non endémique\",COUNTRY_INFO!R128,\"Non requis\")","v":0},{"$f":"IF(COUNTRY_INFO!H128=1, IF($E128=1,IF(ALB_MBD!$J128<>\" \",COUNTRY_INFO!F128+COUNTRY_INFO!G128-ALB_MBD!$J128,COUNTRY_INFO!F128+COUNTRY_INFO!G128), 0),0)","v":0},{"$f":"IF(INTRO!$E$39<>\"Endémique\",0, IF(AND(COUNTRY_INFO!$I128=1,$F128<>0),IF(COUNTRY_INFO!N128>=(COUNTRY_INFO!F128+COUNTRY_INFO!G128),COUNTRY_INFO!F128+COUNTRY_INFO!G128,COUNTRY_INFO!$N128), 0))","v":0},null,0,0,0,0,0,null,0,0]
[{"$f":"IF(INTRO!$E$39=\"Non endémique\",\" \",IF(COUNTRY_INFO!A129=0,\" \",COUNTRY_INFO!A129))","v":"Angola"},{"$f":"IF(INTRO!$E$39=\"Non endémique\",\" \",IF(COUNTRY_INFO!B129=0,\" \",COUNTRY_INFO!B129))","v":"MALANGE"},{"$f":"IF(INTRO!$E$39=\"Non endémique\",\" \",IF(COUNTRY_INFO!C129=0,\" \",COUNTRY_INFO!C129))","v":"KIWABA NZOGI"},{"$f":"IF(INTRO!$E$39=\"Non endémique\",0,IF(INTRO!$E$39=\"Endémique mais pas de CP\",IF(COUNTRY_INFO!$H129=1,COUNTRY_INFO!F129+COUNTRY_INFO!G129,0),IF(COUNTRY_INFO!$H129=1,COUNTRY_INFO!F129+COUNTRY_INFO!G129,IF(COUNTRY_INFO!$I129=1,IF(COUNTRY_INFO!N129>=(COUNTRY_INFO!F129+COUNTRY_INFO!G129),COUNTRY_INFO!F129+COUNTRY_INFO!G129,COUNTRY_INFO!$N129),0))))","v":0},{"$f":"IF(AND(INTRO!$E$39=\"Non endémique\",INTRO!$E$37=\"Non endémique\"),\"Non requis\",IF(INTRO!$E$39=\"Non endémique\",\"Traiter avec DEC\",COUNTRY_INFO!Q129))","v":0},{"$f":"IF(INTRO!$E$39<>\"Non endémique\",COUNTRY_INFO!R129,\"Non requis\")","v":0},{"$f":"IF(COUNTRY_INFO!H129=1, IF($E129=1,IF(ALB_MBD!$J129<>\" \",COUNTRY_INFO!F129+COUNTRY_INFO!G129-ALB_MBD!$J129,COUNTRY_INFO!F129+COUNTRY_INFO!G129), 0),0)","v":0},{"$f":"IF(INTRO!$E$39<>\"Endémique\",0, IF(AND(COUNTRY_INFO!$I129=1,$F129<>0),IF(COUNTRY_INFO!N129>=(COUNTRY_INFO!F129+COUNTRY_INFO!G129),COUNTRY_INFO!F129+COUNTRY_INFO!G129,COUNTRY_INFO!$N129), 0))","v":0},null,0,0,0,0,0,null,0,0]
[{"$f":"IF(INTRO!$E$39=\"Non endémique\",\" \",IF(COUNTRY_INFO!A130=0,\" \",COUNTRY_INFO!A130))","v":"Angola"},{"$f":"IF(INTRO!$E$39=\"Non endémique\",\" \",IF(COUNTRY_INFO!B130=0,\" \",COUNTRY_INFO!B130))","v":"MALANGE"},{"$f":"IF(INTRO!$E$39=\"Non endémique\",\" \",IF(COUNTRY_INFO!C130=0,\" \",COUNTRY_INFO!C130))","v":"KUNDA DIA BASE"},{"$f":"IF(INTRO!$E$39=\"Non endémique\",0,IF(INTRO!$E$39=\"Endémique mais pas de CP\",IF(COUNTRY_INFO!$H130=1,COUNTRY_INFO!F130+COUNTRY_INFO!G130,0),IF(COUNTRY_INFO!$H130=1,COUNTRY_INFO!F130+COUNTRY_INFO!G130,IF(COUNTRY_INFO!$I130=1,IF(COUNTRY_INFO!N130>=(COUNTRY_INFO!F130+COUNTRY_INFO!G130),COUNTRY_INFO!F130+COUNTRY_INFO!G130,COUNTRY_INFO!$N130),0))))","v":0},{"$f":"IF(AND(INTRO!$E$39=\"Non endémique\",INTRO!$E$37=\"Non endémique\"),\"Non requis\",IF(INTRO!$E$39=\"Non endémique\",\"Traiter avec DEC\",COUNTRY_INFO!Q130))","v":0},{"$f":"IF(INTRO!$E$39<>\"Non endémique\",COUNTRY_INFO!R130,\"Non requis\")","v":0},{"$f":"IF(COUNTRY_INFO!H130=1, IF($E130=1,IF(ALB_MBD!$J130<>\" \",COUNTRY_INFO!F130+COUNTRY_INFO!G130-ALB_MBD!$J130,COUNTRY_INFO!F130+COUNTRY_INFO!G130), 0),0)","v":0},{"$f":"IF(INTRO!$E$39<>\"Endémique\",0, IF(AND(COUNTRY_INFO!$I130=1,$F130<>0),IF(COUNTRY_INFO!N130>=(COUNTRY_INFO!F130+COUNTRY_INFO!G130),COUNTRY_INFO!F130+COUNTRY_INFO!G130,COUNTRY_INFO!$N130), 0))","v":0},null,0,0,0,0,0,null,0,0]
[{"$f":"IF(INTRO!$E$39=\"Non endémique\",\" \",IF(COUNTRY_INFO!A131=0,\" \",COUNTRY_INFO!A131))","v":"Angola"},{"$f":"IF(INTRO!$E$39=\"Non endémique\",\" \",IF(COUNTRY_INFO!B131=0,\" \",COUNTRY_INFO!B131))","v":"MALANGE"},{"$f":"IF(INTRO!$E$39=\"Non endémique\",\" \",IF(COUNTRY_INFO!C131=0,\" \",COUNTRY_INFO!C131))","v":"LUQUEMBO"},{"$f":"IF(INTRO!$E$39=\"Non endémique\",0,IF(INTRO!$E$39=\"Endémique mais pas de CP\",IF(COUNTRY_INFO!$H131=1,COUNTRY_INFO!F131+COUNTRY_INFO!G131,0),IF(COUNTRY_INFO!$H131=1,COUNTRY_INFO!F131+COUNTRY_INFO!G131,IF(COUNTRY_INFO!$I131=1,IF(COUNTRY_INFO!N131>=(COUNTRY_INFO!F131+COUNTRY_INFO!G131),COUNTRY_INFO!F131+COUNTRY_INFO!G131,COUNTRY_INFO!$N131),0))))","v":0},{"$f":"IF(AND(INTRO!$E$39=\"Non endémique\",INTRO!$E$37=\"Non endémique\"),\"Non requis\",IF(INTRO!$E$39=\"Non endémique\",\"Traiter avec DEC\",COUNTRY_INFO!Q131))","v":0},{"$f":"IF(INTRO!$E$39<>\"Non endémique\",COUNTRY_INFO!R131,\"Non requis\")","v":0},{"$f":"IF(COUNTRY_INFO!H131=1, IF($E131=1,IF(ALB_MBD!$J131<>\" \",COUNTRY_INFO!F131+COUNTRY_INFO!G131-ALB_MBD!$J131,COUNTRY_INFO!F131+COUNTRY_INFO!G131), 0),0)","v":0},{"$f":"IF(INTRO!$E$39<>\"Endémique\",0, IF(AND(COUNTRY_INFO!$I131=1,$F131<>0),IF(COUNTRY_INFO!N131>=(COUNTRY_INFO!F131+COUNTRY_INFO!G131),COUNTRY_INFO!F131+COUNTRY_INFO!G131,COUNTRY_INFO!$N131), 0))","v":0},null,0,0,0,0,0,null,0,0]
[{"$f":"IF(INTRO!$E$39=\"Non endémique\",\" \",IF(COUNTRY_INFO!A132=0,\" \",COUNTRY_INFO!A132))","v":"Angola"},{"$f":"IF(INTRO!$E$39=\"Non endémique\",\" \",IF(COUNTRY_INFO!B132=0,\" \",COUNTRY_INFO!B132))","v":"MALANJE"},{"$f":"IF(INTRO!$E$39=\"Non endémique\",\" \",IF(COUNTRY_INFO!C132=0,\" \",COUNTRY_INFO!C132))","v":"MALANJE"},{"$f":"IF(INTRO!$E$39=\"Non endémique\",0,IF(INTRO!$E$39=\"Endémique mais pas de CP\",IF(COUNTRY_INFO!$H132=1,COUNTRY_INFO!F132+COUNTRY_INFO!G132,0),IF(COUNTRY_INFO!$H132=1,COUNTRY_INFO!F132+COUNTRY_INFO!G132,IF(COUNTRY_INFO!$I132=1,IF(COUNTRY_INFO!N132>=(COUNTRY_INFO!F132+COUNTRY_INFO!G132),COUNTRY_INFO!F132+COUNTRY_INFO!G132,COUNTRY_INFO!$N132),0))))","v":0},{"$f":"IF(AND(INTRO!$E$39=\"Non endémique\",INTRO!$E$37=\"Non endémique\"),\"Non requis\",IF(INTRO!$E$39=\"Non endémique\",\"Traiter avec DEC\",COUNTRY_INFO!Q132))","v":0},{"$f":"IF(INTRO!$E$39<>\"Non endémique\",COUNTRY_INFO!R132,\"Non requis\")","v":0},{"$f":"IF(COUNTRY_INFO!H132=1, IF($E132=1,IF(ALB_MBD!$J132<>\" \",COUNTRY_INFO!F132+COUNTRY_INFO!G132-ALB_MBD!$J132,COUNTRY_INFO!F132+COUNTRY_INFO!G132), 0),0)","v":0},{"$f":"IF(INTRO!$E$39<>\"Endémique\",0, IF(AND(COUNTRY_INFO!$I132=1,$F132<>0),IF(COUNTRY_INFO!N132>=(COUNTRY_INFO!F132+COUNTRY_INFO!G132),COUNTRY_INFO!F132+COUNTRY_INFO!G132,COUNTRY_INFO!$N132), 0))","v":0},null,0,0,0,0,0,null,0,0]
[{"$f":"IF(INTRO!$E$39=\"Non endémique\",\" \",IF(COUNTRY_INFO!A133=0,\" \",COUNTRY_INFO!A133))","v":"Angola"},{"$f":"IF(INTRO!$E$39=\"Non endémique\",\" \",IF(COUNTRY_INFO!B133=0,\" \",COUNTRY_INFO!B133))","v":"MALANGE"},{"$f":"IF(INTRO!$E$39=\"Non endémique\",\" \",IF(COUNTRY_INFO!C133=0,\" \",COUNTRY_INFO!C133))","v":"MARIMBA"},{"$f":"IF(INTRO!$E$39=\"Non endémique\",0,IF(INTRO!$E$39=\"Endémique mais pas de CP\",IF(COUNTRY_INFO!$H133=1,COUNTRY_INFO!F133+COUNTRY_INFO!G133,0),IF(COUNTRY_INFO!$H133=1,COUNTRY_INFO!F133+COUNTRY_INFO!G133,IF(COUNTRY_INFO!$I133=1,IF(COUNTRY_INFO!N133>=(COUNTRY_INFO!F133+COUNTRY_INFO!G133),COUNTRY_INFO!F133+COUNTRY_INFO!G133,COUNTRY_INFO!$N133),0))))","v":0},{"$f":"IF(AND(INTRO!$E$39=\"Non endémique\",INTRO!$E$37=\"Non endémique\"),\"Non requis\",IF(INTRO!$E$39=\"Non endémique\",\"Traiter avec DEC\",COUNTRY_INFO!Q133))","v":0},{"$f":"IF(INTRO!$E$39<>\"Non endémique\",COUNTRY_INFO!R133,\"Non requis\")","v":0},{"$f":"IF(COUNTRY_INFO!H133=1, IF($E133=1,IF(ALB_MBD!$J133<>\" \",COUNTRY_INFO!F133+COUNTRY_INFO!G133-ALB_MBD!$J133,COUNTRY_INFO!F133+COUNTRY_INFO!G133), 0),0)","v":0},{"$f":"IF(INTRO!$E$39<>\"Endémique\",0, IF(AND(COUNTRY_INFO!$I133=1,$F133<>0),IF(COUNTRY_INFO!N133>=(COUNTRY_INFO!F133+COUNTRY_INFO!G133),COUNTRY_INFO!F133+COUNTRY_INFO!G133,COUNTRY_INFO!$N133), 0))","v":0},null,0,0,0,0,0,null,0,0]
[{"$f":"IF(INTRO!$E$39=\"Non endémique\",\" \",IF(COUNTRY_INFO!A134=0,\" \",COUNTRY_INFO!A134))","v":"Angola"},{"$f":"IF(INTRO!$E$39=\"Non endémique\",\" \",IF(COUNTRY_INFO!B134=0,\" \",COUNTRY_INFO!B134))","v":"MALANGE"},{"$f":"IF(INTRO!$E$39=\"Non endémique\",\" \",IF(COUNTRY_INFO!C134=0,\" \",COUNTRY_INFO!C134))","v":"MASSANGO"},{"$f":"IF(INTRO!$E$39=\"Non endémique\",0,IF(INTRO!$E$39=\"Endémique mais pas de CP\",IF(COUNTRY_INFO!$H134=1,COUNTRY_INFO!F134+COUNTRY_INFO!G134,0),IF(COUNTRY_INFO!$H134=1,COUNTRY_INFO!F134+COUNTRY_INFO!G134,IF(COUNTRY_INFO!$I134=1,IF(COUNTRY_INFO!N134>=(COUNTRY_INFO!F134+COUNTRY_INFO!G134),COUNTRY_INFO!F134+COUNTRY_INFO!G134,COUNTRY_INFO!$N134),0))))","v":0},{"$f":"IF(AND(INTRO!$E$39=\"Non endémique\",INTRO!$E$37=\"Non endémique\"),\"Non requis\",IF(INTRO!$E$39=\"Non endémique\",\"Traiter avec DEC\",COUNTRY_INFO!Q134))","v":0},{"$f":"IF(INTRO!$E$39<>\"Non endémique\",COUNTRY_INFO!R134,\"Non requis\")","v":0},{"$f":"IF(COUNTRY_INFO!H134=1, IF($E134=1,IF(ALB_MBD!$J134<>\" \",COUNTRY_INFO!F134+COUNTRY_INFO!G134-ALB_MBD!$J134,COUNTRY_INFO!F134+COUNTRY_INFO!G134), 0),0)","v":0},{"$f":"IF(INTRO!$E$39<>\"Endémique\",0, IF(AND(COUNTRY_INFO!$I134=1,$F134<>0),IF(COUNTRY_INFO!N134>=(COUNTRY_INFO!F134+COUNTRY_INFO!G134),COUNTRY_INFO!F134+COUNTRY_INFO!G134,COUNTRY_INFO!$N134), 0))","v":0},null,0,0,0,0,0,null,0,0]
[{"$f":"IF(INTRO!$E$39=\"Non endémique\",\" \",IF(COUNTRY_INFO!A135=0,\" \",COUNTRY_INFO!A135))","v":"Angola"},{"$f":"IF(INTRO!$E$39=\"Non endémique\",\" \",IF(COUNTRY_INFO!B135=0,\" \",COUNTRY_INFO!B135))","v":"MALANGE"},{"$f":"IF(INTRO!$E$39=\"Non endémique\",\" \",IF(COUNTRY_INFO!C135=0,\" \",COUNTRY_INFO!C135))","v":"QUELA"},{"$f":"IF(INTRO!$E$39=\"Non endémique\",0,IF(INTRO!$E$39=\"Endémique mais pas de CP\",IF(COUNTRY_INFO!$H135=1,COUNTRY_INFO!F135+COUNTRY_INFO!G135,0),IF(COUNTRY_INFO!$H135=1,COUNTRY_INFO!F135+COUNTRY_INFO!G135,IF(COUNTRY_INFO!$I135=1,IF(COUNTRY_INFO!N135>=(COUNTRY_INFO!F135+COUNTRY_INFO!G135),COUNTRY_INFO!F135+COUNTRY_INFO!G135,COUNTRY_INFO!$N135),0))))","v":0},{"$f":"IF(AND(INTRO!$E$39=\"Non endémique\",INTRO!$E$37=\"Non endémique\"),\"Non requis\",IF(INTRO!$E$39=\"Non endémique\",\"Traiter avec DEC\",COUNTRY_INFO!Q135))","v":0},{"$f":"IF(INTRO!$E$39<>\"Non endémique\",COUNTRY_INFO!R135,\"Non requis\")","v":0},{"$f":"IF(COUNTRY_INFO!H135=1, IF($E135=1,IF(ALB_MBD!$J135<>\" \",COUNTRY_INFO!F135+COUNTRY_INFO!G135-ALB_MBD!$J135,COUNTRY_INFO!F135+COUNTRY_INFO!G135), 0),0)","v":0},{"$f":"IF(INTRO!$E$39<>\"Endémique\",0, IF(AND(COUNTRY_INFO!$I135=1,$F135<>0),IF(COUNTRY_INFO!N135>=(COUNTRY_INFO!F135+COUNTRY_INFO!G135),COUNTRY_INFO!F135+COUNTRY_INFO!G135,COUNTRY_INFO!$N135), 0))","v":0},null,0,0,0,0,0,null,0,0]
[{"$f":"IF(INTRO!$E$39=\"Non endémique\",\" \",IF(COUNTRY_INFO!A136=0,\" \",COUNTRY_INFO!A136))","v":"Angola"},{"$f":"IF(INTRO!$E$39=\"Non endémique\",\" \",IF(COUNTRY_INFO!B136=0,\" \",COUNTRY_INFO!B136))","v":"MALANGE"},{"$f":"IF(INTRO!$E$39=\"Non endémique\",\" \",IF(COUNTRY_INFO!C136=0,\" \",COUNTRY_INFO!C136))","v":"QUIRIMA"},{"$f":"IF(INTRO!$E$39=\"Non endémique\",0,IF(INTRO!$E$39=\"Endémique mais pas de CP\",IF(COUNTRY_INFO!$H136=1,COUNTRY_INFO!F136+COUNTRY_INFO!G136,0),IF(COUNTRY_INFO!$H136=1,COUNTRY_INFO!F136+COUNTRY_INFO!G136,IF(COUNTRY_INFO!$I136=1,IF(COUNTRY_INFO!N136>=(COUNTRY_INFO!F136+COUNTRY_INFO!G136),COUNTRY_INFO!F136+COUNTRY_INFO!G136,COUNTRY_INFO!$N136),0))))","v":0},{"$f":"IF(AND(INTRO!$E$39=\"Non endémique\",INTRO!$E$37=\"Non endémique\"),\"Non requis\",IF(INTRO!$E$39=\"Non endémique\",\"Traiter avec DEC\",COUNTRY_INFO!Q136))","v":0},{"$f":"IF(INTRO!$E$39<>\"Non endémique\",COUNTRY_INFO!R136,\"Non requis\")","v":0},{"$f":"IF(COUNTRY_INFO!H136=1, IF($E136=1,IF(ALB_MBD!$J136<>\" \",COUNTRY_INFO!F136+COUNTRY_INFO!G136-ALB_MBD!$J136,COUNTRY_INFO!F136+COUNTRY_INFO!G136), 0),0)","v":0},{"$f":"IF(INTRO!$E$39<>\"Endémique\",0, IF(AND(COUNTRY_INFO!$I136=1,$F136<>0),IF(COUNTRY_INFO!N136>=(COUNTRY_INFO!F136+COUNTRY_INFO!G136),COUNTRY_INFO!F136+COUNTRY_INFO!G136,COUNTRY_INFO!$N136), 0))","v":0},null,0,0,0,0,0,null,0,0]
[{"$f":"IF(INTRO!$E$39=\"Non endémique\",\" \",IF(COUNTRY_INFO!A137=0,\" \",COUNTRY_INFO!A137))","v":"Angola"},{"$f":"IF(INTRO!$E$39=\"Non endémique\",\" \",IF(COUNTRY_INFO!B137=0,\" \",COUNTRY_INFO!B137))","v":"MOXICO"},{"$f":"IF(INTRO!$E$39=\"Non endémique\",\" \",IF(COUNTRY_INFO!C137=0,\" \",COUNTRY_INFO!C137))","v":"ALTO ZAMBEZE"},{"$f":"IF(INTRO!$E$39=\"Non endémique\",0,IF(INTRO!$E$39=\"Endémique mais pas de CP\",IF(COUNTRY_INFO!$H137=1,COUNTRY_INFO!F137+COUNTRY_INFO!G137,0),IF(COUNTRY_INFO!$H137=1,COUNTRY_INFO!F137+COUNTRY_INFO!G137,IF(COUNTRY_INFO!$I137=1,IF(COUNTRY_INFO!N137>=(COUNTRY_INFO!F137+COUNTRY_INFO!G137),COUNTRY_INFO!F137+COUNTRY_INFO!G137,COUNTRY_INFO!$N137),0))))","v":0},{"$f":"IF(AND(INTRO!$E$39=\"Non endémique\",INTRO!$E$37=\"Non endémique\"),\"Non requis\",IF(INTRO!$E$39=\"Non endémique\",\"Traiter avec DEC\",COUNTRY_INFO!Q137))","v":0},{"$f":"IF(INTRO!$E$39<>\"Non endémique\",COUNTRY_INFO!R137,\"Non requis\")","v":0},{"$f":"IF(COUNTRY_INFO!H137=1, IF($E137=1,IF(ALB_MBD!$J137<>\" \",COUNTRY_INFO!F137+COUNTRY_INFO!G137-ALB_MBD!$J137,COUNTRY_INFO!F137+COUNTRY_INFO!G137), 0),0)","v":0},{"$f":"IF(INTRO!$E$39<>\"Endémique\",0, IF(AND(COUNTRY_INFO!$I137=1,$F137<>0),IF(COUNTRY_INFO!N137>=(COUNTRY_INFO!F137+COUNTRY_INFO!G137),COUNTRY_INFO!F137+COUNTRY_INFO!G137,COUNTRY_INFO!$N137), 0))","v":0},null,{"$f":"IF(I137=0,H137,IF(I137>H137,H137,I137))","v":0},{"$f":"IF(G137<J137,0,IF($E137=1, (G137-J137)*2.8, 0))","v":0},{"$f":"IF($E137<$F137, J137*(F137-E137)*2.8, 0)","v":0},{"$f":"IF(AND($E137=1, $F137<>0), J137*2.8, 0)","v":0},{"$f":"SUM(K137:M137)","v":0},null,{"$f":"IF($N137>$O137,$N137-$O137,0)","v":0},{"$f":"ROUNDUP($N137/500,0)","v":0}]
[{"$f":"IF(INTRO!$E$39=\"Non endémique\",\" \",IF(COUNTRY_INFO!A138=0,\" \",COUNTRY_INFO!A138))","v":"Angola"},{"$f":"IF(INTRO!$E$39=\"Non endémique\",\" \",IF(COUNTRY_INFO!B138=0,\" \",COUNTRY_INFO!B138))","v":"MOXICO"},{"$f":"IF(INTRO!$E$39=\"Non endémique\",\" \",IF(COUNTRY_INFO!C138=0,\" \",COUNTRY_INFO!C138))","v":"CAMANONGUE"},{"$f":"IF(INTRO!$E$39=\"Non endémique\",0,IF(INTRO!$E$39=\"Endémique mais pas de CP\",IF(COUNTRY_INFO!$H138=1,COUNTRY_INFO!F138+COUNTRY_INFO!G138,0),IF(COUNTRY_INFO!$H138=1,COUNTRY_INFO!F138+COUNTRY_INFO!G138,IF(COUNTRY_INFO!$I138=1,IF(COUNTRY_INFO!N138>=(COUNTRY_INFO!F138+COUNTRY_INFO!G138),COUNTRY_INFO!F138+COUNTRY_INFO!G138,COUNTRY_INFO!$N138),0))))","v":31462},{"$f":"IF(AND(INTRO!$E$39=\"Non endémique\",INTRO!$E$37=\"Non endémique\"),\"Non requis\",IF(INTRO!$E$39=\"Non endémique\",\"Traiter avec DEC\",COUNTRY_INFO!Q138))","v":0},{"$f":"IF(INTRO!$E$39<>\"Non endémique\",COUNTRY_INFO!R138,\"Non requis\")","v":1},{"$f":"IF(COUNTRY_INFO!H138=1, IF($E138=1,IF(ALB_MBD!$J138<>\" \",COUNTRY_INFO!F138+COUNTRY_INFO!G138-ALB_MBD!$J138,COUNTRY_INFO!F138+COUNTRY_INFO!G138), 0),0)","v":0},{"$f":"IF(INTRO!$E$39<>\"Endémique\",0, IF(AND(COUNTRY_INFO!$I138=1,$F138<>0),IF(COUNTRY_INFO!N138>=(COUNTRY_INFO!F138+COUNTRY_INFO!G138),COUNTRY_INFO!F138+COUNTRY_INFO!G138,COUNTRY_INFO!$N138), 0))","v":31462},null,31462,0,88093.599999999991,0,88093.599999999991,null,88093.599999999991,177]
[{"$f":"IF(INTRO!$E$39=\"Non endémique\",\" \",IF(COUNTRY_INFO!A139=0,\" \",COUNTRY_INFO!A139))","v":"Angola"},{"$f":"IF(INTRO!$E$39=\"Non endémique\",\" \",IF(COUNTRY_INFO!B139=0,\" \",COUNTRY_INFO!B139))","v":"MOXICO"},{"$f":"IF(INTRO!$E$39=\"Non endémique\",\" \",IF(COUNTRY_INFO!C139=0,\" \",COUNTRY_INFO!C139))","v":"LEUA"},{"$f":"IF(INTRO!$E$39=\"Non endémique\",0,IF(INTRO!$E$39=\"Endémique mais pas de CP\",IF(COUNTRY_INFO!$H139=1,COUNTRY_INFO!F139+COUNTRY_INFO!G139,0),IF(COUNTRY_INFO!$H139=1,COUNTRY_INFO!F139+COUNTRY_INFO!G139,IF(COUNTRY_INFO!$I139=1,IF(COUNTRY_INFO!N139>=(COUNTRY_INFO!F139+COUNTRY_INFO!G139),COUNTRY_INFO!F139+COUNTRY_INFO!G139,COUNTRY_INFO!$N139),0))))","v":17083},{"$f":"IF(AND(INTRO!$E$39=\"Non endémique\",INTRO!$E$37=\"Non endémique\"),\"Non requis\",IF(INTRO!$E$39=\"Non endémique\",\"Traiter avec DEC\",COUNTRY_INFO!Q139))","v":0},{"$f":"IF(INTRO!$E$39<>\"Non endémique\",COUNTRY_INFO!R139,\"Non requis\")","v":1},{"$f":"IF(COUNTRY_INFO!H139=1, IF($E139=1,IF(ALB_MBD!$J139<>\" \",COUNTRY_INFO!F139+COUNTRY_INFO!G139-ALB_MBD!$J139,COUNTRY_INFO!F139+COUNTRY_INFO!G139), 0),0)","v":0},{"$f":"IF(INTRO!$E$39<>\"Endémique\",0, IF(AND(COUNTRY_INFO!$I139=1,$F139<>0),IF(COUNTRY_INFO!N139>=(COUNTRY_INFO!F139+COUNTRY_INFO!G139),COUNTRY_INFO!F139+COUNTRY_INFO!G139,COUNTRY_INFO!$N139), 0))","v":17083},null,17083,0,47832.399999999994,0,47832.399999999994,null,47832.399999999994,96]
[{"$f":"IF(INTRO!$E$39=\"Non endémique\",\" \",IF(COUNTRY_INFO!A140=0,\" \",COUNTRY_INFO!A140))","v":"Angola"},{"$f":"IF(INTRO!$E$39=\"Non endémique\",\" \",IF(COUNTRY_INFO!B140=0,\" \",COUNTRY_INFO!B140))","v":"MOXICO"},{"$f":"IF(INTRO!$E$39=\"Non endémique\",\" \",IF(COUNTRY_INFO!C140=0,\" \",COUNTRY_INFO!C140))","v":"LUACANO"},{"$f":"IF(INTRO!$E$39=\"Non endémique\",0,IF(INTRO!$E$39=\"Endémique mais pas de CP\",IF(COUNTRY_INFO!$H140=1,COUNTRY_INFO!F140+COUNTRY_INFO!G140,0),IF(COUNTRY_INFO!$H140=1,COUNTRY_INFO!F140+COUNTRY_INFO!G140,IF(COUNTRY_INFO!$I140=1,IF(COUNTRY_INFO!N140>=(COUNTRY_INFO!F140+COUNTRY_INFO!G140),COUNTRY_INFO!F140+COUNTRY_INFO!G140,COUNTRY_INFO!$N140),0))))","v":12806},{"$f":"IF(AND(INTRO!$E$39=\"Non endémique\",INTRO!$E$37=\"Non endémique\"),\"Non requis\",IF(INTRO!$E$39=\"Non endémique\",\"Traiter avec DEC\",COUNTRY_INFO!Q140))","v":0},{"$f":"IF(INTRO!$E$39<>\"Non endémique\",COUNTRY_INFO!R140,\"Non requis\")","v":1},{"$f":"IF(COUNTRY_INFO!H140=1, IF($E140=1,IF(ALB_MBD!$J140<>\" \",COUNTRY_INFO!F140+COUNTRY_INFO!G140-ALB_MBD!$J140,COUNTRY_INFO!F140+COUNTRY_INFO!G140), 0),0)","v":0},{"$f":"IF(INTRO!$E$39<>\"Endémique\",0, IF(AND(COUNTRY_INFO!$I140=1,$F140<>0),IF(COUNTRY_INFO!N140>=(COUNTRY_INFO!F140+COUNTRY_INFO!G140),COUNTRY_INFO!F140+COUNTRY_INFO!G140,COUNTRY_INFO!$N140), 0))","v":12806},null,12806,0,35856.799999999996,0,35856.799999999996,null,35856.799999999996,72]
[{"$f":"IF(INTRO!$E$39=\"Non endémique\",\" \",IF(COUNTRY_INFO!A141=0,\" \",COUNTRY_INFO!A141))","v":"Angola"},{"$f":"IF(INTRO!$E$39=\"Non endémique\",\" \",IF(COUNTRY_INFO!B141=0,\" \",COUNTRY_INFO!B141))","v":"MOXICO"},{"$f":"IF(INTRO!$E$39=\"Non endémique\",\" \",IF(COUNTRY_INFO!C141=0,\" \",COUNTRY_INFO!C141))","v":"LUAU"},{"$f":"IF(INTRO!$E$39=\"Non endémique\",0,IF(INTRO!$E$39=\"Endémique mais pas de CP\",IF(COUNTRY_INFO!$H141=1,COUNTRY_INFO!F141+COUNTRY_INFO!G141,0),IF(COUNTRY_INFO!$H141=1,COUNTRY_INFO!F141+COUNTRY_INFO!G141,IF(COUNTRY_INFO!$I141=1,IF(COUNTRY_INFO!N141>=(COUNTRY_INFO!F141+COUNTRY_INFO!G141),COUNTRY_INFO!F141+COUNTRY_INFO!G141,COUNTRY_INFO!$N141),0))))","v":0},{"$f":"IF(AND(INTRO!$E$39=\"Non endémique\",INTRO!$E$37=\"Non endémique\"),\"Non requis\",IF(INTRO!$E$39=\"Non endémique\",\"Traiter avec DEC\",COUNTRY_INFO!Q141))","v":0},{"$f":"IF(INTRO!$E$39<>\"Non endémique\",COUNTRY_INFO!R141,\"Non requis\")","v":0},{"$f":"IF(COUNTRY_INFO!H141=1, IF($E141=1,IF(ALB_MBD!$J141<>\" \",COUNTRY_INFO!F141+COUNTRY_INFO!G141-ALB_MBD!$J141,COUNTRY_INFO!F141+COUNTRY_INFO!G141), 0),0)","v":0},{"$f":"IF(INTRO!$E$39<>\"Endémique\",0, IF(AND(COUNTRY_INFO!$I141=1,$F141<>0),IF(COUNTRY_INFO!N141>=(COUNTRY_INFO!F141+COUNTRY_INFO!G141),COUNTRY_INFO!F141+COUNTRY_INFO!G141,COUNTRY_INFO!$N141), 0))","v":0},null,0,0,0,0,0,null,0,0]
[{"$f":"IF(INTRO!$E$39=\"Non endémique\",\" \",IF(COUNTRY_INFO!A142=0,\" \",COUNTRY_INFO!A142))","v":"Angola"},{"$f":"IF(INTRO!$E$39=\"Non endémique\",\" \",IF(COUNTRY_INFO!B142=0,\" \",COUNTRY_INFO!B142))","v":"MOXICO"},{"$f":"IF(INTRO!$E$39=\"Non endémique\",\" \",IF(COUNTRY_INFO!C142=0,\" \",COUNTRY_INFO!C142))","v":"LUCHAZES"},{"$f":"IF(INTRO!$E$39=\"Non endémique\",0,IF(INTRO!$E$39=\"Endémique mais pas de CP\",IF(COUNTRY_INFO!$H142=1,COUNTRY_INFO!F142+COUNTRY_INFO!G142,0),IF(COUNTRY_INFO!$H142=1,COUNTRY_INFO!F142+COUNTRY_INFO!G142,IF(COUNTRY_INFO!$I142=1,IF(COUNTRY_INFO!N142>=(COUNTRY_INFO!F142+COUNTRY_INFO!G142),COUNTRY_INFO!F142+COUNTRY_INFO!G142,COUNTRY_INFO!$N142),0))))","v":0},{"$f":"IF(AND(INTRO!$E$39=\"Non endémique\",INTRO!$E$37=\"Non endémique\"),\"Non requis\",IF(INTRO!$E$39=\"Non endémique\",\"Traiter avec DEC\",COUNTRY_INFO!Q142))","v":0},{"$f":"IF(INTRO!$E$39<>\"Non endémique\",COUNTRY_INFO!R142,\"Non requis\")","v":0},{"$f":"IF(COUNTRY_INFO!H142=1, IF($E142=1,IF(ALB_MBD!$J142<>\" \",COUNTRY_INFO!F142+COUNTRY_INFO!G142-ALB_MBD!$J142,COUNTRY_INFO!F142+COUNTRY_INFO!G142), 0),0)","v":0},{"$f":"IF(INTRO!$E$39<>\"Endémique\",0, IF(AND(COUNTRY_INFO!$I142=1,$F142<>0),IF(COUNTRY_INFO!N142>=(COUNTRY_INFO!F142+COUNTRY_INFO!G142),COUNTRY_INFO!F142+COUNTRY_INFO!G142,COUNTRY_INFO!$N142), 0))","v":0},null,0,0,0,0,0,null,0,0]
[{"$f":"IF(INTRO!$E$39=\"Non endémique\",\" \",IF(COUNTRY_INFO!A143=0,\" \",COUNTRY_INFO!A143))","v":"Angola"},{"$f":"IF(INTRO!$E$39=\"Non endémique\",\" \",IF(COUNTRY_INFO!B143=0,\" \",COUNTRY_INFO!B143))","v":"MOXICO"},{"$f":"IF(INTRO!$E$39=\"Non endémique\",\" \",IF(COUNTRY_INFO!C143=0,\" \",COUNTRY_INFO!C143))","v":"LUMBALA NGUIMBO"},{"$f":"IF(INTRO!$E$39=\"Non endémique\",0,IF(INTRO!$E$39=\"Endémique mais pas de CP\",IF(COUNTRY_INFO!$H143=1,COUNTRY_INFO!F143+COUNTRY_INFO!G143,0),IF(COUNTRY_INFO!$H143=1,COUNTRY_INFO!F143+COUNTRY_INFO!G143,IF(COUNTRY_INFO!$I143=1,IF(COUNTRY_INFO!N143>=(COUNTRY_INFO!F143+COUNTRY_INFO!G143),COUNTRY_INFO!F143+COUNTRY_INFO!G143,COUNTRY_INFO!$N143),0))))","v":0},{"$f":"IF(AND(INTRO!$E$39=\"Non endémique\",INTRO!$E$37=\"Non endémique\"),\"Non requis\",IF(INTRO!$E$39=\"Non endémique\",\"Traiter avec DEC\",COUNTRY_INFO!Q143))","v":0},{"$f":"IF(INTRO!$E$39<>\"Non endémique\",COUNTRY_INFO!R143,\"Non requis\")","v":0},{"$f":"IF(COUNTRY_INFO!H143=1, IF($E143=1,IF(ALB_MBD!$J143<>\" \",COUNTRY_INFO!F143+COUNTRY_INFO!G143-ALB_MBD!$J143,COUNTRY_INFO!F143+COUNTRY_INFO!G143), 0),0)","v":0},{"$f":"IF(INTRO!$E$39<>\"Endémique\",0, IF(AND(COUNTRY_INFO!$I143=1,$F143<>0),IF(COUNTRY_INFO!N143>=(COUNTRY_INFO!F143+COUNTRY_INFO!G143),COUNTRY_INFO!F143+COUNTRY_INFO!G143,COUNTRY_INFO!$N143), 0))","v":0},null,0,0,0,0,0,null,0,0]
[{"$f":"IF(INTRO!$E$39=\"Non endémique\",\" \",IF(COUNTRY_INFO!A144=0,\" \",COUNTRY_INFO!A144))","v":"Angola"},{"$f":"IF(INTRO!$E$39=\"Non endémique\",\" \",IF(COUNTRY_INFO!B144=0,\" \",COUNTRY_INFO!B144))","v":"MOXICO"},{"$f":"IF(INTRO!$E$39=\"Non endémique\",\" \",IF(COUNTRY_INFO!C144=0,\" \",COUNTRY_INFO!C144))","v":"LUMEJE"},{"$f":"IF(INTRO!$E$39=\"Non endémique\",0,IF(INTRO!$E$39=\"Endémique mais pas de CP\",IF(COUNTRY_INFO!$H144=1,COUNTRY_INFO!F144+COUNTRY_INFO!G144,0),IF(COUNTRY_INFO!$H144=1,COUNTRY_INFO!F144+COUNTRY_INFO!G144,IF(COUNTRY_INFO!$I144=1,IF(COUNTRY_INFO!N144>=(COUNTRY_INFO!F144+COUNTRY_INFO!G144),COUNTRY_INFO!F144+COUNTRY_INFO!G144,COUNTRY_INFO!$N144),0))))","v":0},{"$f":"IF(AND(INTRO!$E$39=\"Non endémique\",INTRO!$E$37=\"Non endémique\"),\"Non requis\",IF(INTRO!$E$39=\"Non endémique\",\"Traiter avec DEC\",COUNTRY_INFO!Q144))","v":0},{"$f":"IF(INTRO!$E$39<>\"Non endémique\",COUNTRY_INFO!R144,\"Non requis\")","v":0},{"$f":"IF(COUNTRY_INFO!H144=1, IF($E144=1,IF(ALB_MBD!$J144<>\" \",COUNTRY_INFO!F144+COUNTRY_INFO!G144-ALB_MBD!$J144,COUNTRY_INFO!F144+COUNTRY_INFO!G144), 0),0)","v":0},{"$f":"IF(INTRO!$E$39<>\"Endémique\",0, IF(AND(COUNTRY_INFO!$I144=1,$F144<>0),IF(COUNTRY_INFO!N144>=(COUNTRY_INFO!F144+COUNTRY_INFO!G144),COUNTRY_INFO!F144+COUNTRY_INFO!G144,COUNTRY_INFO!$N144), 0))","v":0},null,0,0,0,0,0,null,0,0]
[{"$f":"IF(INTRO!$E$39=\"Non endémique\",\" \",IF(COUNTRY_INFO!A145=0,\" \",COUNTRY_INFO!A145))","v":"Angola"},{"$f":"IF(INTRO!$E$39=\"Non endémique\",\" \",IF(COUNTRY_INFO!B145=0,\" \",COUNTRY_INFO!B145))","v":"MOXICO"},{"$f":"IF(INTRO!$E$39=\"Non endémique\",\" \",IF(COUNTRY_INFO!C145=0,\" \",COUNTRY_INFO!C145))","v":"MOXICO / LUENA"},{"$f":"IF(INTRO!$E$39=\"Non endémique\",0,IF(INTRO!$E$39=\"Endémique mais pas de CP\",IF(COUNTRY_INFO!$H145=1,COUNTRY_INFO!F145+COUNTRY_INFO!G145,0),IF(COUNTRY_INFO!$H145=1,COUNTRY_INFO!F145+COUNTRY_INFO!G145,IF(COUNTRY_INFO!$I145=1,IF(COUNTRY_INFO!N145>=(COUNTRY_INFO!F145+COUNTRY_INFO!G145),COUNTRY_INFO!F145+COUNTRY_INFO!G145,COUNTRY_INFO!$N145),0))))","v":329122},{"$f":"IF(AND(INTRO!$E$39=\"Non endémique\",INTRO!$E$37=\"Non endémique\"),\"Non requis\",IF(INTRO!$E$39=\"Non endémique\",\"Traiter avec DEC\",COUNTRY_INFO!Q145))","v":0},{"$f":"IF(INTRO!$E$39<>\"Non endémique\",COUNTRY_INFO!R145,\"Non requis\")","v":1},{"$f":"IF(COUNTRY_INFO!H145=1, IF($E145=1,IF(ALB_MBD!$J145<>\" \",COUNTRY_INFO!F145+COUNTRY_INFO!G145-ALB_MBD!$J145,COUNTRY_INFO!F145+COUNTRY_INFO!G145), 0),0)","v":0},{"$f":"IF(INTRO!$E$39<>\"Endémique\",0, IF(AND(COUNTRY_INFO!$I145=1,$F145<>0),IF(COUNTRY_INFO!N145>=(COUNTRY_INFO!F145+COUNTRY_INFO!G145),COUNTRY_INFO!F145+COUNTRY_INFO!G145,COUNTRY_INFO!$N145), 0))","v":329122},null,329122,0,921541.6,0,921541.6,null,921541.6,1844]
[{"$f":"IF(INTRO!$E$39=\"Non endémique\",\" \",IF(COUNTRY_INFO!A146=0,\" \",COUNTRY_INFO!A146))","v":"Angola"},{"$f":"IF(INTRO!$E$39=\"Non endémique\",\" \",IF(COUNTRY_INFO!B146=0,\" \",COUNTRY_INFO!B146))","v":"NAMIBE"},{"$f":"IF(INTRO!$E$39=\"Non endémique\",\" \",IF(COUNTRY_INFO!C146=0,\" \",COUNTRY_INFO!C146))","v":"BIBALA"},{"$f":"IF(INTRO!$E$39=\"Non endémique\",0,IF(INTRO!$E$39=\"Endémique mais pas de CP\",IF(COUNTRY_INFO!$H146=1,COUNTRY_INFO!F146+COUNTRY_INFO!G146,0),IF(COUNTRY_INFO!$H146=1,COUNTRY_INFO!F146+COUNTRY_INFO!G146,IF(COUNTRY_INFO!$I146=1,IF(COUNTRY_INFO!N146>=(COUNTRY_INFO!F146+COUNTRY_INFO!G146),COUNTRY_INFO!F146+COUNTRY_INFO!G146,COUNTRY_INFO!$N146),0))))","v":0},{"$f":"IF(AND(INTRO!$E$39=\"Non endémique\",INTRO!$E$37=\"Non endémique\"),\"Non requis\",IF(INTRO!$E$39=\"Non endémique\",\"Traiter avec DEC\",COUNTRY_INFO!Q146))","v":0},{"$f":"IF(INTRO!$E$39<>\"Non endémique\",COUNTRY_INFO!R146,\"Non requis\")","v":0},{"$f":"IF(COUNTRY_INFO!H146=1, IF($E146=1,IF(ALB_MBD!$J146<>\" \",COUNTRY_INFO!F146+COUNTRY_INFO!G146-ALB_MBD!$J146,COUNTRY_INFO!F146+COUNTRY_INFO!G146), 0),0)","v":0},{"$f":"IF(INTRO!$E$39<>\"Endémique\",0, IF(AND(COUNTRY_INFO!$I146=1,$F146<>0),IF(COUNTRY_INFO!N146>=(COUNTRY_INFO!F146+COUNTRY_INFO!G146),COUNTRY_INFO!F146+COUNTRY_INFO!G146,COUNTRY_INFO!$N146), 0))","v":0},null,0,0,0,0,0,null,0,0]
[{"$f":"IF(INTRO!$E$39=\"Non endémique\",\" \",IF(COUNTRY_INFO!A147=0,\" \",COUNTRY_INFO!A147))","v":"Angola"},{"$f":"IF(INTRO!$E$39=\"Non endémique\",\" \",IF(COUNTRY_INFO!B147=0,\" \",COUNTRY_INFO!B147))","v":"NAMIBE"},{"$f":"IF(INTRO!$E$39=\"Non endémique\",\" \",IF(COUNTRY_INFO!C147=0,\" \",COUNTRY_INFO!C147))","v":"CAMUCUIO"},{"$f":"IF(INTRO!$E$39=\"Non endémique\",0,IF(INTRO!$E$39=\"Endémique mais pas de CP\",IF(COUNTRY_INFO!$H147=1,COUNTRY_INFO!F147+COUNTRY_INFO!G147,0),IF(COUNTRY_INFO!$H147=1,COUNTRY_INFO!F147+COUNTRY_INFO!G147,IF(COUNTRY_INFO!$I147=1,IF(COUNTRY_INFO!N147>=(COUNTRY_INFO!F147+COUNTRY_INFO!G147),COUNTRY_INFO!F147+COUNTRY_INFO!G147,COUNTRY_INFO!$N147),0))))","v":0},{"$f":"IF(AND(INTRO!$E$39=\"Non endémique\",INTRO!$E$37=\"Non endémique\"),\"Non requis\",IF(INTRO!$E$39=\"Non endémique\",\"Traiter avec DEC\",COUNTRY_INFO!Q147))","v":0},{"$f":"IF(INTRO!$E$39<>\"Non endémique\",COUNTRY_INFO!R147,\"Non requis\")","v":0},{"$f":"IF(COUNTRY_INFO!H147=1, IF($E147=1,IF(ALB_MBD!$J147<>\" \",COUNTRY_INFO!F147+COUNTRY_INFO!G147-ALB_MBD!$J147,COUNTRY_INFO!F147+COUNTRY_INFO!G147), 0),0)","v":0},{"$f":"IF(INTRO!$E$39<>\"Endémique\",0, IF(AND(COUNTRY_INFO!$I147=1,$F147<>0),IF(COUNTRY_INFO!N147>=(COUNTRY_INFO!F147+COUNTRY_INFO!G147),COUNTRY_INFO!F147+COUNTRY_INFO!G147,COUNTRY_INFO!$N147), 0))","v":0},null,0,0,0,0,0,null,0,0]
[{"$f":"IF(INTRO!$E$39=\"Non endémique\",\" \",IF(COUNTRY_INFO!A148=0,\" \",COUNTRY_INFO!A148))","v":"Angola"},{"$f":"IF(INTRO!$E$39=\"Non endémique\",\" \",IF(COUNTRY_INFO!B148=0,\" \",COUNTRY_INFO!B148))","v":"NAMIBE"},{"$f":"IF(INTRO!$E$39=\"Non endémique\",\" \",IF(COUNTRY_INFO!C148=0,\" \",COUNTRY_INFO!C148))","v":"NAMIBE"},{"$f":"IF(INTRO!$E$39=\"Non endémique\",0,IF(INTRO!$E$39=\"Endémique mais pas de CP\",IF(COUNTRY_INFO!$H148=1,COUNTRY_INFO!F148+COUNTRY_INFO!G148,0),IF(COUNTRY_INFO!$H148=1,COUNTRY_INFO!F148+COUNTRY_INFO!G148,IF(COUNTRY_INFO!$I148=1,IF(COUNTRY_INFO!N148>=(COUNTRY_INFO!F148+COUNTRY_INFO!G148),COUNTRY_INFO!F148+COUNTRY_INFO!G148,COUNTRY_INFO!$N148),0))))","v":0},{"$f":"IF(AND(INTRO!$E$39=\"Non endémique\",INTRO!$E$37=\"Non endémique\"),\"Non requis\",IF(INTRO!$E$39=\"Non endémique\",\"Traiter avec DEC\",COUNTRY_INFO!Q148))","v":0},{"$f":"IF(INTRO!$E$39<>\"Non endémique\",COUNTRY_INFO!R148,\"Non requis\")","v":0},{"$f":"IF(COUNTRY_INFO!H148=1, IF($E148=1,IF(ALB_MBD!$J148<>\" \",COUNTRY_INFO!F148+COUNTRY_INFO!G148-ALB_MBD!$J148,COUNTRY_INFO!F148+COUNTRY_INFO!G148), 0),0)","v":0},{"$f":"IF(INTRO!$E$39<>\"Endémique\",0, IF(AND(COUNTRY_INFO!$I148=1,$F148<>0),IF(COUNTRY_INFO!N148>=(COUNTRY_INFO!F148+COUNTRY_INFO!G148),COUNTRY_INFO!F148+COUNTRY_INFO!G148,COUNTRY_INFO!$N148), 0))","v":0},null,0,0,0,0,0,null,0,0]
[{"$f":"IF(INTRO!$E$39=\"Non endémique\",\" \",IF(COUNTRY_INFO!A149=0,\" \",COUNTRY_INFO!A149))","v":"Angola"},{"$f":"IF(INTRO!$E$39=\"Non endémique\",\" \",IF(COUNTRY_INFO!B149=0,\" \",COUNTRY_INFO!B149))","v":"NAMIBE"},{"$f":"IF(INTRO!$E$39=\"Non endémique\",\" \",IF(COUNTRY_INFO!C149=0,\" \",COUNTRY_INFO!C149))","v":"TOMBUA"},{"$f":"IF(INTRO!$E$39=\"Non endémique\",0,IF(INTRO!$E$39=\"Endémique mais pas de CP\",IF(COUNTRY_INFO!$H149=1,COUNTRY_INFO!F149+COUNTRY_INFO!G149,0),IF(COUNTRY_INFO!$H149=1,COUNTRY_INFO!F149+COUNTRY_INFO!G149,IF(COUNTRY_INFO!$I149=1,IF(COUNTRY_INFO!N149>=(COUNTRY_INFO!F149+COUNTRY_INFO!G149),COUNTRY_INFO!F149+COUNTRY_INFO!G149,COUNTRY_INFO!$N149),0))))","v":0},{"$f":"IF(AND(INTRO!$E$39=\"Non endémique\",INTRO!$E$37=\"Non endémique\"),\"Non requis\",IF(INTRO!$E$39=\"Non endémique\",\"Traiter avec DEC\",COUNTRY_INFO!Q149))","v":0},{"$f":"IF(INTRO!$E$39<>\"Non endémique\",COUNTRY_INFO!R149,\"Non requis\")","v":0},{"$f":"IF(COUNTRY_INFO!H149=1, IF($E149=1,IF(ALB_MBD!$J149<>\" \",COUNTRY_INFO!F149+COUNTRY_INFO!G149-ALB_MBD!$J149,COUNTRY_INFO!F149+COUNTRY_INFO!G149), 0),0)","v":0},{"$f":"IF(INTRO!$E$39<>\"Endémique\",0, IF(AND(COUNTRY_INFO!$I149=1,$F149<>0),IF(COUNTRY_INFO!N149>=(COUNTRY_INFO!F149+COUNTRY_INFO!G149),COUNTRY_INFO!F149+COUNTRY_INFO!G149,COUNTRY_INFO!$N149), 0))","v":0},null,0,0,0,0,0,null,0,0]
[{"$f":"IF(INTRO!$E$39=\"Non endémique\",\" \",IF(COUNTRY_INFO!A150=0,\" \",COUNTRY_INFO!A150))","v":"Angola"},{"$f":"IF(INTRO!$E$39=\"Non endémique\",\" \",IF(COUNTRY_INFO!B150=0,\" \",COUNTRY_INFO!B150))","v":"NAMIBE"},{"$f":"IF(INTRO!$E$39=\"Non endémique\",\" \",IF(COUNTRY_INFO!C150=0,\" \",COUNTRY_INFO!C150))","v":"VIREI"},{"$f":"IF(INTRO!$E$39=\"Non endémique\",0,IF(INTRO!$E$39=\"Endémique mais pas de CP\",IF(COUNTRY_INFO!$H150=1,COUNTRY_INFO!F150+COUNTRY_INFO!G150,0),IF(COUNTRY_INFO!$H150=1,COUNTRY_INFO!F150+COUNTRY_INFO!G150,IF(COUNTRY_INFO!$I150=1,IF(COUNTRY_INFO!N150>=(COUNTRY_INFO!F150+COUNTRY_INFO!G150),COUNTRY_INFO!F150+COUNTRY_INFO!G150,COUNTRY_INFO!$N150),0))))","v":0},{"$f":"IF(AND(INTRO!$E$39=\"Non endémique\",INTRO!$E$37=\"Non endémique\"),\"Non requis\",IF(INTRO!$E$39=\"Non endémique\",\"Traiter avec DEC\",COUNTRY_INFO!Q150))","v":0},{"$f":"IF(INTRO!$E$39<>\"Non endémique\",COUNTRY_INFO!R150,\"Non requis\")","v":0},{"$f":"IF(COUNTRY_INFO!H150=1, IF($E150=1,IF(ALB_MBD!$J150<>\" \",COUNTRY_INFO!F150+COUNTRY_INFO!G150-ALB_MBD!$J150,COUNTRY_INFO!F150+COUNTRY_INFO!G150), 0),0)","v":0},{"$f":"IF(INTRO!$E$39<>\"Endémique\",0, IF(AND(COUNTRY_INFO!$I150=1,$F150<>0),IF(COUNTRY_INFO!N150>=(COUNTRY_INFO!F150+COUNTRY_INFO!G150),COUNTRY_INFO!F150+COUNTRY_INFO!G150,COUNTRY_INFO!$N150), 0))","v":0},null,0,0,0,0,0,null,0,0]
[{"$f":"IF(INTRO!$E$39=\"Non endémique\",\" \",IF(COUNTRY_INFO!A151=0,\" \",COUNTRY_INFO!A151))","v":"Angola"},{"$f":"IF(INTRO!$E$39=\"Non endémique\",\" \",IF(COUNTRY_INFO!B151=0,\" \",COUNTRY_INFO!B151))","v":"UIGE"},{"$f":"IF(INTRO!$E$39=\"Non endémique\",\" \",IF(COUNTRY_INFO!C151=0,\" \",COUNTRY_INFO!C151))","v":"AMBUILA"},{"$f":"IF(INTRO!$E$39=\"Non endémique\",0,IF(INTRO!$E$39=\"Endémique mais pas de CP\",IF(COUNTRY_INFO!$H151=1,COUNTRY_INFO!F151+COUNTRY_INFO!G151,0),IF(COUNTRY_INFO!$H151=1,COUNTRY_INFO!F151+COUNTRY_INFO!G151,IF(COUNTRY_INFO!$I151=1,IF(COUNTRY_INFO!N151>=(COUNTRY_INFO!F151+COUNTRY_INFO!G151),COUNTRY_INFO!F151+COUNTRY_INFO!G151,COUNTRY_INFO!$N151),0))))","v":0},{"$f":"IF(AND(INTRO!$E$39=\"Non endémique\",INTRO!$E$37=\"Non endémique\"),\"Non requis\",IF(INTRO!$E$39=\"Non endémique\",\"Traiter avec DEC\",COUNTRY_INFO!Q151))","v":0},{"$f":"IF(INTRO!$E$39<>\"Non endémique\",COUNTRY_INFO!R151,\"Non requis\")","v":0},{"$f":"IF(COUNTRY_INFO!H151=1, IF($E151=1,IF(ALB_MBD!$J151<>\" \",COUNTRY_INFO!F151+COUNTRY_INFO!G151-ALB_MBD!$J151,COUNTRY_INFO!F151+COUNTRY_INFO!G151), 0),0)","v":0},{"$f":"IF(INTRO!$E$39<>\"Endémique\",0, IF(AND(COUNTRY_INFO!$I151=1,$F151<>0),IF(COUNTRY_INFO!N151>=(COUNTRY_INFO!F151+COUNTRY_INFO!G151),COUNTRY_INFO!F151+COUNTRY_INFO!G151,COUNTRY_INFO!$N151), 0))","v":0},null,0,0,0,0,0,null,0,0]
[{"$f":"IF(INTRO!$E$39=\"Non endémique\",\" \",IF(COUNTRY_INFO!A152=0,\" \",COUNTRY_INFO!A152))","v":"Angola"},{"$f":"IF(INTRO!$E$39=\"Non endémique\",\" \",IF(COUNTRY_INFO!B152=0,\" \",COUNTRY_INFO!B152))","v":"UIGE"},{"$f":"IF(INTRO!$E$39=\"Non endémique\",\" \",IF(COUNTRY_INFO!C152=0,\" \",COUNTRY_INFO!C152))","v":"BEMBE"},{"$f":"IF(INTRO!$E$39=\"Non endémique\",0,IF(INTRO!$E$39=\"Endémique mais pas de CP\",IF(COUNTRY_INFO!$H152=1,COUNTRY_INFO!F152+COUNTRY_INFO!G152,0),IF(COUNTRY_INFO!$H152=1,COUNTRY_INFO!F152+COUNTRY_INFO!G152,IF(COUNTRY_INFO!$I152=1,IF(COUNTRY_INFO!N152>=(COUNTRY_INFO!F152+COUNTRY_INFO!G152),COUNTRY_INFO!F152+COUNTRY_INFO!G152,COUNTRY_INFO!$N152),0))))","v":0},{"$f":"IF(AND(INTRO!$E$39=\"Non endémique\",INTRO!$E$37=\"Non endémique\"),\"Non requis\",IF(INTRO!$E$39=\"Non endémique\",\"Traiter avec DEC\",COUNTRY_INFO!Q152))","v":0},{"$f":"IF(INTRO!$E$39<>\"Non endémique\",COUNTRY_INFO!R152,\"Non requis\")","v":0},{"$f":"IF(COUNTRY_INFO!H152=1, IF($E152=1,IF(ALB_MBD!$J152<>\" \",COUNTRY_INFO!F152+COUNTRY_INFO!G152-ALB_MBD!$J152,COUNTRY_INFO!F152+COUNTRY_INFO!G152), 0),0)","v":0},{"$f":"IF(INTRO!$E$39<>\"Endémique\",0, IF(AND(COUNTRY_INFO!$I152=1,$F152<>0),IF(COUNTRY_INFO!N152>=(COUNTRY_INFO!F152+COUNTRY_INFO!G152),COUNTRY_INFO!F152+COUNTRY_INFO!G152,COUNTRY_INFO!$N152), 0))","v":0},null,0,0,0,0,0,null,0,0]
[{"$f":"IF(INTRO!$E$39=\"Non endémique\",\" \",IF(COUNTRY_INFO!A153=0,\" \",COUNTRY_INFO!A153))","v":"Angola"},{"$f":"IF(INTRO!$E$39=\"Non endémique\",\" \",IF(COUNTRY_INFO!B153=0,\" \",COUNTRY_INFO!B153))","v":"UIGE"},{"$f":"IF(INTRO!$E$39=\"Non endémique\",\" \",IF(COUNTRY_INFO!C153=0,\" \",COUNTRY_INFO!C153))","v":"BUENGAS"},{"$f":"IF(INTRO!$E$39=\"Non endémique\",0,IF(INTRO!$E$39=\"Endémique mais pas de CP\",IF(COUNTRY_INFO!$H153=1,COUNTRY_INFO!F153+COUNTRY_INFO!G153,0),IF(COUNTRY_INFO!$H153=1,COUNTRY_INFO!F153+COUNTRY_INFO!G153,IF(COUNTRY_INFO!$I153=1,IF(COUNTRY_INFO!N153>=(COUNTRY_INFO!F153+COUNTRY_INFO!G153),COUNTRY_INFO!F153+COUNTRY_INFO!G153,COUNTRY_INFO!$N153),0))))","v":0},{"$f":"IF(AND(INTRO!$E$39=\"Non endémique\",INTRO!$E$37=\"Non endémique\"),\"Non requis\",IF(INTRO!$E$39=\"Non endémique\",\"Traiter avec DEC\",COUNTRY_INFO!Q153))","v":0},{"$f":"IF(INTRO!$E$39<>\"Non endémique\",COUNTRY_INFO!R153,\"Non requis\")","v":0},{"$f":"IF(COUNTRY_INFO!H153=1, IF($E153=1,IF(ALB_MBD!$J153<>\" \",COUNTRY_INFO!F153+COUNTRY_INFO!G153-ALB_MBD!$J153,COUNTRY_INFO!F153+COUNTRY_INFO!G153), 0),0)","v":0},{"$f":"IF(INTRO!$E$39<>\"Endémique\",0, IF(AND(COUNTRY_INFO!$I153=1,$F153<>0),IF(COUNTRY_INFO!N153>=(COUNTRY_INFO!F153+COUNTRY_INFO!G153),COUNTRY_INFO!F153+COUNTRY_INFO!G153,COUNTRY_INFO!$N153), 0))","v":0},null,0,0,0,0,0,null,0,0]
[{"$f":"IF(INTRO!$E$39=\"Non endémique\",\" \",IF(COUNTRY_INFO!A154=0,\" \",COUNTRY_INFO!A154))","v":"Angola"},{"$f":"IF(INTRO!$E$39=\"Non endémique\",\" \",IF(COUNTRY_INFO!B154=0,\" \",COUNTRY_INFO!B154))","v":"UIGE"},{"$f":"IF(INTRO!$E$39=\"Non endémique\",\" \",IF(COUNTRY_INFO!C154=0,\" \",COUNTRY_INFO!C154))","v":"BUNGO"},{"$f":"IF(INTRO!$E$39=\"Non endémique\",0,IF(INTRO!$E$39=\"Endémique mais pas de CP\",IF(COUNTRY_INFO!$H154=1,COUNTRY_INFO!F154+COUNTRY_INFO!G154,0),IF(COUNTRY_INFO!$H154=1,COUNTRY_INFO!F154+COUNTRY_INFO!G154,IF(COUNTRY_INFO!$I154=1,IF(COUNTRY_INFO!N154>=(COUNTRY_INFO!F154+COUNTRY_INFO!G154),COUNTRY_INFO!F154+COUNTRY_INFO!G154,COUNTRY_INFO!$N154),0))))","v":34213},{"$f":"IF(AND(INTRO!$E$39=\"Non endémique\",INTRO!$E$37=\"Non endémique\"),\"Non requis\",IF(INTRO!$E$39=\"Non endémique\",\"Traiter avec DEC\",COUNTRY_INFO!Q154))","v":0},{"$f":"IF(INTRO!$E$39<>\"Non endémique\",COUNTRY_INFO!R154,\"Non requis\")","v":1},{"$f":"IF(COUNTRY_INFO!H154=1, IF($E154=1,IF(ALB_MBD!$J154<>\" \",COUNTRY_INFO!F154+COUNTRY_INFO!G154-ALB_MBD!$J154,COUNTRY_INFO!F154+COUNTRY_INFO!G154), 0),0)","v":0},{"$f":"IF(INTRO!$E$39<>\"Endémique\",0, IF(AND(COUNTRY_INFO!$I154=1,$F154<>0),IF(COUNTRY_INFO!N154>=(COUNTRY_INFO!F154+COUNTRY_INFO!G154),COUNTRY_INFO!F154+COUNTRY_INFO!G154,COUNTRY_INFO!$N154), 0))","v":34213},null,34213,0,95796.4,0,95796.4,null,95796.4,192]
[{"$f":"IF(INTRO!$E$39=\"Non endémique\",\" \",IF(COUNTRY_INFO!A155=0,\" \",COUNTRY_INFO!A155))","v":"Angola"},{"$f":"IF(INTRO!$E$39=\"Non endémique\",\" \",IF(COUNTRY_INFO!B155=0,\" \",COUNTRY_INFO!B155))","v":"UIGE"},{"$f":"IF(INTRO!$E$39=\"Non endémique\",\" \",IF(COUNTRY_INFO!C155=0,\" \",COUNTRY_INFO!C155))","v":"CANGOLA"},{"$f":"IF(INTRO!$E$39=\"Non endémique\",0,IF(INTRO!$E$39=\"Endémique mais pas de CP\",IF(COUNTRY_INFO!$H155=1,COUNTRY_INFO!F155+COUNTRY_INFO!G155,0),IF(COUNTRY_INFO!$H155=1,COUNTRY_INFO!F155+COUNTRY_INFO!G155,IF(COUNTRY_INFO!$I155=1,IF(COUNTRY_INFO!N155>=(COUNTRY_INFO!F155+COUNTRY_INFO!G155),COUNTRY_INFO!F155+COUNTRY_INFO!G155,COUNTRY_INFO!$N155),0))))","v":0},{"$f":"IF(AND(INTRO!$E$39=\"Non endémique\",INTRO!$E$37=\"Non endémique\"),\"Non requis\",IF(INTRO!$E$39=\"Non endémique\",\"Traiter avec DEC\",COUNTRY_INFO!Q155))","v":0},{"$f":"IF(INTRO!$E$39<>\"Non endémique\",COUNTRY_INFO!R155,\"Non requis\")","v":0},{"$f":"IF(COUNTRY_INFO!H155=1, IF($E155=1,IF(ALB_MBD!$J155<>\" \",COUNTRY_INFO!F155+COUNTRY_INFO!G155-ALB_MBD!$J155,COUNTRY_INFO!F155+COUNTRY_INFO!G155), 0),0)","v":0},{"$f":"IF(INTRO!$E$39<>\"Endémique\",0, IF(AND(COUNTRY_INFO!$I155=1,$F155<>0),IF(COUNTRY_INFO!N155>=(COUNTRY_INFO!F155+COUNTRY_INFO!G155),COUNTRY_INFO!F155+COUNTRY_INFO!G155,COUNTRY_INFO!$N155), 0))","v":0},null,0,0,0,0,0,null,0,0]
[{"$f":"IF(INTRO!$E$39=\"Non endémique\",\" \",IF(COUNTRY_INFO!A156=0,\" \",COUNTRY_INFO!A156))","v":"Angola"},{"$f":"IF(INTRO!$E$39=\"Non endémique\",\" \",IF(COUNTRY_INFO!B156=0,\" \",COUNTRY_INFO!B156))","v":"UIGE"},{"$f":"IF(INTRO!$E$39=\"Non endémique\",\" \",IF(COUNTRY_INFO!C156=0,\" \",COUNTRY_INFO!C156))","v":"DAMBA"},{"$f":"IF(INTRO!$E$39=\"Non endémique\",0,IF(INTRO!$E$39=\"Endémique mais pas de CP\",IF(COUNTRY_INFO!$H156=1,COUNTRY_INFO!F156+COUNTRY_INFO!G156,0),IF(COUNTRY_INFO!$H156=1,COUNTRY_INFO!F156+COUNTRY_INFO!G156,IF(COUNTRY_INFO!$I156=1,IF(COUNTRY_INFO!N156>=(COUNTRY_INFO!F156+COUNTRY_INFO!G156),COUNTRY_INFO!F156+COUNTRY_INFO!G156,COUNTRY_INFO!$N156),0))))","v":0},{"$f":"IF(AND(INTRO!$E$39=\"Non endémique\",INTRO!$E$37=\"Non endémique\"),\"Non requis\",IF(INTRO!$E$39=\"Non endémique\",\"Traiter avec DEC\",COUNTRY_INFO!Q156))","v":0},{"$f":"IF(INTRO!$E$39<>\"Non endémique\",COUNTRY_INFO!R156,\"Non requis\")","v":0},{"$f":"IF(COUNTRY_INFO!H156=1, IF($E156=1,IF(ALB_MBD!$J156<>\" \",COUNTRY_INFO!F156+COUNTRY_INFO!G156-ALB_MBD!$J156,COUNTRY_INFO!F156+COUNTRY_INFO!G156), 0),0)","v":0},{"$f":"IF(INTRO!$E$39<>\"Endémique\",0, IF(AND(COUNTRY_INFO!$I156=1,$F156<>0),IF(COUNTRY_INFO!N156>=(COUNTRY_INFO!F156+COUNTRY_INFO!G156),COUNTRY_INFO!F156+COUNTRY_INFO!G156,COUNTRY_INFO!$N156), 0))","v":0},null,0,0,0,0,0,null,0,0]
[{"$f":"IF(INTRO!$E$39=\"Non endémique\",\" \",IF(COUNTRY_INFO!A157=0,\" \",COUNTRY_INFO!A157))","v":"Angola"},{"$f":"IF(INTRO!$E$39=\"Non endémique\",\" \",IF(COUNTRY_INFO!B157=0,\" \",COUNTRY_INFO!B157))","v":"UIGE"},{"$f":"IF(INTRO!$E$39=\"Non endémique\",\" \",IF(COUNTRY_INFO!C157=0,\" \",COUNTRY_INFO!C157))","v":"MAQUELA DO ZOMBO"},{"$f":"IF(INTRO!$E$39=\"Non endémique\",0,IF(INTRO!$E$39=\"Endémique mais pas de CP\",IF(COUNTRY_INFO!$H157=1,COUNTRY_INFO!F157+COUNTRY_INFO!G157,0),IF(COUNTRY_INFO!$H157=1,COUNTRY_INFO!F157+COUNTRY_INFO!G157,IF(COUNTRY_INFO!$I157=1,IF(COUNTRY_INFO!N157>=(COUNTRY_INFO!F157+COUNTRY_INFO!G157),COUNTRY_INFO!F157+COUNTRY_INFO!G157,COUNTRY_INFO!$N157),0))))","v":0},{"$f":"IF(AND(INTRO!$E$39=\"Non endémique\",INTRO!$E$37=\"Non endémique\"),\"Non requis\",IF(INTRO!$E$39=\"Non endémique\",\"Traiter avec DEC\",COUNTRY_INFO!Q157))","v":0},{"$f":"IF(INTRO!$E$39<>\"Non endémique\",COUNTRY_INFO!R157,\"Non requis\")","v":0},{"$f":"IF(COUNTRY_INFO!H157=1, IF($E157=1,IF(ALB_MBD!$J157<>\" \",COUNTRY_INFO!F157+COUNTRY_INFO!G157-ALB_MBD!$J157,COUNTRY_INFO!F157+COUNTRY_INFO!G157), 0),0)","v":0},{"$f":"IF(INTRO!$E$39<>\"Endémique\",0, IF(AND(COUNTRY_INFO!$I157=1,$F157<>0),IF(COUNTRY_INFO!N157>=(COUNTRY_INFO!F157+COUNTRY_INFO!G157),COUNTRY_INFO!F157+COUNTRY_INFO!G157,COUNTRY_INFO!$N157), 0))","v":0},null,0,0,0,0,0,null,0,0]
[{"$f":"IF(INTRO!$E$39=\"Non endémique\",\" \",IF(COUNTRY_INFO!A158=0,\" \",COUNTRY_INFO!A158))","v":"Angola"},{"$f":"IF(INTRO!$E$39=\"Non endémique\",\" \",IF(COUNTRY_INFO!B158=0,\" \",COUNTRY_INFO!B158))","v":"UIGE"},{"$f":"IF(INTRO!$E$39=\"Non endémique\",\" \",IF(COUNTRY_INFO!C158=0,\" \",COUNTRY_INFO!C158))","v":"MILUNGA"},{"$f":"IF(INTRO!$E$39=\"Non endémique\",0,IF(INTRO!$E$39=\"Endémique mais pas de CP\",IF(COUNTRY_INFO!$H158=1,COUNTRY_INFO!F158+COUNTRY_INFO!G158,0),IF(COUNTRY_INFO!$H158=1,COUNTRY_INFO!F158+COUNTRY_INFO!G158,IF(COUNTRY_INFO!$I158=1,IF(COUNTRY_INFO!N158>=(COUNTRY_INFO!F158+COUNTRY_INFO!G158),COUNTRY_INFO!F158+COUNTRY_INFO!G158,COUNTRY_INFO!$N158),0))))","v":0},{"$f":"IF(AND(INTRO!$E$39=\"Non endémique\",INTRO!$E$37=\"Non endémique\"),\"Non requis\",IF(INTRO!$E$39=\"Non endémique\",\"Traiter avec DEC\",COUNTRY_INFO!Q158))","v":0},{"$f":"IF(INTRO!$E$39<>\"Non endémique\",COUNTRY_INFO!R158,\"Non requis\")","v":0},{"$f":"IF(COUNTRY_INFO!H158=1, IF($E158=1,IF(ALB_MBD!$J158<>\" \",COUNTRY_INFO!F158+COUNTRY_INFO!G158-ALB_MBD!$J158,COUNTRY_INFO!F158+COUNTRY_INFO!G158), 0),0)","v":0},{"$f":"IF(INTRO!$E$39<>\"Endémique\",0, IF(AND(COUNTRY_INFO!$I158=1,$F158<>0),IF(COUNTRY_INFO!N158>=(COUNTRY_INFO!F158+COUNTRY_INFO!G158),COUNTRY_INFO!F158+COUNTRY_INFO!G158,COUNTRY_INFO!$N158), 0))","v":0},null,0,0,0,0,0,null,0,0]
[{"$f":"IF(INTRO!$E$39=\"Non endémique\",\" \",IF(COUNTRY_INFO!A159=0,\" \",COUNTRY_INFO!A159))","v":"Angola"},{"$f":"IF(INTRO!$E$39=\"Non endémique\",\" \",IF(COUNTRY_INFO!B159=0,\" \",COUNTRY_INFO!B159))","v":"UIGE"},{"$f":"IF(INTRO!$E$39=\"Non endémique\",\" \",IF(COUNTRY_INFO!C159=0,\" \",COUNTRY_INFO!C159))","v":"MUCABA"},{"$f":"IF(INTRO!$E$39=\"Non endémique\",0,IF(INTRO!$E$39=\"Endémique mais pas de CP\",IF(COUNTRY_INFO!$H159=1,COUNTRY_INFO!F159+COUNTRY_INFO!G159,0),IF(COUNTRY_INFO!$H159=1,COUNTRY_INFO!F159+COUNTRY_INFO!G159,IF(COUNTRY_INFO!$I159=1,IF(COUNTRY_INFO!N159>=(COUNTRY_INFO!F159+COUNTRY_INFO!G159),COUNTRY_INFO!F159+COUNTRY_INFO!G159,COUNTRY_INFO!$N159),0))))","v":0},{"$f":"IF(AND(INTRO!$E$39=\"Non endémique\",INTRO!$E$37=\"Non endémique\"),\"Non requis\",IF(INTRO!$E$39=\"Non endémique\",\"Traiter avec DEC\",COUNTRY_INFO!Q159))","v":0},{"$f":"IF(INTRO!$E$39<>\"Non endémique\",COUNTRY_INFO!R159,\"Non requis\")","v":0},{"$f":"IF(COUNTRY_INFO!H159=1, IF($E159=1,IF(ALB_MBD!$J159<>\" \",COUNTRY_INFO!F159+COUNTRY_INFO!G159-ALB_MBD!$J159,COUNTRY_INFO!F159+COUNTRY_INFO!G159), 0),0)","v":0},{"$f":"IF(INTRO!$E$39<>\"Endémique\",0, IF(AND(COUNTRY_INFO!$I159=1,$F159<>0),IF(COUNTRY_INFO!N159>=(COUNTRY_INFO!F159+COUNTRY_INFO!G159),COUNTRY_INFO!F159+COUNTRY_INFO!G159,COUNTRY_INFO!$N159), 0))","v":0},null,0,0,0,0,0,null,0,0]
[{"$f":"IF(INTRO!$E$39=\"Non endémique\",\" \",IF(COUNTRY_INFO!A160=0,\" \",COUNTRY_INFO!A160))","v":"Angola"},{"$f":"IF(INTRO!$E$39=\"Non endémique\",\" \",IF(COUNTRY_INFO!B160=0,\" \",COUNTRY_INFO!B160))","v":"UIGE"},{"$f":"IF(INTRO!$E$39=\"Non endémique\",\" \",IF(COUNTRY_INFO!C160=0,\" \",COUNTRY_INFO!C160))","v":"NEGAGE"},{"$f":"IF(INTRO!$E$39=\"Non endémique\",0,IF(INTRO!$E$39=\"Endémique mais pas de CP\",IF(COUNTRY_INFO!$H160=1,COUNTRY_INFO!F160+COUNTRY_INFO!G160,0),IF(COUNTRY_INFO!$H160=1,COUNTRY_INFO!F160+COUNTRY_INFO!G160,IF(COUNTRY_INFO!$I160=1,IF(COUNTRY_INFO!N160>=(COUNTRY_INFO!F160+COUNTRY_INFO!G160),COUNTRY_INFO!F160+COUNTRY_INFO!G160,COUNTRY_INFO!$N160),0))))","v":126671},{"$f":"IF(AND(INTRO!$E$39=\"Non endémique\",INTRO!$E$37=\"Non endémique\"),\"Non requis\",IF(INTRO!$E$39=\"Non endémique\",\"Traiter avec DEC\",COUNTRY_INFO!Q160))","v":0},{"$f":"IF(INTRO!$E$39<>\"Non endémique\",COUNTRY_INFO!R160,\"Non requis\")","v":1},{"$f":"IF(COUNTRY_INFO!H160=1, IF($E160=1,IF(ALB_MBD!$J160<>\" \",COUNTRY_INFO!F160+COUNTRY_INFO!G160-ALB_MBD!$J160,COUNTRY_INFO!F160+COUNTRY_INFO!G160), 0),0)","v":0},{"$f":"IF(INTRO!$E$39<>\"Endémique\",0, IF(AND(COUNTRY_INFO!$I160=1,$F160<>0),IF(COUNTRY_INFO!N160>=(COUNTRY_INFO!F160+COUNTRY_INFO!G160),COUNTRY_INFO!F160+COUNTRY_INFO!G160,COUNTRY_INFO!$N160), 0))","v":126671},null,126671,0,354678.8,0,354678.8,null,354678.8,710]
[{"$f":"IF(INTRO!$E$39=\"Non endémique\",\" \",IF(COUNTRY_INFO!A161=0,\" \",COUNTRY_INFO!A161))","v":"Angola"},{"$f":"IF(INTRO!$E$39=\"Non endémique\",\" \",IF(COUNTRY_INFO!B161=0,\" \",COUNTRY_INFO!B161))","v":"UIGE"},{"$f":"IF(INTRO!$E$39=\"Non endémique\",\" \",IF(COUNTRY_INFO!C161=0,\" \",COUNTRY_INFO!C161))","v":"PURI"},{"$f":"IF(INTRO!$E$39=\"Non endémique\",0,IF(INTRO!$E$39=\"Endémique mais pas de CP\",IF(COUNTRY_INFO!$H161=1,COUNTRY_INFO!F161+COUNTRY_INFO!G161,0),IF(COUNTRY_INFO!$H161=1,COUNTRY_INFO!F161+COUNTRY_INFO!G161,IF(COUNTRY_INFO!$I161=1,IF(COUNTRY_INFO!N161>=(COUNTRY_INFO!F161+COUNTRY_INFO!G161),COUNTRY_INFO!F161+COUNTRY_INFO!G161,COUNTRY_INFO!$N161),0))))","v":34909},{"$f":"IF(AND(INTRO!$E$39=\"Non endémique\",INTRO!$E$37=\"Non endémique\"),\"Non requis\",IF(INTRO!$E$39=\"Non endémique\",\"Traiter avec DEC\",COUNTRY_INFO!Q161))","v":0},{"$f":"IF(INTRO!$E$39<>\"Non endémique\",COUNTRY_INFO!R161,\"Non requis\")","v":1},{"$f":"IF(COUNTRY_INFO!H161=1, IF($E161=1,IF(ALB_MBD!$J161<>\" \",COUNTRY_INFO!F161+COUNTRY_INFO!G161-ALB_MBD!$J161,COUNTRY_INFO!F161+COUNTRY_INFO!G161), 0),0)","v":0},{"$f":"IF(INTRO!$E$39<>\"Endémique\",0, IF(AND(COUNTRY_INFO!$I161=1,$F161<>0),IF(COUNTRY_INFO!N161>=(COUNTRY_INFO!F161+COUNTRY_INFO!G161),COUNTRY_INFO!F161+COUNTRY_INFO!G161,COUNTRY_INFO!$N161), 0))","v":34909},null,34909,0,97745.2,0,97745.2,null,97745.2,196]
[{"$f":"IF(INTRO!$E$39=\"Non endémique\",\" \",IF(COUNTRY_INFO!A162=0,\" \",COUNTRY_INFO!A162))","v":"Angola"},{"$f":"IF(INTRO!$E$39=\"Non endémique\",\" \",IF(COUNTRY_INFO!B162=0,\" \",COUNTRY_INFO!B162))","v":"UIGE"},{"$f":"IF(INTRO!$E$39=\"Non endémique\",\" \",IF(COUNTRY_INFO!C162=0,\" \",COUNTRY_INFO!C162))","v":"QUIMBELE"},{"$f":"IF(INTRO!$E$39=\"Non endémique\",0,IF(INTRO!$E$39=\"Endémique mais pas de CP\",IF(COUNTRY_INFO!$H162=1,COUNTRY_INFO!F162+COUNTRY_INFO!G162,0),IF(COUNTRY_INFO!$H162=1,COUNTRY_INFO!F162+COUNTRY_INFO!G162,IF(COUNTRY_INFO!$I162=1,IF(COUNTRY_INFO!N162>=(COUNTRY_INFO!F162+COUNTRY_INFO!G162),COUNTRY_INFO!F162+COUNTRY_INFO!G162,COUNTRY_INFO!$N162),0))))","v":0},{"$f":"IF(AND(INTRO!$E$39=\"Non endémique\",INTRO!$E$37=\"Non endémique\"),\"Non requis\",IF(INTRO!$E$39=\"Non endémique\",\"Traiter avec DEC\",COUNTRY_INFO!Q162))","v":0},{"$f":"IF(INTRO!$E$39<>\"Non endémique\",COUNTRY_INFO!R162,\"Non requis\")","v":0},{"$f":"IF(COUNTRY_INFO!H162=1, IF($E162=1,IF(ALB_MBD!$J162<>\" \",COUNTRY_INFO!F162+COUNTRY_INFO!G162-ALB_MBD!$J162,COUNTRY_INFO!F162+COUNTRY_INFO!G162), 0),0)","v":0},{"$f":"IF(INTRO!$E$39<>\"Endémique\",0, IF(AND(COUNTRY_INFO!$I162=1,$F162<>0),IF(COUNTRY_INFO!N162>=(COUNTRY_INFO!F162+COUNTRY_INFO!G162),COUNTRY_INFO!F162+COUNTRY_INFO!G162,COUNTRY_INFO!$N162), 0))","v":0},null,0,0,0,0,0,null,0,0]
[{"$f":"IF(INTRO!$E$39=\"Non endémique\",\" \",IF(COUNTRY_INFO!A163=0,\" \",COUNTRY_INFO!A163))","v":"Angola"},{"$f":"IF(INTRO!$E$39=\"Non endémique\",\" \",IF(COUNTRY_INFO!B163=0,\" \",COUNTRY_INFO!B163))","v":"UIGE"},{"$f":"IF(INTRO!$E$39=\"Non endémique\",\" \",IF(COUNTRY_INFO!C163=0,\" \",COUNTRY_INFO!C163))","v":"QUITEXE"},{"$f":"IF(INTRO!$E$39=\"Non endémique\",0,IF(INTRO!$E$39=\"Endémique mais pas de CP\",IF(COUNTRY_INFO!$H163=1,COUNTRY_INFO!F163+COUNTRY_INFO!G163,0),IF(COUNTRY_INFO!$H163=1,COUNTRY_INFO!F163+COUNTRY_INFO!G163,IF(COUNTRY_INFO!$I163=1,IF(COUNTRY_INFO!N163>=(COUNTRY_INFO!F163+COUNTRY_INFO!G163),COUNTRY_INFO!F163+COUNTRY_INFO!G163,COUNTRY_INFO!$N163),0))))","v":31582},{"$f":"IF(AND(INTRO!$E$39=\"Non endémique\",INTRO!$E$37=\"Non endémique\"),\"Non requis\",IF(INTRO!$E$39=\"Non endémique\",\"Traiter avec DEC\",COUNTRY_INFO!Q163))","v":0},{"$f":"IF(INTRO!$E$39<>\"Non endémique\",COUNTRY_INFO!R163,\"Non requis\")","v":1},{"$f":"IF(COUNTRY_INFO!H163=1, IF($E163=1,IF(ALB_MBD!$J163<>\" \",COUNTRY_INFO!F163+COUNTRY_INFO!G163-ALB_MBD!$J163,COUNTRY_INFO!F163+COUNTRY_INFO!G163), 0),0)","v":0},{"$f":"IF(INTRO!$E$39<>\"Endémique\",0, IF(AND(COUNTRY_INFO!$I163=1,$F163<>0),IF(COUNTRY_INFO!N163>=(COUNTRY_INFO!F163+COUNTRY_INFO!G163),COUNTRY_INFO!F163+COUNTRY_INFO!G163,COUNTRY_INFO!$N163), 0))","v":31582},null,31582,0,88429.599999999991,0,88429.599999999991,null,88429.599999999991,177]
[{"$f":"IF(INTRO!$E$39=\"Non endémique\",\" \",IF(COUNTRY_INFO!A164=0,\" \",COUNTRY_INFO!A164))","v":"Angola"},{"$f":"IF(INTRO!$E$39=\"Non endémique\",\" \",IF(COUNTRY_INFO!B164=0,\" \",COUNTRY_INFO!B164))","v":"UIGE"},{"$f":"IF(INTRO!$E$39=\"Non endémique\",\" \",IF(COUNTRY_INFO!C164=0,\" \",COUNTRY_INFO!C164))","v":"SANZA POMBO"},{"$f":"IF(INTRO!$E$39=\"Non endémique\",0,IF(INTRO!$E$39=\"Endémique mais pas de CP\",IF(COUNTRY_INFO!$H164=1,COUNTRY_INFO!F164+COUNTRY_INFO!G164,0),IF(COUNTRY_INFO!$H164=1,COUNTRY_INFO!F164+COUNTRY_INFO!G164,IF(COUNTRY_INFO!$I164=1,IF(COUNTRY_INFO!N164>=(COUNTRY_INFO!F164+COUNTRY_INFO!G164),COUNTRY_INFO!F164+COUNTRY_INFO!G164,COUNTRY_INFO!$N164),0))))","v":0},{"$f":"IF(AND(INTRO!$E$39=\"Non endémique\",INTRO!$E$37=\"Non endémique\"),\"Non requis\",IF(INTRO!$E$39=\"Non endémique\",\"Traiter avec DEC\",COUNTRY_INFO!Q164))","v":0},{"$f":"IF(INTRO!$E$39<>\"Non endémique\",COUNTRY_INFO!R164,\"Non requis\")","v":0},{"$f":"IF(COUNTRY_INFO!H164=1, IF($E164=1,IF(ALB_MBD!$J164<>\" \",COUNTRY_INFO!F164+COUNTRY_INFO!G164-ALB_MBD!$J164,COUNTRY_INFO!F164+COUNTRY_INFO!G164), 0),0)","v":0},{"$f":"IF(INTRO!$E$39<>\"Endémique\",0, IF(AND(COUNTRY_INFO!$I164=1,$F164<>0),IF(COUNTRY_INFO!N164>=(COUNTRY_INFO!F164+COUNTRY_INFO!G164),COUNTRY_INFO!F164+COUNTRY_INFO!G164,COUNTRY_INFO!$N164), 0))","v":0},null,0,0,0,0,0,null,0,0]
[{"$f":"IF(INTRO!$E$39=\"Non endémique\",\" \",IF(COUNTRY_INFO!A165=0,\" \",COUNTRY_INFO!A165))","v":"Angola"},{"$f":"IF(INTRO!$E$39=\"Non endémique\",\" \",IF(COUNTRY_INFO!B165=0,\" \",COUNTRY_INFO!B165))","v":"UIGE"},{"$f":"IF(INTRO!$E$39=\"Non endémique\",\" \",IF(COUNTRY_INFO!C165=0,\" \",COUNTRY_INFO!C165))","v":"SONGO"},{"$f":"IF(INTRO!$E$39=\"Non endémique\",0,IF(INTRO!$E$39=\"Endémique mais pas de CP\",IF(COUNTRY_INFO!$H165=1,COUNTRY_INFO!F165+COUNTRY_INFO!G165,0),IF(COUNTRY_INFO!$H165=1,COUNTRY_INFO!F165+COUNTRY_INFO!G165,IF(COUNTRY_INFO!$I165=1,IF(COUNTRY_INFO!N165>=(COUNTRY_INFO!F165+COUNTRY_INFO!G165),COUNTRY_INFO!F165+COUNTRY_INFO!G165,COUNTRY_INFO!$N165),0))))","v":56799},{"$f":"IF(AND(INTRO!$E$39=\"Non endémique\",INTRO!$E$37=\"Non endémique\"),\"Non requis\",IF(INTRO!$E$39=\"Non endémique\",\"Traiter avec DEC\",COUNTRY_INFO!Q165))","v":1},{"$f":"IF(INTRO!$E$39<>\"Non endémique\",COUNTRY_INFO!R165,\"Non requis\")","v":1},{"$f":"IF(COUNTRY_INFO!H165=1, IF($E165=1,IF(ALB_MBD!$J165<>\" \",COUNTRY_INFO!F165+COUNTRY_INFO!G165-ALB_MBD!$J165,COUNTRY_INFO!F165+COUNTRY_INFO!G165), 0),0)","v":56799},{"$f":"IF(INTRO!$E$39<>\"Endémique\",0, IF(AND(COUNTRY_INFO!$I165=1,$F165<>0),IF(COUNTRY_INFO!N165>=(COUNTRY_INFO!F165+COUNTRY_INFO!G165),COUNTRY_INFO!F165+COUNTRY_INFO!G165,COUNTRY_INFO!$N165), 0))","v":56799},null,56799,0,0,159037.19999999998,159037.19999999998,null,159037.19999999998,319]
[{"$f":"IF(INTRO!$E$39=\"Non endémique\",\" \",IF(COUNTRY_INFO!A166=0,\" \",COUNTRY_INFO!A166))","v":"Angola"},{"$f":"IF(INTRO!$E$39=\"Non endémique\",\" \",IF(COUNTRY_INFO!B166=0,\" \",COUNTRY_INFO!B166))","v":"UIGE"},{"$f":"IF(INTRO!$E$39=\"Non endémique\",\" \",IF(COUNTRY_INFO!C166=0,\" \",COUNTRY_INFO!C166))","v":"UIGE"},{"$f":"IF(INTRO!$E$39=\"Non endémique\",0,IF(INTRO!$E$39=\"Endémique mais pas de CP\",IF(COUNTRY_INFO!$H166=1,COUNTRY_INFO!F166+COUNTRY_INFO!G166,0),IF(COUNTRY_INFO!$H166=1,COUNTRY_INFO!F166+COUNTRY_INFO!G166,IF(COUNTRY_INFO!$I166=1,IF(COUNTRY_INFO!N166>=(COUNTRY_INFO!F166+COUNTRY_INFO!G166),COUNTRY_INFO!F166+COUNTRY_INFO!G166,COUNTRY_INFO!$N166),0))))","v":478100},{"$f":"IF(AND(INTRO!$E$39=\"Non endémique\",INTRO!$E$37=\"Non endémique\"),\"Non requis\",IF(INTRO!$E$39=\"Non endémique\",\"Traiter avec DEC\",COUNTRY_INFO!Q166))","v":1},{"$f":"IF(INTRO!$E$39<>\"Non endémique\",COUNTRY_INFO!R166,\"Non requis\")","v":0},{"$f":"IF(COUNTRY_INFO!H166=1, IF($E166=1,IF(ALB_MBD!$J166<>\" \",COUNTRY_INFO!F166+COUNTRY_INFO!G166-ALB_MBD!$J166,COUNTRY_INFO!F166+COUNTRY_INFO!G166), 0),0)","v":478100},{"$f":"IF(INTRO!$E$39<>\"Endémique\",0, IF(AND(COUNTRY_INFO!$I166=1,$F166<>0),IF(COUNTRY_INFO!N166>=(COUNTRY_INFO!F166+COUNTRY_INFO!G166),COUNTRY_INFO!F166+COUNTRY_INFO!G166,COUNTRY_INFO!$N166), 0))","v":0},null,0,1338680,0,0,1338680,null,1338680,2678]
[{"$f":"IF(INTRO!$E$39=\"Non endémique\",\" \",IF(COUNTRY_INFO!A167=0,\" \",COUNTRY_INFO!A167))","v":"Angola"},{"$f":"IF(INTRO!$E$39=\"Non endémique\",\" \",IF(COUNTRY_INFO!B167=0,\" \",COUNTRY_INFO!B167))","v":"ZAIRE"},{"$f":"IF(INTRO!$E$39=\"Non endémique\",\" \",IF(COUNTRY_INFO!C167=0,\" \",COUNTRY_INFO!C167))","v":"CUIMBA"},{"$f":"IF(INTRO!$E$39=\"Non endémique\",0,IF(INTRO!$E$39=\"Endémique mais pas de CP\",IF(COUNTRY_INFO!$H167=1,COUNTRY_INFO!F167+COUNTRY_INFO!G167,0),IF(COUNTRY_INFO!$H167=1,COUNTRY_INFO!F167+COUNTRY_INFO!G167,IF(COUNTRY_INFO!$I167=1,IF(COUNTRY_INFO!N167>=(COUNTRY_INFO!F167+COUNTRY_INFO!G167),COUNTRY_INFO!F167+COUNTRY_INFO!G167,COUNTRY_INFO!$N167),0))))","v":0},{"$f":"IF(AND(INTRO!$E$39=\"Non endémique\",INTRO!$E$37=\"Non endémique\"),\"Non requis\",IF(INTRO!$E$39=\"Non endémique\",\"Traiter avec DEC\",COUNTRY_INFO!Q167))","v":0},{"$f":"IF(INTRO!$E$39<>\"Non endémique\",COUNTRY_INFO!R167,\"Non requis\")","v":0},{"$f":"IF(COUNTRY_INFO!H167=1, IF($E167=1,IF(ALB_MBD!$J167<>\" \",COUNTRY_INFO!F167+COUNTRY_INFO!G167-ALB_MBD!$J167,COUNTRY_INFO!F167+COUNTRY_INFO!G167), 0),0)","v":0},{"$f":"IF(INTRO!$E$39<>\"Endémique\",0, IF(AND(COUNTRY_INFO!$I167=1,$F167<>0),IF(COUNTRY_INFO!N167>=(COUNTRY_INFO!F167+COUNTRY_INFO!G167),COUNTRY_INFO!F167+COUNTRY_INFO!G167,COUNTRY_INFO!$N167), 0))","v":0},null,0,0,0,0,0,null,0,0]
[{"$f":"IF(INTRO!$E$39=\"Non endémique\",\" \",IF(COUNTRY_INFO!A168=0,\" \",COUNTRY_INFO!A168))","v":"Angola"},{"$f":"IF(INTRO!$E$39=\"Non endémique\",\" \",IF(COUNTRY_INFO!B168=0,\" \",COUNTRY_INFO!B168))","v":"ZAIRE"},{"$f":"IF(INTRO!$E$39=\"Non endémique\",\" \",IF(COUNTRY_INFO!C168=0,\" \",COUNTRY_INFO!C168))","v":"MBANZA CONGO"},{"$f":"IF(INTRO!$E$39=\"Non endémique\",0,IF(INTRO!$E$39=\"Endémique mais pas de CP\",IF(COUNTRY_INFO!$H168=1,COUNTRY_INFO!F168+COUNTRY_INFO!G168,0),IF(COUNTRY_INFO!$H168=1,COUNTRY_INFO!F168+COUNTRY_INFO!G168,IF(COUNTRY_INFO!$I168=1,IF(COUNTRY_INFO!N168>=(COUNTRY_INFO!F168+COUNTRY_INFO!G168),COUNTRY_INFO!F168+COUNTRY_INFO!G168,COUNTRY_INFO!$N168),0))))","v":0},{"$f":"IF(AND(INTRO!$E$39=\"Non endémique\",INTRO!$E$37=\"Non endémique\"),\"Non requis\",IF(INTRO!$E$39=\"Non endémique\",\"Traiter avec DEC\",COUNTRY_INFO!Q168))","v":0},{"$f":"IF(INTRO!$E$39<>\"Non endémique\",COUNTRY_INFO!R168,\"Non requis\")","v":0},{"$f":"IF(COUNTRY_INFO!H168=1, IF($E168=1,IF(ALB_MBD!$J168<>\" \",COUNTRY_INFO!F168+COUNTRY_INFO!G168-ALB_MBD!$J168,COUNTRY_INFO!F168+COUNTRY_INFO!G168), 0),0)","v":0},{"$f":"IF(INTRO!$E$39<>\"Endémique\",0, IF(AND(COUNTRY_INFO!$I168=1,$F168<>0),IF(COUNTRY_INFO!N168>=(COUNTRY_INFO!F168+COUNTRY_INFO!G168),COUNTRY_INFO!F168+COUNTRY_INFO!G168,COUNTRY_INFO!$N168), 0))","v":0},null,0,0,0,0,0,null,0,0]
[{"$f":"IF(INTRO!$E$39=\"Non endémique\",\" \",IF(COUNTRY_INFO!A169=0,\" \",COUNTRY_INFO!A169))","v":"Angola"},{"$f":"IF(INTRO!$E$39=\"Non endémique\",\" \",IF(COUNTRY_INFO!B169=0,\" \",COUNTRY_INFO!B169))","v":"ZAIRE"},{"$f":"IF(INTRO!$E$39=\"Non endémique\",\" \",IF(COUNTRY_INFO!C169=0,\" \",COUNTRY_INFO!C169))","v":"NOQUI"},{"$f":"IF(INTRO!$E$39=\"Non endémique\",0,IF(INTRO!$E$39=\"Endémique mais pas de CP\",IF(COUNTRY_INFO!$H169=1,COUNTRY_INFO!F169+COUNTRY_INFO!G169,0),IF(COUNTRY_INFO!$H169=1,COUNTRY_INFO!F169+COUNTRY_INFO!G169,IF(COUNTRY_INFO!$I169=1,IF(COUNTRY_INFO!N169>=(COUNTRY_INFO!F169+COUNTRY_INFO!G169),COUNTRY_INFO!F169+COUNTRY_INFO!G169,COUNTRY_INFO!$N169),0))))","v":0},{"$f":"IF(AND(INTRO!$E$39=\"Non endémique\",INTRO!$E$37=\"Non endémique\"),\"Non requis\",IF(INTRO!$E$39=\"Non endémique\",\"Traiter avec DEC\",COUNTRY_INFO!Q169))","v":0},{"$f":"IF(INTRO!$E$39<>\"Non endémique\",COUNTRY_INFO!R169,\"Non requis\")","v":0},{"$f":"IF(COUNTRY_INFO!H169=1, IF($E169=1,IF(ALB_MBD!$J169<>\" \",COUNTRY_INFO!F169+COUNTRY_INFO!G169-ALB_MBD!$J169,COUNTRY_INFO!F169+COUNTRY_INFO!G169), 0),0)","v":0},{"$f":"IF(INTRO!$E$39<>\"Endémique\",0, IF(AND(COUNTRY_INFO!$I169=1,$F169<>0),IF(COUNTRY_INFO!N169>=(COUNTRY_INFO!F169+COUNTRY_INFO!G169),COUNTRY_INFO!F169+COUNTRY_INFO!G169,COUNTRY_INFO!$N169), 0))","v":0},null,{"$f":"IF(I169=0,H169,IF(I169>H169,H169,I169))","v":0},{"$f":"IF(G169<J169,0,IF($E169=1, (G169-J169)*2.8, 0))","v":0},0,0,{"$f":"SUM(K169:M169)","v":0},null,0,0]
[{"$f":"IF(INTRO!$E$39=\"Non endémique\",\" \",IF(COUNTRY_INFO!A170=0,\" \",COUNTRY_INFO!A170))","v":"Angola"},{"$f":"IF(INTRO!$E$39=\"Non endémique\",\" \",IF(COUNTRY_INFO!B170=0,\" \",COUNTRY_INFO!B170))","v":"ZAIRE"},{"$f":"IF(INTRO!$E$39=\"Non endémique\",\" \",IF(COUNTRY_INFO!C170=0,\" \",COUNTRY_INFO!C170))","v":"NZETO"},{"$f":"IF(INTRO!$E$39=\"Non endémique\",0,IF(INTRO!$E$39=\"Endémique mais pas de CP\",IF(COUNTRY_INFO!$H170=1,COUNTRY_INFO!F170+COUNTRY_INFO!G170,0),IF(COUNTRY_INFO!$H170=1,COUNTRY_INFO!F170+COUNTRY_INFO!G170,IF(COUNTRY_INFO!$I170=1,IF(COUNTRY_INFO!N170>=(COUNTRY_INFO!F170+COUNTRY_INFO!G170),COUNTRY_INFO!F170+COUNTRY_INFO!G170,COUNTRY_INFO!$N170),0))))","v":0},{"$f":"IF(AND(INTRO!$E$39=\"Non endémique\",INTRO!$E$37=\"Non endémique\"),\"Non requis\",IF(INTRO!$E$39=\"Non endémique\",\"Traiter avec DEC\",COUNTRY_INFO!Q170))","v":0},{"$f":"IF(INTRO!$E$39<>\"Non endémique\",COUNTRY_INFO!R170,\"Non requis\")","v":0},{"$f":"IF(COUNTRY_INFO!H170=1, IF($E170=1,IF(ALB_MBD!$J170<>\" \",COUNTRY_INFO!F170+COUNTRY_INFO!G170-ALB_MBD!$J170,COUNTRY_INFO!F170+COUNTRY_INFO!G170), 0),0)","v":0},{"$f":"IF(INTRO!$E$39<>\"Endémique\",0, IF(AND(COUNTRY_INFO!$I170=1,$F170<>0),IF(COUNTRY_INFO!N170>=(COUNTRY_INFO!F170+COUNTRY_INFO!G170),COUNTRY_INFO!F170+COUNTRY_INFO!G170,COUNTRY_INFO!$N170), 0))","v":0},null,{"$f":"IF(I170=0,H170,IF(I170>H170,H170,I170))","v":0},{"$f":"IF(G170<J170,0,IF($E170=1, (G170-J170)*2.8, 0))","v":0},0,0,{"$f":"SUM(K170:M170)","v":0},null,0,0]
[{"$f":"IF(INTRO!$E$39=\"Non endémique\",\" \",IF(COUNTRY_INFO!A171=0,\" \",COUNTRY_INFO!A171))","v":"Angola"},{"$f":"IF(INTRO!$E$39=\"Non endémique\",\" \",IF(COUNTRY_INFO!B171=0,\" \",COUNTRY_INFO!B171))","v":"ZAIRE"},{"$f":"IF(INTRO!$E$39=\"Non endémique\",\" \",IF(COUNTRY_INFO!C171=0,\" \",COUNTRY_INFO!C171))","v":"SOYO"},{"$f":"IF(INTRO!$E$39=\"Non endémique\",0,IF(INTRO!$E$39=\"Endémique mais pas de CP\",IF(COUNTRY_INFO!$H171=1,COUNTRY_INFO!F171+COUNTRY_INFO!G171,0),IF(COUNTRY_INFO!$H171=1,COUNTRY_INFO!F171+COUNTRY_INFO!G171,IF(COUNTRY_INFO!$I171=1,IF(COUNTRY_INFO!N171>=(COUNTRY_INFO!F171+COUNTRY_INFO!G171),COUNTRY_INFO!F171+COUNTRY_INFO!G171,COUNTRY_INFO!$N171),0))))","v":0},{"$f":"IF(AND(INTRO!$E$39=\"Non endémique\",INTRO!$E$37=\"Non endémique\"),\"Non requis\",IF(INTRO!$E$39=\"Non endémique\",\"Traiter avec DEC\",COUNTRY_INFO!Q171))","v":0},{"$f":"IF(INTRO!$E$39<>\"Non endémique\",COUNTRY_INFO!R171,\"Non requis\")","v":0},{"$f":"IF(COUNTRY_INFO!H171=1, IF($E171=1,IF(ALB_MBD!$J171<>\" \",COUNTRY_INFO!F171+COUNTRY_INFO!G171-ALB_MBD!$J171,COUNTRY_INFO!F171+COUNTRY_INFO!G171), 0),0)","v":0},{"$f":"IF(INTRO!$E$39<>\"Endémique\",0, IF(AND(COUNTRY_INFO!$I171=1,$F171<>0),IF(COUNTRY_INFO!N171>=(COUNTRY_INFO!F171+COUNTRY_INFO!G171),COUNTRY_INFO!F171+COUNTRY_INFO!G171,COUNTRY_INFO!$N171), 0))","v":0},null,{"$f":"IF(I171=0,H171,IF(I171>H171,H171,I171))","v":0},{"$f":"IF(G171<J171,0,IF($E171=1, (G171-J171)*2.8, 0))","v":0},0,0,{"$f":"SUM(K171:M171)","v":0},null,0,0]
[{"$f":"IF(INTRO!$E$39=\"Non endémique\",\" \",IF(COUNTRY_INFO!A172=0,\" \",COUNTRY_INFO!A172))","v":"Angola"},{"$f":"IF(INTRO!$E$39=\"Non endémique\",\" \",IF(COUNTRY_INFO!B172=0,\" \",COUNTRY_INFO!B172))","v":"ZAIRE"},{"$f":"IF(INTRO!$E$39=\"Non endémique\",\" \",IF(COUNTRY_INFO!C172=0,\" \",COUNTRY_INFO!C172))","v":"TOMBOCO"},{"$f":"IF(INTRO!$E$39=\"Non endémique\",0,IF(INTRO!$E$39=\"Endémique mais pas de CP\",IF(COUNTRY_INFO!$H172=1,COUNTRY_INFO!F172+COUNTRY_INFO!G172,0),IF(COUNTRY_INFO!$H172=1,COUNTRY_INFO!F172+COUNTRY_INFO!G172,IF(COUNTRY_INFO!$I172=1,IF(COUNTRY_INFO!N172>=(COUNTRY_INFO!F172+COUNTRY_INFO!G172),COUNTRY_INFO!F172+COUNTRY_INFO!G172,COUNTRY_INFO!$N172),0))))","v":0},{"$f":"IF(AND(INTRO!$E$39=\"Non endémique\",INTRO!$E$37=\"Non endémique\"),\"Non requis\",IF(INTRO!$E$39=\"Non endémique\",\"Traiter avec DEC\",COUNTRY_INFO!Q172))","v":0},{"$f":"IF(INTRO!$E$39<>\"Non endémique\",COUNTRY_INFO!R172,\"Non requis\")","v":0},{"$f":"IF(COUNTRY_INFO!H172=1, IF($E172=1,IF(ALB_MBD!$J172<>\" \",COUNTRY_INFO!F172+COUNTRY_INFO!G172-ALB_MBD!$J172,COUNTRY_INFO!F172+COUNTRY_INFO!G172), 0),0)","v":0},{"$f":"IF(INTRO!$E$39<>\"Endémique\",0, IF(AND(COUNTRY_INFO!$I172=1,$F172<>0),IF(COUNTRY_INFO!N172>=(COUNTRY_INFO!F172+COUNTRY_INFO!G172),COUNTRY_INFO!F172+COUNTRY_INFO!G172,COUNTRY_INFO!$N172), 0))","v":0},null,{"$f":"IF(I172=0,H172,IF(I172>H172,H172,I172))","v":0},{"$f":"IF(G172<J172,0,IF($E172=1, (G172-J172)*2.8, 0))","v":0},0,0,{"$f":"SUM(K172:M172)","v":0},null,0,0]

{"sheet":"SUMMARY","index":5,"n_rows":92,"n_cols":8,"rows_kept":92,"cut":false,"hidden":false,"merged":[[83,3,83,7],[83,1,83,2],[48,5,48,6],[49,5,49,6],[85,1,85,7],[77,2,77,3],[77,4,77,5],[69,1,69,7],[82,1,82,2],[73,2,73,3],[91,1,91,7],[86,1,86,7],[90,1,90,7],[57,1,57,7],[65,4,65,6],[62,4,62,6],[81,1,81,7],[82,3,82,7],[58,1,58,7],[75,2,75,3],[73,4,73,5],[74,4,74,5],[74,2,74,3],[60,1,60,7],[63,4,63,6],[64,4,64,6],[79,1,79,7],[80,1,80,7],[45,5,45,6],[40,5,40,6],[55,1,55,7],[66,4,66,6],[56,1,56,7],[53,1,53,7],[75,4,75,5],[46,5,46,6],[43,5,43,6],[44,5,44,6],[42,5,42,6],[41,5,41,6],[21,2,24,5],[68,1,68,7],[76,4,76,5],[76,2,76,3],[38,1,38,7],[25,1,25,7],[47,5,47,6],[54,1,54,7],[30,2,30,3],[50,5,50,6],[30,6,30,7],[30,4,30,5],[0,2,0,7],[9,1,10,1],[9,2,9,5],[9,6,9,7],[5,2,5,5],[6,1,6,7],[1,1,1,7],[2,1,2,5],[3,1,3,7],[4,1,4,7]]}
[null,null,"Cette version sera utilisée par les pays endémiques à la Loase"]
[null,"Formulaire de demande commune de médicaments pour CP v.3 (L)"]
[]
[null,"Ce formulaire constitue une demande officielle du Gouvernement à l'OMS pour l'approvisionnement des médicaments mentionnés ci-dessus. Ce formulaire peut-être soumis à n'importe quel moment, avant le 15 août de l'année en cours, pour une livraison de médicaments au courant de l'année suivante, mais au moins 6-8 mois avant l’intervention planifiée afin de laisser le temps nécessaire pour réviser et approuver la demande, placer la commande, élaborer les médicaments et les expédier vers les pays."]
[]
[null,"Pays",{"$f":"IF(INTRO!$E$33<>0,INTRO!$E$33,\" \")","v":"Angola"},null,null,null,"Année",{"$f":"IF(INTRO!$E$35<>0,INTRO!$E$35,\" \")","v":2019}]
[]
[null,"Informations concernant les médicaments CP demandés à l’OMS"]
[]
[null,"Le médicament","Nombre de comprimés",null,null,null,"Nombre total de flacons"]
[null,null,"Requis","En stock","En cours de demande","Demandés","Requis","Demandés"]
[null,"Albendazole pour FL",534899,0,null,0,{"$f":"IF($C12=0,0,IF($B12=\"Albendazole pour FL\",IF($C12=(ALB_MBD!$U$4+ALB_MBD!$V$4),ALB_MBD!$W$4,ROUNDUP($C12/200,0)),IF($B12=\"Albendazole pour STH (EAS)\",IF($C12=ALB_MBD!$N$4,ALB_MBD!$Z$4,ROUNDUP($C12/200,0)),IF($B12=\"Mebendazole (EAS)\",IF($C12=ALB_MBD!$R$4,ALB_MBD!$AC$4,ROUNDUP($C12/150,0)),IF($B12=\"Praziquantel (EAS)\",IF($C12=PZQ!$O$4,PZQ!$R$4,ROUNDUP($C12/1000,0)),IF($B12=\"Ivermectine\",IF($C12=IVM!$N$4,IVM!$Q$4,$C12/500+0.49),0))))))","v":2675},{"$f":"IF($F12=0,0,IF(OR($B12=\"Albendazole pour FL\",$B12=\"Albendazole pour STH (EAS)\"),$G12-ROUNDUP(($E12+$D12)/200,0),IF($B12=\"Ivermectine\",$G12-ROUNDUP(($E12+$D12)/500,0),IF($B12=\"Mebendazole (EAS)\",$G12-ROUNDUP(($E12+$D12)/150,0),$G12-ROUNDUP(($E12+$D12)/1000,0)))))","v":0}]
[null,"Albendazole pour STH (EAS)",8453351,8610400,null,{"$f":"IF(C13>(D13+E13),C13-D13-E13, 0)","v":0},{"$f":"IF($C13=0,0,IF($B13=\"Albendazole pour FL\",IF($C13=(ALB_MBD!$U$4+ALB_MBD!$V$4),ALB_MBD!$W$4,ROUNDUP($C13/200,0)),IF($B13=\"Albendazole pour STH (EAS)\",IF($C13=ALB_MBD!$N$4,ALB_MBD!$Z$4,ROUNDUP($C13/200,0)),IF($B13=\"Mebendazole (EAS)\",IF($C13=ALB_MBD!$R$4,ALB_MBD!$AC$4,ROUNDUP($C13/150,0)),IF($B13=\"Praziquantel (EAS)\",IF($C13=PZQ!$O$4,PZQ!$R$4,ROUNDUP($C13/1000,0)),IF($B13=\"Ivermectine\",IF($C13=IVM!$N$4,IVM!$Q$4,$C13/500+0.49),0))))))","v":42347},0]
[null,"Praziquantel (EAS)",641006.25,1308000,null,{"$f":"IF(C14>(D14+E14),C14-D14-E14, 0)","v":0},{"$f":"IF($C14=0,0,IF($B14=\"Albendazole pour FL\",IF($C14=(ALB_MBD!$U$4+ALB_MBD!$V$4),ALB_MBD!$W$4,ROUNDUP($C14/200,0)),IF($B14=\"Albendazole pour STH (EAS)\",IF($C14=ALB_MBD!$N$4,ALB_MBD!$Z$4,ROUNDUP($C14/200,0)),IF($B14=\"Mebendazole (EAS)\",IF($C14=ALB_MBD!$R$4,ALB_MBD!$AC$4,ROUNDUP($C14/150,0)),IF($B14=\"Praziquantel (EAS)\",IF($C14=PZQ!$O$4,PZQ!$R$4,ROUNDUP($C14/1000,0)),IF($B14=\"Ivermectine\",IF($C14=IVM!$N$4,IVM!$Q$4,$C14/500+0.49),0))))))","v":647},0]
[null,"Ivermectine",14335602.4,5045000,null,{"$f":"IF(C15>(D15+E15),C15-D15-E15, 0)","v":9290602.4000000004},{"$f":"IF($C15=0,0,IF($B15=\"Albendazole pour FL\",IF($C15=(ALB_MBD!$U$4+ALB_MBD!$V$4),ALB_MBD!$W$4,ROUNDUP($C15/200,0)),IF($B15=\"Albendazole pour STH (EAS)\",IF($C15=ALB_MBD!$N$4,ALB_MBD!$Z$4,ROUNDUP($C15/200,0)),IF($B15=\"Mebendazole (EAS)\",IF($C15=ALB_MBD!$R$4,ALB_MBD!$AC$4,ROUNDUP($C15/150,0)),IF($B15=\"Praziquantel (EAS)\",IF($C15=PZQ!$O$4,PZQ!$R$4,ROUNDUP($C15/1000,0)),IF($B15=\"Ivermectine\",IF($C15=IVM!$N$4,IVM!$Q$4,$C15/500+0.49),0))))))","v":28696},18606]
[null,null,0,0,null,{"$f":"IF(C16>(D16+E16),C16-D16-E16, 0)","v":0},{"$f":"IF($C16=0,0,IF($B16=\"Albendazole pour FL\",IF($C16=(ALB_MBD!$U$4+ALB_MBD!$V$4),ALB_MBD!$W$4,ROUNDUP($C16/200,0)),IF($B16=\"Albendazole pour STH (EAS)\",IF($C16=ALB_MBD!$N$4,ALB_MBD!$Z$4,ROUNDUP($C16/200,0)),IF($B16=\"Mebendazole (EAS)\",IF($C16=ALB_MBD!$R$4,ALB_MBD!$AC$4,ROUNDUP($C16/150,0)),IF($B16=\"Praziquantel (EAS)\",IF($C16=PZQ!$O$4,PZQ!$R$4,ROUNDUP($C16/1000,0)),IF($B16=\"Ivermectine\",IF($C16=IVM!$N$4,IVM!$Q$4,$C16/500+0.49),0))))))","v":0},0]
[null,null,0,0,null,{"$f":"IF(C17>(D17+E17),C17-D17-E17, 0)","v":0},{"$f":"IF($C17=0,0,IF($B17=\"Albendazole pour FL\",IF($C17=(ALB_MBD!$U$4+ALB_MBD!$V$4),ALB_MBD!$W$4,ROUNDUP($C17/200,0)),IF($B17=\"Albendazole pour STH (EAS)\",IF($C17=ALB_MBD!$N$4,ALB_MBD!$Z$4,ROUNDUP($C17/200,0)),IF($B17=\"Mebendazole (EAS)\",IF($C17=ALB_MBD!$R$4,ALB_MBD!$AC$4,ROUNDUP($C17/150,0)),IF($B17=\"Praziquantel (EAS)\",IF($C17=PZQ!$O$4,PZQ!$R$4,ROUNDUP($C17/1000,0)),IF($B17=\"Ivermectine\",IF($C17=IVM!$N$4,IVM!$Q$4,$C17/500+0.49),0))))))","v":0},0]
[]
[null,"Nombre de personnes devant être traitées avec le médicament donné"]
[]
[null,"Veuillez sélectionner la maladie",null,null,null,null,"1er tour","2ème tour"]
[null,"Filariose lymphatique","Ces chiffres sont estimés uniquement pour les goupes d'âge ciblés pour le traitement avec les médicaments donnés, dans les régions où le traitement de maladies spécifiques est requis",null,null,null,534899," "]
[null,"Onchocercose",null,null,null,null,4641758,0]
[null,"Schistosomiase",null,null,null,null,256402.5," "]
[null,"Géohelminthiases",null,null,null,null,7750071,888437]
[]
[]
[]
[null,"Informations sur les interventions CP planifiées "]
[]
[null,"Le médicament","Veuillez sélectionner une date (mois et année) pour la 1ère tournée de CP",null,"Veuillez sélectionner une date (mois et année) pour la 2ème tournée de CP",null,"Date à laquelle les médicaments devraient atteindre l’entrepôt national"]
[null,"Albendazole pour FL","Avril",2018,null,null,"Février",2019]
[null,"Albendazole pour STH (EAS)","Avril",2019,"Octobre",2019,"Février",2019]
[null,"Praziquantel (EAS)","Avril",2019,null,null,"Février",2019]
[null,"Ivermectine","Juin",2019,null,null,"Mars",2019]
[]
[]
[]
[null,"Informations sur les médicaments de chimiothérapie préventive pour le traitement de populations non ciblées par la donation en cours via l’OMS"]
[]
[null,"Le médicament","Groupe d'âge","# de personnes","# de comprimés","Source",null,"Statut"]
[]
[]
[]
[]
[]
[]
[]
[]
[]
[]
[]
[null,"Récapitulatif - Checklist"]
[null,"Submission"]
[null,"Que faut-il soumettre ?"]
[null,"L'approvisionnement des médicaments demandés doit être basé sur des données épidémiologiques à jour, des plans d'utilisation des médicaments spécifiques et sur la capacité de mise en oeuvre. La liste suivante permet d'assurer que tous les formulaires et toutes les informations sont fournis à l'OMS (en format électronique)."]
[null,"Formulaire de demande commune de médicaments pour chimioprévention"]
[null,"Formulaire de rapport commun"]
[null,"Déclaration des données épidémiologiques pour la CP"]
[]
[null,"Disponibilité de financement pour la mise en oeuvre de tournées pendant l’année pour laquelle les medicaments ont été demandés"]
[]
[null,"Maladies ciblées pour la mise en oeuvre","# de traitements ","Financement assuré pour","Origine",null,null,"Montant"]
[null,{"$f":"B22","v":"Filariose lymphatique"},{"$f":"SUM(G22:H22)","v":534899}]
[null,{"$f":"B23","v":"Onchocercose"},{"$f":"SUM(G23:H23)","v":4641758}]
[null,{"$f":"B24","v":"Schistosomiase"},{"$f":"SUM(G24:H24)","v":256402.5}]
[null,{"$f":"B25","v":"Géohelminthiases"},{"$f":"SUM(G25:H25)","v":8638508}]
[]
[null,"Qui doit remplir le formulaire ?"]
[null,"Le Coordonnateur national MTN doit compiler toutes les informations nécessaires pour compléter le formulaire de demande.  En l'absence d'un coordonnateur, les gestionnaires de programmes spécifiques devraient coordonner leurs sections respectives. Une fois finalisée, chaque demande individuelle doit être approuvée par le Ministère de la Santé."]
[]
[null,"Informations concernant la (les) personne(s) ayant rempli le formulaire"]
[]
[null,"Titre/fonction ","Nom",null,"Téléphone",null,"Email","Date"]
[null,"Coordonnateur MTN/CP","Maria Cecilia Cesar de Almeida",null,"244) 222 396 722",null,"cecidealmeida@hotmail.com","2018-05-08"]
[null,"autre","Elsa Palma Mendes",null,"244) 222 396 722",null,"elsa.palma.mendes@gmail.com","2018-05-08"]
[]
[]
[]
[null,"L’OMS recommende que tous les effets secondaires graves suspectés d’être associés à l’ingestion de médicaments de CP soient rapportés en suivant les lignes directrices nationales de pharmacovigilance.  En l’absence d’un système de pharmacovigilance national, contactez le département de Contrôle des Maladies Tropicales Négligées pour être conseillé."]
[null,"L’OMS s’est engagée à rendre possible la donation de médicaments en fournissant gratuitement: a) albendazole, mebendazole et praziquantel à l’entrepôt national du Ministère de la Santé et b) diethylcarbamazine au port d’entrée du pays receveur."]
[null,"L’institution soumettant la présente requête est responsable de: a) l’organisation du déchargement des médicaments du camion, du stockage dans l’entrepôt national et de l’expédition vers les centres où aura lieu la distribution finale; b) de l’enregistrement, si nécessaire, des médicaments donnés, auprès des autorités nationales en charge; et de c) de l’information de n’importe quels changements ayant trait à leurs campagnes de traitement (par exemple le report d’une date planifiée de distribution en masse de médicaments, le remplacement d’un coordonateur MTN, etc.)."]
[null,"Nom et signature \ndu Coordonnateur MTN ou du \nReprésentant du Ministère de la Santé",null,"Maria Cecilia Cesar de Almeida"]
[null,"Date",null,"2018-05-08"]
[]
[null,"Si vous avez plus d'un destinataire final pour les médicaments de chimioprévention demandés, veuillez compléter les informations de la rubrique \"Informations concernant l'envoi et le destinataire\" dans la feuille de travail SHIPMENT."]
[null,"Veuillez envoyer le rapport national (signé et sous format électronique) au représentant de I'OMS du pays en mettant en copie:"]
[null,"Siège de l'OMS ","PC_JointForms@who.int"]
[null,"Bureau régional de l'OMS","Conseiller régional MTN"]
[null,"Mectizan donation programme","Dr Yao Sodahlon, email: ysodahlon@taskforce.org"]
[]
[null,"Veuillez noter que votre demande sera examinée par un panel d'experts indépendants (Comité ad hoc d’évaluation conjointe). Les informations contenues dans ce formulaire, le rapport commun d'activités (ou rapport national d'activités) et le plan d'action annuel sont essentiels à l'OMS pour assurer un usage optimal des médicaments. Dans le cadre de ses activités courantes de suivi et d'évaluation, et afin d'honorer ses obligations contractuelles envers les bailleurs de fonds  et autres partenaires, l'OMS et ses agents affiliés se réservent le droit d'inspecter, périodiquement, les stocks de médicaments au niveau national. "]

{"sheet":"SHIPMENT","index":6,"n_rows":48,"n_cols":8,"rows_kept":48,"cut":false,"hidden":false,"merged":[[47,1,57,7],[45,1,45,7],[30,2,30,4],[30,5,30,7],[31,2,31,4],[31,5,31,7],[32,2,32,4],[32,5,32,7],[36,1,36,6],[37,1,37,5],[42,1,42,7],[28,2,28,4],[28,5,28,7],[29,2,29,4],[29,5,29,7],[41,1,41,6],[0,2,0,7],[35,1,35,7],[39,1,39,7],[40,1,40,6],[38,1,38,6],[19,2,19,4],[19,5,19,7],[23,2,23,4],[21,2,21,4],[17,2,17,4],[27,2,27,4],[27,5,27,7],[13,5,13,7],[17,5,17,7],[26,2,26,4],[20,2,20,4],[20,5,20,7],[26,5,26,7],[21,5,21,7],[1,1,1,7],[2,1,2,5],[12,2,12,4],[15,1,15,7],[14,2,14,4],[12,5,12,7],[13,2,13,4],[11,5,11,7],[11,2,11,4],[6,1,6,7],[9,2,9,4],[7,2,7,4],[7,5,7,7],[3,2,3,5],[4,1,4,7],[8,5,8,7],[25,5,25,7],[18,2,18,4],[18,5,18,7],[25,2,25,4],[8,2,8,4],[9,5,9,7],[10,2,10,4],[10,5,10,7],[14,5,14,7],[23,5,23,7],[16,2,16,4],[16,5,16,7],[22,2,22,4],[22,5,22,7]]}
[null,null,"Cette version sera utilisée par les pays endémiques à la Loase"]
[null,"Formulaire de demande commune de médicaments pour CP v.3 (L)"]
[]
[null,"Pays",{"$f":"IF(INTRO!$E$33<>0,INTRO!$E$33,\" \")","v":"Angola"},null,null,null,"Année",{"$f":"IF(INTRO!$E$35<>0,INTRO!$E$35,\" \")","v":2019}]
[]
[null,"Informations sur l'envoi et le destinataire "]
[]
[null,null,"Destinataire",null,null,"Destinataire final\nsi différent du destinaire précédent"]
[null,"Nom","HERNANDO AGUDELO",null,null,"Maria Cecilia Cesar de Almeida"]
[null,"Département/Unité","Escritorio da OMS ANGOLA",null,null,"Direcção Nacional de Saude Publica "]
[null,"Organisation","OMS",null,null,"Ministerio da Saude (MINSA) de Angola"]
[null,"Téléphone","(244) 222 394153",null,null,"(244) 222 396 722"]
[null,"Fax"]
[null,"E-mail","afwcoaowr@who.int",null,null,"cecidealmeida@hotmail.com"]
[null,"Adresse postale","197. 7° Andar. Rua Major Kanhangulo, Ingombota, Luanda/Angola",null,null,"Rua Primeiro Congresso do MPLA N°67"]
[]
[null,null,"Destinataire",null,null,"Destinataire final\nsi différent du destinaire précédent"]
[null,"Nom"]
[null,"Département/Unité"]
[null,"Organisation"]
[null,"Téléphone"]
[null,"Fax"]
[null,"E-mail"]
[null,"Adresse postale"]
[]
[null,null,"Destinataire",null,null,"Destinataire final\nsi différent du destinaire précédent"]
[null,"Nom"]
[null,"Département/Unité"]
[null,"Organisation"]
[null,"Téléphone"]
[null,"Fax"]
[null,"E-mail"]
[null,"Adresse postale"]
[]
[null,"Information concernant les obligations légales d’importation"]
[]
[null,"Est le permis d'importation nécessaire?",null,null,null,null,null,"Oui"]
[null,"Combien de temps cela prend-il pour obtenir le permis d’importation?",null,null,null,null,2,"Semaines"]
[null,"Avez vous besoin que certains documents soient remis en même temps que la demande de permis d’importation?",null,null,null,null,null,"Oui"]
[null,"Si oui, merci de bien vouloir spécifier lesquels ici"]
[null,"Est-ce que le destinataire doit procéder au dédouanement avant que l’expédition puisse avoir lieu?",null,null,null,null,null,"Oui"]
[null,"Y a-t-il des informations supplémentaires qui pourraient être utiles afin d’assurer un dédouanement et une livraison rapide des médicaments dans votre pays?",null,null,null,null,null,"Oui"]
[null,"Si oui, merci de bien vouloir spécifier lesquels ici"]
[]
[]
[null,"Remarques supplémentaires éventuelles liées à cette requête"]
[]
[null,"ALB for LF is not requested because the amount available at stock is sufficient for both - LF and STH."]