{"text_format":"1","workbook":"xlsx","n_sheets":13,"sheets":["INTRO","COUNTRY_INFO","MDA1","MDA4","MDA3","T1","T2","T3_R1","T3_R2","DISTRICT","SUMMARY","PROFILE","DATA_POLICY"],"not_rendered":{"charts":8,"images":3,"macros":1,"external_links":0,"defined_names":10,"comments":12,"pivot_tables":0},"unopened":[],"bounds":{"document_bytes":16777216,"sheet_cells":100000,"rows_first":2000,"rows_last":500,"rows_between":2000,"halvings":0,"cell_chars":16384,"cell_head_chars":4096},"cells_cut":0,"cells_raw":0,"read":"whole","date_system":"1900"}

{"sheet":"INTRO","index":0,"n_rows":50,"n_cols":5,"rows_kept":50,"cut":false,"hidden":false,"merged":[[0,2,0,4],[7,2,7,4],[8,2,8,4],[1,1,1,4],[2,1,2,4],[3,1,3,4],[4,1,4,4],[5,1,5,4],[9,2,9,4],[11,2,11,4],[12,1,12,4],[13,1,13,4],[14,1,14,4],[22,1,22,4],[23,2,24,4],[25,1,25,4],[15,1,15,4],[16,1,16,4],[17,1,17,4],[18,1,18,4],[19,2,19,4],[45,1,45,2],[10,2,10,4],[41,1,41,2],[43,1,43,2],[46,1,46,4],[33,1,33,2],[35,1,35,2],[26,2,27,4],[37,1,37,2],[39,1,39,2],[28,1,28,4],[29,2,29,4],[30,1,30,4],[31,1,31,4],[20,1,20,4],[21,2,21,4]]}
[null,null,"The current version should be used in countries endemic for Loasis"]
[null,"PC Joint Reporting Form v.3.1 (L)"]
[]
[null,"The purpose of this template Joint Reporting Form (JRF) - available as an Excel file - is to provide national health authorities and data managers with a standardized tool to address these reporting challenges, facilitate  integration and thereby further contribute to improving overall programme management. This template aims to standardize national reporting of programme implementation outcomes, improve availability and coordination of preventive chemotherapy data across the World Health Organization regions. \nNational authorities are requested to complete this form for submission to the World Health Organization any time before 15 August of the current year for reporting data on PC interventions implemented during the previous year."]
[]
[null,"Structure of the application (worksheets):"]
[]
[null,"INTRO","This worksheet includes guides on how to complete the joint reporting form and information about status of PC for endemic diseases in the country"]
[null,"COUNTRY_INFO","This worksheet includes information about administrative structure of the country, population by age group, status of endemicity for each disease, population requiring PC, planned interventions and interventions implemented"]
[null,"MDA1, MDA4, MDA3, T1, T2 and T3","These worksheets include information about endemic districts targeted for treatment with specified PC medicines, treatment plan, and number of people who received treatment by age group"]
[null,"DISTRICT","This worksheet includes summary of people treated by disease at the level of implementation. If data by gender is available, it requires to enter."]
[null,"SUMMARY","This worksheet includes summary of people treated by disease and by PC intervention. Before generating the report (run macros) please select the disease for which you need the report. Follow the same rule to generate various reports.\nThis worksheet should be printed and submitted as a Joint Report (see the instruction for submission in the SUMMARY worksheet)."]
[]
[null,"Instruction for data entry"]
[]
[null,"Most of the cells in the above-mentioned worksheets include formula that are calculated automatically according to the treatment policy recommended by WHO for each disease.\nSee the link http://www.who.int/neglected_diseases/preventive_chemotherapy/pct_manual/en/index.html"]
[]
[null,"Please enter your data into the cells according to their colour code:"]
[]
[null,null,"White - cell is not protected. Please enter the value of the requested indicator."]
[]
[null,null,"Yellow - cell is protected and includes name of indicator. No data entry required."]
[]
[null,null,"Orange - cell is not protected and includes a drop-down menu. Please select the value from the drop-down list."]
[]
[]
[null,null,"Green - cell is not protected and includes formula. Please change the value only if your data are different from those that are calculated automatically."]
[]
[]
[null,null,"Blue - cell is protected and includes formula. No data entry required."]
[]
[null,"Country data"]
[]
[null,"COUNTRY",null,null,"Angola"]
[]
[null,"Year of reporting data",null,null,2018]
[]
[null,"Is country endemic for lymphatic filariasis (LF)?",null,null,"Endemic"]
[]
[null,"Is country endemic for onchocerciasis (ONCHO)?",null,null,"Endemic"]
[]
[null,"Is country endemic for soil-transmitted helminthiases (STH)?",null,null,"Endemic"]
[]
[null,"Is country endemic for schistosomiasis (SCH)?",null,null,"Endemic"]
[]
[null,"How many administrative units in the country?",null,null,164]
[null,"If demographical data at the second administrative level are not available by age group, please enter the proportion (%) of population by age group in the country. If data are available, please leave these cells blank."]
[null,"1-4 years age","Preschool-age children (PreSAC)",null,0.16]
[null,"5-14 years age","School-age children (SAC)",null,0.27900000000000003]
[null,"15 years +","Adults",null,0.52700000000000002]

{"sheet":"COUNTRY_INFO","index":1,"n_rows":189,"n_cols":46,"rows_kept":189,"cut":false,"hidden":false,"merged":[[3,0,3,2],[3,7,3,11],[3,20,3,21],[5,0,5,2],[3,16,3,19],[5,16,5,19],[5,3,5,6],[5,7,5,11],[5,12,5,15],[5,20,5,21]]}
["COUNTRY INFORMATION"]
["Administrative structure, population by age group, endemicity status, planned interventions and interventions implemented"]
[]
["TOTAL",null,null,{"$f":"SUM(D$9:D$1000)","v":31574739.831343882},{"$f":"SUM(E$9:E$1000)","v":5051954},{"$f":"SUM(F$9:F$1000)","v":8809349},{"$f":"SUM(G$9:G$1000)","v":16639888},null,null,null,null,null,{"$f":"SUM(M$9:M$1000)","v":2458994.613541604},{"$f":"SUM(N$9:N$1000)","v":5932675.5675151739},{"$f":"SUM(O$9:O$1000)","v":13101317},{"$f":"SUM(P$9:P$1000)","v":7602968.2699999968}]
[]
["Country administrative structure",null,null,"Population",null,null,null,"Endemicity",null,null,null,null,"Population requiring PC",null,null,null,"Number of treatment\nrounds planned for the year",null,null,null,"PC implemented",null,null,null,null,null,"PZQ Nombre de personnes traitées"]
["Country","Province/State","District","Total","PreSAC","SAC","Adults","LF","Oncho","STH","SCH","Loa","LF","Oncho","STH","SCH","LF","Oncho","STH","SCH","ROUND 1","ROUND2","IU_ID","IU_Name","x",2017,2018,2019,null,null,null,null,"x","x","x","x","x","x","x","x","x","x","x","x","x","x"]
[]
[{"$f":"IF(INTRO!$E$34<>0,INTRO!$E$34,\"\")","v":"Angola"},"BENGO","AMBRIZ",26648.823541393216,{"$f":"IF(INTRO!$E$48=\"\",\"\",ROUND($D9*INTRO!$E$48,0))","v":4264},{"$f":"IF(INTRO!$E$49=\"\",\"\",ROUND($D9*INTRO!$E$49,0))","v":7435},{"$f":"IF(INTRO!$E$50=\"\",\"\",ROUND($D9*INTRO!$E$50,0))","v":14044},0,4,3,2,1,{"$f":"IF(INTRO!$E$38=\"Endemic\", IF($H9>0, IF($H9=4,\"Unknown\", IF($H9=99,\"Stopped\", $D9)), 0),\"Not required\")","v":0},{"$f":"IF(INTRO!$E$40=\"Endemic\", IF($I9>0, IF($I9=4,\"Unknown\",IF($I9=99,\"Stopped\", $D9)), 0),\"Not required\")","v":"Unknown"},{"$f":"IF(INTRO!$E$42=\"Endemic\", IF(AND($J9>1,$J9<5), IF($J9=4, \"Unknown\", E9+F9), 0),\"Not required\")","v":11699},{"$f":"IF(INTRO!$E$44=\"Endemic\", IF(AND($K9>0,$K9<5), IF($K9=4,\"Unknown\", IF($K9=1, $F9*0.33, IF($K9=2, $F9*0.5+$G9*0.2, SUM(F9:G9)))), 0),\"Not required\")","v":6526.3},0,0,0,0,null,null,2049,"AMBRIZ",null,2063,0,5683]
[{"$f":"IF(INTRO!$E$34<>0,INTRO!$E$34,\"\")","v":"Angola"},"BENGO","BULA ATUMBA",15786.072205261724,{"$f":"IF(INTRO!$E$48=\"\",\"\",ROUND($D10*INTRO!$E$48,0))","v":2526},{"$f":"IF(INTRO!$E$49=\"\",\"\",ROUND($D10*INTRO!$E$49,0))","v":4404},{"$f":"IF(INTRO!$E$50=\"\",\"\",ROUND($D10*INTRO!$E$50,0))","v":8319},0,4,3,2,1,{"$f":"IF(INTRO!$E$38=\"Endemic\", IF($H10>0, IF($H10=4,\"Unknown\", IF($H10=99,\"Stopped\", $D10)), 0),\"Not required\")","v":0},{"$f":"IF(INTRO!$E$40=\"Endemic\", IF($I10>0, IF($I10=4,\"Unknown\",IF($I10=99,\"Stopped\", $D10)), 0),\"Not required\")","v":"Unknown"},{"$f":"IF(INTRO!$E$42=\"Endemic\", IF(AND($J10>1,$J10<5), IF($J10=4, \"Unknown\", E10+F10), 0),\"Not required\")","v":6930},{"$f":"IF(INTRO!$E$44=\"Endemic\", IF(AND($K10>0,$K10<5), IF($K10=4,\"Unknown\", IF($K10=1, $F10*0.33, IF($K10=2, $F10*0.5+$G10*0.2, SUM(F10:G10)))), 0),\"Not required\")","v":3865.8},0,0,0,0,null,null,2088,"BULA ATUMBA",null,1496,0,0]
[{"$f":"IF(INTRO!$E$34<>0,INTRO!$E$34,\"\")","v":"Angola"},"BENGO","DANDE",261100.27320443597,{"$f":"IF(INTRO!$E$48=\"\",\"\",ROUND($D11*INTRO!$E$48,0))","v":41776},{"$f":"IF(INTRO!$E$49=\"\",\"\",ROUND($D11*INTRO!$E$49,0))","v":72847},{"$f":"IF(INTRO!$E$50=\"\",\"\",ROUND($D11*INTRO!$E$50,0))","v":137600},0,4,3,2,1,{"$f":"IF(INTRO!$E$38=\"Endemic\", IF($H11>0, IF($H11=4,\"Unknown\", IF($H11=99,\"Stopped\", $D11)), 0),\"Not required\")","v":0},{"$f":"IF(INTRO!$E$40=\"Endemic\", IF($I11>0, IF($I11=4,\"Unknown\",IF($I11=99,\"Stopped\", $D11)), 0),\"Not required\")","v":"Unknown"},{"$f":"IF(INTRO!$E$42=\"Endemic\", IF(AND($J11>1,$J11<5), IF($J11=4, \"Unknown\", E11+F11), 0),\"Not required\")","v":114623},{"$f":"IF(INTRO!$E$44=\"Endemic\", IF(AND($K11>0,$K11<5), IF($K11=4,\"Unknown\", IF($K11=1, $F11*0.33, IF($K11=2, $F11*0.5+$G11*0.2, SUM(F11:G11)))), 0),\"Not required\")","v":63943.5},0,0,0,0,null,null,2050,"DANDE",null,88000,0,16448]
[{"$f":"IF(INTRO!$E$34<>0,INTRO!$E$34,\"\")","v":"Angola"},"BENGO","DEMBOS",35268.155072525413,{"$f":"IF(INTRO!$E$48=\"\",\"\",ROUND($D12*INTRO!$E$48,0))","v":5643},{"$f":"IF(INTRO!$E$49=\"\",\"\",ROUND($D12*INTRO!$E$49,0))","v":9840},{"$f":"IF(INTRO!$E$50=\"\",\"\",ROUND($D12*INTRO!$E$50,0))","v":18586},0,4,3,2,1,{"$f":"IF(INTRO!$E$38=\"Endemic\", IF($H12>0, IF($H12=4,\"Unknown\", IF($H12=99,\"Stopped\", $D12)), 0),\"Not required\")","v":0},{"$f":"IF(INTRO!$E$40=\"Endemic\", IF($I12>0, IF($I12=4,\"Unknown\",IF($I12=99,\"Stopped\", $D12)), 0),\"Not required\")","v":"Unknown"},{"$f":"IF(INTRO!$E$42=\"Endemic\", IF(AND($J12>1,$J12<5), IF($J12=4, \"Unknown\", E12+F12), 0),\"Not required\")","v":15483},{"$f":"IF(INTRO!$E$44=\"Endemic\", IF(AND($K12>0,$K12<5), IF($K12=4,\"Unknown\", IF($K12=1, $F12*0.33, IF($K12=2, $F12*0.5+$G12*0.2, SUM(F12:G12)))), 0),\"Not required\")","v":8637.2000000000007},0,0,0,0,null,null,2089,"DEMBOS",null,4837,0,0]
[{"$f":"IF(INTRO!$E$34<>0,INTRO!$E$34,\"\")","v":"Angola"},"BENGO","NAMBUANGONGO",71436.259407830352,{"$f":"IF(INTRO!$E$48=\"\",\"\",ROUND($D13*INTRO!$E$48,0))","v":11430},{"$f":"IF(INTRO!$E$49=\"\",\"\",ROUND($D13*INTRO!$E$49,0))","v":19931},{"$f":"IF(INTRO!$E$50=\"\",\"\",ROUND($D13*INTRO!$E$50,0))","v":37647},1,4,3,2,1,{"$f":"IF(INTRO!$E$38=\"Endemic\", IF($H13>0, IF($H13=4,\"Unknown\", IF($H13=99,\"Stopped\", $D13)), 0),\"Not required\")","v":71436.259407830352},{"$f":"IF(INTRO!$E$40=\"Endemic\", IF($I13>0, IF($I13=4,\"Unknown\",IF($I13=99,\"Stopped\", $D13)), 0),\"Not required\")","v":"Unknown"},{"$f":"IF(INTRO!$E$42=\"Endemic\", IF(AND($J13>1,$J13<5), IF($J13=4, \"Unknown\", E13+F13), 0),\"Not required\")","v":31361},{"$f":"IF(INTRO!$E$44=\"Endemic\", IF(AND($K13>0,$K13<5), IF($K13=4,\"Unknown\", IF($K13=1, $F13*0.33, IF($K13=2, $F13*0.5+$G13*0.2, SUM(F13:G13)))), 0),\"Not required\")","v":17494.900000000001},0,0,0,0,null,null,2053,"NAMBUANGONGO",null,5478,0,0]
[{"$f":"IF(INTRO!$E$34<>0,INTRO!$E$34,\"\")","v":"Angola"},"BENGO","PANGO ALUQUEM",8220.3970469796077,{"$f":"IF(INTRO!$E$48=\"\",\"\",ROUND($D14*INTRO!$E$48,0))","v":1315},{"$f":"IF(INTRO!$E$49=\"\",\"\",ROUND($D14*INTRO!$E$49,0))","v":2293},{"$f":"IF(INTRO!$E$50=\"\",\"\",ROUND($D14*INTRO!$E$50,0))","v":4332},0,4,3,2,1,{"$f":"IF(INTRO!$E$38=\"Endemic\", IF($H14>0, IF($H14=4,\"Unknown\", IF($H14=99,\"Stopped\", $D14)), 0),\"Not required\")","v":0},{"$f":"IF(INTRO!$E$40=\"Endemic\", IF($I14>0, IF($I14=4,\"Unknown\",IF($I14=99,\"Stopped\", $D14)), 0),\"Not required\")","v":"Unknown"},{"$f":"IF(INTRO!$E$42=\"Endemic\", IF(AND($J14>1,$J14<5), IF($J14=4, \"Unknown\", E14+F14), 0),\"Not required\")","v":3608},{"$f":"IF(INTRO!$E$44=\"Endemic\", IF(AND($K14>0,$K14<5), IF($K14=4,\"Unknown\", IF($K14=1, $F14*0.33, IF($K14=2, $F14*0.5+$G14*0.2, SUM(F14:G14)))), 0),\"Not required\")","v":2012.9},0,0,0,0,null,null,2096,"PANGO ALUQUEM",null,1341,0,1965]
[{"$f":"IF(INTRO!$E$34<>0,INTRO!$E$34,\"\")","v":"Angola"},"BENGUELA","BAIA FARTA",126533.80501617583,{"$f":"IF(INTRO!$E$48=\"\",\"\",ROUND($D15*INTRO!$E$48,0))","v":20245},{"$f":"IF(INTRO!$E$49=\"\",\"\",ROUND($D15*INTRO!$E$49,0))","v":35303},{"$f":"IF(INTRO!$E$50=\"\",\"\",ROUND($D15*INTRO!$E$50,0))","v":66683},0,4,2,2,4,{"$f":"IF(INTRO!$E$38=\"Endemic\", IF($H15>0, IF($H15=4,\"Unknown\", IF($H15=99,\"Stopped\", $D15)), 0),\"Not required\")","v":0},{"$f":"IF(INTRO!$E$40=\"Endemic\", IF($I15>0, IF($I15=4,\"Unknown\",IF($I15=99,\"Stopped\", $D15)), 0),\"Not required\")","v":"Unknown"},{"$f":"IF(INTRO!$E$42=\"Endemic\", IF(AND($J15>1,$J15<5), IF($J15=4, \"Unknown\", E15+F15), 0),\"Not required\")","v":55548},{"$f":"IF(INTRO!$E$44=\"Endemic\", IF(AND($K15>0,$K15<5), IF($K15=4,\"Unknown\", IF($K15=1, $F15*0.33, IF($K15=2, $F15*0.5+$G15*0.2, SUM(F15:G15)))), 0),\"Not required\")","v":30988.1},0,0,0,0,null,null,2054,"BAIA FARTA",null,9928,35002,0]
[{"$f":"IF(INTRO!$E$34<>0,INTRO!$E$34,\"\")","v":"Angola"},"BENGUELA","BALOMBO",127852.63548731559,{"$f":"IF(INTRO!$E$48=\"\",\"\",ROUND($D16*INTRO!$E$48,0))","v":20456},{"$f":"IF(INTRO!$E$49=\"\",\"\",ROUND($D16*INTRO!$E$49,0))","v":35671},{"$f":"IF(INTRO!$E$50=\"\",\"\",ROUND($D16*INTRO!$E$50,0))","v":67378},0,4,2,2,1,{"$f":"IF(INTRO!$E$38=\"Endemic\", IF($H16>0, IF($H16=4,\"Unknown\", IF($H16=99,\"Stopped\", $D16)), 0),\"Not required\")","v":0},{"$f":"IF(INTRO!$E$40=\"Endemic\", IF($I16>0, IF($I16=4,\"Unknown\",IF($I16=99,\"Stopped\", $D16)), 0),\"Not required\")","v":"Unknown"},{"$f":"IF(INTRO!$E$42=\"Endemic\", IF(AND($J16>1,$J16<5), IF($J16=4, \"Unknown\", E16+F16), 0),\"Not required\")","v":56127},{"$f":"IF(INTRO!$E$44=\"Endemic\", IF(AND($K16>0,$K16<5), IF($K16=4,\"Unknown\", IF($K16=1, $F16*0.33, IF($K16=2, $F16*0.5+$G16*0.2, SUM(F16:G16)))), 0),\"Not required\")","v":31311.1},0,0,0,0,null,null,2055,"BALOMBO",null,35680,40200,0]
[{"$f":"IF(INTRO!$E$34<>0,INTRO!$E$34,\"\")","v":"Angola"},"BENGUELA","BENGUELA",659151.23480830283,{"$f":"IF(INTRO!$E$48=\"\",\"\",ROUND($D17*INTRO!$E$48,0))","v":105464},{"$f":"IF(INTRO!$E$49=\"\",\"\",ROUND($D17*INTRO!$E$49,0))","v":183903},{"$f":"IF(INTRO!$E$50=\"\",\"\",ROUND($D17*INTRO!$E$50,0))","v":347373},0,4,2,2,4,{"$f":"IF(INTRO!$E$38=\"Endemic\", IF($H17>0, IF($H17=4,\"Unknown\", IF($H17=99,\"Stopped\", $D17)), 0),\"Not required\")","v":0},{"$f":"IF(INTRO!$E$40=\"Endemic\", IF($I17>0, IF($I17=4,\"Unknown\",IF($I17=99,\"Stopped\", $D17)), 0),\"Not required\")","v":"Unknown"},{"$f":"IF(INTRO!$E$42=\"Endemic\", IF(AND($J17>1,$J17<5), IF($J17=4, \"Unknown\", E17+F17), 0),\"Not required\")","v":289367},{"$f":"IF(INTRO!$E$44=\"Endemic\", IF(AND($K17>0,$K17<5), IF($K17=4,\"Unknown\", IF($K17=1, $F17*0.33, IF($K17=2, $F17*0.5+$G17*0.2, SUM(F17:G17)))), 0),\"Not required\")","v":161426.1},0,0,0,0,null,null,2056,"BENGUELA",null,6407,35001,0]
[{"$f":"IF(INTRO!$E$34<>0,INTRO!$E$34,\"\")","v":"Angola"},"BENGUELA","BOCOIO",193230.95741961701,{"$f":"IF(INTRO!$E$48=\"\",\"\",ROUND($D18*INTRO!$E$48,0))","v":30917},{"$f":"IF(INTRO!$E$49=\"\",\"\",ROUND($D18*INTRO!$E$49,0))","v":53911},{"$f":"IF(INTRO!$E$50=\"\",\"\",ROUND($D18*INTRO!$E$50,0))","v":101833},0,4,2,2,1,{"$f":"IF(INTRO!$E$38=\"Endemic\", IF($H18>0, IF($H18=4,\"Unknown\", IF($H18=99,\"Stopped\", $D18)), 0),\"Not required\")","v":0},{"$f":"IF(INTRO!$E$40=\"Endemic\", IF($I18>0, IF($I18=4,\"Unknown\",IF($I18=99,\"Stopped\", $D18)), 0),\"Not required\")","v":"Unknown"},{"$f":"IF(INTRO!$E$42=\"Endemic\", IF(AND($J18>1,$J18<5), IF($J18=4, \"Unknown\", E18+F18), 0),\"Not required\")","v":84828},{"$f":"IF(INTRO!$E$44=\"Endemic\", IF(AND($K18>0,$K18<5), IF($K18=4,\"Unknown\", IF($K18=1, $F18*0.33, IF($K18=2, $F18*0.5+$G18*0.2, SUM(F18:G18)))), 0),\"Not required\")","v":47322.100000000006},0,0,0,0,null,null,2057,"BOCOIO",null,21080,34999,0]
[{"$f":"IF(INTRO!$E$34<>0,INTRO!$E$34,\"\")","v":"Angola"},"BENGUELA","CAIMBAMBO",106583.56079839189,{"$f":"IF(INTRO!$E$48=\"\",\"\",ROUND($D19*INTRO!$E$48,0))","v":17053},{"$f":"IF(INTRO!$E$49=\"\",\"\",ROUND($D19*INTRO!$E$49,0))","v":29737},{"$f":"IF(INTRO!$E$50=\"\",\"\",ROUND($D19*INTRO!$E$50,0))","v":56170},0,4,2,2,4,{"$f":"IF(INTRO!$E$38=\"Endemic\", IF($H19>0, IF($H19=4,\"Unknown\", IF($H19=99,\"Stopped\", $D19)), 0),\"Not required\")","v":0},{"$f":"IF(INTRO!$E$40=\"Endemic\", IF($I19>0, IF($I19=4,\"Unknown\",IF($I19=99,\"Stopped\", $D19)), 0),\"Not required\")","v":"Unknown"},{"$f":"IF(INTRO!$E$42=\"Endemic\", IF(AND($J19>1,$J19<5), IF($J19=4, \"Unknown\", E19+F19), 0),\"Not required\")","v":46790},{"$f":"IF(INTRO!$E$44=\"Endemic\", IF(AND($K19>0,$K19<5), IF($K19=4,\"Unknown\", IF($K19=1, $F19*0.33, IF($K19=2, $F19*0.5+$G19*0.2, SUM(F19:G19)))), 0),\"Not required\")","v":26102.5},0,0,0,0,null,null,2061,"CAIMBAMBO",null,27726,35300,0]
[{"$f":"IF(INTRO!$E$34<>0,INTRO!$E$34,\"\")","v":"Angola"},"BENGUELA","CATUMBELA",206278.46172484301,{"$f":"IF(INTRO!$E$48=\"\",\"\",ROUND($D20*INTRO!$E$48,0))","v":33005},{"$f":"IF(INTRO!$E$49=\"\",\"\",ROUND($D20*INTRO!$E$49,0))","v":57552},{"$f":"IF(INTRO!$E$50=\"\",\"\",ROUND($D20*INTRO!$E$50,0))","v":108709},0,4,2,2,4,{"$f":"IF(INTRO!$E$38=\"Endemic\", IF($H20>0, IF($H20=4,\"Unknown\", IF($H20=99,\"Stopped\", $D20)), 0),\"Not required\")","v":0},{"$f":"IF(INTRO!$E$40=\"Endemic\", IF($I20>0, IF($I20=4,\"Unknown\",IF($I20=99,\"Stopped\", $D20)), 0),\"Not required\")","v":"Unknown"},{"$f":"IF(INTRO!$E$42=\"Endemic\", IF(AND($J20>1,$J20<5), IF($J20=4, \"Unknown\", E20+F20), 0),\"Not required\")","v":90557},{"$f":"IF(INTRO!$E$44=\"Endemic\", IF(AND($K20>0,$K20<5), IF($K20=4,\"Unknown\", IF($K20=1, $F20*0.33, IF($K20=2, $F20*0.5+$G20*0.2, SUM(F20:G20)))), 0),\"Not required\")","v":50517.8},0,0,0,0,null,null,2216,"CATUMBELA",null,27972,34899,0]
[{"$f":"IF(INTRO!$E$34<>0,INTRO!$E$34,\"\")","v":"Angola"},"BENGUELA","CHONGOROI",102406.48208197062,{"$f":"IF(INTRO!$E$48=\"\",\"\",ROUND($D21*INTRO!$E$48,0))","v":16385},{"$f":"IF(INTRO!$E$49=\"\",\"\",ROUND($D21*INTRO!$E$49,0))","v":28571},{"$f":"IF(INTRO!$E$50=\"\",\"\",ROUND($D21*INTRO!$E$50,0))","v":53968},0,4,2,2,4,{"$f":"IF(INTRO!$E$38=\"Endemic\", IF($H21>0, IF($H21=4,\"Unknown\", IF($H21=99,\"Stopped\", $D21)), 0),\"Not required\")","v":0},{"$f":"IF(INTRO!$E$40=\"Endemic\", IF($I21>0, IF($I21=4,\"Unknown\",IF($I21=99,\"Stopped\", $D21)), 0),\"Not required\")","v":"Unknown"},{"$f":"IF(INTRO!$E$42=\"Endemic\", IF(AND($J21>1,$J21<5), IF($J21=4, \"Unknown\", E21+F21), 0),\"Not required\")","v":44956},{"$f":"IF(INTRO!$E$44=\"Endemic\", IF(AND($K21>0,$K21<5), IF($K21=4,\"Unknown\", IF($K21=1, $F21*0.33, IF($K21=2, $F21*0.5+$G21*0.2, SUM(F21:G21)))), 0),\"Not required\")","v":25079.1},0,0,0,0,null,null,2058,"CHONGOROI",null,732,33100,0]
[{"$f":"IF(INTRO!$E$34<>0,INTRO!$E$34,\"\")","v":"Angola"},"BENGUELA","CUBAL",358609.24782507442,{"$f":"IF(INTRO!$E$48=\"\",\"\",ROUND($D22*INTRO!$E$48,0))","v":57377},{"$f":"IF(INTRO!$E$49=\"\",\"\",ROUND($D22*INTRO!$E$49,0))","v":100052},{"$f":"IF(INTRO!$E$50=\"\",\"\",ROUND($D22*INTRO!$E$50,0))","v":188987},0,4,2,2,4,{"$f":"IF(INTRO!$E$38=\"Endemic\", IF($H22>0, IF($H22=4,\"Unknown\", IF($H22=99,\"Stopped\", $D22)), 0),\"Not required\")","v":0},{"$f":"IF(INTRO!$E$40=\"Endemic\", IF($I22>0, IF($I22=4,\"Unknown\",IF($I22=99,\"Stopped\", $D22)), 0),\"Not required\")","v":"Unknown"},{"$f":"IF(INTRO!$E$42=\"Endemic\", IF(AND($J22>1,$J22<5), IF($J22=4, \"Unknown\", E22+F22), 0),\"Not required\")","v":157429},{"$f":"IF(INTRO!$E$44=\"Endemic\", IF(AND($K22>0,$K22<5), IF($K22=4,\"Unknown\", IF($K22=1, $F22*0.33, IF($K22=2, $F22*0.5+$G22*0.2, SUM(F22:G22)))), 0),\"Not required\")","v":87823.4},0,0,0,0,null,null,2059,"CUBAL",null,20096,35800,0]
[{"$f":"IF(INTRO!$E$34<>0,INTRO!$E$34,\"\")","v":"Angola"},"BENGUELA","GANDA",276304.37039752206,{"$f":"IF(INTRO!$E$48=\"\",\"\",ROUND($D23*INTRO!$E$48,0))","v":44209},{"$f":"IF(INTRO!$E$49=\"\",\"\",ROUND($D23*INTRO!$E$49,0))","v":77089},{"$f":"IF(INTRO!$E$50=\"\",\"\",ROUND($D23*INTRO!$E$50,0))","v":145612},0,4,2,2,4,{"$f":"IF(INTRO!$E$38=\"Endemic\", IF($H23>0, IF($H23=4,\"Unknown\", IF($H23=99,\"Stopped\", $D23)), 0),\"Not required\")","v":0},{"$f":"IF(INTRO!$E$40=\"Endemic\", IF($I23>0, IF($I23=4,\"Unknown\",IF($I23=99,\"Stopped\", $D23)), 0),\"Not required\")","v":"Unknown"},{"$f":"IF(INTRO!$E$42=\"Endemic\", IF(AND($J23>1,$J23<5), IF($J23=4, \"Unknown\", E23+F23), 0),\"Not required\")","v":121298},{"$f":"IF(INTRO!$E$44=\"Endemic\", IF(AND($K23>0,$K23<5), IF($K23=4,\"Unknown\", IF($K23=1, $F23*0.33, IF($K23=2, $F23*0.5+$G23*0.2, SUM(F23:G23)))), 0),\"Not required\")","v":67666.899999999994},0,0,0,0,null,null,2060,"GANDA",null,5598,39900,0]
[{"$f":"IF(INTRO!$E$34<>0,INTRO!$E$34,\"\")","v":"Angola"},"BENGUELA","LOBITO",461214.02381240326,{"$f":"IF(INTRO!$E$48=\"\",\"\",ROUND($D24*INTRO!$E$48,0))","v":73794},{"$f":"IF(INTRO!$E$49=\"\",\"\",ROUND($D24*INTRO!$E$49,0))","v":128679},{"$f":"IF(INTRO!$E$50=\"\",\"\",ROUND($D24*INTRO!$E$50,0))","v":243060},1,4,2,2,1,{"$f":"IF(INTRO!$E$38=\"Endemic\", IF($H24>0, IF($H24=4,\"Unknown\", IF($H24=99,\"Stopped\", $D24)), 0),\"Not required\")","v":461214.02381240326},{"$f":"IF(INTRO!$E$40=\"Endemic\", IF($I24>0, IF($I24=4,\"Unknown\",IF($I24=99,\"Stopped\", $D24)), 0),\"Not required\")","v":"Unknown"},{"$f":"IF(INTRO!$E$42=\"Endemic\", IF(AND($J24>1,$J24<5), IF($J24=4, \"Unknown\", E24+F24), 0),\"Not required\")","v":202473},{"$f":"IF(INTRO!$E$44=\"Endemic\", IF(AND($K24>0,$K24<5), IF($K24=4,\"Unknown\", IF($K24=1, $F24*0.33, IF($K24=2, $F24*0.5+$G24*0.2, SUM(F24:G24)))), 0),\"Not required\")","v":112951.5},0,0,0,0,null,null,2062,"LOBITO",null,15322,35000,0]
[{"$f":"IF(INTRO!$E$34<>0,INTRO!$E$34,\"\")","v":"Angola"},"BIE","ANDULO",302909.78048034577,{"$f":"IF(INTRO!$E$48=\"\",\"\",ROUND($D25*INTRO!$E$48,0))","v":48466},{"$f":"IF(INTRO!$E$49=\"\",\"\",ROUND($D25*INTRO!$E$49,0))","v":84512},{"$f":"IF(INTRO!$E$50=\"\",\"\",ROUND($D25*INTRO!$E$50,0))","v":159633},0,1,2,2,1,{"$f":"IF(INTRO!$E$38=\"Endemic\", IF($H25>0, IF($H25=4,\"Unknown\", IF($H25=99,\"Stopped\", $D25)), 0),\"Not required\")","v":0},{"$f":"IF(INTRO!$E$40=\"Endemic\", IF($I25>0, IF($I25=4,\"Unknown\",IF($I25=99,\"Stopped\", $D25)), 0),\"Not required\")","v":302909.78048034577},{"$f":"IF(INTRO!$E$42=\"Endemic\", IF(AND($J25>1,$J25<5), IF($J25=4, \"Unknown\", E25+F25), 0),\"Not required\")","v":132978},{"$f":"IF(INTRO!$E$44=\"Endemic\", IF(AND($K25>0,$K25<5), IF($K25=4,\"Unknown\", IF($K25=1, $F25*0.33, IF($K25=2, $F25*0.5+$G25*0.2, SUM(F25:G25)))), 0),\"Not required\")","v":74182.600000000006},0,0,1,1,"T1 (PZQ+ALB/MBD)",null,2063,"ANDULO",null,71788,51331,62351]
[{"$f":"IF(INTRO!$E$34<>0,INTRO!$E$34,\"\")","v":"Angola"},"BIE","CAMACUPA",181782.71106115566,{"$f":"IF(INTRO!$E$48=\"\",\"\",ROUND($D26*INTRO!$E$48,0))","v":29085},{"$f":"IF(INTRO!$E$49=\"\",\"\",ROUND($D26*INTRO!$E$49,0))","v":50717},{"$f":"IF(INTRO!$E$50=\"\",\"\",ROUND($D26*INTRO!$E$50,0))","v":95799},0,1,2,2,1,{"$f":"IF(INTRO!$E$38=\"Endemic\", IF($H26>0, IF($H26=4,\"Unknown\", IF($H26=99,\"Stopped\", $D26)), 0),\"Not required\")","v":0},{"$f":"IF(INTRO!$E$40=\"Endemic\", IF($I26>0, IF($I26=4,\"Unknown\",IF($I26=99,\"Stopped\", $D26)), 0),\"Not required\")","v":181782.71106115566},{"$f":"IF(INTRO!$E$42=\"Endemic\", IF(AND($J26>1,$J26<5), IF($J26=4, \"Unknown\", E26+F26), 0),\"Not required\")","v":79802},{"$f":"IF(INTRO!$E$44=\"Endemic\", IF(AND($K26>0,$K26<5), IF($K26=4,\"Unknown\", IF($K26=1, $F26*0.33, IF($K26=2, $F26*0.5+$G26*0.2, SUM(F26:G26)))), 0),\"Not required\")","v":44518.3},0,0,1,1,"T1 (PZQ+ALB/MBD)",null,2066,"CAMACUPA",null,56800,52167,42452]
[{"$f":"IF(INTRO!$E$34<>0,INTRO!$E$34,\"\")","v":"Angola"},"BIE","CATABOLA",148580.80194919708,{"$f":"IF(INTRO!$E$48=\"\",\"\",ROUND($D27*INTRO!$E$48,0))","v":23773},{"$f":"IF(INTRO!$E$49=\"\",\"\",ROUND($D27*INTRO!$E$49,0))","v":41454},{"$f":"IF(INTRO!$E$50=\"\",\"\",ROUND($D27*INTRO!$E$50,0))","v":78302},0,1,2,2,1,{"$f":"IF(INTRO!$E$38=\"Endemic\", IF($H27>0, IF($H27=4,\"Unknown\", IF($H27=99,\"Stopped\", $D27)), 0),\"Not required\")","v":0},{"$f":"IF(INTRO!$E$40=\"Endemic\", IF($I27>0, IF($I27=4,\"Unknown\",IF($I27=99,\"Stopped\", $D27)), 0),\"Not required\")","v":148580.80194919708},{"$f":"IF(INTRO!$E$42=\"Endemic\", IF(AND($J27>1,$J27<5), IF($J27=4, \"Unknown\", E27+F27), 0),\"Not required\")","v":65227},{"$f":"IF(INTRO!$E$44=\"Endemic\", IF(AND($K27>0,$K27<5), IF($K27=4,\"Unknown\", IF($K27=1, $F27*0.33, IF($K27=2, $F27*0.5+$G27*0.2, SUM(F27:G27)))), 0),\"Not required\")","v":36387.4},0,0,1,1,"T1 (PZQ+ALB/MBD)",null,2067,"CATABOLA",null,45784,50394,30152]
[{"$f":"IF(INTRO!$E$34<>0,INTRO!$E$34,\"\")","v":"Angola"},"BIE","CHINGUAR",151794.57122006165,{"$f":"IF(INTRO!$E$48=\"\",\"\",ROUND($D28*INTRO!$E$48,0))","v":24287},{"$f":"IF(INTRO!$E$49=\"\",\"\",ROUND($D28*INTRO!$E$49,0))","v":42351},{"$f":"IF(INTRO!$E$50=\"\",\"\",ROUND($D28*INTRO!$E$50,0))","v":79996},0,1,2,2,1,{"$f":"IF(INTRO!$E$38=\"Endemic\", IF($H28>0, IF($H28=4,\"Unknown\", IF($H28=99,\"Stopped\", $D28)), 0),\"Not required\")","v":0},{"$f":"IF(INTRO!$E$40=\"Endemic\", IF($I28>0, IF($I28=4,\"Unknown\",IF($I28=99,\"Stopped\", $D28)), 0),\"Not required\")","v":151794.57122006165},{"$f":"IF(INTRO!$E$42=\"Endemic\", IF(AND($J28>1,$J28<5), IF($J28=4, \"Unknown\", E28+F28), 0),\"Not required\")","v":66638},{"$f":"IF(INTRO!$E$44=\"Endemic\", IF(AND($K28>0,$K28<5), IF($K28=4,\"Unknown\", IF($K28=1, $F28*0.33, IF($K28=2, $F28*0.5+$G28*0.2, SUM(F28:G28)))), 0),\"Not required\")","v":37174.699999999997},0,0,1,1,"T1 (PZQ+ALB/MBD)",null,2064,"CHINGUAR",null,39338,44876,42080]
[{"$f":"IF(INTRO!$E$34<>0,INTRO!$E$34,\"\")","v":"Angola"},"BIE","CHITEMBO",91703.304539500183,{"$f":"IF(INTRO!$E$48=\"\",\"\",ROUND($D29*INTRO!$E$48,0))","v":14673},{"$f":"IF(INTRO!$E$49=\"\",\"\",ROUND($D29*INTRO!$E$49,0))","v":25585},{"$f":"IF(INTRO!$E$50=\"\",\"\",ROUND($D29*INTRO!$E$50,0))","v":48328},0,4,2,2,1,{"$f":"IF(INTRO!$E$38=\"Endemic\", IF($H29>0, IF($H29=4,\"Unknown\", IF($H29=99,\"Stopped\", $D29)), 0),\"Not required\")","v":0},{"$f":"IF(INTRO!$E$40=\"Endemic\", IF($I29>0, IF($I29=4,\"Unknown\",IF($I29=99,\"Stopped\", $D29)), 0),\"Not required\")","v":"Unknown"},{"$f":"IF(INTRO!$E$42=\"Endemic\", IF(AND($J29>1,$J29<5), IF($J29=4, \"Unknown\", E29+F29), 0),\"Not required\")","v":40258},{"$f":"IF(INTRO!$E$44=\"Endemic\", IF(AND($K29>0,$K29<5), IF($K29=4,\"Unknown\", IF($K29=1, $F29*0.33, IF($K29=2, $F29*0.5+$G29*0.2, SUM(F29:G29)))), 0),\"Not required\")","v":22458.1},0,0,1,1,"T1 (PZQ+ALB/MBD)",null,2065,"CHITEMBO",null,30091,28673,29781]
[{"$f":"IF(INTRO!$E$34<>0,INTRO!$E$34,\"\")","v":"Angola"},"BIE","CUEMBA",66836.779472894588,{"$f":"IF(INTRO!$E$48=\"\",\"\",ROUND($D30*INTRO!$E$48,0))","v":10694},{"$f":"IF(INTRO!$E$49=\"\",\"\",ROUND($D30*INTRO!$E$49,0))","v":18647},{"$f":"IF(INTRO!$E$50=\"\",\"\",ROUND($D30*INTRO!$E$50,0))","v":35223},0,1,2,2,1,{"$f":"IF(INTRO!$E$38=\"Endemic\", IF($H30>0, IF($H30=4,\"Unknown\", IF($H30=99,\"Stopped\", $D30)), 0),\"Not required\")","v":0},{"$f":"IF(INTRO!$E$40=\"Endemic\", IF($I30>0, IF($I30=4,\"Unknown\",IF($I30=99,\"Stopped\", $D30)), 0),\"Not required\")","v":66836.779472894588},{"$f":"IF(INTRO!$E$42=\"Endemic\", IF(AND($J30>1,$J30<5), IF($J30=4, \"Unknown\", E30+F30), 0),\"Not required\")","v":29341},{"$f":"IF(INTRO!$E$44=\"Endemic\", IF(AND($K30>0,$K30<5), IF($K30=4,\"Unknown\", IF($K30=1, $F30*0.33, IF($K30=2, $F30*0.5+$G30*0.2, SUM(F30:G30)))), 0),\"Not required\")","v":16368.1},0,0,1,1,"T1 (PZQ+ALB/MBD)",null,2068,"CUEMBA",null,15387,12208,15289]
[{"$f":"IF(INTRO!$E$34<>0,INTRO!$E$34,\"\")","v":"Angola"},"BIE","CUITO",529035.23279178026,{"$f":"IF(INTRO!$E$48=\"\",\"\",ROUND($D31*INTRO!$E$48,0))","v":84646},{"$f":"IF(INTRO!$E$49=\"\",\"\",ROUND($D31*INTRO!$E$49,0))","v":147601},{"$f":"IF(INTRO!$E$50=\"\",\"\",ROUND($D31*INTRO!$E$50,0))","v":278802},0,1,2,2,1,{"$f":"IF(INTRO!$E$38=\"Endemic\", IF($H31>0, IF($H31=4,\"Unknown\", IF($H31=99,\"Stopped\", $D31)), 0),\"Not required\")","v":0},{"$f":"IF(INTRO!$E$40=\"Endemic\", IF($I31>0, IF($I31=4,\"Unknown\",IF($I31=99,\"Stopped\", $D31)), 0),\"Not required\")","v":529035.23279178026},{"$f":"IF(INTRO!$E$42=\"Endemic\", IF(AND($J31>1,$J31<5), IF($J31=4, \"Unknown\", E31+F31), 0),\"Not required\")","v":232247},{"$f":"IF(INTRO!$E$44=\"Endemic\", IF(AND($K31>0,$K31<5), IF($K31=4,\"Unknown\", IF($K31=1, $F31*0.33, IF($K31=2, $F31*0.5+$G31*0.2, SUM(F31:G31)))), 0),\"Not required\")","v":129560.9},0,0,1,1,"T1 (PZQ+ALB/MBD)",null,2070,"CUNHINGA",null,38497,29844,31210]
[{"$f":"IF(INTRO!$E$34<>0,INTRO!$E$34,\"\")","v":"Angola"},"BIE","CUNHINGA",86622.756550145117,{"$f":"IF(INTRO!$E$48=\"\",\"\",ROUND($D32*INTRO!$E$48,0))","v":13860},{"$f":"IF(INTRO!$E$49=\"\",\"\",ROUND($D32*INTRO!$E$49,0))","v":24168},{"$f":"IF(INTRO!$E$50=\"\",\"\",ROUND($D32*INTRO!$E$50,0))","v":45650},0,1,2,2,1,{"$f":"IF(INTRO!$E$38=\"Endemic\", IF($H32>0, IF($H32=4,\"Unknown\", IF($H32=99,\"Stopped\", $D32)), 0),\"Not required\")","v":0},{"$f":"IF(INTRO!$E$40=\"Endemic\", IF($I32>0, IF($I32=4,\"Unknown\",IF($I32=99,\"Stopped\", $D32)), 0),\"Not required\")","v":86622.756550145117},{"$f":"IF(INTRO!$E$42=\"Endemic\", IF(AND($J32>1,$J32<5), IF($J32=4, \"Unknown\", E32+F32), 0),\"Not required\")","v":38028},{"$f":"IF(INTRO!$E$44=\"Endemic\", IF(AND($K32>0,$K32<5), IF($K32=4,\"Unknown\", IF($K32=1, $F32*0.33, IF($K32=2, $F32*0.5+$G32*0.2, SUM(F32:G32)))), 0),\"Not required\")","v":21214},0,0,1,1,"T1 (PZQ+ALB/MBD)",null,2069,"KUITO",null,125000,122485,134210]
[{"$f":"IF(INTRO!$E$34<>0,INTRO!$E$34,\"\")","v":"Angola"},"BIE","NHAREA",148238.18762751311,{"$f":"IF(INTRO!$E$48=\"\",\"\",ROUND($D33*INTRO!$E$48,0))","v":23718},{"$f":"IF(INTRO!$E$49=\"\",\"\",ROUND($D33*INTRO!$E$49,0))","v":41358},{"$f":"IF(INTRO!$E$50=\"\",\"\",ROUND($D33*INTRO!$E$50,0))","v":78122},0,1,2,2,1,{"$f":"IF(INTRO!$E$38=\"Endemic\", IF($H33>0, IF($H33=4,\"Unknown\", IF($H33=99,\"Stopped\", $D33)), 0),\"Not required\")","v":0},{"$f":"IF(INTRO!$E$40=\"Endemic\", IF($I33>0, IF($I33=4,\"Unknown\",IF($I33=99,\"Stopped\", $D33)), 0),\"Not required\")","v":148238.18762751311},{"$f":"IF(INTRO!$E$42=\"Endemic\", IF(AND($J33>1,$J33<5), IF($J33=4, \"Unknown\", E33+F33), 0),\"Not required\")","v":65076},{"$f":"IF(INTRO!$E$44=\"Endemic\", IF(AND($K33>0,$K33<5), IF($K33=4,\"Unknown\", IF($K33=1, $F33*0.33, IF($K33=2, $F33*0.5+$G33*0.2, SUM(F33:G33)))), 0),\"Not required\")","v":36303.4},0,0,1,1,"T1 (PZQ+ALB/MBD)",null,2071,"NHAREA",null,34498,25964,29655]
[{"$f":"IF(INTRO!$E$34<>0,INTRO!$E$34,\"\")","v":"Angola"},"CABINDA","BELIZE",22951.639542673154,{"$f":"IF(INTRO!$E$48=\"\",\"\",ROUND($D34*INTRO!$E$48,0))","v":3672},{"$f":"IF(INTRO!$E$49=\"\",\"\",ROUND($D34*INTRO!$E$49,0))","v":6404},{"$f":"IF(INTRO!$E$50=\"\",\"\",ROUND($D34*INTRO!$E$50,0))","v":12096},4,4,3,2,1,{"$f":"IF(INTRO!$E$38=\"Endemic\", IF($H34>0, IF($H34=4,\"Unknown\", IF($H34=99,\"Stopped\", $D34)), 0),\"Not required\")","v":"Unknown"},{"$f":"IF(INTRO!$E$40=\"Endemic\", IF($I34>0, IF($I34=4,\"Unknown\",IF($I34=99,\"Stopped\", $D34)), 0),\"Not required\")","v":"Unknown"},{"$f":"IF(INTRO!$E$42=\"Endemic\", IF(AND($J34>1,$J34<5), IF($J34=4, \"Unknown\", E34+F34), 0),\"Not required\")","v":10076},{"$f":"IF(INTRO!$E$44=\"Endemic\", IF(AND($K34>0,$K34<5), IF($K34=4,\"Unknown\", IF($K34=1, $F34*0.33, IF($K34=2, $F34*0.5+$G34*0.2, SUM(F34:G34)))), 0),\"Not required\")","v":5621.2000000000007},0,0,0,0,null,null,2072,"BELIZE",null,0,0,0]
[{"$f":"IF(INTRO!$E$34<>0,INTRO!$E$34,\"\")","v":"Angola"},"CABINDA","BUCO ZAU",38476.057659799502,{"$f":"IF(INTRO!$E$48=\"\",\"\",ROUND($D35*INTRO!$E$48,0))","v":6156},{"$f":"IF(INTRO!$E$49=\"\",\"\",ROUND($D35*INTRO!$E$49,0))","v":10735},{"$f":"IF(INTRO!$E$50=\"\",\"\",ROUND($D35*INTRO!$E$50,0))","v":20277},1,4,3,2,1,{"$f":"IF(INTRO!$E$38=\"Endemic\", IF($H35>0, IF($H35=4,\"Unknown\", IF($H35=99,\"Stopped\", $D35)), 0),\"Not required\")","v":38476.057659799502},{"$f":"IF(INTRO!$E$40=\"Endemic\", IF($I35>0, IF($I35=4,\"Unknown\",IF($I35=99,\"Stopped\", $D35)), 0),\"Not required\")","v":"Unknown"},{"$f":"IF(INTRO!$E$42=\"Endemic\", IF(AND($J35>1,$J35<5), IF($J35=4, \"Unknown\", E35+F35), 0),\"Not required\")","v":16891},{"$f":"IF(INTRO!$E$44=\"Endemic\", IF(AND($K35>0,$K35<5), IF($K35=4,\"Unknown\", IF($K35=1, $F35*0.33, IF($K35=2, $F35*0.5+$G35*0.2, SUM(F35:G35)))), 0),\"Not required\")","v":9422.9},0,0,0,0,null,null,2073,"BUCO ZAU",null,0,0,0]
[{"$f":"IF(INTRO!$E$34<>0,INTRO!$E$34,\"\")","v":"Angola"},"CABINDA","CABINDA",732920.08761170786,{"$f":"IF(INTRO!$E$48=\"\",\"\",ROUND($D36*INTRO!$E$48,0))","v":117267},{"$f":"IF(INTRO!$E$49=\"\",\"\",ROUND($D36*INTRO!$E$49,0))","v":204485},{"$f":"IF(INTRO!$E$50=\"\",\"\",ROUND($D36*INTRO!$E$50,0))","v":386249},4,4,3,2,1,{"$f":"IF(INTRO!$E$38=\"Endemic\", IF($H36>0, IF($H36=4,\"Unknown\", IF($H36=99,\"Stopped\", $D36)), 0),\"Not required\")","v":"Unknown"},{"$f":"IF(INTRO!$E$40=\"Endemic\", IF($I36>0, IF($I36=4,\"Unknown\",IF($I36=99,\"Stopped\", $D36)), 0),\"Not required\")","v":"Unknown"},{"$f":"IF(INTRO!$E$42=\"Endemic\", IF(AND($J36>1,$J36<5), IF($J36=4, \"Unknown\", E36+F36), 0),\"Not required\")","v":321752},{"$f":"IF(INTRO!$E$44=\"Endemic\", IF(AND($K36>0,$K36<5), IF($K36=4,\"Unknown\", IF($K36=1, $F36*0.33, IF($K36=2, $F36*0.5+$G36*0.2, SUM(F36:G36)))), 0),\"Not required\")","v":179492.3},0,0,0,0,null,null,2074,"CABINDA",null,0,11387,0]
[{"$f":"IF(INTRO!$E$34<>0,INTRO!$E$34,\"\")","v":"Angola"},"CABINDA","CACONGO",45849.305596313905,{"$f":"IF(INTRO!$E$48=\"\",\"\",ROUND($D37*INTRO!$E$48,0))","v":7336},{"$f":"IF(INTRO!$E$49=\"\",\"\",ROUND($D37*INTRO!$E$49,0))","v":12792},{"$f":"IF(INTRO!$E$50=\"\",\"\",ROUND($D37*INTRO!$E$50,0))","v":24163},1,4,3,2,1,{"$f":"IF(INTRO!$E$38=\"Endemic\", IF($H37>0, IF($H37=4,\"Unknown\", IF($H37=99,\"Stopped\", $D37)), 0),\"Not required\")","v":45849.305596313905},{"$f":"IF(INTRO!$E$40=\"Endemic\", IF($I37>0, IF($I37=4,\"Unknown\",IF($I37=99,\"Stopped\", $D37)), 0),\"Not required\")","v":"Unknown"},{"$f":"IF(INTRO!$E$42=\"Endemic\", IF(AND($J37>1,$J37<5), IF($J37=4, \"Unknown\", E37+F37), 0),\"Not required\")","v":20128},{"$f":"IF(INTRO!$E$44=\"Endemic\", IF(AND($K37>0,$K37<5), IF($K37=4,\"Unknown\", IF($K37=1, $F37*0.33, IF($K37=2, $F37*0.5+$G37*0.2, SUM(F37:G37)))), 0),\"Not required\")","v":11228.6},0,0,0,0,null,null,2213,"CACONGO",null,0,0,0]
[{"$f":"IF(INTRO!$E$34<>0,INTRO!$E$34,\"\")","v":"Angola"},"CUANDO CUBANGO","CALAI",26580.770011743658,{"$f":"IF(INTRO!$E$48=\"\",\"\",ROUND($D38*INTRO!$E$48,0))","v":4253},{"$f":"IF(INTRO!$E$49=\"\",\"\",ROUND($D38*INTRO!$E$49,0))","v":7416},{"$f":"IF(INTRO!$E$50=\"\",\"\",ROUND($D38*INTRO!$E$50,0))","v":14008},0,4,2,2,1,{"$f":"IF(INTRO!$E$38=\"Endemic\", IF($H38>0, IF($H38=4,\"Unknown\", IF($H38=99,\"Stopped\", $D38)), 0),\"Not required\")","v":0},{"$f":"IF(INTRO!$E$40=\"Endemic\", IF($I38>0, IF($I38=4,\"Unknown\",IF($I38=99,\"Stopped\", $D38)), 0),\"Not required\")","v":"Unknown"},{"$f":"IF(INTRO!$E$42=\"Endemic\", IF(AND($J38>1,$J38<5), IF($J38=4, \"Unknown\", E38+F38), 0),\"Not required\")","v":11669},{"$f":"IF(INTRO!$E$44=\"Endemic\", IF(AND($K38>0,$K38<5), IF($K38=4,\"Unknown\", IF($K38=1, $F38*0.33, IF($K38=2, $F38*0.5+$G38*0.2, SUM(F38:G38)))), 0),\"Not required\")","v":6509.6},0,0,0,0,null,null,2110,"CAHAMA",null,0,0,0]
[{"$f":"IF(INTRO!$E$34<>0,INTRO!$E$34,\"\")","v":"Angola"},"CUANDO CUBANGO","CUANGAR",33391.989660290135,{"$f":"IF(INTRO!$E$48=\"\",\"\",ROUND($D39*INTRO!$E$48,0))","v":5343},{"$f":"IF(INTRO!$E$49=\"\",\"\",ROUND($D39*INTRO!$E$49,0))","v":9316},{"$f":"IF(INTRO!$E$50=\"\",\"\",ROUND($D39*INTRO!$E$50,0))","v":17598},0,1,2,2,1,{"$f":"IF(INTRO!$E$38=\"Endemic\", IF($H39>0, IF($H39=4,\"Unknown\", IF($H39=99,\"Stopped\", $D39)), 0),\"Not required\")","v":0},{"$f":"IF(INTRO!$E$40=\"Endemic\", IF($I39>0, IF($I39=4,\"Unknown\",IF($I39=99,\"Stopped\", $D39)), 0),\"Not required\")","v":33391.989660290135},{"$f":"IF(INTRO!$E$42=\"Endemic\", IF(AND($J39>1,$J39<5), IF($J39=4, \"Unknown\", E39+F39), 0),\"Not required\")","v":14659},{"$f":"IF(INTRO!$E$44=\"Endemic\", IF(AND($K39>0,$K39<5), IF($K39=4,\"Unknown\", IF($K39=1, $F39*0.33, IF($K39=2, $F39*0.5+$G39*0.2, SUM(F39:G39)))), 0),\"Not required\")","v":8177.6},0,0,0,0,null,null,2113,"CUANHAMA",null,0,0,0]
[{"$f":"IF(INTRO!$E$34<>0,INTRO!$E$34,\"\")","v":"Angola"},"CUANDO CUBANGO","CUCHI",50422.972123451575,{"$f":"IF(INTRO!$E$48=\"\",\"\",ROUND($D40*INTRO!$E$48,0))","v":8068},{"$f":"IF(INTRO!$E$49=\"\",\"\",ROUND($D40*INTRO!$E$49,0))","v":14068},{"$f":"IF(INTRO!$E$50=\"\",\"\",ROUND($D40*INTRO!$E$50,0))","v":26573},0,1,2,2,1,{"$f":"IF(INTRO!$E$38=\"Endemic\", IF($H40>0, IF($H40=4,\"Unknown\", IF($H40=99,\"Stopped\", $D40)), 0),\"Not required\")","v":0},{"$f":"IF(INTRO!$E$40=\"Endemic\", IF($I40>0, IF($I40=4,\"Unknown\",IF($I40=99,\"Stopped\", $D40)), 0),\"Not required\")","v":50422.972123451575},{"$f":"IF(INTRO!$E$42=\"Endemic\", IF(AND($J40>1,$J40<5), IF($J40=4, \"Unknown\", E40+F40), 0),\"Not required\")","v":22136},{"$f":"IF(INTRO!$E$44=\"Endemic\", IF(AND($K40>0,$K40<5), IF($K40=4,\"Unknown\", IF($K40=1, $F40*0.33, IF($K40=2, $F40*0.5+$G40*0.2, SUM(F40:G40)))), 0),\"Not required\")","v":12348.6},0,0,0,0,null,null,2111,"CUROCA",null,0,0,0]
[{"$f":"IF(INTRO!$E$34<>0,INTRO!$E$34,\"\")","v":"Angola"},"CUANDO CUBANGO","CUITO CUANAVALE",47906.164863135942,{"$f":"IF(INTRO!$E$48=\"\",\"\",ROUND($D41*INTRO!$E$48,0))","v":7665},{"$f":"IF(INTRO!$E$49=\"\",\"\",ROUND($D41*INTRO!$E$49,0))","v":13366},{"$f":"IF(INTRO!$E$50=\"\",\"\",ROUND($D41*INTRO!$E$50,0))","v":25247},0,1,2,2,1,{"$f":"IF(INTRO!$E$38=\"Endemic\", IF($H41>0, IF($H41=4,\"Unknown\", IF($H41=99,\"Stopped\", $D41)), 0),\"Not required\")","v":0},{"$f":"IF(INTRO!$E$40=\"Endemic\", IF($I41>0, IF($I41=4,\"Unknown\",IF($I41=99,\"Stopped\", $D41)), 0),\"Not required\")","v":47906.164863135942},{"$f":"IF(INTRO!$E$42=\"Endemic\", IF(AND($J41>1,$J41<5), IF($J41=4, \"Unknown\", E41+F41), 0),\"Not required\")","v":21031},{"$f":"IF(INTRO!$E$44=\"Endemic\", IF(AND($K41>0,$K41<5), IF($K41=4,\"Unknown\", IF($K41=1, $F41*0.33, IF($K41=2, $F41*0.5+$G41*0.2, SUM(F41:G41)))), 0),\"Not required\")","v":11732.400000000001},0,0,0,0,null,null,2112,"CUVELAI",null,0,0,0]
[{"$f":"IF(INTRO!$E$34<>0,INTRO!$E$34,\"\")","v":"Angola"},"CUANDO CUBANGO","DIRICO",17747.891197918005,{"$f":"IF(INTRO!$E$48=\"\",\"\",ROUND($D42*INTRO!$E$48,0))","v":2840},{"$f":"IF(INTRO!$E$49=\"\",\"\",ROUND($D42*INTRO!$E$49,0))","v":4952},{"$f":"IF(INTRO!$E$50=\"\",\"\",ROUND($D42*INTRO!$E$50,0))","v":9353},0,4,2,2,1,{"$f":"IF(INTRO!$E$38=\"Endemic\", IF($H42>0, IF($H42=4,\"Unknown\", IF($H42=99,\"Stopped\", $D42)), 0),\"Not required\")","v":0},{"$f":"IF(INTRO!$E$40=\"Endemic\", IF($I42>0, IF($I42=4,\"Unknown\",IF($I42=99,\"Stopped\", $D42)), 0),\"Not required\")","v":"Unknown"},{"$f":"IF(INTRO!$E$42=\"Endemic\", IF(AND($J42>1,$J42<5), IF($J42=4, \"Unknown\", E42+F42), 0),\"Not required\")","v":7792},{"$f":"IF(INTRO!$E$44=\"Endemic\", IF(AND($K42>0,$K42<5), IF($K42=4,\"Unknown\", IF($K42=1, $F42*0.33, IF($K42=2, $F42*0.5+$G42*0.2, SUM(F42:G42)))), 0),\"Not required\")","v":4346.6000000000004},0,0,0,0,null,null,2114,"NAMACUNDE",null,0,0,0]
[{"$f":"IF(INTRO!$E$34<>0,INTRO!$E$34,\"\")","v":"Angola"},"CUANDO CUBANGO","MAVINGA",31910.065385335063,{"$f":"IF(INTRO!$E$48=\"\",\"\",ROUND($D43*INTRO!$E$48,0))","v":5106},{"$f":"IF(INTRO!$E$49=\"\",\"\",ROUND($D43*INTRO!$E$49,0))","v":8903},{"$f":"IF(INTRO!$E$50=\"\",\"\",ROUND($D43*INTRO!$E$50,0))","v":16817},0,4,2,2,1,{"$f":"IF(INTRO!$E$38=\"Endemic\", IF($H43>0, IF($H43=4,\"Unknown\", IF($H43=99,\"Stopped\", $D43)), 0),\"Not required\")","v":0},{"$f":"IF(INTRO!$E$40=\"Endemic\", IF($I43>0, IF($I43=4,\"Unknown\",IF($I43=99,\"Stopped\", $D43)), 0),\"Not required\")","v":"Unknown"},{"$f":"IF(INTRO!$E$42=\"Endemic\", IF(AND($J43>1,$J43<5), IF($J43=4, \"Unknown\", E43+F43), 0),\"Not required\")","v":14009},{"$f":"IF(INTRO!$E$44=\"Endemic\", IF(AND($K43>0,$K43<5), IF($K43=4,\"Unknown\", IF($K43=1, $F43*0.33, IF($K43=2, $F43*0.5+$G43*0.2, SUM(F43:G43)))), 0),\"Not required\")","v":7814.9},0,0,0,0,null,null,2115,"OMBADJA",null,0,0,0]
[{"$f":"IF(INTRO!$E$34<>0,INTRO!$E$34,\"\")","v":"Angola"},"CUANDO CUBANGO","MENONGUE",376540.17955101543,{"$f":"IF(INTRO!$E$48=\"\",\"\",ROUND($D44*INTRO!$E$48,0))","v":60246},{"$f":"IF(INTRO!$E$49=\"\",\"\",ROUND($D44*INTRO!$E$49,0))","v":105055},{"$f":"IF(INTRO!$E$50=\"\",\"\",ROUND($D44*INTRO!$E$50,0))","v":198437},0,1,2,2,1,{"$f":"IF(INTRO!$E$38=\"Endemic\", IF($H44>0, IF($H44=4,\"Unknown\", IF($H44=99,\"Stopped\", $D44)), 0),\"Not required\")","v":0},{"$f":"IF(INTRO!$E$40=\"Endemic\", IF($I44>0, IF($I44=4,\"Unknown\",IF($I44=99,\"Stopped\", $D44)), 0),\"Not required\")","v":376540.17955101543},{"$f":"IF(INTRO!$E$42=\"Endemic\", IF(AND($J44>1,$J44<5), IF($J44=4, \"Unknown\", E44+F44), 0),\"Not required\")","v":165301},{"$f":"IF(INTRO!$E$44=\"Endemic\", IF(AND($K44>0,$K44<5), IF($K44=4,\"Unknown\", IF($K44=1, $F44*0.33, IF($K44=2, $F44*0.5+$G44*0.2, SUM(F44:G44)))), 0),\"Not required\")","v":92214.9},0,0,0,0,null,null,2116,"BAILUNDO",null,0,95728,0]
[{"$f":"IF(INTRO!$E$34<>0,INTRO!$E$34,\"\")","v":"Angola"},"CUANDO CUBANGO","NANKOVA",3280.6494637960295,{"$f":"IF(INTRO!$E$48=\"\",\"\",ROUND($D45*INTRO!$E$48,0))","v":525},{"$f":"IF(INTRO!$E$49=\"\",\"\",ROUND($D45*INTRO!$E$49,0))","v":915},{"$f":"IF(INTRO!$E$50=\"\",\"\",ROUND($D45*INTRO!$E$50,0))","v":1729},0,1,2,2,1,{"$f":"IF(INTRO!$E$38=\"Endemic\", IF($H45>0, IF($H45=4,\"Unknown\", IF($H45=99,\"Stopped\", $D45)), 0),\"Not required\")","v":0},{"$f":"IF(INTRO!$E$40=\"Endemic\", IF($I45>0, IF($I45=4,\"Unknown\",IF($I45=99,\"Stopped\", $D45)), 0),\"Not required\")","v":3280.6494637960295},{"$f":"IF(INTRO!$E$42=\"Endemic\", IF(AND($J45>1,$J45<5), IF($J45=4, \"Unknown\", E45+F45), 0),\"Not required\")","v":1440},{"$f":"IF(INTRO!$E$44=\"Endemic\", IF(AND($K45>0,$K45<5), IF($K45=4,\"Unknown\", IF($K45=1, $F45*0.33, IF($K45=2, $F45*0.5+$G45*0.2, SUM(F45:G45)))), 0),\"Not required\")","v":803.3},0,0,0,0,null,null,2120,"CAALA",null,0,88150,0]
[{"$f":"IF(INTRO!$E$34<>0,INTRO!$E$34,\"\")","v":"Angola"},"CUANDO CUBANGO","RIVUNGO",38782.298543222518,{"$f":"IF(INTRO!$E$48=\"\",\"\",ROUND($D46*INTRO!$E$48,0))","v":6205},{"$f":"IF(INTRO!$E$49=\"\",\"\",ROUND($D46*INTRO!$E$49,0))","v":10820},{"$f":"IF(INTRO!$E$50=\"\",\"\",ROUND($D46*INTRO!$E$50,0))","v":20438},0,4,2,2,4,{"$f":"IF(INTRO!$E$38=\"Endemic\", IF($H46>0, IF($H46=4,\"Unknown\", IF($H46=99,\"Stopped\", $D46)), 0),\"Not required\")","v":0},{"$f":"IF(INTRO!$E$40=\"Endemic\", IF($I46>0, IF($I46=4,\"Unknown\",IF($I46=99,\"Stopped\", $D46)), 0),\"Not required\")","v":"Unknown"},{"$f":"IF(INTRO!$E$42=\"Endemic\", IF(AND($J46>1,$J46<5), IF($J46=4, \"Unknown\", E46+F46), 0),\"Not required\")","v":17025},{"$f":"IF(INTRO!$E$44=\"Endemic\", IF(AND($K46>0,$K46<5), IF($K46=4,\"Unknown\", IF($K46=1, $F46*0.33, IF($K46=2, $F46*0.5+$G46*0.2, SUM(F46:G46)))), 0),\"Not required\")","v":9497.6},0,0,0,0,null,null,2118,"EKUNHA",null,0,32810,0]
[{"$f":"IF(INTRO!$E$34<>0,INTRO!$E$34,\"\")","v":"Angola"},"CUANZA NORTE","AMBACA",72475.835740063296,{"$f":"IF(INTRO!$E$48=\"\",\"\",ROUND($D47*INTRO!$E$48,0))","v":11596},{"$f":"IF(INTRO!$E$49=\"\",\"\",ROUND($D47*INTRO!$E$49,0))","v":20221},{"$f":"IF(INTRO!$E$50=\"\",\"\",ROUND($D47*INTRO!$E$50,0))","v":38195},4,1,3,2,1,{"$f":"IF(INTRO!$E$38=\"Endemic\", IF($H47>0, IF($H47=4,\"Unknown\", IF($H47=99,\"Stopped\", $D47)), 0),\"Not required\")","v":"Unknown"},{"$f":"IF(INTRO!$E$40=\"Endemic\", IF($I47>0, IF($I47=4,\"Unknown\",IF($I47=99,\"Stopped\", $D47)), 0),\"Not required\")","v":72475.835740063296},{"$f":"IF(INTRO!$E$42=\"Endemic\", IF(AND($J47>1,$J47<5), IF($J47=4, \"Unknown\", E47+F47), 0),\"Not required\")","v":31817},{"$f":"IF(INTRO!$E$44=\"Endemic\", IF(AND($K47>0,$K47<5), IF($K47=4,\"Unknown\", IF($K47=1, $F47*0.33, IF($K47=2, $F47*0.5+$G47*0.2, SUM(F47:G47)))), 0),\"Not required\")","v":17749.5},0,0,0,0,null,null,2119,"HUAMBO",null,0,231640,0]
[{"$f":"IF(INTRO!$E$34<>0,INTRO!$E$34,\"\")","v":"Angola"},"CUANZA NORTE","BANGA",12148.728379164555,{"$f":"IF(INTRO!$E$48=\"\",\"\",ROUND($D48*INTRO!$E$48,0))","v":1944},{"$f":"IF(INTRO!$E$49=\"\",\"\",ROUND($D48*INTRO!$E$49,0))","v":3389},{"$f":"IF(INTRO!$E$50=\"\",\"\",ROUND($D48*INTRO!$E$50,0))","v":6402},1,1,3,2,1,{"$f":"IF(INTRO!$E$38=\"Endemic\", IF($H48>0, IF($H48=4,\"Unknown\", IF($H48=99,\"Stopped\", $D48)), 0),\"Not required\")","v":12148.728379164555},{"$f":"IF(INTRO!$E$40=\"Endemic\", IF($I48>0, IF($I48=4,\"Unknown\",IF($I48=99,\"Stopped\", $D48)), 0),\"Not required\")","v":12148.728379164555},{"$f":"IF(INTRO!$E$42=\"Endemic\", IF(AND($J48>1,$J48<5), IF($J48=4, \"Unknown\", E48+F48), 0),\"Not required\")","v":5333},{"$f":"IF(INTRO!$E$44=\"Endemic\", IF(AND($K48>0,$K48<5), IF($K48=4,\"Unknown\", IF($K48=1, $F48*0.33, IF($K48=2, $F48*0.5+$G48*0.2, SUM(F48:G48)))), 0),\"Not required\")","v":2974.9},0,0,0,0,null,null,2121,"CACHIUNGO",null,0,50701,0]
[{"$f":"IF(INTRO!$E$34<>0,INTRO!$E$34,\"\")","v":"Angola"},"CUANZA NORTE","BOLONGONGO",15275.670732890028,{"$f":"IF(INTRO!$E$48=\"\",\"\",ROUND($D49*INTRO!$E$48,0))","v":2444},{"$f":"IF(INTRO!$E$49=\"\",\"\",ROUND($D49*INTRO!$E$49,0))","v":4262},{"$f":"IF(INTRO!$E$50=\"\",\"\",ROUND($D49*INTRO!$E$50,0))","v":8050},1,1,3,2,1,{"$f":"IF(INTRO!$E$38=\"Endemic\", IF($H49>0, IF($H49=4,\"Unknown\", IF($H49=99,\"Stopped\", $D49)), 0),\"Not required\")","v":15275.670732890028},{"$f":"IF(INTRO!$E$40=\"Endemic\", IF($I49>0, IF($I49=4,\"Unknown\",IF($I49=99,\"Stopped\", $D49)), 0),\"Not required\")","v":15275.670732890028},{"$f":"IF(INTRO!$E$42=\"Endemic\", IF(AND($J49>1,$J49<5), IF($J49=4, \"Unknown\", E49+F49), 0),\"Not required\")","v":6706},{"$f":"IF(INTRO!$E$44=\"Endemic\", IF(AND($K49>0,$K49<5), IF($K49=4,\"Unknown\", IF($K49=1, $F49*0.33, IF($K49=2, $F49*0.5+$G49*0.2, SUM(F49:G49)))), 0),\"Not required\")","v":3741},0,0,0,0,null,null,2122,"LONDUIMBALI",null,0,37401,0]
[{"$f":"IF(INTRO!$E$34<>0,INTRO!$E$34,\"\")","v":"Angola"},"CUANZA NORTE","CAMBAMBE",106499.08055468899,{"$f":"IF(INTRO!$E$48=\"\",\"\",ROUND($D50*INTRO!$E$48,0))","v":17040},{"$f":"IF(INTRO!$E$49=\"\",\"\",ROUND($D50*INTRO!$E$49,0))","v":29713},{"$f":"IF(INTRO!$E$50=\"\",\"\",ROUND($D50*INTRO!$E$50,0))","v":56125},0,4,3,2,1,{"$f":"IF(INTRO!$E$38=\"Endemic\", IF($H50>0, IF($H50=4,\"Unknown\", IF($H50=99,\"Stopped\", $D50)), 0),\"Not required\")","v":0},{"$f":"IF(INTRO!$E$40=\"Endemic\", IF($I50>0, IF($I50=4,\"Unknown\",IF($I50=99,\"Stopped\", $D50)), 0),\"Not required\")","v":"Unknown"},{"$f":"IF(INTRO!$E$42=\"Endemic\", IF(AND($J50>1,$J50<5), IF($J50=4, \"Unknown\", E50+F50), 0),\"Not required\")","v":46753},{"$f":"IF(INTRO!$E$44=\"Endemic\", IF(AND($K50>0,$K50<5), IF($K50=4,\"Unknown\", IF($K50=1, $F50*0.33, IF($K50=2, $F50*0.5+$G50*0.2, SUM(F50:G50)))), 0),\"Not required\")","v":26081.5},0,0,0,0,null,null,2123,"LONGONJO",null,0,34008,0]
[{"$f":"IF(INTRO!$E$34<>0,INTRO!$E$34,\"\")","v":"Angola"},"CUANZA NORTE","CAZENGO",201512.36797593761,{"$f":"IF(INTRO!$E$48=\"\",\"\",ROUND($D51*INTRO!$E$48,0))","v":32242},{"$f":"IF(INTRO!$E$49=\"\",\"\",ROUND($D51*INTRO!$E$49,0))","v":56222},{"$f":"IF(INTRO!$E$50=\"\",\"\",ROUND($D51*INTRO!$E$50,0))","v":106197},4,4,3,2,1,{"$f":"IF(INTRO!$E$38=\"Endemic\", IF($H51>0, IF($H51=4,\"Unknown\", IF($H51=99,\"Stopped\", $D51)), 0),\"Not required\")","v":"Unknown"},{"$f":"IF(INTRO!$E$40=\"Endemic\", IF($I51>0, IF($I51=4,\"Unknown\",IF($I51=99,\"Stopped\", $D51)), 0),\"Not required\")","v":"Unknown"},{"$f":"IF(INTRO!$E$42=\"Endemic\", IF(AND($J51>1,$J51<5), IF($J51=4, \"Unknown\", E51+F51), 0),\"Not required\")","v":88464},{"$f":"IF(INTRO!$E$44=\"Endemic\", IF(AND($K51>0,$K51<5), IF($K51=4,\"Unknown\", IF($K51=1, $F51*0.33, IF($K51=2, $F51*0.5+$G51*0.2, SUM(F51:G51)))), 0),\"Not required\")","v":49350.400000000001},0,0,0,0,null,null,2124,"MUNGO",null,0,30940,0]
[{"$f":"IF(INTRO!$E$34<>0,INTRO!$E$34,\"\")","v":"Angola"},"CUANZA NORTE","GOLUNGO ALTO",39698.6745200554,{"$f":"IF(INTRO!$E$48=\"\",\"\",ROUND($D52*INTRO!$E$48,0))","v":6352},{"$f":"IF(INTRO!$E$49=\"\",\"\",ROUND($D52*INTRO!$E$49,0))","v":11076},{"$f":"IF(INTRO!$E$50=\"\",\"\",ROUND($D52*INTRO!$E$50,0))","v":20921},1,1,3,2,1,{"$f":"IF(INTRO!$E$38=\"Endemic\", IF($H52>0, IF($H52=4,\"Unknown\", IF($H52=99,\"Stopped\", $D52)), 0),\"Not required\")","v":39698.6745200554},{"$f":"IF(INTRO!$E$40=\"Endemic\", IF($I52>0, IF($I52=4,\"Unknown\",IF($I52=99,\"Stopped\", $D52)), 0),\"Not required\")","v":39698.6745200554},{"$f":"IF(INTRO!$E$42=\"Endemic\", IF(AND($J52>1,$J52<5), IF($J52=4, \"Unknown\", E52+F52), 0),\"Not required\")","v":17428},{"$f":"IF(INTRO!$E$44=\"Endemic\", IF(AND($K52>0,$K52<5), IF($K52=4,\"Unknown\", IF($K52=1, $F52*0.33, IF($K52=2, $F52*0.5+$G52*0.2, SUM(F52:G52)))), 0),\"Not required\")","v":9722.2000000000007},0,0,0,0,null,null,2125,"TCHICALA TCHOLOHANGA",null,0,31194,0]
[{"$f":"IF(INTRO!$E$34<>0,INTRO!$E$34,\"\")","v":"Angola"},"CUANZA NORTE","GONGUEMBO",8889.1989762942503,{"$f":"IF(INTRO!$E$48=\"\",\"\",ROUND($D53*INTRO!$E$48,0))","v":1422},{"$f":"IF(INTRO!$E$49=\"\",\"\",ROUND($D53*INTRO!$E$49,0))","v":2480},{"$f":"IF(INTRO!$E$50=\"\",\"\",ROUND($D53*INTRO!$E$50,0))","v":4685},4,1,3,2,1,{"$f":"IF(INTRO!$E$38=\"Endemic\", IF($H53>0, IF($H53=4,\"Unknown\", IF($H53=99,\"Stopped\", $D53)), 0),\"Not required\")","v":"Unknown"},{"$f":"IF(INTRO!$E$40=\"Endemic\", IF($I53>0, IF($I53=4,\"Unknown\",IF($I53=99,\"Stopped\", $D53)), 0),\"Not required\")","v":8889.1989762942503},{"$f":"IF(INTRO!$E$42=\"Endemic\", IF(AND($J53>1,$J53<5), IF($J53=4, \"Unknown\", E53+F53), 0),\"Not required\")","v":3902},{"$f":"IF(INTRO!$E$44=\"Endemic\", IF(AND($K53>0,$K53<5), IF($K53=4,\"Unknown\", IF($K53=1, $F53*0.33, IF($K53=2, $F53*0.5+$G53*0.2, SUM(F53:G53)))), 0),\"Not required\")","v":2177},0,0,0,0,null,null,2117,"TCHINDJENJE",null,0,10539,0]
[{"$f":"IF(INTRO!$E$34<>0,INTRO!$E$34,\"\")","v":"Angola"},"CUANZA NORTE","LUCALA",26604.236746105573,{"$f":"IF(INTRO!$E$48=\"\",\"\",ROUND($D54*INTRO!$E$48,0))","v":4257},{"$f":"IF(INTRO!$E$49=\"\",\"\",ROUND($D54*INTRO!$E$49,0))","v":7423},{"$f":"IF(INTRO!$E$50=\"\",\"\",ROUND($D54*INTRO!$E$50,0))","v":14020},1,4,3,2,1,{"$f":"IF(INTRO!$E$38=\"Endemic\", IF($H54>0, IF($H54=4,\"Unknown\", IF($H54=99,\"Stopped\", $D54)), 0),\"Not required\")","v":26604.236746105573},{"$f":"IF(INTRO!$E$40=\"Endemic\", IF($I54>0, IF($I54=4,\"Unknown\",IF($I54=99,\"Stopped\", $D54)), 0),\"Not required\")","v":"Unknown"},{"$f":"IF(INTRO!$E$42=\"Endemic\", IF(AND($J54>1,$J54<5), IF($J54=4, \"Unknown\", E54+F54), 0),\"Not required\")","v":11680},{"$f":"IF(INTRO!$E$44=\"Endemic\", IF(AND($K54>0,$K54<5), IF($K54=4,\"Unknown\", IF($K54=1, $F54*0.33, IF($K54=2, $F54*0.5+$G54*0.2, SUM(F54:G54)))), 0),\"Not required\")","v":6515.5},0,0,0,0,null,null,2126,"UKUMA",null,0,18271,0]
[{"$f":"IF(INTRO!$E$34<>0,INTRO!$E$34,\"\")","v":"Angola"},"CUANZA NORTE","QUICULUNGO",11418.912940508928,{"$f":"IF(INTRO!$E$48=\"\",\"\",ROUND($D55*INTRO!$E$48,0))","v":1827},{"$f":"IF(INTRO!$E$49=\"\",\"\",ROUND($D55*INTRO!$E$49,0))","v":3186},{"$f":"IF(INTRO!$E$50=\"\",\"\",ROUND($D55*INTRO!$E$50,0))","v":6018},1,4,3,2,1,{"$f":"IF(INTRO!$E$38=\"Endemic\", IF($H55>0, IF($H55=4,\"Unknown\", IF($H55=99,\"Stopped\", $D55)), 0),\"Not required\")","v":11418.912940508928},{"$f":"IF(INTRO!$E$40=\"Endemic\", IF($I55>0, IF($I55=4,\"Unknown\",IF($I55=99,\"Stopped\", $D55)), 0),\"Not required\")","v":"Unknown"},{"$f":"IF(INTRO!$E$42=\"Endemic\", IF(AND($J55>1,$J55<5), IF($J55=4, \"Unknown\", E55+F55), 0),\"Not required\")","v":5013},{"$f":"IF(INTRO!$E$44=\"Endemic\", IF(AND($K55>0,$K55<5), IF($K55=4,\"Unknown\", IF($K55=1, $F55*0.33, IF($K55=2, $F55*0.5+$G55*0.2, SUM(F55:G55)))), 0),\"Not required\")","v":2796.6000000000004},0,0,0,0,null,null,2133,"CACONDA",null,14112,0,0]
[{"$f":"IF(INTRO!$E$34<>0,INTRO!$E$34,\"\")","v":"Angola"},"CUANZA NORTE","SAMBA CAJU",25717.194187225097,{"$f":"IF(INTRO!$E$48=\"\",\"\",ROUND($D56*INTRO!$E$48,0))","v":4115},{"$f":"IF(INTRO!$E$49=\"\",\"\",ROUND($D56*INTRO!$E$49,0))","v":7175},{"$f":"IF(INTRO!$E$50=\"\",\"\",ROUND($D56*INTRO!$E$50,0))","v":13553},4,4,3,2,1,{"$f":"IF(INTRO!$E$38=\"Endemic\", IF($H56>0, IF($H56=4,\"Unknown\", IF($H56=99,\"Stopped\", $D56)), 0),\"Not required\")","v":"Unknown"},{"$f":"IF(INTRO!$E$40=\"Endemic\", IF($I56>0, IF($I56=4,\"Unknown\",IF($I56=99,\"Stopped\", $D56)), 0),\"Not required\")","v":"Unknown"},{"$f":"IF(INTRO!$E$42=\"Endemic\", IF(AND($J56>1,$J56<5), IF($J56=4, \"Unknown\", E56+F56), 0),\"Not required\")","v":11290},{"$f":"IF(INTRO!$E$44=\"Endemic\", IF(AND($K56>0,$K56<5), IF($K56=4,\"Unknown\", IF($K56=1, $F56*0.33, IF($K56=2, $F56*0.5+$G56*0.2, SUM(F56:G56)))), 0),\"Not required\")","v":6298.1},0,0,0,0,null,null,2214,"CACULA",null,0,0,0]
[{"$f":"IF(INTRO!$E$34<>0,INTRO!$E$34,\"\")","v":"Angola"},"CUANZA SUL","AMBOIM",284468.4472820331,{"$f":"IF(INTRO!$E$48=\"\",\"\",ROUND($D57*INTRO!$E$48,0))","v":45515},{"$f":"IF(INTRO!$E$49=\"\",\"\",ROUND($D57*INTRO!$E$49,0))","v":79367},{"$f":"IF(INTRO!$E$50=\"\",\"\",ROUND($D57*INTRO!$E$50,0))","v":149915},0,4,3,2,1,{"$f":"IF(INTRO!$E$38=\"Endemic\", IF($H57>0, IF($H57=4,\"Unknown\", IF($H57=99,\"Stopped\", $D57)), 0),\"Not required\")","v":0},{"$f":"IF(INTRO!$E$40=\"Endemic\", IF($I57>0, IF($I57=4,\"Unknown\",IF($I57=99,\"Stopped\", $D57)), 0),\"Not required\")","v":"Unknown"},{"$f":"IF(INTRO!$E$42=\"Endemic\", IF(AND($J57>1,$J57<5), IF($J57=4, \"Unknown\", E57+F57), 0),\"Not required\")","v":124882},{"$f":"IF(INTRO!$E$44=\"Endemic\", IF(AND($K57>0,$K57<5), IF($K57=4,\"Unknown\", IF($K57=1, $F57*0.33, IF($K57=2, $F57*0.5+$G57*0.2, SUM(F57:G57)))), 0),\"Not required\")","v":69666.5},0,0,1,0,"T3 (ALB/MBD)",null,2134,"CALUQUEMBE",null,11486,0,0]
[{"$f":"IF(INTRO!$E$34<>0,INTRO!$E$34,\"\")","v":"Angola"},"CUANZA SUL","CASSONGUE",178249.79420296906,{"$f":"IF(INTRO!$E$48=\"\",\"\",ROUND($D58*INTRO!$E$48,0))","v":28520},{"$f":"IF(INTRO!$E$49=\"\",\"\",ROUND($D58*INTRO!$E$49,0))","v":49732},{"$f":"IF(INTRO!$E$50=\"\",\"\",ROUND($D58*INTRO!$E$50,0))","v":93938},4,4,3,2,1,{"$f":"IF(INTRO!$E$38=\"Endemic\", IF($H58>0, IF($H58=4,\"Unknown\", IF($H58=99,\"Stopped\", $D58)), 0),\"Not required\")","v":"Unknown"},{"$f":"IF(INTRO!$E$40=\"Endemic\", IF($I58>0, IF($I58=4,\"Unknown\",IF($I58=99,\"Stopped\", $D58)), 0),\"Not required\")","v":"Unknown"},{"$f":"IF(INTRO!$E$42=\"Endemic\", IF(AND($J58>1,$J58<5), IF($J58=4, \"Unknown\", E58+F58), 0),\"Not required\")","v":78252},{"$f":"IF(INTRO!$E$44=\"Endemic\", IF(AND($K58>0,$K58<5), IF($K58=4,\"Unknown\", IF($K58=1, $F58*0.33, IF($K58=2, $F58*0.5+$G58*0.2, SUM(F58:G58)))), 0),\"Not required\")","v":43653.600000000006},0,0,1,0,"T3 (ALB/MBD)",null,2127,"CHIBIA",null,0,0,0]
[{"$f":"IF(INTRO!$E$34<>0,INTRO!$E$34,\"\")","v":"Angola"},"CUANZA SUL","CELA (Waku Kungo)",264610.89666497876,{"$f":"IF(INTRO!$E$48=\"\",\"\",ROUND($D59*INTRO!$E$48,0))","v":42338},{"$f":"IF(INTRO!$E$49=\"\",\"\",ROUND($D59*INTRO!$E$49,0))","v":73826},{"$f":"IF(INTRO!$E$50=\"\",\"\",ROUND($D59*INTRO!$E$50,0))","v":139450},0,4,3,2,1,{"$f":"IF(INTRO!$E$38=\"Endemic\", IF($H59>0, IF($H59=4,\"Unknown\", IF($H59=99,\"Stopped\", $D59)), 0),\"Not required\")","v":0},{"$f":"IF(INTRO!$E$40=\"Endemic\", IF($I59>0, IF($I59=4,\"Unknown\",IF($I59=99,\"Stopped\", $D59)), 0),\"Not required\")","v":"Unknown"},{"$f":"IF(INTRO!$E$42=\"Endemic\", IF(AND($J59>1,$J59<5), IF($J59=4, \"Unknown\", E59+F59), 0),\"Not required\")","v":116164},{"$f":"IF(INTRO!$E$44=\"Endemic\", IF(AND($K59>0,$K59<5), IF($K59=4,\"Unknown\", IF($K59=1, $F59*0.33, IF($K59=2, $F59*0.5+$G59*0.2, SUM(F59:G59)))), 0),\"Not required\")","v":64803},0,0,1,0,"T3 (ALB/MBD)",null,2128,"CHICOMBA",null,0,0,0]
[{"$f":"IF(INTRO!$E$34<>0,INTRO!$E$34,\"\")","v":"Angola"},"CUANZA SUL","CONDA",104988.9961984996,{"$f":"IF(INTRO!$E$48=\"\",\"\",ROUND($D60*INTRO!$E$48,0))","v":16798},{"$f":"IF(INTRO!$E$49=\"\",\"\",ROUND($D60*INTRO!$E$49,0))","v":29292},{"$f":"IF(INTRO!$E$50=\"\",\"\",ROUND($D60*INTRO!$E$50,0))","v":55329},0,4,3,2,1,{"$f":"IF(INTRO!$E$38=\"Endemic\", IF($H60>0, IF($H60=4,\"Unknown\", IF($H60=99,\"Stopped\", $D60)), 0),\"Not required\")","v":0},{"$f":"IF(INTRO!$E$40=\"Endemic\", IF($I60>0, IF($I60=4,\"Unknown\",IF($I60=99,\"Stopped\", $D60)), 0),\"Not required\")","v":"Unknown"},{"$f":"IF(INTRO!$E$42=\"Endemic\", IF(AND($J60>1,$J60<5), IF($J60=4, \"Unknown\", E60+F60), 0),\"Not required\")","v":46090},{"$f":"IF(INTRO!$E$44=\"Endemic\", IF(AND($K60>0,$K60<5), IF($K60=4,\"Unknown\", IF($K60=1, $F60*0.33, IF($K60=2, $F60*0.5+$G60*0.2, SUM(F60:G60)))), 0),\"Not required\")","v":25711.800000000003},0,0,1,0,"T3 (ALB/MBD)",null,2129,"CHIPINDO",null,0,0,0]
[{"$f":"IF(INTRO!$E$34<>0,INTRO!$E$34,\"\")","v":"Angola"},"CUANZA SUL","EBO",193751.91892245156,{"$f":"IF(INTRO!$E$48=\"\",\"\",ROUND($D61*INTRO!$E$48,0))","v":31000},{"$f":"IF(INTRO!$E$49=\"\",\"\",ROUND($D61*INTRO!$E$49,0))","v":54057},{"$f":"IF(INTRO!$E$50=\"\",\"\",ROUND($D61*INTRO!$E$50,0))","v":102107},0,4,3,2,1,{"$f":"IF(INTRO!$E$38=\"Endemic\", IF($H61>0, IF($H61=4,\"Unknown\", IF($H61=99,\"Stopped\", $D61)), 0),\"Not required\")","v":0},{"$f":"IF(INTRO!$E$40=\"Endemic\", IF($I61>0, IF($I61=4,\"Unknown\",IF($I61=99,\"Stopped\", $D61)), 0),\"Not required\")","v":"Unknown"},{"$f":"IF(INTRO!$E$42=\"Endemic\", IF(AND($J61>1,$J61<5), IF($J61=4, \"Unknown\", E61+F61), 0),\"Not required\")","v":85057},{"$f":"IF(INTRO!$E$44=\"Endemic\", IF(AND($K61>0,$K61<5), IF($K61=4,\"Unknown\", IF($K61=1, $F61*0.33, IF($K61=2, $F61*0.5+$G61*0.2, SUM(F61:G61)))), 0),\"Not required\")","v":47449.9},0,0,1,0,"T3 (ALB/MBD)",null,2130,"GAMBOS",null,0,0,0]
[{"$f":"IF(INTRO!$E$34<>0,INTRO!$E$34,\"\")","v":"Angola"},"CUANZA SUL","LIBOLO",108027.93829836792,{"$f":"IF(INTRO!$E$48=\"\",\"\",ROUND($D62*INTRO!$E$48,0))","v":17284},{"$f":"IF(INTRO!$E$49=\"\",\"\",ROUND($D62*INTRO!$E$49,0))","v":30140},{"$f":"IF(INTRO!$E$50=\"\",\"\",ROUND($D62*INTRO!$E$50,0))","v":56931},0,4,3,2,1,{"$f":"IF(INTRO!$E$38=\"Endemic\", IF($H62>0, IF($H62=4,\"Unknown\", IF($H62=99,\"Stopped\", $D62)), 0),\"Not required\")","v":0},{"$f":"IF(INTRO!$E$40=\"Endemic\", IF($I62>0, IF($I62=4,\"Unknown\",IF($I62=99,\"Stopped\", $D62)), 0),\"Not required\")","v":"Unknown"},{"$f":"IF(INTRO!$E$42=\"Endemic\", IF(AND($J62>1,$J62<5), IF($J62=4, \"Unknown\", E62+F62), 0),\"Not required\")","v":47424},{"$f":"IF(INTRO!$E$44=\"Endemic\", IF(AND($K62>0,$K62<5), IF($K62=4,\"Unknown\", IF($K62=1, $F62*0.33, IF($K62=2, $F62*0.5+$G62*0.2, SUM(F62:G62)))), 0),\"Not required\")","v":26456.2},0,0,1,0,"T3 (ALB/MBD)",null,2131,"HUMPATA",null,0,0,0]
[{"$f":"IF(INTRO!$E$34<>0,INTRO!$E$34,\"\")","v":"Angola"},"CUANZA SUL","MUSSENDE",96851.906058504843,{"$f":"IF(INTRO!$E$48=\"\",\"\",ROUND($D63*INTRO!$E$48,0))","v":15496},{"$f":"IF(INTRO!$E$49=\"\",\"\",ROUND($D63*INTRO!$E$49,0))","v":27022},{"$f":"IF(INTRO!$E$50=\"\",\"\",ROUND($D63*INTRO!$E$50,0))","v":51041},0,1,3,2,1,{"$f":"IF(INTRO!$E$38=\"Endemic\", IF($H63>0, IF($H63=4,\"Unknown\", IF($H63=99,\"Stopped\", $D63)), 0),\"Not required\")","v":0},{"$f":"IF(INTRO!$E$40=\"Endemic\", IF($I63>0, IF($I63=4,\"Unknown\",IF($I63=99,\"Stopped\", $D63)), 0),\"Not required\")","v":96851.906058504843},{"$f":"IF(INTRO!$E$42=\"Endemic\", IF(AND($J63>1,$J63<5), IF($J63=4, \"Unknown\", E63+F63), 0),\"Not required\")","v":42518},{"$f":"IF(INTRO!$E$44=\"Endemic\", IF(AND($K63>0,$K63<5), IF($K63=4,\"Unknown\", IF($K63=1, $F63*0.33, IF($K63=2, $F63*0.5+$G63*0.2, SUM(F63:G63)))), 0),\"Not required\")","v":23719.200000000001},0,0,1,0,"T3 (ALB/MBD)",null,2132,"JAMBA",null,0,0,0]
[{"$f":"IF(INTRO!$E$34<>0,INTRO!$E$34,\"\")","v":"Angola"},"CUANZA SUL","PORTO AMBOIM",147804.05304181765,{"$f":"IF(INTRO!$E$48=\"\",\"\",ROUND($D64*INTRO!$E$48,0))","v":23649},{"$f":"IF(INTRO!$E$49=\"\",\"\",ROUND($D64*INTRO!$E$49,0))","v":41237},{"$f":"IF(INTRO!$E$50=\"\",\"\",ROUND($D64*INTRO!$E$50,0))","v":77893},1,1,3,2,1,{"$f":"IF(INTRO!$E$38=\"Endemic\", IF($H64>0, IF($H64=4,\"Unknown\", IF($H64=99,\"Stopped\", $D64)), 0),\"Not required\")","v":147804.05304181765},{"$f":"IF(INTRO!$E$40=\"Endemic\", IF($I64>0, IF($I64=4,\"Unknown\",IF($I64=99,\"Stopped\", $D64)), 0),\"Not required\")","v":147804.05304181765},{"$f":"IF(INTRO!$E$42=\"Endemic\", IF(AND($J64>1,$J64<5), IF($J64=4, \"Unknown\", E64+F64), 0),\"Not required\")","v":64886},{"$f":"IF(INTRO!$E$44=\"Endemic\", IF(AND($K64>0,$K64<5), IF($K64=4,\"Unknown\", IF($K64=1, $F64*0.33, IF($K64=2, $F64*0.5+$G64*0.2, SUM(F64:G64)))), 0),\"Not required\")","v":36197.1},0,0,1,0,"T3 (ALB/MBD)",null,2136,"KUVANGO",null,0,0,0]
[{"$f":"IF(INTRO!$E$34<>0,INTRO!$E$34,\"\")","v":"Angola"},"CUANZA SUL","QUIBALA",166680.69416254386,{"$f":"IF(INTRO!$E$48=\"\",\"\",ROUND($D65*INTRO!$E$48,0))","v":26669},{"$f":"IF(INTRO!$E$49=\"\",\"\",ROUND($D65*INTRO!$E$49,0))","v":46504},{"$f":"IF(INTRO!$E$50=\"\",\"\",ROUND($D65*INTRO!$E$50,0))","v":87841},0,4,3,2,1,{"$f":"IF(INTRO!$E$38=\"Endemic\", IF($H65>0, IF($H65=4,\"Unknown\", IF($H65=99,\"Stopped\", $D65)), 0),\"Not required\")","v":0},{"$f":"IF(INTRO!$E$40=\"Endemic\", IF($I65>0, IF($I65=4,\"Unknown\",IF($I65=99,\"Stopped\", $D65)), 0),\"Not required\")","v":"Unknown"},{"$f":"IF(INTRO!$E$42=\"Endemic\", IF(AND($J65>1,$J65<5), IF($J65=4, \"Unknown\", E65+F65), 0),\"Not required\")","v":73173},{"$f":"IF(INTRO!$E$44=\"Endemic\", IF(AND($K65>0,$K65<5), IF($K65=4,\"Unknown\", IF($K65=1, $F65*0.33, IF($K65=2, $F65*0.5+$G65*0.2, SUM(F65:G65)))), 0),\"Not required\")","v":40820.199999999997},0,0,1,0,"T3 (ALB/MBD)",null,2137,"LUBANGO",null,0,0,0]
[{"$f":"IF(INTRO!$E$34<>0,INTRO!$E$34,\"\")","v":"Angola"},"CUANZA SUL","QUILENDA",114573.9838486247,{"$f":"IF(INTRO!$E$48=\"\",\"\",ROUND($D66*INTRO!$E$48,0))","v":18332},{"$f":"IF(INTRO!$E$49=\"\",\"\",ROUND($D66*INTRO!$E$49,0))","v":31966},{"$f":"IF(INTRO!$E$50=\"\",\"\",ROUND($D66*INTRO!$E$50,0))","v":60380},4,4,3,2,1,{"$f":"IF(INTRO!$E$38=\"Endemic\", IF($H66>0, IF($H66=4,\"Unknown\", IF($H66=99,\"Stopped\", $D66)), 0),\"Not required\")","v":"Unknown"},{"$f":"IF(INTRO!$E$40=\"Endemic\", IF($I66>0, IF($I66=4,\"Unknown\",IF($I66=99,\"Stopped\", $D66)), 0),\"Not required\")","v":"Unknown"},{"$f":"IF(INTRO!$E$42=\"Endemic\", IF(AND($J66>1,$J66<5), IF($J66=4, \"Unknown\", E66+F66), 0),\"Not required\")","v":50298},{"$f":"IF(INTRO!$E$44=\"Endemic\", IF(AND($K66>0,$K66<5), IF($K66=4,\"Unknown\", IF($K66=1, $F66*0.33, IF($K66=2, $F66*0.5+$G66*0.2, SUM(F66:G66)))), 0),\"Not required\")","v":28059},0,0,1,0,"T3 (ALB/MBD)",null,2138,"MATALA",null,0,0,0]
[{"$f":"IF(INTRO!$E$34<>0,INTRO!$E$34,\"\")","v":"Angola"},"CUANZA SUL","SELES",219562.98004712432,{"$f":"IF(INTRO!$E$48=\"\",\"\",ROUND($D67*INTRO!$E$48,0))","v":35130},{"$f":"IF(INTRO!$E$49=\"\",\"\",ROUND($D67*INTRO!$E$49,0))","v":61258},{"$f":"IF(INTRO!$E$50=\"\",\"\",ROUND($D67*INTRO!$E$50,0))","v":115710},0,4,3,2,1,{"$f":"IF(INTRO!$E$38=\"Endemic\", IF($H67>0, IF($H67=4,\"Unknown\", IF($H67=99,\"Stopped\", $D67)), 0),\"Not required\")","v":0},{"$f":"IF(INTRO!$E$40=\"Endemic\", IF($I67>0, IF($I67=4,\"Unknown\",IF($I67=99,\"Stopped\", $D67)), 0),\"Not required\")","v":"Unknown"},{"$f":"IF(INTRO!$E$42=\"Endemic\", IF(AND($J67>1,$J67<5), IF($J67=4, \"Unknown\", E67+F67), 0),\"Not required\")","v":96388},{"$f":"IF(INTRO!$E$44=\"Endemic\", IF(AND($K67>0,$K67<5), IF($K67=4,\"Unknown\", IF($K67=1, $F67*0.33, IF($K67=2, $F67*0.5+$G67*0.2, SUM(F67:G67)))), 0),\"Not required\")","v":53771},0,0,1,0,"T3 (ALB/MBD)",null,2135,"QUILENGUES",null,0,0,0]
[{"$f":"IF(INTRO!$E$34<>0,INTRO!$E$34,\"\")","v":"Angola"},"CUANZA SUL","SUMBE",328496.73429186223,{"$f":"IF(INTRO!$E$48=\"\",\"\",ROUND($D68*INTRO!$E$48,0))","v":52559},{"$f":"IF(INTRO!$E$49=\"\",\"\",ROUND($D68*INTRO!$E$49,0))","v":91651},{"$f":"IF(INTRO!$E$50=\"\",\"\",ROUND($D68*INTRO!$E$50,0))","v":173118},0,4,3,2,1,{"$f":"IF(INTRO!$E$38=\"Endemic\", IF($H68>0, IF($H68=4,\"Unknown\", IF($H68=99,\"Stopped\", $D68)), 0),\"Not required\")","v":0},{"$f":"IF(INTRO!$E$40=\"Endemic\", IF($I68>0, IF($I68=4,\"Unknown\",IF($I68=99,\"Stopped\", $D68)), 0),\"Not required\")","v":"Unknown"},{"$f":"IF(INTRO!$E$42=\"Endemic\", IF(AND($J68>1,$J68<5), IF($J68=4, \"Unknown\", E68+F68), 0),\"Not required\")","v":144210},{"$f":"IF(INTRO!$E$44=\"Endemic\", IF(AND($K68>0,$K68<5), IF($K68=4,\"Unknown\", IF($K68=1, $F68*0.33, IF($K68=2, $F68*0.5+$G68*0.2, SUM(F68:G68)))), 0),\"Not required\")","v":80449.100000000006},0,0,1,0,"T3 (ALB/MBD)",null,2221,"QUIPUNGO",null,0,0,0]
[{"$f":"IF(INTRO!$E$34<>0,INTRO!$E$34,\"\")","v":"Angola"},"CUNENE","CAHAMA",82205.143806514199,{"$f":"IF(INTRO!$E$48=\"\",\"\",ROUND($D69*INTRO!$E$48,0))","v":13153},{"$f":"IF(INTRO!$E$49=\"\",\"\",ROUND($D69*INTRO!$E$49,0))","v":22935},{"$f":"IF(INTRO!$E$50=\"\",\"\",ROUND($D69*INTRO!$E$50,0))","v":43322},0,4,2,2,1,{"$f":"IF(INTRO!$E$38=\"Endemic\", IF($H69>0, IF($H69=4,\"Unknown\", IF($H69=99,\"Stopped\", $D69)), 0),\"Not required\")","v":0},{"$f":"IF(INTRO!$E$40=\"Endemic\", IF($I69>0, IF($I69=4,\"Unknown\",IF($I69=99,\"Stopped\", $D69)), 0),\"Not required\")","v":"Unknown"},{"$f":"IF(INTRO!$E$42=\"Endemic\", IF(AND($J69>1,$J69<5), IF($J69=4, \"Unknown\", E69+F69), 0),\"Not required\")","v":36088},{"$f":"IF(INTRO!$E$44=\"Endemic\", IF(AND($K69>0,$K69<5), IF($K69=4,\"Unknown\", IF($K69=1, $F69*0.33, IF($K69=2, $F69*0.5+$G69*0.2, SUM(F69:G69)))), 0),\"Not required\")","v":20131.900000000001},0,0,0,0,null,null,2078,"CALAI",null,0,6871,6947]
[{"$f":"IF(INTRO!$E$34<>0,INTRO!$E$34,\"\")","v":"Angola"},"CUNENE","CUANHAMA",439448.62769172504,{"$f":"IF(INTRO!$E$48=\"\",\"\",ROUND($D70*INTRO!$E$48,0))","v":70312},{"$f":"IF(INTRO!$E$49=\"\",\"\",ROUND($D70*INTRO!$E$49,0))","v":122606},{"$f":"IF(INTRO!$E$50=\"\",\"\",ROUND($D70*INTRO!$E$50,0))","v":231589},0,4,2,2,1,{"$f":"IF(INTRO!$E$38=\"Endemic\", IF($H70>0, IF($H70=4,\"Unknown\", IF($H70=99,\"Stopped\", $D70)), 0),\"Not required\")","v":0},{"$f":"IF(INTRO!$E$40=\"Endemic\", IF($I70>0, IF($I70=4,\"Unknown\",IF($I70=99,\"Stopped\", $D70)), 0),\"Not required\")","v":"Unknown"},{"$f":"IF(INTRO!$E$42=\"Endemic\", IF(AND($J70>1,$J70<5), IF($J70=4, \"Unknown\", E70+F70), 0),\"Not required\")","v":192918},{"$f":"IF(INTRO!$E$44=\"Endemic\", IF(AND($K70>0,$K70<5), IF($K70=4,\"Unknown\", IF($K70=1, $F70*0.33, IF($K70=2, $F70*0.5+$G70*0.2, SUM(F70:G70)))), 0),\"Not required\")","v":107620.8},0,0,0,0,null,null,2076,"CUANGAR",null,6954,8618,10175]
[{"$f":"IF(INTRO!$E$34<>0,INTRO!$E$34,\"\")","v":"Angola"},"CUNENE","CUROCA",48208.885736404671,{"$f":"IF(INTRO!$E$48=\"\",\"\",ROUND($D71*INTRO!$E$48,0))","v":7713},{"$f":"IF(INTRO!$E$49=\"\",\"\",ROUND($D71*INTRO!$E$49,0))","v":13450},{"$f":"IF(INTRO!$E$50=\"\",\"\",ROUND($D71*INTRO!$E$50,0))","v":25406},0,4,2,2,4,{"$f":"IF(INTRO!$E$38=\"Endemic\", IF($H71>0, IF($H71=4,\"Unknown\", IF($H71=99,\"Stopped\", $D71)), 0),\"Not required\")","v":0},{"$f":"IF(INTRO!$E$40=\"Endemic\", IF($I71>0, IF($I71=4,\"Unknown\",IF($I71=99,\"Stopped\", $D71)), 0),\"Not required\")","v":"Unknown"},{"$f":"IF(INTRO!$E$42=\"Endemic\", IF(AND($J71>1,$J71<5), IF($J71=4, \"Unknown\", E71+F71), 0),\"Not required\")","v":21163},{"$f":"IF(INTRO!$E$44=\"Endemic\", IF(AND($K71>0,$K71<5), IF($K71=4,\"Unknown\", IF($K71=1, $F71*0.33, IF($K71=2, $F71*0.5+$G71*0.2, SUM(F71:G71)))), 0),\"Not required\")","v":11806.2},0,0,0,0,null,null,2079,"CUCHI",null,20091,22128,18755]
[{"$f":"IF(INTRO!$E$34<>0,INTRO!$E$34,\"\")","v":"Angola"},"CUNENE","CUVELAI",67347.180945266286,{"$f":"IF(INTRO!$E$48=\"\",\"\",ROUND($D72*INTRO!$E$48,0))","v":10776},{"$f":"IF(INTRO!$E$49=\"\",\"\",ROUND($D72*INTRO!$E$49,0))","v":18790},{"$f":"IF(INTRO!$E$50=\"\",\"\",ROUND($D72*INTRO!$E$50,0))","v":35492},0,4,2,2,1,{"$f":"IF(INTRO!$E$38=\"Endemic\", IF($H72>0, IF($H72=4,\"Unknown\", IF($H72=99,\"Stopped\", $D72)), 0),\"Not required\")","v":0},{"$f":"IF(INTRO!$E$40=\"Endemic\", IF($I72>0, IF($I72=4,\"Unknown\",IF($I72=99,\"Stopped\", $D72)), 0),\"Not required\")","v":"Unknown"},{"$f":"IF(INTRO!$E$42=\"Endemic\", IF(AND($J72>1,$J72<5), IF($J72=4, \"Unknown\", E72+F72), 0),\"Not required\")","v":29566},{"$f":"IF(INTRO!$E$44=\"Endemic\", IF(AND($K72>0,$K72<5), IF($K72=4,\"Unknown\", IF($K72=1, $F72*0.33, IF($K72=2, $F72*0.5+$G72*0.2, SUM(F72:G72)))), 0),\"Not required\")","v":16493.400000000001},0,0,0,0,null,null,2077,"DIRICO",null,0,0,0]
[{"$f":"IF(INTRO!$E$34<>0,INTRO!$E$34,\"\")","v":"Angola"},"CUNENE","NAMACUNDE",166668.96079536292,{"$f":"IF(INTRO!$E$48=\"\",\"\",ROUND($D73*INTRO!$E$48,0))","v":26667},{"$f":"IF(INTRO!$E$49=\"\",\"\",ROUND($D73*INTRO!$E$49,0))","v":46501},{"$f":"IF(INTRO!$E$50=\"\",\"\",ROUND($D73*INTRO!$E$50,0))","v":87835},0,4,2,2,1,{"$f":"IF(INTRO!$E$38=\"Endemic\", IF($H73>0, IF($H73=4,\"Unknown\", IF($H73=99,\"Stopped\", $D73)), 0),\"Not required\")","v":0},{"$f":"IF(INTRO!$E$40=\"Endemic\", IF($I73>0, IF($I73=4,\"Unknown\",IF($I73=99,\"Stopped\", $D73)), 0),\"Not required\")","v":"Unknown"},{"$f":"IF(INTRO!$E$42=\"Endemic\", IF(AND($J73>1,$J73<5), IF($J73=4, \"Unknown\", E73+F73), 0),\"Not required\")","v":73168},{"$f":"IF(INTRO!$E$44=\"Endemic\", IF(AND($K73>0,$K73<5), IF($K73=4,\"Unknown\", IF($K73=1, $F73*0.33, IF($K73=2, $F73*0.5+$G73*0.2, SUM(F73:G73)))), 0),\"Not required\")","v":40817.5},0,0,0,0,null,null,2080,"KUITO KUANAVALE",null,11737,12642,14597]
[{"$f":"IF(INTRO!$E$34<>0,INTRO!$E$34,\"\")","v":"Angola"},"CUNENE","OMBADJA",357825.45889738644,{"$f":"IF(INTRO!$E$48=\"\",\"\",ROUND($D74*INTRO!$E$48,0))","v":57252},{"$f":"IF(INTRO!$E$49=\"\",\"\",ROUND($D74*INTRO!$E$49,0))","v":99833},{"$f":"IF(INTRO!$E$50=\"\",\"\",ROUND($D74*INTRO!$E$50,0))","v":188574},0,4,2,2,1,{"$f":"IF(INTRO!$E$38=\"Endemic\", IF($H74>0, IF($H74=4,\"Unknown\", IF($H74=99,\"Stopped\", $D74)), 0),\"Not required\")","v":0},{"$f":"IF(INTRO!$E$40=\"Endemic\", IF($I74>0, IF($I74=4,\"Unknown\",IF($I74=99,\"Stopped\", $D74)), 0),\"Not required\")","v":"Unknown"},{"$f":"IF(INTRO!$E$42=\"Endemic\", IF(AND($J74>1,$J74<5), IF($J74=4, \"Unknown\", E74+F74), 0),\"Not required\")","v":157085},{"$f":"IF(INTRO!$E$44=\"Endemic\", IF(AND($K74>0,$K74<5), IF($K74=4,\"Unknown\", IF($K74=1, $F74*0.33, IF($K74=2, $F74*0.5+$G74*0.2, SUM(F74:G74)))), 0),\"Not required\")","v":87631.3},0,0,0,0,null,null,2081,"MAVINGA",null,0,0,0]
[{"$f":"IF(INTRO!$E$34<>0,INTRO!$E$34,\"\")","v":"Angola"},"HUAMBO","BAILUNDO",345540.62345892278,{"$f":"IF(INTRO!$E$48=\"\",\"\",ROUND($D75*INTRO!$E$48,0))","v":55286},{"$f":"IF(INTRO!$E$49=\"\",\"\",ROUND($D75*INTRO!$E$49,0))","v":96406},{"$f":"IF(INTRO!$E$50=\"\",\"\",ROUND($D75*INTRO!$E$50,0))","v":182100},0,4,1,2,1,{"$f":"IF(INTRO!$E$38=\"Endemic\", IF($H75>0, IF($H75=4,\"Unknown\", IF($H75=99,\"Stopped\", $D75)), 0),\"Not required\")","v":0},{"$f":"IF(INTRO!$E$40=\"Endemic\", IF($I75>0, IF($I75=4,\"Unknown\",IF($I75=99,\"Stopped\", $D75)), 0),\"Not required\")","v":"Unknown"},{"$f":"IF(INTRO!$E$42=\"Endemic\", IF(AND($J75>1,$J75<5), IF($J75=4, \"Unknown\", E75+F75), 0),\"Not required\")","v":0},{"$f":"IF(INTRO!$E$44=\"Endemic\", IF(AND($K75>0,$K75<5), IF($K75=4,\"Unknown\", IF($K75=1, $F75*0.33, IF($K75=2, $F75*0.5+$G75*0.2, SUM(F75:G75)))), 0),\"Not required\")","v":84623},0,0,0,1,"T2 (PZQ)",null,2082,"MENONGUE",null,55156,62645,69391]
[{"$f":"IF(INTRO!$E$34<>0,INTRO!$E$34,\"\")","v":"Angola"},"HUAMBO","CAALA",328290.22702947742,{"$f":"IF(INTRO!$E$48=\"\",\"\",ROUND($D76*INTRO!$E$48,0))","v":52526},{"$f":"IF(INTRO!$E$49=\"\",\"\",ROUND($D76*INTRO!$E$49,0))","v":91593},{"$f":"IF(INTRO!$E$50=\"\",\"\",ROUND($D76*INTRO!$E$50,0))","v":173009},0,4,1,2,1,{"$f":"IF(INTRO!$E$38=\"Endemic\", IF($H76>0, IF($H76=4,\"Unknown\", IF($H76=99,\"Stopped\", $D76)), 0),\"Not required\")","v":0},{"$f":"IF(INTRO!$E$40=\"Endemic\", IF($I76>0, IF($I76=4,\"Unknown\",IF($I76=99,\"Stopped\", $D76)), 0),\"Not required\")","v":"Unknown"},{"$f":"IF(INTRO!$E$42=\"Endemic\", IF(AND($J76>1,$J76<5), IF($J76=4, \"Unknown\", E76+F76), 0),\"Not required\")","v":0},{"$f":"IF(INTRO!$E$44=\"Endemic\", IF(AND($K76>0,$K76<5), IF($K76=4,\"Unknown\", IF($K76=1, $F76*0.33, IF($K76=2, $F76*0.5+$G76*0.2, SUM(F76:G76)))), 0),\"Not required\")","v":80398.3},0,0,0,1,"T2 (PZQ)",null,2083,"NANKOVA",null,1167,615,1068]
[{"$f":"IF(INTRO!$E$34<>0,INTRO!$E$34,\"\")","v":"Angola"},"HUAMBO","CACHIUNGO",141594.75512965434,{"$f":"IF(INTRO!$E$48=\"\",\"\",ROUND($D77*INTRO!$E$48,0))","v":22655},{"$f":"IF(INTRO!$E$49=\"\",\"\",ROUND($D77*INTRO!$E$49,0))","v":39505},{"$f":"IF(INTRO!$E$50=\"\",\"\",ROUND($D77*INTRO!$E$50,0))","v":74620},0,4,1,2,1,{"$f":"IF(INTRO!$E$38=\"Endemic\", IF($H77>0, IF($H77=4,\"Unknown\", IF($H77=99,\"Stopped\", $D77)), 0),\"Not required\")","v":0},{"$f":"IF(INTRO!$E$40=\"Endemic\", IF($I77>0, IF($I77=4,\"Unknown\",IF($I77=99,\"Stopped\", $D77)), 0),\"Not required\")","v":"Unknown"},{"$f":"IF(INTRO!$E$42=\"Endemic\", IF(AND($J77>1,$J77<5), IF($J77=4, \"Unknown\", E77+F77), 0),\"Not required\")","v":0},{"$f":"IF(INTRO!$E$44=\"Endemic\", IF(AND($K77>0,$K77<5), IF($K77=4,\"Unknown\", IF($K77=1, $F77*0.33, IF($K77=2, $F77*0.5+$G77*0.2, SUM(F77:G77)))), 0),\"Not required\")","v":34676.5},0,0,0,1,"T2 (PZQ)",null,2084,"RIVUNGO",null,0,0,0]
[{"$f":"IF(INTRO!$E$34<>0,INTRO!$E$34,\"\")","v":"Angola"},"HUAMBO","CHICALA CHOLOHANGA",121611.65748376372,{"$f":"IF(INTRO!$E$48=\"\",\"\",ROUND($D78*INTRO!$E$48,0))","v":19458},{"$f":"IF(INTRO!$E$49=\"\",\"\",ROUND($D78*INTRO!$E$49,0))","v":33930},{"$f":"IF(INTRO!$E$50=\"\",\"\",ROUND($D78*INTRO!$E$50,0))","v":64089},0,4,1,2,1,{"$f":"IF(INTRO!$E$38=\"Endemic\", IF($H78>0, IF($H78=4,\"Unknown\", IF($H78=99,\"Stopped\", $D78)), 0),\"Not required\")","v":0},{"$f":"IF(INTRO!$E$40=\"Endemic\", IF($I78>0, IF($I78=4,\"Unknown\",IF($I78=99,\"Stopped\", $D78)), 0),\"Not required\")","v":"Unknown"},{"$f":"IF(INTRO!$E$42=\"Endemic\", IF(AND($J78>1,$J78<5), IF($J78=4, \"Unknown\", E78+F78), 0),\"Not required\")","v":0},{"$f":"IF(INTRO!$E$44=\"Endemic\", IF(AND($K78>0,$K78<5), IF($K78=4,\"Unknown\", IF($K78=1, $F78*0.33, IF($K78=2, $F78*0.5+$G78*0.2, SUM(F78:G78)))), 0),\"Not required\")","v":29782.800000000003},0,0,0,1,"T2 (PZQ)",null,2085,"AMBACA",null,0,0,0]
[{"$f":"IF(INTRO!$E$34<>0,INTRO!$E$34,\"\")","v":"Angola"},"HUAMBO","CHINDJENJE",35719.889708992327,{"$f":"IF(INTRO!$E$48=\"\",\"\",ROUND($D79*INTRO!$E$48,0))","v":5715},{"$f":"IF(INTRO!$E$49=\"\",\"\",ROUND($D79*INTRO!$E$49,0))","v":9966},{"$f":"IF(INTRO!$E$50=\"\",\"\",ROUND($D79*INTRO!$E$50,0))","v":18824},0,4,1,2,4,{"$f":"IF(INTRO!$E$38=\"Endemic\", IF($H79>0, IF($H79=4,\"Unknown\", IF($H79=99,\"Stopped\", $D79)), 0),\"Not required\")","v":0},{"$f":"IF(INTRO!$E$40=\"Endemic\", IF($I79>0, IF($I79=4,\"Unknown\",IF($I79=99,\"Stopped\", $D79)), 0),\"Not required\")","v":"Unknown"},{"$f":"IF(INTRO!$E$42=\"Endemic\", IF(AND($J79>1,$J79<5), IF($J79=4, \"Unknown\", E79+F79), 0),\"Not required\")","v":0},{"$f":"IF(INTRO!$E$44=\"Endemic\", IF(AND($K79>0,$K79<5), IF($K79=4,\"Unknown\", IF($K79=1, $F79*0.33, IF($K79=2, $F79*0.5+$G79*0.2, SUM(F79:G79)))), 0),\"Not required\")","v":8747.7999999999993},0,0,0,1,"T2 (PZQ)",null,2086,"BANGA",null,0,0,0]
[{"$f":"IF(INTRO!$E$34<>0,INTRO!$E$34,\"\")","v":"Angola"},"HUAMBO","ECUNHA",96848.386048350527,{"$f":"IF(INTRO!$E$48=\"\",\"\",ROUND($D80*INTRO!$E$48,0))","v":15496},{"$f":"IF(INTRO!$E$49=\"\",\"\",ROUND($D80*INTRO!$E$49,0))","v":27021},{"$f":"IF(INTRO!$E$50=\"\",\"\",ROUND($D80*INTRO!$E$50,0))","v":51039},0,4,1,2,1,{"$f":"IF(INTRO!$E$38=\"Endemic\", IF($H80>0, IF($H80=4,\"Unknown\", IF($H80=99,\"Stopped\", $D80)), 0),\"Not required\")","v":0},{"$f":"IF(INTRO!$E$40=\"Endemic\", IF($I80>0, IF($I80=4,\"Unknown\",IF($I80=99,\"Stopped\", $D80)), 0),\"Not required\")","v":"Unknown"},{"$f":"IF(INTRO!$E$42=\"Endemic\", IF(AND($J80>1,$J80<5), IF($J80=4, \"Unknown\", E80+F80), 0),\"Not required\")","v":0},{"$f":"IF(INTRO!$E$44=\"Endemic\", IF(AND($K80>0,$K80<5), IF($K80=4,\"Unknown\", IF($K80=1, $F80*0.33, IF($K80=2, $F80*0.5+$G80*0.2, SUM(F80:G80)))), 0),\"Not required\")","v":23718.300000000003},0,0,0,1,"T2 (PZQ)",null,2087,"BOLONGONGO",null,0,0,0]
[{"$f":"IF(INTRO!$E$34<>0,INTRO!$E$34,\"\")","v":"Angola"},"HUAMBO","HUAMBO",836746.30712257442,{"$f":"IF(INTRO!$E$48=\"\",\"\",ROUND($D81*INTRO!$E$48,0))","v":133879},{"$f":"IF(INTRO!$E$49=\"\",\"\",ROUND($D81*INTRO!$E$49,0))","v":233452},{"$f":"IF(INTRO!$E$50=\"\",\"\",ROUND($D81*INTRO!$E$50,0))","v":440965},0,4,2,2,1,{"$f":"IF(INTRO!$E$38=\"Endemic\", IF($H81>0, IF($H81=4,\"Unknown\", IF($H81=99,\"Stopped\", $D81)), 0),\"Not required\")","v":0},{"$f":"IF(INTRO!$E$40=\"Endemic\", IF($I81>0, IF($I81=4,\"Unknown\",IF($I81=99,\"Stopped\", $D81)), 0),\"Not required\")","v":"Unknown"},{"$f":"IF(INTRO!$E$42=\"Endemic\", IF(AND($J81>1,$J81<5), IF($J81=4, \"Unknown\", E81+F81), 0),\"Not required\")","v":367331},{"$f":"IF(INTRO!$E$44=\"Endemic\", IF(AND($K81>0,$K81<5), IF($K81=4,\"Unknown\", IF($K81=1, $F81*0.33, IF($K81=2, $F81*0.5+$G81*0.2, SUM(F81:G81)))), 0),\"Not required\")","v":204919},0,0,1,1,"T1 (PZQ+ALB/MBD)",null,2091,"CAMBAMBE",null,0,0,0]
[{"$f":"IF(INTRO!$E$34<>0,INTRO!$E$34,\"\")","v":"Angola"},"HUAMBO","LONDUIMBALI",157525.14775124184,{"$f":"IF(INTRO!$E$48=\"\",\"\",ROUND($D82*INTRO!$E$48,0))","v":25204},{"$f":"IF(INTRO!$E$49=\"\",\"\",ROUND($D82*INTRO!$E$49,0))","v":43950},{"$f":"IF(INTRO!$E$50=\"\",\"\",ROUND($D82*INTRO!$E$50,0))","v":83016},0,4,1,2,1,{"$f":"IF(INTRO!$E$38=\"Endemic\", IF($H82>0, IF($H82=4,\"Unknown\", IF($H82=99,\"Stopped\", $D82)), 0),\"Not required\")","v":0},{"$f":"IF(INTRO!$E$40=\"Endemic\", IF($I82>0, IF($I82=4,\"Unknown\",IF($I82=99,\"Stopped\", $D82)), 0),\"Not required\")","v":"Unknown"},{"$f":"IF(INTRO!$E$42=\"Endemic\", IF(AND($J82>1,$J82<5), IF($J82=4, \"Unknown\", E82+F82), 0),\"Not required\")","v":0},{"$f":"IF(INTRO!$E$44=\"Endemic\", IF(AND($K82>0,$K82<5), IF($K82=4,\"Unknown\", IF($K82=1, $F82*0.33, IF($K82=2, $F82*0.5+$G82*0.2, SUM(F82:G82)))), 0),\"Not required\")","v":38578.199999999997},0,0,0,1,"T2 (PZQ)",null,2092,"CAZENGO",null,0,0,0]
[{"$f":"IF(INTRO!$E$34<>0,INTRO!$E$34,\"\")","v":"Angola"},"HUAMBO","LONGONJO",108067.83174678318,{"$f":"IF(INTRO!$E$48=\"\",\"\",ROUND($D83*INTRO!$E$48,0))","v":17291},{"$f":"IF(INTRO!$E$49=\"\",\"\",ROUND($D83*INTRO!$E$49,0))","v":30151},{"$f":"IF(INTRO!$E$50=\"\",\"\",ROUND($D83*INTRO!$E$50,0))","v":56952},0,4,2,2,4,{"$f":"IF(INTRO!$E$38=\"Endemic\", IF($H83>0, IF($H83=4,\"Unknown\", IF($H83=99,\"Stopped\", $D83)), 0),\"Not required\")","v":0},{"$f":"IF(INTRO!$E$40=\"Endemic\", IF($I83>0, IF($I83=4,\"Unknown\",IF($I83=99,\"Stopped\", $D83)), 0),\"Not required\")","v":"Unknown"},{"$f":"IF(INTRO!$E$42=\"Endemic\", IF(AND($J83>1,$J83<5), IF($J83=4, \"Unknown\", E83+F83), 0),\"Not required\")","v":47442},{"$f":"IF(INTRO!$E$44=\"Endemic\", IF(AND($K83>0,$K83<5), IF($K83=4,\"Unknown\", IF($K83=1, $F83*0.33, IF($K83=2, $F83*0.5+$G83*0.2, SUM(F83:G83)))), 0),\"Not required\")","v":26465.9},0,0,1,1,"T1 (PZQ+ALB/MBD)",null,2090,"GOLUNGO ALTO",null,0,0,0]
[{"$f":"IF(INTRO!$E$34<>0,INTRO!$E$34,\"\")","v":"Angola"},"HUAMBO","MUNGO",133076.33055627838,{"$f":"IF(INTRO!$E$48=\"\",\"\",ROUND($D84*INTRO!$E$48,0))","v":21292},{"$f":"IF(INTRO!$E$49=\"\",\"\",ROUND($D84*INTRO!$E$49,0))","v":37128},{"$f":"IF(INTRO!$E$50=\"\",\"\",ROUND($D84*INTRO!$E$50,0))","v":70131},0,1,1,2,1,{"$f":"IF(INTRO!$E$38=\"Endemic\", IF($H84>0, IF($H84=4,\"Unknown\", IF($H84=99,\"Stopped\", $D84)), 0),\"Not required\")","v":0},{"$f":"IF(INTRO!$E$40=\"Endemic\", IF($I84>0, IF($I84=4,\"Unknown\",IF($I84=99,\"Stopped\", $D84)), 0),\"Not required\")","v":133076.33055627838},{"$f":"IF(INTRO!$E$42=\"Endemic\", IF(AND($J84>1,$J84<5), IF($J84=4, \"Unknown\", E84+F84), 0),\"Not required\")","v":0},{"$f":"IF(INTRO!$E$44=\"Endemic\", IF(AND($K84>0,$K84<5), IF($K84=4,\"Unknown\", IF($K84=1, $F84*0.33, IF($K84=2, $F84*0.5+$G84*0.2, SUM(F84:G84)))), 0),\"Not required\")","v":32590.2},0,0,0,1,"T2 (PZQ)",null,2217,"GONGUEMBO",null,0,0,0]
[{"$f":"IF(INTRO!$E$34<>0,INTRO!$E$34,\"\")","v":"Angola"},"HUAMBO","UCUMA",64596.879678049583,{"$f":"IF(INTRO!$E$48=\"\",\"\",ROUND($D85*INTRO!$E$48,0))","v":10336},{"$f":"IF(INTRO!$E$49=\"\",\"\",ROUND($D85*INTRO!$E$49,0))","v":18023},{"$f":"IF(INTRO!$E$50=\"\",\"\",ROUND($D85*INTRO!$E$50,0))","v":34043},0,4,1,2,4,{"$f":"IF(INTRO!$E$38=\"Endemic\", IF($H85>0, IF($H85=4,\"Unknown\", IF($H85=99,\"Stopped\", $D85)), 0),\"Not required\")","v":0},{"$f":"IF(INTRO!$E$40=\"Endemic\", IF($I85>0, IF($I85=4,\"Unknown\",IF($I85=99,\"Stopped\", $D85)), 0),\"Not required\")","v":"Unknown"},{"$f":"IF(INTRO!$E$42=\"Endemic\", IF(AND($J85>1,$J85<5), IF($J85=4, \"Unknown\", E85+F85), 0),\"Not required\")","v":0},{"$f":"IF(INTRO!$E$44=\"Endemic\", IF(AND($K85>0,$K85<5), IF($K85=4,\"Unknown\", IF($K85=1, $F85*0.33, IF($K85=2, $F85*0.5+$G85*0.2, SUM(F85:G85)))), 0),\"Not required\")","v":15820.1},0,0,0,1,"T2 (PZQ)",null,2093,"KICULUNGO",null,0,0,0]
[{"$f":"IF(INTRO!$E$34<>0,INTRO!$E$34,\"\")","v":"Angola"},"HUILA","CACONDA",196909.36803084755,{"$f":"IF(INTRO!$E$48=\"\",\"\",ROUND($D86*INTRO!$E$48,0))","v":31505},{"$f":"IF(INTRO!$E$49=\"\",\"\",ROUND($D86*INTRO!$E$49,0))","v":54938},{"$f":"IF(INTRO!$E$50=\"\",\"\",ROUND($D86*INTRO!$E$50,0))","v":103771},0,4,2,2,4,{"$f":"IF(INTRO!$E$38=\"Endemic\", IF($H86>0, IF($H86=4,\"Unknown\", IF($H86=99,\"Stopped\", $D86)), 0),\"Not required\")","v":0},{"$f":"IF(INTRO!$E$40=\"Endemic\", IF($I86>0, IF($I86=4,\"Unknown\",IF($I86=99,\"Stopped\", $D86)), 0),\"Not required\")","v":"Unknown"},{"$f":"IF(INTRO!$E$42=\"Endemic\", IF(AND($J86>1,$J86<5), IF($J86=4, \"Unknown\", E86+F86), 0),\"Not required\")","v":86443},{"$f":"IF(INTRO!$E$44=\"Endemic\", IF(AND($K86>0,$K86<5), IF($K86=4,\"Unknown\", IF($K86=1, $F86*0.33, IF($K86=2, $F86*0.5+$G86*0.2, SUM(F86:G86)))), 0),\"Not required\")","v":48223.199999999997},0,0,0,0,null,null,2094,"LUCALA",null,0,0,0]
[{"$f":"IF(INTRO!$E$34<>0,INTRO!$E$34,\"\")","v":"Angola"},"HUILA","CACULA",160720.14363461686,{"$f":"IF(INTRO!$E$48=\"\",\"\",ROUND($D87*INTRO!$E$48,0))","v":25715},{"$f":"IF(INTRO!$E$49=\"\",\"\",ROUND($D87*INTRO!$E$49,0))","v":44841},{"$f":"IF(INTRO!$E$50=\"\",\"\",ROUND($D87*INTRO!$E$50,0))","v":84700},0,4,2,2,4,{"$f":"IF(INTRO!$E$38=\"Endemic\", IF($H87>0, IF($H87=4,\"Unknown\", IF($H87=99,\"Stopped\", $D87)), 0),\"Not required\")","v":0},{"$f":"IF(INTRO!$E$40=\"Endemic\", IF($I87>0, IF($I87=4,\"Unknown\",IF($I87=99,\"Stopped\", $D87)), 0),\"Not required\")","v":"Unknown"},{"$f":"IF(INTRO!$E$42=\"Endemic\", IF(AND($J87>1,$J87<5), IF($J87=4, \"Unknown\", E87+F87), 0),\"Not required\")","v":70556},{"$f":"IF(INTRO!$E$44=\"Endemic\", IF(AND($K87>0,$K87<5), IF($K87=4,\"Unknown\", IF($K87=1, $F87*0.33, IF($K87=2, $F87*0.5+$G87*0.2, SUM(F87:G87)))), 0),\"Not required\")","v":39360.5},0,0,0,0,null,null,2097,"SAMBA CAJU",null,0,0,0]
[{"$f":"IF(INTRO!$E$34<>0,INTRO!$E$34,\"\")","v":"Angola"},"HUILA","CALUQUEMBE",211119.6490237065,{"$f":"IF(INTRO!$E$48=\"\",\"\",ROUND($D88*INTRO!$E$48,0))","v":33779},{"$f":"IF(INTRO!$E$49=\"\",\"\",ROUND($D88*INTRO!$E$49,0))","v":58902},{"$f":"IF(INTRO!$E$50=\"\",\"\",ROUND($D88*INTRO!$E$50,0))","v":111260},0,1,2,2,4,{"$f":"IF(INTRO!$E$38=\"Endemic\", IF($H88>0, IF($H88=4,\"Unknown\", IF($H88=99,\"Stopped\", $D88)), 0),\"Not required\")","v":0},{"$f":"IF(INTRO!$E$40=\"Endemic\", IF($I88>0, IF($I88=4,\"Unknown\",IF($I88=99,\"Stopped\", $D88)), 0),\"Not required\")","v":211119.6490237065},{"$f":"IF(INTRO!$E$42=\"Endemic\", IF(AND($J88>1,$J88<5), IF($J88=4, \"Unknown\", E88+F88), 0),\"Not required\")","v":92681},{"$f":"IF(INTRO!$E$44=\"Endemic\", IF(AND($K88>0,$K88<5), IF($K88=4,\"Unknown\", IF($K88=1, $F88*0.33, IF($K88=2, $F88*0.5+$G88*0.2, SUM(F88:G88)))), 0),\"Not required\")","v":51703},0,0,0,0,null,null,2098,"AMBOIM",null,42187,42187,52142]
[{"$f":"IF(INTRO!$E$34<>0,INTRO!$E$34,\"\")","v":"Angola"},"HUILA","CHIBIA",194601.41470635298,{"$f":"IF(INTRO!$E$48=\"\",\"\",ROUND($D89*INTRO!$E$48,0))","v":31136},{"$f":"IF(INTRO!$E$49=\"\",\"\",ROUND($D89*INTRO!$E$49,0))","v":54294},{"$f":"IF(INTRO!$E$50=\"\",\"\",ROUND($D89*INTRO!$E$50,0))","v":102555},0,4,2,2,1,{"$f":"IF(INTRO!$E$38=\"Endemic\", IF($H89>0, IF($H89=4,\"Unknown\", IF($H89=99,\"Stopped\", $D89)), 0),\"Not required\")","v":0},{"$f":"IF(INTRO!$E$40=\"Endemic\", IF($I89>0, IF($I89=4,\"Unknown\",IF($I89=99,\"Stopped\", $D89)), 0),\"Not required\")","v":"Unknown"},{"$f":"IF(INTRO!$E$42=\"Endemic\", IF(AND($J89>1,$J89<5), IF($J89=4, \"Unknown\", E89+F89), 0),\"Not required\")","v":85430},{"$f":"IF(INTRO!$E$44=\"Endemic\", IF(AND($K89>0,$K89<5), IF($K89=4,\"Unknown\", IF($K89=1, $F89*0.33, IF($K89=2, $F89*0.5+$G89*0.2, SUM(F89:G89)))), 0),\"Not required\")","v":47658},0,0,0,0,null,null,2100,"CASSONGUE",null,34398,34398,41263]
[{"$f":"IF(INTRO!$E$34<>0,INTRO!$E$34,\"\")","v":"Angola"},"HUILA","CHICOMBA",154653.99280206129,{"$f":"IF(INTRO!$E$48=\"\",\"\",ROUND($D90*INTRO!$E$48,0))","v":24745},{"$f":"IF(INTRO!$E$49=\"\",\"\",ROUND($D90*INTRO!$E$49,0))","v":43148},{"$f":"IF(INTRO!$E$50=\"\",\"\",ROUND($D90*INTRO!$E$50,0))","v":81503},0,1,2,2,4,{"$f":"IF(INTRO!$E$38=\"Endemic\", IF($H90>0, IF($H90=4,\"Unknown\", IF($H90=99,\"Stopped\", $D90)), 0),\"Not required\")","v":0},{"$f":"IF(INTRO!$E$40=\"Endemic\", IF($I90>0, IF($I90=4,\"Unknown\",IF($I90=99,\"Stopped\", $D90)), 0),\"Not required\")","v":154653.99280206129},{"$f":"IF(INTRO!$E$42=\"Endemic\", IF(AND($J90>1,$J90<5), IF($J90=4, \"Unknown\", E90+F90), 0),\"Not required\")","v":67893},{"$f":"IF(INTRO!$E$44=\"Endemic\", IF(AND($K90>0,$K90<5), IF($K90=4,\"Unknown\", IF($K90=1, $F90*0.33, IF($K90=2, $F90*0.5+$G90*0.2, SUM(F90:G90)))), 0),\"Not required\")","v":37874.6},0,0,0,0,null,null,2167,"CELA (Waku Kungo)",null,49822,49822,67628]
[{"$f":"IF(INTRO!$E$34<>0,INTRO!$E$34,\"\")","v":"Angola"},"HUILA","CHIPINDO",75931.312374855595,{"$f":"IF(INTRO!$E$48=\"\",\"\",ROUND($D91*INTRO!$E$48,0))","v":12149},{"$f":"IF(INTRO!$E$49=\"\",\"\",ROUND($D91*INTRO!$E$49,0))","v":21185},{"$f":"IF(INTRO!$E$50=\"\",\"\",ROUND($D91*INTRO!$E$50,0))","v":40016},0,1,2,2,1,{"$f":"IF(INTRO!$E$38=\"Endemic\", IF($H91>0, IF($H91=4,\"Unknown\", IF($H91=99,\"Stopped\", $D91)), 0),\"Not required\")","v":0},{"$f":"IF(INTRO!$E$40=\"Endemic\", IF($I91>0, IF($I91=4,\"Unknown\",IF($I91=99,\"Stopped\", $D91)), 0),\"Not required\")","v":75931.312374855595},{"$f":"IF(INTRO!$E$42=\"Endemic\", IF(AND($J91>1,$J91<5), IF($J91=4, \"Unknown\", E91+F91), 0),\"Not required\")","v":33334},{"$f":"IF(INTRO!$E$44=\"Endemic\", IF(AND($K91>0,$K91<5), IF($K91=4,\"Unknown\", IF($K91=1, $F91*0.33, IF($K91=2, $F91*0.5+$G91*0.2, SUM(F91:G91)))), 0),\"Not required\")","v":18595.7},0,0,0,0,null,null,2103,"CONDA",null,14252,14252,19278]
[{"$f":"IF(INTRO!$E$34<>0,INTRO!$E$34,\"\")","v":"Angola"},"HUILA","CUVANGO",92157.385849403276,{"$f":"IF(INTRO!$E$48=\"\",\"\",ROUND($D92*INTRO!$E$48,0))","v":14745},{"$f":"IF(INTRO!$E$49=\"\",\"\",ROUND($D92*INTRO!$E$49,0))","v":25712},{"$f":"IF(INTRO!$E$50=\"\",\"\",ROUND($D92*INTRO!$E$50,0))","v":48567},0,4,2,2,1,{"$f":"IF(INTRO!$E$38=\"Endemic\", IF($H92>0, IF($H92=4,\"Unknown\", IF($H92=99,\"Stopped\", $D92)), 0),\"Not required\")","v":0},{"$f":"IF(INTRO!$E$40=\"Endemic\", IF($I92>0, IF($I92=4,\"Unknown\",IF($I92=99,\"Stopped\", $D92)), 0),\"Not required\")","v":"Unknown"},{"$f":"IF(INTRO!$E$42=\"Endemic\", IF(AND($J92>1,$J92<5), IF($J92=4, \"Unknown\", E92+F92), 0),\"Not required\")","v":40457},{"$f":"IF(INTRO!$E$44=\"Endemic\", IF(AND($K92>0,$K92<5), IF($K92=4,\"Unknown\", IF($K92=1, $F92*0.33, IF($K92=2, $F92*0.5+$G92*0.2, SUM(F92:G92)))), 0),\"Not required\")","v":22569.4},0,0,0,0,null,null,2099,"EBO",null,29847,29847,35632]
[{"$f":"IF(INTRO!$E$34<>0,INTRO!$E$34,\"\")","v":"Angola"},"HUILA","GAMBOS",93235.68229333339,{"$f":"IF(INTRO!$E$48=\"\",\"\",ROUND($D93*INTRO!$E$48,0))","v":14918},{"$f":"IF(INTRO!$E$49=\"\",\"\",ROUND($D93*INTRO!$E$49,0))","v":26013},{"$f":"IF(INTRO!$E$50=\"\",\"\",ROUND($D93*INTRO!$E$50,0))","v":49135},0,4,2,2,1,{"$f":"IF(INTRO!$E$38=\"Endemic\", IF($H93>0, IF($H93=4,\"Unknown\", IF($H93=99,\"Stopped\", $D93)), 0),\"Not required\")","v":0},{"$f":"IF(INTRO!$E$40=\"Endemic\", IF($I93>0, IF($I93=4,\"Unknown\",IF($I93=99,\"Stopped\", $D93)), 0),\"Not required\")","v":"Unknown"},{"$f":"IF(INTRO!$E$42=\"Endemic\", IF(AND($J93>1,$J93<5), IF($J93=4, \"Unknown\", E93+F93), 0),\"Not required\")","v":40931},{"$f":"IF(INTRO!$E$44=\"Endemic\", IF(AND($K93>0,$K93<5), IF($K93=4,\"Unknown\", IF($K93=1, $F93*0.33, IF($K93=2, $F93*0.5+$G93*0.2, SUM(F93:G93)))), 0),\"Not required\")","v":22833.5},0,0,0,0,null,null,2101,"KIBALA",null,18568,18568,29805]
[{"$f":"IF(INTRO!$E$34<>0,INTRO!$E$34,\"\")","v":"Angola"},"HUILA","HUMPATA",104595.9283979375,{"$f":"IF(INTRO!$E$48=\"\",\"\",ROUND($D94*INTRO!$E$48,0))","v":16735},{"$f":"IF(INTRO!$E$49=\"\",\"\",ROUND($D94*INTRO!$E$49,0))","v":29182},{"$f":"IF(INTRO!$E$50=\"\",\"\",ROUND($D94*INTRO!$E$50,0))","v":55122},0,4,2,2,4,{"$f":"IF(INTRO!$E$38=\"Endemic\", IF($H94>0, IF($H94=4,\"Unknown\", IF($H94=99,\"Stopped\", $D94)), 0),\"Not required\")","v":0},{"$f":"IF(INTRO!$E$40=\"Endemic\", IF($I94>0, IF($I94=4,\"Unknown\",IF($I94=99,\"Stopped\", $D94)), 0),\"Not required\")","v":"Unknown"},{"$f":"IF(INTRO!$E$42=\"Endemic\", IF(AND($J94>1,$J94<5), IF($J94=4, \"Unknown\", E94+F94), 0),\"Not required\")","v":45917},{"$f":"IF(INTRO!$E$44=\"Endemic\", IF(AND($K94>0,$K94<5), IF($K94=4,\"Unknown\", IF($K94=1, $F94*0.33, IF($K94=2, $F94*0.5+$G94*0.2, SUM(F94:G94)))), 0),\"Not required\")","v":25615.4},0,0,0,0,null,null,2102,"KILENDA",null,18168,18168,22249]
[{"$f":"IF(INTRO!$E$34<>0,INTRO!$E$34,\"\")","v":"Angola"},"HUILA","JAMBA",123305.95570469413,{"$f":"IF(INTRO!$E$48=\"\",\"\",ROUND($D95*INTRO!$E$48,0))","v":19729},{"$f":"IF(INTRO!$E$49=\"\",\"\",ROUND($D95*INTRO!$E$49,0))","v":34402},{"$f":"IF(INTRO!$E$50=\"\",\"\",ROUND($D95*INTRO!$E$50,0))","v":64982},0,4,2,2,1,{"$f":"IF(INTRO!$E$38=\"Endemic\", IF($H95>0, IF($H95=4,\"Unknown\", IF($H95=99,\"Stopped\", $D95)), 0),\"Not required\")","v":0},{"$f":"IF(INTRO!$E$40=\"Endemic\", IF($I95>0, IF($I95=4,\"Unknown\",IF($I95=99,\"Stopped\", $D95)), 0),\"Not required\")","v":"Unknown"},{"$f":"IF(INTRO!$E$42=\"Endemic\", IF(AND($J95>1,$J95<5), IF($J95=4, \"Unknown\", E95+F95), 0),\"Not required\")","v":54131},{"$f":"IF(INTRO!$E$44=\"Endemic\", IF(AND($K95>0,$K95<5), IF($K95=4,\"Unknown\", IF($K95=1, $F95*0.33, IF($K95=2, $F95*0.5+$G95*0.2, SUM(F95:G95)))), 0),\"Not required\")","v":30197.4},0,0,0,0,null,null,2104,"LIBOLO",null,11605,11605,20993]
[{"$f":"IF(INTRO!$E$34<>0,INTRO!$E$34,\"\")","v":"Angola"},"HUILA","LUBANGO",910801.45408519474,{"$f":"IF(INTRO!$E$48=\"\",\"\",ROUND($D96*INTRO!$E$48,0))","v":145728},{"$f":"IF(INTRO!$E$49=\"\",\"\",ROUND($D96*INTRO!$E$49,0))","v":254114},{"$f":"IF(INTRO!$E$50=\"\",\"\",ROUND($D96*INTRO!$E$50,0))","v":479992},0,4,2,2,4,{"$f":"IF(INTRO!$E$38=\"Endemic\", IF($H96>0, IF($H96=4,\"Unknown\", IF($H96=99,\"Stopped\", $D96)), 0),\"Not required\")","v":0},{"$f":"IF(INTRO!$E$40=\"Endemic\", IF($I96>0, IF($I96=4,\"Unknown\",IF($I96=99,\"Stopped\", $D96)), 0),\"Not required\")","v":"Unknown"},{"$f":"IF(INTRO!$E$42=\"Endemic\", IF(AND($J96>1,$J96<5), IF($J96=4, \"Unknown\", E96+F96), 0),\"Not required\")","v":399842},{"$f":"IF(INTRO!$E$44=\"Endemic\", IF(AND($K96>0,$K96<5), IF($K96=4,\"Unknown\", IF($K96=1, $F96*0.33, IF($K96=2, $F96*0.5+$G96*0.2, SUM(F96:G96)))), 0),\"Not required\")","v":223055.40000000002},0,0,0,0,null,null,2105,"MUSSENDE",null,20445,20445,27221]
[{"$f":"IF(INTRO!$E$34<>0,INTRO!$E$34,\"\")","v":"Angola"},"HUILA","MATALA",337435.21341031662,{"$f":"IF(INTRO!$E$48=\"\",\"\",ROUND($D97*INTRO!$E$48,0))","v":53990},{"$f":"IF(INTRO!$E$49=\"\",\"\",ROUND($D97*INTRO!$E$49,0))","v":94144},{"$f":"IF(INTRO!$E$50=\"\",\"\",ROUND($D97*INTRO!$E$50,0))","v":177828},0,1,2,2,1,{"$f":"IF(INTRO!$E$38=\"Endemic\", IF($H97>0, IF($H97=4,\"Unknown\", IF($H97=99,\"Stopped\", $D97)), 0),\"Not required\")","v":0},{"$f":"IF(INTRO!$E$40=\"Endemic\", IF($I97>0, IF($I97=4,\"Unknown\",IF($I97=99,\"Stopped\", $D97)), 0),\"Not required\")","v":337435.21341031662},{"$f":"IF(INTRO!$E$42=\"Endemic\", IF(AND($J97>1,$J97<5), IF($J97=4, \"Unknown\", E97+F97), 0),\"Not required\")","v":148134},{"$f":"IF(INTRO!$E$44=\"Endemic\", IF(AND($K97>0,$K97<5), IF($K97=4,\"Unknown\", IF($K97=1, $F97*0.33, IF($K97=2, $F97*0.5+$G97*0.2, SUM(F97:G97)))), 0),\"Not required\")","v":82637.600000000006},0,0,0,0,null,null,2106,"PORTO AMBOIM",null,23906,23906,28415]
[{"$f":"IF(INTRO!$E$34<>0,INTRO!$E$34,\"\")","v":"Angola"},"HUILA","QUILENGUES",88392.148321033674,{"$f":"IF(INTRO!$E$48=\"\",\"\",ROUND($D98*INTRO!$E$48,0))","v":14143},{"$f":"IF(INTRO!$E$49=\"\",\"\",ROUND($D98*INTRO!$E$49,0))","v":24661},{"$f":"IF(INTRO!$E$50=\"\",\"\",ROUND($D98*INTRO!$E$50,0))","v":46583},0,1,2,2,4,{"$f":"IF(INTRO!$E$38=\"Endemic\", IF($H98>0, IF($H98=4,\"Unknown\", IF($H98=99,\"Stopped\", $D98)), 0),\"Not required\")","v":0},{"$f":"IF(INTRO!$E$40=\"Endemic\", IF($I98>0, IF($I98=4,\"Unknown\",IF($I98=99,\"Stopped\", $D98)), 0),\"Not required\")","v":88392.148321033674},{"$f":"IF(INTRO!$E$42=\"Endemic\", IF(AND($J98>1,$J98<5), IF($J98=4, \"Unknown\", E98+F98), 0),\"Not required\")","v":38804},{"$f":"IF(INTRO!$E$44=\"Endemic\", IF(AND($K98>0,$K98<5), IF($K98=4,\"Unknown\", IF($K98=1, $F98*0.33, IF($K98=2, $F98*0.5+$G98*0.2, SUM(F98:G98)))), 0),\"Not required\")","v":21647.1},0,0,0,0,null,null,2107,"SELES",null,34345,34345,39350]
[{"$f":"IF(INTRO!$E$34<>0,INTRO!$E$34,\"\")","v":"Angola"},"HUILA","QUIPUNGO",186464.32456635818,{"$f":"IF(INTRO!$E$48=\"\",\"\",ROUND($D99*INTRO!$E$48,0))","v":29834},{"$f":"IF(INTRO!$E$49=\"\",\"\",ROUND($D99*INTRO!$E$49,0))","v":52024},{"$f":"IF(INTRO!$E$50=\"\",\"\",ROUND($D99*INTRO!$E$50,0))","v":98267},0,1,2,2,1,{"$f":"IF(INTRO!$E$38=\"Endemic\", IF($H99>0, IF($H99=4,\"Unknown\", IF($H99=99,\"Stopped\", $D99)), 0),\"Not required\")","v":0},{"$f":"IF(INTRO!$E$40=\"Endemic\", IF($I99>0, IF($I99=4,\"Unknown\",IF($I99=99,\"Stopped\", $D99)), 0),\"Not required\")","v":186464.32456635818},{"$f":"IF(INTRO!$E$42=\"Endemic\", IF(AND($J99>1,$J99<5), IF($J99=4, \"Unknown\", E99+F99), 0),\"Not required\")","v":81858},{"$f":"IF(INTRO!$E$44=\"Endemic\", IF(AND($K99>0,$K99<5), IF($K99=4,\"Unknown\", IF($K99=1, $F99*0.33, IF($K99=2, $F99*0.5+$G99*0.2, SUM(F99:G99)))), 0),\"Not required\")","v":45665.4},0,0,0,0,null,null,2108,"SUMBE",null,45858,45858,69939]
[{"$f":"IF(INTRO!$E$34<>0,INTRO!$E$34,\"\")","v":"Angola"},"LUANDA","BELAS",1261464.865655324,{"$f":"IF(INTRO!$E$48=\"\",\"\",ROUND($D100*INTRO!$E$48,0))","v":201834},{"$f":"IF(INTRO!$E$49=\"\",\"\",ROUND($D100*INTRO!$E$49,0))","v":351949},{"$f":"IF(INTRO!$E$50=\"\",\"\",ROUND($D100*INTRO!$E$50,0))","v":664792},0,4,2,2,1,{"$f":"IF(INTRO!$E$38=\"Endemic\", IF($H100>0, IF($H100=4,\"Unknown\", IF($H100=99,\"Stopped\", $D100)), 0),\"Not required\")","v":0},{"$f":"IF(INTRO!$E$40=\"Endemic\", IF($I100>0, IF($I100=4,\"Unknown\",IF($I100=99,\"Stopped\", $D100)), 0),\"Not required\")","v":"Unknown"},{"$f":"IF(INTRO!$E$42=\"Endemic\", IF(AND($J100>1,$J100<5), IF($J100=4, \"Unknown\", E100+F100), 0),\"Not required\")","v":553783},{"$f":"IF(INTRO!$E$44=\"Endemic\", IF(AND($K100>0,$K100<5), IF($K100=4,\"Unknown\", IF($K100=1, $F100*0.33, IF($K100=2, $F100*0.5+$G100*0.2, SUM(F100:G100)))), 0),\"Not required\")","v":308932.90000000002},0,0,0,0,null,null,2212,"BELAS",null,0,0,0]
[{"$f":"IF(INTRO!$E$34<>0,INTRO!$E$34,\"\")","v":"Angola"},"LUANDA","CACUACO",1255642.7688601322,{"$f":"IF(INTRO!$E$48=\"\",\"\",ROUND($D101*INTRO!$E$48,0))","v":200903},{"$f":"IF(INTRO!$E$49=\"\",\"\",ROUND($D101*INTRO!$E$49,0))","v":350324},{"$f":"IF(INTRO!$E$50=\"\",\"\",ROUND($D101*INTRO!$E$50,0))","v":661724},0,4,2,2,1,{"$f":"IF(INTRO!$E$38=\"Endemic\", IF($H101>0, IF($H101=4,\"Unknown\", IF($H101=99,\"Stopped\", $D101)), 0),\"Not required\")","v":0},{"$f":"IF(INTRO!$E$40=\"Endemic\", IF($I101>0, IF($I101=4,\"Unknown\",IF($I101=99,\"Stopped\", $D101)), 0),\"Not required\")","v":"Unknown"},{"$f":"IF(INTRO!$E$42=\"Endemic\", IF(AND($J101>1,$J101<5), IF($J101=4, \"Unknown\", E101+F101), 0),\"Not required\")","v":551227},{"$f":"IF(INTRO!$E$44=\"Endemic\", IF(AND($K101>0,$K101<5), IF($K101=4,\"Unknown\", IF($K101=1, $F101*0.33, IF($K101=2, $F101*0.5+$G101*0.2, SUM(F101:G101)))), 0),\"Not required\")","v":307506.80000000005},0,0,0,0,null,null,2140,"CACUACO",null,156000,0,0]
[{"$f":"IF(INTRO!$E$34<>0,INTRO!$E$34,\"\")","v":"Angola"},"LUANDA","CAZENGA",1047086.8605654653,{"$f":"IF(INTRO!$E$48=\"\",\"\",ROUND($D102*INTRO!$E$48,0))","v":167534},{"$f":"IF(INTRO!$E$49=\"\",\"\",ROUND($D102*INTRO!$E$49,0))","v":292137},{"$f":"IF(INTRO!$E$50=\"\",\"\",ROUND($D102*INTRO!$E$50,0))","v":551815},0,4,2,2,1,{"$f":"IF(INTRO!$E$38=\"Endemic\", IF($H102>0, IF($H102=4,\"Unknown\", IF($H102=99,\"Stopped\", $D102)), 0),\"Not required\")","v":0},{"$f":"IF(INTRO!$E$40=\"Endemic\", IF($I102>0, IF($I102=4,\"Unknown\",IF($I102=99,\"Stopped\", $D102)), 0),\"Not required\")","v":"Unknown"},{"$f":"IF(INTRO!$E$42=\"Endemic\", IF(AND($J102>1,$J102<5), IF($J102=4, \"Unknown\", E102+F102), 0),\"Not required\")","v":459671},{"$f":"IF(INTRO!$E$44=\"Endemic\", IF(AND($K102>0,$K102<5), IF($K102=4,\"Unknown\", IF($K102=1, $F102*0.33, IF($K102=2, $F102*0.5+$G102*0.2, SUM(F102:G102)))), 0),\"Not required\")","v":256431.5},0,0,0,0,null,null,2141,"CAZENGA",null,0,0,0]
[{"$f":"IF(INTRO!$E$34<>0,INTRO!$E$34,\"\")","v":"Angola"},"LUANDA","ICOLO E BENGO",95209.234653170613,{"$f":"IF(INTRO!$E$48=\"\",\"\",ROUND($D103*INTRO!$E$48,0))","v":15233},{"$f":"IF(INTRO!$E$49=\"\",\"\",ROUND($D103*INTRO!$E$49,0))","v":26563},{"$f":"IF(INTRO!$E$50=\"\",\"\",ROUND($D103*INTRO!$E$50,0))","v":50175},0,4,3,2,1,{"$f":"IF(INTRO!$E$38=\"Endemic\", IF($H103>0, IF($H103=4,\"Unknown\", IF($H103=99,\"Stopped\", $D103)), 0),\"Not required\")","v":0},{"$f":"IF(INTRO!$E$40=\"Endemic\", IF($I103>0, IF($I103=4,\"Unknown\",IF($I103=99,\"Stopped\", $D103)), 0),\"Not required\")","v":"Unknown"},{"$f":"IF(INTRO!$E$42=\"Endemic\", IF(AND($J103>1,$J103<5), IF($J103=4, \"Unknown\", E103+F103), 0),\"Not required\")","v":41796},{"$f":"IF(INTRO!$E$44=\"Endemic\", IF(AND($K103>0,$K103<5), IF($K103=4,\"Unknown\", IF($K103=1, $F103*0.33, IF($K103=2, $F103*0.5+$G103*0.2, SUM(F103:G103)))), 0),\"Not required\")","v":23316.5},0,0,0,0,null,null,2051,"ICOLO E BENGO",null,25586,0,0]
[{"$f":"IF(INTRO!$E$34<>0,INTRO!$E$34,\"\")","v":"Angola"},"LUANDA","KILAMBA KIAXI",987258.4213097574,{"$f":"IF(INTRO!$E$48=\"\",\"\",ROUND($D104*INTRO!$E$48,0))","v":157961},{"$f":"IF(INTRO!$E$49=\"\",\"\",ROUND($D104*INTRO!$E$49,0))","v":275445},{"$f":"IF(INTRO!$E$50=\"\",\"\",ROUND($D104*INTRO!$E$50,0))","v":520285},0,4,2,2,4,{"$f":"IF(INTRO!$E$38=\"Endemic\", IF($H104>0, IF($H104=4,\"Unknown\", IF($H104=99,\"Stopped\", $D104)), 0),\"Not required\")","v":0},{"$f":"IF(INTRO!$E$40=\"Endemic\", IF($I104>0, IF($I104=4,\"Unknown\",IF($I104=99,\"Stopped\", $D104)), 0),\"Not required\")","v":"Unknown"},{"$f":"IF(INTRO!$E$42=\"Endemic\", IF(AND($J104>1,$J104<5), IF($J104=4, \"Unknown\", E104+F104), 0),\"Not required\")","v":433406},{"$f":"IF(INTRO!$E$44=\"Endemic\", IF(AND($K104>0,$K104<5), IF($K104=4,\"Unknown\", IF($K104=1, $F104*0.33, IF($K104=2, $F104*0.5+$G104*0.2, SUM(F104:G104)))), 0),\"Not required\")","v":241779.5},0,0,0,0,null,null,2143,"KILAMBA KIAXI",null,0,0,0]
[{"$f":"IF(INTRO!$E$34<>0,INTRO!$E$34,\"\")","v":"Angola"},"LUANDA","LUANDA",1814181.5534284331,{"$f":"IF(INTRO!$E$48=\"\",\"\",ROUND($D105*INTRO!$E$48,0))","v":290269},{"$f":"IF(INTRO!$E$49=\"\",\"\",ROUND($D105*INTRO!$E$49,0))","v":506157},{"$f":"IF(INTRO!$E$50=\"\",\"\",ROUND($D105*INTRO!$E$50,0))","v":956074},0,4,2,2,1,{"$f":"IF(INTRO!$E$38=\"Endemic\", IF($H105>0, IF($H105=4,\"Unknown\", IF($H105=99,\"Stopped\", $D105)), 0),\"Not required\")","v":0},{"$f":"IF(INTRO!$E$40=\"Endemic\", IF($I105>0, IF($I105=4,\"Unknown\",IF($I105=99,\"Stopped\", $D105)), 0),\"Not required\")","v":"Unknown"},{"$f":"IF(INTRO!$E$42=\"Endemic\", IF(AND($J105>1,$J105<5), IF($J105=4, \"Unknown\", E105+F105), 0),\"Not required\")","v":796426},{"$f":"IF(INTRO!$E$44=\"Endemic\", IF(AND($K105>0,$K105<5), IF($K105=4,\"Unknown\", IF($K105=1, $F105*0.33, IF($K105=2, $F105*0.5+$G105*0.2, SUM(F105:G105)))), 0),\"Not required\")","v":444293.30000000005},0,0,0,0,null,null,2219,"LUANDA",null,0,0,0]
[{"$f":"IF(INTRO!$E$34<>0,INTRO!$E$34,\"\")","v":"Angola"},"LUANDA","QUISSAMA",35584.955986411296,{"$f":"IF(INTRO!$E$48=\"\",\"\",ROUND($D106*INTRO!$E$48,0))","v":5694},{"$f":"IF(INTRO!$E$49=\"\",\"\",ROUND($D106*INTRO!$E$49,0))","v":9928},{"$f":"IF(INTRO!$E$50=\"\",\"\",ROUND($D106*INTRO!$E$50,0))","v":18753},0,4,3,2,1,{"$f":"IF(INTRO!$E$38=\"Endemic\", IF($H106>0, IF($H106=4,\"Unknown\", IF($H106=99,\"Stopped\", $D106)), 0),\"Not required\")","v":0},{"$f":"IF(INTRO!$E$40=\"Endemic\", IF($I106>0, IF($I106=4,\"Unknown\",IF($I106=99,\"Stopped\", $D106)), 0),\"Not required\")","v":"Unknown"},{"$f":"IF(INTRO!$E$42=\"Endemic\", IF(AND($J106>1,$J106<5), IF($J106=4, \"Unknown\", E106+F106), 0),\"Not required\")","v":15622},{"$f":"IF(INTRO!$E$44=\"Endemic\", IF(AND($K106>0,$K106<5), IF($K106=4,\"Unknown\", IF($K106=1, $F106*0.33, IF($K106=2, $F106*0.5+$G106*0.2, SUM(F106:G106)))), 0),\"Not required\")","v":8714.6},0,0,0,0,null,null,2052,"QUISSAMA",null,14000,0,0]
[{"$f":"IF(INTRO!$E$34<>0,INTRO!$E$34,\"\")","v":"Angola"},"LUANDA","TALATONA",1066658.1170233043,{"$f":"IF(INTRO!$E$48=\"\",\"\",ROUND($D107*INTRO!$E$48,0))","v":170665},{"$f":"IF(INTRO!$E$49=\"\",\"\",ROUND($D107*INTRO!$E$49,0))","v":297598},{"$f":"IF(INTRO!$E$50=\"\",\"\",ROUND($D107*INTRO!$E$50,0))","v":562129},0,4,2,2,4,{"$f":"IF(INTRO!$E$38=\"Endemic\", IF($H107>0, IF($H107=4,\"Unknown\", IF($H107=99,\"Stopped\", $D107)), 0),\"Not required\")","v":0},{"$f":"IF(INTRO!$E$40=\"Endemic\", IF($I107>0, IF($I107=4,\"Unknown\",IF($I107=99,\"Stopped\", $D107)), 0),\"Not required\")","v":"Unknown"},{"$f":"IF(INTRO!$E$42=\"Endemic\", IF(AND($J107>1,$J107<5), IF($J107=4, \"Unknown\", E107+F107), 0),\"Not required\")","v":468263},{"$f":"IF(INTRO!$E$44=\"Endemic\", IF(AND($K107>0,$K107<5), IF($K107=4,\"Unknown\", IF($K107=1, $F107*0.33, IF($K107=2, $F107*0.5+$G107*0.2, SUM(F107:G107)))), 0),\"Not required\")","v":261224.8},0,0,0,0,null,null,2223,"TALATONA",null,0,0,0]
[{"$f":"IF(INTRO!$E$34<>0,INTRO!$E$34,\"\")","v":"Angola"},"LUANDA","VIANA",1883546.8735288244,{"$f":"IF(INTRO!$E$48=\"\",\"\",ROUND($D108*INTRO!$E$48,0))","v":301367},{"$f":"IF(INTRO!$E$49=\"\",\"\",ROUND($D108*INTRO!$E$49,0))","v":525510},{"$f":"IF(INTRO!$E$50=\"\",\"\",ROUND($D108*INTRO!$E$50,0))","v":992629},0,4,2,2,1,{"$f":"IF(INTRO!$E$38=\"Endemic\", IF($H108>0, IF($H108=4,\"Unknown\", IF($H108=99,\"Stopped\", $D108)), 0),\"Not required\")","v":0},{"$f":"IF(INTRO!$E$40=\"Endemic\", IF($I108>0, IF($I108=4,\"Unknown\",IF($I108=99,\"Stopped\", $D108)), 0),\"Not required\")","v":"Unknown"},{"$f":"IF(INTRO!$E$42=\"Endemic\", IF(AND($J108>1,$J108<5), IF($J108=4, \"Unknown\", E108+F108), 0),\"Not required\")","v":826877},{"$f":"IF(INTRO!$E$44=\"Endemic\", IF(AND($K108>0,$K108<5), IF($K108=4,\"Unknown\", IF($K108=1, $F108*0.33, IF($K108=2, $F108*0.5+$G108*0.2, SUM(F108:G108)))), 0),\"Not required\")","v":461280.80000000005},0,0,0,0,null,null,2148,"VIANA",null,328580,0,0]
[{"$f":"IF(INTRO!$E$34<>0,INTRO!$E$34,\"\")","v":"Angola"},"LUNDA NORTE","CAMBULO",140949.41993470161,{"$f":"IF(INTRO!$E$48=\"\",\"\",ROUND($D109*INTRO!$E$48,0))","v":22552},{"$f":"IF(INTRO!$E$49=\"\",\"\",ROUND($D109*INTRO!$E$49,0))","v":39325},{"$f":"IF(INTRO!$E$50=\"\",\"\",ROUND($D109*INTRO!$E$50,0))","v":74280},1,1,3,2,1,{"$f":"IF(INTRO!$E$38=\"Endemic\", IF($H109>0, IF($H109=4,\"Unknown\", IF($H109=99,\"Stopped\", $D109)), 0),\"Not required\")","v":140949.41993470161},{"$f":"IF(INTRO!$E$40=\"Endemic\", IF($I109>0, IF($I109=4,\"Unknown\",IF($I109=99,\"Stopped\", $D109)), 0),\"Not required\")","v":140949.41993470161},{"$f":"IF(INTRO!$E$42=\"Endemic\", IF(AND($J109>1,$J109<5), IF($J109=4, \"Unknown\", E109+F109), 0),\"Not required\")","v":61877},{"$f":"IF(INTRO!$E$44=\"Endemic\", IF(AND($K109>0,$K109<5), IF($K109=4,\"Unknown\", IF($K109=1, $F109*0.33, IF($K109=2, $F109*0.5+$G109*0.2, SUM(F109:G109)))), 0),\"Not required\")","v":34518.5},0,0,0,0,null,null,2150,"CAMBULO",null,0,0,0]
[{"$f":"IF(INTRO!$E$34<>0,INTRO!$E$34,\"\")","v":"Angola"},"LUNDA NORTE","CAPENDA CAMULEMBA",68387.930614217315,{"$f":"IF(INTRO!$E$48=\"\",\"\",ROUND($D110*INTRO!$E$48,0))","v":10942},{"$f":"IF(INTRO!$E$49=\"\",\"\",ROUND($D110*INTRO!$E$49,0))","v":19080},{"$f":"IF(INTRO!$E$50=\"\",\"\",ROUND($D110*INTRO!$E$50,0))","v":36040},4,1,3,2,1,{"$f":"IF(INTRO!$E$38=\"Endemic\", IF($H110>0, IF($H110=4,\"Unknown\", IF($H110=99,\"Stopped\", $D110)), 0),\"Not required\")","v":"Unknown"},{"$f":"IF(INTRO!$E$40=\"Endemic\", IF($I110>0, IF($I110=4,\"Unknown\",IF($I110=99,\"Stopped\", $D110)), 0),\"Not required\")","v":68387.930614217315},{"$f":"IF(INTRO!$E$42=\"Endemic\", IF(AND($J110>1,$J110<5), IF($J110=4, \"Unknown\", E110+F110), 0),\"Not required\")","v":30022},{"$f":"IF(INTRO!$E$44=\"Endemic\", IF(AND($K110>0,$K110<5), IF($K110=4,\"Unknown\", IF($K110=1, $F110*0.33, IF($K110=2, $F110*0.5+$G110*0.2, SUM(F110:G110)))), 0),\"Not required\")","v":16748},0,0,0,0,null,null,2151,"CAPENDA CAMULEMBA",null,0,0,0]
[{"$f":"IF(INTRO!$E$34<>0,INTRO!$E$34,\"\")","v":"Angola"},"LUNDA NORTE","CAUNGULA",33045.855328451857,{"$f":"IF(INTRO!$E$48=\"\",\"\",ROUND($D111*INTRO!$E$48,0))","v":5287},{"$f":"IF(INTRO!$E$49=\"\",\"\",ROUND($D111*INTRO!$E$49,0))","v":9220},{"$f":"IF(INTRO!$E$50=\"\",\"\",ROUND($D111*INTRO!$E$50,0))","v":17415},0,1,3,2,1,{"$f":"IF(INTRO!$E$38=\"Endemic\", IF($H111>0, IF($H111=4,\"Unknown\", IF($H111=99,\"Stopped\", $D111)), 0),\"Not required\")","v":0},{"$f":"IF(INTRO!$E$40=\"Endemic\", IF($I111>0, IF($I111=4,\"Unknown\",IF($I111=99,\"Stopped\", $D111)), 0),\"Not required\")","v":33045.855328451857},{"$f":"IF(INTRO!$E$42=\"Endemic\", IF(AND($J111>1,$J111<5), IF($J111=4, \"Unknown\", E111+F111), 0),\"Not required\")","v":14507},{"$f":"IF(INTRO!$E$44=\"Endemic\", IF(AND($K111>0,$K111<5), IF($K111=4,\"Unknown\", IF($K111=1, $F111*0.33, IF($K111=2, $F111*0.5+$G111*0.2, SUM(F111:G111)))), 0),\"Not required\")","v":8093},0,0,0,0,null,null,2152,"CAUNGULA",null,0,0,0]
[{"$f":"IF(INTRO!$E$34<>0,INTRO!$E$34,\"\")","v":"Angola"},"LUNDA NORTE","CHITATO",244252.33126929752,{"$f":"IF(INTRO!$E$48=\"\",\"\",ROUND($D112*INTRO!$E$48,0))","v":39080},{"$f":"IF(INTRO!$E$49=\"\",\"\",ROUND($D112*INTRO!$E$49,0))","v":68146},{"$f":"IF(INTRO!$E$50=\"\",\"\",ROUND($D112*INTRO!$E$50,0))","v":128721},4,1,3,2,1,{"$f":"IF(INTRO!$E$38=\"Endemic\", IF($H112>0, IF($H112=4,\"Unknown\", IF($H112=99,\"Stopped\", $D112)), 0),\"Not required\")","v":"Unknown"},{"$f":"IF(INTRO!$E$40=\"Endemic\", IF($I112>0, IF($I112=4,\"Unknown\",IF($I112=99,\"Stopped\", $D112)), 0),\"Not required\")","v":244252.33126929752},{"$f":"IF(INTRO!$E$42=\"Endemic\", IF(AND($J112>1,$J112<5), IF($J112=4, \"Unknown\", E112+F112), 0),\"Not required\")","v":107226},{"$f":"IF(INTRO!$E$44=\"Endemic\", IF(AND($K112>0,$K112<5), IF($K112=4,\"Unknown\", IF($K112=1, $F112*0.33, IF($K112=2, $F112*0.5+$G112*0.2, SUM(F112:G112)))), 0),\"Not required\")","v":59817.2},0,0,0,0,null,null,2149,"CHITATO",null,0,0,0]
[{"$f":"IF(INTRO!$E$34<>0,INTRO!$E$34,\"\")","v":"Angola"},"LUNDA NORTE","CUANGO",215620.56867432225,{"$f":"IF(INTRO!$E$48=\"\",\"\",ROUND($D113*INTRO!$E$48,0))","v":34499},{"$f":"IF(INTRO!$E$49=\"\",\"\",ROUND($D113*INTRO!$E$49,0))","v":60158},{"$f":"IF(INTRO!$E$50=\"\",\"\",ROUND($D113*INTRO!$E$50,0))","v":113632},0,4,3,2,1,{"$f":"IF(INTRO!$E$38=\"Endemic\", IF($H113>0, IF($H113=4,\"Unknown\", IF($H113=99,\"Stopped\", $D113)), 0),\"Not required\")","v":0},{"$f":"IF(INTRO!$E$40=\"Endemic\", IF($I113>0, IF($I113=4,\"Unknown\",IF($I113=99,\"Stopped\", $D113)), 0),\"Not required\")","v":"Unknown"},{"$f":"IF(INTRO!$E$42=\"Endemic\", IF(AND($J113>1,$J113<5), IF($J113=4, \"Unknown\", E113+F113), 0),\"Not required\")","v":94657},{"$f":"IF(INTRO!$E$44=\"Endemic\", IF(AND($K113>0,$K113<5), IF($K113=4,\"Unknown\", IF($K113=1, $F113*0.33, IF($K113=2, $F113*0.5+$G113*0.2, SUM(F113:G113)))), 0),\"Not required\")","v":52805.4},0,0,0,0,null,null,2153,"CUANGO",null,0,0,0]
[{"$f":"IF(INTRO!$E$34<>0,INTRO!$E$34,\"\")","v":"Angola"},"LUNDA NORTE","CUILO",24644.764426885482,{"$f":"IF(INTRO!$E$48=\"\",\"\",ROUND($D114*INTRO!$E$48,0))","v":3943},{"$f":"IF(INTRO!$E$49=\"\",\"\",ROUND($D114*INTRO!$E$49,0))","v":6876},{"$f":"IF(INTRO!$E$50=\"\",\"\",ROUND($D114*INTRO!$E$50,0))","v":12988},1,1,3,2,1,{"$f":"IF(INTRO!$E$38=\"Endemic\", IF($H114>0, IF($H114=4,\"Unknown\", IF($H114=99,\"Stopped\", $D114)), 0),\"Not required\")","v":24644.764426885482},{"$f":"IF(INTRO!$E$40=\"Endemic\", IF($I114>0, IF($I114=4,\"Unknown\",IF($I114=99,\"Stopped\", $D114)), 0),\"Not required\")","v":24644.764426885482},{"$f":"IF(INTRO!$E$42=\"Endemic\", IF(AND($J114>1,$J114<5), IF($J114=4, \"Unknown\", E114+F114), 0),\"Not required\")","v":10819},{"$f":"IF(INTRO!$E$44=\"Endemic\", IF(AND($K114>0,$K114<5), IF($K114=4,\"Unknown\", IF($K114=1, $F114*0.33, IF($K114=2, $F114*0.5+$G114*0.2, SUM(F114:G114)))), 0),\"Not required\")","v":6035.6},0,0,0,0,null,null,2154,"CUILO",null,0,0,0]
[{"$f":"IF(INTRO!$E$34<>0,INTRO!$E$34,\"\")","v":"Angola"},"LUNDA NORTE","LOVUA",18173.812426586806,{"$f":"IF(INTRO!$E$48=\"\",\"\",ROUND($D115*INTRO!$E$48,0))","v":2908},{"$f":"IF(INTRO!$E$49=\"\",\"\",ROUND($D115*INTRO!$E$49,0))","v":5070},{"$f":"IF(INTRO!$E$50=\"\",\"\",ROUND($D115*INTRO!$E$50,0))","v":9578},0,1,3,2,4,{"$f":"IF(INTRO!$E$38=\"Endemic\", IF($H115>0, IF($H115=4,\"Unknown\", IF($H115=99,\"Stopped\", $D115)), 0),\"Not required\")","v":0},{"$f":"IF(INTRO!$E$40=\"Endemic\", IF($I115>0, IF($I115=4,\"Unknown\",IF($I115=99,\"Stopped\", $D115)), 0),\"Not required\")","v":18173.812426586806},{"$f":"IF(INTRO!$E$42=\"Endemic\", IF(AND($J115>1,$J115<5), IF($J115=4, \"Unknown\", E115+F115), 0),\"Not required\")","v":7978},{"$f":"IF(INTRO!$E$44=\"Endemic\", IF(AND($K115>0,$K115<5), IF($K115=4,\"Unknown\", IF($K115=1, $F115*0.33, IF($K115=2, $F115*0.5+$G115*0.2, SUM(F115:G115)))), 0),\"Not required\")","v":4450.6000000000004},0,0,0,0,null,null,2224,"LOVUA",null,0,0,0]
[{"$f":"IF(INTRO!$E$34<>0,INTRO!$E$34,\"\")","v":"Angola"},"LUNDA NORTE","LUBALO",24207.109831035723,{"$f":"IF(INTRO!$E$48=\"\",\"\",ROUND($D116*INTRO!$E$48,0))","v":3873},{"$f":"IF(INTRO!$E$49=\"\",\"\",ROUND($D116*INTRO!$E$49,0))","v":6754},{"$f":"IF(INTRO!$E$50=\"\",\"\",ROUND($D116*INTRO!$E$50,0))","v":12757},4,1,3,2,1,{"$f":"IF(INTRO!$E$38=\"Endemic\", IF($H116>0, IF($H116=4,\"Unknown\", IF($H116=99,\"Stopped\", $D116)), 0),\"Not required\")","v":"Unknown"},{"$f":"IF(INTRO!$E$40=\"Endemic\", IF($I116>0, IF($I116=4,\"Unknown\",IF($I116=99,\"Stopped\", $D116)), 0),\"Not required\")","v":24207.109831035723},{"$f":"IF(INTRO!$E$42=\"Endemic\", IF(AND($J116>1,$J116<5), IF($J116=4, \"Unknown\", E116+F116), 0),\"Not required\")","v":10627},{"$f":"IF(INTRO!$E$44=\"Endemic\", IF(AND($K116>0,$K116<5), IF($K116=4,\"Unknown\", IF($K116=1, $F116*0.33, IF($K116=2, $F116*0.5+$G116*0.2, SUM(F116:G116)))), 0),\"Not required\")","v":5928.4},0,0,0,0,null,null,2155,"LUBALO",null,0,0,0]
[{"$f":"IF(INTRO!$E$34<>0,INTRO!$E$34,\"\")","v":"Angola"},"LUNDA NORTE","LUCAPA",181051.72228578193,{"$f":"IF(INTRO!$E$48=\"\",\"\",ROUND($D117*INTRO!$E$48,0))","v":28968},{"$f":"IF(INTRO!$E$49=\"\",\"\",ROUND($D117*INTRO!$E$49,0))","v":50513},{"$f":"IF(INTRO!$E$50=\"\",\"\",ROUND($D117*INTRO!$E$50,0))","v":95414},0,1,3,2,1,{"$f":"IF(INTRO!$E$38=\"Endemic\", IF($H117>0, IF($H117=4,\"Unknown\", IF($H117=99,\"Stopped\", $D117)), 0),\"Not required\")","v":0},{"$f":"IF(INTRO!$E$40=\"Endemic\", IF($I117>0, IF($I117=4,\"Unknown\",IF($I117=99,\"Stopped\", $D117)), 0),\"Not required\")","v":181051.72228578193},{"$f":"IF(INTRO!$E$42=\"Endemic\", IF(AND($J117>1,$J117<5), IF($J117=4, \"Unknown\", E117+F117), 0),\"Not required\")","v":79481},{"$f":"IF(INTRO!$E$44=\"Endemic\", IF(AND($K117>0,$K117<5), IF($K117=4,\"Unknown\", IF($K117=1, $F117*0.33, IF($K117=2, $F117*0.5+$G117*0.2, SUM(F117:G117)))), 0),\"Not required\")","v":44339.3},0,0,0,0,null,null,2156,"LUCAPA",null,0,0,0]
[{"$f":"IF(INTRO!$E$34<>0,INTRO!$E$34,\"\")","v":"Angola"},"LUNDA NORTE","XA MUTEBA",79920.657216381544,{"$f":"IF(INTRO!$E$48=\"\",\"\",ROUND($D118*INTRO!$E$48,0))","v":12787},{"$f":"IF(INTRO!$E$49=\"\",\"\",ROUND($D118*INTRO!$E$49,0))","v":22298},{"$f":"IF(INTRO!$E$50=\"\",\"\",ROUND($D118*INTRO!$E$50,0))","v":42118},1,4,3,2,1,{"$f":"IF(INTRO!$E$38=\"Endemic\", IF($H118>0, IF($H118=4,\"Unknown\", IF($H118=99,\"Stopped\", $D118)), 0),\"Not required\")","v":79920.657216381544},{"$f":"IF(INTRO!$E$40=\"Endemic\", IF($I118>0, IF($I118=4,\"Unknown\",IF($I118=99,\"Stopped\", $D118)), 0),\"Not required\")","v":"Unknown"},{"$f":"IF(INTRO!$E$42=\"Endemic\", IF(AND($J118>1,$J118<5), IF($J118=4, \"Unknown\", E118+F118), 0),\"Not required\")","v":35085},{"$f":"IF(INTRO!$E$44=\"Endemic\", IF(AND($K118>0,$K118<5), IF($K118=4,\"Unknown\", IF($K118=1, $F118*0.33, IF($K118=2, $F118*0.5+$G118*0.2, SUM(F118:G118)))), 0),\"Not required\")","v":19572.599999999999},0,0,0,0,null,null,2157,"XA MUTEBA",null,0,0,0]
[{"$f":"IF(INTRO!$E$34<>0,INTRO!$E$34,\"\")","v":"Angola"},"LUNDA SUL","CACOLO",37423.574623667504,{"$f":"IF(INTRO!$E$48=\"\",\"\",ROUND($D119*INTRO!$E$48,0))","v":5988},{"$f":"IF(INTRO!$E$49=\"\",\"\",ROUND($D119*INTRO!$E$49,0))","v":10441},{"$f":"IF(INTRO!$E$50=\"\",\"\",ROUND($D119*INTRO!$E$50,0))","v":19722},1,1,2,2,1,{"$f":"IF(INTRO!$E$38=\"Endemic\", IF($H119>0, IF($H119=4,\"Unknown\", IF($H119=99,\"Stopped\", $D119)), 0),\"Not required\")","v":37423.574623667504},{"$f":"IF(INTRO!$E$40=\"Endemic\", IF($I119>0, IF($I119=4,\"Unknown\",IF($I119=99,\"Stopped\", $D119)), 0),\"Not required\")","v":37423.574623667504},{"$f":"IF(INTRO!$E$42=\"Endemic\", IF(AND($J119>1,$J119<5), IF($J119=4, \"Unknown\", E119+F119), 0),\"Not required\")","v":16429},{"$f":"IF(INTRO!$E$44=\"Endemic\", IF(AND($K119>0,$K119<5), IF($K119=4,\"Unknown\", IF($K119=1, $F119*0.33, IF($K119=2, $F119*0.5+$G119*0.2, SUM(F119:G119)))), 0),\"Not required\")","v":9164.9},0,0,0,0,null,null,2159,"CACOLO",null,0,0,0]
[{"$f":"IF(INTRO!$E$34<>0,INTRO!$E$34,\"\")","v":"Angola"},"LUNDA SUL","DALA",35189.541512412994,{"$f":"IF(INTRO!$E$48=\"\",\"\",ROUND($D120*INTRO!$E$48,0))","v":5630},{"$f":"IF(INTRO!$E$49=\"\",\"\",ROUND($D120*INTRO!$E$49,0))","v":9818},{"$f":"IF(INTRO!$E$50=\"\",\"\",ROUND($D120*INTRO!$E$50,0))","v":18545},0,1,2,2,1,{"$f":"IF(INTRO!$E$38=\"Endemic\", IF($H120>0, IF($H120=4,\"Unknown\", IF($H120=99,\"Stopped\", $D120)), 0),\"Not required\")","v":0},{"$f":"IF(INTRO!$E$40=\"Endemic\", IF($I120>0, IF($I120=4,\"Unknown\",IF($I120=99,\"Stopped\", $D120)), 0),\"Not required\")","v":35189.541512412994},{"$f":"IF(INTRO!$E$42=\"Endemic\", IF(AND($J120>1,$J120<5), IF($J120=4, \"Unknown\", E120+F120), 0),\"Not required\")","v":15448},{"$f":"IF(INTRO!$E$44=\"Endemic\", IF(AND($K120>0,$K120<5), IF($K120=4,\"Unknown\", IF($K120=1, $F120*0.33, IF($K120=2, $F120*0.5+$G120*0.2, SUM(F120:G120)))), 0),\"Not required\")","v":8618},0,0,0,0,null,null,2158,"DALA",null,0,0,0]
[{"$f":"IF(INTRO!$E$34<>0,INTRO!$E$34,\"\")","v":"Angola"},"LUNDA SUL","MUCONDA",39029.872590740742,{"$f":"IF(INTRO!$E$48=\"\",\"\",ROUND($D121*INTRO!$E$48,0))","v":6245},{"$f":"IF(INTRO!$E$49=\"\",\"\",ROUND($D121*INTRO!$E$49,0))","v":10889},{"$f":"IF(INTRO!$E$50=\"\",\"\",ROUND($D121*INTRO!$E$50,0))","v":20569},0,1,2,2,1,{"$f":"IF(INTRO!$E$38=\"Endemic\", IF($H121>0, IF($H121=4,\"Unknown\", IF($H121=99,\"Stopped\", $D121)), 0),\"Not required\")","v":0},{"$f":"IF(INTRO!$E$40=\"Endemic\", IF($I121>0, IF($I121=4,\"Unknown\",IF($I121=99,\"Stopped\", $D121)), 0),\"Not required\")","v":39029.872590740742},{"$f":"IF(INTRO!$E$42=\"Endemic\", IF(AND($J121>1,$J121<5), IF($J121=4, \"Unknown\", E121+F121), 0),\"Not required\")","v":17134},{"$f":"IF(INTRO!$E$44=\"Endemic\", IF(AND($K121>0,$K121<5), IF($K121=4,\"Unknown\", IF($K121=1, $F121*0.33, IF($K121=2, $F121*0.5+$G121*0.2, SUM(F121:G121)))), 0),\"Not required\")","v":9558.2999999999993},0,0,0,0,null,null,2160,"MUCONDA",null,0,0,0]
[{"$f":"IF(INTRO!$E$34<>0,INTRO!$E$34,\"\")","v":"Angola"},"LUNDA SUL","SAURIMO",519127.57754417887,{"$f":"IF(INTRO!$E$48=\"\",\"\",ROUND($D122*INTRO!$E$48,0))","v":83060},{"$f":"IF(INTRO!$E$49=\"\",\"\",ROUND($D122*INTRO!$E$49,0))","v":144837},{"$f":"IF(INTRO!$E$50=\"\",\"\",ROUND($D122*INTRO!$E$50,0))","v":273580},1,1,2,2,1,{"$f":"IF(INTRO!$E$38=\"Endemic\", IF($H122>0, IF($H122=4,\"Unknown\", IF($H122=99,\"Stopped\", $D122)), 0),\"Not required\")","v":519127.57754417887},{"$f":"IF(INTRO!$E$40=\"Endemic\", IF($I122>0, IF($I122=4,\"Unknown\",IF($I122=99,\"Stopped\", $D122)), 0),\"Not required\")","v":519127.57754417887},{"$f":"IF(INTRO!$E$42=\"Endemic\", IF(AND($J122>1,$J122<5), IF($J122=4, \"Unknown\", E122+F122), 0),\"Not required\")","v":227897},{"$f":"IF(INTRO!$E$44=\"Endemic\", IF(AND($K122>0,$K122<5), IF($K122=4,\"Unknown\", IF($K122=1, $F122*0.33, IF($K122=2, $F122*0.5+$G122*0.2, SUM(F122:G122)))), 0),\"Not required\")","v":127134.5},0,0,0,0,null,null,2161,"SAURIMO",null,0,0,0]
[{"$f":"IF(INTRO!$E$34<>0,INTRO!$E$34,\"\")","v":"Angola"},"MALANJE","CACULAMA (Mukari)",35331.515255302591,{"$f":"IF(INTRO!$E$48=\"\",\"\",ROUND($D123*INTRO!$E$48,0))","v":5653},{"$f":"IF(INTRO!$E$49=\"\",\"\",ROUND($D123*INTRO!$E$49,0))","v":9857},{"$f":"IF(INTRO!$E$50=\"\",\"\",ROUND($D123*INTRO!$E$50,0))","v":18620},1,4,3,2,1,{"$f":"IF(INTRO!$E$38=\"Endemic\", IF($H123>0, IF($H123=4,\"Unknown\", IF($H123=99,\"Stopped\", $D123)), 0),\"Not required\")","v":35331.515255302591},{"$f":"IF(INTRO!$E$40=\"Endemic\", IF($I123>0, IF($I123=4,\"Unknown\",IF($I123=99,\"Stopped\", $D123)), 0),\"Not required\")","v":"Unknown"},{"$f":"IF(INTRO!$E$42=\"Endemic\", IF(AND($J123>1,$J123<5), IF($J123=4, \"Unknown\", E123+F123), 0),\"Not required\")","v":15510},{"$f":"IF(INTRO!$E$44=\"Endemic\", IF(AND($K123>0,$K123<5), IF($K123=4,\"Unknown\", IF($K123=1, $F123*0.33, IF($K123=2, $F123*0.5+$G123*0.2, SUM(F123:G123)))), 0),\"Not required\")","v":8652.5},0,0,0,0,null,null,2215,"CACULAMA (Mukari)",null,0,0,5791]
[{"$f":"IF(INTRO!$E$34<>0,INTRO!$E$34,\"\")","v":"Angola"},"MALANJE","CACUSO",83875.97529308268,{"$f":"IF(INTRO!$E$48=\"\",\"\",ROUND($D124*INTRO!$E$48,0))","v":13420},{"$f":"IF(INTRO!$E$49=\"\",\"\",ROUND($D124*INTRO!$E$49,0))","v":23401},{"$f":"IF(INTRO!$E$50=\"\",\"\",ROUND($D124*INTRO!$E$50,0))","v":44203},0,4,3,2,1,{"$f":"IF(INTRO!$E$38=\"Endemic\", IF($H124>0, IF($H124=4,\"Unknown\", IF($H124=99,\"Stopped\", $D124)), 0),\"Not required\")","v":0},{"$f":"IF(INTRO!$E$40=\"Endemic\", IF($I124>0, IF($I124=4,\"Unknown\",IF($I124=99,\"Stopped\", $D124)), 0),\"Not required\")","v":"Unknown"},{"$f":"IF(INTRO!$E$42=\"Endemic\", IF(AND($J124>1,$J124<5), IF($J124=4, \"Unknown\", E124+F124), 0),\"Not required\")","v":36821},{"$f":"IF(INTRO!$E$44=\"Endemic\", IF(AND($K124>0,$K124<5), IF($K124=4,\"Unknown\", IF($K124=1, $F124*0.33, IF($K124=2, $F124*0.5+$G124*0.2, SUM(F124:G124)))), 0),\"Not required\")","v":20541.099999999999},0,0,0,0,null,null,2163,"CACUSO",null,0,0,15696]
[{"$f":"IF(INTRO!$E$34<>0,INTRO!$E$34,\"\")","v":"Angola"},"MALANJE","CAHOMBO",25239.646142960082,{"$f":"IF(INTRO!$E$48=\"\",\"\",ROUND($D125*INTRO!$E$48,0))","v":4038},{"$f":"IF(INTRO!$E$49=\"\",\"\",ROUND($D125*INTRO!$E$49,0))","v":7042},{"$f":"IF(INTRO!$E$50=\"\",\"\",ROUND($D125*INTRO!$E$50,0))","v":13301},0,4,3,2,1,{"$f":"IF(INTRO!$E$38=\"Endemic\", IF($H125>0, IF($H125=4,\"Unknown\", IF($H125=99,\"Stopped\", $D125)), 0),\"Not required\")","v":0},{"$f":"IF(INTRO!$E$40=\"Endemic\", IF($I125>0, IF($I125=4,\"Unknown\",IF($I125=99,\"Stopped\", $D125)), 0),\"Not required\")","v":"Unknown"},{"$f":"IF(INTRO!$E$42=\"Endemic\", IF(AND($J125>1,$J125<5), IF($J125=4, \"Unknown\", E125+F125), 0),\"Not required\")","v":11080},{"$f":"IF(INTRO!$E$44=\"Endemic\", IF(AND($K125>0,$K125<5), IF($K125=4,\"Unknown\", IF($K125=1, $F125*0.33, IF($K125=2, $F125*0.5+$G125*0.2, SUM(F125:G125)))), 0),\"Not required\")","v":6181.2000000000007},0,0,0,0,null,null,2165,"CAMBUNDI CATEMBO",null,0,0,0]
[{"$f":"IF(INTRO!$E$34<>0,INTRO!$E$34,\"\")","v":"Angola"},"MALANJE","CALANDULA",94353.872185678731,{"$f":"IF(INTRO!$E$48=\"\",\"\",ROUND($D126*INTRO!$E$48,0))","v":15097},{"$f":"IF(INTRO!$E$49=\"\",\"\",ROUND($D126*INTRO!$E$49,0))","v":26325},{"$f":"IF(INTRO!$E$50=\"\",\"\",ROUND($D126*INTRO!$E$50,0))","v":49724},0,4,3,2,1,{"$f":"IF(INTRO!$E$38=\"Endemic\", IF($H126>0, IF($H126=4,\"Unknown\", IF($H126=99,\"Stopped\", $D126)), 0),\"Not required\")","v":0},{"$f":"IF(INTRO!$E$40=\"Endemic\", IF($I126>0, IF($I126=4,\"Unknown\",IF($I126=99,\"Stopped\", $D126)), 0),\"Not required\")","v":"Unknown"},{"$f":"IF(INTRO!$E$42=\"Endemic\", IF(AND($J126>1,$J126<5), IF($J126=4, \"Unknown\", E126+F126), 0),\"Not required\")","v":41422},{"$f":"IF(INTRO!$E$44=\"Endemic\", IF(AND($K126>0,$K126<5), IF($K126=4,\"Unknown\", IF($K126=1, $F126*0.33, IF($K126=2, $F126*0.5+$G126*0.2, SUM(F126:G126)))), 0),\"Not required\")","v":23107.300000000003},0,0,0,0,null,null,2166,"CANGANDALA",null,0,0,16068]
[{"$f":"IF(INTRO!$E$34<>0,INTRO!$E$34,\"\")","v":"Angola"},"MALANJE","CAMBUNDI CATEMBO",54339.570088455555,{"$f":"IF(INTRO!$E$48=\"\",\"\",ROUND($D127*INTRO!$E$48,0))","v":8694},{"$f":"IF(INTRO!$E$49=\"\",\"\",ROUND($D127*INTRO!$E$49,0))","v":15161},{"$f":"IF(INTRO!$E$50=\"\",\"\",ROUND($D127*INTRO!$E$50,0))","v":28637},0,4,3,2,1,{"$f":"IF(INTRO!$E$38=\"Endemic\", IF($H127>0, IF($H127=4,\"Unknown\", IF($H127=99,\"Stopped\", $D127)), 0),\"Not required\")","v":0},{"$f":"IF(INTRO!$E$40=\"Endemic\", IF($I127>0, IF($I127=4,\"Unknown\",IF($I127=99,\"Stopped\", $D127)), 0),\"Not required\")","v":"Unknown"},{"$f":"IF(INTRO!$E$42=\"Endemic\", IF(AND($J127>1,$J127<5), IF($J127=4, \"Unknown\", E127+F127), 0),\"Not required\")","v":23855},{"$f":"IF(INTRO!$E$44=\"Endemic\", IF(AND($K127>0,$K127<5), IF($K127=4,\"Unknown\", IF($K127=1, $F127*0.33, IF($K127=2, $F127*0.5+$G127*0.2, SUM(F127:G127)))), 0),\"Not required\")","v":13307.900000000001},0,0,0,0,null,null,2162,"KAHOMBO",null,0,0,4395]
[{"$f":"IF(INTRO!$E$34<>0,INTRO!$E$34,\"\")","v":"Angola"},"MALANJE","CANGANDALA",52940.952720485286,{"$f":"IF(INTRO!$E$48=\"\",\"\",ROUND($D128*INTRO!$E$48,0))","v":8471},{"$f":"IF(INTRO!$E$49=\"\",\"\",ROUND($D128*INTRO!$E$49,0))","v":14771},{"$f":"IF(INTRO!$E$50=\"\",\"\",ROUND($D128*INTRO!$E$50,0))","v":27900},0,4,3,2,1,{"$f":"IF(INTRO!$E$38=\"Endemic\", IF($H128>0, IF($H128=4,\"Unknown\", IF($H128=99,\"Stopped\", $D128)), 0),\"Not required\")","v":0},{"$f":"IF(INTRO!$E$40=\"Endemic\", IF($I128>0, IF($I128=4,\"Unknown\",IF($I128=99,\"Stopped\", $D128)), 0),\"Not required\")","v":"Unknown"},{"$f":"IF(INTRO!$E$42=\"Endemic\", IF(AND($J128>1,$J128<5), IF($J128=4, \"Unknown\", E128+F128), 0),\"Not required\")","v":23242},{"$f":"IF(INTRO!$E$44=\"Endemic\", IF(AND($K128>0,$K128<5), IF($K128=4,\"Unknown\", IF($K128=1, $F128*0.33, IF($K128=2, $F128*0.5+$G128*0.2, SUM(F128:G128)))), 0),\"Not required\")","v":12965.5},0,0,0,0,null,null,2164,"KALANDULA",null,0,0,0]
[{"$f":"IF(INTRO!$E$34<>0,INTRO!$E$34,\"\")","v":"Angola"},"MALANJE","KIWABA NZOJI",18632.587083362283,{"$f":"IF(INTRO!$E$48=\"\",\"\",ROUND($D129*INTRO!$E$48,0))","v":2981},{"$f":"IF(INTRO!$E$49=\"\",\"\",ROUND($D129*INTRO!$E$49,0))","v":5198},{"$f":"IF(INTRO!$E$50=\"\",\"\",ROUND($D129*INTRO!$E$50,0))","v":9819},0,4,3,2,1,{"$f":"IF(INTRO!$E$38=\"Endemic\", IF($H129>0, IF($H129=4,\"Unknown\", IF($H129=99,\"Stopped\", $D129)), 0),\"Not required\")","v":0},{"$f":"IF(INTRO!$E$40=\"Endemic\", IF($I129>0, IF($I129=4,\"Unknown\",IF($I129=99,\"Stopped\", $D129)), 0),\"Not required\")","v":"Unknown"},{"$f":"IF(INTRO!$E$42=\"Endemic\", IF(AND($J129>1,$J129<5), IF($J129=4, \"Unknown\", E129+F129), 0),\"Not required\")","v":8179},{"$f":"IF(INTRO!$E$44=\"Endemic\", IF(AND($K129>0,$K129<5), IF($K129=4,\"Unknown\", IF($K129=1, $F129*0.33, IF($K129=2, $F129*0.5+$G129*0.2, SUM(F129:G129)))), 0),\"Not required\")","v":4562.8},0,0,0,0,null,null,2169,"KIWABA NZOGI",null,0,0,0]
[{"$f":"IF(INTRO!$E$34<>0,INTRO!$E$34,\"\")","v":"Angola"},"MALANJE","KUNDA DYA BASE",14807.509382369779,{"$f":"IF(INTRO!$E$48=\"\",\"\",ROUND($D130*INTRO!$E$48,0))","v":2369},{"$f":"IF(INTRO!$E$49=\"\",\"\",ROUND($D130*INTRO!$E$49,0))","v":4131},{"$f":"IF(INTRO!$E$50=\"\",\"\",ROUND($D130*INTRO!$E$50,0))","v":7804},1,4,3,2,1,{"$f":"IF(INTRO!$E$38=\"Endemic\", IF($H130>0, IF($H130=4,\"Unknown\", IF($H130=99,\"Stopped\", $D130)), 0),\"Not required\")","v":14807.509382369779},{"$f":"IF(INTRO!$E$40=\"Endemic\", IF($I130>0, IF($I130=4,\"Unknown\",IF($I130=99,\"Stopped\", $D130)), 0),\"Not required\")","v":"Unknown"},{"$f":"IF(INTRO!$E$42=\"Endemic\", IF(AND($J130>1,$J130<5), IF($J130=4, \"Unknown\", E130+F130), 0),\"Not required\")","v":6500},{"$f":"IF(INTRO!$E$44=\"Endemic\", IF(AND($K130>0,$K130<5), IF($K130=4,\"Unknown\", IF($K130=1, $F130*0.33, IF($K130=2, $F130*0.5+$G130*0.2, SUM(F130:G130)))), 0),\"Not required\")","v":3626.3},0,0,0,0,null,null,2170,"KUNDA DIA BASE",null,0,0,2889]
[{"$f":"IF(INTRO!$E$34<>0,INTRO!$E$34,\"\")","v":"Angola"},"MALANJE","LUQUEMBO",64392.719089100894,{"$f":"IF(INTRO!$E$48=\"\",\"\",ROUND($D131*INTRO!$E$48,0))","v":10303},{"$f":"IF(INTRO!$E$49=\"\",\"\",ROUND($D131*INTRO!$E$49,0))","v":17966},{"$f":"IF(INTRO!$E$50=\"\",\"\",ROUND($D131*INTRO!$E$50,0))","v":33935},0,4,3,2,1,{"$f":"IF(INTRO!$E$38=\"Endemic\", IF($H131>0, IF($H131=4,\"Unknown\", IF($H131=99,\"Stopped\", $D131)), 0),\"Not required\")","v":0},{"$f":"IF(INTRO!$E$40=\"Endemic\", IF($I131>0, IF($I131=4,\"Unknown\",IF($I131=99,\"Stopped\", $D131)), 0),\"Not required\")","v":"Unknown"},{"$f":"IF(INTRO!$E$42=\"Endemic\", IF(AND($J131>1,$J131<5), IF($J131=4, \"Unknown\", E131+F131), 0),\"Not required\")","v":28269},{"$f":"IF(INTRO!$E$44=\"Endemic\", IF(AND($K131>0,$K131<5), IF($K131=4,\"Unknown\", IF($K131=1, $F131*0.33, IF($K131=2, $F131*0.5+$G131*0.2, SUM(F131:G131)))), 0),\"Not required\")","v":15770},0,0,0,0,null,null,2171,"LUQUEMBO",null,0,0,0]
[{"$f":"IF(INTRO!$E$34<>0,INTRO!$E$34,\"\")","v":"Angola"},"MALANJE","MALANJE",594702.19555673341,{"$f":"IF(INTRO!$E$48=\"\",\"\",ROUND($D132*INTRO!$E$48,0))","v":95152},{"$f":"IF(INTRO!$E$49=\"\",\"\",ROUND($D132*INTRO!$E$49,0))","v":165922},{"$f":"IF(INTRO!$E$50=\"\",\"\",ROUND($D132*INTRO!$E$50,0))","v":313408},0,4,3,2,1,{"$f":"IF(INTRO!$E$38=\"Endemic\", IF($H132>0, IF($H132=4,\"Unknown\", IF($H132=99,\"Stopped\", $D132)), 0),\"Not required\")","v":0},{"$f":"IF(INTRO!$E$40=\"Endemic\", IF($I132>0, IF($I132=4,\"Unknown\",IF($I132=99,\"Stopped\", $D132)), 0),\"Not required\")","v":"Unknown"},{"$f":"IF(INTRO!$E$42=\"Endemic\", IF(AND($J132>1,$J132<5), IF($J132=4, \"Unknown\", E132+F132), 0),\"Not required\")","v":261074},{"$f":"IF(INTRO!$E$44=\"Endemic\", IF(AND($K132>0,$K132<5), IF($K132=4,\"Unknown\", IF($K132=1, $F132*0.33, IF($K132=2, $F132*0.5+$G132*0.2, SUM(F132:G132)))), 0),\"Not required\")","v":145642.6},0,0,0,0,null,null,2172,"MALANJE",null,0,0,39115]
[{"$f":"IF(INTRO!$E$34<>0,INTRO!$E$34,\"\")","v":"Angola"},"MALANJE","MARIMBA",30717.955279749662,{"$f":"IF(INTRO!$E$48=\"\",\"\",ROUND($D133*INTRO!$E$48,0))","v":4915},{"$f":"IF(INTRO!$E$49=\"\",\"\",ROUND($D133*INTRO!$E$49,0))","v":8570},{"$f":"IF(INTRO!$E$50=\"\",\"\",ROUND($D133*INTRO!$E$50,0))","v":16188},1,4,3,2,1,{"$f":"IF(INTRO!$E$38=\"Endemic\", IF($H133>0, IF($H133=4,\"Unknown\", IF($H133=99,\"Stopped\", $D133)), 0),\"Not required\")","v":30717.955279749662},{"$f":"IF(INTRO!$E$40=\"Endemic\", IF($I133>0, IF($I133=4,\"Unknown\",IF($I133=99,\"Stopped\", $D133)), 0),\"Not required\")","v":"Unknown"},{"$f":"IF(INTRO!$E$42=\"Endemic\", IF(AND($J133>1,$J133<5), IF($J133=4, \"Unknown\", E133+F133), 0),\"Not required\")","v":13485},{"$f":"IF(INTRO!$E$44=\"Endemic\", IF(AND($K133>0,$K133<5), IF($K133=4,\"Unknown\", IF($K133=1, $F133*0.33, IF($K133=2, $F133*0.5+$G133*0.2, SUM(F133:G133)))), 0),\"Not required\")","v":7522.6},0,0,0,0,null,null,2173,"MARIMBA",null,0,0,0]
[{"$f":"IF(INTRO!$E$34<>0,INTRO!$E$34,\"\")","v":"Angola"},"MALANJE","MASSANGO",38623.898086279587,{"$f":"IF(INTRO!$E$48=\"\",\"\",ROUND($D134*INTRO!$E$48,0))","v":6180},{"$f":"IF(INTRO!$E$49=\"\",\"\",ROUND($D134*INTRO!$E$49,0))","v":10776},{"$f":"IF(INTRO!$E$50=\"\",\"\",ROUND($D134*INTRO!$E$50,0))","v":20355},0,4,3,2,1,{"$f":"IF(INTRO!$E$38=\"Endemic\", IF($H134>0, IF($H134=4,\"Unknown\", IF($H134=99,\"Stopped\", $D134)), 0),\"Not required\")","v":0},{"$f":"IF(INTRO!$E$40=\"Endemic\", IF($I134>0, IF($I134=4,\"Unknown\",IF($I134=99,\"Stopped\", $D134)), 0),\"Not required\")","v":"Unknown"},{"$f":"IF(INTRO!$E$42=\"Endemic\", IF(AND($J134>1,$J134<5), IF($J134=4, \"Unknown\", E134+F134), 0),\"Not required\")","v":16956},{"$f":"IF(INTRO!$E$44=\"Endemic\", IF(AND($K134>0,$K134<5), IF($K134=4,\"Unknown\", IF($K134=1, $F134*0.33, IF($K134=2, $F134*0.5+$G134*0.2, SUM(F134:G134)))), 0),\"Not required\")","v":9459},0,0,0,0,null,null,2174,"MASSANGO",null,0,0,0]
[{"$f":"IF(INTRO!$E$34<>0,INTRO!$E$34,\"\")","v":"Angola"},"MALANJE","QUELA",24580.230907390211,{"$f":"IF(INTRO!$E$48=\"\",\"\",ROUND($D135*INTRO!$E$48,0))","v":3933},{"$f":"IF(INTRO!$E$49=\"\",\"\",ROUND($D135*INTRO!$E$49,0))","v":6858},{"$f":"IF(INTRO!$E$50=\"\",\"\",ROUND($D135*INTRO!$E$50,0))","v":12954},1,4,3,2,1,{"$f":"IF(INTRO!$E$38=\"Endemic\", IF($H135>0, IF($H135=4,\"Unknown\", IF($H135=99,\"Stopped\", $D135)), 0),\"Not required\")","v":24580.230907390211},{"$f":"IF(INTRO!$E$40=\"Endemic\", IF($I135>0, IF($I135=4,\"Unknown\",IF($I135=99,\"Stopped\", $D135)), 0),\"Not required\")","v":"Unknown"},{"$f":"IF(INTRO!$E$42=\"Endemic\", IF(AND($J135>1,$J135<5), IF($J135=4, \"Unknown\", E135+F135), 0),\"Not required\")","v":10791},{"$f":"IF(INTRO!$E$44=\"Endemic\", IF(AND($K135>0,$K135<5), IF($K135=4,\"Unknown\", IF($K135=1, $F135*0.33, IF($K135=2, $F135*0.5+$G135*0.2, SUM(F135:G135)))), 0),\"Not required\")","v":6019.8},0,0,0,0,null,null,2222,"QUELA",null,0,0,0]
[{"$f":"IF(INTRO!$E$34<>0,INTRO!$E$34,\"\")","v":"Angola"},"MALANJE","QUIRIMA",24797.298200237943,{"$f":"IF(INTRO!$E$48=\"\",\"\",ROUND($D136*INTRO!$E$48,0))","v":3968},{"$f":"IF(INTRO!$E$49=\"\",\"\",ROUND($D136*INTRO!$E$49,0))","v":6918},{"$f":"IF(INTRO!$E$50=\"\",\"\",ROUND($D136*INTRO!$E$50,0))","v":13068},0,4,3,2,1,{"$f":"IF(INTRO!$E$38=\"Endemic\", IF($H136>0, IF($H136=4,\"Unknown\", IF($H136=99,\"Stopped\", $D136)), 0),\"Not required\")","v":0},{"$f":"IF(INTRO!$E$40=\"Endemic\", IF($I136>0, IF($I136=4,\"Unknown\",IF($I136=99,\"Stopped\", $D136)), 0),\"Not required\")","v":"Unknown"},{"$f":"IF(INTRO!$E$42=\"Endemic\", IF(AND($J136>1,$J136<5), IF($J136=4, \"Unknown\", E136+F136), 0),\"Not required\")","v":10886},{"$f":"IF(INTRO!$E$44=\"Endemic\", IF(AND($K136>0,$K136<5), IF($K136=4,\"Unknown\", IF($K136=1, $F136*0.33, IF($K136=2, $F136*0.5+$G136*0.2, SUM(F136:G136)))), 0),\"Not required\")","v":6072.6},0,0,0,0,null,null,2168,"QUIRIMA",null,0,0,0]
[{"$f":"IF(INTRO!$E$34<>0,INTRO!$E$34,\"\")","v":"Angola"},"MOXICO","ALTO ZAMBEZE",16955.8889132033,{"$f":"IF(INTRO!$E$48=\"\",\"\",ROUND($D137*INTRO!$E$48,0))","v":2713},{"$f":"IF(INTRO!$E$49=\"\",\"\",ROUND($D137*INTRO!$E$49,0))","v":4731},{"$f":"IF(INTRO!$E$50=\"\",\"\",ROUND($D137*INTRO!$E$50,0))","v":8936},0,4,2,2,1,{"$f":"IF(INTRO!$E$38=\"Endemic\", IF($H137>0, IF($H137=4,\"Unknown\", IF($H137=99,\"Stopped\", $D137)), 0),\"Not required\")","v":0},{"$f":"IF(INTRO!$E$40=\"Endemic\", IF($I137>0, IF($I137=4,\"Unknown\",IF($I137=99,\"Stopped\", $D137)), 0),\"Not required\")","v":"Unknown"},{"$f":"IF(INTRO!$E$42=\"Endemic\", IF(AND($J137>1,$J137<5), IF($J137=4, \"Unknown\", E137+F137), 0),\"Not required\")","v":7444},{"$f":"IF(INTRO!$E$44=\"Endemic\", IF(AND($K137>0,$K137<5), IF($K137=4,\"Unknown\", IF($K137=1, $F137*0.33, IF($K137=2, $F137*0.5+$G137*0.2, SUM(F137:G137)))), 0),\"Not required\")","v":4152.7},0,0,0,0,null,null,2176,"ALTO ZAMBEZE",null,0,0,0]
[{"$f":"IF(INTRO!$E$34<>0,INTRO!$E$34,\"\")","v":"Angola"},"MOXICO","BUNDAS (LUMBALA NGUIMBO)",34585.273102593623,{"$f":"IF(INTRO!$E$48=\"\",\"\",ROUND($D138*INTRO!$E$48,0))","v":5534},{"$f":"IF(INTRO!$E$49=\"\",\"\",ROUND($D138*INTRO!$E$49,0))","v":9649},{"$f":"IF(INTRO!$E$50=\"\",\"\",ROUND($D138*INTRO!$E$50,0))","v":18226},4,4,2,2,1,{"$f":"IF(INTRO!$E$38=\"Endemic\", IF($H138>0, IF($H138=4,\"Unknown\", IF($H138=99,\"Stopped\", $D138)), 0),\"Not required\")","v":"Unknown"},{"$f":"IF(INTRO!$E$40=\"Endemic\", IF($I138>0, IF($I138=4,\"Unknown\",IF($I138=99,\"Stopped\", $D138)), 0),\"Not required\")","v":"Unknown"},{"$f":"IF(INTRO!$E$42=\"Endemic\", IF(AND($J138>1,$J138<5), IF($J138=4, \"Unknown\", E138+F138), 0),\"Not required\")","v":15183},{"$f":"IF(INTRO!$E$44=\"Endemic\", IF(AND($K138>0,$K138<5), IF($K138=4,\"Unknown\", IF($K138=1, $F138*0.33, IF($K138=2, $F138*0.5+$G138*0.2, SUM(F138:G138)))), 0),\"Not required\")","v":8469.7000000000007},0,0,0,0,null,null,2177,"CAMANONGUE",null,0,0,0]
[{"$f":"IF(INTRO!$E$34<>0,INTRO!$E$34,\"\")","v":"Angola"},"MOXICO","CAMANONGUE",40089.395647181314,{"$f":"IF(INTRO!$E$48=\"\",\"\",ROUND($D139*INTRO!$E$48,0))","v":6414},{"$f":"IF(INTRO!$E$49=\"\",\"\",ROUND($D139*INTRO!$E$49,0))","v":11185},{"$f":"IF(INTRO!$E$50=\"\",\"\",ROUND($D139*INTRO!$E$50,0))","v":21127},0,1,2,2,1,{"$f":"IF(INTRO!$E$38=\"Endemic\", IF($H139>0, IF($H139=4,\"Unknown\", IF($H139=99,\"Stopped\", $D139)), 0),\"Not required\")","v":0},{"$f":"IF(INTRO!$E$40=\"Endemic\", IF($I139>0, IF($I139=4,\"Unknown\",IF($I139=99,\"Stopped\", $D139)), 0),\"Not required\")","v":40089.395647181314},{"$f":"IF(INTRO!$E$42=\"Endemic\", IF(AND($J139>1,$J139<5), IF($J139=4, \"Unknown\", E139+F139), 0),\"Not required\")","v":17599},{"$f":"IF(INTRO!$E$44=\"Endemic\", IF(AND($K139>0,$K139<5), IF($K139=4,\"Unknown\", IF($K139=1, $F139*0.33, IF($K139=2, $F139*0.5+$G139*0.2, SUM(F139:G139)))), 0),\"Not required\")","v":9817.9000000000015},0,0,0,0,null,null,2179,"LEUA",null,0,0,0]
[{"$f":"IF(INTRO!$E$34<>0,INTRO!$E$34,\"\")","v":"Angola"},"MOXICO","CAMEIA (LUMEJE)",24352.603584079614,{"$f":"IF(INTRO!$E$48=\"\",\"\",ROUND($D140*INTRO!$E$48,0))","v":3896},{"$f":"IF(INTRO!$E$49=\"\",\"\",ROUND($D140*INTRO!$E$49,0))","v":6794},{"$f":"IF(INTRO!$E$50=\"\",\"\",ROUND($D140*INTRO!$E$50,0))","v":12834},0,4,2,2,1,{"$f":"IF(INTRO!$E$38=\"Endemic\", IF($H140>0, IF($H140=4,\"Unknown\", IF($H140=99,\"Stopped\", $D140)), 0),\"Not required\")","v":0},{"$f":"IF(INTRO!$E$40=\"Endemic\", IF($I140>0, IF($I140=4,\"Unknown\",IF($I140=99,\"Stopped\", $D140)), 0),\"Not required\")","v":"Unknown"},{"$f":"IF(INTRO!$E$42=\"Endemic\", IF(AND($J140>1,$J140<5), IF($J140=4, \"Unknown\", E140+F140), 0),\"Not required\")","v":10690},{"$f":"IF(INTRO!$E$44=\"Endemic\", IF(AND($K140>0,$K140<5), IF($K140=4,\"Unknown\", IF($K140=1, $F140*0.33, IF($K140=2, $F140*0.5+$G140*0.2, SUM(F140:G140)))), 0),\"Not required\")","v":5963.8},0,0,0,0,null,null,2180,"LUACANO",null,0,0,0]
[{"$f":"IF(INTRO!$E$34<>0,INTRO!$E$34,\"\")","v":"Angola"},"MOXICO","LEUA",21767.742794114431,{"$f":"IF(INTRO!$E$48=\"\",\"\",ROUND($D141*INTRO!$E$48,0))","v":3483},{"$f":"IF(INTRO!$E$49=\"\",\"\",ROUND($D141*INTRO!$E$49,0))","v":6073},{"$f":"IF(INTRO!$E$50=\"\",\"\",ROUND($D141*INTRO!$E$50,0))","v":11472},0,1,2,2,1,{"$f":"IF(INTRO!$E$38=\"Endemic\", IF($H141>0, IF($H141=4,\"Unknown\", IF($H141=99,\"Stopped\", $D141)), 0),\"Not required\")","v":0},{"$f":"IF(INTRO!$E$40=\"Endemic\", IF($I141>0, IF($I141=4,\"Unknown\",IF($I141=99,\"Stopped\", $D141)), 0),\"Not required\")","v":21767.742794114431},{"$f":"IF(INTRO!$E$42=\"Endemic\", IF(AND($J141>1,$J141<5), IF($J141=4, \"Unknown\", E141+F141), 0),\"Not required\")","v":9556},{"$f":"IF(INTRO!$E$44=\"Endemic\", IF(AND($K141>0,$K141<5), IF($K141=4,\"Unknown\", IF($K141=1, $F141*0.33, IF($K141=2, $F141*0.5+$G141*0.2, SUM(F141:G141)))), 0),\"Not required\")","v":5330.9},0,0,0,0,null,null,2181,"LUAU",null,0,0,0]
[{"$f":"IF(INTRO!$E$34<>0,INTRO!$E$34,\"\")","v":"Angola"},"MOXICO","LUACANO",16316.420401841056,{"$f":"IF(INTRO!$E$48=\"\",\"\",ROUND($D142*INTRO!$E$48,0))","v":2611},{"$f":"IF(INTRO!$E$49=\"\",\"\",ROUND($D142*INTRO!$E$49,0))","v":4552},{"$f":"IF(INTRO!$E$50=\"\",\"\",ROUND($D142*INTRO!$E$50,0))","v":8599},0,1,2,2,4,{"$f":"IF(INTRO!$E$38=\"Endemic\", IF($H142>0, IF($H142=4,\"Unknown\", IF($H142=99,\"Stopped\", $D142)), 0),\"Not required\")","v":0},{"$f":"IF(INTRO!$E$40=\"Endemic\", IF($I142>0, IF($I142=4,\"Unknown\",IF($I142=99,\"Stopped\", $D142)), 0),\"Not required\")","v":16316.420401841056},{"$f":"IF(INTRO!$E$42=\"Endemic\", IF(AND($J142>1,$J142<5), IF($J142=4, \"Unknown\", E142+F142), 0),\"Not required\")","v":7163},{"$f":"IF(INTRO!$E$44=\"Endemic\", IF(AND($K142>0,$K142<5), IF($K142=4,\"Unknown\", IF($K142=1, $F142*0.33, IF($K142=2, $F142*0.5+$G142*0.2, SUM(F142:G142)))), 0),\"Not required\")","v":3995.8},0,0,0,0,null,null,2183,"LUCHAZES",null,0,0,0]
[{"$f":"IF(INTRO!$E$34<>0,INTRO!$E$34,\"\")","v":"Angola"},"MOXICO","LUAU",235081.53148066025,{"$f":"IF(INTRO!$E$48=\"\",\"\",ROUND($D143*INTRO!$E$48,0))","v":37613},{"$f":"IF(INTRO!$E$49=\"\",\"\",ROUND($D143*INTRO!$E$49,0))","v":65588},{"$f":"IF(INTRO!$E$50=\"\",\"\",ROUND($D143*INTRO!$E$50,0))","v":123888},0,4,2,2,1,{"$f":"IF(INTRO!$E$38=\"Endemic\", IF($H143>0, IF($H143=4,\"Unknown\", IF($H143=99,\"Stopped\", $D143)), 0),\"Not required\")","v":0},{"$f":"IF(INTRO!$E$40=\"Endemic\", IF($I143>0, IF($I143=4,\"Unknown\",IF($I143=99,\"Stopped\", $D143)), 0),\"Not required\")","v":"Unknown"},{"$f":"IF(INTRO!$E$42=\"Endemic\", IF(AND($J143>1,$J143<5), IF($J143=4, \"Unknown\", E143+F143), 0),\"Not required\")","v":103201},{"$f":"IF(INTRO!$E$44=\"Endemic\", IF(AND($K143>0,$K143<5), IF($K143=4,\"Unknown\", IF($K143=1, $F143*0.33, IF($K143=2, $F143*0.5+$G143*0.2, SUM(F143:G143)))), 0),\"Not required\")","v":57571.600000000006},0,0,0,0,null,null,2182,"LUMBALA NGUIMBO",null,0,0,0]
[{"$f":"IF(INTRO!$E$34<>0,INTRO!$E$34,\"\")","v":"Angola"},"MOXICO","LUCHAZES",81542.208560790023,{"$f":"IF(INTRO!$E$48=\"\",\"\",ROUND($D144*INTRO!$E$48,0))","v":13047},{"$f":"IF(INTRO!$E$49=\"\",\"\",ROUND($D144*INTRO!$E$49,0))","v":22750},{"$f":"IF(INTRO!$E$50=\"\",\"\",ROUND($D144*INTRO!$E$50,0))","v":42973},0,4,2,2,1,{"$f":"IF(INTRO!$E$38=\"Endemic\", IF($H144>0, IF($H144=4,\"Unknown\", IF($H144=99,\"Stopped\", $D144)), 0),\"Not required\")","v":0},{"$f":"IF(INTRO!$E$40=\"Endemic\", IF($I144>0, IF($I144=4,\"Unknown\",IF($I144=99,\"Stopped\", $D144)), 0),\"Not required\")","v":"Unknown"},{"$f":"IF(INTRO!$E$42=\"Endemic\", IF(AND($J144>1,$J144<5), IF($J144=4, \"Unknown\", E144+F144), 0),\"Not required\")","v":35797},{"$f":"IF(INTRO!$E$44=\"Endemic\", IF(AND($K144>0,$K144<5), IF($K144=4,\"Unknown\", IF($K144=1, $F144*0.33, IF($K144=2, $F144*0.5+$G144*0.2, SUM(F144:G144)))), 0),\"Not required\")","v":19969.599999999999},0,0,0,0,null,null,2220,"LUMEJE",null,0,0,0]
[{"$f":"IF(INTRO!$E$34<>0,INTRO!$E$34,\"\")","v":"Angola"},"MOXICO","MOXICO/LUENA",419365.79642479628,{"$f":"IF(INTRO!$E$48=\"\",\"\",ROUND($D145*INTRO!$E$48,0))","v":67099},{"$f":"IF(INTRO!$E$49=\"\",\"\",ROUND($D145*INTRO!$E$49,0))","v":117003},{"$f":"IF(INTRO!$E$50=\"\",\"\",ROUND($D145*INTRO!$E$50,0))","v":221006},0,1,2,2,1,{"$f":"IF(INTRO!$E$38=\"Endemic\", IF($H145>0, IF($H145=4,\"Unknown\", IF($H145=99,\"Stopped\", $D145)), 0),\"Not required\")","v":0},{"$f":"IF(INTRO!$E$40=\"Endemic\", IF($I145>0, IF($I145=4,\"Unknown\",IF($I145=99,\"Stopped\", $D145)), 0),\"Not required\")","v":419365.79642479628},{"$f":"IF(INTRO!$E$42=\"Endemic\", IF(AND($J145>1,$J145<5), IF($J145=4, \"Unknown\", E145+F145), 0),\"Not required\")","v":184102},{"$f":"IF(INTRO!$E$44=\"Endemic\", IF(AND($K145>0,$K145<5), IF($K145=4,\"Unknown\", IF($K145=1, $F145*0.33, IF($K145=2, $F145*0.5+$G145*0.2, SUM(F145:G145)))), 0),\"Not required\")","v":102702.70000000001},0,0,0,0,null,null,2184,"MOXICO / LUENA",null,0,0,0]
[{"$f":"IF(INTRO!$E$34<>0,INTRO!$E$34,\"\")","v":"Angola"},"NAMIBE","BIBALA",75684.911664055471,{"$f":"IF(INTRO!$E$48=\"\",\"\",ROUND($D146*INTRO!$E$48,0))","v":12110},{"$f":"IF(INTRO!$E$49=\"\",\"\",ROUND($D146*INTRO!$E$49,0))","v":21116},{"$f":"IF(INTRO!$E$50=\"\",\"\",ROUND($D146*INTRO!$E$50,0))","v":39886},0,4,2,2,1,{"$f":"IF(INTRO!$E$38=\"Endemic\", IF($H146>0, IF($H146=4,\"Unknown\", IF($H146=99,\"Stopped\", $D146)), 0),\"Not required\")","v":0},{"$f":"IF(INTRO!$E$40=\"Endemic\", IF($I146>0, IF($I146=4,\"Unknown\",IF($I146=99,\"Stopped\", $D146)), 0),\"Not required\")","v":"Unknown"},{"$f":"IF(INTRO!$E$42=\"Endemic\", IF(AND($J146>1,$J146<5), IF($J146=4, \"Unknown\", E146+F146), 0),\"Not required\")","v":33226},{"$f":"IF(INTRO!$E$44=\"Endemic\", IF(AND($K146>0,$K146<5), IF($K146=4,\"Unknown\", IF($K146=1, $F146*0.33, IF($K146=2, $F146*0.5+$G146*0.2, SUM(F146:G146)))), 0),\"Not required\")","v":18535.2},0,0,0,0,null,null,2185,"BIBALA",null,0,0,0]
[{"$f":"IF(INTRO!$E$34<>0,INTRO!$E$34,\"\")","v":"Angola"},"NAMIBE","CAMUCUIO",59076.33041940855,{"$f":"IF(INTRO!$E$48=\"\",\"\",ROUND($D147*INTRO!$E$48,0))","v":9452},{"$f":"IF(INTRO!$E$49=\"\",\"\",ROUND($D147*INTRO!$E$49,0))","v":16482},{"$f":"IF(INTRO!$E$50=\"\",\"\",ROUND($D147*INTRO!$E$50,0))","v":31133},0,4,2,2,4,{"$f":"IF(INTRO!$E$38=\"Endemic\", IF($H147>0, IF($H147=4,\"Unknown\", IF($H147=99,\"Stopped\", $D147)), 0),\"Not required\")","v":0},{"$f":"IF(INTRO!$E$40=\"Endemic\", IF($I147>0, IF($I147=4,\"Unknown\",IF($I147=99,\"Stopped\", $D147)), 0),\"Not required\")","v":"Unknown"},{"$f":"IF(INTRO!$E$42=\"Endemic\", IF(AND($J147>1,$J147<5), IF($J147=4, \"Unknown\", E147+F147), 0),\"Not required\")","v":25934},{"$f":"IF(INTRO!$E$44=\"Endemic\", IF(AND($K147>0,$K147<5), IF($K147=4,\"Unknown\", IF($K147=1, $F147*0.33, IF($K147=2, $F147*0.5+$G147*0.2, SUM(F147:G147)))), 0),\"Not required\")","v":14467.6},0,0,0,0,null,null,2186,"CAMUCUIO",null,0,0,0]
[{"$f":"IF(INTRO!$E$34<>0,INTRO!$E$34,\"\")","v":"Angola"},"NAMIBE","NAMIBE",343242.05682817288,{"$f":"IF(INTRO!$E$48=\"\",\"\",ROUND($D148*INTRO!$E$48,0))","v":54919},{"$f":"IF(INTRO!$E$49=\"\",\"\",ROUND($D148*INTRO!$E$49,0))","v":95765},{"$f":"IF(INTRO!$E$50=\"\",\"\",ROUND($D148*INTRO!$E$50,0))","v":180889},0,4,2,2,1,{"$f":"IF(INTRO!$E$38=\"Endemic\", IF($H148>0, IF($H148=4,\"Unknown\", IF($H148=99,\"Stopped\", $D148)), 0),\"Not required\")","v":0},{"$f":"IF(INTRO!$E$40=\"Endemic\", IF($I148>0, IF($I148=4,\"Unknown\",IF($I148=99,\"Stopped\", $D148)), 0),\"Not required\")","v":"Unknown"},{"$f":"IF(INTRO!$E$42=\"Endemic\", IF(AND($J148>1,$J148<5), IF($J148=4, \"Unknown\", E148+F148), 0),\"Not required\")","v":150684},{"$f":"IF(INTRO!$E$44=\"Endemic\", IF(AND($K148>0,$K148<5), IF($K148=4,\"Unknown\", IF($K148=1, $F148*0.33, IF($K148=2, $F148*0.5+$G148*0.2, SUM(F148:G148)))), 0),\"Not required\")","v":84060.3},0,0,0,0,null,null,2187,"NAMIBE",null,0,0,0]
[{"$f":"IF(INTRO!$E$34<>0,INTRO!$E$34,\"\")","v":"Angola"},"NAMIBE","TOMBWA",65113.147834011761,{"$f":"IF(INTRO!$E$48=\"\",\"\",ROUND($D149*INTRO!$E$48,0))","v":10418},{"$f":"IF(INTRO!$E$49=\"\",\"\",ROUND($D149*INTRO!$E$49,0))","v":18167},{"$f":"IF(INTRO!$E$50=\"\",\"\",ROUND($D149*INTRO!$E$50,0))","v":34315},0,4,2,2,1,{"$f":"IF(INTRO!$E$38=\"Endemic\", IF($H149>0, IF($H149=4,\"Unknown\", IF($H149=99,\"Stopped\", $D149)), 0),\"Not required\")","v":0},{"$f":"IF(INTRO!$E$40=\"Endemic\", IF($I149>0, IF($I149=4,\"Unknown\",IF($I149=99,\"Stopped\", $D149)), 0),\"Not required\")","v":"Unknown"},{"$f":"IF(INTRO!$E$42=\"Endemic\", IF(AND($J149>1,$J149<5), IF($J149=4, \"Unknown\", E149+F149), 0),\"Not required\")","v":28585},{"$f":"IF(INTRO!$E$44=\"Endemic\", IF(AND($K149>0,$K149<5), IF($K149=4,\"Unknown\", IF($K149=1, $F149*0.33, IF($K149=2, $F149*0.5+$G149*0.2, SUM(F149:G149)))), 0),\"Not required\")","v":15946.5},0,0,0,0,null,null,2188,"TOMBUA",null,0,0,0]
[{"$f":"IF(INTRO!$E$34<>0,INTRO!$E$34,\"\")","v":"Angola"},"NAMIBE","VIREI",38068.909818620239,{"$f":"IF(INTRO!$E$48=\"\",\"\",ROUND($D150*INTRO!$E$48,0))","v":6091},{"$f":"IF(INTRO!$E$49=\"\",\"\",ROUND($D150*INTRO!$E$49,0))","v":10621},{"$f":"IF(INTRO!$E$50=\"\",\"\",ROUND($D150*INTRO!$E$50,0))","v":20062},0,4,2,2,1,{"$f":"IF(INTRO!$E$38=\"Endemic\", IF($H150>0, IF($H150=4,\"Unknown\", IF($H150=99,\"Stopped\", $D150)), 0),\"Not required\")","v":0},{"$f":"IF(INTRO!$E$40=\"Endemic\", IF($I150>0, IF($I150=4,\"Unknown\",IF($I150=99,\"Stopped\", $D150)), 0),\"Not required\")","v":"Unknown"},{"$f":"IF(INTRO!$E$42=\"Endemic\", IF(AND($J150>1,$J150<5), IF($J150=4, \"Unknown\", E150+F150), 0),\"Not required\")","v":16712},{"$f":"IF(INTRO!$E$44=\"Endemic\", IF(AND($K150>0,$K150<5), IF($K150=4,\"Unknown\", IF($K150=1, $F150*0.33, IF($K150=2, $F150*0.5+$G150*0.2, SUM(F150:G150)))), 0),\"Not required\")","v":9322.9},0,0,0,0,null,null,2189,"VIREI",null,0,0,0]
[{"$f":"IF(INTRO!$E$34<>0,INTRO!$E$34,\"\")","v":"Angola"},"UIGE","AMBUILA",21258.514658460823,{"$f":"IF(INTRO!$E$48=\"\",\"\",ROUND($D151*INTRO!$E$48,0))","v":3401},{"$f":"IF(INTRO!$E$49=\"\",\"\",ROUND($D151*INTRO!$E$49,0))","v":5931},{"$f":"IF(INTRO!$E$50=\"\",\"\",ROUND($D151*INTRO!$E$50,0))","v":11203},0,4,2,2,1,{"$f":"IF(INTRO!$E$38=\"Endemic\", IF($H151>0, IF($H151=4,\"Unknown\", IF($H151=99,\"Stopped\", $D151)), 0),\"Not required\")","v":0},{"$f":"IF(INTRO!$E$40=\"Endemic\", IF($I151>0, IF($I151=4,\"Unknown\",IF($I151=99,\"Stopped\", $D151)), 0),\"Not required\")","v":"Unknown"},{"$f":"IF(INTRO!$E$42=\"Endemic\", IF(AND($J151>1,$J151<5), IF($J151=4, \"Unknown\", E151+F151), 0),\"Not required\")","v":9332},{"$f":"IF(INTRO!$E$44=\"Endemic\", IF(AND($K151>0,$K151<5), IF($K151=4,\"Unknown\", IF($K151=1, $F151*0.33, IF($K151=2, $F151*0.5+$G151*0.2, SUM(F151:G151)))), 0),\"Not required\")","v":5206.1000000000004},0,0,2,1,"T1 (PZQ+ALB/MBD)","T3 (ALB/MBD)",2190,"AMBUILA",null,0,6096,0]
[{"$f":"IF(INTRO!$E$34<>0,INTRO!$E$34,\"\")","v":"Angola"},"UIGE","BEMBE",38667.31154484913,{"$f":"IF(INTRO!$E$48=\"\",\"\",ROUND($D152*INTRO!$E$48,0))","v":6187},{"$f":"IF(INTRO!$E$49=\"\",\"\",ROUND($D152*INTRO!$E$49,0))","v":10788},{"$f":"IF(INTRO!$E$50=\"\",\"\",ROUND($D152*INTRO!$E$50,0))","v":20378},0,4,1,2,1,{"$f":"IF(INTRO!$E$38=\"Endemic\", IF($H152>0, IF($H152=4,\"Unknown\", IF($H152=99,\"Stopped\", $D152)), 0),\"Not required\")","v":0},{"$f":"IF(INTRO!$E$40=\"Endemic\", IF($I152>0, IF($I152=4,\"Unknown\",IF($I152=99,\"Stopped\", $D152)), 0),\"Not required\")","v":"Unknown"},{"$f":"IF(INTRO!$E$42=\"Endemic\", IF(AND($J152>1,$J152<5), IF($J152=4, \"Unknown\", E152+F152), 0),\"Not required\")","v":0},{"$f":"IF(INTRO!$E$44=\"Endemic\", IF(AND($K152>0,$K152<5), IF($K152=4,\"Unknown\", IF($K152=1, $F152*0.33, IF($K152=2, $F152*0.5+$G152*0.2, SUM(F152:G152)))), 0),\"Not required\")","v":9469.6},0,0,2,1,"T1 (PZQ+ALB/MBD)","T3 (ALB/MBD)",2191,"BEMBE",null,0,10490,0]
[{"$f":"IF(INTRO!$E$34<>0,INTRO!$E$34,\"\")","v":"Angola"},"UIGE","BUENGAS",67171.180437551899,{"$f":"IF(INTRO!$E$48=\"\",\"\",ROUND($D153*INTRO!$E$48,0))","v":10747},{"$f":"IF(INTRO!$E$49=\"\",\"\",ROUND($D153*INTRO!$E$49,0))","v":18741},{"$f":"IF(INTRO!$E$50=\"\",\"\",ROUND($D153*INTRO!$E$50,0))","v":35399},0,4,3,1,1,{"$f":"IF(INTRO!$E$38=\"Endemic\", IF($H153>0, IF($H153=4,\"Unknown\", IF($H153=99,\"Stopped\", $D153)), 0),\"Not required\")","v":0},{"$f":"IF(INTRO!$E$40=\"Endemic\", IF($I153>0, IF($I153=4,\"Unknown\",IF($I153=99,\"Stopped\", $D153)), 0),\"Not required\")","v":"Unknown"},{"$f":"IF(INTRO!$E$42=\"Endemic\", IF(AND($J153>1,$J153<5), IF($J153=4, \"Unknown\", E153+F153), 0),\"Not required\")","v":29488},{"$f":"IF(INTRO!$E$44=\"Endemic\", IF(AND($K153>0,$K153<5), IF($K153=4,\"Unknown\", IF($K153=1, $F153*0.33, IF($K153=2, $F153*0.5+$G153*0.2, SUM(F153:G153)))), 0),\"Not required\")","v":6184.5300000000007},0,0,2,1,"T1 (PZQ+ALB/MBD)","T3 (ALB/MBD)",2192,"BUENGAS",null,0,19297,0]
[{"$f":"IF(INTRO!$E$34<>0,INTRO!$E$34,\"\")","v":"Angola"},"UIGE","BUNGO",43592.979087415559,{"$f":"IF(INTRO!$E$48=\"\",\"\",ROUND($D154*INTRO!$E$48,0))","v":6975},{"$f":"IF(INTRO!$E$49=\"\",\"\",ROUND($D154*INTRO!$E$49,0))","v":12162},{"$f":"IF(INTRO!$E$50=\"\",\"\",ROUND($D154*INTRO!$E$50,0))","v":22973},0,1,3,2,1,{"$f":"IF(INTRO!$E$38=\"Endemic\", IF($H154>0, IF($H154=4,\"Unknown\", IF($H154=99,\"Stopped\", $D154)), 0),\"Not required\")","v":0},{"$f":"IF(INTRO!$E$40=\"Endemic\", IF($I154>0, IF($I154=4,\"Unknown\",IF($I154=99,\"Stopped\", $D154)), 0),\"Not required\")","v":43592.979087415559},{"$f":"IF(INTRO!$E$42=\"Endemic\", IF(AND($J154>1,$J154<5), IF($J154=4, \"Unknown\", E154+F154), 0),\"Not required\")","v":19137},{"$f":"IF(INTRO!$E$44=\"Endemic\", IF(AND($K154>0,$K154<5), IF($K154=4,\"Unknown\", IF($K154=1, $F154*0.33, IF($K154=2, $F154*0.5+$G154*0.2, SUM(F154:G154)))), 0),\"Not required\")","v":10675.6},0,0,2,1,"T1 (PZQ+ALB/MBD)","T3 (ALB/MBD)",2193,"BUNGO",null,0,11083,0]
[{"$f":"IF(INTRO!$E$34<>0,INTRO!$E$34,\"\")","v":"Angola"},"UIGE","CANGOLA",63031.648496109694,{"$f":"IF(INTRO!$E$48=\"\",\"\",ROUND($D155*INTRO!$E$48,0))","v":10085},{"$f":"IF(INTRO!$E$49=\"\",\"\",ROUND($D155*INTRO!$E$49,0))","v":17586},{"$f":"IF(INTRO!$E$50=\"\",\"\",ROUND($D155*INTRO!$E$50,0))","v":33218},0,4,3,1,1,{"$f":"IF(INTRO!$E$38=\"Endemic\", IF($H155>0, IF($H155=4,\"Unknown\", IF($H155=99,\"Stopped\", $D155)), 0),\"Not required\")","v":0},{"$f":"IF(INTRO!$E$40=\"Endemic\", IF($I155>0, IF($I155=4,\"Unknown\",IF($I155=99,\"Stopped\", $D155)), 0),\"Not required\")","v":"Unknown"},{"$f":"IF(INTRO!$E$42=\"Endemic\", IF(AND($J155>1,$J155<5), IF($J155=4, \"Unknown\", E155+F155), 0),\"Not required\")","v":27671},{"$f":"IF(INTRO!$E$44=\"Endemic\", IF(AND($K155>0,$K155<5), IF($K155=4,\"Unknown\", IF($K155=1, $F155*0.33, IF($K155=2, $F155*0.5+$G155*0.2, SUM(F155:G155)))), 0),\"Not required\")","v":5803.38},0,0,2,1,"T1 (PZQ+ALB/MBD)","T3 (ALB/MBD)",2195,"CANGOLA",null,0,13464,0]
[{"$f":"IF(INTRO!$E$34<>0,INTRO!$E$34,\"\")","v":"Angola"},"UIGE","DAMBA",77994.038325268135,{"$f":"IF(INTRO!$E$48=\"\",\"\",ROUND($D156*INTRO!$E$48,0))","v":12479},{"$f":"IF(INTRO!$E$49=\"\",\"\",ROUND($D156*INTRO!$E$49,0))","v":21760},{"$f":"IF(INTRO!$E$50=\"\",\"\",ROUND($D156*INTRO!$E$50,0))","v":41103},0,4,3,1,1,{"$f":"IF(INTRO!$E$38=\"Endemic\", IF($H156>0, IF($H156=4,\"Unknown\", IF($H156=99,\"Stopped\", $D156)), 0),\"Not required\")","v":0},{"$f":"IF(INTRO!$E$40=\"Endemic\", IF($I156>0, IF($I156=4,\"Unknown\",IF($I156=99,\"Stopped\", $D156)), 0),\"Not required\")","v":"Unknown"},{"$f":"IF(INTRO!$E$42=\"Endemic\", IF(AND($J156>1,$J156<5), IF($J156=4, \"Unknown\", E156+F156), 0),\"Not required\")","v":34239},{"$f":"IF(INTRO!$E$44=\"Endemic\", IF(AND($K156>0,$K156<5), IF($K156=4,\"Unknown\", IF($K156=1, $F156*0.33, IF($K156=2, $F156*0.5+$G156*0.2, SUM(F156:G156)))), 0),\"Not required\")","v":7180.8},0,0,2,1,"T1 (PZQ+ALB/MBD)","T3 (ALB/MBD)",2194,"DAMBA",null,0,16519,0]
[{"$f":"IF(INTRO!$E$34<>0,INTRO!$E$34,\"\")","v":"Angola"},"UIGE","MAQUELA DO ZOMBO",149425.6043862261,{"$f":"IF(INTRO!$E$48=\"\",\"\",ROUND($D157*INTRO!$E$48,0))","v":23908},{"$f":"IF(INTRO!$E$49=\"\",\"\",ROUND($D157*INTRO!$E$49,0))","v":41690},{"$f":"IF(INTRO!$E$50=\"\",\"\",ROUND($D157*INTRO!$E$50,0))","v":78747},0,4,3,1,1,{"$f":"IF(INTRO!$E$38=\"Endemic\", IF($H157>0, IF($H157=4,\"Unknown\", IF($H157=99,\"Stopped\", $D157)), 0),\"Not required\")","v":0},{"$f":"IF(INTRO!$E$40=\"Endemic\", IF($I157>0, IF($I157=4,\"Unknown\",IF($I157=99,\"Stopped\", $D157)), 0),\"Not required\")","v":"Unknown"},{"$f":"IF(INTRO!$E$42=\"Endemic\", IF(AND($J157>1,$J157<5), IF($J157=4, \"Unknown\", E157+F157), 0),\"Not required\")","v":65598},{"$f":"IF(INTRO!$E$44=\"Endemic\", IF(AND($K157>0,$K157<5), IF($K157=4,\"Unknown\", IF($K157=1, $F157*0.33, IF($K157=2, $F157*0.5+$G157*0.2, SUM(F157:G157)))), 0),\"Not required\")","v":13757.7},0,0,2,1,"T1 (PZQ+ALB/MBD)","T3 (ALB/MBD)",2198,"MAQUELA DO ZOMBO",null,0,30231,0]
[{"$f":"IF(INTRO!$E$34<>0,INTRO!$E$34,\"\")","v":"Angola"},"UIGE","MILUNGA",59366.144588778239,{"$f":"IF(INTRO!$E$48=\"\",\"\",ROUND($D158*INTRO!$E$48,0))","v":9499},{"$f":"IF(INTRO!$E$49=\"\",\"\",ROUND($D158*INTRO!$E$49,0))","v":16563},{"$f":"IF(INTRO!$E$50=\"\",\"\",ROUND($D158*INTRO!$E$50,0))","v":31286},0,4,3,1,1,{"$f":"IF(INTRO!$E$38=\"Endemic\", IF($H158>0, IF($H158=4,\"Unknown\", IF($H158=99,\"Stopped\", $D158)), 0),\"Not required\")","v":0},{"$f":"IF(INTRO!$E$40=\"Endemic\", IF($I158>0, IF($I158=4,\"Unknown\",IF($I158=99,\"Stopped\", $D158)), 0),\"Not required\")","v":"Unknown"},{"$f":"IF(INTRO!$E$42=\"Endemic\", IF(AND($J158>1,$J158<5), IF($J158=4, \"Unknown\", E158+F158), 0),\"Not required\")","v":26062},{"$f":"IF(INTRO!$E$44=\"Endemic\", IF(AND($K158>0,$K158<5), IF($K158=4,\"Unknown\", IF($K158=1, $F158*0.33, IF($K158=2, $F158*0.5+$G158*0.2, SUM(F158:G158)))), 0),\"Not required\")","v":5465.79},0,0,2,1,"T1 (PZQ+ALB/MBD)","T3 (ALB/MBD)",2199,"MILUNGA",null,0,18232,0]
[{"$f":"IF(INTRO!$E$34<>0,INTRO!$E$34,\"\")","v":"Angola"},"UIGE","MUCABA",51596.308841547434,{"$f":"IF(INTRO!$E$48=\"\",\"\",ROUND($D159*INTRO!$E$48,0))","v":8255},{"$f":"IF(INTRO!$E$49=\"\",\"\",ROUND($D159*INTRO!$E$49,0))","v":14395},{"$f":"IF(INTRO!$E$50=\"\",\"\",ROUND($D159*INTRO!$E$50,0))","v":27191},0,4,3,1,1,{"$f":"IF(INTRO!$E$38=\"Endemic\", IF($H159>0, IF($H159=4,\"Unknown\", IF($H159=99,\"Stopped\", $D159)), 0),\"Not required\")","v":0},{"$f":"IF(INTRO!$E$40=\"Endemic\", IF($I159>0, IF($I159=4,\"Unknown\",IF($I159=99,\"Stopped\", $D159)), 0),\"Not required\")","v":"Unknown"},{"$f":"IF(INTRO!$E$42=\"Endemic\", IF(AND($J159>1,$J159<5), IF($J159=4, \"Unknown\", E159+F159), 0),\"Not required\")","v":22650},{"$f":"IF(INTRO!$E$44=\"Endemic\", IF(AND($K159>0,$K159<5), IF($K159=4,\"Unknown\", IF($K159=1, $F159*0.33, IF($K159=2, $F159*0.5+$G159*0.2, SUM(F159:G159)))), 0),\"Not required\")","v":4750.3500000000004},0,0,2,1,"T1 (PZQ+ALB/MBD)","T3 (ALB/MBD)",2200,"MUCABA",null,0,12154,0]
[{"$f":"IF(INTRO!$E$34<>0,INTRO!$E$34,\"\")","v":"Angola"},"UIGE","NEGAGE",161403.02560454863,{"$f":"IF(INTRO!$E$48=\"\",\"\",ROUND($D160*INTRO!$E$48,0))","v":25824},{"$f":"IF(INTRO!$E$49=\"\",\"\",ROUND($D160*INTRO!$E$49,0))","v":45031},{"$f":"IF(INTRO!$E$50=\"\",\"\",ROUND($D160*INTRO!$E$50,0))","v":85059},0,1,3,2,1,{"$f":"IF(INTRO!$E$38=\"Endemic\", IF($H160>0, IF($H160=4,\"Unknown\", IF($H160=99,\"Stopped\", $D160)), 0),\"Not required\")","v":0},{"$f":"IF(INTRO!$E$40=\"Endemic\", IF($I160>0, IF($I160=4,\"Unknown\",IF($I160=99,\"Stopped\", $D160)), 0),\"Not required\")","v":161403.02560454863},{"$f":"IF(INTRO!$E$42=\"Endemic\", IF(AND($J160>1,$J160<5), IF($J160=4, \"Unknown\", E160+F160), 0),\"Not required\")","v":70855},{"$f":"IF(INTRO!$E$44=\"Endemic\", IF(AND($K160>0,$K160<5), IF($K160=4,\"Unknown\", IF($K160=1, $F160*0.33, IF($K160=2, $F160*0.5+$G160*0.2, SUM(F160:G160)))), 0),\"Not required\")","v":39527.300000000003},0,0,2,1,"T1 (PZQ+ALB/MBD)","T3 (ALB/MBD)",2201,"NEGAGE",null,0,36517,0]
[{"$f":"IF(INTRO!$E$34<>0,INTRO!$E$34,\"\")","v":"Angola"},"UIGE","PURI",44481.194983014131,{"$f":"IF(INTRO!$E$48=\"\",\"\",ROUND($D161*INTRO!$E$48,0))","v":7117},{"$f":"IF(INTRO!$E$49=\"\",\"\",ROUND($D161*INTRO!$E$49,0))","v":12410},{"$f":"IF(INTRO!$E$50=\"\",\"\",ROUND($D161*INTRO!$E$50,0))","v":23442},0,1,3,1,1,{"$f":"IF(INTRO!$E$38=\"Endemic\", IF($H161>0, IF($H161=4,\"Unknown\", IF($H161=99,\"Stopped\", $D161)), 0),\"Not required\")","v":0},{"$f":"IF(INTRO!$E$40=\"Endemic\", IF($I161>0, IF($I161=4,\"Unknown\",IF($I161=99,\"Stopped\", $D161)), 0),\"Not required\")","v":44481.194983014131},{"$f":"IF(INTRO!$E$42=\"Endemic\", IF(AND($J161>1,$J161<5), IF($J161=4, \"Unknown\", E161+F161), 0),\"Not required\")","v":19527},{"$f":"IF(INTRO!$E$44=\"Endemic\", IF(AND($K161>0,$K161<5), IF($K161=4,\"Unknown\", IF($K161=1, $F161*0.33, IF($K161=2, $F161*0.5+$G161*0.2, SUM(F161:G161)))), 0),\"Not required\")","v":4095.3},0,0,2,1,"T1 (PZQ+ALB/MBD)","T3 (ALB/MBD)",2202,"PURI",null,0,11487,0]
[{"$f":"IF(INTRO!$E$34<>0,INTRO!$E$34,\"\")","v":"Angola"},"UIGE","QUIMBELE",160155.76867321279,{"$f":"IF(INTRO!$E$48=\"\",\"\",ROUND($D162*INTRO!$E$48,0))","v":25625},{"$f":"IF(INTRO!$E$49=\"\",\"\",ROUND($D162*INTRO!$E$49,0))","v":44683},{"$f":"IF(INTRO!$E$50=\"\",\"\",ROUND($D162*INTRO!$E$50,0))","v":84402},0,4,3,1,1,{"$f":"IF(INTRO!$E$38=\"Endemic\", IF($H162>0, IF($H162=4,\"Unknown\", IF($H162=99,\"Stopped\", $D162)), 0),\"Not required\")","v":0},{"$f":"IF(INTRO!$E$40=\"Endemic\", IF($I162>0, IF($I162=4,\"Unknown\",IF($I162=99,\"Stopped\", $D162)), 0),\"Not required\")","v":"Unknown"},{"$f":"IF(INTRO!$E$42=\"Endemic\", IF(AND($J162>1,$J162<5), IF($J162=4, \"Unknown\", E162+F162), 0),\"Not required\")","v":70308},{"$f":"IF(INTRO!$E$44=\"Endemic\", IF(AND($K162>0,$K162<5), IF($K162=4,\"Unknown\", IF($K162=1, $F162*0.33, IF($K162=2, $F162*0.5+$G162*0.2, SUM(F162:G162)))), 0),\"Not required\")","v":14745.390000000001},0,0,2,1,"T1 (PZQ+ALB/MBD)","T3 (ALB/MBD)",2196,"QUIMBELE",null,0,35311,0]
[{"$f":"IF(INTRO!$E$34<>0,INTRO!$E$34,\"\")","v":"Angola"},"UIGE","QUITEXE",40241.929420533779,{"$f":"IF(INTRO!$E$48=\"\",\"\",ROUND($D163*INTRO!$E$48,0))","v":6439},{"$f":"IF(INTRO!$E$49=\"\",\"\",ROUND($D163*INTRO!$E$49,0))","v":11227},{"$f":"IF(INTRO!$E$50=\"\",\"\",ROUND($D163*INTRO!$E$50,0))","v":21207},0,1,3,1,1,{"$f":"IF(INTRO!$E$38=\"Endemic\", IF($H163>0, IF($H163=4,\"Unknown\", IF($H163=99,\"Stopped\", $D163)), 0),\"Not required\")","v":0},{"$f":"IF(INTRO!$E$40=\"Endemic\", IF($I163>0, IF($I163=4,\"Unknown\",IF($I163=99,\"Stopped\", $D163)), 0),\"Not required\")","v":40241.929420533779},{"$f":"IF(INTRO!$E$42=\"Endemic\", IF(AND($J163>1,$J163<5), IF($J163=4, \"Unknown\", E163+F163), 0),\"Not required\")","v":17666},{"$f":"IF(INTRO!$E$44=\"Endemic\", IF(AND($K163>0,$K163<5), IF($K163=4,\"Unknown\", IF($K163=1, $F163*0.33, IF($K163=2, $F163*0.5+$G163*0.2, SUM(F163:G163)))), 0),\"Not required\")","v":3704.9100000000003},0,0,2,1,"T1 (PZQ+ALB/MBD)","T3 (ALB/MBD)",2197,"QUITEXE",null,0,10706,0]
[{"$f":"IF(INTRO!$E$34<>0,INTRO!$E$34,\"\")","v":"Angola"},"UIGE","SANZA POMBO",80245.671487294108,{"$f":"IF(INTRO!$E$48=\"\",\"\",ROUND($D164*INTRO!$E$48,0))","v":12839},{"$f":"IF(INTRO!$E$49=\"\",\"\",ROUND($D164*INTRO!$E$49,0))","v":22389},{"$f":"IF(INTRO!$E$50=\"\",\"\",ROUND($D164*INTRO!$E$50,0))","v":42289},0,4,2,1,1,{"$f":"IF(INTRO!$E$38=\"Endemic\", IF($H164>0, IF($H164=4,\"Unknown\", IF($H164=99,\"Stopped\", $D164)), 0),\"Not required\")","v":0},{"$f":"IF(INTRO!$E$40=\"Endemic\", IF($I164>0, IF($I164=4,\"Unknown\",IF($I164=99,\"Stopped\", $D164)), 0),\"Not required\")","v":"Unknown"},{"$f":"IF(INTRO!$E$42=\"Endemic\", IF(AND($J164>1,$J164<5), IF($J164=4, \"Unknown\", E164+F164), 0),\"Not required\")","v":35228},{"$f":"IF(INTRO!$E$44=\"Endemic\", IF(AND($K164>0,$K164<5), IF($K164=4,\"Unknown\", IF($K164=1, $F164*0.33, IF($K164=2, $F164*0.5+$G164*0.2, SUM(F164:G164)))), 0),\"Not required\")","v":7388.3700000000008},0,0,2,1,"T1 (PZQ+ALB/MBD)","T3 (ALB/MBD)",2203,"SANZA POMBO",null,0,18997,0]
[{"$f":"IF(INTRO!$E$34<>0,INTRO!$E$34,\"\")","v":"Angola"},"UIGE","SONGO",72373.755445588962,{"$f":"IF(INTRO!$E$48=\"\",\"\",ROUND($D165*INTRO!$E$48,0))","v":11580},{"$f":"IF(INTRO!$E$49=\"\",\"\",ROUND($D165*INTRO!$E$49,0))","v":20192},{"$f":"IF(INTRO!$E$50=\"\",\"\",ROUND($D165*INTRO!$E$50,0))","v":38141},1,1,3,3,1,{"$f":"IF(INTRO!$E$38=\"Endemic\", IF($H165>0, IF($H165=4,\"Unknown\", IF($H165=99,\"Stopped\", $D165)), 0),\"Not required\")","v":72373.755445588962},{"$f":"IF(INTRO!$E$40=\"Endemic\", IF($I165>0, IF($I165=4,\"Unknown\",IF($I165=99,\"Stopped\", $D165)), 0),\"Not required\")","v":72373.755445588962},{"$f":"IF(INTRO!$E$42=\"Endemic\", IF(AND($J165>1,$J165<5), IF($J165=4, \"Unknown\", E165+F165), 0),\"Not required\")","v":31772},{"$f":"IF(INTRO!$E$44=\"Endemic\", IF(AND($K165>0,$K165<5), IF($K165=4,\"Unknown\", IF($K165=1, $F165*0.33, IF($K165=2, $F165*0.5+$G165*0.2, SUM(F165:G165)))), 0),\"Not required\")","v":58333},0,0,2,1,"T1 (PZQ+ALB/MBD)","T3 (ALB/MBD)",2204,"SONGO",null,15663,16649,16850]
[{"$f":"IF(INTRO!$E$34<>0,INTRO!$E$34,\"\")","v":"Angola"},"UIGE","UIGE",609191.73068849894,{"$f":"IF(INTRO!$E$48=\"\",\"\",ROUND($D166*INTRO!$E$48,0))","v":97471},{"$f":"IF(INTRO!$E$49=\"\",\"\",ROUND($D166*INTRO!$E$49,0))","v":169964},{"$f":"IF(INTRO!$E$50=\"\",\"\",ROUND($D166*INTRO!$E$50,0))","v":321044},1,4,2,2,1,{"$f":"IF(INTRO!$E$38=\"Endemic\", IF($H166>0, IF($H166=4,\"Unknown\", IF($H166=99,\"Stopped\", $D166)), 0),\"Not required\")","v":609191.73068849894},{"$f":"IF(INTRO!$E$40=\"Endemic\", IF($I166>0, IF($I166=4,\"Unknown\",IF($I166=99,\"Stopped\", $D166)), 0),\"Not required\")","v":"Unknown"},{"$f":"IF(INTRO!$E$42=\"Endemic\", IF(AND($J166>1,$J166<5), IF($J166=4, \"Unknown\", E166+F166), 0),\"Not required\")","v":267435},{"$f":"IF(INTRO!$E$44=\"Endemic\", IF(AND($K166>0,$K166<5), IF($K166=4,\"Unknown\", IF($K166=1, $F166*0.33, IF($K166=2, $F166*0.5+$G166*0.2, SUM(F166:G166)))), 0),\"Not required\")","v":149190.79999999999},0,0,2,1,"T1 (PZQ+ALB/MBD)","T3 (ALB/MBD)",2205,"UIGE",null,0,128685,0]
[{"$f":"IF(INTRO!$E$34<>0,INTRO!$E$34,\"\")","v":"Angola"},"ZAIRE","CUIMBA",81187.860871925077,{"$f":"IF(INTRO!$E$48=\"\",\"\",ROUND($D167*INTRO!$E$48,0))","v":12990},{"$f":"IF(INTRO!$E$49=\"\",\"\",ROUND($D167*INTRO!$E$49,0))","v":22651},{"$f":"IF(INTRO!$E$50=\"\",\"\",ROUND($D167*INTRO!$E$50,0))","v":42786},0,4,2,2,1,{"$f":"IF(INTRO!$E$38=\"Endemic\", IF($H167>0, IF($H167=4,\"Unknown\", IF($H167=99,\"Stopped\", $D167)), 0),\"Not required\")","v":0},{"$f":"IF(INTRO!$E$40=\"Endemic\", IF($I167>0, IF($I167=4,\"Unknown\",IF($I167=99,\"Stopped\", $D167)), 0),\"Not required\")","v":"Unknown"},{"$f":"IF(INTRO!$E$42=\"Endemic\", IF(AND($J167>1,$J167<5), IF($J167=4, \"Unknown\", E167+F167), 0),\"Not required\")","v":35641},{"$f":"IF(INTRO!$E$44=\"Endemic\", IF(AND($K167>0,$K167<5), IF($K167=4,\"Unknown\", IF($K167=1, $F167*0.33, IF($K167=2, $F167*0.5+$G167*0.2, SUM(F167:G167)))), 0),\"Not required\")","v":19882.7},0,0,1,1,"T1 (PZQ+ALB/MBD)",null,2206,"CUIMBA",null,0,16983,0]
[{"$f":"IF(INTRO!$E$34<>0,INTRO!$E$34,\"\")","v":"Angola"},"ZAIRE","MBANZA KONGO",211586.63703750868,{"$f":"IF(INTRO!$E$48=\"\",\"\",ROUND($D168*INTRO!$E$48,0))","v":33854},{"$f":"IF(INTRO!$E$49=\"\",\"\",ROUND($D168*INTRO!$E$49,0))","v":59033},{"$f":"IF(INTRO!$E$50=\"\",\"\",ROUND($D168*INTRO!$E$50,0))","v":111506},0,4,1,2,1,{"$f":"IF(INTRO!$E$38=\"Endemic\", IF($H168>0, IF($H168=4,\"Unknown\", IF($H168=99,\"Stopped\", $D168)), 0),\"Not required\")","v":0},{"$f":"IF(INTRO!$E$40=\"Endemic\", IF($I168>0, IF($I168=4,\"Unknown\",IF($I168=99,\"Stopped\", $D168)), 0),\"Not required\")","v":"Unknown"},{"$f":"IF(INTRO!$E$42=\"Endemic\", IF(AND($J168>1,$J168<5), IF($J168=4, \"Unknown\", E168+F168), 0),\"Not required\")","v":0},{"$f":"IF(INTRO!$E$44=\"Endemic\", IF(AND($K168>0,$K168<5), IF($K168=4,\"Unknown\", IF($K168=1, $F168*0.33, IF($K168=2, $F168*0.5+$G168*0.2, SUM(F168:G168)))), 0),\"Not required\")","v":51817.7},0,0,1,1,"T1 (PZQ+ALB/MBD)",null,2207,"MBANZA CONGO",null,0,42239,0]
[{"$f":"IF(INTRO!$E$34<>0,INTRO!$E$34,\"\")","v":"Angola"},"ZAIRE","NOQUI",28019.280828129184,{"$f":"IF(INTRO!$E$48=\"\",\"\",ROUND($D169*INTRO!$E$48,0))","v":4483},{"$f":"IF(INTRO!$E$49=\"\",\"\",ROUND($D169*INTRO!$E$49,0))","v":7817},{"$f":"IF(INTRO!$E$50=\"\",\"\",ROUND($D169*INTRO!$E$50,0))","v":14766},0,4,2,2,1,{"$f":"IF(INTRO!$E$38=\"Endemic\", IF($H169>0, IF($H169=4,\"Unknown\", IF($H169=99,\"Stopped\", $D169)), 0),\"Not required\")","v":0},{"$f":"IF(INTRO!$E$40=\"Endemic\", IF($I169>0, IF($I169=4,\"Unknown\",IF($I169=99,\"Stopped\", $D169)), 0),\"Not required\")","v":"Unknown"},{"$f":"IF(INTRO!$E$42=\"Endemic\", IF(AND($J169>1,$J169<5), IF($J169=4, \"Unknown\", E169+F169), 0),\"Not required\")","v":12300},{"$f":"IF(INTRO!$E$44=\"Endemic\", IF(AND($K169>0,$K169<5), IF($K169=4,\"Unknown\", IF($K169=1, $F169*0.33, IF($K169=2, $F169*0.5+$G169*0.2, SUM(F169:G169)))), 0),\"Not required\")","v":6861.7000000000007},0,0,1,1,"T1 (PZQ+ALB/MBD)",null,2208,"NOQUI",null,0,7972,0]
[{"$f":"IF(INTRO!$E$34<>0,INTRO!$E$34,\"\")","v":"Angola"},"ZAIRE","NZETO",56113.655206216492,{"$f":"IF(INTRO!$E$48=\"\",\"\",ROUND($D170*INTRO!$E$48,0))","v":8978},{"$f":"IF(INTRO!$E$49=\"\",\"\",ROUND($D170*INTRO!$E$49,0))","v":15656},{"$f":"IF(INTRO!$E$50=\"\",\"\",ROUND($D170*INTRO!$E$50,0))","v":29572},0,4,1,2,1,{"$f":"IF(INTRO!$E$38=\"Endemic\", IF($H170>0, IF($H170=4,\"Unknown\", IF($H170=99,\"Stopped\", $D170)), 0),\"Not required\")","v":0},{"$f":"IF(INTRO!$E$40=\"Endemic\", IF($I170>0, IF($I170=4,\"Unknown\",IF($I170=99,\"Stopped\", $D170)), 0),\"Not required\")","v":"Unknown"},{"$f":"IF(INTRO!$E$42=\"Endemic\", IF(AND($J170>1,$J170<5), IF($J170=4, \"Unknown\", E170+F170), 0),\"Not required\")","v":0},{"$f":"IF(INTRO!$E$44=\"Endemic\", IF(AND($K170>0,$K170<5), IF($K170=4,\"Unknown\", IF($K170=1, $F170*0.33, IF($K170=2, $F170*0.5+$G170*0.2, SUM(F170:G170)))), 0),\"Not required\")","v":13742.400000000001},0,0,1,1,"T1 (PZQ+ALB/MBD)",null,2209,"NZETO",null,0,13423,0]
[{"$f":"IF(INTRO!$E$34<>0,INTRO!$E$34,\"\")","v":"Angola"},"ZAIRE","SOYO",266552.7689334274,{"$f":"IF(INTRO!$E$48=\"\",\"\",ROUND($D171*INTRO!$E$48,0))","v":42648},{"$f":"IF(INTRO!$E$49=\"\",\"\",ROUND($D171*INTRO!$E$49,0))","v":74368},{"$f":"IF(INTRO!$E$50=\"\",\"\",ROUND($D171*INTRO!$E$50,0))","v":140473},0,4,2,1,1,{"$f":"IF(INTRO!$E$38=\"Endemic\", IF($H171>0, IF($H171=4,\"Unknown\", IF($H171=99,\"Stopped\", $D171)), 0),\"Not required\")","v":0},{"$f":"IF(INTRO!$E$40=\"Endemic\", IF($I171>0, IF($I171=4,\"Unknown\",IF($I171=99,\"Stopped\", $D171)), 0),\"Not required\")","v":"Unknown"},{"$f":"IF(INTRO!$E$42=\"Endemic\", IF(AND($J171>1,$J171<5), IF($J171=4, \"Unknown\", E171+F171), 0),\"Not required\")","v":117016},{"$f":"IF(INTRO!$E$44=\"Endemic\", IF(AND($K171>0,$K171<5), IF($K171=4,\"Unknown\", IF($K171=1, $F171*0.33, IF($K171=2, $F171*0.5+$G171*0.2, SUM(F171:G171)))), 0),\"Not required\")","v":24541.440000000002},0,0,1,1,"T1 (PZQ+ALB/MBD)",null,2210,"SOYO",null,0,36093,0]
[{"$f":"IF(INTRO!$E$34<>0,INTRO!$E$34,\"\")","v":"Angola"},"ZAIRE","TOMBOCO",54002.822450362044,{"$f":"IF(INTRO!$E$48=\"\",\"\",ROUND($D172*INTRO!$E$48,0))","v":8640},{"$f":"IF(INTRO!$E$49=\"\",\"\",ROUND($D172*INTRO!$E$49,0))","v":15067},{"$f":"IF(INTRO!$E$50=\"\",\"\",ROUND($D172*INTRO!$E$50,0))","v":28459},0,4,2,1,1,{"$f":"IF(INTRO!$E$38=\"Endemic\", IF($H172>0, IF($H172=4,\"Unknown\", IF($H172=99,\"Stopped\", $D172)), 0),\"Not required\")","v":0},{"$f":"IF(INTRO!$E$40=\"Endemic\", IF($I172>0, IF($I172=4,\"Unknown\",IF($I172=99,\"Stopped\", $D172)), 0),\"Not required\")","v":"Unknown"},{"$f":"IF(INTRO!$E$42=\"Endemic\", IF(AND($J172>1,$J172<5), IF($J172=4, \"Unknown\", E172+F172), 0),\"Not required\")","v":23707},{"$f":"IF(INTRO!$E$44=\"Endemic\", IF(AND($K172>0,$K172<5), IF($K172=4,\"Unknown\", IF($K172=1, $F172*0.33, IF($K172=2, $F172*0.5+$G172*0.2, SUM(F172:G172)))), 0),\"Not required\")","v":4972.1100000000006},0,0,1,1,"T1 (PZQ+ALB/MBD)",null,2211,"TOMBOCO",null,0,11811,0]
[]
[null,"Ambuila",6906]
[null,"Bembe",9793]
[null,"Buengas",18599]
[null,"Bungo",9992]
[null,"Cangola",13093]
[null,"Damba",16153]
[null,"M.do Zombo",28270]
[null,"Milunga",16842]
[null,"Mucaba",12434]
[null,"Negage",35369]
[null,"Puri",11210]
[null,"Quimbele",36248]
[null,"Quitexe",8594]
[null,"Sanza Pompo",18643]
[null,"Songo",15055]
[null,"Uige",121001]

{"sheet":"MDA1","index":2,"n_rows":172,"n_cols":17,"rows_kept":172,"cut":false,"hidden":false,"merged":[[5,13,5,16],[3,0,3,2],[5,0,5,2],[5,5,5,8],[5,9,5,12],[5,3,6,3],[5,4,6,4]]}
["MDA 1 - Ivermectin (IVM) and Albendazole (ALB)"]
["Administrative structure, population requiring PC by age group, population treated by age group and coverage"]
[]
["TOTAL",null,null,null,null,null,{"$f":"SUM(G$9:G$1000)","v":0},{"$f":"SUM(H$9:H$1000)","v":0},{"$f":"SUM(I$9:I$1000)","v":0},null,{"$f":"SUM(K$9:K$1000)","v":0},{"$f":"SUM(L$9:L$1000)","v":0},{"$f":"SUM(M$9:M$1000)","v":0},null,{"$f":"IF(G4<>0, IF(K4/G4*100=0, \"-\", K4/G4*100), \" \")","v":" "},{"$f":"IF(H4<>0, IF(L4/H4*100=0, \"-\", L4/H4*100), \" \")","v":" "},{"$f":"IF(I4<>0, IF(M4/I4*100=0, \"-\", M4/I4*100), \" \")","v":" "}]
[]
[null,null,null,"PC implemented","Date","Population targeted for MDA 1",null,null,null,"Population treated",null,null,null,"Programme coverage (%)"]
["Country","Province/State","District",null,null,"PreSAC","SAC","Adults","Total","PreSAC","SAC","Adults","Total","PreSAC","SAC","Adults","Total"]
[]
[{"$f":"IF(COUNTRY_INFO!A9=0,\" \",COUNTRY_INFO!A9)","v":"Angola"},{"$f":"IF(COUNTRY_INFO!B9=0,\" \",COUNTRY_INFO!B9)","v":"BENGO"},{"$f":"IF(COUNTRY_INFO!C9=0,\" \",COUNTRY_INFO!C9)","v":"AMBRIZ"},{"$f":"IF(COUNTRY_INFO!$U$9:$U$1000=\"MDA1 (IVM+ALB)\", COUNTRY_INFO!$U$9:$U$1000, \" \")","v":" "},null,null,null,null,{"$f":"SUM(F9:H9)","v":0},null,null,null,{"$f":"SUM(J9:L9)","v":0},null,{"$f":"IF(G9<>0, IF(K9/G9*100=0, \"-\", K9/G9*100), \" \")","v":" "},{"$f":"IF(H9<>0, IF(L9/H9*100=0, \"-\", L9/H9*100), \" \")","v":" "},{"$f":"IF(I9<>0, IF(M9/I9*100=0, \"-\", M9/I9*100), \" \")","v":" "}]
[{"$f":"IF(COUNTRY_INFO!A10=0,\" \",COUNTRY_INFO!A10)","v":"Angola"},{"$f":"IF(COUNTRY_INFO!B10=0,\" \",COUNTRY_INFO!B10)","v":"BENGO"},{"$f":"IF(COUNTRY_INFO!C10=0,\" \",COUNTRY_INFO!C10)","v":"BULA ATUMBA"},{"$f":"IF(COUNTRY_INFO!$U$9:$U$1000=\"MDA1 (IVM+ALB)\", COUNTRY_INFO!$U$9:$U$1000, \" \")","v":" "},null,null,null,null,{"$f":"SUM(F10:H10)","v":0},null,null,null,{"$f":"SUM(J10:L10)","v":0},null,{"$f":"IF(G10<>0, IF(K10/G10*100=0, \"-\", K10/G10*100), \" \")","v":" "},{"$f":"IF(H10<>0, IF(L10/H10*100=0, \"-\", L10/H10*100), \" \")","v":" "},{"$f":"IF(I10<>0, IF(M10/I10*100=0, \"-\", M10/I10*100), \" \")","v":" "}]
[{"$f":"IF(COUNTRY_INFO!A11=0,\" \",COUNTRY_INFO!A11)","v":"Angola"},{"$f":"IF(COUNTRY_INFO!B11=0,\" \",COUNTRY_INFO!B11)","v":"BENGO"},{"$f":"IF(COUNTRY_INFO!C11=0,\" \",COUNTRY_INFO!C11)","v":"DANDE"},{"$f":"IF(COUNTRY_INFO!$U$9:$U$1000=\"MDA1 (IVM+ALB)\", COUNTRY_INFO!$U$9:$U$1000, \" \")","v":" "},null,null,null,null,0,null,null,null,0,null," "," "," "]
[{"$f":"IF(COUNTRY_INFO!A12=0,\" \",COUNTRY_INFO!A12)","v":"Angola"},{"$f":"IF(COUNTRY_INFO!B12=0,\" \",COUNTRY_INFO!B12)","v":"BENGO"},{"$f":"IF(COUNTRY_INFO!C12=0,\" \",COUNTRY_INFO!C12)","v":"DEMBOS"},{"$f":"IF(COUNTRY_INFO!$U$9:$U$1000=\"MDA1 (IVM+ALB)\", COUNTRY_INFO!$U$9:$U$1000, \" \")","v":" "},null,null,null,null,0,null,null,null,0,null," "," "," "]
[{"$f":"IF(COUNTRY_INFO!A13=0,\" \",COUNTRY_INFO!A13)","v":"Angola"},{"$f":"IF(COUNTRY_INFO!B13=0,\" \",COUNTRY_INFO!B13)","v":"BENGO"},{"$f":"IF(COUNTRY_INFO!C13=0,\" \",COUNTRY_INFO!C13)","v":"NAMBUANGONGO"},{"$f":"IF(COUNTRY_INFO!$U$9:$U$1000=\"MDA1 (IVM+ALB)\", COUNTRY_INFO!$U$9:$U$1000, \" \")","v":" "},null,null,null,null,0,null,null,null,0,null," "," "," "]
[{"$f":"IF(COUNTRY_INFO!A14=0,\" \",COUNTRY_INFO!A14)","v":"Angola"},{"$f":"IF(COUNTRY_INFO!B14=0,\" \",COUNTRY_INFO!B14)","v":"BENGO"},{"$f":"IF(COUNTRY_INFO!C14=0,\" \",COUNTRY_INFO!C14)","v":"PANGO ALUQUEM"},{"$f":"IF(COUNTRY_INFO!$U$9:$U$1000=\"MDA1 (IVM+ALB)\", COUNTRY_INFO!$U$9:$U$1000, \" \")","v":" "},null,null,null,null,0,null,null,null,0,null," "," "," "]
[{"$f":"IF(COUNTRY_INFO!A15=0,\" \",COUNTRY_INFO!A15)","v":"Angola"},{"$f":"IF(COUNTRY_INFO!B15=0,\" \",COUNTRY_INFO!B15)","v":"BENGUELA"},{"$f":"IF(COUNTRY_INFO!C15=0,\" \",COUNTRY_INFO!C15)","v":"BAIA FARTA"},{"$f":"IF(COUNTRY_INFO!$U$9:$U$1000=\"MDA1 (IVM+ALB)\", COUNTRY_INFO!$U$9:$U$1000, \" \")","v":" "},null,null,null,null,0,null,null,null,0,null," "," "," "]
[{"$f":"IF(COUNTRY_INFO!A16=0,\" \",COUNTRY_INFO!A16)","v":"Angola"},{"$f":"IF(COUNTRY_INFO!B16=0,\" \",COUNTRY_INFO!B16)","v":"BENGUELA"},{"$f":"IF(COUNTRY_INFO!C16=0,\" \",COUNTRY_INFO!C16)","v":"BALOMBO"},{"$f":"IF(COUNTRY_INFO!$U$9:$U$1000=\"MDA1 (IVM+ALB)\", COUNTRY_INFO!$U$9:$U$1000, \" \")","v":" "},null,null,null,null,0,null,null,null,0,null," "," "," "]
[{"$f":"IF(COUNTRY_INFO!A17=0,\" \",COUNTRY_INFO!A17)","v":"Angola"},{"$f":"IF(COUNTRY_INFO!B17=0,\" \",COUNTRY_INFO!B17)","v":"BENGUELA"},{"$f":"IF(COUNTRY_INFO!C17=0,\" \",COUNTRY_INFO!C17)","v":"BENGUELA"},{"$f":"IF(COUNTRY_INFO!$U$9:$U$1000=\"MDA1 (IVM+ALB)\", COUNTRY_INFO!$U$9:$U$1000, \" \")","v":" "},null,null,null,null,0,null,null,null,0,null," "," "," "]
[{"$f":"IF(COUNTRY_INFO!A18=0,\" \",COUNTRY_INFO!A18)","v":"Angola"},{"$f":"IF(COUNTRY_INFO!B18=0,\" \",COUNTRY_INFO!B18)","v":"BENGUELA"},{"$f":"IF(COUNTRY_INFO!C18=0,\" \",COUNTRY_INFO!C18)","v":"BOCOIO"},{"$f":"IF(COUNTRY_INFO!$U$9:$U$1000=\"MDA1 (IVM+ALB)\", COUNTRY_INFO!$U$9:$U$1000, \" \")","v":" "},null,null,null,null,0,null,null,null,0,null," "," "," "]
[{"$f":"IF(COUNTRY_INFO!A19=0,\" \",COUNTRY_INFO!A19)","v":"Angola"},{"$f":"IF(COUNTRY_INFO!B19=0,\" \",COUNTRY_INFO!B19)","v":"BENGUELA"},{"$f":"IF(COUNTRY_INFO!C19=0,\" \",COUNTRY_INFO!C19)","v":"CAIMBAMBO"},{"$f":"IF(COUNTRY_INFO!$U$9:$U$1000=\"MDA1 (IVM+ALB)\", COUNTRY_INFO!$U$9:$U$1000, \" \")","v":" "},null,null,null,null,0,null,null,null,0,null," "," "," "]
[{"$f":"IF(COUNTRY_INFO!A20=0,\" \",COUNTRY_INFO!A20)","v":"Angola"},{"$f":"IF(COUNTRY_INFO!B20=0,\" \",COUNTRY_INFO!B20)","v":"BENGUELA"},{"$f":"IF(COUNTRY_INFO!C20=0,\" \",COUNTRY_INFO!C20)","v":"CATUMBELA"},{"$f":"IF(COUNTRY_INFO!$U$9:$U$1000=\"MDA1 (IVM+ALB)\", COUNTRY_INFO!$U$9:$U$1000, \" \")","v":" "},null,null,null,null,0,null,null,null,0,null," "," "," "]
[{"$f":"IF(COUNTRY_INFO!A21=0,\" \",COUNTRY_INFO!A21)","v":"Angola"},{"$f":"IF(COUNTRY_INFO!B21=0,\" \",COUNTRY_INFO!B21)","v":"BENGUELA"},{"$f":"IF(COUNTRY_INFO!C21=0,\" \",COUNTRY_INFO!C21)","v":"CHONGOROI"},{"$f":"IF(COUNTRY_INFO!$U$9:$U$1000=\"MDA1 (IVM+ALB)\", COUNTRY_INFO!$U$9:$U$1000, \" \")","v":" "},null,null,null,null,0,null,null,null,0,null," "," "," "]
[{"$f":"IF(COUNTRY_INFO!A22=0,\" \",COUNTRY_INFO!A22)","v":"Angola"},{"$f":"IF(COUNTRY_INFO!B22=0,\" \",COUNTRY_INFO!B22)","v":"BENGUELA"},{"$f":"IF(COUNTRY_INFO!C22=0,\" \",COUNTRY_INFO!C22)","v":"CUBAL"},{"$f":"IF(COUNTRY_INFO!$U$9:$U$1000=\"MDA1 (IVM+ALB)\", COUNTRY_INFO!$U$9:$U$1000, \" \")","v":" "},null,null,null,null,0,null,null,null,0,null," "," "," "]
[{"$f":"IF(COUNTRY_INFO!A23=0,\" \",COUNTRY_INFO!A23)","v":"Angola"},{"$f":"IF(COUNTRY_INFO!B23=0,\" \",COUNTRY_INFO!B23)","v":"BENGUELA"},{"$f":"IF(COUNTRY_INFO!C23=0,\" \",COUNTRY_INFO!C23)","v":"GANDA"},{"$f":"IF(COUNTRY_INFO!$U$9:$U$1000=\"MDA1 (IVM+ALB)\", COUNTRY_INFO!$U$9:$U$1000, \" \")","v":" "},null,null,null,null,0,null,null,null,0,null," "," "," "]
[{"$f":"IF(COUNTRY_INFO!A24=0,\" \",COUNTRY_INFO!A24)","v":"Angola"},{"$f":"IF(COUNTRY_INFO!B24=0,\" \",COUNTRY_INFO!B24)","v":"BENGUELA"},{"$f":"IF(COUNTRY_INFO!C24=0,\" \",COUNTRY_INFO!C24)","v":"LOBITO"},{"$f":"IF(COUNTRY_INFO!$U$9:$U$1000=\"MDA1 (IVM+ALB)\", COUNTRY_INFO!$U$9:$U$1000, \" \")","v":" "},null,null,null,null,0,null,null,null,0,null," "," "," "]
[{"$f":"IF(COUNTRY_INFO!A25=0,\" \",COUNTRY_INFO!A25)","v":"Angola"},{"$f":"IF(COUNTRY_INFO!B25=0,\" \",COUNTRY_INFO!B25)","v":"BIE"},{"$f":"IF(COUNTRY_INFO!C25=0,\" \",COUNTRY_INFO!C25)","v":"ANDULO"},{"$f":"IF(COUNTRY_INFO!$U$9:$U$1000=\"MDA1 (IVM+ALB)\", COUNTRY_INFO!$U$9:$U$1000, \" \")","v":" "},null,null,null,null,0,null,null,null,0,null," "," "," "]
[{"$f":"IF(COUNTRY_INFO!A26=0,\" \",COUNTRY_INFO!A26)","v":"Angola"},{"$f":"IF(COUNTRY_INFO!B26=0,\" \",COUNTRY_INFO!B26)","v":"BIE"},{"$f":"IF(COUNTRY_INFO!C26=0,\" \",COUNTRY_INFO!C26)","v":"CAMACUPA"},{"$f":"IF(COUNTRY_INFO!$U$9:$U$1000=\"MDA1 (IVM+ALB)\", COUNTRY_INFO!$U$9:$U$1000, \" \")","v":" "},null,null,null,null,0,null,null,null,0,null," "," "," "]
[{"$f":"IF(COUNTRY_INFO!A27=0,\" \",COUNTRY_INFO!A27)","v":"Angola"},{"$f":"IF(COUNTRY_INFO!B27=0,\" \",COUNTRY_INFO!B27)","v":"BIE"},{"$f":"IF(COUNTRY_INFO!C27=0,\" \",COUNTRY_INFO!C27)","v":"CATABOLA"},{"$f":"IF(COUNTRY_INFO!$U$9:$U$1000=\"MDA1 (IVM+ALB)\", COUNTRY_INFO!$U$9:$U$1000, \" \")","v":" "},null,null,null,null,0,null,null,null,0,null," "," "," "]
[{"$f":"IF(COUNTRY_INFO!A28=0,\" \",COUNTRY_INFO!A28)","v":"Angola"},{"$f":"IF(COUNTRY_INFO!B28=0,\" \",COUNTRY_INFO!B28)","v":"BIE"},{"$f":"IF(COUNTRY_INFO!C28=0,\" \",COUNTRY_INFO!C28)","v":"CHINGUAR"},{"$f":"IF(COUNTRY_INFO!$U$9:$U$1000=\"MDA1 (IVM+ALB)\", COUNTRY_INFO!$U$9:$U$1000, \" \")","v":" "},null,null,null,null,0,null,null,null,0,null," "," "," "]
[{"$f":"IF(COUNTRY_INFO!A29=0,\" \",COUNTRY_INFO!A29)","v":"Angola"},{"$f":"IF(COUNTRY_INFO!B29=0,\" \",COUNTRY_INFO!B29)","v":"BIE"},{"$f":"IF(COUNTRY_INFO!C29=0,\" \",COUNTRY_INFO!C29)","v":"CHITEMBO"},{"$f":"IF(COUNTRY_INFO!$U$9:$U$1000=\"MDA1 (IVM+ALB)\", COUNTRY_INFO!$U$9:$U$1000, \" \")","v":" "},null,null,null,null,0,null,null,null,0,null," "," "," "]
[{"$f":"IF(COUNTRY_INFO!A30=0,\" \",COUNTRY_INFO!A30)","v":"Angola"},{"$f":"IF(COUNTRY_INFO!B30=0,\" \",COUNTRY_INFO!B30)","v":"BIE"},{"$f":"IF(COUNTRY_INFO!C30=0,\" \",COUNTRY_INFO!C30)","v":"CUEMBA"},{"$f":"IF(COUNTRY_INFO!$U$9:$U$1000=\"MDA1 (IVM+ALB)\", COUNTRY_INFO!$U$9:$U$1000, \" \")","v":" "},null,null,null,null,0,null,null,null,0,null," "," "," "]
[{"$f":"IF(COUNTRY_INFO!A31=0,\" \",COUNTRY_INFO!A31)","v":"Angola"},{"$f":"IF(COUNTRY_INFO!B31=0,\" \",COUNTRY_INFO!B31)","v":"BIE"},{"$f":"IF(COUNTRY_INFO!C31=0,\" \",COUNTRY_INFO!C31)","v":"CUITO"},{"$f":"IF(COUNTRY_INFO!$U$9:$U$1000=\"MDA1 (IVM+ALB)\", COUNTRY_INFO!$U$9:$U$1000, \" \")","v":" "},null,null,null,null,0,null,null,null,0,null," "," "," "]
[{"$f":"IF(COUNTRY_INFO!A32=0,\" \",COUNTRY_INFO!A32)","v":"Angola"},{"$f":"IF(COUNTRY_INFO!B32=0,\" \",COUNTRY_INFO!B32)","v":"BIE"},{"$f":"IF(COUNTRY_INFO!C32=0,\" \",COUNTRY_INFO!C32)","v":"CUNHINGA"},{"$f":"IF(COUNTRY_INFO!$U$9:$U$1000=\"MDA1 (IVM+ALB)\", COUNTRY_INFO!$U$9:$U$1000, \" \")","v":" "},null,null,null,null,0,null,null,null,0,null," "," "," "]
[{"$f":"IF(COUNTRY_INFO!A33=0,\" \",COUNTRY_INFO!A33)","v":"Angola"},{"$f":"IF(COUNTRY_INFO!B33=0,\" \",COUNTRY_INFO!B33)","v":"BIE"},{"$f":"IF(COUNTRY_INFO!C33=0,\" \",COUNTRY_INFO!C33)","v":"NHAREA"},{"$f":"IF(COUNTRY_INFO!$U$9:$U$1000=\"MDA1 (IVM+ALB)\", COUNTRY_INFO!$U$9:$U$1000, \" \")","v":" "},null,null,null,null,0,null,null,null,0,null," "," "," "]
[{"$f":"IF(COUNTRY_INFO!A34=0,\" \",COUNTRY_INFO!A34)","v":"Angola"},{"$f":"IF(COUNTRY_INFO!B34=0,\" \",COUNTRY_INFO!B34)","v":"CABINDA"},{"$f":"IF(COUNTRY_INFO!C34=0,\" \",COUNTRY_INFO!C34)","v":"BELIZE"},{"$f":"IF(COUNTRY_INFO!$U$9:$U$1000=\"MDA1 (IVM+ALB)\", COUNTRY_INFO!$U$9:$U$1000, \" \")","v":" "},null,null,null,null,0,null,null,null,0,null," "," "," "]
[{"$f":"IF(COUNTRY_INFO!A35=0,\" \",COUNTRY_INFO!A35)","v":"Angola"},{"$f":"IF(COUNTRY_INFO!B35=0,\" \",COUNTRY_INFO!B35)","v":"CABINDA"},{"$f":"IF(COUNTRY_INFO!C35=0,\" \",COUNTRY_INFO!C35)","v":"BUCO ZAU"},{"$f":"IF(COUNTRY_INFO!$U$9:$U$1000=\"MDA1 (IVM+ALB)\", COUNTRY_INFO!$U$9:$U$1000, \" \")","v":" "},null,null,null,null,0,null,null,null,0,null," "," "," "]
[{"$f":"IF(COUNTRY_INFO!A36=0,\" \",COUNTRY_INFO!A36)","v":"Angola"},{"$f":"IF(COUNTRY_INFO!B36=0,\" \",COUNTRY_INFO!B36)","v":"CABINDA"},{"$f":"IF(COUNTRY_INFO!C36=0,\" \",COUNTRY_INFO!C36)","v":"CABINDA"},{"$f":"IF(COUNTRY_INFO!$U$9:$U$1000=\"MDA1 (IVM+ALB)\", COUNTRY_INFO!$U$9:$U$1000, \" \")","v":" "},null,null,null,null,0,null,null,null,0,null," "," "," "]
[{"$f":"IF(COUNTRY_INFO!A37=0,\" \",COUNTRY_INFO!A37)","v":"Angola"},{"$f":"IF(COUNTRY_INFO!B37=0,\" \",COUNTRY_INFO!B37)","v":"CABINDA"},{"$f":"IF(COUNTRY_INFO!C37=0,\" \",COUNTRY_INFO!C37)","v":"CACONGO"},{"$f":"IF(COUNTRY_INFO!$U$9:$U$1000=\"MDA1 (IVM+ALB)\", COUNTRY_INFO!$U$9:$U$1000, \" \")","v":" "},null,null,null,null,0,null,null,null,0,null," "," "," "]
[{"$f":"IF(COUNTRY_INFO!A38=0,\" \",COUNTRY_INFO!A38)","v":"Angola"},{"$f":"IF(COUNTRY_INFO!B38=0,\" \",COUNTRY_INFO!B38)","v":"CUANDO CUBANGO"},{"$f":"IF(COUNTRY_INFO!C38=0,\" \",COUNTRY_INFO!C38)","v":"CALAI"},{"$f":"IF(COUNTRY_INFO!$U$9:$U$1000=\"MDA1 (IVM+ALB)\", COUNTRY_INFO!$U$9:$U$1000, \" \")","v":" "},null,null,null,null,0,null,null,null,0,null," "," "," "]
[{"$f":"IF(COUNTRY_INFO!A39=0,\" \",COUNTRY_INFO!A39)","v":"Angola"},{"$f":"IF(COUNTRY_INFO!B39=0,\" \",COUNTRY_INFO!B39)","v":"CUANDO CUBANGO"},{"$f":"IF(COUNTRY_INFO!C39=0,\" \",COUNTRY_INFO!C39)","v":"CUANGAR"},{"$f":"IF(COUNTRY_INFO!$U$9:$U$1000=\"MDA1 (IVM+ALB)\", COUNTRY_INFO!$U$9:$U$1000, \" \")","v":" "},null,null,null,null,0,null,null,null,0,null," "," "," "]
[{"$f":"IF(COUNTRY_INFO!A40=0,\" \",COUNTRY_INFO!A40)","v":"Angola"},{"$f":"IF(COUNTRY_INFO!B40=0,\" \",COUNTRY_INFO!B40)","v":"CUANDO CUBANGO"},{"$f":"IF(COUNTRY_INFO!C40=0,\" \",COUNTRY_INFO!C40)","v":"CUCHI"},{"$f":"IF(COUNTRY_INFO!$U$9:$U$1000=\"MDA1 (IVM+ALB)\", COUNTRY_INFO!$U$9:$U$1000, \" \")","v":" "},null,null,null,null,0,null,null,null,0,null," "," "," "]
[{"$f":"IF(COUNTRY_INFO!A41=0,\" \",COUNTRY_INFO!A41)","v":"Angola"},{"$f":"IF(COUNTRY_INFO!B41=0,\" \",COUNTRY_INFO!B41)","v":"CUANDO CUBANGO"},{"$f":"IF(COUNTRY_INFO!C41=0,\" \",COUNTRY_INFO!C41)","v":"CUITO CUANAVALE"},{"$f":"IF(COUNTRY_INFO!$U$9:$U$1000=\"MDA1 (IVM+ALB)\", COUNTRY_INFO!$U$9:$U$1000, \" \")","v":" "},null,null,null,null,0,null,null,null,0,null," "," "," "]
[{"$f":"IF(COUNTRY_INFO!A42=0,\" \",COUNTRY_INFO!A42)","v":"Angola"},{"$f":"IF(COUNTRY_INFO!B42=0,\" \",COUNTRY_INFO!B42)","v":"CUANDO CUBANGO"},{"$f":"IF(COUNTRY_INFO!C42=0,\" \",COUNTRY_INFO!C42)","v":"DIRICO"},{"$f":"IF(COUNTRY_INFO!$U$9:$U$1000=\"MDA1 (IVM+ALB)\", COUNTRY_INFO!$U$9:$U$1000, \" \")","v":" "},null,null,null,null,0,null,null,null,0,null," "," "," "]
[{"$f":"IF(COUNTRY_INFO!A43=0,\" \",COUNTRY_INFO!A43)","v":"Angola"},{"$f":"IF(COUNTRY_INFO!B43=0,\" \",COUNTRY_INFO!B43)","v":"CUANDO CUBANGO"},{"$f":"IF(COUNTRY_INFO!C43=0,\" \",COUNTRY_INFO!C43)","v":"MAVINGA"},{"$f":"IF(COUNTRY_INFO!$U$9:$U$1000=\"MDA1 (IVM+ALB)\", COUNTRY_INFO!$U$9:$U$1000, \" \")","v":" "},null,null,null,null,0,null,null,null,0,null," "," "," "]
[{"$f":"IF(COUNTRY_INFO!A44=0,\" \",COUNTRY_INFO!A44)","v":"Angola"},{"$f":"IF(COUNTRY_INFO!B44=0,\" \",COUNTRY_INFO!B44)","v":"CUANDO CUBANGO"},{"$f":"IF(COUNTRY_INFO!C44=0,\" \",COUNTRY_INFO!C44)","v":"MENONGUE"},{"$f":"IF(COUNTRY_INFO!$U$9:$U$1000=\"MDA1 (IVM+ALB)\", COUNTRY_INFO!$U$9:$U$1000, \" \")","v":" "},null,null,null,null,0,null,null,null,0,null," "," "," "]
[{"$f":"IF(COUNTRY_INFO!A45=0,\" \",COUNTRY_INFO!A45)","v":"Angola"},{"$f":"IF(COUNTRY_INFO!B45=0,\" \",COUNTRY_INFO!B45)","v":"CUANDO CUBANGO"},{"$f":"IF(COUNTRY_INFO!C45=0,\" \",COUNTRY_INFO!C45)","v":"NANKOVA"},{"$f":"IF(COUNTRY_INFO!$U$9:$U$1000=\"MDA1 (IVM+ALB)\", COUNTRY_INFO!$U$9:$U$1000, \" \")","v":" "},null,null,null,null,0,null,null,null,0,null," "," "," "]
[{"$f":"IF(COUNTRY_INFO!A46=0,\" \",COUNTRY_INFO!A46)","v":"Angola"},{"$f":"IF(COUNTRY_INFO!B46=0,\" \",COUNTRY_INFO!B46)","v":"CUANDO CUBANGO"},{"$f":"IF(COUNTRY_INFO!C46=0,\" \",COUNTRY_INFO!C46)","v":"RIVUNGO"},{"$f":"IF(COUNTRY_INFO!$U$9:$U$1000=\"MDA1 (IVM+ALB)\", COUNTRY_INFO!$U$9:$U$1000, \" \")","v":" "},null,null,null,null,0,null,null,null,0,null," "," "," "]
[{"$f":"IF(COUNTRY_INFO!A47=0,\" \",COUNTRY_INFO!A47)","v":"Angola"},{"$f":"IF(COUNTRY_INFO!B47=0,\" \",COUNTRY_INFO!B47)","v":"CUANZA NORTE"},{"$f":"IF(COUNTRY_INFO!C47=0,\" \",COUNTRY_INFO!C47)","v":"AMBACA"},{"$f":"IF(COUNTRY_INFO!$U$9:$U$1000=\"MDA1 (IVM+ALB)\", COUNTRY_INFO!$U$9:$U$1000, \" \")","v":" "},null,null,null,null,0,null,null,null,0,null," "," "," "]
[{"$f":"IF(COUNTRY_INFO!A48=0,\" \",COUNTRY_INFO!A48)","v":"Angola"},{"$f":"IF(COUNTRY_INFO!B48=0,\" \",COUNTRY_INFO!B48)","v":"CUANZA NORTE"},{"$f":"IF(COUNTRY_INFO!C48=0,\" \",COUNTRY_INFO!C48)","v":"BANGA"},{"$f":"IF(COUNTRY_INFO!$U$9:$U$1000=\"MDA1 (IVM+ALB)\", COUNTRY_INFO!$U$9:$U$1000, \" \")","v":" "},null,null,null,null,0,null,null,null,0,null," "," "," "]
[{"$f":"IF(COUNTRY_INFO!A49=0,\" \",COUNTRY_INFO!A49)","v":"Angola"},{"$f":"IF(COUNTRY_INFO!B49=0,\" \",COUNTRY_INFO!B49)","v":"CUANZA NORTE"},{"$f":"IF(COUNTRY_INFO!C49=0,\" \",COUNTRY_INFO!C49)","v":"BOLONGONGO"},{"$f":"IF(COUNTRY_INFO!$U$9:$U$1000=\"MDA1 (IVM+ALB)\", COUNTRY_INFO!$U$9:$U$1000, \" \")","v":" "},null,null,null,null,0,null,null,null,0,null," "," "," "]
[{"$f":"IF(COUNTRY_INFO!A50=0,\" \",COUNTRY_INFO!A50)","v":"Angola"},{"$f":"IF(COUNTRY_INFO!B50=0,\" \",COUNTRY_INFO!B50)","v":"CUANZA NORTE"},{"$f":"IF(COUNTRY_INFO!C50=0,\" \",COUNTRY_INFO!C50)","v":"CAMBAMBE"},{"$f":"IF(COUNTRY_INFO!$U$9:$U$1000=\"MDA1 (IVM+ALB)\", COUNTRY_INFO!$U$9:$U$1000, \" \")","v":" "},null,null,null,null,0,null,null,null,0,null," "," "," "]
[{"$f":"IF(COUNTRY_INFO!A51=0,\" \",COUNTRY_INFO!A51)","v":"Angola"},{"$f":"IF(COUNTRY_INFO!B51=0,\" \",COUNTRY_INFO!B51)","v":"CUANZA NORTE"},{"$f":"IF(COUNTRY_INFO!C51=0,\" \",COUNTRY_INFO!C51)","v":"CAZENGO"},{"$f":"IF(COUNTRY_INFO!$U$9:$U$1000=\"MDA1 (IVM+ALB)\", COUNTRY_INFO!$U$9:$U$1000, \" \")","v":" "},null,null,null,null,0,null,null,null,0,null," "," "," "]
[{"$f":"IF(COUNTRY_INFO!A52=0,\" \",COUNTRY_INFO!A52)","v":"Angola"},{"$f":"IF(COUNTRY_INFO!B52=0,\" \",COUNTRY_INFO!B52)","v":"CUANZA NORTE"},{"$f":"IF(COUNTRY_INFO!C52=0,\" \",COUNTRY_INFO!C52)","v":"GOLUNGO ALTO"},{"$f":"IF(COUNTRY_INFO!$U$9:$U$1000=\"MDA1 (IVM+ALB)\", COUNTRY_INFO!$U$9:$U$1000, \" \")","v":" "},null,null,null,null,0,null,null,null,0,null," "," "," "]
[{"$f":"IF(COUNTRY_INFO!A53=0,\" \",COUNTRY_INFO!A53)","v":"Angola"},{"$f":"IF(COUNTRY_INFO!B53=0,\" \",COUNTRY_INFO!B53)","v":"CUANZA NORTE"},{"$f":"IF(COUNTRY_INFO!C53=0,\" \",COUNTRY_INFO!C53)","v":"GONGUEMBO"},{"$f":"IF(COUNTRY_INFO!$U$9:$U$1000=\"MDA1 (IVM+ALB)\", COUNTRY_INFO!$U$9:$U$1000, \" \")","v":" "},null,null,null,null,0,null,null,null,0,null," "," "," "]
[{"$f":"IF(COUNTRY_INFO!A54=0,\" \",COUNTRY_INFO!A54)","v":"Angola"},{"$f":"IF(COUNTRY_INFO!B54=0,\" \",COUNTRY_INFO!B54)","v":"CUANZA NORTE"},{"$f":"IF(COUNTRY_INFO!C54=0,\" \",COUNTRY_INFO!C54)","v":"LUCALA"},{"$f":"IF(COUNTRY_INFO!$U$9:$U$1000=\"MDA1 (IVM+ALB)\", COUNTRY_INFO!$U$9:$U$1000, \" \")","v":" "},null,null,null,null,0,null,null,null,0,null," "," "," "]
[{"$f":"IF(COUNTRY_INFO!A55=0,\" \",COUNTRY_INFO!A55)","v":"Angola"},{"$f":"IF(COUNTRY_INFO!B55=0,\" \",COUNTRY_INFO!B55)","v":"CUANZA NORTE"},{"$f":"IF(COUNTRY_INFO!C55=0,\" \",COUNTRY_INFO!C55)","v":"QUICULUNGO"},{"$f":"IF(COUNTRY_INFO!$U$9:$U$1000=\"MDA1 (IVM+ALB)\", COUNTRY_INFO!$U$9:$U$1000, \" \")","v":" "},null,null,null,null,0,null,null,null,0,null," "," "," "]
[{"$f":"IF(COUNTRY_INFO!A56=0,\" \",COUNTRY_INFO!A56)","v":"Angola"},{"$f":"IF(COUNTRY_INFO!B56=0,\" \",COUNTRY_INFO!B56)","v":"CUANZA NORTE"},{"$f":"IF(COUNTRY_INFO!C56=0,\" \",COUNTRY_INFO!C56)","v":"SAMBA CAJU"},{"$f":"IF(COUNTRY_INFO!$U$9:$U$1000=\"MDA1 (IVM+ALB)\", COUNTRY_INFO!$U$9:$U$1000, \" \")","v":" "},null,null,null,null,0,null,null,null,0,null," "," "," "]
[{"$f":"IF(COUNTRY_INFO!A57=0,\" \",COUNTRY_INFO!A57)","v":"Angola"},{"$f":"IF(COUNTRY_INFO!B57=0,\" \",COUNTRY_INFO!B57)","v":"CUANZA SUL"},{"$f":"IF(COUNTRY_INFO!C57=0,\" \",COUNTRY_INFO!C57)","v":"AMBOIM"},{"$f":"IF(COUNTRY_INFO!$U$9:$U$1000=\"MDA1 (IVM+ALB)\", COUNTRY_INFO!$U$9:$U$1000, \" \")","v":" "},null,null,null,null,0,null,null,null,0,null," "," "," "]
[{"$f":"IF(COUNTRY_INFO!A58=0,\" \",COUNTRY_INFO!A58)","v":"Angola"},{"$f":"IF(COUNTRY_INFO!B58=0,\" \",COUNTRY_INFO!B58)","v":"CUANZA SUL"},{"$f":"IF(COUNTRY_INFO!C58=0,\" \",COUNTRY_INFO!C58)","v":"CASSONGUE"},{"$f":"IF(COUNTRY_INFO!$U$9:$U$1000=\"MDA1 (IVM+ALB)\", COUNTRY_INFO!$U$9:$U$1000, \" \")","v":" "},null,null,null,null,0,null,null,null,0,null," "," "," "]
[{"$f":"IF(COUNTRY_INFO!A59=0,\" \",COUNTRY_INFO!A59)","v":"Angola"},{"$f":"IF(COUNTRY_INFO!B59=0,\" \",COUNTRY_INFO!B59)","v":"CUANZA SUL"},{"$f":"IF(COUNTRY_INFO!C59=0,\" \",COUNTRY_INFO!C59)","v":"CELA (Waku Kungo)"},{"$f":"IF(COUNTRY_INFO!$U$9:$U$1000=\"MDA1 (IVM+ALB)\", COUNTRY_INFO!$U$9:$U$1000, \" \")","v":" "},null,null,null,null,0,null,null,null,0,null," "," "," "]
[{"$f":"IF(COUNTRY_INFO!A60=0,\" \",COUNTRY_INFO!A60)","v":"Angola"},{"$f":"IF(COUNTRY_INFO!B60=0,\" \",COUNTRY_INFO!B60)","v":"CUANZA SUL"},{"$f":"IF(COUNTRY_INFO!C60=0,\" \",COUNTRY_INFO!C60)","v":"CONDA"},{"$f":"IF(COUNTRY_INFO!$U$9:$U$1000=\"MDA1 (IVM+ALB)\", COUNTRY_INFO!$U$9:$U$1000, \" \")","v":" "},null,null,null,null,0,null,null,null,0,null," "," "," "]
[{"$f":"IF(COUNTRY_INFO!A61=0,\" \",COUNTRY_INFO!A61)","v":"Angola"},{"$f":"IF(COUNTRY_INFO!B61=0,\" \",COUNTRY_INFO!B61)","v":"CUANZA SUL"},{"$f":"IF(COUNTRY_INFO!C61=0,\" \",COUNTRY_INFO!C61)","v":"EBO"},{"$f":"IF(COUNTRY_INFO!$U$9:$U$1000=\"MDA1 (IVM+ALB)\", COUNTRY_INFO!$U$9:$U$1000, \" \")","v":" "},null,null,null,null,0,null,null,null,0,null," "," "," "]
[{"$f":"IF(COUNTRY_INFO!A62=0,\" \",COUNTRY_INFO!A62)","v":"Angola"},{"$f":"IF(COUNTRY_INFO!B62=0,\" \",COUNTRY_INFO!B62)","v":"CUANZA SUL"},{"$f":"IF(COUNTRY_INFO!C62=0,\" \",COUNTRY_INFO!C62)","v":"LIBOLO"},{"$f":"IF(COUNTRY_INFO!$U$9:$U$1000=\"MDA1 (IVM+ALB)\", COUNTRY_INFO!$U$9:$U$1000, \" \")","v":" "},null,null,null,null,0,null,null,null,0,null," "," "," "]
[{"$f":"IF(COUNTRY_INFO!A63=0,\" \",COUNTRY_INFO!A63)","v":"Angola"},{"$f":"IF(COUNTRY_INFO!B63=0,\" \",COUNTRY_INFO!B63)","v":"CUANZA SUL"},{"$f":"IF(COUNTRY_INFO!C63=0,\" \",COUNTRY_INFO!C63)","v":"MUSSENDE"},{"$f":"IF(COUNTRY_INFO!$U$9:$U$1000=\"MDA1 (IVM+ALB)\", COUNTRY_INFO!$U$9:$U$1000, \" \")","v":" "},null,null,null,null,0,null,null,null,0,null," "," "," "]
[{"$f":"IF(COUNTRY_INFO!A64=0,\" \",COUNTRY_INFO!A64)","v":"Angola"},{"$f":"IF(COUNTRY_INFO!B64=0,\" \",COUNTRY_INFO!B64)","v":"CUANZA SUL"},{"$f":"IF(COUNTRY_INFO!C64=0,\" \",COUNTRY_INFO!C64)","v":"PORTO AMBOIM"},{"$f":"IF(COUNTRY_INFO!$U$9:$U$1000=\"MDA1 (IVM+ALB)\", COUNTRY_INFO!$U$9:$U$1000, \" \")","v":" "},null,null,null,null,0,null,null,null,0,null," "," "," "]
[{"$f":"IF(COUNTRY_INFO!A65=0,\" \",COUNTRY_INFO!A65)","v":"Angola"},{"$f":"IF(COUNTRY_INFO!B65=0,\" \",COUNTRY_INFO!B65)","v":"CUANZA SUL"},{"$f":"IF(COUNTRY_INFO!C65=0,\" \",COUNTRY_INFO!C65)","v":"QUIBALA"},{"$f":"IF(COUNTRY_INFO!$U$9:$U$1000=\"MDA1 (IVM+ALB)\", COUNTRY_INFO!$U$9:$U$1000, \" \")","v":" "},null,null,null,null,0,null,null,null,0,null," "," "," "]
[{"$f":"IF(COUNTRY_INFO!A66=0,\" \",COUNTRY_INFO!A66)","v":"Angola"},{"$f":"IF(COUNTRY_INFO!B66=0,\" \",COUNTRY_INFO!B66)","v":"CUANZA SUL"},{"$f":"IF(COUNTRY_INFO!C66=0,\" \",COUNTRY_INFO!C66)","v":"QUILENDA"},{"$f":"IF(COUNTRY_INFO!$U$9:$U$1000=\"MDA1 (IVM+ALB)\", COUNTRY_INFO!$U$9:$U$1000, \" \")","v":" "},null,null,null,null,0,null,null,null,0,null," "," "," "]
[{"$f":"IF(COUNTRY_INFO!A67=0,\" \",COUNTRY_INFO!A67)","v":"Angola"},{"$f":"IF(COUNTRY_INFO!B67=0,\" \",COUNTRY_INFO!B67)","v":"CUANZA SUL"},{"$f":"IF(COUNTRY_INFO!C67=0,\" \",COUNTRY_INFO!C67)","v":"SELES"},{"$f":"IF(COUNTRY_INFO!$U$9:$U$1000=\"MDA1 (IVM+ALB)\", COUNTRY_INFO!$U$9:$U$1000, \" \")","v":" "},null,null,null,null,0,null,null,null,0,null," "," "," "]
[{"$f":"IF(COUNTRY_INFO!A68=0,\" \",COUNTRY_INFO!A68)","v":"Angola"},{"$f":"IF(COUNTRY_INFO!B68=0,\" \",COUNTRY_INFO!B68)","v":"CUANZA SUL"},{"$f":"IF(COUNTRY_INFO!C68=0,\" \",COUNTRY_INFO!C68)","v":"SUMBE"},{"$f":"IF(COUNTRY_INFO!$U$9:$U$1000=\"MDA1 (IVM+ALB)\", COUNTRY_INFO!$U$9:$U$1000, \" \")","v":" "},null,null,null,null,0,null,null,null,0,null," "," "," "]
[{"$f":"IF(COUNTRY_INFO!A69=0,\" \",COUNTRY_INFO!A69)","v":"Angola"},{"$f":"IF(COUNTRY_INFO!B69=0,\" \",COUNTRY_INFO!B69)","v":"CUNENE"},{"$f":"IF(COUNTRY_INFO!C69=0,\" \",COUNTRY_INFO!C69)","v":"CAHAMA"},{"$f":"IF(COUNTRY_INFO!$U$9:$U$1000=\"MDA1 (IVM+ALB)\", COUNTRY_INFO!$U$9:$U$1000, \" \")","v":" "},null,null,null,null,0,null,null,null,0,null," "," "," "]
[{"$f":"IF(COUNTRY_INFO!A70=0,\" \",COUNTRY_INFO!A70)","v":"Angola"},{"$f":"IF(COUNTRY_INFO!B70=0,\" \",COUNTRY_INFO!B70)","v":"CUNENE"},{"$f":"IF(COUNTRY_INFO!C70=0,\" \",COUNTRY_INFO!C70)","v":"CUANHAMA"},{"$f":"IF(COUNTRY_INFO!$U$9:$U$1000=\"MDA1 (IVM+ALB)\", COUNTRY_INFO!$U$9:$U$1000, \" \")","v":" "},null,null,null,null,0,null,null,null,0,null," "," "," "]
[{"$f":"IF(COUNTRY_INFO!A71=0,\" \",COUNTRY_INFO!A71)","v":"Angola"},{"$f":"IF(COUNTRY_INFO!B71=0,\" \",COUNTRY_INFO!B71)","v":"CUNENE"},{"$f":"IF(COUNTRY_INFO!C71=0,\" \",COUNTRY_INFO!C71)","v":"CUROCA"},{"$f":"IF(COUNTRY_INFO!$U$9:$U$1000=\"MDA1 (IVM+ALB)\", COUNTRY_INFO!$U$9:$U$1000, \" \")","v":" "},null,null,null,null,0,null,null,null,0,null," "," "," "]
[{"$f":"IF(COUNTRY_INFO!A72=0,\" \",COUNTRY_INFO!A72)","v":"Angola"},{"$f":"IF(COUNTRY_INFO!B72=0,\" \",COUNTRY_INFO!B72)","v":"CUNENE"},{"$f":"IF(COUNTRY_INFO!C72=0,\" \",COUNTRY_INFO!C72)","v":"CUVELAI"},{"$f":"IF(COUNTRY_INFO!$U$9:$U$1000=\"MDA1 (IVM+ALB)\", COUNTRY_INFO!$U$9:$U$1000, \" \")","v":" "},null,null,null,null,0,null,null,null,0,null," "," "," "]
[{"$f":"IF(COUNTRY_INFO!A73=0,\" \",COUNTRY_INFO!A73)","v":"Angola"},{"$f":"IF(COUNTRY_INFO!B73=0,\" \",COUNTRY_INFO!B73)","v":"CUNENE"},{"$f":"IF(COUNTRY_INFO!C73=0,\" \",COUNTRY_INFO!C73)","v":"NAMACUNDE"},{"$f":"IF(COUNTRY_INFO!$U$9:$U$1000=\"MDA1 (IVM+ALB)\", COUNTRY_INFO!$U$9:$U$1000, \" \")","v":" "},null,null,null,null,0,null,null,null,0,null," "," "," "]
[{"$f":"IF(COUNTRY_INFO!A74=0,\" \",COUNTRY_INFO!A74)","v":"Angola"},{"$f":"IF(COUNTRY_INFO!B74=0,\" \",COUNTRY_INFO!B74)","v":"CUNENE"},{"$f":"IF(COUNTRY_INFO!C74=0,\" \",COUNTRY_INFO!C74)","v":"OMBADJA"},{"$f":"IF(COUNTRY_INFO!$U$9:$U$1000=\"MDA1 (IVM+ALB)\", COUNTRY_INFO!$U$9:$U$1000, \" \")","v":" "},null,null,null,null,{"$f":"SUM(F74:H74)","v":0},null,null,null,{"$f":"SUM(J74:L74)","v":0},null,{"$f":"IF(G74<>0, IF(K74/G74*100=0, \"-\", K74/G74*100), \" \")","v":" "},{"$f":"IF(H74<>0, IF(L74/H74*100=0, \"-\", L74/H74*100), \" \")","v":" "},{"$f":"IF(I74<>0, IF(M74/I74*100=0, \"-\", M74/I74*100), \" \")","v":" "}]
[{"$f":"IF(COUNTRY_INFO!A75=0,\" \",COUNTRY_INFO!A75)","v":"Angola"},{"$f":"IF(COUNTRY_INFO!B75=0,\" \",COUNTRY_INFO!B75)","v":"HUAMBO"},{"$f":"IF(COUNTRY_INFO!C75=0,\" \",COUNTRY_INFO!C75)","v":"BAILUNDO"},{"$f":"IF(COUNTRY_INFO!$U$9:$U$1000=\"MDA1 (IVM+ALB)\", COUNTRY_INFO!$U$9:$U$1000, \" \")","v":" "},null,null,null,null,0,null,null,null,0,null," "," "," "]
[{"$f":"IF(COUNTRY_INFO!A76=0,\" \",COUNTRY_INFO!A76)","v":"Angola"},{"$f":"IF(COUNTRY_INFO!B76=0,\" \",COUNTRY_INFO!B76)","v":"HUAMBO"},{"$f":"IF(COUNTRY_INFO!C76=0,\" \",COUNTRY_INFO!C76)","v":"CAALA"},{"$f":"IF(COUNTRY_INFO!$U$9:$U$1000=\"MDA1 (IVM+ALB)\", COUNTRY_INFO!$U$9:$U$1000, \" \")","v":" "},null,null,null,null,0,null,null,null,0,null," "," "," "]
[{"$f":"IF(COUNTRY_INFO!A77=0,\" \",COUNTRY_INFO!A77)","v":"Angola"},{"$f":"IF(COUNTRY_INFO!B77=0,\" \",COUNTRY_INFO!B77)","v":"HUAMBO"},{"$f":"IF(COUNTRY_INFO!C77=0,\" \",COUNTRY_INFO!C77)","v":"CACHIUNGO"},{"$f":"IF(COUNTRY_INFO!$U$9:$U$1000=\"MDA1 (IVM+ALB)\", COUNTRY_INFO!$U$9:$U$1000, \" \")","v":" "},null,null,null,null,0,null,null,null,0,null," "," "," "]
[{"$f":"IF(COUNTRY_INFO!A78=0,\" \",COUNTRY_INFO!A78)","v":"Angola"},{"$f":"IF(COUNTRY_INFO!B78=0,\" \",COUNTRY_INFO!B78)","v":"HUAMBO"},{"$f":"IF(COUNTRY_INFO!C78=0,\" \",COUNTRY_INFO!C78)","v":"CHICALA CHOLOHANGA"},{"$f":"IF(COUNTRY_INFO!$U$9:$U$1000=\"MDA1 (IVM+ALB)\", COUNTRY_INFO!$U$9:$U$1000, \" \")","v":" "},null,null,null,null,0,null,null,null,0,null," "," "," "]
[{"$f":"IF(COUNTRY_INFO!A79=0,\" \",COUNTRY_INFO!A79)","v":"Angola"},{"$f":"IF(COUNTRY_INFO!B79=0,\" \",COUNTRY_INFO!B79)","v":"HUAMBO"},{"$f":"IF(COUNTRY_INFO!C79=0,\" \",COUNTRY_INFO!C79)","v":"CHINDJENJE"},{"$f":"IF(COUNTRY_INFO!$U$9:$U$1000=\"MDA1 (IVM+ALB)\", COUNTRY_INFO!$U$9:$U$1000, \" \")","v":" "},null,null,null,null,0,null,null,null,0,null," "," "," "]
[{"$f":"IF(COUNTRY_INFO!A80=0,\" \",COUNTRY_INFO!A80)","v":"Angola"},{"$f":"IF(COUNTRY_INFO!B80=0,\" \",COUNTRY_INFO!B80)","v":"HUAMBO"},{"$f":"IF(COUNTRY_INFO!C80=0,\" \",COUNTRY_INFO!C80)","v":"ECUNHA"},{"$f":"IF(COUNTRY_INFO!$U$9:$U$1000=\"MDA1 (IVM+ALB)\", COUNTRY_INFO!$U$9:$U$1000, \" \")","v":" "},null,null,null,null,0,null,null,null,0,null," "," "," "]
[{"$f":"IF(COUNTRY_INFO!A81=0,\" \",COUNTRY_INFO!A81)","v":"Angola"},{"$f":"IF(COUNTRY_INFO!B81=0,\" \",COUNTRY_INFO!B81)","v":"HUAMBO"},{"$f":"IF(COUNTRY_INFO!C81=0,\" \",COUNTRY_INFO!C81)","v":"HUAMBO"},{"$f":"IF(COUNTRY_INFO!$U$9:$U$1000=\"MDA1 (IVM+ALB)\", COUNTRY_INFO!$U$9:$U$1000, \" \")","v":" "},null,null,null,null,0,null,null,null,0,null," "," "," "]
[{"$f":"IF(COUNTRY_INFO!A82=0,\" \",COUNTRY_INFO!A82)","v":"Angola"},{"$f":"IF(COUNTRY_INFO!B82=0,\" \",COUNTRY_INFO!B82)","v":"HUAMBO"},{"$f":"IF(COUNTRY_INFO!C82=0,\" \",COUNTRY_INFO!C82)","v":"LONDUIMBALI"},{"$f":"IF(COUNTRY_INFO!$U$9:$U$1000=\"MDA1 (IVM+ALB)\", COUNTRY_INFO!$U$9:$U$1000, \" \")","v":" "},null,null,null,null,0,null,null,null,0,null," "," "," "]
[{"$f":"IF(COUNTRY_INFO!A83=0,\" \",COUNTRY_INFO!A83)","v":"Angola"},{"$f":"IF(COUNTRY_INFO!B83=0,\" \",COUNTRY_INFO!B83)","v":"HUAMBO"},{"$f":"IF(COUNTRY_INFO!C83=0,\" \",COUNTRY_INFO!C83)","v":"LONGONJO"},{"$f":"IF(COUNTRY_INFO!$U$9:$U$1000=\"MDA1 (IVM+ALB)\", COUNTRY_INFO!$U$9:$U$1000, \" \")","v":" "},null,null,null,null,0,null,null,null,0,null," "," "," "]
[{"$f":"IF(COUNTRY_INFO!A84=0,\" \",COUNTRY_INFO!A84)","v":"Angola"},{"$f":"IF(COUNTRY_INFO!B84=0,\" \",COUNTRY_INFO!B84)","v":"HUAMBO"},{"$f":"IF(COUNTRY_INFO!C84=0,\" \",COUNTRY_INFO!C84)","v":"MUNGO"},{"$f":"IF(COUNTRY_INFO!$U$9:$U$1000=\"MDA1 (IVM+ALB)\", COUNTRY_INFO!$U$9:$U$1000, \" \")","v":" "},null,null,null,null,0,null,null,null,0,null," "," "," "]
[{"$f":"IF(COUNTRY_INFO!A85=0,\" \",COUNTRY_INFO!A85)","v":"Angola"},{"$f":"IF(COUNTRY_INFO!B85=0,\" \",COUNTRY_INFO!B85)","v":"HUAMBO"},{"$f":"IF(COUNTRY_INFO!C85=0,\" \",COUNTRY_INFO!C85)","v":"UCUMA"},{"$f":"IF(COUNTRY_INFO!$U$9:$U$1000=\"MDA1 (IVM+ALB)\", COUNTRY_INFO!$U$9:$U$1000, \" \")","v":" "},null,null,null,null,0,null,null,null,0,null," "," "," "]
[{"$f":"IF(COUNTRY_INFO!A86=0,\" \",COUNTRY_INFO!A86)","v":"Angola"},{"$f":"IF(COUNTRY_INFO!B86=0,\" \",COUNTRY_INFO!B86)","v":"HUILA"},{"$f":"IF(COUNTRY_INFO!C86=0,\" \",COUNTRY_INFO!C86)","v":"CACONDA"},{"$f":"IF(COUNTRY_INFO!$U$9:$U$1000=\"MDA1 (IVM+ALB)\", COUNTRY_INFO!$U$9:$U$1000, \" \")","v":" "},null,null,null,null,0,null,null,null,0,null," "," "," "]
[{"$f":"IF(COUNTRY_INFO!A87=0,\" \",COUNTRY_INFO!A87)","v":"Angola"},{"$f":"IF(COUNTRY_INFO!B87=0,\" \",COUNTRY_INFO!B87)","v":"HUILA"},{"$f":"IF(COUNTRY_INFO!C87=0,\" \",COUNTRY_INFO!C87)","v":"CACULA"},{"$f":"IF(COUNTRY_INFO!$U$9:$U$1000=\"MDA1 (IVM+ALB)\", COUNTRY_INFO!$U$9:$U$1000, \" \")","v":" "},null,null,null,null,0,null,null,null,0,null," "," "," "]
[{"$f":"IF(COUNTRY_INFO!A88=0,\" \",COUNTRY_INFO!A88)","v":"Angola"},{"$f":"IF(COUNTRY_INFO!B88=0,\" \",COUNTRY_INFO!B88)","v":"HUILA"},{"$f":"IF(COUNTRY_INFO!C88=0,\" \",COUNTRY_INFO!C88)","v":"CALUQUEMBE"},{"$f":"IF(COUNTRY_INFO!$U$9:$U$1000=\"MDA1 (IVM+ALB)\", COUNTRY_INFO!$U$9:$U$1000, \" \")","v":" "},null,null,null,null,0,null,null,null,0,null," "," "," "]
[{"$f":"IF(COUNTRY_INFO!A89=0,\" \",COUNTRY_INFO!A89)","v":"Angola"},{"$f":"IF(COUNTRY_INFO!B89=0,\" \",COUNTRY_INFO!B89)","v":"HUILA"},{"$f":"IF(COUNTRY_INFO!C89=0,\" \",COUNTRY_INFO!C89)","v":"CHIBIA"},{"$f":"IF(COUNTRY_INFO!$U$9:$U$1000=\"MDA1 (IVM+ALB)\", COUNTRY_INFO!$U$9:$U$1000, \" \")","v":" "},null,null,null,null,0,null,null,null,0,null," "," "," "]
[{"$f":"IF(COUNTRY_INFO!A90=0,\" \",COUNTRY_INFO!A90)","v":"Angola"},{"$f":"IF(COUNTRY_INFO!B90=0,\" \",COUNTRY_INFO!B90)","v":"HUILA"},{"$f":"IF(COUNTRY_INFO!C90=0,\" \",COUNTRY_INFO!C90)","v":"CHICOMBA"},{"$f":"IF(COUNTRY_INFO!$U$9:$U$1000=\"MDA1 (IVM+ALB)\", COUNTRY_INFO!$U$9:$U$1000, \" \")","v":" "},null,null,null,null,0,null,null,null,0,null," "," "," "]
[{"$f":"IF(COUNTRY_INFO!A91=0,\" \",COUNTRY_INFO!A91)","v":"Angola"},{"$f":"IF(COUNTRY_INFO!B91=0,\" \",COUNTRY_INFO!B91)","v":"HUILA"},{"$f":"IF(COUNTRY_INFO!C91=0,\" \",COUNTRY_INFO!C91)","v":"CHIPINDO"},{"$f":"IF(COUNTRY_INFO!$U$9:$U$1000=\"MDA1 (IVM+ALB)\", COUNTRY_INFO!$U$9:$U$1000, \" \")","v":" "},null,null,null,null,0,null,null,null,0,null," "," "," "]
[{"$f":"IF(COUNTRY_INFO!A92=0,\" \",COUNTRY_INFO!A92)","v":"Angola"},{"$f":"IF(COUNTRY_INFO!B92=0,\" \",COUNTRY_INFO!B92)","v":"HUILA"},{"$f":"IF(COUNTRY_INFO!C92=0,\" \",COUNTRY_INFO!C92)","v":"CUVANGO"},{"$f":"IF(COUNTRY_INFO!$U$9:$U$1000=\"MDA1 (IVM+ALB)\", COUNTRY_INFO!$U$9:$U$1000, \" \")","v":" "},null,null,null,null,0,null,null,null,0,null," "," "," "]
[{"$f":"IF(COUNTRY_INFO!A93=0,\" \",COUNTRY_INFO!A93)","v":"Angola"},{"$f":"IF(COUNTRY_INFO!B93=0,\" \",COUNTRY_INFO!B93)","v":"HUILA"},{"$f":"IF(COUNTRY_INFO!C93=0,\" \",COUNTRY_INFO!C93)","v":"GAMBOS"},{"$f":"IF(COUNTRY_INFO!$U$9:$U$1000=\"MDA1 (IVM+ALB)\", COUNTRY_INFO!$U$9:$U$1000, \" \")","v":" "},null,null,null,null,0,null,null,null,0,null," "," "," "]
[{"$f":"IF(COUNTRY_INFO!A94=0,\" \",COUNTRY_INFO!A94)","v":"Angola"},{"$f":"IF(COUNTRY_INFO!B94=0,\" \",COUNTRY_INFO!B94)","v":"HUILA"},{"$f":"IF(COUNTRY_INFO!C94=0,\" \",COUNTRY_INFO!C94)","v":"HUMPATA"},{"$f":"IF(COUNTRY_INFO!$U$9:$U$1000=\"MDA1 (IVM+ALB)\", COUNTRY_INFO!$U$9:$U$1000, \" \")","v":" "},null,null,null,null,0,null,null,null,0,null," "," "," "]
[{"$f":"IF(COUNTRY_INFO!A95=0,\" \",COUNTRY_INFO!A95)","v":"Angola"},{"$f":"IF(COUNTRY_INFO!B95=0,\" \",COUNTRY_INFO!B95)","v":"HUILA"},{"$f":"IF(COUNTRY_INFO!C95=0,\" \",COUNTRY_INFO!C95)","v":"JAMBA"},{"$f":"IF(COUNTRY_INFO!$U$9:$U$1000=\"MDA1 (IVM+ALB)\", COUNTRY_INFO!$U$9:$U$1000, \" \")","v":" "},null,null,null,null,0,null,null,null,0,null," "," "," "]
[{"$f":"IF(COUNTRY_INFO!A96=0,\" \",COUNTRY_INFO!A96)","v":"Angola"},{"$f":"IF(COUNTRY_INFO!B96=0,\" \",COUNTRY_INFO!B96)","v":"HUILA"},{"$f":"IF(COUNTRY_INFO!C96=0,\" \",COUNTRY_INFO!C96)","v":"LUBANGO"},{"$f":"IF(COUNTRY_INFO!$U$9:$U$1000=\"MDA1 (IVM+ALB)\", COUNTRY_INFO!$U$9:$U$1000, \" \")","v":" "},null,null,null,null,0,null,null,null,0,null," "," "," "]
[{"$f":"IF(COUNTRY_INFO!A97=0,\" \",COUNTRY_INFO!A97)","v":"Angola"},{"$f":"IF(COUNTRY_INFO!B97=0,\" \",COUNTRY_INFO!B97)","v":"HUILA"},{"$f":"IF(COUNTRY_INFO!C97=0,\" \",COUNTRY_INFO!C97)","v":"MATALA"},{"$f":"IF(COUNTRY_INFO!$U$9:$U$1000=\"MDA1 (IVM+ALB)\", COUNTRY_INFO!$U$9:$U$1000, \" \")","v":" "},null,null,null,null,0,null,null,null,0,null," "," "," "]
[{"$f":"IF(COUNTRY_INFO!A98=0,\" \",COUNTRY_INFO!A98)","v":"Angola"},{"$f":"IF(COUNTRY_INFO!B98=0,\" \",COUNTRY_INFO!B98)","v":"HUILA"},{"$f":"IF(COUNTRY_INFO!C98=0,\" \",COUNTRY_INFO!C98)","v":"QUILENGUES"},{"$f":"IF(COUNTRY_INFO!$U$9:$U$1000=\"MDA1 (IVM+ALB)\", COUNTRY_INFO!$U$9:$U$1000, \" \")","v":" "},null,null,null,null,0,null,null,null,0,null," "," "," "]
[{"$f":"IF(COUNTRY_INFO!A99=0,\" \",COUNTRY_INFO!A99)","v":"Angola"},{"$f":"IF(COUNTRY_INFO!B99=0,\" \",COUNTRY_INFO!B99)","v":"HUILA"},{"$f":"IF(COUNTRY_INFO!C99=0,\" \",COUNTRY_INFO!C99)","v":"QUIPUNGO"},{"$f":"IF(COUNTRY_INFO!$U$9:$U$1000=\"MDA1 (IVM+ALB)\", COUNTRY_INFO!$U$9:$U$1000, \" \")","v":" "},null,null,null,null,0,null,null,null,0,null," "," "," "]
[{"$f":"IF(COUNTRY_INFO!A100=0,\" \",COUNTRY_INFO!A100)","v":"Angola"},{"$f":"IF(COUNTRY_INFO!B100=0,\" \",COUNTRY_INFO!B100)","v":"LUANDA"},{"$f":"IF(COUNTRY_INFO!C100=0,\" \",COUNTRY_INFO!C100)","v":"BELAS"},{"$f":"IF(COUNTRY_INFO!$U$9:$U$1000=\"MDA1 (IVM+ALB)\", COUNTRY_INFO!$U$9:$U$1000, \" \")","v":" "},null,null,null,null,0,null,null,null,0,null," "," "," "]
[{"$f":"IF(COUNTRY_INFO!A101=0,\" \",COUNTRY_INFO!A101)","v":"Angola"},{"$f":"IF(COUNTRY_INFO!B101=0,\" \",COUNTRY_INFO!B101)","v":"LUANDA"},{"$f":"IF(COUNTRY_INFO!C101=0,\" \",COUNTRY_INFO!C101)","v":"CACUACO"},{"$f":"IF(COUNTRY_INFO!$U$9:$U$1000=\"MDA1 (IVM+ALB)\", COUNTRY_INFO!$U$9:$U$1000, \" \")","v":" "},null,null,null,null,0,null,null,null,0,null," "," "," "]
[{"$f":"IF(COUNTRY_INFO!A102=0,\" \",COUNTRY_INFO!A102)","v":"Angola"},{"$f":"IF(COUNTRY_INFO!B102=0,\" \",COUNTRY_INFO!B102)","v":"LUANDA"},{"$f":"IF(COUNTRY_INFO!C102=0,\" \",COUNTRY_INFO!C102)","v":"CAZENGA"},{"$f":"IF(COUNTRY_INFO!$U$9:$U$1000=\"MDA1 (IVM+ALB)\", COUNTRY_INFO!$U$9:$U$1000, \" \")","v":" "},null,null,null,null,0,null,null,null,0,null," "," "," "]
[{"$f":"IF(COUNTRY_INFO!A103=0,\" \",COUNTRY_INFO!A103)","v":"Angola"},{"$f":"IF(COUNTRY_INFO!B103=0,\" \",COUNTRY_INFO!B103)","v":"LUANDA"},{"$f":"IF(COUNTRY_INFO!C103=0,\" \",COUNTRY_INFO!C103)","v":"ICOLO E BENGO"},{"$f":"IF(COUNTRY_INFO!$U$9:$U$1000=\"MDA1 (IVM+ALB)\", COUNTRY_INFO!$U$9:$U$1000, \" \")","v":" "},null,null,null,null,0,null,null,null,0,null," "," "," "]
[{"$f":"IF(COUNTRY_INFO!A104=0,\" \",COUNTRY_INFO!A104)","v":"Angola"},{"$f":"IF(COUNTRY_INFO!B104=0,\" \",COUNTRY_INFO!B104)","v":"LUANDA"},{"$f":"IF(COUNTRY_INFO!C104=0,\" \",COUNTRY_INFO!C104)","v":"KILAMBA KIAXI"},{"$f":"IF(COUNTRY_INFO!$U$9:$U$1000=\"MDA1 (IVM+ALB)\", COUNTRY_INFO!$U$9:$U$1000, \" \")","v":" "},null,null,null,null,0,null,null,null,0,null," "," "," "]
[{"$f":"IF(COUNTRY_INFO!A105=0,\" \",COUNTRY_INFO!A105)","v":"Angola"},{"$f":"IF(COUNTRY_INFO!B105=0,\" \",COUNTRY_INFO!B105)","v":"LUANDA"},{"$f":"IF(COUNTRY_INFO!C105=0,\" \",COUNTRY_INFO!C105)","v":"LUANDA"},{"$f":"IF(COUNTRY_INFO!$U$9:$U$1000=\"MDA1 (IVM+ALB)\", COUNTRY_INFO!$U$9:$U$1000, \" \")","v":" "},null,null,null,null,0,null,null,null,0,null," "," "," "]
[{"$f":"IF(COUNTRY_INFO!A106=0,\" \",COUNTRY_INFO!A106)","v":"Angola"},{"$f":"IF(COUNTRY_INFO!B106=0,\" \",COUNTRY_INFO!B106)","v":"LUANDA"},{"$f":"IF(COUNTRY_INFO!C106=0,\" \",COUNTRY_INFO!C106)","v":"QUISSAMA"},{"$f":"IF(COUNTRY_INFO!$U$9:$U$1000=\"MDA1 (IVM+ALB)\", COUNTRY_INFO!$U$9:$U$1000, \" \")","v":" "},null,null,null,null,0,null,null,null,0,null," "," "," "]
[{"$f":"IF(COUNTRY_INFO!A107=0,\" \",COUNTRY_INFO!A107)","v":"Angola"},{"$f":"IF(COUNTRY_INFO!B107=0,\" \",COUNTRY_INFO!B107)","v":"LUANDA"},{"$f":"IF(COUNTRY_INFO!C107=0,\" \",COUNTRY_INFO!C107)","v":"TALATONA"},{"$f":"IF(COUNTRY_INFO!$U$9:$U$1000=\"MDA1 (IVM+ALB)\", COUNTRY_INFO!$U$9:$U$1000, \" \")","v":" "},null,null,null,null,0,null,null,null,0,null," "," "," "]
[{"$f":"IF(COUNTRY_INFO!A108=0,\" \",COUNTRY_INFO!A108)","v":"Angola"},{"$f":"IF(COUNTRY_INFO!B108=0,\" \",COUNTRY_INFO!B108)","v":"LUANDA"},{"$f":"IF(COUNTRY_INFO!C108=0,\" \",COUNTRY_INFO!C108)","v":"VIANA"},{"$f":"IF(COUNTRY_INFO!$U$9:$U$1000=\"MDA1 (IVM+ALB)\", COUNTRY_INFO!$U$9:$U$1000, \" \")","v":" "},null,null,null,null,0,null,null,null,0,null," "," "," "]
[{"$f":"IF(COUNTRY_INFO!A109=0,\" \",COUNTRY_INFO!A109)","v":"Angola"},{"$f":"IF(COUNTRY_INFO!B109=0,\" \",COUNTRY_INFO!B109)","v":"LUNDA NORTE"},{"$f":"IF(COUNTRY_INFO!C109=0,\" \",COUNTRY_INFO!C109)","v":"CAMBULO"},{"$f":"IF(COUNTRY_INFO!$U$9:$U$1000=\"MDA1 (IVM+ALB)\", COUNTRY_INFO!$U$9:$U$1000, \" \")","v":" "},null,null,null,null,0,null,null,null,0,null," "," "," "]
[{"$f":"IF(COUNTRY_INFO!A110=0,\" \",COUNTRY_INFO!A110)","v":"Angola"},{"$f":"IF(COUNTRY_INFO!B110=0,\" \",COUNTRY_INFO!B110)","v":"LUNDA NORTE"},{"$f":"IF(COUNTRY_INFO!C110=0,\" \",COUNTRY_INFO!C110)","v":"CAPENDA CAMULEMBA"},{"$f":"IF(COUNTRY_INFO!$U$9:$U$1000=\"MDA1 (IVM+ALB)\", COUNTRY_INFO!$U$9:$U$1000, \" \")","v":" "},null,null,null,null,0,null,null,null,0,null," "," "," "]
[{"$f":"IF(COUNTRY_INFO!A111=0,\" \",COUNTRY_INFO!A111)","v":"Angola"},{"$f":"IF(COUNTRY_INFO!B111=0,\" \",COUNTRY_INFO!B111)","v":"LUNDA NORTE"},{"$f":"IF(COUNTRY_INFO!C111=0,\" \",COUNTRY_INFO!C111)","v":"CAUNGULA"},{"$f":"IF(COUNTRY_INFO!$U$9:$U$1000=\"MDA1 (IVM+ALB)\", COUNTRY_INFO!$U$9:$U$1000, \" \")","v":" "},null,null,null,null,0,null,null,null,0,null," "," "," "]
[{"$f":"IF(COUNTRY_INFO!A112=0,\" \",COUNTRY_INFO!A112)","v":"Angola"},{"$f":"IF(COUNTRY_INFO!B112=0,\" \",COUNTRY_INFO!B112)","v":"LUNDA NORTE"},{"$f":"IF(COUNTRY_INFO!C112=0,\" \",COUNTRY_INFO!C112)","v":"CHITATO"},{"$f":"IF(COUNTRY_INFO!$U$9:$U$1000=\"MDA1 (IVM+ALB)\", COUNTRY_INFO!$U$9:$U$1000, \" \")","v":" "},null,null,null,null,0,null,null,null,0,null," "," "," "]
[{"$f":"IF(COUNTRY_INFO!A113=0,\" \",COUNTRY_INFO!A113)","v":"Angola"},{"$f":"IF(COUNTRY_INFO!B113=0,\" \",COUNTRY_INFO!B113)","v":"LUNDA NORTE"},{"$f":"IF(COUNTRY_INFO!C113=0,\" \",COUNTRY_INFO!C113)","v":"CUANGO"},{"$f":"IF(COUNTRY_INFO!$U$9:$U$1000=\"MDA1 (IVM+ALB)\", COUNTRY_INFO!$U$9:$U$1000, \" \")","v":" "},null,null,null,null,0,null,null,null,0,null," "," "," "]
[{"$f":"IF(COUNTRY_INFO!A114=0,\" \",COUNTRY_INFO!A114)","v":"Angola"},{"$f":"IF(COUNTRY_INFO!B114=0,\" \",COUNTRY_INFO!B114)","v":"LUNDA NORTE"},{"$f":"IF(COUNTRY_INFO!C114=0,\" \",COUNTRY_INFO!C114)","v":"CUILO"},{"$f":"IF(COUNTRY_INFO!$U$9:$U$1000=\"MDA1 (IVM+ALB)\", COUNTRY_INFO!$U$9:$U$1000, \" \")","v":" "},null,null,null,null,0,null,null,null,0,null," "," "," "]
[{"$f":"IF(COUNTRY_INFO!A115=0,\" \",COUNTRY_INFO!A115)","v":"Angola"},{"$f":"IF(COUNTRY_INFO!B115=0,\" \",COUNTRY_INFO!B115)","v":"LUNDA NORTE"},{"$f":"IF(COUNTRY_INFO!C115=0,\" \",COUNTRY_INFO!C115)","v":"LOVUA"},{"$f":"IF(COUNTRY_INFO!$U$9:$U$1000=\"MDA1 (IVM+ALB)\", COUNTRY_INFO!$U$9:$U$1000, \" \")","v":" "},null,null,null,null,0,null,null,null,0,null," "," "," "]
[{"$f":"IF(COUNTRY_INFO!A116=0,\" \",COUNTRY_INFO!A116)","v":"Angola"},{"$f":"IF(COUNTRY_INFO!B116=0,\" \",COUNTRY_INFO!B116)","v":"LUNDA NORTE"},{"$f":"IF(COUNTRY_INFO!C116=0,\" \",COUNTRY_INFO!C116)","v":"LUBALO"},{"$f":"IF(COUNTRY_INFO!$U$9:$U$1000=\"MDA1 (IVM+ALB)\", COUNTRY_INFO!$U$9:$U$1000, \" \")","v":" "},null,null,null,null,0,null,null,null,0,null," "," "," "]
[{"$f":"IF(COUNTRY_INFO!A117=0,\" \",COUNTRY_INFO!A117)","v":"Angola"},{"$f":"IF(COUNTRY_INFO!B117=0,\" \",COUNTRY_INFO!B117)","v":"LUNDA NORTE"},{"$f":"IF(COUNTRY_INFO!C117=0,\" \",COUNTRY_INFO!C117)","v":"LUCAPA"},{"$f":"IF(COUNTRY_INFO!$U$9:$U$1000=\"MDA1 (IVM+ALB)\", COUNTRY_INFO!$U$9:$U$1000, \" \")","v":" "},null,null,null,null,0,null,null,null,0,null," "," "," "]
[{"$f":"IF(COUNTRY_INFO!A118=0,\" \",COUNTRY_INFO!A118)","v":"Angola"},{"$f":"IF(COUNTRY_INFO!B118=0,\" \",COUNTRY_INFO!B118)","v":"LUNDA NORTE"},{"$f":"IF(COUNTRY_INFO!C118=0,\" \",COUNTRY_INFO!C118)","v":"XA MUTEBA"},{"$f":"IF(COUNTRY_INFO!$U$9:$U$1000=\"MDA1 (IVM+ALB)\", COUNTRY_INFO!$U$9:$U$1000, \" \")","v":" "},null,null,null,null,0,null,null,null,0,null," "," "," "]
[{"$f":"IF(COUNTRY_INFO!A119=0,\" \",COUNTRY_INFO!A119)","v":"Angola"},{"$f":"IF(COUNTRY_INFO!B119=0,\" \",COUNTRY_INFO!B119)","v":"LUNDA SUL"},{"$f":"IF(COUNTRY_INFO!C119=0,\" \",COUNTRY_INFO!C119)","v":"CACOLO"},{"$f":"IF(COUNTRY_INFO!$U$9:$U$1000=\"MDA1 (IVM+ALB)\", COUNTRY_INFO!$U$9:$U$1000, \" \")","v":" "},null,null,null,null,0,null,null,null,0,null," "," "," "]
[{"$f":"IF(COUNTRY_INFO!A120=0,\" \",COUNTRY_INFO!A120)","v":"Angola"},{"$f":"IF(COUNTRY_INFO!B120=0,\" \",COUNTRY_INFO!B120)","v":"LUNDA SUL"},{"$f":"IF(COUNTRY_INFO!C120=0,\" \",COUNTRY_INFO!C120)","v":"DALA"},{"$f":"IF(COUNTRY_INFO!$U$9:$U$1000=\"MDA1 (IVM+ALB)\", COUNTRY_INFO!$U$9:$U$1000, \" \")","v":" "},null,null,null,null,0,null,null,null,0,null," "," "," "]
[{"$f":"IF(COUNTRY_INFO!A121=0,\" \",COUNTRY_INFO!A121)","v":"Angola"},{"$f":"IF(COUNTRY_INFO!B121=0,\" \",COUNTRY_INFO!B121)","v":"LUNDA SUL"},{"$f":"IF(COUNTRY_INFO!C121=0,\" \",COUNTRY_INFO!C121)","v":"MUCONDA"},{"$f":"IF(COUNTRY_INFO!$U$9:$U$1000=\"MDA1 (IVM+ALB)\", COUNTRY_INFO!$U$9:$U$1000, \" \")","v":" "},null,null,null,null,0,null,null,null,0,null," "," "," "]
[{"$f":"IF(COUNTRY_INFO!A122=0,\" \",COUNTRY_INFO!A122)","v":"Angola"},{"$f":"IF(COUNTRY_INFO!B122=0,\" \",COUNTRY_INFO!B122)","v":"LUNDA SUL"},{"$f":"IF(COUNTRY_INFO!C122=0,\" \",COUNTRY_INFO!C122)","v":"SAURIMO"},{"$f":"IF(COUNTRY_INFO!$U$9:$U$1000=\"MDA1 (IVM+ALB)\", COUNTRY_INFO!$U$9:$U$1000, \" \")","v":" "},null,null,null,null,0,null,null,null,0,null," "," "," "]
[{"$f":"IF(COUNTRY_INFO!A123=0,\" \",COUNTRY_INFO!A123)","v":"Angola"},{"$f":"IF(COUNTRY_INFO!B123=0,\" \",COUNTRY_INFO!B123)","v":"MALANJE"},{"$f":"IF(COUNTRY_INFO!C123=0,\" \",COUNTRY_INFO!C123)","v":"CACULAMA (Mukari)"},{"$f":"IF(COUNTRY_INFO!$U$9:$U$1000=\"MDA1 (IVM+ALB)\", COUNTRY_INFO!$U$9:$U$1000, \" \")","v":" "},null,null,null,null,0,null,null,null,0,null," "," "," "]
[{"$f":"IF(COUNTRY_INFO!A124=0,\" \",COUNTRY_INFO!A124)","v":"Angola"},{"$f":"IF(COUNTRY_INFO!B124=0,\" \",COUNTRY_INFO!B124)","v":"MALANJE"},{"$f":"IF(COUNTRY_INFO!C124=0,\" \",COUNTRY_INFO!C124)","v":"CACUSO"},{"$f":"IF(COUNTRY_INFO!$U$9:$U$1000=\"MDA1 (IVM+ALB)\", COUNTRY_INFO!$U$9:$U$1000, \" \")","v":" "},null,null,null,null,0,null,null,null,0,null," "," "," "]
[{"$f":"IF(COUNTRY_INFO!A125=0,\" \",COUNTRY_INFO!A125)","v":"Angola"},{"$f":"IF(COUNTRY_INFO!B125=0,\" \",COUNTRY_INFO!B125)","v":"MALANJE"},{"$f":"IF(COUNTRY_INFO!C125=0,\" \",COUNTRY_INFO!C125)","v":"CAHOMBO"},{"$f":"IF(COUNTRY_INFO!$U$9:$U$1000=\"MDA1 (IVM+ALB)\", COUNTRY_INFO!$U$9:$U$1000, \" \")","v":" "},null,null,null,null,0,null,null,null,0,null," "," "," "]
[{"$f":"IF(COUNTRY_INFO!A126=0,\" \",COUNTRY_INFO!A126)","v":"Angola"},{"$f":"IF(COUNTRY_INFO!B126=0,\" \",COUNTRY_INFO!B126)","v":"MALANJE"},{"$f":"IF(COUNTRY_INFO!C126=0,\" \",COUNTRY_INFO!C126)","v":"CALANDULA"},{"$f":"IF(COUNTRY_INFO!$U$9:$U$1000=\"MDA1 (IVM+ALB)\", COUNTRY_INFO!$U$9:$U$1000, \" \")","v":" "},null,null,null,null,0,null,null,null,0,null," "," "," "]
[{"$f":"IF(COUNTRY_INFO!A127=0,\" \",COUNTRY_INFO!A127)","v":"Angola"},{"$f":"IF(COUNTRY_INFO!B127=0,\" \",COUNTRY_INFO!B127)","v":"MALANJE"},{"$f":"IF(COUNTRY_INFO!C127=0,\" \",COUNTRY_INFO!C127)","v":"CAMBUNDI CATEMBO"},{"$f":"IF(COUNTRY_INFO!$U$9:$U$1000=\"MDA1 (IVM+ALB)\", COUNTRY_INFO!$U$9:$U$1000, \" \")","v":" "},null,null,null,null,0,null,null,null,0,null," "," "," "]
[{"$f":"IF(COUNTRY_INFO!A128=0,\" \",COUNTRY_INFO!A128)","v":"Angola"},{"$f":"IF(COUNTRY_INFO!B128=0,\" \",COUNTRY_INFO!B128)","v":"MALANJE"},{"$f":"IF(COUNTRY_INFO!C128=0,\" \",COUNTRY_INFO!C128)","v":"CANGANDALA"},{"$f":"IF(COUNTRY_INFO!$U$9:$U$1000=\"MDA1 (IVM+ALB)\", COUNTRY_INFO!$U$9:$U$1000, \" \")","v":" "},null,null,null,null,0,null,null,null,0,null," "," "," "]
[{"$f":"IF(COUNTRY_INFO!A129=0,\" \",COUNTRY_INFO!A129)","v":"Angola"},{"$f":"IF(COUNTRY_INFO!B129=0,\" \",COUNTRY_INFO!B129)","v":"MALANJE"},{"$f":"IF(COUNTRY_INFO!C129=0,\" \",COUNTRY_INFO!C129)","v":"KIWABA NZOJI"},{"$f":"IF(COUNTRY_INFO!$U$9:$U$1000=\"MDA1 (IVM+ALB)\", COUNTRY_INFO!$U$9:$U$1000, \" \")","v":" "},null,null,null,null,0,null,null,null,0,null," "," "," "]
[{"$f":"IF(COUNTRY_INFO!A130=0,\" \",COUNTRY_INFO!A130)","v":"Angola"},{"$f":"IF(COUNTRY_INFO!B130=0,\" \",COUNTRY_INFO!B130)","v":"MALANJE"},{"$f":"IF(COUNTRY_INFO!C130=0,\" \",COUNTRY_INFO!C130)","v":"KUNDA DYA BASE"},{"$f":"IF(COUNTRY_INFO!$U$9:$U$1000=\"MDA1 (IVM+ALB)\", COUNTRY_INFO!$U$9:$U$1000, \" \")","v":" "},null,null,null,null,0,null,null,null,0,null," "," "," "]
[{"$f":"IF(COUNTRY_INFO!A131=0,\" \",COUNTRY_INFO!A131)","v":"Angola"},{"$f":"IF(COUNTRY_INFO!B131=0,\" \",COUNTRY_INFO!B131)","v":"MALANJE"},{"$f":"IF(COUNTRY_INFO!C131=0,\" \",COUNTRY_INFO!C131)","v":"LUQUEMBO"},{"$f":"IF(COUNTRY_INFO!$U$9:$U$1000=\"MDA1 (IVM+ALB)\", COUNTRY_INFO!$U$9:$U$1000, \" \")","v":" "},null,null,null,null,0,null,null,null,0,null," "," "," "]
[{"$f":"IF(COUNTRY_INFO!A132=0,\" \",COUNTRY_INFO!A132)","v":"Angola"},{"$f":"IF(COUNTRY_INFO!B132=0,\" \",COUNTRY_INFO!B132)","v":"MALANJE"},{"$f":"IF(COUNTRY_INFO!C132=0,\" \",COUNTRY_INFO!C132)","v":"MALANJE"},{"$f":"IF(COUNTRY_INFO!$U$9:$U$1000=\"MDA1 (IVM+ALB)\", COUNTRY_INFO!$U$9:$U$1000, \" \")","v":" "},null,null,null,null,0,null,null,null,0,null," "," "," "]
[{"$f":"IF(COUNTRY_INFO!A133=0,\" \",COUNTRY_INFO!A133)","v":"Angola"},{"$f":"IF(COUNTRY_INFO!B133=0,\" \",COUNTRY_INFO!B133)","v":"MALANJE"},{"$f":"IF(COUNTRY_INFO!C133=0,\" \",COUNTRY_INFO!C133)","v":"MARIMBA"},{"$f":"IF(COUNTRY_INFO!$U$9:$U$1000=\"MDA1 (IVM+ALB)\", COUNTRY_INFO!$U$9:$U$1000, \" \")","v":" "},null,null,null,null,0,null,null,null,0,null," "," "," "]
[{"$f":"IF(COUNTRY_INFO!A134=0,\" \",COUNTRY_INFO!A134)","v":"Angola"},{"$f":"IF(COUNTRY_INFO!B134=0,\" \",COUNTRY_INFO!B134)","v":"MALANJE"},{"$f":"IF(COUNTRY_INFO!C134=0,\" \",COUNTRY_INFO!C134)","v":"MASSANGO"},{"$f":"IF(COUNTRY_INFO!$U$9:$U$1000=\"MDA1 (IVM+ALB)\", COUNTRY_INFO!$U$9:$U$1000, \" \")","v":" "},null,null,null,null,0,null,null,null,0,null," "," "," "]
[{"$f":"IF(COUNTRY_INFO!A135=0,\" \",COUNTRY_INFO!A135)","v":"Angola"},{"$f":"IF(COUNTRY_INFO!B135=0,\" \",COUNTRY_INFO!B135)","v":"MALANJE"},{"$f":"IF(COUNTRY_INFO!C135=0,\" \",COUNTRY_INFO!C135)","v":"QUELA"},{"$f":"IF(COUNTRY_INFO!$U$9:$U$1000=\"MDA1 (IVM+ALB)\", COUNTRY_INFO!$U$9:$U$1000, \" \")","v":" "},null,null,null,null,0,null,null,null,0,null," "," "," "]
[{"$f":"IF(COUNTRY_INFO!A136=0,\" \",COUNTRY_INFO!A136)","v":"Angola"},{"$f":"IF(COUNTRY_INFO!B136=0,\" \",COUNTRY_INFO!B136)","v":"MALANJE"},{"$f":"IF(COUNTRY_INFO!C136=0,\" \",COUNTRY_INFO!C136)","v":"QUIRIMA"},{"$f":"IF(COUNTRY_INFO!$U$9:$U$1000=\"MDA1 (IVM+ALB)\", COUNTRY_INFO!$U$9:$U$1000, \" \")","v":" "},null,null,null,null,0,null,null,null,0,null," "," "," "]
[{"$f":"IF(COUNTRY_INFO!A137=0,\" \",COUNTRY_INFO!A137)","v":"Angola"},{"$f":"IF(COUNTRY_INFO!B137=0,\" \",COUNTRY_INFO!B137)","v":"MOXICO"},{"$f":"IF(COUNTRY_INFO!C137=0,\" \",COUNTRY_INFO!C137)","v":"ALTO ZAMBEZE"},{"$f":"IF(COUNTRY_INFO!$U$9:$U$1000=\"MDA1 (IVM+ALB)\", COUNTRY_INFO!$U$9:$U$1000, \" \")","v":" "},null,null,null,null,0,null,null,null,0,null," "," "," "]
[{"$f":"IF(COUNTRY_INFO!A138=0,\" \",COUNTRY_INFO!A138)","v":"Angola"},{"$f":"IF(COUNTRY_INFO!B138=0,\" \",COUNTRY_INFO!B138)","v":"MOXICO"},{"$f":"IF(COUNTRY_INFO!C138=0,\" \",COUNTRY_INFO!C138)","v":"BUNDAS (LUMBALA NGUIMBO)"},{"$f":"IF(COUNTRY_INFO!$U$9:$U$1000=\"MDA1 (IVM+ALB)\", COUNTRY_INFO!$U$9:$U$1000, \" \")","v":" "},null,null,null,null,{"$f":"SUM(F138:H138)","v":0},null,null,null,{"$f":"SUM(J138:L138)","v":0},null,{"$f":"IF(G138<>0, IF(K138/G138*100=0, \"-\", K138/G138*100), \" \")","v":" "},{"$f":"IF(H138<>0, IF(L138/H138*100=0, \"-\", L138/H138*100), \" \")","v":" "},{"$f":"IF(I138<>0, IF(M138/I138*100=0, \"-\", M138/I138*100), \" \")","v":" "}]
[{"$f":"IF(COUNTRY_INFO!A139=0,\" \",COUNTRY_INFO!A139)","v":"Angola"},{"$f":"IF(COUNTRY_INFO!B139=0,\" \",COUNTRY_INFO!B139)","v":"MOXICO"},{"$f":"IF(COUNTRY_INFO!C139=0,\" \",COUNTRY_INFO!C139)","v":"CAMANONGUE"},{"$f":"IF(COUNTRY_INFO!$U$9:$U$1000=\"MDA1 (IVM+ALB)\", COUNTRY_INFO!$U$9:$U$1000, \" \")","v":" "},null,null,null,null,0,null,null,null,0,null," "," "," "]
[{"$f":"IF(COUNTRY_INFO!A140=0,\" \",COUNTRY_INFO!A140)","v":"Angola"},{"$f":"IF(COUNTRY_INFO!B140=0,\" \",COUNTRY_INFO!B140)","v":"MOXICO"},{"$f":"IF(COUNTRY_INFO!C140=0,\" \",COUNTRY_INFO!C140)","v":"CAMEIA (LUMEJE)"},{"$f":"IF(COUNTRY_INFO!$U$9:$U$1000=\"MDA1 (IVM+ALB)\", COUNTRY_INFO!$U$9:$U$1000, \" \")","v":" "},null,null,null,null,0,null,null,null,0,null," "," "," "]
[{"$f":"IF(COUNTRY_INFO!A141=0,\" \",COUNTRY_INFO!A141)","v":"Angola"},{"$f":"IF(COUNTRY_INFO!B141=0,\" \",COUNTRY_INFO!B141)","v":"MOXICO"},{"$f":"IF(COUNTRY_INFO!C141=0,\" \",COUNTRY_INFO!C141)","v":"LEUA"},{"$f":"IF(COUNTRY_INFO!$U$9:$U$1000=\"MDA1 (IVM+ALB)\", COUNTRY_INFO!$U$9:$U$1000, \" \")","v":" "},null,null,null,null,0,null,null,null,0,null," "," "," "]
[{"$f":"IF(COUNTRY_INFO!A142=0,\" \",COUNTRY_INFO!A142)","v":"Angola"},{"$f":"IF(COUNTRY_INFO!B142=0,\" \",COUNTRY_INFO!B142)","v":"MOXICO"},{"$f":"IF(COUNTRY_INFO!C142=0,\" \",COUNTRY_INFO!C142)","v":"LUACANO"},{"$f":"IF(COUNTRY_INFO!$U$9:$U$1000=\"MDA1 (IVM+ALB)\", COUNTRY_INFO!$U$9:$U$1000, \" \")","v":" "},null,null,null,null,0,null,null,null,0,null," "," "," "]
[{"$f":"IF(COUNTRY_INFO!A143=0,\" \",COUNTRY_INFO!A143)","v":"Angola"},{"$f":"IF(COUNTRY_INFO!B143=0,\" \",COUNTRY_INFO!B143)","v":"MOXICO"},{"$f":"IF(COUNTRY_INFO!C143=0,\" \",COUNTRY_INFO!C143)","v":"LUAU"},{"$f":"IF(COUNTRY_INFO!$U$9:$U$1000=\"MDA1 (IVM+ALB)\", COUNTRY_INFO!$U$9:$U$1000, \" \")","v":" "},null,null,null,null,0,null,null,null,0,null," "," "," "]
[{"$f":"IF(COUNTRY_INFO!A144=0,\" \",COUNTRY_INFO!A144)","v":"Angola"},{"$f":"IF(COUNTRY_INFO!B144=0,\" \",COUNTRY_INFO!B144)","v":"MOXICO"},{"$f":"IF(COUNTRY_INFO!C144=0,\" \",COUNTRY_INFO!C144)","v":"LUCHAZES"},{"$f":"IF(COUNTRY_INFO!$U$9:$U$1000=\"MDA1 (IVM+ALB)\", COUNTRY_INFO!$U$9:$U$1000, \" \")","v":" "},null,null,null,null,0,null,null,null,0,null," "," "," "]
[{"$f":"IF(COUNTRY_INFO!A145=0,\" \",COUNTRY_INFO!A145)","v":"Angola"},{"$f":"IF(COUNTRY_INFO!B145=0,\" \",COUNTRY_INFO!B145)","v":"MOXICO"},{"$f":"IF(COUNTRY_INFO!C145=0,\" \",COUNTRY_INFO!C145)","v":"MOXICO/LUENA"},{"$f":"IF(COUNTRY_INFO!$U$9:$U$1000=\"MDA1 (IVM+ALB)\", COUNTRY_INFO!$U$9:$U$1000, \" \")","v":" "},null,null,null,null,0,null,null,null,0,null," "," "," "]
[{"$f":"IF(COUNTRY_INFO!A146=0,\" \",COUNTRY_INFO!A146)","v":"Angola"},{"$f":"IF(COUNTRY_INFO!B146=0,\" \",COUNTRY_INFO!B146)","v":"NAMIBE"},{"$f":"IF(COUNTRY_INFO!C146=0,\" \",COUNTRY_INFO!C146)","v":"BIBALA"},{"$f":"IF(COUNTRY_INFO!$U$9:$U$1000=\"MDA1 (IVM+ALB)\", COUNTRY_INFO!$U$9:$U$1000, \" \")","v":" "},null,null,null,null,0,null,null,null,0,null," "," "," "]
[{"$f":"IF(COUNTRY_INFO!A147=0,\" \",COUNTRY_INFO!A147)","v":"Angola"},{"$f":"IF(COUNTRY_INFO!B147=0,\" \",COUNTRY_INFO!B147)","v":"NAMIBE"},{"$f":"IF(COUNTRY_INFO!C147=0,\" \",COUNTRY_INFO!C147)","v":"CAMUCUIO"},{"$f":"IF(COUNTRY_INFO!$U$9:$U$1000=\"MDA1 (IVM+ALB)\", COUNTRY_INFO!$U$9:$U$1000, \" \")","v":" "},null,null,null,null,0,null,null,null,0,null," "," "," "]
[{"$f":"IF(COUNTRY_INFO!A148=0,\" \",COUNTRY_INFO!A148)","v":"Angola"},{"$f":"IF(COUNTRY_INFO!B148=0,\" \",COUNTRY_INFO!B148)","v":"NAMIBE"},{"$f":"IF(COUNTRY_INFO!C148=0,\" \",COUNTRY_INFO!C148)","v":"NAMIBE"},{"$f":"IF(COUNTRY_INFO!$U$9:$U$1000=\"MDA1 (IVM+ALB)\", COUNTRY_INFO!$U$9:$U$1000, \" \")","v":" "},null,null,null,null,0,null,null,null,0,null," "," "," "]
[{"$f":"IF(COUNTRY_INFO!A149=0,\" \",COUNTRY_INFO!A149)","v":"Angola"},{"$f":"IF(COUNTRY_INFO!B149=0,\" \",COUNTRY_INFO!B149)","v":"NAMIBE"},{"$f":"IF(COUNTRY_INFO!C149=0,\" \",COUNTRY_INFO!C149)","v":"TOMBWA"},{"$f":"IF(COUNTRY_INFO!$U$9:$U$1000=\"MDA1 (IVM+ALB)\", COUNTRY_INFO!$U$9:$U$1000, \" \")","v":" "},null,null,null,null,0,null,null,null,0,null," "," "," "]
[{"$f":"IF(COUNTRY_INFO!A150=0,\" \",COUNTRY_INFO!A150)","v":"Angola"},{"$f":"IF(COUNTRY_INFO!B150=0,\" \",COUNTRY_INFO!B150)","v":"NAMIBE"},{"$f":"IF(COUNTRY_INFO!C150=0,\" \",COUNTRY_INFO!C150)","v":"VIREI"},{"$f":"IF(COUNTRY_INFO!$U$9:$U$1000=\"MDA1 (IVM+ALB)\", COUNTRY_INFO!$U$9:$U$1000, \" \")","v":" "},null,null,null,null,0,null,null,null,0,null," "," "," "]
[{"$f":"IF(COUNTRY_INFO!A151=0,\" \",COUNTRY_INFO!A151)","v":"Angola"},{"$f":"IF(COUNTRY_INFO!B151=0,\" \",COUNTRY_INFO!B151)","v":"UIGE"},{"$f":"IF(COUNTRY_INFO!C151=0,\" \",COUNTRY_INFO!C151)","v":"AMBUILA"},{"$f":"IF(COUNTRY_INFO!$U$9:$U$1000=\"MDA1 (IVM+ALB)\", COUNTRY_INFO!$U$9:$U$1000, \" \")","v":" "},null,null,null,null,0,null,null,null,0,null," "," "," "]
[{"$f":"IF(COUNTRY_INFO!A152=0,\" \",COUNTRY_INFO!A152)","v":"Angola"},{"$f":"IF(COUNTRY_INFO!B152=0,\" \",COUNTRY_INFO!B152)","v":"UIGE"},{"$f":"IF(COUNTRY_INFO!C152=0,\" \",COUNTRY_INFO!C152)","v":"BEMBE"},{"$f":"IF(COUNTRY_INFO!$U$9:$U$1000=\"MDA1 (IVM+ALB)\", COUNTRY_INFO!$U$9:$U$1000, \" \")","v":" "},null,null,null,null,0,null,null,null,0,null," "," "," "]
[{"$f":"IF(COUNTRY_INFO!A153=0,\" \",COUNTRY_INFO!A153)","v":"Angola"},{"$f":"IF(COUNTRY_INFO!B153=0,\" \",COUNTRY_INFO!B153)","v":"UIGE"},{"$f":"IF(COUNTRY_INFO!C153=0,\" \",COUNTRY_INFO!C153)","v":"BUENGAS"},{"$f":"IF(COUNTRY_INFO!$U$9:$U$1000=\"MDA1 (IVM+ALB)\", COUNTRY_INFO!$U$9:$U$1000, \" \")","v":" "},null,null,null,null,0,null,null,null,0,null," "," "," "]
[{"$f":"IF(COUNTRY_INFO!A154=0,\" \",COUNTRY_INFO!A154)","v":"Angola"},{"$f":"IF(COUNTRY_INFO!B154=0,\" \",COUNTRY_INFO!B154)","v":"UIGE"},{"$f":"IF(COUNTRY_INFO!C154=0,\" \",COUNTRY_INFO!C154)","v":"BUNGO"},{"$f":"IF(COUNTRY_INFO!$U$9:$U$1000=\"MDA1 (IVM+ALB)\", COUNTRY_INFO!$U$9:$U$1000, \" \")","v":" "},null,null,null,null,0,null,null,null,0,null," "," "," "]
[{"$f":"IF(COUNTRY_INFO!A155=0,\" \",COUNTRY_INFO!A155)","v":"Angola"},{"$f":"IF(COUNTRY_INFO!B155=0,\" \",COUNTRY_INFO!B155)","v":"UIGE"},{"$f":"IF(COUNTRY_INFO!C155=0,\" \",COUNTRY_INFO!C155)","v":"CANGOLA"},{"$f":"IF(COUNTRY_INFO!$U$9:$U$1000=\"MDA1 (IVM+ALB)\", COUNTRY_INFO!$U$9:$U$1000, \" \")","v":" "},null,null,null,null,0,null,null,null,0,null," "," "," "]
[{"$f":"IF(COUNTRY_INFO!A156=0,\" \",COUNTRY_INFO!A156)","v":"Angola"},{"$f":"IF(COUNTRY_INFO!B156=0,\" \",COUNTRY_INFO!B156)","v":"UIGE"},{"$f":"IF(COUNTRY_INFO!C156=0,\" \",COUNTRY_INFO!C156)","v":"DAMBA"},{"$f":"IF(COUNTRY_INFO!$U$9:$U$1000=\"MDA1 (IVM+ALB)\", COUNTRY_INFO!$U$9:$U$1000, \" \")","v":" "},null,null,null,null,0,null,null,null,0,null," "," "," "]
[{"$f":"IF(COUNTRY_INFO!A157=0,\" \",COUNTRY_INFO!A157)","v":"Angola"},{"$f":"IF(COUNTRY_INFO!B157=0,\" \",COUNTRY_INFO!B157)","v":"UIGE"},{"$f":"IF(COUNTRY_INFO!C157=0,\" \",COUNTRY_INFO!C157)","v":"MAQUELA DO ZOMBO"},{"$f":"IF(COUNTRY_INFO!$U$9:$U$1000=\"MDA1 (IVM+ALB)\", COUNTRY_INFO!$U$9:$U$1000, \" \")","v":" "},null,null,null,null,0,null,null,null,0,null," "," "," "]
[{"$f":"IF(COUNTRY_INFO!A158=0,\" \",COUNTRY_INFO!A158)","v":"Angola"},{"$f":"IF(COUNTRY_INFO!B158=0,\" \",COUNTRY_INFO!B158)","v":"UIGE"},{"$f":"IF(COUNTRY_INFO!C158=0,\" \",COUNTRY_INFO!C158)","v":"MILUNGA"},{"$f":"IF(COUNTRY_INFO!$U$9:$U$1000=\"MDA1 (IVM+ALB)\", COUNTRY_INFO!$U$9:$U$1000, \" \")","v":" "},null,null,null,null,0,null,null,null,0,null," "," "," "]
[{"$f":"IF(COUNTRY_INFO!A159=0,\" \",COUNTRY_INFO!A159)","v":"Angola"},{"$f":"IF(COUNTRY_INFO!B159=0,\" \",COUNTRY_INFO!B159)","v":"UIGE"},{"$f":"IF(COUNTRY_INFO!C159=0,\" \",COUNTRY_INFO!C159)","v":"MUCABA"},{"$f":"IF(COUNTRY_INFO!$U$9:$U$1000=\"MDA1 (IVM+ALB)\", COUNTRY_INFO!$U$9:$U$1000, \" \")","v":" "},null,null,null,null,0,null,null,null,0,null," "," "," "]
[{"$f":"IF(COUNTRY_INFO!A160=0,\" \",COUNTRY_INFO!A160)","v":"Angola"},{"$f":"IF(COUNTRY_INFO!B160=0,\" \",COUNTRY_INFO!B160)","v":"UIGE"},{"$f":"IF(COUNTRY_INFO!C160=0,\" \",COUNTRY_INFO!C160)","v":"NEGAGE"},{"$f":"IF(COUNTRY_INFO!$U$9:$U$1000=\"MDA1 (IVM+ALB)\", COUNTRY_INFO!$U$9:$U$1000, \" \")","v":" "},null,null,null,null,0,null,null,null,0,null," "," "," "]
[{"$f":"IF(COUNTRY_INFO!A161=0,\" \",COUNTRY_INFO!A161)","v":"Angola"},{"$f":"IF(COUNTRY_INFO!B161=0,\" \",COUNTRY_INFO!B161)","v":"UIGE"},{"$f":"IF(COUNTRY_INFO!C161=0,\" \",COUNTRY_INFO!C161)","v":"PURI"},{"$f":"IF(COUNTRY_INFO!$U$9:$U$1000=\"MDA1 (IVM+ALB)\", COUNTRY_INFO!$U$9:$U$1000, \" \")","v":" "},null,null,null,null,0,null,null,null,0,null," "," "," "]
[{"$f":"IF(COUNTRY_INFO!A162=0,\" \",COUNTRY_INFO!A162)","v":"Angola"},{"$f":"IF(COUNTRY_INFO!B162=0,\" \",COUNTRY_INFO!B162)","v":"UIGE"},{"$f":"IF(COUNTRY_INFO!C162=0,\" \",COUNTRY_INFO!C162)","v":"QUIMBELE"},{"$f":"IF(COUNTRY_INFO!$U$9:$U$1000=\"MDA1 (IVM+ALB)\", COUNTRY_INFO!$U$9:$U$1000, \" \")","v":" "},null,null,null,null,0,null,null,null,0,null," "," "," "]
[{"$f":"IF(COUNTRY_INFO!A163=0,\" \",COUNTRY_INFO!A163)","v":"Angola"},{"$f":"IF(COUNTRY_INFO!B163=0,\" \",COUNTRY_INFO!B163)","v":"UIGE"},{"$f":"IF(COUNTRY_INFO!C163=0,\" \",COUNTRY_INFO!C163)","v":"QUITEXE"},{"$f":"IF(COUNTRY_INFO!$U$9:$U$1000=\"MDA1 (IVM+ALB)\", COUNTRY_INFO!$U$9:$U$1000, \" \")","v":" "},null,null,null,null,0,null,null,null,0,null," "," "," "]
[{"$f":"IF(COUNTRY_INFO!A164=0,\" \",COUNTRY_INFO!A164)","v":"Angola"},{"$f":"IF(COUNTRY_INFO!B164=0,\" \",COUNTRY_INFO!B164)","v":"UIGE"},{"$f":"IF(COUNTRY_INFO!C164=0,\" \",COUNTRY_INFO!C164)","v":"SANZA POMBO"},{"$f":"IF(COUNTRY_INFO!$U$9:$U$1000=\"MDA1 (IVM+ALB)\", COUNTRY_INFO!$U$9:$U$1000, \" \")","v":" "},null,null,null,null,0,null,null,null,0,null," "," "," "]
[{"$f":"IF(COUNTRY_INFO!A165=0,\" \",COUNTRY_INFO!A165)","v":"Angola"},{"$f":"IF(COUNTRY_INFO!B165=0,\" \",COUNTRY_INFO!B165)","v":"UIGE"},{"$f":"IF(COUNTRY_INFO!C165=0,\" \",COUNTRY_INFO!C165)","v":"SONGO"},{"$f":"IF(COUNTRY_INFO!$U$9:$U$1000=\"MDA1 (IVM+ALB)\", COUNTRY_INFO!$U$9:$U$1000, \" \")","v":" "},null,null,null,null,0,null,null,null,0,null," "," "," "]
[{"$f":"IF(COUNTRY_INFO!A166=0,\" \",COUNTRY_INFO!A166)","v":"Angola"},{"$f":"IF(COUNTRY_INFO!B166=0,\" \",COUNTRY_INFO!B166)","v":"UIGE"},{"$f":"IF(COUNTRY_INFO!C166=0,\" \",COUNTRY_INFO!C166)","v":"UIGE"},{"$f":"IF(COUNTRY_INFO!$U$9:$U$1000=\"MDA1 (IVM+ALB)\", COUNTRY_INFO!$U$9:$U$1000, \" \")","v":" "},null,null,null,null,0,null,null,null,0,null," "," "," "]
[{"$f":"IF(COUNTRY_INFO!A167=0,\" \",COUNTRY_INFO!A167)","v":"Angola"},{"$f":"IF(COUNTRY_INFO!B167=0,\" \",COUNTRY_INFO!B167)","v":"ZAIRE"},{"$f":"IF(COUNTRY_INFO!C167=0,\" \",COUNTRY_INFO!C167)","v":"CUIMBA"},{"$f":"IF(COUNTRY_INFO!$U$9:$U$1000=\"MDA1 (IVM+ALB)\", COUNTRY_INFO!$U$9:$U$1000, \" \")","v":" "},null,null,null,null,0,null,null,null,0,null," "," "," "]
[{"$f":"IF(COUNTRY_INFO!A168=0,\" \",COUNTRY_INFO!A168)","v":"Angola"},{"$f":"IF(COUNTRY_INFO!B168=0,\" \",COUNTRY_INFO!B168)","v":"ZAIRE"},{"$f":"IF(COUNTRY_INFO!C168=0,\" \",COUNTRY_INFO!C168)","v":"MBANZA KONGO"},{"$f":"IF(COUNTRY_INFO!$U$9:$U$1000=\"MDA1 (IVM+ALB)\", COUNTRY_INFO!$U$9:$U$1000, \" \")","v":" "},null,null,null,null,0,null,null,null,0,null," "," "," "]
[{"$f":"IF(COUNTRY_INFO!A169=0,\" \",COUNTRY_INFO!A169)","v":"Angola"},{"$f":"IF(COUNTRY_INFO!B169=0,\" \",COUNTRY_INFO!B169)","v":"ZAIRE"},{"$f":"IF(COUNTRY_INFO!C169=0,\" \",COUNTRY_INFO!C169)","v":"NOQUI"},{"$f":"IF(COUNTRY_INFO!$U$9:$U$1000=\"MDA1 (IVM+ALB)\", COUNTRY_INFO!$U$9:$U$1000, \" \")","v":" "},null,null,null,null,0,null,null,null,0,null," "," "," "]
[{"$f":"IF(COUNTRY_INFO!A170=0,\" \",COUNTRY_INFO!A170)","v":"Angola"},{"$f":"IF(COUNTRY_INFO!B170=0,\" \",COUNTRY_INFO!B170)","v":"ZAIRE"},{"$f":"IF(COUNTRY_INFO!C170=0,\" \",COUNTRY_INFO!C170)","v":"NZETO"},{"$f":"IF(COUNTRY_INFO!$U$9:$U$1000=\"MDA1 (IVM+ALB)\", COUNTRY_INFO!$U$9:$U$1000, \" \")","v":" "},null,null,null,null,0,null,null,null,0,null," "," "," "]
[{"$f":"IF(COUNTRY_INFO!A171=0,\" \",COUNTRY_INFO!A171)","v":"Angola"},{"$f":"IF(COUNTRY_INFO!B171=0,\" \",COUNTRY_INFO!B171)","v":"ZAIRE"},{"$f":"IF(COUNTRY_INFO!C171=0,\" \",COUNTRY_INFO!C171)","v":"SOYO"},{"$f":"IF(COUNTRY_INFO!$U$9:$U$1000=\"MDA1 (IVM+ALB)\", COUNTRY_INFO!$U$9:$U$1000, \" \")","v":" "},null,null,null,null,0,null,null,null,0,null," "," "," "]
[{"$f":"IF(COUNTRY_INFO!A172=0,\" \",COUNTRY_INFO!A172)","v":"Angola"},{"$f":"IF(COUNTRY_INFO!B172=0,\" \",COUNTRY_INFO!B172)","v":"ZAIRE"},{"$f":"IF(COUNTRY_INFO!C172=0,\" \",COUNTRY_INFO!C172)","v":"TOMBOCO"},{"$f":"IF(COUNTRY_INFO!$U$9:$U$1000=\"MDA1 (IVM+ALB)\", COUNTRY_INFO!$U$9:$U$1000, \" \")","v":" "},null,null,null,null,0,null,null,null,0,null," "," "," "]

{"sheet":"MDA4","index":3,"n_rows":172,"n_cols":25,"rows_kept":172,"cut":false,"hidden":false,"merged":[[5,5,5,8],[5,17,5,20],[5,21,5,24],[3,0,3,2],[5,0,5,2],[5,3,6,3],[5,4,6,4],[5,13,5,16],[5,9,5,12]]}
["MDA 4 - Albendazole (ALB) or 2 x Albendazole (ALB)"]
["Administrative structure, population requiring PC by age group, population treated by age group and coverage"]
[]
["TOTAL",null,null,null,null,{"$f":"SUM(F$9:F$1000)","v":0},{"$f":"SUM(G$9:G$1000)","v":0},0,0,0,0,0,0,0,0,0,0,0,0,0,0,{"$f":"IF(F4<>0, IF(R4/F4*100=0, \"-\", R4/F4*100), \" \")","v":" "},{"$f":"IF(G4<>0, IF(S4/G4*100=0, \"-\", S4/G4*100), \" \")","v":" "},{"$f":"IF(H4<>0, IF(T4/H4*100=0, \"-\", T4/H4*100), \" \")","v":" "},{"$f":"IF(I4<>0, IF(U4/I4*100=0, \"-\", U4/I4*100), \" \")","v":" "}]
[]
[null,null,null,"PC implemented","Date","Population targeted for MDA 4",null,null,null,"Population treated - 1st round",null,null,null,"Population treated - 2nd round",null,null,null,"Population treated",null,null,null,"Programme coverage (%)"]
["Country","Province/State","District",null,null,"PreSAC","SAC","Adults","Total","PreSAC","SAC","Adults","Total","PreSAC","SAC","Adults","Total","PreSAC","SAC","Adults","Total","PreSAC","SAC","Adults","Total"]
[]
[{"$f":"IF(COUNTRY_INFO!A9=0,\" \",COUNTRY_INFO!A9)","v":"Angola"},{"$f":"IF(COUNTRY_INFO!B9=0,\" \",COUNTRY_INFO!B9)","v":"BENGO"},{"$f":"IF(COUNTRY_INFO!C9=0,\" \",COUNTRY_INFO!C9)","v":"AMBRIZ"},{"$f":"IF(COUNTRY_INFO!$U$9:$U$1000=\"MDA4 (ALB/2*ALB)\", COUNTRY_INFO!$U$9:$U$1000, \" \")","v":" "},null,null,null,null,{"$f":"SUM(F9:H9)","v":0},null,null,null,{"$f":"SUM(J9:L9)","v":0},null,null,null,{"$f":"SUM(N9:P9)","v":0},{"$f":"MAX(J9,N9)","v":0},{"$f":"MAX(K9,O9)","v":0},{"$f":"MAX(L9,P9)","v":0},{"$f":"SUM(R9:T9)","v":0},{"$f":"IF(F9<>0, IF(R9/F9*100=0, \"-\", R9/F9*100), \" \")","v":" "},{"$f":"IF(G9<>0, IF(S9/G9*100=0, \"-\", S9/G9*100), \" \")","v":" "},{"$f":"IF(H9<>0, IF(T9/H9*100=0, \"-\", T9/H9*100), \" \")","v":" "},{"$f":"IF(I9<>0, IF(U9/I9*100=0, \"-\", U9/I9*100), \" \")","v":" "}]
[{"$f":"IF(COUNTRY_INFO!A10=0,\" \",COUNTRY_INFO!A10)","v":"Angola"},{"$f":"IF(COUNTRY_INFO!B10=0,\" \",COUNTRY_INFO!B10)","v":"BENGO"},{"$f":"IF(COUNTRY_INFO!C10=0,\" \",COUNTRY_INFO!C10)","v":"BULA ATUMBA"},{"$f":"IF(COUNTRY_INFO!$U$9:$U$1000=\"MDA4 (ALB/2*ALB)\", COUNTRY_INFO!$U$9:$U$1000, \" \")","v":" "},null,null,null,null,{"$f":"SUM(F10:H10)","v":0},null,null,null,{"$f":"SUM(J10:L10)","v":0},null,null,null,{"$f":"SUM(N10:P10)","v":0},{"$f":"MAX(J10,N10)","v":0},{"$f":"MAX(K10,O10)","v":0},{"$f":"MAX(L10,P10)","v":0},{"$f":"SUM(R10:T10)","v":0},{"$f":"IF(F10<>0, IF(R10/F10*100=0, \"-\", R10/F10*100), \" \")","v":" "},{"$f":"IF(G10<>0, IF(S10/G10*100=0, \"-\", S10/G10*100), \" \")","v":" "},{"$f":"IF(H10<>0, IF(T10/H10*100=0, \"-\", T10/H10*100), \" \")","v":" "},{"$f":"IF(I10<>0, IF(U10/I10*100=0, \"-\", U10/I10*100), \" \")","v":" "}]
[{"$f":"IF(COUNTRY_INFO!A11=0,\" \",COUNTRY_INFO!A11)","v":"Angola"},{"$f":"IF(COUNTRY_INFO!B11=0,\" \",COUNTRY_INFO!B11)","v":"BENGO"},{"$f":"IF(COUNTRY_INFO!C11=0,\" \",COUNTRY_INFO!C11)","v":"DANDE"},{"$f":"IF(COUNTRY_INFO!$U$9:$U$1000=\"MDA4 (ALB/2*ALB)\", COUNTRY_INFO!$U$9:$U$1000, \" \")","v":" "},null,null,null,null,0,null,null,null,0,null,null,null,0,0,0,0,0," "," "," "," "]
[{"$f":"IF(COUNTRY_INFO!A12=0,\" \",COUNTRY_INFO!A12)","v":"Angola"},{"$f":"IF(COUNTRY_INFO!B12=0,\" \",COUNTRY_INFO!B12)","v":"BENGO"},{"$f":"IF(COUNTRY_INFO!C12=0,\" \",COUNTRY_INFO!C12)","v":"DEMBOS"},{"$f":"IF(COUNTRY_INFO!$U$9:$U$1000=\"MDA4 (ALB/2*ALB)\", COUNTRY_INFO!$U$9:$U$1000, \" \")","v":" "},null,null,null,null,0,null,null,null,0,null,null,null,0,0,0,0,0," "," "," "," "]
[{"$f":"IF(COUNTRY_INFO!A13=0,\" \",COUNTRY_INFO!A13)","v":"Angola"},{"$f":"IF(COUNTRY_INFO!B13=0,\" \",COUNTRY_INFO!B13)","v":"BENGO"},{"$f":"IF(COUNTRY_INFO!C13=0,\" \",COUNTRY_INFO!C13)","v":"NAMBUANGONGO"},{"$f":"IF(COUNTRY_INFO!$U$9:$U$1000=\"MDA4 (ALB/2*ALB)\", COUNTRY_INFO!$U$9:$U$1000, \" \")","v":" "},null,null,null,null,0,null,null,null,0,null,null,null,0,0,0,0,0," "," "," "," "]
[{"$f":"IF(COUNTRY_INFO!A14=0,\" \",COUNTRY_INFO!A14)","v":"Angola"},{"$f":"IF(COUNTRY_INFO!B14=0,\" \",COUNTRY_INFO!B14)","v":"BENGO"},{"$f":"IF(COUNTRY_INFO!C14=0,\" \",COUNTRY_INFO!C14)","v":"PANGO ALUQUEM"},{"$f":"IF(COUNTRY_INFO!$U$9:$U$1000=\"MDA4 (ALB/2*ALB)\", COUNTRY_INFO!$U$9:$U$1000, \" \")","v":" "},null,null,null,null,0,null,null,null,0,null,null,null,0,0,0,0,0," "," "," "," "]
[{"$f":"IF(COUNTRY_INFO!A15=0,\" \",COUNTRY_INFO!A15)","v":"Angola"},{"$f":"IF(COUNTRY_INFO!B15=0,\" \",COUNTRY_INFO!B15)","v":"BENGUELA"},{"$f":"IF(COUNTRY_INFO!C15=0,\" \",COUNTRY_INFO!C15)","v":"BAIA FARTA"},{"$f":"IF(COUNTRY_INFO!$U$9:$U$1000=\"MDA4 (ALB/2*ALB)\", COUNTRY_INFO!$U$9:$U$1000, \" \")","v":" "},null,null,null,null,0,null,null,null,0,null,null,null,0,0,0,0,0," "," "," "," "]
[{"$f":"IF(COUNTRY_INFO!A16=0,\" \",COUNTRY_INFO!A16)","v":"Angola"},{"$f":"IF(COUNTRY_INFO!B16=0,\" \",COUNTRY_INFO!B16)","v":"BENGUELA"},{"$f":"IF(COUNTRY_INFO!C16=0,\" \",COUNTRY_INFO!C16)","v":"BALOMBO"},{"$f":"IF(COUNTRY_INFO!$U$9:$U$1000=\"MDA4 (ALB/2*ALB)\", COUNTRY_INFO!$U$9:$U$1000, \" \")","v":" "},null,null,null,null,0,null,null,null,0,null,null,null,0,0,0,0,0," "," "," "," "]
[{"$f":"IF(COUNTRY_INFO!A17=0,\" \",COUNTRY_INFO!A17)","v":"Angola"},{"$f":"IF(COUNTRY_INFO!B17=0,\" \",COUNTRY_INFO!B17)","v":"BENGUELA"},{"$f":"IF(COUNTRY_INFO!C17=0,\" \",COUNTRY_INFO!C17)","v":"BENGUELA"},{"$f":"IF(COUNTRY_INFO!$U$9:$U$1000=\"MDA4 (ALB/2*ALB)\", COUNTRY_INFO!$U$9:$U$1000, \" \")","v":" "},null,null,null,null,0,null,null,null,0,null,null,null,0,0,0,0,0," "," "," "," "]
[{"$f":"IF(COUNTRY_INFO!A18=0,\" \",COUNTRY_INFO!A18)","v":"Angola"},{"$f":"IF(COUNTRY_INFO!B18=0,\" \",COUNTRY_INFO!B18)","v":"BENGUELA"},{"$f":"IF(COUNTRY_INFO!C18=0,\" \",COUNTRY_INFO!C18)","v":"BOCOIO"},{"$f":"IF(COUNTRY_INFO!$U$9:$U$1000=\"MDA4 (ALB/2*ALB)\", COUNTRY_INFO!$U$9:$U$1000, \" \")","v":" "},null,null,null,null,0,null,null,null,0,null,null,null,0,0,0,0,0," "," "," "," "]
[{"$f":"IF(COUNTRY_INFO!A19=0,\" \",COUNTRY_INFO!A19)","v":"Angola"},{"$f":"IF(COUNTRY_INFO!B19=0,\" \",COUNTRY_INFO!B19)","v":"BENGUELA"},{"$f":"IF(COUNTRY_INFO!C19=0,\" \",COUNTRY_INFO!C19)","v":"CAIMBAMBO"},{"$f":"IF(COUNTRY_INFO!$U$9:$U$1000=\"MDA4 (ALB/2*ALB)\", COUNTRY_INFO!$U$9:$U$1000, \" \")","v":" "},null,null,null,null,0,null,null,null,0,null,null,null,0,0,0,0,0," "," "," "," "]
[{"$f":"IF(COUNTRY_INFO!A20=0,\" \",COUNTRY_INFO!A20)","v":"Angola"},{"$f":"IF(COUNTRY_INFO!B20=0,\" \",COUNTRY_INFO!B20)","v":"BENGUELA"},{"$f":"IF(COUNTRY_INFO!C20=0,\" \",COUNTRY_INFO!C20)","v":"CATUMBELA"},{"$f":"IF(COUNTRY_INFO!$U$9:$U$1000=\"MDA4 (ALB/2*ALB)\", COUNTRY_INFO!$U$9:$U$1000, \" \")","v":" "},null,null,null,null,0,null,null,null,0,null,null,null,0,0,0,0,0," "," "," "," "]
[{"$f":"IF(COUNTRY_INFO!A21=0,\" \",COUNTRY_INFO!A21)","v":"Angola"},{"$f":"IF(COUNTRY_INFO!B21=0,\" \",COUNTRY_INFO!B21)","v":"BENGUELA"},{"$f":"IF(COUNTRY_INFO!C21=0,\" \",COUNTRY_INFO!C21)","v":"CHONGOROI"},{"$f":"IF(COUNTRY_INFO!$U$9:$U$1000=\"MDA4 (ALB/2*ALB)\", COUNTRY_INFO!$U$9:$U$1000, \" \")","v":" "},null,null,null,null,0,null,null,null,0,null,null,null,0,0,0,0,0," "," "," "," "]
[{"$f":"IF(COUNTRY_INFO!A22=0,\" \",COUNTRY_INFO!A22)","v":"Angola"},{"$f":"IF(COUNTRY_INFO!B22=0,\" \",COUNTRY_INFO!B22)","v":"BENGUELA"},{"$f":"IF(COUNTRY_INFO!C22=0,\" \",COUNTRY_INFO!C22)","v":"CUBAL"},{"$f":"IF(COUNTRY_INFO!$U$9:$U$1000=\"MDA4 (ALB/2*ALB)\", COUNTRY_INFO!$U$9:$U$1000, \" \")","v":" "},null,null,null,null,0,null,null,null,0,null,null,null,0,0,0,0,0," "," "," "," "]
[{"$f":"IF(COUNTRY_INFO!A23=0,\" \",COUNTRY_INFO!A23)","v":"Angola"},{"$f":"IF(COUNTRY_INFO!B23=0,\" \",COUNTRY_INFO!B23)","v":"BENGUELA"},{"$f":"IF(COUNTRY_INFO!C23=0,\" \",COUNTRY_INFO!C23)","v":"GANDA"},{"$f":"IF(COUNTRY_INFO!$U$9:$U$1000=\"MDA4 (ALB/2*ALB)\", COUNTRY_INFO!$U$9:$U$1000, \" \")","v":" "},null,null,null,null,0,null,null,null,0,null,null,null,0,0,0,0,0," "," "," "," "]
[{"$f":"IF(COUNTRY_INFO!A24=0,\" \",COUNTRY_INFO!A24)","v":"Angola"},{"$f":"IF(COUNTRY_INFO!B24=0,\" \",COUNTRY_INFO!B24)","v":"BENGUELA"},{"$f":"IF(COUNTRY_INFO!C24=0,\" \",COUNTRY_INFO!C24)","v":"LOBITO"},{"$f":"IF(COUNTRY_INFO!$U$9:$U$1000=\"MDA4 (ALB/2*ALB)\", COUNTRY_INFO!$U$9:$U$1000, \" \")","v":" "},null,null,null,null,0,null,null,null,0,null,null,null,0,0,0,0,0," "," "," "," "]
[{"$f":"IF(COUNTRY_INFO!A25=0,\" \",COUNTRY_INFO!A25)","v":"Angola"},{"$f":"IF(COUNTRY_INFO!B25=0,\" \",COUNTRY_INFO!B25)","v":"BIE"},{"$f":"IF(COUNTRY_INFO!C25=0,\" \",COUNTRY_INFO!C25)","v":"ANDULO"},{"$f":"IF(COUNTRY_INFO!$U$9:$U$1000=\"MDA4 (ALB/2*ALB)\", COUNTRY_INFO!$U$9:$U$1000, \" \")","v":" "},null,null,null,null,0,null,null,null,0,null,null,null,0,0,0,0,0," "," "," "," "]
[{"$f":"IF(COUNTRY_INFO!A26=0,\" \",COUNTRY_INFO!A26)","v":"Angola"},{"$f":"IF(COUNTRY_INFO!B26=0,\" \",COUNTRY_INFO!B26)","v":"BIE"},{"$f":"IF(COUNTRY_INFO!C26=0,\" \",COUNTRY_INFO!C26)","v":"CAMACUPA"},{"$f":"IF(COUNTRY_INFO!$U$9:$U$1000=\"MDA4 (ALB/2*ALB)\", COUNTRY_INFO!$U$9:$U$1000, \" \")","v":" "},null,null,null,null,0,null,null,null,0,null,null,null,0,0,0,0,0," "," "," "," "]
[{"$f":"IF(COUNTRY_INFO!A27=0,\" \",COUNTRY_INFO!A27)","v":"Angola"},{"$f":"IF(COUNTRY_INFO!B27=0,\" \",COUNTRY_INFO!B27)","v":"BIE"},{"$f":"IF(COUNTRY_INFO!C27=0,\" \",COUNTRY_INFO!C27)","v":"CATABOLA"},{"$f":"IF(COUNTRY_INFO!$U$9:$U$1000=\"MDA4 (ALB/2*ALB)\", COUNTRY_INFO!$U$9:$U$1000, \" \")","v":" "},null,null,null,null,0,null,null,null,0,null,null,null,0,0,0,0,0," "," "," "," "]
[{"$f":"IF(COUNTRY_INFO!A28=0,\" \",COUNTRY_INFO!A28)","v":"Angola"},{"$f":"IF(COUNTRY_INFO!B28=0,\" \",COUNTRY_INFO!B28)","v":"BIE"},{"$f":"IF(COUNTRY_INFO!C28=0,\" \",COUNTRY_INFO!C28)","v":"CHINGUAR"},{"$f":"IF(COUNTRY_INFO!$U$9:$U$1000=\"MDA4 (ALB/2*ALB)\", COUNTRY_INFO!$U$9:$U$1000, \" \")","v":" "},null,null,null,null,0,null,null,null,0,null,null,null,0,0,0,0,0," "," "," "," "]
[{"$f":"IF(COUNTRY_INFO!A29=0,\" \",COUNTRY_INFO!A29)","v":"Angola"},{"$f":"IF(COUNTRY_INFO!B29=0,\" \",COUNTRY_INFO!B29)","v":"BIE"},{"$f":"IF(COUNTRY_INFO!C29=0,\" \",COUNTRY_INFO!C29)","v":"CHITEMBO"},{"$f":"IF(COUNTRY_INFO!$U$9:$U$1000=\"MDA4 (ALB/2*ALB)\", COUNTRY_INFO!$U$9:$U$1000, \" \")","v":" "},null,null,null,null,0,null,null,null,0,null,null,null,0,0,0,0,0," "," "," "," "]
[{"$f":"IF(COUNTRY_INFO!A30=0,\" \",COUNTRY_INFO!A30)","v":"Angola"},{"$f":"IF(COUNTRY_INFO!B30=0,\" \",COUNTRY_INFO!B30)","v":"BIE"},{"$f":"IF(COUNTRY_INFO!C30=0,\" \",COUNTRY_INFO!C30)","v":"CUEMBA"},{"$f":"IF(COUNTRY_INFO!$U$9:$U$1000=\"MDA4 (ALB/2*ALB)\", COUNTRY_INFO!$U$9:$U$1000, \" \")","v":" "},null,null,null,null,0,null,null,null,0,null,null,null,0,0,0,0,0," "," "," "," "]
[{"$f":"IF(COUNTRY_INFO!A31=0,\" \",COUNTRY_INFO!A31)","v":"Angola"},{"$f":"IF(COUNTRY_INFO!B31=0,\" \",COUNTRY_INFO!B31)","v":"BIE"},{"$f":"IF(COUNTRY_INFO!C31=0,\" \",COUNTRY_INFO!C31)","v":"CUITO"},{"$f":"IF(COUNTRY_INFO!$U$9:$U$1000=\"MDA4 (ALB/2*ALB)\", COUNTRY_INFO!$U$9:$U$1000, \" \")","v":" "},null,null,null,null,0,null,null,null,0,null,null,null,0,0,0,0,0," "," "," "," "]
[{"$f":"IF(COUNTRY_INFO!A32=0,\" \",COUNTRY_INFO!A32)","v":"Angola"},{"$f":"IF(COUNTRY_INFO!B32=0,\" \",COUNTRY_INFO!B32)","v":"BIE"},{"$f":"IF(COUNTRY_INFO!C32=0,\" \",COUNTRY_INFO!C32)","v":"CUNHINGA"},{"$f":"IF(COUNTRY_INFO!$U$9:$U$1000=\"MDA4 (ALB/2*ALB)\", COUNTRY_INFO!$U$9:$U$1000, \" \")","v":" "},null,null,null,null,0,null,null,null,0,null,null,null,0,0,0,0,0," "," "," "," "]
[{"$f":"IF(COUNTRY_INFO!A33=0,\" \",COUNTRY_INFO!A33)","v":"Angola"},{"$f":"IF(COUNTRY_INFO!B33=0,\" \",COUNTRY_INFO!B33)","v":"BIE"},{"$f":"IF(COUNTRY_INFO!C33=0,\" \",COUNTRY_INFO!C33)","v":"NHAREA"},{"$f":"IF(COUNTRY_INFO!$U$9:$U$1000=\"MDA4 (ALB/2*ALB)\", COUNTRY_INFO!$U$9:$U$1000, \" \")","v":" "},null,null,null,null,0,null,null,null,0,null,null,null,0,0,0,0,0," "," "," "," "]
[{"$f":"IF(COUNTRY_INFO!A34=0,\" \",COUNTRY_INFO!A34)","v":"Angola"},{"$f":"IF(COUNTRY_INFO!B34=0,\" \",COUNTRY_INFO!B34)","v":"CABINDA"},{"$f":"IF(COUNTRY_INFO!C34=0,\" \",COUNTRY_INFO!C34)","v":"BELIZE"},{"$f":"IF(COUNTRY_INFO!$U$9:$U$1000=\"MDA4 (ALB/2*ALB)\", COUNTRY_INFO!$U$9:$U$1000, \" \")","v":" "},null,null,null,null,0,null,null,null,0,null,null,null,0,0,0,0,0," "," "," "," "]
[{"$f":"IF(COUNTRY_INFO!A35=0,\" \",COUNTRY_INFO!A35)","v":"Angola"},{"$f":"IF(COUNTRY_INFO!B35=0,\" \",COUNTRY_INFO!B35)","v":"CABINDA"},{"$f":"IF(COUNTRY_INFO!C35=0,\" \",COUNTRY_INFO!C35)","v":"BUCO ZAU"},{"$f":"IF(COUNTRY_INFO!$U$9:$U$1000=\"MDA4 (ALB/2*ALB)\", COUNTRY_INFO!$U$9:$U$1000, \" \")","v":" "},null,null,null,null,0,null,null,null,0,null,null,null,0,0,0,0,0," "," "," "," "]
[{"$f":"IF(COUNTRY_INFO!A36=0,\" \",COUNTRY_INFO!A36)","v":"Angola"},{"$f":"IF(COUNTRY_INFO!B36=0,\" \",COUNTRY_INFO!B36)","v":"CABINDA"},{"$f":"IF(COUNTRY_INFO!C36=0,\" \",COUNTRY_INFO!C36)","v":"CABINDA"},{"$f":"IF(COUNTRY_INFO!$U$9:$U$1000=\"MDA4 (ALB/2*ALB)\", COUNTRY_INFO!$U$9:$U$1000, \" \")","v":" "},null,null,null,null,0,null,null,null,0,null,null,null,0,0,0,0,0," "," "," "," "]
[{"$f":"IF(COUNTRY_INFO!A37=0,\" \",COUNTRY_INFO!A37)","v":"Angola"},{"$f":"IF(COUNTRY_INFO!B37=0,\" \",COUNTRY_INFO!B37)","v":"CABINDA"},{"$f":"IF(COUNTRY_INFO!C37=0,\" \",COUNTRY_INFO!C37)","v":"CACONGO"},{"$f":"IF(COUNTRY_INFO!$U$9:$U$1000=\"MDA4 (ALB/2*ALB)\", COUNTRY_INFO!$U$9:$U$1000, \" \")","v":" "},null,null,null,null,0,null,null,null,0,null,null,null,0,0,0,0,0," "," "," "," "]
[{"$f":"IF(COUNTRY_INFO!A38=0,\" \",COUNTRY_INFO!A38)","v":"Angola"},{"$f":"IF(COUNTRY_INFO!B38=0,\" \",COUNTRY_INFO!B38)","v":"CUANDO CUBANGO"},{"$f":"IF(COUNTRY_INFO!C38=0,\" \",COUNTRY_INFO!C38)","v":"CALAI"},{"$f":"IF(COUNTRY_INFO!$U$9:$U$1000=\"MDA4 (ALB/2*ALB)\", COUNTRY_INFO!$U$9:$U$1000, \" \")","v":" "},null,null,null,null,0,null,null,null,0,null,null,null,0,0,0,0,0," "," "," "," "]
[{"$f":"IF(COUNTRY_INFO!A39=0,\" \",COUNTRY_INFO!A39)","v":"Angola"},{"$f":"IF(COUNTRY_INFO!B39=0,\" \",COUNTRY_INFO!B39)","v":"CUANDO CUBANGO"},{"$f":"IF(COUNTRY_INFO!C39=0,\" \",COUNTRY_INFO!C39)","v":"CUANGAR"},{"$f":"IF(COUNTRY_INFO!$U$9:$U$1000=\"MDA4 (ALB/2*ALB)\", COUNTRY_INFO!$U$9:$U$1000, \" \")","v":" "},null,null,null,null,0,null,null,null,0,null,null,null,0,0,0,0,0," "," "," "," "]
[{"$f":"IF(COUNTRY_INFO!A40=0,\" \",COUNTRY_INFO!A40)","v":"Angola"},{"$f":"IF(COUNTRY_INFO!B40=0,\" \",COUNTRY_INFO!B40)","v":"CUANDO CUBANGO"},{"$f":"IF(COUNTRY_INFO!C40=0,\" \",COUNTRY_INFO!C40)","v":"CUCHI"},{"$f":"IF(COUNTRY_INFO!$U$9:$U$1000=\"MDA4 (ALB/2*ALB)\", COUNTRY_INFO!$U$9:$U$1000, \" \")","v":" "},null,null,null,null,0,null,null,null,0,null,null,null,0,0,0,0,0," "," "," "," "]
[{"$f":"IF(COUNTRY_INFO!A41=0,\" \",COUNTRY_INFO!A41)","v":"Angola"},{"$f":"IF(COUNTRY_INFO!B41=0,\" \",COUNTRY_INFO!B41)","v":"CUANDO CUBANGO"},{"$f":"IF(COUNTRY_INFO!C41=0,\" \",COUNTRY_INFO!C41)","v":"CUITO CUANAVALE"},{"$f":"IF(COUNTRY_INFO!$U$9:$U$1000=\"MDA4 (ALB/2*ALB)\", COUNTRY_INFO!$U$9:$U$1000, \" \")","v":" "},null,null,null,null,0,null,null,null,0,null,null,null,0,0,0,0,0," "," "," "," "]
[{"$f":"IF(COUNTRY_INFO!A42=0,\" \",COUNTRY_INFO!A42)","v":"Angola"},{"$f":"IF(COUNTRY_INFO!B42=0,\" \",COUNTRY_INFO!B42)","v":"CUANDO CUBANGO"},{"$f":"IF(COUNTRY_INFO!C42=0,\" \",COUNTRY_INFO!C42)","v":"DIRICO"},{"$f":"IF(COUNTRY_INFO!$U$9:$U$1000=\"MDA4 (ALB/2*ALB)\", COUNTRY_INFO!$U$9:$U$1000, \" \")","v":" "},null,null,null,null,0,null,null,null,0,null,null,null,0,0,0,0,0," "," "," "," "]
[{"$f":"IF(COUNTRY_INFO!A43=0,\" \",COUNTRY_INFO!A43)","v":"Angola"},{"$f":"IF(COUNTRY_INFO!B43=0,\" \",COUNTRY_INFO!B43)","v":"CUANDO CUBANGO"},{"$f":"IF(COUNTRY_INFO!C43=0,\" \",COUNTRY_INFO!C43)","v":"MAVINGA"},{"$f":"IF(COUNTRY_INFO!$U$9:$U$1000=\"MDA4 (ALB/2*ALB)\", COUNTRY_INFO!$U$9:$U$1000, \" \")","v":" "},null,null,null,null,0,null,null,null,0,null,null,null,0,0,0,0,0," "," "," "," "]
[{"$f":"IF(COUNTRY_INFO!A44=0,\" \",COUNTRY_INFO!A44)","v":"Angola"},{"$f":"IF(COUNTRY_INFO!B44=0,\" \",COUNTRY_INFO!B44)","v":"CUANDO CUBANGO"},{"$f":"IF(COUNTRY_INFO!C44=0,\" \",COUNTRY_INFO!C44)","v":"MENONGUE"},{"$f":"IF(COUNTRY_INFO!$U$9:$U$1000=\"MDA4 (ALB/2*ALB)\", COUNTRY_INFO!$U$9:$U$1000, \" \")","v":" "},null,null,null,null,0,null,null,null,0,null,null,null,0,0,0,0,0," "," "," "," "]
[{"$f":"IF(COUNTRY_INFO!A45=0,\" \",COUNTRY_INFO!A45)","v":"Angola"},{"$f":"IF(COUNTRY_INFO!B45=0,\" \",COUNTRY_INFO!B45)","v":"CUANDO CUBANGO"},{"$f":"IF(COUNTRY_INFO!C45=0,\" \",COUNTRY_INFO!C45)","v":"NANKOVA"},{"$f":"IF(COUNTRY_INFO!$U$9:$U$1000=\"MDA4 (ALB/2*ALB)\", COUNTRY_INFO!$U$9:$U$1000, \" \")","v":" "},null,null,null,null,0,null,null,null,0,null,null,null,0,0,0,0,0," "," "," "," "]
[{"$f":"IF(COUNTRY_INFO!A46=0,\" \",COUNTRY_INFO!A46)","v":"Angola"},{"$f":"IF(COUNTRY_INFO!B46=0,\" \",COUNTRY_INFO!B46)","v":"CUANDO CUBANGO"},{"$f":"IF(COUNTRY_INFO!C46=0,\" \",COUNTRY_INFO!C46)","v":"RIVUNGO"},{"$f":"IF(COUNTRY_INFO!$U$9:$U$1000=\"MDA4 (ALB/2*ALB)\", COUNTRY_INFO!$U$9:$U$1000, \" \")","v":" "},null,null,null,null,0,null,null,null,0,null,null,null,0,0,0,0,0," "," "," "," "]
[{"$f":"IF(COUNTRY_INFO!A47=0,\" \",COUNTRY_INFO!A47)","v":"Angola"},{"$f":"IF(COUNTRY_INFO!B47=0,\" \",COUNTRY_INFO!B47)","v":"CUANZA NORTE"},{"$f":"IF(COUNTRY_INFO!C47=0,\" \",COUNTRY_INFO!C47)","v":"AMBACA"},{"$f":"IF(COUNTRY_INFO!$U$9:$U$1000=\"MDA4 (ALB/2*ALB)\", COUNTRY_INFO!$U$9:$U$1000, \" \")","v":" "},null,null,null,null,0,null,null,null,0,null,null,null,0,0,0,0,0," "," "," "," "]
[{"$f":"IF(COUNTRY_INFO!A48=0,\" \",COUNTRY_INFO!A48)","v":"Angola"},{"$f":"IF(COUNTRY_INFO!B48=0,\" \",COUNTRY_INFO!B48)","v":"CUANZA NORTE"},{"$f":"IF(COUNTRY_INFO!C48=0,\" \",COUNTRY_INFO!C48)","v":"BANGA"},{"$f":"IF(COUNTRY_INFO!$U$9:$U$1000=\"MDA4 (ALB/2*ALB)\", COUNTRY_INFO!$U$9:$U$1000, \" \")","v":" "},null,null,null,null,0,null,null,null,0,null,null,null,0,0,0,0,0," "," "," "," "]
[{"$f":"IF(COUNTRY_INFO!A49=0,\" \",COUNTRY_INFO!A49)","v":"Angola"},{"$f":"IF(COUNTRY_INFO!B49=0,\" \",COUNTRY_INFO!B49)","v":"CUANZA NORTE"},{"$f":"IF(COUNTRY_INFO!C49=0,\" \",COUNTRY_INFO!C49)","v":"BOLONGONGO"},{"$f":"IF(COUNTRY_INFO!$U$9:$U$1000=\"MDA4 (ALB/2*ALB)\", COUNTRY_INFO!$U$9:$U$1000, \" \")","v":" "},null,null,null,null,0,null,null,null,0,null,null,null,0,0,0,0,0," "," "," "," "]
[{"$f":"IF(COUNTRY_INFO!A50=0,\" \",COUNTRY_INFO!A50)","v":"Angola"},{"$f":"IF(COUNTRY_INFO!B50=0,\" \",COUNTRY_INFO!B50)","v":"CUANZA NORTE"},{"$f":"IF(COUNTRY_INFO!C50=0,\" \",COUNTRY_INFO!C50)","v":"CAMBAMBE"},{"$f":"IF(COUNTRY_INFO!$U$9:$U$1000=\"MDA4 (ALB/2*ALB)\", COUNTRY_INFO!$U$9:$U$1000, \" \")","v":" "},null,null,null,null,0,null,null,null,0,null,null,null,0,0,0,0,0," "," "," "," "]
[{"$f":"IF(COUNTRY_INFO!A51=0,\" \",COUNTRY_INFO!A51)","v":"Angola"},{"$f":"IF(COUNTRY_INFO!B51=0,\" \",COUNTRY_INFO!B51)","v":"CUANZA NORTE"},{"$f":"IF(COUNTRY_INFO!C51=0,\" \",COUNTRY_INFO!C51)","v":"CAZENGO"},{"$f":"IF(COUNTRY_INFO!$U$9:$U$1000=\"MDA4 (ALB/2*ALB)\", COUNTRY_INFO!$U$9:$U$1000, \" \")","v":" "},null,null,null,null,0,null,null,null,0,null,null,null,0,0,0,0,0," "," "," "," "]
[{"$f":"IF(COUNTRY_INFO!A52=0,\" \",COUNTRY_INFO!A52)","v":"Angola"},{"$f":"IF(COUNTRY_INFO!B52=0,\" \",COUNTRY_INFO!B52)","v":"CUANZA NORTE"},{"$f":"IF(COUNTRY_INFO!C52=0,\" \",COUNTRY_INFO!C52)","v":"GOLUNGO ALTO"},{"$f":"IF(COUNTRY_INFO!$U$9:$U$1000=\"MDA4 (ALB/2*ALB)\", COUNTRY_INFO!$U$9:$U$1000, \" \")","v":" "},null,null,null,null,0,null,null,null,0,null,null,null,0,0,0,0,0," "," "," "," "]
[{"$f":"IF(COUNTRY_INFO!A53=0,\" \",COUNTRY_INFO!A53)","v":"Angola"},{"$f":"IF(COUNTRY_INFO!B53=0,\" \",COUNTRY_INFO!B53)","v":"CUANZA NORTE"},{"$f":"IF(COUNTRY_INFO!C53=0,\" \",COUNTRY_INFO!C53)","v":"GONGUEMBO"},{"$f":"IF(COUNTRY_INFO!$U$9:$U$1000=\"MDA4 (ALB/2*ALB)\", COUNTRY_INFO!$U$9:$U$1000, \" \")","v":" "},null,null,null,null,0,null,null,null,0,null,null,null,0,0,0,0,0," "," "," "," "]
[{"$f":"IF(COUNTRY_INFO!A54=0,\" \",COUNTRY_INFO!A54)","v":"Angola"},{"$f":"IF(COUNTRY_INFO!B54=0,\" \",COUNTRY_INFO!B54)","v":"CUANZA NORTE"},{"$f":"IF(COUNTRY_INFO!C54=0,\" \",COUNTRY_INFO!C54)","v":"LUCALA"},{"$f":"IF(COUNTRY_INFO!$U$9:$U$1000=\"MDA4 (ALB/2*ALB)\", COUNTRY_INFO!$U$9:$U$1000, \" \")","v":" "},null,null,null,null,0,null,null,null,0,null,null,null,0,0,0,0,0," "," "," "," "]
[{"$f":"IF(COUNTRY_INFO!A55=0,\" \",COUNTRY_INFO!A55)","v":"Angola"},{"$f":"IF(COUNTRY_INFO!B55=0,\" \",COUNTRY_INFO!B55)","v":"CUANZA NORTE"},{"$f":"IF(COUNTRY_INFO!C55=0,\" \",COUNTRY_INFO!C55)","v":"QUICULUNGO"},{"$f":"IF(COUNTRY_INFO!$U$9:$U$1000=\"MDA4 (ALB/2*ALB)\", COUNTRY_INFO!$U$9:$U$1000, \" \")","v":" "},null,null,null,null,0,null,null,null,0,null,null,null,0,0,0,0,0," "," "," "," "]
[{"$f":"IF(COUNTRY_INFO!A56=0,\" \",COUNTRY_INFO!A56)","v":"Angola"},{"$f":"IF(COUNTRY_INFO!B56=0,\" \",COUNTRY_INFO!B56)","v":"CUANZA NORTE"},{"$f":"IF(COUNTRY_INFO!C56=0,\" \",COUNTRY_INFO!C56)","v":"SAMBA CAJU"},{"$f":"IF(COUNTRY_INFO!$U$9:$U$1000=\"MDA4 (ALB/2*ALB)\", COUNTRY_INFO!$U$9:$U$1000, \" \")","v":" "},null,null,null,null,0,null,null,null,0,null,null,null,0,0,0,0,0," "," "," "," "]
[{"$f":"IF(COUNTRY_INFO!A57=0,\" \",COUNTRY_INFO!A57)","v":"Angola"},{"$f":"IF(COUNTRY_INFO!B57=0,\" \",COUNTRY_INFO!B57)","v":"CUANZA SUL"},{"$f":"IF(COUNTRY_INFO!C57=0,\" \",COUNTRY_INFO!C57)","v":"AMBOIM"},{"$f":"IF(COUNTRY_INFO!$U$9:$U$1000=\"MDA4 (ALB/2*ALB)\", COUNTRY_INFO!$U$9:$U$1000, \" \")","v":" "},null,null,null,null,0,null,null,null,0,null,null,null,0,0,0,0,0," "," "," "," "]
[{"$f":"IF(COUNTRY_INFO!A58=0,\" \",COUNTRY_INFO!A58)","v":"Angola"},{"$f":"IF(COUNTRY_INFO!B58=0,\" \",COUNTRY_INFO!B58)","v":"CUANZA SUL"},{"$f":"IF(COUNTRY_INFO!C58=0,\" \",COUNTRY_INFO!C58)","v":"CASSONGUE"},{"$f":"IF(COUNTRY_INFO!$U$9:$U$1000=\"MDA4 (ALB/2*ALB)\", COUNTRY_INFO!$U$9:$U$1000, \" \")","v":" "},null,null,null,null,0,null,null,null,0,null,null,null,0,0,0,0,0," "," "," "," "]
[{"$f":"IF(COUNTRY_INFO!A59=0,\" \",COUNTRY_INFO!A59)","v":"Angola"},{"$f":"IF(COUNTRY_INFO!B59=0,\" \",COUNTRY_INFO!B59)","v":"CUANZA SUL"},{"$f":"IF(COUNTRY_INFO!C59=0,\" \",COUNTRY_INFO!C59)","v":"CELA (Waku Kungo)"},{"$f":"IF(COUNTRY_INFO!$U$9:$U$1000=\"MDA4 (ALB/2*ALB)\", COUNTRY_INFO!$U$9:$U$1000, \" \")","v":" "},null,null,null,null,0,null,null,null,0,null,null,null,0,0,0,0,0," "," "," "," "]
[{"$f":"IF(COUNTRY_INFO!A60=0,\" \",COUNTRY_INFO!A60)","v":"Angola"},{"$f":"IF(COUNTRY_INFO!B60=0,\" \",COUNTRY_INFO!B60)","v":"CUANZA SUL"},{"$f":"IF(COUNTRY_INFO!C60=0,\" \",COUNTRY_INFO!C60)","v":"CONDA"},{"$f":"IF(COUNTRY_INFO!$U$9:$U$1000=\"MDA4 (ALB/2*ALB)\", COUNTRY_INFO!$U$9:$U$1000, \" \")","v":" "},null,null,null,null,0,null,null,null,0,null,null,null,0,0,0,0,0," "," "," "," "]
[{"$f":"IF(COUNTRY_INFO!A61=0,\" \",COUNTRY_INFO!A61)","v":"Angola"},{"$f":"IF(COUNTRY_INFO!B61=0,\" \",COUNTRY_INFO!B61)","v":"CUANZA SUL"},{"$f":"IF(COUNTRY_INFO!C61=0,\" \",COUNTRY_INFO!C61)","v":"EBO"},{"$f":"IF(COUNTRY_INFO!$U$9:$U$1000=\"MDA4 (ALB/2*ALB)\", COUNTRY_INFO!$U$9:$U$1000, \" \")","v":" "},null,null,null,null,0,null,null,null,0,null,null,null,0,0,0,0,0," "," "," "," "]
[{"$f":"IF(COUNTRY_INFO!A62=0,\" \",COUNTRY_INFO!A62)","v":"Angola"},{"$f":"IF(COUNTRY_INFO!B62=0,\" \",COUNTRY_INFO!B62)","v":"CUANZA SUL"},{"$f":"IF(COUNTRY_INFO!C62=0,\" \",COUNTRY_INFO!C62)","v":"LIBOLO"},{"$f":"IF(COUNTRY_INFO!$U$9:$U$1000=\"MDA4 (ALB/2*ALB)\", COUNTRY_INFO!$U$9:$U$1000, \" \")","v":" "},null,null,null,null,0,null,null,null,0,null,null,null,0,0,0,0,0," "," "," "," "]
[{"$f":"IF(COUNTRY_INFO!A63=0,\" \",COUNTRY_INFO!A63)","v":"Angola"},{"$f":"IF(COUNTRY_INFO!B63=0,\" \",COUNTRY_INFO!B63)","v":"CUANZA SUL"},{"$f":"IF(COUNTRY_INFO!C63=0,\" \",COUNTRY_INFO!C63)","v":"MUSSENDE"},{"$f":"IF(COUNTRY_INFO!$U$9:$U$1000=\"MDA4 (ALB/2*ALB)\", COUNTRY_INFO!$U$9:$U$1000, \" \")","v":" "},null,null,null,null,0,null,null,null,0,null,null,null,0,0,0,0,0," "," "," "," "]
[{"$f":"IF(COUNTRY_INFO!A64=0,\" \",COUNTRY_INFO!A64)","v":"Angola"},{"$f":"IF(COUNTRY_INFO!B64=0,\" \",COUNTRY_INFO!B64)","v":"CUANZA SUL"},{"$f":"IF(COUNTRY_INFO!C64=0,\" \",COUNTRY_INFO!C64)","v":"PORTO AMBOIM"},{"$f":"IF(COUNTRY_INFO!$U$9:$U$1000=\"MDA4 (ALB/2*ALB)\", COUNTRY_INFO!$U$9:$U$1000, \" \")","v":" "},null,null,null,null,0,null,null,null,0,null,null,null,0,0,0,0,0," "," "," "," "]
[{"$f":"IF(COUNTRY_INFO!A65=0,\" \",COUNTRY_INFO!A65)","v":"Angola"},{"$f":"IF(COUNTRY_INFO!B65=0,\" \",COUNTRY_INFO!B65)","v":"CUANZA SUL"},{"$f":"IF(COUNTRY_INFO!C65=0,\" \",COUNTRY_INFO!C65)","v":"QUIBALA"},{"$f":"IF(COUNTRY_INFO!$U$9:$U$1000=\"MDA4 (ALB/2*ALB)\", COUNTRY_INFO!$U$9:$U$1000, \" \")","v":" "},null,null,null,null,0,null,null,null,0,null,null,null,0,0,0,0,0," "," "," "," "]
[{"$f":"IF(COUNTRY_INFO!A66=0,\" \",COUNTRY_INFO!A66)","v":"Angola"},{"$f":"IF(COUNTRY_INFO!B66=0,\" \",COUNTRY_INFO!B66)","v":"CUANZA SUL"},{"$f":"IF(COUNTRY_INFO!C66=0,\" \",COUNTRY_INFO!C66)","v":"QUILENDA"},{"$f":"IF(COUNTRY_INFO!$U$9:$U$1000=\"MDA4 (ALB/2*ALB)\", COUNTRY_INFO!$U$9:$U$1000, \" \")","v":" "},null,null,null,null,0,null,null,null,0,null,null,null,0,0,0,0,0," "," "," "," "]
[{"$f":"IF(COUNTRY_INFO!A67=0,\" \",COUNTRY_INFO!A67)","v":"Angola"},{"$f":"IF(COUNTRY_INFO!B67=0,\" \",COUNTRY_INFO!B67)","v":"CUANZA SUL"},{"$f":"IF(COUNTRY_INFO!C67=0,\" \",COUNTRY_INFO!C67)","v":"SELES"},{"$f":"IF(COUNTRY_INFO!$U$9:$U$1000=\"MDA4 (ALB/2*ALB)\", COUNTRY_INFO!$U$9:$U$1000, \" \")","v":" "},null,null,null,null,0,null,null,null,0,null,null,null,0,0,0,0,0," "," "," "," "]
[{"$f":"IF(COUNTRY_INFO!A68=0,\" \",COUNTRY_INFO!A68)","v":"Angola"},{"$f":"IF(COUNTRY_INFO!B68=0,\" \",COUNTRY_INFO!B68)","v":"CUANZA SUL"},{"$f":"IF(COUNTRY_INFO!C68=0,\" \",COUNTRY_INFO!C68)","v":"SUMBE"},{"$f":"IF(COUNTRY_INFO!$U$9:$U$1000=\"MDA4 (ALB/2*ALB)\", COUNTRY_INFO!$U$9:$U$1000, \" \")","v":" "},null,null,null,null,0,null,null,null,0,null,null,null,0,0,0,0,0," "," "," "," "]
[{"$f":"IF(COUNTRY_INFO!A69=0,\" \",COUNTRY_INFO!A69)","v":"Angola"},{"$f":"IF(COUNTRY_INFO!B69=0,\" \",COUNTRY_INFO!B69)","v":"CUNENE"},{"$f":"IF(COUNTRY_INFO!C69=0,\" \",COUNTRY_INFO!C69)","v":"CAHAMA"},{"$f":"IF(COUNTRY_INFO!$U$9:$U$1000=\"MDA4 (ALB/2*ALB)\", COUNTRY_INFO!$U$9:$U$1000, \" \")","v":" "},null,null,null,null,0,null,null,null,0,null,null,null,0,0,0,0,0," "," "," "," "]
[{"$f":"IF(COUNTRY_INFO!A70=0,\" \",COUNTRY_INFO!A70)","v":"Angola"},{"$f":"IF(COUNTRY_INFO!B70=0,\" \",COUNTRY_INFO!B70)","v":"CUNENE"},{"$f":"IF(COUNTRY_INFO!C70=0,\" \",COUNTRY_INFO!C70)","v":"CUANHAMA"},{"$f":"IF(COUNTRY_INFO!$U$9:$U$1000=\"MDA4 (ALB/2*ALB)\", COUNTRY_INFO!$U$9:$U$1000, \" \")","v":" "},null,null,null,null,0,null,null,null,0,null,null,null,0,0,0,0,0," "," "," "," "]
[{"$f":"IF(COUNTRY_INFO!A71=0,\" \",COUNTRY_INFO!A71)","v":"Angola"},{"$f":"IF(COUNTRY_INFO!B71=0,\" \",COUNTRY_INFO!B71)","v":"CUNENE"},{"$f":"IF(COUNTRY_INFO!C71=0,\" \",COUNTRY_INFO!C71)","v":"CUROCA"},{"$f":"IF(COUNTRY_INFO!$U$9:$U$1000=\"MDA4 (ALB/2*ALB)\", COUNTRY_INFO!$U$9:$U$1000, \" \")","v":" "},null,null,null,null,0,null,null,null,0,null,null,null,0,0,0,0,0," "," "," "," "]
[{"$f":"IF(COUNTRY_INFO!A72=0,\" \",COUNTRY_INFO!A72)","v":"Angola"},{"$f":"IF(COUNTRY_INFO!B72=0,\" \",COUNTRY_INFO!B72)","v":"CUNENE"},{"$f":"IF(COUNTRY_INFO!C72=0,\" \",COUNTRY_INFO!C72)","v":"CUVELAI"},{"$f":"IF(COUNTRY_INFO!$U$9:$U$1000=\"MDA4 (ALB/2*ALB)\", COUNTRY_INFO!$U$9:$U$1000, \" \")","v":" "},null,null,null,null,0,null,null,null,0,null,null,null,0,0,0,0,0," "," "," "," "]
[{"$f":"IF(COUNTRY_INFO!A73=0,\" \",COUNTRY_INFO!A73)","v":"Angola"},{"$f":"IF(COUNTRY_INFO!B73=0,\" \",COUNTRY_INFO!B73)","v":"CUNENE"},{"$f":"IF(COUNTRY_INFO!C73=0,\" \",COUNTRY_INFO!C73)","v":"NAMACUNDE"},{"$f":"IF(COUNTRY_INFO!$U$9:$U$1000=\"MDA4 (ALB/2*ALB)\", COUNTRY_INFO!$U$9:$U$1000, \" \")","v":" "},null,null,null,null,0,null,null,null,0,null,null,null,0,0,0,0,0," "," "," "," "]
[{"$f":"IF(COUNTRY_INFO!A74=0,\" \",COUNTRY_INFO!A74)","v":"Angola"},{"$f":"IF(COUNTRY_INFO!B74=0,\" \",COUNTRY_INFO!B74)","v":"CUNENE"},{"$f":"IF(COUNTRY_INFO!C74=0,\" \",COUNTRY_INFO!C74)","v":"OMBADJA"},{"$f":"IF(COUNTRY_INFO!$U$9:$U$1000=\"MDA4 (ALB/2*ALB)\", COUNTRY_INFO!$U$9:$U$1000, \" \")","v":" "},null,null,null,null,{"$f":"SUM(F74:H74)","v":0},null,null,null,{"$f":"SUM(J74:L74)","v":0},null,null,null,{"$f":"SUM(N74:P74)","v":0},{"$f":"MAX(J74,N74)","v":0},{"$f":"MAX(K74,O74)","v":0},{"$f":"MAX(L74,P74)","v":0},{"$f":"SUM(R74:T74)","v":0},{"$f":"IF(F74<>0, IF(R74/F74*100=0, \"-\", R74/F74*100), \" \")","v":" "},{"$f":"IF(G74<>0, IF(S74/G74*100=0, \"-\", S74/G74*100), \" \")","v":" "},{"$f":"IF(H74<>0, IF(T74/H74*100=0, \"-\", T74/H74*100), \" \")","v":" "},{"$f":"IF(I74<>0, IF(U74/I74*100=0, \"-\", U74/I74*100), \" \")","v":" "}]
[{"$f":"IF(COUNTRY_INFO!A75=0,\" \",COUNTRY_INFO!A75)","v":"Angola"},{"$f":"IF(COUNTRY_INFO!B75=0,\" \",COUNTRY_INFO!B75)","v":"HUAMBO"},{"$f":"IF(COUNTRY_INFO!C75=0,\" \",COUNTRY_INFO!C75)","v":"BAILUNDO"},{"$f":"IF(COUNTRY_INFO!$U$9:$U$1000=\"MDA4 (ALB/2*ALB)\", COUNTRY_INFO!$U$9:$U$1000, \" \")","v":" "},null,null,null,null,0,null,null,null,0,null,null,null,0,0,0,0,0," "," "," "," "]
[{"$f":"IF(COUNTRY_INFO!A76=0,\" \",COUNTRY_INFO!A76)","v":"Angola"},{"$f":"IF(COUNTRY_INFO!B76=0,\" \",COUNTRY_INFO!B76)","v":"HUAMBO"},{"$f":"IF(COUNTRY_INFO!C76=0,\" \",COUNTRY_INFO!C76)","v":"CAALA"},{"$f":"IF(COUNTRY_INFO!$U$9:$U$1000=\"MDA4 (ALB/2*ALB)\", COUNTRY_INFO!$U$9:$U$1000, \" \")","v":" "},null,null,null,null,0,null,null,null,0,null,null,null,0,0,0,0,0," "," "," "," "]
[{"$f":"IF(COUNTRY_INFO!A77=0,\" \",COUNTRY_INFO!A77)","v":"Angola"},{"$f":"IF(COUNTRY_INFO!B77=0,\" \",COUNTRY_INFO!B77)","v":"HUAMBO"},{"$f":"IF(COUNTRY_INFO!C77=0,\" \",COUNTRY_INFO!C77)","v":"CACHIUNGO"},{"$f":"IF(COUNTRY_INFO!$U$9:$U$1000=\"MDA4 (ALB/2*ALB)\", COUNTRY_INFO!$U$9:$U$1000, \" \")","v":" "},null,null,null,null,0,null,null,null,0,null,null,null,0,0,0,0,0," "," "," "," "]
[{"$f":"IF(COUNTRY_INFO!A78=0,\" \",COUNTRY_INFO!A78)","v":"Angola"},{"$f":"IF(COUNTRY_INFO!B78=0,\" \",COUNTRY_INFO!B78)","v":"HUAMBO"},{"$f":"IF(COUNTRY_INFO!C78=0,\" \",COUNTRY_INFO!C78)","v":"CHICALA CHOLOHANGA"},{"$f":"IF(COUNTRY_INFO!$U$9:$U$1000=\"MDA4 (ALB/2*ALB)\", COUNTRY_INFO!$U$9:$U$1000, \" \")","v":" "},null,null,null,null,0,null,null,null,0,null,null,null,0,0,0,0,0," "," "," "," "]
[{"$f":"IF(COUNTRY_INFO!A79=0,\" \",COUNTRY_INFO!A79)","v":"Angola"},{"$f":"IF(COUNTRY_INFO!B79=0,\" \",COUNTRY_INFO!B79)","v":"HUAMBO"},{"$f":"IF(COUNTRY_INFO!C79=0,\" \",COUNTRY_INFO!C79)","v":"CHINDJENJE"},{"$f":"IF(COUNTRY_INFO!$U$9:$U$1000=\"MDA4 (ALB/2*ALB)\", COUNTRY_INFO!$U$9:$U$1000, \" \")","v":" "},null,null,null,null,0,null,null,null,0,null,null,null,0,0,0,0,0," "," "," "," "]
[{"$f":"IF(COUNTRY_INFO!A80=0,\" \",COUNTRY_INFO!A80)","v":"Angola"},{"$f":"IF(COUNTRY_INFO!B80=0,\" \",COUNTRY_INFO!B80)","v":"HUAMBO"},{"$f":"IF(COUNTRY_INFO!C80=0,\" \",COUNTRY_INFO!C80)","v":"ECUNHA"},{"$f":"IF(COUNTRY_INFO!$U$9:$U$1000=\"MDA4 (ALB/2*ALB)\", COUNTRY_INFO!$U$9:$U$1000, \" \")","v":" "},null,null,null,null,0,null,null,null,0,null,null,null,0,0,0,0,0," "," "," "," "]
[{"$f":"IF(COUNTRY_INFO!A81=0,\" \",COUNTRY_INFO!A81)","v":"Angola"},{"$f":"IF(COUNTRY_INFO!B81=0,\" \",COUNTRY_INFO!B81)","v":"HUAMBO"},{"$f":"IF(COUNTRY_INFO!C81=0,\" \",COUNTRY_INFO!C81)","v":"HUAMBO"},{"$f":"IF(COUNTRY_INFO!$U$9:$U$1000=\"MDA4 (ALB/2*ALB)\", COUNTRY_INFO!$U$9:$U$1000, \" \")","v":" "},null,null,null,null,0,null,null,null,0,null,null,null,0,0,0,0,0," "," "," "," "]
[{"$f":"IF(COUNTRY_INFO!A82=0,\" \",COUNTRY_INFO!A82)","v":"Angola"},{"$f":"IF(COUNTRY_INFO!B82=0,\" \",COUNTRY_INFO!B82)","v":"HUAMBO"},{"$f":"IF(COUNTRY_INFO!C82=0,\" \",COUNTRY_INFO!C82)","v":"LONDUIMBALI"},{"$f":"IF(COUNTRY_INFO!$U$9:$U$1000=\"MDA4 (ALB/2*ALB)\", COUNTRY_INFO!$U$9:$U$1000, \" \")","v":" "},null,null,null,null,0,null,null,null,0,null,null,null,0,0,0,0,0," "," "," "," "]
[{"$f":"IF(COUNTRY_INFO!A83=0,\" \",COUNTRY_INFO!A83)","v":"Angola"},{"$f":"IF(COUNTRY_INFO!B83=0,\" \",COUNTRY_INFO!B83)","v":"HUAMBO"},{"$f":"IF(COUNTRY_INFO!C83=0,\" \",COUNTRY_INFO!C83)","v":"LONGONJO"},{"$f":"IF(COUNTRY_INFO!$U$9:$U$1000=\"MDA4 (ALB/2*ALB)\", COUNTRY_INFO!$U$9:$U$1000, \" \")","v":" "},null,null,null,null,0,null,null,null,0,null,null,null,0,0,0,0,0," "," "," "," "]
[{"$f":"IF(COUNTRY_INFO!A84=0,\" \",COUNTRY_INFO!A84)","v":"Angola"},{"$f":"IF(COUNTRY_INFO!B84=0,\" \",COUNTRY_INFO!B84)","v":"HUAMBO"},{"$f":"IF(COUNTRY_INFO!C84=0,\" \",COUNTRY_INFO!C84)","v":"MUNGO"},{"$f":"IF(COUNTRY_INFO!$U$9:$U$1000=\"MDA4 (ALB/2*ALB)\", COUNTRY_INFO!$U$9:$U$1000, \" \")","v":" "},null,null,null,null,0,null,null,null,0,null,null,null,0,0,0,0,0," "," "," "," "]
[{"$f":"IF(COUNTRY_INFO!A85=0,\" \",COUNTRY_INFO!A85)","v":"Angola"},{"$f":"IF(COUNTRY_INFO!B85=0,\" \",COUNTRY_INFO!B85)","v":"HUAMBO"},{"$f":"IF(COUNTRY_INFO!C85=0,\" \",COUNTRY_INFO!C85)","v":"UCUMA"},{"$f":"IF(COUNTRY_INFO!$U$9:$U$1000=\"MDA4 (ALB/2*ALB)\", COUNTRY_INFO!$U$9:$U$1000, \" \")","v":" "},null,null,null,null,0,null,null,null,0,null,null,null,0,0,0,0,0," "," "," "," "]
[{"$f":"IF(COUNTRY_INFO!A86=0,\" \",COUNTRY_INFO!A86)","v":"Angola"},{"$f":"IF(COUNTRY_INFO!B86=0,\" \",COUNTRY_INFO!B86)","v":"HUILA"},{"$f":"IF(COUNTRY_INFO!C86=0,\" \",COUNTRY_INFO!C86)","v":"CACONDA"},{"$f":"IF(COUNTRY_INFO!$U$9:$U$1000=\"MDA4 (ALB/2*ALB)\", COUNTRY_INFO!$U$9:$U$1000, \" \")","v":" "},null,null,null,null,0,null,null,null,0,null,null,null,0,0,0,0,0," "," "," "," "]
[{"$f":"IF(COUNTRY_INFO!A87=0,\" \",COUNTRY_INFO!A87)","v":"Angola"},{"$f":"IF(COUNTRY_INFO!B87=0,\" \",COUNTRY_INFO!B87)","v":"HUILA"},{"$f":"IF(COUNTRY_INFO!C87=0,\" \",COUNTRY_INFO!C87)","v":"CACULA"},{"$f":"IF(COUNTRY_INFO!$U$9:$U$1000=\"MDA4 (ALB/2*ALB)\", COUNTRY_INFO!$U$9:$U$1000, \" \")","v":" "},null,null,null,null,0,null,null,null,0,null,null,null,0,0,0,0,0," "," "," "," "]
[{"$f":"IF(COUNTRY_INFO!A88=0,\" \",COUNTRY_INFO!A88)","v":"Angola"},{"$f":"IF(COUNTRY_INFO!B88=0,\" \",COUNTRY_INFO!B88)","v":"HUILA"},{"$f":"IF(COUNTRY_INFO!C88=0,\" \",COUNTRY_INFO!C88)","v":"CALUQUEMBE"},{"$f":"IF(COUNTRY_INFO!$U$9:$U$1000=\"MDA4 (ALB/2*ALB)\", COUNTRY_INFO!$U$9:$U$1000, \" \")","v":" "},null,null,null,null,0,null,null,null,0,null,null,null,0,0,0,0,0," "," "," "," "]
[{"$f":"IF(COUNTRY_INFO!A89=0,\" \",COUNTRY_INFO!A89)","v":"Angola"},{"$f":"IF(COUNTRY_INFO!B89=0,\" \",COUNTRY_INFO!B89)","v":"HUILA"},{"$f":"IF(COUNTRY_INFO!C89=0,\" \",COUNTRY_INFO!C89)","v":"CHIBIA"},{"$f":"IF(COUNTRY_INFO!$U$9:$U$1000=\"MDA4 (ALB/2*ALB)\", COUNTRY_INFO!$U$9:$U$1000, \" \")","v":" "},null,null,null,null,0,null,null,null,0,null,null,null,0,0,0,0,0," "," "," "," "]
[{"$f":"IF(COUNTRY_INFO!A90=0,\" \",COUNTRY_INFO!A90)","v":"Angola"},{"$f":"IF(COUNTRY_INFO!B90=0,\" \",COUNTRY_INFO!B90)","v":"HUILA"},{"$f":"IF(COUNTRY_INFO!C90=0,\" \",COUNTRY_INFO!C90)","v":"CHICOMBA"},{"$f":"IF(COUNTRY_INFO!$U$9:$U$1000=\"MDA4 (ALB/2*ALB)\", COUNTRY_INFO!$U$9:$U$1000, \" \")","v":" "},null,null,null,null,0,null,null,null,0,null,null,null,0,0,0,0,0," "," "," "," "]
[{"$f":"IF(COUNTRY_INFO!A91=0,\" \",COUNTRY_INFO!A91)","v":"Angola"},{"$f":"IF(COUNTRY_INFO!B91=0,\" \",COUNTRY_INFO!B91)","v":"HUILA"},{"$f":"IF(COUNTRY_INFO!C91=0,\" \",COUNTRY_INFO!C91)","v":"CHIPINDO"},{"$f":"IF(COUNTRY_INFO!$U$9:$U$1000=\"MDA4 (ALB/2*ALB)\", COUNTRY_INFO!$U$9:$U$1000, \" \")","v":" "},null,null,null,null,0,null,null,null,0,null,null,null,0,0,0,0,0," "," "," "," "]
[{"$f":"IF(COUNTRY_INFO!A92=0,\" \",COUNTRY_INFO!A92)","v":"Angola"},{"$f":"IF(COUNTRY_INFO!B92=0,\" \",COUNTRY_INFO!B92)","v":"HUILA"},{"$f":"IF(COUNTRY_INFO!C92=0,\" \",COUNTRY_INFO!C92)","v":"CUVANGO"},{"$f":"IF(COUNTRY_INFO!$U$9:$U$1000=\"MDA4 (ALB/2*ALB)\", COUNTRY_INFO!$U$9:$U$1000, \" \")","v":" "},null,null,null,null,0,null,null,null,0,null,null,null,0,0,0,0,0," "," "," "," "]
[{"$f":"IF(COUNTRY_INFO!A93=0,\" \",COUNTRY_INFO!A93)","v":"Angola"},{"$f":"IF(COUNTRY_INFO!B93=0,\" \",COUNTRY_INFO!B93)","v":"HUILA"},{"$f":"IF(COUNTRY_INFO!C93=0,\" \",COUNTRY_INFO!C93)","v":"GAMBOS"},{"$f":"IF(COUNTRY_INFO!$U$9:$U$1000=\"MDA4 (ALB/2*ALB)\", COUNTRY_INFO!$U$9:$U$1000, \" \")","v":" "},null,null,null,null,0,null,null,null,0,null,null,null,0,0,0,0,0," "," "," "," "]
[{"$f":"IF(COUNTRY_INFO!A94=0,\" \",COUNTRY_INFO!A94)","v":"Angola"},{"$f":"IF(COUNTRY_INFO!B94=0,\" \",COUNTRY_INFO!B94)","v":"HUILA"},{"$f":"IF(COUNTRY_INFO!C94=0,\" \",COUNTRY_INFO!C94)","v":"HUMPATA"},{"$f":"IF(COUNTRY_INFO!$U$9:$U$1000=\"MDA4 (ALB/2*ALB)\", COUNTRY_INFO!$U$9:$U$1000, \" \")","v":" "},null,null,null,null,0,null,null,null,0,null,null,null,0,0,0,0,0," "," "," "," "]
[{"$f":"IF(COUNTRY_INFO!A95=0,\" \",COUNTRY_INFO!A95)","v":"Angola"},{"$f":"IF(COUNTRY_INFO!B95=0,\" \",COUNTRY_INFO!B95)","v":"HUILA"},{"$f":"IF(COUNTRY_INFO!C95=0,\" \",COUNTRY_INFO!C95)","v":"JAMBA"},{"$f":"IF(COUNTRY_INFO!$U$9:$U$1000=\"MDA4 (ALB/2*ALB)\", COUNTRY_INFO!$U$9:$U$1000, \" \")","v":" "},null,null,null,null,0,null,null,null,0,null,null,null,0,0,0,0,0," "," "," "," "]
[{"$f":"IF(COUNTRY_INFO!A96=0,\" \",COUNTRY_INFO!A96)","v":"Angola"},{"$f":"IF(COUNTRY_INFO!B96=0,\" \",COUNTRY_INFO!B96)","v":"HUILA"},{"$f":"IF(COUNTRY_INFO!C96=0,\" \",COUNTRY_INFO!C96)","v":"LUBANGO"},{"$f":"IF(COUNTRY_INFO!$U$9:$U$1000=\"MDA4 (ALB/2*ALB)\", COUNTRY_INFO!$U$9:$U$1000, \" \")","v":" "},null,null,null,null,0,null,null,null,0,null,null,null,0,0,0,0,0," "," "," "," "]
[{"$f":"IF(COUNTRY_INFO!A97=0,\" \",COUNTRY_INFO!A97)","v":"Angola"},{"$f":"IF(COUNTRY_INFO!B97=0,\" \",COUNTRY_INFO!B97)","v":"HUILA"},{"$f":"IF(COUNTRY_INFO!C97=0,\" \",COUNTRY_INFO!C97)","v":"MATALA"},{"$f":"IF(COUNTRY_INFO!$U$9:$U$1000=\"MDA4 (ALB/2*ALB)\", COUNTRY_INFO!$U$9:$U$1000, \" \")","v":" "},null,null,null,null,0,null,null,null,0,null,null,null,0,0,0,0,0," "," "," "," "]
[{"$f":"IF(COUNTRY_INFO!A98=0,\" \",COUNTRY_INFO!A98)","v":"Angola"},{"$f":"IF(COUNTRY_INFO!B98=0,\" \",COUNTRY_INFO!B98)","v":"HUILA"},{"$f":"IF(COUNTRY_INFO!C98=0,\" \",COUNTRY_INFO!C98)","v":"QUILENGUES"},{"$f":"IF(COUNTRY_INFO!$U$9:$U$1000=\"MDA4 (ALB/2*ALB)\", COUNTRY_INFO!$U$9:$U$1000, \" \")","v":" "},null,null,null,null,0,null,null,null,0,null,null,null,0,0,0,0,0," "," "," "," "]
[{"$f":"IF(COUNTRY_INFO!A99=0,\" \",COUNTRY_INFO!A99)","v":"Angola"},{"$f":"IF(COUNTRY_INFO!B99=0,\" \",COUNTRY_INFO!B99)","v":"HUILA"},{"$f":"IF(COUNTRY_INFO!C99=0,\" \",COUNTRY_INFO!C99)","v":"QUIPUNGO"},{"$f":"IF(COUNTRY_INFO!$U$9:$U$1000=\"MDA4 (ALB/2*ALB)\", COUNTRY_INFO!$U$9:$U$1000, \" \")","v":" "},null,null,null,null,0,null,null,null,0,null,null,null,0,0,0,0,0," "," "," "," "]
[{"$f":"IF(COUNTRY_INFO!A100=0,\" \",COUNTRY_INFO!A100)","v":"Angola"},{"$f":"IF(COUNTRY_INFO!B100=0,\" \",COUNTRY_INFO!B100)","v":"LUANDA"},{"$f":"IF(COUNTRY_INFO!C100=0,\" \",COUNTRY_INFO!C100)","v":"BELAS"},{"$f":"IF(COUNTRY_INFO!$U$9:$U$1000=\"MDA4 (ALB/2*ALB)\", COUNTRY_INFO!$U$9:$U$1000, \" \")","v":" "},null,null,null,null,0,null,null,null,0,null,null,null,0,0,0,0,0," "," "," "," "]
[{"$f":"IF(COUNTRY_INFO!A101=0,\" \",COUNTRY_INFO!A101)","v":"Angola"},{"$f":"IF(COUNTRY_INFO!B101=0,\" \",COUNTRY_INFO!B101)","v":"LUANDA"},{"$f":"IF(COUNTRY_INFO!C101=0,\" \",COUNTRY_INFO!C101)","v":"CACUACO"},{"$f":"IF(COUNTRY_INFO!$U$9:$U$1000=\"MDA4 (ALB/2*ALB)\", COUNTRY_INFO!$U$9:$U$1000, \" \")","v":" "},null,null,null,null,0,null,null,null,0,null,null,null,0,0,0,0,0," "," "," "," "]
[{"$f":"IF(COUNTRY_INFO!A102=0,\" \",COUNTRY_INFO!A102)","v":"Angola"},{"$f":"IF(COUNTRY_INFO!B102=0,\" \",COUNTRY_INFO!B102)","v":"LUANDA"},{"$f":"IF(COUNTRY_INFO!C102=0,\" \",COUNTRY_INFO!C102)","v":"CAZENGA"},{"$f":"IF(COUNTRY_INFO!$U$9:$U$1000=\"MDA4 (ALB/2*ALB)\", COUNTRY_INFO!$U$9:$U$1000, \" \")","v":" "},null,null,null,null,0,null,null,null,0,null,null,null,0,0,0,0,0," "," "," "," "]
[{"$f":"IF(COUNTRY_INFO!A103=0,\" \",COUNTRY_INFO!A103)","v":"Angola"},{"$f":"IF(COUNTRY_INFO!B103=0,\" \",COUNTRY_INFO!B103)","v":"LUANDA"},{"$f":"IF(COUNTRY_INFO!C103=0,\" \",COUNTRY_INFO!C103)","v":"ICOLO E BENGO"},{"$f":"IF(COUNTRY_INFO!$U$9:$U$1000=\"MDA4 (ALB/2*ALB)\", COUNTRY_INFO!$U$9:$U$1000, \" \")","v":" "},null,null,null,null,0,null,null,null,0,null,null,null,0,0,0,0,0," "," "," "," "]
[{"$f":"IF(COUNTRY_INFO!A104=0,\" \",COUNTRY_INFO!A104)","v":"Angola"},{"$f":"IF(COUNTRY_INFO!B104=0,\" \",COUNTRY_INFO!B104)","v":"LUANDA"},{"$f":"IF(COUNTRY_INFO!C104=0,\" \",COUNTRY_INFO!C104)","v":"KILAMBA KIAXI"},{"$f":"IF(COUNTRY_INFO!$U$9:$U$1000=\"MDA4 (ALB/2*ALB)\", COUNTRY_INFO!$U$9:$U$1000, \" \")","v":" "},null,null,null,null,0,null,null,null,0,null,null,null,0,0,0,0,0," "," "," "," "]
[{"$f":"IF(COUNTRY_INFO!A105=0,\" \",COUNTRY_INFO!A105)","v":"Angola"},{"$f":"IF(COUNTRY_INFO!B105=0,\" \",COUNTRY_INFO!B105)","v":"LUANDA"},{"$f":"IF(COUNTRY_INFO!C105=0,\" \",COUNTRY_INFO!C105)","v":"LUANDA"},{"$f":"IF(COUNTRY_INFO!$U$9:$U$1000=\"MDA4 (ALB/2*ALB)\", COUNTRY_INFO!$U$9:$U$1000, \" \")","v":" "},null,null,null,null,0,null,null,null,0,null,null,null,0,0,0,0,0," "," "," "," "]
[{"$f":"IF(COUNTRY_INFO!A106=0,\" \",COUNTRY_INFO!A106)","v":"Angola"},{"$f":"IF(COUNTRY_INFO!B106=0,\" \",COUNTRY_INFO!B106)","v":"LUANDA"},{"$f":"IF(COUNTRY_INFO!C106=0,\" \",COUNTRY_INFO!C106)","v":"QUISSAMA"},{"$f":"IF(COUNTRY_INFO!$U$9:$U$1000=\"MDA4 (ALB/2*ALB)\", COUNTRY_INFO!$U$9:$U$1000, \" \")","v":" "},null,null,null,null,0,null,null,null,0,null,null,null,0,0,0,0,0," "," "," "," "]
[{"$f":"IF(COUNTRY_INFO!A107=0,\" \",COUNTRY_INFO!A107)","v":"Angola"},{"$f":"IF(COUNTRY_INFO!B107=0,\" \",COUNTRY_INFO!B107)","v":"LUANDA"},{"$f":"IF(COUNTRY_INFO!C107=0,\" \",COUNTRY_INFO!C107)","v":"TALATONA"},{"$f":"IF(COUNTRY_INFO!$U$9:$U$1000=\"MDA4 (ALB/2*ALB)\", COUNTRY_INFO!$U$9:$U$1000, \" \")","v":" "},null,null,null,null,0,null,null,null,0,null,null,null,0,0,0,0,0," "," "," "," "]
[{"$f":"IF(COUNTRY_INFO!A108=0,\" \",COUNTRY_INFO!A108)","v":"Angola"},{"$f":"IF(COUNTRY_INFO!B108=0,\" \",COUNTRY_INFO!B108)","v":"LUANDA"},{"$f":"IF(COUNTRY_INFO!C108=0,\" \",COUNTRY_INFO!C108)","v":"VIANA"},{"$f":"IF(COUNTRY_INFO!$U$9:$U$1000=\"MDA4 (ALB/2*ALB)\", COUNTRY_INFO!$U$9:$U$1000, \" \")","v":" "},null,null,null,null,0,null,null,null,0,null,null,null,0,0,0,0,0," "," "," "," "]
[{"$f":"IF(COUNTRY_INFO!A109=0,\" \",COUNTRY_INFO!A109)","v":"Angola"},{"$f":"IF(COUNTRY_INFO!B109=0,\" \",COUNTRY_INFO!B109)","v":"LUNDA NORTE"},{"$f":"IF(COUNTRY_INFO!C109=0,\" \",COUNTRY_INFO!C109)","v":"CAMBULO"},{"$f":"IF(COUNTRY_INFO!$U$9:$U$1000=\"MDA4 (ALB/2*ALB)\", COUNTRY_INFO!$U$9:$U$1000, \" \")","v":" "},null,null,null,null,0,null,null,null,0,null,null,null,0,0,0,0,0," "," "," "," "]
[{"$f":"IF(COUNTRY_INFO!A110=0,\" \",COUNTRY_INFO!A110)","v":"Angola"},{"$f":"IF(COUNTRY_INFO!B110=0,\" \",COUNTRY_INFO!B110)","v":"LUNDA NORTE"},{"$f":"IF(COUNTRY_INFO!C110=0,\" \",COUNTRY_INFO!C110)","v":"CAPENDA CAMULEMBA"},{"$f":"IF(COUNTRY_INFO!$U$9:$U$1000=\"MDA4 (ALB/2*ALB)\", COUNTRY_INFO!$U$9:$U$1000, \" \")","v":" "},null,null,null,null,0,null,null,null,0,null,null,null,0,0,0,0,0," "," "," "," "]
[{"$f":"IF(COUNTRY_INFO!A111=0,\" \",COUNTRY_INFO!A111)","v":"Angola"},{"$f":"IF(COUNTRY_INFO!B111=0,\" \",COUNTRY_INFO!B111)","v":"LUNDA NORTE"},{"$f":"IF(COUNTRY_INFO!C111=0,\" \",COUNTRY_INFO!C111)","v":"CAUNGULA"},{"$f":"IF(COUNTRY_INFO!$U$9:$U$1000=\"MDA4 (ALB/2*ALB)\", COUNTRY_INFO!$U$9:$U$1000, \" \")","v":" "},null,null,null,null,0,null,null,null,0,null,null,null,0,0,0,0,0," "," "," "," "]
[{"$f":"IF(COUNTRY_INFO!A112=0,\" \",COUNTRY_INFO!A112)","v":"Angola"},{"$f":"IF(COUNTRY_INFO!B112=0,\" \",COUNTRY_INFO!B112)","v":"LUNDA NORTE"},{"$f":"IF(COUNTRY_INFO!C112=0,\" \",COUNTRY_INFO!C112)","v":"CHITATO"},{"$f":"IF(COUNTRY_INFO!$U$9:$U$1000=\"MDA4 (ALB/2*ALB)\", COUNTRY_INFO!$U$9:$U$1000, \" \")","v":" "},null,null,null,null,0,null,null,null,0,null,null,null,0,0,0,0,0," "," "," "," "]
[{"$f":"IF(COUNTRY_INFO!A113=0,\" \",COUNTRY_INFO!A113)","v":"Angola"},{"$f":"IF(COUNTRY_INFO!B113=0,\" \",COUNTRY_INFO!B113)","v":"LUNDA NORTE"},{"$f":"IF(COUNTRY_INFO!C113=0,\" \",COUNTRY_INFO!C113)","v":"CUANGO"},{"$f":"IF(COUNTRY_INFO!$U$9:$U$1000=\"MDA4 (ALB/2*ALB)\", COUNTRY_INFO!$U$9:$U$1000, \" \")","v":" "},null,null,null,null,0,null,null,null,0,null,null,null,0,0,0,0,0," "," "," "," "]
[{"$f":"IF(COUNTRY_INFO!A114=0,\" \",COUNTRY_INFO!A114)","v":"Angola"},{"$f":"IF(COUNTRY_INFO!B114=0,\" \",COUNTRY_INFO!B114)","v":"LUNDA NORTE"},{"$f":"IF(COUNTRY_INFO!C114=0,\" \",COUNTRY_INFO!C114)","v":"CUILO"},{"$f":"IF(COUNTRY_INFO!$U$9:$U$1000=\"MDA4 (ALB/2*ALB)\", COUNTRY_INFO!$U$9:$U$1000, \" \")","v":" "},null,null,null,null,0,null,null,null,0,null,null,null,0,0,0,0,0," "," "," "," "]
[{"$f":"IF(COUNTRY_INFO!A115=0,\" \",COUNTRY_INFO!A115)","v":"Angola"},{"$f":"IF(COUNTRY_INFO!B115=0,\" \",COUNTRY_INFO!B115)","v":"LUNDA NORTE"},{"$f":"IF(COUNTRY_INFO!C115=0,\" \",COUNTRY_INFO!C115)","v":"LOVUA"},{"$f":"IF(COUNTRY_INFO!$U$9:$U$1000=\"MDA4 (ALB/2*ALB)\", COUNTRY_INFO!$U$9:$U$1000, \" \")","v":" "},null,null,null,null,0,null,null,null,0,null,null,null,0,0,0,0,0," "," "," "," "]
[{"$f":"IF(COUNTRY_INFO!A116=0,\" \",COUNTRY_INFO!A116)","v":"Angola"},{"$f":"IF(COUNTRY_INFO!B116=0,\" \",COUNTRY_INFO!B116)","v":"LUNDA NORTE"},{"$f":"IF(COUNTRY_INFO!C116=0,\" \",COUNTRY_INFO!C116)","v":"LUBALO"},{"$f":"IF(COUNTRY_INFO!$U$9:$U$1000=\"MDA4 (ALB/2*ALB)\", COUNTRY_INFO!$U$9:$U$1000, \" \")","v":" "},null,null,null,null,0,null,null,null,0,null,null,null,0,0,0,0,0," "," "," "," "]
[{"$f":"IF(COUNTRY_INFO!A117=0,\" \",COUNTRY_INFO!A117)","v":"Angola"},{"$f":"IF(COUNTRY_INFO!B117=0,\" \",COUNTRY_INFO!B117)","v":"LUNDA NORTE"},{"$f":"IF(COUNTRY_INFO!C117=0,\" \",COUNTRY_INFO!C117)","v":"LUCAPA"},{"$f":"IF(COUNTRY_INFO!$U$9:$U$1000=\"MDA4 (ALB/2*ALB)\", COUNTRY_INFO!$U$9:$U$1000, \" \")","v":" "},null,null,null,null,0,null,null,null,0,null,null,null,0,0,0,0,0," "," "," "," "]
[{"$f":"IF(COUNTRY_INFO!A118=0,\" \",COUNTRY_INFO!A118)","v":"Angola"},{"$f":"IF(COUNTRY_INFO!B118=0,\" \",COUNTRY_INFO!B118)","v":"LUNDA NORTE"},{"$f":"IF(COUNTRY_INFO!C118=0,\" \",COUNTRY_INFO!C118)","v":"XA MUTEBA"},{"$f":"IF(COUNTRY_INFO!$U$9:$U$1000=\"MDA4 (ALB/2*ALB)\", COUNTRY_INFO!$U$9:$U$1000, \" \")","v":" "},null,null,null,null,0,null,null,null,0,null,null,null,0,0,0,0,0," "," "," "," "]
[{"$f":"IF(COUNTRY_INFO!A119=0,\" \",COUNTRY_INFO!A119)","v":"Angola"},{"$f":"IF(COUNTRY_INFO!B119=0,\" \",COUNTRY_INFO!B119)","v":"LUNDA SUL"},{"$f":"IF(COUNTRY_INFO!C119=0,\" \",COUNTRY_INFO!C119)","v":"CACOLO"},{"$f":"IF(COUNTRY_INFO!$U$9:$U$1000=\"MDA4 (ALB/2*ALB)\", COUNTRY_INFO!$U$9:$U$1000, \" \")","v":" "},null,null,null,null,0,null,null,null,0,null,null,null,0,0,0,0,0," "," "," "," "]
[{"$f":"IF(COUNTRY_INFO!A120=0,\" \",COUNTRY_INFO!A120)","v":"Angola"},{"$f":"IF(COUNTRY_INFO!B120=0,\" \",COUNTRY_INFO!B120)","v":"LUNDA SUL"},{"$f":"IF(COUNTRY_INFO!C120=0,\" \",COUNTRY_INFO!C120)","v":"DALA"},{"$f":"IF(COUNTRY_INFO!$U$9:$U$1000=\"MDA4 (ALB/2*ALB)\", COUNTRY_INFO!$U$9:$U$1000, \" \")","v":" "},null,null,null,null,0,null,null,null,0,null,null,null,0,0,0,0,0," "," "," "," "]
[{"$f":"IF(COUNTRY_INFO!A121=0,\" \",COUNTRY_INFO!A121)","v":"Angola"},{"$f":"IF(COUNTRY_INFO!B121=0,\" \",COUNTRY_INFO!B121)","v":"LUNDA SUL"},{"$f":"IF(COUNTRY_INFO!C121=0,\" \",COUNTRY_INFO!C121)","v":"MUCONDA"},{"$f":"IF(COUNTRY_INFO!$U$9:$U$1000=\"MDA4 (ALB/2*ALB)\", COUNTRY_INFO!$U$9:$U$1000, \" \")","v":" "},null,null,null,null,0,null,null,null,0,null,null,null,0,0,0,0,0," "," "," "," "]
[{"$f":"IF(COUNTRY_INFO!A122=0,\" \",COUNTRY_INFO!A122)","v":"Angola"},{"$f":"IF(COUNTRY_INFO!B122=0,\" \",COUNTRY_INFO!B122)","v":"LUNDA SUL"},{"$f":"IF(COUNTRY_INFO!C122=0,\" \",COUNTRY_INFO!C122)","v":"SAURIMO"},{"$f":"IF(COUNTRY_INFO!$U$9:$U$1000=\"MDA4 (ALB/2*ALB)\", COUNTRY_INFO!$U$9:$U$1000, \" \")","v":" "},null,null,null,null,0,null,null,null,0,null,null,null,0,0,0,0,0," "," "," "," "]
[{"$f":"IF(COUNTRY_INFO!A123=0,\" \",COUNTRY_INFO!A123)","v":"Angola"},{"$f":"IF(COUNTRY_INFO!B123=0,\" \",COUNTRY_INFO!B123)","v":"MALANJE"},{"$f":"IF(COUNTRY_INFO!C123=0,\" \",COUNTRY_INFO!C123)","v":"CACULAMA (Mukari)"},{"$f":"IF(COUNTRY_INFO!$U$9:$U$1000=\"MDA4 (ALB/2*ALB)\", COUNTRY_INFO!$U$9:$U$1000, \" \")","v":" "},null,null,null,null,0,null,null,null,0,null,null,null,0,0,0,0,0," "," "," "," "]
[{"$f":"IF(COUNTRY_INFO!A124=0,\" \",COUNTRY_INFO!A124)","v":"Angola"},{"$f":"IF(COUNTRY_INFO!B124=0,\" \",COUNTRY_INFO!B124)","v":"MALANJE"},{"$f":"IF(COUNTRY_INFO!C124=0,\" \",COUNTRY_INFO!C124)","v":"CACUSO"},{"$f":"IF(COUNTRY_INFO!$U$9:$U$1000=\"MDA4 (ALB/2*ALB)\", COUNTRY_INFO!$U$9:$U$1000, \" \")","v":" "},null,null,null,null,0,null,null,null,0,null,null,null,0,0,0,0,0," "," "," "," "]
[{"$f":"IF(COUNTRY_INFO!A125=0,\" \",COUNTRY_INFO!A125)","v":"Angola"},{"$f":"IF(COUNTRY_INFO!B125=0,\" \",COUNTRY_INFO!B125)","v":"MALANJE"},{"$f":"IF(COUNTRY_INFO!C125=0,\" \",COUNTRY_INFO!C125)","v":"CAHOMBO"},{"$f":"IF(COUNTRY_INFO!$U$9:$U$1000=\"MDA4 (ALB/2*ALB)\", COUNTRY_INFO!$U$9:$U$1000, \" \")","v":" "},null,null,null,null,0,null,null,null,0,null,null,null,0,0,0,0,0," "," "," "," "]
[{"$f":"IF(COUNTRY_INFO!A126=0,\" \",COUNTRY_INFO!A126)","v":"Angola"},{"$f":"IF(COUNTRY_INFO!B126=0,\" \",COUNTRY_INFO!B126)","v":"MALANJE"},{"$f":"IF(COUNTRY_INFO!C126=0,\" \",COUNTRY_INFO!C126)","v":"CALANDULA"},{"$f":"IF(COUNTRY_INFO!$U$9:$U$1000=\"MDA4 (ALB/2*ALB)\", COUNTRY_INFO!$U$9:$U$1000, \" \")","v":" "},null,null,null,null,0,null,null,null,0,null,null,null,0,0,0,0,0," "," "," "," "]
[{"$f":"IF(COUNTRY_INFO!A127=0,\" \",COUNTRY_INFO!A127)","v":"Angola"},{"$f":"IF(COUNTRY_INFO!B127=0,\" \",COUNTRY_INFO!B127)","v":"MALANJE"},{"$f":"IF(COUNTRY_INFO!C127=0,\" \",COUNTRY_INFO!C127)","v":"CAMBUNDI CATEMBO"},{"$f":"IF(COUNTRY_INFO!$U$9:$U$1000=\"MDA4 (ALB/2*ALB)\", COUNTRY_INFO!$U$9:$U$1000, \" \")","v":" "},null,null,null,null,0,null,null,null,0,null,null,null,0,0,0,0,0," "," "," "," "]
[{"$f":"IF(COUNTRY_INFO!A128=0,\" \",COUNTRY_INFO!A128)","v":"Angola"},{"$f":"IF(COUNTRY_INFO!B128=0,\" \",COUNTRY_INFO!B128)","v":"MALANJE"},{"$f":"IF(COUNTRY_INFO!C128=0,\" \",COUNTRY_INFO!C128)","v":"CANGANDALA"},{"$f":"IF(COUNTRY_INFO!$U$9:$U$1000=\"MDA4 (ALB/2*ALB)\", COUNTRY_INFO!$U$9:$U$1000, \" \")","v":" "},null,null,null,null,0,null,null,null,0,null,null,null,0,0,0,0,0," "," "," "," "]
[{"$f":"IF(COUNTRY_INFO!A129=0,\" \",COUNTRY_INFO!A129)","v":"Angola"},{"$f":"IF(COUNTRY_INFO!B129=0,\" \",COUNTRY_INFO!B129)","v":"MALANJE"},{"$f":"IF(COUNTRY_INFO!C129=0,\" \",COUNTRY_INFO!C129)","v":"KIWABA NZOJI"},{"$f":"IF(COUNTRY_INFO!$U$9:$U$1000=\"MDA4 (ALB/2*ALB)\", COUNTRY_INFO!$U$9:$U$1000, \" \")","v":" "},null,null,null,null,0,null,null,null,0,null,null,null,0,0,0,0,0," "," "," "," "]
[{"$f":"IF(COUNTRY_INFO!A130=0,\" \",COUNTRY_INFO!A130)","v":"Angola"},{"$f":"IF(COUNTRY_INFO!B130=0,\" \",COUNTRY_INFO!B130)","v":"MALANJE"},{"$f":"IF(COUNTRY_INFO!C130=0,\" \",COUNTRY_INFO!C130)","v":"KUNDA DYA BASE"},{"$f":"IF(COUNTRY_INFO!$U$9:$U$1000=\"MDA4 (ALB/2*ALB)\", COUNTRY_INFO!$U$9:$U$1000, \" \")","v":" "},null,null,null,null,0,null,null,null,0,null,null,null,0,0,0,0,0," "," "," "," "]
[{"$f":"IF(COUNTRY_INFO!A131=0,\" \",COUNTRY_INFO!A131)","v":"Angola"},{"$f":"IF(COUNTRY_INFO!B131=0,\" \",COUNTRY_INFO!B131)","v":"MALANJE"},{"$f":"IF(COUNTRY_INFO!C131=0,\" \",COUNTRY_INFO!C131)","v":"LUQUEMBO"},{"$f":"IF(COUNTRY_INFO!$U$9:$U$1000=\"MDA4 (ALB/2*ALB)\", COUNTRY_INFO!$U$9:$U$1000, \" \")","v":" "},null,null,null,null,0,null,null,null,0,null,null,null,0,0,0,0,0," "," "," "," "]
[{"$f":"IF(COUNTRY_INFO!A132=0,\" \",COUNTRY_INFO!A132)","v":"Angola"},{"$f":"IF(COUNTRY_INFO!B132=0,\" \",COUNTRY_INFO!B132)","v":"MALANJE"},{"$f":"IF(COUNTRY_INFO!C132=0,\" \",COUNTRY_INFO!C132)","v":"MALANJE"},{"$f":"IF(COUNTRY_INFO!$U$9:$U$1000=\"MDA4 (ALB/2*ALB)\", COUNTRY_INFO!$U$9:$U$1000, \" \")","v":" "},null,null,null,null,0,null,null,null,0,null,null,null,0,0,0,0,0," "," "," "," "]
[{"$f":"IF(COUNTRY_INFO!A133=0,\" \",COUNTRY_INFO!A133)","v":"Angola"},{"$f":"IF(COUNTRY_INFO!B133=0,\" \",COUNTRY_INFO!B133)","v":"MALANJE"},{"$f":"IF(COUNTRY_INFO!C133=0,\" \",COUNTRY_INFO!C133)","v":"MARIMBA"},{"$f":"IF(COUNTRY_INFO!$U$9:$U$1000=\"MDA4 (ALB/2*ALB)\", COUNTRY_INFO!$U$9:$U$1000, \" \")","v":" "},null,null,null,null,0,null,null,null,0,null,null,null,0,0,0,0,0," "," "," "," "]
[{"$f":"IF(COUNTRY_INFO!A134=0,\" \",COUNTRY_INFO!A134)","v":"Angola"},{"$f":"IF(COUNTRY_INFO!B134=0,\" \",COUNTRY_INFO!B134)","v":"MALANJE"},{"$f":"IF(COUNTRY_INFO!C134=0,\" \",COUNTRY_INFO!C134)","v":"MASSANGO"},{"$f":"IF(COUNTRY_INFO!$U$9:$U$1000=\"MDA4 (ALB/2*ALB)\", COUNTRY_INFO!$U$9:$U$1000, \" \")","v":" "},null,null,null,null,0,null,null,null,0,null,null,null,0,0,0,0,0," "," "," "," "]
[{"$f":"IF(COUNTRY_INFO!A135=0,\" \",COUNTRY_INFO!A135)","v":"Angola"},{"$f":"IF(COUNTRY_INFO!B135=0,\" \",COUNTRY_INFO!B135)","v":"MALANJE"},{"$f":"IF(COUNTRY_INFO!C135=0,\" \",COUNTRY_INFO!C135)","v":"QUELA"},{"$f":"IF(COUNTRY_INFO!$U$9:$U$1000=\"MDA4 (ALB/2*ALB)\", COUNTRY_INFO!$U$9:$U$1000, \" \")","v":" "},null,null,null,null,0,null,null,null,0,null,null,null,0,0,0,0,0," "," "," "," "]
[{"$f":"IF(COUNTRY_INFO!A136=0,\" \",COUNTRY_INFO!A136)","v":"Angola"},{"$f":"IF(COUNTRY_INFO!B136=0,\" \",COUNTRY_INFO!B136)","v":"MALANJE"},{"$f":"IF(COUNTRY_INFO!C136=0,\" \",COUNTRY_INFO!C136)","v":"QUIRIMA"},{"$f":"IF(COUNTRY_INFO!$U$9:$U$1000=\"MDA4 (ALB/2*ALB)\", COUNTRY_INFO!$U$9:$U$1000, \" \")","v":" "},null,null,null,null,0,null,null,null,0,null,null,null,0,0,0,0,0," "," "," "," "]
[{"$f":"IF(COUNTRY_INFO!A137=0,\" \",COUNTRY_INFO!A137)","v":"Angola"},{"$f":"IF(COUNTRY_INFO!B137=0,\" \",COUNTRY_INFO!B137)","v":"MOXICO"},{"$f":"IF(COUNTRY_INFO!C137=0,\" \",COUNTRY_INFO!C137)","v":"ALTO ZAMBEZE"},{"$f":"IF(COUNTRY_INFO!$U$9:$U$1000=\"MDA4 (ALB/2*ALB)\", COUNTRY_INFO!$U$9:$U$1000, \" \")","v":" "},null,null,null,null,0,null,null,null,0,null,null,null,0,0,0,0,0," "," "," "," "]
[{"$f":"IF(COUNTRY_INFO!A138=0,\" \",COUNTRY_INFO!A138)","v":"Angola"},{"$f":"IF(COUNTRY_INFO!B138=0,\" \",COUNTRY_INFO!B138)","v":"MOXICO"},{"$f":"IF(COUNTRY_INFO!C138=0,\" \",COUNTRY_INFO!C138)","v":"BUNDAS (LUMBALA NGUIMBO)"},{"$f":"IF(COUNTRY_INFO!$U$9:$U$1000=\"MDA4 (ALB/2*ALB)\", COUNTRY_INFO!$U$9:$U$1000, \" \")","v":" "},null,null,null,null,{"$f":"SUM(F138:H138)","v":0},null,null,null,{"$f":"SUM(J138:L138)","v":0},null,null,null,{"$f":"SUM(N138:P138)","v":0},{"$f":"MAX(J138,N138)","v":0},{"$f":"MAX(K138,O138)","v":0},{"$f":"MAX(L138,P138)","v":0},{"$f":"SUM(R138:T138)","v":0},{"$f":"IF(F138<>0, IF(R138/F138*100=0, \"-\", R138/F138*100), \" \")","v":" "},{"$f":"IF(G138<>0, IF(S138/G138*100=0, \"-\", S138/G138*100), \" \")","v":" "},{"$f":"IF(H138<>0, IF(T138/H138*100=0, \"-\", T138/H138*100), \" \")","v":" "},{"$f":"IF(I138<>0, IF(U138/I138*100=0, \"-\", U138/I138*100), \" \")","v":" "}]
[{"$f":"IF(COUNTRY_INFO!A139=0,\" \",COUNTRY_INFO!A139)","v":"Angola"},{"$f":"IF(COUNTRY_INFO!B139=0,\" \",COUNTRY_INFO!B139)","v":"MOXICO"},{"$f":"IF(COUNTRY_INFO!C139=0,\" \",COUNTRY_INFO!C139)","v":"CAMANONGUE"},{"$f":"IF(COUNTRY_INFO!$U$9:$U$1000=\"MDA4 (ALB/2*ALB)\", COUNTRY_INFO!$U$9:$U$1000, \" \")","v":" "},null,null,null,null,0,null,null,null,0,null,null,null,0,0,0,0,0," "," "," "," "]
[{"$f":"IF(COUNTRY_INFO!A140=0,\" \",COUNTRY_INFO!A140)","v":"Angola"},{"$f":"IF(COUNTRY_INFO!B140=0,\" \",COUNTRY_INFO!B140)","v":"MOXICO"},{"$f":"IF(COUNTRY_INFO!C140=0,\" \",COUNTRY_INFO!C140)","v":"CAMEIA (LUMEJE)"},{"$f":"IF(COUNTRY_INFO!$U$9:$U$1000=\"MDA4 (ALB/2*ALB)\", COUNTRY_INFO!$U$9:$U$1000, \" \")","v":" "},null,null,null,null,0,null,null,null,0,null,null,null,0,0,0,0,0," "," "," "," "]
[{"$f":"IF(COUNTRY_INFO!A141=0,\" \",COUNTRY_INFO!A141)","v":"Angola"},{"$f":"IF(COUNTRY_INFO!B141=0,\" \",COUNTRY_INFO!B141)","v":"MOXICO"},{"$f":"IF(COUNTRY_INFO!C141=0,\" \",COUNTRY_INFO!C141)","v":"LEUA"},{"$f":"IF(COUNTRY_INFO!$U$9:$U$1000=\"MDA4 (ALB/2*ALB)\", COUNTRY_INFO!$U$9:$U$1000, \" \")","v":" "},null,null,null,null,0,null,null,null,0,null,null,null,0,0,0,0,0," "," "," "," "]
[{"$f":"IF(COUNTRY_INFO!A142=0,\" \",COUNTRY_INFO!A142)","v":"Angola"},{"$f":"IF(COUNTRY_INFO!B142=0,\" \",COUNTRY_INFO!B142)","v":"MOXICO"},{"$f":"IF(COUNTRY_INFO!C142=0,\" \",COUNTRY_INFO!C142)","v":"LUACANO"},{"$f":"IF(COUNTRY_INFO!$U$9:$U$1000=\"MDA4 (ALB/2*ALB)\", COUNTRY_INFO!$U$9:$U$1000, \" \")","v":" "},null,null,null,null,0,null,null,null,0,null,null,null,0,0,0,0,0," "," "," "," "]
[{"$f":"IF(COUNTRY_INFO!A143=0,\" \",COUNTRY_INFO!A143)","v":"Angola"},{"$f":"IF(COUNTRY_INFO!B143=0,\" \",COUNTRY_INFO!B143)","v":"MOXICO"},{"$f":"IF(COUNTRY_INFO!C143=0,\" \",COUNTRY_INFO!C143)","v":"LUAU"},{"$f":"IF(COUNTRY_INFO!$U$9:$U$1000=\"MDA4 (ALB/2*ALB)\", COUNTRY_INFO!$U$9:$U$1000, \" \")","v":" "},null,null,null,null,0,null,null,null,0,null,null,null,0,0,0,0,0," "," "," "," "]
[{"$f":"IF(COUNTRY_INFO!A144=0,\" \",COUNTRY_INFO!A144)","v":"Angola"},{"$f":"IF(COUNTRY_INFO!B144=0,\" \",COUNTRY_INFO!B144)","v":"MOXICO"},{"$f":"IF(COUNTRY_INFO!C144=0,\" \",COUNTRY_INFO!C144)","v":"LUCHAZES"},{"$f":"IF(COUNTRY_INFO!$U$9:$U$1000=\"MDA4 (ALB/2*ALB)\", COUNTRY_INFO!$U$9:$U$1000, \" \")","v":" "},null,null,null,null,0,null,null,null,0,null,null,null,0,0,0,0,0," "," "," "," "]
[{"$f":"IF(COUNTRY_INFO!A145=0,\" \",COUNTRY_INFO!A145)","v":"Angola"},{"$f":"IF(COUNTRY_INFO!B145=0,\" \",COUNTRY_INFO!B145)","v":"MOXICO"},{"$f":"IF(COUNTRY_INFO!C145=0,\" \",COUNTRY_INFO!C145)","v":"MOXICO/LUENA"},{"$f":"IF(COUNTRY_INFO!$U$9:$U$1000=\"MDA4 (ALB/2*ALB)\", COUNTRY_INFO!$U$9:$U$1000, \" \")","v":" "},null,null,null,null,0,null,null,null,0,null,null,null,0,0,0,0,0," "," "," "," "]
[{"$f":"IF(COUNTRY_INFO!A146=0,\" \",COUNTRY_INFO!A146)","v":"Angola"},{"$f":"IF(COUNTRY_INFO!B146=0,\" \",COUNTRY_INFO!B146)","v":"NAMIBE"},{"$f":"IF(COUNTRY_INFO!C146=0,\" \",COUNTRY_INFO!C146)","v":"BIBALA"},{"$f":"IF(COUNTRY_INFO!$U$9:$U$1000=\"MDA4 (ALB/2*ALB)\", COUNTRY_INFO!$U$9:$U$1000, \" \")","v":" "},null,null,null,null,0,null,null,null,0,null,null,null,0,0,0,0,0," "," "," "," "]
[{"$f":"IF(COUNTRY_INFO!A147=0,\" \",COUNTRY_INFO!A147)","v":"Angola"},{"$f":"IF(COUNTRY_INFO!B147=0,\" \",COUNTRY_INFO!B147)","v":"NAMIBE"},{"$f":"IF(COUNTRY_INFO!C147=0,\" \",COUNTRY_INFO!C147)","v":"CAMUCUIO"},{"$f":"IF(COUNTRY_INFO!$U$9:$U$1000=\"MDA4 (ALB/2*ALB)\", COUNTRY_INFO!$U$9:$U$1000, \" \")","v":" "},null,null,null,null,0,null,null,null,0,null,null,null,0,0,0,0,0," "," "," "," "]
[{"$f":"IF(COUNTRY_INFO!A148=0,\" \",COUNTRY_INFO!A148)","v":"Angola"},{"$f":"IF(COUNTRY_INFO!B148=0,\" \",COUNTRY_INFO!B148)","v":"NAMIBE"},{"$f":"IF(COUNTRY_INFO!C148=0,\" \",COUNTRY_INFO!C148)","v":"NAMIBE"},{"$f":"IF(COUNTRY_INFO!$U$9:$U$1000=\"MDA4 (ALB/2*ALB)\", COUNTRY_INFO!$U$9:$U$1000, \" \")","v":" "},null,null,null,null,0,null,null,null,0,null,null,null,0,0,0,0,0," "," "," "," "]
[{"$f":"IF(COUNTRY_INFO!A149=0,\" \",COUNTRY_INFO!A149)","v":"Angola"},{"$f":"IF(COUNTRY_INFO!B149=0,\" \",COUNTRY_INFO!B149)","v":"NAMIBE"},{"$f":"IF(COUNTRY_INFO!C149=0,\" \",COUNTRY_INFO!C149)","v":"TOMBWA"},{"$f":"IF(COUNTRY_INFO!$U$9:$U$1000=\"MDA4 (ALB/2*ALB)\", COUNTRY_INFO!$U$9:$U$1000, \" \")","v":" "},null,null,null,null,0,null,null,null,0,null,null,null,0,0,0,0,0," "," "," "," "]
[{"$f":"IF(COUNTRY_INFO!A150=0,\" \",COUNTRY_INFO!A150)","v":"Angola"},{"$f":"IF(COUNTRY_INFO!B150=0,\" \",COUNTRY_INFO!B150)","v":"NAMIBE"},{"$f":"IF(COUNTRY_INFO!C150=0,\" \",COUNTRY_INFO!C150)","v":"VIREI"},{"$f":"IF(COUNTRY_INFO!$U$9:$U$1000=\"MDA4 (ALB/2*ALB)\", COUNTRY_INFO!$U$9:$U$1000, \" \")","v":" "},null,null,null,null,0,null,null,null,0,null,null,null,0,0,0,0,0," "," "," "," "]
[{"$f":"IF(COUNTRY_INFO!A151=0,\" \",COUNTRY_INFO!A151)","v":"Angola"},{"$f":"IF(COUNTRY_INFO!B151=0,\" \",COUNTRY_INFO!B151)","v":"UIGE"},{"$f":"IF(COUNTRY_INFO!C151=0,\" \",COUNTRY_INFO!C151)","v":"AMBUILA"},{"$f":"IF(COUNTRY_INFO!$U$9:$U$1000=\"MDA4 (ALB/2*ALB)\", COUNTRY_INFO!$U$9:$U$1000, \" \")","v":" "},null,null,null,null,0,null,null,null,0,null,null,null,0,0,0,0,0," "," "," "," "]
[{"$f":"IF(COUNTRY_INFO!A152=0,\" \",COUNTRY_INFO!A152)","v":"Angola"},{"$f":"IF(COUNTRY_INFO!B152=0,\" \",COUNTRY_INFO!B152)","v":"UIGE"},{"$f":"IF(COUNTRY_INFO!C152=0,\" \",COUNTRY_INFO!C152)","v":"BEMBE"},{"$f":"IF(COUNTRY_INFO!$U$9:$U$1000=\"MDA4 (ALB/2*ALB)\", COUNTRY_INFO!$U$9:$U$1000, \" \")","v":" "},null,null,null,null,0,null,null,null,0,null,null,null,0,0,0,0,0," "," "," "," "]
[{"$f":"IF(COUNTRY_INFO!A153=0,\" \",COUNTRY_INFO!A153)","v":"Angola"},{"$f":"IF(COUNTRY_INFO!B153=0,\" \",COUNTRY_INFO!B153)","v":"UIGE"},{"$f":"IF(COUNTRY_INFO!C153=0,\" \",COUNTRY_INFO!C153)","v":"BUENGAS"},{"$f":"IF(COUNTRY_INFO!$U$9:$U$1000=\"MDA4 (ALB/2*ALB)\", COUNTRY_INFO!$U$9:$U$1000, \" \")","v":" "},null,null,null,null,0,null,null,null,0,null,null,null,0,0,0,0,0," "," "," "," "]
[{"$f":"IF(COUNTRY_INFO!A154=0,\" \",COUNTRY_INFO!A154)","v":"Angola"},{"$f":"IF(COUNTRY_INFO!B154=0,\" \",COUNTRY_INFO!B154)","v":"UIGE"},{"$f":"IF(COUNTRY_INFO!C154=0,\" \",COUNTRY_INFO!C154)","v":"BUNGO"},{"$f":"IF(COUNTRY_INFO!$U$9:$U$1000=\"MDA4 (ALB/2*ALB)\", COUNTRY_INFO!$U$9:$U$1000, \" \")","v":" "},null,null,null,null,0,null,null,null,0,null,null,null,0,0,0,0,0," "," "," "," "]
[{"$f":"IF(COUNTRY_INFO!A155=0,\" \",COUNTRY_INFO!A155)","v":"Angola"},{"$f":"IF(COUNTRY_INFO!B155=0,\" \",COUNTRY_INFO!B155)","v":"UIGE"},{"$f":"IF(COUNTRY_INFO!C155=0,\" \",COUNTRY_INFO!C155)","v":"CANGOLA"},{"$f":"IF(COUNTRY_INFO!$U$9:$U$1000=\"MDA4 (ALB/2*ALB)\", COUNTRY_INFO!$U$9:$U$1000, \" \")","v":" "},null,null,null,null,0,null,null,null,0,null,null,null,0,0,0,0,0," "," "," "," "]
[{"$f":"IF(COUNTRY_INFO!A156=0,\" \",COUNTRY_INFO!A156)","v":"Angola"},{"$f":"IF(COUNTRY_INFO!B156=0,\" \",COUNTRY_INFO!B156)","v":"UIGE"},{"$f":"IF(COUNTRY_INFO!C156=0,\" \",COUNTRY_INFO!C156)","v":"DAMBA"},{"$f":"IF(COUNTRY_INFO!$U$9:$U$1000=\"MDA4 (ALB/2*ALB)\", COUNTRY_INFO!$U$9:$U$1000, \" \")","v":" "},null,null,null,null,0,null,null,null,0,null,null,null,0,0,0,0,0," "," "," "," "]
[{"$f":"IF(COUNTRY_INFO!A157=0,\" \",COUNTRY_INFO!A157)","v":"Angola"},{"$f":"IF(COUNTRY_INFO!B157=0,\" \",COUNTRY_INFO!B157)","v":"UIGE"},{"$f":"IF(COUNTRY_INFO!C157=0,\" \",COUNTRY_INFO!C157)","v":"MAQUELA DO ZOMBO"},{"$f":"IF(COUNTRY_INFO!$U$9:$U$1000=\"MDA4 (ALB/2*ALB)\", COUNTRY_INFO!$U$9:$U$1000, \" \")","v":" "},null,null,null,null,0,null,null,null,0,null,null,null,0,0,0,0,0," "," "," "," "]
[{"$f":"IF(COUNTRY_INFO!A158=0,\" \",COUNTRY_INFO!A158)","v":"Angola"},{"$f":"IF(COUNTRY_INFO!B158=0,\" \",COUNTRY_INFO!B158)","v":"UIGE"},{"$f":"IF(COUNTRY_INFO!C158=0,\" \",COUNTRY_INFO!C158)","v":"MILUNGA"},{"$f":"IF(COUNTRY_INFO!$U$9:$U$1000=\"MDA4 (ALB/2*ALB)\", COUNTRY_INFO!$U$9:$U$1000, \" \")","v":" "},null,null,null,null,0,null,null,null,0,null,null,null,0,0,0,0,0," "," "," "," "]
[{"$f":"IF(COUNTRY_INFO!A159=0,\" \",COUNTRY_INFO!A159)","v":"Angola"},{"$f":"IF(COUNTRY_INFO!B159=0,\" \",COUNTRY_INFO!B159)","v":"UIGE"},{"$f":"IF(COUNTRY_INFO!C159=0,\" \",COUNTRY_INFO!C159)","v":"MUCABA"},{"$f":"IF(COUNTRY_INFO!$U$9:$U$1000=\"MDA4 (ALB/2*ALB)\", COUNTRY_INFO!$U$9:$U$1000, \" \")","v":" "},null,null,null,null,0,null,null,null,0,null,null,null,0,0,0,0,0," "," "," "," "]
[{"$f":"IF(COUNTRY_INFO!A160=0,\" \",COUNTRY_INFO!A160)","v":"Angola"},{"$f":"IF(COUNTRY_INFO!B160=0,\" \",COUNTRY_INFO!B160)","v":"UIGE"},{"$f":"IF(COUNTRY_INFO!C160=0,\" \",COUNTRY_INFO!C160)","v":"NEGAGE"},{"$f":"IF(COUNTRY_INFO!$U$9:$U$1000=\"MDA4 (ALB/2*ALB)\", COUNTRY_INFO!$U$9:$U$1000, \" \")","v":" "},null,null,null,null,0,null,null,null,0,null,null,null,0,0,0,0,0," "," "," "," "]
[{"$f":"IF(COUNTRY_INFO!A161=0,\" \",COUNTRY_INFO!A161)","v":"Angola"},{"$f":"IF(COUNTRY_INFO!B161=0,\" \",COUNTRY_INFO!B161)","v":"UIGE"},{"$f":"IF(COUNTRY_INFO!C161=0,\" \",COUNTRY_INFO!C161)","v":"PURI"},{"$f":"IF(COUNTRY_INFO!$U$9:$U$1000=\"MDA4 (ALB/2*ALB)\", COUNTRY_INFO!$U$9:$U$1000, \" \")","v":" "},null,null,null,null,0,null,null,null,0,null,null,null,0,0,0,0,0," "," "," "," "]
[{"$f":"IF(COUNTRY_INFO!A162=0,\" \",COUNTRY_INFO!A162)","v":"Angola"},{"$f":"IF(COUNTRY_INFO!B162=0,\" \",COUNTRY_INFO!B162)","v":"UIGE"},{"$f":"IF(COUNTRY_INFO!C162=0,\" \",COUNTRY_INFO!C162)","v":"QUIMBELE"},{"$f":"IF(COUNTRY_INFO!$U$9:$U$1000=\"MDA4 (ALB/2*ALB)\", COUNTRY_INFO!$U$9:$U$1000, \" \")","v":" "},null,null,null,null,0,null,null,null,0,null,null,null,0,0,0,0,0," "," "," "," "]
[{"$f":"IF(COUNTRY_INFO!A163=0,\" \",COUNTRY_INFO!A163)","v":"Angola"},{"$f":"IF(COUNTRY_INFO!B163=0,\" \",COUNTRY_INFO!B163)","v":"UIGE"},{"$f":"IF(COUNTRY_INFO!C163=0,\" \",COUNTRY_INFO!C163)","v":"QUITEXE"},{"$f":"IF(COUNTRY_INFO!$U$9:$U$1000=\"MDA4 (ALB/2*ALB)\", COUNTRY_INFO!$U$9:$U$1000, \" \")","v":" "},null,null,null,null,0,null,null,null,0,null,null,null,0,0,0,0,0," "," "," "," "]
[{"$f":"IF(COUNTRY_INFO!A164=0,\" \",COUNTRY_INFO!A164)","v":"Angola"},{"$f":"IF(COUNTRY_INFO!B164=0,\" \",COUNTRY_INFO!B164)","v":"UIGE"},{"$f":"IF(COUNTRY_INFO!C164=0,\" \",COUNTRY_INFO!C164)","v":"SANZA POMBO"},{"$f":"IF(COUNTRY_INFO!$U$9:$U$1000=\"MDA4 (ALB/2*ALB)\", COUNTRY_INFO!$U$9:$U$1000, \" \")","v":" "},null,null,null,null,0,null,null,null,0,null,null,null,0,0,0,0,0," "," "," "," "]
[{"$f":"IF(COUNTRY_INFO!A165=0,\" \",COUNTRY_INFO!A165)","v":"Angola"},{"$f":"IF(COUNTRY_INFO!B165=0,\" \",COUNTRY_INFO!B165)","v":"UIGE"},{"$f":"IF(COUNTRY_INFO!C165=0,\" \",COUNTRY_INFO!C165)","v":"SONGO"},{"$f":"IF(COUNTRY_INFO!$U$9:$U$1000=\"MDA4 (ALB/2*ALB)\", COUNTRY_INFO!$U$9:$U$1000, \" \")","v":" "},null,null,null,null,0,null,null,null,0,null,null,null,0,0,0,0,0," "," "," "," "]
[{"$f":"IF(COUNTRY_INFO!A166=0,\" \",COUNTRY_INFO!A166)","v":"Angola"},{"$f":"IF(COUNTRY_INFO!B166=0,\" \",COUNTRY_INFO!B166)","v":"UIGE"},{"$f":"IF(COUNTRY_INFO!C166=0,\" \",COUNTRY_INFO!C166)","v":"UIGE"},{"$f":"IF(COUNTRY_INFO!$U$9:$U$1000=\"MDA4 (ALB/2*ALB)\", COUNTRY_INFO!$U$9:$U$1000, \" \")","v":" "},null,null,null,null,0,null,null,null,0,null,null,null,0,0,0,0,0," "," "," "," "]
[{"$f":"IF(COUNTRY_INFO!A167=0,\" \",COUNTRY_INFO!A167)","v":"Angola"},{"$f":"IF(COUNTRY_INFO!B167=0,\" \",COUNTRY_INFO!B167)","v":"ZAIRE"},{"$f":"IF(COUNTRY_INFO!C167=0,\" \",COUNTRY_INFO!C167)","v":"CUIMBA"},{"$f":"IF(COUNTRY_INFO!$U$9:$U$1000=\"MDA4 (ALB/2*ALB)\", COUNTRY_INFO!$U$9:$U$1000, \" \")","v":" "},null,null,null,null,0,null,null,null,0,null,null,null,0,0,0,0,0," "," "," "," "]
[{"$f":"IF(COUNTRY_INFO!A168=0,\" \",COUNTRY_INFO!A168)","v":"Angola"},{"$f":"IF(COUNTRY_INFO!B168=0,\" \",COUNTRY_INFO!B168)","v":"ZAIRE"},{"$f":"IF(COUNTRY_INFO!C168=0,\" \",COUNTRY_INFO!C168)","v":"MBANZA KONGO"},{"$f":"IF(COUNTRY_INFO!$U$9:$U$1000=\"MDA4 (ALB/2*ALB)\", COUNTRY_INFO!$U$9:$U$1000, \" \")","v":" "},null,null,null,null,0,null,null,null,0,null,null,null,0,0,0,0,0," "," "," "," "]
[{"$f":"IF(COUNTRY_INFO!A169=0,\" \",COUNTRY_INFO!A169)","v":"Angola"},{"$f":"IF(COUNTRY_INFO!B169=0,\" \",COUNTRY_INFO!B169)","v":"ZAIRE"},{"$f":"IF(COUNTRY_INFO!C169=0,\" \",COUNTRY_INFO!C169)","v":"NOQUI"},{"$f":"IF(COUNTRY_INFO!$U$9:$U$1000=\"MDA4 (ALB/2*ALB)\", COUNTRY_INFO!$U$9:$U$1000, \" \")","v":" "},null,null,null,null,0,null,null,null,0,null,null,null,0,0,0,0,0," "," "," "," "]
[{"$f":"IF(COUNTRY_INFO!A170=0,\" \",COUNTRY_INFO!A170)","v":"Angola"},{"$f":"IF(COUNTRY_INFO!B170=0,\" \",COUNTRY_INFO!B170)","v":"ZAIRE"},{"$f":"IF(COUNTRY_INFO!C170=0,\" \",COUNTRY_INFO!C170)","v":"NZETO"},{"$f":"IF(COUNTRY_INFO!$U$9:$U$1000=\"MDA4 (ALB/2*ALB)\", COUNTRY_INFO!$U$9:$U$1000, \" \")","v":" "},null,null,null,null,0,null,null,null,0,null,null,null,0,0,0,0,0," "," "," "," "]
[{"$f":"IF(COUNTRY_INFO!A171=0,\" \",COUNTRY_INFO!A171)","v":"Angola"},{"$f":"IF(COUNTRY_INFO!B171=0,\" \",COUNTRY_INFO!B171)","v":"ZAIRE"},{"$f":"IF(COUNTRY_INFO!C171=0,\" \",COUNTRY_INFO!C171)","v":"SOYO"},{"$f":"IF(COUNTRY_INFO!$U$9:$U$1000=\"MDA4 (ALB/2*ALB)\", COUNTRY_INFO!$U$9:$U$1000, \" \")","v":" "},null,null,null,null,0,null,null,null,0,null,null,null,0,0,0,0,0," "," "," "," "]
[{"$f":"IF(COUNTRY_INFO!A172=0,\" \",COUNTRY_INFO!A172)","v":"Angola"},{"$f":"IF(COUNTRY_INFO!B172=0,\" \",COUNTRY_INFO!B172)","v":"ZAIRE"},{"$f":"IF(COUNTRY_INFO!C172=0,\" \",COUNTRY_INFO!C172)","v":"TOMBOCO"},{"$f":"IF(COUNTRY_INFO!$U$9:$U$1000=\"MDA4 (ALB/2*ALB)\", COUNTRY_INFO!$U$9:$U$1000, \" \")","v":" "},null,null,null,null,0,null,null,null,0,null,null,null,0,0,0,0,0," "," "," "," "]

{"sheet":"MDA3","index":4,"n_rows":172,"n_cols":20,"rows_kept":172,"cut":false,"hidden":false,"merged":[[5,5,5,7],[5,17,5,19],[3,0,3,2],[5,0,5,2],[5,3,6,3],[5,4,6,4],[5,8,5,10],[5,11,5,13],[5,14,5,16]]}
["MDA 3 - Ivermectin (IVM) "]
["Administrative structure, population requiring PC by age group, population treated by age group and coverage"]
[]
["TOTAL",null,null,null,null,{"$f":"SUM(F$9:F$1000)","v":0},0,0,0,0,0,0,0,0,0,0,0,{"$f":"IF(F4<>0, IF(O4/F4*100=0, \"-\", O4/F4*100), \" \")","v":" "},{"$f":"IF(G4<>0, IF(P4/G4*100=0, \"-\", P4/G4*100), \" \")","v":" "},{"$f":"IF(H4<>0, IF(Q4/H4*100=0, \"-\", Q4/H4*100), \" \")","v":" "}]
[]
[null,null,null,"PC implemented","Date","Population targeted for MDA 3",null,null,"Population treated - 1st round",null,null,"Population treated - 2nd round",null,null,"Population treated",null,null,"Programme coverage (%)"]
["Country","Province/State","District",null,null,"SAC","Adults","Total","SAC","Adults","Total","SAC","Adults","Total","SAC","Adults","Total","SAC","Adults","Total"]
[]
[{"$f":"IF(COUNTRY_INFO!A9=0,\" \",COUNTRY_INFO!A9)","v":"Angola"},{"$f":"IF(COUNTRY_INFO!B9=0,\" \",COUNTRY_INFO!B9)","v":"BENGO"},{"$f":"IF(COUNTRY_INFO!C9=0,\" \",COUNTRY_INFO!C9)","v":"AMBRIZ"},{"$f":"IF(COUNTRY_INFO!$U$9:$U$1000=\"MDA3 (IVM)\", COUNTRY_INFO!$U$9:$U$1000, \" \")","v":" "},null,null,null,{"$f":"SUM(F9:G9)","v":0},null,null,{"$f":"SUM(I9:J9)","v":0},null,null,{"$f":"SUM(L9:M9)","v":0},{"$f":"MAX(I9,L9)","v":0},{"$f":"MAX(J9,M9)","v":0},{"$f":"SUM(O9:P9)","v":0},{"$f":"IF(F9<>0, IF(MAX(I9,L9)/F9*100=0, \"-\", MAX(I9,L9)/F9*100), \" \")","v":" "},{"$f":"IF(G9<>0, IF(MAX(J9,M9)/G9*100=0, \"-\", MAX(J9,M9)/G9*100), \" \")","v":" "},{"$f":"IF(H9<>0, IF((MAX(I9,L9)+MAX(J9,M9))/H9*100=0, \"-\",(MAX(I9,L9)+MAX(J9,M9))/H9*100), \" \")","v":" "}]
[{"$f":"IF(COUNTRY_INFO!A10=0,\" \",COUNTRY_INFO!A10)","v":"Angola"},{"$f":"IF(COUNTRY_INFO!B10=0,\" \",COUNTRY_INFO!B10)","v":"BENGO"},{"$f":"IF(COUNTRY_INFO!C10=0,\" \",COUNTRY_INFO!C10)","v":"BULA ATUMBA"},{"$f":"IF(COUNTRY_INFO!$U$9:$U$1000=\"MDA3 (IVM)\", COUNTRY_INFO!$U$9:$U$1000, \" \")","v":" "},null,null,null,{"$f":"SUM(F10:G10)","v":0},null,null,{"$f":"SUM(I10:J10)","v":0},null,null,{"$f":"SUM(L10:M10)","v":0},{"$f":"MAX(I10,L10)","v":0},{"$f":"MAX(J10,M10)","v":0},{"$f":"SUM(O10:P10)","v":0},{"$f":"IF(F10<>0, IF(MAX(I10,L10)/F10*100=0, \"-\", MAX(I10,L10)/F10*100), \" \")","v":" "},{"$f":"IF(G10<>0, IF(MAX(J10,M10)/G10*100=0, \"-\", MAX(J10,M10)/G10*100), \" \")","v":" "},{"$f":"IF(H10<>0, IF((MAX(I10,L10)+MAX(J10,M10))/H10*100=0, \"-\",(MAX(I10,L10)+MAX(J10,M10))/H10*100), \" \")","v":" "}]
[{"$f":"IF(COUNTRY_INFO!A11=0,\" \",COUNTRY_INFO!A11)","v":"Angola"},{"$f":"IF(COUNTRY_INFO!B11=0,\" \",COUNTRY_INFO!B11)","v":"BENGO"},{"$f":"IF(COUNTRY_INFO!C11=0,\" \",COUNTRY_INFO!C11)","v":"DANDE"},{"$f":"IF(COUNTRY_INFO!$U$9:$U$1000=\"MDA3 (IVM)\", COUNTRY_INFO!$U$9:$U$1000, \" \")","v":" "},null,null,null,0,null,null,0,null,null,0,0,0,0," "," "," "]
[{"$f":"IF(COUNTRY_INFO!A12=0,\" \",COUNTRY_INFO!A12)","v":"Angola"},{"$f":"IF(COUNTRY_INFO!B12=0,\" \",COUNTRY_INFO!B12)","v":"BENGO"},{"$f":"IF(COUNTRY_INFO!C12=0,\" \",COUNTRY_INFO!C12)","v":"DEMBOS"},{"$f":"IF(COUNTRY_INFO!$U$9:$U$1000=\"MDA3 (IVM)\", COUNTRY_INFO!$U$9:$U$1000, \" \")","v":" "},null,null,null,0,null,null,0,null,null,0,0,0,0," "," "," "]
[{"$f":"IF(COUNTRY_INFO!A13=0,\" \",COUNTRY_INFO!A13)","v":"Angola"},{"$f":"IF(COUNTRY_INFO!B13=0,\" \",COUNTRY_INFO!B13)","v":"BENGO"},{"$f":"IF(COUNTRY_INFO!C13=0,\" \",COUNTRY_INFO!C13)","v":"NAMBUANGONGO"},{"$f":"IF(COUNTRY_INFO!$U$9:$U$1000=\"MDA3 (IVM)\", COUNTRY_INFO!$U$9:$U$1000, \" \")","v":" "},null,null,null,0,null,null,0,null,null,0,0,0,0," "," "," "]
[{"$f":"IF(COUNTRY_INFO!A14=0,\" \",COUNTRY_INFO!A14)","v":"Angola"},{"$f":"IF(COUNTRY_INFO!B14=0,\" \",COUNTRY_INFO!B14)","v":"BENGO"},{"$f":"IF(COUNTRY_INFO!C14=0,\" \",COUNTRY_INFO!C14)","v":"PANGO ALUQUEM"},{"$f":"IF(COUNTRY_INFO!$U$9:$U$1000=\"MDA3 (IVM)\", COUNTRY_INFO!$U$9:$U$1000, \" \")","v":" "},null,null,null,0,null,null,0,null,null,0,0,0,0," "," "," "]
[{"$f":"IF(COUNTRY_INFO!A15=0,\" \",COUNTRY_INFO!A15)","v":"Angola"},{"$f":"IF(COUNTRY_INFO!B15=0,\" \",COUNTRY_INFO!B15)","v":"BENGUELA"},{"$f":"IF(COUNTRY_INFO!C15=0,\" \",COUNTRY_INFO!C15)","v":"BAIA FARTA"},{"$f":"IF(COUNTRY_INFO!$U$9:$U$1000=\"MDA3 (IVM)\", COUNTRY_INFO!$U$9:$U$1000, \" \")","v":" "},null,null,null,0,null,null,0,null,null,0,0,0,0," "," "," "]
[{"$f":"IF(COUNTRY_INFO!A16=0,\" \",COUNTRY_INFO!A16)","v":"Angola"},{"$f":"IF(COUNTRY_INFO!B16=0,\" \",COUNTRY_INFO!B16)","v":"BENGUELA"},{"$f":"IF(COUNTRY_INFO!C16=0,\" \",COUNTRY_INFO!C16)","v":"BALOMBO"},{"$f":"IF(COUNTRY_INFO!$U$9:$U$1000=\"MDA3 (IVM)\", COUNTRY_INFO!$U$9:$U$1000, \" \")","v":" "},null,null,null,0,null,null,0,null,null,0,0,0,0," "," "," "]
[{"$f":"IF(COUNTRY_INFO!A17=0,\" \",COUNTRY_INFO!A17)","v":"Angola"},{"$f":"IF(COUNTRY_INFO!B17=0,\" \",COUNTRY_INFO!B17)","v":"BENGUELA"},{"$f":"IF(COUNTRY_INFO!C17=0,\" \",COUNTRY_INFO!C17)","v":"BENGUELA"},{"$f":"IF(COUNTRY_INFO!$U$9:$U$1000=\"MDA3 (IVM)\", COUNTRY_INFO!$U$9:$U$1000, \" \")","v":" "},null,null,null,0,null,null,0,null,null,0,0,0,0," "," "," "]
[{"$f":"IF(COUNTRY_INFO!A18=0,\" \",COUNTRY_INFO!A18)","v":"Angola"},{"$f":"IF(COUNTRY_INFO!B18=0,\" \",COUNTRY_INFO!B18)","v":"BENGUELA"},{"$f":"IF(COUNTRY_INFO!C18=0,\" \",COUNTRY_INFO!C18)","v":"BOCOIO"},{"$f":"IF(COUNTRY_INFO!$U$9:$U$1000=\"MDA3 (IVM)\", COUNTRY_INFO!$U$9:$U$1000, \" \")","v":" "},null,null,null,0,null,null,0,null,null,0,0,0,0," "," "," "]
[{"$f":"IF(COUNTRY_INFO!A19=0,\" \",COUNTRY_INFO!A19)","v":"Angola"},{"$f":"IF(COUNTRY_INFO!B19=0,\" \",COUNTRY_INFO!B19)","v":"BENGUELA"},{"$f":"IF(COUNTRY_INFO!C19=0,\" \",COUNTRY_INFO!C19)","v":"CAIMBAMBO"},{"$f":"IF(COUNTRY_INFO!$U$9:$U$1000=\"MDA3 (IVM)\", COUNTRY_INFO!$U$9:$U$1000, \" \")","v":" "},null,null,null,0,null,null,0,null,null,0,0,0,0," "," "," "]
[{"$f":"IF(COUNTRY_INFO!A20=0,\" \",COUNTRY_INFO!A20)","v":"Angola"},{"$f":"IF(COUNTRY_INFO!B20=0,\" \",COUNTRY_INFO!B20)","v":"BENGUELA"},{"$f":"IF(COUNTRY_INFO!C20=0,\" \",COUNTRY_INFO!C20)","v":"CATUMBELA"},{"$f":"IF(COUNTRY_INFO!$U$9:$U$1000=\"MDA3 (IVM)\", COUNTRY_INFO!$U$9:$U$1000, \" \")","v":" "},null,null,null,0,null,null,0,null,null,0,0,0,0," "," "," "]
[{"$f":"IF(COUNTRY_INFO!A21=0,\" \",COUNTRY_INFO!A21)","v":"Angola"},{"$f":"IF(COUNTRY_INFO!B21=0,\" \",COUNTRY_INFO!B21)","v":"BENGUELA"},{"$f":"IF(COUNTRY_INFO!C21=0,\" \",COUNTRY_INFO!C21)","v":"CHONGOROI"},{"$f":"IF(COUNTRY_INFO!$U$9:$U$1000=\"MDA3 (IVM)\", COUNTRY_INFO!$U$9:$U$1000, \" \")","v":" "},null,null,null,0,null,null,0,null,null,0,0,0,0," "," "," "]
[{"$f":"IF(COUNTRY_INFO!A22=0,\" \",COUNTRY_INFO!A22)","v":"Angola"},{"$f":"IF(COUNTRY_INFO!B22=0,\" \",COUNTRY_INFO!B22)","v":"BENGUELA"},{"$f":"IF(COUNTRY_INFO!C22=0,\" \",COUNTRY_INFO!C22)","v":"CUBAL"},{"$f":"IF(COUNTRY_INFO!$U$9:$U$1000=\"MDA3 (IVM)\", COUNTRY_INFO!$U$9:$U$1000, \" \")","v":" "},null,null,null,0,null,null,0,null,null,0,0,0,0," "," "," "]
[{"$f":"IF(COUNTRY_INFO!A23=0,\" \",COUNTRY_INFO!A23)","v":"Angola"},{"$f":"IF(COUNTRY_INFO!B23=0,\" \",COUNTRY_INFO!B23)","v":"BENGUELA"},{"$f":"IF(COUNTRY_INFO!C23=0,\" \",COUNTRY_INFO!C23)","v":"GANDA"},{"$f":"IF(COUNTRY_INFO!$U$9:$U$1000=\"MDA3 (IVM)\", COUNTRY_INFO!$U$9:$U$1000, \" \")","v":" "},null,null,null,0,null,null,0,null,null,0,0,0,0," "," "," "]
[{"$f":"IF(COUNTRY_INFO!A24=0,\" \",COUNTRY_INFO!A24)","v":"Angola"},{"$f":"IF(COUNTRY_INFO!B24=0,\" \",COUNTRY_INFO!B24)","v":"BENGUELA"},{"$f":"IF(COUNTRY_INFO!C24=0,\" \",COUNTRY_INFO!C24)","v":"LOBITO"},{"$f":"IF(COUNTRY_INFO!$U$9:$U$1000=\"MDA3 (IVM)\", COUNTRY_INFO!$U$9:$U$1000, \" \")","v":" "},null,null,null,0,null,null,0,null,null,0,0,0,0," "," "," "]
[{"$f":"IF(COUNTRY_INFO!A25=0,\" \",COUNTRY_INFO!A25)","v":"Angola"},{"$f":"IF(COUNTRY_INFO!B25=0,\" \",COUNTRY_INFO!B25)","v":"BIE"},{"$f":"IF(COUNTRY_INFO!C25=0,\" \",COUNTRY_INFO!C25)","v":"ANDULO"},{"$f":"IF(COUNTRY_INFO!$U$9:$U$1000=\"MDA3 (IVM)\", COUNTRY_INFO!$U$9:$U$1000, \" \")","v":" "},null,null,null,0,null,null,0,null,null,0,0,0,0," "," "," "]
[{"$f":"IF(COUNTRY_INFO!A26=0,\" \",COUNTRY_INFO!A26)","v":"Angola"},{"$f":"IF(COUNTRY_INFO!B26=0,\" \",COUNTRY_INFO!B26)","v":"BIE"},{"$f":"IF(COUNTRY_INFO!C26=0,\" \",COUNTRY_INFO!C26)","v":"CAMACUPA"},{"$f":"IF(COUNTRY_INFO!$U$9:$U$1000=\"MDA3 (IVM)\", COUNTRY_INFO!$U$9:$U$1000, \" \")","v":" "},null,null,null,0,null,null,0,null,null,0,0,0,0," "," "," "]
[{"$f":"IF(COUNTRY_INFO!A27=0,\" \",COUNTRY_INFO!A27)","v":"Angola"},{"$f":"IF(COUNTRY_INFO!B27=0,\" \",COUNTRY_INFO!B27)","v":"BIE"},{"$f":"IF(COUNTRY_INFO!C27=0,\" \",COUNTRY_INFO!C27)","v":"CATABOLA"},{"$f":"IF(COUNTRY_INFO!$U$9:$U$1000=\"MDA3 (IVM)\", COUNTRY_INFO!$U$9:$U$1000, \" \")","v":" "},null,null,null,0,null,null,0,null,null,0,0,0,0," "," "," "]
[{"$f":"IF(COUNTRY_INFO!A28=0,\" \",COUNTRY_INFO!A28)","v":"Angola"},{"$f":"IF(COUNTRY_INFO!B28=0,\" \",COUNTRY_INFO!B28)","v":"BIE"},{"$f":"IF(COUNTRY_INFO!C28=0,\" \",COUNTRY_INFO!C28)","v":"CHINGUAR"},{"$f":"IF(COUNTRY_INFO!$U$9:$U$1000=\"MDA3 (IVM)\", COUNTRY_INFO!$U$9:$U$1000, \" \")","v":" "},null,null,null,0,null,null,0,null,null,0,0,0,0," "," "," "]
[{"$f":"IF(COUNTRY_INFO!A29=0,\" \",COUNTRY_INFO!A29)","v":"Angola"},{"$f":"IF(COUNTRY_INFO!B29=0,\" \",COUNTRY_INFO!B29)","v":"BIE"},{"$f":"IF(COUNTRY_INFO!C29=0,\" \",COUNTRY_INFO!C29)","v":"CHITEMBO"},{"$f":"IF(COUNTRY_INFO!$U$9:$U$1000=\"MDA3 (IVM)\", COUNTRY_INFO!$U$9:$U$1000, \" \")","v":" "},null,null,null,0,null,null,0,null,null,0,0,0,0," "," "," "]
[{"$f":"IF(COUNTRY_INFO!A30=0,\" \",COUNTRY_INFO!A30)","v":"Angola"},{"$f":"IF(COUNTRY_INFO!B30=0,\" \",COUNTRY_INFO!B30)","v":"BIE"},{"$f":"IF(COUNTRY_INFO!C30=0,\" \",COUNTRY_INFO!C30)","v":"CUEMBA"},{"$f":"IF(COUNTRY_INFO!$U$9:$U$1000=\"MDA3 (IVM)\", COUNTRY_INFO!$U$9:$U$1000, \" \")","v":" "},null,null,null,0,null,null,0,null,null,0,0,0,0," "," "," "]
[{"$f":"IF(COUNTRY_INFO!A31=0,\" \",COUNTRY_INFO!A31)","v":"Angola"},{"$f":"IF(COUNTRY_INFO!B31=0,\" \",COUNTRY_INFO!B31)","v":"BIE"},{"$f":"IF(COUNTRY_INFO!C31=0,\" \",COUNTRY_INFO!C31)","v":"CUITO"},{"$f":"IF(COUNTRY_INFO!$U$9:$U$1000=\"MDA3 (IVM)\", COUNTRY_INFO!$U$9:$U$1000, \" \")","v":" "},null,null,null,0,null,null,0,null,null,0,0,0,0," "," "," "]
[{"$f":"IF(COUNTRY_INFO!A32=0,\" \",COUNTRY_INFO!A32)","v":"Angola"},{"$f":"IF(COUNTRY_INFO!B32=0,\" \",COUNTRY_INFO!B32)","v":"BIE"},{"$f":"IF(COUNTRY_INFO!C32=0,\" \",COUNTRY_INFO!C32)","v":"CUNHINGA"},{"$f":"IF(COUNTRY_INFO!$U$9:$U$1000=\"MDA3 (IVM)\", COUNTRY_INFO!$U$9:$U$1000, \" \")","v":" "},null,null,null,0,null,null,0,null,null,0,0,0,0," "," "," "]
[{"$f":"IF(COUNTRY_INFO!A33=0,\" \",COUNTRY_INFO!A33)","v":"Angola"},{"$f":"IF(COUNTRY_INFO!B33=0,\" \",COUNTRY_INFO!B33)","v":"BIE"},{"$f":"IF(COUNTRY_INFO!C33=0,\" \",COUNTRY_INFO!C33)","v":"NHAREA"},{"$f":"IF(COUNTRY_INFO!$U$9:$U$1000=\"MDA3 (IVM)\", COUNTRY_INFO!$U$9:$U$1000, \" \")","v":" "},null,null,null,0,null,null,0,null,null,0,0,0,0," "," "," "]
[{"$f":"IF(COUNTRY_INFO!A34=0,\" \",COUNTRY_INFO!A34)","v":"Angola"},{"$f":"IF(COUNTRY_INFO!B34=0,\" \",COUNTRY_INFO!B34)","v":"CABINDA"},{"$f":"IF(COUNTRY_INFO!C34=0,\" \",COUNTRY_INFO!C34)","v":"BELIZE"},{"$f":"IF(COUNTRY_INFO!$U$9:$U$1000=\"MDA3 (IVM)\", COUNTRY_INFO!$U$9:$U$1000, \" \")","v":" "},null,null,null,0,null,null,0,null,null,0,0,0,0," "," "," "]
[{"$f":"IF(COUNTRY_INFO!A35=0,\" \",COUNTRY_INFO!A35)","v":"Angola"},{"$f":"IF(COUNTRY_INFO!B35=0,\" \",COUNTRY_INFO!B35)","v":"CABINDA"},{"$f":"IF(COUNTRY_INFO!C35=0,\" \",COUNTRY_INFO!C35)","v":"BUCO ZAU"},{"$f":"IF(COUNTRY_INFO!$U$9:$U$1000=\"MDA3 (IVM)\", COUNTRY_INFO!$U$9:$U$1000, \" \")","v":" "},null,null,null,0,null,null,0,null,null,0,0,0,0," "," "," "]
[{"$f":"IF(COUNTRY_INFO!A36=0,\" \",COUNTRY_INFO!A36)","v":"Angola"},{"$f":"IF(COUNTRY_INFO!B36=0,\" \",COUNTRY_INFO!B36)","v":"CABINDA"},{"$f":"IF(COUNTRY_INFO!C36=0,\" \",COUNTRY_INFO!C36)","v":"CABINDA"},{"$f":"IF(COUNTRY_INFO!$U$9:$U$1000=\"MDA3 (IVM)\", COUNTRY_INFO!$U$9:$U$1000, \" \")","v":" "},null,null,null,0,null,null,0,null,null,0,0,0,0," "," "," "]
[{"$f":"IF(COUNTRY_INFO!A37=0,\" \",COUNTRY_INFO!A37)","v":"Angola"},{"$f":"IF(COUNTRY_INFO!B37=0,\" \",COUNTRY_INFO!B37)","v":"CABINDA"},{"$f":"IF(COUNTRY_INFO!C37=0,\" \",COUNTRY_INFO!C37)","v":"CACONGO"},{"$f":"IF(COUNTRY_INFO!$U$9:$U$1000=\"MDA3 (IVM)\", COUNTRY_INFO!$U$9:$U$1000, \" \")","v":" "},null,null,null,0,null,null,0,null,null,0,0,0,0," "," "," "]
[{"$f":"IF(COUNTRY_INFO!A38=0,\" \",COUNTRY_INFO!A38)","v":"Angola"},{"$f":"IF(COUNTRY_INFO!B38=0,\" \",COUNTRY_INFO!B38)","v":"CUANDO CUBANGO"},{"$f":"IF(COUNTRY_INFO!C38=0,\" \",COUNTRY_INFO!C38)","v":"CALAI"},{"$f":"IF(COUNTRY_INFO!$U$9:$U$1000=\"MDA3 (IVM)\", COUNTRY_INFO!$U$9:$U$1000, \" \")","v":" "},null,null,null,0,null,null,0,null,null,0,0,0,0," "," "," "]
[{"$f":"IF(COUNTRY_INFO!A39=0,\" \",COUNTRY_INFO!A39)","v":"Angola"},{"$f":"IF(COUNTRY_INFO!B39=0,\" \",COUNTRY_INFO!B39)","v":"CUANDO CUBANGO"},{"$f":"IF(COUNTRY_INFO!C39=0,\" \",COUNTRY_INFO!C39)","v":"CUANGAR"},{"$f":"IF(COUNTRY_INFO!$U$9:$U$1000=\"MDA3 (IVM)\", COUNTRY_INFO!$U$9:$U$1000, \" \")","v":" "},null,null,null,0,null,null,0,null,null,0,0,0,0," "," "," "]
[{"$f":"IF(COUNTRY_INFO!A40=0,\" \",COUNTRY_INFO!A40)","v":"Angola"},{"$f":"IF(COUNTRY_INFO!B40=0,\" \",COUNTRY_INFO!B40)","v":"CUANDO CUBANGO"},{"$f":"IF(COUNTRY_INFO!C40=0,\" \",COUNTRY_INFO!C40)","v":"CUCHI"},{"$f":"IF(COUNTRY_INFO!$U$9:$U$1000=\"MDA3 (IVM)\", COUNTRY_INFO!$U$9:$U$1000, \" \")","v":" "},null,null,null,0,null,null,0,null,null,0,0,0,0," "," "," "]
[{"$f":"IF(COUNTRY_INFO!A41=0,\" \",COUNTRY_INFO!A41)","v":"Angola"},{"$f":"IF(COUNTRY_INFO!B41=0,\" \",COUNTRY_INFO!B41)","v":"CUANDO CUBANGO"},{"$f":"IF(COUNTRY_INFO!C41=0,\" \",COUNTRY_INFO!C41)","v":"CUITO CUANAVALE"},{"$f":"IF(COUNTRY_INFO!$U$9:$U$1000=\"MDA3 (IVM)\", COUNTRY_INFO!$U$9:$U$1000, \" \")","v":" "},null,null,null,0,null,null,0,null,null,0,0,0,0," "," "," "]
[{"$f":"IF(COUNTRY_INFO!A42=0,\" \",COUNTRY_INFO!A42)","v":"Angola"},{"$f":"IF(COUNTRY_INFO!B42=0,\" \",COUNTRY_INFO!B42)","v":"CUANDO CUBANGO"},{"$f":"IF(COUNTRY_INFO!C42=0,\" \",COUNTRY_INFO!C42)","v":"DIRICO"},{"$f":"IF(COUNTRY_INFO!$U$9:$U$1000=\"MDA3 (IVM)\", COUNTRY_INFO!$U$9:$U$1000, \" \")","v":" "},null,null,null,0,null,null,0,null,null,0,0,0,0," "," "," "]
[{"$f":"IF(COUNTRY_INFO!A43=0,\" \",COUNTRY_INFO!A43)","v":"Angola"},{"$f":"IF(COUNTRY_INFO!B43=0,\" \",COUNTRY_INFO!B43)","v":"CUANDO CUBANGO"},{"$f":"IF(COUNTRY_INFO!C43=0,\" \",COUNTRY_INFO!C43)","v":"MAVINGA"},{"$f":"IF(COUNTRY_INFO!$U$9:$U$1000=\"MDA3 (IVM)\", COUNTRY_INFO!$U$9:$U$1000, \" \")","v":" "},null,null,null,0,null,null,0,null,null,0,0,0,0," "," "," "]
[{"$f":"IF(COUNTRY_INFO!A44=0,\" \",COUNTRY_INFO!A44)","v":"Angola"},{"$f":"IF(COUNTRY_INFO!B44=0,\" \",COUNTRY_INFO!B44)","v":"CUANDO CUBANGO"},{"$f":"IF(COUNTRY_INFO!C44=0,\" \",COUNTRY_INFO!C44)","v":"MENONGUE"},{"$f":"IF(COUNTRY_INFO!$U$9:$U$1000=\"MDA3 (IVM)\", COUNTRY_INFO!$U$9:$U$1000, \" \")","v":" "},null,null,null,0,null,null,0,null,null,0,0,0,0," "," "," "]
[{"$f":"IF(COUNTRY_INFO!A45=0,\" \",COUNTRY_INFO!A45)","v":"Angola"},{"$f":"IF(COUNTRY_INFO!B45=0,\" \",COUNTRY_INFO!B45)","v":"CUANDO CUBANGO"},{"$f":"IF(COUNTRY_INFO!C45=0,\" \",COUNTRY_INFO!C45)","v":"NANKOVA"},{"$f":"IF(COUNTRY_INFO!$U$9:$U$1000=\"MDA3 (IVM)\", COUNTRY_INFO!$U$9:$U$1000, \" \")","v":" "},null,null,null,0,null,null,0,null,null,0,0,0,0," "," "," "]
[{"$f":"IF(COUNTRY_INFO!A46=0,\" \",COUNTRY_INFO!A46)","v":"Angola"},{"$f":"IF(COUNTRY_INFO!B46=0,\" \",COUNTRY_INFO!B46)","v":"CUANDO CUBANGO"},{"$f":"IF(COUNTRY_INFO!C46=0,\" \",COUNTRY_INFO!C46)","v":"RIVUNGO"},{"$f":"IF(COUNTRY_INFO!$U$9:$U$1000=\"MDA3 (IVM)\", COUNTRY_INFO!$U$9:$U$1000, \" \")","v":" "},null,null,null,0,null,null,0,null,null,0,0,0,0," "," "," "]
[{"$f":"IF(COUNTRY_INFO!A47=0,\" \",COUNTRY_INFO!A47)","v":"Angola"},{"$f":"IF(COUNTRY_INFO!B47=0,\" \",COUNTRY_INFO!B47)","v":"CUANZA NORTE"},{"$f":"IF(COUNTRY_INFO!C47=0,\" \",COUNTRY_INFO!C47)","v":"AMBACA"},{"$f":"IF(COUNTRY_INFO!$U$9:$U$1000=\"MDA3 (IVM)\", COUNTRY_INFO!$U$9:$U$1000, \" \")","v":" "},null,null,null,0,null,null,0,null,null,0,0,0,0," "," "," "]
[{"$f":"IF(COUNTRY_INFO!A48=0,\" \",COUNTRY_INFO!A48)","v":"Angola"},{"$f":"IF(COUNTRY_INFO!B48=0,\" \",COUNTRY_INFO!B48)","v":"CUANZA NORTE"},{"$f":"IF(COUNTRY_INFO!C48=0,\" \",COUNTRY_INFO!C48)","v":"BANGA"},{"$f":"IF(COUNTRY_INFO!$U$9:$U$1000=\"MDA3 (IVM)\", COUNTRY_INFO!$U$9:$U$1000, \" \")","v":" "},null,null,null,0,null,null,0,null,null,0,0,0,0," "," "," "]
[{"$f":"IF(COUNTRY_INFO!A49=0,\" \",COUNTRY_INFO!A49)","v":"Angola"},{"$f":"IF(COUNTRY_INFO!B49=0,\" \",COUNTRY_INFO!B49)","v":"CUANZA NORTE"},{"$f":"IF(COUNTRY_INFO!C49=0,\" \",COUNTRY_INFO!C49)","v":"BOLONGONGO"},{"$f":"IF(COUNTRY_INFO!$U$9:$U$1000=\"MDA3 (IVM)\", COUNTRY_INFO!$U$9:$U$1000, \" \")","v":" "},null,null,null,0,null,null,0,null,null,0,0,0,0," "," "," "]
[{"$f":"IF(COUNTRY_INFO!A50=0,\" \",COUNTRY_INFO!A50)","v":"Angola"},{"$f":"IF(COUNTRY_INFO!B50=0,\" \",COUNTRY_INFO!B50)","v":"CUANZA NORTE"},{"$f":"IF(COUNTRY_INFO!C50=0,\" \",COUNTRY_INFO!C50)","v":"CAMBAMBE"},{"$f":"IF(COUNTRY_INFO!$U$9:$U$1000=\"MDA3 (IVM)\", COUNTRY_INFO!$U$9:$U$1000, \" \")","v":" "},null,null,null,0,null,null,0,null,null,0,0,0,0," "," "," "]
[{"$f":"IF(COUNTRY_INFO!A51=0,\" \",COUNTRY_INFO!A51)","v":"Angola"},{"$f":"IF(COUNTRY_INFO!B51=0,\" \",COUNTRY_INFO!B51)","v":"CUANZA NORTE"},{"$f":"IF(COUNTRY_INFO!C51=0,\" \",COUNTRY_INFO!C51)","v":"CAZENGO"},{"$f":"IF(COUNTRY_INFO!$U$9:$U$1000=\"MDA3 (IVM)\", COUNTRY_INFO!$U$9:$U$1000, \" \")","v":" "},null,null,null,0,null,null,0,null,null,0,0,0,0," "," "," "]
[{"$f":"IF(COUNTRY_INFO!A52=0,\" \",COUNTRY_INFO!A52)","v":"Angola"},{"$f":"IF(COUNTRY_INFO!B52=0,\" \",COUNTRY_INFO!B52)","v":"CUANZA NORTE"},{"$f":"IF(COUNTRY_INFO!C52=0,\" \",COUNTRY_INFO!C52)","v":"GOLUNGO ALTO"},{"$f":"IF(COUNTRY_INFO!$U$9:$U$1000=\"MDA3 (IVM)\", COUNTRY_INFO!$U$9:$U$1000, \" \")","v":" "},null,null,null,0,null,null,0,null,null,0,0,0,0," "," "," "]
[{"$f":"IF(COUNTRY_INFO!A53=0,\" \",COUNTRY_INFO!A53)","v":"Angola"},{"$f":"IF(COUNTRY_INFO!B53=0,\" \",COUNTRY_INFO!B53)","v":"CUANZA NORTE"},{"$f":"IF(COUNTRY_INFO!C53=0,\" \",COUNTRY_INFO!C53)","v":"GONGUEMBO"},{"$f":"IF(COUNTRY_INFO!$U$9:$U$1000=\"MDA3 (IVM)\", COUNTRY_INFO!$U$9:$U$1000, \" \")","v":" "},null,null,null,0,null,null,0,null,null,0,0,0,0," "," "," "]
[{"$f":"IF(COUNTRY_INFO!A54=0,\" \",COUNTRY_INFO!A54)","v":"Angola"},{"$f":"IF(COUNTRY_INFO!B54=0,\" \",COUNTRY_INFO!B54)","v":"CUANZA NORTE"},{"$f":"IF(COUNTRY_INFO!C54=0,\" \",COUNTRY_INFO!C54)","v":"LUCALA"},{"$f":"IF(COUNTRY_INFO!$U$9:$U$1000=\"MDA3 (IVM)\", COUNTRY_INFO!$U$9:$U$1000, \" \")","v":" "},null,null,null,0,null,null,0,null,null,0,0,0,0," "," "," "]
[{"$f":"IF(COUNTRY_INFO!A55=0,\" \",COUNTRY_INFO!A55)","v":"Angola"},{"$f":"IF(COUNTRY_INFO!B55=0,\" \",COUNTRY_INFO!B55)","v":"CUANZA NORTE"},{"$f":"IF(COUNTRY_INFO!C55=0,\" \",COUNTRY_INFO!C55)","v":"QUICULUNGO"},{"$f":"IF(COUNTRY_INFO!$U$9:$U$1000=\"MDA3 (IVM)\", COUNTRY_INFO!$U$9:$U$1000, \" \")","v":" "},null,null,null,0,null,null,0,null,null,0,0,0,0," "," "," "]
[{"$f":"IF(COUNTRY_INFO!A56=0,\" \",COUNTRY_INFO!A56)","v":"Angola"},{"$f":"IF(COUNTRY_INFO!B56=0,\" \",COUNTRY_INFO!B56)","v":"CUANZA NORTE"},{"$f":"IF(COUNTRY_INFO!C56=0,\" \",COUNTRY_INFO!C56)","v":"SAMBA CAJU"},{"$f":"IF(COUNTRY_INFO!$U$9:$U$1000=\"MDA3 (IVM)\", COUNTRY_INFO!$U$9:$U$1000, \" \")","v":" "},null,null,null,0,null,null,0,null,null,0,0,0,0," "," "," "]
[{"$f":"IF(COUNTRY_INFO!A57=0,\" \",COUNTRY_INFO!A57)","v":"Angola"},{"$f":"IF(COUNTRY_INFO!B57=0,\" \",COUNTRY_INFO!B57)","v":"CUANZA SUL"},{"$f":"IF(COUNTRY_INFO!C57=0,\" \",COUNTRY_INFO!C57)","v":"AMBOIM"},{"$f":"IF(COUNTRY_INFO!$U$9:$U$1000=\"MDA3 (IVM)\", COUNTRY_INFO!$U$9:$U$1000, \" \")","v":" "},null,null,null,0,null,null,0,null,null,0,0,0,0," "," "," "]
[{"$f":"IF(COUNTRY_INFO!A58=0,\" \",COUNTRY_INFO!A58)","v":"Angola"},{"$f":"IF(COUNTRY_INFO!B58=0,\" \",COUNTRY_INFO!B58)","v":"CUANZA SUL"},{"$f":"IF(COUNTRY_INFO!C58=0,\" \",COUNTRY_INFO!C58)","v":"CASSONGUE"},{"$f":"IF(COUNTRY_INFO!$U$9:$U$1000=\"MDA3 (IVM)\", COUNTRY_INFO!$U$9:$U$1000, \" \")","v":" "},null,null,null,0,null,null,0,null,null,0,0,0,0," "," "," "]
[{"$f":"IF(COUNTRY_INFO!A59=0,\" \",COUNTRY_INFO!A59)","v":"Angola"},{"$f":"IF(COUNTRY_INFO!B59=0,\" \",COUNTRY_INFO!B59)","v":"CUANZA SUL"},{"$f":"IF(COUNTRY_INFO!C59=0,\" \",COUNTRY_INFO!C59)","v":"CELA (Waku Kungo)"},{"$f":"IF(COUNTRY_INFO!$U$9:$U$1000=\"MDA3 (IVM)\", COUNTRY_INFO!$U$9:$U$1000, \" \")","v":" "},null,null,null,0,null,null,0,null,null,0,0,0,0," "," "," "]
[{"$f":"IF(COUNTRY_INFO!A60=0,\" \",COUNTRY_INFO!A60)","v":"Angola"},{"$f":"IF(COUNTRY_INFO!B60=0,\" \",COUNTRY_INFO!B60)","v":"CUANZA SUL"},{"$f":"IF(COUNTRY_INFO!C60=0,\" \",COUNTRY_INFO!C60)","v":"CONDA"},{"$f":"IF(COUNTRY_INFO!$U$9:$U$1000=\"MDA3 (IVM)\", COUNTRY_INFO!$U$9:$U$1000, \" \")","v":" "},null,null,null,0,null,null,0,null,null,0,0,0,0," "," "," "]
[{"$f":"IF(COUNTRY_INFO!A61=0,\" \",COUNTRY_INFO!A61)","v":"Angola"},{"$f":"IF(COUNTRY_INFO!B61=0,\" \",COUNTRY_INFO!B61)","v":"CUANZA SUL"},{"$f":"IF(COUNTRY_INFO!C61=0,\" \",COUNTRY_INFO!C61)","v":"EBO"},{"$f":"IF(COUNTRY_INFO!$U$9:$U$1000=\"MDA3 (IVM)\", COUNTRY_INFO!$U$9:$U$1000, \" \")","v":" "},null,null,null,0,null,null,0,null,null,0,0,0,0," "," "," "]
[{"$f":"IF(COUNTRY_INFO!A62=0,\" \",COUNTRY_INFO!A62)","v":"Angola"},{"$f":"IF(COUNTRY_INFO!B62=0,\" \",COUNTRY_INFO!B62)","v":"CUANZA SUL"},{"$f":"IF(COUNTRY_INFO!C62=0,\" \",COUNTRY_INFO!C62)","v":"LIBOLO"},{"$f":"IF(COUNTRY_INFO!$U$9:$U$1000=\"MDA3 (IVM)\", COUNTRY_INFO!$U$9:$U$1000, \" \")","v":" "},null,null,null,0,null,null,0,null,null,0,0,0,0," "," "," "]
[{"$f":"IF(COUNTRY_INFO!A63=0,\" \",COUNTRY_INFO!A63)","v":"Angola"},{"$f":"IF(COUNTRY_INFO!B63=0,\" \",COUNTRY_INFO!B63)","v":"CUANZA SUL"},{"$f":"IF(COUNTRY_INFO!C63=0,\" \",COUNTRY_INFO!C63)","v":"MUSSENDE"},{"$f":"IF(COUNTRY_INFO!$U$9:$U$1000=\"MDA3 (IVM)\", COUNTRY_INFO!$U$9:$U$1000, \" \")","v":" "},null,null,null,0,null,null,0,null,null,0,0,0,0," "," "," "]
[{"$f":"IF(COUNTRY_INFO!A64=0,\" \",COUNTRY_INFO!A64)","v":"Angola"},{"$f":"IF(COUNTRY_INFO!B64=0,\" \",COUNTRY_INFO!B64)","v":"CUANZA SUL"},{"$f":"IF(COUNTRY_INFO!C64=0,\" \",COUNTRY_INFO!C64)","v":"PORTO AMBOIM"},{"$f":"IF(COUNTRY_INFO!$U$9:$U$1000=\"MDA3 (IVM)\", COUNTRY_INFO!$U$9:$U$1000, \" \")","v":" "},null,null,null,0,null,null,0,null,null,0,0,0,0," "," "," "]
[{"$f":"IF(COUNTRY_INFO!A65=0,\" \",COUNTRY_INFO!A65)","v":"Angola"},{"$f":"IF(COUNTRY_INFO!B65=0,\" \",COUNTRY_INFO!B65)","v":"CUANZA SUL"},{"$f":"IF(COUNTRY_INFO!C65=0,\" \",COUNTRY_INFO!C65)","v":"QUIBALA"},{"$f":"IF(COUNTRY_INFO!$U$9:$U$1000=\"MDA3 (IVM)\", COUNTRY_INFO!$U$9:$U$1000, \" \")","v":" "},null,null,null,0,null,null,0,null,null,0,0,0,0," "," "," "]
[{"$f":"IF(COUNTRY_INFO!A66=0,\" \",COUNTRY_INFO!A66)","v":"Angola"},{"$f":"IF(COUNTRY_INFO!B66=0,\" \",COUNTRY_INFO!B66)","v":"CUANZA SUL"},{"$f":"IF(COUNTRY_INFO!C66=0,\" \",COUNTRY_INFO!C66)","v":"QUILENDA"},{"$f":"IF(COUNTRY_INFO!$U$9:$U$1000=\"MDA3 (IVM)\", COUNTRY_INFO!$U$9:$U$1000, \" \")","v":" "},null,null,null,0,null,null,0,null,null,0,0,0,0," "," "," "]
[{"$f":"IF(COUNTRY_INFO!A67=0,\" \",COUNTRY_INFO!A67)","v":"Angola"},{"$f":"IF(COUNTRY_INFO!B67=0,\" \",COUNTRY_INFO!B67)","v":"CUANZA SUL"},{"$f":"IF(COUNTRY_INFO!C67=0,\" \",COUNTRY_INFO!C67)","v":"SELES"},{"$f":"IF(COUNTRY_INFO!$U$9:$U$1000=\"MDA3 (IVM)\", COUNTRY_INFO!$U$9:$U$1000, \" \")","v":" "},null,null,null,0,null,null,0,null,null,0,0,0,0," "," "," "]
[{"$f":"IF(COUNTRY_INFO!A68=0,\" \",COUNTRY_INFO!A68)","v":"Angola"},{"$f":"IF(COUNTRY_INFO!B68=0,\" \",COUNTRY_INFO!B68)","v":"CUANZA SUL"},{"$f":"IF(COUNTRY_INFO!C68=0,\" \",COUNTRY_INFO!C68)","v":"SUMBE"},{"$f":"IF(COUNTRY_INFO!$U$9:$U$1000=\"MDA3 (IVM)\", COUNTRY_INFO!$U$9:$U$1000, \" \")","v":" "},null,null,null,0,null,null,0,null,null,0,0,0,0," "," "," "]
[{"$f":"IF(COUNTRY_INFO!A69=0,\" \",COUNTRY_INFO!A69)","v":"Angola"},{"$f":"IF(COUNTRY_INFO!B69=0,\" \",COUNTRY_INFO!B69)","v":"CUNENE"},{"$f":"IF(COUNTRY_INFO!C69=0,\" \",COUNTRY_INFO!C69)","v":"CAHAMA"},{"$f":"IF(COUNTRY_INFO!$U$9:$U$1000=\"MDA3 (IVM)\", COUNTRY_INFO!$U$9:$U$1000, \" \")","v":" "},null,null,null,0,null,null,0,null,null,0,0,0,0," "," "," "]
[{"$f":"IF(COUNTRY_INFO!A70=0,\" \",COUNTRY_INFO!A70)","v":"Angola"},{"$f":"IF(COUNTRY_INFO!B70=0,\" \",COUNTRY_INFO!B70)","v":"CUNENE"},{"$f":"IF(COUNTRY_INFO!C70=0,\" \",COUNTRY_INFO!C70)","v":"CUANHAMA"},{"$f":"IF(COUNTRY_INFO!$U$9:$U$1000=\"MDA3 (IVM)\", COUNTRY_INFO!$U$9:$U$1000, \" \")","v":" "},null,null,null,0,null,null,0,null,null,0,0,0,0," "," "," "]
[{"$f":"IF(COUNTRY_INFO!A71=0,\" \",COUNTRY_INFO!A71)","v":"Angola"},{"$f":"IF(COUNTRY_INFO!B71=0,\" \",COUNTRY_INFO!B71)","v":"CUNENE"},{"$f":"IF(COUNTRY_INFO!C71=0,\" \",COUNTRY_INFO!C71)","v":"CUROCA"},{"$f":"IF(COUNTRY_INFO!$U$9:$U$1000=\"MDA3 (IVM)\", COUNTRY_INFO!$U$9:$U$1000, \" \")","v":" "},null,null,null,0,null,null,0,null,null,0,0,0,0," "," "," "]
[{"$f":"IF(COUNTRY_INFO!A72=0,\" \",COUNTRY_INFO!A72)","v":"Angola"},{"$f":"IF(COUNTRY_INFO!B72=0,\" \",COUNTRY_INFO!B72)","v":"CUNENE"},{"$f":"IF(COUNTRY_INFO!C72=0,\" \",COUNTRY_INFO!C72)","v":"CUVELAI"},{"$f":"IF(COUNTRY_INFO!$U$9:$U$1000=\"MDA3 (IVM)\", COUNTRY_INFO!$U$9:$U$1000, \" \")","v":" "},null,null,null,0,null,null,0,null,null,0,0,0,0," "," "," "]
[{"$f":"IF(COUNTRY_INFO!A73=0,\" \",COUNTRY_INFO!A73)","v":"Angola"},{"$f":"IF(COUNTRY_INFO!B73=0,\" \",COUNTRY_INFO!B73)","v":"CUNENE"},{"$f":"IF(COUNTRY_INFO!C73=0,\" \",COUNTRY_INFO!C73)","v":"NAMACUNDE"},{"$f":"IF(COUNTRY_INFO!$U$9:$U$1000=\"MDA3 (IVM)\", COUNTRY_INFO!$U$9:$U$1000, \" \")","v":" "},null,null,null,0,null,null,0,null,null,0,0,0,0," "," "," "]
[{"$f":"IF(COUNTRY_INFO!A74=0,\" \",COUNTRY_INFO!A74)","v":"Angola"},{"$f":"IF(COUNTRY_INFO!B74=0,\" \",COUNTRY_INFO!B74)","v":"CUNENE"},{"$f":"IF(COUNTRY_INFO!C74=0,\" \",COUNTRY_INFO!C74)","v":"OMBADJA"},{"$f":"IF(COUNTRY_INFO!$U$9:$U$1000=\"MDA3 (IVM)\", COUNTRY_INFO!$U$9:$U$1000, \" \")","v":" "},null,null,null,{"$f":"SUM(F74:G74)","v":0},null,null,{"$f":"SUM(I74:J74)","v":0},null,null,{"$f":"SUM(L74:M74)","v":0},{"$f":"MAX(I74,L74)","v":0},{"$f":"MAX(J74,M74)","v":0},{"$f":"SUM(O74:P74)","v":0},{"$f":"IF(F74<>0, IF(MAX(I74,L74)/F74*100=0, \"-\", MAX(I74,L74)/F74*100), \" \")","v":" "},{"$f":"IF(G74<>0, IF(MAX(J74,M74)/G74*100=0, \"-\", MAX(J74,M74)/G74*100), \" \")","v":" "},{"$f":"IF(H74<>0, IF((MAX(I74,L74)+MAX(J74,M74))/H74*100=0, \"-\",(MAX(I74,L74)+MAX(J74,M74))/H74*100), \" \")","v":" "}]
[{"$f":"IF(COUNTRY_INFO!A75=0,\" \",COUNTRY_INFO!A75)","v":"Angola"},{"$f":"IF(COUNTRY_INFO!B75=0,\" \",COUNTRY_INFO!B75)","v":"HUAMBO"},{"$f":"IF(COUNTRY_INFO!C75=0,\" \",COUNTRY_INFO!C75)","v":"BAILUNDO"},{"$f":"IF(COUNTRY_INFO!$U$9:$U$1000=\"MDA3 (IVM)\", COUNTRY_INFO!$U$9:$U$1000, \" \")","v":" "},null,null,null,0,null,null,0,null,null,0,0,0,0," "," "," "]
[{"$f":"IF(COUNTRY_INFO!A76=0,\" \",COUNTRY_INFO!A76)","v":"Angola"},{"$f":"IF(COUNTRY_INFO!B76=0,\" \",COUNTRY_INFO!B76)","v":"HUAMBO"},{"$f":"IF(COUNTRY_INFO!C76=0,\" \",COUNTRY_INFO!C76)","v":"CAALA"},{"$f":"IF(COUNTRY_INFO!$U$9:$U$1000=\"MDA3 (IVM)\", COUNTRY_INFO!$U$9:$U$1000, \" \")","v":" "},null,null,null,0,null,null,0,null,null,0,0,0,0," "," "," "]
[{"$f":"IF(COUNTRY_INFO!A77=0,\" \",COUNTRY_INFO!A77)","v":"Angola"},{"$f":"IF(COUNTRY_INFO!B77=0,\" \",COUNTRY_INFO!B77)","v":"HUAMBO"},{"$f":"IF(COUNTRY_INFO!C77=0,\" \",COUNTRY_INFO!C77)","v":"CACHIUNGO"},{"$f":"IF(COUNTRY_INFO!$U$9:$U$1000=\"MDA3 (IVM)\", COUNTRY_INFO!$U$9:$U$1000, \" \")","v":" "},null,null,null,0,null,null,0,null,null,0,0,0,0," "," "," "]
[{"$f":"IF(COUNTRY_INFO!A78=0,\" \",COUNTRY_INFO!A78)","v":"Angola"},{"$f":"IF(COUNTRY_INFO!B78=0,\" \",COUNTRY_INFO!B78)","v":"HUAMBO"},{"$f":"IF(COUNTRY_INFO!C78=0,\" \",COUNTRY_INFO!C78)","v":"CHICALA CHOLOHANGA"},{"$f":"IF(COUNTRY_INFO!$U$9:$U$1000=\"MDA3 (IVM)\", COUNTRY_INFO!$U$9:$U$1000, \" \")","v":" "},null,null,null,0,null,null,0,null,null,0,0,0,0," "," "," "]
[{"$f":"IF(COUNTRY_INFO!A79=0,\" \",COUNTRY_INFO!A79)","v":"Angola"},{"$f":"IF(COUNTRY_INFO!B79=0,\" \",COUNTRY_INFO!B79)","v":"HUAMBO"},{"$f":"IF(COUNTRY_INFO!C79=0,\" \",COUNTRY_INFO!C79)","v":"CHINDJENJE"},{"$f":"IF(COUNTRY_INFO!$U$9:$U$1000=\"MDA3 (IVM)\", COUNTRY_INFO!$U$9:$U$1000, \" \")","v":" "},null,null,null,0,null,null,0,null,null,0,0,0,0," "," "," "]
[{"$f":"IF(COUNTRY_INFO!A80=0,\" \",COUNTRY_INFO!A80)","v":"Angola"},{"$f":"IF(COUNTRY_INFO!B80=0,\" \",COUNTRY_INFO!B80)","v":"HUAMBO"},{"$f":"IF(COUNTRY_INFO!C80=0,\" \",COUNTRY_INFO!C80)","v":"ECUNHA"},{"$f":"IF(COUNTRY_INFO!$U$9:$U$1000=\"MDA3 (IVM)\", COUNTRY_INFO!$U$9:$U$1000, \" \")","v":" "},null,null,null,0,null,null,0,null,null,0,0,0,0," "," "," "]
[{"$f":"IF(COUNTRY_INFO!A81=0,\" \",COUNTRY_INFO!A81)","v":"Angola"},{"$f":"IF(COUNTRY_INFO!B81=0,\" \",COUNTRY_INFO!B81)","v":"HUAMBO"},{"$f":"IF(COUNTRY_INFO!C81=0,\" \",COUNTRY_INFO!C81)","v":"HUAMBO"},{"$f":"IF(COUNTRY_INFO!$U$9:$U$1000=\"MDA3 (IVM)\", COUNTRY_INFO!$U$9:$U$1000, \" \")","v":" "},null,null,null,0,null,null,0,null,null,0,0,0,0," "," "," "]
[{"$f":"IF(COUNTRY_INFO!A82=0,\" \",COUNTRY_INFO!A82)","v":"Angola"},{"$f":"IF(COUNTRY_INFO!B82=0,\" \",COUNTRY_INFO!B82)","v":"HUAMBO"},{"$f":"IF(COUNTRY_INFO!C82=0,\" \",COUNTRY_INFO!C82)","v":"LONDUIMBALI"},{"$f":"IF(COUNTRY_INFO!$U$9:$U$1000=\"MDA3 (IVM)\", COUNTRY_INFO!$U$9:$U$1000, \" \")","v":" "},null,null,null,0,null,null,0,null,null,0,0,0,0," "," "," "]
[{"$f":"IF(COUNTRY_INFO!A83=0,\" \",COUNTRY_INFO!A83)","v":"Angola"},{"$f":"IF(COUNTRY_INFO!B83=0,\" \",COUNTRY_INFO!B83)","v":"HUAMBO"},{"$f":"IF(COUNTRY_INFO!C83=0,\" \",COUNTRY_INFO!C83)","v":"LONGONJO"},{"$f":"IF(COUNTRY_INFO!$U$9:$U$1000=\"MDA3 (IVM)\", COUNTRY_INFO!$U$9:$U$1000, \" \")","v":" "},null,null,null,0,null,null,0,null,null,0,0,0,0," "," "," "]
[{"$f":"IF(COUNTRY_INFO!A84=0,\" \",COUNTRY_INFO!A84)","v":"Angola"},{"$f":"IF(COUNTRY_INFO!B84=0,\" \",COUNTRY_INFO!B84)","v":"HUAMBO"},{"$f":"IF(COUNTRY_INFO!C84=0,\" \",COUNTRY_INFO!C84)","v":"MUNGO"},{"$f":"IF(COUNTRY_INFO!$U$9:$U$1000=\"MDA3 (IVM)\", COUNTRY_INFO!$U$9:$U$1000, \" \")","v":" "},null,null,null,0,null,null,0,null,null,0,0,0,0," "," "," "]
[{"$f":"IF(COUNTRY_INFO!A85=0,\" \",COUNTRY_INFO!A85)","v":"Angola"},{"$f":"IF(COUNTRY_INFO!B85=0,\" \",COUNTRY_INFO!B85)","v":"HUAMBO"},{"$f":"IF(COUNTRY_INFO!C85=0,\" \",COUNTRY_INFO!C85)","v":"UCUMA"},{"$f":"IF(COUNTRY_INFO!$U$9:$U$1000=\"MDA3 (IVM)\", COUNTRY_INFO!$U$9:$U$1000, \" \")","v":" "},null,null,null,0,null,null,0,null,null,0,0,0,0," "," "," "]
[{"$f":"IF(COUNTRY_INFO!A86=0,\" \",COUNTRY_INFO!A86)","v":"Angola"},{"$f":"IF(COUNTRY_INFO!B86=0,\" \",COUNTRY_INFO!B86)","v":"HUILA"},{"$f":"IF(COUNTRY_INFO!C86=0,\" \",COUNTRY_INFO!C86)","v":"CACONDA"},{"$f":"IF(COUNTRY_INFO!$U$9:$U$1000=\"MDA3 (IVM)\", COUNTRY_INFO!$U$9:$U$1000, \" \")","v":" "},null,null,null,0,null,null,0,null,null,0,0,0,0," "," "," "]
[{"$f":"IF(COUNTRY_INFO!A87=0,\" \",COUNTRY_INFO!A87)","v":"Angola"},{"$f":"IF(COUNTRY_INFO!B87=0,\" \",COUNTRY_INFO!B87)","v":"HUILA"},{"$f":"IF(COUNTRY_INFO!C87=0,\" \",COUNTRY_INFO!C87)","v":"CACULA"},{"$f":"IF(COUNTRY_INFO!$U$9:$U$1000=\"MDA3 (IVM)\", COUNTRY_INFO!$U$9:$U$1000, \" \")","v":" "},null,null,null,0,null,null,0,null,null,0,0,0,0," "," "," "]
[{"$f":"IF(COUNTRY_INFO!A88=0,\" \",COUNTRY_INFO!A88)","v":"Angola"},{"$f":"IF(COUNTRY_INFO!B88=0,\" \",COUNTRY_INFO!B88)","v":"HUILA"},{"$f":"IF(COUNTRY_INFO!C88=0,\" \",COUNTRY_INFO!C88)","v":"CALUQUEMBE"},{"$f":"IF(COUNTRY_INFO!$U$9:$U$1000=\"MDA3 (IVM)\", COUNTRY_INFO!$U$9:$U$1000, \" \")","v":" "},null,null,null,0,null,null,0,null,null,0,0,0,0," "," "," "]
[{"$f":"IF(COUNTRY_INFO!A89=0,\" \",COUNTRY_INFO!A89)","v":"Angola"},{"$f":"IF(COUNTRY_INFO!B89=0,\" \",COUNTRY_INFO!B89)","v":"HUILA"},{"$f":"IF(COUNTRY_INFO!C89=0,\" \",COUNTRY_INFO!C89)","v":"CHIBIA"},{"$f":"IF(COUNTRY_INFO!$U$9:$U$1000=\"MDA3 (IVM)\", COUNTRY_INFO!$U$9:$U$1000, \" \")","v":" "},null,null,null,0,null,null,0,null,null,0,0,0,0," "," "," "]
[{"$f":"IF(COUNTRY_INFO!A90=0,\" \",COUNTRY_INFO!A90)","v":"Angola"},{"$f":"IF(COUNTRY_INFO!B90=0,\" \",COUNTRY_INFO!B90)","v":"HUILA"},{"$f":"IF(COUNTRY_INFO!C90=0,\" \",COUNTRY_INFO!C90)","v":"CHICOMBA"},{"$f":"IF(COUNTRY_INFO!$U$9:$U$1000=\"MDA3 (IVM)\", COUNTRY_INFO!$U$9:$U$1000, \" \")","v":" "},null,null,null,0,null,null,0,null,null,0,0,0,0," "," "," "]
[{"$f":"IF(COUNTRY_INFO!A91=0,\" \",COUNTRY_INFO!A91)","v":"Angola"},{"$f":"IF(COUNTRY_INFO!B91=0,\" \",COUNTRY_INFO!B91)","v":"HUILA"},{"$f":"IF(COUNTRY_INFO!C91=0,\" \",COUNTRY_INFO!C91)","v":"CHIPINDO"},{"$f":"IF(COUNTRY_INFO!$U$9:$U$1000=\"MDA3 (IVM)\", COUNTRY_INFO!$U$9:$U$1000, \" \")","v":" "},null,null,null,0,null,null,0,null,null,0,0,0,0," "," "," "]
[{"$f":"IF(COUNTRY_INFO!A92=0,\" \",COUNTRY_INFO!A92)","v":"Angola"},{"$f":"IF(COUNTRY_INFO!B92=0,\" \",COUNTRY_INFO!B92)","v":"HUILA"},{"$f":"IF(COUNTRY_INFO!C92=0,\" \",COUNTRY_INFO!C92)","v":"CUVANGO"},{"$f":"IF(COUNTRY_INFO!$U$9:$U$1000=\"MDA3 (IVM)\", COUNTRY_INFO!$U$9:$U$1000, \" \")","v":" "},null,null,null,0,null,null,0,null,null,0,0,0,0," "," "," "]
[{"$f":"IF(COUNTRY_INFO!A93=0,\" \",COUNTRY_INFO!A93)","v":"Angola"},{"$f":"IF(COUNTRY_INFO!B93=0,\" \",COUNTRY_INFO!B93)","v":"HUILA"},{"$f":"IF(COUNTRY_INFO!C93=0,\" \",COUNTRY_INFO!C93)","v":"GAMBOS"},{"$f":"IF(COUNTRY_INFO!$U$9:$U$1000=\"MDA3 (IVM)\", COUNTRY_INFO!$U$9:$U$1000, \" \")","v":" "},null,null,null,0,null,null,0,null,null,0,0,0,0," "," "," "]
[{"$f":"IF(COUNTRY_INFO!A94=0,\" \",COUNTRY_INFO!A94)","v":"Angola"},{"$f":"IF(COUNTRY_INFO!B94=0,\" \",COUNTRY_INFO!B94)","v":"HUILA"},{"$f":"IF(COUNTRY_INFO!C94=0,\" \",COUNTRY_INFO!C94)","v":"HUMPATA"},{"$f":"IF(COUNTRY_INFO!$U$9:$U$1000=\"MDA3 (IVM)\", COUNTRY_INFO!$U$9:$U$1000, \" \")","v":" "},null,null,null,0,null,null,0,null,null,0,0,0,0," "," "," "]
[{"$f":"IF(COUNTRY_INFO!A95=0,\" \",COUNTRY_INFO!A95)","v":"Angola"},{"$f":"IF(COUNTRY_INFO!B95=0,\" \",COUNTRY_INFO!B95)","v":"HUILA"},{"$f":"IF(COUNTRY_INFO!C95=0,\" \",COUNTRY_INFO!C95)","v":"JAMBA"},{"$f":"IF(COUNTRY_INFO!$U$9:$U$1000=\"MDA3 (IVM)\", COUNTRY_INFO!$U$9:$U$1000, \" \")","v":" "},null,null,null,0,null,null,0,null,null,0,0,0,0," "," "," "]
[{"$f":"IF(COUNTRY_INFO!A96=0,\" \",COUNTRY_INFO!A96)","v":"Angola"},{"$f":"IF(COUNTRY_INFO!B96=0,\" \",COUNTRY_INFO!B96)","v":"HUILA"},{"$f":"IF(COUNTRY_INFO!C96=0,\" \",COUNTRY_INFO!C96)","v":"LUBANGO"},{"$f":"IF(COUNTRY_INFO!$U$9:$U$1000=\"MDA3 (IVM)\", COUNTRY_INFO!$U$9:$U$1000, \" \")","v":" "},null,null,null,0,null,null,0,null,null,0,0,0,0," "," "," "]
[{"$f":"IF(COUNTRY_INFO!A97=0,\" \",COUNTRY_INFO!A97)","v":"Angola"},{"$f":"IF(COUNTRY_INFO!B97=0,\" \",COUNTRY_INFO!B97)","v":"HUILA"},{"$f":"IF(COUNTRY_INFO!C97=0,\" \",COUNTRY_INFO!C97)","v":"MATALA"},{"$f":"IF(COUNTRY_INFO!$U$9:$U$1000=\"MDA3 (IVM)\", COUNTRY_INFO!$U$9:$U$1000, \" \")","v":" "},null,null,null,0,null,null,0,null,null,0,0,0,0," "," "," "]
[{"$f":"IF(COUNTRY_INFO!A98=0,\" \",COUNTRY_INFO!A98)","v":"Angola"},{"$f":"IF(COUNTRY_INFO!B98=0,\" \",COUNTRY_INFO!B98)","v":"HUILA"},{"$f":"IF(COUNTRY_INFO!C98=0,\" \",COUNTRY_INFO!C98)","v":"QUILENGUES"},{"$f":"IF(COUNTRY_INFO!$U$9:$U$1000=\"MDA3 (IVM)\", COUNTRY_INFO!$U$9:$U$1000, \" \")","v":" "},null,null,null,0,null,null,0,null,null,0,0,0,0," "," "," "]
[{"$f":"IF(COUNTRY_INFO!A99=0,\" \",COUNTRY_INFO!A99)","v":"Angola"},{"$f":"IF(COUNTRY_INFO!B99=0,\" \",COUNTRY_INFO!B99)","v":"HUILA"},{"$f":"IF(COUNTRY_INFO!C99=0,\" \",COUNTRY_INFO!C99)","v":"QUIPUNGO"},{"$f":"IF(COUNTRY_INFO!$U$9:$U$1000=\"MDA3 (IVM)\", COUNTRY_INFO!$U$9:$U$1000, \" \")","v":" "},null,null,null,0,null,null,0,null,null,0,0,0,0," "," "," "]
[{"$f":"IF(COUNTRY_INFO!A100=0,\" \",COUNTRY_INFO!A100)","v":"Angola"},{"$f":"IF(COUNTRY_INFO!B100=0,\" \",COUNTRY_INFO!B100)","v":"LUANDA"},{"$f":"IF(COUNTRY_INFO!C100=0,\" \",COUNTRY_INFO!C100)","v":"BELAS"},{"$f":"IF(COUNTRY_INFO!$U$9:$U$1000=\"MDA3 (IVM)\", COUNTRY_INFO!$U$9:$U$1000, \" \")","v":" "},null,null,null,0,null,null,0,null,null,0,0,0,0," "," "," "]
[{"$f":"IF(COUNTRY_INFO!A101=0,\" \",COUNTRY_INFO!A101)","v":"Angola"},{"$f":"IF(COUNTRY_INFO!B101=0,\" \",COUNTRY_INFO!B101)","v":"LUANDA"},{"$f":"IF(COUNTRY_INFO!C101=0,\" \",COUNTRY_INFO!C101)","v":"CACUACO"},{"$f":"IF(COUNTRY_INFO!$U$9:$U$1000=\"MDA3 (IVM)\", COUNTRY_INFO!$U$9:$U$1000, \" \")","v":" "},null,null,null,0,null,null,0,null,null,0,0,0,0," "," "," "]
[{"$f":"IF(COUNTRY_INFO!A102=0,\" \",COUNTRY_INFO!A102)","v":"Angola"},{"$f":"IF(COUNTRY_INFO!B102=0,\" \",COUNTRY_INFO!B102)","v":"LUANDA"},{"$f":"IF(COUNTRY_INFO!C102=0,\" \",COUNTRY_INFO!C102)","v":"CAZENGA"},{"$f":"IF(COUNTRY_INFO!$U$9:$U$1000=\"MDA3 (IVM)\", COUNTRY_INFO!$U$9:$U$1000, \" \")","v":" "},null,null,null,0,null,null,0,null,null,0,0,0,0," "," "," "]
[{"$f":"IF(COUNTRY_INFO!A103=0,\" \",COUNTRY_INFO!A103)","v":"Angola"},{"$f":"IF(COUNTRY_INFO!B103=0,\" \",COUNTRY_INFO!B103)","v":"LUANDA"},{"$f":"IF(COUNTRY_INFO!C103=0,\" \",COUNTRY_INFO!C103)","v":"ICOLO E BENGO"},{"$f":"IF(COUNTRY_INFO!$U$9:$U$1000=\"MDA3 (IVM)\", COUNTRY_INFO!$U$9:$U$1000, \" \")","v":" "},null,null,null,0,null,null,0,null,null,0,0,0,0," "," "," "]
[{"$f":"IF(COUNTRY_INFO!A104=0,\" \",COUNTRY_INFO!A104)","v":"Angola"},{"$f":"IF(COUNTRY_INFO!B104=0,\" \",COUNTRY_INFO!B104)","v":"LUANDA"},{"$f":"IF(COUNTRY_INFO!C104=0,\" \",COUNTRY_INFO!C104)","v":"KILAMBA KIAXI"},{"$f":"IF(COUNTRY_INFO!$U$9:$U$1000=\"MDA3 (IVM)\", COUNTRY_INFO!$U$9:$U$1000, \" \")","v":" "},null,null,null,0,null,null,0,null,null,0,0,0,0," "," "," "]
[{"$f":"IF(COUNTRY_INFO!A105=0,\" \",COUNTRY_INFO!A105)","v":"Angola"},{"$f":"IF(COUNTRY_INFO!B105=0,\" \",COUNTRY_INFO!B105)","v":"LUANDA"},{"$f":"IF(COUNTRY_INFO!C105=0,\" \",COUNTRY_INFO!C105)","v":"LUANDA"},{"$f":"IF(COUNTRY_INFO!$U$9:$U$1000=\"MDA3 (IVM)\", COUNTRY_INFO!$U$9:$U$1000, \" \")","v":" "},null,null,null,0,null,null,0,null,null,0,0,0,0," "," "," "]
[{"$f":"IF(COUNTRY_INFO!A106=0,\" \",COUNTRY_INFO!A106)","v":"Angola"},{"$f":"IF(COUNTRY_INFO!B106=0,\" \",COUNTRY_INFO!B106)","v":"LUANDA"},{"$f":"IF(COUNTRY_INFO!C106=0,\" \",COUNTRY_INFO!C106)","v":"QUISSAMA"},{"$f":"IF(COUNTRY_INFO!$U$9:$U$1000=\"MDA3 (IVM)\", COUNTRY_INFO!$U$9:$U$1000, \" \")","v":" "},null,null,null,0,null,null,0,null,null,0,0,0,0," "," "," "]
[{"$f":"IF(COUNTRY_INFO!A107=0,\" \",COUNTRY_INFO!A107)","v":"Angola"},{"$f":"IF(COUNTRY_INFO!B107=0,\" \",COUNTRY_INFO!B107)","v":"LUANDA"},{"$f":"IF(COUNTRY_INFO!C107=0,\" \",COUNTRY_INFO!C107)","v":"TALATONA"},{"$f":"IF(COUNTRY_INFO!$U$9:$U$1000=\"MDA3 (IVM)\", COUNTRY_INFO!$U$9:$U$1000, \" \")","v":" "},null,null,null,0,null,null,0,null,null,0,0,0,0," "," "," "]
[{"$f":"IF(COUNTRY_INFO!A108=0,\" \",COUNTRY_INFO!A108)","v":"Angola"},{"$f":"IF(COUNTRY_INFO!B108=0,\" \",COUNTRY_INFO!B108)","v":"LUANDA"},{"$f":"IF(COUNTRY_INFO!C108=0,\" \",COUNTRY_INFO!C108)","v":"VIANA"},{"$f":"IF(COUNTRY_INFO!$U$9:$U$1000=\"MDA3 (IVM)\", COUNTRY_INFO!$U$9:$U$1000, \" \")","v":" "},null,null,null,0,null,null,0,null,null,0,0,0,0," "," "," "]
[{"$f":"IF(COUNTRY_INFO!A109=0,\" \",COUNTRY_INFO!A109)","v":"Angola"},{"$f":"IF(COUNTRY_INFO!B109=0,\" \",COUNTRY_INFO!B109)","v":"LUNDA NORTE"},{"$f":"IF(COUNTRY_INFO!C109=0,\" \",COUNTRY_INFO!C109)","v":"CAMBULO"},{"$f":"IF(COUNTRY_INFO!$U$9:$U$1000=\"MDA3 (IVM)\", COUNTRY_INFO!$U$9:$U$1000, \" \")","v":" "},null,null,null,0,null,null,0,null,null,0,0,0,0," "," "," "]
[{"$f":"IF(COUNTRY_INFO!A110=0,\" \",COUNTRY_INFO!A110)","v":"Angola"},{"$f":"IF(COUNTRY_INFO!B110=0,\" \",COUNTRY_INFO!B110)","v":"LUNDA NORTE"},{"$f":"IF(COUNTRY_INFO!C110=0,\" \",COUNTRY_INFO!C110)","v":"CAPENDA CAMULEMBA"},{"$f":"IF(COUNTRY_INFO!$U$9:$U$1000=\"MDA3 (IVM)\", COUNTRY_INFO!$U$9:$U$1000, \" \")","v":" "},null,null,null,0,null,null,0,null,null,0,0,0,0," "," "," "]
[{"$f":"IF(COUNTRY_INFO!A111=0,\" \",COUNTRY_INFO!A111)","v":"Angola"},{"$f":"IF(COUNTRY_INFO!B111=0,\" \",COUNTRY_INFO!B111)","v":"LUNDA NORTE"},{"$f":"IF(COUNTRY_INFO!C111=0,\" \",COUNTRY_INFO!C111)","v":"CAUNGULA"},{"$f":"IF(COUNTRY_INFO!$U$9:$U$1000=\"MDA3 (IVM)\", COUNTRY_INFO!$U$9:$U$1000, \" \")","v":" "},null,null,null,0,null,null,0,null,null,0,0,0,0," "," "," "]
[{"$f":"IF(COUNTRY_INFO!A112=0,\" \",COUNTRY_INFO!A112)","v":"Angola"},{"$f":"IF(COUNTRY_INFO!B112=0,\" \",COUNTRY_INFO!B112)","v":"LUNDA NORTE"},{"$f":"IF(COUNTRY_INFO!C112=0,\" \",COUNTRY_INFO!C112)","v":"CHITATO"},{"$f":"IF(COUNTRY_INFO!$U$9:$U$1000=\"MDA3 (IVM)\", COUNTRY_INFO!$U$9:$U$1000, \" \")","v":" "},null,null,null,0,null,null,0,null,null,0,0,0,0," "," "," "]
[{"$f":"IF(COUNTRY_INFO!A113=0,\" \",COUNTRY_INFO!A113)","v":"Angola"},{"$f":"IF(COUNTRY_INFO!B113=0,\" \",COUNTRY_INFO!B113)","v":"LUNDA NORTE"},{"$f":"IF(COUNTRY_INFO!C113=0,\" \",COUNTRY_INFO!C113)","v":"CUANGO"},{"$f":"IF(COUNTRY_INFO!$U$9:$U$1000=\"MDA3 (IVM)\", COUNTRY_INFO!$U$9:$U$1000, \" \")","v":" "},null,null,null,0,null,null,0,null,null,0,0,0,0," "," "," "]
[{"$f":"IF(COUNTRY_INFO!A114=0,\" \",COUNTRY_INFO!A114)","v":"Angola"},{"$f":"IF(COUNTRY_INFO!B114=0,\" \",COUNTRY_INFO!B114)","v":"LUNDA NORTE"},{"$f":"IF(COUNTRY_INFO!C114=0,\" \",COUNTRY_INFO!C114)","v":"CUILO"},{"$f":"IF(COUNTRY_INFO!$U$9:$U$1000=\"MDA3 (IVM)\", COUNTRY_INFO!$U$9:$U$1000, \" \")","v":" "},null,null,null,0,null,null,0,null,null,0,0,0,0," "," "," "]
[{"$f":"IF(COUNTRY_INFO!A115=0,\" \",COUNTRY_INFO!A115)","v":"Angola"},{"$f":"IF(COUNTRY_INFO!B115=0,\" \",COUNTRY_INFO!B115)","v":"LUNDA NORTE"},{"$f":"IF(COUNTRY_INFO!C115=0,\" \",COUNTRY_INFO!C115)","v":"LOVUA"},{"$f":"IF(COUNTRY_INFO!$U$9:$U$1000=\"MDA3 (IVM)\", COUNTRY_INFO!$U$9:$U$1000, \" \")","v":" "},null,null,null,0,null,null,0,null,null,0,0,0,0," "," "," "]
[{"$f":"IF(COUNTRY_INFO!A116=0,\" \",COUNTRY_INFO!A116)","v":"Angola"},{"$f":"IF(COUNTRY_INFO!B116=0,\" \",COUNTRY_INFO!B116)","v":"LUNDA NORTE"},{"$f":"IF(COUNTRY_INFO!C116=0,\" \",COUNTRY_INFO!C116)","v":"LUBALO"},{"$f":"IF(COUNTRY_INFO!$U$9:$U$1000=\"MDA3 (IVM)\", COUNTRY_INFO!$U$9:$U$1000, \" \")","v":" "},null,null,null,0,null,null,0,null,null,0,0,0,0," "," "," "]
[{"$f":"IF(COUNTRY_INFO!A117=0,\" \",COUNTRY_INFO!A117)","v":"Angola"},{"$f":"IF(COUNTRY_INFO!B117=0,\" \",COUNTRY_INFO!B117)","v":"LUNDA NORTE"},{"$f":"IF(COUNTRY_INFO!C117=0,\" \",COUNTRY_INFO!C117)","v":"LUCAPA"},{"$f":"IF(COUNTRY_INFO!$U$9:$U$1000=\"MDA3 (IVM)\", COUNTRY_INFO!$U$9:$U$1000, \" \")","v":" "},null,null,null,0,null,null,0,null,null,0,0,0,0," "," "," "]
[{"$f":"IF(COUNTRY_INFO!A118=0,\" \",COUNTRY_INFO!A118)","v":"Angola"},{"$f":"IF(COUNTRY_INFO!B118=0,\" \",COUNTRY_INFO!B118)","v":"LUNDA NORTE"},{"$f":"IF(COUNTRY_INFO!C118=0,\" \",COUNTRY_INFO!C118)","v":"XA MUTEBA"},{"$f":"IF(COUNTRY_INFO!$U$9:$U$1000=\"MDA3 (IVM)\", COUNTRY_INFO!$U$9:$U$1000, \" \")","v":" "},null,null,null,0,null,null,0,null,null,0,0,0,0," "," "," "]
[{"$f":"IF(COUNTRY_INFO!A119=0,\" \",COUNTRY_INFO!A119)","v":"Angola"},{"$f":"IF(COUNTRY_INFO!B119=0,\" \",COUNTRY_INFO!B119)","v":"LUNDA SUL"},{"$f":"IF(COUNTRY_INFO!C119=0,\" \",COUNTRY_INFO!C119)","v":"CACOLO"},{"$f":"IF(COUNTRY_INFO!$U$9:$U$1000=\"MDA3 (IVM)\", COUNTRY_INFO!$U$9:$U$1000, \" \")","v":" "},null,null,null,0,null,null,0,null,null,0,0,0,0," "," "," "]
[{"$f":"IF(COUNTRY_INFO!A120=0,\" \",COUNTRY_INFO!A120)","v":"Angola"},{"$f":"IF(COUNTRY_INFO!B120=0,\" \",COUNTRY_INFO!B120)","v":"LUNDA SUL"},{"$f":"IF(COUNTRY_INFO!C120=0,\" \",COUNTRY_INFO!C120)","v":"DALA"},{"$f":"IF(COUNTRY_INFO!$U$9:$U$1000=\"MDA3 (IVM)\", COUNTRY_INFO!$U$9:$U$1000, \" \")","v":" "},null,null,null,0,null,null,0,null,null,0,0,0,0," "," "," "]
[{"$f":"IF(COUNTRY_INFO!A121=0,\" \",COUNTRY_INFO!A121)","v":"Angola"},{"$f":"IF(COUNTRY_INFO!B121=0,\" \",COUNTRY_INFO!B121)","v":"LUNDA SUL"},{"$f":"IF(COUNTRY_INFO!C121=0,\" \",COUNTRY_INFO!C121)","v":"MUCONDA"},{"$f":"IF(COUNTRY_INFO!$U$9:$U$1000=\"MDA3 (IVM)\", COUNTRY_INFO!$U$9:$U$1000, \" \")","v":" "},null,null,null,0,null,null,0,null,null,0,0,0,0," "," "," "]
[{"$f":"IF(COUNTRY_INFO!A122=0,\" \",COUNTRY_INFO!A122)","v":"Angola"},{"$f":"IF(COUNTRY_INFO!B122=0,\" \",COUNTRY_INFO!B122)","v":"LUNDA SUL"},{"$f":"IF(COUNTRY_INFO!C122=0,\" \",COUNTRY_INFO!C122)","v":"SAURIMO"},{"$f":"IF(COUNTRY_INFO!$U$9:$U$1000=\"MDA3 (IVM)\", COUNTRY_INFO!$U$9:$U$1000, \" \")","v":" "},null,null,null,0,null,null,0,null,null,0,0,0,0," "," "," "]
[{"$f":"IF(COUNTRY_INFO!A123=0,\" \",COUNTRY_INFO!A123)","v":"Angola"},{"$f":"IF(COUNTRY_INFO!B123=0,\" \",COUNTRY_INFO!B123)","v":"MALANJE"},{"$f":"IF(COUNTRY_INFO!C123=0,\" \",COUNTRY_INFO!C123)","v":"CACULAMA (Mukari)"},{"$f":"IF(COUNTRY_INFO!$U$9:$U$1000=\"MDA3 (IVM)\", COUNTRY_INFO!$U$9:$U$1000, \" \")","v":" "},null,null,null,0,null,null,0,null,null,0,0,0,0," "," "," "]
[{"$f":"IF(COUNTRY_INFO!A124=0,\" \",COUNTRY_INFO!A124)","v":"Angola"},{"$f":"IF(COUNTRY_INFO!B124=0,\" \",COUNTRY_INFO!B124)","v":"MALANJE"},{"$f":"IF(COUNTRY_INFO!C124=0,\" \",COUNTRY_INFO!C124)","v":"CACUSO"},{"$f":"IF(COUNTRY_INFO!$U$9:$U$1000=\"MDA3 (IVM)\", COUNTRY_INFO!$U$9:$U$1000, \" \")","v":" "},null,null,null,0,null,null,0,null,null,0,0,0,0," "," "," "]
[{"$f":"IF(COUNTRY_INFO!A125=0,\" \",COUNTRY_INFO!A125)","v":"Angola"},{"$f":"IF(COUNTRY_INFO!B125=0,\" \",COUNTRY_INFO!B125)","v":"MALANJE"},{"$f":"IF(COUNTRY_INFO!C125=0,\" \",COUNTRY_INFO!C125)","v":"CAHOMBO"},{"$f":"IF(COUNTRY_INFO!$U$9:$U$1000=\"MDA3 (IVM)\", COUNTRY_INFO!$U$9:$U$1000, \" \")","v":" "},null,null,null,0,null,null,0,null,null,0,0,0,0," "," "," "]
[{"$f":"IF(COUNTRY_INFO!A126=0,\" \",COUNTRY_INFO!A126)","v":"Angola"},{"$f":"IF(COUNTRY_INFO!B126=0,\" \",COUNTRY_INFO!B126)","v":"MALANJE"},{"$f":"IF(COUNTRY_INFO!C126=0,\" \",COUNTRY_INFO!C126)","v":"CALANDULA"},{"$f":"IF(COUNTRY_INFO!$U$9:$U$1000=\"MDA3 (IVM)\", COUNTRY_INFO!$U$9:$U$1000, \" \")","v":" "},null,null,null,0,null,null,0,null,null,0,0,0,0," "," "," "]
[{"$f":"IF(COUNTRY_INFO!A127=0,\" \",COUNTRY_INFO!A127)","v":"Angola"},{"$f":"IF(COUNTRY_INFO!B127=0,\" \",COUNTRY_INFO!B127)","v":"MALANJE"},{"$f":"IF(COUNTRY_INFO!C127=0,\" \",COUNTRY_INFO!C127)","v":"CAMBUNDI CATEMBO"},{"$f":"IF(COUNTRY_INFO!$U$9:$U$1000=\"MDA3 (IVM)\", COUNTRY_INFO!$U$9:$U$1000, \" \")","v":" "},null,null,null,0,null,null,0,null,null,0,0,0,0," "," "," "]
[{"$f":"IF(COUNTRY_INFO!A128=0,\" \",COUNTRY_INFO!A128)","v":"Angola"},{"$f":"IF(COUNTRY_INFO!B128=0,\" \",COUNTRY_INFO!B128)","v":"MALANJE"},{"$f":"IF(COUNTRY_INFO!C128=0,\" \",COUNTRY_INFO!C128)","v":"CANGANDALA"},{"$f":"IF(COUNTRY_INFO!$U$9:$U$1000=\"MDA3 (IVM)\", COUNTRY_INFO!$U$9:$U$1000, \" \")","v":" "},null,null,null,0,null,null,0,null,null,0,0,0,0," "," "," "]
[{"$f":"IF(COUNTRY_INFO!A129=0,\" \",COUNTRY_INFO!A129)","v":"Angola"},{"$f":"IF(COUNTRY_INFO!B129=0,\" \",COUNTRY_INFO!B129)","v":"MALANJE"},{"$f":"IF(COUNTRY_INFO!C129=0,\" \",COUNTRY_INFO!C129)","v":"KIWABA NZOJI"},{"$f":"IF(COUNTRY_INFO!$U$9:$U$1000=\"MDA3 (IVM)\", COUNTRY_INFO!$U$9:$U$1000, \" \")","v":" "},null,null,null,0,null,null,0,null,null,0,0,0,0," "," "," "]
[{"$f":"IF(COUNTRY_INFO!A130=0,\" \",COUNTRY_INFO!A130)","v":"Angola"},{"$f":"IF(COUNTRY_INFO!B130=0,\" \",COUNTRY_INFO!B130)","v":"MALANJE"},{"$f":"IF(COUNTRY_INFO!C130=0,\" \",COUNTRY_INFO!C130)","v":"KUNDA DYA BASE"},{"$f":"IF(COUNTRY_INFO!$U$9:$U$1000=\"MDA3 (IVM)\", COUNTRY_INFO!$U$9:$U$1000, \" \")","v":" "},null,null,null,0,null,null,0,null,null,0,0,0,0," "," "," "]
[{"$f":"IF(COUNTRY_INFO!A131=0,\" \",COUNTRY_INFO!A131)","v":"Angola"},{"$f":"IF(COUNTRY_INFO!B131=0,\" \",COUNTRY_INFO!B131)","v":"MALANJE"},{"$f":"IF(COUNTRY_INFO!C131=0,\" \",COUNTRY_INFO!C131)","v":"LUQUEMBO"},{"$f":"IF(COUNTRY_INFO!$U$9:$U$1000=\"MDA3 (IVM)\", COUNTRY_INFO!$U$9:$U$1000, \" \")","v":" "},null,null,null,0,null,null,0,null,null,0,0,0,0," "," "," "]
[{"$f":"IF(COUNTRY_INFO!A132=0,\" \",COUNTRY_INFO!A132)","v":"Angola"},{"$f":"IF(COUNTRY_INFO!B132=0,\" \",COUNTRY_INFO!B132)","v":"MALANJE"},{"$f":"IF(COUNTRY_INFO!C132=0,\" \",COUNTRY_INFO!C132)","v":"MALANJE"},{"$f":"IF(COUNTRY_INFO!$U$9:$U$1000=\"MDA3 (IVM)\", COUNTRY_INFO!$U$9:$U$1000, \" \")","v":" "},null,null,null,0,null,null,0,null,null,0,0,0,0," "," "," "]
[{"$f":"IF(COUNTRY_INFO!A133=0,\" \",COUNTRY_INFO!A133)","v":"Angola"},{"$f":"IF(COUNTRY_INFO!B133=0,\" \",COUNTRY_INFO!B133)","v":"MALANJE"},{"$f":"IF(COUNTRY_INFO!C133=0,\" \",COUNTRY_INFO!C133)","v":"MARIMBA"},{"$f":"IF(COUNTRY_INFO!$U$9:$U$1000=\"MDA3 (IVM)\", COUNTRY_INFO!$U$9:$U$1000, \" \")","v":" "},null,null,null,0,null,null,0,null,null,0,0,0,0," "," "," "]
[{"$f":"IF(COUNTRY_INFO!A134=0,\" \",COUNTRY_INFO!A134)","v":"Angola"},{"$f":"IF(COUNTRY_INFO!B134=0,\" \",COUNTRY_INFO!B134)","v":"MALANJE"},{"$f":"IF(COUNTRY_INFO!C134=0,\" \",COUNTRY_INFO!C134)","v":"MASSANGO"},{"$f":"IF(COUNTRY_INFO!$U$9:$U$1000=\"MDA3 (IVM)\", COUNTRY_INFO!$U$9:$U$1000, \" \")","v":" "},null,null,null,0,null,null,0,null,null,0,0,0,0," "," "," "]
[{"$f":"IF(COUNTRY_INFO!A135=0,\" \",COUNTRY_INFO!A135)","v":"Angola"},{"$f":"IF(COUNTRY_INFO!B135=0,\" \",COUNTRY_INFO!B135)","v":"MALANJE"},{"$f":"IF(COUNTRY_INFO!C135=0,\" \",COUNTRY_INFO!C135)","v":"QUELA"},{"$f":"IF(COUNTRY_INFO!$U$9:$U$1000=\"MDA3 (IVM)\", COUNTRY_INFO!$U$9:$U$1000, \" \")","v":" "},null,null,null,0,null,null,0,null,null,0,0,0,0," "," "," "]
[{"$f":"IF(COUNTRY_INFO!A136=0,\" \",COUNTRY_INFO!A136)","v":"Angola"},{"$f":"IF(COUNTRY_INFO!B136=0,\" \",COUNTRY_INFO!B136)","v":"MALANJE"},{"$f":"IF(COUNTRY_INFO!C136=0,\" \",COUNTRY_INFO!C136)","v":"QUIRIMA"},{"$f":"IF(COUNTRY_INFO!$U$9:$U$1000=\"MDA3 (IVM)\", COUNTRY_INFO!$U$9:$U$1000, \" \")","v":" "},null,null,null,0,null,null,0,null,null,0,0,0,0," "," "," "]
[{"$f":"IF(COUNTRY_INFO!A137=0,\" \",COUNTRY_INFO!A137)","v":"Angola"},{"$f":"IF(COUNTRY_INFO!B137=0,\" \",COUNTRY_INFO!B137)","v":"MOXICO"},{"$f":"IF(COUNTRY_INFO!C137=0,\" \",COUNTRY_INFO!C137)","v":"ALTO ZAMBEZE"},{"$f":"IF(COUNTRY_INFO!$U$9:$U$1000=\"MDA3 (IVM)\", COUNTRY_INFO!$U$9:$U$1000, \" \")","v":" "},null,null,null,0,null,null,0,null,null,0,0,0,0," "," "," "]
[{"$f":"IF(COUNTRY_INFO!A138=0,\" \",COUNTRY_INFO!A138)","v":"Angola"},{"$f":"IF(COUNTRY_INFO!B138=0,\" \",COUNTRY_INFO!B138)","v":"MOXICO"},{"$f":"IF(COUNTRY_INFO!C138=0,\" \",COUNTRY_INFO!C138)","v":"BUNDAS (LUMBALA NGUIMBO)"},{"$f":"IF(COUNTRY_INFO!$U$9:$U$1000=\"MDA3 (IVM)\", COUNTRY_INFO!$U$9:$U$1000, \" \")","v":" "},null,null,null,{"$f":"SUM(F138:G138)","v":0},null,null,{"$f":"SUM(I138:J138)","v":0},null,null,{"$f":"SUM(L138:M138)","v":0},{"$f":"MAX(I138,L138)","v":0},{"$f":"MAX(J138,M138)","v":0},{"$f":"SUM(O138:P138)","v":0},{"$f":"IF(F138<>0, IF(MAX(I138,L138)/F138*100=0, \"-\", MAX(I138,L138)/F138*100), \" \")","v":" "},{"$f":"IF(G138<>0, IF(MAX(J138,M138)/G138*100=0, \"-\", MAX(J138,M138)/G138*100), \" \")","v":" "},{"$f":"IF(H138<>0, IF((MAX(I138,L138)+MAX(J138,M138))/H138*100=0, \"-\",(MAX(I138,L138)+MAX(J138,M138))/H138*100), \" \")","v":" "}]
[{"$f":"IF(COUNTRY_INFO!A139=0,\" \",COUNTRY_INFO!A139)","v":"Angola"},{"$f":"IF(COUNTRY_INFO!B139=0,\" \",COUNTRY_INFO!B139)","v":"MOXICO"},{"$f":"IF(COUNTRY_INFO!C139=0,\" \",COUNTRY_INFO!C139)","v":"CAMANONGUE"},{"$f":"IF(COUNTRY_INFO!$U$9:$U$1000=\"MDA3 (IVM)\", COUNTRY_INFO!$U$9:$U$1000, \" \")","v":" "},null,null,null,0,null,null,0,null,null,0,0,0,0," "," "," "]
[{"$f":"IF(COUNTRY_INFO!A140=0,\" \",COUNTRY_INFO!A140)","v":"Angola"},{"$f":"IF(COUNTRY_INFO!B140=0,\" \",COUNTRY_INFO!B140)","v":"MOXICO"},{"$f":"IF(COUNTRY_INFO!C140=0,\" \",COUNTRY_INFO!C140)","v":"CAMEIA (LUMEJE)"},{"$f":"IF(COUNTRY_INFO!$U$9:$U$1000=\"MDA3 (IVM)\", COUNTRY_INFO!$U$9:$U$1000, \" \")","v":" "},null,null,null,0,null,null,0,null,null,0,0,0,0," "," "," "]
[{"$f":"IF(COUNTRY_INFO!A141=0,\" \",COUNTRY_INFO!A141)","v":"Angola"},{"$f":"IF(COUNTRY_INFO!B141=0,\" \",COUNTRY_INFO!B141)","v":"MOXICO"},{"$f":"IF(COUNTRY_INFO!C141=0,\" \",COUNTRY_INFO!C141)","v":"LEUA"},{"$f":"IF(COUNTRY_INFO!$U$9:$U$1000=\"MDA3 (IVM)\", COUNTRY_INFO!$U$9:$U$1000, \" \")","v":" "},null,null,null,0,null,null,0,null,null,0,0,0,0," "," "," "]
[{"$f":"IF(COUNTRY_INFO!A142=0,\" \",COUNTRY_INFO!A142)","v":"Angola"},{"$f":"IF(COUNTRY_INFO!B142=0,\" \",COUNTRY_INFO!B142)","v":"MOXICO"},{"$f":"IF(COUNTRY_INFO!C142=0,\" \",COUNTRY_INFO!C142)","v":"LUACANO"},{"$f":"IF(COUNTRY_INFO!$U$9:$U$1000=\"MDA3 (IVM)\", COUNTRY_INFO!$U$9:$U$1000, \" \")","v":" "},null,null,null,0,null,null,0,null,null,0,0,0,0," "," "," "]
[{"$f":"IF(COUNTRY_INFO!A143=0,\" \",COUNTRY_INFO!A143)","v":"Angola"},{"$f":"IF(COUNTRY_INFO!B143=0,\" \",COUNTRY_INFO!B143)","v":"MOXICO"},{"$f":"IF(COUNTRY_INFO!C143=0,\" \",COUNTRY_INFO!C143)","v":"LUAU"},{"$f":"IF(COUNTRY_INFO!$U$9:$U$1000=\"MDA3 (IVM)\", COUNTRY_INFO!$U$9:$U$1000, \" \")","v":" "},null,null,null,0,null,null,0,null,null,0,0,0,0," "," "," "]
[{"$f":"IF(COUNTRY_INFO!A144=0,\" \",COUNTRY_INFO!A144)","v":"Angola"},{"$f":"IF(COUNTRY_INFO!B144=0,\" \",COUNTRY_INFO!B144)","v":"MOXICO"},{"$f":"IF(COUNTRY_INFO!C144=0,\" \",COUNTRY_INFO!C144)","v":"LUCHAZES"},{"$f":"IF(COUNTRY_INFO!$U$9:$U$1000=\"MDA3 (IVM)\", COUNTRY_INFO!$U$9:$U$1000, \" \")","v":" "},null,null,null,0,null,null,0,null,null,0,0,0,0," "," "," "]
[{"$f":"IF(COUNTRY_INFO!A145=0,\" \",COUNTRY_INFO!A145)","v":"Angola"},{"$f":"IF(COUNTRY_INFO!B145=0,\" \",COUNTRY_INFO!B145)","v":"MOXICO"},{"$f":"IF(COUNTRY_INFO!C145=0,\" \",COUNTRY_INFO!C145)","v":"MOXICO/LUENA"},{"$f":"IF(COUNTRY_INFO!$U$9:$U$1000=\"MDA3 (IVM)\", COUNTRY_INFO!$U$9:$U$1000, \" \")","v":" "},null,null,null,0,null,null,0,null,null,0,0,0,0," "," "," "]
[{"$f":"IF(COUNTRY_INFO!A146=0,\" \",COUNTRY_INFO!A146)","v":"Angola"},{"$f":"IF(COUNTRY_INFO!B146=0,\" \",COUNTRY_INFO!B146)","v":"NAMIBE"},{"$f":"IF(COUNTRY_INFO!C146=0,\" \",COUNTRY_INFO!C146)","v":"BIBALA"},{"$f":"IF(COUNTRY_INFO!$U$9:$U$1000=\"MDA3 (IVM)\", COUNTRY_INFO!$U$9:$U$1000, \" \")","v":" "},null,null,null,0,null,null,0,null,null,0,0,0,0," "," "," "]
[{"$f":"IF(COUNTRY_INFO!A147=0,\" \",COUNTRY_INFO!A147)","v":"Angola"},{"$f":"IF(COUNTRY_INFO!B147=0,\" \",COUNTRY_INFO!B147)","v":"NAMIBE"},{"$f":"IF(COUNTRY_INFO!C147=0,\" \",COUNTRY_INFO!C147)","v":"CAMUCUIO"},{"$f":"IF(COUNTRY_INFO!$U$9:$U$1000=\"MDA3 (IVM)\", COUNTRY_INFO!$U$9:$U$1000, \" \")","v":" "},null,null,null,0,null,null,0,null,null,0,0,0,0," "," "," "]
[{"$f":"IF(COUNTRY_INFO!A148=0,\" \",COUNTRY_INFO!A148)","v":"Angola"},{"$f":"IF(COUNTRY_INFO!B148=0,\" \",COUNTRY_INFO!B148)","v":"NAMIBE"},{"$f":"IF(COUNTRY_INFO!C148=0,\" \",COUNTRY_INFO!C148)","v":"NAMIBE"},{"$f":"IF(COUNTRY_INFO!$U$9:$U$1000=\"MDA3 (IVM)\", COUNTRY_INFO!$U$9:$U$1000, \" \")","v":" "},null,null,null,0,null,null,0,null,null,0,0,0,0," "," "," "]
[{"$f":"IF(COUNTRY_INFO!A149=0,\" \",COUNTRY_INFO!A149)","v":"Angola"},{"$f":"IF(COUNTRY_INFO!B149=0,\" \",COUNTRY_INFO!B149)","v":"NAMIBE"},{"$f":"IF(COUNTRY_INFO!C149=0,\" \",COUNTRY_INFO!C149)","v":"TOMBWA"},{"$f":"IF(COUNTRY_INFO!$U$9:$U$1000=\"MDA3 (IVM)\", COUNTRY_INFO!$U$9:$U$1000, \" \")","v":" "},null,null,null,0,null,null,0,null,null,0,0,0,0," "," "," "]
[{"$f":"IF(COUNTRY_INFO!A150=0,\" \",COUNTRY_INFO!A150)","v":"Angola"},{"$f":"IF(COUNTRY_INFO!B150=0,\" \",COUNTRY_INFO!B150)","v":"NAMIBE"},{"$f":"IF(COUNTRY_INFO!C150=0,\" \",COUNTRY_INFO!C150)","v":"VIREI"},{"$f":"IF(COUNTRY_INFO!$U$9:$U$1000=\"MDA3 (IVM)\", COUNTRY_INFO!$U$9:$U$1000, \" \")","v":" "},null,null,null,0,null,null,0,null,null,0,0,0,0," "," "," "]
[{"$f":"IF(COUNTRY_INFO!A151=0,\" \",COUNTRY_INFO!A151)","v":"Angola"},{"$f":"IF(COUNTRY_INFO!B151=0,\" \",COUNTRY_INFO!B151)","v":"UIGE"},{"$f":"IF(COUNTRY_INFO!C151=0,\" \",COUNTRY_INFO!C151)","v":"AMBUILA"},{"$f":"IF(COUNTRY_INFO!$U$9:$U$1000=\"MDA3 (IVM)\", COUNTRY_INFO!$U$9:$U$1000, \" \")","v":" "},null,null,null,0,null,null,0,null,null,0,0,0,0," "," "," "]
[{"$f":"IF(COUNTRY_INFO!A152=0,\" \",COUNTRY_INFO!A152)","v":"Angola"},{"$f":"IF(COUNTRY_INFO!B152=0,\" \",COUNTRY_INFO!B152)","v":"UIGE"},{"$f":"IF(COUNTRY_INFO!C152=0,\" \",COUNTRY_INFO!C152)","v":"BEMBE"},{"$f":"IF(COUNTRY_INFO!$U$9:$U$1000=\"MDA3 (IVM)\", COUNTRY_INFO!$U$9:$U$1000, \" \")","v":" "},null,null,null,0,null,null,0,null,null,0,0,0,0," "," "," "]
[{"$f":"IF(COUNTRY_INFO!A153=0,\" \",COUNTRY_INFO!A153)","v":"Angola"},{"$f":"IF(COUNTRY_INFO!B153=0,\" \",COUNTRY_INFO!B153)","v":"UIGE"},{"$f":"IF(COUNTRY_INFO!C153=0,\" \",COUNTRY_INFO!C153)","v":"BUENGAS"},{"$f":"IF(COUNTRY_INFO!$U$9:$U$1000=\"MDA3 (IVM)\", COUNTRY_INFO!$U$9:$U$1000, \" \")","v":" "},null,null,null,0,null,null,0,null,null,0,0,0,0," "," "," "]
[{"$f":"IF(COUNTRY_INFO!A154=0,\" \",COUNTRY_INFO!A154)","v":"Angola"},{"$f":"IF(COUNTRY_INFO!B154=0,\" \",COUNTRY_INFO!B154)","v":"UIGE"},{"$f":"IF(COUNTRY_INFO!C154=0,\" \",COUNTRY_INFO!C154)","v":"BUNGO"},{"$f":"IF(COUNTRY_INFO!$U$9:$U$1000=\"MDA3 (IVM)\", COUNTRY_INFO!$U$9:$U$1000, \" \")","v":" "},null,null,null,0,null,null,0,null,null,0,0,0,0," "," "," "]
[{"$f":"IF(COUNTRY_INFO!A155=0,\" \",COUNTRY_INFO!A155)","v":"Angola"},{"$f":"IF(COUNTRY_INFO!B155=0,\" \",COUNTRY_INFO!B155)","v":"UIGE"},{"$f":"IF(COUNTRY_INFO!C155=0,\" \",COUNTRY_INFO!C155)","v":"CANGOLA"},{"$f":"IF(COUNTRY_INFO!$U$9:$U$1000=\"MDA3 (IVM)\", COUNTRY_INFO!$U$9:$U$1000, \" \")","v":" "},null,null,null,0,null,null,0,null,null,0,0,0,0," "," "," "]
[{"$f":"IF(COUNTRY_INFO!A156=0,\" \",COUNTRY_INFO!A156)","v":"Angola"},{"$f":"IF(COUNTRY_INFO!B156=0,\" \",COUNTRY_INFO!B156)","v":"UIGE"},{"$f":"IF(COUNTRY_INFO!C156=0,\" \",COUNTRY_INFO!C156)","v":"DAMBA"},{"$f":"IF(COUNTRY_INFO!$U$9:$U$1000=\"MDA3 (IVM)\", COUNTRY_INFO!$U$9:$U$1000, \" \")","v":" "},null,null,null,0,null,null,0,null,null,0,0,0,0," "," "," "]
[{"$f":"IF(COUNTRY_INFO!A157=0,\" \",COUNTRY_INFO!A157)","v":"Angola"},{"$f":"IF(COUNTRY_INFO!B157=0,\" \",COUNTRY_INFO!B157)","v":"UIGE"},{"$f":"IF(COUNTRY_INFO!C157=0,\" \",COUNTRY_INFO!C157)","v":"MAQUELA DO ZOMBO"},{"$f":"IF(COUNTRY_INFO!$U$9:$U$1000=\"MDA3 (IVM)\", COUNTRY_INFO!$U$9:$U$1000, \" \")","v":" "},null,null,null,0,null,null,0,null,null,0,0,0,0," "," "," "]
[{"$f":"IF(COUNTRY_INFO!A158=0,\" \",COUNTRY_INFO!A158)","v":"Angola"},{"$f":"IF(COUNTRY_INFO!B158=0,\" \",COUNTRY_INFO!B158)","v":"UIGE"},{"$f":"IF(COUNTRY_INFO!C158=0,\" \",COUNTRY_INFO!C158)","v":"MILUNGA"},{"$f":"IF(COUNTRY_INFO!$U$9:$U$1000=\"MDA3 (IVM)\", COUNTRY_INFO!$U$9:$U$1000, \" \")","v":" "},null,null,null,0,null,null,0,null,null,0,0,0,0," "," "," "]
[{"$f":"IF(COUNTRY_INFO!A159=0,\" \",COUNTRY_INFO!A159)","v":"Angola"},{"$f":"IF(COUNTRY_INFO!B159=0,\" \",COUNTRY_INFO!B159)","v":"UIGE"},{"$f":"IF(COUNTRY_INFO!C159=0,\" \",COUNTRY_INFO!C159)","v":"MUCABA"},{"$f":"IF(COUNTRY_INFO!$U$9:$U$1000=\"MDA3 (IVM)\", COUNTRY_INFO!$U$9:$U$1000, \" \")","v":" "},null,null,null,0,null,null,0,null,null,0,0,0,0," "," "," "]
[{"$f":"IF(COUNTRY_INFO!A160=0,\" \",COUNTRY_INFO!A160)","v":"Angola"},{"$f":"IF(COUNTRY_INFO!B160=0,\" \",COUNTRY_INFO!B160)","v":"UIGE"},{"$f":"IF(COUNTRY_INFO!C160=0,\" \",COUNTRY_INFO!C160)","v":"NEGAGE"},{"$f":"IF(COUNTRY_INFO!$U$9:$U$1000=\"MDA3 (IVM)\", COUNTRY_INFO!$U$9:$U$1000, \" \")","v":" "},null,null,null,0,null,null,0,null,null,0,0,0,0," "," "," "]
[{"$f":"IF(COUNTRY_INFO!A161=0,\" \",COUNTRY_INFO!A161)","v":"Angola"},{"$f":"IF(COUNTRY_INFO!B161=0,\" \",COUNTRY_INFO!B161)","v":"UIGE"},{"$f":"IF(COUNTRY_INFO!C161=0,\" \",COUNTRY_INFO!C161)","v":"PURI"},{"$f":"IF(COUNTRY_INFO!$U$9:$U$1000=\"MDA3 (IVM)\", COUNTRY_INFO!$U$9:$U$1000, \" \")","v":" "},null,null,null,0,null,null,0,null,null,0,0,0,0," "," "," "]
[{"$f":"IF(COUNTRY_INFO!A162=0,\" \",COUNTRY_INFO!A162)","v":"Angola"},{"$f":"IF(COUNTRY_INFO!B162=0,\" \",COUNTRY_INFO!B162)","v":"UIGE"},{"$f":"IF(COUNTRY_INFO!C162=0,\" \",COUNTRY_INFO!C162)","v":"QUIMBELE"},{"$f":"IF(COUNTRY_INFO!$U$9:$U$1000=\"MDA3 (IVM)\", COUNTRY_INFO!$U$9:$U$1000, \" \")","v":" "},null,null,null,0,null,null,0,null,null,0,0,0,0," "," "," "]
[{"$f":"IF(COUNTRY_INFO!A163=0,\" \",COUNTRY_INFO!A163)","v":"Angola"},{"$f":"IF(COUNTRY_INFO!B163=0,\" \",COUNTRY_INFO!B163)","v":"UIGE"},{"$f":"IF(COUNTRY_INFO!C163=0,\" \",COUNTRY_INFO!C163)","v":"QUITEXE"},{"$f":"IF(COUNTRY_INFO!$U$9:$U$1000=\"MDA3 (IVM)\", COUNTRY_INFO!$U$9:$U$1000, \" \")","v":" "},null,null,null,0,null,null,0,null,null,0,0,0,0," "," "," "]
[{"$f":"IF(COUNTRY_INFO!A164=0,\" \",COUNTRY_INFO!A164)","v":"Angola"},{"$f":"IF(COUNTRY_INFO!B164=0,\" \",COUNTRY_INFO!B164)","v":"UIGE"},{"$f":"IF(COUNTRY_INFO!C164=0,\" \",COUNTRY_INFO!C164)","v":"SANZA POMBO"},{"$f":"IF(COUNTRY_INFO!$U$9:$U$1000=\"MDA3 (IVM)\", COUNTRY_INFO!$U$9:$U$1000, \" \")","v":" "},null,null,null,0,null,null,0,null,null,0,0,0,0," "," "," "]
[{"$f":"IF(COUNTRY_INFO!A165=0,\" \",COUNTRY_INFO!A165)","v":"Angola"},{"$f":"IF(COUNTRY_INFO!B165=0,\" \",COUNTRY_INFO!B165)","v":"UIGE"},{"$f":"IF(COUNTRY_INFO!C165=0,\" \",COUNTRY_INFO!C165)","v":"SONGO"},{"$f":"IF(COUNTRY_INFO!$U$9:$U$1000=\"MDA3 (IVM)\", COUNTRY_INFO!$U$9:$U$1000, \" \")","v":" "},null,null,null,0,null,null,0,null,null,0,0,0,0," "," "," "]
[{"$f":"IF(COUNTRY_INFO!A166=0,\" \",COUNTRY_INFO!A166)","v":"Angola"},{"$f":"IF(COUNTRY_INFO!B166=0,\" \",COUNTRY_INFO!B166)","v":"UIGE"},{"$f":"IF(COUNTRY_INFO!C166=0,\" \",COUNTRY_INFO!C166)","v":"UIGE"},{"$f":"IF(COUNTRY_INFO!$U$9:$U$1000=\"MDA3 (IVM)\", COUNTRY_INFO!$U$9:$U$1000, \" \")","v":" "},null,null,null,0,null,null,0,null,null,0,0,0,0," "," "," "]
[{"$f":"IF(COUNTRY_INFO!A167=0,\" \",COUNTRY_INFO!A167)","v":"Angola"},{"$f":"IF(COUNTRY_INFO!B167=0,\" \",COUNTRY_INFO!B167)","v":"ZAIRE"},{"$f":"IF(COUNTRY_INFO!C167=0,\" \",COUNTRY_INFO!C167)","v":"CUIMBA"},{"$f":"IF(COUNTRY_INFO!$U$9:$U$1000=\"MDA3 (IVM)\", COUNTRY_INFO!$U$9:$U$1000, \" \")","v":" "},null,null,null,0,null,null,0,null,null,0,0,0,0," "," "," "]
[{"$f":"IF(COUNTRY_INFO!A168=0,\" \",COUNTRY_INFO!A168)","v":"Angola"},{"$f":"IF(COUNTRY_INFO!B168=0,\" \",COUNTRY_INFO!B168)","v":"ZAIRE"},{"$f":"IF(COUNTRY_INFO!C168=0,\" \",COUNTRY_INFO!C168)","v":"MBANZA KONGO"},{"$f":"IF(COUNTRY_INFO!$U$9:$U$1000=\"MDA3 (IVM)\", COUNTRY_INFO!$U$9:$U$1000, \" \")","v":" "},null,null,null,0,null,null,0,null,null,0,0,0,0," "," "," "]
[{"$f":"IF(COUNTRY_INFO!A169=0,\" \",COUNTRY_INFO!A169)","v":"Angola"},{"$f":"IF(COUNTRY_INFO!B169=0,\" \",COUNTRY_INFO!B169)","v":"ZAIRE"},{"$f":"IF(COUNTRY_INFO!C169=0,\" \",COUNTRY_INFO!C169)","v":"NOQUI"},{"$f":"IF(COUNTRY_INFO!$U$9:$U$1000=\"MDA3 (IVM)\", COUNTRY_INFO!$U$9:$U$1000, \" \")","v":" "},null,null,null,0,null,null,0,null,null,0,0,0,0," "," "," "]
[{"$f":"IF(COUNTRY_INFO!A170=0,\" \",COUNTRY_INFO!A170)","v":"Angola"},{"$f":"IF(COUNTRY_INFO!B170=0,\" \",COUNTRY_INFO!B170)","v":"ZAIRE"},{"$f":"IF(COUNTRY_INFO!C170=0,\" \",COUNTRY_INFO!C170)","v":"NZETO"},{"$f":"IF(COUNTRY_INFO!$U$9:$U$1000=\"MDA3 (IVM)\", COUNTRY_INFO!$U$9:$U$1000, \" \")","v":" "},null,null,null,0,null,null,0,null,null,0,0,0,0," "," "," "]
[{"$f":"IF(COUNTRY_INFO!A171=0,\" \",COUNTRY_INFO!A171)","v":"Angola"},{"$f":"IF(COUNTRY_INFO!B171=0,\" \",COUNTRY_INFO!B171)","v":"ZAIRE"},{"$f":"IF(COUNTRY_INFO!C171=0,\" \",COUNTRY_INFO!C171)","v":"SOYO"},{"$f":"IF(COUNTRY_INFO!$U$9:$U$1000=\"MDA3 (IVM)\", COUNTRY_INFO!$U$9:$U$1000, \" \")","v":" "},null,null,null,0,null,null,0,null,null,0,0,0,0," "," "," "]
[{"$f":"IF(COUNTRY_INFO!A172=0,\" \",COUNTRY_INFO!A172)","v":"Angola"},{"$f":"IF(COUNTRY_INFO!B172=0,\" \",COUNTRY_INFO!B172)","v":"ZAIRE"},{"$f":"IF(COUNTRY_INFO!C172=0,\" \",COUNTRY_INFO!C172)","v":"TOMBOCO"},{"$f":"IF(COUNTRY_INFO!$U$9:$U$1000=\"MDA3 (IVM)\", COUNTRY_INFO!$U$9:$U$1000, \" \")","v":" "},null,null,null,0,null,null,0,null,null,0,0,0,0," "," "," "]

{"sheet":"T1","index":5,"n_rows":190,"n_cols":19,"rows_kept":190,"cut":false,"hidden":false,"merged":[[5,6,5,10],[5,11,5,14],[5,15,5,18],[3,0,3,2],[5,0,5,2],[5,3,6,3],[5,5,6,5],[5,4,6,4]]}
["T 1 - Praziquantel (PZQ) and Albendazole (ALB) or Mebendazole (MBD)"]
["Administrative structure, population requiring PC by age group, population treated by age group and coverage"]
[]
["TOTAL",null,null,null,null,null,{"$f":"SUM(G$9:G$1000)","v":0},1571270,1571270,0,{"$f":"SUM(K$9:K$1000)","v":1571270},0,1208223,0,1208223,{"$f":"IF(G4<>0, IF(L4/G4*100=0, \"-\", L4/G4*100), \" \")","v":" "},{"$f":"IF(OR(I4<>0,H4<>0), IF(M4/MAX(H4,I4)*100=0, \"-\", M4/MAX(H4,I4)*100), \" \")","v":76.894677553825886},{"$f":"IF(J4<>0, IF(N4/J4*100=0, \"-\", N4/J4*100), \" \")","v":" "},{"$f":"IF(K4<>0, IF(O4/K4*100=0, \"-\", O4/K4*100), \" \")","v":76.894677553825886}]
[]
[null,null,null,"PC implemented","Medicine","Date","Population targeted for T1",null,null,null,null,"Population treated",null,null,null,"Programme coverage (%)"]
["Country","Province/State","District",null,null,null,"PreSAC (ALB)","SAC (ALB)","SAC (PZQ)","Adults (PZQ)","Total","PreSAC","SAC","Adults","Total","PreSAC","SAC","Adults","Total"]
[]
[{"$f":"IF(COUNTRY_INFO!A9=0,\" \",COUNTRY_INFO!A9)","v":"Angola"},{"$f":"IF(COUNTRY_INFO!B9=0,\" \",COUNTRY_INFO!B9)","v":"BENGO"},{"$f":"IF(COUNTRY_INFO!C9=0,\" \",COUNTRY_INFO!C9)","v":"AMBRIZ"},{"$f":"IF(OR(COUNTRY_INFO!$U$9:$U$1000=\"T1 (PZQ+ALB/MBD)\",COUNTRY_INFO!$V$9:$V$1000=\"T1 (PZQ+ALB/MBD)\"), \"T1 (PZQ+ALB/MBD)\", \" \")","v":" "},null,null,null,null,null,null,{"$f":"MAX(H9:I9)+G9+J9","v":0},null,null,null,{"$f":"SUM(L9:N9)","v":0},{"$f":"IF(G9<>0, IF(L9/G9*100=0, \"-\", L9/G9*100), \" \")","v":" "},{"$f":"IF(OR(I9<>0,H9<>0), IF(M9/MAX(H9,I9)*100=0, \"-\", M9/MAX(H9,I9)*100), \" \")","v":" "},{"$f":"IF(J9<>0, IF(N9/J9*100=0, \"-\", N9/J9*100), \" \")","v":" "},{"$f":"IF(K9<>0, IF(O9/K9*100=0, \"-\", O9/K9*100), \" \")","v":" "}]
[{"$f":"IF(COUNTRY_INFO!A10=0,\" \",COUNTRY_INFO!A10)","v":"Angola"},{"$f":"IF(COUNTRY_INFO!B10=0,\" \",COUNTRY_INFO!B10)","v":"BENGO"},{"$f":"IF(COUNTRY_INFO!C10=0,\" \",COUNTRY_INFO!C10)","v":"BULA ATUMBA"},{"$f":"IF(OR(COUNTRY_INFO!$U$9:$U$1000=\"T1 (PZQ+ALB/MBD)\",COUNTRY_INFO!$V$9:$V$1000=\"T1 (PZQ+ALB/MBD)\"), \"T1 (PZQ+ALB/MBD)\", \" \")","v":" "},null,null,null,null,null,null,{"$f":"MAX(H10:I10)+G10+J10","v":0},null,null,null,{"$f":"SUM(L10:N10)","v":0},{"$f":"IF(G10<>0, IF(L10/G10*100=0, \"-\", L10/G10*100), \" \")","v":" "},{"$f":"IF(OR(I10<>0,H10<>0), IF(M10/MAX(H10,I10)*100=0, \"-\", M10/MAX(H10,I10)*100), \" \")","v":" "},{"$f":"IF(J10<>0, IF(N10/J10*100=0, \"-\", N10/J10*100), \" \")","v":" "},{"$f":"IF(K10<>0, IF(O10/K10*100=0, \"-\", O10/K10*100), \" \")","v":" "}]
[{"$f":"IF(COUNTRY_INFO!A11=0,\" \",COUNTRY_INFO!A11)","v":"Angola"},{"$f":"IF(COUNTRY_INFO!B11=0,\" \",COUNTRY_INFO!B11)","v":"BENGO"},{"$f":"IF(COUNTRY_INFO!C11=0,\" \",COUNTRY_INFO!C11)","v":"DANDE"},{"$f":"IF(OR(COUNTRY_INFO!$U$9:$U$1000=\"T1 (PZQ+ALB/MBD)\",COUNTRY_INFO!$V$9:$V$1000=\"T1 (PZQ+ALB/MBD)\"), \"T1 (PZQ+ALB/MBD)\", \" \")","v":" "},null,null,null,null,null,null,0,null,null,null,0," "," "," "," "]
[{"$f":"IF(COUNTRY_INFO!A12=0,\" \",COUNTRY_INFO!A12)","v":"Angola"},{"$f":"IF(COUNTRY_INFO!B12=0,\" \",COUNTRY_INFO!B12)","v":"BENGO"},{"$f":"IF(COUNTRY_INFO!C12=0,\" \",COUNTRY_INFO!C12)","v":"DEMBOS"},{"$f":"IF(OR(COUNTRY_INFO!$U$9:$U$1000=\"T1 (PZQ+ALB/MBD)\",COUNTRY_INFO!$V$9:$V$1000=\"T1 (PZQ+ALB/MBD)\"), \"T1 (PZQ+ALB/MBD)\", \" \")","v":" "},null,null,null,null,null,null,0,null,null,null,0," "," "," "," "]
[{"$f":"IF(COUNTRY_INFO!A13=0,\" \",COUNTRY_INFO!A13)","v":"Angola"},{"$f":"IF(COUNTRY_INFO!B13=0,\" \",COUNTRY_INFO!B13)","v":"BENGO"},{"$f":"IF(COUNTRY_INFO!C13=0,\" \",COUNTRY_INFO!C13)","v":"NAMBUANGONGO"},{"$f":"IF(OR(COUNTRY_INFO!$U$9:$U$1000=\"T1 (PZQ+ALB/MBD)\",COUNTRY_INFO!$V$9:$V$1000=\"T1 (PZQ+ALB/MBD)\"), \"T1 (PZQ+ALB/MBD)\", \" \")","v":" "},null,null,null,null,null,null,0,null,null,null,0," "," "," "," "]
[{"$f":"IF(COUNTRY_INFO!A14=0,\" \",COUNTRY_INFO!A14)","v":"Angola"},{"$f":"IF(COUNTRY_INFO!B14=0,\" \",COUNTRY_INFO!B14)","v":"BENGO"},{"$f":"IF(COUNTRY_INFO!C14=0,\" \",COUNTRY_INFO!C14)","v":"PANGO ALUQUEM"},{"$f":"IF(OR(COUNTRY_INFO!$U$9:$U$1000=\"T1 (PZQ+ALB/MBD)\",COUNTRY_INFO!$V$9:$V$1000=\"T1 (PZQ+ALB/MBD)\"), \"T1 (PZQ+ALB/MBD)\", \" \")","v":" "},null,null,null,null,null,null,0,null,null,null,0," "," "," "," "]
[{"$f":"IF(COUNTRY_INFO!A15=0,\" \",COUNTRY_INFO!A15)","v":"Angola"},{"$f":"IF(COUNTRY_INFO!B15=0,\" \",COUNTRY_INFO!B15)","v":"BENGUELA"},{"$f":"IF(COUNTRY_INFO!C15=0,\" \",COUNTRY_INFO!C15)","v":"BAIA FARTA"},{"$f":"IF(OR(COUNTRY_INFO!$U$9:$U$1000=\"T1 (PZQ+ALB/MBD)\",COUNTRY_INFO!$V$9:$V$1000=\"T1 (PZQ+ALB/MBD)\"), \"T1 (PZQ+ALB/MBD)\", \" \")","v":" "},null,null,null,null,null,null,0,null,null,null,0," "," "," "," "]
[{"$f":"IF(COUNTRY_INFO!A16=0,\" \",COUNTRY_INFO!A16)","v":"Angola"},{"$f":"IF(COUNTRY_INFO!B16=0,\" \",COUNTRY_INFO!B16)","v":"BENGUELA"},{"$f":"IF(COUNTRY_INFO!C16=0,\" \",COUNTRY_INFO!C16)","v":"BALOMBO"},{"$f":"IF(OR(COUNTRY_INFO!$U$9:$U$1000=\"T1 (PZQ+ALB/MBD)\",COUNTRY_INFO!$V$9:$V$1000=\"T1 (PZQ+ALB/MBD)\"), \"T1 (PZQ+ALB/MBD)\", \" \")","v":" "},null,null,null,null,null,null,0,null,null,null,0," "," "," "," "]
[{"$f":"IF(COUNTRY_INFO!A17=0,\" \",COUNTRY_INFO!A17)","v":"Angola"},{"$f":"IF(COUNTRY_INFO!B17=0,\" \",COUNTRY_INFO!B17)","v":"BENGUELA"},{"$f":"IF(COUNTRY_INFO!C17=0,\" \",COUNTRY_INFO!C17)","v":"BENGUELA"},{"$f":"IF(OR(COUNTRY_INFO!$U$9:$U$1000=\"T1 (PZQ+ALB/MBD)\",COUNTRY_INFO!$V$9:$V$1000=\"T1 (PZQ+ALB/MBD)\"), \"T1 (PZQ+ALB/MBD)\", \" \")","v":" "},null,null,null,null,null,null,0,null,null,null,0," "," "," "," "]
[{"$f":"IF(COUNTRY_INFO!A18=0,\" \",COUNTRY_INFO!A18)","v":"Angola"},{"$f":"IF(COUNTRY_INFO!B18=0,\" \",COUNTRY_INFO!B18)","v":"BENGUELA"},{"$f":"IF(COUNTRY_INFO!C18=0,\" \",COUNTRY_INFO!C18)","v":"BOCOIO"},{"$f":"IF(OR(COUNTRY_INFO!$U$9:$U$1000=\"T1 (PZQ+ALB/MBD)\",COUNTRY_INFO!$V$9:$V$1000=\"T1 (PZQ+ALB/MBD)\"), \"T1 (PZQ+ALB/MBD)\", \" \")","v":" "},null,null,null,null,null,null,0,null,null,null,0," "," "," "," "]
[{"$f":"IF(COUNTRY_INFO!A19=0,\" \",COUNTRY_INFO!A19)","v":"Angola"},{"$f":"IF(COUNTRY_INFO!B19=0,\" \",COUNTRY_INFO!B19)","v":"BENGUELA"},{"$f":"IF(COUNTRY_INFO!C19=0,\" \",COUNTRY_INFO!C19)","v":"CAIMBAMBO"},{"$f":"IF(OR(COUNTRY_INFO!$U$9:$U$1000=\"T1 (PZQ+ALB/MBD)\",COUNTRY_INFO!$V$9:$V$1000=\"T1 (PZQ+ALB/MBD)\"), \"T1 (PZQ+ALB/MBD)\", \" \")","v":" "},null,null,null,null,null,null,0,null,null,null,0," "," "," "," "]
[{"$f":"IF(COUNTRY_INFO!A20=0,\" \",COUNTRY_INFO!A20)","v":"Angola"},{"$f":"IF(COUNTRY_INFO!B20=0,\" \",COUNTRY_INFO!B20)","v":"BENGUELA"},{"$f":"IF(COUNTRY_INFO!C20=0,\" \",COUNTRY_INFO!C20)","v":"CATUMBELA"},{"$f":"IF(OR(COUNTRY_INFO!$U$9:$U$1000=\"T1 (PZQ+ALB/MBD)\",COUNTRY_INFO!$V$9:$V$1000=\"T1 (PZQ+ALB/MBD)\"), \"T1 (PZQ+ALB/MBD)\", \" \")","v":" "},null,null,null,null,null,null,0,null,null,null,0," "," "," "," "]
[{"$f":"IF(COUNTRY_INFO!A21=0,\" \",COUNTRY_INFO!A21)","v":"Angola"},{"$f":"IF(COUNTRY_INFO!B21=0,\" \",COUNTRY_INFO!B21)","v":"BENGUELA"},{"$f":"IF(COUNTRY_INFO!C21=0,\" \",COUNTRY_INFO!C21)","v":"CHONGOROI"},{"$f":"IF(OR(COUNTRY_INFO!$U$9:$U$1000=\"T1 (PZQ+ALB/MBD)\",COUNTRY_INFO!$V$9:$V$1000=\"T1 (PZQ+ALB/MBD)\"), \"T1 (PZQ+ALB/MBD)\", \" \")","v":" "},null,null,null,null,null,null,0,null,null,null,0," "," "," "," "]
[{"$f":"IF(COUNTRY_INFO!A22=0,\" \",COUNTRY_INFO!A22)","v":"Angola"},{"$f":"IF(COUNTRY_INFO!B22=0,\" \",COUNTRY_INFO!B22)","v":"BENGUELA"},{"$f":"IF(COUNTRY_INFO!C22=0,\" \",COUNTRY_INFO!C22)","v":"CUBAL"},{"$f":"IF(OR(COUNTRY_INFO!$U$9:$U$1000=\"T1 (PZQ+ALB/MBD)\",COUNTRY_INFO!$V$9:$V$1000=\"T1 (PZQ+ALB/MBD)\"), \"T1 (PZQ+ALB/MBD)\", \" \")","v":" "},null,null,null,null,null,null,0,null,null,null,0," "," "," "," "]
[{"$f":"IF(COUNTRY_INFO!A23=0,\" \",COUNTRY_INFO!A23)","v":"Angola"},{"$f":"IF(COUNTRY_INFO!B23=0,\" \",COUNTRY_INFO!B23)","v":"BENGUELA"},{"$f":"IF(COUNTRY_INFO!C23=0,\" \",COUNTRY_INFO!C23)","v":"GANDA"},{"$f":"IF(OR(COUNTRY_INFO!$U$9:$U$1000=\"T1 (PZQ+ALB/MBD)\",COUNTRY_INFO!$V$9:$V$1000=\"T1 (PZQ+ALB/MBD)\"), \"T1 (PZQ+ALB/MBD)\", \" \")","v":" "},null,null,null,null,null,null,0,null,null,null,0," "," "," "," "]
[{"$f":"IF(COUNTRY_INFO!A24=0,\" \",COUNTRY_INFO!A24)","v":"Angola"},{"$f":"IF(COUNTRY_INFO!B24=0,\" \",COUNTRY_INFO!B24)","v":"BENGUELA"},{"$f":"IF(COUNTRY_INFO!C24=0,\" \",COUNTRY_INFO!C24)","v":"LOBITO"},{"$f":"IF(OR(COUNTRY_INFO!$U$9:$U$1000=\"T1 (PZQ+ALB/MBD)\",COUNTRY_INFO!$V$9:$V$1000=\"T1 (PZQ+ALB/MBD)\"), \"T1 (PZQ+ALB/MBD)\", \" \")","v":" "},null,null,null,null,null,null,0,null,null,null,0," "," "," "," "]
[{"$f":"IF(COUNTRY_INFO!A25=0,\" \",COUNTRY_INFO!A25)","v":"Angola"},{"$f":"IF(COUNTRY_INFO!B25=0,\" \",COUNTRY_INFO!B25)","v":"BIE"},{"$f":"IF(COUNTRY_INFO!C25=0,\" \",COUNTRY_INFO!C25)","v":"ANDULO"},{"$f":"IF(OR(COUNTRY_INFO!$U$9:$U$1000=\"T1 (PZQ+ALB/MBD)\",COUNTRY_INFO!$V$9:$V$1000=\"T1 (PZQ+ALB/MBD)\"), \"T1 (PZQ+ALB/MBD)\", \" \")","v":"T1 (PZQ+ALB/MBD)"},"PZQ+ALB","Out2018",null,84512,84512,null,84512,null,51331,null,51331," ",60.738120030291554," ",60.738120030291554]
[{"$f":"IF(COUNTRY_INFO!A26=0,\" \",COUNTRY_INFO!A26)","v":"Angola"},{"$f":"IF(COUNTRY_INFO!B26=0,\" \",COUNTRY_INFO!B26)","v":"BIE"},{"$f":"IF(COUNTRY_INFO!C26=0,\" \",COUNTRY_INFO!C26)","v":"CAMACUPA"},{"$f":"IF(OR(COUNTRY_INFO!$U$9:$U$1000=\"T1 (PZQ+ALB/MBD)\",COUNTRY_INFO!$V$9:$V$1000=\"T1 (PZQ+ALB/MBD)\"), \"T1 (PZQ+ALB/MBD)\", \" \")","v":"T1 (PZQ+ALB/MBD)"},"PZQ+ALB","Out2018",null,50717,50717,null,50717,null,52167,null,52167," ",102.85900191257369," ",102.85900191257369]
[{"$f":"IF(COUNTRY_INFO!A27=0,\" \",COUNTRY_INFO!A27)","v":"Angola"},{"$f":"IF(COUNTRY_INFO!B27=0,\" \",COUNTRY_INFO!B27)","v":"BIE"},{"$f":"IF(COUNTRY_INFO!C27=0,\" \",COUNTRY_INFO!C27)","v":"CATABOLA"},{"$f":"IF(OR(COUNTRY_INFO!$U$9:$U$1000=\"T1 (PZQ+ALB/MBD)\",COUNTRY_INFO!$V$9:$V$1000=\"T1 (PZQ+ALB/MBD)\"), \"T1 (PZQ+ALB/MBD)\", \" \")","v":"T1 (PZQ+ALB/MBD)"},"PZQ+ALB","Out2018",null,41454,41454,null,41454,null,50394,null,50394," ",121.56607323780575," ",121.56607323780575]
[{"$f":"IF(COUNTRY_INFO!A28=0,\" \",COUNTRY_INFO!A28)","v":"Angola"},{"$f":"IF(COUNTRY_INFO!B28=0,\" \",COUNTRY_INFO!B28)","v":"BIE"},{"$f":"IF(COUNTRY_INFO!C28=0,\" \",COUNTRY_INFO!C28)","v":"CHINGUAR"},{"$f":"IF(OR(COUNTRY_INFO!$U$9:$U$1000=\"T1 (PZQ+ALB/MBD)\",COUNTRY_INFO!$V$9:$V$1000=\"T1 (PZQ+ALB/MBD)\"), \"T1 (PZQ+ALB/MBD)\", \" \")","v":"T1 (PZQ+ALB/MBD)"},"PZQ+ALB","Out2018",null,42351,42351,null,42351,null,44876,null,44876," ",105.96207881750135," ",105.96207881750135]
[{"$f":"IF(COUNTRY_INFO!A29=0,\" \",COUNTRY_INFO!A29)","v":"Angola"},{"$f":"IF(COUNTRY_INFO!B29=0,\" \",COUNTRY_INFO!B29)","v":"BIE"},{"$f":"IF(COUNTRY_INFO!C29=0,\" \",COUNTRY_INFO!C29)","v":"CHITEMBO"},{"$f":"IF(OR(COUNTRY_INFO!$U$9:$U$1000=\"T1 (PZQ+ALB/MBD)\",COUNTRY_INFO!$V$9:$V$1000=\"T1 (PZQ+ALB/MBD)\"), \"T1 (PZQ+ALB/MBD)\", \" \")","v":"T1 (PZQ+ALB/MBD)"},"PZQ+ALB","Out2018",null,25585,25585,null,25585,null,28673,null,28673," ",112.06957201485245," ",112.06957201485245]
[{"$f":"IF(COUNTRY_INFO!A30=0,\" \",COUNTRY_INFO!A30)","v":"Angola"},{"$f":"IF(COUNTRY_INFO!B30=0,\" \",COUNTRY_INFO!B30)","v":"BIE"},{"$f":"IF(COUNTRY_INFO!C30=0,\" \",COUNTRY_INFO!C30)","v":"CUEMBA"},{"$f":"IF(OR(COUNTRY_INFO!$U$9:$U$1000=\"T1 (PZQ+ALB/MBD)\",COUNTRY_INFO!$V$9:$V$1000=\"T1 (PZQ+ALB/MBD)\"), \"T1 (PZQ+ALB/MBD)\", \" \")","v":"T1 (PZQ+ALB/MBD)"},"PZQ+ALB","Out2018",null,18647,18647,null,18647,null,12208,null,12208," ",65.468976242827253," ",65.468976242827253]
[{"$f":"IF(COUNTRY_INFO!A31=0,\" \",COUNTRY_INFO!A31)","v":"Angola"},{"$f":"IF(COUNTRY_INFO!B31=0,\" \",COUNTRY_INFO!B31)","v":"BIE"},{"$f":"IF(COUNTRY_INFO!C31=0,\" \",COUNTRY_INFO!C31)","v":"CUITO"},{"$f":"IF(OR(COUNTRY_INFO!$U$9:$U$1000=\"T1 (PZQ+ALB/MBD)\",COUNTRY_INFO!$V$9:$V$1000=\"T1 (PZQ+ALB/MBD)\"), \"T1 (PZQ+ALB/MBD)\", \" \")","v":"T1 (PZQ+ALB/MBD)"},"PZQ+ALB","Out2018",null,147601,147601,null,147601,null,122485,null,122485," ",82.983855122932766," ",82.983855122932766]
[{"$f":"IF(COUNTRY_INFO!A32=0,\" \",COUNTRY_INFO!A32)","v":"Angola"},{"$f":"IF(COUNTRY_INFO!B32=0,\" \",COUNTRY_INFO!B32)","v":"BIE"},{"$f":"IF(COUNTRY_INFO!C32=0,\" \",COUNTRY_INFO!C32)","v":"CUNHINGA"},{"$f":"IF(OR(COUNTRY_INFO!$U$9:$U$1000=\"T1 (PZQ+ALB/MBD)\",COUNTRY_INFO!$V$9:$V$1000=\"T1 (PZQ+ALB/MBD)\"), \"T1 (PZQ+ALB/MBD)\", \" \")","v":"T1 (PZQ+ALB/MBD)"},"PZQ+ALB","Out2018",null,24168,24168,null,24168,null,29844,null,29844," ",123.48560079443894," ",123.48560079443894]
[{"$f":"IF(COUNTRY_INFO!A33=0,\" \",COUNTRY_INFO!A33)","v":"Angola"},{"$f":"IF(COUNTRY_INFO!B33=0,\" \",COUNTRY_INFO!B33)","v":"BIE"},{"$f":"IF(COUNTRY_INFO!C33=0,\" \",COUNTRY_INFO!C33)","v":"NHAREA"},{"$f":"IF(OR(COUNTRY_INFO!$U$9:$U$1000=\"T1 (PZQ+ALB/MBD)\",COUNTRY_INFO!$V$9:$V$1000=\"T1 (PZQ+ALB/MBD)\"), \"T1 (PZQ+ALB/MBD)\", \" \")","v":"T1 (PZQ+ALB/MBD)"},"PZQ+ALB","Out2018",null,41358,41358,null,41358,null,25964,null,25964," ",62.778664345471249," ",62.778664345471249]
[{"$f":"IF(COUNTRY_INFO!A34=0,\" \",COUNTRY_INFO!A34)","v":"Angola"},{"$f":"IF(COUNTRY_INFO!B34=0,\" \",COUNTRY_INFO!B34)","v":"CABINDA"},{"$f":"IF(COUNTRY_INFO!C34=0,\" \",COUNTRY_INFO!C34)","v":"BELIZE"},{"$f":"IF(OR(COUNTRY_INFO!$U$9:$U$1000=\"T1 (PZQ+ALB/MBD)\",COUNTRY_INFO!$V$9:$V$1000=\"T1 (PZQ+ALB/MBD)\"), \"T1 (PZQ+ALB/MBD)\", \" \")","v":" "},null,null,null,null,null,null,0,null,null,null,0," "," "," "," "]
[{"$f":"IF(COUNTRY_INFO!A35=0,\" \",COUNTRY_INFO!A35)","v":"Angola"},{"$f":"IF(COUNTRY_INFO!B35=0,\" \",COUNTRY_INFO!B35)","v":"CABINDA"},{"$f":"IF(COUNTRY_INFO!C35=0,\" \",COUNTRY_INFO!C35)","v":"BUCO ZAU"},{"$f":"IF(OR(COUNTRY_INFO!$U$9:$U$1000=\"T1 (PZQ+ALB/MBD)\",COUNTRY_INFO!$V$9:$V$1000=\"T1 (PZQ+ALB/MBD)\"), \"T1 (PZQ+ALB/MBD)\", \" \")","v":" "},null,null,null,null,null,null,0,null,null,null,0," "," "," "," "]
[{"$f":"IF(COUNTRY_INFO!A36=0,\" \",COUNTRY_INFO!A36)","v":"Angola"},{"$f":"IF(COUNTRY_INFO!B36=0,\" \",COUNTRY_INFO!B36)","v":"CABINDA"},{"$f":"IF(COUNTRY_INFO!C36=0,\" \",COUNTRY_INFO!C36)","v":"CABINDA"},{"$f":"IF(OR(COUNTRY_INFO!$U$9:$U$1000=\"T1 (PZQ+ALB/MBD)\",COUNTRY_INFO!$V$9:$V$1000=\"T1 (PZQ+ALB/MBD)\"), \"T1 (PZQ+ALB/MBD)\", \" \")","v":" "},null,null,null,null,null,null,0,null,null,null,0," "," "," "," "]
[{"$f":"IF(COUNTRY_INFO!A37=0,\" \",COUNTRY_INFO!A37)","v":"Angola"},{"$f":"IF(COUNTRY_INFO!B37=0,\" \",COUNTRY_INFO!B37)","v":"CABINDA"},{"$f":"IF(COUNTRY_INFO!C37=0,\" \",COUNTRY_INFO!C37)","v":"CACONGO"},{"$f":"IF(OR(COUNTRY_INFO!$U$9:$U$1000=\"T1 (PZQ+ALB/MBD)\",COUNTRY_INFO!$V$9:$V$1000=\"T1 (PZQ+ALB/MBD)\"), \"T1 (PZQ+ALB/MBD)\", \" \")","v":" "},null,null,null,null,null,null,0,null,null,null,0," "," "," "," "]
[{"$f":"IF(COUNTRY_INFO!A38=0,\" \",COUNTRY_INFO!A38)","v":"Angola"},{"$f":"IF(COUNTRY_INFO!B38=0,\" \",COUNTRY_INFO!B38)","v":"CUANDO CUBANGO"},{"$f":"IF(COUNTRY_INFO!C38=0,\" \",COUNTRY_INFO!C38)","v":"CALAI"},{"$f":"IF(OR(COUNTRY_INFO!$U$9:$U$1000=\"T1 (PZQ+ALB/MBD)\",COUNTRY_INFO!$V$9:$V$1000=\"T1 (PZQ+ALB/MBD)\"), \"T1 (PZQ+ALB/MBD)\", \" \")","v":" "},null,null,null,null,null,null,0,null,null,null,0," "," "," "," "]
[{"$f":"IF(COUNTRY_INFO!A39=0,\" \",COUNTRY_INFO!A39)","v":"Angola"},{"$f":"IF(COUNTRY_INFO!B39=0,\" \",COUNTRY_INFO!B39)","v":"CUANDO CUBANGO"},{"$f":"IF(COUNTRY_INFO!C39=0,\" \",COUNTRY_INFO!C39)","v":"CUANGAR"},{"$f":"IF(OR(COUNTRY_INFO!$U$9:$U$1000=\"T1 (PZQ+ALB/MBD)\",COUNTRY_INFO!$V$9:$V$1000=\"T1 (PZQ+ALB/MBD)\"), \"T1 (PZQ+ALB/MBD)\", \" \")","v":" "},null,null,null,null,null,null,0,null,null,null,0," "," "," "," "]
[{"$f":"IF(COUNTRY_INFO!A40=0,\" \",COUNTRY_INFO!A40)","v":"Angola"},{"$f":"IF(COUNTRY_INFO!B40=0,\" \",COUNTRY_INFO!B40)","v":"CUANDO CUBANGO"},{"$f":"IF(COUNTRY_INFO!C40=0,\" \",COUNTRY_INFO!C40)","v":"CUCHI"},{"$f":"IF(OR(COUNTRY_INFO!$U$9:$U$1000=\"T1 (PZQ+ALB/MBD)\",COUNTRY_INFO!$V$9:$V$1000=\"T1 (PZQ+ALB/MBD)\"), \"T1 (PZQ+ALB/MBD)\", \" \")","v":" "},null,null,null,null,null,null,0,null,null,null,0," "," "," "," "]
[{"$f":"IF(COUNTRY_INFO!A41=0,\" \",COUNTRY_INFO!A41)","v":"Angola"},{"$f":"IF(COUNTRY_INFO!B41=0,\" \",COUNTRY_INFO!B41)","v":"CUANDO CUBANGO"},{"$f":"IF(COUNTRY_INFO!C41=0,\" \",COUNTRY_INFO!C41)","v":"CUITO CUANAVALE"},{"$f":"IF(OR(COUNTRY_INFO!$U$9:$U$1000=\"T1 (PZQ+ALB/MBD)\",COUNTRY_INFO!$V$9:$V$1000=\"T1 (PZQ+ALB/MBD)\"), \"T1 (PZQ+ALB/MBD)\", \" \")","v":" "},null,null,null,null,null,null,0,null,null,null,0," "," "," "," "]
[{"$f":"IF(COUNTRY_INFO!A42=0,\" \",COUNTRY_INFO!A42)","v":"Angola"},{"$f":"IF(COUNTRY_INFO!B42=0,\" \",COUNTRY_INFO!B42)","v":"CUANDO CUBANGO"},{"$f":"IF(COUNTRY_INFO!C42=0,\" \",COUNTRY_INFO!C42)","v":"DIRICO"},{"$f":"IF(OR(COUNTRY_INFO!$U$9:$U$1000=\"T1 (PZQ+ALB/MBD)\",COUNTRY_INFO!$V$9:$V$1000=\"T1 (PZQ+ALB/MBD)\"), \"T1 (PZQ+ALB/MBD)\", \" \")","v":" "},null,null,null,null,null,null,0,null,null,null,0," "," "," "," "]
[{"$f":"IF(COUNTRY_INFO!A43=0,\" \",COUNTRY_INFO!A43)","v":"Angola"},{"$f":"IF(COUNTRY_INFO!B43=0,\" \",COUNTRY_INFO!B43)","v":"CUANDO CUBANGO"},{"$f":"IF(COUNTRY_INFO!C43=0,\" \",COUNTRY_INFO!C43)","v":"MAVINGA"},{"$f":"IF(OR(COUNTRY_INFO!$U$9:$U$1000=\"T1 (PZQ+ALB/MBD)\",COUNTRY_INFO!$V$9:$V$1000=\"T1 (PZQ+ALB/MBD)\"), \"T1 (PZQ+ALB/MBD)\", \" \")","v":" "},null,null,null,null,null,null,0,null,null,null,0," "," "," "," "]
[{"$f":"IF(COUNTRY_INFO!A44=0,\" \",COUNTRY_INFO!A44)","v":"Angola"},{"$f":"IF(COUNTRY_INFO!B44=0,\" \",COUNTRY_INFO!B44)","v":"CUANDO CUBANGO"},{"$f":"IF(COUNTRY_INFO!C44=0,\" \",COUNTRY_INFO!C44)","v":"MENONGUE"},{"$f":"IF(OR(COUNTRY_INFO!$U$9:$U$1000=\"T1 (PZQ+ALB/MBD)\",COUNTRY_INFO!$V$9:$V$1000=\"T1 (PZQ+ALB/MBD)\"), \"T1 (PZQ+ALB/MBD)\", \" \")","v":" "},null,null,null,null,null,null,0,null,null,null,0," "," "," "," "]
[{"$f":"IF(COUNTRY_INFO!A45=0,\" \",COUNTRY_INFO!A45)","v":"Angola"},{"$f":"IF(COUNTRY_INFO!B45=0,\" \",COUNTRY_INFO!B45)","v":"CUANDO CUBANGO"},{"$f":"IF(COUNTRY_INFO!C45=0,\" \",COUNTRY_INFO!C45)","v":"NANKOVA"},{"$f":"IF(OR(COUNTRY_INFO!$U$9:$U$1000=\"T1 (PZQ+ALB/MBD)\",COUNTRY_INFO!$V$9:$V$1000=\"T1 (PZQ+ALB/MBD)\"), \"T1 (PZQ+ALB/MBD)\", \" \")","v":" "},null,null,null,null,null,null,0,null,null,null,0," "," "," "," "]
[{"$f":"IF(COUNTRY_INFO!A46=0,\" \",COUNTRY_INFO!A46)","v":"Angola"},{"$f":"IF(COUNTRY_INFO!B46=0,\" \",COUNTRY_INFO!B46)","v":"CUANDO CUBANGO"},{"$f":"IF(COUNTRY_INFO!C46=0,\" \",COUNTRY_INFO!C46)","v":"RIVUNGO"},{"$f":"IF(OR(COUNTRY_INFO!$U$9:$U$1000=\"T1 (PZQ+ALB/MBD)\",COUNTRY_INFO!$V$9:$V$1000=\"T1 (PZQ+ALB/MBD)\"), \"T1 (PZQ+ALB/MBD)\", \" \")","v":" "},null,null,null,null,null,null,0,null,null,null,0," "," "," "," "]
[{"$f":"IF(COUNTRY_INFO!A47=0,\" \",COUNTRY_INFO!A47)","v":"Angola"},{"$f":"IF(COUNTRY_INFO!B47=0,\" \",COUNTRY_INFO!B47)","v":"CUANZA NORTE"},{"$f":"IF(COUNTRY_INFO!C47=0,\" \",COUNTRY_INFO!C47)","v":"AMBACA"},{"$f":"IF(OR(COUNTRY_INFO!$U$9:$U$1000=\"T1 (PZQ+ALB/MBD)\",COUNTRY_INFO!$V$9:$V$1000=\"T1 (PZQ+ALB/MBD)\"), \"T1 (PZQ+ALB/MBD)\", \" \")","v":" "},null,null,null,null,null,null,0,null,null,null,0," "," "," "," "]
[{"$f":"IF(COUNTRY_INFO!A48=0,\" \",COUNTRY_INFO!A48)","v":"Angola"},{"$f":"IF(COUNTRY_INFO!B48=0,\" \",COUNTRY_INFO!B48)","v":"CUANZA NORTE"},{"$f":"IF(COUNTRY_INFO!C48=0,\" \",COUNTRY_INFO!C48)","v":"BANGA"},{"$f":"IF(OR(COUNTRY_INFO!$U$9:$U$1000=\"T1 (PZQ+ALB/MBD)\",COUNTRY_INFO!$V$9:$V$1000=\"T1 (PZQ+ALB/MBD)\"), \"T1 (PZQ+ALB/MBD)\", \" \")","v":" "},null,null,null,null,null,null,0,null,null,null,0," "," "," "," "]
[{"$f":"IF(COUNTRY_INFO!A49=0,\" \",COUNTRY_INFO!A49)","v":"Angola"},{"$f":"IF(COUNTRY_INFO!B49=0,\" \",COUNTRY_INFO!B49)","v":"CUANZA NORTE"},{"$f":"IF(COUNTRY_INFO!C49=0,\" \",COUNTRY_INFO!C49)","v":"BOLONGONGO"},{"$f":"IF(OR(COUNTRY_INFO!$U$9:$U$1000=\"T1 (PZQ+ALB/MBD)\",COUNTRY_INFO!$V$9:$V$1000=\"T1 (PZQ+ALB/MBD)\"), \"T1 (PZQ+ALB/MBD)\", \" \")","v":" "},null,null,null,null,null,null,0,null,null,null,0," "," "," "," "]
[{"$f":"IF(COUNTRY_INFO!A50=0,\" \",COUNTRY_INFO!A50)","v":"Angola"},{"$f":"IF(COUNTRY_INFO!B50=0,\" \",COUNTRY_INFO!B50)","v":"CUANZA NORTE"},{"$f":"IF(COUNTRY_INFO!C50=0,\" \",COUNTRY_INFO!C50)","v":"CAMBAMBE"},{"$f":"IF(OR(COUNTRY_INFO!$U$9:$U$1000=\"T1 (PZQ+ALB/MBD)\",COUNTRY_INFO!$V$9:$V$1000=\"T1 (PZQ+ALB/MBD)\"), \"T1 (PZQ+ALB/MBD)\", \" \")","v":" "},null,null,null,null,null,null,0,null,null,null,0," "," "," "," "]
[{"$f":"IF(COUNTRY_INFO!A51=0,\" \",COUNTRY_INFO!A51)","v":"Angola"},{"$f":"IF(COUNTRY_INFO!B51=0,\" \",COUNTRY_INFO!B51)","v":"CUANZA NORTE"},{"$f":"IF(COUNTRY_INFO!C51=0,\" \",COUNTRY_INFO!C51)","v":"CAZENGO"},{"$f":"IF(OR(COUNTRY_INFO!$U$9:$U$1000=\"T1 (PZQ+ALB/MBD)\",COUNTRY_INFO!$V$9:$V$1000=\"T1 (PZQ+ALB/MBD)\"), \"T1 (PZQ+ALB/MBD)\", \" \")","v":" "},null,null,null,null,null,null,0,null,null,null,0," "," "," "," "]
[{"$f":"IF(COUNTRY_INFO!A52=0,\" \",COUNTRY_INFO!A52)","v":"Angola"},{"$f":"IF(COUNTRY_INFO!B52=0,\" \",COUNTRY_INFO!B52)","v":"CUANZA NORTE"},{"$f":"IF(COUNTRY_INFO!C52=0,\" \",COUNTRY_INFO!C52)","v":"GOLUNGO ALTO"},{"$f":"IF(OR(COUNTRY_INFO!$U$9:$U$1000=\"T1 (PZQ+ALB/MBD)\",COUNTRY_INFO!$V$9:$V$1000=\"T1 (PZQ+ALB/MBD)\"), \"T1 (PZQ+ALB/MBD)\", \" \")","v":" "},null,null,null,null,null,null,0,null,null,null,0," "," "," "," "]
[{"$f":"IF(COUNTRY_INFO!A53=0,\" \",COUNTRY_INFO!A53)","v":"Angola"},{"$f":"IF(COUNTRY_INFO!B53=0,\" \",COUNTRY_INFO!B53)","v":"CUANZA NORTE"},{"$f":"IF(COUNTRY_INFO!C53=0,\" \",COUNTRY_INFO!C53)","v":"GONGUEMBO"},{"$f":"IF(OR(COUNTRY_INFO!$U$9:$U$1000=\"T1 (PZQ+ALB/MBD)\",COUNTRY_INFO!$V$9:$V$1000=\"T1 (PZQ+ALB/MBD)\"), \"T1 (PZQ+ALB/MBD)\", \" \")","v":" "},null,null,null,null,null,null,0,null,null,null,0," "," "," "," "]
[{"$f":"IF(COUNTRY_INFO!A54=0,\" \",COUNTRY_INFO!A54)","v":"Angola"},{"$f":"IF(COUNTRY_INFO!B54=0,\" \",COUNTRY_INFO!B54)","v":"CUANZA NORTE"},{"$f":"IF(COUNTRY_INFO!C54=0,\" \",COUNTRY_INFO!C54)","v":"LUCALA"},{"$f":"IF(OR(COUNTRY_INFO!$U$9:$U$1000=\"T1 (PZQ+ALB/MBD)\",COUNTRY_INFO!$V$9:$V$1000=\"T1 (PZQ+ALB/MBD)\"), \"T1 (PZQ+ALB/MBD)\", \" \")","v":" "},null,null,null,null,null,null,0,null,null,null,0," "," "," "," "]
[{"$f":"IF(COUNTRY_INFO!A55=0,\" \",COUNTRY_INFO!A55)","v":"Angola"},{"$f":"IF(COUNTRY_INFO!B55=0,\" \",COUNTRY_INFO!B55)","v":"CUANZA NORTE"},{"$f":"IF(COUNTRY_INFO!C55=0,\" \",COUNTRY_INFO!C55)","v":"QUICULUNGO"},{"$f":"IF(OR(COUNTRY_INFO!$U$9:$U$1000=\"T1 (PZQ+ALB/MBD)\",COUNTRY_INFO!$V$9:$V$1000=\"T1 (PZQ+ALB/MBD)\"), \"T1 (PZQ+ALB/MBD)\", \" \")","v":" "},null,null,null,null,null,null,0,null,null,null,0," "," "," "," "]
[{"$f":"IF(COUNTRY_INFO!A56=0,\" \",COUNTRY_INFO!A56)","v":"Angola"},{"$f":"IF(COUNTRY_INFO!B56=0,\" \",COUNTRY_INFO!B56)","v":"CUANZA NORTE"},{"$f":"IF(COUNTRY_INFO!C56=0,\" \",COUNTRY_INFO!C56)","v":"SAMBA CAJU"},{"$f":"IF(OR(COUNTRY_INFO!$U$9:$U$1000=\"T1 (PZQ+ALB/MBD)\",COUNTRY_INFO!$V$9:$V$1000=\"T1 (PZQ+ALB/MBD)\"), \"T1 (PZQ+ALB/MBD)\", \" \")","v":" "},null,null,null,null,null,null,0,null,null,null,0," "," "," "," "]
[{"$f":"IF(COUNTRY_INFO!A57=0,\" \",COUNTRY_INFO!A57)","v":"Angola"},{"$f":"IF(COUNTRY_INFO!B57=0,\" \",COUNTRY_INFO!B57)","v":"CUANZA SUL"},{"$f":"IF(COUNTRY_INFO!C57=0,\" \",COUNTRY_INFO!C57)","v":"AMBOIM"},{"$f":"IF(OR(COUNTRY_INFO!$U$9:$U$1000=\"T1 (PZQ+ALB/MBD)\",COUNTRY_INFO!$V$9:$V$1000=\"T1 (PZQ+ALB/MBD)\"), \"T1 (PZQ+ALB/MBD)\", \" \")","v":" "},null,null,null,null,null,null,0,null,null,null,0," "," "," "," "]
[{"$f":"IF(COUNTRY_INFO!A58=0,\" \",COUNTRY_INFO!A58)","v":"Angola"},{"$f":"IF(COUNTRY_INFO!B58=0,\" \",COUNTRY_INFO!B58)","v":"CUANZA SUL"},{"$f":"IF(COUNTRY_INFO!C58=0,\" \",COUNTRY_INFO!C58)","v":"CASSONGUE"},{"$f":"IF(OR(COUNTRY_INFO!$U$9:$U$1000=\"T1 (PZQ+ALB/MBD)\",COUNTRY_INFO!$V$9:$V$1000=\"T1 (PZQ+ALB/MBD)\"), \"T1 (PZQ+ALB/MBD)\", \" \")","v":" "},null,null,null,null,null,null,0,null,null,null,0," "," "," "," "]
[{"$f":"IF(COUNTRY_INFO!A59=0,\" \",COUNTRY_INFO!A59)","v":"Angola"},{"$f":"IF(COUNTRY_INFO!B59=0,\" \",COUNTRY_INFO!B59)","v":"CUANZA SUL"},{"$f":"IF(COUNTRY_INFO!C59=0,\" \",COUNTRY_INFO!C59)","v":"CELA (Waku Kungo)"},{"$f":"IF(OR(COUNTRY_INFO!$U$9:$U$1000=\"T1 (PZQ+ALB/MBD)\",COUNTRY_INFO!$V$9:$V$1000=\"T1 (PZQ+ALB/MBD)\"), \"T1 (PZQ+ALB/MBD)\", \" \")","v":" "},null,null,null,null,null,null,0,null,null,null,0," "," "," "," "]
[{"$f":"IF(COUNTRY_INFO!A60=0,\" \",COUNTRY_INFO!A60)","v":"Angola"},{"$f":"IF(COUNTRY_INFO!B60=0,\" \",COUNTRY_INFO!B60)","v":"CUANZA SUL"},{"$f":"IF(COUNTRY_INFO!C60=0,\" \",COUNTRY_INFO!C60)","v":"CONDA"},{"$f":"IF(OR(COUNTRY_INFO!$U$9:$U$1000=\"T1 (PZQ+ALB/MBD)\",COUNTRY_INFO!$V$9:$V$1000=\"T1 (PZQ+ALB/MBD)\"), \"T1 (PZQ+ALB/MBD)\", \" \")","v":" "},null,null,null,null,null,null,0,null,null,null,0," "," "," "," "]
[{"$f":"IF(COUNTRY_INFO!A61=0,\" \",COUNTRY_INFO!A61)","v":"Angola"},{"$f":"IF(COUNTRY_INFO!B61=0,\" \",COUNTRY_INFO!B61)","v":"CUANZA SUL"},{"$f":"IF(COUNTRY_INFO!C61=0,\" \",COUNTRY_INFO!C61)","v":"EBO"},{"$f":"IF(OR(COUNTRY_INFO!$U$9:$U$1000=\"T1 (PZQ+ALB/MBD)\",COUNTRY_INFO!$V$9:$V$1000=\"T1 (PZQ+ALB/MBD)\"), \"T1 (PZQ+ALB/MBD)\", \" \")","v":" "},null,null,null,null,null,null,0,null,null,null,0," "," "," "," "]
[{"$f":"IF(COUNTRY_INFO!A62=0,\" \",COUNTRY_INFO!A62)","v":"Angola"},{"$f":"IF(COUNTRY_INFO!B62=0,\" \",COUNTRY_INFO!B62)","v":"CUANZA SUL"},{"$f":"IF(COUNTRY_INFO!C62=0,\" \",COUNTRY_INFO!C62)","v":"LIBOLO"},{"$f":"IF(OR(COUNTRY_INFO!$U$9:$U$1000=\"T1 (PZQ+ALB/MBD)\",COUNTRY_INFO!$V$9:$V$1000=\"T1 (PZQ+ALB/MBD)\"), \"T1 (PZQ+ALB/MBD)\", \" \")","v":" "},null,null,null,null,null,null,0,null,null,null,0," "," "," "," "]
[{"$f":"IF(COUNTRY_INFO!A63=0,\" \",COUNTRY_INFO!A63)","v":"Angola"},{"$f":"IF(COUNTRY_INFO!B63=0,\" \",COUNTRY_INFO!B63)","v":"CUANZA SUL"},{"$f":"IF(COUNTRY_INFO!C63=0,\" \",COUNTRY_INFO!C63)","v":"MUSSENDE"},{"$f":"IF(OR(COUNTRY_INFO!$U$9:$U$1000=\"T1 (PZQ+ALB/MBD)\",COUNTRY_INFO!$V$9:$V$1000=\"T1 (PZQ+ALB/MBD)\"), \"T1 (PZQ+ALB/MBD)\", \" \")","v":" "},null,null,null,null,null,null,0,null,null,null,0," "," "," "," "]
[{"$f":"IF(COUNTRY_INFO!A64=0,\" \",COUNTRY_INFO!A64)","v":"Angola"},{"$f":"IF(COUNTRY_INFO!B64=0,\" \",COUNTRY_INFO!B64)","v":"CUANZA SUL"},{"$f":"IF(COUNTRY_INFO!C64=0,\" \",COUNTRY_INFO!C64)","v":"PORTO AMBOIM"},{"$f":"IF(OR(COUNTRY_INFO!$U$9:$U$1000=\"T1 (PZQ+ALB/MBD)\",COUNTRY_INFO!$V$9:$V$1000=\"T1 (PZQ+ALB/MBD)\"), \"T1 (PZQ+ALB/MBD)\", \" \")","v":" "},null,null,null,null,null,null,0,null,null,null,0," "," "," "," "]
[{"$f":"IF(COUNTRY_INFO!A65=0,\" \",COUNTRY_INFO!A65)","v":"Angola"},{"$f":"IF(COUNTRY_INFO!B65=0,\" \",COUNTRY_INFO!B65)","v":"CUANZA SUL"},{"$f":"IF(COUNTRY_INFO!C65=0,\" \",COUNTRY_INFO!C65)","v":"QUIBALA"},{"$f":"IF(OR(COUNTRY_INFO!$U$9:$U$1000=\"T1 (PZQ+ALB/MBD)\",COUNTRY_INFO!$V$9:$V$1000=\"T1 (PZQ+ALB/MBD)\"), \"T1 (PZQ+ALB/MBD)\", \" \")","v":" "},null,null,null,null,null,null,0,null,null,null,0," "," "," "," "]
[{"$f":"IF(COUNTRY_INFO!A66=0,\" \",COUNTRY_INFO!A66)","v":"Angola"},{"$f":"IF(COUNTRY_INFO!B66=0,\" \",COUNTRY_INFO!B66)","v":"CUANZA SUL"},{"$f":"IF(COUNTRY_INFO!C66=0,\" \",COUNTRY_INFO!C66)","v":"QUILENDA"},{"$f":"IF(OR(COUNTRY_INFO!$U$9:$U$1000=\"T1 (PZQ+ALB/MBD)\",COUNTRY_INFO!$V$9:$V$1000=\"T1 (PZQ+ALB/MBD)\"), \"T1 (PZQ+ALB/MBD)\", \" \")","v":" "},null,null,null,null,null,null,0,null,null,null,0," "," "," "," "]
[{"$f":"IF(COUNTRY_INFO!A67=0,\" \",COUNTRY_INFO!A67)","v":"Angola"},{"$f":"IF(COUNTRY_INFO!B67=0,\" \",COUNTRY_INFO!B67)","v":"CUANZA SUL"},{"$f":"IF(COUNTRY_INFO!C67=0,\" \",COUNTRY_INFO!C67)","v":"SELES"},{"$f":"IF(OR(COUNTRY_INFO!$U$9:$U$1000=\"T1 (PZQ+ALB/MBD)\",COUNTRY_INFO!$V$9:$V$1000=\"T1 (PZQ+ALB/MBD)\"), \"T1 (PZQ+ALB/MBD)\", \" \")","v":" "},null,null,null,null,null,null,0,null,null,null,0," "," "," "," "]
[{"$f":"IF(COUNTRY_INFO!A68=0,\" \",COUNTRY_INFO!A68)","v":"Angola"},{"$f":"IF(COUNTRY_INFO!B68=0,\" \",COUNTRY_INFO!B68)","v":"CUANZA SUL"},{"$f":"IF(COUNTRY_INFO!C68=0,\" \",COUNTRY_INFO!C68)","v":"SUMBE"},{"$f":"IF(OR(COUNTRY_INFO!$U$9:$U$1000=\"T1 (PZQ+ALB/MBD)\",COUNTRY_INFO!$V$9:$V$1000=\"T1 (PZQ+ALB/MBD)\"), \"T1 (PZQ+ALB/MBD)\", \" \")","v":" "},null,null,null,null,null,null,0,null,null,null,0," "," "," "," "]
[{"$f":"IF(COUNTRY_INFO!A69=0,\" \",COUNTRY_INFO!A69)","v":"Angola"},{"$f":"IF(COUNTRY_INFO!B69=0,\" \",COUNTRY_INFO!B69)","v":"CUNENE"},{"$f":"IF(COUNTRY_INFO!C69=0,\" \",COUNTRY_INFO!C69)","v":"CAHAMA"},{"$f":"IF(OR(COUNTRY_INFO!$U$9:$U$1000=\"T1 (PZQ+ALB/MBD)\",COUNTRY_INFO!$V$9:$V$1000=\"T1 (PZQ+ALB/MBD)\"), \"T1 (PZQ+ALB/MBD)\", \" \")","v":" "},null,null,null,null,null,null,0,null,null,null,0," "," "," "," "]
[{"$f":"IF(COUNTRY_INFO!A70=0,\" \",COUNTRY_INFO!A70)","v":"Angola"},{"$f":"IF(COUNTRY_INFO!B70=0,\" \",COUNTRY_INFO!B70)","v":"CUNENE"},{"$f":"IF(COUNTRY_INFO!C70=0,\" \",COUNTRY_INFO!C70)","v":"CUANHAMA"},{"$f":"IF(OR(COUNTRY_INFO!$U$9:$U$1000=\"T1 (PZQ+ALB/MBD)\",COUNTRY_INFO!$V$9:$V$1000=\"T1 (PZQ+ALB/MBD)\"), \"T1 (PZQ+ALB/MBD)\", \" \")","v":" "},null,null,null,null,null,null,0,null,null,null,0," "," "," "," "]
[{"$f":"IF(COUNTRY_INFO!A71=0,\" \",COUNTRY_INFO!A71)","v":"Angola"},{"$f":"IF(COUNTRY_INFO!B71=0,\" \",COUNTRY_INFO!B71)","v":"CUNENE"},{"$f":"IF(COUNTRY_INFO!C71=0,\" \",COUNTRY_INFO!C71)","v":"CUROCA"},{"$f":"IF(OR(COUNTRY_INFO!$U$9:$U$1000=\"T1 (PZQ+ALB/MBD)\",COUNTRY_INFO!$V$9:$V$1000=\"T1 (PZQ+ALB/MBD)\"), \"T1 (PZQ+ALB/MBD)\", \" \")","v":" "},null,null,null,null,null,null,0,null,null,null,0," "," "," "," "]
[{"$f":"IF(COUNTRY_INFO!A72=0,\" \",COUNTRY_INFO!A72)","v":"Angola"},{"$f":"IF(COUNTRY_INFO!B72=0,\" \",COUNTRY_INFO!B72)","v":"CUNENE"},{"$f":"IF(COUNTRY_INFO!C72=0,\" \",COUNTRY_INFO!C72)","v":"CUVELAI"},{"$f":"IF(OR(COUNTRY_INFO!$U$9:$U$1000=\"T1 (PZQ+ALB/MBD)\",COUNTRY_INFO!$V$9:$V$1000=\"T1 (PZQ+ALB/MBD)\"), \"T1 (PZQ+ALB/MBD)\", \" \")","v":" "},null,null,null,null,null,null,0,null,null,null,0," "," "," "," "]
[{"$f":"IF(COUNTRY_INFO!A73=0,\" \",COUNTRY_INFO!A73)","v":"Angola"},{"$f":"IF(COUNTRY_INFO!B73=0,\" \",COUNTRY_INFO!B73)","v":"CUNENE"},{"$f":"IF(COUNTRY_INFO!C73=0,\" \",COUNTRY_INFO!C73)","v":"NAMACUNDE"},{"$f":"IF(OR(COUNTRY_INFO!$U$9:$U$1000=\"T1 (PZQ+ALB/MBD)\",COUNTRY_INFO!$V$9:$V$1000=\"T1 (PZQ+ALB/MBD)\"), \"T1 (PZQ+ALB/MBD)\", \" \")","v":" "},null,null,null,null,null,null,0,null,null,null,0," "," "," "," "]
[{"$f":"IF(COUNTRY_INFO!A74=0,\" \",COUNTRY_INFO!A74)","v":"Angola"},{"$f":"IF(COUNTRY_INFO!B74=0,\" \",COUNTRY_INFO!B74)","v":"CUNENE"},{"$f":"IF(COUNTRY_INFO!C74=0,\" \",COUNTRY_INFO!C74)","v":"OMBADJA"},{"$f":"IF(OR(COUNTRY_INFO!$U$9:$U$1000=\"T1 (PZQ+ALB/MBD)\",COUNTRY_INFO!$V$9:$V$1000=\"T1 (PZQ+ALB/MBD)\"), \"T1 (PZQ+ALB/MBD)\", \" \")","v":" "},null,null,null,null,null,null,{"$f":"MAX(H74:I74)+G74+J74","v":0},null,null,null,{"$f":"SUM(L74:N74)","v":0},{"$f":"IF(G74<>0, IF(L74/G74*100=0, \"-\", L74/G74*100), \" \")","v":" "},{"$f":"IF(OR(I74<>0,H74<>0), IF(M74/MAX(H74,I74)*100=0, \"-\", M74/MAX(H74,I74)*100), \" \")","v":" "},{"$f":"IF(J74<>0, IF(N74/J74*100=0, \"-\", N74/J74*100), \" \")","v":" "},{"$f":"IF(K74<>0, IF(O74/K74*100=0, \"-\", O74/K74*100), \" \")","v":" "}]
[{"$f":"IF(COUNTRY_INFO!A75=0,\" \",COUNTRY_INFO!A75)","v":"Angola"},{"$f":"IF(COUNTRY_INFO!B75=0,\" \",COUNTRY_INFO!B75)","v":"HUAMBO"},{"$f":"IF(COUNTRY_INFO!C75=0,\" \",COUNTRY_INFO!C75)","v":"BAILUNDO"},{"$f":"IF(OR(COUNTRY_INFO!$U$9:$U$1000=\"T1 (PZQ+ALB/MBD)\",COUNTRY_INFO!$V$9:$V$1000=\"T1 (PZQ+ALB/MBD)\"), \"T1 (PZQ+ALB/MBD)\", \" \")","v":" "},null,null,null,null,null,null,0,null,null,null,0," "," "," "," "]
[{"$f":"IF(COUNTRY_INFO!A76=0,\" \",COUNTRY_INFO!A76)","v":"Angola"},{"$f":"IF(COUNTRY_INFO!B76=0,\" \",COUNTRY_INFO!B76)","v":"HUAMBO"},{"$f":"IF(COUNTRY_INFO!C76=0,\" \",COUNTRY_INFO!C76)","v":"CAALA"},{"$f":"IF(OR(COUNTRY_INFO!$U$9:$U$1000=\"T1 (PZQ+ALB/MBD)\",COUNTRY_INFO!$V$9:$V$1000=\"T1 (PZQ+ALB/MBD)\"), \"T1 (PZQ+ALB/MBD)\", \" \")","v":" "},null,null,null,null,null,null,0,null,null,null,0," "," "," "," "]
[{"$f":"IF(COUNTRY_INFO!A77=0,\" \",COUNTRY_INFO!A77)","v":"Angola"},{"$f":"IF(COUNTRY_INFO!B77=0,\" \",COUNTRY_INFO!B77)","v":"HUAMBO"},{"$f":"IF(COUNTRY_INFO!C77=0,\" \",COUNTRY_INFO!C77)","v":"CACHIUNGO"},{"$f":"IF(OR(COUNTRY_INFO!$U$9:$U$1000=\"T1 (PZQ+ALB/MBD)\",COUNTRY_INFO!$V$9:$V$1000=\"T1 (PZQ+ALB/MBD)\"), \"T1 (PZQ+ALB/MBD)\", \" \")","v":" "},null,null,null,null,null,null,0,null,null,null,0," "," "," "," "]
[{"$f":"IF(COUNTRY_INFO!A78=0,\" \",COUNTRY_INFO!A78)","v":"Angola"},{"$f":"IF(COUNTRY_INFO!B78=0,\" \",COUNTRY_INFO!B78)","v":"HUAMBO"},{"$f":"IF(COUNTRY_INFO!C78=0,\" \",COUNTRY_INFO!C78)","v":"CHICALA CHOLOHANGA"},{"$f":"IF(OR(COUNTRY_INFO!$U$9:$U$1000=\"T1 (PZQ+ALB/MBD)\",COUNTRY_INFO!$V$9:$V$1000=\"T1 (PZQ+ALB/MBD)\"), \"T1 (PZQ+ALB/MBD)\", \" \")","v":" "},null,null,null,null,null,null,0,null,null,null,0," "," "," "," "]
[{"$f":"IF(COUNTRY_INFO!A79=0,\" \",COUNTRY_INFO!A79)","v":"Angola"},{"$f":"IF(COUNTRY_INFO!B79=0,\" \",COUNTRY_INFO!B79)","v":"HUAMBO"},{"$f":"IF(COUNTRY_INFO!C79=0,\" \",COUNTRY_INFO!C79)","v":"CHINDJENJE"},{"$f":"IF(OR(COUNTRY_INFO!$U$9:$U$1000=\"T1 (PZQ+ALB/MBD)\",COUNTRY_INFO!$V$9:$V$1000=\"T1 (PZQ+ALB/MBD)\"), \"T1 (PZQ+ALB/MBD)\", \" \")","v":" "},null,null,null,null,null,null,0,null,null,null,0," "," "," "," "]
[{"$f":"IF(COUNTRY_INFO!A80=0,\" \",COUNTRY_INFO!A80)","v":"Angola"},{"$f":"IF(COUNTRY_INFO!B80=0,\" \",COUNTRY_INFO!B80)","v":"HUAMBO"},{"$f":"IF(COUNTRY_INFO!C80=0,\" \",COUNTRY_INFO!C80)","v":"ECUNHA"},{"$f":"IF(OR(COUNTRY_INFO!$U$9:$U$1000=\"T1 (PZQ+ALB/MBD)\",COUNTRY_INFO!$V$9:$V$1000=\"T1 (PZQ+ALB/MBD)\"), \"T1 (PZQ+ALB/MBD)\", \" \")","v":" "},null,null,null,null,null,null,0,null,null,null,0," "," "," "," "]
[{"$f":"IF(COUNTRY_INFO!A81=0,\" \",COUNTRY_INFO!A81)","v":"Angola"},{"$f":"IF(COUNTRY_INFO!B81=0,\" \",COUNTRY_INFO!B81)","v":"HUAMBO"},{"$f":"IF(COUNTRY_INFO!C81=0,\" \",COUNTRY_INFO!C81)","v":"HUAMBO"},{"$f":"IF(OR(COUNTRY_INFO!$U$9:$U$1000=\"T1 (PZQ+ALB/MBD)\",COUNTRY_INFO!$V$9:$V$1000=\"T1 (PZQ+ALB/MBD)\"), \"T1 (PZQ+ALB/MBD)\", \" \")","v":"T1 (PZQ+ALB/MBD)"},"PZQ+ALB","Junho 2018",null,367331,367331,null,367331,null,229747,null,229747," ",62.544952644889761," ",62.544952644889761]
[{"$f":"IF(COUNTRY_INFO!A82=0,\" \",COUNTRY_INFO!A82)","v":"Angola"},{"$f":"IF(COUNTRY_INFO!B82=0,\" \",COUNTRY_INFO!B82)","v":"HUAMBO"},{"$f":"IF(COUNTRY_INFO!C82=0,\" \",COUNTRY_INFO!C82)","v":"LONDUIMBALI"},{"$f":"IF(OR(COUNTRY_INFO!$U$9:$U$1000=\"T1 (PZQ+ALB/MBD)\",COUNTRY_INFO!$V$9:$V$1000=\"T1 (PZQ+ALB/MBD)\"), \"T1 (PZQ+ALB/MBD)\", \" \")","v":" "},null,null,null,0,0,null,0,null,0,null,0," "," "," "," "]
[{"$f":"IF(COUNTRY_INFO!A83=0,\" \",COUNTRY_INFO!A83)","v":"Angola"},{"$f":"IF(COUNTRY_INFO!B83=0,\" \",COUNTRY_INFO!B83)","v":"HUAMBO"},{"$f":"IF(COUNTRY_INFO!C83=0,\" \",COUNTRY_INFO!C83)","v":"LONGONJO"},{"$f":"IF(OR(COUNTRY_INFO!$U$9:$U$1000=\"T1 (PZQ+ALB/MBD)\",COUNTRY_INFO!$V$9:$V$1000=\"T1 (PZQ+ALB/MBD)\"), \"T1 (PZQ+ALB/MBD)\", \" \")","v":"T1 (PZQ+ALB/MBD)"},"PZQ+ALB","Junho 2018",null,47442,47442,null,47442,null,34008,null,34008," ",71.683318578474768," ",71.683318578474768]
[{"$f":"IF(COUNTRY_INFO!A84=0,\" \",COUNTRY_INFO!A84)","v":"Angola"},{"$f":"IF(COUNTRY_INFO!B84=0,\" \",COUNTRY_INFO!B84)","v":"HUAMBO"},{"$f":"IF(COUNTRY_INFO!C84=0,\" \",COUNTRY_INFO!C84)","v":"MUNGO"},{"$f":"IF(OR(COUNTRY_INFO!$U$9:$U$1000=\"T1 (PZQ+ALB/MBD)\",COUNTRY_INFO!$V$9:$V$1000=\"T1 (PZQ+ALB/MBD)\"), \"T1 (PZQ+ALB/MBD)\", \" \")","v":" "},null,null,null,null,null,null,0,null,null,null,0," "," "," "," "]
[{"$f":"IF(COUNTRY_INFO!A85=0,\" \",COUNTRY_INFO!A85)","v":"Angola"},{"$f":"IF(COUNTRY_INFO!B85=0,\" \",COUNTRY_INFO!B85)","v":"HUAMBO"},{"$f":"IF(COUNTRY_INFO!C85=0,\" \",COUNTRY_INFO!C85)","v":"UCUMA"},{"$f":"IF(OR(COUNTRY_INFO!$U$9:$U$1000=\"T1 (PZQ+ALB/MBD)\",COUNTRY_INFO!$V$9:$V$1000=\"T1 (PZQ+ALB/MBD)\"), \"T1 (PZQ+ALB/MBD)\", \" \")","v":" "},null,null,null,null,null,null,0,null,null,null,0," "," "," "," "]
[{"$f":"IF(COUNTRY_INFO!A86=0,\" \",COUNTRY_INFO!A86)","v":"Angola"},{"$f":"IF(COUNTRY_INFO!B86=0,\" \",COUNTRY_INFO!B86)","v":"HUILA"},{"$f":"IF(COUNTRY_INFO!C86=0,\" \",COUNTRY_INFO!C86)","v":"CACONDA"},{"$f":"IF(OR(COUNTRY_INFO!$U$9:$U$1000=\"T1 (PZQ+ALB/MBD)\",COUNTRY_INFO!$V$9:$V$1000=\"T1 (PZQ+ALB/MBD)\"), \"T1 (PZQ+ALB/MBD)\", \" \")","v":" "},null,null,null,null,null,null,0,null,null,null,0," "," "," "," "]
[{"$f":"IF(COUNTRY_INFO!A87=0,\" \",COUNTRY_INFO!A87)","v":"Angola"},{"$f":"IF(COUNTRY_INFO!B87=0,\" \",COUNTRY_INFO!B87)","v":"HUILA"},{"$f":"IF(COUNTRY_INFO!C87=0,\" \",COUNTRY_INFO!C87)","v":"CACULA"},{"$f":"IF(OR(COUNTRY_INFO!$U$9:$U$1000=\"T1 (PZQ+ALB/MBD)\",COUNTRY_INFO!$V$9:$V$1000=\"T1 (PZQ+ALB/MBD)\"), \"T1 (PZQ+ALB/MBD)\", \" \")","v":" "},null,null,null,null,null,null,0,null,null,null,0," "," "," "," "]
[{"$f":"IF(COUNTRY_INFO!A88=0,\" \",COUNTRY_INFO!A88)","v":"Angola"},{"$f":"IF(COUNTRY_INFO!B88=0,\" \",COUNTRY_INFO!B88)","v":"HUILA"},{"$f":"IF(COUNTRY_INFO!C88=0,\" \",COUNTRY_INFO!C88)","v":"CALUQUEMBE"},{"$f":"IF(OR(COUNTRY_INFO!$U$9:$U$1000=\"T1 (PZQ+ALB/MBD)\",COUNTRY_INFO!$V$9:$V$1000=\"T1 (PZQ+ALB/MBD)\"), \"T1 (PZQ+ALB/MBD)\", \" \")","v":" "},null,null,null,null,null,null,0,null,null,null,0," "," "," "," "]
[{"$f":"IF(COUNTRY_INFO!A89=0,\" \",COUNTRY_INFO!A89)","v":"Angola"},{"$f":"IF(COUNTRY_INFO!B89=0,\" \",COUNTRY_INFO!B89)","v":"HUILA"},{"$f":"IF(COUNTRY_INFO!C89=0,\" \",COUNTRY_INFO!C89)","v":"CHIBIA"},{"$f":"IF(OR(COUNTRY_INFO!$U$9:$U$1000=\"T1 (PZQ+ALB/MBD)\",COUNTRY_INFO!$V$9:$V$1000=\"T1 (PZQ+ALB/MBD)\"), \"T1 (PZQ+ALB/MBD)\", \" \")","v":" "},null,null,null,null,null,null,0,null,null,null,0," "," "," "," "]
[{"$f":"IF(COUNTRY_INFO!A90=0,\" \",COUNTRY_INFO!A90)","v":"Angola"},{"$f":"IF(COUNTRY_INFO!B90=0,\" \",COUNTRY_INFO!B90)","v":"HUILA"},{"$f":"IF(COUNTRY_INFO!C90=0,\" \",COUNTRY_INFO!C90)","v":"CHICOMBA"},{"$f":"IF(OR(COUNTRY_INFO!$U$9:$U$1000=\"T1 (PZQ+ALB/MBD)\",COUNTRY_INFO!$V$9:$V$1000=\"T1 (PZQ+ALB/MBD)\"), \"T1 (PZQ+ALB/MBD)\", \" \")","v":" "},null,null,null,null,null,null,0,null,null,null,0," "," "," "," "]
[{"$f":"IF(COUNTRY_INFO!A91=0,\" \",COUNTRY_INFO!A91)","v":"Angola"},{"$f":"IF(COUNTRY_INFO!B91=0,\" \",COUNTRY_INFO!B91)","v":"HUILA"},{"$f":"IF(COUNTRY_INFO!C91=0,\" \",COUNTRY_INFO!C91)","v":"CHIPINDO"},{"$f":"IF(OR(COUNTRY_INFO!$U$9:$U$1000=\"T1 (PZQ+ALB/MBD)\",COUNTRY_INFO!$V$9:$V$1000=\"T1 (PZQ+ALB/MBD)\"), \"T1 (PZQ+ALB/MBD)\", \" \")","v":" "},null,null,null,null,null,null,0,null,null,null,0," "," "," "," "]
[{"$f":"IF(COUNTRY_INFO!A92=0,\" \",COUNTRY_INFO!A92)","v":"Angola"},{"$f":"IF(COUNTRY_INFO!B92=0,\" \",COUNTRY_INFO!B92)","v":"HUILA"},{"$f":"IF(COUNTRY_INFO!C92=0,\" \",COUNTRY_INFO!C92)","v":"CUVANGO"},{"$f":"IF(OR(COUNTRY_INFO!$U$9:$U$1000=\"T1 (PZQ+ALB/MBD)\",COUNTRY_INFO!$V$9:$V$1000=\"T1 (PZQ+ALB/MBD)\"), \"T1 (PZQ+ALB/MBD)\", \" \")","v":" "},null,null,null,null,null,null,0,null,null,null,0," "," "," "," "]
[{"$f":"IF(COUNTRY_INFO!A93=0,\" \",COUNTRY_INFO!A93)","v":"Angola"},{"$f":"IF(COUNTRY_INFO!B93=0,\" \",COUNTRY_INFO!B93)","v":"HUILA"},{"$f":"IF(COUNTRY_INFO!C93=0,\" \",COUNTRY_INFO!C93)","v":"GAMBOS"},{"$f":"IF(OR(COUNTRY_INFO!$U$9:$U$1000=\"T1 (PZQ+ALB/MBD)\",COUNTRY_INFO!$V$9:$V$1000=\"T1 (PZQ+ALB/MBD)\"), \"T1 (PZQ+ALB/MBD)\", \" \")","v":" "},null,null,null,null,null,null,0,null,null,null,0," "," "," "," "]
[{"$f":"IF(COUNTRY_INFO!A94=0,\" \",COUNTRY_INFO!A94)","v":"Angola"},{"$f":"IF(COUNTRY_INFO!B94=0,\" \",COUNTRY_INFO!B94)","v":"HUILA"},{"$f":"IF(COUNTRY_INFO!C94=0,\" \",COUNTRY_INFO!C94)","v":"HUMPATA"},{"$f":"IF(OR(COUNTRY_INFO!$U$9:$U$1000=\"T1 (PZQ+ALB/MBD)\",COUNTRY_INFO!$V$9:$V$1000=\"T1 (PZQ+ALB/MBD)\"), \"T1 (PZQ+ALB/MBD)\", \" \")","v":" "},null,null,null,null,null,null,0,null,null,null,0," "," "," "," "]
[{"$f":"IF(COUNTRY_INFO!A95=0,\" \",COUNTRY_INFO!A95)","v":"Angola"},{"$f":"IF(COUNTRY_INFO!B95=0,\" \",COUNTRY_INFO!B95)","v":"HUILA"},{"$f":"IF(COUNTRY_INFO!C95=0,\" \",COUNTRY_INFO!C95)","v":"JAMBA"},{"$f":"IF(OR(COUNTRY_INFO!$U$9:$U$1000=\"T1 (PZQ+ALB/MBD)\",COUNTRY_INFO!$V$9:$V$1000=\"T1 (PZQ+ALB/MBD)\"), \"T1 (PZQ+ALB/MBD)\", \" \")","v":" "},null,null,null,null,null,null,0,null,null,null,0," "," "," "," "]
[{"$f":"IF(COUNTRY_INFO!A96=0,\" \",COUNTRY_INFO!A96)","v":"Angola"},{"$f":"IF(COUNTRY_INFO!B96=0,\" \",COUNTRY_INFO!B96)","v":"HUILA"},{"$f":"IF(COUNTRY_INFO!C96=0,\" \",COUNTRY_INFO!C96)","v":"LUBANGO"},{"$f":"IF(OR(COUNTRY_INFO!$U$9:$U$1000=\"T1 (PZQ+ALB/MBD)\",COUNTRY_INFO!$V$9:$V$1000=\"T1 (PZQ+ALB/MBD)\"), \"T1 (PZQ+ALB/MBD)\", \" \")","v":" "},null,null,null,null,null,null,0,null,null,null,0," "," "," "," "]
[{"$f":"IF(COUNTRY_INFO!A97=0,\" \",COUNTRY_INFO!A97)","v":"Angola"},{"$f":"IF(COUNTRY_INFO!B97=0,\" \",COUNTRY_INFO!B97)","v":"HUILA"},{"$f":"IF(COUNTRY_INFO!C97=0,\" \",COUNTRY_INFO!C97)","v":"MATALA"},{"$f":"IF(OR(COUNTRY_INFO!$U$9:$U$1000=\"T1 (PZQ+ALB/MBD)\",COUNTRY_INFO!$V$9:$V$1000=\"T1 (PZQ+ALB/MBD)\"), \"T1 (PZQ+ALB/MBD)\", \" \")","v":" "},null,null,null,null,null,null,0,null,null,null,0," "," "," "," "]
[{"$f":"IF(COUNTRY_INFO!A98=0,\" \",COUNTRY_INFO!A98)","v":"Angola"},{"$f":"IF(COUNTRY_INFO!B98=0,\" \",COUNTRY_INFO!B98)","v":"HUILA"},{"$f":"IF(COUNTRY_INFO!C98=0,\" \",COUNTRY_INFO!C98)","v":"QUILENGUES"},{"$f":"IF(OR(COUNTRY_INFO!$U$9:$U$1000=\"T1 (PZQ+ALB/MBD)\",COUNTRY_INFO!$V$9:$V$1000=\"T1 (PZQ+ALB/MBD)\"), \"T1 (PZQ+ALB/MBD)\", \" \")","v":" "},null,null,null,null,null,null,0,null,null,null,0," "," "," "," "]
[{"$f":"IF(COUNTRY_INFO!A99=0,\" \",COUNTRY_INFO!A99)","v":"Angola"},{"$f":"IF(COUNTRY_INFO!B99=0,\" \",COUNTRY_INFO!B99)","v":"HUILA"},{"$f":"IF(COUNTRY_INFO!C99=0,\" \",COUNTRY_INFO!C99)","v":"QUIPUNGO"},{"$f":"IF(OR(COUNTRY_INFO!$U$9:$U$1000=\"T1 (PZQ+ALB/MBD)\",COUNTRY_INFO!$V$9:$V$1000=\"T1 (PZQ+ALB/MBD)\"), \"T1 (PZQ+ALB/MBD)\", \" \")","v":" "},null,null,null,null,null,null,0,null,null,null,0," "," "," "," "]
[{"$f":"IF(COUNTRY_INFO!A100=0,\" \",COUNTRY_INFO!A100)","v":"Angola"},{"$f":"IF(COUNTRY_INFO!B100=0,\" \",COUNTRY_INFO!B100)","v":"LUANDA"},{"$f":"IF(COUNTRY_INFO!C100=0,\" \",COUNTRY_INFO!C100)","v":"BELAS"},{"$f":"IF(OR(COUNTRY_INFO!$U$9:$U$1000=\"T1 (PZQ+ALB/MBD)\",COUNTRY_INFO!$V$9:$V$1000=\"T1 (PZQ+ALB/MBD)\"), \"T1 (PZQ+ALB/MBD)\", \" \")","v":" "},null,null,null,null,null,null,0,null,null,null,0," "," "," "," "]
[{"$f":"IF(COUNTRY_INFO!A101=0,\" \",COUNTRY_INFO!A101)","v":"Angola"},{"$f":"IF(COUNTRY_INFO!B101=0,\" \",COUNTRY_INFO!B101)","v":"LUANDA"},{"$f":"IF(COUNTRY_INFO!C101=0,\" \",COUNTRY_INFO!C101)","v":"CACUACO"},{"$f":"IF(OR(COUNTRY_INFO!$U$9:$U$1000=\"T1 (PZQ+ALB/MBD)\",COUNTRY_INFO!$V$9:$V$1000=\"T1 (PZQ+ALB/MBD)\"), \"T1 (PZQ+ALB/MBD)\", \" \")","v":" "},null,null,null,null,null,null,0,null,null,null,0," "," "," "," "]
[{"$f":"IF(COUNTRY_INFO!A102=0,\" \",COUNTRY_INFO!A102)","v":"Angola"},{"$f":"IF(COUNTRY_INFO!B102=0,\" \",COUNTRY_INFO!B102)","v":"LUANDA"},{"$f":"IF(COUNTRY_INFO!C102=0,\" \",COUNTRY_INFO!C102)","v":"CAZENGA"},{"$f":"IF(OR(COUNTRY_INFO!$U$9:$U$1000=\"T1 (PZQ+ALB/MBD)\",COUNTRY_INFO!$V$9:$V$1000=\"T1 (PZQ+ALB/MBD)\"), \"T1 (PZQ+ALB/MBD)\", \" \")","v":" "},null,null,null,null,null,null,0,null,null,null,0," "," "," "," "]
[{"$f":"IF(COUNTRY_INFO!A103=0,\" \",COUNTRY_INFO!A103)","v":"Angola"},{"$f":"IF(COUNTRY_INFO!B103=0,\" \",COUNTRY_INFO!B103)","v":"LUANDA"},{"$f":"IF(COUNTRY_INFO!C103=0,\" \",COUNTRY_INFO!C103)","v":"ICOLO E BENGO"},{"$f":"IF(OR(COUNTRY_INFO!$U$9:$U$1000=\"T1 (PZQ+ALB/MBD)\",COUNTRY_INFO!$V$9:$V$1000=\"T1 (PZQ+ALB/MBD)\"), \"T1 (PZQ+ALB/MBD)\", \" \")","v":" "},null,null,null,null,null,null,0,null,null,null,0," "," "," "," "]
[{"$f":"IF(COUNTRY_INFO!A104=0,\" \",COUNTRY_INFO!A104)","v":"Angola"},{"$f":"IF(COUNTRY_INFO!B104=0,\" \",COUNTRY_INFO!B104)","v":"LUANDA"},{"$f":"IF(COUNTRY_INFO!C104=0,\" \",COUNTRY_INFO!C104)","v":"KILAMBA KIAXI"},{"$f":"IF(OR(COUNTRY_INFO!$U$9:$U$1000=\"T1 (PZQ+ALB/MBD)\",COUNTRY_INFO!$V$9:$V$1000=\"T1 (PZQ+ALB/MBD)\"), \"T1 (PZQ+ALB/MBD)\", \" \")","v":" "},null,null,null,null,null,null,0,null,null,null,0," "," "," "," "]
[{"$f":"IF(COUNTRY_INFO!A105=0,\" \",COUNTRY_INFO!A105)","v":"Angola"},{"$f":"IF(COUNTRY_INFO!B105=0,\" \",COUNTRY_INFO!B105)","v":"LUANDA"},{"$f":"IF(COUNTRY_INFO!C105=0,\" \",COUNTRY_INFO!C105)","v":"LUANDA"},{"$f":"IF(OR(COUNTRY_INFO!$U$9:$U$1000=\"T1 (PZQ+ALB/MBD)\",COUNTRY_INFO!$V$9:$V$1000=\"T1 (PZQ+ALB/MBD)\"), \"T1 (PZQ+ALB/MBD)\", \" \")","v":" "},null,null,null,null,null,null,0,null,null,null,0," "," "," "," "]
[{"$f":"IF(COUNTRY_INFO!A106=0,\" \",COUNTRY_INFO!A106)","v":"Angola"},{"$f":"IF(COUNTRY_INFO!B106=0,\" \",COUNTRY_INFO!B106)","v":"LUANDA"},{"$f":"IF(COUNTRY_INFO!C106=0,\" \",COUNTRY_INFO!C106)","v":"QUISSAMA"},{"$f":"IF(OR(COUNTRY_INFO!$U$9:$U$1000=\"T1 (PZQ+ALB/MBD)\",COUNTRY_INFO!$V$9:$V$1000=\"T1 (PZQ+ALB/MBD)\"), \"T1 (PZQ+ALB/MBD)\", \" \")","v":" "},null,null,null,null,null,null,0,null,null,null,0," "," "," "," "]
[{"$f":"IF(COUNTRY_INFO!A107=0,\" \",COUNTRY_INFO!A107)","v":"Angola"},{"$f":"IF(COUNTRY_INFO!B107=0,\" \",COUNTRY_INFO!B107)","v":"LUANDA"},{"$f":"IF(COUNTRY_INFO!C107=0,\" \",COUNTRY_INFO!C107)","v":"TALATONA"},{"$f":"IF(OR(COUNTRY_INFO!$U$9:$U$1000=\"T1 (PZQ+ALB/MBD)\",COUNTRY_INFO!$V$9:$V$1000=\"T1 (PZQ+ALB/MBD)\"), \"T1 (PZQ+ALB/MBD)\", \" \")","v":" "},null,null,null,null,null,null,0,null,null,null,0," "," "," "," "]
[{"$f":"IF(COUNTRY_INFO!A108=0,\" \",COUNTRY_INFO!A108)","v":"Angola"},{"$f":"IF(COUNTRY_INFO!B108=0,\" \",COUNTRY_INFO!B108)","v":"LUANDA"},{"$f":"IF(COUNTRY_INFO!C108=0,\" \",COUNTRY_INFO!C108)","v":"VIANA"},{"$f":"IF(OR(COUNTRY_INFO!$U$9:$U$1000=\"T1 (PZQ+ALB/MBD)\",COUNTRY_INFO!$V$9:$V$1000=\"T1 (PZQ+ALB/MBD)\"), \"T1 (PZQ+ALB/MBD)\", \" \")","v":" "},null,null,null,null,null,null,0,null,null,null,0," "," "," "," "]
[{"$f":"IF(COUNTRY_INFO!A109=0,\" \",COUNTRY_INFO!A109)","v":"Angola"},{"$f":"IF(COUNTRY_INFO!B109=0,\" \",COUNTRY_INFO!B109)","v":"LUNDA NORTE"},{"$f":"IF(COUNTRY_INFO!C109=0,\" \",COUNTRY_INFO!C109)","v":"CAMBULO"},{"$f":"IF(OR(COUNTRY_INFO!$U$9:$U$1000=\"T1 (PZQ+ALB/MBD)\",COUNTRY_INFO!$V$9:$V$1000=\"T1 (PZQ+ALB/MBD)\"), \"T1 (PZQ+ALB/MBD)\", \" \")","v":" "},null,null,null,null,null,null,0,null,null,null,0," "," "," "," "]
[{"$f":"IF(COUNTRY_INFO!A110=0,\" \",COUNTRY_INFO!A110)","v":"Angola"},{"$f":"IF(COUNTRY_INFO!B110=0,\" \",COUNTRY_INFO!B110)","v":"LUNDA NORTE"},{"$f":"IF(COUNTRY_INFO!C110=0,\" \",COUNTRY_INFO!C110)","v":"CAPENDA CAMULEMBA"},{"$f":"IF(OR(COUNTRY_INFO!$U$9:$U$1000=\"T1 (PZQ+ALB/MBD)\",COUNTRY_INFO!$V$9:$V$1000=\"T1 (PZQ+ALB/MBD)\"), \"T1 (PZQ+ALB/MBD)\", \" \")","v":" "},null,null,null,null,null,null,0,null,null,null,0," "," "," "," "]
[{"$f":"IF(COUNTRY_INFO!A111=0,\" \",COUNTRY_INFO!A111)","v":"Angola"},{"$f":"IF(COUNTRY_INFO!B111=0,\" \",COUNTRY_INFO!B111)","v":"LUNDA NORTE"},{"$f":"IF(COUNTRY_INFO!C111=0,\" \",COUNTRY_INFO!C111)","v":"CAUNGULA"},{"$f":"IF(OR(COUNTRY_INFO!$U$9:$U$1000=\"T1 (PZQ+ALB/MBD)\",COUNTRY_INFO!$V$9:$V$1000=\"T1 (PZQ+ALB/MBD)\"), \"T1 (PZQ+ALB/MBD)\", \" \")","v":" "},null,null,null,null,null,null,0,null,null,null,0," "," "," "," "]
[{"$f":"IF(COUNTRY_INFO!A112=0,\" \",COUNTRY_INFO!A112)","v":"Angola"},{"$f":"IF(COUNTRY_INFO!B112=0,\" \",COUNTRY_INFO!B112)","v":"LUNDA NORTE"},{"$f":"IF(COUNTRY_INFO!C112=0,\" \",COUNTRY_INFO!C112)","v":"CHITATO"},{"$f":"IF(OR(COUNTRY_INFO!$U$9:$U$1000=\"T1 (PZQ+ALB/MBD)\",COUNTRY_INFO!$V$9:$V$1000=\"T1 (PZQ+ALB/MBD)\"), \"T1 (PZQ+ALB/MBD)\", \" \")","v":" "},null,null,null,null,null,null,0,null,null,null,0," "," "," "," "]
[{"$f":"IF(COUNTRY_INFO!A113=0,\" \",COUNTRY_INFO!A113)","v":"Angola"},{"$f":"IF(COUNTRY_INFO!B113=0,\" \",COUNTRY_INFO!B113)","v":"LUNDA NORTE"},{"$f":"IF(COUNTRY_INFO!C113=0,\" \",COUNTRY_INFO!C113)","v":"CUANGO"},{"$f":"IF(OR(COUNTRY_INFO!$U$9:$U$1000=\"T1 (PZQ+ALB/MBD)\",COUNTRY_INFO!$V$9:$V$1000=\"T1 (PZQ+ALB/MBD)\"), \"T1 (PZQ+ALB/MBD)\", \" \")","v":" "},null,null,null,null,null,null,0,null,null,null,0," "," "," "," "]
[{"$f":"IF(COUNTRY_INFO!A114=0,\" \",COUNTRY_INFO!A114)","v":"Angola"},{"$f":"IF(COUNTRY_INFO!B114=0,\" \",COUNTRY_INFO!B114)","v":"LUNDA NORTE"},{"$f":"IF(COUNTRY_INFO!C114=0,\" \",COUNTRY_INFO!C114)","v":"CUILO"},{"$f":"IF(OR(COUNTRY_INFO!$U$9:$U$1000=\"T1 (PZQ+ALB/MBD)\",COUNTRY_INFO!$V$9:$V$1000=\"T1 (PZQ+ALB/MBD)\"), \"T1 (PZQ+ALB/MBD)\", \" \")","v":" "},null,null,null,null,null,null,0,null,null,null,0," "," "," "," "]
[{"$f":"IF(COUNTRY_INFO!A115=0,\" \",COUNTRY_INFO!A115)","v":"Angola"},{"$f":"IF(COUNTRY_INFO!B115=0,\" \",COUNTRY_INFO!B115)","v":"LUNDA NORTE"},{"$f":"IF(COUNTRY_INFO!C115=0,\" \",COUNTRY_INFO!C115)","v":"LOVUA"},{"$f":"IF(OR(COUNTRY_INFO!$U$9:$U$1000=\"T1 (PZQ+ALB/MBD)\",COUNTRY_INFO!$V$9:$V$1000=\"T1 (PZQ+ALB/MBD)\"), \"T1 (PZQ+ALB/MBD)\", \" \")","v":" "},null,null,null,null,null,null,0,null,null,null,0," "," "," "," "]
[{"$f":"IF(COUNTRY_INFO!A116=0,\" \",COUNTRY_INFO!A116)","v":"Angola"},{"$f":"IF(COUNTRY_INFO!B116=0,\" \",COUNTRY_INFO!B116)","v":"LUNDA NORTE"},{"$f":"IF(COUNTRY_INFO!C116=0,\" \",COUNTRY_INFO!C116)","v":"LUBALO"},{"$f":"IF(OR(COUNTRY_INFO!$U$9:$U$1000=\"T1 (PZQ+ALB/MBD)\",COUNTRY_INFO!$V$9:$V$1000=\"T1 (PZQ+ALB/MBD)\"), \"T1 (PZQ+ALB/MBD)\", \" \")","v":" "},null,null,null,null,null,null,0,null,null,null,0," "," "," "," "]
[{"$f":"IF(COUNTRY_INFO!A117=0,\" \",COUNTRY_INFO!A117)","v":"Angola"},{"$f":"IF(COUNTRY_INFO!B117=0,\" \",COUNTRY_INFO!B117)","v":"LUNDA NORTE"},{"$f":"IF(COUNTRY_INFO!C117=0,\" \",COUNTRY_INFO!C117)","v":"LUCAPA"},{"$f":"IF(OR(COUNTRY_INFO!$U$9:$U$1000=\"T1 (PZQ+ALB/MBD)\",COUNTRY_INFO!$V$9:$V$1000=\"T1 (PZQ+ALB/MBD)\"), \"T1 (PZQ+ALB/MBD)\", \" \")","v":" "},null,null,null,null,null,null,0,null,null,null,0," "," "," "," "]
[{"$f":"IF(COUNTRY_INFO!A118=0,\" \",COUNTRY_INFO!A118)","v":"Angola"},{"$f":"IF(COUNTRY_INFO!B118=0,\" \",COUNTRY_INFO!B118)","v":"LUNDA NORTE"},{"$f":"IF(COUNTRY_INFO!C118=0,\" \",COUNTRY_INFO!C118)","v":"XA MUTEBA"},{"$f":"IF(OR(COUNTRY_INFO!$U$9:$U$1000=\"T1 (PZQ+ALB/MBD)\",COUNTRY_INFO!$V$9:$V$1000=\"T1 (PZQ+ALB/MBD)\"), \"T1 (PZQ+ALB/MBD)\", \" \")","v":" "},null,null,null,null,null,null,0,null,null,null,0," "," "," "," "]
[{"$f":"IF(COUNTRY_INFO!A119=0,\" \",COUNTRY_INFO!A119)","v":"Angola"},{"$f":"IF(COUNTRY_INFO!B119=0,\" \",COUNTRY_INFO!B119)","v":"LUNDA SUL"},{"$f":"IF(COUNTRY_INFO!C119=0,\" \",COUNTRY_INFO!C119)","v":"CACOLO"},{"$f":"IF(OR(COUNTRY_INFO!$U$9:$U$1000=\"T1 (PZQ+ALB/MBD)\",COUNTRY_INFO!$V$9:$V$1000=\"T1 (PZQ+ALB/MBD)\"), \"T1 (PZQ+ALB/MBD)\", \" \")","v":" "},null,null,null,null,null,null,0,null,null,null,0," "," "," "," "]
[{"$f":"IF(COUNTRY_INFO!A120=0,\" \",COUNTRY_INFO!A120)","v":"Angola"},{"$f":"IF(COUNTRY_INFO!B120=0,\" \",COUNTRY_INFO!B120)","v":"LUNDA SUL"},{"$f":"IF(COUNTRY_INFO!C120=0,\" \",COUNTRY_INFO!C120)","v":"DALA"},{"$f":"IF(OR(COUNTRY_INFO!$U$9:$U$1000=\"T1 (PZQ+ALB/MBD)\",COUNTRY_INFO!$V$9:$V$1000=\"T1 (PZQ+ALB/MBD)\"), \"T1 (PZQ+ALB/MBD)\", \" \")","v":" "},null,null,null,null,null,null,0,null,null,null,0," "," "," "," "]
[{"$f":"IF(COUNTRY_INFO!A121=0,\" \",COUNTRY_INFO!A121)","v":"Angola"},{"$f":"IF(COUNTRY_INFO!B121=0,\" \",COUNTRY_INFO!B121)","v":"LUNDA SUL"},{"$f":"IF(COUNTRY_INFO!C121=0,\" \",COUNTRY_INFO!C121)","v":"MUCONDA"},{"$f":"IF(OR(COUNTRY_INFO!$U$9:$U$1000=\"T1 (PZQ+ALB/MBD)\",COUNTRY_INFO!$V$9:$V$1000=\"T1 (PZQ+ALB/MBD)\"), \"T1 (PZQ+ALB/MBD)\", \" \")","v":" "},null,null,null,null,null,null,0,null,null,null,0," "," "," "," "]
[{"$f":"IF(COUNTRY_INFO!A122=0,\" \",COUNTRY_INFO!A122)","v":"Angola"},{"$f":"IF(COUNTRY_INFO!B122=0,\" \",COUNTRY_INFO!B122)","v":"LUNDA SUL"},{"$f":"IF(COUNTRY_INFO!C122=0,\" \",COUNTRY_INFO!C122)","v":"SAURIMO"},{"$f":"IF(OR(COUNTRY_INFO!$U$9:$U$1000=\"T1 (PZQ+ALB/MBD)\",COUNTRY_INFO!$V$9:$V$1000=\"T1 (PZQ+ALB/MBD)\"), \"T1 (PZQ+ALB/MBD)\", \" \")","v":" "},null,null,null,null,null,null,0,null,null,null,0," "," "," "," "]
[{"$f":"IF(COUNTRY_INFO!A123=0,\" \",COUNTRY_INFO!A123)","v":"Angola"},{"$f":"IF(COUNTRY_INFO!B123=0,\" \",COUNTRY_INFO!B123)","v":"MALANJE"},{"$f":"IF(COUNTRY_INFO!C123=0,\" \",COUNTRY_INFO!C123)","v":"CACULAMA (Mukari)"},{"$f":"IF(OR(COUNTRY_INFO!$U$9:$U$1000=\"T1 (PZQ+ALB/MBD)\",COUNTRY_INFO!$V$9:$V$1000=\"T1 (PZQ+ALB/MBD)\"), \"T1 (PZQ+ALB/MBD)\", \" \")","v":" "},null,null,null,null,null,null,0,null,null,null,0," "," "," "," "]
[{"$f":"IF(COUNTRY_INFO!A124=0,\" \",COUNTRY_INFO!A124)","v":"Angola"},{"$f":"IF(COUNTRY_INFO!B124=0,\" \",COUNTRY_INFO!B124)","v":"MALANJE"},{"$f":"IF(COUNTRY_INFO!C124=0,\" \",COUNTRY_INFO!C124)","v":"CACUSO"},{"$f":"IF(OR(COUNTRY_INFO!$U$9:$U$1000=\"T1 (PZQ+ALB/MBD)\",COUNTRY_INFO!$V$9:$V$1000=\"T1 (PZQ+ALB/MBD)\"), \"T1 (PZQ+ALB/MBD)\", \" \")","v":" "},null,null,null,null,null,null,0,null,null,null,0," "," "," "," "]
[{"$f":"IF(COUNTRY_INFO!A125=0,\" \",COUNTRY_INFO!A125)","v":"Angola"},{"$f":"IF(COUNTRY_INFO!B125=0,\" \",COUNTRY_INFO!B125)","v":"MALANJE"},{"$f":"IF(COUNTRY_INFO!C125=0,\" \",COUNTRY_INFO!C125)","v":"CAHOMBO"},{"$f":"IF(OR(COUNTRY_INFO!$U$9:$U$1000=\"T1 (PZQ+ALB/MBD)\",COUNTRY_INFO!$V$9:$V$1000=\"T1 (PZQ+ALB/MBD)\"), \"T1 (PZQ+ALB/MBD)\", \" \")","v":" "},null,null,null,null,null,null,0,null,null,null,0," "," "," "," "]
[{"$f":"IF(COUNTRY_INFO!A126=0,\" \",COUNTRY_INFO!A126)","v":"Angola"},{"$f":"IF(COUNTRY_INFO!B126=0,\" \",COUNTRY_INFO!B126)","v":"MALANJE"},{"$f":"IF(COUNTRY_INFO!C126=0,\" \",COUNTRY_INFO!C126)","v":"CALANDULA"},{"$f":"IF(OR(COUNTRY_INFO!$U$9:$U$1000=\"T1 (PZQ+ALB/MBD)\",COUNTRY_INFO!$V$9:$V$1000=\"T1 (PZQ+ALB/MBD)\"), \"T1 (PZQ+ALB/MBD)\", \" \")","v":" "},null,null,null,null,null,null,0,null,null,null,0," "," "," "," "]
[{"$f":"IF(COUNTRY_INFO!A127=0,\" \",COUNTRY_INFO!A127)","v":"Angola"},{"$f":"IF(COUNTRY_INFO!B127=0,\" \",COUNTRY_INFO!B127)","v":"MALANJE"},{"$f":"IF(COUNTRY_INFO!C127=0,\" \",COUNTRY_INFO!C127)","v":"CAMBUNDI CATEMBO"},{"$f":"IF(OR(COUNTRY_INFO!$U$9:$U$1000=\"T1 (PZQ+ALB/MBD)\",COUNTRY_INFO!$V$9:$V$1000=\"T1 (PZQ+ALB/MBD)\"), \"T1 (PZQ+ALB/MBD)\", \" \")","v":" "},null,null,null,null,null,null,0,null,null,null,0," "," "," "," "]
[{"$f":"IF(COUNTRY_INFO!A128=0,\" \",COUNTRY_INFO!A128)","v":"Angola"},{"$f":"IF(COUNTRY_INFO!B128=0,\" \",COUNTRY_INFO!B128)","v":"MALANJE"},{"$f":"IF(COUNTRY_INFO!C128=0,\" \",COUNTRY_INFO!C128)","v":"CANGANDALA"},{"$f":"IF(OR(COUNTRY_INFO!$U$9:$U$1000=\"T1 (PZQ+ALB/MBD)\",COUNTRY_INFO!$V$9:$V$1000=\"T1 (PZQ+ALB/MBD)\"), \"T1 (PZQ+ALB/MBD)\", \" \")","v":" "},null,null,null,null,null,null,0,null,null,null,0," "," "," "," "]
[{"$f":"IF(COUNTRY_INFO!A129=0,\" \",COUNTRY_INFO!A129)","v":"Angola"},{"$f":"IF(COUNTRY_INFO!B129=0,\" \",COUNTRY_INFO!B129)","v":"MALANJE"},{"$f":"IF(COUNTRY_INFO!C129=0,\" \",COUNTRY_INFO!C129)","v":"KIWABA NZOJI"},{"$f":"IF(OR(COUNTRY_INFO!$U$9:$U$1000=\"T1 (PZQ+ALB/MBD)\",COUNTRY_INFO!$V$9:$V$1000=\"T1 (PZQ+ALB/MBD)\"), \"T1 (PZQ+ALB/MBD)\", \" \")","v":" "},null,null,null,null,null,null,0,null,null,null,0," "," "," "," "]
[{"$f":"IF(COUNTRY_INFO!A130=0,\" \",COUNTRY_INFO!A130)","v":"Angola"},{"$f":"IF(COUNTRY_INFO!B130=0,\" \",COUNTRY_INFO!B130)","v":"MALANJE"},{"$f":"IF(COUNTRY_INFO!C130=0,\" \",COUNTRY_INFO!C130)","v":"KUNDA DYA BASE"},{"$f":"IF(OR(COUNTRY_INFO!$U$9:$U$1000=\"T1 (PZQ+ALB/MBD)\",COUNTRY_INFO!$V$9:$V$1000=\"T1 (PZQ+ALB/MBD)\"), \"T1 (PZQ+ALB/MBD)\", \" \")","v":" "},null,null,null,null,null,null,0,null,null,null,0," "," "," "," "]
[{"$f":"IF(COUNTRY_INFO!A131=0,\" \",COUNTRY_INFO!A131)","v":"Angola"},{"$f":"IF(COUNTRY_INFO!B131=0,\" \",COUNTRY_INFO!B131)","v":"MALANJE"},{"$f":"IF(COUNTRY_INFO!C131=0,\" \",COUNTRY_INFO!C131)","v":"LUQUEMBO"},{"$f":"IF(OR(COUNTRY_INFO!$U$9:$U$1000=\"T1 (PZQ+ALB/MBD)\",COUNTRY_INFO!$V$9:$V$1000=\"T1 (PZQ+ALB/MBD)\"), \"T1 (PZQ+ALB/MBD)\", \" \")","v":" "},null,null,null,null,null,null,0,null,null,null,0," "," "," "," "]
[{"$f":"IF(COUNTRY_INFO!A132=0,\" \",COUNTRY_INFO!A132)","v":"Angola"},{"$f":"IF(COUNTRY_INFO!B132=0,\" \",COUNTRY_INFO!B132)","v":"MALANJE"},{"$f":"IF(COUNTRY_INFO!C132=0,\" \",COUNTRY_INFO!C132)","v":"MALANJE"},{"$f":"IF(OR(COUNTRY_INFO!$U$9:$U$1000=\"T1 (PZQ+ALB/MBD)\",COUNTRY_INFO!$V$9:$V$1000=\"T1 (PZQ+ALB/MBD)\"), \"T1 (PZQ+ALB/MBD)\", \" \")","v":" "},null,null,null,null,null,null,0,null,null,null,0," "," "," "," "]
[{"$f":"IF(COUNTRY_INFO!A133=0,\" \",COUNTRY_INFO!A133)","v":"Angola"},{"$f":"IF(COUNTRY_INFO!B133=0,\" \",COUNTRY_INFO!B133)","v":"MALANJE"},{"$f":"IF(COUNTRY_INFO!C133=0,\" \",COUNTRY_INFO!C133)","v":"MARIMBA"},{"$f":"IF(OR(COUNTRY_INFO!$U$9:$U$1000=\"T1 (PZQ+ALB/MBD)\",COUNTRY_INFO!$V$9:$V$1000=\"T1 (PZQ+ALB/MBD)\"), \"T1 (PZQ+ALB/MBD)\", \" \")","v":" "},null,null,null,null,null,null,0,null,null,null,0," "," "," "," "]
[{"$f":"IF(COUNTRY_INFO!A134=0,\" \",COUNTRY_INFO!A134)","v":"Angola"},{"$f":"IF(COUNTRY_INFO!B134=0,\" \",COUNTRY_INFO!B134)","v":"MALANJE"},{"$f":"IF(COUNTRY_INFO!C134=0,\" \",COUNTRY_INFO!C134)","v":"MASSANGO"},{"$f":"IF(OR(COUNTRY_INFO!$U$9:$U$1000=\"T1 (PZQ+ALB/MBD)\",COUNTRY_INFO!$V$9:$V$1000=\"T1 (PZQ+ALB/MBD)\"), \"T1 (PZQ+ALB/MBD)\", \" \")","v":" "},null,null,null,null,null,null,0,null,null,null,0," "," "," "," "]
[{"$f":"IF(COUNTRY_INFO!A135=0,\" \",COUNTRY_INFO!A135)","v":"Angola"},{"$f":"IF(COUNTRY_INFO!B135=0,\" \",COUNTRY_INFO!B135)","v":"MALANJE"},{"$f":"IF(COUNTRY_INFO!C135=0,\" \",COUNTRY_INFO!C135)","v":"QUELA"},{"$f":"IF(OR(COUNTRY_INFO!$U$9:$U$1000=\"T1 (PZQ+ALB/MBD)\",COUNTRY_INFO!$V$9:$V$1000=\"T1 (PZQ+ALB/MBD)\"), \"T1 (PZQ+ALB/MBD)\", \" \")","v":" "},null,null,null,null,null,null,0,null,null,null,0," "," "," "," "]
[{"$f":"IF(COUNTRY_INFO!A136=0,\" \",COUNTRY_INFO!A136)","v":"Angola"},{"$f":"IF(COUNTRY_INFO!B136=0,\" \",COUNTRY_INFO!B136)","v":"MALANJE"},{"$f":"IF(COUNTRY_INFO!C136=0,\" \",COUNTRY_INFO!C136)","v":"QUIRIMA"},{"$f":"IF(OR(COUNTRY_INFO!$U$9:$U$1000=\"T1 (PZQ+ALB/MBD)\",COUNTRY_INFO!$V$9:$V$1000=\"T1 (PZQ+ALB/MBD)\"), \"T1 (PZQ+ALB/MBD)\", \" \")","v":" "},null,null,null,null,null,null,0,null,null,null,0," "," "," "," "]
[{"$f":"IF(COUNTRY_INFO!A137=0,\" \",COUNTRY_INFO!A137)","v":"Angola"},{"$f":"IF(COUNTRY_INFO!B137=0,\" \",COUNTRY_INFO!B137)","v":"MOXICO"},{"$f":"IF(COUNTRY_INFO!C137=0,\" \",COUNTRY_INFO!C137)","v":"ALTO ZAMBEZE"},{"$f":"IF(OR(COUNTRY_INFO!$U$9:$U$1000=\"T1 (PZQ+ALB/MBD)\",COUNTRY_INFO!$V$9:$V$1000=\"T1 (PZQ+ALB/MBD)\"), \"T1 (PZQ+ALB/MBD)\", \" \")","v":" "},null,null,null,null,null,null,0,null,null,null,0," "," "," "," "]
[{"$f":"IF(COUNTRY_INFO!A138=0,\" \",COUNTRY_INFO!A138)","v":"Angola"},{"$f":"IF(COUNTRY_INFO!B138=0,\" \",COUNTRY_INFO!B138)","v":"MOXICO"},{"$f":"IF(COUNTRY_INFO!C138=0,\" \",COUNTRY_INFO!C138)","v":"BUNDAS (LUMBALA NGUIMBO)"},{"$f":"IF(OR(COUNTRY_INFO!$U$9:$U$1000=\"T1 (PZQ+ALB/MBD)\",COUNTRY_INFO!$V$9:$V$1000=\"T1 (PZQ+ALB/MBD)\"), \"T1 (PZQ+ALB/MBD)\", \" \")","v":" "},null,null,null,null,null,null,{"$f":"MAX(H138:I138)+G138+J138","v":0},null,null,null,{"$f":"SUM(L138:N138)","v":0},{"$f":"IF(G138<>0, IF(L138/G138*100=0, \"-\", L138/G138*100), \" \")","v":" "},{"$f":"IF(OR(I138<>0,H138<>0), IF(M138/MAX(H138,I138)*100=0, \"-\", M138/MAX(H138,I138)*100), \" \")","v":" "},{"$f":"IF(J138<>0, IF(N138/J138*100=0, \"-\", N138/J138*100), \" \")","v":" "},{"$f":"IF(K138<>0, IF(O138/K138*100=0, \"-\", O138/K138*100), \" \")","v":" "}]
[{"$f":"IF(COUNTRY_INFO!A139=0,\" \",COUNTRY_INFO!A139)","v":"Angola"},{"$f":"IF(COUNTRY_INFO!B139=0,\" \",COUNTRY_INFO!B139)","v":"MOXICO"},{"$f":"IF(COUNTRY_INFO!C139=0,\" \",COUNTRY_INFO!C139)","v":"CAMANONGUE"},{"$f":"IF(OR(COUNTRY_INFO!$U$9:$U$1000=\"T1 (PZQ+ALB/MBD)\",COUNTRY_INFO!$V$9:$V$1000=\"T1 (PZQ+ALB/MBD)\"), \"T1 (PZQ+ALB/MBD)\", \" \")","v":" "},null,null,null,null,null,null,0,null,null,null,0," "," "," "," "]
[{"$f":"IF(COUNTRY_INFO!A140=0,\" \",COUNTRY_INFO!A140)","v":"Angola"},{"$f":"IF(COUNTRY_INFO!B140=0,\" \",COUNTRY_INFO!B140)","v":"MOXICO"},{"$f":"IF(COUNTRY_INFO!C140=0,\" \",COUNTRY_INFO!C140)","v":"CAMEIA (LUMEJE)"},{"$f":"IF(OR(COUNTRY_INFO!$U$9:$U$1000=\"T1 (PZQ+ALB/MBD)\",COUNTRY_INFO!$V$9:$V$1000=\"T1 (PZQ+ALB/MBD)\"), \"T1 (PZQ+ALB/MBD)\", \" \")","v":" "},null,null,null,null,null,null,0,null,null,null,0," "," "," "," "]
[{"$f":"IF(COUNTRY_INFO!A141=0,\" \",COUNTRY_INFO!A141)","v":"Angola"},{"$f":"IF(COUNTRY_INFO!B141=0,\" \",COUNTRY_INFO!B141)","v":"MOXICO"},{"$f":"IF(COUNTRY_INFO!C141=0,\" \",COUNTRY_INFO!C141)","v":"LEUA"},{"$f":"IF(OR(COUNTRY_INFO!$U$9:$U$1000=\"T1 (PZQ+ALB/MBD)\",COUNTRY_INFO!$V$9:$V$1000=\"T1 (PZQ+ALB/MBD)\"), \"T1 (PZQ+ALB/MBD)\", \" \")","v":" "},null,null,null,null,null,null,0,null,null,null,0," "," "," "," "]
[{"$f":"IF(COUNTRY_INFO!A142=0,\" \",COUNTRY_INFO!A142)","v":"Angola"},{"$f":"IF(COUNTRY_INFO!B142=0,\" \",COUNTRY_INFO!B142)","v":"MOXICO"},{"$f":"IF(COUNTRY_INFO!C142=0,\" \",COUNTRY_INFO!C142)","v":"LUACANO"},{"$f":"IF(OR(COUNTRY_INFO!$U$9:$U$1000=\"T1 (PZQ+ALB/MBD)\",COUNTRY_INFO!$V$9:$V$1000=\"T1 (PZQ+ALB/MBD)\"), \"T1 (PZQ+ALB/MBD)\", \" \")","v":" "},null,null,null,null,null,null,0,null,null,null,0," "," "," "," "]
[{"$f":"IF(COUNTRY_INFO!A143=0,\" \",COUNTRY_INFO!A143)","v":"Angola"},{"$f":"IF(COUNTRY_INFO!B143=0,\" \",COUNTRY_INFO!B143)","v":"MOXICO"},{"$f":"IF(COUNTRY_INFO!C143=0,\" \",COUNTRY_INFO!C143)","v":"LUAU"},{"$f":"IF(OR(COUNTRY_INFO!$U$9:$U$1000=\"T1 (PZQ+ALB/MBD)\",COUNTRY_INFO!$V$9:$V$1000=\"T1 (PZQ+ALB/MBD)\"), \"T1 (PZQ+ALB/MBD)\", \" \")","v":" "},null,null,null,null,null,null,0,null,null,null,0," "," "," "," "]
[{"$f":"IF(COUNTRY_INFO!A144=0,\" \",COUNTRY_INFO!A144)","v":"Angola"},{"$f":"IF(COUNTRY_INFO!B144=0,\" \",COUNTRY_INFO!B144)","v":"MOXICO"},{"$f":"IF(COUNTRY_INFO!C144=0,\" \",COUNTRY_INFO!C144)","v":"LUCHAZES"},{"$f":"IF(OR(COUNTRY_INFO!$U$9:$U$1000=\"T1 (PZQ+ALB/MBD)\",COUNTRY_INFO!$V$9:$V$1000=\"T1 (PZQ+ALB/MBD)\"), \"T1 (PZQ+ALB/MBD)\", \" \")","v":" "},null,null,null,null,null,null,0,null,null,null,0," "," "," "," "]
[{"$f":"IF(COUNTRY_INFO!A145=0,\" \",COUNTRY_INFO!A145)","v":"Angola"},{"$f":"IF(COUNTRY_INFO!B145=0,\" \",COUNTRY_INFO!B145)","v":"MOXICO"},{"$f":"IF(COUNTRY_INFO!C145=0,\" \",COUNTRY_INFO!C145)","v":"MOXICO/LUENA"},{"$f":"IF(OR(COUNTRY_INFO!$U$9:$U$1000=\"T1 (PZQ+ALB/MBD)\",COUNTRY_INFO!$V$9:$V$1000=\"T1 (PZQ+ALB/MBD)\"), \"T1 (PZQ+ALB/MBD)\", \" \")","v":" "},null,null,null,null,null,null,0,null,null,null,0," "," "," "," "]
[{"$f":"IF(COUNTRY_INFO!A146=0,\" \",COUNTRY_INFO!A146)","v":"Angola"},{"$f":"IF(COUNTRY_INFO!B146=0,\" \",COUNTRY_INFO!B146)","v":"NAMIBE"},{"$f":"IF(COUNTRY_INFO!C146=0,\" \",COUNTRY_INFO!C146)","v":"BIBALA"},{"$f":"IF(OR(COUNTRY_INFO!$U$9:$U$1000=\"T1 (PZQ+ALB/MBD)\",COUNTRY_INFO!$V$9:$V$1000=\"T1 (PZQ+ALB/MBD)\"), \"T1 (PZQ+ALB/MBD)\", \" \")","v":" "},null,null,null,null,null,null,0,null,null,null,0," "," "," "," "]
[{"$f":"IF(COUNTRY_INFO!A147=0,\" \",COUNTRY_INFO!A147)","v":"Angola"},{"$f":"IF(COUNTRY_INFO!B147=0,\" \",COUNTRY_INFO!B147)","v":"NAMIBE"},{"$f":"IF(COUNTRY_INFO!C147=0,\" \",COUNTRY_INFO!C147)","v":"CAMUCUIO"},{"$f":"IF(OR(COUNTRY_INFO!$U$9:$U$1000=\"T1 (PZQ+ALB/MBD)\",COUNTRY_INFO!$V$9:$V$1000=\"T1 (PZQ+ALB/MBD)\"), \"T1 (PZQ+ALB/MBD)\", \" \")","v":" "},null,null,null,null,null,null,0,null,null,null,0," "," "," "," "]
[{"$f":"IF(COUNTRY_INFO!A148=0,\" \",COUNTRY_INFO!A148)","v":"Angola"},{"$f":"IF(COUNTRY_INFO!B148=0,\" \",COUNTRY_INFO!B148)","v":"NAMIBE"},{"$f":"IF(COUNTRY_INFO!C148=0,\" \",COUNTRY_INFO!C148)","v":"NAMIBE"},{"$f":"IF(OR(COUNTRY_INFO!$U$9:$U$1000=\"T1 (PZQ+ALB/MBD)\",COUNTRY_INFO!$V$9:$V$1000=\"T1 (PZQ+ALB/MBD)\"), \"T1 (PZQ+ALB/MBD)\", \" \")","v":" "},null,null,null,null,null,null,0,null,null,null,0," "," "," "," "]
[{"$f":"IF(COUNTRY_INFO!A149=0,\" \",COUNTRY_INFO!A149)","v":"Angola"},{"$f":"IF(COUNTRY_INFO!B149=0,\" \",COUNTRY_INFO!B149)","v":"NAMIBE"},{"$f":"IF(COUNTRY_INFO!C149=0,\" \",COUNTRY_INFO!C149)","v":"TOMBWA"},{"$f":"IF(OR(COUNTRY_INFO!$U$9:$U$1000=\"T1 (PZQ+ALB/MBD)\",COUNTRY_INFO!$V$9:$V$1000=\"T1 (PZQ+ALB/MBD)\"), \"T1 (PZQ+ALB/MBD)\", \" \")","v":" "},null,null,null,null,null,null,0,null,null,null,0," "," "," "," "]
[{"$f":"IF(COUNTRY_INFO!A150=0,\" \",COUNTRY_INFO!A150)","v":"Angola"},{"$f":"IF(COUNTRY_INFO!B150=0,\" \",COUNTRY_INFO!B150)","v":"NAMIBE"},{"$f":"IF(COUNTRY_INFO!C150=0,\" \",COUNTRY_INFO!C150)","v":"VIREI"},{"$f":"IF(OR(COUNTRY_INFO!$U$9:$U$1000=\"T1 (PZQ+ALB/MBD)\",COUNTRY_INFO!$V$9:$V$1000=\"T1 (PZQ+ALB/MBD)\"), \"T1 (PZQ+ALB/MBD)\", \" \")","v":" "},null,null,null,null,null,null,0,null,null,null,0," "," "," "," "]
[{"$f":"IF(COUNTRY_INFO!A151=0,\" \",COUNTRY_INFO!A151)","v":"Angola"},{"$f":"IF(COUNTRY_INFO!B151=0,\" \",COUNTRY_INFO!B151)","v":"UIGE"},{"$f":"IF(COUNTRY_INFO!C151=0,\" \",COUNTRY_INFO!C151)","v":"AMBUILA"},{"$f":"IF(OR(COUNTRY_INFO!$U$9:$U$1000=\"T1 (PZQ+ALB/MBD)\",COUNTRY_INFO!$V$9:$V$1000=\"T1 (PZQ+ALB/MBD)\"), \"T1 (PZQ+ALB/MBD)\", \" \")","v":"T1 (PZQ+ALB/MBD)"},"PZQ+ALB","Abril 2018",null,5931,5931,null,5931,null,6096,null,6096," ",102.78199291856347," ",102.78199291856347]
[{"$f":"IF(COUNTRY_INFO!A152=0,\" \",COUNTRY_INFO!A152)","v":"Angola"},{"$f":"IF(COUNTRY_INFO!B152=0,\" \",COUNTRY_INFO!B152)","v":"UIGE"},{"$f":"IF(COUNTRY_INFO!C152=0,\" \",COUNTRY_INFO!C152)","v":"BEMBE"},{"$f":"IF(OR(COUNTRY_INFO!$U$9:$U$1000=\"T1 (PZQ+ALB/MBD)\",COUNTRY_INFO!$V$9:$V$1000=\"T1 (PZQ+ALB/MBD)\"), \"T1 (PZQ+ALB/MBD)\", \" \")","v":"T1 (PZQ+ALB/MBD)"},"PZQ+ALB","Abril 2018",null,10788,10788,null,10788,null,10496,null,10496," ",97.293288839451236," ",97.293288839451236]
[{"$f":"IF(COUNTRY_INFO!A153=0,\" \",COUNTRY_INFO!A153)","v":"Angola"},{"$f":"IF(COUNTRY_INFO!B153=0,\" \",COUNTRY_INFO!B153)","v":"UIGE"},{"$f":"IF(COUNTRY_INFO!C153=0,\" \",COUNTRY_INFO!C153)","v":"BUENGAS"},{"$f":"IF(OR(COUNTRY_INFO!$U$9:$U$1000=\"T1 (PZQ+ALB/MBD)\",COUNTRY_INFO!$V$9:$V$1000=\"T1 (PZQ+ALB/MBD)\"), \"T1 (PZQ+ALB/MBD)\", \" \")","v":"T1 (PZQ+ALB/MBD)"},"PZQ+ALB","Abril 2018",null,18741,18741,null,18741,null,19298,null,19298," ",102.97209327143695," ",102.97209327143695]
[{"$f":"IF(COUNTRY_INFO!A154=0,\" \",COUNTRY_INFO!A154)","v":"Angola"},{"$f":"IF(COUNTRY_INFO!B154=0,\" \",COUNTRY_INFO!B154)","v":"UIGE"},{"$f":"IF(COUNTRY_INFO!C154=0,\" \",COUNTRY_INFO!C154)","v":"BUNGO"},{"$f":"IF(OR(COUNTRY_INFO!$U$9:$U$1000=\"T1 (PZQ+ALB/MBD)\",COUNTRY_INFO!$V$9:$V$1000=\"T1 (PZQ+ALB/MBD)\"), \"T1 (PZQ+ALB/MBD)\", \" \")","v":"T1 (PZQ+ALB/MBD)"},"PZQ+ALB","Abril 2018",null,12162,12162,null,12162,null,11083,null,11083," ",91.128103930274634," ",91.128103930274634]
[{"$f":"IF(COUNTRY_INFO!A155=0,\" \",COUNTRY_INFO!A155)","v":"Angola"},{"$f":"IF(COUNTRY_INFO!B155=0,\" \",COUNTRY_INFO!B155)","v":"UIGE"},{"$f":"IF(COUNTRY_INFO!C155=0,\" \",COUNTRY_INFO!C155)","v":"CANGOLA"},{"$f":"IF(OR(COUNTRY_INFO!$U$9:$U$1000=\"T1 (PZQ+ALB/MBD)\",COUNTRY_INFO!$V$9:$V$1000=\"T1 (PZQ+ALB/MBD)\"), \"T1 (PZQ+ALB/MBD)\", \" \")","v":"T1 (PZQ+ALB/MBD)"},"PZQ+ALB","Abril 2018",null,17586,17586,null,17586,null,13466,null,13466," ",76.5722733992949," ",76.5722733992949]
[{"$f":"IF(COUNTRY_INFO!A156=0,\" \",COUNTRY_INFO!A156)","v":"Angola"},{"$f":"IF(COUNTRY_INFO!B156=0,\" \",COUNTRY_INFO!B156)","v":"UIGE"},{"$f":"IF(COUNTRY_INFO!C156=0,\" \",COUNTRY_INFO!C156)","v":"DAMBA"},{"$f":"IF(OR(COUNTRY_INFO!$U$9:$U$1000=\"T1 (PZQ+ALB/MBD)\",COUNTRY_INFO!$V$9:$V$1000=\"T1 (PZQ+ALB/MBD)\"), \"T1 (PZQ+ALB/MBD)\", \" \")","v":"T1 (PZQ+ALB/MBD)"},"PZQ+ALB","Abril 2018",null,21760,21760,null,21760,null,16565,null,16565," ",76.125919117647058," ",76.125919117647058]
[{"$f":"IF(COUNTRY_INFO!A157=0,\" \",COUNTRY_INFO!A157)","v":"Angola"},{"$f":"IF(COUNTRY_INFO!B157=0,\" \",COUNTRY_INFO!B157)","v":"UIGE"},{"$f":"IF(COUNTRY_INFO!C157=0,\" \",COUNTRY_INFO!C157)","v":"MAQUELA DO ZOMBO"},{"$f":"IF(OR(COUNTRY_INFO!$U$9:$U$1000=\"T1 (PZQ+ALB/MBD)\",COUNTRY_INFO!$V$9:$V$1000=\"T1 (PZQ+ALB/MBD)\"), \"T1 (PZQ+ALB/MBD)\", \" \")","v":"T1 (PZQ+ALB/MBD)"},"PZQ+ALB","Abril 2018",null,41690,41690,null,41690,null,30235,null,30235," ",72.523386903334128," ",72.523386903334128]
[{"$f":"IF(COUNTRY_INFO!A158=0,\" \",COUNTRY_INFO!A158)","v":"Angola"},{"$f":"IF(COUNTRY_INFO!B158=0,\" \",COUNTRY_INFO!B158)","v":"UIGE"},{"$f":"IF(COUNTRY_INFO!C158=0,\" \",COUNTRY_INFO!C158)","v":"MILUNGA"},{"$f":"IF(OR(COUNTRY_INFO!$U$9:$U$1000=\"T1 (PZQ+ALB/MBD)\",COUNTRY_INFO!$V$9:$V$1000=\"T1 (PZQ+ALB/MBD)\"), \"T1 (PZQ+ALB/MBD)\", \" \")","v":"T1 (PZQ+ALB/MBD)"},"PZQ+ALB","Abril 2018",null,16563,16563,null,16563,null,18235,null,18235," ",110.09478959125762," ",110.09478959125762]
[{"$f":"IF(COUNTRY_INFO!A159=0,\" \",COUNTRY_INFO!A159)","v":"Angola"},{"$f":"IF(COUNTRY_INFO!B159=0,\" \",COUNTRY_INFO!B159)","v":"UIGE"},{"$f":"IF(COUNTRY_INFO!C159=0,\" \",COUNTRY_INFO!C159)","v":"MUCABA"},{"$f":"IF(OR(COUNTRY_INFO!$U$9:$U$1000=\"T1 (PZQ+ALB/MBD)\",COUNTRY_INFO!$V$9:$V$1000=\"T1 (PZQ+ALB/MBD)\"), \"T1 (PZQ+ALB/MBD)\", \" \")","v":"T1 (PZQ+ALB/MBD)"},"PZQ+ALB","Abril 2018",null,14395,14395,null,14395,null,12154,null,12154," ",84.432094477249038," ",84.432094477249038]
[{"$f":"IF(COUNTRY_INFO!A160=0,\" \",COUNTRY_INFO!A160)","v":"Angola"},{"$f":"IF(COUNTRY_INFO!B160=0,\" \",COUNTRY_INFO!B160)","v":"UIGE"},{"$f":"IF(COUNTRY_INFO!C160=0,\" \",COUNTRY_INFO!C160)","v":"NEGAGE"},{"$f":"IF(OR(COUNTRY_INFO!$U$9:$U$1000=\"T1 (PZQ+ALB/MBD)\",COUNTRY_INFO!$V$9:$V$1000=\"T1 (PZQ+ALB/MBD)\"), \"T1 (PZQ+ALB/MBD)\", \" \")","v":"T1 (PZQ+ALB/MBD)"},"PZQ+ALB","Abril 2018",null,45031,45031,null,45031,null,36517,null,36517," ",81.093024805134235," ",81.093024805134235]
[{"$f":"IF(COUNTRY_INFO!A161=0,\" \",COUNTRY_INFO!A161)","v":"Angola"},{"$f":"IF(COUNTRY_INFO!B161=0,\" \",COUNTRY_INFO!B161)","v":"UIGE"},{"$f":"IF(COUNTRY_INFO!C161=0,\" \",COUNTRY_INFO!C161)","v":"PURI"},{"$f":"IF(OR(COUNTRY_INFO!$U$9:$U$1000=\"T1 (PZQ+ALB/MBD)\",COUNTRY_INFO!$V$9:$V$1000=\"T1 (PZQ+ALB/MBD)\"), \"T1 (PZQ+ALB/MBD)\", \" \")","v":"T1 (PZQ+ALB/MBD)"},"PZQ+ALB","Abril 2018",null,12410,12410,null,12410,null,11487,null,11487," ",92.562449637389193," ",92.562449637389193]
[{"$f":"IF(COUNTRY_INFO!A162=0,\" \",COUNTRY_INFO!A162)","v":"Angola"},{"$f":"IF(COUNTRY_INFO!B162=0,\" \",COUNTRY_INFO!B162)","v":"UIGE"},{"$f":"IF(COUNTRY_INFO!C162=0,\" \",COUNTRY_INFO!C162)","v":"QUIMBELE"},{"$f":"IF(OR(COUNTRY_INFO!$U$9:$U$1000=\"T1 (PZQ+ALB/MBD)\",COUNTRY_INFO!$V$9:$V$1000=\"T1 (PZQ+ALB/MBD)\"), \"T1 (PZQ+ALB/MBD)\", \" \")","v":"T1 (PZQ+ALB/MBD)"},"PZQ+ALB","Abril 2018",null,44683,44683,null,44683,null,35430,null,35430," ",79.291900722869997," ",79.291900722869997]
[{"$f":"IF(COUNTRY_INFO!A163=0,\" \",COUNTRY_INFO!A163)","v":"Angola"},{"$f":"IF(COUNTRY_INFO!B163=0,\" \",COUNTRY_INFO!B163)","v":"UIGE"},{"$f":"IF(COUNTRY_INFO!C163=0,\" \",COUNTRY_INFO!C163)","v":"QUITEXE"},{"$f":"IF(OR(COUNTRY_INFO!$U$9:$U$1000=\"T1 (PZQ+ALB/MBD)\",COUNTRY_INFO!$V$9:$V$1000=\"T1 (PZQ+ALB/MBD)\"), \"T1 (PZQ+ALB/MBD)\", \" \")","v":"T1 (PZQ+ALB/MBD)"},"PZQ+ALB","Abril 2018",null,11227,11227,null,11227,null,10720,null,10720," ",95.484100828360212," ",95.484100828360212]
[{"$f":"IF(COUNTRY_INFO!A164=0,\" \",COUNTRY_INFO!A164)","v":"Angola"},{"$f":"IF(COUNTRY_INFO!B164=0,\" \",COUNTRY_INFO!B164)","v":"UIGE"},{"$f":"IF(COUNTRY_INFO!C164=0,\" \",COUNTRY_INFO!C164)","v":"SANZA POMBO"},{"$f":"IF(OR(COUNTRY_INFO!$U$9:$U$1000=\"T1 (PZQ+ALB/MBD)\",COUNTRY_INFO!$V$9:$V$1000=\"T1 (PZQ+ALB/MBD)\"), \"T1 (PZQ+ALB/MBD)\", \" \")","v":"T1 (PZQ+ALB/MBD)"},"PZQ+ALB","Abril 2018",null,22389,22389,null,22389,null,19086,null,19086," ",85.247219616776093," ",85.247219616776093]
[{"$f":"IF(COUNTRY_INFO!A165=0,\" \",COUNTRY_INFO!A165)","v":"Angola"},{"$f":"IF(COUNTRY_INFO!B165=0,\" \",COUNTRY_INFO!B165)","v":"UIGE"},{"$f":"IF(COUNTRY_INFO!C165=0,\" \",COUNTRY_INFO!C165)","v":"SONGO"},{"$f":"IF(OR(COUNTRY_INFO!$U$9:$U$1000=\"T1 (PZQ+ALB/MBD)\",COUNTRY_INFO!$V$9:$V$1000=\"T1 (PZQ+ALB/MBD)\"), \"T1 (PZQ+ALB/MBD)\", \" \")","v":"T1 (PZQ+ALB/MBD)"},"PZQ+ALB","Abril 2018",null,20192,20192,null,20192,null,16651,null,16651," ",82.463351822503967," ",82.463351822503967]
[{"$f":"IF(COUNTRY_INFO!A166=0,\" \",COUNTRY_INFO!A166)","v":"Angola"},{"$f":"IF(COUNTRY_INFO!B166=0,\" \",COUNTRY_INFO!B166)","v":"UIGE"},{"$f":"IF(COUNTRY_INFO!C166=0,\" \",COUNTRY_INFO!C166)","v":"UIGE"},{"$f":"IF(OR(COUNTRY_INFO!$U$9:$U$1000=\"T1 (PZQ+ALB/MBD)\",COUNTRY_INFO!$V$9:$V$1000=\"T1 (PZQ+ALB/MBD)\"), \"T1 (PZQ+ALB/MBD)\", \" \")","v":"T1 (PZQ+ALB/MBD)"},"PZQ+ALB","Abril 2018",null,169964,169964,null,169964,null,130486,null,130486," ",76.772728342472519," ",76.772728342472519]
[{"$f":"IF(COUNTRY_INFO!A167=0,\" \",COUNTRY_INFO!A167)","v":"Angola"},{"$f":"IF(COUNTRY_INFO!B167=0,\" \",COUNTRY_INFO!B167)","v":"ZAIRE"},{"$f":"IF(COUNTRY_INFO!C167=0,\" \",COUNTRY_INFO!C167)","v":"CUIMBA"},{"$f":"IF(OR(COUNTRY_INFO!$U$9:$U$1000=\"T1 (PZQ+ALB/MBD)\",COUNTRY_INFO!$V$9:$V$1000=\"T1 (PZQ+ALB/MBD)\"), \"T1 (PZQ+ALB/MBD)\", \" \")","v":"T1 (PZQ+ALB/MBD)"},"PZQ+ALB","Julho 2018",null,22651,22651,null,22651,null,16983,null,16983," ",74.97682221535473," ",74.97682221535473]
[{"$f":"IF(COUNTRY_INFO!A168=0,\" \",COUNTRY_INFO!A168)","v":"Angola"},{"$f":"IF(COUNTRY_INFO!B168=0,\" \",COUNTRY_INFO!B168)","v":"ZAIRE"},{"$f":"IF(COUNTRY_INFO!C168=0,\" \",COUNTRY_INFO!C168)","v":"MBANZA KONGO"},{"$f":"IF(OR(COUNTRY_INFO!$U$9:$U$1000=\"T1 (PZQ+ALB/MBD)\",COUNTRY_INFO!$V$9:$V$1000=\"T1 (PZQ+ALB/MBD)\"), \"T1 (PZQ+ALB/MBD)\", \" \")","v":"T1 (PZQ+ALB/MBD)"},"PZQ+ALB","Julho 2018",null,59033,59033,null,59033,null,42239,null,42239," ",71.551505090373183," ",71.551505090373183]
[{"$f":"IF(COUNTRY_INFO!A169=0,\" \",COUNTRY_INFO!A169)","v":"Angola"},{"$f":"IF(COUNTRY_INFO!B169=0,\" \",COUNTRY_INFO!B169)","v":"ZAIRE"},{"$f":"IF(COUNTRY_INFO!C169=0,\" \",COUNTRY_INFO!C169)","v":"NOQUI"},{"$f":"IF(OR(COUNTRY_INFO!$U$9:$U$1000=\"T1 (PZQ+ALB/MBD)\",COUNTRY_INFO!$V$9:$V$1000=\"T1 (PZQ+ALB/MBD)\"), \"T1 (PZQ+ALB/MBD)\", \" \")","v":"T1 (PZQ+ALB/MBD)"},"PZQ+ALB","Julho 2018",null,7817,7817,null,7817,null,7972,null,7972," ",101.98285787386465," ",101.98285787386465]
[{"$f":"IF(COUNTRY_INFO!A170=0,\" \",COUNTRY_INFO!A170)","v":"Angola"},{"$f":"IF(COUNTRY_INFO!B170=0,\" \",COUNTRY_INFO!B170)","v":"ZAIRE"},{"$f":"IF(COUNTRY_INFO!C170=0,\" \",COUNTRY_INFO!C170)","v":"NZETO"},{"$f":"IF(OR(COUNTRY_INFO!$U$9:$U$1000=\"T1 (PZQ+ALB/MBD)\",COUNTRY_INFO!$V$9:$V$1000=\"T1 (PZQ+ALB/MBD)\"), \"T1 (PZQ+ALB/MBD)\", \" \")","v":"T1 (PZQ+ALB/MBD)"},"PZQ+ALB","Julho 2018",null,15656,15656,null,15656,null,13423,null,13423," ",85.737097598364841," ",85.737097598364841]
[{"$f":"IF(COUNTRY_INFO!A171=0,\" \",COUNTRY_INFO!A171)","v":"Angola"},{"$f":"IF(COUNTRY_INFO!B171=0,\" \",COUNTRY_INFO!B171)","v":"ZAIRE"},{"$f":"IF(COUNTRY_INFO!C171=0,\" \",COUNTRY_INFO!C171)","v":"SOYO"},{"$f":"IF(OR(COUNTRY_INFO!$U$9:$U$1000=\"T1 (PZQ+ALB/MBD)\",COUNTRY_INFO!$V$9:$V$1000=\"T1 (PZQ+ALB/MBD)\"), \"T1 (PZQ+ALB/MBD)\", \" \")","v":"T1 (PZQ+ALB/MBD)"},"PZQ+ALB","Julho 2018",null,74368,74368,null,74368,null,36093,null,36093," ",48.532971170395868," ",48.532971170395868]
[{"$f":"IF(COUNTRY_INFO!A172=0,\" \",COUNTRY_INFO!A172)","v":"Angola"},{"$f":"IF(COUNTRY_INFO!B172=0,\" \",COUNTRY_INFO!B172)","v":"ZAIRE"},{"$f":"IF(COUNTRY_INFO!C172=0,\" \",COUNTRY_INFO!C172)","v":"TOMBOCO"},{"$f":"IF(OR(COUNTRY_INFO!$U$9:$U$1000=\"T1 (PZQ+ALB/MBD)\",COUNTRY_INFO!$V$9:$V$1000=\"T1 (PZQ+ALB/MBD)\"), \"T1 (PZQ+ALB/MBD)\", \" \")","v":"T1 (PZQ+ALB/MBD)"},"PZQ+ALB","Julho 2018",null,15067,15067,null,15067,null,11811,null,11811," ",78.389858631446202," ",78.389858631446202]
[]
[]
[]
[]
[]
[]
[]
[null,null,null,null,null,{"$f":"MAX(D180,E180)","v":0}]
[null,null,null,null,null,0]
[null,null,null,null,null,0]
[null,null,null,null,null,0]
[null,null,null,null,null,0]
[null,null,null,null,null,0]
[null,null,null,null,null,0]
[null,null,null,null,null,0]
[null,null,null,null,null,0]
[null,null,null,null,null,0]
[null,null,null,null,null,0]

{"sheet":"T2","index":6,"n_rows":172,"n_cols":17,"rows_kept":172,"cut":false,"hidden":false,"merged":[[5,5,5,8],[5,9,5,12],[5,13,5,16],[3,0,3,2],[5,0,5,2],[5,3,6,3],[5,4,6,4]]}
["T 2 - Praziquantel (PZQ) "]
["Administrative structure, population requiring PC by age group, population treated by age group and coverage"]
[]
["TOTAL",null,null,null,null,{"$f":"SUM(F$9:F$1000)","v":0},397522,0,397522,0,395734,0,395734,{"$f":"IF(F4<>0, IF(J4/F4*100=0, \"-\", J4/F4*100), \" \")","v":" "},{"$f":"IF(G4<>0, IF(K4/G4*100=0, \"-\", K4/G4*100), \" \")","v":99.550213573085273},{"$f":"IF(H4<>0, IF(L4/H4*100=0, \"-\", L4/H4*100), \" \")","v":" "},{"$f":"IF(I4<>0, IF(M4/I4*100=0, \"-\", M4/I4*100), \" \")","v":99.550213573085273}]
[]
[null,null,null,"PC implemented","Date","Population targeted for T2",null,null,null,"Population treated",null,null,null,"Programme coverage (%)"]
["Country","Province/State","District",null,null,"PreSAC","SAC","Adults","Total","PreSAC","SAC","Adults","Total","PreSAC","SAC","Adults","Total"]
[]
[{"$f":"IF(COUNTRY_INFO!A9=0,\" \",COUNTRY_INFO!A9)","v":"Angola"},{"$f":"IF(COUNTRY_INFO!B9=0,\" \",COUNTRY_INFO!B9)","v":"BENGO"},{"$f":"IF(COUNTRY_INFO!C9=0,\" \",COUNTRY_INFO!C9)","v":"AMBRIZ"},{"$f":"IF(OR(COUNTRY_INFO!$U$9:$U$1000=\"T2 (PZQ)\",COUNTRY_INFO!$V$9:$V$1000=\"T2 (PZQ)\"), \"T2 (PZQ)\", \" \")","v":" "},null,null,{"$f":"IF(D9=\" \",\" \",COUNTRY_INFO!F9)","v":" "},null,{"$f":"SUM(F9:H9)","v":0},null,null,null,{"$f":"SUM(J9:L9)","v":0},{"$f":"IF(F9<>0, IF(J9/F9*100=0, \"-\", J9/F9*100), \" \")","v":" "},{"$f":"IF(G9<>0, IF(K9/G9*100=0, \"-\", K9/G9*100), \" \")","v":{"$error":"#VALUE!"}},{"$f":"IF(H9<>0, IF(L9/H9*100=0, \"-\", L9/H9*100), \" \")","v":" "},{"$f":"IF(I9<>0, IF(M9/I9*100=0, \"-\", M9/I9*100), \" \")","v":" "}]
[{"$f":"IF(COUNTRY_INFO!A10=0,\" \",COUNTRY_INFO!A10)","v":"Angola"},{"$f":"IF(COUNTRY_INFO!B10=0,\" \",COUNTRY_INFO!B10)","v":"BENGO"},{"$f":"IF(COUNTRY_INFO!C10=0,\" \",COUNTRY_INFO!C10)","v":"BULA ATUMBA"},{"$f":"IF(OR(COUNTRY_INFO!$U$9:$U$1000=\"T2 (PZQ)\",COUNTRY_INFO!$V$9:$V$1000=\"T2 (PZQ)\"), \"T2 (PZQ)\", \" \")","v":" "},null,null,{"$f":"IF(D10=\" \",\" \",COUNTRY_INFO!F10)","v":" "},null,{"$f":"SUM(F10:H10)","v":0},null,null,null,{"$f":"SUM(J10:L10)","v":0},{"$f":"IF(F10<>0, IF(J10/F10*100=0, \"-\", J10/F10*100), \" \")","v":" "},{"$f":"IF(G10<>0, IF(K10/G10*100=0, \"-\", K10/G10*100), \" \")","v":{"$error":"#VALUE!"}},{"$f":"IF(H10<>0, IF(L10/H10*100=0, \"-\", L10/H10*100), \" \")","v":" "},{"$f":"IF(I10<>0, IF(M10/I10*100=0, \"-\", M10/I10*100), \" \")","v":" "}]
[{"$f":"IF(COUNTRY_INFO!A11=0,\" \",COUNTRY_INFO!A11)","v":"Angola"},{"$f":"IF(COUNTRY_INFO!B11=0,\" \",COUNTRY_INFO!B11)","v":"BENGO"},{"$f":"IF(COUNTRY_INFO!C11=0,\" \",COUNTRY_INFO!C11)","v":"DANDE"},{"$f":"IF(OR(COUNTRY_INFO!$U$9:$U$1000=\"T2 (PZQ)\",COUNTRY_INFO!$V$9:$V$1000=\"T2 (PZQ)\"), \"T2 (PZQ)\", \" \")","v":" "},null,null,{"$f":"IF(D11=\" \",\" \",COUNTRY_INFO!F11)","v":" "},null,0,null,null,null,0," ",{"$error":"#VALUE!"}," "," "]
[{"$f":"IF(COUNTRY_INFO!A12=0,\" \",COUNTRY_INFO!A12)","v":"Angola"},{"$f":"IF(COUNTRY_INFO!B12=0,\" \",COUNTRY_INFO!B12)","v":"BENGO"},{"$f":"IF(COUNTRY_INFO!C12=0,\" \",COUNTRY_INFO!C12)","v":"DEMBOS"},{"$f":"IF(OR(COUNTRY_INFO!$U$9:$U$1000=\"T2 (PZQ)\",COUNTRY_INFO!$V$9:$V$1000=\"T2 (PZQ)\"), \"T2 (PZQ)\", \" \")","v":" "},null,null,{"$f":"IF(D12=\" \",\" \",COUNTRY_INFO!F12)","v":" "},null,0,null,null,null,0," ",{"$error":"#VALUE!"}," "," "]
[{"$f":"IF(COUNTRY_INFO!A13=0,\" \",COUNTRY_INFO!A13)","v":"Angola"},{"$f":"IF(COUNTRY_INFO!B13=0,\" \",COUNTRY_INFO!B13)","v":"BENGO"},{"$f":"IF(COUNTRY_INFO!C13=0,\" \",COUNTRY_INFO!C13)","v":"NAMBUANGONGO"},{"$f":"IF(OR(COUNTRY_INFO!$U$9:$U$1000=\"T2 (PZQ)\",COUNTRY_INFO!$V$9:$V$1000=\"T2 (PZQ)\"), \"T2 (PZQ)\", \" \")","v":" "},null,null,{"$f":"IF(D13=\" \",\" \",COUNTRY_INFO!F13)","v":" "},null,0,null,null,null,0," ",{"$error":"#VALUE!"}," "," "]
[{"$f":"IF(COUNTRY_INFO!A14=0,\" \",COUNTRY_INFO!A14)","v":"Angola"},{"$f":"IF(COUNTRY_INFO!B14=0,\" \",COUNTRY_INFO!B14)","v":"BENGO"},{"$f":"IF(COUNTRY_INFO!C14=0,\" \",COUNTRY_INFO!C14)","v":"PANGO ALUQUEM"},{"$f":"IF(OR(COUNTRY_INFO!$U$9:$U$1000=\"T2 (PZQ)\",COUNTRY_INFO!$V$9:$V$1000=\"T2 (PZQ)\"), \"T2 (PZQ)\", \" \")","v":" "},null,null,{"$f":"IF(D14=\" \",\" \",COUNTRY_INFO!F14)","v":" "},null,0,null,null,null,0," ",{"$error":"#VALUE!"}," "," "]
[{"$f":"IF(COUNTRY_INFO!A15=0,\" \",COUNTRY_INFO!A15)","v":"Angola"},{"$f":"IF(COUNTRY_INFO!B15=0,\" \",COUNTRY_INFO!B15)","v":"BENGUELA"},{"$f":"IF(COUNTRY_INFO!C15=0,\" \",COUNTRY_INFO!C15)","v":"BAIA FARTA"},{"$f":"IF(OR(COUNTRY_INFO!$U$9:$U$1000=\"T2 (PZQ)\",COUNTRY_INFO!$V$9:$V$1000=\"T2 (PZQ)\"), \"T2 (PZQ)\", \" \")","v":" "},null,null,{"$f":"IF(D15=\" \",\" \",COUNTRY_INFO!F15)","v":" "},null,0,null,null,null,0," ",{"$error":"#VALUE!"}," "," "]
[{"$f":"IF(COUNTRY_INFO!A16=0,\" \",COUNTRY_INFO!A16)","v":"Angola"},{"$f":"IF(COUNTRY_INFO!B16=0,\" \",COUNTRY_INFO!B16)","v":"BENGUELA"},{"$f":"IF(COUNTRY_INFO!C16=0,\" \",COUNTRY_INFO!C16)","v":"BALOMBO"},{"$f":"IF(OR(COUNTRY_INFO!$U$9:$U$1000=\"T2 (PZQ)\",COUNTRY_INFO!$V$9:$V$1000=\"T2 (PZQ)\"), \"T2 (PZQ)\", \" \")","v":" "},null,null,{"$f":"IF(D16=\" \",\" \",COUNTRY_INFO!F16)","v":" "},null,0,null,null,null,0," ",{"$error":"#VALUE!"}," "," "]
[{"$f":"IF(COUNTRY_INFO!A17=0,\" \",COUNTRY_INFO!A17)","v":"Angola"},{"$f":"IF(COUNTRY_INFO!B17=0,\" \",COUNTRY_INFO!B17)","v":"BENGUELA"},{"$f":"IF(COUNTRY_INFO!C17=0,\" \",COUNTRY_INFO!C17)","v":"BENGUELA"},{"$f":"IF(OR(COUNTRY_INFO!$U$9:$U$1000=\"T2 (PZQ)\",COUNTRY_INFO!$V$9:$V$1000=\"T2 (PZQ)\"), \"T2 (PZQ)\", \" \")","v":" "},null,null,{"$f":"IF(D17=\" \",\" \",COUNTRY_INFO!F17)","v":" "},null,0,null,null,null,0," ",{"$error":"#VALUE!"}," "," "]
[{"$f":"IF(COUNTRY_INFO!A18=0,\" \",COUNTRY_INFO!A18)","v":"Angola"},{"$f":"IF(COUNTRY_INFO!B18=0,\" \",COUNTRY_INFO!B18)","v":"BENGUELA"},{"$f":"IF(COUNTRY_INFO!C18=0,\" \",COUNTRY_INFO!C18)","v":"BOCOIO"},{"$f":"IF(OR(COUNTRY_INFO!$U$9:$U$1000=\"T2 (PZQ)\",COUNTRY_INFO!$V$9:$V$1000=\"T2 (PZQ)\"), \"T2 (PZQ)\", \" \")","v":" "},null,null,{"$f":"IF(D18=\" \",\" \",COUNTRY_INFO!F18)","v":" "},null,0,null,null,null,0," ",{"$error":"#VALUE!"}," "," "]
[{"$f":"IF(COUNTRY_INFO!A19=0,\" \",COUNTRY_INFO!A19)","v":"Angola"},{"$f":"IF(COUNTRY_INFO!B19=0,\" \",COUNTRY_INFO!B19)","v":"BENGUELA"},{"$f":"IF(COUNTRY_INFO!C19=0,\" \",COUNTRY_INFO!C19)","v":"CAIMBAMBO"},{"$f":"IF(OR(COUNTRY_INFO!$U$9:$U$1000=\"T2 (PZQ)\",COUNTRY_INFO!$V$9:$V$1000=\"T2 (PZQ)\"), \"T2 (PZQ)\", \" \")","v":" "},null,null,{"$f":"IF(D19=\" \",\" \",COUNTRY_INFO!F19)","v":" "},null,0,null,null,null,0," ",{"$error":"#VALUE!"}," "," "]
[{"$f":"IF(COUNTRY_INFO!A20=0,\" \",COUNTRY_INFO!A20)","v":"Angola"},{"$f":"IF(COUNTRY_INFO!B20=0,\" \",COUNTRY_INFO!B20)","v":"BENGUELA"},{"$f":"IF(COUNTRY_INFO!C20=0,\" \",COUNTRY_INFO!C20)","v":"CATUMBELA"},{"$f":"IF(OR(COUNTRY_INFO!$U$9:$U$1000=\"T2 (PZQ)\",COUNTRY_INFO!$V$9:$V$1000=\"T2 (PZQ)\"), \"T2 (PZQ)\", \" \")","v":" "},null,null,{"$f":"IF(D20=\" \",\" \",COUNTRY_INFO!F20)","v":" "},null,0,null,null,null,0," ",{"$error":"#VALUE!"}," "," "]
[{"$f":"IF(COUNTRY_INFO!A21=0,\" \",COUNTRY_INFO!A21)","v":"Angola"},{"$f":"IF(COUNTRY_INFO!B21=0,\" \",COUNTRY_INFO!B21)","v":"BENGUELA"},{"$f":"IF(COUNTRY_INFO!C21=0,\" \",COUNTRY_INFO!C21)","v":"CHONGOROI"},{"$f":"IF(OR(COUNTRY_INFO!$U$9:$U$1000=\"T2 (PZQ)\",COUNTRY_INFO!$V$9:$V$1000=\"T2 (PZQ)\"), \"T2 (PZQ)\", \" \")","v":" "},null,null,{"$f":"IF(D21=\" \",\" \",COUNTRY_INFO!F21)","v":" "},null,0,null,null,null,0," ",{"$error":"#VALUE!"}," "," "]
[{"$f":"IF(COUNTRY_INFO!A22=0,\" \",COUNTRY_INFO!A22)","v":"Angola"},{"$f":"IF(COUNTRY_INFO!B22=0,\" \",COUNTRY_INFO!B22)","v":"BENGUELA"},{"$f":"IF(COUNTRY_INFO!C22=0,\" \",COUNTRY_INFO!C22)","v":"CUBAL"},{"$f":"IF(OR(COUNTRY_INFO!$U$9:$U$1000=\"T2 (PZQ)\",COUNTRY_INFO!$V$9:$V$1000=\"T2 (PZQ)\"), \"T2 (PZQ)\", \" \")","v":" "},null,null,{"$f":"IF(D22=\" \",\" \",COUNTRY_INFO!F22)","v":" "},null,0,null,null,null,0," ",{"$error":"#VALUE!"}," "," "]
[{"$f":"IF(COUNTRY_INFO!A23=0,\" \",COUNTRY_INFO!A23)","v":"Angola"},{"$f":"IF(COUNTRY_INFO!B23=0,\" \",COUNTRY_INFO!B23)","v":"BENGUELA"},{"$f":"IF(COUNTRY_INFO!C23=0,\" \",COUNTRY_INFO!C23)","v":"GANDA"},{"$f":"IF(OR(COUNTRY_INFO!$U$9:$U$1000=\"T2 (PZQ)\",COUNTRY_INFO!$V$9:$V$1000=\"T2 (PZQ)\"), \"T2 (PZQ)\", \" \")","v":" "},null,null,{"$f":"IF(D23=\" \",\" \",COUNTRY_INFO!F23)","v":" "},null,0,null,null,null,0," ",{"$error":"#VALUE!"}," "," "]
[{"$f":"IF(COUNTRY_INFO!A24=0,\" \",COUNTRY_INFO!A24)","v":"Angola"},{"$f":"IF(COUNTRY_INFO!B24=0,\" \",COUNTRY_INFO!B24)","v":"BENGUELA"},{"$f":"IF(COUNTRY_INFO!C24=0,\" \",COUNTRY_INFO!C24)","v":"LOBITO"},{"$f":"IF(OR(COUNTRY_INFO!$U$9:$U$1000=\"T2 (PZQ)\",COUNTRY_INFO!$V$9:$V$1000=\"T2 (PZQ)\"), \"T2 (PZQ)\", \" \")","v":" "},null,null,{"$f":"IF(D24=\" \",\" \",COUNTRY_INFO!F24)","v":" "},null,0,null,null,null,0," ",{"$error":"#VALUE!"}," "," "]
[{"$f":"IF(COUNTRY_INFO!A25=0,\" \",COUNTRY_INFO!A25)","v":"Angola"},{"$f":"IF(COUNTRY_INFO!B25=0,\" \",COUNTRY_INFO!B25)","v":"BIE"},{"$f":"IF(COUNTRY_INFO!C25=0,\" \",COUNTRY_INFO!C25)","v":"ANDULO"},{"$f":"IF(OR(COUNTRY_INFO!$U$9:$U$1000=\"T2 (PZQ)\",COUNTRY_INFO!$V$9:$V$1000=\"T2 (PZQ)\"), \"T2 (PZQ)\", \" \")","v":" "},null,null,{"$f":"IF(D25=\" \",\" \",COUNTRY_INFO!F25)","v":" "},null,0,null,null,null,0," ",{"$error":"#VALUE!"}," "," "]
[{"$f":"IF(COUNTRY_INFO!A26=0,\" \",COUNTRY_INFO!A26)","v":"Angola"},{"$f":"IF(COUNTRY_INFO!B26=0,\" \",COUNTRY_INFO!B26)","v":"BIE"},{"$f":"IF(COUNTRY_INFO!C26=0,\" \",COUNTRY_INFO!C26)","v":"CAMACUPA"},{"$f":"IF(OR(COUNTRY_INFO!$U$9:$U$1000=\"T2 (PZQ)\",COUNTRY_INFO!$V$9:$V$1000=\"T2 (PZQ)\"), \"T2 (PZQ)\", \" \")","v":" "},null,null,{"$f":"IF(D26=\" \",\" \",COUNTRY_INFO!F26)","v":" "},null,0,null,null,null,0," ",{"$error":"#VALUE!"}," "," "]
[{"$f":"IF(COUNTRY_INFO!A27=0,\" \",COUNTRY_INFO!A27)","v":"Angola"},{"$f":"IF(COUNTRY_INFO!B27=0,\" \",COUNTRY_INFO!B27)","v":"BIE"},{"$f":"IF(COUNTRY_INFO!C27=0,\" \",COUNTRY_INFO!C27)","v":"CATABOLA"},{"$f":"IF(OR(COUNTRY_INFO!$U$9:$U$1000=\"T2 (PZQ)\",COUNTRY_INFO!$V$9:$V$1000=\"T2 (PZQ)\"), \"T2 (PZQ)\", \" \")","v":" "},null,null,{"$f":"IF(D27=\" \",\" \",COUNTRY_INFO!F27)","v":" "},null,0,null,null,null,0," ",{"$error":"#VALUE!"}," "," "]
[{"$f":"IF(COUNTRY_INFO!A28=0,\" \",COUNTRY_INFO!A28)","v":"Angola"},{"$f":"IF(COUNTRY_INFO!B28=0,\" \",COUNTRY_INFO!B28)","v":"BIE"},{"$f":"IF(COUNTRY_INFO!C28=0,\" \",COUNTRY_INFO!C28)","v":"CHINGUAR"},{"$f":"IF(OR(COUNTRY_INFO!$U$9:$U$1000=\"T2 (PZQ)\",COUNTRY_INFO!$V$9:$V$1000=\"T2 (PZQ)\"), \"T2 (PZQ)\", \" \")","v":" "},null,null,{"$f":"IF(D28=\" \",\" \",COUNTRY_INFO!F28)","v":" "},null,0,null,null,null,0," ",{"$error":"#VALUE!"}," "," "]
[{"$f":"IF(COUNTRY_INFO!A29=0,\" \",COUNTRY_INFO!A29)","v":"Angola"},{"$f":"IF(COUNTRY_INFO!B29=0,\" \",COUNTRY_INFO!B29)","v":"BIE"},{"$f":"IF(COUNTRY_INFO!C29=0,\" \",COUNTRY_INFO!C29)","v":"CHITEMBO"},{"$f":"IF(OR(COUNTRY_INFO!$U$9:$U$1000=\"T2 (PZQ)\",COUNTRY_INFO!$V$9:$V$1000=\"T2 (PZQ)\"), \"T2 (PZQ)\", \" \")","v":" "},null,null,{"$f":"IF(D29=\" \",\" \",COUNTRY_INFO!F29)","v":" "},null,0,null,null,null,0," ",{"$error":"#VALUE!"}," "," "]
[{"$f":"IF(COUNTRY_INFO!A30=0,\" \",COUNTRY_INFO!A30)","v":"Angola"},{"$f":"IF(COUNTRY_INFO!B30=0,\" \",COUNTRY_INFO!B30)","v":"BIE"},{"$f":"IF(COUNTRY_INFO!C30=0,\" \",COUNTRY_INFO!C30)","v":"CUEMBA"},{"$f":"IF(OR(COUNTRY_INFO!$U$9:$U$1000=\"T2 (PZQ)\",COUNTRY_INFO!$V$9:$V$1000=\"T2 (PZQ)\"), \"T2 (PZQ)\", \" \")","v":" "},null,null,{"$f":"IF(D30=\" \",\" \",COUNTRY_INFO!F30)","v":" "},null,0,null,null,null,0," ",{"$error":"#VALUE!"}," "," "]
[{"$f":"IF(COUNTRY_INFO!A31=0,\" \",COUNTRY_INFO!A31)","v":"Angola"},{"$f":"IF(COUNTRY_INFO!B31=0,\" \",COUNTRY_INFO!B31)","v":"BIE"},{"$f":"IF(COUNTRY_INFO!C31=0,\" \",COUNTRY_INFO!C31)","v":"CUITO"},{"$f":"IF(OR(COUNTRY_INFO!$U$9:$U$1000=\"T2 (PZQ)\",COUNTRY_INFO!$V$9:$V$1000=\"T2 (PZQ)\"), \"T2 (PZQ)\", \" \")","v":" "},null,null,{"$f":"IF(D31=\" \",\" \",COUNTRY_INFO!F31)","v":" "},null,0,null,null,null,0," ",{"$error":"#VALUE!"}," "," "]
[{"$f":"IF(COUNTRY_INFO!A32=0,\" \",COUNTRY_INFO!A32)","v":"Angola"},{"$f":"IF(COUNTRY_INFO!B32=0,\" \",COUNTRY_INFO!B32)","v":"BIE"},{"$f":"IF(COUNTRY_INFO!C32=0,\" \",COUNTRY_INFO!C32)","v":"CUNHINGA"},{"$f":"IF(OR(COUNTRY_INFO!$U$9:$U$1000=\"T2 (PZQ)\",COUNTRY_INFO!$V$9:$V$1000=\"T2 (PZQ)\"), \"T2 (PZQ)\", \" \")","v":" "},null,null,{"$f":"IF(D32=\" \",\" \",COUNTRY_INFO!F32)","v":" "},null,0,null,null,null,0," ",{"$f":"IF(G32<>0, IF(K32/G32*100=0, \"-\", K32/G32*100), \" \")","v":{"$error":"#VALUE!"}}," "," "]
[{"$f":"IF(COUNTRY_INFO!A33=0,\" \",COUNTRY_INFO!A33)","v":"Angola"},{"$f":"IF(COUNTRY_INFO!B33=0,\" \",COUNTRY_INFO!B33)","v":"BIE"},{"$f":"IF(COUNTRY_INFO!C33=0,\" \",COUNTRY_INFO!C33)","v":"NHAREA"},{"$f":"IF(OR(COUNTRY_INFO!$U$9:$U$1000=\"T2 (PZQ)\",COUNTRY_INFO!$V$9:$V$1000=\"T2 (PZQ)\"), \"T2 (PZQ)\", \" \")","v":" "},null,null,{"$f":"IF(D33=\" \",\" \",COUNTRY_INFO!F33)","v":" "},null,0,null,null,null,0," ",{"$error":"#VALUE!"}," "," "]
[{"$f":"IF(COUNTRY_INFO!A34=0,\" \",COUNTRY_INFO!A34)","v":"Angola"},{"$f":"IF(COUNTRY_INFO!B34=0,\" \",COUNTRY_INFO!B34)","v":"CABINDA"},{"$f":"IF(COUNTRY_INFO!C34=0,\" \",COUNTRY_INFO!C34)","v":"BELIZE"},{"$f":"IF(OR(COUNTRY_INFO!$U$9:$U$1000=\"T2 (PZQ)\",COUNTRY_INFO!$V$9:$V$1000=\"T2 (PZQ)\"), \"T2 (PZQ)\", \" \")","v":" "},null,null,{"$f":"IF(D34=\" \",\" \",COUNTRY_INFO!F34)","v":" "},null,0,null,null,null,0," ",{"$error":"#VALUE!"}," "," "]
[{"$f":"IF(COUNTRY_INFO!A35=0,\" \",COUNTRY_INFO!A35)","v":"Angola"},{"$f":"IF(COUNTRY_INFO!B35=0,\" \",COUNTRY_INFO!B35)","v":"CABINDA"},{"$f":"IF(COUNTRY_INFO!C35=0,\" \",COUNTRY_INFO!C35)","v":"BUCO ZAU"},{"$f":"IF(OR(COUNTRY_INFO!$U$9:$U$1000=\"T2 (PZQ)\",COUNTRY_INFO!$V$9:$V$1000=\"T2 (PZQ)\"), \"T2 (PZQ)\", \" \")","v":" "},null,null,{"$f":"IF(D35=\" \",\" \",COUNTRY_INFO!F35)","v":" "},null,0,null,null,null,0," ",{"$error":"#VALUE!"}," "," "]
[{"$f":"IF(COUNTRY_INFO!A36=0,\" \",COUNTRY_INFO!A36)","v":"Angola"},{"$f":"IF(COUNTRY_INFO!B36=0,\" \",COUNTRY_INFO!B36)","v":"CABINDA"},{"$f":"IF(COUNTRY_INFO!C36=0,\" \",COUNTRY_INFO!C36)","v":"CABINDA"},{"$f":"IF(OR(COUNTRY_INFO!$U$9:$U$1000=\"T2 (PZQ)\",COUNTRY_INFO!$V$9:$V$1000=\"T2 (PZQ)\"), \"T2 (PZQ)\", \" \")","v":" "},null,null,{"$f":"IF(D36=\" \",\" \",COUNTRY_INFO!F36)","v":" "},null,0,null,null,null,0," ",{"$error":"#VALUE!"}," "," "]
[{"$f":"IF(COUNTRY_INFO!A37=0,\" \",COUNTRY_INFO!A37)","v":"Angola"},{"$f":"IF(COUNTRY_INFO!B37=0,\" \",COUNTRY_INFO!B37)","v":"CABINDA"},{"$f":"IF(COUNTRY_INFO!C37=0,\" \",COUNTRY_INFO!C37)","v":"CACONGO"},{"$f":"IF(OR(COUNTRY_INFO!$U$9:$U$1000=\"T2 (PZQ)\",COUNTRY_INFO!$V$9:$V$1000=\"T2 (PZQ)\"), \"T2 (PZQ)\", \" \")","v":" "},null,null,{"$f":"IF(D37=\" \",\" \",COUNTRY_INFO!F37)","v":" "},null,0,null,null,null,0," ",{"$error":"#VALUE!"}," "," "]
[{"$f":"IF(COUNTRY_INFO!A38=0,\" \",COUNTRY_INFO!A38)","v":"Angola"},{"$f":"IF(COUNTRY_INFO!B38=0,\" \",COUNTRY_INFO!B38)","v":"CUANDO CUBANGO"},{"$f":"IF(COUNTRY_INFO!C38=0,\" \",COUNTRY_INFO!C38)","v":"CALAI"},{"$f":"IF(OR(COUNTRY_INFO!$U$9:$U$1000=\"T2 (PZQ)\",COUNTRY_INFO!$V$9:$V$1000=\"T2 (PZQ)\"), \"T2 (PZQ)\", \" \")","v":" "},null,null,{"$f":"IF(D38=\" \",\" \",COUNTRY_INFO!F38)","v":" "},null,0,null,null,null,0," ",{"$error":"#VALUE!"}," "," "]
[{"$f":"IF(COUNTRY_INFO!A39=0,\" \",COUNTRY_INFO!A39)","v":"Angola"},{"$f":"IF(COUNTRY_INFO!B39=0,\" \",COUNTRY_INFO!B39)","v":"CUANDO CUBANGO"},{"$f":"IF(COUNTRY_INFO!C39=0,\" \",COUNTRY_INFO!C39)","v":"CUANGAR"},{"$f":"IF(OR(COUNTRY_INFO!$U$9:$U$1000=\"T2 (PZQ)\",COUNTRY_INFO!$V$9:$V$1000=\"T2 (PZQ)\"), \"T2 (PZQ)\", \" \")","v":" "},null,null,{"$f":"IF(D39=\" \",\" \",COUNTRY_INFO!F39)","v":" "},null,0,null,null,null,0," ",{"$error":"#VALUE!"}," "," "]
[{"$f":"IF(COUNTRY_INFO!A40=0,\" \",COUNTRY_INFO!A40)","v":"Angola"},{"$f":"IF(COUNTRY_INFO!B40=0,\" \",COUNTRY_INFO!B40)","v":"CUANDO CUBANGO"},{"$f":"IF(COUNTRY_INFO!C40=0,\" \",COUNTRY_INFO!C40)","v":"CUCHI"},{"$f":"IF(OR(COUNTRY_INFO!$U$9:$U$1000=\"T2 (PZQ)\",COUNTRY_INFO!$V$9:$V$1000=\"T2 (PZQ)\"), \"T2 (PZQ)\", \" \")","v":" "},null,null,{"$f":"IF(D40=\" \",\" \",COUNTRY_INFO!F40)","v":" "},null,0,null,null,null,0," ",{"$error":"#VALUE!"}," "," "]
[{"$f":"IF(COUNTRY_INFO!A41=0,\" \",COUNTRY_INFO!A41)","v":"Angola"},{"$f":"IF(COUNTRY_INFO!B41=0,\" \",COUNTRY_INFO!B41)","v":"CUANDO CUBANGO"},{"$f":"IF(COUNTRY_INFO!C41=0,\" \",COUNTRY_INFO!C41)","v":"CUITO CUANAVALE"},{"$f":"IF(OR(COUNTRY_INFO!$U$9:$U$1000=\"T2 (PZQ)\",COUNTRY_INFO!$V$9:$V$1000=\"T2 (PZQ)\"), \"T2 (PZQ)\", \" \")","v":" "},null,null,{"$f":"IF(D41=\" \",\" \",COUNTRY_INFO!F41)","v":" "},null,0,null,null,null,0," ",{"$error":"#VALUE!"}," "," "]
[{"$f":"IF(COUNTRY_INFO!A42=0,\" \",COUNTRY_INFO!A42)","v":"Angola"},{"$f":"IF(COUNTRY_INFO!B42=0,\" \",COUNTRY_INFO!B42)","v":"CUANDO CUBANGO"},{"$f":"IF(COUNTRY_INFO!C42=0,\" \",COUNTRY_INFO!C42)","v":"DIRICO"},{"$f":"IF(OR(COUNTRY_INFO!$U$9:$U$1000=\"T2 (PZQ)\",COUNTRY_INFO!$V$9:$V$1000=\"T2 (PZQ)\"), \"T2 (PZQ)\", \" \")","v":" "},null,null,{"$f":"IF(D42=\" \",\" \",COUNTRY_INFO!F42)","v":" "},null,0,null,null,null,0," ",{"$error":"#VALUE!"}," "," "]
[{"$f":"IF(COUNTRY_INFO!A43=0,\" \",COUNTRY_INFO!A43)","v":"Angola"},{"$f":"IF(COUNTRY_INFO!B43=0,\" \",COUNTRY_INFO!B43)","v":"CUANDO CUBANGO"},{"$f":"IF(COUNTRY_INFO!C43=0,\" \",COUNTRY_INFO!C43)","v":"MAVINGA"},{"$f":"IF(OR(COUNTRY_INFO!$U$9:$U$1000=\"T2 (PZQ)\",COUNTRY_INFO!$V$9:$V$1000=\"T2 (PZQ)\"), \"T2 (PZQ)\", \" \")","v":" "},null,null,{"$f":"IF(D43=\" \",\" \",COUNTRY_INFO!F43)","v":" "},null,0,null,null,null,0," ",{"$error":"#VALUE!"}," "," "]
[{"$f":"IF(COUNTRY_INFO!A44=0,\" \",COUNTRY_INFO!A44)","v":"Angola"},{"$f":"IF(COUNTRY_INFO!B44=0,\" \",COUNTRY_INFO!B44)","v":"CUANDO CUBANGO"},{"$f":"IF(COUNTRY_INFO!C44=0,\" \",COUNTRY_INFO!C44)","v":"MENONGUE"},{"$f":"IF(OR(COUNTRY_INFO!$U$9:$U$1000=\"T2 (PZQ)\",COUNTRY_INFO!$V$9:$V$1000=\"T2 (PZQ)\"), \"T2 (PZQ)\", \" \")","v":" "},null,null,{"$f":"IF(D44=\" \",\" \",COUNTRY_INFO!F44)","v":" "},null,0,null,null,null,0," ",{"$error":"#VALUE!"}," "," "]
[{"$f":"IF(COUNTRY_INFO!A45=0,\" \",COUNTRY_INFO!A45)","v":"Angola"},{"$f":"IF(COUNTRY_INFO!B45=0,\" \",COUNTRY_INFO!B45)","v":"CUANDO CUBANGO"},{"$f":"IF(COUNTRY_INFO!C45=0,\" \",COUNTRY_INFO!C45)","v":"NANKOVA"},{"$f":"IF(OR(COUNTRY_INFO!$U$9:$U$1000=\"T2 (PZQ)\",COUNTRY_INFO!$V$9:$V$1000=\"T2 (PZQ)\"), \"T2 (PZQ)\", \" \")","v":" "},null,null,{"$f":"IF(D45=\" \",\" \",COUNTRY_INFO!F45)","v":" "},null,0,null,null,null,0," ",{"$error":"#VALUE!"}," "," "]
[{"$f":"IF(COUNTRY_INFO!A46=0,\" \",COUNTRY_INFO!A46)","v":"Angola"},{"$f":"IF(COUNTRY_INFO!B46=0,\" \",COUNTRY_INFO!B46)","v":"CUANDO CUBANGO"},{"$f":"IF(COUNTRY_INFO!C46=0,\" \",COUNTRY_INFO!C46)","v":"RIVUNGO"},{"$f":"IF(OR(COUNTRY_INFO!$U$9:$U$1000=\"T2 (PZQ)\",COUNTRY_INFO!$V$9:$V$1000=\"T2 (PZQ)\"), \"T2 (PZQ)\", \" \")","v":" "},null,null,{"$f":"IF(D46=\" \",\" \",COUNTRY_INFO!F46)","v":" "},null,0,null,null,null,0," ",{"$error":"#VALUE!"}," "," "]
[{"$f":"IF(COUNTRY_INFO!A47=0,\" \",COUNTRY_INFO!A47)","v":"Angola"},{"$f":"IF(COUNTRY_INFO!B47=0,\" \",COUNTRY_INFO!B47)","v":"CUANZA NORTE"},{"$f":"IF(COUNTRY_INFO!C47=0,\" \",COUNTRY_INFO!C47)","v":"AMBACA"},{"$f":"IF(OR(COUNTRY_INFO!$U$9:$U$1000=\"T2 (PZQ)\",COUNTRY_INFO!$V$9:$V$1000=\"T2 (PZQ)\"), \"T2 (PZQ)\", \" \")","v":" "},null,null,{"$f":"IF(D47=\" \",\" \",COUNTRY_INFO!F47)","v":" "},null,0,null,null,null,0," ",{"$error":"#VALUE!"}," "," "]
[{"$f":"IF(COUNTRY_INFO!A48=0,\" \",COUNTRY_INFO!A48)","v":"Angola"},{"$f":"IF(COUNTRY_INFO!B48=0,\" \",COUNTRY_INFO!B48)","v":"CUANZA NORTE"},{"$f":"IF(COUNTRY_INFO!C48=0,\" \",COUNTRY_INFO!C48)","v":"BANGA"},{"$f":"IF(OR(COUNTRY_INFO!$U$9:$U$1000=\"T2 (PZQ)\",COUNTRY_INFO!$V$9:$V$1000=\"T2 (PZQ)\"), \"T2 (PZQ)\", \" \")","v":" "},null,null,{"$f":"IF(D48=\" \",\" \",COUNTRY_INFO!F48)","v":" "},null,0,null,null,null,0," ",{"$error":"#VALUE!"}," "," "]
[{"$f":"IF(COUNTRY_INFO!A49=0,\" \",COUNTRY_INFO!A49)","v":"Angola"},{"$f":"IF(COUNTRY_INFO!B49=0,\" \",COUNTRY_INFO!B49)","v":"CUANZA NORTE"},{"$f":"IF(COUNTRY_INFO!C49=0,\" \",COUNTRY_INFO!C49)","v":"BOLONGONGO"},{"$f":"IF(OR(COUNTRY_INFO!$U$9:$U$1000=\"T2 (PZQ)\",COUNTRY_INFO!$V$9:$V$1000=\"T2 (PZQ)\"), \"T2 (PZQ)\", \" \")","v":" "},null,null,{"$f":"IF(D49=\" \",\" \",COUNTRY_INFO!F49)","v":" "},null,0,null,null,null,0," ",{"$error":"#VALUE!"}," "," "]
[{"$f":"IF(COUNTRY_INFO!A50=0,\" \",COUNTRY_INFO!A50)","v":"Angola"},{"$f":"IF(COUNTRY_INFO!B50=0,\" \",COUNTRY_INFO!B50)","v":"CUANZA NORTE"},{"$f":"IF(COUNTRY_INFO!C50=0,\" \",COUNTRY_INFO!C50)","v":"CAMBAMBE"},{"$f":"IF(OR(COUNTRY_INFO!$U$9:$U$1000=\"T2 (PZQ)\",COUNTRY_INFO!$V$9:$V$1000=\"T2 (PZQ)\"), \"T2 (PZQ)\", \" \")","v":" "},null,null,{"$f":"IF(D50=\" \",\" \",COUNTRY_INFO!F50)","v":" "},null,0,null,null,null,0," ",{"$error":"#VALUE!"}," "," "]
[{"$f":"IF(COUNTRY_INFO!A51=0,\" \",COUNTRY_INFO!A51)","v":"Angola"},{"$f":"IF(COUNTRY_INFO!B51=0,\" \",COUNTRY_INFO!B51)","v":"CUANZA NORTE"},{"$f":"IF(COUNTRY_INFO!C51=0,\" \",COUNTRY_INFO!C51)","v":"CAZENGO"},{"$f":"IF(OR(COUNTRY_INFO!$U$9:$U$1000=\"T2 (PZQ)\",COUNTRY_INFO!$V$9:$V$1000=\"T2 (PZQ)\"), \"T2 (PZQ)\", \" \")","v":" "},null,null,{"$f":"IF(D51=\" \",\" \",COUNTRY_INFO!F51)","v":" "},null,0,null,null,null,0," ",{"$error":"#VALUE!"}," "," "]
[{"$f":"IF(COUNTRY_INFO!A52=0,\" \",COUNTRY_INFO!A52)","v":"Angola"},{"$f":"IF(COUNTRY_INFO!B52=0,\" \",COUNTRY_INFO!B52)","v":"CUANZA NORTE"},{"$f":"IF(COUNTRY_INFO!C52=0,\" \",COUNTRY_INFO!C52)","v":"GOLUNGO ALTO"},{"$f":"IF(OR(COUNTRY_INFO!$U$9:$U$1000=\"T2 (PZQ)\",COUNTRY_INFO!$V$9:$V$1000=\"T2 (PZQ)\"), \"T2 (PZQ)\", \" \")","v":" "},null,null,{"$f":"IF(D52=\" \",\" \",COUNTRY_INFO!F52)","v":" "},null,0,null,null,null,0," ",{"$error":"#VALUE!"}," "," "]
[{"$f":"IF(COUNTRY_INFO!A53=0,\" \",COUNTRY_INFO!A53)","v":"Angola"},{"$f":"IF(COUNTRY_INFO!B53=0,\" \",COUNTRY_INFO!B53)","v":"CUANZA NORTE"},{"$f":"IF(COUNTRY_INFO!C53=0,\" \",COUNTRY_INFO!C53)","v":"GONGUEMBO"},{"$f":"IF(OR(COUNTRY_INFO!$U$9:$U$1000=\"T2 (PZQ)\",COUNTRY_INFO!$V$9:$V$1000=\"T2 (PZQ)\"), \"T2 (PZQ)\", \" \")","v":" "},null,null,{"$f":"IF(D53=\" \",\" \",COUNTRY_INFO!F53)","v":" "},null,0,null,null,null,0," ",{"$error":"#VALUE!"}," "," "]
[{"$f":"IF(COUNTRY_INFO!A54=0,\" \",COUNTRY_INFO!A54)","v":"Angola"},{"$f":"IF(COUNTRY_INFO!B54=0,\" \",COUNTRY_INFO!B54)","v":"CUANZA NORTE"},{"$f":"IF(COUNTRY_INFO!C54=0,\" \",COUNTRY_INFO!C54)","v":"LUCALA"},{"$f":"IF(OR(COUNTRY_INFO!$U$9:$U$1000=\"T2 (PZQ)\",COUNTRY_INFO!$V$9:$V$1000=\"T2 (PZQ)\"), \"T2 (PZQ)\", \" \")","v":" "},null,null,{"$f":"IF(D54=\" \",\" \",COUNTRY_INFO!F54)","v":" "},null,0,null,null,null,0," ",{"$error":"#VALUE!"}," "," "]
[{"$f":"IF(COUNTRY_INFO!A55=0,\" \",COUNTRY_INFO!A55)","v":"Angola"},{"$f":"IF(COUNTRY_INFO!B55=0,\" \",COUNTRY_INFO!B55)","v":"CUANZA NORTE"},{"$f":"IF(COUNTRY_INFO!C55=0,\" \",COUNTRY_INFO!C55)","v":"QUICULUNGO"},{"$f":"IF(OR(COUNTRY_INFO!$U$9:$U$1000=\"T2 (PZQ)\",COUNTRY_INFO!$V$9:$V$1000=\"T2 (PZQ)\"), \"T2 (PZQ)\", \" \")","v":" "},null,null,{"$f":"IF(D55=\" \",\" \",COUNTRY_INFO!F55)","v":" "},null,0,null,null,null,0," ",{"$error":"#VALUE!"}," "," "]
[{"$f":"IF(COUNTRY_INFO!A56=0,\" \",COUNTRY_INFO!A56)","v":"Angola"},{"$f":"IF(COUNTRY_INFO!B56=0,\" \",COUNTRY_INFO!B56)","v":"CUANZA NORTE"},{"$f":"IF(COUNTRY_INFO!C56=0,\" \",COUNTRY_INFO!C56)","v":"SAMBA CAJU"},{"$f":"IF(OR(COUNTRY_INFO!$U$9:$U$1000=\"T2 (PZQ)\",COUNTRY_INFO!$V$9:$V$1000=\"T2 (PZQ)\"), \"T2 (PZQ)\", \" \")","v":" "},null,null,{"$f":"IF(D56=\" \",\" \",COUNTRY_INFO!F56)","v":" "},null,0,null,null,null,0," ",{"$error":"#VALUE!"}," "," "]
[{"$f":"IF(COUNTRY_INFO!A57=0,\" \",COUNTRY_INFO!A57)","v":"Angola"},{"$f":"IF(COUNTRY_INFO!B57=0,\" \",COUNTRY_INFO!B57)","v":"CUANZA SUL"},{"$f":"IF(COUNTRY_INFO!C57=0,\" \",COUNTRY_INFO!C57)","v":"AMBOIM"},{"$f":"IF(OR(COUNTRY_INFO!$U$9:$U$1000=\"T2 (PZQ)\",COUNTRY_INFO!$V$9:$V$1000=\"T2 (PZQ)\"), \"T2 (PZQ)\", \" \")","v":" "},null,null,{"$f":"IF(D57=\" \",\" \",COUNTRY_INFO!F57)","v":" "},null,0,null,null,null,0," ",{"$error":"#VALUE!"}," "," "]
[{"$f":"IF(COUNTRY_INFO!A58=0,\" \",COUNTRY_INFO!A58)","v":"Angola"},{"$f":"IF(COUNTRY_INFO!B58=0,\" \",COUNTRY_INFO!B58)","v":"CUANZA SUL"},{"$f":"IF(COUNTRY_INFO!C58=0,\" \",COUNTRY_INFO!C58)","v":"CASSONGUE"},{"$f":"IF(OR(COUNTRY_INFO!$U$9:$U$1000=\"T2 (PZQ)\",COUNTRY_INFO!$V$9:$V$1000=\"T2 (PZQ)\"), \"T2 (PZQ)\", \" \")","v":" "},null,null,{"$f":"IF(D58=\" \",\" \",COUNTRY_INFO!F58)","v":" "},null,0,null,null,null,0," ",{"$error":"#VALUE!"}," "," "]
[{"$f":"IF(COUNTRY_INFO!A59=0,\" \",COUNTRY_INFO!A59)","v":"Angola"},{"$f":"IF(COUNTRY_INFO!B59=0,\" \",COUNTRY_INFO!B59)","v":"CUANZA SUL"},{"$f":"IF(COUNTRY_INFO!C59=0,\" \",COUNTRY_INFO!C59)","v":"CELA (Waku Kungo)"},{"$f":"IF(OR(COUNTRY_INFO!$U$9:$U$1000=\"T2 (PZQ)\",COUNTRY_INFO!$V$9:$V$1000=\"T2 (PZQ)\"), \"T2 (PZQ)\", \" \")","v":" "},null,null,{"$f":"IF(D59=\" \",\" \",COUNTRY_INFO!F59)","v":" "},null,0,null,null,null,0," ",{"$error":"#VALUE!"}," "," "]
[{"$f":"IF(COUNTRY_INFO!A60=0,\" \",COUNTRY_INFO!A60)","v":"Angola"},{"$f":"IF(COUNTRY_INFO!B60=0,\" \",COUNTRY_INFO!B60)","v":"CUANZA SUL"},{"$f":"IF(COUNTRY_INFO!C60=0,\" \",COUNTRY_INFO!C60)","v":"CONDA"},{"$f":"IF(OR(COUNTRY_INFO!$U$9:$U$1000=\"T2 (PZQ)\",COUNTRY_INFO!$V$9:$V$1000=\"T2 (PZQ)\"), \"T2 (PZQ)\", \" \")","v":" "},null,null,{"$f":"IF(D60=\" \",\" \",COUNTRY_INFO!F60)","v":" "},null,0,null,null,null,0," ",{"$error":"#VALUE!"}," "," "]
[{"$f":"IF(COUNTRY_INFO!A61=0,\" \",COUNTRY_INFO!A61)","v":"Angola"},{"$f":"IF(COUNTRY_INFO!B61=0,\" \",COUNTRY_INFO!B61)","v":"CUANZA SUL"},{"$f":"IF(COUNTRY_INFO!C61=0,\" \",COUNTRY_INFO!C61)","v":"EBO"},{"$f":"IF(OR(COUNTRY_INFO!$U$9:$U$1000=\"T2 (PZQ)\",COUNTRY_INFO!$V$9:$V$1000=\"T2 (PZQ)\"), \"T2 (PZQ)\", \" \")","v":" "},null,null,{"$f":"IF(D61=\" \",\" \",COUNTRY_INFO!F61)","v":" "},null,0,null,null,null,0," ",{"$error":"#VALUE!"}," "," "]
[{"$f":"IF(COUNTRY_INFO!A62=0,\" \",COUNTRY_INFO!A62)","v":"Angola"},{"$f":"IF(COUNTRY_INFO!B62=0,\" \",COUNTRY_INFO!B62)","v":"CUANZA SUL"},{"$f":"IF(COUNTRY_INFO!C62=0,\" \",COUNTRY_INFO!C62)","v":"LIBOLO"},{"$f":"IF(OR(COUNTRY_INFO!$U$9:$U$1000=\"T2 (PZQ)\",COUNTRY_INFO!$V$9:$V$1000=\"T2 (PZQ)\"), \"T2 (PZQ)\", \" \")","v":" "},null,null,{"$f":"IF(D62=\" \",\" \",COUNTRY_INFO!F62)","v":" "},null,0,null,null,null,0," ",{"$error":"#VALUE!"}," "," "]
[{"$f":"IF(COUNTRY_INFO!A63=0,\" \",COUNTRY_INFO!A63)","v":"Angola"},{"$f":"IF(COUNTRY_INFO!B63=0,\" \",COUNTRY_INFO!B63)","v":"CUANZA SUL"},{"$f":"IF(COUNTRY_INFO!C63=0,\" \",COUNTRY_INFO!C63)","v":"MUSSENDE"},{"$f":"IF(OR(COUNTRY_INFO!$U$9:$U$1000=\"T2 (PZQ)\",COUNTRY_INFO!$V$9:$V$1000=\"T2 (PZQ)\"), \"T2 (PZQ)\", \" \")","v":" "},null,null,{"$f":"IF(D63=\" \",\" \",COUNTRY_INFO!F63)","v":" "},null,0,null,null,null,0," ",{"$error":"#VALUE!"}," "," "]
[{"$f":"IF(COUNTRY_INFO!A64=0,\" \",COUNTRY_INFO!A64)","v":"Angola"},{"$f":"IF(COUNTRY_INFO!B64=0,\" \",COUNTRY_INFO!B64)","v":"CUANZA SUL"},{"$f":"IF(COUNTRY_INFO!C64=0,\" \",COUNTRY_INFO!C64)","v":"PORTO AMBOIM"},{"$f":"IF(OR(COUNTRY_INFO!$U$9:$U$1000=\"T2 (PZQ)\",COUNTRY_INFO!$V$9:$V$1000=\"T2 (PZQ)\"), \"T2 (PZQ)\", \" \")","v":" "},null,null,{"$f":"IF(D64=\" \",\" \",COUNTRY_INFO!F64)","v":" "},null,0,null,null,null,0," ",{"$error":"#VALUE!"}," "," "]
[{"$f":"IF(COUNTRY_INFO!A65=0,\" \",COUNTRY_INFO!A65)","v":"Angola"},{"$f":"IF(COUNTRY_INFO!B65=0,\" \",COUNTRY_INFO!B65)","v":"CUANZA SUL"},{"$f":"IF(COUNTRY_INFO!C65=0,\" \",COUNTRY_INFO!C65)","v":"QUIBALA"},{"$f":"IF(OR(COUNTRY_INFO!$U$9:$U$1000=\"T2 (PZQ)\",COUNTRY_INFO!$V$9:$V$1000=\"T2 (PZQ)\"), \"T2 (PZQ)\", \" \")","v":" "},null,null,{"$f":"IF(D65=\" \",\" \",COUNTRY_INFO!F65)","v":" "},null,0,null,null,null,0," ",{"$error":"#VALUE!"}," "," "]
[{"$f":"IF(COUNTRY_INFO!A66=0,\" \",COUNTRY_INFO!A66)","v":"Angola"},{"$f":"IF(COUNTRY_INFO!B66=0,\" \",COUNTRY_INFO!B66)","v":"CUANZA SUL"},{"$f":"IF(COUNTRY_INFO!C66=0,\" \",COUNTRY_INFO!C66)","v":"QUILENDA"},{"$f":"IF(OR(COUNTRY_INFO!$U$9:$U$1000=\"T2 (PZQ)\",COUNTRY_INFO!$V$9:$V$1000=\"T2 (PZQ)\"), \"T2 (PZQ)\", \" \")","v":" "},null,null,{"$f":"IF(D66=\" \",\" \",COUNTRY_INFO!F66)","v":" "},null,0,null,null,null,0," ",{"$error":"#VALUE!"}," "," "]
[{"$f":"IF(COUNTRY_INFO!A67=0,\" \",COUNTRY_INFO!A67)","v":"Angola"},{"$f":"IF(COUNTRY_INFO!B67=0,\" \",COUNTRY_INFO!B67)","v":"CUANZA SUL"},{"$f":"IF(COUNTRY_INFO!C67=0,\" \",COUNTRY_INFO!C67)","v":"SELES"},{"$f":"IF(OR(COUNTRY_INFO!$U$9:$U$1000=\"T2 (PZQ)\",COUNTRY_INFO!$V$9:$V$1000=\"T2 (PZQ)\"), \"T2 (PZQ)\", \" \")","v":" "},null,null,{"$f":"IF(D67=\" \",\" \",COUNTRY_INFO!F67)","v":" "},null,0,null,null,null,0," ",{"$error":"#VALUE!"}," "," "]
[{"$f":"IF(COUNTRY_INFO!A68=0,\" \",COUNTRY_INFO!A68)","v":"Angola"},{"$f":"IF(COUNTRY_INFO!B68=0,\" \",COUNTRY_INFO!B68)","v":"CUANZA SUL"},{"$f":"IF(COUNTRY_INFO!C68=0,\" \",COUNTRY_INFO!C68)","v":"SUMBE"},{"$f":"IF(OR(COUNTRY_INFO!$U$9:$U$1000=\"T2 (PZQ)\",COUNTRY_INFO!$V$9:$V$1000=\"T2 (PZQ)\"), \"T2 (PZQ)\", \" \")","v":" "},null,null,{"$f":"IF(D68=\" \",\" \",COUNTRY_INFO!F68)","v":" "},null,0,null,null,null,0," ",{"$error":"#VALUE!"}," "," "]
[{"$f":"IF(COUNTRY_INFO!A69=0,\" \",COUNTRY_INFO!A69)","v":"Angola"},{"$f":"IF(COUNTRY_INFO!B69=0,\" \",COUNTRY_INFO!B69)","v":"CUNENE"},{"$f":"IF(COUNTRY_INFO!C69=0,\" \",COUNTRY_INFO!C69)","v":"CAHAMA"},{"$f":"IF(OR(COUNTRY_INFO!$U$9:$U$1000=\"T2 (PZQ)\",COUNTRY_INFO!$V$9:$V$1000=\"T2 (PZQ)\"), \"T2 (PZQ)\", \" \")","v":" "},null,null,{"$f":"IF(D69=\" \",\" \",COUNTRY_INFO!F69)","v":" "},null,0,null,null,null,0," ",{"$error":"#VALUE!"}," "," "]
[{"$f":"IF(COUNTRY_INFO!A70=0,\" \",COUNTRY_INFO!A70)","v":"Angola"},{"$f":"IF(COUNTRY_INFO!B70=0,\" \",COUNTRY_INFO!B70)","v":"CUNENE"},{"$f":"IF(COUNTRY_INFO!C70=0,\" \",COUNTRY_INFO!C70)","v":"CUANHAMA"},{"$f":"IF(OR(COUNTRY_INFO!$U$9:$U$1000=\"T2 (PZQ)\",COUNTRY_INFO!$V$9:$V$1000=\"T2 (PZQ)\"), \"T2 (PZQ)\", \" \")","v":" "},null,null,{"$f":"IF(D70=\" \",\" \",COUNTRY_INFO!F70)","v":" "},null,0,null,null,null,0," ",{"$error":"#VALUE!"}," "," "]
[{"$f":"IF(COUNTRY_INFO!A71=0,\" \",COUNTRY_INFO!A71)","v":"Angola"},{"$f":"IF(COUNTRY_INFO!B71=0,\" \",COUNTRY_INFO!B71)","v":"CUNENE"},{"$f":"IF(COUNTRY_INFO!C71=0,\" \",COUNTRY_INFO!C71)","v":"CUROCA"},{"$f":"IF(OR(COUNTRY_INFO!$U$9:$U$1000=\"T2 (PZQ)\",COUNTRY_INFO!$V$9:$V$1000=\"T2 (PZQ)\"), \"T2 (PZQ)\", \" \")","v":" "},null,null,{"$f":"IF(D71=\" \",\" \",COUNTRY_INFO!F71)","v":" "},null,0,null,null,null,0," ",{"$error":"#VALUE!"}," "," "]
[{"$f":"IF(COUNTRY_INFO!A72=0,\" \",COUNTRY_INFO!A72)","v":"Angola"},{"$f":"IF(COUNTRY_INFO!B72=0,\" \",COUNTRY_INFO!B72)","v":"CUNENE"},{"$f":"IF(COUNTRY_INFO!C72=0,\" \",COUNTRY_INFO!C72)","v":"CUVELAI"},{"$f":"IF(OR(COUNTRY_INFO!$U$9:$U$1000=\"T2 (PZQ)\",COUNTRY_INFO!$V$9:$V$1000=\"T2 (PZQ)\"), \"T2 (PZQ)\", \" \")","v":" "},null,null,{"$f":"IF(D72=\" \",\" \",COUNTRY_INFO!F72)","v":" "},null,0,null,null,null,0," ",{"$error":"#VALUE!"}," "," "]
[{"$f":"IF(COUNTRY_INFO!A73=0,\" \",COUNTRY_INFO!A73)","v":"Angola"},{"$f":"IF(COUNTRY_INFO!B73=0,\" \",COUNTRY_INFO!B73)","v":"CUNENE"},{"$f":"IF(COUNTRY_INFO!C73=0,\" \",COUNTRY_INFO!C73)","v":"NAMACUNDE"},{"$f":"IF(OR(COUNTRY_INFO!$U$9:$U$1000=\"T2 (PZQ)\",COUNTRY_INFO!$V$9:$V$1000=\"T2 (PZQ)\"), \"T2 (PZQ)\", \" \")","v":" "},null,null,{"$f":"IF(D73=\" \",\" \",COUNTRY_INFO!F73)","v":" "},null,0,null,null,null,0," ",{"$error":"#VALUE!"}," "," "]
[{"$f":"IF(COUNTRY_INFO!A74=0,\" \",COUNTRY_INFO!A74)","v":"Angola"},{"$f":"IF(COUNTRY_INFO!B74=0,\" \",COUNTRY_INFO!B74)","v":"CUNENE"},{"$f":"IF(COUNTRY_INFO!C74=0,\" \",COUNTRY_INFO!C74)","v":"OMBADJA"},{"$f":"IF(OR(COUNTRY_INFO!$U$9:$U$1000=\"T2 (PZQ)\",COUNTRY_INFO!$V$9:$V$1000=\"T2 (PZQ)\"), \"T2 (PZQ)\", \" \")","v":" "},null,null,{"$f":"IF(D74=\" \",\" \",COUNTRY_INFO!F74)","v":" "},null,{"$f":"SUM(F74:H74)","v":0},null,null,null,{"$f":"SUM(J74:L74)","v":0},{"$f":"IF(F74<>0, IF(J74/F74*100=0, \"-\", J74/F74*100), \" \")","v":" "},{"$f":"IF(G74<>0, IF(K74/G74*100=0, \"-\", K74/G74*100), \" \")","v":{"$error":"#VALUE!"}},{"$f":"IF(H74<>0, IF(L74/H74*100=0, \"-\", L74/H74*100), \" \")","v":" "},{"$f":"IF(I74<>0, IF(M74/I74*100=0, \"-\", M74/I74*100), \" \")","v":" "}]
[{"$f":"IF(COUNTRY_INFO!A75=0,\" \",COUNTRY_INFO!A75)","v":"Angola"},{"$f":"IF(COUNTRY_INFO!B75=0,\" \",COUNTRY_INFO!B75)","v":"HUAMBO"},{"$f":"IF(COUNTRY_INFO!C75=0,\" \",COUNTRY_INFO!C75)","v":"BAILUNDO"},{"$f":"IF(OR(COUNTRY_INFO!$U$9:$U$1000=\"T2 (PZQ)\",COUNTRY_INFO!$V$9:$V$1000=\"T2 (PZQ)\"), \"T2 (PZQ)\", \" \")","v":"T2 (PZQ)"},"Outubro2018",null,{"$f":"IF(D75=\" \",\" \",COUNTRY_INFO!F75)","v":96406},null,96406,null,95728,null,95728," ",99.296724270273643," ",99.296724270273643]
[{"$f":"IF(COUNTRY_INFO!A76=0,\" \",COUNTRY_INFO!A76)","v":"Angola"},{"$f":"IF(COUNTRY_INFO!B76=0,\" \",COUNTRY_INFO!B76)","v":"HUAMBO"},{"$f":"IF(COUNTRY_INFO!C76=0,\" \",COUNTRY_INFO!C76)","v":"CAALA"},{"$f":"IF(OR(COUNTRY_INFO!$U$9:$U$1000=\"T2 (PZQ)\",COUNTRY_INFO!$V$9:$V$1000=\"T2 (PZQ)\"), \"T2 (PZQ)\", \" \")","v":"T2 (PZQ)"},"Outubro2018",null,{"$f":"IF(D76=\" \",\" \",COUNTRY_INFO!F76)","v":91593},null,91593,null,88150,null,88150," ",96.240979114124443," ",96.240979114124443]
[{"$f":"IF(COUNTRY_INFO!A77=0,\" \",COUNTRY_INFO!A77)","v":"Angola"},{"$f":"IF(COUNTRY_INFO!B77=0,\" \",COUNTRY_INFO!B77)","v":"HUAMBO"},{"$f":"IF(COUNTRY_INFO!C77=0,\" \",COUNTRY_INFO!C77)","v":"CACHIUNGO"},{"$f":"IF(OR(COUNTRY_INFO!$U$9:$U$1000=\"T2 (PZQ)\",COUNTRY_INFO!$V$9:$V$1000=\"T2 (PZQ)\"), \"T2 (PZQ)\", \" \")","v":"T2 (PZQ)"},"Outubro2018",null,{"$f":"IF(D77=\" \",\" \",COUNTRY_INFO!F77)","v":39505},null,39505,null,50701,null,50701," ",128.3407163650171," ",128.3407163650171]
[{"$f":"IF(COUNTRY_INFO!A78=0,\" \",COUNTRY_INFO!A78)","v":"Angola"},{"$f":"IF(COUNTRY_INFO!B78=0,\" \",COUNTRY_INFO!B78)","v":"HUAMBO"},{"$f":"IF(COUNTRY_INFO!C78=0,\" \",COUNTRY_INFO!C78)","v":"CHICALA CHOLOHANGA"},{"$f":"IF(OR(COUNTRY_INFO!$U$9:$U$1000=\"T2 (PZQ)\",COUNTRY_INFO!$V$9:$V$1000=\"T2 (PZQ)\"), \"T2 (PZQ)\", \" \")","v":"T2 (PZQ)"},"Outubro2018",null,{"$f":"IF(D78=\" \",\" \",COUNTRY_INFO!F78)","v":33930},null,33930,null,31194,null,31194," ",91.936339522546419," ",91.936339522546419]
[{"$f":"IF(COUNTRY_INFO!A79=0,\" \",COUNTRY_INFO!A79)","v":"Angola"},{"$f":"IF(COUNTRY_INFO!B79=0,\" \",COUNTRY_INFO!B79)","v":"HUAMBO"},{"$f":"IF(COUNTRY_INFO!C79=0,\" \",COUNTRY_INFO!C79)","v":"CHINDJENJE"},{"$f":"IF(OR(COUNTRY_INFO!$U$9:$U$1000=\"T2 (PZQ)\",COUNTRY_INFO!$V$9:$V$1000=\"T2 (PZQ)\"), \"T2 (PZQ)\", \" \")","v":"T2 (PZQ)"},"Outubro2018",null,{"$f":"IF(D79=\" \",\" \",COUNTRY_INFO!F79)","v":9966},null,9966,null,10539,null,10539," ",105.74954846478026," ",105.74954846478026]
[{"$f":"IF(COUNTRY_INFO!A80=0,\" \",COUNTRY_INFO!A80)","v":"Angola"},{"$f":"IF(COUNTRY_INFO!B80=0,\" \",COUNTRY_INFO!B80)","v":"HUAMBO"},{"$f":"IF(COUNTRY_INFO!C80=0,\" \",COUNTRY_INFO!C80)","v":"ECUNHA"},{"$f":"IF(OR(COUNTRY_INFO!$U$9:$U$1000=\"T2 (PZQ)\",COUNTRY_INFO!$V$9:$V$1000=\"T2 (PZQ)\"), \"T2 (PZQ)\", \" \")","v":"T2 (PZQ)"},"Outubro2018",null,{"$f":"IF(D80=\" \",\" \",COUNTRY_INFO!F80)","v":27021},null,27021,null,32810,null,32810," ",121.42407756929796," ",121.42407756929796]
[{"$f":"IF(COUNTRY_INFO!A81=0,\" \",COUNTRY_INFO!A81)","v":"Angola"},{"$f":"IF(COUNTRY_INFO!B81=0,\" \",COUNTRY_INFO!B81)","v":"HUAMBO"},{"$f":"IF(COUNTRY_INFO!C81=0,\" \",COUNTRY_INFO!C81)","v":"HUAMBO"},{"$f":"IF(OR(COUNTRY_INFO!$U$9:$U$1000=\"T2 (PZQ)\",COUNTRY_INFO!$V$9:$V$1000=\"T2 (PZQ)\"), \"T2 (PZQ)\", \" \")","v":" "},null,null,{"$f":"IF(D81=\" \",\" \",COUNTRY_INFO!F81)","v":" "},null,0,null,null,null,0," ",{"$error":"#VALUE!"}," "," "]
[{"$f":"IF(COUNTRY_INFO!A82=0,\" \",COUNTRY_INFO!A82)","v":"Angola"},{"$f":"IF(COUNTRY_INFO!B82=0,\" \",COUNTRY_INFO!B82)","v":"HUAMBO"},{"$f":"IF(COUNTRY_INFO!C82=0,\" \",COUNTRY_INFO!C82)","v":"LONDUIMBALI"},{"$f":"IF(OR(COUNTRY_INFO!$U$9:$U$1000=\"T2 (PZQ)\",COUNTRY_INFO!$V$9:$V$1000=\"T2 (PZQ)\"), \"T2 (PZQ)\", \" \")","v":"T2 (PZQ)"},"Outubro2018",null,{"$f":"IF(D82=\" \",\" \",COUNTRY_INFO!F82)","v":43950},null,43950,null,37401,null,37401," ",85.098976109215016," ",85.098976109215016]
[{"$f":"IF(COUNTRY_INFO!A83=0,\" \",COUNTRY_INFO!A83)","v":"Angola"},{"$f":"IF(COUNTRY_INFO!B83=0,\" \",COUNTRY_INFO!B83)","v":"HUAMBO"},{"$f":"IF(COUNTRY_INFO!C83=0,\" \",COUNTRY_INFO!C83)","v":"LONGONJO"},{"$f":"IF(OR(COUNTRY_INFO!$U$9:$U$1000=\"T2 (PZQ)\",COUNTRY_INFO!$V$9:$V$1000=\"T2 (PZQ)\"), \"T2 (PZQ)\", \" \")","v":" "},null,null,{"$f":"IF(D83=\" \",\" \",COUNTRY_INFO!F83)","v":" "},null,0,null,null,null,0," ",{"$error":"#VALUE!"}," "," "]
[{"$f":"IF(COUNTRY_INFO!A84=0,\" \",COUNTRY_INFO!A84)","v":"Angola"},{"$f":"IF(COUNTRY_INFO!B84=0,\" \",COUNTRY_INFO!B84)","v":"HUAMBO"},{"$f":"IF(COUNTRY_INFO!C84=0,\" \",COUNTRY_INFO!C84)","v":"MUNGO"},{"$f":"IF(OR(COUNTRY_INFO!$U$9:$U$1000=\"T2 (PZQ)\",COUNTRY_INFO!$V$9:$V$1000=\"T2 (PZQ)\"), \"T2 (PZQ)\", \" \")","v":"T2 (PZQ)"},"Outubro2018",null,{"$f":"IF(D84=\" \",\" \",COUNTRY_INFO!F84)","v":37128},null,37128,null,30940,null,30940," ",83.333333333333343," ",83.333333333333343]
[{"$f":"IF(COUNTRY_INFO!A85=0,\" \",COUNTRY_INFO!A85)","v":"Angola"},{"$f":"IF(COUNTRY_INFO!B85=0,\" \",COUNTRY_INFO!B85)","v":"HUAMBO"},{"$f":"IF(COUNTRY_INFO!C85=0,\" \",COUNTRY_INFO!C85)","v":"UCUMA"},{"$f":"IF(OR(COUNTRY_INFO!$U$9:$U$1000=\"T2 (PZQ)\",COUNTRY_INFO!$V$9:$V$1000=\"T2 (PZQ)\"), \"T2 (PZQ)\", \" \")","v":"T2 (PZQ)"},"Outubro2018",null,{"$f":"IF(D85=\" \",\" \",COUNTRY_INFO!F85)","v":18023},null,18023,null,18271,null,18271," ",101.37601953059978," ",101.37601953059978]
[{"$f":"IF(COUNTRY_INFO!A86=0,\" \",COUNTRY_INFO!A86)","v":"Angola"},{"$f":"IF(COUNTRY_INFO!B86=0,\" \",COUNTRY_INFO!B86)","v":"HUILA"},{"$f":"IF(COUNTRY_INFO!C86=0,\" \",COUNTRY_INFO!C86)","v":"CACONDA"},{"$f":"IF(OR(COUNTRY_INFO!$U$9:$U$1000=\"T2 (PZQ)\",COUNTRY_INFO!$V$9:$V$1000=\"T2 (PZQ)\"), \"T2 (PZQ)\", \" \")","v":" "},null,null,{"$f":"IF(D86=\" \",\" \",COUNTRY_INFO!F86)","v":" "},null,0,null,null,null,0," ",{"$error":"#VALUE!"}," "," "]
[{"$f":"IF(COUNTRY_INFO!A87=0,\" \",COUNTRY_INFO!A87)","v":"Angola"},{"$f":"IF(COUNTRY_INFO!B87=0,\" \",COUNTRY_INFO!B87)","v":"HUILA"},{"$f":"IF(COUNTRY_INFO!C87=0,\" \",COUNTRY_INFO!C87)","v":"CACULA"},{"$f":"IF(OR(COUNTRY_INFO!$U$9:$U$1000=\"T2 (PZQ)\",COUNTRY_INFO!$V$9:$V$1000=\"T2 (PZQ)\"), \"T2 (PZQ)\", \" \")","v":" "},null,null,{"$f":"IF(D87=\" \",\" \",COUNTRY_INFO!F87)","v":" "},null,0,null,null,null,0," ",{"$error":"#VALUE!"}," "," "]
[{"$f":"IF(COUNTRY_INFO!A88=0,\" \",COUNTRY_INFO!A88)","v":"Angola"},{"$f":"IF(COUNTRY_INFO!B88=0,\" \",COUNTRY_INFO!B88)","v":"HUILA"},{"$f":"IF(COUNTRY_INFO!C88=0,\" \",COUNTRY_INFO!C88)","v":"CALUQUEMBE"},{"$f":"IF(OR(COUNTRY_INFO!$U$9:$U$1000=\"T2 (PZQ)\",COUNTRY_INFO!$V$9:$V$1000=\"T2 (PZQ)\"), \"T2 (PZQ)\", \" \")","v":" "},null,null,{"$f":"IF(D88=\" \",\" \",COUNTRY_INFO!F88)","v":" "},null,0,null,null,null,0," ",{"$error":"#VALUE!"}," "," "]
[{"$f":"IF(COUNTRY_INFO!A89=0,\" \",COUNTRY_INFO!A89)","v":"Angola"},{"$f":"IF(COUNTRY_INFO!B89=0,\" \",COUNTRY_INFO!B89)","v":"HUILA"},{"$f":"IF(COUNTRY_INFO!C89=0,\" \",COUNTRY_INFO!C89)","v":"CHIBIA"},{"$f":"IF(OR(COUNTRY_INFO!$U$9:$U$1000=\"T2 (PZQ)\",COUNTRY_INFO!$V$9:$V$1000=\"T2 (PZQ)\"), \"T2 (PZQ)\", \" \")","v":" "},null,null,{"$f":"IF(D89=\" \",\" \",COUNTRY_INFO!F89)","v":" "},null,0,null,null,null,0," ",{"$error":"#VALUE!"}," "," "]
[{"$f":"IF(COUNTRY_INFO!A90=0,\" \",COUNTRY_INFO!A90)","v":"Angola"},{"$f":"IF(COUNTRY_INFO!B90=0,\" \",COUNTRY_INFO!B90)","v":"HUILA"},{"$f":"IF(COUNTRY_INFO!C90=0,\" \",COUNTRY_INFO!C90)","v":"CHICOMBA"},{"$f":"IF(OR(COUNTRY_INFO!$U$9:$U$1000=\"T2 (PZQ)\",COUNTRY_INFO!$V$9:$V$1000=\"T2 (PZQ)\"), \"T2 (PZQ)\", \" \")","v":" "},null,null,{"$f":"IF(D90=\" \",\" \",COUNTRY_INFO!F90)","v":" "},null,0,null,null,null,0," ",{"$error":"#VALUE!"}," "," "]
[{"$f":"IF(COUNTRY_INFO!A91=0,\" \",COUNTRY_INFO!A91)","v":"Angola"},{"$f":"IF(COUNTRY_INFO!B91=0,\" \",COUNTRY_INFO!B91)","v":"HUILA"},{"$f":"IF(COUNTRY_INFO!C91=0,\" \",COUNTRY_INFO!C91)","v":"CHIPINDO"},{"$f":"IF(OR(COUNTRY_INFO!$U$9:$U$1000=\"T2 (PZQ)\",COUNTRY_INFO!$V$9:$V$1000=\"T2 (PZQ)\"), \"T2 (PZQ)\", \" \")","v":" "},null,null,{"$f":"IF(D91=\" \",\" \",COUNTRY_INFO!F91)","v":" "},null,0,null,null,null,0," ",{"$error":"#VALUE!"}," "," "]
[{"$f":"IF(COUNTRY_INFO!A92=0,\" \",COUNTRY_INFO!A92)","v":"Angola"},{"$f":"IF(COUNTRY_INFO!B92=0,\" \",COUNTRY_INFO!B92)","v":"HUILA"},{"$f":"IF(COUNTRY_INFO!C92=0,\" \",COUNTRY_INFO!C92)","v":"CUVANGO"},{"$f":"IF(OR(COUNTRY_INFO!$U$9:$U$1000=\"T2 (PZQ)\",COUNTRY_INFO!$V$9:$V$1000=\"T2 (PZQ)\"), \"T2 (PZQ)\", \" \")","v":" "},null,null,{"$f":"IF(D92=\" \",\" \",COUNTRY_INFO!F92)","v":" "},null,0,null,null,null,0," ",{"$error":"#VALUE!"}," "," "]
[{"$f":"IF(COUNTRY_INFO!A93=0,\" \",COUNTRY_INFO!A93)","v":"Angola"},{"$f":"IF(COUNTRY_INFO!B93=0,\" \",COUNTRY_INFO!B93)","v":"HUILA"},{"$f":"IF(COUNTRY_INFO!C93=0,\" \",COUNTRY_INFO!C93)","v":"GAMBOS"},{"$f":"IF(OR(COUNTRY_INFO!$U$9:$U$1000=\"T2 (PZQ)\",COUNTRY_INFO!$V$9:$V$1000=\"T2 (PZQ)\"), \"T2 (PZQ)\", \" \")","v":" "},null,null,{"$f":"IF(D93=\" \",\" \",COUNTRY_INFO!F93)","v":" "},null,0,null,null,null,0," ",{"$error":"#VALUE!"}," "," "]
[{"$f":"IF(COUNTRY_INFO!A94=0,\" \",COUNTRY_INFO!A94)","v":"Angola"},{"$f":"IF(COUNTRY_INFO!B94=0,\" \",COUNTRY_INFO!B94)","v":"HUILA"},{"$f":"IF(COUNTRY_INFO!C94=0,\" \",COUNTRY_INFO!C94)","v":"HUMPATA"},{"$f":"IF(OR(COUNTRY_INFO!$U$9:$U$1000=\"T2 (PZQ)\",COUNTRY_INFO!$V$9:$V$1000=\"T2 (PZQ)\"), \"T2 (PZQ)\", \" \")","v":" "},null,null,{"$f":"IF(D94=\" \",\" \",COUNTRY_INFO!F94)","v":" "},null,0,null,null,null,0," ",{"$error":"#VALUE!"}," "," "]
[{"$f":"IF(COUNTRY_INFO!A95=0,\" \",COUNTRY_INFO!A95)","v":"Angola"},{"$f":"IF(COUNTRY_INFO!B95=0,\" \",COUNTRY_INFO!B95)","v":"HUILA"},{"$f":"IF(COUNTRY_INFO!C95=0,\" \",COUNTRY_INFO!C95)","v":"JAMBA"},{"$f":"IF(OR(COUNTRY_INFO!$U$9:$U$1000=\"T2 (PZQ)\",COUNTRY_INFO!$V$9:$V$1000=\"T2 (PZQ)\"), \"T2 (PZQ)\", \" \")","v":" "},null,null,{"$f":"IF(D95=\" \",\" \",COUNTRY_INFO!F95)","v":" "},null,0,null,null,null,0," ",{"$error":"#VALUE!"}," "," "]
[{"$f":"IF(COUNTRY_INFO!A96=0,\" \",COUNTRY_INFO!A96)","v":"Angola"},{"$f":"IF(COUNTRY_INFO!B96=0,\" \",COUNTRY_INFO!B96)","v":"HUILA"},{"$f":"IF(COUNTRY_INFO!C96=0,\" \",COUNTRY_INFO!C96)","v":"LUBANGO"},{"$f":"IF(OR(COUNTRY_INFO!$U$9:$U$1000=\"T2 (PZQ)\",COUNTRY_INFO!$V$9:$V$1000=\"T2 (PZQ)\"), \"T2 (PZQ)\", \" \")","v":" "},null,null,{"$f":"IF(D96=\" \",\" \",COUNTRY_INFO!F96)","v":" "},null,0,null,null,null,0," ",{"$error":"#VALUE!"}," "," "]
[{"$f":"IF(COUNTRY_INFO!A97=0,\" \",COUNTRY_INFO!A97)","v":"Angola"},{"$f":"IF(COUNTRY_INFO!B97=0,\" \",COUNTRY_INFO!B97)","v":"HUILA"},{"$f":"IF(COUNTRY_INFO!C97=0,\" \",COUNTRY_INFO!C97)","v":"MATALA"},{"$f":"IF(OR(COUNTRY_INFO!$U$9:$U$1000=\"T2 (PZQ)\",COUNTRY_INFO!$V$9:$V$1000=\"T2 (PZQ)\"), \"T2 (PZQ)\", \" \")","v":" "},null,null,{"$f":"IF(D97=\" \",\" \",COUNTRY_INFO!F97)","v":" "},null,0,null,null,null,0," ",{"$error":"#VALUE!"}," "," "]
[{"$f":"IF(COUNTRY_INFO!A98=0,\" \",COUNTRY_INFO!A98)","v":"Angola"},{"$f":"IF(COUNTRY_INFO!B98=0,\" \",COUNTRY_INFO!B98)","v":"HUILA"},{"$f":"IF(COUNTRY_INFO!C98=0,\" \",COUNTRY_INFO!C98)","v":"QUILENGUES"},{"$f":"IF(OR(COUNTRY_INFO!$U$9:$U$1000=\"T2 (PZQ)\",COUNTRY_INFO!$V$9:$V$1000=\"T2 (PZQ)\"), \"T2 (PZQ)\", \" \")","v":" "},null,null,{"$f":"IF(D98=\" \",\" \",COUNTRY_INFO!F98)","v":" "},null,0,null,null,null,0," ",{"$error":"#VALUE!"}," "," "]
[{"$f":"IF(COUNTRY_INFO!A99=0,\" \",COUNTRY_INFO!A99)","v":"Angola"},{"$f":"IF(COUNTRY_INFO!B99=0,\" \",COUNTRY_INFO!B99)","v":"HUILA"},{"$f":"IF(COUNTRY_INFO!C99=0,\" \",COUNTRY_INFO!C99)","v":"QUIPUNGO"},{"$f":"IF(OR(COUNTRY_INFO!$U$9:$U$1000=\"T2 (PZQ)\",COUNTRY_INFO!$V$9:$V$1000=\"T2 (PZQ)\"), \"T2 (PZQ)\", \" \")","v":" "},null,null,{"$f":"IF(D99=\" \",\" \",COUNTRY_INFO!F99)","v":" "},null,0,null,null,null,0," ",{"$error":"#VALUE!"}," "," "]
[{"$f":"IF(COUNTRY_INFO!A100=0,\" \",COUNTRY_INFO!A100)","v":"Angola"},{"$f":"IF(COUNTRY_INFO!B100=0,\" \",COUNTRY_INFO!B100)","v":"LUANDA"},{"$f":"IF(COUNTRY_INFO!C100=0,\" \",COUNTRY_INFO!C100)","v":"BELAS"},{"$f":"IF(OR(COUNTRY_INFO!$U$9:$U$1000=\"T2 (PZQ)\",COUNTRY_INFO!$V$9:$V$1000=\"T2 (PZQ)\"), \"T2 (PZQ)\", \" \")","v":" "},null,null,{"$f":"IF(D100=\" \",\" \",COUNTRY_INFO!F100)","v":" "},null,0,null,null,null,0," ",{"$error":"#VALUE!"}," "," "]
[{"$f":"IF(COUNTRY_INFO!A101=0,\" \",COUNTRY_INFO!A101)","v":"Angola"},{"$f":"IF(COUNTRY_INFO!B101=0,\" \",COUNTRY_INFO!B101)","v":"LUANDA"},{"$f":"IF(COUNTRY_INFO!C101=0,\" \",COUNTRY_INFO!C101)","v":"CACUACO"},{"$f":"IF(OR(COUNTRY_INFO!$U$9:$U$1000=\"T2 (PZQ)\",COUNTRY_INFO!$V$9:$V$1000=\"T2 (PZQ)\"), \"T2 (PZQ)\", \" \")","v":" "},null,null,{"$f":"IF(D101=\" \",\" \",COUNTRY_INFO!F101)","v":" "},null,0,null,null,null,0," ",{"$error":"#VALUE!"}," "," "]
[{"$f":"IF(COUNTRY_INFO!A102=0,\" \",COUNTRY_INFO!A102)","v":"Angola"},{"$f":"IF(COUNTRY_INFO!B102=0,\" \",COUNTRY_INFO!B102)","v":"LUANDA"},{"$f":"IF(COUNTRY_INFO!C102=0,\" \",COUNTRY_INFO!C102)","v":"CAZENGA"},{"$f":"IF(OR(COUNTRY_INFO!$U$9:$U$1000=\"T2 (PZQ)\",COUNTRY_INFO!$V$9:$V$1000=\"T2 (PZQ)\"), \"T2 (PZQ)\", \" \")","v":" "},null,null,{"$f":"IF(D102=\" \",\" \",COUNTRY_INFO!F102)","v":" "},null,0,null,null,null,0," ",{"$error":"#VALUE!"}," "," "]
[{"$f":"IF(COUNTRY_INFO!A103=0,\" \",COUNTRY_INFO!A103)","v":"Angola"},{"$f":"IF(COUNTRY_INFO!B103=0,\" \",COUNTRY_INFO!B103)","v":"LUANDA"},{"$f":"IF(COUNTRY_INFO!C103=0,\" \",COUNTRY_INFO!C103)","v":"ICOLO E BENGO"},{"$f":"IF(OR(COUNTRY_INFO!$U$9:$U$1000=\"T2 (PZQ)\",COUNTRY_INFO!$V$9:$V$1000=\"T2 (PZQ)\"), \"T2 (PZQ)\", \" \")","v":" "},null,null,{"$f":"IF(D103=\" \",\" \",COUNTRY_INFO!F103)","v":" "},null,0,null,null,null,0," ",{"$error":"#VALUE!"}," "," "]
[{"$f":"IF(COUNTRY_INFO!A104=0,\" \",COUNTRY_INFO!A104)","v":"Angola"},{"$f":"IF(COUNTRY_INFO!B104=0,\" \",COUNTRY_INFO!B104)","v":"LUANDA"},{"$f":"IF(COUNTRY_INFO!C104=0,\" \",COUNTRY_INFO!C104)","v":"KILAMBA KIAXI"},{"$f":"IF(OR(COUNTRY_INFO!$U$9:$U$1000=\"T2 (PZQ)\",COUNTRY_INFO!$V$9:$V$1000=\"T2 (PZQ)\"), \"T2 (PZQ)\", \" \")","v":" "},null,null,{"$f":"IF(D104=\" \",\" \",COUNTRY_INFO!F104)","v":" "},null,0,null,null,null,0," ",{"$error":"#VALUE!"}," "," "]
[{"$f":"IF(COUNTRY_INFO!A105=0,\" \",COUNTRY_INFO!A105)","v":"Angola"},{"$f":"IF(COUNTRY_INFO!B105=0,\" \",COUNTRY_INFO!B105)","v":"LUANDA"},{"$f":"IF(COUNTRY_INFO!C105=0,\" \",COUNTRY_INFO!C105)","v":"LUANDA"},{"$f":"IF(OR(COUNTRY_INFO!$U$9:$U$1000=\"T2 (PZQ)\",COUNTRY_INFO!$V$9:$V$1000=\"T2 (PZQ)\"), \"T2 (PZQ)\", \" \")","v":" "},null,null,{"$f":"IF(D105=\" \",\" \",COUNTRY_INFO!F105)","v":" "},null,0,null,null,null,0," ",{"$error":"#VALUE!"}," "," "]
[{"$f":"IF(COUNTRY_INFO!A106=0,\" \",COUNTRY_INFO!A106)","v":"Angola"},{"$f":"IF(COUNTRY_INFO!B106=0,\" \",COUNTRY_INFO!B106)","v":"LUANDA"},{"$f":"IF(COUNTRY_INFO!C106=0,\" \",COUNTRY_INFO!C106)","v":"QUISSAMA"},{"$f":"IF(OR(COUNTRY_INFO!$U$9:$U$1000=\"T2 (PZQ)\",COUNTRY_INFO!$V$9:$V$1000=\"T2 (PZQ)\"), \"T2 (PZQ)\", \" \")","v":" "},null,null,{"$f":"IF(D106=\" \",\" \",COUNTRY_INFO!F106)","v":" "},null,0,null,null,null,0," ",{"$error":"#VALUE!"}," "," "]
[{"$f":"IF(COUNTRY_INFO!A107=0,\" \",COUNTRY_INFO!A107)","v":"Angola"},{"$f":"IF(COUNTRY_INFO!B107=0,\" \",COUNTRY_INFO!B107)","v":"LUANDA"},{"$f":"IF(COUNTRY_INFO!C107=0,\" \",COUNTRY_INFO!C107)","v":"TALATONA"},{"$f":"IF(OR(COUNTRY_INFO!$U$9:$U$1000=\"T2 (PZQ)\",COUNTRY_INFO!$V$9:$V$1000=\"T2 (PZQ)\"), \"T2 (PZQ)\", \" \")","v":" "},null,null,{"$f":"IF(D107=\" \",\" \",COUNTRY_INFO!F107)","v":" "},null,0,null,null,null,0," ",{"$error":"#VALUE!"}," "," "]
[{"$f":"IF(COUNTRY_INFO!A108=0,\" \",COUNTRY_INFO!A108)","v":"Angola"},{"$f":"IF(COUNTRY_INFO!B108=0,\" \",COUNTRY_INFO!B108)","v":"LUANDA"},{"$f":"IF(COUNTRY_INFO!C108=0,\" \",COUNTRY_INFO!C108)","v":"VIANA"},{"$f":"IF(OR(COUNTRY_INFO!$U$9:$U$1000=\"T2 (PZQ)\",COUNTRY_INFO!$V$9:$V$1000=\"T2 (PZQ)\"), \"T2 (PZQ)\", \" \")","v":" "},null,null,{"$f":"IF(D108=\" \",\" \",COUNTRY_INFO!F108)","v":" "},null,0,null,null,null,0," ",{"$error":"#VALUE!"}," "," "]
[{"$f":"IF(COUNTRY_INFO!A109=0,\" \",COUNTRY_INFO!A109)","v":"Angola"},{"$f":"IF(COUNTRY_INFO!B109=0,\" \",COUNTRY_INFO!B109)","v":"LUNDA NORTE"},{"$f":"IF(COUNTRY_INFO!C109=0,\" \",COUNTRY_INFO!C109)","v":"CAMBULO"},{"$f":"IF(OR(COUNTRY_INFO!$U$9:$U$1000=\"T2 (PZQ)\",COUNTRY_INFO!$V$9:$V$1000=\"T2 (PZQ)\"), \"T2 (PZQ)\", \" \")","v":" "},null,null,{"$f":"IF(D109=\" \",\" \",COUNTRY_INFO!F109)","v":" "},null,0,null,null,null,0," ",{"$error":"#VALUE!"}," "," "]
[{"$f":"IF(COUNTRY_INFO!A110=0,\" \",COUNTRY_INFO!A110)","v":"Angola"},{"$f":"IF(COUNTRY_INFO!B110=0,\" \",COUNTRY_INFO!B110)","v":"LUNDA NORTE"},{"$f":"IF(COUNTRY_INFO!C110=0,\" \",COUNTRY_INFO!C110)","v":"CAPENDA CAMULEMBA"},{"$f":"IF(OR(COUNTRY_INFO!$U$9:$U$1000=\"T2 (PZQ)\",COUNTRY_INFO!$V$9:$V$1000=\"T2 (PZQ)\"), \"T2 (PZQ)\", \" \")","v":" "},null,null,{"$f":"IF(D110=\" \",\" \",COUNTRY_INFO!F110)","v":" "},null,0,null,null,null,0," ",{"$error":"#VALUE!"}," "," "]
[{"$f":"IF(COUNTRY_INFO!A111=0,\" \",COUNTRY_INFO!A111)","v":"Angola"},{"$f":"IF(COUNTRY_INFO!B111=0,\" \",COUNTRY_INFO!B111)","v":"LUNDA NORTE"},{"$f":"IF(COUNTRY_INFO!C111=0,\" \",COUNTRY_INFO!C111)","v":"CAUNGULA"},{"$f":"IF(OR(COUNTRY_INFO!$U$9:$U$1000=\"T2 (PZQ)\",COUNTRY_INFO!$V$9:$V$1000=\"T2 (PZQ)\"), \"T2 (PZQ)\", \" \")","v":" "},null,null,{"$f":"IF(D111=\" \",\" \",COUNTRY_INFO!F111)","v":" "},null,0,null,null,null,0," ",{"$error":"#VALUE!"}," "," "]
[{"$f":"IF(COUNTRY_INFO!A112=0,\" \",COUNTRY_INFO!A112)","v":"Angola"},{"$f":"IF(COUNTRY_INFO!B112=0,\" \",COUNTRY_INFO!B112)","v":"LUNDA NORTE"},{"$f":"IF(COUNTRY_INFO!C112=0,\" \",COUNTRY_INFO!C112)","v":"CHITATO"},{"$f":"IF(OR(COUNTRY_INFO!$U$9:$U$1000=\"T2 (PZQ)\",COUNTRY_INFO!$V$9:$V$1000=\"T2 (PZQ)\"), \"T2 (PZQ)\", \" \")","v":" "},null,null,{"$f":"IF(D112=\" \",\" \",COUNTRY_INFO!F112)","v":" "},null,0,null,null,null,0," ",{"$error":"#VALUE!"}," "," "]
[{"$f":"IF(COUNTRY_INFO!A113=0,\" \",COUNTRY_INFO!A113)","v":"Angola"},{"$f":"IF(COUNTRY_INFO!B113=0,\" \",COUNTRY_INFO!B113)","v":"LUNDA NORTE"},{"$f":"IF(COUNTRY_INFO!C113=0,\" \",COUNTRY_INFO!C113)","v":"CUANGO"},{"$f":"IF(OR(COUNTRY_INFO!$U$9:$U$1000=\"T2 (PZQ)\",COUNTRY_INFO!$V$9:$V$1000=\"T2 (PZQ)\"), \"T2 (PZQ)\", \" \")","v":" "},null,null,{"$f":"IF(D113=\" \",\" \",COUNTRY_INFO!F113)","v":" "},null,0,null,null,null,0," ",{"$error":"#VALUE!"}," "," "]
[{"$f":"IF(COUNTRY_INFO!A114=0,\" \",COUNTRY_INFO!A114)","v":"Angola"},{"$f":"IF(COUNTRY_INFO!B114=0,\" \",COUNTRY_INFO!B114)","v":"LUNDA NORTE"},{"$f":"IF(COUNTRY_INFO!C114=0,\" \",COUNTRY_INFO!C114)","v":"CUILO"},{"$f":"IF(OR(COUNTRY_INFO!$U$9:$U$1000=\"T2 (PZQ)\",COUNTRY_INFO!$V$9:$V$1000=\"T2 (PZQ)\"), \"T2 (PZQ)\", \" \")","v":" "},null,null,{"$f":"IF(D114=\" \",\" \",COUNTRY_INFO!F114)","v":" "},null,0,null,null,null,0," ",{"$error":"#VALUE!"}," "," "]
[{"$f":"IF(COUNTRY_INFO!A115=0,\" \",COUNTRY_INFO!A115)","v":"Angola"},{"$f":"IF(COUNTRY_INFO!B115=0,\" \",COUNTRY_INFO!B115)","v":"LUNDA NORTE"},{"$f":"IF(COUNTRY_INFO!C115=0,\" \",COUNTRY_INFO!C115)","v":"LOVUA"},{"$f":"IF(OR(COUNTRY_INFO!$U$9:$U$1000=\"T2 (PZQ)\",COUNTRY_INFO!$V$9:$V$1000=\"T2 (PZQ)\"), \"T2 (PZQ)\", \" \")","v":" "},null,null,{"$f":"IF(D115=\" \",\" \",COUNTRY_INFO!F115)","v":" "},null,0,null,null,null,0," ",{"$error":"#VALUE!"}," "," "]
[{"$f":"IF(COUNTRY_INFO!A116=0,\" \",COUNTRY_INFO!A116)","v":"Angola"},{"$f":"IF(COUNTRY_INFO!B116=0,\" \",COUNTRY_INFO!B116)","v":"LUNDA NORTE"},{"$f":"IF(COUNTRY_INFO!C116=0,\" \",COUNTRY_INFO!C116)","v":"LUBALO"},{"$f":"IF(OR(COUNTRY_INFO!$U$9:$U$1000=\"T2 (PZQ)\",COUNTRY_INFO!$V$9:$V$1000=\"T2 (PZQ)\"), \"T2 (PZQ)\", \" \")","v":" "},null,null,{"$f":"IF(D116=\" \",\" \",COUNTRY_INFO!F116)","v":" "},null,0,null,null,null,0," ",{"$error":"#VALUE!"}," "," "]
[{"$f":"IF(COUNTRY_INFO!A117=0,\" \",COUNTRY_INFO!A117)","v":"Angola"},{"$f":"IF(COUNTRY_INFO!B117=0,\" \",COUNTRY_INFO!B117)","v":"LUNDA NORTE"},{"$f":"IF(COUNTRY_INFO!C117=0,\" \",COUNTRY_INFO!C117)","v":"LUCAPA"},{"$f":"IF(OR(COUNTRY_INFO!$U$9:$U$1000=\"T2 (PZQ)\",COUNTRY_INFO!$V$9:$V$1000=\"T2 (PZQ)\"), \"T2 (PZQ)\", \" \")","v":" "},null,null,{"$f":"IF(D117=\" \",\" \",COUNTRY_INFO!F117)","v":" "},null,0,null,null,null,0," ",{"$error":"#VALUE!"}," "," "]
[{"$f":"IF(COUNTRY_INFO!A118=0,\" \",COUNTRY_INFO!A118)","v":"Angola"},{"$f":"IF(COUNTRY_INFO!B118=0,\" \",COUNTRY_INFO!B118)","v":"LUNDA NORTE"},{"$f":"IF(COUNTRY_INFO!C118=0,\" \",COUNTRY_INFO!C118)","v":"XA MUTEBA"},{"$f":"IF(OR(COUNTRY_INFO!$U$9:$U$1000=\"T2 (PZQ)\",COUNTRY_INFO!$V$9:$V$1000=\"T2 (PZQ)\"), \"T2 (PZQ)\", \" \")","v":" "},null,null,{"$f":"IF(D118=\" \",\" \",COUNTRY_INFO!F118)","v":" "},null,0,null,null,null,0," ",{"$error":"#VALUE!"}," "," "]
[{"$f":"IF(COUNTRY_INFO!A119=0,\" \",COUNTRY_INFO!A119)","v":"Angola"},{"$f":"IF(COUNTRY_INFO!B119=0,\" \",COUNTRY_INFO!B119)","v":"LUNDA SUL"},{"$f":"IF(COUNTRY_INFO!C119=0,\" \",COUNTRY_INFO!C119)","v":"CACOLO"},{"$f":"IF(OR(COUNTRY_INFO!$U$9:$U$1000=\"T2 (PZQ)\",COUNTRY_INFO!$V$9:$V$1000=\"T2 (PZQ)\"), \"T2 (PZQ)\", \" \")","v":" "},null,null,{"$f":"IF(D119=\" \",\" \",COUNTRY_INFO!F119)","v":" "},null,0,null,null,null,0," ",{"$error":"#VALUE!"}," "," "]
[{"$f":"IF(COUNTRY_INFO!A120=0,\" \",COUNTRY_INFO!A120)","v":"Angola"},{"$f":"IF(COUNTRY_INFO!B120=0,\" \",COUNTRY_INFO!B120)","v":"LUNDA SUL"},{"$f":"IF(COUNTRY_INFO!C120=0,\" \",COUNTRY_INFO!C120)","v":"DALA"},{"$f":"IF(OR(COUNTRY_INFO!$U$9:$U$1000=\"T2 (PZQ)\",COUNTRY_INFO!$V$9:$V$1000=\"T2 (PZQ)\"), \"T2 (PZQ)\", \" \")","v":" "},null,null,{"$f":"IF(D120=\" \",\" \",COUNTRY_INFO!F120)","v":" "},null,0,null,null,null,0," ",{"$error":"#VALUE!"}," "," "]
[{"$f":"IF(COUNTRY_INFO!A121=0,\" \",COUNTRY_INFO!A121)","v":"Angola"},{"$f":"IF(COUNTRY_INFO!B121=0,\" \",COUNTRY_INFO!B121)","v":"LUNDA SUL"},{"$f":"IF(COUNTRY_INFO!C121=0,\" \",COUNTRY_INFO!C121)","v":"MUCONDA"},{"$f":"IF(OR(COUNTRY_INFO!$U$9:$U$1000=\"T2 (PZQ)\",COUNTRY_INFO!$V$9:$V$1000=\"T2 (PZQ)\"), \"T2 (PZQ)\", \" \")","v":" "},null,null,{"$f":"IF(D121=\" \",\" \",COUNTRY_INFO!F121)","v":" "},null,0,null,null,null,0," ",{"$error":"#VALUE!"}," "," "]
[{"$f":"IF(COUNTRY_INFO!A122=0,\" \",COUNTRY_INFO!A122)","v":"Angola"},{"$f":"IF(COUNTRY_INFO!B122=0,\" \",COUNTRY_INFO!B122)","v":"LUNDA SUL"},{"$f":"IF(COUNTRY_INFO!C122=0,\" \",COUNTRY_INFO!C122)","v":"SAURIMO"},{"$f":"IF(OR(COUNTRY_INFO!$U$9:$U$1000=\"T2 (PZQ)\",COUNTRY_INFO!$V$9:$V$1000=\"T2 (PZQ)\"), \"T2 (PZQ)\", \" \")","v":" "},null,null,{"$f":"IF(D122=\" \",\" \",COUNTRY_INFO!F122)","v":" "},null,0,null,null,null,0," ",{"$error":"#VALUE!"}," "," "]
[{"$f":"IF(COUNTRY_INFO!A123=0,\" \",COUNTRY_INFO!A123)","v":"Angola"},{"$f":"IF(COUNTRY_INFO!B123=0,\" \",COUNTRY_INFO!B123)","v":"MALANJE"},{"$f":"IF(COUNTRY_INFO!C123=0,\" \",COUNTRY_INFO!C123)","v":"CACULAMA (Mukari)"},{"$f":"IF(OR(COUNTRY_INFO!$U$9:$U$1000=\"T2 (PZQ)\",COUNTRY_INFO!$V$9:$V$1000=\"T2 (PZQ)\"), \"T2 (PZQ)\", \" \")","v":" "},null,null,{"$f":"IF(D123=\" \",\" \",COUNTRY_INFO!F123)","v":" "},null,0,null,null,null,0," ",{"$error":"#VALUE!"}," "," "]
[{"$f":"IF(COUNTRY_INFO!A124=0,\" \",COUNTRY_INFO!A124)","v":"Angola"},{"$f":"IF(COUNTRY_INFO!B124=0,\" \",COUNTRY_INFO!B124)","v":"MALANJE"},{"$f":"IF(COUNTRY_INFO!C124=0,\" \",COUNTRY_INFO!C124)","v":"CACUSO"},{"$f":"IF(OR(COUNTRY_INFO!$U$9:$U$1000=\"T2 (PZQ)\",COUNTRY_INFO!$V$9:$V$1000=\"T2 (PZQ)\"), \"T2 (PZQ)\", \" \")","v":" "},null,null,{"$f":"IF(D124=\" \",\" \",COUNTRY_INFO!F124)","v":" "},null,0,null,null,null,0," ",{"$error":"#VALUE!"}," "," "]
[{"$f":"IF(COUNTRY_INFO!A125=0,\" \",COUNTRY_INFO!A125)","v":"Angola"},{"$f":"IF(COUNTRY_INFO!B125=0,\" \",COUNTRY_INFO!B125)","v":"MALANJE"},{"$f":"IF(COUNTRY_INFO!C125=0,\" \",COUNTRY_INFO!C125)","v":"CAHOMBO"},{"$f":"IF(OR(COUNTRY_INFO!$U$9:$U$1000=\"T2 (PZQ)\",COUNTRY_INFO!$V$9:$V$1000=\"T2 (PZQ)\"), \"T2 (PZQ)\", \" \")","v":" "},null,null,{"$f":"IF(D125=\" \",\" \",COUNTRY_INFO!F125)","v":" "},null,0,null,null,null,0," ",{"$error":"#VALUE!"}," "," "]
[{"$f":"IF(COUNTRY_INFO!A126=0,\" \",COUNTRY_INFO!A126)","v":"Angola"},{"$f":"IF(COUNTRY_INFO!B126=0,\" \",COUNTRY_INFO!B126)","v":"MALANJE"},{"$f":"IF(COUNTRY_INFO!C126=0,\" \",COUNTRY_INFO!C126)","v":"CALANDULA"},{"$f":"IF(OR(COUNTRY_INFO!$U$9:$U$1000=\"T2 (PZQ)\",COUNTRY_INFO!$V$9:$V$1000=\"T2 (PZQ)\"), \"T2 (PZQ)\", \" \")","v":" "},null,null,{"$f":"IF(D126=\" \",\" \",COUNTRY_INFO!F126)","v":" "},null,0,null,null,null,0," ",{"$error":"#VALUE!"}," "," "]
[{"$f":"IF(COUNTRY_INFO!A127=0,\" \",COUNTRY_INFO!A127)","v":"Angola"},{"$f":"IF(COUNTRY_INFO!B127=0,\" \",COUNTRY_INFO!B127)","v":"MALANJE"},{"$f":"IF(COUNTRY_INFO!C127=0,\" \",COUNTRY_INFO!C127)","v":"CAMBUNDI CATEMBO"},{"$f":"IF(OR(COUNTRY_INFO!$U$9:$U$1000=\"T2 (PZQ)\",COUNTRY_INFO!$V$9:$V$1000=\"T2 (PZQ)\"), \"T2 (PZQ)\", \" \")","v":" "},null,null,{"$f":"IF(D127=\" \",\" \",COUNTRY_INFO!F127)","v":" "},null,0,null,null,null,0," ",{"$error":"#VALUE!"}," "," "]
[{"$f":"IF(COUNTRY_INFO!A128=0,\" \",COUNTRY_INFO!A128)","v":"Angola"},{"$f":"IF(COUNTRY_INFO!B128=0,\" \",COUNTRY_INFO!B128)","v":"MALANJE"},{"$f":"IF(COUNTRY_INFO!C128=0,\" \",COUNTRY_INFO!C128)","v":"CANGANDALA"},{"$f":"IF(OR(COUNTRY_INFO!$U$9:$U$1000=\"T2 (PZQ)\",COUNTRY_INFO!$V$9:$V$1000=\"T2 (PZQ)\"), \"T2 (PZQ)\", \" \")","v":" "},null,null,{"$f":"IF(D128=\" \",\" \",COUNTRY_INFO!F128)","v":" "},null,0,null,null,null,0," ",{"$error":"#VALUE!"}," "," "]
[{"$f":"IF(COUNTRY_INFO!A129=0,\" \",COUNTRY_INFO!A129)","v":"Angola"},{"$f":"IF(COUNTRY_INFO!B129=0,\" \",COUNTRY_INFO!B129)","v":"MALANJE"},{"$f":"IF(COUNTRY_INFO!C129=0,\" \",COUNTRY_INFO!C129)","v":"KIWABA NZOJI"},{"$f":"IF(OR(COUNTRY_INFO!$U$9:$U$1000=\"T2 (PZQ)\",COUNTRY_INFO!$V$9:$V$1000=\"T2 (PZQ)\"), \"T2 (PZQ)\", \" \")","v":" "},null,null,{"$f":"IF(D129=\" \",\" \",COUNTRY_INFO!F129)","v":" "},null,0,null,null,null,0," ",{"$error":"#VALUE!"}," "," "]
[{"$f":"IF(COUNTRY_INFO!A130=0,\" \",COUNTRY_INFO!A130)","v":"Angola"},{"$f":"IF(COUNTRY_INFO!B130=0,\" \",COUNTRY_INFO!B130)","v":"MALANJE"},{"$f":"IF(COUNTRY_INFO!C130=0,\" \",COUNTRY_INFO!C130)","v":"KUNDA DYA BASE"},{"$f":"IF(OR(COUNTRY_INFO!$U$9:$U$1000=\"T2 (PZQ)\",COUNTRY_INFO!$V$9:$V$1000=\"T2 (PZQ)\"), \"T2 (PZQ)\", \" \")","v":" "},null,null,{"$f":"IF(D130=\" \",\" \",COUNTRY_INFO!F130)","v":" "},null,0,null,null,null,0," ",{"$error":"#VALUE!"}," "," "]
[{"$f":"IF(COUNTRY_INFO!A131=0,\" \",COUNTRY_INFO!A131)","v":"Angola"},{"$f":"IF(COUNTRY_INFO!B131=0,\" \",COUNTRY_INFO!B131)","v":"MALANJE"},{"$f":"IF(COUNTRY_INFO!C131=0,\" \",COUNTRY_INFO!C131)","v":"LUQUEMBO"},{"$f":"IF(OR(COUNTRY_INFO!$U$9:$U$1000=\"T2 (PZQ)\",COUNTRY_INFO!$V$9:$V$1000=\"T2 (PZQ)\"), \"T2 (PZQ)\", \" \")","v":" "},null,null,{"$f":"IF(D131=\" \",\" \",COUNTRY_INFO!F131)","v":" "},null,0,null,null,null,0," ",{"$error":"#VALUE!"}," "," "]
[{"$f":"IF(COUNTRY_INFO!A132=0,\" \",COUNTRY_INFO!A132)","v":"Angola"},{"$f":"IF(COUNTRY_INFO!B132=0,\" \",COUNTRY_INFO!B132)","v":"MALANJE"},{"$f":"IF(COUNTRY_INFO!C132=0,\" \",COUNTRY_INFO!C132)","v":"MALANJE"},{"$f":"IF(OR(COUNTRY_INFO!$U$9:$U$1000=\"T2 (PZQ)\",COUNTRY_INFO!$V$9:$V$1000=\"T2 (PZQ)\"), \"T2 (PZQ)\", \" \")","v":" "},null,null,{"$f":"IF(D132=\" \",\" \",COUNTRY_INFO!F132)","v":" "},null,0,null,null,null,0," ",{"$error":"#VALUE!"}," "," "]
[{"$f":"IF(COUNTRY_INFO!A133=0,\" \",COUNTRY_INFO!A133)","v":"Angola"},{"$f":"IF(COUNTRY_INFO!B133=0,\" \",COUNTRY_INFO!B133)","v":"MALANJE"},{"$f":"IF(COUNTRY_INFO!C133=0,\" \",COUNTRY_INFO!C133)","v":"MARIMBA"},{"$f":"IF(OR(COUNTRY_INFO!$U$9:$U$1000=\"T2 (PZQ)\",COUNTRY_INFO!$V$9:$V$1000=\"T2 (PZQ)\"), \"T2 (PZQ)\", \" \")","v":" "},null,null,{"$f":"IF(D133=\" \",\" \",COUNTRY_INFO!F133)","v":" "},null,0,null,null,null,0," ",{"$error":"#VALUE!"}," "," "]
[{"$f":"IF(COUNTRY_INFO!A134=0,\" \",COUNTRY_INFO!A134)","v":"Angola"},{"$f":"IF(COUNTRY_INFO!B134=0,\" \",COUNTRY_INFO!B134)","v":"MALANJE"},{"$f":"IF(COUNTRY_INFO!C134=0,\" \",COUNTRY_INFO!C134)","v":"MASSANGO"},{"$f":"IF(OR(COUNTRY_INFO!$U$9:$U$1000=\"T2 (PZQ)\",COUNTRY_INFO!$V$9:$V$1000=\"T2 (PZQ)\"), \"T2 (PZQ)\", \" \")","v":" "},null,null,{"$f":"IF(D134=\" \",\" \",COUNTRY_INFO!F134)","v":" "},null,0,null,null,null,0," ",{"$error":"#VALUE!"}," "," "]
[{"$f":"IF(COUNTRY_INFO!A135=0,\" \",COUNTRY_INFO!A135)","v":"Angola"},{"$f":"IF(COUNTRY_INFO!B135=0,\" \",COUNTRY_INFO!B135)","v":"MALANJE"},{"$f":"IF(COUNTRY_INFO!C135=0,\" \",COUNTRY_INFO!C135)","v":"QUELA"},{"$f":"IF(OR(COUNTRY_INFO!$U$9:$U$1000=\"T2 (PZQ)\",COUNTRY_INFO!$V$9:$V$1000=\"T2 (PZQ)\"), \"T2 (PZQ)\", \" \")","v":" "},null,null,{"$f":"IF(D135=\" \",\" \",COUNTRY_INFO!F135)","v":" "},null,0,null,null,null,0," ",{"$error":"#VALUE!"}," "," "]
[{"$f":"IF(COUNTRY_INFO!A136=0,\" \",COUNTRY_INFO!A136)","v":"Angola"},{"$f":"IF(COUNTRY_INFO!B136=0,\" \",COUNTRY_INFO!B136)","v":"MALANJE"},{"$f":"IF(COUNTRY_INFO!C136=0,\" \",COUNTRY_INFO!C136)","v":"QUIRIMA"},{"$f":"IF(OR(COUNTRY_INFO!$U$9:$U$1000=\"T2 (PZQ)\",COUNTRY_INFO!$V$9:$V$1000=\"T2 (PZQ)\"), \"T2 (PZQ)\", \" \")","v":" "},null,null,{"$f":"IF(D136=\" \",\" \",COUNTRY_INFO!F136)","v":" "},null,0,null,null,null,0," ",{"$error":"#VALUE!"}," "," "]
[{"$f":"IF(COUNTRY_INFO!A137=0,\" \",COUNTRY_INFO!A137)","v":"Angola"},{"$f":"IF(COUNTRY_INFO!B137=0,\" \",COUNTRY_INFO!B137)","v":"MOXICO"},{"$f":"IF(COUNTRY_INFO!C137=0,\" \",COUNTRY_INFO!C137)","v":"ALTO ZAMBEZE"},{"$f":"IF(OR(COUNTRY_INFO!$U$9:$U$1000=\"T2 (PZQ)\",COUNTRY_INFO!$V$9:$V$1000=\"T2 (PZQ)\"), \"T2 (PZQ)\", \" \")","v":" "},null,null,{"$f":"IF(D137=\" \",\" \",COUNTRY_INFO!F137)","v":" "},null,0,null,null,null,0," ",{"$error":"#VALUE!"}," "," "]
[{"$f":"IF(COUNTRY_INFO!A138=0,\" \",COUNTRY_INFO!A138)","v":"Angola"},{"$f":"IF(COUNTRY_INFO!B138=0,\" \",COUNTRY_INFO!B138)","v":"MOXICO"},{"$f":"IF(COUNTRY_INFO!C138=0,\" \",COUNTRY_INFO!C138)","v":"BUNDAS (LUMBALA NGUIMBO)"},{"$f":"IF(OR(COUNTRY_INFO!$U$9:$U$1000=\"T2 (PZQ)\",COUNTRY_INFO!$V$9:$V$1000=\"T2 (PZQ)\"), \"T2 (PZQ)\", \" \")","v":" "},null,null,{"$f":"IF(D138=\" \",\" \",COUNTRY_INFO!F138)","v":" "},null,{"$f":"SUM(F138:H138)","v":0},null,null,null,{"$f":"SUM(J138:L138)","v":0},{"$f":"IF(F138<>0, IF(J138/F138*100=0, \"-\", J138/F138*100), \" \")","v":" "},{"$f":"IF(G138<>0, IF(K138/G138*100=0, \"-\", K138/G138*100), \" \")","v":{"$error":"#VALUE!"}},{"$f":"IF(H138<>0, IF(L138/H138*100=0, \"-\", L138/H138*100), \" \")","v":" "},{"$f":"IF(I138<>0, IF(M138/I138*100=0, \"-\", M138/I138*100), \" \")","v":" "}]
[{"$f":"IF(COUNTRY_INFO!A139=0,\" \",COUNTRY_INFO!A139)","v":"Angola"},{"$f":"IF(COUNTRY_INFO!B139=0,\" \",COUNTRY_INFO!B139)","v":"MOXICO"},{"$f":"IF(COUNTRY_INFO!C139=0,\" \",COUNTRY_INFO!C139)","v":"CAMANONGUE"},{"$f":"IF(OR(COUNTRY_INFO!$U$9:$U$1000=\"T2 (PZQ)\",COUNTRY_INFO!$V$9:$V$1000=\"T2 (PZQ)\"), \"T2 (PZQ)\", \" \")","v":" "},null,null,{"$f":"IF(D139=\" \",\" \",COUNTRY_INFO!F139)","v":" "},null,0,null,null,null,0," ",{"$error":"#VALUE!"}," "," "]
[{"$f":"IF(COUNTRY_INFO!A140=0,\" \",COUNTRY_INFO!A140)","v":"Angola"},{"$f":"IF(COUNTRY_INFO!B140=0,\" \",COUNTRY_INFO!B140)","v":"MOXICO"},{"$f":"IF(COUNTRY_INFO!C140=0,\" \",COUNTRY_INFO!C140)","v":"CAMEIA (LUMEJE)"},{"$f":"IF(OR(COUNTRY_INFO!$U$9:$U$1000=\"T2 (PZQ)\",COUNTRY_INFO!$V$9:$V$1000=\"T2 (PZQ)\"), \"T2 (PZQ)\", \" \")","v":" "},null,null,{"$f":"IF(D140=\" \",\" \",COUNTRY_INFO!F140)","v":" "},null,0,null,null,null,0," ",{"$error":"#VALUE!"}," "," "]
[{"$f":"IF(COUNTRY_INFO!A141=0,\" \",COUNTRY_INFO!A141)","v":"Angola"},{"$f":"IF(COUNTRY_INFO!B141=0,\" \",COUNTRY_INFO!B141)","v":"MOXICO"},{"$f":"IF(COUNTRY_INFO!C141=0,\" \",COUNTRY_INFO!C141)","v":"LEUA"},{"$f":"IF(OR(COUNTRY_INFO!$U$9:$U$1000=\"T2 (PZQ)\",COUNTRY_INFO!$V$9:$V$1000=\"T2 (PZQ)\"), \"T2 (PZQ)\", \" \")","v":" "},null,null,{"$f":"IF(D141=\" \",\" \",COUNTRY_INFO!F141)","v":" "},null,0,null,null,null,0," ",{"$error":"#VALUE!"}," "," "]
[{"$f":"IF(COUNTRY_INFO!A142=0,\" \",COUNTRY_INFO!A142)","v":"Angola"},{"$f":"IF(COUNTRY_INFO!B142=0,\" \",COUNTRY_INFO!B142)","v":"MOXICO"},{"$f":"IF(COUNTRY_INFO!C142=0,\" \",COUNTRY_INFO!C142)","v":"LUACANO"},{"$f":"IF(OR(COUNTRY_INFO!$U$9:$U$1000=\"T2 (PZQ)\",COUNTRY_INFO!$V$9:$V$1000=\"T2 (PZQ)\"), \"T2 (PZQ)\", \" \")","v":" "},null,null,{"$f":"IF(D142=\" \",\" \",COUNTRY_INFO!F142)","v":" "},null,0,null,null,null,0," ",{"$error":"#VALUE!"}," "," "]
[{"$f":"IF(COUNTRY_INFO!A143=0,\" \",COUNTRY_INFO!A143)","v":"Angola"},{"$f":"IF(COUNTRY_INFO!B143=0,\" \",COUNTRY_INFO!B143)","v":"MOXICO"},{"$f":"IF(COUNTRY_INFO!C143=0,\" \",COUNTRY_INFO!C143)","v":"LUAU"},{"$f":"IF(OR(COUNTRY_INFO!$U$9:$U$1000=\"T2 (PZQ)\",COUNTRY_INFO!$V$9:$V$1000=\"T2 (PZQ)\"), \"T2 (PZQ)\", \" \")","v":" "},null,null,{"$f":"IF(D143=\" \",\" \",COUNTRY_INFO!F143)","v":" "},null,0,null,null,null,0," ",{"$error":"#VALUE!"}," "," "]
[{"$f":"IF(COUNTRY_INFO!A144=0,\" \",COUNTRY_INFO!A144)","v":"Angola"},{"$f":"IF(COUNTRY_INFO!B144=0,\" \",COUNTRY_INFO!B144)","v":"MOXICO"},{"$f":"IF(COUNTRY_INFO!C144=0,\" \",COUNTRY_INFO!C144)","v":"LUCHAZES"},{"$f":"IF(OR(COUNTRY_INFO!$U$9:$U$1000=\"T2 (PZQ)\",COUNTRY_INFO!$V$9:$V$1000=\"T2 (PZQ)\"), \"T2 (PZQ)\", \" \")","v":" "},null,null,{"$f":"IF(D144=\" \",\" \",COUNTRY_INFO!F144)","v":" "},null,0,null,null,null,0," ",{"$error":"#VALUE!"}," "," "]
[{"$f":"IF(COUNTRY_INFO!A145=0,\" \",COUNTRY_INFO!A145)","v":"Angola"},{"$f":"IF(COUNTRY_INFO!B145=0,\" \",COUNTRY_INFO!B145)","v":"MOXICO"},{"$f":"IF(COUNTRY_INFO!C145=0,\" \",COUNTRY_INFO!C145)","v":"MOXICO/LUENA"},{"$f":"IF(OR(COUNTRY_INFO!$U$9:$U$1000=\"T2 (PZQ)\",COUNTRY_INFO!$V$9:$V$1000=\"T2 (PZQ)\"), \"T2 (PZQ)\", \" \")","v":" "},null,null,{"$f":"IF(D145=\" \",\" \",COUNTRY_INFO!F145)","v":" "},null,0,null,null,null,0," ",{"$error":"#VALUE!"}," "," "]
[{"$f":"IF(COUNTRY_INFO!A146=0,\" \",COUNTRY_INFO!A146)","v":"Angola"},{"$f":"IF(COUNTRY_INFO!B146=0,\" \",COUNTRY_INFO!B146)","v":"NAMIBE"},{"$f":"IF(COUNTRY_INFO!C146=0,\" \",COUNTRY_INFO!C146)","v":"BIBALA"},{"$f":"IF(OR(COUNTRY_INFO!$U$9:$U$1000=\"T2 (PZQ)\",COUNTRY_INFO!$V$9:$V$1000=\"T2 (PZQ)\"), \"T2 (PZQ)\", \" \")","v":" "},null,null,{"$f":"IF(D146=\" \",\" \",COUNTRY_INFO!F146)","v":" "},null,0,null,null,null,0," ",{"$error":"#VALUE!"}," "," "]
[{"$f":"IF(COUNTRY_INFO!A147=0,\" \",COUNTRY_INFO!A147)","v":"Angola"},{"$f":"IF(COUNTRY_INFO!B147=0,\" \",COUNTRY_INFO!B147)","v":"NAMIBE"},{"$f":"IF(COUNTRY_INFO!C147=0,\" \",COUNTRY_INFO!C147)","v":"CAMUCUIO"},{"$f":"IF(OR(COUNTRY_INFO!$U$9:$U$1000=\"T2 (PZQ)\",COUNTRY_INFO!$V$9:$V$1000=\"T2 (PZQ)\"), \"T2 (PZQ)\", \" \")","v":" "},null,null,{"$f":"IF(D147=\" \",\" \",COUNTRY_INFO!F147)","v":" "},null,0,null,null,null,0," ",{"$error":"#VALUE!"}," "," "]
[{"$f":"IF(COUNTRY_INFO!A148=0,\" \",COUNTRY_INFO!A148)","v":"Angola"},{"$f":"IF(COUNTRY_INFO!B148=0,\" \",COUNTRY_INFO!B148)","v":"NAMIBE"},{"$f":"IF(COUNTRY_INFO!C148=0,\" \",COUNTRY_INFO!C148)","v":"NAMIBE"},{"$f":"IF(OR(COUNTRY_INFO!$U$9:$U$1000=\"T2 (PZQ)\",COUNTRY_INFO!$V$9:$V$1000=\"T2 (PZQ)\"), \"T2 (PZQ)\", \" \")","v":" "},null,null,{"$f":"IF(D148=\" \",\" \",COUNTRY_INFO!F148)","v":" "},null,0,null,null,null,0," ",{"$error":"#VALUE!"}," "," "]
[{"$f":"IF(COUNTRY_INFO!A149=0,\" \",COUNTRY_INFO!A149)","v":"Angola"},{"$f":"IF(COUNTRY_INFO!B149=0,\" \",COUNTRY_INFO!B149)","v":"NAMIBE"},{"$f":"IF(COUNTRY_INFO!C149=0,\" \",COUNTRY_INFO!C149)","v":"TOMBWA"},{"$f":"IF(OR(COUNTRY_INFO!$U$9:$U$1000=\"T2 (PZQ)\",COUNTRY_INFO!$V$9:$V$1000=\"T2 (PZQ)\"), \"T2 (PZQ)\", \" \")","v":" "},null,null,{"$f":"IF(D149=\" \",\" \",COUNTRY_INFO!F149)","v":" "},null,0,null,null,null,0," ",{"$error":"#VALUE!"}," "," "]
[{"$f":"IF(COUNTRY_INFO!A150=0,\" \",COUNTRY_INFO!A150)","v":"Angola"},{"$f":"IF(COUNTRY_INFO!B150=0,\" \",COUNTRY_INFO!B150)","v":"NAMIBE"},{"$f":"IF(COUNTRY_INFO!C150=0,\" \",COUNTRY_INFO!C150)","v":"VIREI"},{"$f":"IF(OR(COUNTRY_INFO!$U$9:$U$1000=\"T2 (PZQ)\",COUNTRY_INFO!$V$9:$V$1000=\"T2 (PZQ)\"), \"T2 (PZQ)\", \" \")","v":" "},null,null,{"$f":"IF(D150=\" \",\" \",COUNTRY_INFO!F150)","v":" "},null,0,null,null,null,0," ",{"$error":"#VALUE!"}," "," "]
[{"$f":"IF(COUNTRY_INFO!A151=0,\" \",COUNTRY_INFO!A151)","v":"Angola"},{"$f":"IF(COUNTRY_INFO!B151=0,\" \",COUNTRY_INFO!B151)","v":"UIGE"},{"$f":"IF(COUNTRY_INFO!C151=0,\" \",COUNTRY_INFO!C151)","v":"AMBUILA"},{"$f":"IF(OR(COUNTRY_INFO!$U$9:$U$1000=\"T2 (PZQ)\",COUNTRY_INFO!$V$9:$V$1000=\"T2 (PZQ)\"), \"T2 (PZQ)\", \" \")","v":" "},null,null,{"$f":"IF(D151=\" \",\" \",COUNTRY_INFO!F151)","v":" "},null,0,null,null,null,0," ",{"$error":"#VALUE!"}," "," "]
[{"$f":"IF(COUNTRY_INFO!A152=0,\" \",COUNTRY_INFO!A152)","v":"Angola"},{"$f":"IF(COUNTRY_INFO!B152=0,\" \",COUNTRY_INFO!B152)","v":"UIGE"},{"$f":"IF(COUNTRY_INFO!C152=0,\" \",COUNTRY_INFO!C152)","v":"BEMBE"},{"$f":"IF(OR(COUNTRY_INFO!$U$9:$U$1000=\"T2 (PZQ)\",COUNTRY_INFO!$V$9:$V$1000=\"T2 (PZQ)\"), \"T2 (PZQ)\", \" \")","v":" "},null,null,{"$f":"IF(D152=\" \",\" \",COUNTRY_INFO!F152)","v":" "},null,0,null,null,null,0," ",{"$error":"#VALUE!"}," "," "]
[{"$f":"IF(COUNTRY_INFO!A153=0,\" \",COUNTRY_INFO!A153)","v":"Angola"},{"$f":"IF(COUNTRY_INFO!B153=0,\" \",COUNTRY_INFO!B153)","v":"UIGE"},{"$f":"IF(COUNTRY_INFO!C153=0,\" \",COUNTRY_INFO!C153)","v":"BUENGAS"},{"$f":"IF(OR(COUNTRY_INFO!$U$9:$U$1000=\"T2 (PZQ)\",COUNTRY_INFO!$V$9:$V$1000=\"T2 (PZQ)\"), \"T2 (PZQ)\", \" \")","v":" "},null,null,{"$f":"IF(D153=\" \",\" \",COUNTRY_INFO!F153)","v":" "},null,0,null,null,null,0," ",{"$error":"#VALUE!"}," "," "]
[{"$f":"IF(COUNTRY_INFO!A154=0,\" \",COUNTRY_INFO!A154)","v":"Angola"},{"$f":"IF(COUNTRY_INFO!B154=0,\" \",COUNTRY_INFO!B154)","v":"UIGE"},{"$f":"IF(COUNTRY_INFO!C154=0,\" \",COUNTRY_INFO!C154)","v":"BUNGO"},{"$f":"IF(OR(COUNTRY_INFO!$U$9:$U$1000=\"T2 (PZQ)\",COUNTRY_INFO!$V$9:$V$1000=\"T2 (PZQ)\"), \"T2 (PZQ)\", \" \")","v":" "},null,null,{"$f":"IF(D154=\" \",\" \",COUNTRY_INFO!F154)","v":" "},null,0,null,null,null,0," ",{"$error":"#VALUE!"}," "," "]
[{"$f":"IF(COUNTRY_INFO!A155=0,\" \",COUNTRY_INFO!A155)","v":"Angola"},{"$f":"IF(COUNTRY_INFO!B155=0,\" \",COUNTRY_INFO!B155)","v":"UIGE"},{"$f":"IF(COUNTRY_INFO!C155=0,\" \",COUNTRY_INFO!C155)","v":"CANGOLA"},{"$f":"IF(OR(COUNTRY_INFO!$U$9:$U$1000=\"T2 (PZQ)\",COUNTRY_INFO!$V$9:$V$1000=\"T2 (PZQ)\"), \"T2 (PZQ)\", \" \")","v":" "},null,null,{"$f":"IF(D155=\" \",\" \",COUNTRY_INFO!F155)","v":" "},null,0,null,null,null,0," ",{"$error":"#VALUE!"}," "," "]
[{"$f":"IF(COUNTRY_INFO!A156=0,\" \",COUNTRY_INFO!A156)","v":"Angola"},{"$f":"IF(COUNTRY_INFO!B156=0,\" \",COUNTRY_INFO!B156)","v":"UIGE"},{"$f":"IF(COUNTRY_INFO!C156=0,\" \",COUNTRY_INFO!C156)","v":"DAMBA"},{"$f":"IF(OR(COUNTRY_INFO!$U$9:$U$1000=\"T2 (PZQ)\",COUNTRY_INFO!$V$9:$V$1000=\"T2 (PZQ)\"), \"T2 (PZQ)\", \" \")","v":" "},null,null,{"$f":"IF(D156=\" \",\" \",COUNTRY_INFO!F156)","v":" "},null,0,null,null,null,0," ",{"$error":"#VALUE!"}," "," "]
[{"$f":"IF(COUNTRY_INFO!A157=0,\" \",COUNTRY_INFO!A157)","v":"Angola"},{"$f":"IF(COUNTRY_INFO!B157=0,\" \",COUNTRY_INFO!B157)","v":"UIGE"},{"$f":"IF(COUNTRY_INFO!C157=0,\" \",COUNTRY_INFO!C157)","v":"MAQUELA DO ZOMBO"},{"$f":"IF(OR(COUNTRY_INFO!$U$9:$U$1000=\"T2 (PZQ)\",COUNTRY_INFO!$V$9:$V$1000=\"T2 (PZQ)\"), \"T2 (PZQ)\", \" \")","v":" "},null,null,{"$f":"IF(D157=\" \",\" \",COUNTRY_INFO!F157)","v":" "},null,0,null,null,null,0," ",{"$error":"#VALUE!"}," "," "]
[{"$f":"IF(COUNTRY_INFO!A158=0,\" \",COUNTRY_INFO!A158)","v":"Angola"},{"$f":"IF(COUNTRY_INFO!B158=0,\" \",COUNTRY_INFO!B158)","v":"UIGE"},{"$f":"IF(COUNTRY_INFO!C158=0,\" \",COUNTRY_INFO!C158)","v":"MILUNGA"},{"$f":"IF(OR(COUNTRY_INFO!$U$9:$U$1000=\"T2 (PZQ)\",COUNTRY_INFO!$V$9:$V$1000=\"T2 (PZQ)\"), \"T2 (PZQ)\", \" \")","v":" "},null,null,{"$f":"IF(D158=\" \",\" \",COUNTRY_INFO!F158)","v":" "},null,0,null,null,null,0," ",{"$error":"#VALUE!"}," "," "]
[{"$f":"IF(COUNTRY_INFO!A159=0,\" \",COUNTRY_INFO!A159)","v":"Angola"},{"$f":"IF(COUNTRY_INFO!B159=0,\" \",COUNTRY_INFO!B159)","v":"UIGE"},{"$f":"IF(COUNTRY_INFO!C159=0,\" \",COUNTRY_INFO!C159)","v":"MUCABA"},{"$f":"IF(OR(COUNTRY_INFO!$U$9:$U$1000=\"T2 (PZQ)\",COUNTRY_INFO!$V$9:$V$1000=\"T2 (PZQ)\"), \"T2 (PZQ)\", \" \")","v":" "},null,null,{"$f":"IF(D159=\" \",\" \",COUNTRY_INFO!F159)","v":" "},null,0,null,null,null,0," ",{"$error":"#VALUE!"}," "," "]
[{"$f":"IF(COUNTRY_INFO!A160=0,\" \",COUNTRY_INFO!A160)","v":"Angola"},{"$f":"IF(COUNTRY_INFO!B160=0,\" \",COUNTRY_INFO!B160)","v":"UIGE"},{"$f":"IF(COUNTRY_INFO!C160=0,\" \",COUNTRY_INFO!C160)","v":"NEGAGE"},{"$f":"IF(OR(COUNTRY_INFO!$U$9:$U$1000=\"T2 (PZQ)\",COUNTRY_INFO!$V$9:$V$1000=\"T2 (PZQ)\"), \"T2 (PZQ)\", \" \")","v":" "},null,null,{"$f":"IF(D160=\" \",\" \",COUNTRY_INFO!F160)","v":" "},null,0,null,null,null,0," ",{"$error":"#VALUE!"}," "," "]
[{"$f":"IF(COUNTRY_INFO!A161=0,\" \",COUNTRY_INFO!A161)","v":"Angola"},{"$f":"IF(COUNTRY_INFO!B161=0,\" \",COUNTRY_INFO!B161)","v":"UIGE"},{"$f":"IF(COUNTRY_INFO!C161=0,\" \",COUNTRY_INFO!C161)","v":"PURI"},{"$f":"IF(OR(COUNTRY_INFO!$U$9:$U$1000=\"T2 (PZQ)\",COUNTRY_INFO!$V$9:$V$1000=\"T2 (PZQ)\"), \"T2 (PZQ)\", \" \")","v":" "},null,null,{"$f":"IF(D161=\" \",\" \",COUNTRY_INFO!F161)","v":" "},null,0,null,null,null,0," ",{"$error":"#VALUE!"}," "," "]
[{"$f":"IF(COUNTRY_INFO!A162=0,\" \",COUNTRY_INFO!A162)","v":"Angola"},{"$f":"IF(COUNTRY_INFO!B162=0,\" \",COUNTRY_INFO!B162)","v":"UIGE"},{"$f":"IF(COUNTRY_INFO!C162=0,\" \",COUNTRY_INFO!C162)","v":"QUIMBELE"},{"$f":"IF(OR(COUNTRY_INFO!$U$9:$U$1000=\"T2 (PZQ)\",COUNTRY_INFO!$V$9:$V$1000=\"T2 (PZQ)\"), \"T2 (PZQ)\", \" \")","v":" "},null,null,{"$f":"IF(D162=\" \",\" \",COUNTRY_INFO!F162)","v":" "},null,0,null,null,null,0," ",{"$error":"#VALUE!"}," "," "]
[{"$f":"IF(COUNTRY_INFO!A163=0,\" \",COUNTRY_INFO!A163)","v":"Angola"},{"$f":"IF(COUNTRY_INFO!B163=0,\" \",COUNTRY_INFO!B163)","v":"UIGE"},{"$f":"IF(COUNTRY_INFO!C163=0,\" \",COUNTRY_INFO!C163)","v":"QUITEXE"},{"$f":"IF(OR(COUNTRY_INFO!$U$9:$U$1000=\"T2 (PZQ)\",COUNTRY_INFO!$V$9:$V$1000=\"T2 (PZQ)\"), \"T2 (PZQ)\", \" \")","v":" "},null,null,{"$f":"IF(D163=\" \",\" \",COUNTRY_INFO!F163)","v":" "},null,0,null,null,null,0," ",{"$error":"#VALUE!"}," "," "]
[{"$f":"IF(COUNTRY_INFO!A164=0,\" \",COUNTRY_INFO!A164)","v":"Angola"},{"$f":"IF(COUNTRY_INFO!B164=0,\" \",COUNTRY_INFO!B164)","v":"UIGE"},{"$f":"IF(COUNTRY_INFO!C164=0,\" \",COUNTRY_INFO!C164)","v":"SANZA POMBO"},{"$f":"IF(OR(COUNTRY_INFO!$U$9:$U$1000=\"T2 (PZQ)\",COUNTRY_INFO!$V$9:$V$1000=\"T2 (PZQ)\"), \"T2 (PZQ)\", \" \")","v":" "},null,null,{"$f":"IF(D164=\" \",\" \",COUNTRY_INFO!F164)","v":" "},null,0,null,null,null,0," ",{"$error":"#VALUE!"}," "," "]
[{"$f":"IF(COUNTRY_INFO!A165=0,\" \",COUNTRY_INFO!A165)","v":"Angola"},{"$f":"IF(COUNTRY_INFO!B165=0,\" \",COUNTRY_INFO!B165)","v":"UIGE"},{"$f":"IF(COUNTRY_INFO!C165=0,\" \",COUNTRY_INFO!C165)","v":"SONGO"},{"$f":"IF(OR(COUNTRY_INFO!$U$9:$U$1000=\"T2 (PZQ)\",COUNTRY_INFO!$V$9:$V$1000=\"T2 (PZQ)\"), \"T2 (PZQ)\", \" \")","v":" "},null,null,{"$f":"IF(D165=\" \",\" \",COUNTRY_INFO!F165)","v":" "},null,0,null,null,null,0," ",{"$error":"#VALUE!"}," "," "]
[{"$f":"IF(COUNTRY_INFO!A166=0,\" \",COUNTRY_INFO!A166)","v":"Angola"},{"$f":"IF(COUNTRY_INFO!B166=0,\" \",COUNTRY_INFO!B166)","v":"UIGE"},{"$f":"IF(COUNTRY_INFO!C166=0,\" \",COUNTRY_INFO!C166)","v":"UIGE"},{"$f":"IF(OR(COUNTRY_INFO!$U$9:$U$1000=\"T2 (PZQ)\",COUNTRY_INFO!$V$9:$V$1000=\"T2 (PZQ)\"), \"T2 (PZQ)\", \" \")","v":" "},null,null,{"$f":"IF(D166=\" \",\" \",COUNTRY_INFO!F166)","v":" "},null,0,null,null,null,0," ",{"$error":"#VALUE!"}," "," "]
[{"$f":"IF(COUNTRY_INFO!A167=0,\" \",COUNTRY_INFO!A167)","v":"Angola"},{"$f":"IF(COUNTRY_INFO!B167=0,\" \",COUNTRY_INFO!B167)","v":"ZAIRE"},{"$f":"IF(COUNTRY_INFO!C167=0,\" \",COUNTRY_INFO!C167)","v":"CUIMBA"},{"$f":"IF(OR(COUNTRY_INFO!$U$9:$U$1000=\"T2 (PZQ)\",COUNTRY_INFO!$V$9:$V$1000=\"T2 (PZQ)\"), \"T2 (PZQ)\", \" \")","v":" "},null,null,{"$f":"IF(D167=\" \",\" \",COUNTRY_INFO!F167)","v":" "},null,0,null,null,null,0," ",{"$error":"#VALUE!"}," "," "]
[{"$f":"IF(COUNTRY_INFO!A168=0,\" \",COUNTRY_INFO!A168)","v":"Angola"},{"$f":"IF(COUNTRY_INFO!B168=0,\" \",COUNTRY_INFO!B168)","v":"ZAIRE"},{"$f":"IF(COUNTRY_INFO!C168=0,\" \",COUNTRY_INFO!C168)","v":"MBANZA KONGO"},{"$f":"IF(OR(COUNTRY_INFO!$U$9:$U$1000=\"T2 (PZQ)\",COUNTRY_INFO!$V$9:$V$1000=\"T2 (PZQ)\"), \"T2 (PZQ)\", \" \")","v":" "},null,null,{"$f":"IF(D168=\" \",\" \",COUNTRY_INFO!F168)","v":" "},null,0,null,null,null,0," ",{"$error":"#VALUE!"}," "," "]
[{"$f":"IF(COUNTRY_INFO!A169=0,\" \",COUNTRY_INFO!A169)","v":"Angola"},{"$f":"IF(COUNTRY_INFO!B169=0,\" \",COUNTRY_INFO!B169)","v":"ZAIRE"},{"$f":"IF(COUNTRY_INFO!C169=0,\" \",COUNTRY_INFO!C169)","v":"NOQUI"},{"$f":"IF(OR(COUNTRY_INFO!$U$9:$U$1000=\"T2 (PZQ)\",COUNTRY_INFO!$V$9:$V$1000=\"T2 (PZQ)\"), \"T2 (PZQ)\", \" \")","v":" "},null,null,{"$f":"IF(D169=\" \",\" \",COUNTRY_INFO!F169)","v":" "},null,0,null,null,null,0," ",{"$error":"#VALUE!"}," "," "]
[{"$f":"IF(COUNTRY_INFO!A170=0,\" \",COUNTRY_INFO!A170)","v":"Angola"},{"$f":"IF(COUNTRY_INFO!B170=0,\" \",COUNTRY_INFO!B170)","v":"ZAIRE"},{"$f":"IF(COUNTRY_INFO!C170=0,\" \",COUNTRY_INFO!C170)","v":"NZETO"},{"$f":"IF(OR(COUNTRY_INFO!$U$9:$U$1000=\"T2 (PZQ)\",COUNTRY_INFO!$V$9:$V$1000=\"T2 (PZQ)\"), \"T2 (PZQ)\", \" \")","v":" "},null,null,{"$f":"IF(D170=\" \",\" \",COUNTRY_INFO!F170)","v":" "},null,0,null,null,null,0," ",{"$error":"#VALUE!"}," "," "]
[{"$f":"IF(COUNTRY_INFO!A171=0,\" \",COUNTRY_INFO!A171)","v":"Angola"},{"$f":"IF(COUNTRY_INFO!B171=0,\" \",COUNTRY_INFO!B171)","v":"ZAIRE"},{"$f":"IF(COUNTRY_INFO!C171=0,\" \",COUNTRY_INFO!C171)","v":"SOYO"},{"$f":"IF(OR(COUNTRY_INFO!$U$9:$U$1000=\"T2 (PZQ)\",COUNTRY_INFO!$V$9:$V$1000=\"T2 (PZQ)\"), \"T2 (PZQ)\", \" \")","v":" "},null,null,{"$f":"IF(D171=\" \",\" \",COUNTRY_INFO!F171)","v":" "},null,0,null,null,null,0," ",{"$error":"#VALUE!"}," "," "]
[{"$f":"IF(COUNTRY_INFO!A172=0,\" \",COUNTRY_INFO!A172)","v":"Angola"},{"$f":"IF(COUNTRY_INFO!B172=0,\" \",COUNTRY_INFO!B172)","v":"ZAIRE"},{"$f":"IF(COUNTRY_INFO!C172=0,\" \",COUNTRY_INFO!C172)","v":"TOMBOCO"},{"$f":"IF(OR(COUNTRY_INFO!$U$9:$U$1000=\"T2 (PZQ)\",COUNTRY_INFO!$V$9:$V$1000=\"T2 (PZQ)\"), \"T2 (PZQ)\", \" \")","v":" "},null,null,{"$f":"IF(D172=\" \",\" \",COUNTRY_INFO!F172)","v":" "},null,0,null,null,null,0," ",{"$error":"#VALUE!"}," "," "]

{"sheet":"T3_R1","index":7,"n_rows":172,"n_cols":18,"rows_kept":172,"cut":false,"hidden":false,"merged":[[5,6,5,9],[5,10,5,13],[5,14,5,17],[3,0,3,2],[5,0,5,2],[5,3,6,3],[5,5,6,5],[5,4,6,4]]}
["T 3 - Albendazole (ALB) or Mebendazole (MBD) - Round 1"]
["Administrative structure, population requiring PC by age group, population treated by age group and coverage"]
[]
["TOTAL",null,null,null,null,null,{"$f":"SUM(G$9:G$1000)","v":353290},994254,0,1347544,0,854508,0,854508,{"$f":"IF(G4<>0, IF(K4/G4*100=0, \"-\", K4/G4*100), \" \")","v":"-"},{"$f":"IF(H4<>0, IF(L4/H4*100=0, \"-\", L4/H4*100), \" \")","v":85.944637889311991},{"$f":"IF(I4<>0, IF(M4/I4*100=0, \"-\", M4/I4*100), \" \")","v":" "},{"$f":"IF(J4<>0, IF(N4/J4*100=0, \"-\", N4/J4*100), \" \")","v":63.412252215883115}]
[]
[null,null,null,"PC implemented","Medicine","Date","Population targeted for T3",null,null,null,"Population treated",null,null,null,"Programme coverage (%)"]
["Country","Province/State","District",null,null,null,"PreSAC","SAC","Adults","Total","PreSAC","SAC","Adults","Total","PreSAC","SAC","Adults","Total"]
[]
[{"$f":"IF(COUNTRY_INFO!A9=0,\" \",COUNTRY_INFO!A9)","v":"Angola"},{"$f":"IF(COUNTRY_INFO!B9=0,\" \",COUNTRY_INFO!B9)","v":"BENGO"},{"$f":"IF(COUNTRY_INFO!C9=0,\" \",COUNTRY_INFO!C9)","v":"AMBRIZ"},{"$f":"IF(OR(COUNTRY_INFO!$U$9:$U$1000=\"T3 (ALB/MBD)\",COUNTRY_INFO!$V$9:$V$1000=\"T3 (ALB/MBD)\"), \"T3 (ALB/MBD)\", \" \")","v":" "},null,null,null,null,null,{"$f":"SUM(G9:I9)","v":0},null,null,null,{"$f":"SUM(K9:M9)","v":0},{"$f":"IF(G9<>0, IF(K9/G9*100=0, \"-\", K9/G9*100), \" \")","v":" "},{"$f":"IF(H9<>0, IF(L9/H9*100=0, \"-\", L9/H9*100), \" \")","v":" "},{"$f":"IF(I9<>0, IF(M9/I9*100=0, \"-\", M9/I9*100), \" \")","v":" "},{"$f":"IF(J9<>0, IF(N9/J9*100=0, \"-\", N9/J9*100), \" \")","v":" "}]
[{"$f":"IF(COUNTRY_INFO!A10=0,\" \",COUNTRY_INFO!A10)","v":"Angola"},{"$f":"IF(COUNTRY_INFO!B10=0,\" \",COUNTRY_INFO!B10)","v":"BENGO"},{"$f":"IF(COUNTRY_INFO!C10=0,\" \",COUNTRY_INFO!C10)","v":"BULA ATUMBA"},{"$f":"IF(OR(COUNTRY_INFO!$U$9:$U$1000=\"T3 (ALB/MBD)\",COUNTRY_INFO!$V$9:$V$1000=\"T3 (ALB/MBD)\"), \"T3 (ALB/MBD)\", \" \")","v":" "},null,null,null,null,null,{"$f":"SUM(G10:I10)","v":0},null,null,null,{"$f":"SUM(K10:M10)","v":0},{"$f":"IF(G10<>0, IF(K10/G10*100=0, \"-\", K10/G10*100), \" \")","v":" "},{"$f":"IF(H10<>0, IF(L10/H10*100=0, \"-\", L10/H10*100), \" \")","v":" "},{"$f":"IF(I10<>0, IF(M10/I10*100=0, \"-\", M10/I10*100), \" \")","v":" "},{"$f":"IF(J10<>0, IF(N10/J10*100=0, \"-\", N10/J10*100), \" \")","v":" "}]
[{"$f":"IF(COUNTRY_INFO!A11=0,\" \",COUNTRY_INFO!A11)","v":"Angola"},{"$f":"IF(COUNTRY_INFO!B11=0,\" \",COUNTRY_INFO!B11)","v":"BENGO"},{"$f":"IF(COUNTRY_INFO!C11=0,\" \",COUNTRY_INFO!C11)","v":"DANDE"},{"$f":"IF(OR(COUNTRY_INFO!$U$9:$U$1000=\"T3 (ALB/MBD)\",COUNTRY_INFO!$V$9:$V$1000=\"T3 (ALB/MBD)\"), \"T3 (ALB/MBD)\", \" \")","v":" "},null,null,null,null,null,0,null,null,null,0," "," "," "," "]
[{"$f":"IF(COUNTRY_INFO!A12=0,\" \",COUNTRY_INFO!A12)","v":"Angola"},{"$f":"IF(COUNTRY_INFO!B12=0,\" \",COUNTRY_INFO!B12)","v":"BENGO"},{"$f":"IF(COUNTRY_INFO!C12=0,\" \",COUNTRY_INFO!C12)","v":"DEMBOS"},{"$f":"IF(OR(COUNTRY_INFO!$U$9:$U$1000=\"T3 (ALB/MBD)\",COUNTRY_INFO!$V$9:$V$1000=\"T3 (ALB/MBD)\"), \"T3 (ALB/MBD)\", \" \")","v":" "},null,null,null,null,null,0,null,null,null,0," "," "," "," "]
[{"$f":"IF(COUNTRY_INFO!A13=0,\" \",COUNTRY_INFO!A13)","v":"Angola"},{"$f":"IF(COUNTRY_INFO!B13=0,\" \",COUNTRY_INFO!B13)","v":"BENGO"},{"$f":"IF(COUNTRY_INFO!C13=0,\" \",COUNTRY_INFO!C13)","v":"NAMBUANGONGO"},{"$f":"IF(OR(COUNTRY_INFO!$U$9:$U$1000=\"T3 (ALB/MBD)\",COUNTRY_INFO!$V$9:$V$1000=\"T3 (ALB/MBD)\"), \"T3 (ALB/MBD)\", \" \")","v":" "},null,null,null,null,null,0,null,null,null,0," "," "," "," "]
[{"$f":"IF(COUNTRY_INFO!A14=0,\" \",COUNTRY_INFO!A14)","v":"Angola"},{"$f":"IF(COUNTRY_INFO!B14=0,\" \",COUNTRY_INFO!B14)","v":"BENGO"},{"$f":"IF(COUNTRY_INFO!C14=0,\" \",COUNTRY_INFO!C14)","v":"PANGO ALUQUEM"},{"$f":"IF(OR(COUNTRY_INFO!$U$9:$U$1000=\"T3 (ALB/MBD)\",COUNTRY_INFO!$V$9:$V$1000=\"T3 (ALB/MBD)\"), \"T3 (ALB/MBD)\", \" \")","v":" "},null,null,null,null,null,0,null,null,null,0," "," "," "," "]
[{"$f":"IF(COUNTRY_INFO!A15=0,\" \",COUNTRY_INFO!A15)","v":"Angola"},{"$f":"IF(COUNTRY_INFO!B15=0,\" \",COUNTRY_INFO!B15)","v":"BENGUELA"},{"$f":"IF(COUNTRY_INFO!C15=0,\" \",COUNTRY_INFO!C15)","v":"BAIA FARTA"},{"$f":"IF(OR(COUNTRY_INFO!$U$9:$U$1000=\"T3 (ALB/MBD)\",COUNTRY_INFO!$V$9:$V$1000=\"T3 (ALB/MBD)\"), \"T3 (ALB/MBD)\", \" \")","v":" "},null,null,null,null,null,0,null,null,null,0," "," "," "," "]
[{"$f":"IF(COUNTRY_INFO!A16=0,\" \",COUNTRY_INFO!A16)","v":"Angola"},{"$f":"IF(COUNTRY_INFO!B16=0,\" \",COUNTRY_INFO!B16)","v":"BENGUELA"},{"$f":"IF(COUNTRY_INFO!C16=0,\" \",COUNTRY_INFO!C16)","v":"BALOMBO"},{"$f":"IF(OR(COUNTRY_INFO!$U$9:$U$1000=\"T3 (ALB/MBD)\",COUNTRY_INFO!$V$9:$V$1000=\"T3 (ALB/MBD)\"), \"T3 (ALB/MBD)\", \" \")","v":" "},null,null,null,null,null,0,null,null,null,0," "," "," "," "]
[{"$f":"IF(COUNTRY_INFO!A17=0,\" \",COUNTRY_INFO!A17)","v":"Angola"},{"$f":"IF(COUNTRY_INFO!B17=0,\" \",COUNTRY_INFO!B17)","v":"BENGUELA"},{"$f":"IF(COUNTRY_INFO!C17=0,\" \",COUNTRY_INFO!C17)","v":"BENGUELA"},{"$f":"IF(OR(COUNTRY_INFO!$U$9:$U$1000=\"T3 (ALB/MBD)\",COUNTRY_INFO!$V$9:$V$1000=\"T3 (ALB/MBD)\"), \"T3 (ALB/MBD)\", \" \")","v":" "},null,null,null,null,null,0,null,null,null,0," "," "," "," "]
[{"$f":"IF(COUNTRY_INFO!A18=0,\" \",COUNTRY_INFO!A18)","v":"Angola"},{"$f":"IF(COUNTRY_INFO!B18=0,\" \",COUNTRY_INFO!B18)","v":"BENGUELA"},{"$f":"IF(COUNTRY_INFO!C18=0,\" \",COUNTRY_INFO!C18)","v":"BOCOIO"},{"$f":"IF(OR(COUNTRY_INFO!$U$9:$U$1000=\"T3 (ALB/MBD)\",COUNTRY_INFO!$V$9:$V$1000=\"T3 (ALB/MBD)\"), \"T3 (ALB/MBD)\", \" \")","v":" "},null,null,null,null,null,0,null,null,null,0," "," "," "," "]
[{"$f":"IF(COUNTRY_INFO!A19=0,\" \",COUNTRY_INFO!A19)","v":"Angola"},{"$f":"IF(COUNTRY_INFO!B19=0,\" \",COUNTRY_INFO!B19)","v":"BENGUELA"},{"$f":"IF(COUNTRY_INFO!C19=0,\" \",COUNTRY_INFO!C19)","v":"CAIMBAMBO"},{"$f":"IF(OR(COUNTRY_INFO!$U$9:$U$1000=\"T3 (ALB/MBD)\",COUNTRY_INFO!$V$9:$V$1000=\"T3 (ALB/MBD)\"), \"T3 (ALB/MBD)\", \" \")","v":" "},null,null,null,null,null,0,null,null,null,0," "," "," "," "]
[{"$f":"IF(COUNTRY_INFO!A20=0,\" \",COUNTRY_INFO!A20)","v":"Angola"},{"$f":"IF(COUNTRY_INFO!B20=0,\" \",COUNTRY_INFO!B20)","v":"BENGUELA"},{"$f":"IF(COUNTRY_INFO!C20=0,\" \",COUNTRY_INFO!C20)","v":"CATUMBELA"},{"$f":"IF(OR(COUNTRY_INFO!$U$9:$U$1000=\"T3 (ALB/MBD)\",COUNTRY_INFO!$V$9:$V$1000=\"T3 (ALB/MBD)\"), \"T3 (ALB/MBD)\", \" \")","v":" "},null,null,null,null,null,0,null,null,null,0," "," "," "," "]
[{"$f":"IF(COUNTRY_INFO!A21=0,\" \",COUNTRY_INFO!A21)","v":"Angola"},{"$f":"IF(COUNTRY_INFO!B21=0,\" \",COUNTRY_INFO!B21)","v":"BENGUELA"},{"$f":"IF(COUNTRY_INFO!C21=0,\" \",COUNTRY_INFO!C21)","v":"CHONGOROI"},{"$f":"IF(OR(COUNTRY_INFO!$U$9:$U$1000=\"T3 (ALB/MBD)\",COUNTRY_INFO!$V$9:$V$1000=\"T3 (ALB/MBD)\"), \"T3 (ALB/MBD)\", \" \")","v":" "},null,null,null,null,null,0,null,null,null,0," "," "," "," "]
[{"$f":"IF(COUNTRY_INFO!A22=0,\" \",COUNTRY_INFO!A22)","v":"Angola"},{"$f":"IF(COUNTRY_INFO!B22=0,\" \",COUNTRY_INFO!B22)","v":"BENGUELA"},{"$f":"IF(COUNTRY_INFO!C22=0,\" \",COUNTRY_INFO!C22)","v":"CUBAL"},{"$f":"IF(OR(COUNTRY_INFO!$U$9:$U$1000=\"T3 (ALB/MBD)\",COUNTRY_INFO!$V$9:$V$1000=\"T3 (ALB/MBD)\"), \"T3 (ALB/MBD)\", \" \")","v":" "},null,null,null,null,null,0,null,null,null,0," "," "," "," "]
[{"$f":"IF(COUNTRY_INFO!A23=0,\" \",COUNTRY_INFO!A23)","v":"Angola"},{"$f":"IF(COUNTRY_INFO!B23=0,\" \",COUNTRY_INFO!B23)","v":"BENGUELA"},{"$f":"IF(COUNTRY_INFO!C23=0,\" \",COUNTRY_INFO!C23)","v":"GANDA"},{"$f":"IF(OR(COUNTRY_INFO!$U$9:$U$1000=\"T3 (ALB/MBD)\",COUNTRY_INFO!$V$9:$V$1000=\"T3 (ALB/MBD)\"), \"T3 (ALB/MBD)\", \" \")","v":" "},null,null,null,null,null,0,null,null,null,0," "," "," "," "]
[{"$f":"IF(COUNTRY_INFO!A24=0,\" \",COUNTRY_INFO!A24)","v":"Angola"},{"$f":"IF(COUNTRY_INFO!B24=0,\" \",COUNTRY_INFO!B24)","v":"BENGUELA"},{"$f":"IF(COUNTRY_INFO!C24=0,\" \",COUNTRY_INFO!C24)","v":"LOBITO"},{"$f":"IF(OR(COUNTRY_INFO!$U$9:$U$1000=\"T3 (ALB/MBD)\",COUNTRY_INFO!$V$9:$V$1000=\"T3 (ALB/MBD)\"), \"T3 (ALB/MBD)\", \" \")","v":" "},null,null,null,null,null,0,null,null,null,0," "," "," "," "]
[{"$f":"IF(COUNTRY_INFO!A25=0,\" \",COUNTRY_INFO!A25)","v":"Angola"},{"$f":"IF(COUNTRY_INFO!B25=0,\" \",COUNTRY_INFO!B25)","v":"BIE"},{"$f":"IF(COUNTRY_INFO!C25=0,\" \",COUNTRY_INFO!C25)","v":"ANDULO"},{"$f":"IF(OR(COUNTRY_INFO!$U$9:$U$1000=\"T3 (ALB/MBD)\",COUNTRY_INFO!$V$9:$V$1000=\"T3 (ALB/MBD)\"), \"T3 (ALB/MBD)\", \" \")","v":" "},null,null,null,null,null,0,null,null,null,0," "," "," "," "]
[{"$f":"IF(COUNTRY_INFO!A26=0,\" \",COUNTRY_INFO!A26)","v":"Angola"},{"$f":"IF(COUNTRY_INFO!B26=0,\" \",COUNTRY_INFO!B26)","v":"BIE"},{"$f":"IF(COUNTRY_INFO!C26=0,\" \",COUNTRY_INFO!C26)","v":"CAMACUPA"},{"$f":"IF(OR(COUNTRY_INFO!$U$9:$U$1000=\"T3 (ALB/MBD)\",COUNTRY_INFO!$V$9:$V$1000=\"T3 (ALB/MBD)\"), \"T3 (ALB/MBD)\", \" \")","v":" "},null,null,null,null,null,0,null,null,null,0," "," "," "," "]
[{"$f":"IF(COUNTRY_INFO!A27=0,\" \",COUNTRY_INFO!A27)","v":"Angola"},{"$f":"IF(COUNTRY_INFO!B27=0,\" \",COUNTRY_INFO!B27)","v":"BIE"},{"$f":"IF(COUNTRY_INFO!C27=0,\" \",COUNTRY_INFO!C27)","v":"CATABOLA"},{"$f":"IF(OR(COUNTRY_INFO!$U$9:$U$1000=\"T3 (ALB/MBD)\",COUNTRY_INFO!$V$9:$V$1000=\"T3 (ALB/MBD)\"), \"T3 (ALB/MBD)\", \" \")","v":" "},null,null,null,null,null,0,null,null,null,0," "," "," "," "]
[{"$f":"IF(COUNTRY_INFO!A28=0,\" \",COUNTRY_INFO!A28)","v":"Angola"},{"$f":"IF(COUNTRY_INFO!B28=0,\" \",COUNTRY_INFO!B28)","v":"BIE"},{"$f":"IF(COUNTRY_INFO!C28=0,\" \",COUNTRY_INFO!C28)","v":"CHINGUAR"},{"$f":"IF(OR(COUNTRY_INFO!$U$9:$U$1000=\"T3 (ALB/MBD)\",COUNTRY_INFO!$V$9:$V$1000=\"T3 (ALB/MBD)\"), \"T3 (ALB/MBD)\", \" \")","v":" "},null,null,null,null,null,0,null,null,null,0," "," "," "," "]
[{"$f":"IF(COUNTRY_INFO!A29=0,\" \",COUNTRY_INFO!A29)","v":"Angola"},{"$f":"IF(COUNTRY_INFO!B29=0,\" \",COUNTRY_INFO!B29)","v":"BIE"},{"$f":"IF(COUNTRY_INFO!C29=0,\" \",COUNTRY_INFO!C29)","v":"CHITEMBO"},{"$f":"IF(OR(COUNTRY_INFO!$U$9:$U$1000=\"T3 (ALB/MBD)\",COUNTRY_INFO!$V$9:$V$1000=\"T3 (ALB/MBD)\"), \"T3 (ALB/MBD)\", \" \")","v":" "},null,null,null,null,null,0,null,null,null,0," "," "," "," "]
[{"$f":"IF(COUNTRY_INFO!A30=0,\" \",COUNTRY_INFO!A30)","v":"Angola"},{"$f":"IF(COUNTRY_INFO!B30=0,\" \",COUNTRY_INFO!B30)","v":"BIE"},{"$f":"IF(COUNTRY_INFO!C30=0,\" \",COUNTRY_INFO!C30)","v":"CUEMBA"},{"$f":"IF(OR(COUNTRY_INFO!$U$9:$U$1000=\"T3 (ALB/MBD)\",COUNTRY_INFO!$V$9:$V$1000=\"T3 (ALB/MBD)\"), \"T3 (ALB/MBD)\", \" \")","v":" "},null,null,null,null,null,0,null,null,null,0," "," "," "," "]
[{"$f":"IF(COUNTRY_INFO!A31=0,\" \",COUNTRY_INFO!A31)","v":"Angola"},{"$f":"IF(COUNTRY_INFO!B31=0,\" \",COUNTRY_INFO!B31)","v":"BIE"},{"$f":"IF(COUNTRY_INFO!C31=0,\" \",COUNTRY_INFO!C31)","v":"CUITO"},{"$f":"IF(OR(COUNTRY_INFO!$U$9:$U$1000=\"T3 (ALB/MBD)\",COUNTRY_INFO!$V$9:$V$1000=\"T3 (ALB/MBD)\"), \"T3 (ALB/MBD)\", \" \")","v":" "},null,null,null,null,null,0,null,null,null,0," "," "," "," "]
[{"$f":"IF(COUNTRY_INFO!A32=0,\" \",COUNTRY_INFO!A32)","v":"Angola"},{"$f":"IF(COUNTRY_INFO!B32=0,\" \",COUNTRY_INFO!B32)","v":"BIE"},{"$f":"IF(COUNTRY_INFO!C32=0,\" \",COUNTRY_INFO!C32)","v":"CUNHINGA"},{"$f":"IF(OR(COUNTRY_INFO!$U$9:$U$1000=\"T3 (ALB/MBD)\",COUNTRY_INFO!$V$9:$V$1000=\"T3 (ALB/MBD)\"), \"T3 (ALB/MBD)\", \" \")","v":" "},null,null,null,null,null,0,null,null,null,0," "," "," "," "]
[{"$f":"IF(COUNTRY_INFO!A33=0,\" \",COUNTRY_INFO!A33)","v":"Angola"},{"$f":"IF(COUNTRY_INFO!B33=0,\" \",COUNTRY_INFO!B33)","v":"BIE"},{"$f":"IF(COUNTRY_INFO!C33=0,\" \",COUNTRY_INFO!C33)","v":"NHAREA"},{"$f":"IF(OR(COUNTRY_INFO!$U$9:$U$1000=\"T3 (ALB/MBD)\",COUNTRY_INFO!$V$9:$V$1000=\"T3 (ALB/MBD)\"), \"T3 (ALB/MBD)\", \" \")","v":" "},null,null,null,null,null,0,null,null,null,0," "," "," "," "]
[{"$f":"IF(COUNTRY_INFO!A34=0,\" \",COUNTRY_INFO!A34)","v":"Angola"},{"$f":"IF(COUNTRY_INFO!B34=0,\" \",COUNTRY_INFO!B34)","v":"CABINDA"},{"$f":"IF(COUNTRY_INFO!C34=0,\" \",COUNTRY_INFO!C34)","v":"BELIZE"},{"$f":"IF(OR(COUNTRY_INFO!$U$9:$U$1000=\"T3 (ALB/MBD)\",COUNTRY_INFO!$V$9:$V$1000=\"T3 (ALB/MBD)\"), \"T3 (ALB/MBD)\", \" \")","v":" "},null,null,null,null,null,0,null,null,null,0," "," "," "," "]
[{"$f":"IF(COUNTRY_INFO!A35=0,\" \",COUNTRY_INFO!A35)","v":"Angola"},{"$f":"IF(COUNTRY_INFO!B35=0,\" \",COUNTRY_INFO!B35)","v":"CABINDA"},{"$f":"IF(COUNTRY_INFO!C35=0,\" \",COUNTRY_INFO!C35)","v":"BUCO ZAU"},{"$f":"IF(OR(COUNTRY_INFO!$U$9:$U$1000=\"T3 (ALB/MBD)\",COUNTRY_INFO!$V$9:$V$1000=\"T3 (ALB/MBD)\"), \"T3 (ALB/MBD)\", \" \")","v":" "},null,null,null,null,null,0,null,null,null,0," "," "," "," "]
[{"$f":"IF(COUNTRY_INFO!A36=0,\" \",COUNTRY_INFO!A36)","v":"Angola"},{"$f":"IF(COUNTRY_INFO!B36=0,\" \",COUNTRY_INFO!B36)","v":"CABINDA"},{"$f":"IF(COUNTRY_INFO!C36=0,\" \",COUNTRY_INFO!C36)","v":"CABINDA"},{"$f":"IF(OR(COUNTRY_INFO!$U$9:$U$1000=\"T3 (ALB/MBD)\",COUNTRY_INFO!$V$9:$V$1000=\"T3 (ALB/MBD)\"), \"T3 (ALB/MBD)\", \" \")","v":" "},null,null,null,null,null,0,null,null,null,0," "," "," "," "]
[{"$f":"IF(COUNTRY_INFO!A37=0,\" \",COUNTRY_INFO!A37)","v":"Angola"},{"$f":"IF(COUNTRY_INFO!B37=0,\" \",COUNTRY_INFO!B37)","v":"CABINDA"},{"$f":"IF(COUNTRY_INFO!C37=0,\" \",COUNTRY_INFO!C37)","v":"CACONGO"},{"$f":"IF(OR(COUNTRY_INFO!$U$9:$U$1000=\"T3 (ALB/MBD)\",COUNTRY_INFO!$V$9:$V$1000=\"T3 (ALB/MBD)\"), \"T3 (ALB/MBD)\", \" \")","v":" "},null,null,null,null,null,0,null,null,null,0," "," "," "," "]
[{"$f":"IF(COUNTRY_INFO!A38=0,\" \",COUNTRY_INFO!A38)","v":"Angola"},{"$f":"IF(COUNTRY_INFO!B38=0,\" \",COUNTRY_INFO!B38)","v":"CUANDO CUBANGO"},{"$f":"IF(COUNTRY_INFO!C38=0,\" \",COUNTRY_INFO!C38)","v":"CALAI"},{"$f":"IF(OR(COUNTRY_INFO!$U$9:$U$1000=\"T3 (ALB/MBD)\",COUNTRY_INFO!$V$9:$V$1000=\"T3 (ALB/MBD)\"), \"T3 (ALB/MBD)\", \" \")","v":" "},null,null,null,null,null,0,null,null,null,0," "," "," "," "]
[{"$f":"IF(COUNTRY_INFO!A39=0,\" \",COUNTRY_INFO!A39)","v":"Angola"},{"$f":"IF(COUNTRY_INFO!B39=0,\" \",COUNTRY_INFO!B39)","v":"CUANDO CUBANGO"},{"$f":"IF(COUNTRY_INFO!C39=0,\" \",COUNTRY_INFO!C39)","v":"CUANGAR"},{"$f":"IF(OR(COUNTRY_INFO!$U$9:$U$1000=\"T3 (ALB/MBD)\",COUNTRY_INFO!$V$9:$V$1000=\"T3 (ALB/MBD)\"), \"T3 (ALB/MBD)\", \" \")","v":" "},null,null,null,null,null,0,null,null,null,0," "," "," "," "]
[{"$f":"IF(COUNTRY_INFO!A40=0,\" \",COUNTRY_INFO!A40)","v":"Angola"},{"$f":"IF(COUNTRY_INFO!B40=0,\" \",COUNTRY_INFO!B40)","v":"CUANDO CUBANGO"},{"$f":"IF(COUNTRY_INFO!C40=0,\" \",COUNTRY_INFO!C40)","v":"CUCHI"},{"$f":"IF(OR(COUNTRY_INFO!$U$9:$U$1000=\"T3 (ALB/MBD)\",COUNTRY_INFO!$V$9:$V$1000=\"T3 (ALB/MBD)\"), \"T3 (ALB/MBD)\", \" \")","v":" "},null,null,null,null,null,0,null,null,null,0," "," "," "," "]
[{"$f":"IF(COUNTRY_INFO!A41=0,\" \",COUNTRY_INFO!A41)","v":"Angola"},{"$f":"IF(COUNTRY_INFO!B41=0,\" \",COUNTRY_INFO!B41)","v":"CUANDO CUBANGO"},{"$f":"IF(COUNTRY_INFO!C41=0,\" \",COUNTRY_INFO!C41)","v":"CUITO CUANAVALE"},{"$f":"IF(OR(COUNTRY_INFO!$U$9:$U$1000=\"T3 (ALB/MBD)\",COUNTRY_INFO!$V$9:$V$1000=\"T3 (ALB/MBD)\"), \"T3 (ALB/MBD)\", \" \")","v":" "},null,null,null,null,null,0,null,null,null,0," "," "," "," "]
[{"$f":"IF(COUNTRY_INFO!A42=0,\" \",COUNTRY_INFO!A42)","v":"Angola"},{"$f":"IF(COUNTRY_INFO!B42=0,\" \",COUNTRY_INFO!B42)","v":"CUANDO CUBANGO"},{"$f":"IF(COUNTRY_INFO!C42=0,\" \",COUNTRY_INFO!C42)","v":"DIRICO"},{"$f":"IF(OR(COUNTRY_INFO!$U$9:$U$1000=\"T3 (ALB/MBD)\",COUNTRY_INFO!$V$9:$V$1000=\"T3 (ALB/MBD)\"), \"T3 (ALB/MBD)\", \" \")","v":" "},null,null,null,null,null,0,null,null,null,0," "," "," "," "]
[{"$f":"IF(COUNTRY_INFO!A43=0,\" \",COUNTRY_INFO!A43)","v":"Angola"},{"$f":"IF(COUNTRY_INFO!B43=0,\" \",COUNTRY_INFO!B43)","v":"CUANDO CUBANGO"},{"$f":"IF(COUNTRY_INFO!C43=0,\" \",COUNTRY_INFO!C43)","v":"MAVINGA"},{"$f":"IF(OR(COUNTRY_INFO!$U$9:$U$1000=\"T3 (ALB/MBD)\",COUNTRY_INFO!$V$9:$V$1000=\"T3 (ALB/MBD)\"), \"T3 (ALB/MBD)\", \" \")","v":" "},null,null,null,null,null,0,null,null,null,0," "," "," "," "]
[{"$f":"IF(COUNTRY_INFO!A44=0,\" \",COUNTRY_INFO!A44)","v":"Angola"},{"$f":"IF(COUNTRY_INFO!B44=0,\" \",COUNTRY_INFO!B44)","v":"CUANDO CUBANGO"},{"$f":"IF(COUNTRY_INFO!C44=0,\" \",COUNTRY_INFO!C44)","v":"MENONGUE"},{"$f":"IF(OR(COUNTRY_INFO!$U$9:$U$1000=\"T3 (ALB/MBD)\",COUNTRY_INFO!$V$9:$V$1000=\"T3 (ALB/MBD)\"), \"T3 (ALB/MBD)\", \" \")","v":" "},null,null,null,null,null,0,null,null,null,0," "," "," "," "]
[{"$f":"IF(COUNTRY_INFO!A45=0,\" \",COUNTRY_INFO!A45)","v":"Angola"},{"$f":"IF(COUNTRY_INFO!B45=0,\" \",COUNTRY_INFO!B45)","v":"CUANDO CUBANGO"},{"$f":"IF(COUNTRY_INFO!C45=0,\" \",COUNTRY_INFO!C45)","v":"NANKOVA"},{"$f":"IF(OR(COUNTRY_INFO!$U$9:$U$1000=\"T3 (ALB/MBD)\",COUNTRY_INFO!$V$9:$V$1000=\"T3 (ALB/MBD)\"), \"T3 (ALB/MBD)\", \" \")","v":" "},null,null,null,null,null,0,null,null,null,0," "," "," "," "]
[{"$f":"IF(COUNTRY_INFO!A46=0,\" \",COUNTRY_INFO!A46)","v":"Angola"},{"$f":"IF(COUNTRY_INFO!B46=0,\" \",COUNTRY_INFO!B46)","v":"CUANDO CUBANGO"},{"$f":"IF(COUNTRY_INFO!C46=0,\" \",COUNTRY_INFO!C46)","v":"RIVUNGO"},{"$f":"IF(OR(COUNTRY_INFO!$U$9:$U$1000=\"T3 (ALB/MBD)\",COUNTRY_INFO!$V$9:$V$1000=\"T3 (ALB/MBD)\"), \"T3 (ALB/MBD)\", \" \")","v":" "},null,null,null,null,null,0,null,null,null,0," "," "," "," "]
[{"$f":"IF(COUNTRY_INFO!A47=0,\" \",COUNTRY_INFO!A47)","v":"Angola"},{"$f":"IF(COUNTRY_INFO!B47=0,\" \",COUNTRY_INFO!B47)","v":"CUANZA NORTE"},{"$f":"IF(COUNTRY_INFO!C47=0,\" \",COUNTRY_INFO!C47)","v":"AMBACA"},{"$f":"IF(OR(COUNTRY_INFO!$U$9:$U$1000=\"T3 (ALB/MBD)\",COUNTRY_INFO!$V$9:$V$1000=\"T3 (ALB/MBD)\"), \"T3 (ALB/MBD)\", \" \")","v":" "},null,null,null,null,null,0,null,null,null,0," "," "," "," "]
[{"$f":"IF(COUNTRY_INFO!A48=0,\" \",COUNTRY_INFO!A48)","v":"Angola"},{"$f":"IF(COUNTRY_INFO!B48=0,\" \",COUNTRY_INFO!B48)","v":"CUANZA NORTE"},{"$f":"IF(COUNTRY_INFO!C48=0,\" \",COUNTRY_INFO!C48)","v":"BANGA"},{"$f":"IF(OR(COUNTRY_INFO!$U$9:$U$1000=\"T3 (ALB/MBD)\",COUNTRY_INFO!$V$9:$V$1000=\"T3 (ALB/MBD)\"), \"T3 (ALB/MBD)\", \" \")","v":" "},null,null,null,null,null,0,null,null,null,0," "," "," "," "]
[{"$f":"IF(COUNTRY_INFO!A49=0,\" \",COUNTRY_INFO!A49)","v":"Angola"},{"$f":"IF(COUNTRY_INFO!B49=0,\" \",COUNTRY_INFO!B49)","v":"CUANZA NORTE"},{"$f":"IF(COUNTRY_INFO!C49=0,\" \",COUNTRY_INFO!C49)","v":"BOLONGONGO"},{"$f":"IF(OR(COUNTRY_INFO!$U$9:$U$1000=\"T3 (ALB/MBD)\",COUNTRY_INFO!$V$9:$V$1000=\"T3 (ALB/MBD)\"), \"T3 (ALB/MBD)\", \" \")","v":" "},null,null,null,null,null,0,null,null,null,0," "," "," "," "]
[{"$f":"IF(COUNTRY_INFO!A50=0,\" \",COUNTRY_INFO!A50)","v":"Angola"},{"$f":"IF(COUNTRY_INFO!B50=0,\" \",COUNTRY_INFO!B50)","v":"CUANZA NORTE"},{"$f":"IF(COUNTRY_INFO!C50=0,\" \",COUNTRY_INFO!C50)","v":"CAMBAMBE"},{"$f":"IF(OR(COUNTRY_INFO!$U$9:$U$1000=\"T3 (ALB/MBD)\",COUNTRY_INFO!$V$9:$V$1000=\"T3 (ALB/MBD)\"), \"T3 (ALB/MBD)\", \" \")","v":" "},null,null,null,null,null,0,null,null,null,0," "," "," "," "]
[{"$f":"IF(COUNTRY_INFO!A51=0,\" \",COUNTRY_INFO!A51)","v":"Angola"},{"$f":"IF(COUNTRY_INFO!B51=0,\" \",COUNTRY_INFO!B51)","v":"CUANZA NORTE"},{"$f":"IF(COUNTRY_INFO!C51=0,\" \",COUNTRY_INFO!C51)","v":"CAZENGO"},{"$f":"IF(OR(COUNTRY_INFO!$U$9:$U$1000=\"T3 (ALB/MBD)\",COUNTRY_INFO!$V$9:$V$1000=\"T3 (ALB/MBD)\"), \"T3 (ALB/MBD)\", \" \")","v":" "},null,null,null,null,null,0,null,null,null,0," "," "," "," "]
[{"$f":"IF(COUNTRY_INFO!A52=0,\" \",COUNTRY_INFO!A52)","v":"Angola"},{"$f":"IF(COUNTRY_INFO!B52=0,\" \",COUNTRY_INFO!B52)","v":"CUANZA NORTE"},{"$f":"IF(COUNTRY_INFO!C52=0,\" \",COUNTRY_INFO!C52)","v":"GOLUNGO ALTO"},{"$f":"IF(OR(COUNTRY_INFO!$U$9:$U$1000=\"T3 (ALB/MBD)\",COUNTRY_INFO!$V$9:$V$1000=\"T3 (ALB/MBD)\"), \"T3 (ALB/MBD)\", \" \")","v":" "},null,null,null,null,null,0,null,null,null,0," "," "," "," "]
[{"$f":"IF(COUNTRY_INFO!A53=0,\" \",COUNTRY_INFO!A53)","v":"Angola"},{"$f":"IF(COUNTRY_INFO!B53=0,\" \",COUNTRY_INFO!B53)","v":"CUANZA NORTE"},{"$f":"IF(COUNTRY_INFO!C53=0,\" \",COUNTRY_INFO!C53)","v":"GONGUEMBO"},{"$f":"IF(OR(COUNTRY_INFO!$U$9:$U$1000=\"T3 (ALB/MBD)\",COUNTRY_INFO!$V$9:$V$1000=\"T3 (ALB/MBD)\"), \"T3 (ALB/MBD)\", \" \")","v":" "},null,null,null,null,null,0,null,null,null,0," "," "," "," "]
[{"$f":"IF(COUNTRY_INFO!A54=0,\" \",COUNTRY_INFO!A54)","v":"Angola"},{"$f":"IF(COUNTRY_INFO!B54=0,\" \",COUNTRY_INFO!B54)","v":"CUANZA NORTE"},{"$f":"IF(COUNTRY_INFO!C54=0,\" \",COUNTRY_INFO!C54)","v":"LUCALA"},{"$f":"IF(OR(COUNTRY_INFO!$U$9:$U$1000=\"T3 (ALB/MBD)\",COUNTRY_INFO!$V$9:$V$1000=\"T3 (ALB/MBD)\"), \"T3 (ALB/MBD)\", \" \")","v":" "},null,null,null,null,null,0,null,null,null,0," "," "," "," "]
[{"$f":"IF(COUNTRY_INFO!A55=0,\" \",COUNTRY_INFO!A55)","v":"Angola"},{"$f":"IF(COUNTRY_INFO!B55=0,\" \",COUNTRY_INFO!B55)","v":"CUANZA NORTE"},{"$f":"IF(COUNTRY_INFO!C55=0,\" \",COUNTRY_INFO!C55)","v":"QUICULUNGO"},{"$f":"IF(OR(COUNTRY_INFO!$U$9:$U$1000=\"T3 (ALB/MBD)\",COUNTRY_INFO!$V$9:$V$1000=\"T3 (ALB/MBD)\"), \"T3 (ALB/MBD)\", \" \")","v":" "},null,null,null,null,null,0,null,null,null,0," "," "," "," "]
[{"$f":"IF(COUNTRY_INFO!A56=0,\" \",COUNTRY_INFO!A56)","v":"Angola"},{"$f":"IF(COUNTRY_INFO!B56=0,\" \",COUNTRY_INFO!B56)","v":"CUANZA NORTE"},{"$f":"IF(COUNTRY_INFO!C56=0,\" \",COUNTRY_INFO!C56)","v":"SAMBA CAJU"},{"$f":"IF(OR(COUNTRY_INFO!$U$9:$U$1000=\"T3 (ALB/MBD)\",COUNTRY_INFO!$V$9:$V$1000=\"T3 (ALB/MBD)\"), \"T3 (ALB/MBD)\", \" \")","v":" "},null,null,null,null,null,0,null,null,null,0," "," "," "," "]
[{"$f":"IF(COUNTRY_INFO!A57=0,\" \",COUNTRY_INFO!A57)","v":"Angola"},{"$f":"IF(COUNTRY_INFO!B57=0,\" \",COUNTRY_INFO!B57)","v":"CUANZA SUL"},{"$f":"IF(COUNTRY_INFO!C57=0,\" \",COUNTRY_INFO!C57)","v":"AMBOIM"},{"$f":"IF(OR(COUNTRY_INFO!$U$9:$U$1000=\"T3 (ALB/MBD)\",COUNTRY_INFO!$V$9:$V$1000=\"T3 (ALB/MBD)\"), \"T3 (ALB/MBD)\", \" \")","v":"T3 (ALB/MBD)"},null,"Março 2018",45515,79367,null,124882,null,50507,null,50507,"-",63.637279977824534," ",40.443778927307378]
[{"$f":"IF(COUNTRY_INFO!A58=0,\" \",COUNTRY_INFO!A58)","v":"Angola"},{"$f":"IF(COUNTRY_INFO!B58=0,\" \",COUNTRY_INFO!B58)","v":"CUANZA SUL"},{"$f":"IF(COUNTRY_INFO!C58=0,\" \",COUNTRY_INFO!C58)","v":"CASSONGUE"},{"$f":"IF(OR(COUNTRY_INFO!$U$9:$U$1000=\"T3 (ALB/MBD)\",COUNTRY_INFO!$V$9:$V$1000=\"T3 (ALB/MBD)\"), \"T3 (ALB/MBD)\", \" \")","v":"T3 (ALB/MBD)"},null,"Março 2018",28520,49732,null,78252,null,42285,null,42285,"-",85.025737955441159," ",54.036957521852479]
[{"$f":"IF(COUNTRY_INFO!A59=0,\" \",COUNTRY_INFO!A59)","v":"Angola"},{"$f":"IF(COUNTRY_INFO!B59=0,\" \",COUNTRY_INFO!B59)","v":"CUANZA SUL"},{"$f":"IF(COUNTRY_INFO!C59=0,\" \",COUNTRY_INFO!C59)","v":"CELA (Waku Kungo)"},{"$f":"IF(OR(COUNTRY_INFO!$U$9:$U$1000=\"T3 (ALB/MBD)\",COUNTRY_INFO!$V$9:$V$1000=\"T3 (ALB/MBD)\"), \"T3 (ALB/MBD)\", \" \")","v":"T3 (ALB/MBD)"},null,"Março 2018",42338,73826,null,116164,null,68014,null,68014,"-",92.127434779075116," ",58.549981061258215]
[{"$f":"IF(COUNTRY_INFO!A60=0,\" \",COUNTRY_INFO!A60)","v":"Angola"},{"$f":"IF(COUNTRY_INFO!B60=0,\" \",COUNTRY_INFO!B60)","v":"CUANZA SUL"},{"$f":"IF(COUNTRY_INFO!C60=0,\" \",COUNTRY_INFO!C60)","v":"CONDA"},{"$f":"IF(OR(COUNTRY_INFO!$U$9:$U$1000=\"T3 (ALB/MBD)\",COUNTRY_INFO!$V$9:$V$1000=\"T3 (ALB/MBD)\"), \"T3 (ALB/MBD)\", \" \")","v":"T3 (ALB/MBD)"},null,"Março 2018",16798,29292,null,46090,null,21351,null,21351,"-",72.890208930766079," ",46.324582338902147]
[{"$f":"IF(COUNTRY_INFO!A61=0,\" \",COUNTRY_INFO!A61)","v":"Angola"},{"$f":"IF(COUNTRY_INFO!B61=0,\" \",COUNTRY_INFO!B61)","v":"CUANZA SUL"},{"$f":"IF(COUNTRY_INFO!C61=0,\" \",COUNTRY_INFO!C61)","v":"EBO"},{"$f":"IF(OR(COUNTRY_INFO!$U$9:$U$1000=\"T3 (ALB/MBD)\",COUNTRY_INFO!$V$9:$V$1000=\"T3 (ALB/MBD)\"), \"T3 (ALB/MBD)\", \" \")","v":"T3 (ALB/MBD)"},null,"Março 2018",31000,54057,null,85057,null,32533,null,32533,"-",60.182770039032874," ",38.248468673948061]
[{"$f":"IF(COUNTRY_INFO!A62=0,\" \",COUNTRY_INFO!A62)","v":"Angola"},{"$f":"IF(COUNTRY_INFO!B62=0,\" \",COUNTRY_INFO!B62)","v":"CUANZA SUL"},{"$f":"IF(COUNTRY_INFO!C62=0,\" \",COUNTRY_INFO!C62)","v":"LIBOLO"},{"$f":"IF(OR(COUNTRY_INFO!$U$9:$U$1000=\"T3 (ALB/MBD)\",COUNTRY_INFO!$V$9:$V$1000=\"T3 (ALB/MBD)\"), \"T3 (ALB/MBD)\", \" \")","v":"T3 (ALB/MBD)"},null,"Março 2018",17284,30140,null,47424,null,20644,null,20644,"-",68.493696084936957," ",43.530701754385966]
[{"$f":"IF(COUNTRY_INFO!A63=0,\" \",COUNTRY_INFO!A63)","v":"Angola"},{"$f":"IF(COUNTRY_INFO!B63=0,\" \",COUNTRY_INFO!B63)","v":"CUANZA SUL"},{"$f":"IF(COUNTRY_INFO!C63=0,\" \",COUNTRY_INFO!C63)","v":"MUSSENDE"},{"$f":"IF(OR(COUNTRY_INFO!$U$9:$U$1000=\"T3 (ALB/MBD)\",COUNTRY_INFO!$V$9:$V$1000=\"T3 (ALB/MBD)\"), \"T3 (ALB/MBD)\", \" \")","v":"T3 (ALB/MBD)"},null,"Março 2018",15496,27022,null,42518,null,29228,null,29228,"-",108.16371845163199," ",68.742650171691992]
[{"$f":"IF(COUNTRY_INFO!A64=0,\" \",COUNTRY_INFO!A64)","v":"Angola"},{"$f":"IF(COUNTRY_INFO!B64=0,\" \",COUNTRY_INFO!B64)","v":"CUANZA SUL"},{"$f":"IF(COUNTRY_INFO!C64=0,\" \",COUNTRY_INFO!C64)","v":"PORTO AMBOIM"},{"$f":"IF(OR(COUNTRY_INFO!$U$9:$U$1000=\"T3 (ALB/MBD)\",COUNTRY_INFO!$V$9:$V$1000=\"T3 (ALB/MBD)\"), \"T3 (ALB/MBD)\", \" \")","v":"T3 (ALB/MBD)"},null,"Março 2018",23649,41237,null,64886,null,34644,null,34644,"-",84.011931032810338," ",53.392103073082019]
[{"$f":"IF(COUNTRY_INFO!A65=0,\" \",COUNTRY_INFO!A65)","v":"Angola"},{"$f":"IF(COUNTRY_INFO!B65=0,\" \",COUNTRY_INFO!B65)","v":"CUANZA SUL"},{"$f":"IF(COUNTRY_INFO!C65=0,\" \",COUNTRY_INFO!C65)","v":"QUIBALA"},{"$f":"IF(OR(COUNTRY_INFO!$U$9:$U$1000=\"T3 (ALB/MBD)\",COUNTRY_INFO!$V$9:$V$1000=\"T3 (ALB/MBD)\"), \"T3 (ALB/MBD)\", \" \")","v":"T3 (ALB/MBD)"},null,"Março 2018",26669,46504,null,73173,null,31314,null,31314,"-",67.336143127472909," ",42.794473371325488]
[{"$f":"IF(COUNTRY_INFO!A66=0,\" \",COUNTRY_INFO!A66)","v":"Angola"},{"$f":"IF(COUNTRY_INFO!B66=0,\" \",COUNTRY_INFO!B66)","v":"CUANZA SUL"},{"$f":"IF(COUNTRY_INFO!C66=0,\" \",COUNTRY_INFO!C66)","v":"QUILENDA"},{"$f":"IF(OR(COUNTRY_INFO!$U$9:$U$1000=\"T3 (ALB/MBD)\",COUNTRY_INFO!$V$9:$V$1000=\"T3 (ALB/MBD)\"), \"T3 (ALB/MBD)\", \" \")","v":"T3 (ALB/MBD)"},null,"Março 2018",18332,31966,null,50298,null,26731,null,26731,"-",83.623224676218484," ",53.145254284464592]
[{"$f":"IF(COUNTRY_INFO!A67=0,\" \",COUNTRY_INFO!A67)","v":"Angola"},{"$f":"IF(COUNTRY_INFO!B67=0,\" \",COUNTRY_INFO!B67)","v":"CUANZA SUL"},{"$f":"IF(COUNTRY_INFO!C67=0,\" \",COUNTRY_INFO!C67)","v":"SELES"},{"$f":"IF(OR(COUNTRY_INFO!$U$9:$U$1000=\"T3 (ALB/MBD)\",COUNTRY_INFO!$V$9:$V$1000=\"T3 (ALB/MBD)\"), \"T3 (ALB/MBD)\", \" \")","v":"T3 (ALB/MBD)"},null,"Março 2018",35130,61258,null,96388,null,42121,null,42121,"-",68.759998694048122," ",43.699423164709302]
[{"$f":"IF(COUNTRY_INFO!A68=0,\" \",COUNTRY_INFO!A68)","v":"Angola"},{"$f":"IF(COUNTRY_INFO!B68=0,\" \",COUNTRY_INFO!B68)","v":"CUANZA SUL"},{"$f":"IF(COUNTRY_INFO!C68=0,\" \",COUNTRY_INFO!C68)","v":"SUMBE"},{"$f":"IF(OR(COUNTRY_INFO!$U$9:$U$1000=\"T3 (ALB/MBD)\",COUNTRY_INFO!$V$9:$V$1000=\"T3 (ALB/MBD)\"), \"T3 (ALB/MBD)\", \" \")","v":"T3 (ALB/MBD)"},null,"Março 2018",52559,91651,null,144210,null,76934,null,76934,"-",83.942346510130832," ",53.348588863463007]
[{"$f":"IF(COUNTRY_INFO!A69=0,\" \",COUNTRY_INFO!A69)","v":"Angola"},{"$f":"IF(COUNTRY_INFO!B69=0,\" \",COUNTRY_INFO!B69)","v":"CUNENE"},{"$f":"IF(COUNTRY_INFO!C69=0,\" \",COUNTRY_INFO!C69)","v":"CAHAMA"},{"$f":"IF(OR(COUNTRY_INFO!$U$9:$U$1000=\"T3 (ALB/MBD)\",COUNTRY_INFO!$V$9:$V$1000=\"T3 (ALB/MBD)\"), \"T3 (ALB/MBD)\", \" \")","v":" "},null,null,null,null,null,0,null,null,null,0," "," "," "," "]
[{"$f":"IF(COUNTRY_INFO!A70=0,\" \",COUNTRY_INFO!A70)","v":"Angola"},{"$f":"IF(COUNTRY_INFO!B70=0,\" \",COUNTRY_INFO!B70)","v":"CUNENE"},{"$f":"IF(COUNTRY_INFO!C70=0,\" \",COUNTRY_INFO!C70)","v":"CUANHAMA"},{"$f":"IF(OR(COUNTRY_INFO!$U$9:$U$1000=\"T3 (ALB/MBD)\",COUNTRY_INFO!$V$9:$V$1000=\"T3 (ALB/MBD)\"), \"T3 (ALB/MBD)\", \" \")","v":" "},null,null,null,null,null,0,null,null,null,0," "," "," "," "]
[{"$f":"IF(COUNTRY_INFO!A71=0,\" \",COUNTRY_INFO!A71)","v":"Angola"},{"$f":"IF(COUNTRY_INFO!B71=0,\" \",COUNTRY_INFO!B71)","v":"CUNENE"},{"$f":"IF(COUNTRY_INFO!C71=0,\" \",COUNTRY_INFO!C71)","v":"CUROCA"},{"$f":"IF(OR(COUNTRY_INFO!$U$9:$U$1000=\"T3 (ALB/MBD)\",COUNTRY_INFO!$V$9:$V$1000=\"T3 (ALB/MBD)\"), \"T3 (ALB/MBD)\", \" \")","v":" "},null,null,null,null,null,0,null,null,null,0," "," "," "," "]
[{"$f":"IF(COUNTRY_INFO!A72=0,\" \",COUNTRY_INFO!A72)","v":"Angola"},{"$f":"IF(COUNTRY_INFO!B72=0,\" \",COUNTRY_INFO!B72)","v":"CUNENE"},{"$f":"IF(COUNTRY_INFO!C72=0,\" \",COUNTRY_INFO!C72)","v":"CUVELAI"},{"$f":"IF(OR(COUNTRY_INFO!$U$9:$U$1000=\"T3 (ALB/MBD)\",COUNTRY_INFO!$V$9:$V$1000=\"T3 (ALB/MBD)\"), \"T3 (ALB/MBD)\", \" \")","v":" "},null,null,null,null,null,0,null,null,null,0," "," "," "," "]
[{"$f":"IF(COUNTRY_INFO!A73=0,\" \",COUNTRY_INFO!A73)","v":"Angola"},{"$f":"IF(COUNTRY_INFO!B73=0,\" \",COUNTRY_INFO!B73)","v":"CUNENE"},{"$f":"IF(COUNTRY_INFO!C73=0,\" \",COUNTRY_INFO!C73)","v":"NAMACUNDE"},{"$f":"IF(OR(COUNTRY_INFO!$U$9:$U$1000=\"T3 (ALB/MBD)\",COUNTRY_INFO!$V$9:$V$1000=\"T3 (ALB/MBD)\"), \"T3 (ALB/MBD)\", \" \")","v":" "},null,null,null,null,null,0,null,null,null,0," "," "," "," "]
[{"$f":"IF(COUNTRY_INFO!A74=0,\" \",COUNTRY_INFO!A74)","v":"Angola"},{"$f":"IF(COUNTRY_INFO!B74=0,\" \",COUNTRY_INFO!B74)","v":"CUNENE"},{"$f":"IF(COUNTRY_INFO!C74=0,\" \",COUNTRY_INFO!C74)","v":"OMBADJA"},{"$f":"IF(OR(COUNTRY_INFO!$U$9:$U$1000=\"T3 (ALB/MBD)\",COUNTRY_INFO!$V$9:$V$1000=\"T3 (ALB/MBD)\"), \"T3 (ALB/MBD)\", \" \")","v":" "},null,null,null,null,null,{"$f":"SUM(G74:I74)","v":0},null,null,null,{"$f":"SUM(K74:M74)","v":0},{"$f":"IF(G74<>0, IF(K74/G74*100=0, \"-\", K74/G74*100), \" \")","v":" "},{"$f":"IF(H74<>0, IF(L74/H74*100=0, \"-\", L74/H74*100), \" \")","v":" "},{"$f":"IF(I74<>0, IF(M74/I74*100=0, \"-\", M74/I74*100), \" \")","v":" "},{"$f":"IF(J74<>0, IF(N74/J74*100=0, \"-\", N74/J74*100), \" \")","v":" "}]
[{"$f":"IF(COUNTRY_INFO!A75=0,\" \",COUNTRY_INFO!A75)","v":"Angola"},{"$f":"IF(COUNTRY_INFO!B75=0,\" \",COUNTRY_INFO!B75)","v":"HUAMBO"},{"$f":"IF(COUNTRY_INFO!C75=0,\" \",COUNTRY_INFO!C75)","v":"BAILUNDO"},{"$f":"IF(OR(COUNTRY_INFO!$U$9:$U$1000=\"T3 (ALB/MBD)\",COUNTRY_INFO!$V$9:$V$1000=\"T3 (ALB/MBD)\"), \"T3 (ALB/MBD)\", \" \")","v":" "},null,null,null,null,null,0,null,null,null,0," "," "," "," "]
[{"$f":"IF(COUNTRY_INFO!A76=0,\" \",COUNTRY_INFO!A76)","v":"Angola"},{"$f":"IF(COUNTRY_INFO!B76=0,\" \",COUNTRY_INFO!B76)","v":"HUAMBO"},{"$f":"IF(COUNTRY_INFO!C76=0,\" \",COUNTRY_INFO!C76)","v":"CAALA"},{"$f":"IF(OR(COUNTRY_INFO!$U$9:$U$1000=\"T3 (ALB/MBD)\",COUNTRY_INFO!$V$9:$V$1000=\"T3 (ALB/MBD)\"), \"T3 (ALB/MBD)\", \" \")","v":" "},null,null,null,null,null,0,null,null,null,0," "," "," "," "]
[{"$f":"IF(COUNTRY_INFO!A77=0,\" \",COUNTRY_INFO!A77)","v":"Angola"},{"$f":"IF(COUNTRY_INFO!B77=0,\" \",COUNTRY_INFO!B77)","v":"HUAMBO"},{"$f":"IF(COUNTRY_INFO!C77=0,\" \",COUNTRY_INFO!C77)","v":"CACHIUNGO"},{"$f":"IF(OR(COUNTRY_INFO!$U$9:$U$1000=\"T3 (ALB/MBD)\",COUNTRY_INFO!$V$9:$V$1000=\"T3 (ALB/MBD)\"), \"T3 (ALB/MBD)\", \" \")","v":" "},null,null,null,null,null,0,null,null,null,0," "," "," "," "]
[{"$f":"IF(COUNTRY_INFO!A78=0,\" \",COUNTRY_INFO!A78)","v":"Angola"},{"$f":"IF(COUNTRY_INFO!B78=0,\" \",COUNTRY_INFO!B78)","v":"HUAMBO"},{"$f":"IF(COUNTRY_INFO!C78=0,\" \",COUNTRY_INFO!C78)","v":"CHICALA CHOLOHANGA"},{"$f":"IF(OR(COUNTRY_INFO!$U$9:$U$1000=\"T3 (ALB/MBD)\",COUNTRY_INFO!$V$9:$V$1000=\"T3 (ALB/MBD)\"), \"T3 (ALB/MBD)\", \" \")","v":" "},null,null,null,null,null,0,null,null,null,0," "," "," "," "]
[{"$f":"IF(COUNTRY_INFO!A79=0,\" \",COUNTRY_INFO!A79)","v":"Angola"},{"$f":"IF(COUNTRY_INFO!B79=0,\" \",COUNTRY_INFO!B79)","v":"HUAMBO"},{"$f":"IF(COUNTRY_INFO!C79=0,\" \",COUNTRY_INFO!C79)","v":"CHINDJENJE"},{"$f":"IF(OR(COUNTRY_INFO!$U$9:$U$1000=\"T3 (ALB/MBD)\",COUNTRY_INFO!$V$9:$V$1000=\"T3 (ALB/MBD)\"), \"T3 (ALB/MBD)\", \" \")","v":" "},null,null,null,null,null,0,null,null,null,0," "," "," "," "]
[{"$f":"IF(COUNTRY_INFO!A80=0,\" \",COUNTRY_INFO!A80)","v":"Angola"},{"$f":"IF(COUNTRY_INFO!B80=0,\" \",COUNTRY_INFO!B80)","v":"HUAMBO"},{"$f":"IF(COUNTRY_INFO!C80=0,\" \",COUNTRY_INFO!C80)","v":"ECUNHA"},{"$f":"IF(OR(COUNTRY_INFO!$U$9:$U$1000=\"T3 (ALB/MBD)\",COUNTRY_INFO!$V$9:$V$1000=\"T3 (ALB/MBD)\"), \"T3 (ALB/MBD)\", \" \")","v":" "},null,null,null,null,null,0,null,null,null,0," "," "," "," "]
[{"$f":"IF(COUNTRY_INFO!A81=0,\" \",COUNTRY_INFO!A81)","v":"Angola"},{"$f":"IF(COUNTRY_INFO!B81=0,\" \",COUNTRY_INFO!B81)","v":"HUAMBO"},{"$f":"IF(COUNTRY_INFO!C81=0,\" \",COUNTRY_INFO!C81)","v":"HUAMBO"},{"$f":"IF(OR(COUNTRY_INFO!$U$9:$U$1000=\"T3 (ALB/MBD)\",COUNTRY_INFO!$V$9:$V$1000=\"T3 (ALB/MBD)\"), \"T3 (ALB/MBD)\", \" \")","v":" "},null,null,null,null,null,0,null,null,null,0," "," "," "," "]
[{"$f":"IF(COUNTRY_INFO!A82=0,\" \",COUNTRY_INFO!A82)","v":"Angola"},{"$f":"IF(COUNTRY_INFO!B82=0,\" \",COUNTRY_INFO!B82)","v":"HUAMBO"},{"$f":"IF(COUNTRY_INFO!C82=0,\" \",COUNTRY_INFO!C82)","v":"LONDUIMBALI"},{"$f":"IF(OR(COUNTRY_INFO!$U$9:$U$1000=\"T3 (ALB/MBD)\",COUNTRY_INFO!$V$9:$V$1000=\"T3 (ALB/MBD)\"), \"T3 (ALB/MBD)\", \" \")","v":" "},null,null,null,null,null,0,null,null,null,0," "," "," "," "]
[{"$f":"IF(COUNTRY_INFO!A83=0,\" \",COUNTRY_INFO!A83)","v":"Angola"},{"$f":"IF(COUNTRY_INFO!B83=0,\" \",COUNTRY_INFO!B83)","v":"HUAMBO"},{"$f":"IF(COUNTRY_INFO!C83=0,\" \",COUNTRY_INFO!C83)","v":"LONGONJO"},{"$f":"IF(OR(COUNTRY_INFO!$U$9:$U$1000=\"T3 (ALB/MBD)\",COUNTRY_INFO!$V$9:$V$1000=\"T3 (ALB/MBD)\"), \"T3 (ALB/MBD)\", \" \")","v":" "},null,null,null,null,null,0,null,null,null,0," "," "," "," "]
[{"$f":"IF(COUNTRY_INFO!A84=0,\" \",COUNTRY_INFO!A84)","v":"Angola"},{"$f":"IF(COUNTRY_INFO!B84=0,\" \",COUNTRY_INFO!B84)","v":"HUAMBO"},{"$f":"IF(COUNTRY_INFO!C84=0,\" \",COUNTRY_INFO!C84)","v":"MUNGO"},{"$f":"IF(OR(COUNTRY_INFO!$U$9:$U$1000=\"T3 (ALB/MBD)\",COUNTRY_INFO!$V$9:$V$1000=\"T3 (ALB/MBD)\"), \"T3 (ALB/MBD)\", \" \")","v":" "},null,null,null,null,null,0,null,null,null,0," "," "," "," "]
[{"$f":"IF(COUNTRY_INFO!A85=0,\" \",COUNTRY_INFO!A85)","v":"Angola"},{"$f":"IF(COUNTRY_INFO!B85=0,\" \",COUNTRY_INFO!B85)","v":"HUAMBO"},{"$f":"IF(COUNTRY_INFO!C85=0,\" \",COUNTRY_INFO!C85)","v":"UCUMA"},{"$f":"IF(OR(COUNTRY_INFO!$U$9:$U$1000=\"T3 (ALB/MBD)\",COUNTRY_INFO!$V$9:$V$1000=\"T3 (ALB/MBD)\"), \"T3 (ALB/MBD)\", \" \")","v":" "},null,null,null,null,null,0,null,null,null,0," "," "," "," "]
[{"$f":"IF(COUNTRY_INFO!A86=0,\" \",COUNTRY_INFO!A86)","v":"Angola"},{"$f":"IF(COUNTRY_INFO!B86=0,\" \",COUNTRY_INFO!B86)","v":"HUILA"},{"$f":"IF(COUNTRY_INFO!C86=0,\" \",COUNTRY_INFO!C86)","v":"CACONDA"},{"$f":"IF(OR(COUNTRY_INFO!$U$9:$U$1000=\"T3 (ALB/MBD)\",COUNTRY_INFO!$V$9:$V$1000=\"T3 (ALB/MBD)\"), \"T3 (ALB/MBD)\", \" \")","v":" "},null,null,null,null,null,0,null,null,null,0," "," "," "," "]
[{"$f":"IF(COUNTRY_INFO!A87=0,\" \",COUNTRY_INFO!A87)","v":"Angola"},{"$f":"IF(COUNTRY_INFO!B87=0,\" \",COUNTRY_INFO!B87)","v":"HUILA"},{"$f":"IF(COUNTRY_INFO!C87=0,\" \",COUNTRY_INFO!C87)","v":"CACULA"},{"$f":"IF(OR(COUNTRY_INFO!$U$9:$U$1000=\"T3 (ALB/MBD)\",COUNTRY_INFO!$V$9:$V$1000=\"T3 (ALB/MBD)\"), \"T3 (ALB/MBD)\", \" \")","v":" "},null,null,null,null,null,0,null,null,null,0," "," "," "," "]
[{"$f":"IF(COUNTRY_INFO!A88=0,\" \",COUNTRY_INFO!A88)","v":"Angola"},{"$f":"IF(COUNTRY_INFO!B88=0,\" \",COUNTRY_INFO!B88)","v":"HUILA"},{"$f":"IF(COUNTRY_INFO!C88=0,\" \",COUNTRY_INFO!C88)","v":"CALUQUEMBE"},{"$f":"IF(OR(COUNTRY_INFO!$U$9:$U$1000=\"T3 (ALB/MBD)\",COUNTRY_INFO!$V$9:$V$1000=\"T3 (ALB/MBD)\"), \"T3 (ALB/MBD)\", \" \")","v":" "},null,null,null,null,null,0,null,null,null,0," "," "," "," "]
[{"$f":"IF(COUNTRY_INFO!A89=0,\" \",COUNTRY_INFO!A89)","v":"Angola"},{"$f":"IF(COUNTRY_INFO!B89=0,\" \",COUNTRY_INFO!B89)","v":"HUILA"},{"$f":"IF(COUNTRY_INFO!C89=0,\" \",COUNTRY_INFO!C89)","v":"CHIBIA"},{"$f":"IF(OR(COUNTRY_INFO!$U$9:$U$1000=\"T3 (ALB/MBD)\",COUNTRY_INFO!$V$9:$V$1000=\"T3 (ALB/MBD)\"), \"T3 (ALB/MBD)\", \" \")","v":" "},null,null,null,null,null,0,null,null,null,0," "," "," "," "]
[{"$f":"IF(COUNTRY_INFO!A90=0,\" \",COUNTRY_INFO!A90)","v":"Angola"},{"$f":"IF(COUNTRY_INFO!B90=0,\" \",COUNTRY_INFO!B90)","v":"HUILA"},{"$f":"IF(COUNTRY_INFO!C90=0,\" \",COUNTRY_INFO!C90)","v":"CHICOMBA"},{"$f":"IF(OR(COUNTRY_INFO!$U$9:$U$1000=\"T3 (ALB/MBD)\",COUNTRY_INFO!$V$9:$V$1000=\"T3 (ALB/MBD)\"), \"T3 (ALB/MBD)\", \" \")","v":" "},null,null,null,null,null,0,null,null,null,0," "," "," "," "]
[{"$f":"IF(COUNTRY_INFO!A91=0,\" \",COUNTRY_INFO!A91)","v":"Angola"},{"$f":"IF(COUNTRY_INFO!B91=0,\" \",COUNTRY_INFO!B91)","v":"HUILA"},{"$f":"IF(COUNTRY_INFO!C91=0,\" \",COUNTRY_INFO!C91)","v":"CHIPINDO"},{"$f":"IF(OR(COUNTRY_INFO!$U$9:$U$1000=\"T3 (ALB/MBD)\",COUNTRY_INFO!$V$9:$V$1000=\"T3 (ALB/MBD)\"), \"T3 (ALB/MBD)\", \" \")","v":" "},null,null,null,null,null,0,null,null,null,0," "," "," "," "]
[{"$f":"IF(COUNTRY_INFO!A92=0,\" \",COUNTRY_INFO!A92)","v":"Angola"},{"$f":"IF(COUNTRY_INFO!B92=0,\" \",COUNTRY_INFO!B92)","v":"HUILA"},{"$f":"IF(COUNTRY_INFO!C92=0,\" \",COUNTRY_INFO!C92)","v":"CUVANGO"},{"$f":"IF(OR(COUNTRY_INFO!$U$9:$U$1000=\"T3 (ALB/MBD)\",COUNTRY_INFO!$V$9:$V$1000=\"T3 (ALB/MBD)\"), \"T3 (ALB/MBD)\", \" \")","v":" "},null,null,null,null,null,0,null,null,null,0," "," "," "," "]
[{"$f":"IF(COUNTRY_INFO!A93=0,\" \",COUNTRY_INFO!A93)","v":"Angola"},{"$f":"IF(COUNTRY_INFO!B93=0,\" \",COUNTRY_INFO!B93)","v":"HUILA"},{"$f":"IF(COUNTRY_INFO!C93=0,\" \",COUNTRY_INFO!C93)","v":"GAMBOS"},{"$f":"IF(OR(COUNTRY_INFO!$U$9:$U$1000=\"T3 (ALB/MBD)\",COUNTRY_INFO!$V$9:$V$1000=\"T3 (ALB/MBD)\"), \"T3 (ALB/MBD)\", \" \")","v":" "},null,null,null,null,null,0,null,null,null,0," "," "," "," "]
[{"$f":"IF(COUNTRY_INFO!A94=0,\" \",COUNTRY_INFO!A94)","v":"Angola"},{"$f":"IF(COUNTRY_INFO!B94=0,\" \",COUNTRY_INFO!B94)","v":"HUILA"},{"$f":"IF(COUNTRY_INFO!C94=0,\" \",COUNTRY_INFO!C94)","v":"HUMPATA"},{"$f":"IF(OR(COUNTRY_INFO!$U$9:$U$1000=\"T3 (ALB/MBD)\",COUNTRY_INFO!$V$9:$V$1000=\"T3 (ALB/MBD)\"), \"T3 (ALB/MBD)\", \" \")","v":" "},null,null,null,null,null,0,null,null,null,0," "," "," "," "]
[{"$f":"IF(COUNTRY_INFO!A95=0,\" \",COUNTRY_INFO!A95)","v":"Angola"},{"$f":"IF(COUNTRY_INFO!B95=0,\" \",COUNTRY_INFO!B95)","v":"HUILA"},{"$f":"IF(COUNTRY_INFO!C95=0,\" \",COUNTRY_INFO!C95)","v":"JAMBA"},{"$f":"IF(OR(COUNTRY_INFO!$U$9:$U$1000=\"T3 (ALB/MBD)\",COUNTRY_INFO!$V$9:$V$1000=\"T3 (ALB/MBD)\"), \"T3 (ALB/MBD)\", \" \")","v":" "},null,null,null,null,null,0,null,null,null,0," "," "," "," "]
[{"$f":"IF(COUNTRY_INFO!A96=0,\" \",COUNTRY_INFO!A96)","v":"Angola"},{"$f":"IF(COUNTRY_INFO!B96=0,\" \",COUNTRY_INFO!B96)","v":"HUILA"},{"$f":"IF(COUNTRY_INFO!C96=0,\" \",COUNTRY_INFO!C96)","v":"LUBANGO"},{"$f":"IF(OR(COUNTRY_INFO!$U$9:$U$1000=\"T3 (ALB/MBD)\",COUNTRY_INFO!$V$9:$V$1000=\"T3 (ALB/MBD)\"), \"T3 (ALB/MBD)\", \" \")","v":" "},null,null,null,null,null,0,null,null,null,0," "," "," "," "]
[{"$f":"IF(COUNTRY_INFO!A97=0,\" \",COUNTRY_INFO!A97)","v":"Angola"},{"$f":"IF(COUNTRY_INFO!B97=0,\" \",COUNTRY_INFO!B97)","v":"HUILA"},{"$f":"IF(COUNTRY_INFO!C97=0,\" \",COUNTRY_INFO!C97)","v":"MATALA"},{"$f":"IF(OR(COUNTRY_INFO!$U$9:$U$1000=\"T3 (ALB/MBD)\",COUNTRY_INFO!$V$9:$V$1000=\"T3 (ALB/MBD)\"), \"T3 (ALB/MBD)\", \" \")","v":" "},null,null,null,null,null,0,null,null,null,0," "," "," "," "]
[{"$f":"IF(COUNTRY_INFO!A98=0,\" \",COUNTRY_INFO!A98)","v":"Angola"},{"$f":"IF(COUNTRY_INFO!B98=0,\" \",COUNTRY_INFO!B98)","v":"HUILA"},{"$f":"IF(COUNTRY_INFO!C98=0,\" \",COUNTRY_INFO!C98)","v":"QUILENGUES"},{"$f":"IF(OR(COUNTRY_INFO!$U$9:$U$1000=\"T3 (ALB/MBD)\",COUNTRY_INFO!$V$9:$V$1000=\"T3 (ALB/MBD)\"), \"T3 (ALB/MBD)\", \" \")","v":" "},null,null,null,null,null,0,null,null,null,0," "," "," "," "]
[{"$f":"IF(COUNTRY_INFO!A99=0,\" \",COUNTRY_INFO!A99)","v":"Angola"},{"$f":"IF(COUNTRY_INFO!B99=0,\" \",COUNTRY_INFO!B99)","v":"HUILA"},{"$f":"IF(COUNTRY_INFO!C99=0,\" \",COUNTRY_INFO!C99)","v":"QUIPUNGO"},{"$f":"IF(OR(COUNTRY_INFO!$U$9:$U$1000=\"T3 (ALB/MBD)\",COUNTRY_INFO!$V$9:$V$1000=\"T3 (ALB/MBD)\"), \"T3 (ALB/MBD)\", \" \")","v":" "},null,null,null,null,null,0,null,null,null,0," "," "," "," "]
[{"$f":"IF(COUNTRY_INFO!A100=0,\" \",COUNTRY_INFO!A100)","v":"Angola"},{"$f":"IF(COUNTRY_INFO!B100=0,\" \",COUNTRY_INFO!B100)","v":"LUANDA"},{"$f":"IF(COUNTRY_INFO!C100=0,\" \",COUNTRY_INFO!C100)","v":"BELAS"},{"$f":"IF(OR(COUNTRY_INFO!$U$9:$U$1000=\"T3 (ALB/MBD)\",COUNTRY_INFO!$V$9:$V$1000=\"T3 (ALB/MBD)\"), \"T3 (ALB/MBD)\", \" \")","v":" "},null,null,null,null,null,0,null,null,null,0," "," "," "," "]
[{"$f":"IF(COUNTRY_INFO!A101=0,\" \",COUNTRY_INFO!A101)","v":"Angola"},{"$f":"IF(COUNTRY_INFO!B101=0,\" \",COUNTRY_INFO!B101)","v":"LUANDA"},{"$f":"IF(COUNTRY_INFO!C101=0,\" \",COUNTRY_INFO!C101)","v":"CACUACO"},{"$f":"IF(OR(COUNTRY_INFO!$U$9:$U$1000=\"T3 (ALB/MBD)\",COUNTRY_INFO!$V$9:$V$1000=\"T3 (ALB/MBD)\"), \"T3 (ALB/MBD)\", \" \")","v":" "},null,null,null,null,null,0,null,null,null,0," "," "," "," "]
[{"$f":"IF(COUNTRY_INFO!A102=0,\" \",COUNTRY_INFO!A102)","v":"Angola"},{"$f":"IF(COUNTRY_INFO!B102=0,\" \",COUNTRY_INFO!B102)","v":"LUANDA"},{"$f":"IF(COUNTRY_INFO!C102=0,\" \",COUNTRY_INFO!C102)","v":"CAZENGA"},{"$f":"IF(OR(COUNTRY_INFO!$U$9:$U$1000=\"T3 (ALB/MBD)\",COUNTRY_INFO!$V$9:$V$1000=\"T3 (ALB/MBD)\"), \"T3 (ALB/MBD)\", \" \")","v":" "},null,null,null,null,null,0,null,null,null,0," "," "," "," "]
[{"$f":"IF(COUNTRY_INFO!A103=0,\" \",COUNTRY_INFO!A103)","v":"Angola"},{"$f":"IF(COUNTRY_INFO!B103=0,\" \",COUNTRY_INFO!B103)","v":"LUANDA"},{"$f":"IF(COUNTRY_INFO!C103=0,\" \",COUNTRY_INFO!C103)","v":"ICOLO E BENGO"},{"$f":"IF(OR(COUNTRY_INFO!$U$9:$U$1000=\"T3 (ALB/MBD)\",COUNTRY_INFO!$V$9:$V$1000=\"T3 (ALB/MBD)\"), \"T3 (ALB/MBD)\", \" \")","v":" "},null,null,null,null,null,0,null,null,null,0," "," "," "," "]
[{"$f":"IF(COUNTRY_INFO!A104=0,\" \",COUNTRY_INFO!A104)","v":"Angola"},{"$f":"IF(COUNTRY_INFO!B104=0,\" \",COUNTRY_INFO!B104)","v":"LUANDA"},{"$f":"IF(COUNTRY_INFO!C104=0,\" \",COUNTRY_INFO!C104)","v":"KILAMBA KIAXI"},{"$f":"IF(OR(COUNTRY_INFO!$U$9:$U$1000=\"T3 (ALB/MBD)\",COUNTRY_INFO!$V$9:$V$1000=\"T3 (ALB/MBD)\"), \"T3 (ALB/MBD)\", \" \")","v":" "},null,null,null,null,null,0,null,null,null,0," "," "," "," "]
[{"$f":"IF(COUNTRY_INFO!A105=0,\" \",COUNTRY_INFO!A105)","v":"Angola"},{"$f":"IF(COUNTRY_INFO!B105=0,\" \",COUNTRY_INFO!B105)","v":"LUANDA"},{"$f":"IF(COUNTRY_INFO!C105=0,\" \",COUNTRY_INFO!C105)","v":"LUANDA"},{"$f":"IF(OR(COUNTRY_INFO!$U$9:$U$1000=\"T3 (ALB/MBD)\",COUNTRY_INFO!$V$9:$V$1000=\"T3 (ALB/MBD)\"), \"T3 (ALB/MBD)\", \" \")","v":" "},null,null,null,null,null,0,null,null,null,0," "," "," "," "]
[{"$f":"IF(COUNTRY_INFO!A106=0,\" \",COUNTRY_INFO!A106)","v":"Angola"},{"$f":"IF(COUNTRY_INFO!B106=0,\" \",COUNTRY_INFO!B106)","v":"LUANDA"},{"$f":"IF(COUNTRY_INFO!C106=0,\" \",COUNTRY_INFO!C106)","v":"QUISSAMA"},{"$f":"IF(OR(COUNTRY_INFO!$U$9:$U$1000=\"T3 (ALB/MBD)\",COUNTRY_INFO!$V$9:$V$1000=\"T3 (ALB/MBD)\"), \"T3 (ALB/MBD)\", \" \")","v":" "},null,null,null,null,null,0,null,null,null,0," "," "," "," "]
[{"$f":"IF(COUNTRY_INFO!A107=0,\" \",COUNTRY_INFO!A107)","v":"Angola"},{"$f":"IF(COUNTRY_INFO!B107=0,\" \",COUNTRY_INFO!B107)","v":"LUANDA"},{"$f":"IF(COUNTRY_INFO!C107=0,\" \",COUNTRY_INFO!C107)","v":"TALATONA"},{"$f":"IF(OR(COUNTRY_INFO!$U$9:$U$1000=\"T3 (ALB/MBD)\",COUNTRY_INFO!$V$9:$V$1000=\"T3 (ALB/MBD)\"), \"T3 (ALB/MBD)\", \" \")","v":" "},null,null,null,null,null,0,null,null,null,0," "," "," "," "]
[{"$f":"IF(COUNTRY_INFO!A108=0,\" \",COUNTRY_INFO!A108)","v":"Angola"},{"$f":"IF(COUNTRY_INFO!B108=0,\" \",COUNTRY_INFO!B108)","v":"LUANDA"},{"$f":"IF(COUNTRY_INFO!C108=0,\" \",COUNTRY_INFO!C108)","v":"VIANA"},{"$f":"IF(OR(COUNTRY_INFO!$U$9:$U$1000=\"T3 (ALB/MBD)\",COUNTRY_INFO!$V$9:$V$1000=\"T3 (ALB/MBD)\"), \"T3 (ALB/MBD)\", \" \")","v":" "},null,null,null,null,null,0,null,null,null,0," "," "," "," "]
[{"$f":"IF(COUNTRY_INFO!A109=0,\" \",COUNTRY_INFO!A109)","v":"Angola"},{"$f":"IF(COUNTRY_INFO!B109=0,\" \",COUNTRY_INFO!B109)","v":"LUNDA NORTE"},{"$f":"IF(COUNTRY_INFO!C109=0,\" \",COUNTRY_INFO!C109)","v":"CAMBULO"},{"$f":"IF(OR(COUNTRY_INFO!$U$9:$U$1000=\"T3 (ALB/MBD)\",COUNTRY_INFO!$V$9:$V$1000=\"T3 (ALB/MBD)\"), \"T3 (ALB/MBD)\", \" \")","v":" "},null,null,null,null,null,0,null,null,null,0," "," "," "," "]
[{"$f":"IF(COUNTRY_INFO!A110=0,\" \",COUNTRY_INFO!A110)","v":"Angola"},{"$f":"IF(COUNTRY_INFO!B110=0,\" \",COUNTRY_INFO!B110)","v":"LUNDA NORTE"},{"$f":"IF(COUNTRY_INFO!C110=0,\" \",COUNTRY_INFO!C110)","v":"CAPENDA CAMULEMBA"},{"$f":"IF(OR(COUNTRY_INFO!$U$9:$U$1000=\"T3 (ALB/MBD)\",COUNTRY_INFO!$V$9:$V$1000=\"T3 (ALB/MBD)\"), \"T3 (ALB/MBD)\", \" \")","v":" "},null,null,null,null,null,0,null,null,null,0," "," "," "," "]
[{"$f":"IF(COUNTRY_INFO!A111=0,\" \",COUNTRY_INFO!A111)","v":"Angola"},{"$f":"IF(COUNTRY_INFO!B111=0,\" \",COUNTRY_INFO!B111)","v":"LUNDA NORTE"},{"$f":"IF(COUNTRY_INFO!C111=0,\" \",COUNTRY_INFO!C111)","v":"CAUNGULA"},{"$f":"IF(OR(COUNTRY_INFO!$U$9:$U$1000=\"T3 (ALB/MBD)\",COUNTRY_INFO!$V$9:$V$1000=\"T3 (ALB/MBD)\"), \"T3 (ALB/MBD)\", \" \")","v":" "},null,null,null,null,null,0,null,null,null,0," "," "," "," "]
[{"$f":"IF(COUNTRY_INFO!A112=0,\" \",COUNTRY_INFO!A112)","v":"Angola"},{"$f":"IF(COUNTRY_INFO!B112=0,\" \",COUNTRY_INFO!B112)","v":"LUNDA NORTE"},{"$f":"IF(COUNTRY_INFO!C112=0,\" \",COUNTRY_INFO!C112)","v":"CHITATO"},{"$f":"IF(OR(COUNTRY_INFO!$U$9:$U$1000=\"T3 (ALB/MBD)\",COUNTRY_INFO!$V$9:$V$1000=\"T3 (ALB/MBD)\"), \"T3 (ALB/MBD)\", \" \")","v":" "},null,null,null,null,null,0,null,null,null,0," "," "," "," "]
[{"$f":"IF(COUNTRY_INFO!A113=0,\" \",COUNTRY_INFO!A113)","v":"Angola"},{"$f":"IF(COUNTRY_INFO!B113=0,\" \",COUNTRY_INFO!B113)","v":"LUNDA NORTE"},{"$f":"IF(COUNTRY_INFO!C113=0,\" \",COUNTRY_INFO!C113)","v":"CUANGO"},{"$f":"IF(OR(COUNTRY_INFO!$U$9:$U$1000=\"T3 (ALB/MBD)\",COUNTRY_INFO!$V$9:$V$1000=\"T3 (ALB/MBD)\"), \"T3 (ALB/MBD)\", \" \")","v":" "},null,null,null,null,null,0,null,null,null,0," "," "," "," "]
[{"$f":"IF(COUNTRY_INFO!A114=0,\" \",COUNTRY_INFO!A114)","v":"Angola"},{"$f":"IF(COUNTRY_INFO!B114=0,\" \",COUNTRY_INFO!B114)","v":"LUNDA NORTE"},{"$f":"IF(COUNTRY_INFO!C114=0,\" \",COUNTRY_INFO!C114)","v":"CUILO"},{"$f":"IF(OR(COUNTRY_INFO!$U$9:$U$1000=\"T3 (ALB/MBD)\",COUNTRY_INFO!$V$9:$V$1000=\"T3 (ALB/MBD)\"), \"T3 (ALB/MBD)\", \" \")","v":" "},null,null,null,null,null,0,null,null,null,0," "," "," "," "]
[{"$f":"IF(COUNTRY_INFO!A115=0,\" \",COUNTRY_INFO!A115)","v":"Angola"},{"$f":"IF(COUNTRY_INFO!B115=0,\" \",COUNTRY_INFO!B115)","v":"LUNDA NORTE"},{"$f":"IF(COUNTRY_INFO!C115=0,\" \",COUNTRY_INFO!C115)","v":"LOVUA"},{"$f":"IF(OR(COUNTRY_INFO!$U$9:$U$1000=\"T3 (ALB/MBD)\",COUNTRY_INFO!$V$9:$V$1000=\"T3 (ALB/MBD)\"), \"T3 (ALB/MBD)\", \" \")","v":" "},null,null,null,null,null,0,null,null,null,0," "," "," "," "]
[{"$f":"IF(COUNTRY_INFO!A116=0,\" \",COUNTRY_INFO!A116)","v":"Angola"},{"$f":"IF(COUNTRY_INFO!B116=0,\" \",COUNTRY_INFO!B116)","v":"LUNDA NORTE"},{"$f":"IF(COUNTRY_INFO!C116=0,\" \",COUNTRY_INFO!C116)","v":"LUBALO"},{"$f":"IF(OR(COUNTRY_INFO!$U$9:$U$1000=\"T3 (ALB/MBD)\",COUNTRY_INFO!$V$9:$V$1000=\"T3 (ALB/MBD)\"), \"T3 (ALB/MBD)\", \" \")","v":" "},null,null,null,null,null,0,null,null,null,0," "," "," "," "]
[{"$f":"IF(COUNTRY_INFO!A117=0,\" \",COUNTRY_INFO!A117)","v":"Angola"},{"$f":"IF(COUNTRY_INFO!B117=0,\" \",COUNTRY_INFO!B117)","v":"LUNDA NORTE"},{"$f":"IF(COUNTRY_INFO!C117=0,\" \",COUNTRY_INFO!C117)","v":"LUCAPA"},{"$f":"IF(OR(COUNTRY_INFO!$U$9:$U$1000=\"T3 (ALB/MBD)\",COUNTRY_INFO!$V$9:$V$1000=\"T3 (ALB/MBD)\"), \"T3 (ALB/MBD)\", \" \")","v":" "},null,null,null,null,null,0,null,null,null,0," "," "," "," "]
[{"$f":"IF(COUNTRY_INFO!A118=0,\" \",COUNTRY_INFO!A118)","v":"Angola"},{"$f":"IF(COUNTRY_INFO!B118=0,\" \",COUNTRY_INFO!B118)","v":"LUNDA NORTE"},{"$f":"IF(COUNTRY_INFO!C118=0,\" \",COUNTRY_INFO!C118)","v":"XA MUTEBA"},{"$f":"IF(OR(COUNTRY_INFO!$U$9:$U$1000=\"T3 (ALB/MBD)\",COUNTRY_INFO!$V$9:$V$1000=\"T3 (ALB/MBD)\"), \"T3 (ALB/MBD)\", \" \")","v":" "},null,null,null,null,null,0,null,null,null,0," "," "," "," "]
[{"$f":"IF(COUNTRY_INFO!A119=0,\" \",COUNTRY_INFO!A119)","v":"Angola"},{"$f":"IF(COUNTRY_INFO!B119=0,\" \",COUNTRY_INFO!B119)","v":"LUNDA SUL"},{"$f":"IF(COUNTRY_INFO!C119=0,\" \",COUNTRY_INFO!C119)","v":"CACOLO"},{"$f":"IF(OR(COUNTRY_INFO!$U$9:$U$1000=\"T3 (ALB/MBD)\",COUNTRY_INFO!$V$9:$V$1000=\"T3 (ALB/MBD)\"), \"T3 (ALB/MBD)\", \" \")","v":" "},null,null,null,null,null,0,null,null,null,0," "," "," "," "]
[{"$f":"IF(COUNTRY_INFO!A120=0,\" \",COUNTRY_INFO!A120)","v":"Angola"},{"$f":"IF(COUNTRY_INFO!B120=0,\" \",COUNTRY_INFO!B120)","v":"LUNDA SUL"},{"$f":"IF(COUNTRY_INFO!C120=0,\" \",COUNTRY_INFO!C120)","v":"DALA"},{"$f":"IF(OR(COUNTRY_INFO!$U$9:$U$1000=\"T3 (ALB/MBD)\",COUNTRY_INFO!$V$9:$V$1000=\"T3 (ALB/MBD)\"), \"T3 (ALB/MBD)\", \" \")","v":" "},null,null,null,null,null,0,null,null,null,0," "," "," "," "]
[{"$f":"IF(COUNTRY_INFO!A121=0,\" \",COUNTRY_INFO!A121)","v":"Angola"},{"$f":"IF(COUNTRY_INFO!B121=0,\" \",COUNTRY_INFO!B121)","v":"LUNDA SUL"},{"$f":"IF(COUNTRY_INFO!C121=0,\" \",COUNTRY_INFO!C121)","v":"MUCONDA"},{"$f":"IF(OR(COUNTRY_INFO!$U$9:$U$1000=\"T3 (ALB/MBD)\",COUNTRY_INFO!$V$9:$V$1000=\"T3 (ALB/MBD)\"), \"T3 (ALB/MBD)\", \" \")","v":" "},null,null,null,null,null,0,null,null,null,0," "," "," "," "]
[{"$f":"IF(COUNTRY_INFO!A122=0,\" \",COUNTRY_INFO!A122)","v":"Angola"},{"$f":"IF(COUNTRY_INFO!B122=0,\" \",COUNTRY_INFO!B122)","v":"LUNDA SUL"},{"$f":"IF(COUNTRY_INFO!C122=0,\" \",COUNTRY_INFO!C122)","v":"SAURIMO"},{"$f":"IF(OR(COUNTRY_INFO!$U$9:$U$1000=\"T3 (ALB/MBD)\",COUNTRY_INFO!$V$9:$V$1000=\"T3 (ALB/MBD)\"), \"T3 (ALB/MBD)\", \" \")","v":" "},null,null,null,null,null,0,null,null,null,0," "," "," "," "]
[{"$f":"IF(COUNTRY_INFO!A123=0,\" \",COUNTRY_INFO!A123)","v":"Angola"},{"$f":"IF(COUNTRY_INFO!B123=0,\" \",COUNTRY_INFO!B123)","v":"MALANJE"},{"$f":"IF(COUNTRY_INFO!C123=0,\" \",COUNTRY_INFO!C123)","v":"CACULAMA (Mukari)"},{"$f":"IF(OR(COUNTRY_INFO!$U$9:$U$1000=\"T3 (ALB/MBD)\",COUNTRY_INFO!$V$9:$V$1000=\"T3 (ALB/MBD)\"), \"T3 (ALB/MBD)\", \" \")","v":" "},null,null,null,null,null,0,null,null,null,0," "," "," "," "]
[{"$f":"IF(COUNTRY_INFO!A124=0,\" \",COUNTRY_INFO!A124)","v":"Angola"},{"$f":"IF(COUNTRY_INFO!B124=0,\" \",COUNTRY_INFO!B124)","v":"MALANJE"},{"$f":"IF(COUNTRY_INFO!C124=0,\" \",COUNTRY_INFO!C124)","v":"CACUSO"},{"$f":"IF(OR(COUNTRY_INFO!$U$9:$U$1000=\"T3 (ALB/MBD)\",COUNTRY_INFO!$V$9:$V$1000=\"T3 (ALB/MBD)\"), \"T3 (ALB/MBD)\", \" \")","v":" "},null,null,null,null,null,0,null,null,null,0," "," "," "," "]
[{"$f":"IF(COUNTRY_INFO!A125=0,\" \",COUNTRY_INFO!A125)","v":"Angola"},{"$f":"IF(COUNTRY_INFO!B125=0,\" \",COUNTRY_INFO!B125)","v":"MALANJE"},{"$f":"IF(COUNTRY_INFO!C125=0,\" \",COUNTRY_INFO!C125)","v":"CAHOMBO"},{"$f":"IF(OR(COUNTRY_INFO!$U$9:$U$1000=\"T3 (ALB/MBD)\",COUNTRY_INFO!$V$9:$V$1000=\"T3 (ALB/MBD)\"), \"T3 (ALB/MBD)\", \" \")","v":" "},null,null,null,null,null,0,null,null,null,0," "," "," "," "]
[{"$f":"IF(COUNTRY_INFO!A126=0,\" \",COUNTRY_INFO!A126)","v":"Angola"},{"$f":"IF(COUNTRY_INFO!B126=0,\" \",COUNTRY_INFO!B126)","v":"MALANJE"},{"$f":"IF(COUNTRY_INFO!C126=0,\" \",COUNTRY_INFO!C126)","v":"CALANDULA"},{"$f":"IF(OR(COUNTRY_INFO!$U$9:$U$1000=\"T3 (ALB/MBD)\",COUNTRY_INFO!$V$9:$V$1000=\"T3 (ALB/MBD)\"), \"T3 (ALB/MBD)\", \" \")","v":" "},null,null,null,null,null,0,null,null,null,0," "," "," "," "]
[{"$f":"IF(COUNTRY_INFO!A127=0,\" \",COUNTRY_INFO!A127)","v":"Angola"},{"$f":"IF(COUNTRY_INFO!B127=0,\" \",COUNTRY_INFO!B127)","v":"MALANJE"},{"$f":"IF(COUNTRY_INFO!C127=0,\" \",COUNTRY_INFO!C127)","v":"CAMBUNDI CATEMBO"},{"$f":"IF(OR(COUNTRY_INFO!$U$9:$U$1000=\"T3 (ALB/MBD)\",COUNTRY_INFO!$V$9:$V$1000=\"T3 (ALB/MBD)\"), \"T3 (ALB/MBD)\", \" \")","v":" "},null,null,null,null,null,0,null,null,null,0," "," "," "," "]
[{"$f":"IF(COUNTRY_INFO!A128=0,\" \",COUNTRY_INFO!A128)","v":"Angola"},{"$f":"IF(COUNTRY_INFO!B128=0,\" \",COUNTRY_INFO!B128)","v":"MALANJE"},{"$f":"IF(COUNTRY_INFO!C128=0,\" \",COUNTRY_INFO!C128)","v":"CANGANDALA"},{"$f":"IF(OR(COUNTRY_INFO!$U$9:$U$1000=\"T3 (ALB/MBD)\",COUNTRY_INFO!$V$9:$V$1000=\"T3 (ALB/MBD)\"), \"T3 (ALB/MBD)\", \" \")","v":" "},null,null,null,null,null,0,null,null,null,0," "," "," "," "]
[{"$f":"IF(COUNTRY_INFO!A129=0,\" \",COUNTRY_INFO!A129)","v":"Angola"},{"$f":"IF(COUNTRY_INFO!B129=0,\" \",COUNTRY_INFO!B129)","v":"MALANJE"},{"$f":"IF(COUNTRY_INFO!C129=0,\" \",COUNTRY_INFO!C129)","v":"KIWABA NZOJI"},{"$f":"IF(OR(COUNTRY_INFO!$U$9:$U$1000=\"T3 (ALB/MBD)\",COUNTRY_INFO!$V$9:$V$1000=\"T3 (ALB/MBD)\"), \"T3 (ALB/MBD)\", \" \")","v":" "},null,null,null,null,null,0,null,null,null,0," "," "," "," "]
[{"$f":"IF(COUNTRY_INFO!A130=0,\" \",COUNTRY_INFO!A130)","v":"Angola"},{"$f":"IF(COUNTRY_INFO!B130=0,\" \",COUNTRY_INFO!B130)","v":"MALANJE"},{"$f":"IF(COUNTRY_INFO!C130=0,\" \",COUNTRY_INFO!C130)","v":"KUNDA DYA BASE"},{"$f":"IF(OR(COUNTRY_INFO!$U$9:$U$1000=\"T3 (ALB/MBD)\",COUNTRY_INFO!$V$9:$V$1000=\"T3 (ALB/MBD)\"), \"T3 (ALB/MBD)\", \" \")","v":" "},null,null,null,null,null,0,null,null,null,0," "," "," "," "]
[{"$f":"IF(COUNTRY_INFO!A131=0,\" \",COUNTRY_INFO!A131)","v":"Angola"},{"$f":"IF(COUNTRY_INFO!B131=0,\" \",COUNTRY_INFO!B131)","v":"MALANJE"},{"$f":"IF(COUNTRY_INFO!C131=0,\" \",COUNTRY_INFO!C131)","v":"LUQUEMBO"},{"$f":"IF(OR(COUNTRY_INFO!$U$9:$U$1000=\"T3 (ALB/MBD)\",COUNTRY_INFO!$V$9:$V$1000=\"T3 (ALB/MBD)\"), \"T3 (ALB/MBD)\", \" \")","v":" "},null,null,null,null,null,0,null,null,null,0," "," "," "," "]
[{"$f":"IF(COUNTRY_INFO!A132=0,\" \",COUNTRY_INFO!A132)","v":"Angola"},{"$f":"IF(COUNTRY_INFO!B132=0,\" \",COUNTRY_INFO!B132)","v":"MALANJE"},{"$f":"IF(COUNTRY_INFO!C132=0,\" \",COUNTRY_INFO!C132)","v":"MALANJE"},{"$f":"IF(OR(COUNTRY_INFO!$U$9:$U$1000=\"T3 (ALB/MBD)\",COUNTRY_INFO!$V$9:$V$1000=\"T3 (ALB/MBD)\"), \"T3 (ALB/MBD)\", \" \")","v":" "},null,null,null,null,null,0,null,null,null,0," "," "," "," "]
[{"$f":"IF(COUNTRY_INFO!A133=0,\" \",COUNTRY_INFO!A133)","v":"Angola"},{"$f":"IF(COUNTRY_INFO!B133=0,\" \",COUNTRY_INFO!B133)","v":"MALANJE"},{"$f":"IF(COUNTRY_INFO!C133=0,\" \",COUNTRY_INFO!C133)","v":"MARIMBA"},{"$f":"IF(OR(COUNTRY_INFO!$U$9:$U$1000=\"T3 (ALB/MBD)\",COUNTRY_INFO!$V$9:$V$1000=\"T3 (ALB/MBD)\"), \"T3 (ALB/MBD)\", \" \")","v":" "},null,null,null,null,null,0,null,null,null,0," "," "," "," "]
[{"$f":"IF(COUNTRY_INFO!A134=0,\" \",COUNTRY_INFO!A134)","v":"Angola"},{"$f":"IF(COUNTRY_INFO!B134=0,\" \",COUNTRY_INFO!B134)","v":"MALANJE"},{"$f":"IF(COUNTRY_INFO!C134=0,\" \",COUNTRY_INFO!C134)","v":"MASSANGO"},{"$f":"IF(OR(COUNTRY_INFO!$U$9:$U$1000=\"T3 (ALB/MBD)\",COUNTRY_INFO!$V$9:$V$1000=\"T3 (ALB/MBD)\"), \"T3 (ALB/MBD)\", \" \")","v":" "},null,null,null,null,null,0,null,null,null,0," "," "," "," "]
[{"$f":"IF(COUNTRY_INFO!A135=0,\" \",COUNTRY_INFO!A135)","v":"Angola"},{"$f":"IF(COUNTRY_INFO!B135=0,\" \",COUNTRY_INFO!B135)","v":"MALANJE"},{"$f":"IF(COUNTRY_INFO!C135=0,\" \",COUNTRY_INFO!C135)","v":"QUELA"},{"$f":"IF(OR(COUNTRY_INFO!$U$9:$U$1000=\"T3 (ALB/MBD)\",COUNTRY_INFO!$V$9:$V$1000=\"T3 (ALB/MBD)\"), \"T3 (ALB/MBD)\", \" \")","v":" "},null,null,null,null,null,0,null,null,null,0," "," "," "," "]
[{"$f":"IF(COUNTRY_INFO!A136=0,\" \",COUNTRY_INFO!A136)","v":"Angola"},{"$f":"IF(COUNTRY_INFO!B136=0,\" \",COUNTRY_INFO!B136)","v":"MALANJE"},{"$f":"IF(COUNTRY_INFO!C136=0,\" \",COUNTRY_INFO!C136)","v":"QUIRIMA"},{"$f":"IF(OR(COUNTRY_INFO!$U$9:$U$1000=\"T3 (ALB/MBD)\",COUNTRY_INFO!$V$9:$V$1000=\"T3 (ALB/MBD)\"), \"T3 (ALB/MBD)\", \" \")","v":" "},null,null,null,null,null,0,null,null,null,0," "," "," "," "]
[{"$f":"IF(COUNTRY_INFO!A137=0,\" \",COUNTRY_INFO!A137)","v":"Angola"},{"$f":"IF(COUNTRY_INFO!B137=0,\" \",COUNTRY_INFO!B137)","v":"MOXICO"},{"$f":"IF(COUNTRY_INFO!C137=0,\" \",COUNTRY_INFO!C137)","v":"ALTO ZAMBEZE"},{"$f":"IF(OR(COUNTRY_INFO!$U$9:$U$1000=\"T3 (ALB/MBD)\",COUNTRY_INFO!$V$9:$V$1000=\"T3 (ALB/MBD)\"), \"T3 (ALB/MBD)\", \" \")","v":" "},null,null,null,null,null,0,null,null,null,0," "," "," "," "]
[{"$f":"IF(COUNTRY_INFO!A138=0,\" \",COUNTRY_INFO!A138)","v":"Angola"},{"$f":"IF(COUNTRY_INFO!B138=0,\" \",COUNTRY_INFO!B138)","v":"MOXICO"},{"$f":"IF(COUNTRY_INFO!C138=0,\" \",COUNTRY_INFO!C138)","v":"BUNDAS (LUMBALA NGUIMBO)"},{"$f":"IF(OR(COUNTRY_INFO!$U$9:$U$1000=\"T3 (ALB/MBD)\",COUNTRY_INFO!$V$9:$V$1000=\"T3 (ALB/MBD)\"), \"T3 (ALB/MBD)\", \" \")","v":" "},null,null,null,null,null,{"$f":"SUM(G138:I138)","v":0},null,null,null,{"$f":"SUM(K138:M138)","v":0},{"$f":"IF(G138<>0, IF(K138/G138*100=0, \"-\", K138/G138*100), \" \")","v":" "},{"$f":"IF(H138<>0, IF(L138/H138*100=0, \"-\", L138/H138*100), \" \")","v":" "},{"$f":"IF(I138<>0, IF(M138/I138*100=0, \"-\", M138/I138*100), \" \")","v":" "},{"$f":"IF(J138<>0, IF(N138/J138*100=0, \"-\", N138/J138*100), \" \")","v":" "}]
[{"$f":"IF(COUNTRY_INFO!A139=0,\" \",COUNTRY_INFO!A139)","v":"Angola"},{"$f":"IF(COUNTRY_INFO!B139=0,\" \",COUNTRY_INFO!B139)","v":"MOXICO"},{"$f":"IF(COUNTRY_INFO!C139=0,\" \",COUNTRY_INFO!C139)","v":"CAMANONGUE"},{"$f":"IF(OR(COUNTRY_INFO!$U$9:$U$1000=\"T3 (ALB/MBD)\",COUNTRY_INFO!$V$9:$V$1000=\"T3 (ALB/MBD)\"), \"T3 (ALB/MBD)\", \" \")","v":" "},null,null,null,null,null,0,null,null,null,0," "," "," "," "]
[{"$f":"IF(COUNTRY_INFO!A140=0,\" \",COUNTRY_INFO!A140)","v":"Angola"},{"$f":"IF(COUNTRY_INFO!B140=0,\" \",COUNTRY_INFO!B140)","v":"MOXICO"},{"$f":"IF(COUNTRY_INFO!C140=0,\" \",COUNTRY_INFO!C140)","v":"CAMEIA (LUMEJE)"},{"$f":"IF(OR(COUNTRY_INFO!$U$9:$U$1000=\"T3 (ALB/MBD)\",COUNTRY_INFO!$V$9:$V$1000=\"T3 (ALB/MBD)\"), \"T3 (ALB/MBD)\", \" \")","v":" "},null,null,null,null,null,0,null,null,null,0," "," "," "," "]
[{"$f":"IF(COUNTRY_INFO!A141=0,\" \",COUNTRY_INFO!A141)","v":"Angola"},{"$f":"IF(COUNTRY_INFO!B141=0,\" \",COUNTRY_INFO!B141)","v":"MOXICO"},{"$f":"IF(COUNTRY_INFO!C141=0,\" \",COUNTRY_INFO!C141)","v":"LEUA"},{"$f":"IF(OR(COUNTRY_INFO!$U$9:$U$1000=\"T3 (ALB/MBD)\",COUNTRY_INFO!$V$9:$V$1000=\"T3 (ALB/MBD)\"), \"T3 (ALB/MBD)\", \" \")","v":" "},null,null,null,null,null,0,null,null,null,0," "," "," "," "]
[{"$f":"IF(COUNTRY_INFO!A142=0,\" \",COUNTRY_INFO!A142)","v":"Angola"},{"$f":"IF(COUNTRY_INFO!B142=0,\" \",COUNTRY_INFO!B142)","v":"MOXICO"},{"$f":"IF(COUNTRY_INFO!C142=0,\" \",COUNTRY_INFO!C142)","v":"LUACANO"},{"$f":"IF(OR(COUNTRY_INFO!$U$9:$U$1000=\"T3 (ALB/MBD)\",COUNTRY_INFO!$V$9:$V$1000=\"T3 (ALB/MBD)\"), \"T3 (ALB/MBD)\", \" \")","v":" "},null,null,null,null,null,0,null,null,null,0," "," "," "," "]
[{"$f":"IF(COUNTRY_INFO!A143=0,\" \",COUNTRY_INFO!A143)","v":"Angola"},{"$f":"IF(COUNTRY_INFO!B143=0,\" \",COUNTRY_INFO!B143)","v":"MOXICO"},{"$f":"IF(COUNTRY_INFO!C143=0,\" \",COUNTRY_INFO!C143)","v":"LUAU"},{"$f":"IF(OR(COUNTRY_INFO!$U$9:$U$1000=\"T3 (ALB/MBD)\",COUNTRY_INFO!$V$9:$V$1000=\"T3 (ALB/MBD)\"), \"T3 (ALB/MBD)\", \" \")","v":" "},null,null,null,null,null,0,null,null,null,0," "," "," "," "]
[{"$f":"IF(COUNTRY_INFO!A144=0,\" \",COUNTRY_INFO!A144)","v":"Angola"},{"$f":"IF(COUNTRY_INFO!B144=0,\" \",COUNTRY_INFO!B144)","v":"MOXICO"},{"$f":"IF(COUNTRY_INFO!C144=0,\" \",COUNTRY_INFO!C144)","v":"LUCHAZES"},{"$f":"IF(OR(COUNTRY_INFO!$U$9:$U$1000=\"T3 (ALB/MBD)\",COUNTRY_INFO!$V$9:$V$1000=\"T3 (ALB/MBD)\"), \"T3 (ALB/MBD)\", \" \")","v":" "},null,null,null,null,null,0,null,null,null,0," "," "," "," "]
[{"$f":"IF(COUNTRY_INFO!A145=0,\" \",COUNTRY_INFO!A145)","v":"Angola"},{"$f":"IF(COUNTRY_INFO!B145=0,\" \",COUNTRY_INFO!B145)","v":"MOXICO"},{"$f":"IF(COUNTRY_INFO!C145=0,\" \",COUNTRY_INFO!C145)","v":"MOXICO/LUENA"},{"$f":"IF(OR(COUNTRY_INFO!$U$9:$U$1000=\"T3 (ALB/MBD)\",COUNTRY_INFO!$V$9:$V$1000=\"T3 (ALB/MBD)\"), \"T3 (ALB/MBD)\", \" \")","v":" "},null,null,null,null,null,0,null,null,null,0," "," "," "," "]
[{"$f":"IF(COUNTRY_INFO!A146=0,\" \",COUNTRY_INFO!A146)","v":"Angola"},{"$f":"IF(COUNTRY_INFO!B146=0,\" \",COUNTRY_INFO!B146)","v":"NAMIBE"},{"$f":"IF(COUNTRY_INFO!C146=0,\" \",COUNTRY_INFO!C146)","v":"BIBALA"},{"$f":"IF(OR(COUNTRY_INFO!$U$9:$U$1000=\"T3 (ALB/MBD)\",COUNTRY_INFO!$V$9:$V$1000=\"T3 (ALB/MBD)\"), \"T3 (ALB/MBD)\", \" \")","v":" "},null,null,null,null,null,0,null,null,null,0," "," "," "," "]
[{"$f":"IF(COUNTRY_INFO!A147=0,\" \",COUNTRY_INFO!A147)","v":"Angola"},{"$f":"IF(COUNTRY_INFO!B147=0,\" \",COUNTRY_INFO!B147)","v":"NAMIBE"},{"$f":"IF(COUNTRY_INFO!C147=0,\" \",COUNTRY_INFO!C147)","v":"CAMUCUIO"},{"$f":"IF(OR(COUNTRY_INFO!$U$9:$U$1000=\"T3 (ALB/MBD)\",COUNTRY_INFO!$V$9:$V$1000=\"T3 (ALB/MBD)\"), \"T3 (ALB/MBD)\", \" \")","v":" "},null,null,null,null,null,0,null,null,null,0," "," "," "," "]
[{"$f":"IF(COUNTRY_INFO!A148=0,\" \",COUNTRY_INFO!A148)","v":"Angola"},{"$f":"IF(COUNTRY_INFO!B148=0,\" \",COUNTRY_INFO!B148)","v":"NAMIBE"},{"$f":"IF(COUNTRY_INFO!C148=0,\" \",COUNTRY_INFO!C148)","v":"NAMIBE"},{"$f":"IF(OR(COUNTRY_INFO!$U$9:$U$1000=\"T3 (ALB/MBD)\",COUNTRY_INFO!$V$9:$V$1000=\"T3 (ALB/MBD)\"), \"T3 (ALB/MBD)\", \" \")","v":" "},null,null,null,null,null,0,null,null,null,0," "," "," "," "]
[{"$f":"IF(COUNTRY_INFO!A149=0,\" \",COUNTRY_INFO!A149)","v":"Angola"},{"$f":"IF(COUNTRY_INFO!B149=0,\" \",COUNTRY_INFO!B149)","v":"NAMIBE"},{"$f":"IF(COUNTRY_INFO!C149=0,\" \",COUNTRY_INFO!C149)","v":"TOMBWA"},{"$f":"IF(OR(COUNTRY_INFO!$U$9:$U$1000=\"T3 (ALB/MBD)\",COUNTRY_INFO!$V$9:$V$1000=\"T3 (ALB/MBD)\"), \"T3 (ALB/MBD)\", \" \")","v":" "},null,null,null,null,null,0,null,null,null,0," "," "," "," "]
[{"$f":"IF(COUNTRY_INFO!A150=0,\" \",COUNTRY_INFO!A150)","v":"Angola"},{"$f":"IF(COUNTRY_INFO!B150=0,\" \",COUNTRY_INFO!B150)","v":"NAMIBE"},{"$f":"IF(COUNTRY_INFO!C150=0,\" \",COUNTRY_INFO!C150)","v":"VIREI"},{"$f":"IF(OR(COUNTRY_INFO!$U$9:$U$1000=\"T3 (ALB/MBD)\",COUNTRY_INFO!$V$9:$V$1000=\"T3 (ALB/MBD)\"), \"T3 (ALB/MBD)\", \" \")","v":" "},null,null,null,null,null,0,null,null,null,0," "," "," "," "]
[{"$f":"IF(COUNTRY_INFO!A151=0,\" \",COUNTRY_INFO!A151)","v":"Angola"},{"$f":"IF(COUNTRY_INFO!B151=0,\" \",COUNTRY_INFO!B151)","v":"UIGE"},{"$f":"IF(COUNTRY_INFO!C151=0,\" \",COUNTRY_INFO!C151)","v":"AMBUILA"},{"$f":"IF(OR(COUNTRY_INFO!$U$9:$U$1000=\"T3 (ALB/MBD)\",COUNTRY_INFO!$V$9:$V$1000=\"T3 (ALB/MBD)\"), \"T3 (ALB/MBD)\", \" \")","v":"T3 (ALB/MBD)"},"ALB","Outubro 2018",null,6906,null,6906,null,6906,null,6906," ",100," ",100]
[{"$f":"IF(COUNTRY_INFO!A152=0,\" \",COUNTRY_INFO!A152)","v":"Angola"},{"$f":"IF(COUNTRY_INFO!B152=0,\" \",COUNTRY_INFO!B152)","v":"UIGE"},{"$f":"IF(COUNTRY_INFO!C152=0,\" \",COUNTRY_INFO!C152)","v":"BEMBE"},{"$f":"IF(OR(COUNTRY_INFO!$U$9:$U$1000=\"T3 (ALB/MBD)\",COUNTRY_INFO!$V$9:$V$1000=\"T3 (ALB/MBD)\"), \"T3 (ALB/MBD)\", \" \")","v":"T3 (ALB/MBD)"},"ALB","Outubro 2018",null,9793,null,9793,null,9793,null,9793," ",100," ",100]
[{"$f":"IF(COUNTRY_INFO!A153=0,\" \",COUNTRY_INFO!A153)","v":"Angola"},{"$f":"IF(COUNTRY_INFO!B153=0,\" \",COUNTRY_INFO!B153)","v":"UIGE"},{"$f":"IF(COUNTRY_INFO!C153=0,\" \",COUNTRY_INFO!C153)","v":"BUENGAS"},{"$f":"IF(OR(COUNTRY_INFO!$U$9:$U$1000=\"T3 (ALB/MBD)\",COUNTRY_INFO!$V$9:$V$1000=\"T3 (ALB/MBD)\"), \"T3 (ALB/MBD)\", \" \")","v":"T3 (ALB/MBD)"},"ALB","Outubro 2018",null,18599,null,18599,null,18599,null,18599," ",100," ",100]
[{"$f":"IF(COUNTRY_INFO!A154=0,\" \",COUNTRY_INFO!A154)","v":"Angola"},{"$f":"IF(COUNTRY_INFO!B154=0,\" \",COUNTRY_INFO!B154)","v":"UIGE"},{"$f":"IF(COUNTRY_INFO!C154=0,\" \",COUNTRY_INFO!C154)","v":"BUNGO"},{"$f":"IF(OR(COUNTRY_INFO!$U$9:$U$1000=\"T3 (ALB/MBD)\",COUNTRY_INFO!$V$9:$V$1000=\"T3 (ALB/MBD)\"), \"T3 (ALB/MBD)\", \" \")","v":"T3 (ALB/MBD)"},"ALB","Outubro 2018",null,9992,null,9992,null,9992,null,9992," ",100," ",100]
[{"$f":"IF(COUNTRY_INFO!A155=0,\" \",COUNTRY_INFO!A155)","v":"Angola"},{"$f":"IF(COUNTRY_INFO!B155=0,\" \",COUNTRY_INFO!B155)","v":"UIGE"},{"$f":"IF(COUNTRY_INFO!C155=0,\" \",COUNTRY_INFO!C155)","v":"CANGOLA"},{"$f":"IF(OR(COUNTRY_INFO!$U$9:$U$1000=\"T3 (ALB/MBD)\",COUNTRY_INFO!$V$9:$V$1000=\"T3 (ALB/MBD)\"), \"T3 (ALB/MBD)\", \" \")","v":"T3 (ALB/MBD)"},"ALB","Outubro 2018",null,13093,null,13093,null,13093,null,13093," ",100," ",100]
[{"$f":"IF(COUNTRY_INFO!A156=0,\" \",COUNTRY_INFO!A156)","v":"Angola"},{"$f":"IF(COUNTRY_INFO!B156=0,\" \",COUNTRY_INFO!B156)","v":"UIGE"},{"$f":"IF(COUNTRY_INFO!C156=0,\" \",COUNTRY_INFO!C156)","v":"DAMBA"},{"$f":"IF(OR(COUNTRY_INFO!$U$9:$U$1000=\"T3 (ALB/MBD)\",COUNTRY_INFO!$V$9:$V$1000=\"T3 (ALB/MBD)\"), \"T3 (ALB/MBD)\", \" \")","v":"T3 (ALB/MBD)"},"ALB","Outubro 2018",null,16153,null,16153,null,16153,null,16153," ",100," ",100]
[{"$f":"IF(COUNTRY_INFO!A157=0,\" \",COUNTRY_INFO!A157)","v":"Angola"},{"$f":"IF(COUNTRY_INFO!B157=0,\" \",COUNTRY_INFO!B157)","v":"UIGE"},{"$f":"IF(COUNTRY_INFO!C157=0,\" \",COUNTRY_INFO!C157)","v":"MAQUELA DO ZOMBO"},{"$f":"IF(OR(COUNTRY_INFO!$U$9:$U$1000=\"T3 (ALB/MBD)\",COUNTRY_INFO!$V$9:$V$1000=\"T3 (ALB/MBD)\"), \"T3 (ALB/MBD)\", \" \")","v":"T3 (ALB/MBD)"},"ALB","Outubro 2018",null,28270,null,28270,null,28270,null,28270," ",100," ",100]
[{"$f":"IF(COUNTRY_INFO!A158=0,\" \",COUNTRY_INFO!A158)","v":"Angola"},{"$f":"IF(COUNTRY_INFO!B158=0,\" \",COUNTRY_INFO!B158)","v":"UIGE"},{"$f":"IF(COUNTRY_INFO!C158=0,\" \",COUNTRY_INFO!C158)","v":"MILUNGA"},{"$f":"IF(OR(COUNTRY_INFO!$U$9:$U$1000=\"T3 (ALB/MBD)\",COUNTRY_INFO!$V$9:$V$1000=\"T3 (ALB/MBD)\"), \"T3 (ALB/MBD)\", \" \")","v":"T3 (ALB/MBD)"},"ALB","Outubro 2018",null,16842,null,16842,null,16842,null,16842," ",100," ",100]
[{"$f":"IF(COUNTRY_INFO!A159=0,\" \",COUNTRY_INFO!A159)","v":"Angola"},{"$f":"IF(COUNTRY_INFO!B159=0,\" \",COUNTRY_INFO!B159)","v":"UIGE"},{"$f":"IF(COUNTRY_INFO!C159=0,\" \",COUNTRY_INFO!C159)","v":"MUCABA"},{"$f":"IF(OR(COUNTRY_INFO!$U$9:$U$1000=\"T3 (ALB/MBD)\",COUNTRY_INFO!$V$9:$V$1000=\"T3 (ALB/MBD)\"), \"T3 (ALB/MBD)\", \" \")","v":"T3 (ALB/MBD)"},"ALB","Outubro 2018",null,12434,null,12434,null,12434,null,12434," ",100," ",100]
[{"$f":"IF(COUNTRY_INFO!A160=0,\" \",COUNTRY_INFO!A160)","v":"Angola"},{"$f":"IF(COUNTRY_INFO!B160=0,\" \",COUNTRY_INFO!B160)","v":"UIGE"},{"$f":"IF(COUNTRY_INFO!C160=0,\" \",COUNTRY_INFO!C160)","v":"NEGAGE"},{"$f":"IF(OR(COUNTRY_INFO!$U$9:$U$1000=\"T3 (ALB/MBD)\",COUNTRY_INFO!$V$9:$V$1000=\"T3 (ALB/MBD)\"), \"T3 (ALB/MBD)\", \" \")","v":"T3 (ALB/MBD)"},"ALB","Outubro 2018",null,35369,null,35369,null,35369,null,35369," ",100," ",100]
[{"$f":"IF(COUNTRY_INFO!A161=0,\" \",COUNTRY_INFO!A161)","v":"Angola"},{"$f":"IF(COUNTRY_INFO!B161=0,\" \",COUNTRY_INFO!B161)","v":"UIGE"},{"$f":"IF(COUNTRY_INFO!C161=0,\" \",COUNTRY_INFO!C161)","v":"PURI"},{"$f":"IF(OR(COUNTRY_INFO!$U$9:$U$1000=\"T3 (ALB/MBD)\",COUNTRY_INFO!$V$9:$V$1000=\"T3 (ALB/MBD)\"), \"T3 (ALB/MBD)\", \" \")","v":"T3 (ALB/MBD)"},"ALB","Outubro 2018",null,11210,null,11210,null,11210,null,11210," ",100," ",100]
[{"$f":"IF(COUNTRY_INFO!A162=0,\" \",COUNTRY_INFO!A162)","v":"Angola"},{"$f":"IF(COUNTRY_INFO!B162=0,\" \",COUNTRY_INFO!B162)","v":"UIGE"},{"$f":"IF(COUNTRY_INFO!C162=0,\" \",COUNTRY_INFO!C162)","v":"QUIMBELE"},{"$f":"IF(OR(COUNTRY_INFO!$U$9:$U$1000=\"T3 (ALB/MBD)\",COUNTRY_INFO!$V$9:$V$1000=\"T3 (ALB/MBD)\"), \"T3 (ALB/MBD)\", \" \")","v":"T3 (ALB/MBD)"},"ALB","Outubro 2018",null,36248,null,36248,null,36248,null,36248," ",100," ",100]
[{"$f":"IF(COUNTRY_INFO!A163=0,\" \",COUNTRY_INFO!A163)","v":"Angola"},{"$f":"IF(COUNTRY_INFO!B163=0,\" \",COUNTRY_INFO!B163)","v":"UIGE"},{"$f":"IF(COUNTRY_INFO!C163=0,\" \",COUNTRY_INFO!C163)","v":"QUITEXE"},{"$f":"IF(OR(COUNTRY_INFO!$U$9:$U$1000=\"T3 (ALB/MBD)\",COUNTRY_INFO!$V$9:$V$1000=\"T3 (ALB/MBD)\"), \"T3 (ALB/MBD)\", \" \")","v":"T3 (ALB/MBD)"},"ALB","Outubro 2018",null,8594,null,8594,null,8594,null,8594," ",100," ",100]
[{"$f":"IF(COUNTRY_INFO!A164=0,\" \",COUNTRY_INFO!A164)","v":"Angola"},{"$f":"IF(COUNTRY_INFO!B164=0,\" \",COUNTRY_INFO!B164)","v":"UIGE"},{"$f":"IF(COUNTRY_INFO!C164=0,\" \",COUNTRY_INFO!C164)","v":"SANZA POMBO"},{"$f":"IF(OR(COUNTRY_INFO!$U$9:$U$1000=\"T3 (ALB/MBD)\",COUNTRY_INFO!$V$9:$V$1000=\"T3 (ALB/MBD)\"), \"T3 (ALB/MBD)\", \" \")","v":"T3 (ALB/MBD)"},"ALB","Outubro 2018",null,18643,null,18643,null,18643,null,18643," ",100," ",100]
[{"$f":"IF(COUNTRY_INFO!A165=0,\" \",COUNTRY_INFO!A165)","v":"Angola"},{"$f":"IF(COUNTRY_INFO!B165=0,\" \",COUNTRY_INFO!B165)","v":"UIGE"},{"$f":"IF(COUNTRY_INFO!C165=0,\" \",COUNTRY_INFO!C165)","v":"SONGO"},{"$f":"IF(OR(COUNTRY_INFO!$U$9:$U$1000=\"T3 (ALB/MBD)\",COUNTRY_INFO!$V$9:$V$1000=\"T3 (ALB/MBD)\"), \"T3 (ALB/MBD)\", \" \")","v":"T3 (ALB/MBD)"},"ALB","Outubro 2018",null,15055,null,15055,null,15055,null,15055," ",100," ",100]
[{"$f":"IF(COUNTRY_INFO!A166=0,\" \",COUNTRY_INFO!A166)","v":"Angola"},{"$f":"IF(COUNTRY_INFO!B166=0,\" \",COUNTRY_INFO!B166)","v":"UIGE"},{"$f":"IF(COUNTRY_INFO!C166=0,\" \",COUNTRY_INFO!C166)","v":"UIGE"},{"$f":"IF(OR(COUNTRY_INFO!$U$9:$U$1000=\"T3 (ALB/MBD)\",COUNTRY_INFO!$V$9:$V$1000=\"T3 (ALB/MBD)\"), \"T3 (ALB/MBD)\", \" \")","v":"T3 (ALB/MBD)"},"ALB","Outubro 2018",null,121001,null,121001,null,121001,null,121001," ",100," ",100]
[{"$f":"IF(COUNTRY_INFO!A167=0,\" \",COUNTRY_INFO!A167)","v":"Angola"},{"$f":"IF(COUNTRY_INFO!B167=0,\" \",COUNTRY_INFO!B167)","v":"ZAIRE"},{"$f":"IF(COUNTRY_INFO!C167=0,\" \",COUNTRY_INFO!C167)","v":"CUIMBA"},{"$f":"IF(OR(COUNTRY_INFO!$U$9:$U$1000=\"T3 (ALB/MBD)\",COUNTRY_INFO!$V$9:$V$1000=\"T3 (ALB/MBD)\"), \"T3 (ALB/MBD)\", \" \")","v":" "},null,null,null,null,null,0,null,null,null,0," "," "," "," "]
[{"$f":"IF(COUNTRY_INFO!A168=0,\" \",COUNTRY_INFO!A168)","v":"Angola"},{"$f":"IF(COUNTRY_INFO!B168=0,\" \",COUNTRY_INFO!B168)","v":"ZAIRE"},{"$f":"IF(COUNTRY_INFO!C168=0,\" \",COUNTRY_INFO!C168)","v":"MBANZA KONGO"},{"$f":"IF(OR(COUNTRY_INFO!$U$9:$U$1000=\"T3 (ALB/MBD)\",COUNTRY_INFO!$V$9:$V$1000=\"T3 (ALB/MBD)\"), \"T3 (ALB/MBD)\", \" \")","v":" "},null,null,null,null,null,0,null,null,null,0," "," "," "," "]
[{"$f":"IF(COUNTRY_INFO!A169=0,\" \",COUNTRY_INFO!A169)","v":"Angola"},{"$f":"IF(COUNTRY_INFO!B169=0,\" \",COUNTRY_INFO!B169)","v":"ZAIRE"},{"$f":"IF(COUNTRY_INFO!C169=0,\" \",COUNTRY_INFO!C169)","v":"NOQUI"},{"$f":"IF(OR(COUNTRY_INFO!$U$9:$U$1000=\"T3 (ALB/MBD)\",COUNTRY_INFO!$V$9:$V$1000=\"T3 (ALB/MBD)\"), \"T3 (ALB/MBD)\", \" \")","v":" "},null,null,null,null,null,0,null,null,null,0," "," "," "," "]
[{"$f":"IF(COUNTRY_INFO!A170=0,\" \",COUNTRY_INFO!A170)","v":"Angola"},{"$f":"IF(COUNTRY_INFO!B170=0,\" \",COUNTRY_INFO!B170)","v":"ZAIRE"},{"$f":"IF(COUNTRY_INFO!C170=0,\" \",COUNTRY_INFO!C170)","v":"NZETO"},{"$f":"IF(OR(COUNTRY_INFO!$U$9:$U$1000=\"T3 (ALB/MBD)\",COUNTRY_INFO!$V$9:$V$1000=\"T3 (ALB/MBD)\"), \"T3 (ALB/MBD)\", \" \")","v":" "},null,null,null,null,null,0,null,null,null,0," "," "," "," "]
[{"$f":"IF(COUNTRY_INFO!A171=0,\" \",COUNTRY_INFO!A171)","v":"Angola"},{"$f":"IF(COUNTRY_INFO!B171=0,\" \",COUNTRY_INFO!B171)","v":"ZAIRE"},{"$f":"IF(COUNTRY_INFO!C171=0,\" \",COUNTRY_INFO!C171)","v":"SOYO"},{"$f":"IF(OR(COUNTRY_INFO!$U$9:$U$1000=\"T3 (ALB/MBD)\",COUNTRY_INFO!$V$9:$V$1000=\"T3 (ALB/MBD)\"), \"T3 (ALB/MBD)\", \" \")","v":" "},null,null,null,null,null,0,null,null,null,0," "," "," "," "]
[{"$f":"IF(COUNTRY_INFO!A172=0,\" \",COUNTRY_INFO!A172)","v":"Angola"},{"$f":"IF(COUNTRY_INFO!B172=0,\" \",COUNTRY_INFO!B172)","v":"ZAIRE"},{"$f":"IF(COUNTRY_INFO!C172=0,\" \",COUNTRY_INFO!C172)","v":"TOMBOCO"},{"$f":"IF(OR(COUNTRY_INFO!$U$9:$U$1000=\"T3 (ALB/MBD)\",COUNTRY_INFO!$V$9:$V$1000=\"T3 (ALB/MBD)\"), \"T3 (ALB/MBD)\", \" \")","v":" "},null,null,null,null,null,0,null,null,null,0," "," "," "," "]

{"sheet":"T3_R2","index":8,"n_rows":172,"n_cols":18,"rows_kept":172,"cut":false,"hidden":false,"merged":[[5,6,5,9],[5,10,5,13],[5,14,5,17],[3,0,3,2],[5,0,5,2],[5,3,6,3],[5,5,6,5],[5,4,6,4]]}
["T 3 - Albendazole (ALB) or Mebendazole (MBD) - Round 2"]
["Administrative structure, population requiring PC by age group, population treated by age group and coverage"]
[]
["TOTAL",null,null,null,null,null,{"$f":"SUM(G$9:G$1000)","v":0},0,0,0,0,0,0,0,{"$f":"IF(G4<>0, IF(K4/G4*100=0, \"-\", K4/G4*100), \" \")","v":" "},{"$f":"IF(H4<>0, IF(L4/H4*100=0, \"-\", L4/H4*100), \" \")","v":" "},{"$f":"IF(I4<>0, IF(M4/I4*100=0, \"-\", M4/I4*100), \" \")","v":" "},{"$f":"IF(J4<>0, IF(N4/J4*100=0, \"-\", N4/J4*100), \" \")","v":" "}]
[]
[null,null,null,"PC implemented","Medicine","Date","Population targeted for T3",null,null,null,"Population treated",null,null,null,"Programme coverage (%)"]
["Country","Province/State","District",null,null,null,"PreSAC","SAC","Adults","Total","PreSAC","SAC","Adults","Total","PreSAC","SAC","Adults","Total"]
[]
[{"$f":"IF(COUNTRY_INFO!A9=0,\" \",COUNTRY_INFO!A9)","v":"Angola"},{"$f":"IF(COUNTRY_INFO!B9=0,\" \",COUNTRY_INFO!B9)","v":"BENGO"},{"$f":"IF(COUNTRY_INFO!C9=0,\" \",COUNTRY_INFO!C9)","v":"AMBRIZ"},{"$f":"IF(AND(COUNTRY_INFO!$U$9:$U$1000=\"T3 (ALB/MBD)\",COUNTRY_INFO!$V$9:$V$1000=\"T3 (ALB/MBD)\"), \"T3 (ALB/MBD)\", \" \")","v":" "},null,null,null,null,null,{"$f":"SUM(G9:I9)","v":0},null,null,null,{"$f":"SUM(K9:M9)","v":0},{"$f":"IF(G9<>0, IF(K9/G9*100=0, \"-\", K9/G9*100), \" \")","v":" "},{"$f":"IF(H9<>0, IF(L9/H9*100=0, \"-\", L9/H9*100), \" \")","v":" "},{"$f":"IF(I9<>0, IF(M9/I9*100=0, \"-\", M9/I9*100), \" \")","v":" "},{"$f":"IF(J9<>0, IF(N9/J9*100=0, \"-\", N9/J9*100), \" \")","v":" "}]
[{"$f":"IF(COUNTRY_INFO!A10=0,\" \",COUNTRY_INFO!A10)","v":"Angola"},{"$f":"IF(COUNTRY_INFO!B10=0,\" \",COUNTRY_INFO!B10)","v":"BENGO"},{"$f":"IF(COUNTRY_INFO!C10=0,\" \",COUNTRY_INFO!C10)","v":"BULA ATUMBA"},{"$f":"IF(AND(COUNTRY_INFO!$U$9:$U$1000=\"T3 (ALB/MBD)\",COUNTRY_INFO!$V$9:$V$1000=\"T3 (ALB/MBD)\"), \"T3 (ALB/MBD)\", \" \")","v":" "},null,null,null,null,null,{"$f":"SUM(G10:I10)","v":0},null,null,null,{"$f":"SUM(K10:M10)","v":0},{"$f":"IF(G10<>0, IF(K10/G10*100=0, \"-\", K10/G10*100), \" \")","v":" "},{"$f":"IF(H10<>0, IF(L10/H10*100=0, \"-\", L10/H10*100), \" \")","v":" "},{"$f":"IF(I10<>0, IF(M10/I10*100=0, \"-\", M10/I10*100), \" \")","v":" "},{"$f":"IF(J10<>0, IF(N10/J10*100=0, \"-\", N10/J10*100), \" \")","v":" "}]
[{"$f":"IF(COUNTRY_INFO!A11=0,\" \",COUNTRY_INFO!A11)","v":"Angola"},{"$f":"IF(COUNTRY_INFO!B11=0,\" \",COUNTRY_INFO!B11)","v":"BENGO"},{"$f":"IF(COUNTRY_INFO!C11=0,\" \",COUNTRY_INFO!C11)","v":"DANDE"},{"$f":"IF(AND(COUNTRY_INFO!$U$9:$U$1000=\"T3 (ALB/MBD)\",COUNTRY_INFO!$V$9:$V$1000=\"T3 (ALB/MBD)\"), \"T3 (ALB/MBD)\", \" \")","v":" "},null,null,null,null,null,0,null,null,null,0," "," "," "," "]
[{"$f":"IF(COUNTRY_INFO!A12=0,\" \",COUNTRY_INFO!A12)","v":"Angola"},{"$f":"IF(COUNTRY_INFO!B12=0,\" \",COUNTRY_INFO!B12)","v":"BENGO"},{"$f":"IF(COUNTRY_INFO!C12=0,\" \",COUNTRY_INFO!C12)","v":"DEMBOS"},{"$f":"IF(AND(COUNTRY_INFO!$U$9:$U$1000=\"T3 (ALB/MBD)\",COUNTRY_INFO!$V$9:$V$1000=\"T3 (ALB/MBD)\"), \"T3 (ALB/MBD)\", \" \")","v":" "},null,null,null,null,null,0,null,null,null,0," "," "," "," "]
[{"$f":"IF(COUNTRY_INFO!A13=0,\" \",COUNTRY_INFO!A13)","v":"Angola"},{"$f":"IF(COUNTRY_INFO!B13=0,\" \",COUNTRY_INFO!B13)","v":"BENGO"},{"$f":"IF(COUNTRY_INFO!C13=0,\" \",COUNTRY_INFO!C13)","v":"NAMBUANGONGO"},{"$f":"IF(AND(COUNTRY_INFO!$U$9:$U$1000=\"T3 (ALB/MBD)\",COUNTRY_INFO!$V$9:$V$1000=\"T3 (ALB/MBD)\"), \"T3 (ALB/MBD)\", \" \")","v":" "},null,null,null,null,null,0,null,null,null,0," "," "," "," "]
[{"$f":"IF(COUNTRY_INFO!A14=0,\" \",COUNTRY_INFO!A14)","v":"Angola"},{"$f":"IF(COUNTRY_INFO!B14=0,\" \",COUNTRY_INFO!B14)","v":"BENGO"},{"$f":"IF(COUNTRY_INFO!C14=0,\" \",COUNTRY_INFO!C14)","v":"PANGO ALUQUEM"},{"$f":"IF(AND(COUNTRY_INFO!$U$9:$U$1000=\"T3 (ALB/MBD)\",COUNTRY_INFO!$V$9:$V$1000=\"T3 (ALB/MBD)\"), \"T3 (ALB/MBD)\", \" \")","v":" "},null,null,null,null,null,0,null,null,null,0," "," "," "," "]
[{"$f":"IF(COUNTRY_INFO!A15=0,\" \",COUNTRY_INFO!A15)","v":"Angola"},{"$f":"IF(COUNTRY_INFO!B15=0,\" \",COUNTRY_INFO!B15)","v":"BENGUELA"},{"$f":"IF(COUNTRY_INFO!C15=0,\" \",COUNTRY_INFO!C15)","v":"BAIA FARTA"},{"$f":"IF(AND(COUNTRY_INFO!$U$9:$U$1000=\"T3 (ALB/MBD)\",COUNTRY_INFO!$V$9:$V$1000=\"T3 (ALB/MBD)\"), \"T3 (ALB/MBD)\", \" \")","v":" "},null,null,null,null,null,0,null,null,null,0," "," "," "," "]
[{"$f":"IF(COUNTRY_INFO!A16=0,\" \",COUNTRY_INFO!A16)","v":"Angola"},{"$f":"IF(COUNTRY_INFO!B16=0,\" \",COUNTRY_INFO!B16)","v":"BENGUELA"},{"$f":"IF(COUNTRY_INFO!C16=0,\" \",COUNTRY_INFO!C16)","v":"BALOMBO"},{"$f":"IF(AND(COUNTRY_INFO!$U$9:$U$1000=\"T3 (ALB/MBD)\",COUNTRY_INFO!$V$9:$V$1000=\"T3 (ALB/MBD)\"), \"T3 (ALB/MBD)\", \" \")","v":" "},null,null,null,null,null,0,null,null,null,0," "," "," "," "]
[{"$f":"IF(COUNTRY_INFO!A17=0,\" \",COUNTRY_INFO!A17)","v":"Angola"},{"$f":"IF(COUNTRY_INFO!B17=0,\" \",COUNTRY_INFO!B17)","v":"BENGUELA"},{"$f":"IF(COUNTRY_INFO!C17=0,\" \",COUNTRY_INFO!C17)","v":"BENGUELA"},{"$f":"IF(AND(COUNTRY_INFO!$U$9:$U$1000=\"T3 (ALB/MBD)\",COUNTRY_INFO!$V$9:$V$1000=\"T3 (ALB/MBD)\"), \"T3 (ALB/MBD)\", \" \")","v":" "},null,null,null,null,null,0,null,null,null,0," "," "," "," "]
[{"$f":"IF(COUNTRY_INFO!A18=0,\" \",COUNTRY_INFO!A18)","v":"Angola"},{"$f":"IF(COUNTRY_INFO!B18=0,\" \",COUNTRY_INFO!B18)","v":"BENGUELA"},{"$f":"IF(COUNTRY_INFO!C18=0,\" \",COUNTRY_INFO!C18)","v":"BOCOIO"},{"$f":"IF(AND(COUNTRY_INFO!$U$9:$U$1000=\"T3 (ALB/MBD)\",COUNTRY_INFO!$V$9:$V$1000=\"T3 (ALB/MBD)\"), \"T3 (ALB/MBD)\", \" \")","v":" "},null,null,null,null,null,0,null,null,null,0," "," "," "," "]
[{"$f":"IF(COUNTRY_INFO!A19=0,\" \",COUNTRY_INFO!A19)","v":"Angola"},{"$f":"IF(COUNTRY_INFO!B19=0,\" \",COUNTRY_INFO!B19)","v":"BENGUELA"},{"$f":"IF(COUNTRY_INFO!C19=0,\" \",COUNTRY_INFO!C19)","v":"CAIMBAMBO"},{"$f":"IF(AND(COUNTRY_INFO!$U$9:$U$1000=\"T3 (ALB/MBD)\",COUNTRY_INFO!$V$9:$V$1000=\"T3 (ALB/MBD)\"), \"T3 (ALB/MBD)\", \" \")","v":" "},null,null,null,null,null,0,null,null,null,0," "," "," "," "]
[{"$f":"IF(COUNTRY_INFO!A20=0,\" \",COUNTRY_INFO!A20)","v":"Angola"},{"$f":"IF(COUNTRY_INFO!B20=0,\" \",COUNTRY_INFO!B20)","v":"BENGUELA"},{"$f":"IF(COUNTRY_INFO!C20=0,\" \",COUNTRY_INFO!C20)","v":"CATUMBELA"},{"$f":"IF(AND(COUNTRY_INFO!$U$9:$U$1000=\"T3 (ALB/MBD)\",COUNTRY_INFO!$V$9:$V$1000=\"T3 (ALB/MBD)\"), \"T3 (ALB/MBD)\", \" \")","v":" "},null,null,null,null,null,0,null,null,null,0," "," "," "," "]
[{"$f":"IF(COUNTRY_INFO!A21=0,\" \",COUNTRY_INFO!A21)","v":"Angola"},{"$f":"IF(COUNTRY_INFO!B21=0,\" \",COUNTRY_INFO!B21)","v":"BENGUELA"},{"$f":"IF(COUNTRY_INFO!C21=0,\" \",COUNTRY_INFO!C21)","v":"CHONGOROI"},{"$f":"IF(AND(COUNTRY_INFO!$U$9:$U$1000=\"T3 (ALB/MBD)\",COUNTRY_INFO!$V$9:$V$1000=\"T3 (ALB/MBD)\"), \"T3 (ALB/MBD)\", \" \")","v":" "},null,null,null,null,null,0,null,null,null,0," "," "," "," "]
[{"$f":"IF(COUNTRY_INFO!A22=0,\" \",COUNTRY_INFO!A22)","v":"Angola"},{"$f":"IF(COUNTRY_INFO!B22=0,\" \",COUNTRY_INFO!B22)","v":"BENGUELA"},{"$f":"IF(COUNTRY_INFO!C22=0,\" \",COUNTRY_INFO!C22)","v":"CUBAL"},{"$f":"IF(AND(COUNTRY_INFO!$U$9:$U$1000=\"T3 (ALB/MBD)\",COUNTRY_INFO!$V$9:$V$1000=\"T3 (ALB/MBD)\"), \"T3 (ALB/MBD)\", \" \")","v":" "},null,null,null,null,null,0,null,null,null,0," "," "," "," "]
[{"$f":"IF(COUNTRY_INFO!A23=0,\" \",COUNTRY_INFO!A23)","v":"Angola"},{"$f":"IF(COUNTRY_INFO!B23=0,\" \",COUNTRY_INFO!B23)","v":"BENGUELA"},{"$f":"IF(COUNTRY_INFO!C23=0,\" \",COUNTRY_INFO!C23)","v":"GANDA"},{"$f":"IF(AND(COUNTRY_INFO!$U$9:$U$1000=\"T3 (ALB/MBD)\",COUNTRY_INFO!$V$9:$V$1000=\"T3 (ALB/MBD)\"), \"T3 (ALB/MBD)\", \" \")","v":" "},null,null,null,null,null,0,null,null,null,0," "," "," "," "]
[{"$f":"IF(COUNTRY_INFO!A24=0,\" \",COUNTRY_INFO!A24)","v":"Angola"},{"$f":"IF(COUNTRY_INFO!B24=0,\" \",COUNTRY_INFO!B24)","v":"BENGUELA"},{"$f":"IF(COUNTRY_INFO!C24=0,\" \",COUNTRY_INFO!C24)","v":"LOBITO"},{"$f":"IF(AND(COUNTRY_INFO!$U$9:$U$1000=\"T3 (ALB/MBD)\",COUNTRY_INFO!$V$9:$V$1000=\"T3 (ALB/MBD)\"), \"T3 (ALB/MBD)\", \" \")","v":" "},null,null,null,null,null,0,null,null,null,0," "," "," "," "]
[{"$f":"IF(COUNTRY_INFO!A25=0,\" \",COUNTRY_INFO!A25)","v":"Angola"},{"$f":"IF(COUNTRY_INFO!B25=0,\" \",COUNTRY_INFO!B25)","v":"BIE"},{"$f":"IF(COUNTRY_INFO!C25=0,\" \",COUNTRY_INFO!C25)","v":"ANDULO"},{"$f":"IF(AND(COUNTRY_INFO!$U$9:$U$1000=\"T3 (ALB/MBD)\",COUNTRY_INFO!$V$9:$V$1000=\"T3 (ALB/MBD)\"), \"T3 (ALB/MBD)\", \" \")","v":" "},null,null,null,null,null,0,null,null,null,0," "," "," "," "]
[{"$f":"IF(COUNTRY_INFO!A26=0,\" \",COUNTRY_INFO!A26)","v":"Angola"},{"$f":"IF(COUNTRY_INFO!B26=0,\" \",COUNTRY_INFO!B26)","v":"BIE"},{"$f":"IF(COUNTRY_INFO!C26=0,\" \",COUNTRY_INFO!C26)","v":"CAMACUPA"},{"$f":"IF(AND(COUNTRY_INFO!$U$9:$U$1000=\"T3 (ALB/MBD)\",COUNTRY_INFO!$V$9:$V$1000=\"T3 (ALB/MBD)\"), \"T3 (ALB/MBD)\", \" \")","v":" "},null,null,null,null,null,0,null,null,null,0," "," "," "," "]
[{"$f":"IF(COUNTRY_INFO!A27=0,\" \",COUNTRY_INFO!A27)","v":"Angola"},{"$f":"IF(COUNTRY_INFO!B27=0,\" \",COUNTRY_INFO!B27)","v":"BIE"},{"$f":"IF(COUNTRY_INFO!C27=0,\" \",COUNTRY_INFO!C27)","v":"CATABOLA"},{"$f":"IF(AND(COUNTRY_INFO!$U$9:$U$1000=\"T3 (ALB/MBD)\",COUNTRY_INFO!$V$9:$V$1000=\"T3 (ALB/MBD)\"), \"T3 (ALB/MBD)\", \" \")","v":" "},null,null,null,null,null,0,null,null,null,0," "," "," "," "]
[{"$f":"IF(COUNTRY_INFO!A28=0,\" \",COUNTRY_INFO!A28)","v":"Angola"},{"$f":"IF(COUNTRY_INFO!B28=0,\" \",COUNTRY_INFO!B28)","v":"BIE"},{"$f":"IF(COUNTRY_INFO!C28=0,\" \",COUNTRY_INFO!C28)","v":"CHINGUAR"},{"$f":"IF(AND(COUNTRY_INFO!$U$9:$U$1000=\"T3 (ALB/MBD)\",COUNTRY_INFO!$V$9:$V$1000=\"T3 (ALB/MBD)\"), \"T3 (ALB/MBD)\", \" \")","v":" "},null,null,null,null,null,0,null,null,null,0," "," "," "," "]
[{"$f":"IF(COUNTRY_INFO!A29=0,\" \",COUNTRY_INFO!A29)","v":"Angola"},{"$f":"IF(COUNTRY_INFO!B29=0,\" \",COUNTRY_INFO!B29)","v":"BIE"},{"$f":"IF(COUNTRY_INFO!C29=0,\" \",COUNTRY_INFO!C29)","v":"CHITEMBO"},{"$f":"IF(AND(COUNTRY_INFO!$U$9:$U$1000=\"T3 (ALB/MBD)\",COUNTRY_INFO!$V$9:$V$1000=\"T3 (ALB/MBD)\"), \"T3 (ALB/MBD)\", \" \")","v":" "},null,null,null,null,null,0,null,null,null,0," "," "," "," "]
[{"$f":"IF(COUNTRY_INFO!A30=0,\" \",COUNTRY_INFO!A30)","v":"Angola"},{"$f":"IF(COUNTRY_INFO!B30=0,\" \",COUNTRY_INFO!B30)","v":"BIE"},{"$f":"IF(COUNTRY_INFO!C30=0,\" \",COUNTRY_INFO!C30)","v":"CUEMBA"},{"$f":"IF(AND(COUNTRY_INFO!$U$9:$U$1000=\"T3 (ALB/MBD)\",COUNTRY_INFO!$V$9:$V$1000=\"T3 (ALB/MBD)\"), \"T3 (ALB/MBD)\", \" \")","v":" "},null,null,null,null,null,0,null,null,null,0," "," "," "," "]
[{"$f":"IF(COUNTRY_INFO!A31=0,\" \",COUNTRY_INFO!A31)","v":"Angola"},{"$f":"IF(COUNTRY_INFO!B31=0,\" \",COUNTRY_INFO!B31)","v":"BIE"},{"$f":"IF(COUNTRY_INFO!C31=0,\" \",COUNTRY_INFO!C31)","v":"CUITO"},{"$f":"IF(AND(COUNTRY_INFO!$U$9:$U$1000=\"T3 (ALB/MBD)\",COUNTRY_INFO!$V$9:$V$1000=\"T3 (ALB/MBD)\"), \"T3 (ALB/MBD)\", \" \")","v":" "},null,null,null,null,null,0,null,null,null,0," "," "," "," "]
[{"$f":"IF(COUNTRY_INFO!A32=0,\" \",COUNTRY_INFO!A32)","v":"Angola"},{"$f":"IF(COUNTRY_INFO!B32=0,\" \",COUNTRY_INFO!B32)","v":"BIE"},{"$f":"IF(COUNTRY_INFO!C32=0,\" \",COUNTRY_INFO!C32)","v":"CUNHINGA"},{"$f":"IF(AND(COUNTRY_INFO!$U$9:$U$1000=\"T3 (ALB/MBD)\",COUNTRY_INFO!$V$9:$V$1000=\"T3 (ALB/MBD)\"), \"T3 (ALB/MBD)\", \" \")","v":" "},null,null,null,null,null,0,null,null,null,0," "," "," "," "]
[{"$f":"IF(COUNTRY_INFO!A33=0,\" \",COUNTRY_INFO!A33)","v":"Angola"},{"$f":"IF(COUNTRY_INFO!B33=0,\" \",COUNTRY_INFO!B33)","v":"BIE"},{"$f":"IF(COUNTRY_INFO!C33=0,\" \",COUNTRY_INFO!C33)","v":"NHAREA"},{"$f":"IF(AND(COUNTRY_INFO!$U$9:$U$1000=\"T3 (ALB/MBD)\",COUNTRY_INFO!$V$9:$V$1000=\"T3 (ALB/MBD)\"), \"T3 (ALB/MBD)\", \" \")","v":" "},null,null,null,null,null,0,null,null,null,0," "," "," "," "]
[{"$f":"IF(COUNTRY_INFO!A34=0,\" \",COUNTRY_INFO!A34)","v":"Angola"},{"$f":"IF(COUNTRY_INFO!B34=0,\" \",COUNTRY_INFO!B34)","v":"CABINDA"},{"$f":"IF(COUNTRY_INFO!C34=0,\" \",COUNTRY_INFO!C34)","v":"BELIZE"},{"$f":"IF(AND(COUNTRY_INFO!$U$9:$U$1000=\"T3 (ALB/MBD)\",COUNTRY_INFO!$V$9:$V$1000=\"T3 (ALB/MBD)\"), \"T3 (ALB/MBD)\", \" \")","v":" "},null,null,null,null,null,0,null,null,null,0," "," "," "," "]
[{"$f":"IF(COUNTRY_INFO!A35=0,\" \",COUNTRY_INFO!A35)","v":"Angola"},{"$f":"IF(COUNTRY_INFO!B35=0,\" \",COUNTRY_INFO!B35)","v":"CABINDA"},{"$f":"IF(COUNTRY_INFO!C35=0,\" \",COUNTRY_INFO!C35)","v":"BUCO ZAU"},{"$f":"IF(AND(COUNTRY_INFO!$U$9:$U$1000=\"T3 (ALB/MBD)\",COUNTRY_INFO!$V$9:$V$1000=\"T3 (ALB/MBD)\"), \"T3 (ALB/MBD)\", \" \")","v":" "},null,null,null,null,null,0,null,null,null,0," "," "," "," "]
[{"$f":"IF(COUNTRY_INFO!A36=0,\" \",COUNTRY_INFO!A36)","v":"Angola"},{"$f":"IF(COUNTRY_INFO!B36=0,\" \",COUNTRY_INFO!B36)","v":"CABINDA"},{"$f":"IF(COUNTRY_INFO!C36=0,\" \",COUNTRY_INFO!C36)","v":"CABINDA"},{"$f":"IF(AND(COUNTRY_INFO!$U$9:$U$1000=\"T3 (ALB/MBD)\",COUNTRY_INFO!$V$9:$V$1000=\"T3 (ALB/MBD)\"), \"T3 (ALB/MBD)\", \" \")","v":" "},null,null,null,null,null,0,null,null,null,0," "," "," "," "]
[{"$f":"IF(COUNTRY_INFO!A37=0,\" \",COUNTRY_INFO!A37)","v":"Angola"},{"$f":"IF(COUNTRY_INFO!B37=0,\" \",COUNTRY_INFO!B37)","v":"CABINDA"},{"$f":"IF(COUNTRY_INFO!C37=0,\" \",COUNTRY_INFO!C37)","v":"CACONGO"},{"$f":"IF(AND(COUNTRY_INFO!$U$9:$U$1000=\"T3 (ALB/MBD)\",COUNTRY_INFO!$V$9:$V$1000=\"T3 (ALB/MBD)\"), \"T3 (ALB/MBD)\", \" \")","v":" "},null,null,null,null,null,0,null,null,null,0," "," "," "," "]
[{"$f":"IF(COUNTRY_INFO!A38=0,\" \",COUNTRY_INFO!A38)","v":"Angola"},{"$f":"IF(COUNTRY_INFO!B38=0,\" \",COUNTRY_INFO!B38)","v":"CUANDO CUBANGO"},{"$f":"IF(COUNTRY_INFO!C38=0,\" \",COUNTRY_INFO!C38)","v":"CALAI"},{"$f":"IF(AND(COUNTRY_INFO!$U$9:$U$1000=\"T3 (ALB/MBD)\",COUNTRY_INFO!$V$9:$V$1000=\"T3 (ALB/MBD)\"), \"T3 (ALB/MBD)\", \" \")","v":" "},null,null,null,null,null,0,null,null,null,0," "," "," "," "]
[{"$f":"IF(COUNTRY_INFO!A39=0,\" \",COUNTRY_INFO!A39)","v":"Angola"},{"$f":"IF(COUNTRY_INFO!B39=0,\" \",COUNTRY_INFO!B39)","v":"CUANDO CUBANGO"},{"$f":"IF(COUNTRY_INFO!C39=0,\" \",COUNTRY_INFO!C39)","v":"CUANGAR"},{"$f":"IF(AND(COUNTRY_INFO!$U$9:$U$1000=\"T3 (ALB/MBD)\",COUNTRY_INFO!$V$9:$V$1000=\"T3 (ALB/MBD)\"), \"T3 (ALB/MBD)\", \" \")","v":" "},null,null,null,null,null,0,null,null,null,0," "," "," "," "]
[{"$f":"IF(COUNTRY_INFO!A40=0,\" \",COUNTRY_INFO!A40)","v":"Angola"},{"$f":"IF(COUNTRY_INFO!B40=0,\" \",COUNTRY_INFO!B40)","v":"CUANDO CUBANGO"},{"$f":"IF(COUNTRY_INFO!C40=0,\" \",COUNTRY_INFO!C40)","v":"CUCHI"},{"$f":"IF(AND(COUNTRY_INFO!$U$9:$U$1000=\"T3 (ALB/MBD)\",COUNTRY_INFO!$V$9:$V$1000=\"T3 (ALB/MBD)\"), \"T3 (ALB/MBD)\", \" \")","v":" "},null,null,null,null,null,0,null,null,null,0," "," "," "," "]
[{"$f":"IF(COUNTRY_INFO!A41=0,\" \",COUNTRY_INFO!A41)","v":"Angola"},{"$f":"IF(COUNTRY_INFO!B41=0,\" \",COUNTRY_INFO!B41)","v":"CUANDO CUBANGO"},{"$f":"IF(COUNTRY_INFO!C41=0,\" \",COUNTRY_INFO!C41)","v":"CUITO CUANAVALE"},{"$f":"IF(AND(COUNTRY_INFO!$U$9:$U$1000=\"T3 (ALB/MBD)\",COUNTRY_INFO!$V$9:$V$1000=\"T3 (ALB/MBD)\"), \"T3 (ALB/MBD)\", \" \")","v":" "},null,null,null,null,null,0,null,null,null,0," "," "," "," "]
[{"$f":"IF(COUNTRY_INFO!A42=0,\" \",COUNTRY_INFO!A42)","v":"Angola"},{"$f":"IF(COUNTRY_INFO!B42=0,\" \",COUNTRY_INFO!B42)","v":"CUANDO CUBANGO"},{"$f":"IF(COUNTRY_INFO!C42=0,\" \",COUNTRY_INFO!C42)","v":"DIRICO"},{"$f":"IF(AND(COUNTRY_INFO!$U$9:$U$1000=\"T3 (ALB/MBD)\",COUNTRY_INFO!$V$9:$V$1000=\"T3 (ALB/MBD)\"), \"T3 (ALB/MBD)\", \" \")","v":" "},null,null,null,null,null,0,null,null,null,0," "," "," "," "]
[{"$f":"IF(COUNTRY_INFO!A43=0,\" \",COUNTRY_INFO!A43)","v":"Angola"},{"$f":"IF(COUNTRY_INFO!B43=0,\" \",COUNTRY_INFO!B43)","v":"CUANDO CUBANGO"},{"$f":"IF(COUNTRY_INFO!C43=0,\" \",COUNTRY_INFO!C43)","v":"MAVINGA"},{"$f":"IF(AND(COUNTRY_INFO!$U$9:$U$1000=\"T3 (ALB/MBD)\",COUNTRY_INFO!$V$9:$V$1000=\"T3 (ALB/MBD)\"), \"T3 (ALB/MBD)\", \" \")","v":" "},null,null,null,null,null,0,null,null,null,0," "," "," "," "]
[{"$f":"IF(COUNTRY_INFO!A44=0,\" \",COUNTRY_INFO!A44)","v":"Angola"},{"$f":"IF(COUNTRY_INFO!B44=0,\" \",COUNTRY_INFO!B44)","v":"CUANDO CUBANGO"},{"$f":"IF(COUNTRY_INFO!C44=0,\" \",COUNTRY_INFO!C44)","v":"MENONGUE"},{"$f":"IF(AND(COUNTRY_INFO!$U$9:$U$1000=\"T3 (ALB/MBD)\",COUNTRY_INFO!$V$9:$V$1000=\"T3 (ALB/MBD)\"), \"T3 (ALB/MBD)\", \" \")","v":" "},null,null,null,null,null,0,null,null,null,0," "," "," "," "]
[{"$f":"IF(COUNTRY_INFO!A45=0,\" \",COUNTRY_INFO!A45)","v":"Angola"},{"$f":"IF(COUNTRY_INFO!B45=0,\" \",COUNTRY_INFO!B45)","v":"CUANDO CUBANGO"},{"$f":"IF(COUNTRY_INFO!C45=0,\" \",COUNTRY_INFO!C45)","v":"NANKOVA"},{"$f":"IF(AND(COUNTRY_INFO!$U$9:$U$1000=\"T3 (ALB/MBD)\",COUNTRY_INFO!$V$9:$V$1000=\"T3 (ALB/MBD)\"), \"T3 (ALB/MBD)\", \" \")","v":" "},null,null,null,null,null,0,null,null,null,0," "," "," "," "]
[{"$f":"IF(COUNTRY_INFO!A46=0,\" \",COUNTRY_INFO!A46)","v":"Angola"},{"$f":"IF(COUNTRY_INFO!B46=0,\" \",COUNTRY_INFO!B46)","v":"CUANDO CUBANGO"},{"$f":"IF(COUNTRY_INFO!C46=0,\" \",COUNTRY_INFO!C46)","v":"RIVUNGO"},{"$f":"IF(AND(COUNTRY_INFO!$U$9:$U$1000=\"T3 (ALB/MBD)\",COUNTRY_INFO!$V$9:$V$1000=\"T3 (ALB/MBD)\"), \"T3 (ALB/MBD)\", \" \")","v":" "},null,null,null,null,null,0,null,null,null,0," "," "," "," "]
[{"$f":"IF(COUNTRY_INFO!A47=0,\" \",COUNTRY_INFO!A47)","v":"Angola"},{"$f":"IF(COUNTRY_INFO!B47=0,\" \",COUNTRY_INFO!B47)","v":"CUANZA NORTE"},{"$f":"IF(COUNTRY_INFO!C47=0,\" \",COUNTRY_INFO!C47)","v":"AMBACA"},{"$f":"IF(AND(COUNTRY_INFO!$U$9:$U$1000=\"T3 (ALB/MBD)\",COUNTRY_INFO!$V$9:$V$1000=\"T3 (ALB/MBD)\"), \"T3 (ALB/MBD)\", \" \")","v":" "},null,null,null,null,null,0,null,null,null,0," "," "," "," "]
[{"$f":"IF(COUNTRY_INFO!A48=0,\" \",COUNTRY_INFO!A48)","v":"Angola"},{"$f":"IF(COUNTRY_INFO!B48=0,\" \",COUNTRY_INFO!B48)","v":"CUANZA NORTE"},{"$f":"IF(COUNTRY_INFO!C48=0,\" \",COUNTRY_INFO!C48)","v":"BANGA"},{"$f":"IF(AND(COUNTRY_INFO!$U$9:$U$1000=\"T3 (ALB/MBD)\",COUNTRY_INFO!$V$9:$V$1000=\"T3 (ALB/MBD)\"), \"T3 (ALB/MBD)\", \" \")","v":" "},null,null,null,null,null,0,null,null,null,0," "," "," "," "]
[{"$f":"IF(COUNTRY_INFO!A49=0,\" \",COUNTRY_INFO!A49)","v":"Angola"},{"$f":"IF(COUNTRY_INFO!B49=0,\" \",COUNTRY_INFO!B49)","v":"CUANZA NORTE"},{"$f":"IF(COUNTRY_INFO!C49=0,\" \",COUNTRY_INFO!C49)","v":"BOLONGONGO"},{"$f":"IF(AND(COUNTRY_INFO!$U$9:$U$1000=\"T3 (ALB/MBD)\",COUNTRY_INFO!$V$9:$V$1000=\"T3 (ALB/MBD)\"), \"T3 (ALB/MBD)\", \" \")","v":" "},null,null,null,null,null,0,null,null,null,0," "," "," "," "]
[{"$f":"IF(COUNTRY_INFO!A50=0,\" \",COUNTRY_INFO!A50)","v":"Angola"},{"$f":"IF(COUNTRY_INFO!B50=0,\" \",COUNTRY_INFO!B50)","v":"CUANZA NORTE"},{"$f":"IF(COUNTRY_INFO!C50=0,\" \",COUNTRY_INFO!C50)","v":"CAMBAMBE"},{"$f":"IF(AND(COUNTRY_INFO!$U$9:$U$1000=\"T3 (ALB/MBD)\",COUNTRY_INFO!$V$9:$V$1000=\"T3 (ALB/MBD)\"), \"T3 (ALB/MBD)\", \" \")","v":" "},null,null,null,null,null,0,null,null,null,0," "," "," "," "]
[{"$f":"IF(COUNTRY_INFO!A51=0,\" \",COUNTRY_INFO!A51)","v":"Angola"},{"$f":"IF(COUNTRY_INFO!B51=0,\" \",COUNTRY_INFO!B51)","v":"CUANZA NORTE"},{"$f":"IF(COUNTRY_INFO!C51=0,\" \",COUNTRY_INFO!C51)","v":"CAZENGO"},{"$f":"IF(AND(COUNTRY_INFO!$U$9:$U$1000=\"T3 (ALB/MBD)\",COUNTRY_INFO!$V$9:$V$1000=\"T3 (ALB/MBD)\"), \"T3 (ALB/MBD)\", \" \")","v":" "},null,null,null,null,null,0,null,null,null,0," "," "," "," "]
[{"$f":"IF(COUNTRY_INFO!A52=0,\" \",COUNTRY_INFO!A52)","v":"Angola"},{"$f":"IF(COUNTRY_INFO!B52=0,\" \",COUNTRY_INFO!B52)","v":"CUANZA NORTE"},{"$f":"IF(COUNTRY_INFO!C52=0,\" \",COUNTRY_INFO!C52)","v":"GOLUNGO ALTO"},{"$f":"IF(AND(COUNTRY_INFO!$U$9:$U$1000=\"T3 (ALB/MBD)\",COUNTRY_INFO!$V$9:$V$1000=\"T3 (ALB/MBD)\"), \"T3 (ALB/MBD)\", \" \")","v":" "},null,null,null,null,null,0,null,null,null,0," "," "," "," "]
[{"$f":"IF(COUNTRY_INFO!A53=0,\" \",COUNTRY_INFO!A53)","v":"Angola"},{"$f":"IF(COUNTRY_INFO!B53=0,\" \",COUNTRY_INFO!B53)","v":"CUANZA NORTE"},{"$f":"IF(COUNTRY_INFO!C53=0,\" \",COUNTRY_INFO!C53)","v":"GONGUEMBO"},{"$f":"IF(AND(COUNTRY_INFO!$U$9:$U$1000=\"T3 (ALB/MBD)\",COUNTRY_INFO!$V$9:$V$1000=\"T3 (ALB/MBD)\"), \"T3 (ALB/MBD)\", \" \")","v":" "},null,null,null,null,null,0,null,null,null,0," "," "," "," "]
[{"$f":"IF(COUNTRY_INFO!A54=0,\" \",COUNTRY_INFO!A54)","v":"Angola"},{"$f":"IF(COUNTRY_INFO!B54=0,\" \",COUNTRY_INFO!B54)","v":"CUANZA NORTE"},{"$f":"IF(COUNTRY_INFO!C54=0,\" \",COUNTRY_INFO!C54)","v":"LUCALA"},{"$f":"IF(AND(COUNTRY_INFO!$U$9:$U$1000=\"T3 (ALB/MBD)\",COUNTRY_INFO!$V$9:$V$1000=\"T3 (ALB/MBD)\"), \"T3 (ALB/MBD)\", \" \")","v":" "},null,null,null,null,null,0,null,null,null,0," "," "," "," "]
[{"$f":"IF(COUNTRY_INFO!A55=0,\" \",COUNTRY_INFO!A55)","v":"Angola"},{"$f":"IF(COUNTRY_INFO!B55=0,\" \",COUNTRY_INFO!B55)","v":"CUANZA NORTE"},{"$f":"IF(COUNTRY_INFO!C55=0,\" \",COUNTRY_INFO!C55)","v":"QUICULUNGO"},{"$f":"IF(AND(COUNTRY_INFO!$U$9:$U$1000=\"T3 (ALB/MBD)\",COUNTRY_INFO!$V$9:$V$1000=\"T3 (ALB/MBD)\"), \"T3 (ALB/MBD)\", \" \")","v":" "},null,null,null,null,null,0,null,null,null,0," "," "," "," "]
[{"$f":"IF(COUNTRY_INFO!A56=0,\" \",COUNTRY_INFO!A56)","v":"Angola"},{"$f":"IF(COUNTRY_INFO!B56=0,\" \",COUNTRY_INFO!B56)","v":"CUANZA NORTE"},{"$f":"IF(COUNTRY_INFO!C56=0,\" \",COUNTRY_INFO!C56)","v":"SAMBA CAJU"},{"$f":"IF(AND(COUNTRY_INFO!$U$9:$U$1000=\"T3 (ALB/MBD)\",COUNTRY_INFO!$V$9:$V$1000=\"T3 (ALB/MBD)\"), \"T3 (ALB/MBD)\", \" \")","v":" "},null,null,null,null,null,0,null,null,null,0," "," "," "," "]
[{"$f":"IF(COUNTRY_INFO!A57=0,\" \",COUNTRY_INFO!A57)","v":"Angola"},{"$f":"IF(COUNTRY_INFO!B57=0,\" \",COUNTRY_INFO!B57)","v":"CUANZA SUL"},{"$f":"IF(COUNTRY_INFO!C57=0,\" \",COUNTRY_INFO!C57)","v":"AMBOIM"},{"$f":"IF(AND(COUNTRY_INFO!$U$9:$U$1000=\"T3 (ALB/MBD)\",COUNTRY_INFO!$V$9:$V$1000=\"T3 (ALB/MBD)\"), \"T3 (ALB/MBD)\", \" \")","v":" "},null,null,null,null,null,0,null,null,null,0," "," "," "," "]
[{"$f":"IF(COUNTRY_INFO!A58=0,\" \",COUNTRY_INFO!A58)","v":"Angola"},{"$f":"IF(COUNTRY_INFO!B58=0,\" \",COUNTRY_INFO!B58)","v":"CUANZA SUL"},{"$f":"IF(COUNTRY_INFO!C58=0,\" \",COUNTRY_INFO!C58)","v":"CASSONGUE"},{"$f":"IF(AND(COUNTRY_INFO!$U$9:$U$1000=\"T3 (ALB/MBD)\",COUNTRY_INFO!$V$9:$V$1000=\"T3 (ALB/MBD)\"), \"T3 (ALB/MBD)\", \" \")","v":" "},null,null,null,null,null,0,null,null,null,0," "," "," "," "]
[{"$f":"IF(COUNTRY_INFO!A59=0,\" \",COUNTRY_INFO!A59)","v":"Angola"},{"$f":"IF(COUNTRY_INFO!B59=0,\" \",COUNTRY_INFO!B59)","v":"CUANZA SUL"},{"$f":"IF(COUNTRY_INFO!C59=0,\" \",COUNTRY_INFO!C59)","v":"CELA (Waku Kungo)"},{"$f":"IF(AND(COUNTRY_INFO!$U$9:$U$1000=\"T3 (ALB/MBD)\",COUNTRY_INFO!$V$9:$V$1000=\"T3 (ALB/MBD)\"), \"T3 (ALB/MBD)\", \" \")","v":" "},null,null,null,null,null,0,null,null,null,0," "," "," "," "]
[{"$f":"IF(COUNTRY_INFO!A60=0,\" \",COUNTRY_INFO!A60)","v":"Angola"},{"$f":"IF(COUNTRY_INFO!B60=0,\" \",COUNTRY_INFO!B60)","v":"CUANZA SUL"},{"$f":"IF(COUNTRY_INFO!C60=0,\" \",COUNTRY_INFO!C60)","v":"CONDA"},{"$f":"IF(AND(COUNTRY_INFO!$U$9:$U$1000=\"T3 (ALB/MBD)\",COUNTRY_INFO!$V$9:$V$1000=\"T3 (ALB/MBD)\"), \"T3 (ALB/MBD)\", \" \")","v":" "},null,null,null,null,null,0,null,null,null,0," "," "," "," "]
[{"$f":"IF(COUNTRY_INFO!A61=0,\" \",COUNTRY_INFO!A61)","v":"Angola"},{"$f":"IF(COUNTRY_INFO!B61=0,\" \",COUNTRY_INFO!B61)","v":"CUANZA SUL"},{"$f":"IF(COUNTRY_INFO!C61=0,\" \",COUNTRY_INFO!C61)","v":"EBO"},{"$f":"IF(AND(COUNTRY_INFO!$U$9:$U$1000=\"T3 (ALB/MBD)\",COUNTRY_INFO!$V$9:$V$1000=\"T3 (ALB/MBD)\"), \"T3 (ALB/MBD)\", \" \")","v":" "},null,null,null,null,null,0,null,null,null,0," "," "," "," "]
[{"$f":"IF(COUNTRY_INFO!A62=0,\" \",COUNTRY_INFO!A62)","v":"Angola"},{"$f":"IF(COUNTRY_INFO!B62=0,\" \",COUNTRY_INFO!B62)","v":"CUANZA SUL"},{"$f":"IF(COUNTRY_INFO!C62=0,\" \",COUNTRY_INFO!C62)","v":"LIBOLO"},{"$f":"IF(AND(COUNTRY_INFO!$U$9:$U$1000=\"T3 (ALB/MBD)\",COUNTRY_INFO!$V$9:$V$1000=\"T3 (ALB/MBD)\"), \"T3 (ALB/MBD)\", \" \")","v":" "},null,null,null,null,null,0,null,null,null,0," "," "," "," "]
[{"$f":"IF(COUNTRY_INFO!A63=0,\" \",COUNTRY_INFO!A63)","v":"Angola"},{"$f":"IF(COUNTRY_INFO!B63=0,\" \",COUNTRY_INFO!B63)","v":"CUANZA SUL"},{"$f":"IF(COUNTRY_INFO!C63=0,\" \",COUNTRY_INFO!C63)","v":"MUSSENDE"},{"$f":"IF(AND(COUNTRY_INFO!$U$9:$U$1000=\"T3 (ALB/MBD)\",COUNTRY_INFO!$V$9:$V$1000=\"T3 (ALB/MBD)\"), \"T3 (ALB/MBD)\", \" \")","v":" "},null,null,null,null,null,0,null,null,null,0," "," "," "," "]
[{"$f":"IF(COUNTRY_INFO!A64=0,\" \",COUNTRY_INFO!A64)","v":"Angola"},{"$f":"IF(COUNTRY_INFO!B64=0,\" \",COUNTRY_INFO!B64)","v":"CUANZA SUL"},{"$f":"IF(COUNTRY_INFO!C64=0,\" \",COUNTRY_INFO!C64)","v":"PORTO AMBOIM"},{"$f":"IF(AND(COUNTRY_INFO!$U$9:$U$1000=\"T3 (ALB/MBD)\",COUNTRY_INFO!$V$9:$V$1000=\"T3 (ALB/MBD)\"), \"T3 (ALB/MBD)\", \" \")","v":" "},null,null,null,null,null,0,null,null,null,0," "," "," "," "]
[{"$f":"IF(COUNTRY_INFO!A65=0,\" \",COUNTRY_INFO!A65)","v":"Angola"},{"$f":"IF(COUNTRY_INFO!B65=0,\" \",COUNTRY_INFO!B65)","v":"CUANZA SUL"},{"$f":"IF(COUNTRY_INFO!C65=0,\" \",COUNTRY_INFO!C65)","v":"QUIBALA"},{"$f":"IF(AND(COUNTRY_INFO!$U$9:$U$1000=\"T3 (ALB/MBD)\",COUNTRY_INFO!$V$9:$V$1000=\"T3 (ALB/MBD)\"), \"T3 (ALB/MBD)\", \" \")","v":" "},null,null,null,null,null,0,null,null,null,0," "," "," "," "]
[{"$f":"IF(COUNTRY_INFO!A66=0,\" \",COUNTRY_INFO!A66)","v":"Angola"},{"$f":"IF(COUNTRY_INFO!B66=0,\" \",COUNTRY_INFO!B66)","v":"CUANZA SUL"},{"$f":"IF(COUNTRY_INFO!C66=0,\" \",COUNTRY_INFO!C66)","v":"QUILENDA"},{"$f":"IF(AND(COUNTRY_INFO!$U$9:$U$1000=\"T3 (ALB/MBD)\",COUNTRY_INFO!$V$9:$V$1000=\"T3 (ALB/MBD)\"), \"T3 (ALB/MBD)\", \" \")","v":" "},null,null,null,null,null,0,null,null,null,0," "," "," "," "]
[{"$f":"IF(COUNTRY_INFO!A67=0,\" \",COUNTRY_INFO!A67)","v":"Angola"},{"$f":"IF(COUNTRY_INFO!B67=0,\" \",COUNTRY_INFO!B67)","v":"CUANZA SUL"},{"$f":"IF(COUNTRY_INFO!C67=0,\" \",COUNTRY_INFO!C67)","v":"SELES"},{"$f":"IF(AND(COUNTRY_INFO!$U$9:$U$1000=\"T3 (ALB/MBD)\",COUNTRY_INFO!$V$9:$V$1000=\"T3 (ALB/MBD)\"), \"T3 (ALB/MBD)\", \" \")","v":" "},null,null,null,null,null,0,null,null,null,0," "," "," "," "]
[{"$f":"IF(COUNTRY_INFO!A68=0,\" \",COUNTRY_INFO!A68)","v":"Angola"},{"$f":"IF(COUNTRY_INFO!B68=0,\" \",COUNTRY_INFO!B68)","v":"CUANZA SUL"},{"$f":"IF(COUNTRY_INFO!C68=0,\" \",COUNTRY_INFO!C68)","v":"SUMBE"},{"$f":"IF(AND(COUNTRY_INFO!$U$9:$U$1000=\"T3 (ALB/MBD)\",COUNTRY_INFO!$V$9:$V$1000=\"T3 (ALB/MBD)\"), \"T3 (ALB/MBD)\", \" \")","v":" "},null,null,null,null,null,0,null,null,null,0," "," "," "," "]
[{"$f":"IF(COUNTRY_INFO!A69=0,\" \",COUNTRY_INFO!A69)","v":"Angola"},{"$f":"IF(COUNTRY_INFO!B69=0,\" \",COUNTRY_INFO!B69)","v":"CUNENE"},{"$f":"IF(COUNTRY_INFO!C69=0,\" \",COUNTRY_INFO!C69)","v":"CAHAMA"},{"$f":"IF(AND(COUNTRY_INFO!$U$9:$U$1000=\"T3 (ALB/MBD)\",COUNTRY_INFO!$V$9:$V$1000=\"T3 (ALB/MBD)\"), \"T3 (ALB/MBD)\", \" \")","v":" "},null,null,null,null,null,0,null,null,null,0," "," "," "," "]
[{"$f":"IF(COUNTRY_INFO!A70=0,\" \",COUNTRY_INFO!A70)","v":"Angola"},{"$f":"IF(COUNTRY_INFO!B70=0,\" \",COUNTRY_INFO!B70)","v":"CUNENE"},{"$f":"IF(COUNTRY_INFO!C70=0,\" \",COUNTRY_INFO!C70)","v":"CUANHAMA"},{"$f":"IF(AND(COUNTRY_INFO!$U$9:$U$1000=\"T3 (ALB/MBD)\",COUNTRY_INFO!$V$9:$V$1000=\"T3 (ALB/MBD)\"), \"T3 (ALB/MBD)\", \" \")","v":" "},null,null,null,null,null,0,null,null,null,0," "," "," "," "]
[{"$f":"IF(COUNTRY_INFO!A71=0,\" \",COUNTRY_INFO!A71)","v":"Angola"},{"$f":"IF(COUNTRY_INFO!B71=0,\" \",COUNTRY_INFO!B71)","v":"CUNENE"},{"$f":"IF(COUNTRY_INFO!C71=0,\" \",COUNTRY_INFO!C71)","v":"CUROCA"},{"$f":"IF(AND(COUNTRY_INFO!$U$9:$U$1000=\"T3 (ALB/MBD)\",COUNTRY_INFO!$V$9:$V$1000=\"T3 (ALB/MBD)\"), \"T3 (ALB/MBD)\", \" \")","v":" "},null,null,null,null,null,0,null,null,null,0," "," "," "," "]
[{"$f":"IF(COUNTRY_INFO!A72=0,\" \",COUNTRY_INFO!A72)","v":"Angola"},{"$f":"IF(COUNTRY_INFO!B72=0,\" \",COUNTRY_INFO!B72)","v":"CUNENE"},{"$f":"IF(COUNTRY_INFO!C72=0,\" \",COUNTRY_INFO!C72)","v":"CUVELAI"},{"$f":"IF(AND(COUNTRY_INFO!$U$9:$U$1000=\"T3 (ALB/MBD)\",COUNTRY_INFO!$V$9:$V$1000=\"T3 (ALB/MBD)\"), \"T3 (ALB/MBD)\", \" \")","v":" "},null,null,null,null,null,0,null,null,null,0," "," "," "," "]
[{"$f":"IF(COUNTRY_INFO!A73=0,\" \",COUNTRY_INFO!A73)","v":"Angola"},{"$f":"IF(COUNTRY_INFO!B73=0,\" \",COUNTRY_INFO!B73)","v":"CUNENE"},{"$f":"IF(COUNTRY_INFO!C73=0,\" \",COUNTRY_INFO!C73)","v":"NAMACUNDE"},{"$f":"IF(AND(COUNTRY_INFO!$U$9:$U$1000=\"T3 (ALB/MBD)\",COUNTRY_INFO!$V$9:$V$1000=\"T3 (ALB/MBD)\"), \"T3 (ALB/MBD)\", \" \")","v":" "},null,null,null,null,null,0,null,null,null,0," "," "," "," "]
[{"$f":"IF(COUNTRY_INFO!A74=0,\" \",COUNTRY_INFO!A74)","v":"Angola"},{"$f":"IF(COUNTRY_INFO!B74=0,\" \",COUNTRY_INFO!B74)","v":"CUNENE"},{"$f":"IF(COUNTRY_INFO!C74=0,\" \",COUNTRY_INFO!C74)","v":"OMBADJA"},{"$f":"IF(AND(COUNTRY_INFO!$U$9:$U$1000=\"T3 (ALB/MBD)\",COUNTRY_INFO!$V$9:$V$1000=\"T3 (ALB/MBD)\"), \"T3 (ALB/MBD)\", \" \")","v":" "},null,null,null,null,null,{"$f":"SUM(G74:I74)","v":0},null,null,null,{"$f":"SUM(K74:M74)","v":0},{"$f":"IF(G74<>0, IF(K74/G74*100=0, \"-\", K74/G74*100), \" \")","v":" "},{"$f":"IF(H74<>0, IF(L74/H74*100=0, \"-\", L74/H74*100), \" \")","v":" "},{"$f":"IF(I74<>0, IF(M74/I74*100=0, \"-\", M74/I74*100), \" \")","v":" "},{"$f":"IF(J74<>0, IF(N74/J74*100=0, \"-\", N74/J74*100), \" \")","v":" "}]
[{"$f":"IF(COUNTRY_INFO!A75=0,\" \",COUNTRY_INFO!A75)","v":"Angola"},{"$f":"IF(COUNTRY_INFO!B75=0,\" \",COUNTRY_INFO!B75)","v":"HUAMBO"},{"$f":"IF(COUNTRY_INFO!C75=0,\" \",COUNTRY_INFO!C75)","v":"BAILUNDO"},{"$f":"IF(AND(COUNTRY_INFO!$U$9:$U$1000=\"T3 (ALB/MBD)\",COUNTRY_INFO!$V$9:$V$1000=\"T3 (ALB/MBD)\"), \"T3 (ALB/MBD)\", \" \")","v":" "},null,null,null,null,null,0,null,null,null,0," "," "," "," "]
[{"$f":"IF(COUNTRY_INFO!A76=0,\" \",COUNTRY_INFO!A76)","v":"Angola"},{"$f":"IF(COUNTRY_INFO!B76=0,\" \",COUNTRY_INFO!B76)","v":"HUAMBO"},{"$f":"IF(COUNTRY_INFO!C76=0,\" \",COUNTRY_INFO!C76)","v":"CAALA"},{"$f":"IF(AND(COUNTRY_INFO!$U$9:$U$1000=\"T3 (ALB/MBD)\",COUNTRY_INFO!$V$9:$V$1000=\"T3 (ALB/MBD)\"), \"T3 (ALB/MBD)\", \" \")","v":" "},null,null,null,null,null,0,null,null,null,0," "," "," "," "]
[{"$f":"IF(COUNTRY_INFO!A77=0,\" \",COUNTRY_INFO!A77)","v":"Angola"},{"$f":"IF(COUNTRY_INFO!B77=0,\" \",COUNTRY_INFO!B77)","v":"HUAMBO"},{"$f":"IF(COUNTRY_INFO!C77=0,\" \",COUNTRY_INFO!C77)","v":"CACHIUNGO"},{"$f":"IF(AND(COUNTRY_INFO!$U$9:$U$1000=\"T3 (ALB/MBD)\",COUNTRY_INFO!$V$9:$V$1000=\"T3 (ALB/MBD)\"), \"T3 (ALB/MBD)\", \" \")","v":" "},null,null,null,null,null,0,null,null,null,0," "," "," "," "]
[{"$f":"IF(COUNTRY_INFO!A78=0,\" \",COUNTRY_INFO!A78)","v":"Angola"},{"$f":"IF(COUNTRY_INFO!B78=0,\" \",COUNTRY_INFO!B78)","v":"HUAMBO"},{"$f":"IF(COUNTRY_INFO!C78=0,\" \",COUNTRY_INFO!C78)","v":"CHICALA CHOLOHANGA"},{"$f":"IF(AND(COUNTRY_INFO!$U$9:$U$1000=\"T3 (ALB/MBD)\",COUNTRY_INFO!$V$9:$V$1000=\"T3 (ALB/MBD)\"), \"T3 (ALB/MBD)\", \" \")","v":" "},null,null,null,null,null,0,null,null,null,0," "," "," "," "]
[{"$f":"IF(COUNTRY_INFO!A79=0,\" \",COUNTRY_INFO!A79)","v":"Angola"},{"$f":"IF(COUNTRY_INFO!B79=0,\" \",COUNTRY_INFO!B79)","v":"HUAMBO"},{"$f":"IF(COUNTRY_INFO!C79=0,\" \",COUNTRY_INFO!C79)","v":"CHINDJENJE"},{"$f":"IF(AND(COUNTRY_INFO!$U$9:$U$1000=\"T3 (ALB/MBD)\",COUNTRY_INFO!$V$9:$V$1000=\"T3 (ALB/MBD)\"), \"T3 (ALB/MBD)\", \" \")","v":" "},null,null,null,null,null,0,null,null,null,0," "," "," "," "]
[{"$f":"IF(COUNTRY_INFO!A80=0,\" \",COUNTRY_INFO!A80)","v":"Angola"},{"$f":"IF(COUNTRY_INFO!B80=0,\" \",COUNTRY_INFO!B80)","v":"HUAMBO"},{"$f":"IF(COUNTRY_INFO!C80=0,\" \",COUNTRY_INFO!C80)","v":"ECUNHA"},{"$f":"IF(AND(COUNTRY_INFO!$U$9:$U$1000=\"T3 (ALB/MBD)\",COUNTRY_INFO!$V$9:$V$1000=\"T3 (ALB/MBD)\"), \"T3 (ALB/MBD)\", \" \")","v":" "},null,null,null,null,null,0,null,null,null,0," "," "," "," "]
[{"$f":"IF(COUNTRY_INFO!A81=0,\" \",COUNTRY_INFO!A81)","v":"Angola"},{"$f":"IF(COUNTRY_INFO!B81=0,\" \",COUNTRY_INFO!B81)","v":"HUAMBO"},{"$f":"IF(COUNTRY_INFO!C81=0,\" \",COUNTRY_INFO!C81)","v":"HUAMBO"},{"$f":"IF(AND(COUNTRY_INFO!$U$9:$U$1000=\"T3 (ALB/MBD)\",COUNTRY_INFO!$V$9:$V$1000=\"T3 (ALB/MBD)\"), \"T3 (ALB/MBD)\", \" \")","v":" "},null,null,null,null,null,0,null,null,null,0," "," "," "," "]
[{"$f":"IF(COUNTRY_INFO!A82=0,\" \",COUNTRY_INFO!A82)","v":"Angola"},{"$f":"IF(COUNTRY_INFO!B82=0,\" \",COUNTRY_INFO!B82)","v":"HUAMBO"},{"$f":"IF(COUNTRY_INFO!C82=0,\" \",COUNTRY_INFO!C82)","v":"LONDUIMBALI"},{"$f":"IF(AND(COUNTRY_INFO!$U$9:$U$1000=\"T3 (ALB/MBD)\",COUNTRY_INFO!$V$9:$V$1000=\"T3 (ALB/MBD)\"), \"T3 (ALB/MBD)\", \" \")","v":" "},null,null,null,null,null,0,null,null,null,0," "," "," "," "]
[{"$f":"IF(COUNTRY_INFO!A83=0,\" \",COUNTRY_INFO!A83)","v":"Angola"},{"$f":"IF(COUNTRY_INFO!B83=0,\" \",COUNTRY_INFO!B83)","v":"HUAMBO"},{"$f":"IF(COUNTRY_INFO!C83=0,\" \",COUNTRY_INFO!C83)","v":"LONGONJO"},{"$f":"IF(AND(COUNTRY_INFO!$U$9:$U$1000=\"T3 (ALB/MBD)\",COUNTRY_INFO!$V$9:$V$1000=\"T3 (ALB/MBD)\"), \"T3 (ALB/MBD)\", \" \")","v":" "},null,null,null,null,null,0,null,null,null,0," "," "," "," "]
[{"$f":"IF(COUNTRY_INFO!A84=0,\" \",COUNTRY_INFO!A84)","v":"Angola"},{"$f":"IF(COUNTRY_INFO!B84=0,\" \",COUNTRY_INFO!B84)","v":"HUAMBO"},{"$f":"IF(COUNTRY_INFO!C84=0,\" \",COUNTRY_INFO!C84)","v":"MUNGO"},{"$f":"IF(AND(COUNTRY_INFO!$U$9:$U$1000=\"T3 (ALB/MBD)\",COUNTRY_INFO!$V$9:$V$1000=\"T3 (ALB/MBD)\"), \"T3 (ALB/MBD)\", \" \")","v":" "},null,null,null,null,null,0,null,null,null,0," "," "," "," "]
[{"$f":"IF(COUNTRY_INFO!A85=0,\" \",COUNTRY_INFO!A85)","v":"Angola"},{"$f":"IF(COUNTRY_INFO!B85=0,\" \",COUNTRY_INFO!B85)","v":"HUAMBO"},{"$f":"IF(COUNTRY_INFO!C85=0,\" \",COUNTRY_INFO!C85)","v":"UCUMA"},{"$f":"IF(AND(COUNTRY_INFO!$U$9:$U$1000=\"T3 (ALB/MBD)\",COUNTRY_INFO!$V$9:$V$1000=\"T3 (ALB/MBD)\"), \"T3 (ALB/MBD)\", \" \")","v":" "},null,null,null,null,null,0,null,null,null,0," "," "," "," "]
[{"$f":"IF(COUNTRY_INFO!A86=0,\" \",COUNTRY_INFO!A86)","v":"Angola"},{"$f":"IF(COUNTRY_INFO!B86=0,\" \",COUNTRY_INFO!B86)","v":"HUILA"},{"$f":"IF(COUNTRY_INFO!C86=0,\" \",COUNTRY_INFO!C86)","v":"CACONDA"},{"$f":"IF(AND(COUNTRY_INFO!$U$9:$U$1000=\"T3 (ALB/MBD)\",COUNTRY_INFO!$V$9:$V$1000=\"T3 (ALB/MBD)\"), \"T3 (ALB/MBD)\", \" \")","v":" "},null,null,null,null,null,0,null,null,null,0," "," "," "," "]
[{"$f":"IF(COUNTRY_INFO!A87=0,\" \",COUNTRY_INFO!A87)","v":"Angola"},{"$f":"IF(COUNTRY_INFO!B87=0,\" \",COUNTRY_INFO!B87)","v":"HUILA"},{"$f":"IF(COUNTRY_INFO!C87=0,\" \",COUNTRY_INFO!C87)","v":"CACULA"},{"$f":"IF(AND(COUNTRY_INFO!$U$9:$U$1000=\"T3 (ALB/MBD)\",COUNTRY_INFO!$V$9:$V$1000=\"T3 (ALB/MBD)\"), \"T3 (ALB/MBD)\", \" \")","v":" "},null,null,null,null,null,0,null,null,null,0," "," "," "," "]
[{"$f":"IF(COUNTRY_INFO!A88=0,\" \",COUNTRY_INFO!A88)","v":"Angola"},{"$f":"IF(COUNTRY_INFO!B88=0,\" \",COUNTRY_INFO!B88)","v":"HUILA"},{"$f":"IF(COUNTRY_INFO!C88=0,\" \",COUNTRY_INFO!C88)","v":"CALUQUEMBE"},{"$f":"IF(AND(COUNTRY_INFO!$U$9:$U$1000=\"T3 (ALB/MBD)\",COUNTRY_INFO!$V$9:$V$1000=\"T3 (ALB/MBD)\"), \"T3 (ALB/MBD)\", \" \")","v":" "},null,null,null,null,null,0,null,null,null,0," "," "," "," "]
[{"$f":"IF(COUNTRY_INFO!A89=0,\" \",COUNTRY_INFO!A89)","v":"Angola"},{"$f":"IF(COUNTRY_INFO!B89=0,\" \",COUNTRY_INFO!B89)","v":"HUILA"},{"$f":"IF(COUNTRY_INFO!C89=0,\" \",COUNTRY_INFO!C89)","v":"CHIBIA"},{"$f":"IF(AND(COUNTRY_INFO!$U$9:$U$1000=\"T3 (ALB/MBD)\",COUNTRY_INFO!$V$9:$V$1000=\"T3 (ALB/MBD)\"), \"T3 (ALB/MBD)\", \" \")","v":" "},null,null,null,null,null,0,null,null,null,0," "," "," "," "]
[{"$f":"IF(COUNTRY_INFO!A90=0,\" \",COUNTRY_INFO!A90)","v":"Angola"},{"$f":"IF(COUNTRY_INFO!B90=0,\" \",COUNTRY_INFO!B90)","v":"HUILA"},{"$f":"IF(COUNTRY_INFO!C90=0,\" \",COUNTRY_INFO!C90)","v":"CHICOMBA"},{"$f":"IF(AND(COUNTRY_INFO!$U$9:$U$1000=\"T3 (ALB/MBD)\",COUNTRY_INFO!$V$9:$V$1000=\"T3 (ALB/MBD)\"), \"T3 (ALB/MBD)\", \" \")","v":" "},null,null,null,null,null,0,null,null,null,0," "," "," "," "]
[{"$f":"IF(COUNTRY_INFO!A91=0,\" \",COUNTRY_INFO!A91)","v":"Angola"},{"$f":"IF(COUNTRY_INFO!B91=0,\" \",COUNTRY_INFO!B91)","v":"HUILA"},{"$f":"IF(COUNTRY_INFO!C91=0,\" \",COUNTRY_INFO!C91)","v":"CHIPINDO"},{"$f":"IF(AND(COUNTRY_INFO!$U$9:$U$1000=\"T3 (ALB/MBD)\",COUNTRY_INFO!$V$9:$V$1000=\"T3 (ALB/MBD)\"), \"T3 (ALB/MBD)\", \" \")","v":" "},null,null,null,null,null,0,null,null,null,0," "," "," "," "]
[{"$f":"IF(COUNTRY_INFO!A92=0,\" \",COUNTRY_INFO!A92)","v":"Angola"},{"$f":"IF(COUNTRY_INFO!B92=0,\" \",COUNTRY_INFO!B92)","v":"HUILA"},{"$f":"IF(COUNTRY_INFO!C92=0,\" \",COUNTRY_INFO!C92)","v":"CUVANGO"},{"$f":"IF(AND(COUNTRY_INFO!$U$9:$U$1000=\"T3 (ALB/MBD)\",COUNTRY_INFO!$V$9:$V$1000=\"T3 (ALB/MBD)\"), \"T3 (ALB/MBD)\", \" \")","v":" "},null,null,null,null,null,0,null,null,null,0," "," "," "," "]
[{"$f":"IF(COUNTRY_INFO!A93=0,\" \",COUNTRY_INFO!A93)","v":"Angola"},{"$f":"IF(COUNTRY_INFO!B93=0,\" \",COUNTRY_INFO!B93)","v":"HUILA"},{"$f":"IF(COUNTRY_INFO!C93=0,\" \",COUNTRY_INFO!C93)","v":"GAMBOS"},{"$f":"IF(AND(COUNTRY_INFO!$U$9:$U$1000=\"T3 (ALB/MBD)\",COUNTRY_INFO!$V$9:$V$1000=\"T3 (ALB/MBD)\"), \"T3 (ALB/MBD)\", \" \")","v":" "},null,null,null,null,null,0,null,null,null,0," "," "," "," "]
[{"$f":"IF(COUNTRY_INFO!A94=0,\" \",COUNTRY_INFO!A94)","v":"Angola"},{"$f":"IF(COUNTRY_INFO!B94=0,\" \",COUNTRY_INFO!B94)","v":"HUILA"},{"$f":"IF(COUNTRY_INFO!C94=0,\" \",COUNTRY_INFO!C94)","v":"HUMPATA"},{"$f":"IF(AND(COUNTRY_INFO!$U$9:$U$1000=\"T3 (ALB/MBD)\",COUNTRY_INFO!$V$9:$V$1000=\"T3 (ALB/MBD)\"), \"T3 (ALB/MBD)\", \" \")","v":" "},null,null,null,null,null,0,null,null,null,0," "," "," "," "]
[{"$f":"IF(COUNTRY_INFO!A95=0,\" \",COUNTRY_INFO!A95)","v":"Angola"},{"$f":"IF(COUNTRY_INFO!B95=0,\" \",COUNTRY_INFO!B95)","v":"HUILA"},{"$f":"IF(COUNTRY_INFO!C95=0,\" \",COUNTRY_INFO!C95)","v":"JAMBA"},{"$f":"IF(AND(COUNTRY_INFO!$U$9:$U$1000=\"T3 (ALB/MBD)\",COUNTRY_INFO!$V$9:$V$1000=\"T3 (ALB/MBD)\"), \"T3 (ALB/MBD)\", \" \")","v":" "},null,null,null,null,null,0,null,null,null,0," "," "," "," "]
[{"$f":"IF(COUNTRY_INFO!A96=0,\" \",COUNTRY_INFO!A96)","v":"Angola"},{"$f":"IF(COUNTRY_INFO!B96=0,\" \",COUNTRY_INFO!B96)","v":"HUILA"},{"$f":"IF(COUNTRY_INFO!C96=0,\" \",COUNTRY_INFO!C96)","v":"LUBANGO"},{"$f":"IF(AND(COUNTRY_INFO!$U$9:$U$1000=\"T3 (ALB/MBD)\",COUNTRY_INFO!$V$9:$V$1000=\"T3 (ALB/MBD)\"), \"T3 (ALB/MBD)\", \" \")","v":" "},null,null,null,null,null,0,null,null,null,0," "," "," "," "]
[{"$f":"IF(COUNTRY_INFO!A97=0,\" \",COUNTRY_INFO!A97)","v":"Angola"},{"$f":"IF(COUNTRY_INFO!B97=0,\" \",COUNTRY_INFO!B97)","v":"HUILA"},{"$f":"IF(COUNTRY_INFO!C97=0,\" \",COUNTRY_INFO!C97)","v":"MATALA"},{"$f":"IF(AND(COUNTRY_INFO!$U$9:$U$1000=\"T3 (ALB/MBD)\",COUNTRY_INFO!$V$9:$V$1000=\"T3 (ALB/MBD)\"), \"T3 (ALB/MBD)\", \" \")","v":" "},null,null,null,null,null,0,null,null,null,0," "," "," "," "]
[{"$f":"IF(COUNTRY_INFO!A98=0,\" \",COUNTRY_INFO!A98)","v":"Angola"},{"$f":"IF(COUNTRY_INFO!B98=0,\" \",COUNTRY_INFO!B98)","v":"HUILA"},{"$f":"IF(COUNTRY_INFO!C98=0,\" \",COUNTRY_INFO!C98)","v":"QUILENGUES"},{"$f":"IF(AND(COUNTRY_INFO!$U$9:$U$1000=\"T3 (ALB/MBD)\",COUNTRY_INFO!$V$9:$V$1000=\"T3 (ALB/MBD)\"), \"T3 (ALB/MBD)\", \" \")","v":" "},null,null,null,null,null,0,null,null,null,0," "," "," "," "]
[{"$f":"IF(COUNTRY_INFO!A99=0,\" \",COUNTRY_INFO!A99)","v":"Angola"},{"$f":"IF(COUNTRY_INFO!B99=0,\" \",COUNTRY_INFO!B99)","v":"HUILA"},{"$f":"IF(COUNTRY_INFO!C99=0,\" \",COUNTRY_INFO!C99)","v":"QUIPUNGO"},{"$f":"IF(AND(COUNTRY_INFO!$U$9:$U$1000=\"T3 (ALB/MBD)\",COUNTRY_INFO!$V$9:$V$1000=\"T3 (ALB/MBD)\"), \"T3 (ALB/MBD)\", \" \")","v":" "},null,null,null,null,null,0,null,null,null,0," "," "," "," "]
[{"$f":"IF(COUNTRY_INFO!A100=0,\" \",COUNTRY_INFO!A100)","v":"Angola"},{"$f":"IF(COUNTRY_INFO!B100=0,\" \",COUNTRY_INFO!B100)","v":"LUANDA"},{"$f":"IF(COUNTRY_INFO!C100=0,\" \",COUNTRY_INFO!C100)","v":"BELAS"},{"$f":"IF(AND(COUNTRY_INFO!$U$9:$U$1000=\"T3 (ALB/MBD)\",COUNTRY_INFO!$V$9:$V$1000=\"T3 (ALB/MBD)\"), \"T3 (ALB/MBD)\", \" \")","v":" "},null,null,null,null,null,0,null,null,null,0," "," "," "," "]
[{"$f":"IF(COUNTRY_INFO!A101=0,\" \",COUNTRY_INFO!A101)","v":"Angola"},{"$f":"IF(COUNTRY_INFO!B101=0,\" \",COUNTRY_INFO!B101)","v":"LUANDA"},{"$f":"IF(COUNTRY_INFO!C101=0,\" \",COUNTRY_INFO!C101)","v":"CACUACO"},{"$f":"IF(AND(COUNTRY_INFO!$U$9:$U$1000=\"T3 (ALB/MBD)\",COUNTRY_INFO!$V$9:$V$1000=\"T3 (ALB/MBD)\"), \"T3 (ALB/MBD)\", \" \")","v":" "},null,null,null,null,null,0,null,null,null,0," "," "," "," "]
[{"$f":"IF(COUNTRY_INFO!A102=0,\" \",COUNTRY_INFO!A102)","v":"Angola"},{"$f":"IF(COUNTRY_INFO!B102=0,\" \",COUNTRY_INFO!B102)","v":"LUANDA"},{"$f":"IF(COUNTRY_INFO!C102=0,\" \",COUNTRY_INFO!C102)","v":"CAZENGA"},{"$f":"IF(AND(COUNTRY_INFO!$U$9:$U$1000=\"T3 (ALB/MBD)\",COUNTRY_INFO!$V$9:$V$1000=\"T3 (ALB/MBD)\"), \"T3 (ALB/MBD)\", \" \")","v":" "},null,null,null,null,null,0,null,null,null,0," "," "," "," "]
[{"$f":"IF(COUNTRY_INFO!A103=0,\" \",COUNTRY_INFO!A103)","v":"Angola"},{"$f":"IF(COUNTRY_INFO!B103=0,\" \",COUNTRY_INFO!B103)","v":"LUANDA"},{"$f":"IF(COUNTRY_INFO!C103=0,\" \",COUNTRY_INFO!C103)","v":"ICOLO E BENGO"},{"$f":"IF(AND(COUNTRY_INFO!$U$9:$U$1000=\"T3 (ALB/MBD)\",COUNTRY_INFO!$V$9:$V$1000=\"T3 (ALB/MBD)\"), \"T3 (ALB/MBD)\", \" \")","v":" "},null,null,null,null,null,0,null,null,null,0," "," "," "," "]
[{"$f":"IF(COUNTRY_INFO!A104=0,\" \",COUNTRY_INFO!A104)","v":"Angola"},{"$f":"IF(COUNTRY_INFO!B104=0,\" \",COUNTRY_INFO!B104)","v":"LUANDA"},{"$f":"IF(COUNTRY_INFO!C104=0,\" \",COUNTRY_INFO!C104)","v":"KILAMBA KIAXI"},{"$f":"IF(AND(COUNTRY_INFO!$U$9:$U$1000=\"T3 (ALB/MBD)\",COUNTRY_INFO!$V$9:$V$1000=\"T3 (ALB/MBD)\"), \"T3 (ALB/MBD)\", \" \")","v":" "},null,null,null,null,null,0,null,null,null,0," "," "," "," "]
[{"$f":"IF(COUNTRY_INFO!A105=0,\" \",COUNTRY_INFO!A105)","v":"Angola"},{"$f":"IF(COUNTRY_INFO!B105=0,\" \",COUNTRY_INFO!B105)","v":"LUANDA"},{"$f":"IF(COUNTRY_INFO!C105=0,\" \",COUNTRY_INFO!C105)","v":"LUANDA"},{"$f":"IF(AND(COUNTRY_INFO!$U$9:$U$1000=\"T3 (ALB/MBD)\",COUNTRY_INFO!$V$9:$V$1000=\"T3 (ALB/MBD)\"), \"T3 (ALB/MBD)\", \" \")","v":" "},null,null,null,null,null,0,null,null,null,0," "," "," "," "]
[{"$f":"IF(COUNTRY_INFO!A106=0,\" \",COUNTRY_INFO!A106)","v":"Angola"},{"$f":"IF(COUNTRY_INFO!B106=0,\" \",COUNTRY_INFO!B106)","v":"LUANDA"},{"$f":"IF(COUNTRY_INFO!C106=0,\" \",COUNTRY_INFO!C106)","v":"QUISSAMA"},{"$f":"IF(AND(COUNTRY_INFO!$U$9:$U$1000=\"T3 (ALB/MBD)\",COUNTRY_INFO!$V$9:$V$1000=\"T3 (ALB/MBD)\"), \"T3 (ALB/MBD)\", \" \")","v":" "},null,null,null,null,null,0,null,null,null,0," "," "," "," "]
[{"$f":"IF(COUNTRY_INFO!A107=0,\" \",COUNTRY_INFO!A107)","v":"Angola"},{"$f":"IF(COUNTRY_INFO!B107=0,\" \",COUNTRY_INFO!B107)","v":"LUANDA"},{"$f":"IF(COUNTRY_INFO!C107=0,\" \",COUNTRY_INFO!C107)","v":"TALATONA"},{"$f":"IF(AND(COUNTRY_INFO!$U$9:$U$1000=\"T3 (ALB/MBD)\",COUNTRY_INFO!$V$9:$V$1000=\"T3 (ALB/MBD)\"), \"T3 (ALB/MBD)\", \" \")","v":" "},null,null,null,null,null,0,null,null,null,0," "," "," "," "]
[{"$f":"IF(COUNTRY_INFO!A108=0,\" \",COUNTRY_INFO!A108)","v":"Angola"},{"$f":"IF(COUNTRY_INFO!B108=0,\" \",COUNTRY_INFO!B108)","v":"LUANDA"},{"$f":"IF(COUNTRY_INFO!C108=0,\" \",COUNTRY_INFO!C108)","v":"VIANA"},{"$f":"IF(AND(COUNTRY_INFO!$U$9:$U$1000=\"T3 (ALB/MBD)\",COUNTRY_INFO!$V$9:$V$1000=\"T3 (ALB/MBD)\"), \"T3 (ALB/MBD)\", \" \")","v":" "},null,null,null,null,null,0,null,null,null,0," "," "," "," "]
[{"$f":"IF(COUNTRY_INFO!A109=0,\" \",COUNTRY_INFO!A109)","v":"Angola"},{"$f":"IF(COUNTRY_INFO!B109=0,\" \",COUNTRY_INFO!B109)","v":"LUNDA NORTE"},{"$f":"IF(COUNTRY_INFO!C109=0,\" \",COUNTRY_INFO!C109)","v":"CAMBULO"},{"$f":"IF(AND(COUNTRY_INFO!$U$9:$U$1000=\"T3 (ALB/MBD)\",COUNTRY_INFO!$V$9:$V$1000=\"T3 (ALB/MBD)\"), \"T3 (ALB/MBD)\", \" \")","v":" "},null,null,null,null,null,0,null,null,null,0," "," "," "," "]
[{"$f":"IF(COUNTRY_INFO!A110=0,\" \",COUNTRY_INFO!A110)","v":"Angola"},{"$f":"IF(COUNTRY_INFO!B110=0,\" \",COUNTRY_INFO!B110)","v":"LUNDA NORTE"},{"$f":"IF(COUNTRY_INFO!C110=0,\" \",COUNTRY_INFO!C110)","v":"CAPENDA CAMULEMBA"},{"$f":"IF(AND(COUNTRY_INFO!$U$9:$U$1000=\"T3 (ALB/MBD)\",COUNTRY_INFO!$V$9:$V$1000=\"T3 (ALB/MBD)\"), \"T3 (ALB/MBD)\", \" \")","v":" "},null,null,null,null,null,0,null,null,null,0," "," "," "," "]
[{"$f":"IF(COUNTRY_INFO!A111=0,\" \",COUNTRY_INFO!A111)","v":"Angola"},{"$f":"IF(COUNTRY_INFO!B111=0,\" \",COUNTRY_INFO!B111)","v":"LUNDA NORTE"},{"$f":"IF(COUNTRY_INFO!C111=0,\" \",COUNTRY_INFO!C111)","v":"CAUNGULA"},{"$f":"IF(AND(COUNTRY_INFO!$U$9:$U$1000=\"T3 (ALB/MBD)\",COUNTRY_INFO!$V$9:$V$1000=\"T3 (ALB/MBD)\"), \"T3 (ALB/MBD)\", \" \")","v":" "},null,null,null,null,null,0,null,null,null,0," "," "," "," "]
[{"$f":"IF(COUNTRY_INFO!A112=0,\" \",COUNTRY_INFO!A112)","v":"Angola"},{"$f":"IF(COUNTRY_INFO!B112=0,\" \",COUNTRY_INFO!B112)","v":"LUNDA NORTE"},{"$f":"IF(COUNTRY_INFO!C112=0,\" \",COUNTRY_INFO!C112)","v":"CHITATO"},{"$f":"IF(AND(COUNTRY_INFO!$U$9:$U$1000=\"T3 (ALB/MBD)\",COUNTRY_INFO!$V$9:$V$1000=\"T3 (ALB/MBD)\"), \"T3 (ALB/MBD)\", \" \")","v":" "},null,null,null,null,null,0,null,null,null,0," "," "," "," "]
[{"$f":"IF(COUNTRY_INFO!A113=0,\" \",COUNTRY_INFO!A113)","v":"Angola"},{"$f":"IF(COUNTRY_INFO!B113=0,\" \",COUNTRY_INFO!B113)","v":"LUNDA NORTE"},{"$f":"IF(COUNTRY_INFO!C113=0,\" \",COUNTRY_INFO!C113)","v":"CUANGO"},{"$f":"IF(AND(COUNTRY_INFO!$U$9:$U$1000=\"T3 (ALB/MBD)\",COUNTRY_INFO!$V$9:$V$1000=\"T3 (ALB/MBD)\"), \"T3 (ALB/MBD)\", \" \")","v":" "},null,null,null,null,null,0,null,null,null,0," "," "," "," "]
[{"$f":"IF(COUNTRY_INFO!A114=0,\" \",COUNTRY_INFO!A114)","v":"Angola"},{"$f":"IF(COUNTRY_INFO!B114=0,\" \",COUNTRY_INFO!B114)","v":"LUNDA NORTE"},{"$f":"IF(COUNTRY_INFO!C114=0,\" \",COUNTRY_INFO!C114)","v":"CUILO"},{"$f":"IF(AND(COUNTRY_INFO!$U$9:$U$1000=\"T3 (ALB/MBD)\",COUNTRY_INFO!$V$9:$V$1000=\"T3 (ALB/MBD)\"), \"T3 (ALB/MBD)\", \" \")","v":" "},null,null,null,null,null,0,null,null,null,0," "," "," "," "]
[{"$f":"IF(COUNTRY_INFO!A115=0,\" \",COUNTRY_INFO!A115)","v":"Angola"},{"$f":"IF(COUNTRY_INFO!B115=0,\" \",COUNTRY_INFO!B115)","v":"LUNDA NORTE"},{"$f":"IF(COUNTRY_INFO!C115=0,\" \",COUNTRY_INFO!C115)","v":"LOVUA"},{"$f":"IF(AND(COUNTRY_INFO!$U$9:$U$1000=\"T3 (ALB/MBD)\",COUNTRY_INFO!$V$9:$V$1000=\"T3 (ALB/MBD)\"), \"T3 (ALB/MBD)\", \" \")","v":" "},null,null,null,null,null,0,null,null,null,0," "," "," "," "]
[{"$f":"IF(COUNTRY_INFO!A116=0,\" \",COUNTRY_INFO!A116)","v":"Angola"},{"$f":"IF(COUNTRY_INFO!B116=0,\" \",COUNTRY_INFO!B116)","v":"LUNDA NORTE"},{"$f":"IF(COUNTRY_INFO!C116=0,\" \",COUNTRY_INFO!C116)","v":"LUBALO"},{"$f":"IF(AND(COUNTRY_INFO!$U$9:$U$1000=\"T3 (ALB/MBD)\",COUNTRY_INFO!$V$9:$V$1000=\"T3 (ALB/MBD)\"), \"T3 (ALB/MBD)\", \" \")","v":" "},null,null,null,null,null,0,null,null,null,0," "," "," "," "]
[{"$f":"IF(COUNTRY_INFO!A117=0,\" \",COUNTRY_INFO!A117)","v":"Angola"},{"$f":"IF(COUNTRY_INFO!B117=0,\" \",COUNTRY_INFO!B117)","v":"LUNDA NORTE"},{"$f":"IF(COUNTRY_INFO!C117=0,\" \",COUNTRY_INFO!C117)","v":"LUCAPA"},{"$f":"IF(AND(COUNTRY_INFO!$U$9:$U$1000=\"T3 (ALB/MBD)\",COUNTRY_INFO!$V$9:$V$1000=\"T3 (ALB/MBD)\"), \"T3 (ALB/MBD)\", \" \")","v":" "},null,null,null,null,null,0,null,null,null,0," "," "," "," "]
[{"$f":"IF(COUNTRY_INFO!A118=0,\" \",COUNTRY_INFO!A118)","v":"Angola"},{"$f":"IF(COUNTRY_INFO!B118=0,\" \",COUNTRY_INFO!B118)","v":"LUNDA NORTE"},{"$f":"IF(COUNTRY_INFO!C118=0,\" \",COUNTRY_INFO!C118)","v":"XA MUTEBA"},{"$f":"IF(AND(COUNTRY_INFO!$U$9:$U$1000=\"T3 (ALB/MBD)\",COUNTRY_INFO!$V$9:$V$1000=\"T3 (ALB/MBD)\"), \"T3 (ALB/MBD)\", \" \")","v":" "},null,null,null,null,null,0,null,null,null,0," "," "," "," "]
[{"$f":"IF(COUNTRY_INFO!A119=0,\" \",COUNTRY_INFO!A119)","v":"Angola"},{"$f":"IF(COUNTRY_INFO!B119=0,\" \",COUNTRY_INFO!B119)","v":"LUNDA SUL"},{"$f":"IF(COUNTRY_INFO!C119=0,\" \",COUNTRY_INFO!C119)","v":"CACOLO"},{"$f":"IF(AND(COUNTRY_INFO!$U$9:$U$1000=\"T3 (ALB/MBD)\",COUNTRY_INFO!$V$9:$V$1000=\"T3 (ALB/MBD)\"), \"T3 (ALB/MBD)\", \" \")","v":" "},null,null,null,null,null,0,null,null,null,0," "," "," "," "]
[{"$f":"IF(COUNTRY_INFO!A120=0,\" \",COUNTRY_INFO!A120)","v":"Angola"},{"$f":"IF(COUNTRY_INFO!B120=0,\" \",COUNTRY_INFO!B120)","v":"LUNDA SUL"},{"$f":"IF(COUNTRY_INFO!C120=0,\" \",COUNTRY_INFO!C120)","v":"DALA"},{"$f":"IF(AND(COUNTRY_INFO!$U$9:$U$1000=\"T3 (ALB/MBD)\",COUNTRY_INFO!$V$9:$V$1000=\"T3 (ALB/MBD)\"), \"T3 (ALB/MBD)\", \" \")","v":" "},null,null,null,null,null,0,null,null,null,0," "," "," "," "]
[{"$f":"IF(COUNTRY_INFO!A121=0,\" \",COUNTRY_INFO!A121)","v":"Angola"},{"$f":"IF(COUNTRY_INFO!B121=0,\" \",COUNTRY_INFO!B121)","v":"LUNDA SUL"},{"$f":"IF(COUNTRY_INFO!C121=0,\" \",COUNTRY_INFO!C121)","v":"MUCONDA"},{"$f":"IF(AND(COUNTRY_INFO!$U$9:$U$1000=\"T3 (ALB/MBD)\",COUNTRY_INFO!$V$9:$V$1000=\"T3 (ALB/MBD)\"), \"T3 (ALB/MBD)\", \" \")","v":" "},null,null,null,null,null,0,null,null,null,0," "," "," "," "]
[{"$f":"IF(COUNTRY_INFO!A122=0,\" \",COUNTRY_INFO!A122)","v":"Angola"},{"$f":"IF(COUNTRY_INFO!B122=0,\" \",COUNTRY_INFO!B122)","v":"LUNDA SUL"},{"$f":"IF(COUNTRY_INFO!C122=0,\" \",COUNTRY_INFO!C122)","v":"SAURIMO"},{"$f":"IF(AND(COUNTRY_INFO!$U$9:$U$1000=\"T3 (ALB/MBD)\",COUNTRY_INFO!$V$9:$V$1000=\"T3 (ALB/MBD)\"), \"T3 (ALB/MBD)\", \" \")","v":" "},null,null,null,null,null,0,null,null,null,0," "," "," "," "]
[{"$f":"IF(COUNTRY_INFO!A123=0,\" \",COUNTRY_INFO!A123)","v":"Angola"},{"$f":"IF(COUNTRY_INFO!B123=0,\" \",COUNTRY_INFO!B123)","v":"MALANJE"},{"$f":"IF(COUNTRY_INFO!C123=0,\" \",COUNTRY_INFO!C123)","v":"CACULAMA (Mukari)"},{"$f":"IF(AND(COUNTRY_INFO!$U$9:$U$1000=\"T3 (ALB/MBD)\",COUNTRY_INFO!$V$9:$V$1000=\"T3 (ALB/MBD)\"), \"T3 (ALB/MBD)\", \" \")","v":" "},null,null,null,null,null,0,null,null,null,0," "," "," "," "]
[{"$f":"IF(COUNTRY_INFO!A124=0,\" \",COUNTRY_INFO!A124)","v":"Angola"},{"$f":"IF(COUNTRY_INFO!B124=0,\" \",COUNTRY_INFO!B124)","v":"MALANJE"},{"$f":"IF(COUNTRY_INFO!C124=0,\" \",COUNTRY_INFO!C124)","v":"CACUSO"},{"$f":"IF(AND(COUNTRY_INFO!$U$9:$U$1000=\"T3 (ALB/MBD)\",COUNTRY_INFO!$V$9:$V$1000=\"T3 (ALB/MBD)\"), \"T3 (ALB/MBD)\", \" \")","v":" "},null,null,null,null,null,0,null,null,null,0," "," "," "," "]
[{"$f":"IF(COUNTRY_INFO!A125=0,\" \",COUNTRY_INFO!A125)","v":"Angola"},{"$f":"IF(COUNTRY_INFO!B125=0,\" \",COUNTRY_INFO!B125)","v":"MALANJE"},{"$f":"IF(COUNTRY_INFO!C125=0,\" \",COUNTRY_INFO!C125)","v":"CAHOMBO"},{"$f":"IF(AND(COUNTRY_INFO!$U$9:$U$1000=\"T3 (ALB/MBD)\",COUNTRY_INFO!$V$9:$V$1000=\"T3 (ALB/MBD)\"), \"T3 (ALB/MBD)\", \" \")","v":" "},null,null,null,null,null,0,null,null,null,0," "," "," "," "]
[{"$f":"IF(COUNTRY_INFO!A126=0,\" \",COUNTRY_INFO!A126)","v":"Angola"},{"$f":"IF(COUNTRY_INFO!B126=0,\" \",COUNTRY_INFO!B126)","v":"MALANJE"},{"$f":"IF(COUNTRY_INFO!C126=0,\" \",COUNTRY_INFO!C126)","v":"CALANDULA"},{"$f":"IF(AND(COUNTRY_INFO!$U$9:$U$1000=\"T3 (ALB/MBD)\",COUNTRY_INFO!$V$9:$V$1000=\"T3 (ALB/MBD)\"), \"T3 (ALB/MBD)\", \" \")","v":" "},null,null,null,null,null,0,null,null,null,0," "," "," "," "]
[{"$f":"IF(COUNTRY_INFO!A127=0,\" \",COUNTRY_INFO!A127)","v":"Angola"},{"$f":"IF(COUNTRY_INFO!B127=0,\" \",COUNTRY_INFO!B127)","v":"MALANJE"},{"$f":"IF(COUNTRY_INFO!C127=0,\" \",COUNTRY_INFO!C127)","v":"CAMBUNDI CATEMBO"},{"$f":"IF(AND(COUNTRY_INFO!$U$9:$U$1000=\"T3 (ALB/MBD)\",COUNTRY_INFO!$V$9:$V$1000=\"T3 (ALB/MBD)\"), \"T3 (ALB/MBD)\", \" \")","v":" "},null,null,null,null,null,0,null,null,null,0," "," "," "," "]
[{"$f":"IF(COUNTRY_INFO!A128=0,\" \",COUNTRY_INFO!A128)","v":"Angola"},{"$f":"IF(COUNTRY_INFO!B128=0,\" \",COUNTRY_INFO!B128)","v":"MALANJE"},{"$f":"IF(COUNTRY_INFO!C128=0,\" \",COUNTRY_INFO!C128)","v":"CANGANDALA"},{"$f":"IF(AND(COUNTRY_INFO!$U$9:$U$1000=\"T3 (ALB/MBD)\",COUNTRY_INFO!$V$9:$V$1000=\"T3 (ALB/MBD)\"), \"T3 (ALB/MBD)\", \" \")","v":" "},null,null,null,null,null,0,null,null,null,0," "," "," "," "]
[{"$f":"IF(COUNTRY_INFO!A129=0,\" \",COUNTRY_INFO!A129)","v":"Angola"},{"$f":"IF(COUNTRY_INFO!B129=0,\" \",COUNTRY_INFO!B129)","v":"MALANJE"},{"$f":"IF(COUNTRY_INFO!C129=0,\" \",COUNTRY_INFO!C129)","v":"KIWABA NZOJI"},{"$f":"IF(AND(COUNTRY_INFO!$U$9:$U$1000=\"T3 (ALB/MBD)\",COUNTRY_INFO!$V$9:$V$1000=\"T3 (ALB/MBD)\"), \"T3 (ALB/MBD)\", \" \")","v":" "},null,null,null,null,null,0,null,null,null,0," "," "," "," "]
[{"$f":"IF(COUNTRY_INFO!A130=0,\" \",COUNTRY_INFO!A130)","v":"Angola"},{"$f":"IF(COUNTRY_INFO!B130=0,\" \",COUNTRY_INFO!B130)","v":"MALANJE"},{"$f":"IF(COUNTRY_INFO!C130=0,\" \",COUNTRY_INFO!C130)","v":"KUNDA DYA BASE"},{"$f":"IF(AND(COUNTRY_INFO!$U$9:$U$1000=\"T3 (ALB/MBD)\",COUNTRY_INFO!$V$9:$V$1000=\"T3 (ALB/MBD)\"), \"T3 (ALB/MBD)\", \" \")","v":" "},null,null,null,null,null,0,null,null,null,0," "," "," "," "]
[{"$f":"IF(COUNTRY_INFO!A131=0,\" \",COUNTRY_INFO!A131)","v":"Angola"},{"$f":"IF(COUNTRY_INFO!B131=0,\" \",COUNTRY_INFO!B131)","v":"MALANJE"},{"$f":"IF(COUNTRY_INFO!C131=0,\" \",COUNTRY_INFO!C131)","v":"LUQUEMBO"},{"$f":"IF(AND(COUNTRY_INFO!$U$9:$U$1000=\"T3 (ALB/MBD)\",COUNTRY_INFO!$V$9:$V$1000=\"T3 (ALB/MBD)\"), \"T3 (ALB/MBD)\", \" \")","v":" "},null,null,null,null,null,0,null,null,null,0," "," "," "," "]
[{"$f":"IF(COUNTRY_INFO!A132=0,\" \",COUNTRY_INFO!A132)","v":"Angola"},{"$f":"IF(COUNTRY_INFO!B132=0,\" \",COUNTRY_INFO!B132)","v":"MALANJE"},{"$f":"IF(COUNTRY_INFO!C132=0,\" \",COUNTRY_INFO!C132)","v":"MALANJE"},{"$f":"IF(AND(COUNTRY_INFO!$U$9:$U$1000=\"T3 (ALB/MBD)\",COUNTRY_INFO!$V$9:$V$1000=\"T3 (ALB/MBD)\"), \"T3 (ALB/MBD)\", \" \")","v":" "},null,null,null,null,null,0,null,null,null,0," "," "," "," "]
[{"$f":"IF(COUNTRY_INFO!A133=0,\" \",COUNTRY_INFO!A133)","v":"Angola"},{"$f":"IF(COUNTRY_INFO!B133=0,\" \",COUNTRY_INFO!B133)","v":"MALANJE"},{"$f":"IF(COUNTRY_INFO!C133=0,\" \",COUNTRY_INFO!C133)","v":"MARIMBA"},{"$f":"IF(AND(COUNTRY_INFO!$U$9:$U$1000=\"T3 (ALB/MBD)\",COUNTRY_INFO!$V$9:$V$1000=\"T3 (ALB/MBD)\"), \"T3 (ALB/MBD)\", \" \")","v":" "},null,null,null,null,null,0,null,null,null,0," "," "," "," "]
[{"$f":"IF(COUNTRY_INFO!A134=0,\" \",COUNTRY_INFO!A134)","v":"Angola"},{"$f":"IF(COUNTRY_INFO!B134=0,\" \",COUNTRY_INFO!B134)","v":"MALANJE"},{"$f":"IF(COUNTRY_INFO!C134=0,\" \",COUNTRY_INFO!C134)","v":"MASSANGO"},{"$f":"IF(AND(COUNTRY_INFO!$U$9:$U$1000=\"T3 (ALB/MBD)\",COUNTRY_INFO!$V$9:$V$1000=\"T3 (ALB/MBD)\"), \"T3 (ALB/MBD)\", \" \")","v":" "},null,null,null,null,null,0,null,null,null,0," "," "," "," "]
[{"$f":"IF(COUNTRY_INFO!A135=0,\" \",COUNTRY_INFO!A135)","v":"Angola"},{"$f":"IF(COUNTRY_INFO!B135=0,\" \",COUNTRY_INFO!B135)","v":"MALANJE"},{"$f":"IF(COUNTRY_INFO!C135=0,\" \",COUNTRY_INFO!C135)","v":"QUELA"},{"$f":"IF(AND(COUNTRY_INFO!$U$9:$U$1000=\"T3 (ALB/MBD)\",COUNTRY_INFO!$V$9:$V$1000=\"T3 (ALB/MBD)\"), \"T3 (ALB/MBD)\", \" \")","v":" "},null,null,null,null,null,0,null,null,null,0," "," "," "," "]
[{"$f":"IF(COUNTRY_INFO!A136=0,\" \",COUNTRY_INFO!A136)","v":"Angola"},{"$f":"IF(COUNTRY_INFO!B136=0,\" \",COUNTRY_INFO!B136)","v":"MALANJE"},{"$f":"IF(COUNTRY_INFO!C136=0,\" \",COUNTRY_INFO!C136)","v":"QUIRIMA"},{"$f":"IF(AND(COUNTRY_INFO!$U$9:$U$1000=\"T3 (ALB/MBD)\",COUNTRY_INFO!$V$9:$V$1000=\"T3 (ALB/MBD)\"), \"T3 (ALB/MBD)\", \" \")","v":" "},null,null,null,null,null,0,null,null,null,0," "," "," "," "]
[{"$f":"IF(COUNTRY_INFO!A137=0,\" \",COUNTRY_INFO!A137)","v":"Angola"},{"$f":"IF(COUNTRY_INFO!B137=0,\" \",COUNTRY_INFO!B137)","v":"MOXICO"},{"$f":"IF(COUNTRY_INFO!C137=0,\" \",COUNTRY_INFO!C137)","v":"ALTO ZAMBEZE"},{"$f":"IF(AND(COUNTRY_INFO!$U$9:$U$1000=\"T3 (ALB/MBD)\",COUNTRY_INFO!$V$9:$V$1000=\"T3 (ALB/MBD)\"), \"T3 (ALB/MBD)\", \" \")","v":" "},null,null,null,null,null,0,null,null,null,0," "," "," "," "]
[{"$f":"IF(COUNTRY_INFO!A138=0,\" \",COUNTRY_INFO!A138)","v":"Angola"},{"$f":"IF(COUNTRY_INFO!B138=0,\" \",COUNTRY_INFO!B138)","v":"MOXICO"},{"$f":"IF(COUNTRY_INFO!C138=0,\" \",COUNTRY_INFO!C138)","v":"BUNDAS (LUMBALA NGUIMBO)"},{"$f":"IF(AND(COUNTRY_INFO!$U$9:$U$1000=\"T3 (ALB/MBD)\",COUNTRY_INFO!$V$9:$V$1000=\"T3 (ALB/MBD)\"), \"T3 (ALB/MBD)\", \" \")","v":" "},null,null,null,null,null,{"$f":"SUM(G138:I138)","v":0},null,null,null,{"$f":"SUM(K138:M138)","v":0},{"$f":"IF(G138<>0, IF(K138/G138*100=0, \"-\", K138/G138*100), \" \")","v":" "},{"$f":"IF(H138<>0, IF(L138/H138*100=0, \"-\", L138/H138*100), \" \")","v":" "},{"$f":"IF(I138<>0, IF(M138/I138*100=0, \"-\", M138/I138*100), \" \")","v":" "},{"$f":"IF(J138<>0, IF(N138/J138*100=0, \"-\", N138/J138*100), \" \")","v":" "}]
[{"$f":"IF(COUNTRY_INFO!A139=0,\" \",COUNTRY_INFO!A139)","v":"Angola"},{"$f":"IF(COUNTRY_INFO!B139=0,\" \",COUNTRY_INFO!B139)","v":"MOXICO"},{"$f":"IF(COUNTRY_INFO!C139=0,\" \",COUNTRY_INFO!C139)","v":"CAMANONGUE"},{"$f":"IF(AND(COUNTRY_INFO!$U$9:$U$1000=\"T3 (ALB/MBD)\",COUNTRY_INFO!$V$9:$V$1000=\"T3 (ALB/MBD)\"), \"T3 (ALB/MBD)\", \" \")","v":" "},null,null,null,null,null,0,null,null,null,0," "," "," "," "]
[{"$f":"IF(COUNTRY_INFO!A140=0,\" \",COUNTRY_INFO!A140)","v":"Angola"},{"$f":"IF(COUNTRY_INFO!B140=0,\" \",COUNTRY_INFO!B140)","v":"MOXICO"},{"$f":"IF(COUNTRY_INFO!C140=0,\" \",COUNTRY_INFO!C140)","v":"CAMEIA (LUMEJE)"},{"$f":"IF(AND(COUNTRY_INFO!$U$9:$U$1000=\"T3 (ALB/MBD)\",COUNTRY_INFO!$V$9:$V$1000=\"T3 (ALB/MBD)\"), \"T3 (ALB/MBD)\", \" \")","v":" "},null,null,null,null,null,0,null,null,null,0," "," "," "," "]
[{"$f":"IF(COUNTRY_INFO!A141=0,\" \",COUNTRY_INFO!A141)","v":"Angola"},{"$f":"IF(COUNTRY_INFO!B141=0,\" \",COUNTRY_INFO!B141)","v":"MOXICO"},{"$f":"IF(COUNTRY_INFO!C141=0,\" \",COUNTRY_INFO!C141)","v":"LEUA"},{"$f":"IF(AND(COUNTRY_INFO!$U$9:$U$1000=\"T3 (ALB/MBD)\",COUNTRY_INFO!$V$9:$V$1000=\"T3 (ALB/MBD)\"), \"T3 (ALB/MBD)\", \" \")","v":" "},null,null,null,null,null,0,null,null,null,0," "," "," "," "]
[{"$f":"IF(COUNTRY_INFO!A142=0,\" \",COUNTRY_INFO!A142)","v":"Angola"},{"$f":"IF(COUNTRY_INFO!B142=0,\" \",COUNTRY_INFO!B142)","v":"MOXICO"},{"$f":"IF(COUNTRY_INFO!C142=0,\" \",COUNTRY_INFO!C142)","v":"LUACANO"},{"$f":"IF(AND(COUNTRY_INFO!$U$9:$U$1000=\"T3 (ALB/MBD)\",COUNTRY_INFO!$V$9:$V$1000=\"T3 (ALB/MBD)\"), \"T3 (ALB/MBD)\", \" \")","v":" "},null,null,null,null,null,0,null,null,null,0," "," "," "," "]
[{"$f":"IF(COUNTRY_INFO!A143=0,\" \",COUNTRY_INFO!A143)","v":"Angola"},{"$f":"IF(COUNTRY_INFO!B143=0,\" \",COUNTRY_INFO!B143)","v":"MOXICO"},{"$f":"IF(COUNTRY_INFO!C143=0,\" \",COUNTRY_INFO!C143)","v":"LUAU"},{"$f":"IF(AND(COUNTRY_INFO!$U$9:$U$1000=\"T3 (ALB/MBD)\",COUNTRY_INFO!$V$9:$V$1000=\"T3 (ALB/MBD)\"), \"T3 (ALB/MBD)\", \" \")","v":" "},null,null,null,null,null,0,null,null,null,0," "," "," "," "]
[{"$f":"IF(COUNTRY_INFO!A144=0,\" \",COUNTRY_INFO!A144)","v":"Angola"},{"$f":"IF(COUNTRY_INFO!B144=0,\" \",COUNTRY_INFO!B144)","v":"MOXICO"},{"$f":"IF(COUNTRY_INFO!C144=0,\" \",COUNTRY_INFO!C144)","v":"LUCHAZES"},{"$f":"IF(AND(COUNTRY_INFO!$U$9:$U$1000=\"T3 (ALB/MBD)\",COUNTRY_INFO!$V$9:$V$1000=\"T3 (ALB/MBD)\"), \"T3 (ALB/MBD)\", \" \")","v":" "},null,null,null,null,null,0,null,null,null,0," "," "," "," "]
[{"$f":"IF(COUNTRY_INFO!A145=0,\" \",COUNTRY_INFO!A145)","v":"Angola"},{"$f":"IF(COUNTRY_INFO!B145=0,\" \",COUNTRY_INFO!B145)","v":"MOXICO"},{"$f":"IF(COUNTRY_INFO!C145=0,\" \",COUNTRY_INFO!C145)","v":"MOXICO/LUENA"},{"$f":"IF(AND(COUNTRY_INFO!$U$9:$U$1000=\"T3 (ALB/MBD)\",COUNTRY_INFO!$V$9:$V$1000=\"T3 (ALB/MBD)\"), \"T3 (ALB/MBD)\", \" \")","v":" "},null,null,null,null,null,0,null,null,null,0," "," "," "," "]
[{"$f":"IF(COUNTRY_INFO!A146=0,\" \",COUNTRY_INFO!A146)","v":"Angola"},{"$f":"IF(COUNTRY_INFO!B146=0,\" \",COUNTRY_INFO!B146)","v":"NAMIBE"},{"$f":"IF(COUNTRY_INFO!C146=0,\" \",COUNTRY_INFO!C146)","v":"BIBALA"},{"$f":"IF(AND(COUNTRY_INFO!$U$9:$U$1000=\"T3 (ALB/MBD)\",COUNTRY_INFO!$V$9:$V$1000=\"T3 (ALB/MBD)\"), \"T3 (ALB/MBD)\", \" \")","v":" "},null,null,null,null,null,0,null,null,null,0," "," "," "," "]
[{"$f":"IF(COUNTRY_INFO!A147=0,\" \",COUNTRY_INFO!A147)","v":"Angola"},{"$f":"IF(COUNTRY_INFO!B147=0,\" \",COUNTRY_INFO!B147)","v":"NAMIBE"},{"$f":"IF(COUNTRY_INFO!C147=0,\" \",COUNTRY_INFO!C147)","v":"CAMUCUIO"},{"$f":"IF(AND(COUNTRY_INFO!$U$9:$U$1000=\"T3 (ALB/MBD)\",COUNTRY_INFO!$V$9:$V$1000=\"T3 (ALB/MBD)\"), \"T3 (ALB/MBD)\", \" \")","v":" "},null,null,null,null,null,0,null,null,null,0," "," "," "," "]
[{"$f":"IF(COUNTRY_INFO!A148=0,\" \",COUNTRY_INFO!A148)","v":"Angola"},{"$f":"IF(COUNTRY_INFO!B148=0,\" \",COUNTRY_INFO!B148)","v":"NAMIBE"},{"$f":"IF(COUNTRY_INFO!C148=0,\" \",COUNTRY_INFO!C148)","v":"NAMIBE"},{"$f":"IF(AND(COUNTRY_INFO!$U$9:$U$1000=\"T3 (ALB/MBD)\",COUNTRY_INFO!$V$9:$V$1000=\"T3 (ALB/MBD)\"), \"T3 (ALB/MBD)\", \" \")","v":" "},null,null,null,null,null,0,null,null,null,0," "," "," "," "]
[{"$f":"IF(COUNTRY_INFO!A149=0,\" \",COUNTRY_INFO!A149)","v":"Angola"},{"$f":"IF(COUNTRY_INFO!B149=0,\" \",COUNTRY_INFO!B149)","v":"NAMIBE"},{"$f":"IF(COUNTRY_INFO!C149=0,\" \",COUNTRY_INFO!C149)","v":"TOMBWA"},{"$f":"IF(AND(COUNTRY_INFO!$U$9:$U$1000=\"T3 (ALB/MBD)\",COUNTRY_INFO!$V$9:$V$1000=\"T3 (ALB/MBD)\"), \"T3 (ALB/MBD)\", \" \")","v":" "},null,null,null,null,null,0,null,null,null,0," "," "," "," "]
[{"$f":"IF(COUNTRY_INFO!A150=0,\" \",COUNTRY_INFO!A150)","v":"Angola"},{"$f":"IF(COUNTRY_INFO!B150=0,\" \",COUNTRY_INFO!B150)","v":"NAMIBE"},{"$f":"IF(COUNTRY_INFO!C150=0,\" \",COUNTRY_INFO!C150)","v":"VIREI"},{"$f":"IF(AND(COUNTRY_INFO!$U$9:$U$1000=\"T3 (ALB/MBD)\",COUNTRY_INFO!$V$9:$V$1000=\"T3 (ALB/MBD)\"), \"T3 (ALB/MBD)\", \" \")","v":" "},null,null,null,null,null,0,null,null,null,0," "," "," "," "]
[{"$f":"IF(COUNTRY_INFO!A151=0,\" \",COUNTRY_INFO!A151)","v":"Angola"},{"$f":"IF(COUNTRY_INFO!B151=0,\" \",COUNTRY_INFO!B151)","v":"UIGE"},{"$f":"IF(COUNTRY_INFO!C151=0,\" \",COUNTRY_INFO!C151)","v":"AMBUILA"},{"$f":"IF(AND(COUNTRY_INFO!$U$9:$U$1000=\"T3 (ALB/MBD)\",COUNTRY_INFO!$V$9:$V$1000=\"T3 (ALB/MBD)\"), \"T3 (ALB/MBD)\", \" \")","v":" "},null,null,null,null,null,0,null,null,null,0," "," "," "," "]
[{"$f":"IF(COUNTRY_INFO!A152=0,\" \",COUNTRY_INFO!A152)","v":"Angola"},{"$f":"IF(COUNTRY_INFO!B152=0,\" \",COUNTRY_INFO!B152)","v":"UIGE"},{"$f":"IF(COUNTRY_INFO!C152=0,\" \",COUNTRY_INFO!C152)","v":"BEMBE"},{"$f":"IF(AND(COUNTRY_INFO!$U$9:$U$1000=\"T3 (ALB/MBD)\",COUNTRY_INFO!$V$9:$V$1000=\"T3 (ALB/MBD)\"), \"T3 (ALB/MBD)\", \" \")","v":" "},null,null,null,null,null,0,null,null,null,0," "," "," "," "]
[{"$f":"IF(COUNTRY_INFO!A153=0,\" \",COUNTRY_INFO!A153)","v":"Angola"},{"$f":"IF(COUNTRY_INFO!B153=0,\" \",COUNTRY_INFO!B153)","v":"UIGE"},{"$f":"IF(COUNTRY_INFO!C153=0,\" \",COUNTRY_INFO!C153)","v":"BUENGAS"},{"$f":"IF(AND(COUNTRY_INFO!$U$9:$U$1000=\"T3 (ALB/MBD)\",COUNTRY_INFO!$V$9:$V$1000=\"T3 (ALB/MBD)\"), \"T3 (ALB/MBD)\", \" \")","v":" "},null,null,null,null,null,0,null,null,null,0," "," "," "," "]
[{"$f":"IF(COUNTRY_INFO!A154=0,\" \",COUNTRY_INFO!A154)","v":"Angola"},{"$f":"IF(COUNTRY_INFO!B154=0,\" \",COUNTRY_INFO!B154)","v":"UIGE"},{"$f":"IF(COUNTRY_INFO!C154=0,\" \",COUNTRY_INFO!C154)","v":"BUNGO"},{"$f":"IF(AND(COUNTRY_INFO!$U$9:$U$1000=\"T3 (ALB/MBD)\",COUNTRY_INFO!$V$9:$V$1000=\"T3 (ALB/MBD)\"), \"T3 (ALB/MBD)\", \" \")","v":" "},null,null,null,null,null,0,null,null,null,0," "," "," "," "]
[{"$f":"IF(COUNTRY_INFO!A155=0,\" \",COUNTRY_INFO!A155)","v":"Angola"},{"$f":"IF(COUNTRY_INFO!B155=0,\" \",COUNTRY_INFO!B155)","v":"UIGE"},{"$f":"IF(COUNTRY_INFO!C155=0,\" \",COUNTRY_INFO!C155)","v":"CANGOLA"},{"$f":"IF(AND(COUNTRY_INFO!$U$9:$U$1000=\"T3 (ALB/MBD)\",COUNTRY_INFO!$V$9:$V$1000=\"T3 (ALB/MBD)\"), \"T3 (ALB/MBD)\", \" \")","v":" "},null,null,null,null,null,0,null,null,null,0," "," "," "," "]
[{"$f":"IF(COUNTRY_INFO!A156=0,\" \",COUNTRY_INFO!A156)","v":"Angola"},{"$f":"IF(COUNTRY_INFO!B156=0,\" \",COUNTRY_INFO!B156)","v":"UIGE"},{"$f":"IF(COUNTRY_INFO!C156=0,\" \",COUNTRY_INFO!C156)","v":"DAMBA"},{"$f":"IF(AND(COUNTRY_INFO!$U$9:$U$1000=\"T3 (ALB/MBD)\",COUNTRY_INFO!$V$9:$V$1000=\"T3 (ALB/MBD)\"), \"T3 (ALB/MBD)\", \" \")","v":" "},null,null,null,null,null,0,null,null,null,0," "," "," "," "]
[{"$f":"IF(COUNTRY_INFO!A157=0,\" \",COUNTRY_INFO!A157)","v":"Angola"},{"$f":"IF(COUNTRY_INFO!B157=0,\" \",COUNTRY_INFO!B157)","v":"UIGE"},{"$f":"IF(COUNTRY_INFO!C157=0,\" \",COUNTRY_INFO!C157)","v":"MAQUELA DO ZOMBO"},{"$f":"IF(AND(COUNTRY_INFO!$U$9:$U$1000=\"T3 (ALB/MBD)\",COUNTRY_INFO!$V$9:$V$1000=\"T3 (ALB/MBD)\"), \"T3 (ALB/MBD)\", \" \")","v":" "},null,null,null,null,null,0,null,null,null,0," "," "," "," "]
[{"$f":"IF(COUNTRY_INFO!A158=0,\" \",COUNTRY_INFO!A158)","v":"Angola"},{"$f":"IF(COUNTRY_INFO!B158=0,\" \",COUNTRY_INFO!B158)","v":"UIGE"},{"$f":"IF(COUNTRY_INFO!C158=0,\" \",COUNTRY_INFO!C158)","v":"MILUNGA"},{"$f":"IF(AND(COUNTRY_INFO!$U$9:$U$1000=\"T3 (ALB/MBD)\",COUNTRY_INFO!$V$9:$V$1000=\"T3 (ALB/MBD)\"), \"T3 (ALB/MBD)\", \" \")","v":" "},null,null,null,null,null,0,null,null,null,0," "," "," "," "]
[{"$f":"IF(COUNTRY_INFO!A159=0,\" \",COUNTRY_INFO!A159)","v":"Angola"},{"$f":"IF(COUNTRY_INFO!B159=0,\" \",COUNTRY_INFO!B159)","v":"UIGE"},{"$f":"IF(COUNTRY_INFO!C159=0,\" \",COUNTRY_INFO!C159)","v":"MUCABA"},{"$f":"IF(AND(COUNTRY_INFO!$U$9:$U$1000=\"T3 (ALB/MBD)\",COUNTRY_INFO!$V$9:$V$1000=\"T3 (ALB/MBD)\"), \"T3 (ALB/MBD)\", \" \")","v":" "},null,null,null,null,null,0,null,null,null,0," "," "," "," "]
[{"$f":"IF(COUNTRY_INFO!A160=0,\" \",COUNTRY_INFO!A160)","v":"Angola"},{"$f":"IF(COUNTRY_INFO!B160=0,\" \",COUNTRY_INFO!B160)","v":"UIGE"},{"$f":"IF(COUNTRY_INFO!C160=0,\" \",COUNTRY_INFO!C160)","v":"NEGAGE"},{"$f":"IF(AND(COUNTRY_INFO!$U$9:$U$1000=\"T3 (ALB/MBD)\",COUNTRY_INFO!$V$9:$V$1000=\"T3 (ALB/MBD)\"), \"T3 (ALB/MBD)\", \" \")","v":" "},null,null,null,null,null,0,null,null,null,0," "," "," "," "]
[{"$f":"IF(COUNTRY_INFO!A161=0,\" \",COUNTRY_INFO!A161)","v":"Angola"},{"$f":"IF(COUNTRY_INFO!B161=0,\" \",COUNTRY_INFO!B161)","v":"UIGE"},{"$f":"IF(COUNTRY_INFO!C161=0,\" \",COUNTRY_INFO!C161)","v":"PURI"},{"$f":"IF(AND(COUNTRY_INFO!$U$9:$U$1000=\"T3 (ALB/MBD)\",COUNTRY_INFO!$V$9:$V$1000=\"T3 (ALB/MBD)\"), \"T3 (ALB/MBD)\", \" \")","v":" "},null,null,null,null,null,0,null,null,null,0," "," "," "," "]
[{"$f":"IF(COUNTRY_INFO!A162=0,\" \",COUNTRY_INFO!A162)","v":"Angola"},{"$f":"IF(COUNTRY_INFO!B162=0,\" \",COUNTRY_INFO!B162)","v":"UIGE"},{"$f":"IF(COUNTRY_INFO!C162=0,\" \",COUNTRY_INFO!C162)","v":"QUIMBELE"},{"$f":"IF(AND(COUNTRY_INFO!$U$9:$U$1000=\"T3 (ALB/MBD)\",COUNTRY_INFO!$V$9:$V$1000=\"T3 (ALB/MBD)\"), \"T3 (ALB/MBD)\", \" \")","v":" "},null,null,null,null,null,0,null,null,null,0," "," "," "," "]
[{"$f":"IF(COUNTRY_INFO!A163=0,\" \",COUNTRY_INFO!A163)","v":"Angola"},{"$f":"IF(COUNTRY_INFO!B163=0,\" \",COUNTRY_INFO!B163)","v":"UIGE"},{"$f":"IF(COUNTRY_INFO!C163=0,\" \",COUNTRY_INFO!C163)","v":"QUITEXE"},{"$f":"IF(AND(COUNTRY_INFO!$U$9:$U$1000=\"T3 (ALB/MBD)\",COUNTRY_INFO!$V$9:$V$1000=\"T3 (ALB/MBD)\"), \"T3 (ALB/MBD)\", \" \")","v":" "},null,null,null,null,null,0,null,null,null,0," "," "," "," "]
[{"$f":"IF(COUNTRY_INFO!A164=0,\" \",COUNTRY_INFO!A164)","v":"Angola"},{"$f":"IF(COUNTRY_INFO!B164=0,\" \",COUNTRY_INFO!B164)","v":"UIGE"},{"$f":"IF(COUNTRY_INFO!C164=0,\" \",COUNTRY_INFO!C164)","v":"SANZA POMBO"},{"$f":"IF(AND(COUNTRY_INFO!$U$9:$U$1000=\"T3 (ALB/MBD)\",COUNTRY_INFO!$V$9:$V$1000=\"T3 (ALB/MBD)\"), \"T3 (ALB/MBD)\", \" \")","v":" "},null,null,null,null,null,0,null,null,null,0," "," "," "," "]
[{"$f":"IF(COUNTRY_INFO!A165=0,\" \",COUNTRY_INFO!A165)","v":"Angola"},{"$f":"IF(COUNTRY_INFO!B165=0,\" \",COUNTRY_INFO!B165)","v":"UIGE"},{"$f":"IF(COUNTRY_INFO!C165=0,\" \",COUNTRY_INFO!C165)","v":"SONGO"},{"$f":"IF(AND(COUNTRY_INFO!$U$9:$U$1000=\"T3 (ALB/MBD)\",COUNTRY_INFO!$V$9:$V$1000=\"T3 (ALB/MBD)\"), \"T3 (ALB/MBD)\", \" \")","v":" "},null,null,null,null,null,0,null,null,null,0," "," "," "," "]
[{"$f":"IF(COUNTRY_INFO!A166=0,\" \",COUNTRY_INFO!A166)","v":"Angola"},{"$f":"IF(COUNTRY_INFO!B166=0,\" \",COUNTRY_INFO!B166)","v":"UIGE"},{"$f":"IF(COUNTRY_INFO!C166=0,\" \",COUNTRY_INFO!C166)","v":"UIGE"},{"$f":"IF(AND(COUNTRY_INFO!$U$9:$U$1000=\"T3 (ALB/MBD)\",COUNTRY_INFO!$V$9:$V$1000=\"T3 (ALB/MBD)\"), \"T3 (ALB/MBD)\", \" \")","v":" "},null,null,null,null,null,0,null,null,null,0," "," "," "," "]
[{"$f":"IF(COUNTRY_INFO!A167=0,\" \",COUNTRY_INFO!A167)","v":"Angola"},{"$f":"IF(COUNTRY_INFO!B167=0,\" \",COUNTRY_INFO!B167)","v":"ZAIRE"},{"$f":"IF(COUNTRY_INFO!C167=0,\" \",COUNTRY_INFO!C167)","v":"CUIMBA"},{"$f":"IF(AND(COUNTRY_INFO!$U$9:$U$1000=\"T3 (ALB/MBD)\",COUNTRY_INFO!$V$9:$V$1000=\"T3 (ALB/MBD)\"), \"T3 (ALB/MBD)\", \" \")","v":" "},null,null,null,null,null,0,null,null,null,0," "," "," "," "]
[{"$f":"IF(COUNTRY_INFO!A168=0,\" \",COUNTRY_INFO!A168)","v":"Angola"},{"$f":"IF(COUNTRY_INFO!B168=0,\" \",COUNTRY_INFO!B168)","v":"ZAIRE"},{"$f":"IF(COUNTRY_INFO!C168=0,\" \",COUNTRY_INFO!C168)","v":"MBANZA KONGO"},{"$f":"IF(AND(COUNTRY_INFO!$U$9:$U$1000=\"T3 (ALB/MBD)\",COUNTRY_INFO!$V$9:$V$1000=\"T3 (ALB/MBD)\"), \"T3 (ALB/MBD)\", \" \")","v":" "},null,null,null,null,null,0,null,null,null,0," "," "," "," "]
[{"$f":"IF(COUNTRY_INFO!A169=0,\" \",COUNTRY_INFO!A169)","v":"Angola"},{"$f":"IF(COUNTRY_INFO!B169=0,\" \",COUNTRY_INFO!B169)","v":"ZAIRE"},{"$f":"IF(COUNTRY_INFO!C169=0,\" \",COUNTRY_INFO!C169)","v":"NOQUI"},{"$f":"IF(AND(COUNTRY_INFO!$U$9:$U$1000=\"T3 (ALB/MBD)\",COUNTRY_INFO!$V$9:$V$1000=\"T3 (ALB/MBD)\"), \"T3 (ALB/MBD)\", \" \")","v":" "},null,null,null,null,null,0,null,null,null,0," "," "," "," "]
[{"$f":"IF(COUNTRY_INFO!A170=0,\" \",COUNTRY_INFO!A170)","v":"Angola"},{"$f":"IF(COUNTRY_INFO!B170=0,\" \",COUNTRY_INFO!B170)","v":"ZAIRE"},{"$f":"IF(COUNTRY_INFO!C170=0,\" \",COUNTRY_INFO!C170)","v":"NZETO"},{"$f":"IF(AND(COUNTRY_INFO!$U$9:$U$1000=\"T3 (ALB/MBD)\",COUNTRY_INFO!$V$9:$V$1000=\"T3 (ALB/MBD)\"), \"T3 (ALB/MBD)\", \" \")","v":" "},null,null,null,null,null,0,null,null,null,0," "," "," "," "]
[{"$f":"IF(COUNTRY_INFO!A171=0,\" \",COUNTRY_INFO!A171)","v":"Angola"},{"$f":"IF(COUNTRY_INFO!B171=0,\" \",COUNTRY_INFO!B171)","v":"ZAIRE"},{"$f":"IF(COUNTRY_INFO!C171=0,\" \",COUNTRY_INFO!C171)","v":"SOYO"},{"$f":"IF(AND(COUNTRY_INFO!$U$9:$U$1000=\"T3 (ALB/MBD)\",COUNTRY_INFO!$V$9:$V$1000=\"T3 (ALB/MBD)\"), \"T3 (ALB/MBD)\", \" \")","v":" "},null,null,null,null,null,0,null,null,null,0," "," "," "," "]
[{"$f":"IF(COUNTRY_INFO!A172=0,\" \",COUNTRY_INFO!A172)","v":"Angola"},{"$f":"IF(COUNTRY_INFO!B172=0,\" \",COUNTRY_INFO!B172)","v":"ZAIRE"},{"$f":"IF(COUNTRY_INFO!C172=0,\" \",COUNTRY_INFO!C172)","v":"TOMBOCO"},{"$f":"IF(AND(COUNTRY_INFO!$U$9:$U$1000=\"T3 (ALB/MBD)\",COUNTRY_INFO!$V$9:$V$1000=\"T3 (ALB/MBD)\"), \"T3 (ALB/MBD)\", \" \")","v":" "},null,null,null,null,null,0,null,null,null,0," "," "," "," "]

{"sheet":"DISTRICT","index":9,"n_rows":172,"n_cols":56,"rows_kept":172,"cut":false,"hidden":false,"merged":[[3,0,3,2],[5,0,5,2],[5,4,5,8],[5,10,5,14],[5,16,5,24],[5,26,5,34],[5,3,6,3],[5,9,6,9],[5,15,6,15],[5,25,6,25]]}
["Number of individuals treated"]
["Administrative structure, population treated by age group and gender"]
[]
["TOTAL",null,null,{"$f":"SUM(D$9:D$1000)","v":2458994.613541604},{"$f":"SUM(E$9:E$1000)","v":0},{"$f":"SUM(F$9:F$1000)","v":0},{"$f":"SUM(G$9:G$1000)","v":0},{"$f":"SUM(H$9:H$1000)","v":0},{"$f":"IF(D4>0, IF(H4/D4*100<>0, H4/D4*100, \"-\"),0)","v":"-"},{"$f":"SUM(J$9:J$1000)","v":5932675.5675151739},{"$f":"SUM(K$9:K$1000)","v":0},{"$f":"SUM(L$9:L$1000)","v":0},{"$f":"SUM(M$9:M$1000)","v":0},{"$f":"SUM(N$9:N$1000)","v":0},{"$f":"IF(J4>0, IF(N4/J4*100<>0, N4/J4*100, \"-\"),0)","v":"-"},{"$f":"SUM(P$9:P$1000)","v":13101317},{"$f":"SUM(Q$9:Q$1000)","v":0},{"$f":"SUM(R$9:R$1000)","v":0},{"$f":"SUM(S$9:S$1000)","v":1686437},{"$f":"SUM(T$9:T$1000)","v":0},null,{"$f":"SUM(V$9:V$1000)","v":1589178},null,{"$f":"SUM(X$9:X$1000)","v":1589178},{"$f":"IF(P4>0, IF(X4/P4*100<>0, X4/P4*100, \"-\"),0)","v":12.129910298331076},{"$f":"SUM(Z$9:Z$1000)","v":7602968.2699999968},0,0,1603957,862516.57000000018,null,0,null,862516.57000000018,{"$f":"IF(Z4>0, IF(AH4/Z4*100<>0, AH4/Z4*100, \"-\"),0)","v":11.344471519147884}]
[]
[null,null,null,"Population requiring PC for LF","Population treated for lymphatic filariasis",null,null,null,null,"Population requiring PC for ONCHO","Population treated for onchocerciasis",null,null,null,null,"Population requiring PC for STH","Population treated for STH",null,null,null,null,null,null,null,null,"Population requiring PC for SCH","Population treated for schistosomiasis",null,null,null,null,null,null,null,null,null,null,null,null,null,null,{"$f":"SUM(AP9:AP1000)","v":250997.40963485281},{"$f":"SUM(AQ9:AQ1000)","v":4796258.994119484},{"$f":"SUM(AR9:AR1000)","v":8586416.1202882007},{"$f":"SUM(AS9:AS1000)","v":6331809.4842762575},{"$f":"SUM(AT9:AT1000)","v":19965482.0083188},{"$f":"COUNTIF(AU9:AU1000,\"Y\")","v":27},{"$f":"SUM(AV9:AV1000)","v":0},2082171,0,{"$f":"SUM(AY9:AY1000)","v":2082171},0,1830677.5,0,1830677.5,{"$f":"IF(AT6<>0,BC6/AT6,0)","v":9.1692126402820207E-2}]
["Country","Province/State","District",null,"Male","Female","Total treated","Total in need treated","(%)",null,"Male","Female","Total treated","Total in need treated","(%)",null,"Male","Female","Total treated","PreSAC in need treated ","PreSAC (%)","SAC in need treated","SAC (%)","Total in need treated ","(%)",null,"Male","Female","Total treated","SAC in need treated","SAC (%)","Adults in need treated","Adults (%)","Total in need treated ","(%)",null,"LF","ONCHO","STH","SCH-SAC","SCH_Adults","<1","PreSAC","SAC","Adults","Total","Dis","PreSAC","SAC","Adults","Total","PreSAC","SAC","Adults","Total","Coverage"]
[]
[{"$f":"IF(COUNTRY_INFO!A9=0,\" \",COUNTRY_INFO!A9)","v":"Angola"},{"$f":"IF(COUNTRY_INFO!B9=0,\" \",COUNTRY_INFO!B9)","v":"BENGO"},{"$f":"IF(COUNTRY_INFO!C9=0,\" \",COUNTRY_INFO!C9)","v":"AMBRIZ"},{"$f":"COUNTRY_INFO!M9","v":0},null,null,{"$f":"MAX('MDA1'!M9,'MDA4'!U9)","v":0},{"$f":"IF(AND(COUNTRY_INFO!H9>0,COUNTRY_INFO!H9<4),IF(D9>MAX('MDA1'!M9,'MDA4'!U9),MAX('MDA1'!M9,'MDA4'!U9),D9),0)","v":0},{"$f":"IF(AND(COUNTRY_INFO!H9>0,COUNTRY_INFO!H9<4), IF(G9/D9*100<>0, IF(G9/D9*100>100,100,G9/D9*100), \"-\"),0)","v":0},{"$f":"COUNTRY_INFO!N9","v":"Unknown"},null,null,{"$f":"MAX('MDA1'!M9,MAX('MDA3'!I9,'MDA3'!L9)+MAX('MDA3'!J9,'MDA3'!M9))","v":0},{"$f":"IF(AND(COUNTRY_INFO!I9>0,COUNTRY_INFO!I9<4),IF(J9>MAX('MDA1'!M9,MAX('MDA3'!I9,'MDA3'!L9)+MAX('MDA3'!J9,'MDA3'!M9)),MAX('MDA1'!M9,MAX('MDA3'!I9,'MDA3'!L9)+MAX('MDA3'!J9,'MDA3'!M9)),J9),0)","v":0},{"$f":"IF(AND(COUNTRY_INFO!I9>0,COUNTRY_INFO!I9<4), IF(M9/J9*100<>0, IF(M9/J9*100>100,100,M9/J9*100), \"-\"),0)","v":0},{"$f":"COUNTRY_INFO!O9","v":11699},null,null,{"$f":"SUM(MAX('MDA4'!R9, 'T1'!L9, MAX(T3_R1!K9, T3_R2!K9)), MAX('MDA1'!K9, 'MDA4'!S9, 'T1'!M9, MAX(T3_R1!L9, T3_R2!L9)), MAX('MDA1'!L9, 'MDA4'!T9, 'T1'!N9, MAX(T3_R1!M9, T3_R2!M9)))","v":0},{"$f":"IF(AND(COUNTRY_INFO!J9>1,COUNTRY_INFO!J9<4),IF(COUNTRY_INFO!E9>MAX('MDA4'!R9,'T1'!L9,MAX(T3_R1!K9,T3_R2!K9)),MAX('MDA4'!R9,'T1'!L9,MAX(T3_R1!K9,T3_R2!K9)),COUNTRY_INFO!E9),0)","v":0},{"$f":"IF(AND(COUNTRY_INFO!J9>1,COUNTRY_INFO!J9<4), IF(T9/COUNTRY_INFO!E9*100<>0, IF(T9/COUNTRY_INFO!E9*100>100,100,T9/COUNTRY_INFO!E9*100), \"-\"),0)","v":"-"},{"$f":"IF(AND(COUNTRY_INFO!J9>1,COUNTRY_INFO!J9<4),IF(COUNTRY_INFO!F9>MAX('MDA1'!K9,'MDA4'!S9,'T1'!M9,MAX(T3_R1!L9,T3_R2!L9)),MAX('MDA1'!K9,'MDA4'!S9,'T1'!M9,MAX(T3_R1!L9,T3_R2!L9)),COUNTRY_INFO!F9),0)","v":0},{"$f":"IF(AND(COUNTRY_INFO!J9>1,COUNTRY_INFO!J9<4), IF(V9/COUNTRY_INFO!F9*100<>0, IF(V9/COUNTRY_INFO!F9*100>100,100,V9/COUNTRY_INFO!F9*100), \"-\"),0)","v":"-"},{"$f":"SUM(T9,V9)","v":0},{"$f":"IF(AND(COUNTRY_INFO!J9>1,COUNTRY_INFO!J9<4), IF(S9/P9*100<>0, IF(X9/P9*100>100,100,X9/P9*100), \"-\"),0)","v":"-"},{"$f":"COUNTRY_INFO!P9","v":6526.3},null,null,{"$f":"MAX('T1'!L9,'T2'!J9)+MAX('T1'!M9,'T2'!K9)+MAX('T1'!N9,'T2'!L9)","v":0},{"$f":"IF(COUNTRY_INFO!K9=1,IF(COUNTRY_INFO!F9*0.33>MAX('T1'!M9,'T2'!K9),MAX('T1'!M9,'T2'!K9),COUNTRY_INFO!F9*0.33),IF(COUNTRY_INFO!K9=2,IF(COUNTRY_INFO!F9*0.5>MAX('T1'!M9,'T2'!K9),MAX('T1'!M9,'T2'!K9),COUNTRY_INFO!F9*0.5),IF(COUNTRY_INFO!K9=3,IF(COUNTRY_INFO!F9>MAX('T1'!M9,'T2'!K9),MAX('T1'!M9,'T2'!K9),COUNTRY_INFO!F9),0)))","v":0},{"$f":"IF(AND(COUNTRY_INFO!K9>0,COUNTRY_INFO!L9<4),IF(Z9>0,IF(COUNTRY_INFO!K9=1, AD9/(COUNTRY_INFO!F9*0.33)*100, IF(COUNTRY_INFO!K9=2, AD9/(COUNTRY_INFO!F9*0.5)*100, IF(COUNTRY_INFO!K9=3, AD9/COUNTRY_INFO!F9*100))),\"-\"),0)","v":0},{"$f":"IF(COUNTRY_INFO!K9=2,IF(COUNTRY_INFO!G9*0.2>MAX('T1'!N9,'T2'!L9),MAX('T1'!N9,'T2'!L9),COUNTRY_INFO!G9*0.2),IF(COUNTRY_INFO!K9=3,IF(COUNTRY_INFO!G9>MAX('T1'!N9,'T2'!L9),MAX('T1'!N9,'T2'!L9),COUNTRY_INFO!G9),0))","v":0},{"$f":"IF(AND(COUNTRY_INFO!K9>0,COUNTRY_INFO!L9<4),IF(Z9>0,IF(COUNTRY_INFO!K9=1, 0, IF(COUNTRY_INFO!K9=2, AF9/(COUNTRY_INFO!G9*0.2)*100, IF(COUNTRY_INFO!K9=3, AF9/COUNTRY_INFO!G9*100))),\"-\"),0)","v":0},{"$f":"SUM(AD9,AF9)","v":0},{"$f":"IF(AND(COUNTRY_INFO!K9>0,COUNTRY_INFO!K9<4), IF(AC9/Z9*100<>0, IF(AH9/Z9*100>100,100,AH9/Z9*100), \"-\"),0)","v":"-"},null,{"$f":"IF(AND(D9<>0, D9<>\"Unknown\",D9<>\"Stopped\",D9<>\"Not required\"),D9/COUNTRY_INFO!D9, 0)","v":0},{"$f":"IF(AND(J9<>0,J9<>\"Unknown\",J9<>\"Stopped\",J9<>\"Not required\"),J9/COUNTRY_INFO!D9, 0)","v":0},{"$f":"IF(AND(P9<>0,P9<>\"Unknown\",P9<>\"Not required\"),P9/(COUNTRY_INFO!E9+COUNTRY_INFO!F9), 0)","v":1},{"$f":"IF(AND(Z9<>0,Z9<>\"Unknown\",Z9<>\"Not required\"),IF(COUNTRY_INFO!K9=1,1,IF(COUNTRY_INFO!K9=2,0.5*COUNTRY_INFO!F9/(0.5*COUNTRY_INFO!F9+0.2*COUNTRY_INFO!G9),IF(COUNTRY_INFO!K9=3,COUNTRY_INFO!F9/(COUNTRY_INFO!F9+COUNTRY_INFO!G9)))),0)","v":0.56961831359269421},{"$f":"IF(AND(Z9<>0,Z9<>\"Unknown\",Z9<>\"Not required\"),IF(COUNTRY_INFO!K9=1,0,IF(COUNTRY_INFO!K9=2,0.2*COUNTRY_INFO!G9/(0.5*COUNTRY_INFO!F9+0.2*COUNTRY_INFO!G9),IF(COUNTRY_INFO!K9=3,COUNTRY_INFO!G9/(COUNTRY_INFO!F9+COUNTRY_INFO!G9)))),0)","v":0.43038168640730584},{"$f":"MAX(COUNTRY_INFO!D9*AK9*PROFILE!$G$7,COUNTRY_INFO!D9*AL9*PROFILE!$G$7)","v":0},{"$f":"MAX(COUNTRY_INFO!D9*AK9*PROFILE!$G$8,COUNTRY_INFO!D9*AL9*PROFILE!$G$8,COUNTRY_INFO!D9*AM9*PROFILE!$G$8)","v":4263.8080758338137},{"$f":"MAX(COUNTRY_INFO!D9*AK9*PROFILE!$G$9,COUNTRY_INFO!D9*AL9*PROFILE!$G$9,COUNTRY_INFO!D9*AM9*PROFILE!$G$9,IF(AND(DISTRICT!Z9<>\"Unknown\",Z9<>\"Not required\"),COUNTRY_INFO!P9*DISTRICT!AN9,0))","v":7435.0188875509421},{"$f":"MAX(COUNTRY_INFO!D9*AK9*PROFILE!$G$10,COUNTRY_INFO!D9*AL9*PROFILE!$G$10,IF(AND(DISTRICT!Z9<>\"Unknown\",Z9<>\"Not required\"),COUNTRY_INFO!P9*DISTRICT!AO9,0))","v":2808.8},{"$f":"SUM(AP9:AS9)","v":14507.626963384755},{"$f":"IF(COUNTIFS(AK9:AN9,\">0\")=0,0, IF(COUNTIFS(AK9:AN9,\">0\")<=IF(AND(OR(D9>=0,D9=\"Not required\",D9=\"Unknown\",D9=\"Stopped\"),D9>0,H9>0),1,0)+IF(AND(OR(J9>=0,J9=\"Not required\",J9=\"Unknown\",J9=\"Stopped\"),J9>0,N9>0),1,0)+IF(AND(OR(P9>=0,P9=\"Not required\",P9=\"Unknown\"),P9>0,X9>0),1,0)+IF(AND(OR(Z9>=0,Z9=\"Not required\",Z9=\"Unknown\"),Z9>0,AH9>0),1,0),\"Y\",0))","v":0},{"$f":"MAX('MDA4'!R9,'T1'!L9,'T2'!J9,T3_R1!K9,T3_R2!K9)","v":0},{"$f":"MAX('MDA1'!K9,'MDA4'!S9,'MDA3'!I9,'MDA3'!L9,'T1'!M9,'T2'!K9,T3_R1!L9,T3_R2!L9)","v":0},{"$f":"MAX('MDA1'!L9,'MDA4'!T9,'MDA3'!J9,'MDA3'!M9,'T1'!N9,'T2'!L9,T3_R1!M9,T3_R2!M9)","v":0},{"$f":"SUM(AV9:AX9)","v":0},{"$f":"MAX('MDA4'!R9,T9)","v":0},{"$f":"MAX('MDA1'!K9,'MDA4'!S9,'MDA3'!I9,'MDA3'!L9,V9,AD9)","v":0},{"$f":"MAX('MDA1'!L9,'MDA4'!T9,'MDA3'!J9,'MDA3'!M9,AF9)","v":0},{"$f":"IF(AT9<SUM(AZ9:BB9), AT9,SUM(AZ9:BB9))","v":0},{"$f":"IF(AT9<>0,BC9/AT9*100,0)","v":0}]
[{"$f":"IF(COUNTRY_INFO!A10=0,\" \",COUNTRY_INFO!A10)","v":"Angola"},{"$f":"IF(COUNTRY_INFO!B10=0,\" \",COUNTRY_INFO!B10)","v":"BENGO"},{"$f":"IF(COUNTRY_INFO!C10=0,\" \",COUNTRY_INFO!C10)","v":"BULA ATUMBA"},{"$f":"COUNTRY_INFO!M10","v":0},null,null,{"$f":"MAX('MDA1'!M10,'MDA4'!U10)","v":0},{"$f":"IF(AND(COUNTRY_INFO!H10>0,COUNTRY_INFO!H10<4),IF(D10>MAX('MDA1'!M10,'MDA4'!U10),MAX('MDA1'!M10,'MDA4'!U10),D10),0)","v":0},{"$f":"IF(AND(COUNTRY_INFO!H10>0,COUNTRY_INFO!H10<4), IF(G10/D10*100<>0, IF(G10/D10*100>100,100,G10/D10*100), \"-\"),0)","v":0},{"$f":"COUNTRY_INFO!N10","v":"Unknown"},null,null,{"$f":"MAX('MDA1'!M10,MAX('MDA3'!I10,'MDA3'!L10)+MAX('MDA3'!J10,'MDA3'!M10))","v":0},{"$f":"IF(AND(COUNTRY_INFO!I10>0,COUNTRY_INFO!I10<4),IF(J10>MAX('MDA1'!M10,MAX('MDA3'!I10,'MDA3'!L10)+MAX('MDA3'!J10,'MDA3'!M10)),MAX('MDA1'!M10,MAX('MDA3'!I10,'MDA3'!L10)+MAX('MDA3'!J10,'MDA3'!M10)),J10),0)","v":0},{"$f":"IF(AND(COUNTRY_INFO!I10>0,COUNTRY_INFO!I10<4), IF(M10/J10*100<>0, IF(M10/J10*100>100,100,M10/J10*100), \"-\"),0)","v":0},{"$f":"COUNTRY_INFO!O10","v":6930},null,null,{"$f":"SUM(MAX('MDA4'!R10, 'T1'!L10, MAX(T3_R1!K10, T3_R2!K10)), MAX('MDA1'!K10, 'MDA4'!S10, 'T1'!M10, MAX(T3_R1!L10, T3_R2!L10)), MAX('MDA1'!L10, 'MDA4'!T10, 'T1'!N10, MAX(T3_R1!M10, T3_R2!M10)))","v":0},{"$f":"IF(AND(COUNTRY_INFO!J10>1,COUNTRY_INFO!J10<4),IF(COUNTRY_INFO!E10>MAX('MDA4'!R10,'T1'!L10,MAX(T3_R1!K10,T3_R2!K10)),MAX('MDA4'!R10,'T1'!L10,MAX(T3_R1!K10,T3_R2!K10)),COUNTRY_INFO!E10),0)","v":0},{"$f":"IF(AND(COUNTRY_INFO!J10>1,COUNTRY_INFO!J10<4), IF(T10/COUNTRY_INFO!E10*100<>0, IF(T10/COUNTRY_INFO!E10*100>100,100,T10/COUNTRY_INFO!E10*100), \"-\"),0)","v":"-"},{"$f":"IF(AND(COUNTRY_INFO!J10>1,COUNTRY_INFO!J10<4),IF(COUNTRY_INFO!F10>MAX('MDA1'!K10,'MDA4'!S10,'T1'!M10,MAX(T3_R1!L10,T3_R2!L10)),MAX('MDA1'!K10,'MDA4'!S10,'T1'!M10,MAX(T3_R1!L10,T3_R2!L10)),COUNTRY_INFO!F10),0)","v":0},{"$f":"IF(AND(COUNTRY_INFO!J10>1,COUNTRY_INFO!J10<4), IF(V10/COUNTRY_INFO!F10*100<>0, IF(V10/COUNTRY_INFO!F10*100>100,100,V10/COUNTRY_INFO!F10*100), \"-\"),0)","v":"-"},{"$f":"SUM(T10,V10)","v":0},{"$f":"IF(AND(COUNTRY_INFO!J10>1,COUNTRY_INFO!J10<4), IF(S10/P10*100<>0, IF(X10/P10*100>100,100,X10/P10*100), \"-\"),0)","v":"-"},{"$f":"COUNTRY_INFO!P10","v":3865.8},null,null,{"$f":"MAX('T1'!L10,'T2'!J10)+MAX('T1'!M10,'T2'!K10)+MAX('T1'!N10,'T2'!L10)","v":0},{"$f":"IF(COUNTRY_INFO!K10=1,IF(COUNTRY_INFO!F10*0.33>MAX('T1'!M10,'T2'!K10),MAX('T1'!M10,'T2'!K10),COUNTRY_INFO!F10*0.33),IF(COUNTRY_INFO!K10=2,IF(COUNTRY_INFO!F10*0.5>MAX('T1'!M10,'T2'!K10),MAX('T1'!M10,'T2'!K10),COUNTRY_INFO!F10*0.5),IF(COUNTRY_INFO!K10=3,IF(COUNTRY_INFO!F10>MAX('T1'!M10,'T2'!K10),MAX('T1'!M10,'T2'!K10),COUNTRY_INFO!F10),0)))","v":0},{"$f":"IF(AND(COUNTRY_INFO!K10>0,COUNTRY_INFO!L10<4),IF(Z10>0,IF(COUNTRY_INFO!K10=1, AD10/(COUNTRY_INFO!F10*0.33)*100, IF(COUNTRY_INFO!K10=2, AD10/(COUNTRY_INFO!F10*0.5)*100, IF(COUNTRY_INFO!K10=3, AD10/COUNTRY_INFO!F10*100))),\"-\"),0)","v":0},{"$f":"IF(COUNTRY_INFO!K10=2,IF(COUNTRY_INFO!G10*0.2>MAX('T1'!N10,'T2'!L10),MAX('T1'!N10,'T2'!L10),COUNTRY_INFO!G10*0.2),IF(COUNTRY_INFO!K10=3,IF(COUNTRY_INFO!G10>MAX('T1'!N10,'T2'!L10),MAX('T1'!N10,'T2'!L10),COUNTRY_INFO!G10),0))","v":0},{"$f":"IF(AND(COUNTRY_INFO!K10>0,COUNTRY_INFO!L10<4),IF(Z10>0,IF(COUNTRY_INFO!K10=1, 0, IF(COUNTRY_INFO!K10=2, AF10/(COUNTRY_INFO!G10*0.2)*100, IF(COUNTRY_INFO!K10=3, AF10/COUNTRY_INFO!G10*100))),\"-\"),0)","v":0},{"$f":"SUM(AD10,AF10)","v":0},{"$f":"IF(AND(COUNTRY_INFO!K10>0,COUNTRY_INFO!K10<4), IF(AC10/Z10*100<>0, IF(AH10/Z10*100>100,100,AH10/Z10*100), \"-\"),0)","v":"-"},null,{"$f":"IF(AND(D10<>0, D10<>\"Unknown\",D10<>\"Stopped\",D10<>\"Not required\"),D10/COUNTRY_INFO!D10, 0)","v":0},{"$f":"IF(AND(J10<>0,J10<>\"Unknown\",J10<>\"Stopped\",J10<>\"Not required\"),J10/COUNTRY_INFO!D10, 0)","v":0},{"$f":"IF(AND(P10<>0,P10<>\"Unknown\",P10<>\"Not required\"),P10/(COUNTRY_INFO!E10+COUNTRY_INFO!F10), 0)","v":1},{"$f":"IF(AND(Z10<>0,Z10<>\"Unknown\",Z10<>\"Not required\"),IF(COUNTRY_INFO!K10=1,1,IF(COUNTRY_INFO!K10=2,0.5*COUNTRY_INFO!F10/(0.5*COUNTRY_INFO!F10+0.2*COUNTRY_INFO!G10),IF(COUNTRY_INFO!K10=3,COUNTRY_INFO!F10/(COUNTRY_INFO!F10+COUNTRY_INFO!G10)))),0)","v":0.56961042992394839},{"$f":"IF(AND(Z10<>0,Z10<>\"Unknown\",Z10<>\"Not required\"),IF(COUNTRY_INFO!K10=1,0,IF(COUNTRY_INFO!K10=2,0.2*COUNTRY_INFO!G10/(0.5*COUNTRY_INFO!F10+0.2*COUNTRY_INFO!G10),IF(COUNTRY_INFO!K10=3,COUNTRY_INFO!G10/(COUNTRY_INFO!F10+COUNTRY_INFO!G10)))),0)","v":0.43038957007605155},{"$f":"MAX(COUNTRY_INFO!D10*AK10*PROFILE!$G$7,COUNTRY_INFO!D10*AL10*PROFILE!$G$7)","v":0},{"$f":"MAX(COUNTRY_INFO!D10*AK10*PROFILE!$G$8,COUNTRY_INFO!D10*AL10*PROFILE!$G$8,COUNTRY_INFO!D10*AM10*PROFILE!$G$8)","v":2525.7693665140946},{"$f":"MAX(COUNTRY_INFO!D10*AK10*PROFILE!$G$9,COUNTRY_INFO!D10*AL10*PROFILE!$G$9,COUNTRY_INFO!D10*AM10*PROFILE!$G$9,IF(AND(DISTRICT!Z10<>\"Unknown\",Z10<>\"Not required\"),COUNTRY_INFO!P10*DISTRICT!AN10,0))","v":4404.3124389358209},{"$f":"MAX(COUNTRY_INFO!D10*AK10*PROFILE!$G$10,COUNTRY_INFO!D10*AL10*PROFILE!$G$10,IF(AND(DISTRICT!Z10<>\"Unknown\",Z10<>\"Not required\"),COUNTRY_INFO!P10*DISTRICT!AO10,0))","v":1663.8000000000002},{"$f":"SUM(AP10:AS10)","v":8593.881805449917},{"$f":"IF(COUNTIFS(AK10:AN10,\">0\")=0,0, IF(COUNTIFS(AK10:AN10,\">0\")<=IF(AND(OR(D10>=0,D10=\"Not required\",D10=\"Unknown\",D10=\"Stopped\"),D10>0,H10>0),1,0)+IF(AND(OR(J10>=0,J10=\"Not required\",J10=\"Unknown\",J10=\"Stopped\"),J10>0,N10>0),1,0)+IF(AND(OR(P10>=0,P10=\"Not required\",P10=\"Unknown\"),P10>0,X10>0),1,0)+IF(AND(OR(Z10>=0,Z10=\"Not required\",Z10=\"Unknown\"),Z10>0,AH10>0),1,0),\"Y\",0))","v":0},{"$f":"MAX('MDA4'!R10,'T1'!L10,'T2'!J10,T3_R1!K10,T3_R2!K10)","v":0},{"$f":"MAX('MDA1'!K10,'MDA4'!S10,'MDA3'!I10,'MDA3'!L10,'T1'!M10,'T2'!K10,T3_R1!L10,T3_R2!L10)","v":0},{"$f":"MAX('MDA1'!L10,'MDA4'!T10,'MDA3'!J10,'MDA3'!M10,'T1'!N10,'T2'!L10,T3_R1!M10,T3_R2!M10)","v":0},{"$f":"SUM(AV10:AX10)","v":0},{"$f":"MAX('MDA4'!R10,T10)","v":0},{"$f":"MAX('MDA1'!K10,'MDA4'!S10,'MDA3'!I10,'MDA3'!L10,V10,AD10)","v":0},{"$f":"MAX('MDA1'!L10,'MDA4'!T10,'MDA3'!J10,'MDA3'!M10,AF10)","v":0},{"$f":"IF(AT10<SUM(AZ10:BB10), AT10,SUM(AZ10:BB10))","v":0},{"$f":"IF(AT10<>0,BC10/AT10*100,0)","v":0}]
[{"$f":"IF(COUNTRY_INFO!A11=0,\" \",COUNTRY_INFO!A11)","v":"Angola"},{"$f":"IF(COUNTRY_INFO!B11=0,\" \",COUNTRY_INFO!B11)","v":"BENGO"},{"$f":"IF(COUNTRY_INFO!C11=0,\" \",COUNTRY_INFO!C11)","v":"DANDE"},{"$f":"COUNTRY_INFO!M11","v":0},null,null,{"$f":"MAX('MDA1'!M11,'MDA4'!U11)","v":0},{"$f":"IF(AND(COUNTRY_INFO!H11>0,COUNTRY_INFO!H11<4),IF(D11>MAX('MDA1'!M11,'MDA4'!U11),MAX('MDA1'!M11,'MDA4'!U11),D11),0)","v":0},{"$f":"IF(AND(COUNTRY_INFO!H11>0,COUNTRY_INFO!H11<4), IF(G11/D11*100<>0, IF(G11/D11*100>100,100,G11/D11*100), \"-\"),0)","v":0},{"$f":"COUNTRY_INFO!N11","v":"Unknown"},null,null,{"$f":"MAX('MDA1'!M11,MAX('MDA3'!I11,'MDA3'!L11)+MAX('MDA3'!J11,'MDA3'!M11))","v":0},{"$f":"IF(AND(COUNTRY_INFO!I11>0,COUNTRY_INFO!I11<4),IF(J11>MAX('MDA1'!M11,MAX('MDA3'!I11,'MDA3'!L11)+MAX('MDA3'!J11,'MDA3'!M11)),MAX('MDA1'!M11,MAX('MDA3'!I11,'MDA3'!L11)+MAX('MDA3'!J11,'MDA3'!M11)),J11),0)","v":0},{"$f":"IF(AND(COUNTRY_INFO!I11>0,COUNTRY_INFO!I11<4), IF(M11/J11*100<>0, IF(M11/J11*100>100,100,M11/J11*100), \"-\"),0)","v":0},{"$f":"COUNTRY_INFO!O11","v":114623},null,null,{"$f":"SUM(MAX('MDA4'!R11, 'T1'!L11, MAX(T3_R1!K11, T3_R2!K11)), MAX('MDA1'!K11, 'MDA4'!S11, 'T1'!M11, MAX(T3_R1!L11, T3_R2!L11)), MAX('MDA1'!L11, 'MDA4'!T11, 'T1'!N11, MAX(T3_R1!M11, T3_R2!M11)))","v":0},{"$f":"IF(AND(COUNTRY_INFO!J11>1,COUNTRY_INFO!J11<4),IF(COUNTRY_INFO!E11>MAX('MDA4'!R11,'T1'!L11,MAX(T3_R1!K11,T3_R2!K11)),MAX('MDA4'!R11,'T1'!L11,MAX(T3_R1!K11,T3_R2!K11)),COUNTRY_INFO!E11),0)","v":0},{"$f":"IF(AND(COUNTRY_INFO!J11>1,COUNTRY_INFO!J11<4), IF(T11/COUNTRY_INFO!E11*100<>0, IF(T11/COUNTRY_INFO!E11*100>100,100,T11/COUNTRY_INFO!E11*100), \"-\"),0)","v":"-"},{"$f":"IF(AND(COUNTRY_INFO!J11>1,COUNTRY_INFO!J11<4),IF(COUNTRY_INFO!F11>MAX('MDA1'!K11,'MDA4'!S11,'T1'!M11,MAX(T3_R1!L11,T3_R2!L11)),MAX('MDA1'!K11,'MDA4'!S11,'T1'!M11,MAX(T3_R1!L11,T3_R2!L11)),COUNTRY_INFO!F11),0)","v":0},{"$f":"IF(AND(COUNTRY_INFO!J11>1,COUNTRY_INFO!J11<4), IF(V11/COUNTRY_INFO!F11*100<>0, IF(V11/COUNTRY_INFO!F11*100>100,100,V11/COUNTRY_INFO!F11*100), \"-\"),0)","v":"-"},0,{"$f":"IF(AND(COUNTRY_INFO!J11>1,COUNTRY_INFO!J11<4), IF(S11/P11*100<>0, IF(X11/P11*100>100,100,X11/P11*100), \"-\"),0)","v":"-"},{"$f":"COUNTRY_INFO!P11","v":63943.5},null,null,{"$f":"MAX('T1'!L11,'T2'!J11)+MAX('T1'!M11,'T2'!K11)+MAX('T1'!N11,'T2'!L11)","v":0},{"$f":"IF(COUNTRY_INFO!K11=1,IF(COUNTRY_INFO!F11*0.33>MAX('T1'!M11,'T2'!K11),MAX('T1'!M11,'T2'!K11),COUNTRY_INFO!F11*0.33),IF(COUNTRY_INFO!K11=2,IF(COUNTRY_INFO!F11*0.5>MAX('T1'!M11,'T2'!K11),MAX('T1'!M11,'T2'!K11),COUNTRY_INFO!F11*0.5),IF(COUNTRY_INFO!K11=3,IF(COUNTRY_INFO!F11>MAX('T1'!M11,'T2'!K11),MAX('T1'!M11,'T2'!K11),COUNTRY_INFO!F11),0)))","v":0},{"$f":"IF(AND(COUNTRY_INFO!K11>0,COUNTRY_INFO!L11<4),IF(Z11>0,IF(COUNTRY_INFO!K11=1, AD11/(COUNTRY_INFO!F11*0.33)*100, IF(COUNTRY_INFO!K11=2, AD11/(COUNTRY_INFO!F11*0.5)*100, IF(COUNTRY_INFO!K11=3, AD11/COUNTRY_INFO!F11*100))),\"-\"),0)","v":0},{"$f":"IF(COUNTRY_INFO!K11=2,IF(COUNTRY_INFO!G11*0.2>MAX('T1'!N11,'T2'!L11),MAX('T1'!N11,'T2'!L11),COUNTRY_INFO!G11*0.2),IF(COUNTRY_INFO!K11=3,IF(COUNTRY_INFO!G11>MAX('T1'!N11,'T2'!L11),MAX('T1'!N11,'T2'!L11),COUNTRY_INFO!G11),0))","v":0},{"$f":"IF(AND(COUNTRY_INFO!K11>0,COUNTRY_INFO!L11<4),IF(Z11>0,IF(COUNTRY_INFO!K11=1, 0, IF(COUNTRY_INFO!K11=2, AF11/(COUNTRY_INFO!G11*0.2)*100, IF(COUNTRY_INFO!K11=3, AF11/COUNTRY_INFO!G11*100))),\"-\"),0)","v":0},0,{"$f":"IF(AND(COUNTRY_INFO!K11>0,COUNTRY_INFO!K11<4), IF(AC11/Z11*100<>0, IF(AH11/Z11*100>100,100,AH11/Z11*100), \"-\"),0)","v":"-"},null,{"$f":"IF(AND(D11<>0, D11<>\"Unknown\",D11<>\"Stopped\",D11<>\"Not required\"),D11/COUNTRY_INFO!D11, 0)","v":0},{"$f":"IF(AND(J11<>0,J11<>\"Unknown\",J11<>\"Stopped\",J11<>\"Not required\"),J11/COUNTRY_INFO!D11, 0)","v":0},{"$f":"IF(AND(P11<>0,P11<>\"Unknown\",P11<>\"Not required\"),P11/(COUNTRY_INFO!E11+COUNTRY_INFO!F11), 0)","v":1},{"$f":"IF(AND(Z11<>0,Z11<>\"Unknown\",Z11<>\"Not required\"),IF(COUNTRY_INFO!K11=1,1,IF(COUNTRY_INFO!K11=2,0.5*COUNTRY_INFO!F11/(0.5*COUNTRY_INFO!F11+0.2*COUNTRY_INFO!G11),IF(COUNTRY_INFO!K11=3,COUNTRY_INFO!F11/(COUNTRY_INFO!F11+COUNTRY_INFO!G11)))),0)","v":0.5696200552049856},{"$f":"IF(AND(Z11<>0,Z11<>\"Unknown\",Z11<>\"Not required\"),IF(COUNTRY_INFO!K11=1,0,IF(COUNTRY_INFO!K11=2,0.2*COUNTRY_INFO!G11/(0.5*COUNTRY_INFO!F11+0.2*COUNTRY_INFO!G11),IF(COUNTRY_INFO!K11=3,COUNTRY_INFO!G11/(COUNTRY_INFO!F11+COUNTRY_INFO!G11)))),0)","v":0.43037994479501435},{"$f":"MAX(COUNTRY_INFO!D11*AK11*PROFILE!$G$7,COUNTRY_INFO!D11*AL11*PROFILE!$G$7)","v":0},{"$f":"MAX(COUNTRY_INFO!D11*AK11*PROFILE!$G$8,COUNTRY_INFO!D11*AL11*PROFILE!$G$8,COUNTRY_INFO!D11*AM11*PROFILE!$G$8)","v":41776.007551036761},{"$f":"MAX(COUNTRY_INFO!D11*AK11*PROFILE!$G$9,COUNTRY_INFO!D11*AL11*PROFILE!$G$9,COUNTRY_INFO!D11*AM11*PROFILE!$G$9,IF(AND(DISTRICT!Z11<>\"Unknown\",Z11<>\"Not required\"),COUNTRY_INFO!P11*DISTRICT!AN11,0))","v":72846.948001450161},{"$f":"MAX(COUNTRY_INFO!D11*AK11*PROFILE!$G$10,COUNTRY_INFO!D11*AL11*PROFILE!$G$10,IF(AND(DISTRICT!Z11<>\"Unknown\",Z11<>\"Not required\"),COUNTRY_INFO!P11*DISTRICT!AO11,0))","v":27520},142142.95555248694,0,{"$f":"MAX('MDA4'!R11,'T1'!L11,'T2'!J11,T3_R1!K11,T3_R2!K11)","v":0},{"$f":"MAX('MDA1'!K11,'MDA4'!S11,'MDA3'!I11,'MDA3'!L11,'T1'!M11,'T2'!K11,T3_R1!L11,T3_R2!L11)","v":0},{"$f":"MAX('MDA1'!L11,'MDA4'!T11,'MDA3'!J11,'MDA3'!M11,'T1'!N11,'T2'!L11,T3_R1!M11,T3_R2!M11)","v":0},0,{"$f":"MAX('MDA4'!R11,T11)","v":0},{"$f":"MAX('MDA1'!K11,'MDA4'!S11,'MDA3'!I11,'MDA3'!L11,V11,AD11)","v":0},{"$f":"MAX('MDA1'!L11,'MDA4'!T11,'MDA3'!J11,'MDA3'!M11,AF11)","v":0},0,0]
[{"$f":"IF(COUNTRY_INFO!A12=0,\" \",COUNTRY_INFO!A12)","v":"Angola"},{"$f":"IF(COUNTRY_INFO!B12=0,\" \",COUNTRY_INFO!B12)","v":"BENGO"},{"$f":"IF(COUNTRY_INFO!C12=0,\" \",COUNTRY_INFO!C12)","v":"DEMBOS"},{"$f":"COUNTRY_INFO!M12","v":0},null,null,{"$f":"MAX('MDA1'!M12,'MDA4'!U12)","v":0},{"$f":"IF(AND(COUNTRY_INFO!H12>0,COUNTRY_INFO!H12<4),IF(D12>MAX('MDA1'!M12,'MDA4'!U12),MAX('MDA1'!M12,'MDA4'!U12),D12),0)","v":0},{"$f":"IF(AND(COUNTRY_INFO!H12>0,COUNTRY_INFO!H12<4), IF(G12/D12*100<>0, IF(G12/D12*100>100,100,G12/D12*100), \"-\"),0)","v":0},{"$f":"COUNTRY_INFO!N12","v":"Unknown"},null,null,{"$f":"MAX('MDA1'!M12,MAX('MDA3'!I12,'MDA3'!L12)+MAX('MDA3'!J12,'MDA3'!M12))","v":0},{"$f":"IF(AND(COUNTRY_INFO!I12>0,COUNTRY_INFO!I12<4),IF(J12>MAX('MDA1'!M12,MAX('MDA3'!I12,'MDA3'!L12)+MAX('MDA3'!J12,'MDA3'!M12)),MAX('MDA1'!M12,MAX('MDA3'!I12,'MDA3'!L12)+MAX('MDA3'!J12,'MDA3'!M12)),J12),0)","v":0},{"$f":"IF(AND(COUNTRY_INFO!I12>0,COUNTRY_INFO!I12<4), IF(M12/J12*100<>0, IF(M12/J12*100>100,100,M12/J12*100), \"-\"),0)","v":0},{"$f":"COUNTRY_INFO!O12","v":15483},null,null,{"$f":"SUM(MAX('MDA4'!R12, 'T1'!L12, MAX(T3_R1!K12, T3_R2!K12)), MAX('MDA1'!K12, 'MDA4'!S12, 'T1'!M12, MAX(T3_R1!L12, T3_R2!L12)), MAX('MDA1'!L12, 'MDA4'!T12, 'T1'!N12, MAX(T3_R1!M12, T3_R2!M12)))","v":0},{"$f":"IF(AND(COUNTRY_INFO!J12>1,COUNTRY_INFO!J12<4),IF(COUNTRY_INFO!E12>MAX('MDA4'!R12,'T1'!L12,MAX(T3_R1!K12,T3_R2!K12)),MAX('MDA4'!R12,'T1'!L12,MAX(T3_R1!K12,T3_R2!K12)),COUNTRY_INFO!E12),0)","v":0},{"$f":"IF(AND(COUNTRY_INFO!J12>1,COUNTRY_INFO!J12<4), IF(T12/COUNTRY_INFO!E12*100<>0, IF(T12/COUNTRY_INFO!E12*100>100,100,T12/COUNTRY_INFO!E12*100), \"-\"),0)","v":"-"},{"$f":"IF(AND(COUNTRY_INFO!J12>1,COUNTRY_INFO!J12<4),IF(COUNTRY_INFO!F12>MAX('MDA1'!K12,'MDA4'!S12,'T1'!M12,MAX(T3_R1!L12,T3_R2!L12)),MAX('MDA1'!K12,'MDA4'!S12,'T1'!M12,MAX(T3_R1!L12,T3_R2!L12)),COUNTRY_INFO!F12),0)","v":0},{"$f":"IF(AND(COUNTRY_INFO!J12>1,COUNTRY_INFO!J12<4), IF(V12/COUNTRY_INFO!F12*100<>0, IF(V12/COUNTRY_INFO!F12*100>100,100,V12/COUNTRY_INFO!F12*100), \"-\"),0)","v":"-"},0,{"$f":"IF(AND(COUNTRY_INFO!J12>1,COUNTRY_INFO!J12<4), IF(S12/P12*100<>0, IF(X12/P12*100>100,100,X12/P12*100), \"-\"),0)","v":"-"},{"$f":"COUNTRY_INFO!P12","v":8637.2000000000007},null,null,{"$f":"MAX('T1'!L12,'T2'!J12)+MAX('T1'!M12,'T2'!K12)+MAX('T1'!N12,'T2'!L12)","v":0},{"$f":"IF(COUNTRY_INFO!K12=1,IF(COUNTRY_INFO!F12*0.33>MAX('T1'!M12,'T2'!K12),MAX('T1'!M12,'T2'!K12),COUNTRY_INFO!F12*0.33),IF(COUNTRY_INFO!K12=2,IF(COUNTRY_INFO!F12*0.5>MAX('T1'!M12,'T2'!K12),MAX('T1'!M12,'T2'!K12),COUNTRY_INFO!F12*0.5),IF(COUNTRY_INFO!K12=3,IF(COUNTRY_INFO!F12>MAX('T1'!M12,'T2'!K12),MAX('T1'!M12,'T2'!K12),COUNTRY_INFO!F12),0)))","v":0},{"$f":"IF(AND(COUNTRY_INFO!K12>0,COUNTRY_INFO!L12<4),IF(Z12>0,IF(COUNTRY_INFO!K12=1, AD12/(COUNTRY_INFO!F12*0.33)*100, IF(COUNTRY_INFO!K12=2, AD12/(COUNTRY_INFO!F12*0.5)*100, IF(COUNTRY_INFO!K12=3, AD12/COUNTRY_INFO!F12*100))),\"-\"),0)","v":0},{"$f":"IF(COUNTRY_INFO!K12=2,IF(COUNTRY_INFO!G12*0.2>MAX('T1'!N12,'T2'!L12),MAX('T1'!N12,'T2'!L12),COUNTRY_INFO!G12*0.2),IF(COUNTRY_INFO!K12=3,IF(COUNTRY_INFO!G12>MAX('T1'!N12,'T2'!L12),MAX('T1'!N12,'T2'!L12),COUNTRY_INFO!G12),0))","v":0},{"$f":"IF(AND(COUNTRY_INFO!K12>0,COUNTRY_INFO!L12<4),IF(Z12>0,IF(COUNTRY_INFO!K12=1, 0, IF(COUNTRY_INFO!K12=2, AF12/(COUNTRY_INFO!G12*0.2)*100, IF(COUNTRY_INFO!K12=3, AF12/COUNTRY_INFO!G12*100))),\"-\"),0)","v":0},0,{"$f":"IF(AND(COUNTRY_INFO!K12>0,COUNTRY_INFO!K12<4), IF(AC12/Z12*100<>0, IF(AH12/Z12*100>100,100,AH12/Z12*100), \"-\"),0)","v":"-"},null,{"$f":"IF(AND(D12<>0, D12<>\"Unknown\",D12<>\"Stopped\",D12<>\"Not required\"),D12/COUNTRY_INFO!D12, 0)","v":0},{"$f":"IF(AND(J12<>0,J12<>\"Unknown\",J12<>\"Stopped\",J12<>\"Not required\"),J12/COUNTRY_INFO!D12, 0)","v":0},{"$f":"IF(AND(P12<>0,P12<>\"Unknown\",P12<>\"Not required\"),P12/(COUNTRY_INFO!E12+COUNTRY_INFO!F12), 0)","v":1},{"$f":"IF(AND(Z12<>0,Z12<>\"Unknown\",Z12<>\"Not required\"),IF(COUNTRY_INFO!K12=1,1,IF(COUNTRY_INFO!K12=2,0.5*COUNTRY_INFO!F12/(0.5*COUNTRY_INFO!F12+0.2*COUNTRY_INFO!G12),IF(COUNTRY_INFO!K12=3,COUNTRY_INFO!F12/(COUNTRY_INFO!F12+COUNTRY_INFO!G12)))),0)","v":0.56962904645023849},{"$f":"IF(AND(Z12<>0,Z12<>\"Unknown\",Z12<>\"Not required\"),IF(COUNTRY_INFO!K12=1,0,IF(COUNTRY_INFO!K12=2,0.2*COUNTRY_INFO!G12/(0.5*COUNTRY_INFO!F12+0.2*COUNTRY_INFO!G12),IF(COUNTRY_INFO!K12=3,COUNTRY_INFO!G12/(COUNTRY_INFO!F12+COUNTRY_INFO!G12)))),0)","v":0.43037095354976151},{"$f":"MAX(COUNTRY_INFO!D12*AK12*PROFILE!$G$7,COUNTRY_INFO!D12*AL12*PROFILE!$G$7)","v":0},{"$f":"MAX(COUNTRY_INFO!D12*AK12*PROFILE!$G$8,COUNTRY_INFO!D12*AL12*PROFILE!$G$8,COUNTRY_INFO!D12*AM12*PROFILE!$G$8)","v":5642.8999270611466},{"$f":"MAX(COUNTRY_INFO!D12*AK12*PROFILE!$G$9,COUNTRY_INFO!D12*AL12*PROFILE!$G$9,COUNTRY_INFO!D12*AM12*PROFILE!$G$9,IF(AND(DISTRICT!Z12<>\"Unknown\",Z12<>\"Not required\"),COUNTRY_INFO!P12*DISTRICT!AN12,0))","v":9839.8114530647308},{"$f":"MAX(COUNTRY_INFO!D12*AK12*PROFILE!$G$10,COUNTRY_INFO!D12*AL12*PROFILE!$G$10,IF(AND(DISTRICT!Z12<>\"Unknown\",Z12<>\"Not required\"),COUNTRY_INFO!P12*DISTRICT!AO12,0))","v":3717.2000000000003},19199.911380125879,0,{"$f":"MAX('MDA4'!R12,'T1'!L12,'T2'!J12,T3_R1!K12,T3_R2!K12)","v":0},{"$f":"MAX('MDA1'!K12,'MDA4'!S12,'MDA3'!I12,'MDA3'!L12,'T1'!M12,'T2'!K12,T3_R1!L12,T3_R2!L12)","v":0},{"$f":"MAX('MDA1'!L12,'MDA4'!T12,'MDA3'!J12,'MDA3'!M12,'T1'!N12,'T2'!L12,T3_R1!M12,T3_R2!M12)","v":0},0,{"$f":"MAX('MDA4'!R12,T12)","v":0},{"$f":"MAX('MDA1'!K12,'MDA4'!S12,'MDA3'!I12,'MDA3'!L12,V12,AD12)","v":0},{"$f":"MAX('MDA1'!L12,'MDA4'!T12,'MDA3'!J12,'MDA3'!M12,AF12)","v":0},0,0]
[{"$f":"IF(COUNTRY_INFO!A13=0,\" \",COUNTRY_INFO!A13)","v":"Angola"},{"$f":"IF(COUNTRY_INFO!B13=0,\" \",COUNTRY_INFO!B13)","v":"BENGO"},{"$f":"IF(COUNTRY_INFO!C13=0,\" \",COUNTRY_INFO!C13)","v":"NAMBUANGONGO"},{"$f":"COUNTRY_INFO!M13","v":71436.259407830352},null,null,{"$f":"MAX('MDA1'!M13,'MDA4'!U13)","v":0},{"$f":"IF(AND(COUNTRY_INFO!H13>0,COUNTRY_INFO!H13<4),IF(D13>MAX('MDA1'!M13,'MDA4'!U13),MAX('MDA1'!M13,'MDA4'!U13),D13),0)","v":0},{"$f":"IF(AND(COUNTRY_INFO!H13>0,COUNTRY_INFO!H13<4), IF(G13/D13*100<>0, IF(G13/D13*100>100,100,G13/D13*100), \"-\"),0)","v":"-"},{"$f":"COUNTRY_INFO!N13","v":"Unknown"},null,null,{"$f":"MAX('MDA1'!M13,MAX('MDA3'!I13,'MDA3'!L13)+MAX('MDA3'!J13,'MDA3'!M13))","v":0},{"$f":"IF(AND(COUNTRY_INFO!I13>0,COUNTRY_INFO!I13<4),IF(J13>MAX('MDA1'!M13,MAX('MDA3'!I13,'MDA3'!L13)+MAX('MDA3'!J13,'MDA3'!M13)),MAX('MDA1'!M13,MAX('MDA3'!I13,'MDA3'!L13)+MAX('MDA3'!J13,'MDA3'!M13)),J13),0)","v":0},{"$f":"IF(AND(COUNTRY_INFO!I13>0,COUNTRY_INFO!I13<4), IF(M13/J13*100<>0, IF(M13/J13*100>100,100,M13/J13*100), \"-\"),0)","v":0},{"$f":"COUNTRY_INFO!O13","v":31361},null,null,{"$f":"SUM(MAX('MDA4'!R13, 'T1'!L13, MAX(T3_R1!K13, T3_R2!K13)), MAX('MDA1'!K13, 'MDA4'!S13, 'T1'!M13, MAX(T3_R1!L13, T3_R2!L13)), MAX('MDA1'!L13, 'MDA4'!T13, 'T1'!N13, MAX(T3_R1!M13, T3_R2!M13)))","v":0},{"$f":"IF(AND(COUNTRY_INFO!J13>1,COUNTRY_INFO!J13<4),IF(COUNTRY_INFO!E13>MAX('MDA4'!R13,'T1'!L13,MAX(T3_R1!K13,T3_R2!K13)),MAX('MDA4'!R13,'T1'!L13,MAX(T3_R1!K13,T3_R2!K13)),COUNTRY_INFO!E13),0)","v":0},{"$f":"IF(AND(COUNTRY_INFO!J13>1,COUNTRY_INFO!J13<4), IF(T13/COUNTRY_INFO!E13*100<>0, IF(T13/COUNTRY_INFO!E13*100>100,100,T13/COUNTRY_INFO!E13*100), \"-\"),0)","v":"-"},{"$f":"IF(AND(COUNTRY_INFO!J13>1,COUNTRY_INFO!J13<4),IF(COUNTRY_INFO!F13>MAX('MDA1'!K13,'MDA4'!S13,'T1'!M13,MAX(T3_R1!L13,T3_R2!L13)),MAX('MDA1'!K13,'MDA4'!S13,'T1'!M13,MAX(T3_R1!L13,T3_R2!L13)),COUNTRY_INFO!F13),0)","v":0},{"$f":"IF(AND(COUNTRY_INFO!J13>1,COUNTRY_INFO!J13<4), IF(V13/COUNTRY_INFO!F13*100<>0, IF(V13/COUNTRY_INFO!F13*100>100,100,V13/COUNTRY_INFO!F13*100), \"-\"),0)","v":"-"},0,{"$f":"IF(AND(COUNTRY_INFO!J13>1,COUNTRY_INFO!J13<4), IF(S13/P13*100<>0, IF(X13/P13*100>100,100,X13/P13*100), \"-\"),0)","v":"-"},{"$f":"COUNTRY_INFO!P13","v":17494.900000000001},null,null,{"$f":"MAX('T1'!L13,'T2'!J13)+MAX('T1'!M13,'T2'!K13)+MAX('T1'!N13,'T2'!L13)","v":0},{"$f":"IF(COUNTRY_INFO!K13=1,IF(COUNTRY_INFO!F13*0.33>MAX('T1'!M13,'T2'!K13),MAX('T1'!M13,'T2'!K13),COUNTRY_INFO!F13*0.33),IF(COUNTRY_INFO!K13=2,IF(COUNTRY_INFO!F13*0.5>MAX('T1'!M13,'T2'!K13),MAX('T1'!M13,'T2'!K13),COUNTRY_INFO!F13*0.5),IF(COUNTRY_INFO!K13=3,IF(COUNTRY_INFO!F13>MAX('T1'!M13,'T2'!K13),MAX('T1'!M13,'T2'!K13),COUNTRY_INFO!F13),0)))","v":0},{"$f":"IF(AND(COUNTRY_INFO!K13>0,COUNTRY_INFO!L13<4),IF(Z13>0,IF(COUNTRY_INFO!K13=1, AD13/(COUNTRY_INFO!F13*0.33)*100, IF(COUNTRY_INFO!K13=2, AD13/(COUNTRY_INFO!F13*0.5)*100, IF(COUNTRY_INFO!K13=3, AD13/COUNTRY_INFO!F13*100))),\"-\"),0)","v":0},{"$f":"IF(COUNTRY_INFO!K13=2,IF(COUNTRY_INFO!G13*0.2>MAX('T1'!N13,'T2'!L13),MAX('T1'!N13,'T2'!L13),COUNTRY_INFO!G13*0.2),IF(COUNTRY_INFO!K13=3,IF(COUNTRY_INFO!G13>MAX('T1'!N13,'T2'!L13),MAX('T1'!N13,'T2'!L13),COUNTRY_INFO!G13),0))","v":0},{"$f":"IF(AND(COUNTRY_INFO!K13>0,COUNTRY_INFO!L13<4),IF(Z13>0,IF(COUNTRY_INFO!K13=1, 0, IF(COUNTRY_INFO!K13=2, AF13/(COUNTRY_INFO!G13*0.2)*100, IF(COUNTRY_INFO!K13=3, AF13/COUNTRY_INFO!G13*100))),\"-\"),0)","v":0},0,{"$f":"IF(AND(COUNTRY_INFO!K13>0,COUNTRY_INFO!K13<4), IF(AC13/Z13*100<>0, IF(AH13/Z13*100>100,100,AH13/Z13*100), \"-\"),0)","v":"-"},null,{"$f":"IF(AND(D13<>0, D13<>\"Unknown\",D13<>\"Stopped\",D13<>\"Not required\"),D13/COUNTRY_INFO!D13, 0)","v":1},{"$f":"IF(AND(J13<>0,J13<>\"Unknown\",J13<>\"Stopped\",J13<>\"Not required\"),J13/COUNTRY_INFO!D13, 0)","v":0},{"$f":"IF(AND(P13<>0,P13<>\"Unknown\",P13<>\"Not required\"),P13/(COUNTRY_INFO!E13+COUNTRY_INFO!F13), 0)","v":1},{"$f":"IF(AND(Z13<>0,Z13<>\"Unknown\",Z13<>\"Not required\"),IF(COUNTRY_INFO!K13=1,1,IF(COUNTRY_INFO!K13=2,0.5*COUNTRY_INFO!F13/(0.5*COUNTRY_INFO!F13+0.2*COUNTRY_INFO!G13),IF(COUNTRY_INFO!K13=3,COUNTRY_INFO!F13/(COUNTRY_INFO!F13+COUNTRY_INFO!G13)))),0)","v":0.56962314731721808},{"$f":"IF(AND(Z13<>0,Z13<>\"Unknown\",Z13<>\"Not required\"),IF(COUNTRY_INFO!K13=1,0,IF(COUNTRY_INFO!K13=2,0.2*COUNTRY_INFO!G13/(0.5*COUNTRY_INFO!F13+0.2*COUNTRY_INFO!G13),IF(COUNTRY_INFO!K13=3,COUNTRY_INFO!G13/(COUNTRY_INFO!F13+COUNTRY_INFO!G13)))),0)","v":0.43037685268278181},{"$f":"MAX(COUNTRY_INFO!D13*AK13*PROFILE!$G$7,COUNTRY_INFO!D13*AL13*PROFILE!$G$7)","v":2428.8501888691749},{"$f":"MAX(COUNTRY_INFO!D13*AK13*PROFILE!$G$8,COUNTRY_INFO!D13*AL13*PROFILE!$G$8,COUNTRY_INFO!D13*AM13*PROFILE!$G$8)","v":11429.791611526507},{"$f":"MAX(COUNTRY_INFO!D13*AK13*PROFILE!$G$9,COUNTRY_INFO!D13*AL13*PROFILE!$G$9,COUNTRY_INFO!D13*AM13*PROFILE!$G$9,IF(AND(DISTRICT!Z13<>\"Unknown\",Z13<>\"Not required\"),COUNTRY_INFO!P13*DISTRICT!AN13,0))","v":19930.708653168542},{"$f":"MAX(COUNTRY_INFO!D13*AK13*PROFILE!$G$10,COUNTRY_INFO!D13*AL13*PROFILE!$G$10,IF(AND(DISTRICT!Z13<>\"Unknown\",Z13<>\"Not required\"),COUNTRY_INFO!P13*DISTRICT!AO13,0))","v":37646.908954266124},71436.259407830352,0,{"$f":"MAX('MDA4'!R13,'T1'!L13,'T2'!J13,T3_R1!K13,T3_R2!K13)","v":0},{"$f":"MAX('MDA1'!K13,'MDA4'!S13,'MDA3'!I13,'MDA3'!L13,'T1'!M13,'T2'!K13,T3_R1!L13,T3_R2!L13)","v":0},{"$f":"MAX('MDA1'!L13,'MDA4'!T13,'MDA3'!J13,'MDA3'!M13,'T1'!N13,'T2'!L13,T3_R1!M13,T3_R2!M13)","v":0},0,{"$f":"MAX('MDA4'!R13,T13)","v":0},{"$f":"MAX('MDA1'!K13,'MDA4'!S13,'MDA3'!I13,'MDA3'!L13,V13,AD13)","v":0},{"$f":"MAX('MDA1'!L13,'MDA4'!T13,'MDA3'!J13,'MDA3'!M13,AF13)","v":0},0,0]
[{"$f":"IF(COUNTRY_INFO!A14=0,\" \",COUNTRY_INFO!A14)","v":"Angola"},{"$f":"IF(COUNTRY_INFO!B14=0,\" \",COUNTRY_INFO!B14)","v":"BENGO"},{"$f":"IF(COUNTRY_INFO!C14=0,\" \",COUNTRY_INFO!C14)","v":"PANGO ALUQUEM"},{"$f":"COUNTRY_INFO!M14","v":0},null,null,{"$f":"MAX('MDA1'!M14,'MDA4'!U14)","v":0},{"$f":"IF(AND(COUNTRY_INFO!H14>0,COUNTRY_INFO!H14<4),IF(D14>MAX('MDA1'!M14,'MDA4'!U14),MAX('MDA1'!M14,'MDA4'!U14),D14),0)","v":0},{"$f":"IF(AND(COUNTRY_INFO!H14>0,COUNTRY_INFO!H14<4), IF(G14/D14*100<>0, IF(G14/D14*100>100,100,G14/D14*100), \"-\"),0)","v":0},{"$f":"COUNTRY_INFO!N14","v":"Unknown"},null,null,{"$f":"MAX('MDA1'!M14,MAX('MDA3'!I14,'MDA3'!L14)+MAX('MDA3'!J14,'MDA3'!M14))","v":0},{"$f":"IF(AND(COUNTRY_INFO!I14>0,COUNTRY_INFO!I14<4),IF(J14>MAX('MDA1'!M14,MAX('MDA3'!I14,'MDA3'!L14)+MAX('MDA3'!J14,'MDA3'!M14)),MAX('MDA1'!M14,MAX('MDA3'!I14,'MDA3'!L14)+MAX('MDA3'!J14,'MDA3'!M14)),J14),0)","v":0},{"$f":"IF(AND(COUNTRY_INFO!I14>0,COUNTRY_INFO!I14<4), IF(M14/J14*100<>0, IF(M14/J14*100>100,100,M14/J14*100), \"-\"),0)","v":0},{"$f":"COUNTRY_INFO!O14","v":3608},null,null,{"$f":"SUM(MAX('MDA4'!R14, 'T1'!L14, MAX(T3_R1!K14, T3_R2!K14)), MAX('MDA1'!K14, 'MDA4'!S14, 'T1'!M14, MAX(T3_R1!L14, T3_R2!L14)), MAX('MDA1'!L14, 'MDA4'!T14, 'T1'!N14, MAX(T3_R1!M14, T3_R2!M14)))","v":0},{"$f":"IF(AND(COUNTRY_INFO!J14>1,COUNTRY_INFO!J14<4),IF(COUNTRY_INFO!E14>MAX('MDA4'!R14,'T1'!L14,MAX(T3_R1!K14,T3_R2!K14)),MAX('MDA4'!R14,'T1'!L14,MAX(T3_R1!K14,T3_R2!K14)),COUNTRY_INFO!E14),0)","v":0},{"$f":"IF(AND(COUNTRY_INFO!J14>1,COUNTRY_INFO!J14<4), IF(T14/COUNTRY_INFO!E14*100<>0, IF(T14/COUNTRY_INFO!E14*100>100,100,T14/COUNTRY_INFO!E14*100), \"-\"),0)","v":"-"},{"$f":"IF(AND(COUNTRY_INFO!J14>1,COUNTRY_INFO!J14<4),IF(COUNTRY_INFO!F14>MAX('MDA1'!K14,'MDA4'!S14,'T1'!M14,MAX(T3_R1!L14,T3_R2!L14)),MAX('MDA1'!K14,'MDA4'!S14,'T1'!M14,MAX(T3_R1!L14,T3_R2!L14)),COUNTRY_INFO!F14),0)","v":0},{"$f":"IF(AND(COUNTRY_INFO!J14>1,COUNTRY_INFO!J14<4), IF(V14/COUNTRY_INFO!F14*100<>0, IF(V14/COUNTRY_INFO!F14*100>100,100,V14/COUNTRY_INFO!F14*100), \"-\"),0)","v":"-"},0,{"$f":"IF(AND(COUNTRY_INFO!J14>1,COUNTRY_INFO!J14<4), IF(S14/P14*100<>0, IF(X14/P14*100>100,100,X14/P14*100), \"-\"),0)","v":"-"},{"$f":"COUNTRY_INFO!P14","v":2012.9},null,null,{"$f":"MAX('T1'!L14,'T2'!J14)+MAX('T1'!M14,'T2'!K14)+MAX('T1'!N14,'T2'!L14)","v":0},{"$f":"IF(COUNTRY_INFO!K14=1,IF(COUNTRY_INFO!F14*0.33>MAX('T1'!M14,'T2'!K14),MAX('T1'!M14,'T2'!K14),COUNTRY_INFO!F14*0.33),IF(COUNTRY_INFO!K14=2,IF(COUNTRY_INFO!F14*0.5>MAX('T1'!M14,'T2'!K14),MAX('T1'!M14,'T2'!K14),COUNTRY_INFO!F14*0.5),IF(COUNTRY_INFO!K14=3,IF(COUNTRY_INFO!F14>MAX('T1'!M14,'T2'!K14),MAX('T1'!M14,'T2'!K14),COUNTRY_INFO!F14),0)))","v":0},{"$f":"IF(AND(COUNTRY_INFO!K14>0,COUNTRY_INFO!L14<4),IF(Z14>0,IF(COUNTRY_INFO!K14=1, AD14/(COUNTRY_INFO!F14*0.33)*100, IF(COUNTRY_INFO!K14=2, AD14/(COUNTRY_INFO!F14*0.5)*100, IF(COUNTRY_INFO!K14=3, AD14/COUNTRY_INFO!F14*100))),\"-\"),0)","v":0},{"$f":"IF(COUNTRY_INFO!K14=2,IF(COUNTRY_INFO!G14*0.2>MAX('T1'!N14,'T2'!L14),MAX('T1'!N14,'T2'!L14),COUNTRY_INFO!G14*0.2),IF(COUNTRY_INFO!K14=3,IF(COUNTRY_INFO!G14>MAX('T1'!N14,'T2'!L14),MAX('T1'!N14,'T2'!L14),COUNTRY_INFO!G14),0))","v":0},{"$f":"IF(AND(COUNTRY_INFO!K14>0,COUNTRY_INFO!L14<4),IF(Z14>0,IF(COUNTRY_INFO!K14=1, 0, IF(COUNTRY_INFO!K14=2, AF14/(COUNTRY_INFO!G14*0.2)*100, IF(COUNTRY_INFO!K14=3, AF14/COUNTRY_INFO!G14*100))),\"-\"),0)","v":0},0,{"$f":"IF(AND(COUNTRY_INFO!K14>0,COUNTRY_INFO!K14<4), IF(AC14/Z14*100<>0, IF(AH14/Z14*100>100,100,AH14/Z14*100), \"-\"),0)","v":"-"},null,{"$f":"IF(AND(D14<>0, D14<>\"Unknown\",D14<>\"Stopped\",D14<>\"Not required\"),D14/COUNTRY_INFO!D14, 0)","v":0},{"$f":"IF(AND(J14<>0,J14<>\"Unknown\",J14<>\"Stopped\",J14<>\"Not required\"),J14/COUNTRY_INFO!D14, 0)","v":0},{"$f":"IF(AND(P14<>0,P14<>\"Unknown\",P14<>\"Not required\"),P14/(COUNTRY_INFO!E14+COUNTRY_INFO!F14), 0)","v":1},{"$f":"IF(AND(Z14<>0,Z14<>\"Unknown\",Z14<>\"Not required\"),IF(COUNTRY_INFO!K14=1,1,IF(COUNTRY_INFO!K14=2,0.5*COUNTRY_INFO!F14/(0.5*COUNTRY_INFO!F14+0.2*COUNTRY_INFO!G14),IF(COUNTRY_INFO!K14=3,COUNTRY_INFO!F14/(COUNTRY_INFO!F14+COUNTRY_INFO!G14)))),0)","v":0.56957623329524565},{"$f":"IF(AND(Z14<>0,Z14<>\"Unknown\",Z14<>\"Not required\"),IF(COUNTRY_INFO!K14=1,0,IF(COUNTRY_INFO!K14=2,0.2*COUNTRY_INFO!G14/(0.5*COUNTRY_INFO!F14+0.2*COUNTRY_INFO!G14),IF(COUNTRY_INFO!K14=3,COUNTRY_INFO!G14/(COUNTRY_INFO!F14+COUNTRY_INFO!G14)))),0)","v":0.43042376670475435},{"$f":"MAX(COUNTRY_INFO!D14*AK14*PROFILE!$G$7,COUNTRY_INFO!D14*AL14*PROFILE!$G$7)","v":0},{"$f":"MAX(COUNTRY_INFO!D14*AK14*PROFILE!$G$8,COUNTRY_INFO!D14*AL14*PROFILE!$G$8,COUNTRY_INFO!D14*AM14*PROFILE!$G$8)","v":1315.2623890142522},{"$f":"MAX(COUNTRY_INFO!D14*AK14*PROFILE!$G$9,COUNTRY_INFO!D14*AL14*PROFILE!$G$9,COUNTRY_INFO!D14*AM14*PROFILE!$G$9,IF(AND(DISTRICT!Z14<>\"Unknown\",Z14<>\"Not required\"),COUNTRY_INFO!P14*DISTRICT!AN14,0))","v":2293.4898875564413},{"$f":"MAX(COUNTRY_INFO!D14*AK14*PROFILE!$G$10,COUNTRY_INFO!D14*AL14*PROFILE!$G$10,IF(AND(DISTRICT!Z14<>\"Unknown\",Z14<>\"Not required\"),COUNTRY_INFO!P14*DISTRICT!AO14,0))","v":866.40000000000009},4475.1522765706941,0,{"$f":"MAX('MDA4'!R14,'T1'!L14,'T2'!J14,T3_R1!K14,T3_R2!K14)","v":0},{"$f":"MAX('MDA1'!K14,'MDA4'!S14,'MDA3'!I14,'MDA3'!L14,'T1'!M14,'T2'!K14,T3_R1!L14,T3_R2!L14)","v":0},{"$f":"MAX('MDA1'!L14,'MDA4'!T14,'MDA3'!J14,'MDA3'!M14,'T1'!N14,'T2'!L14,T3_R1!M14,T3_R2!M14)","v":0},0,{"$f":"MAX('MDA4'!R14,T14)","v":0},{"$f":"MAX('MDA1'!K14,'MDA4'!S14,'MDA3'!I14,'MDA3'!L14,V14,AD14)","v":0},{"$f":"MAX('MDA1'!L14,'MDA4'!T14,'MDA3'!J14,'MDA3'!M14,AF14)","v":0},0,0]
[{"$f":"IF(COUNTRY_INFO!A15=0,\" \",COUNTRY_INFO!A15)","v":"Angola"},{"$f":"IF(COUNTRY_INFO!B15=0,\" \",COUNTRY_INFO!B15)","v":"BENGUELA"},{"$f":"IF(COUNTRY_INFO!C15=0,\" \",COUNTRY_INFO!C15)","v":"BAIA FARTA"},{"$f":"COUNTRY_INFO!M15","v":0},null,null,{"$f":"MAX('MDA1'!M15,'MDA4'!U15)","v":0},{"$f":"IF(AND(COUNTRY_INFO!H15>0,COUNTRY_INFO!H15<4),IF(D15>MAX('MDA1'!M15,'MDA4'!U15),MAX('MDA1'!M15,'MDA4'!U15),D15),0)","v":0},{"$f":"IF(AND(COUNTRY_INFO!H15>0,COUNTRY_INFO!H15<4), IF(G15/D15*100<>0, IF(G15/D15*100>100,100,G15/D15*100), \"-\"),0)","v":0},{"$f":"COUNTRY_INFO!N15","v":"Unknown"},null,null,{"$f":"MAX('MDA1'!M15,MAX('MDA3'!I15,'MDA3'!L15)+MAX('MDA3'!J15,'MDA3'!M15))","v":0},{"$f":"IF(AND(COUNTRY_INFO!I15>0,COUNTRY_INFO!I15<4),IF(J15>MAX('MDA1'!M15,MAX('MDA3'!I15,'MDA3'!L15)+MAX('MDA3'!J15,'MDA3'!M15)),MAX('MDA1'!M15,MAX('MDA3'!I15,'MDA3'!L15)+MAX('MDA3'!J15,'MDA3'!M15)),J15),0)","v":0},{"$f":"IF(AND(COUNTRY_INFO!I15>0,COUNTRY_INFO!I15<4), IF(M15/J15*100<>0, IF(M15/J15*100>100,100,M15/J15*100), \"-\"),0)","v":0},{"$f":"COUNTRY_INFO!O15","v":55548},null,null,{"$f":"SUM(MAX('MDA4'!R15, 'T1'!L15, MAX(T3_R1!K15, T3_R2!K15)), MAX('MDA1'!K15, 'MDA4'!S15, 'T1'!M15, MAX(T3_R1!L15, T3_R2!L15)), MAX('MDA1'!L15, 'MDA4'!T15, 'T1'!N15, MAX(T3_R1!M15, T3_R2!M15)))","v":0},{"$f":"IF(AND(COUNTRY_INFO!J15>1,COUNTRY_INFO!J15<4),IF(COUNTRY_INFO!E15>MAX('MDA4'!R15,'T1'!L15,MAX(T3_R1!K15,T3_R2!K15)),MAX('MDA4'!R15,'T1'!L15,MAX(T3_R1!K15,T3_R2!K15)),COUNTRY_INFO!E15),0)","v":0},{"$f":"IF(AND(COUNTRY_INFO!J15>1,COUNTRY_INFO!J15<4), IF(T15/COUNTRY_INFO!E15*100<>0, IF(T15/COUNTRY_INFO!E15*100>100,100,T15/COUNTRY_INFO!E15*100), \"-\"),0)","v":"-"},{"$f":"IF(AND(COUNTRY_INFO!J15>1,COUNTRY_INFO!J15<4),IF(COUNTRY_INFO!F15>MAX('MDA1'!K15,'MDA4'!S15,'T1'!M15,MAX(T3_R1!L15,T3_R2!L15)),MAX('MDA1'!K15,'MDA4'!S15,'T1'!M15,MAX(T3_R1!L15,T3_R2!L15)),COUNTRY_INFO!F15),0)","v":0},{"$f":"IF(AND(COUNTRY_INFO!J15>1,COUNTRY_INFO!J15<4), IF(V15/COUNTRY_INFO!F15*100<>0, IF(V15/COUNTRY_INFO!F15*100>100,100,V15/COUNTRY_INFO!F15*100), \"-\"),0)","v":"-"},0,{"$f":"IF(AND(COUNTRY_INFO!J15>1,COUNTRY_INFO!J15<4), IF(S15/P15*100<>0, IF(X15/P15*100>100,100,X15/P15*100), \"-\"),0)","v":"-"},{"$f":"COUNTRY_INFO!P15","v":30988.1},null,null,{"$f":"MAX('T1'!L15,'T2'!J15)+MAX('T1'!M15,'T2'!K15)+MAX('T1'!N15,'T2'!L15)","v":0},{"$f":"IF(COUNTRY_INFO!K15=1,IF(COUNTRY_INFO!F15*0.33>MAX('T1'!M15,'T2'!K15),MAX('T1'!M15,'T2'!K15),COUNTRY_INFO!F15*0.33),IF(COUNTRY_INFO!K15=2,IF(COUNTRY_INFO!F15*0.5>MAX('T1'!M15,'T2'!K15),MAX('T1'!M15,'T2'!K15),COUNTRY_INFO!F15*0.5),IF(COUNTRY_INFO!K15=3,IF(COUNTRY_INFO!F15>MAX('T1'!M15,'T2'!K15),MAX('T1'!M15,'T2'!K15),COUNTRY_INFO!F15),0)))","v":0},{"$f":"IF(AND(COUNTRY_INFO!K15>0,COUNTRY_INFO!L15<4),IF(Z15>0,IF(COUNTRY_INFO!K15=1, AD15/(COUNTRY_INFO!F15*0.33)*100, IF(COUNTRY_INFO!K15=2, AD15/(COUNTRY_INFO!F15*0.5)*100, IF(COUNTRY_INFO!K15=3, AD15/COUNTRY_INFO!F15*100))),\"-\"),0)","v":0},{"$f":"IF(COUNTRY_INFO!K15=2,IF(COUNTRY_INFO!G15*0.2>MAX('T1'!N15,'T2'!L15),MAX('T1'!N15,'T2'!L15),COUNTRY_INFO!G15*0.2),IF(COUNTRY_INFO!K15=3,IF(COUNTRY_INFO!G15>MAX('T1'!N15,'T2'!L15),MAX('T1'!N15,'T2'!L15),COUNTRY_INFO!G15),0))","v":0},{"$f":"IF(AND(COUNTRY_INFO!K15>0,COUNTRY_INFO!L15<4),IF(Z15>0,IF(COUNTRY_INFO!K15=1, 0, IF(COUNTRY_INFO!K15=2, AF15/(COUNTRY_INFO!G15*0.2)*100, IF(COUNTRY_INFO!K15=3, AF15/COUNTRY_INFO!G15*100))),\"-\"),0)","v":0},0,{"$f":"IF(AND(COUNTRY_INFO!K15>0,COUNTRY_INFO!K15<4), IF(AC15/Z15*100<>0, IF(AH15/Z15*100>100,100,AH15/Z15*100), \"-\"),0)","v":"-"},null,{"$f":"IF(AND(D15<>0, D15<>\"Unknown\",D15<>\"Stopped\",D15<>\"Not required\"),D15/COUNTRY_INFO!D15, 0)","v":0},{"$f":"IF(AND(J15<>0,J15<>\"Unknown\",J15<>\"Stopped\",J15<>\"Not required\"),J15/COUNTRY_INFO!D15, 0)","v":0},{"$f":"IF(AND(P15<>0,P15<>\"Unknown\",P15<>\"Not required\"),P15/(COUNTRY_INFO!E15+COUNTRY_INFO!F15), 0)","v":1},{"$f":"IF(AND(Z15<>0,Z15<>\"Unknown\",Z15<>\"Not required\"),IF(COUNTRY_INFO!K15=1,1,IF(COUNTRY_INFO!K15=2,0.5*COUNTRY_INFO!F15/(0.5*COUNTRY_INFO!F15+0.2*COUNTRY_INFO!G15),IF(COUNTRY_INFO!K15=3,COUNTRY_INFO!F15/(COUNTRY_INFO!F15+COUNTRY_INFO!G15)))),0)","v":0.56962188711150408},{"$f":"IF(AND(Z15<>0,Z15<>\"Unknown\",Z15<>\"Not required\"),IF(COUNTRY_INFO!K15=1,0,IF(COUNTRY_INFO!K15=2,0.2*COUNTRY_INFO!G15/(0.5*COUNTRY_INFO!F15+0.2*COUNTRY_INFO!G15),IF(COUNTRY_INFO!K15=3,COUNTRY_INFO!G15/(COUNTRY_INFO!F15+COUNTRY_INFO!G15)))),0)","v":0.43037811288849592},{"$f":"MAX(COUNTRY_INFO!D15*AK15*PROFILE!$G$7,COUNTRY_INFO!D15*AL15*PROFILE!$G$7)","v":0},{"$f":"MAX(COUNTRY_INFO!D15*AK15*PROFILE!$G$8,COUNTRY_INFO!D15*AL15*PROFILE!$G$8,COUNTRY_INFO!D15*AM15*PROFILE!$G$8)","v":20245.391278002564},{"$f":"MAX(COUNTRY_INFO!D15*AK15*PROFILE!$G$9,COUNTRY_INFO!D15*AL15*PROFILE!$G$9,COUNTRY_INFO!D15*AM15*PROFILE!$G$9,IF(AND(DISTRICT!Z15<>\"Unknown\",Z15<>\"Not required\"),COUNTRY_INFO!P15*DISTRICT!AN15,0))","v":35302.917922348584},{"$f":"MAX(COUNTRY_INFO!D15*AK15*PROFILE!$G$10,COUNTRY_INFO!D15*AL15*PROFILE!$G$10,IF(AND(DISTRICT!Z15<>\"Unknown\",Z15<>\"Not required\"),COUNTRY_INFO!P15*DISTRICT!AO15,0))","v":13336.6},68884.909200351147,0,{"$f":"MAX('MDA4'!R15,'T1'!L15,'T2'!J15,T3_R1!K15,T3_R2!K15)","v":0},{"$f":"MAX('MDA1'!K15,'MDA4'!S15,'MDA3'!I15,'MDA3'!L15,'T1'!M15,'T2'!K15,T3_R1!L15,T3_R2!L15)","v":0},{"$f":"MAX('MDA1'!L15,'MDA4'!T15,'MDA3'!J15,'MDA3'!M15,'T1'!N15,'T2'!L15,T3_R1!M15,T3_R2!M15)","v":0},0,{"$f":"MAX('MDA4'!R15,T15)","v":0},{"$f":"MAX('MDA1'!K15,'MDA4'!S15,'MDA3'!I15,'MDA3'!L15,V15,AD15)","v":0},{"$f":"MAX('MDA1'!L15,'MDA4'!T15,'MDA3'!J15,'MDA3'!M15,AF15)","v":0},0,0]
[{"$f":"IF(COUNTRY_INFO!A16=0,\" \",COUNTRY_INFO!A16)","v":"Angola"},{"$f":"IF(COUNTRY_INFO!B16=0,\" \",COUNTRY_INFO!B16)","v":"BENGUELA"},{"$f":"IF(COUNTRY_INFO!C16=0,\" \",COUNTRY_INFO!C16)","v":"BALOMBO"},{"$f":"COUNTRY_INFO!M16","v":0},null,null,{"$f":"MAX('MDA1'!M16,'MDA4'!U16)","v":0},{"$f":"IF(AND(COUNTRY_INFO!H16>0,COUNTRY_INFO!H16<4),IF(D16>MAX('MDA1'!M16,'MDA4'!U16),MAX('MDA1'!M16,'MDA4'!U16),D16),0)","v":0},{"$f":"IF(AND(COUNTRY_INFO!H16>0,COUNTRY_INFO!H16<4), IF(G16/D16*100<>0, IF(G16/D16*100>100,100,G16/D16*100), \"-\"),0)","v":0},{"$f":"COUNTRY_INFO!N16","v":"Unknown"},null,null,{"$f":"MAX('MDA1'!M16,MAX('MDA3'!I16,'MDA3'!L16)+MAX('MDA3'!J16,'MDA3'!M16))","v":0},{"$f":"IF(AND(COUNTRY_INFO!I16>0,COUNTRY_INFO!I16<4),IF(J16>MAX('MDA1'!M16,MAX('MDA3'!I16,'MDA3'!L16)+MAX('MDA3'!J16,'MDA3'!M16)),MAX('MDA1'!M16,MAX('MDA3'!I16,'MDA3'!L16)+MAX('MDA3'!J16,'MDA3'!M16)),J16),0)","v":0},{"$f":"IF(AND(COUNTRY_INFO!I16>0,COUNTRY_INFO!I16<4), IF(M16/J16*100<>0, IF(M16/J16*100>100,100,M16/J16*100), \"-\"),0)","v":0},{"$f":"COUNTRY_INFO!O16","v":56127},null,null,{"$f":"SUM(MAX('MDA4'!R16, 'T1'!L16, MAX(T3_R1!K16, T3_R2!K16)), MAX('MDA1'!K16, 'MDA4'!S16, 'T1'!M16, MAX(T3_R1!L16, T3_R2!L16)), MAX('MDA1'!L16, 'MDA4'!T16, 'T1'!N16, MAX(T3_R1!M16, T3_R2!M16)))","v":0},{"$f":"IF(AND(COUNTRY_INFO!J16>1,COUNTRY_INFO!J16<4),IF(COUNTRY_INFO!E16>MAX('MDA4'!R16,'T1'!L16,MAX(T3_R1!K16,T3_R2!K16)),MAX('MDA4'!R16,'T1'!L16,MAX(T3_R1!K16,T3_R2!K16)),COUNTRY_INFO!E16),0)","v":0},{"$f":"IF(AND(COUNTRY_INFO!J16>1,COUNTRY_INFO!J16<4), IF(T16/COUNTRY_INFO!E16*100<>0, IF(T16/COUNTRY_INFO!E16*100>100,100,T16/COUNTRY_INFO!E16*100), \"-\"),0)","v":"-"},{"$f":"IF(AND(COUNTRY_INFO!J16>1,COUNTRY_INFO!J16<4),IF(COUNTRY_INFO!F16>MAX('MDA1'!K16,'MDA4'!S16,'T1'!M16,MAX(T3_R1!L16,T3_R2!L16)),MAX('MDA1'!K16,'MDA4'!S16,'T1'!M16,MAX(T3_R1!L16,T3_R2!L16)),COUNTRY_INFO!F16),0)","v":0},{"$f":"IF(AND(COUNTRY_INFO!J16>1,COUNTRY_INFO!J16<4), IF(V16/COUNTRY_INFO!F16*100<>0, IF(V16/COUNTRY_INFO!F16*100>100,100,V16/COUNTRY_INFO!F16*100), \"-\"),0)","v":"-"},0,{"$f":"IF(AND(COUNTRY_INFO!J16>1,COUNTRY_INFO!J16<4), IF(S16/P16*100<>0, IF(X16/P16*100>100,100,X16/P16*100), \"-\"),0)","v":"-"},{"$f":"COUNTRY_INFO!P16","v":31311.1},null,null,{"$f":"MAX('T1'!L16,'T2'!J16)+MAX('T1'!M16,'T2'!K16)+MAX('T1'!N16,'T2'!L16)","v":0},{"$f":"IF(COUNTRY_INFO!K16=1,IF(COUNTRY_INFO!F16*0.33>MAX('T1'!M16,'T2'!K16),MAX('T1'!M16,'T2'!K16),COUNTRY_INFO!F16*0.33),IF(COUNTRY_INFO!K16=2,IF(COUNTRY_INFO!F16*0.5>MAX('T1'!M16,'T2'!K16),MAX('T1'!M16,'T2'!K16),COUNTRY_INFO!F16*0.5),IF(COUNTRY_INFO!K16=3,IF(COUNTRY_INFO!F16>MAX('T1'!M16,'T2'!K16),MAX('T1'!M16,'T2'!K16),COUNTRY_INFO!F16),0)))","v":0},{"$f":"IF(AND(COUNTRY_INFO!K16>0,COUNTRY_INFO!L16<4),IF(Z16>0,IF(COUNTRY_INFO!K16=1, AD16/(COUNTRY_INFO!F16*0.33)*100, IF(COUNTRY_INFO!K16=2, AD16/(COUNTRY_INFO!F16*0.5)*100, IF(COUNTRY_INFO!K16=3, AD16/COUNTRY_INFO!F16*100))),\"-\"),0)","v":0},{"$f":"IF(COUNTRY_INFO!K16=2,IF(COUNTRY_INFO!G16*0.2>MAX('T1'!N16,'T2'!L16),MAX('T1'!N16,'T2'!L16),COUNTRY_INFO!G16*0.2),IF(COUNTRY_INFO!K16=3,IF(COUNTRY_INFO!G16>MAX('T1'!N16,'T2'!L16),MAX('T1'!N16,'T2'!L16),COUNTRY_INFO!G16),0))","v":0},{"$f":"IF(AND(COUNTRY_INFO!K16>0,COUNTRY_INFO!L16<4),IF(Z16>0,IF(COUNTRY_INFO!K16=1, 0, IF(COUNTRY_INFO!K16=2, AF16/(COUNTRY_INFO!G16*0.2)*100, IF(COUNTRY_INFO!K16=3, AF16/COUNTRY_INFO!G16*100))),\"-\"),0)","v":0},0,{"$f":"IF(AND(COUNTRY_INFO!K16>0,COUNTRY_INFO!K16<4), IF(AC16/Z16*100<>0, IF(AH16/Z16*100>100,100,AH16/Z16*100), \"-\"),0)","v":"-"},null,{"$f":"IF(AND(D16<>0, D16<>\"Unknown\",D16<>\"Stopped\",D16<>\"Not required\"),D16/COUNTRY_INFO!D16, 0)","v":0},{"$f":"IF(AND(J16<>0,J16<>\"Unknown\",J16<>\"Stopped\",J16<>\"Not required\"),J16/COUNTRY_INFO!D16, 0)","v":0},{"$f":"IF(AND(P16<>0,P16<>\"Unknown\",P16<>\"Not required\"),P16/(COUNTRY_INFO!E16+COUNTRY_INFO!F16), 0)","v":1},{"$f":"IF(AND(Z16<>0,Z16<>\"Unknown\",Z16<>\"Not required\"),IF(COUNTRY_INFO!K16=1,1,IF(COUNTRY_INFO!K16=2,0.5*COUNTRY_INFO!F16/(0.5*COUNTRY_INFO!F16+0.2*COUNTRY_INFO!G16),IF(COUNTRY_INFO!K16=3,COUNTRY_INFO!F16/(COUNTRY_INFO!F16+COUNTRY_INFO!G16)))),0)","v":0.56962227452884129},{"$f":"IF(AND(Z16<>0,Z16<>\"Unknown\",Z16<>\"Not required\"),IF(COUNTRY_INFO!K16=1,0,IF(COUNTRY_INFO!K16=2,0.2*COUNTRY_INFO!G16/(0.5*COUNTRY_INFO!F16+0.2*COUNTRY_INFO!G16),IF(COUNTRY_INFO!K16=3,COUNTRY_INFO!G16/(COUNTRY_INFO!F16+COUNTRY_INFO!G16)))),0)","v":0.43037772547115882},{"$f":"MAX(COUNTRY_INFO!D16*AK16*PROFILE!$G$7,COUNTRY_INFO!D16*AL16*PROFILE!$G$7)","v":0},{"$f":"MAX(COUNTRY_INFO!D16*AK16*PROFILE!$G$8,COUNTRY_INFO!D16*AL16*PROFILE!$G$8,COUNTRY_INFO!D16*AM16*PROFILE!$G$8)","v":20456.403970730516},{"$f":"MAX(COUNTRY_INFO!D16*AK16*PROFILE!$G$9,COUNTRY_INFO!D16*AL16*PROFILE!$G$9,COUNTRY_INFO!D16*AM16*PROFILE!$G$9,IF(AND(DISTRICT!Z16<>\"Unknown\",Z16<>\"Not required\"),COUNTRY_INFO!P16*DISTRICT!AN16,0))","v":35670.871481242881},{"$f":"MAX(COUNTRY_INFO!D16*AK16*PROFILE!$G$10,COUNTRY_INFO!D16*AL16*PROFILE!$G$10,IF(AND(DISTRICT!Z16<>\"Unknown\",Z16<>\"Not required\"),COUNTRY_INFO!P16*DISTRICT!AO16,0))","v":13475.6},69602.875451973407,0,{"$f":"MAX('MDA4'!R16,'T1'!L16,'T2'!J16,T3_R1!K16,T3_R2!K16)","v":0},{"$f":"MAX('MDA1'!K16,'MDA4'!S16,'MDA3'!I16,'MDA3'!L16,'T1'!M16,'T2'!K16,T3_R1!L16,T3_R2!L16)","v":0},{"$f":"MAX('MDA1'!L16,'MDA4'!T16,'MDA3'!J16,'MDA3'!M16,'T1'!N16,'T2'!L16,T3_R1!M16,T3_R2!M16)","v":0},0,{"$f":"MAX('MDA4'!R16,T16)","v":0},{"$f":"MAX('MDA1'!K16,'MDA4'!S16,'MDA3'!I16,'MDA3'!L16,V16,AD16)","v":0},{"$f":"MAX('MDA1'!L16,'MDA4'!T16,'MDA3'!J16,'MDA3'!M16,AF16)","v":0},0,0]
[{"$f":"IF(COUNTRY_INFO!A17=0,\" \",COUNTRY_INFO!A17)","v":"Angola"},{"$f":"IF(COUNTRY_INFO!B17=0,\" \",COUNTRY_INFO!B17)","v":"BENGUELA"},{"$f":"IF(COUNTRY_INFO!C17=0,\" \",COUNTRY_INFO!C17)","v":"BENGUELA"},{"$f":"COUNTRY_INFO!M17","v":0},null,null,{"$f":"MAX('MDA1'!M17,'MDA4'!U17)","v":0},{"$f":"IF(AND(COUNTRY_INFO!H17>0,COUNTRY_INFO!H17<4),IF(D17>MAX('MDA1'!M17,'MDA4'!U17),MAX('MDA1'!M17,'MDA4'!U17),D17),0)","v":0},{"$f":"IF(AND(COUNTRY_INFO!H17>0,COUNTRY_INFO!H17<4), IF(G17/D17*100<>0, IF(G17/D17*100>100,100,G17/D17*100), \"-\"),0)","v":0},{"$f":"COUNTRY_INFO!N17","v":"Unknown"},null,null,{"$f":"MAX('MDA1'!M17,MAX('MDA3'!I17,'MDA3'!L17)+MAX('MDA3'!J17,'MDA3'!M17))","v":0},{"$f":"IF(AND(COUNTRY_INFO!I17>0,COUNTRY_INFO!I17<4),IF(J17>MAX('MDA1'!M17,MAX('MDA3'!I17,'MDA3'!L17)+MAX('MDA3'!J17,'MDA3'!M17)),MAX('MDA1'!M17,MAX('MDA3'!I17,'MDA3'!L17)+MAX('MDA3'!J17,'MDA3'!M17)),J17),0)","v":0},{"$f":"IF(AND(COUNTRY_INFO!I17>0,COUNTRY_INFO!I17<4), IF(M17/J17*100<>0, IF(M17/J17*100>100,100,M17/J17*100), \"-\"),0)","v":0},{"$f":"COUNTRY_INFO!O17","v":289367},null,null,{"$f":"SUM(MAX('MDA4'!R17, 'T1'!L17, MAX(T3_R1!K17, T3_R2!K17)), MAX('MDA1'!K17, 'MDA4'!S17, 'T1'!M17, MAX(T3_R1!L17, T3_R2!L17)), MAX('MDA1'!L17, 'MDA4'!T17, 'T1'!N17, MAX(T3_R1!M17, T3_R2!M17)))","v":0},{"$f":"IF(AND(COUNTRY_INFO!J17>1,COUNTRY_INFO!J17<4),IF(COUNTRY_INFO!E17>MAX('MDA4'!R17,'T1'!L17,MAX(T3_R1!K17,T3_R2!K17)),MAX('MDA4'!R17,'T1'!L17,MAX(T3_R1!K17,T3_R2!K17)),COUNTRY_INFO!E17),0)","v":0},{"$f":"IF(AND(COUNTRY_INFO!J17>1,COUNTRY_INFO!J17<4), IF(T17/COUNTRY_INFO!E17*100<>0, IF(T17/COUNTRY_INFO!E17*100>100,100,T17/COUNTRY_INFO!E17*100), \"-\"),0)","v":"-"},{"$f":"IF(AND(COUNTRY_INFO!J17>1,COUNTRY_INFO!J17<4),IF(COUNTRY_INFO!F17>MAX('MDA1'!K17,'MDA4'!S17,'T1'!M17,MAX(T3_R1!L17,T3_R2!L17)),MAX('MDA1'!K17,'MDA4'!S17,'T1'!M17,MAX(T3_R1!L17,T3_R2!L17)),COUNTRY_INFO!F17),0)","v":0},{"$f":"IF(AND(COUNTRY_INFO!J17>1,COUNTRY_INFO!J17<4), IF(V17/COUNTRY_INFO!F17*100<>0, IF(V17/COUNTRY_INFO!F17*100>100,100,V17/COUNTRY_INFO!F17*100), \"-\"),0)","v":"-"},0,{"$f":"IF(AND(COUNTRY_INFO!J17>1,COUNTRY_INFO!J17<4), IF(S17/P17*100<>0, IF(X17/P17*100>100,100,X17/P17*100), \"-\"),0)","v":"-"},{"$f":"COUNTRY_INFO!P17","v":161426.1},null,null,{"$f":"MAX('T1'!L17,'T2'!J17)+MAX('T1'!M17,'T2'!K17)+MAX('T1'!N17,'T2'!L17)","v":0},{"$f":"IF(COUNTRY_INFO!K17=1,IF(COUNTRY_INFO!F17*0.33>MAX('T1'!M17,'T2'!K17),MAX('T1'!M17,'T2'!K17),COUNTRY_INFO!F17*0.33),IF(COUNTRY_INFO!K17=2,IF(COUNTRY_INFO!F17*0.5>MAX('T1'!M17,'T2'!K17),MAX('T1'!M17,'T2'!K17),COUNTRY_INFO!F17*0.5),IF(COUNTRY_INFO!K17=3,IF(COUNTRY_INFO!F17>MAX('T1'!M17,'T2'!K17),MAX('T1'!M17,'T2'!K17),COUNTRY_INFO!F17),0)))","v":0},{"$f":"IF(AND(COUNTRY_INFO!K17>0,COUNTRY_INFO!L17<4),IF(Z17>0,IF(COUNTRY_INFO!K17=1, AD17/(COUNTRY_INFO!F17*0.33)*100, IF(COUNTRY_INFO!K17=2, AD17/(COUNTRY_INFO!F17*0.5)*100, IF(COUNTRY_INFO!K17=3, AD17/COUNTRY_INFO!F17*100))),\"-\"),0)","v":0},{"$f":"IF(COUNTRY_INFO!K17=2,IF(COUNTRY_INFO!G17*0.2>MAX('T1'!N17,'T2'!L17),MAX('T1'!N17,'T2'!L17),COUNTRY_INFO!G17*0.2),IF(COUNTRY_INFO!K17=3,IF(COUNTRY_INFO!G17>MAX('T1'!N17,'T2'!L17),MAX('T1'!N17,'T2'!L17),COUNTRY_INFO!G17),0))","v":0},{"$f":"IF(AND(COUNTRY_INFO!K17>0,COUNTRY_INFO!L17<4),IF(Z17>0,IF(COUNTRY_INFO!K17=1, 0, IF(COUNTRY_INFO!K17=2, AF17/(COUNTRY_INFO!G17*0.2)*100, IF(COUNTRY_INFO!K17=3, AF17/COUNTRY_INFO!G17*100))),\"-\"),0)","v":0},0,{"$f":"IF(AND(COUNTRY_INFO!K17>0,COUNTRY_INFO!K17<4), IF(AC17/Z17*100<>0, IF(AH17/Z17*100>100,100,AH17/Z17*100), \"-\"),0)","v":"-"},null,{"$f":"IF(AND(D17<>0, D17<>\"Unknown\",D17<>\"Stopped\",D17<>\"Not required\"),D17/COUNTRY_INFO!D17, 0)","v":0},{"$f":"IF(AND(J17<>0,J17<>\"Unknown\",J17<>\"Stopped\",J17<>\"Not required\"),J17/COUNTRY_INFO!D17, 0)","v":0},{"$f":"IF(AND(P17<>0,P17<>\"Unknown\",P17<>\"Not required\"),P17/(COUNTRY_INFO!E17+COUNTRY_INFO!F17), 0)","v":1},{"$f":"IF(AND(Z17<>0,Z17<>\"Unknown\",Z17<>\"Not required\"),IF(COUNTRY_INFO!K17=1,1,IF(COUNTRY_INFO!K17=2,0.5*COUNTRY_INFO!F17/(0.5*COUNTRY_INFO!F17+0.2*COUNTRY_INFO!G17),IF(COUNTRY_INFO!K17=3,COUNTRY_INFO!F17/(COUNTRY_INFO!F17+COUNTRY_INFO!G17)))),0)","v":0.56961978267454894},{"$f":"IF(AND(Z17<>0,Z17<>\"Unknown\",Z17<>\"Not required\"),IF(COUNTRY_INFO!K17=1,0,IF(COUNTRY_INFO!K17=2,0.2*COUNTRY_INFO!G17/(0.5*COUNTRY_INFO!F17+0.2*COUNTRY_INFO!G17),IF(COUNTRY_INFO!K17=3,COUNTRY_INFO!G17/(COUNTRY_INFO!F17+COUNTRY_INFO!G17)))),0)","v":0.43038021732545112},{"$f":"MAX(COUNTRY_INFO!D17*AK17*PROFILE!$G$7,COUNTRY_INFO!D17*AL17*PROFILE!$G$7)","v":0},{"$f":"MAX(COUNTRY_INFO!D17*AK17*PROFILE!$G$8,COUNTRY_INFO!D17*AL17*PROFILE!$G$8,COUNTRY_INFO!D17*AM17*PROFILE!$G$8)","v":105464.10627868706},{"$f":"MAX(COUNTRY_INFO!D17*AK17*PROFILE!$G$9,COUNTRY_INFO!D17*AL17*PROFILE!$G$9,COUNTRY_INFO!D17*AM17*PROFILE!$G$9,IF(AND(DISTRICT!Z17<>\"Unknown\",Z17<>\"Not required\"),COUNTRY_INFO!P17*DISTRICT!AN17,0))","v":183903.12326320581},{"$f":"MAX(COUNTRY_INFO!D17*AK17*PROFILE!$G$10,COUNTRY_INFO!D17*AL17*PROFILE!$G$10,IF(AND(DISTRICT!Z17<>\"Unknown\",Z17<>\"Not required\"),COUNTRY_INFO!P17*DISTRICT!AO17,0))","v":69474.600000000006},358841.82954189286,0,{"$f":"MAX('MDA4'!R17,'T1'!L17,'T2'!J17,T3_R1!K17,T3_R2!K17)","v":0},{"$f":"MAX('MDA1'!K17,'MDA4'!S17,'MDA3'!I17,'MDA3'!L17,'T1'!M17,'T2'!K17,T3_R1!L17,T3_R2!L17)","v":0},{"$f":"MAX('MDA1'!L17,'MDA4'!T17,'MDA3'!J17,'MDA3'!M17,'T1'!N17,'T2'!L17,T3_R1!M17,T3_R2!M17)","v":0},0,{"$f":"MAX('MDA4'!R17,T17)","v":0},{"$f":"MAX('MDA1'!K17,'MDA4'!S17,'MDA3'!I17,'MDA3'!L17,V17,AD17)","v":0},{"$f":"MAX('MDA1'!L17,'MDA4'!T17,'MDA3'!J17,'MDA3'!M17,AF17)","v":0},0,0]
[{"$f":"IF(COUNTRY_INFO!A18=0,\" \",COUNTRY_INFO!A18)","v":"Angola"},{"$f":"IF(COUNTRY_INFO!B18=0,\" \",COUNTRY_INFO!B18)","v":"BENGUELA"},{"$f":"IF(COUNTRY_INFO!C18=0,\" \",COUNTRY_INFO!C18)","v":"BOCOIO"},{"$f":"COUNTRY_INFO!M18","v":0},null,null,{"$f":"MAX('MDA1'!M18,'MDA4'!U18)","v":0},{"$f":"IF(AND(COUNTRY_INFO!H18>0,COUNTRY_INFO!H18<4),IF(D18>MAX('MDA1'!M18,'MDA4'!U18),MAX('MDA1'!M18,'MDA4'!U18),D18),0)","v":0},{"$f":"IF(AND(COUNTRY_INFO!H18>0,COUNTRY_INFO!H18<4), IF(G18/D18*100<>0, IF(G18/D18*100>100,100,G18/D18*100), \"-\"),0)","v":0},{"$f":"COUNTRY_INFO!N18","v":"Unknown"},null,null,{"$f":"MAX('MDA1'!M18,MAX('MDA3'!I18,'MDA3'!L18)+MAX('MDA3'!J18,'MDA3'!M18))","v":0},{"$f":"IF(AND(COUNTRY_INFO!I18>0,COUNTRY_INFO!I18<4),IF(J18>MAX('MDA1'!M18,MAX('MDA3'!I18,'MDA3'!L18)+MAX('MDA3'!J18,'MDA3'!M18)),MAX('MDA1'!M18,MAX('MDA3'!I18,'MDA3'!L18)+MAX('MDA3'!J18,'MDA3'!M18)),J18),0)","v":0},{"$f":"IF(AND(COUNTRY_INFO!I18>0,COUNTRY_INFO!I18<4), IF(M18/J18*100<>0, IF(M18/J18*100>100,100,M18/J18*100), \"-\"),0)","v":0},{"$f":"COUNTRY_INFO!O18","v":84828},null,null,{"$f":"SUM(MAX('MDA4'!R18, 'T1'!L18, MAX(T3_R1!K18, T3_R2!K18)), MAX('MDA1'!K18, 'MDA4'!S18, 'T1'!M18, MAX(T3_R1!L18, T3_R2!L18)), MAX('MDA1'!L18, 'MDA4'!T18, 'T1'!N18, MAX(T3_R1!M18, T3_R2!M18)))","v":0},{"$f":"IF(AND(COUNTRY_INFO!J18>1,COUNTRY_INFO!J18<4),IF(COUNTRY_INFO!E18>MAX('MDA4'!R18,'T1'!L18,MAX(T3_R1!K18,T3_R2!K18)),MAX('MDA4'!R18,'T1'!L18,MAX(T3_R1!K18,T3_R2!K18)),COUNTRY_INFO!E18),0)","v":0},{"$f":"IF(AND(COUNTRY_INFO!J18>1,COUNTRY_INFO!J18<4), IF(T18/COUNTRY_INFO!E18*100<>0, IF(T18/COUNTRY_INFO!E18*100>100,100,T18/COUNTRY_INFO!E18*100), \"-\"),0)","v":"-"},{"$f":"IF(AND(COUNTRY_INFO!J18>1,COUNTRY_INFO!J18<4),IF(COUNTRY_INFO!F18>MAX('MDA1'!K18,'MDA4'!S18,'T1'!M18,MAX(T3_R1!L18,T3_R2!L18)),MAX('MDA1'!K18,'MDA4'!S18,'T1'!M18,MAX(T3_R1!L18,T3_R2!L18)),COUNTRY_INFO!F18),0)","v":0},{"$f":"IF(AND(COUNTRY_INFO!J18>1,COUNTRY_INFO!J18<4), IF(V18/COUNTRY_INFO!F18*100<>0, IF(V18/COUNTRY_INFO!F18*100>100,100,V18/COUNTRY_INFO!F18*100), \"-\"),0)","v":"-"},0,{"$f":"IF(AND(COUNTRY_INFO!J18>1,COUNTRY_INFO!J18<4), IF(S18/P18*100<>0, IF(X18/P18*100>100,100,X18/P18*100), \"-\"),0)","v":"-"},{"$f":"COUNTRY_INFO!P18","v":47322.100000000006},null,null,{"$f":"MAX('T1'!L18,'T2'!J18)+MAX('T1'!M18,'T2'!K18)+MAX('T1'!N18,'T2'!L18)","v":0},{"$f":"IF(COUNTRY_INFO!K18=1,IF(COUNTRY_INFO!F18*0.33>MAX('T1'!M18,'T2'!K18),MAX('T1'!M18,'T2'!K18),COUNTRY_INFO!F18*0.33),IF(COUNTRY_INFO!K18=2,IF(COUNTRY_INFO!F18*0.5>MAX('T1'!M18,'T2'!K18),MAX('T1'!M18,'T2'!K18),COUNTRY_INFO!F18*0.5),IF(COUNTRY_INFO!K18=3,IF(COUNTRY_INFO!F18>MAX('T1'!M18,'T2'!K18),MAX('T1'!M18,'T2'!K18),COUNTRY_INFO!F18),0)))","v":0},{"$f":"IF(AND(COUNTRY_INFO!K18>0,COUNTRY_INFO!L18<4),IF(Z18>0,IF(COUNTRY_INFO!K18=1, AD18/(COUNTRY_INFO!F18*0.33)*100, IF(COUNTRY_INFO!K18=2, AD18/(COUNTRY_INFO!F18*0.5)*100, IF(COUNTRY_INFO!K18=3, AD18/COUNTRY_INFO!F18*100))),\"-\"),0)","v":0},{"$f":"IF(COUNTRY_INFO!K18=2,IF(COUNTRY_INFO!G18*0.2>MAX('T1'!N18,'T2'!L18),MAX('T1'!N18,'T2'!L18),COUNTRY_INFO!G18*0.2),IF(COUNTRY_INFO!K18=3,IF(COUNTRY_INFO!G18>MAX('T1'!N18,'T2'!L18),MAX('T1'!N18,'T2'!L18),COUNTRY_INFO!G18),0))","v":0},{"$f":"IF(AND(COUNTRY_INFO!K18>0,COUNTRY_INFO!L18<4),IF(Z18>0,IF(COUNTRY_INFO!K18=1, 0, IF(COUNTRY_INFO!K18=2, AF18/(COUNTRY_INFO!G18*0.2)*100, IF(COUNTRY_INFO!K18=3, AF18/COUNTRY_INFO!G18*100))),\"-\"),0)","v":0},0,{"$f":"IF(AND(COUNTRY_INFO!K18>0,COUNTRY_INFO!K18<4), IF(AC18/Z18*100<>0, IF(AH18/Z18*100>100,100,AH18/Z18*100), \"-\"),0)","v":"-"},null,{"$f":"IF(AND(D18<>0, D18<>\"Unknown\",D18<>\"Stopped\",D18<>\"Not required\"),D18/COUNTRY_INFO!D18, 0)","v":0},{"$f":"IF(AND(J18<>0,J18<>\"Unknown\",J18<>\"Stopped\",J18<>\"Not required\"),J18/COUNTRY_INFO!D18, 0)","v":0},{"$f":"IF(AND(P18<>0,P18<>\"Unknown\",P18<>\"Not required\"),P18/(COUNTRY_INFO!E18+COUNTRY_INFO!F18), 0)","v":1},{"$f":"IF(AND(Z18<>0,Z18<>\"Unknown\",Z18<>\"Not required\"),IF(COUNTRY_INFO!K18=1,1,IF(COUNTRY_INFO!K18=2,0.5*COUNTRY_INFO!F18/(0.5*COUNTRY_INFO!F18+0.2*COUNTRY_INFO!G18),IF(COUNTRY_INFO!K18=3,COUNTRY_INFO!F18/(COUNTRY_INFO!F18+COUNTRY_INFO!G18)))),0)","v":0.56961757825624804},{"$f":"IF(AND(Z18<>0,Z18<>\"Unknown\",Z18<>\"Not required\"),IF(COUNTRY_INFO!K18=1,0,IF(COUNTRY_INFO!K18=2,0.2*COUNTRY_INFO!G18/(0.5*COUNTRY_INFO!F18+0.2*COUNTRY_INFO!G18),IF(COUNTRY_INFO!K18=3,COUNTRY_INFO!G18/(COUNTRY_INFO!F18+COUNTRY_INFO!G18)))),0)","v":0.43038242174375185},{"$f":"MAX(COUNTRY_INFO!D18*AK18*PROFILE!$G$7,COUNTRY_INFO!D18*AL18*PROFILE!$G$7)","v":0},{"$f":"MAX(COUNTRY_INFO!D18*AK18*PROFILE!$G$8,COUNTRY_INFO!D18*AL18*PROFILE!$G$8,COUNTRY_INFO!D18*AM18*PROFILE!$G$8)","v":30916.926425180151},{"$f":"MAX(COUNTRY_INFO!D18*AK18*PROFILE!$G$9,COUNTRY_INFO!D18*AL18*PROFILE!$G$9,COUNTRY_INFO!D18*AM18*PROFILE!$G$9,IF(AND(DISTRICT!Z18<>\"Unknown\",Z18<>\"Not required\"),COUNTRY_INFO!P18*DISTRICT!AN18,0))","v":53911.416233547323},{"$f":"MAX(COUNTRY_INFO!D18*AK18*PROFILE!$G$10,COUNTRY_INFO!D18*AL18*PROFILE!$G$10,IF(AND(DISTRICT!Z18<>\"Unknown\",Z18<>\"Not required\"),COUNTRY_INFO!P18*DISTRICT!AO18,0))","v":20366.600000000002},105194.94265872748,0,{"$f":"MAX('MDA4'!R18,'T1'!L18,'T2'!J18,T3_R1!K18,T3_R2!K18)","v":0},{"$f":"MAX('MDA1'!K18,'MDA4'!S18,'MDA3'!I18,'MDA3'!L18,'T1'!M18,'T2'!K18,T3_R1!L18,T3_R2!L18)","v":0},{"$f":"MAX('MDA1'!L18,'MDA4'!T18,'MDA3'!J18,'MDA3'!M18,'T1'!N18,'T2'!L18,T3_R1!M18,T3_R2!M18)","v":0},0,{"$f":"MAX('MDA4'!R18,T18)","v":0},{"$f":"MAX('MDA1'!K18,'MDA4'!S18,'MDA3'!I18,'MDA3'!L18,V18,AD18)","v":0},{"$f":"MAX('MDA1'!L18,'MDA4'!T18,'MDA3'!J18,'MDA3'!M18,AF18)","v":0},0,0]
[{"$f":"IF(COUNTRY_INFO!A19=0,\" \",COUNTRY_INFO!A19)","v":"Angola"},{"$f":"IF(COUNTRY_INFO!B19=0,\" \",COUNTRY_INFO!B19)","v":"BENGUELA"},{"$f":"IF(COUNTRY_INFO!C19=0,\" \",COUNTRY_INFO!C19)","v":"CAIMBAMBO"},{"$f":"COUNTRY_INFO!M19","v":0},null,null,{"$f":"MAX('MDA1'!M19,'MDA4'!U19)","v":0},{"$f":"IF(AND(COUNTRY_INFO!H19>0,COUNTRY_INFO!H19<4),IF(D19>MAX('MDA1'!M19,'MDA4'!U19),MAX('MDA1'!M19,'MDA4'!U19),D19),0)","v":0},{"$f":"IF(AND(COUNTRY_INFO!H19>0,COUNTRY_INFO!H19<4), IF(G19/D19*100<>0, IF(G19/D19*100>100,100,G19/D19*100), \"-\"),0)","v":0},{"$f":"COUNTRY_INFO!N19","v":"Unknown"},null,null,{"$f":"MAX('MDA1'!M19,MAX('MDA3'!I19,'MDA3'!L19)+MAX('MDA3'!J19,'MDA3'!M19))","v":0},{"$f":"IF(AND(COUNTRY_INFO!I19>0,COUNTRY_INFO!I19<4),IF(J19>MAX('MDA1'!M19,MAX('MDA3'!I19,'MDA3'!L19)+MAX('MDA3'!J19,'MDA3'!M19)),MAX('MDA1'!M19,MAX('MDA3'!I19,'MDA3'!L19)+MAX('MDA3'!J19,'MDA3'!M19)),J19),0)","v":0},{"$f":"IF(AND(COUNTRY_INFO!I19>0,COUNTRY_INFO!I19<4), IF(M19/J19*100<>0, IF(M19/J19*100>100,100,M19/J19*100), \"-\"),0)","v":0},{"$f":"COUNTRY_INFO!O19","v":46790},null,null,{"$f":"SUM(MAX('MDA4'!R19, 'T1'!L19, MAX(T3_R1!K19, T3_R2!K19)), MAX('MDA1'!K19, 'MDA4'!S19, 'T1'!M19, MAX(T3_R1!L19, T3_R2!L19)), MAX('MDA1'!L19, 'MDA4'!T19, 'T1'!N19, MAX(T3_R1!M19, T3_R2!M19)))","v":0},{"$f":"IF(AND(COUNTRY_INFO!J19>1,COUNTRY_INFO!J19<4),IF(COUNTRY_INFO!E19>MAX('MDA4'!R19,'T1'!L19,MAX(T3_R1!K19,T3_R2!K19)),MAX('MDA4'!R19,'T1'!L19,MAX(T3_R1!K19,T3_R2!K19)),COUNTRY_INFO!E19),0)","v":0},{"$f":"IF(AND(COUNTRY_INFO!J19>1,COUNTRY_INFO!J19<4), IF(T19/COUNTRY_INFO!E19*100<>0, IF(T19/COUNTRY_INFO!E19*100>100,100,T19/COUNTRY_INFO!E19*100), \"-\"),0)","v":"-"},{"$f":"IF(AND(COUNTRY_INFO!J19>1,COUNTRY_INFO!J19<4),IF(COUNTRY_INFO!F19>MAX('MDA1'!K19,'MDA4'!S19,'T1'!M19,MAX(T3_R1!L19,T3_R2!L19)),MAX('MDA1'!K19,'MDA4'!S19,'T1'!M19,MAX(T3_R1!L19,T3_R2!L19)),COUNTRY_INFO!F19),0)","v":0},{"$f":"IF(AND(COUNTRY_INFO!J19>1,COUNTRY_INFO!J19<4), IF(V19/COUNTRY_INFO!F19*100<>0, IF(V19/COUNTRY_INFO!F19*100>100,100,V19/COUNTRY_INFO!F19*100), \"-\"),0)","v":"-"},0,{"$f":"IF(AND(COUNTRY_INFO!J19>1,COUNTRY_INFO!J19<4), IF(S19/P19*100<>0, IF(X19/P19*100>100,100,X19/P19*100), \"-\"),0)","v":"-"},{"$f":"COUNTRY_INFO!P19","v":26102.5},null,null,{"$f":"MAX('T1'!L19,'T2'!J19)+MAX('T1'!M19,'T2'!K19)+MAX('T1'!N19,'T2'!L19)","v":0},{"$f":"IF(COUNTRY_INFO!K19=1,IF(COUNTRY_INFO!F19*0.33>MAX('T1'!M19,'T2'!K19),MAX('T1'!M19,'T2'!K19),COUNTRY_INFO!F19*0.33),IF(COUNTRY_INFO!K19=2,IF(COUNTRY_INFO!F19*0.5>MAX('T1'!M19,'T2'!K19),MAX('T1'!M19,'T2'!K19),COUNTRY_INFO!F19*0.5),IF(COUNTRY_INFO!K19=3,IF(COUNTRY_INFO!F19>MAX('T1'!M19,'T2'!K19),MAX('T1'!M19,'T2'!K19),COUNTRY_INFO!F19),0)))","v":0},{"$f":"IF(AND(COUNTRY_INFO!K19>0,COUNTRY_INFO!L19<4),IF(Z19>0,IF(COUNTRY_INFO!K19=1, AD19/(COUNTRY_INFO!F19*0.33)*100, IF(COUNTRY_INFO!K19=2, AD19/(COUNTRY_INFO!F19*0.5)*100, IF(COUNTRY_INFO!K19=3, AD19/COUNTRY_INFO!F19*100))),\"-\"),0)","v":0},{"$f":"IF(COUNTRY_INFO!K19=2,IF(COUNTRY_INFO!G19*0.2>MAX('T1'!N19,'T2'!L19),MAX('T1'!N19,'T2'!L19),COUNTRY_INFO!G19*0.2),IF(COUNTRY_INFO!K19=3,IF(COUNTRY_INFO!G19>MAX('T1'!N19,'T2'!L19),MAX('T1'!N19,'T2'!L19),COUNTRY_INFO!G19),0))","v":0},{"$f":"IF(AND(COUNTRY_INFO!K19>0,COUNTRY_INFO!L19<4),IF(Z19>0,IF(COUNTRY_INFO!K19=1, 0, IF(COUNTRY_INFO!K19=2, AF19/(COUNTRY_INFO!G19*0.2)*100, IF(COUNTRY_INFO!K19=3, AF19/COUNTRY_INFO!G19*100))),\"-\"),0)","v":0},0,{"$f":"IF(AND(COUNTRY_INFO!K19>0,COUNTRY_INFO!K19<4), IF(AC19/Z19*100<>0, IF(AH19/Z19*100>100,100,AH19/Z19*100), \"-\"),0)","v":"-"},null,{"$f":"IF(AND(D19<>0, D19<>\"Unknown\",D19<>\"Stopped\",D19<>\"Not required\"),D19/COUNTRY_INFO!D19, 0)","v":0},{"$f":"IF(AND(J19<>0,J19<>\"Unknown\",J19<>\"Stopped\",J19<>\"Not required\"),J19/COUNTRY_INFO!D19, 0)","v":0},{"$f":"IF(AND(P19<>0,P19<>\"Unknown\",P19<>\"Not required\"),P19/(COUNTRY_INFO!E19+COUNTRY_INFO!F19), 0)","v":1},{"$f":"IF(AND(Z19<>0,Z19<>\"Unknown\",Z19<>\"Not required\"),IF(COUNTRY_INFO!K19=1,1,IF(COUNTRY_INFO!K19=2,0.5*COUNTRY_INFO!F19/(0.5*COUNTRY_INFO!F19+0.2*COUNTRY_INFO!G19),IF(COUNTRY_INFO!K19=3,COUNTRY_INFO!F19/(COUNTRY_INFO!F19+COUNTRY_INFO!G19)))),0)","v":0.56961976822143467},{"$f":"IF(AND(Z19<>0,Z19<>\"Unknown\",Z19<>\"Not required\"),IF(COUNTRY_INFO!K19=1,0,IF(COUNTRY_INFO!K19=2,0.2*COUNTRY_INFO!G19/(0.5*COUNTRY_INFO!F19+0.2*COUNTRY_INFO!G19),IF(COUNTRY_INFO!K19=3,COUNTRY_INFO!G19/(COUNTRY_INFO!F19+COUNTRY_INFO!G19)))),0)","v":0.43038023177856527},{"$f":"MAX(COUNTRY_INFO!D19*AK19*PROFILE!$G$7,COUNTRY_INFO!D19*AL19*PROFILE!$G$7)","v":0},{"$f":"MAX(COUNTRY_INFO!D19*AK19*PROFILE!$G$8,COUNTRY_INFO!D19*AL19*PROFILE!$G$8,COUNTRY_INFO!D19*AM19*PROFILE!$G$8)","v":17053.354966211336},{"$f":"MAX(COUNTRY_INFO!D19*AK19*PROFILE!$G$9,COUNTRY_INFO!D19*AL19*PROFILE!$G$9,COUNTRY_INFO!D19*AM19*PROFILE!$G$9,IF(AND(DISTRICT!Z19<>\"Unknown\",Z19<>\"Not required\"),COUNTRY_INFO!P19*DISTRICT!AN19,0))","v":29736.801942028545},{"$f":"MAX(COUNTRY_INFO!D19*AK19*PROFILE!$G$10,COUNTRY_INFO!D19*AL19*PROFILE!$G$10,IF(AND(DISTRICT!Z19<>\"Unknown\",Z19<>\"Not required\"),COUNTRY_INFO!P19*DISTRICT!AO19,0))","v":11234},58024.156908239878,0,{"$f":"MAX('MDA4'!R19,'T1'!L19,'T2'!J19,T3_R1!K19,T3_R2!K19)","v":0},{"$f":"MAX('MDA1'!K19,'MDA4'!S19,'MDA3'!I19,'MDA3'!L19,'T1'!M19,'T2'!K19,T3_R1!L19,T3_R2!L19)","v":0},{"$f":"MAX('MDA1'!L19,'MDA4'!T19,'MDA3'!J19,'MDA3'!M19,'T1'!N19,'T2'!L19,T3_R1!M19,T3_R2!M19)","v":0},0,{"$f":"MAX('MDA4'!R19,T19)","v":0},{"$f":"MAX('MDA1'!K19,'MDA4'!S19,'MDA3'!I19,'MDA3'!L19,V19,AD19)","v":0},{"$f":"MAX('MDA1'!L19,'MDA4'!T19,'MDA3'!J19,'MDA3'!M19,AF19)","v":0},0,0]
[{"$f":"IF(COUNTRY_INFO!A20=0,\" \",COUNTRY_INFO!A20)","v":"Angola"},{"$f":"IF(COUNTRY_INFO!B20=0,\" \",COUNTRY_INFO!B20)","v":"BENGUELA"},{"$f":"IF(COUNTRY_INFO!C20=0,\" \",COUNTRY_INFO!C20)","v":"CATUMBELA"},{"$f":"COUNTRY_INFO!M20","v":0},null,null,{"$f":"MAX('MDA1'!M20,'MDA4'!U20)","v":0},{"$f":"IF(AND(COUNTRY_INFO!H20>0,COUNTRY_INFO!H20<4),IF(D20>MAX('MDA1'!M20,'MDA4'!U20),MAX('MDA1'!M20,'MDA4'!U20),D20),0)","v":0},{"$f":"IF(AND(COUNTRY_INFO!H20>0,COUNTRY_INFO!H20<4), IF(G20/D20*100<>0, IF(G20/D20*100>100,100,G20/D20*100), \"-\"),0)","v":0},{"$f":"COUNTRY_INFO!N20","v":"Unknown"},null,null,{"$f":"MAX('MDA1'!M20,MAX('MDA3'!I20,'MDA3'!L20)+MAX('MDA3'!J20,'MDA3'!M20))","v":0},{"$f":"IF(AND(COUNTRY_INFO!I20>0,COUNTRY_INFO!I20<4),IF(J20>MAX('MDA1'!M20,MAX('MDA3'!I20,'MDA3'!L20)+MAX('MDA3'!J20,'MDA3'!M20)),MAX('MDA1'!M20,MAX('MDA3'!I20,'MDA3'!L20)+MAX('MDA3'!J20,'MDA3'!M20)),J20),0)","v":0},{"$f":"IF(AND(COUNTRY_INFO!I20>0,COUNTRY_INFO!I20<4), IF(M20/J20*100<>0, IF(M20/J20*100>100,100,M20/J20*100), \"-\"),0)","v":0},{"$f":"COUNTRY_INFO!O20","v":90557},null,null,{"$f":"SUM(MAX('MDA4'!R20, 'T1'!L20, MAX(T3_R1!K20, T3_R2!K20)), MAX('MDA1'!K20, 'MDA4'!S20, 'T1'!M20, MAX(T3_R1!L20, T3_R2!L20)), MAX('MDA1'!L20, 'MDA4'!T20, 'T1'!N20, MAX(T3_R1!M20, T3_R2!M20)))","v":0},{"$f":"IF(AND(COUNTRY_INFO!J20>1,COUNTRY_INFO!J20<4),IF(COUNTRY_INFO!E20>MAX('MDA4'!R20,'T1'!L20,MAX(T3_R1!K20,T3_R2!K20)),MAX('MDA4'!R20,'T1'!L20,MAX(T3_R1!K20,T3_R2!K20)),COUNTRY_INFO!E20),0)","v":0},{"$f":"IF(AND(COUNTRY_INFO!J20>1,COUNTRY_INFO!J20<4), IF(T20/COUNTRY_INFO!E20*100<>0, IF(T20/COUNTRY_INFO!E20*100>100,100,T20/COUNTRY_INFO!E20*100), \"-\"),0)","v":"-"},{"$f":"IF(AND(COUNTRY_INFO!J20>1,COUNTRY_INFO!J20<4),IF(COUNTRY_INFO!F20>MAX('MDA1'!K20,'MDA4'!S20,'T1'!M20,MAX(T3_R1!L20,T3_R2!L20)),MAX('MDA1'!K20,'MDA4'!S20,'T1'!M20,MAX(T3_R1!L20,T3_R2!L20)),COUNTRY_INFO!F20),0)","v":0},{"$f":"IF(AND(COUNTRY_INFO!J20>1,COUNTRY_INFO!J20<4), IF(V20/COUNTRY_INFO!F20*100<>0, IF(V20/COUNTRY_INFO!F20*100>100,100,V20/COUNTRY_INFO!F20*100), \"-\"),0)","v":"-"},0,{"$f":"IF(AND(COUNTRY_INFO!J20>1,COUNTRY_INFO!J20<4), IF(S20/P20*100<>0, IF(X20/P20*100>100,100,X20/P20*100), \"-\"),0)","v":"-"},{"$f":"COUNTRY_INFO!P20","v":50517.8},null,null,{"$f":"MAX('T1'!L20,'T2'!J20)+MAX('T1'!M20,'T2'!K20)+MAX('T1'!N20,'T2'!L20)","v":0},{"$f":"IF(COUNTRY_INFO!K20=1,IF(COUNTRY_INFO!F20*0.33>MAX('T1'!M20,'T2'!K20),MAX('T1'!M20,'T2'!K20),COUNTRY_INFO!F20*0.33),IF(COUNTRY_INFO!K20=2,IF(COUNTRY_INFO!F20*0.5>MAX('T1'!M20,'T2'!K20),MAX('T1'!M20,'T2'!K20),COUNTRY_INFO!F20*0.5),IF(COUNTRY_INFO!K20=3,IF(COUNTRY_INFO!F20>MAX('T1'!M20,'T2'!K20),MAX('T1'!M20,'T2'!K20),COUNTRY_INFO!F20),0)))","v":0},{"$f":"IF(AND(COUNTRY_INFO!K20>0,COUNTRY_INFO!L20<4),IF(Z20>0,IF(COUNTRY_INFO!K20=1, AD20/(COUNTRY_INFO!F20*0.33)*100, IF(COUNTRY_INFO!K20=2, AD20/(COUNTRY_INFO!F20*0.5)*100, IF(COUNTRY_INFO!K20=3, AD20/COUNTRY_INFO!F20*100))),\"-\"),0)","v":0},{"$f":"IF(COUNTRY_INFO!K20=2,IF(COUNTRY_INFO!G20*0.2>MAX('T1'!N20,'T2'!L20),MAX('T1'!N20,'T2'!L20),COUNTRY_INFO!G20*0.2),IF(COUNTRY_INFO!K20=3,IF(COUNTRY_INFO!G20>MAX('T1'!N20,'T2'!L20),MAX('T1'!N20,'T2'!L20),COUNTRY_INFO!G20),0))","v":0},{"$f":"IF(AND(COUNTRY_INFO!K20>0,COUNTRY_INFO!L20<4),IF(Z20>0,IF(COUNTRY_INFO!K20=1, 0, IF(COUNTRY_INFO!K20=2, AF20/(COUNTRY_INFO!G20*0.2)*100, IF(COUNTRY_INFO!K20=3, AF20/COUNTRY_INFO!G20*100))),\"-\"),0)","v":0},0,{"$f":"IF(AND(COUNTRY_INFO!K20>0,COUNTRY_INFO!K20<4), IF(AC20/Z20*100<>0, IF(AH20/Z20*100>100,100,AH20/Z20*100), \"-\"),0)","v":"-"},null,{"$f":"IF(AND(D20<>0, D20<>\"Unknown\",D20<>\"Stopped\",D20<>\"Not required\"),D20/COUNTRY_INFO!D20, 0)","v":0},{"$f":"IF(AND(J20<>0,J20<>\"Unknown\",J20<>\"Stopped\",J20<>\"Not required\"),J20/COUNTRY_INFO!D20, 0)","v":0},{"$f":"IF(AND(P20<>0,P20<>\"Unknown\",P20<>\"Not required\"),P20/(COUNTRY_INFO!E20+COUNTRY_INFO!F20), 0)","v":1},{"$f":"IF(AND(Z20<>0,Z20<>\"Unknown\",Z20<>\"Not required\"),IF(COUNTRY_INFO!K20=1,1,IF(COUNTRY_INFO!K20=2,0.5*COUNTRY_INFO!F20/(0.5*COUNTRY_INFO!F20+0.2*COUNTRY_INFO!G20),IF(COUNTRY_INFO!K20=3,COUNTRY_INFO!F20/(COUNTRY_INFO!F20+COUNTRY_INFO!G20)))),0)","v":0.56962100487352973},{"$f":"IF(AND(Z20<>0,Z20<>\"Unknown\",Z20<>\"Not required\"),IF(COUNTRY_INFO!K20=1,0,IF(COUNTRY_INFO!K20=2,0.2*COUNTRY_INFO!G20/(0.5*COUNTRY_INFO!F20+0.2*COUNTRY_INFO!G20),IF(COUNTRY_INFO!K20=3,COUNTRY_INFO!G20/(COUNTRY_INFO!F20+COUNTRY_INFO!G20)))),0)","v":0.43037899512647032},{"$f":"MAX(COUNTRY_INFO!D20*AK20*PROFILE!$G$7,COUNTRY_INFO!D20*AL20*PROFILE!$G$7)","v":0},{"$f":"MAX(COUNTRY_INFO!D20*AK20*PROFILE!$G$8,COUNTRY_INFO!D20*AL20*PROFILE!$G$8,COUNTRY_INFO!D20*AM20*PROFILE!$G$8)","v":33004.52530697269},{"$f":"MAX(COUNTRY_INFO!D20*AK20*PROFILE!$G$9,COUNTRY_INFO!D20*AL20*PROFILE!$G$9,COUNTRY_INFO!D20*AM20*PROFILE!$G$9,IF(AND(DISTRICT!Z20<>\"Unknown\",Z20<>\"Not required\"),COUNTRY_INFO!P20*DISTRICT!AN20,0))","v":57551.6685243877},{"$f":"MAX(COUNTRY_INFO!D20*AK20*PROFILE!$G$10,COUNTRY_INFO!D20*AL20*PROFILE!$G$10,IF(AND(DISTRICT!Z20<>\"Unknown\",Z20<>\"Not required\"),COUNTRY_INFO!P20*DISTRICT!AO20,0))","v":21741.800000000003},112297.99383136039,0,{"$f":"MAX('MDA4'!R20,'T1'!L20,'T2'!J20,T3_R1!K20,T3_R2!K20)","v":0},{"$f":"MAX('MDA1'!K20,'MDA4'!S20,'MDA3'!I20,'MDA3'!L20,'T1'!M20,'T2'!K20,T3_R1!L20,T3_R2!L20)","v":0},{"$f":"MAX('MDA1'!L20,'MDA4'!T20,'MDA3'!J20,'MDA3'!M20,'T1'!N20,'T2'!L20,T3_R1!M20,T3_R2!M20)","v":0},0,{"$f":"MAX('MDA4'!R20,T20)","v":0},{"$f":"MAX('MDA1'!K20,'MDA4'!S20,'MDA3'!I20,'MDA3'!L20,V20,AD20)","v":0},{"$f":"MAX('MDA1'!L20,'MDA4'!T20,'MDA3'!J20,'MDA3'!M20,AF20)","v":0},0,0]
[{"$f":"IF(COUNTRY_INFO!A21=0,\" \",COUNTRY_INFO!A21)","v":"Angola"},{"$f":"IF(COUNTRY_INFO!B21=0,\" \",COUNTRY_INFO!B21)","v":"BENGUELA"},{"$f":"IF(COUNTRY_INFO!C21=0,\" \",COUNTRY_INFO!C21)","v":"CHONGOROI"},{"$f":"COUNTRY_INFO!M21","v":0},null,null,{"$f":"MAX('MDA1'!M21,'MDA4'!U21)","v":0},{"$f":"IF(AND(COUNTRY_INFO!H21>0,COUNTRY_INFO!H21<4),IF(D21>MAX('MDA1'!M21,'MDA4'!U21),MAX('MDA1'!M21,'MDA4'!U21),D21),0)","v":0},{"$f":"IF(AND(COUNTRY_INFO!H21>0,COUNTRY_INFO!H21<4), IF(G21/D21*100<>0, IF(G21/D21*100>100,100,G21/D21*100), \"-\"),0)","v":0},{"$f":"COUNTRY_INFO!N21","v":"Unknown"},null,null,{"$f":"MAX('MDA1'!M21,MAX('MDA3'!I21,'MDA3'!L21)+MAX('MDA3'!J21,'MDA3'!M21))","v":0},{"$f":"IF(AND(COUNTRY_INFO!I21>0,COUNTRY_INFO!I21<4),IF(J21>MAX('MDA1'!M21,MAX('MDA3'!I21,'MDA3'!L21)+MAX('MDA3'!J21,'MDA3'!M21)),MAX('MDA1'!M21,MAX('MDA3'!I21,'MDA3'!L21)+MAX('MDA3'!J21,'MDA3'!M21)),J21),0)","v":0},{"$f":"IF(AND(COUNTRY_INFO!I21>0,COUNTRY_INFO!I21<4), IF(M21/J21*100<>0, IF(M21/J21*100>100,100,M21/J21*100), \"-\"),0)","v":0},{"$f":"COUNTRY_INFO!O21","v":44956},null,null,{"$f":"SUM(MAX('MDA4'!R21, 'T1'!L21, MAX(T3_R1!K21, T3_R2!K21)), MAX('MDA1'!K21, 'MDA4'!S21, 'T1'!M21, MAX(T3_R1!L21, T3_R2!L21)), MAX('MDA1'!L21, 'MDA4'!T21, 'T1'!N21, MAX(T3_R1!M21, T3_R2!M21)))","v":0},{"$f":"IF(AND(COUNTRY_INFO!J21>1,COUNTRY_INFO!J21<4),IF(COUNTRY_INFO!E21>MAX('MDA4'!R21,'T1'!L21,MAX(T3_R1!K21,T3_R2!K21)),MAX('MDA4'!R21,'T1'!L21,MAX(T3_R1!K21,T3_R2!K21)),COUNTRY_INFO!E21),0)","v":0},{"$f":"IF(AND(COUNTRY_INFO!J21>1,COUNTRY_INFO!J21<4), IF(T21/COUNTRY_INFO!E21*100<>0, IF(T21/COUNTRY_INFO!E21*100>100,100,T21/COUNTRY_INFO!E21*100), \"-\"),0)","v":"-"},{"$f":"IF(AND(COUNTRY_INFO!J21>1,COUNTRY_INFO!J21<4),IF(COUNTRY_INFO!F21>MAX('MDA1'!K21,'MDA4'!S21,'T1'!M21,MAX(T3_R1!L21,T3_R2!L21)),MAX('MDA1'!K21,'MDA4'!S21,'T1'!M21,MAX(T3_R1!L21,T3_R2!L21)),COUNTRY_INFO!F21),0)","v":0},{"$f":"IF(AND(COUNTRY_INFO!J21>1,COUNTRY_INFO!J21<4), IF(V21/COUNTRY_INFO!F21*100<>0, IF(V21/COUNTRY_INFO!F21*100>100,100,V21/COUNTRY_INFO!F21*100), \"-\"),0)","v":"-"},0,{"$f":"IF(AND(COUNTRY_INFO!J21>1,COUNTRY_INFO!J21<4), IF(S21/P21*100<>0, IF(X21/P21*100>100,100,X21/P21*100), \"-\"),0)","v":"-"},{"$f":"COUNTRY_INFO!P21","v":25079.1},null,null,{"$f":"MAX('T1'!L21,'T2'!J21)+MAX('T1'!M21,'T2'!K21)+MAX('T1'!N21,'T2'!L21)","v":0},{"$f":"IF(COUNTRY_INFO!K21=1,IF(COUNTRY_INFO!F21*0.33>MAX('T1'!M21,'T2'!K21),MAX('T1'!M21,'T2'!K21),COUNTRY_INFO!F21*0.33),IF(COUNTRY_INFO!K21=2,IF(COUNTRY_INFO!F21*0.5>MAX('T1'!M21,'T2'!K21),MAX('T1'!M21,'T2'!K21),COUNTRY_INFO!F21*0.5),IF(COUNTRY_INFO!K21=3,IF(COUNTRY_INFO!F21>MAX('T1'!M21,'T2'!K21),MAX('T1'!M21,'T2'!K21),COUNTRY_INFO!F21),0)))","v":0},{"$f":"IF(AND(COUNTRY_INFO!K21>0,COUNTRY_INFO!L21<4),IF(Z21>0,IF(COUNTRY_INFO!K21=1, AD21/(COUNTRY_INFO!F21*0.33)*100, IF(COUNTRY_INFO!K21=2, AD21/(COUNTRY_INFO!F21*0.5)*100, IF(COUNTRY_INFO!K21=3, AD21/COUNTRY_INFO!F21*100))),\"-\"),0)","v":0},{"$f":"IF(COUNTRY_INFO!K21=2,IF(COUNTRY_INFO!G21*0.2>MAX('T1'!N21,'T2'!L21),MAX('T1'!N21,'T2'!L21),COUNTRY_INFO!G21*0.2),IF(COUNTRY_INFO!K21=3,IF(COUNTRY_INFO!G21>MAX('T1'!N21,'T2'!L21),MAX('T1'!N21,'T2'!L21),COUNTRY_INFO!G21),0))","v":0},{"$f":"IF(AND(COUNTRY_INFO!K21>0,COUNTRY_INFO!L21<4),IF(Z21>0,IF(COUNTRY_INFO!K21=1, 0, IF(COUNTRY_INFO!K21=2, AF21/(COUNTRY_INFO!G21*0.2)*100, IF(COUNTRY_INFO!K21=3, AF21/COUNTRY_INFO!G21*100))),\"-\"),0)","v":0},0,{"$f":"IF(AND(COUNTRY_INFO!K21>0,COUNTRY_INFO!K21<4), IF(AC21/Z21*100<>0, IF(AH21/Z21*100>100,100,AH21/Z21*100), \"-\"),0)","v":"-"},null,{"$f":"IF(AND(D21<>0, D21<>\"Unknown\",D21<>\"Stopped\",D21<>\"Not required\"),D21/COUNTRY_INFO!D21, 0)","v":0},{"$f":"IF(AND(J21<>0,J21<>\"Unknown\",J21<>\"Stopped\",J21<>\"Not required\"),J21/COUNTRY_INFO!D21, 0)","v":0},{"$f":"IF(AND(P21<>0,P21<>\"Unknown\",P21<>\"Not required\"),P21/(COUNTRY_INFO!E21+COUNTRY_INFO!F21), 0)","v":1},{"$f":"IF(AND(Z21<>0,Z21<>\"Unknown\",Z21<>\"Not required\"),IF(COUNTRY_INFO!K21=1,1,IF(COUNTRY_INFO!K21=2,0.5*COUNTRY_INFO!F21/(0.5*COUNTRY_INFO!F21+0.2*COUNTRY_INFO!G21),IF(COUNTRY_INFO!K21=3,COUNTRY_INFO!F21/(COUNTRY_INFO!F21+COUNTRY_INFO!G21)))),0)","v":0.56961772950384981},{"$f":"IF(AND(Z21<>0,Z21<>\"Unknown\",Z21<>\"Not required\"),IF(COUNTRY_INFO!K21=1,0,IF(COUNTRY_INFO!K21=2,0.2*COUNTRY_INFO!G21/(0.5*COUNTRY_INFO!F21+0.2*COUNTRY_INFO!G21),IF(COUNTRY_INFO!K21=3,COUNTRY_INFO!G21/(COUNTRY_INFO!F21+COUNTRY_INFO!G21)))),0)","v":0.43038227049615024},{"$f":"MAX(COUNTRY_INFO!D21*AK21*PROFILE!$G$7,COUNTRY_INFO!D21*AL21*PROFILE!$G$7)","v":0},{"$f":"MAX(COUNTRY_INFO!D21*AK21*PROFILE!$G$8,COUNTRY_INFO!D21*AL21*PROFILE!$G$8,COUNTRY_INFO!D21*AM21*PROFILE!$G$8)","v":16385.0229500979},{"$f":"MAX(COUNTRY_INFO!D21*AK21*PROFILE!$G$9,COUNTRY_INFO!D21*AL21*PROFILE!$G$9,COUNTRY_INFO!D21*AM21*PROFILE!$G$9,IF(AND(DISTRICT!Z21<>\"Unknown\",Z21<>\"Not required\"),COUNTRY_INFO!P21*DISTRICT!AN21,0))","v":28571.397431651596},{"$f":"MAX(COUNTRY_INFO!D21*AK21*PROFILE!$G$10,COUNTRY_INFO!D21*AL21*PROFILE!$G$10,IF(AND(DISTRICT!Z21<>\"Unknown\",Z21<>\"Not required\"),COUNTRY_INFO!P21*DISTRICT!AO21,0))","v":10793.6},55750.020381749498,0,{"$f":"MAX('MDA4'!R21,'T1'!L21,'T2'!J21,T3_R1!K21,T3_R2!K21)","v":0},{"$f":"MAX('MDA1'!K21,'MDA4'!S21,'MDA3'!I21,'MDA3'!L21,'T1'!M21,'T2'!K21,T3_R1!L21,T3_R2!L21)","v":0},{"$f":"MAX('MDA1'!L21,'MDA4'!T21,'MDA3'!J21,'MDA3'!M21,'T1'!N21,'T2'!L21,T3_R1!M21,T3_R2!M21)","v":0},0,{"$f":"MAX('MDA4'!R21,T21)","v":0},{"$f":"MAX('MDA1'!K21,'MDA4'!S21,'MDA3'!I21,'MDA3'!L21,V21,AD21)","v":0},{"$f":"MAX('MDA1'!L21,'MDA4'!T21,'MDA3'!J21,'MDA3'!M21,AF21)","v":0},0,0]
[{"$f":"IF(COUNTRY_INFO!A22=0,\" \",COUNTRY_INFO!A22)","v":"Angola"},{"$f":"IF(COUNTRY_INFO!B22=0,\" \",COUNTRY_INFO!B22)","v":"BENGUELA"},{"$f":"IF(COUNTRY_INFO!C22=0,\" \",COUNTRY_INFO!C22)","v":"CUBAL"},{"$f":"COUNTRY_INFO!M22","v":0},null,null,{"$f":"MAX('MDA1'!M22,'MDA4'!U22)","v":0},{"$f":"IF(AND(COUNTRY_INFO!H22>0,COUNTRY_INFO!H22<4),IF(D22>MAX('MDA1'!M22,'MDA4'!U22),MAX('MDA1'!M22,'MDA4'!U22),D22),0)","v":0},{"$f":"IF(AND(COUNTRY_INFO!H22>0,COUNTRY_INFO!H22<4), IF(G22/D22*100<>0, IF(G22/D22*100>100,100,G22/D22*100), \"-\"),0)","v":0},{"$f":"COUNTRY_INFO!N22","v":"Unknown"},null,null,{"$f":"MAX('MDA1'!M22,MAX('MDA3'!I22,'MDA3'!L22)+MAX('MDA3'!J22,'MDA3'!M22))","v":0},{"$f":"IF(AND(COUNTRY_INFO!I22>0,COUNTRY_INFO!I22<4),IF(J22>MAX('MDA1'!M22,MAX('MDA3'!I22,'MDA3'!L22)+MAX('MDA3'!J22,'MDA3'!M22)),MAX('MDA1'!M22,MAX('MDA3'!I22,'MDA3'!L22)+MAX('MDA3'!J22,'MDA3'!M22)),J22),0)","v":0},{"$f":"IF(AND(COUNTRY_INFO!I22>0,COUNTRY_INFO!I22<4), IF(M22/J22*100<>0, IF(M22/J22*100>100,100,M22/J22*100), \"-\"),0)","v":0},{"$f":"COUNTRY_INFO!O22","v":157429},null,null,{"$f":"SUM(MAX('MDA4'!R22, 'T1'!L22, MAX(T3_R1!K22, T3_R2!K22)), MAX('MDA1'!K22, 'MDA4'!S22, 'T1'!M22, MAX(T3_R1!L22, T3_R2!L22)), MAX('MDA1'!L22, 'MDA4'!T22, 'T1'!N22, MAX(T3_R1!M22, T3_R2!M22)))","v":0},{"$f":"IF(AND(COUNTRY_INFO!J22>1,COUNTRY_INFO!J22<4),IF(COUNTRY_INFO!E22>MAX('MDA4'!R22,'T1'!L22,MAX(T3_R1!K22,T3_R2!K22)),MAX('MDA4'!R22,'T1'!L22,MAX(T3_R1!K22,T3_R2!K22)),COUNTRY_INFO!E22),0)","v":0},{"$f":"IF(AND(COUNTRY_INFO!J22>1,COUNTRY_INFO!J22<4), IF(T22/COUNTRY_INFO!E22*100<>0, IF(T22/COUNTRY_INFO!E22*100>100,100,T22/COUNTRY_INFO!E22*100), \"-\"),0)","v":"-"},{"$f":"IF(AND(COUNTRY_INFO!J22>1,COUNTRY_INFO!J22<4),IF(COUNTRY_INFO!F22>MAX('MDA1'!K22,'MDA4'!S22,'T1'!M22,MAX(T3_R1!L22,T3_R2!L22)),MAX('MDA1'!K22,'MDA4'!S22,'T1'!M22,MAX(T3_R1!L22,T3_R2!L22)),COUNTRY_INFO!F22),0)","v":0},{"$f":"IF(AND(COUNTRY_INFO!J22>1,COUNTRY_INFO!J22<4), IF(V22/COUNTRY_INFO!F22*100<>0, IF(V22/COUNTRY_INFO!F22*100>100,100,V22/COUNTRY_INFO!F22*100), \"-\"),0)","v":"-"},0,{"$f":"IF(AND(COUNTRY_INFO!J22>1,COUNTRY_INFO!J22<4), IF(S22/P22*100<>0, IF(X22/P22*100>100,100,X22/P22*100), \"-\"),0)","v":"-"},{"$f":"COUNTRY_INFO!P22","v":87823.4},null,null,{"$f":"MAX('T1'!L22,'T2'!J22)+MAX('T1'!M22,'T2'!K22)+MAX('T1'!N22,'T2'!L22)","v":0},{"$f":"IF(COUNTRY_INFO!K22=1,IF(COUNTRY_INFO!F22*0.33>MAX('T1'!M22,'T2'!K22),MAX('T1'!M22,'T2'!K22),COUNTRY_INFO!F22*0.33),IF(COUNTRY_INFO!K22=2,IF(COUNTRY_INFO!F22*0.5>MAX('T1'!M22,'T2'!K22),MAX('T1'!M22,'T2'!K22),COUNTRY_INFO!F22*0.5),IF(COUNTRY_INFO!K22=3,IF(COUNTRY_INFO!F22>MAX('T1'!M22,'T2'!K22),MAX('T1'!M22,'T2'!K22),COUNTRY_INFO!F22),0)))","v":0},{"$f":"IF(AND(COUNTRY_INFO!K22>0,COUNTRY_INFO!L22<4),IF(Z22>0,IF(COUNTRY_INFO!K22=1, AD22/(COUNTRY_INFO!F22*0.33)*100, IF(COUNTRY_INFO!K22=2, AD22/(COUNTRY_INFO!F22*0.5)*100, IF(COUNTRY_INFO!K22=3, AD22/COUNTRY_INFO!F22*100))),\"-\"),0)","v":0},{"$f":"IF(COUNTRY_INFO!K22=2,IF(COUNTRY_INFO!G22*0.2>MAX('T1'!N22,'T2'!L22),MAX('T1'!N22,'T2'!L22),COUNTRY_INFO!G22*0.2),IF(COUNTRY_INFO!K22=3,IF(COUNTRY_INFO!G22>MAX('T1'!N22,'T2'!L22),MAX('T1'!N22,'T2'!L22),COUNTRY_INFO!G22),0))","v":0},{"$f":"IF(AND(COUNTRY_INFO!K22>0,COUNTRY_INFO!L22<4),IF(Z22>0,IF(COUNTRY_INFO!K22=1, 0, IF(COUNTRY_INFO!K22=2, AF22/(COUNTRY_INFO!G22*0.2)*100, IF(COUNTRY_INFO!K22=3, AF22/COUNTRY_INFO!G22*100))),\"-\"),0)","v":0},0,{"$f":"IF(AND(COUNTRY_INFO!K22>0,COUNTRY_INFO!K22<4), IF(AC22/Z22*100<>0, IF(AH22/Z22*100>100,100,AH22/Z22*100), \"-\"),0)","v":"-"},null,{"$f":"IF(AND(D22<>0, D22<>\"Unknown\",D22<>\"Stopped\",D22<>\"Not required\"),D22/COUNTRY_INFO!D22, 0)","v":0},{"$f":"IF(AND(J22<>0,J22<>\"Unknown\",J22<>\"Stopped\",J22<>\"Not required\"),J22/COUNTRY_INFO!D22, 0)","v":0},{"$f":"IF(AND(P22<>0,P22<>\"Unknown\",P22<>\"Not required\"),P22/(COUNTRY_INFO!E22+COUNTRY_INFO!F22), 0)","v":1},{"$f":"IF(AND(Z22<>0,Z22<>\"Unknown\",Z22<>\"Not required\"),IF(COUNTRY_INFO!K22=1,1,IF(COUNTRY_INFO!K22=2,0.5*COUNTRY_INFO!F22/(0.5*COUNTRY_INFO!F22+0.2*COUNTRY_INFO!G22),IF(COUNTRY_INFO!K22=3,COUNTRY_INFO!F22/(COUNTRY_INFO!F22+COUNTRY_INFO!G22)))),0)","v":0.56962039729730352},{"$f":"IF(AND(Z22<>0,Z22<>\"Unknown\",Z22<>\"Not required\"),IF(COUNTRY_INFO!K22=1,0,IF(COUNTRY_INFO!K22=2,0.2*COUNTRY_INFO!G22/(0.5*COUNTRY_INFO!F22+0.2*COUNTRY_INFO!G22),IF(COUNTRY_INFO!K22=3,COUNTRY_INFO!G22/(COUNTRY_INFO!F22+COUNTRY_INFO!G22)))),0)","v":0.4303796027026966},{"$f":"MAX(COUNTRY_INFO!D22*AK22*PROFILE!$G$7,COUNTRY_INFO!D22*AL22*PROFILE!$G$7)","v":0},{"$f":"MAX(COUNTRY_INFO!D22*AK22*PROFILE!$G$8,COUNTRY_INFO!D22*AL22*PROFILE!$G$8,COUNTRY_INFO!D22*AM22*PROFILE!$G$8)","v":57377.429985612893},{"$f":"MAX(COUNTRY_INFO!D22*AK22*PROFILE!$G$9,COUNTRY_INFO!D22*AL22*PROFILE!$G$9,COUNTRY_INFO!D22*AM22*PROFILE!$G$9,IF(AND(DISTRICT!Z22<>\"Unknown\",Z22<>\"Not required\"),COUNTRY_INFO!P22*DISTRICT!AN22,0))","v":100051.94138076651},{"$f":"MAX(COUNTRY_INFO!D22*AK22*PROFILE!$G$10,COUNTRY_INFO!D22*AL22*PROFILE!$G$10,IF(AND(DISTRICT!Z22<>\"Unknown\",Z22<>\"Not required\"),COUNTRY_INFO!P22*DISTRICT!AO22,0))","v":37797.4},195226.7713663794,0,{"$f":"MAX('MDA4'!R22,'T1'!L22,'T2'!J22,T3_R1!K22,T3_R2!K22)","v":0},{"$f":"MAX('MDA1'!K22,'MDA4'!S22,'MDA3'!I22,'MDA3'!L22,'T1'!M22,'T2'!K22,T3_R1!L22,T3_R2!L22)","v":0},{"$f":"MAX('MDA1'!L22,'MDA4'!T22,'MDA3'!J22,'MDA3'!M22,'T1'!N22,'T2'!L22,T3_R1!M22,T3_R2!M22)","v":0},0,{"$f":"MAX('MDA4'!R22,T22)","v":0},{"$f":"MAX('MDA1'!K22,'MDA4'!S22,'MDA3'!I22,'MDA3'!L22,V22,AD22)","v":0},{"$f":"MAX('MDA1'!L22,'MDA4'!T22,'MDA3'!J22,'MDA3'!M22,AF22)","v":0},0,0]
[{"$f":"IF(COUNTRY_INFO!A23=0,\" \",COUNTRY_INFO!A23)","v":"Angola"},{"$f":"IF(COUNTRY_INFO!B23=0,\" \",COUNTRY_INFO!B23)","v":"BENGUELA"},{"$f":"IF(COUNTRY_INFO!C23=0,\" \",COUNTRY_INFO!C23)","v":"GANDA"},{"$f":"COUNTRY_INFO!M23","v":0},null,null,{"$f":"MAX('MDA1'!M23,'MDA4'!U23)","v":0},{"$f":"IF(AND(COUNTRY_INFO!H23>0,COUNTRY_INFO!H23<4),IF(D23>MAX('MDA1'!M23,'MDA4'!U23),MAX('MDA1'!M23,'MDA4'!U23),D23),0)","v":0},{"$f":"IF(AND(COUNTRY_INFO!H23>0,COUNTRY_INFO!H23<4), IF(G23/D23*100<>0, IF(G23/D23*100>100,100,G23/D23*100), \"-\"),0)","v":0},{"$f":"COUNTRY_INFO!N23","v":"Unknown"},null,null,{"$f":"MAX('MDA1'!M23,MAX('MDA3'!I23,'MDA3'!L23)+MAX('MDA3'!J23,'MDA3'!M23))","v":0},{"$f":"IF(AND(COUNTRY_INFO!I23>0,COUNTRY_INFO!I23<4),IF(J23>MAX('MDA1'!M23,MAX('MDA3'!I23,'MDA3'!L23)+MAX('MDA3'!J23,'MDA3'!M23)),MAX('MDA1'!M23,MAX('MDA3'!I23,'MDA3'!L23)+MAX('MDA3'!J23,'MDA3'!M23)),J23),0)","v":0},{"$f":"IF(AND(COUNTRY_INFO!I23>0,COUNTRY_INFO!I23<4), IF(M23/J23*100<>0, IF(M23/J23*100>100,100,M23/J23*100), \"-\"),0)","v":0},{"$f":"COUNTRY_INFO!O23","v":121298},null,null,{"$f":"SUM(MAX('MDA4'!R23, 'T1'!L23, MAX(T3_R1!K23, T3_R2!K23)), MAX('MDA1'!K23, 'MDA4'!S23, 'T1'!M23, MAX(T3_R1!L23, T3_R2!L23)), MAX('MDA1'!L23, 'MDA4'!T23, 'T1'!N23, MAX(T3_R1!M23, T3_R2!M23)))","v":0},{"$f":"IF(AND(COUNTRY_INFO!J23>1,COUNTRY_INFO!J23<4),IF(COUNTRY_INFO!E23>MAX('MDA4'!R23,'T1'!L23,MAX(T3_R1!K23,T3_R2!K23)),MAX('MDA4'!R23,'T1'!L23,MAX(T3_R1!K23,T3_R2!K23)),COUNTRY_INFO!E23),0)","v":0},{"$f":"IF(AND(COUNTRY_INFO!J23>1,COUNTRY_INFO!J23<4), IF(T23/COUNTRY_INFO!E23*100<>0, IF(T23/COUNTRY_INFO!E23*100>100,100,T23/COUNTRY_INFO!E23*100), \"-\"),0)","v":"-"},{"$f":"IF(AND(COUNTRY_INFO!J23>1,COUNTRY_INFO!J23<4),IF(COUNTRY_INFO!F23>MAX('MDA1'!K23,'MDA4'!S23,'T1'!M23,MAX(T3_R1!L23,T3_R2!L23)),MAX('MDA1'!K23,'MDA4'!S23,'T1'!M23,MAX(T3_R1!L23,T3_R2!L23)),COUNTRY_INFO!F23),0)","v":0},{"$f":"IF(AND(COUNTRY_INFO!J23>1,COUNTRY_INFO!J23<4), IF(V23/COUNTRY_INFO!F23*100<>0, IF(V23/COUNTRY_INFO!F23*100>100,100,V23/COUNTRY_INFO!F23*100), \"-\"),0)","v":"-"},0,{"$f":"IF(AND(COUNTRY_INFO!J23>1,COUNTRY_INFO!J23<4), IF(S23/P23*100<>0, IF(X23/P23*100>100,100,X23/P23*100), \"-\"),0)","v":"-"},{"$f":"COUNTRY_INFO!P23","v":67666.899999999994},null,null,{"$f":"MAX('T1'!L23,'T2'!J23)+MAX('T1'!M23,'T2'!K23)+MAX('T1'!N23,'T2'!L23)","v":0},{"$f":"IF(COUNTRY_INFO!K23=1,IF(COUNTRY_INFO!F23*0.33>MAX('T1'!M23,'T2'!K23),MAX('T1'!M23,'T2'!K23),COUNTRY_INFO!F23*0.33),IF(COUNTRY_INFO!K23=2,IF(COUNTRY_INFO!F23*0.5>MAX('T1'!M23,'T2'!K23),MAX('T1'!M23,'T2'!K23),COUNTRY_INFO!F23*0.5),IF(COUNTRY_INFO!K23=3,IF(COUNTRY_INFO!F23>MAX('T1'!M23,'T2'!K23),MAX('T1'!M23,'T2'!K23),COUNTRY_INFO!F23),0)))","v":0},{"$f":"IF(AND(COUNTRY_INFO!K23>0,COUNTRY_INFO!L23<4),IF(Z23>0,IF(COUNTRY_INFO!K23=1, AD23/(COUNTRY_INFO!F23*0.33)*100, IF(COUNTRY_INFO!K23=2, AD23/(COUNTRY_INFO!F23*0.5)*100, IF(COUNTRY_INFO!K23=3, AD23/COUNTRY_INFO!F23*100))),\"-\"),0)","v":0},{"$f":"IF(COUNTRY_INFO!K23=2,IF(COUNTRY_INFO!G23*0.2>MAX('T1'!N23,'T2'!L23),MAX('T1'!N23,'T2'!L23),COUNTRY_INFO!G23*0.2),IF(COUNTRY_INFO!K23=3,IF(COUNTRY_INFO!G23>MAX('T1'!N23,'T2'!L23),MAX('T1'!N23,'T2'!L23),COUNTRY_INFO!G23),0))","v":0},{"$f":"IF(AND(COUNTRY_INFO!K23>0,COUNTRY_INFO!L23<4),IF(Z23>0,IF(COUNTRY_INFO!K23=1, 0, IF(COUNTRY_INFO!K23=2, AF23/(COUNTRY_INFO!G23*0.2)*100, IF(COUNTRY_INFO!K23=3, AF23/COUNTRY_INFO!G23*100))),\"-\"),0)","v":0},0,{"$f":"IF(AND(COUNTRY_INFO!K23>0,COUNTRY_INFO!K23<4), IF(AC23/Z23*100<>0, IF(AH23/Z23*100>100,100,AH23/Z23*100), \"-\"),0)","v":"-"},null,{"$f":"IF(AND(D23<>0, D23<>\"Unknown\",D23<>\"Stopped\",D23<>\"Not required\"),D23/COUNTRY_INFO!D23, 0)","v":0},{"$f":"IF(AND(J23<>0,J23<>\"Unknown\",J23<>\"Stopped\",J23<>\"Not required\"),J23/COUNTRY_INFO!D23, 0)","v":0},{"$f":"IF(AND(P23<>0,P23<>\"Unknown\",P23<>\"Not required\"),P23/(COUNTRY_INFO!E23+COUNTRY_INFO!F23), 0)","v":1},{"$f":"IF(AND(Z23<>0,Z23<>\"Unknown\",Z23<>\"Not required\"),IF(COUNTRY_INFO!K23=1,1,IF(COUNTRY_INFO!K23=2,0.5*COUNTRY_INFO!F23/(0.5*COUNTRY_INFO!F23+0.2*COUNTRY_INFO!G23),IF(COUNTRY_INFO!K23=3,COUNTRY_INFO!F23/(COUNTRY_INFO!F23+COUNTRY_INFO!G23)))),0)","v":0.56962118849836485},{"$f":"IF(AND(Z23<>0,Z23<>\"Unknown\",Z23<>\"Not required\"),IF(COUNTRY_INFO!K23=1,0,IF(COUNTRY_INFO!K23=2,0.2*COUNTRY_INFO!G23/(0.5*COUNTRY_INFO!F23+0.2*COUNTRY_INFO!G23),IF(COUNTRY_INFO!K23=3,COUNTRY_INFO!G23/(COUNTRY_INFO!F23+COUNTRY_INFO!G23)))),0)","v":0.43037881150163526},{"$f":"MAX(COUNTRY_INFO!D23*AK23*PROFILE!$G$7,COUNTRY_INFO!D23*AL23*PROFILE!$G$7)","v":0},{"$f":"MAX(COUNTRY_INFO!D23*AK23*PROFILE!$G$8,COUNTRY_INFO!D23*AL23*PROFILE!$G$8,COUNTRY_INFO!D23*AM23*PROFILE!$G$8)","v":44208.6609962047},{"$f":"MAX(COUNTRY_INFO!D23*AK23*PROFILE!$G$9,COUNTRY_INFO!D23*AL23*PROFILE!$G$9,COUNTRY_INFO!D23*AM23*PROFILE!$G$9,IF(AND(DISTRICT!Z23<>\"Unknown\",Z23<>\"Not required\"),COUNTRY_INFO!P23*DISTRICT!AN23,0))","v":77088.88947489523},{"$f":"MAX(COUNTRY_INFO!D23*AK23*PROFILE!$G$10,COUNTRY_INFO!D23*AL23*PROFILE!$G$10,IF(AND(DISTRICT!Z23<>\"Unknown\",Z23<>\"Not required\"),COUNTRY_INFO!P23*DISTRICT!AO23,0))","v":29122.400000000001},150419.95047109993,0,{"$f":"MAX('MDA4'!R23,'T1'!L23,'T2'!J23,T3_R1!K23,T3_R2!K23)","v":0},{"$f":"MAX('MDA1'!K23,'MDA4'!S23,'MDA3'!I23,'MDA3'!L23,'T1'!M23,'T2'!K23,T3_R1!L23,T3_R2!L23)","v":0},{"$f":"MAX('MDA1'!L23,'MDA4'!T23,'MDA3'!J23,'MDA3'!M23,'T1'!N23,'T2'!L23,T3_R1!M23,T3_R2!M23)","v":0},0,{"$f":"MAX('MDA4'!R23,T23)","v":0},{"$f":"MAX('MDA1'!K23,'MDA4'!S23,'MDA3'!I23,'MDA3'!L23,V23,AD23)","v":0},{"$f":"MAX('MDA1'!L23,'MDA4'!T23,'MDA3'!J23,'MDA3'!M23,AF23)","v":0},0,0]
[{"$f":"IF(COUNTRY_INFO!A24=0,\" \",COUNTRY_INFO!A24)","v":"Angola"},{"$f":"IF(COUNTRY_INFO!B24=0,\" \",COUNTRY_INFO!B24)","v":"BENGUELA"},{"$f":"IF(COUNTRY_INFO!C24=0,\" \",COUNTRY_INFO!C24)","v":"LOBITO"},{"$f":"COUNTRY_INFO!M24","v":461214.02381240326},null,null,{"$f":"MAX('MDA1'!M24,'MDA4'!U24)","v":0},{"$f":"IF(AND(COUNTRY_INFO!H24>0,COUNTRY_INFO!H24<4),IF(D24>MAX('MDA1'!M24,'MDA4'!U24),MAX('MDA1'!M24,'MDA4'!U24),D24),0)","v":0},{"$f":"IF(AND(COUNTRY_INFO!H24>0,COUNTRY_INFO!H24<4), IF(G24/D24*100<>0, IF(G24/D24*100>100,100,G24/D24*100), \"-\"),0)","v":"-"},{"$f":"COUNTRY_INFO!N24","v":"Unknown"},null,null,{"$f":"MAX('MDA1'!M24,MAX('MDA3'!I24,'MDA3'!L24)+MAX('MDA3'!J24,'MDA3'!M24))","v":0},{"$f":"IF(AND(COUNTRY_INFO!I24>0,COUNTRY_INFO!I24<4),IF(J24>MAX('MDA1'!M24,MAX('MDA3'!I24,'MDA3'!L24)+MAX('MDA3'!J24,'MDA3'!M24)),MAX('MDA1'!M24,MAX('MDA3'!I24,'MDA3'!L24)+MAX('MDA3'!J24,'MDA3'!M24)),J24),0)","v":0},{"$f":"IF(AND(COUNTRY_INFO!I24>0,COUNTRY_INFO!I24<4), IF(M24/J24*100<>0, IF(M24/J24*100>100,100,M24/J24*100), \"-\"),0)","v":0},{"$f":"COUNTRY_INFO!O24","v":202473},null,null,{"$f":"SUM(MAX('MDA4'!R24, 'T1'!L24, MAX(T3_R1!K24, T3_R2!K24)), MAX('MDA1'!K24, 'MDA4'!S24, 'T1'!M24, MAX(T3_R1!L24, T3_R2!L24)), MAX('MDA1'!L24, 'MDA4'!T24, 'T1'!N24, MAX(T3_R1!M24, T3_R2!M24)))","v":0},{"$f":"IF(AND(COUNTRY_INFO!J24>1,COUNTRY_INFO!J24<4),IF(COUNTRY_INFO!E24>MAX('MDA4'!R24,'T1'!L24,MAX(T3_R1!K24,T3_R2!K24)),MAX('MDA4'!R24,'T1'!L24,MAX(T3_R1!K24,T3_R2!K24)),COUNTRY_INFO!E24),0)","v":0},{"$f":"IF(AND(COUNTRY_INFO!J24>1,COUNTRY_INFO!J24<4), IF(T24/COUNTRY_INFO!E24*100<>0, IF(T24/COUNTRY_INFO!E24*100>100,100,T24/COUNTRY_INFO!E24*100), \"-\"),0)","v":"-"},{"$f":"IF(AND(COUNTRY_INFO!J24>1,COUNTRY_INFO!J24<4),IF(COUNTRY_INFO!F24>MAX('MDA1'!K24,'MDA4'!S24,'T1'!M24,MAX(T3_R1!L24,T3_R2!L24)),MAX('MDA1'!K24,'MDA4'!S24,'T1'!M24,MAX(T3_R1!L24,T3_R2!L24)),COUNTRY_INFO!F24),0)","v":0},{"$f":"IF(AND(COUNTRY_INFO!J24>1,COUNTRY_INFO!J24<4), IF(V24/COUNTRY_INFO!F24*100<>0, IF(V24/COUNTRY_INFO!F24*100>100,100,V24/COUNTRY_INFO!F24*100), \"-\"),0)","v":"-"},0,{"$f":"IF(AND(COUNTRY_INFO!J24>1,COUNTRY_INFO!J24<4), IF(S24/P24*100<>0, IF(X24/P24*100>100,100,X24/P24*100), \"-\"),0)","v":"-"},{"$f":"COUNTRY_INFO!P24","v":112951.5},null,null,{"$f":"MAX('T1'!L24,'T2'!J24)+MAX('T1'!M24,'T2'!K24)+MAX('T1'!N24,'T2'!L24)","v":0},{"$f":"IF(COUNTRY_INFO!K24=1,IF(COUNTRY_INFO!F24*0.33>MAX('T1'!M24,'T2'!K24),MAX('T1'!M24,'T2'!K24),COUNTRY_INFO!F24*0.33),IF(COUNTRY_INFO!K24=2,IF(COUNTRY_INFO!F24*0.5>MAX('T1'!M24,'T2'!K24),MAX('T1'!M24,'T2'!K24),COUNTRY_INFO!F24*0.5),IF(COUNTRY_INFO!K24=3,IF(COUNTRY_INFO!F24>MAX('T1'!M24,'T2'!K24),MAX('T1'!M24,'T2'!K24),COUNTRY_INFO!F24),0)))","v":0},{"$f":"IF(AND(COUNTRY_INFO!K24>0,COUNTRY_INFO!L24<4),IF(Z24>0,IF(COUNTRY_INFO!K24=1, AD24/(COUNTRY_INFO!F24*0.33)*100, IF(COUNTRY_INFO!K24=2, AD24/(COUNTRY_INFO!F24*0.5)*100, IF(COUNTRY_INFO!K24=3, AD24/COUNTRY_INFO!F24*100))),\"-\"),0)","v":0},{"$f":"IF(COUNTRY_INFO!K24=2,IF(COUNTRY_INFO!G24*0.2>MAX('T1'!N24,'T2'!L24),MAX('T1'!N24,'T2'!L24),COUNTRY_INFO!G24*0.2),IF(COUNTRY_INFO!K24=3,IF(COUNTRY_INFO!G24>MAX('T1'!N24,'T2'!L24),MAX('T1'!N24,'T2'!L24),COUNTRY_INFO!G24),0))","v":0},{"$f":"IF(AND(COUNTRY_INFO!K24>0,COUNTRY_INFO!L24<4),IF(Z24>0,IF(COUNTRY_INFO!K24=1, 0, IF(COUNTRY_INFO!K24=2, AF24/(COUNTRY_INFO!G24*0.2)*100, IF(COUNTRY_INFO!K24=3, AF24/COUNTRY_INFO!G24*100))),\"-\"),0)","v":0},0,{"$f":"IF(AND(COUNTRY_INFO!K24>0,COUNTRY_INFO!K24<4), IF(AC24/Z24*100<>0, IF(AH24/Z24*100>100,100,AH24/Z24*100), \"-\"),0)","v":"-"},null,{"$f":"IF(AND(D24<>0, D24<>\"Unknown\",D24<>\"Stopped\",D24<>\"Not required\"),D24/COUNTRY_INFO!D24, 0)","v":1},{"$f":"IF(AND(J24<>0,J24<>\"Unknown\",J24<>\"Stopped\",J24<>\"Not required\"),J24/COUNTRY_INFO!D24, 0)","v":0},{"$f":"IF(AND(P24<>0,P24<>\"Unknown\",P24<>\"Not required\"),P24/(COUNTRY_INFO!E24+COUNTRY_INFO!F24), 0)","v":1},{"$f":"IF(AND(Z24<>0,Z24<>\"Unknown\",Z24<>\"Not required\"),IF(COUNTRY_INFO!K24=1,1,IF(COUNTRY_INFO!K24=2,0.5*COUNTRY_INFO!F24/(0.5*COUNTRY_INFO!F24+0.2*COUNTRY_INFO!G24),IF(COUNTRY_INFO!K24=3,COUNTRY_INFO!F24/(COUNTRY_INFO!F24+COUNTRY_INFO!G24)))),0)","v":0.56962058936800308},{"$f":"IF(AND(Z24<>0,Z24<>\"Unknown\",Z24<>\"Not required\"),IF(COUNTRY_INFO!K24=1,0,IF(COUNTRY_INFO!K24=2,0.2*COUNTRY_INFO!G24/(0.5*COUNTRY_INFO!F24+0.2*COUNTRY_INFO!G24),IF(COUNTRY_INFO!K24=3,COUNTRY_INFO!G24/(COUNTRY_INFO!F24+COUNTRY_INFO!G24)))),0)","v":0.43037941063199692},{"$f":"MAX(COUNTRY_INFO!D24*AK24*PROFILE!$G$7,COUNTRY_INFO!D24*AL24*PROFILE!$G$7)","v":15681.388949140261},{"$f":"MAX(COUNTRY_INFO!D24*AK24*PROFILE!$G$8,COUNTRY_INFO!D24*AL24*PROFILE!$G$8,COUNTRY_INFO!D24*AM24*PROFILE!$G$8)","v":73794.179933104941},{"$f":"MAX(COUNTRY_INFO!D24*AK24*PROFILE!$G$9,COUNTRY_INFO!D24*AL24*PROFILE!$G$9,COUNTRY_INFO!D24*AM24*PROFILE!$G$9,IF(AND(DISTRICT!Z24<>\"Unknown\",Z24<>\"Not required\"),COUNTRY_INFO!P24*DISTRICT!AN24,0))","v":128678.66279057927},{"$f":"MAX(COUNTRY_INFO!D24*AK24*PROFILE!$G$10,COUNTRY_INFO!D24*AL24*PROFILE!$G$10,IF(AND(DISTRICT!Z24<>\"Unknown\",Z24<>\"Not required\"),COUNTRY_INFO!P24*DISTRICT!AO24,0))","v":243059.79213957879},461214.02381240326,0,{"$f":"MAX('MDA4'!R24,'T1'!L24,'T2'!J24,T3_R1!K24,T3_R2!K24)","v":0},{"$f":"MAX('MDA1'!K24,'MDA4'!S24,'MDA3'!I24,'MDA3'!L24,'T1'!M24,'T2'!K24,T3_R1!L24,T3_R2!L24)","v":0},{"$f":"MAX('MDA1'!L24,'MDA4'!T24,'MDA3'!J24,'MDA3'!M24,'T1'!N24,'T2'!L24,T3_R1!M24,T3_R2!M24)","v":0},0,{"$f":"MAX('MDA4'!R24,T24)","v":0},{"$f":"MAX('MDA1'!K24,'MDA4'!S24,'MDA3'!I24,'MDA3'!L24,V24,AD24)","v":0},{"$f":"MAX('MDA1'!L24,'MDA4'!T24,'MDA3'!J24,'MDA3'!M24,AF24)","v":0},0,0]
[{"$f":"IF(COUNTRY_INFO!A25=0,\" \",COUNTRY_INFO!A25)","v":"Angola"},{"$f":"IF(COUNTRY_INFO!B25=0,\" \",COUNTRY_INFO!B25)","v":"BIE"},{"$f":"IF(COUNTRY_INFO!C25=0,\" \",COUNTRY_INFO!C25)","v":"ANDULO"},{"$f":"COUNTRY_INFO!M25","v":0},null,null,{"$f":"MAX('MDA1'!M25,'MDA4'!U25)","v":0},{"$f":"IF(AND(COUNTRY_INFO!H25>0,COUNTRY_INFO!H25<4),IF(D25>MAX('MDA1'!M25,'MDA4'!U25),MAX('MDA1'!M25,'MDA4'!U25),D25),0)","v":0},{"$f":"IF(AND(COUNTRY_INFO!H25>0,COUNTRY_INFO!H25<4), IF(G25/D25*100<>0, IF(G25/D25*100>100,100,G25/D25*100), \"-\"),0)","v":0},{"$f":"COUNTRY_INFO!N25","v":302909.78048034577},null,null,{"$f":"MAX('MDA1'!M25,MAX('MDA3'!I25,'MDA3'!L25)+MAX('MDA3'!J25,'MDA3'!M25))","v":0},{"$f":"IF(AND(COUNTRY_INFO!I25>0,COUNTRY_INFO!I25<4),IF(J25>MAX('MDA1'!M25,MAX('MDA3'!I25,'MDA3'!L25)+MAX('MDA3'!J25,'MDA3'!M25)),MAX('MDA1'!M25,MAX('MDA3'!I25,'MDA3'!L25)+MAX('MDA3'!J25,'MDA3'!M25)),J25),0)","v":0},{"$f":"IF(AND(COUNTRY_INFO!I25>0,COUNTRY_INFO!I25<4), IF(M25/J25*100<>0, IF(M25/J25*100>100,100,M25/J25*100), \"-\"),0)","v":"-"},{"$f":"COUNTRY_INFO!O25","v":132978},null,null,{"$f":"SUM(MAX('MDA4'!R25, 'T1'!L25, MAX(T3_R1!K25, T3_R2!K25)), MAX('MDA1'!K25, 'MDA4'!S25, 'T1'!M25, MAX(T3_R1!L25, T3_R2!L25)), MAX('MDA1'!L25, 'MDA4'!T25, 'T1'!N25, MAX(T3_R1!M25, T3_R2!M25)))","v":51331},{"$f":"IF(AND(COUNTRY_INFO!J25>1,COUNTRY_INFO!J25<4),IF(COUNTRY_INFO!E25>MAX('MDA4'!R25,'T1'!L25,MAX(T3_R1!K25,T3_R2!K25)),MAX('MDA4'!R25,'T1'!L25,MAX(T3_R1!K25,T3_R2!K25)),COUNTRY_INFO!E25),0)","v":0},{"$f":"IF(AND(COUNTRY_INFO!J25>1,COUNTRY_INFO!J25<4), IF(T25/COUNTRY_INFO!E25*100<>0, IF(T25/COUNTRY_INFO!E25*100>100,100,T25/COUNTRY_INFO!E25*100), \"-\"),0)","v":"-"},{"$f":"IF(AND(COUNTRY_INFO!J25>1,COUNTRY_INFO!J25<4),IF(COUNTRY_INFO!F25>MAX('MDA1'!K25,'MDA4'!S25,'T1'!M25,MAX(T3_R1!L25,T3_R2!L25)),MAX('MDA1'!K25,'MDA4'!S25,'T1'!M25,MAX(T3_R1!L25,T3_R2!L25)),COUNTRY_INFO!F25),0)","v":51331},{"$f":"IF(AND(COUNTRY_INFO!J25>1,COUNTRY_INFO!J25<4), IF(V25/COUNTRY_INFO!F25*100<>0, IF(V25/COUNTRY_INFO!F25*100>100,100,V25/COUNTRY_INFO!F25*100), \"-\"),0)","v":60.738120030291554},51331,{"$f":"IF(AND(COUNTRY_INFO!J25>1,COUNTRY_INFO!J25<4), IF(S25/P25*100<>0, IF(X25/P25*100>100,100,X25/P25*100), \"-\"),0)","v":38.601121990103628},{"$f":"COUNTRY_INFO!P25","v":74182.600000000006},null,null,{"$f":"MAX('T1'!L25,'T2'!J25)+MAX('T1'!M25,'T2'!K25)+MAX('T1'!N25,'T2'!L25)","v":51331},{"$f":"IF(COUNTRY_INFO!K25=1,IF(COUNTRY_INFO!F25*0.33>MAX('T1'!M25,'T2'!K25),MAX('T1'!M25,'T2'!K25),COUNTRY_INFO!F25*0.33),IF(COUNTRY_INFO!K25=2,IF(COUNTRY_INFO!F25*0.5>MAX('T1'!M25,'T2'!K25),MAX('T1'!M25,'T2'!K25),COUNTRY_INFO!F25*0.5),IF(COUNTRY_INFO!K25=3,IF(COUNTRY_INFO!F25>MAX('T1'!M25,'T2'!K25),MAX('T1'!M25,'T2'!K25),COUNTRY_INFO!F25),0)))","v":42256},{"$f":"IF(AND(COUNTRY_INFO!K25>0,COUNTRY_INFO!L25<4),IF(Z25>0,IF(COUNTRY_INFO!K25=1, AD25/(COUNTRY_INFO!F25*0.33)*100, IF(COUNTRY_INFO!K25=2, AD25/(COUNTRY_INFO!F25*0.5)*100, IF(COUNTRY_INFO!K25=3, AD25/COUNTRY_INFO!F25*100))),\"-\"),0)","v":100},{"$f":"IF(COUNTRY_INFO!K25=2,IF(COUNTRY_INFO!G25*0.2>MAX('T1'!N25,'T2'!L25),MAX('T1'!N25,'T2'!L25),COUNTRY_INFO!G25*0.2),IF(COUNTRY_INFO!K25=3,IF(COUNTRY_INFO!G25>MAX('T1'!N25,'T2'!L25),MAX('T1'!N25,'T2'!L25),COUNTRY_INFO!G25),0))","v":0},{"$f":"IF(AND(COUNTRY_INFO!K25>0,COUNTRY_INFO!L25<4),IF(Z25>0,IF(COUNTRY_INFO!K25=1, 0, IF(COUNTRY_INFO!K25=2, AF25/(COUNTRY_INFO!G25*0.2)*100, IF(COUNTRY_INFO!K25=3, AF25/COUNTRY_INFO!G25*100))),\"-\"),0)","v":0},42256,{"$f":"IF(AND(COUNTRY_INFO!K25>0,COUNTRY_INFO!K25<4), IF(AC25/Z25*100<>0, IF(AH25/Z25*100>100,100,AH25/Z25*100), \"-\"),0)","v":56.962144761709609},null,{"$f":"IF(AND(D25<>0, D25<>\"Unknown\",D25<>\"Stopped\",D25<>\"Not required\"),D25/COUNTRY_INFO!D25, 0)","v":0},{"$f":"IF(AND(J25<>0,J25<>\"Unknown\",J25<>\"Stopped\",J25<>\"Not required\"),J25/COUNTRY_INFO!D25, 0)","v":1},{"$f":"IF(AND(P25<>0,P25<>\"Unknown\",P25<>\"Not required\"),P25/(COUNTRY_INFO!E25+COUNTRY_INFO!F25), 0)","v":1},{"$f":"IF(AND(Z25<>0,Z25<>\"Unknown\",Z25<>\"Not required\"),IF(COUNTRY_INFO!K25=1,1,IF(COUNTRY_INFO!K25=2,0.5*COUNTRY_INFO!F25/(0.5*COUNTRY_INFO!F25+0.2*COUNTRY_INFO!G25),IF(COUNTRY_INFO!K25=3,COUNTRY_INFO!F25/(COUNTRY_INFO!F25+COUNTRY_INFO!G25)))),0)","v":0.5696214476170961},{"$f":"IF(AND(Z25<>0,Z25<>\"Unknown\",Z25<>\"Not required\"),IF(COUNTRY_INFO!K25=1,0,IF(COUNTRY_INFO!K25=2,0.2*COUNTRY_INFO!G25/(0.5*COUNTRY_INFO!F25+0.2*COUNTRY_INFO!G25),IF(COUNTRY_INFO!K25=3,COUNTRY_INFO!G25/(COUNTRY_INFO!F25+COUNTRY_INFO!G25)))),0)","v":0.43037855238290379},{"$f":"MAX(COUNTRY_INFO!D25*AK25*PROFILE!$G$7,COUNTRY_INFO!D25*AL25*PROFILE!$G$7)","v":10299.006185776901},{"$f":"MAX(COUNTRY_INFO!D25*AK25*PROFILE!$G$8,COUNTRY_INFO!D25*AL25*PROFILE!$G$8,COUNTRY_INFO!D25*AM25*PROFILE!$G$8)","v":48465.522924680037},{"$f":"MAX(COUNTRY_INFO!D25*AK25*PROFILE!$G$9,COUNTRY_INFO!D25*AL25*PROFILE!$G$9,COUNTRY_INFO!D25*AM25*PROFILE!$G$9,IF(AND(DISTRICT!Z25<>\"Unknown\",Z25<>\"Not required\"),COUNTRY_INFO!P25*DISTRICT!AN25,0))","v":84511.796012197883},{"$f":"MAX(COUNTRY_INFO!D25*AK25*PROFILE!$G$10,COUNTRY_INFO!D25*AL25*PROFILE!$G$10,IF(AND(DISTRICT!Z25<>\"Unknown\",Z25<>\"Not required\"),COUNTRY_INFO!P25*DISTRICT!AO25,0))","v":159633.45535769092},302909.78048034571,0,{"$f":"MAX('MDA4'!R25,'T1'!L25,'T2'!J25,T3_R1!K25,T3_R2!K25)","v":0},{"$f":"MAX('MDA1'!K25,'MDA4'!S25,'MDA3'!I25,'MDA3'!L25,'T1'!M25,'T2'!K25,T3_R1!L25,T3_R2!L25)","v":51331},{"$f":"MAX('MDA1'!L25,'MDA4'!T25,'MDA3'!J25,'MDA3'!M25,'T1'!N25,'T2'!L25,T3_R1!M25,T3_R2!M25)","v":0},51331,{"$f":"MAX('MDA4'!R25,T25)","v":0},{"$f":"MAX('MDA1'!K25,'MDA4'!S25,'MDA3'!I25,'MDA3'!L25,V25,AD25)","v":51331},{"$f":"MAX('MDA1'!L25,'MDA4'!T25,'MDA3'!J25,'MDA3'!M25,AF25)","v":0},51331,16.94596982593324]
[{"$f":"IF(COUNTRY_INFO!A26=0,\" \",COUNTRY_INFO!A26)","v":"Angola"},{"$f":"IF(COUNTRY_INFO!B26=0,\" \",COUNTRY_INFO!B26)","v":"BIE"},{"$f":"IF(COUNTRY_INFO!C26=0,\" \",COUNTRY_INFO!C26)","v":"CAMACUPA"},{"$f":"COUNTRY_INFO!M26","v":0},null,null,{"$f":"MAX('MDA1'!M26,'MDA4'!U26)","v":0},{"$f":"IF(AND(COUNTRY_INFO!H26>0,COUNTRY_INFO!H26<4),IF(D26>MAX('MDA1'!M26,'MDA4'!U26),MAX('MDA1'!M26,'MDA4'!U26),D26),0)","v":0},{"$f":"IF(AND(COUNTRY_INFO!H26>0,COUNTRY_INFO!H26<4), IF(G26/D26*100<>0, IF(G26/D26*100>100,100,G26/D26*100), \"-\"),0)","v":0},{"$f":"COUNTRY_INFO!N26","v":181782.71106115566},null,null,{"$f":"MAX('MDA1'!M26,MAX('MDA3'!I26,'MDA3'!L26)+MAX('MDA3'!J26,'MDA3'!M26))","v":0},{"$f":"IF(AND(COUNTRY_INFO!I26>0,COUNTRY_INFO!I26<4),IF(J26>MAX('MDA1'!M26,MAX('MDA3'!I26,'MDA3'!L26)+MAX('MDA3'!J26,'MDA3'!M26)),MAX('MDA1'!M26,MAX('MDA3'!I26,'MDA3'!L26)+MAX('MDA3'!J26,'MDA3'!M26)),J26),0)","v":0},{"$f":"IF(AND(COUNTRY_INFO!I26>0,COUNTRY_INFO!I26<4), IF(M26/J26*100<>0, IF(M26/J26*100>100,100,M26/J26*100), \"-\"),0)","v":"-"},{"$f":"COUNTRY_INFO!O26","v":79802},null,null,{"$f":"SUM(MAX('MDA4'!R26, 'T1'!L26, MAX(T3_R1!K26, T3_R2!K26)), MAX('MDA1'!K26, 'MDA4'!S26, 'T1'!M26, MAX(T3_R1!L26, T3_R2!L26)), MAX('MDA1'!L26, 'MDA4'!T26, 'T1'!N26, MAX(T3_R1!M26, T3_R2!M26)))","v":52167},{"$f":"IF(AND(COUNTRY_INFO!J26>1,COUNTRY_INFO!J26<4),IF(COUNTRY_INFO!E26>MAX('MDA4'!R26,'T1'!L26,MAX(T3_R1!K26,T3_R2!K26)),MAX('MDA4'!R26,'T1'!L26,MAX(T3_R1!K26,T3_R2!K26)),COUNTRY_INFO!E26),0)","v":0},{"$f":"IF(AND(COUNTRY_INFO!J26>1,COUNTRY_INFO!J26<4), IF(T26/COUNTRY_INFO!E26*100<>0, IF(T26/COUNTRY_INFO!E26*100>100,100,T26/COUNTRY_INFO!E26*100), \"-\"),0)","v":"-"},{"$f":"IF(AND(COUNTRY_INFO!J26>1,COUNTRY_INFO!J26<4),IF(COUNTRY_INFO!F26>MAX('MDA1'!K26,'MDA4'!S26,'T1'!M26,MAX(T3_R1!L26,T3_R2!L26)),MAX('MDA1'!K26,'MDA4'!S26,'T1'!M26,MAX(T3_R1!L26,T3_R2!L26)),COUNTRY_INFO!F26),0)","v":50717},{"$f":"IF(AND(COUNTRY_INFO!J26>1,COUNTRY_INFO!J26<4), IF(V26/COUNTRY_INFO!F26*100<>0, IF(V26/COUNTRY_INFO!F26*100>100,100,V26/COUNTRY_INFO!F26*100), \"-\"),0)","v":100},50717,{"$f":"IF(AND(COUNTRY_INFO!J26>1,COUNTRY_INFO!J26<4), IF(S26/P26*100<>0, IF(X26/P26*100>100,100,X26/P26*100), \"-\"),0)","v":63.553545023934234},{"$f":"COUNTRY_INFO!P26","v":44518.3},null,null,{"$f":"MAX('T1'!L26,'T2'!J26)+MAX('T1'!M26,'T2'!K26)+MAX('T1'!N26,'T2'!L26)","v":52167},{"$f":"IF(COUNTRY_INFO!K26=1,IF(COUNTRY_INFO!F26*0.33>MAX('T1'!M26,'T2'!K26),MAX('T1'!M26,'T2'!K26),COUNTRY_INFO!F26*0.33),IF(COUNTRY_INFO!K26=2,IF(COUNTRY_INFO!F26*0.5>MAX('T1'!M26,'T2'!K26),MAX('T1'!M26,'T2'!K26),COUNTRY_INFO!F26*0.5),IF(COUNTRY_INFO!K26=3,IF(COUNTRY_INFO!F26>MAX('T1'!M26,'T2'!K26),MAX('T1'!M26,'T2'!K26),COUNTRY_INFO!F26),0)))","v":25358.5},{"$f":"IF(AND(COUNTRY_INFO!K26>0,COUNTRY_INFO!L26<4),IF(Z26>0,IF(COUNTRY_INFO!K26=1, AD26/(COUNTRY_INFO!F26*0.33)*100, IF(COUNTRY_INFO!K26=2, AD26/(COUNTRY_INFO!F26*0.5)*100, IF(COUNTRY_INFO!K26=3, AD26/COUNTRY_INFO!F26*100))),\"-\"),0)","v":100},{"$f":"IF(COUNTRY_INFO!K26=2,IF(COUNTRY_INFO!G26*0.2>MAX('T1'!N26,'T2'!L26),MAX('T1'!N26,'T2'!L26),COUNTRY_INFO!G26*0.2),IF(COUNTRY_INFO!K26=3,IF(COUNTRY_INFO!G26>MAX('T1'!N26,'T2'!L26),MAX('T1'!N26,'T2'!L26),COUNTRY_INFO!G26),0))","v":0},{"$f":"IF(AND(COUNTRY_INFO!K26>0,COUNTRY_INFO!L26<4),IF(Z26>0,IF(COUNTRY_INFO!K26=1, 0, IF(COUNTRY_INFO!K26=2, AF26/(COUNTRY_INFO!G26*0.2)*100, IF(COUNTRY_INFO!K26=3, AF26/COUNTRY_INFO!G26*100))),\"-\"),0)","v":0},25358.5,{"$f":"IF(AND(COUNTRY_INFO!K26>0,COUNTRY_INFO!K26<4), IF(AC26/Z26*100<>0, IF(AH26/Z26*100>100,100,AH26/Z26*100), \"-\"),0)","v":56.961968448929987},null,{"$f":"IF(AND(D26<>0, D26<>\"Unknown\",D26<>\"Stopped\",D26<>\"Not required\"),D26/COUNTRY_INFO!D26, 0)","v":0},{"$f":"IF(AND(J26<>0,J26<>\"Unknown\",J26<>\"Stopped\",J26<>\"Not required\"),J26/COUNTRY_INFO!D26, 0)","v":1},{"$f":"IF(AND(P26<>0,P26<>\"Unknown\",P26<>\"Not required\"),P26/(COUNTRY_INFO!E26+COUNTRY_INFO!F26), 0)","v":1},{"$f":"IF(AND(Z26<>0,Z26<>\"Unknown\",Z26<>\"Not required\"),IF(COUNTRY_INFO!K26=1,1,IF(COUNTRY_INFO!K26=2,0.5*COUNTRY_INFO!F26/(0.5*COUNTRY_INFO!F26+0.2*COUNTRY_INFO!G26),IF(COUNTRY_INFO!K26=3,COUNTRY_INFO!F26/(COUNTRY_INFO!F26+COUNTRY_INFO!G26)))),0)","v":0.56961968448929989},{"$f":"IF(AND(Z26<>0,Z26<>\"Unknown\",Z26<>\"Not required\"),IF(COUNTRY_INFO!K26=1,0,IF(COUNTRY_INFO!K26=2,0.2*COUNTRY_INFO!G26/(0.5*COUNTRY_INFO!F26+0.2*COUNTRY_INFO!G26),IF(COUNTRY_INFO!K26=3,COUNTRY_INFO!G26/(COUNTRY_INFO!F26+COUNTRY_INFO!G26)))),0)","v":0.43038031551070005},{"$f":"MAX(COUNTRY_INFO!D26*AK26*PROFILE!$G$7,COUNTRY_INFO!D26*AL26*PROFILE!$G$7)","v":6180.6563747043265},{"$f":"MAX(COUNTRY_INFO!D26*AK26*PROFILE!$G$8,COUNTRY_INFO!D26*AL26*PROFILE!$G$8,COUNTRY_INFO!D26*AM26*PROFILE!$G$8)","v":29085.208593377112},{"$f":"MAX(COUNTRY_INFO!D26*AK26*PROFILE!$G$9,COUNTRY_INFO!D26*AL26*PROFILE!$G$9,COUNTRY_INFO!D26*AM26*PROFILE!$G$9,IF(AND(DISTRICT!Z26<>\"Unknown\",Z26<>\"Not required\"),COUNTRY_INFO!P26*DISTRICT!AN26,0))","v":50717.356736988906},{"$f":"MAX(COUNTRY_INFO!D26*AK26*PROFILE!$G$10,COUNTRY_INFO!D26*AL26*PROFILE!$G$10,IF(AND(DISTRICT!Z26<>\"Unknown\",Z26<>\"Not required\"),COUNTRY_INFO!P26*DISTRICT!AO26,0))","v":95799.489356085309},181782.71106115566,0,{"$f":"MAX('MDA4'!R26,'T1'!L26,'T2'!J26,T3_R1!K26,T3_R2!K26)","v":0},{"$f":"MAX('MDA1'!K26,'MDA4'!S26,'MDA3'!I26,'MDA3'!L26,'T1'!M26,'T2'!K26,T3_R1!L26,T3_R2!L26)","v":52167},{"$f":"MAX('MDA1'!L26,'MDA4'!T26,'MDA3'!J26,'MDA3'!M26,'T1'!N26,'T2'!L26,T3_R1!M26,T3_R2!M26)","v":0},52167,{"$f":"MAX('MDA4'!R26,T26)","v":0},{"$f":"MAX('MDA1'!K26,'MDA4'!S26,'MDA3'!I26,'MDA3'!L26,V26,AD26)","v":50717},{"$f":"MAX('MDA1'!L26,'MDA4'!T26,'MDA3'!J26,'MDA3'!M26,AF26)","v":0},50717,27.899792947271923]
[{"$f":"IF(COUNTRY_INFO!A27=0,\" \",COUNTRY_INFO!A27)","v":"Angola"},{"$f":"IF(COUNTRY_INFO!B27=0,\" \",COUNTRY_INFO!B27)","v":"BIE"},{"$f":"IF(COUNTRY_INFO!C27=0,\" \",COUNTRY_INFO!C27)","v":"CATABOLA"},{"$f":"COUNTRY_INFO!M27","v":0},null,null,{"$f":"MAX('MDA1'!M27,'MDA4'!U27)","v":0},{"$f":"IF(AND(COUNTRY_INFO!H27>0,COUNTRY_INFO!H27<4),IF(D27>MAX('MDA1'!M27,'MDA4'!U27),MAX('MDA1'!M27,'MDA4'!U27),D27),0)","v":0},{"$f":"IF(AND(COUNTRY_INFO!H27>0,COUNTRY_INFO!H27<4), IF(G27/D27*100<>0, IF(G27/D27*100>100,100,G27/D27*100), \"-\"),0)","v":0},{"$f":"COUNTRY_INFO!N27","v":148580.80194919708},null,null,{"$f":"MAX('MDA1'!M27,MAX('MDA3'!I27,'MDA3'!L27)+MAX('MDA3'!J27,'MDA3'!M27))","v":0},{"$f":"IF(AND(COUNTRY_INFO!I27>0,COUNTRY_INFO!I27<4),IF(J27>MAX('MDA1'!M27,MAX('MDA3'!I27,'MDA3'!L27)+MAX('MDA3'!J27,'MDA3'!M27)),MAX('MDA1'!M27,MAX('MDA3'!I27,'MDA3'!L27)+MAX('MDA3'!J27,'MDA3'!M27)),J27),0)","v":0},{"$f":"IF(AND(COUNTRY_INFO!I27>0,COUNTRY_INFO!I27<4), IF(M27/J27*100<>0, IF(M27/J27*100>100,100,M27/J27*100), \"-\"),0)","v":"-"},{"$f":"COUNTRY_INFO!O27","v":65227},null,null,{"$f":"SUM(MAX('MDA4'!R27, 'T1'!L27, MAX(T3_R1!K27, T3_R2!K27)), MAX('MDA1'!K27, 'MDA4'!S27, 'T1'!M27, MAX(T3_R1!L27, T3_R2!L27)), MAX('MDA1'!L27, 'MDA4'!T27, 'T1'!N27, MAX(T3_R1!M27, T3_R2!M27)))","v":50394},{"$f":"IF(AND(COUNTRY_INFO!J27>1,COUNTRY_INFO!J27<4),IF(COUNTRY_INFO!E27>MAX('MDA4'!R27,'T1'!L27,MAX(T3_R1!K27,T3_R2!K27)),MAX('MDA4'!R27,'T1'!L27,MAX(T3_R1!K27,T3_R2!K27)),COUNTRY_INFO!E27),0)","v":0},{"$f":"IF(AND(COUNTRY_INFO!J27>1,COUNTRY_INFO!J27<4), IF(T27/COUNTRY_INFO!E27*100<>0, IF(T27/COUNTRY_INFO!E27*100>100,100,T27/COUNTRY_INFO!E27*100), \"-\"),0)","v":"-"},{"$f":"IF(AND(COUNTRY_INFO!J27>1,COUNTRY_INFO!J27<4),IF(COUNTRY_INFO!F27>MAX('MDA1'!K27,'MDA4'!S27,'T1'!M27,MAX(T3_R1!L27,T3_R2!L27)),MAX('MDA1'!K27,'MDA4'!S27,'T1'!M27,MAX(T3_R1!L27,T3_R2!L27)),COUNTRY_INFO!F27),0)","v":41454},{"$f":"IF(AND(COUNTRY_INFO!J27>1,COUNTRY_INFO!J27<4), IF(V27/COUNTRY_INFO!F27*100<>0, IF(V27/COUNTRY_INFO!F27*100>100,100,V27/COUNTRY_INFO!F27*100), \"-\"),0)","v":100},41454,{"$f":"IF(AND(COUNTRY_INFO!J27>1,COUNTRY_INFO!J27<4), IF(S27/P27*100<>0, IF(X27/P27*100>100,100,X27/P27*100), \"-\"),0)","v":63.55343646036151},{"$f":"COUNTRY_INFO!P27","v":36387.4},null,null,{"$f":"MAX('T1'!L27,'T2'!J27)+MAX('T1'!M27,'T2'!K27)+MAX('T1'!N27,'T2'!L27)","v":50394},{"$f":"IF(COUNTRY_INFO!K27=1,IF(COUNTRY_INFO!F27*0.33>MAX('T1'!M27,'T2'!K27),MAX('T1'!M27,'T2'!K27),COUNTRY_INFO!F27*0.33),IF(COUNTRY_INFO!K27=2,IF(COUNTRY_INFO!F27*0.5>MAX('T1'!M27,'T2'!K27),MAX('T1'!M27,'T2'!K27),COUNTRY_INFO!F27*0.5),IF(COUNTRY_INFO!K27=3,IF(COUNTRY_INFO!F27>MAX('T1'!M27,'T2'!K27),MAX('T1'!M27,'T2'!K27),COUNTRY_INFO!F27),0)))","v":20727},{"$f":"IF(AND(COUNTRY_INFO!K27>0,COUNTRY_INFO!L27<4),IF(Z27>0,IF(COUNTRY_INFO!K27=1, AD27/(COUNTRY_INFO!F27*0.33)*100, IF(COUNTRY_INFO!K27=2, AD27/(COUNTRY_INFO!F27*0.5)*100, IF(COUNTRY_INFO!K27=3, AD27/COUNTRY_INFO!F27*100))),\"-\"),0)","v":100},{"$f":"IF(COUNTRY_INFO!K27=2,IF(COUNTRY_INFO!G27*0.2>MAX('T1'!N27,'T2'!L27),MAX('T1'!N27,'T2'!L27),COUNTRY_INFO!G27*0.2),IF(COUNTRY_INFO!K27=3,IF(COUNTRY_INFO!G27>MAX('T1'!N27,'T2'!L27),MAX('T1'!N27,'T2'!L27),COUNTRY_INFO!G27),0))","v":0},{"$f":"IF(AND(COUNTRY_INFO!K27>0,COUNTRY_INFO!L27<4),IF(Z27>0,IF(COUNTRY_INFO!K27=1, 0, IF(COUNTRY_INFO!K27=2, AF27/(COUNTRY_INFO!G27*0.2)*100, IF(COUNTRY_INFO!K27=3, AF27/COUNTRY_INFO!G27*100))),\"-\"),0)","v":0},20727,{"$f":"IF(AND(COUNTRY_INFO!K27>0,COUNTRY_INFO!K27<4), IF(AC27/Z27*100<>0, IF(AH27/Z27*100>100,100,AH27/Z27*100), \"-\"),0)","v":56.962025316455687},null,{"$f":"IF(AND(D27<>0, D27<>\"Unknown\",D27<>\"Stopped\",D27<>\"Not required\"),D27/COUNTRY_INFO!D27, 0)","v":0},{"$f":"IF(AND(J27<>0,J27<>\"Unknown\",J27<>\"Stopped\",J27<>\"Not required\"),J27/COUNTRY_INFO!D27, 0)","v":1},{"$f":"IF(AND(P27<>0,P27<>\"Unknown\",P27<>\"Not required\"),P27/(COUNTRY_INFO!E27+COUNTRY_INFO!F27), 0)","v":1},{"$f":"IF(AND(Z27<>0,Z27<>\"Unknown\",Z27<>\"Not required\"),IF(COUNTRY_INFO!K27=1,1,IF(COUNTRY_INFO!K27=2,0.5*COUNTRY_INFO!F27/(0.5*COUNTRY_INFO!F27+0.2*COUNTRY_INFO!G27),IF(COUNTRY_INFO!K27=3,COUNTRY_INFO!F27/(COUNTRY_INFO!F27+COUNTRY_INFO!G27)))),0)","v":0.56962025316455689},{"$f":"IF(AND(Z27<>0,Z27<>\"Unknown\",Z27<>\"Not required\"),IF(COUNTRY_INFO!K27=1,0,IF(COUNTRY_INFO!K27=2,0.2*COUNTRY_INFO!G27/(0.5*COUNTRY_INFO!F27+0.2*COUNTRY_INFO!G27),IF(COUNTRY_INFO!K27=3,COUNTRY_INFO!G27/(COUNTRY_INFO!F27+COUNTRY_INFO!G27)))),0)","v":0.43037974683544306},{"$f":"MAX(COUNTRY_INFO!D27*AK27*PROFILE!$G$7,COUNTRY_INFO!D27*AL27*PROFILE!$G$7)","v":5051.7833921898145},{"$f":"MAX(COUNTRY_INFO!D27*AK27*PROFILE!$G$8,COUNTRY_INFO!D27*AL27*PROFILE!$G$8,COUNTRY_INFO!D27*AM27*PROFILE!$G$8)","v":23772.907733837248},{"$f":"MAX(COUNTRY_INFO!D27*AK27*PROFILE!$G$9,COUNTRY_INFO!D27*AL27*PROFILE!$G$9,COUNTRY_INFO!D27*AM27*PROFILE!$G$9,IF(AND(DISTRICT!Z27<>\"Unknown\",Z27<>\"Not required\"),COUNTRY_INFO!P27*DISTRICT!AN27,0))","v":41454.027683579749},{"$f":"MAX(COUNTRY_INFO!D27*AK27*PROFILE!$G$10,COUNTRY_INFO!D27*AL27*PROFILE!$G$10,IF(AND(DISTRICT!Z27<>\"Unknown\",Z27<>\"Not required\"),COUNTRY_INFO!P27*DISTRICT!AO27,0))","v":78302.083139590264},148580.80194919708,0,{"$f":"MAX('MDA4'!R27,'T1'!L27,'T2'!J27,T3_R1!K27,T3_R2!K27)","v":0},{"$f":"MAX('MDA1'!K27,'MDA4'!S27,'MDA3'!I27,'MDA3'!L27,'T1'!M27,'T2'!K27,T3_R1!L27,T3_R2!L27)","v":50394},{"$f":"MAX('MDA1'!L27,'MDA4'!T27,'MDA3'!J27,'MDA3'!M27,'T1'!N27,'T2'!L27,T3_R1!M27,T3_R2!M27)","v":0},50394,{"$f":"MAX('MDA4'!R27,T27)","v":0},{"$f":"MAX('MDA1'!K27,'MDA4'!S27,'MDA3'!I27,'MDA3'!L27,V27,AD27)","v":41454},{"$f":"MAX('MDA1'!L27,'MDA4'!T27,'MDA3'!J27,'MDA3'!M27,AF27)","v":0},41454,27.899970558897643]
[{"$f":"IF(COUNTRY_INFO!A28=0,\" \",COUNTRY_INFO!A28)","v":"Angola"},{"$f":"IF(COUNTRY_INFO!B28=0,\" \",COUNTRY_INFO!B28)","v":"BIE"},{"$f":"IF(COUNTRY_INFO!C28=0,\" \",COUNTRY_INFO!C28)","v":"CHINGUAR"},{"$f":"COUNTRY_INFO!M28","v":0},null,null,{"$f":"MAX('MDA1'!M28,'MDA4'!U28)","v":0},{"$f":"IF(AND(COUNTRY_INFO!H28>0,COUNTRY_INFO!H28<4),IF(D28>MAX('MDA1'!M28,'MDA4'!U28),MAX('MDA1'!M28,'MDA4'!U28),D28),0)","v":0},{"$f":"IF(AND(COUNTRY_INFO!H28>0,COUNTRY_INFO!H28<4), IF(G28/D28*100<>0, IF(G28/D28*100>100,100,G28/D28*100), \"-\"),0)","v":0},{"$f":"COUNTRY_INFO!N28","v":151794.57122006165},null,null,{"$f":"MAX('MDA1'!M28,MAX('MDA3'!I28,'MDA3'!L28)+MAX('MDA3'!J28,'MDA3'!M28))","v":0},{"$f":"IF(AND(COUNTRY_INFO!I28>0,COUNTRY_INFO!I28<4),IF(J28>MAX('MDA1'!M28,MAX('MDA3'!I28,'MDA3'!L28)+MAX('MDA3'!J28,'MDA3'!M28)),MAX('MDA1'!M28,MAX('MDA3'!I28,'MDA3'!L28)+MAX('MDA3'!J28,'MDA3'!M28)),J28),0)","v":0},{"$f":"IF(AND(COUNTRY_INFO!I28>0,COUNTRY_INFO!I28<4), IF(M28/J28*100<>0, IF(M28/J28*100>100,100,M28/J28*100), \"-\"),0)","v":"-"},{"$f":"COUNTRY_INFO!O28","v":66638},null,null,{"$f":"SUM(MAX('MDA4'!R28, 'T1'!L28, MAX(T3_R1!K28, T3_R2!K28)), MAX('MDA1'!K28, 'MDA4'!S28, 'T1'!M28, MAX(T3_R1!L28, T3_R2!L28)), MAX('MDA1'!L28, 'MDA4'!T28, 'T1'!N28, MAX(T3_R1!M28, T3_R2!M28)))","v":44876},{"$f":"IF(AND(COUNTRY_INFO!J28>1,COUNTRY_INFO!J28<4),IF(COUNTRY_INFO!E28>MAX('MDA4'!R28,'T1'!L28,MAX(T3_R1!K28,T3_R2!K28)),MAX('MDA4'!R28,'T1'!L28,MAX(T3_R1!K28,T3_R2!K28)),COUNTRY_INFO!E28),0)","v":0},{"$f":"IF(AND(COUNTRY_INFO!J28>1,COUNTRY_INFO!J28<4), IF(T28/COUNTRY_INFO!E28*100<>0, IF(T28/COUNTRY_INFO!E28*100>100,100,T28/COUNTRY_INFO!E28*100), \"-\"),0)","v":"-"},{"$f":"IF(AND(COUNTRY_INFO!J28>1,COUNTRY_INFO!J28<4),IF(COUNTRY_INFO!F28>MAX('MDA1'!K28,'MDA4'!S28,'T1'!M28,MAX(T3_R1!L28,T3_R2!L28)),MAX('MDA1'!K28,'MDA4'!S28,'T1'!M28,MAX(T3_R1!L28,T3_R2!L28)),COUNTRY_INFO!F28),0)","v":42351},{"$f":"IF(AND(COUNTRY_INFO!J28>1,COUNTRY_INFO!J28<4), IF(V28/COUNTRY_INFO!F28*100<>0, IF(V28/COUNTRY_INFO!F28*100>100,100,V28/COUNTRY_INFO!F28*100), \"-\"),0)","v":100},42351,{"$f":"IF(AND(COUNTRY_INFO!J28>1,COUNTRY_INFO!J28<4), IF(S28/P28*100<>0, IF(X28/P28*100>100,100,X28/P28*100), \"-\"),0)","v":63.553828146102816},{"$f":"COUNTRY_INFO!P28","v":37174.699999999997},null,null,{"$f":"MAX('T1'!L28,'T2'!J28)+MAX('T1'!M28,'T2'!K28)+MAX('T1'!N28,'T2'!L28)","v":44876},{"$f":"IF(COUNTRY_INFO!K28=1,IF(COUNTRY_INFO!F28*0.33>MAX('T1'!M28,'T2'!K28),MAX('T1'!M28,'T2'!K28),COUNTRY_INFO!F28*0.33),IF(COUNTRY_INFO!K28=2,IF(COUNTRY_INFO!F28*0.5>MAX('T1'!M28,'T2'!K28),MAX('T1'!M28,'T2'!K28),COUNTRY_INFO!F28*0.5),IF(COUNTRY_INFO!K28=3,IF(COUNTRY_INFO!F28>MAX('T1'!M28,'T2'!K28),MAX('T1'!M28,'T2'!K28),COUNTRY_INFO!F28),0)))","v":21175.5},{"$f":"IF(AND(COUNTRY_INFO!K28>0,COUNTRY_INFO!L28<4),IF(Z28>0,IF(COUNTRY_INFO!K28=1, AD28/(COUNTRY_INFO!F28*0.33)*100, IF(COUNTRY_INFO!K28=2, AD28/(COUNTRY_INFO!F28*0.5)*100, IF(COUNTRY_INFO!K28=3, AD28/COUNTRY_INFO!F28*100))),\"-\"),0)","v":100},{"$f":"IF(COUNTRY_INFO!K28=2,IF(COUNTRY_INFO!G28*0.2>MAX('T1'!N28,'T2'!L28),MAX('T1'!N28,'T2'!L28),COUNTRY_INFO!G28*0.2),IF(COUNTRY_INFO!K28=3,IF(COUNTRY_INFO!G28>MAX('T1'!N28,'T2'!L28),MAX('T1'!N28,'T2'!L28),COUNTRY_INFO!G28),0))","v":0},{"$f":"IF(AND(COUNTRY_INFO!K28>0,COUNTRY_INFO!L28<4),IF(Z28>0,IF(COUNTRY_INFO!K28=1, 0, IF(COUNTRY_INFO!K28=2, AF28/(COUNTRY_INFO!G28*0.2)*100, IF(COUNTRY_INFO!K28=3, AF28/COUNTRY_INFO!G28*100))),\"-\"),0)","v":0},21175.5,{"$f":"IF(AND(COUNTRY_INFO!K28>0,COUNTRY_INFO!K28<4), IF(AC28/Z28*100<>0, IF(AH28/Z28*100>100,100,AH28/Z28*100), \"-\"),0)","v":56.96212746841266},null,{"$f":"IF(AND(D28<>0, D28<>\"Unknown\",D28<>\"Stopped\",D28<>\"Not required\"),D28/COUNTRY_INFO!D28, 0)","v":0},{"$f":"IF(AND(J28<>0,J28<>\"Unknown\",J28<>\"Stopped\",J28<>\"Not required\"),J28/COUNTRY_INFO!D28, 0)","v":1},{"$f":"IF(AND(P28<>0,P28<>\"Unknown\",P28<>\"Not required\"),P28/(COUNTRY_INFO!E28+COUNTRY_INFO!F28), 0)","v":1},{"$f":"IF(AND(Z28<>0,Z28<>\"Unknown\",Z28<>\"Not required\"),IF(COUNTRY_INFO!K28=1,1,IF(COUNTRY_INFO!K28=2,0.5*COUNTRY_INFO!F28/(0.5*COUNTRY_INFO!F28+0.2*COUNTRY_INFO!G28),IF(COUNTRY_INFO!K28=3,COUNTRY_INFO!F28/(COUNTRY_INFO!F28+COUNTRY_INFO!G28)))),0)","v":0.5696212746841266},{"$f":"IF(AND(Z28<>0,Z28<>\"Unknown\",Z28<>\"Not required\"),IF(COUNTRY_INFO!K28=1,0,IF(COUNTRY_INFO!K28=2,0.2*COUNTRY_INFO!G28/(0.5*COUNTRY_INFO!F28+0.2*COUNTRY_INFO!G28),IF(COUNTRY_INFO!K28=3,COUNTRY_INFO!G28/(COUNTRY_INFO!F28+COUNTRY_INFO!G28)))),0)","v":0.43037872531587346},{"$f":"MAX(COUNTRY_INFO!D28*AK28*PROFILE!$G$7,COUNTRY_INFO!D28*AL28*PROFILE!$G$7)","v":5161.0523287946589},{"$f":"MAX(COUNTRY_INFO!D28*AK28*PROFILE!$G$8,COUNTRY_INFO!D28*AL28*PROFILE!$G$8,COUNTRY_INFO!D28*AM28*PROFILE!$G$8)","v":24287.110372077335},{"$f":"MAX(COUNTRY_INFO!D28*AK28*PROFILE!$G$9,COUNTRY_INFO!D28*AL28*PROFILE!$G$9,COUNTRY_INFO!D28*AM28*PROFILE!$G$9,IF(AND(DISTRICT!Z28<>\"Unknown\",Z28<>\"Not required\"),COUNTRY_INFO!P28*DISTRICT!AN28,0))","v":42350.668962771459},{"$f":"MAX(COUNTRY_INFO!D28*AK28*PROFILE!$G$10,COUNTRY_INFO!D28*AL28*PROFILE!$G$10,IF(AND(DISTRICT!Z28<>\"Unknown\",Z28<>\"Not required\"),COUNTRY_INFO!P28*DISTRICT!AO28,0))","v":79995.739556418193},151794.57122006163,0,{"$f":"MAX('MDA4'!R28,'T1'!L28,'T2'!J28,T3_R1!K28,T3_R2!K28)","v":0},{"$f":"MAX('MDA1'!K28,'MDA4'!S28,'MDA3'!I28,'MDA3'!L28,'T1'!M28,'T2'!K28,T3_R1!L28,T3_R2!L28)","v":44876},{"$f":"MAX('MDA1'!L28,'MDA4'!T28,'MDA3'!J28,'MDA3'!M28,'T1'!N28,'T2'!L28,T3_R1!M28,T3_R2!M28)","v":0},44876,{"$f":"MAX('MDA4'!R28,T28)","v":0},{"$f":"MAX('MDA1'!K28,'MDA4'!S28,'MDA3'!I28,'MDA3'!L28,V28,AD28)","v":42351},{"$f":"MAX('MDA1'!L28,'MDA4'!T28,'MDA3'!J28,'MDA3'!M28,AF28)","v":0},42351,27.900207273290654]
[{"$f":"IF(COUNTRY_INFO!A29=0,\" \",COUNTRY_INFO!A29)","v":"Angola"},{"$f":"IF(COUNTRY_INFO!B29=0,\" \",COUNTRY_INFO!B29)","v":"BIE"},{"$f":"IF(COUNTRY_INFO!C29=0,\" \",COUNTRY_INFO!C29)","v":"CHITEMBO"},{"$f":"COUNTRY_INFO!M29","v":0},null,null,{"$f":"MAX('MDA1'!M29,'MDA4'!U29)","v":0},{"$f":"IF(AND(COUNTRY_INFO!H29>0,COUNTRY_INFO!H29<4),IF(D29>MAX('MDA1'!M29,'MDA4'!U29),MAX('MDA1'!M29,'MDA4'!U29),D29),0)","v":0},{"$f":"IF(AND(COUNTRY_INFO!H29>0,COUNTRY_INFO!H29<4), IF(G29/D29*100<>0, IF(G29/D29*100>100,100,G29/D29*100), \"-\"),0)","v":0},{"$f":"COUNTRY_INFO!N29","v":"Unknown"},null,null,{"$f":"MAX('MDA1'!M29,MAX('MDA3'!I29,'MDA3'!L29)+MAX('MDA3'!J29,'MDA3'!M29))","v":0},{"$f":"IF(AND(COUNTRY_INFO!I29>0,COUNTRY_INFO!I29<4),IF(J29>MAX('MDA1'!M29,MAX('MDA3'!I29,'MDA3'!L29)+MAX('MDA3'!J29,'MDA3'!M29)),MAX('MDA1'!M29,MAX('MDA3'!I29,'MDA3'!L29)+MAX('MDA3'!J29,'MDA3'!M29)),J29),0)","v":0},{"$f":"IF(AND(COUNTRY_INFO!I29>0,COUNTRY_INFO!I29<4), IF(M29/J29*100<>0, IF(M29/J29*100>100,100,M29/J29*100), \"-\"),0)","v":0},{"$f":"COUNTRY_INFO!O29","v":40258},null,null,{"$f":"SUM(MAX('MDA4'!R29, 'T1'!L29, MAX(T3_R1!K29, T3_R2!K29)), MAX('MDA1'!K29, 'MDA4'!S29, 'T1'!M29, MAX(T3_R1!L29, T3_R2!L29)), MAX('MDA1'!L29, 'MDA4'!T29, 'T1'!N29, MAX(T3_R1!M29, T3_R2!M29)))","v":28673},{"$f":"IF(AND(COUNTRY_INFO!J29>1,COUNTRY_INFO!J29<4),IF(COUNTRY_INFO!E29>MAX('MDA4'!R29,'T1'!L29,MAX(T3_R1!K29,T3_R2!K29)),MAX('MDA4'!R29,'T1'!L29,MAX(T3_R1!K29,T3_R2!K29)),COUNTRY_INFO!E29),0)","v":0},{"$f":"IF(AND(COUNTRY_INFO!J29>1,COUNTRY_INFO!J29<4), IF(T29/COUNTRY_INFO!E29*100<>0, IF(T29/COUNTRY_INFO!E29*100>100,100,T29/COUNTRY_INFO!E29*100), \"-\"),0)","v":"-"},{"$f":"IF(AND(COUNTRY_INFO!J29>1,COUNTRY_INFO!J29<4),IF(COUNTRY_INFO!F29>MAX('MDA1'!K29,'MDA4'!S29,'T1'!M29,MAX(T3_R1!L29,T3_R2!L29)),MAX('MDA1'!K29,'MDA4'!S29,'T1'!M29,MAX(T3_R1!L29,T3_R2!L29)),COUNTRY_INFO!F29),0)","v":25585},{"$f":"IF(AND(COUNTRY_INFO!J29>1,COUNTRY_INFO!J29<4), IF(V29/COUNTRY_INFO!F29*100<>0, IF(V29/COUNTRY_INFO!F29*100>100,100,V29/COUNTRY_INFO!F29*100), \"-\"),0)","v":100},25585,{"$f":"IF(AND(COUNTRY_INFO!J29>1,COUNTRY_INFO!J29<4), IF(S29/P29*100<>0, IF(X29/P29*100>100,100,X29/P29*100), \"-\"),0)","v":63.552585821451636},{"$f":"COUNTRY_INFO!P29","v":22458.1},null,null,{"$f":"MAX('T1'!L29,'T2'!J29)+MAX('T1'!M29,'T2'!K29)+MAX('T1'!N29,'T2'!L29)","v":28673},{"$f":"IF(COUNTRY_INFO!K29=1,IF(COUNTRY_INFO!F29*0.33>MAX('T1'!M29,'T2'!K29),MAX('T1'!M29,'T2'!K29),COUNTRY_INFO!F29*0.33),IF(COUNTRY_INFO!K29=2,IF(COUNTRY_INFO!F29*0.5>MAX('T1'!M29,'T2'!K29),MAX('T1'!M29,'T2'!K29),COUNTRY_INFO!F29*0.5),IF(COUNTRY_INFO!K29=3,IF(COUNTRY_INFO!F29>MAX('T1'!M29,'T2'!K29),MAX('T1'!M29,'T2'!K29),COUNTRY_INFO!F29),0)))","v":12792.5},{"$f":"IF(AND(COUNTRY_INFO!K29>0,COUNTRY_INFO!L29<4),IF(Z29>0,IF(COUNTRY_INFO!K29=1, AD29/(COUNTRY_INFO!F29*0.33)*100, IF(COUNTRY_INFO!K29=2, AD29/(COUNTRY_INFO!F29*0.5)*100, IF(COUNTRY_INFO!K29=3, AD29/COUNTRY_INFO!F29*100))),\"-\"),0)","v":100},{"$f":"IF(COUNTRY_INFO!K29=2,IF(COUNTRY_INFO!G29*0.2>MAX('T1'!N29,'T2'!L29),MAX('T1'!N29,'T2'!L29),COUNTRY_INFO!G29*0.2),IF(COUNTRY_INFO!K29=3,IF(COUNTRY_INFO!G29>MAX('T1'!N29,'T2'!L29),MAX('T1'!N29,'T2'!L29),COUNTRY_INFO!G29),0))","v":0},{"$f":"IF(AND(COUNTRY_INFO!K29>0,COUNTRY_INFO!L29<4),IF(Z29>0,IF(COUNTRY_INFO!K29=1, 0, IF(COUNTRY_INFO!K29=2, AF29/(COUNTRY_INFO!G29*0.2)*100, IF(COUNTRY_INFO!K29=3, AF29/COUNTRY_INFO!G29*100))),\"-\"),0)","v":0},12792.5,{"$f":"IF(AND(COUNTRY_INFO!K29>0,COUNTRY_INFO!K29<4), IF(AC29/Z29*100<>0, IF(AH29/Z29*100>100,100,AH29/Z29*100), \"-\"),0)","v":56.961630770189821},null,{"$f":"IF(AND(D29<>0, D29<>\"Unknown\",D29<>\"Stopped\",D29<>\"Not required\"),D29/COUNTRY_INFO!D29, 0)","v":0},{"$f":"IF(AND(J29<>0,J29<>\"Unknown\",J29<>\"Stopped\",J29<>\"Not required\"),J29/COUNTRY_INFO!D29, 0)","v":0},{"$f":"IF(AND(P29<>0,P29<>\"Unknown\",P29<>\"Not required\"),P29/(COUNTRY_INFO!E29+COUNTRY_INFO!F29), 0)","v":1},{"$f":"IF(AND(Z29<>0,Z29<>\"Unknown\",Z29<>\"Not required\"),IF(COUNTRY_INFO!K29=1,1,IF(COUNTRY_INFO!K29=2,0.5*COUNTRY_INFO!F29/(0.5*COUNTRY_INFO!F29+0.2*COUNTRY_INFO!G29),IF(COUNTRY_INFO!K29=3,COUNTRY_INFO!F29/(COUNTRY_INFO!F29+COUNTRY_INFO!G29)))),0)","v":0.56961630770189819},{"$f":"IF(AND(Z29<>0,Z29<>\"Unknown\",Z29<>\"Not required\"),IF(COUNTRY_INFO!K29=1,0,IF(COUNTRY_INFO!K29=2,0.2*COUNTRY_INFO!G29/(0.5*COUNTRY_INFO!F29+0.2*COUNTRY_INFO!G29),IF(COUNTRY_INFO!K29=3,COUNTRY_INFO!G29/(COUNTRY_INFO!F29+COUNTRY_INFO!G29)))),0)","v":0.43038369229810186},{"$f":"MAX(COUNTRY_INFO!D29*AK29*PROFILE!$G$7,COUNTRY_INFO!D29*AL29*PROFILE!$G$7)","v":0},{"$f":"MAX(COUNTRY_INFO!D29*AK29*PROFILE!$G$8,COUNTRY_INFO!D29*AL29*PROFILE!$G$8,COUNTRY_INFO!D29*AM29*PROFILE!$G$8)","v":14672.516025663417},{"$f":"MAX(COUNTRY_INFO!D29*AK29*PROFILE!$G$9,COUNTRY_INFO!D29*AL29*PROFILE!$G$9,COUNTRY_INFO!D29*AM29*PROFILE!$G$9,IF(AND(DISTRICT!Z29<>\"Unknown\",Z29<>\"Not required\"),COUNTRY_INFO!P29*DISTRICT!AN29,0))","v":25585.212054219417},{"$f":"MAX(COUNTRY_INFO!D29*AK29*PROFILE!$G$10,COUNTRY_INFO!D29*AL29*PROFILE!$G$10,IF(AND(DISTRICT!Z29<>\"Unknown\",Z29<>\"Not required\"),COUNTRY_INFO!P29*DISTRICT!AO29,0))","v":9665.6},49923.328079882835,"Y",{"$f":"MAX('MDA4'!R29,'T1'!L29,'T2'!J29,T3_R1!K29,T3_R2!K29)","v":0},{"$f":"MAX('MDA1'!K29,'MDA4'!S29,'MDA3'!I29,'MDA3'!L29,'T1'!M29,'T2'!K29,T3_R1!L29,T3_R2!L29)","v":28673},{"$f":"MAX('MDA1'!L29,'MDA4'!T29,'MDA3'!J29,'MDA3'!M29,'T1'!N29,'T2'!L29,T3_R1!M29,T3_R2!M29)","v":0},28673,{"$f":"MAX('MDA4'!R29,T29)","v":0},{"$f":"MAX('MDA1'!K29,'MDA4'!S29,'MDA3'!I29,'MDA3'!L29,V29,AD29)","v":25585},{"$f":"MAX('MDA1'!L29,'MDA4'!T29,'MDA3'!J29,'MDA3'!M29,AF29)","v":0},25585,51.248586550682631]
[{"$f":"IF(COUNTRY_INFO!A30=0,\" \",COUNTRY_INFO!A30)","v":"Angola"},{"$f":"IF(COUNTRY_INFO!B30=0,\" \",COUNTRY_INFO!B30)","v":"BIE"},{"$f":"IF(COUNTRY_INFO!C30=0,\" \",COUNTRY_INFO!C30)","v":"CUEMBA"},{"$f":"COUNTRY_INFO!M30","v":0},null,null,{"$f":"MAX('MDA1'!M30,'MDA4'!U30)","v":0},{"$f":"IF(AND(COUNTRY_INFO!H30>0,COUNTRY_INFO!H30<4),IF(D30>MAX('MDA1'!M30,'MDA4'!U30),MAX('MDA1'!M30,'MDA4'!U30),D30),0)","v":0},{"$f":"IF(AND(COUNTRY_INFO!H30>0,COUNTRY_INFO!H30<4), IF(G30/D30*100<>0, IF(G30/D30*100>100,100,G30/D30*100), \"-\"),0)","v":0},{"$f":"COUNTRY_INFO!N30","v":66836.779472894588},null,null,{"$f":"MAX('MDA1'!M30,MAX('MDA3'!I30,'MDA3'!L30)+MAX('MDA3'!J30,'MDA3'!M30))","v":0},{"$f":"IF(AND(COUNTRY_INFO!I30>0,COUNTRY_INFO!I30<4),IF(J30>MAX('MDA1'!M30,MAX('MDA3'!I30,'MDA3'!L30)+MAX('MDA3'!J30,'MDA3'!M30)),MAX('MDA1'!M30,MAX('MDA3'!I30,'MDA3'!L30)+MAX('MDA3'!J30,'MDA3'!M30)),J30),0)","v":0},{"$f":"IF(AND(COUNTRY_INFO!I30>0,COUNTRY_INFO!I30<4), IF(M30/J30*100<>0, IF(M30/J30*100>100,100,M30/J30*100), \"-\"),0)","v":"-"},{"$f":"COUNTRY_INFO!O30","v":29341},null,null,{"$f":"SUM(MAX('MDA4'!R30, 'T1'!L30, MAX(T3_R1!K30, T3_R2!K30)), MAX('MDA1'!K30, 'MDA4'!S30, 'T1'!M30, MAX(T3_R1!L30, T3_R2!L30)), MAX('MDA1'!L30, 'MDA4'!T30, 'T1'!N30, MAX(T3_R1!M30, T3_R2!M30)))","v":12208},{"$f":"IF(AND(COUNTRY_INFO!J30>1,COUNTRY_INFO!J30<4),IF(COUNTRY_INFO!E30>MAX('MDA4'!R30,'T1'!L30,MAX(T3_R1!K30,T3_R2!K30)),MAX('MDA4'!R30,'T1'!L30,MAX(T3_R1!K30,T3_R2!K30)),COUNTRY_INFO!E30),0)","v":0},{"$f":"IF(AND(COUNTRY_INFO!J30>1,COUNTRY_INFO!J30<4), IF(T30/COUNTRY_INFO!E30*100<>0, IF(T30/COUNTRY_INFO!E30*100>100,100,T30/COUNTRY_INFO!E30*100), \"-\"),0)","v":"-"},{"$f":"IF(AND(COUNTRY_INFO!J30>1,COUNTRY_INFO!J30<4),IF(COUNTRY_INFO!F30>MAX('MDA1'!K30,'MDA4'!S30,'T1'!M30,MAX(T3_R1!L30,T3_R2!L30)),MAX('MDA1'!K30,'MDA4'!S30,'T1'!M30,MAX(T3_R1!L30,T3_R2!L30)),COUNTRY_INFO!F30),0)","v":12208},{"$f":"IF(AND(COUNTRY_INFO!J30>1,COUNTRY_INFO!J30<4), IF(V30/COUNTRY_INFO!F30*100<>0, IF(V30/COUNTRY_INFO!F30*100>100,100,V30/COUNTRY_INFO!F30*100), \"-\"),0)","v":65.468976242827253},12208,{"$f":"IF(AND(COUNTRY_INFO!J30>1,COUNTRY_INFO!J30<4), IF(S30/P30*100<>0, IF(X30/P30*100>100,100,X30/P30*100), \"-\"),0)","v":41.607307181077672},{"$f":"COUNTRY_INFO!P30","v":16368.1},null,null,{"$f":"MAX('T1'!L30,'T2'!J30)+MAX('T1'!M30,'T2'!K30)+MAX('T1'!N30,'T2'!L30)","v":12208},{"$f":"IF(COUNTRY_INFO!K30=1,IF(COUNTRY_INFO!F30*0.33>MAX('T1'!M30,'T2'!K30),MAX('T1'!M30,'T2'!K30),COUNTRY_INFO!F30*0.33),IF(COUNTRY_INFO!K30=2,IF(COUNTRY_INFO!F30*0.5>MAX('T1'!M30,'T2'!K30),MAX('T1'!M30,'T2'!K30),COUNTRY_INFO!F30*0.5),IF(COUNTRY_INFO!K30=3,IF(COUNTRY_INFO!F30>MAX('T1'!M30,'T2'!K30),MAX('T1'!M30,'T2'!K30),COUNTRY_INFO!F30),0)))","v":9323.5},{"$f":"IF(AND(COUNTRY_INFO!K30>0,COUNTRY_INFO!L30<4),IF(Z30>0,IF(COUNTRY_INFO!K30=1, AD30/(COUNTRY_INFO!F30*0.33)*100, IF(COUNTRY_INFO!K30=2, AD30/(COUNTRY_INFO!F30*0.5)*100, IF(COUNTRY_INFO!K30=3, AD30/COUNTRY_INFO!F30*100))),\"-\"),0)","v":100},{"$f":"IF(COUNTRY_INFO!K30=2,IF(COUNTRY_INFO!G30*0.2>MAX('T1'!N30,'T2'!L30),MAX('T1'!N30,'T2'!L30),COUNTRY_INFO!G30*0.2),IF(COUNTRY_INFO!K30=3,IF(COUNTRY_INFO!G30>MAX('T1'!N30,'T2'!L30),MAX('T1'!N30,'T2'!L30),COUNTRY_INFO!G30),0))","v":0},{"$f":"IF(AND(COUNTRY_INFO!K30>0,COUNTRY_INFO!L30<4),IF(Z30>0,IF(COUNTRY_INFO!K30=1, 0, IF(COUNTRY_INFO!K30=2, AF30/(COUNTRY_INFO!G30*0.2)*100, IF(COUNTRY_INFO!K30=3, AF30/COUNTRY_INFO!G30*100))),\"-\"),0)","v":0},9323.5,{"$f":"IF(AND(COUNTRY_INFO!K30>0,COUNTRY_INFO!K30<4), IF(AC30/Z30*100<>0, IF(AH30/Z30*100>100,100,AH30/Z30*100), \"-\"),0)","v":56.96140663852249},null,{"$f":"IF(AND(D30<>0, D30<>\"Unknown\",D30<>\"Stopped\",D30<>\"Not required\"),D30/COUNTRY_INFO!D30, 0)","v":0},{"$f":"IF(AND(J30<>0,J30<>\"Unknown\",J30<>\"Stopped\",J30<>\"Not required\"),J30/COUNTRY_INFO!D30, 0)","v":1},{"$f":"IF(AND(P30<>0,P30<>\"Unknown\",P30<>\"Not required\"),P30/(COUNTRY_INFO!E30+COUNTRY_INFO!F30), 0)","v":1},{"$f":"IF(AND(Z30<>0,Z30<>\"Unknown\",Z30<>\"Not required\"),IF(COUNTRY_INFO!K30=1,1,IF(COUNTRY_INFO!K30=2,0.5*COUNTRY_INFO!F30/(0.5*COUNTRY_INFO!F30+0.2*COUNTRY_INFO!G30),IF(COUNTRY_INFO!K30=3,COUNTRY_INFO!F30/(COUNTRY_INFO!F30+COUNTRY_INFO!G30)))),0)","v":0.56961406638522494},{"$f":"IF(AND(Z30<>0,Z30<>\"Unknown\",Z30<>\"Not required\"),IF(COUNTRY_INFO!K30=1,0,IF(COUNTRY_INFO!K30=2,0.2*COUNTRY_INFO!G30/(0.5*COUNTRY_INFO!F30+0.2*COUNTRY_INFO!G30),IF(COUNTRY_INFO!K30=3,COUNTRY_INFO!G30/(COUNTRY_INFO!F30+COUNTRY_INFO!G30)))),0)","v":0.43038593361477512},{"$f":"MAX(COUNTRY_INFO!D30*AK30*PROFILE!$G$7,COUNTRY_INFO!D30*AL30*PROFILE!$G$7)","v":2272.4667527643978},{"$f":"MAX(COUNTRY_INFO!D30*AK30*PROFILE!$G$8,COUNTRY_INFO!D30*AL30*PROFILE!$G$8,COUNTRY_INFO!D30*AM30*PROFILE!$G$8)","v":10693.875458952163},{"$f":"MAX(COUNTRY_INFO!D30*AK30*PROFILE!$G$9,COUNTRY_INFO!D30*AL30*PROFILE!$G$9,COUNTRY_INFO!D30*AM30*PROFILE!$G$9,IF(AND(DISTRICT!Z30<>\"Unknown\",Z30<>\"Not required\"),COUNTRY_INFO!P30*DISTRICT!AN30,0))","v":18647.454248483813},{"$f":"MAX(COUNTRY_INFO!D30*AK30*PROFILE!$G$10,COUNTRY_INFO!D30*AL30*PROFILE!$G$10,IF(AND(DISTRICT!Z30<>\"Unknown\",Z30<>\"Not required\"),COUNTRY_INFO!P30*DISTRICT!AO30,0))","v":35222.983012694211},66836.779472894588,0,{"$f":"MAX('MDA4'!R30,'T1'!L30,'T2'!J30,T3_R1!K30,T3_R2!K30)","v":0},{"$f":"MAX('MDA1'!K30,'MDA4'!S30,'MDA3'!I30,'MDA3'!L30,'T1'!M30,'T2'!K30,T3_R1!L30,T3_R2!L30)","v":12208},{"$f":"MAX('MDA1'!L30,'MDA4'!T30,'MDA3'!J30,'MDA3'!M30,'T1'!N30,'T2'!L30,T3_R1!M30,T3_R2!M30)","v":0},12208,{"$f":"MAX('MDA4'!R30,T30)","v":0},{"$f":"MAX('MDA1'!K30,'MDA4'!S30,'MDA3'!I30,'MDA3'!L30,V30,AD30)","v":12208},{"$f":"MAX('MDA1'!L30,'MDA4'!T30,'MDA3'!J30,'MDA3'!M30,AF30)","v":0},12208,18.265392342775748]
[{"$f":"IF(COUNTRY_INFO!A31=0,\" \",COUNTRY_INFO!A31)","v":"Angola"},{"$f":"IF(COUNTRY_INFO!B31=0,\" \",COUNTRY_INFO!B31)","v":"BIE"},{"$f":"IF(COUNTRY_INFO!C31=0,\" \",COUNTRY_INFO!C31)","v":"CUITO"},{"$f":"COUNTRY_INFO!M31","v":0},null,null,{"$f":"MAX('MDA1'!M31,'MDA4'!U31)","v":0},{"$f":"IF(AND(COUNTRY_INFO!H31>0,COUNTRY_INFO!H31<4),IF(D31>MAX('MDA1'!M31,'MDA4'!U31),MAX('MDA1'!M31,'MDA4'!U31),D31),0)","v":0},{"$f":"IF(AND(COUNTRY_INFO!H31>0,COUNTRY_INFO!H31<4), IF(G31/D31*100<>0, IF(G31/D31*100>100,100,G31/D31*100), \"-\"),0)","v":0},{"$f":"COUNTRY_INFO!N31","v":529035.23279178026},null,null,{"$f":"MAX('MDA1'!M31,MAX('MDA3'!I31,'MDA3'!L31)+MAX('MDA3'!J31,'MDA3'!M31))","v":0},{"$f":"IF(AND(COUNTRY_INFO!I31>0,COUNTRY_INFO!I31<4),IF(J31>MAX('MDA1'!M31,MAX('MDA3'!I31,'MDA3'!L31)+MAX('MDA3'!J31,'MDA3'!M31)),MAX('MDA1'!M31,MAX('MDA3'!I31,'MDA3'!L31)+MAX('MDA3'!J31,'MDA3'!M31)),J31),0)","v":0},{"$f":"IF(AND(COUNTRY_INFO!I31>0,COUNTRY_INFO!I31<4), IF(M31/J31*100<>0, IF(M31/J31*100>100,100,M31/J31*100), \"-\"),0)","v":"-"},{"$f":"COUNTRY_INFO!O31","v":232247},null,null,{"$f":"SUM(MAX('MDA4'!R31, 'T1'!L31, MAX(T3_R1!K31, T3_R2!K31)), MAX('MDA1'!K31, 'MDA4'!S31, 'T1'!M31, MAX(T3_R1!L31, T3_R2!L31)), MAX('MDA1'!L31, 'MDA4'!T31, 'T1'!N31, MAX(T3_R1!M31, T3_R2!M31)))","v":122485},{"$f":"IF(AND(COUNTRY_INFO!J31>1,COUNTRY_INFO!J31<4),IF(COUNTRY_INFO!E31>MAX('MDA4'!R31,'T1'!L31,MAX(T3_R1!K31,T3_R2!K31)),MAX('MDA4'!R31,'T1'!L31,MAX(T3_R1!K31,T3_R2!K31)),COUNTRY_INFO!E31),0)","v":0},{"$f":"IF(AND(COUNTRY_INFO!J31>1,COUNTRY_INFO!J31<4), IF(T31/COUNTRY_INFO!E31*100<>0, IF(T31/COUNTRY_INFO!E31*100>100,100,T31/COUNTRY_INFO!E31*100), \"-\"),0)","v":"-"},{"$f":"IF(AND(COUNTRY_INFO!J31>1,COUNTRY_INFO!J31<4),IF(COUNTRY_INFO!F31>MAX('MDA1'!K31,'MDA4'!S31,'T1'!M31,MAX(T3_R1!L31,T3_R2!L31)),MAX('MDA1'!K31,'MDA4'!S31,'T1'!M31,MAX(T3_R1!L31,T3_R2!L31)),COUNTRY_INFO!F31),0)","v":122485},{"$f":"IF(AND(COUNTRY_INFO!J31>1,COUNTRY_INFO!J31<4), IF(V31/COUNTRY_INFO!F31*100<>0, IF(V31/COUNTRY_INFO!F31*100>100,100,V31/COUNTRY_INFO!F31*100), \"-\"),0)","v":82.983855122932766},122485,{"$f":"IF(AND(COUNTRY_INFO!J31>1,COUNTRY_INFO!J31<4), IF(S31/P31*100<>0, IF(X31/P31*100>100,100,X31/P31*100), \"-\"),0)","v":52.739109654807173},{"$f":"COUNTRY_INFO!P31","v":129560.9},null,null,{"$f":"MAX('T1'!L31,'T2'!J31)+MAX('T1'!M31,'T2'!K31)+MAX('T1'!N31,'T2'!L31)","v":122485},{"$f":"IF(COUNTRY_INFO!K31=1,IF(COUNTRY_INFO!F31*0.33>MAX('T1'!M31,'T2'!K31),MAX('T1'!M31,'T2'!K31),COUNTRY_INFO!F31*0.33),IF(COUNTRY_INFO!K31=2,IF(COUNTRY_INFO!F31*0.5>MAX('T1'!M31,'T2'!K31),MAX('T1'!M31,'T2'!K31),COUNTRY_INFO!F31*0.5),IF(COUNTRY_INFO!K31=3,IF(COUNTRY_INFO!F31>MAX('T1'!M31,'T2'!K31),MAX('T1'!M31,'T2'!K31),COUNTRY_INFO!F31),0)))","v":73800.5},{"$f":"IF(AND(COUNTRY_INFO!K31>0,COUNTRY_INFO!L31<4),IF(Z31>0,IF(COUNTRY_INFO!K31=1, AD31/(COUNTRY_INFO!F31*0.33)*100, IF(COUNTRY_INFO!K31=2, AD31/(COUNTRY_INFO!F31*0.5)*100, IF(COUNTRY_INFO!K31=3, AD31/COUNTRY_INFO!F31*100))),\"-\"),0)","v":100},{"$f":"IF(COUNTRY_INFO!K31=2,IF(COUNTRY_INFO!G31*0.2>MAX('T1'!N31,'T2'!L31),MAX('T1'!N31,'T2'!L31),COUNTRY_INFO!G31*0.2),IF(COUNTRY_INFO!K31=3,IF(COUNTRY_INFO!G31>MAX('T1'!N31,'T2'!L31),MAX('T1'!N31,'T2'!L31),COUNTRY_INFO!G31),0))","v":0},{"$f":"IF(AND(COUNTRY_INFO!K31>0,COUNTRY_INFO!L31<4),IF(Z31>0,IF(COUNTRY_INFO!K31=1, 0, IF(COUNTRY_INFO!K31=2, AF31/(COUNTRY_INFO!G31*0.2)*100, IF(COUNTRY_INFO!K31=3, AF31/COUNTRY_INFO!G31*100))),\"-\"),0)","v":0},73800.5,{"$f":"IF(AND(COUNTRY_INFO!K31>0,COUNTRY_INFO!K31<4), IF(AC31/Z31*100<>0, IF(AH31/Z31*100>100,100,AH31/Z31*100), \"-\"),0)","v":56.962015546356973},null,{"$f":"IF(AND(D31<>0, D31<>\"Unknown\",D31<>\"Stopped\",D31<>\"Not required\"),D31/COUNTRY_INFO!D31, 0)","v":0},{"$f":"IF(AND(J31<>0,J31<>\"Unknown\",J31<>\"Stopped\",J31<>\"Not required\"),J31/COUNTRY_INFO!D31, 0)","v":1},{"$f":"IF(AND(P31<>0,P31<>\"Unknown\",P31<>\"Not required\"),P31/(COUNTRY_INFO!E31+COUNTRY_INFO!F31), 0)","v":1},{"$f":"IF(AND(Z31<>0,Z31<>\"Unknown\",Z31<>\"Not required\"),IF(COUNTRY_INFO!K31=1,1,IF(COUNTRY_INFO!K31=2,0.5*COUNTRY_INFO!F31/(0.5*COUNTRY_INFO!F31+0.2*COUNTRY_INFO!G31),IF(COUNTRY_INFO!K31=3,COUNTRY_INFO!F31/(COUNTRY_INFO!F31+COUNTRY_INFO!G31)))),0)","v":0.5696201554635697},{"$f":"IF(AND(Z31<>0,Z31<>\"Unknown\",Z31<>\"Not required\"),IF(COUNTRY_INFO!K31=1,0,IF(COUNTRY_INFO!K31=2,0.2*COUNTRY_INFO!G31/(0.5*COUNTRY_INFO!F31+0.2*COUNTRY_INFO!G31),IF(COUNTRY_INFO!K31=3,COUNTRY_INFO!G31/(COUNTRY_INFO!F31+COUNTRY_INFO!G31)))),0)","v":0.43037984453643041},{"$f":"MAX(COUNTRY_INFO!D31*AK31*PROFILE!$G$7,COUNTRY_INFO!D31*AL31*PROFILE!$G$7)","v":17987.326544479125},{"$f":"MAX(COUNTRY_INFO!D31*AK31*PROFILE!$G$8,COUNTRY_INFO!D31*AL31*PROFILE!$G$8,COUNTRY_INFO!D31*AM31*PROFILE!$G$8)","v":84645.563976753503},{"$f":"MAX(COUNTRY_INFO!D31*AK31*PROFILE!$G$9,COUNTRY_INFO!D31*AL31*PROFILE!$G$9,COUNTRY_INFO!D31*AM31*PROFILE!$G$9,IF(AND(DISTRICT!Z31<>\"Unknown\",Z31<>\"Not required\"),COUNTRY_INFO!P31*DISTRICT!AN31,0))","v":147600.77276496371},{"$f":"MAX(COUNTRY_INFO!D31*AK31*PROFILE!$G$10,COUNTRY_INFO!D31*AL31*PROFILE!$G$10,IF(AND(DISTRICT!Z31<>\"Unknown\",Z31<>\"Not required\"),COUNTRY_INFO!P31*DISTRICT!AO31,0))","v":278801.5695055839},529035.23279178026,0,{"$f":"MAX('MDA4'!R31,'T1'!L31,'T2'!J31,T3_R1!K31,T3_R2!K31)","v":0},{"$f":"MAX('MDA1'!K31,'MDA4'!S31,'MDA3'!I31,'MDA3'!L31,'T1'!M31,'T2'!K31,T3_R1!L31,T3_R2!L31)","v":122485},{"$f":"MAX('MDA1'!L31,'MDA4'!T31,'MDA3'!J31,'MDA3'!M31,'T1'!N31,'T2'!L31,T3_R1!M31,T3_R2!M31)","v":0},122485,{"$f":"MAX('MDA4'!R31,T31)","v":0},{"$f":"MAX('MDA1'!K31,'MDA4'!S31,'MDA3'!I31,'MDA3'!L31,V31,AD31)","v":122485},{"$f":"MAX('MDA1'!L31,'MDA4'!T31,'MDA3'!J31,'MDA3'!M31,AF31)","v":0},122485,23.152522253316182]
[{"$f":"IF(COUNTRY_INFO!A32=0,\" \",COUNTRY_INFO!A32)","v":"Angola"},{"$f":"IF(COUNTRY_INFO!B32=0,\" \",COUNTRY_INFO!B32)","v":"BIE"},{"$f":"IF(COUNTRY_INFO!C32=0,\" \",COUNTRY_INFO!C32)","v":"CUNHINGA"},{"$f":"COUNTRY_INFO!M32","v":0},null,null,{"$f":"MAX('MDA1'!M32,'MDA4'!U32)","v":0},{"$f":"IF(AND(COUNTRY_INFO!H32>0,COUNTRY_INFO!H32<4),IF(D32>MAX('MDA1'!M32,'MDA4'!U32),MAX('MDA1'!M32,'MDA4'!U32),D32),0)","v":0},{"$f":"IF(AND(COUNTRY_INFO!H32>0,COUNTRY_INFO!H32<4), IF(G32/D32*100<>0, IF(G32/D32*100>100,100,G32/D32*100), \"-\"),0)","v":0},{"$f":"COUNTRY_INFO!N32","v":86622.756550145117},null,null,{"$f":"MAX('MDA1'!M32,MAX('MDA3'!I32,'MDA3'!L32)+MAX('MDA3'!J32,'MDA3'!M32))","v":0},{"$f":"IF(AND(COUNTRY_INFO!I32>0,COUNTRY_INFO!I32<4),IF(J32>MAX('MDA1'!M32,MAX('MDA3'!I32,'MDA3'!L32)+MAX('MDA3'!J32,'MDA3'!M32)),MAX('MDA1'!M32,MAX('MDA3'!I32,'MDA3'!L32)+MAX('MDA3'!J32,'MDA3'!M32)),J32),0)","v":0},{"$f":"IF(AND(COUNTRY_INFO!I32>0,COUNTRY_INFO!I32<4), IF(M32/J32*100<>0, IF(M32/J32*100>100,100,M32/J32*100), \"-\"),0)","v":"-"},{"$f":"COUNTRY_INFO!O32","v":38028},null,null,{"$f":"SUM(MAX('MDA4'!R32, 'T1'!L32, MAX(T3_R1!K32, T3_R2!K32)), MAX('MDA1'!K32, 'MDA4'!S32, 'T1'!M32, MAX(T3_R1!L32, T3_R2!L32)), MAX('MDA1'!L32, 'MDA4'!T32, 'T1'!N32, MAX(T3_R1!M32, T3_R2!M32)))","v":29844},{"$f":"IF(AND(COUNTRY_INFO!J32>1,COUNTRY_INFO!J32<4),IF(COUNTRY_INFO!E32>MAX('MDA4'!R32,'T1'!L32,MAX(T3_R1!K32,T3_R2!K32)),MAX('MDA4'!R32,'T1'!L32,MAX(T3_R1!K32,T3_R2!K32)),COUNTRY_INFO!E32),0)","v":0},{"$f":"IF(AND(COUNTRY_INFO!J32>1,COUNTRY_INFO!J32<4), IF(T32/COUNTRY_INFO!E32*100<>0, IF(T32/COUNTRY_INFO!E32*100>100,100,T32/COUNTRY_INFO!E32*100), \"-\"),0)","v":"-"},{"$f":"IF(AND(COUNTRY_INFO!J32>1,COUNTRY_INFO!J32<4),IF(COUNTRY_INFO!F32>MAX('MDA1'!K32,'MDA4'!S32,'T1'!M32,MAX(T3_R1!L32,T3_R2!L32)),MAX('MDA1'!K32,'MDA4'!S32,'T1'!M32,MAX(T3_R1!L32,T3_R2!L32)),COUNTRY_INFO!F32),0)","v":24168},{"$f":"IF(AND(COUNTRY_INFO!J32>1,COUNTRY_INFO!J32<4), IF(V32/COUNTRY_INFO!F32*100<>0, IF(V32/COUNTRY_INFO!F32*100>100,100,V32/COUNTRY_INFO!F32*100), \"-\"),0)","v":100},24168,{"$f":"IF(AND(COUNTRY_INFO!J32>1,COUNTRY_INFO!J32<4), IF(S32/P32*100<>0, IF(X32/P32*100>100,100,X32/P32*100), \"-\"),0)","v":63.553171347428204},{"$f":"COUNTRY_INFO!P32","v":21214},null,null,{"$f":"MAX('T1'!L32,'T2'!J32)+MAX('T1'!M32,'T2'!K32)+MAX('T1'!N32,'T2'!L32)","v":29844},{"$f":"IF(COUNTRY_INFO!K32=1,IF(COUNTRY_INFO!F32*0.33>MAX('T1'!M32,'T2'!K32),MAX('T1'!M32,'T2'!K32),COUNTRY_INFO!F32*0.33),IF(COUNTRY_INFO!K32=2,IF(COUNTRY_INFO!F32*0.5>MAX('T1'!M32,'T2'!K32),MAX('T1'!M32,'T2'!K32),COUNTRY_INFO!F32*0.5),IF(COUNTRY_INFO!K32=3,IF(COUNTRY_INFO!F32>MAX('T1'!M32,'T2'!K32),MAX('T1'!M32,'T2'!K32),COUNTRY_INFO!F32),0)))","v":12084},{"$f":"IF(AND(COUNTRY_INFO!K32>0,COUNTRY_INFO!L32<4),IF(Z32>0,IF(COUNTRY_INFO!K32=1, AD32/(COUNTRY_INFO!F32*0.33)*100, IF(COUNTRY_INFO!K32=2, AD32/(COUNTRY_INFO!F32*0.5)*100, IF(COUNTRY_INFO!K32=3, AD32/COUNTRY_INFO!F32*100))),\"-\"),0)","v":100},{"$f":"IF(COUNTRY_INFO!K32=2,IF(COUNTRY_INFO!G32*0.2>MAX('T1'!N32,'T2'!L32),MAX('T1'!N32,'T2'!L32),COUNTRY_INFO!G32*0.2),IF(COUNTRY_INFO!K32=3,IF(COUNTRY_INFO!G32>MAX('T1'!N32,'T2'!L32),MAX('T1'!N32,'T2'!L32),COUNTRY_INFO!G32),0))","v":0},{"$f":"IF(AND(COUNTRY_INFO!K32>0,COUNTRY_INFO!L32<4),IF(Z32>0,IF(COUNTRY_INFO!K32=1, 0, IF(COUNTRY_INFO!K32=2, AF32/(COUNTRY_INFO!G32*0.2)*100, IF(COUNTRY_INFO!K32=3, AF32/COUNTRY_INFO!G32*100))),\"-\"),0)","v":0},12084,{"$f":"IF(AND(COUNTRY_INFO!K32>0,COUNTRY_INFO!K32<4), IF(AC32/Z32*100<>0, IF(AH32/Z32*100>100,100,AH32/Z32*100), \"-\"),0)","v":56.962383331762048},null,{"$f":"IF(AND(D32<>0, D32<>\"Unknown\",D32<>\"Stopped\",D32<>\"Not required\"),D32/COUNTRY_INFO!D32, 0)","v":0},{"$f":"IF(AND(J32<>0,J32<>\"Unknown\",J32<>\"Stopped\",J32<>\"Not required\"),J32/COUNTRY_INFO!D32, 0)","v":1},{"$f":"IF(AND(P32<>0,P32<>\"Unknown\",P32<>\"Not required\"),P32/(COUNTRY_INFO!E32+COUNTRY_INFO!F32), 0)","v":1},{"$f":"IF(AND(Z32<>0,Z32<>\"Unknown\",Z32<>\"Not required\"),IF(COUNTRY_INFO!K32=1,1,IF(COUNTRY_INFO!K32=2,0.5*COUNTRY_INFO!F32/(0.5*COUNTRY_INFO!F32+0.2*COUNTRY_INFO!G32),IF(COUNTRY_INFO!K32=3,COUNTRY_INFO!F32/(COUNTRY_INFO!F32+COUNTRY_INFO!G32)))),0)","v":0.56962383331762045},{"$f":"IF(AND(Z32<>0,Z32<>\"Unknown\",Z32<>\"Not required\"),IF(COUNTRY_INFO!K32=1,0,IF(COUNTRY_INFO!K32=2,0.2*COUNTRY_INFO!G32/(0.5*COUNTRY_INFO!F32+0.2*COUNTRY_INFO!G32),IF(COUNTRY_INFO!K32=3,COUNTRY_INFO!G32/(COUNTRY_INFO!F32+COUNTRY_INFO!G32)))),0)","v":0.43037616668237955},{"$f":"MAX(COUNTRY_INFO!D32*AK32*PROFILE!$G$7,COUNTRY_INFO!D32*AL32*PROFILE!$G$7)","v":2945.1947841508427},{"$f":"MAX(COUNTRY_INFO!D32*AK32*PROFILE!$G$8,COUNTRY_INFO!D32*AL32*PROFILE!$G$8,COUNTRY_INFO!D32*AM32*PROFILE!$G$8)","v":13859.629051008595},{"$f":"MAX(COUNTRY_INFO!D32*AK32*PROFILE!$G$9,COUNTRY_INFO!D32*AL32*PROFILE!$G$9,COUNTRY_INFO!D32*AM32*PROFILE!$G$9,IF(AND(DISTRICT!Z32<>\"Unknown\",Z32<>\"Not required\"),COUNTRY_INFO!P32*DISTRICT!AN32,0))","v":24167.739714350824},{"$f":"MAX(COUNTRY_INFO!D32*AK32*PROFILE!$G$10,COUNTRY_INFO!D32*AL32*PROFILE!$G$10,IF(AND(DISTRICT!Z32<>\"Unknown\",Z32<>\"Not required\"),COUNTRY_INFO!P32*DISTRICT!AO32,0))","v":45650.193000634856},86622.756550145117,0,{"$f":"MAX('MDA4'!R32,'T1'!L32,'T2'!J32,T3_R1!K32,T3_R2!K32)","v":0},{"$f":"MAX('MDA1'!K32,'MDA4'!S32,'MDA3'!I32,'MDA3'!L32,'T1'!M32,'T2'!K32,T3_R1!L32,T3_R2!L32)","v":29844},{"$f":"MAX('MDA1'!L32,'MDA4'!T32,'MDA3'!J32,'MDA3'!M32,'T1'!N32,'T2'!L32,T3_R1!M32,T3_R2!M32)","v":0},29844,{"$f":"MAX('MDA4'!R32,T32)","v":0},{"$f":"MAX('MDA1'!K32,'MDA4'!S32,'MDA3'!I32,'MDA3'!L32,V32,AD32)","v":24168},{"$f":"MAX('MDA1'!L32,'MDA4'!T32,'MDA3'!J32,'MDA3'!M32,AF32)","v":0},24168,27.900289672736712]
[{"$f":"IF(COUNTRY_INFO!A33=0,\" \",COUNTRY_INFO!A33)","v":"Angola"},{"$f":"IF(COUNTRY_INFO!B33=0,\" \",COUNTRY_INFO!B33)","v":"BIE"},{"$f":"IF(COUNTRY_INFO!C33=0,\" \",COUNTRY_INFO!C33)","v":"NHAREA"},{"$f":"COUNTRY_INFO!M33","v":0},null,null,{"$f":"MAX('MDA1'!M33,'MDA4'!U33)","v":0},{"$f":"IF(AND(COUNTRY_INFO!H33>0,COUNTRY_INFO!H33<4),IF(D33>MAX('MDA1'!M33,'MDA4'!U33),MAX('MDA1'!M33,'MDA4'!U33),D33),0)","v":0},{"$f":"IF(AND(COUNTRY_INFO!H33>0,COUNTRY_INFO!H33<4), IF(G33/D33*100<>0, IF(G33/D33*100>100,100,G33/D33*100), \"-\"),0)","v":0},{"$f":"COUNTRY_INFO!N33","v":148238.18762751311},null,null,{"$f":"MAX('MDA1'!M33,MAX('MDA3'!I33,'MDA3'!L33)+MAX('MDA3'!J33,'MDA3'!M33))","v":0},{"$f":"IF(AND(COUNTRY_INFO!I33>0,COUNTRY_INFO!I33<4),IF(J33>MAX('MDA1'!M33,MAX('MDA3'!I33,'MDA3'!L33)+MAX('MDA3'!J33,'MDA3'!M33)),MAX('MDA1'!M33,MAX('MDA3'!I33,'MDA3'!L33)+MAX('MDA3'!J33,'MDA3'!M33)),J33),0)","v":0},{"$f":"IF(AND(COUNTRY_INFO!I33>0,COUNTRY_INFO!I33<4), IF(M33/J33*100<>0, IF(M33/J33*100>100,100,M33/J33*100), \"-\"),0)","v":"-"},{"$f":"COUNTRY_INFO!O33","v":65076},null,null,{"$f":"SUM(MAX('MDA4'!R33, 'T1'!L33, MAX(T3_R1!K33, T3_R2!K33)), MAX('MDA1'!K33, 'MDA4'!S33, 'T1'!M33, MAX(T3_R1!L33, T3_R2!L33)), MAX('MDA1'!L33, 'MDA4'!T33, 'T1'!N33, MAX(T3_R1!M33, T3_R2!M33)))","v":25964},{"$f":"IF(AND(COUNTRY_INFO!J33>1,COUNTRY_INFO!J33<4),IF(COUNTRY_INFO!E33>MAX('MDA4'!R33,'T1'!L33,MAX(T3_R1!K33,T3_R2!K33)),MAX('MDA4'!R33,'T1'!L33,MAX(T3_R1!K33,T3_R2!K33)),COUNTRY_INFO!E33),0)","v":0},{"$f":"IF(AND(COUNTRY_INFO!J33>1,COUNTRY_INFO!J33<4), IF(T33/COUNTRY_INFO!E33*100<>0, IF(T33/COUNTRY_INFO!E33*100>100,100,T33/COUNTRY_INFO!E33*100), \"-\"),0)","v":"-"},{"$f":"IF(AND(COUNTRY_INFO!J33>1,COUNTRY_INFO!J33<4),IF(COUNTRY_INFO!F33>MAX('MDA1'!K33,'MDA4'!S33,'T1'!M33,MAX(T3_R1!L33,T3_R2!L33)),MAX('MDA1'!K33,'MDA4'!S33,'T1'!M33,MAX(T3_R1!L33,T3_R2!L33)),COUNTRY_INFO!F33),0)","v":25964},{"$f":"IF(AND(COUNTRY_INFO!J33>1,COUNTRY_INFO!J33<4), IF(V33/COUNTRY_INFO!F33*100<>0, IF(V33/COUNTRY_INFO!F33*100>100,100,V33/COUNTRY_INFO!F33*100), \"-\"),0)","v":62.778664345471249},25964,{"$f":"IF(AND(COUNTRY_INFO!J33>1,COUNTRY_INFO!J33<4), IF(S33/P33*100<>0, IF(X33/P33*100>100,100,X33/P33*100), \"-\"),0)","v":39.897965455774788},{"$f":"COUNTRY_INFO!P33","v":36303.4},null,null,{"$f":"MAX('T1'!L33,'T2'!J33)+MAX('T1'!M33,'T2'!K33)+MAX('T1'!N33,'T2'!L33)","v":25964},{"$f":"IF(COUNTRY_INFO!K33=1,IF(COUNTRY_INFO!F33*0.33>MAX('T1'!M33,'T2'!K33),MAX('T1'!M33,'T2'!K33),COUNTRY_INFO!F33*0.33),IF(COUNTRY_INFO!K33=2,IF(COUNTRY_INFO!F33*0.5>MAX('T1'!M33,'T2'!K33),MAX('T1'!M33,'T2'!K33),COUNTRY_INFO!F33*0.5),IF(COUNTRY_INFO!K33=3,IF(COUNTRY_INFO!F33>MAX('T1'!M33,'T2'!K33),MAX('T1'!M33,'T2'!K33),COUNTRY_INFO!F33),0)))","v":20679},{"$f":"IF(AND(COUNTRY_INFO!K33>0,COUNTRY_INFO!L33<4),IF(Z33>0,IF(COUNTRY_INFO!K33=1, AD33/(COUNTRY_INFO!F33*0.33)*100, IF(COUNTRY_INFO!K33=2, AD33/(COUNTRY_INFO!F33*0.5)*100, IF(COUNTRY_INFO!K33=3, AD33/COUNTRY_INFO!F33*100))),\"-\"),0)","v":100},{"$f":"IF(COUNTRY_INFO!K33=2,IF(COUNTRY_INFO!G33*0.2>MAX('T1'!N33,'T2'!L33),MAX('T1'!N33,'T2'!L33),COUNTRY_INFO!G33*0.2),IF(COUNTRY_INFO!K33=3,IF(COUNTRY_INFO!G33>MAX('T1'!N33,'T2'!L33),MAX('T1'!N33,'T2'!L33),COUNTRY_INFO!G33),0))","v":0},{"$f":"IF(AND(COUNTRY_INFO!K33>0,COUNTRY_INFO!L33<4),IF(Z33>0,IF(COUNTRY_INFO!K33=1, 0, IF(COUNTRY_INFO!K33=2, AF33/(COUNTRY_INFO!G33*0.2)*100, IF(COUNTRY_INFO!K33=3, AF33/COUNTRY_INFO!G33*100))),\"-\"),0)","v":0},20679,{"$f":"IF(AND(COUNTRY_INFO!K33>0,COUNTRY_INFO!K33<4), IF(AC33/Z33*100<>0, IF(AH33/Z33*100>100,100,AH33/Z33*100), \"-\"),0)","v":56.961606901832887},null,{"$f":"IF(AND(D33<>0, D33<>\"Unknown\",D33<>\"Stopped\",D33<>\"Not required\"),D33/COUNTRY_INFO!D33, 0)","v":0},{"$f":"IF(AND(J33<>0,J33<>\"Unknown\",J33<>\"Stopped\",J33<>\"Not required\"),J33/COUNTRY_INFO!D33, 0)","v":1},{"$f":"IF(AND(P33<>0,P33<>\"Unknown\",P33<>\"Not required\"),P33/(COUNTRY_INFO!E33+COUNTRY_INFO!F33), 0)","v":1},{"$f":"IF(AND(Z33<>0,Z33<>\"Unknown\",Z33<>\"Not required\"),IF(COUNTRY_INFO!K33=1,1,IF(COUNTRY_INFO!K33=2,0.5*COUNTRY_INFO!F33/(0.5*COUNTRY_INFO!F33+0.2*COUNTRY_INFO!G33),IF(COUNTRY_INFO!K33=3,COUNTRY_INFO!F33/(COUNTRY_INFO!F33+COUNTRY_INFO!G33)))),0)","v":0.56961606901832884},{"$f":"IF(AND(Z33<>0,Z33<>\"Unknown\",Z33<>\"Not required\"),IF(COUNTRY_INFO!K33=1,0,IF(COUNTRY_INFO!K33=2,0.2*COUNTRY_INFO!G33/(0.5*COUNTRY_INFO!F33+0.2*COUNTRY_INFO!G33),IF(COUNTRY_INFO!K33=3,COUNTRY_INFO!G33/(COUNTRY_INFO!F33+COUNTRY_INFO!G33)))),0)","v":0.43038393098167116},{"$f":"MAX(COUNTRY_INFO!D33*AK33*PROFILE!$G$7,COUNTRY_INFO!D33*AL33*PROFILE!$G$7)","v":5040.1344219493576},{"$f":"MAX(COUNTRY_INFO!D33*AK33*PROFILE!$G$8,COUNTRY_INFO!D33*AL33*PROFILE!$G$8,COUNTRY_INFO!D33*AM33*PROFILE!$G$8)","v":23718.089489818958},{"$f":"MAX(COUNTRY_INFO!D33*AK33*PROFILE!$G$9,COUNTRY_INFO!D33*AL33*PROFILE!$G$9,COUNTRY_INFO!D33*AM33*PROFILE!$G$9,IF(AND(DISTRICT!Z33<>\"Unknown\",Z33<>\"Not required\"),COUNTRY_INFO!P33*DISTRICT!AN33,0))","v":41358.43832486344},{"$f":"MAX(COUNTRY_INFO!D33*AK33*PROFILE!$G$10,COUNTRY_INFO!D33*AL33*PROFILE!$G$10,IF(AND(DISTRICT!Z33<>\"Unknown\",Z33<>\"Not required\"),COUNTRY_INFO!P33*DISTRICT!AO33,0))","v":78121.525390881347},148238.18762751311,0,{"$f":"MAX('MDA4'!R33,'T1'!L33,'T2'!J33,T3_R1!K33,T3_R2!K33)","v":0},{"$f":"MAX('MDA1'!K33,'MDA4'!S33,'MDA3'!I33,'MDA3'!L33,'T1'!M33,'T2'!K33,T3_R1!L33,T3_R2!L33)","v":25964},{"$f":"MAX('MDA1'!L33,'MDA4'!T33,'MDA3'!J33,'MDA3'!M33,'T1'!N33,'T2'!L33,T3_R1!M33,T3_R2!M33)","v":0},25964,{"$f":"MAX('MDA4'!R33,T33)","v":0},{"$f":"MAX('MDA1'!K33,'MDA4'!S33,'MDA3'!I33,'MDA3'!L33,V33,AD33)","v":25964},{"$f":"MAX('MDA1'!L33,'MDA4'!T33,'MDA3'!J33,'MDA3'!M33,AF33)","v":0},25964,17.515054936614096]
[{"$f":"IF(COUNTRY_INFO!A34=0,\" \",COUNTRY_INFO!A34)","v":"Angola"},{"$f":"IF(COUNTRY_INFO!B34=0,\" \",COUNTRY_INFO!B34)","v":"CABINDA"},{"$f":"IF(COUNTRY_INFO!C34=0,\" \",COUNTRY_INFO!C34)","v":"BELIZE"},{"$f":"COUNTRY_INFO!M34","v":"Unknown"},null,null,{"$f":"MAX('MDA1'!M34,'MDA4'!U34)","v":0},{"$f":"IF(AND(COUNTRY_INFO!H34>0,COUNTRY_INFO!H34<4),IF(D34>MAX('MDA1'!M34,'MDA4'!U34),MAX('MDA1'!M34,'MDA4'!U34),D34),0)","v":0},{"$f":"IF(AND(COUNTRY_INFO!H34>0,COUNTRY_INFO!H34<4), IF(G34/D34*100<>0, IF(G34/D34*100>100,100,G34/D34*100), \"-\"),0)","v":0},{"$f":"COUNTRY_INFO!N34","v":"Unknown"},null,null,{"$f":"MAX('MDA1'!M34,MAX('MDA3'!I34,'MDA3'!L34)+MAX('MDA3'!J34,'MDA3'!M34))","v":0},{"$f":"IF(AND(COUNTRY_INFO!I34>0,COUNTRY_INFO!I34<4),IF(J34>MAX('MDA1'!M34,MAX('MDA3'!I34,'MDA3'!L34)+MAX('MDA3'!J34,'MDA3'!M34)),MAX('MDA1'!M34,MAX('MDA3'!I34,'MDA3'!L34)+MAX('MDA3'!J34,'MDA3'!M34)),J34),0)","v":0},{"$f":"IF(AND(COUNTRY_INFO!I34>0,COUNTRY_INFO!I34<4), IF(M34/J34*100<>0, IF(M34/J34*100>100,100,M34/J34*100), \"-\"),0)","v":0},{"$f":"COUNTRY_INFO!O34","v":10076},null,null,{"$f":"SUM(MAX('MDA4'!R34, 'T1'!L34, MAX(T3_R1!K34, T3_R2!K34)), MAX('MDA1'!K34, 'MDA4'!S34, 'T1'!M34, MAX(T3_R1!L34, T3_R2!L34)), MAX('MDA1'!L34, 'MDA4'!T34, 'T1'!N34, MAX(T3_R1!M34, T3_R2!M34)))","v":0},{"$f":"IF(AND(COUNTRY_INFO!J34>1,COUNTRY_INFO!J34<4),IF(COUNTRY_INFO!E34>MAX('MDA4'!R34,'T1'!L34,MAX(T3_R1!K34,T3_R2!K34)),MAX('MDA4'!R34,'T1'!L34,MAX(T3_R1!K34,T3_R2!K34)),COUNTRY_INFO!E34),0)","v":0},{"$f":"IF(AND(COUNTRY_INFO!J34>1,COUNTRY_INFO!J34<4), IF(T34/COUNTRY_INFO!E34*100<>0, IF(T34/COUNTRY_INFO!E34*100>100,100,T34/COUNTRY_INFO!E34*100), \"-\"),0)","v":"-"},{"$f":"IF(AND(COUNTRY_INFO!J34>1,COUNTRY_INFO!J34<4),IF(COUNTRY_INFO!F34>MAX('MDA1'!K34,'MDA4'!S34,'T1'!M34,MAX(T3_R1!L34,T3_R2!L34)),MAX('MDA1'!K34,'MDA4'!S34,'T1'!M34,MAX(T3_R1!L34,T3_R2!L34)),COUNTRY_INFO!F34),0)","v":0},{"$f":"IF(AND(COUNTRY_INFO!J34>1,COUNTRY_INFO!J34<4), IF(V34/COUNTRY_INFO!F34*100<>0, IF(V34/COUNTRY_INFO!F34*100>100,100,V34/COUNTRY_INFO!F34*100), \"-\"),0)","v":"-"},0,{"$f":"IF(AND(COUNTRY_INFO!J34>1,COUNTRY_INFO!J34<4), IF(S34/P34*100<>0, IF(X34/P34*100>100,100,X34/P34*100), \"-\"),0)","v":"-"},{"$f":"COUNTRY_INFO!P34","v":5621.2000000000007},null,null,{"$f":"MAX('T1'!L34,'T2'!J34)+MAX('T1'!M34,'T2'!K34)+MAX('T1'!N34,'T2'!L34)","v":0},{"$f":"IF(COUNTRY_INFO!K34=1,IF(COUNTRY_INFO!F34*0.33>MAX('T1'!M34,'T2'!K34),MAX('T1'!M34,'T2'!K34),COUNTRY_INFO!F34*0.33),IF(COUNTRY_INFO!K34=2,IF(COUNTRY_INFO!F34*0.5>MAX('T1'!M34,'T2'!K34),MAX('T1'!M34,'T2'!K34),COUNTRY_INFO!F34*0.5),IF(COUNTRY_INFO!K34=3,IF(COUNTRY_INFO!F34>MAX('T1'!M34,'T2'!K34),MAX('T1'!M34,'T2'!K34),COUNTRY_INFO!F34),0)))","v":0},{"$f":"IF(AND(COUNTRY_INFO!K34>0,COUNTRY_INFO!L34<4),IF(Z34>0,IF(COUNTRY_INFO!K34=1, AD34/(COUNTRY_INFO!F34*0.33)*100, IF(COUNTRY_INFO!K34=2, AD34/(COUNTRY_INFO!F34*0.5)*100, IF(COUNTRY_INFO!K34=3, AD34/COUNTRY_INFO!F34*100))),\"-\"),0)","v":0},{"$f":"IF(COUNTRY_INFO!K34=2,IF(COUNTRY_INFO!G34*0.2>MAX('T1'!N34,'T2'!L34),MAX('T1'!N34,'T2'!L34),COUNTRY_INFO!G34*0.2),IF(COUNTRY_INFO!K34=3,IF(COUNTRY_INFO!G34>MAX('T1'!N34,'T2'!L34),MAX('T1'!N34,'T2'!L34),COUNTRY_INFO!G34),0))","v":0},{"$f":"IF(AND(COUNTRY_INFO!K34>0,COUNTRY_INFO!L34<4),IF(Z34>0,IF(COUNTRY_INFO!K34=1, 0, IF(COUNTRY_INFO!K34=2, AF34/(COUNTRY_INFO!G34*0.2)*100, IF(COUNTRY_INFO!K34=3, AF34/COUNTRY_INFO!G34*100))),\"-\"),0)","v":0},0,{"$f":"IF(AND(COUNTRY_INFO!K34>0,COUNTRY_INFO!K34<4), IF(AC34/Z34*100<>0, IF(AH34/Z34*100>100,100,AH34/Z34*100), \"-\"),0)","v":"-"},null,{"$f":"IF(AND(D34<>0, D34<>\"Unknown\",D34<>\"Stopped\",D34<>\"Not required\"),D34/COUNTRY_INFO!D34, 0)","v":0},{"$f":"IF(AND(J34<>0,J34<>\"Unknown\",J34<>\"Stopped\",J34<>\"Not required\"),J34/COUNTRY_INFO!D34, 0)","v":0},{"$f":"IF(AND(P34<>0,P34<>\"Unknown\",P34<>\"Not required\"),P34/(COUNTRY_INFO!E34+COUNTRY_INFO!F34), 0)","v":1},{"$f":"IF(AND(Z34<>0,Z34<>\"Unknown\",Z34<>\"Not required\"),IF(COUNTRY_INFO!K34=1,1,IF(COUNTRY_INFO!K34=2,0.5*COUNTRY_INFO!F34/(0.5*COUNTRY_INFO!F34+0.2*COUNTRY_INFO!G34),IF(COUNTRY_INFO!K34=3,COUNTRY_INFO!F34/(COUNTRY_INFO!F34+COUNTRY_INFO!G34)))),0)","v":0.56962926065608754},{"$f":"IF(AND(Z34<>0,Z34<>\"Unknown\",Z34<>\"Not required\"),IF(COUNTRY_INFO!K34=1,0,IF(COUNTRY_INFO!K34=2,0.2*COUNTRY_INFO!G34/(0.5*COUNTRY_INFO!F34+0.2*COUNTRY_INFO!G34),IF(COUNTRY_INFO!K34=3,COUNTRY_INFO!G34/(COUNTRY_INFO!F34+COUNTRY_INFO!G34)))),0)","v":0.43037073934391235},{"$f":"MAX(COUNTRY_INFO!D34*AK34*PROFILE!$G$7,COUNTRY_INFO!D34*AL34*PROFILE!$G$7)","v":0},{"$f":"MAX(COUNTRY_INFO!D34*AK34*PROFILE!$G$8,COUNTRY_INFO!D34*AL34*PROFILE!$G$8,COUNTRY_INFO!D34*AM34*PROFILE!$G$8)","v":3672.2591480884653},{"$f":"MAX(COUNTRY_INFO!D34*AK34*PROFILE!$G$9,COUNTRY_INFO!D34*AL34*PROFILE!$G$9,COUNTRY_INFO!D34*AM34*PROFILE!$G$9,IF(AND(DISTRICT!Z34<>\"Unknown\",Z34<>\"Not required\"),COUNTRY_INFO!P34*DISTRICT!AN34,0))","v":6403.5049515403298},{"$f":"MAX(COUNTRY_INFO!D34*AK34*PROFILE!$G$10,COUNTRY_INFO!D34*AL34*PROFILE!$G$10,IF(AND(DISTRICT!Z34<>\"Unknown\",Z34<>\"Not required\"),COUNTRY_INFO!P34*DISTRICT!AO34,0))","v":2419.2000000000003},12494.964099628796,0,{"$f":"MAX('MDA4'!R34,'T1'!L34,'T2'!J34,T3_R1!K34,T3_R2!K34)","v":0},{"$f":"MAX('MDA1'!K34,'MDA4'!S34,'MDA3'!I34,'MDA3'!L34,'T1'!M34,'T2'!K34,T3_R1!L34,T3_R2!L34)","v":0},{"$f":"MAX('MDA1'!L34,'MDA4'!T34,'MDA3'!J34,'MDA3'!M34,'T1'!N34,'T2'!L34,T3_R1!M34,T3_R2!M34)","v":0},0,{"$f":"MAX('MDA4'!R34,T34)","v":0},{"$f":"MAX('MDA1'!K34,'MDA4'!S34,'MDA3'!I34,'MDA3'!L34,V34,AD34)","v":0},{"$f":"MAX('MDA1'!L34,'MDA4'!T34,'MDA3'!J34,'MDA3'!M34,AF34)","v":0},0,0]
[{"$f":"IF(COUNTRY_INFO!A35=0,\" \",COUNTRY_INFO!A35)","v":"Angola"},{"$f":"IF(COUNTRY_INFO!B35=0,\" \",COUNTRY_INFO!B35)","v":"CABINDA"},{"$f":"IF(COUNTRY_INFO!C35=0,\" \",COUNTRY_INFO!C35)","v":"BUCO ZAU"},{"$f":"COUNTRY_INFO!M35","v":38476.057659799502},null,null,{"$f":"MAX('MDA1'!M35,'MDA4'!U35)","v":0},{"$f":"IF(AND(COUNTRY_INFO!H35>0,COUNTRY_INFO!H35<4),IF(D35>MAX('MDA1'!M35,'MDA4'!U35),MAX('MDA1'!M35,'MDA4'!U35),D35),0)","v":0},{"$f":"IF(AND(COUNTRY_INFO!H35>0,COUNTRY_INFO!H35<4), IF(G35/D35*100<>0, IF(G35/D35*100>100,100,G35/D35*100), \"-\"),0)","v":"-"},{"$f":"COUNTRY_INFO!N35","v":"Unknown"},null,null,{"$f":"MAX('MDA1'!M35,MAX('MDA3'!I35,'MDA3'!L35)+MAX('MDA3'!J35,'MDA3'!M35))","v":0},{"$f":"IF(AND(COUNTRY_INFO!I35>0,COUNTRY_INFO!I35<4),IF(J35>MAX('MDA1'!M35,MAX('MDA3'!I35,'MDA3'!L35)+MAX('MDA3'!J35,'MDA3'!M35)),MAX('MDA1'!M35,MAX('MDA3'!I35,'MDA3'!L35)+MAX('MDA3'!J35,'MDA3'!M35)),J35),0)","v":0},{"$f":"IF(AND(COUNTRY_INFO!I35>0,COUNTRY_INFO!I35<4), IF(M35/J35*100<>0, IF(M35/J35*100>100,100,M35/J35*100), \"-\"),0)","v":0},{"$f":"COUNTRY_INFO!O35","v":16891},null,null,{"$f":"SUM(MAX('MDA4'!R35, 'T1'!L35, MAX(T3_R1!K35, T3_R2!K35)), MAX('MDA1'!K35, 'MDA4'!S35, 'T1'!M35, MAX(T3_R1!L35, T3_R2!L35)), MAX('MDA1'!L35, 'MDA4'!T35, 'T1'!N35, MAX(T3_R1!M35, T3_R2!M35)))","v":0},{"$f":"IF(AND(COUNTRY_INFO!J35>1,COUNTRY_INFO!J35<4),IF(COUNTRY_INFO!E35>MAX('MDA4'!R35,'T1'!L35,MAX(T3_R1!K35,T3_R2!K35)),MAX('MDA4'!R35,'T1'!L35,MAX(T3_R1!K35,T3_R2!K35)),COUNTRY_INFO!E35),0)","v":0},{"$f":"IF(AND(COUNTRY_INFO!J35>1,COUNTRY_INFO!J35<4), IF(T35/COUNTRY_INFO!E35*100<>0, IF(T35/COUNTRY_INFO!E35*100>100,100,T35/COUNTRY_INFO!E35*100), \"-\"),0)","v":"-"},{"$f":"IF(AND(COUNTRY_INFO!J35>1,COUNTRY_INFO!J35<4),IF(COUNTRY_INFO!F35>MAX('MDA1'!K35,'MDA4'!S35,'T1'!M35,MAX(T3_R1!L35,T3_R2!L35)),MAX('MDA1'!K35,'MDA4'!S35,'T1'!M35,MAX(T3_R1!L35,T3_R2!L35)),COUNTRY_INFO!F35),0)","v":0},{"$f":"IF(AND(COUNTRY_INFO!J35>1,COUNTRY_INFO!J35<4), IF(V35/COUNTRY_INFO!F35*100<>0, IF(V35/COUNTRY_INFO!F35*100>100,100,V35/COUNTRY_INFO!F35*100), \"-\"),0)","v":"-"},0,{"$f":"IF(AND(COUNTRY_INFO!J35>1,COUNTRY_INFO!J35<4), IF(S35/P35*100<>0, IF(X35/P35*100>100,100,X35/P35*100), \"-\"),0)","v":"-"},{"$f":"COUNTRY_INFO!P35","v":9422.9},null,null,{"$f":"MAX('T1'!L35,'T2'!J35)+MAX('T1'!M35,'T2'!K35)+MAX('T1'!N35,'T2'!L35)","v":0},{"$f":"IF(COUNTRY_INFO!K35=1,IF(COUNTRY_INFO!F35*0.33>MAX('T1'!M35,'T2'!K35),MAX('T1'!M35,'T2'!K35),COUNTRY_INFO!F35*0.33),IF(COUNTRY_INFO!K35=2,IF(COUNTRY_INFO!F35*0.5>MAX('T1'!M35,'T2'!K35),MAX('T1'!M35,'T2'!K35),COUNTRY_INFO!F35*0.5),IF(COUNTRY_INFO!K35=3,IF(COUNTRY_INFO!F35>MAX('T1'!M35,'T2'!K35),MAX('T1'!M35,'T2'!K35),COUNTRY_INFO!F35),0)))","v":0},{"$f":"IF(AND(COUNTRY_INFO!K35>0,COUNTRY_INFO!L35<4),IF(Z35>0,IF(COUNTRY_INFO!K35=1, AD35/(COUNTRY_INFO!F35*0.33)*100, IF(COUNTRY_INFO!K35=2, AD35/(COUNTRY_INFO!F35*0.5)*100, IF(COUNTRY_INFO!K35=3, AD35/COUNTRY_INFO!F35*100))),\"-\"),0)","v":0},{"$f":"IF(COUNTRY_INFO!K35=2,IF(COUNTRY_INFO!G35*0.2>MAX('T1'!N35,'T2'!L35),MAX('T1'!N35,'T2'!L35),COUNTRY_INFO!G35*0.2),IF(COUNTRY_INFO!K35=3,IF(COUNTRY_INFO!G35>MAX('T1'!N35,'T2'!L35),MAX('T1'!N35,'T2'!L35),COUNTRY_INFO!G35),0))","v":0},{"$f":"IF(AND(COUNTRY_INFO!K35>0,COUNTRY_INFO!L35<4),IF(Z35>0,IF(COUNTRY_INFO!K35=1, 0, IF(COUNTRY_INFO!K35=2, AF35/(COUNTRY_INFO!G35*0.2)*100, IF(COUNTRY_INFO!K35=3, AF35/COUNTRY_INFO!G35*100))),\"-\"),0)","v":0},0,{"$f":"IF(AND(COUNTRY_INFO!K35>0,COUNTRY_INFO!K35<4), IF(AC35/Z35*100<>0, IF(AH35/Z35*100>100,100,AH35/Z35*100), \"-\"),0)","v":"-"},null,{"$f":"IF(AND(D35<>0, D35<>\"Unknown\",D35<>\"Stopped\",D35<>\"Not required\"),D35/COUNTRY_INFO!D35, 0)","v":1},{"$f":"IF(AND(J35<>0,J35<>\"Unknown\",J35<>\"Stopped\",J35<>\"Not required\"),J35/COUNTRY_INFO!D35, 0)","v":0},{"$f":"IF(AND(P35<>0,P35<>\"Unknown\",P35<>\"Not required\"),P35/(COUNTRY_INFO!E35+COUNTRY_INFO!F35), 0)","v":1},{"$f":"IF(AND(Z35<>0,Z35<>\"Unknown\",Z35<>\"Not required\"),IF(COUNTRY_INFO!K35=1,1,IF(COUNTRY_INFO!K35=2,0.5*COUNTRY_INFO!F35/(0.5*COUNTRY_INFO!F35+0.2*COUNTRY_INFO!G35),IF(COUNTRY_INFO!K35=3,COUNTRY_INFO!F35/(COUNTRY_INFO!F35+COUNTRY_INFO!G35)))),0)","v":0.56962293985927903},{"$f":"IF(AND(Z35<>0,Z35<>\"Unknown\",Z35<>\"Not required\"),IF(COUNTRY_INFO!K35=1,0,IF(COUNTRY_INFO!K35=2,0.2*COUNTRY_INFO!G35/(0.5*COUNTRY_INFO!F35+0.2*COUNTRY_INFO!G35),IF(COUNTRY_INFO!K35=3,COUNTRY_INFO!G35/(COUNTRY_INFO!F35+COUNTRY_INFO!G35)))),0)","v":0.43037706014072102},{"$f":"MAX(COUNTRY_INFO!D35*AK35*PROFILE!$G$7,COUNTRY_INFO!D35*AL35*PROFILE!$G$7)","v":1308.1953154969037},{"$f":"MAX(COUNTRY_INFO!D35*AK35*PROFILE!$G$8,COUNTRY_INFO!D35*AL35*PROFILE!$G$8,COUNTRY_INFO!D35*AM35*PROFILE!$G$8)","v":6156.1638967392746},{"$f":"MAX(COUNTRY_INFO!D35*AK35*PROFILE!$G$9,COUNTRY_INFO!D35*AL35*PROFILE!$G$9,COUNTRY_INFO!D35*AM35*PROFILE!$G$9,IF(AND(DISTRICT!Z35<>\"Unknown\",Z35<>\"Not required\"),COUNTRY_INFO!P35*DISTRICT!AN35,0))","v":10734.815928168829},{"$f":"MAX(COUNTRY_INFO!D35*AK35*PROFILE!$G$10,COUNTRY_INFO!D35*AL35*PROFILE!$G$10,IF(AND(DISTRICT!Z35<>\"Unknown\",Z35<>\"Not required\"),COUNTRY_INFO!P35*DISTRICT!AO35,0))","v":20276.882519394494},38476.057659799502,0,{"$f":"MAX('MDA4'!R35,'T1'!L35,'T2'!J35,T3_R1!K35,T3_R2!K35)","v":0},{"$f":"MAX('MDA1'!K35,'MDA4'!S35,'MDA3'!I35,'MDA3'!L35,'T1'!M35,'T2'!K35,T3_R1!L35,T3_R2!L35)","v":0},{"$f":"MAX('MDA1'!L35,'MDA4'!T35,'MDA3'!J35,'MDA3'!M35,'T1'!N35,'T2'!L35,T3_R1!M35,T3_R2!M35)","v":0},0,{"$f":"MAX('MDA4'!R35,T35)","v":0},{"$f":"MAX('MDA1'!K35,'MDA4'!S35,'MDA3'!I35,'MDA3'!L35,V35,AD35)","v":0},{"$f":"MAX('MDA1'!L35,'MDA4'!T35,'MDA3'!J35,'MDA3'!M35,AF35)","v":0},0,0]
[{"$f":"IF(COUNTRY_INFO!A36=0,\" \",COUNTRY_INFO!A36)","v":"Angola"},{"$f":"IF(COUNTRY_INFO!B36=0,\" \",COUNTRY_INFO!B36)","v":"CABINDA"},{"$f":"IF(COUNTRY_INFO!C36=0,\" \",COUNTRY_INFO!C36)","v":"CABINDA"},{"$f":"COUNTRY_INFO!M36","v":"Unknown"},null,null,{"$f":"MAX('MDA1'!M36,'MDA4'!U36)","v":0},{"$f":"IF(AND(COUNTRY_INFO!H36>0,COUNTRY_INFO!H36<4),IF(D36>MAX('MDA1'!M36,'MDA4'!U36),MAX('MDA1'!M36,'MDA4'!U36),D36),0)","v":0},{"$f":"IF(AND(COUNTRY_INFO!H36>0,COUNTRY_INFO!H36<4), IF(G36/D36*100<>0, IF(G36/D36*100>100,100,G36/D36*100), \"-\"),0)","v":0},{"$f":"COUNTRY_INFO!N36","v":"Unknown"},null,null,{"$f":"MAX('MDA1'!M36,MAX('MDA3'!I36,'MDA3'!L36)+MAX('MDA3'!J36,'MDA3'!M36))","v":0},{"$f":"IF(AND(COUNTRY_INFO!I36>0,COUNTRY_INFO!I36<4),IF(J36>MAX('MDA1'!M36,MAX('MDA3'!I36,'MDA3'!L36)+MAX('MDA3'!J36,'MDA3'!M36)),MAX('MDA1'!M36,MAX('MDA3'!I36,'MDA3'!L36)+MAX('MDA3'!J36,'MDA3'!M36)),J36),0)","v":0},{"$f":"IF(AND(COUNTRY_INFO!I36>0,COUNTRY_INFO!I36<4), IF(M36/J36*100<>0, IF(M36/J36*100>100,100,M36/J36*100), \"-\"),0)","v":0},{"$f":"COUNTRY_INFO!O36","v":321752},null,null,{"$f":"SUM(MAX('MDA4'!R36, 'T1'!L36, MAX(T3_R1!K36, T3_R2!K36)), MAX('MDA1'!K36, 'MDA4'!S36, 'T1'!M36, MAX(T3_R1!L36, T3_R2!L36)), MAX('MDA1'!L36, 'MDA4'!T36, 'T1'!N36, MAX(T3_R1!M36, T3_R2!M36)))","v":0},{"$f":"IF(AND(COUNTRY_INFO!J36>1,COUNTRY_INFO!J36<4),IF(COUNTRY_INFO!E36>MAX('MDA4'!R36,'T1'!L36,MAX(T3_R1!K36,T3_R2!K36)),MAX('MDA4'!R36,'T1'!L36,MAX(T3_R1!K36,T3_R2!K36)),COUNTRY_INFO!E36),0)","v":0},{"$f":"IF(AND(COUNTRY_INFO!J36>1,COUNTRY_INFO!J36<4), IF(T36/COUNTRY_INFO!E36*100<>0, IF(T36/COUNTRY_INFO!E36*100>100,100,T36/COUNTRY_INFO!E36*100), \"-\"),0)","v":"-"},{"$f":"IF(AND(COUNTRY_INFO!J36>1,COUNTRY_INFO!J36<4),IF(COUNTRY_INFO!F36>MAX('MDA1'!K36,'MDA4'!S36,'T1'!M36,MAX(T3_R1!L36,T3_R2!L36)),MAX('MDA1'!K36,'MDA4'!S36,'T1'!M36,MAX(T3_R1!L36,T3_R2!L36)),COUNTRY_INFO!F36),0)","v":0},{"$f":"IF(AND(COUNTRY_INFO!J36>1,COUNTRY_INFO!J36<4), IF(V36/COUNTRY_INFO!F36*100<>0, IF(V36/COUNTRY_INFO!F36*100>100,100,V36/COUNTRY_INFO!F36*100), \"-\"),0)","v":"-"},0,{"$f":"IF(AND(COUNTRY_INFO!J36>1,COUNTRY_INFO!J36<4), IF(S36/P36*100<>0, IF(X36/P36*100>100,100,X36/P36*100), \"-\"),0)","v":"-"},{"$f":"COUNTRY_INFO!P36","v":179492.3},null,null,{"$f":"MAX('T1'!L36,'T2'!J36)+MAX('T1'!M36,'T2'!K36)+MAX('T1'!N36,'T2'!L36)","v":0},{"$f":"IF(COUNTRY_INFO!K36=1,IF(COUNTRY_INFO!F36*0.33>MAX('T1'!M36,'T2'!K36),MAX('T1'!M36,'T2'!K36),COUNTRY_INFO!F36*0.33),IF(COUNTRY_INFO!K36=2,IF(COUNTRY_INFO!F36*0.5>MAX('T1'!M36,'T2'!K36),MAX('T1'!M36,'T2'!K36),COUNTRY_INFO!F36*0.5),IF(COUNTRY_INFO!K36=3,IF(COUNTRY_INFO!F36>MAX('T1'!M36,'T2'!K36),MAX('T1'!M36,'T2'!K36),COUNTRY_INFO!F36),0)))","v":0},{"$f":"IF(AND(COUNTRY_INFO!K36>0,COUNTRY_INFO!L36<4),IF(Z36>0,IF(COUNTRY_INFO!K36=1, AD36/(COUNTRY_INFO!F36*0.33)*100, IF(COUNTRY_INFO!K36=2, AD36/(COUNTRY_INFO!F36*0.5)*100, IF(COUNTRY_INFO!K36=3, AD36/COUNTRY_INFO!F36*100))),\"-\"),0)","v":0},{"$f":"IF(COUNTRY_INFO!K36=2,IF(COUNTRY_INFO!G36*0.2>MAX('T1'!N36,'T2'!L36),MAX('T1'!N36,'T2'!L36),COUNTRY_INFO!G36*0.2),IF(COUNTRY_INFO!K36=3,IF(COUNTRY_INFO!G36>MAX('T1'!N36,'T2'!L36),MAX('T1'!N36,'T2'!L36),COUNTRY_INFO!G36),0))","v":0},{"$f":"IF(AND(COUNTRY_INFO!K36>0,COUNTRY_INFO!L36<4),IF(Z36>0,IF(COUNTRY_INFO!K36=1, 0, IF(COUNTRY_INFO!K36=2, AF36/(COUNTRY_INFO!G36*0.2)*100, IF(COUNTRY_INFO!K36=3, AF36/COUNTRY_INFO!G36*100))),\"-\"),0)","v":0},0,{"$f":"IF(AND(COUNTRY_INFO!K36>0,COUNTRY_INFO!K36<4), IF(AC36/Z36*100<>0, IF(AH36/Z36*100>100,100,AH36/Z36*100), \"-\"),0)","v":"-"},null,{"$f":"IF(AND(D36<>0, D36<>\"Unknown\",D36<>\"Stopped\",D36<>\"Not required\"),D36/COUNTRY_INFO!D36, 0)","v":0},{"$f":"IF(AND(J36<>0,J36<>\"Unknown\",J36<>\"Stopped\",J36<>\"Not required\"),J36/COUNTRY_INFO!D36, 0)","v":0},{"$f":"IF(AND(P36<>0,P36<>\"Unknown\",P36<>\"Not required\"),P36/(COUNTRY_INFO!E36+COUNTRY_INFO!F36), 0)","v":1},{"$f":"IF(AND(Z36<>0,Z36<>\"Unknown\",Z36<>\"Not required\"),IF(COUNTRY_INFO!K36=1,1,IF(COUNTRY_INFO!K36=2,0.5*COUNTRY_INFO!F36/(0.5*COUNTRY_INFO!F36+0.2*COUNTRY_INFO!G36),IF(COUNTRY_INFO!K36=3,COUNTRY_INFO!F36/(COUNTRY_INFO!F36+COUNTRY_INFO!G36)))),0)","v":0.56962053525415857},{"$f":"IF(AND(Z36<>0,Z36<>\"Unknown\",Z36<>\"Not required\"),IF(COUNTRY_INFO!K36=1,0,IF(COUNTRY_INFO!K36=2,0.2*COUNTRY_INFO!G36/(0.5*COUNTRY_INFO!F36+0.2*COUNTRY_INFO!G36),IF(COUNTRY_INFO!K36=3,COUNTRY_INFO!G36/(COUNTRY_INFO!F36+COUNTRY_INFO!G36)))),0)","v":0.43037946474584149},{"$f":"MAX(COUNTRY_INFO!D36*AK36*PROFILE!$G$7,COUNTRY_INFO!D36*AL36*PROFILE!$G$7)","v":0},{"$f":"MAX(COUNTRY_INFO!D36*AK36*PROFILE!$G$8,COUNTRY_INFO!D36*AL36*PROFILE!$G$8,COUNTRY_INFO!D36*AM36*PROFILE!$G$8)","v":117267.11251044773},{"$f":"MAX(COUNTRY_INFO!D36*AK36*PROFILE!$G$9,COUNTRY_INFO!D36*AL36*PROFILE!$G$9,COUNTRY_INFO!D36*AM36*PROFILE!$G$9,IF(AND(DISTRICT!Z36<>\"Unknown\",Z36<>\"Not required\"),COUNTRY_INFO!P36*DISTRICT!AN36,0))","v":204484.62522160736},{"$f":"MAX(COUNTRY_INFO!D36*AK36*PROFILE!$G$10,COUNTRY_INFO!D36*AL36*PROFILE!$G$10,IF(AND(DISTRICT!Z36<>\"Unknown\",Z36<>\"Not required\"),COUNTRY_INFO!P36*DISTRICT!AO36,0))","v":77249.8},399001.53773205506,0,{"$f":"MAX('MDA4'!R36,'T1'!L36,'T2'!J36,T3_R1!K36,T3_R2!K36)","v":0},{"$f":"MAX('MDA1'!K36,'MDA4'!S36,'MDA3'!I36,'MDA3'!L36,'T1'!M36,'T2'!K36,T3_R1!L36,T3_R2!L36)","v":0},{"$f":"MAX('MDA1'!L36,'MDA4'!T36,'MDA3'!J36,'MDA3'!M36,'T1'!N36,'T2'!L36,T3_R1!M36,T3_R2!M36)","v":0},0,{"$f":"MAX('MDA4'!R36,T36)","v":0},{"$f":"MAX('MDA1'!K36,'MDA4'!S36,'MDA3'!I36,'MDA3'!L36,V36,AD36)","v":0},{"$f":"MAX('MDA1'!L36,'MDA4'!T36,'MDA3'!J36,'MDA3'!M36,AF36)","v":0},0,0]
[{"$f":"IF(COUNTRY_INFO!A37=0,\" \",COUNTRY_INFO!A37)","v":"Angola"},{"$f":"IF(COUNTRY_INFO!B37=0,\" \",COUNTRY_INFO!B37)","v":"CABINDA"},{"$f":"IF(COUNTRY_INFO!C37=0,\" \",COUNTRY_INFO!C37)","v":"CACONGO"},{"$f":"COUNTRY_INFO!M37","v":45849.305596313905},null,null,{"$f":"MAX('MDA1'!M37,'MDA4'!U37)","v":0},{"$f":"IF(AND(COUNTRY_INFO!H37>0,COUNTRY_INFO!H37<4),IF(D37>MAX('MDA1'!M37,'MDA4'!U37),MAX('MDA1'!M37,'MDA4'!U37),D37),0)","v":0},{"$f":"IF(AND(COUNTRY_INFO!H37>0,COUNTRY_INFO!H37<4), IF(G37/D37*100<>0, IF(G37/D37*100>100,100,G37/D37*100), \"-\"),0)","v":"-"},{"$f":"COUNTRY_INFO!N37","v":"Unknown"},null,null,{"$f":"MAX('MDA1'!M37,MAX('MDA3'!I37,'MDA3'!L37)+MAX('MDA3'!J37,'MDA3'!M37))","v":0},{"$f":"IF(AND(COUNTRY_INFO!I37>0,COUNTRY_INFO!I37<4),IF(J37>MAX('MDA1'!M37,MAX('MDA3'!I37,'MDA3'!L37)+MAX('MDA3'!J37,'MDA3'!M37)),MAX('MDA1'!M37,MAX('MDA3'!I37,'MDA3'!L37)+MAX('MDA3'!J37,'MDA3'!M37)),J37),0)","v":0},{"$f":"IF(AND(COUNTRY_INFO!I37>0,COUNTRY_INFO!I37<4), IF(M37/J37*100<>0, IF(M37/J37*100>100,100,M37/J37*100), \"-\"),0)","v":0},{"$f":"COUNTRY_INFO!O37","v":20128},null,null,{"$f":"SUM(MAX('MDA4'!R37, 'T1'!L37, MAX(T3_R1!K37, T3_R2!K37)), MAX('MDA1'!K37, 'MDA4'!S37, 'T1'!M37, MAX(T3_R1!L37, T3_R2!L37)), MAX('MDA1'!L37, 'MDA4'!T37, 'T1'!N37, MAX(T3_R1!M37, T3_R2!M37)))","v":0},{"$f":"IF(AND(COUNTRY_INFO!J37>1,COUNTRY_INFO!J37<4),IF(COUNTRY_INFO!E37>MAX('MDA4'!R37,'T1'!L37,MAX(T3_R1!K37,T3_R2!K37)),MAX('MDA4'!R37,'T1'!L37,MAX(T3_R1!K37,T3_R2!K37)),COUNTRY_INFO!E37),0)","v":0},{"$f":"IF(AND(COUNTRY_INFO!J37>1,COUNTRY_INFO!J37<4), IF(T37/COUNTRY_INFO!E37*100<>0, IF(T37/COUNTRY_INFO!E37*100>100,100,T37/COUNTRY_INFO!E37*100), \"-\"),0)","v":"-"},{"$f":"IF(AND(COUNTRY_INFO!J37>1,COUNTRY_INFO!J37<4),IF(COUNTRY_INFO!F37>MAX('MDA1'!K37,'MDA4'!S37,'T1'!M37,MAX(T3_R1!L37,T3_R2!L37)),MAX('MDA1'!K37,'MDA4'!S37,'T1'!M37,MAX(T3_R1!L37,T3_R2!L37)),COUNTRY_INFO!F37),0)","v":0},{"$f":"IF(AND(COUNTRY_INFO!J37>1,COUNTRY_INFO!J37<4), IF(V37/COUNTRY_INFO!F37*100<>0, IF(V37/COUNTRY_INFO!F37*100>100,100,V37/COUNTRY_INFO!F37*100), \"-\"),0)","v":"-"},0,{"$f":"IF(AND(COUNTRY_INFO!J37>1,COUNTRY_INFO!J37<4), IF(S37/P37*100<>0, IF(X37/P37*100>100,100,X37/P37*100), \"-\"),0)","v":"-"},{"$f":"COUNTRY_INFO!P37","v":11228.6},null,null,{"$f":"MAX('T1'!L37,'T2'!J37)+MAX('T1'!M37,'T2'!K37)+MAX('T1'!N37,'T2'!L37)","v":0},{"$f":"IF(COUNTRY_INFO!K37=1,IF(COUNTRY_INFO!F37*0.33>MAX('T1'!M37,'T2'!K37),MAX('T1'!M37,'T2'!K37),COUNTRY_INFO!F37*0.33),IF(COUNTRY_INFO!K37=2,IF(COUNTRY_INFO!F37*0.5>MAX('T1'!M37,'T2'!K37),MAX('T1'!M37,'T2'!K37),COUNTRY_INFO!F37*0.5),IF(COUNTRY_INFO!K37=3,IF(COUNTRY_INFO!F37>MAX('T1'!M37,'T2'!K37),MAX('T1'!M37,'T2'!K37),COUNTRY_INFO!F37),0)))","v":0},{"$f":"IF(AND(COUNTRY_INFO!K37>0,COUNTRY_INFO!L37<4),IF(Z37>0,IF(COUNTRY_INFO!K37=1, AD37/(COUNTRY_INFO!F37*0.33)*100, IF(COUNTRY_INFO!K37=2, AD37/(COUNTRY_INFO!F37*0.5)*100, IF(COUNTRY_INFO!K37=3, AD37/COUNTRY_INFO!F37*100))),\"-\"),0)","v":0},{"$f":"IF(COUNTRY_INFO!K37=2,IF(COUNTRY_INFO!G37*0.2>MAX('T1'!N37,'T2'!L37),MAX('T1'!N37,'T2'!L37),COUNTRY_INFO!G37*0.2),IF(COUNTRY_INFO!K37=3,IF(COUNTRY_INFO!G37>MAX('T1'!N37,'T2'!L37),MAX('T1'!N37,'T2'!L37),COUNTRY_INFO!G37),0))","v":0},{"$f":"IF(AND(COUNTRY_INFO!K37>0,COUNTRY_INFO!L37<4),IF(Z37>0,IF(COUNTRY_INFO!K37=1, 0, IF(COUNTRY_INFO!K37=2, AF37/(COUNTRY_INFO!G37*0.2)*100, IF(COUNTRY_INFO!K37=3, AF37/COUNTRY_INFO!G37*100))),\"-\"),0)","v":0},0,{"$f":"IF(AND(COUNTRY_INFO!K37>0,COUNTRY_INFO!K37<4), IF(AC37/Z37*100<>0, IF(AH37/Z37*100>100,100,AH37/Z37*100), \"-\"),0)","v":"-"},null,{"$f":"IF(AND(D37<>0, D37<>\"Unknown\",D37<>\"Stopped\",D37<>\"Not required\"),D37/COUNTRY_INFO!D37, 0)","v":1},{"$f":"IF(AND(J37<>0,J37<>\"Unknown\",J37<>\"Stopped\",J37<>\"Not required\"),J37/COUNTRY_INFO!D37, 0)","v":0},{"$f":"IF(AND(P37<>0,P37<>\"Unknown\",P37<>\"Not required\"),P37/(COUNTRY_INFO!E37+COUNTRY_INFO!F37), 0)","v":1},{"$f":"IF(AND(Z37<>0,Z37<>\"Unknown\",Z37<>\"Not required\"),IF(COUNTRY_INFO!K37=1,1,IF(COUNTRY_INFO!K37=2,0.5*COUNTRY_INFO!F37/(0.5*COUNTRY_INFO!F37+0.2*COUNTRY_INFO!G37),IF(COUNTRY_INFO!K37=3,COUNTRY_INFO!F37/(COUNTRY_INFO!F37+COUNTRY_INFO!G37)))),0)","v":0.56961687120389004},{"$f":"IF(AND(Z37<>0,Z37<>\"Unknown\",Z37<>\"Not required\"),IF(COUNTRY_INFO!K37=1,0,IF(COUNTRY_INFO!K37=2,0.2*COUNTRY_INFO!G37/(0.5*COUNTRY_INFO!F37+0.2*COUNTRY_INFO!G37),IF(COUNTRY_INFO!K37=3,COUNTRY_INFO!G37/(COUNTRY_INFO!F37+COUNTRY_INFO!G37)))),0)","v":0.43038312879610996},{"$f":"MAX(COUNTRY_INFO!D37*AK37*PROFILE!$G$7,COUNTRY_INFO!D37*AL37*PROFILE!$G$7)","v":1558.8875380689503},{"$f":"MAX(COUNTRY_INFO!D37*AK37*PROFILE!$G$8,COUNTRY_INFO!D37*AL37*PROFILE!$G$8,COUNTRY_INFO!D37*AM37*PROFILE!$G$8)","v":7335.8825454069265},{"$f":"MAX(COUNTRY_INFO!D37*AK37*PROFILE!$G$9,COUNTRY_INFO!D37*AL37*PROFILE!$G$9,COUNTRY_INFO!D37*AM37*PROFILE!$G$9,IF(AND(DISTRICT!Z37<>\"Unknown\",Z37<>\"Not required\"),COUNTRY_INFO!P37*DISTRICT!AN37,0))","v":12791.951305474668},{"$f":"MAX(COUNTRY_INFO!D37*AK37*PROFILE!$G$10,COUNTRY_INFO!D37*AL37*PROFILE!$G$10,IF(AND(DISTRICT!Z37<>\"Unknown\",Z37<>\"Not required\"),COUNTRY_INFO!P37*DISTRICT!AO37,0))","v":24162.584207363361},45849.305596313905,0,{"$f":"MAX('MDA4'!R37,'T1'!L37,'T2'!J37,T3_R1!K37,T3_R2!K37)","v":0},{"$f":"MAX('MDA1'!K37,'MDA4'!S37,'MDA3'!I37,'MDA3'!L37,'T1'!M37,'T2'!K37,T3_R1!L37,T3_R2!L37)","v":0},{"$f":"MAX('MDA1'!L37,'MDA4'!T37,'MDA3'!J37,'MDA3'!M37,'T1'!N37,'T2'!L37,T3_R1!M37,T3_R2!M37)","v":0},0,{"$f":"MAX('MDA4'!R37,T37)","v":0},{"$f":"MAX('MDA1'!K37,'MDA4'!S37,'MDA3'!I37,'MDA3'!L37,V37,AD37)","v":0},{"$f":"MAX('MDA1'!L37,'MDA4'!T37,'MDA3'!J37,'MDA3'!M37,AF37)","v":0},0,0]
[{"$f":"IF(COUNTRY_INFO!A38=0,\" \",COUNTRY_INFO!A38)","v":"Angola"},{"$f":"IF(COUNTRY_INFO!B38=0,\" \",COUNTRY_INFO!B38)","v":"CUANDO CUBANGO"},{"$f":"IF(COUNTRY_INFO!C38=0,\" \",COUNTRY_INFO!C38)","v":"CALAI"},{"$f":"COUNTRY_INFO!M38","v":0},null,null,{"$f":"MAX('MDA1'!M38,'MDA4'!U38)","v":0},{"$f":"IF(AND(COUNTRY_INFO!H38>0,COUNTRY_INFO!H38<4),IF(D38>MAX('MDA1'!M38,'MDA4'!U38),MAX('MDA1'!M38,'MDA4'!U38),D38),0)","v":0},{"$f":"IF(AND(COUNTRY_INFO!H38>0,COUNTRY_INFO!H38<4), IF(G38/D38*100<>0, IF(G38/D38*100>100,100,G38/D38*100), \"-\"),0)","v":0},{"$f":"COUNTRY_INFO!N38","v":"Unknown"},null,null,{"$f":"MAX('MDA1'!M38,MAX('MDA3'!I38,'MDA3'!L38)+MAX('MDA3'!J38,'MDA3'!M38))","v":0},{"$f":"IF(AND(COUNTRY_INFO!I38>0,COUNTRY_INFO!I38<4),IF(J38>MAX('MDA1'!M38,MAX('MDA3'!I38,'MDA3'!L38)+MAX('MDA3'!J38,'MDA3'!M38)),MAX('MDA1'!M38,MAX('MDA3'!I38,'MDA3'!L38)+MAX('MDA3'!J38,'MDA3'!M38)),J38),0)","v":0},{"$f":"IF(AND(COUNTRY_INFO!I38>0,COUNTRY_INFO!I38<4), IF(M38/J38*100<>0, IF(M38/J38*100>100,100,M38/J38*100), \"-\"),0)","v":0},{"$f":"COUNTRY_INFO!O38","v":11669},null,null,{"$f":"SUM(MAX('MDA4'!R38, 'T1'!L38, MAX(T3_R1!K38, T3_R2!K38)), MAX('MDA1'!K38, 'MDA4'!S38, 'T1'!M38, MAX(T3_R1!L38, T3_R2!L38)), MAX('MDA1'!L38, 'MDA4'!T38, 'T1'!N38, MAX(T3_R1!M38, T3_R2!M38)))","v":0},{"$f":"IF(AND(COUNTRY_INFO!J38>1,COUNTRY_INFO!J38<4),IF(COUNTRY_INFO!E38>MAX('MDA4'!R38,'T1'!L38,MAX(T3_R1!K38,T3_R2!K38)),MAX('MDA4'!R38,'T1'!L38,MAX(T3_R1!K38,T3_R2!K38)),COUNTRY_INFO!E38),0)","v":0},{"$f":"IF(AND(COUNTRY_INFO!J38>1,COUNTRY_INFO!J38<4), IF(T38/COUNTRY_INFO!E38*100<>0, IF(T38/COUNTRY_INFO!E38*100>100,100,T38/COUNTRY_INFO!E38*100), \"-\"),0)","v":"-"},{"$f":"IF(AND(COUNTRY_INFO!J38>1,COUNTRY_INFO!J38<4),IF(COUNTRY_INFO!F38>MAX('MDA1'!K38,'MDA4'!S38,'T1'!M38,MAX(T3_R1!L38,T3_R2!L38)),MAX('MDA1'!K38,'MDA4'!S38,'T1'!M38,MAX(T3_R1!L38,T3_R2!L38)),COUNTRY_INFO!F38),0)","v":0},{"$f":"IF(AND(COUNTRY_INFO!J38>1,COUNTRY_INFO!J38<4), IF(V38/COUNTRY_INFO!F38*100<>0, IF(V38/COUNTRY_INFO!F38*100>100,100,V38/COUNTRY_INFO!F38*100), \"-\"),0)","v":"-"},0,{"$f":"IF(AND(COUNTRY_INFO!J38>1,COUNTRY_INFO!J38<4), IF(S38/P38*100<>0, IF(X38/P38*100>100,100,X38/P38*100), \"-\"),0)","v":"-"},{"$f":"COUNTRY_INFO!P38","v":6509.6},null,null,{"$f":"MAX('T1'!L38,'T2'!J38)+MAX('T1'!M38,'T2'!K38)+MAX('T1'!N38,'T2'!L38)","v":0},{"$f":"IF(COUNTRY_INFO!K38=1,IF(COUNTRY_INFO!F38*0.33>MAX('T1'!M38,'T2'!K38),MAX('T1'!M38,'T2'!K38),COUNTRY_INFO!F38*0.33),IF(COUNTRY_INFO!K38=2,IF(COUNTRY_INFO!F38*0.5>MAX('T1'!M38,'T2'!K38),MAX('T1'!M38,'T2'!K38),COUNTRY_INFO!F38*0.5),IF(COUNTRY_INFO!K38=3,IF(COUNTRY_INFO!F38>MAX('T1'!M38,'T2'!K38),MAX('T1'!M38,'T2'!K38),COUNTRY_INFO!F38),0)))","v":0},{"$f":"IF(AND(COUNTRY_INFO!K38>0,COUNTRY_INFO!L38<4),IF(Z38>0,IF(COUNTRY_INFO!K38=1, AD38/(COUNTRY_INFO!F38*0.33)*100, IF(COUNTRY_INFO!K38=2, AD38/(COUNTRY_INFO!F38*0.5)*100, IF(COUNTRY_INFO!K38=3, AD38/COUNTRY_INFO!F38*100))),\"-\"),0)","v":0},{"$f":"IF(COUNTRY_INFO!K38=2,IF(COUNTRY_INFO!G38*0.2>MAX('T1'!N38,'T2'!L38),MAX('T1'!N38,'T2'!L38),COUNTRY_INFO!G38*0.2),IF(COUNTRY_INFO!K38=3,IF(COUNTRY_INFO!G38>MAX('T1'!N38,'T2'!L38),MAX('T1'!N38,'T2'!L38),COUNTRY_INFO!G38),0))","v":0},{"$f":"IF(AND(COUNTRY_INFO!K38>0,COUNTRY_INFO!L38<4),IF(Z38>0,IF(COUNTRY_INFO!K38=1, 0, IF(COUNTRY_INFO!K38=2, AF38/(COUNTRY_INFO!G38*0.2)*100, IF(COUNTRY_INFO!K38=3, AF38/COUNTRY_INFO!G38*100))),\"-\"),0)","v":0},0,{"$f":"IF(AND(COUNTRY_INFO!K38>0,COUNTRY_INFO!K38<4), IF(AC38/Z38*100<>0, IF(AH38/Z38*100>100,100,AH38/Z38*100), \"-\"),0)","v":"-"},null,{"$f":"IF(AND(D38<>0, D38<>\"Unknown\",D38<>\"Stopped\",D38<>\"Not required\"),D38/COUNTRY_INFO!D38, 0)","v":0},{"$f":"IF(AND(J38<>0,J38<>\"Unknown\",J38<>\"Stopped\",J38<>\"Not required\"),J38/COUNTRY_INFO!D38, 0)","v":0},{"$f":"IF(AND(P38<>0,P38<>\"Unknown\",P38<>\"Not required\"),P38/(COUNTRY_INFO!E38+COUNTRY_INFO!F38), 0)","v":1},{"$f":"IF(AND(Z38<>0,Z38<>\"Unknown\",Z38<>\"Not required\"),IF(COUNTRY_INFO!K38=1,1,IF(COUNTRY_INFO!K38=2,0.5*COUNTRY_INFO!F38/(0.5*COUNTRY_INFO!F38+0.2*COUNTRY_INFO!G38),IF(COUNTRY_INFO!K38=3,COUNTRY_INFO!F38/(COUNTRY_INFO!F38+COUNTRY_INFO!G38)))),0)","v":0.56962025316455689},{"$f":"IF(AND(Z38<>0,Z38<>\"Unknown\",Z38<>\"Not required\"),IF(COUNTRY_INFO!K38=1,0,IF(COUNTRY_INFO!K38=2,0.2*COUNTRY_INFO!G38/(0.5*COUNTRY_INFO!F38+0.2*COUNTRY_INFO!G38),IF(COUNTRY_INFO!K38=3,COUNTRY_INFO!G38/(COUNTRY_INFO!F38+COUNTRY_INFO!G38)))),0)","v":0.43037974683544306},{"$f":"MAX(COUNTRY_INFO!D38*AK38*PROFILE!$G$7,COUNTRY_INFO!D38*AL38*PROFILE!$G$7)","v":0},{"$f":"MAX(COUNTRY_INFO!D38*AK38*PROFILE!$G$8,COUNTRY_INFO!D38*AL38*PROFILE!$G$8,COUNTRY_INFO!D38*AM38*PROFILE!$G$8)","v":4252.9195205151118},{"$f":"MAX(COUNTRY_INFO!D38*AK38*PROFILE!$G$9,COUNTRY_INFO!D38*AL38*PROFILE!$G$9,COUNTRY_INFO!D38*AM38*PROFILE!$G$9,IF(AND(DISTRICT!Z38<>\"Unknown\",Z38<>\"Not required\"),COUNTRY_INFO!P38*DISTRICT!AN38,0))","v":7416.0319601346891},{"$f":"MAX(COUNTRY_INFO!D38*AK38*PROFILE!$G$10,COUNTRY_INFO!D38*AL38*PROFILE!$G$10,IF(AND(DISTRICT!Z38<>\"Unknown\",Z38<>\"Not required\"),COUNTRY_INFO!P38*DISTRICT!AO38,0))","v":2801.6000000000004},14470.551480649801,0,{"$f":"MAX('MDA4'!R38,'T1'!L38,'T2'!J38,T3_R1!K38,T3_R2!K38)","v":0},{"$f":"MAX('MDA1'!K38,'MDA4'!S38,'MDA3'!I38,'MDA3'!L38,'T1'!M38,'T2'!K38,T3_R1!L38,T3_R2!L38)","v":0},{"$f":"MAX('MDA1'!L38,'MDA4'!T38,'MDA3'!J38,'MDA3'!M38,'T1'!N38,'T2'!L38,T3_R1!M38,T3_R2!M38)","v":0},0,{"$f":"MAX('MDA4'!R38,T38)","v":0},{"$f":"MAX('MDA1'!K38,'MDA4'!S38,'MDA3'!I38,'MDA3'!L38,V38,AD38)","v":0},{"$f":"MAX('MDA1'!L38,'MDA4'!T38,'MDA3'!J38,'MDA3'!M38,AF38)","v":0},0,0]
[{"$f":"IF(COUNTRY_INFO!A39=0,\" \",COUNTRY_INFO!A39)","v":"Angola"},{"$f":"IF(COUNTRY_INFO!B39=0,\" \",COUNTRY_INFO!B39)","v":"CUANDO CUBANGO"},{"$f":"IF(COUNTRY_INFO!C39=0,\" \",COUNTRY_INFO!C39)","v":"CUANGAR"},{"$f":"COUNTRY_INFO!M39","v":0},null,null,{"$f":"MAX('MDA1'!M39,'MDA4'!U39)","v":0},{"$f":"IF(AND(COUNTRY_INFO!H39>0,COUNTRY_INFO!H39<4),IF(D39>MAX('MDA1'!M39,'MDA4'!U39),MAX('MDA1'!M39,'MDA4'!U39),D39),0)","v":0},{"$f":"IF(AND(COUNTRY_INFO!H39>0,COUNTRY_INFO!H39<4), IF(G39/D39*100<>0, IF(G39/D39*100>100,100,G39/D39*100), \"-\"),0)","v":0},{"$f":"COUNTRY_INFO!N39","v":33391.989660290135},null,null,{"$f":"MAX('MDA1'!M39,MAX('MDA3'!I39,'MDA3'!L39)+MAX('MDA3'!J39,'MDA3'!M39))","v":0},{"$f":"IF(AND(COUNTRY_INFO!I39>0,COUNTRY_INFO!I39<4),IF(J39>MAX('MDA1'!M39,MAX('MDA3'!I39,'MDA3'!L39)+MAX('MDA3'!J39,'MDA3'!M39)),MAX('MDA1'!M39,MAX('MDA3'!I39,'MDA3'!L39)+MAX('MDA3'!J39,'MDA3'!M39)),J39),0)","v":0},{"$f":"IF(AND(COUNTRY_INFO!I39>0,COUNTRY_INFO!I39<4), IF(M39/J39*100<>0, IF(M39/J39*100>100,100,M39/J39*100), \"-\"),0)","v":"-"},{"$f":"COUNTRY_INFO!O39","v":14659},null,null,{"$f":"SUM(MAX('MDA4'!R39, 'T1'!L39, MAX(T3_R1!K39, T3_R2!K39)), MAX('MDA1'!K39, 'MDA4'!S39, 'T1'!M39, MAX(T3_R1!L39, T3_R2!L39)), MAX('MDA1'!L39, 'MDA4'!T39, 'T1'!N39, MAX(T3_R1!M39, T3_R2!M39)))","v":0},{"$f":"IF(AND(COUNTRY_INFO!J39>1,COUNTRY_INFO!J39<4),IF(COUNTRY_INFO!E39>MAX('MDA4'!R39,'T1'!L39,MAX(T3_R1!K39,T3_R2!K39)),MAX('MDA4'!R39,'T1'!L39,MAX(T3_R1!K39,T3_R2!K39)),COUNTRY_INFO!E39),0)","v":0},{"$f":"IF(AND(COUNTRY_INFO!J39>1,COUNTRY_INFO!J39<4), IF(T39/COUNTRY_INFO!E39*100<>0, IF(T39/COUNTRY_INFO!E39*100>100,100,T39/COUNTRY_INFO!E39*100), \"-\"),0)","v":"-"},{"$f":"IF(AND(COUNTRY_INFO!J39>1,COUNTRY_INFO!J39<4),IF(COUNTRY_INFO!F39>MAX('MDA1'!K39,'MDA4'!S39,'T1'!M39,MAX(T3_R1!L39,T3_R2!L39)),MAX('MDA1'!K39,'MDA4'!S39,'T1'!M39,MAX(T3_R1!L39,T3_R2!L39)),COUNTRY_INFO!F39),0)","v":0},{"$f":"IF(AND(COUNTRY_INFO!J39>1,COUNTRY_INFO!J39<4), IF(V39/COUNTRY_INFO!F39*100<>0, IF(V39/COUNTRY_INFO!F39*100>100,100,V39/COUNTRY_INFO!F39*100), \"-\"),0)","v":"-"},0,{"$f":"IF(AND(COUNTRY_INFO!J39>1,COUNTRY_INFO!J39<4), IF(S39/P39*100<>0, IF(X39/P39*100>100,100,X39/P39*100), \"-\"),0)","v":"-"},{"$f":"COUNTRY_INFO!P39","v":8177.6},null,null,{"$f":"MAX('T1'!L39,'T2'!J39)+MAX('T1'!M39,'T2'!K39)+MAX('T1'!N39,'T2'!L39)","v":0},{"$f":"IF(COUNTRY_INFO!K39=1,IF(COUNTRY_INFO!F39*0.33>MAX('T1'!M39,'T2'!K39),MAX('T1'!M39,'T2'!K39),COUNTRY_INFO!F39*0.33),IF(COUNTRY_INFO!K39=2,IF(COUNTRY_INFO!F39*0.5>MAX('T1'!M39,'T2'!K39),MAX('T1'!M39,'T2'!K39),COUNTRY_INFO!F39*0.5),IF(COUNTRY_INFO!K39=3,IF(COUNTRY_INFO!F39>MAX('T1'!M39,'T2'!K39),MAX('T1'!M39,'T2'!K39),COUNTRY_INFO!F39),0)))","v":0},{"$f":"IF(AND(COUNTRY_INFO!K39>0,COUNTRY_INFO!L39<4),IF(Z39>0,IF(COUNTRY_INFO!K39=1, AD39/(COUNTRY_INFO!F39*0.33)*100, IF(COUNTRY_INFO!K39=2, AD39/(COUNTRY_INFO!F39*0.5)*100, IF(COUNTRY_INFO!K39=3, AD39/COUNTRY_INFO!F39*100))),\"-\"),0)","v":0},{"$f":"IF(COUNTRY_INFO!K39=2,IF(COUNTRY_INFO!G39*0.2>MAX('T1'!N39,'T2'!L39),MAX('T1'!N39,'T2'!L39),COUNTRY_INFO!G39*0.2),IF(COUNTRY_INFO!K39=3,IF(COUNTRY_INFO!G39>MAX('T1'!N39,'T2'!L39),MAX('T1'!N39,'T2'!L39),COUNTRY_INFO!G39),0))","v":0},{"$f":"IF(AND(COUNTRY_INFO!K39>0,COUNTRY_INFO!L39<4),IF(Z39>0,IF(COUNTRY_INFO!K39=1, 0, IF(COUNTRY_INFO!K39=2, AF39/(COUNTRY_INFO!G39*0.2)*100, IF(COUNTRY_INFO!K39=3, AF39/COUNTRY_INFO!G39*100))),\"-\"),0)","v":0},0,{"$f":"IF(AND(COUNTRY_INFO!K39>0,COUNTRY_INFO!K39<4), IF(AC39/Z39*100<>0, IF(AH39/Z39*100>100,100,AH39/Z39*100), \"-\"),0)","v":"-"},null,{"$f":"IF(AND(D39<>0, D39<>\"Unknown\",D39<>\"Stopped\",D39<>\"Not required\"),D39/COUNTRY_INFO!D39, 0)","v":0},{"$f":"IF(AND(J39<>0,J39<>\"Unknown\",J39<>\"Stopped\",J39<>\"Not required\"),J39/COUNTRY_INFO!D39, 0)","v":1},{"$f":"IF(AND(P39<>0,P39<>\"Unknown\",P39<>\"Not required\"),P39/(COUNTRY_INFO!E39+COUNTRY_INFO!F39), 0)","v":1},{"$f":"IF(AND(Z39<>0,Z39<>\"Unknown\",Z39<>\"Not required\"),IF(COUNTRY_INFO!K39=1,1,IF(COUNTRY_INFO!K39=2,0.5*COUNTRY_INFO!F39/(0.5*COUNTRY_INFO!F39+0.2*COUNTRY_INFO!G39),IF(COUNTRY_INFO!K39=3,COUNTRY_INFO!F39/(COUNTRY_INFO!F39+COUNTRY_INFO!G39)))),0)","v":0.56960477401682641},{"$f":"IF(AND(Z39<>0,Z39<>\"Unknown\",Z39<>\"Not required\"),IF(COUNTRY_INFO!K39=1,0,IF(COUNTRY_INFO!K39=2,0.2*COUNTRY_INFO!G39/(0.5*COUNTRY_INFO!F39+0.2*COUNTRY_INFO!G39),IF(COUNTRY_INFO!K39=3,COUNTRY_INFO!G39/(COUNTRY_INFO!F39+COUNTRY_INFO!G39)))),0)","v":0.43039522598317359},{"$f":"MAX(COUNTRY_INFO!D39*AK39*PROFILE!$G$7,COUNTRY_INFO!D39*AL39*PROFILE!$G$7)","v":1135.3357673739445},{"$f":"MAX(COUNTRY_INFO!D39*AK39*PROFILE!$G$8,COUNTRY_INFO!D39*AL39*PROFILE!$G$8,COUNTRY_INFO!D39*AM39*PROFILE!$G$8)","v":5342.7137209472749},{"$f":"MAX(COUNTRY_INFO!D39*AK39*PROFILE!$G$9,COUNTRY_INFO!D39*AL39*PROFILE!$G$9,COUNTRY_INFO!D39*AM39*PROFILE!$G$9,IF(AND(DISTRICT!Z39<>\"Unknown\",Z39<>\"Not required\"),COUNTRY_INFO!P39*DISTRICT!AN39,0))","v":9316.3615058476698},{"$f":"MAX(COUNTRY_INFO!D39*AK39*PROFILE!$G$10,COUNTRY_INFO!D39*AL39*PROFILE!$G$10,IF(AND(DISTRICT!Z39<>\"Unknown\",Z39<>\"Not required\"),COUNTRY_INFO!P39*DISTRICT!AO39,0))","v":17597.578666121248},33391.989660290135,0,{"$f":"MAX('MDA4'!R39,'T1'!L39,'T2'!J39,T3_R1!K39,T3_R2!K39)","v":0},{"$f":"MAX('MDA1'!K39,'MDA4'!S39,'MDA3'!I39,'MDA3'!L39,'T1'!M39,'T2'!K39,T3_R1!L39,T3_R2!L39)","v":0},{"$f":"MAX('MDA1'!L39,'MDA4'!T39,'MDA3'!J39,'MDA3'!M39,'T1'!N39,'T2'!L39,T3_R1!M39,T3_R2!M39)","v":0},0,{"$f":"MAX('MDA4'!R39,T39)","v":0},{"$f":"MAX('MDA1'!K39,'MDA4'!S39,'MDA3'!I39,'MDA3'!L39,V39,AD39)","v":0},{"$f":"MAX('MDA1'!L39,'MDA4'!T39,'MDA3'!J39,'MDA3'!M39,AF39)","v":0},0,0]
[{"$f":"IF(COUNTRY_INFO!A40=0,\" \",COUNTRY_INFO!A40)","v":"Angola"},{"$f":"IF(COUNTRY_INFO!B40=0,\" \",COUNTRY_INFO!B40)","v":"CUANDO CUBANGO"},{"$f":"IF(COUNTRY_INFO!C40=0,\" \",COUNTRY_INFO!C40)","v":"CUCHI"},{"$f":"COUNTRY_INFO!M40","v":0},null,null,{"$f":"MAX('MDA1'!M40,'MDA4'!U40)","v":0},{"$f":"IF(AND(COUNTRY_INFO!H40>0,COUNTRY_INFO!H40<4),IF(D40>MAX('MDA1'!M40,'MDA4'!U40),MAX('MDA1'!M40,'MDA4'!U40),D40),0)","v":0},{"$f":"IF(AND(COUNTRY_INFO!H40>0,COUNTRY_INFO!H40<4), IF(G40/D40*100<>0, IF(G40/D40*100>100,100,G40/D40*100), \"-\"),0)","v":0},{"$f":"COUNTRY_INFO!N40","v":50422.972123451575},null,null,{"$f":"MAX('MDA1'!M40,MAX('MDA3'!I40,'MDA3'!L40)+MAX('MDA3'!J40,'MDA3'!M40))","v":0},{"$f":"IF(AND(COUNTRY_INFO!I40>0,COUNTRY_INFO!I40<4),IF(J40>MAX('MDA1'!M40,MAX('MDA3'!I40,'MDA3'!L40)+MAX('MDA3'!J40,'MDA3'!M40)),MAX('MDA1'!M40,MAX('MDA3'!I40,'MDA3'!L40)+MAX('MDA3'!J40,'MDA3'!M40)),J40),0)","v":0},{"$f":"IF(AND(COUNTRY_INFO!I40>0,COUNTRY_INFO!I40<4), IF(M40/J40*100<>0, IF(M40/J40*100>100,100,M40/J40*100), \"-\"),0)","v":"-"},{"$f":"COUNTRY_INFO!O40","v":22136},null,null,{"$f":"SUM(MAX('MDA4'!R40, 'T1'!L40, MAX(T3_R1!K40, T3_R2!K40)), MAX('MDA1'!K40, 'MDA4'!S40, 'T1'!M40, MAX(T3_R1!L40, T3_R2!L40)), MAX('MDA1'!L40, 'MDA4'!T40, 'T1'!N40, MAX(T3_R1!M40, T3_R2!M40)))","v":0},{"$f":"IF(AND(COUNTRY_INFO!J40>1,COUNTRY_INFO!J40<4),IF(COUNTRY_INFO!E40>MAX('MDA4'!R40,'T1'!L40,MAX(T3_R1!K40,T3_R2!K40)),MAX('MDA4'!R40,'T1'!L40,MAX(T3_R1!K40,T3_R2!K40)),COUNTRY_INFO!E40),0)","v":0},{"$f":"IF(AND(COUNTRY_INFO!J40>1,COUNTRY_INFO!J40<4), IF(T40/COUNTRY_INFO!E40*100<>0, IF(T40/COUNTRY_INFO!E40*100>100,100,T40/COUNTRY_INFO!E40*100), \"-\"),0)","v":"-"},{"$f":"IF(AND(COUNTRY_INFO!J40>1,COUNTRY_INFO!J40<4),IF(COUNTRY_INFO!F40>MAX('MDA1'!K40,'MDA4'!S40,'T1'!M40,MAX(T3_R1!L40,T3_R2!L40)),MAX('MDA1'!K40,'MDA4'!S40,'T1'!M40,MAX(T3_R1!L40,T3_R2!L40)),COUNTRY_INFO!F40),0)","v":0},{"$f":"IF(AND(COUNTRY_INFO!J40>1,COUNTRY_INFO!J40<4), IF(V40/COUNTRY_INFO!F40*100<>0, IF(V40/COUNTRY_INFO!F40*100>100,100,V40/COUNTRY_INFO!F40*100), \"-\"),0)","v":"-"},0,{"$f":"IF(AND(COUNTRY_INFO!J40>1,COUNTRY_INFO!J40<4), IF(S40/P40*100<>0, IF(X40/P40*100>100,100,X40/P40*100), \"-\"),0)","v":"-"},{"$f":"COUNTRY_INFO!P40","v":12348.6},null,null,{"$f":"MAX('T1'!L40,'T2'!J40)+MAX('T1'!M40,'T2'!K40)+MAX('T1'!N40,'T2'!L40)","v":0},{"$f":"IF(COUNTRY_INFO!K40=1,IF(COUNTRY_INFO!F40*0.33>MAX('T1'!M40,'T2'!K40),MAX('T1'!M40,'T2'!K40),COUNTRY_INFO!F40*0.33),IF(COUNTRY_INFO!K40=2,IF(COUNTRY_INFO!F40*0.5>MAX('T1'!M40,'T2'!K40),MAX('T1'!M40,'T2'!K40),COUNTRY_INFO!F40*0.5),IF(COUNTRY_INFO!K40=3,IF(COUNTRY_INFO!F40>MAX('T1'!M40,'T2'!K40),MAX('T1'!M40,'T2'!K40),COUNTRY_INFO!F40),0)))","v":0},{"$f":"IF(AND(COUNTRY_INFO!K40>0,COUNTRY_INFO!L40<4),IF(Z40>0,IF(COUNTRY_INFO!K40=1, AD40/(COUNTRY_INFO!F40*0.33)*100, IF(COUNTRY_INFO!K40=2, AD40/(COUNTRY_INFO!F40*0.5)*100, IF(COUNTRY_INFO!K40=3, AD40/COUNTRY_INFO!F40*100))),\"-\"),0)","v":0},{"$f":"IF(COUNTRY_INFO!K40=2,IF(COUNTRY_INFO!G40*0.2>MAX('T1'!N40,'T2'!L40),MAX('T1'!N40,'T2'!L40),COUNTRY_INFO!G40*0.2),IF(COUNTRY_INFO!K40=3,IF(COUNTRY_INFO!G40>MAX('T1'!N40,'T2'!L40),MAX('T1'!N40,'T2'!L40),COUNTRY_INFO!G40),0))","v":0},{"$f":"IF(AND(COUNTRY_INFO!K40>0,COUNTRY_INFO!L40<4),IF(Z40>0,IF(COUNTRY_INFO!K40=1, 0, IF(COUNTRY_INFO!K40=2, AF40/(COUNTRY_INFO!G40*0.2)*100, IF(COUNTRY_INFO!K40=3, AF40/COUNTRY_INFO!G40*100))),\"-\"),0)","v":0},0,{"$f":"IF(AND(COUNTRY_INFO!K40>0,COUNTRY_INFO!K40<4), IF(AC40/Z40*100<>0, IF(AH40/Z40*100>100,100,AH40/Z40*100), \"-\"),0)","v":"-"},null,{"$f":"IF(AND(D40<>0, D40<>\"Unknown\",D40<>\"Stopped\",D40<>\"Not required\"),D40/COUNTRY_INFO!D40, 0)","v":0},{"$f":"IF(AND(J40<>0,J40<>\"Unknown\",J40<>\"Stopped\",J40<>\"Not required\"),J40/COUNTRY_INFO!D40, 0)","v":1},{"$f":"IF(AND(P40<>0,P40<>\"Unknown\",P40<>\"Not required\"),P40/(COUNTRY_INFO!E40+COUNTRY_INFO!F40), 0)","v":1},{"$f":"IF(AND(Z40<>0,Z40<>\"Unknown\",Z40<>\"Not required\"),IF(COUNTRY_INFO!K40=1,1,IF(COUNTRY_INFO!K40=2,0.5*COUNTRY_INFO!F40/(0.5*COUNTRY_INFO!F40+0.2*COUNTRY_INFO!G40),IF(COUNTRY_INFO!K40=3,COUNTRY_INFO!F40/(COUNTRY_INFO!F40+COUNTRY_INFO!G40)))),0)","v":0.5696192280906337},{"$f":"IF(AND(Z40<>0,Z40<>\"Unknown\",Z40<>\"Not required\"),IF(COUNTRY_INFO!K40=1,0,IF(COUNTRY_INFO!K40=2,0.2*COUNTRY_INFO!G40/(0.5*COUNTRY_INFO!F40+0.2*COUNTRY_INFO!G40),IF(COUNTRY_INFO!K40=3,COUNTRY_INFO!G40/(COUNTRY_INFO!F40+COUNTRY_INFO!G40)))),0)","v":0.43038077190936624},{"$f":"MAX(COUNTRY_INFO!D40*AK40*PROFILE!$G$7,COUNTRY_INFO!D40*AL40*PROFILE!$G$7)","v":1714.3933120323234},{"$f":"MAX(COUNTRY_INFO!D40*AK40*PROFILE!$G$8,COUNTRY_INFO!D40*AL40*PROFILE!$G$8,COUNTRY_INFO!D40*AM40*PROFILE!$G$8)","v":8067.6685563086621},{"$f":"MAX(COUNTRY_INFO!D40*AK40*PROFILE!$G$9,COUNTRY_INFO!D40*AL40*PROFILE!$G$9,COUNTRY_INFO!D40*AM40*PROFILE!$G$9,IF(AND(DISTRICT!Z40<>\"Unknown\",Z40<>\"Not required\"),COUNTRY_INFO!P40*DISTRICT!AN40,0))","v":14068.003772173926},{"$f":"MAX(COUNTRY_INFO!D40*AK40*PROFILE!$G$10,COUNTRY_INFO!D40*AL40*PROFILE!$G$10,IF(AND(DISTRICT!Z40<>\"Unknown\",Z40<>\"Not required\"),COUNTRY_INFO!P40*DISTRICT!AO40,0))","v":26572.906482936662},50422.972123451575,0,{"$f":"MAX('MDA4'!R40,'T1'!L40,'T2'!J40,T3_R1!K40,T3_R2!K40)","v":0},{"$f":"MAX('MDA1'!K40,'MDA4'!S40,'MDA3'!I40,'MDA3'!L40,'T1'!M40,'T2'!K40,T3_R1!L40,T3_R2!L40)","v":0},{"$f":"MAX('MDA1'!L40,'MDA4'!T40,'MDA3'!J40,'MDA3'!M40,'T1'!N40,'T2'!L40,T3_R1!M40,T3_R2!M40)","v":0},0,{"$f":"MAX('MDA4'!R40,T40)","v":0},{"$f":"MAX('MDA1'!K40,'MDA4'!S40,'MDA3'!I40,'MDA3'!L40,V40,AD40)","v":0},{"$f":"MAX('MDA1'!L40,'MDA4'!T40,'MDA3'!J40,'MDA3'!M40,AF40)","v":0},0,0]
[{"$f":"IF(COUNTRY_INFO!A41=0,\" \",COUNTRY_INFO!A41)","v":"Angola"},{"$f":"IF(COUNTRY_INFO!B41=0,\" \",COUNTRY_INFO!B41)","v":"CUANDO CUBANGO"},{"$f":"IF(COUNTRY_INFO!C41=0,\" \",COUNTRY_INFO!C41)","v":"CUITO CUANAVALE"},{"$f":"COUNTRY_INFO!M41","v":0},null,null,{"$f":"MAX('MDA1'!M41,'MDA4'!U41)","v":0},{"$f":"IF(AND(COUNTRY_INFO!H41>0,COUNTRY_INFO!H41<4),IF(D41>MAX('MDA1'!M41,'MDA4'!U41),MAX('MDA1'!M41,'MDA4'!U41),D41),0)","v":0},{"$f":"IF(AND(COUNTRY_INFO!H41>0,COUNTRY_INFO!H41<4), IF(G41/D41*100<>0, IF(G41/D41*100>100,100,G41/D41*100), \"-\"),0)","v":0},{"$f":"COUNTRY_INFO!N41","v":47906.164863135942},null,null,{"$f":"MAX('MDA1'!M41,MAX('MDA3'!I41,'MDA3'!L41)+MAX('MDA3'!J41,'MDA3'!M41))","v":0},{"$f":"IF(AND(COUNTRY_INFO!I41>0,COUNTRY_INFO!I41<4),IF(J41>MAX('MDA1'!M41,MAX('MDA3'!I41,'MDA3'!L41)+MAX('MDA3'!J41,'MDA3'!M41)),MAX('MDA1'!M41,MAX('MDA3'!I41,'MDA3'!L41)+MAX('MDA3'!J41,'MDA3'!M41)),J41),0)","v":0},{"$f":"IF(AND(COUNTRY_INFO!I41>0,COUNTRY_INFO!I41<4), IF(M41/J41*100<>0, IF(M41/J41*100>100,100,M41/J41*100), \"-\"),0)","v":"-"},{"$f":"COUNTRY_INFO!O41","v":21031},null,null,{"$f":"SUM(MAX('MDA4'!R41, 'T1'!L41, MAX(T3_R1!K41, T3_R2!K41)), MAX('MDA1'!K41, 'MDA4'!S41, 'T1'!M41, MAX(T3_R1!L41, T3_R2!L41)), MAX('MDA1'!L41, 'MDA4'!T41, 'T1'!N41, MAX(T3_R1!M41, T3_R2!M41)))","v":0},{"$f":"IF(AND(COUNTRY_INFO!J41>1,COUNTRY_INFO!J41<4),IF(COUNTRY_INFO!E41>MAX('MDA4'!R41,'T1'!L41,MAX(T3_R1!K41,T3_R2!K41)),MAX('MDA4'!R41,'T1'!L41,MAX(T3_R1!K41,T3_R2!K41)),COUNTRY_INFO!E41),0)","v":0},{"$f":"IF(AND(COUNTRY_INFO!J41>1,COUNTRY_INFO!J41<4), IF(T41/COUNTRY_INFO!E41*100<>0, IF(T41/COUNTRY_INFO!E41*100>100,100,T41/COUNTRY_INFO!E41*100), \"-\"),0)","v":"-"},{"$f":"IF(AND(COUNTRY_INFO!J41>1,COUNTRY_INFO!J41<4),IF(COUNTRY_INFO!F41>MAX('MDA1'!K41,'MDA4'!S41,'T1'!M41,MAX(T3_R1!L41,T3_R2!L41)),MAX('MDA1'!K41,'MDA4'!S41,'T1'!M41,MAX(T3_R1!L41,T3_R2!L41)),COUNTRY_INFO!F41),0)","v":0},{"$f":"IF(AND(COUNTRY_INFO!J41>1,COUNTRY_INFO!J41<4), IF(V41/COUNTRY_INFO!F41*100<>0, IF(V41/COUNTRY_INFO!F41*100>100,100,V41/COUNTRY_INFO!F41*100), \"-\"),0)","v":"-"},0,{"$f":"IF(AND(COUNTRY_INFO!J41>1,COUNTRY_INFO!J41<4), IF(S41/P41*100<>0, IF(X41/P41*100>100,100,X41/P41*100), \"-\"),0)","v":"-"},{"$f":"COUNTRY_INFO!P41","v":11732.400000000001},null,null,{"$f":"MAX('T1'!L41,'T2'!J41)+MAX('T1'!M41,'T2'!K41)+MAX('T1'!N41,'T2'!L41)","v":0},{"$f":"IF(COUNTRY_INFO!K41=1,IF(COUNTRY_INFO!F41*0.33>MAX('T1'!M41,'T2'!K41),MAX('T1'!M41,'T2'!K41),COUNTRY_INFO!F41*0.33),IF(COUNTRY_INFO!K41=2,IF(COUNTRY_INFO!F41*0.5>MAX('T1'!M41,'T2'!K41),MAX('T1'!M41,'T2'!K41),COUNTRY_INFO!F41*0.5),IF(COUNTRY_INFO!K41=3,IF(COUNTRY_INFO!F41>MAX('T1'!M41,'T2'!K41),MAX('T1'!M41,'T2'!K41),COUNTRY_INFO!F41),0)))","v":0},{"$f":"IF(AND(COUNTRY_INFO!K41>0,COUNTRY_INFO!L41<4),IF(Z41>0,IF(COUNTRY_INFO!K41=1, AD41/(COUNTRY_INFO!F41*0.33)*100, IF(COUNTRY_INFO!K41=2, AD41/(COUNTRY_INFO!F41*0.5)*100, IF(COUNTRY_INFO!K41=3, AD41/COUNTRY_INFO!F41*100))),\"-\"),0)","v":0},{"$f":"IF(COUNTRY_INFO!K41=2,IF(COUNTRY_INFO!G41*0.2>MAX('T1'!N41,'T2'!L41),MAX('T1'!N41,'T2'!L41),COUNTRY_INFO!G41*0.2),IF(COUNTRY_INFO!K41=3,IF(COUNTRY_INFO!G41>MAX('T1'!N41,'T2'!L41),MAX('T1'!N41,'T2'!L41),COUNTRY_INFO!G41),0))","v":0},{"$f":"IF(AND(COUNTRY_INFO!K41>0,COUNTRY_INFO!L41<4),IF(Z41>0,IF(COUNTRY_INFO!K41=1, 0, IF(COUNTRY_INFO!K41=2, AF41/(COUNTRY_INFO!G41*0.2)*100, IF(COUNTRY_INFO!K41=3, AF41/COUNTRY_INFO!G41*100))),\"-\"),0)","v":0},0,{"$f":"IF(AND(COUNTRY_INFO!K41>0,COUNTRY_INFO!K41<4), IF(AC41/Z41*100<>0, IF(AH41/Z41*100>100,100,AH41/Z41*100), \"-\"),0)","v":"-"},null,{"$f":"IF(AND(D41<>0, D41<>\"Unknown\",D41<>\"Stopped\",D41<>\"Not required\"),D41/COUNTRY_INFO!D41, 0)","v":0},{"$f":"IF(AND(J41<>0,J41<>\"Unknown\",J41<>\"Stopped\",J41<>\"Not required\"),J41/COUNTRY_INFO!D41, 0)","v":1},{"$f":"IF(AND(P41<>0,P41<>\"Unknown\",P41<>\"Not required\"),P41/(COUNTRY_INFO!E41+COUNTRY_INFO!F41), 0)","v":1},{"$f":"IF(AND(Z41<>0,Z41<>\"Unknown\",Z41<>\"Not required\"),IF(COUNTRY_INFO!K41=1,1,IF(COUNTRY_INFO!K41=2,0.5*COUNTRY_INFO!F41/(0.5*COUNTRY_INFO!F41+0.2*COUNTRY_INFO!G41),IF(COUNTRY_INFO!K41=3,COUNTRY_INFO!F41/(COUNTRY_INFO!F41+COUNTRY_INFO!G41)))),0)","v":0.56961917425249731},{"$f":"IF(AND(Z41<>0,Z41<>\"Unknown\",Z41<>\"Not required\"),IF(COUNTRY_INFO!K41=1,0,IF(COUNTRY_INFO!K41=2,0.2*COUNTRY_INFO!G41/(0.5*COUNTRY_INFO!F41+0.2*COUNTRY_INFO!G41),IF(COUNTRY_INFO!K41=3,COUNTRY_INFO!G41/(COUNTRY_INFO!F41+COUNTRY_INFO!G41)))),0)","v":0.43038082574750264},{"$f":"MAX(COUNTRY_INFO!D41*AK41*PROFILE!$G$7,COUNTRY_INFO!D41*AL41*PROFILE!$G$7)","v":1628.8212532453977},{"$f":"MAX(COUNTRY_INFO!D41*AK41*PROFILE!$G$8,COUNTRY_INFO!D41*AL41*PROFILE!$G$8,COUNTRY_INFO!D41*AM41*PROFILE!$G$8)","v":7664.9797432290752},{"$f":"MAX(COUNTRY_INFO!D41*AK41*PROFILE!$G$9,COUNTRY_INFO!D41*AL41*PROFILE!$G$9,COUNTRY_INFO!D41*AM41*PROFILE!$G$9,IF(AND(DISTRICT!Z41<>\"Unknown\",Z41<>\"Not required\"),COUNTRY_INFO!P41*DISTRICT!AN41,0))","v":13365.814818590057},{"$f":"MAX(COUNTRY_INFO!D41*AK41*PROFILE!$G$10,COUNTRY_INFO!D41*AL41*PROFILE!$G$10,IF(AND(DISTRICT!Z41<>\"Unknown\",Z41<>\"Not required\"),COUNTRY_INFO!P41*DISTRICT!AO41,0))","v":25246.549048071411},47906.164863135942,0,{"$f":"MAX('MDA4'!R41,'T1'!L41,'T2'!J41,T3_R1!K41,T3_R2!K41)","v":0},{"$f":"MAX('MDA1'!K41,'MDA4'!S41,'MDA3'!I41,'MDA3'!L41,'T1'!M41,'T2'!K41,T3_R1!L41,T3_R2!L41)","v":0},{"$f":"MAX('MDA1'!L41,'MDA4'!T41,'MDA3'!J41,'MDA3'!M41,'T1'!N41,'T2'!L41,T3_R1!M41,T3_R2!M41)","v":0},0,{"$f":"MAX('MDA4'!R41,T41)","v":0},{"$f":"MAX('MDA1'!K41,'MDA4'!S41,'MDA3'!I41,'MDA3'!L41,V41,AD41)","v":0},{"$f":"MAX('MDA1'!L41,'MDA4'!T41,'MDA3'!J41,'MDA3'!M41,AF41)","v":0},0,0]
[{"$f":"IF(COUNTRY_INFO!A42=0,\" \",COUNTRY_INFO!A42)","v":"Angola"},{"$f":"IF(COUNTRY_INFO!B42=0,\" \",COUNTRY_INFO!B42)","v":"CUANDO CUBANGO"},{"$f":"IF(COUNTRY_INFO!C42=0,\" \",COUNTRY_INFO!C42)","v":"DIRICO"},{"$f":"COUNTRY_INFO!M42","v":0},null,null,{"$f":"MAX('MDA1'!M42,'MDA4'!U42)","v":0},{"$f":"IF(AND(COUNTRY_INFO!H42>0,COUNTRY_INFO!H42<4),IF(D42>MAX('MDA1'!M42,'MDA4'!U42),MAX('MDA1'!M42,'MDA4'!U42),D42),0)","v":0},{"$f":"IF(AND(COUNTRY_INFO!H42>0,COUNTRY_INFO!H42<4), IF(G42/D42*100<>0, IF(G42/D42*100>100,100,G42/D42*100), \"-\"),0)","v":0},{"$f":"COUNTRY_INFO!N42","v":"Unknown"},null,null,{"$f":"MAX('MDA1'!M42,MAX('MDA3'!I42,'MDA3'!L42)+MAX('MDA3'!J42,'MDA3'!M42))","v":0},{"$f":"IF(AND(COUNTRY_INFO!I42>0,COUNTRY_INFO!I42<4),IF(J42>MAX('MDA1'!M42,MAX('MDA3'!I42,'MDA3'!L42)+MAX('MDA3'!J42,'MDA3'!M42)),MAX('MDA1'!M42,MAX('MDA3'!I42,'MDA3'!L42)+MAX('MDA3'!J42,'MDA3'!M42)),J42),0)","v":0},{"$f":"IF(AND(COUNTRY_INFO!I42>0,COUNTRY_INFO!I42<4), IF(M42/J42*100<>0, IF(M42/J42*100>100,100,M42/J42*100), \"-\"),0)","v":0},{"$f":"COUNTRY_INFO!O42","v":7792},null,null,{"$f":"SUM(MAX('MDA4'!R42, 'T1'!L42, MAX(T3_R1!K42, T3_R2!K42)), MAX('MDA1'!K42, 'MDA4'!S42, 'T1'!M42, MAX(T3_R1!L42, T3_R2!L42)), MAX('MDA1'!L42, 'MDA4'!T42, 'T1'!N42, MAX(T3_R1!M42, T3_R2!M42)))","v":0},{"$f":"IF(AND(COUNTRY_INFO!J42>1,COUNTRY_INFO!J42<4),IF(COUNTRY_INFO!E42>MAX('MDA4'!R42,'T1'!L42,MAX(T3_R1!K42,T3_R2!K42)),MAX('MDA4'!R42,'T1'!L42,MAX(T3_R1!K42,T3_R2!K42)),COUNTRY_INFO!E42),0)","v":0},{"$f":"IF(AND(COUNTRY_INFO!J42>1,COUNTRY_INFO!J42<4), IF(T42/COUNTRY_INFO!E42*100<>0, IF(T42/COUNTRY_INFO!E42*100>100,100,T42/COUNTRY_INFO!E42*100), \"-\"),0)","v":"-"},{"$f":"IF(AND(COUNTRY_INFO!J42>1,COUNTRY_INFO!J42<4),IF(COUNTRY_INFO!F42>MAX('MDA1'!K42,'MDA4'!S42,'T1'!M42,MAX(T3_R1!L42,T3_R2!L42)),MAX('MDA1'!K42,'MDA4'!S42,'T1'!M42,MAX(T3_R1!L42,T3_R2!L42)),COUNTRY_INFO!F42),0)","v":0},{"$f":"IF(AND(COUNTRY_INFO!J42>1,COUNTRY_INFO!J42<4), IF(V42/COUNTRY_INFO!F42*100<>0, IF(V42/COUNTRY_INFO!F42*100>100,100,V42/COUNTRY_INFO!F42*100), \"-\"),0)","v":"-"},0,{"$f":"IF(AND(COUNTRY_INFO!J42>1,COUNTRY_INFO!J42<4), IF(S42/P42*100<>0, IF(X42/P42*100>100,100,X42/P42*100), \"-\"),0)","v":"-"},{"$f":"COUNTRY_INFO!P42","v":4346.6000000000004},null,null,{"$f":"MAX('T1'!L42,'T2'!J42)+MAX('T1'!M42,'T2'!K42)+MAX('T1'!N42,'T2'!L42)","v":0},{"$f":"IF(COUNTRY_INFO!K42=1,IF(COUNTRY_INFO!F42*0.33>MAX('T1'!M42,'T2'!K42),MAX('T1'!M42,'T2'!K42),COUNTRY_INFO!F42*0.33),IF(COUNTRY_INFO!K42=2,IF(COUNTRY_INFO!F42*0.5>MAX('T1'!M42,'T2'!K42),MAX('T1'!M42,'T2'!K42),COUNTRY_INFO!F42*0.5),IF(COUNTRY_INFO!K42=3,IF(COUNTRY_INFO!F42>MAX('T1'!M42,'T2'!K42),MAX('T1'!M42,'T2'!K42),COUNTRY_INFO!F42),0)))","v":0},{"$f":"IF(AND(COUNTRY_INFO!K42>0,COUNTRY_INFO!L42<4),IF(Z42>0,IF(COUNTRY_INFO!K42=1, AD42/(COUNTRY_INFO!F42*0.33)*100, IF(COUNTRY_INFO!K42=2, AD42/(COUNTRY_INFO!F42*0.5)*100, IF(COUNTRY_INFO!K42=3, AD42/COUNTRY_INFO!F42*100))),\"-\"),0)","v":0},{"$f":"IF(COUNTRY_INFO!K42=2,IF(COUNTRY_INFO!G42*0.2>MAX('T1'!N42,'T2'!L42),MAX('T1'!N42,'T2'!L42),COUNTRY_INFO!G42*0.2),IF(COUNTRY_INFO!K42=3,IF(COUNTRY_INFO!G42>MAX('T1'!N42,'T2'!L42),MAX('T1'!N42,'T2'!L42),COUNTRY_INFO!G42),0))","v":0},{"$f":"IF(AND(COUNTRY_INFO!K42>0,COUNTRY_INFO!L42<4),IF(Z42>0,IF(COUNTRY_INFO!K42=1, 0, IF(COUNTRY_INFO!K42=2, AF42/(COUNTRY_INFO!G42*0.2)*100, IF(COUNTRY_INFO!K42=3, AF42/COUNTRY_INFO!G42*100))),\"-\"),0)","v":0},0,{"$f":"IF(AND(COUNTRY_INFO!K42>0,COUNTRY_INFO!K42<4), IF(AC42/Z42*100<>0, IF(AH42/Z42*100>100,100,AH42/Z42*100), \"-\"),0)","v":"-"},null,{"$f":"IF(AND(D42<>0, D42<>\"Unknown\",D42<>\"Stopped\",D42<>\"Not required\"),D42/COUNTRY_INFO!D42, 0)","v":0},{"$f":"IF(AND(J42<>0,J42<>\"Unknown\",J42<>\"Stopped\",J42<>\"Not required\"),J42/COUNTRY_INFO!D42, 0)","v":0},{"$f":"IF(AND(P42<>0,P42<>\"Unknown\",P42<>\"Not required\"),P42/(COUNTRY_INFO!E42+COUNTRY_INFO!F42), 0)","v":1},{"$f":"IF(AND(Z42<>0,Z42<>\"Unknown\",Z42<>\"Not required\"),IF(COUNTRY_INFO!K42=1,1,IF(COUNTRY_INFO!K42=2,0.5*COUNTRY_INFO!F42/(0.5*COUNTRY_INFO!F42+0.2*COUNTRY_INFO!G42),IF(COUNTRY_INFO!K42=3,COUNTRY_INFO!F42/(COUNTRY_INFO!F42+COUNTRY_INFO!G42)))),0)","v":0.56964063866010206},{"$f":"IF(AND(Z42<>0,Z42<>\"Unknown\",Z42<>\"Not required\"),IF(COUNTRY_INFO!K42=1,0,IF(COUNTRY_INFO!K42=2,0.2*COUNTRY_INFO!G42/(0.5*COUNTRY_INFO!F42+0.2*COUNTRY_INFO!G42),IF(COUNTRY_INFO!K42=3,COUNTRY_INFO!G42/(COUNTRY_INFO!F42+COUNTRY_INFO!G42)))),0)","v":0.43035936133989783},{"$f":"MAX(COUNTRY_INFO!D42*AK42*PROFILE!$G$7,COUNTRY_INFO!D42*AL42*PROFILE!$G$7)","v":0},{"$f":"MAX(COUNTRY_INFO!D42*AK42*PROFILE!$G$8,COUNTRY_INFO!D42*AL42*PROFILE!$G$8,COUNTRY_INFO!D42*AM42*PROFILE!$G$8)","v":2839.6601336325402},{"$f":"MAX(COUNTRY_INFO!D42*AK42*PROFILE!$G$9,COUNTRY_INFO!D42*AL42*PROFILE!$G$9,COUNTRY_INFO!D42*AM42*PROFILE!$G$9,IF(AND(DISTRICT!Z42<>\"Unknown\",Z42<>\"Not required\"),COUNTRY_INFO!P42*DISTRICT!AN42,0))","v":4951.6597258319625},{"$f":"MAX(COUNTRY_INFO!D42*AK42*PROFILE!$G$10,COUNTRY_INFO!D42*AL42*PROFILE!$G$10,IF(AND(DISTRICT!Z42<>\"Unknown\",Z42<>\"Not required\"),COUNTRY_INFO!P42*DISTRICT!AO42,0))","v":1870.6000000000001},9661.9198594645022,0,{"$f":"MAX('MDA4'!R42,'T1'!L42,'T2'!J42,T3_R1!K42,T3_R2!K42)","v":0},{"$f":"MAX('MDA1'!K42,'MDA4'!S42,'MDA3'!I42,'MDA3'!L42,'T1'!M42,'T2'!K42,T3_R1!L42,T3_R2!L42)","v":0},{"$f":"MAX('MDA1'!L42,'MDA4'!T42,'MDA3'!J42,'MDA3'!M42,'T1'!N42,'T2'!L42,T3_R1!M42,T3_R2!M42)","v":0},0,{"$f":"MAX('MDA4'!R42,T42)","v":0},{"$f":"MAX('MDA1'!K42,'MDA4'!S42,'MDA3'!I42,'MDA3'!L42,V42,AD42)","v":0},{"$f":"MAX('MDA1'!L42,'MDA4'!T42,'MDA3'!J42,'MDA3'!M42,AF42)","v":0},0,0]
[{"$f":"IF(COUNTRY_INFO!A43=0,\" \",COUNTRY_INFO!A43)","v":"Angola"},{"$f":"IF(COUNTRY_INFO!B43=0,\" \",COUNTRY_INFO!B43)","v":"CUANDO CUBANGO"},{"$f":"IF(COUNTRY_INFO!C43=0,\" \",COUNTRY_INFO!C43)","v":"MAVINGA"},{"$f":"COUNTRY_INFO!M43","v":0},null,null,{"$f":"MAX('MDA1'!M43,'MDA4'!U43)","v":0},{"$f":"IF(AND(COUNTRY_INFO!H43>0,COUNTRY_INFO!H43<4),IF(D43>MAX('MDA1'!M43,'MDA4'!U43),MAX('MDA1'!M43,'MDA4'!U43),D43),0)","v":0},{"$f":"IF(AND(COUNTRY_INFO!H43>0,COUNTRY_INFO!H43<4), IF(G43/D43*100<>0, IF(G43/D43*100>100,100,G43/D43*100), \"-\"),0)","v":0},{"$f":"COUNTRY_INFO!N43","v":"Unknown"},null,null,{"$f":"MAX('MDA1'!M43,MAX('MDA3'!I43,'MDA3'!L43)+MAX('MDA3'!J43,'MDA3'!M43))","v":0},{"$f":"IF(AND(COUNTRY_INFO!I43>0,COUNTRY_INFO!I43<4),IF(J43>MAX('MDA1'!M43,MAX('MDA3'!I43,'MDA3'!L43)+MAX('MDA3'!J43,'MDA3'!M43)),MAX('MDA1'!M43,MAX('MDA3'!I43,'MDA3'!L43)+MAX('MDA3'!J43,'MDA3'!M43)),J43),0)","v":0},{"$f":"IF(AND(COUNTRY_INFO!I43>0,COUNTRY_INFO!I43<4), IF(M43/J43*100<>0, IF(M43/J43*100>100,100,M43/J43*100), \"-\"),0)","v":0},{"$f":"COUNTRY_INFO!O43","v":14009},null,null,{"$f":"SUM(MAX('MDA4'!R43, 'T1'!L43, MAX(T3_R1!K43, T3_R2!K43)), MAX('MDA1'!K43, 'MDA4'!S43, 'T1'!M43, MAX(T3_R1!L43, T3_R2!L43)), MAX('MDA1'!L43, 'MDA4'!T43, 'T1'!N43, MAX(T3_R1!M43, T3_R2!M43)))","v":0},{"$f":"IF(AND(COUNTRY_INFO!J43>1,COUNTRY_INFO!J43<4),IF(COUNTRY_INFO!E43>MAX('MDA4'!R43,'T1'!L43,MAX(T3_R1!K43,T3_R2!K43)),MAX('MDA4'!R43,'T1'!L43,MAX(T3_R1!K43,T3_R2!K43)),COUNTRY_INFO!E43),0)","v":0},{"$f":"IF(AND(COUNTRY_INFO!J43>1,COUNTRY_INFO!J43<4), IF(T43/COUNTRY_INFO!E43*100<>0, IF(T43/COUNTRY_INFO!E43*100>100,100,T43/COUNTRY_INFO!E43*100), \"-\"),0)","v":"-"},{"$f":"IF(AND(COUNTRY_INFO!J43>1,COUNTRY_INFO!J43<4),IF(COUNTRY_INFO!F43>MAX('MDA1'!K43,'MDA4'!S43,'T1'!M43,MAX(T3_R1!L43,T3_R2!L43)),MAX('MDA1'!K43,'MDA4'!S43,'T1'!M43,MAX(T3_R1!L43,T3_R2!L43)),COUNTRY_INFO!F43),0)","v":0},{"$f":"IF(AND(COUNTRY_INFO!J43>1,COUNTRY_INFO!J43<4), IF(V43/COUNTRY_INFO!F43*100<>0, IF(V43/COUNTRY_INFO!F43*100>100,100,V43/COUNTRY_INFO!F43*100), \"-\"),0)","v":"-"},0,{"$f":"IF(AND(COUNTRY_INFO!J43>1,COUNTRY_INFO!J43<4), IF(S43/P43*100<>0, IF(X43/P43*100>100,100,X43/P43*100), \"-\"),0)","v":"-"},{"$f":"COUNTRY_INFO!P43","v":7814.9},null,null,{"$f":"MAX('T1'!L43,'T2'!J43)+MAX('T1'!M43,'T2'!K43)+MAX('T1'!N43,'T2'!L43)","v":0},{"$f":"IF(COUNTRY_INFO!K43=1,IF(COUNTRY_INFO!F43*0.33>MAX('T1'!M43,'T2'!K43),MAX('T1'!M43,'T2'!K43),COUNTRY_INFO!F43*0.33),IF(COUNTRY_INFO!K43=2,IF(COUNTRY_INFO!F43*0.5>MAX('T1'!M43,'T2'!K43),MAX('T1'!M43,'T2'!K43),COUNTRY_INFO!F43*0.5),IF(COUNTRY_INFO!K43=3,IF(COUNTRY_INFO!F43>MAX('T1'!M43,'T2'!K43),MAX('T1'!M43,'T2'!K43),COUNTRY_INFO!F43),0)))","v":0},{"$f":"IF(AND(COUNTRY_INFO!K43>0,COUNTRY_INFO!L43<4),IF(Z43>0,IF(COUNTRY_INFO!K43=1, AD43/(COUNTRY_INFO!F43*0.33)*100, IF(COUNTRY_INFO!K43=2, AD43/(COUNTRY_INFO!F43*0.5)*100, IF(COUNTRY_INFO!K43=3, AD43/COUNTRY_INFO!F43*100))),\"-\"),0)","v":0},{"$f":"IF(COUNTRY_INFO!K43=2,IF(COUNTRY_INFO!G43*0.2>MAX('T1'!N43,'T2'!L43),MAX('T1'!N43,'T2'!L43),COUNTRY_INFO!G43*0.2),IF(COUNTRY_INFO!K43=3,IF(COUNTRY_INFO!G43>MAX('T1'!N43,'T2'!L43),MAX('T1'!N43,'T2'!L43),COUNTRY_INFO!G43),0))","v":0},{"$f":"IF(AND(COUNTRY_INFO!K43>0,COUNTRY_INFO!L43<4),IF(Z43>0,IF(COUNTRY_INFO!K43=1, 0, IF(COUNTRY_INFO!K43=2, AF43/(COUNTRY_INFO!G43*0.2)*100, IF(COUNTRY_INFO!K43=3, AF43/COUNTRY_INFO!G43*100))),\"-\"),0)","v":0},0,{"$f":"IF(AND(COUNTRY_INFO!K43>0,COUNTRY_INFO!K43<4), IF(AC43/Z43*100<>0, IF(AH43/Z43*100>100,100,AH43/Z43*100), \"-\"),0)","v":"-"},null,{"$f":"IF(AND(D43<>0, D43<>\"Unknown\",D43<>\"Stopped\",D43<>\"Not required\"),D43/COUNTRY_INFO!D43, 0)","v":0},{"$f":"IF(AND(J43<>0,J43<>\"Unknown\",J43<>\"Stopped\",J43<>\"Not required\"),J43/COUNTRY_INFO!D43, 0)","v":0},{"$f":"IF(AND(P43<>0,P43<>\"Unknown\",P43<>\"Not required\"),P43/(COUNTRY_INFO!E43+COUNTRY_INFO!F43), 0)","v":1},{"$f":"IF(AND(Z43<>0,Z43<>\"Unknown\",Z43<>\"Not required\"),IF(COUNTRY_INFO!K43=1,1,IF(COUNTRY_INFO!K43=2,0.5*COUNTRY_INFO!F43/(0.5*COUNTRY_INFO!F43+0.2*COUNTRY_INFO!G43),IF(COUNTRY_INFO!K43=3,COUNTRY_INFO!F43/(COUNTRY_INFO!F43+COUNTRY_INFO!G43)))),0)","v":0.56961701365340567},{"$f":"IF(AND(Z43<>0,Z43<>\"Unknown\",Z43<>\"Not required\"),IF(COUNTRY_INFO!K43=1,0,IF(COUNTRY_INFO!K43=2,0.2*COUNTRY_INFO!G43/(0.5*COUNTRY_INFO!F43+0.2*COUNTRY_INFO!G43),IF(COUNTRY_INFO!K43=3,COUNTRY_INFO!G43/(COUNTRY_INFO!F43+COUNTRY_INFO!G43)))),0)","v":0.43038298634659433},{"$f":"MAX(COUNTRY_INFO!D43*AK43*PROFILE!$G$7,COUNTRY_INFO!D43*AL43*PROFILE!$G$7)","v":0},{"$f":"MAX(COUNTRY_INFO!D43*AK43*PROFILE!$G$8,COUNTRY_INFO!D43*AL43*PROFILE!$G$8,COUNTRY_INFO!D43*AM43*PROFILE!$G$8)","v":5105.6060421969178},{"$f":"MAX(COUNTRY_INFO!D43*AK43*PROFILE!$G$9,COUNTRY_INFO!D43*AL43*PROFILE!$G$9,COUNTRY_INFO!D43*AM43*PROFILE!$G$9,IF(AND(DISTRICT!Z43<>\"Unknown\",Z43<>\"Not required\"),COUNTRY_INFO!P43*DISTRICT!AN43,0))","v":8902.9047933178681},{"$f":"MAX(COUNTRY_INFO!D43*AK43*PROFILE!$G$10,COUNTRY_INFO!D43*AL43*PROFILE!$G$10,IF(AND(DISTRICT!Z43<>\"Unknown\",Z43<>\"Not required\"),COUNTRY_INFO!P43*DISTRICT!AO43,0))","v":3363.4},17371.910835514787,0,{"$f":"MAX('MDA4'!R43,'T1'!L43,'T2'!J43,T3_R1!K43,T3_R2!K43)","v":0},{"$f":"MAX('MDA1'!K43,'MDA4'!S43,'MDA3'!I43,'MDA3'!L43,'T1'!M43,'T2'!K43,T3_R1!L43,T3_R2!L43)","v":0},{"$f":"MAX('MDA1'!L43,'MDA4'!T43,'MDA3'!J43,'MDA3'!M43,'T1'!N43,'T2'!L43,T3_R1!M43,T3_R2!M43)","v":0},0,{"$f":"MAX('MDA4'!R43,T43)","v":0},{"$f":"MAX('MDA1'!K43,'MDA4'!S43,'MDA3'!I43,'MDA3'!L43,V43,AD43)","v":0},{"$f":"MAX('MDA1'!L43,'MDA4'!T43,'MDA3'!J43,'MDA3'!M43,AF43)","v":0},0,0]
[{"$f":"IF(COUNTRY_INFO!A44=0,\" \",COUNTRY_INFO!A44)","v":"Angola"},{"$f":"IF(COUNTRY_INFO!B44=0,\" \",COUNTRY_INFO!B44)","v":"CUANDO CUBANGO"},{"$f":"IF(COUNTRY_INFO!C44=0,\" \",COUNTRY_INFO!C44)","v":"MENONGUE"},{"$f":"COUNTRY_INFO!M44","v":0},null,null,{"$f":"MAX('MDA1'!M44,'MDA4'!U44)","v":0},{"$f":"IF(AND(COUNTRY_INFO!H44>0,COUNTRY_INFO!H44<4),IF(D44>MAX('MDA1'!M44,'MDA4'!U44),MAX('MDA1'!M44,'MDA4'!U44),D44),0)","v":0},{"$f":"IF(AND(COUNTRY_INFO!H44>0,COUNTRY_INFO!H44<4), IF(G44/D44*100<>0, IF(G44/D44*100>100,100,G44/D44*100), \"-\"),0)","v":0},{"$f":"COUNTRY_INFO!N44","v":376540.17955101543},null,null,{"$f":"MAX('MDA1'!M44,MAX('MDA3'!I44,'MDA3'!L44)+MAX('MDA3'!J44,'MDA3'!M44))","v":0},{"$f":"IF(AND(COUNTRY_INFO!I44>0,COUNTRY_INFO!I44<4),IF(J44>MAX('MDA1'!M44,MAX('MDA3'!I44,'MDA3'!L44)+MAX('MDA3'!J44,'MDA3'!M44)),MAX('MDA1'!M44,MAX('MDA3'!I44,'MDA3'!L44)+MAX('MDA3'!J44,'MDA3'!M44)),J44),0)","v":0},{"$f":"IF(AND(COUNTRY_INFO!I44>0,COUNTRY_INFO!I44<4), IF(M44/J44*100<>0, IF(M44/J44*100>100,100,M44/J44*100), \"-\"),0)","v":"-"},{"$f":"COUNTRY_INFO!O44","v":165301},null,null,{"$f":"SUM(MAX('MDA4'!R44, 'T1'!L44, MAX(T3_R1!K44, T3_R2!K44)), MAX('MDA1'!K44, 'MDA4'!S44, 'T1'!M44, MAX(T3_R1!L44, T3_R2!L44)), MAX('MDA1'!L44, 'MDA4'!T44, 'T1'!N44, MAX(T3_R1!M44, T3_R2!M44)))","v":0},{"$f":"IF(AND(COUNTRY_INFO!J44>1,COUNTRY_INFO!J44<4),IF(COUNTRY_INFO!E44>MAX('MDA4'!R44,'T1'!L44,MAX(T3_R1!K44,T3_R2!K44)),MAX('MDA4'!R44,'T1'!L44,MAX(T3_R1!K44,T3_R2!K44)),COUNTRY_INFO!E44),0)","v":0},{"$f":"IF(AND(COUNTRY_INFO!J44>1,COUNTRY_INFO!J44<4), IF(T44/COUNTRY_INFO!E44*100<>0, IF(T44/COUNTRY_INFO!E44*100>100,100,T44/COUNTRY_INFO!E44*100), \"-\"),0)","v":"-"},{"$f":"IF(AND(COUNTRY_INFO!J44>1,COUNTRY_INFO!J44<4),IF(COUNTRY_INFO!F44>MAX('MDA1'!K44,'MDA4'!S44,'T1'!M44,MAX(T3_R1!L44,T3_R2!L44)),MAX('MDA1'!K44,'MDA4'!S44,'T1'!M44,MAX(T3_R1!L44,T3_R2!L44)),COUNTRY_INFO!F44),0)","v":0},{"$f":"IF(AND(COUNTRY_INFO!J44>1,COUNTRY_INFO!J44<4), IF(V44/COUNTRY_INFO!F44*100<>0, IF(V44/COUNTRY_INFO!F44*100>100,100,V44/COUNTRY_INFO!F44*100), \"-\"),0)","v":"-"},0,{"$f":"IF(AND(COUNTRY_INFO!J44>1,COUNTRY_INFO!J44<4), IF(S44/P44*100<>0, IF(X44/P44*100>100,100,X44/P44*100), \"-\"),0)","v":"-"},{"$f":"COUNTRY_INFO!P44","v":92214.9},null,null,{"$f":"MAX('T1'!L44,'T2'!J44)+MAX('T1'!M44,'T2'!K44)+MAX('T1'!N44,'T2'!L44)","v":0},{"$f":"IF(COUNTRY_INFO!K44=1,IF(COUNTRY_INFO!F44*0.33>MAX('T1'!M44,'T2'!K44),MAX('T1'!M44,'T2'!K44),COUNTRY_INFO!F44*0.33),IF(COUNTRY_INFO!K44=2,IF(COUNTRY_INFO!F44*0.5>MAX('T1'!M44,'T2'!K44),MAX('T1'!M44,'T2'!K44),COUNTRY_INFO!F44*0.5),IF(COUNTRY_INFO!K44=3,IF(COUNTRY_INFO!F44>MAX('T1'!M44,'T2'!K44),MAX('T1'!M44,'T2'!K44),COUNTRY_INFO!F44),0)))","v":0},{"$f":"IF(AND(COUNTRY_INFO!K44>0,COUNTRY_INFO!L44<4),IF(Z44>0,IF(COUNTRY_INFO!K44=1, AD44/(COUNTRY_INFO!F44*0.33)*100, IF(COUNTRY_INFO!K44=2, AD44/(COUNTRY_INFO!F44*0.5)*100, IF(COUNTRY_INFO!K44=3, AD44/COUNTRY_INFO!F44*100))),\"-\"),0)","v":0},{"$f":"IF(COUNTRY_INFO!K44=2,IF(COUNTRY_INFO!G44*0.2>MAX('T1'!N44,'T2'!L44),MAX('T1'!N44,'T2'!L44),COUNTRY_INFO!G44*0.2),IF(COUNTRY_INFO!K44=3,IF(COUNTRY_INFO!G44>MAX('T1'!N44,'T2'!L44),MAX('T1'!N44,'T2'!L44),COUNTRY_INFO!G44),0))","v":0},{"$f":"IF(AND(COUNTRY_INFO!K44>0,COUNTRY_INFO!L44<4),IF(Z44>0,IF(COUNTRY_INFO!K44=1, 0, IF(COUNTRY_INFO!K44=2, AF44/(COUNTRY_INFO!G44*0.2)*100, IF(COUNTRY_INFO!K44=3, AF44/COUNTRY_INFO!G44*100))),\"-\"),0)","v":0},0,{"$f":"IF(AND(COUNTRY_INFO!K44>0,COUNTRY_INFO!K44<4), IF(AC44/Z44*100<>0, IF(AH44/Z44*100>100,100,AH44/Z44*100), \"-\"),0)","v":"-"},null,{"$f":"IF(AND(D44<>0, D44<>\"Unknown\",D44<>\"Stopped\",D44<>\"Not required\"),D44/COUNTRY_INFO!D44, 0)","v":0},{"$f":"IF(AND(J44<>0,J44<>\"Unknown\",J44<>\"Stopped\",J44<>\"Not required\"),J44/COUNTRY_INFO!D44, 0)","v":1},{"$f":"IF(AND(P44<>0,P44<>\"Unknown\",P44<>\"Not required\"),P44/(COUNTRY_INFO!E44+COUNTRY_INFO!F44), 0)","v":1},{"$f":"IF(AND(Z44<>0,Z44<>\"Unknown\",Z44<>\"Not required\"),IF(COUNTRY_INFO!K44=1,1,IF(COUNTRY_INFO!K44=2,0.5*COUNTRY_INFO!F44/(0.5*COUNTRY_INFO!F44+0.2*COUNTRY_INFO!G44),IF(COUNTRY_INFO!K44=3,COUNTRY_INFO!F44/(COUNTRY_INFO!F44+COUNTRY_INFO!G44)))),0)","v":0.56962052770213922},{"$f":"IF(AND(Z44<>0,Z44<>\"Unknown\",Z44<>\"Not required\"),IF(COUNTRY_INFO!K44=1,0,IF(COUNTRY_INFO!K44=2,0.2*COUNTRY_INFO!G44/(0.5*COUNTRY_INFO!F44+0.2*COUNTRY_INFO!G44),IF(COUNTRY_INFO!K44=3,COUNTRY_INFO!G44/(COUNTRY_INFO!F44+COUNTRY_INFO!G44)))),0)","v":0.43037947229786078},{"$f":"MAX(COUNTRY_INFO!D44*AK44*PROFILE!$G$7,COUNTRY_INFO!D44*AL44*PROFILE!$G$7)","v":12802.457656665449},{"$f":"MAX(COUNTRY_INFO!D44*AK44*PROFILE!$G$8,COUNTRY_INFO!D44*AL44*PROFILE!$G$8,COUNTRY_INFO!D44*AM44*PROFILE!$G$8)","v":60246.376578378498},{"$f":"MAX(COUNTRY_INFO!D44*AK44*PROFILE!$G$9,COUNTRY_INFO!D44*AL44*PROFILE!$G$9,COUNTRY_INFO!D44*AM44*PROFILE!$G$9,IF(AND(DISTRICT!Z44<>\"Unknown\",Z44<>\"Not required\"),COUNTRY_INFO!P44*DISTRICT!AN44,0))","v":105054.66939413187},{"$f":"MAX(COUNTRY_INFO!D44*AK44*PROFILE!$G$10,COUNTRY_INFO!D44*AL44*PROFILE!$G$10,IF(AND(DISTRICT!Z44<>\"Unknown\",Z44<>\"Not required\"),COUNTRY_INFO!P44*DISTRICT!AO44,0))","v":198436.6759218396},376540.17955101543,0,{"$f":"MAX('MDA4'!R44,'T1'!L44,'T2'!J44,T3_R1!K44,T3_R2!K44)","v":0},{"$f":"MAX('MDA1'!K44,'MDA4'!S44,'MDA3'!I44,'MDA3'!L44,'T1'!M44,'T2'!K44,T3_R1!L44,T3_R2!L44)","v":0},{"$f":"MAX('MDA1'!L44,'MDA4'!T44,'MDA3'!J44,'MDA3'!M44,'T1'!N44,'T2'!L44,T3_R1!M44,T3_R2!M44)","v":0},0,{"$f":"MAX('MDA4'!R44,T44)","v":0},{"$f":"MAX('MDA1'!K44,'MDA4'!S44,'MDA3'!I44,'MDA3'!L44,V44,AD44)","v":0},{"$f":"MAX('MDA1'!L44,'MDA4'!T44,'MDA3'!J44,'MDA3'!M44,AF44)","v":0},0,0]
[{"$f":"IF(COUNTRY_INFO!A45=0,\" \",COUNTRY_INFO!A45)","v":"Angola"},{"$f":"IF(COUNTRY_INFO!B45=0,\" \",COUNTRY_INFO!B45)","v":"CUANDO CUBANGO"},{"$f":"IF(COUNTRY_INFO!C45=0,\" \",COUNTRY_INFO!C45)","v":"NANKOVA"},{"$f":"COUNTRY_INFO!M45","v":0},null,null,{"$f":"MAX('MDA1'!M45,'MDA4'!U45)","v":0},{"$f":"IF(AND(COUNTRY_INFO!H45>0,COUNTRY_INFO!H45<4),IF(D45>MAX('MDA1'!M45,'MDA4'!U45),MAX('MDA1'!M45,'MDA4'!U45),D45),0)","v":0},{"$f":"IF(AND(COUNTRY_INFO!H45>0,COUNTRY_INFO!H45<4), IF(G45/D45*100<>0, IF(G45/D45*100>100,100,G45/D45*100), \"-\"),0)","v":0},{"$f":"COUNTRY_INFO!N45","v":3280.6494637960295},null,null,{"$f":"MAX('MDA1'!M45,MAX('MDA3'!I45,'MDA3'!L45)+MAX('MDA3'!J45,'MDA3'!M45))","v":0},{"$f":"IF(AND(COUNTRY_INFO!I45>0,COUNTRY_INFO!I45<4),IF(J45>MAX('MDA1'!M45,MAX('MDA3'!I45,'MDA3'!L45)+MAX('MDA3'!J45,'MDA3'!M45)),MAX('MDA1'!M45,MAX('MDA3'!I45,'MDA3'!L45)+MAX('MDA3'!J45,'MDA3'!M45)),J45),0)","v":0},{"$f":"IF(AND(COUNTRY_INFO!I45>0,COUNTRY_INFO!I45<4), IF(M45/J45*100<>0, IF(M45/J45*100>100,100,M45/J45*100), \"-\"),0)","v":"-"},{"$f":"COUNTRY_INFO!O45","v":1440},null,null,{"$f":"SUM(MAX('MDA4'!R45, 'T1'!L45, MAX(T3_R1!K45, T3_R2!K45)), MAX('MDA1'!K45, 'MDA4'!S45, 'T1'!M45, MAX(T3_R1!L45, T3_R2!L45)), MAX('MDA1'!L45, 'MDA4'!T45, 'T1'!N45, MAX(T3_R1!M45, T3_R2!M45)))","v":0},{"$f":"IF(AND(COUNTRY_INFO!J45>1,COUNTRY_INFO!J45<4),IF(COUNTRY_INFO!E45>MAX('MDA4'!R45,'T1'!L45,MAX(T3_R1!K45,T3_R2!K45)),MAX('MDA4'!R45,'T1'!L45,MAX(T3_R1!K45,T3_R2!K45)),COUNTRY_INFO!E45),0)","v":0},{"$f":"IF(AND(COUNTRY_INFO!J45>1,COUNTRY_INFO!J45<4), IF(T45/COUNTRY_INFO!E45*100<>0, IF(T45/COUNTRY_INFO!E45*100>100,100,T45/COUNTRY_INFO!E45*100), \"-\"),0)","v":"-"},{"$f":"IF(AND(COUNTRY_INFO!J45>1,COUNTRY_INFO!J45<4),IF(COUNTRY_INFO!F45>MAX('MDA1'!K45,'MDA4'!S45,'T1'!M45,MAX(T3_R1!L45,T3_R2!L45)),MAX('MDA1'!K45,'MDA4'!S45,'T1'!M45,MAX(T3_R1!L45,T3_R2!L45)),COUNTRY_INFO!F45),0)","v":0},{"$f":"IF(AND(COUNTRY_INFO!J45>1,COUNTRY_INFO!J45<4), IF(V45/COUNTRY_INFO!F45*100<>0, IF(V45/COUNTRY_INFO!F45*100>100,100,V45/COUNTRY_INFO!F45*100), \"-\"),0)","v":"-"},0,{"$f":"IF(AND(COUNTRY_INFO!J45>1,COUNTRY_INFO!J45<4), IF(S45/P45*100<>0, IF(X45/P45*100>100,100,X45/P45*100), \"-\"),0)","v":"-"},{"$f":"COUNTRY_INFO!P45","v":803.3},null,null,{"$f":"MAX('T1'!L45,'T2'!J45)+MAX('T1'!M45,'T2'!K45)+MAX('T1'!N45,'T2'!L45)","v":0},{"$f":"IF(COUNTRY_INFO!K45=1,IF(COUNTRY_INFO!F45*0.33>MAX('T1'!M45,'T2'!K45),MAX('T1'!M45,'T2'!K45),COUNTRY_INFO!F45*0.33),IF(COUNTRY_INFO!K45=2,IF(COUNTRY_INFO!F45*0.5>MAX('T1'!M45,'T2'!K45),MAX('T1'!M45,'T2'!K45),COUNTRY_INFO!F45*0.5),IF(COUNTRY_INFO!K45=3,IF(COUNTRY_INFO!F45>MAX('T1'!M45,'T2'!K45),MAX('T1'!M45,'T2'!K45),COUNTRY_INFO!F45),0)))","v":0},{"$f":"IF(AND(COUNTRY_INFO!K45>0,COUNTRY_INFO!L45<4),IF(Z45>0,IF(COUNTRY_INFO!K45=1, AD45/(COUNTRY_INFO!F45*0.33)*100, IF(COUNTRY_INFO!K45=2, AD45/(COUNTRY_INFO!F45*0.5)*100, IF(COUNTRY_INFO!K45=3, AD45/COUNTRY_INFO!F45*100))),\"-\"),0)","v":0},{"$f":"IF(COUNTRY_INFO!K45=2,IF(COUNTRY_INFO!G45*0.2>MAX('T1'!N45,'T2'!L45),MAX('T1'!N45,'T2'!L45),COUNTRY_INFO!G45*0.2),IF(COUNTRY_INFO!K45=3,IF(COUNTRY_INFO!G45>MAX('T1'!N45,'T2'!L45),MAX('T1'!N45,'T2'!L45),COUNTRY_INFO!G45),0))","v":0},{"$f":"IF(AND(COUNTRY_INFO!K45>0,COUNTRY_INFO!L45<4),IF(Z45>0,IF(COUNTRY_INFO!K45=1, 0, IF(COUNTRY_INFO!K45=2, AF45/(COUNTRY_INFO!G45*0.2)*100, IF(COUNTRY_INFO!K45=3, AF45/COUNTRY_INFO!G45*100))),\"-\"),0)","v":0},0,{"$f":"IF(AND(COUNTRY_INFO!K45>0,COUNTRY_INFO!K45<4), IF(AC45/Z45*100<>0, IF(AH45/Z45*100>100,100,AH45/Z45*100), \"-\"),0)","v":"-"},null,{"$f":"IF(AND(D45<>0, D45<>\"Unknown\",D45<>\"Stopped\",D45<>\"Not required\"),D45/COUNTRY_INFO!D45, 0)","v":0},{"$f":"IF(AND(J45<>0,J45<>\"Unknown\",J45<>\"Stopped\",J45<>\"Not required\"),J45/COUNTRY_INFO!D45, 0)","v":1},{"$f":"IF(AND(P45<>0,P45<>\"Unknown\",P45<>\"Not required\"),P45/(COUNTRY_INFO!E45+COUNTRY_INFO!F45), 0)","v":1},{"$f":"IF(AND(Z45<>0,Z45<>\"Unknown\",Z45<>\"Not required\"),IF(COUNTRY_INFO!K45=1,1,IF(COUNTRY_INFO!K45=2,0.5*COUNTRY_INFO!F45/(0.5*COUNTRY_INFO!F45+0.2*COUNTRY_INFO!G45),IF(COUNTRY_INFO!K45=3,COUNTRY_INFO!F45/(COUNTRY_INFO!F45+COUNTRY_INFO!G45)))),0)","v":0.56952570646084899},{"$f":"IF(AND(Z45<>0,Z45<>\"Unknown\",Z45<>\"Not required\"),IF(COUNTRY_INFO!K45=1,0,IF(COUNTRY_INFO!K45=2,0.2*COUNTRY_INFO!G45/(0.5*COUNTRY_INFO!F45+0.2*COUNTRY_INFO!G45),IF(COUNTRY_INFO!K45=3,COUNTRY_INFO!G45/(COUNTRY_INFO!F45+COUNTRY_INFO!G45)))),0)","v":0.43047429353915106},{"$f":"MAX(COUNTRY_INFO!D45*AK45*PROFILE!$G$7,COUNTRY_INFO!D45*AL45*PROFILE!$G$7)","v":111.54287942575453},{"$f":"MAX(COUNTRY_INFO!D45*AK45*PROFILE!$G$8,COUNTRY_INFO!D45*AL45*PROFILE!$G$8,COUNTRY_INFO!D45*AM45*PROFILE!$G$8)","v":524.90345984639578},{"$f":"MAX(COUNTRY_INFO!D45*AK45*PROFILE!$G$9,COUNTRY_INFO!D45*AL45*PROFILE!$G$9,COUNTRY_INFO!D45*AM45*PROFILE!$G$9,IF(AND(DISTRICT!Z45<>\"Unknown\",Z45<>\"Not required\"),COUNTRY_INFO!P45*DISTRICT!AN45,0))","v":915.30084579043819},{"$f":"MAX(COUNTRY_INFO!D45*AK45*PROFILE!$G$10,COUNTRY_INFO!D45*AL45*PROFILE!$G$10,IF(AND(DISTRICT!Z45<>\"Unknown\",Z45<>\"Not required\"),COUNTRY_INFO!P45*DISTRICT!AO45,0))","v":1728.9022787334411},3280.6494637960295,0,{"$f":"MAX('MDA4'!R45,'T1'!L45,'T2'!J45,T3_R1!K45,T3_R2!K45)","v":0},{"$f":"MAX('MDA1'!K45,'MDA4'!S45,'MDA3'!I45,'MDA3'!L45,'T1'!M45,'T2'!K45,T3_R1!L45,T3_R2!L45)","v":0},{"$f":"MAX('MDA1'!L45,'MDA4'!T45,'MDA3'!J45,'MDA3'!M45,'T1'!N45,'T2'!L45,T3_R1!M45,T3_R2!M45)","v":0},0,{"$f":"MAX('MDA4'!R45,T45)","v":0},{"$f":"MAX('MDA1'!K45,'MDA4'!S45,'MDA3'!I45,'MDA3'!L45,V45,AD45)","v":0},{"$f":"MAX('MDA1'!L45,'MDA4'!T45,'MDA3'!J45,'MDA3'!M45,AF45)","v":0},0,0]
[{"$f":"IF(COUNTRY_INFO!A46=0,\" \",COUNTRY_INFO!A46)","v":"Angola"},{"$f":"IF(COUNTRY_INFO!B46=0,\" \",COUNTRY_INFO!B46)","v":"CUANDO CUBANGO"},{"$f":"IF(COUNTRY_INFO!C46=0,\" \",COUNTRY_INFO!C46)","v":"RIVUNGO"},{"$f":"COUNTRY_INFO!M46","v":0},null,null,{"$f":"MAX('MDA1'!M46,'MDA4'!U46)","v":0},{"$f":"IF(AND(COUNTRY_INFO!H46>0,COUNTRY_INFO!H46<4),IF(D46>MAX('MDA1'!M46,'MDA4'!U46),MAX('MDA1'!M46,'MDA4'!U46),D46),0)","v":0},{"$f":"IF(AND(COUNTRY_INFO!H46>0,COUNTRY_INFO!H46<4), IF(G46/D46*100<>0, IF(G46/D46*100>100,100,G46/D46*100), \"-\"),0)","v":0},{"$f":"COUNTRY_INFO!N46","v":"Unknown"},null,null,{"$f":"MAX('MDA1'!M46,MAX('MDA3'!I46,'MDA3'!L46)+MAX('MDA3'!J46,'MDA3'!M46))","v":0},{"$f":"IF(AND(COUNTRY_INFO!I46>0,COUNTRY_INFO!I46<4),IF(J46>MAX('MDA1'!M46,MAX('MDA3'!I46,'MDA3'!L46)+MAX('MDA3'!J46,'MDA3'!M46)),MAX('MDA1'!M46,MAX('MDA3'!I46,'MDA3'!L46)+MAX('MDA3'!J46,'MDA3'!M46)),J46),0)","v":0},{"$f":"IF(AND(COUNTRY_INFO!I46>0,COUNTRY_INFO!I46<4), IF(M46/J46*100<>0, IF(M46/J46*100>100,100,M46/J46*100), \"-\"),0)","v":0},{"$f":"COUNTRY_INFO!O46","v":17025},null,null,{"$f":"SUM(MAX('MDA4'!R46, 'T1'!L46, MAX(T3_R1!K46, T3_R2!K46)), MAX('MDA1'!K46, 'MDA4'!S46, 'T1'!M46, MAX(T3_R1!L46, T3_R2!L46)), MAX('MDA1'!L46, 'MDA4'!T46, 'T1'!N46, MAX(T3_R1!M46, T3_R2!M46)))","v":0},{"$f":"IF(AND(COUNTRY_INFO!J46>1,COUNTRY_INFO!J46<4),IF(COUNTRY_INFO!E46>MAX('MDA4'!R46,'T1'!L46,MAX(T3_R1!K46,T3_R2!K46)),MAX('MDA4'!R46,'T1'!L46,MAX(T3_R1!K46,T3_R2!K46)),COUNTRY_INFO!E46),0)","v":0},{"$f":"IF(AND(COUNTRY_INFO!J46>1,COUNTRY_INFO!J46<4), IF(T46/COUNTRY_INFO!E46*100<>0, IF(T46/COUNTRY_INFO!E46*100>100,100,T46/COUNTRY_INFO!E46*100), \"-\"),0)","v":"-"},{"$f":"IF(AND(COUNTRY_INFO!J46>1,COUNTRY_INFO!J46<4),IF(COUNTRY_INFO!F46>MAX('MDA1'!K46,'MDA4'!S46,'T1'!M46,MAX(T3_R1!L46,T3_R2!L46)),MAX('MDA1'!K46,'MDA4'!S46,'T1'!M46,MAX(T3_R1!L46,T3_R2!L46)),COUNTRY_INFO!F46),0)","v":0},{"$f":"IF(AND(COUNTRY_INFO!J46>1,COUNTRY_INFO!J46<4), IF(V46/COUNTRY_INFO!F46*100<>0, IF(V46/COUNTRY_INFO!F46*100>100,100,V46/COUNTRY_INFO!F46*100), \"-\"),0)","v":"-"},0,{"$f":"IF(AND(COUNTRY_INFO!J46>1,COUNTRY_INFO!J46<4), IF(S46/P46*100<>0, IF(X46/P46*100>100,100,X46/P46*100), \"-\"),0)","v":"-"},{"$f":"COUNTRY_INFO!P46","v":9497.6},null,null,{"$f":"MAX('T1'!L46,'T2'!J46)+MAX('T1'!M46,'T2'!K46)+MAX('T1'!N46,'T2'!L46)","v":0},{"$f":"IF(COUNTRY_INFO!K46=1,IF(COUNTRY_INFO!F46*0.33>MAX('T1'!M46,'T2'!K46),MAX('T1'!M46,'T2'!K46),COUNTRY_INFO!F46*0.33),IF(COUNTRY_INFO!K46=2,IF(COUNTRY_INFO!F46*0.5>MAX('T1'!M46,'T2'!K46),MAX('T1'!M46,'T2'!K46),COUNTRY_INFO!F46*0.5),IF(COUNTRY_INFO!K46=3,IF(COUNTRY_INFO!F46>MAX('T1'!M46,'T2'!K46),MAX('T1'!M46,'T2'!K46),COUNTRY_INFO!F46),0)))","v":0},{"$f":"IF(AND(COUNTRY_INFO!K46>0,COUNTRY_INFO!L46<4),IF(Z46>0,IF(COUNTRY_INFO!K46=1, AD46/(COUNTRY_INFO!F46*0.33)*100, IF(COUNTRY_INFO!K46=2, AD46/(COUNTRY_INFO!F46*0.5)*100, IF(COUNTRY_INFO!K46=3, AD46/COUNTRY_INFO!F46*100))),\"-\"),0)","v":0},{"$f":"IF(COUNTRY_INFO!K46=2,IF(COUNTRY_INFO!G46*0.2>MAX('T1'!N46,'T2'!L46),MAX('T1'!N46,'T2'!L46),COUNTRY_INFO!G46*0.2),IF(COUNTRY_INFO!K46=3,IF(COUNTRY_INFO!G46>MAX('T1'!N46,'T2'!L46),MAX('T1'!N46,'T2'!L46),COUNTRY_INFO!G46),0))","v":0},{"$f":"IF(AND(COUNTRY_INFO!K46>0,COUNTRY_INFO!L46<4),IF(Z46>0,IF(COUNTRY_INFO!K46=1, 0, IF(COUNTRY_INFO!K46=2, AF46/(COUNTRY_INFO!G46*0.2)*100, IF(COUNTRY_INFO!K46=3, AF46/COUNTRY_INFO!G46*100))),\"-\"),0)","v":0},0,{"$f":"IF(AND(COUNTRY_INFO!K46>0,COUNTRY_INFO!K46<4), IF(AC46/Z46*100<>0, IF(AH46/Z46*100>100,100,AH46/Z46*100), \"-\"),0)","v":"-"},null,{"$f":"IF(AND(D46<>0, D46<>\"Unknown\",D46<>\"Stopped\",D46<>\"Not required\"),D46/COUNTRY_INFO!D46, 0)","v":0},{"$f":"IF(AND(J46<>0,J46<>\"Unknown\",J46<>\"Stopped\",J46<>\"Not required\"),J46/COUNTRY_INFO!D46, 0)","v":0},{"$f":"IF(AND(P46<>0,P46<>\"Unknown\",P46<>\"Not required\"),P46/(COUNTRY_INFO!E46+COUNTRY_INFO!F46), 0)","v":1},{"$f":"IF(AND(Z46<>0,Z46<>\"Unknown\",Z46<>\"Not required\"),IF(COUNTRY_INFO!K46=1,1,IF(COUNTRY_INFO!K46=2,0.5*COUNTRY_INFO!F46/(0.5*COUNTRY_INFO!F46+0.2*COUNTRY_INFO!G46),IF(COUNTRY_INFO!K46=3,COUNTRY_INFO!F46/(COUNTRY_INFO!F46+COUNTRY_INFO!G46)))),0)","v":0.56961758760107817},{"$f":"IF(AND(Z46<>0,Z46<>\"Unknown\",Z46<>\"Not required\"),IF(COUNTRY_INFO!K46=1,0,IF(COUNTRY_INFO!K46=2,0.2*COUNTRY_INFO!G46/(0.5*COUNTRY_INFO!F46+0.2*COUNTRY_INFO!G46),IF(COUNTRY_INFO!K46=3,COUNTRY_INFO!G46/(COUNTRY_INFO!F46+COUNTRY_INFO!G46)))),0)","v":0.43038241239892183},{"$f":"MAX(COUNTRY_INFO!D46*AK46*PROFILE!$G$7,COUNTRY_INFO!D46*AL46*PROFILE!$G$7)","v":0},{"$f":"MAX(COUNTRY_INFO!D46*AK46*PROFILE!$G$8,COUNTRY_INFO!D46*AL46*PROFILE!$G$8,COUNTRY_INFO!D46*AM46*PROFILE!$G$8)","v":6205.1623956734338},{"$f":"MAX(COUNTRY_INFO!D46*AK46*PROFILE!$G$9,COUNTRY_INFO!D46*AL46*PROFILE!$G$9,COUNTRY_INFO!D46*AM46*PROFILE!$G$9,IF(AND(DISTRICT!Z46<>\"Unknown\",Z46<>\"Not required\"),COUNTRY_INFO!P46*DISTRICT!AN46,0))","v":10820.257101541971},{"$f":"MAX(COUNTRY_INFO!D46*AK46*PROFILE!$G$10,COUNTRY_INFO!D46*AL46*PROFILE!$G$10,IF(AND(DISTRICT!Z46<>\"Unknown\",Z46<>\"Not required\"),COUNTRY_INFO!P46*DISTRICT!AO46,0))","v":4087.6000000000004},21113.019497215406,0,{"$f":"MAX('MDA4'!R46,'T1'!L46,'T2'!J46,T3_R1!K46,T3_R2!K46)","v":0},{"$f":"MAX('MDA1'!K46,'MDA4'!S46,'MDA3'!I46,'MDA3'!L46,'T1'!M46,'T2'!K46,T3_R1!L46,T3_R2!L46)","v":0},{"$f":"MAX('MDA1'!L46,'MDA4'!T46,'MDA3'!J46,'MDA3'!M46,'T1'!N46,'T2'!L46,T3_R1!M46,T3_R2!M46)","v":0},0,{"$f":"MAX('MDA4'!R46,T46)","v":0},{"$f":"MAX('MDA1'!K46,'MDA4'!S46,'MDA3'!I46,'MDA3'!L46,V46,AD46)","v":0},{"$f":"MAX('MDA1'!L46,'MDA4'!T46,'MDA3'!J46,'MDA3'!M46,AF46)","v":0},0,0]
[{"$f":"IF(COUNTRY_INFO!A47=0,\" \",COUNTRY_INFO!A47)","v":"Angola"},{"$f":"IF(COUNTRY_INFO!B47=0,\" \",COUNTRY_INFO!B47)","v":"CUANZA NORTE"},{"$f":"IF(COUNTRY_INFO!C47=0,\" \",COUNTRY_INFO!C47)","v":"AMBACA"},{"$f":"COUNTRY_INFO!M47","v":"Unknown"},null,null,{"$f":"MAX('MDA1'!M47,'MDA4'!U47)","v":0},{"$f":"IF(AND(COUNTRY_INFO!H47>0,COUNTRY_INFO!H47<4),IF(D47>MAX('MDA1'!M47,'MDA4'!U47),MAX('MDA1'!M47,'MDA4'!U47),D47),0)","v":0},{"$f":"IF(AND(COUNTRY_INFO!H47>0,COUNTRY_INFO!H47<4), IF(G47/D47*100<>0, IF(G47/D47*100>100,100,G47/D47*100), \"-\"),0)","v":0},{"$f":"COUNTRY_INFO!N47","v":72475.835740063296},null,null,{"$f":"MAX('MDA1'!M47,MAX('MDA3'!I47,'MDA3'!L47)+MAX('MDA3'!J47,'MDA3'!M47))","v":0},{"$f":"IF(AND(COUNTRY_INFO!I47>0,COUNTRY_INFO!I47<4),IF(J47>MAX('MDA1'!M47,MAX('MDA3'!I47,'MDA3'!L47)+MAX('MDA3'!J47,'MDA3'!M47)),MAX('MDA1'!M47,MAX('MDA3'!I47,'MDA3'!L47)+MAX('MDA3'!J47,'MDA3'!M47)),J47),0)","v":0},{"$f":"IF(AND(COUNTRY_INFO!I47>0,COUNTRY_INFO!I47<4), IF(M47/J47*100<>0, IF(M47/J47*100>100,100,M47/J47*100), \"-\"),0)","v":"-"},{"$f":"COUNTRY_INFO!O47","v":31817},null,null,{"$f":"SUM(MAX('MDA4'!R47, 'T1'!L47, MAX(T3_R1!K47, T3_R2!K47)), MAX('MDA1'!K47, 'MDA4'!S47, 'T1'!M47, MAX(T3_R1!L47, T3_R2!L47)), MAX('MDA1'!L47, 'MDA4'!T47, 'T1'!N47, MAX(T3_R1!M47, T3_R2!M47)))","v":0},{"$f":"IF(AND(COUNTRY_INFO!J47>1,COUNTRY_INFO!J47<4),IF(COUNTRY_INFO!E47>MAX('MDA4'!R47,'T1'!L47,MAX(T3_R1!K47,T3_R2!K47)),MAX('MDA4'!R47,'T1'!L47,MAX(T3_R1!K47,T3_R2!K47)),COUNTRY_INFO!E47),0)","v":0},{"$f":"IF(AND(COUNTRY_INFO!J47>1,COUNTRY_INFO!J47<4), IF(T47/COUNTRY_INFO!E47*100<>0, IF(T47/COUNTRY_INFO!E47*100>100,100,T47/COUNTRY_INFO!E47*100), \"-\"),0)","v":"-"},{"$f":"IF(AND(COUNTRY_INFO!J47>1,COUNTRY_INFO!J47<4),IF(COUNTRY_INFO!F47>MAX('MDA1'!K47,'MDA4'!S47,'T1'!M47,MAX(T3_R1!L47,T3_R2!L47)),MAX('MDA1'!K47,'MDA4'!S47,'T1'!M47,MAX(T3_R1!L47,T3_R2!L47)),COUNTRY_INFO!F47),0)","v":0},{"$f":"IF(AND(COUNTRY_INFO!J47>1,COUNTRY_INFO!J47<4), IF(V47/COUNTRY_INFO!F47*100<>0, IF(V47/COUNTRY_INFO!F47*100>100,100,V47/COUNTRY_INFO!F47*100), \"-\"),0)","v":"-"},0,{"$f":"IF(AND(COUNTRY_INFO!J47>1,COUNTRY_INFO!J47<4), IF(S47/P47*100<>0, IF(X47/P47*100>100,100,X47/P47*100), \"-\"),0)","v":"-"},{"$f":"COUNTRY_INFO!P47","v":17749.5},null,null,{"$f":"MAX('T1'!L47,'T2'!J47)+MAX('T1'!M47,'T2'!K47)+MAX('T1'!N47,'T2'!L47)","v":0},{"$f":"IF(COUNTRY_INFO!K47=1,IF(COUNTRY_INFO!F47*0.33>MAX('T1'!M47,'T2'!K47),MAX('T1'!M47,'T2'!K47),COUNTRY_INFO!F47*0.33),IF(COUNTRY_INFO!K47=2,IF(COUNTRY_INFO!F47*0.5>MAX('T1'!M47,'T2'!K47),MAX('T1'!M47,'T2'!K47),COUNTRY_INFO!F47*0.5),IF(COUNTRY_INFO!K47=3,IF(COUNTRY_INFO!F47>MAX('T1'!M47,'T2'!K47),MAX('T1'!M47,'T2'!K47),COUNTRY_INFO!F47),0)))","v":0},{"$f":"IF(AND(COUNTRY_INFO!K47>0,COUNTRY_INFO!L47<4),IF(Z47>0,IF(COUNTRY_INFO!K47=1, AD47/(COUNTRY_INFO!F47*0.33)*100, IF(COUNTRY_INFO!K47=2, AD47/(COUNTRY_INFO!F47*0.5)*100, IF(COUNTRY_INFO!K47=3, AD47/COUNTRY_INFO!F47*100))),\"-\"),0)","v":0},{"$f":"IF(COUNTRY_INFO!K47=2,IF(COUNTRY_INFO!G47*0.2>MAX('T1'!N47,'T2'!L47),MAX('T1'!N47,'T2'!L47),COUNTRY_INFO!G47*0.2),IF(COUNTRY_INFO!K47=3,IF(COUNTRY_INFO!G47>MAX('T1'!N47,'T2'!L47),MAX('T1'!N47,'T2'!L47),COUNTRY_INFO!G47),0))","v":0},{"$f":"IF(AND(COUNTRY_INFO!K47>0,COUNTRY_INFO!L47<4),IF(Z47>0,IF(COUNTRY_INFO!K47=1, 0, IF(COUNTRY_INFO!K47=2, AF47/(COUNTRY_INFO!G47*0.2)*100, IF(COUNTRY_INFO!K47=3, AF47/COUNTRY_INFO!G47*100))),\"-\"),0)","v":0},0,{"$f":"IF(AND(COUNTRY_INFO!K47>0,COUNTRY_INFO!K47<4), IF(AC47/Z47*100<>0, IF(AH47/Z47*100>100,100,AH47/Z47*100), \"-\"),0)","v":"-"},null,{"$f":"IF(AND(D47<>0, D47<>\"Unknown\",D47<>\"Stopped\",D47<>\"Not required\"),D47/COUNTRY_INFO!D47, 0)","v":0},{"$f":"IF(AND(J47<>0,J47<>\"Unknown\",J47<>\"Stopped\",J47<>\"Not required\"),J47/COUNTRY_INFO!D47, 0)","v":1},{"$f":"IF(AND(P47<>0,P47<>\"Unknown\",P47<>\"Not required\"),P47/(COUNTRY_INFO!E47+COUNTRY_INFO!F47), 0)","v":1},{"$f":"IF(AND(Z47<>0,Z47<>\"Unknown\",Z47<>\"Not required\"),IF(COUNTRY_INFO!K47=1,1,IF(COUNTRY_INFO!K47=2,0.5*COUNTRY_INFO!F47/(0.5*COUNTRY_INFO!F47+0.2*COUNTRY_INFO!G47),IF(COUNTRY_INFO!K47=3,COUNTRY_INFO!F47/(COUNTRY_INFO!F47+COUNTRY_INFO!G47)))),0)","v":0.56962167948392917},{"$f":"IF(AND(Z47<>0,Z47<>\"Unknown\",Z47<>\"Not required\"),IF(COUNTRY_INFO!K47=1,0,IF(COUNTRY_INFO!K47=2,0.2*COUNTRY_INFO!G47/(0.5*COUNTRY_INFO!F47+0.2*COUNTRY_INFO!G47),IF(COUNTRY_INFO!K47=3,COUNTRY_INFO!G47/(COUNTRY_INFO!F47+COUNTRY_INFO!G47)))),0)","v":0.43037832051607089},{"$f":"MAX(COUNTRY_INFO!D47*AK47*PROFILE!$G$7,COUNTRY_INFO!D47*AL47*PROFILE!$G$7)","v":2464.1960369275512},{"$f":"MAX(COUNTRY_INFO!D47*AK47*PROFILE!$G$8,COUNTRY_INFO!D47*AL47*PROFILE!$G$8,COUNTRY_INFO!D47*AM47*PROFILE!$G$8)","v":11596.123680705303},{"$f":"MAX(COUNTRY_INFO!D47*AK47*PROFILE!$G$9,COUNTRY_INFO!D47*AL47*PROFILE!$G$9,COUNTRY_INFO!D47*AM47*PROFILE!$G$9,IF(AND(DISTRICT!Z47<>\"Unknown\",Z47<>\"Not required\"),COUNTRY_INFO!P47*DISTRICT!AN47,0))","v":20220.750337492696},{"$f":"MAX(COUNTRY_INFO!D47*AK47*PROFILE!$G$10,COUNTRY_INFO!D47*AL47*PROFILE!$G$10,IF(AND(DISTRICT!Z47<>\"Unknown\",Z47<>\"Not required\"),COUNTRY_INFO!P47*DISTRICT!AO47,0))","v":38194.765684937745},72475.835740063296,0,{"$f":"MAX('MDA4'!R47,'T1'!L47,'T2'!J47,T3_R1!K47,T3_R2!K47)","v":0},{"$f":"MAX('MDA1'!K47,'MDA4'!S47,'MDA3'!I47,'MDA3'!L47,'T1'!M47,'T2'!K47,T3_R1!L47,T3_R2!L47)","v":0},{"$f":"MAX('MDA1'!L47,'MDA4'!T47,'MDA3'!J47,'MDA3'!M47,'T1'!N47,'T2'!L47,T3_R1!M47,T3_R2!M47)","v":0},0,{"$f":"MAX('MDA4'!R47,T47)","v":0},{"$f":"MAX('MDA1'!K47,'MDA4'!S47,'MDA3'!I47,'MDA3'!L47,V47,AD47)","v":0},{"$f":"MAX('MDA1'!L47,'MDA4'!T47,'MDA3'!J47,'MDA3'!M47,AF47)","v":0},0,0]
[{"$f":"IF(COUNTRY_INFO!A48=0,\" \",COUNTRY_INFO!A48)","v":"Angola"},{"$f":"IF(COUNTRY_INFO!B48=0,\" \",COUNTRY_INFO!B48)","v":"CUANZA NORTE"},{"$f":"IF(COUNTRY_INFO!C48=0,\" \",COUNTRY_INFO!C48)","v":"BANGA"},{"$f":"COUNTRY_INFO!M48","v":12148.728379164555},null,null,{"$f":"MAX('MDA1'!M48,'MDA4'!U48)","v":0},{"$f":"IF(AND(COUNTRY_INFO!H48>0,COUNTRY_INFO!H48<4),IF(D48>MAX('MDA1'!M48,'MDA4'!U48),MAX('MDA1'!M48,'MDA4'!U48),D48),0)","v":0},{"$f":"IF(AND(COUNTRY_INFO!H48>0,COUNTRY_INFO!H48<4), IF(G48/D48*100<>0, IF(G48/D48*100>100,100,G48/D48*100), \"-\"),0)","v":"-"},{"$f":"COUNTRY_INFO!N48","v":12148.728379164555},null,null,{"$f":"MAX('MDA1'!M48,MAX('MDA3'!I48,'MDA3'!L48)+MAX('MDA3'!J48,'MDA3'!M48))","v":0},{"$f":"IF(AND(COUNTRY_INFO!I48>0,COUNTRY_INFO!I48<4),IF(J48>MAX('MDA1'!M48,MAX('MDA3'!I48,'MDA3'!L48)+MAX('MDA3'!J48,'MDA3'!M48)),MAX('MDA1'!M48,MAX('MDA3'!I48,'MDA3'!L48)+MAX('MDA3'!J48,'MDA3'!M48)),J48),0)","v":0},{"$f":"IF(AND(COUNTRY_INFO!I48>0,COUNTRY_INFO!I48<4), IF(M48/J48*100<>0, IF(M48/J48*100>100,100,M48/J48*100), \"-\"),0)","v":"-"},{"$f":"COUNTRY_INFO!O48","v":5333},null,null,{"$f":"SUM(MAX('MDA4'!R48, 'T1'!L48, MAX(T3_R1!K48, T3_R2!K48)), MAX('MDA1'!K48, 'MDA4'!S48, 'T1'!M48, MAX(T3_R1!L48, T3_R2!L48)), MAX('MDA1'!L48, 'MDA4'!T48, 'T1'!N48, MAX(T3_R1!M48, T3_R2!M48)))","v":0},{"$f":"IF(AND(COUNTRY_INFO!J48>1,COUNTRY_INFO!J48<4),IF(COUNTRY_INFO!E48>MAX('MDA4'!R48,'T1'!L48,MAX(T3_R1!K48,T3_R2!K48)),MAX('MDA4'!R48,'T1'!L48,MAX(T3_R1!K48,T3_R2!K48)),COUNTRY_INFO!E48),0)","v":0},{"$f":"IF(AND(COUNTRY_INFO!J48>1,COUNTRY_INFO!J48<4), IF(T48/COUNTRY_INFO!E48*100<>0, IF(T48/COUNTRY_INFO!E48*100>100,100,T48/COUNTRY_INFO!E48*100), \"-\"),0)","v":"-"},{"$f":"IF(AND(COUNTRY_INFO!J48>1,COUNTRY_INFO!J48<4),IF(COUNTRY_INFO!F48>MAX('MDA1'!K48,'MDA4'!S48,'T1'!M48,MAX(T3_R1!L48,T3_R2!L48)),MAX('MDA1'!K48,'MDA4'!S48,'T1'!M48,MAX(T3_R1!L48,T3_R2!L48)),COUNTRY_INFO!F48),0)","v":0},{"$f":"IF(AND(COUNTRY_INFO!J48>1,COUNTRY_INFO!J48<4), IF(V48/COUNTRY_INFO!F48*100<>0, IF(V48/COUNTRY_INFO!F48*100>100,100,V48/COUNTRY_INFO!F48*100), \"-\"),0)","v":"-"},0,{"$f":"IF(AND(COUNTRY_INFO!J48>1,COUNTRY_INFO!J48<4), IF(S48/P48*100<>0, IF(X48/P48*100>100,100,X48/P48*100), \"-\"),0)","v":"-"},{"$f":"COUNTRY_INFO!P48","v":2974.9},null,null,{"$f":"MAX('T1'!L48,'T2'!J48)+MAX('T1'!M48,'T2'!K48)+MAX('T1'!N48,'T2'!L48)","v":0},{"$f":"IF(COUNTRY_INFO!K48=1,IF(COUNTRY_INFO!F48*0.33>MAX('T1'!M48,'T2'!K48),MAX('T1'!M48,'T2'!K48),COUNTRY_INFO!F48*0.33),IF(COUNTRY_INFO!K48=2,IF(COUNTRY_INFO!F48*0.5>MAX('T1'!M48,'T2'!K48),MAX('T1'!M48,'T2'!K48),COUNTRY_INFO!F48*0.5),IF(COUNTRY_INFO!K48=3,IF(COUNTRY_INFO!F48>MAX('T1'!M48,'T2'!K48),MAX('T1'!M48,'T2'!K48),COUNTRY_INFO!F48),0)))","v":0},{"$f":"IF(AND(COUNTRY_INFO!K48>0,COUNTRY_INFO!L48<4),IF(Z48>0,IF(COUNTRY_INFO!K48=1, AD48/(COUNTRY_INFO!F48*0.33)*100, IF(COUNTRY_INFO!K48=2, AD48/(COUNTRY_INFO!F48*0.5)*100, IF(COUNTRY_INFO!K48=3, AD48/COUNTRY_INFO!F48*100))),\"-\"),0)","v":0},{"$f":"IF(COUNTRY_INFO!K48=2,IF(COUNTRY_INFO!G48*0.2>MAX('T1'!N48,'T2'!L48),MAX('T1'!N48,'T2'!L48),COUNTRY_INFO!G48*0.2),IF(COUNTRY_INFO!K48=3,IF(COUNTRY_INFO!G48>MAX('T1'!N48,'T2'!L48),MAX('T1'!N48,'T2'!L48),COUNTRY_INFO!G48),0))","v":0},{"$f":"IF(AND(COUNTRY_INFO!K48>0,COUNTRY_INFO!L48<4),IF(Z48>0,IF(COUNTRY_INFO!K48=1, 0, IF(COUNTRY_INFO!K48=2, AF48/(COUNTRY_INFO!G48*0.2)*100, IF(COUNTRY_INFO!K48=3, AF48/COUNTRY_INFO!G48*100))),\"-\"),0)","v":0},0,{"$f":"IF(AND(COUNTRY_INFO!K48>0,COUNTRY_INFO!K48<4), IF(AC48/Z48*100<>0, IF(AH48/Z48*100>100,100,AH48/Z48*100), \"-\"),0)","v":"-"},null,{"$f":"IF(AND(D48<>0, D48<>\"Unknown\",D48<>\"Stopped\",D48<>\"Not required\"),D48/COUNTRY_INFO!D48, 0)","v":1},{"$f":"IF(AND(J48<>0,J48<>\"Unknown\",J48<>\"Stopped\",J48<>\"Not required\"),J48/COUNTRY_INFO!D48, 0)","v":1},{"$f":"IF(AND(P48<>0,P48<>\"Unknown\",P48<>\"Not required\"),P48/(COUNTRY_INFO!E48+COUNTRY_INFO!F48), 0)","v":1},{"$f":"IF(AND(Z48<>0,Z48<>\"Unknown\",Z48<>\"Not required\"),IF(COUNTRY_INFO!K48=1,1,IF(COUNTRY_INFO!K48=2,0.5*COUNTRY_INFO!F48/(0.5*COUNTRY_INFO!F48+0.2*COUNTRY_INFO!G48),IF(COUNTRY_INFO!K48=3,COUNTRY_INFO!F48/(COUNTRY_INFO!F48+COUNTRY_INFO!G48)))),0)","v":0.56959897811691151},{"$f":"IF(AND(Z48<>0,Z48<>\"Unknown\",Z48<>\"Not required\"),IF(COUNTRY_INFO!K48=1,0,IF(COUNTRY_INFO!K48=2,0.2*COUNTRY_INFO!G48/(0.5*COUNTRY_INFO!F48+0.2*COUNTRY_INFO!G48),IF(COUNTRY_INFO!K48=3,COUNTRY_INFO!G48/(COUNTRY_INFO!F48+COUNTRY_INFO!G48)))),0)","v":0.43040102188308854},{"$f":"MAX(COUNTRY_INFO!D48*AK48*PROFILE!$G$7,COUNTRY_INFO!D48*AL48*PROFILE!$G$7)","v":413.05971873185359},{"$f":"MAX(COUNTRY_INFO!D48*AK48*PROFILE!$G$8,COUNTRY_INFO!D48*AL48*PROFILE!$G$8,COUNTRY_INFO!D48*AM48*PROFILE!$G$8)","v":1943.7948581007092},{"$f":"MAX(COUNTRY_INFO!D48*AK48*PROFILE!$G$9,COUNTRY_INFO!D48*AL48*PROFILE!$G$9,COUNTRY_INFO!D48*AM48*PROFILE!$G$9,IF(AND(DISTRICT!Z48<>\"Unknown\",Z48<>\"Not required\"),COUNTRY_INFO!P48*DISTRICT!AN48,0))","v":3389.4939046188119},{"$f":"MAX(COUNTRY_INFO!D48*AK48*PROFILE!$G$10,COUNTRY_INFO!D48*AL48*PROFILE!$G$10,IF(AND(DISTRICT!Z48<>\"Unknown\",Z48<>\"Not required\"),COUNTRY_INFO!P48*DISTRICT!AO48,0))","v":6402.3798977131801},12148.728379164555,0,{"$f":"MAX('MDA4'!R48,'T1'!L48,'T2'!J48,T3_R1!K48,T3_R2!K48)","v":0},{"$f":"MAX('MDA1'!K48,'MDA4'!S48,'MDA3'!I48,'MDA3'!L48,'T1'!M48,'T2'!K48,T3_R1!L48,T3_R2!L48)","v":0},{"$f":"MAX('MDA1'!L48,'MDA4'!T48,'MDA3'!J48,'MDA3'!M48,'T1'!N48,'T2'!L48,T3_R1!M48,T3_R2!M48)","v":0},0,{"$f":"MAX('MDA4'!R48,T48)","v":0},{"$f":"MAX('MDA1'!K48,'MDA4'!S48,'MDA3'!I48,'MDA3'!L48,V48,AD48)","v":0},{"$f":"MAX('MDA1'!L48,'MDA4'!T48,'MDA3'!J48,'MDA3'!M48,AF48)","v":0},0,0]
[{"$f":"IF(COUNTRY_INFO!A49=0,\" \",COUNTRY_INFO!A49)","v":"Angola"},{"$f":"IF(COUNTRY_INFO!B49=0,\" \",COUNTRY_INFO!B49)","v":"CUANZA NORTE"},{"$f":"IF(COUNTRY_INFO!C49=0,\" \",COUNTRY_INFO!C49)","v":"BOLONGONGO"},{"$f":"COUNTRY_INFO!M49","v":15275.670732890028},null,null,{"$f":"MAX('MDA1'!M49,'MDA4'!U49)","v":0},{"$f":"IF(AND(COUNTRY_INFO!H49>0,COUNTRY_INFO!H49<4),IF(D49>MAX('MDA1'!M49,'MDA4'!U49),MAX('MDA1'!M49,'MDA4'!U49),D49),0)","v":0},{"$f":"IF(AND(COUNTRY_INFO!H49>0,COUNTRY_INFO!H49<4), IF(G49/D49*100<>0, IF(G49/D49*100>100,100,G49/D49*100), \"-\"),0)","v":"-"},{"$f":"COUNTRY_INFO!N49","v":15275.670732890028},null,null,{"$f":"MAX('MDA1'!M49,MAX('MDA3'!I49,'MDA3'!L49)+MAX('MDA3'!J49,'MDA3'!M49))","v":0},{"$f":"IF(AND(COUNTRY_INFO!I49>0,COUNTRY_INFO!I49<4),IF(J49>MAX('MDA1'!M49,MAX('MDA3'!I49,'MDA3'!L49)+MAX('MDA3'!J49,'MDA3'!M49)),MAX('MDA1'!M49,MAX('MDA3'!I49,'MDA3'!L49)+MAX('MDA3'!J49,'MDA3'!M49)),J49),0)","v":0},{"$f":"IF(AND(COUNTRY_INFO!I49>0,COUNTRY_INFO!I49<4), IF(M49/J49*100<>0, IF(M49/J49*100>100,100,M49/J49*100), \"-\"),0)","v":"-"},{"$f":"COUNTRY_INFO!O49","v":6706},null,null,{"$f":"SUM(MAX('MDA4'!R49, 'T1'!L49, MAX(T3_R1!K49, T3_R2!K49)), MAX('MDA1'!K49, 'MDA4'!S49, 'T1'!M49, MAX(T3_R1!L49, T3_R2!L49)), MAX('MDA1'!L49, 'MDA4'!T49, 'T1'!N49, MAX(T3_R1!M49, T3_R2!M49)))","v":0},{"$f":"IF(AND(COUNTRY_INFO!J49>1,COUNTRY_INFO!J49<4),IF(COUNTRY_INFO!E49>MAX('MDA4'!R49,'T1'!L49,MAX(T3_R1!K49,T3_R2!K49)),MAX('MDA4'!R49,'T1'!L49,MAX(T3_R1!K49,T3_R2!K49)),COUNTRY_INFO!E49),0)","v":0},{"$f":"IF(AND(COUNTRY_INFO!J49>1,COUNTRY_INFO!J49<4), IF(T49/COUNTRY_INFO!E49*100<>0, IF(T49/COUNTRY_INFO!E49*100>100,100,T49/COUNTRY_INFO!E49*100), \"-\"),0)","v":"-"},{"$f":"IF(AND(COUNTRY_INFO!J49>1,COUNTRY_INFO!J49<4),IF(COUNTRY_INFO!F49>MAX('MDA1'!K49,'MDA4'!S49,'T1'!M49,MAX(T3_R1!L49,T3_R2!L49)),MAX('MDA1'!K49,'MDA4'!S49,'T1'!M49,MAX(T3_R1!L49,T3_R2!L49)),COUNTRY_INFO!F49),0)","v":0},{"$f":"IF(AND(COUNTRY_INFO!J49>1,COUNTRY_INFO!J49<4), IF(V49/COUNTRY_INFO!F49*100<>0, IF(V49/COUNTRY_INFO!F49*100>100,100,V49/COUNTRY_INFO!F49*100), \"-\"),0)","v":"-"},0,{"$f":"IF(AND(COUNTRY_INFO!J49>1,COUNTRY_INFO!J49<4), IF(S49/P49*100<>0, IF(X49/P49*100>100,100,X49/P49*100), \"-\"),0)","v":"-"},{"$f":"COUNTRY_INFO!P49","v":3741},null,null,{"$f":"MAX('T1'!L49,'T2'!J49)+MAX('T1'!M49,'T2'!K49)+MAX('T1'!N49,'T2'!L49)","v":0},{"$f":"IF(COUNTRY_INFO!K49=1,IF(COUNTRY_INFO!F49*0.33>MAX('T1'!M49,'T2'!K49),MAX('T1'!M49,'T2'!K49),COUNTRY_INFO!F49*0.33),IF(COUNTRY_INFO!K49=2,IF(COUNTRY_INFO!F49*0.5>MAX('T1'!M49,'T2'!K49),MAX('T1'!M49,'T2'!K49),COUNTRY_INFO!F49*0.5),IF(COUNTRY_INFO!K49=3,IF(COUNTRY_INFO!F49>MAX('T1'!M49,'T2'!K49),MAX('T1'!M49,'T2'!K49),COUNTRY_INFO!F49),0)))","v":0},{"$f":"IF(AND(COUNTRY_INFO!K49>0,COUNTRY_INFO!L49<4),IF(Z49>0,IF(COUNTRY_INFO!K49=1, AD49/(COUNTRY_INFO!F49*0.33)*100, IF(COUNTRY_INFO!K49=2, AD49/(COUNTRY_INFO!F49*0.5)*100, IF(COUNTRY_INFO!K49=3, AD49/COUNTRY_INFO!F49*100))),\"-\"),0)","v":0},{"$f":"IF(COUNTRY_INFO!K49=2,IF(COUNTRY_INFO!G49*0.2>MAX('T1'!N49,'T2'!L49),MAX('T1'!N49,'T2'!L49),COUNTRY_INFO!G49*0.2),IF(COUNTRY_INFO!K49=3,IF(COUNTRY_INFO!G49>MAX('T1'!N49,'T2'!L49),MAX('T1'!N49,'T2'!L49),COUNTRY_INFO!G49),0))","v":0},{"$f":"IF(AND(COUNTRY_INFO!K49>0,COUNTRY_INFO!L49<4),IF(Z49>0,IF(COUNTRY_INFO!K49=1, 0, IF(COUNTRY_INFO!K49=2, AF49/(COUNTRY_INFO!G49*0.2)*100, IF(COUNTRY_INFO!K49=3, AF49/COUNTRY_INFO!G49*100))),\"-\"),0)","v":0},0,{"$f":"IF(AND(COUNTRY_INFO!K49>0,COUNTRY_INFO!K49<4), IF(AC49/Z49*100<>0, IF(AH49/Z49*100>100,100,AH49/Z49*100), \"-\"),0)","v":"-"},null,{"$f":"IF(AND(D49<>0, D49<>\"Unknown\",D49<>\"Stopped\",D49<>\"Not required\"),D49/COUNTRY_INFO!D49, 0)","v":1},{"$f":"IF(AND(J49<>0,J49<>\"Unknown\",J49<>\"Stopped\",J49<>\"Not required\"),J49/COUNTRY_INFO!D49, 0)","v":1},{"$f":"IF(AND(P49<>0,P49<>\"Unknown\",P49<>\"Not required\"),P49/(COUNTRY_INFO!E49+COUNTRY_INFO!F49), 0)","v":1},{"$f":"IF(AND(Z49<>0,Z49<>\"Unknown\",Z49<>\"Not required\"),IF(COUNTRY_INFO!K49=1,1,IF(COUNTRY_INFO!K49=2,0.5*COUNTRY_INFO!F49/(0.5*COUNTRY_INFO!F49+0.2*COUNTRY_INFO!G49),IF(COUNTRY_INFO!K49=3,COUNTRY_INFO!F49/(COUNTRY_INFO!F49+COUNTRY_INFO!G49)))),0)","v":0.56963378775728413},{"$f":"IF(AND(Z49<>0,Z49<>\"Unknown\",Z49<>\"Not required\"),IF(COUNTRY_INFO!K49=1,0,IF(COUNTRY_INFO!K49=2,0.2*COUNTRY_INFO!G49/(0.5*COUNTRY_INFO!F49+0.2*COUNTRY_INFO!G49),IF(COUNTRY_INFO!K49=3,COUNTRY_INFO!G49/(COUNTRY_INFO!F49+COUNTRY_INFO!G49)))),0)","v":0.43036621224271587},{"$f":"MAX(COUNTRY_INFO!D49*AK49*PROFILE!$G$7,COUNTRY_INFO!D49*AL49*PROFILE!$G$7)","v":519.37651904288225},{"$f":"MAX(COUNTRY_INFO!D49*AK49*PROFILE!$G$8,COUNTRY_INFO!D49*AL49*PROFILE!$G$8,COUNTRY_INFO!D49*AM49*PROFILE!$G$8)","v":2444.10520162383},{"$f":"MAX(COUNTRY_INFO!D49*AK49*PROFILE!$G$9,COUNTRY_INFO!D49*AL49*PROFILE!$G$9,COUNTRY_INFO!D49*AM49*PROFILE!$G$9,IF(AND(DISTRICT!Z49<>\"Unknown\",Z49<>\"Not required\"),COUNTRY_INFO!P49*DISTRICT!AN49,0))","v":4261.910483313919},{"$f":"MAX(COUNTRY_INFO!D49*AK49*PROFILE!$G$10,COUNTRY_INFO!D49*AL49*PROFILE!$G$10,IF(AND(DISTRICT!Z49<>\"Unknown\",Z49<>\"Not required\"),COUNTRY_INFO!P49*DISTRICT!AO49,0))","v":8050.2785289093972},15275.670732890028,0,{"$f":"MAX('MDA4'!R49,'T1'!L49,'T2'!J49,T3_R1!K49,T3_R2!K49)","v":0},{"$f":"MAX('MDA1'!K49,'MDA4'!S49,'MDA3'!I49,'MDA3'!L49,'T1'!M49,'T2'!K49,T3_R1!L49,T3_R2!L49)","v":0},{"$f":"MAX('MDA1'!L49,'MDA4'!T49,'MDA3'!J49,'MDA3'!M49,'T1'!N49,'T2'!L49,T3_R1!M49,T3_R2!M49)","v":0},0,{"$f":"MAX('MDA4'!R49,T49)","v":0},{"$f":"MAX('MDA1'!K49,'MDA4'!S49,'MDA3'!I49,'MDA3'!L49,V49,AD49)","v":0},{"$f":"MAX('MDA1'!L49,'MDA4'!T49,'MDA3'!J49,'MDA3'!M49,AF49)","v":0},0,0]
[{"$f":"IF(COUNTRY_INFO!A50=0,\" \",COUNTRY_INFO!A50)","v":"Angola"},{"$f":"IF(COUNTRY_INFO!B50=0,\" \",COUNTRY_INFO!B50)","v":"CUANZA NORTE"},{"$f":"IF(COUNTRY_INFO!C50=0,\" \",COUNTRY_INFO!C50)","v":"CAMBAMBE"},{"$f":"COUNTRY_INFO!M50","v":0},null,null,{"$f":"MAX('MDA1'!M50,'MDA4'!U50)","v":0},{"$f":"IF(AND(COUNTRY_INFO!H50>0,COUNTRY_INFO!H50<4),IF(D50>MAX('MDA1'!M50,'MDA4'!U50),MAX('MDA1'!M50,'MDA4'!U50),D50),0)","v":0},{"$f":"IF(AND(COUNTRY_INFO!H50>0,COUNTRY_INFO!H50<4), IF(G50/D50*100<>0, IF(G50/D50*100>100,100,G50/D50*100), \"-\"),0)","v":0},{"$f":"COUNTRY_INFO!N50","v":"Unknown"},null,null,{"$f":"MAX('MDA1'!M50,MAX('MDA3'!I50,'MDA3'!L50)+MAX('MDA3'!J50,'MDA3'!M50))","v":0},{"$f":"IF(AND(COUNTRY_INFO!I50>0,COUNTRY_INFO!I50<4),IF(J50>MAX('MDA1'!M50,MAX('MDA3'!I50,'MDA3'!L50)+MAX('MDA3'!J50,'MDA3'!M50)),MAX('MDA1'!M50,MAX('MDA3'!I50,'MDA3'!L50)+MAX('MDA3'!J50,'MDA3'!M50)),J50),0)","v":0},{"$f":"IF(AND(COUNTRY_INFO!I50>0,COUNTRY_INFO!I50<4), IF(M50/J50*100<>0, IF(M50/J50*100>100,100,M50/J50*100), \"-\"),0)","v":0},{"$f":"COUNTRY_INFO!O50","v":46753},null,null,{"$f":"SUM(MAX('MDA4'!R50, 'T1'!L50, MAX(T3_R1!K50, T3_R2!K50)), MAX('MDA1'!K50, 'MDA4'!S50, 'T1'!M50, MAX(T3_R1!L50, T3_R2!L50)), MAX('MDA1'!L50, 'MDA4'!T50, 'T1'!N50, MAX(T3_R1!M50, T3_R2!M50)))","v":0},{"$f":"IF(AND(COUNTRY_INFO!J50>1,COUNTRY_INFO!J50<4),IF(COUNTRY_INFO!E50>MAX('MDA4'!R50,'T1'!L50,MAX(T3_R1!K50,T3_R2!K50)),MAX('MDA4'!R50,'T1'!L50,MAX(T3_R1!K50,T3_R2!K50)),COUNTRY_INFO!E50),0)","v":0},{"$f":"IF(AND(COUNTRY_INFO!J50>1,COUNTRY_INFO!J50<4), IF(T50/COUNTRY_INFO!E50*100<>0, IF(T50/COUNTRY_INFO!E50*100>100,100,T50/COUNTRY_INFO!E50*100), \"-\"),0)","v":"-"},{"$f":"IF(AND(COUNTRY_INFO!J50>1,COUNTRY_INFO!J50<4),IF(COUNTRY_INFO!F50>MAX('MDA1'!K50,'MDA4'!S50,'T1'!M50,MAX(T3_R1!L50,T3_R2!L50)),MAX('MDA1'!K50,'MDA4'!S50,'T1'!M50,MAX(T3_R1!L50,T3_R2!L50)),COUNTRY_INFO!F50),0)","v":0},{"$f":"IF(AND(COUNTRY_INFO!J50>1,COUNTRY_INFO!J50<4), IF(V50/COUNTRY_INFO!F50*100<>0, IF(V50/COUNTRY_INFO!F50*100>100,100,V50/COUNTRY_INFO!F50*100), \"-\"),0)","v":"-"},0,{"$f":"IF(AND(COUNTRY_INFO!J50>1,COUNTRY_INFO!J50<4), IF(S50/P50*100<>0, IF(X50/P50*100>100,100,X50/P50*100), \"-\"),0)","v":"-"},{"$f":"COUNTRY_INFO!P50","v":26081.5},null,null,{"$f":"MAX('T1'!L50,'T2'!J50)+MAX('T1'!M50,'T2'!K50)+MAX('T1'!N50,'T2'!L50)","v":0},{"$f":"IF(COUNTRY_INFO!K50=1,IF(COUNTRY_INFO!F50*0.33>MAX('T1'!M50,'T2'!K50),MAX('T1'!M50,'T2'!K50),COUNTRY_INFO!F50*0.33),IF(COUNTRY_INFO!K50=2,IF(COUNTRY_INFO!F50*0.5>MAX('T1'!M50,'T2'!K50),MAX('T1'!M50,'T2'!K50),COUNTRY_INFO!F50*0.5),IF(COUNTRY_INFO!K50=3,IF(COUNTRY_INFO!F50>MAX('T1'!M50,'T2'!K50),MAX('T1'!M50,'T2'!K50),COUNTRY_INFO!F50),0)))","v":0},{"$f":"IF(AND(COUNTRY_INFO!K50>0,COUNTRY_INFO!L50<4),IF(Z50>0,IF(COUNTRY_INFO!K50=1, AD50/(COUNTRY_INFO!F50*0.33)*100, IF(COUNTRY_INFO!K50=2, AD50/(COUNTRY_INFO!F50*0.5)*100, IF(COUNTRY_INFO!K50=3, AD50/COUNTRY_INFO!F50*100))),\"-\"),0)","v":0},{"$f":"IF(COUNTRY_INFO!K50=2,IF(COUNTRY_INFO!G50*0.2>MAX('T1'!N50,'T2'!L50),MAX('T1'!N50,'T2'!L50),COUNTRY_INFO!G50*0.2),IF(COUNTRY_INFO!K50=3,IF(COUNTRY_INFO!G50>MAX('T1'!N50,'T2'!L50),MAX('T1'!N50,'T2'!L50),COUNTRY_INFO!G50),0))","v":0},{"$f":"IF(AND(COUNTRY_INFO!K50>0,COUNTRY_INFO!L50<4),IF(Z50>0,IF(COUNTRY_INFO!K50=1, 0, IF(COUNTRY_INFO!K50=2, AF50/(COUNTRY_INFO!G50*0.2)*100, IF(COUNTRY_INFO!K50=3, AF50/COUNTRY_INFO!G50*100))),\"-\"),0)","v":0},0,{"$f":"IF(AND(COUNTRY_INFO!K50>0,COUNTRY_INFO!K50<4), IF(AC50/Z50*100<>0, IF(AH50/Z50*100>100,100,AH50/Z50*100), \"-\"),0)","v":"-"},null,{"$f":"IF(AND(D50<>0, D50<>\"Unknown\",D50<>\"Stopped\",D50<>\"Not required\"),D50/COUNTRY_INFO!D50, 0)","v":0},{"$f":"IF(AND(J50<>0,J50<>\"Unknown\",J50<>\"Stopped\",J50<>\"Not required\"),J50/COUNTRY_INFO!D50, 0)","v":0},{"$f":"IF(AND(P50<>0,P50<>\"Unknown\",P50<>\"Not required\"),P50/(COUNTRY_INFO!E50+COUNTRY_INFO!F50), 0)","v":1},{"$f":"IF(AND(Z50<>0,Z50<>\"Unknown\",Z50<>\"Not required\"),IF(COUNTRY_INFO!K50=1,1,IF(COUNTRY_INFO!K50=2,0.5*COUNTRY_INFO!F50/(0.5*COUNTRY_INFO!F50+0.2*COUNTRY_INFO!G50),IF(COUNTRY_INFO!K50=3,COUNTRY_INFO!F50/(COUNTRY_INFO!F50+COUNTRY_INFO!G50)))),0)","v":0.56961831183022449},{"$f":"IF(AND(Z50<>0,Z50<>\"Unknown\",Z50<>\"Not required\"),IF(COUNTRY_INFO!K50=1,0,IF(COUNTRY_INFO!K50=2,0.2*COUNTRY_INFO!G50/(0.5*COUNTRY_INFO!F50+0.2*COUNTRY_INFO!G50),IF(COUNTRY_INFO!K50=3,COUNTRY_INFO!G50/(COUNTRY_INFO!F50+COUNTRY_INFO!G50)))),0)","v":0.43038168816977551},{"$f":"MAX(COUNTRY_INFO!D50*AK50*PROFILE!$G$7,COUNTRY_INFO!D50*AL50*PROFILE!$G$7)","v":0},{"$f":"MAX(COUNTRY_INFO!D50*AK50*PROFILE!$G$8,COUNTRY_INFO!D50*AL50*PROFILE!$G$8,COUNTRY_INFO!D50*AM50*PROFILE!$G$8)","v":17039.838138919156},{"$f":"MAX(COUNTRY_INFO!D50*AK50*PROFILE!$G$9,COUNTRY_INFO!D50*AL50*PROFILE!$G$9,COUNTRY_INFO!D50*AM50*PROFILE!$G$9,IF(AND(DISTRICT!Z50<>\"Unknown\",Z50<>\"Not required\"),COUNTRY_INFO!P50*DISTRICT!AN50,0))","v":29713.231963166993},{"$f":"MAX(COUNTRY_INFO!D50*AK50*PROFILE!$G$10,COUNTRY_INFO!D50*AL50*PROFILE!$G$10,IF(AND(DISTRICT!Z50<>\"Unknown\",Z50<>\"Not required\"),COUNTRY_INFO!P50*DISTRICT!AO50,0))","v":11225},57978.070102086145,0,{"$f":"MAX('MDA4'!R50,'T1'!L50,'T2'!J50,T3_R1!K50,T3_R2!K50)","v":0},{"$f":"MAX('MDA1'!K50,'MDA4'!S50,'MDA3'!I50,'MDA3'!L50,'T1'!M50,'T2'!K50,T3_R1!L50,T3_R2!L50)","v":0},{"$f":"MAX('MDA1'!L50,'MDA4'!T50,'MDA3'!J50,'MDA3'!M50,'T1'!N50,'T2'!L50,T3_R1!M50,T3_R2!M50)","v":0},0,{"$f":"MAX('MDA4'!R50,T50)","v":0},{"$f":"MAX('MDA1'!K50,'MDA4'!S50,'MDA3'!I50,'MDA3'!L50,V50,AD50)","v":0},{"$f":"MAX('MDA1'!L50,'MDA4'!T50,'MDA3'!J50,'MDA3'!M50,AF50)","v":0},0,0]
[{"$f":"IF(COUNTRY_INFO!A51=0,\" \",COUNTRY_INFO!A51)","v":"Angola"},{"$f":"IF(COUNTRY_INFO!B51=0,\" \",COUNTRY_INFO!B51)","v":"CUANZA NORTE"},{"$f":"IF(COUNTRY_INFO!C51=0,\" \",COUNTRY_INFO!C51)","v":"CAZENGO"},{"$f":"COUNTRY_INFO!M51","v":"Unknown"},null,null,{"$f":"MAX('MDA1'!M51,'MDA4'!U51)","v":0},{"$f":"IF(AND(COUNTRY_INFO!H51>0,COUNTRY_INFO!H51<4),IF(D51>MAX('MDA1'!M51,'MDA4'!U51),MAX('MDA1'!M51,'MDA4'!U51),D51),0)","v":0},{"$f":"IF(AND(COUNTRY_INFO!H51>0,COUNTRY_INFO!H51<4), IF(G51/D51*100<>0, IF(G51/D51*100>100,100,G51/D51*100), \"-\"),0)","v":0},{"$f":"COUNTRY_INFO!N51","v":"Unknown"},null,null,{"$f":"MAX('MDA1'!M51,MAX('MDA3'!I51,'MDA3'!L51)+MAX('MDA3'!J51,'MDA3'!M51))","v":0},{"$f":"IF(AND(COUNTRY_INFO!I51>0,COUNTRY_INFO!I51<4),IF(J51>MAX('MDA1'!M51,MAX('MDA3'!I51,'MDA3'!L51)+MAX('MDA3'!J51,'MDA3'!M51)),MAX('MDA1'!M51,MAX('MDA3'!I51,'MDA3'!L51)+MAX('MDA3'!J51,'MDA3'!M51)),J51),0)","v":0},{"$f":"IF(AND(COUNTRY_INFO!I51>0,COUNTRY_INFO!I51<4), IF(M51/J51*100<>0, IF(M51/J51*100>100,100,M51/J51*100), \"-\"),0)","v":0},{"$f":"COUNTRY_INFO!O51","v":88464},null,null,{"$f":"SUM(MAX('MDA4'!R51, 'T1'!L51, MAX(T3_R1!K51, T3_R2!K51)), MAX('MDA1'!K51, 'MDA4'!S51, 'T1'!M51, MAX(T3_R1!L51, T3_R2!L51)), MAX('MDA1'!L51, 'MDA4'!T51, 'T1'!N51, MAX(T3_R1!M51, T3_R2!M51)))","v":0},{"$f":"IF(AND(COUNTRY_INFO!J51>1,COUNTRY_INFO!J51<4),IF(COUNTRY_INFO!E51>MAX('MDA4'!R51,'T1'!L51,MAX(T3_R1!K51,T3_R2!K51)),MAX('MDA4'!R51,'T1'!L51,MAX(T3_R1!K51,T3_R2!K51)),COUNTRY_INFO!E51),0)","v":0},{"$f":"IF(AND(COUNTRY_INFO!J51>1,COUNTRY_INFO!J51<4), IF(T51/COUNTRY_INFO!E51*100<>0, IF(T51/COUNTRY_INFO!E51*100>100,100,T51/COUNTRY_INFO!E51*100), \"-\"),0)","v":"-"},{"$f":"IF(AND(COUNTRY_INFO!J51>1,COUNTRY_INFO!J51<4),IF(COUNTRY_INFO!F51>MAX('MDA1'!K51,'MDA4'!S51,'T1'!M51,MAX(T3_R1!L51,T3_R2!L51)),MAX('MDA1'!K51,'MDA4'!S51,'T1'!M51,MAX(T3_R1!L51,T3_R2!L51)),COUNTRY_INFO!F51),0)","v":0},{"$f":"IF(AND(COUNTRY_INFO!J51>1,COUNTRY_INFO!J51<4), IF(V51/COUNTRY_INFO!F51*100<>0, IF(V51/COUNTRY_INFO!F51*100>100,100,V51/COUNTRY_INFO!F51*100), \"-\"),0)","v":"-"},0,{"$f":"IF(AND(COUNTRY_INFO!J51>1,COUNTRY_INFO!J51<4), IF(S51/P51*100<>0, IF(X51/P51*100>100,100,X51/P51*100), \"-\"),0)","v":"-"},{"$f":"COUNTRY_INFO!P51","v":49350.400000000001},null,null,{"$f":"MAX('T1'!L51,'T2'!J51)+MAX('T1'!M51,'T2'!K51)+MAX('T1'!N51,'T2'!L51)","v":0},{"$f":"IF(COUNTRY_INFO!K51=1,IF(COUNTRY_INFO!F51*0.33>MAX('T1'!M51,'T2'!K51),MAX('T1'!M51,'T2'!K51),COUNTRY_INFO!F51*0.33),IF(COUNTRY_INFO!K51=2,IF(COUNTRY_INFO!F51*0.5>MAX('T1'!M51,'T2'!K51),MAX('T1'!M51,'T2'!K51),COUNTRY_INFO!F51*0.5),IF(COUNTRY_INFO!K51=3,IF(COUNTRY_INFO!F51>MAX('T1'!M51,'T2'!K51),MAX('T1'!M51,'T2'!K51),COUNTRY_INFO!F51),0)))","v":0},{"$f":"IF(AND(COUNTRY_INFO!K51>0,COUNTRY_INFO!L51<4),IF(Z51>0,IF(COUNTRY_INFO!K51=1, AD51/(COUNTRY_INFO!F51*0.33)*100, IF(COUNTRY_INFO!K51=2, AD51/(COUNTRY_INFO!F51*0.5)*100, IF(COUNTRY_INFO!K51=3, AD51/COUNTRY_INFO!F51*100))),\"-\"),0)","v":0},{"$f":"IF(COUNTRY_INFO!K51=2,IF(COUNTRY_INFO!G51*0.2>MAX('T1'!N51,'T2'!L51),MAX('T1'!N51,'T2'!L51),COUNTRY_INFO!G51*0.2),IF(COUNTRY_INFO!K51=3,IF(COUNTRY_INFO!G51>MAX('T1'!N51,'T2'!L51),MAX('T1'!N51,'T2'!L51),COUNTRY_INFO!G51),0))","v":0},{"$f":"IF(AND(COUNTRY_INFO!K51>0,COUNTRY_INFO!L51<4),IF(Z51>0,IF(COUNTRY_INFO!K51=1, 0, IF(COUNTRY_INFO!K51=2, AF51/(COUNTRY_INFO!G51*0.2)*100, IF(COUNTRY_INFO!K51=3, AF51/COUNTRY_INFO!G51*100))),\"-\"),0)","v":0},0,{"$f":"IF(AND(COUNTRY_INFO!K51>0,COUNTRY_INFO!K51<4), IF(AC51/Z51*100<>0, IF(AH51/Z51*100>100,100,AH51/Z51*100), \"-\"),0)","v":"-"},null,{"$f":"IF(AND(D51<>0, D51<>\"Unknown\",D51<>\"Stopped\",D51<>\"Not required\"),D51/COUNTRY_INFO!D51, 0)","v":0},{"$f":"IF(AND(J51<>0,J51<>\"Unknown\",J51<>\"Stopped\",J51<>\"Not required\"),J51/COUNTRY_INFO!D51, 0)","v":0},{"$f":"IF(AND(P51<>0,P51<>\"Unknown\",P51<>\"Not required\"),P51/(COUNTRY_INFO!E51+COUNTRY_INFO!F51), 0)","v":1},{"$f":"IF(AND(Z51<>0,Z51<>\"Unknown\",Z51<>\"Not required\"),IF(COUNTRY_INFO!K51=1,1,IF(COUNTRY_INFO!K51=2,0.5*COUNTRY_INFO!F51/(0.5*COUNTRY_INFO!F51+0.2*COUNTRY_INFO!G51),IF(COUNTRY_INFO!K51=3,COUNTRY_INFO!F51/(COUNTRY_INFO!F51+COUNTRY_INFO!G51)))),0)","v":0.56962050966152245},{"$f":"IF(AND(Z51<>0,Z51<>\"Unknown\",Z51<>\"Not required\"),IF(COUNTRY_INFO!K51=1,0,IF(COUNTRY_INFO!K51=2,0.2*COUNTRY_INFO!G51/(0.5*COUNTRY_INFO!F51+0.2*COUNTRY_INFO!G51),IF(COUNTRY_INFO!K51=3,COUNTRY_INFO!G51/(COUNTRY_INFO!F51+COUNTRY_INFO!G51)))),0)","v":0.4303794903384775},{"$f":"MAX(COUNTRY_INFO!D51*AK51*PROFILE!$G$7,COUNTRY_INFO!D51*AL51*PROFILE!$G$7)","v":0},{"$f":"MAX(COUNTRY_INFO!D51*AK51*PROFILE!$G$8,COUNTRY_INFO!D51*AL51*PROFILE!$G$8,COUNTRY_INFO!D51*AM51*PROFILE!$G$8)","v":32241.950967238758},{"$f":"MAX(COUNTRY_INFO!D51*AK51*PROFILE!$G$9,COUNTRY_INFO!D51*AL51*PROFILE!$G$9,COUNTRY_INFO!D51*AM51*PROFILE!$G$9,IF(AND(DISTRICT!Z51<>\"Unknown\",Z51<>\"Not required\"),COUNTRY_INFO!P51*DISTRICT!AN51,0))","v":56221.928883614892},{"$f":"MAX(COUNTRY_INFO!D51*AK51*PROFILE!$G$10,COUNTRY_INFO!D51*AL51*PROFILE!$G$10,IF(AND(DISTRICT!Z51<>\"Unknown\",Z51<>\"Not required\"),COUNTRY_INFO!P51*DISTRICT!AO51,0))","v":21239.4},109703.27985085364,0,{"$f":"MAX('MDA4'!R51,'T1'!L51,'T2'!J51,T3_R1!K51,T3_R2!K51)","v":0},{"$f":"MAX('MDA1'!K51,'MDA4'!S51,'MDA3'!I51,'MDA3'!L51,'T1'!M51,'T2'!K51,T3_R1!L51,T3_R2!L51)","v":0},{"$f":"MAX('MDA1'!L51,'MDA4'!T51,'MDA3'!J51,'MDA3'!M51,'T1'!N51,'T2'!L51,T3_R1!M51,T3_R2!M51)","v":0},0,{"$f":"MAX('MDA4'!R51,T51)","v":0},{"$f":"MAX('MDA1'!K51,'MDA4'!S51,'MDA3'!I51,'MDA3'!L51,V51,AD51)","v":0},{"$f":"MAX('MDA1'!L51,'MDA4'!T51,'MDA3'!J51,'MDA3'!M51,AF51)","v":0},0,0]
[{"$f":"IF(COUNTRY_INFO!A52=0,\" \",COUNTRY_INFO!A52)","v":"Angola"},{"$f":"IF(COUNTRY_INFO!B52=0,\" \",COUNTRY_INFO!B52)","v":"CUANZA NORTE"},{"$f":"IF(COUNTRY_INFO!C52=0,\" \",COUNTRY_INFO!C52)","v":"GOLUNGO ALTO"},{"$f":"COUNTRY_INFO!M52","v":39698.6745200554},null,null,{"$f":"MAX('MDA1'!M52,'MDA4'!U52)","v":0},{"$f":"IF(AND(COUNTRY_INFO!H52>0,COUNTRY_INFO!H52<4),IF(D52>MAX('MDA1'!M52,'MDA4'!U52),MAX('MDA1'!M52,'MDA4'!U52),D52),0)","v":0},{"$f":"IF(AND(COUNTRY_INFO!H52>0,COUNTRY_INFO!H52<4), IF(G52/D52*100<>0, IF(G52/D52*100>100,100,G52/D52*100), \"-\"),0)","v":"-"},{"$f":"COUNTRY_INFO!N52","v":39698.6745200554},null,null,{"$f":"MAX('MDA1'!M52,MAX('MDA3'!I52,'MDA3'!L52)+MAX('MDA3'!J52,'MDA3'!M52))","v":0},{"$f":"IF(AND(COUNTRY_INFO!I52>0,COUNTRY_INFO!I52<4),IF(J52>MAX('MDA1'!M52,MAX('MDA3'!I52,'MDA3'!L52)+MAX('MDA3'!J52,'MDA3'!M52)),MAX('MDA1'!M52,MAX('MDA3'!I52,'MDA3'!L52)+MAX('MDA3'!J52,'MDA3'!M52)),J52),0)","v":0},{"$f":"IF(AND(COUNTRY_INFO!I52>0,COUNTRY_INFO!I52<4), IF(M52/J52*100<>0, IF(M52/J52*100>100,100,M52/J52*100), \"-\"),0)","v":"-"},{"$f":"COUNTRY_INFO!O52","v":17428},null,null,{"$f":"SUM(MAX('MDA4'!R52, 'T1'!L52, MAX(T3_R1!K52, T3_R2!K52)), MAX('MDA1'!K52, 'MDA4'!S52, 'T1'!M52, MAX(T3_R1!L52, T3_R2!L52)), MAX('MDA1'!L52, 'MDA4'!T52, 'T1'!N52, MAX(T3_R1!M52, T3_R2!M52)))","v":0},{"$f":"IF(AND(COUNTRY_INFO!J52>1,COUNTRY_INFO!J52<4),IF(COUNTRY_INFO!E52>MAX('MDA4'!R52,'T1'!L52,MAX(T3_R1!K52,T3_R2!K52)),MAX('MDA4'!R52,'T1'!L52,MAX(T3_R1!K52,T3_R2!K52)),COUNTRY_INFO!E52),0)","v":0},{"$f":"IF(AND(COUNTRY_INFO!J52>1,COUNTRY_INFO!J52<4), IF(T52/COUNTRY_INFO!E52*100<>0, IF(T52/COUNTRY_INFO!E52*100>100,100,T52/COUNTRY_INFO!E52*100), \"-\"),0)","v":"-"},{"$f":"IF(AND(COUNTRY_INFO!J52>1,COUNTRY_INFO!J52<4),IF(COUNTRY_INFO!F52>MAX('MDA1'!K52,'MDA4'!S52,'T1'!M52,MAX(T3_R1!L52,T3_R2!L52)),MAX('MDA1'!K52,'MDA4'!S52,'T1'!M52,MAX(T3_R1!L52,T3_R2!L52)),COUNTRY_INFO!F52),0)","v":0},{"$f":"IF(AND(COUNTRY_INFO!J52>1,COUNTRY_INFO!J52<4), IF(V52/COUNTRY_INFO!F52*100<>0, IF(V52/COUNTRY_INFO!F52*100>100,100,V52/COUNTRY_INFO!F52*100), \"-\"),0)","v":"-"},0,{"$f":"IF(AND(COUNTRY_INFO!J52>1,COUNTRY_INFO!J52<4), IF(S52/P52*100<>0, IF(X52/P52*100>100,100,X52/P52*100), \"-\"),0)","v":"-"},{"$f":"COUNTRY_INFO!P52","v":9722.2000000000007},null,null,{"$f":"MAX('T1'!L52,'T2'!J52)+MAX('T1'!M52,'T2'!K52)+MAX('T1'!N52,'T2'!L52)","v":0},{"$f":"IF(COUNTRY_INFO!K52=1,IF(COUNTRY_INFO!F52*0.33>MAX('T1'!M52,'T2'!K52),MAX('T1'!M52,'T2'!K52),COUNTRY_INFO!F52*0.33),IF(COUNTRY_INFO!K52=2,IF(COUNTRY_INFO!F52*0.5>MAX('T1'!M52,'T2'!K52),MAX('T1'!M52,'T2'!K52),COUNTRY_INFO!F52*0.5),IF(COUNTRY_INFO!K52=3,IF(COUNTRY_INFO!F52>MAX('T1'!M52,'T2'!K52),MAX('T1'!M52,'T2'!K52),COUNTRY_INFO!F52),0)))","v":0},{"$f":"IF(AND(COUNTRY_INFO!K52>0,COUNTRY_INFO!L52<4),IF(Z52>0,IF(COUNTRY_INFO!K52=1, AD52/(COUNTRY_INFO!F52*0.33)*100, IF(COUNTRY_INFO!K52=2, AD52/(COUNTRY_INFO!F52*0.5)*100, IF(COUNTRY_INFO!K52=3, AD52/COUNTRY_INFO!F52*100))),\"-\"),0)","v":0},{"$f":"IF(COUNTRY_INFO!K52=2,IF(COUNTRY_INFO!G52*0.2>MAX('T1'!N52,'T2'!L52),MAX('T1'!N52,'T2'!L52),COUNTRY_INFO!G52*0.2),IF(COUNTRY_INFO!K52=3,IF(COUNTRY_INFO!G52>MAX('T1'!N52,'T2'!L52),MAX('T1'!N52,'T2'!L52),COUNTRY_INFO!G52),0))","v":0},{"$f":"IF(AND(COUNTRY_INFO!K52>0,COUNTRY_INFO!L52<4),IF(Z52>0,IF(COUNTRY_INFO!K52=1, 0, IF(COUNTRY_INFO!K52=2, AF52/(COUNTRY_INFO!G52*0.2)*100, IF(COUNTRY_INFO!K52=3, AF52/COUNTRY_INFO!G52*100))),\"-\"),0)","v":0},0,{"$f":"IF(AND(COUNTRY_INFO!K52>0,COUNTRY_INFO!K52<4), IF(AC52/Z52*100<>0, IF(AH52/Z52*100>100,100,AH52/Z52*100), \"-\"),0)","v":"-"},null,{"$f":"IF(AND(D52<>0, D52<>\"Unknown\",D52<>\"Stopped\",D52<>\"Not required\"),D52/COUNTRY_INFO!D52, 0)","v":1},{"$f":"IF(AND(J52<>0,J52<>\"Unknown\",J52<>\"Stopped\",J52<>\"Not required\"),J52/COUNTRY_INFO!D52, 0)","v":1},{"$f":"IF(AND(P52<>0,P52<>\"Unknown\",P52<>\"Not required\"),P52/(COUNTRY_INFO!E52+COUNTRY_INFO!F52), 0)","v":1},{"$f":"IF(AND(Z52<>0,Z52<>\"Unknown\",Z52<>\"Not required\"),IF(COUNTRY_INFO!K52=1,1,IF(COUNTRY_INFO!K52=2,0.5*COUNTRY_INFO!F52/(0.5*COUNTRY_INFO!F52+0.2*COUNTRY_INFO!G52),IF(COUNTRY_INFO!K52=3,COUNTRY_INFO!F52/(COUNTRY_INFO!F52+COUNTRY_INFO!G52)))),0)","v":0.56962415914093512},{"$f":"IF(AND(Z52<>0,Z52<>\"Unknown\",Z52<>\"Not required\"),IF(COUNTRY_INFO!K52=1,0,IF(COUNTRY_INFO!K52=2,0.2*COUNTRY_INFO!G52/(0.5*COUNTRY_INFO!F52+0.2*COUNTRY_INFO!G52),IF(COUNTRY_INFO!K52=3,COUNTRY_INFO!G52/(COUNTRY_INFO!F52+COUNTRY_INFO!G52)))),0)","v":0.43037584085906477},{"$f":"MAX(COUNTRY_INFO!D52*AK52*PROFILE!$G$7,COUNTRY_INFO!D52*AL52*PROFILE!$G$7)","v":1349.7645860125108},{"$f":"MAX(COUNTRY_INFO!D52*AK52*PROFILE!$G$8,COUNTRY_INFO!D52*AL52*PROFILE!$G$8,COUNTRY_INFO!D52*AM52*PROFILE!$G$8)","v":6351.7824250511303},{"$f":"MAX(COUNTRY_INFO!D52*AK52*PROFILE!$G$9,COUNTRY_INFO!D52*AL52*PROFILE!$G$9,COUNTRY_INFO!D52*AM52*PROFILE!$G$9,IF(AND(DISTRICT!Z52<>\"Unknown\",Z52<>\"Not required\"),COUNTRY_INFO!P52*DISTRICT!AN52,0))","v":11075.925900026357},{"$f":"MAX(COUNTRY_INFO!D52*AK52*PROFILE!$G$10,COUNTRY_INFO!D52*AL52*PROFILE!$G$10,IF(AND(DISTRICT!Z52<>\"Unknown\",Z52<>\"Not required\"),COUNTRY_INFO!P52*DISTRICT!AO52,0))","v":20921.201608965403},39698.6745200554,0,{"$f":"MAX('MDA4'!R52,'T1'!L52,'T2'!J52,T3_R1!K52,T3_R2!K52)","v":0},{"$f":"MAX('MDA1'!K52,'MDA4'!S52,'MDA3'!I52,'MDA3'!L52,'T1'!M52,'T2'!K52,T3_R1!L52,T3_R2!L52)","v":0},{"$f":"MAX('MDA1'!L52,'MDA4'!T52,'MDA3'!J52,'MDA3'!M52,'T1'!N52,'T2'!L52,T3_R1!M52,T3_R2!M52)","v":0},0,{"$f":"MAX('MDA4'!R52,T52)","v":0},{"$f":"MAX('MDA1'!K52,'MDA4'!S52,'MDA3'!I52,'MDA3'!L52,V52,AD52)","v":0},{"$f":"MAX('MDA1'!L52,'MDA4'!T52,'MDA3'!J52,'MDA3'!M52,AF52)","v":0},0,0]
[{"$f":"IF(COUNTRY_INFO!A53=0,\" \",COUNTRY_INFO!A53)","v":"Angola"},{"$f":"IF(COUNTRY_INFO!B53=0,\" \",COUNTRY_INFO!B53)","v":"CUANZA NORTE"},{"$f":"IF(COUNTRY_INFO!C53=0,\" \",COUNTRY_INFO!C53)","v":"GONGUEMBO"},{"$f":"COUNTRY_INFO!M53","v":"Unknown"},null,null,{"$f":"MAX('MDA1'!M53,'MDA4'!U53)","v":0},{"$f":"IF(AND(COUNTRY_INFO!H53>0,COUNTRY_INFO!H53<4),IF(D53>MAX('MDA1'!M53,'MDA4'!U53),MAX('MDA1'!M53,'MDA4'!U53),D53),0)","v":0},{"$f":"IF(AND(COUNTRY_INFO!H53>0,COUNTRY_INFO!H53<4), IF(G53/D53*100<>0, IF(G53/D53*100>100,100,G53/D53*100), \"-\"),0)","v":0},{"$f":"COUNTRY_INFO!N53","v":8889.1989762942503},null,null,{"$f":"MAX('MDA1'!M53,MAX('MDA3'!I53,'MDA3'!L53)+MAX('MDA3'!J53,'MDA3'!M53))","v":0},{"$f":"IF(AND(COUNTRY_INFO!I53>0,COUNTRY_INFO!I53<4),IF(J53>MAX('MDA1'!M53,MAX('MDA3'!I53,'MDA3'!L53)+MAX('MDA3'!J53,'MDA3'!M53)),MAX('MDA1'!M53,MAX('MDA3'!I53,'MDA3'!L53)+MAX('MDA3'!J53,'MDA3'!M53)),J53),0)","v":0},{"$f":"IF(AND(COUNTRY_INFO!I53>0,COUNTRY_INFO!I53<4), IF(M53/J53*100<>0, IF(M53/J53*100>100,100,M53/J53*100), \"-\"),0)","v":"-"},{"$f":"COUNTRY_INFO!O53","v":3902},null,null,{"$f":"SUM(MAX('MDA4'!R53, 'T1'!L53, MAX(T3_R1!K53, T3_R2!K53)), MAX('MDA1'!K53, 'MDA4'!S53, 'T1'!M53, MAX(T3_R1!L53, T3_R2!L53)), MAX('MDA1'!L53, 'MDA4'!T53, 'T1'!N53, MAX(T3_R1!M53, T3_R2!M53)))","v":0},{"$f":"IF(AND(COUNTRY_INFO!J53>1,COUNTRY_INFO!J53<4),IF(COUNTRY_INFO!E53>MAX('MDA4'!R53,'T1'!L53,MAX(T3_R1!K53,T3_R2!K53)),MAX('MDA4'!R53,'T1'!L53,MAX(T3_R1!K53,T3_R2!K53)),COUNTRY_INFO!E53),0)","v":0},{"$f":"IF(AND(COUNTRY_INFO!J53>1,COUNTRY_INFO!J53<4), IF(T53/COUNTRY_INFO!E53*100<>0, IF(T53/COUNTRY_INFO!E53*100>100,100,T53/COUNTRY_INFO!E53*100), \"-\"),0)","v":"-"},{"$f":"IF(AND(COUNTRY_INFO!J53>1,COUNTRY_INFO!J53<4),IF(COUNTRY_INFO!F53>MAX('MDA1'!K53,'MDA4'!S53,'T1'!M53,MAX(T3_R1!L53,T3_R2!L53)),MAX('MDA1'!K53,'MDA4'!S53,'T1'!M53,MAX(T3_R1!L53,T3_R2!L53)),COUNTRY_INFO!F53),0)","v":0},{"$f":"IF(AND(COUNTRY_INFO!J53>1,COUNTRY_INFO!J53<4), IF(V53/COUNTRY_INFO!F53*100<>0, IF(V53/COUNTRY_INFO!F53*100>100,100,V53/COUNTRY_INFO!F53*100), \"-\"),0)","v":"-"},0,{"$f":"IF(AND(COUNTRY_INFO!J53>1,COUNTRY_INFO!J53<4), IF(S53/P53*100<>0, IF(X53/P53*100>100,100,X53/P53*100), \"-\"),0)","v":"-"},{"$f":"COUNTRY_INFO!P53","v":2177},null,null,{"$f":"MAX('T1'!L53,'T2'!J53)+MAX('T1'!M53,'T2'!K53)+MAX('T1'!N53,'T2'!L53)","v":0},{"$f":"IF(COUNTRY_INFO!K53=1,IF(COUNTRY_INFO!F53*0.33>MAX('T1'!M53,'T2'!K53),MAX('T1'!M53,'T2'!K53),COUNTRY_INFO!F53*0.33),IF(COUNTRY_INFO!K53=2,IF(COUNTRY_INFO!F53*0.5>MAX('T1'!M53,'T2'!K53),MAX('T1'!M53,'T2'!K53),COUNTRY_INFO!F53*0.5),IF(COUNTRY_INFO!K53=3,IF(COUNTRY_INFO!F53>MAX('T1'!M53,'T2'!K53),MAX('T1'!M53,'T2'!K53),COUNTRY_INFO!F53),0)))","v":0},{"$f":"IF(AND(COUNTRY_INFO!K53>0,COUNTRY_INFO!L53<4),IF(Z53>0,IF(COUNTRY_INFO!K53=1, AD53/(COUNTRY_INFO!F53*0.33)*100, IF(COUNTRY_INFO!K53=2, AD53/(COUNTRY_INFO!F53*0.5)*100, IF(COUNTRY_INFO!K53=3, AD53/COUNTRY_INFO!F53*100))),\"-\"),0)","v":0},{"$f":"IF(COUNTRY_INFO!K53=2,IF(COUNTRY_INFO!G53*0.2>MAX('T1'!N53,'T2'!L53),MAX('T1'!N53,'T2'!L53),COUNTRY_INFO!G53*0.2),IF(COUNTRY_INFO!K53=3,IF(COUNTRY_INFO!G53>MAX('T1'!N53,'T2'!L53),MAX('T1'!N53,'T2'!L53),COUNTRY_INFO!G53),0))","v":0},{"$f":"IF(AND(COUNTRY_INFO!K53>0,COUNTRY_INFO!L53<4),IF(Z53>0,IF(COUNTRY_INFO!K53=1, 0, IF(COUNTRY_INFO!K53=2, AF53/(COUNTRY_INFO!G53*0.2)*100, IF(COUNTRY_INFO!K53=3, AF53/COUNTRY_INFO!G53*100))),\"-\"),0)","v":0},0,{"$f":"IF(AND(COUNTRY_INFO!K53>0,COUNTRY_INFO!K53<4), IF(AC53/Z53*100<>0, IF(AH53/Z53*100>100,100,AH53/Z53*100), \"-\"),0)","v":"-"},null,{"$f":"IF(AND(D53<>0, D53<>\"Unknown\",D53<>\"Stopped\",D53<>\"Not required\"),D53/COUNTRY_INFO!D53, 0)","v":0},{"$f":"IF(AND(J53<>0,J53<>\"Unknown\",J53<>\"Stopped\",J53<>\"Not required\"),J53/COUNTRY_INFO!D53, 0)","v":1},{"$f":"IF(AND(P53<>0,P53<>\"Unknown\",P53<>\"Not required\"),P53/(COUNTRY_INFO!E53+COUNTRY_INFO!F53), 0)","v":1},{"$f":"IF(AND(Z53<>0,Z53<>\"Unknown\",Z53<>\"Not required\"),IF(COUNTRY_INFO!K53=1,1,IF(COUNTRY_INFO!K53=2,0.5*COUNTRY_INFO!F53/(0.5*COUNTRY_INFO!F53+0.2*COUNTRY_INFO!G53),IF(COUNTRY_INFO!K53=3,COUNTRY_INFO!F53/(COUNTRY_INFO!F53+COUNTRY_INFO!G53)))),0)","v":0.56959118052365643},{"$f":"IF(AND(Z53<>0,Z53<>\"Unknown\",Z53<>\"Not required\"),IF(COUNTRY_INFO!K53=1,0,IF(COUNTRY_INFO!K53=2,0.2*COUNTRY_INFO!G53/(0.5*COUNTRY_INFO!F53+0.2*COUNTRY_INFO!G53),IF(COUNTRY_INFO!K53=3,COUNTRY_INFO!G53/(COUNTRY_INFO!F53+COUNTRY_INFO!G53)))),0)","v":0.43040881947634357},{"$f":"MAX(COUNTRY_INFO!D53*AK53*PROFILE!$G$7,COUNTRY_INFO!D53*AL53*PROFILE!$G$7)","v":302.2349265127026},{"$f":"MAX(COUNTRY_INFO!D53*AK53*PROFILE!$G$8,COUNTRY_INFO!D53*AL53*PROFILE!$G$8,COUNTRY_INFO!D53*AM53*PROFILE!$G$8)","v":1422.2706050773588},{"$f":"MAX(COUNTRY_INFO!D53*AK53*PROFILE!$G$9,COUNTRY_INFO!D53*AL53*PROFILE!$G$9,COUNTRY_INFO!D53*AM53*PROFILE!$G$9,IF(AND(DISTRICT!Z53<>\"Unknown\",Z53<>\"Not required\"),COUNTRY_INFO!P53*DISTRICT!AN53,0))","v":2480.0855535437627},{"$f":"MAX(COUNTRY_INFO!D53*AK53*PROFILE!$G$10,COUNTRY_INFO!D53*AL53*PROFILE!$G$10,IF(AND(DISTRICT!Z53<>\"Unknown\",Z53<>\"Not required\"),COUNTRY_INFO!P53*DISTRICT!AO53,0))","v":4684.6078911604263},8889.1989762942503,0,{"$f":"MAX('MDA4'!R53,'T1'!L53,'T2'!J53,T3_R1!K53,T3_R2!K53)","v":0},{"$f":"MAX('MDA1'!K53,'MDA4'!S53,'MDA3'!I53,'MDA3'!L53,'T1'!M53,'T2'!K53,T3_R1!L53,T3_R2!L53)","v":0},{"$f":"MAX('MDA1'!L53,'MDA4'!T53,'MDA3'!J53,'MDA3'!M53,'T1'!N53,'T2'!L53,T3_R1!M53,T3_R2!M53)","v":0},0,{"$f":"MAX('MDA4'!R53,T53)","v":0},{"$f":"MAX('MDA1'!K53,'MDA4'!S53,'MDA3'!I53,'MDA3'!L53,V53,AD53)","v":0},{"$f":"MAX('MDA1'!L53,'MDA4'!T53,'MDA3'!J53,'MDA3'!M53,AF53)","v":0},0,0]
[{"$f":"IF(COUNTRY_INFO!A54=0,\" \",COUNTRY_INFO!A54)","v":"Angola"},{"$f":"IF(COUNTRY_INFO!B54=0,\" \",COUNTRY_INFO!B54)","v":"CUANZA NORTE"},{"$f":"IF(COUNTRY_INFO!C54=0,\" \",COUNTRY_INFO!C54)","v":"LUCALA"},{"$f":"COUNTRY_INFO!M54","v":26604.236746105573},null,null,{"$f":"MAX('MDA1'!M54,'MDA4'!U54)","v":0},{"$f":"IF(AND(COUNTRY_INFO!H54>0,COUNTRY_INFO!H54<4),IF(D54>MAX('MDA1'!M54,'MDA4'!U54),MAX('MDA1'!M54,'MDA4'!U54),D54),0)","v":0},{"$f":"IF(AND(COUNTRY_INFO!H54>0,COUNTRY_INFO!H54<4), IF(G54/D54*100<>0, IF(G54/D54*100>100,100,G54/D54*100), \"-\"),0)","v":"-"},{"$f":"COUNTRY_INFO!N54","v":"Unknown"},null,null,{"$f":"MAX('MDA1'!M54,MAX('MDA3'!I54,'MDA3'!L54)+MAX('MDA3'!J54,'MDA3'!M54))","v":0},{"$f":"IF(AND(COUNTRY_INFO!I54>0,COUNTRY_INFO!I54<4),IF(J54>MAX('MDA1'!M54,MAX('MDA3'!I54,'MDA3'!L54)+MAX('MDA3'!J54,'MDA3'!M54)),MAX('MDA1'!M54,MAX('MDA3'!I54,'MDA3'!L54)+MAX('MDA3'!J54,'MDA3'!M54)),J54),0)","v":0},{"$f":"IF(AND(COUNTRY_INFO!I54>0,COUNTRY_INFO!I54<4), IF(M54/J54*100<>0, IF(M54/J54*100>100,100,M54/J54*100), \"-\"),0)","v":0},{"$f":"COUNTRY_INFO!O54","v":11680},null,null,{"$f":"SUM(MAX('MDA4'!R54, 'T1'!L54, MAX(T3_R1!K54, T3_R2!K54)), MAX('MDA1'!K54, 'MDA4'!S54, 'T1'!M54, MAX(T3_R1!L54, T3_R2!L54)), MAX('MDA1'!L54, 'MDA4'!T54, 'T1'!N54, MAX(T3_R1!M54, T3_R2!M54)))","v":0},{"$f":"IF(AND(COUNTRY_INFO!J54>1,COUNTRY_INFO!J54<4),IF(COUNTRY_INFO!E54>MAX('MDA4'!R54,'T1'!L54,MAX(T3_R1!K54,T3_R2!K54)),MAX('MDA4'!R54,'T1'!L54,MAX(T3_R1!K54,T3_R2!K54)),COUNTRY_INFO!E54),0)","v":0},{"$f":"IF(AND(COUNTRY_INFO!J54>1,COUNTRY_INFO!J54<4), IF(T54/COUNTRY_INFO!E54*100<>0, IF(T54/COUNTRY_INFO!E54*100>100,100,T54/COUNTRY_INFO!E54*100), \"-\"),0)","v":"-"},{"$f":"IF(AND(COUNTRY_INFO!J54>1,COUNTRY_INFO!J54<4),IF(COUNTRY_INFO!F54>MAX('MDA1'!K54,'MDA4'!S54,'T1'!M54,MAX(T3_R1!L54,T3_R2!L54)),MAX('MDA1'!K54,'MDA4'!S54,'T1'!M54,MAX(T3_R1!L54,T3_R2!L54)),COUNTRY_INFO!F54),0)","v":0},{"$f":"IF(AND(COUNTRY_INFO!J54>1,COUNTRY_INFO!J54<4), IF(V54/COUNTRY_INFO!F54*100<>0, IF(V54/COUNTRY_INFO!F54*100>100,100,V54/COUNTRY_INFO!F54*100), \"-\"),0)","v":"-"},0,{"$f":"IF(AND(COUNTRY_INFO!J54>1,COUNTRY_INFO!J54<4), IF(S54/P54*100<>0, IF(X54/P54*100>100,100,X54/P54*100), \"-\"),0)","v":"-"},{"$f":"COUNTRY_INFO!P54","v":6515.5},null,null,{"$f":"MAX('T1'!L54,'T2'!J54)+MAX('T1'!M54,'T2'!K54)+MAX('T1'!N54,'T2'!L54)","v":0},{"$f":"IF(COUNTRY_INFO!K54=1,IF(COUNTRY_INFO!F54*0.33>MAX('T1'!M54,'T2'!K54),MAX('T1'!M54,'T2'!K54),COUNTRY_INFO!F54*0.33),IF(COUNTRY_INFO!K54=2,IF(COUNTRY_INFO!F54*0.5>MAX('T1'!M54,'T2'!K54),MAX('T1'!M54,'T2'!K54),COUNTRY_INFO!F54*0.5),IF(COUNTRY_INFO!K54=3,IF(COUNTRY_INFO!F54>MAX('T1'!M54,'T2'!K54),MAX('T1'!M54,'T2'!K54),COUNTRY_INFO!F54),0)))","v":0},{"$f":"IF(AND(COUNTRY_INFO!K54>0,COUNTRY_INFO!L54<4),IF(Z54>0,IF(COUNTRY_INFO!K54=1, AD54/(COUNTRY_INFO!F54*0.33)*100, IF(COUNTRY_INFO!K54=2, AD54/(COUNTRY_INFO!F54*0.5)*100, IF(COUNTRY_INFO!K54=3, AD54/COUNTRY_INFO!F54*100))),\"-\"),0)","v":0},{"$f":"IF(COUNTRY_INFO!K54=2,IF(COUNTRY_INFO!G54*0.2>MAX('T1'!N54,'T2'!L54),MAX('T1'!N54,'T2'!L54),COUNTRY_INFO!G54*0.2),IF(COUNTRY_INFO!K54=3,IF(COUNTRY_INFO!G54>MAX('T1'!N54,'T2'!L54),MAX('T1'!N54,'T2'!L54),COUNTRY_INFO!G54),0))","v":0},{"$f":"IF(AND(COUNTRY_INFO!K54>0,COUNTRY_INFO!L54<4),IF(Z54>0,IF(COUNTRY_INFO!K54=1, 0, IF(COUNTRY_INFO!K54=2, AF54/(COUNTRY_INFO!G54*0.2)*100, IF(COUNTRY_INFO!K54=3, AF54/COUNTRY_INFO!G54*100))),\"-\"),0)","v":0},0,{"$f":"IF(AND(COUNTRY_INFO!K54>0,COUNTRY_INFO!K54<4), IF(AC54/Z54*100<>0, IF(AH54/Z54*100>100,100,AH54/Z54*100), \"-\"),0)","v":"-"},null,{"$f":"IF(AND(D54<>0, D54<>\"Unknown\",D54<>\"Stopped\",D54<>\"Not required\"),D54/COUNTRY_INFO!D54, 0)","v":1},{"$f":"IF(AND(J54<>0,J54<>\"Unknown\",J54<>\"Stopped\",J54<>\"Not required\"),J54/COUNTRY_INFO!D54, 0)","v":0},{"$f":"IF(AND(P54<>0,P54<>\"Unknown\",P54<>\"Not required\"),P54/(COUNTRY_INFO!E54+COUNTRY_INFO!F54), 0)","v":1},{"$f":"IF(AND(Z54<>0,Z54<>\"Unknown\",Z54<>\"Not required\"),IF(COUNTRY_INFO!K54=1,1,IF(COUNTRY_INFO!K54=2,0.5*COUNTRY_INFO!F54/(0.5*COUNTRY_INFO!F54+0.2*COUNTRY_INFO!G54),IF(COUNTRY_INFO!K54=3,COUNTRY_INFO!F54/(COUNTRY_INFO!F54+COUNTRY_INFO!G54)))),0)","v":0.56964162382012129},{"$f":"IF(AND(Z54<>0,Z54<>\"Unknown\",Z54<>\"Not required\"),IF(COUNTRY_INFO!K54=1,0,IF(COUNTRY_INFO!K54=2,0.2*COUNTRY_INFO!G54/(0.5*COUNTRY_INFO!F54+0.2*COUNTRY_INFO!G54),IF(COUNTRY_INFO!K54=3,COUNTRY_INFO!G54/(COUNTRY_INFO!F54+COUNTRY_INFO!G54)))),0)","v":0.43035837617987877},{"$f":"MAX(COUNTRY_INFO!D54*AK54*PROFILE!$G$7,COUNTRY_INFO!D54*AL54*PROFILE!$G$7)","v":904.55051791829703},{"$f":"MAX(COUNTRY_INFO!D54*AK54*PROFILE!$G$8,COUNTRY_INFO!D54*AL54*PROFILE!$G$8,COUNTRY_INFO!D54*AM54*PROFILE!$G$8)","v":4256.6741947629398},{"$f":"MAX(COUNTRY_INFO!D54*AK54*PROFILE!$G$9,COUNTRY_INFO!D54*AL54*PROFILE!$G$9,COUNTRY_INFO!D54*AM54*PROFILE!$G$9,IF(AND(DISTRICT!Z54<>\"Unknown\",Z54<>\"Not required\"),COUNTRY_INFO!P54*DISTRICT!AN54,0))","v":7422.5791764851201},{"$f":"MAX(COUNTRY_INFO!D54*AK54*PROFILE!$G$10,COUNTRY_INFO!D54*AL54*PROFILE!$G$10,IF(AND(DISTRICT!Z54<>\"Unknown\",Z54<>\"Not required\"),COUNTRY_INFO!P54*DISTRICT!AO54,0))","v":14020.432856939215},26604.236746105569,0,{"$f":"MAX('MDA4'!R54,'T1'!L54,'T2'!J54,T3_R1!K54,T3_R2!K54)","v":0},{"$f":"MAX('MDA1'!K54,'MDA4'!S54,'MDA3'!I54,'MDA3'!L54,'T1'!M54,'T2'!K54,T3_R1!L54,T3_R2!L54)","v":0},{"$f":"MAX('MDA1'!L54,'MDA4'!T54,'MDA3'!J54,'MDA3'!M54,'T1'!N54,'T2'!L54,T3_R1!M54,T3_R2!M54)","v":0},0,{"$f":"MAX('MDA4'!R54,T54)","v":0},{"$f":"MAX('MDA1'!K54,'MDA4'!S54,'MDA3'!I54,'MDA3'!L54,V54,AD54)","v":0},{"$f":"MAX('MDA1'!L54,'MDA4'!T54,'MDA3'!J54,'MDA3'!M54,AF54)","v":0},0,0]
[{"$f":"IF(COUNTRY_INFO!A55=0,\" \",COUNTRY_INFO!A55)","v":"Angola"},{"$f":"IF(COUNTRY_INFO!B55=0,\" \",COUNTRY_INFO!B55)","v":"CUANZA NORTE"},{"$f":"IF(COUNTRY_INFO!C55=0,\" \",COUNTRY_INFO!C55)","v":"QUICULUNGO"},{"$f":"COUNTRY_INFO!M55","v":11418.912940508928},null,null,{"$f":"MAX('MDA1'!M55,'MDA4'!U55)","v":0},{"$f":"IF(AND(COUNTRY_INFO!H55>0,COUNTRY_INFO!H55<4),IF(D55>MAX('MDA1'!M55,'MDA4'!U55),MAX('MDA1'!M55,'MDA4'!U55),D55),0)","v":0},{"$f":"IF(AND(COUNTRY_INFO!H55>0,COUNTRY_INFO!H55<4), IF(G55/D55*100<>0, IF(G55/D55*100>100,100,G55/D55*100), \"-\"),0)","v":"-"},{"$f":"COUNTRY_INFO!N55","v":"Unknown"},null,null,{"$f":"MAX('MDA1'!M55,MAX('MDA3'!I55,'MDA3'!L55)+MAX('MDA3'!J55,'MDA3'!M55))","v":0},{"$f":"IF(AND(COUNTRY_INFO!I55>0,COUNTRY_INFO!I55<4),IF(J55>MAX('MDA1'!M55,MAX('MDA3'!I55,'MDA3'!L55)+MAX('MDA3'!J55,'MDA3'!M55)),MAX('MDA1'!M55,MAX('MDA3'!I55,'MDA3'!L55)+MAX('MDA3'!J55,'MDA3'!M55)),J55),0)","v":0},{"$f":"IF(AND(COUNTRY_INFO!I55>0,COUNTRY_INFO!I55<4), IF(M55/J55*100<>0, IF(M55/J55*100>100,100,M55/J55*100), \"-\"),0)","v":0},{"$f":"COUNTRY_INFO!O55","v":5013},null,null,{"$f":"SUM(MAX('MDA4'!R55, 'T1'!L55, MAX(T3_R1!K55, T3_R2!K55)), MAX('MDA1'!K55, 'MDA4'!S55, 'T1'!M55, MAX(T3_R1!L55, T3_R2!L55)), MAX('MDA1'!L55, 'MDA4'!T55, 'T1'!N55, MAX(T3_R1!M55, T3_R2!M55)))","v":0},{"$f":"IF(AND(COUNTRY_INFO!J55>1,COUNTRY_INFO!J55<4),IF(COUNTRY_INFO!E55>MAX('MDA4'!R55,'T1'!L55,MAX(T3_R1!K55,T3_R2!K55)),MAX('MDA4'!R55,'T1'!L55,MAX(T3_R1!K55,T3_R2!K55)),COUNTRY_INFO!E55),0)","v":0},{"$f":"IF(AND(COUNTRY_INFO!J55>1,COUNTRY_INFO!J55<4), IF(T55/COUNTRY_INFO!E55*100<>0, IF(T55/COUNTRY_INFO!E55*100>100,100,T55/COUNTRY_INFO!E55*100), \"-\"),0)","v":"-"},{"$f":"IF(AND(COUNTRY_INFO!J55>1,COUNTRY_INFO!J55<4),IF(COUNTRY_INFO!F55>MAX('MDA1'!K55,'MDA4'!S55,'T1'!M55,MAX(T3_R1!L55,T3_R2!L55)),MAX('MDA1'!K55,'MDA4'!S55,'T1'!M55,MAX(T3_R1!L55,T3_R2!L55)),COUNTRY_INFO!F55),0)","v":0},{"$f":"IF(AND(COUNTRY_INFO!J55>1,COUNTRY_INFO!J55<4), IF(V55/COUNTRY_INFO!F55*100<>0, IF(V55/COUNTRY_INFO!F55*100>100,100,V55/COUNTRY_INFO!F55*100), \"-\"),0)","v":"-"},0,{"$f":"IF(AND(COUNTRY_INFO!J55>1,COUNTRY_INFO!J55<4), IF(S55/P55*100<>0, IF(X55/P55*100>100,100,X55/P55*100), \"-\"),0)","v":"-"},{"$f":"COUNTRY_INFO!P55","v":2796.6000000000004},null,null,{"$f":"MAX('T1'!L55,'T2'!J55)+MAX('T1'!M55,'T2'!K55)+MAX('T1'!N55,'T2'!L55)","v":0},{"$f":"IF(COUNTRY_INFO!K55=1,IF(COUNTRY_INFO!F55*0.33>MAX('T1'!M55,'T2'!K55),MAX('T1'!M55,'T2'!K55),COUNTRY_INFO!F55*0.33),IF(COUNTRY_INFO!K55=2,IF(COUNTRY_INFO!F55*0.5>MAX('T1'!M55,'T2'!K55),MAX('T1'!M55,'T2'!K55),COUNTRY_INFO!F55*0.5),IF(COUNTRY_INFO!K55=3,IF(COUNTRY_INFO!F55>MAX('T1'!M55,'T2'!K55),MAX('T1'!M55,'T2'!K55),COUNTRY_INFO!F55),0)))","v":0},{"$f":"IF(AND(COUNTRY_INFO!K55>0,COUNTRY_INFO!L55<4),IF(Z55>0,IF(COUNTRY_INFO!K55=1, AD55/(COUNTRY_INFO!F55*0.33)*100, IF(COUNTRY_INFO!K55=2, AD55/(COUNTRY_INFO!F55*0.5)*100, IF(COUNTRY_INFO!K55=3, AD55/COUNTRY_INFO!F55*100))),\"-\"),0)","v":0},{"$f":"IF(COUNTRY_INFO!K55=2,IF(COUNTRY_INFO!G55*0.2>MAX('T1'!N55,'T2'!L55),MAX('T1'!N55,'T2'!L55),COUNTRY_INFO!G55*0.2),IF(COUNTRY_INFO!K55=3,IF(COUNTRY_INFO!G55>MAX('T1'!N55,'T2'!L55),MAX('T1'!N55,'T2'!L55),COUNTRY_INFO!G55),0))","v":0},{"$f":"IF(AND(COUNTRY_INFO!K55>0,COUNTRY_INFO!L55<4),IF(Z55>0,IF(COUNTRY_INFO!K55=1, 0, IF(COUNTRY_INFO!K55=2, AF55/(COUNTRY_INFO!G55*0.2)*100, IF(COUNTRY_INFO!K55=3, AF55/COUNTRY_INFO!G55*100))),\"-\"),0)","v":0},0,{"$f":"IF(AND(COUNTRY_INFO!K55>0,COUNTRY_INFO!K55<4), IF(AC55/Z55*100<>0, IF(AH55/Z55*100>100,100,AH55/Z55*100), \"-\"),0)","v":"-"},null,{"$f":"IF(AND(D55<>0, D55<>\"Unknown\",D55<>\"Stopped\",D55<>\"Not required\"),D55/COUNTRY_INFO!D55, 0)","v":1},{"$f":"IF(AND(J55<>0,J55<>\"Unknown\",J55<>\"Stopped\",J55<>\"Not required\"),J55/COUNTRY_INFO!D55, 0)","v":0},{"$f":"IF(AND(P55<>0,P55<>\"Unknown\",P55<>\"Not required\"),P55/(COUNTRY_INFO!E55+COUNTRY_INFO!F55), 0)","v":1},{"$f":"IF(AND(Z55<>0,Z55<>\"Unknown\",Z55<>\"Not required\"),IF(COUNTRY_INFO!K55=1,1,IF(COUNTRY_INFO!K55=2,0.5*COUNTRY_INFO!F55/(0.5*COUNTRY_INFO!F55+0.2*COUNTRY_INFO!G55),IF(COUNTRY_INFO!K55=3,COUNTRY_INFO!F55/(COUNTRY_INFO!F55+COUNTRY_INFO!G55)))),0)","v":0.56962025316455689},{"$f":"IF(AND(Z55<>0,Z55<>\"Unknown\",Z55<>\"Not required\"),IF(COUNTRY_INFO!K55=1,0,IF(COUNTRY_INFO!K55=2,0.2*COUNTRY_INFO!G55/(0.5*COUNTRY_INFO!F55+0.2*COUNTRY_INFO!G55),IF(COUNTRY_INFO!K55=3,COUNTRY_INFO!G55/(COUNTRY_INFO!F55+COUNTRY_INFO!G55)))),0)","v":0.43037974683544306},{"$f":"MAX(COUNTRY_INFO!D55*AK55*PROFILE!$G$7,COUNTRY_INFO!D55*AL55*PROFILE!$G$7)","v":388.2458163703302},{"$f":"MAX(COUNTRY_INFO!D55*AK55*PROFILE!$G$8,COUNTRY_INFO!D55*AL55*PROFILE!$G$8,COUNTRY_INFO!D55*AM55*PROFILE!$G$8)","v":1827.0244889932492},{"$f":"MAX(COUNTRY_INFO!D55*AK55*PROFILE!$G$9,COUNTRY_INFO!D55*AL55*PROFILE!$G$9,COUNTRY_INFO!D55*AM55*PROFILE!$G$9,IF(AND(DISTRICT!Z55<>\"Unknown\",Z55<>\"Not required\"),COUNTRY_INFO!P55*DISTRICT!AN55,0))","v":3185.8754761203663},{"$f":"MAX(COUNTRY_INFO!D55*AK55*PROFILE!$G$10,COUNTRY_INFO!D55*AL55*PROFILE!$G$10,IF(AND(DISTRICT!Z55<>\"Unknown\",Z55<>\"Not required\"),COUNTRY_INFO!P55*DISTRICT!AO55,0))","v":6017.767159024982},11418.912940508928,0,{"$f":"MAX('MDA4'!R55,'T1'!L55,'T2'!J55,T3_R1!K55,T3_R2!K55)","v":0},{"$f":"MAX('MDA1'!K55,'MDA4'!S55,'MDA3'!I55,'MDA3'!L55,'T1'!M55,'T2'!K55,T3_R1!L55,T3_R2!L55)","v":0},{"$f":"MAX('MDA1'!L55,'MDA4'!T55,'MDA3'!J55,'MDA3'!M55,'T1'!N55,'T2'!L55,T3_R1!M55,T3_R2!M55)","v":0},0,{"$f":"MAX('MDA4'!R55,T55)","v":0},{"$f":"MAX('MDA1'!K55,'MDA4'!S55,'MDA3'!I55,'MDA3'!L55,V55,AD55)","v":0},{"$f":"MAX('MDA1'!L55,'MDA4'!T55,'MDA3'!J55,'MDA3'!M55,AF55)","v":0},0,0]
[{"$f":"IF(COUNTRY_INFO!A56=0,\" \",COUNTRY_INFO!A56)","v":"Angola"},{"$f":"IF(COUNTRY_INFO!B56=0,\" \",COUNTRY_INFO!B56)","v":"CUANZA NORTE"},{"$f":"IF(COUNTRY_INFO!C56=0,\" \",COUNTRY_INFO!C56)","v":"SAMBA CAJU"},{"$f":"COUNTRY_INFO!M56","v":"Unknown"},null,null,{"$f":"MAX('MDA1'!M56,'MDA4'!U56)","v":0},{"$f":"IF(AND(COUNTRY_INFO!H56>0,COUNTRY_INFO!H56<4),IF(D56>MAX('MDA1'!M56,'MDA4'!U56),MAX('MDA1'!M56,'MDA4'!U56),D56),0)","v":0},{"$f":"IF(AND(COUNTRY_INFO!H56>0,COUNTRY_INFO!H56<4), IF(G56/D56*100<>0, IF(G56/D56*100>100,100,G56/D56*100), \"-\"),0)","v":0},{"$f":"COUNTRY_INFO!N56","v":"Unknown"},null,null,{"$f":"MAX('MDA1'!M56,MAX('MDA3'!I56,'MDA3'!L56)+MAX('MDA3'!J56,'MDA3'!M56))","v":0},{"$f":"IF(AND(COUNTRY_INFO!I56>0,COUNTRY_INFO!I56<4),IF(J56>MAX('MDA1'!M56,MAX('MDA3'!I56,'MDA3'!L56)+MAX('MDA3'!J56,'MDA3'!M56)),MAX('MDA1'!M56,MAX('MDA3'!I56,'MDA3'!L56)+MAX('MDA3'!J56,'MDA3'!M56)),J56),0)","v":0},{"$f":"IF(AND(COUNTRY_INFO!I56>0,COUNTRY_INFO!I56<4), IF(M56/J56*100<>0, IF(M56/J56*100>100,100,M56/J56*100), \"-\"),0)","v":0},{"$f":"COUNTRY_INFO!O56","v":11290},null,null,{"$f":"SUM(MAX('MDA4'!R56, 'T1'!L56, MAX(T3_R1!K56, T3_R2!K56)), MAX('MDA1'!K56, 'MDA4'!S56, 'T1'!M56, MAX(T3_R1!L56, T3_R2!L56)), MAX('MDA1'!L56, 'MDA4'!T56, 'T1'!N56, MAX(T3_R1!M56, T3_R2!M56)))","v":0},{"$f":"IF(AND(COUNTRY_INFO!J56>1,COUNTRY_INFO!J56<4),IF(COUNTRY_INFO!E56>MAX('MDA4'!R56,'T1'!L56,MAX(T3_R1!K56,T3_R2!K56)),MAX('MDA4'!R56,'T1'!L56,MAX(T3_R1!K56,T3_R2!K56)),COUNTRY_INFO!E56),0)","v":0},{"$f":"IF(AND(COUNTRY_INFO!J56>1,COUNTRY_INFO!J56<4), IF(T56/COUNTRY_INFO!E56*100<>0, IF(T56/COUNTRY_INFO!E56*100>100,100,T56/COUNTRY_INFO!E56*100), \"-\"),0)","v":"-"},{"$f":"IF(AND(COUNTRY_INFO!J56>1,COUNTRY_INFO!J56<4),IF(COUNTRY_INFO!F56>MAX('MDA1'!K56,'MDA4'!S56,'T1'!M56,MAX(T3_R1!L56,T3_R2!L56)),MAX('MDA1'!K56,'MDA4'!S56,'T1'!M56,MAX(T3_R1!L56,T3_R2!L56)),COUNTRY_INFO!F56),0)","v":0},{"$f":"IF(AND(COUNTRY_INFO!J56>1,COUNTRY_INFO!J56<4), IF(V56/COUNTRY_INFO!F56*100<>0, IF(V56/COUNTRY_INFO!F56*100>100,100,V56/COUNTRY_INFO!F56*100), \"-\"),0)","v":"-"},0,{"$f":"IF(AND(COUNTRY_INFO!J56>1,COUNTRY_INFO!J56<4), IF(S56/P56*100<>0, IF(X56/P56*100>100,100,X56/P56*100), \"-\"),0)","v":"-"},{"$f":"COUNTRY_INFO!P56","v":6298.1},null,null,{"$f":"MAX('T1'!L56,'T2'!J56)+MAX('T1'!M56,'T2'!K56)+MAX('T1'!N56,'T2'!L56)","v":0},{"$f":"IF(COUNTRY_INFO!K56=1,IF(COUNTRY_INFO!F56*0.33>MAX('T1'!M56,'T2'!K56),MAX('T1'!M56,'T2'!K56),COUNTRY_INFO!F56*0.33),IF(COUNTRY_INFO!K56=2,IF(COUNTRY_INFO!F56*0.5>MAX('T1'!M56,'T2'!K56),MAX('T1'!M56,'T2'!K56),COUNTRY_INFO!F56*0.5),IF(COUNTRY_INFO!K56=3,IF(COUNTRY_INFO!F56>MAX('T1'!M56,'T2'!K56),MAX('T1'!M56,'T2'!K56),COUNTRY_INFO!F56),0)))","v":0},{"$f":"IF(AND(COUNTRY_INFO!K56>0,COUNTRY_INFO!L56<4),IF(Z56>0,IF(COUNTRY_INFO!K56=1, AD56/(COUNTRY_INFO!F56*0.33)*100, IF(COUNTRY_INFO!K56=2, AD56/(COUNTRY_INFO!F56*0.5)*100, IF(COUNTRY_INFO!K56=3, AD56/COUNTRY_INFO!F56*100))),\"-\"),0)","v":0},{"$f":"IF(COUNTRY_INFO!K56=2,IF(COUNTRY_INFO!G56*0.2>MAX('T1'!N56,'T2'!L56),MAX('T1'!N56,'T2'!L56),COUNTRY_INFO!G56*0.2),IF(COUNTRY_INFO!K56=3,IF(COUNTRY_INFO!G56>MAX('T1'!N56,'T2'!L56),MAX('T1'!N56,'T2'!L56),COUNTRY_INFO!G56),0))","v":0},{"$f":"IF(AND(COUNTRY_INFO!K56>0,COUNTRY_INFO!L56<4),IF(Z56>0,IF(COUNTRY_INFO!K56=1, 0, IF(COUNTRY_INFO!K56=2, AF56/(COUNTRY_INFO!G56*0.2)*100, IF(COUNTRY_INFO!K56=3, AF56/COUNTRY_INFO!G56*100))),\"-\"),0)","v":0},0,{"$f":"IF(AND(COUNTRY_INFO!K56>0,COUNTRY_INFO!K56<4), IF(AC56/Z56*100<>0, IF(AH56/Z56*100>100,100,AH56/Z56*100), \"-\"),0)","v":"-"},null,{"$f":"IF(AND(D56<>0, D56<>\"Unknown\",D56<>\"Stopped\",D56<>\"Not required\"),D56/COUNTRY_INFO!D56, 0)","v":0},{"$f":"IF(AND(J56<>0,J56<>\"Unknown\",J56<>\"Stopped\",J56<>\"Not required\"),J56/COUNTRY_INFO!D56, 0)","v":0},{"$f":"IF(AND(P56<>0,P56<>\"Unknown\",P56<>\"Not required\"),P56/(COUNTRY_INFO!E56+COUNTRY_INFO!F56), 0)","v":1},{"$f":"IF(AND(Z56<>0,Z56<>\"Unknown\",Z56<>\"Not required\"),IF(COUNTRY_INFO!K56=1,1,IF(COUNTRY_INFO!K56=2,0.5*COUNTRY_INFO!F56/(0.5*COUNTRY_INFO!F56+0.2*COUNTRY_INFO!G56),IF(COUNTRY_INFO!K56=3,COUNTRY_INFO!F56/(COUNTRY_INFO!F56+COUNTRY_INFO!G56)))),0)","v":0.56961623346723611},{"$f":"IF(AND(Z56<>0,Z56<>\"Unknown\",Z56<>\"Not required\"),IF(COUNTRY_INFO!K56=1,0,IF(COUNTRY_INFO!K56=2,0.2*COUNTRY_INFO!G56/(0.5*COUNTRY_INFO!F56+0.2*COUNTRY_INFO!G56),IF(COUNTRY_INFO!K56=3,COUNTRY_INFO!G56/(COUNTRY_INFO!F56+COUNTRY_INFO!G56)))),0)","v":0.43038376653276389},{"$f":"MAX(COUNTRY_INFO!D56*AK56*PROFILE!$G$7,COUNTRY_INFO!D56*AL56*PROFILE!$G$7)","v":0},{"$f":"MAX(COUNTRY_INFO!D56*AK56*PROFILE!$G$8,COUNTRY_INFO!D56*AL56*PROFILE!$G$8,COUNTRY_INFO!D56*AM56*PROFILE!$G$8)","v":4114.7475081950297},{"$f":"MAX(COUNTRY_INFO!D56*AK56*PROFILE!$G$9,COUNTRY_INFO!D56*AL56*PROFILE!$G$9,COUNTRY_INFO!D56*AM56*PROFILE!$G$9,IF(AND(DISTRICT!Z56<>\"Unknown\",Z56<>\"Not required\"),COUNTRY_INFO!P56*DISTRICT!AN56,0))","v":7175.0943984387777},{"$f":"MAX(COUNTRY_INFO!D56*AK56*PROFILE!$G$10,COUNTRY_INFO!D56*AL56*PROFILE!$G$10,IF(AND(DISTRICT!Z56<>\"Unknown\",Z56<>\"Not required\"),COUNTRY_INFO!P56*DISTRICT!AO56,0))","v":2710.6000000000004},14000.441906633807,0,{"$f":"MAX('MDA4'!R56,'T1'!L56,'T2'!J56,T3_R1!K56,T3_R2!K56)","v":0},{"$f":"MAX('MDA1'!K56,'MDA4'!S56,'MDA3'!I56,'MDA3'!L56,'T1'!M56,'T2'!K56,T3_R1!L56,T3_R2!L56)","v":0},{"$f":"MAX('MDA1'!L56,'MDA4'!T56,'MDA3'!J56,'MDA3'!M56,'T1'!N56,'T2'!L56,T3_R1!M56,T3_R2!M56)","v":0},0,{"$f":"MAX('MDA4'!R56,T56)","v":0},{"$f":"MAX('MDA1'!K56,'MDA4'!S56,'MDA3'!I56,'MDA3'!L56,V56,AD56)","v":0},{"$f":"MAX('MDA1'!L56,'MDA4'!T56,'MDA3'!J56,'MDA3'!M56,AF56)","v":0},0,0]
[{"$f":"IF(COUNTRY_INFO!A57=0,\" \",COUNTRY_INFO!A57)","v":"Angola"},{"$f":"IF(COUNTRY_INFO!B57=0,\" \",COUNTRY_INFO!B57)","v":"CUANZA SUL"},{"$f":"IF(COUNTRY_INFO!C57=0,\" \",COUNTRY_INFO!C57)","v":"AMBOIM"},{"$f":"COUNTRY_INFO!M57","v":0},null,null,{"$f":"MAX('MDA1'!M57,'MDA4'!U57)","v":0},{"$f":"IF(AND(COUNTRY_INFO!H57>0,COUNTRY_INFO!H57<4),IF(D57>MAX('MDA1'!M57,'MDA4'!U57),MAX('MDA1'!M57,'MDA4'!U57),D57),0)","v":0},{"$f":"IF(AND(COUNTRY_INFO!H57>0,COUNTRY_INFO!H57<4), IF(G57/D57*100<>0, IF(G57/D57*100>100,100,G57/D57*100), \"-\"),0)","v":0},{"$f":"COUNTRY_INFO!N57","v":"Unknown"},null,null,{"$f":"MAX('MDA1'!M57,MAX('MDA3'!I57,'MDA3'!L57)+MAX('MDA3'!J57,'MDA3'!M57))","v":0},{"$f":"IF(AND(COUNTRY_INFO!I57>0,COUNTRY_INFO!I57<4),IF(J57>MAX('MDA1'!M57,MAX('MDA3'!I57,'MDA3'!L57)+MAX('MDA3'!J57,'MDA3'!M57)),MAX('MDA1'!M57,MAX('MDA3'!I57,'MDA3'!L57)+MAX('MDA3'!J57,'MDA3'!M57)),J57),0)","v":0},{"$f":"IF(AND(COUNTRY_INFO!I57>0,COUNTRY_INFO!I57<4), IF(M57/J57*100<>0, IF(M57/J57*100>100,100,M57/J57*100), \"-\"),0)","v":0},{"$f":"COUNTRY_INFO!O57","v":124882},null,null,{"$f":"SUM(MAX('MDA4'!R57, 'T1'!L57, MAX(T3_R1!K57, T3_R2!K57)), MAX('MDA1'!K57, 'MDA4'!S57, 'T1'!M57, MAX(T3_R1!L57, T3_R2!L57)), MAX('MDA1'!L57, 'MDA4'!T57, 'T1'!N57, MAX(T3_R1!M57, T3_R2!M57)))","v":50507},{"$f":"IF(AND(COUNTRY_INFO!J57>1,COUNTRY_INFO!J57<4),IF(COUNTRY_INFO!E57>MAX('MDA4'!R57,'T1'!L57,MAX(T3_R1!K57,T3_R2!K57)),MAX('MDA4'!R57,'T1'!L57,MAX(T3_R1!K57,T3_R2!K57)),COUNTRY_INFO!E57),0)","v":0},{"$f":"IF(AND(COUNTRY_INFO!J57>1,COUNTRY_INFO!J57<4), IF(T57/COUNTRY_INFO!E57*100<>0, IF(T57/COUNTRY_INFO!E57*100>100,100,T57/COUNTRY_INFO!E57*100), \"-\"),0)","v":"-"},{"$f":"IF(AND(COUNTRY_INFO!J57>1,COUNTRY_INFO!J57<4),IF(COUNTRY_INFO!F57>MAX('MDA1'!K57,'MDA4'!S57,'T1'!M57,MAX(T3_R1!L57,T3_R2!L57)),MAX('MDA1'!K57,'MDA4'!S57,'T1'!M57,MAX(T3_R1!L57,T3_R2!L57)),COUNTRY_INFO!F57),0)","v":50507},{"$f":"IF(AND(COUNTRY_INFO!J57>1,COUNTRY_INFO!J57<4), IF(V57/COUNTRY_INFO!F57*100<>0, IF(V57/COUNTRY_INFO!F57*100>100,100,V57/COUNTRY_INFO!F57*100), \"-\"),0)","v":63.637279977824534},50507,{"$f":"IF(AND(COUNTRY_INFO!J57>1,COUNTRY_INFO!J57<4), IF(S57/P57*100<>0, IF(X57/P57*100>100,100,X57/P57*100), \"-\"),0)","v":40.443778927307378},{"$f":"COUNTRY_INFO!P57","v":69666.5},null,null,{"$f":"MAX('T1'!L57,'T2'!J57)+MAX('T1'!M57,'T2'!K57)+MAX('T1'!N57,'T2'!L57)","v":0},{"$f":"IF(COUNTRY_INFO!K57=1,IF(COUNTRY_INFO!F57*0.33>MAX('T1'!M57,'T2'!K57),MAX('T1'!M57,'T2'!K57),COUNTRY_INFO!F57*0.33),IF(COUNTRY_INFO!K57=2,IF(COUNTRY_INFO!F57*0.5>MAX('T1'!M57,'T2'!K57),MAX('T1'!M57,'T2'!K57),COUNTRY_INFO!F57*0.5),IF(COUNTRY_INFO!K57=3,IF(COUNTRY_INFO!F57>MAX('T1'!M57,'T2'!K57),MAX('T1'!M57,'T2'!K57),COUNTRY_INFO!F57),0)))","v":0},{"$f":"IF(AND(COUNTRY_INFO!K57>0,COUNTRY_INFO!L57<4),IF(Z57>0,IF(COUNTRY_INFO!K57=1, AD57/(COUNTRY_INFO!F57*0.33)*100, IF(COUNTRY_INFO!K57=2, AD57/(COUNTRY_INFO!F57*0.5)*100, IF(COUNTRY_INFO!K57=3, AD57/COUNTRY_INFO!F57*100))),\"-\"),0)","v":0},{"$f":"IF(COUNTRY_INFO!K57=2,IF(COUNTRY_INFO!G57*0.2>MAX('T1'!N57,'T2'!L57),MAX('T1'!N57,'T2'!L57),COUNTRY_INFO!G57*0.2),IF(COUNTRY_INFO!K57=3,IF(COUNTRY_INFO!G57>MAX('T1'!N57,'T2'!L57),MAX('T1'!N57,'T2'!L57),COUNTRY_INFO!G57),0))","v":0},{"$f":"IF(AND(COUNTRY_INFO!K57>0,COUNTRY_INFO!L57<4),IF(Z57>0,IF(COUNTRY_INFO!K57=1, 0, IF(COUNTRY_INFO!K57=2, AF57/(COUNTRY_INFO!G57*0.2)*100, IF(COUNTRY_INFO!K57=3, AF57/COUNTRY_INFO!G57*100))),\"-\"),0)","v":0},0,{"$f":"IF(AND(COUNTRY_INFO!K57>0,COUNTRY_INFO!K57<4), IF(AC57/Z57*100<>0, IF(AH57/Z57*100>100,100,AH57/Z57*100), \"-\"),0)","v":"-"},null,{"$f":"IF(AND(D57<>0, D57<>\"Unknown\",D57<>\"Stopped\",D57<>\"Not required\"),D57/COUNTRY_INFO!D57, 0)","v":0},{"$f":"IF(AND(J57<>0,J57<>\"Unknown\",J57<>\"Stopped\",J57<>\"Not required\"),J57/COUNTRY_INFO!D57, 0)","v":0},{"$f":"IF(AND(P57<>0,P57<>\"Unknown\",P57<>\"Not required\"),P57/(COUNTRY_INFO!E57+COUNTRY_INFO!F57), 0)","v":1},{"$f":"IF(AND(Z57<>0,Z57<>\"Unknown\",Z57<>\"Not required\"),IF(COUNTRY_INFO!K57=1,1,IF(COUNTRY_INFO!K57=2,0.5*COUNTRY_INFO!F57/(0.5*COUNTRY_INFO!F57+0.2*COUNTRY_INFO!G57),IF(COUNTRY_INFO!K57=3,COUNTRY_INFO!F57/(COUNTRY_INFO!F57+COUNTRY_INFO!G57)))),0)","v":0.56962097995449745},{"$f":"IF(AND(Z57<>0,Z57<>\"Unknown\",Z57<>\"Not required\"),IF(COUNTRY_INFO!K57=1,0,IF(COUNTRY_INFO!K57=2,0.2*COUNTRY_INFO!G57/(0.5*COUNTRY_INFO!F57+0.2*COUNTRY_INFO!G57),IF(COUNTRY_INFO!K57=3,COUNTRY_INFO!G57/(COUNTRY_INFO!F57+COUNTRY_INFO!G57)))),0)","v":0.43037902004550249},{"$f":"MAX(COUNTRY_INFO!D57*AK57*PROFILE!$G$7,COUNTRY_INFO!D57*AL57*PROFILE!$G$7)","v":0},{"$f":"MAX(COUNTRY_INFO!D57*AK57*PROFILE!$G$8,COUNTRY_INFO!D57*AL57*PROFILE!$G$8,COUNTRY_INFO!D57*AM57*PROFILE!$G$8)","v":45514.912167024173},{"$f":"MAX(COUNTRY_INFO!D57*AK57*PROFILE!$G$9,COUNTRY_INFO!D57*AL57*PROFILE!$G$9,COUNTRY_INFO!D57*AM57*PROFILE!$G$9,IF(AND(DISTRICT!Z57<>\"Unknown\",Z57<>\"Not required\"),COUNTRY_INFO!P57*DISTRICT!AN57,0))","v":79366.666043210644},{"$f":"MAX(COUNTRY_INFO!D57*AK57*PROFILE!$G$10,COUNTRY_INFO!D57*AL57*PROFILE!$G$10,IF(AND(DISTRICT!Z57<>\"Unknown\",Z57<>\"Not required\"),COUNTRY_INFO!P57*DISTRICT!AO57,0))","v":29983},154864.57821023482,0,{"$f":"MAX('MDA4'!R57,'T1'!L57,'T2'!J57,T3_R1!K57,T3_R2!K57)","v":0},{"$f":"MAX('MDA1'!K57,'MDA4'!S57,'MDA3'!I57,'MDA3'!L57,'T1'!M57,'T2'!K57,T3_R1!L57,T3_R2!L57)","v":50507},{"$f":"MAX('MDA1'!L57,'MDA4'!T57,'MDA3'!J57,'MDA3'!M57,'T1'!N57,'T2'!L57,T3_R1!M57,T3_R2!M57)","v":0},50507,{"$f":"MAX('MDA4'!R57,T57)","v":0},{"$f":"MAX('MDA1'!K57,'MDA4'!S57,'MDA3'!I57,'MDA3'!L57,V57,AD57)","v":50507},{"$f":"MAX('MDA1'!L57,'MDA4'!T57,'MDA3'!J57,'MDA3'!M57,AF57)","v":0},50507,32.613655481264892]
[{"$f":"IF(COUNTRY_INFO!A58=0,\" \",COUNTRY_INFO!A58)","v":"Angola"},{"$f":"IF(COUNTRY_INFO!B58=0,\" \",COUNTRY_INFO!B58)","v":"CUANZA SUL"},{"$f":"IF(COUNTRY_INFO!C58=0,\" \",COUNTRY_INFO!C58)","v":"CASSONGUE"},{"$f":"COUNTRY_INFO!M58","v":"Unknown"},null,null,{"$f":"MAX('MDA1'!M58,'MDA4'!U58)","v":0},{"$f":"IF(AND(COUNTRY_INFO!H58>0,COUNTRY_INFO!H58<4),IF(D58>MAX('MDA1'!M58,'MDA4'!U58),MAX('MDA1'!M58,'MDA4'!U58),D58),0)","v":0},{"$f":"IF(AND(COUNTRY_INFO!H58>0,COUNTRY_INFO!H58<4), IF(G58/D58*100<>0, IF(G58/D58*100>100,100,G58/D58*100), \"-\"),0)","v":0},{"$f":"COUNTRY_INFO!N58","v":"Unknown"},null,null,{"$f":"MAX('MDA1'!M58,MAX('MDA3'!I58,'MDA3'!L58)+MAX('MDA3'!J58,'MDA3'!M58))","v":0},{"$f":"IF(AND(COUNTRY_INFO!I58>0,COUNTRY_INFO!I58<4),IF(J58>MAX('MDA1'!M58,MAX('MDA3'!I58,'MDA3'!L58)+MAX('MDA3'!J58,'MDA3'!M58)),MAX('MDA1'!M58,MAX('MDA3'!I58,'MDA3'!L58)+MAX('MDA3'!J58,'MDA3'!M58)),J58),0)","v":0},{"$f":"IF(AND(COUNTRY_INFO!I58>0,COUNTRY_INFO!I58<4), IF(M58/J58*100<>0, IF(M58/J58*100>100,100,M58/J58*100), \"-\"),0)","v":0},{"$f":"COUNTRY_INFO!O58","v":78252},null,null,{"$f":"SUM(MAX('MDA4'!R58, 'T1'!L58, MAX(T3_R1!K58, T3_R2!K58)), MAX('MDA1'!K58, 'MDA4'!S58, 'T1'!M58, MAX(T3_R1!L58, T3_R2!L58)), MAX('MDA1'!L58, 'MDA4'!T58, 'T1'!N58, MAX(T3_R1!M58, T3_R2!M58)))","v":42285},{"$f":"IF(AND(COUNTRY_INFO!J58>1,COUNTRY_INFO!J58<4),IF(COUNTRY_INFO!E58>MAX('MDA4'!R58,'T1'!L58,MAX(T3_R1!K58,T3_R2!K58)),MAX('MDA4'!R58,'T1'!L58,MAX(T3_R1!K58,T3_R2!K58)),COUNTRY_INFO!E58),0)","v":0},{"$f":"IF(AND(COUNTRY_INFO!J58>1,COUNTRY_INFO!J58<4), IF(T58/COUNTRY_INFO!E58*100<>0, IF(T58/COUNTRY_INFO!E58*100>100,100,T58/COUNTRY_INFO!E58*100), \"-\"),0)","v":"-"},{"$f":"IF(AND(COUNTRY_INFO!J58>1,COUNTRY_INFO!J58<4),IF(COUNTRY_INFO!F58>MAX('MDA1'!K58,'MDA4'!S58,'T1'!M58,MAX(T3_R1!L58,T3_R2!L58)),MAX('MDA1'!K58,'MDA4'!S58,'T1'!M58,MAX(T3_R1!L58,T3_R2!L58)),COUNTRY_INFO!F58),0)","v":42285},{"$f":"IF(AND(COUNTRY_INFO!J58>1,COUNTRY_INFO!J58<4), IF(V58/COUNTRY_INFO!F58*100<>0, IF(V58/COUNTRY_INFO!F58*100>100,100,V58/COUNTRY_INFO!F58*100), \"-\"),0)","v":85.025737955441159},42285,{"$f":"IF(AND(COUNTRY_INFO!J58>1,COUNTRY_INFO!J58<4), IF(S58/P58*100<>0, IF(X58/P58*100>100,100,X58/P58*100), \"-\"),0)","v":54.036957521852479},{"$f":"COUNTRY_INFO!P58","v":43653.600000000006},null,null,{"$f":"MAX('T1'!L58,'T2'!J58)+MAX('T1'!M58,'T2'!K58)+MAX('T1'!N58,'T2'!L58)","v":0},{"$f":"IF(COUNTRY_INFO!K58=1,IF(COUNTRY_INFO!F58*0.33>MAX('T1'!M58,'T2'!K58),MAX('T1'!M58,'T2'!K58),COUNTRY_INFO!F58*0.33),IF(COUNTRY_INFO!K58=2,IF(COUNTRY_INFO!F58*0.5>MAX('T1'!M58,'T2'!K58),MAX('T1'!M58,'T2'!K58),COUNTRY_INFO!F58*0.5),IF(COUNTRY_INFO!K58=3,IF(COUNTRY_INFO!F58>MAX('T1'!M58,'T2'!K58),MAX('T1'!M58,'T2'!K58),COUNTRY_INFO!F58),0)))","v":0},{"$f":"IF(AND(COUNTRY_INFO!K58>0,COUNTRY_INFO!L58<4),IF(Z58>0,IF(COUNTRY_INFO!K58=1, AD58/(COUNTRY_INFO!F58*0.33)*100, IF(COUNTRY_INFO!K58=2, AD58/(COUNTRY_INFO!F58*0.5)*100, IF(COUNTRY_INFO!K58=3, AD58/COUNTRY_INFO!F58*100))),\"-\"),0)","v":0},{"$f":"IF(COUNTRY_INFO!K58=2,IF(COUNTRY_INFO!G58*0.2>MAX('T1'!N58,'T2'!L58),MAX('T1'!N58,'T2'!L58),COUNTRY_INFO!G58*0.2),IF(COUNTRY_INFO!K58=3,IF(COUNTRY_INFO!G58>MAX('T1'!N58,'T2'!L58),MAX('T1'!N58,'T2'!L58),COUNTRY_INFO!G58),0))","v":0},{"$f":"IF(AND(COUNTRY_INFO!K58>0,COUNTRY_INFO!L58<4),IF(Z58>0,IF(COUNTRY_INFO!K58=1, 0, IF(COUNTRY_INFO!K58=2, AF58/(COUNTRY_INFO!G58*0.2)*100, IF(COUNTRY_INFO!K58=3, AF58/COUNTRY_INFO!G58*100))),\"-\"),0)","v":0},0,{"$f":"IF(AND(COUNTRY_INFO!K58>0,COUNTRY_INFO!K58<4), IF(AC58/Z58*100<>0, IF(AH58/Z58*100>100,100,AH58/Z58*100), \"-\"),0)","v":"-"},null,{"$f":"IF(AND(D58<>0, D58<>\"Unknown\",D58<>\"Stopped\",D58<>\"Not required\"),D58/COUNTRY_INFO!D58, 0)","v":0},{"$f":"IF(AND(J58<>0,J58<>\"Unknown\",J58<>\"Stopped\",J58<>\"Not required\"),J58/COUNTRY_INFO!D58, 0)","v":0},{"$f":"IF(AND(P58<>0,P58<>\"Unknown\",P58<>\"Not required\"),P58/(COUNTRY_INFO!E58+COUNTRY_INFO!F58), 0)","v":1},{"$f":"IF(AND(Z58<>0,Z58<>\"Unknown\",Z58<>\"Not required\"),IF(COUNTRY_INFO!K58=1,1,IF(COUNTRY_INFO!K58=2,0.5*COUNTRY_INFO!F58/(0.5*COUNTRY_INFO!F58+0.2*COUNTRY_INFO!G58),IF(COUNTRY_INFO!K58=3,COUNTRY_INFO!F58/(COUNTRY_INFO!F58+COUNTRY_INFO!G58)))),0)","v":0.56962083310425704},{"$f":"IF(AND(Z58<>0,Z58<>\"Unknown\",Z58<>\"Not required\"),IF(COUNTRY_INFO!K58=1,0,IF(COUNTRY_INFO!K58=2,0.2*COUNTRY_INFO!G58/(0.5*COUNTRY_INFO!F58+0.2*COUNTRY_INFO!G58),IF(COUNTRY_INFO!K58=3,COUNTRY_INFO!G58/(COUNTRY_INFO!F58+COUNTRY_INFO!G58)))),0)","v":0.43037916689574285},{"$f":"MAX(COUNTRY_INFO!D58*AK58*PROFILE!$G$7,COUNTRY_INFO!D58*AL58*PROFILE!$G$7)","v":0},{"$f":"MAX(COUNTRY_INFO!D58*AK58*PROFILE!$G$8,COUNTRY_INFO!D58*AL58*PROFILE!$G$8,COUNTRY_INFO!D58*AM58*PROFILE!$G$8)","v":28519.942385366568},{"$f":"MAX(COUNTRY_INFO!D58*AK58*PROFILE!$G$9,COUNTRY_INFO!D58*AL58*PROFILE!$G$9,COUNTRY_INFO!D58*AM58*PROFILE!$G$9,IF(AND(DISTRICT!Z58<>\"Unknown\",Z58<>\"Not required\"),COUNTRY_INFO!P58*DISTRICT!AN58,0))","v":49731.673315431333},{"$f":"MAX(COUNTRY_INFO!D58*AK58*PROFILE!$G$10,COUNTRY_INFO!D58*AL58*PROFILE!$G$10,IF(AND(DISTRICT!Z58<>\"Unknown\",Z58<>\"Not required\"),COUNTRY_INFO!P58*DISTRICT!AO58,0))","v":18787.600000000002},97039.215700797911,0,{"$f":"MAX('MDA4'!R58,'T1'!L58,'T2'!J58,T3_R1!K58,T3_R2!K58)","v":0},{"$f":"MAX('MDA1'!K58,'MDA4'!S58,'MDA3'!I58,'MDA3'!L58,'T1'!M58,'T2'!K58,T3_R1!L58,T3_R2!L58)","v":42285},{"$f":"MAX('MDA1'!L58,'MDA4'!T58,'MDA3'!J58,'MDA3'!M58,'T1'!N58,'T2'!L58,T3_R1!M58,T3_R2!M58)","v":0},42285,{"$f":"MAX('MDA4'!R58,T58)","v":0},{"$f":"MAX('MDA1'!K58,'MDA4'!S58,'MDA3'!I58,'MDA3'!L58,V58,AD58)","v":42285},{"$f":"MAX('MDA1'!L58,'MDA4'!T58,'MDA3'!J58,'MDA3'!M58,AF58)","v":0},42285,43.575166693821814]
[{"$f":"IF(COUNTRY_INFO!A59=0,\" \",COUNTRY_INFO!A59)","v":"Angola"},{"$f":"IF(COUNTRY_INFO!B59=0,\" \",COUNTRY_INFO!B59)","v":"CUANZA SUL"},{"$f":"IF(COUNTRY_INFO!C59=0,\" \",COUNTRY_INFO!C59)","v":"CELA (Waku Kungo)"},{"$f":"COUNTRY_INFO!M59","v":0},null,null,{"$f":"MAX('MDA1'!M59,'MDA4'!U59)","v":0},{"$f":"IF(AND(COUNTRY_INFO!H59>0,COUNTRY_INFO!H59<4),IF(D59>MAX('MDA1'!M59,'MDA4'!U59),MAX('MDA1'!M59,'MDA4'!U59),D59),0)","v":0},{"$f":"IF(AND(COUNTRY_INFO!H59>0,COUNTRY_INFO!H59<4), IF(G59/D59*100<>0, IF(G59/D59*100>100,100,G59/D59*100), \"-\"),0)","v":0},{"$f":"COUNTRY_INFO!N59","v":"Unknown"},null,null,{"$f":"MAX('MDA1'!M59,MAX('MDA3'!I59,'MDA3'!L59)+MAX('MDA3'!J59,'MDA3'!M59))","v":0},{"$f":"IF(AND(COUNTRY_INFO!I59>0,COUNTRY_INFO!I59<4),IF(J59>MAX('MDA1'!M59,MAX('MDA3'!I59,'MDA3'!L59)+MAX('MDA3'!J59,'MDA3'!M59)),MAX('MDA1'!M59,MAX('MDA3'!I59,'MDA3'!L59)+MAX('MDA3'!J59,'MDA3'!M59)),J59),0)","v":0},{"$f":"IF(AND(COUNTRY_INFO!I59>0,COUNTRY_INFO!I59<4), IF(M59/J59*100<>0, IF(M59/J59*100>100,100,M59/J59*100), \"-\"),0)","v":0},{"$f":"COUNTRY_INFO!O59","v":116164},null,null,{"$f":"SUM(MAX('MDA4'!R59, 'T1'!L59, MAX(T3_R1!K59, T3_R2!K59)), MAX('MDA1'!K59, 'MDA4'!S59, 'T1'!M59, MAX(T3_R1!L59, T3_R2!L59)), MAX('MDA1'!L59, 'MDA4'!T59, 'T1'!N59, MAX(T3_R1!M59, T3_R2!M59)))","v":68014},{"$f":"IF(AND(COUNTRY_INFO!J59>1,COUNTRY_INFO!J59<4),IF(COUNTRY_INFO!E59>MAX('MDA4'!R59,'T1'!L59,MAX(T3_R1!K59,T3_R2!K59)),MAX('MDA4'!R59,'T1'!L59,MAX(T3_R1!K59,T3_R2!K59)),COUNTRY_INFO!E59),0)","v":0},{"$f":"IF(AND(COUNTRY_INFO!J59>1,COUNTRY_INFO!J59<4), IF(T59/COUNTRY_INFO!E59*100<>0, IF(T59/COUNTRY_INFO!E59*100>100,100,T59/COUNTRY_INFO!E59*100), \"-\"),0)","v":"-"},{"$f":"IF(AND(COUNTRY_INFO!J59>1,COUNTRY_INFO!J59<4),IF(COUNTRY_INFO!F59>MAX('MDA1'!K59,'MDA4'!S59,'T1'!M59,MAX(T3_R1!L59,T3_R2!L59)),MAX('MDA1'!K59,'MDA4'!S59,'T1'!M59,MAX(T3_R1!L59,T3_R2!L59)),COUNTRY_INFO!F59),0)","v":68014},{"$f":"IF(AND(COUNTRY_INFO!J59>1,COUNTRY_INFO!J59<4), IF(V59/COUNTRY_INFO!F59*100<>0, IF(V59/COUNTRY_INFO!F59*100>100,100,V59/COUNTRY_INFO!F59*100), \"-\"),0)","v":92.127434779075116},68014,{"$f":"IF(AND(COUNTRY_INFO!J59>1,COUNTRY_INFO!J59<4), IF(S59/P59*100<>0, IF(X59/P59*100>100,100,X59/P59*100), \"-\"),0)","v":58.549981061258215},{"$f":"COUNTRY_INFO!P59","v":64803},null,null,{"$f":"MAX('T1'!L59,'T2'!J59)+MAX('T1'!M59,'T2'!K59)+MAX('T1'!N59,'T2'!L59)","v":0},{"$f":"IF(COUNTRY_INFO!K59=1,IF(COUNTRY_INFO!F59*0.33>MAX('T1'!M59,'T2'!K59),MAX('T1'!M59,'T2'!K59),COUNTRY_INFO!F59*0.33),IF(COUNTRY_INFO!K59=2,IF(COUNTRY_INFO!F59*0.5>MAX('T1'!M59,'T2'!K59),MAX('T1'!M59,'T2'!K59),COUNTRY_INFO!F59*0.5),IF(COUNTRY_INFO!K59=3,IF(COUNTRY_INFO!F59>MAX('T1'!M59,'T2'!K59),MAX('T1'!M59,'T2'!K59),COUNTRY_INFO!F59),0)))","v":0},{"$f":"IF(AND(COUNTRY_INFO!K59>0,COUNTRY_INFO!L59<4),IF(Z59>0,IF(COUNTRY_INFO!K59=1, AD59/(COUNTRY_INFO!F59*0.33)*100, IF(COUNTRY_INFO!K59=2, AD59/(COUNTRY_INFO!F59*0.5)*100, IF(COUNTRY_INFO!K59=3, AD59/COUNTRY_INFO!F59*100))),\"-\"),0)","v":0},{"$f":"IF(COUNTRY_INFO!K59=2,IF(COUNTRY_INFO!G59*0.2>MAX('T1'!N59,'T2'!L59),MAX('T1'!N59,'T2'!L59),COUNTRY_INFO!G59*0.2),IF(COUNTRY_INFO!K59=3,IF(COUNTRY_INFO!G59>MAX('T1'!N59,'T2'!L59),MAX('T1'!N59,'T2'!L59),COUNTRY_INFO!G59),0))","v":0},{"$f":"IF(AND(COUNTRY_INFO!K59>0,COUNTRY_INFO!L59<4),IF(Z59>0,IF(COUNTRY_INFO!K59=1, 0, IF(COUNTRY_INFO!K59=2, AF59/(COUNTRY_INFO!G59*0.2)*100, IF(COUNTRY_INFO!K59=3, AF59/COUNTRY_INFO!G59*100))),\"-\"),0)","v":0},0,{"$f":"IF(AND(COUNTRY_INFO!K59>0,COUNTRY_INFO!K59<4), IF(AC59/Z59*100<>0, IF(AH59/Z59*100>100,100,AH59/Z59*100), \"-\"),0)","v":"-"},null,{"$f":"IF(AND(D59<>0, D59<>\"Unknown\",D59<>\"Stopped\",D59<>\"Not required\"),D59/COUNTRY_INFO!D59, 0)","v":0},{"$f":"IF(AND(J59<>0,J59<>\"Unknown\",J59<>\"Stopped\",J59<>\"Not required\"),J59/COUNTRY_INFO!D59, 0)","v":0},{"$f":"IF(AND(P59<>0,P59<>\"Unknown\",P59<>\"Not required\"),P59/(COUNTRY_INFO!E59+COUNTRY_INFO!F59), 0)","v":1},{"$f":"IF(AND(Z59<>0,Z59<>\"Unknown\",Z59<>\"Not required\"),IF(COUNTRY_INFO!K59=1,1,IF(COUNTRY_INFO!K59=2,0.5*COUNTRY_INFO!F59/(0.5*COUNTRY_INFO!F59+0.2*COUNTRY_INFO!G59),IF(COUNTRY_INFO!K59=3,COUNTRY_INFO!F59/(COUNTRY_INFO!F59+COUNTRY_INFO!G59)))),0)","v":0.56961869049272407},{"$f":"IF(AND(Z59<>0,Z59<>\"Unknown\",Z59<>\"Not required\"),IF(COUNTRY_INFO!K59=1,0,IF(COUNTRY_INFO!K59=2,0.2*COUNTRY_INFO!G59/(0.5*COUNTRY_INFO!F59+0.2*COUNTRY_INFO!G59),IF(COUNTRY_INFO!K59=3,COUNTRY_INFO!G59/(COUNTRY_INFO!F59+COUNTRY_INFO!G59)))),0)","v":0.43038130950727588},{"$f":"MAX(COUNTRY_INFO!D59*AK59*PROFILE!$G$7,COUNTRY_INFO!D59*AL59*PROFILE!$G$7)","v":0},{"$f":"MAX(COUNTRY_INFO!D59*AK59*PROFILE!$G$8,COUNTRY_INFO!D59*AL59*PROFILE!$G$8,COUNTRY_INFO!D59*AM59*PROFILE!$G$8)","v":42337.70681851187},{"$f":"MAX(COUNTRY_INFO!D59*AK59*PROFILE!$G$9,COUNTRY_INFO!D59*AL59*PROFILE!$G$9,COUNTRY_INFO!D59*AM59*PROFILE!$G$9,IF(AND(DISTRICT!Z59<>\"Unknown\",Z59<>\"Not required\"),COUNTRY_INFO!P59*DISTRICT!AN59,0))","v":73826.411567474832},{"$f":"MAX(COUNTRY_INFO!D59*AK59*PROFILE!$G$10,COUNTRY_INFO!D59*AL59*PROFILE!$G$10,IF(AND(DISTRICT!Z59<>\"Unknown\",Z59<>\"Not required\"),COUNTRY_INFO!P59*DISTRICT!AO59,0))","v":27890},144054.11838598672,0,{"$f":"MAX('MDA4'!R59,'T1'!L59,'T2'!J59,T3_R1!K59,T3_R2!K59)","v":0},{"$f":"MAX('MDA1'!K59,'MDA4'!S59,'MDA3'!I59,'MDA3'!L59,'T1'!M59,'T2'!K59,T3_R1!L59,T3_R2!L59)","v":68014},{"$f":"MAX('MDA1'!L59,'MDA4'!T59,'MDA3'!J59,'MDA3'!M59,'T1'!N59,'T2'!L59,T3_R1!M59,T3_R2!M59)","v":0},68014,{"$f":"MAX('MDA4'!R59,T59)","v":0},{"$f":"MAX('MDA1'!K59,'MDA4'!S59,'MDA3'!I59,'MDA3'!L59,V59,AD59)","v":68014},{"$f":"MAX('MDA1'!L59,'MDA4'!T59,'MDA3'!J59,'MDA3'!M59,AF59)","v":0},68014,47.214200303360613]
[{"$f":"IF(COUNTRY_INFO!A60=0,\" \",COUNTRY_INFO!A60)","v":"Angola"},{"$f":"IF(COUNTRY_INFO!B60=0,\" \",COUNTRY_INFO!B60)","v":"CUANZA SUL"},{"$f":"IF(COUNTRY_INFO!C60=0,\" \",COUNTRY_INFO!C60)","v":"CONDA"},{"$f":"COUNTRY_INFO!M60","v":0},null,null,{"$f":"MAX('MDA1'!M60,'MDA4'!U60)","v":0},{"$f":"IF(AND(COUNTRY_INFO!H60>0,COUNTRY_INFO!H60<4),IF(D60>MAX('MDA1'!M60,'MDA4'!U60),MAX('MDA1'!M60,'MDA4'!U60),D60),0)","v":0},{"$f":"IF(AND(COUNTRY_INFO!H60>0,COUNTRY_INFO!H60<4), IF(G60/D60*100<>0, IF(G60/D60*100>100,100,G60/D60*100), \"-\"),0)","v":0},{"$f":"COUNTRY_INFO!N60","v":"Unknown"},null,null,{"$f":"MAX('MDA1'!M60,MAX('MDA3'!I60,'MDA3'!L60)+MAX('MDA3'!J60,'MDA3'!M60))","v":0},{"$f":"IF(AND(COUNTRY_INFO!I60>0,COUNTRY_INFO!I60<4),IF(J60>MAX('MDA1'!M60,MAX('MDA3'!I60,'MDA3'!L60)+MAX('MDA3'!J60,'MDA3'!M60)),MAX('MDA1'!M60,MAX('MDA3'!I60,'MDA3'!L60)+MAX('MDA3'!J60,'MDA3'!M60)),J60),0)","v":0},{"$f":"IF(AND(COUNTRY_INFO!I60>0,COUNTRY_INFO!I60<4), IF(M60/J60*100<>0, IF(M60/J60*100>100,100,M60/J60*100), \"-\"),0)","v":0},{"$f":"COUNTRY_INFO!O60","v":46090},null,null,{"$f":"SUM(MAX('MDA4'!R60, 'T1'!L60, MAX(T3_R1!K60, T3_R2!K60)), MAX('MDA1'!K60, 'MDA4'!S60, 'T1'!M60, MAX(T3_R1!L60, T3_R2!L60)), MAX('MDA1'!L60, 'MDA4'!T60, 'T1'!N60, MAX(T3_R1!M60, T3_R2!M60)))","v":21351},{"$f":"IF(AND(COUNTRY_INFO!J60>1,COUNTRY_INFO!J60<4),IF(COUNTRY_INFO!E60>MAX('MDA4'!R60,'T1'!L60,MAX(T3_R1!K60,T3_R2!K60)),MAX('MDA4'!R60,'T1'!L60,MAX(T3_R1!K60,T3_R2!K60)),COUNTRY_INFO!E60),0)","v":0},{"$f":"IF(AND(COUNTRY_INFO!J60>1,COUNTRY_INFO!J60<4), IF(T60/COUNTRY_INFO!E60*100<>0, IF(T60/COUNTRY_INFO!E60*100>100,100,T60/COUNTRY_INFO!E60*100), \"-\"),0)","v":"-"},{"$f":"IF(AND(COUNTRY_INFO!J60>1,COUNTRY_INFO!J60<4),IF(COUNTRY_INFO!F60>MAX('MDA1'!K60,'MDA4'!S60,'T1'!M60,MAX(T3_R1!L60,T3_R2!L60)),MAX('MDA1'!K60,'MDA4'!S60,'T1'!M60,MAX(T3_R1!L60,T3_R2!L60)),COUNTRY_INFO!F60),0)","v":21351},{"$f":"IF(AND(COUNTRY_INFO!J60>1,COUNTRY_INFO!J60<4), IF(V60/COUNTRY_INFO!F60*100<>0, IF(V60/COUNTRY_INFO!F60*100>100,100,V60/COUNTRY_INFO!F60*100), \"-\"),0)","v":72.890208930766079},21351,{"$f":"IF(AND(COUNTRY_INFO!J60>1,COUNTRY_INFO!J60<4), IF(S60/P60*100<>0, IF(X60/P60*100>100,100,X60/P60*100), \"-\"),0)","v":46.324582338902147},{"$f":"COUNTRY_INFO!P60","v":25711.800000000003},null,null,{"$f":"MAX('T1'!L60,'T2'!J60)+MAX('T1'!M60,'T2'!K60)+MAX('T1'!N60,'T2'!L60)","v":0},{"$f":"IF(COUNTRY_INFO!K60=1,IF(COUNTRY_INFO!F60*0.33>MAX('T1'!M60,'T2'!K60),MAX('T1'!M60,'T2'!K60),COUNTRY_INFO!F60*0.33),IF(COUNTRY_INFO!K60=2,IF(COUNTRY_INFO!F60*0.5>MAX('T1'!M60,'T2'!K60),MAX('T1'!M60,'T2'!K60),COUNTRY_INFO!F60*0.5),IF(COUNTRY_INFO!K60=3,IF(COUNTRY_INFO!F60>MAX('T1'!M60,'T2'!K60),MAX('T1'!M60,'T2'!K60),COUNTRY_INFO!F60),0)))","v":0},{"$f":"IF(AND(COUNTRY_INFO!K60>0,COUNTRY_INFO!L60<4),IF(Z60>0,IF(COUNTRY_INFO!K60=1, AD60/(COUNTRY_INFO!F60*0.33)*100, IF(COUNTRY_INFO!K60=2, AD60/(COUNTRY_INFO!F60*0.5)*100, IF(COUNTRY_INFO!K60=3, AD60/COUNTRY_INFO!F60*100))),\"-\"),0)","v":0},{"$f":"IF(COUNTRY_INFO!K60=2,IF(COUNTRY_INFO!G60*0.2>MAX('T1'!N60,'T2'!L60),MAX('T1'!N60,'T2'!L60),COUNTRY_INFO!G60*0.2),IF(COUNTRY_INFO!K60=3,IF(COUNTRY_INFO!G60>MAX('T1'!N60,'T2'!L60),MAX('T1'!N60,'T2'!L60),COUNTRY_INFO!G60),0))","v":0},{"$f":"IF(AND(COUNTRY_INFO!K60>0,COUNTRY_INFO!L60<4),IF(Z60>0,IF(COUNTRY_INFO!K60=1, 0, IF(COUNTRY_INFO!K60=2, AF60/(COUNTRY_INFO!G60*0.2)*100, IF(COUNTRY_INFO!K60=3, AF60/COUNTRY_INFO!G60*100))),\"-\"),0)","v":0},0,{"$f":"IF(AND(COUNTRY_INFO!K60>0,COUNTRY_INFO!K60<4), IF(AC60/Z60*100<>0, IF(AH60/Z60*100>100,100,AH60/Z60*100), \"-\"),0)","v":"-"},null,{"$f":"IF(AND(D60<>0, D60<>\"Unknown\",D60<>\"Stopped\",D60<>\"Not required\"),D60/COUNTRY_INFO!D60, 0)","v":0},{"$f":"IF(AND(J60<>0,J60<>\"Unknown\",J60<>\"Stopped\",J60<>\"Not required\"),J60/COUNTRY_INFO!D60, 0)","v":0},{"$f":"IF(AND(P60<>0,P60<>\"Unknown\",P60<>\"Not required\"),P60/(COUNTRY_INFO!E60+COUNTRY_INFO!F60), 0)","v":1},{"$f":"IF(AND(Z60<>0,Z60<>\"Unknown\",Z60<>\"Not required\"),IF(COUNTRY_INFO!K60=1,1,IF(COUNTRY_INFO!K60=2,0.5*COUNTRY_INFO!F60/(0.5*COUNTRY_INFO!F60+0.2*COUNTRY_INFO!G60),IF(COUNTRY_INFO!K60=3,COUNTRY_INFO!F60/(COUNTRY_INFO!F60+COUNTRY_INFO!G60)))),0)","v":0.56962173010057637},{"$f":"IF(AND(Z60<>0,Z60<>\"Unknown\",Z60<>\"Not required\"),IF(COUNTRY_INFO!K60=1,0,IF(COUNTRY_INFO!K60=2,0.2*COUNTRY_INFO!G60/(0.5*COUNTRY_INFO!F60+0.2*COUNTRY_INFO!G60),IF(COUNTRY_INFO!K60=3,COUNTRY_INFO!G60/(COUNTRY_INFO!F60+COUNTRY_INFO!G60)))),0)","v":0.43037826989942363},{"$f":"MAX(COUNTRY_INFO!D60*AK60*PROFILE!$G$7,COUNTRY_INFO!D60*AL60*PROFILE!$G$7)","v":0},{"$f":"MAX(COUNTRY_INFO!D60*AK60*PROFILE!$G$8,COUNTRY_INFO!D60*AL60*PROFILE!$G$8,COUNTRY_INFO!D60*AM60*PROFILE!$G$8)","v":16798.224851071405},{"$f":"MAX(COUNTRY_INFO!D60*AK60*PROFILE!$G$9,COUNTRY_INFO!D60*AL60*PROFILE!$G$9,COUNTRY_INFO!D60*AM60*PROFILE!$G$9,IF(AND(DISTRICT!Z60<>\"Unknown\",Z60<>\"Not required\"),COUNTRY_INFO!P60*DISTRICT!AN60,0))","v":29291.918591016667},{"$f":"MAX(COUNTRY_INFO!D60*AK60*PROFILE!$G$10,COUNTRY_INFO!D60*AL60*PROFILE!$G$10,IF(AND(DISTRICT!Z60<>\"Unknown\",Z60<>\"Not required\"),COUNTRY_INFO!P60*DISTRICT!AO60,0))","v":11065.800000000001},57155.943442088072,0,{"$f":"MAX('MDA4'!R60,'T1'!L60,'T2'!J60,T3_R1!K60,T3_R2!K60)","v":0},{"$f":"MAX('MDA1'!K60,'MDA4'!S60,'MDA3'!I60,'MDA3'!L60,'T1'!M60,'T2'!K60,T3_R1!L60,T3_R2!L60)","v":21351},{"$f":"MAX('MDA1'!L60,'MDA4'!T60,'MDA3'!J60,'MDA3'!M60,'T1'!N60,'T2'!L60,T3_R1!M60,T3_R2!M60)","v":0},21351,{"$f":"MAX('MDA4'!R60,T60)","v":0},{"$f":"MAX('MDA1'!K60,'MDA4'!S60,'MDA3'!I60,'MDA3'!L60,V60,AD60)","v":21351},{"$f":"MAX('MDA1'!L60,'MDA4'!T60,'MDA3'!J60,'MDA3'!M60,AF60)","v":0},21351,37.355695163414467]
[{"$f":"IF(COUNTRY_INFO!A61=0,\" \",COUNTRY_INFO!A61)","v":"Angola"},{"$f":"IF(COUNTRY_INFO!B61=0,\" \",COUNTRY_INFO!B61)","v":"CUANZA SUL"},{"$f":"IF(COUNTRY_INFO!C61=0,\" \",COUNTRY_INFO!C61)","v":"EBO"},{"$f":"COUNTRY_INFO!M61","v":0},null,null,{"$f":"MAX('MDA1'!M61,'MDA4'!U61)","v":0},{"$f":"IF(AND(COUNTRY_INFO!H61>0,COUNTRY_INFO!H61<4),IF(D61>MAX('MDA1'!M61,'MDA4'!U61),MAX('MDA1'!M61,'MDA4'!U61),D61),0)","v":0},{"$f":"IF(AND(COUNTRY_INFO!H61>0,COUNTRY_INFO!H61<4), IF(G61/D61*100<>0, IF(G61/D61*100>100,100,G61/D61*100), \"-\"),0)","v":0},{"$f":"COUNTRY_INFO!N61","v":"Unknown"},null,null,{"$f":"MAX('MDA1'!M61,MAX('MDA3'!I61,'MDA3'!L61)+MAX('MDA3'!J61,'MDA3'!M61))","v":0},{"$f":"IF(AND(COUNTRY_INFO!I61>0,COUNTRY_INFO!I61<4),IF(J61>MAX('MDA1'!M61,MAX('MDA3'!I61,'MDA3'!L61)+MAX('MDA3'!J61,'MDA3'!M61)),MAX('MDA1'!M61,MAX('MDA3'!I61,'MDA3'!L61)+MAX('MDA3'!J61,'MDA3'!M61)),J61),0)","v":0},{"$f":"IF(AND(COUNTRY_INFO!I61>0,COUNTRY_INFO!I61<4), IF(M61/J61*100<>0, IF(M61/J61*100>100,100,M61/J61*100), \"-\"),0)","v":0},{"$f":"COUNTRY_INFO!O61","v":85057},null,null,{"$f":"SUM(MAX('MDA4'!R61, 'T1'!L61, MAX(T3_R1!K61, T3_R2!K61)), MAX('MDA1'!K61, 'MDA4'!S61, 'T1'!M61, MAX(T3_R1!L61, T3_R2!L61)), MAX('MDA1'!L61, 'MDA4'!T61, 'T1'!N61, MAX(T3_R1!M61, T3_R2!M61)))","v":32533},{"$f":"IF(AND(COUNTRY_INFO!J61>1,COUNTRY_INFO!J61<4),IF(COUNTRY_INFO!E61>MAX('MDA4'!R61,'T1'!L61,MAX(T3_R1!K61,T3_R2!K61)),MAX('MDA4'!R61,'T1'!L61,MAX(T3_R1!K61,T3_R2!K61)),COUNTRY_INFO!E61),0)","v":0},{"$f":"IF(AND(COUNTRY_INFO!J61>1,COUNTRY_INFO!J61<4), IF(T61/COUNTRY_INFO!E61*100<>0, IF(T61/COUNTRY_INFO!E61*100>100,100,T61/COUNTRY_INFO!E61*100), \"-\"),0)","v":"-"},{"$f":"IF(AND(COUNTRY_INFO!J61>1,COUNTRY_INFO!J61<4),IF(COUNTRY_INFO!F61>MAX('MDA1'!K61,'MDA4'!S61,'T1'!M61,MAX(T3_R1!L61,T3_R2!L61)),MAX('MDA1'!K61,'MDA4'!S61,'T1'!M61,MAX(T3_R1!L61,T3_R2!L61)),COUNTRY_INFO!F61),0)","v":32533},{"$f":"IF(AND(COUNTRY_INFO!J61>1,COUNTRY_INFO!J61<4), IF(V61/COUNTRY_INFO!F61*100<>0, IF(V61/COUNTRY_INFO!F61*100>100,100,V61/COUNTRY_INFO!F61*100), \"-\"),0)","v":60.182770039032874},32533,{"$f":"IF(AND(COUNTRY_INFO!J61>1,COUNTRY_INFO!J61<4), IF(S61/P61*100<>0, IF(X61/P61*100>100,100,X61/P61*100), \"-\"),0)","v":38.248468673948061},{"$f":"COUNTRY_INFO!P61","v":47449.9},null,null,{"$f":"MAX('T1'!L61,'T2'!J61)+MAX('T1'!M61,'T2'!K61)+MAX('T1'!N61,'T2'!L61)","v":0},{"$f":"IF(COUNTRY_INFO!K61=1,IF(COUNTRY_INFO!F61*0.33>MAX('T1'!M61,'T2'!K61),MAX('T1'!M61,'T2'!K61),COUNTRY_INFO!F61*0.33),IF(COUNTRY_INFO!K61=2,IF(COUNTRY_INFO!F61*0.5>MAX('T1'!M61,'T2'!K61),MAX('T1'!M61,'T2'!K61),COUNTRY_INFO!F61*0.5),IF(COUNTRY_INFO!K61=3,IF(COUNTRY_INFO!F61>MAX('T1'!M61,'T2'!K61),MAX('T1'!M61,'T2'!K61),COUNTRY_INFO!F61),0)))","v":0},{"$f":"IF(AND(COUNTRY_INFO!K61>0,COUNTRY_INFO!L61<4),IF(Z61>0,IF(COUNTRY_INFO!K61=1, AD61/(COUNTRY_INFO!F61*0.33)*100, IF(COUNTRY_INFO!K61=2, AD61/(COUNTRY_INFO!F61*0.5)*100, IF(COUNTRY_INFO!K61=3, AD61/COUNTRY_INFO!F61*100))),\"-\"),0)","v":0},{"$f":"IF(COUNTRY_INFO!K61=2,IF(COUNTRY_INFO!G61*0.2>MAX('T1'!N61,'T2'!L61),MAX('T1'!N61,'T2'!L61),COUNTRY_INFO!G61*0.2),IF(COUNTRY_INFO!K61=3,IF(COUNTRY_INFO!G61>MAX('T1'!N61,'T2'!L61),MAX('T1'!N61,'T2'!L61),COUNTRY_INFO!G61),0))","v":0},{"$f":"IF(AND(COUNTRY_INFO!K61>0,COUNTRY_INFO!L61<4),IF(Z61>0,IF(COUNTRY_INFO!K61=1, 0, IF(COUNTRY_INFO!K61=2, AF61/(COUNTRY_INFO!G61*0.2)*100, IF(COUNTRY_INFO!K61=3, AF61/COUNTRY_INFO!G61*100))),\"-\"),0)","v":0},0,{"$f":"IF(AND(COUNTRY_INFO!K61>0,COUNTRY_INFO!K61<4), IF(AC61/Z61*100<>0, IF(AH61/Z61*100>100,100,AH61/Z61*100), \"-\"),0)","v":"-"},null,{"$f":"IF(AND(D61<>0, D61<>\"Unknown\",D61<>\"Stopped\",D61<>\"Not required\"),D61/COUNTRY_INFO!D61, 0)","v":0},{"$f":"IF(AND(J61<>0,J61<>\"Unknown\",J61<>\"Stopped\",J61<>\"Not required\"),J61/COUNTRY_INFO!D61, 0)","v":0},{"$f":"IF(AND(P61<>0,P61<>\"Unknown\",P61<>\"Not required\"),P61/(COUNTRY_INFO!E61+COUNTRY_INFO!F61), 0)","v":1},{"$f":"IF(AND(Z61<>0,Z61<>\"Unknown\",Z61<>\"Not required\"),IF(COUNTRY_INFO!K61=1,1,IF(COUNTRY_INFO!K61=2,0.5*COUNTRY_INFO!F61/(0.5*COUNTRY_INFO!F61+0.2*COUNTRY_INFO!G61),IF(COUNTRY_INFO!K61=3,COUNTRY_INFO!F61/(COUNTRY_INFO!F61+COUNTRY_INFO!G61)))),0)","v":0.56962185378683616},{"$f":"IF(AND(Z61<>0,Z61<>\"Unknown\",Z61<>\"Not required\"),IF(COUNTRY_INFO!K61=1,0,IF(COUNTRY_INFO!K61=2,0.2*COUNTRY_INFO!G61/(0.5*COUNTRY_INFO!F61+0.2*COUNTRY_INFO!G61),IF(COUNTRY_INFO!K61=3,COUNTRY_INFO!G61/(COUNTRY_INFO!F61+COUNTRY_INFO!G61)))),0)","v":0.43037814621316378},{"$f":"MAX(COUNTRY_INFO!D61*AK61*PROFILE!$G$7,COUNTRY_INFO!D61*AL61*PROFILE!$G$7)","v":0},{"$f":"MAX(COUNTRY_INFO!D61*AK61*PROFILE!$G$8,COUNTRY_INFO!D61*AL61*PROFILE!$G$8,COUNTRY_INFO!D61*AM61*PROFILE!$G$8)","v":31000.280193481936},{"$f":"MAX(COUNTRY_INFO!D61*AK61*PROFILE!$G$9,COUNTRY_INFO!D61*AL61*PROFILE!$G$9,COUNTRY_INFO!D61*AM61*PROFILE!$G$9,IF(AND(DISTRICT!Z61<>\"Unknown\",Z61<>\"Not required\"),COUNTRY_INFO!P61*DISTRICT!AN61,0))","v":54056.764436526915},{"$f":"MAX(COUNTRY_INFO!D61*AK61*PROFILE!$G$10,COUNTRY_INFO!D61*AL61*PROFILE!$G$10,IF(AND(DISTRICT!Z61<>\"Unknown\",Z61<>\"Not required\"),COUNTRY_INFO!P61*DISTRICT!AO61,0))","v":20421.400000000001},105478.44463000886,0,{"$f":"MAX('MDA4'!R61,'T1'!L61,'T2'!J61,T3_R1!K61,T3_R2!K61)","v":0},{"$f":"MAX('MDA1'!K61,'MDA4'!S61,'MDA3'!I61,'MDA3'!L61,'T1'!M61,'T2'!K61,T3_R1!L61,T3_R2!L61)","v":32533},{"$f":"MAX('MDA1'!L61,'MDA4'!T61,'MDA3'!J61,'MDA3'!M61,'T1'!N61,'T2'!L61,T3_R1!M61,T3_R2!M61)","v":0},32533,{"$f":"MAX('MDA4'!R61,T61)","v":0},{"$f":"MAX('MDA1'!K61,'MDA4'!S61,'MDA3'!I61,'MDA3'!L61,V61,AD61)","v":32533},{"$f":"MAX('MDA1'!L61,'MDA4'!T61,'MDA3'!J61,'MDA3'!M61,AF61)","v":0},32533,30.843268607266026]
[{"$f":"IF(COUNTRY_INFO!A62=0,\" \",COUNTRY_INFO!A62)","v":"Angola"},{"$f":"IF(COUNTRY_INFO!B62=0,\" \",COUNTRY_INFO!B62)","v":"CUANZA SUL"},{"$f":"IF(COUNTRY_INFO!C62=0,\" \",COUNTRY_INFO!C62)","v":"LIBOLO"},{"$f":"COUNTRY_INFO!M62","v":0},null,null,{"$f":"MAX('MDA1'!M62,'MDA4'!U62)","v":0},{"$f":"IF(AND(COUNTRY_INFO!H62>0,COUNTRY_INFO!H62<4),IF(D62>MAX('MDA1'!M62,'MDA4'!U62),MAX('MDA1'!M62,'MDA4'!U62),D62),0)","v":0},{"$f":"IF(AND(COUNTRY_INFO!H62>0,COUNTRY_INFO!H62<4), IF(G62/D62*100<>0, IF(G62/D62*100>100,100,G62/D62*100), \"-\"),0)","v":0},{"$f":"COUNTRY_INFO!N62","v":"Unknown"},null,null,{"$f":"MAX('MDA1'!M62,MAX('MDA3'!I62,'MDA3'!L62)+MAX('MDA3'!J62,'MDA3'!M62))","v":0},{"$f":"IF(AND(COUNTRY_INFO!I62>0,COUNTRY_INFO!I62<4),IF(J62>MAX('MDA1'!M62,MAX('MDA3'!I62,'MDA3'!L62)+MAX('MDA3'!J62,'MDA3'!M62)),MAX('MDA1'!M62,MAX('MDA3'!I62,'MDA3'!L62)+MAX('MDA3'!J62,'MDA3'!M62)),J62),0)","v":0},{"$f":"IF(AND(COUNTRY_INFO!I62>0,COUNTRY_INFO!I62<4), IF(M62/J62*100<>0, IF(M62/J62*100>100,100,M62/J62*100), \"-\"),0)","v":0},{"$f":"COUNTRY_INFO!O62","v":47424},null,null,{"$f":"SUM(MAX('MDA4'!R62, 'T1'!L62, MAX(T3_R1!K62, T3_R2!K62)), MAX('MDA1'!K62, 'MDA4'!S62, 'T1'!M62, MAX(T3_R1!L62, T3_R2!L62)), MAX('MDA1'!L62, 'MDA4'!T62, 'T1'!N62, MAX(T3_R1!M62, T3_R2!M62)))","v":20644},{"$f":"IF(AND(COUNTRY_INFO!J62>1,COUNTRY_INFO!J62<4),IF(COUNTRY_INFO!E62>MAX('MDA4'!R62,'T1'!L62,MAX(T3_R1!K62,T3_R2!K62)),MAX('MDA4'!R62,'T1'!L62,MAX(T3_R1!K62,T3_R2!K62)),COUNTRY_INFO!E62),0)","v":0},{"$f":"IF(AND(COUNTRY_INFO!J62>1,COUNTRY_INFO!J62<4), IF(T62/COUNTRY_INFO!E62*100<>0, IF(T62/COUNTRY_INFO!E62*100>100,100,T62/COUNTRY_INFO!E62*100), \"-\"),0)","v":"-"},{"$f":"IF(AND(COUNTRY_INFO!J62>1,COUNTRY_INFO!J62<4),IF(COUNTRY_INFO!F62>MAX('MDA1'!K62,'MDA4'!S62,'T1'!M62,MAX(T3_R1!L62,T3_R2!L62)),MAX('MDA1'!K62,'MDA4'!S62,'T1'!M62,MAX(T3_R1!L62,T3_R2!L62)),COUNTRY_INFO!F62),0)","v":20644},{"$f":"IF(AND(COUNTRY_INFO!J62>1,COUNTRY_INFO!J62<4), IF(V62/COUNTRY_INFO!F62*100<>0, IF(V62/COUNTRY_INFO!F62*100>100,100,V62/COUNTRY_INFO!F62*100), \"-\"),0)","v":68.493696084936957},20644,{"$f":"IF(AND(COUNTRY_INFO!J62>1,COUNTRY_INFO!J62<4), IF(S62/P62*100<>0, IF(X62/P62*100>100,100,X62/P62*100), \"-\"),0)","v":43.530701754385966},{"$f":"COUNTRY_INFO!P62","v":26456.2},null,null,{"$f":"MAX('T1'!L62,'T2'!J62)+MAX('T1'!M62,'T2'!K62)+MAX('T1'!N62,'T2'!L62)","v":0},{"$f":"IF(COUNTRY_INFO!K62=1,IF(COUNTRY_INFO!F62*0.33>MAX('T1'!M62,'T2'!K62),MAX('T1'!M62,'T2'!K62),COUNTRY_INFO!F62*0.33),IF(COUNTRY_INFO!K62=2,IF(COUNTRY_INFO!F62*0.5>MAX('T1'!M62,'T2'!K62),MAX('T1'!M62,'T2'!K62),COUNTRY_INFO!F62*0.5),IF(COUNTRY_INFO!K62=3,IF(COUNTRY_INFO!F62>MAX('T1'!M62,'T2'!K62),MAX('T1'!M62,'T2'!K62),COUNTRY_INFO!F62),0)))","v":0},{"$f":"IF(AND(COUNTRY_INFO!K62>0,COUNTRY_INFO!L62<4),IF(Z62>0,IF(COUNTRY_INFO!K62=1, AD62/(COUNTRY_INFO!F62*0.33)*100, IF(COUNTRY_INFO!K62=2, AD62/(COUNTRY_INFO!F62*0.5)*100, IF(COUNTRY_INFO!K62=3, AD62/COUNTRY_INFO!F62*100))),\"-\"),0)","v":0},{"$f":"IF(COUNTRY_INFO!K62=2,IF(COUNTRY_INFO!G62*0.2>MAX('T1'!N62,'T2'!L62),MAX('T1'!N62,'T2'!L62),COUNTRY_INFO!G62*0.2),IF(COUNTRY_INFO!K62=3,IF(COUNTRY_INFO!G62>MAX('T1'!N62,'T2'!L62),MAX('T1'!N62,'T2'!L62),COUNTRY_INFO!G62),0))","v":0},{"$f":"IF(AND(COUNTRY_INFO!K62>0,COUNTRY_INFO!L62<4),IF(Z62>0,IF(COUNTRY_INFO!K62=1, 0, IF(COUNTRY_INFO!K62=2, AF62/(COUNTRY_INFO!G62*0.2)*100, IF(COUNTRY_INFO!K62=3, AF62/COUNTRY_INFO!G62*100))),\"-\"),0)","v":0},0,{"$f":"IF(AND(COUNTRY_INFO!K62>0,COUNTRY_INFO!K62<4), IF(AC62/Z62*100<>0, IF(AH62/Z62*100>100,100,AH62/Z62*100), \"-\"),0)","v":"-"},null,{"$f":"IF(AND(D62<>0, D62<>\"Unknown\",D62<>\"Stopped\",D62<>\"Not required\"),D62/COUNTRY_INFO!D62, 0)","v":0},{"$f":"IF(AND(J62<>0,J62<>\"Unknown\",J62<>\"Stopped\",J62<>\"Not required\"),J62/COUNTRY_INFO!D62, 0)","v":0},{"$f":"IF(AND(P62<>0,P62<>\"Unknown\",P62<>\"Not required\"),P62/(COUNTRY_INFO!E62+COUNTRY_INFO!F62), 0)","v":1},{"$f":"IF(AND(Z62<>0,Z62<>\"Unknown\",Z62<>\"Not required\"),IF(COUNTRY_INFO!K62=1,1,IF(COUNTRY_INFO!K62=2,0.5*COUNTRY_INFO!F62/(0.5*COUNTRY_INFO!F62+0.2*COUNTRY_INFO!G62),IF(COUNTRY_INFO!K62=3,COUNTRY_INFO!F62/(COUNTRY_INFO!F62+COUNTRY_INFO!G62)))),0)","v":0.56962073162434512},{"$f":"IF(AND(Z62<>0,Z62<>\"Unknown\",Z62<>\"Not required\"),IF(COUNTRY_INFO!K62=1,0,IF(COUNTRY_INFO!K62=2,0.2*COUNTRY_INFO!G62/(0.5*COUNTRY_INFO!F62+0.2*COUNTRY_INFO!G62),IF(COUNTRY_INFO!K62=3,COUNTRY_INFO!G62/(COUNTRY_INFO!F62+COUNTRY_INFO!G62)))),0)","v":0.43037926837565488},{"$f":"MAX(COUNTRY_INFO!D62*AK62*PROFILE!$G$7,COUNTRY_INFO!D62*AL62*PROFILE!$G$7)","v":0},{"$f":"MAX(COUNTRY_INFO!D62*AK62*PROFILE!$G$8,COUNTRY_INFO!D62*AL62*PROFILE!$G$8,COUNTRY_INFO!D62*AM62*PROFILE!$G$8)","v":17284.455166165175},{"$f":"MAX(COUNTRY_INFO!D62*AK62*PROFILE!$G$9,COUNTRY_INFO!D62*AL62*PROFILE!$G$9,COUNTRY_INFO!D62*AM62*PROFILE!$G$9,IF(AND(DISTRICT!Z62<>\"Unknown\",Z62<>\"Not required\"),COUNTRY_INFO!P62*DISTRICT!AN62,0))","v":30139.783108397663},{"$f":"MAX(COUNTRY_INFO!D62*AK62*PROFILE!$G$10,COUNTRY_INFO!D62*AL62*PROFILE!$G$10,IF(AND(DISTRICT!Z62<>\"Unknown\",Z62<>\"Not required\"),COUNTRY_INFO!P62*DISTRICT!AO62,0))","v":11386.2},58810.438274562839,0,{"$f":"MAX('MDA4'!R62,'T1'!L62,'T2'!J62,T3_R1!K62,T3_R2!K62)","v":0},{"$f":"MAX('MDA1'!K62,'MDA4'!S62,'MDA3'!I62,'MDA3'!L62,'T1'!M62,'T2'!K62,T3_R1!L62,T3_R2!L62)","v":20644},{"$f":"MAX('MDA1'!L62,'MDA4'!T62,'MDA3'!J62,'MDA3'!M62,'T1'!N62,'T2'!L62,T3_R1!M62,T3_R2!M62)","v":0},20644,{"$f":"MAX('MDA4'!R62,T62)","v":0},{"$f":"MAX('MDA1'!K62,'MDA4'!S62,'MDA3'!I62,'MDA3'!L62,V62,AD62)","v":20644},{"$f":"MAX('MDA1'!L62,'MDA4'!T62,'MDA3'!J62,'MDA3'!M62,AF62)","v":0},20644,35.102612062881207]
[{"$f":"IF(COUNTRY_INFO!A63=0,\" \",COUNTRY_INFO!A63)","v":"Angola"},{"$f":"IF(COUNTRY_INFO!B63=0,\" \",COUNTRY_INFO!B63)","v":"CUANZA SUL"},{"$f":"IF(COUNTRY_INFO!C63=0,\" \",COUNTRY_INFO!C63)","v":"MUSSENDE"},{"$f":"COUNTRY_INFO!M63","v":0},null,null,{"$f":"MAX('MDA1'!M63,'MDA4'!U63)","v":0},{"$f":"IF(AND(COUNTRY_INFO!H63>0,COUNTRY_INFO!H63<4),IF(D63>MAX('MDA1'!M63,'MDA4'!U63),MAX('MDA1'!M63,'MDA4'!U63),D63),0)","v":0},{"$f":"IF(AND(COUNTRY_INFO!H63>0,COUNTRY_INFO!H63<4), IF(G63/D63*100<>0, IF(G63/D63*100>100,100,G63/D63*100), \"-\"),0)","v":0},{"$f":"COUNTRY_INFO!N63","v":96851.906058504843},null,null,{"$f":"MAX('MDA1'!M63,MAX('MDA3'!I63,'MDA3'!L63)+MAX('MDA3'!J63,'MDA3'!M63))","v":0},{"$f":"IF(AND(COUNTRY_INFO!I63>0,COUNTRY_INFO!I63<4),IF(J63>MAX('MDA1'!M63,MAX('MDA3'!I63,'MDA3'!L63)+MAX('MDA3'!J63,'MDA3'!M63)),MAX('MDA1'!M63,MAX('MDA3'!I63,'MDA3'!L63)+MAX('MDA3'!J63,'MDA3'!M63)),J63),0)","v":0},{"$f":"IF(AND(COUNTRY_INFO!I63>0,COUNTRY_INFO!I63<4), IF(M63/J63*100<>0, IF(M63/J63*100>100,100,M63/J63*100), \"-\"),0)","v":"-"},{"$f":"COUNTRY_INFO!O63","v":42518},null,null,{"$f":"SUM(MAX('MDA4'!R63, 'T1'!L63, MAX(T3_R1!K63, T3_R2!K63)), MAX('MDA1'!K63, 'MDA4'!S63, 'T1'!M63, MAX(T3_R1!L63, T3_R2!L63)), MAX('MDA1'!L63, 'MDA4'!T63, 'T1'!N63, MAX(T3_R1!M63, T3_R2!M63)))","v":29228},{"$f":"IF(AND(COUNTRY_INFO!J63>1,COUNTRY_INFO!J63<4),IF(COUNTRY_INFO!E63>MAX('MDA4'!R63,'T1'!L63,MAX(T3_R1!K63,T3_R2!K63)),MAX('MDA4'!R63,'T1'!L63,MAX(T3_R1!K63,T3_R2!K63)),COUNTRY_INFO!E63),0)","v":0},{"$f":"IF(AND(COUNTRY_INFO!J63>1,COUNTRY_INFO!J63<4), IF(T63/COUNTRY_INFO!E63*100<>0, IF(T63/COUNTRY_INFO!E63*100>100,100,T63/COUNTRY_INFO!E63*100), \"-\"),0)","v":"-"},{"$f":"IF(AND(COUNTRY_INFO!J63>1,COUNTRY_INFO!J63<4),IF(COUNTRY_INFO!F63>MAX('MDA1'!K63,'MDA4'!S63,'T1'!M63,MAX(T3_R1!L63,T3_R2!L63)),MAX('MDA1'!K63,'MDA4'!S63,'T1'!M63,MAX(T3_R1!L63,T3_R2!L63)),COUNTRY_INFO!F63),0)","v":27022},{"$f":"IF(AND(COUNTRY_INFO!J63>1,COUNTRY_INFO!J63<4), IF(V63/COUNTRY_INFO!F63*100<>0, IF(V63/COUNTRY_INFO!F63*100>100,100,V63/COUNTRY_INFO!F63*100), \"-\"),0)","v":100},27022,{"$f":"IF(AND(COUNTRY_INFO!J63>1,COUNTRY_INFO!J63<4), IF(S63/P63*100<>0, IF(X63/P63*100>100,100,X63/P63*100), \"-\"),0)","v":63.554259372501051},{"$f":"COUNTRY_INFO!P63","v":23719.200000000001},null,null,{"$f":"MAX('T1'!L63,'T2'!J63)+MAX('T1'!M63,'T2'!K63)+MAX('T1'!N63,'T2'!L63)","v":0},{"$f":"IF(COUNTRY_INFO!K63=1,IF(COUNTRY_INFO!F63*0.33>MAX('T1'!M63,'T2'!K63),MAX('T1'!M63,'T2'!K63),COUNTRY_INFO!F63*0.33),IF(COUNTRY_INFO!K63=2,IF(COUNTRY_INFO!F63*0.5>MAX('T1'!M63,'T2'!K63),MAX('T1'!M63,'T2'!K63),COUNTRY_INFO!F63*0.5),IF(COUNTRY_INFO!K63=3,IF(COUNTRY_INFO!F63>MAX('T1'!M63,'T2'!K63),MAX('T1'!M63,'T2'!K63),COUNTRY_INFO!F63),0)))","v":0},{"$f":"IF(AND(COUNTRY_INFO!K63>0,COUNTRY_INFO!L63<4),IF(Z63>0,IF(COUNTRY_INFO!K63=1, AD63/(COUNTRY_INFO!F63*0.33)*100, IF(COUNTRY_INFO!K63=2, AD63/(COUNTRY_INFO!F63*0.5)*100, IF(COUNTRY_INFO!K63=3, AD63/COUNTRY_INFO!F63*100))),\"-\"),0)","v":0},{"$f":"IF(COUNTRY_INFO!K63=2,IF(COUNTRY_INFO!G63*0.2>MAX('T1'!N63,'T2'!L63),MAX('T1'!N63,'T2'!L63),COUNTRY_INFO!G63*0.2),IF(COUNTRY_INFO!K63=3,IF(COUNTRY_INFO!G63>MAX('T1'!N63,'T2'!L63),MAX('T1'!N63,'T2'!L63),COUNTRY_INFO!G63),0))","v":0},{"$f":"IF(AND(COUNTRY_INFO!K63>0,COUNTRY_INFO!L63<4),IF(Z63>0,IF(COUNTRY_INFO!K63=1, 0, IF(COUNTRY_INFO!K63=2, AF63/(COUNTRY_INFO!G63*0.2)*100, IF(COUNTRY_INFO!K63=3, AF63/COUNTRY_INFO!G63*100))),\"-\"),0)","v":0},0,{"$f":"IF(AND(COUNTRY_INFO!K63>0,COUNTRY_INFO!K63<4), IF(AC63/Z63*100<>0, IF(AH63/Z63*100>100,100,AH63/Z63*100), \"-\"),0)","v":"-"},null,{"$f":"IF(AND(D63<>0, D63<>\"Unknown\",D63<>\"Stopped\",D63<>\"Not required\"),D63/COUNTRY_INFO!D63, 0)","v":0},{"$f":"IF(AND(J63<>0,J63<>\"Unknown\",J63<>\"Stopped\",J63<>\"Not required\"),J63/COUNTRY_INFO!D63, 0)","v":1},{"$f":"IF(AND(P63<>0,P63<>\"Unknown\",P63<>\"Not required\"),P63/(COUNTRY_INFO!E63+COUNTRY_INFO!F63), 0)","v":1},{"$f":"IF(AND(Z63<>0,Z63<>\"Unknown\",Z63<>\"Not required\"),IF(COUNTRY_INFO!K63=1,1,IF(COUNTRY_INFO!K63=2,0.5*COUNTRY_INFO!F63/(0.5*COUNTRY_INFO!F63+0.2*COUNTRY_INFO!G63),IF(COUNTRY_INFO!K63=3,COUNTRY_INFO!F63/(COUNTRY_INFO!F63+COUNTRY_INFO!G63)))),0)","v":0.56962292151505955},{"$f":"IF(AND(Z63<>0,Z63<>\"Unknown\",Z63<>\"Not required\"),IF(COUNTRY_INFO!K63=1,0,IF(COUNTRY_INFO!K63=2,0.2*COUNTRY_INFO!G63/(0.5*COUNTRY_INFO!F63+0.2*COUNTRY_INFO!G63),IF(COUNTRY_INFO!K63=3,COUNTRY_INFO!G63/(COUNTRY_INFO!F63+COUNTRY_INFO!G63)))),0)","v":0.4303770784849405},{"$f":"MAX(COUNTRY_INFO!D63*AK63*PROFILE!$G$7,COUNTRY_INFO!D63*AL63*PROFILE!$G$7)","v":3292.9883545491721},{"$f":"MAX(COUNTRY_INFO!D63*AK63*PROFILE!$G$8,COUNTRY_INFO!D63*AL63*PROFILE!$G$8,COUNTRY_INFO!D63*AM63*PROFILE!$G$8)","v":15496.291555636948},{"$f":"MAX(COUNTRY_INFO!D63*AK63*PROFILE!$G$9,COUNTRY_INFO!D63*AL63*PROFILE!$G$9,COUNTRY_INFO!D63*AM63*PROFILE!$G$9,IF(AND(DISTRICT!Z63<>\"Unknown\",Z63<>\"Not required\"),COUNTRY_INFO!P63*DISTRICT!AN63,0))","v":27021.671321504273},{"$f":"MAX(COUNTRY_INFO!D63*AK63*PROFILE!$G$10,COUNTRY_INFO!D63*AL63*PROFILE!$G$10,IF(AND(DISTRICT!Z63<>\"Unknown\",Z63<>\"Not required\"),COUNTRY_INFO!P63*DISTRICT!AO63,0))","v":51040.95482681445},96851.906058504843,0,{"$f":"MAX('MDA4'!R63,'T1'!L63,'T2'!J63,T3_R1!K63,T3_R2!K63)","v":0},{"$f":"MAX('MDA1'!K63,'MDA4'!S63,'MDA3'!I63,'MDA3'!L63,'T1'!M63,'T2'!K63,T3_R1!L63,T3_R2!L63)","v":29228},{"$f":"MAX('MDA1'!L63,'MDA4'!T63,'MDA3'!J63,'MDA3'!M63,'T1'!N63,'T2'!L63,T3_R1!M63,T3_R2!M63)","v":0},29228,{"$f":"MAX('MDA4'!R63,T63)","v":0},{"$f":"MAX('MDA1'!K63,'MDA4'!S63,'MDA3'!I63,'MDA3'!L63,V63,AD63)","v":27022},{"$f":"MAX('MDA1'!L63,'MDA4'!T63,'MDA3'!J63,'MDA3'!M63,AF63)","v":0},27022,27.900328552828846]
[{"$f":"IF(COUNTRY_INFO!A64=0,\" \",COUNTRY_INFO!A64)","v":"Angola"},{"$f":"IF(COUNTRY_INFO!B64=0,\" \",COUNTRY_INFO!B64)","v":"CUANZA SUL"},{"$f":"IF(COUNTRY_INFO!C64=0,\" \",COUNTRY_INFO!C64)","v":"PORTO AMBOIM"},{"$f":"COUNTRY_INFO!M64","v":147804.05304181765},null,null,{"$f":"MAX('MDA1'!M64,'MDA4'!U64)","v":0},{"$f":"IF(AND(COUNTRY_INFO!H64>0,COUNTRY_INFO!H64<4),IF(D64>MAX('MDA1'!M64,'MDA4'!U64),MAX('MDA1'!M64,'MDA4'!U64),D64),0)","v":0},{"$f":"IF(AND(COUNTRY_INFO!H64>0,COUNTRY_INFO!H64<4), IF(G64/D64*100<>0, IF(G64/D64*100>100,100,G64/D64*100), \"-\"),0)","v":"-"},{"$f":"COUNTRY_INFO!N64","v":147804.05304181765},null,null,{"$f":"MAX('MDA1'!M64,MAX('MDA3'!I64,'MDA3'!L64)+MAX('MDA3'!J64,'MDA3'!M64))","v":0},{"$f":"IF(AND(COUNTRY_INFO!I64>0,COUNTRY_INFO!I64<4),IF(J64>MAX('MDA1'!M64,MAX('MDA3'!I64,'MDA3'!L64)+MAX('MDA3'!J64,'MDA3'!M64)),MAX('MDA1'!M64,MAX('MDA3'!I64,'MDA3'!L64)+MAX('MDA3'!J64,'MDA3'!M64)),J64),0)","v":0},{"$f":"IF(AND(COUNTRY_INFO!I64>0,COUNTRY_INFO!I64<4), IF(M64/J64*100<>0, IF(M64/J64*100>100,100,M64/J64*100), \"-\"),0)","v":"-"},{"$f":"COUNTRY_INFO!O64","v":64886},null,null,{"$f":"SUM(MAX('MDA4'!R64, 'T1'!L64, MAX(T3_R1!K64, T3_R2!K64)), MAX('MDA1'!K64, 'MDA4'!S64, 'T1'!M64, MAX(T3_R1!L64, T3_R2!L64)), MAX('MDA1'!L64, 'MDA4'!T64, 'T1'!N64, MAX(T3_R1!M64, T3_R2!M64)))","v":34644},{"$f":"IF(AND(COUNTRY_INFO!J64>1,COUNTRY_INFO!J64<4),IF(COUNTRY_INFO!E64>MAX('MDA4'!R64,'T1'!L64,MAX(T3_R1!K64,T3_R2!K64)),MAX('MDA4'!R64,'T1'!L64,MAX(T3_R1!K64,T3_R2!K64)),COUNTRY_INFO!E64),0)","v":0},{"$f":"IF(AND(COUNTRY_INFO!J64>1,COUNTRY_INFO!J64<4), IF(T64/COUNTRY_INFO!E64*100<>0, IF(T64/COUNTRY_INFO!E64*100>100,100,T64/COUNTRY_INFO!E64*100), \"-\"),0)","v":"-"},{"$f":"IF(AND(COUNTRY_INFO!J64>1,COUNTRY_INFO!J64<4),IF(COUNTRY_INFO!F64>MAX('MDA1'!K64,'MDA4'!S64,'T1'!M64,MAX(T3_R1!L64,T3_R2!L64)),MAX('MDA1'!K64,'MDA4'!S64,'T1'!M64,MAX(T3_R1!L64,T3_R2!L64)),COUNTRY_INFO!F64),0)","v":34644},{"$f":"IF(AND(COUNTRY_INFO!J64>1,COUNTRY_INFO!J64<4), IF(V64/COUNTRY_INFO!F64*100<>0, IF(V64/COUNTRY_INFO!F64*100>100,100,V64/COUNTRY_INFO!F64*100), \"-\"),0)","v":84.011931032810338},34644,{"$f":"IF(AND(COUNTRY_INFO!J64>1,COUNTRY_INFO!J64<4), IF(S64/P64*100<>0, IF(X64/P64*100>100,100,X64/P64*100), \"-\"),0)","v":53.392103073082019},{"$f":"COUNTRY_INFO!P64","v":36197.1},null,null,{"$f":"MAX('T1'!L64,'T2'!J64)+MAX('T1'!M64,'T2'!K64)+MAX('T1'!N64,'T2'!L64)","v":0},{"$f":"IF(COUNTRY_INFO!K64=1,IF(COUNTRY_INFO!F64*0.33>MAX('T1'!M64,'T2'!K64),MAX('T1'!M64,'T2'!K64),COUNTRY_INFO!F64*0.33),IF(COUNTRY_INFO!K64=2,IF(COUNTRY_INFO!F64*0.5>MAX('T1'!M64,'T2'!K64),MAX('T1'!M64,'T2'!K64),COUNTRY_INFO!F64*0.5),IF(COUNTRY_INFO!K64=3,IF(COUNTRY_INFO!F64>MAX('T1'!M64,'T2'!K64),MAX('T1'!M64,'T2'!K64),COUNTRY_INFO!F64),0)))","v":0},{"$f":"IF(AND(COUNTRY_INFO!K64>0,COUNTRY_INFO!L64<4),IF(Z64>0,IF(COUNTRY_INFO!K64=1, AD64/(COUNTRY_INFO!F64*0.33)*100, IF(COUNTRY_INFO!K64=2, AD64/(COUNTRY_INFO!F64*0.5)*100, IF(COUNTRY_INFO!K64=3, AD64/COUNTRY_INFO!F64*100))),\"-\"),0)","v":0},{"$f":"IF(COUNTRY_INFO!K64=2,IF(COUNTRY_INFO!G64*0.2>MAX('T1'!N64,'T2'!L64),MAX('T1'!N64,'T2'!L64),COUNTRY_INFO!G64*0.2),IF(COUNTRY_INFO!K64=3,IF(COUNTRY_INFO!G64>MAX('T1'!N64,'T2'!L64),MAX('T1'!N64,'T2'!L64),COUNTRY_INFO!G64),0))","v":0},{"$f":"IF(AND(COUNTRY_INFO!K64>0,COUNTRY_INFO!L64<4),IF(Z64>0,IF(COUNTRY_INFO!K64=1, 0, IF(COUNTRY_INFO!K64=2, AF64/(COUNTRY_INFO!G64*0.2)*100, IF(COUNTRY_INFO!K64=3, AF64/COUNTRY_INFO!G64*100))),\"-\"),0)","v":0},0,{"$f":"IF(AND(COUNTRY_INFO!K64>0,COUNTRY_INFO!K64<4), IF(AC64/Z64*100<>0, IF(AH64/Z64*100>100,100,AH64/Z64*100), \"-\"),0)","v":"-"},null,{"$f":"IF(AND(D64<>0, D64<>\"Unknown\",D64<>\"Stopped\",D64<>\"Not required\"),D64/COUNTRY_INFO!D64, 0)","v":1},{"$f":"IF(AND(J64<>0,J64<>\"Unknown\",J64<>\"Stopped\",J64<>\"Not required\"),J64/COUNTRY_INFO!D64, 0)","v":1},{"$f":"IF(AND(P64<>0,P64<>\"Unknown\",P64<>\"Not required\"),P64/(COUNTRY_INFO!E64+COUNTRY_INFO!F64), 0)","v":1},{"$f":"IF(AND(Z64<>0,Z64<>\"Unknown\",Z64<>\"Not required\"),IF(COUNTRY_INFO!K64=1,1,IF(COUNTRY_INFO!K64=2,0.5*COUNTRY_INFO!F64/(0.5*COUNTRY_INFO!F64+0.2*COUNTRY_INFO!G64),IF(COUNTRY_INFO!K64=3,COUNTRY_INFO!F64/(COUNTRY_INFO!F64+COUNTRY_INFO!G64)))),0)","v":0.56961745554201859},{"$f":"IF(AND(Z64<>0,Z64<>\"Unknown\",Z64<>\"Not required\"),IF(COUNTRY_INFO!K64=1,0,IF(COUNTRY_INFO!K64=2,0.2*COUNTRY_INFO!G64/(0.5*COUNTRY_INFO!F64+0.2*COUNTRY_INFO!G64),IF(COUNTRY_INFO!K64=3,COUNTRY_INFO!G64/(COUNTRY_INFO!F64+COUNTRY_INFO!G64)))),0)","v":0.43038254445798146},{"$f":"MAX(COUNTRY_INFO!D64*AK64*PROFILE!$G$7,COUNTRY_INFO!D64*AL64*PROFILE!$G$7)","v":5025.3737404802851},{"$f":"MAX(COUNTRY_INFO!D64*AK64*PROFILE!$G$8,COUNTRY_INFO!D64*AL64*PROFILE!$G$8,COUNTRY_INFO!D64*AM64*PROFILE!$G$8)","v":23648.628016234139},{"$f":"MAX(COUNTRY_INFO!D64*AK64*PROFILE!$G$9,COUNTRY_INFO!D64*AL64*PROFILE!$G$9,COUNTRY_INFO!D64*AM64*PROFILE!$G$9,IF(AND(DISTRICT!Z64<>\"Unknown\",Z64<>\"Not required\"),COUNTRY_INFO!P64*DISTRICT!AN64,0))","v":41237.314822380446},{"$f":"MAX(COUNTRY_INFO!D64*AK64*PROFILE!$G$10,COUNTRY_INFO!D64*AL64*PROFILE!$G$10,IF(AND(DISTRICT!Z64<>\"Unknown\",Z64<>\"Not required\"),COUNTRY_INFO!P64*DISTRICT!AO64,0))","v":77892.73646272278},147804.05304181765,0,{"$f":"MAX('MDA4'!R64,'T1'!L64,'T2'!J64,T3_R1!K64,T3_R2!K64)","v":0},{"$f":"MAX('MDA1'!K64,'MDA4'!S64,'MDA3'!I64,'MDA3'!L64,'T1'!M64,'T2'!K64,T3_R1!L64,T3_R2!L64)","v":34644},{"$f":"MAX('MDA1'!L64,'MDA4'!T64,'MDA3'!J64,'MDA3'!M64,'T1'!N64,'T2'!L64,T3_R1!M64,T3_R2!M64)","v":0},34644,{"$f":"MAX('MDA4'!R64,T64)","v":0},{"$f":"MAX('MDA1'!K64,'MDA4'!S64,'MDA3'!I64,'MDA3'!L64,V64,AD64)","v":34644},{"$f":"MAX('MDA1'!L64,'MDA4'!T64,'MDA3'!J64,'MDA3'!M64,AF64)","v":0},34644,23.439140731951579]
[{"$f":"IF(COUNTRY_INFO!A65=0,\" \",COUNTRY_INFO!A65)","v":"Angola"},{"$f":"IF(COUNTRY_INFO!B65=0,\" \",COUNTRY_INFO!B65)","v":"CUANZA SUL"},{"$f":"IF(COUNTRY_INFO!C65=0,\" \",COUNTRY_INFO!C65)","v":"QUIBALA"},{"$f":"COUNTRY_INFO!M65","v":0},null,null,{"$f":"MAX('MDA1'!M65,'MDA4'!U65)","v":0},{"$f":"IF(AND(COUNTRY_INFO!H65>0,COUNTRY_INFO!H65<4),IF(D65>MAX('MDA1'!M65,'MDA4'!U65),MAX('MDA1'!M65,'MDA4'!U65),D65),0)","v":0},{"$f":"IF(AND(COUNTRY_INFO!H65>0,COUNTRY_INFO!H65<4), IF(G65/D65*100<>0, IF(G65/D65*100>100,100,G65/D65*100), \"-\"),0)","v":0},{"$f":"COUNTRY_INFO!N65","v":"Unknown"},null,null,{"$f":"MAX('MDA1'!M65,MAX('MDA3'!I65,'MDA3'!L65)+MAX('MDA3'!J65,'MDA3'!M65))","v":0},{"$f":"IF(AND(COUNTRY_INFO!I65>0,COUNTRY_INFO!I65<4),IF(J65>MAX('MDA1'!M65,MAX('MDA3'!I65,'MDA3'!L65)+MAX('MDA3'!J65,'MDA3'!M65)),MAX('MDA1'!M65,MAX('MDA3'!I65,'MDA3'!L65)+MAX('MDA3'!J65,'MDA3'!M65)),J65),0)","v":0},{"$f":"IF(AND(COUNTRY_INFO!I65>0,COUNTRY_INFO!I65<4), IF(M65/J65*100<>0, IF(M65/J65*100>100,100,M65/J65*100), \"-\"),0)","v":0},{"$f":"COUNTRY_INFO!O65","v":73173},null,null,{"$f":"SUM(MAX('MDA4'!R65, 'T1'!L65, MAX(T3_R1!K65, T3_R2!K65)), MAX('MDA1'!K65, 'MDA4'!S65, 'T1'!M65, MAX(T3_R1!L65, T3_R2!L65)), MAX('MDA1'!L65, 'MDA4'!T65, 'T1'!N65, MAX(T3_R1!M65, T3_R2!M65)))","v":31314},{"$f":"IF(AND(COUNTRY_INFO!J65>1,COUNTRY_INFO!J65<4),IF(COUNTRY_INFO!E65>MAX('MDA4'!R65,'T1'!L65,MAX(T3_R1!K65,T3_R2!K65)),MAX('MDA4'!R65,'T1'!L65,MAX(T3_R1!K65,T3_R2!K65)),COUNTRY_INFO!E65),0)","v":0},{"$f":"IF(AND(COUNTRY_INFO!J65>1,COUNTRY_INFO!J65<4), IF(T65/COUNTRY_INFO!E65*100<>0, IF(T65/COUNTRY_INFO!E65*100>100,100,T65/COUNTRY_INFO!E65*100), \"-\"),0)","v":"-"},{"$f":"IF(AND(COUNTRY_INFO!J65>1,COUNTRY_INFO!J65<4),IF(COUNTRY_INFO!F65>MAX('MDA1'!K65,'MDA4'!S65,'T1'!M65,MAX(T3_R1!L65,T3_R2!L65)),MAX('MDA1'!K65,'MDA4'!S65,'T1'!M65,MAX(T3_R1!L65,T3_R2!L65)),COUNTRY_INFO!F65),0)","v":31314},{"$f":"IF(AND(COUNTRY_INFO!J65>1,COUNTRY_INFO!J65<4), IF(V65/COUNTRY_INFO!F65*100<>0, IF(V65/COUNTRY_INFO!F65*100>100,100,V65/COUNTRY_INFO!F65*100), \"-\"),0)","v":67.336143127472909},31314,{"$f":"IF(AND(COUNTRY_INFO!J65>1,COUNTRY_INFO!J65<4), IF(S65/P65*100<>0, IF(X65/P65*100>100,100,X65/P65*100), \"-\"),0)","v":42.794473371325488},{"$f":"COUNTRY_INFO!P65","v":40820.199999999997},null,null,{"$f":"MAX('T1'!L65,'T2'!J65)+MAX('T1'!M65,'T2'!K65)+MAX('T1'!N65,'T2'!L65)","v":0},{"$f":"IF(COUNTRY_INFO!K65=1,IF(COUNTRY_INFO!F65*0.33>MAX('T1'!M65,'T2'!K65),MAX('T1'!M65,'T2'!K65),COUNTRY_INFO!F65*0.33),IF(COUNTRY_INFO!K65=2,IF(COUNTRY_INFO!F65*0.5>MAX('T1'!M65,'T2'!K65),MAX('T1'!M65,'T2'!K65),COUNTRY_INFO!F65*0.5),IF(COUNTRY_INFO!K65=3,IF(COUNTRY_INFO!F65>MAX('T1'!M65,'T2'!K65),MAX('T1'!M65,'T2'!K65),COUNTRY_INFO!F65),0)))","v":0},{"$f":"IF(AND(COUNTRY_INFO!K65>0,COUNTRY_INFO!L65<4),IF(Z65>0,IF(COUNTRY_INFO!K65=1, AD65/(COUNTRY_INFO!F65*0.33)*100, IF(COUNTRY_INFO!K65=2, AD65/(COUNTRY_INFO!F65*0.5)*100, IF(COUNTRY_INFO!K65=3, AD65/COUNTRY_INFO!F65*100))),\"-\"),0)","v":0},{"$f":"IF(COUNTRY_INFO!K65=2,IF(COUNTRY_INFO!G65*0.2>MAX('T1'!N65,'T2'!L65),MAX('T1'!N65,'T2'!L65),COUNTRY_INFO!G65*0.2),IF(COUNTRY_INFO!K65=3,IF(COUNTRY_INFO!G65>MAX('T1'!N65,'T2'!L65),MAX('T1'!N65,'T2'!L65),COUNTRY_INFO!G65),0))","v":0},{"$f":"IF(AND(COUNTRY_INFO!K65>0,COUNTRY_INFO!L65<4),IF(Z65>0,IF(COUNTRY_INFO!K65=1, 0, IF(COUNTRY_INFO!K65=2, AF65/(COUNTRY_INFO!G65*0.2)*100, IF(COUNTRY_INFO!K65=3, AF65/COUNTRY_INFO!G65*100))),\"-\"),0)","v":0},0,{"$f":"IF(AND(COUNTRY_INFO!K65>0,COUNTRY_INFO!K65<4), IF(AC65/Z65*100<>0, IF(AH65/Z65*100>100,100,AH65/Z65*100), \"-\"),0)","v":"-"},null,{"$f":"IF(AND(D65<>0, D65<>\"Unknown\",D65<>\"Stopped\",D65<>\"Not required\"),D65/COUNTRY_INFO!D65, 0)","v":0},{"$f":"IF(AND(J65<>0,J65<>\"Unknown\",J65<>\"Stopped\",J65<>\"Not required\"),J65/COUNTRY_INFO!D65, 0)","v":0},{"$f":"IF(AND(P65<>0,P65<>\"Unknown\",P65<>\"Not required\"),P65/(COUNTRY_INFO!E65+COUNTRY_INFO!F65), 0)","v":1},{"$f":"IF(AND(Z65<>0,Z65<>\"Unknown\",Z65<>\"Not required\"),IF(COUNTRY_INFO!K65=1,1,IF(COUNTRY_INFO!K65=2,0.5*COUNTRY_INFO!F65/(0.5*COUNTRY_INFO!F65+0.2*COUNTRY_INFO!G65),IF(COUNTRY_INFO!K65=3,COUNTRY_INFO!F65/(COUNTRY_INFO!F65+COUNTRY_INFO!G65)))),0)","v":0.56961994306740293},{"$f":"IF(AND(Z65<>0,Z65<>\"Unknown\",Z65<>\"Not required\"),IF(COUNTRY_INFO!K65=1,0,IF(COUNTRY_INFO!K65=2,0.2*COUNTRY_INFO!G65/(0.5*COUNTRY_INFO!F65+0.2*COUNTRY_INFO!G65),IF(COUNTRY_INFO!K65=3,COUNTRY_INFO!G65/(COUNTRY_INFO!F65+COUNTRY_INFO!G65)))),0)","v":0.43038005693259712},{"$f":"MAX(COUNTRY_INFO!D65*AK65*PROFILE!$G$7,COUNTRY_INFO!D65*AL65*PROFILE!$G$7)","v":0},{"$f":"MAX(COUNTRY_INFO!D65*AK65*PROFILE!$G$8,COUNTRY_INFO!D65*AL65*PROFILE!$G$8,COUNTRY_INFO!D65*AM65*PROFILE!$G$8)","v":26668.887981187218},{"$f":"MAX(COUNTRY_INFO!D65*AK65*PROFILE!$G$9,COUNTRY_INFO!D65*AL65*PROFILE!$G$9,COUNTRY_INFO!D65*AM65*PROFILE!$G$9,IF(AND(DISTRICT!Z65<>\"Unknown\",Z65<>\"Not required\"),COUNTRY_INFO!P65*DISTRICT!AN65,0))","v":46503.895654668202},{"$f":"MAX(COUNTRY_INFO!D65*AK65*PROFILE!$G$10,COUNTRY_INFO!D65*AL65*PROFILE!$G$10,IF(AND(DISTRICT!Z65<>\"Unknown\",Z65<>\"Not required\"),COUNTRY_INFO!P65*DISTRICT!AO65,0))","v":17568.2},90740.983635855417,0,{"$f":"MAX('MDA4'!R65,'T1'!L65,'T2'!J65,T3_R1!K65,T3_R2!K65)","v":0},{"$f":"MAX('MDA1'!K65,'MDA4'!S65,'MDA3'!I65,'MDA3'!L65,'T1'!M65,'T2'!K65,T3_R1!L65,T3_R2!L65)","v":31314},{"$f":"MAX('MDA1'!L65,'MDA4'!T65,'MDA3'!J65,'MDA3'!M65,'T1'!N65,'T2'!L65,T3_R1!M65,T3_R2!M65)","v":0},31314,{"$f":"MAX('MDA4'!R65,T65)","v":0},{"$f":"MAX('MDA1'!K65,'MDA4'!S65,'MDA3'!I65,'MDA3'!L65,V65,AD65)","v":31314},{"$f":"MAX('MDA1'!L65,'MDA4'!T65,'MDA3'!J65,'MDA3'!M65,AF65)","v":0},31314,34.509213748071581]
[{"$f":"IF(COUNTRY_INFO!A66=0,\" \",COUNTRY_INFO!A66)","v":"Angola"},{"$f":"IF(COUNTRY_INFO!B66=0,\" \",COUNTRY_INFO!B66)","v":"CUANZA SUL"},{"$f":"IF(COUNTRY_INFO!C66=0,\" \",COUNTRY_INFO!C66)","v":"QUILENDA"},{"$f":"COUNTRY_INFO!M66","v":"Unknown"},null,null,{"$f":"MAX('MDA1'!M66,'MDA4'!U66)","v":0},{"$f":"IF(AND(COUNTRY_INFO!H66>0,COUNTRY_INFO!H66<4),IF(D66>MAX('MDA1'!M66,'MDA4'!U66),MAX('MDA1'!M66,'MDA4'!U66),D66),0)","v":0},{"$f":"IF(AND(COUNTRY_INFO!H66>0,COUNTRY_INFO!H66<4), IF(G66/D66*100<>0, IF(G66/D66*100>100,100,G66/D66*100), \"-\"),0)","v":0},{"$f":"COUNTRY_INFO!N66","v":"Unknown"},null,null,{"$f":"MAX('MDA1'!M66,MAX('MDA3'!I66,'MDA3'!L66)+MAX('MDA3'!J66,'MDA3'!M66))","v":0},{"$f":"IF(AND(COUNTRY_INFO!I66>0,COUNTRY_INFO!I66<4),IF(J66>MAX('MDA1'!M66,MAX('MDA3'!I66,'MDA3'!L66)+MAX('MDA3'!J66,'MDA3'!M66)),MAX('MDA1'!M66,MAX('MDA3'!I66,'MDA3'!L66)+MAX('MDA3'!J66,'MDA3'!M66)),J66),0)","v":0},{"$f":"IF(AND(COUNTRY_INFO!I66>0,COUNTRY_INFO!I66<4), IF(M66/J66*100<>0, IF(M66/J66*100>100,100,M66/J66*100), \"-\"),0)","v":0},{"$f":"COUNTRY_INFO!O66","v":50298},null,null,{"$f":"SUM(MAX('MDA4'!R66, 'T1'!L66, MAX(T3_R1!K66, T3_R2!K66)), MAX('MDA1'!K66, 'MDA4'!S66, 'T1'!M66, MAX(T3_R1!L66, T3_R2!L66)), MAX('MDA1'!L66, 'MDA4'!T66, 'T1'!N66, MAX(T3_R1!M66, T3_R2!M66)))","v":26731},{"$f":"IF(AND(COUNTRY_INFO!J66>1,COUNTRY_INFO!J66<4),IF(COUNTRY_INFO!E66>MAX('MDA4'!R66,'T1'!L66,MAX(T3_R1!K66,T3_R2!K66)),MAX('MDA4'!R66,'T1'!L66,MAX(T3_R1!K66,T3_R2!K66)),COUNTRY_INFO!E66),0)","v":0},{"$f":"IF(AND(COUNTRY_INFO!J66>1,COUNTRY_INFO!J66<4), IF(T66/COUNTRY_INFO!E66*100<>0, IF(T66/COUNTRY_INFO!E66*100>100,100,T66/COUNTRY_INFO!E66*100), \"-\"),0)","v":"-"},{"$f":"IF(AND(COUNTRY_INFO!J66>1,COUNTRY_INFO!J66<4),IF(COUNTRY_INFO!F66>MAX('MDA1'!K66,'MDA4'!S66,'T1'!M66,MAX(T3_R1!L66,T3_R2!L66)),MAX('MDA1'!K66,'MDA4'!S66,'T1'!M66,MAX(T3_R1!L66,T3_R2!L66)),COUNTRY_INFO!F66),0)","v":26731},{"$f":"IF(AND(COUNTRY_INFO!J66>1,COUNTRY_INFO!J66<4), IF(V66/COUNTRY_INFO!F66*100<>0, IF(V66/COUNTRY_INFO!F66*100>100,100,V66/COUNTRY_INFO!F66*100), \"-\"),0)","v":83.623224676218484},26731,{"$f":"IF(AND(COUNTRY_INFO!J66>1,COUNTRY_INFO!J66<4), IF(S66/P66*100<>0, IF(X66/P66*100>100,100,X66/P66*100), \"-\"),0)","v":53.145254284464592},{"$f":"COUNTRY_INFO!P66","v":28059},null,null,{"$f":"MAX('T1'!L66,'T2'!J66)+MAX('T1'!M66,'T2'!K66)+MAX('T1'!N66,'T2'!L66)","v":0},{"$f":"IF(COUNTRY_INFO!K66=1,IF(COUNTRY_INFO!F66*0.33>MAX('T1'!M66,'T2'!K66),MAX('T1'!M66,'T2'!K66),COUNTRY_INFO!F66*0.33),IF(COUNTRY_INFO!K66=2,IF(COUNTRY_INFO!F66*0.5>MAX('T1'!M66,'T2'!K66),MAX('T1'!M66,'T2'!K66),COUNTRY_INFO!F66*0.5),IF(COUNTRY_INFO!K66=3,IF(COUNTRY_INFO!F66>MAX('T1'!M66,'T2'!K66),MAX('T1'!M66,'T2'!K66),COUNTRY_INFO!F66),0)))","v":0},{"$f":"IF(AND(COUNTRY_INFO!K66>0,COUNTRY_INFO!L66<4),IF(Z66>0,IF(COUNTRY_INFO!K66=1, AD66/(COUNTRY_INFO!F66*0.33)*100, IF(COUNTRY_INFO!K66=2, AD66/(COUNTRY_INFO!F66*0.5)*100, IF(COUNTRY_INFO!K66=3, AD66/COUNTRY_INFO!F66*100))),\"-\"),0)","v":0},{"$f":"IF(COUNTRY_INFO!K66=2,IF(COUNTRY_INFO!G66*0.2>MAX('T1'!N66,'T2'!L66),MAX('T1'!N66,'T2'!L66),COUNTRY_INFO!G66*0.2),IF(COUNTRY_INFO!K66=3,IF(COUNTRY_INFO!G66>MAX('T1'!N66,'T2'!L66),MAX('T1'!N66,'T2'!L66),COUNTRY_INFO!G66),0))","v":0},{"$f":"IF(AND(COUNTRY_INFO!K66>0,COUNTRY_INFO!L66<4),IF(Z66>0,IF(COUNTRY_INFO!K66=1, 0, IF(COUNTRY_INFO!K66=2, AF66/(COUNTRY_INFO!G66*0.2)*100, IF(COUNTRY_INFO!K66=3, AF66/COUNTRY_INFO!G66*100))),\"-\"),0)","v":0},0,{"$f":"IF(AND(COUNTRY_INFO!K66>0,COUNTRY_INFO!K66<4), IF(AC66/Z66*100<>0, IF(AH66/Z66*100>100,100,AH66/Z66*100), \"-\"),0)","v":"-"},null,{"$f":"IF(AND(D66<>0, D66<>\"Unknown\",D66<>\"Stopped\",D66<>\"Not required\"),D66/COUNTRY_INFO!D66, 0)","v":0},{"$f":"IF(AND(J66<>0,J66<>\"Unknown\",J66<>\"Stopped\",J66<>\"Not required\"),J66/COUNTRY_INFO!D66, 0)","v":0},{"$f":"IF(AND(P66<>0,P66<>\"Unknown\",P66<>\"Not required\"),P66/(COUNTRY_INFO!E66+COUNTRY_INFO!F66), 0)","v":1},{"$f":"IF(AND(Z66<>0,Z66<>\"Unknown\",Z66<>\"Not required\"),IF(COUNTRY_INFO!K66=1,1,IF(COUNTRY_INFO!K66=2,0.5*COUNTRY_INFO!F66/(0.5*COUNTRY_INFO!F66+0.2*COUNTRY_INFO!G66),IF(COUNTRY_INFO!K66=3,COUNTRY_INFO!F66/(COUNTRY_INFO!F66+COUNTRY_INFO!G66)))),0)","v":0.56962115542250258},{"$f":"IF(AND(Z66<>0,Z66<>\"Unknown\",Z66<>\"Not required\"),IF(COUNTRY_INFO!K66=1,0,IF(COUNTRY_INFO!K66=2,0.2*COUNTRY_INFO!G66/(0.5*COUNTRY_INFO!F66+0.2*COUNTRY_INFO!G66),IF(COUNTRY_INFO!K66=3,COUNTRY_INFO!G66/(COUNTRY_INFO!F66+COUNTRY_INFO!G66)))),0)","v":0.43037884457749742},{"$f":"MAX(COUNTRY_INFO!D66*AK66*PROFILE!$G$7,COUNTRY_INFO!D66*AL66*PROFILE!$G$7)","v":0},{"$f":"MAX(COUNTRY_INFO!D66*AK66*PROFILE!$G$8,COUNTRY_INFO!D66*AL66*PROFILE!$G$8,COUNTRY_INFO!D66*AM66*PROFILE!$G$8)","v":18331.821547596872},{"$f":"MAX(COUNTRY_INFO!D66*AK66*PROFILE!$G$9,COUNTRY_INFO!D66*AL66*PROFILE!$G$9,COUNTRY_INFO!D66*AM66*PROFILE!$G$9,IF(AND(DISTRICT!Z66<>\"Unknown\",Z66<>\"Not required\"),COUNTRY_INFO!P66*DISTRICT!AN66,0))","v":31966.12910935075},{"$f":"MAX(COUNTRY_INFO!D66*AK66*PROFILE!$G$10,COUNTRY_INFO!D66*AL66*PROFILE!$G$10,IF(AND(DISTRICT!Z66<>\"Unknown\",Z66<>\"Not required\"),COUNTRY_INFO!P66*DISTRICT!AO66,0))","v":12076},62373.950656947622,0,{"$f":"MAX('MDA4'!R66,'T1'!L66,'T2'!J66,T3_R1!K66,T3_R2!K66)","v":0},{"$f":"MAX('MDA1'!K66,'MDA4'!S66,'MDA3'!I66,'MDA3'!L66,'T1'!M66,'T2'!K66,T3_R1!L66,T3_R2!L66)","v":26731},{"$f":"MAX('MDA1'!L66,'MDA4'!T66,'MDA3'!J66,'MDA3'!M66,'T1'!N66,'T2'!L66,T3_R1!M66,T3_R2!M66)","v":0},26731,{"$f":"MAX('MDA4'!R66,T66)","v":0},{"$f":"MAX('MDA1'!K66,'MDA4'!S66,'MDA3'!I66,'MDA3'!L66,V66,AD66)","v":26731},{"$f":"MAX('MDA1'!L66,'MDA4'!T66,'MDA3'!J66,'MDA3'!M66,AF66)","v":0},26731,42.856031594052197]
[{"$f":"IF(COUNTRY_INFO!A67=0,\" \",COUNTRY_INFO!A67)","v":"Angola"},{"$f":"IF(COUNTRY_INFO!B67=0,\" \",COUNTRY_INFO!B67)","v":"CUANZA SUL"},{"$f":"IF(COUNTRY_INFO!C67=0,\" \",COUNTRY_INFO!C67)","v":"SELES"},{"$f":"COUNTRY_INFO!M67","v":0},null,null,{"$f":"MAX('MDA1'!M67,'MDA4'!U67)","v":0},{"$f":"IF(AND(COUNTRY_INFO!H67>0,COUNTRY_INFO!H67<4),IF(D67>MAX('MDA1'!M67,'MDA4'!U67),MAX('MDA1'!M67,'MDA4'!U67),D67),0)","v":0},{"$f":"IF(AND(COUNTRY_INFO!H67>0,COUNTRY_INFO!H67<4), IF(G67/D67*100<>0, IF(G67/D67*100>100,100,G67/D67*100), \"-\"),0)","v":0},{"$f":"COUNTRY_INFO!N67","v":"Unknown"},null,null,{"$f":"MAX('MDA1'!M67,MAX('MDA3'!I67,'MDA3'!L67)+MAX('MDA3'!J67,'MDA3'!M67))","v":0},{"$f":"IF(AND(COUNTRY_INFO!I67>0,COUNTRY_INFO!I67<4),IF(J67>MAX('MDA1'!M67,MAX('MDA3'!I67,'MDA3'!L67)+MAX('MDA3'!J67,'MDA3'!M67)),MAX('MDA1'!M67,MAX('MDA3'!I67,'MDA3'!L67)+MAX('MDA3'!J67,'MDA3'!M67)),J67),0)","v":0},{"$f":"IF(AND(COUNTRY_INFO!I67>0,COUNTRY_INFO!I67<4), IF(M67/J67*100<>0, IF(M67/J67*100>100,100,M67/J67*100), \"-\"),0)","v":0},{"$f":"COUNTRY_INFO!O67","v":96388},null,null,{"$f":"SUM(MAX('MDA4'!R67, 'T1'!L67, MAX(T3_R1!K67, T3_R2!K67)), MAX('MDA1'!K67, 'MDA4'!S67, 'T1'!M67, MAX(T3_R1!L67, T3_R2!L67)), MAX('MDA1'!L67, 'MDA4'!T67, 'T1'!N67, MAX(T3_R1!M67, T3_R2!M67)))","v":42121},{"$f":"IF(AND(COUNTRY_INFO!J67>1,COUNTRY_INFO!J67<4),IF(COUNTRY_INFO!E67>MAX('MDA4'!R67,'T1'!L67,MAX(T3_R1!K67,T3_R2!K67)),MAX('MDA4'!R67,'T1'!L67,MAX(T3_R1!K67,T3_R2!K67)),COUNTRY_INFO!E67),0)","v":0},{"$f":"IF(AND(COUNTRY_INFO!J67>1,COUNTRY_INFO!J67<4), IF(T67/COUNTRY_INFO!E67*100<>0, IF(T67/COUNTRY_INFO!E67*100>100,100,T67/COUNTRY_INFO!E67*100), \"-\"),0)","v":"-"},{"$f":"IF(AND(COUNTRY_INFO!J67>1,COUNTRY_INFO!J67<4),IF(COUNTRY_INFO!F67>MAX('MDA1'!K67,'MDA4'!S67,'T1'!M67,MAX(T3_R1!L67,T3_R2!L67)),MAX('MDA1'!K67,'MDA4'!S67,'T1'!M67,MAX(T3_R1!L67,T3_R2!L67)),COUNTRY_INFO!F67),0)","v":42121},{"$f":"IF(AND(COUNTRY_INFO!J67>1,COUNTRY_INFO!J67<4), IF(V67/COUNTRY_INFO!F67*100<>0, IF(V67/COUNTRY_INFO!F67*100>100,100,V67/COUNTRY_INFO!F67*100), \"-\"),0)","v":68.759998694048122},42121,{"$f":"IF(AND(COUNTRY_INFO!J67>1,COUNTRY_INFO!J67<4), IF(S67/P67*100<>0, IF(X67/P67*100>100,100,X67/P67*100), \"-\"),0)","v":43.699423164709302},{"$f":"COUNTRY_INFO!P67","v":53771},null,null,{"$f":"MAX('T1'!L67,'T2'!J67)+MAX('T1'!M67,'T2'!K67)+MAX('T1'!N67,'T2'!L67)","v":0},{"$f":"IF(COUNTRY_INFO!K67=1,IF(COUNTRY_INFO!F67*0.33>MAX('T1'!M67,'T2'!K67),MAX('T1'!M67,'T2'!K67),COUNTRY_INFO!F67*0.33),IF(COUNTRY_INFO!K67=2,IF(COUNTRY_INFO!F67*0.5>MAX('T1'!M67,'T2'!K67),MAX('T1'!M67,'T2'!K67),COUNTRY_INFO!F67*0.5),IF(COUNTRY_INFO!K67=3,IF(COUNTRY_INFO!F67>MAX('T1'!M67,'T2'!K67),MAX('T1'!M67,'T2'!K67),COUNTRY_INFO!F67),0)))","v":0},{"$f":"IF(AND(COUNTRY_INFO!K67>0,COUNTRY_INFO!L67<4),IF(Z67>0,IF(COUNTRY_INFO!K67=1, AD67/(COUNTRY_INFO!F67*0.33)*100, IF(COUNTRY_INFO!K67=2, AD67/(COUNTRY_INFO!F67*0.5)*100, IF(COUNTRY_INFO!K67=3, AD67/COUNTRY_INFO!F67*100))),\"-\"),0)","v":0},{"$f":"IF(COUNTRY_INFO!K67=2,IF(COUNTRY_INFO!G67*0.2>MAX('T1'!N67,'T2'!L67),MAX('T1'!N67,'T2'!L67),COUNTRY_INFO!G67*0.2),IF(COUNTRY_INFO!K67=3,IF(COUNTRY_INFO!G67>MAX('T1'!N67,'T2'!L67),MAX('T1'!N67,'T2'!L67),COUNTRY_INFO!G67),0))","v":0},{"$f":"IF(AND(COUNTRY_INFO!K67>0,COUNTRY_INFO!L67<4),IF(Z67>0,IF(COUNTRY_INFO!K67=1, 0, IF(COUNTRY_INFO!K67=2, AF67/(COUNTRY_INFO!G67*0.2)*100, IF(COUNTRY_INFO!K67=3, AF67/COUNTRY_INFO!G67*100))),\"-\"),0)","v":0},0,{"$f":"IF(AND(COUNTRY_INFO!K67>0,COUNTRY_INFO!K67<4), IF(AC67/Z67*100<>0, IF(AH67/Z67*100>100,100,AH67/Z67*100), \"-\"),0)","v":"-"},null,{"$f":"IF(AND(D67<>0, D67<>\"Unknown\",D67<>\"Stopped\",D67<>\"Not required\"),D67/COUNTRY_INFO!D67, 0)","v":0},{"$f":"IF(AND(J67<>0,J67<>\"Unknown\",J67<>\"Stopped\",J67<>\"Not required\"),J67/COUNTRY_INFO!D67, 0)","v":0},{"$f":"IF(AND(P67<>0,P67<>\"Unknown\",P67<>\"Not required\"),P67/(COUNTRY_INFO!E67+COUNTRY_INFO!F67), 0)","v":1},{"$f":"IF(AND(Z67<>0,Z67<>\"Unknown\",Z67<>\"Not required\"),IF(COUNTRY_INFO!K67=1,1,IF(COUNTRY_INFO!K67=2,0.5*COUNTRY_INFO!F67/(0.5*COUNTRY_INFO!F67+0.2*COUNTRY_INFO!G67),IF(COUNTRY_INFO!K67=3,COUNTRY_INFO!F67/(COUNTRY_INFO!F67+COUNTRY_INFO!G67)))),0)","v":0.56961931152479961},{"$f":"IF(AND(Z67<>0,Z67<>\"Unknown\",Z67<>\"Not required\"),IF(COUNTRY_INFO!K67=1,0,IF(COUNTRY_INFO!K67=2,0.2*COUNTRY_INFO!G67/(0.5*COUNTRY_INFO!F67+0.2*COUNTRY_INFO!G67),IF(COUNTRY_INFO!K67=3,COUNTRY_INFO!G67/(COUNTRY_INFO!F67+COUNTRY_INFO!G67)))),0)","v":0.43038068847520039},{"$f":"MAX(COUNTRY_INFO!D67*AK67*PROFILE!$G$7,COUNTRY_INFO!D67*AL67*PROFILE!$G$7)","v":0},{"$f":"MAX(COUNTRY_INFO!D67*AK67*PROFILE!$G$8,COUNTRY_INFO!D67*AL67*PROFILE!$G$8,COUNTRY_INFO!D67*AM67*PROFILE!$G$8)","v":35130.046398668281},{"$f":"MAX(COUNTRY_INFO!D67*AK67*PROFILE!$G$9,COUNTRY_INFO!D67*AL67*PROFILE!$G$9,COUNTRY_INFO!D67*AM67*PROFILE!$G$9,IF(AND(DISTRICT!Z67<>\"Unknown\",Z67<>\"Not required\"),COUNTRY_INFO!P67*DISTRICT!AN67,0))","v":61258.047700367424},{"$f":"MAX(COUNTRY_INFO!D67*AK67*PROFILE!$G$10,COUNTRY_INFO!D67*AL67*PROFILE!$G$10,IF(AND(DISTRICT!Z67<>\"Unknown\",Z67<>\"Not required\"),COUNTRY_INFO!P67*DISTRICT!AO67,0))","v":23142},119530.0940990357,0,{"$f":"MAX('MDA4'!R67,'T1'!L67,'T2'!J67,T3_R1!K67,T3_R2!K67)","v":0},{"$f":"MAX('MDA1'!K67,'MDA4'!S67,'MDA3'!I67,'MDA3'!L67,'T1'!M67,'T2'!K67,T3_R1!L67,T3_R2!L67)","v":42121},{"$f":"MAX('MDA1'!L67,'MDA4'!T67,'MDA3'!J67,'MDA3'!M67,'T1'!N67,'T2'!L67,T3_R1!M67,T3_R2!M67)","v":0},42121,{"$f":"MAX('MDA4'!R67,T67)","v":0},{"$f":"MAX('MDA1'!K67,'MDA4'!S67,'MDA3'!I67,'MDA3'!L67,V67,AD67)","v":42121},{"$f":"MAX('MDA1'!L67,'MDA4'!T67,'MDA3'!J67,'MDA3'!M67,AF67)","v":0},42121,35.238824429520641]
[{"$f":"IF(COUNTRY_INFO!A68=0,\" \",COUNTRY_INFO!A68)","v":"Angola"},{"$f":"IF(COUNTRY_INFO!B68=0,\" \",COUNTRY_INFO!B68)","v":"CUANZA SUL"},{"$f":"IF(COUNTRY_INFO!C68=0,\" \",COUNTRY_INFO!C68)","v":"SUMBE"},{"$f":"COUNTRY_INFO!M68","v":0},null,null,{"$f":"MAX('MDA1'!M68,'MDA4'!U68)","v":0},{"$f":"IF(AND(COUNTRY_INFO!H68>0,COUNTRY_INFO!H68<4),IF(D68>MAX('MDA1'!M68,'MDA4'!U68),MAX('MDA1'!M68,'MDA4'!U68),D68),0)","v":0},{"$f":"IF(AND(COUNTRY_INFO!H68>0,COUNTRY_INFO!H68<4), IF(G68/D68*100<>0, IF(G68/D68*100>100,100,G68/D68*100), \"-\"),0)","v":0},{"$f":"COUNTRY_INFO!N68","v":"Unknown"},null,null,{"$f":"MAX('MDA1'!M68,MAX('MDA3'!I68,'MDA3'!L68)+MAX('MDA3'!J68,'MDA3'!M68))","v":0},{"$f":"IF(AND(COUNTRY_INFO!I68>0,COUNTRY_INFO!I68<4),IF(J68>MAX('MDA1'!M68,MAX('MDA3'!I68,'MDA3'!L68)+MAX('MDA3'!J68,'MDA3'!M68)),MAX('MDA1'!M68,MAX('MDA3'!I68,'MDA3'!L68)+MAX('MDA3'!J68,'MDA3'!M68)),J68),0)","v":0},{"$f":"IF(AND(COUNTRY_INFO!I68>0,COUNTRY_INFO!I68<4), IF(M68/J68*100<>0, IF(M68/J68*100>100,100,M68/J68*100), \"-\"),0)","v":0},{"$f":"COUNTRY_INFO!O68","v":144210},null,null,{"$f":"SUM(MAX('MDA4'!R68, 'T1'!L68, MAX(T3_R1!K68, T3_R2!K68)), MAX('MDA1'!K68, 'MDA4'!S68, 'T1'!M68, MAX(T3_R1!L68, T3_R2!L68)), MAX('MDA1'!L68, 'MDA4'!T68, 'T1'!N68, MAX(T3_R1!M68, T3_R2!M68)))","v":76934},{"$f":"IF(AND(COUNTRY_INFO!J68>1,COUNTRY_INFO!J68<4),IF(COUNTRY_INFO!E68>MAX('MDA4'!R68,'T1'!L68,MAX(T3_R1!K68,T3_R2!K68)),MAX('MDA4'!R68,'T1'!L68,MAX(T3_R1!K68,T3_R2!K68)),COUNTRY_INFO!E68),0)","v":0},{"$f":"IF(AND(COUNTRY_INFO!J68>1,COUNTRY_INFO!J68<4), IF(T68/COUNTRY_INFO!E68*100<>0, IF(T68/COUNTRY_INFO!E68*100>100,100,T68/COUNTRY_INFO!E68*100), \"-\"),0)","v":"-"},{"$f":"IF(AND(COUNTRY_INFO!J68>1,COUNTRY_INFO!J68<4),IF(COUNTRY_INFO!F68>MAX('MDA1'!K68,'MDA4'!S68,'T1'!M68,MAX(T3_R1!L68,T3_R2!L68)),MAX('MDA1'!K68,'MDA4'!S68,'T1'!M68,MAX(T3_R1!L68,T3_R2!L68)),COUNTRY_INFO!F68),0)","v":76934},{"$f":"IF(AND(COUNTRY_INFO!J68>1,COUNTRY_INFO!J68<4), IF(V68/COUNTRY_INFO!F68*100<>0, IF(V68/COUNTRY_INFO!F68*100>100,100,V68/COUNTRY_INFO!F68*100), \"-\"),0)","v":83.942346510130832},76934,{"$f":"IF(AND(COUNTRY_INFO!J68>1,COUNTRY_INFO!J68<4), IF(S68/P68*100<>0, IF(X68/P68*100>100,100,X68/P68*100), \"-\"),0)","v":53.348588863463007},{"$f":"COUNTRY_INFO!P68","v":80449.100000000006},null,null,{"$f":"MAX('T1'!L68,'T2'!J68)+MAX('T1'!M68,'T2'!K68)+MAX('T1'!N68,'T2'!L68)","v":0},{"$f":"IF(COUNTRY_INFO!K68=1,IF(COUNTRY_INFO!F68*0.33>MAX('T1'!M68,'T2'!K68),MAX('T1'!M68,'T2'!K68),COUNTRY_INFO!F68*0.33),IF(COUNTRY_INFO!K68=2,IF(COUNTRY_INFO!F68*0.5>MAX('T1'!M68,'T2'!K68),MAX('T1'!M68,'T2'!K68),COUNTRY_INFO!F68*0.5),IF(COUNTRY_INFO!K68=3,IF(COUNTRY_INFO!F68>MAX('T1'!M68,'T2'!K68),MAX('T1'!M68,'T2'!K68),COUNTRY_INFO!F68),0)))","v":0},{"$f":"IF(AND(COUNTRY_INFO!K68>0,COUNTRY_INFO!L68<4),IF(Z68>0,IF(COUNTRY_INFO!K68=1, AD68/(COUNTRY_INFO!F68*0.33)*100, IF(COUNTRY_INFO!K68=2, AD68/(COUNTRY_INFO!F68*0.5)*100, IF(COUNTRY_INFO!K68=3, AD68/COUNTRY_INFO!F68*100))),\"-\"),0)","v":0},{"$f":"IF(COUNTRY_INFO!K68=2,IF(COUNTRY_INFO!G68*0.2>MAX('T1'!N68,'T2'!L68),MAX('T1'!N68,'T2'!L68),COUNTRY_INFO!G68*0.2),IF(COUNTRY_INFO!K68=3,IF(COUNTRY_INFO!G68>MAX('T1'!N68,'T2'!L68),MAX('T1'!N68,'T2'!L68),COUNTRY_INFO!G68),0))","v":0},{"$f":"IF(AND(COUNTRY_INFO!K68>0,COUNTRY_INFO!L68<4),IF(Z68>0,IF(COUNTRY_INFO!K68=1, 0, IF(COUNTRY_INFO!K68=2, AF68/(COUNTRY_INFO!G68*0.2)*100, IF(COUNTRY_INFO!K68=3, AF68/COUNTRY_INFO!G68*100))),\"-\"),0)","v":0},0,{"$f":"IF(AND(COUNTRY_INFO!K68>0,COUNTRY_INFO!K68<4), IF(AC68/Z68*100<>0, IF(AH68/Z68*100>100,100,AH68/Z68*100), \"-\"),0)","v":"-"},null,{"$f":"IF(AND(D68<>0, D68<>\"Unknown\",D68<>\"Stopped\",D68<>\"Not required\"),D68/COUNTRY_INFO!D68, 0)","v":0},{"$f":"IF(AND(J68<>0,J68<>\"Unknown\",J68<>\"Stopped\",J68<>\"Not required\"),J68/COUNTRY_INFO!D68, 0)","v":0},{"$f":"IF(AND(P68<>0,P68<>\"Unknown\",P68<>\"Not required\"),P68/(COUNTRY_INFO!E68+COUNTRY_INFO!F68), 0)","v":1},{"$f":"IF(AND(Z68<>0,Z68<>\"Unknown\",Z68<>\"Not required\"),IF(COUNTRY_INFO!K68=1,1,IF(COUNTRY_INFO!K68=2,0.5*COUNTRY_INFO!F68/(0.5*COUNTRY_INFO!F68+0.2*COUNTRY_INFO!G68),IF(COUNTRY_INFO!K68=3,COUNTRY_INFO!F68/(COUNTRY_INFO!F68+COUNTRY_INFO!G68)))),0)","v":0.56962103988733248},{"$f":"IF(AND(Z68<>0,Z68<>\"Unknown\",Z68<>\"Not required\"),IF(COUNTRY_INFO!K68=1,0,IF(COUNTRY_INFO!K68=2,0.2*COUNTRY_INFO!G68/(0.5*COUNTRY_INFO!F68+0.2*COUNTRY_INFO!G68),IF(COUNTRY_INFO!K68=3,COUNTRY_INFO!G68/(COUNTRY_INFO!F68+COUNTRY_INFO!G68)))),0)","v":0.43037896011266746},{"$f":"MAX(COUNTRY_INFO!D68*AK68*PROFILE!$G$7,COUNTRY_INFO!D68*AL68*PROFILE!$G$7)","v":0},{"$f":"MAX(COUNTRY_INFO!D68*AK68*PROFILE!$G$8,COUNTRY_INFO!D68*AL68*PROFILE!$G$8,COUNTRY_INFO!D68*AM68*PROFILE!$G$8)","v":52559.431990799618},{"$f":"MAX(COUNTRY_INFO!D68*AK68*PROFILE!$G$9,COUNTRY_INFO!D68*AL68*PROFILE!$G$9,COUNTRY_INFO!D68*AM68*PROFILE!$G$9,IF(AND(DISTRICT!Z68<>\"Unknown\",Z68<>\"Not required\"),COUNTRY_INFO!P68*DISTRICT!AN68,0))","v":91650.553359891768},{"$f":"MAX(COUNTRY_INFO!D68*AK68*PROFILE!$G$10,COUNTRY_INFO!D68*AL68*PROFILE!$G$10,IF(AND(DISTRICT!Z68<>\"Unknown\",Z68<>\"Not required\"),COUNTRY_INFO!P68*DISTRICT!AO68,0))","v":34623.599999999999},178833.5853506914,0,{"$f":"MAX('MDA4'!R68,'T1'!L68,'T2'!J68,T3_R1!K68,T3_R2!K68)","v":0},{"$f":"MAX('MDA1'!K68,'MDA4'!S68,'MDA3'!I68,'MDA3'!L68,'T1'!M68,'T2'!K68,T3_R1!L68,T3_R2!L68)","v":76934},{"$f":"MAX('MDA1'!L68,'MDA4'!T68,'MDA3'!J68,'MDA3'!M68,'T1'!N68,'T2'!L68,T3_R1!M68,T3_R2!M68)","v":0},76934,{"$f":"MAX('MDA4'!R68,T68)","v":0},{"$f":"MAX('MDA1'!K68,'MDA4'!S68,'MDA3'!I68,'MDA3'!L68,V68,AD68)","v":76934},{"$f":"MAX('MDA1'!L68,'MDA4'!T68,'MDA3'!J68,'MDA3'!M68,AF68)","v":0},76934,43.019883457088312]
[{"$f":"IF(COUNTRY_INFO!A69=0,\" \",COUNTRY_INFO!A69)","v":"Angola"},{"$f":"IF(COUNTRY_INFO!B69=0,\" \",COUNTRY_INFO!B69)","v":"CUNENE"},{"$f":"IF(COUNTRY_INFO!C69=0,\" \",COUNTRY_INFO!C69)","v":"CAHAMA"},{"$f":"COUNTRY_INFO!M69","v":0},null,null,{"$f":"MAX('MDA1'!M69,'MDA4'!U69)","v":0},{"$f":"IF(AND(COUNTRY_INFO!H69>0,COUNTRY_INFO!H69<4),IF(D69>MAX('MDA1'!M69,'MDA4'!U69),MAX('MDA1'!M69,'MDA4'!U69),D69),0)","v":0},{"$f":"IF(AND(COUNTRY_INFO!H69>0,COUNTRY_INFO!H69<4), IF(G69/D69*100<>0, IF(G69/D69*100>100,100,G69/D69*100), \"-\"),0)","v":0},{"$f":"COUNTRY_INFO!N69","v":"Unknown"},null,null,{"$f":"MAX('MDA1'!M69,MAX('MDA3'!I69,'MDA3'!L69)+MAX('MDA3'!J69,'MDA3'!M69))","v":0},{"$f":"IF(AND(COUNTRY_INFO!I69>0,COUNTRY_INFO!I69<4),IF(J69>MAX('MDA1'!M69,MAX('MDA3'!I69,'MDA3'!L69)+MAX('MDA3'!J69,'MDA3'!M69)),MAX('MDA1'!M69,MAX('MDA3'!I69,'MDA3'!L69)+MAX('MDA3'!J69,'MDA3'!M69)),J69),0)","v":0},{"$f":"IF(AND(COUNTRY_INFO!I69>0,COUNTRY_INFO!I69<4), IF(M69/J69*100<>0, IF(M69/J69*100>100,100,M69/J69*100), \"-\"),0)","v":0},{"$f":"COUNTRY_INFO!O69","v":36088},null,null,{"$f":"SUM(MAX('MDA4'!R69, 'T1'!L69, MAX(T3_R1!K69, T3_R2!K69)), MAX('MDA1'!K69, 'MDA4'!S69, 'T1'!M69, MAX(T3_R1!L69, T3_R2!L69)), MAX('MDA1'!L69, 'MDA4'!T69, 'T1'!N69, MAX(T3_R1!M69, T3_R2!M69)))","v":0},{"$f":"IF(AND(COUNTRY_INFO!J69>1,COUNTRY_INFO!J69<4),IF(COUNTRY_INFO!E69>MAX('MDA4'!R69,'T1'!L69,MAX(T3_R1!K69,T3_R2!K69)),MAX('MDA4'!R69,'T1'!L69,MAX(T3_R1!K69,T3_R2!K69)),COUNTRY_INFO!E69),0)","v":0},{"$f":"IF(AND(COUNTRY_INFO!J69>1,COUNTRY_INFO!J69<4), IF(T69/COUNTRY_INFO!E69*100<>0, IF(T69/COUNTRY_INFO!E69*100>100,100,T69/COUNTRY_INFO!E69*100), \"-\"),0)","v":"-"},{"$f":"IF(AND(COUNTRY_INFO!J69>1,COUNTRY_INFO!J69<4),IF(COUNTRY_INFO!F69>MAX('MDA1'!K69,'MDA4'!S69,'T1'!M69,MAX(T3_R1!L69,T3_R2!L69)),MAX('MDA1'!K69,'MDA4'!S69,'T1'!M69,MAX(T3_R1!L69,T3_R2!L69)),COUNTRY_INFO!F69),0)","v":0},{"$f":"IF(AND(COUNTRY_INFO!J69>1,COUNTRY_INFO!J69<4), IF(V69/COUNTRY_INFO!F69*100<>0, IF(V69/COUNTRY_INFO!F69*100>100,100,V69/COUNTRY_INFO!F69*100), \"-\"),0)","v":"-"},0,{"$f":"IF(AND(COUNTRY_INFO!J69>1,COUNTRY_INFO!J69<4), IF(S69/P69*100<>0, IF(X69/P69*100>100,100,X69/P69*100), \"-\"),0)","v":"-"},{"$f":"COUNTRY_INFO!P69","v":20131.900000000001},null,null,{"$f":"MAX('T1'!L69,'T2'!J69)+MAX('T1'!M69,'T2'!K69)+MAX('T1'!N69,'T2'!L69)","v":0},{"$f":"IF(COUNTRY_INFO!K69=1,IF(COUNTRY_INFO!F69*0.33>MAX('T1'!M69,'T2'!K69),MAX('T1'!M69,'T2'!K69),COUNTRY_INFO!F69*0.33),IF(COUNTRY_INFO!K69=2,IF(COUNTRY_INFO!F69*0.5>MAX('T1'!M69,'T2'!K69),MAX('T1'!M69,'T2'!K69),COUNTRY_INFO!F69*0.5),IF(COUNTRY_INFO!K69=3,IF(COUNTRY_INFO!F69>MAX('T1'!M69,'T2'!K69),MAX('T1'!M69,'T2'!K69),COUNTRY_INFO!F69),0)))","v":0},{"$f":"IF(AND(COUNTRY_INFO!K69>0,COUNTRY_INFO!L69<4),IF(Z69>0,IF(COUNTRY_INFO!K69=1, AD69/(COUNTRY_INFO!F69*0.33)*100, IF(COUNTRY_INFO!K69=2, AD69/(COUNTRY_INFO!F69*0.5)*100, IF(COUNTRY_INFO!K69=3, AD69/COUNTRY_INFO!F69*100))),\"-\"),0)","v":0},{"$f":"IF(COUNTRY_INFO!K69=2,IF(COUNTRY_INFO!G69*0.2>MAX('T1'!N69,'T2'!L69),MAX('T1'!N69,'T2'!L69),COUNTRY_INFO!G69*0.2),IF(COUNTRY_INFO!K69=3,IF(COUNTRY_INFO!G69>MAX('T1'!N69,'T2'!L69),MAX('T1'!N69,'T2'!L69),COUNTRY_INFO!G69),0))","v":0},{"$f":"IF(AND(COUNTRY_INFO!K69>0,COUNTRY_INFO!L69<4),IF(Z69>0,IF(COUNTRY_INFO!K69=1, 0, IF(COUNTRY_INFO!K69=2, AF69/(COUNTRY_INFO!G69*0.2)*100, IF(COUNTRY_INFO!K69=3, AF69/COUNTRY_INFO!G69*100))),\"-\"),0)","v":0},0,{"$f":"IF(AND(COUNTRY_INFO!K69>0,COUNTRY_INFO!K69<4), IF(AC69/Z69*100<>0, IF(AH69/Z69*100>100,100,AH69/Z69*100), \"-\"),0)","v":"-"},null,{"$f":"IF(AND(D69<>0, D69<>\"Unknown\",D69<>\"Stopped\",D69<>\"Not required\"),D69/COUNTRY_INFO!D69, 0)","v":0},{"$f":"IF(AND(J69<>0,J69<>\"Unknown\",J69<>\"Stopped\",J69<>\"Not required\"),J69/COUNTRY_INFO!D69, 0)","v":0},{"$f":"IF(AND(P69<>0,P69<>\"Unknown\",P69<>\"Not required\"),P69/(COUNTRY_INFO!E69+COUNTRY_INFO!F69), 0)","v":1},{"$f":"IF(AND(Z69<>0,Z69<>\"Unknown\",Z69<>\"Not required\"),IF(COUNTRY_INFO!K69=1,1,IF(COUNTRY_INFO!K69=2,0.5*COUNTRY_INFO!F69/(0.5*COUNTRY_INFO!F69+0.2*COUNTRY_INFO!G69),IF(COUNTRY_INFO!K69=3,COUNTRY_INFO!F69/(COUNTRY_INFO!F69+COUNTRY_INFO!G69)))),0)","v":0.56961836687048906},{"$f":"IF(AND(Z69<>0,Z69<>\"Unknown\",Z69<>\"Not required\"),IF(COUNTRY_INFO!K69=1,0,IF(COUNTRY_INFO!K69=2,0.2*COUNTRY_INFO!G69/(0.5*COUNTRY_INFO!F69+0.2*COUNTRY_INFO!G69),IF(COUNTRY_INFO!K69=3,COUNTRY_INFO!G69/(COUNTRY_INFO!F69+COUNTRY_INFO!G69)))),0)","v":0.43038163312951083},{"$f":"MAX(COUNTRY_INFO!D69*AK69*PROFILE!$G$7,COUNTRY_INFO!D69*AL69*PROFILE!$G$7)","v":0},{"$f":"MAX(COUNTRY_INFO!D69*AK69*PROFILE!$G$8,COUNTRY_INFO!D69*AL69*PROFILE!$G$8,COUNTRY_INFO!D69*AM69*PROFILE!$G$8)","v":13152.811623854917},{"$f":"MAX(COUNTRY_INFO!D69*AK69*PROFILE!$G$9,COUNTRY_INFO!D69*AL69*PROFILE!$G$9,COUNTRY_INFO!D69*AM69*PROFILE!$G$9,IF(AND(DISTRICT!Z69<>\"Unknown\",Z69<>\"Not required\"),COUNTRY_INFO!P69*DISTRICT!AN69,0))","v":22935.226236381943},{"$f":"MAX(COUNTRY_INFO!D69*AK69*PROFILE!$G$10,COUNTRY_INFO!D69*AL69*PROFILE!$G$10,IF(AND(DISTRICT!Z69<>\"Unknown\",Z69<>\"Not required\"),COUNTRY_INFO!P69*DISTRICT!AO69,0))","v":8664.4},44752.43786023686,0,{"$f":"MAX('MDA4'!R69,'T1'!L69,'T2'!J69,T3_R1!K69,T3_R2!K69)","v":0},{"$f":"MAX('MDA1'!K69,'MDA4'!S69,'MDA3'!I69,'MDA3'!L69,'T1'!M69,'T2'!K69,T3_R1!L69,T3_R2!L69)","v":0},{"$f":"MAX('MDA1'!L69,'MDA4'!T69,'MDA3'!J69,'MDA3'!M69,'T1'!N69,'T2'!L69,T3_R1!M69,T3_R2!M69)","v":0},0,{"$f":"MAX('MDA4'!R69,T69)","v":0},{"$f":"MAX('MDA1'!K69,'MDA4'!S69,'MDA3'!I69,'MDA3'!L69,V69,AD69)","v":0},{"$f":"MAX('MDA1'!L69,'MDA4'!T69,'MDA3'!J69,'MDA3'!M69,AF69)","v":0},0,0]
[{"$f":"IF(COUNTRY_INFO!A70=0,\" \",COUNTRY_INFO!A70)","v":"Angola"},{"$f":"IF(COUNTRY_INFO!B70=0,\" \",COUNTRY_INFO!B70)","v":"CUNENE"},{"$f":"IF(COUNTRY_INFO!C70=0,\" \",COUNTRY_INFO!C70)","v":"CUANHAMA"},{"$f":"COUNTRY_INFO!M70","v":0},null,null,{"$f":"MAX('MDA1'!M70,'MDA4'!U70)","v":0},{"$f":"IF(AND(COUNTRY_INFO!H70>0,COUNTRY_INFO!H70<4),IF(D70>MAX('MDA1'!M70,'MDA4'!U70),MAX('MDA1'!M70,'MDA4'!U70),D70),0)","v":0},{"$f":"IF(AND(COUNTRY_INFO!H70>0,COUNTRY_INFO!H70<4), IF(G70/D70*100<>0, IF(G70/D70*100>100,100,G70/D70*100), \"-\"),0)","v":0},{"$f":"COUNTRY_INFO!N70","v":"Unknown"},null,null,{"$f":"MAX('MDA1'!M70,MAX('MDA3'!I70,'MDA3'!L70)+MAX('MDA3'!J70,'MDA3'!M70))","v":0},{"$f":"IF(AND(COUNTRY_INFO!I70>0,COUNTRY_INFO!I70<4),IF(J70>MAX('MDA1'!M70,MAX('MDA3'!I70,'MDA3'!L70)+MAX('MDA3'!J70,'MDA3'!M70)),MAX('MDA1'!M70,MAX('MDA3'!I70,'MDA3'!L70)+MAX('MDA3'!J70,'MDA3'!M70)),J70),0)","v":0},{"$f":"IF(AND(COUNTRY_INFO!I70>0,COUNTRY_INFO!I70<4), IF(M70/J70*100<>0, IF(M70/J70*100>100,100,M70/J70*100), \"-\"),0)","v":0},{"$f":"COUNTRY_INFO!O70","v":192918},null,null,{"$f":"SUM(MAX('MDA4'!R70, 'T1'!L70, MAX(T3_R1!K70, T3_R2!K70)), MAX('MDA1'!K70, 'MDA4'!S70, 'T1'!M70, MAX(T3_R1!L70, T3_R2!L70)), MAX('MDA1'!L70, 'MDA4'!T70, 'T1'!N70, MAX(T3_R1!M70, T3_R2!M70)))","v":0},{"$f":"IF(AND(COUNTRY_INFO!J70>1,COUNTRY_INFO!J70<4),IF(COUNTRY_INFO!E70>MAX('MDA4'!R70,'T1'!L70,MAX(T3_R1!K70,T3_R2!K70)),MAX('MDA4'!R70,'T1'!L70,MAX(T3_R1!K70,T3_R2!K70)),COUNTRY_INFO!E70),0)","v":0},{"$f":"IF(AND(COUNTRY_INFO!J70>1,COUNTRY_INFO!J70<4), IF(T70/COUNTRY_INFO!E70*100<>0, IF(T70/COUNTRY_INFO!E70*100>100,100,T70/COUNTRY_INFO!E70*100), \"-\"),0)","v":"-"},{"$f":"IF(AND(COUNTRY_INFO!J70>1,COUNTRY_INFO!J70<4),IF(COUNTRY_INFO!F70>MAX('MDA1'!K70,'MDA4'!S70,'T1'!M70,MAX(T3_R1!L70,T3_R2!L70)),MAX('MDA1'!K70,'MDA4'!S70,'T1'!M70,MAX(T3_R1!L70,T3_R2!L70)),COUNTRY_INFO!F70),0)","v":0},{"$f":"IF(AND(COUNTRY_INFO!J70>1,COUNTRY_INFO!J70<4), IF(V70/COUNTRY_INFO!F70*100<>0, IF(V70/COUNTRY_INFO!F70*100>100,100,V70/COUNTRY_INFO!F70*100), \"-\"),0)","v":"-"},0,{"$f":"IF(AND(COUNTRY_INFO!J70>1,COUNTRY_INFO!J70<4), IF(S70/P70*100<>0, IF(X70/P70*100>100,100,X70/P70*100), \"-\"),0)","v":"-"},{"$f":"COUNTRY_INFO!P70","v":107620.8},null,null,{"$f":"MAX('T1'!L70,'T2'!J70)+MAX('T1'!M70,'T2'!K70)+MAX('T1'!N70,'T2'!L70)","v":0},{"$f":"IF(COUNTRY_INFO!K70=1,IF(COUNTRY_INFO!F70*0.33>MAX('T1'!M70,'T2'!K70),MAX('T1'!M70,'T2'!K70),COUNTRY_INFO!F70*0.33),IF(COUNTRY_INFO!K70=2,IF(COUNTRY_INFO!F70*0.5>MAX('T1'!M70,'T2'!K70),MAX('T1'!M70,'T2'!K70),COUNTRY_INFO!F70*0.5),IF(COUNTRY_INFO!K70=3,IF(COUNTRY_INFO!F70>MAX('T1'!M70,'T2'!K70),MAX('T1'!M70,'T2'!K70),COUNTRY_INFO!F70),0)))","v":0},{"$f":"IF(AND(COUNTRY_INFO!K70>0,COUNTRY_INFO!L70<4),IF(Z70>0,IF(COUNTRY_INFO!K70=1, AD70/(COUNTRY_INFO!F70*0.33)*100, IF(COUNTRY_INFO!K70=2, AD70/(COUNTRY_INFO!F70*0.5)*100, IF(COUNTRY_INFO!K70=3, AD70/COUNTRY_INFO!F70*100))),\"-\"),0)","v":0},{"$f":"IF(COUNTRY_INFO!K70=2,IF(COUNTRY_INFO!G70*0.2>MAX('T1'!N70,'T2'!L70),MAX('T1'!N70,'T2'!L70),COUNTRY_INFO!G70*0.2),IF(COUNTRY_INFO!K70=3,IF(COUNTRY_INFO!G70>MAX('T1'!N70,'T2'!L70),MAX('T1'!N70,'T2'!L70),COUNTRY_INFO!G70),0))","v":0},{"$f":"IF(AND(COUNTRY_INFO!K70>0,COUNTRY_INFO!L70<4),IF(Z70>0,IF(COUNTRY_INFO!K70=1, 0, IF(COUNTRY_INFO!K70=2, AF70/(COUNTRY_INFO!G70*0.2)*100, IF(COUNTRY_INFO!K70=3, AF70/COUNTRY_INFO!G70*100))),\"-\"),0)","v":0},0,{"$f":"IF(AND(COUNTRY_INFO!K70>0,COUNTRY_INFO!K70<4), IF(AC70/Z70*100<>0, IF(AH70/Z70*100>100,100,AH70/Z70*100), \"-\"),0)","v":"-"},null,{"$f":"IF(AND(D70<>0, D70<>\"Unknown\",D70<>\"Stopped\",D70<>\"Not required\"),D70/COUNTRY_INFO!D70, 0)","v":0},{"$f":"IF(AND(J70<>0,J70<>\"Unknown\",J70<>\"Stopped\",J70<>\"Not required\"),J70/COUNTRY_INFO!D70, 0)","v":0},{"$f":"IF(AND(P70<>0,P70<>\"Unknown\",P70<>\"Not required\"),P70/(COUNTRY_INFO!E70+COUNTRY_INFO!F70), 0)","v":1},{"$f":"IF(AND(Z70<>0,Z70<>\"Unknown\",Z70<>\"Not required\"),IF(COUNTRY_INFO!K70=1,1,IF(COUNTRY_INFO!K70=2,0.5*COUNTRY_INFO!F70/(0.5*COUNTRY_INFO!F70+0.2*COUNTRY_INFO!G70),IF(COUNTRY_INFO!K70=3,COUNTRY_INFO!F70/(COUNTRY_INFO!F70+COUNTRY_INFO!G70)))),0)","v":0.56962037078334293},{"$f":"IF(AND(Z70<>0,Z70<>\"Unknown\",Z70<>\"Not required\"),IF(COUNTRY_INFO!K70=1,0,IF(COUNTRY_INFO!K70=2,0.2*COUNTRY_INFO!G70/(0.5*COUNTRY_INFO!F70+0.2*COUNTRY_INFO!G70),IF(COUNTRY_INFO!K70=3,COUNTRY_INFO!G70/(COUNTRY_INFO!F70+COUNTRY_INFO!G70)))),0)","v":0.43037962921665701},{"$f":"MAX(COUNTRY_INFO!D70*AK70*PROFILE!$G$7,COUNTRY_INFO!D70*AL70*PROFILE!$G$7)","v":0},{"$f":"MAX(COUNTRY_INFO!D70*AK70*PROFILE!$G$8,COUNTRY_INFO!D70*AL70*PROFILE!$G$8,COUNTRY_INFO!D70*AM70*PROFILE!$G$8)","v":70311.719568244196},{"$f":"MAX(COUNTRY_INFO!D70*AK70*PROFILE!$G$9,COUNTRY_INFO!D70*AL70*PROFILE!$G$9,COUNTRY_INFO!D70*AM70*PROFILE!$G$9,IF(AND(DISTRICT!Z70<>\"Unknown\",Z70<>\"Not required\"),COUNTRY_INFO!P70*DISTRICT!AN70,0))","v":122606.1196255533},{"$f":"MAX(COUNTRY_INFO!D70*AK70*PROFILE!$G$10,COUNTRY_INFO!D70*AL70*PROFILE!$G$10,IF(AND(DISTRICT!Z70<>\"Unknown\",Z70<>\"Not required\"),COUNTRY_INFO!P70*DISTRICT!AO70,0))","v":46317.8},239235.63919379748,0,{"$f":"MAX('MDA4'!R70,'T1'!L70,'T2'!J70,T3_R1!K70,T3_R2!K70)","v":0},{"$f":"MAX('MDA1'!K70,'MDA4'!S70,'MDA3'!I70,'MDA3'!L70,'T1'!M70,'T2'!K70,T3_R1!L70,T3_R2!L70)","v":0},{"$f":"MAX('MDA1'!L70,'MDA4'!T70,'MDA3'!J70,'MDA3'!M70,'T1'!N70,'T2'!L70,T3_R1!M70,T3_R2!M70)","v":0},0,{"$f":"MAX('MDA4'!R70,T70)","v":0},{"$f":"MAX('MDA1'!K70,'MDA4'!S70,'MDA3'!I70,'MDA3'!L70,V70,AD70)","v":0},{"$f":"MAX('MDA1'!L70,'MDA4'!T70,'MDA3'!J70,'MDA3'!M70,AF70)","v":0},0,0]
[{"$f":"IF(COUNTRY_INFO!A71=0,\" \",COUNTRY_INFO!A71)","v":"Angola"},{"$f":"IF(COUNTRY_INFO!B71=0,\" \",COUNTRY_INFO!B71)","v":"CUNENE"},{"$f":"IF(COUNTRY_INFO!C71=0,\" \",COUNTRY_INFO!C71)","v":"CUROCA"},{"$f":"COUNTRY_INFO!M71","v":0},null,null,{"$f":"MAX('MDA1'!M71,'MDA4'!U71)","v":0},{"$f":"IF(AND(COUNTRY_INFO!H71>0,COUNTRY_INFO!H71<4),IF(D71>MAX('MDA1'!M71,'MDA4'!U71),MAX('MDA1'!M71,'MDA4'!U71),D71),0)","v":0},{"$f":"IF(AND(COUNTRY_INFO!H71>0,COUNTRY_INFO!H71<4), IF(G71/D71*100<>0, IF(G71/D71*100>100,100,G71/D71*100), \"-\"),0)","v":0},{"$f":"COUNTRY_INFO!N71","v":"Unknown"},null,null,{"$f":"MAX('MDA1'!M71,MAX('MDA3'!I71,'MDA3'!L71)+MAX('MDA3'!J71,'MDA3'!M71))","v":0},{"$f":"IF(AND(COUNTRY_INFO!I71>0,COUNTRY_INFO!I71<4),IF(J71>MAX('MDA1'!M71,MAX('MDA3'!I71,'MDA3'!L71)+MAX('MDA3'!J71,'MDA3'!M71)),MAX('MDA1'!M71,MAX('MDA3'!I71,'MDA3'!L71)+MAX('MDA3'!J71,'MDA3'!M71)),J71),0)","v":0},{"$f":"IF(AND(COUNTRY_INFO!I71>0,COUNTRY_INFO!I71<4), IF(M71/J71*100<>0, IF(M71/J71*100>100,100,M71/J71*100), \"-\"),0)","v":0},{"$f":"COUNTRY_INFO!O71","v":21163},null,null,{"$f":"SUM(MAX('MDA4'!R71, 'T1'!L71, MAX(T3_R1!K71, T3_R2!K71)), MAX('MDA1'!K71, 'MDA4'!S71, 'T1'!M71, MAX(T3_R1!L71, T3_R2!L71)), MAX('MDA1'!L71, 'MDA4'!T71, 'T1'!N71, MAX(T3_R1!M71, T3_R2!M71)))","v":0},{"$f":"IF(AND(COUNTRY_INFO!J71>1,COUNTRY_INFO!J71<4),IF(COUNTRY_INFO!E71>MAX('MDA4'!R71,'T1'!L71,MAX(T3_R1!K71,T3_R2!K71)),MAX('MDA4'!R71,'T1'!L71,MAX(T3_R1!K71,T3_R2!K71)),COUNTRY_INFO!E71),0)","v":0},{"$f":"IF(AND(COUNTRY_INFO!J71>1,COUNTRY_INFO!J71<4), IF(T71/COUNTRY_INFO!E71*100<>0, IF(T71/COUNTRY_INFO!E71*100>100,100,T71/COUNTRY_INFO!E71*100), \"-\"),0)","v":"-"},{"$f":"IF(AND(COUNTRY_INFO!J71>1,COUNTRY_INFO!J71<4),IF(COUNTRY_INFO!F71>MAX('MDA1'!K71,'MDA4'!S71,'T1'!M71,MAX(T3_R1!L71,T3_R2!L71)),MAX('MDA1'!K71,'MDA4'!S71,'T1'!M71,MAX(T3_R1!L71,T3_R2!L71)),COUNTRY_INFO!F71),0)","v":0},{"$f":"IF(AND(COUNTRY_INFO!J71>1,COUNTRY_INFO!J71<4), IF(V71/COUNTRY_INFO!F71*100<>0, IF(V71/COUNTRY_INFO!F71*100>100,100,V71/COUNTRY_INFO!F71*100), \"-\"),0)","v":"-"},0,{"$f":"IF(AND(COUNTRY_INFO!J71>1,COUNTRY_INFO!J71<4), IF(S71/P71*100<>0, IF(X71/P71*100>100,100,X71/P71*100), \"-\"),0)","v":"-"},{"$f":"COUNTRY_INFO!P71","v":11806.2},null,null,{"$f":"MAX('T1'!L71,'T2'!J71)+MAX('T1'!M71,'T2'!K71)+MAX('T1'!N71,'T2'!L71)","v":0},{"$f":"IF(COUNTRY_INFO!K71=1,IF(COUNTRY_INFO!F71*0.33>MAX('T1'!M71,'T2'!K71),MAX('T1'!M71,'T2'!K71),COUNTRY_INFO!F71*0.33),IF(COUNTRY_INFO!K71=2,IF(COUNTRY_INFO!F71*0.5>MAX('T1'!M71,'T2'!K71),MAX('T1'!M71,'T2'!K71),COUNTRY_INFO!F71*0.5),IF(COUNTRY_INFO!K71=3,IF(COUNTRY_INFO!F71>MAX('T1'!M71,'T2'!K71),MAX('T1'!M71,'T2'!K71),COUNTRY_INFO!F71),0)))","v":0},{"$f":"IF(AND(COUNTRY_INFO!K71>0,COUNTRY_INFO!L71<4),IF(Z71>0,IF(COUNTRY_INFO!K71=1, AD71/(COUNTRY_INFO!F71*0.33)*100, IF(COUNTRY_INFO!K71=2, AD71/(COUNTRY_INFO!F71*0.5)*100, IF(COUNTRY_INFO!K71=3, AD71/COUNTRY_INFO!F71*100))),\"-\"),0)","v":0},{"$f":"IF(COUNTRY_INFO!K71=2,IF(COUNTRY_INFO!G71*0.2>MAX('T1'!N71,'T2'!L71),MAX('T1'!N71,'T2'!L71),COUNTRY_INFO!G71*0.2),IF(COUNTRY_INFO!K71=3,IF(COUNTRY_INFO!G71>MAX('T1'!N71,'T2'!L71),MAX('T1'!N71,'T2'!L71),COUNTRY_INFO!G71),0))","v":0},{"$f":"IF(AND(COUNTRY_INFO!K71>0,COUNTRY_INFO!L71<4),IF(Z71>0,IF(COUNTRY_INFO!K71=1, 0, IF(COUNTRY_INFO!K71=2, AF71/(COUNTRY_INFO!G71*0.2)*100, IF(COUNTRY_INFO!K71=3, AF71/COUNTRY_INFO!G71*100))),\"-\"),0)","v":0},0,{"$f":"IF(AND(COUNTRY_INFO!K71>0,COUNTRY_INFO!K71<4), IF(AC71/Z71*100<>0, IF(AH71/Z71*100>100,100,AH71/Z71*100), \"-\"),0)","v":"-"},null,{"$f":"IF(AND(D71<>0, D71<>\"Unknown\",D71<>\"Stopped\",D71<>\"Not required\"),D71/COUNTRY_INFO!D71, 0)","v":0},{"$f":"IF(AND(J71<>0,J71<>\"Unknown\",J71<>\"Stopped\",J71<>\"Not required\"),J71/COUNTRY_INFO!D71, 0)","v":0},{"$f":"IF(AND(P71<>0,P71<>\"Unknown\",P71<>\"Not required\"),P71/(COUNTRY_INFO!E71+COUNTRY_INFO!F71), 0)","v":1},{"$f":"IF(AND(Z71<>0,Z71<>\"Unknown\",Z71<>\"Not required\"),IF(COUNTRY_INFO!K71=1,1,IF(COUNTRY_INFO!K71=2,0.5*COUNTRY_INFO!F71/(0.5*COUNTRY_INFO!F71+0.2*COUNTRY_INFO!G71),IF(COUNTRY_INFO!K71=3,COUNTRY_INFO!F71/(COUNTRY_INFO!F71+COUNTRY_INFO!G71)))),0)","v":0.56961596449323237},{"$f":"IF(AND(Z71<>0,Z71<>\"Unknown\",Z71<>\"Not required\"),IF(COUNTRY_INFO!K71=1,0,IF(COUNTRY_INFO!K71=2,0.2*COUNTRY_INFO!G71/(0.5*COUNTRY_INFO!F71+0.2*COUNTRY_INFO!G71),IF(COUNTRY_INFO!K71=3,COUNTRY_INFO!G71/(COUNTRY_INFO!F71+COUNTRY_INFO!G71)))),0)","v":0.43038403550676768},{"$f":"MAX(COUNTRY_INFO!D71*AK71*PROFILE!$G$7,COUNTRY_INFO!D71*AL71*PROFILE!$G$7)","v":0},{"$f":"MAX(COUNTRY_INFO!D71*AK71*PROFILE!$G$8,COUNTRY_INFO!D71*AL71*PROFILE!$G$8,COUNTRY_INFO!D71*AM71*PROFILE!$G$8)","v":7713.41504102606},{"$f":"MAX(COUNTRY_INFO!D71*AK71*PROFILE!$G$9,COUNTRY_INFO!D71*AL71*PROFILE!$G$9,COUNTRY_INFO!D71*AM71*PROFILE!$G$9,IF(AND(DISTRICT!Z71<>\"Unknown\",Z71<>\"Not required\"),COUNTRY_INFO!P71*DISTRICT!AN71,0))","v":13450.273909510634},{"$f":"MAX(COUNTRY_INFO!D71*AK71*PROFILE!$G$10,COUNTRY_INFO!D71*AL71*PROFILE!$G$10,IF(AND(DISTRICT!Z71<>\"Unknown\",Z71<>\"Not required\"),COUNTRY_INFO!P71*DISTRICT!AO71,0))","v":5081.2000000000007},26244.888950536693,0,{"$f":"MAX('MDA4'!R71,'T1'!L71,'T2'!J71,T3_R1!K71,T3_R2!K71)","v":0},{"$f":"MAX('MDA1'!K71,'MDA4'!S71,'MDA3'!I71,'MDA3'!L71,'T1'!M71,'T2'!K71,T3_R1!L71,T3_R2!L71)","v":0},{"$f":"MAX('MDA1'!L71,'MDA4'!T71,'MDA3'!J71,'MDA3'!M71,'T1'!N71,'T2'!L71,T3_R1!M71,T3_R2!M71)","v":0},0,{"$f":"MAX('MDA4'!R71,T71)","v":0},{"$f":"MAX('MDA1'!K71,'MDA4'!S71,'MDA3'!I71,'MDA3'!L71,V71,AD71)","v":0},{"$f":"MAX('MDA1'!L71,'MDA4'!T71,'MDA3'!J71,'MDA3'!M71,AF71)","v":0},0,0]
[{"$f":"IF(COUNTRY_INFO!A72=0,\" \",COUNTRY_INFO!A72)","v":"Angola"},{"$f":"IF(COUNTRY_INFO!B72=0,\" \",COUNTRY_INFO!B72)","v":"CUNENE"},{"$f":"IF(COUNTRY_INFO!C72=0,\" \",COUNTRY_INFO!C72)","v":"CUVELAI"},{"$f":"COUNTRY_INFO!M72","v":0},null,null,{"$f":"MAX('MDA1'!M72,'MDA4'!U72)","v":0},{"$f":"IF(AND(COUNTRY_INFO!H72>0,COUNTRY_INFO!H72<4),IF(D72>MAX('MDA1'!M72,'MDA4'!U72),MAX('MDA1'!M72,'MDA4'!U72),D72),0)","v":0},{"$f":"IF(AND(COUNTRY_INFO!H72>0,COUNTRY_INFO!H72<4), IF(G72/D72*100<>0, IF(G72/D72*100>100,100,G72/D72*100), \"-\"),0)","v":0},{"$f":"COUNTRY_INFO!N72","v":"Unknown"},null,null,{"$f":"MAX('MDA1'!M72,MAX('MDA3'!I72,'MDA3'!L72)+MAX('MDA3'!J72,'MDA3'!M72))","v":0},{"$f":"IF(AND(COUNTRY_INFO!I72>0,COUNTRY_INFO!I72<4),IF(J72>MAX('MDA1'!M72,MAX('MDA3'!I72,'MDA3'!L72)+MAX('MDA3'!J72,'MDA3'!M72)),MAX('MDA1'!M72,MAX('MDA3'!I72,'MDA3'!L72)+MAX('MDA3'!J72,'MDA3'!M72)),J72),0)","v":0},{"$f":"IF(AND(COUNTRY_INFO!I72>0,COUNTRY_INFO!I72<4), IF(M72/J72*100<>0, IF(M72/J72*100>100,100,M72/J72*100), \"-\"),0)","v":0},{"$f":"COUNTRY_INFO!O72","v":29566},null,null,{"$f":"SUM(MAX('MDA4'!R72, 'T1'!L72, MAX(T3_R1!K72, T3_R2!K72)), MAX('MDA1'!K72, 'MDA4'!S72, 'T1'!M72, MAX(T3_R1!L72, T3_R2!L72)), MAX('MDA1'!L72, 'MDA4'!T72, 'T1'!N72, MAX(T3_R1!M72, T3_R2!M72)))","v":0},{"$f":"IF(AND(COUNTRY_INFO!J72>1,COUNTRY_INFO!J72<4),IF(COUNTRY_INFO!E72>MAX('MDA4'!R72,'T1'!L72,MAX(T3_R1!K72,T3_R2!K72)),MAX('MDA4'!R72,'T1'!L72,MAX(T3_R1!K72,T3_R2!K72)),COUNTRY_INFO!E72),0)","v":0},{"$f":"IF(AND(COUNTRY_INFO!J72>1,COUNTRY_INFO!J72<4), IF(T72/COUNTRY_INFO!E72*100<>0, IF(T72/COUNTRY_INFO!E72*100>100,100,T72/COUNTRY_INFO!E72*100), \"-\"),0)","v":"-"},{"$f":"IF(AND(COUNTRY_INFO!J72>1,COUNTRY_INFO!J72<4),IF(COUNTRY_INFO!F72>MAX('MDA1'!K72,'MDA4'!S72,'T1'!M72,MAX(T3_R1!L72,T3_R2!L72)),MAX('MDA1'!K72,'MDA4'!S72,'T1'!M72,MAX(T3_R1!L72,T3_R2!L72)),COUNTRY_INFO!F72),0)","v":0},{"$f":"IF(AND(COUNTRY_INFO!J72>1,COUNTRY_INFO!J72<4), IF(V72/COUNTRY_INFO!F72*100<>0, IF(V72/COUNTRY_INFO!F72*100>100,100,V72/COUNTRY_INFO!F72*100), \"-\"),0)","v":"-"},0,{"$f":"IF(AND(COUNTRY_INFO!J72>1,COUNTRY_INFO!J72<4), IF(S72/P72*100<>0, IF(X72/P72*100>100,100,X72/P72*100), \"-\"),0)","v":"-"},{"$f":"COUNTRY_INFO!P72","v":16493.400000000001},null,null,{"$f":"MAX('T1'!L72,'T2'!J72)+MAX('T1'!M72,'T2'!K72)+MAX('T1'!N72,'T2'!L72)","v":0},{"$f":"IF(COUNTRY_INFO!K72=1,IF(COUNTRY_INFO!F72*0.33>MAX('T1'!M72,'T2'!K72),MAX('T1'!M72,'T2'!K72),COUNTRY_INFO!F72*0.33),IF(COUNTRY_INFO!K72=2,IF(COUNTRY_INFO!F72*0.5>MAX('T1'!M72,'T2'!K72),MAX('T1'!M72,'T2'!K72),COUNTRY_INFO!F72*0.5),IF(COUNTRY_INFO!K72=3,IF(COUNTRY_INFO!F72>MAX('T1'!M72,'T2'!K72),MAX('T1'!M72,'T2'!K72),COUNTRY_INFO!F72),0)))","v":0},{"$f":"IF(AND(COUNTRY_INFO!K72>0,COUNTRY_INFO!L72<4),IF(Z72>0,IF(COUNTRY_INFO!K72=1, AD72/(COUNTRY_INFO!F72*0.33)*100, IF(COUNTRY_INFO!K72=2, AD72/(COUNTRY_INFO!F72*0.5)*100, IF(COUNTRY_INFO!K72=3, AD72/COUNTRY_INFO!F72*100))),\"-\"),0)","v":0},{"$f":"IF(COUNTRY_INFO!K72=2,IF(COUNTRY_INFO!G72*0.2>MAX('T1'!N72,'T2'!L72),MAX('T1'!N72,'T2'!L72),COUNTRY_INFO!G72*0.2),IF(COUNTRY_INFO!K72=3,IF(COUNTRY_INFO!G72>MAX('T1'!N72,'T2'!L72),MAX('T1'!N72,'T2'!L72),COUNTRY_INFO!G72),0))","v":0},{"$f":"IF(AND(COUNTRY_INFO!K72>0,COUNTRY_INFO!L72<4),IF(Z72>0,IF(COUNTRY_INFO!K72=1, 0, IF(COUNTRY_INFO!K72=2, AF72/(COUNTRY_INFO!G72*0.2)*100, IF(COUNTRY_INFO!K72=3, AF72/COUNTRY_INFO!G72*100))),\"-\"),0)","v":0},0,{"$f":"IF(AND(COUNTRY_INFO!K72>0,COUNTRY_INFO!K72<4), IF(AC72/Z72*100<>0, IF(AH72/Z72*100>100,100,AH72/Z72*100), \"-\"),0)","v":"-"},null,{"$f":"IF(AND(D72<>0, D72<>\"Unknown\",D72<>\"Stopped\",D72<>\"Not required\"),D72/COUNTRY_INFO!D72, 0)","v":0},{"$f":"IF(AND(J72<>0,J72<>\"Unknown\",J72<>\"Stopped\",J72<>\"Not required\"),J72/COUNTRY_INFO!D72, 0)","v":0},{"$f":"IF(AND(P72<>0,P72<>\"Unknown\",P72<>\"Not required\"),P72/(COUNTRY_INFO!E72+COUNTRY_INFO!F72), 0)","v":1},{"$f":"IF(AND(Z72<>0,Z72<>\"Unknown\",Z72<>\"Not required\"),IF(COUNTRY_INFO!K72=1,1,IF(COUNTRY_INFO!K72=2,0.5*COUNTRY_INFO!F72/(0.5*COUNTRY_INFO!F72+0.2*COUNTRY_INFO!G72),IF(COUNTRY_INFO!K72=3,COUNTRY_INFO!F72/(COUNTRY_INFO!F72+COUNTRY_INFO!G72)))),0)","v":0.56962178810918307},{"$f":"IF(AND(Z72<>0,Z72<>\"Unknown\",Z72<>\"Not required\"),IF(COUNTRY_INFO!K72=1,0,IF(COUNTRY_INFO!K72=2,0.2*COUNTRY_INFO!G72/(0.5*COUNTRY_INFO!F72+0.2*COUNTRY_INFO!G72),IF(COUNTRY_INFO!K72=3,COUNTRY_INFO!G72/(COUNTRY_INFO!F72+COUNTRY_INFO!G72)))),0)","v":0.43037821189081693},{"$f":"MAX(COUNTRY_INFO!D72*AK72*PROFILE!$G$7,COUNTRY_INFO!D72*AL72*PROFILE!$G$7)","v":0},{"$f":"MAX(COUNTRY_INFO!D72*AK72*PROFILE!$G$8,COUNTRY_INFO!D72*AL72*PROFILE!$G$8,COUNTRY_INFO!D72*AM72*PROFILE!$G$8)","v":10775.539623842429},{"$f":"MAX(COUNTRY_INFO!D72*AK72*PROFILE!$G$9,COUNTRY_INFO!D72*AL72*PROFILE!$G$9,COUNTRY_INFO!D72*AM72*PROFILE!$G$9,IF(AND(DISTRICT!Z72<>\"Unknown\",Z72<>\"Not required\"),COUNTRY_INFO!P72*DISTRICT!AN72,0))","v":18789.856204105716},{"$f":"MAX(COUNTRY_INFO!D72*AK72*PROFILE!$G$10,COUNTRY_INFO!D72*AL72*PROFILE!$G$10,IF(AND(DISTRICT!Z72<>\"Unknown\",Z72<>\"Not required\"),COUNTRY_INFO!P72*DISTRICT!AO72,0))","v":7098.4000000000005},36663.795827948146,0,{"$f":"MAX('MDA4'!R72,'T1'!L72,'T2'!J72,T3_R1!K72,T3_R2!K72)","v":0},{"$f":"MAX('MDA1'!K72,'MDA4'!S72,'MDA3'!I72,'MDA3'!L72,'T1'!M72,'T2'!K72,T3_R1!L72,T3_R2!L72)","v":0},{"$f":"MAX('MDA1'!L72,'MDA4'!T72,'MDA3'!J72,'MDA3'!M72,'T1'!N72,'T2'!L72,T3_R1!M72,T3_R2!M72)","v":0},0,{"$f":"MAX('MDA4'!R72,T72)","v":0},{"$f":"MAX('MDA1'!K72,'MDA4'!S72,'MDA3'!I72,'MDA3'!L72,V72,AD72)","v":0},{"$f":"MAX('MDA1'!L72,'MDA4'!T72,'MDA3'!J72,'MDA3'!M72,AF72)","v":0},0,0]
[{"$f":"IF(COUNTRY_INFO!A73=0,\" \",COUNTRY_INFO!A73)","v":"Angola"},{"$f":"IF(COUNTRY_INFO!B73=0,\" \",COUNTRY_INFO!B73)","v":"CUNENE"},{"$f":"IF(COUNTRY_INFO!C73=0,\" \",COUNTRY_INFO!C73)","v":"NAMACUNDE"},{"$f":"COUNTRY_INFO!M73","v":0},null,null,{"$f":"MAX('MDA1'!M73,'MDA4'!U73)","v":0},{"$f":"IF(AND(COUNTRY_INFO!H73>0,COUNTRY_INFO!H73<4),IF(D73>MAX('MDA1'!M73,'MDA4'!U73),MAX('MDA1'!M73,'MDA4'!U73),D73),0)","v":0},{"$f":"IF(AND(COUNTRY_INFO!H73>0,COUNTRY_INFO!H73<4), IF(G73/D73*100<>0, IF(G73/D73*100>100,100,G73/D73*100), \"-\"),0)","v":0},{"$f":"COUNTRY_INFO!N73","v":"Unknown"},null,null,{"$f":"MAX('MDA1'!M73,MAX('MDA3'!I73,'MDA3'!L73)+MAX('MDA3'!J73,'MDA3'!M73))","v":0},{"$f":"IF(AND(COUNTRY_INFO!I73>0,COUNTRY_INFO!I73<4),IF(J73>MAX('MDA1'!M73,MAX('MDA3'!I73,'MDA3'!L73)+MAX('MDA3'!J73,'MDA3'!M73)),MAX('MDA1'!M73,MAX('MDA3'!I73,'MDA3'!L73)+MAX('MDA3'!J73,'MDA3'!M73)),J73),0)","v":0},{"$f":"IF(AND(COUNTRY_INFO!I73>0,COUNTRY_INFO!I73<4), IF(M73/J73*100<>0, IF(M73/J73*100>100,100,M73/J73*100), \"-\"),0)","v":0},{"$f":"COUNTRY_INFO!O73","v":73168},null,null,{"$f":"SUM(MAX('MDA4'!R73, 'T1'!L73, MAX(T3_R1!K73, T3_R2!K73)), MAX('MDA1'!K73, 'MDA4'!S73, 'T1'!M73, MAX(T3_R1!L73, T3_R2!L73)), MAX('MDA1'!L73, 'MDA4'!T73, 'T1'!N73, MAX(T3_R1!M73, T3_R2!M73)))","v":0},{"$f":"IF(AND(COUNTRY_INFO!J73>1,COUNTRY_INFO!J73<4),IF(COUNTRY_INFO!E73>MAX('MDA4'!R73,'T1'!L73,MAX(T3_R1!K73,T3_R2!K73)),MAX('MDA4'!R73,'T1'!L73,MAX(T3_R1!K73,T3_R2!K73)),COUNTRY_INFO!E73),0)","v":0},{"$f":"IF(AND(COUNTRY_INFO!J73>1,COUNTRY_INFO!J73<4), IF(T73/COUNTRY_INFO!E73*100<>0, IF(T73/COUNTRY_INFO!E73*100>100,100,T73/COUNTRY_INFO!E73*100), \"-\"),0)","v":"-"},{"$f":"IF(AND(COUNTRY_INFO!J73>1,COUNTRY_INFO!J73<4),IF(COUNTRY_INFO!F73>MAX('MDA1'!K73,'MDA4'!S73,'T1'!M73,MAX(T3_R1!L73,T3_R2!L73)),MAX('MDA1'!K73,'MDA4'!S73,'T1'!M73,MAX(T3_R1!L73,T3_R2!L73)),COUNTRY_INFO!F73),0)","v":0},{"$f":"IF(AND(COUNTRY_INFO!J73>1,COUNTRY_INFO!J73<4), IF(V73/COUNTRY_INFO!F73*100<>0, IF(V73/COUNTRY_INFO!F73*100>100,100,V73/COUNTRY_INFO!F73*100), \"-\"),0)","v":"-"},0,{"$f":"IF(AND(COUNTRY_INFO!J73>1,COUNTRY_INFO!J73<4), IF(S73/P73*100<>0, IF(X73/P73*100>100,100,X73/P73*100), \"-\"),0)","v":"-"},{"$f":"COUNTRY_INFO!P73","v":40817.5},null,null,{"$f":"MAX('T1'!L73,'T2'!J73)+MAX('T1'!M73,'T2'!K73)+MAX('T1'!N73,'T2'!L73)","v":0},{"$f":"IF(COUNTRY_INFO!K73=1,IF(COUNTRY_INFO!F73*0.33>MAX('T1'!M73,'T2'!K73),MAX('T1'!M73,'T2'!K73),COUNTRY_INFO!F73*0.33),IF(COUNTRY_INFO!K73=2,IF(COUNTRY_INFO!F73*0.5>MAX('T1'!M73,'T2'!K73),MAX('T1'!M73,'T2'!K73),COUNTRY_INFO!F73*0.5),IF(COUNTRY_INFO!K73=3,IF(COUNTRY_INFO!F73>MAX('T1'!M73,'T2'!K73),MAX('T1'!M73,'T2'!K73),COUNTRY_INFO!F73),0)))","v":0},{"$f":"IF(AND(COUNTRY_INFO!K73>0,COUNTRY_INFO!L73<4),IF(Z73>0,IF(COUNTRY_INFO!K73=1, AD73/(COUNTRY_INFO!F73*0.33)*100, IF(COUNTRY_INFO!K73=2, AD73/(COUNTRY_INFO!F73*0.5)*100, IF(COUNTRY_INFO!K73=3, AD73/COUNTRY_INFO!F73*100))),\"-\"),0)","v":0},{"$f":"IF(COUNTRY_INFO!K73=2,IF(COUNTRY_INFO!G73*0.2>MAX('T1'!N73,'T2'!L73),MAX('T1'!N73,'T2'!L73),COUNTRY_INFO!G73*0.2),IF(COUNTRY_INFO!K73=3,IF(COUNTRY_INFO!G73>MAX('T1'!N73,'T2'!L73),MAX('T1'!N73,'T2'!L73),COUNTRY_INFO!G73),0))","v":0},{"$f":"IF(AND(COUNTRY_INFO!K73>0,COUNTRY_INFO!L73<4),IF(Z73>0,IF(COUNTRY_INFO!K73=1, 0, IF(COUNTRY_INFO!K73=2, AF73/(COUNTRY_INFO!G73*0.2)*100, IF(COUNTRY_INFO!K73=3, AF73/COUNTRY_INFO!G73*100))),\"-\"),0)","v":0},0,{"$f":"IF(AND(COUNTRY_INFO!K73>0,COUNTRY_INFO!K73<4), IF(AC73/Z73*100<>0, IF(AH73/Z73*100>100,100,AH73/Z73*100), \"-\"),0)","v":"-"},null,{"$f":"IF(AND(D73<>0, D73<>\"Unknown\",D73<>\"Stopped\",D73<>\"Not required\"),D73/COUNTRY_INFO!D73, 0)","v":0},{"$f":"IF(AND(J73<>0,J73<>\"Unknown\",J73<>\"Stopped\",J73<>\"Not required\"),J73/COUNTRY_INFO!D73, 0)","v":0},{"$f":"IF(AND(P73<>0,P73<>\"Unknown\",P73<>\"Not required\"),P73/(COUNTRY_INFO!E73+COUNTRY_INFO!F73), 0)","v":1},{"$f":"IF(AND(Z73<>0,Z73<>\"Unknown\",Z73<>\"Not required\"),IF(COUNTRY_INFO!K73=1,1,IF(COUNTRY_INFO!K73=2,0.5*COUNTRY_INFO!F73/(0.5*COUNTRY_INFO!F73+0.2*COUNTRY_INFO!G73),IF(COUNTRY_INFO!K73=3,COUNTRY_INFO!F73/(COUNTRY_INFO!F73+COUNTRY_INFO!G73)))),0)","v":0.56962087339988976},{"$f":"IF(AND(Z73<>0,Z73<>\"Unknown\",Z73<>\"Not required\"),IF(COUNTRY_INFO!K73=1,0,IF(COUNTRY_INFO!K73=2,0.2*COUNTRY_INFO!G73/(0.5*COUNTRY_INFO!F73+0.2*COUNTRY_INFO!G73),IF(COUNTRY_INFO!K73=3,COUNTRY_INFO!G73/(COUNTRY_INFO!F73+COUNTRY_INFO!G73)))),0)","v":0.43037912660011024},{"$f":"MAX(COUNTRY_INFO!D73*AK73*PROFILE!$G$7,COUNTRY_INFO!D73*AL73*PROFILE!$G$7)","v":0},{"$f":"MAX(COUNTRY_INFO!D73*AK73*PROFILE!$G$8,COUNTRY_INFO!D73*AL73*PROFILE!$G$8,COUNTRY_INFO!D73*AM73*PROFILE!$G$8)","v":26667.010644063306},{"$f":"MAX(COUNTRY_INFO!D73*AK73*PROFILE!$G$9,COUNTRY_INFO!D73*AL73*PROFILE!$G$9,COUNTRY_INFO!D73*AM73*PROFILE!$G$9,IF(AND(DISTRICT!Z73<>\"Unknown\",Z73<>\"Not required\"),COUNTRY_INFO!P73*DISTRICT!AN73,0))","v":46500.622046492987},{"$f":"MAX(COUNTRY_INFO!D73*AK73*PROFILE!$G$10,COUNTRY_INFO!D73*AL73*PROFILE!$G$10,IF(AND(DISTRICT!Z73<>\"Unknown\",Z73<>\"Not required\"),COUNTRY_INFO!P73*DISTRICT!AO73,0))","v":17567},90734.632690556289,0,{"$f":"MAX('MDA4'!R73,'T1'!L73,'T2'!J73,T3_R1!K73,T3_R2!K73)","v":0},{"$f":"MAX('MDA1'!K73,'MDA4'!S73,'MDA3'!I73,'MDA3'!L73,'T1'!M73,'T2'!K73,T3_R1!L73,T3_R2!L73)","v":0},{"$f":"MAX('MDA1'!L73,'MDA4'!T73,'MDA3'!J73,'MDA3'!M73,'T1'!N73,'T2'!L73,T3_R1!M73,T3_R2!M73)","v":0},0,{"$f":"MAX('MDA4'!R73,T73)","v":0},{"$f":"MAX('MDA1'!K73,'MDA4'!S73,'MDA3'!I73,'MDA3'!L73,V73,AD73)","v":0},{"$f":"MAX('MDA1'!L73,'MDA4'!T73,'MDA3'!J73,'MDA3'!M73,AF73)","v":0},0,0]
[{"$f":"IF(COUNTRY_INFO!A74=0,\" \",COUNTRY_INFO!A74)","v":"Angola"},{"$f":"IF(COUNTRY_INFO!B74=0,\" \",COUNTRY_INFO!B74)","v":"CUNENE"},{"$f":"IF(COUNTRY_INFO!C74=0,\" \",COUNTRY_INFO!C74)","v":"OMBADJA"},{"$f":"COUNTRY_INFO!M74","v":0},null,null,{"$f":"MAX('MDA1'!M74,'MDA4'!U74)","v":0},{"$f":"IF(AND(COUNTRY_INFO!H74>0,COUNTRY_INFO!H74<4),IF(D74>MAX('MDA1'!M74,'MDA4'!U74),MAX('MDA1'!M74,'MDA4'!U74),D74),0)","v":0},{"$f":"IF(AND(COUNTRY_INFO!H74>0,COUNTRY_INFO!H74<4), IF(G74/D74*100<>0, IF(G74/D74*100>100,100,G74/D74*100), \"-\"),0)","v":0},{"$f":"COUNTRY_INFO!N74","v":"Unknown"},null,null,{"$f":"MAX('MDA1'!M74,MAX('MDA3'!I74,'MDA3'!L74)+MAX('MDA3'!J74,'MDA3'!M74))","v":0},{"$f":"IF(AND(COUNTRY_INFO!I74>0,COUNTRY_INFO!I74<4),IF(J74>MAX('MDA1'!M74,MAX('MDA3'!I74,'MDA3'!L74)+MAX('MDA3'!J74,'MDA3'!M74)),MAX('MDA1'!M74,MAX('MDA3'!I74,'MDA3'!L74)+MAX('MDA3'!J74,'MDA3'!M74)),J74),0)","v":0},{"$f":"IF(AND(COUNTRY_INFO!I74>0,COUNTRY_INFO!I74<4), IF(M74/J74*100<>0, IF(M74/J74*100>100,100,M74/J74*100), \"-\"),0)","v":0},{"$f":"COUNTRY_INFO!O74","v":157085},null,null,{"$f":"SUM(MAX('MDA4'!R74, 'T1'!L74, MAX(T3_R1!K74, T3_R2!K74)), MAX('MDA1'!K74, 'MDA4'!S74, 'T1'!M74, MAX(T3_R1!L74, T3_R2!L74)), MAX('MDA1'!L74, 'MDA4'!T74, 'T1'!N74, MAX(T3_R1!M74, T3_R2!M74)))","v":0},{"$f":"IF(AND(COUNTRY_INFO!J74>1,COUNTRY_INFO!J74<4),IF(COUNTRY_INFO!E74>MAX('MDA4'!R74,'T1'!L74,MAX(T3_R1!K74,T3_R2!K74)),MAX('MDA4'!R74,'T1'!L74,MAX(T3_R1!K74,T3_R2!K74)),COUNTRY_INFO!E74),0)","v":0},{"$f":"IF(AND(COUNTRY_INFO!J74>1,COUNTRY_INFO!J74<4), IF(T74/COUNTRY_INFO!E74*100<>0, IF(T74/COUNTRY_INFO!E74*100>100,100,T74/COUNTRY_INFO!E74*100), \"-\"),0)","v":"-"},{"$f":"IF(AND(COUNTRY_INFO!J74>1,COUNTRY_INFO!J74<4),IF(COUNTRY_INFO!F74>MAX('MDA1'!K74,'MDA4'!S74,'T1'!M74,MAX(T3_R1!L74,T3_R2!L74)),MAX('MDA1'!K74,'MDA4'!S74,'T1'!M74,MAX(T3_R1!L74,T3_R2!L74)),COUNTRY_INFO!F74),0)","v":0},{"$f":"IF(AND(COUNTRY_INFO!J74>1,COUNTRY_INFO!J74<4), IF(V74/COUNTRY_INFO!F74*100<>0, IF(V74/COUNTRY_INFO!F74*100>100,100,V74/COUNTRY_INFO!F74*100), \"-\"),0)","v":"-"},{"$f":"SUM(T74,V74)","v":0},{"$f":"IF(AND(COUNTRY_INFO!J74>1,COUNTRY_INFO!J74<4), IF(S74/P74*100<>0, IF(X74/P74*100>100,100,X74/P74*100), \"-\"),0)","v":"-"},{"$f":"COUNTRY_INFO!P74","v":87631.3},null,null,{"$f":"MAX('T1'!L74,'T2'!J74)+MAX('T1'!M74,'T2'!K74)+MAX('T1'!N74,'T2'!L74)","v":0},{"$f":"IF(COUNTRY_INFO!K74=1,IF(COUNTRY_INFO!F74*0.33>MAX('T1'!M74,'T2'!K74),MAX('T1'!M74,'T2'!K74),COUNTRY_INFO!F74*0.33),IF(COUNTRY_INFO!K74=2,IF(COUNTRY_INFO!F74*0.5>MAX('T1'!M74,'T2'!K74),MAX('T1'!M74,'T2'!K74),COUNTRY_INFO!F74*0.5),IF(COUNTRY_INFO!K74=3,IF(COUNTRY_INFO!F74>MAX('T1'!M74,'T2'!K74),MAX('T1'!M74,'T2'!K74),COUNTRY_INFO!F74),0)))","v":0},{"$f":"IF(AND(COUNTRY_INFO!K74>0,COUNTRY_INFO!L74<4),IF(Z74>0,IF(COUNTRY_INFO!K74=1, AD74/(COUNTRY_INFO!F74*0.33)*100, IF(COUNTRY_INFO!K74=2, AD74/(COUNTRY_INFO!F74*0.5)*100, IF(COUNTRY_INFO!K74=3, AD74/COUNTRY_INFO!F74*100))),\"-\"),0)","v":0},{"$f":"IF(COUNTRY_INFO!K74=2,IF(COUNTRY_INFO!G74*0.2>MAX('T1'!N74,'T2'!L74),MAX('T1'!N74,'T2'!L74),COUNTRY_INFO!G74*0.2),IF(COUNTRY_INFO!K74=3,IF(COUNTRY_INFO!G74>MAX('T1'!N74,'T2'!L74),MAX('T1'!N74,'T2'!L74),COUNTRY_INFO!G74),0))","v":0},{"$f":"IF(AND(COUNTRY_INFO!K74>0,COUNTRY_INFO!L74<4),IF(Z74>0,IF(COUNTRY_INFO!K74=1, 0, IF(COUNTRY_INFO!K74=2, AF74/(COUNTRY_INFO!G74*0.2)*100, IF(COUNTRY_INFO!K74=3, AF74/COUNTRY_INFO!G74*100))),\"-\"),0)","v":0},{"$f":"SUM(AD74,AF74)","v":0},{"$f":"IF(AND(COUNTRY_INFO!K74>0,COUNTRY_INFO!K74<4), IF(AC74/Z74*100<>0, IF(AH74/Z74*100>100,100,AH74/Z74*100), \"-\"),0)","v":"-"},null,{"$f":"IF(AND(D74<>0, D74<>\"Unknown\",D74<>\"Stopped\",D74<>\"Not required\"),D74/COUNTRY_INFO!D74, 0)","v":0},{"$f":"IF(AND(J74<>0,J74<>\"Unknown\",J74<>\"Stopped\",J74<>\"Not required\"),J74/COUNTRY_INFO!D74, 0)","v":0},{"$f":"IF(AND(P74<>0,P74<>\"Unknown\",P74<>\"Not required\"),P74/(COUNTRY_INFO!E74+COUNTRY_INFO!F74), 0)","v":1},{"$f":"IF(AND(Z74<>0,Z74<>\"Unknown\",Z74<>\"Not required\"),IF(COUNTRY_INFO!K74=1,1,IF(COUNTRY_INFO!K74=2,0.5*COUNTRY_INFO!F74/(0.5*COUNTRY_INFO!F74+0.2*COUNTRY_INFO!G74),IF(COUNTRY_INFO!K74=3,COUNTRY_INFO!F74/(COUNTRY_INFO!F74+COUNTRY_INFO!G74)))),0)","v":0.56961953092102935},{"$f":"IF(AND(Z74<>0,Z74<>\"Unknown\",Z74<>\"Not required\"),IF(COUNTRY_INFO!K74=1,0,IF(COUNTRY_INFO!K74=2,0.2*COUNTRY_INFO!G74/(0.5*COUNTRY_INFO!F74+0.2*COUNTRY_INFO!G74),IF(COUNTRY_INFO!K74=3,COUNTRY_INFO!G74/(COUNTRY_INFO!F74+COUNTRY_INFO!G74)))),0)","v":0.43038046907897065},{"$f":"MAX(COUNTRY_INFO!D74*AK74*PROFILE!$G$7,COUNTRY_INFO!D74*AL74*PROFILE!$G$7)","v":0},{"$f":"MAX(COUNTRY_INFO!D74*AK74*PROFILE!$G$8,COUNTRY_INFO!D74*AL74*PROFILE!$G$8,COUNTRY_INFO!D74*AM74*PROFILE!$G$8)","v":57252.023865735435},{"$f":"MAX(COUNTRY_INFO!D74*AK74*PROFILE!$G$9,COUNTRY_INFO!D74*AL74*PROFILE!$G$9,COUNTRY_INFO!D74*AM74*PROFILE!$G$9,IF(AND(DISTRICT!Z74<>\"Unknown\",Z74<>\"Not required\"),COUNTRY_INFO!P74*DISTRICT!AN74,0))","v":99833.264354662097},{"$f":"MAX(COUNTRY_INFO!D74*AK74*PROFILE!$G$10,COUNTRY_INFO!D74*AL74*PROFILE!$G$10,IF(AND(DISTRICT!Z74<>\"Unknown\",Z74<>\"Not required\"),COUNTRY_INFO!P74*DISTRICT!AO74,0))","v":37714.800000000003},{"$f":"SUM(AP74:AS74)","v":194800.08822039753},{"$f":"IF(COUNTIFS(AK74:AN74,\">0\")=0,0, IF(COUNTIFS(AK74:AN74,\">0\")<=IF(AND(OR(D74>=0,D74=\"Not required\",D74=\"Unknown\",D74=\"Stopped\"),D74>0,H74>0),1,0)+IF(AND(OR(J74>=0,J74=\"Not required\",J74=\"Unknown\",J74=\"Stopped\"),J74>0,N74>0),1,0)+IF(AND(OR(P74>=0,P74=\"Not required\",P74=\"Unknown\"),P74>0,X74>0),1,0)+IF(AND(OR(Z74>=0,Z74=\"Not required\",Z74=\"Unknown\"),Z74>0,AH74>0),1,0),\"Y\",0))","v":0},{"$f":"MAX('MDA4'!R74,'T1'!L74,'T2'!J74,T3_R1!K74,T3_R2!K74)","v":0},{"$f":"MAX('MDA1'!K74,'MDA4'!S74,'MDA3'!I74,'MDA3'!L74,'T1'!M74,'T2'!K74,T3_R1!L74,T3_R2!L74)","v":0},{"$f":"MAX('MDA1'!L74,'MDA4'!T74,'MDA3'!J74,'MDA3'!M74,'T1'!N74,'T2'!L74,T3_R1!M74,T3_R2!M74)","v":0},{"$f":"SUM(AV74:AX74)","v":0},{"$f":"MAX('MDA4'!R74,T74)","v":0},{"$f":"MAX('MDA1'!K74,'MDA4'!S74,'MDA3'!I74,'MDA3'!L74,V74,AD74)","v":0},{"$f":"MAX('MDA1'!L74,'MDA4'!T74,'MDA3'!J74,'MDA3'!M74,AF74)","v":0},{"$f":"IF(AT74<SUM(AZ74:BB74), AT74,SUM(AZ74:BB74))","v":0},{"$f":"IF(AT74<>0,BC74/AT74*100,0)","v":0}]
[{"$f":"IF(COUNTRY_INFO!A75=0,\" \",COUNTRY_INFO!A75)","v":"Angola"},{"$f":"IF(COUNTRY_INFO!B75=0,\" \",COUNTRY_INFO!B75)","v":"HUAMBO"},{"$f":"IF(COUNTRY_INFO!C75=0,\" \",COUNTRY_INFO!C75)","v":"BAILUNDO"},{"$f":"COUNTRY_INFO!M75","v":0},null,null,{"$f":"MAX('MDA1'!M75,'MDA4'!U75)","v":0},{"$f":"IF(AND(COUNTRY_INFO!H75>0,COUNTRY_INFO!H75<4),IF(D75>MAX('MDA1'!M75,'MDA4'!U75),MAX('MDA1'!M75,'MDA4'!U75),D75),0)","v":0},{"$f":"IF(AND(COUNTRY_INFO!H75>0,COUNTRY_INFO!H75<4), IF(G75/D75*100<>0, IF(G75/D75*100>100,100,G75/D75*100), \"-\"),0)","v":0},{"$f":"COUNTRY_INFO!N75","v":"Unknown"},null,null,{"$f":"MAX('MDA1'!M75,MAX('MDA3'!I75,'MDA3'!L75)+MAX('MDA3'!J75,'MDA3'!M75))","v":0},{"$f":"IF(AND(COUNTRY_INFO!I75>0,COUNTRY_INFO!I75<4),IF(J75>MAX('MDA1'!M75,MAX('MDA3'!I75,'MDA3'!L75)+MAX('MDA3'!J75,'MDA3'!M75)),MAX('MDA1'!M75,MAX('MDA3'!I75,'MDA3'!L75)+MAX('MDA3'!J75,'MDA3'!M75)),J75),0)","v":0},{"$f":"IF(AND(COUNTRY_INFO!I75>0,COUNTRY_INFO!I75<4), IF(M75/J75*100<>0, IF(M75/J75*100>100,100,M75/J75*100), \"-\"),0)","v":0},{"$f":"COUNTRY_INFO!O75","v":0},null,null,{"$f":"SUM(MAX('MDA4'!R75, 'T1'!L75, MAX(T3_R1!K75, T3_R2!K75)), MAX('MDA1'!K75, 'MDA4'!S75, 'T1'!M75, MAX(T3_R1!L75, T3_R2!L75)), MAX('MDA1'!L75, 'MDA4'!T75, 'T1'!N75, MAX(T3_R1!M75, T3_R2!M75)))","v":0},{"$f":"IF(AND(COUNTRY_INFO!J75>1,COUNTRY_INFO!J75<4),IF(COUNTRY_INFO!E75>MAX('MDA4'!R75,'T1'!L75,MAX(T3_R1!K75,T3_R2!K75)),MAX('MDA4'!R75,'T1'!L75,MAX(T3_R1!K75,T3_R2!K75)),COUNTRY_INFO!E75),0)","v":0},{"$f":"IF(AND(COUNTRY_INFO!J75>1,COUNTRY_INFO!J75<4), IF(T75/COUNTRY_INFO!E75*100<>0, IF(T75/COUNTRY_INFO!E75*100>100,100,T75/COUNTRY_INFO!E75*100), \"-\"),0)","v":0},{"$f":"IF(AND(COUNTRY_INFO!J75>1,COUNTRY_INFO!J75<4),IF(COUNTRY_INFO!F75>MAX('MDA1'!K75,'MDA4'!S75,'T1'!M75,MAX(T3_R1!L75,T3_R2!L75)),MAX('MDA1'!K75,'MDA4'!S75,'T1'!M75,MAX(T3_R1!L75,T3_R2!L75)),COUNTRY_INFO!F75),0)","v":0},{"$f":"IF(AND(COUNTRY_INFO!J75>1,COUNTRY_INFO!J75<4), IF(V75/COUNTRY_INFO!F75*100<>0, IF(V75/COUNTRY_INFO!F75*100>100,100,V75/COUNTRY_INFO!F75*100), \"-\"),0)","v":0},0,{"$f":"IF(AND(COUNTRY_INFO!J75>1,COUNTRY_INFO!J75<4), IF(S75/P75*100<>0, IF(X75/P75*100>100,100,X75/P75*100), \"-\"),0)","v":0},{"$f":"COUNTRY_INFO!P75","v":84623},null,null,{"$f":"MAX('T1'!L75,'T2'!J75)+MAX('T1'!M75,'T2'!K75)+MAX('T1'!N75,'T2'!L75)","v":95728},{"$f":"IF(COUNTRY_INFO!K75=1,IF(COUNTRY_INFO!F75*0.33>MAX('T1'!M75,'T2'!K75),MAX('T1'!M75,'T2'!K75),COUNTRY_INFO!F75*0.33),IF(COUNTRY_INFO!K75=2,IF(COUNTRY_INFO!F75*0.5>MAX('T1'!M75,'T2'!K75),MAX('T1'!M75,'T2'!K75),COUNTRY_INFO!F75*0.5),IF(COUNTRY_INFO!K75=3,IF(COUNTRY_INFO!F75>MAX('T1'!M75,'T2'!K75),MAX('T1'!M75,'T2'!K75),COUNTRY_INFO!F75),0)))","v":48203},{"$f":"IF(AND(COUNTRY_INFO!K75>0,COUNTRY_INFO!L75<4),IF(Z75>0,IF(COUNTRY_INFO!K75=1, AD75/(COUNTRY_INFO!F75*0.33)*100, IF(COUNTRY_INFO!K75=2, AD75/(COUNTRY_INFO!F75*0.5)*100, IF(COUNTRY_INFO!K75=3, AD75/COUNTRY_INFO!F75*100))),\"-\"),0)","v":100},{"$f":"IF(COUNTRY_INFO!K75=2,IF(COUNTRY_INFO!G75*0.2>MAX('T1'!N75,'T2'!L75),MAX('T1'!N75,'T2'!L75),COUNTRY_INFO!G75*0.2),IF(COUNTRY_INFO!K75=3,IF(COUNTRY_INFO!G75>MAX('T1'!N75,'T2'!L75),MAX('T1'!N75,'T2'!L75),COUNTRY_INFO!G75),0))","v":0},{"$f":"IF(AND(COUNTRY_INFO!K75>0,COUNTRY_INFO!L75<4),IF(Z75>0,IF(COUNTRY_INFO!K75=1, 0, IF(COUNTRY_INFO!K75=2, AF75/(COUNTRY_INFO!G75*0.2)*100, IF(COUNTRY_INFO!K75=3, AF75/COUNTRY_INFO!G75*100))),\"-\"),0)","v":0},48203,{"$f":"IF(AND(COUNTRY_INFO!K75>0,COUNTRY_INFO!K75<4), IF(AC75/Z75*100<>0, IF(AH75/Z75*100>100,100,AH75/Z75*100), \"-\"),0)","v":56.962055233210826},null,{"$f":"IF(AND(D75<>0, D75<>\"Unknown\",D75<>\"Stopped\",D75<>\"Not required\"),D75/COUNTRY_INFO!D75, 0)","v":0},{"$f":"IF(AND(J75<>0,J75<>\"Unknown\",J75<>\"Stopped\",J75<>\"Not required\"),J75/COUNTRY_INFO!D75, 0)","v":0},{"$f":"IF(AND(P75<>0,P75<>\"Unknown\",P75<>\"Not required\"),P75/(COUNTRY_INFO!E75+COUNTRY_INFO!F75), 0)","v":0},{"$f":"IF(AND(Z75<>0,Z75<>\"Unknown\",Z75<>\"Not required\"),IF(COUNTRY_INFO!K75=1,1,IF(COUNTRY_INFO!K75=2,0.5*COUNTRY_INFO!F75/(0.5*COUNTRY_INFO!F75+0.2*COUNTRY_INFO!G75),IF(COUNTRY_INFO!K75=3,COUNTRY_INFO!F75/(COUNTRY_INFO!F75+COUNTRY_INFO!G75)))),0)","v":0.56962055233210829},{"$f":"IF(AND(Z75<>0,Z75<>\"Unknown\",Z75<>\"Not required\"),IF(COUNTRY_INFO!K75=1,0,IF(COUNTRY_INFO!K75=2,0.2*COUNTRY_INFO!G75/(0.5*COUNTRY_INFO!F75+0.2*COUNTRY_INFO!G75),IF(COUNTRY_INFO!K75=3,COUNTRY_INFO!G75/(COUNTRY_INFO!F75+COUNTRY_INFO!G75)))),0)","v":0.43037944766789171},{"$f":"MAX(COUNTRY_INFO!D75*AK75*PROFILE!$G$7,COUNTRY_INFO!D75*AL75*PROFILE!$G$7)","v":0},{"$f":"MAX(COUNTRY_INFO!D75*AK75*PROFILE!$G$8,COUNTRY_INFO!D75*AL75*PROFILE!$G$8,COUNTRY_INFO!D75*AM75*PROFILE!$G$8)","v":0},{"$f":"MAX(COUNTRY_INFO!D75*AK75*PROFILE!$G$9,COUNTRY_INFO!D75*AL75*PROFILE!$G$9,COUNTRY_INFO!D75*AM75*PROFILE!$G$9,IF(AND(DISTRICT!Z75<>\"Unknown\",Z75<>\"Not required\"),COUNTRY_INFO!P75*DISTRICT!AN75,0))","v":48203},{"$f":"MAX(COUNTRY_INFO!D75*AK75*PROFILE!$G$10,COUNTRY_INFO!D75*AL75*PROFILE!$G$10,IF(AND(DISTRICT!Z75<>\"Unknown\",Z75<>\"Not required\"),COUNTRY_INFO!P75*DISTRICT!AO75,0))","v":36420},84623,"Y",{"$f":"MAX('MDA4'!R75,'T1'!L75,'T2'!J75,T3_R1!K75,T3_R2!K75)","v":0},{"$f":"MAX('MDA1'!K75,'MDA4'!S75,'MDA3'!I75,'MDA3'!L75,'T1'!M75,'T2'!K75,T3_R1!L75,T3_R2!L75)","v":95728},{"$f":"MAX('MDA1'!L75,'MDA4'!T75,'MDA3'!J75,'MDA3'!M75,'T1'!N75,'T2'!L75,T3_R1!M75,T3_R2!M75)","v":0},95728,{"$f":"MAX('MDA4'!R75,T75)","v":0},{"$f":"MAX('MDA1'!K75,'MDA4'!S75,'MDA3'!I75,'MDA3'!L75,V75,AD75)","v":48203},{"$f":"MAX('MDA1'!L75,'MDA4'!T75,'MDA3'!J75,'MDA3'!M75,AF75)","v":0},48203,56.962055233210826]
[{"$f":"IF(COUNTRY_INFO!A76=0,\" \",COUNTRY_INFO!A76)","v":"Angola"},{"$f":"IF(COUNTRY_INFO!B76=0,\" \",COUNTRY_INFO!B76)","v":"HUAMBO"},{"$f":"IF(COUNTRY_INFO!C76=0,\" \",COUNTRY_INFO!C76)","v":"CAALA"},{"$f":"COUNTRY_INFO!M76","v":0},null,null,{"$f":"MAX('MDA1'!M76,'MDA4'!U76)","v":0},{"$f":"IF(AND(COUNTRY_INFO!H76>0,COUNTRY_INFO!H76<4),IF(D76>MAX('MDA1'!M76,'MDA4'!U76),MAX('MDA1'!M76,'MDA4'!U76),D76),0)","v":0},{"$f":"IF(AND(COUNTRY_INFO!H76>0,COUNTRY_INFO!H76<4), IF(G76/D76*100<>0, IF(G76/D76*100>100,100,G76/D76*100), \"-\"),0)","v":0},{"$f":"COUNTRY_INFO!N76","v":"Unknown"},null,null,{"$f":"MAX('MDA1'!M76,MAX('MDA3'!I76,'MDA3'!L76)+MAX('MDA3'!J76,'MDA3'!M76))","v":0},{"$f":"IF(AND(COUNTRY_INFO!I76>0,COUNTRY_INFO!I76<4),IF(J76>MAX('MDA1'!M76,MAX('MDA3'!I76,'MDA3'!L76)+MAX('MDA3'!J76,'MDA3'!M76)),MAX('MDA1'!M76,MAX('MDA3'!I76,'MDA3'!L76)+MAX('MDA3'!J76,'MDA3'!M76)),J76),0)","v":0},{"$f":"IF(AND(COUNTRY_INFO!I76>0,COUNTRY_INFO!I76<4), IF(M76/J76*100<>0, IF(M76/J76*100>100,100,M76/J76*100), \"-\"),0)","v":0},{"$f":"COUNTRY_INFO!O76","v":0},null,null,{"$f":"SUM(MAX('MDA4'!R76, 'T1'!L76, MAX(T3_R1!K76, T3_R2!K76)), MAX('MDA1'!K76, 'MDA4'!S76, 'T1'!M76, MAX(T3_R1!L76, T3_R2!L76)), MAX('MDA1'!L76, 'MDA4'!T76, 'T1'!N76, MAX(T3_R1!M76, T3_R2!M76)))","v":0},{"$f":"IF(AND(COUNTRY_INFO!J76>1,COUNTRY_INFO!J76<4),IF(COUNTRY_INFO!E76>MAX('MDA4'!R76,'T1'!L76,MAX(T3_R1!K76,T3_R2!K76)),MAX('MDA4'!R76,'T1'!L76,MAX(T3_R1!K76,T3_R2!K76)),COUNTRY_INFO!E76),0)","v":0},{"$f":"IF(AND(COUNTRY_INFO!J76>1,COUNTRY_INFO!J76<4), IF(T76/COUNTRY_INFO!E76*100<>0, IF(T76/COUNTRY_INFO!E76*100>100,100,T76/COUNTRY_INFO!E76*100), \"-\"),0)","v":0},{"$f":"IF(AND(COUNTRY_INFO!J76>1,COUNTRY_INFO!J76<4),IF(COUNTRY_INFO!F76>MAX('MDA1'!K76,'MDA4'!S76,'T1'!M76,MAX(T3_R1!L76,T3_R2!L76)),MAX('MDA1'!K76,'MDA4'!S76,'T1'!M76,MAX(T3_R1!L76,T3_R2!L76)),COUNTRY_INFO!F76),0)","v":0},{"$f":"IF(AND(COUNTRY_INFO!J76>1,COUNTRY_INFO!J76<4), IF(V76/COUNTRY_INFO!F76*100<>0, IF(V76/COUNTRY_INFO!F76*100>100,100,V76/COUNTRY_INFO!F76*100), \"-\"),0)","v":0},0,{"$f":"IF(AND(COUNTRY_INFO!J76>1,COUNTRY_INFO!J76<4), IF(S76/P76*100<>0, IF(X76/P76*100>100,100,X76/P76*100), \"-\"),0)","v":0},{"$f":"COUNTRY_INFO!P76","v":80398.3},null,null,{"$f":"MAX('T1'!L76,'T2'!J76)+MAX('T1'!M76,'T2'!K76)+MAX('T1'!N76,'T2'!L76)","v":88150},{"$f":"IF(COUNTRY_INFO!K76=1,IF(COUNTRY_INFO!F76*0.33>MAX('T1'!M76,'T2'!K76),MAX('T1'!M76,'T2'!K76),COUNTRY_INFO!F76*0.33),IF(COUNTRY_INFO!K76=2,IF(COUNTRY_INFO!F76*0.5>MAX('T1'!M76,'T2'!K76),MAX('T1'!M76,'T2'!K76),COUNTRY_INFO!F76*0.5),IF(COUNTRY_INFO!K76=3,IF(COUNTRY_INFO!F76>MAX('T1'!M76,'T2'!K76),MAX('T1'!M76,'T2'!K76),COUNTRY_INFO!F76),0)))","v":45796.5},{"$f":"IF(AND(COUNTRY_INFO!K76>0,COUNTRY_INFO!L76<4),IF(Z76>0,IF(COUNTRY_INFO!K76=1, AD76/(COUNTRY_INFO!F76*0.33)*100, IF(COUNTRY_INFO!K76=2, AD76/(COUNTRY_INFO!F76*0.5)*100, IF(COUNTRY_INFO!K76=3, AD76/COUNTRY_INFO!F76*100))),\"-\"),0)","v":100},{"$f":"IF(COUNTRY_INFO!K76=2,IF(COUNTRY_INFO!G76*0.2>MAX('T1'!N76,'T2'!L76),MAX('T1'!N76,'T2'!L76),COUNTRY_INFO!G76*0.2),IF(COUNTRY_INFO!K76=3,IF(COUNTRY_INFO!G76>MAX('T1'!N76,'T2'!L76),MAX('T1'!N76,'T2'!L76),COUNTRY_INFO!G76),0))","v":0},{"$f":"IF(AND(COUNTRY_INFO!K76>0,COUNTRY_INFO!L76<4),IF(Z76>0,IF(COUNTRY_INFO!K76=1, 0, IF(COUNTRY_INFO!K76=2, AF76/(COUNTRY_INFO!G76*0.2)*100, IF(COUNTRY_INFO!K76=3, AF76/COUNTRY_INFO!G76*100))),\"-\"),0)","v":0},45796.5,{"$f":"IF(AND(COUNTRY_INFO!K76>0,COUNTRY_INFO!K76<4), IF(AC76/Z76*100<>0, IF(AH76/Z76*100>100,100,AH76/Z76*100), \"-\"),0)","v":56.962025316455687},null,{"$f":"IF(AND(D76<>0, D76<>\"Unknown\",D76<>\"Stopped\",D76<>\"Not required\"),D76/COUNTRY_INFO!D76, 0)","v":0},{"$f":"IF(AND(J76<>0,J76<>\"Unknown\",J76<>\"Stopped\",J76<>\"Not required\"),J76/COUNTRY_INFO!D76, 0)","v":0},{"$f":"IF(AND(P76<>0,P76<>\"Unknown\",P76<>\"Not required\"),P76/(COUNTRY_INFO!E76+COUNTRY_INFO!F76), 0)","v":0},{"$f":"IF(AND(Z76<>0,Z76<>\"Unknown\",Z76<>\"Not required\"),IF(COUNTRY_INFO!K76=1,1,IF(COUNTRY_INFO!K76=2,0.5*COUNTRY_INFO!F76/(0.5*COUNTRY_INFO!F76+0.2*COUNTRY_INFO!G76),IF(COUNTRY_INFO!K76=3,COUNTRY_INFO!F76/(COUNTRY_INFO!F76+COUNTRY_INFO!G76)))),0)","v":0.56962025316455689},{"$f":"IF(AND(Z76<>0,Z76<>\"Unknown\",Z76<>\"Not required\"),IF(COUNTRY_INFO!K76=1,0,IF(COUNTRY_INFO!K76=2,0.2*COUNTRY_INFO!G76/(0.5*COUNTRY_INFO!F76+0.2*COUNTRY_INFO!G76),IF(COUNTRY_INFO!K76=3,COUNTRY_INFO!G76/(COUNTRY_INFO!F76+COUNTRY_INFO!G76)))),0)","v":0.43037974683544306},{"$f":"MAX(COUNTRY_INFO!D76*AK76*PROFILE!$G$7,COUNTRY_INFO!D76*AL76*PROFILE!$G$7)","v":0},{"$f":"MAX(COUNTRY_INFO!D76*AK76*PROFILE!$G$8,COUNTRY_INFO!D76*AL76*PROFILE!$G$8,COUNTRY_INFO!D76*AM76*PROFILE!$G$8)","v":0},{"$f":"MAX(COUNTRY_INFO!D76*AK76*PROFILE!$G$9,COUNTRY_INFO!D76*AL76*PROFILE!$G$9,COUNTRY_INFO!D76*AM76*PROFILE!$G$9,IF(AND(DISTRICT!Z76<>\"Unknown\",Z76<>\"Not required\"),COUNTRY_INFO!P76*DISTRICT!AN76,0))","v":45796.499999999993},{"$f":"MAX(COUNTRY_INFO!D76*AK76*PROFILE!$G$10,COUNTRY_INFO!D76*AL76*PROFILE!$G$10,IF(AND(DISTRICT!Z76<>\"Unknown\",Z76<>\"Not required\"),COUNTRY_INFO!P76*DISTRICT!AO76,0))","v":34601.800000000003},80398.299999999988,"Y",{"$f":"MAX('MDA4'!R76,'T1'!L76,'T2'!J76,T3_R1!K76,T3_R2!K76)","v":0},{"$f":"MAX('MDA1'!K76,'MDA4'!S76,'MDA3'!I76,'MDA3'!L76,'T1'!M76,'T2'!K76,T3_R1!L76,T3_R2!L76)","v":88150},{"$f":"MAX('MDA1'!L76,'MDA4'!T76,'MDA3'!J76,'MDA3'!M76,'T1'!N76,'T2'!L76,T3_R1!M76,T3_R2!M76)","v":0},88150,{"$f":"MAX('MDA4'!R76,T76)","v":0},{"$f":"MAX('MDA1'!K76,'MDA4'!S76,'MDA3'!I76,'MDA3'!L76,V76,AD76)","v":45796.5},{"$f":"MAX('MDA1'!L76,'MDA4'!T76,'MDA3'!J76,'MDA3'!M76,AF76)","v":0},45796.5,56.962025316455701]
[{"$f":"IF(COUNTRY_INFO!A77=0,\" \",COUNTRY_INFO!A77)","v":"Angola"},{"$f":"IF(COUNTRY_INFO!B77=0,\" \",COUNTRY_INFO!B77)","v":"HUAMBO"},{"$f":"IF(COUNTRY_INFO!C77=0,\" \",COUNTRY_INFO!C77)","v":"CACHIUNGO"},{"$f":"COUNTRY_INFO!M77","v":0},null,null,{"$f":"MAX('MDA1'!M77,'MDA4'!U77)","v":0},{"$f":"IF(AND(COUNTRY_INFO!H77>0,COUNTRY_INFO!H77<4),IF(D77>MAX('MDA1'!M77,'MDA4'!U77),MAX('MDA1'!M77,'MDA4'!U77),D77),0)","v":0},{"$f":"IF(AND(COUNTRY_INFO!H77>0,COUNTRY_INFO!H77<4), IF(G77/D77*100<>0, IF(G77/D77*100>100,100,G77/D77*100), \"-\"),0)","v":0},{"$f":"COUNTRY_INFO!N77","v":"Unknown"},null,null,{"$f":"MAX('MDA1'!M77,MAX('MDA3'!I77,'MDA3'!L77)+MAX('MDA3'!J77,'MDA3'!M77))","v":0},{"$f":"IF(AND(COUNTRY_INFO!I77>0,COUNTRY_INFO!I77<4),IF(J77>MAX('MDA1'!M77,MAX('MDA3'!I77,'MDA3'!L77)+MAX('MDA3'!J77,'MDA3'!M77)),MAX('MDA1'!M77,MAX('MDA3'!I77,'MDA3'!L77)+MAX('MDA3'!J77,'MDA3'!M77)),J77),0)","v":0},{"$f":"IF(AND(COUNTRY_INFO!I77>0,COUNTRY_INFO!I77<4), IF(M77/J77*100<>0, IF(M77/J77*100>100,100,M77/J77*100), \"-\"),0)","v":0},{"$f":"COUNTRY_INFO!O77","v":0},null,null,{"$f":"SUM(MAX('MDA4'!R77, 'T1'!L77, MAX(T3_R1!K77, T3_R2!K77)), MAX('MDA1'!K77, 'MDA4'!S77, 'T1'!M77, MAX(T3_R1!L77, T3_R2!L77)), MAX('MDA1'!L77, 'MDA4'!T77, 'T1'!N77, MAX(T3_R1!M77, T3_R2!M77)))","v":0},{"$f":"IF(AND(COUNTRY_INFO!J77>1,COUNTRY_INFO!J77<4),IF(COUNTRY_INFO!E77>MAX('MDA4'!R77,'T1'!L77,MAX(T3_R1!K77,T3_R2!K77)),MAX('MDA4'!R77,'T1'!L77,MAX(T3_R1!K77,T3_R2!K77)),COUNTRY_INFO!E77),0)","v":0},{"$f":"IF(AND(COUNTRY_INFO!J77>1,COUNTRY_INFO!J77<4), IF(T77/COUNTRY_INFO!E77*100<>0, IF(T77/COUNTRY_INFO!E77*100>100,100,T77/COUNTRY_INFO!E77*100), \"-\"),0)","v":0},{"$f":"IF(AND(COUNTRY_INFO!J77>1,COUNTRY_INFO!J77<4),IF(COUNTRY_INFO!F77>MAX('MDA1'!K77,'MDA4'!S77,'T1'!M77,MAX(T3_R1!L77,T3_R2!L77)),MAX('MDA1'!K77,'MDA4'!S77,'T1'!M77,MAX(T3_R1!L77,T3_R2!L77)),COUNTRY_INFO!F77),0)","v":0},{"$f":"IF(AND(COUNTRY_INFO!J77>1,COUNTRY_INFO!J77<4), IF(V77/COUNTRY_INFO!F77*100<>0, IF(V77/COUNTRY_INFO!F77*100>100,100,V77/COUNTRY_INFO!F77*100), \"-\"),0)","v":0},0,{"$f":"IF(AND(COUNTRY_INFO!J77>1,COUNTRY_INFO!J77<4), IF(S77/P77*100<>0, IF(X77/P77*100>100,100,X77/P77*100), \"-\"),0)","v":0},{"$f":"COUNTRY_INFO!P77","v":34676.5},null,null,{"$f":"MAX('T1'!L77,'T2'!J77)+MAX('T1'!M77,'T2'!K77)+MAX('T1'!N77,'T2'!L77)","v":50701},{"$f":"IF(COUNTRY_INFO!K77=1,IF(COUNTRY_INFO!F77*0.33>MAX('T1'!M77,'T2'!K77),MAX('T1'!M77,'T2'!K77),COUNTRY_INFO!F77*0.33),IF(COUNTRY_INFO!K77=2,IF(COUNTRY_INFO!F77*0.5>MAX('T1'!M77,'T2'!K77),MAX('T1'!M77,'T2'!K77),COUNTRY_INFO!F77*0.5),IF(COUNTRY_INFO!K77=3,IF(COUNTRY_INFO!F77>MAX('T1'!M77,'T2'!K77),MAX('T1'!M77,'T2'!K77),COUNTRY_INFO!F77),0)))","v":19752.5},{"$f":"IF(AND(COUNTRY_INFO!K77>0,COUNTRY_INFO!L77<4),IF(Z77>0,IF(COUNTRY_INFO!K77=1, AD77/(COUNTRY_INFO!F77*0.33)*100, IF(COUNTRY_INFO!K77=2, AD77/(COUNTRY_INFO!F77*0.5)*100, IF(COUNTRY_INFO!K77=3, AD77/COUNTRY_INFO!F77*100))),\"-\"),0)","v":100},{"$f":"IF(COUNTRY_INFO!K77=2,IF(COUNTRY_INFO!G77*0.2>MAX('T1'!N77,'T2'!L77),MAX('T1'!N77,'T2'!L77),COUNTRY_INFO!G77*0.2),IF(COUNTRY_INFO!K77=3,IF(COUNTRY_INFO!G77>MAX('T1'!N77,'T2'!L77),MAX('T1'!N77,'T2'!L77),COUNTRY_INFO!G77),0))","v":0},{"$f":"IF(AND(COUNTRY_INFO!K77>0,COUNTRY_INFO!L77<4),IF(Z77>0,IF(COUNTRY_INFO!K77=1, 0, IF(COUNTRY_INFO!K77=2, AF77/(COUNTRY_INFO!G77*0.2)*100, IF(COUNTRY_INFO!K77=3, AF77/COUNTRY_INFO!G77*100))),\"-\"),0)","v":0},19752.5,{"$f":"IF(AND(COUNTRY_INFO!K77>0,COUNTRY_INFO!K77<4), IF(AC77/Z77*100<>0, IF(AH77/Z77*100>100,100,AH77/Z77*100), \"-\"),0)","v":56.962207835277489},null,{"$f":"IF(AND(D77<>0, D77<>\"Unknown\",D77<>\"Stopped\",D77<>\"Not required\"),D77/COUNTRY_INFO!D77, 0)","v":0},{"$f":"IF(AND(J77<>0,J77<>\"Unknown\",J77<>\"Stopped\",J77<>\"Not required\"),J77/COUNTRY_INFO!D77, 0)","v":0},{"$f":"IF(AND(P77<>0,P77<>\"Unknown\",P77<>\"Not required\"),P77/(COUNTRY_INFO!E77+COUNTRY_INFO!F77), 0)","v":0},{"$f":"IF(AND(Z77<>0,Z77<>\"Unknown\",Z77<>\"Not required\"),IF(COUNTRY_INFO!K77=1,1,IF(COUNTRY_INFO!K77=2,0.5*COUNTRY_INFO!F77/(0.5*COUNTRY_INFO!F77+0.2*COUNTRY_INFO!G77),IF(COUNTRY_INFO!K77=3,COUNTRY_INFO!F77/(COUNTRY_INFO!F77+COUNTRY_INFO!G77)))),0)","v":0.5696220783527749},{"$f":"IF(AND(Z77<>0,Z77<>\"Unknown\",Z77<>\"Not required\"),IF(COUNTRY_INFO!K77=1,0,IF(COUNTRY_INFO!K77=2,0.2*COUNTRY_INFO!G77/(0.5*COUNTRY_INFO!F77+0.2*COUNTRY_INFO!G77),IF(COUNTRY_INFO!K77=3,COUNTRY_INFO!G77/(COUNTRY_INFO!F77+COUNTRY_INFO!G77)))),0)","v":0.43037792164722505},{"$f":"MAX(COUNTRY_INFO!D77*AK77*PROFILE!$G$7,COUNTRY_INFO!D77*AL77*PROFILE!$G$7)","v":0},{"$f":"MAX(COUNTRY_INFO!D77*AK77*PROFILE!$G$8,COUNTRY_INFO!D77*AL77*PROFILE!$G$8,COUNTRY_INFO!D77*AM77*PROFILE!$G$8)","v":0},{"$f":"MAX(COUNTRY_INFO!D77*AK77*PROFILE!$G$9,COUNTRY_INFO!D77*AL77*PROFILE!$G$9,COUNTRY_INFO!D77*AM77*PROFILE!$G$9,IF(AND(DISTRICT!Z77<>\"Unknown\",Z77<>\"Not required\"),COUNTRY_INFO!P77*DISTRICT!AN77,0))","v":19752.5},{"$f":"MAX(COUNTRY_INFO!D77*AK77*PROFILE!$G$10,COUNTRY_INFO!D77*AL77*PROFILE!$G$10,IF(AND(DISTRICT!Z77<>\"Unknown\",Z77<>\"Not required\"),COUNTRY_INFO!P77*DISTRICT!AO77,0))","v":14924},34676.5,"Y",{"$f":"MAX('MDA4'!R77,'T1'!L77,'T2'!J77,T3_R1!K77,T3_R2!K77)","v":0},{"$f":"MAX('MDA1'!K77,'MDA4'!S77,'MDA3'!I77,'MDA3'!L77,'T1'!M77,'T2'!K77,T3_R1!L77,T3_R2!L77)","v":50701},{"$f":"MAX('MDA1'!L77,'MDA4'!T77,'MDA3'!J77,'MDA3'!M77,'T1'!N77,'T2'!L77,T3_R1!M77,T3_R2!M77)","v":0},50701,{"$f":"MAX('MDA4'!R77,T77)","v":0},{"$f":"MAX('MDA1'!K77,'MDA4'!S77,'MDA3'!I77,'MDA3'!L77,V77,AD77)","v":19752.5},{"$f":"MAX('MDA1'!L77,'MDA4'!T77,'MDA3'!J77,'MDA3'!M77,AF77)","v":0},19752.5,56.962207835277489]
[{"$f":"IF(COUNTRY_INFO!A78=0,\" \",COUNTRY_INFO!A78)","v":"Angola"},{"$f":"IF(COUNTRY_INFO!B78=0,\" \",COUNTRY_INFO!B78)","v":"HUAMBO"},{"$f":"IF(COUNTRY_INFO!C78=0,\" \",COUNTRY_INFO!C78)","v":"CHICALA CHOLOHANGA"},{"$f":"COUNTRY_INFO!M78","v":0},null,null,{"$f":"MAX('MDA1'!M78,'MDA4'!U78)","v":0},{"$f":"IF(AND(COUNTRY_INFO!H78>0,COUNTRY_INFO!H78<4),IF(D78>MAX('MDA1'!M78,'MDA4'!U78),MAX('MDA1'!M78,'MDA4'!U78),D78),0)","v":0},{"$f":"IF(AND(COUNTRY_INFO!H78>0,COUNTRY_INFO!H78<4), IF(G78/D78*100<>0, IF(G78/D78*100>100,100,G78/D78*100), \"-\"),0)","v":0},{"$f":"COUNTRY_INFO!N78","v":"Unknown"},null,null,{"$f":"MAX('MDA1'!M78,MAX('MDA3'!I78,'MDA3'!L78)+MAX('MDA3'!J78,'MDA3'!M78))","v":0},{"$f":"IF(AND(COUNTRY_INFO!I78>0,COUNTRY_INFO!I78<4),IF(J78>MAX('MDA1'!M78,MAX('MDA3'!I78,'MDA3'!L78)+MAX('MDA3'!J78,'MDA3'!M78)),MAX('MDA1'!M78,MAX('MDA3'!I78,'MDA3'!L78)+MAX('MDA3'!J78,'MDA3'!M78)),J78),0)","v":0},{"$f":"IF(AND(COUNTRY_INFO!I78>0,COUNTRY_INFO!I78<4), IF(M78/J78*100<>0, IF(M78/J78*100>100,100,M78/J78*100), \"-\"),0)","v":0},{"$f":"COUNTRY_INFO!O78","v":0},null,null,{"$f":"SUM(MAX('MDA4'!R78, 'T1'!L78, MAX(T3_R1!K78, T3_R2!K78)), MAX('MDA1'!K78, 'MDA4'!S78, 'T1'!M78, MAX(T3_R1!L78, T3_R2!L78)), MAX('MDA1'!L78, 'MDA4'!T78, 'T1'!N78, MAX(T3_R1!M78, T3_R2!M78)))","v":0},{"$f":"IF(AND(COUNTRY_INFO!J78>1,COUNTRY_INFO!J78<4),IF(COUNTRY_INFO!E78>MAX('MDA4'!R78,'T1'!L78,MAX(T3_R1!K78,T3_R2!K78)),MAX('MDA4'!R78,'T1'!L78,MAX(T3_R1!K78,T3_R2!K78)),COUNTRY_INFO!E78),0)","v":0},{"$f":"IF(AND(COUNTRY_INFO!J78>1,COUNTRY_INFO!J78<4), IF(T78/COUNTRY_INFO!E78*100<>0, IF(T78/COUNTRY_INFO!E78*100>100,100,T78/COUNTRY_INFO!E78*100), \"-\"),0)","v":0},{"$f":"IF(AND(COUNTRY_INFO!J78>1,COUNTRY_INFO!J78<4),IF(COUNTRY_INFO!F78>MAX('MDA1'!K78,'MDA4'!S78,'T1'!M78,MAX(T3_R1!L78,T3_R2!L78)),MAX('MDA1'!K78,'MDA4'!S78,'T1'!M78,MAX(T3_R1!L78,T3_R2!L78)),COUNTRY_INFO!F78),0)","v":0},{"$f":"IF(AND(COUNTRY_INFO!J78>1,COUNTRY_INFO!J78<4), IF(V78/COUNTRY_INFO!F78*100<>0, IF(V78/COUNTRY_INFO!F78*100>100,100,V78/COUNTRY_INFO!F78*100), \"-\"),0)","v":0},0,{"$f":"IF(AND(COUNTRY_INFO!J78>1,COUNTRY_INFO!J78<4), IF(S78/P78*100<>0, IF(X78/P78*100>100,100,X78/P78*100), \"-\"),0)","v":0},{"$f":"COUNTRY_INFO!P78","v":29782.800000000003},null,null,{"$f":"MAX('T1'!L78,'T2'!J78)+MAX('T1'!M78,'T2'!K78)+MAX('T1'!N78,'T2'!L78)","v":31194},{"$f":"IF(COUNTRY_INFO!K78=1,IF(COUNTRY_INFO!F78*0.33>MAX('T1'!M78,'T2'!K78),MAX('T1'!M78,'T2'!K78),COUNTRY_INFO!F78*0.33),IF(COUNTRY_INFO!K78=2,IF(COUNTRY_INFO!F78*0.5>MAX('T1'!M78,'T2'!K78),MAX('T1'!M78,'T2'!K78),COUNTRY_INFO!F78*0.5),IF(COUNTRY_INFO!K78=3,IF(COUNTRY_INFO!F78>MAX('T1'!M78,'T2'!K78),MAX('T1'!M78,'T2'!K78),COUNTRY_INFO!F78),0)))","v":16965},{"$f":"IF(AND(COUNTRY_INFO!K78>0,COUNTRY_INFO!L78<4),IF(Z78>0,IF(COUNTRY_INFO!K78=1, AD78/(COUNTRY_INFO!F78*0.33)*100, IF(COUNTRY_INFO!K78=2, AD78/(COUNTRY_INFO!F78*0.5)*100, IF(COUNTRY_INFO!K78=3, AD78/COUNTRY_INFO!F78*100))),\"-\"),0)","v":100},{"$f":"IF(COUNTRY_INFO!K78=2,IF(COUNTRY_INFO!G78*0.2>MAX('T1'!N78,'T2'!L78),MAX('T1'!N78,'T2'!L78),COUNTRY_INFO!G78*0.2),IF(COUNTRY_INFO!K78=3,IF(COUNTRY_INFO!G78>MAX('T1'!N78,'T2'!L78),MAX('T1'!N78,'T2'!L78),COUNTRY_INFO!G78),0))","v":0},{"$f":"IF(AND(COUNTRY_INFO!K78>0,COUNTRY_INFO!L78<4),IF(Z78>0,IF(COUNTRY_INFO!K78=1, 0, IF(COUNTRY_INFO!K78=2, AF78/(COUNTRY_INFO!G78*0.2)*100, IF(COUNTRY_INFO!K78=3, AF78/COUNTRY_INFO!G78*100))),\"-\"),0)","v":0},16965,{"$f":"IF(AND(COUNTRY_INFO!K78>0,COUNTRY_INFO!K78<4), IF(AC78/Z78*100<>0, IF(AH78/Z78*100>100,100,AH78/Z78*100), \"-\"),0)","v":56.962407832708806},null,{"$f":"IF(AND(D78<>0, D78<>\"Unknown\",D78<>\"Stopped\",D78<>\"Not required\"),D78/COUNTRY_INFO!D78, 0)","v":0},{"$f":"IF(AND(J78<>0,J78<>\"Unknown\",J78<>\"Stopped\",J78<>\"Not required\"),J78/COUNTRY_INFO!D78, 0)","v":0},{"$f":"IF(AND(P78<>0,P78<>\"Unknown\",P78<>\"Not required\"),P78/(COUNTRY_INFO!E78+COUNTRY_INFO!F78), 0)","v":0},{"$f":"IF(AND(Z78<>0,Z78<>\"Unknown\",Z78<>\"Not required\"),IF(COUNTRY_INFO!K78=1,1,IF(COUNTRY_INFO!K78=2,0.5*COUNTRY_INFO!F78/(0.5*COUNTRY_INFO!F78+0.2*COUNTRY_INFO!G78),IF(COUNTRY_INFO!K78=3,COUNTRY_INFO!F78/(COUNTRY_INFO!F78+COUNTRY_INFO!G78)))),0)","v":0.56962407832708806},{"$f":"IF(AND(Z78<>0,Z78<>\"Unknown\",Z78<>\"Not required\"),IF(COUNTRY_INFO!K78=1,0,IF(COUNTRY_INFO!K78=2,0.2*COUNTRY_INFO!G78/(0.5*COUNTRY_INFO!F78+0.2*COUNTRY_INFO!G78),IF(COUNTRY_INFO!K78=3,COUNTRY_INFO!G78/(COUNTRY_INFO!F78+COUNTRY_INFO!G78)))),0)","v":0.43037592167291189},{"$f":"MAX(COUNTRY_INFO!D78*AK78*PROFILE!$G$7,COUNTRY_INFO!D78*AL78*PROFILE!$G$7)","v":0},{"$f":"MAX(COUNTRY_INFO!D78*AK78*PROFILE!$G$8,COUNTRY_INFO!D78*AL78*PROFILE!$G$8,COUNTRY_INFO!D78*AM78*PROFILE!$G$8)","v":0},{"$f":"MAX(COUNTRY_INFO!D78*AK78*PROFILE!$G$9,COUNTRY_INFO!D78*AL78*PROFILE!$G$9,COUNTRY_INFO!D78*AM78*PROFILE!$G$9,IF(AND(DISTRICT!Z78<>\"Unknown\",Z78<>\"Not required\"),COUNTRY_INFO!P78*DISTRICT!AN78,0))","v":16965},{"$f":"MAX(COUNTRY_INFO!D78*AK78*PROFILE!$G$10,COUNTRY_INFO!D78*AL78*PROFILE!$G$10,IF(AND(DISTRICT!Z78<>\"Unknown\",Z78<>\"Not required\"),COUNTRY_INFO!P78*DISTRICT!AO78,0))","v":12817.800000000001},29782.800000000003,"Y",{"$f":"MAX('MDA4'!R78,'T1'!L78,'T2'!J78,T3_R1!K78,T3_R2!K78)","v":0},{"$f":"MAX('MDA1'!K78,'MDA4'!S78,'MDA3'!I78,'MDA3'!L78,'T1'!M78,'T2'!K78,T3_R1!L78,T3_R2!L78)","v":31194},{"$f":"MAX('MDA1'!L78,'MDA4'!T78,'MDA3'!J78,'MDA3'!M78,'T1'!N78,'T2'!L78,T3_R1!M78,T3_R2!M78)","v":0},31194,{"$f":"MAX('MDA4'!R78,T78)","v":0},{"$f":"MAX('MDA1'!K78,'MDA4'!S78,'MDA3'!I78,'MDA3'!L78,V78,AD78)","v":16965},{"$f":"MAX('MDA1'!L78,'MDA4'!T78,'MDA3'!J78,'MDA3'!M78,AF78)","v":0},16965,56.962407832708806]
[{"$f":"IF(COUNTRY_INFO!A79=0,\" \",COUNTRY_INFO!A79)","v":"Angola"},{"$f":"IF(COUNTRY_INFO!B79=0,\" \",COUNTRY_INFO!B79)","v":"HUAMBO"},{"$f":"IF(COUNTRY_INFO!C79=0,\" \",COUNTRY_INFO!C79)","v":"CHINDJENJE"},{"$f":"COUNTRY_INFO!M79","v":0},null,null,{"$f":"MAX('MDA1'!M79,'MDA4'!U79)","v":0},{"$f":"IF(AND(COUNTRY_INFO!H79>0,COUNTRY_INFO!H79<4),IF(D79>MAX('MDA1'!M79,'MDA4'!U79),MAX('MDA1'!M79,'MDA4'!U79),D79),0)","v":0},{"$f":"IF(AND(COUNTRY_INFO!H79>0,COUNTRY_INFO!H79<4), IF(G79/D79*100<>0, IF(G79/D79*100>100,100,G79/D79*100), \"-\"),0)","v":0},{"$f":"COUNTRY_INFO!N79","v":"Unknown"},null,null,{"$f":"MAX('MDA1'!M79,MAX('MDA3'!I79,'MDA3'!L79)+MAX('MDA3'!J79,'MDA3'!M79))","v":0},{"$f":"IF(AND(COUNTRY_INFO!I79>0,COUNTRY_INFO!I79<4),IF(J79>MAX('MDA1'!M79,MAX('MDA3'!I79,'MDA3'!L79)+MAX('MDA3'!J79,'MDA3'!M79)),MAX('MDA1'!M79,MAX('MDA3'!I79,'MDA3'!L79)+MAX('MDA3'!J79,'MDA3'!M79)),J79),0)","v":0},{"$f":"IF(AND(COUNTRY_INFO!I79>0,COUNTRY_INFO!I79<4), IF(M79/J79*100<>0, IF(M79/J79*100>100,100,M79/J79*100), \"-\"),0)","v":0},{"$f":"COUNTRY_INFO!O79","v":0},null,null,{"$f":"SUM(MAX('MDA4'!R79, 'T1'!L79, MAX(T3_R1!K79, T3_R2!K79)), MAX('MDA1'!K79, 'MDA4'!S79, 'T1'!M79, MAX(T3_R1!L79, T3_R2!L79)), MAX('MDA1'!L79, 'MDA4'!T79, 'T1'!N79, MAX(T3_R1!M79, T3_R2!M79)))","v":0},{"$f":"IF(AND(COUNTRY_INFO!J79>1,COUNTRY_INFO!J79<4),IF(COUNTRY_INFO!E79>MAX('MDA4'!R79,'T1'!L79,MAX(T3_R1!K79,T3_R2!K79)),MAX('MDA4'!R79,'T1'!L79,MAX(T3_R1!K79,T3_R2!K79)),COUNTRY_INFO!E79),0)","v":0},{"$f":"IF(AND(COUNTRY_INFO!J79>1,COUNTRY_INFO!J79<4), IF(T79/COUNTRY_INFO!E79*100<>0, IF(T79/COUNTRY_INFO!E79*100>100,100,T79/COUNTRY_INFO!E79*100), \"-\"),0)","v":0},{"$f":"IF(AND(COUNTRY_INFO!J79>1,COUNTRY_INFO!J79<4),IF(COUNTRY_INFO!F79>MAX('MDA1'!K79,'MDA4'!S79,'T1'!M79,MAX(T3_R1!L79,T3_R2!L79)),MAX('MDA1'!K79,'MDA4'!S79,'T1'!M79,MAX(T3_R1!L79,T3_R2!L79)),COUNTRY_INFO!F79),0)","v":0},{"$f":"IF(AND(COUNTRY_INFO!J79>1,COUNTRY_INFO!J79<4), IF(V79/COUNTRY_INFO!F79*100<>0, IF(V79/COUNTRY_INFO!F79*100>100,100,V79/COUNTRY_INFO!F79*100), \"-\"),0)","v":0},0,{"$f":"IF(AND(COUNTRY_INFO!J79>1,COUNTRY_INFO!J79<4), IF(S79/P79*100<>0, IF(X79/P79*100>100,100,X79/P79*100), \"-\"),0)","v":0},{"$f":"COUNTRY_INFO!P79","v":8747.7999999999993},null,null,{"$f":"MAX('T1'!L79,'T2'!J79)+MAX('T1'!M79,'T2'!K79)+MAX('T1'!N79,'T2'!L79)","v":10539},{"$f":"IF(COUNTRY_INFO!K79=1,IF(COUNTRY_INFO!F79*0.33>MAX('T1'!M79,'T2'!K79),MAX('T1'!M79,'T2'!K79),COUNTRY_INFO!F79*0.33),IF(COUNTRY_INFO!K79=2,IF(COUNTRY_INFO!F79*0.5>MAX('T1'!M79,'T2'!K79),MAX('T1'!M79,'T2'!K79),COUNTRY_INFO!F79*0.5),IF(COUNTRY_INFO!K79=3,IF(COUNTRY_INFO!F79>MAX('T1'!M79,'T2'!K79),MAX('T1'!M79,'T2'!K79),COUNTRY_INFO!F79),0)))","v":4983},{"$f":"IF(AND(COUNTRY_INFO!K79>0,COUNTRY_INFO!L79<4),IF(Z79>0,IF(COUNTRY_INFO!K79=1, AD79/(COUNTRY_INFO!F79*0.33)*100, IF(COUNTRY_INFO!K79=2, AD79/(COUNTRY_INFO!F79*0.5)*100, IF(COUNTRY_INFO!K79=3, AD79/COUNTRY_INFO!F79*100))),\"-\"),0)","v":0},{"$f":"IF(COUNTRY_INFO!K79=2,IF(COUNTRY_INFO!G79*0.2>MAX('T1'!N79,'T2'!L79),MAX('T1'!N79,'T2'!L79),COUNTRY_INFO!G79*0.2),IF(COUNTRY_INFO!K79=3,IF(COUNTRY_INFO!G79>MAX('T1'!N79,'T2'!L79),MAX('T1'!N79,'T2'!L79),COUNTRY_INFO!G79),0))","v":0},{"$f":"IF(AND(COUNTRY_INFO!K79>0,COUNTRY_INFO!L79<4),IF(Z79>0,IF(COUNTRY_INFO!K79=1, 0, IF(COUNTRY_INFO!K79=2, AF79/(COUNTRY_INFO!G79*0.2)*100, IF(COUNTRY_INFO!K79=3, AF79/COUNTRY_INFO!G79*100))),\"-\"),0)","v":0},4983,{"$f":"IF(AND(COUNTRY_INFO!K79>0,COUNTRY_INFO!K79<4), IF(AC79/Z79*100<>0, IF(AH79/Z79*100>100,100,AH79/Z79*100), \"-\"),0)","v":56.96289352751549},null,{"$f":"IF(AND(D79<>0, D79<>\"Unknown\",D79<>\"Stopped\",D79<>\"Not required\"),D79/COUNTRY_INFO!D79, 0)","v":0},{"$f":"IF(AND(J79<>0,J79<>\"Unknown\",J79<>\"Stopped\",J79<>\"Not required\"),J79/COUNTRY_INFO!D79, 0)","v":0},{"$f":"IF(AND(P79<>0,P79<>\"Unknown\",P79<>\"Not required\"),P79/(COUNTRY_INFO!E79+COUNTRY_INFO!F79), 0)","v":0},{"$f":"IF(AND(Z79<>0,Z79<>\"Unknown\",Z79<>\"Not required\"),IF(COUNTRY_INFO!K79=1,1,IF(COUNTRY_INFO!K79=2,0.5*COUNTRY_INFO!F79/(0.5*COUNTRY_INFO!F79+0.2*COUNTRY_INFO!G79),IF(COUNTRY_INFO!K79=3,COUNTRY_INFO!F79/(COUNTRY_INFO!F79+COUNTRY_INFO!G79)))),0)","v":0.5696289352751549},{"$f":"IF(AND(Z79<>0,Z79<>\"Unknown\",Z79<>\"Not required\"),IF(COUNTRY_INFO!K79=1,0,IF(COUNTRY_INFO!K79=2,0.2*COUNTRY_INFO!G79/(0.5*COUNTRY_INFO!F79+0.2*COUNTRY_INFO!G79),IF(COUNTRY_INFO!K79=3,COUNTRY_INFO!G79/(COUNTRY_INFO!F79+COUNTRY_INFO!G79)))),0)","v":0.43037106472484515},{"$f":"MAX(COUNTRY_INFO!D79*AK79*PROFILE!$G$7,COUNTRY_INFO!D79*AL79*PROFILE!$G$7)","v":0},{"$f":"MAX(COUNTRY_INFO!D79*AK79*PROFILE!$G$8,COUNTRY_INFO!D79*AL79*PROFILE!$G$8,COUNTRY_INFO!D79*AM79*PROFILE!$G$8)","v":0},{"$f":"MAX(COUNTRY_INFO!D79*AK79*PROFILE!$G$9,COUNTRY_INFO!D79*AL79*PROFILE!$G$9,COUNTRY_INFO!D79*AM79*PROFILE!$G$9,IF(AND(DISTRICT!Z79<>\"Unknown\",Z79<>\"Not required\"),COUNTRY_INFO!P79*DISTRICT!AN79,0))","v":4983},{"$f":"MAX(COUNTRY_INFO!D79*AK79*PROFILE!$G$10,COUNTRY_INFO!D79*AL79*PROFILE!$G$10,IF(AND(DISTRICT!Z79<>\"Unknown\",Z79<>\"Not required\"),COUNTRY_INFO!P79*DISTRICT!AO79,0))","v":3764.8},8747.7999999999993,"Y",{"$f":"MAX('MDA4'!R79,'T1'!L79,'T2'!J79,T3_R1!K79,T3_R2!K79)","v":0},{"$f":"MAX('MDA1'!K79,'MDA4'!S79,'MDA3'!I79,'MDA3'!L79,'T1'!M79,'T2'!K79,T3_R1!L79,T3_R2!L79)","v":10539},{"$f":"MAX('MDA1'!L79,'MDA4'!T79,'MDA3'!J79,'MDA3'!M79,'T1'!N79,'T2'!L79,T3_R1!M79,T3_R2!M79)","v":0},10539,{"$f":"MAX('MDA4'!R79,T79)","v":0},{"$f":"MAX('MDA1'!K79,'MDA4'!S79,'MDA3'!I79,'MDA3'!L79,V79,AD79)","v":4983},{"$f":"MAX('MDA1'!L79,'MDA4'!T79,'MDA3'!J79,'MDA3'!M79,AF79)","v":0},4983,56.96289352751549]
[{"$f":"IF(COUNTRY_INFO!A80=0,\" \",COUNTRY_INFO!A80)","v":"Angola"},{"$f":"IF(COUNTRY_INFO!B80=0,\" \",COUNTRY_INFO!B80)","v":"HUAMBO"},{"$f":"IF(COUNTRY_INFO!C80=0,\" \",COUNTRY_INFO!C80)","v":"ECUNHA"},{"$f":"COUNTRY_INFO!M80","v":0},null,null,{"$f":"MAX('MDA1'!M80,'MDA4'!U80)","v":0},{"$f":"IF(AND(COUNTRY_INFO!H80>0,COUNTRY_INFO!H80<4),IF(D80>MAX('MDA1'!M80,'MDA4'!U80),MAX('MDA1'!M80,'MDA4'!U80),D80),0)","v":0},{"$f":"IF(AND(COUNTRY_INFO!H80>0,COUNTRY_INFO!H80<4), IF(G80/D80*100<>0, IF(G80/D80*100>100,100,G80/D80*100), \"-\"),0)","v":0},{"$f":"COUNTRY_INFO!N80","v":"Unknown"},null,null,{"$f":"MAX('MDA1'!M80,MAX('MDA3'!I80,'MDA3'!L80)+MAX('MDA3'!J80,'MDA3'!M80))","v":0},{"$f":"IF(AND(COUNTRY_INFO!I80>0,COUNTRY_INFO!I80<4),IF(J80>MAX('MDA1'!M80,MAX('MDA3'!I80,'MDA3'!L80)+MAX('MDA3'!J80,'MDA3'!M80)),MAX('MDA1'!M80,MAX('MDA3'!I80,'MDA3'!L80)+MAX('MDA3'!J80,'MDA3'!M80)),J80),0)","v":0},{"$f":"IF(AND(COUNTRY_INFO!I80>0,COUNTRY_INFO!I80<4), IF(M80/J80*100<>0, IF(M80/J80*100>100,100,M80/J80*100), \"-\"),0)","v":0},{"$f":"COUNTRY_INFO!O80","v":0},null,null,{"$f":"SUM(MAX('MDA4'!R80, 'T1'!L80, MAX(T3_R1!K80, T3_R2!K80)), MAX('MDA1'!K80, 'MDA4'!S80, 'T1'!M80, MAX(T3_R1!L80, T3_R2!L80)), MAX('MDA1'!L80, 'MDA4'!T80, 'T1'!N80, MAX(T3_R1!M80, T3_R2!M80)))","v":0},{"$f":"IF(AND(COUNTRY_INFO!J80>1,COUNTRY_INFO!J80<4),IF(COUNTRY_INFO!E80>MAX('MDA4'!R80,'T1'!L80,MAX(T3_R1!K80,T3_R2!K80)),MAX('MDA4'!R80,'T1'!L80,MAX(T3_R1!K80,T3_R2!K80)),COUNTRY_INFO!E80),0)","v":0},{"$f":"IF(AND(COUNTRY_INFO!J80>1,COUNTRY_INFO!J80<4), IF(T80/COUNTRY_INFO!E80*100<>0, IF(T80/COUNTRY_INFO!E80*100>100,100,T80/COUNTRY_INFO!E80*100), \"-\"),0)","v":0},{"$f":"IF(AND(COUNTRY_INFO!J80>1,COUNTRY_INFO!J80<4),IF(COUNTRY_INFO!F80>MAX('MDA1'!K80,'MDA4'!S80,'T1'!M80,MAX(T3_R1!L80,T3_R2!L80)),MAX('MDA1'!K80,'MDA4'!S80,'T1'!M80,MAX(T3_R1!L80,T3_R2!L80)),COUNTRY_INFO!F80),0)","v":0},{"$f":"IF(AND(COUNTRY_INFO!J80>1,COUNTRY_INFO!J80<4), IF(V80/COUNTRY_INFO!F80*100<>0, IF(V80/COUNTRY_INFO!F80*100>100,100,V80/COUNTRY_INFO!F80*100), \"-\"),0)","v":0},0,{"$f":"IF(AND(COUNTRY_INFO!J80>1,COUNTRY_INFO!J80<4), IF(S80/P80*100<>0, IF(X80/P80*100>100,100,X80/P80*100), \"-\"),0)","v":0},{"$f":"COUNTRY_INFO!P80","v":23718.300000000003},null,null,{"$f":"MAX('T1'!L80,'T2'!J80)+MAX('T1'!M80,'T2'!K80)+MAX('T1'!N80,'T2'!L80)","v":32810},{"$f":"IF(COUNTRY_INFO!K80=1,IF(COUNTRY_INFO!F80*0.33>MAX('T1'!M80,'T2'!K80),MAX('T1'!M80,'T2'!K80),COUNTRY_INFO!F80*0.33),IF(COUNTRY_INFO!K80=2,IF(COUNTRY_INFO!F80*0.5>MAX('T1'!M80,'T2'!K80),MAX('T1'!M80,'T2'!K80),COUNTRY_INFO!F80*0.5),IF(COUNTRY_INFO!K80=3,IF(COUNTRY_INFO!F80>MAX('T1'!M80,'T2'!K80),MAX('T1'!M80,'T2'!K80),COUNTRY_INFO!F80),0)))","v":13510.5},{"$f":"IF(AND(COUNTRY_INFO!K80>0,COUNTRY_INFO!L80<4),IF(Z80>0,IF(COUNTRY_INFO!K80=1, AD80/(COUNTRY_INFO!F80*0.33)*100, IF(COUNTRY_INFO!K80=2, AD80/(COUNTRY_INFO!F80*0.5)*100, IF(COUNTRY_INFO!K80=3, AD80/COUNTRY_INFO!F80*100))),\"-\"),0)","v":100},{"$f":"IF(COUNTRY_INFO!K80=2,IF(COUNTRY_INFO!G80*0.2>MAX('T1'!N80,'T2'!L80),MAX('T1'!N80,'T2'!L80),COUNTRY_INFO!G80*0.2),IF(COUNTRY_INFO!K80=3,IF(COUNTRY_INFO!G80>MAX('T1'!N80,'T2'!L80),MAX('T1'!N80,'T2'!L80),COUNTRY_INFO!G80),0))","v":0},{"$f":"IF(AND(COUNTRY_INFO!K80>0,COUNTRY_INFO!L80<4),IF(Z80>0,IF(COUNTRY_INFO!K80=1, 0, IF(COUNTRY_INFO!K80=2, AF80/(COUNTRY_INFO!G80*0.2)*100, IF(COUNTRY_INFO!K80=3, AF80/COUNTRY_INFO!G80*100))),\"-\"),0)","v":0},13510.5,{"$f":"IF(AND(COUNTRY_INFO!K80>0,COUNTRY_INFO!K80<4), IF(AC80/Z80*100<>0, IF(AH80/Z80*100>100,100,AH80/Z80*100), \"-\"),0)","v":56.962345530666191},null,{"$f":"IF(AND(D80<>0, D80<>\"Unknown\",D80<>\"Stopped\",D80<>\"Not required\"),D80/COUNTRY_INFO!D80, 0)","v":0},{"$f":"IF(AND(J80<>0,J80<>\"Unknown\",J80<>\"Stopped\",J80<>\"Not required\"),J80/COUNTRY_INFO!D80, 0)","v":0},{"$f":"IF(AND(P80<>0,P80<>\"Unknown\",P80<>\"Not required\"),P80/(COUNTRY_INFO!E80+COUNTRY_INFO!F80), 0)","v":0},{"$f":"IF(AND(Z80<>0,Z80<>\"Unknown\",Z80<>\"Not required\"),IF(COUNTRY_INFO!K80=1,1,IF(COUNTRY_INFO!K80=2,0.5*COUNTRY_INFO!F80/(0.5*COUNTRY_INFO!F80+0.2*COUNTRY_INFO!G80),IF(COUNTRY_INFO!K80=3,COUNTRY_INFO!F80/(COUNTRY_INFO!F80+COUNTRY_INFO!G80)))),0)","v":0.56962345530666192},{"$f":"IF(AND(Z80<>0,Z80<>\"Unknown\",Z80<>\"Not required\"),IF(COUNTRY_INFO!K80=1,0,IF(COUNTRY_INFO!K80=2,0.2*COUNTRY_INFO!G80/(0.5*COUNTRY_INFO!F80+0.2*COUNTRY_INFO!G80),IF(COUNTRY_INFO!K80=3,COUNTRY_INFO!G80/(COUNTRY_INFO!F80+COUNTRY_INFO!G80)))),0)","v":0.43037654469333803},{"$f":"MAX(COUNTRY_INFO!D80*AK80*PROFILE!$G$7,COUNTRY_INFO!D80*AL80*PROFILE!$G$7)","v":0},{"$f":"MAX(COUNTRY_INFO!D80*AK80*PROFILE!$G$8,COUNTRY_INFO!D80*AL80*PROFILE!$G$8,COUNTRY_INFO!D80*AM80*PROFILE!$G$8)","v":0},{"$f":"MAX(COUNTRY_INFO!D80*AK80*PROFILE!$G$9,COUNTRY_INFO!D80*AL80*PROFILE!$G$9,COUNTRY_INFO!D80*AM80*PROFILE!$G$9,IF(AND(DISTRICT!Z80<>\"Unknown\",Z80<>\"Not required\"),COUNTRY_INFO!P80*DISTRICT!AN80,0))","v":13510.500000000002},{"$f":"MAX(COUNTRY_INFO!D80*AK80*PROFILE!$G$10,COUNTRY_INFO!D80*AL80*PROFILE!$G$10,IF(AND(DISTRICT!Z80<>\"Unknown\",Z80<>\"Not required\"),COUNTRY_INFO!P80*DISTRICT!AO80,0))","v":10207.800000000001},23718.300000000003,"Y",{"$f":"MAX('MDA4'!R80,'T1'!L80,'T2'!J80,T3_R1!K80,T3_R2!K80)","v":0},{"$f":"MAX('MDA1'!K80,'MDA4'!S80,'MDA3'!I80,'MDA3'!L80,'T1'!M80,'T2'!K80,T3_R1!L80,T3_R2!L80)","v":32810},{"$f":"MAX('MDA1'!L80,'MDA4'!T80,'MDA3'!J80,'MDA3'!M80,'T1'!N80,'T2'!L80,T3_R1!M80,T3_R2!M80)","v":0},32810,{"$f":"MAX('MDA4'!R80,T80)","v":0},{"$f":"MAX('MDA1'!K80,'MDA4'!S80,'MDA3'!I80,'MDA3'!L80,V80,AD80)","v":13510.5},{"$f":"MAX('MDA1'!L80,'MDA4'!T80,'MDA3'!J80,'MDA3'!M80,AF80)","v":0},13510.5,56.962345530666191]
[{"$f":"IF(COUNTRY_INFO!A81=0,\" \",COUNTRY_INFO!A81)","v":"Angola"},{"$f":"IF(COUNTRY_INFO!B81=0,\" \",COUNTRY_INFO!B81)","v":"HUAMBO"},{"$f":"IF(COUNTRY_INFO!C81=0,\" \",COUNTRY_INFO!C81)","v":"HUAMBO"},{"$f":"COUNTRY_INFO!M81","v":0},null,null,{"$f":"MAX('MDA1'!M81,'MDA4'!U81)","v":0},{"$f":"IF(AND(COUNTRY_INFO!H81>0,COUNTRY_INFO!H81<4),IF(D81>MAX('MDA1'!M81,'MDA4'!U81),MAX('MDA1'!M81,'MDA4'!U81),D81),0)","v":0},{"$f":"IF(AND(COUNTRY_INFO!H81>0,COUNTRY_INFO!H81<4), IF(G81/D81*100<>0, IF(G81/D81*100>100,100,G81/D81*100), \"-\"),0)","v":0},{"$f":"COUNTRY_INFO!N81","v":"Unknown"},null,null,{"$f":"MAX('MDA1'!M81,MAX('MDA3'!I81,'MDA3'!L81)+MAX('MDA3'!J81,'MDA3'!M81))","v":0},{"$f":"IF(AND(COUNTRY_INFO!I81>0,COUNTRY_INFO!I81<4),IF(J81>MAX('MDA1'!M81,MAX('MDA3'!I81,'MDA3'!L81)+MAX('MDA3'!J81,'MDA3'!M81)),MAX('MDA1'!M81,MAX('MDA3'!I81,'MDA3'!L81)+MAX('MDA3'!J81,'MDA3'!M81)),J81),0)","v":0},{"$f":"IF(AND(COUNTRY_INFO!I81>0,COUNTRY_INFO!I81<4), IF(M81/J81*100<>0, IF(M81/J81*100>100,100,M81/J81*100), \"-\"),0)","v":0},{"$f":"COUNTRY_INFO!O81","v":367331},null,null,{"$f":"SUM(MAX('MDA4'!R81, 'T1'!L81, MAX(T3_R1!K81, T3_R2!K81)), MAX('MDA1'!K81, 'MDA4'!S81, 'T1'!M81, MAX(T3_R1!L81, T3_R2!L81)), MAX('MDA1'!L81, 'MDA4'!T81, 'T1'!N81, MAX(T3_R1!M81, T3_R2!M81)))","v":229747},{"$f":"IF(AND(COUNTRY_INFO!J81>1,COUNTRY_INFO!J81<4),IF(COUNTRY_INFO!E81>MAX('MDA4'!R81,'T1'!L81,MAX(T3_R1!K81,T3_R2!K81)),MAX('MDA4'!R81,'T1'!L81,MAX(T3_R1!K81,T3_R2!K81)),COUNTRY_INFO!E81),0)","v":0},{"$f":"IF(AND(COUNTRY_INFO!J81>1,COUNTRY_INFO!J81<4), IF(T81/COUNTRY_INFO!E81*100<>0, IF(T81/COUNTRY_INFO!E81*100>100,100,T81/COUNTRY_INFO!E81*100), \"-\"),0)","v":"-"},{"$f":"IF(AND(COUNTRY_INFO!J81>1,COUNTRY_INFO!J81<4),IF(COUNTRY_INFO!F81>MAX('MDA1'!K81,'MDA4'!S81,'T1'!M81,MAX(T3_R1!L81,T3_R2!L81)),MAX('MDA1'!K81,'MDA4'!S81,'T1'!M81,MAX(T3_R1!L81,T3_R2!L81)),COUNTRY_INFO!F81),0)","v":229747},{"$f":"IF(AND(COUNTRY_INFO!J81>1,COUNTRY_INFO!J81<4), IF(V81/COUNTRY_INFO!F81*100<>0, IF(V81/COUNTRY_INFO!F81*100>100,100,V81/COUNTRY_INFO!F81*100), \"-\"),0)","v":98.412949985435986},229747,{"$f":"IF(AND(COUNTRY_INFO!J81>1,COUNTRY_INFO!J81<4), IF(S81/P81*100<>0, IF(X81/P81*100>100,100,X81/P81*100), \"-\"),0)","v":62.544952644889761},{"$f":"COUNTRY_INFO!P81","v":204919},null,null,{"$f":"MAX('T1'!L81,'T2'!J81)+MAX('T1'!M81,'T2'!K81)+MAX('T1'!N81,'T2'!L81)","v":229747},{"$f":"IF(COUNTRY_INFO!K81=1,IF(COUNTRY_INFO!F81*0.33>MAX('T1'!M81,'T2'!K81),MAX('T1'!M81,'T2'!K81),COUNTRY_INFO!F81*0.33),IF(COUNTRY_INFO!K81=2,IF(COUNTRY_INFO!F81*0.5>MAX('T1'!M81,'T2'!K81),MAX('T1'!M81,'T2'!K81),COUNTRY_INFO!F81*0.5),IF(COUNTRY_INFO!K81=3,IF(COUNTRY_INFO!F81>MAX('T1'!M81,'T2'!K81),MAX('T1'!M81,'T2'!K81),COUNTRY_INFO!F81),0)))","v":116726},{"$f":"IF(AND(COUNTRY_INFO!K81>0,COUNTRY_INFO!L81<4),IF(Z81>0,IF(COUNTRY_INFO!K81=1, AD81/(COUNTRY_INFO!F81*0.33)*100, IF(COUNTRY_INFO!K81=2, AD81/(COUNTRY_INFO!F81*0.5)*100, IF(COUNTRY_INFO!K81=3, AD81/COUNTRY_INFO!F81*100))),\"-\"),0)","v":100},{"$f":"IF(COUNTRY_INFO!K81=2,IF(COUNTRY_INFO!G81*0.2>MAX('T1'!N81,'T2'!L81),MAX('T1'!N81,'T2'!L81),COUNTRY_INFO!G81*0.2),IF(COUNTRY_INFO!K81=3,IF(COUNTRY_INFO!G81>MAX('T1'!N81,'T2'!L81),MAX('T1'!N81,'T2'!L81),COUNTRY_INFO!G81),0))","v":0},{"$f":"IF(AND(COUNTRY_INFO!K81>0,COUNTRY_INFO!L81<4),IF(Z81>0,IF(COUNTRY_INFO!K81=1, 0, IF(COUNTRY_INFO!K81=2, AF81/(COUNTRY_INFO!G81*0.2)*100, IF(COUNTRY_INFO!K81=3, AF81/COUNTRY_INFO!G81*100))),\"-\"),0)","v":0},116726,{"$f":"IF(AND(COUNTRY_INFO!K81>0,COUNTRY_INFO!K81<4), IF(AC81/Z81*100<>0, IF(AH81/Z81*100>100,100,AH81/Z81*100), \"-\"),0)","v":56.962019139269657},null,{"$f":"IF(AND(D81<>0, D81<>\"Unknown\",D81<>\"Stopped\",D81<>\"Not required\"),D81/COUNTRY_INFO!D81, 0)","v":0},{"$f":"IF(AND(J81<>0,J81<>\"Unknown\",J81<>\"Stopped\",J81<>\"Not required\"),J81/COUNTRY_INFO!D81, 0)","v":0},{"$f":"IF(AND(P81<>0,P81<>\"Unknown\",P81<>\"Not required\"),P81/(COUNTRY_INFO!E81+COUNTRY_INFO!F81), 0)","v":1},{"$f":"IF(AND(Z81<>0,Z81<>\"Unknown\",Z81<>\"Not required\"),IF(COUNTRY_INFO!K81=1,1,IF(COUNTRY_INFO!K81=2,0.5*COUNTRY_INFO!F81/(0.5*COUNTRY_INFO!F81+0.2*COUNTRY_INFO!G81),IF(COUNTRY_INFO!K81=3,COUNTRY_INFO!F81/(COUNTRY_INFO!F81+COUNTRY_INFO!G81)))),0)","v":0.5696201913926966},{"$f":"IF(AND(Z81<>0,Z81<>\"Unknown\",Z81<>\"Not required\"),IF(COUNTRY_INFO!K81=1,0,IF(COUNTRY_INFO!K81=2,0.2*COUNTRY_INFO!G81/(0.5*COUNTRY_INFO!F81+0.2*COUNTRY_INFO!G81),IF(COUNTRY_INFO!K81=3,COUNTRY_INFO!G81/(COUNTRY_INFO!F81+COUNTRY_INFO!G81)))),0)","v":0.43037980860730335},{"$f":"MAX(COUNTRY_INFO!D81*AK81*PROFILE!$G$7,COUNTRY_INFO!D81*AL81*PROFILE!$G$7)","v":0},{"$f":"MAX(COUNTRY_INFO!D81*AK81*PROFILE!$G$8,COUNTRY_INFO!D81*AL81*PROFILE!$G$8,COUNTRY_INFO!D81*AM81*PROFILE!$G$8)","v":133879.29325253924},{"$f":"MAX(COUNTRY_INFO!D81*AK81*PROFILE!$G$9,COUNTRY_INFO!D81*AL81*PROFILE!$G$9,COUNTRY_INFO!D81*AM81*PROFILE!$G$9,IF(AND(DISTRICT!Z81<>\"Unknown\",Z81<>\"Not required\"),COUNTRY_INFO!P81*DISTRICT!AN81,0))","v":233452.1292424601},{"$f":"MAX(COUNTRY_INFO!D81*AK81*PROFILE!$G$10,COUNTRY_INFO!D81*AL81*PROFILE!$G$10,IF(AND(DISTRICT!Z81<>\"Unknown\",Z81<>\"Not required\"),COUNTRY_INFO!P81*DISTRICT!AO81,0))","v":88193},455524.42249499937,"Y",{"$f":"MAX('MDA4'!R81,'T1'!L81,'T2'!J81,T3_R1!K81,T3_R2!K81)","v":0},{"$f":"MAX('MDA1'!K81,'MDA4'!S81,'MDA3'!I81,'MDA3'!L81,'T1'!M81,'T2'!K81,T3_R1!L81,T3_R2!L81)","v":229747},{"$f":"MAX('MDA1'!L81,'MDA4'!T81,'MDA3'!J81,'MDA3'!M81,'T1'!N81,'T2'!L81,T3_R1!M81,T3_R2!M81)","v":0},229747,{"$f":"MAX('MDA4'!R81,T81)","v":0},{"$f":"MAX('MDA1'!K81,'MDA4'!S81,'MDA3'!I81,'MDA3'!L81,V81,AD81)","v":229747},{"$f":"MAX('MDA1'!L81,'MDA4'!T81,'MDA3'!J81,'MDA3'!M81,AF81)","v":0},229747,50.435715113062265]
[{"$f":"IF(COUNTRY_INFO!A82=0,\" \",COUNTRY_INFO!A82)","v":"Angola"},{"$f":"IF(COUNTRY_INFO!B82=0,\" \",COUNTRY_INFO!B82)","v":"HUAMBO"},{"$f":"IF(COUNTRY_INFO!C82=0,\" \",COUNTRY_INFO!C82)","v":"LONDUIMBALI"},{"$f":"COUNTRY_INFO!M82","v":0},null,null,{"$f":"MAX('MDA1'!M82,'MDA4'!U82)","v":0},{"$f":"IF(AND(COUNTRY_INFO!H82>0,COUNTRY_INFO!H82<4),IF(D82>MAX('MDA1'!M82,'MDA4'!U82),MAX('MDA1'!M82,'MDA4'!U82),D82),0)","v":0},{"$f":"IF(AND(COUNTRY_INFO!H82>0,COUNTRY_INFO!H82<4), IF(G82/D82*100<>0, IF(G82/D82*100>100,100,G82/D82*100), \"-\"),0)","v":0},{"$f":"COUNTRY_INFO!N82","v":"Unknown"},null,null,{"$f":"MAX('MDA1'!M82,MAX('MDA3'!I82,'MDA3'!L82)+MAX('MDA3'!J82,'MDA3'!M82))","v":0},{"$f":"IF(AND(COUNTRY_INFO!I82>0,COUNTRY_INFO!I82<4),IF(J82>MAX('MDA1'!M82,MAX('MDA3'!I82,'MDA3'!L82)+MAX('MDA3'!J82,'MDA3'!M82)),MAX('MDA1'!M82,MAX('MDA3'!I82,'MDA3'!L82)+MAX('MDA3'!J82,'MDA3'!M82)),J82),0)","v":0},{"$f":"IF(AND(COUNTRY_INFO!I82>0,COUNTRY_INFO!I82<4), IF(M82/J82*100<>0, IF(M82/J82*100>100,100,M82/J82*100), \"-\"),0)","v":0},{"$f":"COUNTRY_INFO!O82","v":0},null,null,{"$f":"SUM(MAX('MDA4'!R82, 'T1'!L82, MAX(T3_R1!K82, T3_R2!K82)), MAX('MDA1'!K82, 'MDA4'!S82, 'T1'!M82, MAX(T3_R1!L82, T3_R2!L82)), MAX('MDA1'!L82, 'MDA4'!T82, 'T1'!N82, MAX(T3_R1!M82, T3_R2!M82)))","v":0},{"$f":"IF(AND(COUNTRY_INFO!J82>1,COUNTRY_INFO!J82<4),IF(COUNTRY_INFO!E82>MAX('MDA4'!R82,'T1'!L82,MAX(T3_R1!K82,T3_R2!K82)),MAX('MDA4'!R82,'T1'!L82,MAX(T3_R1!K82,T3_R2!K82)),COUNTRY_INFO!E82),0)","v":0},{"$f":"IF(AND(COUNTRY_INFO!J82>1,COUNTRY_INFO!J82<4), IF(T82/COUNTRY_INFO!E82*100<>0, IF(T82/COUNTRY_INFO!E82*100>100,100,T82/COUNTRY_INFO!E82*100), \"-\"),0)","v":0},{"$f":"IF(AND(COUNTRY_INFO!J82>1,COUNTRY_INFO!J82<4),IF(COUNTRY_INFO!F82>MAX('MDA1'!K82,'MDA4'!S82,'T1'!M82,MAX(T3_R1!L82,T3_R2!L82)),MAX('MDA1'!K82,'MDA4'!S82,'T1'!M82,MAX(T3_R1!L82,T3_R2!L82)),COUNTRY_INFO!F82),0)","v":0},{"$f":"IF(AND(COUNTRY_INFO!J82>1,COUNTRY_INFO!J82<4), IF(V82/COUNTRY_INFO!F82*100<>0, IF(V82/COUNTRY_INFO!F82*100>100,100,V82/COUNTRY_INFO!F82*100), \"-\"),0)","v":0},0,{"$f":"IF(AND(COUNTRY_INFO!J82>1,COUNTRY_INFO!J82<4), IF(S82/P82*100<>0, IF(X82/P82*100>100,100,X82/P82*100), \"-\"),0)","v":0},{"$f":"COUNTRY_INFO!P82","v":38578.199999999997},null,null,{"$f":"MAX('T1'!L82,'T2'!J82)+MAX('T1'!M82,'T2'!K82)+MAX('T1'!N82,'T2'!L82)","v":37401},{"$f":"IF(COUNTRY_INFO!K82=1,IF(COUNTRY_INFO!F82*0.33>MAX('T1'!M82,'T2'!K82),MAX('T1'!M82,'T2'!K82),COUNTRY_INFO!F82*0.33),IF(COUNTRY_INFO!K82=2,IF(COUNTRY_INFO!F82*0.5>MAX('T1'!M82,'T2'!K82),MAX('T1'!M82,'T2'!K82),COUNTRY_INFO!F82*0.5),IF(COUNTRY_INFO!K82=3,IF(COUNTRY_INFO!F82>MAX('T1'!M82,'T2'!K82),MAX('T1'!M82,'T2'!K82),COUNTRY_INFO!F82),0)))","v":21975},{"$f":"IF(AND(COUNTRY_INFO!K82>0,COUNTRY_INFO!L82<4),IF(Z82>0,IF(COUNTRY_INFO!K82=1, AD82/(COUNTRY_INFO!F82*0.33)*100, IF(COUNTRY_INFO!K82=2, AD82/(COUNTRY_INFO!F82*0.5)*100, IF(COUNTRY_INFO!K82=3, AD82/COUNTRY_INFO!F82*100))),\"-\"),0)","v":100},{"$f":"IF(COUNTRY_INFO!K82=2,IF(COUNTRY_INFO!G82*0.2>MAX('T1'!N82,'T2'!L82),MAX('T1'!N82,'T2'!L82),COUNTRY_INFO!G82*0.2),IF(COUNTRY_INFO!K82=3,IF(COUNTRY_INFO!G82>MAX('T1'!N82,'T2'!L82),MAX('T1'!N82,'T2'!L82),COUNTRY_INFO!G82),0))","v":0},{"$f":"IF(AND(COUNTRY_INFO!K82>0,COUNTRY_INFO!L82<4),IF(Z82>0,IF(COUNTRY_INFO!K82=1, 0, IF(COUNTRY_INFO!K82=2, AF82/(COUNTRY_INFO!G82*0.2)*100, IF(COUNTRY_INFO!K82=3, AF82/COUNTRY_INFO!G82*100))),\"-\"),0)","v":0},21975,{"$f":"IF(AND(COUNTRY_INFO!K82>0,COUNTRY_INFO!K82<4), IF(AC82/Z82*100<>0, IF(AH82/Z82*100>100,100,AH82/Z82*100), \"-\"),0)","v":56.962222187660394},null,{"$f":"IF(AND(D82<>0, D82<>\"Unknown\",D82<>\"Stopped\",D82<>\"Not required\"),D82/COUNTRY_INFO!D82, 0)","v":0},{"$f":"IF(AND(J82<>0,J82<>\"Unknown\",J82<>\"Stopped\",J82<>\"Not required\"),J82/COUNTRY_INFO!D82, 0)","v":0},{"$f":"IF(AND(P82<>0,P82<>\"Unknown\",P82<>\"Not required\"),P82/(COUNTRY_INFO!E82+COUNTRY_INFO!F82), 0)","v":0},{"$f":"IF(AND(Z82<>0,Z82<>\"Unknown\",Z82<>\"Not required\"),IF(COUNTRY_INFO!K82=1,1,IF(COUNTRY_INFO!K82=2,0.5*COUNTRY_INFO!F82/(0.5*COUNTRY_INFO!F82+0.2*COUNTRY_INFO!G82),IF(COUNTRY_INFO!K82=3,COUNTRY_INFO!F82/(COUNTRY_INFO!F82+COUNTRY_INFO!G82)))),0)","v":0.56962222187660394},{"$f":"IF(AND(Z82<>0,Z82<>\"Unknown\",Z82<>\"Not required\"),IF(COUNTRY_INFO!K82=1,0,IF(COUNTRY_INFO!K82=2,0.2*COUNTRY_INFO!G82/(0.5*COUNTRY_INFO!F82+0.2*COUNTRY_INFO!G82),IF(COUNTRY_INFO!K82=3,COUNTRY_INFO!G82/(COUNTRY_INFO!F82+COUNTRY_INFO!G82)))),0)","v":0.43037777812339617},{"$f":"MAX(COUNTRY_INFO!D82*AK82*PROFILE!$G$7,COUNTRY_INFO!D82*AL82*PROFILE!$G$7)","v":0},{"$f":"MAX(COUNTRY_INFO!D82*AK82*PROFILE!$G$8,COUNTRY_INFO!D82*AL82*PROFILE!$G$8,COUNTRY_INFO!D82*AM82*PROFILE!$G$8)","v":0},{"$f":"MAX(COUNTRY_INFO!D82*AK82*PROFILE!$G$9,COUNTRY_INFO!D82*AL82*PROFILE!$G$9,COUNTRY_INFO!D82*AM82*PROFILE!$G$9,IF(AND(DISTRICT!Z82<>\"Unknown\",Z82<>\"Not required\"),COUNTRY_INFO!P82*DISTRICT!AN82,0))","v":21975},{"$f":"MAX(COUNTRY_INFO!D82*AK82*PROFILE!$G$10,COUNTRY_INFO!D82*AL82*PROFILE!$G$10,IF(AND(DISTRICT!Z82<>\"Unknown\",Z82<>\"Not required\"),COUNTRY_INFO!P82*DISTRICT!AO82,0))","v":16603.2},38578.199999999997,"Y",{"$f":"MAX('MDA4'!R82,'T1'!L82,'T2'!J82,T3_R1!K82,T3_R2!K82)","v":0},{"$f":"MAX('MDA1'!K82,'MDA4'!S82,'MDA3'!I82,'MDA3'!L82,'T1'!M82,'T2'!K82,T3_R1!L82,T3_R2!L82)","v":37401},{"$f":"MAX('MDA1'!L82,'MDA4'!T82,'MDA3'!J82,'MDA3'!M82,'T1'!N82,'T2'!L82,T3_R1!M82,T3_R2!M82)","v":0},37401,{"$f":"MAX('MDA4'!R82,T82)","v":0},{"$f":"MAX('MDA1'!K82,'MDA4'!S82,'MDA3'!I82,'MDA3'!L82,V82,AD82)","v":21975},{"$f":"MAX('MDA1'!L82,'MDA4'!T82,'MDA3'!J82,'MDA3'!M82,AF82)","v":0},21975,56.962222187660394]
[{"$f":"IF(COUNTRY_INFO!A83=0,\" \",COUNTRY_INFO!A83)","v":"Angola"},{"$f":"IF(COUNTRY_INFO!B83=0,\" \",COUNTRY_INFO!B83)","v":"HUAMBO"},{"$f":"IF(COUNTRY_INFO!C83=0,\" \",COUNTRY_INFO!C83)","v":"LONGONJO"},{"$f":"COUNTRY_INFO!M83","v":0},null,null,{"$f":"MAX('MDA1'!M83,'MDA4'!U83)","v":0},{"$f":"IF(AND(COUNTRY_INFO!H83>0,COUNTRY_INFO!H83<4),IF(D83>MAX('MDA1'!M83,'MDA4'!U83),MAX('MDA1'!M83,'MDA4'!U83),D83),0)","v":0},{"$f":"IF(AND(COUNTRY_INFO!H83>0,COUNTRY_INFO!H83<4), IF(G83/D83*100<>0, IF(G83/D83*100>100,100,G83/D83*100), \"-\"),0)","v":0},{"$f":"COUNTRY_INFO!N83","v":"Unknown"},null,null,{"$f":"MAX('MDA1'!M83,MAX('MDA3'!I83,'MDA3'!L83)+MAX('MDA3'!J83,'MDA3'!M83))","v":0},{"$f":"IF(AND(COUNTRY_INFO!I83>0,COUNTRY_INFO!I83<4),IF(J83>MAX('MDA1'!M83,MAX('MDA3'!I83,'MDA3'!L83)+MAX('MDA3'!J83,'MDA3'!M83)),MAX('MDA1'!M83,MAX('MDA3'!I83,'MDA3'!L83)+MAX('MDA3'!J83,'MDA3'!M83)),J83),0)","v":0},{"$f":"IF(AND(COUNTRY_INFO!I83>0,COUNTRY_INFO!I83<4), IF(M83/J83*100<>0, IF(M83/J83*100>100,100,M83/J83*100), \"-\"),0)","v":0},{"$f":"COUNTRY_INFO!O83","v":47442},null,null,{"$f":"SUM(MAX('MDA4'!R83, 'T1'!L83, MAX(T3_R1!K83, T3_R2!K83)), MAX('MDA1'!K83, 'MDA4'!S83, 'T1'!M83, MAX(T3_R1!L83, T3_R2!L83)), MAX('MDA1'!L83, 'MDA4'!T83, 'T1'!N83, MAX(T3_R1!M83, T3_R2!M83)))","v":34008},{"$f":"IF(AND(COUNTRY_INFO!J83>1,COUNTRY_INFO!J83<4),IF(COUNTRY_INFO!E83>MAX('MDA4'!R83,'T1'!L83,MAX(T3_R1!K83,T3_R2!K83)),MAX('MDA4'!R83,'T1'!L83,MAX(T3_R1!K83,T3_R2!K83)),COUNTRY_INFO!E83),0)","v":0},{"$f":"IF(AND(COUNTRY_INFO!J83>1,COUNTRY_INFO!J83<4), IF(T83/COUNTRY_INFO!E83*100<>0, IF(T83/COUNTRY_INFO!E83*100>100,100,T83/COUNTRY_INFO!E83*100), \"-\"),0)","v":"-"},{"$f":"IF(AND(COUNTRY_INFO!J83>1,COUNTRY_INFO!J83<4),IF(COUNTRY_INFO!F83>MAX('MDA1'!K83,'MDA4'!S83,'T1'!M83,MAX(T3_R1!L83,T3_R2!L83)),MAX('MDA1'!K83,'MDA4'!S83,'T1'!M83,MAX(T3_R1!L83,T3_R2!L83)),COUNTRY_INFO!F83),0)","v":30151},{"$f":"IF(AND(COUNTRY_INFO!J83>1,COUNTRY_INFO!J83<4), IF(V83/COUNTRY_INFO!F83*100<>0, IF(V83/COUNTRY_INFO!F83*100>100,100,V83/COUNTRY_INFO!F83*100), \"-\"),0)","v":100},30151,{"$f":"IF(AND(COUNTRY_INFO!J83>1,COUNTRY_INFO!J83<4), IF(S83/P83*100<>0, IF(X83/P83*100>100,100,X83/P83*100), \"-\"),0)","v":63.553391509632817},{"$f":"COUNTRY_INFO!P83","v":26465.9},null,null,{"$f":"MAX('T1'!L83,'T2'!J83)+MAX('T1'!M83,'T2'!K83)+MAX('T1'!N83,'T2'!L83)","v":34008},{"$f":"IF(COUNTRY_INFO!K83=1,IF(COUNTRY_INFO!F83*0.33>MAX('T1'!M83,'T2'!K83),MAX('T1'!M83,'T2'!K83),COUNTRY_INFO!F83*0.33),IF(COUNTRY_INFO!K83=2,IF(COUNTRY_INFO!F83*0.5>MAX('T1'!M83,'T2'!K83),MAX('T1'!M83,'T2'!K83),COUNTRY_INFO!F83*0.5),IF(COUNTRY_INFO!K83=3,IF(COUNTRY_INFO!F83>MAX('T1'!M83,'T2'!K83),MAX('T1'!M83,'T2'!K83),COUNTRY_INFO!F83),0)))","v":15075.5},{"$f":"IF(AND(COUNTRY_INFO!K83>0,COUNTRY_INFO!L83<4),IF(Z83>0,IF(COUNTRY_INFO!K83=1, AD83/(COUNTRY_INFO!F83*0.33)*100, IF(COUNTRY_INFO!K83=2, AD83/(COUNTRY_INFO!F83*0.5)*100, IF(COUNTRY_INFO!K83=3, AD83/COUNTRY_INFO!F83*100))),\"-\"),0)","v":0},{"$f":"IF(COUNTRY_INFO!K83=2,IF(COUNTRY_INFO!G83*0.2>MAX('T1'!N83,'T2'!L83),MAX('T1'!N83,'T2'!L83),COUNTRY_INFO!G83*0.2),IF(COUNTRY_INFO!K83=3,IF(COUNTRY_INFO!G83>MAX('T1'!N83,'T2'!L83),MAX('T1'!N83,'T2'!L83),COUNTRY_INFO!G83),0))","v":0},{"$f":"IF(AND(COUNTRY_INFO!K83>0,COUNTRY_INFO!L83<4),IF(Z83>0,IF(COUNTRY_INFO!K83=1, 0, IF(COUNTRY_INFO!K83=2, AF83/(COUNTRY_INFO!G83*0.2)*100, IF(COUNTRY_INFO!K83=3, AF83/COUNTRY_INFO!G83*100))),\"-\"),0)","v":0},15075.5,{"$f":"IF(AND(COUNTRY_INFO!K83>0,COUNTRY_INFO!K83<4), IF(AC83/Z83*100<>0, IF(AH83/Z83*100>100,100,AH83/Z83*100), \"-\"),0)","v":56.96197748801287},null,{"$f":"IF(AND(D83<>0, D83<>\"Unknown\",D83<>\"Stopped\",D83<>\"Not required\"),D83/COUNTRY_INFO!D83, 0)","v":0},{"$f":"IF(AND(J83<>0,J83<>\"Unknown\",J83<>\"Stopped\",J83<>\"Not required\"),J83/COUNTRY_INFO!D83, 0)","v":0},{"$f":"IF(AND(P83<>0,P83<>\"Unknown\",P83<>\"Not required\"),P83/(COUNTRY_INFO!E83+COUNTRY_INFO!F83), 0)","v":1},{"$f":"IF(AND(Z83<>0,Z83<>\"Unknown\",Z83<>\"Not required\"),IF(COUNTRY_INFO!K83=1,1,IF(COUNTRY_INFO!K83=2,0.5*COUNTRY_INFO!F83/(0.5*COUNTRY_INFO!F83+0.2*COUNTRY_INFO!G83),IF(COUNTRY_INFO!K83=3,COUNTRY_INFO!F83/(COUNTRY_INFO!F83+COUNTRY_INFO!G83)))),0)","v":0.56961977488012872},{"$f":"IF(AND(Z83<>0,Z83<>\"Unknown\",Z83<>\"Not required\"),IF(COUNTRY_INFO!K83=1,0,IF(COUNTRY_INFO!K83=2,0.2*COUNTRY_INFO!G83/(0.5*COUNTRY_INFO!F83+0.2*COUNTRY_INFO!G83),IF(COUNTRY_INFO!K83=3,COUNTRY_INFO!G83/(COUNTRY_INFO!F83+COUNTRY_INFO!G83)))),0)","v":0.43038022511987128},{"$f":"MAX(COUNTRY_INFO!D83*AK83*PROFILE!$G$7,COUNTRY_INFO!D83*AL83*PROFILE!$G$7)","v":0},{"$f":"MAX(COUNTRY_INFO!D83*AK83*PROFILE!$G$8,COUNTRY_INFO!D83*AL83*PROFILE!$G$8,COUNTRY_INFO!D83*AM83*PROFILE!$G$8)","v":17290.838112386482},{"$f":"MAX(COUNTRY_INFO!D83*AK83*PROFILE!$G$9,COUNTRY_INFO!D83*AL83*PROFILE!$G$9,COUNTRY_INFO!D83*AM83*PROFILE!$G$9,IF(AND(DISTRICT!Z83<>\"Unknown\",Z83<>\"Not required\"),COUNTRY_INFO!P83*DISTRICT!AN83,0))","v":30150.913376193399},{"$f":"MAX(COUNTRY_INFO!D83*AK83*PROFILE!$G$10,COUNTRY_INFO!D83*AL83*PROFILE!$G$10,IF(AND(DISTRICT!Z83<>\"Unknown\",Z83<>\"Not required\"),COUNTRY_INFO!P83*DISTRICT!AO83,0))","v":11390.400000000001},58832.151488579882,"Y",{"$f":"MAX('MDA4'!R83,'T1'!L83,'T2'!J83,T3_R1!K83,T3_R2!K83)","v":0},{"$f":"MAX('MDA1'!K83,'MDA4'!S83,'MDA3'!I83,'MDA3'!L83,'T1'!M83,'T2'!K83,T3_R1!L83,T3_R2!L83)","v":34008},{"$f":"MAX('MDA1'!L83,'MDA4'!T83,'MDA3'!J83,'MDA3'!M83,'T1'!N83,'T2'!L83,T3_R1!M83,T3_R2!M83)","v":0},34008,{"$f":"MAX('MDA4'!R83,T83)","v":0},{"$f":"MAX('MDA1'!K83,'MDA4'!S83,'MDA3'!I83,'MDA3'!L83,V83,AD83)","v":30151},{"$f":"MAX('MDA1'!L83,'MDA4'!T83,'MDA3'!J83,'MDA3'!M83,AF83)","v":0},30151,51.249188134574197]
[{"$f":"IF(COUNTRY_INFO!A84=0,\" \",COUNTRY_INFO!A84)","v":"Angola"},{"$f":"IF(COUNTRY_INFO!B84=0,\" \",COUNTRY_INFO!B84)","v":"HUAMBO"},{"$f":"IF(COUNTRY_INFO!C84=0,\" \",COUNTRY_INFO!C84)","v":"MUNGO"},{"$f":"COUNTRY_INFO!M84","v":0},null,null,{"$f":"MAX('MDA1'!M84,'MDA4'!U84)","v":0},{"$f":"IF(AND(COUNTRY_INFO!H84>0,COUNTRY_INFO!H84<4),IF(D84>MAX('MDA1'!M84,'MDA4'!U84),MAX('MDA1'!M84,'MDA4'!U84),D84),0)","v":0},{"$f":"IF(AND(COUNTRY_INFO!H84>0,COUNTRY_INFO!H84<4), IF(G84/D84*100<>0, IF(G84/D84*100>100,100,G84/D84*100), \"-\"),0)","v":0},{"$f":"COUNTRY_INFO!N84","v":133076.33055627838},null,null,{"$f":"MAX('MDA1'!M84,MAX('MDA3'!I84,'MDA3'!L84)+MAX('MDA3'!J84,'MDA3'!M84))","v":0},{"$f":"IF(AND(COUNTRY_INFO!I84>0,COUNTRY_INFO!I84<4),IF(J84>MAX('MDA1'!M84,MAX('MDA3'!I84,'MDA3'!L84)+MAX('MDA3'!J84,'MDA3'!M84)),MAX('MDA1'!M84,MAX('MDA3'!I84,'MDA3'!L84)+MAX('MDA3'!J84,'MDA3'!M84)),J84),0)","v":0},{"$f":"IF(AND(COUNTRY_INFO!I84>0,COUNTRY_INFO!I84<4), IF(M84/J84*100<>0, IF(M84/J84*100>100,100,M84/J84*100), \"-\"),0)","v":"-"},{"$f":"COUNTRY_INFO!O84","v":0},null,null,{"$f":"SUM(MAX('MDA4'!R84, 'T1'!L84, MAX(T3_R1!K84, T3_R2!K84)), MAX('MDA1'!K84, 'MDA4'!S84, 'T1'!M84, MAX(T3_R1!L84, T3_R2!L84)), MAX('MDA1'!L84, 'MDA4'!T84, 'T1'!N84, MAX(T3_R1!M84, T3_R2!M84)))","v":0},{"$f":"IF(AND(COUNTRY_INFO!J84>1,COUNTRY_INFO!J84<4),IF(COUNTRY_INFO!E84>MAX('MDA4'!R84,'T1'!L84,MAX(T3_R1!K84,T3_R2!K84)),MAX('MDA4'!R84,'T1'!L84,MAX(T3_R1!K84,T3_R2!K84)),COUNTRY_INFO!E84),0)","v":0},{"$f":"IF(AND(COUNTRY_INFO!J84>1,COUNTRY_INFO!J84<4), IF(T84/COUNTRY_INFO!E84*100<>0, IF(T84/COUNTRY_INFO!E84*100>100,100,T84/COUNTRY_INFO!E84*100), \"-\"),0)","v":0},{"$f":"IF(AND(COUNTRY_INFO!J84>1,COUNTRY_INFO!J84<4),IF(COUNTRY_INFO!F84>MAX('MDA1'!K84,'MDA4'!S84,'T1'!M84,MAX(T3_R1!L84,T3_R2!L84)),MAX('MDA1'!K84,'MDA4'!S84,'T1'!M84,MAX(T3_R1!L84,T3_R2!L84)),COUNTRY_INFO!F84),0)","v":0},{"$f":"IF(AND(COUNTRY_INFO!J84>1,COUNTRY_INFO!J84<4), IF(V84/COUNTRY_INFO!F84*100<>0, IF(V84/COUNTRY_INFO!F84*100>100,100,V84/COUNTRY_INFO!F84*100), \"-\"),0)","v":0},0,{"$f":"IF(AND(COUNTRY_INFO!J84>1,COUNTRY_INFO!J84<4), IF(S84/P84*100<>0, IF(X84/P84*100>100,100,X84/P84*100), \"-\"),0)","v":0},{"$f":"COUNTRY_INFO!P84","v":32590.2},null,null,{"$f":"MAX('T1'!L84,'T2'!J84)+MAX('T1'!M84,'T2'!K84)+MAX('T1'!N84,'T2'!L84)","v":30940},{"$f":"IF(COUNTRY_INFO!K84=1,IF(COUNTRY_INFO!F84*0.33>MAX('T1'!M84,'T2'!K84),MAX('T1'!M84,'T2'!K84),COUNTRY_INFO!F84*0.33),IF(COUNTRY_INFO!K84=2,IF(COUNTRY_INFO!F84*0.5>MAX('T1'!M84,'T2'!K84),MAX('T1'!M84,'T2'!K84),COUNTRY_INFO!F84*0.5),IF(COUNTRY_INFO!K84=3,IF(COUNTRY_INFO!F84>MAX('T1'!M84,'T2'!K84),MAX('T1'!M84,'T2'!K84),COUNTRY_INFO!F84),0)))","v":18564},{"$f":"IF(AND(COUNTRY_INFO!K84>0,COUNTRY_INFO!L84<4),IF(Z84>0,IF(COUNTRY_INFO!K84=1, AD84/(COUNTRY_INFO!F84*0.33)*100, IF(COUNTRY_INFO!K84=2, AD84/(COUNTRY_INFO!F84*0.5)*100, IF(COUNTRY_INFO!K84=3, AD84/COUNTRY_INFO!F84*100))),\"-\"),0)","v":100},{"$f":"IF(COUNTRY_INFO!K84=2,IF(COUNTRY_INFO!G84*0.2>MAX('T1'!N84,'T2'!L84),MAX('T1'!N84,'T2'!L84),COUNTRY_INFO!G84*0.2),IF(COUNTRY_INFO!K84=3,IF(COUNTRY_INFO!G84>MAX('T1'!N84,'T2'!L84),MAX('T1'!N84,'T2'!L84),COUNTRY_INFO!G84),0))","v":0},{"$f":"IF(AND(COUNTRY_INFO!K84>0,COUNTRY_INFO!L84<4),IF(Z84>0,IF(COUNTRY_INFO!K84=1, 0, IF(COUNTRY_INFO!K84=2, AF84/(COUNTRY_INFO!G84*0.2)*100, IF(COUNTRY_INFO!K84=3, AF84/COUNTRY_INFO!G84*100))),\"-\"),0)","v":0},18564,{"$f":"IF(AND(COUNTRY_INFO!K84>0,COUNTRY_INFO!K84<4), IF(AC84/Z84*100<>0, IF(AH84/Z84*100>100,100,AH84/Z84*100), \"-\"),0)","v":56.961908794668339},null,{"$f":"IF(AND(D84<>0, D84<>\"Unknown\",D84<>\"Stopped\",D84<>\"Not required\"),D84/COUNTRY_INFO!D84, 0)","v":0},{"$f":"IF(AND(J84<>0,J84<>\"Unknown\",J84<>\"Stopped\",J84<>\"Not required\"),J84/COUNTRY_INFO!D84, 0)","v":1},{"$f":"IF(AND(P84<>0,P84<>\"Unknown\",P84<>\"Not required\"),P84/(COUNTRY_INFO!E84+COUNTRY_INFO!F84), 0)","v":0},{"$f":"IF(AND(Z84<>0,Z84<>\"Unknown\",Z84<>\"Not required\"),IF(COUNTRY_INFO!K84=1,1,IF(COUNTRY_INFO!K84=2,0.5*COUNTRY_INFO!F84/(0.5*COUNTRY_INFO!F84+0.2*COUNTRY_INFO!G84),IF(COUNTRY_INFO!K84=3,COUNTRY_INFO!F84/(COUNTRY_INFO!F84+COUNTRY_INFO!G84)))),0)","v":0.56961908794668337},{"$f":"IF(AND(Z84<>0,Z84<>\"Unknown\",Z84<>\"Not required\"),IF(COUNTRY_INFO!K84=1,0,IF(COUNTRY_INFO!K84=2,0.2*COUNTRY_INFO!G84/(0.5*COUNTRY_INFO!F84+0.2*COUNTRY_INFO!G84),IF(COUNTRY_INFO!K84=3,COUNTRY_INFO!G84/(COUNTRY_INFO!F84+COUNTRY_INFO!G84)))),0)","v":0.43038091205331663},{"$f":"MAX(COUNTRY_INFO!D84*AK84*PROFILE!$G$7,COUNTRY_INFO!D84*AL84*PROFILE!$G$7)","v":4524.6275950753952},{"$f":"MAX(COUNTRY_INFO!D84*AK84*PROFILE!$G$8,COUNTRY_INFO!D84*AL84*PROFILE!$G$8,COUNTRY_INFO!D84*AM84*PROFILE!$G$8)","v":21292.194458297097},{"$f":"MAX(COUNTRY_INFO!D84*AK84*PROFILE!$G$9,COUNTRY_INFO!D84*AL84*PROFILE!$G$9,COUNTRY_INFO!D84*AM84*PROFILE!$G$9,IF(AND(DISTRICT!Z84<>\"Unknown\",Z84<>\"Not required\"),COUNTRY_INFO!P84*DISTRICT!AN84,0))","v":37128.281840849122},{"$f":"MAX(COUNTRY_INFO!D84*AK84*PROFILE!$G$10,COUNTRY_INFO!D84*AL84*PROFILE!$G$10,IF(AND(DISTRICT!Z84<>\"Unknown\",Z84<>\"Not required\"),COUNTRY_INFO!P84*DISTRICT!AO84,0))","v":70131.226662056768},133076.33055627838,0,{"$f":"MAX('MDA4'!R84,'T1'!L84,'T2'!J84,T3_R1!K84,T3_R2!K84)","v":0},{"$f":"MAX('MDA1'!K84,'MDA4'!S84,'MDA3'!I84,'MDA3'!L84,'T1'!M84,'T2'!K84,T3_R1!L84,T3_R2!L84)","v":30940},{"$f":"MAX('MDA1'!L84,'MDA4'!T84,'MDA3'!J84,'MDA3'!M84,'T1'!N84,'T2'!L84,T3_R1!M84,T3_R2!M84)","v":0},30940,{"$f":"MAX('MDA4'!R84,T84)","v":0},{"$f":"MAX('MDA1'!K84,'MDA4'!S84,'MDA3'!I84,'MDA3'!L84,V84,AD84)","v":18564},{"$f":"MAX('MDA1'!L84,'MDA4'!T84,'MDA3'!J84,'MDA3'!M84,AF84)","v":0},18564,13.949888701018271]
[{"$f":"IF(COUNTRY_INFO!A85=0,\" \",COUNTRY_INFO!A85)","v":"Angola"},{"$f":"IF(COUNTRY_INFO!B85=0,\" \",COUNTRY_INFO!B85)","v":"HUAMBO"},{"$f":"IF(COUNTRY_INFO!C85=0,\" \",COUNTRY_INFO!C85)","v":"UCUMA"},{"$f":"COUNTRY_INFO!M85","v":0},null,null,{"$f":"MAX('MDA1'!M85,'MDA4'!U85)","v":0},{"$f":"IF(AND(COUNTRY_INFO!H85>0,COUNTRY_INFO!H85<4),IF(D85>MAX('MDA1'!M85,'MDA4'!U85),MAX('MDA1'!M85,'MDA4'!U85),D85),0)","v":0},{"$f":"IF(AND(COUNTRY_INFO!H85>0,COUNTRY_INFO!H85<4), IF(G85/D85*100<>0, IF(G85/D85*100>100,100,G85/D85*100), \"-\"),0)","v":0},{"$f":"COUNTRY_INFO!N85","v":"Unknown"},null,null,{"$f":"MAX('MDA1'!M85,MAX('MDA3'!I85,'MDA3'!L85)+MAX('MDA3'!J85,'MDA3'!M85))","v":0},{"$f":"IF(AND(COUNTRY_INFO!I85>0,COUNTRY_INFO!I85<4),IF(J85>MAX('MDA1'!M85,MAX('MDA3'!I85,'MDA3'!L85)+MAX('MDA3'!J85,'MDA3'!M85)),MAX('MDA1'!M85,MAX('MDA3'!I85,'MDA3'!L85)+MAX('MDA3'!J85,'MDA3'!M85)),J85),0)","v":0},{"$f":"IF(AND(COUNTRY_INFO!I85>0,COUNTRY_INFO!I85<4), IF(M85/J85*100<>0, IF(M85/J85*100>100,100,M85/J85*100), \"-\"),0)","v":0},{"$f":"COUNTRY_INFO!O85","v":0},null,null,{"$f":"SUM(MAX('MDA4'!R85, 'T1'!L85, MAX(T3_R1!K85, T3_R2!K85)), MAX('MDA1'!K85, 'MDA4'!S85, 'T1'!M85, MAX(T3_R1!L85, T3_R2!L85)), MAX('MDA1'!L85, 'MDA4'!T85, 'T1'!N85, MAX(T3_R1!M85, T3_R2!M85)))","v":0},{"$f":"IF(AND(COUNTRY_INFO!J85>1,COUNTRY_INFO!J85<4),IF(COUNTRY_INFO!E85>MAX('MDA4'!R85,'T1'!L85,MAX(T3_R1!K85,T3_R2!K85)),MAX('MDA4'!R85,'T1'!L85,MAX(T3_R1!K85,T3_R2!K85)),COUNTRY_INFO!E85),0)","v":0},{"$f":"IF(AND(COUNTRY_INFO!J85>1,COUNTRY_INFO!J85<4), IF(T85/COUNTRY_INFO!E85*100<>0, IF(T85/COUNTRY_INFO!E85*100>100,100,T85/COUNTRY_INFO!E85*100), \"-\"),0)","v":0},{"$f":"IF(AND(COUNTRY_INFO!J85>1,COUNTRY_INFO!J85<4),IF(COUNTRY_INFO!F85>MAX('MDA1'!K85,'MDA4'!S85,'T1'!M85,MAX(T3_R1!L85,T3_R2!L85)),MAX('MDA1'!K85,'MDA4'!S85,'T1'!M85,MAX(T3_R1!L85,T3_R2!L85)),COUNTRY_INFO!F85),0)","v":0},{"$f":"IF(AND(COUNTRY_INFO!J85>1,COUNTRY_INFO!J85<4), IF(V85/COUNTRY_INFO!F85*100<>0, IF(V85/COUNTRY_INFO!F85*100>100,100,V85/COUNTRY_INFO!F85*100), \"-\"),0)","v":0},0,{"$f":"IF(AND(COUNTRY_INFO!J85>1,COUNTRY_INFO!J85<4), IF(S85/P85*100<>0, IF(X85/P85*100>100,100,X85/P85*100), \"-\"),0)","v":0},{"$f":"COUNTRY_INFO!P85","v":15820.1},null,null,{"$f":"MAX('T1'!L85,'T2'!J85)+MAX('T1'!M85,'T2'!K85)+MAX('T1'!N85,'T2'!L85)","v":18271},{"$f":"IF(COUNTRY_INFO!K85=1,IF(COUNTRY_INFO!F85*0.33>MAX('T1'!M85,'T2'!K85),MAX('T1'!M85,'T2'!K85),COUNTRY_INFO!F85*0.33),IF(COUNTRY_INFO!K85=2,IF(COUNTRY_INFO!F85*0.5>MAX('T1'!M85,'T2'!K85),MAX('T1'!M85,'T2'!K85),COUNTRY_INFO!F85*0.5),IF(COUNTRY_INFO!K85=3,IF(COUNTRY_INFO!F85>MAX('T1'!M85,'T2'!K85),MAX('T1'!M85,'T2'!K85),COUNTRY_INFO!F85),0)))","v":9011.5},{"$f":"IF(AND(COUNTRY_INFO!K85>0,COUNTRY_INFO!L85<4),IF(Z85>0,IF(COUNTRY_INFO!K85=1, AD85/(COUNTRY_INFO!F85*0.33)*100, IF(COUNTRY_INFO!K85=2, AD85/(COUNTRY_INFO!F85*0.5)*100, IF(COUNTRY_INFO!K85=3, AD85/COUNTRY_INFO!F85*100))),\"-\"),0)","v":0},{"$f":"IF(COUNTRY_INFO!K85=2,IF(COUNTRY_INFO!G85*0.2>MAX('T1'!N85,'T2'!L85),MAX('T1'!N85,'T2'!L85),COUNTRY_INFO!G85*0.2),IF(COUNTRY_INFO!K85=3,IF(COUNTRY_INFO!G85>MAX('T1'!N85,'T2'!L85),MAX('T1'!N85,'T2'!L85),COUNTRY_INFO!G85),0))","v":0},{"$f":"IF(AND(COUNTRY_INFO!K85>0,COUNTRY_INFO!L85<4),IF(Z85>0,IF(COUNTRY_INFO!K85=1, 0, IF(COUNTRY_INFO!K85=2, AF85/(COUNTRY_INFO!G85*0.2)*100, IF(COUNTRY_INFO!K85=3, AF85/COUNTRY_INFO!G85*100))),\"-\"),0)","v":0},9011.5,{"$f":"IF(AND(COUNTRY_INFO!K85>0,COUNTRY_INFO!K85<4), IF(AC85/Z85*100<>0, IF(AH85/Z85*100>100,100,AH85/Z85*100), \"-\"),0)","v":56.962345370762513},null,{"$f":"IF(AND(D85<>0, D85<>\"Unknown\",D85<>\"Stopped\",D85<>\"Not required\"),D85/COUNTRY_INFO!D85, 0)","v":0},{"$f":"IF(AND(J85<>0,J85<>\"Unknown\",J85<>\"Stopped\",J85<>\"Not required\"),J85/COUNTRY_INFO!D85, 0)","v":0},{"$f":"IF(AND(P85<>0,P85<>\"Unknown\",P85<>\"Not required\"),P85/(COUNTRY_INFO!E85+COUNTRY_INFO!F85), 0)","v":0},{"$f":"IF(AND(Z85<>0,Z85<>\"Unknown\",Z85<>\"Not required\"),IF(COUNTRY_INFO!K85=1,1,IF(COUNTRY_INFO!K85=2,0.5*COUNTRY_INFO!F85/(0.5*COUNTRY_INFO!F85+0.2*COUNTRY_INFO!G85),IF(COUNTRY_INFO!K85=3,COUNTRY_INFO!F85/(COUNTRY_INFO!F85+COUNTRY_INFO!G85)))),0)","v":0.56962345370762513},{"$f":"IF(AND(Z85<>0,Z85<>\"Unknown\",Z85<>\"Not required\"),IF(COUNTRY_INFO!K85=1,0,IF(COUNTRY_INFO!K85=2,0.2*COUNTRY_INFO!G85/(0.5*COUNTRY_INFO!F85+0.2*COUNTRY_INFO!G85),IF(COUNTRY_INFO!K85=3,COUNTRY_INFO!G85/(COUNTRY_INFO!F85+COUNTRY_INFO!G85)))),0)","v":0.43037654629237493},{"$f":"MAX(COUNTRY_INFO!D85*AK85*PROFILE!$G$7,COUNTRY_INFO!D85*AL85*PROFILE!$G$7)","v":0},{"$f":"MAX(COUNTRY_INFO!D85*AK85*PROFILE!$G$8,COUNTRY_INFO!D85*AL85*PROFILE!$G$8,COUNTRY_INFO!D85*AM85*PROFILE!$G$8)","v":0},{"$f":"MAX(COUNTRY_INFO!D85*AK85*PROFILE!$G$9,COUNTRY_INFO!D85*AL85*PROFILE!$G$9,COUNTRY_INFO!D85*AM85*PROFILE!$G$9,IF(AND(DISTRICT!Z85<>\"Unknown\",Z85<>\"Not required\"),COUNTRY_INFO!P85*DISTRICT!AN85,0))","v":9011.5},{"$f":"MAX(COUNTRY_INFO!D85*AK85*PROFILE!$G$10,COUNTRY_INFO!D85*AL85*PROFILE!$G$10,IF(AND(DISTRICT!Z85<>\"Unknown\",Z85<>\"Not required\"),COUNTRY_INFO!P85*DISTRICT!AO85,0))","v":6808.6},15820.1,"Y",{"$f":"MAX('MDA4'!R85,'T1'!L85,'T2'!J85,T3_R1!K85,T3_R2!K85)","v":0},{"$f":"MAX('MDA1'!K85,'MDA4'!S85,'MDA3'!I85,'MDA3'!L85,'T1'!M85,'T2'!K85,T3_R1!L85,T3_R2!L85)","v":18271},{"$f":"MAX('MDA1'!L85,'MDA4'!T85,'MDA3'!J85,'MDA3'!M85,'T1'!N85,'T2'!L85,T3_R1!M85,T3_R2!M85)","v":0},18271,{"$f":"MAX('MDA4'!R85,T85)","v":0},{"$f":"MAX('MDA1'!K85,'MDA4'!S85,'MDA3'!I85,'MDA3'!L85,V85,AD85)","v":9011.5},{"$f":"MAX('MDA1'!L85,'MDA4'!T85,'MDA3'!J85,'MDA3'!M85,AF85)","v":0},9011.5,56.962345370762513]
[{"$f":"IF(COUNTRY_INFO!A86=0,\" \",COUNTRY_INFO!A86)","v":"Angola"},{"$f":"IF(COUNTRY_INFO!B86=0,\" \",COUNTRY_INFO!B86)","v":"HUILA"},{"$f":"IF(COUNTRY_INFO!C86=0,\" \",COUNTRY_INFO!C86)","v":"CACONDA"},{"$f":"COUNTRY_INFO!M86","v":0},null,null,{"$f":"MAX('MDA1'!M86,'MDA4'!U86)","v":0},{"$f":"IF(AND(COUNTRY_INFO!H86>0,COUNTRY_INFO!H86<4),IF(D86>MAX('MDA1'!M86,'MDA4'!U86),MAX('MDA1'!M86,'MDA4'!U86),D86),0)","v":0},{"$f":"IF(AND(COUNTRY_INFO!H86>0,COUNTRY_INFO!H86<4), IF(G86/D86*100<>0, IF(G86/D86*100>100,100,G86/D86*100), \"-\"),0)","v":0},{"$f":"COUNTRY_INFO!N86","v":"Unknown"},null,null,{"$f":"MAX('MDA1'!M86,MAX('MDA3'!I86,'MDA3'!L86)+MAX('MDA3'!J86,'MDA3'!M86))","v":0},{"$f":"IF(AND(COUNTRY_INFO!I86>0,COUNTRY_INFO!I86<4),IF(J86>MAX('MDA1'!M86,MAX('MDA3'!I86,'MDA3'!L86)+MAX('MDA3'!J86,'MDA3'!M86)),MAX('MDA1'!M86,MAX('MDA3'!I86,'MDA3'!L86)+MAX('MDA3'!J86,'MDA3'!M86)),J86),0)","v":0},{"$f":"IF(AND(COUNTRY_INFO!I86>0,COUNTRY_INFO!I86<4), IF(M86/J86*100<>0, IF(M86/J86*100>100,100,M86/J86*100), \"-\"),0)","v":0},{"$f":"COUNTRY_INFO!O86","v":86443},null,null,{"$f":"SUM(MAX('MDA4'!R86, 'T1'!L86, MAX(T3_R1!K86, T3_R2!K86)), MAX('MDA1'!K86, 'MDA4'!S86, 'T1'!M86, MAX(T3_R1!L86, T3_R2!L86)), MAX('MDA1'!L86, 'MDA4'!T86, 'T1'!N86, MAX(T3_R1!M86, T3_R2!M86)))","v":0},{"$f":"IF(AND(COUNTRY_INFO!J86>1,COUNTRY_INFO!J86<4),IF(COUNTRY_INFO!E86>MAX('MDA4'!R86,'T1'!L86,MAX(T3_R1!K86,T3_R2!K86)),MAX('MDA4'!R86,'T1'!L86,MAX(T3_R1!K86,T3_R2!K86)),COUNTRY_INFO!E86),0)","v":0},{"$f":"IF(AND(COUNTRY_INFO!J86>1,COUNTRY_INFO!J86<4), IF(T86/COUNTRY_INFO!E86*100<>0, IF(T86/COUNTRY_INFO!E86*100>100,100,T86/COUNTRY_INFO!E86*100), \"-\"),0)","v":"-"},{"$f":"IF(AND(COUNTRY_INFO!J86>1,COUNTRY_INFO!J86<4),IF(COUNTRY_INFO!F86>MAX('MDA1'!K86,'MDA4'!S86,'T1'!M86,MAX(T3_R1!L86,T3_R2!L86)),MAX('MDA1'!K86,'MDA4'!S86,'T1'!M86,MAX(T3_R1!L86,T3_R2!L86)),COUNTRY_INFO!F86),0)","v":0},{"$f":"IF(AND(COUNTRY_INFO!J86>1,COUNTRY_INFO!J86<4), IF(V86/COUNTRY_INFO!F86*100<>0, IF(V86/COUNTRY_INFO!F86*100>100,100,V86/COUNTRY_INFO!F86*100), \"-\"),0)","v":"-"},0,{"$f":"IF(AND(COUNTRY_INFO!J86>1,COUNTRY_INFO!J86<4), IF(S86/P86*100<>0, IF(X86/P86*100>100,100,X86/P86*100), \"-\"),0)","v":"-"},{"$f":"COUNTRY_INFO!P86","v":48223.199999999997},null,null,{"$f":"MAX('T1'!L86,'T2'!J86)+MAX('T1'!M86,'T2'!K86)+MAX('T1'!N86,'T2'!L86)","v":0},{"$f":"IF(COUNTRY_INFO!K86=1,IF(COUNTRY_INFO!F86*0.33>MAX('T1'!M86,'T2'!K86),MAX('T1'!M86,'T2'!K86),COUNTRY_INFO!F86*0.33),IF(COUNTRY_INFO!K86=2,IF(COUNTRY_INFO!F86*0.5>MAX('T1'!M86,'T2'!K86),MAX('T1'!M86,'T2'!K86),COUNTRY_INFO!F86*0.5),IF(COUNTRY_INFO!K86=3,IF(COUNTRY_INFO!F86>MAX('T1'!M86,'T2'!K86),MAX('T1'!M86,'T2'!K86),COUNTRY_INFO!F86),0)))","v":0},{"$f":"IF(AND(COUNTRY_INFO!K86>0,COUNTRY_INFO!L86<4),IF(Z86>0,IF(COUNTRY_INFO!K86=1, AD86/(COUNTRY_INFO!F86*0.33)*100, IF(COUNTRY_INFO!K86=2, AD86/(COUNTRY_INFO!F86*0.5)*100, IF(COUNTRY_INFO!K86=3, AD86/COUNTRY_INFO!F86*100))),\"-\"),0)","v":0},{"$f":"IF(COUNTRY_INFO!K86=2,IF(COUNTRY_INFO!G86*0.2>MAX('T1'!N86,'T2'!L86),MAX('T1'!N86,'T2'!L86),COUNTRY_INFO!G86*0.2),IF(COUNTRY_INFO!K86=3,IF(COUNTRY_INFO!G86>MAX('T1'!N86,'T2'!L86),MAX('T1'!N86,'T2'!L86),COUNTRY_INFO!G86),0))","v":0},{"$f":"IF(AND(COUNTRY_INFO!K86>0,COUNTRY_INFO!L86<4),IF(Z86>0,IF(COUNTRY_INFO!K86=1, 0, IF(COUNTRY_INFO!K86=2, AF86/(COUNTRY_INFO!G86*0.2)*100, IF(COUNTRY_INFO!K86=3, AF86/COUNTRY_INFO!G86*100))),\"-\"),0)","v":0},0,{"$f":"IF(AND(COUNTRY_INFO!K86>0,COUNTRY_INFO!K86<4), IF(AC86/Z86*100<>0, IF(AH86/Z86*100>100,100,AH86/Z86*100), \"-\"),0)","v":"-"},null,{"$f":"IF(AND(D86<>0, D86<>\"Unknown\",D86<>\"Stopped\",D86<>\"Not required\"),D86/COUNTRY_INFO!D86, 0)","v":0},{"$f":"IF(AND(J86<>0,J86<>\"Unknown\",J86<>\"Stopped\",J86<>\"Not required\"),J86/COUNTRY_INFO!D86, 0)","v":0},{"$f":"IF(AND(P86<>0,P86<>\"Unknown\",P86<>\"Not required\"),P86/(COUNTRY_INFO!E86+COUNTRY_INFO!F86), 0)","v":1},{"$f":"IF(AND(Z86<>0,Z86<>\"Unknown\",Z86<>\"Not required\"),IF(COUNTRY_INFO!K86=1,1,IF(COUNTRY_INFO!K86=2,0.5*COUNTRY_INFO!F86/(0.5*COUNTRY_INFO!F86+0.2*COUNTRY_INFO!G86),IF(COUNTRY_INFO!K86=3,COUNTRY_INFO!F86/(COUNTRY_INFO!F86+COUNTRY_INFO!G86)))),0)","v":0.56962209061198765},{"$f":"IF(AND(Z86<>0,Z86<>\"Unknown\",Z86<>\"Not required\"),IF(COUNTRY_INFO!K86=1,0,IF(COUNTRY_INFO!K86=2,0.2*COUNTRY_INFO!G86/(0.5*COUNTRY_INFO!F86+0.2*COUNTRY_INFO!G86),IF(COUNTRY_INFO!K86=3,COUNTRY_INFO!G86/(COUNTRY_INFO!F86+COUNTRY_INFO!G86)))),0)","v":0.43037790938801246},{"$f":"MAX(COUNTRY_INFO!D86*AK86*PROFILE!$G$7,COUNTRY_INFO!D86*AL86*PROFILE!$G$7)","v":0},{"$f":"MAX(COUNTRY_INFO!D86*AK86*PROFILE!$G$8,COUNTRY_INFO!D86*AL86*PROFILE!$G$8,COUNTRY_INFO!D86*AM86*PROFILE!$G$8)","v":31505.471613527236},{"$f":"MAX(COUNTRY_INFO!D86*AK86*PROFILE!$G$9,COUNTRY_INFO!D86*AL86*PROFILE!$G$9,COUNTRY_INFO!D86*AM86*PROFILE!$G$9,IF(AND(DISTRICT!Z86<>\"Unknown\",Z86<>\"Not required\"),COUNTRY_INFO!P86*DISTRICT!AN86,0))","v":54937.692396477592},{"$f":"MAX(COUNTRY_INFO!D86*AK86*PROFILE!$G$10,COUNTRY_INFO!D86*AL86*PROFILE!$G$10,IF(AND(DISTRICT!Z86<>\"Unknown\",Z86<>\"Not required\"),COUNTRY_INFO!P86*DISTRICT!AO86,0))","v":20754.2},107197.36401000482,0,{"$f":"MAX('MDA4'!R86,'T1'!L86,'T2'!J86,T3_R1!K86,T3_R2!K86)","v":0},{"$f":"MAX('MDA1'!K86,'MDA4'!S86,'MDA3'!I86,'MDA3'!L86,'T1'!M86,'T2'!K86,T3_R1!L86,T3_R2!L86)","v":0},{"$f":"MAX('MDA1'!L86,'MDA4'!T86,'MDA3'!J86,'MDA3'!M86,'T1'!N86,'T2'!L86,T3_R1!M86,T3_R2!M86)","v":0},0,{"$f":"MAX('MDA4'!R86,T86)","v":0},{"$f":"MAX('MDA1'!K86,'MDA4'!S86,'MDA3'!I86,'MDA3'!L86,V86,AD86)","v":0},{"$f":"MAX('MDA1'!L86,'MDA4'!T86,'MDA3'!J86,'MDA3'!M86,AF86)","v":0},0,0]
[{"$f":"IF(COUNTRY_INFO!A87=0,\" \",COUNTRY_INFO!A87)","v":"Angola"},{"$f":"IF(COUNTRY_INFO!B87=0,\" \",COUNTRY_INFO!B87)","v":"HUILA"},{"$f":"IF(COUNTRY_INFO!C87=0,\" \",COUNTRY_INFO!C87)","v":"CACULA"},{"$f":"COUNTRY_INFO!M87","v":0},null,null,{"$f":"MAX('MDA1'!M87,'MDA4'!U87)","v":0},{"$f":"IF(AND(COUNTRY_INFO!H87>0,COUNTRY_INFO!H87<4),IF(D87>MAX('MDA1'!M87,'MDA4'!U87),MAX('MDA1'!M87,'MDA4'!U87),D87),0)","v":0},{"$f":"IF(AND(COUNTRY_INFO!H87>0,COUNTRY_INFO!H87<4), IF(G87/D87*100<>0, IF(G87/D87*100>100,100,G87/D87*100), \"-\"),0)","v":0},{"$f":"COUNTRY_INFO!N87","v":"Unknown"},null,null,{"$f":"MAX('MDA1'!M87,MAX('MDA3'!I87,'MDA3'!L87)+MAX('MDA3'!J87,'MDA3'!M87))","v":0},{"$f":"IF(AND(COUNTRY_INFO!I87>0,COUNTRY_INFO!I87<4),IF(J87>MAX('MDA1'!M87,MAX('MDA3'!I87,'MDA3'!L87)+MAX('MDA3'!J87,'MDA3'!M87)),MAX('MDA1'!M87,MAX('MDA3'!I87,'MDA3'!L87)+MAX('MDA3'!J87,'MDA3'!M87)),J87),0)","v":0},{"$f":"IF(AND(COUNTRY_INFO!I87>0,COUNTRY_INFO!I87<4), IF(M87/J87*100<>0, IF(M87/J87*100>100,100,M87/J87*100), \"-\"),0)","v":0},{"$f":"COUNTRY_INFO!O87","v":70556},null,null,{"$f":"SUM(MAX('MDA4'!R87, 'T1'!L87, MAX(T3_R1!K87, T3_R2!K87)), MAX('MDA1'!K87, 'MDA4'!S87, 'T1'!M87, MAX(T3_R1!L87, T3_R2!L87)), MAX('MDA1'!L87, 'MDA4'!T87, 'T1'!N87, MAX(T3_R1!M87, T3_R2!M87)))","v":0},{"$f":"IF(AND(COUNTRY_INFO!J87>1,COUNTRY_INFO!J87<4),IF(COUNTRY_INFO!E87>MAX('MDA4'!R87,'T1'!L87,MAX(T3_R1!K87,T3_R2!K87)),MAX('MDA4'!R87,'T1'!L87,MAX(T3_R1!K87,T3_R2!K87)),COUNTRY_INFO!E87),0)","v":0},{"$f":"IF(AND(COUNTRY_INFO!J87>1,COUNTRY_INFO!J87<4), IF(T87/COUNTRY_INFO!E87*100<>0, IF(T87/COUNTRY_INFO!E87*100>100,100,T87/COUNTRY_INFO!E87*100), \"-\"),0)","v":"-"},{"$f":"IF(AND(COUNTRY_INFO!J87>1,COUNTRY_INFO!J87<4),IF(COUNTRY_INFO!F87>MAX('MDA1'!K87,'MDA4'!S87,'T1'!M87,MAX(T3_R1!L87,T3_R2!L87)),MAX('MDA1'!K87,'MDA4'!S87,'T1'!M87,MAX(T3_R1!L87,T3_R2!L87)),COUNTRY_INFO!F87),0)","v":0},{"$f":"IF(AND(COUNTRY_INFO!J87>1,COUNTRY_INFO!J87<4), IF(V87/COUNTRY_INFO!F87*100<>0, IF(V87/COUNTRY_INFO!F87*100>100,100,V87/COUNTRY_INFO!F87*100), \"-\"),0)","v":"-"},0,{"$f":"IF(AND(COUNTRY_INFO!J87>1,COUNTRY_INFO!J87<4), IF(S87/P87*100<>0, IF(X87/P87*100>100,100,X87/P87*100), \"-\"),0)","v":"-"},{"$f":"COUNTRY_INFO!P87","v":39360.5},null,null,{"$f":"MAX('T1'!L87,'T2'!J87)+MAX('T1'!M87,'T2'!K87)+MAX('T1'!N87,'T2'!L87)","v":0},{"$f":"IF(COUNTRY_INFO!K87=1,IF(COUNTRY_INFO!F87*0.33>MAX('T1'!M87,'T2'!K87),MAX('T1'!M87,'T2'!K87),COUNTRY_INFO!F87*0.33),IF(COUNTRY_INFO!K87=2,IF(COUNTRY_INFO!F87*0.5>MAX('T1'!M87,'T2'!K87),MAX('T1'!M87,'T2'!K87),COUNTRY_INFO!F87*0.5),IF(COUNTRY_INFO!K87=3,IF(COUNTRY_INFO!F87>MAX('T1'!M87,'T2'!K87),MAX('T1'!M87,'T2'!K87),COUNTRY_INFO!F87),0)))","v":0},{"$f":"IF(AND(COUNTRY_INFO!K87>0,COUNTRY_INFO!L87<4),IF(Z87>0,IF(COUNTRY_INFO!K87=1, AD87/(COUNTRY_INFO!F87*0.33)*100, IF(COUNTRY_INFO!K87=2, AD87/(COUNTRY_INFO!F87*0.5)*100, IF(COUNTRY_INFO!K87=3, AD87/COUNTRY_INFO!F87*100))),\"-\"),0)","v":0},{"$f":"IF(COUNTRY_INFO!K87=2,IF(COUNTRY_INFO!G87*0.2>MAX('T1'!N87,'T2'!L87),MAX('T1'!N87,'T2'!L87),COUNTRY_INFO!G87*0.2),IF(COUNTRY_INFO!K87=3,IF(COUNTRY_INFO!G87>MAX('T1'!N87,'T2'!L87),MAX('T1'!N87,'T2'!L87),COUNTRY_INFO!G87),0))","v":0},{"$f":"IF(AND(COUNTRY_INFO!K87>0,COUNTRY_INFO!L87<4),IF(Z87>0,IF(COUNTRY_INFO!K87=1, 0, IF(COUNTRY_INFO!K87=2, AF87/(COUNTRY_INFO!G87*0.2)*100, IF(COUNTRY_INFO!K87=3, AF87/COUNTRY_INFO!G87*100))),\"-\"),0)","v":0},0,{"$f":"IF(AND(COUNTRY_INFO!K87>0,COUNTRY_INFO!K87<4), IF(AC87/Z87*100<>0, IF(AH87/Z87*100>100,100,AH87/Z87*100), \"-\"),0)","v":"-"},null,{"$f":"IF(AND(D87<>0, D87<>\"Unknown\",D87<>\"Stopped\",D87<>\"Not required\"),D87/COUNTRY_INFO!D87, 0)","v":0},{"$f":"IF(AND(J87<>0,J87<>\"Unknown\",J87<>\"Stopped\",J87<>\"Not required\"),J87/COUNTRY_INFO!D87, 0)","v":0},{"$f":"IF(AND(P87<>0,P87<>\"Unknown\",P87<>\"Not required\"),P87/(COUNTRY_INFO!E87+COUNTRY_INFO!F87), 0)","v":1},{"$f":"IF(AND(Z87<>0,Z87<>\"Unknown\",Z87<>\"Not required\"),IF(COUNTRY_INFO!K87=1,1,IF(COUNTRY_INFO!K87=2,0.5*COUNTRY_INFO!F87/(0.5*COUNTRY_INFO!F87+0.2*COUNTRY_INFO!G87),IF(COUNTRY_INFO!K87=3,COUNTRY_INFO!F87/(COUNTRY_INFO!F87+COUNTRY_INFO!G87)))),0)","v":0.56961928837286113},{"$f":"IF(AND(Z87<>0,Z87<>\"Unknown\",Z87<>\"Not required\"),IF(COUNTRY_INFO!K87=1,0,IF(COUNTRY_INFO!K87=2,0.2*COUNTRY_INFO!G87/(0.5*COUNTRY_INFO!F87+0.2*COUNTRY_INFO!G87),IF(COUNTRY_INFO!K87=3,COUNTRY_INFO!G87/(COUNTRY_INFO!F87+COUNTRY_INFO!G87)))),0)","v":0.43038071162713887},{"$f":"MAX(COUNTRY_INFO!D87*AK87*PROFILE!$G$7,COUNTRY_INFO!D87*AL87*PROFILE!$G$7)","v":0},{"$f":"MAX(COUNTRY_INFO!D87*AK87*PROFILE!$G$8,COUNTRY_INFO!D87*AL87*PROFILE!$G$8,COUNTRY_INFO!D87*AM87*PROFILE!$G$8)","v":25715.200722238827},{"$f":"MAX(COUNTRY_INFO!D87*AK87*PROFILE!$G$9,COUNTRY_INFO!D87*AL87*PROFILE!$G$9,COUNTRY_INFO!D87*AM87*PROFILE!$G$9,IF(AND(DISTRICT!Z87<>\"Unknown\",Z87<>\"Not required\"),COUNTRY_INFO!P87*DISTRICT!AN87,0))","v":44840.902701658386},{"$f":"MAX(COUNTRY_INFO!D87*AK87*PROFILE!$G$10,COUNTRY_INFO!D87*AL87*PROFILE!$G$10,IF(AND(DISTRICT!Z87<>\"Unknown\",Z87<>\"Not required\"),COUNTRY_INFO!P87*DISTRICT!AO87,0))","v":16940},87496.103423897206,0,{"$f":"MAX('MDA4'!R87,'T1'!L87,'T2'!J87,T3_R1!K87,T3_R2!K87)","v":0},{"$f":"MAX('MDA1'!K87,'MDA4'!S87,'MDA3'!I87,'MDA3'!L87,'T1'!M87,'T2'!K87,T3_R1!L87,T3_R2!L87)","v":0},{"$f":"MAX('MDA1'!L87,'MDA4'!T87,'MDA3'!J87,'MDA3'!M87,'T1'!N87,'T2'!L87,T3_R1!M87,T3_R2!M87)","v":0},0,{"$f":"MAX('MDA4'!R87,T87)","v":0},{"$f":"MAX('MDA1'!K87,'MDA4'!S87,'MDA3'!I87,'MDA3'!L87,V87,AD87)","v":0},{"$f":"MAX('MDA1'!L87,'MDA4'!T87,'MDA3'!J87,'MDA3'!M87,AF87)","v":0},0,0]
[{"$f":"IF(COUNTRY_INFO!A88=0,\" \",COUNTRY_INFO!A88)","v":"Angola"},{"$f":"IF(COUNTRY_INFO!B88=0,\" \",COUNTRY_INFO!B88)","v":"HUILA"},{"$f":"IF(COUNTRY_INFO!C88=0,\" \",COUNTRY_INFO!C88)","v":"CALUQUEMBE"},{"$f":"COUNTRY_INFO!M88","v":0},null,null,{"$f":"MAX('MDA1'!M88,'MDA4'!U88)","v":0},{"$f":"IF(AND(COUNTRY_INFO!H88>0,COUNTRY_INFO!H88<4),IF(D88>MAX('MDA1'!M88,'MDA4'!U88),MAX('MDA1'!M88,'MDA4'!U88),D88),0)","v":0},{"$f":"IF(AND(COUNTRY_INFO!H88>0,COUNTRY_INFO!H88<4), IF(G88/D88*100<>0, IF(G88/D88*100>100,100,G88/D88*100), \"-\"),0)","v":0},{"$f":"COUNTRY_INFO!N88","v":211119.6490237065},null,null,{"$f":"MAX('MDA1'!M88,MAX('MDA3'!I88,'MDA3'!L88)+MAX('MDA3'!J88,'MDA3'!M88))","v":0},{"$f":"IF(AND(COUNTRY_INFO!I88>0,COUNTRY_INFO!I88<4),IF(J88>MAX('MDA1'!M88,MAX('MDA3'!I88,'MDA3'!L88)+MAX('MDA3'!J88,'MDA3'!M88)),MAX('MDA1'!M88,MAX('MDA3'!I88,'MDA3'!L88)+MAX('MDA3'!J88,'MDA3'!M88)),J88),0)","v":0},{"$f":"IF(AND(COUNTRY_INFO!I88>0,COUNTRY_INFO!I88<4), IF(M88/J88*100<>0, IF(M88/J88*100>100,100,M88/J88*100), \"-\"),0)","v":"-"},{"$f":"COUNTRY_INFO!O88","v":92681},null,null,{"$f":"SUM(MAX('MDA4'!R88, 'T1'!L88, MAX(T3_R1!K88, T3_R2!K88)), MAX('MDA1'!K88, 'MDA4'!S88, 'T1'!M88, MAX(T3_R1!L88, T3_R2!L88)), MAX('MDA1'!L88, 'MDA4'!T88, 'T1'!N88, MAX(T3_R1!M88, T3_R2!M88)))","v":0},{"$f":"IF(AND(COUNTRY_INFO!J88>1,COUNTRY_INFO!J88<4),IF(COUNTRY_INFO!E88>MAX('MDA4'!R88,'T1'!L88,MAX(T3_R1!K88,T3_R2!K88)),MAX('MDA4'!R88,'T1'!L88,MAX(T3_R1!K88,T3_R2!K88)),COUNTRY_INFO!E88),0)","v":0},{"$f":"IF(AND(COUNTRY_INFO!J88>1,COUNTRY_INFO!J88<4), IF(T88/COUNTRY_INFO!E88*100<>0, IF(T88/COUNTRY_INFO!E88*100>100,100,T88/COUNTRY_INFO!E88*100), \"-\"),0)","v":"-"},{"$f":"IF(AND(COUNTRY_INFO!J88>1,COUNTRY_INFO!J88<4),IF(COUNTRY_INFO!F88>MAX('MDA1'!K88,'MDA4'!S88,'T1'!M88,MAX(T3_R1!L88,T3_R2!L88)),MAX('MDA1'!K88,'MDA4'!S88,'T1'!M88,MAX(T3_R1!L88,T3_R2!L88)),COUNTRY_INFO!F88),0)","v":0},{"$f":"IF(AND(COUNTRY_INFO!J88>1,COUNTRY_INFO!J88<4), IF(V88/COUNTRY_INFO!F88*100<>0, IF(V88/COUNTRY_INFO!F88*100>100,100,V88/COUNTRY_INFO!F88*100), \"-\"),0)","v":"-"},0,{"$f":"IF(AND(COUNTRY_INFO!J88>1,COUNTRY_INFO!J88<4), IF(S88/P88*100<>0, IF(X88/P88*100>100,100,X88/P88*100), \"-\"),0)","v":"-"},{"$f":"COUNTRY_INFO!P88","v":51703},null,null,{"$f":"MAX('T1'!L88,'T2'!J88)+MAX('T1'!M88,'T2'!K88)+MAX('T1'!N88,'T2'!L88)","v":0},{"$f":"IF(COUNTRY_INFO!K88=1,IF(COUNTRY_INFO!F88*0.33>MAX('T1'!M88,'T2'!K88),MAX('T1'!M88,'T2'!K88),COUNTRY_INFO!F88*0.33),IF(COUNTRY_INFO!K88=2,IF(COUNTRY_INFO!F88*0.5>MAX('T1'!M88,'T2'!K88),MAX('T1'!M88,'T2'!K88),COUNTRY_INFO!F88*0.5),IF(COUNTRY_INFO!K88=3,IF(COUNTRY_INFO!F88>MAX('T1'!M88,'T2'!K88),MAX('T1'!M88,'T2'!K88),COUNTRY_INFO!F88),0)))","v":0},{"$f":"IF(AND(COUNTRY_INFO!K88>0,COUNTRY_INFO!L88<4),IF(Z88>0,IF(COUNTRY_INFO!K88=1, AD88/(COUNTRY_INFO!F88*0.33)*100, IF(COUNTRY_INFO!K88=2, AD88/(COUNTRY_INFO!F88*0.5)*100, IF(COUNTRY_INFO!K88=3, AD88/COUNTRY_INFO!F88*100))),\"-\"),0)","v":0},{"$f":"IF(COUNTRY_INFO!K88=2,IF(COUNTRY_INFO!G88*0.2>MAX('T1'!N88,'T2'!L88),MAX('T1'!N88,'T2'!L88),COUNTRY_INFO!G88*0.2),IF(COUNTRY_INFO!K88=3,IF(COUNTRY_INFO!G88>MAX('T1'!N88,'T2'!L88),MAX('T1'!N88,'T2'!L88),COUNTRY_INFO!G88),0))","v":0},{"$f":"IF(AND(COUNTRY_INFO!K88>0,COUNTRY_INFO!L88<4),IF(Z88>0,IF(COUNTRY_INFO!K88=1, 0, IF(COUNTRY_INFO!K88=2, AF88/(COUNTRY_INFO!G88*0.2)*100, IF(COUNTRY_INFO!K88=3, AF88/COUNTRY_INFO!G88*100))),\"-\"),0)","v":0},0,{"$f":"IF(AND(COUNTRY_INFO!K88>0,COUNTRY_INFO!K88<4), IF(AC88/Z88*100<>0, IF(AH88/Z88*100>100,100,AH88/Z88*100), \"-\"),0)","v":"-"},null,{"$f":"IF(AND(D88<>0, D88<>\"Unknown\",D88<>\"Stopped\",D88<>\"Not required\"),D88/COUNTRY_INFO!D88, 0)","v":0},{"$f":"IF(AND(J88<>0,J88<>\"Unknown\",J88<>\"Stopped\",J88<>\"Not required\"),J88/COUNTRY_INFO!D88, 0)","v":1},{"$f":"IF(AND(P88<>0,P88<>\"Unknown\",P88<>\"Not required\"),P88/(COUNTRY_INFO!E88+COUNTRY_INFO!F88), 0)","v":1},{"$f":"IF(AND(Z88<>0,Z88<>\"Unknown\",Z88<>\"Not required\"),IF(COUNTRY_INFO!K88=1,1,IF(COUNTRY_INFO!K88=2,0.5*COUNTRY_INFO!F88/(0.5*COUNTRY_INFO!F88+0.2*COUNTRY_INFO!G88),IF(COUNTRY_INFO!K88=3,COUNTRY_INFO!F88/(COUNTRY_INFO!F88+COUNTRY_INFO!G88)))),0)","v":0.56961878420981371},{"$f":"IF(AND(Z88<>0,Z88<>\"Unknown\",Z88<>\"Not required\"),IF(COUNTRY_INFO!K88=1,0,IF(COUNTRY_INFO!K88=2,0.2*COUNTRY_INFO!G88/(0.5*COUNTRY_INFO!F88+0.2*COUNTRY_INFO!G88),IF(COUNTRY_INFO!K88=3,COUNTRY_INFO!G88/(COUNTRY_INFO!F88+COUNTRY_INFO!G88)))),0)","v":0.43038121579018623},{"$f":"MAX(COUNTRY_INFO!D88*AK88*PROFILE!$G$7,COUNTRY_INFO!D88*AL88*PROFILE!$G$7)","v":7178.1193984103857},{"$f":"MAX(COUNTRY_INFO!D88*AK88*PROFILE!$G$8,COUNTRY_INFO!D88*AL88*PROFILE!$G$8,COUNTRY_INFO!D88*AM88*PROFILE!$G$8)","v":33779.114604299655},{"$f":"MAX(COUNTRY_INFO!D88*AK88*PROFILE!$G$9,COUNTRY_INFO!D88*AL88*PROFILE!$G$9,COUNTRY_INFO!D88*AM88*PROFILE!$G$9,IF(AND(DISTRICT!Z88<>\"Unknown\",Z88<>\"Not required\"),COUNTRY_INFO!P88*DISTRICT!AN88,0))","v":58902.359257481876},{"$f":"MAX(COUNTRY_INFO!D88*AK88*PROFILE!$G$10,COUNTRY_INFO!D88*AL88*PROFILE!$G$10,IF(AND(DISTRICT!Z88<>\"Unknown\",Z88<>\"Not required\"),COUNTRY_INFO!P88*DISTRICT!AO88,0))","v":111260.05576351458},211119.6490237065,0,{"$f":"MAX('MDA4'!R88,'T1'!L88,'T2'!J88,T3_R1!K88,T3_R2!K88)","v":0},{"$f":"MAX('MDA1'!K88,'MDA4'!S88,'MDA3'!I88,'MDA3'!L88,'T1'!M88,'T2'!K88,T3_R1!L88,T3_R2!L88)","v":0},{"$f":"MAX('MDA1'!L88,'MDA4'!T88,'MDA3'!J88,'MDA3'!M88,'T1'!N88,'T2'!L88,T3_R1!M88,T3_R2!M88)","v":0},0,{"$f":"MAX('MDA4'!R88,T88)","v":0},{"$f":"MAX('MDA1'!K88,'MDA4'!S88,'MDA3'!I88,'MDA3'!L88,V88,AD88)","v":0},{"$f":"MAX('MDA1'!L88,'MDA4'!T88,'MDA3'!J88,'MDA3'!M88,AF88)","v":0},0,0]
[{"$f":"IF(COUNTRY_INFO!A89=0,\" \",COUNTRY_INFO!A89)","v":"Angola"},{"$f":"IF(COUNTRY_INFO!B89=0,\" \",COUNTRY_INFO!B89)","v":"HUILA"},{"$f":"IF(COUNTRY_INFO!C89=0,\" \",COUNTRY_INFO!C89)","v":"CHIBIA"},{"$f":"COUNTRY_INFO!M89","v":0},null,null,{"$f":"MAX('MDA1'!M89,'MDA4'!U89)","v":0},{"$f":"IF(AND(COUNTRY_INFO!H89>0,COUNTRY_INFO!H89<4),IF(D89>MAX('MDA1'!M89,'MDA4'!U89),MAX('MDA1'!M89,'MDA4'!U89),D89),0)","v":0},{"$f":"IF(AND(COUNTRY_INFO!H89>0,COUNTRY_INFO!H89<4), IF(G89/D89*100<>0, IF(G89/D89*100>100,100,G89/D89*100), \"-\"),0)","v":0},{"$f":"COUNTRY_INFO!N89","v":"Unknown"},null,null,{"$f":"MAX('MDA1'!M89,MAX('MDA3'!I89,'MDA3'!L89)+MAX('MDA3'!J89,'MDA3'!M89))","v":0},{"$f":"IF(AND(COUNTRY_INFO!I89>0,COUNTRY_INFO!I89<4),IF(J89>MAX('MDA1'!M89,MAX('MDA3'!I89,'MDA3'!L89)+MAX('MDA3'!J89,'MDA3'!M89)),MAX('MDA1'!M89,MAX('MDA3'!I89,'MDA3'!L89)+MAX('MDA3'!J89,'MDA3'!M89)),J89),0)","v":0},{"$f":"IF(AND(COUNTRY_INFO!I89>0,COUNTRY_INFO!I89<4), IF(M89/J89*100<>0, IF(M89/J89*100>100,100,M89/J89*100), \"-\"),0)","v":0},{"$f":"COUNTRY_INFO!O89","v":85430},null,null,{"$f":"SUM(MAX('MDA4'!R89, 'T1'!L89, MAX(T3_R1!K89, T3_R2!K89)), MAX('MDA1'!K89, 'MDA4'!S89, 'T1'!M89, MAX(T3_R1!L89, T3_R2!L89)), MAX('MDA1'!L89, 'MDA4'!T89, 'T1'!N89, MAX(T3_R1!M89, T3_R2!M89)))","v":0},{"$f":"IF(AND(COUNTRY_INFO!J89>1,COUNTRY_INFO!J89<4),IF(COUNTRY_INFO!E89>MAX('MDA4'!R89,'T1'!L89,MAX(T3_R1!K89,T3_R2!K89)),MAX('MDA4'!R89,'T1'!L89,MAX(T3_R1!K89,T3_R2!K89)),COUNTRY_INFO!E89),0)","v":0},{"$f":"IF(AND(COUNTRY_INFO!J89>1,COUNTRY_INFO!J89<4), IF(T89/COUNTRY_INFO!E89*100<>0, IF(T89/COUNTRY_INFO!E89*100>100,100,T89/COUNTRY_INFO!E89*100), \"-\"),0)","v":"-"},{"$f":"IF(AND(COUNTRY_INFO!J89>1,COUNTRY_INFO!J89<4),IF(COUNTRY_INFO!F89>MAX('MDA1'!K89,'MDA4'!S89,'T1'!M89,MAX(T3_R1!L89,T3_R2!L89)),MAX('MDA1'!K89,'MDA4'!S89,'T1'!M89,MAX(T3_R1!L89,T3_R2!L89)),COUNTRY_INFO!F89),0)","v":0},{"$f":"IF(AND(COUNTRY_INFO!J89>1,COUNTRY_INFO!J89<4), IF(V89/COUNTRY_INFO!F89*100<>0, IF(V89/COUNTRY_INFO!F89*100>100,100,V89/COUNTRY_INFO!F89*100), \"-\"),0)","v":"-"},0,{"$f":"IF(AND(COUNTRY_INFO!J89>1,COUNTRY_INFO!J89<4), IF(S89/P89*100<>0, IF(X89/P89*100>100,100,X89/P89*100), \"-\"),0)","v":"-"},{"$f":"COUNTRY_INFO!P89","v":47658},null,null,{"$f":"MAX('T1'!L89,'T2'!J89)+MAX('T1'!M89,'T2'!K89)+MAX('T1'!N89,'T2'!L89)","v":0},{"$f":"IF(COUNTRY_INFO!K89=1,IF(COUNTRY_INFO!F89*0.33>MAX('T1'!M89,'T2'!K89),MAX('T1'!M89,'T2'!K89),COUNTRY_INFO!F89*0.33),IF(COUNTRY_INFO!K89=2,IF(COUNTRY_INFO!F89*0.5>MAX('T1'!M89,'T2'!K89),MAX('T1'!M89,'T2'!K89),COUNTRY_INFO!F89*0.5),IF(COUNTRY_INFO!K89=3,IF(COUNTRY_INFO!F89>MAX('T1'!M89,'T2'!K89),MAX('T1'!M89,'T2'!K89),COUNTRY_INFO!F89),0)))","v":0},{"$f":"IF(AND(COUNTRY_INFO!K89>0,COUNTRY_INFO!L89<4),IF(Z89>0,IF(COUNTRY_INFO!K89=1, AD89/(COUNTRY_INFO!F89*0.33)*100, IF(COUNTRY_INFO!K89=2, AD89/(COUNTRY_INFO!F89*0.5)*100, IF(COUNTRY_INFO!K89=3, AD89/COUNTRY_INFO!F89*100))),\"-\"),0)","v":0},{"$f":"IF(COUNTRY_INFO!K89=2,IF(COUNTRY_INFO!G89*0.2>MAX('T1'!N89,'T2'!L89),MAX('T1'!N89,'T2'!L89),COUNTRY_INFO!G89*0.2),IF(COUNTRY_INFO!K89=3,IF(COUNTRY_INFO!G89>MAX('T1'!N89,'T2'!L89),MAX('T1'!N89,'T2'!L89),COUNTRY_INFO!G89),0))","v":0},{"$f":"IF(AND(COUNTRY_INFO!K89>0,COUNTRY_INFO!L89<4),IF(Z89>0,IF(COUNTRY_INFO!K89=1, 0, IF(COUNTRY_INFO!K89=2, AF89/(COUNTRY_INFO!G89*0.2)*100, IF(COUNTRY_INFO!K89=3, AF89/COUNTRY_INFO!G89*100))),\"-\"),0)","v":0},0,{"$f":"IF(AND(COUNTRY_INFO!K89>0,COUNTRY_INFO!K89<4), IF(AC89/Z89*100<>0, IF(AH89/Z89*100>100,100,AH89/Z89*100), \"-\"),0)","v":"-"},null,{"$f":"IF(AND(D89<>0, D89<>\"Unknown\",D89<>\"Stopped\",D89<>\"Not required\"),D89/COUNTRY_INFO!D89, 0)","v":0},{"$f":"IF(AND(J89<>0,J89<>\"Unknown\",J89<>\"Stopped\",J89<>\"Not required\"),J89/COUNTRY_INFO!D89, 0)","v":0},{"$f":"IF(AND(P89<>0,P89<>\"Unknown\",P89<>\"Not required\"),P89/(COUNTRY_INFO!E89+COUNTRY_INFO!F89), 0)","v":1},{"$f":"IF(AND(Z89<>0,Z89<>\"Unknown\",Z89<>\"Not required\"),IF(COUNTRY_INFO!K89=1,1,IF(COUNTRY_INFO!K89=2,0.5*COUNTRY_INFO!F89/(0.5*COUNTRY_INFO!F89+0.2*COUNTRY_INFO!G89),IF(COUNTRY_INFO!K89=3,COUNTRY_INFO!F89/(COUNTRY_INFO!F89+COUNTRY_INFO!G89)))),0)","v":0.5696210499811154},{"$f":"IF(AND(Z89<>0,Z89<>\"Unknown\",Z89<>\"Not required\"),IF(COUNTRY_INFO!K89=1,0,IF(COUNTRY_INFO!K89=2,0.2*COUNTRY_INFO!G89/(0.5*COUNTRY_INFO!F89+0.2*COUNTRY_INFO!G89),IF(COUNTRY_INFO!K89=3,COUNTRY_INFO!G89/(COUNTRY_INFO!F89+COUNTRY_INFO!G89)))),0)","v":0.43037895001888454},{"$f":"MAX(COUNTRY_INFO!D89*AK89*PROFILE!$G$7,COUNTRY_INFO!D89*AL89*PROFILE!$G$7)","v":0},{"$f":"MAX(COUNTRY_INFO!D89*AK89*PROFILE!$G$8,COUNTRY_INFO!D89*AL89*PROFILE!$G$8,COUNTRY_INFO!D89*AM89*PROFILE!$G$8)","v":31136.199401253325},{"$f":"MAX(COUNTRY_INFO!D89*AK89*PROFILE!$G$9,COUNTRY_INFO!D89*AL89*PROFILE!$G$9,COUNTRY_INFO!D89*AM89*PROFILE!$G$9,IF(AND(DISTRICT!Z89<>\"Unknown\",Z89<>\"Not required\"),COUNTRY_INFO!P89*DISTRICT!AN89,0))","v":54293.77366841257},{"$f":"MAX(COUNTRY_INFO!D89*AK89*PROFILE!$G$10,COUNTRY_INFO!D89*AL89*PROFILE!$G$10,IF(AND(DISTRICT!Z89<>\"Unknown\",Z89<>\"Not required\"),COUNTRY_INFO!P89*DISTRICT!AO89,0))","v":20511},105940.9730696659,0,{"$f":"MAX('MDA4'!R89,'T1'!L89,'T2'!J89,T3_R1!K89,T3_R2!K89)","v":0},{"$f":"MAX('MDA1'!K89,'MDA4'!S89,'MDA3'!I89,'MDA3'!L89,'T1'!M89,'T2'!K89,T3_R1!L89,T3_R2!L89)","v":0},{"$f":"MAX('MDA1'!L89,'MDA4'!T89,'MDA3'!J89,'MDA3'!M89,'T1'!N89,'T2'!L89,T3_R1!M89,T3_R2!M89)","v":0},0,{"$f":"MAX('MDA4'!R89,T89)","v":0},{"$f":"MAX('MDA1'!K89,'MDA4'!S89,'MDA3'!I89,'MDA3'!L89,V89,AD89)","v":0},{"$f":"MAX('MDA1'!L89,'MDA4'!T89,'MDA3'!J89,'MDA3'!M89,AF89)","v":0},0,0]
[{"$f":"IF(COUNTRY_INFO!A90=0,\" \",COUNTRY_INFO!A90)","v":"Angola"},{"$f":"IF(COUNTRY_INFO!B90=0,\" \",COUNTRY_INFO!B90)","v":"HUILA"},{"$f":"IF(COUNTRY_INFO!C90=0,\" \",COUNTRY_INFO!C90)","v":"CHICOMBA"},{"$f":"COUNTRY_INFO!M90","v":0},null,null,{"$f":"MAX('MDA1'!M90,'MDA4'!U90)","v":0},{"$f":"IF(AND(COUNTRY_INFO!H90>0,COUNTRY_INFO!H90<4),IF(D90>MAX('MDA1'!M90,'MDA4'!U90),MAX('MDA1'!M90,'MDA4'!U90),D90),0)","v":0},{"$f":"IF(AND(COUNTRY_INFO!H90>0,COUNTRY_INFO!H90<4), IF(G90/D90*100<>0, IF(G90/D90*100>100,100,G90/D90*100), \"-\"),0)","v":0},{"$f":"COUNTRY_INFO!N90","v":154653.99280206129},null,null,{"$f":"MAX('MDA1'!M90,MAX('MDA3'!I90,'MDA3'!L90)+MAX('MDA3'!J90,'MDA3'!M90))","v":0},{"$f":"IF(AND(COUNTRY_INFO!I90>0,COUNTRY_INFO!I90<4),IF(J90>MAX('MDA1'!M90,MAX('MDA3'!I90,'MDA3'!L90)+MAX('MDA3'!J90,'MDA3'!M90)),MAX('MDA1'!M90,MAX('MDA3'!I90,'MDA3'!L90)+MAX('MDA3'!J90,'MDA3'!M90)),J90),0)","v":0},{"$f":"IF(AND(COUNTRY_INFO!I90>0,COUNTRY_INFO!I90<4), IF(M90/J90*100<>0, IF(M90/J90*100>100,100,M90/J90*100), \"-\"),0)","v":"-"},{"$f":"COUNTRY_INFO!O90","v":67893},null,null,{"$f":"SUM(MAX('MDA4'!R90, 'T1'!L90, MAX(T3_R1!K90, T3_R2!K90)), MAX('MDA1'!K90, 'MDA4'!S90, 'T1'!M90, MAX(T3_R1!L90, T3_R2!L90)), MAX('MDA1'!L90, 'MDA4'!T90, 'T1'!N90, MAX(T3_R1!M90, T3_R2!M90)))","v":0},{"$f":"IF(AND(COUNTRY_INFO!J90>1,COUNTRY_INFO!J90<4),IF(COUNTRY_INFO!E90>MAX('MDA4'!R90,'T1'!L90,MAX(T3_R1!K90,T3_R2!K90)),MAX('MDA4'!R90,'T1'!L90,MAX(T3_R1!K90,T3_R2!K90)),COUNTRY_INFO!E90),0)","v":0},{"$f":"IF(AND(COUNTRY_INFO!J90>1,COUNTRY_INFO!J90<4), IF(T90/COUNTRY_INFO!E90*100<>0, IF(T90/COUNTRY_INFO!E90*100>100,100,T90/COUNTRY_INFO!E90*100), \"-\"),0)","v":"-"},{"$f":"IF(AND(COUNTRY_INFO!J90>1,COUNTRY_INFO!J90<4),IF(COUNTRY_INFO!F90>MAX('MDA1'!K90,'MDA4'!S90,'T1'!M90,MAX(T3_R1!L90,T3_R2!L90)),MAX('MDA1'!K90,'MDA4'!S90,'T1'!M90,MAX(T3_R1!L90,T3_R2!L90)),COUNTRY_INFO!F90),0)","v":0},{"$f":"IF(AND(COUNTRY_INFO!J90>1,COUNTRY_INFO!J90<4), IF(V90/COUNTRY_INFO!F90*100<>0, IF(V90/COUNTRY_INFO!F90*100>100,100,V90/COUNTRY_INFO!F90*100), \"-\"),0)","v":"-"},0,{"$f":"IF(AND(COUNTRY_INFO!J90>1,COUNTRY_INFO!J90<4), IF(S90/P90*100<>0, IF(X90/P90*100>100,100,X90/P90*100), \"-\"),0)","v":"-"},{"$f":"COUNTRY_INFO!P90","v":37874.6},null,null,{"$f":"MAX('T1'!L90,'T2'!J90)+MAX('T1'!M90,'T2'!K90)+MAX('T1'!N90,'T2'!L90)","v":0},{"$f":"IF(COUNTRY_INFO!K90=1,IF(COUNTRY_INFO!F90*0.33>MAX('T1'!M90,'T2'!K90),MAX('T1'!M90,'T2'!K90),COUNTRY_INFO!F90*0.33),IF(COUNTRY_INFO!K90=2,IF(COUNTRY_INFO!F90*0.5>MAX('T1'!M90,'T2'!K90),MAX('T1'!M90,'T2'!K90),COUNTRY_INFO!F90*0.5),IF(COUNTRY_INFO!K90=3,IF(COUNTRY_INFO!F90>MAX('T1'!M90,'T2'!K90),MAX('T1'!M90,'T2'!K90),COUNTRY_INFO!F90),0)))","v":0},{"$f":"IF(AND(COUNTRY_INFO!K90>0,COUNTRY_INFO!L90<4),IF(Z90>0,IF(COUNTRY_INFO!K90=1, AD90/(COUNTRY_INFO!F90*0.33)*100, IF(COUNTRY_INFO!K90=2, AD90/(COUNTRY_INFO!F90*0.5)*100, IF(COUNTRY_INFO!K90=3, AD90/COUNTRY_INFO!F90*100))),\"-\"),0)","v":0},{"$f":"IF(COUNTRY_INFO!K90=2,IF(COUNTRY_INFO!G90*0.2>MAX('T1'!N90,'T2'!L90),MAX('T1'!N90,'T2'!L90),COUNTRY_INFO!G90*0.2),IF(COUNTRY_INFO!K90=3,IF(COUNTRY_INFO!G90>MAX('T1'!N90,'T2'!L90),MAX('T1'!N90,'T2'!L90),COUNTRY_INFO!G90),0))","v":0},{"$f":"IF(AND(COUNTRY_INFO!K90>0,COUNTRY_INFO!L90<4),IF(Z90>0,IF(COUNTRY_INFO!K90=1, 0, IF(COUNTRY_INFO!K90=2, AF90/(COUNTRY_INFO!G90*0.2)*100, IF(COUNTRY_INFO!K90=3, AF90/COUNTRY_INFO!G90*100))),\"-\"),0)","v":0},0,{"$f":"IF(AND(COUNTRY_INFO!K90>0,COUNTRY_INFO!K90<4), IF(AC90/Z90*100<>0, IF(AH90/Z90*100>100,100,AH90/Z90*100), \"-\"),0)","v":"-"},null,{"$f":"IF(AND(D90<>0, D90<>\"Unknown\",D90<>\"Stopped\",D90<>\"Not required\"),D90/COUNTRY_INFO!D90, 0)","v":0},{"$f":"IF(AND(J90<>0,J90<>\"Unknown\",J90<>\"Stopped\",J90<>\"Not required\"),J90/COUNTRY_INFO!D90, 0)","v":1},{"$f":"IF(AND(P90<>0,P90<>\"Unknown\",P90<>\"Not required\"),P90/(COUNTRY_INFO!E90+COUNTRY_INFO!F90), 0)","v":1},{"$f":"IF(AND(Z90<>0,Z90<>\"Unknown\",Z90<>\"Not required\"),IF(COUNTRY_INFO!K90=1,1,IF(COUNTRY_INFO!K90=2,0.5*COUNTRY_INFO!F90/(0.5*COUNTRY_INFO!F90+0.2*COUNTRY_INFO!G90),IF(COUNTRY_INFO!K90=3,COUNTRY_INFO!F90/(COUNTRY_INFO!F90+COUNTRY_INFO!G90)))),0)","v":0.56961657680873201},{"$f":"IF(AND(Z90<>0,Z90<>\"Unknown\",Z90<>\"Not required\"),IF(COUNTRY_INFO!K90=1,0,IF(COUNTRY_INFO!K90=2,0.2*COUNTRY_INFO!G90/(0.5*COUNTRY_INFO!F90+0.2*COUNTRY_INFO!G90),IF(COUNTRY_INFO!K90=3,COUNTRY_INFO!G90/(COUNTRY_INFO!F90+COUNTRY_INFO!G90)))),0)","v":0.43038342319126804},{"$f":"MAX(COUNTRY_INFO!D90*AK90*PROFILE!$G$7,COUNTRY_INFO!D90*AL90*PROFILE!$G$7)","v":5258.2733578220423},{"$f":"MAX(COUNTRY_INFO!D90*AK90*PROFILE!$G$8,COUNTRY_INFO!D90*AL90*PROFILE!$G$8,COUNTRY_INFO!D90*AM90*PROFILE!$G$8)","v":24744.617429175218},{"$f":"MAX(COUNTRY_INFO!D90*AK90*PROFILE!$G$9,COUNTRY_INFO!D90*AL90*PROFILE!$G$9,COUNTRY_INFO!D90*AM90*PROFILE!$G$9,IF(AND(DISTRICT!Z90<>\"Unknown\",Z90<>\"Not required\"),COUNTRY_INFO!P90*DISTRICT!AN90,0))","v":43148.447275071638},{"$f":"MAX(COUNTRY_INFO!D90*AK90*PROFILE!$G$10,COUNTRY_INFO!D90*AL90*PROFILE!$G$10,IF(AND(DISTRICT!Z90<>\"Unknown\",Z90<>\"Not required\"),COUNTRY_INFO!P90*DISTRICT!AO90,0))","v":81502.654739992387},154653.99280206129,0,{"$f":"MAX('MDA4'!R90,'T1'!L90,'T2'!J90,T3_R1!K90,T3_R2!K90)","v":0},{"$f":"MAX('MDA1'!K90,'MDA4'!S90,'MDA3'!I90,'MDA3'!L90,'T1'!M90,'T2'!K90,T3_R1!L90,T3_R2!L90)","v":0},{"$f":"MAX('MDA1'!L90,'MDA4'!T90,'MDA3'!J90,'MDA3'!M90,'T1'!N90,'T2'!L90,T3_R1!M90,T3_R2!M90)","v":0},0,{"$f":"MAX('MDA4'!R90,T90)","v":0},{"$f":"MAX('MDA1'!K90,'MDA4'!S90,'MDA3'!I90,'MDA3'!L90,V90,AD90)","v":0},{"$f":"MAX('MDA1'!L90,'MDA4'!T90,'MDA3'!J90,'MDA3'!M90,AF90)","v":0},0,0]
[{"$f":"IF(COUNTRY_INFO!A91=0,\" \",COUNTRY_INFO!A91)","v":"Angola"},{"$f":"IF(COUNTRY_INFO!B91=0,\" \",COUNTRY_INFO!B91)","v":"HUILA"},{"$f":"IF(COUNTRY_INFO!C91=0,\" \",COUNTRY_INFO!C91)","v":"CHIPINDO"},{"$f":"COUNTRY_INFO!M91","v":0},null,null,{"$f":"MAX('MDA1'!M91,'MDA4'!U91)","v":0},{"$f":"IF(AND(COUNTRY_INFO!H91>0,COUNTRY_INFO!H91<4),IF(D91>MAX('MDA1'!M91,'MDA4'!U91),MAX('MDA1'!M91,'MDA4'!U91),D91),0)","v":0},{"$f":"IF(AND(COUNTRY_INFO!H91>0,COUNTRY_INFO!H91<4), IF(G91/D91*100<>0, IF(G91/D91*100>100,100,G91/D91*100), \"-\"),0)","v":0},{"$f":"COUNTRY_INFO!N91","v":75931.312374855595},null,null,{"$f":"MAX('MDA1'!M91,MAX('MDA3'!I91,'MDA3'!L91)+MAX('MDA3'!J91,'MDA3'!M91))","v":0},{"$f":"IF(AND(COUNTRY_INFO!I91>0,COUNTRY_INFO!I91<4),IF(J91>MAX('MDA1'!M91,MAX('MDA3'!I91,'MDA3'!L91)+MAX('MDA3'!J91,'MDA3'!M91)),MAX('MDA1'!M91,MAX('MDA3'!I91,'MDA3'!L91)+MAX('MDA3'!J91,'MDA3'!M91)),J91),0)","v":0},{"$f":"IF(AND(COUNTRY_INFO!I91>0,COUNTRY_INFO!I91<4), IF(M91/J91*100<>0, IF(M91/J91*100>100,100,M91/J91*100), \"-\"),0)","v":"-"},{"$f":"COUNTRY_INFO!O91","v":33334},null,null,{"$f":"SUM(MAX('MDA4'!R91, 'T1'!L91, MAX(T3_R1!K91, T3_R2!K91)), MAX('MDA1'!K91, 'MDA4'!S91, 'T1'!M91, MAX(T3_R1!L91, T3_R2!L91)), MAX('MDA1'!L91, 'MDA4'!T91, 'T1'!N91, MAX(T3_R1!M91, T3_R2!M91)))","v":0},{"$f":"IF(AND(COUNTRY_INFO!J91>1,COUNTRY_INFO!J91<4),IF(COUNTRY_INFO!E91>MAX('MDA4'!R91,'T1'!L91,MAX(T3_R1!K91,T3_R2!K91)),MAX('MDA4'!R91,'T1'!L91,MAX(T3_R1!K91,T3_R2!K91)),COUNTRY_INFO!E91),0)","v":0},{"$f":"IF(AND(COUNTRY_INFO!J91>1,COUNTRY_INFO!J91<4), IF(T91/COUNTRY_INFO!E91*100<>0, IF(T91/COUNTRY_INFO!E91*100>100,100,T91/COUNTRY_INFO!E91*100), \"-\"),0)","v":"-"},{"$f":"IF(AND(COUNTRY_INFO!J91>1,COUNTRY_INFO!J91<4),IF(COUNTRY_INFO!F91>MAX('MDA1'!K91,'MDA4'!S91,'T1'!M91,MAX(T3_R1!L91,T3_R2!L91)),MAX('MDA1'!K91,'MDA4'!S91,'T1'!M91,MAX(T3_R1!L91,T3_R2!L91)),COUNTRY_INFO!F91),0)","v":0},{"$f":"IF(AND(COUNTRY_INFO!J91>1,COUNTRY_INFO!J91<4), IF(V91/COUNTRY_INFO!F91*100<>0, IF(V91/COUNTRY_INFO!F91*100>100,100,V91/COUNTRY_INFO!F91*100), \"-\"),0)","v":"-"},0,{"$f":"IF(AND(COUNTRY_INFO!J91>1,COUNTRY_INFO!J91<4), IF(S91/P91*100<>0, IF(X91/P91*100>100,100,X91/P91*100), \"-\"),0)","v":"-"},{"$f":"COUNTRY_INFO!P91","v":18595.7},null,null,{"$f":"MAX('T1'!L91,'T2'!J91)+MAX('T1'!M91,'T2'!K91)+MAX('T1'!N91,'T2'!L91)","v":0},{"$f":"IF(COUNTRY_INFO!K91=1,IF(COUNTRY_INFO!F91*0.33>MAX('T1'!M91,'T2'!K91),MAX('T1'!M91,'T2'!K91),COUNTRY_INFO!F91*0.33),IF(COUNTRY_INFO!K91=2,IF(COUNTRY_INFO!F91*0.5>MAX('T1'!M91,'T2'!K91),MAX('T1'!M91,'T2'!K91),COUNTRY_INFO!F91*0.5),IF(COUNTRY_INFO!K91=3,IF(COUNTRY_INFO!F91>MAX('T1'!M91,'T2'!K91),MAX('T1'!M91,'T2'!K91),COUNTRY_INFO!F91),0)))","v":0},{"$f":"IF(AND(COUNTRY_INFO!K91>0,COUNTRY_INFO!L91<4),IF(Z91>0,IF(COUNTRY_INFO!K91=1, AD91/(COUNTRY_INFO!F91*0.33)*100, IF(COUNTRY_INFO!K91=2, AD91/(COUNTRY_INFO!F91*0.5)*100, IF(COUNTRY_INFO!K91=3, AD91/COUNTRY_INFO!F91*100))),\"-\"),0)","v":0},{"$f":"IF(COUNTRY_INFO!K91=2,IF(COUNTRY_INFO!G91*0.2>MAX('T1'!N91,'T2'!L91),MAX('T1'!N91,'T2'!L91),COUNTRY_INFO!G91*0.2),IF(COUNTRY_INFO!K91=3,IF(COUNTRY_INFO!G91>MAX('T1'!N91,'T2'!L91),MAX('T1'!N91,'T2'!L91),COUNTRY_INFO!G91),0))","v":0},{"$f":"IF(AND(COUNTRY_INFO!K91>0,COUNTRY_INFO!L91<4),IF(Z91>0,IF(COUNTRY_INFO!K91=1, 0, IF(COUNTRY_INFO!K91=2, AF91/(COUNTRY_INFO!G91*0.2)*100, IF(COUNTRY_INFO!K91=3, AF91/COUNTRY_INFO!G91*100))),\"-\"),0)","v":0},0,{"$f":"IF(AND(COUNTRY_INFO!K91>0,COUNTRY_INFO!K91<4), IF(AC91/Z91*100<>0, IF(AH91/Z91*100>100,100,AH91/Z91*100), \"-\"),0)","v":"-"},null,{"$f":"IF(AND(D91<>0, D91<>\"Unknown\",D91<>\"Stopped\",D91<>\"Not required\"),D91/COUNTRY_INFO!D91, 0)","v":0},{"$f":"IF(AND(J91<>0,J91<>\"Unknown\",J91<>\"Stopped\",J91<>\"Not required\"),J91/COUNTRY_INFO!D91, 0)","v":1},{"$f":"IF(AND(P91<>0,P91<>\"Unknown\",P91<>\"Not required\"),P91/(COUNTRY_INFO!E91+COUNTRY_INFO!F91), 0)","v":1},{"$f":"IF(AND(Z91<>0,Z91<>\"Unknown\",Z91<>\"Not required\"),IF(COUNTRY_INFO!K91=1,1,IF(COUNTRY_INFO!K91=2,0.5*COUNTRY_INFO!F91/(0.5*COUNTRY_INFO!F91+0.2*COUNTRY_INFO!G91),IF(COUNTRY_INFO!K91=3,COUNTRY_INFO!F91/(COUNTRY_INFO!F91+COUNTRY_INFO!G91)))),0)","v":0.56962093387180901},{"$f":"IF(AND(Z91<>0,Z91<>\"Unknown\",Z91<>\"Not required\"),IF(COUNTRY_INFO!K91=1,0,IF(COUNTRY_INFO!K91=2,0.2*COUNTRY_INFO!G91/(0.5*COUNTRY_INFO!F91+0.2*COUNTRY_INFO!G91),IF(COUNTRY_INFO!K91=3,COUNTRY_INFO!G91/(COUNTRY_INFO!F91+COUNTRY_INFO!G91)))),0)","v":0.43037906612819093},{"$f":"MAX(COUNTRY_INFO!D91*AK91*PROFILE!$G$7,COUNTRY_INFO!D91*AL91*PROFILE!$G$7)","v":2581.6830826746345},{"$f":"MAX(COUNTRY_INFO!D91*AK91*PROFILE!$G$8,COUNTRY_INFO!D91*AL91*PROFILE!$G$8,COUNTRY_INFO!D91*AM91*PROFILE!$G$8)","v":12148.999463698017},{"$f":"MAX(COUNTRY_INFO!D91*AK91*PROFILE!$G$9,COUNTRY_INFO!D91*AL91*PROFILE!$G$9,COUNTRY_INFO!D91*AM91*PROFILE!$G$9,IF(AND(DISTRICT!Z91<>\"Unknown\",Z91<>\"Not required\"),COUNTRY_INFO!P91*DISTRICT!AN91,0))","v":21184.827945093853},{"$f":"MAX(COUNTRY_INFO!D91*AK91*PROFILE!$G$10,COUNTRY_INFO!D91*AL91*PROFILE!$G$10,IF(AND(DISTRICT!Z91<>\"Unknown\",Z91<>\"Not required\"),COUNTRY_INFO!P91*DISTRICT!AO91,0))","v":40015.801883389089},75931.312374855595,0,{"$f":"MAX('MDA4'!R91,'T1'!L91,'T2'!J91,T3_R1!K91,T3_R2!K91)","v":0},{"$f":"MAX('MDA1'!K91,'MDA4'!S91,'MDA3'!I91,'MDA3'!L91,'T1'!M91,'T2'!K91,T3_R1!L91,T3_R2!L91)","v":0},{"$f":"MAX('MDA1'!L91,'MDA4'!T91,'MDA3'!J91,'MDA3'!M91,'T1'!N91,'T2'!L91,T3_R1!M91,T3_R2!M91)","v":0},0,{"$f":"MAX('MDA4'!R91,T91)","v":0},{"$f":"MAX('MDA1'!K91,'MDA4'!S91,'MDA3'!I91,'MDA3'!L91,V91,AD91)","v":0},{"$f":"MAX('MDA1'!L91,'MDA4'!T91,'MDA3'!J91,'MDA3'!M91,AF91)","v":0},0,0]
[{"$f":"IF(COUNTRY_INFO!A92=0,\" \",COUNTRY_INFO!A92)","v":"Angola"},{"$f":"IF(COUNTRY_INFO!B92=0,\" \",COUNTRY_INFO!B92)","v":"HUILA"},{"$f":"IF(COUNTRY_INFO!C92=0,\" \",COUNTRY_INFO!C92)","v":"CUVANGO"},{"$f":"COUNTRY_INFO!M92","v":0},null,null,{"$f":"MAX('MDA1'!M92,'MDA4'!U92)","v":0},{"$f":"IF(AND(COUNTRY_INFO!H92>0,COUNTRY_INFO!H92<4),IF(D92>MAX('MDA1'!M92,'MDA4'!U92),MAX('MDA1'!M92,'MDA4'!U92),D92),0)","v":0},{"$f":"IF(AND(COUNTRY_INFO!H92>0,COUNTRY_INFO!H92<4), IF(G92/D92*100<>0, IF(G92/D92*100>100,100,G92/D92*100), \"-\"),0)","v":0},{"$f":"COUNTRY_INFO!N92","v":"Unknown"},null,null,{"$f":"MAX('MDA1'!M92,MAX('MDA3'!I92,'MDA3'!L92)+MAX('MDA3'!J92,'MDA3'!M92))","v":0},{"$f":"IF(AND(COUNTRY_INFO!I92>0,COUNTRY_INFO!I92<4),IF(J92>MAX('MDA1'!M92,MAX('MDA3'!I92,'MDA3'!L92)+MAX('MDA3'!J92,'MDA3'!M92)),MAX('MDA1'!M92,MAX('MDA3'!I92,'MDA3'!L92)+MAX('MDA3'!J92,'MDA3'!M92)),J92),0)","v":0},{"$f":"IF(AND(COUNTRY_INFO!I92>0,COUNTRY_INFO!I92<4), IF(M92/J92*100<>0, IF(M92/J92*100>100,100,M92/J92*100), \"-\"),0)","v":0},{"$f":"COUNTRY_INFO!O92","v":40457},null,null,{"$f":"SUM(MAX('MDA4'!R92, 'T1'!L92, MAX(T3_R1!K92, T3_R2!K92)), MAX('MDA1'!K92, 'MDA4'!S92, 'T1'!M92, MAX(T3_R1!L92, T3_R2!L92)), MAX('MDA1'!L92, 'MDA4'!T92, 'T1'!N92, MAX(T3_R1!M92, T3_R2!M92)))","v":0},{"$f":"IF(AND(COUNTRY_INFO!J92>1,COUNTRY_INFO!J92<4),IF(COUNTRY_INFO!E92>MAX('MDA4'!R92,'T1'!L92,MAX(T3_R1!K92,T3_R2!K92)),MAX('MDA4'!R92,'T1'!L92,MAX(T3_R1!K92,T3_R2!K92)),COUNTRY_INFO!E92),0)","v":0},{"$f":"IF(AND(COUNTRY_INFO!J92>1,COUNTRY_INFO!J92<4), IF(T92/COUNTRY_INFO!E92*100<>0, IF(T92/COUNTRY_INFO!E92*100>100,100,T92/COUNTRY_INFO!E92*100), \"-\"),0)","v":"-"},{"$f":"IF(AND(COUNTRY_INFO!J92>1,COUNTRY_INFO!J92<4),IF(COUNTRY_INFO!F92>MAX('MDA1'!K92,'MDA4'!S92,'T1'!M92,MAX(T3_R1!L92,T3_R2!L92)),MAX('MDA1'!K92,'MDA4'!S92,'T1'!M92,MAX(T3_R1!L92,T3_R2!L92)),COUNTRY_INFO!F92),0)","v":0},{"$f":"IF(AND(COUNTRY_INFO!J92>1,COUNTRY_INFO!J92<4), IF(V92/COUNTRY_INFO!F92*100<>0, IF(V92/COUNTRY_INFO!F92*100>100,100,V92/COUNTRY_INFO!F92*100), \"-\"),0)","v":"-"},0,{"$f":"IF(AND(COUNTRY_INFO!J92>1,COUNTRY_INFO!J92<4), IF(S92/P92*100<>0, IF(X92/P92*100>100,100,X92/P92*100), \"-\"),0)","v":"-"},{"$f":"COUNTRY_INFO!P92","v":22569.4},null,null,{"$f":"MAX('T1'!L92,'T2'!J92)+MAX('T1'!M92,'T2'!K92)+MAX('T1'!N92,'T2'!L92)","v":0},{"$f":"IF(COUNTRY_INFO!K92=1,IF(COUNTRY_INFO!F92*0.33>MAX('T1'!M92,'T2'!K92),MAX('T1'!M92,'T2'!K92),COUNTRY_INFO!F92*0.33),IF(COUNTRY_INFO!K92=2,IF(COUNTRY_INFO!F92*0.5>MAX('T1'!M92,'T2'!K92),MAX('T1'!M92,'T2'!K92),COUNTRY_INFO!F92*0.5),IF(COUNTRY_INFO!K92=3,IF(COUNTRY_INFO!F92>MAX('T1'!M92,'T2'!K92),MAX('T1'!M92,'T2'!K92),COUNTRY_INFO!F92),0)))","v":0},{"$f":"IF(AND(COUNTRY_INFO!K92>0,COUNTRY_INFO!L92<4),IF(Z92>0,IF(COUNTRY_INFO!K92=1, AD92/(COUNTRY_INFO!F92*0.33)*100, IF(COUNTRY_INFO!K92=2, AD92/(COUNTRY_INFO!F92*0.5)*100, IF(COUNTRY_INFO!K92=3, AD92/COUNTRY_INFO!F92*100))),\"-\"),0)","v":0},{"$f":"IF(COUNTRY_INFO!K92=2,IF(COUNTRY_INFO!G92*0.2>MAX('T1'!N92,'T2'!L92),MAX('T1'!N92,'T2'!L92),COUNTRY_INFO!G92*0.2),IF(COUNTRY_INFO!K92=3,IF(COUNTRY_INFO!G92>MAX('T1'!N92,'T2'!L92),MAX('T1'!N92,'T2'!L92),COUNTRY_INFO!G92),0))","v":0},{"$f":"IF(AND(COUNTRY_INFO!K92>0,COUNTRY_INFO!L92<4),IF(Z92>0,IF(COUNTRY_INFO!K92=1, 0, IF(COUNTRY_INFO!K92=2, AF92/(COUNTRY_INFO!G92*0.2)*100, IF(COUNTRY_INFO!K92=3, AF92/COUNTRY_INFO!G92*100))),\"-\"),0)","v":0},0,{"$f":"IF(AND(COUNTRY_INFO!K92>0,COUNTRY_INFO!K92<4), IF(AC92/Z92*100<>0, IF(AH92/Z92*100>100,100,AH92/Z92*100), \"-\"),0)","v":"-"},null,{"$f":"IF(AND(D92<>0, D92<>\"Unknown\",D92<>\"Stopped\",D92<>\"Not required\"),D92/COUNTRY_INFO!D92, 0)","v":0},{"$f":"IF(AND(J92<>0,J92<>\"Unknown\",J92<>\"Stopped\",J92<>\"Not required\"),J92/COUNTRY_INFO!D92, 0)","v":0},{"$f":"IF(AND(P92<>0,P92<>\"Unknown\",P92<>\"Not required\"),P92/(COUNTRY_INFO!E92+COUNTRY_INFO!F92), 0)","v":1},{"$f":"IF(AND(Z92<>0,Z92<>\"Unknown\",Z92<>\"Not required\"),IF(COUNTRY_INFO!K92=1,1,IF(COUNTRY_INFO!K92=2,0.5*COUNTRY_INFO!F92/(0.5*COUNTRY_INFO!F92+0.2*COUNTRY_INFO!G92),IF(COUNTRY_INFO!K92=3,COUNTRY_INFO!F92/(COUNTRY_INFO!F92+COUNTRY_INFO!G92)))),0)","v":0.56962081402252607},{"$f":"IF(AND(Z92<>0,Z92<>\"Unknown\",Z92<>\"Not required\"),IF(COUNTRY_INFO!K92=1,0,IF(COUNTRY_INFO!K92=2,0.2*COUNTRY_INFO!G92/(0.5*COUNTRY_INFO!F92+0.2*COUNTRY_INFO!G92),IF(COUNTRY_INFO!K92=3,COUNTRY_INFO!G92/(COUNTRY_INFO!F92+COUNTRY_INFO!G92)))),0)","v":0.43037918597747388},{"$f":"MAX(COUNTRY_INFO!D92*AK92*PROFILE!$G$7,COUNTRY_INFO!D92*AL92*PROFILE!$G$7)","v":0},{"$f":"MAX(COUNTRY_INFO!D92*AK92*PROFILE!$G$8,COUNTRY_INFO!D92*AL92*PROFILE!$G$8,COUNTRY_INFO!D92*AM92*PROFILE!$G$8)","v":14745.168972358893},{"$f":"MAX(COUNTRY_INFO!D92*AK92*PROFILE!$G$9,COUNTRY_INFO!D92*AL92*PROFILE!$G$9,COUNTRY_INFO!D92*AM92*PROFILE!$G$9,IF(AND(DISTRICT!Z92<>\"Unknown\",Z92<>\"Not required\"),COUNTRY_INFO!P92*DISTRICT!AN92,0))","v":25711.90069060028},{"$f":"MAX(COUNTRY_INFO!D92*AK92*PROFILE!$G$10,COUNTRY_INFO!D92*AL92*PROFILE!$G$10,IF(AND(DISTRICT!Z92<>\"Unknown\",Z92<>\"Not required\"),COUNTRY_INFO!P92*DISTRICT!AO92,0))","v":9713.4},50170.469662959171,0,{"$f":"MAX('MDA4'!R92,'T1'!L92,'T2'!J92,T3_R1!K92,T3_R2!K92)","v":0},{"$f":"MAX('MDA1'!K92,'MDA4'!S92,'MDA3'!I92,'MDA3'!L92,'T1'!M92,'T2'!K92,T3_R1!L92,T3_R2!L92)","v":0},{"$f":"MAX('MDA1'!L92,'MDA4'!T92,'MDA3'!J92,'MDA3'!M92,'T1'!N92,'T2'!L92,T3_R1!M92,T3_R2!M92)","v":0},0,{"$f":"MAX('MDA4'!R92,T92)","v":0},{"$f":"MAX('MDA1'!K92,'MDA4'!S92,'MDA3'!I92,'MDA3'!L92,V92,AD92)","v":0},{"$f":"MAX('MDA1'!L92,'MDA4'!T92,'MDA3'!J92,'MDA3'!M92,AF92)","v":0},0,0]
[{"$f":"IF(COUNTRY_INFO!A93=0,\" \",COUNTRY_INFO!A93)","v":"Angola"},{"$f":"IF(COUNTRY_INFO!B93=0,\" \",COUNTRY_INFO!B93)","v":"HUILA"},{"$f":"IF(COUNTRY_INFO!C93=0,\" \",COUNTRY_INFO!C93)","v":"GAMBOS"},{"$f":"COUNTRY_INFO!M93","v":0},null,null,{"$f":"MAX('MDA1'!M93,'MDA4'!U93)","v":0},{"$f":"IF(AND(COUNTRY_INFO!H93>0,COUNTRY_INFO!H93<4),IF(D93>MAX('MDA1'!M93,'MDA4'!U93),MAX('MDA1'!M93,'MDA4'!U93),D93),0)","v":0},{"$f":"IF(AND(COUNTRY_INFO!H93>0,COUNTRY_INFO!H93<4), IF(G93/D93*100<>0, IF(G93/D93*100>100,100,G93/D93*100), \"-\"),0)","v":0},{"$f":"COUNTRY_INFO!N93","v":"Unknown"},null,null,{"$f":"MAX('MDA1'!M93,MAX('MDA3'!I93,'MDA3'!L93)+MAX('MDA3'!J93,'MDA3'!M93))","v":0},{"$f":"IF(AND(COUNTRY_INFO!I93>0,COUNTRY_INFO!I93<4),IF(J93>MAX('MDA1'!M93,MAX('MDA3'!I93,'MDA3'!L93)+MAX('MDA3'!J93,'MDA3'!M93)),MAX('MDA1'!M93,MAX('MDA3'!I93,'MDA3'!L93)+MAX('MDA3'!J93,'MDA3'!M93)),J93),0)","v":0},{"$f":"IF(AND(COUNTRY_INFO!I93>0,COUNTRY_INFO!I93<4), IF(M93/J93*100<>0, IF(M93/J93*100>100,100,M93/J93*100), \"-\"),0)","v":0},{"$f":"COUNTRY_INFO!O93","v":40931},null,null,{"$f":"SUM(MAX('MDA4'!R93, 'T1'!L93, MAX(T3_R1!K93, T3_R2!K93)), MAX('MDA1'!K93, 'MDA4'!S93, 'T1'!M93, MAX(T3_R1!L93, T3_R2!L93)), MAX('MDA1'!L93, 'MDA4'!T93, 'T1'!N93, MAX(T3_R1!M93, T3_R2!M93)))","v":0},{"$f":"IF(AND(COUNTRY_INFO!J93>1,COUNTRY_INFO!J93<4),IF(COUNTRY_INFO!E93>MAX('MDA4'!R93,'T1'!L93,MAX(T3_R1!K93,T3_R2!K93)),MAX('MDA4'!R93,'T1'!L93,MAX(T3_R1!K93,T3_R2!K93)),COUNTRY_INFO!E93),0)","v":0},{"$f":"IF(AND(COUNTRY_INFO!J93>1,COUNTRY_INFO!J93<4), IF(T93/COUNTRY_INFO!E93*100<>0, IF(T93/COUNTRY_INFO!E93*100>100,100,T93/COUNTRY_INFO!E93*100), \"-\"),0)","v":"-"},{"$f":"IF(AND(COUNTRY_INFO!J93>1,COUNTRY_INFO!J93<4),IF(COUNTRY_INFO!F93>MAX('MDA1'!K93,'MDA4'!S93,'T1'!M93,MAX(T3_R1!L93,T3_R2!L93)),MAX('MDA1'!K93,'MDA4'!S93,'T1'!M93,MAX(T3_R1!L93,T3_R2!L93)),COUNTRY_INFO!F93),0)","v":0},{"$f":"IF(AND(COUNTRY_INFO!J93>1,COUNTRY_INFO!J93<4), IF(V93/COUNTRY_INFO!F93*100<>0, IF(V93/COUNTRY_INFO!F93*100>100,100,V93/COUNTRY_INFO!F93*100), \"-\"),0)","v":"-"},0,{"$f":"IF(AND(COUNTRY_INFO!J93>1,COUNTRY_INFO!J93<4), IF(S93/P93*100<>0, IF(X93/P93*100>100,100,X93/P93*100), \"-\"),0)","v":"-"},{"$f":"COUNTRY_INFO!P93","v":22833.5},null,null,{"$f":"MAX('T1'!L93,'T2'!J93)+MAX('T1'!M93,'T2'!K93)+MAX('T1'!N93,'T2'!L93)","v":0},{"$f":"IF(COUNTRY_INFO!K93=1,IF(COUNTRY_INFO!F93*0.33>MAX('T1'!M93,'T2'!K93),MAX('T1'!M93,'T2'!K93),COUNTRY_INFO!F93*0.33),IF(COUNTRY_INFO!K93=2,IF(COUNTRY_INFO!F93*0.5>MAX('T1'!M93,'T2'!K93),MAX('T1'!M93,'T2'!K93),COUNTRY_INFO!F93*0.5),IF(COUNTRY_INFO!K93=3,IF(COUNTRY_INFO!F93>MAX('T1'!M93,'T2'!K93),MAX('T1'!M93,'T2'!K93),COUNTRY_INFO!F93),0)))","v":0},{"$f":"IF(AND(COUNTRY_INFO!K93>0,COUNTRY_INFO!L93<4),IF(Z93>0,IF(COUNTRY_INFO!K93=1, AD93/(COUNTRY_INFO!F93*0.33)*100, IF(COUNTRY_INFO!K93=2, AD93/(COUNTRY_INFO!F93*0.5)*100, IF(COUNTRY_INFO!K93=3, AD93/COUNTRY_INFO!F93*100))),\"-\"),0)","v":0},{"$f":"IF(COUNTRY_INFO!K93=2,IF(COUNTRY_INFO!G93*0.2>MAX('T1'!N93,'T2'!L93),MAX('T1'!N93,'T2'!L93),COUNTRY_INFO!G93*0.2),IF(COUNTRY_INFO!K93=3,IF(COUNTRY_INFO!G93>MAX('T1'!N93,'T2'!L93),MAX('T1'!N93,'T2'!L93),COUNTRY_INFO!G93),0))","v":0},{"$f":"IF(AND(COUNTRY_INFO!K93>0,COUNTRY_INFO!L93<4),IF(Z93>0,IF(COUNTRY_INFO!K93=1, 0, IF(COUNTRY_INFO!K93=2, AF93/(COUNTRY_INFO!G93*0.2)*100, IF(COUNTRY_INFO!K93=3, AF93/COUNTRY_INFO!G93*100))),\"-\"),0)","v":0},0,{"$f":"IF(AND(COUNTRY_INFO!K93>0,COUNTRY_INFO!K93<4), IF(AC93/Z93*100<>0, IF(AH93/Z93*100>100,100,AH93/Z93*100), \"-\"),0)","v":"-"},null,{"$f":"IF(AND(D93<>0, D93<>\"Unknown\",D93<>\"Stopped\",D93<>\"Not required\"),D93/COUNTRY_INFO!D93, 0)","v":0},{"$f":"IF(AND(J93<>0,J93<>\"Unknown\",J93<>\"Stopped\",J93<>\"Not required\"),J93/COUNTRY_INFO!D93, 0)","v":0},{"$f":"IF(AND(P93<>0,P93<>\"Unknown\",P93<>\"Not required\"),P93/(COUNTRY_INFO!E93+COUNTRY_INFO!F93), 0)","v":1},{"$f":"IF(AND(Z93<>0,Z93<>\"Unknown\",Z93<>\"Not required\"),IF(COUNTRY_INFO!K93=1,1,IF(COUNTRY_INFO!K93=2,0.5*COUNTRY_INFO!F93/(0.5*COUNTRY_INFO!F93+0.2*COUNTRY_INFO!G93),IF(COUNTRY_INFO!K93=3,COUNTRY_INFO!F93/(COUNTRY_INFO!F93+COUNTRY_INFO!G93)))),0)","v":0.56962357938993147},{"$f":"IF(AND(Z93<>0,Z93<>\"Unknown\",Z93<>\"Not required\"),IF(COUNTRY_INFO!K93=1,0,IF(COUNTRY_INFO!K93=2,0.2*COUNTRY_INFO!G93/(0.5*COUNTRY_INFO!F93+0.2*COUNTRY_INFO!G93),IF(COUNTRY_INFO!K93=3,COUNTRY_INFO!G93/(COUNTRY_INFO!F93+COUNTRY_INFO!G93)))),0)","v":0.43037642061006853},{"$f":"MAX(COUNTRY_INFO!D93*AK93*PROFILE!$G$7,COUNTRY_INFO!D93*AL93*PROFILE!$G$7)","v":0},{"$f":"MAX(COUNTRY_INFO!D93*AK93*PROFILE!$G$8,COUNTRY_INFO!D93*AL93*PROFILE!$G$8,COUNTRY_INFO!D93*AM93*PROFILE!$G$8)","v":14917.696254046607},{"$f":"MAX(COUNTRY_INFO!D93*AK93*PROFILE!$G$9,COUNTRY_INFO!D93*AL93*PROFILE!$G$9,COUNTRY_INFO!D93*AM93*PROFILE!$G$9,IF(AND(DISTRICT!Z93<>\"Unknown\",Z93<>\"Not required\"),COUNTRY_INFO!P93*DISTRICT!AN93,0))","v":26012.745281902651},{"$f":"MAX(COUNTRY_INFO!D93*AK93*PROFILE!$G$10,COUNTRY_INFO!D93*AL93*PROFILE!$G$10,IF(AND(DISTRICT!Z93<>\"Unknown\",Z93<>\"Not required\"),COUNTRY_INFO!P93*DISTRICT!AO93,0))","v":9827},50757.441535949256,0,{"$f":"MAX('MDA4'!R93,'T1'!L93,'T2'!J93,T3_R1!K93,T3_R2!K93)","v":0},{"$f":"MAX('MDA1'!K93,'MDA4'!S93,'MDA3'!I93,'MDA3'!L93,'T1'!M93,'T2'!K93,T3_R1!L93,T3_R2!L93)","v":0},{"$f":"MAX('MDA1'!L93,'MDA4'!T93,'MDA3'!J93,'MDA3'!M93,'T1'!N93,'T2'!L93,T3_R1!M93,T3_R2!M93)","v":0},0,{"$f":"MAX('MDA4'!R93,T93)","v":0},{"$f":"MAX('MDA1'!K93,'MDA4'!S93,'MDA3'!I93,'MDA3'!L93,V93,AD93)","v":0},{"$f":"MAX('MDA1'!L93,'MDA4'!T93,'MDA3'!J93,'MDA3'!M93,AF93)","v":0},0,0]
[{"$f":"IF(COUNTRY_INFO!A94=0,\" \",COUNTRY_INFO!A94)","v":"Angola"},{"$f":"IF(COUNTRY_INFO!B94=0,\" \",COUNTRY_INFO!B94)","v":"HUILA"},{"$f":"IF(COUNTRY_INFO!C94=0,\" \",COUNTRY_INFO!C94)","v":"HUMPATA"},{"$f":"COUNTRY_INFO!M94","v":0},null,null,{"$f":"MAX('MDA1'!M94,'MDA4'!U94)","v":0},{"$f":"IF(AND(COUNTRY_INFO!H94>0,COUNTRY_INFO!H94<4),IF(D94>MAX('MDA1'!M94,'MDA4'!U94),MAX('MDA1'!M94,'MDA4'!U94),D94),0)","v":0},{"$f":"IF(AND(COUNTRY_INFO!H94>0,COUNTRY_INFO!H94<4), IF(G94/D94*100<>0, IF(G94/D94*100>100,100,G94/D94*100), \"-\"),0)","v":0},{"$f":"COUNTRY_INFO!N94","v":"Unknown"},null,null,{"$f":"MAX('MDA1'!M94,MAX('MDA3'!I94,'MDA3'!L94)+MAX('MDA3'!J94,'MDA3'!M94))","v":0},{"$f":"IF(AND(COUNTRY_INFO!I94>0,COUNTRY_INFO!I94<4),IF(J94>MAX('MDA1'!M94,MAX('MDA3'!I94,'MDA3'!L94)+MAX('MDA3'!J94,'MDA3'!M94)),MAX('MDA1'!M94,MAX('MDA3'!I94,'MDA3'!L94)+MAX('MDA3'!J94,'MDA3'!M94)),J94),0)","v":0},{"$f":"IF(AND(COUNTRY_INFO!I94>0,COUNTRY_INFO!I94<4), IF(M94/J94*100<>0, IF(M94/J94*100>100,100,M94/J94*100), \"-\"),0)","v":0},{"$f":"COUNTRY_INFO!O94","v":45917},null,null,{"$f":"SUM(MAX('MDA4'!R94, 'T1'!L94, MAX(T3_R1!K94, T3_R2!K94)), MAX('MDA1'!K94, 'MDA4'!S94, 'T1'!M94, MAX(T3_R1!L94, T3_R2!L94)), MAX('MDA1'!L94, 'MDA4'!T94, 'T1'!N94, MAX(T3_R1!M94, T3_R2!M94)))","v":0},{"$f":"IF(AND(COUNTRY_INFO!J94>1,COUNTRY_INFO!J94<4),IF(COUNTRY_INFO!E94>MAX('MDA4'!R94,'T1'!L94,MAX(T3_R1!K94,T3_R2!K94)),MAX('MDA4'!R94,'T1'!L94,MAX(T3_R1!K94,T3_R2!K94)),COUNTRY_INFO!E94),0)","v":0},{"$f":"IF(AND(COUNTRY_INFO!J94>1,COUNTRY_INFO!J94<4), IF(T94/COUNTRY_INFO!E94*100<>0, IF(T94/COUNTRY_INFO!E94*100>100,100,T94/COUNTRY_INFO!E94*100), \"-\"),0)","v":"-"},{"$f":"IF(AND(COUNTRY_INFO!J94>1,COUNTRY_INFO!J94<4),IF(COUNTRY_INFO!F94>MAX('MDA1'!K94,'MDA4'!S94,'T1'!M94,MAX(T3_R1!L94,T3_R2!L94)),MAX('MDA1'!K94,'MDA4'!S94,'T1'!M94,MAX(T3_R1!L94,T3_R2!L94)),COUNTRY_INFO!F94),0)","v":0},{"$f":"IF(AND(COUNTRY_INFO!J94>1,COUNTRY_INFO!J94<4), IF(V94/COUNTRY_INFO!F94*100<>0, IF(V94/COUNTRY_INFO!F94*100>100,100,V94/COUNTRY_INFO!F94*100), \"-\"),0)","v":"-"},0,{"$f":"IF(AND(COUNTRY_INFO!J94>1,COUNTRY_INFO!J94<4), IF(S94/P94*100<>0, IF(X94/P94*100>100,100,X94/P94*100), \"-\"),0)","v":"-"},{"$f":"COUNTRY_INFO!P94","v":25615.4},null,null,{"$f":"MAX('T1'!L94,'T2'!J94)+MAX('T1'!M94,'T2'!K94)+MAX('T1'!N94,'T2'!L94)","v":0},{"$f":"IF(COUNTRY_INFO!K94=1,IF(COUNTRY_INFO!F94*0.33>MAX('T1'!M94,'T2'!K94),MAX('T1'!M94,'T2'!K94),COUNTRY_INFO!F94*0.33),IF(COUNTRY_INFO!K94=2,IF(COUNTRY_INFO!F94*0.5>MAX('T1'!M94,'T2'!K94),MAX('T1'!M94,'T2'!K94),COUNTRY_INFO!F94*0.5),IF(COUNTRY_INFO!K94=3,IF(COUNTRY_INFO!F94>MAX('T1'!M94,'T2'!K94),MAX('T1'!M94,'T2'!K94),COUNTRY_INFO!F94),0)))","v":0},{"$f":"IF(AND(COUNTRY_INFO!K94>0,COUNTRY_INFO!L94<4),IF(Z94>0,IF(COUNTRY_INFO!K94=1, AD94/(COUNTRY_INFO!F94*0.33)*100, IF(COUNTRY_INFO!K94=2, AD94/(COUNTRY_INFO!F94*0.5)*100, IF(COUNTRY_INFO!K94=3, AD94/COUNTRY_INFO!F94*100))),\"-\"),0)","v":0},{"$f":"IF(COUNTRY_INFO!K94=2,IF(COUNTRY_INFO!G94*0.2>MAX('T1'!N94,'T2'!L94),MAX('T1'!N94,'T2'!L94),COUNTRY_INFO!G94*0.2),IF(COUNTRY_INFO!K94=3,IF(COUNTRY_INFO!G94>MAX('T1'!N94,'T2'!L94),MAX('T1'!N94,'T2'!L94),COUNTRY_INFO!G94),0))","v":0},{"$f":"IF(AND(COUNTRY_INFO!K94>0,COUNTRY_INFO!L94<4),IF(Z94>0,IF(COUNTRY_INFO!K94=1, 0, IF(COUNTRY_INFO!K94=2, AF94/(COUNTRY_INFO!G94*0.2)*100, IF(COUNTRY_INFO!K94=3, AF94/COUNTRY_INFO!G94*100))),\"-\"),0)","v":0},0,{"$f":"IF(AND(COUNTRY_INFO!K94>0,COUNTRY_INFO!K94<4), IF(AC94/Z94*100<>0, IF(AH94/Z94*100>100,100,AH94/Z94*100), \"-\"),0)","v":"-"},null,{"$f":"IF(AND(D94<>0, D94<>\"Unknown\",D94<>\"Stopped\",D94<>\"Not required\"),D94/COUNTRY_INFO!D94, 0)","v":0},{"$f":"IF(AND(J94<>0,J94<>\"Unknown\",J94<>\"Stopped\",J94<>\"Not required\"),J94/COUNTRY_INFO!D94, 0)","v":0},{"$f":"IF(AND(P94<>0,P94<>\"Unknown\",P94<>\"Not required\"),P94/(COUNTRY_INFO!E94+COUNTRY_INFO!F94), 0)","v":1},{"$f":"IF(AND(Z94<>0,Z94<>\"Unknown\",Z94<>\"Not required\"),IF(COUNTRY_INFO!K94=1,1,IF(COUNTRY_INFO!K94=2,0.5*COUNTRY_INFO!F94/(0.5*COUNTRY_INFO!F94+0.2*COUNTRY_INFO!G94),IF(COUNTRY_INFO!K94=3,COUNTRY_INFO!F94/(COUNTRY_INFO!F94+COUNTRY_INFO!G94)))),0)","v":0.56961827650553964},{"$f":"IF(AND(Z94<>0,Z94<>\"Unknown\",Z94<>\"Not required\"),IF(COUNTRY_INFO!K94=1,0,IF(COUNTRY_INFO!K94=2,0.2*COUNTRY_INFO!G94/(0.5*COUNTRY_INFO!F94+0.2*COUNTRY_INFO!G94),IF(COUNTRY_INFO!K94=3,COUNTRY_INFO!G94/(COUNTRY_INFO!F94+COUNTRY_INFO!G94)))),0)","v":0.43038172349446041},{"$f":"MAX(COUNTRY_INFO!D94*AK94*PROFILE!$G$7,COUNTRY_INFO!D94*AL94*PROFILE!$G$7)","v":0},{"$f":"MAX(COUNTRY_INFO!D94*AK94*PROFILE!$G$8,COUNTRY_INFO!D94*AL94*PROFILE!$G$8,COUNTRY_INFO!D94*AM94*PROFILE!$G$8)","v":16735.334057420281},{"$f":"MAX(COUNTRY_INFO!D94*AK94*PROFILE!$G$9,COUNTRY_INFO!D94*AL94*PROFILE!$G$9,COUNTRY_INFO!D94*AM94*PROFILE!$G$9,IF(AND(DISTRICT!Z94<>\"Unknown\",Z94<>\"Not required\"),COUNTRY_INFO!P94*DISTRICT!AN94,0))","v":29182.25271714693},{"$f":"MAX(COUNTRY_INFO!D94*AK94*PROFILE!$G$10,COUNTRY_INFO!D94*AL94*PROFILE!$G$10,IF(AND(DISTRICT!Z94<>\"Unknown\",Z94<>\"Not required\"),COUNTRY_INFO!P94*DISTRICT!AO94,0))","v":11024.400000000001},56941.986774567216,0,{"$f":"MAX('MDA4'!R94,'T1'!L94,'T2'!J94,T3_R1!K94,T3_R2!K94)","v":0},{"$f":"MAX('MDA1'!K94,'MDA4'!S94,'MDA3'!I94,'MDA3'!L94,'T1'!M94,'T2'!K94,T3_R1!L94,T3_R2!L94)","v":0},{"$f":"MAX('MDA1'!L94,'MDA4'!T94,'MDA3'!J94,'MDA3'!M94,'T1'!N94,'T2'!L94,T3_R1!M94,T3_R2!M94)","v":0},0,{"$f":"MAX('MDA4'!R94,T94)","v":0},{"$f":"MAX('MDA1'!K94,'MDA4'!S94,'MDA3'!I94,'MDA3'!L94,V94,AD94)","v":0},{"$f":"MAX('MDA1'!L94,'MDA4'!T94,'MDA3'!J94,'MDA3'!M94,AF94)","v":0},0,0]
[{"$f":"IF(COUNTRY_INFO!A95=0,\" \",COUNTRY_INFO!A95)","v":"Angola"},{"$f":"IF(COUNTRY_INFO!B95=0,\" \",COUNTRY_INFO!B95)","v":"HUILA"},{"$f":"IF(COUNTRY_INFO!C95=0,\" \",COUNTRY_INFO!C95)","v":"JAMBA"},{"$f":"COUNTRY_INFO!M95","v":0},null,null,{"$f":"MAX('MDA1'!M95,'MDA4'!U95)","v":0},{"$f":"IF(AND(COUNTRY_INFO!H95>0,COUNTRY_INFO!H95<4),IF(D95>MAX('MDA1'!M95,'MDA4'!U95),MAX('MDA1'!M95,'MDA4'!U95),D95),0)","v":0},{"$f":"IF(AND(COUNTRY_INFO!H95>0,COUNTRY_INFO!H95<4), IF(G95/D95*100<>0, IF(G95/D95*100>100,100,G95/D95*100), \"-\"),0)","v":0},{"$f":"COUNTRY_INFO!N95","v":"Unknown"},null,null,{"$f":"MAX('MDA1'!M95,MAX('MDA3'!I95,'MDA3'!L95)+MAX('MDA3'!J95,'MDA3'!M95))","v":0},{"$f":"IF(AND(COUNTRY_INFO!I95>0,COUNTRY_INFO!I95<4),IF(J95>MAX('MDA1'!M95,MAX('MDA3'!I95,'MDA3'!L95)+MAX('MDA3'!J95,'MDA3'!M95)),MAX('MDA1'!M95,MAX('MDA3'!I95,'MDA3'!L95)+MAX('MDA3'!J95,'MDA3'!M95)),J95),0)","v":0},{"$f":"IF(AND(COUNTRY_INFO!I95>0,COUNTRY_INFO!I95<4), IF(M95/J95*100<>0, IF(M95/J95*100>100,100,M95/J95*100), \"-\"),0)","v":0},{"$f":"COUNTRY_INFO!O95","v":54131},null,null,{"$f":"SUM(MAX('MDA4'!R95, 'T1'!L95, MAX(T3_R1!K95, T3_R2!K95)), MAX('MDA1'!K95, 'MDA4'!S95, 'T1'!M95, MAX(T3_R1!L95, T3_R2!L95)), MAX('MDA1'!L95, 'MDA4'!T95, 'T1'!N95, MAX(T3_R1!M95, T3_R2!M95)))","v":0},{"$f":"IF(AND(COUNTRY_INFO!J95>1,COUNTRY_INFO!J95<4),IF(COUNTRY_INFO!E95>MAX('MDA4'!R95,'T1'!L95,MAX(T3_R1!K95,T3_R2!K95)),MAX('MDA4'!R95,'T1'!L95,MAX(T3_R1!K95,T3_R2!K95)),COUNTRY_INFO!E95),0)","v":0},{"$f":"IF(AND(COUNTRY_INFO!J95>1,COUNTRY_INFO!J95<4), IF(T95/COUNTRY_INFO!E95*100<>0, IF(T95/COUNTRY_INFO!E95*100>100,100,T95/COUNTRY_INFO!E95*100), \"-\"),0)","v":"-"},{"$f":"IF(AND(COUNTRY_INFO!J95>1,COUNTRY_INFO!J95<4),IF(COUNTRY_INFO!F95>MAX('MDA1'!K95,'MDA4'!S95,'T1'!M95,MAX(T3_R1!L95,T3_R2!L95)),MAX('MDA1'!K95,'MDA4'!S95,'T1'!M95,MAX(T3_R1!L95,T3_R2!L95)),COUNTRY_INFO!F95),0)","v":0},{"$f":"IF(AND(COUNTRY_INFO!J95>1,COUNTRY_INFO!J95<4), IF(V95/COUNTRY_INFO!F95*100<>0, IF(V95/COUNTRY_INFO!F95*100>100,100,V95/COUNTRY_INFO!F95*100), \"-\"),0)","v":"-"},0,{"$f":"IF(AND(COUNTRY_INFO!J95>1,COUNTRY_INFO!J95<4), IF(S95/P95*100<>0, IF(X95/P95*100>100,100,X95/P95*100), \"-\"),0)","v":"-"},{"$f":"COUNTRY_INFO!P95","v":30197.4},null,null,{"$f":"MAX('T1'!L95,'T2'!J95)+MAX('T1'!M95,'T2'!K95)+MAX('T1'!N95,'T2'!L95)","v":0},{"$f":"IF(COUNTRY_INFO!K95=1,IF(COUNTRY_INFO!F95*0.33>MAX('T1'!M95,'T2'!K95),MAX('T1'!M95,'T2'!K95),COUNTRY_INFO!F95*0.33),IF(COUNTRY_INFO!K95=2,IF(COUNTRY_INFO!F95*0.5>MAX('T1'!M95,'T2'!K95),MAX('T1'!M95,'T2'!K95),COUNTRY_INFO!F95*0.5),IF(COUNTRY_INFO!K95=3,IF(COUNTRY_INFO!F95>MAX('T1'!M95,'T2'!K95),MAX('T1'!M95,'T2'!K95),COUNTRY_INFO!F95),0)))","v":0},{"$f":"IF(AND(COUNTRY_INFO!K95>0,COUNTRY_INFO!L95<4),IF(Z95>0,IF(COUNTRY_INFO!K95=1, AD95/(COUNTRY_INFO!F95*0.33)*100, IF(COUNTRY_INFO!K95=2, AD95/(COUNTRY_INFO!F95*0.5)*100, IF(COUNTRY_INFO!K95=3, AD95/COUNTRY_INFO!F95*100))),\"-\"),0)","v":0},{"$f":"IF(COUNTRY_INFO!K95=2,IF(COUNTRY_INFO!G95*0.2>MAX('T1'!N95,'T2'!L95),MAX('T1'!N95,'T2'!L95),COUNTRY_INFO!G95*0.2),IF(COUNTRY_INFO!K95=3,IF(COUNTRY_INFO!G95>MAX('T1'!N95,'T2'!L95),MAX('T1'!N95,'T2'!L95),COUNTRY_INFO!G95),0))","v":0},{"$f":"IF(AND(COUNTRY_INFO!K95>0,COUNTRY_INFO!L95<4),IF(Z95>0,IF(COUNTRY_INFO!K95=1, 0, IF(COUNTRY_INFO!K95=2, AF95/(COUNTRY_INFO!G95*0.2)*100, IF(COUNTRY_INFO!K95=3, AF95/COUNTRY_INFO!G95*100))),\"-\"),0)","v":0},0,{"$f":"IF(AND(COUNTRY_INFO!K95>0,COUNTRY_INFO!K95<4), IF(AC95/Z95*100<>0, IF(AH95/Z95*100>100,100,AH95/Z95*100), \"-\"),0)","v":"-"},null,{"$f":"IF(AND(D95<>0, D95<>\"Unknown\",D95<>\"Stopped\",D95<>\"Not required\"),D95/COUNTRY_INFO!D95, 0)","v":0},{"$f":"IF(AND(J95<>0,J95<>\"Unknown\",J95<>\"Stopped\",J95<>\"Not required\"),J95/COUNTRY_INFO!D95, 0)","v":0},{"$f":"IF(AND(P95<>0,P95<>\"Unknown\",P95<>\"Not required\"),P95/(COUNTRY_INFO!E95+COUNTRY_INFO!F95), 0)","v":1},{"$f":"IF(AND(Z95<>0,Z95<>\"Unknown\",Z95<>\"Not required\"),IF(COUNTRY_INFO!K95=1,1,IF(COUNTRY_INFO!K95=2,0.5*COUNTRY_INFO!F95/(0.5*COUNTRY_INFO!F95+0.2*COUNTRY_INFO!G95),IF(COUNTRY_INFO!K95=3,COUNTRY_INFO!F95/(COUNTRY_INFO!F95+COUNTRY_INFO!G95)))),0)","v":0.5696185764337327},{"$f":"IF(AND(Z95<>0,Z95<>\"Unknown\",Z95<>\"Not required\"),IF(COUNTRY_INFO!K95=1,0,IF(COUNTRY_INFO!K95=2,0.2*COUNTRY_INFO!G95/(0.5*COUNTRY_INFO!F95+0.2*COUNTRY_INFO!G95),IF(COUNTRY_INFO!K95=3,COUNTRY_INFO!G95/(COUNTRY_INFO!F95+COUNTRY_INFO!G95)))),0)","v":0.4303814235662673},{"$f":"MAX(COUNTRY_INFO!D95*AK95*PROFILE!$G$7,COUNTRY_INFO!D95*AL95*PROFILE!$G$7)","v":0},{"$f":"MAX(COUNTRY_INFO!D95*AK95*PROFILE!$G$8,COUNTRY_INFO!D95*AL95*PROFILE!$G$8,COUNTRY_INFO!D95*AM95*PROFILE!$G$8)","v":19728.935835213786},{"$f":"MAX(COUNTRY_INFO!D95*AK95*PROFILE!$G$9,COUNTRY_INFO!D95*AL95*PROFILE!$G$9,COUNTRY_INFO!D95*AM95*PROFILE!$G$9,IF(AND(DISTRICT!Z95<>\"Unknown\",Z95<>\"Not required\"),COUNTRY_INFO!P95*DISTRICT!AN95,0))","v":34402.348313346622},{"$f":"MAX(COUNTRY_INFO!D95*AK95*PROFILE!$G$10,COUNTRY_INFO!D95*AL95*PROFILE!$G$10,IF(AND(DISTRICT!Z95<>\"Unknown\",Z95<>\"Not required\"),COUNTRY_INFO!P95*DISTRICT!AO95,0))","v":12996.400000000001},67127.684148560409,0,{"$f":"MAX('MDA4'!R95,'T1'!L95,'T2'!J95,T3_R1!K95,T3_R2!K95)","v":0},{"$f":"MAX('MDA1'!K95,'MDA4'!S95,'MDA3'!I95,'MDA3'!L95,'T1'!M95,'T2'!K95,T3_R1!L95,T3_R2!L95)","v":0},{"$f":"MAX('MDA1'!L95,'MDA4'!T95,'MDA3'!J95,'MDA3'!M95,'T1'!N95,'T2'!L95,T3_R1!M95,T3_R2!M95)","v":0},0,{"$f":"MAX('MDA4'!R95,T95)","v":0},{"$f":"MAX('MDA1'!K95,'MDA4'!S95,'MDA3'!I95,'MDA3'!L95,V95,AD95)","v":0},{"$f":"MAX('MDA1'!L95,'MDA4'!T95,'MDA3'!J95,'MDA3'!M95,AF95)","v":0},0,0]
[{"$f":"IF(COUNTRY_INFO!A96=0,\" \",COUNTRY_INFO!A96)","v":"Angola"},{"$f":"IF(COUNTRY_INFO!B96=0,\" \",COUNTRY_INFO!B96)","v":"HUILA"},{"$f":"IF(COUNTRY_INFO!C96=0,\" \",COUNTRY_INFO!C96)","v":"LUBANGO"},{"$f":"COUNTRY_INFO!M96","v":0},null,null,{"$f":"MAX('MDA1'!M96,'MDA4'!U96)","v":0},{"$f":"IF(AND(COUNTRY_INFO!H96>0,COUNTRY_INFO!H96<4),IF(D96>MAX('MDA1'!M96,'MDA4'!U96),MAX('MDA1'!M96,'MDA4'!U96),D96),0)","v":0},{"$f":"IF(AND(COUNTRY_INFO!H96>0,COUNTRY_INFO!H96<4), IF(G96/D96*100<>0, IF(G96/D96*100>100,100,G96/D96*100), \"-\"),0)","v":0},{"$f":"COUNTRY_INFO!N96","v":"Unknown"},null,null,{"$f":"MAX('MDA1'!M96,MAX('MDA3'!I96,'MDA3'!L96)+MAX('MDA3'!J96,'MDA3'!M96))","v":0},{"$f":"IF(AND(COUNTRY_INFO!I96>0,COUNTRY_INFO!I96<4),IF(J96>MAX('MDA1'!M96,MAX('MDA3'!I96,'MDA3'!L96)+MAX('MDA3'!J96,'MDA3'!M96)),MAX('MDA1'!M96,MAX('MDA3'!I96,'MDA3'!L96)+MAX('MDA3'!J96,'MDA3'!M96)),J96),0)","v":0},{"$f":"IF(AND(COUNTRY_INFO!I96>0,COUNTRY_INFO!I96<4), IF(M96/J96*100<>0, IF(M96/J96*100>100,100,M96/J96*100), \"-\"),0)","v":0},{"$f":"COUNTRY_INFO!O96","v":399842},null,null,{"$f":"SUM(MAX('MDA4'!R96, 'T1'!L96, MAX(T3_R1!K96, T3_R2!K96)), MAX('MDA1'!K96, 'MDA4'!S96, 'T1'!M96, MAX(T3_R1!L96, T3_R2!L96)), MAX('MDA1'!L96, 'MDA4'!T96, 'T1'!N96, MAX(T3_R1!M96, T3_R2!M96)))","v":0},{"$f":"IF(AND(COUNTRY_INFO!J96>1,COUNTRY_INFO!J96<4),IF(COUNTRY_INFO!E96>MAX('MDA4'!R96,'T1'!L96,MAX(T3_R1!K96,T3_R2!K96)),MAX('MDA4'!R96,'T1'!L96,MAX(T3_R1!K96,T3_R2!K96)),COUNTRY_INFO!E96),0)","v":0},{"$f":"IF(AND(COUNTRY_INFO!J96>1,COUNTRY_INFO!J96<4), IF(T96/COUNTRY_INFO!E96*100<>0, IF(T96/COUNTRY_INFO!E96*100>100,100,T96/COUNTRY_INFO!E96*100), \"-\"),0)","v":"-"},{"$f":"IF(AND(COUNTRY_INFO!J96>1,COUNTRY_INFO!J96<4),IF(COUNTRY_INFO!F96>MAX('MDA1'!K96,'MDA4'!S96,'T1'!M96,MAX(T3_R1!L96,T3_R2!L96)),MAX('MDA1'!K96,'MDA4'!S96,'T1'!M96,MAX(T3_R1!L96,T3_R2!L96)),COUNTRY_INFO!F96),0)","v":0},{"$f":"IF(AND(COUNTRY_INFO!J96>1,COUNTRY_INFO!J96<4), IF(V96/COUNTRY_INFO!F96*100<>0, IF(V96/COUNTRY_INFO!F96*100>100,100,V96/COUNTRY_INFO!F96*100), \"-\"),0)","v":"-"},0,{"$f":"IF(AND(COUNTRY_INFO!J96>1,COUNTRY_INFO!J96<4), IF(S96/P96*100<>0, IF(X96/P96*100>100,100,X96/P96*100), \"-\"),0)","v":"-"},{"$f":"COUNTRY_INFO!P96","v":223055.40000000002},null,null,{"$f":"MAX('T1'!L96,'T2'!J96)+MAX('T1'!M96,'T2'!K96)+MAX('T1'!N96,'T2'!L96)","v":0},{"$f":"IF(COUNTRY_INFO!K96=1,IF(COUNTRY_INFO!F96*0.33>MAX('T1'!M96,'T2'!K96),MAX('T1'!M96,'T2'!K96),COUNTRY_INFO!F96*0.33),IF(COUNTRY_INFO!K96=2,IF(COUNTRY_INFO!F96*0.5>MAX('T1'!M96,'T2'!K96),MAX('T1'!M96,'T2'!K96),COUNTRY_INFO!F96*0.5),IF(COUNTRY_INFO!K96=3,IF(COUNTRY_INFO!F96>MAX('T1'!M96,'T2'!K96),MAX('T1'!M96,'T2'!K96),COUNTRY_INFO!F96),0)))","v":0},{"$f":"IF(AND(COUNTRY_INFO!K96>0,COUNTRY_INFO!L96<4),IF(Z96>0,IF(COUNTRY_INFO!K96=1, AD96/(COUNTRY_INFO!F96*0.33)*100, IF(COUNTRY_INFO!K96=2, AD96/(COUNTRY_INFO!F96*0.5)*100, IF(COUNTRY_INFO!K96=3, AD96/COUNTRY_INFO!F96*100))),\"-\"),0)","v":0},{"$f":"IF(COUNTRY_INFO!K96=2,IF(COUNTRY_INFO!G96*0.2>MAX('T1'!N96,'T2'!L96),MAX('T1'!N96,'T2'!L96),COUNTRY_INFO!G96*0.2),IF(COUNTRY_INFO!K96=3,IF(COUNTRY_INFO!G96>MAX('T1'!N96,'T2'!L96),MAX('T1'!N96,'T2'!L96),COUNTRY_INFO!G96),0))","v":0},{"$f":"IF(AND(COUNTRY_INFO!K96>0,COUNTRY_INFO!L96<4),IF(Z96>0,IF(COUNTRY_INFO!K96=1, 0, IF(COUNTRY_INFO!K96=2, AF96/(COUNTRY_INFO!G96*0.2)*100, IF(COUNTRY_INFO!K96=3, AF96/COUNTRY_INFO!G96*100))),\"-\"),0)","v":0},0,{"$f":"IF(AND(COUNTRY_INFO!K96>0,COUNTRY_INFO!K96<4), IF(AC96/Z96*100<>0, IF(AH96/Z96*100>100,100,AH96/Z96*100), \"-\"),0)","v":"-"},null,{"$f":"IF(AND(D96<>0, D96<>\"Unknown\",D96<>\"Stopped\",D96<>\"Not required\"),D96/COUNTRY_INFO!D96, 0)","v":0},{"$f":"IF(AND(J96<>0,J96<>\"Unknown\",J96<>\"Stopped\",J96<>\"Not required\"),J96/COUNTRY_INFO!D96, 0)","v":0},{"$f":"IF(AND(P96<>0,P96<>\"Unknown\",P96<>\"Not required\"),P96/(COUNTRY_INFO!E96+COUNTRY_INFO!F96), 0)","v":1},{"$f":"IF(AND(Z96<>0,Z96<>\"Unknown\",Z96<>\"Not required\"),IF(COUNTRY_INFO!K96=1,1,IF(COUNTRY_INFO!K96=2,0.5*COUNTRY_INFO!F96/(0.5*COUNTRY_INFO!F96+0.2*COUNTRY_INFO!G96),IF(COUNTRY_INFO!K96=3,COUNTRY_INFO!F96/(COUNTRY_INFO!F96+COUNTRY_INFO!G96)))),0)","v":0.56962082065711028},{"$f":"IF(AND(Z96<>0,Z96<>\"Unknown\",Z96<>\"Not required\"),IF(COUNTRY_INFO!K96=1,0,IF(COUNTRY_INFO!K96=2,0.2*COUNTRY_INFO!G96/(0.5*COUNTRY_INFO!F96+0.2*COUNTRY_INFO!G96),IF(COUNTRY_INFO!K96=3,COUNTRY_INFO!G96/(COUNTRY_INFO!F96+COUNTRY_INFO!G96)))),0)","v":0.43037917934288972},{"$f":"MAX(COUNTRY_INFO!D96*AK96*PROFILE!$G$7,COUNTRY_INFO!D96*AL96*PROFILE!$G$7)","v":0},{"$f":"MAX(COUNTRY_INFO!D96*AK96*PROFILE!$G$8,COUNTRY_INFO!D96*AL96*PROFILE!$G$8,COUNTRY_INFO!D96*AM96*PROFILE!$G$8)","v":145728.10651012338},{"$f":"MAX(COUNTRY_INFO!D96*AK96*PROFILE!$G$9,COUNTRY_INFO!D96*AL96*PROFILE!$G$9,COUNTRY_INFO!D96*AM96*PROFILE!$G$9,IF(AND(DISTRICT!Z96<>\"Unknown\",Z96<>\"Not required\"),COUNTRY_INFO!P96*DISTRICT!AN96,0))","v":254113.50724033688},{"$f":"MAX(COUNTRY_INFO!D96*AK96*PROFILE!$G$10,COUNTRY_INFO!D96*AL96*PROFILE!$G$10,IF(AND(DISTRICT!Z96<>\"Unknown\",Z96<>\"Not required\"),COUNTRY_INFO!P96*DISTRICT!AO96,0))","v":95998.400000000009},495840.01375046029,0,{"$f":"MAX('MDA4'!R96,'T1'!L96,'T2'!J96,T3_R1!K96,T3_R2!K96)","v":0},{"$f":"MAX('MDA1'!K96,'MDA4'!S96,'MDA3'!I96,'MDA3'!L96,'T1'!M96,'T2'!K96,T3_R1!L96,T3_R2!L96)","v":0},{"$f":"MAX('MDA1'!L96,'MDA4'!T96,'MDA3'!J96,'MDA3'!M96,'T1'!N96,'T2'!L96,T3_R1!M96,T3_R2!M96)","v":0},0,{"$f":"MAX('MDA4'!R96,T96)","v":0},{"$f":"MAX('MDA1'!K96,'MDA4'!S96,'MDA3'!I96,'MDA3'!L96,V96,AD96)","v":0},{"$f":"MAX('MDA1'!L96,'MDA4'!T96,'MDA3'!J96,'MDA3'!M96,AF96)","v":0},0,0]
[{"$f":"IF(COUNTRY_INFO!A97=0,\" \",COUNTRY_INFO!A97)","v":"Angola"},{"$f":"IF(COUNTRY_INFO!B97=0,\" \",COUNTRY_INFO!B97)","v":"HUILA"},{"$f":"IF(COUNTRY_INFO!C97=0,\" \",COUNTRY_INFO!C97)","v":"MATALA"},{"$f":"COUNTRY_INFO!M97","v":0},null,null,{"$f":"MAX('MDA1'!M97,'MDA4'!U97)","v":0},{"$f":"IF(AND(COUNTRY_INFO!H97>0,COUNTRY_INFO!H97<4),IF(D97>MAX('MDA1'!M97,'MDA4'!U97),MAX('MDA1'!M97,'MDA4'!U97),D97),0)","v":0},{"$f":"IF(AND(COUNTRY_INFO!H97>0,COUNTRY_INFO!H97<4), IF(G97/D97*100<>0, IF(G97/D97*100>100,100,G97/D97*100), \"-\"),0)","v":0},{"$f":"COUNTRY_INFO!N97","v":337435.21341031662},null,null,{"$f":"MAX('MDA1'!M97,MAX('MDA3'!I97,'MDA3'!L97)+MAX('MDA3'!J97,'MDA3'!M97))","v":0},{"$f":"IF(AND(COUNTRY_INFO!I97>0,COUNTRY_INFO!I97<4),IF(J97>MAX('MDA1'!M97,MAX('MDA3'!I97,'MDA3'!L97)+MAX('MDA3'!J97,'MDA3'!M97)),MAX('MDA1'!M97,MAX('MDA3'!I97,'MDA3'!L97)+MAX('MDA3'!J97,'MDA3'!M97)),J97),0)","v":0},{"$f":"IF(AND(COUNTRY_INFO!I97>0,COUNTRY_INFO!I97<4), IF(M97/J97*100<>0, IF(M97/J97*100>100,100,M97/J97*100), \"-\"),0)","v":"-"},{"$f":"COUNTRY_INFO!O97","v":148134},null,null,{"$f":"SUM(MAX('MDA4'!R97, 'T1'!L97, MAX(T3_R1!K97, T3_R2!K97)), MAX('MDA1'!K97, 'MDA4'!S97, 'T1'!M97, MAX(T3_R1!L97, T3_R2!L97)), MAX('MDA1'!L97, 'MDA4'!T97, 'T1'!N97, MAX(T3_R1!M97, T3_R2!M97)))","v":0},{"$f":"IF(AND(COUNTRY_INFO!J97>1,COUNTRY_INFO!J97<4),IF(COUNTRY_INFO!E97>MAX('MDA4'!R97,'T1'!L97,MAX(T3_R1!K97,T3_R2!K97)),MAX('MDA4'!R97,'T1'!L97,MAX(T3_R1!K97,T3_R2!K97)),COUNTRY_INFO!E97),0)","v":0},{"$f":"IF(AND(COUNTRY_INFO!J97>1,COUNTRY_INFO!J97<4), IF(T97/COUNTRY_INFO!E97*100<>0, IF(T97/COUNTRY_INFO!E97*100>100,100,T97/COUNTRY_INFO!E97*100), \"-\"),0)","v":"-"},{"$f":"IF(AND(COUNTRY_INFO!J97>1,COUNTRY_INFO!J97<4),IF(COUNTRY_INFO!F97>MAX('MDA1'!K97,'MDA4'!S97,'T1'!M97,MAX(T3_R1!L97,T3_R2!L97)),MAX('MDA1'!K97,'MDA4'!S97,'T1'!M97,MAX(T3_R1!L97,T3_R2!L97)),COUNTRY_INFO!F97),0)","v":0},{"$f":"IF(AND(COUNTRY_INFO!J97>1,COUNTRY_INFO!J97<4), IF(V97/COUNTRY_INFO!F97*100<>0, IF(V97/COUNTRY_INFO!F97*100>100,100,V97/COUNTRY_INFO!F97*100), \"-\"),0)","v":"-"},0,{"$f":"IF(AND(COUNTRY_INFO!J97>1,COUNTRY_INFO!J97<4), IF(S97/P97*100<>0, IF(X97/P97*100>100,100,X97/P97*100), \"-\"),0)","v":"-"},{"$f":"COUNTRY_INFO!P97","v":82637.600000000006},null,null,{"$f":"MAX('T1'!L97,'T2'!J97)+MAX('T1'!M97,'T2'!K97)+MAX('T1'!N97,'T2'!L97)","v":0},{"$f":"IF(COUNTRY_INFO!K97=1,IF(COUNTRY_INFO!F97*0.33>MAX('T1'!M97,'T2'!K97),MAX('T1'!M97,'T2'!K97),COUNTRY_INFO!F97*0.33),IF(COUNTRY_INFO!K97=2,IF(COUNTRY_INFO!F97*0.5>MAX('T1'!M97,'T2'!K97),MAX('T1'!M97,'T2'!K97),COUNTRY_INFO!F97*0.5),IF(COUNTRY_INFO!K97=3,IF(COUNTRY_INFO!F97>MAX('T1'!M97,'T2'!K97),MAX('T1'!M97,'T2'!K97),COUNTRY_INFO!F97),0)))","v":0},{"$f":"IF(AND(COUNTRY_INFO!K97>0,COUNTRY_INFO!L97<4),IF(Z97>0,IF(COUNTRY_INFO!K97=1, AD97/(COUNTRY_INFO!F97*0.33)*100, IF(COUNTRY_INFO!K97=2, AD97/(COUNTRY_INFO!F97*0.5)*100, IF(COUNTRY_INFO!K97=3, AD97/COUNTRY_INFO!F97*100))),\"-\"),0)","v":0},{"$f":"IF(COUNTRY_INFO!K97=2,IF(COUNTRY_INFO!G97*0.2>MAX('T1'!N97,'T2'!L97),MAX('T1'!N97,'T2'!L97),COUNTRY_INFO!G97*0.2),IF(COUNTRY_INFO!K97=3,IF(COUNTRY_INFO!G97>MAX('T1'!N97,'T2'!L97),MAX('T1'!N97,'T2'!L97),COUNTRY_INFO!G97),0))","v":0},{"$f":"IF(AND(COUNTRY_INFO!K97>0,COUNTRY_INFO!L97<4),IF(Z97>0,IF(COUNTRY_INFO!K97=1, 0, IF(COUNTRY_INFO!K97=2, AF97/(COUNTRY_INFO!G97*0.2)*100, IF(COUNTRY_INFO!K97=3, AF97/COUNTRY_INFO!G97*100))),\"-\"),0)","v":0},0,{"$f":"IF(AND(COUNTRY_INFO!K97>0,COUNTRY_INFO!K97<4), IF(AC97/Z97*100<>0, IF(AH97/Z97*100>100,100,AH97/Z97*100), \"-\"),0)","v":"-"},null,{"$f":"IF(AND(D97<>0, D97<>\"Unknown\",D97<>\"Stopped\",D97<>\"Not required\"),D97/COUNTRY_INFO!D97, 0)","v":0},{"$f":"IF(AND(J97<>0,J97<>\"Unknown\",J97<>\"Stopped\",J97<>\"Not required\"),J97/COUNTRY_INFO!D97, 0)","v":1},{"$f":"IF(AND(P97<>0,P97<>\"Unknown\",P97<>\"Not required\"),P97/(COUNTRY_INFO!E97+COUNTRY_INFO!F97), 0)","v":1},{"$f":"IF(AND(Z97<>0,Z97<>\"Unknown\",Z97<>\"Not required\"),IF(COUNTRY_INFO!K97=1,1,IF(COUNTRY_INFO!K97=2,0.5*COUNTRY_INFO!F97/(0.5*COUNTRY_INFO!F97+0.2*COUNTRY_INFO!G97),IF(COUNTRY_INFO!K97=3,COUNTRY_INFO!F97/(COUNTRY_INFO!F97+COUNTRY_INFO!G97)))),0)","v":0.5696196404542242},{"$f":"IF(AND(Z97<>0,Z97<>\"Unknown\",Z97<>\"Not required\"),IF(COUNTRY_INFO!K97=1,0,IF(COUNTRY_INFO!K97=2,0.2*COUNTRY_INFO!G97/(0.5*COUNTRY_INFO!F97+0.2*COUNTRY_INFO!G97),IF(COUNTRY_INFO!K97=3,COUNTRY_INFO!G97/(COUNTRY_INFO!F97+COUNTRY_INFO!G97)))),0)","v":0.43038035954577575},{"$f":"MAX(COUNTRY_INFO!D97*AK97*PROFILE!$G$7,COUNTRY_INFO!D97*AL97*PROFILE!$G$7)","v":11472.87929990524},{"$f":"MAX(COUNTRY_INFO!D97*AK97*PROFILE!$G$8,COUNTRY_INFO!D97*AL97*PROFILE!$G$8,COUNTRY_INFO!D97*AM97*PROFILE!$G$8)","v":53989.587411797438},{"$f":"MAX(COUNTRY_INFO!D97*AK97*PROFILE!$G$9,COUNTRY_INFO!D97*AL97*PROFILE!$G$9,COUNTRY_INFO!D97*AM97*PROFILE!$G$9,IF(AND(DISTRICT!Z97<>\"Unknown\",Z97<>\"Not required\"),COUNTRY_INFO!P97*DISTRICT!AN97,0))","v":94144.388067771477},{"$f":"MAX(COUNTRY_INFO!D97*AK97*PROFILE!$G$10,COUNTRY_INFO!D97*AL97*PROFILE!$G$10,IF(AND(DISTRICT!Z97<>\"Unknown\",Z97<>\"Not required\"),COUNTRY_INFO!P97*DISTRICT!AO97,0))","v":177828.35863084247},337435.21341031662,0,{"$f":"MAX('MDA4'!R97,'T1'!L97,'T2'!J97,T3_R1!K97,T3_R2!K97)","v":0},{"$f":"MAX('MDA1'!K97,'MDA4'!S97,'MDA3'!I97,'MDA3'!L97,'T1'!M97,'T2'!K97,T3_R1!L97,T3_R2!L97)","v":0},{"$f":"MAX('MDA1'!L97,'MDA4'!T97,'MDA3'!J97,'MDA3'!M97,'T1'!N97,'T2'!L97,T3_R1!M97,T3_R2!M97)","v":0},0,{"$f":"MAX('MDA4'!R97,T97)","v":0},{"$f":"MAX('MDA1'!K97,'MDA4'!S97,'MDA3'!I97,'MDA3'!L97,V97,AD97)","v":0},{"$f":"MAX('MDA1'!L97,'MDA4'!T97,'MDA3'!J97,'MDA3'!M97,AF97)","v":0},0,0]
[{"$f":"IF(COUNTRY_INFO!A98=0,\" \",COUNTRY_INFO!A98)","v":"Angola"},{"$f":"IF(COUNTRY_INFO!B98=0,\" \",COUNTRY_INFO!B98)","v":"HUILA"},{"$f":"IF(COUNTRY_INFO!C98=0,\" \",COUNTRY_INFO!C98)","v":"QUILENGUES"},{"$f":"COUNTRY_INFO!M98","v":0},null,null,{"$f":"MAX('MDA1'!M98,'MDA4'!U98)","v":0},{"$f":"IF(AND(COUNTRY_INFO!H98>0,COUNTRY_INFO!H98<4),IF(D98>MAX('MDA1'!M98,'MDA4'!U98),MAX('MDA1'!M98,'MDA4'!U98),D98),0)","v":0},{"$f":"IF(AND(COUNTRY_INFO!H98>0,COUNTRY_INFO!H98<4), IF(G98/D98*100<>0, IF(G98/D98*100>100,100,G98/D98*100), \"-\"),0)","v":0},{"$f":"COUNTRY_INFO!N98","v":88392.148321033674},null,null,{"$f":"MAX('MDA1'!M98,MAX('MDA3'!I98,'MDA3'!L98)+MAX('MDA3'!J98,'MDA3'!M98))","v":0},{"$f":"IF(AND(COUNTRY_INFO!I98>0,COUNTRY_INFO!I98<4),IF(J98>MAX('MDA1'!M98,MAX('MDA3'!I98,'MDA3'!L98)+MAX('MDA3'!J98,'MDA3'!M98)),MAX('MDA1'!M98,MAX('MDA3'!I98,'MDA3'!L98)+MAX('MDA3'!J98,'MDA3'!M98)),J98),0)","v":0},{"$f":"IF(AND(COUNTRY_INFO!I98>0,COUNTRY_INFO!I98<4), IF(M98/J98*100<>0, IF(M98/J98*100>100,100,M98/J98*100), \"-\"),0)","v":"-"},{"$f":"COUNTRY_INFO!O98","v":38804},null,null,{"$f":"SUM(MAX('MDA4'!R98, 'T1'!L98, MAX(T3_R1!K98, T3_R2!K98)), MAX('MDA1'!K98, 'MDA4'!S98, 'T1'!M98, MAX(T3_R1!L98, T3_R2!L98)), MAX('MDA1'!L98, 'MDA4'!T98, 'T1'!N98, MAX(T3_R1!M98, T3_R2!M98)))","v":0},{"$f":"IF(AND(COUNTRY_INFO!J98>1,COUNTRY_INFO!J98<4),IF(COUNTRY_INFO!E98>MAX('MDA4'!R98,'T1'!L98,MAX(T3_R1!K98,T3_R2!K98)),MAX('MDA4'!R98,'T1'!L98,MAX(T3_R1!K98,T3_R2!K98)),COUNTRY_INFO!E98),0)","v":0},{"$f":"IF(AND(COUNTRY_INFO!J98>1,COUNTRY_INFO!J98<4), IF(T98/COUNTRY_INFO!E98*100<>0, IF(T98/COUNTRY_INFO!E98*100>100,100,T98/COUNTRY_INFO!E98*100), \"-\"),0)","v":"-"},{"$f":"IF(AND(COUNTRY_INFO!J98>1,COUNTRY_INFO!J98<4),IF(COUNTRY_INFO!F98>MAX('MDA1'!K98,'MDA4'!S98,'T1'!M98,MAX(T3_R1!L98,T3_R2!L98)),MAX('MDA1'!K98,'MDA4'!S98,'T1'!M98,MAX(T3_R1!L98,T3_R2!L98)),COUNTRY_INFO!F98),0)","v":0},{"$f":"IF(AND(COUNTRY_INFO!J98>1,COUNTRY_INFO!J98<4), IF(V98/COUNTRY_INFO!F98*100<>0, IF(V98/COUNTRY_INFO!F98*100>100,100,V98/COUNTRY_INFO!F98*100), \"-\"),0)","v":"-"},0,{"$f":"IF(AND(COUNTRY_INFO!J98>1,COUNTRY_INFO!J98<4), IF(S98/P98*100<>0, IF(X98/P98*100>100,100,X98/P98*100), \"-\"),0)","v":"-"},{"$f":"COUNTRY_INFO!P98","v":21647.1},null,null,{"$f":"MAX('T1'!L98,'T2'!J98)+MAX('T1'!M98,'T2'!K98)+MAX('T1'!N98,'T2'!L98)","v":0},{"$f":"IF(COUNTRY_INFO!K98=1,IF(COUNTRY_INFO!F98*0.33>MAX('T1'!M98,'T2'!K98),MAX('T1'!M98,'T2'!K98),COUNTRY_INFO!F98*0.33),IF(COUNTRY_INFO!K98=2,IF(COUNTRY_INFO!F98*0.5>MAX('T1'!M98,'T2'!K98),MAX('T1'!M98,'T2'!K98),COUNTRY_INFO!F98*0.5),IF(COUNTRY_INFO!K98=3,IF(COUNTRY_INFO!F98>MAX('T1'!M98,'T2'!K98),MAX('T1'!M98,'T2'!K98),COUNTRY_INFO!F98),0)))","v":0},{"$f":"IF(AND(COUNTRY_INFO!K98>0,COUNTRY_INFO!L98<4),IF(Z98>0,IF(COUNTRY_INFO!K98=1, AD98/(COUNTRY_INFO!F98*0.33)*100, IF(COUNTRY_INFO!K98=2, AD98/(COUNTRY_INFO!F98*0.5)*100, IF(COUNTRY_INFO!K98=3, AD98/COUNTRY_INFO!F98*100))),\"-\"),0)","v":0},{"$f":"IF(COUNTRY_INFO!K98=2,IF(COUNTRY_INFO!G98*0.2>MAX('T1'!N98,'T2'!L98),MAX('T1'!N98,'T2'!L98),COUNTRY_INFO!G98*0.2),IF(COUNTRY_INFO!K98=3,IF(COUNTRY_INFO!G98>MAX('T1'!N98,'T2'!L98),MAX('T1'!N98,'T2'!L98),COUNTRY_INFO!G98),0))","v":0},{"$f":"IF(AND(COUNTRY_INFO!K98>0,COUNTRY_INFO!L98<4),IF(Z98>0,IF(COUNTRY_INFO!K98=1, 0, IF(COUNTRY_INFO!K98=2, AF98/(COUNTRY_INFO!G98*0.2)*100, IF(COUNTRY_INFO!K98=3, AF98/COUNTRY_INFO!G98*100))),\"-\"),0)","v":0},0,{"$f":"IF(AND(COUNTRY_INFO!K98>0,COUNTRY_INFO!K98<4), IF(AC98/Z98*100<>0, IF(AH98/Z98*100>100,100,AH98/Z98*100), \"-\"),0)","v":"-"},null,{"$f":"IF(AND(D98<>0, D98<>\"Unknown\",D98<>\"Stopped\",D98<>\"Not required\"),D98/COUNTRY_INFO!D98, 0)","v":0},{"$f":"IF(AND(J98<>0,J98<>\"Unknown\",J98<>\"Stopped\",J98<>\"Not required\"),J98/COUNTRY_INFO!D98, 0)","v":1},{"$f":"IF(AND(P98<>0,P98<>\"Unknown\",P98<>\"Not required\"),P98/(COUNTRY_INFO!E98+COUNTRY_INFO!F98), 0)","v":1},{"$f":"IF(AND(Z98<>0,Z98<>\"Unknown\",Z98<>\"Not required\"),IF(COUNTRY_INFO!K98=1,1,IF(COUNTRY_INFO!K98=2,0.5*COUNTRY_INFO!F98/(0.5*COUNTRY_INFO!F98+0.2*COUNTRY_INFO!G98),IF(COUNTRY_INFO!K98=3,COUNTRY_INFO!F98/(COUNTRY_INFO!F98+COUNTRY_INFO!G98)))),0)","v":0.56961440562477195},{"$f":"IF(AND(Z98<>0,Z98<>\"Unknown\",Z98<>\"Not required\"),IF(COUNTRY_INFO!K98=1,0,IF(COUNTRY_INFO!K98=2,0.2*COUNTRY_INFO!G98/(0.5*COUNTRY_INFO!F98+0.2*COUNTRY_INFO!G98),IF(COUNTRY_INFO!K98=3,COUNTRY_INFO!G98/(COUNTRY_INFO!F98+COUNTRY_INFO!G98)))),0)","v":0.43038559437522811},{"$f":"MAX(COUNTRY_INFO!D98*AK98*PROFILE!$G$7,COUNTRY_INFO!D98*AL98*PROFILE!$G$7)","v":3005.3545345707416},{"$f":"MAX(COUNTRY_INFO!D98*AK98*PROFILE!$G$8,COUNTRY_INFO!D98*AL98*PROFILE!$G$8,COUNTRY_INFO!D98*AM98*PROFILE!$G$8)","v":14142.731489294847},{"$f":"MAX(COUNTRY_INFO!D98*AK98*PROFILE!$G$9,COUNTRY_INFO!D98*AL98*PROFILE!$G$9,COUNTRY_INFO!D98*AM98*PROFILE!$G$9,IF(AND(DISTRICT!Z98<>\"Unknown\",Z98<>\"Not required\"),COUNTRY_INFO!P98*DISTRICT!AN98,0))","v":24661.39982717342},{"$f":"MAX(COUNTRY_INFO!D98*AK98*PROFILE!$G$10,COUNTRY_INFO!D98*AL98*PROFILE!$G$10,IF(AND(DISTRICT!Z98<>\"Unknown\",Z98<>\"Not required\"),COUNTRY_INFO!P98*DISTRICT!AO98,0))","v":46582.662469994662},88392.148321033659,0,{"$f":"MAX('MDA4'!R98,'T1'!L98,'T2'!J98,T3_R1!K98,T3_R2!K98)","v":0},{"$f":"MAX('MDA1'!K98,'MDA4'!S98,'MDA3'!I98,'MDA3'!L98,'T1'!M98,'T2'!K98,T3_R1!L98,T3_R2!L98)","v":0},{"$f":"MAX('MDA1'!L98,'MDA4'!T98,'MDA3'!J98,'MDA3'!M98,'T1'!N98,'T2'!L98,T3_R1!M98,T3_R2!M98)","v":0},0,{"$f":"MAX('MDA4'!R98,T98)","v":0},{"$f":"MAX('MDA1'!K98,'MDA4'!S98,'MDA3'!I98,'MDA3'!L98,V98,AD98)","v":0},{"$f":"MAX('MDA1'!L98,'MDA4'!T98,'MDA3'!J98,'MDA3'!M98,AF98)","v":0},0,0]
[{"$f":"IF(COUNTRY_INFO!A99=0,\" \",COUNTRY_INFO!A99)","v":"Angola"},{"$f":"IF(COUNTRY_INFO!B99=0,\" \",COUNTRY_INFO!B99)","v":"HUILA"},{"$f":"IF(COUNTRY_INFO!C99=0,\" \",COUNTRY_INFO!C99)","v":"QUIPUNGO"},{"$f":"COUNTRY_INFO!M99","v":0},null,null,{"$f":"MAX('MDA1'!M99,'MDA4'!U99)","v":0},{"$f":"IF(AND(COUNTRY_INFO!H99>0,COUNTRY_INFO!H99<4),IF(D99>MAX('MDA1'!M99,'MDA4'!U99),MAX('MDA1'!M99,'MDA4'!U99),D99),0)","v":0},{"$f":"IF(AND(COUNTRY_INFO!H99>0,COUNTRY_INFO!H99<4), IF(G99/D99*100<>0, IF(G99/D99*100>100,100,G99/D99*100), \"-\"),0)","v":0},{"$f":"COUNTRY_INFO!N99","v":186464.32456635818},null,null,{"$f":"MAX('MDA1'!M99,MAX('MDA3'!I99,'MDA3'!L99)+MAX('MDA3'!J99,'MDA3'!M99))","v":0},{"$f":"IF(AND(COUNTRY_INFO!I99>0,COUNTRY_INFO!I99<4),IF(J99>MAX('MDA1'!M99,MAX('MDA3'!I99,'MDA3'!L99)+MAX('MDA3'!J99,'MDA3'!M99)),MAX('MDA1'!M99,MAX('MDA3'!I99,'MDA3'!L99)+MAX('MDA3'!J99,'MDA3'!M99)),J99),0)","v":0},{"$f":"IF(AND(COUNTRY_INFO!I99>0,COUNTRY_INFO!I99<4), IF(M99/J99*100<>0, IF(M99/J99*100>100,100,M99/J99*100), \"-\"),0)","v":"-"},{"$f":"COUNTRY_INFO!O99","v":81858},null,null,{"$f":"SUM(MAX('MDA4'!R99, 'T1'!L99, MAX(T3_R1!K99, T3_R2!K99)), MAX('MDA1'!K99, 'MDA4'!S99, 'T1'!M99, MAX(T3_R1!L99, T3_R2!L99)), MAX('MDA1'!L99, 'MDA4'!T99, 'T1'!N99, MAX(T3_R1!M99, T3_R2!M99)))","v":0},{"$f":"IF(AND(COUNTRY_INFO!J99>1,COUNTRY_INFO!J99<4),IF(COUNTRY_INFO!E99>MAX('MDA4'!R99,'T1'!L99,MAX(T3_R1!K99,T3_R2!K99)),MAX('MDA4'!R99,'T1'!L99,MAX(T3_R1!K99,T3_R2!K99)),COUNTRY_INFO!E99),0)","v":0},{"$f":"IF(AND(COUNTRY_INFO!J99>1,COUNTRY_INFO!J99<4), IF(T99/COUNTRY_INFO!E99*100<>0, IF(T99/COUNTRY_INFO!E99*100>100,100,T99/COUNTRY_INFO!E99*100), \"-\"),0)","v":"-"},{"$f":"IF(AND(COUNTRY_INFO!J99>1,COUNTRY_INFO!J99<4),IF(COUNTRY_INFO!F99>MAX('MDA1'!K99,'MDA4'!S99,'T1'!M99,MAX(T3_R1!L99,T3_R2!L99)),MAX('MDA1'!K99,'MDA4'!S99,'T1'!M99,MAX(T3_R1!L99,T3_R2!L99)),COUNTRY_INFO!F99),0)","v":0},{"$f":"IF(AND(COUNTRY_INFO!J99>1,COUNTRY_INFO!J99<4), IF(V99/COUNTRY_INFO!F99*100<>0, IF(V99/COUNTRY_INFO!F99*100>100,100,V99/COUNTRY_INFO!F99*100), \"-\"),0)","v":"-"},0,{"$f":"IF(AND(COUNTRY_INFO!J99>1,COUNTRY_INFO!J99<4), IF(S99/P99*100<>0, IF(X99/P99*100>100,100,X99/P99*100), \"-\"),0)","v":"-"},{"$f":"COUNTRY_INFO!P99","v":45665.4},null,null,{"$f":"MAX('T1'!L99,'T2'!J99)+MAX('T1'!M99,'T2'!K99)+MAX('T1'!N99,'T2'!L99)","v":0},{"$f":"IF(COUNTRY_INFO!K99=1,IF(COUNTRY_INFO!F99*0.33>MAX('T1'!M99,'T2'!K99),MAX('T1'!M99,'T2'!K99),COUNTRY_INFO!F99*0.33),IF(COUNTRY_INFO!K99=2,IF(COUNTRY_INFO!F99*0.5>MAX('T1'!M99,'T2'!K99),MAX('T1'!M99,'T2'!K99),COUNTRY_INFO!F99*0.5),IF(COUNTRY_INFO!K99=3,IF(COUNTRY_INFO!F99>MAX('T1'!M99,'T2'!K99),MAX('T1'!M99,'T2'!K99),COUNTRY_INFO!F99),0)))","v":0},{"$f":"IF(AND(COUNTRY_INFO!K99>0,COUNTRY_INFO!L99<4),IF(Z99>0,IF(COUNTRY_INFO!K99=1, AD99/(COUNTRY_INFO!F99*0.33)*100, IF(COUNTRY_INFO!K99=2, AD99/(COUNTRY_INFO!F99*0.5)*100, IF(COUNTRY_INFO!K99=3, AD99/COUNTRY_INFO!F99*100))),\"-\"),0)","v":0},{"$f":"IF(COUNTRY_INFO!K99=2,IF(COUNTRY_INFO!G99*0.2>MAX('T1'!N99,'T2'!L99),MAX('T1'!N99,'T2'!L99),COUNTRY_INFO!G99*0.2),IF(COUNTRY_INFO!K99=3,IF(COUNTRY_INFO!G99>MAX('T1'!N99,'T2'!L99),MAX('T1'!N99,'T2'!L99),COUNTRY_INFO!G99),0))","v":0},{"$f":"IF(AND(COUNTRY_INFO!K99>0,COUNTRY_INFO!L99<4),IF(Z99>0,IF(COUNTRY_INFO!K99=1, 0, IF(COUNTRY_INFO!K99=2, AF99/(COUNTRY_INFO!G99*0.2)*100, IF(COUNTRY_INFO!K99=3, AF99/COUNTRY_INFO!G99*100))),\"-\"),0)","v":0},0,{"$f":"IF(AND(COUNTRY_INFO!K99>0,COUNTRY_INFO!K99<4), IF(AC99/Z99*100<>0, IF(AH99/Z99*100>100,100,AH99/Z99*100), \"-\"),0)","v":"-"},null,{"$f":"IF(AND(D99<>0, D99<>\"Unknown\",D99<>\"Stopped\",D99<>\"Not required\"),D99/COUNTRY_INFO!D99, 0)","v":0},{"$f":"IF(AND(J99<>0,J99<>\"Unknown\",J99<>\"Stopped\",J99<>\"Not required\"),J99/COUNTRY_INFO!D99, 0)","v":1},{"$f":"IF(AND(P99<>0,P99<>\"Unknown\",P99<>\"Not required\"),P99/(COUNTRY_INFO!E99+COUNTRY_INFO!F99), 0)","v":1},{"$f":"IF(AND(Z99<>0,Z99<>\"Unknown\",Z99<>\"Not required\"),IF(COUNTRY_INFO!K99=1,1,IF(COUNTRY_INFO!K99=2,0.5*COUNTRY_INFO!F99/(0.5*COUNTRY_INFO!F99+0.2*COUNTRY_INFO!G99),IF(COUNTRY_INFO!K99=3,COUNTRY_INFO!F99/(COUNTRY_INFO!F99+COUNTRY_INFO!G99)))),0)","v":0.56962163914035568},{"$f":"IF(AND(Z99<>0,Z99<>\"Unknown\",Z99<>\"Not required\"),IF(COUNTRY_INFO!K99=1,0,IF(COUNTRY_INFO!K99=2,0.2*COUNTRY_INFO!G99/(0.5*COUNTRY_INFO!F99+0.2*COUNTRY_INFO!G99),IF(COUNTRY_INFO!K99=3,COUNTRY_INFO!G99/(COUNTRY_INFO!F99+COUNTRY_INFO!G99)))),0)","v":0.43037836085964432},{"$f":"MAX(COUNTRY_INFO!D99*AK99*PROFILE!$G$7,COUNTRY_INFO!D99*AL99*PROFILE!$G$7)","v":6339.832372168119},{"$f":"MAX(COUNTRY_INFO!D99*AK99*PROFILE!$G$8,COUNTRY_INFO!D99*AL99*PROFILE!$G$8,COUNTRY_INFO!D99*AM99*PROFILE!$G$8)","v":29834.266105818861},{"$f":"MAX(COUNTRY_INFO!D99*AK99*PROFILE!$G$9,COUNTRY_INFO!D99*AL99*PROFILE!$G$9,COUNTRY_INFO!D99*AM99*PROFILE!$G$9,IF(AND(DISTRICT!Z99<>\"Unknown\",Z99<>\"Not required\"),COUNTRY_INFO!P99*DISTRICT!AN99,0))","v":52023.526398900161},{"$f":"MAX(COUNTRY_INFO!D99*AK99*PROFILE!$G$10,COUNTRY_INFO!D99*AL99*PROFILE!$G$10,IF(AND(DISTRICT!Z99<>\"Unknown\",Z99<>\"Not required\"),COUNTRY_INFO!P99*DISTRICT!AO99,0))","v":98266.699689471032},186464.32456635818,0,{"$f":"MAX('MDA4'!R99,'T1'!L99,'T2'!J99,T3_R1!K99,T3_R2!K99)","v":0},{"$f":"MAX('MDA1'!K99,'MDA4'!S99,'MDA3'!I99,'MDA3'!L99,'T1'!M99,'T2'!K99,T3_R1!L99,T3_R2!L99)","v":0},{"$f":"MAX('MDA1'!L99,'MDA4'!T99,'MDA3'!J99,'MDA3'!M99,'T1'!N99,'T2'!L99,T3_R1!M99,T3_R2!M99)","v":0},0,{"$f":"MAX('MDA4'!R99,T99)","v":0},{"$f":"MAX('MDA1'!K99,'MDA4'!S99,'MDA3'!I99,'MDA3'!L99,V99,AD99)","v":0},{"$f":"MAX('MDA1'!L99,'MDA4'!T99,'MDA3'!J99,'MDA3'!M99,AF99)","v":0},0,0]
[{"$f":"IF(COUNTRY_INFO!A100=0,\" \",COUNTRY_INFO!A100)","v":"Angola"},{"$f":"IF(COUNTRY_INFO!B100=0,\" \",COUNTRY_INFO!B100)","v":"LUANDA"},{"$f":"IF(COUNTRY_INFO!C100=0,\" \",COUNTRY_INFO!C100)","v":"BELAS"},{"$f":"COUNTRY_INFO!M100","v":0},null,null,{"$f":"MAX('MDA1'!M100,'MDA4'!U100)","v":0},{"$f":"IF(AND(COUNTRY_INFO!H100>0,COUNTRY_INFO!H100<4),IF(D100>MAX('MDA1'!M100,'MDA4'!U100),MAX('MDA1'!M100,'MDA4'!U100),D100),0)","v":0},{"$f":"IF(AND(COUNTRY_INFO!H100>0,COUNTRY_INFO!H100<4), IF(G100/D100*100<>0, IF(G100/D100*100>100,100,G100/D100*100), \"-\"),0)","v":0},{"$f":"COUNTRY_INFO!N100","v":"Unknown"},null,null,{"$f":"MAX('MDA1'!M100,MAX('MDA3'!I100,'MDA3'!L100)+MAX('MDA3'!J100,'MDA3'!M100))","v":0},{"$f":"IF(AND(COUNTRY_INFO!I100>0,COUNTRY_INFO!I100<4),IF(J100>MAX('MDA1'!M100,MAX('MDA3'!I100,'MDA3'!L100)+MAX('MDA3'!J100,'MDA3'!M100)),MAX('MDA1'!M100,MAX('MDA3'!I100,'MDA3'!L100)+MAX('MDA3'!J100,'MDA3'!M100)),J100),0)","v":0},{"$f":"IF(AND(COUNTRY_INFO!I100>0,COUNTRY_INFO!I100<4), IF(M100/J100*100<>0, IF(M100/J100*100>100,100,M100/J100*100), \"-\"),0)","v":0},{"$f":"COUNTRY_INFO!O100","v":553783},null,null,{"$f":"SUM(MAX('MDA4'!R100, 'T1'!L100, MAX(T3_R1!K100, T3_R2!K100)), MAX('MDA1'!K100, 'MDA4'!S100, 'T1'!M100, MAX(T3_R1!L100, T3_R2!L100)), MAX('MDA1'!L100, 'MDA4'!T100, 'T1'!N100, MAX(T3_R1!M100, T3_R2!M100)))","v":0},{"$f":"IF(AND(COUNTRY_INFO!J100>1,COUNTRY_INFO!J100<4),IF(COUNTRY_INFO!E100>MAX('MDA4'!R100,'T1'!L100,MAX(T3_R1!K100,T3_R2!K100)),MAX('MDA4'!R100,'T1'!L100,MAX(T3_R1!K100,T3_R2!K100)),COUNTRY_INFO!E100),0)","v":0},{"$f":"IF(AND(COUNTRY_INFO!J100>1,COUNTRY_INFO!J100<4), IF(T100/COUNTRY_INFO!E100*100<>0, IF(T100/COUNTRY_INFO!E100*100>100,100,T100/COUNTRY_INFO!E100*100), \"-\"),0)","v":"-"},{"$f":"IF(AND(COUNTRY_INFO!J100>1,COUNTRY_INFO!J100<4),IF(COUNTRY_INFO!F100>MAX('MDA1'!K100,'MDA4'!S100,'T1'!M100,MAX(T3_R1!L100,T3_R2!L100)),MAX('MDA1'!K100,'MDA4'!S100,'T1'!M100,MAX(T3_R1!L100,T3_R2!L100)),COUNTRY_INFO!F100),0)","v":0},{"$f":"IF(AND(COUNTRY_INFO!J100>1,COUNTRY_INFO!J100<4), IF(V100/COUNTRY_INFO!F100*100<>0, IF(V100/COUNTRY_INFO!F100*100>100,100,V100/COUNTRY_INFO!F100*100), \"-\"),0)","v":"-"},0,{"$f":"IF(AND(COUNTRY_INFO!J100>1,COUNTRY_INFO!J100<4), IF(S100/P100*100<>0, IF(X100/P100*100>100,100,X100/P100*100), \"-\"),0)","v":"-"},{"$f":"COUNTRY_INFO!P100","v":308932.90000000002},null,null,{"$f":"MAX('T1'!L100,'T2'!J100)+MAX('T1'!M100,'T2'!K100)+MAX('T1'!N100,'T2'!L100)","v":0},{"$f":"IF(COUNTRY_INFO!K100=1,IF(COUNTRY_INFO!F100*0.33>MAX('T1'!M100,'T2'!K100),MAX('T1'!M100,'T2'!K100),COUNTRY_INFO!F100*0.33),IF(COUNTRY_INFO!K100=2,IF(COUNTRY_INFO!F100*0.5>MAX('T1'!M100,'T2'!K100),MAX('T1'!M100,'T2'!K100),COUNTRY_INFO!F100*0.5),IF(COUNTRY_INFO!K100=3,IF(COUNTRY_INFO!F100>MAX('T1'!M100,'T2'!K100),MAX('T1'!M100,'T2'!K100),COUNTRY_INFO!F100),0)))","v":0},{"$f":"IF(AND(COUNTRY_INFO!K100>0,COUNTRY_INFO!L100<4),IF(Z100>0,IF(COUNTRY_INFO!K100=1, AD100/(COUNTRY_INFO!F100*0.33)*100, IF(COUNTRY_INFO!K100=2, AD100/(COUNTRY_INFO!F100*0.5)*100, IF(COUNTRY_INFO!K100=3, AD100/COUNTRY_INFO!F100*100))),\"-\"),0)","v":0},{"$f":"IF(COUNTRY_INFO!K100=2,IF(COUNTRY_INFO!G100*0.2>MAX('T1'!N100,'T2'!L100),MAX('T1'!N100,'T2'!L100),COUNTRY_INFO!G100*0.2),IF(COUNTRY_INFO!K100=3,IF(COUNTRY_INFO!G100>MAX('T1'!N100,'T2'!L100),MAX('T1'!N100,'T2'!L100),COUNTRY_INFO!G100),0))","v":0},{"$f":"IF(AND(COUNTRY_INFO!K100>0,COUNTRY_INFO!L100<4),IF(Z100>0,IF(COUNTRY_INFO!K100=1, 0, IF(COUNTRY_INFO!K100=2, AF100/(COUNTRY_INFO!G100*0.2)*100, IF(COUNTRY_INFO!K100=3, AF100/COUNTRY_INFO!G100*100))),\"-\"),0)","v":0},0,{"$f":"IF(AND(COUNTRY_INFO!K100>0,COUNTRY_INFO!K100<4), IF(AC100/Z100*100<>0, IF(AH100/Z100*100>100,100,AH100/Z100*100), \"-\"),0)","v":"-"},null,{"$f":"IF(AND(D100<>0, D100<>\"Unknown\",D100<>\"Stopped\",D100<>\"Not required\"),D100/COUNTRY_INFO!D100, 0)","v":0},{"$f":"IF(AND(J100<>0,J100<>\"Unknown\",J100<>\"Stopped\",J100<>\"Not required\"),J100/COUNTRY_INFO!D100, 0)","v":0},{"$f":"IF(AND(P100<>0,P100<>\"Unknown\",P100<>\"Not required\"),P100/(COUNTRY_INFO!E100+COUNTRY_INFO!F100), 0)","v":1},{"$f":"IF(AND(Z100<>0,Z100<>\"Unknown\",Z100<>\"Not required\"),IF(COUNTRY_INFO!K100=1,1,IF(COUNTRY_INFO!K100=2,0.5*COUNTRY_INFO!F100/(0.5*COUNTRY_INFO!F100+0.2*COUNTRY_INFO!G100),IF(COUNTRY_INFO!K100=3,COUNTRY_INFO!F100/(COUNTRY_INFO!F100+COUNTRY_INFO!G100)))),0)","v":0.56962045803473826},{"$f":"IF(AND(Z100<>0,Z100<>\"Unknown\",Z100<>\"Not required\"),IF(COUNTRY_INFO!K100=1,0,IF(COUNTRY_INFO!K100=2,0.2*COUNTRY_INFO!G100/(0.5*COUNTRY_INFO!F100+0.2*COUNTRY_INFO!G100),IF(COUNTRY_INFO!K100=3,COUNTRY_INFO!G100/(COUNTRY_INFO!F100+COUNTRY_INFO!G100)))),0)","v":0.43037954196526168},{"$f":"MAX(COUNTRY_INFO!D100*AK100*PROFILE!$G$7,COUNTRY_INFO!D100*AL100*PROFILE!$G$7)","v":0},{"$f":"MAX(COUNTRY_INFO!D100*AK100*PROFILE!$G$8,COUNTRY_INFO!D100*AL100*PROFILE!$G$8,COUNTRY_INFO!D100*AM100*PROFILE!$G$8)","v":201834.20379542161},{"$f":"MAX(COUNTRY_INFO!D100*AK100*PROFILE!$G$9,COUNTRY_INFO!D100*AL100*PROFILE!$G$9,COUNTRY_INFO!D100*AM100*PROFILE!$G$9,IF(AND(DISTRICT!Z100<>\"Unknown\",Z100<>\"Not required\"),COUNTRY_INFO!P100*DISTRICT!AN100,0))","v":351948.56116484699},{"$f":"MAX(COUNTRY_INFO!D100*AK100*PROFILE!$G$10,COUNTRY_INFO!D100*AL100*PROFILE!$G$10,IF(AND(DISTRICT!Z100<>\"Unknown\",Z100<>\"Not required\"),COUNTRY_INFO!P100*DISTRICT!AO100,0))","v":132958.39999999999},686741.16496026865,0,{"$f":"MAX('MDA4'!R100,'T1'!L100,'T2'!J100,T3_R1!K100,T3_R2!K100)","v":0},{"$f":"MAX('MDA1'!K100,'MDA4'!S100,'MDA3'!I100,'MDA3'!L100,'T1'!M100,'T2'!K100,T3_R1!L100,T3_R2!L100)","v":0},{"$f":"MAX('MDA1'!L100,'MDA4'!T100,'MDA3'!J100,'MDA3'!M100,'T1'!N100,'T2'!L100,T3_R1!M100,T3_R2!M100)","v":0},0,{"$f":"MAX('MDA4'!R100,T100)","v":0},{"$f":"MAX('MDA1'!K100,'MDA4'!S100,'MDA3'!I100,'MDA3'!L100,V100,AD100)","v":0},{"$f":"MAX('MDA1'!L100,'MDA4'!T100,'MDA3'!J100,'MDA3'!M100,AF100)","v":0},0,0]
[{"$f":"IF(COUNTRY_INFO!A101=0,\" \",COUNTRY_INFO!A101)","v":"Angola"},{"$f":"IF(COUNTRY_INFO!B101=0,\" \",COUNTRY_INFO!B101)","v":"LUANDA"},{"$f":"IF(COUNTRY_INFO!C101=0,\" \",COUNTRY_INFO!C101)","v":"CACUACO"},{"$f":"COUNTRY_INFO!M101","v":0},null,null,{"$f":"MAX('MDA1'!M101,'MDA4'!U101)","v":0},{"$f":"IF(AND(COUNTRY_INFO!H101>0,COUNTRY_INFO!H101<4),IF(D101>MAX('MDA1'!M101,'MDA4'!U101),MAX('MDA1'!M101,'MDA4'!U101),D101),0)","v":0},{"$f":"IF(AND(COUNTRY_INFO!H101>0,COUNTRY_INFO!H101<4), IF(G101/D101*100<>0, IF(G101/D101*100>100,100,G101/D101*100), \"-\"),0)","v":0},{"$f":"COUNTRY_INFO!N101","v":"Unknown"},null,null,{"$f":"MAX('MDA1'!M101,MAX('MDA3'!I101,'MDA3'!L101)+MAX('MDA3'!J101,'MDA3'!M101))","v":0},{"$f":"IF(AND(COUNTRY_INFO!I101>0,COUNTRY_INFO!I101<4),IF(J101>MAX('MDA1'!M101,MAX('MDA3'!I101,'MDA3'!L101)+MAX('MDA3'!J101,'MDA3'!M101)),MAX('MDA1'!M101,MAX('MDA3'!I101,'MDA3'!L101)+MAX('MDA3'!J101,'MDA3'!M101)),J101),0)","v":0},{"$f":"IF(AND(COUNTRY_INFO!I101>0,COUNTRY_INFO!I101<4), IF(M101/J101*100<>0, IF(M101/J101*100>100,100,M101/J101*100), \"-\"),0)","v":0},{"$f":"COUNTRY_INFO!O101","v":551227},null,null,{"$f":"SUM(MAX('MDA4'!R101, 'T1'!L101, MAX(T3_R1!K101, T3_R2!K101)), MAX('MDA1'!K101, 'MDA4'!S101, 'T1'!M101, MAX(T3_R1!L101, T3_R2!L101)), MAX('MDA1'!L101, 'MDA4'!T101, 'T1'!N101, MAX(T3_R1!M101, T3_R2!M101)))","v":0},{"$f":"IF(AND(COUNTRY_INFO!J101>1,COUNTRY_INFO!J101<4),IF(COUNTRY_INFO!E101>MAX('MDA4'!R101,'T1'!L101,MAX(T3_R1!K101,T3_R2!K101)),MAX('MDA4'!R101,'T1'!L101,MAX(T3_R1!K101,T3_R2!K101)),COUNTRY_INFO!E101),0)","v":0},{"$f":"IF(AND(COUNTRY_INFO!J101>1,COUNTRY_INFO!J101<4), IF(T101/COUNTRY_INFO!E101*100<>0, IF(T101/COUNTRY_INFO!E101*100>100,100,T101/COUNTRY_INFO!E101*100), \"-\"),0)","v":"-"},{"$f":"IF(AND(COUNTRY_INFO!J101>1,COUNTRY_INFO!J101<4),IF(COUNTRY_INFO!F101>MAX('MDA1'!K101,'MDA4'!S101,'T1'!M101,MAX(T3_R1!L101,T3_R2!L101)),MAX('MDA1'!K101,'MDA4'!S101,'T1'!M101,MAX(T3_R1!L101,T3_R2!L101)),COUNTRY_INFO!F101),0)","v":0},{"$f":"IF(AND(COUNTRY_INFO!J101>1,COUNTRY_INFO!J101<4), IF(V101/COUNTRY_INFO!F101*100<>0, IF(V101/COUNTRY_INFO!F101*100>100,100,V101/COUNTRY_INFO!F101*100), \"-\"),0)","v":"-"},0,{"$f":"IF(AND(COUNTRY_INFO!J101>1,COUNTRY_INFO!J101<4), IF(S101/P101*100<>0, IF(X101/P101*100>100,100,X101/P101*100), \"-\"),0)","v":"-"},{"$f":"COUNTRY_INFO!P101","v":307506.80000000005},null,null,{"$f":"MAX('T1'!L101,'T2'!J101)+MAX('T1'!M101,'T2'!K101)+MAX('T1'!N101,'T2'!L101)","v":0},{"$f":"IF(COUNTRY_INFO!K101=1,IF(COUNTRY_INFO!F101*0.33>MAX('T1'!M101,'T2'!K101),MAX('T1'!M101,'T2'!K101),COUNTRY_INFO!F101*0.33),IF(COUNTRY_INFO!K101=2,IF(COUNTRY_INFO!F101*0.5>MAX('T1'!M101,'T2'!K101),MAX('T1'!M101,'T2'!K101),COUNTRY_INFO!F101*0.5),IF(COUNTRY_INFO!K101=3,IF(COUNTRY_INFO!F101>MAX('T1'!M101,'T2'!K101),MAX('T1'!M101,'T2'!K101),COUNTRY_INFO!F101),0)))","v":0},{"$f":"IF(AND(COUNTRY_INFO!K101>0,COUNTRY_INFO!L101<4),IF(Z101>0,IF(COUNTRY_INFO!K101=1, AD101/(COUNTRY_INFO!F101*0.33)*100, IF(COUNTRY_INFO!K101=2, AD101/(COUNTRY_INFO!F101*0.5)*100, IF(COUNTRY_INFO!K101=3, AD101/COUNTRY_INFO!F101*100))),\"-\"),0)","v":0},{"$f":"IF(COUNTRY_INFO!K101=2,IF(COUNTRY_INFO!G101*0.2>MAX('T1'!N101,'T2'!L101),MAX('T1'!N101,'T2'!L101),COUNTRY_INFO!G101*0.2),IF(COUNTRY_INFO!K101=3,IF(COUNTRY_INFO!G101>MAX('T1'!N101,'T2'!L101),MAX('T1'!N101,'T2'!L101),COUNTRY_INFO!G101),0))","v":0},{"$f":"IF(AND(COUNTRY_INFO!K101>0,COUNTRY_INFO!L101<4),IF(Z101>0,IF(COUNTRY_INFO!K101=1, 0, IF(COUNTRY_INFO!K101=2, AF101/(COUNTRY_INFO!G101*0.2)*100, IF(COUNTRY_INFO!K101=3, AF101/COUNTRY_INFO!G101*100))),\"-\"),0)","v":0},0,{"$f":"IF(AND(COUNTRY_INFO!K101>0,COUNTRY_INFO!K101<4), IF(AC101/Z101*100<>0, IF(AH101/Z101*100>100,100,AH101/Z101*100), \"-\"),0)","v":"-"},null,{"$f":"IF(AND(D101<>0, D101<>\"Unknown\",D101<>\"Stopped\",D101<>\"Not required\"),D101/COUNTRY_INFO!D101, 0)","v":0},{"$f":"IF(AND(J101<>0,J101<>\"Unknown\",J101<>\"Stopped\",J101<>\"Not required\"),J101/COUNTRY_INFO!D101, 0)","v":0},{"$f":"IF(AND(P101<>0,P101<>\"Unknown\",P101<>\"Not required\"),P101/(COUNTRY_INFO!E101+COUNTRY_INFO!F101), 0)","v":1},{"$f":"IF(AND(Z101<>0,Z101<>\"Unknown\",Z101<>\"Not required\"),IF(COUNTRY_INFO!K101=1,1,IF(COUNTRY_INFO!K101=2,0.5*COUNTRY_INFO!F101/(0.5*COUNTRY_INFO!F101+0.2*COUNTRY_INFO!G101),IF(COUNTRY_INFO!K101=3,COUNTRY_INFO!F101/(COUNTRY_INFO!F101+COUNTRY_INFO!G101)))),0)","v":0.56961992385209037},{"$f":"IF(AND(Z101<>0,Z101<>\"Unknown\",Z101<>\"Not required\"),IF(COUNTRY_INFO!K101=1,0,IF(COUNTRY_INFO!K101=2,0.2*COUNTRY_INFO!G101/(0.5*COUNTRY_INFO!F101+0.2*COUNTRY_INFO!G101),IF(COUNTRY_INFO!K101=3,COUNTRY_INFO!G101/(COUNTRY_INFO!F101+COUNTRY_INFO!G101)))),0)","v":0.43038007614790957},{"$f":"MAX(COUNTRY_INFO!D101*AK101*PROFILE!$G$7,COUNTRY_INFO!D101*AL101*PROFILE!$G$7)","v":0},{"$f":"MAX(COUNTRY_INFO!D101*AK101*PROFILE!$G$8,COUNTRY_INFO!D101*AL101*PROFILE!$G$8,COUNTRY_INFO!D101*AM101*PROFILE!$G$8)","v":200902.66911453538},{"$f":"MAX(COUNTRY_INFO!D101*AK101*PROFILE!$G$9,COUNTRY_INFO!D101*AL101*PROFILE!$G$9,COUNTRY_INFO!D101*AM101*PROFILE!$G$9,IF(AND(DISTRICT!Z101<>\"Unknown\",Z101<>\"Not required\"),COUNTRY_INFO!P101*DISTRICT!AN101,0))","v":350324.19678830472},{"$f":"MAX(COUNTRY_INFO!D101*AK101*PROFILE!$G$10,COUNTRY_INFO!D101*AL101*PROFILE!$G$10,IF(AND(DISTRICT!Z101<>\"Unknown\",Z101<>\"Not required\"),COUNTRY_INFO!P101*DISTRICT!AO101,0))","v":132344.80000000002},683571.66590284021,0,{"$f":"MAX('MDA4'!R101,'T1'!L101,'T2'!J101,T3_R1!K101,T3_R2!K101)","v":0},{"$f":"MAX('MDA1'!K101,'MDA4'!S101,'MDA3'!I101,'MDA3'!L101,'T1'!M101,'T2'!K101,T3_R1!L101,T3_R2!L101)","v":0},{"$f":"MAX('MDA1'!L101,'MDA4'!T101,'MDA3'!J101,'MDA3'!M101,'T1'!N101,'T2'!L101,T3_R1!M101,T3_R2!M101)","v":0},0,{"$f":"MAX('MDA4'!R101,T101)","v":0},{"$f":"MAX('MDA1'!K101,'MDA4'!S101,'MDA3'!I101,'MDA3'!L101,V101,AD101)","v":0},{"$f":"MAX('MDA1'!L101,'MDA4'!T101,'MDA3'!J101,'MDA3'!M101,AF101)","v":0},0,0]
[{"$f":"IF(COUNTRY_INFO!A102=0,\" \",COUNTRY_INFO!A102)","v":"Angola"},{"$f":"IF(COUNTRY_INFO!B102=0,\" \",COUNTRY_INFO!B102)","v":"LUANDA"},{"$f":"IF(COUNTRY_INFO!C102=0,\" \",COUNTRY_INFO!C102)","v":"CAZENGA"},{"$f":"COUNTRY_INFO!M102","v":0},null,null,{"$f":"MAX('MDA1'!M102,'MDA4'!U102)","v":0},{"$f":"IF(AND(COUNTRY_INFO!H102>0,COUNTRY_INFO!H102<4),IF(D102>MAX('MDA1'!M102,'MDA4'!U102),MAX('MDA1'!M102,'MDA4'!U102),D102),0)","v":0},{"$f":"IF(AND(COUNTRY_INFO!H102>0,COUNTRY_INFO!H102<4), IF(G102/D102*100<>0, IF(G102/D102*100>100,100,G102/D102*100), \"-\"),0)","v":0},{"$f":"COUNTRY_INFO!N102","v":"Unknown"},null,null,{"$f":"MAX('MDA1'!M102,MAX('MDA3'!I102,'MDA3'!L102)+MAX('MDA3'!J102,'MDA3'!M102))","v":0},{"$f":"IF(AND(COUNTRY_INFO!I102>0,COUNTRY_INFO!I102<4),IF(J102>MAX('MDA1'!M102,MAX('MDA3'!I102,'MDA3'!L102)+MAX('MDA3'!J102,'MDA3'!M102)),MAX('MDA1'!M102,MAX('MDA3'!I102,'MDA3'!L102)+MAX('MDA3'!J102,'MDA3'!M102)),J102),0)","v":0},{"$f":"IF(AND(COUNTRY_INFO!I102>0,COUNTRY_INFO!I102<4), IF(M102/J102*100<>0, IF(M102/J102*100>100,100,M102/J102*100), \"-\"),0)","v":0},{"$f":"COUNTRY_INFO!O102","v":459671},null,null,{"$f":"SUM(MAX('MDA4'!R102, 'T1'!L102, MAX(T3_R1!K102, T3_R2!K102)), MAX('MDA1'!K102, 'MDA4'!S102, 'T1'!M102, MAX(T3_R1!L102, T3_R2!L102)), MAX('MDA1'!L102, 'MDA4'!T102, 'T1'!N102, MAX(T3_R1!M102, T3_R2!M102)))","v":0},{"$f":"IF(AND(COUNTRY_INFO!J102>1,COUNTRY_INFO!J102<4),IF(COUNTRY_INFO!E102>MAX('MDA4'!R102,'T1'!L102,MAX(T3_R1!K102,T3_R2!K102)),MAX('MDA4'!R102,'T1'!L102,MAX(T3_R1!K102,T3_R2!K102)),COUNTRY_INFO!E102),0)","v":0},{"$f":"IF(AND(COUNTRY_INFO!J102>1,COUNTRY_INFO!J102<4), IF(T102/COUNTRY_INFO!E102*100<>0, IF(T102/COUNTRY_INFO!E102*100>100,100,T102/COUNTRY_INFO!E102*100), \"-\"),0)","v":"-"},{"$f":"IF(AND(COUNTRY_INFO!J102>1,COUNTRY_INFO!J102<4),IF(COUNTRY_INFO!F102>MAX('MDA1'!K102,'MDA4'!S102,'T1'!M102,MAX(T3_R1!L102,T3_R2!L102)),MAX('MDA1'!K102,'MDA4'!S102,'T1'!M102,MAX(T3_R1!L102,T3_R2!L102)),COUNTRY_INFO!F102),0)","v":0},{"$f":"IF(AND(COUNTRY_INFO!J102>1,COUNTRY_INFO!J102<4), IF(V102/COUNTRY_INFO!F102*100<>0, IF(V102/COUNTRY_INFO!F102*100>100,100,V102/COUNTRY_INFO!F102*100), \"-\"),0)","v":"-"},0,{"$f":"IF(AND(COUNTRY_INFO!J102>1,COUNTRY_INFO!J102<4), IF(S102/P102*100<>0, IF(X102/P102*100>100,100,X102/P102*100), \"-\"),0)","v":"-"},{"$f":"COUNTRY_INFO!P102","v":256431.5},null,null,{"$f":"MAX('T1'!L102,'T2'!J102)+MAX('T1'!M102,'T2'!K102)+MAX('T1'!N102,'T2'!L102)","v":0},{"$f":"IF(COUNTRY_INFO!K102=1,IF(COUNTRY_INFO!F102*0.33>MAX('T1'!M102,'T2'!K102),MAX('T1'!M102,'T2'!K102),COUNTRY_INFO!F102*0.33),IF(COUNTRY_INFO!K102=2,IF(COUNTRY_INFO!F102*0.5>MAX('T1'!M102,'T2'!K102),MAX('T1'!M102,'T2'!K102),COUNTRY_INFO!F102*0.5),IF(COUNTRY_INFO!K102=3,IF(COUNTRY_INFO!F102>MAX('T1'!M102,'T2'!K102),MAX('T1'!M102,'T2'!K102),COUNTRY_INFO!F102),0)))","v":0},{"$f":"IF(AND(COUNTRY_INFO!K102>0,COUNTRY_INFO!L102<4),IF(Z102>0,IF(COUNTRY_INFO!K102=1, AD102/(COUNTRY_INFO!F102*0.33)*100, IF(COUNTRY_INFO!K102=2, AD102/(COUNTRY_INFO!F102*0.5)*100, IF(COUNTRY_INFO!K102=3, AD102/COUNTRY_INFO!F102*100))),\"-\"),0)","v":0},{"$f":"IF(COUNTRY_INFO!K102=2,IF(COUNTRY_INFO!G102*0.2>MAX('T1'!N102,'T2'!L102),MAX('T1'!N102,'T2'!L102),COUNTRY_INFO!G102*0.2),IF(COUNTRY_INFO!K102=3,IF(COUNTRY_INFO!G102>MAX('T1'!N102,'T2'!L102),MAX('T1'!N102,'T2'!L102),COUNTRY_INFO!G102),0))","v":0},{"$f":"IF(AND(COUNTRY_INFO!K102>0,COUNTRY_INFO!L102<4),IF(Z102>0,IF(COUNTRY_INFO!K102=1, 0, IF(COUNTRY_INFO!K102=2, AF102/(COUNTRY_INFO!G102*0.2)*100, IF(COUNTRY_INFO!K102=3, AF102/COUNTRY_INFO!G102*100))),\"-\"),0)","v":0},0,{"$f":"IF(AND(COUNTRY_INFO!K102>0,COUNTRY_INFO!K102<4), IF(AC102/Z102*100<>0, IF(AH102/Z102*100>100,100,AH102/Z102*100), \"-\"),0)","v":"-"},null,{"$f":"IF(AND(D102<>0, D102<>\"Unknown\",D102<>\"Stopped\",D102<>\"Not required\"),D102/COUNTRY_INFO!D102, 0)","v":0},{"$f":"IF(AND(J102<>0,J102<>\"Unknown\",J102<>\"Stopped\",J102<>\"Not required\"),J102/COUNTRY_INFO!D102, 0)","v":0},{"$f":"IF(AND(P102<>0,P102<>\"Unknown\",P102<>\"Not required\"),P102/(COUNTRY_INFO!E102+COUNTRY_INFO!F102), 0)","v":1},{"$f":"IF(AND(Z102<>0,Z102<>\"Unknown\",Z102<>\"Not required\"),IF(COUNTRY_INFO!K102=1,1,IF(COUNTRY_INFO!K102=2,0.5*COUNTRY_INFO!F102/(0.5*COUNTRY_INFO!F102+0.2*COUNTRY_INFO!G102),IF(COUNTRY_INFO!K102=3,COUNTRY_INFO!F102/(COUNTRY_INFO!F102+COUNTRY_INFO!G102)))),0)","v":0.56961995698656365},{"$f":"IF(AND(Z102<>0,Z102<>\"Unknown\",Z102<>\"Not required\"),IF(COUNTRY_INFO!K102=1,0,IF(COUNTRY_INFO!K102=2,0.2*COUNTRY_INFO!G102/(0.5*COUNTRY_INFO!F102+0.2*COUNTRY_INFO!G102),IF(COUNTRY_INFO!K102=3,COUNTRY_INFO!G102/(COUNTRY_INFO!F102+COUNTRY_INFO!G102)))),0)","v":0.43038004301343635},{"$f":"MAX(COUNTRY_INFO!D102*AK102*PROFILE!$G$7,COUNTRY_INFO!D102*AL102*PROFILE!$G$7)","v":0},{"$f":"MAX(COUNTRY_INFO!D102*AK102*PROFILE!$G$8,COUNTRY_INFO!D102*AL102*PROFILE!$G$8,COUNTRY_INFO!D102*AM102*PROFILE!$G$8)","v":167533.752671811},{"$f":"MAX(COUNTRY_INFO!D102*AK102*PROFILE!$G$9,COUNTRY_INFO!D102*AL102*PROFILE!$G$9,COUNTRY_INFO!D102*AM102*PROFILE!$G$9,IF(AND(DISTRICT!Z102<>\"Unknown\",Z102<>\"Not required\"),COUNTRY_INFO!P102*DISTRICT!AN102,0))","v":292137.12091710762},{"$f":"MAX(COUNTRY_INFO!D102*AK102*PROFILE!$G$10,COUNTRY_INFO!D102*AL102*PROFILE!$G$10,IF(AND(DISTRICT!Z102<>\"Unknown\",Z102<>\"Not required\"),COUNTRY_INFO!P102*DISTRICT!AO102,0))","v":110363},570033.87358891859,0,{"$f":"MAX('MDA4'!R102,'T1'!L102,'T2'!J102,T3_R1!K102,T3_R2!K102)","v":0},{"$f":"MAX('MDA1'!K102,'MDA4'!S102,'MDA3'!I102,'MDA3'!L102,'T1'!M102,'T2'!K102,T3_R1!L102,T3_R2!L102)","v":0},{"$f":"MAX('MDA1'!L102,'MDA4'!T102,'MDA3'!J102,'MDA3'!M102,'T1'!N102,'T2'!L102,T3_R1!M102,T3_R2!M102)","v":0},0,{"$f":"MAX('MDA4'!R102,T102)","v":0},{"$f":"MAX('MDA1'!K102,'MDA4'!S102,'MDA3'!I102,'MDA3'!L102,V102,AD102)","v":0},{"$f":"MAX('MDA1'!L102,'MDA4'!T102,'MDA3'!J102,'MDA3'!M102,AF102)","v":0},0,0]
[{"$f":"IF(COUNTRY_INFO!A103=0,\" \",COUNTRY_INFO!A103)","v":"Angola"},{"$f":"IF(COUNTRY_INFO!B103=0,\" \",COUNTRY_INFO!B103)","v":"LUANDA"},{"$f":"IF(COUNTRY_INFO!C103=0,\" \",COUNTRY_INFO!C103)","v":"ICOLO E BENGO"},{"$f":"COUNTRY_INFO!M103","v":0},null,null,{"$f":"MAX('MDA1'!M103,'MDA4'!U103)","v":0},{"$f":"IF(AND(COUNTRY_INFO!H103>0,COUNTRY_INFO!H103<4),IF(D103>MAX('MDA1'!M103,'MDA4'!U103),MAX('MDA1'!M103,'MDA4'!U103),D103),0)","v":0},{"$f":"IF(AND(COUNTRY_INFO!H103>0,COUNTRY_INFO!H103<4), IF(G103/D103*100<>0, IF(G103/D103*100>100,100,G103/D103*100), \"-\"),0)","v":0},{"$f":"COUNTRY_INFO!N103","v":"Unknown"},null,null,{"$f":"MAX('MDA1'!M103,MAX('MDA3'!I103,'MDA3'!L103)+MAX('MDA3'!J103,'MDA3'!M103))","v":0},{"$f":"IF(AND(COUNTRY_INFO!I103>0,COUNTRY_INFO!I103<4),IF(J103>MAX('MDA1'!M103,MAX('MDA3'!I103,'MDA3'!L103)+MAX('MDA3'!J103,'MDA3'!M103)),MAX('MDA1'!M103,MAX('MDA3'!I103,'MDA3'!L103)+MAX('MDA3'!J103,'MDA3'!M103)),J103),0)","v":0},{"$f":"IF(AND(COUNTRY_INFO!I103>0,COUNTRY_INFO!I103<4), IF(M103/J103*100<>0, IF(M103/J103*100>100,100,M103/J103*100), \"-\"),0)","v":0},{"$f":"COUNTRY_INFO!O103","v":41796},null,null,{"$f":"SUM(MAX('MDA4'!R103, 'T1'!L103, MAX(T3_R1!K103, T3_R2!K103)), MAX('MDA1'!K103, 'MDA4'!S103, 'T1'!M103, MAX(T3_R1!L103, T3_R2!L103)), MAX('MDA1'!L103, 'MDA4'!T103, 'T1'!N103, MAX(T3_R1!M103, T3_R2!M103)))","v":0},{"$f":"IF(AND(COUNTRY_INFO!J103>1,COUNTRY_INFO!J103<4),IF(COUNTRY_INFO!E103>MAX('MDA4'!R103,'T1'!L103,MAX(T3_R1!K103,T3_R2!K103)),MAX('MDA4'!R103,'T1'!L103,MAX(T3_R1!K103,T3_R2!K103)),COUNTRY_INFO!E103),0)","v":0},{"$f":"IF(AND(COUNTRY_INFO!J103>1,COUNTRY_INFO!J103<4), IF(T103/COUNTRY_INFO!E103*100<>0, IF(T103/COUNTRY_INFO!E103*100>100,100,T103/COUNTRY_INFO!E103*100), \"-\"),0)","v":"-"},{"$f":"IF(AND(COUNTRY_INFO!J103>1,COUNTRY_INFO!J103<4),IF(COUNTRY_INFO!F103>MAX('MDA1'!K103,'MDA4'!S103,'T1'!M103,MAX(T3_R1!L103,T3_R2!L103)),MAX('MDA1'!K103,'MDA4'!S103,'T1'!M103,MAX(T3_R1!L103,T3_R2!L103)),COUNTRY_INFO!F103),0)","v":0},{"$f":"IF(AND(COUNTRY_INFO!J103>1,COUNTRY_INFO!J103<4), IF(V103/COUNTRY_INFO!F103*100<>0, IF(V103/COUNTRY_INFO!F103*100>100,100,V103/COUNTRY_INFO!F103*100), \"-\"),0)","v":"-"},0,{"$f":"IF(AND(COUNTRY_INFO!J103>1,COUNTRY_INFO!J103<4), IF(S103/P103*100<>0, IF(X103/P103*100>100,100,X103/P103*100), \"-\"),0)","v":"-"},{"$f":"COUNTRY_INFO!P103","v":23316.5},null,null,{"$f":"MAX('T1'!L103,'T2'!J103)+MAX('T1'!M103,'T2'!K103)+MAX('T1'!N103,'T2'!L103)","v":0},{"$f":"IF(COUNTRY_INFO!K103=1,IF(COUNTRY_INFO!F103*0.33>MAX('T1'!M103,'T2'!K103),MAX('T1'!M103,'T2'!K103),COUNTRY_INFO!F103*0.33),IF(COUNTRY_INFO!K103=2,IF(COUNTRY_INFO!F103*0.5>MAX('T1'!M103,'T2'!K103),MAX('T1'!M103,'T2'!K103),COUNTRY_INFO!F103*0.5),IF(COUNTRY_INFO!K103=3,IF(COUNTRY_INFO!F103>MAX('T1'!M103,'T2'!K103),MAX('T1'!M103,'T2'!K103),COUNTRY_INFO!F103),0)))","v":0},{"$f":"IF(AND(COUNTRY_INFO!K103>0,COUNTRY_INFO!L103<4),IF(Z103>0,IF(COUNTRY_INFO!K103=1, AD103/(COUNTRY_INFO!F103*0.33)*100, IF(COUNTRY_INFO!K103=2, AD103/(COUNTRY_INFO!F103*0.5)*100, IF(COUNTRY_INFO!K103=3, AD103/COUNTRY_INFO!F103*100))),\"-\"),0)","v":0},{"$f":"IF(COUNTRY_INFO!K103=2,IF(COUNTRY_INFO!G103*0.2>MAX('T1'!N103,'T2'!L103),MAX('T1'!N103,'T2'!L103),COUNTRY_INFO!G103*0.2),IF(COUNTRY_INFO!K103=3,IF(COUNTRY_INFO!G103>MAX('T1'!N103,'T2'!L103),MAX('T1'!N103,'T2'!L103),COUNTRY_INFO!G103),0))","v":0},{"$f":"IF(AND(COUNTRY_INFO!K103>0,COUNTRY_INFO!L103<4),IF(Z103>0,IF(COUNTRY_INFO!K103=1, 0, IF(COUNTRY_INFO!K103=2, AF103/(COUNTRY_INFO!G103*0.2)*100, IF(COUNTRY_INFO!K103=3, AF103/COUNTRY_INFO!G103*100))),\"-\"),0)","v":0},0,{"$f":"IF(AND(COUNTRY_INFO!K103>0,COUNTRY_INFO!K103<4), IF(AC103/Z103*100<>0, IF(AH103/Z103*100>100,100,AH103/Z103*100), \"-\"),0)","v":"-"},null,{"$f":"IF(AND(D103<>0, D103<>\"Unknown\",D103<>\"Stopped\",D103<>\"Not required\"),D103/COUNTRY_INFO!D103, 0)","v":0},{"$f":"IF(AND(J103<>0,J103<>\"Unknown\",J103<>\"Stopped\",J103<>\"Not required\"),J103/COUNTRY_INFO!D103, 0)","v":0},{"$f":"IF(AND(P103<>0,P103<>\"Unknown\",P103<>\"Not required\"),P103/(COUNTRY_INFO!E103+COUNTRY_INFO!F103), 0)","v":1},{"$f":"IF(AND(Z103<>0,Z103<>\"Unknown\",Z103<>\"Not required\"),IF(COUNTRY_INFO!K103=1,1,IF(COUNTRY_INFO!K103=2,0.5*COUNTRY_INFO!F103/(0.5*COUNTRY_INFO!F103+0.2*COUNTRY_INFO!G103),IF(COUNTRY_INFO!K103=3,COUNTRY_INFO!F103/(COUNTRY_INFO!F103+COUNTRY_INFO!G103)))),0)","v":0.56961808161602301},{"$f":"IF(AND(Z103<>0,Z103<>\"Unknown\",Z103<>\"Not required\"),IF(COUNTRY_INFO!K103=1,0,IF(COUNTRY_INFO!K103=2,0.2*COUNTRY_INFO!G103/(0.5*COUNTRY_INFO!F103+0.2*COUNTRY_INFO!G103),IF(COUNTRY_INFO!K103=3,COUNTRY_INFO!G103/(COUNTRY_INFO!F103+COUNTRY_INFO!G103)))),0)","v":0.43038191838397699},{"$f":"MAX(COUNTRY_INFO!D103*AK103*PROFILE!$G$7,COUNTRY_INFO!D103*AL103*PROFILE!$G$7)","v":0},{"$f":"MAX(COUNTRY_INFO!D103*AK103*PROFILE!$G$8,COUNTRY_INFO!D103*AL103*PROFILE!$G$8,COUNTRY_INFO!D103*AM103*PROFILE!$G$8)","v":15233.464358288964},{"$f":"MAX(COUNTRY_INFO!D103*AK103*PROFILE!$G$9,COUNTRY_INFO!D103*AL103*PROFILE!$G$9,COUNTRY_INFO!D103*AM103*PROFILE!$G$9,IF(AND(DISTRICT!Z103<>\"Unknown\",Z103<>\"Not required\"),COUNTRY_INFO!P103*DISTRICT!AN103,0))","v":26563.366176974003},{"$f":"MAX(COUNTRY_INFO!D103*AK103*PROFILE!$G$10,COUNTRY_INFO!D103*AL103*PROFILE!$G$10,IF(AND(DISTRICT!Z103<>\"Unknown\",Z103<>\"Not required\"),COUNTRY_INFO!P103*DISTRICT!AO103,0))","v":10035},51831.830535262969,0,{"$f":"MAX('MDA4'!R103,'T1'!L103,'T2'!J103,T3_R1!K103,T3_R2!K103)","v":0},{"$f":"MAX('MDA1'!K103,'MDA4'!S103,'MDA3'!I103,'MDA3'!L103,'T1'!M103,'T2'!K103,T3_R1!L103,T3_R2!L103)","v":0},{"$f":"MAX('MDA1'!L103,'MDA4'!T103,'MDA3'!J103,'MDA3'!M103,'T1'!N103,'T2'!L103,T3_R1!M103,T3_R2!M103)","v":0},0,{"$f":"MAX('MDA4'!R103,T103)","v":0},{"$f":"MAX('MDA1'!K103,'MDA4'!S103,'MDA3'!I103,'MDA3'!L103,V103,AD103)","v":0},{"$f":"MAX('MDA1'!L103,'MDA4'!T103,'MDA3'!J103,'MDA3'!M103,AF103)","v":0},0,0]
[{"$f":"IF(COUNTRY_INFO!A104=0,\" \",COUNTRY_INFO!A104)","v":"Angola"},{"$f":"IF(COUNTRY_INFO!B104=0,\" \",COUNTRY_INFO!B104)","v":"LUANDA"},{"$f":"IF(COUNTRY_INFO!C104=0,\" \",COUNTRY_INFO!C104)","v":"KILAMBA KIAXI"},{"$f":"COUNTRY_INFO!M104","v":0},null,null,{"$f":"MAX('MDA1'!M104,'MDA4'!U104)","v":0},{"$f":"IF(AND(COUNTRY_INFO!H104>0,COUNTRY_INFO!H104<4),IF(D104>MAX('MDA1'!M104,'MDA4'!U104),MAX('MDA1'!M104,'MDA4'!U104),D104),0)","v":0},{"$f":"IF(AND(COUNTRY_INFO!H104>0,COUNTRY_INFO!H104<4), IF(G104/D104*100<>0, IF(G104/D104*100>100,100,G104/D104*100), \"-\"),0)","v":0},{"$f":"COUNTRY_INFO!N104","v":"Unknown"},null,null,{"$f":"MAX('MDA1'!M104,MAX('MDA3'!I104,'MDA3'!L104)+MAX('MDA3'!J104,'MDA3'!M104))","v":0},{"$f":"IF(AND(COUNTRY_INFO!I104>0,COUNTRY_INFO!I104<4),IF(J104>MAX('MDA1'!M104,MAX('MDA3'!I104,'MDA3'!L104)+MAX('MDA3'!J104,'MDA3'!M104)),MAX('MDA1'!M104,MAX('MDA3'!I104,'MDA3'!L104)+MAX('MDA3'!J104,'MDA3'!M104)),J104),0)","v":0},{"$f":"IF(AND(COUNTRY_INFO!I104>0,COUNTRY_INFO!I104<4), IF(M104/J104*100<>0, IF(M104/J104*100>100,100,M104/J104*100), \"-\"),0)","v":0},{"$f":"COUNTRY_INFO!O104","v":433406},null,null,{"$f":"SUM(MAX('MDA4'!R104, 'T1'!L104, MAX(T3_R1!K104, T3_R2!K104)), MAX('MDA1'!K104, 'MDA4'!S104, 'T1'!M104, MAX(T3_R1!L104, T3_R2!L104)), MAX('MDA1'!L104, 'MDA4'!T104, 'T1'!N104, MAX(T3_R1!M104, T3_R2!M104)))","v":0},{"$f":"IF(AND(COUNTRY_INFO!J104>1,COUNTRY_INFO!J104<4),IF(COUNTRY_INFO!E104>MAX('MDA4'!R104,'T1'!L104,MAX(T3_R1!K104,T3_R2!K104)),MAX('MDA4'!R104,'T1'!L104,MAX(T3_R1!K104,T3_R2!K104)),COUNTRY_INFO!E104),0)","v":0},{"$f":"IF(AND(COUNTRY_INFO!J104>1,COUNTRY_INFO!J104<4), IF(T104/COUNTRY_INFO!E104*100<>0, IF(T104/COUNTRY_INFO!E104*100>100,100,T104/COUNTRY_INFO!E104*100), \"-\"),0)","v":"-"},{"$f":"IF(AND(COUNTRY_INFO!J104>1,COUNTRY_INFO!J104<4),IF(COUNTRY_INFO!F104>MAX('MDA1'!K104,'MDA4'!S104,'T1'!M104,MAX(T3_R1!L104,T3_R2!L104)),MAX('MDA1'!K104,'MDA4'!S104,'T1'!M104,MAX(T3_R1!L104,T3_R2!L104)),COUNTRY_INFO!F104),0)","v":0},{"$f":"IF(AND(COUNTRY_INFO!J104>1,COUNTRY_INFO!J104<4), IF(V104/COUNTRY_INFO!F104*100<>0, IF(V104/COUNTRY_INFO!F104*100>100,100,V104/COUNTRY_INFO!F104*100), \"-\"),0)","v":"-"},0,{"$f":"IF(AND(COUNTRY_INFO!J104>1,COUNTRY_INFO!J104<4), IF(S104/P104*100<>0, IF(X104/P104*100>100,100,X104/P104*100), \"-\"),0)","v":"-"},{"$f":"COUNTRY_INFO!P104","v":241779.5},null,null,{"$f":"MAX('T1'!L104,'T2'!J104)+MAX('T1'!M104,'T2'!K104)+MAX('T1'!N104,'T2'!L104)","v":0},{"$f":"IF(COUNTRY_INFO!K104=1,IF(COUNTRY_INFO!F104*0.33>MAX('T1'!M104,'T2'!K104),MAX('T1'!M104,'T2'!K104),COUNTRY_INFO!F104*0.33),IF(COUNTRY_INFO!K104=2,IF(COUNTRY_INFO!F104*0.5>MAX('T1'!M104,'T2'!K104),MAX('T1'!M104,'T2'!K104),COUNTRY_INFO!F104*0.5),IF(COUNTRY_INFO!K104=3,IF(COUNTRY_INFO!F104>MAX('T1'!M104,'T2'!K104),MAX('T1'!M104,'T2'!K104),COUNTRY_INFO!F104),0)))","v":0},{"$f":"IF(AND(COUNTRY_INFO!K104>0,COUNTRY_INFO!L104<4),IF(Z104>0,IF(COUNTRY_INFO!K104=1, AD104/(COUNTRY_INFO!F104*0.33)*100, IF(COUNTRY_INFO!K104=2, AD104/(COUNTRY_INFO!F104*0.5)*100, IF(COUNTRY_INFO!K104=3, AD104/COUNTRY_INFO!F104*100))),\"-\"),0)","v":0},{"$f":"IF(COUNTRY_INFO!K104=2,IF(COUNTRY_INFO!G104*0.2>MAX('T1'!N104,'T2'!L104),MAX('T1'!N104,'T2'!L104),COUNTRY_INFO!G104*0.2),IF(COUNTRY_INFO!K104=3,IF(COUNTRY_INFO!G104>MAX('T1'!N104,'T2'!L104),MAX('T1'!N104,'T2'!L104),COUNTRY_INFO!G104),0))","v":0},{"$f":"IF(AND(COUNTRY_INFO!K104>0,COUNTRY_INFO!L104<4),IF(Z104>0,IF(COUNTRY_INFO!K104=1, 0, IF(COUNTRY_INFO!K104=2, AF104/(COUNTRY_INFO!G104*0.2)*100, IF(COUNTRY_INFO!K104=3, AF104/COUNTRY_INFO!G104*100))),\"-\"),0)","v":0},0,{"$f":"IF(AND(COUNTRY_INFO!K104>0,COUNTRY_INFO!K104<4), IF(AC104/Z104*100<>0, IF(AH104/Z104*100>100,100,AH104/Z104*100), \"-\"),0)","v":"-"},null,{"$f":"IF(AND(D104<>0, D104<>\"Unknown\",D104<>\"Stopped\",D104<>\"Not required\"),D104/COUNTRY_INFO!D104, 0)","v":0},{"$f":"IF(AND(J104<>0,J104<>\"Unknown\",J104<>\"Stopped\",J104<>\"Not required\"),J104/COUNTRY_INFO!D104, 0)","v":0},{"$f":"IF(AND(P104<>0,P104<>\"Unknown\",P104<>\"Not required\"),P104/(COUNTRY_INFO!E104+COUNTRY_INFO!F104), 0)","v":1},{"$f":"IF(AND(Z104<>0,Z104<>\"Unknown\",Z104<>\"Not required\"),IF(COUNTRY_INFO!K104=1,1,IF(COUNTRY_INFO!K104=2,0.5*COUNTRY_INFO!F104/(0.5*COUNTRY_INFO!F104+0.2*COUNTRY_INFO!G104),IF(COUNTRY_INFO!K104=3,COUNTRY_INFO!F104/(COUNTRY_INFO!F104+COUNTRY_INFO!G104)))),0)","v":0.569620253164557},{"$f":"IF(AND(Z104<>0,Z104<>\"Unknown\",Z104<>\"Not required\"),IF(COUNTRY_INFO!K104=1,0,IF(COUNTRY_INFO!K104=2,0.2*COUNTRY_INFO!G104/(0.5*COUNTRY_INFO!F104+0.2*COUNTRY_INFO!G104),IF(COUNTRY_INFO!K104=3,COUNTRY_INFO!G104/(COUNTRY_INFO!F104+COUNTRY_INFO!G104)))),0)","v":0.43037974683544306},{"$f":"MAX(COUNTRY_INFO!D104*AK104*PROFILE!$G$7,COUNTRY_INFO!D104*AL104*PROFILE!$G$7)","v":0},{"$f":"MAX(COUNTRY_INFO!D104*AK104*PROFILE!$G$8,COUNTRY_INFO!D104*AL104*PROFILE!$G$8,COUNTRY_INFO!D104*AM104*PROFILE!$G$8)","v":157961.21067697275},{"$f":"MAX(COUNTRY_INFO!D104*AK104*PROFILE!$G$9,COUNTRY_INFO!D104*AL104*PROFILE!$G$9,COUNTRY_INFO!D104*AM104*PROFILE!$G$9,IF(AND(DISTRICT!Z104<>\"Unknown\",Z104<>\"Not required\"),COUNTRY_INFO!P104*DISTRICT!AN104,0))","v":275444.99283168046},{"$f":"MAX(COUNTRY_INFO!D104*AK104*PROFILE!$G$10,COUNTRY_INFO!D104*AL104*PROFILE!$G$10,IF(AND(DISTRICT!Z104<>\"Unknown\",Z104<>\"Not required\"),COUNTRY_INFO!P104*DISTRICT!AO104,0))","v":104057},537463.20350865321,0,{"$f":"MAX('MDA4'!R104,'T1'!L104,'T2'!J104,T3_R1!K104,T3_R2!K104)","v":0},{"$f":"MAX('MDA1'!K104,'MDA4'!S104,'MDA3'!I104,'MDA3'!L104,'T1'!M104,'T2'!K104,T3_R1!L104,T3_R2!L104)","v":0},{"$f":"MAX('MDA1'!L104,'MDA4'!T104,'MDA3'!J104,'MDA3'!M104,'T1'!N104,'T2'!L104,T3_R1!M104,T3_R2!M104)","v":0},0,{"$f":"MAX('MDA4'!R104,T104)","v":0},{"$f":"MAX('MDA1'!K104,'MDA4'!S104,'MDA3'!I104,'MDA3'!L104,V104,AD104)","v":0},{"$f":"MAX('MDA1'!L104,'MDA4'!T104,'MDA3'!J104,'MDA3'!M104,AF104)","v":0},0,0]
[{"$f":"IF(COUNTRY_INFO!A105=0,\" \",COUNTRY_INFO!A105)","v":"Angola"},{"$f":"IF(COUNTRY_INFO!B105=0,\" \",COUNTRY_INFO!B105)","v":"LUANDA"},{"$f":"IF(COUNTRY_INFO!C105=0,\" \",COUNTRY_INFO!C105)","v":"LUANDA"},{"$f":"COUNTRY_INFO!M105","v":0},null,null,{"$f":"MAX('MDA1'!M105,'MDA4'!U105)","v":0},{"$f":"IF(AND(COUNTRY_INFO!H105>0,COUNTRY_INFO!H105<4),IF(D105>MAX('MDA1'!M105,'MDA4'!U105),MAX('MDA1'!M105,'MDA4'!U105),D105),0)","v":0},{"$f":"IF(AND(COUNTRY_INFO!H105>0,COUNTRY_INFO!H105<4), IF(G105/D105*100<>0, IF(G105/D105*100>100,100,G105/D105*100), \"-\"),0)","v":0},{"$f":"COUNTRY_INFO!N105","v":"Unknown"},null,null,{"$f":"MAX('MDA1'!M105,MAX('MDA3'!I105,'MDA3'!L105)+MAX('MDA3'!J105,'MDA3'!M105))","v":0},{"$f":"IF(AND(COUNTRY_INFO!I105>0,COUNTRY_INFO!I105<4),IF(J105>MAX('MDA1'!M105,MAX('MDA3'!I105,'MDA3'!L105)+MAX('MDA3'!J105,'MDA3'!M105)),MAX('MDA1'!M105,MAX('MDA3'!I105,'MDA3'!L105)+MAX('MDA3'!J105,'MDA3'!M105)),J105),0)","v":0},{"$f":"IF(AND(COUNTRY_INFO!I105>0,COUNTRY_INFO!I105<4), IF(M105/J105*100<>0, IF(M105/J105*100>100,100,M105/J105*100), \"-\"),0)","v":0},{"$f":"COUNTRY_INFO!O105","v":796426},null,null,{"$f":"SUM(MAX('MDA4'!R105, 'T1'!L105, MAX(T3_R1!K105, T3_R2!K105)), MAX('MDA1'!K105, 'MDA4'!S105, 'T1'!M105, MAX(T3_R1!L105, T3_R2!L105)), MAX('MDA1'!L105, 'MDA4'!T105, 'T1'!N105, MAX(T3_R1!M105, T3_R2!M105)))","v":0},{"$f":"IF(AND(COUNTRY_INFO!J105>1,COUNTRY_INFO!J105<4),IF(COUNTRY_INFO!E105>MAX('MDA4'!R105,'T1'!L105,MAX(T3_R1!K105,T3_R2!K105)),MAX('MDA4'!R105,'T1'!L105,MAX(T3_R1!K105,T3_R2!K105)),COUNTRY_INFO!E105),0)","v":0},{"$f":"IF(AND(COUNTRY_INFO!J105>1,COUNTRY_INFO!J105<4), IF(T105/COUNTRY_INFO!E105*100<>0, IF(T105/COUNTRY_INFO!E105*100>100,100,T105/COUNTRY_INFO!E105*100), \"-\"),0)","v":"-"},{"$f":"IF(AND(COUNTRY_INFO!J105>1,COUNTRY_INFO!J105<4),IF(COUNTRY_INFO!F105>MAX('MDA1'!K105,'MDA4'!S105,'T1'!M105,MAX(T3_R1!L105,T3_R2!L105)),MAX('MDA1'!K105,'MDA4'!S105,'T1'!M105,MAX(T3_R1!L105,T3_R2!L105)),COUNTRY_INFO!F105),0)","v":0},{"$f":"IF(AND(COUNTRY_INFO!J105>1,COUNTRY_INFO!J105<4), IF(V105/COUNTRY_INFO!F105*100<>0, IF(V105/COUNTRY_INFO!F105*100>100,100,V105/COUNTRY_INFO!F105*100), \"-\"),0)","v":"-"},0,{"$f":"IF(AND(COUNTRY_INFO!J105>1,COUNTRY_INFO!J105<4), IF(S105/P105*100<>0, IF(X105/P105*100>100,100,X105/P105*100), \"-\"),0)","v":"-"},{"$f":"COUNTRY_INFO!P105","v":444293.30000000005},null,null,{"$f":"MAX('T1'!L105,'T2'!J105)+MAX('T1'!M105,'T2'!K105)+MAX('T1'!N105,'T2'!L105)","v":0},{"$f":"IF(COUNTRY_INFO!K105=1,IF(COUNTRY_INFO!F105*0.33>MAX('T1'!M105,'T2'!K105),MAX('T1'!M105,'T2'!K105),COUNTRY_INFO!F105*0.33),IF(COUNTRY_INFO!K105=2,IF(COUNTRY_INFO!F105*0.5>MAX('T1'!M105,'T2'!K105),MAX('T1'!M105,'T2'!K105),COUNTRY_INFO!F105*0.5),IF(COUNTRY_INFO!K105=3,IF(COUNTRY_INFO!F105>MAX('T1'!M105,'T2'!K105),MAX('T1'!M105,'T2'!K105),COUNTRY_INFO!F105),0)))","v":0},{"$f":"IF(AND(COUNTRY_INFO!K105>0,COUNTRY_INFO!L105<4),IF(Z105>0,IF(COUNTRY_INFO!K105=1, AD105/(COUNTRY_INFO!F105*0.33)*100, IF(COUNTRY_INFO!K105=2, AD105/(COUNTRY_INFO!F105*0.5)*100, IF(COUNTRY_INFO!K105=3, AD105/COUNTRY_INFO!F105*100))),\"-\"),0)","v":0},{"$f":"IF(COUNTRY_INFO!K105=2,IF(COUNTRY_INFO!G105*0.2>MAX('T1'!N105,'T2'!L105),MAX('T1'!N105,'T2'!L105),COUNTRY_INFO!G105*0.2),IF(COUNTRY_INFO!K105=3,IF(COUNTRY_INFO!G105>MAX('T1'!N105,'T2'!L105),MAX('T1'!N105,'T2'!L105),COUNTRY_INFO!G105),0))","v":0},{"$f":"IF(AND(COUNTRY_INFO!K105>0,COUNTRY_INFO!L105<4),IF(Z105>0,IF(COUNTRY_INFO!K105=1, 0, IF(COUNTRY_INFO!K105=2, AF105/(COUNTRY_INFO!G105*0.2)*100, IF(COUNTRY_INFO!K105=3, AF105/COUNTRY_INFO!G105*100))),\"-\"),0)","v":0},0,{"$f":"IF(AND(COUNTRY_INFO!K105>0,COUNTRY_INFO!K105<4), IF(AC105/Z105*100<>0, IF(AH105/Z105*100>100,100,AH105/Z105*100), \"-\"),0)","v":"-"},null,{"$f":"IF(AND(D105<>0, D105<>\"Unknown\",D105<>\"Stopped\",D105<>\"Not required\"),D105/COUNTRY_INFO!D105, 0)","v":0},{"$f":"IF(AND(J105<>0,J105<>\"Unknown\",J105<>\"Stopped\",J105<>\"Not required\"),J105/COUNTRY_INFO!D105, 0)","v":0},{"$f":"IF(AND(P105<>0,P105<>\"Unknown\",P105<>\"Not required\"),P105/(COUNTRY_INFO!E105+COUNTRY_INFO!F105), 0)","v":1},{"$f":"IF(AND(Z105<>0,Z105<>\"Unknown\",Z105<>\"Not required\"),IF(COUNTRY_INFO!K105=1,1,IF(COUNTRY_INFO!K105=2,0.5*COUNTRY_INFO!F105/(0.5*COUNTRY_INFO!F105+0.2*COUNTRY_INFO!G105),IF(COUNTRY_INFO!K105=3,COUNTRY_INFO!F105/(COUNTRY_INFO!F105+COUNTRY_INFO!G105)))),0)","v":0.56962033863666184},{"$f":"IF(AND(Z105<>0,Z105<>\"Unknown\",Z105<>\"Not required\"),IF(COUNTRY_INFO!K105=1,0,IF(COUNTRY_INFO!K105=2,0.2*COUNTRY_INFO!G105/(0.5*COUNTRY_INFO!F105+0.2*COUNTRY_INFO!G105),IF(COUNTRY_INFO!K105=3,COUNTRY_INFO!G105/(COUNTRY_INFO!F105+COUNTRY_INFO!G105)))),0)","v":0.43037966136333811},{"$f":"MAX(COUNTRY_INFO!D105*AK105*PROFILE!$G$7,COUNTRY_INFO!D105*AL105*PROFILE!$G$7)","v":0},{"$f":"MAX(COUNTRY_INFO!D105*AK105*PROFILE!$G$8,COUNTRY_INFO!D105*AL105*PROFILE!$G$8,COUNTRY_INFO!D105*AM105*PROFILE!$G$8)","v":290268.79728937102},{"$f":"MAX(COUNTRY_INFO!D105*AK105*PROFILE!$G$9,COUNTRY_INFO!D105*AL105*PROFILE!$G$9,COUNTRY_INFO!D105*AM105*PROFILE!$G$9,IF(AND(DISTRICT!Z105<>\"Unknown\",Z105<>\"Not required\"),COUNTRY_INFO!P105*DISTRICT!AN105,0))","v":506156.45730984956},{"$f":"MAX(COUNTRY_INFO!D105*AK105*PROFILE!$G$10,COUNTRY_INFO!D105*AL105*PROFILE!$G$10,IF(AND(DISTRICT!Z105<>\"Unknown\",Z105<>\"Not required\"),COUNTRY_INFO!P105*DISTRICT!AO105,0))","v":191214.80000000002},987640.05459922063,0,{"$f":"MAX('MDA4'!R105,'T1'!L105,'T2'!J105,T3_R1!K105,T3_R2!K105)","v":0},{"$f":"MAX('MDA1'!K105,'MDA4'!S105,'MDA3'!I105,'MDA3'!L105,'T1'!M105,'T2'!K105,T3_R1!L105,T3_R2!L105)","v":0},{"$f":"MAX('MDA1'!L105,'MDA4'!T105,'MDA3'!J105,'MDA3'!M105,'T1'!N105,'T2'!L105,T3_R1!M105,T3_R2!M105)","v":0},0,{"$f":"MAX('MDA4'!R105,T105)","v":0},{"$f":"MAX('MDA1'!K105,'MDA4'!S105,'MDA3'!I105,'MDA3'!L105,V105,AD105)","v":0},{"$f":"MAX('MDA1'!L105,'MDA4'!T105,'MDA3'!J105,'MDA3'!M105,AF105)","v":0},0,0]
[{"$f":"IF(COUNTRY_INFO!A106=0,\" \",COUNTRY_INFO!A106)","v":"Angola"},{"$f":"IF(COUNTRY_INFO!B106=0,\" \",COUNTRY_INFO!B106)","v":"LUANDA"},{"$f":"IF(COUNTRY_INFO!C106=0,\" \",COUNTRY_INFO!C106)","v":"QUISSAMA"},{"$f":"COUNTRY_INFO!M106","v":0},null,null,{"$f":"MAX('MDA1'!M106,'MDA4'!U106)","v":0},{"$f":"IF(AND(COUNTRY_INFO!H106>0,COUNTRY_INFO!H106<4),IF(D106>MAX('MDA1'!M106,'MDA4'!U106),MAX('MDA1'!M106,'MDA4'!U106),D106),0)","v":0},{"$f":"IF(AND(COUNTRY_INFO!H106>0,COUNTRY_INFO!H106<4), IF(G106/D106*100<>0, IF(G106/D106*100>100,100,G106/D106*100), \"-\"),0)","v":0},{"$f":"COUNTRY_INFO!N106","v":"Unknown"},null,null,{"$f":"MAX('MDA1'!M106,MAX('MDA3'!I106,'MDA3'!L106)+MAX('MDA3'!J106,'MDA3'!M106))","v":0},{"$f":"IF(AND(COUNTRY_INFO!I106>0,COUNTRY_INFO!I106<4),IF(J106>MAX('MDA1'!M106,MAX('MDA3'!I106,'MDA3'!L106)+MAX('MDA3'!J106,'MDA3'!M106)),MAX('MDA1'!M106,MAX('MDA3'!I106,'MDA3'!L106)+MAX('MDA3'!J106,'MDA3'!M106)),J106),0)","v":0},{"$f":"IF(AND(COUNTRY_INFO!I106>0,COUNTRY_INFO!I106<4), IF(M106/J106*100<>0, IF(M106/J106*100>100,100,M106/J106*100), \"-\"),0)","v":0},{"$f":"COUNTRY_INFO!O106","v":15622},null,null,{"$f":"SUM(MAX('MDA4'!R106, 'T1'!L106, MAX(T3_R1!K106, T3_R2!K106)), MAX('MDA1'!K106, 'MDA4'!S106, 'T1'!M106, MAX(T3_R1!L106, T3_R2!L106)), MAX('MDA1'!L106, 'MDA4'!T106, 'T1'!N106, MAX(T3_R1!M106, T3_R2!M106)))","v":0},{"$f":"IF(AND(COUNTRY_INFO!J106>1,COUNTRY_INFO!J106<4),IF(COUNTRY_INFO!E106>MAX('MDA4'!R106,'T1'!L106,MAX(T3_R1!K106,T3_R2!K106)),MAX('MDA4'!R106,'T1'!L106,MAX(T3_R1!K106,T3_R2!K106)),COUNTRY_INFO!E106),0)","v":0},{"$f":"IF(AND(COUNTRY_INFO!J106>1,COUNTRY_INFO!J106<4), IF(T106/COUNTRY_INFO!E106*100<>0, IF(T106/COUNTRY_INFO!E106*100>100,100,T106/COUNTRY_INFO!E106*100), \"-\"),0)","v":"-"},{"$f":"IF(AND(COUNTRY_INFO!J106>1,COUNTRY_INFO!J106<4),IF(COUNTRY_INFO!F106>MAX('MDA1'!K106,'MDA4'!S106,'T1'!M106,MAX(T3_R1!L106,T3_R2!L106)),MAX('MDA1'!K106,'MDA4'!S106,'T1'!M106,MAX(T3_R1!L106,T3_R2!L106)),COUNTRY_INFO!F106),0)","v":0},{"$f":"IF(AND(COUNTRY_INFO!J106>1,COUNTRY_INFO!J106<4), IF(V106/COUNTRY_INFO!F106*100<>0, IF(V106/COUNTRY_INFO!F106*100>100,100,V106/COUNTRY_INFO!F106*100), \"-\"),0)","v":"-"},0,{"$f":"IF(AND(COUNTRY_INFO!J106>1,COUNTRY_INFO!J106<4), IF(S106/P106*100<>0, IF(X106/P106*100>100,100,X106/P106*100), \"-\"),0)","v":"-"},{"$f":"COUNTRY_INFO!P106","v":8714.6},null,null,{"$f":"MAX('T1'!L106,'T2'!J106)+MAX('T1'!M106,'T2'!K106)+MAX('T1'!N106,'T2'!L106)","v":0},{"$f":"IF(COUNTRY_INFO!K106=1,IF(COUNTRY_INFO!F106*0.33>MAX('T1'!M106,'T2'!K106),MAX('T1'!M106,'T2'!K106),COUNTRY_INFO!F106*0.33),IF(COUNTRY_INFO!K106=2,IF(COUNTRY_INFO!F106*0.5>MAX('T1'!M106,'T2'!K106),MAX('T1'!M106,'T2'!K106),COUNTRY_INFO!F106*0.5),IF(COUNTRY_INFO!K106=3,IF(COUNTRY_INFO!F106>MAX('T1'!M106,'T2'!K106),MAX('T1'!M106,'T2'!K106),COUNTRY_INFO!F106),0)))","v":0},{"$f":"IF(AND(COUNTRY_INFO!K106>0,COUNTRY_INFO!L106<4),IF(Z106>0,IF(COUNTRY_INFO!K106=1, AD106/(COUNTRY_INFO!F106*0.33)*100, IF(COUNTRY_INFO!K106=2, AD106/(COUNTRY_INFO!F106*0.5)*100, IF(COUNTRY_INFO!K106=3, AD106/COUNTRY_INFO!F106*100))),\"-\"),0)","v":0},{"$f":"IF(COUNTRY_INFO!K106=2,IF(COUNTRY_INFO!G106*0.2>MAX('T1'!N106,'T2'!L106),MAX('T1'!N106,'T2'!L106),COUNTRY_INFO!G106*0.2),IF(COUNTRY_INFO!K106=3,IF(COUNTRY_INFO!G106>MAX('T1'!N106,'T2'!L106),MAX('T1'!N106,'T2'!L106),COUNTRY_INFO!G106),0))","v":0},{"$f":"IF(AND(COUNTRY_INFO!K106>0,COUNTRY_INFO!L106<4),IF(Z106>0,IF(COUNTRY_INFO!K106=1, 0, IF(COUNTRY_INFO!K106=2, AF106/(COUNTRY_INFO!G106*0.2)*100, IF(COUNTRY_INFO!K106=3, AF106/COUNTRY_INFO!G106*100))),\"-\"),0)","v":0},0,{"$f":"IF(AND(COUNTRY_INFO!K106>0,COUNTRY_INFO!K106<4), IF(AC106/Z106*100<>0, IF(AH106/Z106*100>100,100,AH106/Z106*100), \"-\"),0)","v":"-"},null,{"$f":"IF(AND(D106<>0, D106<>\"Unknown\",D106<>\"Stopped\",D106<>\"Not required\"),D106/COUNTRY_INFO!D106, 0)","v":0},{"$f":"IF(AND(J106<>0,J106<>\"Unknown\",J106<>\"Stopped\",J106<>\"Not required\"),J106/COUNTRY_INFO!D106, 0)","v":0},{"$f":"IF(AND(P106<>0,P106<>\"Unknown\",P106<>\"Not required\"),P106/(COUNTRY_INFO!E106+COUNTRY_INFO!F106), 0)","v":1},{"$f":"IF(AND(Z106<>0,Z106<>\"Unknown\",Z106<>\"Not required\"),IF(COUNTRY_INFO!K106=1,1,IF(COUNTRY_INFO!K106=2,0.5*COUNTRY_INFO!F106/(0.5*COUNTRY_INFO!F106+0.2*COUNTRY_INFO!G106),IF(COUNTRY_INFO!K106=3,COUNTRY_INFO!F106/(COUNTRY_INFO!F106+COUNTRY_INFO!G106)))),0)","v":0.56961880063341974},{"$f":"IF(AND(Z106<>0,Z106<>\"Unknown\",Z106<>\"Not required\"),IF(COUNTRY_INFO!K106=1,0,IF(COUNTRY_INFO!K106=2,0.2*COUNTRY_INFO!G106/(0.5*COUNTRY_INFO!F106+0.2*COUNTRY_INFO!G106),IF(COUNTRY_INFO!K106=3,COUNTRY_INFO!G106/(COUNTRY_INFO!F106+COUNTRY_INFO!G106)))),0)","v":0.43038119936658026},{"$f":"MAX(COUNTRY_INFO!D106*AK106*PROFILE!$G$7,COUNTRY_INFO!D106*AL106*PROFILE!$G$7)","v":0},{"$f":"MAX(COUNTRY_INFO!D106*AK106*PROFILE!$G$8,COUNTRY_INFO!D106*AL106*PROFILE!$G$8,COUNTRY_INFO!D106*AM106*PROFILE!$G$8)","v":5693.5880294068284},{"$f":"MAX(COUNTRY_INFO!D106*AK106*PROFILE!$G$9,COUNTRY_INFO!D106*AL106*PROFILE!$G$9,COUNTRY_INFO!D106*AM106*PROFILE!$G$9,IF(AND(DISTRICT!Z106<>\"Unknown\",Z106<>\"Not required\"),COUNTRY_INFO!P106*DISTRICT!AN106,0))","v":9928.1988737955671},{"$f":"MAX(COUNTRY_INFO!D106*AK106*PROFILE!$G$10,COUNTRY_INFO!D106*AL106*PROFILE!$G$10,IF(AND(DISTRICT!Z106<>\"Unknown\",Z106<>\"Not required\"),COUNTRY_INFO!P106*DISTRICT!AO106,0))","v":3750.6000000000004},19372.386903202394,0,{"$f":"MAX('MDA4'!R106,'T1'!L106,'T2'!J106,T3_R1!K106,T3_R2!K106)","v":0},{"$f":"MAX('MDA1'!K106,'MDA4'!S106,'MDA3'!I106,'MDA3'!L106,'T1'!M106,'T2'!K106,T3_R1!L106,T3_R2!L106)","v":0},{"$f":"MAX('MDA1'!L106,'MDA4'!T106,'MDA3'!J106,'MDA3'!M106,'T1'!N106,'T2'!L106,T3_R1!M106,T3_R2!M106)","v":0},0,{"$f":"MAX('MDA4'!R106,T106)","v":0},{"$f":"MAX('MDA1'!K106,'MDA4'!S106,'MDA3'!I106,'MDA3'!L106,V106,AD106)","v":0},{"$f":"MAX('MDA1'!L106,'MDA4'!T106,'MDA3'!J106,'MDA3'!M106,AF106)","v":0},0,0]
[{"$f":"IF(COUNTRY_INFO!A107=0,\" \",COUNTRY_INFO!A107)","v":"Angola"},{"$f":"IF(COUNTRY_INFO!B107=0,\" \",COUNTRY_INFO!B107)","v":"LUANDA"},{"$f":"IF(COUNTRY_INFO!C107=0,\" \",COUNTRY_INFO!C107)","v":"TALATONA"},{"$f":"COUNTRY_INFO!M107","v":0},null,null,{"$f":"MAX('MDA1'!M107,'MDA4'!U107)","v":0},{"$f":"IF(AND(COUNTRY_INFO!H107>0,COUNTRY_INFO!H107<4),IF(D107>MAX('MDA1'!M107,'MDA4'!U107),MAX('MDA1'!M107,'MDA4'!U107),D107),0)","v":0},{"$f":"IF(AND(COUNTRY_INFO!H107>0,COUNTRY_INFO!H107<4), IF(G107/D107*100<>0, IF(G107/D107*100>100,100,G107/D107*100), \"-\"),0)","v":0},{"$f":"COUNTRY_INFO!N107","v":"Unknown"},null,null,{"$f":"MAX('MDA1'!M107,MAX('MDA3'!I107,'MDA3'!L107)+MAX('MDA3'!J107,'MDA3'!M107))","v":0},{"$f":"IF(AND(COUNTRY_INFO!I107>0,COUNTRY_INFO!I107<4),IF(J107>MAX('MDA1'!M107,MAX('MDA3'!I107,'MDA3'!L107)+MAX('MDA3'!J107,'MDA3'!M107)),MAX('MDA1'!M107,MAX('MDA3'!I107,'MDA3'!L107)+MAX('MDA3'!J107,'MDA3'!M107)),J107),0)","v":0},{"$f":"IF(AND(COUNTRY_INFO!I107>0,COUNTRY_INFO!I107<4), IF(M107/J107*100<>0, IF(M107/J107*100>100,100,M107/J107*100), \"-\"),0)","v":0},{"$f":"COUNTRY_INFO!O107","v":468263},null,null,{"$f":"SUM(MAX('MDA4'!R107, 'T1'!L107, MAX(T3_R1!K107, T3_R2!K107)), MAX('MDA1'!K107, 'MDA4'!S107, 'T1'!M107, MAX(T3_R1!L107, T3_R2!L107)), MAX('MDA1'!L107, 'MDA4'!T107, 'T1'!N107, MAX(T3_R1!M107, T3_R2!M107)))","v":0},{"$f":"IF(AND(COUNTRY_INFO!J107>1,COUNTRY_INFO!J107<4),IF(COUNTRY_INFO!E107>MAX('MDA4'!R107,'T1'!L107,MAX(T3_R1!K107,T3_R2!K107)),MAX('MDA4'!R107,'T1'!L107,MAX(T3_R1!K107,T3_R2!K107)),COUNTRY_INFO!E107),0)","v":0},{"$f":"IF(AND(COUNTRY_INFO!J107>1,COUNTRY_INFO!J107<4), IF(T107/COUNTRY_INFO!E107*100<>0, IF(T107/COUNTRY_INFO!E107*100>100,100,T107/COUNTRY_INFO!E107*100), \"-\"),0)","v":"-"},{"$f":"IF(AND(COUNTRY_INFO!J107>1,COUNTRY_INFO!J107<4),IF(COUNTRY_INFO!F107>MAX('MDA1'!K107,'MDA4'!S107,'T1'!M107,MAX(T3_R1!L107,T3_R2!L107)),MAX('MDA1'!K107,'MDA4'!S107,'T1'!M107,MAX(T3_R1!L107,T3_R2!L107)),COUNTRY_INFO!F107),0)","v":0},{"$f":"IF(AND(COUNTRY_INFO!J107>1,COUNTRY_INFO!J107<4), IF(V107/COUNTRY_INFO!F107*100<>0, IF(V107/COUNTRY_INFO!F107*100>100,100,V107/COUNTRY_INFO!F107*100), \"-\"),0)","v":"-"},0,{"$f":"IF(AND(COUNTRY_INFO!J107>1,COUNTRY_INFO!J107<4), IF(S107/P107*100<>0, IF(X107/P107*100>100,100,X107/P107*100), \"-\"),0)","v":"-"},{"$f":"COUNTRY_INFO!P107","v":261224.8},null,null,{"$f":"MAX('T1'!L107,'T2'!J107)+MAX('T1'!M107,'T2'!K107)+MAX('T1'!N107,'T2'!L107)","v":0},{"$f":"IF(COUNTRY_INFO!K107=1,IF(COUNTRY_INFO!F107*0.33>MAX('T1'!M107,'T2'!K107),MAX('T1'!M107,'T2'!K107),COUNTRY_INFO!F107*0.33),IF(COUNTRY_INFO!K107=2,IF(COUNTRY_INFO!F107*0.5>MAX('T1'!M107,'T2'!K107),MAX('T1'!M107,'T2'!K107),COUNTRY_INFO!F107*0.5),IF(COUNTRY_INFO!K107=3,IF(COUNTRY_INFO!F107>MAX('T1'!M107,'T2'!K107),MAX('T1'!M107,'T2'!K107),COUNTRY_INFO!F107),0)))","v":0},{"$f":"IF(AND(COUNTRY_INFO!K107>0,COUNTRY_INFO!L107<4),IF(Z107>0,IF(COUNTRY_INFO!K107=1, AD107/(COUNTRY_INFO!F107*0.33)*100, IF(COUNTRY_INFO!K107=2, AD107/(COUNTRY_INFO!F107*0.5)*100, IF(COUNTRY_INFO!K107=3, AD107/COUNTRY_INFO!F107*100))),\"-\"),0)","v":0},{"$f":"IF(COUNTRY_INFO!K107=2,IF(COUNTRY_INFO!G107*0.2>MAX('T1'!N107,'T2'!L107),MAX('T1'!N107,'T2'!L107),COUNTRY_INFO!G107*0.2),IF(COUNTRY_INFO!K107=3,IF(COUNTRY_INFO!G107>MAX('T1'!N107,'T2'!L107),MAX('T1'!N107,'T2'!L107),COUNTRY_INFO!G107),0))","v":0},{"$f":"IF(AND(COUNTRY_INFO!K107>0,COUNTRY_INFO!L107<4),IF(Z107>0,IF(COUNTRY_INFO!K107=1, 0, IF(COUNTRY_INFO!K107=2, AF107/(COUNTRY_INFO!G107*0.2)*100, IF(COUNTRY_INFO!K107=3, AF107/COUNTRY_INFO!G107*100))),\"-\"),0)","v":0},0,{"$f":"IF(AND(COUNTRY_INFO!K107>0,COUNTRY_INFO!K107<4), IF(AC107/Z107*100<>0, IF(AH107/Z107*100>100,100,AH107/Z107*100), \"-\"),0)","v":"-"},null,{"$f":"IF(AND(D107<>0, D107<>\"Unknown\",D107<>\"Stopped\",D107<>\"Not required\"),D107/COUNTRY_INFO!D107, 0)","v":0},{"$f":"IF(AND(J107<>0,J107<>\"Unknown\",J107<>\"Stopped\",J107<>\"Not required\"),J107/COUNTRY_INFO!D107, 0)","v":0},{"$f":"IF(AND(P107<>0,P107<>\"Unknown\",P107<>\"Not required\"),P107/(COUNTRY_INFO!E107+COUNTRY_INFO!F107), 0)","v":1},{"$f":"IF(AND(Z107<>0,Z107<>\"Unknown\",Z107<>\"Not required\"),IF(COUNTRY_INFO!K107=1,1,IF(COUNTRY_INFO!K107=2,0.5*COUNTRY_INFO!F107/(0.5*COUNTRY_INFO!F107+0.2*COUNTRY_INFO!G107),IF(COUNTRY_INFO!K107=3,COUNTRY_INFO!F107/(COUNTRY_INFO!F107+COUNTRY_INFO!G107)))),0)","v":0.56962049545066162},{"$f":"IF(AND(Z107<>0,Z107<>\"Unknown\",Z107<>\"Not required\"),IF(COUNTRY_INFO!K107=1,0,IF(COUNTRY_INFO!K107=2,0.2*COUNTRY_INFO!G107/(0.5*COUNTRY_INFO!F107+0.2*COUNTRY_INFO!G107),IF(COUNTRY_INFO!K107=3,COUNTRY_INFO!G107/(COUNTRY_INFO!F107+COUNTRY_INFO!G107)))),0)","v":0.43037950454933838},{"$f":"MAX(COUNTRY_INFO!D107*AK107*PROFILE!$G$7,COUNTRY_INFO!D107*AL107*PROFILE!$G$7)","v":0},{"$f":"MAX(COUNTRY_INFO!D107*AK107*PROFILE!$G$8,COUNTRY_INFO!D107*AL107*PROFILE!$G$8,COUNTRY_INFO!D107*AM107*PROFILE!$G$8)","v":170665.1509944998},{"$f":"MAX(COUNTRY_INFO!D107*AK107*PROFILE!$G$9,COUNTRY_INFO!D107*AL107*PROFILE!$G$9,COUNTRY_INFO!D107*AM107*PROFILE!$G$9,IF(AND(DISTRICT!Z107<>\"Unknown\",Z107<>\"Not required\"),COUNTRY_INFO!P107*DISTRICT!AN107,0))","v":297597.49935336818},{"$f":"MAX(COUNTRY_INFO!D107*AK107*PROFILE!$G$10,COUNTRY_INFO!D107*AL107*PROFILE!$G$10,IF(AND(DISTRICT!Z107<>\"Unknown\",Z107<>\"Not required\"),COUNTRY_INFO!P107*DISTRICT!AO107,0))","v":112425.8},580688.45034786803,0,{"$f":"MAX('MDA4'!R107,'T1'!L107,'T2'!J107,T3_R1!K107,T3_R2!K107)","v":0},{"$f":"MAX('MDA1'!K107,'MDA4'!S107,'MDA3'!I107,'MDA3'!L107,'T1'!M107,'T2'!K107,T3_R1!L107,T3_R2!L107)","v":0},{"$f":"MAX('MDA1'!L107,'MDA4'!T107,'MDA3'!J107,'MDA3'!M107,'T1'!N107,'T2'!L107,T3_R1!M107,T3_R2!M107)","v":0},0,{"$f":"MAX('MDA4'!R107,T107)","v":0},{"$f":"MAX('MDA1'!K107,'MDA4'!S107,'MDA3'!I107,'MDA3'!L107,V107,AD107)","v":0},{"$f":"MAX('MDA1'!L107,'MDA4'!T107,'MDA3'!J107,'MDA3'!M107,AF107)","v":0},0,0]
[{"$f":"IF(COUNTRY_INFO!A108=0,\" \",COUNTRY_INFO!A108)","v":"Angola"},{"$f":"IF(COUNTRY_INFO!B108=0,\" \",COUNTRY_INFO!B108)","v":"LUANDA"},{"$f":"IF(COUNTRY_INFO!C108=0,\" \",COUNTRY_INFO!C108)","v":"VIANA"},{"$f":"COUNTRY_INFO!M108","v":0},null,null,{"$f":"MAX('MDA1'!M108,'MDA4'!U108)","v":0},{"$f":"IF(AND(COUNTRY_INFO!H108>0,COUNTRY_INFO!H108<4),IF(D108>MAX('MDA1'!M108,'MDA4'!U108),MAX('MDA1'!M108,'MDA4'!U108),D108),0)","v":0},{"$f":"IF(AND(COUNTRY_INFO!H108>0,COUNTRY_INFO!H108<4), IF(G108/D108*100<>0, IF(G108/D108*100>100,100,G108/D108*100), \"-\"),0)","v":0},{"$f":"COUNTRY_INFO!N108","v":"Unknown"},null,null,{"$f":"MAX('MDA1'!M108,MAX('MDA3'!I108,'MDA3'!L108)+MAX('MDA3'!J108,'MDA3'!M108))","v":0},{"$f":"IF(AND(COUNTRY_INFO!I108>0,COUNTRY_INFO!I108<4),IF(J108>MAX('MDA1'!M108,MAX('MDA3'!I108,'MDA3'!L108)+MAX('MDA3'!J108,'MDA3'!M108)),MAX('MDA1'!M108,MAX('MDA3'!I108,'MDA3'!L108)+MAX('MDA3'!J108,'MDA3'!M108)),J108),0)","v":0},{"$f":"IF(AND(COUNTRY_INFO!I108>0,COUNTRY_INFO!I108<4), IF(M108/J108*100<>0, IF(M108/J108*100>100,100,M108/J108*100), \"-\"),0)","v":0},{"$f":"COUNTRY_INFO!O108","v":826877},null,null,{"$f":"SUM(MAX('MDA4'!R108, 'T1'!L108, MAX(T3_R1!K108, T3_R2!K108)), MAX('MDA1'!K108, 'MDA4'!S108, 'T1'!M108, MAX(T3_R1!L108, T3_R2!L108)), MAX('MDA1'!L108, 'MDA4'!T108, 'T1'!N108, MAX(T3_R1!M108, T3_R2!M108)))","v":0},{"$f":"IF(AND(COUNTRY_INFO!J108>1,COUNTRY_INFO!J108<4),IF(COUNTRY_INFO!E108>MAX('MDA4'!R108,'T1'!L108,MAX(T3_R1!K108,T3_R2!K108)),MAX('MDA4'!R108,'T1'!L108,MAX(T3_R1!K108,T3_R2!K108)),COUNTRY_INFO!E108),0)","v":0},{"$f":"IF(AND(COUNTRY_INFO!J108>1,COUNTRY_INFO!J108<4), IF(T108/COUNTRY_INFO!E108*100<>0, IF(T108/COUNTRY_INFO!E108*100>100,100,T108/COUNTRY_INFO!E108*100), \"-\"),0)","v":"-"},{"$f":"IF(AND(COUNTRY_INFO!J108>1,COUNTRY_INFO!J108<4),IF(COUNTRY_INFO!F108>MAX('MDA1'!K108,'MDA4'!S108,'T1'!M108,MAX(T3_R1!L108,T3_R2!L108)),MAX('MDA1'!K108,'MDA4'!S108,'T1'!M108,MAX(T3_R1!L108,T3_R2!L108)),COUNTRY_INFO!F108),0)","v":0},{"$f":"IF(AND(COUNTRY_INFO!J108>1,COUNTRY_INFO!J108<4), IF(V108/COUNTRY_INFO!F108*100<>0, IF(V108/COUNTRY_INFO!F108*100>100,100,V108/COUNTRY_INFO!F108*100), \"-\"),0)","v":"-"},0,{"$f":"IF(AND(COUNTRY_INFO!J108>1,COUNTRY_INFO!J108<4), IF(S108/P108*100<>0, IF(X108/P108*100>100,100,X108/P108*100), \"-\"),0)","v":"-"},{"$f":"COUNTRY_INFO!P108","v":461280.80000000005},null,null,{"$f":"MAX('T1'!L108,'T2'!J108)+MAX('T1'!M108,'T2'!K108)+MAX('T1'!N108,'T2'!L108)","v":0},{"$f":"IF(COUNTRY_INFO!K108=1,IF(COUNTRY_INFO!F108*0.33>MAX('T1'!M108,'T2'!K108),MAX('T1'!M108,'T2'!K108),COUNTRY_INFO!F108*0.33),IF(COUNTRY_INFO!K108=2,IF(COUNTRY_INFO!F108*0.5>MAX('T1'!M108,'T2'!K108),MAX('T1'!M108,'T2'!K108),COUNTRY_INFO!F108*0.5),IF(COUNTRY_INFO!K108=3,IF(COUNTRY_INFO!F108>MAX('T1'!M108,'T2'!K108),MAX('T1'!M108,'T2'!K108),COUNTRY_INFO!F108),0)))","v":0},{"$f":"IF(AND(COUNTRY_INFO!K108>0,COUNTRY_INFO!L108<4),IF(Z108>0,IF(COUNTRY_INFO!K108=1, AD108/(COUNTRY_INFO!F108*0.33)*100, IF(COUNTRY_INFO!K108=2, AD108/(COUNTRY_INFO!F108*0.5)*100, IF(COUNTRY_INFO!K108=3, AD108/COUNTRY_INFO!F108*100))),\"-\"),0)","v":0},{"$f":"IF(COUNTRY_INFO!K108=2,IF(COUNTRY_INFO!G108*0.2>MAX('T1'!N108,'T2'!L108),MAX('T1'!N108,'T2'!L108),COUNTRY_INFO!G108*0.2),IF(COUNTRY_INFO!K108=3,IF(COUNTRY_INFO!G108>MAX('T1'!N108,'T2'!L108),MAX('T1'!N108,'T2'!L108),COUNTRY_INFO!G108),0))","v":0},{"$f":"IF(AND(COUNTRY_INFO!K108>0,COUNTRY_INFO!L108<4),IF(Z108>0,IF(COUNTRY_INFO!K108=1, 0, IF(COUNTRY_INFO!K108=2, AF108/(COUNTRY_INFO!G108*0.2)*100, IF(COUNTRY_INFO!K108=3, AF108/COUNTRY_INFO!G108*100))),\"-\"),0)","v":0},0,{"$f":"IF(AND(COUNTRY_INFO!K108>0,COUNTRY_INFO!K108<4), IF(AC108/Z108*100<>0, IF(AH108/Z108*100>100,100,AH108/Z108*100), \"-\"),0)","v":"-"},null,{"$f":"IF(AND(D108<>0, D108<>\"Unknown\",D108<>\"Stopped\",D108<>\"Not required\"),D108/COUNTRY_INFO!D108, 0)","v":0},{"$f":"IF(AND(J108<>0,J108<>\"Unknown\",J108<>\"Stopped\",J108<>\"Not required\"),J108/COUNTRY_INFO!D108, 0)","v":0},{"$f":"IF(AND(P108<>0,P108<>\"Unknown\",P108<>\"Not required\"),P108/(COUNTRY_INFO!E108+COUNTRY_INFO!F108), 0)","v":1},{"$f":"IF(AND(Z108<>0,Z108<>\"Unknown\",Z108<>\"Not required\"),IF(COUNTRY_INFO!K108=1,1,IF(COUNTRY_INFO!K108=2,0.5*COUNTRY_INFO!F108/(0.5*COUNTRY_INFO!F108+0.2*COUNTRY_INFO!G108),IF(COUNTRY_INFO!K108=3,COUNTRY_INFO!F108/(COUNTRY_INFO!F108+COUNTRY_INFO!G108)))),0)","v":0.56962050013787691},{"$f":"IF(AND(Z108<>0,Z108<>\"Unknown\",Z108<>\"Not required\"),IF(COUNTRY_INFO!K108=1,0,IF(COUNTRY_INFO!K108=2,0.2*COUNTRY_INFO!G108/(0.5*COUNTRY_INFO!F108+0.2*COUNTRY_INFO!G108),IF(COUNTRY_INFO!K108=3,COUNTRY_INFO!G108/(COUNTRY_INFO!F108+COUNTRY_INFO!G108)))),0)","v":0.43037949986212304},{"$f":"MAX(COUNTRY_INFO!D108*AK108*PROFILE!$G$7,COUNTRY_INFO!D108*AL108*PROFILE!$G$7)","v":0},{"$f":"MAX(COUNTRY_INFO!D108*AK108*PROFILE!$G$8,COUNTRY_INFO!D108*AL108*PROFILE!$G$8,COUNTRY_INFO!D108*AM108*PROFILE!$G$8)","v":301367.2388985267},{"$f":"MAX(COUNTRY_INFO!D108*AK108*PROFILE!$G$9,COUNTRY_INFO!D108*AL108*PROFILE!$G$9,COUNTRY_INFO!D108*AM108*PROFILE!$G$9,IF(AND(DISTRICT!Z108<>\"Unknown\",Z108<>\"Not required\"),COUNTRY_INFO!P108*DISTRICT!AN108,0))","v":525509.37412009249},{"$f":"MAX(COUNTRY_INFO!D108*AK108*PROFILE!$G$10,COUNTRY_INFO!D108*AL108*PROFILE!$G$10,IF(AND(DISTRICT!Z108<>\"Unknown\",Z108<>\"Not required\"),COUNTRY_INFO!P108*DISTRICT!AO108,0))","v":198525.80000000002},1025402.4130186192,0,{"$f":"MAX('MDA4'!R108,'T1'!L108,'T2'!J108,T3_R1!K108,T3_R2!K108)","v":0},{"$f":"MAX('MDA1'!K108,'MDA4'!S108,'MDA3'!I108,'MDA3'!L108,'T1'!M108,'T2'!K108,T3_R1!L108,T3_R2!L108)","v":0},{"$f":"MAX('MDA1'!L108,'MDA4'!T108,'MDA3'!J108,'MDA3'!M108,'T1'!N108,'T2'!L108,T3_R1!M108,T3_R2!M108)","v":0},0,{"$f":"MAX('MDA4'!R108,T108)","v":0},{"$f":"MAX('MDA1'!K108,'MDA4'!S108,'MDA3'!I108,'MDA3'!L108,V108,AD108)","v":0},{"$f":"MAX('MDA1'!L108,'MDA4'!T108,'MDA3'!J108,'MDA3'!M108,AF108)","v":0},0,0]
[{"$f":"IF(COUNTRY_INFO!A109=0,\" \",COUNTRY_INFO!A109)","v":"Angola"},{"$f":"IF(COUNTRY_INFO!B109=0,\" \",COUNTRY_INFO!B109)","v":"LUNDA NORTE"},{"$f":"IF(COUNTRY_INFO!C109=0,\" \",COUNTRY_INFO!C109)","v":"CAMBULO"},{"$f":"COUNTRY_INFO!M109","v":140949.41993470161},null,null,{"$f":"MAX('MDA1'!M109,'MDA4'!U109)","v":0},{"$f":"IF(AND(COUNTRY_INFO!H109>0,COUNTRY_INFO!H109<4),IF(D109>MAX('MDA1'!M109,'MDA4'!U109),MAX('MDA1'!M109,'MDA4'!U109),D109),0)","v":0},{"$f":"IF(AND(COUNTRY_INFO!H109>0,COUNTRY_INFO!H109<4), IF(G109/D109*100<>0, IF(G109/D109*100>100,100,G109/D109*100), \"-\"),0)","v":"-"},{"$f":"COUNTRY_INFO!N109","v":140949.41993470161},null,null,{"$f":"MAX('MDA1'!M109,MAX('MDA3'!I109,'MDA3'!L109)+MAX('MDA3'!J109,'MDA3'!M109))","v":0},{"$f":"IF(AND(COUNTRY_INFO!I109>0,COUNTRY_INFO!I109<4),IF(J109>MAX('MDA1'!M109,MAX('MDA3'!I109,'MDA3'!L109)+MAX('MDA3'!J109,'MDA3'!M109)),MAX('MDA1'!M109,MAX('MDA3'!I109,'MDA3'!L109)+MAX('MDA3'!J109,'MDA3'!M109)),J109),0)","v":0},{"$f":"IF(AND(COUNTRY_INFO!I109>0,COUNTRY_INFO!I109<4), IF(M109/J109*100<>0, IF(M109/J109*100>100,100,M109/J109*100), \"-\"),0)","v":"-"},{"$f":"COUNTRY_INFO!O109","v":61877},null,null,{"$f":"SUM(MAX('MDA4'!R109, 'T1'!L109, MAX(T3_R1!K109, T3_R2!K109)), MAX('MDA1'!K109, 'MDA4'!S109, 'T1'!M109, MAX(T3_R1!L109, T3_R2!L109)), MAX('MDA1'!L109, 'MDA4'!T109, 'T1'!N109, MAX(T3_R1!M109, T3_R2!M109)))","v":0},{"$f":"IF(AND(COUNTRY_INFO!J109>1,COUNTRY_INFO!J109<4),IF(COUNTRY_INFO!E109>MAX('MDA4'!R109,'T1'!L109,MAX(T3_R1!K109,T3_R2!K109)),MAX('MDA4'!R109,'T1'!L109,MAX(T3_R1!K109,T3_R2!K109)),COUNTRY_INFO!E109),0)","v":0},{"$f":"IF(AND(COUNTRY_INFO!J109>1,COUNTRY_INFO!J109<4), IF(T109/COUNTRY_INFO!E109*100<>0, IF(T109/COUNTRY_INFO!E109*100>100,100,T109/COUNTRY_INFO!E109*100), \"-\"),0)","v":"-"},{"$f":"IF(AND(COUNTRY_INFO!J109>1,COUNTRY_INFO!J109<4),IF(COUNTRY_INFO!F109>MAX('MDA1'!K109,'MDA4'!S109,'T1'!M109,MAX(T3_R1!L109,T3_R2!L109)),MAX('MDA1'!K109,'MDA4'!S109,'T1'!M109,MAX(T3_R1!L109,T3_R2!L109)),COUNTRY_INFO!F109),0)","v":0},{"$f":"IF(AND(COUNTRY_INFO!J109>1,COUNTRY_INFO!J109<4), IF(V109/COUNTRY_INFO!F109*100<>0, IF(V109/COUNTRY_INFO!F109*100>100,100,V109/COUNTRY_INFO!F109*100), \"-\"),0)","v":"-"},0,{"$f":"IF(AND(COUNTRY_INFO!J109>1,COUNTRY_INFO!J109<4), IF(S109/P109*100<>0, IF(X109/P109*100>100,100,X109/P109*100), \"-\"),0)","v":"-"},{"$f":"COUNTRY_INFO!P109","v":34518.5},null,null,{"$f":"MAX('T1'!L109,'T2'!J109)+MAX('T1'!M109,'T2'!K109)+MAX('T1'!N109,'T2'!L109)","v":0},{"$f":"IF(COUNTRY_INFO!K109=1,IF(COUNTRY_INFO!F109*0.33>MAX('T1'!M109,'T2'!K109),MAX('T1'!M109,'T2'!K109),COUNTRY_INFO!F109*0.33),IF(COUNTRY_INFO!K109=2,IF(COUNTRY_INFO!F109*0.5>MAX('T1'!M109,'T2'!K109),MAX('T1'!M109,'T2'!K109),COUNTRY_INFO!F109*0.5),IF(COUNTRY_INFO!K109=3,IF(COUNTRY_INFO!F109>MAX('T1'!M109,'T2'!K109),MAX('T1'!M109,'T2'!K109),COUNTRY_INFO!F109),0)))","v":0},{"$f":"IF(AND(COUNTRY_INFO!K109>0,COUNTRY_INFO!L109<4),IF(Z109>0,IF(COUNTRY_INFO!K109=1, AD109/(COUNTRY_INFO!F109*0.33)*100, IF(COUNTRY_INFO!K109=2, AD109/(COUNTRY_INFO!F109*0.5)*100, IF(COUNTRY_INFO!K109=3, AD109/COUNTRY_INFO!F109*100))),\"-\"),0)","v":0},{"$f":"IF(COUNTRY_INFO!K109=2,IF(COUNTRY_INFO!G109*0.2>MAX('T1'!N109,'T2'!L109),MAX('T1'!N109,'T2'!L109),COUNTRY_INFO!G109*0.2),IF(COUNTRY_INFO!K109=3,IF(COUNTRY_INFO!G109>MAX('T1'!N109,'T2'!L109),MAX('T1'!N109,'T2'!L109),COUNTRY_INFO!G109),0))","v":0},{"$f":"IF(AND(COUNTRY_INFO!K109>0,COUNTRY_INFO!L109<4),IF(Z109>0,IF(COUNTRY_INFO!K109=1, 0, IF(COUNTRY_INFO!K109=2, AF109/(COUNTRY_INFO!G109*0.2)*100, IF(COUNTRY_INFO!K109=3, AF109/COUNTRY_INFO!G109*100))),\"-\"),0)","v":0},0,{"$f":"IF(AND(COUNTRY_INFO!K109>0,COUNTRY_INFO!K109<4), IF(AC109/Z109*100<>0, IF(AH109/Z109*100>100,100,AH109/Z109*100), \"-\"),0)","v":"-"},null,{"$f":"IF(AND(D109<>0, D109<>\"Unknown\",D109<>\"Stopped\",D109<>\"Not required\"),D109/COUNTRY_INFO!D109, 0)","v":1},{"$f":"IF(AND(J109<>0,J109<>\"Unknown\",J109<>\"Stopped\",J109<>\"Not required\"),J109/COUNTRY_INFO!D109, 0)","v":1},{"$f":"IF(AND(P109<>0,P109<>\"Unknown\",P109<>\"Not required\"),P109/(COUNTRY_INFO!E109+COUNTRY_INFO!F109), 0)","v":1},{"$f":"IF(AND(Z109<>0,Z109<>\"Unknown\",Z109<>\"Not required\"),IF(COUNTRY_INFO!K109=1,1,IF(COUNTRY_INFO!K109=2,0.5*COUNTRY_INFO!F109/(0.5*COUNTRY_INFO!F109+0.2*COUNTRY_INFO!G109),IF(COUNTRY_INFO!K109=3,COUNTRY_INFO!F109/(COUNTRY_INFO!F109+COUNTRY_INFO!G109)))),0)","v":0.56962208670712811},{"$f":"IF(AND(Z109<>0,Z109<>\"Unknown\",Z109<>\"Not required\"),IF(COUNTRY_INFO!K109=1,0,IF(COUNTRY_INFO!K109=2,0.2*COUNTRY_INFO!G109/(0.5*COUNTRY_INFO!F109+0.2*COUNTRY_INFO!G109),IF(COUNTRY_INFO!K109=3,COUNTRY_INFO!G109/(COUNTRY_INFO!F109+COUNTRY_INFO!G109)))),0)","v":0.43037791329287195},{"$f":"MAX(COUNTRY_INFO!D109*AK109*PROFILE!$G$7,COUNTRY_INFO!D109*AL109*PROFILE!$G$7)","v":4792.3145482037253},{"$f":"MAX(COUNTRY_INFO!D109*AK109*PROFILE!$G$8,COUNTRY_INFO!D109*AL109*PROFILE!$G$8,COUNTRY_INFO!D109*AM109*PROFILE!$G$8)","v":22551.887668443491},{"$f":"MAX(COUNTRY_INFO!D109*AK109*PROFILE!$G$9,COUNTRY_INFO!D109*AL109*PROFILE!$G$9,COUNTRY_INFO!D109*AM109*PROFILE!$G$9,IF(AND(DISTRICT!Z109<>\"Unknown\",Z109<>\"Not required\"),COUNTRY_INFO!P109*DISTRICT!AN109,0))","v":39324.872926419164},{"$f":"MAX(COUNTRY_INFO!D109*AK109*PROFILE!$G$10,COUNTRY_INFO!D109*AL109*PROFILE!$G$10,IF(AND(DISTRICT!Z109<>\"Unknown\",Z109<>\"Not required\"),COUNTRY_INFO!P109*DISTRICT!AO109,0))","v":74280.344791635231},140949.41993470161,0,{"$f":"MAX('MDA4'!R109,'T1'!L109,'T2'!J109,T3_R1!K109,T3_R2!K109)","v":0},{"$f":"MAX('MDA1'!K109,'MDA4'!S109,'MDA3'!I109,'MDA3'!L109,'T1'!M109,'T2'!K109,T3_R1!L109,T3_R2!L109)","v":0},{"$f":"MAX('MDA1'!L109,'MDA4'!T109,'MDA3'!J109,'MDA3'!M109,'T1'!N109,'T2'!L109,T3_R1!M109,T3_R2!M109)","v":0},0,{"$f":"MAX('MDA4'!R109,T109)","v":0},{"$f":"MAX('MDA1'!K109,'MDA4'!S109,'MDA3'!I109,'MDA3'!L109,V109,AD109)","v":0},{"$f":"MAX('MDA1'!L109,'MDA4'!T109,'MDA3'!J109,'MDA3'!M109,AF109)","v":0},0,0]
[{"$f":"IF(COUNTRY_INFO!A110=0,\" \",COUNTRY_INFO!A110)","v":"Angola"},{"$f":"IF(COUNTRY_INFO!B110=0,\" \",COUNTRY_INFO!B110)","v":"LUNDA NORTE"},{"$f":"IF(COUNTRY_INFO!C110=0,\" \",COUNTRY_INFO!C110)","v":"CAPENDA CAMULEMBA"},{"$f":"COUNTRY_INFO!M110","v":"Unknown"},null,null,{"$f":"MAX('MDA1'!M110,'MDA4'!U110)","v":0},{"$f":"IF(AND(COUNTRY_INFO!H110>0,COUNTRY_INFO!H110<4),IF(D110>MAX('MDA1'!M110,'MDA4'!U110),MAX('MDA1'!M110,'MDA4'!U110),D110),0)","v":0},{"$f":"IF(AND(COUNTRY_INFO!H110>0,COUNTRY_INFO!H110<4), IF(G110/D110*100<>0, IF(G110/D110*100>100,100,G110/D110*100), \"-\"),0)","v":0},{"$f":"COUNTRY_INFO!N110","v":68387.930614217315},null,null,{"$f":"MAX('MDA1'!M110,MAX('MDA3'!I110,'MDA3'!L110)+MAX('MDA3'!J110,'MDA3'!M110))","v":0},{"$f":"IF(AND(COUNTRY_INFO!I110>0,COUNTRY_INFO!I110<4),IF(J110>MAX('MDA1'!M110,MAX('MDA3'!I110,'MDA3'!L110)+MAX('MDA3'!J110,'MDA3'!M110)),MAX('MDA1'!M110,MAX('MDA3'!I110,'MDA3'!L110)+MAX('MDA3'!J110,'MDA3'!M110)),J110),0)","v":0},{"$f":"IF(AND(COUNTRY_INFO!I110>0,COUNTRY_INFO!I110<4), IF(M110/J110*100<>0, IF(M110/J110*100>100,100,M110/J110*100), \"-\"),0)","v":"-"},{"$f":"COUNTRY_INFO!O110","v":30022},null,null,{"$f":"SUM(MAX('MDA4'!R110, 'T1'!L110, MAX(T3_R1!K110, T3_R2!K110)), MAX('MDA1'!K110, 'MDA4'!S110, 'T1'!M110, MAX(T3_R1!L110, T3_R2!L110)), MAX('MDA1'!L110, 'MDA4'!T110, 'T1'!N110, MAX(T3_R1!M110, T3_R2!M110)))","v":0},{"$f":"IF(AND(COUNTRY_INFO!J110>1,COUNTRY_INFO!J110<4),IF(COUNTRY_INFO!E110>MAX('MDA4'!R110,'T1'!L110,MAX(T3_R1!K110,T3_R2!K110)),MAX('MDA4'!R110,'T1'!L110,MAX(T3_R1!K110,T3_R2!K110)),COUNTRY_INFO!E110),0)","v":0},{"$f":"IF(AND(COUNTRY_INFO!J110>1,COUNTRY_INFO!J110<4), IF(T110/COUNTRY_INFO!E110*100<>0, IF(T110/COUNTRY_INFO!E110*100>100,100,T110/COUNTRY_INFO!E110*100), \"-\"),0)","v":"-"},{"$f":"IF(AND(COUNTRY_INFO!J110>1,COUNTRY_INFO!J110<4),IF(COUNTRY_INFO!F110>MAX('MDA1'!K110,'MDA4'!S110,'T1'!M110,MAX(T3_R1!L110,T3_R2!L110)),MAX('MDA1'!K110,'MDA4'!S110,'T1'!M110,MAX(T3_R1!L110,T3_R2!L110)),COUNTRY_INFO!F110),0)","v":0},{"$f":"IF(AND(COUNTRY_INFO!J110>1,COUNTRY_INFO!J110<4), IF(V110/COUNTRY_INFO!F110*100<>0, IF(V110/COUNTRY_INFO!F110*100>100,100,V110/COUNTRY_INFO!F110*100), \"-\"),0)","v":"-"},0,{"$f":"IF(AND(COUNTRY_INFO!J110>1,COUNTRY_INFO!J110<4), IF(S110/P110*100<>0, IF(X110/P110*100>100,100,X110/P110*100), \"-\"),0)","v":"-"},{"$f":"COUNTRY_INFO!P110","v":16748},null,null,{"$f":"MAX('T1'!L110,'T2'!J110)+MAX('T1'!M110,'T2'!K110)+MAX('T1'!N110,'T2'!L110)","v":0},{"$f":"IF(COUNTRY_INFO!K110=1,IF(COUNTRY_INFO!F110*0.33>MAX('T1'!M110,'T2'!K110),MAX('T1'!M110,'T2'!K110),COUNTRY_INFO!F110*0.33),IF(COUNTRY_INFO!K110=2,IF(COUNTRY_INFO!F110*0.5>MAX('T1'!M110,'T2'!K110),MAX('T1'!M110,'T2'!K110),COUNTRY_INFO!F110*0.5),IF(COUNTRY_INFO!K110=3,IF(COUNTRY_INFO!F110>MAX('T1'!M110,'T2'!K110),MAX('T1'!M110,'T2'!K110),COUNTRY_INFO!F110),0)))","v":0},{"$f":"IF(AND(COUNTRY_INFO!K110>0,COUNTRY_INFO!L110<4),IF(Z110>0,IF(COUNTRY_INFO!K110=1, AD110/(COUNTRY_INFO!F110*0.33)*100, IF(COUNTRY_INFO!K110=2, AD110/(COUNTRY_INFO!F110*0.5)*100, IF(COUNTRY_INFO!K110=3, AD110/COUNTRY_INFO!F110*100))),\"-\"),0)","v":0},{"$f":"IF(COUNTRY_INFO!K110=2,IF(COUNTRY_INFO!G110*0.2>MAX('T1'!N110,'T2'!L110),MAX('T1'!N110,'T2'!L110),COUNTRY_INFO!G110*0.2),IF(COUNTRY_INFO!K110=3,IF(COUNTRY_INFO!G110>MAX('T1'!N110,'T2'!L110),MAX('T1'!N110,'T2'!L110),COUNTRY_INFO!G110),0))","v":0},{"$f":"IF(AND(COUNTRY_INFO!K110>0,COUNTRY_INFO!L110<4),IF(Z110>0,IF(COUNTRY_INFO!K110=1, 0, IF(COUNTRY_INFO!K110=2, AF110/(COUNTRY_INFO!G110*0.2)*100, IF(COUNTRY_INFO!K110=3, AF110/COUNTRY_INFO!G110*100))),\"-\"),0)","v":0},0,{"$f":"IF(AND(COUNTRY_INFO!K110>0,COUNTRY_INFO!K110<4), IF(AC110/Z110*100<>0, IF(AH110/Z110*100>100,100,AH110/Z110*100), \"-\"),0)","v":"-"},null,{"$f":"IF(AND(D110<>0, D110<>\"Unknown\",D110<>\"Stopped\",D110<>\"Not required\"),D110/COUNTRY_INFO!D110, 0)","v":0},{"$f":"IF(AND(J110<>0,J110<>\"Unknown\",J110<>\"Stopped\",J110<>\"Not required\"),J110/COUNTRY_INFO!D110, 0)","v":1},{"$f":"IF(AND(P110<>0,P110<>\"Unknown\",P110<>\"Not required\"),P110/(COUNTRY_INFO!E110+COUNTRY_INFO!F110), 0)","v":1},{"$f":"IF(AND(Z110<>0,Z110<>\"Unknown\",Z110<>\"Not required\"),IF(COUNTRY_INFO!K110=1,1,IF(COUNTRY_INFO!K110=2,0.5*COUNTRY_INFO!F110/(0.5*COUNTRY_INFO!F110+0.2*COUNTRY_INFO!G110),IF(COUNTRY_INFO!K110=3,COUNTRY_INFO!F110/(COUNTRY_INFO!F110+COUNTRY_INFO!G110)))),0)","v":0.569620253164557},{"$f":"IF(AND(Z110<>0,Z110<>\"Unknown\",Z110<>\"Not required\"),IF(COUNTRY_INFO!K110=1,0,IF(COUNTRY_INFO!K110=2,0.2*COUNTRY_INFO!G110/(0.5*COUNTRY_INFO!F110+0.2*COUNTRY_INFO!G110),IF(COUNTRY_INFO!K110=3,COUNTRY_INFO!G110/(COUNTRY_INFO!F110+COUNTRY_INFO!G110)))),0)","v":0.43037974683544306},{"$f":"MAX(COUNTRY_INFO!D110*AK110*PROFILE!$G$7,COUNTRY_INFO!D110*AL110*PROFILE!$G$7)","v":2325.2062687160601},{"$f":"MAX(COUNTRY_INFO!D110*AK110*PROFILE!$G$8,COUNTRY_INFO!D110*AL110*PROFILE!$G$8,COUNTRY_INFO!D110*AM110*PROFILE!$G$8)","v":10942.059426733615},{"$f":"MAX(COUNTRY_INFO!D110*AK110*PROFILE!$G$9,COUNTRY_INFO!D110*AL110*PROFILE!$G$9,COUNTRY_INFO!D110*AM110*PROFILE!$G$9,IF(AND(DISTRICT!Z110<>\"Unknown\",Z110<>\"Not required\"),COUNTRY_INFO!P110*DISTRICT!AN110,0))","v":19080.225249247389},{"$f":"MAX(COUNTRY_INFO!D110*AK110*PROFILE!$G$10,COUNTRY_INFO!D110*AL110*PROFILE!$G$10,IF(AND(DISTRICT!Z110<>\"Unknown\",Z110<>\"Not required\"),COUNTRY_INFO!P110*DISTRICT!AO110,0))","v":36040.439669520252},68387.930614217315,0,{"$f":"MAX('MDA4'!R110,'T1'!L110,'T2'!J110,T3_R1!K110,T3_R2!K110)","v":0},{"$f":"MAX('MDA1'!K110,'MDA4'!S110,'MDA3'!I110,'MDA3'!L110,'T1'!M110,'T2'!K110,T3_R1!L110,T3_R2!L110)","v":0},{"$f":"MAX('MDA1'!L110,'MDA4'!T110,'MDA3'!J110,'MDA3'!M110,'T1'!N110,'T2'!L110,T3_R1!M110,T3_R2!M110)","v":0},0,{"$f":"MAX('MDA4'!R110,T110)","v":0},{"$f":"MAX('MDA1'!K110,'MDA4'!S110,'MDA3'!I110,'MDA3'!L110,V110,AD110)","v":0},{"$f":"MAX('MDA1'!L110,'MDA4'!T110,'MDA3'!J110,'MDA3'!M110,AF110)","v":0},0,0]
[{"$f":"IF(COUNTRY_INFO!A111=0,\" \",COUNTRY_INFO!A111)","v":"Angola"},{"$f":"IF(COUNTRY_INFO!B111=0,\" \",COUNTRY_INFO!B111)","v":"LUNDA NORTE"},{"$f":"IF(COUNTRY_INFO!C111=0,\" \",COUNTRY_INFO!C111)","v":"CAUNGULA"},{"$f":"COUNTRY_INFO!M111","v":0},null,null,{"$f":"MAX('MDA1'!M111,'MDA4'!U111)","v":0},{"$f":"IF(AND(COUNTRY_INFO!H111>0,COUNTRY_INFO!H111<4),IF(D111>MAX('MDA1'!M111,'MDA4'!U111),MAX('MDA1'!M111,'MDA4'!U111),D111),0)","v":0},{"$f":"IF(AND(COUNTRY_INFO!H111>0,COUNTRY_INFO!H111<4), IF(G111/D111*100<>0, IF(G111/D111*100>100,100,G111/D111*100), \"-\"),0)","v":0},{"$f":"COUNTRY_INFO!N111","v":33045.855328451857},null,null,{"$f":"MAX('MDA1'!M111,MAX('MDA3'!I111,'MDA3'!L111)+MAX('MDA3'!J111,'MDA3'!M111))","v":0},{"$f":"IF(AND(COUNTRY_INFO!I111>0,COUNTRY_INFO!I111<4),IF(J111>MAX('MDA1'!M111,MAX('MDA3'!I111,'MDA3'!L111)+MAX('MDA3'!J111,'MDA3'!M111)),MAX('MDA1'!M111,MAX('MDA3'!I111,'MDA3'!L111)+MAX('MDA3'!J111,'MDA3'!M111)),J111),0)","v":0},{"$f":"IF(AND(COUNTRY_INFO!I111>0,COUNTRY_INFO!I111<4), IF(M111/J111*100<>0, IF(M111/J111*100>100,100,M111/J111*100), \"-\"),0)","v":"-"},{"$f":"COUNTRY_INFO!O111","v":14507},null,null,{"$f":"SUM(MAX('MDA4'!R111, 'T1'!L111, MAX(T3_R1!K111, T3_R2!K111)), MAX('MDA1'!K111, 'MDA4'!S111, 'T1'!M111, MAX(T3_R1!L111, T3_R2!L111)), MAX('MDA1'!L111, 'MDA4'!T111, 'T1'!N111, MAX(T3_R1!M111, T3_R2!M111)))","v":0},{"$f":"IF(AND(COUNTRY_INFO!J111>1,COUNTRY_INFO!J111<4),IF(COUNTRY_INFO!E111>MAX('MDA4'!R111,'T1'!L111,MAX(T3_R1!K111,T3_R2!K111)),MAX('MDA4'!R111,'T1'!L111,MAX(T3_R1!K111,T3_R2!K111)),COUNTRY_INFO!E111),0)","v":0},{"$f":"IF(AND(COUNTRY_INFO!J111>1,COUNTRY_INFO!J111<4), IF(T111/COUNTRY_INFO!E111*100<>0, IF(T111/COUNTRY_INFO!E111*100>100,100,T111/COUNTRY_INFO!E111*100), \"-\"),0)","v":"-"},{"$f":"IF(AND(COUNTRY_INFO!J111>1,COUNTRY_INFO!J111<4),IF(COUNTRY_INFO!F111>MAX('MDA1'!K111,'MDA4'!S111,'T1'!M111,MAX(T3_R1!L111,T3_R2!L111)),MAX('MDA1'!K111,'MDA4'!S111,'T1'!M111,MAX(T3_R1!L111,T3_R2!L111)),COUNTRY_INFO!F111),0)","v":0},{"$f":"IF(AND(COUNTRY_INFO!J111>1,COUNTRY_INFO!J111<4), IF(V111/COUNTRY_INFO!F111*100<>0, IF(V111/COUNTRY_INFO!F111*100>100,100,V111/COUNTRY_INFO!F111*100), \"-\"),0)","v":"-"},0,{"$f":"IF(AND(COUNTRY_INFO!J111>1,COUNTRY_INFO!J111<4), IF(S111/P111*100<>0, IF(X111/P111*100>100,100,X111/P111*100), \"-\"),0)","v":"-"},{"$f":"COUNTRY_INFO!P111","v":8093},null,null,{"$f":"MAX('T1'!L111,'T2'!J111)+MAX('T1'!M111,'T2'!K111)+MAX('T1'!N111,'T2'!L111)","v":0},{"$f":"IF(COUNTRY_INFO!K111=1,IF(COUNTRY_INFO!F111*0.33>MAX('T1'!M111,'T2'!K111),MAX('T1'!M111,'T2'!K111),COUNTRY_INFO!F111*0.33),IF(COUNTRY_INFO!K111=2,IF(COUNTRY_INFO!F111*0.5>MAX('T1'!M111,'T2'!K111),MAX('T1'!M111,'T2'!K111),COUNTRY_INFO!F111*0.5),IF(COUNTRY_INFO!K111=3,IF(COUNTRY_INFO!F111>MAX('T1'!M111,'T2'!K111),MAX('T1'!M111,'T2'!K111),COUNTRY_INFO!F111),0)))","v":0},{"$f":"IF(AND(COUNTRY_INFO!K111>0,COUNTRY_INFO!L111<4),IF(Z111>0,IF(COUNTRY_INFO!K111=1, AD111/(COUNTRY_INFO!F111*0.33)*100, IF(COUNTRY_INFO!K111=2, AD111/(COUNTRY_INFO!F111*0.5)*100, IF(COUNTRY_INFO!K111=3, AD111/COUNTRY_INFO!F111*100))),\"-\"),0)","v":0},{"$f":"IF(COUNTRY_INFO!K111=2,IF(COUNTRY_INFO!G111*0.2>MAX('T1'!N111,'T2'!L111),MAX('T1'!N111,'T2'!L111),COUNTRY_INFO!G111*0.2),IF(COUNTRY_INFO!K111=3,IF(COUNTRY_INFO!G111>MAX('T1'!N111,'T2'!L111),MAX('T1'!N111,'T2'!L111),COUNTRY_INFO!G111),0))","v":0},{"$f":"IF(AND(COUNTRY_INFO!K111>0,COUNTRY_INFO!L111<4),IF(Z111>0,IF(COUNTRY_INFO!K111=1, 0, IF(COUNTRY_INFO!K111=2, AF111/(COUNTRY_INFO!G111*0.2)*100, IF(COUNTRY_INFO!K111=3, AF111/COUNTRY_INFO!G111*100))),\"-\"),0)","v":0},0,{"$f":"IF(AND(COUNTRY_INFO!K111>0,COUNTRY_INFO!K111<4), IF(AC111/Z111*100<>0, IF(AH111/Z111*100>100,100,AH111/Z111*100), \"-\"),0)","v":"-"},null,{"$f":"IF(AND(D111<>0, D111<>\"Unknown\",D111<>\"Stopped\",D111<>\"Not required\"),D111/COUNTRY_INFO!D111, 0)","v":0},{"$f":"IF(AND(J111<>0,J111<>\"Unknown\",J111<>\"Stopped\",J111<>\"Not required\"),J111/COUNTRY_INFO!D111, 0)","v":1},{"$f":"IF(AND(P111<>0,P111<>\"Unknown\",P111<>\"Not required\"),P111/(COUNTRY_INFO!E111+COUNTRY_INFO!F111), 0)","v":1},{"$f":"IF(AND(Z111<>0,Z111<>\"Unknown\",Z111<>\"Not required\"),IF(COUNTRY_INFO!K111=1,1,IF(COUNTRY_INFO!K111=2,0.5*COUNTRY_INFO!F111/(0.5*COUNTRY_INFO!F111+0.2*COUNTRY_INFO!G111),IF(COUNTRY_INFO!K111=3,COUNTRY_INFO!F111/(COUNTRY_INFO!F111+COUNTRY_INFO!G111)))),0)","v":0.56962807364388979},{"$f":"IF(AND(Z111<>0,Z111<>\"Unknown\",Z111<>\"Not required\"),IF(COUNTRY_INFO!K111=1,0,IF(COUNTRY_INFO!K111=2,0.2*COUNTRY_INFO!G111/(0.5*COUNTRY_INFO!F111+0.2*COUNTRY_INFO!G111),IF(COUNTRY_INFO!K111=3,COUNTRY_INFO!G111/(COUNTRY_INFO!F111+COUNTRY_INFO!G111)))),0)","v":0.43037192635611021},{"$f":"MAX(COUNTRY_INFO!D111*AK111*PROFILE!$G$7,COUNTRY_INFO!D111*AL111*PROFILE!$G$7)","v":1123.5671159323861},{"$f":"MAX(COUNTRY_INFO!D111*AK111*PROFILE!$G$8,COUNTRY_INFO!D111*AL111*PROFILE!$G$8,COUNTRY_INFO!D111*AM111*PROFILE!$G$8)","v":5287.3322757918077},{"$f":"MAX(COUNTRY_INFO!D111*AK111*PROFILE!$G$9,COUNTRY_INFO!D111*AL111*PROFILE!$G$9,COUNTRY_INFO!D111*AM111*PROFILE!$G$9,IF(AND(DISTRICT!Z111<>\"Unknown\",Z111<>\"Not required\"),COUNTRY_INFO!P111*DISTRICT!AN111,0))","v":9219.790064678793},{"$f":"MAX(COUNTRY_INFO!D111*AK111*PROFILE!$G$10,COUNTRY_INFO!D111*AL111*PROFILE!$G$10,IF(AND(DISTRICT!Z111<>\"Unknown\",Z111<>\"Not required\"),COUNTRY_INFO!P111*DISTRICT!AO111,0))","v":17415.16587204887},33045.855328451857,0,{"$f":"MAX('MDA4'!R111,'T1'!L111,'T2'!J111,T3_R1!K111,T3_R2!K111)","v":0},{"$f":"MAX('MDA1'!K111,'MDA4'!S111,'MDA3'!I111,'MDA3'!L111,'T1'!M111,'T2'!K111,T3_R1!L111,T3_R2!L111)","v":0},{"$f":"MAX('MDA1'!L111,'MDA4'!T111,'MDA3'!J111,'MDA3'!M111,'T1'!N111,'T2'!L111,T3_R1!M111,T3_R2!M111)","v":0},0,{"$f":"MAX('MDA4'!R111,T111)","v":0},{"$f":"MAX('MDA1'!K111,'MDA4'!S111,'MDA3'!I111,'MDA3'!L111,V111,AD111)","v":0},{"$f":"MAX('MDA1'!L111,'MDA4'!T111,'MDA3'!J111,'MDA3'!M111,AF111)","v":0},0,0]
[{"$f":"IF(COUNTRY_INFO!A112=0,\" \",COUNTRY_INFO!A112)","v":"Angola"},{"$f":"IF(COUNTRY_INFO!B112=0,\" \",COUNTRY_INFO!B112)","v":"LUNDA NORTE"},{"$f":"IF(COUNTRY_INFO!C112=0,\" \",COUNTRY_INFO!C112)","v":"CHITATO"},{"$f":"COUNTRY_INFO!M112","v":"Unknown"},null,null,{"$f":"MAX('MDA1'!M112,'MDA4'!U112)","v":0},{"$f":"IF(AND(COUNTRY_INFO!H112>0,COUNTRY_INFO!H112<4),IF(D112>MAX('MDA1'!M112,'MDA4'!U112),MAX('MDA1'!M112,'MDA4'!U112),D112),0)","v":0},{"$f":"IF(AND(COUNTRY_INFO!H112>0,COUNTRY_INFO!H112<4), IF(G112/D112*100<>0, IF(G112/D112*100>100,100,G112/D112*100), \"-\"),0)","v":0},{"$f":"COUNTRY_INFO!N112","v":244252.33126929752},null,null,{"$f":"MAX('MDA1'!M112,MAX('MDA3'!I112,'MDA3'!L112)+MAX('MDA3'!J112,'MDA3'!M112))","v":0},{"$f":"IF(AND(COUNTRY_INFO!I112>0,COUNTRY_INFO!I112<4),IF(J112>MAX('MDA1'!M112,MAX('MDA3'!I112,'MDA3'!L112)+MAX('MDA3'!J112,'MDA3'!M112)),MAX('MDA1'!M112,MAX('MDA3'!I112,'MDA3'!L112)+MAX('MDA3'!J112,'MDA3'!M112)),J112),0)","v":0},{"$f":"IF(AND(COUNTRY_INFO!I112>0,COUNTRY_INFO!I112<4), IF(M112/J112*100<>0, IF(M112/J112*100>100,100,M112/J112*100), \"-\"),0)","v":"-"},{"$f":"COUNTRY_INFO!O112","v":107226},null,null,{"$f":"SUM(MAX('MDA4'!R112, 'T1'!L112, MAX(T3_R1!K112, T3_R2!K112)), MAX('MDA1'!K112, 'MDA4'!S112, 'T1'!M112, MAX(T3_R1!L112, T3_R2!L112)), MAX('MDA1'!L112, 'MDA4'!T112, 'T1'!N112, MAX(T3_R1!M112, T3_R2!M112)))","v":0},{"$f":"IF(AND(COUNTRY_INFO!J112>1,COUNTRY_INFO!J112<4),IF(COUNTRY_INFO!E112>MAX('MDA4'!R112,'T1'!L112,MAX(T3_R1!K112,T3_R2!K112)),MAX('MDA4'!R112,'T1'!L112,MAX(T3_R1!K112,T3_R2!K112)),COUNTRY_INFO!E112),0)","v":0},{"$f":"IF(AND(COUNTRY_INFO!J112>1,COUNTRY_INFO!J112<4), IF(T112/COUNTRY_INFO!E112*100<>0, IF(T112/COUNTRY_INFO!E112*100>100,100,T112/COUNTRY_INFO!E112*100), \"-\"),0)","v":"-"},{"$f":"IF(AND(COUNTRY_INFO!J112>1,COUNTRY_INFO!J112<4),IF(COUNTRY_INFO!F112>MAX('MDA1'!K112,'MDA4'!S112,'T1'!M112,MAX(T3_R1!L112,T3_R2!L112)),MAX('MDA1'!K112,'MDA4'!S112,'T1'!M112,MAX(T3_R1!L112,T3_R2!L112)),COUNTRY_INFO!F112),0)","v":0},{"$f":"IF(AND(COUNTRY_INFO!J112>1,COUNTRY_INFO!J112<4), IF(V112/COUNTRY_INFO!F112*100<>0, IF(V112/COUNTRY_INFO!F112*100>100,100,V112/COUNTRY_INFO!F112*100), \"-\"),0)","v":"-"},0,{"$f":"IF(AND(COUNTRY_INFO!J112>1,COUNTRY_INFO!J112<4), IF(S112/P112*100<>0, IF(X112/P112*100>100,100,X112/P112*100), \"-\"),0)","v":"-"},{"$f":"COUNTRY_INFO!P112","v":59817.2},null,null,{"$f":"MAX('T1'!L112,'T2'!J112)+MAX('T1'!M112,'T2'!K112)+MAX('T1'!N112,'T2'!L112)","v":0},{"$f":"IF(COUNTRY_INFO!K112=1,IF(COUNTRY_INFO!F112*0.33>MAX('T1'!M112,'T2'!K112),MAX('T1'!M112,'T2'!K112),COUNTRY_INFO!F112*0.33),IF(COUNTRY_INFO!K112=2,IF(COUNTRY_INFO!F112*0.5>MAX('T1'!M112,'T2'!K112),MAX('T1'!M112,'T2'!K112),COUNTRY_INFO!F112*0.5),IF(COUNTRY_INFO!K112=3,IF(COUNTRY_INFO!F112>MAX('T1'!M112,'T2'!K112),MAX('T1'!M112,'T2'!K112),COUNTRY_INFO!F112),0)))","v":0},{"$f":"IF(AND(COUNTRY_INFO!K112>0,COUNTRY_INFO!L112<4),IF(Z112>0,IF(COUNTRY_INFO!K112=1, AD112/(COUNTRY_INFO!F112*0.33)*100, IF(COUNTRY_INFO!K112=2, AD112/(COUNTRY_INFO!F112*0.5)*100, IF(COUNTRY_INFO!K112=3, AD112/COUNTRY_INFO!F112*100))),\"-\"),0)","v":0},{"$f":"IF(COUNTRY_INFO!K112=2,IF(COUNTRY_INFO!G112*0.2>MAX('T1'!N112,'T2'!L112),MAX('T1'!N112,'T2'!L112),COUNTRY_INFO!G112*0.2),IF(COUNTRY_INFO!K112=3,IF(COUNTRY_INFO!G112>MAX('T1'!N112,'T2'!L112),MAX('T1'!N112,'T2'!L112),COUNTRY_INFO!G112),0))","v":0},{"$f":"IF(AND(COUNTRY_INFO!K112>0,COUNTRY_INFO!L112<4),IF(Z112>0,IF(COUNTRY_INFO!K112=1, 0, IF(COUNTRY_INFO!K112=2, AF112/(COUNTRY_INFO!G112*0.2)*100, IF(COUNTRY_INFO!K112=3, AF112/COUNTRY_INFO!G112*100))),\"-\"),0)","v":0},0,{"$f":"IF(AND(COUNTRY_INFO!K112>0,COUNTRY_INFO!K112<4), IF(AC112/Z112*100<>0, IF(AH112/Z112*100>100,100,AH112/Z112*100), \"-\"),0)","v":"-"},null,{"$f":"IF(AND(D112<>0, D112<>\"Unknown\",D112<>\"Stopped\",D112<>\"Not required\"),D112/COUNTRY_INFO!D112, 0)","v":0},{"$f":"IF(AND(J112<>0,J112<>\"Unknown\",J112<>\"Stopped\",J112<>\"Not required\"),J112/COUNTRY_INFO!D112, 0)","v":1},{"$f":"IF(AND(P112<>0,P112<>\"Unknown\",P112<>\"Not required\"),P112/(COUNTRY_INFO!E112+COUNTRY_INFO!F112), 0)","v":1},{"$f":"IF(AND(Z112<>0,Z112<>\"Unknown\",Z112<>\"Not required\"),IF(COUNTRY_INFO!K112=1,1,IF(COUNTRY_INFO!K112=2,0.5*COUNTRY_INFO!F112/(0.5*COUNTRY_INFO!F112+0.2*COUNTRY_INFO!G112),IF(COUNTRY_INFO!K112=3,COUNTRY_INFO!F112/(COUNTRY_INFO!F112+COUNTRY_INFO!G112)))),0)","v":0.56961877185826149},{"$f":"IF(AND(Z112<>0,Z112<>\"Unknown\",Z112<>\"Not required\"),IF(COUNTRY_INFO!K112=1,0,IF(COUNTRY_INFO!K112=2,0.2*COUNTRY_INFO!G112/(0.5*COUNTRY_INFO!F112+0.2*COUNTRY_INFO!G112),IF(COUNTRY_INFO!K112=3,COUNTRY_INFO!G112/(COUNTRY_INFO!F112+COUNTRY_INFO!G112)))),0)","v":0.43038122814173851},{"$f":"MAX(COUNTRY_INFO!D112*AK112*PROFILE!$G$7,COUNTRY_INFO!D112*AL112*PROFILE!$G$7)","v":8304.6386506365889},{"$f":"MAX(COUNTRY_INFO!D112*AK112*PROFILE!$G$8,COUNTRY_INFO!D112*AL112*PROFILE!$G$8,COUNTRY_INFO!D112*AM112*PROFILE!$G$8)","v":39080.33917480844},{"$f":"MAX(COUNTRY_INFO!D112*AK112*PROFILE!$G$9,COUNTRY_INFO!D112*AL112*PROFILE!$G$9,COUNTRY_INFO!D112*AM112*PROFILE!$G$9,IF(AND(DISTRICT!Z112<>\"Unknown\",Z112<>\"Not required\"),COUNTRY_INFO!P112*DISTRICT!AN112,0))","v":68146.374022657285},{"$f":"MAX(COUNTRY_INFO!D112*AK112*PROFILE!$G$10,COUNTRY_INFO!D112*AL112*PROFILE!$G$10,IF(AND(DISTRICT!Z112<>\"Unknown\",Z112<>\"Not required\"),COUNTRY_INFO!P112*DISTRICT!AO112,0))","v":128720.9794211952},244252.33126929752,0,{"$f":"MAX('MDA4'!R112,'T1'!L112,'T2'!J112,T3_R1!K112,T3_R2!K112)","v":0},{"$f":"MAX('MDA1'!K112,'MDA4'!S112,'MDA3'!I112,'MDA3'!L112,'T1'!M112,'T2'!K112,T3_R1!L112,T3_R2!L112)","v":0},{"$f":"MAX('MDA1'!L112,'MDA4'!T112,'MDA3'!J112,'MDA3'!M112,'T1'!N112,'T2'!L112,T3_R1!M112,T3_R2!M112)","v":0},0,{"$f":"MAX('MDA4'!R112,T112)","v":0},{"$f":"MAX('MDA1'!K112,'MDA4'!S112,'MDA3'!I112,'MDA3'!L112,V112,AD112)","v":0},{"$f":"MAX('MDA1'!L112,'MDA4'!T112,'MDA3'!J112,'MDA3'!M112,AF112)","v":0},0,0]
[{"$f":"IF(COUNTRY_INFO!A113=0,\" \",COUNTRY_INFO!A113)","v":"Angola"},{"$f":"IF(COUNTRY_INFO!B113=0,\" \",COUNTRY_INFO!B113)","v":"LUNDA NORTE"},{"$f":"IF(COUNTRY_INFO!C113=0,\" \",COUNTRY_INFO!C113)","v":"CUANGO"},{"$f":"COUNTRY_INFO!M113","v":0},null,null,{"$f":"MAX('MDA1'!M113,'MDA4'!U113)","v":0},{"$f":"IF(AND(COUNTRY_INFO!H113>0,COUNTRY_INFO!H113<4),IF(D113>MAX('MDA1'!M113,'MDA4'!U113),MAX('MDA1'!M113,'MDA4'!U113),D113),0)","v":0},{"$f":"IF(AND(COUNTRY_INFO!H113>0,COUNTRY_INFO!H113<4), IF(G113/D113*100<>0, IF(G113/D113*100>100,100,G113/D113*100), \"-\"),0)","v":0},{"$f":"COUNTRY_INFO!N113","v":"Unknown"},null,null,{"$f":"MAX('MDA1'!M113,MAX('MDA3'!I113,'MDA3'!L113)+MAX('MDA3'!J113,'MDA3'!M113))","v":0},{"$f":"IF(AND(COUNTRY_INFO!I113>0,COUNTRY_INFO!I113<4),IF(J113>MAX('MDA1'!M113,MAX('MDA3'!I113,'MDA3'!L113)+MAX('MDA3'!J113,'MDA3'!M113)),MAX('MDA1'!M113,MAX('MDA3'!I113,'MDA3'!L113)+MAX('MDA3'!J113,'MDA3'!M113)),J113),0)","v":0},{"$f":"IF(AND(COUNTRY_INFO!I113>0,COUNTRY_INFO!I113<4), IF(M113/J113*100<>0, IF(M113/J113*100>100,100,M113/J113*100), \"-\"),0)","v":0},{"$f":"COUNTRY_INFO!O113","v":94657},null,null,{"$f":"SUM(MAX('MDA4'!R113, 'T1'!L113, MAX(T3_R1!K113, T3_R2!K113)), MAX('MDA1'!K113, 'MDA4'!S113, 'T1'!M113, MAX(T3_R1!L113, T3_R2!L113)), MAX('MDA1'!L113, 'MDA4'!T113, 'T1'!N113, MAX(T3_R1!M113, T3_R2!M113)))","v":0},{"$f":"IF(AND(COUNTRY_INFO!J113>1,COUNTRY_INFO!J113<4),IF(COUNTRY_INFO!E113>MAX('MDA4'!R113,'T1'!L113,MAX(T3_R1!K113,T3_R2!K113)),MAX('MDA4'!R113,'T1'!L113,MAX(T3_R1!K113,T3_R2!K113)),COUNTRY_INFO!E113),0)","v":0},{"$f":"IF(AND(COUNTRY_INFO!J113>1,COUNTRY_INFO!J113<4), IF(T113/COUNTRY_INFO!E113*100<>0, IF(T113/COUNTRY_INFO!E113*100>100,100,T113/COUNTRY_INFO!E113*100), \"-\"),0)","v":"-"},{"$f":"IF(AND(COUNTRY_INFO!J113>1,COUNTRY_INFO!J113<4),IF(COUNTRY_INFO!F113>MAX('MDA1'!K113,'MDA4'!S113,'T1'!M113,MAX(T3_R1!L113,T3_R2!L113)),MAX('MDA1'!K113,'MDA4'!S113,'T1'!M113,MAX(T3_R1!L113,T3_R2!L113)),COUNTRY_INFO!F113),0)","v":0},{"$f":"IF(AND(COUNTRY_INFO!J113>1,COUNTRY_INFO!J113<4), IF(V113/COUNTRY_INFO!F113*100<>0, IF(V113/COUNTRY_INFO!F113*100>100,100,V113/COUNTRY_INFO!F113*100), \"-\"),0)","v":"-"},0,{"$f":"IF(AND(COUNTRY_INFO!J113>1,COUNTRY_INFO!J113<4), IF(S113/P113*100<>0, IF(X113/P113*100>100,100,X113/P113*100), \"-\"),0)","v":"-"},{"$f":"COUNTRY_INFO!P113","v":52805.4},null,null,{"$f":"MAX('T1'!L113,'T2'!J113)+MAX('T1'!M113,'T2'!K113)+MAX('T1'!N113,'T2'!L113)","v":0},{"$f":"IF(COUNTRY_INFO!K113=1,IF(COUNTRY_INFO!F113*0.33>MAX('T1'!M113,'T2'!K113),MAX('T1'!M113,'T2'!K113),COUNTRY_INFO!F113*0.33),IF(COUNTRY_INFO!K113=2,IF(COUNTRY_INFO!F113*0.5>MAX('T1'!M113,'T2'!K113),MAX('T1'!M113,'T2'!K113),COUNTRY_INFO!F113*0.5),IF(COUNTRY_INFO!K113=3,IF(COUNTRY_INFO!F113>MAX('T1'!M113,'T2'!K113),MAX('T1'!M113,'T2'!K113),COUNTRY_INFO!F113),0)))","v":0},{"$f":"IF(AND(COUNTRY_INFO!K113>0,COUNTRY_INFO!L113<4),IF(Z113>0,IF(COUNTRY_INFO!K113=1, AD113/(COUNTRY_INFO!F113*0.33)*100, IF(COUNTRY_INFO!K113=2, AD113/(COUNTRY_INFO!F113*0.5)*100, IF(COUNTRY_INFO!K113=3, AD113/COUNTRY_INFO!F113*100))),\"-\"),0)","v":0},{"$f":"IF(COUNTRY_INFO!K113=2,IF(COUNTRY_INFO!G113*0.2>MAX('T1'!N113,'T2'!L113),MAX('T1'!N113,'T2'!L113),COUNTRY_INFO!G113*0.2),IF(COUNTRY_INFO!K113=3,IF(COUNTRY_INFO!G113>MAX('T1'!N113,'T2'!L113),MAX('T1'!N113,'T2'!L113),COUNTRY_INFO!G113),0))","v":0},{"$f":"IF(AND(COUNTRY_INFO!K113>0,COUNTRY_INFO!L113<4),IF(Z113>0,IF(COUNTRY_INFO!K113=1, 0, IF(COUNTRY_INFO!K113=2, AF113/(COUNTRY_INFO!G113*0.2)*100, IF(COUNTRY_INFO!K113=3, AF113/COUNTRY_INFO!G113*100))),\"-\"),0)","v":0},0,{"$f":"IF(AND(COUNTRY_INFO!K113>0,COUNTRY_INFO!K113<4), IF(AC113/Z113*100<>0, IF(AH113/Z113*100>100,100,AH113/Z113*100), \"-\"),0)","v":"-"},null,{"$f":"IF(AND(D113<>0, D113<>\"Unknown\",D113<>\"Stopped\",D113<>\"Not required\"),D113/COUNTRY_INFO!D113, 0)","v":0},{"$f":"IF(AND(J113<>0,J113<>\"Unknown\",J113<>\"Stopped\",J113<>\"Not required\"),J113/COUNTRY_INFO!D113, 0)","v":0},{"$f":"IF(AND(P113<>0,P113<>\"Unknown\",P113<>\"Not required\"),P113/(COUNTRY_INFO!E113+COUNTRY_INFO!F113), 0)","v":1},{"$f":"IF(AND(Z113<>0,Z113<>\"Unknown\",Z113<>\"Not required\"),IF(COUNTRY_INFO!K113=1,1,IF(COUNTRY_INFO!K113=2,0.5*COUNTRY_INFO!F113/(0.5*COUNTRY_INFO!F113+0.2*COUNTRY_INFO!G113),IF(COUNTRY_INFO!K113=3,COUNTRY_INFO!F113/(COUNTRY_INFO!F113+COUNTRY_INFO!G113)))),0)","v":0.56961977373526196},{"$f":"IF(AND(Z113<>0,Z113<>\"Unknown\",Z113<>\"Not required\"),IF(COUNTRY_INFO!K113=1,0,IF(COUNTRY_INFO!K113=2,0.2*COUNTRY_INFO!G113/(0.5*COUNTRY_INFO!F113+0.2*COUNTRY_INFO!G113),IF(COUNTRY_INFO!K113=3,COUNTRY_INFO!G113/(COUNTRY_INFO!F113+COUNTRY_INFO!G113)))),0)","v":0.4303802262647381},{"$f":"MAX(COUNTRY_INFO!D113*AK113*PROFILE!$G$7,COUNTRY_INFO!D113*AL113*PROFILE!$G$7)","v":0},{"$f":"MAX(COUNTRY_INFO!D113*AK113*PROFILE!$G$8,COUNTRY_INFO!D113*AL113*PROFILE!$G$8,COUNTRY_INFO!D113*AM113*PROFILE!$G$8)","v":34499.261125033125},{"$f":"MAX(COUNTRY_INFO!D113*AK113*PROFILE!$G$9,COUNTRY_INFO!D113*AL113*PROFILE!$G$9,COUNTRY_INFO!D113*AM113*PROFILE!$G$9,IF(AND(DISTRICT!Z113<>\"Unknown\",Z113<>\"Not required\"),COUNTRY_INFO!P113*DISTRICT!AN113,0))","v":60158.115353494795},{"$f":"MAX(COUNTRY_INFO!D113*AK113*PROFILE!$G$10,COUNTRY_INFO!D113*AL113*PROFILE!$G$10,IF(AND(DISTRICT!Z113<>\"Unknown\",Z113<>\"Not required\"),COUNTRY_INFO!P113*DISTRICT!AO113,0))","v":22726.400000000001},117383.77647852793,0,{"$f":"MAX('MDA4'!R113,'T1'!L113,'T2'!J113,T3_R1!K113,T3_R2!K113)","v":0},{"$f":"MAX('MDA1'!K113,'MDA4'!S113,'MDA3'!I113,'MDA3'!L113,'T1'!M113,'T2'!K113,T3_R1!L113,T3_R2!L113)","v":0},{"$f":"MAX('MDA1'!L113,'MDA4'!T113,'MDA3'!J113,'MDA3'!M113,'T1'!N113,'T2'!L113,T3_R1!M113,T3_R2!M113)","v":0},0,{"$f":"MAX('MDA4'!R113,T113)","v":0},{"$f":"MAX('MDA1'!K113,'MDA4'!S113,'MDA3'!I113,'MDA3'!L113,V113,AD113)","v":0},{"$f":"MAX('MDA1'!L113,'MDA4'!T113,'MDA3'!J113,'MDA3'!M113,AF113)","v":0},0,0]
[{"$f":"IF(COUNTRY_INFO!A114=0,\" \",COUNTRY_INFO!A114)","v":"Angola"},{"$f":"IF(COUNTRY_INFO!B114=0,\" \",COUNTRY_INFO!B114)","v":"LUNDA NORTE"},{"$f":"IF(COUNTRY_INFO!C114=0,\" \",COUNTRY_INFO!C114)","v":"CUILO"},{"$f":"COUNTRY_INFO!M114","v":24644.764426885482},null,null,{"$f":"MAX('MDA1'!M114,'MDA4'!U114)","v":0},{"$f":"IF(AND(COUNTRY_INFO!H114>0,COUNTRY_INFO!H114<4),IF(D114>MAX('MDA1'!M114,'MDA4'!U114),MAX('MDA1'!M114,'MDA4'!U114),D114),0)","v":0},{"$f":"IF(AND(COUNTRY_INFO!H114>0,COUNTRY_INFO!H114<4), IF(G114/D114*100<>0, IF(G114/D114*100>100,100,G114/D114*100), \"-\"),0)","v":"-"},{"$f":"COUNTRY_INFO!N114","v":24644.764426885482},null,null,{"$f":"MAX('MDA1'!M114,MAX('MDA3'!I114,'MDA3'!L114)+MAX('MDA3'!J114,'MDA3'!M114))","v":0},{"$f":"IF(AND(COUNTRY_INFO!I114>0,COUNTRY_INFO!I114<4),IF(J114>MAX('MDA1'!M114,MAX('MDA3'!I114,'MDA3'!L114)+MAX('MDA3'!J114,'MDA3'!M114)),MAX('MDA1'!M114,MAX('MDA3'!I114,'MDA3'!L114)+MAX('MDA3'!J114,'MDA3'!M114)),J114),0)","v":0},{"$f":"IF(AND(COUNTRY_INFO!I114>0,COUNTRY_INFO!I114<4), IF(M114/J114*100<>0, IF(M114/J114*100>100,100,M114/J114*100), \"-\"),0)","v":"-"},{"$f":"COUNTRY_INFO!O114","v":10819},null,null,{"$f":"SUM(MAX('MDA4'!R114, 'T1'!L114, MAX(T3_R1!K114, T3_R2!K114)), MAX('MDA1'!K114, 'MDA4'!S114, 'T1'!M114, MAX(T3_R1!L114, T3_R2!L114)), MAX('MDA1'!L114, 'MDA4'!T114, 'T1'!N114, MAX(T3_R1!M114, T3_R2!M114)))","v":0},{"$f":"IF(AND(COUNTRY_INFO!J114>1,COUNTRY_INFO!J114<4),IF(COUNTRY_INFO!E114>MAX('MDA4'!R114,'T1'!L114,MAX(T3_R1!K114,T3_R2!K114)),MAX('MDA4'!R114,'T1'!L114,MAX(T3_R1!K114,T3_R2!K114)),COUNTRY_INFO!E114),0)","v":0},{"$f":"IF(AND(COUNTRY_INFO!J114>1,COUNTRY_INFO!J114<4), IF(T114/COUNTRY_INFO!E114*100<>0, IF(T114/COUNTRY_INFO!E114*100>100,100,T114/COUNTRY_INFO!E114*100), \"-\"),0)","v":"-"},{"$f":"IF(AND(COUNTRY_INFO!J114>1,COUNTRY_INFO!J114<4),IF(COUNTRY_INFO!F114>MAX('MDA1'!K114,'MDA4'!S114,'T1'!M114,MAX(T3_R1!L114,T3_R2!L114)),MAX('MDA1'!K114,'MDA4'!S114,'T1'!M114,MAX(T3_R1!L114,T3_R2!L114)),COUNTRY_INFO!F114),0)","v":0},{"$f":"IF(AND(COUNTRY_INFO!J114>1,COUNTRY_INFO!J114<4), IF(V114/COUNTRY_INFO!F114*100<>0, IF(V114/COUNTRY_INFO!F114*100>100,100,V114/COUNTRY_INFO!F114*100), \"-\"),0)","v":"-"},0,{"$f":"IF(AND(COUNTRY_INFO!J114>1,COUNTRY_INFO!J114<4), IF(S114/P114*100<>0, IF(X114/P114*100>100,100,X114/P114*100), \"-\"),0)","v":"-"},{"$f":"COUNTRY_INFO!P114","v":6035.6},null,null,{"$f":"MAX('T1'!L114,'T2'!J114)+MAX('T1'!M114,'T2'!K114)+MAX('T1'!N114,'T2'!L114)","v":0},{"$f":"IF(COUNTRY_INFO!K114=1,IF(COUNTRY_INFO!F114*0.33>MAX('T1'!M114,'T2'!K114),MAX('T1'!M114,'T2'!K114),COUNTRY_INFO!F114*0.33),IF(COUNTRY_INFO!K114=2,IF(COUNTRY_INFO!F114*0.5>MAX('T1'!M114,'T2'!K114),MAX('T1'!M114,'T2'!K114),COUNTRY_INFO!F114*0.5),IF(COUNTRY_INFO!K114=3,IF(COUNTRY_INFO!F114>MAX('T1'!M114,'T2'!K114),MAX('T1'!M114,'T2'!K114),COUNTRY_INFO!F114),0)))","v":0},{"$f":"IF(AND(COUNTRY_INFO!K114>0,COUNTRY_INFO!L114<4),IF(Z114>0,IF(COUNTRY_INFO!K114=1, AD114/(COUNTRY_INFO!F114*0.33)*100, IF(COUNTRY_INFO!K114=2, AD114/(COUNTRY_INFO!F114*0.5)*100, IF(COUNTRY_INFO!K114=3, AD114/COUNTRY_INFO!F114*100))),\"-\"),0)","v":0},{"$f":"IF(COUNTRY_INFO!K114=2,IF(COUNTRY_INFO!G114*0.2>MAX('T1'!N114,'T2'!L114),MAX('T1'!N114,'T2'!L114),COUNTRY_INFO!G114*0.2),IF(COUNTRY_INFO!K114=3,IF(COUNTRY_INFO!G114>MAX('T1'!N114,'T2'!L114),MAX('T1'!N114,'T2'!L114),COUNTRY_INFO!G114),0))","v":0},{"$f":"IF(AND(COUNTRY_INFO!K114>0,COUNTRY_INFO!L114<4),IF(Z114>0,IF(COUNTRY_INFO!K114=1, 0, IF(COUNTRY_INFO!K114=2, AF114/(COUNTRY_INFO!G114*0.2)*100, IF(COUNTRY_INFO!K114=3, AF114/COUNTRY_INFO!G114*100))),\"-\"),0)","v":0},0,{"$f":"IF(AND(COUNTRY_INFO!K114>0,COUNTRY_INFO!K114<4), IF(AC114/Z114*100<>0, IF(AH114/Z114*100>100,100,AH114/Z114*100), \"-\"),0)","v":"-"},null,{"$f":"IF(AND(D114<>0, D114<>\"Unknown\",D114<>\"Stopped\",D114<>\"Not required\"),D114/COUNTRY_INFO!D114, 0)","v":1},{"$f":"IF(AND(J114<>0,J114<>\"Unknown\",J114<>\"Stopped\",J114<>\"Not required\"),J114/COUNTRY_INFO!D114, 0)","v":1},{"$f":"IF(AND(P114<>0,P114<>\"Unknown\",P114<>\"Not required\"),P114/(COUNTRY_INFO!E114+COUNTRY_INFO!F114), 0)","v":1},{"$f":"IF(AND(Z114<>0,Z114<>\"Unknown\",Z114<>\"Not required\"),IF(COUNTRY_INFO!K114=1,1,IF(COUNTRY_INFO!K114=2,0.5*COUNTRY_INFO!F114/(0.5*COUNTRY_INFO!F114+0.2*COUNTRY_INFO!G114),IF(COUNTRY_INFO!K114=3,COUNTRY_INFO!F114/(COUNTRY_INFO!F114+COUNTRY_INFO!G114)))),0)","v":0.56962025316455689},{"$f":"IF(AND(Z114<>0,Z114<>\"Unknown\",Z114<>\"Not required\"),IF(COUNTRY_INFO!K114=1,0,IF(COUNTRY_INFO!K114=2,0.2*COUNTRY_INFO!G114/(0.5*COUNTRY_INFO!F114+0.2*COUNTRY_INFO!G114),IF(COUNTRY_INFO!K114=3,COUNTRY_INFO!G114/(COUNTRY_INFO!F114+COUNTRY_INFO!G114)))),0)","v":0.43037974683544306},{"$f":"MAX(COUNTRY_INFO!D114*AK114*PROFILE!$G$7,COUNTRY_INFO!D114*AL114*PROFILE!$G$7)","v":837.92798263896577},{"$f":"MAX(COUNTRY_INFO!D114*AK114*PROFILE!$G$8,COUNTRY_INFO!D114*AL114*PROFILE!$G$8,COUNTRY_INFO!D114*AM114*PROFILE!$G$8)","v":3943.1588950692767},{"$f":"MAX(COUNTRY_INFO!D114*AK114*PROFILE!$G$9,COUNTRY_INFO!D114*AL114*PROFILE!$G$9,COUNTRY_INFO!D114*AM114*PROFILE!$G$9,IF(AND(DISTRICT!Z114<>\"Unknown\",Z114<>\"Not required\"),COUNTRY_INFO!P114*DISTRICT!AN114,0))","v":6875.8866112240212},{"$f":"MAX(COUNTRY_INFO!D114*AK114*PROFILE!$G$10,COUNTRY_INFO!D114*AL114*PROFILE!$G$10,IF(AND(DISTRICT!Z114<>\"Unknown\",Z114<>\"Not required\"),COUNTRY_INFO!P114*DISTRICT!AO114,0))","v":12987.790937953218},24644.764426885482,0,{"$f":"MAX('MDA4'!R114,'T1'!L114,'T2'!J114,T3_R1!K114,T3_R2!K114)","v":0},{"$f":"MAX('MDA1'!K114,'MDA4'!S114,'MDA3'!I114,'MDA3'!L114,'T1'!M114,'T2'!K114,T3_R1!L114,T3_R2!L114)","v":0},{"$f":"MAX('MDA1'!L114,'MDA4'!T114,'MDA3'!J114,'MDA3'!M114,'T1'!N114,'T2'!L114,T3_R1!M114,T3_R2!M114)","v":0},0,{"$f":"MAX('MDA4'!R114,T114)","v":0},{"$f":"MAX('MDA1'!K114,'MDA4'!S114,'MDA3'!I114,'MDA3'!L114,V114,AD114)","v":0},{"$f":"MAX('MDA1'!L114,'MDA4'!T114,'MDA3'!J114,'MDA3'!M114,AF114)","v":0},0,0]
[{"$f":"IF(COUNTRY_INFO!A115=0,\" \",COUNTRY_INFO!A115)","v":"Angola"},{"$f":"IF(COUNTRY_INFO!B115=0,\" \",COUNTRY_INFO!B115)","v":"LUNDA NORTE"},{"$f":"IF(COUNTRY_INFO!C115=0,\" \",COUNTRY_INFO!C115)","v":"LOVUA"},{"$f":"COUNTRY_INFO!M115","v":0},null,null,{"$f":"MAX('MDA1'!M115,'MDA4'!U115)","v":0},{"$f":"IF(AND(COUNTRY_INFO!H115>0,COUNTRY_INFO!H115<4),IF(D115>MAX('MDA1'!M115,'MDA4'!U115),MAX('MDA1'!M115,'MDA4'!U115),D115),0)","v":0},{"$f":"IF(AND(COUNTRY_INFO!H115>0,COUNTRY_INFO!H115<4), IF(G115/D115*100<>0, IF(G115/D115*100>100,100,G115/D115*100), \"-\"),0)","v":0},{"$f":"COUNTRY_INFO!N115","v":18173.812426586806},null,null,{"$f":"MAX('MDA1'!M115,MAX('MDA3'!I115,'MDA3'!L115)+MAX('MDA3'!J115,'MDA3'!M115))","v":0},{"$f":"IF(AND(COUNTRY_INFO!I115>0,COUNTRY_INFO!I115<4),IF(J115>MAX('MDA1'!M115,MAX('MDA3'!I115,'MDA3'!L115)+MAX('MDA3'!J115,'MDA3'!M115)),MAX('MDA1'!M115,MAX('MDA3'!I115,'MDA3'!L115)+MAX('MDA3'!J115,'MDA3'!M115)),J115),0)","v":0},{"$f":"IF(AND(COUNTRY_INFO!I115>0,COUNTRY_INFO!I115<4), IF(M115/J115*100<>0, IF(M115/J115*100>100,100,M115/J115*100), \"-\"),0)","v":"-"},{"$f":"COUNTRY_INFO!O115","v":7978},null,null,{"$f":"SUM(MAX('MDA4'!R115, 'T1'!L115, MAX(T3_R1!K115, T3_R2!K115)), MAX('MDA1'!K115, 'MDA4'!S115, 'T1'!M115, MAX(T3_R1!L115, T3_R2!L115)), MAX('MDA1'!L115, 'MDA4'!T115, 'T1'!N115, MAX(T3_R1!M115, T3_R2!M115)))","v":0},{"$f":"IF(AND(COUNTRY_INFO!J115>1,COUNTRY_INFO!J115<4),IF(COUNTRY_INFO!E115>MAX('MDA4'!R115,'T1'!L115,MAX(T3_R1!K115,T3_R2!K115)),MAX('MDA4'!R115,'T1'!L115,MAX(T3_R1!K115,T3_R2!K115)),COUNTRY_INFO!E115),0)","v":0},{"$f":"IF(AND(COUNTRY_INFO!J115>1,COUNTRY_INFO!J115<4), IF(T115/COUNTRY_INFO!E115*100<>0, IF(T115/COUNTRY_INFO!E115*100>100,100,T115/COUNTRY_INFO!E115*100), \"-\"),0)","v":"-"},{"$f":"IF(AND(COUNTRY_INFO!J115>1,COUNTRY_INFO!J115<4),IF(COUNTRY_INFO!F115>MAX('MDA1'!K115,'MDA4'!S115,'T1'!M115,MAX(T3_R1!L115,T3_R2!L115)),MAX('MDA1'!K115,'MDA4'!S115,'T1'!M115,MAX(T3_R1!L115,T3_R2!L115)),COUNTRY_INFO!F115),0)","v":0},{"$f":"IF(AND(COUNTRY_INFO!J115>1,COUNTRY_INFO!J115<4), IF(V115/COUNTRY_INFO!F115*100<>0, IF(V115/COUNTRY_INFO!F115*100>100,100,V115/COUNTRY_INFO!F115*100), \"-\"),0)","v":"-"},0,{"$f":"IF(AND(COUNTRY_INFO!J115>1,COUNTRY_INFO!J115<4), IF(S115/P115*100<>0, IF(X115/P115*100>100,100,X115/P115*100), \"-\"),0)","v":"-"},{"$f":"COUNTRY_INFO!P115","v":4450.6000000000004},null,null,{"$f":"MAX('T1'!L115,'T2'!J115)+MAX('T1'!M115,'T2'!K115)+MAX('T1'!N115,'T2'!L115)","v":0},{"$f":"IF(COUNTRY_INFO!K115=1,IF(COUNTRY_INFO!F115*0.33>MAX('T1'!M115,'T2'!K115),MAX('T1'!M115,'T2'!K115),COUNTRY_INFO!F115*0.33),IF(COUNTRY_INFO!K115=2,IF(COUNTRY_INFO!F115*0.5>MAX('T1'!M115,'T2'!K115),MAX('T1'!M115,'T2'!K115),COUNTRY_INFO!F115*0.5),IF(COUNTRY_INFO!K115=3,IF(COUNTRY_INFO!F115>MAX('T1'!M115,'T2'!K115),MAX('T1'!M115,'T2'!K115),COUNTRY_INFO!F115),0)))","v":0},{"$f":"IF(AND(COUNTRY_INFO!K115>0,COUNTRY_INFO!L115<4),IF(Z115>0,IF(COUNTRY_INFO!K115=1, AD115/(COUNTRY_INFO!F115*0.33)*100, IF(COUNTRY_INFO!K115=2, AD115/(COUNTRY_INFO!F115*0.5)*100, IF(COUNTRY_INFO!K115=3, AD115/COUNTRY_INFO!F115*100))),\"-\"),0)","v":0},{"$f":"IF(COUNTRY_INFO!K115=2,IF(COUNTRY_INFO!G115*0.2>MAX('T1'!N115,'T2'!L115),MAX('T1'!N115,'T2'!L115),COUNTRY_INFO!G115*0.2),IF(COUNTRY_INFO!K115=3,IF(COUNTRY_INFO!G115>MAX('T1'!N115,'T2'!L115),MAX('T1'!N115,'T2'!L115),COUNTRY_INFO!G115),0))","v":0},{"$f":"IF(AND(COUNTRY_INFO!K115>0,COUNTRY_INFO!L115<4),IF(Z115>0,IF(COUNTRY_INFO!K115=1, 0, IF(COUNTRY_INFO!K115=2, AF115/(COUNTRY_INFO!G115*0.2)*100, IF(COUNTRY_INFO!K115=3, AF115/COUNTRY_INFO!G115*100))),\"-\"),0)","v":0},0,{"$f":"IF(AND(COUNTRY_INFO!K115>0,COUNTRY_INFO!K115<4), IF(AC115/Z115*100<>0, IF(AH115/Z115*100>100,100,AH115/Z115*100), \"-\"),0)","v":"-"},null,{"$f":"IF(AND(D115<>0, D115<>\"Unknown\",D115<>\"Stopped\",D115<>\"Not required\"),D115/COUNTRY_INFO!D115, 0)","v":0},{"$f":"IF(AND(J115<>0,J115<>\"Unknown\",J115<>\"Stopped\",J115<>\"Not required\"),J115/COUNTRY_INFO!D115, 0)","v":1},{"$f":"IF(AND(P115<>0,P115<>\"Unknown\",P115<>\"Not required\"),P115/(COUNTRY_INFO!E115+COUNTRY_INFO!F115), 0)","v":1},{"$f":"IF(AND(Z115<>0,Z115<>\"Unknown\",Z115<>\"Not required\"),IF(COUNTRY_INFO!K115=1,1,IF(COUNTRY_INFO!K115=2,0.5*COUNTRY_INFO!F115/(0.5*COUNTRY_INFO!F115+0.2*COUNTRY_INFO!G115),IF(COUNTRY_INFO!K115=3,COUNTRY_INFO!F115/(COUNTRY_INFO!F115+COUNTRY_INFO!G115)))),0)","v":0.56958612321934121},{"$f":"IF(AND(Z115<>0,Z115<>\"Unknown\",Z115<>\"Not required\"),IF(COUNTRY_INFO!K115=1,0,IF(COUNTRY_INFO!K115=2,0.2*COUNTRY_INFO!G115/(0.5*COUNTRY_INFO!F115+0.2*COUNTRY_INFO!G115),IF(COUNTRY_INFO!K115=3,COUNTRY_INFO!G115/(COUNTRY_INFO!F115+COUNTRY_INFO!G115)))),0)","v":0.43041387678065879},{"$f":"MAX(COUNTRY_INFO!D115*AK115*PROFILE!$G$7,COUNTRY_INFO!D115*AL115*PROFILE!$G$7)","v":617.91404128237207},{"$f":"MAX(COUNTRY_INFO!D115*AK115*PROFILE!$G$8,COUNTRY_INFO!D115*AL115*PROFILE!$G$8,COUNTRY_INFO!D115*AM115*PROFILE!$G$8)","v":2907.8074712306243},{"$f":"MAX(COUNTRY_INFO!D115*AK115*PROFILE!$G$9,COUNTRY_INFO!D115*AL115*PROFILE!$G$9,COUNTRY_INFO!D115*AM115*PROFILE!$G$9,IF(AND(DISTRICT!Z115<>\"Unknown\",Z115<>\"Not required\"),COUNTRY_INFO!P115*DISTRICT!AN115,0))","v":5070.4917025923105},{"$f":"MAX(COUNTRY_INFO!D115*AK115*PROFILE!$G$10,COUNTRY_INFO!D115*AL115*PROFILE!$G$10,IF(AND(DISTRICT!Z115<>\"Unknown\",Z115<>\"Not required\"),COUNTRY_INFO!P115*DISTRICT!AO115,0))","v":9577.5992114814999},18173.812426586806,0,{"$f":"MAX('MDA4'!R115,'T1'!L115,'T2'!J115,T3_R1!K115,T3_R2!K115)","v":0},{"$f":"MAX('MDA1'!K115,'MDA4'!S115,'MDA3'!I115,'MDA3'!L115,'T1'!M115,'T2'!K115,T3_R1!L115,T3_R2!L115)","v":0},{"$f":"MAX('MDA1'!L115,'MDA4'!T115,'MDA3'!J115,'MDA3'!M115,'T1'!N115,'T2'!L115,T3_R1!M115,T3_R2!M115)","v":0},0,{"$f":"MAX('MDA4'!R115,T115)","v":0},{"$f":"MAX('MDA1'!K115,'MDA4'!S115,'MDA3'!I115,'MDA3'!L115,V115,AD115)","v":0},{"$f":"MAX('MDA1'!L115,'MDA4'!T115,'MDA3'!J115,'MDA3'!M115,AF115)","v":0},0,0]
[{"$f":"IF(COUNTRY_INFO!A116=0,\" \",COUNTRY_INFO!A116)","v":"Angola"},{"$f":"IF(COUNTRY_INFO!B116=0,\" \",COUNTRY_INFO!B116)","v":"LUNDA NORTE"},{"$f":"IF(COUNTRY_INFO!C116=0,\" \",COUNTRY_INFO!C116)","v":"LUBALO"},{"$f":"COUNTRY_INFO!M116","v":"Unknown"},null,null,{"$f":"MAX('MDA1'!M116,'MDA4'!U116)","v":0},{"$f":"IF(AND(COUNTRY_INFO!H116>0,COUNTRY_INFO!H116<4),IF(D116>MAX('MDA1'!M116,'MDA4'!U116),MAX('MDA1'!M116,'MDA4'!U116),D116),0)","v":0},{"$f":"IF(AND(COUNTRY_INFO!H116>0,COUNTRY_INFO!H116<4), IF(G116/D116*100<>0, IF(G116/D116*100>100,100,G116/D116*100), \"-\"),0)","v":0},{"$f":"COUNTRY_INFO!N116","v":24207.109831035723},null,null,{"$f":"MAX('MDA1'!M116,MAX('MDA3'!I116,'MDA3'!L116)+MAX('MDA3'!J116,'MDA3'!M116))","v":0},{"$f":"IF(AND(COUNTRY_INFO!I116>0,COUNTRY_INFO!I116<4),IF(J116>MAX('MDA1'!M116,MAX('MDA3'!I116,'MDA3'!L116)+MAX('MDA3'!J116,'MDA3'!M116)),MAX('MDA1'!M116,MAX('MDA3'!I116,'MDA3'!L116)+MAX('MDA3'!J116,'MDA3'!M116)),J116),0)","v":0},{"$f":"IF(AND(COUNTRY_INFO!I116>0,COUNTRY_INFO!I116<4), IF(M116/J116*100<>0, IF(M116/J116*100>100,100,M116/J116*100), \"-\"),0)","v":"-"},{"$f":"COUNTRY_INFO!O116","v":10627},null,null,{"$f":"SUM(MAX('MDA4'!R116, 'T1'!L116, MAX(T3_R1!K116, T3_R2!K116)), MAX('MDA1'!K116, 'MDA4'!S116, 'T1'!M116, MAX(T3_R1!L116, T3_R2!L116)), MAX('MDA1'!L116, 'MDA4'!T116, 'T1'!N116, MAX(T3_R1!M116, T3_R2!M116)))","v":0},{"$f":"IF(AND(COUNTRY_INFO!J116>1,COUNTRY_INFO!J116<4),IF(COUNTRY_INFO!E116>MAX('MDA4'!R116,'T1'!L116,MAX(T3_R1!K116,T3_R2!K116)),MAX('MDA4'!R116,'T1'!L116,MAX(T3_R1!K116,T3_R2!K116)),COUNTRY_INFO!E116),0)","v":0},{"$f":"IF(AND(COUNTRY_INFO!J116>1,COUNTRY_INFO!J116<4), IF(T116/COUNTRY_INFO!E116*100<>0, IF(T116/COUNTRY_INFO!E116*100>100,100,T116/COUNTRY_INFO!E116*100), \"-\"),0)","v":"-"},{"$f":"IF(AND(COUNTRY_INFO!J116>1,COUNTRY_INFO!J116<4),IF(COUNTRY_INFO!F116>MAX('MDA1'!K116,'MDA4'!S116,'T1'!M116,MAX(T3_R1!L116,T3_R2!L116)),MAX('MDA1'!K116,'MDA4'!S116,'T1'!M116,MAX(T3_R1!L116,T3_R2!L116)),COUNTRY_INFO!F116),0)","v":0},{"$f":"IF(AND(COUNTRY_INFO!J116>1,COUNTRY_INFO!J116<4), IF(V116/COUNTRY_INFO!F116*100<>0, IF(V116/COUNTRY_INFO!F116*100>100,100,V116/COUNTRY_INFO!F116*100), \"-\"),0)","v":"-"},0,{"$f":"IF(AND(COUNTRY_INFO!J116>1,COUNTRY_INFO!J116<4), IF(S116/P116*100<>0, IF(X116/P116*100>100,100,X116/P116*100), \"-\"),0)","v":"-"},{"$f":"COUNTRY_INFO!P116","v":5928.4},null,null,{"$f":"MAX('T1'!L116,'T2'!J116)+MAX('T1'!M116,'T2'!K116)+MAX('T1'!N116,'T2'!L116)","v":0},{"$f":"IF(COUNTRY_INFO!K116=1,IF(COUNTRY_INFO!F116*0.33>MAX('T1'!M116,'T2'!K116),MAX('T1'!M116,'T2'!K116),COUNTRY_INFO!F116*0.33),IF(COUNTRY_INFO!K116=2,IF(COUNTRY_INFO!F116*0.5>MAX('T1'!M116,'T2'!K116),MAX('T1'!M116,'T2'!K116),COUNTRY_INFO!F116*0.5),IF(COUNTRY_INFO!K116=3,IF(COUNTRY_INFO!F116>MAX('T1'!M116,'T2'!K116),MAX('T1'!M116,'T2'!K116),COUNTRY_INFO!F116),0)))","v":0},{"$f":"IF(AND(COUNTRY_INFO!K116>0,COUNTRY_INFO!L116<4),IF(Z116>0,IF(COUNTRY_INFO!K116=1, AD116/(COUNTRY_INFO!F116*0.33)*100, IF(COUNTRY_INFO!K116=2, AD116/(COUNTRY_INFO!F116*0.5)*100, IF(COUNTRY_INFO!K116=3, AD116/COUNTRY_INFO!F116*100))),\"-\"),0)","v":0},{"$f":"IF(COUNTRY_INFO!K116=2,IF(COUNTRY_INFO!G116*0.2>MAX('T1'!N116,'T2'!L116),MAX('T1'!N116,'T2'!L116),COUNTRY_INFO!G116*0.2),IF(COUNTRY_INFO!K116=3,IF(COUNTRY_INFO!G116>MAX('T1'!N116,'T2'!L116),MAX('T1'!N116,'T2'!L116),COUNTRY_INFO!G116),0))","v":0},{"$f":"IF(AND(COUNTRY_INFO!K116>0,COUNTRY_INFO!L116<4),IF(Z116>0,IF(COUNTRY_INFO!K116=1, 0, IF(COUNTRY_INFO!K116=2, AF116/(COUNTRY_INFO!G116*0.2)*100, IF(COUNTRY_INFO!K116=3, AF116/COUNTRY_INFO!G116*100))),\"-\"),0)","v":0},0,{"$f":"IF(AND(COUNTRY_INFO!K116>0,COUNTRY_INFO!K116<4), IF(AC116/Z116*100<>0, IF(AH116/Z116*100>100,100,AH116/Z116*100), \"-\"),0)","v":"-"},null,{"$f":"IF(AND(D116<>0, D116<>\"Unknown\",D116<>\"Stopped\",D116<>\"Not required\"),D116/COUNTRY_INFO!D116, 0)","v":0},{"$f":"IF(AND(J116<>0,J116<>\"Unknown\",J116<>\"Stopped\",J116<>\"Not required\"),J116/COUNTRY_INFO!D116, 0)","v":1},{"$f":"IF(AND(P116<>0,P116<>\"Unknown\",P116<>\"Not required\"),P116/(COUNTRY_INFO!E116+COUNTRY_INFO!F116), 0)","v":1},{"$f":"IF(AND(Z116<>0,Z116<>\"Unknown\",Z116<>\"Not required\"),IF(COUNTRY_INFO!K116=1,1,IF(COUNTRY_INFO!K116=2,0.5*COUNTRY_INFO!F116/(0.5*COUNTRY_INFO!F116+0.2*COUNTRY_INFO!G116),IF(COUNTRY_INFO!K116=3,COUNTRY_INFO!F116/(COUNTRY_INFO!F116+COUNTRY_INFO!G116)))),0)","v":0.56963092908710622},{"$f":"IF(AND(Z116<>0,Z116<>\"Unknown\",Z116<>\"Not required\"),IF(COUNTRY_INFO!K116=1,0,IF(COUNTRY_INFO!K116=2,0.2*COUNTRY_INFO!G116/(0.5*COUNTRY_INFO!F116+0.2*COUNTRY_INFO!G116),IF(COUNTRY_INFO!K116=3,COUNTRY_INFO!G116/(COUNTRY_INFO!F116+COUNTRY_INFO!G116)))),0)","v":0.43036907091289389},{"$f":"MAX(COUNTRY_INFO!D116*AK116*PROFILE!$G$7,COUNTRY_INFO!D116*AL116*PROFILE!$G$7)","v":823.04761996879176},{"$f":"MAX(COUNTRY_INFO!D116*AK116*PROFILE!$G$8,COUNTRY_INFO!D116*AL116*PROFILE!$G$8,COUNTRY_INFO!D116*AM116*PROFILE!$G$8)","v":3873.1342203472786},{"$f":"MAX(COUNTRY_INFO!D116*AK116*PROFILE!$G$9,COUNTRY_INFO!D116*AL116*PROFILE!$G$9,COUNTRY_INFO!D116*AM116*PROFILE!$G$9,IF(AND(DISTRICT!Z116<>\"Unknown\",Z116<>\"Not required\"),COUNTRY_INFO!P116*DISTRICT!AN116,0))","v":6753.7810262884577},{"$f":"MAX(COUNTRY_INFO!D116*AK116*PROFILE!$G$10,COUNTRY_INFO!D116*AL116*PROFILE!$G$10,IF(AND(DISTRICT!Z116<>\"Unknown\",Z116<>\"Not required\"),COUNTRY_INFO!P116*DISTRICT!AO116,0))","v":12757.146964431195},24207.109831035723,0,{"$f":"MAX('MDA4'!R116,'T1'!L116,'T2'!J116,T3_R1!K116,T3_R2!K116)","v":0},{"$f":"MAX('MDA1'!K116,'MDA4'!S116,'MDA3'!I116,'MDA3'!L116,'T1'!M116,'T2'!K116,T3_R1!L116,T3_R2!L116)","v":0},{"$f":"MAX('MDA1'!L116,'MDA4'!T116,'MDA3'!J116,'MDA3'!M116,'T1'!N116,'T2'!L116,T3_R1!M116,T3_R2!M116)","v":0},0,{"$f":"MAX('MDA4'!R116,T116)","v":0},{"$f":"MAX('MDA1'!K116,'MDA4'!S116,'MDA3'!I116,'MDA3'!L116,V116,AD116)","v":0},{"$f":"MAX('MDA1'!L116,'MDA4'!T116,'MDA3'!J116,'MDA3'!M116,AF116)","v":0},0,0]
[{"$f":"IF(COUNTRY_INFO!A117=0,\" \",COUNTRY_INFO!A117)","v":"Angola"},{"$f":"IF(COUNTRY_INFO!B117=0,\" \",COUNTRY_INFO!B117)","v":"LUNDA NORTE"},{"$f":"IF(COUNTRY_INFO!C117=0,\" \",COUNTRY_INFO!C117)","v":"LUCAPA"},{"$f":"COUNTRY_INFO!M117","v":0},null,null,{"$f":"MAX('MDA1'!M117,'MDA4'!U117)","v":0},{"$f":"IF(AND(COUNTRY_INFO!H117>0,COUNTRY_INFO!H117<4),IF(D117>MAX('MDA1'!M117,'MDA4'!U117),MAX('MDA1'!M117,'MDA4'!U117),D117),0)","v":0},{"$f":"IF(AND(COUNTRY_INFO!H117>0,COUNTRY_INFO!H117<4), IF(G117/D117*100<>0, IF(G117/D117*100>100,100,G117/D117*100), \"-\"),0)","v":0},{"$f":"COUNTRY_INFO!N117","v":181051.72228578193},null,null,{"$f":"MAX('MDA1'!M117,MAX('MDA3'!I117,'MDA3'!L117)+MAX('MDA3'!J117,'MDA3'!M117))","v":0},{"$f":"IF(AND(COUNTRY_INFO!I117>0,COUNTRY_INFO!I117<4),IF(J117>MAX('MDA1'!M117,MAX('MDA3'!I117,'MDA3'!L117)+MAX('MDA3'!J117,'MDA3'!M117)),MAX('MDA1'!M117,MAX('MDA3'!I117,'MDA3'!L117)+MAX('MDA3'!J117,'MDA3'!M117)),J117),0)","v":0},{"$f":"IF(AND(COUNTRY_INFO!I117>0,COUNTRY_INFO!I117<4), IF(M117/J117*100<>0, IF(M117/J117*100>100,100,M117/J117*100), \"-\"),0)","v":"-"},{"$f":"COUNTRY_INFO!O117","v":79481},null,null,{"$f":"SUM(MAX('MDA4'!R117, 'T1'!L117, MAX(T3_R1!K117, T3_R2!K117)), MAX('MDA1'!K117, 'MDA4'!S117, 'T1'!M117, MAX(T3_R1!L117, T3_R2!L117)), MAX('MDA1'!L117, 'MDA4'!T117, 'T1'!N117, MAX(T3_R1!M117, T3_R2!M117)))","v":0},{"$f":"IF(AND(COUNTRY_INFO!J117>1,COUNTRY_INFO!J117<4),IF(COUNTRY_INFO!E117>MAX('MDA4'!R117,'T1'!L117,MAX(T3_R1!K117,T3_R2!K117)),MAX('MDA4'!R117,'T1'!L117,MAX(T3_R1!K117,T3_R2!K117)),COUNTRY_INFO!E117),0)","v":0},{"$f":"IF(AND(COUNTRY_INFO!J117>1,COUNTRY_INFO!J117<4), IF(T117/COUNTRY_INFO!E117*100<>0, IF(T117/COUNTRY_INFO!E117*100>100,100,T117/COUNTRY_INFO!E117*100), \"-\"),0)","v":"-"},{"$f":"IF(AND(COUNTRY_INFO!J117>1,COUNTRY_INFO!J117<4),IF(COUNTRY_INFO!F117>MAX('MDA1'!K117,'MDA4'!S117,'T1'!M117,MAX(T3_R1!L117,T3_R2!L117)),MAX('MDA1'!K117,'MDA4'!S117,'T1'!M117,MAX(T3_R1!L117,T3_R2!L117)),COUNTRY_INFO!F117),0)","v":0},{"$f":"IF(AND(COUNTRY_INFO!J117>1,COUNTRY_INFO!J117<4), IF(V117/COUNTRY_INFO!F117*100<>0, IF(V117/COUNTRY_INFO!F117*100>100,100,V117/COUNTRY_INFO!F117*100), \"-\"),0)","v":"-"},0,{"$f":"IF(AND(COUNTRY_INFO!J117>1,COUNTRY_INFO!J117<4), IF(S117/P117*100<>0, IF(X117/P117*100>100,100,X117/P117*100), \"-\"),0)","v":"-"},{"$f":"COUNTRY_INFO!P117","v":44339.3},null,null,{"$f":"MAX('T1'!L117,'T2'!J117)+MAX('T1'!M117,'T2'!K117)+MAX('T1'!N117,'T2'!L117)","v":0},{"$f":"IF(COUNTRY_INFO!K117=1,IF(COUNTRY_INFO!F117*0.33>MAX('T1'!M117,'T2'!K117),MAX('T1'!M117,'T2'!K117),COUNTRY_INFO!F117*0.33),IF(COUNTRY_INFO!K117=2,IF(COUNTRY_INFO!F117*0.5>MAX('T1'!M117,'T2'!K117),MAX('T1'!M117,'T2'!K117),COUNTRY_INFO!F117*0.5),IF(COUNTRY_INFO!K117=3,IF(COUNTRY_INFO!F117>MAX('T1'!M117,'T2'!K117),MAX('T1'!M117,'T2'!K117),COUNTRY_INFO!F117),0)))","v":0},{"$f":"IF(AND(COUNTRY_INFO!K117>0,COUNTRY_INFO!L117<4),IF(Z117>0,IF(COUNTRY_INFO!K117=1, AD117/(COUNTRY_INFO!F117*0.33)*100, IF(COUNTRY_INFO!K117=2, AD117/(COUNTRY_INFO!F117*0.5)*100, IF(COUNTRY_INFO!K117=3, AD117/COUNTRY_INFO!F117*100))),\"-\"),0)","v":0},{"$f":"IF(COUNTRY_INFO!K117=2,IF(COUNTRY_INFO!G117*0.2>MAX('T1'!N117,'T2'!L117),MAX('T1'!N117,'T2'!L117),COUNTRY_INFO!G117*0.2),IF(COUNTRY_INFO!K117=3,IF(COUNTRY_INFO!G117>MAX('T1'!N117,'T2'!L117),MAX('T1'!N117,'T2'!L117),COUNTRY_INFO!G117),0))","v":0},{"$f":"IF(AND(COUNTRY_INFO!K117>0,COUNTRY_INFO!L117<4),IF(Z117>0,IF(COUNTRY_INFO!K117=1, 0, IF(COUNTRY_INFO!K117=2, AF117/(COUNTRY_INFO!G117*0.2)*100, IF(COUNTRY_INFO!K117=3, AF117/COUNTRY_INFO!G117*100))),\"-\"),0)","v":0},0,{"$f":"IF(AND(COUNTRY_INFO!K117>0,COUNTRY_INFO!K117<4), IF(AC117/Z117*100<>0, IF(AH117/Z117*100>100,100,AH117/Z117*100), \"-\"),0)","v":"-"},null,{"$f":"IF(AND(D117<>0, D117<>\"Unknown\",D117<>\"Stopped\",D117<>\"Not required\"),D117/COUNTRY_INFO!D117, 0)","v":0},{"$f":"IF(AND(J117<>0,J117<>\"Unknown\",J117<>\"Stopped\",J117<>\"Not required\"),J117/COUNTRY_INFO!D117, 0)","v":1},{"$f":"IF(AND(P117<>0,P117<>\"Unknown\",P117<>\"Not required\"),P117/(COUNTRY_INFO!E117+COUNTRY_INFO!F117), 0)","v":1},{"$f":"IF(AND(Z117<>0,Z117<>\"Unknown\",Z117<>\"Not required\"),IF(COUNTRY_INFO!K117=1,1,IF(COUNTRY_INFO!K117=2,0.5*COUNTRY_INFO!F117/(0.5*COUNTRY_INFO!F117+0.2*COUNTRY_INFO!G117),IF(COUNTRY_INFO!K117=3,COUNTRY_INFO!F117/(COUNTRY_INFO!F117+COUNTRY_INFO!G117)))),0)","v":0.56961882573698719},{"$f":"IF(AND(Z117<>0,Z117<>\"Unknown\",Z117<>\"Not required\"),IF(COUNTRY_INFO!K117=1,0,IF(COUNTRY_INFO!K117=2,0.2*COUNTRY_INFO!G117/(0.5*COUNTRY_INFO!F117+0.2*COUNTRY_INFO!G117),IF(COUNTRY_INFO!K117=3,COUNTRY_INFO!G117/(COUNTRY_INFO!F117+COUNTRY_INFO!G117)))),0)","v":0.4303811742630127},{"$f":"MAX(COUNTRY_INFO!D117*AK117*PROFILE!$G$7,COUNTRY_INFO!D117*AL117*PROFILE!$G$7)","v":6155.802578609103},{"$f":"MAX(COUNTRY_INFO!D117*AK117*PROFILE!$G$8,COUNTRY_INFO!D117*AL117*PROFILE!$G$8,COUNTRY_INFO!D117*AM117*PROFILE!$G$8)","v":28968.250490557257},{"$f":"MAX(COUNTRY_INFO!D117*AK117*PROFILE!$G$9,COUNTRY_INFO!D117*AL117*PROFILE!$G$9,COUNTRY_INFO!D117*AM117*PROFILE!$G$9,IF(AND(DISTRICT!Z117<>\"Unknown\",Z117<>\"Not required\"),COUNTRY_INFO!P117*DISTRICT!AN117,0))","v":50513.410947672943},{"$f":"MAX(COUNTRY_INFO!D117*AK117*PROFILE!$G$10,COUNTRY_INFO!D117*AL117*PROFILE!$G$10,IF(AND(DISTRICT!Z117<>\"Unknown\",Z117<>\"Not required\"),COUNTRY_INFO!P117*DISTRICT!AO117,0))","v":95414.25826894262},181051.72228578193,0,{"$f":"MAX('MDA4'!R117,'T1'!L117,'T2'!J117,T3_R1!K117,T3_R2!K117)","v":0},{"$f":"MAX('MDA1'!K117,'MDA4'!S117,'MDA3'!I117,'MDA3'!L117,'T1'!M117,'T2'!K117,T3_R1!L117,T3_R2!L117)","v":0},{"$f":"MAX('MDA1'!L117,'MDA4'!T117,'MDA3'!J117,'MDA3'!M117,'T1'!N117,'T2'!L117,T3_R1!M117,T3_R2!M117)","v":0},0,{"$f":"MAX('MDA4'!R117,T117)","v":0},{"$f":"MAX('MDA1'!K117,'MDA4'!S117,'MDA3'!I117,'MDA3'!L117,V117,AD117)","v":0},{"$f":"MAX('MDA1'!L117,'MDA4'!T117,'MDA3'!J117,'MDA3'!M117,AF117)","v":0},0,0]
[{"$f":"IF(COUNTRY_INFO!A118=0,\" \",COUNTRY_INFO!A118)","v":"Angola"},{"$f":"IF(COUNTRY_INFO!B118=0,\" \",COUNTRY_INFO!B118)","v":"LUNDA NORTE"},{"$f":"IF(COUNTRY_INFO!C118=0,\" \",COUNTRY_INFO!C118)","v":"XA MUTEBA"},{"$f":"COUNTRY_INFO!M118","v":79920.657216381544},null,null,{"$f":"MAX('MDA1'!M118,'MDA4'!U118)","v":0},{"$f":"IF(AND(COUNTRY_INFO!H118>0,COUNTRY_INFO!H118<4),IF(D118>MAX('MDA1'!M118,'MDA4'!U118),MAX('MDA1'!M118,'MDA4'!U118),D118),0)","v":0},{"$f":"IF(AND(COUNTRY_INFO!H118>0,COUNTRY_INFO!H118<4), IF(G118/D118*100<>0, IF(G118/D118*100>100,100,G118/D118*100), \"-\"),0)","v":"-"},{"$f":"COUNTRY_INFO!N118","v":"Unknown"},null,null,{"$f":"MAX('MDA1'!M118,MAX('MDA3'!I118,'MDA3'!L118)+MAX('MDA3'!J118,'MDA3'!M118))","v":0},{"$f":"IF(AND(COUNTRY_INFO!I118>0,COUNTRY_INFO!I118<4),IF(J118>MAX('MDA1'!M118,MAX('MDA3'!I118,'MDA3'!L118)+MAX('MDA3'!J118,'MDA3'!M118)),MAX('MDA1'!M118,MAX('MDA3'!I118,'MDA3'!L118)+MAX('MDA3'!J118,'MDA3'!M118)),J118),0)","v":0},{"$f":"IF(AND(COUNTRY_INFO!I118>0,COUNTRY_INFO!I118<4), IF(M118/J118*100<>0, IF(M118/J118*100>100,100,M118/J118*100), \"-\"),0)","v":0},{"$f":"COUNTRY_INFO!O118","v":35085},null,null,{"$f":"SUM(MAX('MDA4'!R118, 'T1'!L118, MAX(T3_R1!K118, T3_R2!K118)), MAX('MDA1'!K118, 'MDA4'!S118, 'T1'!M118, MAX(T3_R1!L118, T3_R2!L118)), MAX('MDA1'!L118, 'MDA4'!T118, 'T1'!N118, MAX(T3_R1!M118, T3_R2!M118)))","v":0},{"$f":"IF(AND(COUNTRY_INFO!J118>1,COUNTRY_INFO!J118<4),IF(COUNTRY_INFO!E118>MAX('MDA4'!R118,'T1'!L118,MAX(T3_R1!K118,T3_R2!K118)),MAX('MDA4'!R118,'T1'!L118,MAX(T3_R1!K118,T3_R2!K118)),COUNTRY_INFO!E118),0)","v":0},{"$f":"IF(AND(COUNTRY_INFO!J118>1,COUNTRY_INFO!J118<4), IF(T118/COUNTRY_INFO!E118*100<>0, IF(T118/COUNTRY_INFO!E118*100>100,100,T118/COUNTRY_INFO!E118*100), \"-\"),0)","v":"-"},{"$f":"IF(AND(COUNTRY_INFO!J118>1,COUNTRY_INFO!J118<4),IF(COUNTRY_INFO!F118>MAX('MDA1'!K118,'MDA4'!S118,'T1'!M118,MAX(T3_R1!L118,T3_R2!L118)),MAX('MDA1'!K118,'MDA4'!S118,'T1'!M118,MAX(T3_R1!L118,T3_R2!L118)),COUNTRY_INFO!F118),0)","v":0},{"$f":"IF(AND(COUNTRY_INFO!J118>1,COUNTRY_INFO!J118<4), IF(V118/COUNTRY_INFO!F118*100<>0, IF(V118/COUNTRY_INFO!F118*100>100,100,V118/COUNTRY_INFO!F118*100), \"-\"),0)","v":"-"},0,{"$f":"IF(AND(COUNTRY_INFO!J118>1,COUNTRY_INFO!J118<4), IF(S118/P118*100<>0, IF(X118/P118*100>100,100,X118/P118*100), \"-\"),0)","v":"-"},{"$f":"COUNTRY_INFO!P118","v":19572.599999999999},null,null,{"$f":"MAX('T1'!L118,'T2'!J118)+MAX('T1'!M118,'T2'!K118)+MAX('T1'!N118,'T2'!L118)","v":0},{"$f":"IF(COUNTRY_INFO!K118=1,IF(COUNTRY_INFO!F118*0.33>MAX('T1'!M118,'T2'!K118),MAX('T1'!M118,'T2'!K118),COUNTRY_INFO!F118*0.33),IF(COUNTRY_INFO!K118=2,IF(COUNTRY_INFO!F118*0.5>MAX('T1'!M118,'T2'!K118),MAX('T1'!M118,'T2'!K118),COUNTRY_INFO!F118*0.5),IF(COUNTRY_INFO!K118=3,IF(COUNTRY_INFO!F118>MAX('T1'!M118,'T2'!K118),MAX('T1'!M118,'T2'!K118),COUNTRY_INFO!F118),0)))","v":0},{"$f":"IF(AND(COUNTRY_INFO!K118>0,COUNTRY_INFO!L118<4),IF(Z118>0,IF(COUNTRY_INFO!K118=1, AD118/(COUNTRY_INFO!F118*0.33)*100, IF(COUNTRY_INFO!K118=2, AD118/(COUNTRY_INFO!F118*0.5)*100, IF(COUNTRY_INFO!K118=3, AD118/COUNTRY_INFO!F118*100))),\"-\"),0)","v":0},{"$f":"IF(COUNTRY_INFO!K118=2,IF(COUNTRY_INFO!G118*0.2>MAX('T1'!N118,'T2'!L118),MAX('T1'!N118,'T2'!L118),COUNTRY_INFO!G118*0.2),IF(COUNTRY_INFO!K118=3,IF(COUNTRY_INFO!G118>MAX('T1'!N118,'T2'!L118),MAX('T1'!N118,'T2'!L118),COUNTRY_INFO!G118),0))","v":0},{"$f":"IF(AND(COUNTRY_INFO!K118>0,COUNTRY_INFO!L118<4),IF(Z118>0,IF(COUNTRY_INFO!K118=1, 0, IF(COUNTRY_INFO!K118=2, AF118/(COUNTRY_INFO!G118*0.2)*100, IF(COUNTRY_INFO!K118=3, AF118/COUNTRY_INFO!G118*100))),\"-\"),0)","v":0},0,{"$f":"IF(AND(COUNTRY_INFO!K118>0,COUNTRY_INFO!K118<4), IF(AC118/Z118*100<>0, IF(AH118/Z118*100>100,100,AH118/Z118*100), \"-\"),0)","v":"-"},null,{"$f":"IF(AND(D118<>0, D118<>\"Unknown\",D118<>\"Stopped\",D118<>\"Not required\"),D118/COUNTRY_INFO!D118, 0)","v":1},{"$f":"IF(AND(J118<>0,J118<>\"Unknown\",J118<>\"Stopped\",J118<>\"Not required\"),J118/COUNTRY_INFO!D118, 0)","v":0},{"$f":"IF(AND(P118<>0,P118<>\"Unknown\",P118<>\"Not required\"),P118/(COUNTRY_INFO!E118+COUNTRY_INFO!F118), 0)","v":1},{"$f":"IF(AND(Z118<>0,Z118<>\"Unknown\",Z118<>\"Not required\"),IF(COUNTRY_INFO!K118=1,1,IF(COUNTRY_INFO!K118=2,0.5*COUNTRY_INFO!F118/(0.5*COUNTRY_INFO!F118+0.2*COUNTRY_INFO!G118),IF(COUNTRY_INFO!K118=3,COUNTRY_INFO!F118/(COUNTRY_INFO!F118+COUNTRY_INFO!G118)))),0)","v":0.56962284009278286},{"$f":"IF(AND(Z118<>0,Z118<>\"Unknown\",Z118<>\"Not required\"),IF(COUNTRY_INFO!K118=1,0,IF(COUNTRY_INFO!K118=2,0.2*COUNTRY_INFO!G118/(0.5*COUNTRY_INFO!F118+0.2*COUNTRY_INFO!G118),IF(COUNTRY_INFO!K118=3,COUNTRY_INFO!G118/(COUNTRY_INFO!F118+COUNTRY_INFO!G118)))),0)","v":0.43037715990721731},{"$f":"MAX(COUNTRY_INFO!D118*AK118*PROFILE!$G$7,COUNTRY_INFO!D118*AL118*PROFILE!$G$7)","v":2717.3217772553094},{"$f":"MAX(COUNTRY_INFO!D118*AK118*PROFILE!$G$8,COUNTRY_INFO!D118*AL118*PROFILE!$G$8,COUNTRY_INFO!D118*AM118*PROFILE!$G$8)","v":12787.294085828831},{"$f":"MAX(COUNTRY_INFO!D118*AK118*PROFILE!$G$9,COUNTRY_INFO!D118*AL118*PROFILE!$G$9,COUNTRY_INFO!D118*AM118*PROFILE!$G$9,IF(AND(DISTRICT!Z118<>\"Unknown\",Z118<>\"Not required\"),COUNTRY_INFO!P118*DISTRICT!AN118,0))","v":22297.854724667352},{"$f":"MAX(COUNTRY_INFO!D118*AK118*PROFILE!$G$10,COUNTRY_INFO!D118*AL118*PROFILE!$G$10,IF(AND(DISTRICT!Z118<>\"Unknown\",Z118<>\"Not required\"),COUNTRY_INFO!P118*DISTRICT!AO118,0))","v":42118.18662863005},79920.657216381544,0,{"$f":"MAX('MDA4'!R118,'T1'!L118,'T2'!J118,T3_R1!K118,T3_R2!K118)","v":0},{"$f":"MAX('MDA1'!K118,'MDA4'!S118,'MDA3'!I118,'MDA3'!L118,'T1'!M118,'T2'!K118,T3_R1!L118,T3_R2!L118)","v":0},{"$f":"MAX('MDA1'!L118,'MDA4'!T118,'MDA3'!J118,'MDA3'!M118,'T1'!N118,'T2'!L118,T3_R1!M118,T3_R2!M118)","v":0},0,{"$f":"MAX('MDA4'!R118,T118)","v":0},{"$f":"MAX('MDA1'!K118,'MDA4'!S118,'MDA3'!I118,'MDA3'!L118,V118,AD118)","v":0},{"$f":"MAX('MDA1'!L118,'MDA4'!T118,'MDA3'!J118,'MDA3'!M118,AF118)","v":0},0,0]
[{"$f":"IF(COUNTRY_INFO!A119=0,\" \",COUNTRY_INFO!A119)","v":"Angola"},{"$f":"IF(COUNTRY_INFO!B119=0,\" \",COUNTRY_INFO!B119)","v":"LUNDA SUL"},{"$f":"IF(COUNTRY_INFO!C119=0,\" \",COUNTRY_INFO!C119)","v":"CACOLO"},{"$f":"COUNTRY_INFO!M119","v":37423.574623667504},null,null,{"$f":"MAX('MDA1'!M119,'MDA4'!U119)","v":0},{"$f":"IF(AND(COUNTRY_INFO!H119>0,COUNTRY_INFO!H119<4),IF(D119>MAX('MDA1'!M119,'MDA4'!U119),MAX('MDA1'!M119,'MDA4'!U119),D119),0)","v":0},{"$f":"IF(AND(COUNTRY_INFO!H119>0,COUNTRY_INFO!H119<4), IF(G119/D119*100<>0, IF(G119/D119*100>100,100,G119/D119*100), \"-\"),0)","v":"-"},{"$f":"COUNTRY_INFO!N119","v":37423.574623667504},null,null,{"$f":"MAX('MDA1'!M119,MAX('MDA3'!I119,'MDA3'!L119)+MAX('MDA3'!J119,'MDA3'!M119))","v":0},{"$f":"IF(AND(COUNTRY_INFO!I119>0,COUNTRY_INFO!I119<4),IF(J119>MAX('MDA1'!M119,MAX('MDA3'!I119,'MDA3'!L119)+MAX('MDA3'!J119,'MDA3'!M119)),MAX('MDA1'!M119,MAX('MDA3'!I119,'MDA3'!L119)+MAX('MDA3'!J119,'MDA3'!M119)),J119),0)","v":0},{"$f":"IF(AND(COUNTRY_INFO!I119>0,COUNTRY_INFO!I119<4), IF(M119/J119*100<>0, IF(M119/J119*100>100,100,M119/J119*100), \"-\"),0)","v":"-"},{"$f":"COUNTRY_INFO!O119","v":16429},null,null,{"$f":"SUM(MAX('MDA4'!R119, 'T1'!L119, MAX(T3_R1!K119, T3_R2!K119)), MAX('MDA1'!K119, 'MDA4'!S119, 'T1'!M119, MAX(T3_R1!L119, T3_R2!L119)), MAX('MDA1'!L119, 'MDA4'!T119, 'T1'!N119, MAX(T3_R1!M119, T3_R2!M119)))","v":0},{"$f":"IF(AND(COUNTRY_INFO!J119>1,COUNTRY_INFO!J119<4),IF(COUNTRY_INFO!E119>MAX('MDA4'!R119,'T1'!L119,MAX(T3_R1!K119,T3_R2!K119)),MAX('MDA4'!R119,'T1'!L119,MAX(T3_R1!K119,T3_R2!K119)),COUNTRY_INFO!E119),0)","v":0},{"$f":"IF(AND(COUNTRY_INFO!J119>1,COUNTRY_INFO!J119<4), IF(T119/COUNTRY_INFO!E119*100<>0, IF(T119/COUNTRY_INFO!E119*100>100,100,T119/COUNTRY_INFO!E119*100), \"-\"),0)","v":"-"},{"$f":"IF(AND(COUNTRY_INFO!J119>1,COUNTRY_INFO!J119<4),IF(COUNTRY_INFO!F119>MAX('MDA1'!K119,'MDA4'!S119,'T1'!M119,MAX(T3_R1!L119,T3_R2!L119)),MAX('MDA1'!K119,'MDA4'!S119,'T1'!M119,MAX(T3_R1!L119,T3_R2!L119)),COUNTRY_INFO!F119),0)","v":0},{"$f":"IF(AND(COUNTRY_INFO!J119>1,COUNTRY_INFO!J119<4), IF(V119/COUNTRY_INFO!F119*100<>0, IF(V119/COUNTRY_INFO!F119*100>100,100,V119/COUNTRY_INFO!F119*100), \"-\"),0)","v":"-"},0,{"$f":"IF(AND(COUNTRY_INFO!J119>1,COUNTRY_INFO!J119<4), IF(S119/P119*100<>0, IF(X119/P119*100>100,100,X119/P119*100), \"-\"),0)","v":"-"},{"$f":"COUNTRY_INFO!P119","v":9164.9},null,null,{"$f":"MAX('T1'!L119,'T2'!J119)+MAX('T1'!M119,'T2'!K119)+MAX('T1'!N119,'T2'!L119)","v":0},{"$f":"IF(COUNTRY_INFO!K119=1,IF(COUNTRY_INFO!F119*0.33>MAX('T1'!M119,'T2'!K119),MAX('T1'!M119,'T2'!K119),COUNTRY_INFO!F119*0.33),IF(COUNTRY_INFO!K119=2,IF(COUNTRY_INFO!F119*0.5>MAX('T1'!M119,'T2'!K119),MAX('T1'!M119,'T2'!K119),COUNTRY_INFO!F119*0.5),IF(COUNTRY_INFO!K119=3,IF(COUNTRY_INFO!F119>MAX('T1'!M119,'T2'!K119),MAX('T1'!M119,'T2'!K119),COUNTRY_INFO!F119),0)))","v":0},{"$f":"IF(AND(COUNTRY_INFO!K119>0,COUNTRY_INFO!L119<4),IF(Z119>0,IF(COUNTRY_INFO!K119=1, AD119/(COUNTRY_INFO!F119*0.33)*100, IF(COUNTRY_INFO!K119=2, AD119/(COUNTRY_INFO!F119*0.5)*100, IF(COUNTRY_INFO!K119=3, AD119/COUNTRY_INFO!F119*100))),\"-\"),0)","v":0},{"$f":"IF(COUNTRY_INFO!K119=2,IF(COUNTRY_INFO!G119*0.2>MAX('T1'!N119,'T2'!L119),MAX('T1'!N119,'T2'!L119),COUNTRY_INFO!G119*0.2),IF(COUNTRY_INFO!K119=3,IF(COUNTRY_INFO!G119>MAX('T1'!N119,'T2'!L119),MAX('T1'!N119,'T2'!L119),COUNTRY_INFO!G119),0))","v":0},{"$f":"IF(AND(COUNTRY_INFO!K119>0,COUNTRY_INFO!L119<4),IF(Z119>0,IF(COUNTRY_INFO!K119=1, 0, IF(COUNTRY_INFO!K119=2, AF119/(COUNTRY_INFO!G119*0.2)*100, IF(COUNTRY_INFO!K119=3, AF119/COUNTRY_INFO!G119*100))),\"-\"),0)","v":0},0,{"$f":"IF(AND(COUNTRY_INFO!K119>0,COUNTRY_INFO!K119<4), IF(AC119/Z119*100<>0, IF(AH119/Z119*100>100,100,AH119/Z119*100), \"-\"),0)","v":"-"},null,{"$f":"IF(AND(D119<>0, D119<>\"Unknown\",D119<>\"Stopped\",D119<>\"Not required\"),D119/COUNTRY_INFO!D119, 0)","v":1},{"$f":"IF(AND(J119<>0,J119<>\"Unknown\",J119<>\"Stopped\",J119<>\"Not required\"),J119/COUNTRY_INFO!D119, 0)","v":1},{"$f":"IF(AND(P119<>0,P119<>\"Unknown\",P119<>\"Not required\"),P119/(COUNTRY_INFO!E119+COUNTRY_INFO!F119), 0)","v":1},{"$f":"IF(AND(Z119<>0,Z119<>\"Unknown\",Z119<>\"Not required\"),IF(COUNTRY_INFO!K119=1,1,IF(COUNTRY_INFO!K119=2,0.5*COUNTRY_INFO!F119/(0.5*COUNTRY_INFO!F119+0.2*COUNTRY_INFO!G119),IF(COUNTRY_INFO!K119=3,COUNTRY_INFO!F119/(COUNTRY_INFO!F119+COUNTRY_INFO!G119)))),0)","v":0.56961887200078565},{"$f":"IF(AND(Z119<>0,Z119<>\"Unknown\",Z119<>\"Not required\"),IF(COUNTRY_INFO!K119=1,0,IF(COUNTRY_INFO!K119=2,0.2*COUNTRY_INFO!G119/(0.5*COUNTRY_INFO!F119+0.2*COUNTRY_INFO!G119),IF(COUNTRY_INFO!K119=3,COUNTRY_INFO!G119/(COUNTRY_INFO!F119+COUNTRY_INFO!G119)))),0)","v":0.43038112799921441},{"$f":"MAX(COUNTRY_INFO!D119*AK119*PROFILE!$G$7,COUNTRY_INFO!D119*AL119*PROFILE!$G$7)","v":1272.4106363678254},{"$f":"MAX(COUNTRY_INFO!D119*AK119*PROFILE!$G$8,COUNTRY_INFO!D119*AL119*PROFILE!$G$8,COUNTRY_INFO!D119*AM119*PROFILE!$G$8)","v":5987.7667567241742},{"$f":"MAX(COUNTRY_INFO!D119*AK119*PROFILE!$G$9,COUNTRY_INFO!D119*AL119*PROFILE!$G$9,COUNTRY_INFO!D119*AM119*PROFILE!$G$9,IF(AND(DISTRICT!Z119<>\"Unknown\",Z119<>\"Not required\"),COUNTRY_INFO!P119*DISTRICT!AN119,0))","v":10441.173274851939},{"$f":"MAX(COUNTRY_INFO!D119*AK119*PROFILE!$G$10,COUNTRY_INFO!D119*AL119*PROFILE!$G$10,IF(AND(DISTRICT!Z119<>\"Unknown\",Z119<>\"Not required\"),COUNTRY_INFO!P119*DISTRICT!AO119,0))","v":19722.223955723566},37423.574623667504,0,{"$f":"MAX('MDA4'!R119,'T1'!L119,'T2'!J119,T3_R1!K119,T3_R2!K119)","v":0},{"$f":"MAX('MDA1'!K119,'MDA4'!S119,'MDA3'!I119,'MDA3'!L119,'T1'!M119,'T2'!K119,T3_R1!L119,T3_R2!L119)","v":0},{"$f":"MAX('MDA1'!L119,'MDA4'!T119,'MDA3'!J119,'MDA3'!M119,'T1'!N119,'T2'!L119,T3_R1!M119,T3_R2!M119)","v":0},0,{"$f":"MAX('MDA4'!R119,T119)","v":0},{"$f":"MAX('MDA1'!K119,'MDA4'!S119,'MDA3'!I119,'MDA3'!L119,V119,AD119)","v":0},{"$f":"MAX('MDA1'!L119,'MDA4'!T119,'MDA3'!J119,'MDA3'!M119,AF119)","v":0},0,0]
[{"$f":"IF(COUNTRY_INFO!A120=0,\" \",COUNTRY_INFO!A120)","v":"Angola"},{"$f":"IF(COUNTRY_INFO!B120=0,\" \",COUNTRY_INFO!B120)","v":"LUNDA SUL"},{"$f":"IF(COUNTRY_INFO!C120=0,\" \",COUNTRY_INFO!C120)","v":"DALA"},{"$f":"COUNTRY_INFO!M120","v":0},null,null,{"$f":"MAX('MDA1'!M120,'MDA4'!U120)","v":0},{"$f":"IF(AND(COUNTRY_INFO!H120>0,COUNTRY_INFO!H120<4),IF(D120>MAX('MDA1'!M120,'MDA4'!U120),MAX('MDA1'!M120,'MDA4'!U120),D120),0)","v":0},{"$f":"IF(AND(COUNTRY_INFO!H120>0,COUNTRY_INFO!H120<4), IF(G120/D120*100<>0, IF(G120/D120*100>100,100,G120/D120*100), \"-\"),0)","v":0},{"$f":"COUNTRY_INFO!N120","v":35189.541512412994},null,null,{"$f":"MAX('MDA1'!M120,MAX('MDA3'!I120,'MDA3'!L120)+MAX('MDA3'!J120,'MDA3'!M120))","v":0},{"$f":"IF(AND(COUNTRY_INFO!I120>0,COUNTRY_INFO!I120<4),IF(J120>MAX('MDA1'!M120,MAX('MDA3'!I120,'MDA3'!L120)+MAX('MDA3'!J120,'MDA3'!M120)),MAX('MDA1'!M120,MAX('MDA3'!I120,'MDA3'!L120)+MAX('MDA3'!J120,'MDA3'!M120)),J120),0)","v":0},{"$f":"IF(AND(COUNTRY_INFO!I120>0,COUNTRY_INFO!I120<4), IF(M120/J120*100<>0, IF(M120/J120*100>100,100,M120/J120*100), \"-\"),0)","v":"-"},{"$f":"COUNTRY_INFO!O120","v":15448},null,null,{"$f":"SUM(MAX('MDA4'!R120, 'T1'!L120, MAX(T3_R1!K120, T3_R2!K120)), MAX('MDA1'!K120, 'MDA4'!S120, 'T1'!M120, MAX(T3_R1!L120, T3_R2!L120)), MAX('MDA1'!L120, 'MDA4'!T120, 'T1'!N120, MAX(T3_R1!M120, T3_R2!M120)))","v":0},{"$f":"IF(AND(COUNTRY_INFO!J120>1,COUNTRY_INFO!J120<4),IF(COUNTRY_INFO!E120>MAX('MDA4'!R120,'T1'!L120,MAX(T3_R1!K120,T3_R2!K120)),MAX('MDA4'!R120,'T1'!L120,MAX(T3_R1!K120,T3_R2!K120)),COUNTRY_INFO!E120),0)","v":0},{"$f":"IF(AND(COUNTRY_INFO!J120>1,COUNTRY_INFO!J120<4), IF(T120/COUNTRY_INFO!E120*100<>0, IF(T120/COUNTRY_INFO!E120*100>100,100,T120/COUNTRY_INFO!E120*100), \"-\"),0)","v":"-"},{"$f":"IF(AND(COUNTRY_INFO!J120>1,COUNTRY_INFO!J120<4),IF(COUNTRY_INFO!F120>MAX('MDA1'!K120,'MDA4'!S120,'T1'!M120,MAX(T3_R1!L120,T3_R2!L120)),MAX('MDA1'!K120,'MDA4'!S120,'T1'!M120,MAX(T3_R1!L120,T3_R2!L120)),COUNTRY_INFO!F120),0)","v":0},{"$f":"IF(AND(COUNTRY_INFO!J120>1,COUNTRY_INFO!J120<4), IF(V120/COUNTRY_INFO!F120*100<>0, IF(V120/COUNTRY_INFO!F120*100>100,100,V120/COUNTRY_INFO!F120*100), \"-\"),0)","v":"-"},0,{"$f":"IF(AND(COUNTRY_INFO!J120>1,COUNTRY_INFO!J120<4), IF(S120/P120*100<>0, IF(X120/P120*100>100,100,X120/P120*100), \"-\"),0)","v":"-"},{"$f":"COUNTRY_INFO!P120","v":8618},null,null,{"$f":"MAX('T1'!L120,'T2'!J120)+MAX('T1'!M120,'T2'!K120)+MAX('T1'!N120,'T2'!L120)","v":0},{"$f":"IF(COUNTRY_INFO!K120=1,IF(COUNTRY_INFO!F120*0.33>MAX('T1'!M120,'T2'!K120),MAX('T1'!M120,'T2'!K120),COUNTRY_INFO!F120*0.33),IF(COUNTRY_INFO!K120=2,IF(COUNTRY_INFO!F120*0.5>MAX('T1'!M120,'T2'!K120),MAX('T1'!M120,'T2'!K120),COUNTRY_INFO!F120*0.5),IF(COUNTRY_INFO!K120=3,IF(COUNTRY_INFO!F120>MAX('T1'!M120,'T2'!K120),MAX('T1'!M120,'T2'!K120),COUNTRY_INFO!F120),0)))","v":0},{"$f":"IF(AND(COUNTRY_INFO!K120>0,COUNTRY_INFO!L120<4),IF(Z120>0,IF(COUNTRY_INFO!K120=1, AD120/(COUNTRY_INFO!F120*0.33)*100, IF(COUNTRY_INFO!K120=2, AD120/(COUNTRY_INFO!F120*0.5)*100, IF(COUNTRY_INFO!K120=3, AD120/COUNTRY_INFO!F120*100))),\"-\"),0)","v":0},{"$f":"IF(COUNTRY_INFO!K120=2,IF(COUNTRY_INFO!G120*0.2>MAX('T1'!N120,'T2'!L120),MAX('T1'!N120,'T2'!L120),COUNTRY_INFO!G120*0.2),IF(COUNTRY_INFO!K120=3,IF(COUNTRY_INFO!G120>MAX('T1'!N120,'T2'!L120),MAX('T1'!N120,'T2'!L120),COUNTRY_INFO!G120),0))","v":0},{"$f":"IF(AND(COUNTRY_INFO!K120>0,COUNTRY_INFO!L120<4),IF(Z120>0,IF(COUNTRY_INFO!K120=1, 0, IF(COUNTRY_INFO!K120=2, AF120/(COUNTRY_INFO!G120*0.2)*100, IF(COUNTRY_INFO!K120=3, AF120/COUNTRY_INFO!G120*100))),\"-\"),0)","v":0},0,{"$f":"IF(AND(COUNTRY_INFO!K120>0,COUNTRY_INFO!K120<4), IF(AC120/Z120*100<>0, IF(AH120/Z120*100>100,100,AH120/Z120*100), \"-\"),0)","v":"-"},null,{"$f":"IF(AND(D120<>0, D120<>\"Unknown\",D120<>\"Stopped\",D120<>\"Not required\"),D120/COUNTRY_INFO!D120, 0)","v":0},{"$f":"IF(AND(J120<>0,J120<>\"Unknown\",J120<>\"Stopped\",J120<>\"Not required\"),J120/COUNTRY_INFO!D120, 0)","v":1},{"$f":"IF(AND(P120<>0,P120<>\"Unknown\",P120<>\"Not required\"),P120/(COUNTRY_INFO!E120+COUNTRY_INFO!F120), 0)","v":1},{"$f":"IF(AND(Z120<>0,Z120<>\"Unknown\",Z120<>\"Not required\"),IF(COUNTRY_INFO!K120=1,1,IF(COUNTRY_INFO!K120=2,0.5*COUNTRY_INFO!F120/(0.5*COUNTRY_INFO!F120+0.2*COUNTRY_INFO!G120),IF(COUNTRY_INFO!K120=3,COUNTRY_INFO!F120/(COUNTRY_INFO!F120+COUNTRY_INFO!G120)))),0)","v":0.56962172197725691},{"$f":"IF(AND(Z120<>0,Z120<>\"Unknown\",Z120<>\"Not required\"),IF(COUNTRY_INFO!K120=1,0,IF(COUNTRY_INFO!K120=2,0.2*COUNTRY_INFO!G120/(0.5*COUNTRY_INFO!F120+0.2*COUNTRY_INFO!G120),IF(COUNTRY_INFO!K120=3,COUNTRY_INFO!G120/(COUNTRY_INFO!F120+COUNTRY_INFO!G120)))),0)","v":0.43037827802274309},{"$f":"MAX(COUNTRY_INFO!D120*AK120*PROFILE!$G$7,COUNTRY_INFO!D120*AL120*PROFILE!$G$7)","v":1196.4529674026483},{"$f":"MAX(COUNTRY_INFO!D120*AK120*PROFILE!$G$8,COUNTRY_INFO!D120*AL120*PROFILE!$G$8,COUNTRY_INFO!D120*AM120*PROFILE!$G$8)","v":5630.3217683309222},{"$f":"MAX(COUNTRY_INFO!D120*AK120*PROFILE!$G$9,COUNTRY_INFO!D120*AL120*PROFILE!$G$9,COUNTRY_INFO!D120*AM120*PROFILE!$G$9,IF(AND(DISTRICT!Z120<>\"Unknown\",Z120<>\"Not required\"),COUNTRY_INFO!P120*DISTRICT!AN120,0))","v":9817.8782782907838},{"$f":"MAX(COUNTRY_INFO!D120*AK120*PROFILE!$G$10,COUNTRY_INFO!D120*AL120*PROFILE!$G$10,IF(AND(DISTRICT!Z120<>\"Unknown\",Z120<>\"Not required\"),COUNTRY_INFO!P120*DISTRICT!AO120,0))","v":18544.888498388638},35189.541512412994,0,{"$f":"MAX('MDA4'!R120,'T1'!L120,'T2'!J120,T3_R1!K120,T3_R2!K120)","v":0},{"$f":"MAX('MDA1'!K120,'MDA4'!S120,'MDA3'!I120,'MDA3'!L120,'T1'!M120,'T2'!K120,T3_R1!L120,T3_R2!L120)","v":0},{"$f":"MAX('MDA1'!L120,'MDA4'!T120,'MDA3'!J120,'MDA3'!M120,'T1'!N120,'T2'!L120,T3_R1!M120,T3_R2!M120)","v":0},0,{"$f":"MAX('MDA4'!R120,T120)","v":0},{"$f":"MAX('MDA1'!K120,'MDA4'!S120,'MDA3'!I120,'MDA3'!L120,V120,AD120)","v":0},{"$f":"MAX('MDA1'!L120,'MDA4'!T120,'MDA3'!J120,'MDA3'!M120,AF120)","v":0},0,0]
[{"$f":"IF(COUNTRY_INFO!A121=0,\" \",COUNTRY_INFO!A121)","v":"Angola"},{"$f":"IF(COUNTRY_INFO!B121=0,\" \",COUNTRY_INFO!B121)","v":"LUNDA SUL"},{"$f":"IF(COUNTRY_INFO!C121=0,\" \",COUNTRY_INFO!C121)","v":"MUCONDA"},{"$f":"COUNTRY_INFO!M121","v":0},null,null,{"$f":"MAX('MDA1'!M121,'MDA4'!U121)","v":0},{"$f":"IF(AND(COUNTRY_INFO!H121>0,COUNTRY_INFO!H121<4),IF(D121>MAX('MDA1'!M121,'MDA4'!U121),MAX('MDA1'!M121,'MDA4'!U121),D121),0)","v":0},{"$f":"IF(AND(COUNTRY_INFO!H121>0,COUNTRY_INFO!H121<4), IF(G121/D121*100<>0, IF(G121/D121*100>100,100,G121/D121*100), \"-\"),0)","v":0},{"$f":"COUNTRY_INFO!N121","v":39029.872590740742},null,null,{"$f":"MAX('MDA1'!M121,MAX('MDA3'!I121,'MDA3'!L121)+MAX('MDA3'!J121,'MDA3'!M121))","v":0},{"$f":"IF(AND(COUNTRY_INFO!I121>0,COUNTRY_INFO!I121<4),IF(J121>MAX('MDA1'!M121,MAX('MDA3'!I121,'MDA3'!L121)+MAX('MDA3'!J121,'MDA3'!M121)),MAX('MDA1'!M121,MAX('MDA3'!I121,'MDA3'!L121)+MAX('MDA3'!J121,'MDA3'!M121)),J121),0)","v":0},{"$f":"IF(AND(COUNTRY_INFO!I121>0,COUNTRY_INFO!I121<4), IF(M121/J121*100<>0, IF(M121/J121*100>100,100,M121/J121*100), \"-\"),0)","v":"-"},{"$f":"COUNTRY_INFO!O121","v":17134},null,null,{"$f":"SUM(MAX('MDA4'!R121, 'T1'!L121, MAX(T3_R1!K121, T3_R2!K121)), MAX('MDA1'!K121, 'MDA4'!S121, 'T1'!M121, MAX(T3_R1!L121, T3_R2!L121)), MAX('MDA1'!L121, 'MDA4'!T121, 'T1'!N121, MAX(T3_R1!M121, T3_R2!M121)))","v":0},{"$f":"IF(AND(COUNTRY_INFO!J121>1,COUNTRY_INFO!J121<4),IF(COUNTRY_INFO!E121>MAX('MDA4'!R121,'T1'!L121,MAX(T3_R1!K121,T3_R2!K121)),MAX('MDA4'!R121,'T1'!L121,MAX(T3_R1!K121,T3_R2!K121)),COUNTRY_INFO!E121),0)","v":0},{"$f":"IF(AND(COUNTRY_INFO!J121>1,COUNTRY_INFO!J121<4), IF(T121/COUNTRY_INFO!E121*100<>0, IF(T121/COUNTRY_INFO!E121*100>100,100,T121/COUNTRY_INFO!E121*100), \"-\"),0)","v":"-"},{"$f":"IF(AND(COUNTRY_INFO!J121>1,COUNTRY_INFO!J121<4),IF(COUNTRY_INFO!F121>MAX('MDA1'!K121,'MDA4'!S121,'T1'!M121,MAX(T3_R1!L121,T3_R2!L121)),MAX('MDA1'!K121,'MDA4'!S121,'T1'!M121,MAX(T3_R1!L121,T3_R2!L121)),COUNTRY_INFO!F121),0)","v":0},{"$f":"IF(AND(COUNTRY_INFO!J121>1,COUNTRY_INFO!J121<4), IF(V121/COUNTRY_INFO!F121*100<>0, IF(V121/COUNTRY_INFO!F121*100>100,100,V121/COUNTRY_INFO!F121*100), \"-\"),0)","v":"-"},0,{"$f":"IF(AND(COUNTRY_INFO!J121>1,COUNTRY_INFO!J121<4), IF(S121/P121*100<>0, IF(X121/P121*100>100,100,X121/P121*100), \"-\"),0)","v":"-"},{"$f":"COUNTRY_INFO!P121","v":9558.2999999999993},null,null,{"$f":"MAX('T1'!L121,'T2'!J121)+MAX('T1'!M121,'T2'!K121)+MAX('T1'!N121,'T2'!L121)","v":0},{"$f":"IF(COUNTRY_INFO!K121=1,IF(COUNTRY_INFO!F121*0.33>MAX('T1'!M121,'T2'!K121),MAX('T1'!M121,'T2'!K121),COUNTRY_INFO!F121*0.33),IF(COUNTRY_INFO!K121=2,IF(COUNTRY_INFO!F121*0.5>MAX('T1'!M121,'T2'!K121),MAX('T1'!M121,'T2'!K121),COUNTRY_INFO!F121*0.5),IF(COUNTRY_INFO!K121=3,IF(COUNTRY_INFO!F121>MAX('T1'!M121,'T2'!K121),MAX('T1'!M121,'T2'!K121),COUNTRY_INFO!F121),0)))","v":0},{"$f":"IF(AND(COUNTRY_INFO!K121>0,COUNTRY_INFO!L121<4),IF(Z121>0,IF(COUNTRY_INFO!K121=1, AD121/(COUNTRY_INFO!F121*0.33)*100, IF(COUNTRY_INFO!K121=2, AD121/(COUNTRY_INFO!F121*0.5)*100, IF(COUNTRY_INFO!K121=3, AD121/COUNTRY_INFO!F121*100))),\"-\"),0)","v":0},{"$f":"IF(COUNTRY_INFO!K121=2,IF(COUNTRY_INFO!G121*0.2>MAX('T1'!N121,'T2'!L121),MAX('T1'!N121,'T2'!L121),COUNTRY_INFO!G121*0.2),IF(COUNTRY_INFO!K121=3,IF(COUNTRY_INFO!G121>MAX('T1'!N121,'T2'!L121),MAX('T1'!N121,'T2'!L121),COUNTRY_INFO!G121),0))","v":0},{"$f":"IF(AND(COUNTRY_INFO!K121>0,COUNTRY_INFO!L121<4),IF(Z121>0,IF(COUNTRY_INFO!K121=1, 0, IF(COUNTRY_INFO!K121=2, AF121/(COUNTRY_INFO!G121*0.2)*100, IF(COUNTRY_INFO!K121=3, AF121/COUNTRY_INFO!G121*100))),\"-\"),0)","v":0},0,{"$f":"IF(AND(COUNTRY_INFO!K121>0,COUNTRY_INFO!K121<4), IF(AC121/Z121*100<>0, IF(AH121/Z121*100>100,100,AH121/Z121*100), \"-\"),0)","v":"-"},null,{"$f":"IF(AND(D121<>0, D121<>\"Unknown\",D121<>\"Stopped\",D121<>\"Not required\"),D121/COUNTRY_INFO!D121, 0)","v":0},{"$f":"IF(AND(J121<>0,J121<>\"Unknown\",J121<>\"Stopped\",J121<>\"Not required\"),J121/COUNTRY_INFO!D121, 0)","v":1},{"$f":"IF(AND(P121<>0,P121<>\"Unknown\",P121<>\"Not required\"),P121/(COUNTRY_INFO!E121+COUNTRY_INFO!F121), 0)","v":1},{"$f":"IF(AND(Z121<>0,Z121<>\"Unknown\",Z121<>\"Not required\"),IF(COUNTRY_INFO!K121=1,1,IF(COUNTRY_INFO!K121=2,0.5*COUNTRY_INFO!F121/(0.5*COUNTRY_INFO!F121+0.2*COUNTRY_INFO!G121),IF(COUNTRY_INFO!K121=3,COUNTRY_INFO!F121/(COUNTRY_INFO!F121+COUNTRY_INFO!G121)))),0)","v":0.56960965862130297},{"$f":"IF(AND(Z121<>0,Z121<>\"Unknown\",Z121<>\"Not required\"),IF(COUNTRY_INFO!K121=1,0,IF(COUNTRY_INFO!K121=2,0.2*COUNTRY_INFO!G121/(0.5*COUNTRY_INFO!F121+0.2*COUNTRY_INFO!G121),IF(COUNTRY_INFO!K121=3,COUNTRY_INFO!G121/(COUNTRY_INFO!F121+COUNTRY_INFO!G121)))),0)","v":0.43039034137869708},{"$f":"MAX(COUNTRY_INFO!D121*AK121*PROFILE!$G$7,COUNTRY_INFO!D121*AL121*PROFILE!$G$7)","v":1327.0251578033972},{"$f":"MAX(COUNTRY_INFO!D121*AK121*PROFILE!$G$8,COUNTRY_INFO!D121*AL121*PROFILE!$G$8,COUNTRY_INFO!D121*AM121*PROFILE!$G$8)","v":6244.7742089880212},{"$f":"MAX(COUNTRY_INFO!D121*AK121*PROFILE!$G$9,COUNTRY_INFO!D121*AL121*PROFILE!$G$9,COUNTRY_INFO!D121*AM121*PROFILE!$G$9,IF(AND(DISTRICT!Z121<>\"Unknown\",Z121<>\"Not required\"),COUNTRY_INFO!P121*DISTRICT!AN121,0))","v":10889.330234039031},{"$f":"MAX(COUNTRY_INFO!D121*AK121*PROFILE!$G$10,COUNTRY_INFO!D121*AL121*PROFILE!$G$10,IF(AND(DISTRICT!Z121<>\"Unknown\",Z121<>\"Not required\"),COUNTRY_INFO!P121*DISTRICT!AO121,0))","v":20568.742989910294},39029.872590740742,0,{"$f":"MAX('MDA4'!R121,'T1'!L121,'T2'!J121,T3_R1!K121,T3_R2!K121)","v":0},{"$f":"MAX('MDA1'!K121,'MDA4'!S121,'MDA3'!I121,'MDA3'!L121,'T1'!M121,'T2'!K121,T3_R1!L121,T3_R2!L121)","v":0},{"$f":"MAX('MDA1'!L121,'MDA4'!T121,'MDA3'!J121,'MDA3'!M121,'T1'!N121,'T2'!L121,T3_R1!M121,T3_R2!M121)","v":0},0,{"$f":"MAX('MDA4'!R121,T121)","v":0},{"$f":"MAX('MDA1'!K121,'MDA4'!S121,'MDA3'!I121,'MDA3'!L121,V121,AD121)","v":0},{"$f":"MAX('MDA1'!L121,'MDA4'!T121,'MDA3'!J121,'MDA3'!M121,AF121)","v":0},0,0]
[{"$f":"IF(COUNTRY_INFO!A122=0,\" \",COUNTRY_INFO!A122)","v":"Angola"},{"$f":"IF(COUNTRY_INFO!B122=0,\" \",COUNTRY_INFO!B122)","v":"LUNDA SUL"},{"$f":"IF(COUNTRY_INFO!C122=0,\" \",COUNTRY_INFO!C122)","v":"SAURIMO"},{"$f":"COUNTRY_INFO!M122","v":519127.57754417887},null,null,{"$f":"MAX('MDA1'!M122,'MDA4'!U122)","v":0},{"$f":"IF(AND(COUNTRY_INFO!H122>0,COUNTRY_INFO!H122<4),IF(D122>MAX('MDA1'!M122,'MDA4'!U122),MAX('MDA1'!M122,'MDA4'!U122),D122),0)","v":0},{"$f":"IF(AND(COUNTRY_INFO!H122>0,COUNTRY_INFO!H122<4), IF(G122/D122*100<>0, IF(G122/D122*100>100,100,G122/D122*100), \"-\"),0)","v":"-"},{"$f":"COUNTRY_INFO!N122","v":519127.57754417887},null,null,{"$f":"MAX('MDA1'!M122,MAX('MDA3'!I122,'MDA3'!L122)+MAX('MDA3'!J122,'MDA3'!M122))","v":0},{"$f":"IF(AND(COUNTRY_INFO!I122>0,COUNTRY_INFO!I122<4),IF(J122>MAX('MDA1'!M122,MAX('MDA3'!I122,'MDA3'!L122)+MAX('MDA3'!J122,'MDA3'!M122)),MAX('MDA1'!M122,MAX('MDA3'!I122,'MDA3'!L122)+MAX('MDA3'!J122,'MDA3'!M122)),J122),0)","v":0},{"$f":"IF(AND(COUNTRY_INFO!I122>0,COUNTRY_INFO!I122<4), IF(M122/J122*100<>0, IF(M122/J122*100>100,100,M122/J122*100), \"-\"),0)","v":"-"},{"$f":"COUNTRY_INFO!O122","v":227897},null,null,{"$f":"SUM(MAX('MDA4'!R122, 'T1'!L122, MAX(T3_R1!K122, T3_R2!K122)), MAX('MDA1'!K122, 'MDA4'!S122, 'T1'!M122, MAX(T3_R1!L122, T3_R2!L122)), MAX('MDA1'!L122, 'MDA4'!T122, 'T1'!N122, MAX(T3_R1!M122, T3_R2!M122)))","v":0},{"$f":"IF(AND(COUNTRY_INFO!J122>1,COUNTRY_INFO!J122<4),IF(COUNTRY_INFO!E122>MAX('MDA4'!R122,'T1'!L122,MAX(T3_R1!K122,T3_R2!K122)),MAX('MDA4'!R122,'T1'!L122,MAX(T3_R1!K122,T3_R2!K122)),COUNTRY_INFO!E122),0)","v":0},{"$f":"IF(AND(COUNTRY_INFO!J122>1,COUNTRY_INFO!J122<4), IF(T122/COUNTRY_INFO!E122*100<>0, IF(T122/COUNTRY_INFO!E122*100>100,100,T122/COUNTRY_INFO!E122*100), \"-\"),0)","v":"-"},{"$f":"IF(AND(COUNTRY_INFO!J122>1,COUNTRY_INFO!J122<4),IF(COUNTRY_INFO!F122>MAX('MDA1'!K122,'MDA4'!S122,'T1'!M122,MAX(T3_R1!L122,T3_R2!L122)),MAX('MDA1'!K122,'MDA4'!S122,'T1'!M122,MAX(T3_R1!L122,T3_R2!L122)),COUNTRY_INFO!F122),0)","v":0},{"$f":"IF(AND(COUNTRY_INFO!J122>1,COUNTRY_INFO!J122<4), IF(V122/COUNTRY_INFO!F122*100<>0, IF(V122/COUNTRY_INFO!F122*100>100,100,V122/COUNTRY_INFO!F122*100), \"-\"),0)","v":"-"},0,{"$f":"IF(AND(COUNTRY_INFO!J122>1,COUNTRY_INFO!J122<4), IF(S122/P122*100<>0, IF(X122/P122*100>100,100,X122/P122*100), \"-\"),0)","v":"-"},{"$f":"COUNTRY_INFO!P122","v":127134.5},null,null,{"$f":"MAX('T1'!L122,'T2'!J122)+MAX('T1'!M122,'T2'!K122)+MAX('T1'!N122,'T2'!L122)","v":0},{"$f":"IF(COUNTRY_INFO!K122=1,IF(COUNTRY_INFO!F122*0.33>MAX('T1'!M122,'T2'!K122),MAX('T1'!M122,'T2'!K122),COUNTRY_INFO!F122*0.33),IF(COUNTRY_INFO!K122=2,IF(COUNTRY_INFO!F122*0.5>MAX('T1'!M122,'T2'!K122),MAX('T1'!M122,'T2'!K122),COUNTRY_INFO!F122*0.5),IF(COUNTRY_INFO!K122=3,IF(COUNTRY_INFO!F122>MAX('T1'!M122,'T2'!K122),MAX('T1'!M122,'T2'!K122),COUNTRY_INFO!F122),0)))","v":0},{"$f":"IF(AND(COUNTRY_INFO!K122>0,COUNTRY_INFO!L122<4),IF(Z122>0,IF(COUNTRY_INFO!K122=1, AD122/(COUNTRY_INFO!F122*0.33)*100, IF(COUNTRY_INFO!K122=2, AD122/(COUNTRY_INFO!F122*0.5)*100, IF(COUNTRY_INFO!K122=3, AD122/COUNTRY_INFO!F122*100))),\"-\"),0)","v":0},{"$f":"IF(COUNTRY_INFO!K122=2,IF(COUNTRY_INFO!G122*0.2>MAX('T1'!N122,'T2'!L122),MAX('T1'!N122,'T2'!L122),COUNTRY_INFO!G122*0.2),IF(COUNTRY_INFO!K122=3,IF(COUNTRY_INFO!G122>MAX('T1'!N122,'T2'!L122),MAX('T1'!N122,'T2'!L122),COUNTRY_INFO!G122),0))","v":0},{"$f":"IF(AND(COUNTRY_INFO!K122>0,COUNTRY_INFO!L122<4),IF(Z122>0,IF(COUNTRY_INFO!K122=1, 0, IF(COUNTRY_INFO!K122=2, AF122/(COUNTRY_INFO!G122*0.2)*100, IF(COUNTRY_INFO!K122=3, AF122/COUNTRY_INFO!G122*100))),\"-\"),0)","v":0},0,{"$f":"IF(AND(COUNTRY_INFO!K122>0,COUNTRY_INFO!K122<4), IF(AC122/Z122*100<>0, IF(AH122/Z122*100>100,100,AH122/Z122*100), \"-\"),0)","v":"-"},null,{"$f":"IF(AND(D122<>0, D122<>\"Unknown\",D122<>\"Stopped\",D122<>\"Not required\"),D122/COUNTRY_INFO!D122, 0)","v":1},{"$f":"IF(AND(J122<>0,J122<>\"Unknown\",J122<>\"Stopped\",J122<>\"Not required\"),J122/COUNTRY_INFO!D122, 0)","v":1},{"$f":"IF(AND(P122<>0,P122<>\"Unknown\",P122<>\"Not required\"),P122/(COUNTRY_INFO!E122+COUNTRY_INFO!F122), 0)","v":1},{"$f":"IF(AND(Z122<>0,Z122<>\"Unknown\",Z122<>\"Not required\"),IF(COUNTRY_INFO!K122=1,1,IF(COUNTRY_INFO!K122=2,0.5*COUNTRY_INFO!F122/(0.5*COUNTRY_INFO!F122+0.2*COUNTRY_INFO!G122),IF(COUNTRY_INFO!K122=3,COUNTRY_INFO!F122/(COUNTRY_INFO!F122+COUNTRY_INFO!G122)))),0)","v":0.56962114925531626},{"$f":"IF(AND(Z122<>0,Z122<>\"Unknown\",Z122<>\"Not required\"),IF(COUNTRY_INFO!K122=1,0,IF(COUNTRY_INFO!K122=2,0.2*COUNTRY_INFO!G122/(0.5*COUNTRY_INFO!F122+0.2*COUNTRY_INFO!G122),IF(COUNTRY_INFO!K122=3,COUNTRY_INFO!G122/(COUNTRY_INFO!F122+COUNTRY_INFO!G122)))),0)","v":0.43037885074468379},{"$f":"MAX(COUNTRY_INFO!D122*AK122*PROFILE!$G$7,COUNTRY_INFO!D122*AL122*PROFILE!$G$7)","v":17650.46385711465},{"$f":"MAX(COUNTRY_INFO!D122*AK122*PROFILE!$G$8,COUNTRY_INFO!D122*AL122*PROFILE!$G$8,COUNTRY_INFO!D122*AM122*PROFILE!$G$8)","v":83060.340509320406},{"$f":"MAX(COUNTRY_INFO!D122*AK122*PROFILE!$G$9,COUNTRY_INFO!D122*AL122*PROFILE!$G$9,COUNTRY_INFO!D122*AM122*PROFILE!$G$9,IF(AND(DISTRICT!Z122<>\"Unknown\",Z122<>\"Not required\"),COUNTRY_INFO!P122*DISTRICT!AN122,0))","v":144836.5380218112},{"$f":"MAX(COUNTRY_INFO!D122*AK122*PROFILE!$G$10,COUNTRY_INFO!D122*AL122*PROFILE!$G$10,IF(AND(DISTRICT!Z122<>\"Unknown\",Z122<>\"Not required\"),COUNTRY_INFO!P122*DISTRICT!AO122,0))","v":273580.23515593261},519127.57754417887,0,{"$f":"MAX('MDA4'!R122,'T1'!L122,'T2'!J122,T3_R1!K122,T3_R2!K122)","v":0},{"$f":"MAX('MDA1'!K122,'MDA4'!S122,'MDA3'!I122,'MDA3'!L122,'T1'!M122,'T2'!K122,T3_R1!L122,T3_R2!L122)","v":0},{"$f":"MAX('MDA1'!L122,'MDA4'!T122,'MDA3'!J122,'MDA3'!M122,'T1'!N122,'T2'!L122,T3_R1!M122,T3_R2!M122)","v":0},0,{"$f":"MAX('MDA4'!R122,T122)","v":0},{"$f":"MAX('MDA1'!K122,'MDA4'!S122,'MDA3'!I122,'MDA3'!L122,V122,AD122)","v":0},{"$f":"MAX('MDA1'!L122,'MDA4'!T122,'MDA3'!J122,'MDA3'!M122,AF122)","v":0},0,0]
[{"$f":"IF(COUNTRY_INFO!A123=0,\" \",COUNTRY_INFO!A123)","v":"Angola"},{"$f":"IF(COUNTRY_INFO!B123=0,\" \",COUNTRY_INFO!B123)","v":"MALANJE"},{"$f":"IF(COUNTRY_INFO!C123=0,\" \",COUNTRY_INFO!C123)","v":"CACULAMA (Mukari)"},{"$f":"COUNTRY_INFO!M123","v":35331.515255302591},null,null,{"$f":"MAX('MDA1'!M123,'MDA4'!U123)","v":0},{"$f":"IF(AND(COUNTRY_INFO!H123>0,COUNTRY_INFO!H123<4),IF(D123>MAX('MDA1'!M123,'MDA4'!U123),MAX('MDA1'!M123,'MDA4'!U123),D123),0)","v":0},{"$f":"IF(AND(COUNTRY_INFO!H123>0,COUNTRY_INFO!H123<4), IF(G123/D123*100<>0, IF(G123/D123*100>100,100,G123/D123*100), \"-\"),0)","v":"-"},{"$f":"COUNTRY_INFO!N123","v":"Unknown"},null,null,{"$f":"MAX('MDA1'!M123,MAX('MDA3'!I123,'MDA3'!L123)+MAX('MDA3'!J123,'MDA3'!M123))","v":0},{"$f":"IF(AND(COUNTRY_INFO!I123>0,COUNTRY_INFO!I123<4),IF(J123>MAX('MDA1'!M123,MAX('MDA3'!I123,'MDA3'!L123)+MAX('MDA3'!J123,'MDA3'!M123)),MAX('MDA1'!M123,MAX('MDA3'!I123,'MDA3'!L123)+MAX('MDA3'!J123,'MDA3'!M123)),J123),0)","v":0},{"$f":"IF(AND(COUNTRY_INFO!I123>0,COUNTRY_INFO!I123<4), IF(M123/J123*100<>0, IF(M123/J123*100>100,100,M123/J123*100), \"-\"),0)","v":0},{"$f":"COUNTRY_INFO!O123","v":15510},null,null,{"$f":"SUM(MAX('MDA4'!R123, 'T1'!L123, MAX(T3_R1!K123, T3_R2!K123)), MAX('MDA1'!K123, 'MDA4'!S123, 'T1'!M123, MAX(T3_R1!L123, T3_R2!L123)), MAX('MDA1'!L123, 'MDA4'!T123, 'T1'!N123, MAX(T3_R1!M123, T3_R2!M123)))","v":0},{"$f":"IF(AND(COUNTRY_INFO!J123>1,COUNTRY_INFO!J123<4),IF(COUNTRY_INFO!E123>MAX('MDA4'!R123,'T1'!L123,MAX(T3_R1!K123,T3_R2!K123)),MAX('MDA4'!R123,'T1'!L123,MAX(T3_R1!K123,T3_R2!K123)),COUNTRY_INFO!E123),0)","v":0},{"$f":"IF(AND(COUNTRY_INFO!J123>1,COUNTRY_INFO!J123<4), IF(T123/COUNTRY_INFO!E123*100<>0, IF(T123/COUNTRY_INFO!E123*100>100,100,T123/COUNTRY_INFO!E123*100), \"-\"),0)","v":"-"},{"$f":"IF(AND(COUNTRY_INFO!J123>1,COUNTRY_INFO!J123<4),IF(COUNTRY_INFO!F123>MAX('MDA1'!K123,'MDA4'!S123,'T1'!M123,MAX(T3_R1!L123,T3_R2!L123)),MAX('MDA1'!K123,'MDA4'!S123,'T1'!M123,MAX(T3_R1!L123,T3_R2!L123)),COUNTRY_INFO!F123),0)","v":0},{"$f":"IF(AND(COUNTRY_INFO!J123>1,COUNTRY_INFO!J123<4), IF(V123/COUNTRY_INFO!F123*100<>0, IF(V123/COUNTRY_INFO!F123*100>100,100,V123/COUNTRY_INFO!F123*100), \"-\"),0)","v":"-"},0,{"$f":"IF(AND(COUNTRY_INFO!J123>1,COUNTRY_INFO!J123<4), IF(S123/P123*100<>0, IF(X123/P123*100>100,100,X123/P123*100), \"-\"),0)","v":"-"},{"$f":"COUNTRY_INFO!P123","v":8652.5},null,null,{"$f":"MAX('T1'!L123,'T2'!J123)+MAX('T1'!M123,'T2'!K123)+MAX('T1'!N123,'T2'!L123)","v":0},{"$f":"IF(COUNTRY_INFO!K123=1,IF(COUNTRY_INFO!F123*0.33>MAX('T1'!M123,'T2'!K123),MAX('T1'!M123,'T2'!K123),COUNTRY_INFO!F123*0.33),IF(COUNTRY_INFO!K123=2,IF(COUNTRY_INFO!F123*0.5>MAX('T1'!M123,'T2'!K123),MAX('T1'!M123,'T2'!K123),COUNTRY_INFO!F123*0.5),IF(COUNTRY_INFO!K123=3,IF(COUNTRY_INFO!F123>MAX('T1'!M123,'T2'!K123),MAX('T1'!M123,'T2'!K123),COUNTRY_INFO!F123),0)))","v":0},{"$f":"IF(AND(COUNTRY_INFO!K123>0,COUNTRY_INFO!L123<4),IF(Z123>0,IF(COUNTRY_INFO!K123=1, AD123/(COUNTRY_INFO!F123*0.33)*100, IF(COUNTRY_INFO!K123=2, AD123/(COUNTRY_INFO!F123*0.5)*100, IF(COUNTRY_INFO!K123=3, AD123/COUNTRY_INFO!F123*100))),\"-\"),0)","v":0},{"$f":"IF(COUNTRY_INFO!K123=2,IF(COUNTRY_INFO!G123*0.2>MAX('T1'!N123,'T2'!L123),MAX('T1'!N123,'T2'!L123),COUNTRY_INFO!G123*0.2),IF(COUNTRY_INFO!K123=3,IF(COUNTRY_INFO!G123>MAX('T1'!N123,'T2'!L123),MAX('T1'!N123,'T2'!L123),COUNTRY_INFO!G123),0))","v":0},{"$f":"IF(AND(COUNTRY_INFO!K123>0,COUNTRY_INFO!L123<4),IF(Z123>0,IF(COUNTRY_INFO!K123=1, 0, IF(COUNTRY_INFO!K123=2, AF123/(COUNTRY_INFO!G123*0.2)*100, IF(COUNTRY_INFO!K123=3, AF123/COUNTRY_INFO!G123*100))),\"-\"),0)","v":0},0,{"$f":"IF(AND(COUNTRY_INFO!K123>0,COUNTRY_INFO!K123<4), IF(AC123/Z123*100<>0, IF(AH123/Z123*100>100,100,AH123/Z123*100), \"-\"),0)","v":"-"},null,{"$f":"IF(AND(D123<>0, D123<>\"Unknown\",D123<>\"Stopped\",D123<>\"Not required\"),D123/COUNTRY_INFO!D123, 0)","v":1},{"$f":"IF(AND(J123<>0,J123<>\"Unknown\",J123<>\"Stopped\",J123<>\"Not required\"),J123/COUNTRY_INFO!D123, 0)","v":0},{"$f":"IF(AND(P123<>0,P123<>\"Unknown\",P123<>\"Not required\"),P123/(COUNTRY_INFO!E123+COUNTRY_INFO!F123), 0)","v":1},{"$f":"IF(AND(Z123<>0,Z123<>\"Unknown\",Z123<>\"Not required\"),IF(COUNTRY_INFO!K123=1,1,IF(COUNTRY_INFO!K123=2,0.5*COUNTRY_INFO!F123/(0.5*COUNTRY_INFO!F123+0.2*COUNTRY_INFO!G123),IF(COUNTRY_INFO!K123=3,COUNTRY_INFO!F123/(COUNTRY_INFO!F123+COUNTRY_INFO!G123)))),0)","v":0.56960416064721175},{"$f":"IF(AND(Z123<>0,Z123<>\"Unknown\",Z123<>\"Not required\"),IF(COUNTRY_INFO!K123=1,0,IF(COUNTRY_INFO!K123=2,0.2*COUNTRY_INFO!G123/(0.5*COUNTRY_INFO!F123+0.2*COUNTRY_INFO!G123),IF(COUNTRY_INFO!K123=3,COUNTRY_INFO!G123/(COUNTRY_INFO!F123+COUNTRY_INFO!G123)))),0)","v":0.43039583935278819},{"$f":"MAX(COUNTRY_INFO!D123*AK123*PROFILE!$G$7,COUNTRY_INFO!D123*AL123*PROFILE!$G$7)","v":1201.2801091803722},{"$f":"MAX(COUNTRY_INFO!D123*AK123*PROFILE!$G$8,COUNTRY_INFO!D123*AL123*PROFILE!$G$8,COUNTRY_INFO!D123*AM123*PROFILE!$G$8)","v":5653.0375475302826},{"$f":"MAX(COUNTRY_INFO!D123*AK123*PROFILE!$G$9,COUNTRY_INFO!D123*AL123*PROFILE!$G$9,COUNTRY_INFO!D123*AM123*PROFILE!$G$9,IF(AND(DISTRICT!Z123<>\"Unknown\",Z123<>\"Not required\"),COUNTRY_INFO!P123*DISTRICT!AN123,0))","v":9857.4889372108992},{"$f":"MAX(COUNTRY_INFO!D123*AK123*PROFILE!$G$10,COUNTRY_INFO!D123*AL123*PROFILE!$G$10,IF(AND(DISTRICT!Z123<>\"Unknown\",Z123<>\"Not required\"),COUNTRY_INFO!P123*DISTRICT!AO123,0))","v":18619.708661381035},35331.515255302584,0,{"$f":"MAX('MDA4'!R123,'T1'!L123,'T2'!J123,T3_R1!K123,T3_R2!K123)","v":0},{"$f":"MAX('MDA1'!K123,'MDA4'!S123,'MDA3'!I123,'MDA3'!L123,'T1'!M123,'T2'!K123,T3_R1!L123,T3_R2!L123)","v":0},{"$f":"MAX('MDA1'!L123,'MDA4'!T123,'MDA3'!J123,'MDA3'!M123,'T1'!N123,'T2'!L123,T3_R1!M123,T3_R2!M123)","v":0},0,{"$f":"MAX('MDA4'!R123,T123)","v":0},{"$f":"MAX('MDA1'!K123,'MDA4'!S123,'MDA3'!I123,'MDA3'!L123,V123,AD123)","v":0},{"$f":"MAX('MDA1'!L123,'MDA4'!T123,'MDA3'!J123,'MDA3'!M123,AF123)","v":0},0,0]
[{"$f":"IF(COUNTRY_INFO!A124=0,\" \",COUNTRY_INFO!A124)","v":"Angola"},{"$f":"IF(COUNTRY_INFO!B124=0,\" \",COUNTRY_INFO!B124)","v":"MALANJE"},{"$f":"IF(COUNTRY_INFO!C124=0,\" \",COUNTRY_INFO!C124)","v":"CACUSO"},{"$f":"COUNTRY_INFO!M124","v":0},null,null,{"$f":"MAX('MDA1'!M124,'MDA4'!U124)","v":0},{"$f":"IF(AND(COUNTRY_INFO!H124>0,COUNTRY_INFO!H124<4),IF(D124>MAX('MDA1'!M124,'MDA4'!U124),MAX('MDA1'!M124,'MDA4'!U124),D124),0)","v":0},{"$f":"IF(AND(COUNTRY_INFO!H124>0,COUNTRY_INFO!H124<4), IF(G124/D124*100<>0, IF(G124/D124*100>100,100,G124/D124*100), \"-\"),0)","v":0},{"$f":"COUNTRY_INFO!N124","v":"Unknown"},null,null,{"$f":"MAX('MDA1'!M124,MAX('MDA3'!I124,'MDA3'!L124)+MAX('MDA3'!J124,'MDA3'!M124))","v":0},{"$f":"IF(AND(COUNTRY_INFO!I124>0,COUNTRY_INFO!I124<4),IF(J124>MAX('MDA1'!M124,MAX('MDA3'!I124,'MDA3'!L124)+MAX('MDA3'!J124,'MDA3'!M124)),MAX('MDA1'!M124,MAX('MDA3'!I124,'MDA3'!L124)+MAX('MDA3'!J124,'MDA3'!M124)),J124),0)","v":0},{"$f":"IF(AND(COUNTRY_INFO!I124>0,COUNTRY_INFO!I124<4), IF(M124/J124*100<>0, IF(M124/J124*100>100,100,M124/J124*100), \"-\"),0)","v":0},{"$f":"COUNTRY_INFO!O124","v":36821},null,null,{"$f":"SUM(MAX('MDA4'!R124, 'T1'!L124, MAX(T3_R1!K124, T3_R2!K124)), MAX('MDA1'!K124, 'MDA4'!S124, 'T1'!M124, MAX(T3_R1!L124, T3_R2!L124)), MAX('MDA1'!L124, 'MDA4'!T124, 'T1'!N124, MAX(T3_R1!M124, T3_R2!M124)))","v":0},{"$f":"IF(AND(COUNTRY_INFO!J124>1,COUNTRY_INFO!J124<4),IF(COUNTRY_INFO!E124>MAX('MDA4'!R124,'T1'!L124,MAX(T3_R1!K124,T3_R2!K124)),MAX('MDA4'!R124,'T1'!L124,MAX(T3_R1!K124,T3_R2!K124)),COUNTRY_INFO!E124),0)","v":0},{"$f":"IF(AND(COUNTRY_INFO!J124>1,COUNTRY_INFO!J124<4), IF(T124/COUNTRY_INFO!E124*100<>0, IF(T124/COUNTRY_INFO!E124*100>100,100,T124/COUNTRY_INFO!E124*100), \"-\"),0)","v":"-"},{"$f":"IF(AND(COUNTRY_INFO!J124>1,COUNTRY_INFO!J124<4),IF(COUNTRY_INFO!F124>MAX('MDA1'!K124,'MDA4'!S124,'T1'!M124,MAX(T3_R1!L124,T3_R2!L124)),MAX('MDA1'!K124,'MDA4'!S124,'T1'!M124,MAX(T3_R1!L124,T3_R2!L124)),COUNTRY_INFO!F124),0)","v":0},{"$f":"IF(AND(COUNTRY_INFO!J124>1,COUNTRY_INFO!J124<4), IF(V124/COUNTRY_INFO!F124*100<>0, IF(V124/COUNTRY_INFO!F124*100>100,100,V124/COUNTRY_INFO!F124*100), \"-\"),0)","v":"-"},0,{"$f":"IF(AND(COUNTRY_INFO!J124>1,COUNTRY_INFO!J124<4), IF(S124/P124*100<>0, IF(X124/P124*100>100,100,X124/P124*100), \"-\"),0)","v":"-"},{"$f":"COUNTRY_INFO!P124","v":20541.099999999999},null,null,{"$f":"MAX('T1'!L124,'T2'!J124)+MAX('T1'!M124,'T2'!K124)+MAX('T1'!N124,'T2'!L124)","v":0},{"$f":"IF(COUNTRY_INFO!K124=1,IF(COUNTRY_INFO!F124*0.33>MAX('T1'!M124,'T2'!K124),MAX('T1'!M124,'T2'!K124),COUNTRY_INFO!F124*0.33),IF(COUNTRY_INFO!K124=2,IF(COUNTRY_INFO!F124*0.5>MAX('T1'!M124,'T2'!K124),MAX('T1'!M124,'T2'!K124),COUNTRY_INFO!F124*0.5),IF(COUNTRY_INFO!K124=3,IF(COUNTRY_INFO!F124>MAX('T1'!M124,'T2'!K124),MAX('T1'!M124,'T2'!K124),COUNTRY_INFO!F124),0)))","v":0},{"$f":"IF(AND(COUNTRY_INFO!K124>0,COUNTRY_INFO!L124<4),IF(Z124>0,IF(COUNTRY_INFO!K124=1, AD124/(COUNTRY_INFO!F124*0.33)*100, IF(COUNTRY_INFO!K124=2, AD124/(COUNTRY_INFO!F124*0.5)*100, IF(COUNTRY_INFO!K124=3, AD124/COUNTRY_INFO!F124*100))),\"-\"),0)","v":0},{"$f":"IF(COUNTRY_INFO!K124=2,IF(COUNTRY_INFO!G124*0.2>MAX('T1'!N124,'T2'!L124),MAX('T1'!N124,'T2'!L124),COUNTRY_INFO!G124*0.2),IF(COUNTRY_INFO!K124=3,IF(COUNTRY_INFO!G124>MAX('T1'!N124,'T2'!L124),MAX('T1'!N124,'T2'!L124),COUNTRY_INFO!G124),0))","v":0},{"$f":"IF(AND(COUNTRY_INFO!K124>0,COUNTRY_INFO!L124<4),IF(Z124>0,IF(COUNTRY_INFO!K124=1, 0, IF(COUNTRY_INFO!K124=2, AF124/(COUNTRY_INFO!G124*0.2)*100, IF(COUNTRY_INFO!K124=3, AF124/COUNTRY_INFO!G124*100))),\"-\"),0)","v":0},0,{"$f":"IF(AND(COUNTRY_INFO!K124>0,COUNTRY_INFO!K124<4), IF(AC124/Z124*100<>0, IF(AH124/Z124*100>100,100,AH124/Z124*100), \"-\"),0)","v":"-"},null,{"$f":"IF(AND(D124<>0, D124<>\"Unknown\",D124<>\"Stopped\",D124<>\"Not required\"),D124/COUNTRY_INFO!D124, 0)","v":0},{"$f":"IF(AND(J124<>0,J124<>\"Unknown\",J124<>\"Stopped\",J124<>\"Not required\"),J124/COUNTRY_INFO!D124, 0)","v":0},{"$f":"IF(AND(P124<>0,P124<>\"Unknown\",P124<>\"Not required\"),P124/(COUNTRY_INFO!E124+COUNTRY_INFO!F124), 0)","v":1},{"$f":"IF(AND(Z124<>0,Z124<>\"Unknown\",Z124<>\"Not required\"),IF(COUNTRY_INFO!K124=1,1,IF(COUNTRY_INFO!K124=2,0.5*COUNTRY_INFO!F124/(0.5*COUNTRY_INFO!F124+0.2*COUNTRY_INFO!G124),IF(COUNTRY_INFO!K124=3,COUNTRY_INFO!F124/(COUNTRY_INFO!F124+COUNTRY_INFO!G124)))),0)","v":0.56961409077410663},{"$f":"IF(AND(Z124<>0,Z124<>\"Unknown\",Z124<>\"Not required\"),IF(COUNTRY_INFO!K124=1,0,IF(COUNTRY_INFO!K124=2,0.2*COUNTRY_INFO!G124/(0.5*COUNTRY_INFO!F124+0.2*COUNTRY_INFO!G124),IF(COUNTRY_INFO!K124=3,COUNTRY_INFO!G124/(COUNTRY_INFO!F124+COUNTRY_INFO!G124)))),0)","v":0.43038590922589348},{"$f":"MAX(COUNTRY_INFO!D124*AK124*PROFILE!$G$7,COUNTRY_INFO!D124*AL124*PROFILE!$G$7)","v":0},{"$f":"MAX(COUNTRY_INFO!D124*AK124*PROFILE!$G$8,COUNTRY_INFO!D124*AL124*PROFILE!$G$8,COUNTRY_INFO!D124*AM124*PROFILE!$G$8)","v":13420.144430300288},{"$f":"MAX(COUNTRY_INFO!D124*AK124*PROFILE!$G$9,COUNTRY_INFO!D124*AL124*PROFILE!$G$9,COUNTRY_INFO!D124*AM124*PROFILE!$G$9,IF(AND(DISTRICT!Z124<>\"Unknown\",Z124<>\"Not required\"),COUNTRY_INFO!P124*DISTRICT!AN124,0))","v":23401.388040532715},{"$f":"MAX(COUNTRY_INFO!D124*AK124*PROFILE!$G$10,COUNTRY_INFO!D124*AL124*PROFILE!$G$10,IF(AND(DISTRICT!Z124<>\"Unknown\",Z124<>\"Not required\"),COUNTRY_INFO!P124*DISTRICT!AO124,0))","v":8840.6},45662.132470832999,0,{"$f":"MAX('MDA4'!R124,'T1'!L124,'T2'!J124,T3_R1!K124,T3_R2!K124)","v":0},{"$f":"MAX('MDA1'!K124,'MDA4'!S124,'MDA3'!I124,'MDA3'!L124,'T1'!M124,'T2'!K124,T3_R1!L124,T3_R2!L124)","v":0},{"$f":"MAX('MDA1'!L124,'MDA4'!T124,'MDA3'!J124,'MDA3'!M124,'T1'!N124,'T2'!L124,T3_R1!M124,T3_R2!M124)","v":0},0,{"$f":"MAX('MDA4'!R124,T124)","v":0},{"$f":"MAX('MDA1'!K124,'MDA4'!S124,'MDA3'!I124,'MDA3'!L124,V124,AD124)","v":0},{"$f":"MAX('MDA1'!L124,'MDA4'!T124,'MDA3'!J124,'MDA3'!M124,AF124)","v":0},0,0]
[{"$f":"IF(COUNTRY_INFO!A125=0,\" \",COUNTRY_INFO!A125)","v":"Angola"},{"$f":"IF(COUNTRY_INFO!B125=0,\" \",COUNTRY_INFO!B125)","v":"MALANJE"},{"$f":"IF(COUNTRY_INFO!C125=0,\" \",COUNTRY_INFO!C125)","v":"CAHOMBO"},{"$f":"COUNTRY_INFO!M125","v":0},null,null,{"$f":"MAX('MDA1'!M125,'MDA4'!U125)","v":0},{"$f":"IF(AND(COUNTRY_INFO!H125>0,COUNTRY_INFO!H125<4),IF(D125>MAX('MDA1'!M125,'MDA4'!U125),MAX('MDA1'!M125,'MDA4'!U125),D125),0)","v":0},{"$f":"IF(AND(COUNTRY_INFO!H125>0,COUNTRY_INFO!H125<4), IF(G125/D125*100<>0, IF(G125/D125*100>100,100,G125/D125*100), \"-\"),0)","v":0},{"$f":"COUNTRY_INFO!N125","v":"Unknown"},null,null,{"$f":"MAX('MDA1'!M125,MAX('MDA3'!I125,'MDA3'!L125)+MAX('MDA3'!J125,'MDA3'!M125))","v":0},{"$f":"IF(AND(COUNTRY_INFO!I125>0,COUNTRY_INFO!I125<4),IF(J125>MAX('MDA1'!M125,MAX('MDA3'!I125,'MDA3'!L125)+MAX('MDA3'!J125,'MDA3'!M125)),MAX('MDA1'!M125,MAX('MDA3'!I125,'MDA3'!L125)+MAX('MDA3'!J125,'MDA3'!M125)),J125),0)","v":0},{"$f":"IF(AND(COUNTRY_INFO!I125>0,COUNTRY_INFO!I125<4), IF(M125/J125*100<>0, IF(M125/J125*100>100,100,M125/J125*100), \"-\"),0)","v":0},{"$f":"COUNTRY_INFO!O125","v":11080},null,null,{"$f":"SUM(MAX('MDA4'!R125, 'T1'!L125, MAX(T3_R1!K125, T3_R2!K125)), MAX('MDA1'!K125, 'MDA4'!S125, 'T1'!M125, MAX(T3_R1!L125, T3_R2!L125)), MAX('MDA1'!L125, 'MDA4'!T125, 'T1'!N125, MAX(T3_R1!M125, T3_R2!M125)))","v":0},{"$f":"IF(AND(COUNTRY_INFO!J125>1,COUNTRY_INFO!J125<4),IF(COUNTRY_INFO!E125>MAX('MDA4'!R125,'T1'!L125,MAX(T3_R1!K125,T3_R2!K125)),MAX('MDA4'!R125,'T1'!L125,MAX(T3_R1!K125,T3_R2!K125)),COUNTRY_INFO!E125),0)","v":0},{"$f":"IF(AND(COUNTRY_INFO!J125>1,COUNTRY_INFO!J125<4), IF(T125/COUNTRY_INFO!E125*100<>0, IF(T125/COUNTRY_INFO!E125*100>100,100,T125/COUNTRY_INFO!E125*100), \"-\"),0)","v":"-"},{"$f":"IF(AND(COUNTRY_INFO!J125>1,COUNTRY_INFO!J125<4),IF(COUNTRY_INFO!F125>MAX('MDA1'!K125,'MDA4'!S125,'T1'!M125,MAX(T3_R1!L125,T3_R2!L125)),MAX('MDA1'!K125,'MDA4'!S125,'T1'!M125,MAX(T3_R1!L125,T3_R2!L125)),COUNTRY_INFO!F125),0)","v":0},{"$f":"IF(AND(COUNTRY_INFO!J125>1,COUNTRY_INFO!J125<4), IF(V125/COUNTRY_INFO!F125*100<>0, IF(V125/COUNTRY_INFO!F125*100>100,100,V125/COUNTRY_INFO!F125*100), \"-\"),0)","v":"-"},0,{"$f":"IF(AND(COUNTRY_INFO!J125>1,COUNTRY_INFO!J125<4), IF(S125/P125*100<>0, IF(X125/P125*100>100,100,X125/P125*100), \"-\"),0)","v":"-"},{"$f":"COUNTRY_INFO!P125","v":6181.2000000000007},null,null,{"$f":"MAX('T1'!L125,'T2'!J125)+MAX('T1'!M125,'T2'!K125)+MAX('T1'!N125,'T2'!L125)","v":0},{"$f":"IF(COUNTRY_INFO!K125=1,IF(COUNTRY_INFO!F125*0.33>MAX('T1'!M125,'T2'!K125),MAX('T1'!M125,'T2'!K125),COUNTRY_INFO!F125*0.33),IF(COUNTRY_INFO!K125=2,IF(COUNTRY_INFO!F125*0.5>MAX('T1'!M125,'T2'!K125),MAX('T1'!M125,'T2'!K125),COUNTRY_INFO!F125*0.5),IF(COUNTRY_INFO!K125=3,IF(COUNTRY_INFO!F125>MAX('T1'!M125,'T2'!K125),MAX('T1'!M125,'T2'!K125),COUNTRY_INFO!F125),0)))","v":0},{"$f":"IF(AND(COUNTRY_INFO!K125>0,COUNTRY_INFO!L125<4),IF(Z125>0,IF(COUNTRY_INFO!K125=1, AD125/(COUNTRY_INFO!F125*0.33)*100, IF(COUNTRY_INFO!K125=2, AD125/(COUNTRY_INFO!F125*0.5)*100, IF(COUNTRY_INFO!K125=3, AD125/COUNTRY_INFO!F125*100))),\"-\"),0)","v":0},{"$f":"IF(COUNTRY_INFO!K125=2,IF(COUNTRY_INFO!G125*0.2>MAX('T1'!N125,'T2'!L125),MAX('T1'!N125,'T2'!L125),COUNTRY_INFO!G125*0.2),IF(COUNTRY_INFO!K125=3,IF(COUNTRY_INFO!G125>MAX('T1'!N125,'T2'!L125),MAX('T1'!N125,'T2'!L125),COUNTRY_INFO!G125),0))","v":0},{"$f":"IF(AND(COUNTRY_INFO!K125>0,COUNTRY_INFO!L125<4),IF(Z125>0,IF(COUNTRY_INFO!K125=1, 0, IF(COUNTRY_INFO!K125=2, AF125/(COUNTRY_INFO!G125*0.2)*100, IF(COUNTRY_INFO!K125=3, AF125/COUNTRY_INFO!G125*100))),\"-\"),0)","v":0},0,{"$f":"IF(AND(COUNTRY_INFO!K125>0,COUNTRY_INFO!K125<4), IF(AC125/Z125*100<>0, IF(AH125/Z125*100>100,100,AH125/Z125*100), \"-\"),0)","v":"-"},null,{"$f":"IF(AND(D125<>0, D125<>\"Unknown\",D125<>\"Stopped\",D125<>\"Not required\"),D125/COUNTRY_INFO!D125, 0)","v":0},{"$f":"IF(AND(J125<>0,J125<>\"Unknown\",J125<>\"Stopped\",J125<>\"Not required\"),J125/COUNTRY_INFO!D125, 0)","v":0},{"$f":"IF(AND(P125<>0,P125<>\"Unknown\",P125<>\"Not required\"),P125/(COUNTRY_INFO!E125+COUNTRY_INFO!F125), 0)","v":1},{"$f":"IF(AND(Z125<>0,Z125<>\"Unknown\",Z125<>\"Not required\"),IF(COUNTRY_INFO!K125=1,1,IF(COUNTRY_INFO!K125=2,0.5*COUNTRY_INFO!F125/(0.5*COUNTRY_INFO!F125+0.2*COUNTRY_INFO!G125),IF(COUNTRY_INFO!K125=3,COUNTRY_INFO!F125/(COUNTRY_INFO!F125+COUNTRY_INFO!G125)))),0)","v":0.56963049246101072},{"$f":"IF(AND(Z125<>0,Z125<>\"Unknown\",Z125<>\"Not required\"),IF(COUNTRY_INFO!K125=1,0,IF(COUNTRY_INFO!K125=2,0.2*COUNTRY_INFO!G125/(0.5*COUNTRY_INFO!F125+0.2*COUNTRY_INFO!G125),IF(COUNTRY_INFO!K125=3,COUNTRY_INFO!G125/(COUNTRY_INFO!F125+COUNTRY_INFO!G125)))),0)","v":0.43036950753898917},{"$f":"MAX(COUNTRY_INFO!D125*AK125*PROFILE!$G$7,COUNTRY_INFO!D125*AL125*PROFILE!$G$7)","v":0},{"$f":"MAX(COUNTRY_INFO!D125*AK125*PROFILE!$G$8,COUNTRY_INFO!D125*AL125*PROFILE!$G$8,COUNTRY_INFO!D125*AM125*PROFILE!$G$8)","v":4038.3398872517237},{"$f":"MAX(COUNTRY_INFO!D125*AK125*PROFILE!$G$9,COUNTRY_INFO!D125*AL125*PROFILE!$G$9,COUNTRY_INFO!D125*AM125*PROFILE!$G$9,IF(AND(DISTRICT!Z125<>\"Unknown\",Z125<>\"Not required\"),COUNTRY_INFO!P125*DISTRICT!AN125,0))","v":7041.8585457074805},{"$f":"MAX(COUNTRY_INFO!D125*AK125*PROFILE!$G$10,COUNTRY_INFO!D125*AL125*PROFILE!$G$10,IF(AND(DISTRICT!Z125<>\"Unknown\",Z125<>\"Not required\"),COUNTRY_INFO!P125*DISTRICT!AO125,0))","v":2660.2000000000003},13740.398432959206,0,{"$f":"MAX('MDA4'!R125,'T1'!L125,'T2'!J125,T3_R1!K125,T3_R2!K125)","v":0},{"$f":"MAX('MDA1'!K125,'MDA4'!S125,'MDA3'!I125,'MDA3'!L125,'T1'!M125,'T2'!K125,T3_R1!L125,T3_R2!L125)","v":0},{"$f":"MAX('MDA1'!L125,'MDA4'!T125,'MDA3'!J125,'MDA3'!M125,'T1'!N125,'T2'!L125,T3_R1!M125,T3_R2!M125)","v":0},0,{"$f":"MAX('MDA4'!R125,T125)","v":0},{"$f":"MAX('MDA1'!K125,'MDA4'!S125,'MDA3'!I125,'MDA3'!L125,V125,AD125)","v":0},{"$f":"MAX('MDA1'!L125,'MDA4'!T125,'MDA3'!J125,'MDA3'!M125,AF125)","v":0},0,0]
[{"$f":"IF(COUNTRY_INFO!A126=0,\" \",COUNTRY_INFO!A126)","v":"Angola"},{"$f":"IF(COUNTRY_INFO!B126=0,\" \",COUNTRY_INFO!B126)","v":"MALANJE"},{"$f":"IF(COUNTRY_INFO!C126=0,\" \",COUNTRY_INFO!C126)","v":"CALANDULA"},{"$f":"COUNTRY_INFO!M126","v":0},null,null,{"$f":"MAX('MDA1'!M126,'MDA4'!U126)","v":0},{"$f":"IF(AND(COUNTRY_INFO!H126>0,COUNTRY_INFO!H126<4),IF(D126>MAX('MDA1'!M126,'MDA4'!U126),MAX('MDA1'!M126,'MDA4'!U126),D126),0)","v":0},{"$f":"IF(AND(COUNTRY_INFO!H126>0,COUNTRY_INFO!H126<4), IF(G126/D126*100<>0, IF(G126/D126*100>100,100,G126/D126*100), \"-\"),0)","v":0},{"$f":"COUNTRY_INFO!N126","v":"Unknown"},null,null,{"$f":"MAX('MDA1'!M126,MAX('MDA3'!I126,'MDA3'!L126)+MAX('MDA3'!J126,'MDA3'!M126))","v":0},{"$f":"IF(AND(COUNTRY_INFO!I126>0,COUNTRY_INFO!I126<4),IF(J126>MAX('MDA1'!M126,MAX('MDA3'!I126,'MDA3'!L126)+MAX('MDA3'!J126,'MDA3'!M126)),MAX('MDA1'!M126,MAX('MDA3'!I126,'MDA3'!L126)+MAX('MDA3'!J126,'MDA3'!M126)),J126),0)","v":0},{"$f":"IF(AND(COUNTRY_INFO!I126>0,COUNTRY_INFO!I126<4), IF(M126/J126*100<>0, IF(M126/J126*100>100,100,M126/J126*100), \"-\"),0)","v":0},{"$f":"COUNTRY_INFO!O126","v":41422},null,null,{"$f":"SUM(MAX('MDA4'!R126, 'T1'!L126, MAX(T3_R1!K126, T3_R2!K126)), MAX('MDA1'!K126, 'MDA4'!S126, 'T1'!M126, MAX(T3_R1!L126, T3_R2!L126)), MAX('MDA1'!L126, 'MDA4'!T126, 'T1'!N126, MAX(T3_R1!M126, T3_R2!M126)))","v":0},{"$f":"IF(AND(COUNTRY_INFO!J126>1,COUNTRY_INFO!J126<4),IF(COUNTRY_INFO!E126>MAX('MDA4'!R126,'T1'!L126,MAX(T3_R1!K126,T3_R2!K126)),MAX('MDA4'!R126,'T1'!L126,MAX(T3_R1!K126,T3_R2!K126)),COUNTRY_INFO!E126),0)","v":0},{"$f":"IF(AND(COUNTRY_INFO!J126>1,COUNTRY_INFO!J126<4), IF(T126/COUNTRY_INFO!E126*100<>0, IF(T126/COUNTRY_INFO!E126*100>100,100,T126/COUNTRY_INFO!E126*100), \"-\"),0)","v":"-"},{"$f":"IF(AND(COUNTRY_INFO!J126>1,COUNTRY_INFO!J126<4),IF(COUNTRY_INFO!F126>MAX('MDA1'!K126,'MDA4'!S126,'T1'!M126,MAX(T3_R1!L126,T3_R2!L126)),MAX('MDA1'!K126,'MDA4'!S126,'T1'!M126,MAX(T3_R1!L126,T3_R2!L126)),COUNTRY_INFO!F126),0)","v":0},{"$f":"IF(AND(COUNTRY_INFO!J126>1,COUNTRY_INFO!J126<4), IF(V126/COUNTRY_INFO!F126*100<>0, IF(V126/COUNTRY_INFO!F126*100>100,100,V126/COUNTRY_INFO!F126*100), \"-\"),0)","v":"-"},0,{"$f":"IF(AND(COUNTRY_INFO!J126>1,COUNTRY_INFO!J126<4), IF(S126/P126*100<>0, IF(X126/P126*100>100,100,X126/P126*100), \"-\"),0)","v":"-"},{"$f":"COUNTRY_INFO!P126","v":23107.300000000003},null,null,{"$f":"MAX('T1'!L126,'T2'!J126)+MAX('T1'!M126,'T2'!K126)+MAX('T1'!N126,'T2'!L126)","v":0},{"$f":"IF(COUNTRY_INFO!K126=1,IF(COUNTRY_INFO!F126*0.33>MAX('T1'!M126,'T2'!K126),MAX('T1'!M126,'T2'!K126),COUNTRY_INFO!F126*0.33),IF(COUNTRY_INFO!K126=2,IF(COUNTRY_INFO!F126*0.5>MAX('T1'!M126,'T2'!K126),MAX('T1'!M126,'T2'!K126),COUNTRY_INFO!F126*0.5),IF(COUNTRY_INFO!K126=3,IF(COUNTRY_INFO!F126>MAX('T1'!M126,'T2'!K126),MAX('T1'!M126,'T2'!K126),COUNTRY_INFO!F126),0)))","v":0},{"$f":"IF(AND(COUNTRY_INFO!K126>0,COUNTRY_INFO!L126<4),IF(Z126>0,IF(COUNTRY_INFO!K126=1, AD126/(COUNTRY_INFO!F126*0.33)*100, IF(COUNTRY_INFO!K126=2, AD126/(COUNTRY_INFO!F126*0.5)*100, IF(COUNTRY_INFO!K126=3, AD126/COUNTRY_INFO!F126*100))),\"-\"),0)","v":0},{"$f":"IF(COUNTRY_INFO!K126=2,IF(COUNTRY_INFO!G126*0.2>MAX('T1'!N126,'T2'!L126),MAX('T1'!N126,'T2'!L126),COUNTRY_INFO!G126*0.2),IF(COUNTRY_INFO!K126=3,IF(COUNTRY_INFO!G126>MAX('T1'!N126,'T2'!L126),MAX('T1'!N126,'T2'!L126),COUNTRY_INFO!G126),0))","v":0},{"$f":"IF(AND(COUNTRY_INFO!K126>0,COUNTRY_INFO!L126<4),IF(Z126>0,IF(COUNTRY_INFO!K126=1, 0, IF(COUNTRY_INFO!K126=2, AF126/(COUNTRY_INFO!G126*0.2)*100, IF(COUNTRY_INFO!K126=3, AF126/COUNTRY_INFO!G126*100))),\"-\"),0)","v":0},0,{"$f":"IF(AND(COUNTRY_INFO!K126>0,COUNTRY_INFO!K126<4), IF(AC126/Z126*100<>0, IF(AH126/Z126*100>100,100,AH126/Z126*100), \"-\"),0)","v":"-"},null,{"$f":"IF(AND(D126<>0, D126<>\"Unknown\",D126<>\"Stopped\",D126<>\"Not required\"),D126/COUNTRY_INFO!D126, 0)","v":0},{"$f":"IF(AND(J126<>0,J126<>\"Unknown\",J126<>\"Stopped\",J126<>\"Not required\"),J126/COUNTRY_INFO!D126, 0)","v":0},{"$f":"IF(AND(P126<>0,P126<>\"Unknown\",P126<>\"Not required\"),P126/(COUNTRY_INFO!E126+COUNTRY_INFO!F126), 0)","v":1},{"$f":"IF(AND(Z126<>0,Z126<>\"Unknown\",Z126<>\"Not required\"),IF(COUNTRY_INFO!K126=1,1,IF(COUNTRY_INFO!K126=2,0.5*COUNTRY_INFO!F126/(0.5*COUNTRY_INFO!F126+0.2*COUNTRY_INFO!G126),IF(COUNTRY_INFO!K126=3,COUNTRY_INFO!F126/(COUNTRY_INFO!F126+COUNTRY_INFO!G126)))),0)","v":0.56962518338360602},{"$f":"IF(AND(Z126<>0,Z126<>\"Unknown\",Z126<>\"Not required\"),IF(COUNTRY_INFO!K126=1,0,IF(COUNTRY_INFO!K126=2,0.2*COUNTRY_INFO!G126/(0.5*COUNTRY_INFO!F126+0.2*COUNTRY_INFO!G126),IF(COUNTRY_INFO!K126=3,COUNTRY_INFO!G126/(COUNTRY_INFO!F126+COUNTRY_INFO!G126)))),0)","v":0.43037481661639393},{"$f":"MAX(COUNTRY_INFO!D126*AK126*PROFILE!$G$7,COUNTRY_INFO!D126*AL126*PROFILE!$G$7)","v":0},{"$f":"MAX(COUNTRY_INFO!D126*AK126*PROFILE!$G$8,COUNTRY_INFO!D126*AL126*PROFILE!$G$8,COUNTRY_INFO!D126*AM126*PROFILE!$G$8)","v":15096.606481955623},{"$f":"MAX(COUNTRY_INFO!D126*AK126*PROFILE!$G$9,COUNTRY_INFO!D126*AL126*PROFILE!$G$9,COUNTRY_INFO!D126*AM126*PROFILE!$G$9,IF(AND(DISTRICT!Z126<>\"Unknown\",Z126<>\"Not required\"),COUNTRY_INFO!P126*DISTRICT!AN126,0))","v":26324.720141000747},{"$f":"MAX(COUNTRY_INFO!D126*AK126*PROFILE!$G$10,COUNTRY_INFO!D126*AL126*PROFILE!$G$10,IF(AND(DISTRICT!Z126<>\"Unknown\",Z126<>\"Not required\"),COUNTRY_INFO!P126*DISTRICT!AO126,0))","v":9944.8000000000011},51366.126622956377,0,{"$f":"MAX('MDA4'!R126,'T1'!L126,'T2'!J126,T3_R1!K126,T3_R2!K126)","v":0},{"$f":"MAX('MDA1'!K126,'MDA4'!S126,'MDA3'!I126,'MDA3'!L126,'T1'!M126,'T2'!K126,T3_R1!L126,T3_R2!L126)","v":0},{"$f":"MAX('MDA1'!L126,'MDA4'!T126,'MDA3'!J126,'MDA3'!M126,'T1'!N126,'T2'!L126,T3_R1!M126,T3_R2!M126)","v":0},0,{"$f":"MAX('MDA4'!R126,T126)","v":0},{"$f":"MAX('MDA1'!K126,'MDA4'!S126,'MDA3'!I126,'MDA3'!L126,V126,AD126)","v":0},{"$f":"MAX('MDA1'!L126,'MDA4'!T126,'MDA3'!J126,'MDA3'!M126,AF126)","v":0},0,0]
[{"$f":"IF(COUNTRY_INFO!A127=0,\" \",COUNTRY_INFO!A127)","v":"Angola"},{"$f":"IF(COUNTRY_INFO!B127=0,\" \",COUNTRY_INFO!B127)","v":"MALANJE"},{"$f":"IF(COUNTRY_INFO!C127=0,\" \",COUNTRY_INFO!C127)","v":"CAMBUNDI CATEMBO"},{"$f":"COUNTRY_INFO!M127","v":0},null,null,{"$f":"MAX('MDA1'!M127,'MDA4'!U127)","v":0},{"$f":"IF(AND(COUNTRY_INFO!H127>0,COUNTRY_INFO!H127<4),IF(D127>MAX('MDA1'!M127,'MDA4'!U127),MAX('MDA1'!M127,'MDA4'!U127),D127),0)","v":0},{"$f":"IF(AND(COUNTRY_INFO!H127>0,COUNTRY_INFO!H127<4), IF(G127/D127*100<>0, IF(G127/D127*100>100,100,G127/D127*100), \"-\"),0)","v":0},{"$f":"COUNTRY_INFO!N127","v":"Unknown"},null,null,{"$f":"MAX('MDA1'!M127,MAX('MDA3'!I127,'MDA3'!L127)+MAX('MDA3'!J127,'MDA3'!M127))","v":0},{"$f":"IF(AND(COUNTRY_INFO!I127>0,COUNTRY_INFO!I127<4),IF(J127>MAX('MDA1'!M127,MAX('MDA3'!I127,'MDA3'!L127)+MAX('MDA3'!J127,'MDA3'!M127)),MAX('MDA1'!M127,MAX('MDA3'!I127,'MDA3'!L127)+MAX('MDA3'!J127,'MDA3'!M127)),J127),0)","v":0},{"$f":"IF(AND(COUNTRY_INFO!I127>0,COUNTRY_INFO!I127<4), IF(M127/J127*100<>0, IF(M127/J127*100>100,100,M127/J127*100), \"-\"),0)","v":0},{"$f":"COUNTRY_INFO!O127","v":23855},null,null,{"$f":"SUM(MAX('MDA4'!R127, 'T1'!L127, MAX(T3_R1!K127, T3_R2!K127)), MAX('MDA1'!K127, 'MDA4'!S127, 'T1'!M127, MAX(T3_R1!L127, T3_R2!L127)), MAX('MDA1'!L127, 'MDA4'!T127, 'T1'!N127, MAX(T3_R1!M127, T3_R2!M127)))","v":0},{"$f":"IF(AND(COUNTRY_INFO!J127>1,COUNTRY_INFO!J127<4),IF(COUNTRY_INFO!E127>MAX('MDA4'!R127,'T1'!L127,MAX(T3_R1!K127,T3_R2!K127)),MAX('MDA4'!R127,'T1'!L127,MAX(T3_R1!K127,T3_R2!K127)),COUNTRY_INFO!E127),0)","v":0},{"$f":"IF(AND(COUNTRY_INFO!J127>1,COUNTRY_INFO!J127<4), IF(T127/COUNTRY_INFO!E127*100<>0, IF(T127/COUNTRY_INFO!E127*100>100,100,T127/COUNTRY_INFO!E127*100), \"-\"),0)","v":"-"},{"$f":"IF(AND(COUNTRY_INFO!J127>1,COUNTRY_INFO!J127<4),IF(COUNTRY_INFO!F127>MAX('MDA1'!K127,'MDA4'!S127,'T1'!M127,MAX(T3_R1!L127,T3_R2!L127)),MAX('MDA1'!K127,'MDA4'!S127,'T1'!M127,MAX(T3_R1!L127,T3_R2!L127)),COUNTRY_INFO!F127),0)","v":0},{"$f":"IF(AND(COUNTRY_INFO!J127>1,COUNTRY_INFO!J127<4), IF(V127/COUNTRY_INFO!F127*100<>0, IF(V127/COUNTRY_INFO!F127*100>100,100,V127/COUNTRY_INFO!F127*100), \"-\"),0)","v":"-"},0,{"$f":"IF(AND(COUNTRY_INFO!J127>1,COUNTRY_INFO!J127<4), IF(S127/P127*100<>0, IF(X127/P127*100>100,100,X127/P127*100), \"-\"),0)","v":"-"},{"$f":"COUNTRY_INFO!P127","v":13307.900000000001},null,null,{"$f":"MAX('T1'!L127,'T2'!J127)+MAX('T1'!M127,'T2'!K127)+MAX('T1'!N127,'T2'!L127)","v":0},{"$f":"IF(COUNTRY_INFO!K127=1,IF(COUNTRY_INFO!F127*0.33>MAX('T1'!M127,'T2'!K127),MAX('T1'!M127,'T2'!K127),COUNTRY_INFO!F127*0.33),IF(COUNTRY_INFO!K127=2,IF(COUNTRY_INFO!F127*0.5>MAX('T1'!M127,'T2'!K127),MAX('T1'!M127,'T2'!K127),COUNTRY_INFO!F127*0.5),IF(COUNTRY_INFO!K127=3,IF(COUNTRY_INFO!F127>MAX('T1'!M127,'T2'!K127),MAX('T1'!M127,'T2'!K127),COUNTRY_INFO!F127),0)))","v":0},{"$f":"IF(AND(COUNTRY_INFO!K127>0,COUNTRY_INFO!L127<4),IF(Z127>0,IF(COUNTRY_INFO!K127=1, AD127/(COUNTRY_INFO!F127*0.33)*100, IF(COUNTRY_INFO!K127=2, AD127/(COUNTRY_INFO!F127*0.5)*100, IF(COUNTRY_INFO!K127=3, AD127/COUNTRY_INFO!F127*100))),\"-\"),0)","v":0},{"$f":"IF(COUNTRY_INFO!K127=2,IF(COUNTRY_INFO!G127*0.2>MAX('T1'!N127,'T2'!L127),MAX('T1'!N127,'T2'!L127),COUNTRY_INFO!G127*0.2),IF(COUNTRY_INFO!K127=3,IF(COUNTRY_INFO!G127>MAX('T1'!N127,'T2'!L127),MAX('T1'!N127,'T2'!L127),COUNTRY_INFO!G127),0))","v":0},{"$f":"IF(AND(COUNTRY_INFO!K127>0,COUNTRY_INFO!L127<4),IF(Z127>0,IF(COUNTRY_INFO!K127=1, 0, IF(COUNTRY_INFO!K127=2, AF127/(COUNTRY_INFO!G127*0.2)*100, IF(COUNTRY_INFO!K127=3, AF127/COUNTRY_INFO!G127*100))),\"-\"),0)","v":0},0,{"$f":"IF(AND(COUNTRY_INFO!K127>0,COUNTRY_INFO!K127<4), IF(AC127/Z127*100<>0, IF(AH127/Z127*100>100,100,AH127/Z127*100), \"-\"),0)","v":"-"},null,{"$f":"IF(AND(D127<>0, D127<>\"Unknown\",D127<>\"Stopped\",D127<>\"Not required\"),D127/COUNTRY_INFO!D127, 0)","v":0},{"$f":"IF(AND(J127<>0,J127<>\"Unknown\",J127<>\"Stopped\",J127<>\"Not required\"),J127/COUNTRY_INFO!D127, 0)","v":0},{"$f":"IF(AND(P127<>0,P127<>\"Unknown\",P127<>\"Not required\"),P127/(COUNTRY_INFO!E127+COUNTRY_INFO!F127), 0)","v":1},{"$f":"IF(AND(Z127<>0,Z127<>\"Unknown\",Z127<>\"Not required\"),IF(COUNTRY_INFO!K127=1,1,IF(COUNTRY_INFO!K127=2,0.5*COUNTRY_INFO!F127/(0.5*COUNTRY_INFO!F127+0.2*COUNTRY_INFO!G127),IF(COUNTRY_INFO!K127=3,COUNTRY_INFO!F127/(COUNTRY_INFO!F127+COUNTRY_INFO!G127)))),0)","v":0.56962405789042592},{"$f":"IF(AND(Z127<>0,Z127<>\"Unknown\",Z127<>\"Not required\"),IF(COUNTRY_INFO!K127=1,0,IF(COUNTRY_INFO!K127=2,0.2*COUNTRY_INFO!G127/(0.5*COUNTRY_INFO!F127+0.2*COUNTRY_INFO!G127),IF(COUNTRY_INFO!K127=3,COUNTRY_INFO!G127/(COUNTRY_INFO!F127+COUNTRY_INFO!G127)))),0)","v":0.43037594210957403},{"$f":"MAX(COUNTRY_INFO!D127*AK127*PROFILE!$G$7,COUNTRY_INFO!D127*AL127*PROFILE!$G$7)","v":0},{"$f":"MAX(COUNTRY_INFO!D127*AK127*PROFILE!$G$8,COUNTRY_INFO!D127*AL127*PROFILE!$G$8,COUNTRY_INFO!D127*AM127*PROFILE!$G$8)","v":8694.3236882712026},{"$f":"MAX(COUNTRY_INFO!D127*AK127*PROFILE!$G$9,COUNTRY_INFO!D127*AL127*PROFILE!$G$9,COUNTRY_INFO!D127*AM127*PROFILE!$G$9,IF(AND(DISTRICT!Z127<>\"Unknown\",Z127<>\"Not required\"),COUNTRY_INFO!P127*DISTRICT!AN127,0))","v":15160.734181061078},{"$f":"MAX(COUNTRY_INFO!D127*AK127*PROFILE!$G$10,COUNTRY_INFO!D127*AL127*PROFILE!$G$10,IF(AND(DISTRICT!Z127<>\"Unknown\",Z127<>\"Not required\"),COUNTRY_INFO!P127*DISTRICT!AO127,0))","v":5727.4000000000005},29582.457869332284,0,{"$f":"MAX('MDA4'!R127,'T1'!L127,'T2'!J127,T3_R1!K127,T3_R2!K127)","v":0},{"$f":"MAX('MDA1'!K127,'MDA4'!S127,'MDA3'!I127,'MDA3'!L127,'T1'!M127,'T2'!K127,T3_R1!L127,T3_R2!L127)","v":0},{"$f":"MAX('MDA1'!L127,'MDA4'!T127,'MDA3'!J127,'MDA3'!M127,'T1'!N127,'T2'!L127,T3_R1!M127,T3_R2!M127)","v":0},0,{"$f":"MAX('MDA4'!R127,T127)","v":0},{"$f":"MAX('MDA1'!K127,'MDA4'!S127,'MDA3'!I127,'MDA3'!L127,V127,AD127)","v":0},{"$f":"MAX('MDA1'!L127,'MDA4'!T127,'MDA3'!J127,'MDA3'!M127,AF127)","v":0},0,0]
[{"$f":"IF(COUNTRY_INFO!A128=0,\" \",COUNTRY_INFO!A128)","v":"Angola"},{"$f":"IF(COUNTRY_INFO!B128=0,\" \",COUNTRY_INFO!B128)","v":"MALANJE"},{"$f":"IF(COUNTRY_INFO!C128=0,\" \",COUNTRY_INFO!C128)","v":"CANGANDALA"},{"$f":"COUNTRY_INFO!M128","v":0},null,null,{"$f":"MAX('MDA1'!M128,'MDA4'!U128)","v":0},{"$f":"IF(AND(COUNTRY_INFO!H128>0,COUNTRY_INFO!H128<4),IF(D128>MAX('MDA1'!M128,'MDA4'!U128),MAX('MDA1'!M128,'MDA4'!U128),D128),0)","v":0},{"$f":"IF(AND(COUNTRY_INFO!H128>0,COUNTRY_INFO!H128<4), IF(G128/D128*100<>0, IF(G128/D128*100>100,100,G128/D128*100), \"-\"),0)","v":0},{"$f":"COUNTRY_INFO!N128","v":"Unknown"},null,null,{"$f":"MAX('MDA1'!M128,MAX('MDA3'!I128,'MDA3'!L128)+MAX('MDA3'!J128,'MDA3'!M128))","v":0},{"$f":"IF(AND(COUNTRY_INFO!I128>0,COUNTRY_INFO!I128<4),IF(J128>MAX('MDA1'!M128,MAX('MDA3'!I128,'MDA3'!L128)+MAX('MDA3'!J128,'MDA3'!M128)),MAX('MDA1'!M128,MAX('MDA3'!I128,'MDA3'!L128)+MAX('MDA3'!J128,'MDA3'!M128)),J128),0)","v":0},{"$f":"IF(AND(COUNTRY_INFO!I128>0,COUNTRY_INFO!I128<4), IF(M128/J128*100<>0, IF(M128/J128*100>100,100,M128/J128*100), \"-\"),0)","v":0},{"$f":"COUNTRY_INFO!O128","v":23242},null,null,{"$f":"SUM(MAX('MDA4'!R128, 'T1'!L128, MAX(T3_R1!K128, T3_R2!K128)), MAX('MDA1'!K128, 'MDA4'!S128, 'T1'!M128, MAX(T3_R1!L128, T3_R2!L128)), MAX('MDA1'!L128, 'MDA4'!T128, 'T1'!N128, MAX(T3_R1!M128, T3_R2!M128)))","v":0},{"$f":"IF(AND(COUNTRY_INFO!J128>1,COUNTRY_INFO!J128<4),IF(COUNTRY_INFO!E128>MAX('MDA4'!R128,'T1'!L128,MAX(T3_R1!K128,T3_R2!K128)),MAX('MDA4'!R128,'T1'!L128,MAX(T3_R1!K128,T3_R2!K128)),COUNTRY_INFO!E128),0)","v":0},{"$f":"IF(AND(COUNTRY_INFO!J128>1,COUNTRY_INFO!J128<4), IF(T128/COUNTRY_INFO!E128*100<>0, IF(T128/COUNTRY_INFO!E128*100>100,100,T128/COUNTRY_INFO!E128*100), \"-\"),0)","v":"-"},{"$f":"IF(AND(COUNTRY_INFO!J128>1,COUNTRY_INFO!J128<4),IF(COUNTRY_INFO!F128>MAX('MDA1'!K128,'MDA4'!S128,'T1'!M128,MAX(T3_R1!L128,T3_R2!L128)),MAX('MDA1'!K128,'MDA4'!S128,'T1'!M128,MAX(T3_R1!L128,T3_R2!L128)),COUNTRY_INFO!F128),0)","v":0},{"$f":"IF(AND(COUNTRY_INFO!J128>1,COUNTRY_INFO!J128<4), IF(V128/COUNTRY_INFO!F128*100<>0, IF(V128/COUNTRY_INFO!F128*100>100,100,V128/COUNTRY_INFO!F128*100), \"-\"),0)","v":"-"},0,{"$f":"IF(AND(COUNTRY_INFO!J128>1,COUNTRY_INFO!J128<4), IF(S128/P128*100<>0, IF(X128/P128*100>100,100,X128/P128*100), \"-\"),0)","v":"-"},{"$f":"COUNTRY_INFO!P128","v":12965.5},null,null,{"$f":"MAX('T1'!L128,'T2'!J128)+MAX('T1'!M128,'T2'!K128)+MAX('T1'!N128,'T2'!L128)","v":0},{"$f":"IF(COUNTRY_INFO!K128=1,IF(COUNTRY_INFO!F128*0.33>MAX('T1'!M128,'T2'!K128),MAX('T1'!M128,'T2'!K128),COUNTRY_INFO!F128*0.33),IF(COUNTRY_INFO!K128=2,IF(COUNTRY_INFO!F128*0.5>MAX('T1'!M128,'T2'!K128),MAX('T1'!M128,'T2'!K128),COUNTRY_INFO!F128*0.5),IF(COUNTRY_INFO!K128=3,IF(COUNTRY_INFO!F128>MAX('T1'!M128,'T2'!K128),MAX('T1'!M128,'T2'!K128),COUNTRY_INFO!F128),0)))","v":0},{"$f":"IF(AND(COUNTRY_INFO!K128>0,COUNTRY_INFO!L128<4),IF(Z128>0,IF(COUNTRY_INFO!K128=1, AD128/(COUNTRY_INFO!F128*0.33)*100, IF(COUNTRY_INFO!K128=2, AD128/(COUNTRY_INFO!F128*0.5)*100, IF(COUNTRY_INFO!K128=3, AD128/COUNTRY_INFO!F128*100))),\"-\"),0)","v":0},{"$f":"IF(COUNTRY_INFO!K128=2,IF(COUNTRY_INFO!G128*0.2>MAX('T1'!N128,'T2'!L128),MAX('T1'!N128,'T2'!L128),COUNTRY_INFO!G128*0.2),IF(COUNTRY_INFO!K128=3,IF(COUNTRY_INFO!G128>MAX('T1'!N128,'T2'!L128),MAX('T1'!N128,'T2'!L128),COUNTRY_INFO!G128),0))","v":0},{"$f":"IF(AND(COUNTRY_INFO!K128>0,COUNTRY_INFO!L128<4),IF(Z128>0,IF(COUNTRY_INFO!K128=1, 0, IF(COUNTRY_INFO!K128=2, AF128/(COUNTRY_INFO!G128*0.2)*100, IF(COUNTRY_INFO!K128=3, AF128/COUNTRY_INFO!G128*100))),\"-\"),0)","v":0},0,{"$f":"IF(AND(COUNTRY_INFO!K128>0,COUNTRY_INFO!K128<4), IF(AC128/Z128*100<>0, IF(AH128/Z128*100>100,100,AH128/Z128*100), \"-\"),0)","v":"-"},null,{"$f":"IF(AND(D128<>0, D128<>\"Unknown\",D128<>\"Stopped\",D128<>\"Not required\"),D128/COUNTRY_INFO!D128, 0)","v":0},{"$f":"IF(AND(J128<>0,J128<>\"Unknown\",J128<>\"Stopped\",J128<>\"Not required\"),J128/COUNTRY_INFO!D128, 0)","v":0},{"$f":"IF(AND(P128<>0,P128<>\"Unknown\",P128<>\"Not required\"),P128/(COUNTRY_INFO!E128+COUNTRY_INFO!F128), 0)","v":1},{"$f":"IF(AND(Z128<>0,Z128<>\"Unknown\",Z128<>\"Not required\"),IF(COUNTRY_INFO!K128=1,1,IF(COUNTRY_INFO!K128=2,0.5*COUNTRY_INFO!F128/(0.5*COUNTRY_INFO!F128+0.2*COUNTRY_INFO!G128),IF(COUNTRY_INFO!K128=3,COUNTRY_INFO!F128/(COUNTRY_INFO!F128+COUNTRY_INFO!G128)))),0)","v":0.56962708727006284},{"$f":"IF(AND(Z128<>0,Z128<>\"Unknown\",Z128<>\"Not required\"),IF(COUNTRY_INFO!K128=1,0,IF(COUNTRY_INFO!K128=2,0.2*COUNTRY_INFO!G128/(0.5*COUNTRY_INFO!F128+0.2*COUNTRY_INFO!G128),IF(COUNTRY_INFO!K128=3,COUNTRY_INFO!G128/(COUNTRY_INFO!F128+COUNTRY_INFO!G128)))),0)","v":0.43037291272993716},{"$f":"MAX(COUNTRY_INFO!D128*AK128*PROFILE!$G$7,COUNTRY_INFO!D128*AL128*PROFILE!$G$7)","v":0},{"$f":"MAX(COUNTRY_INFO!D128*AK128*PROFILE!$G$8,COUNTRY_INFO!D128*AL128*PROFILE!$G$8,COUNTRY_INFO!D128*AM128*PROFILE!$G$8)","v":8470.545103100636},{"$f":"MAX(COUNTRY_INFO!D128*AK128*PROFILE!$G$9,COUNTRY_INFO!D128*AL128*PROFILE!$G$9,COUNTRY_INFO!D128*AM128*PROFILE!$G$9,IF(AND(DISTRICT!Z128<>\"Unknown\",Z128<>\"Not required\"),COUNTRY_INFO!P128*DISTRICT!AN128,0))","v":14770.520086575312},{"$f":"MAX(COUNTRY_INFO!D128*AK128*PROFILE!$G$10,COUNTRY_INFO!D128*AL128*PROFILE!$G$10,IF(AND(DISTRICT!Z128<>\"Unknown\",Z128<>\"Not required\"),COUNTRY_INFO!P128*DISTRICT!AO128,0))","v":5580},28821.065189675948,0,{"$f":"MAX('MDA4'!R128,'T1'!L128,'T2'!J128,T3_R1!K128,T3_R2!K128)","v":0},{"$f":"MAX('MDA1'!K128,'MDA4'!S128,'MDA3'!I128,'MDA3'!L128,'T1'!M128,'T2'!K128,T3_R1!L128,T3_R2!L128)","v":0},{"$f":"MAX('MDA1'!L128,'MDA4'!T128,'MDA3'!J128,'MDA3'!M128,'T1'!N128,'T2'!L128,T3_R1!M128,T3_R2!M128)","v":0},0,{"$f":"MAX('MDA4'!R128,T128)","v":0},{"$f":"MAX('MDA1'!K128,'MDA4'!S128,'MDA3'!I128,'MDA3'!L128,V128,AD128)","v":0},{"$f":"MAX('MDA1'!L128,'MDA4'!T128,'MDA3'!J128,'MDA3'!M128,AF128)","v":0},0,0]
[{"$f":"IF(COUNTRY_INFO!A129=0,\" \",COUNTRY_INFO!A129)","v":"Angola"},{"$f":"IF(COUNTRY_INFO!B129=0,\" \",COUNTRY_INFO!B129)","v":"MALANJE"},{"$f":"IF(COUNTRY_INFO!C129=0,\" \",COUNTRY_INFO!C129)","v":"KIWABA NZOJI"},{"$f":"COUNTRY_INFO!M129","v":0},null,null,{"$f":"MAX('MDA1'!M129,'MDA4'!U129)","v":0},{"$f":"IF(AND(COUNTRY_INFO!H129>0,COUNTRY_INFO!H129<4),IF(D129>MAX('MDA1'!M129,'MDA4'!U129),MAX('MDA1'!M129,'MDA4'!U129),D129),0)","v":0},{"$f":"IF(AND(COUNTRY_INFO!H129>0,COUNTRY_INFO!H129<4), IF(G129/D129*100<>0, IF(G129/D129*100>100,100,G129/D129*100), \"-\"),0)","v":0},{"$f":"COUNTRY_INFO!N129","v":"Unknown"},null,null,{"$f":"MAX('MDA1'!M129,MAX('MDA3'!I129,'MDA3'!L129)+MAX('MDA3'!J129,'MDA3'!M129))","v":0},{"$f":"IF(AND(COUNTRY_INFO!I129>0,COUNTRY_INFO!I129<4),IF(J129>MAX('MDA1'!M129,MAX('MDA3'!I129,'MDA3'!L129)+MAX('MDA3'!J129,'MDA3'!M129)),MAX('MDA1'!M129,MAX('MDA3'!I129,'MDA3'!L129)+MAX('MDA3'!J129,'MDA3'!M129)),J129),0)","v":0},{"$f":"IF(AND(COUNTRY_INFO!I129>0,COUNTRY_INFO!I129<4), IF(M129/J129*100<>0, IF(M129/J129*100>100,100,M129/J129*100), \"-\"),0)","v":0},{"$f":"COUNTRY_INFO!O129","v":8179},null,null,{"$f":"SUM(MAX('MDA4'!R129, 'T1'!L129, MAX(T3_R1!K129, T3_R2!K129)), MAX('MDA1'!K129, 'MDA4'!S129, 'T1'!M129, MAX(T3_R1!L129, T3_R2!L129)), MAX('MDA1'!L129, 'MDA4'!T129, 'T1'!N129, MAX(T3_R1!M129, T3_R2!M129)))","v":0},{"$f":"IF(AND(COUNTRY_INFO!J129>1,COUNTRY_INFO!J129<4),IF(COUNTRY_INFO!E129>MAX('MDA4'!R129,'T1'!L129,MAX(T3_R1!K129,T3_R2!K129)),MAX('MDA4'!R129,'T1'!L129,MAX(T3_R1!K129,T3_R2!K129)),COUNTRY_INFO!E129),0)","v":0},{"$f":"IF(AND(COUNTRY_INFO!J129>1,COUNTRY_INFO!J129<4), IF(T129/COUNTRY_INFO!E129*100<>0, IF(T129/COUNTRY_INFO!E129*100>100,100,T129/COUNTRY_INFO!E129*100), \"-\"),0)","v":"-"},{"$f":"IF(AND(COUNTRY_INFO!J129>1,COUNTRY_INFO!J129<4),IF(COUNTRY_INFO!F129>MAX('MDA1'!K129,'MDA4'!S129,'T1'!M129,MAX(T3_R1!L129,T3_R2!L129)),MAX('MDA1'!K129,'MDA4'!S129,'T1'!M129,MAX(T3_R1!L129,T3_R2!L129)),COUNTRY_INFO!F129),0)","v":0},{"$f":"IF(AND(COUNTRY_INFO!J129>1,COUNTRY_INFO!J129<4), IF(V129/COUNTRY_INFO!F129*100<>0, IF(V129/COUNTRY_INFO!F129*100>100,100,V129/COUNTRY_INFO!F129*100), \"-\"),0)","v":"-"},0,{"$f":"IF(AND(COUNTRY_INFO!J129>1,COUNTRY_INFO!J129<4), IF(S129/P129*100<>0, IF(X129/P129*100>100,100,X129/P129*100), \"-\"),0)","v":"-"},{"$f":"COUNTRY_INFO!P129","v":4562.8},null,null,{"$f":"MAX('T1'!L129,'T2'!J129)+MAX('T1'!M129,'T2'!K129)+MAX('T1'!N129,'T2'!L129)","v":0},{"$f":"IF(COUNTRY_INFO!K129=1,IF(COUNTRY_INFO!F129*0.33>MAX('T1'!M129,'T2'!K129),MAX('T1'!M129,'T2'!K129),COUNTRY_INFO!F129*0.33),IF(COUNTRY_INFO!K129=2,IF(COUNTRY_INFO!F129*0.5>MAX('T1'!M129,'T2'!K129),MAX('T1'!M129,'T2'!K129),COUNTRY_INFO!F129*0.5),IF(COUNTRY_INFO!K129=3,IF(COUNTRY_INFO!F129>MAX('T1'!M129,'T2'!K129),MAX('T1'!M129,'T2'!K129),COUNTRY_INFO!F129),0)))","v":0},{"$f":"IF(AND(COUNTRY_INFO!K129>0,COUNTRY_INFO!L129<4),IF(Z129>0,IF(COUNTRY_INFO!K129=1, AD129/(COUNTRY_INFO!F129*0.33)*100, IF(COUNTRY_INFO!K129=2, AD129/(COUNTRY_INFO!F129*0.5)*100, IF(COUNTRY_INFO!K129=3, AD129/COUNTRY_INFO!F129*100))),\"-\"),0)","v":0},{"$f":"IF(COUNTRY_INFO!K129=2,IF(COUNTRY_INFO!G129*0.2>MAX('T1'!N129,'T2'!L129),MAX('T1'!N129,'T2'!L129),COUNTRY_INFO!G129*0.2),IF(COUNTRY_INFO!K129=3,IF(COUNTRY_INFO!G129>MAX('T1'!N129,'T2'!L129),MAX('T1'!N129,'T2'!L129),COUNTRY_INFO!G129),0))","v":0},{"$f":"IF(AND(COUNTRY_INFO!K129>0,COUNTRY_INFO!L129<4),IF(Z129>0,IF(COUNTRY_INFO!K129=1, 0, IF(COUNTRY_INFO!K129=2, AF129/(COUNTRY_INFO!G129*0.2)*100, IF(COUNTRY_INFO!K129=3, AF129/COUNTRY_INFO!G129*100))),\"-\"),0)","v":0},0,{"$f":"IF(AND(COUNTRY_INFO!K129>0,COUNTRY_INFO!K129<4), IF(AC129/Z129*100<>0, IF(AH129/Z129*100>100,100,AH129/Z129*100), \"-\"),0)","v":"-"},null,{"$f":"IF(AND(D129<>0, D129<>\"Unknown\",D129<>\"Stopped\",D129<>\"Not required\"),D129/COUNTRY_INFO!D129, 0)","v":0},{"$f":"IF(AND(J129<>0,J129<>\"Unknown\",J129<>\"Stopped\",J129<>\"Not required\"),J129/COUNTRY_INFO!D129, 0)","v":0},{"$f":"IF(AND(P129<>0,P129<>\"Unknown\",P129<>\"Not required\"),P129/(COUNTRY_INFO!E129+COUNTRY_INFO!F129), 0)","v":1},{"$f":"IF(AND(Z129<>0,Z129<>\"Unknown\",Z129<>\"Not required\"),IF(COUNTRY_INFO!K129=1,1,IF(COUNTRY_INFO!K129=2,0.5*COUNTRY_INFO!F129/(0.5*COUNTRY_INFO!F129+0.2*COUNTRY_INFO!G129),IF(COUNTRY_INFO!K129=3,COUNTRY_INFO!F129/(COUNTRY_INFO!F129+COUNTRY_INFO!G129)))),0)","v":0.56960638204611203},{"$f":"IF(AND(Z129<>0,Z129<>\"Unknown\",Z129<>\"Not required\"),IF(COUNTRY_INFO!K129=1,0,IF(COUNTRY_INFO!K129=2,0.2*COUNTRY_INFO!G129/(0.5*COUNTRY_INFO!F129+0.2*COUNTRY_INFO!G129),IF(COUNTRY_INFO!K129=3,COUNTRY_INFO!G129/(COUNTRY_INFO!F129+COUNTRY_INFO!G129)))),0)","v":0.43039361795388797},{"$f":"MAX(COUNTRY_INFO!D129*AK129*PROFILE!$G$7,COUNTRY_INFO!D129*AL129*PROFILE!$G$7)","v":0},{"$f":"MAX(COUNTRY_INFO!D129*AK129*PROFILE!$G$8,COUNTRY_INFO!D129*AL129*PROFILE!$G$8,COUNTRY_INFO!D129*AM129*PROFILE!$G$8)","v":2981.2113527756669},{"$f":"MAX(COUNTRY_INFO!D129*AK129*PROFILE!$G$9,COUNTRY_INFO!D129*AL129*PROFILE!$G$9,COUNTRY_INFO!D129*AM129*PROFILE!$G$9,IF(AND(DISTRICT!Z129<>\"Unknown\",Z129<>\"Not required\"),COUNTRY_INFO!P129*DISTRICT!AN129,0))","v":5198.4897822432604},{"$f":"MAX(COUNTRY_INFO!D129*AK129*PROFILE!$G$10,COUNTRY_INFO!D129*AL129*PROFILE!$G$10,IF(AND(DISTRICT!Z129<>\"Unknown\",Z129<>\"Not required\"),COUNTRY_INFO!P129*DISTRICT!AO129,0))","v":1963.8000000000002},10143.501135018927,0,{"$f":"MAX('MDA4'!R129,'T1'!L129,'T2'!J129,T3_R1!K129,T3_R2!K129)","v":0},{"$f":"MAX('MDA1'!K129,'MDA4'!S129,'MDA3'!I129,'MDA3'!L129,'T1'!M129,'T2'!K129,T3_R1!L129,T3_R2!L129)","v":0},{"$f":"MAX('MDA1'!L129,'MDA4'!T129,'MDA3'!J129,'MDA3'!M129,'T1'!N129,'T2'!L129,T3_R1!M129,T3_R2!M129)","v":0},0,{"$f":"MAX('MDA4'!R129,T129)","v":0},{"$f":"MAX('MDA1'!K129,'MDA4'!S129,'MDA3'!I129,'MDA3'!L129,V129,AD129)","v":0},{"$f":"MAX('MDA1'!L129,'MDA4'!T129,'MDA3'!J129,'MDA3'!M129,AF129)","v":0},0,0]
[{"$f":"IF(COUNTRY_INFO!A130=0,\" \",COUNTRY_INFO!A130)","v":"Angola"},{"$f":"IF(COUNTRY_INFO!B130=0,\" \",COUNTRY_INFO!B130)","v":"MALANJE"},{"$f":"IF(COUNTRY_INFO!C130=0,\" \",COUNTRY_INFO!C130)","v":"KUNDA DYA BASE"},{"$f":"COUNTRY_INFO!M130","v":14807.509382369779},null,null,{"$f":"MAX('MDA1'!M130,'MDA4'!U130)","v":0},{"$f":"IF(AND(COUNTRY_INFO!H130>0,COUNTRY_INFO!H130<4),IF(D130>MAX('MDA1'!M130,'MDA4'!U130),MAX('MDA1'!M130,'MDA4'!U130),D130),0)","v":0},{"$f":"IF(AND(COUNTRY_INFO!H130>0,COUNTRY_INFO!H130<4), IF(G130/D130*100<>0, IF(G130/D130*100>100,100,G130/D130*100), \"-\"),0)","v":"-"},{"$f":"COUNTRY_INFO!N130","v":"Unknown"},null,null,{"$f":"MAX('MDA1'!M130,MAX('MDA3'!I130,'MDA3'!L130)+MAX('MDA3'!J130,'MDA3'!M130))","v":0},{"$f":"IF(AND(COUNTRY_INFO!I130>0,COUNTRY_INFO!I130<4),IF(J130>MAX('MDA1'!M130,MAX('MDA3'!I130,'MDA3'!L130)+MAX('MDA3'!J130,'MDA3'!M130)),MAX('MDA1'!M130,MAX('MDA3'!I130,'MDA3'!L130)+MAX('MDA3'!J130,'MDA3'!M130)),J130),0)","v":0},{"$f":"IF(AND(COUNTRY_INFO!I130>0,COUNTRY_INFO!I130<4), IF(M130/J130*100<>0, IF(M130/J130*100>100,100,M130/J130*100), \"-\"),0)","v":0},{"$f":"COUNTRY_INFO!O130","v":6500},null,null,{"$f":"SUM(MAX('MDA4'!R130, 'T1'!L130, MAX(T3_R1!K130, T3_R2!K130)), MAX('MDA1'!K130, 'MDA4'!S130, 'T1'!M130, MAX(T3_R1!L130, T3_R2!L130)), MAX('MDA1'!L130, 'MDA4'!T130, 'T1'!N130, MAX(T3_R1!M130, T3_R2!M130)))","v":0},{"$f":"IF(AND(COUNTRY_INFO!J130>1,COUNTRY_INFO!J130<4),IF(COUNTRY_INFO!E130>MAX('MDA4'!R130,'T1'!L130,MAX(T3_R1!K130,T3_R2!K130)),MAX('MDA4'!R130,'T1'!L130,MAX(T3_R1!K130,T3_R2!K130)),COUNTRY_INFO!E130),0)","v":0},{"$f":"IF(AND(COUNTRY_INFO!J130>1,COUNTRY_INFO!J130<4), IF(T130/COUNTRY_INFO!E130*100<>0, IF(T130/COUNTRY_INFO!E130*100>100,100,T130/COUNTRY_INFO!E130*100), \"-\"),0)","v":"-"},{"$f":"IF(AND(COUNTRY_INFO!J130>1,COUNTRY_INFO!J130<4),IF(COUNTRY_INFO!F130>MAX('MDA1'!K130,'MDA4'!S130,'T1'!M130,MAX(T3_R1!L130,T3_R2!L130)),MAX('MDA1'!K130,'MDA4'!S130,'T1'!M130,MAX(T3_R1!L130,T3_R2!L130)),COUNTRY_INFO!F130),0)","v":0},{"$f":"IF(AND(COUNTRY_INFO!J130>1,COUNTRY_INFO!J130<4), IF(V130/COUNTRY_INFO!F130*100<>0, IF(V130/COUNTRY_INFO!F130*100>100,100,V130/COUNTRY_INFO!F130*100), \"-\"),0)","v":"-"},0,{"$f":"IF(AND(COUNTRY_INFO!J130>1,COUNTRY_INFO!J130<4), IF(S130/P130*100<>0, IF(X130/P130*100>100,100,X130/P130*100), \"-\"),0)","v":"-"},{"$f":"COUNTRY_INFO!P130","v":3626.3},null,null,{"$f":"MAX('T1'!L130,'T2'!J130)+MAX('T1'!M130,'T2'!K130)+MAX('T1'!N130,'T2'!L130)","v":0},{"$f":"IF(COUNTRY_INFO!K130=1,IF(COUNTRY_INFO!F130*0.33>MAX('T1'!M130,'T2'!K130),MAX('T1'!M130,'T2'!K130),COUNTRY_INFO!F130*0.33),IF(COUNTRY_INFO!K130=2,IF(COUNTRY_INFO!F130*0.5>MAX('T1'!M130,'T2'!K130),MAX('T1'!M130,'T2'!K130),COUNTRY_INFO!F130*0.5),IF(COUNTRY_INFO!K130=3,IF(COUNTRY_INFO!F130>MAX('T1'!M130,'T2'!K130),MAX('T1'!M130,'T2'!K130),COUNTRY_INFO!F130),0)))","v":0},{"$f":"IF(AND(COUNTRY_INFO!K130>0,COUNTRY_INFO!L130<4),IF(Z130>0,IF(COUNTRY_INFO!K130=1, AD130/(COUNTRY_INFO!F130*0.33)*100, IF(COUNTRY_INFO!K130=2, AD130/(COUNTRY_INFO!F130*0.5)*100, IF(COUNTRY_INFO!K130=3, AD130/COUNTRY_INFO!F130*100))),\"-\"),0)","v":0},{"$f":"IF(COUNTRY_INFO!K130=2,IF(COUNTRY_INFO!G130*0.2>MAX('T1'!N130,'T2'!L130),MAX('T1'!N130,'T2'!L130),COUNTRY_INFO!G130*0.2),IF(COUNTRY_INFO!K130=3,IF(COUNTRY_INFO!G130>MAX('T1'!N130,'T2'!L130),MAX('T1'!N130,'T2'!L130),COUNTRY_INFO!G130),0))","v":0},{"$f":"IF(AND(COUNTRY_INFO!K130>0,COUNTRY_INFO!L130<4),IF(Z130>0,IF(COUNTRY_INFO!K130=1, 0, IF(COUNTRY_INFO!K130=2, AF130/(COUNTRY_INFO!G130*0.2)*100, IF(COUNTRY_INFO!K130=3, AF130/COUNTRY_INFO!G130*100))),\"-\"),0)","v":0},0,{"$f":"IF(AND(COUNTRY_INFO!K130>0,COUNTRY_INFO!K130<4), IF(AC130/Z130*100<>0, IF(AH130/Z130*100>100,100,AH130/Z130*100), \"-\"),0)","v":"-"},null,{"$f":"IF(AND(D130<>0, D130<>\"Unknown\",D130<>\"Stopped\",D130<>\"Not required\"),D130/COUNTRY_INFO!D130, 0)","v":1},{"$f":"IF(AND(J130<>0,J130<>\"Unknown\",J130<>\"Stopped\",J130<>\"Not required\"),J130/COUNTRY_INFO!D130, 0)","v":0},{"$f":"IF(AND(P130<>0,P130<>\"Unknown\",P130<>\"Not required\"),P130/(COUNTRY_INFO!E130+COUNTRY_INFO!F130), 0)","v":1},{"$f":"IF(AND(Z130<>0,Z130<>\"Unknown\",Z130<>\"Not required\"),IF(COUNTRY_INFO!K130=1,1,IF(COUNTRY_INFO!K130=2,0.5*COUNTRY_INFO!F130/(0.5*COUNTRY_INFO!F130+0.2*COUNTRY_INFO!G130),IF(COUNTRY_INFO!K130=3,COUNTRY_INFO!F130/(COUNTRY_INFO!F130+COUNTRY_INFO!G130)))),0)","v":0.56958883710669272},{"$f":"IF(AND(Z130<>0,Z130<>\"Unknown\",Z130<>\"Not required\"),IF(COUNTRY_INFO!K130=1,0,IF(COUNTRY_INFO!K130=2,0.2*COUNTRY_INFO!G130/(0.5*COUNTRY_INFO!F130+0.2*COUNTRY_INFO!G130),IF(COUNTRY_INFO!K130=3,COUNTRY_INFO!G130/(COUNTRY_INFO!F130+COUNTRY_INFO!G130)))),0)","v":0.43041116289330728},{"$f":"MAX(COUNTRY_INFO!D130*AK130*PROFILE!$G$7,COUNTRY_INFO!D130*AL130*PROFILE!$G$7)","v":503.45891929650304},{"$f":"MAX(COUNTRY_INFO!D130*AK130*PROFILE!$G$8,COUNTRY_INFO!D130*AL130*PROFILE!$G$8,COUNTRY_INFO!D130*AM130*PROFILE!$G$8)","v":2369.1994503796554},{"$f":"MAX(COUNTRY_INFO!D130*AK130*PROFILE!$G$9,COUNTRY_INFO!D130*AL130*PROFILE!$G$9,COUNTRY_INFO!D130*AM130*PROFILE!$G$9,IF(AND(DISTRICT!Z130<>\"Unknown\",Z130<>\"Not required\"),COUNTRY_INFO!P130*DISTRICT!AN130,0))","v":4131.2935171227937},{"$f":"MAX(COUNTRY_INFO!D130*AK130*PROFILE!$G$10,COUNTRY_INFO!D130*AL130*PROFILE!$G$10,IF(AND(DISTRICT!Z130<>\"Unknown\",Z130<>\"Not required\"),COUNTRY_INFO!P130*DISTRICT!AO130,0))","v":7803.5574955708262},14807.509382369779,0,{"$f":"MAX('MDA4'!R130,'T1'!L130,'T2'!J130,T3_R1!K130,T3_R2!K130)","v":0},{"$f":"MAX('MDA1'!K130,'MDA4'!S130,'MDA3'!I130,'MDA3'!L130,'T1'!M130,'T2'!K130,T3_R1!L130,T3_R2!L130)","v":0},{"$f":"MAX('MDA1'!L130,'MDA4'!T130,'MDA3'!J130,'MDA3'!M130,'T1'!N130,'T2'!L130,T3_R1!M130,T3_R2!M130)","v":0},0,{"$f":"MAX('MDA4'!R130,T130)","v":0},{"$f":"MAX('MDA1'!K130,'MDA4'!S130,'MDA3'!I130,'MDA3'!L130,V130,AD130)","v":0},{"$f":"MAX('MDA1'!L130,'MDA4'!T130,'MDA3'!J130,'MDA3'!M130,AF130)","v":0},0,0]
[{"$f":"IF(COUNTRY_INFO!A131=0,\" \",COUNTRY_INFO!A131)","v":"Angola"},{"$f":"IF(COUNTRY_INFO!B131=0,\" \",COUNTRY_INFO!B131)","v":"MALANJE"},{"$f":"IF(COUNTRY_INFO!C131=0,\" \",COUNTRY_INFO!C131)","v":"LUQUEMBO"},{"$f":"COUNTRY_INFO!M131","v":0},null,null,{"$f":"MAX('MDA1'!M131,'MDA4'!U131)","v":0},{"$f":"IF(AND(COUNTRY_INFO!H131>0,COUNTRY_INFO!H131<4),IF(D131>MAX('MDA1'!M131,'MDA4'!U131),MAX('MDA1'!M131,'MDA4'!U131),D131),0)","v":0},{"$f":"IF(AND(COUNTRY_INFO!H131>0,COUNTRY_INFO!H131<4), IF(G131/D131*100<>0, IF(G131/D131*100>100,100,G131/D131*100), \"-\"),0)","v":0},{"$f":"COUNTRY_INFO!N131","v":"Unknown"},null,null,{"$f":"MAX('MDA1'!M131,MAX('MDA3'!I131,'MDA3'!L131)+MAX('MDA3'!J131,'MDA3'!M131))","v":0},{"$f":"IF(AND(COUNTRY_INFO!I131>0,COUNTRY_INFO!I131<4),IF(J131>MAX('MDA1'!M131,MAX('MDA3'!I131,'MDA3'!L131)+MAX('MDA3'!J131,'MDA3'!M131)),MAX('MDA1'!M131,MAX('MDA3'!I131,'MDA3'!L131)+MAX('MDA3'!J131,'MDA3'!M131)),J131),0)","v":0},{"$f":"IF(AND(COUNTRY_INFO!I131>0,COUNTRY_INFO!I131<4), IF(M131/J131*100<>0, IF(M131/J131*100>100,100,M131/J131*100), \"-\"),0)","v":0},{"$f":"COUNTRY_INFO!O131","v":28269},null,null,{"$f":"SUM(MAX('MDA4'!R131, 'T1'!L131, MAX(T3_R1!K131, T3_R2!K131)), MAX('MDA1'!K131, 'MDA4'!S131, 'T1'!M131, MAX(T3_R1!L131, T3_R2!L131)), MAX('MDA1'!L131, 'MDA4'!T131, 'T1'!N131, MAX(T3_R1!M131, T3_R2!M131)))","v":0},{"$f":"IF(AND(COUNTRY_INFO!J131>1,COUNTRY_INFO!J131<4),IF(COUNTRY_INFO!E131>MAX('MDA4'!R131,'T1'!L131,MAX(T3_R1!K131,T3_R2!K131)),MAX('MDA4'!R131,'T1'!L131,MAX(T3_R1!K131,T3_R2!K131)),COUNTRY_INFO!E131),0)","v":0},{"$f":"IF(AND(COUNTRY_INFO!J131>1,COUNTRY_INFO!J131<4), IF(T131/COUNTRY_INFO!E131*100<>0, IF(T131/COUNTRY_INFO!E131*100>100,100,T131/COUNTRY_INFO!E131*100), \"-\"),0)","v":"-"},{"$f":"IF(AND(COUNTRY_INFO!J131>1,COUNTRY_INFO!J131<4),IF(COUNTRY_INFO!F131>MAX('MDA1'!K131,'MDA4'!S131,'T1'!M131,MAX(T3_R1!L131,T3_R2!L131)),MAX('MDA1'!K131,'MDA4'!S131,'T1'!M131,MAX(T3_R1!L131,T3_R2!L131)),COUNTRY_INFO!F131),0)","v":0},{"$f":"IF(AND(COUNTRY_INFO!J131>1,COUNTRY_INFO!J131<4), IF(V131/COUNTRY_INFO!F131*100<>0, IF(V131/COUNTRY_INFO!F131*100>100,100,V131/COUNTRY_INFO!F131*100), \"-\"),0)","v":"-"},0,{"$f":"IF(AND(COUNTRY_INFO!J131>1,COUNTRY_INFO!J131<4), IF(S131/P131*100<>0, IF(X131/P131*100>100,100,X131/P131*100), \"-\"),0)","v":"-"},{"$f":"COUNTRY_INFO!P131","v":15770},null,null,{"$f":"MAX('T1'!L131,'T2'!J131)+MAX('T1'!M131,'T2'!K131)+MAX('T1'!N131,'T2'!L131)","v":0},{"$f":"IF(COUNTRY_INFO!K131=1,IF(COUNTRY_INFO!F131*0.33>MAX('T1'!M131,'T2'!K131),MAX('T1'!M131,'T2'!K131),COUNTRY_INFO!F131*0.33),IF(COUNTRY_INFO!K131=2,IF(COUNTRY_INFO!F131*0.5>MAX('T1'!M131,'T2'!K131),MAX('T1'!M131,'T2'!K131),COUNTRY_INFO!F131*0.5),IF(COUNTRY_INFO!K131=3,IF(COUNTRY_INFO!F131>MAX('T1'!M131,'T2'!K131),MAX('T1'!M131,'T2'!K131),COUNTRY_INFO!F131),0)))","v":0},{"$f":"IF(AND(COUNTRY_INFO!K131>0,COUNTRY_INFO!L131<4),IF(Z131>0,IF(COUNTRY_INFO!K131=1, AD131/(COUNTRY_INFO!F131*0.33)*100, IF(COUNTRY_INFO!K131=2, AD131/(COUNTRY_INFO!F131*0.5)*100, IF(COUNTRY_INFO!K131=3, AD131/COUNTRY_INFO!F131*100))),\"-\"),0)","v":0},{"$f":"IF(COUNTRY_INFO!K131=2,IF(COUNTRY_INFO!G131*0.2>MAX('T1'!N131,'T2'!L131),MAX('T1'!N131,'T2'!L131),COUNTRY_INFO!G131*0.2),IF(COUNTRY_INFO!K131=3,IF(COUNTRY_INFO!G131>MAX('T1'!N131,'T2'!L131),MAX('T1'!N131,'T2'!L131),COUNTRY_INFO!G131),0))","v":0},{"$f":"IF(AND(COUNTRY_INFO!K131>0,COUNTRY_INFO!L131<4),IF(Z131>0,IF(COUNTRY_INFO!K131=1, 0, IF(COUNTRY_INFO!K131=2, AF131/(COUNTRY_INFO!G131*0.2)*100, IF(COUNTRY_INFO!K131=3, AF131/COUNTRY_INFO!G131*100))),\"-\"),0)","v":0},0,{"$f":"IF(AND(COUNTRY_INFO!K131>0,COUNTRY_INFO!K131<4), IF(AC131/Z131*100<>0, IF(AH131/Z131*100>100,100,AH131/Z131*100), \"-\"),0)","v":"-"},null,{"$f":"IF(AND(D131<>0, D131<>\"Unknown\",D131<>\"Stopped\",D131<>\"Not required\"),D131/COUNTRY_INFO!D131, 0)","v":0},{"$f":"IF(AND(J131<>0,J131<>\"Unknown\",J131<>\"Stopped\",J131<>\"Not required\"),J131/COUNTRY_INFO!D131, 0)","v":0},{"$f":"IF(AND(P131<>0,P131<>\"Unknown\",P131<>\"Not required\"),P131/(COUNTRY_INFO!E131+COUNTRY_INFO!F131), 0)","v":1},{"$f":"IF(AND(Z131<>0,Z131<>\"Unknown\",Z131<>\"Not required\"),IF(COUNTRY_INFO!K131=1,1,IF(COUNTRY_INFO!K131=2,0.5*COUNTRY_INFO!F131/(0.5*COUNTRY_INFO!F131+0.2*COUNTRY_INFO!G131),IF(COUNTRY_INFO!K131=3,COUNTRY_INFO!F131/(COUNTRY_INFO!F131+COUNTRY_INFO!G131)))),0)","v":0.56962587190868741},{"$f":"IF(AND(Z131<>0,Z131<>\"Unknown\",Z131<>\"Not required\"),IF(COUNTRY_INFO!K131=1,0,IF(COUNTRY_INFO!K131=2,0.2*COUNTRY_INFO!G131/(0.5*COUNTRY_INFO!F131+0.2*COUNTRY_INFO!G131),IF(COUNTRY_INFO!K131=3,COUNTRY_INFO!G131/(COUNTRY_INFO!F131+COUNTRY_INFO!G131)))),0)","v":0.43037412809131265},{"$f":"MAX(COUNTRY_INFO!D131*AK131*PROFILE!$G$7,COUNTRY_INFO!D131*AL131*PROFILE!$G$7)","v":0},{"$f":"MAX(COUNTRY_INFO!D131*AK131*PROFILE!$G$8,COUNTRY_INFO!D131*AL131*PROFILE!$G$8,COUNTRY_INFO!D131*AM131*PROFILE!$G$8)","v":10302.826136040845},{"$f":"MAX(COUNTRY_INFO!D131*AK131*PROFILE!$G$9,COUNTRY_INFO!D131*AL131*PROFILE!$G$9,COUNTRY_INFO!D131*AM131*PROFILE!$G$9,IF(AND(DISTRICT!Z131<>\"Unknown\",Z131<>\"Not required\"),COUNTRY_INFO!P131*DISTRICT!AN131,0))","v":17965.561665586283},{"$f":"MAX(COUNTRY_INFO!D131*AK131*PROFILE!$G$10,COUNTRY_INFO!D131*AL131*PROFILE!$G$10,IF(AND(DISTRICT!Z131<>\"Unknown\",Z131<>\"Not required\"),COUNTRY_INFO!P131*DISTRICT!AO131,0))","v":6787},35055.387801627126,0,{"$f":"MAX('MDA4'!R131,'T1'!L131,'T2'!J131,T3_R1!K131,T3_R2!K131)","v":0},{"$f":"MAX('MDA1'!K131,'MDA4'!S131,'MDA3'!I131,'MDA3'!L131,'T1'!M131,'T2'!K131,T3_R1!L131,T3_R2!L131)","v":0},{"$f":"MAX('MDA1'!L131,'MDA4'!T131,'MDA3'!J131,'MDA3'!M131,'T1'!N131,'T2'!L131,T3_R1!M131,T3_R2!M131)","v":0},0,{"$f":"MAX('MDA4'!R131,T131)","v":0},{"$f":"MAX('MDA1'!K131,'MDA4'!S131,'MDA3'!I131,'MDA3'!L131,V131,AD131)","v":0},{"$f":"MAX('MDA1'!L131,'MDA4'!T131,'MDA3'!J131,'MDA3'!M131,AF131)","v":0},0,0]
[{"$f":"IF(COUNTRY_INFO!A132=0,\" \",COUNTRY_INFO!A132)","v":"Angola"},{"$f":"IF(COUNTRY_INFO!B132=0,\" \",COUNTRY_INFO!B132)","v":"MALANJE"},{"$f":"IF(COUNTRY_INFO!C132=0,\" \",COUNTRY_INFO!C132)","v":"MALANJE"},{"$f":"COUNTRY_INFO!M132","v":0},null,null,{"$f":"MAX('MDA1'!M132,'MDA4'!U132)","v":0},{"$f":"IF(AND(COUNTRY_INFO!H132>0,COUNTRY_INFO!H132<4),IF(D132>MAX('MDA1'!M132,'MDA4'!U132),MAX('MDA1'!M132,'MDA4'!U132),D132),0)","v":0},{"$f":"IF(AND(COUNTRY_INFO!H132>0,COUNTRY_INFO!H132<4), IF(G132/D132*100<>0, IF(G132/D132*100>100,100,G132/D132*100), \"-\"),0)","v":0},{"$f":"COUNTRY_INFO!N132","v":"Unknown"},null,null,{"$f":"MAX('MDA1'!M132,MAX('MDA3'!I132,'MDA3'!L132)+MAX('MDA3'!J132,'MDA3'!M132))","v":0},{"$f":"IF(AND(COUNTRY_INFO!I132>0,COUNTRY_INFO!I132<4),IF(J132>MAX('MDA1'!M132,MAX('MDA3'!I132,'MDA3'!L132)+MAX('MDA3'!J132,'MDA3'!M132)),MAX('MDA1'!M132,MAX('MDA3'!I132,'MDA3'!L132)+MAX('MDA3'!J132,'MDA3'!M132)),J132),0)","v":0},{"$f":"IF(AND(COUNTRY_INFO!I132>0,COUNTRY_INFO!I132<4), IF(M132/J132*100<>0, IF(M132/J132*100>100,100,M132/J132*100), \"-\"),0)","v":0},{"$f":"COUNTRY_INFO!O132","v":261074},null,null,{"$f":"SUM(MAX('MDA4'!R132, 'T1'!L132, MAX(T3_R1!K132, T3_R2!K132)), MAX('MDA1'!K132, 'MDA4'!S132, 'T1'!M132, MAX(T3_R1!L132, T3_R2!L132)), MAX('MDA1'!L132, 'MDA4'!T132, 'T1'!N132, MAX(T3_R1!M132, T3_R2!M132)))","v":0},{"$f":"IF(AND(COUNTRY_INFO!J132>1,COUNTRY_INFO!J132<4),IF(COUNTRY_INFO!E132>MAX('MDA4'!R132,'T1'!L132,MAX(T3_R1!K132,T3_R2!K132)),MAX('MDA4'!R132,'T1'!L132,MAX(T3_R1!K132,T3_R2!K132)),COUNTRY_INFO!E132),0)","v":0},{"$f":"IF(AND(COUNTRY_INFO!J132>1,COUNTRY_INFO!J132<4), IF(T132/COUNTRY_INFO!E132*100<>0, IF(T132/COUNTRY_INFO!E132*100>100,100,T132/COUNTRY_INFO!E132*100), \"-\"),0)","v":"-"},{"$f":"IF(AND(COUNTRY_INFO!J132>1,COUNTRY_INFO!J132<4),IF(COUNTRY_INFO!F132>MAX('MDA1'!K132,'MDA4'!S132,'T1'!M132,MAX(T3_R1!L132,T3_R2!L132)),MAX('MDA1'!K132,'MDA4'!S132,'T1'!M132,MAX(T3_R1!L132,T3_R2!L132)),COUNTRY_INFO!F132),0)","v":0},{"$f":"IF(AND(COUNTRY_INFO!J132>1,COUNTRY_INFO!J132<4), IF(V132/COUNTRY_INFO!F132*100<>0, IF(V132/COUNTRY_INFO!F132*100>100,100,V132/COUNTRY_INFO!F132*100), \"-\"),0)","v":"-"},0,{"$f":"IF(AND(COUNTRY_INFO!J132>1,COUNTRY_INFO!J132<4), IF(S132/P132*100<>0, IF(X132/P132*100>100,100,X132/P132*100), \"-\"),0)","v":"-"},{"$f":"COUNTRY_INFO!P132","v":145642.6},null,null,{"$f":"MAX('T1'!L132,'T2'!J132)+MAX('T1'!M132,'T2'!K132)+MAX('T1'!N132,'T2'!L132)","v":0},{"$f":"IF(COUNTRY_INFO!K132=1,IF(COUNTRY_INFO!F132*0.33>MAX('T1'!M132,'T2'!K132),MAX('T1'!M132,'T2'!K132),COUNTRY_INFO!F132*0.33),IF(COUNTRY_INFO!K132=2,IF(COUNTRY_INFO!F132*0.5>MAX('T1'!M132,'T2'!K132),MAX('T1'!M132,'T2'!K132),COUNTRY_INFO!F132*0.5),IF(COUNTRY_INFO!K132=3,IF(COUNTRY_INFO!F132>MAX('T1'!M132,'T2'!K132),MAX('T1'!M132,'T2'!K132),COUNTRY_INFO!F132),0)))","v":0},{"$f":"IF(AND(COUNTRY_INFO!K132>0,COUNTRY_INFO!L132<4),IF(Z132>0,IF(COUNTRY_INFO!K132=1, AD132/(COUNTRY_INFO!F132*0.33)*100, IF(COUNTRY_INFO!K132=2, AD132/(COUNTRY_INFO!F132*0.5)*100, IF(COUNTRY_INFO!K132=3, AD132/COUNTRY_INFO!F132*100))),\"-\"),0)","v":0},{"$f":"IF(COUNTRY_INFO!K132=2,IF(COUNTRY_INFO!G132*0.2>MAX('T1'!N132,'T2'!L132),MAX('T1'!N132,'T2'!L132),COUNTRY_INFO!G132*0.2),IF(COUNTRY_INFO!K132=3,IF(COUNTRY_INFO!G132>MAX('T1'!N132,'T2'!L132),MAX('T1'!N132,'T2'!L132),COUNTRY_INFO!G132),0))","v":0},{"$f":"IF(AND(COUNTRY_INFO!K132>0,COUNTRY_INFO!L132<4),IF(Z132>0,IF(COUNTRY_INFO!K132=1, 0, IF(COUNTRY_INFO!K132=2, AF132/(COUNTRY_INFO!G132*0.2)*100, IF(COUNTRY_INFO!K132=3, AF132/COUNTRY_INFO!G132*100))),\"-\"),0)","v":0},0,{"$f":"IF(AND(COUNTRY_INFO!K132>0,COUNTRY_INFO!K132<4), IF(AC132/Z132*100<>0, IF(AH132/Z132*100>100,100,AH132/Z132*100), \"-\"),0)","v":"-"},null,{"$f":"IF(AND(D132<>0, D132<>\"Unknown\",D132<>\"Stopped\",D132<>\"Not required\"),D132/COUNTRY_INFO!D132, 0)","v":0},{"$f":"IF(AND(J132<>0,J132<>\"Unknown\",J132<>\"Stopped\",J132<>\"Not required\"),J132/COUNTRY_INFO!D132, 0)","v":0},{"$f":"IF(AND(P132<>0,P132<>\"Unknown\",P132<>\"Not required\"),P132/(COUNTRY_INFO!E132+COUNTRY_INFO!F132), 0)","v":1},{"$f":"IF(AND(Z132<>0,Z132<>\"Unknown\",Z132<>\"Not required\"),IF(COUNTRY_INFO!K132=1,1,IF(COUNTRY_INFO!K132=2,0.5*COUNTRY_INFO!F132/(0.5*COUNTRY_INFO!F132+0.2*COUNTRY_INFO!G132),IF(COUNTRY_INFO!K132=3,COUNTRY_INFO!F132/(COUNTRY_INFO!F132+COUNTRY_INFO!G132)))),0)","v":0.56962042699045468},{"$f":"IF(AND(Z132<>0,Z132<>\"Unknown\",Z132<>\"Not required\"),IF(COUNTRY_INFO!K132=1,0,IF(COUNTRY_INFO!K132=2,0.2*COUNTRY_INFO!G132/(0.5*COUNTRY_INFO!F132+0.2*COUNTRY_INFO!G132),IF(COUNTRY_INFO!K132=3,COUNTRY_INFO!G132/(COUNTRY_INFO!F132+COUNTRY_INFO!G132)))),0)","v":0.43037957300954532},{"$f":"MAX(COUNTRY_INFO!D132*AK132*PROFILE!$G$7,COUNTRY_INFO!D132*AL132*PROFILE!$G$7)","v":0},{"$f":"MAX(COUNTRY_INFO!D132*AK132*PROFILE!$G$8,COUNTRY_INFO!D132*AL132*PROFILE!$G$8,COUNTRY_INFO!D132*AM132*PROFILE!$G$8)","v":95152.268924451448},{"$f":"MAX(COUNTRY_INFO!D132*AK132*PROFILE!$G$9,COUNTRY_INFO!D132*AL132*PROFILE!$G$9,COUNTRY_INFO!D132*AM132*PROFILE!$G$9,IF(AND(DISTRICT!Z132<>\"Unknown\",Z132<>\"Not required\"),COUNTRY_INFO!P132*DISTRICT!AN132,0))","v":165921.84827837851},{"$f":"MAX(COUNTRY_INFO!D132*AK132*PROFILE!$G$10,COUNTRY_INFO!D132*AL132*PROFILE!$G$10,IF(AND(DISTRICT!Z132<>\"Unknown\",Z132<>\"Not required\"),COUNTRY_INFO!P132*DISTRICT!AO132,0))","v":62681.600000000006},323755.71720283001,0,{"$f":"MAX('MDA4'!R132,'T1'!L132,'T2'!J132,T3_R1!K132,T3_R2!K132)","v":0},{"$f":"MAX('MDA1'!K132,'MDA4'!S132,'MDA3'!I132,'MDA3'!L132,'T1'!M132,'T2'!K132,T3_R1!L132,T3_R2!L132)","v":0},{"$f":"MAX('MDA1'!L132,'MDA4'!T132,'MDA3'!J132,'MDA3'!M132,'T1'!N132,'T2'!L132,T3_R1!M132,T3_R2!M132)","v":0},0,{"$f":"MAX('MDA4'!R132,T132)","v":0},{"$f":"MAX('MDA1'!K132,'MDA4'!S132,'MDA3'!I132,'MDA3'!L132,V132,AD132)","v":0},{"$f":"MAX('MDA1'!L132,'MDA4'!T132,'MDA3'!J132,'MDA3'!M132,AF132)","v":0},0,0]
[{"$f":"IF(COUNTRY_INFO!A133=0,\" \",COUNTRY_INFO!A133)","v":"Angola"},{"$f":"IF(COUNTRY_INFO!B133=0,\" \",COUNTRY_INFO!B133)","v":"MALANJE"},{"$f":"IF(COUNTRY_INFO!C133=0,\" \",COUNTRY_INFO!C133)","v":"MARIMBA"},{"$f":"COUNTRY_INFO!M133","v":30717.955279749662},null,null,{"$f":"MAX('MDA1'!M133,'MDA4'!U133)","v":0},{"$f":"IF(AND(COUNTRY_INFO!H133>0,COUNTRY_INFO!H133<4),IF(D133>MAX('MDA1'!M133,'MDA4'!U133),MAX('MDA1'!M133,'MDA4'!U133),D133),0)","v":0},{"$f":"IF(AND(COUNTRY_INFO!H133>0,COUNTRY_INFO!H133<4), IF(G133/D133*100<>0, IF(G133/D133*100>100,100,G133/D133*100), \"-\"),0)","v":"-"},{"$f":"COUNTRY_INFO!N133","v":"Unknown"},null,null,{"$f":"MAX('MDA1'!M133,MAX('MDA3'!I133,'MDA3'!L133)+MAX('MDA3'!J133,'MDA3'!M133))","v":0},{"$f":"IF(AND(COUNTRY_INFO!I133>0,COUNTRY_INFO!I133<4),IF(J133>MAX('MDA1'!M133,MAX('MDA3'!I133,'MDA3'!L133)+MAX('MDA3'!J133,'MDA3'!M133)),MAX('MDA1'!M133,MAX('MDA3'!I133,'MDA3'!L133)+MAX('MDA3'!J133,'MDA3'!M133)),J133),0)","v":0},{"$f":"IF(AND(COUNTRY_INFO!I133>0,COUNTRY_INFO!I133<4), IF(M133/J133*100<>0, IF(M133/J133*100>100,100,M133/J133*100), \"-\"),0)","v":0},{"$f":"COUNTRY_INFO!O133","v":13485},null,null,{"$f":"SUM(MAX('MDA4'!R133, 'T1'!L133, MAX(T3_R1!K133, T3_R2!K133)), MAX('MDA1'!K133, 'MDA4'!S133, 'T1'!M133, MAX(T3_R1!L133, T3_R2!L133)), MAX('MDA1'!L133, 'MDA4'!T133, 'T1'!N133, MAX(T3_R1!M133, T3_R2!M133)))","v":0},{"$f":"IF(AND(COUNTRY_INFO!J133>1,COUNTRY_INFO!J133<4),IF(COUNTRY_INFO!E133>MAX('MDA4'!R133,'T1'!L133,MAX(T3_R1!K133,T3_R2!K133)),MAX('MDA4'!R133,'T1'!L133,MAX(T3_R1!K133,T3_R2!K133)),COUNTRY_INFO!E133),0)","v":0},{"$f":"IF(AND(COUNTRY_INFO!J133>1,COUNTRY_INFO!J133<4), IF(T133/COUNTRY_INFO!E133*100<>0, IF(T133/COUNTRY_INFO!E133*100>100,100,T133/COUNTRY_INFO!E133*100), \"-\"),0)","v":"-"},{"$f":"IF(AND(COUNTRY_INFO!J133>1,COUNTRY_INFO!J133<4),IF(COUNTRY_INFO!F133>MAX('MDA1'!K133,'MDA4'!S133,'T1'!M133,MAX(T3_R1!L133,T3_R2!L133)),MAX('MDA1'!K133,'MDA4'!S133,'T1'!M133,MAX(T3_R1!L133,T3_R2!L133)),COUNTRY_INFO!F133),0)","v":0},{"$f":"IF(AND(COUNTRY_INFO!J133>1,COUNTRY_INFO!J133<4), IF(V133/COUNTRY_INFO!F133*100<>0, IF(V133/COUNTRY_INFO!F133*100>100,100,V133/COUNTRY_INFO!F133*100), \"-\"),0)","v":"-"},0,{"$f":"IF(AND(COUNTRY_INFO!J133>1,COUNTRY_INFO!J133<4), IF(S133/P133*100<>0, IF(X133/P133*100>100,100,X133/P133*100), \"-\"),0)","v":"-"},{"$f":"COUNTRY_INFO!P133","v":7522.6},null,null,{"$f":"MAX('T1'!L133,'T2'!J133)+MAX('T1'!M133,'T2'!K133)+MAX('T1'!N133,'T2'!L133)","v":0},{"$f":"IF(COUNTRY_INFO!K133=1,IF(COUNTRY_INFO!F133*0.33>MAX('T1'!M133,'T2'!K133),MAX('T1'!M133,'T2'!K133),COUNTRY_INFO!F133*0.33),IF(COUNTRY_INFO!K133=2,IF(COUNTRY_INFO!F133*0.5>MAX('T1'!M133,'T2'!K133),MAX('T1'!M133,'T2'!K133),COUNTRY_INFO!F133*0.5),IF(COUNTRY_INFO!K133=3,IF(COUNTRY_INFO!F133>MAX('T1'!M133,'T2'!K133),MAX('T1'!M133,'T2'!K133),COUNTRY_INFO!F133),0)))","v":0},{"$f":"IF(AND(COUNTRY_INFO!K133>0,COUNTRY_INFO!L133<4),IF(Z133>0,IF(COUNTRY_INFO!K133=1, AD133/(COUNTRY_INFO!F133*0.33)*100, IF(COUNTRY_INFO!K133=2, AD133/(COUNTRY_INFO!F133*0.5)*100, IF(COUNTRY_INFO!K133=3, AD133/COUNTRY_INFO!F133*100))),\"-\"),0)","v":0},{"$f":"IF(COUNTRY_INFO!K133=2,IF(COUNTRY_INFO!G133*0.2>MAX('T1'!N133,'T2'!L133),MAX('T1'!N133,'T2'!L133),COUNTRY_INFO!G133*0.2),IF(COUNTRY_INFO!K133=3,IF(COUNTRY_INFO!G133>MAX('T1'!N133,'T2'!L133),MAX('T1'!N133,'T2'!L133),COUNTRY_INFO!G133),0))","v":0},{"$f":"IF(AND(COUNTRY_INFO!K133>0,COUNTRY_INFO!L133<4),IF(Z133>0,IF(COUNTRY_INFO!K133=1, 0, IF(COUNTRY_INFO!K133=2, AF133/(COUNTRY_INFO!G133*0.2)*100, IF(COUNTRY_INFO!K133=3, AF133/COUNTRY_INFO!G133*100))),\"-\"),0)","v":0},0,{"$f":"IF(AND(COUNTRY_INFO!K133>0,COUNTRY_INFO!K133<4), IF(AC133/Z133*100<>0, IF(AH133/Z133*100>100,100,AH133/Z133*100), \"-\"),0)","v":"-"},null,{"$f":"IF(AND(D133<>0, D133<>\"Unknown\",D133<>\"Stopped\",D133<>\"Not required\"),D133/COUNTRY_INFO!D133, 0)","v":1},{"$f":"IF(AND(J133<>0,J133<>\"Unknown\",J133<>\"Stopped\",J133<>\"Not required\"),J133/COUNTRY_INFO!D133, 0)","v":0},{"$f":"IF(AND(P133<>0,P133<>\"Unknown\",P133<>\"Not required\"),P133/(COUNTRY_INFO!E133+COUNTRY_INFO!F133), 0)","v":1},{"$f":"IF(AND(Z133<>0,Z133<>\"Unknown\",Z133<>\"Not required\"),IF(COUNTRY_INFO!K133=1,1,IF(COUNTRY_INFO!K133=2,0.5*COUNTRY_INFO!F133/(0.5*COUNTRY_INFO!F133+0.2*COUNTRY_INFO!G133),IF(COUNTRY_INFO!K133=3,COUNTRY_INFO!F133/(COUNTRY_INFO!F133+COUNTRY_INFO!G133)))),0)","v":0.56961688777816177},{"$f":"IF(AND(Z133<>0,Z133<>\"Unknown\",Z133<>\"Not required\"),IF(COUNTRY_INFO!K133=1,0,IF(COUNTRY_INFO!K133=2,0.2*COUNTRY_INFO!G133/(0.5*COUNTRY_INFO!F133+0.2*COUNTRY_INFO!G133),IF(COUNTRY_INFO!K133=3,COUNTRY_INFO!G133/(COUNTRY_INFO!F133+COUNTRY_INFO!G133)))),0)","v":0.43038311222183823},{"$f":"MAX(COUNTRY_INFO!D133*AK133*PROFILE!$G$7,COUNTRY_INFO!D133*AL133*PROFILE!$G$7)","v":1044.4179482711922},{"$f":"MAX(COUNTRY_INFO!D133*AK133*PROFILE!$G$8,COUNTRY_INFO!D133*AL133*PROFILE!$G$8,COUNTRY_INFO!D133*AM133*PROFILE!$G$8)","v":4914.8685904072399},{"$f":"MAX(COUNTRY_INFO!D133*AK133*PROFILE!$G$9,COUNTRY_INFO!D133*AL133*PROFILE!$G$9,COUNTRY_INFO!D133*AM133*PROFILE!$G$9,IF(AND(DISTRICT!Z133<>\"Unknown\",Z133<>\"Not required\"),COUNTRY_INFO!P133*DISTRICT!AN133,0))","v":8570.3062027159049},{"$f":"MAX(COUNTRY_INFO!D133*AK133*PROFILE!$G$10,COUNTRY_INFO!D133*AL133*PROFILE!$G$10,IF(AND(DISTRICT!Z133<>\"Unknown\",Z133<>\"Not required\"),COUNTRY_INFO!P133*DISTRICT!AO133,0))","v":16188.362538355324},30717.955279749662,0,{"$f":"MAX('MDA4'!R133,'T1'!L133,'T2'!J133,T3_R1!K133,T3_R2!K133)","v":0},{"$f":"MAX('MDA1'!K133,'MDA4'!S133,'MDA3'!I133,'MDA3'!L133,'T1'!M133,'T2'!K133,T3_R1!L133,T3_R2!L133)","v":0},{"$f":"MAX('MDA1'!L133,'MDA4'!T133,'MDA3'!J133,'MDA3'!M133,'T1'!N133,'T2'!L133,T3_R1!M133,T3_R2!M133)","v":0},0,{"$f":"MAX('MDA4'!R133,T133)","v":0},{"$f":"MAX('MDA1'!K133,'MDA4'!S133,'MDA3'!I133,'MDA3'!L133,V133,AD133)","v":0},{"$f":"MAX('MDA1'!L133,'MDA4'!T133,'MDA3'!J133,'MDA3'!M133,AF133)","v":0},0,0]
[{"$f":"IF(COUNTRY_INFO!A134=0,\" \",COUNTRY_INFO!A134)","v":"Angola"},{"$f":"IF(COUNTRY_INFO!B134=0,\" \",COUNTRY_INFO!B134)","v":"MALANJE"},{"$f":"IF(COUNTRY_INFO!C134=0,\" \",COUNTRY_INFO!C134)","v":"MASSANGO"},{"$f":"COUNTRY_INFO!M134","v":0},null,null,{"$f":"MAX('MDA1'!M134,'MDA4'!U134)","v":0},{"$f":"IF(AND(COUNTRY_INFO!H134>0,COUNTRY_INFO!H134<4),IF(D134>MAX('MDA1'!M134,'MDA4'!U134),MAX('MDA1'!M134,'MDA4'!U134),D134),0)","v":0},{"$f":"IF(AND(COUNTRY_INFO!H134>0,COUNTRY_INFO!H134<4), IF(G134/D134*100<>0, IF(G134/D134*100>100,100,G134/D134*100), \"-\"),0)","v":0},{"$f":"COUNTRY_INFO!N134","v":"Unknown"},null,null,{"$f":"MAX('MDA1'!M134,MAX('MDA3'!I134,'MDA3'!L134)+MAX('MDA3'!J134,'MDA3'!M134))","v":0},{"$f":"IF(AND(COUNTRY_INFO!I134>0,COUNTRY_INFO!I134<4),IF(J134>MAX('MDA1'!M134,MAX('MDA3'!I134,'MDA3'!L134)+MAX('MDA3'!J134,'MDA3'!M134)),MAX('MDA1'!M134,MAX('MDA3'!I134,'MDA3'!L134)+MAX('MDA3'!J134,'MDA3'!M134)),J134),0)","v":0},{"$f":"IF(AND(COUNTRY_INFO!I134>0,COUNTRY_INFO!I134<4), IF(M134/J134*100<>0, IF(M134/J134*100>100,100,M134/J134*100), \"-\"),0)","v":0},{"$f":"COUNTRY_INFO!O134","v":16956},null,null,{"$f":"SUM(MAX('MDA4'!R134, 'T1'!L134, MAX(T3_R1!K134, T3_R2!K134)), MAX('MDA1'!K134, 'MDA4'!S134, 'T1'!M134, MAX(T3_R1!L134, T3_R2!L134)), MAX('MDA1'!L134, 'MDA4'!T134, 'T1'!N134, MAX(T3_R1!M134, T3_R2!M134)))","v":0},{"$f":"IF(AND(COUNTRY_INFO!J134>1,COUNTRY_INFO!J134<4),IF(COUNTRY_INFO!E134>MAX('MDA4'!R134,'T1'!L134,MAX(T3_R1!K134,T3_R2!K134)),MAX('MDA4'!R134,'T1'!L134,MAX(T3_R1!K134,T3_R2!K134)),COUNTRY_INFO!E134),0)","v":0},{"$f":"IF(AND(COUNTRY_INFO!J134>1,COUNTRY_INFO!J134<4), IF(T134/COUNTRY_INFO!E134*100<>0, IF(T134/COUNTRY_INFO!E134*100>100,100,T134/COUNTRY_INFO!E134*100), \"-\"),0)","v":"-"},{"$f":"IF(AND(COUNTRY_INFO!J134>1,COUNTRY_INFO!J134<4),IF(COUNTRY_INFO!F134>MAX('MDA1'!K134,'MDA4'!S134,'T1'!M134,MAX(T3_R1!L134,T3_R2!L134)),MAX('MDA1'!K134,'MDA4'!S134,'T1'!M134,MAX(T3_R1!L134,T3_R2!L134)),COUNTRY_INFO!F134),0)","v":0},{"$f":"IF(AND(COUNTRY_INFO!J134>1,COUNTRY_INFO!J134<4), IF(V134/COUNTRY_INFO!F134*100<>0, IF(V134/COUNTRY_INFO!F134*100>100,100,V134/COUNTRY_INFO!F134*100), \"-\"),0)","v":"-"},0,{"$f":"IF(AND(COUNTRY_INFO!J134>1,COUNTRY_INFO!J134<4), IF(S134/P134*100<>0, IF(X134/P134*100>100,100,X134/P134*100), \"-\"),0)","v":"-"},{"$f":"COUNTRY_INFO!P134","v":9459},null,null,{"$f":"MAX('T1'!L134,'T2'!J134)+MAX('T1'!M134,'T2'!K134)+MAX('T1'!N134,'T2'!L134)","v":0},{"$f":"IF(COUNTRY_INFO!K134=1,IF(COUNTRY_INFO!F134*0.33>MAX('T1'!M134,'T2'!K134),MAX('T1'!M134,'T2'!K134),COUNTRY_INFO!F134*0.33),IF(COUNTRY_INFO!K134=2,IF(COUNTRY_INFO!F134*0.5>MAX('T1'!M134,'T2'!K134),MAX('T1'!M134,'T2'!K134),COUNTRY_INFO!F134*0.5),IF(COUNTRY_INFO!K134=3,IF(COUNTRY_INFO!F134>MAX('T1'!M134,'T2'!K134),MAX('T1'!M134,'T2'!K134),COUNTRY_INFO!F134),0)))","v":0},{"$f":"IF(AND(COUNTRY_INFO!K134>0,COUNTRY_INFO!L134<4),IF(Z134>0,IF(COUNTRY_INFO!K134=1, AD134/(COUNTRY_INFO!F134*0.33)*100, IF(COUNTRY_INFO!K134=2, AD134/(COUNTRY_INFO!F134*0.5)*100, IF(COUNTRY_INFO!K134=3, AD134/COUNTRY_INFO!F134*100))),\"-\"),0)","v":0},{"$f":"IF(COUNTRY_INFO!K134=2,IF(COUNTRY_INFO!G134*0.2>MAX('T1'!N134,'T2'!L134),MAX('T1'!N134,'T2'!L134),COUNTRY_INFO!G134*0.2),IF(COUNTRY_INFO!K134=3,IF(COUNTRY_INFO!G134>MAX('T1'!N134,'T2'!L134),MAX('T1'!N134,'T2'!L134),COUNTRY_INFO!G134),0))","v":0},{"$f":"IF(AND(COUNTRY_INFO!K134>0,COUNTRY_INFO!L134<4),IF(Z134>0,IF(COUNTRY_INFO!K134=1, 0, IF(COUNTRY_INFO!K134=2, AF134/(COUNTRY_INFO!G134*0.2)*100, IF(COUNTRY_INFO!K134=3, AF134/COUNTRY_INFO!G134*100))),\"-\"),0)","v":0},0,{"$f":"IF(AND(COUNTRY_INFO!K134>0,COUNTRY_INFO!K134<4), IF(AC134/Z134*100<>0, IF(AH134/Z134*100>100,100,AH134/Z134*100), \"-\"),0)","v":"-"},null,{"$f":"IF(AND(D134<>0, D134<>\"Unknown\",D134<>\"Stopped\",D134<>\"Not required\"),D134/COUNTRY_INFO!D134, 0)","v":0},{"$f":"IF(AND(J134<>0,J134<>\"Unknown\",J134<>\"Stopped\",J134<>\"Not required\"),J134/COUNTRY_INFO!D134, 0)","v":0},{"$f":"IF(AND(P134<>0,P134<>\"Unknown\",P134<>\"Not required\"),P134/(COUNTRY_INFO!E134+COUNTRY_INFO!F134), 0)","v":1},{"$f":"IF(AND(Z134<>0,Z134<>\"Unknown\",Z134<>\"Not required\"),IF(COUNTRY_INFO!K134=1,1,IF(COUNTRY_INFO!K134=2,0.5*COUNTRY_INFO!F134/(0.5*COUNTRY_INFO!F134+0.2*COUNTRY_INFO!G134),IF(COUNTRY_INFO!K134=3,COUNTRY_INFO!F134/(COUNTRY_INFO!F134+COUNTRY_INFO!G134)))),0)","v":0.56961623850301302},{"$f":"IF(AND(Z134<>0,Z134<>\"Unknown\",Z134<>\"Not required\"),IF(COUNTRY_INFO!K134=1,0,IF(COUNTRY_INFO!K134=2,0.2*COUNTRY_INFO!G134/(0.5*COUNTRY_INFO!F134+0.2*COUNTRY_INFO!G134),IF(COUNTRY_INFO!K134=3,COUNTRY_INFO!G134/(COUNTRY_INFO!F134+COUNTRY_INFO!G134)))),0)","v":0.43038376149698698},{"$f":"MAX(COUNTRY_INFO!D134*AK134*PROFILE!$G$7,COUNTRY_INFO!D134*AL134*PROFILE!$G$7)","v":0},{"$f":"MAX(COUNTRY_INFO!D134*AK134*PROFILE!$G$8,COUNTRY_INFO!D134*AL134*PROFILE!$G$8,COUNTRY_INFO!D134*AM134*PROFILE!$G$8)","v":6179.8183445005943},{"$f":"MAX(COUNTRY_INFO!D134*AK134*PROFILE!$G$9,COUNTRY_INFO!D134*AL134*PROFILE!$G$9,COUNTRY_INFO!D134*AM134*PROFILE!$G$9,IF(AND(DISTRICT!Z134<>\"Unknown\",Z134<>\"Not required\"),COUNTRY_INFO!P134*DISTRICT!AN134,0))","v":10776.063391176556},{"$f":"MAX(COUNTRY_INFO!D134*AK134*PROFILE!$G$10,COUNTRY_INFO!D134*AL134*PROFILE!$G$10,IF(AND(DISTRICT!Z134<>\"Unknown\",Z134<>\"Not required\"),COUNTRY_INFO!P134*DISTRICT!AO134,0))","v":4071},21026.881735677151,0,{"$f":"MAX('MDA4'!R134,'T1'!L134,'T2'!J134,T3_R1!K134,T3_R2!K134)","v":0},{"$f":"MAX('MDA1'!K134,'MDA4'!S134,'MDA3'!I134,'MDA3'!L134,'T1'!M134,'T2'!K134,T3_R1!L134,T3_R2!L134)","v":0},{"$f":"MAX('MDA1'!L134,'MDA4'!T134,'MDA3'!J134,'MDA3'!M134,'T1'!N134,'T2'!L134,T3_R1!M134,T3_R2!M134)","v":0},0,{"$f":"MAX('MDA4'!R134,T134)","v":0},{"$f":"MAX('MDA1'!K134,'MDA4'!S134,'MDA3'!I134,'MDA3'!L134,V134,AD134)","v":0},{"$f":"MAX('MDA1'!L134,'MDA4'!T134,'MDA3'!J134,'MDA3'!M134,AF134)","v":0},0,0]
[{"$f":"IF(COUNTRY_INFO!A135=0,\" \",COUNTRY_INFO!A135)","v":"Angola"},{"$f":"IF(COUNTRY_INFO!B135=0,\" \",COUNTRY_INFO!B135)","v":"MALANJE"},{"$f":"IF(COUNTRY_INFO!C135=0,\" \",COUNTRY_INFO!C135)","v":"QUELA"},{"$f":"COUNTRY_INFO!M135","v":24580.230907390211},null,null,{"$f":"MAX('MDA1'!M135,'MDA4'!U135)","v":0},{"$f":"IF(AND(COUNTRY_INFO!H135>0,COUNTRY_INFO!H135<4),IF(D135>MAX('MDA1'!M135,'MDA4'!U135),MAX('MDA1'!M135,'MDA4'!U135),D135),0)","v":0},{"$f":"IF(AND(COUNTRY_INFO!H135>0,COUNTRY_INFO!H135<4), IF(G135/D135*100<>0, IF(G135/D135*100>100,100,G135/D135*100), \"-\"),0)","v":"-"},{"$f":"COUNTRY_INFO!N135","v":"Unknown"},null,null,{"$f":"MAX('MDA1'!M135,MAX('MDA3'!I135,'MDA3'!L135)+MAX('MDA3'!J135,'MDA3'!M135))","v":0},{"$f":"IF(AND(COUNTRY_INFO!I135>0,COUNTRY_INFO!I135<4),IF(J135>MAX('MDA1'!M135,MAX('MDA3'!I135,'MDA3'!L135)+MAX('MDA3'!J135,'MDA3'!M135)),MAX('MDA1'!M135,MAX('MDA3'!I135,'MDA3'!L135)+MAX('MDA3'!J135,'MDA3'!M135)),J135),0)","v":0},{"$f":"IF(AND(COUNTRY_INFO!I135>0,COUNTRY_INFO!I135<4), IF(M135/J135*100<>0, IF(M135/J135*100>100,100,M135/J135*100), \"-\"),0)","v":0},{"$f":"COUNTRY_INFO!O135","v":10791},null,null,{"$f":"SUM(MAX('MDA4'!R135, 'T1'!L135, MAX(T3_R1!K135, T3_R2!K135)), MAX('MDA1'!K135, 'MDA4'!S135, 'T1'!M135, MAX(T3_R1!L135, T3_R2!L135)), MAX('MDA1'!L135, 'MDA4'!T135, 'T1'!N135, MAX(T3_R1!M135, T3_R2!M135)))","v":0},{"$f":"IF(AND(COUNTRY_INFO!J135>1,COUNTRY_INFO!J135<4),IF(COUNTRY_INFO!E135>MAX('MDA4'!R135,'T1'!L135,MAX(T3_R1!K135,T3_R2!K135)),MAX('MDA4'!R135,'T1'!L135,MAX(T3_R1!K135,T3_R2!K135)),COUNTRY_INFO!E135),0)","v":0},{"$f":"IF(AND(COUNTRY_INFO!J135>1,COUNTRY_INFO!J135<4), IF(T135/COUNTRY_INFO!E135*100<>0, IF(T135/COUNTRY_INFO!E135*100>100,100,T135/COUNTRY_INFO!E135*100), \"-\"),0)","v":"-"},{"$f":"IF(AND(COUNTRY_INFO!J135>1,COUNTRY_INFO!J135<4),IF(COUNTRY_INFO!F135>MAX('MDA1'!K135,'MDA4'!S135,'T1'!M135,MAX(T3_R1!L135,T3_R2!L135)),MAX('MDA1'!K135,'MDA4'!S135,'T1'!M135,MAX(T3_R1!L135,T3_R2!L135)),COUNTRY_INFO!F135),0)","v":0},{"$f":"IF(AND(COUNTRY_INFO!J135>1,COUNTRY_INFO!J135<4), IF(V135/COUNTRY_INFO!F135*100<>0, IF(V135/COUNTRY_INFO!F135*100>100,100,V135/COUNTRY_INFO!F135*100), \"-\"),0)","v":"-"},0,{"$f":"IF(AND(COUNTRY_INFO!J135>1,COUNTRY_INFO!J135<4), IF(S135/P135*100<>0, IF(X135/P135*100>100,100,X135/P135*100), \"-\"),0)","v":"-"},{"$f":"COUNTRY_INFO!P135","v":6019.8},null,null,{"$f":"MAX('T1'!L135,'T2'!J135)+MAX('T1'!M135,'T2'!K135)+MAX('T1'!N135,'T2'!L135)","v":0},{"$f":"IF(COUNTRY_INFO!K135=1,IF(COUNTRY_INFO!F135*0.33>MAX('T1'!M135,'T2'!K135),MAX('T1'!M135,'T2'!K135),COUNTRY_INFO!F135*0.33),IF(COUNTRY_INFO!K135=2,IF(COUNTRY_INFO!F135*0.5>MAX('T1'!M135,'T2'!K135),MAX('T1'!M135,'T2'!K135),COUNTRY_INFO!F135*0.5),IF(COUNTRY_INFO!K135=3,IF(COUNTRY_INFO!F135>MAX('T1'!M135,'T2'!K135),MAX('T1'!M135,'T2'!K135),COUNTRY_INFO!F135),0)))","v":0},{"$f":"IF(AND(COUNTRY_INFO!K135>0,COUNTRY_INFO!L135<4),IF(Z135>0,IF(COUNTRY_INFO!K135=1, AD135/(COUNTRY_INFO!F135*0.33)*100, IF(COUNTRY_INFO!K135=2, AD135/(COUNTRY_INFO!F135*0.5)*100, IF(COUNTRY_INFO!K135=3, AD135/COUNTRY_INFO!F135*100))),\"-\"),0)","v":0},{"$f":"IF(COUNTRY_INFO!K135=2,IF(COUNTRY_INFO!G135*0.2>MAX('T1'!N135,'T2'!L135),MAX('T1'!N135,'T2'!L135),COUNTRY_INFO!G135*0.2),IF(COUNTRY_INFO!K135=3,IF(COUNTRY_INFO!G135>MAX('T1'!N135,'T2'!L135),MAX('T1'!N135,'T2'!L135),COUNTRY_INFO!G135),0))","v":0},{"$f":"IF(AND(COUNTRY_INFO!K135>0,COUNTRY_INFO!L135<4),IF(Z135>0,IF(COUNTRY_INFO!K135=1, 0, IF(COUNTRY_INFO!K135=2, AF135/(COUNTRY_INFO!G135*0.2)*100, IF(COUNTRY_INFO!K135=3, AF135/COUNTRY_INFO!G135*100))),\"-\"),0)","v":0},0,{"$f":"IF(AND(COUNTRY_INFO!K135>0,COUNTRY_INFO!K135<4), IF(AC135/Z135*100<>0, IF(AH135/Z135*100>100,100,AH135/Z135*100), \"-\"),0)","v":"-"},null,{"$f":"IF(AND(D135<>0, D135<>\"Unknown\",D135<>\"Stopped\",D135<>\"Not required\"),D135/COUNTRY_INFO!D135, 0)","v":1},{"$f":"IF(AND(J135<>0,J135<>\"Unknown\",J135<>\"Stopped\",J135<>\"Not required\"),J135/COUNTRY_INFO!D135, 0)","v":0},{"$f":"IF(AND(P135<>0,P135<>\"Unknown\",P135<>\"Not required\"),P135/(COUNTRY_INFO!E135+COUNTRY_INFO!F135), 0)","v":1},{"$f":"IF(AND(Z135<>0,Z135<>\"Unknown\",Z135<>\"Not required\"),IF(COUNTRY_INFO!K135=1,1,IF(COUNTRY_INFO!K135=2,0.5*COUNTRY_INFO!F135/(0.5*COUNTRY_INFO!F135+0.2*COUNTRY_INFO!G135),IF(COUNTRY_INFO!K135=3,COUNTRY_INFO!F135/(COUNTRY_INFO!F135+COUNTRY_INFO!G135)))),0)","v":0.569620253164557},{"$f":"IF(AND(Z135<>0,Z135<>\"Unknown\",Z135<>\"Not required\"),IF(COUNTRY_INFO!K135=1,0,IF(COUNTRY_INFO!K135=2,0.2*COUNTRY_INFO!G135/(0.5*COUNTRY_INFO!F135+0.2*COUNTRY_INFO!G135),IF(COUNTRY_INFO!K135=3,COUNTRY_INFO!G135/(COUNTRY_INFO!F135+COUNTRY_INFO!G135)))),0)","v":0.43037974683544306},{"$f":"MAX(COUNTRY_INFO!D135*AK135*PROFILE!$G$7,COUNTRY_INFO!D135*AL135*PROFILE!$G$7)","v":835.73382728545494},{"$f":"MAX(COUNTRY_INFO!D135*AK135*PROFILE!$G$8,COUNTRY_INFO!D135*AL135*PROFILE!$G$8,COUNTRY_INFO!D135*AM135*PROFILE!$G$8)","v":3932.8335408877492},{"$f":"MAX(COUNTRY_INFO!D135*AK135*PROFILE!$G$9,COUNTRY_INFO!D135*AL135*PROFILE!$G$9,COUNTRY_INFO!D135*AM135*PROFILE!$G$9,IF(AND(DISTRICT!Z135<>\"Unknown\",Z135<>\"Not required\"),COUNTRY_INFO!P135*DISTRICT!AN135,0))","v":6857.8817662603324},{"$f":"MAX(COUNTRY_INFO!D135*AK135*PROFILE!$G$10,COUNTRY_INFO!D135*AL135*PROFILE!$G$10,IF(AND(DISTRICT!Z135<>\"Unknown\",Z135<>\"Not required\"),COUNTRY_INFO!P135*DISTRICT!AO135,0))","v":12953.781772956674},24580.230907390211,0,{"$f":"MAX('MDA4'!R135,'T1'!L135,'T2'!J135,T3_R1!K135,T3_R2!K135)","v":0},{"$f":"MAX('MDA1'!K135,'MDA4'!S135,'MDA3'!I135,'MDA3'!L135,'T1'!M135,'T2'!K135,T3_R1!L135,T3_R2!L135)","v":0},{"$f":"MAX('MDA1'!L135,'MDA4'!T135,'MDA3'!J135,'MDA3'!M135,'T1'!N135,'T2'!L135,T3_R1!M135,T3_R2!M135)","v":0},0,{"$f":"MAX('MDA4'!R135,T135)","v":0},{"$f":"MAX('MDA1'!K135,'MDA4'!S135,'MDA3'!I135,'MDA3'!L135,V135,AD135)","v":0},{"$f":"MAX('MDA1'!L135,'MDA4'!T135,'MDA3'!J135,'MDA3'!M135,AF135)","v":0},0,0]
[{"$f":"IF(COUNTRY_INFO!A136=0,\" \",COUNTRY_INFO!A136)","v":"Angola"},{"$f":"IF(COUNTRY_INFO!B136=0,\" \",COUNTRY_INFO!B136)","v":"MALANJE"},{"$f":"IF(COUNTRY_INFO!C136=0,\" \",COUNTRY_INFO!C136)","v":"QUIRIMA"},{"$f":"COUNTRY_INFO!M136","v":0},null,null,{"$f":"MAX('MDA1'!M136,'MDA4'!U136)","v":0},{"$f":"IF(AND(COUNTRY_INFO!H136>0,COUNTRY_INFO!H136<4),IF(D136>MAX('MDA1'!M136,'MDA4'!U136),MAX('MDA1'!M136,'MDA4'!U136),D136),0)","v":0},{"$f":"IF(AND(COUNTRY_INFO!H136>0,COUNTRY_INFO!H136<4), IF(G136/D136*100<>0, IF(G136/D136*100>100,100,G136/D136*100), \"-\"),0)","v":0},{"$f":"COUNTRY_INFO!N136","v":"Unknown"},null,null,{"$f":"MAX('MDA1'!M136,MAX('MDA3'!I136,'MDA3'!L136)+MAX('MDA3'!J136,'MDA3'!M136))","v":0},{"$f":"IF(AND(COUNTRY_INFO!I136>0,COUNTRY_INFO!I136<4),IF(J136>MAX('MDA1'!M136,MAX('MDA3'!I136,'MDA3'!L136)+MAX('MDA3'!J136,'MDA3'!M136)),MAX('MDA1'!M136,MAX('MDA3'!I136,'MDA3'!L136)+MAX('MDA3'!J136,'MDA3'!M136)),J136),0)","v":0},{"$f":"IF(AND(COUNTRY_INFO!I136>0,COUNTRY_INFO!I136<4), IF(M136/J136*100<>0, IF(M136/J136*100>100,100,M136/J136*100), \"-\"),0)","v":0},{"$f":"COUNTRY_INFO!O136","v":10886},null,null,{"$f":"SUM(MAX('MDA4'!R136, 'T1'!L136, MAX(T3_R1!K136, T3_R2!K136)), MAX('MDA1'!K136, 'MDA4'!S136, 'T1'!M136, MAX(T3_R1!L136, T3_R2!L136)), MAX('MDA1'!L136, 'MDA4'!T136, 'T1'!N136, MAX(T3_R1!M136, T3_R2!M136)))","v":0},{"$f":"IF(AND(COUNTRY_INFO!J136>1,COUNTRY_INFO!J136<4),IF(COUNTRY_INFO!E136>MAX('MDA4'!R136,'T1'!L136,MAX(T3_R1!K136,T3_R2!K136)),MAX('MDA4'!R136,'T1'!L136,MAX(T3_R1!K136,T3_R2!K136)),COUNTRY_INFO!E136),0)","v":0},{"$f":"IF(AND(COUNTRY_INFO!J136>1,COUNTRY_INFO!J136<4), IF(T136/COUNTRY_INFO!E136*100<>0, IF(T136/COUNTRY_INFO!E136*100>100,100,T136/COUNTRY_INFO!E136*100), \"-\"),0)","v":"-"},{"$f":"IF(AND(COUNTRY_INFO!J136>1,COUNTRY_INFO!J136<4),IF(COUNTRY_INFO!F136>MAX('MDA1'!K136,'MDA4'!S136,'T1'!M136,MAX(T3_R1!L136,T3_R2!L136)),MAX('MDA1'!K136,'MDA4'!S136,'T1'!M136,MAX(T3_R1!L136,T3_R2!L136)),COUNTRY_INFO!F136),0)","v":0},{"$f":"IF(AND(COUNTRY_INFO!J136>1,COUNTRY_INFO!J136<4), IF(V136/COUNTRY_INFO!F136*100<>0, IF(V136/COUNTRY_INFO!F136*100>100,100,V136/COUNTRY_INFO!F136*100), \"-\"),0)","v":"-"},0,{"$f":"IF(AND(COUNTRY_INFO!J136>1,COUNTRY_INFO!J136<4), IF(S136/P136*100<>0, IF(X136/P136*100>100,100,X136/P136*100), \"-\"),0)","v":"-"},{"$f":"COUNTRY_INFO!P136","v":6072.6},null,null,{"$f":"MAX('T1'!L136,'T2'!J136)+MAX('T1'!M136,'T2'!K136)+MAX('T1'!N136,'T2'!L136)","v":0},{"$f":"IF(COUNTRY_INFO!K136=1,IF(COUNTRY_INFO!F136*0.33>MAX('T1'!M136,'T2'!K136),MAX('T1'!M136,'T2'!K136),COUNTRY_INFO!F136*0.33),IF(COUNTRY_INFO!K136=2,IF(COUNTRY_INFO!F136*0.5>MAX('T1'!M136,'T2'!K136),MAX('T1'!M136,'T2'!K136),COUNTRY_INFO!F136*0.5),IF(COUNTRY_INFO!K136=3,IF(COUNTRY_INFO!F136>MAX('T1'!M136,'T2'!K136),MAX('T1'!M136,'T2'!K136),COUNTRY_INFO!F136),0)))","v":0},{"$f":"IF(AND(COUNTRY_INFO!K136>0,COUNTRY_INFO!L136<4),IF(Z136>0,IF(COUNTRY_INFO!K136=1, AD136/(COUNTRY_INFO!F136*0.33)*100, IF(COUNTRY_INFO!K136=2, AD136/(COUNTRY_INFO!F136*0.5)*100, IF(COUNTRY_INFO!K136=3, AD136/COUNTRY_INFO!F136*100))),\"-\"),0)","v":0},{"$f":"IF(COUNTRY_INFO!K136=2,IF(COUNTRY_INFO!G136*0.2>MAX('T1'!N136,'T2'!L136),MAX('T1'!N136,'T2'!L136),COUNTRY_INFO!G136*0.2),IF(COUNTRY_INFO!K136=3,IF(COUNTRY_INFO!G136>MAX('T1'!N136,'T2'!L136),MAX('T1'!N136,'T2'!L136),COUNTRY_INFO!G136),0))","v":0},{"$f":"IF(AND(COUNTRY_INFO!K136>0,COUNTRY_INFO!L136<4),IF(Z136>0,IF(COUNTRY_INFO!K136=1, 0, IF(COUNTRY_INFO!K136=2, AF136/(COUNTRY_INFO!G136*0.2)*100, IF(COUNTRY_INFO!K136=3, AF136/COUNTRY_INFO!G136*100))),\"-\"),0)","v":0},0,{"$f":"IF(AND(COUNTRY_INFO!K136>0,COUNTRY_INFO!K136<4), IF(AC136/Z136*100<>0, IF(AH136/Z136*100>100,100,AH136/Z136*100), \"-\"),0)","v":"-"},null,{"$f":"IF(AND(D136<>0, D136<>\"Unknown\",D136<>\"Stopped\",D136<>\"Not required\"),D136/COUNTRY_INFO!D136, 0)","v":0},{"$f":"IF(AND(J136<>0,J136<>\"Unknown\",J136<>\"Stopped\",J136<>\"Not required\"),J136/COUNTRY_INFO!D136, 0)","v":0},{"$f":"IF(AND(P136<>0,P136<>\"Unknown\",P136<>\"Not required\"),P136/(COUNTRY_INFO!E136+COUNTRY_INFO!F136), 0)","v":1},{"$f":"IF(AND(Z136<>0,Z136<>\"Unknown\",Z136<>\"Not required\"),IF(COUNTRY_INFO!K136=1,1,IF(COUNTRY_INFO!K136=2,0.5*COUNTRY_INFO!F136/(0.5*COUNTRY_INFO!F136+0.2*COUNTRY_INFO!G136),IF(COUNTRY_INFO!K136=3,COUNTRY_INFO!F136/(COUNTRY_INFO!F136+COUNTRY_INFO!G136)))),0)","v":0.56960774627013133},{"$f":"IF(AND(Z136<>0,Z136<>\"Unknown\",Z136<>\"Not required\"),IF(COUNTRY_INFO!K136=1,0,IF(COUNTRY_INFO!K136=2,0.2*COUNTRY_INFO!G136/(0.5*COUNTRY_INFO!F136+0.2*COUNTRY_INFO!G136),IF(COUNTRY_INFO!K136=3,COUNTRY_INFO!G136/(COUNTRY_INFO!F136+COUNTRY_INFO!G136)))),0)","v":0.43039225372986861},{"$f":"MAX(COUNTRY_INFO!D136*AK136*PROFILE!$G$7,COUNTRY_INFO!D136*AL136*PROFILE!$G$7)","v":0},{"$f":"MAX(COUNTRY_INFO!D136*AK136*PROFILE!$G$8,COUNTRY_INFO!D136*AL136*PROFILE!$G$8,COUNTRY_INFO!D136*AM136*PROFILE!$G$8)","v":3967.5642776801606},{"$f":"MAX(COUNTRY_INFO!D136*AK136*PROFILE!$G$9,COUNTRY_INFO!D136*AL136*PROFILE!$G$9,COUNTRY_INFO!D136*AM136*PROFILE!$G$9,IF(AND(DISTRICT!Z136<>\"Unknown\",Z136<>\"Not required\"),COUNTRY_INFO!P136*DISTRICT!AN136,0))","v":6918.4435175018307},{"$f":"MAX(COUNTRY_INFO!D136*AK136*PROFILE!$G$10,COUNTRY_INFO!D136*AL136*PROFILE!$G$10,IF(AND(DISTRICT!Z136<>\"Unknown\",Z136<>\"Not required\"),COUNTRY_INFO!P136*DISTRICT!AO136,0))","v":2613.6000000000004},13499.607795181992,0,{"$f":"MAX('MDA4'!R136,'T1'!L136,'T2'!J136,T3_R1!K136,T3_R2!K136)","v":0},{"$f":"MAX('MDA1'!K136,'MDA4'!S136,'MDA3'!I136,'MDA3'!L136,'T1'!M136,'T2'!K136,T3_R1!L136,T3_R2!L136)","v":0},{"$f":"MAX('MDA1'!L136,'MDA4'!T136,'MDA3'!J136,'MDA3'!M136,'T1'!N136,'T2'!L136,T3_R1!M136,T3_R2!M136)","v":0},0,{"$f":"MAX('MDA4'!R136,T136)","v":0},{"$f":"MAX('MDA1'!K136,'MDA4'!S136,'MDA3'!I136,'MDA3'!L136,V136,AD136)","v":0},{"$f":"MAX('MDA1'!L136,'MDA4'!T136,'MDA3'!J136,'MDA3'!M136,AF136)","v":0},0,0]
[{"$f":"IF(COUNTRY_INFO!A137=0,\" \",COUNTRY_INFO!A137)","v":"Angola"},{"$f":"IF(COUNTRY_INFO!B137=0,\" \",COUNTRY_INFO!B137)","v":"MOXICO"},{"$f":"IF(COUNTRY_INFO!C137=0,\" \",COUNTRY_INFO!C137)","v":"ALTO ZAMBEZE"},{"$f":"COUNTRY_INFO!M137","v":0},null,null,{"$f":"MAX('MDA1'!M137,'MDA4'!U137)","v":0},{"$f":"IF(AND(COUNTRY_INFO!H137>0,COUNTRY_INFO!H137<4),IF(D137>MAX('MDA1'!M137,'MDA4'!U137),MAX('MDA1'!M137,'MDA4'!U137),D137),0)","v":0},{"$f":"IF(AND(COUNTRY_INFO!H137>0,COUNTRY_INFO!H137<4), IF(G137/D137*100<>0, IF(G137/D137*100>100,100,G137/D137*100), \"-\"),0)","v":0},{"$f":"COUNTRY_INFO!N137","v":"Unknown"},null,null,{"$f":"MAX('MDA1'!M137,MAX('MDA3'!I137,'MDA3'!L137)+MAX('MDA3'!J137,'MDA3'!M137))","v":0},{"$f":"IF(AND(COUNTRY_INFO!I137>0,COUNTRY_INFO!I137<4),IF(J137>MAX('MDA1'!M137,MAX('MDA3'!I137,'MDA3'!L137)+MAX('MDA3'!J137,'MDA3'!M137)),MAX('MDA1'!M137,MAX('MDA3'!I137,'MDA3'!L137)+MAX('MDA3'!J137,'MDA3'!M137)),J137),0)","v":0},{"$f":"IF(AND(COUNTRY_INFO!I137>0,COUNTRY_INFO!I137<4), IF(M137/J137*100<>0, IF(M137/J137*100>100,100,M137/J137*100), \"-\"),0)","v":0},{"$f":"COUNTRY_INFO!O137","v":7444},null,null,{"$f":"SUM(MAX('MDA4'!R137, 'T1'!L137, MAX(T3_R1!K137, T3_R2!K137)), MAX('MDA1'!K137, 'MDA4'!S137, 'T1'!M137, MAX(T3_R1!L137, T3_R2!L137)), MAX('MDA1'!L137, 'MDA4'!T137, 'T1'!N137, MAX(T3_R1!M137, T3_R2!M137)))","v":0},{"$f":"IF(AND(COUNTRY_INFO!J137>1,COUNTRY_INFO!J137<4),IF(COUNTRY_INFO!E137>MAX('MDA4'!R137,'T1'!L137,MAX(T3_R1!K137,T3_R2!K137)),MAX('MDA4'!R137,'T1'!L137,MAX(T3_R1!K137,T3_R2!K137)),COUNTRY_INFO!E137),0)","v":0},{"$f":"IF(AND(COUNTRY_INFO!J137>1,COUNTRY_INFO!J137<4), IF(T137/COUNTRY_INFO!E137*100<>0, IF(T137/COUNTRY_INFO!E137*100>100,100,T137/COUNTRY_INFO!E137*100), \"-\"),0)","v":"-"},{"$f":"IF(AND(COUNTRY_INFO!J137>1,COUNTRY_INFO!J137<4),IF(COUNTRY_INFO!F137>MAX('MDA1'!K137,'MDA4'!S137,'T1'!M137,MAX(T3_R1!L137,T3_R2!L137)),MAX('MDA1'!K137,'MDA4'!S137,'T1'!M137,MAX(T3_R1!L137,T3_R2!L137)),COUNTRY_INFO!F137),0)","v":0},{"$f":"IF(AND(COUNTRY_INFO!J137>1,COUNTRY_INFO!J137<4), IF(V137/COUNTRY_INFO!F137*100<>0, IF(V137/COUNTRY_INFO!F137*100>100,100,V137/COUNTRY_INFO!F137*100), \"-\"),0)","v":"-"},0,{"$f":"IF(AND(COUNTRY_INFO!J137>1,COUNTRY_INFO!J137<4), IF(S137/P137*100<>0, IF(X137/P137*100>100,100,X137/P137*100), \"-\"),0)","v":"-"},{"$f":"COUNTRY_INFO!P137","v":4152.7},null,null,{"$f":"MAX('T1'!L137,'T2'!J137)+MAX('T1'!M137,'T2'!K137)+MAX('T1'!N137,'T2'!L137)","v":0},{"$f":"IF(COUNTRY_INFO!K137=1,IF(COUNTRY_INFO!F137*0.33>MAX('T1'!M137,'T2'!K137),MAX('T1'!M137,'T2'!K137),COUNTRY_INFO!F137*0.33),IF(COUNTRY_INFO!K137=2,IF(COUNTRY_INFO!F137*0.5>MAX('T1'!M137,'T2'!K137),MAX('T1'!M137,'T2'!K137),COUNTRY_INFO!F137*0.5),IF(COUNTRY_INFO!K137=3,IF(COUNTRY_INFO!F137>MAX('T1'!M137,'T2'!K137),MAX('T1'!M137,'T2'!K137),COUNTRY_INFO!F137),0)))","v":0},{"$f":"IF(AND(COUNTRY_INFO!K137>0,COUNTRY_INFO!L137<4),IF(Z137>0,IF(COUNTRY_INFO!K137=1, AD137/(COUNTRY_INFO!F137*0.33)*100, IF(COUNTRY_INFO!K137=2, AD137/(COUNTRY_INFO!F137*0.5)*100, IF(COUNTRY_INFO!K137=3, AD137/COUNTRY_INFO!F137*100))),\"-\"),0)","v":0},{"$f":"IF(COUNTRY_INFO!K137=2,IF(COUNTRY_INFO!G137*0.2>MAX('T1'!N137,'T2'!L137),MAX('T1'!N137,'T2'!L137),COUNTRY_INFO!G137*0.2),IF(COUNTRY_INFO!K137=3,IF(COUNTRY_INFO!G137>MAX('T1'!N137,'T2'!L137),MAX('T1'!N137,'T2'!L137),COUNTRY_INFO!G137),0))","v":0},{"$f":"IF(AND(COUNTRY_INFO!K137>0,COUNTRY_INFO!L137<4),IF(Z137>0,IF(COUNTRY_INFO!K137=1, 0, IF(COUNTRY_INFO!K137=2, AF137/(COUNTRY_INFO!G137*0.2)*100, IF(COUNTRY_INFO!K137=3, AF137/COUNTRY_INFO!G137*100))),\"-\"),0)","v":0},0,{"$f":"IF(AND(COUNTRY_INFO!K137>0,COUNTRY_INFO!K137<4), IF(AC137/Z137*100<>0, IF(AH137/Z137*100>100,100,AH137/Z137*100), \"-\"),0)","v":"-"},null,{"$f":"IF(AND(D137<>0, D137<>\"Unknown\",D137<>\"Stopped\",D137<>\"Not required\"),D137/COUNTRY_INFO!D137, 0)","v":0},{"$f":"IF(AND(J137<>0,J137<>\"Unknown\",J137<>\"Stopped\",J137<>\"Not required\"),J137/COUNTRY_INFO!D137, 0)","v":0},{"$f":"IF(AND(P137<>0,P137<>\"Unknown\",P137<>\"Not required\"),P137/(COUNTRY_INFO!E137+COUNTRY_INFO!F137), 0)","v":1},{"$f":"IF(AND(Z137<>0,Z137<>\"Unknown\",Z137<>\"Not required\"),IF(COUNTRY_INFO!K137=1,1,IF(COUNTRY_INFO!K137=2,0.5*COUNTRY_INFO!F137/(0.5*COUNTRY_INFO!F137+0.2*COUNTRY_INFO!G137),IF(COUNTRY_INFO!K137=3,COUNTRY_INFO!F137/(COUNTRY_INFO!F137+COUNTRY_INFO!G137)))),0)","v":0.56962939774122867},{"$f":"IF(AND(Z137<>0,Z137<>\"Unknown\",Z137<>\"Not required\"),IF(COUNTRY_INFO!K137=1,0,IF(COUNTRY_INFO!K137=2,0.2*COUNTRY_INFO!G137/(0.5*COUNTRY_INFO!F137+0.2*COUNTRY_INFO!G137),IF(COUNTRY_INFO!K137=3,COUNTRY_INFO!G137/(COUNTRY_INFO!F137+COUNTRY_INFO!G137)))),0)","v":0.43037060225877144},{"$f":"MAX(COUNTRY_INFO!D137*AK137*PROFILE!$G$7,COUNTRY_INFO!D137*AL137*PROFILE!$G$7)","v":0},{"$f":"MAX(COUNTRY_INFO!D137*AK137*PROFILE!$G$8,COUNTRY_INFO!D137*AL137*PROFILE!$G$8,COUNTRY_INFO!D137*AM137*PROFILE!$G$8)","v":2712.9398777683355},{"$f":"MAX(COUNTRY_INFO!D137*AK137*PROFILE!$G$9,COUNTRY_INFO!D137*AL137*PROFILE!$G$9,COUNTRY_INFO!D137*AM137*PROFILE!$G$9,IF(AND(DISTRICT!Z137<>\"Unknown\",Z137<>\"Not required\"),COUNTRY_INFO!P137*DISTRICT!AN137,0))","v":4730.6911740048718},{"$f":"MAX(COUNTRY_INFO!D137*AK137*PROFILE!$G$10,COUNTRY_INFO!D137*AL137*PROFILE!$G$10,IF(AND(DISTRICT!Z137<>\"Unknown\",Z137<>\"Not required\"),COUNTRY_INFO!P137*DISTRICT!AO137,0))","v":1787.2},9230.8310517732079,0,{"$f":"MAX('MDA4'!R137,'T1'!L137,'T2'!J137,T3_R1!K137,T3_R2!K137)","v":0},{"$f":"MAX('MDA1'!K137,'MDA4'!S137,'MDA3'!I137,'MDA3'!L137,'T1'!M137,'T2'!K137,T3_R1!L137,T3_R2!L137)","v":0},{"$f":"MAX('MDA1'!L137,'MDA4'!T137,'MDA3'!J137,'MDA3'!M137,'T1'!N137,'T2'!L137,T3_R1!M137,T3_R2!M137)","v":0},0,{"$f":"MAX('MDA4'!R137,T137)","v":0},{"$f":"MAX('MDA1'!K137,'MDA4'!S137,'MDA3'!I137,'MDA3'!L137,V137,AD137)","v":0},{"$f":"MAX('MDA1'!L137,'MDA4'!T137,'MDA3'!J137,'MDA3'!M137,AF137)","v":0},0,0]
[{"$f":"IF(COUNTRY_INFO!A138=0,\" \",COUNTRY_INFO!A138)","v":"Angola"},{"$f":"IF(COUNTRY_INFO!B138=0,\" \",COUNTRY_INFO!B138)","v":"MOXICO"},{"$f":"IF(COUNTRY_INFO!C138=0,\" \",COUNTRY_INFO!C138)","v":"BUNDAS (LUMBALA NGUIMBO)"},{"$f":"COUNTRY_INFO!M138","v":"Unknown"},null,null,{"$f":"MAX('MDA1'!M138,'MDA4'!U138)","v":0},{"$f":"IF(AND(COUNTRY_INFO!H138>0,COUNTRY_INFO!H138<4),IF(D138>MAX('MDA1'!M138,'MDA4'!U138),MAX('MDA1'!M138,'MDA4'!U138),D138),0)","v":0},{"$f":"IF(AND(COUNTRY_INFO!H138>0,COUNTRY_INFO!H138<4), IF(G138/D138*100<>0, IF(G138/D138*100>100,100,G138/D138*100), \"-\"),0)","v":0},{"$f":"COUNTRY_INFO!N138","v":"Unknown"},null,null,{"$f":"MAX('MDA1'!M138,MAX('MDA3'!I138,'MDA3'!L138)+MAX('MDA3'!J138,'MDA3'!M138))","v":0},{"$f":"IF(AND(COUNTRY_INFO!I138>0,COUNTRY_INFO!I138<4),IF(J138>MAX('MDA1'!M138,MAX('MDA3'!I138,'MDA3'!L138)+MAX('MDA3'!J138,'MDA3'!M138)),MAX('MDA1'!M138,MAX('MDA3'!I138,'MDA3'!L138)+MAX('MDA3'!J138,'MDA3'!M138)),J138),0)","v":0},{"$f":"IF(AND(COUNTRY_INFO!I138>0,COUNTRY_INFO!I138<4), IF(M138/J138*100<>0, IF(M138/J138*100>100,100,M138/J138*100), \"-\"),0)","v":0},{"$f":"COUNTRY_INFO!O138","v":15183},null,null,{"$f":"SUM(MAX('MDA4'!R138, 'T1'!L138, MAX(T3_R1!K138, T3_R2!K138)), MAX('MDA1'!K138, 'MDA4'!S138, 'T1'!M138, MAX(T3_R1!L138, T3_R2!L138)), MAX('MDA1'!L138, 'MDA4'!T138, 'T1'!N138, MAX(T3_R1!M138, T3_R2!M138)))","v":0},{"$f":"IF(AND(COUNTRY_INFO!J138>1,COUNTRY_INFO!J138<4),IF(COUNTRY_INFO!E138>MAX('MDA4'!R138,'T1'!L138,MAX(T3_R1!K138,T3_R2!K138)),MAX('MDA4'!R138,'T1'!L138,MAX(T3_R1!K138,T3_R2!K138)),COUNTRY_INFO!E138),0)","v":0},{"$f":"IF(AND(COUNTRY_INFO!J138>1,COUNTRY_INFO!J138<4), IF(T138/COUNTRY_INFO!E138*100<>0, IF(T138/COUNTRY_INFO!E138*100>100,100,T138/COUNTRY_INFO!E138*100), \"-\"),0)","v":"-"},{"$f":"IF(AND(COUNTRY_INFO!J138>1,COUNTRY_INFO!J138<4),IF(COUNTRY_INFO!F138>MAX('MDA1'!K138,'MDA4'!S138,'T1'!M138,MAX(T3_R1!L138,T3_R2!L138)),MAX('MDA1'!K138,'MDA4'!S138,'T1'!M138,MAX(T3_R1!L138,T3_R2!L138)),COUNTRY_INFO!F138),0)","v":0},{"$f":"IF(AND(COUNTRY_INFO!J138>1,COUNTRY_INFO!J138<4), IF(V138/COUNTRY_INFO!F138*100<>0, IF(V138/COUNTRY_INFO!F138*100>100,100,V138/COUNTRY_INFO!F138*100), \"-\"),0)","v":"-"},{"$f":"SUM(T138,V138)","v":0},{"$f":"IF(AND(COUNTRY_INFO!J138>1,COUNTRY_INFO!J138<4), IF(S138/P138*100<>0, IF(X138/P138*100>100,100,X138/P138*100), \"-\"),0)","v":"-"},{"$f":"COUNTRY_INFO!P138","v":8469.7000000000007},null,null,{"$f":"MAX('T1'!L138,'T2'!J138)+MAX('T1'!M138,'T2'!K138)+MAX('T1'!N138,'T2'!L138)","v":0},{"$f":"IF(COUNTRY_INFO!K138=1,IF(COUNTRY_INFO!F138*0.33>MAX('T1'!M138,'T2'!K138),MAX('T1'!M138,'T2'!K138),COUNTRY_INFO!F138*0.33),IF(COUNTRY_INFO!K138=2,IF(COUNTRY_INFO!F138*0.5>MAX('T1'!M138,'T2'!K138),MAX('T1'!M138,'T2'!K138),COUNTRY_INFO!F138*0.5),IF(COUNTRY_INFO!K138=3,IF(COUNTRY_INFO!F138>MAX('T1'!M138,'T2'!K138),MAX('T1'!M138,'T2'!K138),COUNTRY_INFO!F138),0)))","v":0},{"$f":"IF(AND(COUNTRY_INFO!K138>0,COUNTRY_INFO!L138<4),IF(Z138>0,IF(COUNTRY_INFO!K138=1, AD138/(COUNTRY_INFO!F138*0.33)*100, IF(COUNTRY_INFO!K138=2, AD138/(COUNTRY_INFO!F138*0.5)*100, IF(COUNTRY_INFO!K138=3, AD138/COUNTRY_INFO!F138*100))),\"-\"),0)","v":0},{"$f":"IF(COUNTRY_INFO!K138=2,IF(COUNTRY_INFO!G138*0.2>MAX('T1'!N138,'T2'!L138),MAX('T1'!N138,'T2'!L138),COUNTRY_INFO!G138*0.2),IF(COUNTRY_INFO!K138=3,IF(COUNTRY_INFO!G138>MAX('T1'!N138,'T2'!L138),MAX('T1'!N138,'T2'!L138),COUNTRY_INFO!G138),0))","v":0},{"$f":"IF(AND(COUNTRY_INFO!K138>0,COUNTRY_INFO!L138<4),IF(Z138>0,IF(COUNTRY_INFO!K138=1, 0, IF(COUNTRY_INFO!K138=2, AF138/(COUNTRY_INFO!G138*0.2)*100, IF(COUNTRY_INFO!K138=3, AF138/COUNTRY_INFO!G138*100))),\"-\"),0)","v":0},{"$f":"SUM(AD138,AF138)","v":0},{"$f":"IF(AND(COUNTRY_INFO!K138>0,COUNTRY_INFO!K138<4), IF(AC138/Z138*100<>0, IF(AH138/Z138*100>100,100,AH138/Z138*100), \"-\"),0)","v":"-"},null,{"$f":"IF(AND(D138<>0, D138<>\"Unknown\",D138<>\"Stopped\",D138<>\"Not required\"),D138/COUNTRY_INFO!D138, 0)","v":0},{"$f":"IF(AND(J138<>0,J138<>\"Unknown\",J138<>\"Stopped\",J138<>\"Not required\"),J138/COUNTRY_INFO!D138, 0)","v":0},{"$f":"IF(AND(P138<>0,P138<>\"Unknown\",P138<>\"Not required\"),P138/(COUNTRY_INFO!E138+COUNTRY_INFO!F138), 0)","v":1},{"$f":"IF(AND(Z138<>0,Z138<>\"Unknown\",Z138<>\"Not required\"),IF(COUNTRY_INFO!K138=1,1,IF(COUNTRY_INFO!K138=2,0.5*COUNTRY_INFO!F138/(0.5*COUNTRY_INFO!F138+0.2*COUNTRY_INFO!G138),IF(COUNTRY_INFO!K138=3,COUNTRY_INFO!F138/(COUNTRY_INFO!F138+COUNTRY_INFO!G138)))),0)","v":0.5696187586337178},{"$f":"IF(AND(Z138<>0,Z138<>\"Unknown\",Z138<>\"Not required\"),IF(COUNTRY_INFO!K138=1,0,IF(COUNTRY_INFO!K138=2,0.2*COUNTRY_INFO!G138/(0.5*COUNTRY_INFO!F138+0.2*COUNTRY_INFO!G138),IF(COUNTRY_INFO!K138=3,COUNTRY_INFO!G138/(COUNTRY_INFO!F138+COUNTRY_INFO!G138)))),0)","v":0.43038124136628214},{"$f":"MAX(COUNTRY_INFO!D138*AK138*PROFILE!$G$7,COUNTRY_INFO!D138*AL138*PROFILE!$G$7)","v":0},{"$f":"MAX(COUNTRY_INFO!D138*AK138*PROFILE!$G$8,COUNTRY_INFO!D138*AL138*PROFILE!$G$8,COUNTRY_INFO!D138*AM138*PROFILE!$G$8)","v":5533.6389064493433},{"$f":"MAX(COUNTRY_INFO!D138*AK138*PROFILE!$G$9,COUNTRY_INFO!D138*AL138*PROFILE!$G$9,COUNTRY_INFO!D138*AM138*PROFILE!$G$9,IF(AND(DISTRICT!Z138<>\"Unknown\",Z138<>\"Not required\"),COUNTRY_INFO!P138*DISTRICT!AN138,0))","v":9649.2874572671517},{"$f":"MAX(COUNTRY_INFO!D138*AK138*PROFILE!$G$10,COUNTRY_INFO!D138*AL138*PROFILE!$G$10,IF(AND(DISTRICT!Z138<>\"Unknown\",Z138<>\"Not required\"),COUNTRY_INFO!P138*DISTRICT!AO138,0))","v":3645.2000000000003},{"$f":"SUM(AP138:AS138)","v":18828.126363716496},{"$f":"IF(COUNTIFS(AK138:AN138,\">0\")=0,0, IF(COUNTIFS(AK138:AN138,\">0\")<=IF(AND(OR(D138>=0,D138=\"Not required\",D138=\"Unknown\",D138=\"Stopped\"),D138>0,H138>0),1,0)+IF(AND(OR(J138>=0,J138=\"Not required\",J138=\"Unknown\",J138=\"Stopped\"),J138>0,N138>0),1,0)+IF(AND(OR(P138>=0,P138=\"Not required\",P138=\"Unknown\"),P138>0,X138>0),1,0)+IF(AND(OR(Z138>=0,Z138=\"Not required\",Z138=\"Unknown\"),Z138>0,AH138>0),1,0),\"Y\",0))","v":0},{"$f":"MAX('MDA4'!R138,'T1'!L138,'T2'!J138,T3_R1!K138,T3_R2!K138)","v":0},{"$f":"MAX('MDA1'!K138,'MDA4'!S138,'MDA3'!I138,'MDA3'!L138,'T1'!M138,'T2'!K138,T3_R1!L138,T3_R2!L138)","v":0},{"$f":"MAX('MDA1'!L138,'MDA4'!T138,'MDA3'!J138,'MDA3'!M138,'T1'!N138,'T2'!L138,T3_R1!M138,T3_R2!M138)","v":0},{"$f":"SUM(AV138:AX138)","v":0},{"$f":"MAX('MDA4'!R138,T138)","v":0},{"$f":"MAX('MDA1'!K138,'MDA4'!S138,'MDA3'!I138,'MDA3'!L138,V138,AD138)","v":0},{"$f":"MAX('MDA1'!L138,'MDA4'!T138,'MDA3'!J138,'MDA3'!M138,AF138)","v":0},{"$f":"IF(AT138<SUM(AZ138:BB138), AT138,SUM(AZ138:BB138))","v":0},{"$f":"IF(AT138<>0,BC138/AT138*100,0)","v":0}]
[{"$f":"IF(COUNTRY_INFO!A139=0,\" \",COUNTRY_INFO!A139)","v":"Angola"},{"$f":"IF(COUNTRY_INFO!B139=0,\" \",COUNTRY_INFO!B139)","v":"MOXICO"},{"$f":"IF(COUNTRY_INFO!C139=0,\" \",COUNTRY_INFO!C139)","v":"CAMANONGUE"},{"$f":"COUNTRY_INFO!M139","v":0},null,null,{"$f":"MAX('MDA1'!M139,'MDA4'!U139)","v":0},{"$f":"IF(AND(COUNTRY_INFO!H139>0,COUNTRY_INFO!H139<4),IF(D139>MAX('MDA1'!M139,'MDA4'!U139),MAX('MDA1'!M139,'MDA4'!U139),D139),0)","v":0},{"$f":"IF(AND(COUNTRY_INFO!H139>0,COUNTRY_INFO!H139<4), IF(G139/D139*100<>0, IF(G139/D139*100>100,100,G139/D139*100), \"-\"),0)","v":0},{"$f":"COUNTRY_INFO!N139","v":40089.395647181314},null,null,{"$f":"MAX('MDA1'!M139,MAX('MDA3'!I139,'MDA3'!L139)+MAX('MDA3'!J139,'MDA3'!M139))","v":0},{"$f":"IF(AND(COUNTRY_INFO!I139>0,COUNTRY_INFO!I139<4),IF(J139>MAX('MDA1'!M139,MAX('MDA3'!I139,'MDA3'!L139)+MAX('MDA3'!J139,'MDA3'!M139)),MAX('MDA1'!M139,MAX('MDA3'!I139,'MDA3'!L139)+MAX('MDA3'!J139,'MDA3'!M139)),J139),0)","v":0},{"$f":"IF(AND(COUNTRY_INFO!I139>0,COUNTRY_INFO!I139<4), IF(M139/J139*100<>0, IF(M139/J139*100>100,100,M139/J139*100), \"-\"),0)","v":"-"},{"$f":"COUNTRY_INFO!O139","v":17599},null,null,{"$f":"SUM(MAX('MDA4'!R139, 'T1'!L139, MAX(T3_R1!K139, T3_R2!K139)), MAX('MDA1'!K139, 'MDA4'!S139, 'T1'!M139, MAX(T3_R1!L139, T3_R2!L139)), MAX('MDA1'!L139, 'MDA4'!T139, 'T1'!N139, MAX(T3_R1!M139, T3_R2!M139)))","v":0},{"$f":"IF(AND(COUNTRY_INFO!J139>1,COUNTRY_INFO!J139<4),IF(COUNTRY_INFO!E139>MAX('MDA4'!R139,'T1'!L139,MAX(T3_R1!K139,T3_R2!K139)),MAX('MDA4'!R139,'T1'!L139,MAX(T3_R1!K139,T3_R2!K139)),COUNTRY_INFO!E139),0)","v":0},{"$f":"IF(AND(COUNTRY_INFO!J139>1,COUNTRY_INFO!J139<4), IF(T139/COUNTRY_INFO!E139*100<>0, IF(T139/COUNTRY_INFO!E139*100>100,100,T139/COUNTRY_INFO!E139*100), \"-\"),0)","v":"-"},{"$f":"IF(AND(COUNTRY_INFO!J139>1,COUNTRY_INFO!J139<4),IF(COUNTRY_INFO!F139>MAX('MDA1'!K139,'MDA4'!S139,'T1'!M139,MAX(T3_R1!L139,T3_R2!L139)),MAX('MDA1'!K139,'MDA4'!S139,'T1'!M139,MAX(T3_R1!L139,T3_R2!L139)),COUNTRY_INFO!F139),0)","v":0},{"$f":"IF(AND(COUNTRY_INFO!J139>1,COUNTRY_INFO!J139<4), IF(V139/COUNTRY_INFO!F139*100<>0, IF(V139/COUNTRY_INFO!F139*100>100,100,V139/COUNTRY_INFO!F139*100), \"-\"),0)","v":"-"},0,{"$f":"IF(AND(COUNTRY_INFO!J139>1,COUNTRY_INFO!J139<4), IF(S139/P139*100<>0, IF(X139/P139*100>100,100,X139/P139*100), \"-\"),0)","v":"-"},{"$f":"COUNTRY_INFO!P139","v":9817.9000000000015},null,null,{"$f":"MAX('T1'!L139,'T2'!J139)+MAX('T1'!M139,'T2'!K139)+MAX('T1'!N139,'T2'!L139)","v":0},{"$f":"IF(COUNTRY_INFO!K139=1,IF(COUNTRY_INFO!F139*0.33>MAX('T1'!M139,'T2'!K139),MAX('T1'!M139,'T2'!K139),COUNTRY_INFO!F139*0.33),IF(COUNTRY_INFO!K139=2,IF(COUNTRY_INFO!F139*0.5>MAX('T1'!M139,'T2'!K139),MAX('T1'!M139,'T2'!K139),COUNTRY_INFO!F139*0.5),IF(COUNTRY_INFO!K139=3,IF(COUNTRY_INFO!F139>MAX('T1'!M139,'T2'!K139),MAX('T1'!M139,'T2'!K139),COUNTRY_INFO!F139),0)))","v":0},{"$f":"IF(AND(COUNTRY_INFO!K139>0,COUNTRY_INFO!L139<4),IF(Z139>0,IF(COUNTRY_INFO!K139=1, AD139/(COUNTRY_INFO!F139*0.33)*100, IF(COUNTRY_INFO!K139=2, AD139/(COUNTRY_INFO!F139*0.5)*100, IF(COUNTRY_INFO!K139=3, AD139/COUNTRY_INFO!F139*100))),\"-\"),0)","v":0},{"$f":"IF(COUNTRY_INFO!K139=2,IF(COUNTRY_INFO!G139*0.2>MAX('T1'!N139,'T2'!L139),MAX('T1'!N139,'T2'!L139),COUNTRY_INFO!G139*0.2),IF(COUNTRY_INFO!K139=3,IF(COUNTRY_INFO!G139>MAX('T1'!N139,'T2'!L139),MAX('T1'!N139,'T2'!L139),COUNTRY_INFO!G139),0))","v":0},{"$f":"IF(AND(COUNTRY_INFO!K139>0,COUNTRY_INFO!L139<4),IF(Z139>0,IF(COUNTRY_INFO!K139=1, 0, IF(COUNTRY_INFO!K139=2, AF139/(COUNTRY_INFO!G139*0.2)*100, IF(COUNTRY_INFO!K139=3, AF139/COUNTRY_INFO!G139*100))),\"-\"),0)","v":0},0,{"$f":"IF(AND(COUNTRY_INFO!K139>0,COUNTRY_INFO!K139<4), IF(AC139/Z139*100<>0, IF(AH139/Z139*100>100,100,AH139/Z139*100), \"-\"),0)","v":"-"},null,{"$f":"IF(AND(D139<>0, D139<>\"Unknown\",D139<>\"Stopped\",D139<>\"Not required\"),D139/COUNTRY_INFO!D139, 0)","v":0},{"$f":"IF(AND(J139<>0,J139<>\"Unknown\",J139<>\"Stopped\",J139<>\"Not required\"),J139/COUNTRY_INFO!D139, 0)","v":1},{"$f":"IF(AND(P139<>0,P139<>\"Unknown\",P139<>\"Not required\"),P139/(COUNTRY_INFO!E139+COUNTRY_INFO!F139), 0)","v":1},{"$f":"IF(AND(Z139<>0,Z139<>\"Unknown\",Z139<>\"Not required\"),IF(COUNTRY_INFO!K139=1,1,IF(COUNTRY_INFO!K139=2,0.5*COUNTRY_INFO!F139/(0.5*COUNTRY_INFO!F139+0.2*COUNTRY_INFO!G139),IF(COUNTRY_INFO!K139=3,COUNTRY_INFO!F139/(COUNTRY_INFO!F139+COUNTRY_INFO!G139)))),0)","v":0.56962283176646733},{"$f":"IF(AND(Z139<>0,Z139<>\"Unknown\",Z139<>\"Not required\"),IF(COUNTRY_INFO!K139=1,0,IF(COUNTRY_INFO!K139=2,0.2*COUNTRY_INFO!G139/(0.5*COUNTRY_INFO!F139+0.2*COUNTRY_INFO!G139),IF(COUNTRY_INFO!K139=3,COUNTRY_INFO!G139/(COUNTRY_INFO!F139+COUNTRY_INFO!G139)))),0)","v":0.43037716823353261},{"$f":"MAX(COUNTRY_INFO!D139*AK139*PROFILE!$G$7,COUNTRY_INFO!D139*AL139*PROFILE!$G$7)","v":1363.0491993346766},{"$f":"MAX(COUNTRY_INFO!D139*AK139*PROFILE!$G$8,COUNTRY_INFO!D139*AL139*PROFILE!$G$8,COUNTRY_INFO!D139*AM139*PROFILE!$G$8)","v":6414.2977512774705},{"$f":"MAX(COUNTRY_INFO!D139*AK139*PROFILE!$G$9,COUNTRY_INFO!D139*AL139*PROFILE!$G$9,COUNTRY_INFO!D139*AM139*PROFILE!$G$9,IF(AND(DISTRICT!Z139<>\"Unknown\",Z139<>\"Not required\"),COUNTRY_INFO!P139*DISTRICT!AN139,0))","v":11184.937052261053},{"$f":"MAX(COUNTRY_INFO!D139*AK139*PROFILE!$G$10,COUNTRY_INFO!D139*AL139*PROFILE!$G$10,IF(AND(DISTRICT!Z139<>\"Unknown\",Z139<>\"Not required\"),COUNTRY_INFO!P139*DISTRICT!AO139,0))","v":21127.111644308116},40089.395647181314,0,{"$f":"MAX('MDA4'!R139,'T1'!L139,'T2'!J139,T3_R1!K139,T3_R2!K139)","v":0},{"$f":"MAX('MDA1'!K139,'MDA4'!S139,'MDA3'!I139,'MDA3'!L139,'T1'!M139,'T2'!K139,T3_R1!L139,T3_R2!L139)","v":0},{"$f":"MAX('MDA1'!L139,'MDA4'!T139,'MDA3'!J139,'MDA3'!M139,'T1'!N139,'T2'!L139,T3_R1!M139,T3_R2!M139)","v":0},0,{"$f":"MAX('MDA4'!R139,T139)","v":0},{"$f":"MAX('MDA1'!K139,'MDA4'!S139,'MDA3'!I139,'MDA3'!L139,V139,AD139)","v":0},{"$f":"MAX('MDA1'!L139,'MDA4'!T139,'MDA3'!J139,'MDA3'!M139,AF139)","v":0},0,0]
[{"$f":"IF(COUNTRY_INFO!A140=0,\" \",COUNTRY_INFO!A140)","v":"Angola"},{"$f":"IF(COUNTRY_INFO!B140=0,\" \",COUNTRY_INFO!B140)","v":"MOXICO"},{"$f":"IF(COUNTRY_INFO!C140=0,\" \",COUNTRY_INFO!C140)","v":"CAMEIA (LUMEJE)"},{"$f":"COUNTRY_INFO!M140","v":0},null,null,{"$f":"MAX('MDA1'!M140,'MDA4'!U140)","v":0},{"$f":"IF(AND(COUNTRY_INFO!H140>0,COUNTRY_INFO!H140<4),IF(D140>MAX('MDA1'!M140,'MDA4'!U140),MAX('MDA1'!M140,'MDA4'!U140),D140),0)","v":0},{"$f":"IF(AND(COUNTRY_INFO!H140>0,COUNTRY_INFO!H140<4), IF(G140/D140*100<>0, IF(G140/D140*100>100,100,G140/D140*100), \"-\"),0)","v":0},{"$f":"COUNTRY_INFO!N140","v":"Unknown"},null,null,{"$f":"MAX('MDA1'!M140,MAX('MDA3'!I140,'MDA3'!L140)+MAX('MDA3'!J140,'MDA3'!M140))","v":0},{"$f":"IF(AND(COUNTRY_INFO!I140>0,COUNTRY_INFO!I140<4),IF(J140>MAX('MDA1'!M140,MAX('MDA3'!I140,'MDA3'!L140)+MAX('MDA3'!J140,'MDA3'!M140)),MAX('MDA1'!M140,MAX('MDA3'!I140,'MDA3'!L140)+MAX('MDA3'!J140,'MDA3'!M140)),J140),0)","v":0},{"$f":"IF(AND(COUNTRY_INFO!I140>0,COUNTRY_INFO!I140<4), IF(M140/J140*100<>0, IF(M140/J140*100>100,100,M140/J140*100), \"-\"),0)","v":0},{"$f":"COUNTRY_INFO!O140","v":10690},null,null,{"$f":"SUM(MAX('MDA4'!R140, 'T1'!L140, MAX(T3_R1!K140, T3_R2!K140)), MAX('MDA1'!K140, 'MDA4'!S140, 'T1'!M140, MAX(T3_R1!L140, T3_R2!L140)), MAX('MDA1'!L140, 'MDA4'!T140, 'T1'!N140, MAX(T3_R1!M140, T3_R2!M140)))","v":0},{"$f":"IF(AND(COUNTRY_INFO!J140>1,COUNTRY_INFO!J140<4),IF(COUNTRY_INFO!E140>MAX('MDA4'!R140,'T1'!L140,MAX(T3_R1!K140,T3_R2!K140)),MAX('MDA4'!R140,'T1'!L140,MAX(T3_R1!K140,T3_R2!K140)),COUNTRY_INFO!E140),0)","v":0},{"$f":"IF(AND(COUNTRY_INFO!J140>1,COUNTRY_INFO!J140<4), IF(T140/COUNTRY_INFO!E140*100<>0, IF(T140/COUNTRY_INFO!E140*100>100,100,T140/COUNTRY_INFO!E140*100), \"-\"),0)","v":"-"},{"$f":"IF(AND(COUNTRY_INFO!J140>1,COUNTRY_INFO!J140<4),IF(COUNTRY_INFO!F140>MAX('MDA1'!K140,'MDA4'!S140,'T1'!M140,MAX(T3_R1!L140,T3_R2!L140)),MAX('MDA1'!K140,'MDA4'!S140,'T1'!M140,MAX(T3_R1!L140,T3_R2!L140)),COUNTRY_INFO!F140),0)","v":0},{"$f":"IF(AND(COUNTRY_INFO!J140>1,COUNTRY_INFO!J140<4), IF(V140/COUNTRY_INFO!F140*100<>0, IF(V140/COUNTRY_INFO!F140*100>100,100,V140/COUNTRY_INFO!F140*100), \"-\"),0)","v":"-"},0,{"$f":"IF(AND(COUNTRY_INFO!J140>1,COUNTRY_INFO!J140<4), IF(S140/P140*100<>0, IF(X140/P140*100>100,100,X140/P140*100), \"-\"),0)","v":"-"},{"$f":"COUNTRY_INFO!P140","v":5963.8},null,null,{"$f":"MAX('T1'!L140,'T2'!J140)+MAX('T1'!M140,'T2'!K140)+MAX('T1'!N140,'T2'!L140)","v":0},{"$f":"IF(COUNTRY_INFO!K140=1,IF(COUNTRY_INFO!F140*0.33>MAX('T1'!M140,'T2'!K140),MAX('T1'!M140,'T2'!K140),COUNTRY_INFO!F140*0.33),IF(COUNTRY_INFO!K140=2,IF(COUNTRY_INFO!F140*0.5>MAX('T1'!M140,'T2'!K140),MAX('T1'!M140,'T2'!K140),COUNTRY_INFO!F140*0.5),IF(COUNTRY_INFO!K140=3,IF(COUNTRY_INFO!F140>MAX('T1'!M140,'T2'!K140),MAX('T1'!M140,'T2'!K140),COUNTRY_INFO!F140),0)))","v":0},{"$f":"IF(AND(COUNTRY_INFO!K140>0,COUNTRY_INFO!L140<4),IF(Z140>0,IF(COUNTRY_INFO!K140=1, AD140/(COUNTRY_INFO!F140*0.33)*100, IF(COUNTRY_INFO!K140=2, AD140/(COUNTRY_INFO!F140*0.5)*100, IF(COUNTRY_INFO!K140=3, AD140/COUNTRY_INFO!F140*100))),\"-\"),0)","v":0},{"$f":"IF(COUNTRY_INFO!K140=2,IF(COUNTRY_INFO!G140*0.2>MAX('T1'!N140,'T2'!L140),MAX('T1'!N140,'T2'!L140),COUNTRY_INFO!G140*0.2),IF(COUNTRY_INFO!K140=3,IF(COUNTRY_INFO!G140>MAX('T1'!N140,'T2'!L140),MAX('T1'!N140,'T2'!L140),COUNTRY_INFO!G140),0))","v":0},{"$f":"IF(AND(COUNTRY_INFO!K140>0,COUNTRY_INFO!L140<4),IF(Z140>0,IF(COUNTRY_INFO!K140=1, 0, IF(COUNTRY_INFO!K140=2, AF140/(COUNTRY_INFO!G140*0.2)*100, IF(COUNTRY_INFO!K140=3, AF140/COUNTRY_INFO!G140*100))),\"-\"),0)","v":0},0,{"$f":"IF(AND(COUNTRY_INFO!K140>0,COUNTRY_INFO!K140<4), IF(AC140/Z140*100<>0, IF(AH140/Z140*100>100,100,AH140/Z140*100), \"-\"),0)","v":"-"},null,{"$f":"IF(AND(D140<>0, D140<>\"Unknown\",D140<>\"Stopped\",D140<>\"Not required\"),D140/COUNTRY_INFO!D140, 0)","v":0},{"$f":"IF(AND(J140<>0,J140<>\"Unknown\",J140<>\"Stopped\",J140<>\"Not required\"),J140/COUNTRY_INFO!D140, 0)","v":0},{"$f":"IF(AND(P140<>0,P140<>\"Unknown\",P140<>\"Not required\"),P140/(COUNTRY_INFO!E140+COUNTRY_INFO!F140), 0)","v":1},{"$f":"IF(AND(Z140<>0,Z140<>\"Unknown\",Z140<>\"Not required\"),IF(COUNTRY_INFO!K140=1,1,IF(COUNTRY_INFO!K140=2,0.5*COUNTRY_INFO!F140/(0.5*COUNTRY_INFO!F140+0.2*COUNTRY_INFO!G140),IF(COUNTRY_INFO!K140=3,COUNTRY_INFO!F140/(COUNTRY_INFO!F140+COUNTRY_INFO!G140)))),0)","v":0.56960327308092151},{"$f":"IF(AND(Z140<>0,Z140<>\"Unknown\",Z140<>\"Not required\"),IF(COUNTRY_INFO!K140=1,0,IF(COUNTRY_INFO!K140=2,0.2*COUNTRY_INFO!G140/(0.5*COUNTRY_INFO!F140+0.2*COUNTRY_INFO!G140),IF(COUNTRY_INFO!K140=3,COUNTRY_INFO!G140/(COUNTRY_INFO!F140+COUNTRY_INFO!G140)))),0)","v":0.43039672691907843},{"$f":"MAX(COUNTRY_INFO!D140*AK140*PROFILE!$G$7,COUNTRY_INFO!D140*AL140*PROFILE!$G$7)","v":0},{"$f":"MAX(COUNTRY_INFO!D140*AK140*PROFILE!$G$8,COUNTRY_INFO!D140*AL140*PROFILE!$G$8,COUNTRY_INFO!D140*AM140*PROFILE!$G$8)","v":3896.4132006838149},{"$f":"MAX(COUNTRY_INFO!D140*AK140*PROFILE!$G$9,COUNTRY_INFO!D140*AL140*PROFILE!$G$9,COUNTRY_INFO!D140*AM140*PROFILE!$G$9,IF(AND(DISTRICT!Z140<>\"Unknown\",Z140<>\"Not required\"),COUNTRY_INFO!P140*DISTRICT!AN140,0))","v":6794.373767661139},{"$f":"MAX(COUNTRY_INFO!D140*AK140*PROFILE!$G$10,COUNTRY_INFO!D140*AL140*PROFILE!$G$10,IF(AND(DISTRICT!Z140<>\"Unknown\",Z140<>\"Not required\"),COUNTRY_INFO!P140*DISTRICT!AO140,0))","v":2566.8000000000002},13257.586968344953,0,{"$f":"MAX('MDA4'!R140,'T1'!L140,'T2'!J140,T3_R1!K140,T3_R2!K140)","v":0},{"$f":"MAX('MDA1'!K140,'MDA4'!S140,'MDA3'!I140,'MDA3'!L140,'T1'!M140,'T2'!K140,T3_R1!L140,T3_R2!L140)","v":0},{"$f":"MAX('MDA1'!L140,'MDA4'!T140,'MDA3'!J140,'MDA3'!M140,'T1'!N140,'T2'!L140,T3_R1!M140,T3_R2!M140)","v":0},0,{"$f":"MAX('MDA4'!R140,T140)","v":0},{"$f":"MAX('MDA1'!K140,'MDA4'!S140,'MDA3'!I140,'MDA3'!L140,V140,AD140)","v":0},{"$f":"MAX('MDA1'!L140,'MDA4'!T140,'MDA3'!J140,'MDA3'!M140,AF140)","v":0},0,0]
[{"$f":"IF(COUNTRY_INFO!A141=0,\" \",COUNTRY_INFO!A141)","v":"Angola"},{"$f":"IF(COUNTRY_INFO!B141=0,\" \",COUNTRY_INFO!B141)","v":"MOXICO"},{"$f":"IF(COUNTRY_INFO!C141=0,\" \",COUNTRY_INFO!C141)","v":"LEUA"},{"$f":"COUNTRY_INFO!M141","v":0},null,null,{"$f":"MAX('MDA1'!M141,'MDA4'!U141)","v":0},{"$f":"IF(AND(COUNTRY_INFO!H141>0,COUNTRY_INFO!H141<4),IF(D141>MAX('MDA1'!M141,'MDA4'!U141),MAX('MDA1'!M141,'MDA4'!U141),D141),0)","v":0},{"$f":"IF(AND(COUNTRY_INFO!H141>0,COUNTRY_INFO!H141<4), IF(G141/D141*100<>0, IF(G141/D141*100>100,100,G141/D141*100), \"-\"),0)","v":0},{"$f":"COUNTRY_INFO!N141","v":21767.742794114431},null,null,{"$f":"MAX('MDA1'!M141,MAX('MDA3'!I141,'MDA3'!L141)+MAX('MDA3'!J141,'MDA3'!M141))","v":0},{"$f":"IF(AND(COUNTRY_INFO!I141>0,COUNTRY_INFO!I141<4),IF(J141>MAX('MDA1'!M141,MAX('MDA3'!I141,'MDA3'!L141)+MAX('MDA3'!J141,'MDA3'!M141)),MAX('MDA1'!M141,MAX('MDA3'!I141,'MDA3'!L141)+MAX('MDA3'!J141,'MDA3'!M141)),J141),0)","v":0},{"$f":"IF(AND(COUNTRY_INFO!I141>0,COUNTRY_INFO!I141<4), IF(M141/J141*100<>0, IF(M141/J141*100>100,100,M141/J141*100), \"-\"),0)","v":"-"},{"$f":"COUNTRY_INFO!O141","v":9556},null,null,{"$f":"SUM(MAX('MDA4'!R141, 'T1'!L141, MAX(T3_R1!K141, T3_R2!K141)), MAX('MDA1'!K141, 'MDA4'!S141, 'T1'!M141, MAX(T3_R1!L141, T3_R2!L141)), MAX('MDA1'!L141, 'MDA4'!T141, 'T1'!N141, MAX(T3_R1!M141, T3_R2!M141)))","v":0},{"$f":"IF(AND(COUNTRY_INFO!J141>1,COUNTRY_INFO!J141<4),IF(COUNTRY_INFO!E141>MAX('MDA4'!R141,'T1'!L141,MAX(T3_R1!K141,T3_R2!K141)),MAX('MDA4'!R141,'T1'!L141,MAX(T3_R1!K141,T3_R2!K141)),COUNTRY_INFO!E141),0)","v":0},{"$f":"IF(AND(COUNTRY_INFO!J141>1,COUNTRY_INFO!J141<4), IF(T141/COUNTRY_INFO!E141*100<>0, IF(T141/COUNTRY_INFO!E141*100>100,100,T141/COUNTRY_INFO!E141*100), \"-\"),0)","v":"-"},{"$f":"IF(AND(COUNTRY_INFO!J141>1,COUNTRY_INFO!J141<4),IF(COUNTRY_INFO!F141>MAX('MDA1'!K141,'MDA4'!S141,'T1'!M141,MAX(T3_R1!L141,T3_R2!L141)),MAX('MDA1'!K141,'MDA4'!S141,'T1'!M141,MAX(T3_R1!L141,T3_R2!L141)),COUNTRY_INFO!F141),0)","v":0},{"$f":"IF(AND(COUNTRY_INFO!J141>1,COUNTRY_INFO!J141<4), IF(V141/COUNTRY_INFO!F141*100<>0, IF(V141/COUNTRY_INFO!F141*100>100,100,V141/COUNTRY_INFO!F141*100), \"-\"),0)","v":"-"},0,{"$f":"IF(AND(COUNTRY_INFO!J141>1,COUNTRY_INFO!J141<4), IF(S141/P141*100<>0, IF(X141/P141*100>100,100,X141/P141*100), \"-\"),0)","v":"-"},{"$f":"COUNTRY_INFO!P141","v":5330.9},null,null,{"$f":"MAX('T1'!L141,'T2'!J141)+MAX('T1'!M141,'T2'!K141)+MAX('T1'!N141,'T2'!L141)","v":0},{"$f":"IF(COUNTRY_INFO!K141=1,IF(COUNTRY_INFO!F141*0.33>MAX('T1'!M141,'T2'!K141),MAX('T1'!M141,'T2'!K141),COUNTRY_INFO!F141*0.33),IF(COUNTRY_INFO!K141=2,IF(COUNTRY_INFO!F141*0.5>MAX('T1'!M141,'T2'!K141),MAX('T1'!M141,'T2'!K141),COUNTRY_INFO!F141*0.5),IF(COUNTRY_INFO!K141=3,IF(COUNTRY_INFO!F141>MAX('T1'!M141,'T2'!K141),MAX('T1'!M141,'T2'!K141),COUNTRY_INFO!F141),0)))","v":0},{"$f":"IF(AND(COUNTRY_INFO!K141>0,COUNTRY_INFO!L141<4),IF(Z141>0,IF(COUNTRY_INFO!K141=1, AD141/(COUNTRY_INFO!F141*0.33)*100, IF(COUNTRY_INFO!K141=2, AD141/(COUNTRY_INFO!F141*0.5)*100, IF(COUNTRY_INFO!K141=3, AD141/COUNTRY_INFO!F141*100))),\"-\"),0)","v":0},{"$f":"IF(COUNTRY_INFO!K141=2,IF(COUNTRY_INFO!G141*0.2>MAX('T1'!N141,'T2'!L141),MAX('T1'!N141,'T2'!L141),COUNTRY_INFO!G141*0.2),IF(COUNTRY_INFO!K141=3,IF(COUNTRY_INFO!G141>MAX('T1'!N141,'T2'!L141),MAX('T1'!N141,'T2'!L141),COUNTRY_INFO!G141),0))","v":0},{"$f":"IF(AND(COUNTRY_INFO!K141>0,COUNTRY_INFO!L141<4),IF(Z141>0,IF(COUNTRY_INFO!K141=1, 0, IF(COUNTRY_INFO!K141=2, AF141/(COUNTRY_INFO!G141*0.2)*100, IF(COUNTRY_INFO!K141=3, AF141/COUNTRY_INFO!G141*100))),\"-\"),0)","v":0},0,{"$f":"IF(AND(COUNTRY_INFO!K141>0,COUNTRY_INFO!K141<4), IF(AC141/Z141*100<>0, IF(AH141/Z141*100>100,100,AH141/Z141*100), \"-\"),0)","v":"-"},null,{"$f":"IF(AND(D141<>0, D141<>\"Unknown\",D141<>\"Stopped\",D141<>\"Not required\"),D141/COUNTRY_INFO!D141, 0)","v":0},{"$f":"IF(AND(J141<>0,J141<>\"Unknown\",J141<>\"Stopped\",J141<>\"Not required\"),J141/COUNTRY_INFO!D141, 0)","v":1},{"$f":"IF(AND(P141<>0,P141<>\"Unknown\",P141<>\"Not required\"),P141/(COUNTRY_INFO!E141+COUNTRY_INFO!F141), 0)","v":1},{"$f":"IF(AND(Z141<>0,Z141<>\"Unknown\",Z141<>\"Not required\"),IF(COUNTRY_INFO!K141=1,1,IF(COUNTRY_INFO!K141=2,0.5*COUNTRY_INFO!F141/(0.5*COUNTRY_INFO!F141+0.2*COUNTRY_INFO!G141),IF(COUNTRY_INFO!K141=3,COUNTRY_INFO!F141/(COUNTRY_INFO!F141+COUNTRY_INFO!G141)))),0)","v":0.5696036316569435},{"$f":"IF(AND(Z141<>0,Z141<>\"Unknown\",Z141<>\"Not required\"),IF(COUNTRY_INFO!K141=1,0,IF(COUNTRY_INFO!K141=2,0.2*COUNTRY_INFO!G141/(0.5*COUNTRY_INFO!F141+0.2*COUNTRY_INFO!G141),IF(COUNTRY_INFO!K141=3,COUNTRY_INFO!G141/(COUNTRY_INFO!F141+COUNTRY_INFO!G141)))),0)","v":0.43039636834305656},{"$f":"MAX(COUNTRY_INFO!D141*AK141*PROFILE!$G$7,COUNTRY_INFO!D141*AL141*PROFILE!$G$7)","v":740.10854760607947},{"$f":"MAX(COUNTRY_INFO!D141*AK141*PROFILE!$G$8,COUNTRY_INFO!D141*AL141*PROFILE!$G$8,COUNTRY_INFO!D141*AM141*PROFILE!$G$8)","v":3482.8358322855279},{"$f":"MAX(COUNTRY_INFO!D141*AK141*PROFILE!$G$9,COUNTRY_INFO!D141*AL141*PROFILE!$G$9,COUNTRY_INFO!D141*AM141*PROFILE!$G$9,IF(AND(DISTRICT!Z141<>\"Unknown\",Z141<>\"Not required\"),COUNTRY_INFO!P141*DISTRICT!AN141,0))","v":6073.1978866610198},{"$f":"MAX(COUNTRY_INFO!D141*AK141*PROFILE!$G$10,COUNTRY_INFO!D141*AL141*PROFILE!$G$10,IF(AND(DISTRICT!Z141<>\"Unknown\",Z141<>\"Not required\"),COUNTRY_INFO!P141*DISTRICT!AO141,0))","v":11471.600527561803},21767.742794114427,0,{"$f":"MAX('MDA4'!R141,'T1'!L141,'T2'!J141,T3_R1!K141,T3_R2!K141)","v":0},{"$f":"MAX('MDA1'!K141,'MDA4'!S141,'MDA3'!I141,'MDA3'!L141,'T1'!M141,'T2'!K141,T3_R1!L141,T3_R2!L141)","v":0},{"$f":"MAX('MDA1'!L141,'MDA4'!T141,'MDA3'!J141,'MDA3'!M141,'T1'!N141,'T2'!L141,T3_R1!M141,T3_R2!M141)","v":0},0,{"$f":"MAX('MDA4'!R141,T141)","v":0},{"$f":"MAX('MDA1'!K141,'MDA4'!S141,'MDA3'!I141,'MDA3'!L141,V141,AD141)","v":0},{"$f":"MAX('MDA1'!L141,'MDA4'!T141,'MDA3'!J141,'MDA3'!M141,AF141)","v":0},0,0]
[{"$f":"IF(COUNTRY_INFO!A142=0,\" \",COUNTRY_INFO!A142)","v":"Angola"},{"$f":"IF(COUNTRY_INFO!B142=0,\" \",COUNTRY_INFO!B142)","v":"MOXICO"},{"$f":"IF(COUNTRY_INFO!C142=0,\" \",COUNTRY_INFO!C142)","v":"LUACANO"},{"$f":"COUNTRY_INFO!M142","v":0},null,null,{"$f":"MAX('MDA1'!M142,'MDA4'!U142)","v":0},{"$f":"IF(AND(COUNTRY_INFO!H142>0,COUNTRY_INFO!H142<4),IF(D142>MAX('MDA1'!M142,'MDA4'!U142),MAX('MDA1'!M142,'MDA4'!U142),D142),0)","v":0},{"$f":"IF(AND(COUNTRY_INFO!H142>0,COUNTRY_INFO!H142<4), IF(G142/D142*100<>0, IF(G142/D142*100>100,100,G142/D142*100), \"-\"),0)","v":0},{"$f":"COUNTRY_INFO!N142","v":16316.420401841056},null,null,{"$f":"MAX('MDA1'!M142,MAX('MDA3'!I142,'MDA3'!L142)+MAX('MDA3'!J142,'MDA3'!M142))","v":0},{"$f":"IF(AND(COUNTRY_INFO!I142>0,COUNTRY_INFO!I142<4),IF(J142>MAX('MDA1'!M142,MAX('MDA3'!I142,'MDA3'!L142)+MAX('MDA3'!J142,'MDA3'!M142)),MAX('MDA1'!M142,MAX('MDA3'!I142,'MDA3'!L142)+MAX('MDA3'!J142,'MDA3'!M142)),J142),0)","v":0},{"$f":"IF(AND(COUNTRY_INFO!I142>0,COUNTRY_INFO!I142<4), IF(M142/J142*100<>0, IF(M142/J142*100>100,100,M142/J142*100), \"-\"),0)","v":"-"},{"$f":"COUNTRY_INFO!O142","v":7163},null,null,{"$f":"SUM(MAX('MDA4'!R142, 'T1'!L142, MAX(T3_R1!K142, T3_R2!K142)), MAX('MDA1'!K142, 'MDA4'!S142, 'T1'!M142, MAX(T3_R1!L142, T3_R2!L142)), MAX('MDA1'!L142, 'MDA4'!T142, 'T1'!N142, MAX(T3_R1!M142, T3_R2!M142)))","v":0},{"$f":"IF(AND(COUNTRY_INFO!J142>1,COUNTRY_INFO!J142<4),IF(COUNTRY_INFO!E142>MAX('MDA4'!R142,'T1'!L142,MAX(T3_R1!K142,T3_R2!K142)),MAX('MDA4'!R142,'T1'!L142,MAX(T3_R1!K142,T3_R2!K142)),COUNTRY_INFO!E142),0)","v":0},{"$f":"IF(AND(COUNTRY_INFO!J142>1,COUNTRY_INFO!J142<4), IF(T142/COUNTRY_INFO!E142*100<>0, IF(T142/COUNTRY_INFO!E142*100>100,100,T142/COUNTRY_INFO!E142*100), \"-\"),0)","v":"-"},{"$f":"IF(AND(COUNTRY_INFO!J142>1,COUNTRY_INFO!J142<4),IF(COUNTRY_INFO!F142>MAX('MDA1'!K142,'MDA4'!S142,'T1'!M142,MAX(T3_R1!L142,T3_R2!L142)),MAX('MDA1'!K142,'MDA4'!S142,'T1'!M142,MAX(T3_R1!L142,T3_R2!L142)),COUNTRY_INFO!F142),0)","v":0},{"$f":"IF(AND(COUNTRY_INFO!J142>1,COUNTRY_INFO!J142<4), IF(V142/COUNTRY_INFO!F142*100<>0, IF(V142/COUNTRY_INFO!F142*100>100,100,V142/COUNTRY_INFO!F142*100), \"-\"),0)","v":"-"},0,{"$f":"IF(AND(COUNTRY_INFO!J142>1,COUNTRY_INFO!J142<4), IF(S142/P142*100<>0, IF(X142/P142*100>100,100,X142/P142*100), \"-\"),0)","v":"-"},{"$f":"COUNTRY_INFO!P142","v":3995.8},null,null,{"$f":"MAX('T1'!L142,'T2'!J142)+MAX('T1'!M142,'T2'!K142)+MAX('T1'!N142,'T2'!L142)","v":0},{"$f":"IF(COUNTRY_INFO!K142=1,IF(COUNTRY_INFO!F142*0.33>MAX('T1'!M142,'T2'!K142),MAX('T1'!M142,'T2'!K142),COUNTRY_INFO!F142*0.33),IF(COUNTRY_INFO!K142=2,IF(COUNTRY_INFO!F142*0.5>MAX('T1'!M142,'T2'!K142),MAX('T1'!M142,'T2'!K142),COUNTRY_INFO!F142*0.5),IF(COUNTRY_INFO!K142=3,IF(COUNTRY_INFO!F142>MAX('T1'!M142,'T2'!K142),MAX('T1'!M142,'T2'!K142),COUNTRY_INFO!F142),0)))","v":0},{"$f":"IF(AND(COUNTRY_INFO!K142>0,COUNTRY_INFO!L142<4),IF(Z142>0,IF(COUNTRY_INFO!K142=1, AD142/(COUNTRY_INFO!F142*0.33)*100, IF(COUNTRY_INFO!K142=2, AD142/(COUNTRY_INFO!F142*0.5)*100, IF(COUNTRY_INFO!K142=3, AD142/COUNTRY_INFO!F142*100))),\"-\"),0)","v":0},{"$f":"IF(COUNTRY_INFO!K142=2,IF(COUNTRY_INFO!G142*0.2>MAX('T1'!N142,'T2'!L142),MAX('T1'!N142,'T2'!L142),COUNTRY_INFO!G142*0.2),IF(COUNTRY_INFO!K142=3,IF(COUNTRY_INFO!G142>MAX('T1'!N142,'T2'!L142),MAX('T1'!N142,'T2'!L142),COUNTRY_INFO!G142),0))","v":0},{"$f":"IF(AND(COUNTRY_INFO!K142>0,COUNTRY_INFO!L142<4),IF(Z142>0,IF(COUNTRY_INFO!K142=1, 0, IF(COUNTRY_INFO!K142=2, AF142/(COUNTRY_INFO!G142*0.2)*100, IF(COUNTRY_INFO!K142=3, AF142/COUNTRY_INFO!G142*100))),\"-\"),0)","v":0},0,{"$f":"IF(AND(COUNTRY_INFO!K142>0,COUNTRY_INFO!K142<4), IF(AC142/Z142*100<>0, IF(AH142/Z142*100>100,100,AH142/Z142*100), \"-\"),0)","v":"-"},null,{"$f":"IF(AND(D142<>0, D142<>\"Unknown\",D142<>\"Stopped\",D142<>\"Not required\"),D142/COUNTRY_INFO!D142, 0)","v":0},{"$f":"IF(AND(J142<>0,J142<>\"Unknown\",J142<>\"Stopped\",J142<>\"Not required\"),J142/COUNTRY_INFO!D142, 0)","v":1},{"$f":"IF(AND(P142<>0,P142<>\"Unknown\",P142<>\"Not required\"),P142/(COUNTRY_INFO!E142+COUNTRY_INFO!F142), 0)","v":1},{"$f":"IF(AND(Z142<>0,Z142<>\"Unknown\",Z142<>\"Not required\"),IF(COUNTRY_INFO!K142=1,1,IF(COUNTRY_INFO!K142=2,0.5*COUNTRY_INFO!F142/(0.5*COUNTRY_INFO!F142+0.2*COUNTRY_INFO!G142),IF(COUNTRY_INFO!K142=3,COUNTRY_INFO!F142/(COUNTRY_INFO!F142+COUNTRY_INFO!G142)))),0)","v":0.569598077981881},{"$f":"IF(AND(Z142<>0,Z142<>\"Unknown\",Z142<>\"Not required\"),IF(COUNTRY_INFO!K142=1,0,IF(COUNTRY_INFO!K142=2,0.2*COUNTRY_INFO!G142/(0.5*COUNTRY_INFO!F142+0.2*COUNTRY_INFO!G142),IF(COUNTRY_INFO!K142=3,COUNTRY_INFO!G142/(COUNTRY_INFO!F142+COUNTRY_INFO!G142)))),0)","v":0.43040192201811905},{"$f":"MAX(COUNTRY_INFO!D142*AK142*PROFILE!$G$7,COUNTRY_INFO!D142*AL142*PROFILE!$G$7)","v":554.76226083495806},{"$f":"MAX(COUNTRY_INFO!D142*AK142*PROFILE!$G$8,COUNTRY_INFO!D142*AL142*PROFILE!$G$8,COUNTRY_INFO!D142*AM142*PROFILE!$G$8)","v":2610.6250045150146},{"$f":"MAX(COUNTRY_INFO!D142*AK142*PROFILE!$G$9,COUNTRY_INFO!D142*AL142*PROFILE!$G$9,COUNTRY_INFO!D142*AM142*PROFILE!$G$9,IF(AND(DISTRICT!Z142<>\"Unknown\",Z142<>\"Not required\"),COUNTRY_INFO!P142*DISTRICT!AN142,0))","v":4552.2795284555914},{"$f":"MAX(COUNTRY_INFO!D142*AK142*PROFILE!$G$10,COUNTRY_INFO!D142*AL142*PROFILE!$G$10,IF(AND(DISTRICT!Z142<>\"Unknown\",Z142<>\"Not required\"),COUNTRY_INFO!P142*DISTRICT!AO142,0))","v":8598.7536080354912},16316.420401841055,0,{"$f":"MAX('MDA4'!R142,'T1'!L142,'T2'!J142,T3_R1!K142,T3_R2!K142)","v":0},{"$f":"MAX('MDA1'!K142,'MDA4'!S142,'MDA3'!I142,'MDA3'!L142,'T1'!M142,'T2'!K142,T3_R1!L142,T3_R2!L142)","v":0},{"$f":"MAX('MDA1'!L142,'MDA4'!T142,'MDA3'!J142,'MDA3'!M142,'T1'!N142,'T2'!L142,T3_R1!M142,T3_R2!M142)","v":0},0,{"$f":"MAX('MDA4'!R142,T142)","v":0},{"$f":"MAX('MDA1'!K142,'MDA4'!S142,'MDA3'!I142,'MDA3'!L142,V142,AD142)","v":0},{"$f":"MAX('MDA1'!L142,'MDA4'!T142,'MDA3'!J142,'MDA3'!M142,AF142)","v":0},0,0]
[{"$f":"IF(COUNTRY_INFO!A143=0,\" \",COUNTRY_INFO!A143)","v":"Angola"},{"$f":"IF(COUNTRY_INFO!B143=0,\" \",COUNTRY_INFO!B143)","v":"MOXICO"},{"$f":"IF(COUNTRY_INFO!C143=0,\" \",COUNTRY_INFO!C143)","v":"LUAU"},{"$f":"COUNTRY_INFO!M143","v":0},null,null,{"$f":"MAX('MDA1'!M143,'MDA4'!U143)","v":0},{"$f":"IF(AND(COUNTRY_INFO!H143>0,COUNTRY_INFO!H143<4),IF(D143>MAX('MDA1'!M143,'MDA4'!U143),MAX('MDA1'!M143,'MDA4'!U143),D143),0)","v":0},{"$f":"IF(AND(COUNTRY_INFO!H143>0,COUNTRY_INFO!H143<4), IF(G143/D143*100<>0, IF(G143/D143*100>100,100,G143/D143*100), \"-\"),0)","v":0},{"$f":"COUNTRY_INFO!N143","v":"Unknown"},null,null,{"$f":"MAX('MDA1'!M143,MAX('MDA3'!I143,'MDA3'!L143)+MAX('MDA3'!J143,'MDA3'!M143))","v":0},{"$f":"IF(AND(COUNTRY_INFO!I143>0,COUNTRY_INFO!I143<4),IF(J143>MAX('MDA1'!M143,MAX('MDA3'!I143,'MDA3'!L143)+MAX('MDA3'!J143,'MDA3'!M143)),MAX('MDA1'!M143,MAX('MDA3'!I143,'MDA3'!L143)+MAX('MDA3'!J143,'MDA3'!M143)),J143),0)","v":0},{"$f":"IF(AND(COUNTRY_INFO!I143>0,COUNTRY_INFO!I143<4), IF(M143/J143*100<>0, IF(M143/J143*100>100,100,M143/J143*100), \"-\"),0)","v":0},{"$f":"COUNTRY_INFO!O143","v":103201},null,null,{"$f":"SUM(MAX('MDA4'!R143, 'T1'!L143, MAX(T3_R1!K143, T3_R2!K143)), MAX('MDA1'!K143, 'MDA4'!S143, 'T1'!M143, MAX(T3_R1!L143, T3_R2!L143)), MAX('MDA1'!L143, 'MDA4'!T143, 'T1'!N143, MAX(T3_R1!M143, T3_R2!M143)))","v":0},{"$f":"IF(AND(COUNTRY_INFO!J143>1,COUNTRY_INFO!J143<4),IF(COUNTRY_INFO!E143>MAX('MDA4'!R143,'T1'!L143,MAX(T3_R1!K143,T3_R2!K143)),MAX('MDA4'!R143,'T1'!L143,MAX(T3_R1!K143,T3_R2!K143)),COUNTRY_INFO!E143),0)","v":0},{"$f":"IF(AND(COUNTRY_INFO!J143>1,COUNTRY_INFO!J143<4), IF(T143/COUNTRY_INFO!E143*100<>0, IF(T143/COUNTRY_INFO!E143*100>100,100,T143/COUNTRY_INFO!E143*100), \"-\"),0)","v":"-"},{"$f":"IF(AND(COUNTRY_INFO!J143>1,COUNTRY_INFO!J143<4),IF(COUNTRY_INFO!F143>MAX('MDA1'!K143,'MDA4'!S143,'T1'!M143,MAX(T3_R1!L143,T3_R2!L143)),MAX('MDA1'!K143,'MDA4'!S143,'T1'!M143,MAX(T3_R1!L143,T3_R2!L143)),COUNTRY_INFO!F143),0)","v":0},{"$f":"IF(AND(COUNTRY_INFO!J143>1,COUNTRY_INFO!J143<4), IF(V143/COUNTRY_INFO!F143*100<>0, IF(V143/COUNTRY_INFO!F143*100>100,100,V143/COUNTRY_INFO!F143*100), \"-\"),0)","v":"-"},0,{"$f":"IF(AND(COUNTRY_INFO!J143>1,COUNTRY_INFO!J143<4), IF(S143/P143*100<>0, IF(X143/P143*100>100,100,X143/P143*100), \"-\"),0)","v":"-"},{"$f":"COUNTRY_INFO!P143","v":57571.600000000006},null,null,{"$f":"MAX('T1'!L143,'T2'!J143)+MAX('T1'!M143,'T2'!K143)+MAX('T1'!N143,'T2'!L143)","v":0},{"$f":"IF(COUNTRY_INFO!K143=1,IF(COUNTRY_INFO!F143*0.33>MAX('T1'!M143,'T2'!K143),MAX('T1'!M143,'T2'!K143),COUNTRY_INFO!F143*0.33),IF(COUNTRY_INFO!K143=2,IF(COUNTRY_INFO!F143*0.5>MAX('T1'!M143,'T2'!K143),MAX('T1'!M143,'T2'!K143),COUNTRY_INFO!F143*0.5),IF(COUNTRY_INFO!K143=3,IF(COUNTRY_INFO!F143>MAX('T1'!M143,'T2'!K143),MAX('T1'!M143,'T2'!K143),COUNTRY_INFO!F143),0)))","v":0},{"$f":"IF(AND(COUNTRY_INFO!K143>0,COUNTRY_INFO!L143<4),IF(Z143>0,IF(COUNTRY_INFO!K143=1, AD143/(COUNTRY_INFO!F143*0.33)*100, IF(COUNTRY_INFO!K143=2, AD143/(COUNTRY_INFO!F143*0.5)*100, IF(COUNTRY_INFO!K143=3, AD143/COUNTRY_INFO!F143*100))),\"-\"),0)","v":0},{"$f":"IF(COUNTRY_INFO!K143=2,IF(COUNTRY_INFO!G143*0.2>MAX('T1'!N143,'T2'!L143),MAX('T1'!N143,'T2'!L143),COUNTRY_INFO!G143*0.2),IF(COUNTRY_INFO!K143=3,IF(COUNTRY_INFO!G143>MAX('T1'!N143,'T2'!L143),MAX('T1'!N143,'T2'!L143),COUNTRY_INFO!G143),0))","v":0},{"$f":"IF(AND(COUNTRY_INFO!K143>0,COUNTRY_INFO!L143<4),IF(Z143>0,IF(COUNTRY_INFO!K143=1, 0, IF(COUNTRY_INFO!K143=2, AF143/(COUNTRY_INFO!G143*0.2)*100, IF(COUNTRY_INFO!K143=3, AF143/COUNTRY_INFO!G143*100))),\"-\"),0)","v":0},0,{"$f":"IF(AND(COUNTRY_INFO!K143>0,COUNTRY_INFO!K143<4), IF(AC143/Z143*100<>0, IF(AH143/Z143*100>100,100,AH143/Z143*100), \"-\"),0)","v":"-"},null,{"$f":"IF(AND(D143<>0, D143<>\"Unknown\",D143<>\"Stopped\",D143<>\"Not required\"),D143/COUNTRY_INFO!D143, 0)","v":0},{"$f":"IF(AND(J143<>0,J143<>\"Unknown\",J143<>\"Stopped\",J143<>\"Not required\"),J143/COUNTRY_INFO!D143, 0)","v":0},{"$f":"IF(AND(P143<>0,P143<>\"Unknown\",P143<>\"Not required\"),P143/(COUNTRY_INFO!E143+COUNTRY_INFO!F143), 0)","v":1},{"$f":"IF(AND(Z143<>0,Z143<>\"Unknown\",Z143<>\"Not required\"),IF(COUNTRY_INFO!K143=1,1,IF(COUNTRY_INFO!K143=2,0.5*COUNTRY_INFO!F143/(0.5*COUNTRY_INFO!F143+0.2*COUNTRY_INFO!G143),IF(COUNTRY_INFO!K143=3,COUNTRY_INFO!F143/(COUNTRY_INFO!F143+COUNTRY_INFO!G143)))),0)","v":0.5696211326417886},{"$f":"IF(AND(Z143<>0,Z143<>\"Unknown\",Z143<>\"Not required\"),IF(COUNTRY_INFO!K143=1,0,IF(COUNTRY_INFO!K143=2,0.2*COUNTRY_INFO!G143/(0.5*COUNTRY_INFO!F143+0.2*COUNTRY_INFO!G143),IF(COUNTRY_INFO!K143=3,COUNTRY_INFO!G143/(COUNTRY_INFO!F143+COUNTRY_INFO!G143)))),0)","v":0.43037886735821135},{"$f":"MAX(COUNTRY_INFO!D143*AK143*PROFILE!$G$7,COUNTRY_INFO!D143*AL143*PROFILE!$G$7)","v":0},{"$f":"MAX(COUNTRY_INFO!D143*AK143*PROFILE!$G$8,COUNTRY_INFO!D143*AL143*PROFILE!$G$8,COUNTRY_INFO!D143*AM143*PROFILE!$G$8)","v":37613.01247875714},{"$f":"MAX(COUNTRY_INFO!D143*AK143*PROFILE!$G$9,COUNTRY_INFO!D143*AL143*PROFILE!$G$9,COUNTRY_INFO!D143*AM143*PROFILE!$G$9,IF(AND(DISTRICT!Z143<>\"Unknown\",Z143<>\"Not required\"),COUNTRY_INFO!P143*DISTRICT!AN143,0))","v":65587.72187290834},{"$f":"MAX(COUNTRY_INFO!D143*AK143*PROFILE!$G$10,COUNTRY_INFO!D143*AL143*PROFILE!$G$10,IF(AND(DISTRICT!Z143<>\"Unknown\",Z143<>\"Not required\"),COUNTRY_INFO!P143*DISTRICT!AO143,0))","v":24777.600000000002},127978.33435166549,0,{"$f":"MAX('MDA4'!R143,'T1'!L143,'T2'!J143,T3_R1!K143,T3_R2!K143)","v":0},{"$f":"MAX('MDA1'!K143,'MDA4'!S143,'MDA3'!I143,'MDA3'!L143,'T1'!M143,'T2'!K143,T3_R1!L143,T3_R2!L143)","v":0},{"$f":"MAX('MDA1'!L143,'MDA4'!T143,'MDA3'!J143,'MDA3'!M143,'T1'!N143,'T2'!L143,T3_R1!M143,T3_R2!M143)","v":0},0,{"$f":"MAX('MDA4'!R143,T143)","v":0},{"$f":"MAX('MDA1'!K143,'MDA4'!S143,'MDA3'!I143,'MDA3'!L143,V143,AD143)","v":0},{"$f":"MAX('MDA1'!L143,'MDA4'!T143,'MDA3'!J143,'MDA3'!M143,AF143)","v":0},0,0]
[{"$f":"IF(COUNTRY_INFO!A144=0,\" \",COUNTRY_INFO!A144)","v":"Angola"},{"$f":"IF(COUNTRY_INFO!B144=0,\" \",COUNTRY_INFO!B144)","v":"MOXICO"},{"$f":"IF(COUNTRY_INFO!C144=0,\" \",COUNTRY_INFO!C144)","v":"LUCHAZES"},{"$f":"COUNTRY_INFO!M144","v":0},null,null,{"$f":"MAX('MDA1'!M144,'MDA4'!U144)","v":0},{"$f":"IF(AND(COUNTRY_INFO!H144>0,COUNTRY_INFO!H144<4),IF(D144>MAX('MDA1'!M144,'MDA4'!U144),MAX('MDA1'!M144,'MDA4'!U144),D144),0)","v":0},{"$f":"IF(AND(COUNTRY_INFO!H144>0,COUNTRY_INFO!H144<4), IF(G144/D144*100<>0, IF(G144/D144*100>100,100,G144/D144*100), \"-\"),0)","v":0},{"$f":"COUNTRY_INFO!N144","v":"Unknown"},null,null,{"$f":"MAX('MDA1'!M144,MAX('MDA3'!I144,'MDA3'!L144)+MAX('MDA3'!J144,'MDA3'!M144))","v":0},{"$f":"IF(AND(COUNTRY_INFO!I144>0,COUNTRY_INFO!I144<4),IF(J144>MAX('MDA1'!M144,MAX('MDA3'!I144,'MDA3'!L144)+MAX('MDA3'!J144,'MDA3'!M144)),MAX('MDA1'!M144,MAX('MDA3'!I144,'MDA3'!L144)+MAX('MDA3'!J144,'MDA3'!M144)),J144),0)","v":0},{"$f":"IF(AND(COUNTRY_INFO!I144>0,COUNTRY_INFO!I144<4), IF(M144/J144*100<>0, IF(M144/J144*100>100,100,M144/J144*100), \"-\"),0)","v":0},{"$f":"COUNTRY_INFO!O144","v":35797},null,null,{"$f":"SUM(MAX('MDA4'!R144, 'T1'!L144, MAX(T3_R1!K144, T3_R2!K144)), MAX('MDA1'!K144, 'MDA4'!S144, 'T1'!M144, MAX(T3_R1!L144, T3_R2!L144)), MAX('MDA1'!L144, 'MDA4'!T144, 'T1'!N144, MAX(T3_R1!M144, T3_R2!M144)))","v":0},{"$f":"IF(AND(COUNTRY_INFO!J144>1,COUNTRY_INFO!J144<4),IF(COUNTRY_INFO!E144>MAX('MDA4'!R144,'T1'!L144,MAX(T3_R1!K144,T3_R2!K144)),MAX('MDA4'!R144,'T1'!L144,MAX(T3_R1!K144,T3_R2!K144)),COUNTRY_INFO!E144),0)","v":0},{"$f":"IF(AND(COUNTRY_INFO!J144>1,COUNTRY_INFO!J144<4), IF(T144/COUNTRY_INFO!E144*100<>0, IF(T144/COUNTRY_INFO!E144*100>100,100,T144/COUNTRY_INFO!E144*100), \"-\"),0)","v":"-"},{"$f":"IF(AND(COUNTRY_INFO!J144>1,COUNTRY_INFO!J144<4),IF(COUNTRY_INFO!F144>MAX('MDA1'!K144,'MDA4'!S144,'T1'!M144,MAX(T3_R1!L144,T3_R2!L144)),MAX('MDA1'!K144,'MDA4'!S144,'T1'!M144,MAX(T3_R1!L144,T3_R2!L144)),COUNTRY_INFO!F144),0)","v":0},{"$f":"IF(AND(COUNTRY_INFO!J144>1,COUNTRY_INFO!J144<4), IF(V144/COUNTRY_INFO!F144*100<>0, IF(V144/COUNTRY_INFO!F144*100>100,100,V144/COUNTRY_INFO!F144*100), \"-\"),0)","v":"-"},0,{"$f":"IF(AND(COUNTRY_INFO!J144>1,COUNTRY_INFO!J144<4), IF(S144/P144*100<>0, IF(X144/P144*100>100,100,X144/P144*100), \"-\"),0)","v":"-"},{"$f":"COUNTRY_INFO!P144","v":19969.599999999999},null,null,{"$f":"MAX('T1'!L144,'T2'!J144)+MAX('T1'!M144,'T2'!K144)+MAX('T1'!N144,'T2'!L144)","v":0},{"$f":"IF(COUNTRY_INFO!K144=1,IF(COUNTRY_INFO!F144*0.33>MAX('T1'!M144,'T2'!K144),MAX('T1'!M144,'T2'!K144),COUNTRY_INFO!F144*0.33),IF(COUNTRY_INFO!K144=2,IF(COUNTRY_INFO!F144*0.5>MAX('T1'!M144,'T2'!K144),MAX('T1'!M144,'T2'!K144),COUNTRY_INFO!F144*0.5),IF(COUNTRY_INFO!K144=3,IF(COUNTRY_INFO!F144>MAX('T1'!M144,'T2'!K144),MAX('T1'!M144,'T2'!K144),COUNTRY_INFO!F144),0)))","v":0},{"$f":"IF(AND(COUNTRY_INFO!K144>0,COUNTRY_INFO!L144<4),IF(Z144>0,IF(COUNTRY_INFO!K144=1, AD144/(COUNTRY_INFO!F144*0.33)*100, IF(COUNTRY_INFO!K144=2, AD144/(COUNTRY_INFO!F144*0.5)*100, IF(COUNTRY_INFO!K144=3, AD144/COUNTRY_INFO!F144*100))),\"-\"),0)","v":0},{"$f":"IF(COUNTRY_INFO!K144=2,IF(COUNTRY_INFO!G144*0.2>MAX('T1'!N144,'T2'!L144),MAX('T1'!N144,'T2'!L144),COUNTRY_INFO!G144*0.2),IF(COUNTRY_INFO!K144=3,IF(COUNTRY_INFO!G144>MAX('T1'!N144,'T2'!L144),MAX('T1'!N144,'T2'!L144),COUNTRY_INFO!G144),0))","v":0},{"$f":"IF(AND(COUNTRY_INFO!K144>0,COUNTRY_INFO!L144<4),IF(Z144>0,IF(COUNTRY_INFO!K144=1, 0, IF(COUNTRY_INFO!K144=2, AF144/(COUNTRY_INFO!G144*0.2)*100, IF(COUNTRY_INFO!K144=3, AF144/COUNTRY_INFO!G144*100))),\"-\"),0)","v":0},0,{"$f":"IF(AND(COUNTRY_INFO!K144>0,COUNTRY_INFO!K144<4), IF(AC144/Z144*100<>0, IF(AH144/Z144*100>100,100,AH144/Z144*100), \"-\"),0)","v":"-"},null,{"$f":"IF(AND(D144<>0, D144<>\"Unknown\",D144<>\"Stopped\",D144<>\"Not required\"),D144/COUNTRY_INFO!D144, 0)","v":0},{"$f":"IF(AND(J144<>0,J144<>\"Unknown\",J144<>\"Stopped\",J144<>\"Not required\"),J144/COUNTRY_INFO!D144, 0)","v":0},{"$f":"IF(AND(P144<>0,P144<>\"Unknown\",P144<>\"Not required\"),P144/(COUNTRY_INFO!E144+COUNTRY_INFO!F144), 0)","v":1},{"$f":"IF(AND(Z144<>0,Z144<>\"Unknown\",Z144<>\"Not required\"),IF(COUNTRY_INFO!K144=1,1,IF(COUNTRY_INFO!K144=2,0.5*COUNTRY_INFO!F144/(0.5*COUNTRY_INFO!F144+0.2*COUNTRY_INFO!G144),IF(COUNTRY_INFO!K144=3,COUNTRY_INFO!F144/(COUNTRY_INFO!F144+COUNTRY_INFO!G144)))),0)","v":0.56961581604038147},{"$f":"IF(AND(Z144<>0,Z144<>\"Unknown\",Z144<>\"Not required\"),IF(COUNTRY_INFO!K144=1,0,IF(COUNTRY_INFO!K144=2,0.2*COUNTRY_INFO!G144/(0.5*COUNTRY_INFO!F144+0.2*COUNTRY_INFO!G144),IF(COUNTRY_INFO!K144=3,COUNTRY_INFO!G144/(COUNTRY_INFO!F144+COUNTRY_INFO!G144)))),0)","v":0.43038418395961869},{"$f":"MAX(COUNTRY_INFO!D144*AK144*PROFILE!$G$7,COUNTRY_INFO!D144*AL144*PROFILE!$G$7)","v":0},{"$f":"MAX(COUNTRY_INFO!D144*AK144*PROFILE!$G$8,COUNTRY_INFO!D144*AL144*PROFILE!$G$8,COUNTRY_INFO!D144*AM144*PROFILE!$G$8)","v":13046.742076353765},{"$f":"MAX(COUNTRY_INFO!D144*AK144*PROFILE!$G$9,COUNTRY_INFO!D144*AL144*PROFILE!$G$9,COUNTRY_INFO!D144*AM144*PROFILE!$G$9,IF(AND(DISTRICT!Z144<>\"Unknown\",Z144<>\"Not required\"),COUNTRY_INFO!P144*DISTRICT!AN144,0))","v":22750.267374482224},{"$f":"MAX(COUNTRY_INFO!D144*AK144*PROFILE!$G$10,COUNTRY_INFO!D144*AL144*PROFILE!$G$10,IF(AND(DISTRICT!Z144<>\"Unknown\",Z144<>\"Not required\"),COUNTRY_INFO!P144*DISTRICT!AO144,0))","v":8594.6},44391.609450835989,0,{"$f":"MAX('MDA4'!R144,'T1'!L144,'T2'!J144,T3_R1!K144,T3_R2!K144)","v":0},{"$f":"MAX('MDA1'!K144,'MDA4'!S144,'MDA3'!I144,'MDA3'!L144,'T1'!M144,'T2'!K144,T3_R1!L144,T3_R2!L144)","v":0},{"$f":"MAX('MDA1'!L144,'MDA4'!T144,'MDA3'!J144,'MDA3'!M144,'T1'!N144,'T2'!L144,T3_R1!M144,T3_R2!M144)","v":0},0,{"$f":"MAX('MDA4'!R144,T144)","v":0},{"$f":"MAX('MDA1'!K144,'MDA4'!S144,'MDA3'!I144,'MDA3'!L144,V144,AD144)","v":0},{"$f":"MAX('MDA1'!L144,'MDA4'!T144,'MDA3'!J144,'MDA3'!M144,AF144)","v":0},0,0]
[{"$f":"IF(COUNTRY_INFO!A145=0,\" \",COUNTRY_INFO!A145)","v":"Angola"},{"$f":"IF(COUNTRY_INFO!B145=0,\" \",COUNTRY_INFO!B145)","v":"MOXICO"},{"$f":"IF(COUNTRY_INFO!C145=0,\" \",COUNTRY_INFO!C145)","v":"MOXICO/LUENA"},{"$f":"COUNTRY_INFO!M145","v":0},null,null,{"$f":"MAX('MDA1'!M145,'MDA4'!U145)","v":0},{"$f":"IF(AND(COUNTRY_INFO!H145>0,COUNTRY_INFO!H145<4),IF(D145>MAX('MDA1'!M145,'MDA4'!U145),MAX('MDA1'!M145,'MDA4'!U145),D145),0)","v":0},{"$f":"IF(AND(COUNTRY_INFO!H145>0,COUNTRY_INFO!H145<4), IF(G145/D145*100<>0, IF(G145/D145*100>100,100,G145/D145*100), \"-\"),0)","v":0},{"$f":"COUNTRY_INFO!N145","v":419365.79642479628},null,null,{"$f":"MAX('MDA1'!M145,MAX('MDA3'!I145,'MDA3'!L145)+MAX('MDA3'!J145,'MDA3'!M145))","v":0},{"$f":"IF(AND(COUNTRY_INFO!I145>0,COUNTRY_INFO!I145<4),IF(J145>MAX('MDA1'!M145,MAX('MDA3'!I145,'MDA3'!L145)+MAX('MDA3'!J145,'MDA3'!M145)),MAX('MDA1'!M145,MAX('MDA3'!I145,'MDA3'!L145)+MAX('MDA3'!J145,'MDA3'!M145)),J145),0)","v":0},{"$f":"IF(AND(COUNTRY_INFO!I145>0,COUNTRY_INFO!I145<4), IF(M145/J145*100<>0, IF(M145/J145*100>100,100,M145/J145*100), \"-\"),0)","v":"-"},{"$f":"COUNTRY_INFO!O145","v":184102},null,null,{"$f":"SUM(MAX('MDA4'!R145, 'T1'!L145, MAX(T3_R1!K145, T3_R2!K145)), MAX('MDA1'!K145, 'MDA4'!S145, 'T1'!M145, MAX(T3_R1!L145, T3_R2!L145)), MAX('MDA1'!L145, 'MDA4'!T145, 'T1'!N145, MAX(T3_R1!M145, T3_R2!M145)))","v":0},{"$f":"IF(AND(COUNTRY_INFO!J145>1,COUNTRY_INFO!J145<4),IF(COUNTRY_INFO!E145>MAX('MDA4'!R145,'T1'!L145,MAX(T3_R1!K145,T3_R2!K145)),MAX('MDA4'!R145,'T1'!L145,MAX(T3_R1!K145,T3_R2!K145)),COUNTRY_INFO!E145),0)","v":0},{"$f":"IF(AND(COUNTRY_INFO!J145>1,COUNTRY_INFO!J145<4), IF(T145/COUNTRY_INFO!E145*100<>0, IF(T145/COUNTRY_INFO!E145*100>100,100,T145/COUNTRY_INFO!E145*100), \"-\"),0)","v":"-"},{"$f":"IF(AND(COUNTRY_INFO!J145>1,COUNTRY_INFO!J145<4),IF(COUNTRY_INFO!F145>MAX('MDA1'!K145,'MDA4'!S145,'T1'!M145,MAX(T3_R1!L145,T3_R2!L145)),MAX('MDA1'!K145,'MDA4'!S145,'T1'!M145,MAX(T3_R1!L145,T3_R2!L145)),COUNTRY_INFO!F145),0)","v":0},{"$f":"IF(AND(COUNTRY_INFO!J145>1,COUNTRY_INFO!J145<4), IF(V145/COUNTRY_INFO!F145*100<>0, IF(V145/COUNTRY_INFO!F145*100>100,100,V145/COUNTRY_INFO!F145*100), \"-\"),0)","v":"-"},0,{"$f":"IF(AND(COUNTRY_INFO!J145>1,COUNTRY_INFO!J145<4), IF(S145/P145*100<>0, IF(X145/P145*100>100,100,X145/P145*100), \"-\"),0)","v":"-"},{"$f":"COUNTRY_INFO!P145","v":102702.70000000001},null,null,{"$f":"MAX('T1'!L145,'T2'!J145)+MAX('T1'!M145,'T2'!K145)+MAX('T1'!N145,'T2'!L145)","v":0},{"$f":"IF(COUNTRY_INFO!K145=1,IF(COUNTRY_INFO!F145*0.33>MAX('T1'!M145,'T2'!K145),MAX('T1'!M145,'T2'!K145),COUNTRY_INFO!F145*0.33),IF(COUNTRY_INFO!K145=2,IF(COUNTRY_INFO!F145*0.5>MAX('T1'!M145,'T2'!K145),MAX('T1'!M145,'T2'!K145),COUNTRY_INFO!F145*0.5),IF(COUNTRY_INFO!K145=3,IF(COUNTRY_INFO!F145>MAX('T1'!M145,'T2'!K145),MAX('T1'!M145,'T2'!K145),COUNTRY_INFO!F145),0)))","v":0},{"$f":"IF(AND(COUNTRY_INFO!K145>0,COUNTRY_INFO!L145<4),IF(Z145>0,IF(COUNTRY_INFO!K145=1, AD145/(COUNTRY_INFO!F145*0.33)*100, IF(COUNTRY_INFO!K145=2, AD145/(COUNTRY_INFO!F145*0.5)*100, IF(COUNTRY_INFO!K145=3, AD145/COUNTRY_INFO!F145*100))),\"-\"),0)","v":0},{"$f":"IF(COUNTRY_INFO!K145=2,IF(COUNTRY_INFO!G145*0.2>MAX('T1'!N145,'T2'!L145),MAX('T1'!N145,'T2'!L145),COUNTRY_INFO!G145*0.2),IF(COUNTRY_INFO!K145=3,IF(COUNTRY_INFO!G145>MAX('T1'!N145,'T2'!L145),MAX('T1'!N145,'T2'!L145),COUNTRY_INFO!G145),0))","v":0},{"$f":"IF(AND(COUNTRY_INFO!K145>0,COUNTRY_INFO!L145<4),IF(Z145>0,IF(COUNTRY_INFO!K145=1, 0, IF(COUNTRY_INFO!K145=2, AF145/(COUNTRY_INFO!G145*0.2)*100, IF(COUNTRY_INFO!K145=3, AF145/COUNTRY_INFO!G145*100))),\"-\"),0)","v":0},0,{"$f":"IF(AND(COUNTRY_INFO!K145>0,COUNTRY_INFO!K145<4), IF(AC145/Z145*100<>0, IF(AH145/Z145*100>100,100,AH145/Z145*100), \"-\"),0)","v":"-"},null,{"$f":"IF(AND(D145<>0, D145<>\"Unknown\",D145<>\"Stopped\",D145<>\"Not required\"),D145/COUNTRY_INFO!D145, 0)","v":0},{"$f":"IF(AND(J145<>0,J145<>\"Unknown\",J145<>\"Stopped\",J145<>\"Not required\"),J145/COUNTRY_INFO!D145, 0)","v":1},{"$f":"IF(AND(P145<>0,P145<>\"Unknown\",P145<>\"Not required\"),P145/(COUNTRY_INFO!E145+COUNTRY_INFO!F145), 0)","v":1},{"$f":"IF(AND(Z145<>0,Z145<>\"Unknown\",Z145<>\"Not required\"),IF(COUNTRY_INFO!K145=1,1,IF(COUNTRY_INFO!K145=2,0.5*COUNTRY_INFO!F145/(0.5*COUNTRY_INFO!F145+0.2*COUNTRY_INFO!G145),IF(COUNTRY_INFO!K145=3,COUNTRY_INFO!F145/(COUNTRY_INFO!F145+COUNTRY_INFO!G145)))),0)","v":0.56961988341104952},{"$f":"IF(AND(Z145<>0,Z145<>\"Unknown\",Z145<>\"Not required\"),IF(COUNTRY_INFO!K145=1,0,IF(COUNTRY_INFO!K145=2,0.2*COUNTRY_INFO!G145/(0.5*COUNTRY_INFO!F145+0.2*COUNTRY_INFO!G145),IF(COUNTRY_INFO!K145=3,COUNTRY_INFO!G145/(COUNTRY_INFO!F145+COUNTRY_INFO!G145)))),0)","v":0.43038011658895042},{"$f":"MAX(COUNTRY_INFO!D145*AK145*PROFILE!$G$7,COUNTRY_INFO!D145*AL145*PROFILE!$G$7)","v":14258.539042988987},{"$f":"MAX(COUNTRY_INFO!D145*AK145*PROFILE!$G$8,COUNTRY_INFO!D145*AL145*PROFILE!$G$8,COUNTRY_INFO!D145*AM145*PROFILE!$G$8)","v":67098.469346952741},{"$f":"MAX(COUNTRY_INFO!D145*AK145*PROFILE!$G$9,COUNTRY_INFO!D145*AL145*PROFILE!$G$9,COUNTRY_INFO!D145*AM145*PROFILE!$G$9,IF(AND(DISTRICT!Z145<>\"Unknown\",Z145<>\"Not required\"),COUNTRY_INFO!P145*DISTRICT!AN145,0))","v":117003.01187285333},{"$f":"MAX(COUNTRY_INFO!D145*AK145*PROFILE!$G$10,COUNTRY_INFO!D145*AL145*PROFILE!$G$10,IF(AND(DISTRICT!Z145<>\"Unknown\",Z145<>\"Not required\"),COUNTRY_INFO!P145*DISTRICT!AO145,0))","v":221005.77616200122},419365.79642479622,0,{"$f":"MAX('MDA4'!R145,'T1'!L145,'T2'!J145,T3_R1!K145,T3_R2!K145)","v":0},{"$f":"MAX('MDA1'!K145,'MDA4'!S145,'MDA3'!I145,'MDA3'!L145,'T1'!M145,'T2'!K145,T3_R1!L145,T3_R2!L145)","v":0},{"$f":"MAX('MDA1'!L145,'MDA4'!T145,'MDA3'!J145,'MDA3'!M145,'T1'!N145,'T2'!L145,T3_R1!M145,T3_R2!M145)","v":0},0,{"$f":"MAX('MDA4'!R145,T145)","v":0},{"$f":"MAX('MDA1'!K145,'MDA4'!S145,'MDA3'!I145,'MDA3'!L145,V145,AD145)","v":0},{"$f":"MAX('MDA1'!L145,'MDA4'!T145,'MDA3'!J145,'MDA3'!M145,AF145)","v":0},0,0]
[{"$f":"IF(COUNTRY_INFO!A146=0,\" \",COUNTRY_INFO!A146)","v":"Angola"},{"$f":"IF(COUNTRY_INFO!B146=0,\" \",COUNTRY_INFO!B146)","v":"NAMIBE"},{"$f":"IF(COUNTRY_INFO!C146=0,\" \",COUNTRY_INFO!C146)","v":"BIBALA"},{"$f":"COUNTRY_INFO!M146","v":0},null,null,{"$f":"MAX('MDA1'!M146,'MDA4'!U146)","v":0},{"$f":"IF(AND(COUNTRY_INFO!H146>0,COUNTRY_INFO!H146<4),IF(D146>MAX('MDA1'!M146,'MDA4'!U146),MAX('MDA1'!M146,'MDA4'!U146),D146),0)","v":0},{"$f":"IF(AND(COUNTRY_INFO!H146>0,COUNTRY_INFO!H146<4), IF(G146/D146*100<>0, IF(G146/D146*100>100,100,G146/D146*100), \"-\"),0)","v":0},{"$f":"COUNTRY_INFO!N146","v":"Unknown"},null,null,{"$f":"MAX('MDA1'!M146,MAX('MDA3'!I146,'MDA3'!L146)+MAX('MDA3'!J146,'MDA3'!M146))","v":0},{"$f":"IF(AND(COUNTRY_INFO!I146>0,COUNTRY_INFO!I146<4),IF(J146>MAX('MDA1'!M146,MAX('MDA3'!I146,'MDA3'!L146)+MAX('MDA3'!J146,'MDA3'!M146)),MAX('MDA1'!M146,MAX('MDA3'!I146,'MDA3'!L146)+MAX('MDA3'!J146,'MDA3'!M146)),J146),0)","v":0},{"$f":"IF(AND(COUNTRY_INFO!I146>0,COUNTRY_INFO!I146<4), IF(M146/J146*100<>0, IF(M146/J146*100>100,100,M146/J146*100), \"-\"),0)","v":0},{"$f":"COUNTRY_INFO!O146","v":33226},null,null,{"$f":"SUM(MAX('MDA4'!R146, 'T1'!L146, MAX(T3_R1!K146, T3_R2!K146)), MAX('MDA1'!K146, 'MDA4'!S146, 'T1'!M146, MAX(T3_R1!L146, T3_R2!L146)), MAX('MDA1'!L146, 'MDA4'!T146, 'T1'!N146, MAX(T3_R1!M146, T3_R2!M146)))","v":0},{"$f":"IF(AND(COUNTRY_INFO!J146>1,COUNTRY_INFO!J146<4),IF(COUNTRY_INFO!E146>MAX('MDA4'!R146,'T1'!L146,MAX(T3_R1!K146,T3_R2!K146)),MAX('MDA4'!R146,'T1'!L146,MAX(T3_R1!K146,T3_R2!K146)),COUNTRY_INFO!E146),0)","v":0},{"$f":"IF(AND(COUNTRY_INFO!J146>1,COUNTRY_INFO!J146<4), IF(T146/COUNTRY_INFO!E146*100<>0, IF(T146/COUNTRY_INFO!E146*100>100,100,T146/COUNTRY_INFO!E146*100), \"-\"),0)","v":"-"},{"$f":"IF(AND(COUNTRY_INFO!J146>1,COUNTRY_INFO!J146<4),IF(COUNTRY_INFO!F146>MAX('MDA1'!K146,'MDA4'!S146,'T1'!M146,MAX(T3_R1!L146,T3_R2!L146)),MAX('MDA1'!K146,'MDA4'!S146,'T1'!M146,MAX(T3_R1!L146,T3_R2!L146)),COUNTRY_INFO!F146),0)","v":0},{"$f":"IF(AND(COUNTRY_INFO!J146>1,COUNTRY_INFO!J146<4), IF(V146/COUNTRY_INFO!F146*100<>0, IF(V146/COUNTRY_INFO!F146*100>100,100,V146/COUNTRY_INFO!F146*100), \"-\"),0)","v":"-"},0,{"$f":"IF(AND(COUNTRY_INFO!J146>1,COUNTRY_INFO!J146<4), IF(S146/P146*100<>0, IF(X146/P146*100>100,100,X146/P146*100), \"-\"),0)","v":"-"},{"$f":"COUNTRY_INFO!P146","v":18535.2},null,null,{"$f":"MAX('T1'!L146,'T2'!J146)+MAX('T1'!M146,'T2'!K146)+MAX('T1'!N146,'T2'!L146)","v":0},{"$f":"IF(COUNTRY_INFO!K146=1,IF(COUNTRY_INFO!F146*0.33>MAX('T1'!M146,'T2'!K146),MAX('T1'!M146,'T2'!K146),COUNTRY_INFO!F146*0.33),IF(COUNTRY_INFO!K146=2,IF(COUNTRY_INFO!F146*0.5>MAX('T1'!M146,'T2'!K146),MAX('T1'!M146,'T2'!K146),COUNTRY_INFO!F146*0.5),IF(COUNTRY_INFO!K146=3,IF(COUNTRY_INFO!F146>MAX('T1'!M146,'T2'!K146),MAX('T1'!M146,'T2'!K146),COUNTRY_INFO!F146),0)))","v":0},{"$f":"IF(AND(COUNTRY_INFO!K146>0,COUNTRY_INFO!L146<4),IF(Z146>0,IF(COUNTRY_INFO!K146=1, AD146/(COUNTRY_INFO!F146*0.33)*100, IF(COUNTRY_INFO!K146=2, AD146/(COUNTRY_INFO!F146*0.5)*100, IF(COUNTRY_INFO!K146=3, AD146/COUNTRY_INFO!F146*100))),\"-\"),0)","v":0},{"$f":"IF(COUNTRY_INFO!K146=2,IF(COUNTRY_INFO!G146*0.2>MAX('T1'!N146,'T2'!L146),MAX('T1'!N146,'T2'!L146),COUNTRY_INFO!G146*0.2),IF(COUNTRY_INFO!K146=3,IF(COUNTRY_INFO!G146>MAX('T1'!N146,'T2'!L146),MAX('T1'!N146,'T2'!L146),COUNTRY_INFO!G146),0))","v":0},{"$f":"IF(AND(COUNTRY_INFO!K146>0,COUNTRY_INFO!L146<4),IF(Z146>0,IF(COUNTRY_INFO!K146=1, 0, IF(COUNTRY_INFO!K146=2, AF146/(COUNTRY_INFO!G146*0.2)*100, IF(COUNTRY_INFO!K146=3, AF146/COUNTRY_INFO!G146*100))),\"-\"),0)","v":0},0,{"$f":"IF(AND(COUNTRY_INFO!K146>0,COUNTRY_INFO!K146<4), IF(AC146/Z146*100<>0, IF(AH146/Z146*100>100,100,AH146/Z146*100), \"-\"),0)","v":"-"},null,{"$f":"IF(AND(D146<>0, D146<>\"Unknown\",D146<>\"Stopped\",D146<>\"Not required\"),D146/COUNTRY_INFO!D146, 0)","v":0},{"$f":"IF(AND(J146<>0,J146<>\"Unknown\",J146<>\"Stopped\",J146<>\"Not required\"),J146/COUNTRY_INFO!D146, 0)","v":0},{"$f":"IF(AND(P146<>0,P146<>\"Unknown\",P146<>\"Not required\"),P146/(COUNTRY_INFO!E146+COUNTRY_INFO!F146), 0)","v":1},{"$f":"IF(AND(Z146<>0,Z146<>\"Unknown\",Z146<>\"Not required\"),IF(COUNTRY_INFO!K146=1,1,IF(COUNTRY_INFO!K146=2,0.5*COUNTRY_INFO!F146/(0.5*COUNTRY_INFO!F146+0.2*COUNTRY_INFO!G146),IF(COUNTRY_INFO!K146=3,COUNTRY_INFO!F146/(COUNTRY_INFO!F146+COUNTRY_INFO!G146)))),0)","v":0.56961888730631449},{"$f":"IF(AND(Z146<>0,Z146<>\"Unknown\",Z146<>\"Not required\"),IF(COUNTRY_INFO!K146=1,0,IF(COUNTRY_INFO!K146=2,0.2*COUNTRY_INFO!G146/(0.5*COUNTRY_INFO!F146+0.2*COUNTRY_INFO!G146),IF(COUNTRY_INFO!K146=3,COUNTRY_INFO!G146/(COUNTRY_INFO!F146+COUNTRY_INFO!G146)))),0)","v":0.43038111269368556},{"$f":"MAX(COUNTRY_INFO!D146*AK146*PROFILE!$G$7,COUNTRY_INFO!D146*AL146*PROFILE!$G$7)","v":0},{"$f":"MAX(COUNTRY_INFO!D146*AK146*PROFILE!$G$8,COUNTRY_INFO!D146*AL146*PROFILE!$G$8,COUNTRY_INFO!D146*AM146*PROFILE!$G$8)","v":12109.57538409582},{"$f":"MAX(COUNTRY_INFO!D146*AK146*PROFILE!$G$9,COUNTRY_INFO!D146*AL146*PROFILE!$G$9,COUNTRY_INFO!D146*AM146*PROFILE!$G$9,IF(AND(DISTRICT!Z146<>\"Unknown\",Z146<>\"Not required\"),COUNTRY_INFO!P146*DISTRICT!AN146,0))","v":21116.082173414314},{"$f":"MAX(COUNTRY_INFO!D146*AK146*PROFILE!$G$10,COUNTRY_INFO!D146*AL146*PROFILE!$G$10,IF(AND(DISTRICT!Z146<>\"Unknown\",Z146<>\"Not required\"),COUNTRY_INFO!P146*DISTRICT!AO146,0))","v":7977.2000000000007},41202.857557510128,0,{"$f":"MAX('MDA4'!R146,'T1'!L146,'T2'!J146,T3_R1!K146,T3_R2!K146)","v":0},{"$f":"MAX('MDA1'!K146,'MDA4'!S146,'MDA3'!I146,'MDA3'!L146,'T1'!M146,'T2'!K146,T3_R1!L146,T3_R2!L146)","v":0},{"$f":"MAX('MDA1'!L146,'MDA4'!T146,'MDA3'!J146,'MDA3'!M146,'T1'!N146,'T2'!L146,T3_R1!M146,T3_R2!M146)","v":0},0,{"$f":"MAX('MDA4'!R146,T146)","v":0},{"$f":"MAX('MDA1'!K146,'MDA4'!S146,'MDA3'!I146,'MDA3'!L146,V146,AD146)","v":0},{"$f":"MAX('MDA1'!L146,'MDA4'!T146,'MDA3'!J146,'MDA3'!M146,AF146)","v":0},0,0]
[{"$f":"IF(COUNTRY_INFO!A147=0,\" \",COUNTRY_INFO!A147)","v":"Angola"},{"$f":"IF(COUNTRY_INFO!B147=0,\" \",COUNTRY_INFO!B147)","v":"NAMIBE"},{"$f":"IF(COUNTRY_INFO!C147=0,\" \",COUNTRY_INFO!C147)","v":"CAMUCUIO"},{"$f":"COUNTRY_INFO!M147","v":0},null,null,{"$f":"MAX('MDA1'!M147,'MDA4'!U147)","v":0},{"$f":"IF(AND(COUNTRY_INFO!H147>0,COUNTRY_INFO!H147<4),IF(D147>MAX('MDA1'!M147,'MDA4'!U147),MAX('MDA1'!M147,'MDA4'!U147),D147),0)","v":0},{"$f":"IF(AND(COUNTRY_INFO!H147>0,COUNTRY_INFO!H147<4), IF(G147/D147*100<>0, IF(G147/D147*100>100,100,G147/D147*100), \"-\"),0)","v":0},{"$f":"COUNTRY_INFO!N147","v":"Unknown"},null,null,{"$f":"MAX('MDA1'!M147,MAX('MDA3'!I147,'MDA3'!L147)+MAX('MDA3'!J147,'MDA3'!M147))","v":0},{"$f":"IF(AND(COUNTRY_INFO!I147>0,COUNTRY_INFO!I147<4),IF(J147>MAX('MDA1'!M147,MAX('MDA3'!I147,'MDA3'!L147)+MAX('MDA3'!J147,'MDA3'!M147)),MAX('MDA1'!M147,MAX('MDA3'!I147,'MDA3'!L147)+MAX('MDA3'!J147,'MDA3'!M147)),J147),0)","v":0},{"$f":"IF(AND(COUNTRY_INFO!I147>0,COUNTRY_INFO!I147<4), IF(M147/J147*100<>0, IF(M147/J147*100>100,100,M147/J147*100), \"-\"),0)","v":0},{"$f":"COUNTRY_INFO!O147","v":25934},null,null,{"$f":"SUM(MAX('MDA4'!R147, 'T1'!L147, MAX(T3_R1!K147, T3_R2!K147)), MAX('MDA1'!K147, 'MDA4'!S147, 'T1'!M147, MAX(T3_R1!L147, T3_R2!L147)), MAX('MDA1'!L147, 'MDA4'!T147, 'T1'!N147, MAX(T3_R1!M147, T3_R2!M147)))","v":0},{"$f":"IF(AND(COUNTRY_INFO!J147>1,COUNTRY_INFO!J147<4),IF(COUNTRY_INFO!E147>MAX('MDA4'!R147,'T1'!L147,MAX(T3_R1!K147,T3_R2!K147)),MAX('MDA4'!R147,'T1'!L147,MAX(T3_R1!K147,T3_R2!K147)),COUNTRY_INFO!E147),0)","v":0},{"$f":"IF(AND(COUNTRY_INFO!J147>1,COUNTRY_INFO!J147<4), IF(T147/COUNTRY_INFO!E147*100<>0, IF(T147/COUNTRY_INFO!E147*100>100,100,T147/COUNTRY_INFO!E147*100), \"-\"),0)","v":"-"},{"$f":"IF(AND(COUNTRY_INFO!J147>1,COUNTRY_INFO!J147<4),IF(COUNTRY_INFO!F147>MAX('MDA1'!K147,'MDA4'!S147,'T1'!M147,MAX(T3_R1!L147,T3_R2!L147)),MAX('MDA1'!K147,'MDA4'!S147,'T1'!M147,MAX(T3_R1!L147,T3_R2!L147)),COUNTRY_INFO!F147),0)","v":0},{"$f":"IF(AND(COUNTRY_INFO!J147>1,COUNTRY_INFO!J147<4), IF(V147/COUNTRY_INFO!F147*100<>0, IF(V147/COUNTRY_INFO!F147*100>100,100,V147/COUNTRY_INFO!F147*100), \"-\"),0)","v":"-"},0,{"$f":"IF(AND(COUNTRY_INFO!J147>1,COUNTRY_INFO!J147<4), IF(S147/P147*100<>0, IF(X147/P147*100>100,100,X147/P147*100), \"-\"),0)","v":"-"},{"$f":"COUNTRY_INFO!P147","v":14467.6},null,null,{"$f":"MAX('T1'!L147,'T2'!J147)+MAX('T1'!M147,'T2'!K147)+MAX('T1'!N147,'T2'!L147)","v":0},{"$f":"IF(COUNTRY_INFO!K147=1,IF(COUNTRY_INFO!F147*0.33>MAX('T1'!M147,'T2'!K147),MAX('T1'!M147,'T2'!K147),COUNTRY_INFO!F147*0.33),IF(COUNTRY_INFO!K147=2,IF(COUNTRY_INFO!F147*0.5>MAX('T1'!M147,'T2'!K147),MAX('T1'!M147,'T2'!K147),COUNTRY_INFO!F147*0.5),IF(COUNTRY_INFO!K147=3,IF(COUNTRY_INFO!F147>MAX('T1'!M147,'T2'!K147),MAX('T1'!M147,'T2'!K147),COUNTRY_INFO!F147),0)))","v":0},{"$f":"IF(AND(COUNTRY_INFO!K147>0,COUNTRY_INFO!L147<4),IF(Z147>0,IF(COUNTRY_INFO!K147=1, AD147/(COUNTRY_INFO!F147*0.33)*100, IF(COUNTRY_INFO!K147=2, AD147/(COUNTRY_INFO!F147*0.5)*100, IF(COUNTRY_INFO!K147=3, AD147/COUNTRY_INFO!F147*100))),\"-\"),0)","v":0},{"$f":"IF(COUNTRY_INFO!K147=2,IF(COUNTRY_INFO!G147*0.2>MAX('T1'!N147,'T2'!L147),MAX('T1'!N147,'T2'!L147),COUNTRY_INFO!G147*0.2),IF(COUNTRY_INFO!K147=3,IF(COUNTRY_INFO!G147>MAX('T1'!N147,'T2'!L147),MAX('T1'!N147,'T2'!L147),COUNTRY_INFO!G147),0))","v":0},{"$f":"IF(AND(COUNTRY_INFO!K147>0,COUNTRY_INFO!L147<4),IF(Z147>0,IF(COUNTRY_INFO!K147=1, 0, IF(COUNTRY_INFO!K147=2, AF147/(COUNTRY_INFO!G147*0.2)*100, IF(COUNTRY_INFO!K147=3, AF147/COUNTRY_INFO!G147*100))),\"-\"),0)","v":0},0,{"$f":"IF(AND(COUNTRY_INFO!K147>0,COUNTRY_INFO!K147<4), IF(AC147/Z147*100<>0, IF(AH147/Z147*100>100,100,AH147/Z147*100), \"-\"),0)","v":"-"},null,{"$f":"IF(AND(D147<>0, D147<>\"Unknown\",D147<>\"Stopped\",D147<>\"Not required\"),D147/COUNTRY_INFO!D147, 0)","v":0},{"$f":"IF(AND(J147<>0,J147<>\"Unknown\",J147<>\"Stopped\",J147<>\"Not required\"),J147/COUNTRY_INFO!D147, 0)","v":0},{"$f":"IF(AND(P147<>0,P147<>\"Unknown\",P147<>\"Not required\"),P147/(COUNTRY_INFO!E147+COUNTRY_INFO!F147), 0)","v":1},{"$f":"IF(AND(Z147<>0,Z147<>\"Unknown\",Z147<>\"Not required\"),IF(COUNTRY_INFO!K147=1,1,IF(COUNTRY_INFO!K147=2,0.5*COUNTRY_INFO!F147/(0.5*COUNTRY_INFO!F147+0.2*COUNTRY_INFO!G147),IF(COUNTRY_INFO!K147=3,COUNTRY_INFO!F147/(COUNTRY_INFO!F147+COUNTRY_INFO!G147)))),0)","v":0.56961762835577423},{"$f":"IF(AND(Z147<>0,Z147<>\"Unknown\",Z147<>\"Not required\"),IF(COUNTRY_INFO!K147=1,0,IF(COUNTRY_INFO!K147=2,0.2*COUNTRY_INFO!G147/(0.5*COUNTRY_INFO!F147+0.2*COUNTRY_INFO!G147),IF(COUNTRY_INFO!K147=3,COUNTRY_INFO!G147/(COUNTRY_INFO!F147+COUNTRY_INFO!G147)))),0)","v":0.43038237164422571},{"$f":"MAX(COUNTRY_INFO!D147*AK147*PROFILE!$G$7,COUNTRY_INFO!D147*AL147*PROFILE!$G$7)","v":0},{"$f":"MAX(COUNTRY_INFO!D147*AK147*PROFILE!$G$8,COUNTRY_INFO!D147*AL147*PROFILE!$G$8,COUNTRY_INFO!D147*AM147*PROFILE!$G$8)","v":9452.2046851953455},{"$f":"MAX(COUNTRY_INFO!D147*AK147*PROFILE!$G$9,COUNTRY_INFO!D147*AL147*PROFILE!$G$9,COUNTRY_INFO!D147*AM147*PROFILE!$G$9,IF(AND(DISTRICT!Z147<>\"Unknown\",Z147<>\"Not required\"),COUNTRY_INFO!P147*DISTRICT!AN147,0))","v":16482.289801395844},{"$f":"MAX(COUNTRY_INFO!D147*AK147*PROFILE!$G$10,COUNTRY_INFO!D147*AL147*PROFILE!$G$10,IF(AND(DISTRICT!Z147<>\"Unknown\",Z147<>\"Not required\"),COUNTRY_INFO!P147*DISTRICT!AO147,0))","v":6226.6},32161.094486591188,0,{"$f":"MAX('MDA4'!R147,'T1'!L147,'T2'!J147,T3_R1!K147,T3_R2!K147)","v":0},{"$f":"MAX('MDA1'!K147,'MDA4'!S147,'MDA3'!I147,'MDA3'!L147,'T1'!M147,'T2'!K147,T3_R1!L147,T3_R2!L147)","v":0},{"$f":"MAX('MDA1'!L147,'MDA4'!T147,'MDA3'!J147,'MDA3'!M147,'T1'!N147,'T2'!L147,T3_R1!M147,T3_R2!M147)","v":0},0,{"$f":"MAX('MDA4'!R147,T147)","v":0},{"$f":"MAX('MDA1'!K147,'MDA4'!S147,'MDA3'!I147,'MDA3'!L147,V147,AD147)","v":0},{"$f":"MAX('MDA1'!L147,'MDA4'!T147,'MDA3'!J147,'MDA3'!M147,AF147)","v":0},0,0]
[{"$f":"IF(COUNTRY_INFO!A148=0,\" \",COUNTRY_INFO!A148)","v":"Angola"},{"$f":"IF(COUNTRY_INFO!B148=0,\" \",COUNTRY_INFO!B148)","v":"NAMIBE"},{"$f":"IF(COUNTRY_INFO!C148=0,\" \",COUNTRY_INFO!C148)","v":"NAMIBE"},{"$f":"COUNTRY_INFO!M148","v":0},null,null,{"$f":"MAX('MDA1'!M148,'MDA4'!U148)","v":0},{"$f":"IF(AND(COUNTRY_INFO!H148>0,COUNTRY_INFO!H148<4),IF(D148>MAX('MDA1'!M148,'MDA4'!U148),MAX('MDA1'!M148,'MDA4'!U148),D148),0)","v":0},{"$f":"IF(AND(COUNTRY_INFO!H148>0,COUNTRY_INFO!H148<4), IF(G148/D148*100<>0, IF(G148/D148*100>100,100,G148/D148*100), \"-\"),0)","v":0},{"$f":"COUNTRY_INFO!N148","v":"Unknown"},null,null,{"$f":"MAX('MDA1'!M148,MAX('MDA3'!I148,'MDA3'!L148)+MAX('MDA3'!J148,'MDA3'!M148))","v":0},{"$f":"IF(AND(COUNTRY_INFO!I148>0,COUNTRY_INFO!I148<4),IF(J148>MAX('MDA1'!M148,MAX('MDA3'!I148,'MDA3'!L148)+MAX('MDA3'!J148,'MDA3'!M148)),MAX('MDA1'!M148,MAX('MDA3'!I148,'MDA3'!L148)+MAX('MDA3'!J148,'MDA3'!M148)),J148),0)","v":0},{"$f":"IF(AND(COUNTRY_INFO!I148>0,COUNTRY_INFO!I148<4), IF(M148/J148*100<>0, IF(M148/J148*100>100,100,M148/J148*100), \"-\"),0)","v":0},{"$f":"COUNTRY_INFO!O148","v":150684},null,null,{"$f":"SUM(MAX('MDA4'!R148, 'T1'!L148, MAX(T3_R1!K148, T3_R2!K148)), MAX('MDA1'!K148, 'MDA4'!S148, 'T1'!M148, MAX(T3_R1!L148, T3_R2!L148)), MAX('MDA1'!L148, 'MDA4'!T148, 'T1'!N148, MAX(T3_R1!M148, T3_R2!M148)))","v":0},{"$f":"IF(AND(COUNTRY_INFO!J148>1,COUNTRY_INFO!J148<4),IF(COUNTRY_INFO!E148>MAX('MDA4'!R148,'T1'!L148,MAX(T3_R1!K148,T3_R2!K148)),MAX('MDA4'!R148,'T1'!L148,MAX(T3_R1!K148,T3_R2!K148)),COUNTRY_INFO!E148),0)","v":0},{"$f":"IF(AND(COUNTRY_INFO!J148>1,COUNTRY_INFO!J148<4), IF(T148/COUNTRY_INFO!E148*100<>0, IF(T148/COUNTRY_INFO!E148*100>100,100,T148/COUNTRY_INFO!E148*100), \"-\"),0)","v":"-"},{"$f":"IF(AND(COUNTRY_INFO!J148>1,COUNTRY_INFO!J148<4),IF(COUNTRY_INFO!F148>MAX('MDA1'!K148,'MDA4'!S148,'T1'!M148,MAX(T3_R1!L148,T3_R2!L148)),MAX('MDA1'!K148,'MDA4'!S148,'T1'!M148,MAX(T3_R1!L148,T3_R2!L148)),COUNTRY_INFO!F148),0)","v":0},{"$f":"IF(AND(COUNTRY_INFO!J148>1,COUNTRY_INFO!J148<4), IF(V148/COUNTRY_INFO!F148*100<>0, IF(V148/COUNTRY_INFO!F148*100>100,100,V148/COUNTRY_INFO!F148*100), \"-\"),0)","v":"-"},0,{"$f":"IF(AND(COUNTRY_INFO!J148>1,COUNTRY_INFO!J148<4), IF(S148/P148*100<>0, IF(X148/P148*100>100,100,X148/P148*100), \"-\"),0)","v":"-"},{"$f":"COUNTRY_INFO!P148","v":84060.3},null,null,{"$f":"MAX('T1'!L148,'T2'!J148)+MAX('T1'!M148,'T2'!K148)+MAX('T1'!N148,'T2'!L148)","v":0},{"$f":"IF(COUNTRY_INFO!K148=1,IF(COUNTRY_INFO!F148*0.33>MAX('T1'!M148,'T2'!K148),MAX('T1'!M148,'T2'!K148),COUNTRY_INFO!F148*0.33),IF(COUNTRY_INFO!K148=2,IF(COUNTRY_INFO!F148*0.5>MAX('T1'!M148,'T2'!K148),MAX('T1'!M148,'T2'!K148),COUNTRY_INFO!F148*0.5),IF(COUNTRY_INFO!K148=3,IF(COUNTRY_INFO!F148>MAX('T1'!M148,'T2'!K148),MAX('T1'!M148,'T2'!K148),COUNTRY_INFO!F148),0)))","v":0},{"$f":"IF(AND(COUNTRY_INFO!K148>0,COUNTRY_INFO!L148<4),IF(Z148>0,IF(COUNTRY_INFO!K148=1, AD148/(COUNTRY_INFO!F148*0.33)*100, IF(COUNTRY_INFO!K148=2, AD148/(COUNTRY_INFO!F148*0.5)*100, IF(COUNTRY_INFO!K148=3, AD148/COUNTRY_INFO!F148*100))),\"-\"),0)","v":0},{"$f":"IF(COUNTRY_INFO!K148=2,IF(COUNTRY_INFO!G148*0.2>MAX('T1'!N148,'T2'!L148),MAX('T1'!N148,'T2'!L148),COUNTRY_INFO!G148*0.2),IF(COUNTRY_INFO!K148=3,IF(COUNTRY_INFO!G148>MAX('T1'!N148,'T2'!L148),MAX('T1'!N148,'T2'!L148),COUNTRY_INFO!G148),0))","v":0},{"$f":"IF(AND(COUNTRY_INFO!K148>0,COUNTRY_INFO!L148<4),IF(Z148>0,IF(COUNTRY_INFO!K148=1, 0, IF(COUNTRY_INFO!K148=2, AF148/(COUNTRY_INFO!G148*0.2)*100, IF(COUNTRY_INFO!K148=3, AF148/COUNTRY_INFO!G148*100))),\"-\"),0)","v":0},0,{"$f":"IF(AND(COUNTRY_INFO!K148>0,COUNTRY_INFO!K148<4), IF(AC148/Z148*100<>0, IF(AH148/Z148*100>100,100,AH148/Z148*100), \"-\"),0)","v":"-"},null,{"$f":"IF(AND(D148<>0, D148<>\"Unknown\",D148<>\"Stopped\",D148<>\"Not required\"),D148/COUNTRY_INFO!D148, 0)","v":0},{"$f":"IF(AND(J148<>0,J148<>\"Unknown\",J148<>\"Stopped\",J148<>\"Not required\"),J148/COUNTRY_INFO!D148, 0)","v":0},{"$f":"IF(AND(P148<>0,P148<>\"Unknown\",P148<>\"Not required\"),P148/(COUNTRY_INFO!E148+COUNTRY_INFO!F148), 0)","v":1},{"$f":"IF(AND(Z148<>0,Z148<>\"Unknown\",Z148<>\"Not required\"),IF(COUNTRY_INFO!K148=1,1,IF(COUNTRY_INFO!K148=2,0.5*COUNTRY_INFO!F148/(0.5*COUNTRY_INFO!F148+0.2*COUNTRY_INFO!G148),IF(COUNTRY_INFO!K148=3,COUNTRY_INFO!F148/(COUNTRY_INFO!F148+COUNTRY_INFO!G148)))),0)","v":0.56962085550491726},{"$f":"IF(AND(Z148<>0,Z148<>\"Unknown\",Z148<>\"Not required\"),IF(COUNTRY_INFO!K148=1,0,IF(COUNTRY_INFO!K148=2,0.2*COUNTRY_INFO!G148/(0.5*COUNTRY_INFO!F148+0.2*COUNTRY_INFO!G148),IF(COUNTRY_INFO!K148=3,COUNTRY_INFO!G148/(COUNTRY_INFO!F148+COUNTRY_INFO!G148)))),0)","v":0.43037914449508274},{"$f":"MAX(COUNTRY_INFO!D148*AK148*PROFILE!$G$7,COUNTRY_INFO!D148*AL148*PROFILE!$G$7)","v":0},{"$f":"MAX(COUNTRY_INFO!D148*AK148*PROFILE!$G$8,COUNTRY_INFO!D148*AL148*PROFILE!$G$8,COUNTRY_INFO!D148*AM148*PROFILE!$G$8)","v":54918.681554422525},{"$f":"MAX(COUNTRY_INFO!D148*AK148*PROFILE!$G$9,COUNTRY_INFO!D148*AL148*PROFILE!$G$9,COUNTRY_INFO!D148*AM148*PROFILE!$G$9,IF(AND(DISTRICT!Z148<>\"Unknown\",Z148<>\"Not required\"),COUNTRY_INFO!P148*DISTRICT!AN148,0))","v":95764.496753685904},{"$f":"MAX(COUNTRY_INFO!D148*AK148*PROFILE!$G$10,COUNTRY_INFO!D148*AL148*PROFILE!$G$10,IF(AND(DISTRICT!Z148<>\"Unknown\",Z148<>\"Not required\"),COUNTRY_INFO!P148*DISTRICT!AO148,0))","v":36177.800000000003},186860.9783081084,0,{"$f":"MAX('MDA4'!R148,'T1'!L148,'T2'!J148,T3_R1!K148,T3_R2!K148)","v":0},{"$f":"MAX('MDA1'!K148,'MDA4'!S148,'MDA3'!I148,'MDA3'!L148,'T1'!M148,'T2'!K148,T3_R1!L148,T3_R2!L148)","v":0},{"$f":"MAX('MDA1'!L148,'MDA4'!T148,'MDA3'!J148,'MDA3'!M148,'T1'!N148,'T2'!L148,T3_R1!M148,T3_R2!M148)","v":0},0,{"$f":"MAX('MDA4'!R148,T148)","v":0},{"$f":"MAX('MDA1'!K148,'MDA4'!S148,'MDA3'!I148,'MDA3'!L148,V148,AD148)","v":0},{"$f":"MAX('MDA1'!L148,'MDA4'!T148,'MDA3'!J148,'MDA3'!M148,AF148)","v":0},0,0]
[{"$f":"IF(COUNTRY_INFO!A149=0,\" \",COUNTRY_INFO!A149)","v":"Angola"},{"$f":"IF(COUNTRY_INFO!B149=0,\" \",COUNTRY_INFO!B149)","v":"NAMIBE"},{"$f":"IF(COUNTRY_INFO!C149=0,\" \",COUNTRY_INFO!C149)","v":"TOMBWA"},{"$f":"COUNTRY_INFO!M149","v":0},null,null,{"$f":"MAX('MDA1'!M149,'MDA4'!U149)","v":0},{"$f":"IF(AND(COUNTRY_INFO!H149>0,COUNTRY_INFO!H149<4),IF(D149>MAX('MDA1'!M149,'MDA4'!U149),MAX('MDA1'!M149,'MDA4'!U149),D149),0)","v":0},{"$f":"IF(AND(COUNTRY_INFO!H149>0,COUNTRY_INFO!H149<4), IF(G149/D149*100<>0, IF(G149/D149*100>100,100,G149/D149*100), \"-\"),0)","v":0},{"$f":"COUNTRY_INFO!N149","v":"Unknown"},null,null,{"$f":"MAX('MDA1'!M149,MAX('MDA3'!I149,'MDA3'!L149)+MAX('MDA3'!J149,'MDA3'!M149))","v":0},{"$f":"IF(AND(COUNTRY_INFO!I149>0,COUNTRY_INFO!I149<4),IF(J149>MAX('MDA1'!M149,MAX('MDA3'!I149,'MDA3'!L149)+MAX('MDA3'!J149,'MDA3'!M149)),MAX('MDA1'!M149,MAX('MDA3'!I149,'MDA3'!L149)+MAX('MDA3'!J149,'MDA3'!M149)),J149),0)","v":0},{"$f":"IF(AND(COUNTRY_INFO!I149>0,COUNTRY_INFO!I149<4), IF(M149/J149*100<>0, IF(M149/J149*100>100,100,M149/J149*100), \"-\"),0)","v":0},{"$f":"COUNTRY_INFO!O149","v":28585},null,null,{"$f":"SUM(MAX('MDA4'!R149, 'T1'!L149, MAX(T3_R1!K149, T3_R2!K149)), MAX('MDA1'!K149, 'MDA4'!S149, 'T1'!M149, MAX(T3_R1!L149, T3_R2!L149)), MAX('MDA1'!L149, 'MDA4'!T149, 'T1'!N149, MAX(T3_R1!M149, T3_R2!M149)))","v":0},{"$f":"IF(AND(COUNTRY_INFO!J149>1,COUNTRY_INFO!J149<4),IF(COUNTRY_INFO!E149>MAX('MDA4'!R149,'T1'!L149,MAX(T3_R1!K149,T3_R2!K149)),MAX('MDA4'!R149,'T1'!L149,MAX(T3_R1!K149,T3_R2!K149)),COUNTRY_INFO!E149),0)","v":0},{"$f":"IF(AND(COUNTRY_INFO!J149>1,COUNTRY_INFO!J149<4), IF(T149/COUNTRY_INFO!E149*100<>0, IF(T149/COUNTRY_INFO!E149*100>100,100,T149/COUNTRY_INFO!E149*100), \"-\"),0)","v":"-"},{"$f":"IF(AND(COUNTRY_INFO!J149>1,COUNTRY_INFO!J149<4),IF(COUNTRY_INFO!F149>MAX('MDA1'!K149,'MDA4'!S149,'T1'!M149,MAX(T3_R1!L149,T3_R2!L149)),MAX('MDA1'!K149,'MDA4'!S149,'T1'!M149,MAX(T3_R1!L149,T3_R2!L149)),COUNTRY_INFO!F149),0)","v":0},{"$f":"IF(AND(COUNTRY_INFO!J149>1,COUNTRY_INFO!J149<4), IF(V149/COUNTRY_INFO!F149*100<>0, IF(V149/COUNTRY_INFO!F149*100>100,100,V149/COUNTRY_INFO!F149*100), \"-\"),0)","v":"-"},0,{"$f":"IF(AND(COUNTRY_INFO!J149>1,COUNTRY_INFO!J149<4), IF(S149/P149*100<>0, IF(X149/P149*100>100,100,X149/P149*100), \"-\"),0)","v":"-"},{"$f":"COUNTRY_INFO!P149","v":15946.5},null,null,{"$f":"MAX('T1'!L149,'T2'!J149)+MAX('T1'!M149,'T2'!K149)+MAX('T1'!N149,'T2'!L149)","v":0},{"$f":"IF(COUNTRY_INFO!K149=1,IF(COUNTRY_INFO!F149*0.33>MAX('T1'!M149,'T2'!K149),MAX('T1'!M149,'T2'!K149),COUNTRY_INFO!F149*0.33),IF(COUNTRY_INFO!K149=2,IF(COUNTRY_INFO!F149*0.5>MAX('T1'!M149,'T2'!K149),MAX('T1'!M149,'T2'!K149),COUNTRY_INFO!F149*0.5),IF(COUNTRY_INFO!K149=3,IF(COUNTRY_INFO!F149>MAX('T1'!M149,'T2'!K149),MAX('T1'!M149,'T2'!K149),COUNTRY_INFO!F149),0)))","v":0},{"$f":"IF(AND(COUNTRY_INFO!K149>0,COUNTRY_INFO!L149<4),IF(Z149>0,IF(COUNTRY_INFO!K149=1, AD149/(COUNTRY_INFO!F149*0.33)*100, IF(COUNTRY_INFO!K149=2, AD149/(COUNTRY_INFO!F149*0.5)*100, IF(COUNTRY_INFO!K149=3, AD149/COUNTRY_INFO!F149*100))),\"-\"),0)","v":0},{"$f":"IF(COUNTRY_INFO!K149=2,IF(COUNTRY_INFO!G149*0.2>MAX('T1'!N149,'T2'!L149),MAX('T1'!N149,'T2'!L149),COUNTRY_INFO!G149*0.2),IF(COUNTRY_INFO!K149=3,IF(COUNTRY_INFO!G149>MAX('T1'!N149,'T2'!L149),MAX('T1'!N149,'T2'!L149),COUNTRY_INFO!G149),0))","v":0},{"$f":"IF(AND(COUNTRY_INFO!K149>0,COUNTRY_INFO!L149<4),IF(Z149>0,IF(COUNTRY_INFO!K149=1, 0, IF(COUNTRY_INFO!K149=2, AF149/(COUNTRY_INFO!G149*0.2)*100, IF(COUNTRY_INFO!K149=3, AF149/COUNTRY_INFO!G149*100))),\"-\"),0)","v":0},0,{"$f":"IF(AND(COUNTRY_INFO!K149>0,COUNTRY_INFO!K149<4), IF(AC149/Z149*100<>0, IF(AH149/Z149*100>100,100,AH149/Z149*100), \"-\"),0)","v":"-"},null,{"$f":"IF(AND(D149<>0, D149<>\"Unknown\",D149<>\"Stopped\",D149<>\"Not required\"),D149/COUNTRY_INFO!D149, 0)","v":0},{"$f":"IF(AND(J149<>0,J149<>\"Unknown\",J149<>\"Stopped\",J149<>\"Not required\"),J149/COUNTRY_INFO!D149, 0)","v":0},{"$f":"IF(AND(P149<>0,P149<>\"Unknown\",P149<>\"Not required\"),P149/(COUNTRY_INFO!E149+COUNTRY_INFO!F149), 0)","v":1},{"$f":"IF(AND(Z149<>0,Z149<>\"Unknown\",Z149<>\"Not required\"),IF(COUNTRY_INFO!K149=1,1,IF(COUNTRY_INFO!K149=2,0.5*COUNTRY_INFO!F149/(0.5*COUNTRY_INFO!F149+0.2*COUNTRY_INFO!G149),IF(COUNTRY_INFO!K149=3,COUNTRY_INFO!F149/(COUNTRY_INFO!F149+COUNTRY_INFO!G149)))),0)","v":0.56962342833850688},{"$f":"IF(AND(Z149<>0,Z149<>\"Unknown\",Z149<>\"Not required\"),IF(COUNTRY_INFO!K149=1,0,IF(COUNTRY_INFO!K149=2,0.2*COUNTRY_INFO!G149/(0.5*COUNTRY_INFO!F149+0.2*COUNTRY_INFO!G149),IF(COUNTRY_INFO!K149=3,COUNTRY_INFO!G149/(COUNTRY_INFO!F149+COUNTRY_INFO!G149)))),0)","v":0.43037657166149312},{"$f":"MAX(COUNTRY_INFO!D149*AK149*PROFILE!$G$7,COUNTRY_INFO!D149*AL149*PROFILE!$G$7)","v":0},{"$f":"MAX(COUNTRY_INFO!D149*AK149*PROFILE!$G$8,COUNTRY_INFO!D149*AL149*PROFILE!$G$8,COUNTRY_INFO!D149*AM149*PROFILE!$G$8)","v":10418.094635449175},{"$f":"MAX(COUNTRY_INFO!D149*AK149*PROFILE!$G$9,COUNTRY_INFO!D149*AL149*PROFILE!$G$9,COUNTRY_INFO!D149*AM149*PROFILE!$G$9,IF(AND(DISTRICT!Z149<>\"Unknown\",Z149<>\"Not required\"),COUNTRY_INFO!P149*DISTRICT!AN149,0))","v":18166.561207544557},{"$f":"MAX(COUNTRY_INFO!D149*AK149*PROFILE!$G$10,COUNTRY_INFO!D149*AL149*PROFILE!$G$10,IF(AND(DISTRICT!Z149<>\"Unknown\",Z149<>\"Not required\"),COUNTRY_INFO!P149*DISTRICT!AO149,0))","v":6863},35447.655842993729,0,{"$f":"MAX('MDA4'!R149,'T1'!L149,'T2'!J149,T3_R1!K149,T3_R2!K149)","v":0},{"$f":"MAX('MDA1'!K149,'MDA4'!S149,'MDA3'!I149,'MDA3'!L149,'T1'!M149,'T2'!K149,T3_R1!L149,T3_R2!L149)","v":0},{"$f":"MAX('MDA1'!L149,'MDA4'!T149,'MDA3'!J149,'MDA3'!M149,'T1'!N149,'T2'!L149,T3_R1!M149,T3_R2!M149)","v":0},0,{"$f":"MAX('MDA4'!R149,T149)","v":0},{"$f":"MAX('MDA1'!K149,'MDA4'!S149,'MDA3'!I149,'MDA3'!L149,V149,AD149)","v":0},{"$f":"MAX('MDA1'!L149,'MDA4'!T149,'MDA3'!J149,'MDA3'!M149,AF149)","v":0},0,0]
[{"$f":"IF(COUNTRY_INFO!A150=0,\" \",COUNTRY_INFO!A150)","v":"Angola"},{"$f":"IF(COUNTRY_INFO!B150=0,\" \",COUNTRY_INFO!B150)","v":"NAMIBE"},{"$f":"IF(COUNTRY_INFO!C150=0,\" \",COUNTRY_INFO!C150)","v":"VIREI"},{"$f":"COUNTRY_INFO!M150","v":0},null,null,{"$f":"MAX('MDA1'!M150,'MDA4'!U150)","v":0},{"$f":"IF(AND(COUNTRY_INFO!H150>0,COUNTRY_INFO!H150<4),IF(D150>MAX('MDA1'!M150,'MDA4'!U150),MAX('MDA1'!M150,'MDA4'!U150),D150),0)","v":0},{"$f":"IF(AND(COUNTRY_INFO!H150>0,COUNTRY_INFO!H150<4), IF(G150/D150*100<>0, IF(G150/D150*100>100,100,G150/D150*100), \"-\"),0)","v":0},{"$f":"COUNTRY_INFO!N150","v":"Unknown"},null,null,{"$f":"MAX('MDA1'!M150,MAX('MDA3'!I150,'MDA3'!L150)+MAX('MDA3'!J150,'MDA3'!M150))","v":0},{"$f":"IF(AND(COUNTRY_INFO!I150>0,COUNTRY_INFO!I150<4),IF(J150>MAX('MDA1'!M150,MAX('MDA3'!I150,'MDA3'!L150)+MAX('MDA3'!J150,'MDA3'!M150)),MAX('MDA1'!M150,MAX('MDA3'!I150,'MDA3'!L150)+MAX('MDA3'!J150,'MDA3'!M150)),J150),0)","v":0},{"$f":"IF(AND(COUNTRY_INFO!I150>0,COUNTRY_INFO!I150<4), IF(M150/J150*100<>0, IF(M150/J150*100>100,100,M150/J150*100), \"-\"),0)","v":0},{"$f":"COUNTRY_INFO!O150","v":16712},null,null,{"$f":"SUM(MAX('MDA4'!R150, 'T1'!L150, MAX(T3_R1!K150, T3_R2!K150)), MAX('MDA1'!K150, 'MDA4'!S150, 'T1'!M150, MAX(T3_R1!L150, T3_R2!L150)), MAX('MDA1'!L150, 'MDA4'!T150, 'T1'!N150, MAX(T3_R1!M150, T3_R2!M150)))","v":0},{"$f":"IF(AND(COUNTRY_INFO!J150>1,COUNTRY_INFO!J150<4),IF(COUNTRY_INFO!E150>MAX('MDA4'!R150,'T1'!L150,MAX(T3_R1!K150,T3_R2!K150)),MAX('MDA4'!R150,'T1'!L150,MAX(T3_R1!K150,T3_R2!K150)),COUNTRY_INFO!E150),0)","v":0},{"$f":"IF(AND(COUNTRY_INFO!J150>1,COUNTRY_INFO!J150<4), IF(T150/COUNTRY_INFO!E150*100<>0, IF(T150/COUNTRY_INFO!E150*100>100,100,T150/COUNTRY_INFO!E150*100), \"-\"),0)","v":"-"},{"$f":"IF(AND(COUNTRY_INFO!J150>1,COUNTRY_INFO!J150<4),IF(COUNTRY_INFO!F150>MAX('MDA1'!K150,'MDA4'!S150,'T1'!M150,MAX(T3_R1!L150,T3_R2!L150)),MAX('MDA1'!K150,'MDA4'!S150,'T1'!M150,MAX(T3_R1!L150,T3_R2!L150)),COUNTRY_INFO!F150),0)","v":0},{"$f":"IF(AND(COUNTRY_INFO!J150>1,COUNTRY_INFO!J150<4), IF(V150/COUNTRY_INFO!F150*100<>0, IF(V150/COUNTRY_INFO!F150*100>100,100,V150/COUNTRY_INFO!F150*100), \"-\"),0)","v":"-"},0,{"$f":"IF(AND(COUNTRY_INFO!J150>1,COUNTRY_INFO!J150<4), IF(S150/P150*100<>0, IF(X150/P150*100>100,100,X150/P150*100), \"-\"),0)","v":"-"},{"$f":"COUNTRY_INFO!P150","v":9322.9},null,null,{"$f":"MAX('T1'!L150,'T2'!J150)+MAX('T1'!M150,'T2'!K150)+MAX('T1'!N150,'T2'!L150)","v":0},{"$f":"IF(COUNTRY_INFO!K150=1,IF(COUNTRY_INFO!F150*0.33>MAX('T1'!M150,'T2'!K150),MAX('T1'!M150,'T2'!K150),COUNTRY_INFO!F150*0.33),IF(COUNTRY_INFO!K150=2,IF(COUNTRY_INFO!F150*0.5>MAX('T1'!M150,'T2'!K150),MAX('T1'!M150,'T2'!K150),COUNTRY_INFO!F150*0.5),IF(COUNTRY_INFO!K150=3,IF(COUNTRY_INFO!F150>MAX('T1'!M150,'T2'!K150),MAX('T1'!M150,'T2'!K150),COUNTRY_INFO!F150),0)))","v":0},{"$f":"IF(AND(COUNTRY_INFO!K150>0,COUNTRY_INFO!L150<4),IF(Z150>0,IF(COUNTRY_INFO!K150=1, AD150/(COUNTRY_INFO!F150*0.33)*100, IF(COUNTRY_INFO!K150=2, AD150/(COUNTRY_INFO!F150*0.5)*100, IF(COUNTRY_INFO!K150=3, AD150/COUNTRY_INFO!F150*100))),\"-\"),0)","v":0},{"$f":"IF(COUNTRY_INFO!K150=2,IF(COUNTRY_INFO!G150*0.2>MAX('T1'!N150,'T2'!L150),MAX('T1'!N150,'T2'!L150),COUNTRY_INFO!G150*0.2),IF(COUNTRY_INFO!K150=3,IF(COUNTRY_INFO!G150>MAX('T1'!N150,'T2'!L150),MAX('T1'!N150,'T2'!L150),COUNTRY_INFO!G150),0))","v":0},{"$f":"IF(AND(COUNTRY_INFO!K150>0,COUNTRY_INFO!L150<4),IF(Z150>0,IF(COUNTRY_INFO!K150=1, 0, IF(COUNTRY_INFO!K150=2, AF150/(COUNTRY_INFO!G150*0.2)*100, IF(COUNTRY_INFO!K150=3, AF150/COUNTRY_INFO!G150*100))),\"-\"),0)","v":0},0,{"$f":"IF(AND(COUNTRY_INFO!K150>0,COUNTRY_INFO!K150<4), IF(AC150/Z150*100<>0, IF(AH150/Z150*100>100,100,AH150/Z150*100), \"-\"),0)","v":"-"},null,{"$f":"IF(AND(D150<>0, D150<>\"Unknown\",D150<>\"Stopped\",D150<>\"Not required\"),D150/COUNTRY_INFO!D150, 0)","v":0},{"$f":"IF(AND(J150<>0,J150<>\"Unknown\",J150<>\"Stopped\",J150<>\"Not required\"),J150/COUNTRY_INFO!D150, 0)","v":0},{"$f":"IF(AND(P150<>0,P150<>\"Unknown\",P150<>\"Not required\"),P150/(COUNTRY_INFO!E150+COUNTRY_INFO!F150), 0)","v":1},{"$f":"IF(AND(Z150<>0,Z150<>\"Unknown\",Z150<>\"Not required\"),IF(COUNTRY_INFO!K150=1,1,IF(COUNTRY_INFO!K150=2,0.5*COUNTRY_INFO!F150/(0.5*COUNTRY_INFO!F150+0.2*COUNTRY_INFO!G150),IF(COUNTRY_INFO!K150=3,COUNTRY_INFO!F150/(COUNTRY_INFO!F150+COUNTRY_INFO!G150)))),0)","v":0.56961889540808119},{"$f":"IF(AND(Z150<>0,Z150<>\"Unknown\",Z150<>\"Not required\"),IF(COUNTRY_INFO!K150=1,0,IF(COUNTRY_INFO!K150=2,0.2*COUNTRY_INFO!G150/(0.5*COUNTRY_INFO!F150+0.2*COUNTRY_INFO!G150),IF(COUNTRY_INFO!K150=3,COUNTRY_INFO!G150/(COUNTRY_INFO!F150+COUNTRY_INFO!G150)))),0)","v":0.43038110459191886},{"$f":"MAX(COUNTRY_INFO!D150*AK150*PROFILE!$G$7,COUNTRY_INFO!D150*AL150*PROFILE!$G$7)","v":0},{"$f":"MAX(COUNTRY_INFO!D150*AK150*PROFILE!$G$8,COUNTRY_INFO!D150*AL150*PROFILE!$G$8,COUNTRY_INFO!D150*AM150*PROFILE!$G$8)","v":6091.0202985394544},{"$f":"MAX(COUNTRY_INFO!D150*AK150*PROFILE!$G$9,COUNTRY_INFO!D150*AL150*PROFILE!$G$9,COUNTRY_INFO!D150*AM150*PROFILE!$G$9,IF(AND(DISTRICT!Z150<>\"Unknown\",Z150<>\"Not required\"),COUNTRY_INFO!P150*DISTRICT!AN150,0))","v":10621.221724488831},{"$f":"MAX(COUNTRY_INFO!D150*AK150*PROFILE!$G$10,COUNTRY_INFO!D150*AL150*PROFILE!$G$10,IF(AND(DISTRICT!Z150<>\"Unknown\",Z150<>\"Not required\"),COUNTRY_INFO!P150*DISTRICT!AO150,0))","v":4012.4},20724.642023028286,0,{"$f":"MAX('MDA4'!R150,'T1'!L150,'T2'!J150,T3_R1!K150,T3_R2!K150)","v":0},{"$f":"MAX('MDA1'!K150,'MDA4'!S150,'MDA3'!I150,'MDA3'!L150,'T1'!M150,'T2'!K150,T3_R1!L150,T3_R2!L150)","v":0},{"$f":"MAX('MDA1'!L150,'MDA4'!T150,'MDA3'!J150,'MDA3'!M150,'T1'!N150,'T2'!L150,T3_R1!M150,T3_R2!M150)","v":0},0,{"$f":"MAX('MDA4'!R150,T150)","v":0},{"$f":"MAX('MDA1'!K150,'MDA4'!S150,'MDA3'!I150,'MDA3'!L150,V150,AD150)","v":0},{"$f":"MAX('MDA1'!L150,'MDA4'!T150,'MDA3'!J150,'MDA3'!M150,AF150)","v":0},0,0]
[{"$f":"IF(COUNTRY_INFO!A151=0,\" \",COUNTRY_INFO!A151)","v":"Angola"},{"$f":"IF(COUNTRY_INFO!B151=0,\" \",COUNTRY_INFO!B151)","v":"UIGE"},{"$f":"IF(COUNTRY_INFO!C151=0,\" \",COUNTRY_INFO!C151)","v":"AMBUILA"},{"$f":"COUNTRY_INFO!M151","v":0},null,null,{"$f":"MAX('MDA1'!M151,'MDA4'!U151)","v":0},{"$f":"IF(AND(COUNTRY_INFO!H151>0,COUNTRY_INFO!H151<4),IF(D151>MAX('MDA1'!M151,'MDA4'!U151),MAX('MDA1'!M151,'MDA4'!U151),D151),0)","v":0},{"$f":"IF(AND(COUNTRY_INFO!H151>0,COUNTRY_INFO!H151<4), IF(G151/D151*100<>0, IF(G151/D151*100>100,100,G151/D151*100), \"-\"),0)","v":0},{"$f":"COUNTRY_INFO!N151","v":"Unknown"},null,null,{"$f":"MAX('MDA1'!M151,MAX('MDA3'!I151,'MDA3'!L151)+MAX('MDA3'!J151,'MDA3'!M151))","v":0},{"$f":"IF(AND(COUNTRY_INFO!I151>0,COUNTRY_INFO!I151<4),IF(J151>MAX('MDA1'!M151,MAX('MDA3'!I151,'MDA3'!L151)+MAX('MDA3'!J151,'MDA3'!M151)),MAX('MDA1'!M151,MAX('MDA3'!I151,'MDA3'!L151)+MAX('MDA3'!J151,'MDA3'!M151)),J151),0)","v":0},{"$f":"IF(AND(COUNTRY_INFO!I151>0,COUNTRY_INFO!I151<4), IF(M151/J151*100<>0, IF(M151/J151*100>100,100,M151/J151*100), \"-\"),0)","v":0},{"$f":"COUNTRY_INFO!O151","v":9332},null,null,{"$f":"SUM(MAX('MDA4'!R151, 'T1'!L151, MAX(T3_R1!K151, T3_R2!K151)), MAX('MDA1'!K151, 'MDA4'!S151, 'T1'!M151, MAX(T3_R1!L151, T3_R2!L151)), MAX('MDA1'!L151, 'MDA4'!T151, 'T1'!N151, MAX(T3_R1!M151, T3_R2!M151)))","v":6906},{"$f":"IF(AND(COUNTRY_INFO!J151>1,COUNTRY_INFO!J151<4),IF(COUNTRY_INFO!E151>MAX('MDA4'!R151,'T1'!L151,MAX(T3_R1!K151,T3_R2!K151)),MAX('MDA4'!R151,'T1'!L151,MAX(T3_R1!K151,T3_R2!K151)),COUNTRY_INFO!E151),0)","v":0},{"$f":"IF(AND(COUNTRY_INFO!J151>1,COUNTRY_INFO!J151<4), IF(T151/COUNTRY_INFO!E151*100<>0, IF(T151/COUNTRY_INFO!E151*100>100,100,T151/COUNTRY_INFO!E151*100), \"-\"),0)","v":"-"},{"$f":"IF(AND(COUNTRY_INFO!J151>1,COUNTRY_INFO!J151<4),IF(COUNTRY_INFO!F151>MAX('MDA1'!K151,'MDA4'!S151,'T1'!M151,MAX(T3_R1!L151,T3_R2!L151)),MAX('MDA1'!K151,'MDA4'!S151,'T1'!M151,MAX(T3_R1!L151,T3_R2!L151)),COUNTRY_INFO!F151),0)","v":5931},{"$f":"IF(AND(COUNTRY_INFO!J151>1,COUNTRY_INFO!J151<4), IF(V151/COUNTRY_INFO!F151*100<>0, IF(V151/COUNTRY_INFO!F151*100>100,100,V151/COUNTRY_INFO!F151*100), \"-\"),0)","v":100},5931,{"$f":"IF(AND(COUNTRY_INFO!J151>1,COUNTRY_INFO!J151<4), IF(S151/P151*100<>0, IF(X151/P151*100>100,100,X151/P151*100), \"-\"),0)","v":63.555507929704248},{"$f":"COUNTRY_INFO!P151","v":5206.1000000000004},null,null,{"$f":"MAX('T1'!L151,'T2'!J151)+MAX('T1'!M151,'T2'!K151)+MAX('T1'!N151,'T2'!L151)","v":6096},{"$f":"IF(COUNTRY_INFO!K151=1,IF(COUNTRY_INFO!F151*0.33>MAX('T1'!M151,'T2'!K151),MAX('T1'!M151,'T2'!K151),COUNTRY_INFO!F151*0.33),IF(COUNTRY_INFO!K151=2,IF(COUNTRY_INFO!F151*0.5>MAX('T1'!M151,'T2'!K151),MAX('T1'!M151,'T2'!K151),COUNTRY_INFO!F151*0.5),IF(COUNTRY_INFO!K151=3,IF(COUNTRY_INFO!F151>MAX('T1'!M151,'T2'!K151),MAX('T1'!M151,'T2'!K151),COUNTRY_INFO!F151),0)))","v":2965.5},{"$f":"IF(AND(COUNTRY_INFO!K151>0,COUNTRY_INFO!L151<4),IF(Z151>0,IF(COUNTRY_INFO!K151=1, AD151/(COUNTRY_INFO!F151*0.33)*100, IF(COUNTRY_INFO!K151=2, AD151/(COUNTRY_INFO!F151*0.5)*100, IF(COUNTRY_INFO!K151=3, AD151/COUNTRY_INFO!F151*100))),\"-\"),0)","v":100},{"$f":"IF(COUNTRY_INFO!K151=2,IF(COUNTRY_INFO!G151*0.2>MAX('T1'!N151,'T2'!L151),MAX('T1'!N151,'T2'!L151),COUNTRY_INFO!G151*0.2),IF(COUNTRY_INFO!K151=3,IF(COUNTRY_INFO!G151>MAX('T1'!N151,'T2'!L151),MAX('T1'!N151,'T2'!L151),COUNTRY_INFO!G151),0))","v":0},{"$f":"IF(AND(COUNTRY_INFO!K151>0,COUNTRY_INFO!L151<4),IF(Z151>0,IF(COUNTRY_INFO!K151=1, 0, IF(COUNTRY_INFO!K151=2, AF151/(COUNTRY_INFO!G151*0.2)*100, IF(COUNTRY_INFO!K151=3, AF151/COUNTRY_INFO!G151*100))),\"-\"),0)","v":0},2965.5,{"$f":"IF(AND(COUNTRY_INFO!K151>0,COUNTRY_INFO!K151<4), IF(AC151/Z151*100<>0, IF(AH151/Z151*100>100,100,AH151/Z151*100), \"-\"),0)","v":56.962025316455687},null,{"$f":"IF(AND(D151<>0, D151<>\"Unknown\",D151<>\"Stopped\",D151<>\"Not required\"),D151/COUNTRY_INFO!D151, 0)","v":0},{"$f":"IF(AND(J151<>0,J151<>\"Unknown\",J151<>\"Stopped\",J151<>\"Not required\"),J151/COUNTRY_INFO!D151, 0)","v":0},{"$f":"IF(AND(P151<>0,P151<>\"Unknown\",P151<>\"Not required\"),P151/(COUNTRY_INFO!E151+COUNTRY_INFO!F151), 0)","v":1},{"$f":"IF(AND(Z151<>0,Z151<>\"Unknown\",Z151<>\"Not required\"),IF(COUNTRY_INFO!K151=1,1,IF(COUNTRY_INFO!K151=2,0.5*COUNTRY_INFO!F151/(0.5*COUNTRY_INFO!F151+0.2*COUNTRY_INFO!G151),IF(COUNTRY_INFO!K151=3,COUNTRY_INFO!F151/(COUNTRY_INFO!F151+COUNTRY_INFO!G151)))),0)","v":0.56962025316455689},{"$f":"IF(AND(Z151<>0,Z151<>\"Unknown\",Z151<>\"Not required\"),IF(COUNTRY_INFO!K151=1,0,IF(COUNTRY_INFO!K151=2,0.2*COUNTRY_INFO!G151/(0.5*COUNTRY_INFO!F151+0.2*COUNTRY_INFO!G151),IF(COUNTRY_INFO!K151=3,COUNTRY_INFO!G151/(COUNTRY_INFO!F151+COUNTRY_INFO!G151)))),0)","v":0.430379746835443},{"$f":"MAX(COUNTRY_INFO!D151*AK151*PROFILE!$G$7,COUNTRY_INFO!D151*AL151*PROFILE!$G$7)","v":0},{"$f":"MAX(COUNTRY_INFO!D151*AK151*PROFILE!$G$8,COUNTRY_INFO!D151*AL151*PROFILE!$G$8,COUNTRY_INFO!D151*AM151*PROFILE!$G$8)","v":3401.3594011076534},{"$f":"MAX(COUNTRY_INFO!D151*AK151*PROFILE!$G$9,COUNTRY_INFO!D151*AL151*PROFILE!$G$9,COUNTRY_INFO!D151*AM151*PROFILE!$G$9,IF(AND(DISTRICT!Z151<>\"Unknown\",Z151<>\"Not required\"),COUNTRY_INFO!P151*DISTRICT!AN151,0))","v":5931.1232918566375},{"$f":"MAX(COUNTRY_INFO!D151*AK151*PROFILE!$G$10,COUNTRY_INFO!D151*AL151*PROFILE!$G$10,IF(AND(DISTRICT!Z151<>\"Unknown\",Z151<>\"Not required\"),COUNTRY_INFO!P151*DISTRICT!AO151,0))","v":2240.6},11573.082692964292,"Y",{"$f":"MAX('MDA4'!R151,'T1'!L151,'T2'!J151,T3_R1!K151,T3_R2!K151)","v":0},{"$f":"MAX('MDA1'!K151,'MDA4'!S151,'MDA3'!I151,'MDA3'!L151,'T1'!M151,'T2'!K151,T3_R1!L151,T3_R2!L151)","v":6906},{"$f":"MAX('MDA1'!L151,'MDA4'!T151,'MDA3'!J151,'MDA3'!M151,'T1'!N151,'T2'!L151,T3_R1!M151,T3_R2!M151)","v":0},6906,{"$f":"MAX('MDA4'!R151,T151)","v":0},{"$f":"MAX('MDA1'!K151,'MDA4'!S151,'MDA3'!I151,'MDA3'!L151,V151,AD151)","v":5931},{"$f":"MAX('MDA1'!L151,'MDA4'!T151,'MDA3'!J151,'MDA3'!M151,AF151)","v":0},5931,51.24822968391711]
[{"$f":"IF(COUNTRY_INFO!A152=0,\" \",COUNTRY_INFO!A152)","v":"Angola"},{"$f":"IF(COUNTRY_INFO!B152=0,\" \",COUNTRY_INFO!B152)","v":"UIGE"},{"$f":"IF(COUNTRY_INFO!C152=0,\" \",COUNTRY_INFO!C152)","v":"BEMBE"},{"$f":"COUNTRY_INFO!M152","v":0},null,null,{"$f":"MAX('MDA1'!M152,'MDA4'!U152)","v":0},{"$f":"IF(AND(COUNTRY_INFO!H152>0,COUNTRY_INFO!H152<4),IF(D152>MAX('MDA1'!M152,'MDA4'!U152),MAX('MDA1'!M152,'MDA4'!U152),D152),0)","v":0},{"$f":"IF(AND(COUNTRY_INFO!H152>0,COUNTRY_INFO!H152<4), IF(G152/D152*100<>0, IF(G152/D152*100>100,100,G152/D152*100), \"-\"),0)","v":0},{"$f":"COUNTRY_INFO!N152","v":"Unknown"},null,null,{"$f":"MAX('MDA1'!M152,MAX('MDA3'!I152,'MDA3'!L152)+MAX('MDA3'!J152,'MDA3'!M152))","v":0},{"$f":"IF(AND(COUNTRY_INFO!I152>0,COUNTRY_INFO!I152<4),IF(J152>MAX('MDA1'!M152,MAX('MDA3'!I152,'MDA3'!L152)+MAX('MDA3'!J152,'MDA3'!M152)),MAX('MDA1'!M152,MAX('MDA3'!I152,'MDA3'!L152)+MAX('MDA3'!J152,'MDA3'!M152)),J152),0)","v":0},{"$f":"IF(AND(COUNTRY_INFO!I152>0,COUNTRY_INFO!I152<4), IF(M152/J152*100<>0, IF(M152/J152*100>100,100,M152/J152*100), \"-\"),0)","v":0},{"$f":"COUNTRY_INFO!O152","v":0},null,null,{"$f":"SUM(MAX('MDA4'!R152, 'T1'!L152, MAX(T3_R1!K152, T3_R2!K152)), MAX('MDA1'!K152, 'MDA4'!S152, 'T1'!M152, MAX(T3_R1!L152, T3_R2!L152)), MAX('MDA1'!L152, 'MDA4'!T152, 'T1'!N152, MAX(T3_R1!M152, T3_R2!M152)))","v":10496},{"$f":"IF(AND(COUNTRY_INFO!J152>1,COUNTRY_INFO!J152<4),IF(COUNTRY_INFO!E152>MAX('MDA4'!R152,'T1'!L152,MAX(T3_R1!K152,T3_R2!K152)),MAX('MDA4'!R152,'T1'!L152,MAX(T3_R1!K152,T3_R2!K152)),COUNTRY_INFO!E152),0)","v":0},{"$f":"IF(AND(COUNTRY_INFO!J152>1,COUNTRY_INFO!J152<4), IF(T152/COUNTRY_INFO!E152*100<>0, IF(T152/COUNTRY_INFO!E152*100>100,100,T152/COUNTRY_INFO!E152*100), \"-\"),0)","v":0},{"$f":"IF(AND(COUNTRY_INFO!J152>1,COUNTRY_INFO!J152<4),IF(COUNTRY_INFO!F152>MAX('MDA1'!K152,'MDA4'!S152,'T1'!M152,MAX(T3_R1!L152,T3_R2!L152)),MAX('MDA1'!K152,'MDA4'!S152,'T1'!M152,MAX(T3_R1!L152,T3_R2!L152)),COUNTRY_INFO!F152),0)","v":0},{"$f":"IF(AND(COUNTRY_INFO!J152>1,COUNTRY_INFO!J152<4), IF(V152/COUNTRY_INFO!F152*100<>0, IF(V152/COUNTRY_INFO!F152*100>100,100,V152/COUNTRY_INFO!F152*100), \"-\"),0)","v":0},0,{"$f":"IF(AND(COUNTRY_INFO!J152>1,COUNTRY_INFO!J152<4), IF(S152/P152*100<>0, IF(X152/P152*100>100,100,X152/P152*100), \"-\"),0)","v":0},{"$f":"COUNTRY_INFO!P152","v":9469.6},null,null,{"$f":"MAX('T1'!L152,'T2'!J152)+MAX('T1'!M152,'T2'!K152)+MAX('T1'!N152,'T2'!L152)","v":10496},{"$f":"IF(COUNTRY_INFO!K152=1,IF(COUNTRY_INFO!F152*0.33>MAX('T1'!M152,'T2'!K152),MAX('T1'!M152,'T2'!K152),COUNTRY_INFO!F152*0.33),IF(COUNTRY_INFO!K152=2,IF(COUNTRY_INFO!F152*0.5>MAX('T1'!M152,'T2'!K152),MAX('T1'!M152,'T2'!K152),COUNTRY_INFO!F152*0.5),IF(COUNTRY_INFO!K152=3,IF(COUNTRY_INFO!F152>MAX('T1'!M152,'T2'!K152),MAX('T1'!M152,'T2'!K152),COUNTRY_INFO!F152),0)))","v":5394},{"$f":"IF(AND(COUNTRY_INFO!K152>0,COUNTRY_INFO!L152<4),IF(Z152>0,IF(COUNTRY_INFO!K152=1, AD152/(COUNTRY_INFO!F152*0.33)*100, IF(COUNTRY_INFO!K152=2, AD152/(COUNTRY_INFO!F152*0.5)*100, IF(COUNTRY_INFO!K152=3, AD152/COUNTRY_INFO!F152*100))),\"-\"),0)","v":100},{"$f":"IF(COUNTRY_INFO!K152=2,IF(COUNTRY_INFO!G152*0.2>MAX('T1'!N152,'T2'!L152),MAX('T1'!N152,'T2'!L152),COUNTRY_INFO!G152*0.2),IF(COUNTRY_INFO!K152=3,IF(COUNTRY_INFO!G152>MAX('T1'!N152,'T2'!L152),MAX('T1'!N152,'T2'!L152),COUNTRY_INFO!G152),0))","v":0},{"$f":"IF(AND(COUNTRY_INFO!K152>0,COUNTRY_INFO!L152<4),IF(Z152>0,IF(COUNTRY_INFO!K152=1, 0, IF(COUNTRY_INFO!K152=2, AF152/(COUNTRY_INFO!G152*0.2)*100, IF(COUNTRY_INFO!K152=3, AF152/COUNTRY_INFO!G152*100))),\"-\"),0)","v":0},5394,{"$f":"IF(AND(COUNTRY_INFO!K152>0,COUNTRY_INFO!K152<4), IF(AC152/Z152*100<>0, IF(AH152/Z152*100>100,100,AH152/Z152*100), \"-\"),0)","v":56.961223282926412},null,{"$f":"IF(AND(D152<>0, D152<>\"Unknown\",D152<>\"Stopped\",D152<>\"Not required\"),D152/COUNTRY_INFO!D152, 0)","v":0},{"$f":"IF(AND(J152<>0,J152<>\"Unknown\",J152<>\"Stopped\",J152<>\"Not required\"),J152/COUNTRY_INFO!D152, 0)","v":0},{"$f":"IF(AND(P152<>0,P152<>\"Unknown\",P152<>\"Not required\"),P152/(COUNTRY_INFO!E152+COUNTRY_INFO!F152), 0)","v":0},{"$f":"IF(AND(Z152<>0,Z152<>\"Unknown\",Z152<>\"Not required\"),IF(COUNTRY_INFO!K152=1,1,IF(COUNTRY_INFO!K152=2,0.5*COUNTRY_INFO!F152/(0.5*COUNTRY_INFO!F152+0.2*COUNTRY_INFO!G152),IF(COUNTRY_INFO!K152=3,COUNTRY_INFO!F152/(COUNTRY_INFO!F152+COUNTRY_INFO!G152)))),0)","v":0.5696122328292641},{"$f":"IF(AND(Z152<>0,Z152<>\"Unknown\",Z152<>\"Not required\"),IF(COUNTRY_INFO!K152=1,0,IF(COUNTRY_INFO!K152=2,0.2*COUNTRY_INFO!G152/(0.5*COUNTRY_INFO!F152+0.2*COUNTRY_INFO!G152),IF(COUNTRY_INFO!K152=3,COUNTRY_INFO!G152/(COUNTRY_INFO!F152+COUNTRY_INFO!G152)))),0)","v":0.43038776717073585},{"$f":"MAX(COUNTRY_INFO!D152*AK152*PROFILE!$G$7,COUNTRY_INFO!D152*AL152*PROFILE!$G$7)","v":0},{"$f":"MAX(COUNTRY_INFO!D152*AK152*PROFILE!$G$8,COUNTRY_INFO!D152*AL152*PROFILE!$G$8,COUNTRY_INFO!D152*AM152*PROFILE!$G$8)","v":0},{"$f":"MAX(COUNTRY_INFO!D152*AK152*PROFILE!$G$9,COUNTRY_INFO!D152*AL152*PROFILE!$G$9,COUNTRY_INFO!D152*AM152*PROFILE!$G$9,IF(AND(DISTRICT!Z152<>\"Unknown\",Z152<>\"Not required\"),COUNTRY_INFO!P152*DISTRICT!AN152,0))","v":5393.9999999999991},{"$f":"MAX(COUNTRY_INFO!D152*AK152*PROFILE!$G$10,COUNTRY_INFO!D152*AL152*PROFILE!$G$10,IF(AND(DISTRICT!Z152<>\"Unknown\",Z152<>\"Not required\"),COUNTRY_INFO!P152*DISTRICT!AO152,0))","v":4075.6000000000004},9469.5999999999985,"Y",{"$f":"MAX('MDA4'!R152,'T1'!L152,'T2'!J152,T3_R1!K152,T3_R2!K152)","v":0},{"$f":"MAX('MDA1'!K152,'MDA4'!S152,'MDA3'!I152,'MDA3'!L152,'T1'!M152,'T2'!K152,T3_R1!L152,T3_R2!L152)","v":10496},{"$f":"MAX('MDA1'!L152,'MDA4'!T152,'MDA3'!J152,'MDA3'!M152,'T1'!N152,'T2'!L152,T3_R1!M152,T3_R2!M152)","v":0},10496,{"$f":"MAX('MDA4'!R152,T152)","v":0},{"$f":"MAX('MDA1'!K152,'MDA4'!S152,'MDA3'!I152,'MDA3'!L152,V152,AD152)","v":5394},{"$f":"MAX('MDA1'!L152,'MDA4'!T152,'MDA3'!J152,'MDA3'!M152,AF152)","v":0},5394,56.961223282926419]
[{"$f":"IF(COUNTRY_INFO!A153=0,\" \",COUNTRY_INFO!A153)","v":"Angola"},{"$f":"IF(COUNTRY_INFO!B153=0,\" \",COUNTRY_INFO!B153)","v":"UIGE"},{"$f":"IF(COUNTRY_INFO!C153=0,\" \",COUNTRY_INFO!C153)","v":"BUENGAS"},{"$f":"COUNTRY_INFO!M153","v":0},null,null,{"$f":"MAX('MDA1'!M153,'MDA4'!U153)","v":0},{"$f":"IF(AND(COUNTRY_INFO!H153>0,COUNTRY_INFO!H153<4),IF(D153>MAX('MDA1'!M153,'MDA4'!U153),MAX('MDA1'!M153,'MDA4'!U153),D153),0)","v":0},{"$f":"IF(AND(COUNTRY_INFO!H153>0,COUNTRY_INFO!H153<4), IF(G153/D153*100<>0, IF(G153/D153*100>100,100,G153/D153*100), \"-\"),0)","v":0},{"$f":"COUNTRY_INFO!N153","v":"Unknown"},null,null,{"$f":"MAX('MDA1'!M153,MAX('MDA3'!I153,'MDA3'!L153)+MAX('MDA3'!J153,'MDA3'!M153))","v":0},{"$f":"IF(AND(COUNTRY_INFO!I153>0,COUNTRY_INFO!I153<4),IF(J153>MAX('MDA1'!M153,MAX('MDA3'!I153,'MDA3'!L153)+MAX('MDA3'!J153,'MDA3'!M153)),MAX('MDA1'!M153,MAX('MDA3'!I153,'MDA3'!L153)+MAX('MDA3'!J153,'MDA3'!M153)),J153),0)","v":0},{"$f":"IF(AND(COUNTRY_INFO!I153>0,COUNTRY_INFO!I153<4), IF(M153/J153*100<>0, IF(M153/J153*100>100,100,M153/J153*100), \"-\"),0)","v":0},{"$f":"COUNTRY_INFO!O153","v":29488},null,null,{"$f":"SUM(MAX('MDA4'!R153, 'T1'!L153, MAX(T3_R1!K153, T3_R2!K153)), MAX('MDA1'!K153, 'MDA4'!S153, 'T1'!M153, MAX(T3_R1!L153, T3_R2!L153)), MAX('MDA1'!L153, 'MDA4'!T153, 'T1'!N153, MAX(T3_R1!M153, T3_R2!M153)))","v":19298},{"$f":"IF(AND(COUNTRY_INFO!J153>1,COUNTRY_INFO!J153<4),IF(COUNTRY_INFO!E153>MAX('MDA4'!R153,'T1'!L153,MAX(T3_R1!K153,T3_R2!K153)),MAX('MDA4'!R153,'T1'!L153,MAX(T3_R1!K153,T3_R2!K153)),COUNTRY_INFO!E153),0)","v":0},{"$f":"IF(AND(COUNTRY_INFO!J153>1,COUNTRY_INFO!J153<4), IF(T153/COUNTRY_INFO!E153*100<>0, IF(T153/COUNTRY_INFO!E153*100>100,100,T153/COUNTRY_INFO!E153*100), \"-\"),0)","v":"-"},{"$f":"IF(AND(COUNTRY_INFO!J153>1,COUNTRY_INFO!J153<4),IF(COUNTRY_INFO!F153>MAX('MDA1'!K153,'MDA4'!S153,'T1'!M153,MAX(T3_R1!L153,T3_R2!L153)),MAX('MDA1'!K153,'MDA4'!S153,'T1'!M153,MAX(T3_R1!L153,T3_R2!L153)),COUNTRY_INFO!F153),0)","v":18741},{"$f":"IF(AND(COUNTRY_INFO!J153>1,COUNTRY_INFO!J153<4), IF(V153/COUNTRY_INFO!F153*100<>0, IF(V153/COUNTRY_INFO!F153*100>100,100,V153/COUNTRY_INFO!F153*100), \"-\"),0)","v":100},18741,{"$f":"IF(AND(COUNTRY_INFO!J153>1,COUNTRY_INFO!J153<4), IF(S153/P153*100<>0, IF(X153/P153*100>100,100,X153/P153*100), \"-\"),0)","v":63.554666304937598},{"$f":"COUNTRY_INFO!P153","v":6184.5300000000007},null,null,{"$f":"MAX('T1'!L153,'T2'!J153)+MAX('T1'!M153,'T2'!K153)+MAX('T1'!N153,'T2'!L153)","v":19298},{"$f":"IF(COUNTRY_INFO!K153=1,IF(COUNTRY_INFO!F153*0.33>MAX('T1'!M153,'T2'!K153),MAX('T1'!M153,'T2'!K153),COUNTRY_INFO!F153*0.33),IF(COUNTRY_INFO!K153=2,IF(COUNTRY_INFO!F153*0.5>MAX('T1'!M153,'T2'!K153),MAX('T1'!M153,'T2'!K153),COUNTRY_INFO!F153*0.5),IF(COUNTRY_INFO!K153=3,IF(COUNTRY_INFO!F153>MAX('T1'!M153,'T2'!K153),MAX('T1'!M153,'T2'!K153),COUNTRY_INFO!F153),0)))","v":6184.5300000000007},{"$f":"IF(AND(COUNTRY_INFO!K153>0,COUNTRY_INFO!L153<4),IF(Z153>0,IF(COUNTRY_INFO!K153=1, AD153/(COUNTRY_INFO!F153*0.33)*100, IF(COUNTRY_INFO!K153=2, AD153/(COUNTRY_INFO!F153*0.5)*100, IF(COUNTRY_INFO!K153=3, AD153/COUNTRY_INFO!F153*100))),\"-\"),0)","v":100},{"$f":"IF(COUNTRY_INFO!K153=2,IF(COUNTRY_INFO!G153*0.2>MAX('T1'!N153,'T2'!L153),MAX('T1'!N153,'T2'!L153),COUNTRY_INFO!G153*0.2),IF(COUNTRY_INFO!K153=3,IF(COUNTRY_INFO!G153>MAX('T1'!N153,'T2'!L153),MAX('T1'!N153,'T2'!L153),COUNTRY_INFO!G153),0))","v":0},{"$f":"IF(AND(COUNTRY_INFO!K153>0,COUNTRY_INFO!L153<4),IF(Z153>0,IF(COUNTRY_INFO!K153=1, 0, IF(COUNTRY_INFO!K153=2, AF153/(COUNTRY_INFO!G153*0.2)*100, IF(COUNTRY_INFO!K153=3, AF153/COUNTRY_INFO!G153*100))),\"-\"),0)","v":0},6184.5300000000007,{"$f":"IF(AND(COUNTRY_INFO!K153>0,COUNTRY_INFO!K153<4), IF(AC153/Z153*100<>0, IF(AH153/Z153*100>100,100,AH153/Z153*100), \"-\"),0)","v":100},null,{"$f":"IF(AND(D153<>0, D153<>\"Unknown\",D153<>\"Stopped\",D153<>\"Not required\"),D153/COUNTRY_INFO!D153, 0)","v":0},{"$f":"IF(AND(J153<>0,J153<>\"Unknown\",J153<>\"Stopped\",J153<>\"Not required\"),J153/COUNTRY_INFO!D153, 0)","v":0},{"$f":"IF(AND(P153<>0,P153<>\"Unknown\",P153<>\"Not required\"),P153/(COUNTRY_INFO!E153+COUNTRY_INFO!F153), 0)","v":1},{"$f":"IF(AND(Z153<>0,Z153<>\"Unknown\",Z153<>\"Not required\"),IF(COUNTRY_INFO!K153=1,1,IF(COUNTRY_INFO!K153=2,0.5*COUNTRY_INFO!F153/(0.5*COUNTRY_INFO!F153+0.2*COUNTRY_INFO!G153),IF(COUNTRY_INFO!K153=3,COUNTRY_INFO!F153/(COUNTRY_INFO!F153+COUNTRY_INFO!G153)))),0)","v":1},{"$f":"IF(AND(Z153<>0,Z153<>\"Unknown\",Z153<>\"Not required\"),IF(COUNTRY_INFO!K153=1,0,IF(COUNTRY_INFO!K153=2,0.2*COUNTRY_INFO!G153/(0.5*COUNTRY_INFO!F153+0.2*COUNTRY_INFO!G153),IF(COUNTRY_INFO!K153=3,COUNTRY_INFO!G153/(COUNTRY_INFO!F153+COUNTRY_INFO!G153)))),0)","v":0},{"$f":"MAX(COUNTRY_INFO!D153*AK153*PROFILE!$G$7,COUNTRY_INFO!D153*AL153*PROFILE!$G$7)","v":0},{"$f":"MAX(COUNTRY_INFO!D153*AK153*PROFILE!$G$8,COUNTRY_INFO!D153*AL153*PROFILE!$G$8,COUNTRY_INFO!D153*AM153*PROFILE!$G$8)","v":10747.379566983716},{"$f":"MAX(COUNTRY_INFO!D153*AK153*PROFILE!$G$9,COUNTRY_INFO!D153*AL153*PROFILE!$G$9,COUNTRY_INFO!D153*AM153*PROFILE!$G$9,IF(AND(DISTRICT!Z153<>\"Unknown\",Z153<>\"Not required\"),COUNTRY_INFO!P153*DISTRICT!AN153,0))","v":18740.752081477469},{"$f":"MAX(COUNTRY_INFO!D153*AK153*PROFILE!$G$10,COUNTRY_INFO!D153*AL153*PROFILE!$G$10,IF(AND(DISTRICT!Z153<>\"Unknown\",Z153<>\"Not required\"),COUNTRY_INFO!P153*DISTRICT!AO153,0))","v":0},29488.131648461185,"Y",{"$f":"MAX('MDA4'!R153,'T1'!L153,'T2'!J153,T3_R1!K153,T3_R2!K153)","v":0},{"$f":"MAX('MDA1'!K153,'MDA4'!S153,'MDA3'!I153,'MDA3'!L153,'T1'!M153,'T2'!K153,T3_R1!L153,T3_R2!L153)","v":19298},{"$f":"MAX('MDA1'!L153,'MDA4'!T153,'MDA3'!J153,'MDA3'!M153,'T1'!N153,'T2'!L153,T3_R1!M153,T3_R2!M153)","v":0},19298,{"$f":"MAX('MDA4'!R153,T153)","v":0},{"$f":"MAX('MDA1'!K153,'MDA4'!S153,'MDA3'!I153,'MDA3'!L153,V153,AD153)","v":18741},{"$f":"MAX('MDA1'!L153,'MDA4'!T153,'MDA3'!J153,'MDA3'!M153,AF153)","v":0},18741,63.554382567937239]
[{"$f":"IF(COUNTRY_INFO!A154=0,\" \",COUNTRY_INFO!A154)","v":"Angola"},{"$f":"IF(COUNTRY_INFO!B154=0,\" \",COUNTRY_INFO!B154)","v":"UIGE"},{"$f":"IF(COUNTRY_INFO!C154=0,\" \",COUNTRY_INFO!C154)","v":"BUNGO"},{"$f":"COUNTRY_INFO!M154","v":0},null,null,{"$f":"MAX('MDA1'!M154,'MDA4'!U154)","v":0},{"$f":"IF(AND(COUNTRY_INFO!H154>0,COUNTRY_INFO!H154<4),IF(D154>MAX('MDA1'!M154,'MDA4'!U154),MAX('MDA1'!M154,'MDA4'!U154),D154),0)","v":0},{"$f":"IF(AND(COUNTRY_INFO!H154>0,COUNTRY_INFO!H154<4), IF(G154/D154*100<>0, IF(G154/D154*100>100,100,G154/D154*100), \"-\"),0)","v":0},{"$f":"COUNTRY_INFO!N154","v":43592.979087415559},null,null,{"$f":"MAX('MDA1'!M154,MAX('MDA3'!I154,'MDA3'!L154)+MAX('MDA3'!J154,'MDA3'!M154))","v":0},{"$f":"IF(AND(COUNTRY_INFO!I154>0,COUNTRY_INFO!I154<4),IF(J154>MAX('MDA1'!M154,MAX('MDA3'!I154,'MDA3'!L154)+MAX('MDA3'!J154,'MDA3'!M154)),MAX('MDA1'!M154,MAX('MDA3'!I154,'MDA3'!L154)+MAX('MDA3'!J154,'MDA3'!M154)),J154),0)","v":0},{"$f":"IF(AND(COUNTRY_INFO!I154>0,COUNTRY_INFO!I154<4), IF(M154/J154*100<>0, IF(M154/J154*100>100,100,M154/J154*100), \"-\"),0)","v":"-"},{"$f":"COUNTRY_INFO!O154","v":19137},null,null,{"$f":"SUM(MAX('MDA4'!R154, 'T1'!L154, MAX(T3_R1!K154, T3_R2!K154)), MAX('MDA1'!K154, 'MDA4'!S154, 'T1'!M154, MAX(T3_R1!L154, T3_R2!L154)), MAX('MDA1'!L154, 'MDA4'!T154, 'T1'!N154, MAX(T3_R1!M154, T3_R2!M154)))","v":11083},{"$f":"IF(AND(COUNTRY_INFO!J154>1,COUNTRY_INFO!J154<4),IF(COUNTRY_INFO!E154>MAX('MDA4'!R154,'T1'!L154,MAX(T3_R1!K154,T3_R2!K154)),MAX('MDA4'!R154,'T1'!L154,MAX(T3_R1!K154,T3_R2!K154)),COUNTRY_INFO!E154),0)","v":0},{"$f":"IF(AND(COUNTRY_INFO!J154>1,COUNTRY_INFO!J154<4), IF(T154/COUNTRY_INFO!E154*100<>0, IF(T154/COUNTRY_INFO!E154*100>100,100,T154/COUNTRY_INFO!E154*100), \"-\"),0)","v":"-"},{"$f":"IF(AND(COUNTRY_INFO!J154>1,COUNTRY_INFO!J154<4),IF(COUNTRY_INFO!F154>MAX('MDA1'!K154,'MDA4'!S154,'T1'!M154,MAX(T3_R1!L154,T3_R2!L154)),MAX('MDA1'!K154,'MDA4'!S154,'T1'!M154,MAX(T3_R1!L154,T3_R2!L154)),COUNTRY_INFO!F154),0)","v":11083},{"$f":"IF(AND(COUNTRY_INFO!J154>1,COUNTRY_INFO!J154<4), IF(V154/COUNTRY_INFO!F154*100<>0, IF(V154/COUNTRY_INFO!F154*100>100,100,V154/COUNTRY_INFO!F154*100), \"-\"),0)","v":91.128103930274634},11083,{"$f":"IF(AND(COUNTRY_INFO!J154>1,COUNTRY_INFO!J154<4), IF(S154/P154*100<>0, IF(X154/P154*100>100,100,X154/P154*100), \"-\"),0)","v":57.913988608454822},{"$f":"COUNTRY_INFO!P154","v":10675.6},null,null,{"$f":"MAX('T1'!L154,'T2'!J154)+MAX('T1'!M154,'T2'!K154)+MAX('T1'!N154,'T2'!L154)","v":11083},{"$f":"IF(COUNTRY_INFO!K154=1,IF(COUNTRY_INFO!F154*0.33>MAX('T1'!M154,'T2'!K154),MAX('T1'!M154,'T2'!K154),COUNTRY_INFO!F154*0.33),IF(COUNTRY_INFO!K154=2,IF(COUNTRY_INFO!F154*0.5>MAX('T1'!M154,'T2'!K154),MAX('T1'!M154,'T2'!K154),COUNTRY_INFO!F154*0.5),IF(COUNTRY_INFO!K154=3,IF(COUNTRY_INFO!F154>MAX('T1'!M154,'T2'!K154),MAX('T1'!M154,'T2'!K154),COUNTRY_INFO!F154),0)))","v":6081},{"$f":"IF(AND(COUNTRY_INFO!K154>0,COUNTRY_INFO!L154<4),IF(Z154>0,IF(COUNTRY_INFO!K154=1, AD154/(COUNTRY_INFO!F154*0.33)*100, IF(COUNTRY_INFO!K154=2, AD154/(COUNTRY_INFO!F154*0.5)*100, IF(COUNTRY_INFO!K154=3, AD154/COUNTRY_INFO!F154*100))),\"-\"),0)","v":100},{"$f":"IF(COUNTRY_INFO!K154=2,IF(COUNTRY_INFO!G154*0.2>MAX('T1'!N154,'T2'!L154),MAX('T1'!N154,'T2'!L154),COUNTRY_INFO!G154*0.2),IF(COUNTRY_INFO!K154=3,IF(COUNTRY_INFO!G154>MAX('T1'!N154,'T2'!L154),MAX('T1'!N154,'T2'!L154),COUNTRY_INFO!G154),0))","v":0},{"$f":"IF(AND(COUNTRY_INFO!K154>0,COUNTRY_INFO!L154<4),IF(Z154>0,IF(COUNTRY_INFO!K154=1, 0, IF(COUNTRY_INFO!K154=2, AF154/(COUNTRY_INFO!G154*0.2)*100, IF(COUNTRY_INFO!K154=3, AF154/COUNTRY_INFO!G154*100))),\"-\"),0)","v":0},6081,{"$f":"IF(AND(COUNTRY_INFO!K154>0,COUNTRY_INFO!K154<4), IF(AC154/Z154*100<>0, IF(AH154/Z154*100>100,100,AH154/Z154*100), \"-\"),0)","v":56.961669601708564},null,{"$f":"IF(AND(D154<>0, D154<>\"Unknown\",D154<>\"Stopped\",D154<>\"Not required\"),D154/COUNTRY_INFO!D154, 0)","v":0},{"$f":"IF(AND(J154<>0,J154<>\"Unknown\",J154<>\"Stopped\",J154<>\"Not required\"),J154/COUNTRY_INFO!D154, 0)","v":1},{"$f":"IF(AND(P154<>0,P154<>\"Unknown\",P154<>\"Not required\"),P154/(COUNTRY_INFO!E154+COUNTRY_INFO!F154), 0)","v":1},{"$f":"IF(AND(Z154<>0,Z154<>\"Unknown\",Z154<>\"Not required\"),IF(COUNTRY_INFO!K154=1,1,IF(COUNTRY_INFO!K154=2,0.5*COUNTRY_INFO!F154/(0.5*COUNTRY_INFO!F154+0.2*COUNTRY_INFO!G154),IF(COUNTRY_INFO!K154=3,COUNTRY_INFO!F154/(COUNTRY_INFO!F154+COUNTRY_INFO!G154)))),0)","v":0.56961669601708564},{"$f":"IF(AND(Z154<>0,Z154<>\"Unknown\",Z154<>\"Not required\"),IF(COUNTRY_INFO!K154=1,0,IF(COUNTRY_INFO!K154=2,0.2*COUNTRY_INFO!G154/(0.5*COUNTRY_INFO!F154+0.2*COUNTRY_INFO!G154),IF(COUNTRY_INFO!K154=3,COUNTRY_INFO!G154/(COUNTRY_INFO!F154+COUNTRY_INFO!G154)))),0)","v":0.43038330398291436},{"$f":"MAX(COUNTRY_INFO!D154*AK154*PROFILE!$G$7,COUNTRY_INFO!D154*AL154*PROFILE!$G$7)","v":1482.1718881634688},{"$f":"MAX(COUNTRY_INFO!D154*AK154*PROFILE!$G$8,COUNTRY_INFO!D154*AL154*PROFILE!$G$8,COUNTRY_INFO!D154*AM154*PROFILE!$G$8)","v":6974.8706164782352},{"$f":"MAX(COUNTRY_INFO!D154*AK154*PROFILE!$G$9,COUNTRY_INFO!D154*AL154*PROFILE!$G$9,COUNTRY_INFO!D154*AM154*PROFILE!$G$9,IF(AND(DISTRICT!Z154<>\"Unknown\",Z154<>\"Not required\"),COUNTRY_INFO!P154*DISTRICT!AN154,0))","v":12162.436453380598},{"$f":"MAX(COUNTRY_INFO!D154*AK154*PROFILE!$G$10,COUNTRY_INFO!D154*AL154*PROFILE!$G$10,IF(AND(DISTRICT!Z154<>\"Unknown\",Z154<>\"Not required\"),COUNTRY_INFO!P154*DISTRICT!AO154,0))","v":22973.500129393255},43592.979087415559,0,{"$f":"MAX('MDA4'!R154,'T1'!L154,'T2'!J154,T3_R1!K154,T3_R2!K154)","v":0},{"$f":"MAX('MDA1'!K154,'MDA4'!S154,'MDA3'!I154,'MDA3'!L154,'T1'!M154,'T2'!K154,T3_R1!L154,T3_R2!L154)","v":11083},{"$f":"MAX('MDA1'!L154,'MDA4'!T154,'MDA3'!J154,'MDA3'!M154,'T1'!N154,'T2'!L154,T3_R1!M154,T3_R2!M154)","v":0},11083,{"$f":"MAX('MDA4'!R154,T154)","v":0},{"$f":"MAX('MDA1'!K154,'MDA4'!S154,'MDA3'!I154,'MDA3'!L154,V154,AD154)","v":11083},{"$f":"MAX('MDA1'!L154,'MDA4'!T154,'MDA3'!J154,'MDA3'!M154,AF154)","v":0},11083,25.423818770852129]
[{"$f":"IF(COUNTRY_INFO!A155=0,\" \",COUNTRY_INFO!A155)","v":"Angola"},{"$f":"IF(COUNTRY_INFO!B155=0,\" \",COUNTRY_INFO!B155)","v":"UIGE"},{"$f":"IF(COUNTRY_INFO!C155=0,\" \",COUNTRY_INFO!C155)","v":"CANGOLA"},{"$f":"COUNTRY_INFO!M155","v":0},null,null,{"$f":"MAX('MDA1'!M155,'MDA4'!U155)","v":0},{"$f":"IF(AND(COUNTRY_INFO!H155>0,COUNTRY_INFO!H155<4),IF(D155>MAX('MDA1'!M155,'MDA4'!U155),MAX('MDA1'!M155,'MDA4'!U155),D155),0)","v":0},{"$f":"IF(AND(COUNTRY_INFO!H155>0,COUNTRY_INFO!H155<4), IF(G155/D155*100<>0, IF(G155/D155*100>100,100,G155/D155*100), \"-\"),0)","v":0},{"$f":"COUNTRY_INFO!N155","v":"Unknown"},null,null,{"$f":"MAX('MDA1'!M155,MAX('MDA3'!I155,'MDA3'!L155)+MAX('MDA3'!J155,'MDA3'!M155))","v":0},{"$f":"IF(AND(COUNTRY_INFO!I155>0,COUNTRY_INFO!I155<4),IF(J155>MAX('MDA1'!M155,MAX('MDA3'!I155,'MDA3'!L155)+MAX('MDA3'!J155,'MDA3'!M155)),MAX('MDA1'!M155,MAX('MDA3'!I155,'MDA3'!L155)+MAX('MDA3'!J155,'MDA3'!M155)),J155),0)","v":0},{"$f":"IF(AND(COUNTRY_INFO!I155>0,COUNTRY_INFO!I155<4), IF(M155/J155*100<>0, IF(M155/J155*100>100,100,M155/J155*100), \"-\"),0)","v":0},{"$f":"COUNTRY_INFO!O155","v":27671},null,null,{"$f":"SUM(MAX('MDA4'!R155, 'T1'!L155, MAX(T3_R1!K155, T3_R2!K155)), MAX('MDA1'!K155, 'MDA4'!S155, 'T1'!M155, MAX(T3_R1!L155, T3_R2!L155)), MAX('MDA1'!L155, 'MDA4'!T155, 'T1'!N155, MAX(T3_R1!M155, T3_R2!M155)))","v":13466},{"$f":"IF(AND(COUNTRY_INFO!J155>1,COUNTRY_INFO!J155<4),IF(COUNTRY_INFO!E155>MAX('MDA4'!R155,'T1'!L155,MAX(T3_R1!K155,T3_R2!K155)),MAX('MDA4'!R155,'T1'!L155,MAX(T3_R1!K155,T3_R2!K155)),COUNTRY_INFO!E155),0)","v":0},{"$f":"IF(AND(COUNTRY_INFO!J155>1,COUNTRY_INFO!J155<4), IF(T155/COUNTRY_INFO!E155*100<>0, IF(T155/COUNTRY_INFO!E155*100>100,100,T155/COUNTRY_INFO!E155*100), \"-\"),0)","v":"-"},{"$f":"IF(AND(COUNTRY_INFO!J155>1,COUNTRY_INFO!J155<4),IF(COUNTRY_INFO!F155>MAX('MDA1'!K155,'MDA4'!S155,'T1'!M155,MAX(T3_R1!L155,T3_R2!L155)),MAX('MDA1'!K155,'MDA4'!S155,'T1'!M155,MAX(T3_R1!L155,T3_R2!L155)),COUNTRY_INFO!F155),0)","v":13466},{"$f":"IF(AND(COUNTRY_INFO!J155>1,COUNTRY_INFO!J155<4), IF(V155/COUNTRY_INFO!F155*100<>0, IF(V155/COUNTRY_INFO!F155*100>100,100,V155/COUNTRY_INFO!F155*100), \"-\"),0)","v":76.5722733992949},13466,{"$f":"IF(AND(COUNTRY_INFO!J155>1,COUNTRY_INFO!J155<4), IF(S155/P155*100<>0, IF(X155/P155*100>100,100,X155/P155*100), \"-\"),0)","v":48.664666979870624},{"$f":"COUNTRY_INFO!P155","v":5803.38},null,null,{"$f":"MAX('T1'!L155,'T2'!J155)+MAX('T1'!M155,'T2'!K155)+MAX('T1'!N155,'T2'!L155)","v":13466},{"$f":"IF(COUNTRY_INFO!K155=1,IF(COUNTRY_INFO!F155*0.33>MAX('T1'!M155,'T2'!K155),MAX('T1'!M155,'T2'!K155),COUNTRY_INFO!F155*0.33),IF(COUNTRY_INFO!K155=2,IF(COUNTRY_INFO!F155*0.5>MAX('T1'!M155,'T2'!K155),MAX('T1'!M155,'T2'!K155),COUNTRY_INFO!F155*0.5),IF(COUNTRY_INFO!K155=3,IF(COUNTRY_INFO!F155>MAX('T1'!M155,'T2'!K155),MAX('T1'!M155,'T2'!K155),COUNTRY_INFO!F155),0)))","v":5803.38},{"$f":"IF(AND(COUNTRY_INFO!K155>0,COUNTRY_INFO!L155<4),IF(Z155>0,IF(COUNTRY_INFO!K155=1, AD155/(COUNTRY_INFO!F155*0.33)*100, IF(COUNTRY_INFO!K155=2, AD155/(COUNTRY_INFO!F155*0.5)*100, IF(COUNTRY_INFO!K155=3, AD155/COUNTRY_INFO!F155*100))),\"-\"),0)","v":100},{"$f":"IF(COUNTRY_INFO!K155=2,IF(COUNTRY_INFO!G155*0.2>MAX('T1'!N155,'T2'!L155),MAX('T1'!N155,'T2'!L155),COUNTRY_INFO!G155*0.2),IF(COUNTRY_INFO!K155=3,IF(COUNTRY_INFO!G155>MAX('T1'!N155,'T2'!L155),MAX('T1'!N155,'T2'!L155),COUNTRY_INFO!G155),0))","v":0},{"$f":"IF(AND(COUNTRY_INFO!K155>0,COUNTRY_INFO!L155<4),IF(Z155>0,IF(COUNTRY_INFO!K155=1, 0, IF(COUNTRY_INFO!K155=2, AF155/(COUNTRY_INFO!G155*0.2)*100, IF(COUNTRY_INFO!K155=3, AF155/COUNTRY_INFO!G155*100))),\"-\"),0)","v":0},5803.38,{"$f":"IF(AND(COUNTRY_INFO!K155>0,COUNTRY_INFO!K155<4), IF(AC155/Z155*100<>0, IF(AH155/Z155*100>100,100,AH155/Z155*100), \"-\"),0)","v":100},null,{"$f":"IF(AND(D155<>0, D155<>\"Unknown\",D155<>\"Stopped\",D155<>\"Not required\"),D155/COUNTRY_INFO!D155, 0)","v":0},{"$f":"IF(AND(J155<>0,J155<>\"Unknown\",J155<>\"Stopped\",J155<>\"Not required\"),J155/COUNTRY_INFO!D155, 0)","v":0},{"$f":"IF(AND(P155<>0,P155<>\"Unknown\",P155<>\"Not required\"),P155/(COUNTRY_INFO!E155+COUNTRY_INFO!F155), 0)","v":1},{"$f":"IF(AND(Z155<>0,Z155<>\"Unknown\",Z155<>\"Not required\"),IF(COUNTRY_INFO!K155=1,1,IF(COUNTRY_INFO!K155=2,0.5*COUNTRY_INFO!F155/(0.5*COUNTRY_INFO!F155+0.2*COUNTRY_INFO!G155),IF(COUNTRY_INFO!K155=3,COUNTRY_INFO!F155/(COUNTRY_INFO!F155+COUNTRY_INFO!G155)))),0)","v":1},{"$f":"IF(AND(Z155<>0,Z155<>\"Unknown\",Z155<>\"Not required\"),IF(COUNTRY_INFO!K155=1,0,IF(COUNTRY_INFO!K155=2,0.2*COUNTRY_INFO!G155/(0.5*COUNTRY_INFO!F155+0.2*COUNTRY_INFO!G155),IF(COUNTRY_INFO!K155=3,COUNTRY_INFO!G155/(COUNTRY_INFO!F155+COUNTRY_INFO!G155)))),0)","v":0},{"$f":"MAX(COUNTRY_INFO!D155*AK155*PROFILE!$G$7,COUNTRY_INFO!D155*AL155*PROFILE!$G$7)","v":0},{"$f":"MAX(COUNTRY_INFO!D155*AK155*PROFILE!$G$8,COUNTRY_INFO!D155*AL155*PROFILE!$G$8,COUNTRY_INFO!D155*AM155*PROFILE!$G$8)","v":10085.055029666804},{"$f":"MAX(COUNTRY_INFO!D155*AK155*PROFILE!$G$9,COUNTRY_INFO!D155*AL155*PROFILE!$G$9,COUNTRY_INFO!D155*AM155*PROFILE!$G$9,IF(AND(DISTRICT!Z155<>\"Unknown\",Z155<>\"Not required\"),COUNTRY_INFO!P155*DISTRICT!AN155,0))","v":17585.823117261207},{"$f":"MAX(COUNTRY_INFO!D155*AK155*PROFILE!$G$10,COUNTRY_INFO!D155*AL155*PROFILE!$G$10,IF(AND(DISTRICT!Z155<>\"Unknown\",Z155<>\"Not required\"),COUNTRY_INFO!P155*DISTRICT!AO155,0))","v":0},27670.878146928011,"Y",{"$f":"MAX('MDA4'!R155,'T1'!L155,'T2'!J155,T3_R1!K155,T3_R2!K155)","v":0},{"$f":"MAX('MDA1'!K155,'MDA4'!S155,'MDA3'!I155,'MDA3'!L155,'T1'!M155,'T2'!K155,T3_R1!L155,T3_R2!L155)","v":13466},{"$f":"MAX('MDA1'!L155,'MDA4'!T155,'MDA3'!J155,'MDA3'!M155,'T1'!N155,'T2'!L155,T3_R1!M155,T3_R2!M155)","v":0},13466,{"$f":"MAX('MDA4'!R155,T155)","v":0},{"$f":"MAX('MDA1'!K155,'MDA4'!S155,'MDA3'!I155,'MDA3'!L155,V155,AD155)","v":13466},{"$f":"MAX('MDA1'!L155,'MDA4'!T155,'MDA3'!J155,'MDA3'!M155,AF155)","v":0},13466,48.664881282399705]
[{"$f":"IF(COUNTRY_INFO!A156=0,\" \",COUNTRY_INFO!A156)","v":"Angola"},{"$f":"IF(COUNTRY_INFO!B156=0,\" \",COUNTRY_INFO!B156)","v":"UIGE"},{"$f":"IF(COUNTRY_INFO!C156=0,\" \",COUNTRY_INFO!C156)","v":"DAMBA"},{"$f":"COUNTRY_INFO!M156","v":0},null,null,{"$f":"MAX('MDA1'!M156,'MDA4'!U156)","v":0},{"$f":"IF(AND(COUNTRY_INFO!H156>0,COUNTRY_INFO!H156<4),IF(D156>MAX('MDA1'!M156,'MDA4'!U156),MAX('MDA1'!M156,'MDA4'!U156),D156),0)","v":0},{"$f":"IF(AND(COUNTRY_INFO!H156>0,COUNTRY_INFO!H156<4), IF(G156/D156*100<>0, IF(G156/D156*100>100,100,G156/D156*100), \"-\"),0)","v":0},{"$f":"COUNTRY_INFO!N156","v":"Unknown"},null,null,{"$f":"MAX('MDA1'!M156,MAX('MDA3'!I156,'MDA3'!L156)+MAX('MDA3'!J156,'MDA3'!M156))","v":0},{"$f":"IF(AND(COUNTRY_INFO!I156>0,COUNTRY_INFO!I156<4),IF(J156>MAX('MDA1'!M156,MAX('MDA3'!I156,'MDA3'!L156)+MAX('MDA3'!J156,'MDA3'!M156)),MAX('MDA1'!M156,MAX('MDA3'!I156,'MDA3'!L156)+MAX('MDA3'!J156,'MDA3'!M156)),J156),0)","v":0},{"$f":"IF(AND(COUNTRY_INFO!I156>0,COUNTRY_INFO!I156<4), IF(M156/J156*100<>0, IF(M156/J156*100>100,100,M156/J156*100), \"-\"),0)","v":0},{"$f":"COUNTRY_INFO!O156","v":34239},null,null,{"$f":"SUM(MAX('MDA4'!R156, 'T1'!L156, MAX(T3_R1!K156, T3_R2!K156)), MAX('MDA1'!K156, 'MDA4'!S156, 'T1'!M156, MAX(T3_R1!L156, T3_R2!L156)), MAX('MDA1'!L156, 'MDA4'!T156, 'T1'!N156, MAX(T3_R1!M156, T3_R2!M156)))","v":16565},{"$f":"IF(AND(COUNTRY_INFO!J156>1,COUNTRY_INFO!J156<4),IF(COUNTRY_INFO!E156>MAX('MDA4'!R156,'T1'!L156,MAX(T3_R1!K156,T3_R2!K156)),MAX('MDA4'!R156,'T1'!L156,MAX(T3_R1!K156,T3_R2!K156)),COUNTRY_INFO!E156),0)","v":0},{"$f":"IF(AND(COUNTRY_INFO!J156>1,COUNTRY_INFO!J156<4), IF(T156/COUNTRY_INFO!E156*100<>0, IF(T156/COUNTRY_INFO!E156*100>100,100,T156/COUNTRY_INFO!E156*100), \"-\"),0)","v":"-"},{"$f":"IF(AND(COUNTRY_INFO!J156>1,COUNTRY_INFO!J156<4),IF(COUNTRY_INFO!F156>MAX('MDA1'!K156,'MDA4'!S156,'T1'!M156,MAX(T3_R1!L156,T3_R2!L156)),MAX('MDA1'!K156,'MDA4'!S156,'T1'!M156,MAX(T3_R1!L156,T3_R2!L156)),COUNTRY_INFO!F156),0)","v":16565},{"$f":"IF(AND(COUNTRY_INFO!J156>1,COUNTRY_INFO!J156<4), IF(V156/COUNTRY_INFO!F156*100<>0, IF(V156/COUNTRY_INFO!F156*100>100,100,V156/COUNTRY_INFO!F156*100), \"-\"),0)","v":76.125919117647058},16565,{"$f":"IF(AND(COUNTRY_INFO!J156>1,COUNTRY_INFO!J156<4), IF(S156/P156*100<>0, IF(X156/P156*100>100,100,X156/P156*100), \"-\"),0)","v":48.380501766990861},{"$f":"COUNTRY_INFO!P156","v":7180.8},null,null,{"$f":"MAX('T1'!L156,'T2'!J156)+MAX('T1'!M156,'T2'!K156)+MAX('T1'!N156,'T2'!L156)","v":16565},{"$f":"IF(COUNTRY_INFO!K156=1,IF(COUNTRY_INFO!F156*0.33>MAX('T1'!M156,'T2'!K156),MAX('T1'!M156,'T2'!K156),COUNTRY_INFO!F156*0.33),IF(COUNTRY_INFO!K156=2,IF(COUNTRY_INFO!F156*0.5>MAX('T1'!M156,'T2'!K156),MAX('T1'!M156,'T2'!K156),COUNTRY_INFO!F156*0.5),IF(COUNTRY_INFO!K156=3,IF(COUNTRY_INFO!F156>MAX('T1'!M156,'T2'!K156),MAX('T1'!M156,'T2'!K156),COUNTRY_INFO!F156),0)))","v":7180.8},{"$f":"IF(AND(COUNTRY_INFO!K156>0,COUNTRY_INFO!L156<4),IF(Z156>0,IF(COUNTRY_INFO!K156=1, AD156/(COUNTRY_INFO!F156*0.33)*100, IF(COUNTRY_INFO!K156=2, AD156/(COUNTRY_INFO!F156*0.5)*100, IF(COUNTRY_INFO!K156=3, AD156/COUNTRY_INFO!F156*100))),\"-\"),0)","v":100},{"$f":"IF(COUNTRY_INFO!K156=2,IF(COUNTRY_INFO!G156*0.2>MAX('T1'!N156,'T2'!L156),MAX('T1'!N156,'T2'!L156),COUNTRY_INFO!G156*0.2),IF(COUNTRY_INFO!K156=3,IF(COUNTRY_INFO!G156>MAX('T1'!N156,'T2'!L156),MAX('T1'!N156,'T2'!L156),COUNTRY_INFO!G156),0))","v":0},{"$f":"IF(AND(COUNTRY_INFO!K156>0,COUNTRY_INFO!L156<4),IF(Z156>0,IF(COUNTRY_INFO!K156=1, 0, IF(COUNTRY_INFO!K156=2, AF156/(COUNTRY_INFO!G156*0.2)*100, IF(COUNTRY_INFO!K156=3, AF156/COUNTRY_INFO!G156*100))),\"-\"),0)","v":0},7180.8,{"$f":"IF(AND(COUNTRY_INFO!K156>0,COUNTRY_INFO!K156<4), IF(AC156/Z156*100<>0, IF(AH156/Z156*100>100,100,AH156/Z156*100), \"-\"),0)","v":100},null,{"$f":"IF(AND(D156<>0, D156<>\"Unknown\",D156<>\"Stopped\",D156<>\"Not required\"),D156/COUNTRY_INFO!D156, 0)","v":0},{"$f":"IF(AND(J156<>0,J156<>\"Unknown\",J156<>\"Stopped\",J156<>\"Not required\"),J156/COUNTRY_INFO!D156, 0)","v":0},{"$f":"IF(AND(P156<>0,P156<>\"Unknown\",P156<>\"Not required\"),P156/(COUNTRY_INFO!E156+COUNTRY_INFO!F156), 0)","v":1},{"$f":"IF(AND(Z156<>0,Z156<>\"Unknown\",Z156<>\"Not required\"),IF(COUNTRY_INFO!K156=1,1,IF(COUNTRY_INFO!K156=2,0.5*COUNTRY_INFO!F156/(0.5*COUNTRY_INFO!F156+0.2*COUNTRY_INFO!G156),IF(COUNTRY_INFO!K156=3,COUNTRY_INFO!F156/(COUNTRY_INFO!F156+COUNTRY_INFO!G156)))),0)","v":1},{"$f":"IF(AND(Z156<>0,Z156<>\"Unknown\",Z156<>\"Not required\"),IF(COUNTRY_INFO!K156=1,0,IF(COUNTRY_INFO!K156=2,0.2*COUNTRY_INFO!G156/(0.5*COUNTRY_INFO!F156+0.2*COUNTRY_INFO!G156),IF(COUNTRY_INFO!K156=3,COUNTRY_INFO!G156/(COUNTRY_INFO!F156+COUNTRY_INFO!G156)))),0)","v":0},{"$f":"MAX(COUNTRY_INFO!D156*AK156*PROFILE!$G$7,COUNTRY_INFO!D156*AL156*PROFILE!$G$7)","v":0},{"$f":"MAX(COUNTRY_INFO!D156*AK156*PROFILE!$G$8,COUNTRY_INFO!D156*AL156*PROFILE!$G$8,COUNTRY_INFO!D156*AM156*PROFILE!$G$8)","v":12479.035330082126},{"$f":"MAX(COUNTRY_INFO!D156*AK156*PROFILE!$G$9,COUNTRY_INFO!D156*AL156*PROFILE!$G$9,COUNTRY_INFO!D156*AM156*PROFILE!$G$9,IF(AND(DISTRICT!Z156<>\"Unknown\",Z156<>\"Not required\"),COUNTRY_INFO!P156*DISTRICT!AN156,0))","v":21760.328262296858},{"$f":"MAX(COUNTRY_INFO!D156*AK156*PROFILE!$G$10,COUNTRY_INFO!D156*AL156*PROFILE!$G$10,IF(AND(DISTRICT!Z156<>\"Unknown\",Z156<>\"Not required\"),COUNTRY_INFO!P156*DISTRICT!AO156,0))","v":0},34239.363592378984,"Y",{"$f":"MAX('MDA4'!R156,'T1'!L156,'T2'!J156,T3_R1!K156,T3_R2!K156)","v":0},{"$f":"MAX('MDA1'!K156,'MDA4'!S156,'MDA3'!I156,'MDA3'!L156,'T1'!M156,'T2'!K156,T3_R1!L156,T3_R2!L156)","v":16565},{"$f":"MAX('MDA1'!L156,'MDA4'!T156,'MDA3'!J156,'MDA3'!M156,'T1'!N156,'T2'!L156,T3_R1!M156,T3_R2!M156)","v":0},16565,{"$f":"MAX('MDA4'!R156,T156)","v":0},{"$f":"MAX('MDA1'!K156,'MDA4'!S156,'MDA3'!I156,'MDA3'!L156,V156,AD156)","v":16565},{"$f":"MAX('MDA1'!L156,'MDA4'!T156,'MDA3'!J156,'MDA3'!M156,AF156)","v":0},16565,48.379988007975264]
[{"$f":"IF(COUNTRY_INFO!A157=0,\" \",COUNTRY_INFO!A157)","v":"Angola"},{"$f":"IF(COUNTRY_INFO!B157=0,\" \",COUNTRY_INFO!B157)","v":"UIGE"},{"$f":"IF(COUNTRY_INFO!C157=0,\" \",COUNTRY_INFO!C157)","v":"MAQUELA DO ZOMBO"},{"$f":"COUNTRY_INFO!M157","v":0},null,null,{"$f":"MAX('MDA1'!M157,'MDA4'!U157)","v":0},{"$f":"IF(AND(COUNTRY_INFO!H157>0,COUNTRY_INFO!H157<4),IF(D157>MAX('MDA1'!M157,'MDA4'!U157),MAX('MDA1'!M157,'MDA4'!U157),D157),0)","v":0},{"$f":"IF(AND(COUNTRY_INFO!H157>0,COUNTRY_INFO!H157<4), IF(G157/D157*100<>0, IF(G157/D157*100>100,100,G157/D157*100), \"-\"),0)","v":0},{"$f":"COUNTRY_INFO!N157","v":"Unknown"},null,null,{"$f":"MAX('MDA1'!M157,MAX('MDA3'!I157,'MDA3'!L157)+MAX('MDA3'!J157,'MDA3'!M157))","v":0},{"$f":"IF(AND(COUNTRY_INFO!I157>0,COUNTRY_INFO!I157<4),IF(J157>MAX('MDA1'!M157,MAX('MDA3'!I157,'MDA3'!L157)+MAX('MDA3'!J157,'MDA3'!M157)),MAX('MDA1'!M157,MAX('MDA3'!I157,'MDA3'!L157)+MAX('MDA3'!J157,'MDA3'!M157)),J157),0)","v":0},{"$f":"IF(AND(COUNTRY_INFO!I157>0,COUNTRY_INFO!I157<4), IF(M157/J157*100<>0, IF(M157/J157*100>100,100,M157/J157*100), \"-\"),0)","v":0},{"$f":"COUNTRY_INFO!O157","v":65598},null,null,{"$f":"SUM(MAX('MDA4'!R157, 'T1'!L157, MAX(T3_R1!K157, T3_R2!K157)), MAX('MDA1'!K157, 'MDA4'!S157, 'T1'!M157, MAX(T3_R1!L157, T3_R2!L157)), MAX('MDA1'!L157, 'MDA4'!T157, 'T1'!N157, MAX(T3_R1!M157, T3_R2!M157)))","v":30235},{"$f":"IF(AND(COUNTRY_INFO!J157>1,COUNTRY_INFO!J157<4),IF(COUNTRY_INFO!E157>MAX('MDA4'!R157,'T1'!L157,MAX(T3_R1!K157,T3_R2!K157)),MAX('MDA4'!R157,'T1'!L157,MAX(T3_R1!K157,T3_R2!K157)),COUNTRY_INFO!E157),0)","v":0},{"$f":"IF(AND(COUNTRY_INFO!J157>1,COUNTRY_INFO!J157<4), IF(T157/COUNTRY_INFO!E157*100<>0, IF(T157/COUNTRY_INFO!E157*100>100,100,T157/COUNTRY_INFO!E157*100), \"-\"),0)","v":"-"},{"$f":"IF(AND(COUNTRY_INFO!J157>1,COUNTRY_INFO!J157<4),IF(COUNTRY_INFO!F157>MAX('MDA1'!K157,'MDA4'!S157,'T1'!M157,MAX(T3_R1!L157,T3_R2!L157)),MAX('MDA1'!K157,'MDA4'!S157,'T1'!M157,MAX(T3_R1!L157,T3_R2!L157)),COUNTRY_INFO!F157),0)","v":30235},{"$f":"IF(AND(COUNTRY_INFO!J157>1,COUNTRY_INFO!J157<4), IF(V157/COUNTRY_INFO!F157*100<>0, IF(V157/COUNTRY_INFO!F157*100>100,100,V157/COUNTRY_INFO!F157*100), \"-\"),0)","v":72.523386903334128},30235,{"$f":"IF(AND(COUNTRY_INFO!J157>1,COUNTRY_INFO!J157<4), IF(S157/P157*100<>0, IF(X157/P157*100>100,100,X157/P157*100), \"-\"),0)","v":46.091344248300253},{"$f":"COUNTRY_INFO!P157","v":13757.7},null,null,{"$f":"MAX('T1'!L157,'T2'!J157)+MAX('T1'!M157,'T2'!K157)+MAX('T1'!N157,'T2'!L157)","v":30235},{"$f":"IF(COUNTRY_INFO!K157=1,IF(COUNTRY_INFO!F157*0.33>MAX('T1'!M157,'T2'!K157),MAX('T1'!M157,'T2'!K157),COUNTRY_INFO!F157*0.33),IF(COUNTRY_INFO!K157=2,IF(COUNTRY_INFO!F157*0.5>MAX('T1'!M157,'T2'!K157),MAX('T1'!M157,'T2'!K157),COUNTRY_INFO!F157*0.5),IF(COUNTRY_INFO!K157=3,IF(COUNTRY_INFO!F157>MAX('T1'!M157,'T2'!K157),MAX('T1'!M157,'T2'!K157),COUNTRY_INFO!F157),0)))","v":13757.7},{"$f":"IF(AND(COUNTRY_INFO!K157>0,COUNTRY_INFO!L157<4),IF(Z157>0,IF(COUNTRY_INFO!K157=1, AD157/(COUNTRY_INFO!F157*0.33)*100, IF(COUNTRY_INFO!K157=2, AD157/(COUNTRY_INFO!F157*0.5)*100, IF(COUNTRY_INFO!K157=3, AD157/COUNTRY_INFO!F157*100))),\"-\"),0)","v":100},{"$f":"IF(COUNTRY_INFO!K157=2,IF(COUNTRY_INFO!G157*0.2>MAX('T1'!N157,'T2'!L157),MAX('T1'!N157,'T2'!L157),COUNTRY_INFO!G157*0.2),IF(COUNTRY_INFO!K157=3,IF(COUNTRY_INFO!G157>MAX('T1'!N157,'T2'!L157),MAX('T1'!N157,'T2'!L157),COUNTRY_INFO!G157),0))","v":0},{"$f":"IF(AND(COUNTRY_INFO!K157>0,COUNTRY_INFO!L157<4),IF(Z157>0,IF(COUNTRY_INFO!K157=1, 0, IF(COUNTRY_INFO!K157=2, AF157/(COUNTRY_INFO!G157*0.2)*100, IF(COUNTRY_INFO!K157=3, AF157/COUNTRY_INFO!G157*100))),\"-\"),0)","v":0},13757.7,{"$f":"IF(AND(COUNTRY_INFO!K157>0,COUNTRY_INFO!K157<4), IF(AC157/Z157*100<>0, IF(AH157/Z157*100>100,100,AH157/Z157*100), \"-\"),0)","v":100},null,{"$f":"IF(AND(D157<>0, D157<>\"Unknown\",D157<>\"Stopped\",D157<>\"Not required\"),D157/COUNTRY_INFO!D157, 0)","v":0},{"$f":"IF(AND(J157<>0,J157<>\"Unknown\",J157<>\"Stopped\",J157<>\"Not required\"),J157/COUNTRY_INFO!D157, 0)","v":0},{"$f":"IF(AND(P157<>0,P157<>\"Unknown\",P157<>\"Not required\"),P157/(COUNTRY_INFO!E157+COUNTRY_INFO!F157), 0)","v":1},{"$f":"IF(AND(Z157<>0,Z157<>\"Unknown\",Z157<>\"Not required\"),IF(COUNTRY_INFO!K157=1,1,IF(COUNTRY_INFO!K157=2,0.5*COUNTRY_INFO!F157/(0.5*COUNTRY_INFO!F157+0.2*COUNTRY_INFO!G157),IF(COUNTRY_INFO!K157=3,COUNTRY_INFO!F157/(COUNTRY_INFO!F157+COUNTRY_INFO!G157)))),0)","v":1},{"$f":"IF(AND(Z157<>0,Z157<>\"Unknown\",Z157<>\"Not required\"),IF(COUNTRY_INFO!K157=1,0,IF(COUNTRY_INFO!K157=2,0.2*COUNTRY_INFO!G157/(0.5*COUNTRY_INFO!F157+0.2*COUNTRY_INFO!G157),IF(COUNTRY_INFO!K157=3,COUNTRY_INFO!G157/(COUNTRY_INFO!F157+COUNTRY_INFO!G157)))),0)","v":0},{"$f":"MAX(COUNTRY_INFO!D157*AK157*PROFILE!$G$7,COUNTRY_INFO!D157*AL157*PROFILE!$G$7)","v":0},{"$f":"MAX(COUNTRY_INFO!D157*AK157*PROFILE!$G$8,COUNTRY_INFO!D157*AL157*PROFILE!$G$8,COUNTRY_INFO!D157*AM157*PROFILE!$G$8)","v":23908.076006759067},{"$f":"MAX(COUNTRY_INFO!D157*AK157*PROFILE!$G$9,COUNTRY_INFO!D157*AL157*PROFILE!$G$9,COUNTRY_INFO!D157*AM157*PROFILE!$G$9,IF(AND(DISTRICT!Z157<>\"Unknown\",Z157<>\"Not required\"),COUNTRY_INFO!P157*DISTRICT!AN157,0))","v":41689.727472195314},{"$f":"MAX(COUNTRY_INFO!D157*AK157*PROFILE!$G$10,COUNTRY_INFO!D157*AL157*PROFILE!$G$10,IF(AND(DISTRICT!Z157<>\"Unknown\",Z157<>\"Not required\"),COUNTRY_INFO!P157*DISTRICT!AO157,0))","v":0},65597.803478954389,"Y",{"$f":"MAX('MDA4'!R157,'T1'!L157,'T2'!J157,T3_R1!K157,T3_R2!K157)","v":0},{"$f":"MAX('MDA1'!K157,'MDA4'!S157,'MDA3'!I157,'MDA3'!L157,'T1'!M157,'T2'!K157,T3_R1!L157,T3_R2!L157)","v":30235},{"$f":"MAX('MDA1'!L157,'MDA4'!T157,'MDA3'!J157,'MDA3'!M157,'T1'!N157,'T2'!L157,T3_R1!M157,T3_R2!M157)","v":0},30235,{"$f":"MAX('MDA4'!R157,T157)","v":0},{"$f":"MAX('MDA1'!K157,'MDA4'!S157,'MDA3'!I157,'MDA3'!L157,V157,AD157)","v":30235},{"$f":"MAX('MDA1'!L157,'MDA4'!T157,'MDA3'!J157,'MDA3'!M157,AF157)","v":0},30235,46.091482330959806]
[{"$f":"IF(COUNTRY_INFO!A158=0,\" \",COUNTRY_INFO!A158)","v":"Angola"},{"$f":"IF(COUNTRY_INFO!B158=0,\" \",COUNTRY_INFO!B158)","v":"UIGE"},{"$f":"IF(COUNTRY_INFO!C158=0,\" \",COUNTRY_INFO!C158)","v":"MILUNGA"},{"$f":"COUNTRY_INFO!M158","v":0},null,null,{"$f":"MAX('MDA1'!M158,'MDA4'!U158)","v":0},{"$f":"IF(AND(COUNTRY_INFO!H158>0,COUNTRY_INFO!H158<4),IF(D158>MAX('MDA1'!M158,'MDA4'!U158),MAX('MDA1'!M158,'MDA4'!U158),D158),0)","v":0},{"$f":"IF(AND(COUNTRY_INFO!H158>0,COUNTRY_INFO!H158<4), IF(G158/D158*100<>0, IF(G158/D158*100>100,100,G158/D158*100), \"-\"),0)","v":0},{"$f":"COUNTRY_INFO!N158","v":"Unknown"},null,null,{"$f":"MAX('MDA1'!M158,MAX('MDA3'!I158,'MDA3'!L158)+MAX('MDA3'!J158,'MDA3'!M158))","v":0},{"$f":"IF(AND(COUNTRY_INFO!I158>0,COUNTRY_INFO!I158<4),IF(J158>MAX('MDA1'!M158,MAX('MDA3'!I158,'MDA3'!L158)+MAX('MDA3'!J158,'MDA3'!M158)),MAX('MDA1'!M158,MAX('MDA3'!I158,'MDA3'!L158)+MAX('MDA3'!J158,'MDA3'!M158)),J158),0)","v":0},{"$f":"IF(AND(COUNTRY_INFO!I158>0,COUNTRY_INFO!I158<4), IF(M158/J158*100<>0, IF(M158/J158*100>100,100,M158/J158*100), \"-\"),0)","v":0},{"$f":"COUNTRY_INFO!O158","v":26062},null,null,{"$f":"SUM(MAX('MDA4'!R158, 'T1'!L158, MAX(T3_R1!K158, T3_R2!K158)), MAX('MDA1'!K158, 'MDA4'!S158, 'T1'!M158, MAX(T3_R1!L158, T3_R2!L158)), MAX('MDA1'!L158, 'MDA4'!T158, 'T1'!N158, MAX(T3_R1!M158, T3_R2!M158)))","v":18235},{"$f":"IF(AND(COUNTRY_INFO!J158>1,COUNTRY_INFO!J158<4),IF(COUNTRY_INFO!E158>MAX('MDA4'!R158,'T1'!L158,MAX(T3_R1!K158,T3_R2!K158)),MAX('MDA4'!R158,'T1'!L158,MAX(T3_R1!K158,T3_R2!K158)),COUNTRY_INFO!E158),0)","v":0},{"$f":"IF(AND(COUNTRY_INFO!J158>1,COUNTRY_INFO!J158<4), IF(T158/COUNTRY_INFO!E158*100<>0, IF(T158/COUNTRY_INFO!E158*100>100,100,T158/COUNTRY_INFO!E158*100), \"-\"),0)","v":"-"},{"$f":"IF(AND(COUNTRY_INFO!J158>1,COUNTRY_INFO!J158<4),IF(COUNTRY_INFO!F158>MAX('MDA1'!K158,'MDA4'!S158,'T1'!M158,MAX(T3_R1!L158,T3_R2!L158)),MAX('MDA1'!K158,'MDA4'!S158,'T1'!M158,MAX(T3_R1!L158,T3_R2!L158)),COUNTRY_INFO!F158),0)","v":16563},{"$f":"IF(AND(COUNTRY_INFO!J158>1,COUNTRY_INFO!J158<4), IF(V158/COUNTRY_INFO!F158*100<>0, IF(V158/COUNTRY_INFO!F158*100>100,100,V158/COUNTRY_INFO!F158*100), \"-\"),0)","v":100},16563,{"$f":"IF(AND(COUNTRY_INFO!J158>1,COUNTRY_INFO!J158<4), IF(S158/P158*100<>0, IF(X158/P158*100>100,100,X158/P158*100), \"-\"),0)","v":63.552298365436265},{"$f":"COUNTRY_INFO!P158","v":5465.79},null,null,{"$f":"MAX('T1'!L158,'T2'!J158)+MAX('T1'!M158,'T2'!K158)+MAX('T1'!N158,'T2'!L158)","v":18235},{"$f":"IF(COUNTRY_INFO!K158=1,IF(COUNTRY_INFO!F158*0.33>MAX('T1'!M158,'T2'!K158),MAX('T1'!M158,'T2'!K158),COUNTRY_INFO!F158*0.33),IF(COUNTRY_INFO!K158=2,IF(COUNTRY_INFO!F158*0.5>MAX('T1'!M158,'T2'!K158),MAX('T1'!M158,'T2'!K158),COUNTRY_INFO!F158*0.5),IF(COUNTRY_INFO!K158=3,IF(COUNTRY_INFO!F158>MAX('T1'!M158,'T2'!K158),MAX('T1'!M158,'T2'!K158),COUNTRY_INFO!F158),0)))","v":5465.79},{"$f":"IF(AND(COUNTRY_INFO!K158>0,COUNTRY_INFO!L158<4),IF(Z158>0,IF(COUNTRY_INFO!K158=1, AD158/(COUNTRY_INFO!F158*0.33)*100, IF(COUNTRY_INFO!K158=2, AD158/(COUNTRY_INFO!F158*0.5)*100, IF(COUNTRY_INFO!K158=3, AD158/COUNTRY_INFO!F158*100))),\"-\"),0)","v":100},{"$f":"IF(COUNTRY_INFO!K158=2,IF(COUNTRY_INFO!G158*0.2>MAX('T1'!N158,'T2'!L158),MAX('T1'!N158,'T2'!L158),COUNTRY_INFO!G158*0.2),IF(COUNTRY_INFO!K158=3,IF(COUNTRY_INFO!G158>MAX('T1'!N158,'T2'!L158),MAX('T1'!N158,'T2'!L158),COUNTRY_INFO!G158),0))","v":0},{"$f":"IF(AND(COUNTRY_INFO!K158>0,COUNTRY_INFO!L158<4),IF(Z158>0,IF(COUNTRY_INFO!K158=1, 0, IF(COUNTRY_INFO!K158=2, AF158/(COUNTRY_INFO!G158*0.2)*100, IF(COUNTRY_INFO!K158=3, AF158/COUNTRY_INFO!G158*100))),\"-\"),0)","v":0},5465.79,{"$f":"IF(AND(COUNTRY_INFO!K158>0,COUNTRY_INFO!K158<4), IF(AC158/Z158*100<>0, IF(AH158/Z158*100>100,100,AH158/Z158*100), \"-\"),0)","v":100},null,{"$f":"IF(AND(D158<>0, D158<>\"Unknown\",D158<>\"Stopped\",D158<>\"Not required\"),D158/COUNTRY_INFO!D158, 0)","v":0},{"$f":"IF(AND(J158<>0,J158<>\"Unknown\",J158<>\"Stopped\",J158<>\"Not required\"),J158/COUNTRY_INFO!D158, 0)","v":0},{"$f":"IF(AND(P158<>0,P158<>\"Unknown\",P158<>\"Not required\"),P158/(COUNTRY_INFO!E158+COUNTRY_INFO!F158), 0)","v":1},{"$f":"IF(AND(Z158<>0,Z158<>\"Unknown\",Z158<>\"Not required\"),IF(COUNTRY_INFO!K158=1,1,IF(COUNTRY_INFO!K158=2,0.5*COUNTRY_INFO!F158/(0.5*COUNTRY_INFO!F158+0.2*COUNTRY_INFO!G158),IF(COUNTRY_INFO!K158=3,COUNTRY_INFO!F158/(COUNTRY_INFO!F158+COUNTRY_INFO!G158)))),0)","v":1},{"$f":"IF(AND(Z158<>0,Z158<>\"Unknown\",Z158<>\"Not required\"),IF(COUNTRY_INFO!K158=1,0,IF(COUNTRY_INFO!K158=2,0.2*COUNTRY_INFO!G158/(0.5*COUNTRY_INFO!F158+0.2*COUNTRY_INFO!G158),IF(COUNTRY_INFO!K158=3,COUNTRY_INFO!G158/(COUNTRY_INFO!F158+COUNTRY_INFO!G158)))),0)","v":0},{"$f":"MAX(COUNTRY_INFO!D158*AK158*PROFILE!$G$7,COUNTRY_INFO!D158*AL158*PROFILE!$G$7)","v":0},{"$f":"MAX(COUNTRY_INFO!D158*AK158*PROFILE!$G$8,COUNTRY_INFO!D158*AL158*PROFILE!$G$8,COUNTRY_INFO!D158*AM158*PROFILE!$G$8)","v":9498.5749121560257},{"$f":"MAX(COUNTRY_INFO!D158*AK158*PROFILE!$G$9,COUNTRY_INFO!D158*AL158*PROFILE!$G$9,COUNTRY_INFO!D158*AM158*PROFILE!$G$9,IF(AND(DISTRICT!Z158<>\"Unknown\",Z158<>\"Not required\"),COUNTRY_INFO!P158*DISTRICT!AN158,0))","v":16563.147923323686},{"$f":"MAX(COUNTRY_INFO!D158*AK158*PROFILE!$G$10,COUNTRY_INFO!D158*AL158*PROFILE!$G$10,IF(AND(DISTRICT!Z158<>\"Unknown\",Z158<>\"Not required\"),COUNTRY_INFO!P158*DISTRICT!AO158,0))","v":0},26061.722835479712,"Y",{"$f":"MAX('MDA4'!R158,'T1'!L158,'T2'!J158,T3_R1!K158,T3_R2!K158)","v":0},{"$f":"MAX('MDA1'!K158,'MDA4'!S158,'MDA3'!I158,'MDA3'!L158,'T1'!M158,'T2'!K158,T3_R1!L158,T3_R2!L158)","v":18235},{"$f":"MAX('MDA1'!L158,'MDA4'!T158,'MDA3'!J158,'MDA3'!M158,'T1'!N158,'T2'!L158,T3_R1!M158,T3_R2!M158)","v":0},18235,{"$f":"MAX('MDA4'!R158,T158)","v":0},{"$f":"MAX('MDA1'!K158,'MDA4'!S158,'MDA3'!I158,'MDA3'!L158,V158,AD158)","v":16563},{"$f":"MAX('MDA1'!L158,'MDA4'!T158,'MDA3'!J158,'MDA3'!M158,AF158)","v":0},16563,63.552974239491135]
[{"$f":"IF(COUNTRY_INFO!A159=0,\" \",COUNTRY_INFO!A159)","v":"Angola"},{"$f":"IF(COUNTRY_INFO!B159=0,\" \",COUNTRY_INFO!B159)","v":"UIGE"},{"$f":"IF(COUNTRY_INFO!C159=0,\" \",COUNTRY_INFO!C159)","v":"MUCABA"},{"$f":"COUNTRY_INFO!M159","v":0},null,null,{"$f":"MAX('MDA1'!M159,'MDA4'!U159)","v":0},{"$f":"IF(AND(COUNTRY_INFO!H159>0,COUNTRY_INFO!H159<4),IF(D159>MAX('MDA1'!M159,'MDA4'!U159),MAX('MDA1'!M159,'MDA4'!U159),D159),0)","v":0},{"$f":"IF(AND(COUNTRY_INFO!H159>0,COUNTRY_INFO!H159<4), IF(G159/D159*100<>0, IF(G159/D159*100>100,100,G159/D159*100), \"-\"),0)","v":0},{"$f":"COUNTRY_INFO!N159","v":"Unknown"},null,null,{"$f":"MAX('MDA1'!M159,MAX('MDA3'!I159,'MDA3'!L159)+MAX('MDA3'!J159,'MDA3'!M159))","v":0},{"$f":"IF(AND(COUNTRY_INFO!I159>0,COUNTRY_INFO!I159<4),IF(J159>MAX('MDA1'!M159,MAX('MDA3'!I159,'MDA3'!L159)+MAX('MDA3'!J159,'MDA3'!M159)),MAX('MDA1'!M159,MAX('MDA3'!I159,'MDA3'!L159)+MAX('MDA3'!J159,'MDA3'!M159)),J159),0)","v":0},{"$f":"IF(AND(COUNTRY_INFO!I159>0,COUNTRY_INFO!I159<4), IF(M159/J159*100<>0, IF(M159/J159*100>100,100,M159/J159*100), \"-\"),0)","v":0},{"$f":"COUNTRY_INFO!O159","v":22650},null,null,{"$f":"SUM(MAX('MDA4'!R159, 'T1'!L159, MAX(T3_R1!K159, T3_R2!K159)), MAX('MDA1'!K159, 'MDA4'!S159, 'T1'!M159, MAX(T3_R1!L159, T3_R2!L159)), MAX('MDA1'!L159, 'MDA4'!T159, 'T1'!N159, MAX(T3_R1!M159, T3_R2!M159)))","v":12434},{"$f":"IF(AND(COUNTRY_INFO!J159>1,COUNTRY_INFO!J159<4),IF(COUNTRY_INFO!E159>MAX('MDA4'!R159,'T1'!L159,MAX(T3_R1!K159,T3_R2!K159)),MAX('MDA4'!R159,'T1'!L159,MAX(T3_R1!K159,T3_R2!K159)),COUNTRY_INFO!E159),0)","v":0},{"$f":"IF(AND(COUNTRY_INFO!J159>1,COUNTRY_INFO!J159<4), IF(T159/COUNTRY_INFO!E159*100<>0, IF(T159/COUNTRY_INFO!E159*100>100,100,T159/COUNTRY_INFO!E159*100), \"-\"),0)","v":"-"},{"$f":"IF(AND(COUNTRY_INFO!J159>1,COUNTRY_INFO!J159<4),IF(COUNTRY_INFO!F159>MAX('MDA1'!K159,'MDA4'!S159,'T1'!M159,MAX(T3_R1!L159,T3_R2!L159)),MAX('MDA1'!K159,'MDA4'!S159,'T1'!M159,MAX(T3_R1!L159,T3_R2!L159)),COUNTRY_INFO!F159),0)","v":12434},{"$f":"IF(AND(COUNTRY_INFO!J159>1,COUNTRY_INFO!J159<4), IF(V159/COUNTRY_INFO!F159*100<>0, IF(V159/COUNTRY_INFO!F159*100>100,100,V159/COUNTRY_INFO!F159*100), \"-\"),0)","v":86.377214310524479},12434,{"$f":"IF(AND(COUNTRY_INFO!J159>1,COUNTRY_INFO!J159<4), IF(S159/P159*100<>0, IF(X159/P159*100>100,100,X159/P159*100), \"-\"),0)","v":54.896247240618102},{"$f":"COUNTRY_INFO!P159","v":4750.3500000000004},null,null,{"$f":"MAX('T1'!L159,'T2'!J159)+MAX('T1'!M159,'T2'!K159)+MAX('T1'!N159,'T2'!L159)","v":12154},{"$f":"IF(COUNTRY_INFO!K159=1,IF(COUNTRY_INFO!F159*0.33>MAX('T1'!M159,'T2'!K159),MAX('T1'!M159,'T2'!K159),COUNTRY_INFO!F159*0.33),IF(COUNTRY_INFO!K159=2,IF(COUNTRY_INFO!F159*0.5>MAX('T1'!M159,'T2'!K159),MAX('T1'!M159,'T2'!K159),COUNTRY_INFO!F159*0.5),IF(COUNTRY_INFO!K159=3,IF(COUNTRY_INFO!F159>MAX('T1'!M159,'T2'!K159),MAX('T1'!M159,'T2'!K159),COUNTRY_INFO!F159),0)))","v":4750.3500000000004},{"$f":"IF(AND(COUNTRY_INFO!K159>0,COUNTRY_INFO!L159<4),IF(Z159>0,IF(COUNTRY_INFO!K159=1, AD159/(COUNTRY_INFO!F159*0.33)*100, IF(COUNTRY_INFO!K159=2, AD159/(COUNTRY_INFO!F159*0.5)*100, IF(COUNTRY_INFO!K159=3, AD159/COUNTRY_INFO!F159*100))),\"-\"),0)","v":100},{"$f":"IF(COUNTRY_INFO!K159=2,IF(COUNTRY_INFO!G159*0.2>MAX('T1'!N159,'T2'!L159),MAX('T1'!N159,'T2'!L159),COUNTRY_INFO!G159*0.2),IF(COUNTRY_INFO!K159=3,IF(COUNTRY_INFO!G159>MAX('T1'!N159,'T2'!L159),MAX('T1'!N159,'T2'!L159),COUNTRY_INFO!G159),0))","v":0},{"$f":"IF(AND(COUNTRY_INFO!K159>0,COUNTRY_INFO!L159<4),IF(Z159>0,IF(COUNTRY_INFO!K159=1, 0, IF(COUNTRY_INFO!K159=2, AF159/(COUNTRY_INFO!G159*0.2)*100, IF(COUNTRY_INFO!K159=3, AF159/COUNTRY_INFO!G159*100))),\"-\"),0)","v":0},4750.3500000000004,{"$f":"IF(AND(COUNTRY_INFO!K159>0,COUNTRY_INFO!K159<4), IF(AC159/Z159*100<>0, IF(AH159/Z159*100>100,100,AH159/Z159*100), \"-\"),0)","v":100},null,{"$f":"IF(AND(D159<>0, D159<>\"Unknown\",D159<>\"Stopped\",D159<>\"Not required\"),D159/COUNTRY_INFO!D159, 0)","v":0},{"$f":"IF(AND(J159<>0,J159<>\"Unknown\",J159<>\"Stopped\",J159<>\"Not required\"),J159/COUNTRY_INFO!D159, 0)","v":0},{"$f":"IF(AND(P159<>0,P159<>\"Unknown\",P159<>\"Not required\"),P159/(COUNTRY_INFO!E159+COUNTRY_INFO!F159), 0)","v":1},{"$f":"IF(AND(Z159<>0,Z159<>\"Unknown\",Z159<>\"Not required\"),IF(COUNTRY_INFO!K159=1,1,IF(COUNTRY_INFO!K159=2,0.5*COUNTRY_INFO!F159/(0.5*COUNTRY_INFO!F159+0.2*COUNTRY_INFO!G159),IF(COUNTRY_INFO!K159=3,COUNTRY_INFO!F159/(COUNTRY_INFO!F159+COUNTRY_INFO!G159)))),0)","v":1},{"$f":"IF(AND(Z159<>0,Z159<>\"Unknown\",Z159<>\"Not required\"),IF(COUNTRY_INFO!K159=1,0,IF(COUNTRY_INFO!K159=2,0.2*COUNTRY_INFO!G159/(0.5*COUNTRY_INFO!F159+0.2*COUNTRY_INFO!G159),IF(COUNTRY_INFO!K159=3,COUNTRY_INFO!G159/(COUNTRY_INFO!F159+COUNTRY_INFO!G159)))),0)","v":0},{"$f":"MAX(COUNTRY_INFO!D159*AK159*PROFILE!$G$7,COUNTRY_INFO!D159*AL159*PROFILE!$G$7)","v":0},{"$f":"MAX(COUNTRY_INFO!D159*AK159*PROFILE!$G$8,COUNTRY_INFO!D159*AL159*PROFILE!$G$8,COUNTRY_INFO!D159*AM159*PROFILE!$G$8)","v":8255.4022687000761},{"$f":"MAX(COUNTRY_INFO!D159*AK159*PROFILE!$G$9,COUNTRY_INFO!D159*AL159*PROFILE!$G$9,COUNTRY_INFO!D159*AM159*PROFILE!$G$9,IF(AND(DISTRICT!Z159<>\"Unknown\",Z159<>\"Not required\"),COUNTRY_INFO!P159*DISTRICT!AN159,0))","v":14395.36458969554},{"$f":"MAX(COUNTRY_INFO!D159*AK159*PROFILE!$G$10,COUNTRY_INFO!D159*AL159*PROFILE!$G$10,IF(AND(DISTRICT!Z159<>\"Unknown\",Z159<>\"Not required\"),COUNTRY_INFO!P159*DISTRICT!AO159,0))","v":0},22650.766858395618,"Y",{"$f":"MAX('MDA4'!R159,'T1'!L159,'T2'!J159,T3_R1!K159,T3_R2!K159)","v":0},{"$f":"MAX('MDA1'!K159,'MDA4'!S159,'MDA3'!I159,'MDA3'!L159,'T1'!M159,'T2'!K159,T3_R1!L159,T3_R2!L159)","v":12434},{"$f":"MAX('MDA1'!L159,'MDA4'!T159,'MDA3'!J159,'MDA3'!M159,'T1'!N159,'T2'!L159,T3_R1!M159,T3_R2!M159)","v":0},12434,{"$f":"MAX('MDA4'!R159,T159)","v":0},{"$f":"MAX('MDA1'!K159,'MDA4'!S159,'MDA3'!I159,'MDA3'!L159,V159,AD159)","v":12434},{"$f":"MAX('MDA1'!L159,'MDA4'!T159,'MDA3'!J159,'MDA3'!M159,AF159)","v":0},12434,54.894388687733439]
[{"$f":"IF(COUNTRY_INFO!A160=0,\" \",COUNTRY_INFO!A160)","v":"Angola"},{"$f":"IF(COUNTRY_INFO!B160=0,\" \",COUNTRY_INFO!B160)","v":"UIGE"},{"$f":"IF(COUNTRY_INFO!C160=0,\" \",COUNTRY_INFO!C160)","v":"NEGAGE"},{"$f":"COUNTRY_INFO!M160","v":0},null,null,{"$f":"MAX('MDA1'!M160,'MDA4'!U160)","v":0},{"$f":"IF(AND(COUNTRY_INFO!H160>0,COUNTRY_INFO!H160<4),IF(D160>MAX('MDA1'!M160,'MDA4'!U160),MAX('MDA1'!M160,'MDA4'!U160),D160),0)","v":0},{"$f":"IF(AND(COUNTRY_INFO!H160>0,COUNTRY_INFO!H160<4), IF(G160/D160*100<>0, IF(G160/D160*100>100,100,G160/D160*100), \"-\"),0)","v":0},{"$f":"COUNTRY_INFO!N160","v":161403.02560454863},null,null,{"$f":"MAX('MDA1'!M160,MAX('MDA3'!I160,'MDA3'!L160)+MAX('MDA3'!J160,'MDA3'!M160))","v":0},{"$f":"IF(AND(COUNTRY_INFO!I160>0,COUNTRY_INFO!I160<4),IF(J160>MAX('MDA1'!M160,MAX('MDA3'!I160,'MDA3'!L160)+MAX('MDA3'!J160,'MDA3'!M160)),MAX('MDA1'!M160,MAX('MDA3'!I160,'MDA3'!L160)+MAX('MDA3'!J160,'MDA3'!M160)),J160),0)","v":0},{"$f":"IF(AND(COUNTRY_INFO!I160>0,COUNTRY_INFO!I160<4), IF(M160/J160*100<>0, IF(M160/J160*100>100,100,M160/J160*100), \"-\"),0)","v":"-"},{"$f":"COUNTRY_INFO!O160","v":70855},null,null,{"$f":"SUM(MAX('MDA4'!R160, 'T1'!L160, MAX(T3_R1!K160, T3_R2!K160)), MAX('MDA1'!K160, 'MDA4'!S160, 'T1'!M160, MAX(T3_R1!L160, T3_R2!L160)), MAX('MDA1'!L160, 'MDA4'!T160, 'T1'!N160, MAX(T3_R1!M160, T3_R2!M160)))","v":36517},{"$f":"IF(AND(COUNTRY_INFO!J160>1,COUNTRY_INFO!J160<4),IF(COUNTRY_INFO!E160>MAX('MDA4'!R160,'T1'!L160,MAX(T3_R1!K160,T3_R2!K160)),MAX('MDA4'!R160,'T1'!L160,MAX(T3_R1!K160,T3_R2!K160)),COUNTRY_INFO!E160),0)","v":0},{"$f":"IF(AND(COUNTRY_INFO!J160>1,COUNTRY_INFO!J160<4), IF(T160/COUNTRY_INFO!E160*100<>0, IF(T160/COUNTRY_INFO!E160*100>100,100,T160/COUNTRY_INFO!E160*100), \"-\"),0)","v":"-"},{"$f":"IF(AND(COUNTRY_INFO!J160>1,COUNTRY_INFO!J160<4),IF(COUNTRY_INFO!F160>MAX('MDA1'!K160,'MDA4'!S160,'T1'!M160,MAX(T3_R1!L160,T3_R2!L160)),MAX('MDA1'!K160,'MDA4'!S160,'T1'!M160,MAX(T3_R1!L160,T3_R2!L160)),COUNTRY_INFO!F160),0)","v":36517},{"$f":"IF(AND(COUNTRY_INFO!J160>1,COUNTRY_INFO!J160<4), IF(V160/COUNTRY_INFO!F160*100<>0, IF(V160/COUNTRY_INFO!F160*100>100,100,V160/COUNTRY_INFO!F160*100), \"-\"),0)","v":81.093024805134235},36517,{"$f":"IF(AND(COUNTRY_INFO!J160>1,COUNTRY_INFO!J160<4), IF(S160/P160*100<>0, IF(X160/P160*100>100,100,X160/P160*100), \"-\"),0)","v":51.537647307882295},{"$f":"COUNTRY_INFO!P160","v":39527.300000000003},null,null,{"$f":"MAX('T1'!L160,'T2'!J160)+MAX('T1'!M160,'T2'!K160)+MAX('T1'!N160,'T2'!L160)","v":36517},{"$f":"IF(COUNTRY_INFO!K160=1,IF(COUNTRY_INFO!F160*0.33>MAX('T1'!M160,'T2'!K160),MAX('T1'!M160,'T2'!K160),COUNTRY_INFO!F160*0.33),IF(COUNTRY_INFO!K160=2,IF(COUNTRY_INFO!F160*0.5>MAX('T1'!M160,'T2'!K160),MAX('T1'!M160,'T2'!K160),COUNTRY_INFO!F160*0.5),IF(COUNTRY_INFO!K160=3,IF(COUNTRY_INFO!F160>MAX('T1'!M160,'T2'!K160),MAX('T1'!M160,'T2'!K160),COUNTRY_INFO!F160),0)))","v":22515.5},{"$f":"IF(AND(COUNTRY_INFO!K160>0,COUNTRY_INFO!L160<4),IF(Z160>0,IF(COUNTRY_INFO!K160=1, AD160/(COUNTRY_INFO!F160*0.33)*100, IF(COUNTRY_INFO!K160=2, AD160/(COUNTRY_INFO!F160*0.5)*100, IF(COUNTRY_INFO!K160=3, AD160/COUNTRY_INFO!F160*100))),\"-\"),0)","v":100},{"$f":"IF(COUNTRY_INFO!K160=2,IF(COUNTRY_INFO!G160*0.2>MAX('T1'!N160,'T2'!L160),MAX('T1'!N160,'T2'!L160),COUNTRY_INFO!G160*0.2),IF(COUNTRY_INFO!K160=3,IF(COUNTRY_INFO!G160>MAX('T1'!N160,'T2'!L160),MAX('T1'!N160,'T2'!L160),COUNTRY_INFO!G160),0))","v":0},{"$f":"IF(AND(COUNTRY_INFO!K160>0,COUNTRY_INFO!L160<4),IF(Z160>0,IF(COUNTRY_INFO!K160=1, 0, IF(COUNTRY_INFO!K160=2, AF160/(COUNTRY_INFO!G160*0.2)*100, IF(COUNTRY_INFO!K160=3, AF160/COUNTRY_INFO!G160*100))),\"-\"),0)","v":0},22515.5,{"$f":"IF(AND(COUNTRY_INFO!K160>0,COUNTRY_INFO!K160<4), IF(AC160/Z160*100<>0, IF(AH160/Z160*100>100,100,AH160/Z160*100), \"-\"),0)","v":56.961897220402101},null,{"$f":"IF(AND(D160<>0, D160<>\"Unknown\",D160<>\"Stopped\",D160<>\"Not required\"),D160/COUNTRY_INFO!D160, 0)","v":0},{"$f":"IF(AND(J160<>0,J160<>\"Unknown\",J160<>\"Stopped\",J160<>\"Not required\"),J160/COUNTRY_INFO!D160, 0)","v":1},{"$f":"IF(AND(P160<>0,P160<>\"Unknown\",P160<>\"Not required\"),P160/(COUNTRY_INFO!E160+COUNTRY_INFO!F160), 0)","v":1},{"$f":"IF(AND(Z160<>0,Z160<>\"Unknown\",Z160<>\"Not required\"),IF(COUNTRY_INFO!K160=1,1,IF(COUNTRY_INFO!K160=2,0.5*COUNTRY_INFO!F160/(0.5*COUNTRY_INFO!F160+0.2*COUNTRY_INFO!G160),IF(COUNTRY_INFO!K160=3,COUNTRY_INFO!F160/(COUNTRY_INFO!F160+COUNTRY_INFO!G160)))),0)","v":0.56961897220402102},{"$f":"IF(AND(Z160<>0,Z160<>\"Unknown\",Z160<>\"Not required\"),IF(COUNTRY_INFO!K160=1,0,IF(COUNTRY_INFO!K160=2,0.2*COUNTRY_INFO!G160/(0.5*COUNTRY_INFO!F160+0.2*COUNTRY_INFO!G160),IF(COUNTRY_INFO!K160=3,COUNTRY_INFO!G160/(COUNTRY_INFO!F160+COUNTRY_INFO!G160)))),0)","v":0.43038102779597892},{"$f":"MAX(COUNTRY_INFO!D160*AK160*PROFILE!$G$7,COUNTRY_INFO!D160*AL160*PROFILE!$G$7)","v":5487.7421140655815},{"$f":"MAX(COUNTRY_INFO!D160*AK160*PROFILE!$G$8,COUNTRY_INFO!D160*AL160*PROFILE!$G$8,COUNTRY_INFO!D160*AM160*PROFILE!$G$8)","v":25824.461742850628},{"$f":"MAX(COUNTRY_INFO!D160*AK160*PROFILE!$G$9,COUNTRY_INFO!D160*AL160*PROFILE!$G$9,COUNTRY_INFO!D160*AM160*PROFILE!$G$9,IF(AND(DISTRICT!Z160<>\"Unknown\",Z160<>\"Not required\"),COUNTRY_INFO!P160*DISTRICT!AN160,0))","v":45031.426697455958},{"$f":"MAX(COUNTRY_INFO!D160*AK160*PROFILE!$G$10,COUNTRY_INFO!D160*AL160*PROFILE!$G$10,IF(AND(DISTRICT!Z160<>\"Unknown\",Z160<>\"Not required\"),COUNTRY_INFO!P160*DISTRICT!AO160,0))","v":85059.395050176463},161403.02560454863,0,{"$f":"MAX('MDA4'!R160,'T1'!L160,'T2'!J160,T3_R1!K160,T3_R2!K160)","v":0},{"$f":"MAX('MDA1'!K160,'MDA4'!S160,'MDA3'!I160,'MDA3'!L160,'T1'!M160,'T2'!K160,T3_R1!L160,T3_R2!L160)","v":36517},{"$f":"MAX('MDA1'!L160,'MDA4'!T160,'MDA3'!J160,'MDA3'!M160,'T1'!N160,'T2'!L160,T3_R1!M160,T3_R2!M160)","v":0},36517,{"$f":"MAX('MDA4'!R160,T160)","v":0},{"$f":"MAX('MDA1'!K160,'MDA4'!S160,'MDA3'!I160,'MDA3'!L160,V160,AD160)","v":36517},{"$f":"MAX('MDA1'!L160,'MDA4'!T160,'MDA3'!J160,'MDA3'!M160,AF160)","v":0},36517,22.624730771447744]
[{"$f":"IF(COUNTRY_INFO!A161=0,\" \",COUNTRY_INFO!A161)","v":"Angola"},{"$f":"IF(COUNTRY_INFO!B161=0,\" \",COUNTRY_INFO!B161)","v":"UIGE"},{"$f":"IF(COUNTRY_INFO!C161=0,\" \",COUNTRY_INFO!C161)","v":"PURI"},{"$f":"COUNTRY_INFO!M161","v":0},null,null,{"$f":"MAX('MDA1'!M161,'MDA4'!U161)","v":0},{"$f":"IF(AND(COUNTRY_INFO!H161>0,COUNTRY_INFO!H161<4),IF(D161>MAX('MDA1'!M161,'MDA4'!U161),MAX('MDA1'!M161,'MDA4'!U161),D161),0)","v":0},{"$f":"IF(AND(COUNTRY_INFO!H161>0,COUNTRY_INFO!H161<4), IF(G161/D161*100<>0, IF(G161/D161*100>100,100,G161/D161*100), \"-\"),0)","v":0},{"$f":"COUNTRY_INFO!N161","v":44481.194983014131},null,null,{"$f":"MAX('MDA1'!M161,MAX('MDA3'!I161,'MDA3'!L161)+MAX('MDA3'!J161,'MDA3'!M161))","v":0},{"$f":"IF(AND(COUNTRY_INFO!I161>0,COUNTRY_INFO!I161<4),IF(J161>MAX('MDA1'!M161,MAX('MDA3'!I161,'MDA3'!L161)+MAX('MDA3'!J161,'MDA3'!M161)),MAX('MDA1'!M161,MAX('MDA3'!I161,'MDA3'!L161)+MAX('MDA3'!J161,'MDA3'!M161)),J161),0)","v":0},{"$f":"IF(AND(COUNTRY_INFO!I161>0,COUNTRY_INFO!I161<4), IF(M161/J161*100<>0, IF(M161/J161*100>100,100,M161/J161*100), \"-\"),0)","v":"-"},{"$f":"COUNTRY_INFO!O161","v":19527},null,null,{"$f":"SUM(MAX('MDA4'!R161, 'T1'!L161, MAX(T3_R1!K161, T3_R2!K161)), MAX('MDA1'!K161, 'MDA4'!S161, 'T1'!M161, MAX(T3_R1!L161, T3_R2!L161)), MAX('MDA1'!L161, 'MDA4'!T161, 'T1'!N161, MAX(T3_R1!M161, T3_R2!M161)))","v":11487},{"$f":"IF(AND(COUNTRY_INFO!J161>1,COUNTRY_INFO!J161<4),IF(COUNTRY_INFO!E161>MAX('MDA4'!R161,'T1'!L161,MAX(T3_R1!K161,T3_R2!K161)),MAX('MDA4'!R161,'T1'!L161,MAX(T3_R1!K161,T3_R2!K161)),COUNTRY_INFO!E161),0)","v":0},{"$f":"IF(AND(COUNTRY_INFO!J161>1,COUNTRY_INFO!J161<4), IF(T161/COUNTRY_INFO!E161*100<>0, IF(T161/COUNTRY_INFO!E161*100>100,100,T161/COUNTRY_INFO!E161*100), \"-\"),0)","v":"-"},{"$f":"IF(AND(COUNTRY_INFO!J161>1,COUNTRY_INFO!J161<4),IF(COUNTRY_INFO!F161>MAX('MDA1'!K161,'MDA4'!S161,'T1'!M161,MAX(T3_R1!L161,T3_R2!L161)),MAX('MDA1'!K161,'MDA4'!S161,'T1'!M161,MAX(T3_R1!L161,T3_R2!L161)),COUNTRY_INFO!F161),0)","v":11487},{"$f":"IF(AND(COUNTRY_INFO!J161>1,COUNTRY_INFO!J161<4), IF(V161/COUNTRY_INFO!F161*100<>0, IF(V161/COUNTRY_INFO!F161*100>100,100,V161/COUNTRY_INFO!F161*100), \"-\"),0)","v":92.562449637389193},11487,{"$f":"IF(AND(COUNTRY_INFO!J161>1,COUNTRY_INFO!J161<4), IF(S161/P161*100<>0, IF(X161/P161*100>100,100,X161/P161*100), \"-\"),0)","v":58.82624058995237},{"$f":"COUNTRY_INFO!P161","v":4095.3},null,null,{"$f":"MAX('T1'!L161,'T2'!J161)+MAX('T1'!M161,'T2'!K161)+MAX('T1'!N161,'T2'!L161)","v":11487},{"$f":"IF(COUNTRY_INFO!K161=1,IF(COUNTRY_INFO!F161*0.33>MAX('T1'!M161,'T2'!K161),MAX('T1'!M161,'T2'!K161),COUNTRY_INFO!F161*0.33),IF(COUNTRY_INFO!K161=2,IF(COUNTRY_INFO!F161*0.5>MAX('T1'!M161,'T2'!K161),MAX('T1'!M161,'T2'!K161),COUNTRY_INFO!F161*0.5),IF(COUNTRY_INFO!K161=3,IF(COUNTRY_INFO!F161>MAX('T1'!M161,'T2'!K161),MAX('T1'!M161,'T2'!K161),COUNTRY_INFO!F161),0)))","v":4095.3},{"$f":"IF(AND(COUNTRY_INFO!K161>0,COUNTRY_INFO!L161<4),IF(Z161>0,IF(COUNTRY_INFO!K161=1, AD161/(COUNTRY_INFO!F161*0.33)*100, IF(COUNTRY_INFO!K161=2, AD161/(COUNTRY_INFO!F161*0.5)*100, IF(COUNTRY_INFO!K161=3, AD161/COUNTRY_INFO!F161*100))),\"-\"),0)","v":100},{"$f":"IF(COUNTRY_INFO!K161=2,IF(COUNTRY_INFO!G161*0.2>MAX('T1'!N161,'T2'!L161),MAX('T1'!N161,'T2'!L161),COUNTRY_INFO!G161*0.2),IF(COUNTRY_INFO!K161=3,IF(COUNTRY_INFO!G161>MAX('T1'!N161,'T2'!L161),MAX('T1'!N161,'T2'!L161),COUNTRY_INFO!G161),0))","v":0},{"$f":"IF(AND(COUNTRY_INFO!K161>0,COUNTRY_INFO!L161<4),IF(Z161>0,IF(COUNTRY_INFO!K161=1, 0, IF(COUNTRY_INFO!K161=2, AF161/(COUNTRY_INFO!G161*0.2)*100, IF(COUNTRY_INFO!K161=3, AF161/COUNTRY_INFO!G161*100))),\"-\"),0)","v":0},4095.3,{"$f":"IF(AND(COUNTRY_INFO!K161>0,COUNTRY_INFO!K161<4), IF(AC161/Z161*100<>0, IF(AH161/Z161*100>100,100,AH161/Z161*100), \"-\"),0)","v":100},null,{"$f":"IF(AND(D161<>0, D161<>\"Unknown\",D161<>\"Stopped\",D161<>\"Not required\"),D161/COUNTRY_INFO!D161, 0)","v":0},{"$f":"IF(AND(J161<>0,J161<>\"Unknown\",J161<>\"Stopped\",J161<>\"Not required\"),J161/COUNTRY_INFO!D161, 0)","v":1},{"$f":"IF(AND(P161<>0,P161<>\"Unknown\",P161<>\"Not required\"),P161/(COUNTRY_INFO!E161+COUNTRY_INFO!F161), 0)","v":1},{"$f":"IF(AND(Z161<>0,Z161<>\"Unknown\",Z161<>\"Not required\"),IF(COUNTRY_INFO!K161=1,1,IF(COUNTRY_INFO!K161=2,0.5*COUNTRY_INFO!F161/(0.5*COUNTRY_INFO!F161+0.2*COUNTRY_INFO!G161),IF(COUNTRY_INFO!K161=3,COUNTRY_INFO!F161/(COUNTRY_INFO!F161+COUNTRY_INFO!G161)))),0)","v":1},{"$f":"IF(AND(Z161<>0,Z161<>\"Unknown\",Z161<>\"Not required\"),IF(COUNTRY_INFO!K161=1,0,IF(COUNTRY_INFO!K161=2,0.2*COUNTRY_INFO!G161/(0.5*COUNTRY_INFO!F161+0.2*COUNTRY_INFO!G161),IF(COUNTRY_INFO!K161=3,COUNTRY_INFO!G161/(COUNTRY_INFO!F161+COUNTRY_INFO!G161)))),0)","v":0},{"$f":"MAX(COUNTRY_INFO!D161*AK161*PROFILE!$G$7,COUNTRY_INFO!D161*AL161*PROFILE!$G$7)","v":1512.371444574519},{"$f":"MAX(COUNTRY_INFO!D161*AK161*PROFILE!$G$8,COUNTRY_INFO!D161*AL161*PROFILE!$G$8,COUNTRY_INFO!D161*AM161*PROFILE!$G$8)","v":7116.9850367585368},{"$f":"MAX(COUNTRY_INFO!D161*AK161*PROFILE!$G$9,COUNTRY_INFO!D161*AL161*PROFILE!$G$9,COUNTRY_INFO!D161*AM161*PROFILE!$G$9,IF(AND(DISTRICT!Z161<>\"Unknown\",Z161<>\"Not required\"),COUNTRY_INFO!P161*DISTRICT!AN161,0))","v":12410.248592244463},{"$f":"MAX(COUNTRY_INFO!D161*AK161*PROFILE!$G$10,COUNTRY_INFO!D161*AL161*PROFILE!$G$10,IF(AND(DISTRICT!Z161<>\"Unknown\",Z161<>\"Not required\"),COUNTRY_INFO!P161*DISTRICT!AO161,0))","v":23441.58990943661},44481.194983014131,0,{"$f":"MAX('MDA4'!R161,'T1'!L161,'T2'!J161,T3_R1!K161,T3_R2!K161)","v":0},{"$f":"MAX('MDA1'!K161,'MDA4'!S161,'MDA3'!I161,'MDA3'!L161,'T1'!M161,'T2'!K161,T3_R1!L161,T3_R2!L161)","v":11487},{"$f":"MAX('MDA1'!L161,'MDA4'!T161,'MDA3'!J161,'MDA3'!M161,'T1'!N161,'T2'!L161,T3_R1!M161,T3_R2!M161)","v":0},11487,{"$f":"MAX('MDA4'!R161,T161)","v":0},{"$f":"MAX('MDA1'!K161,'MDA4'!S161,'MDA3'!I161,'MDA3'!L161,V161,AD161)","v":11487},{"$f":"MAX('MDA1'!L161,'MDA4'!T161,'MDA3'!J161,'MDA3'!M161,AF161)","v":0},11487,25.824396139506817]
[{"$f":"IF(COUNTRY_INFO!A162=0,\" \",COUNTRY_INFO!A162)","v":"Angola"},{"$f":"IF(COUNTRY_INFO!B162=0,\" \",COUNTRY_INFO!B162)","v":"UIGE"},{"$f":"IF(COUNTRY_INFO!C162=0,\" \",COUNTRY_INFO!C162)","v":"QUIMBELE"},{"$f":"COUNTRY_INFO!M162","v":0},null,null,{"$f":"MAX('MDA1'!M162,'MDA4'!U162)","v":0},{"$f":"IF(AND(COUNTRY_INFO!H162>0,COUNTRY_INFO!H162<4),IF(D162>MAX('MDA1'!M162,'MDA4'!U162),MAX('MDA1'!M162,'MDA4'!U162),D162),0)","v":0},{"$f":"IF(AND(COUNTRY_INFO!H162>0,COUNTRY_INFO!H162<4), IF(G162/D162*100<>0, IF(G162/D162*100>100,100,G162/D162*100), \"-\"),0)","v":0},{"$f":"COUNTRY_INFO!N162","v":"Unknown"},null,null,{"$f":"MAX('MDA1'!M162,MAX('MDA3'!I162,'MDA3'!L162)+MAX('MDA3'!J162,'MDA3'!M162))","v":0},{"$f":"IF(AND(COUNTRY_INFO!I162>0,COUNTRY_INFO!I162<4),IF(J162>MAX('MDA1'!M162,MAX('MDA3'!I162,'MDA3'!L162)+MAX('MDA3'!J162,'MDA3'!M162)),MAX('MDA1'!M162,MAX('MDA3'!I162,'MDA3'!L162)+MAX('MDA3'!J162,'MDA3'!M162)),J162),0)","v":0},{"$f":"IF(AND(COUNTRY_INFO!I162>0,COUNTRY_INFO!I162<4), IF(M162/J162*100<>0, IF(M162/J162*100>100,100,M162/J162*100), \"-\"),0)","v":0},{"$f":"COUNTRY_INFO!O162","v":70308},null,null,{"$f":"SUM(MAX('MDA4'!R162, 'T1'!L162, MAX(T3_R1!K162, T3_R2!K162)), MAX('MDA1'!K162, 'MDA4'!S162, 'T1'!M162, MAX(T3_R1!L162, T3_R2!L162)), MAX('MDA1'!L162, 'MDA4'!T162, 'T1'!N162, MAX(T3_R1!M162, T3_R2!M162)))","v":36248},{"$f":"IF(AND(COUNTRY_INFO!J162>1,COUNTRY_INFO!J162<4),IF(COUNTRY_INFO!E162>MAX('MDA4'!R162,'T1'!L162,MAX(T3_R1!K162,T3_R2!K162)),MAX('MDA4'!R162,'T1'!L162,MAX(T3_R1!K162,T3_R2!K162)),COUNTRY_INFO!E162),0)","v":0},{"$f":"IF(AND(COUNTRY_INFO!J162>1,COUNTRY_INFO!J162<4), IF(T162/COUNTRY_INFO!E162*100<>0, IF(T162/COUNTRY_INFO!E162*100>100,100,T162/COUNTRY_INFO!E162*100), \"-\"),0)","v":"-"},{"$f":"IF(AND(COUNTRY_INFO!J162>1,COUNTRY_INFO!J162<4),IF(COUNTRY_INFO!F162>MAX('MDA1'!K162,'MDA4'!S162,'T1'!M162,MAX(T3_R1!L162,T3_R2!L162)),MAX('MDA1'!K162,'MDA4'!S162,'T1'!M162,MAX(T3_R1!L162,T3_R2!L162)),COUNTRY_INFO!F162),0)","v":36248},{"$f":"IF(AND(COUNTRY_INFO!J162>1,COUNTRY_INFO!J162<4), IF(V162/COUNTRY_INFO!F162*100<>0, IF(V162/COUNTRY_INFO!F162*100>100,100,V162/COUNTRY_INFO!F162*100), \"-\"),0)","v":81.122574580936828},36248,{"$f":"IF(AND(COUNTRY_INFO!J162>1,COUNTRY_INFO!J162<4), IF(S162/P162*100<>0, IF(X162/P162*100>100,100,X162/P162*100), \"-\"),0)","v":51.556010695795642},{"$f":"COUNTRY_INFO!P162","v":14745.390000000001},null,null,{"$f":"MAX('T1'!L162,'T2'!J162)+MAX('T1'!M162,'T2'!K162)+MAX('T1'!N162,'T2'!L162)","v":35430},{"$f":"IF(COUNTRY_INFO!K162=1,IF(COUNTRY_INFO!F162*0.33>MAX('T1'!M162,'T2'!K162),MAX('T1'!M162,'T2'!K162),COUNTRY_INFO!F162*0.33),IF(COUNTRY_INFO!K162=2,IF(COUNTRY_INFO!F162*0.5>MAX('T1'!M162,'T2'!K162),MAX('T1'!M162,'T2'!K162),COUNTRY_INFO!F162*0.5),IF(COUNTRY_INFO!K162=3,IF(COUNTRY_INFO!F162>MAX('T1'!M162,'T2'!K162),MAX('T1'!M162,'T2'!K162),COUNTRY_INFO!F162),0)))","v":14745.390000000001},{"$f":"IF(AND(COUNTRY_INFO!K162>0,COUNTRY_INFO!L162<4),IF(Z162>0,IF(COUNTRY_INFO!K162=1, AD162/(COUNTRY_INFO!F162*0.33)*100, IF(COUNTRY_INFO!K162=2, AD162/(COUNTRY_INFO!F162*0.5)*100, IF(COUNTRY_INFO!K162=3, AD162/COUNTRY_INFO!F162*100))),\"-\"),0)","v":100},{"$f":"IF(COUNTRY_INFO!K162=2,IF(COUNTRY_INFO!G162*0.2>MAX('T1'!N162,'T2'!L162),MAX('T1'!N162,'T2'!L162),COUNTRY_INFO!G162*0.2),IF(COUNTRY_INFO!K162=3,IF(COUNTRY_INFO!G162>MAX('T1'!N162,'T2'!L162),MAX('T1'!N162,'T2'!L162),COUNTRY_INFO!G162),0))","v":0},{"$f":"IF(AND(COUNTRY_INFO!K162>0,COUNTRY_INFO!L162<4),IF(Z162>0,IF(COUNTRY_INFO!K162=1, 0, IF(COUNTRY_INFO!K162=2, AF162/(COUNTRY_INFO!G162*0.2)*100, IF(COUNTRY_INFO!K162=3, AF162/COUNTRY_INFO!G162*100))),\"-\"),0)","v":0},14745.390000000001,{"$f":"IF(AND(COUNTRY_INFO!K162>0,COUNTRY_INFO!K162<4), IF(AC162/Z162*100<>0, IF(AH162/Z162*100>100,100,AH162/Z162*100), \"-\"),0)","v":100},null,{"$f":"IF(AND(D162<>0, D162<>\"Unknown\",D162<>\"Stopped\",D162<>\"Not required\"),D162/COUNTRY_INFO!D162, 0)","v":0},{"$f":"IF(AND(J162<>0,J162<>\"Unknown\",J162<>\"Stopped\",J162<>\"Not required\"),J162/COUNTRY_INFO!D162, 0)","v":0},{"$f":"IF(AND(P162<>0,P162<>\"Unknown\",P162<>\"Not required\"),P162/(COUNTRY_INFO!E162+COUNTRY_INFO!F162), 0)","v":1},{"$f":"IF(AND(Z162<>0,Z162<>\"Unknown\",Z162<>\"Not required\"),IF(COUNTRY_INFO!K162=1,1,IF(COUNTRY_INFO!K162=2,0.5*COUNTRY_INFO!F162/(0.5*COUNTRY_INFO!F162+0.2*COUNTRY_INFO!G162),IF(COUNTRY_INFO!K162=3,COUNTRY_INFO!F162/(COUNTRY_INFO!F162+COUNTRY_INFO!G162)))),0)","v":1},{"$f":"IF(AND(Z162<>0,Z162<>\"Unknown\",Z162<>\"Not required\"),IF(COUNTRY_INFO!K162=1,0,IF(COUNTRY_INFO!K162=2,0.2*COUNTRY_INFO!G162/(0.5*COUNTRY_INFO!F162+0.2*COUNTRY_INFO!G162),IF(COUNTRY_INFO!K162=3,COUNTRY_INFO!G162/(COUNTRY_INFO!F162+COUNTRY_INFO!G162)))),0)","v":0},{"$f":"MAX(COUNTRY_INFO!D162*AK162*PROFILE!$G$7,COUNTRY_INFO!D162*AL162*PROFILE!$G$7)","v":0},{"$f":"MAX(COUNTRY_INFO!D162*AK162*PROFILE!$G$8,COUNTRY_INFO!D162*AL162*PROFILE!$G$8,COUNTRY_INFO!D162*AM162*PROFILE!$G$8)","v":25624.900806578564},{"$f":"MAX(COUNTRY_INFO!D162*AK162*PROFILE!$G$9,COUNTRY_INFO!D162*AL162*PROFILE!$G$9,COUNTRY_INFO!D162*AM162*PROFILE!$G$9,IF(AND(DISTRICT!Z162<>\"Unknown\",Z162<>\"Not required\"),COUNTRY_INFO!P162*DISTRICT!AN162,0))","v":44683.442148430498},{"$f":"MAX(COUNTRY_INFO!D162*AK162*PROFILE!$G$10,COUNTRY_INFO!D162*AL162*PROFILE!$G$10,IF(AND(DISTRICT!Z162<>\"Unknown\",Z162<>\"Not required\"),COUNTRY_INFO!P162*DISTRICT!AO162,0))","v":0},70308.342955009066,"Y",{"$f":"MAX('MDA4'!R162,'T1'!L162,'T2'!J162,T3_R1!K162,T3_R2!K162)","v":0},{"$f":"MAX('MDA1'!K162,'MDA4'!S162,'MDA3'!I162,'MDA3'!L162,'T1'!M162,'T2'!K162,T3_R1!L162,T3_R2!L162)","v":36248},{"$f":"MAX('MDA1'!L162,'MDA4'!T162,'MDA3'!J162,'MDA3'!M162,'T1'!N162,'T2'!L162,T3_R1!M162,T3_R2!M162)","v":0},36248,{"$f":"MAX('MDA4'!R162,T162)","v":0},{"$f":"MAX('MDA1'!K162,'MDA4'!S162,'MDA3'!I162,'MDA3'!L162,V162,AD162)","v":36248},{"$f":"MAX('MDA1'!L162,'MDA4'!T162,'MDA3'!J162,'MDA3'!M162,AF162)","v":0},36248,51.555759212239458]
[{"$f":"IF(COUNTRY_INFO!A163=0,\" \",COUNTRY_INFO!A163)","v":"Angola"},{"$f":"IF(COUNTRY_INFO!B163=0,\" \",COUNTRY_INFO!B163)","v":"UIGE"},{"$f":"IF(COUNTRY_INFO!C163=0,\" \",COUNTRY_INFO!C163)","v":"QUITEXE"},{"$f":"COUNTRY_INFO!M163","v":0},null,null,{"$f":"MAX('MDA1'!M163,'MDA4'!U163)","v":0},{"$f":"IF(AND(COUNTRY_INFO!H163>0,COUNTRY_INFO!H163<4),IF(D163>MAX('MDA1'!M163,'MDA4'!U163),MAX('MDA1'!M163,'MDA4'!U163),D163),0)","v":0},{"$f":"IF(AND(COUNTRY_INFO!H163>0,COUNTRY_INFO!H163<4), IF(G163/D163*100<>0, IF(G163/D163*100>100,100,G163/D163*100), \"-\"),0)","v":0},{"$f":"COUNTRY_INFO!N163","v":40241.929420533779},null,null,{"$f":"MAX('MDA1'!M163,MAX('MDA3'!I163,'MDA3'!L163)+MAX('MDA3'!J163,'MDA3'!M163))","v":0},{"$f":"IF(AND(COUNTRY_INFO!I163>0,COUNTRY_INFO!I163<4),IF(J163>MAX('MDA1'!M163,MAX('MDA3'!I163,'MDA3'!L163)+MAX('MDA3'!J163,'MDA3'!M163)),MAX('MDA1'!M163,MAX('MDA3'!I163,'MDA3'!L163)+MAX('MDA3'!J163,'MDA3'!M163)),J163),0)","v":0},{"$f":"IF(AND(COUNTRY_INFO!I163>0,COUNTRY_INFO!I163<4), IF(M163/J163*100<>0, IF(M163/J163*100>100,100,M163/J163*100), \"-\"),0)","v":"-"},{"$f":"COUNTRY_INFO!O163","v":17666},null,null,{"$f":"SUM(MAX('MDA4'!R163, 'T1'!L163, MAX(T3_R1!K163, T3_R2!K163)), MAX('MDA1'!K163, 'MDA4'!S163, 'T1'!M163, MAX(T3_R1!L163, T3_R2!L163)), MAX('MDA1'!L163, 'MDA4'!T163, 'T1'!N163, MAX(T3_R1!M163, T3_R2!M163)))","v":10720},{"$f":"IF(AND(COUNTRY_INFO!J163>1,COUNTRY_INFO!J163<4),IF(COUNTRY_INFO!E163>MAX('MDA4'!R163,'T1'!L163,MAX(T3_R1!K163,T3_R2!K163)),MAX('MDA4'!R163,'T1'!L163,MAX(T3_R1!K163,T3_R2!K163)),COUNTRY_INFO!E163),0)","v":0},{"$f":"IF(AND(COUNTRY_INFO!J163>1,COUNTRY_INFO!J163<4), IF(T163/COUNTRY_INFO!E163*100<>0, IF(T163/COUNTRY_INFO!E163*100>100,100,T163/COUNTRY_INFO!E163*100), \"-\"),0)","v":"-"},{"$f":"IF(AND(COUNTRY_INFO!J163>1,COUNTRY_INFO!J163<4),IF(COUNTRY_INFO!F163>MAX('MDA1'!K163,'MDA4'!S163,'T1'!M163,MAX(T3_R1!L163,T3_R2!L163)),MAX('MDA1'!K163,'MDA4'!S163,'T1'!M163,MAX(T3_R1!L163,T3_R2!L163)),COUNTRY_INFO!F163),0)","v":10720},{"$f":"IF(AND(COUNTRY_INFO!J163>1,COUNTRY_INFO!J163<4), IF(V163/COUNTRY_INFO!F163*100<>0, IF(V163/COUNTRY_INFO!F163*100>100,100,V163/COUNTRY_INFO!F163*100), \"-\"),0)","v":95.484100828360212},10720,{"$f":"IF(AND(COUNTRY_INFO!J163>1,COUNTRY_INFO!J163<4), IF(S163/P163*100<>0, IF(X163/P163*100>100,100,X163/P163*100), \"-\"),0)","v":60.681535152269895},{"$f":"COUNTRY_INFO!P163","v":3704.9100000000003},null,null,{"$f":"MAX('T1'!L163,'T2'!J163)+MAX('T1'!M163,'T2'!K163)+MAX('T1'!N163,'T2'!L163)","v":10720},{"$f":"IF(COUNTRY_INFO!K163=1,IF(COUNTRY_INFO!F163*0.33>MAX('T1'!M163,'T2'!K163),MAX('T1'!M163,'T2'!K163),COUNTRY_INFO!F163*0.33),IF(COUNTRY_INFO!K163=2,IF(COUNTRY_INFO!F163*0.5>MAX('T1'!M163,'T2'!K163),MAX('T1'!M163,'T2'!K163),COUNTRY_INFO!F163*0.5),IF(COUNTRY_INFO!K163=3,IF(COUNTRY_INFO!F163>MAX('T1'!M163,'T2'!K163),MAX('T1'!M163,'T2'!K163),COUNTRY_INFO!F163),0)))","v":3704.9100000000003},{"$f":"IF(AND(COUNTRY_INFO!K163>0,COUNTRY_INFO!L163<4),IF(Z163>0,IF(COUNTRY_INFO!K163=1, AD163/(COUNTRY_INFO!F163*0.33)*100, IF(COUNTRY_INFO!K163=2, AD163/(COUNTRY_INFO!F163*0.5)*100, IF(COUNTRY_INFO!K163=3, AD163/COUNTRY_INFO!F163*100))),\"-\"),0)","v":100},{"$f":"IF(COUNTRY_INFO!K163=2,IF(COUNTRY_INFO!G163*0.2>MAX('T1'!N163,'T2'!L163),MAX('T1'!N163,'T2'!L163),COUNTRY_INFO!G163*0.2),IF(COUNTRY_INFO!K163=3,IF(COUNTRY_INFO!G163>MAX('T1'!N163,'T2'!L163),MAX('T1'!N163,'T2'!L163),COUNTRY_INFO!G163),0))","v":0},{"$f":"IF(AND(COUNTRY_INFO!K163>0,COUNTRY_INFO!L163<4),IF(Z163>0,IF(COUNTRY_INFO!K163=1, 0, IF(COUNTRY_INFO!K163=2, AF163/(COUNTRY_INFO!G163*0.2)*100, IF(COUNTRY_INFO!K163=3, AF163/COUNTRY_INFO!G163*100))),\"-\"),0)","v":0},3704.9100000000003,{"$f":"IF(AND(COUNTRY_INFO!K163>0,COUNTRY_INFO!K163<4), IF(AC163/Z163*100<>0, IF(AH163/Z163*100>100,100,AH163/Z163*100), \"-\"),0)","v":100},null,{"$f":"IF(AND(D163<>0, D163<>\"Unknown\",D163<>\"Stopped\",D163<>\"Not required\"),D163/COUNTRY_INFO!D163, 0)","v":0},{"$f":"IF(AND(J163<>0,J163<>\"Unknown\",J163<>\"Stopped\",J163<>\"Not required\"),J163/COUNTRY_INFO!D163, 0)","v":1},{"$f":"IF(AND(P163<>0,P163<>\"Unknown\",P163<>\"Not required\"),P163/(COUNTRY_INFO!E163+COUNTRY_INFO!F163), 0)","v":1},{"$f":"IF(AND(Z163<>0,Z163<>\"Unknown\",Z163<>\"Not required\"),IF(COUNTRY_INFO!K163=1,1,IF(COUNTRY_INFO!K163=2,0.5*COUNTRY_INFO!F163/(0.5*COUNTRY_INFO!F163+0.2*COUNTRY_INFO!G163),IF(COUNTRY_INFO!K163=3,COUNTRY_INFO!F163/(COUNTRY_INFO!F163+COUNTRY_INFO!G163)))),0)","v":1},{"$f":"IF(AND(Z163<>0,Z163<>\"Unknown\",Z163<>\"Not required\"),IF(COUNTRY_INFO!K163=1,0,IF(COUNTRY_INFO!K163=2,0.2*COUNTRY_INFO!G163/(0.5*COUNTRY_INFO!F163+0.2*COUNTRY_INFO!G163),IF(COUNTRY_INFO!K163=3,COUNTRY_INFO!G163/(COUNTRY_INFO!F163+COUNTRY_INFO!G163)))),0)","v":0},{"$f":"MAX(COUNTRY_INFO!D163*AK163*PROFILE!$G$7,COUNTRY_INFO!D163*AL163*PROFILE!$G$7)","v":1368.2353847157024},{"$f":"MAX(COUNTRY_INFO!D163*AK163*PROFILE!$G$8,COUNTRY_INFO!D163*AL163*PROFILE!$G$8,COUNTRY_INFO!D163*AM163*PROFILE!$G$8)","v":6438.7031338883553},{"$f":"MAX(COUNTRY_INFO!D163*AK163*PROFILE!$G$9,COUNTRY_INFO!D163*AL163*PROFILE!$G$9,COUNTRY_INFO!D163*AM163*PROFILE!$G$9,IF(AND(DISTRICT!Z163<>\"Unknown\",Z163<>\"Not required\"),COUNTRY_INFO!P163*DISTRICT!AN163,0))","v":11227.493958538864},{"$f":"MAX(COUNTRY_INFO!D163*AK163*PROFILE!$G$10,COUNTRY_INFO!D163*AL163*PROFILE!$G$10,IF(AND(DISTRICT!Z163<>\"Unknown\",Z163<>\"Not required\"),COUNTRY_INFO!P163*DISTRICT!AO163,0))","v":21207.496943390859},40241.929420533779,0,{"$f":"MAX('MDA4'!R163,'T1'!L163,'T2'!J163,T3_R1!K163,T3_R2!K163)","v":0},{"$f":"MAX('MDA1'!K163,'MDA4'!S163,'MDA3'!I163,'MDA3'!L163,'T1'!M163,'T2'!K163,T3_R1!L163,T3_R2!L163)","v":10720},{"$f":"MAX('MDA1'!L163,'MDA4'!T163,'MDA3'!J163,'MDA3'!M163,'T1'!N163,'T2'!L163,T3_R1!M163,T3_R2!M163)","v":0},10720,{"$f":"MAX('MDA4'!R163,T163)","v":0},{"$f":"MAX('MDA1'!K163,'MDA4'!S163,'MDA3'!I163,'MDA3'!L163,V163,AD163)","v":10720},{"$f":"MAX('MDA1'!L163,'MDA4'!T163,'MDA3'!J163,'MDA3'!M163,AF163)","v":0},10720,26.638881769247451]
[{"$f":"IF(COUNTRY_INFO!A164=0,\" \",COUNTRY_INFO!A164)","v":"Angola"},{"$f":"IF(COUNTRY_INFO!B164=0,\" \",COUNTRY_INFO!B164)","v":"UIGE"},{"$f":"IF(COUNTRY_INFO!C164=0,\" \",COUNTRY_INFO!C164)","v":"SANZA POMBO"},{"$f":"COUNTRY_INFO!M164","v":0},null,null,{"$f":"MAX('MDA1'!M164,'MDA4'!U164)","v":0},{"$f":"IF(AND(COUNTRY_INFO!H164>0,COUNTRY_INFO!H164<4),IF(D164>MAX('MDA1'!M164,'MDA4'!U164),MAX('MDA1'!M164,'MDA4'!U164),D164),0)","v":0},{"$f":"IF(AND(COUNTRY_INFO!H164>0,COUNTRY_INFO!H164<4), IF(G164/D164*100<>0, IF(G164/D164*100>100,100,G164/D164*100), \"-\"),0)","v":0},{"$f":"COUNTRY_INFO!N164","v":"Unknown"},null,null,{"$f":"MAX('MDA1'!M164,MAX('MDA3'!I164,'MDA3'!L164)+MAX('MDA3'!J164,'MDA3'!M164))","v":0},{"$f":"IF(AND(COUNTRY_INFO!I164>0,COUNTRY_INFO!I164<4),IF(J164>MAX('MDA1'!M164,MAX('MDA3'!I164,'MDA3'!L164)+MAX('MDA3'!J164,'MDA3'!M164)),MAX('MDA1'!M164,MAX('MDA3'!I164,'MDA3'!L164)+MAX('MDA3'!J164,'MDA3'!M164)),J164),0)","v":0},{"$f":"IF(AND(COUNTRY_INFO!I164>0,COUNTRY_INFO!I164<4), IF(M164/J164*100<>0, IF(M164/J164*100>100,100,M164/J164*100), \"-\"),0)","v":0},{"$f":"COUNTRY_INFO!O164","v":35228},null,null,{"$f":"SUM(MAX('MDA4'!R164, 'T1'!L164, MAX(T3_R1!K164, T3_R2!K164)), MAX('MDA1'!K164, 'MDA4'!S164, 'T1'!M164, MAX(T3_R1!L164, T3_R2!L164)), MAX('MDA1'!L164, 'MDA4'!T164, 'T1'!N164, MAX(T3_R1!M164, T3_R2!M164)))","v":19086},{"$f":"IF(AND(COUNTRY_INFO!J164>1,COUNTRY_INFO!J164<4),IF(COUNTRY_INFO!E164>MAX('MDA4'!R164,'T1'!L164,MAX(T3_R1!K164,T3_R2!K164)),MAX('MDA4'!R164,'T1'!L164,MAX(T3_R1!K164,T3_R2!K164)),COUNTRY_INFO!E164),0)","v":0},{"$f":"IF(AND(COUNTRY_INFO!J164>1,COUNTRY_INFO!J164<4), IF(T164/COUNTRY_INFO!E164*100<>0, IF(T164/COUNTRY_INFO!E164*100>100,100,T164/COUNTRY_INFO!E164*100), \"-\"),0)","v":"-"},{"$f":"IF(AND(COUNTRY_INFO!J164>1,COUNTRY_INFO!J164<4),IF(COUNTRY_INFO!F164>MAX('MDA1'!K164,'MDA4'!S164,'T1'!M164,MAX(T3_R1!L164,T3_R2!L164)),MAX('MDA1'!K164,'MDA4'!S164,'T1'!M164,MAX(T3_R1!L164,T3_R2!L164)),COUNTRY_INFO!F164),0)","v":19086},{"$f":"IF(AND(COUNTRY_INFO!J164>1,COUNTRY_INFO!J164<4), IF(V164/COUNTRY_INFO!F164*100<>0, IF(V164/COUNTRY_INFO!F164*100>100,100,V164/COUNTRY_INFO!F164*100), \"-\"),0)","v":85.247219616776093},19086,{"$f":"IF(AND(COUNTRY_INFO!J164>1,COUNTRY_INFO!J164<4), IF(S164/P164*100<>0, IF(X164/P164*100>100,100,X164/P164*100), \"-\"),0)","v":54.178494379470877},{"$f":"COUNTRY_INFO!P164","v":7388.3700000000008},null,null,{"$f":"MAX('T1'!L164,'T2'!J164)+MAX('T1'!M164,'T2'!K164)+MAX('T1'!N164,'T2'!L164)","v":19086},{"$f":"IF(COUNTRY_INFO!K164=1,IF(COUNTRY_INFO!F164*0.33>MAX('T1'!M164,'T2'!K164),MAX('T1'!M164,'T2'!K164),COUNTRY_INFO!F164*0.33),IF(COUNTRY_INFO!K164=2,IF(COUNTRY_INFO!F164*0.5>MAX('T1'!M164,'T2'!K164),MAX('T1'!M164,'T2'!K164),COUNTRY_INFO!F164*0.5),IF(COUNTRY_INFO!K164=3,IF(COUNTRY_INFO!F164>MAX('T1'!M164,'T2'!K164),MAX('T1'!M164,'T2'!K164),COUNTRY_INFO!F164),0)))","v":7388.3700000000008},{"$f":"IF(AND(COUNTRY_INFO!K164>0,COUNTRY_INFO!L164<4),IF(Z164>0,IF(COUNTRY_INFO!K164=1, AD164/(COUNTRY_INFO!F164*0.33)*100, IF(COUNTRY_INFO!K164=2, AD164/(COUNTRY_INFO!F164*0.5)*100, IF(COUNTRY_INFO!K164=3, AD164/COUNTRY_INFO!F164*100))),\"-\"),0)","v":100},{"$f":"IF(COUNTRY_INFO!K164=2,IF(COUNTRY_INFO!G164*0.2>MAX('T1'!N164,'T2'!L164),MAX('T1'!N164,'T2'!L164),COUNTRY_INFO!G164*0.2),IF(COUNTRY_INFO!K164=3,IF(COUNTRY_INFO!G164>MAX('T1'!N164,'T2'!L164),MAX('T1'!N164,'T2'!L164),COUNTRY_INFO!G164),0))","v":0},{"$f":"IF(AND(COUNTRY_INFO!K164>0,COUNTRY_INFO!L164<4),IF(Z164>0,IF(COUNTRY_INFO!K164=1, 0, IF(COUNTRY_INFO!K164=2, AF164/(COUNTRY_INFO!G164*0.2)*100, IF(COUNTRY_INFO!K164=3, AF164/COUNTRY_INFO!G164*100))),\"-\"),0)","v":0},7388.3700000000008,{"$f":"IF(AND(COUNTRY_INFO!K164>0,COUNTRY_INFO!K164<4), IF(AC164/Z164*100<>0, IF(AH164/Z164*100>100,100,AH164/Z164*100), \"-\"),0)","v":100},null,{"$f":"IF(AND(D164<>0, D164<>\"Unknown\",D164<>\"Stopped\",D164<>\"Not required\"),D164/COUNTRY_INFO!D164, 0)","v":0},{"$f":"IF(AND(J164<>0,J164<>\"Unknown\",J164<>\"Stopped\",J164<>\"Not required\"),J164/COUNTRY_INFO!D164, 0)","v":0},{"$f":"IF(AND(P164<>0,P164<>\"Unknown\",P164<>\"Not required\"),P164/(COUNTRY_INFO!E164+COUNTRY_INFO!F164), 0)","v":1},{"$f":"IF(AND(Z164<>0,Z164<>\"Unknown\",Z164<>\"Not required\"),IF(COUNTRY_INFO!K164=1,1,IF(COUNTRY_INFO!K164=2,0.5*COUNTRY_INFO!F164/(0.5*COUNTRY_INFO!F164+0.2*COUNTRY_INFO!G164),IF(COUNTRY_INFO!K164=3,COUNTRY_INFO!F164/(COUNTRY_INFO!F164+COUNTRY_INFO!G164)))),0)","v":1},{"$f":"IF(AND(Z164<>0,Z164<>\"Unknown\",Z164<>\"Not required\"),IF(COUNTRY_INFO!K164=1,0,IF(COUNTRY_INFO!K164=2,0.2*COUNTRY_INFO!G164/(0.5*COUNTRY_INFO!F164+0.2*COUNTRY_INFO!G164),IF(COUNTRY_INFO!K164=3,COUNTRY_INFO!G164/(COUNTRY_INFO!F164+COUNTRY_INFO!G164)))),0)","v":0},{"$f":"MAX(COUNTRY_INFO!D164*AK164*PROFILE!$G$7,COUNTRY_INFO!D164*AL164*PROFILE!$G$7)","v":0},{"$f":"MAX(COUNTRY_INFO!D164*AK164*PROFILE!$G$8,COUNTRY_INFO!D164*AL164*PROFILE!$G$8,COUNTRY_INFO!D164*AM164*PROFILE!$G$8)","v":12839.296324161254},{"$f":"MAX(COUNTRY_INFO!D164*AK164*PROFILE!$G$9,COUNTRY_INFO!D164*AL164*PROFILE!$G$9,COUNTRY_INFO!D164*AM164*PROFILE!$G$9,IF(AND(DISTRICT!Z164<>\"Unknown\",Z164<>\"Not required\"),COUNTRY_INFO!P164*DISTRICT!AN164,0))","v":22388.533671120844},{"$f":"MAX(COUNTRY_INFO!D164*AK164*PROFILE!$G$10,COUNTRY_INFO!D164*AL164*PROFILE!$G$10,IF(AND(DISTRICT!Z164<>\"Unknown\",Z164<>\"Not required\"),COUNTRY_INFO!P164*DISTRICT!AO164,0))","v":0},35227.829995282096,"Y",{"$f":"MAX('MDA4'!R164,'T1'!L164,'T2'!J164,T3_R1!K164,T3_R2!K164)","v":0},{"$f":"MAX('MDA1'!K164,'MDA4'!S164,'MDA3'!I164,'MDA3'!L164,'T1'!M164,'T2'!K164,T3_R1!L164,T3_R2!L164)","v":19086},{"$f":"MAX('MDA1'!L164,'MDA4'!T164,'MDA3'!J164,'MDA3'!M164,'T1'!N164,'T2'!L164,T3_R1!M164,T3_R2!M164)","v":0},19086,{"$f":"MAX('MDA4'!R164,T164)","v":0},{"$f":"MAX('MDA1'!K164,'MDA4'!S164,'MDA3'!I164,'MDA3'!L164,V164,AD164)","v":19086},{"$f":"MAX('MDA1'!L164,'MDA4'!T164,'MDA3'!J164,'MDA3'!M164,AF164)","v":0},19086,54.178755837518523]
[{"$f":"IF(COUNTRY_INFO!A165=0,\" \",COUNTRY_INFO!A165)","v":"Angola"},{"$f":"IF(COUNTRY_INFO!B165=0,\" \",COUNTRY_INFO!B165)","v":"UIGE"},{"$f":"IF(COUNTRY_INFO!C165=0,\" \",COUNTRY_INFO!C165)","v":"SONGO"},{"$f":"COUNTRY_INFO!M165","v":72373.755445588962},null,null,{"$f":"MAX('MDA1'!M165,'MDA4'!U165)","v":0},{"$f":"IF(AND(COUNTRY_INFO!H165>0,COUNTRY_INFO!H165<4),IF(D165>MAX('MDA1'!M165,'MDA4'!U165),MAX('MDA1'!M165,'MDA4'!U165),D165),0)","v":0},{"$f":"IF(AND(COUNTRY_INFO!H165>0,COUNTRY_INFO!H165<4), IF(G165/D165*100<>0, IF(G165/D165*100>100,100,G165/D165*100), \"-\"),0)","v":"-"},{"$f":"COUNTRY_INFO!N165","v":72373.755445588962},null,null,{"$f":"MAX('MDA1'!M165,MAX('MDA3'!I165,'MDA3'!L165)+MAX('MDA3'!J165,'MDA3'!M165))","v":0},{"$f":"IF(AND(COUNTRY_INFO!I165>0,COUNTRY_INFO!I165<4),IF(J165>MAX('MDA1'!M165,MAX('MDA3'!I165,'MDA3'!L165)+MAX('MDA3'!J165,'MDA3'!M165)),MAX('MDA1'!M165,MAX('MDA3'!I165,'MDA3'!L165)+MAX('MDA3'!J165,'MDA3'!M165)),J165),0)","v":0},{"$f":"IF(AND(COUNTRY_INFO!I165>0,COUNTRY_INFO!I165<4), IF(M165/J165*100<>0, IF(M165/J165*100>100,100,M165/J165*100), \"-\"),0)","v":"-"},{"$f":"COUNTRY_INFO!O165","v":31772},null,null,{"$f":"SUM(MAX('MDA4'!R165, 'T1'!L165, MAX(T3_R1!K165, T3_R2!K165)), MAX('MDA1'!K165, 'MDA4'!S165, 'T1'!M165, MAX(T3_R1!L165, T3_R2!L165)), MAX('MDA1'!L165, 'MDA4'!T165, 'T1'!N165, MAX(T3_R1!M165, T3_R2!M165)))","v":16651},{"$f":"IF(AND(COUNTRY_INFO!J165>1,COUNTRY_INFO!J165<4),IF(COUNTRY_INFO!E165>MAX('MDA4'!R165,'T1'!L165,MAX(T3_R1!K165,T3_R2!K165)),MAX('MDA4'!R165,'T1'!L165,MAX(T3_R1!K165,T3_R2!K165)),COUNTRY_INFO!E165),0)","v":0},{"$f":"IF(AND(COUNTRY_INFO!J165>1,COUNTRY_INFO!J165<4), IF(T165/COUNTRY_INFO!E165*100<>0, IF(T165/COUNTRY_INFO!E165*100>100,100,T165/COUNTRY_INFO!E165*100), \"-\"),0)","v":"-"},{"$f":"IF(AND(COUNTRY_INFO!J165>1,COUNTRY_INFO!J165<4),IF(COUNTRY_INFO!F165>MAX('MDA1'!K165,'MDA4'!S165,'T1'!M165,MAX(T3_R1!L165,T3_R2!L165)),MAX('MDA1'!K165,'MDA4'!S165,'T1'!M165,MAX(T3_R1!L165,T3_R2!L165)),COUNTRY_INFO!F165),0)","v":16651},{"$f":"IF(AND(COUNTRY_INFO!J165>1,COUNTRY_INFO!J165<4), IF(V165/COUNTRY_INFO!F165*100<>0, IF(V165/COUNTRY_INFO!F165*100>100,100,V165/COUNTRY_INFO!F165*100), \"-\"),0)","v":82.463351822503967},16651,{"$f":"IF(AND(COUNTRY_INFO!J165>1,COUNTRY_INFO!J165<4), IF(S165/P165*100<>0, IF(X165/P165*100>100,100,X165/P165*100), \"-\"),0)","v":52.407780435603676},{"$f":"COUNTRY_INFO!P165","v":58333},null,null,{"$f":"MAX('T1'!L165,'T2'!J165)+MAX('T1'!M165,'T2'!K165)+MAX('T1'!N165,'T2'!L165)","v":16651},{"$f":"IF(COUNTRY_INFO!K165=1,IF(COUNTRY_INFO!F165*0.33>MAX('T1'!M165,'T2'!K165),MAX('T1'!M165,'T2'!K165),COUNTRY_INFO!F165*0.33),IF(COUNTRY_INFO!K165=2,IF(COUNTRY_INFO!F165*0.5>MAX('T1'!M165,'T2'!K165),MAX('T1'!M165,'T2'!K165),COUNTRY_INFO!F165*0.5),IF(COUNTRY_INFO!K165=3,IF(COUNTRY_INFO!F165>MAX('T1'!M165,'T2'!K165),MAX('T1'!M165,'T2'!K165),COUNTRY_INFO!F165),0)))","v":16651},{"$f":"IF(AND(COUNTRY_INFO!K165>0,COUNTRY_INFO!L165<4),IF(Z165>0,IF(COUNTRY_INFO!K165=1, AD165/(COUNTRY_INFO!F165*0.33)*100, IF(COUNTRY_INFO!K165=2, AD165/(COUNTRY_INFO!F165*0.5)*100, IF(COUNTRY_INFO!K165=3, AD165/COUNTRY_INFO!F165*100))),\"-\"),0)","v":82.463351822503967},{"$f":"IF(COUNTRY_INFO!K165=2,IF(COUNTRY_INFO!G165*0.2>MAX('T1'!N165,'T2'!L165),MAX('T1'!N165,'T2'!L165),COUNTRY_INFO!G165*0.2),IF(COUNTRY_INFO!K165=3,IF(COUNTRY_INFO!G165>MAX('T1'!N165,'T2'!L165),MAX('T1'!N165,'T2'!L165),COUNTRY_INFO!G165),0))","v":0},{"$f":"IF(AND(COUNTRY_INFO!K165>0,COUNTRY_INFO!L165<4),IF(Z165>0,IF(COUNTRY_INFO!K165=1, 0, IF(COUNTRY_INFO!K165=2, AF165/(COUNTRY_INFO!G165*0.2)*100, IF(COUNTRY_INFO!K165=3, AF165/COUNTRY_INFO!G165*100))),\"-\"),0)","v":0},16651,{"$f":"IF(AND(COUNTRY_INFO!K165>0,COUNTRY_INFO!K165<4), IF(AC165/Z165*100<>0, IF(AH165/Z165*100>100,100,AH165/Z165*100), \"-\"),0)","v":28.54473454134024},null,{"$f":"IF(AND(D165<>0, D165<>\"Unknown\",D165<>\"Stopped\",D165<>\"Not required\"),D165/COUNTRY_INFO!D165, 0)","v":1},{"$f":"IF(AND(J165<>0,J165<>\"Unknown\",J165<>\"Stopped\",J165<>\"Not required\"),J165/COUNTRY_INFO!D165, 0)","v":1},{"$f":"IF(AND(P165<>0,P165<>\"Unknown\",P165<>\"Not required\"),P165/(COUNTRY_INFO!E165+COUNTRY_INFO!F165), 0)","v":1},{"$f":"IF(AND(Z165<>0,Z165<>\"Unknown\",Z165<>\"Not required\"),IF(COUNTRY_INFO!K165=1,1,IF(COUNTRY_INFO!K165=2,0.5*COUNTRY_INFO!F165/(0.5*COUNTRY_INFO!F165+0.2*COUNTRY_INFO!G165),IF(COUNTRY_INFO!K165=3,COUNTRY_INFO!F165/(COUNTRY_INFO!F165+COUNTRY_INFO!G165)))),0)","v":0.34615054943171103},{"$f":"IF(AND(Z165<>0,Z165<>\"Unknown\",Z165<>\"Not required\"),IF(COUNTRY_INFO!K165=1,0,IF(COUNTRY_INFO!K165=2,0.2*COUNTRY_INFO!G165/(0.5*COUNTRY_INFO!F165+0.2*COUNTRY_INFO!G165),IF(COUNTRY_INFO!K165=3,COUNTRY_INFO!G165/(COUNTRY_INFO!F165+COUNTRY_INFO!G165)))),0)","v":0.65384945056828891},{"$f":"MAX(COUNTRY_INFO!D165*AK165*PROFILE!$G$7,COUNTRY_INFO!D165*AL165*PROFILE!$G$7)","v":2460.7252820956342},{"$f":"MAX(COUNTRY_INFO!D165*AK165*PROFILE!$G$8,COUNTRY_INFO!D165*AL165*PROFILE!$G$8,COUNTRY_INFO!D165*AM165*PROFILE!$G$8)","v":11579.79084772725},{"$f":"MAX(COUNTRY_INFO!D165*AK165*PROFILE!$G$9,COUNTRY_INFO!D165*AL165*PROFILE!$G$9,COUNTRY_INFO!D165*AM165*PROFILE!$G$9,IF(AND(DISTRICT!Z165<>\"Unknown\",Z165<>\"Not required\"),COUNTRY_INFO!P165*DISTRICT!AN165,0))","v":20192.269946368317},{"$f":"MAX(COUNTRY_INFO!D165*AK165*PROFILE!$G$10,COUNTRY_INFO!D165*AL165*PROFILE!$G$10,IF(AND(DISTRICT!Z165<>\"Unknown\",Z165<>\"Not required\"),COUNTRY_INFO!P165*DISTRICT!AO165,0))","v":38141},72373.786076191202,0,{"$f":"MAX('MDA4'!R165,'T1'!L165,'T2'!J165,T3_R1!K165,T3_R2!K165)","v":0},{"$f":"MAX('MDA1'!K165,'MDA4'!S165,'MDA3'!I165,'MDA3'!L165,'T1'!M165,'T2'!K165,T3_R1!L165,T3_R2!L165)","v":16651},{"$f":"MAX('MDA1'!L165,'MDA4'!T165,'MDA3'!J165,'MDA3'!M165,'T1'!N165,'T2'!L165,T3_R1!M165,T3_R2!M165)","v":0},16651,{"$f":"MAX('MDA4'!R165,T165)","v":0},{"$f":"MAX('MDA1'!K165,'MDA4'!S165,'MDA3'!I165,'MDA3'!L165,V165,AD165)","v":16651},{"$f":"MAX('MDA1'!L165,'MDA4'!T165,'MDA3'!J165,'MDA3'!M165,AF165)","v":0},16651,23.006948928263515]
[{"$f":"IF(COUNTRY_INFO!A166=0,\" \",COUNTRY_INFO!A166)","v":"Angola"},{"$f":"IF(COUNTRY_INFO!B166=0,\" \",COUNTRY_INFO!B166)","v":"UIGE"},{"$f":"IF(COUNTRY_INFO!C166=0,\" \",COUNTRY_INFO!C166)","v":"UIGE"},{"$f":"COUNTRY_INFO!M166","v":609191.73068849894},null,null,{"$f":"MAX('MDA1'!M166,'MDA4'!U166)","v":0},{"$f":"IF(AND(COUNTRY_INFO!H166>0,COUNTRY_INFO!H166<4),IF(D166>MAX('MDA1'!M166,'MDA4'!U166),MAX('MDA1'!M166,'MDA4'!U166),D166),0)","v":0},{"$f":"IF(AND(COUNTRY_INFO!H166>0,COUNTRY_INFO!H166<4), IF(G166/D166*100<>0, IF(G166/D166*100>100,100,G166/D166*100), \"-\"),0)","v":"-"},{"$f":"COUNTRY_INFO!N166","v":"Unknown"},null,null,{"$f":"MAX('MDA1'!M166,MAX('MDA3'!I166,'MDA3'!L166)+MAX('MDA3'!J166,'MDA3'!M166))","v":0},{"$f":"IF(AND(COUNTRY_INFO!I166>0,COUNTRY_INFO!I166<4),IF(J166>MAX('MDA1'!M166,MAX('MDA3'!I166,'MDA3'!L166)+MAX('MDA3'!J166,'MDA3'!M166)),MAX('MDA1'!M166,MAX('MDA3'!I166,'MDA3'!L166)+MAX('MDA3'!J166,'MDA3'!M166)),J166),0)","v":0},{"$f":"IF(AND(COUNTRY_INFO!I166>0,COUNTRY_INFO!I166<4), IF(M166/J166*100<>0, IF(M166/J166*100>100,100,M166/J166*100), \"-\"),0)","v":0},{"$f":"COUNTRY_INFO!O166","v":267435},null,null,{"$f":"SUM(MAX('MDA4'!R166, 'T1'!L166, MAX(T3_R1!K166, T3_R2!K166)), MAX('MDA1'!K166, 'MDA4'!S166, 'T1'!M166, MAX(T3_R1!L166, T3_R2!L166)), MAX('MDA1'!L166, 'MDA4'!T166, 'T1'!N166, MAX(T3_R1!M166, T3_R2!M166)))","v":130486},{"$f":"IF(AND(COUNTRY_INFO!J166>1,COUNTRY_INFO!J166<4),IF(COUNTRY_INFO!E166>MAX('MDA4'!R166,'T1'!L166,MAX(T3_R1!K166,T3_R2!K166)),MAX('MDA4'!R166,'T1'!L166,MAX(T3_R1!K166,T3_R2!K166)),COUNTRY_INFO!E166),0)","v":0},{"$f":"IF(AND(COUNTRY_INFO!J166>1,COUNTRY_INFO!J166<4), IF(T166/COUNTRY_INFO!E166*100<>0, IF(T166/COUNTRY_INFO!E166*100>100,100,T166/COUNTRY_INFO!E166*100), \"-\"),0)","v":"-"},{"$f":"IF(AND(COUNTRY_INFO!J166>1,COUNTRY_INFO!J166<4),IF(COUNTRY_INFO!F166>MAX('MDA1'!K166,'MDA4'!S166,'T1'!M166,MAX(T3_R1!L166,T3_R2!L166)),MAX('MDA1'!K166,'MDA4'!S166,'T1'!M166,MAX(T3_R1!L166,T3_R2!L166)),COUNTRY_INFO!F166),0)","v":130486},{"$f":"IF(AND(COUNTRY_INFO!J166>1,COUNTRY_INFO!J166<4), IF(V166/COUNTRY_INFO!F166*100<>0, IF(V166/COUNTRY_INFO!F166*100>100,100,V166/COUNTRY_INFO!F166*100), \"-\"),0)","v":76.772728342472519},130486,{"$f":"IF(AND(COUNTRY_INFO!J166>1,COUNTRY_INFO!J166<4), IF(S166/P166*100<>0, IF(X166/P166*100>100,100,X166/P166*100), \"-\"),0)","v":48.791669003683133},{"$f":"COUNTRY_INFO!P166","v":149190.79999999999},null,null,{"$f":"MAX('T1'!L166,'T2'!J166)+MAX('T1'!M166,'T2'!K166)+MAX('T1'!N166,'T2'!L166)","v":130486},{"$f":"IF(COUNTRY_INFO!K166=1,IF(COUNTRY_INFO!F166*0.33>MAX('T1'!M166,'T2'!K166),MAX('T1'!M166,'T2'!K166),COUNTRY_INFO!F166*0.33),IF(COUNTRY_INFO!K166=2,IF(COUNTRY_INFO!F166*0.5>MAX('T1'!M166,'T2'!K166),MAX('T1'!M166,'T2'!K166),COUNTRY_INFO!F166*0.5),IF(COUNTRY_INFO!K166=3,IF(COUNTRY_INFO!F166>MAX('T1'!M166,'T2'!K166),MAX('T1'!M166,'T2'!K166),COUNTRY_INFO!F166),0)))","v":84982},{"$f":"IF(AND(COUNTRY_INFO!K166>0,COUNTRY_INFO!L166<4),IF(Z166>0,IF(COUNTRY_INFO!K166=1, AD166/(COUNTRY_INFO!F166*0.33)*100, IF(COUNTRY_INFO!K166=2, AD166/(COUNTRY_INFO!F166*0.5)*100, IF(COUNTRY_INFO!K166=3, AD166/COUNTRY_INFO!F166*100))),\"-\"),0)","v":100},{"$f":"IF(COUNTRY_INFO!K166=2,IF(COUNTRY_INFO!G166*0.2>MAX('T1'!N166,'T2'!L166),MAX('T1'!N166,'T2'!L166),COUNTRY_INFO!G166*0.2),IF(COUNTRY_INFO!K166=3,IF(COUNTRY_INFO!G166>MAX('T1'!N166,'T2'!L166),MAX('T1'!N166,'T2'!L166),COUNTRY_INFO!G166),0))","v":0},{"$f":"IF(AND(COUNTRY_INFO!K166>0,COUNTRY_INFO!L166<4),IF(Z166>0,IF(COUNTRY_INFO!K166=1, 0, IF(COUNTRY_INFO!K166=2, AF166/(COUNTRY_INFO!G166*0.2)*100, IF(COUNTRY_INFO!K166=3, AF166/COUNTRY_INFO!G166*100))),\"-\"),0)","v":0},84982,{"$f":"IF(AND(COUNTRY_INFO!K166>0,COUNTRY_INFO!K166<4), IF(AC166/Z166*100<>0, IF(AH166/Z166*100>100,100,AH166/Z166*100), \"-\"),0)","v":56.961957439734888},null,{"$f":"IF(AND(D166<>0, D166<>\"Unknown\",D166<>\"Stopped\",D166<>\"Not required\"),D166/COUNTRY_INFO!D166, 0)","v":1},{"$f":"IF(AND(J166<>0,J166<>\"Unknown\",J166<>\"Stopped\",J166<>\"Not required\"),J166/COUNTRY_INFO!D166, 0)","v":0},{"$f":"IF(AND(P166<>0,P166<>\"Unknown\",P166<>\"Not required\"),P166/(COUNTRY_INFO!E166+COUNTRY_INFO!F166), 0)","v":1},{"$f":"IF(AND(Z166<>0,Z166<>\"Unknown\",Z166<>\"Not required\"),IF(COUNTRY_INFO!K166=1,1,IF(COUNTRY_INFO!K166=2,0.5*COUNTRY_INFO!F166/(0.5*COUNTRY_INFO!F166+0.2*COUNTRY_INFO!G166),IF(COUNTRY_INFO!K166=3,COUNTRY_INFO!F166/(COUNTRY_INFO!F166+COUNTRY_INFO!G166)))),0)","v":0.56961957439734889},{"$f":"IF(AND(Z166<>0,Z166<>\"Unknown\",Z166<>\"Not required\"),IF(COUNTRY_INFO!K166=1,0,IF(COUNTRY_INFO!K166=2,0.2*COUNTRY_INFO!G166/(0.5*COUNTRY_INFO!F166+0.2*COUNTRY_INFO!G166),IF(COUNTRY_INFO!K166=3,COUNTRY_INFO!G166/(COUNTRY_INFO!F166+COUNTRY_INFO!G166)))),0)","v":0.43038042560265116},{"$f":"MAX(COUNTRY_INFO!D166*AK166*PROFILE!$G$7,COUNTRY_INFO!D166*AL166*PROFILE!$G$7)","v":20712.666962208168},{"$f":"MAX(COUNTRY_INFO!D166*AK166*PROFILE!$G$8,COUNTRY_INFO!D166*AL166*PROFILE!$G$8,COUNTRY_INFO!D166*AM166*PROFILE!$G$8)","v":97470.59253877298},{"$f":"MAX(COUNTRY_INFO!D166*AK166*PROFILE!$G$9,COUNTRY_INFO!D166*AL166*PROFILE!$G$9,COUNTRY_INFO!D166*AM166*PROFILE!$G$9,IF(AND(DISTRICT!Z166<>\"Unknown\",Z166<>\"Not required\"),COUNTRY_INFO!P166*DISTRICT!AN166,0))","v":169964.42701395287},{"$f":"MAX(COUNTRY_INFO!D166*AK166*PROFILE!$G$10,COUNTRY_INFO!D166*AL166*PROFILE!$G$10,IF(AND(DISTRICT!Z166<>\"Unknown\",Z166<>\"Not required\"),COUNTRY_INFO!P166*DISTRICT!AO166,0))","v":321044.04417356488},609191.73068849882,0,{"$f":"MAX('MDA4'!R166,'T1'!L166,'T2'!J166,T3_R1!K166,T3_R2!K166)","v":0},{"$f":"MAX('MDA1'!K166,'MDA4'!S166,'MDA3'!I166,'MDA3'!L166,'T1'!M166,'T2'!K166,T3_R1!L166,T3_R2!L166)","v":130486},{"$f":"MAX('MDA1'!L166,'MDA4'!T166,'MDA3'!J166,'MDA3'!M166,'T1'!N166,'T2'!L166,T3_R1!M166,T3_R2!M166)","v":0},130486,{"$f":"MAX('MDA4'!R166,T166)","v":0},{"$f":"MAX('MDA1'!K166,'MDA4'!S166,'MDA3'!I166,'MDA3'!L166,V166,AD166)","v":130486},{"$f":"MAX('MDA1'!L166,'MDA4'!T166,'MDA3'!J166,'MDA3'!M166,AF166)","v":0},130486,21.419529095138373]
[{"$f":"IF(COUNTRY_INFO!A167=0,\" \",COUNTRY_INFO!A167)","v":"Angola"},{"$f":"IF(COUNTRY_INFO!B167=0,\" \",COUNTRY_INFO!B167)","v":"ZAIRE"},{"$f":"IF(COUNTRY_INFO!C167=0,\" \",COUNTRY_INFO!C167)","v":"CUIMBA"},{"$f":"COUNTRY_INFO!M167","v":0},null,null,{"$f":"MAX('MDA1'!M167,'MDA4'!U167)","v":0},{"$f":"IF(AND(COUNTRY_INFO!H167>0,COUNTRY_INFO!H167<4),IF(D167>MAX('MDA1'!M167,'MDA4'!U167),MAX('MDA1'!M167,'MDA4'!U167),D167),0)","v":0},{"$f":"IF(AND(COUNTRY_INFO!H167>0,COUNTRY_INFO!H167<4), IF(G167/D167*100<>0, IF(G167/D167*100>100,100,G167/D167*100), \"-\"),0)","v":0},{"$f":"COUNTRY_INFO!N167","v":"Unknown"},null,null,{"$f":"MAX('MDA1'!M167,MAX('MDA3'!I167,'MDA3'!L167)+MAX('MDA3'!J167,'MDA3'!M167))","v":0},{"$f":"IF(AND(COUNTRY_INFO!I167>0,COUNTRY_INFO!I167<4),IF(J167>MAX('MDA1'!M167,MAX('MDA3'!I167,'MDA3'!L167)+MAX('MDA3'!J167,'MDA3'!M167)),MAX('MDA1'!M167,MAX('MDA3'!I167,'MDA3'!L167)+MAX('MDA3'!J167,'MDA3'!M167)),J167),0)","v":0},{"$f":"IF(AND(COUNTRY_INFO!I167>0,COUNTRY_INFO!I167<4), IF(M167/J167*100<>0, IF(M167/J167*100>100,100,M167/J167*100), \"-\"),0)","v":0},{"$f":"COUNTRY_INFO!O167","v":35641},null,null,{"$f":"SUM(MAX('MDA4'!R167, 'T1'!L167, MAX(T3_R1!K167, T3_R2!K167)), MAX('MDA1'!K167, 'MDA4'!S167, 'T1'!M167, MAX(T3_R1!L167, T3_R2!L167)), MAX('MDA1'!L167, 'MDA4'!T167, 'T1'!N167, MAX(T3_R1!M167, T3_R2!M167)))","v":16983},{"$f":"IF(AND(COUNTRY_INFO!J167>1,COUNTRY_INFO!J167<4),IF(COUNTRY_INFO!E167>MAX('MDA4'!R167,'T1'!L167,MAX(T3_R1!K167,T3_R2!K167)),MAX('MDA4'!R167,'T1'!L167,MAX(T3_R1!K167,T3_R2!K167)),COUNTRY_INFO!E167),0)","v":0},{"$f":"IF(AND(COUNTRY_INFO!J167>1,COUNTRY_INFO!J167<4), IF(T167/COUNTRY_INFO!E167*100<>0, IF(T167/COUNTRY_INFO!E167*100>100,100,T167/COUNTRY_INFO!E167*100), \"-\"),0)","v":"-"},{"$f":"IF(AND(COUNTRY_INFO!J167>1,COUNTRY_INFO!J167<4),IF(COUNTRY_INFO!F167>MAX('MDA1'!K167,'MDA4'!S167,'T1'!M167,MAX(T3_R1!L167,T3_R2!L167)),MAX('MDA1'!K167,'MDA4'!S167,'T1'!M167,MAX(T3_R1!L167,T3_R2!L167)),COUNTRY_INFO!F167),0)","v":16983},{"$f":"IF(AND(COUNTRY_INFO!J167>1,COUNTRY_INFO!J167<4), IF(V167/COUNTRY_INFO!F167*100<>0, IF(V167/COUNTRY_INFO!F167*100>100,100,V167/COUNTRY_INFO!F167*100), \"-\"),0)","v":74.97682221535473},16983,{"$f":"IF(AND(COUNTRY_INFO!J167>1,COUNTRY_INFO!J167<4), IF(S167/P167*100<>0, IF(X167/P167*100>100,100,X167/P167*100), \"-\"),0)","v":47.650178165595804},{"$f":"COUNTRY_INFO!P167","v":19882.7},null,null,{"$f":"MAX('T1'!L167,'T2'!J167)+MAX('T1'!M167,'T2'!K167)+MAX('T1'!N167,'T2'!L167)","v":16983},{"$f":"IF(COUNTRY_INFO!K167=1,IF(COUNTRY_INFO!F167*0.33>MAX('T1'!M167,'T2'!K167),MAX('T1'!M167,'T2'!K167),COUNTRY_INFO!F167*0.33),IF(COUNTRY_INFO!K167=2,IF(COUNTRY_INFO!F167*0.5>MAX('T1'!M167,'T2'!K167),MAX('T1'!M167,'T2'!K167),COUNTRY_INFO!F167*0.5),IF(COUNTRY_INFO!K167=3,IF(COUNTRY_INFO!F167>MAX('T1'!M167,'T2'!K167),MAX('T1'!M167,'T2'!K167),COUNTRY_INFO!F167),0)))","v":11325.5},{"$f":"IF(AND(COUNTRY_INFO!K167>0,COUNTRY_INFO!L167<4),IF(Z167>0,IF(COUNTRY_INFO!K167=1, AD167/(COUNTRY_INFO!F167*0.33)*100, IF(COUNTRY_INFO!K167=2, AD167/(COUNTRY_INFO!F167*0.5)*100, IF(COUNTRY_INFO!K167=3, AD167/COUNTRY_INFO!F167*100))),\"-\"),0)","v":100},{"$f":"IF(COUNTRY_INFO!K167=2,IF(COUNTRY_INFO!G167*0.2>MAX('T1'!N167,'T2'!L167),MAX('T1'!N167,'T2'!L167),COUNTRY_INFO!G167*0.2),IF(COUNTRY_INFO!K167=3,IF(COUNTRY_INFO!G167>MAX('T1'!N167,'T2'!L167),MAX('T1'!N167,'T2'!L167),COUNTRY_INFO!G167),0))","v":0},{"$f":"IF(AND(COUNTRY_INFO!K167>0,COUNTRY_INFO!L167<4),IF(Z167>0,IF(COUNTRY_INFO!K167=1, 0, IF(COUNTRY_INFO!K167=2, AF167/(COUNTRY_INFO!G167*0.2)*100, IF(COUNTRY_INFO!K167=3, AF167/COUNTRY_INFO!G167*100))),\"-\"),0)","v":0},11325.5,{"$f":"IF(AND(COUNTRY_INFO!K167>0,COUNTRY_INFO!K167<4), IF(AC167/Z167*100<>0, IF(AH167/Z167*100>100,100,AH167/Z167*100), \"-\"),0)","v":56.961579664733662},null,{"$f":"IF(AND(D167<>0, D167<>\"Unknown\",D167<>\"Stopped\",D167<>\"Not required\"),D167/COUNTRY_INFO!D167, 0)","v":0},{"$f":"IF(AND(J167<>0,J167<>\"Unknown\",J167<>\"Stopped\",J167<>\"Not required\"),J167/COUNTRY_INFO!D167, 0)","v":0},{"$f":"IF(AND(P167<>0,P167<>\"Unknown\",P167<>\"Not required\"),P167/(COUNTRY_INFO!E167+COUNTRY_INFO!F167), 0)","v":1},{"$f":"IF(AND(Z167<>0,Z167<>\"Unknown\",Z167<>\"Not required\"),IF(COUNTRY_INFO!K167=1,1,IF(COUNTRY_INFO!K167=2,0.5*COUNTRY_INFO!F167/(0.5*COUNTRY_INFO!F167+0.2*COUNTRY_INFO!G167),IF(COUNTRY_INFO!K167=3,COUNTRY_INFO!F167/(COUNTRY_INFO!F167+COUNTRY_INFO!G167)))),0)","v":0.56961579664733664},{"$f":"IF(AND(Z167<>0,Z167<>\"Unknown\",Z167<>\"Not required\"),IF(COUNTRY_INFO!K167=1,0,IF(COUNTRY_INFO!K167=2,0.2*COUNTRY_INFO!G167/(0.5*COUNTRY_INFO!F167+0.2*COUNTRY_INFO!G167),IF(COUNTRY_INFO!K167=3,COUNTRY_INFO!G167/(COUNTRY_INFO!F167+COUNTRY_INFO!G167)))),0)","v":0.43038420335266342},{"$f":"MAX(COUNTRY_INFO!D167*AK167*PROFILE!$G$7,COUNTRY_INFO!D167*AL167*PROFILE!$G$7)","v":0},{"$f":"MAX(COUNTRY_INFO!D167*AK167*PROFILE!$G$8,COUNTRY_INFO!D167*AL167*PROFILE!$G$8,COUNTRY_INFO!D167*AM167*PROFILE!$G$8)","v":12990.04649521156},{"$f":"MAX(COUNTRY_INFO!D167*AK167*PROFILE!$G$9,COUNTRY_INFO!D167*AL167*PROFILE!$G$9,COUNTRY_INFO!D167*AM167*PROFILE!$G$9,IF(AND(DISTRICT!Z167<>\"Unknown\",Z167<>\"Not required\"),COUNTRY_INFO!P167*DISTRICT!AN167,0))","v":22651.404407590697},{"$f":"MAX(COUNTRY_INFO!D167*AK167*PROFILE!$G$10,COUNTRY_INFO!D167*AL167*PROFILE!$G$10,IF(AND(DISTRICT!Z167<>\"Unknown\",Z167<>\"Not required\"),COUNTRY_INFO!P167*DISTRICT!AO167,0))","v":8557.2000000000007},44198.650902802256,"Y",{"$f":"MAX('MDA4'!R167,'T1'!L167,'T2'!J167,T3_R1!K167,T3_R2!K167)","v":0},{"$f":"MAX('MDA1'!K167,'MDA4'!S167,'MDA3'!I167,'MDA3'!L167,'T1'!M167,'T2'!K167,T3_R1!L167,T3_R2!L167)","v":16983},{"$f":"MAX('MDA1'!L167,'MDA4'!T167,'MDA3'!J167,'MDA3'!M167,'T1'!N167,'T2'!L167,T3_R1!M167,T3_R2!M167)","v":0},16983,{"$f":"MAX('MDA4'!R167,T167)","v":0},{"$f":"MAX('MDA1'!K167,'MDA4'!S167,'MDA3'!I167,'MDA3'!L167,V167,AD167)","v":16983},{"$f":"MAX('MDA1'!L167,'MDA4'!T167,'MDA3'!J167,'MDA3'!M167,AF167)","v":0},16983,38.424249729584517]
[{"$f":"IF(COUNTRY_INFO!A168=0,\" \",COUNTRY_INFO!A168)","v":"Angola"},{"$f":"IF(COUNTRY_INFO!B168=0,\" \",COUNTRY_INFO!B168)","v":"ZAIRE"},{"$f":"IF(COUNTRY_INFO!C168=0,\" \",COUNTRY_INFO!C168)","v":"MBANZA KONGO"},{"$f":"COUNTRY_INFO!M168","v":0},null,null,{"$f":"MAX('MDA1'!M168,'MDA4'!U168)","v":0},{"$f":"IF(AND(COUNTRY_INFO!H168>0,COUNTRY_INFO!H168<4),IF(D168>MAX('MDA1'!M168,'MDA4'!U168),MAX('MDA1'!M168,'MDA4'!U168),D168),0)","v":0},{"$f":"IF(AND(COUNTRY_INFO!H168>0,COUNTRY_INFO!H168<4), IF(G168/D168*100<>0, IF(G168/D168*100>100,100,G168/D168*100), \"-\"),0)","v":0},{"$f":"COUNTRY_INFO!N168","v":"Unknown"},null,null,{"$f":"MAX('MDA1'!M168,MAX('MDA3'!I168,'MDA3'!L168)+MAX('MDA3'!J168,'MDA3'!M168))","v":0},{"$f":"IF(AND(COUNTRY_INFO!I168>0,COUNTRY_INFO!I168<4),IF(J168>MAX('MDA1'!M168,MAX('MDA3'!I168,'MDA3'!L168)+MAX('MDA3'!J168,'MDA3'!M168)),MAX('MDA1'!M168,MAX('MDA3'!I168,'MDA3'!L168)+MAX('MDA3'!J168,'MDA3'!M168)),J168),0)","v":0},{"$f":"IF(AND(COUNTRY_INFO!I168>0,COUNTRY_INFO!I168<4), IF(M168/J168*100<>0, IF(M168/J168*100>100,100,M168/J168*100), \"-\"),0)","v":0},{"$f":"COUNTRY_INFO!O168","v":0},null,null,{"$f":"SUM(MAX('MDA4'!R168, 'T1'!L168, MAX(T3_R1!K168, T3_R2!K168)), MAX('MDA1'!K168, 'MDA4'!S168, 'T1'!M168, MAX(T3_R1!L168, T3_R2!L168)), MAX('MDA1'!L168, 'MDA4'!T168, 'T1'!N168, MAX(T3_R1!M168, T3_R2!M168)))","v":42239},{"$f":"IF(AND(COUNTRY_INFO!J168>1,COUNTRY_INFO!J168<4),IF(COUNTRY_INFO!E168>MAX('MDA4'!R168,'T1'!L168,MAX(T3_R1!K168,T3_R2!K168)),MAX('MDA4'!R168,'T1'!L168,MAX(T3_R1!K168,T3_R2!K168)),COUNTRY_INFO!E168),0)","v":0},{"$f":"IF(AND(COUNTRY_INFO!J168>1,COUNTRY_INFO!J168<4), IF(T168/COUNTRY_INFO!E168*100<>0, IF(T168/COUNTRY_INFO!E168*100>100,100,T168/COUNTRY_INFO!E168*100), \"-\"),0)","v":0},{"$f":"IF(AND(COUNTRY_INFO!J168>1,COUNTRY_INFO!J168<4),IF(COUNTRY_INFO!F168>MAX('MDA1'!K168,'MDA4'!S168,'T1'!M168,MAX(T3_R1!L168,T3_R2!L168)),MAX('MDA1'!K168,'MDA4'!S168,'T1'!M168,MAX(T3_R1!L168,T3_R2!L168)),COUNTRY_INFO!F168),0)","v":0},{"$f":"IF(AND(COUNTRY_INFO!J168>1,COUNTRY_INFO!J168<4), IF(V168/COUNTRY_INFO!F168*100<>0, IF(V168/COUNTRY_INFO!F168*100>100,100,V168/COUNTRY_INFO!F168*100), \"-\"),0)","v":0},0,{"$f":"IF(AND(COUNTRY_INFO!J168>1,COUNTRY_INFO!J168<4), IF(S168/P168*100<>0, IF(X168/P168*100>100,100,X168/P168*100), \"-\"),0)","v":0},{"$f":"COUNTRY_INFO!P168","v":51817.7},null,null,{"$f":"MAX('T1'!L168,'T2'!J168)+MAX('T1'!M168,'T2'!K168)+MAX('T1'!N168,'T2'!L168)","v":42239},{"$f":"IF(COUNTRY_INFO!K168=1,IF(COUNTRY_INFO!F168*0.33>MAX('T1'!M168,'T2'!K168),MAX('T1'!M168,'T2'!K168),COUNTRY_INFO!F168*0.33),IF(COUNTRY_INFO!K168=2,IF(COUNTRY_INFO!F168*0.5>MAX('T1'!M168,'T2'!K168),MAX('T1'!M168,'T2'!K168),COUNTRY_INFO!F168*0.5),IF(COUNTRY_INFO!K168=3,IF(COUNTRY_INFO!F168>MAX('T1'!M168,'T2'!K168),MAX('T1'!M168,'T2'!K168),COUNTRY_INFO!F168),0)))","v":29516.5},{"$f":"IF(AND(COUNTRY_INFO!K168>0,COUNTRY_INFO!L168<4),IF(Z168>0,IF(COUNTRY_INFO!K168=1, AD168/(COUNTRY_INFO!F168*0.33)*100, IF(COUNTRY_INFO!K168=2, AD168/(COUNTRY_INFO!F168*0.5)*100, IF(COUNTRY_INFO!K168=3, AD168/COUNTRY_INFO!F168*100))),\"-\"),0)","v":100},{"$f":"IF(COUNTRY_INFO!K168=2,IF(COUNTRY_INFO!G168*0.2>MAX('T1'!N168,'T2'!L168),MAX('T1'!N168,'T2'!L168),COUNTRY_INFO!G168*0.2),IF(COUNTRY_INFO!K168=3,IF(COUNTRY_INFO!G168>MAX('T1'!N168,'T2'!L168),MAX('T1'!N168,'T2'!L168),COUNTRY_INFO!G168),0))","v":0},{"$f":"IF(AND(COUNTRY_INFO!K168>0,COUNTRY_INFO!L168<4),IF(Z168>0,IF(COUNTRY_INFO!K168=1, 0, IF(COUNTRY_INFO!K168=2, AF168/(COUNTRY_INFO!G168*0.2)*100, IF(COUNTRY_INFO!K168=3, AF168/COUNTRY_INFO!G168*100))),\"-\"),0)","v":0},29516.5,{"$f":"IF(AND(COUNTRY_INFO!K168>0,COUNTRY_INFO!K168<4), IF(AC168/Z168*100<>0, IF(AH168/Z168*100>100,100,AH168/Z168*100), \"-\"),0)","v":56.962196315158721},null,{"$f":"IF(AND(D168<>0, D168<>\"Unknown\",D168<>\"Stopped\",D168<>\"Not required\"),D168/COUNTRY_INFO!D168, 0)","v":0},{"$f":"IF(AND(J168<>0,J168<>\"Unknown\",J168<>\"Stopped\",J168<>\"Not required\"),J168/COUNTRY_INFO!D168, 0)","v":0},{"$f":"IF(AND(P168<>0,P168<>\"Unknown\",P168<>\"Not required\"),P168/(COUNTRY_INFO!E168+COUNTRY_INFO!F168), 0)","v":0},{"$f":"IF(AND(Z168<>0,Z168<>\"Unknown\",Z168<>\"Not required\"),IF(COUNTRY_INFO!K168=1,1,IF(COUNTRY_INFO!K168=2,0.5*COUNTRY_INFO!F168/(0.5*COUNTRY_INFO!F168+0.2*COUNTRY_INFO!G168),IF(COUNTRY_INFO!K168=3,COUNTRY_INFO!F168/(COUNTRY_INFO!F168+COUNTRY_INFO!G168)))),0)","v":0.5696219631515872},{"$f":"IF(AND(Z168<>0,Z168<>\"Unknown\",Z168<>\"Not required\"),IF(COUNTRY_INFO!K168=1,0,IF(COUNTRY_INFO!K168=2,0.2*COUNTRY_INFO!G168/(0.5*COUNTRY_INFO!F168+0.2*COUNTRY_INFO!G168),IF(COUNTRY_INFO!K168=3,COUNTRY_INFO!G168/(COUNTRY_INFO!F168+COUNTRY_INFO!G168)))),0)","v":0.43037803684841286},{"$f":"MAX(COUNTRY_INFO!D168*AK168*PROFILE!$G$7,COUNTRY_INFO!D168*AL168*PROFILE!$G$7)","v":0},{"$f":"MAX(COUNTRY_INFO!D168*AK168*PROFILE!$G$8,COUNTRY_INFO!D168*AL168*PROFILE!$G$8,COUNTRY_INFO!D168*AM168*PROFILE!$G$8)","v":0},{"$f":"MAX(COUNTRY_INFO!D168*AK168*PROFILE!$G$9,COUNTRY_INFO!D168*AL168*PROFILE!$G$9,COUNTRY_INFO!D168*AM168*PROFILE!$G$9,IF(AND(DISTRICT!Z168<>\"Unknown\",Z168<>\"Not required\"),COUNTRY_INFO!P168*DISTRICT!AN168,0))","v":29516.5},{"$f":"MAX(COUNTRY_INFO!D168*AK168*PROFILE!$G$10,COUNTRY_INFO!D168*AL168*PROFILE!$G$10,IF(AND(DISTRICT!Z168<>\"Unknown\",Z168<>\"Not required\"),COUNTRY_INFO!P168*DISTRICT!AO168,0))","v":22301.200000000001},51817.7,"Y",{"$f":"MAX('MDA4'!R168,'T1'!L168,'T2'!J168,T3_R1!K168,T3_R2!K168)","v":0},{"$f":"MAX('MDA1'!K168,'MDA4'!S168,'MDA3'!I168,'MDA3'!L168,'T1'!M168,'T2'!K168,T3_R1!L168,T3_R2!L168)","v":42239},{"$f":"MAX('MDA1'!L168,'MDA4'!T168,'MDA3'!J168,'MDA3'!M168,'T1'!N168,'T2'!L168,T3_R1!M168,T3_R2!M168)","v":0},42239,{"$f":"MAX('MDA4'!R168,T168)","v":0},{"$f":"MAX('MDA1'!K168,'MDA4'!S168,'MDA3'!I168,'MDA3'!L168,V168,AD168)","v":29516.5},{"$f":"MAX('MDA1'!L168,'MDA4'!T168,'MDA3'!J168,'MDA3'!M168,AF168)","v":0},29516.5,56.962196315158721]
[{"$f":"IF(COUNTRY_INFO!A169=0,\" \",COUNTRY_INFO!A169)","v":"Angola"},{"$f":"IF(COUNTRY_INFO!B169=0,\" \",COUNTRY_INFO!B169)","v":"ZAIRE"},{"$f":"IF(COUNTRY_INFO!C169=0,\" \",COUNTRY_INFO!C169)","v":"NOQUI"},{"$f":"COUNTRY_INFO!M169","v":0},null,null,{"$f":"MAX('MDA1'!M169,'MDA4'!U169)","v":0},{"$f":"IF(AND(COUNTRY_INFO!H169>0,COUNTRY_INFO!H169<4),IF(D169>MAX('MDA1'!M169,'MDA4'!U169),MAX('MDA1'!M169,'MDA4'!U169),D169),0)","v":0},{"$f":"IF(AND(COUNTRY_INFO!H169>0,COUNTRY_INFO!H169<4), IF(G169/D169*100<>0, IF(G169/D169*100>100,100,G169/D169*100), \"-\"),0)","v":0},{"$f":"COUNTRY_INFO!N169","v":"Unknown"},null,null,{"$f":"MAX('MDA1'!M169,MAX('MDA3'!I169,'MDA3'!L169)+MAX('MDA3'!J169,'MDA3'!M169))","v":0},{"$f":"IF(AND(COUNTRY_INFO!I169>0,COUNTRY_INFO!I169<4),IF(J169>MAX('MDA1'!M169,MAX('MDA3'!I169,'MDA3'!L169)+MAX('MDA3'!J169,'MDA3'!M169)),MAX('MDA1'!M169,MAX('MDA3'!I169,'MDA3'!L169)+MAX('MDA3'!J169,'MDA3'!M169)),J169),0)","v":0},{"$f":"IF(AND(COUNTRY_INFO!I169>0,COUNTRY_INFO!I169<4), IF(M169/J169*100<>0, IF(M169/J169*100>100,100,M169/J169*100), \"-\"),0)","v":0},{"$f":"COUNTRY_INFO!O169","v":12300},null,null,{"$f":"SUM(MAX('MDA4'!R169, 'T1'!L169, MAX(T3_R1!K169, T3_R2!K169)), MAX('MDA1'!K169, 'MDA4'!S169, 'T1'!M169, MAX(T3_R1!L169, T3_R2!L169)), MAX('MDA1'!L169, 'MDA4'!T169, 'T1'!N169, MAX(T3_R1!M169, T3_R2!M169)))","v":7972},{"$f":"IF(AND(COUNTRY_INFO!J169>1,COUNTRY_INFO!J169<4),IF(COUNTRY_INFO!E169>MAX('MDA4'!R169,'T1'!L169,MAX(T3_R1!K169,T3_R2!K169)),MAX('MDA4'!R169,'T1'!L169,MAX(T3_R1!K169,T3_R2!K169)),COUNTRY_INFO!E169),0)","v":0},{"$f":"IF(AND(COUNTRY_INFO!J169>1,COUNTRY_INFO!J169<4), IF(T169/COUNTRY_INFO!E169*100<>0, IF(T169/COUNTRY_INFO!E169*100>100,100,T169/COUNTRY_INFO!E169*100), \"-\"),0)","v":"-"},{"$f":"IF(AND(COUNTRY_INFO!J169>1,COUNTRY_INFO!J169<4),IF(COUNTRY_INFO!F169>MAX('MDA1'!K169,'MDA4'!S169,'T1'!M169,MAX(T3_R1!L169,T3_R2!L169)),MAX('MDA1'!K169,'MDA4'!S169,'T1'!M169,MAX(T3_R1!L169,T3_R2!L169)),COUNTRY_INFO!F169),0)","v":7817},{"$f":"IF(AND(COUNTRY_INFO!J169>1,COUNTRY_INFO!J169<4), IF(V169/COUNTRY_INFO!F169*100<>0, IF(V169/COUNTRY_INFO!F169*100>100,100,V169/COUNTRY_INFO!F169*100), \"-\"),0)","v":100},7817,{"$f":"IF(AND(COUNTRY_INFO!J169>1,COUNTRY_INFO!J169<4), IF(S169/P169*100<>0, IF(X169/P169*100>100,100,X169/P169*100), \"-\"),0)","v":63.552845528455279},{"$f":"COUNTRY_INFO!P169","v":6861.7000000000007},null,null,{"$f":"MAX('T1'!L169,'T2'!J169)+MAX('T1'!M169,'T2'!K169)+MAX('T1'!N169,'T2'!L169)","v":7972},{"$f":"IF(COUNTRY_INFO!K169=1,IF(COUNTRY_INFO!F169*0.33>MAX('T1'!M169,'T2'!K169),MAX('T1'!M169,'T2'!K169),COUNTRY_INFO!F169*0.33),IF(COUNTRY_INFO!K169=2,IF(COUNTRY_INFO!F169*0.5>MAX('T1'!M169,'T2'!K169),MAX('T1'!M169,'T2'!K169),COUNTRY_INFO!F169*0.5),IF(COUNTRY_INFO!K169=3,IF(COUNTRY_INFO!F169>MAX('T1'!M169,'T2'!K169),MAX('T1'!M169,'T2'!K169),COUNTRY_INFO!F169),0)))","v":3908.5},{"$f":"IF(AND(COUNTRY_INFO!K169>0,COUNTRY_INFO!L169<4),IF(Z169>0,IF(COUNTRY_INFO!K169=1, AD169/(COUNTRY_INFO!F169*0.33)*100, IF(COUNTRY_INFO!K169=2, AD169/(COUNTRY_INFO!F169*0.5)*100, IF(COUNTRY_INFO!K169=3, AD169/COUNTRY_INFO!F169*100))),\"-\"),0)","v":100},{"$f":"IF(COUNTRY_INFO!K169=2,IF(COUNTRY_INFO!G169*0.2>MAX('T1'!N169,'T2'!L169),MAX('T1'!N169,'T2'!L169),COUNTRY_INFO!G169*0.2),IF(COUNTRY_INFO!K169=3,IF(COUNTRY_INFO!G169>MAX('T1'!N169,'T2'!L169),MAX('T1'!N169,'T2'!L169),COUNTRY_INFO!G169),0))","v":0},{"$f":"IF(AND(COUNTRY_INFO!K169>0,COUNTRY_INFO!L169<4),IF(Z169>0,IF(COUNTRY_INFO!K169=1, 0, IF(COUNTRY_INFO!K169=2, AF169/(COUNTRY_INFO!G169*0.2)*100, IF(COUNTRY_INFO!K169=3, AF169/COUNTRY_INFO!G169*100))),\"-\"),0)","v":0},3908.5,{"$f":"IF(AND(COUNTRY_INFO!K169>0,COUNTRY_INFO!K169<4), IF(AC169/Z169*100<>0, IF(AH169/Z169*100>100,100,AH169/Z169*100), \"-\"),0)","v":56.961102933675321},null,{"$f":"IF(AND(D169<>0, D169<>\"Unknown\",D169<>\"Stopped\",D169<>\"Not required\"),D169/COUNTRY_INFO!D169, 0)","v":0},{"$f":"IF(AND(J169<>0,J169<>\"Unknown\",J169<>\"Stopped\",J169<>\"Not required\"),J169/COUNTRY_INFO!D169, 0)","v":0},{"$f":"IF(AND(P169<>0,P169<>\"Unknown\",P169<>\"Not required\"),P169/(COUNTRY_INFO!E169+COUNTRY_INFO!F169), 0)","v":1},{"$f":"IF(AND(Z169<>0,Z169<>\"Unknown\",Z169<>\"Not required\"),IF(COUNTRY_INFO!K169=1,1,IF(COUNTRY_INFO!K169=2,0.5*COUNTRY_INFO!F169/(0.5*COUNTRY_INFO!F169+0.2*COUNTRY_INFO!G169),IF(COUNTRY_INFO!K169=3,COUNTRY_INFO!F169/(COUNTRY_INFO!F169+COUNTRY_INFO!G169)))),0)","v":0.56961102933675323},{"$f":"IF(AND(Z169<>0,Z169<>\"Unknown\",Z169<>\"Not required\"),IF(COUNTRY_INFO!K169=1,0,IF(COUNTRY_INFO!K169=2,0.2*COUNTRY_INFO!G169/(0.5*COUNTRY_INFO!F169+0.2*COUNTRY_INFO!G169),IF(COUNTRY_INFO!K169=3,COUNTRY_INFO!G169/(COUNTRY_INFO!F169+COUNTRY_INFO!G169)))),0)","v":0.43038897066324672},{"$f":"MAX(COUNTRY_INFO!D169*AK169*PROFILE!$G$7,COUNTRY_INFO!D169*AL169*PROFILE!$G$7)","v":0},{"$f":"MAX(COUNTRY_INFO!D169*AK169*PROFILE!$G$8,COUNTRY_INFO!D169*AL169*PROFILE!$G$8,COUNTRY_INFO!D169*AM169*PROFILE!$G$8)","v":4483.0810519069864},{"$f":"MAX(COUNTRY_INFO!D169*AK169*PROFILE!$G$9,COUNTRY_INFO!D169*AL169*PROFILE!$G$9,COUNTRY_INFO!D169*AM169*PROFILE!$G$9,IF(AND(DISTRICT!Z169<>\"Unknown\",Z169<>\"Not required\"),COUNTRY_INFO!P169*DISTRICT!AN169,0))","v":7817.3763224161894},{"$f":"MAX(COUNTRY_INFO!D169*AK169*PROFILE!$G$10,COUNTRY_INFO!D169*AL169*PROFILE!$G$10,IF(AND(DISTRICT!Z169<>\"Unknown\",Z169<>\"Not required\"),COUNTRY_INFO!P169*DISTRICT!AO169,0))","v":2953.2000000000003},15253.657374323177,"Y",{"$f":"MAX('MDA4'!R169,'T1'!L169,'T2'!J169,T3_R1!K169,T3_R2!K169)","v":0},{"$f":"MAX('MDA1'!K169,'MDA4'!S169,'MDA3'!I169,'MDA3'!L169,'T1'!M169,'T2'!K169,T3_R1!L169,T3_R2!L169)","v":7972},{"$f":"MAX('MDA1'!L169,'MDA4'!T169,'MDA3'!J169,'MDA3'!M169,'T1'!N169,'T2'!L169,T3_R1!M169,T3_R2!M169)","v":0},7972,{"$f":"MAX('MDA4'!R169,T169)","v":0},{"$f":"MAX('MDA1'!K169,'MDA4'!S169,'MDA3'!I169,'MDA3'!L169,V169,AD169)","v":7817},{"$f":"MAX('MDA1'!L169,'MDA4'!T169,'MDA3'!J169,'MDA3'!M169,AF169)","v":0},7817,51.246726002634169]
[{"$f":"IF(COUNTRY_INFO!A170=0,\" \",COUNTRY_INFO!A170)","v":"Angola"},{"$f":"IF(COUNTRY_INFO!B170=0,\" \",COUNTRY_INFO!B170)","v":"ZAIRE"},{"$f":"IF(COUNTRY_INFO!C170=0,\" \",COUNTRY_INFO!C170)","v":"NZETO"},{"$f":"COUNTRY_INFO!M170","v":0},null,null,{"$f":"MAX('MDA1'!M170,'MDA4'!U170)","v":0},{"$f":"IF(AND(COUNTRY_INFO!H170>0,COUNTRY_INFO!H170<4),IF(D170>MAX('MDA1'!M170,'MDA4'!U170),MAX('MDA1'!M170,'MDA4'!U170),D170),0)","v":0},{"$f":"IF(AND(COUNTRY_INFO!H170>0,COUNTRY_INFO!H170<4), IF(G170/D170*100<>0, IF(G170/D170*100>100,100,G170/D170*100), \"-\"),0)","v":0},{"$f":"COUNTRY_INFO!N170","v":"Unknown"},null,null,{"$f":"MAX('MDA1'!M170,MAX('MDA3'!I170,'MDA3'!L170)+MAX('MDA3'!J170,'MDA3'!M170))","v":0},{"$f":"IF(AND(COUNTRY_INFO!I170>0,COUNTRY_INFO!I170<4),IF(J170>MAX('MDA1'!M170,MAX('MDA3'!I170,'MDA3'!L170)+MAX('MDA3'!J170,'MDA3'!M170)),MAX('MDA1'!M170,MAX('MDA3'!I170,'MDA3'!L170)+MAX('MDA3'!J170,'MDA3'!M170)),J170),0)","v":0},{"$f":"IF(AND(COUNTRY_INFO!I170>0,COUNTRY_INFO!I170<4), IF(M170/J170*100<>0, IF(M170/J170*100>100,100,M170/J170*100), \"-\"),0)","v":0},{"$f":"COUNTRY_INFO!O170","v":0},null,null,{"$f":"SUM(MAX('MDA4'!R170, 'T1'!L170, MAX(T3_R1!K170, T3_R2!K170)), MAX('MDA1'!K170, 'MDA4'!S170, 'T1'!M170, MAX(T3_R1!L170, T3_R2!L170)), MAX('MDA1'!L170, 'MDA4'!T170, 'T1'!N170, MAX(T3_R1!M170, T3_R2!M170)))","v":13423},{"$f":"IF(AND(COUNTRY_INFO!J170>1,COUNTRY_INFO!J170<4),IF(COUNTRY_INFO!E170>MAX('MDA4'!R170,'T1'!L170,MAX(T3_R1!K170,T3_R2!K170)),MAX('MDA4'!R170,'T1'!L170,MAX(T3_R1!K170,T3_R2!K170)),COUNTRY_INFO!E170),0)","v":0},{"$f":"IF(AND(COUNTRY_INFO!J170>1,COUNTRY_INFO!J170<4), IF(T170/COUNTRY_INFO!E170*100<>0, IF(T170/COUNTRY_INFO!E170*100>100,100,T170/COUNTRY_INFO!E170*100), \"-\"),0)","v":0},{"$f":"IF(AND(COUNTRY_INFO!J170>1,COUNTRY_INFO!J170<4),IF(COUNTRY_INFO!F170>MAX('MDA1'!K170,'MDA4'!S170,'T1'!M170,MAX(T3_R1!L170,T3_R2!L170)),MAX('MDA1'!K170,'MDA4'!S170,'T1'!M170,MAX(T3_R1!L170,T3_R2!L170)),COUNTRY_INFO!F170),0)","v":0},{"$f":"IF(AND(COUNTRY_INFO!J170>1,COUNTRY_INFO!J170<4), IF(V170/COUNTRY_INFO!F170*100<>0, IF(V170/COUNTRY_INFO!F170*100>100,100,V170/COUNTRY_INFO!F170*100), \"-\"),0)","v":0},0,{"$f":"IF(AND(COUNTRY_INFO!J170>1,COUNTRY_INFO!J170<4), IF(S170/P170*100<>0, IF(X170/P170*100>100,100,X170/P170*100), \"-\"),0)","v":0},{"$f":"COUNTRY_INFO!P170","v":13742.400000000001},null,null,{"$f":"MAX('T1'!L170,'T2'!J170)+MAX('T1'!M170,'T2'!K170)+MAX('T1'!N170,'T2'!L170)","v":13423},{"$f":"IF(COUNTRY_INFO!K170=1,IF(COUNTRY_INFO!F170*0.33>MAX('T1'!M170,'T2'!K170),MAX('T1'!M170,'T2'!K170),COUNTRY_INFO!F170*0.33),IF(COUNTRY_INFO!K170=2,IF(COUNTRY_INFO!F170*0.5>MAX('T1'!M170,'T2'!K170),MAX('T1'!M170,'T2'!K170),COUNTRY_INFO!F170*0.5),IF(COUNTRY_INFO!K170=3,IF(COUNTRY_INFO!F170>MAX('T1'!M170,'T2'!K170),MAX('T1'!M170,'T2'!K170),COUNTRY_INFO!F170),0)))","v":7828},{"$f":"IF(AND(COUNTRY_INFO!K170>0,COUNTRY_INFO!L170<4),IF(Z170>0,IF(COUNTRY_INFO!K170=1, AD170/(COUNTRY_INFO!F170*0.33)*100, IF(COUNTRY_INFO!K170=2, AD170/(COUNTRY_INFO!F170*0.5)*100, IF(COUNTRY_INFO!K170=3, AD170/COUNTRY_INFO!F170*100))),\"-\"),0)","v":100},{"$f":"IF(COUNTRY_INFO!K170=2,IF(COUNTRY_INFO!G170*0.2>MAX('T1'!N170,'T2'!L170),MAX('T1'!N170,'T2'!L170),COUNTRY_INFO!G170*0.2),IF(COUNTRY_INFO!K170=3,IF(COUNTRY_INFO!G170>MAX('T1'!N170,'T2'!L170),MAX('T1'!N170,'T2'!L170),COUNTRY_INFO!G170),0))","v":0},{"$f":"IF(AND(COUNTRY_INFO!K170>0,COUNTRY_INFO!L170<4),IF(Z170>0,IF(COUNTRY_INFO!K170=1, 0, IF(COUNTRY_INFO!K170=2, AF170/(COUNTRY_INFO!G170*0.2)*100, IF(COUNTRY_INFO!K170=3, AF170/COUNTRY_INFO!G170*100))),\"-\"),0)","v":0},7828,{"$f":"IF(AND(COUNTRY_INFO!K170>0,COUNTRY_INFO!K170<4), IF(AC170/Z170*100<>0, IF(AH170/Z170*100>100,100,AH170/Z170*100), \"-\"),0)","v":56.962393759459772},null,{"$f":"IF(AND(D170<>0, D170<>\"Unknown\",D170<>\"Stopped\",D170<>\"Not required\"),D170/COUNTRY_INFO!D170, 0)","v":0},{"$f":"IF(AND(J170<>0,J170<>\"Unknown\",J170<>\"Stopped\",J170<>\"Not required\"),J170/COUNTRY_INFO!D170, 0)","v":0},{"$f":"IF(AND(P170<>0,P170<>\"Unknown\",P170<>\"Not required\"),P170/(COUNTRY_INFO!E170+COUNTRY_INFO!F170), 0)","v":0},{"$f":"IF(AND(Z170<>0,Z170<>\"Unknown\",Z170<>\"Not required\"),IF(COUNTRY_INFO!K170=1,1,IF(COUNTRY_INFO!K170=2,0.5*COUNTRY_INFO!F170/(0.5*COUNTRY_INFO!F170+0.2*COUNTRY_INFO!G170),IF(COUNTRY_INFO!K170=3,COUNTRY_INFO!F170/(COUNTRY_INFO!F170+COUNTRY_INFO!G170)))),0)","v":0.56962393759459773},{"$f":"IF(AND(Z170<>0,Z170<>\"Unknown\",Z170<>\"Not required\"),IF(COUNTRY_INFO!K170=1,0,IF(COUNTRY_INFO!K170=2,0.2*COUNTRY_INFO!G170/(0.5*COUNTRY_INFO!F170+0.2*COUNTRY_INFO!G170),IF(COUNTRY_INFO!K170=3,COUNTRY_INFO!G170/(COUNTRY_INFO!F170+COUNTRY_INFO!G170)))),0)","v":0.43037606240540227},{"$f":"MAX(COUNTRY_INFO!D170*AK170*PROFILE!$G$7,COUNTRY_INFO!D170*AL170*PROFILE!$G$7)","v":0},{"$f":"MAX(COUNTRY_INFO!D170*AK170*PROFILE!$G$8,COUNTRY_INFO!D170*AL170*PROFILE!$G$8,COUNTRY_INFO!D170*AM170*PROFILE!$G$8)","v":0},{"$f":"MAX(COUNTRY_INFO!D170*AK170*PROFILE!$G$9,COUNTRY_INFO!D170*AL170*PROFILE!$G$9,COUNTRY_INFO!D170*AM170*PROFILE!$G$9,IF(AND(DISTRICT!Z170<>\"Unknown\",Z170<>\"Not required\"),COUNTRY_INFO!P170*DISTRICT!AN170,0))","v":7828.0000000000009},{"$f":"MAX(COUNTRY_INFO!D170*AK170*PROFILE!$G$10,COUNTRY_INFO!D170*AL170*PROFILE!$G$10,IF(AND(DISTRICT!Z170<>\"Unknown\",Z170<>\"Not required\"),COUNTRY_INFO!P170*DISTRICT!AO170,0))","v":5914.4000000000005},13742.400000000001,"Y",{"$f":"MAX('MDA4'!R170,'T1'!L170,'T2'!J170,T3_R1!K170,T3_R2!K170)","v":0},{"$f":"MAX('MDA1'!K170,'MDA4'!S170,'MDA3'!I170,'MDA3'!L170,'T1'!M170,'T2'!K170,T3_R1!L170,T3_R2!L170)","v":13423},{"$f":"MAX('MDA1'!L170,'MDA4'!T170,'MDA3'!J170,'MDA3'!M170,'T1'!N170,'T2'!L170,T3_R1!M170,T3_R2!M170)","v":0},13423,{"$f":"MAX('MDA4'!R170,T170)","v":0},{"$f":"MAX('MDA1'!K170,'MDA4'!S170,'MDA3'!I170,'MDA3'!L170,V170,AD170)","v":7828},{"$f":"MAX('MDA1'!L170,'MDA4'!T170,'MDA3'!J170,'MDA3'!M170,AF170)","v":0},7828,56.962393759459772]
[{"$f":"IF(COUNTRY_INFO!A171=0,\" \",COUNTRY_INFO!A171)","v":"Angola"},{"$f":"IF(COUNTRY_INFO!B171=0,\" \",COUNTRY_INFO!B171)","v":"ZAIRE"},{"$f":"IF(COUNTRY_INFO!C171=0,\" \",COUNTRY_INFO!C171)","v":"SOYO"},{"$f":"COUNTRY_INFO!M171","v":0},null,null,{"$f":"MAX('MDA1'!M171,'MDA4'!U171)","v":0},{"$f":"IF(AND(COUNTRY_INFO!H171>0,COUNTRY_INFO!H171<4),IF(D171>MAX('MDA1'!M171,'MDA4'!U171),MAX('MDA1'!M171,'MDA4'!U171),D171),0)","v":0},{"$f":"IF(AND(COUNTRY_INFO!H171>0,COUNTRY_INFO!H171<4), IF(G171/D171*100<>0, IF(G171/D171*100>100,100,G171/D171*100), \"-\"),0)","v":0},{"$f":"COUNTRY_INFO!N171","v":"Unknown"},null,null,{"$f":"MAX('MDA1'!M171,MAX('MDA3'!I171,'MDA3'!L171)+MAX('MDA3'!J171,'MDA3'!M171))","v":0},{"$f":"IF(AND(COUNTRY_INFO!I171>0,COUNTRY_INFO!I171<4),IF(J171>MAX('MDA1'!M171,MAX('MDA3'!I171,'MDA3'!L171)+MAX('MDA3'!J171,'MDA3'!M171)),MAX('MDA1'!M171,MAX('MDA3'!I171,'MDA3'!L171)+MAX('MDA3'!J171,'MDA3'!M171)),J171),0)","v":0},{"$f":"IF(AND(COUNTRY_INFO!I171>0,COUNTRY_INFO!I171<4), IF(M171/J171*100<>0, IF(M171/J171*100>100,100,M171/J171*100), \"-\"),0)","v":0},{"$f":"COUNTRY_INFO!O171","v":117016},null,null,{"$f":"SUM(MAX('MDA4'!R171, 'T1'!L171, MAX(T3_R1!K171, T3_R2!K171)), MAX('MDA1'!K171, 'MDA4'!S171, 'T1'!M171, MAX(T3_R1!L171, T3_R2!L171)), MAX('MDA1'!L171, 'MDA4'!T171, 'T1'!N171, MAX(T3_R1!M171, T3_R2!M171)))","v":36093},{"$f":"IF(AND(COUNTRY_INFO!J171>1,COUNTRY_INFO!J171<4),IF(COUNTRY_INFO!E171>MAX('MDA4'!R171,'T1'!L171,MAX(T3_R1!K171,T3_R2!K171)),MAX('MDA4'!R171,'T1'!L171,MAX(T3_R1!K171,T3_R2!K171)),COUNTRY_INFO!E171),0)","v":0},{"$f":"IF(AND(COUNTRY_INFO!J171>1,COUNTRY_INFO!J171<4), IF(T171/COUNTRY_INFO!E171*100<>0, IF(T171/COUNTRY_INFO!E171*100>100,100,T171/COUNTRY_INFO!E171*100), \"-\"),0)","v":"-"},{"$f":"IF(AND(COUNTRY_INFO!J171>1,COUNTRY_INFO!J171<4),IF(COUNTRY_INFO!F171>MAX('MDA1'!K171,'MDA4'!S171,'T1'!M171,MAX(T3_R1!L171,T3_R2!L171)),MAX('MDA1'!K171,'MDA4'!S171,'T1'!M171,MAX(T3_R1!L171,T3_R2!L171)),COUNTRY_INFO!F171),0)","v":36093},{"$f":"IF(AND(COUNTRY_INFO!J171>1,COUNTRY_INFO!J171<4), IF(V171/COUNTRY_INFO!F171*100<>0, IF(V171/COUNTRY_INFO!F171*100>100,100,V171/COUNTRY_INFO!F171*100), \"-\"),0)","v":48.532971170395868},36093,{"$f":"IF(AND(COUNTRY_INFO!J171>1,COUNTRY_INFO!J171<4), IF(S171/P171*100<>0, IF(X171/P171*100>100,100,X171/P171*100), \"-\"),0)","v":30.844499897449921},{"$f":"COUNTRY_INFO!P171","v":24541.440000000002},null,null,{"$f":"MAX('T1'!L171,'T2'!J171)+MAX('T1'!M171,'T2'!K171)+MAX('T1'!N171,'T2'!L171)","v":36093},{"$f":"IF(COUNTRY_INFO!K171=1,IF(COUNTRY_INFO!F171*0.33>MAX('T1'!M171,'T2'!K171),MAX('T1'!M171,'T2'!K171),COUNTRY_INFO!F171*0.33),IF(COUNTRY_INFO!K171=2,IF(COUNTRY_INFO!F171*0.5>MAX('T1'!M171,'T2'!K171),MAX('T1'!M171,'T2'!K171),COUNTRY_INFO!F171*0.5),IF(COUNTRY_INFO!K171=3,IF(COUNTRY_INFO!F171>MAX('T1'!M171,'T2'!K171),MAX('T1'!M171,'T2'!K171),COUNTRY_INFO!F171),0)))","v":24541.440000000002},{"$f":"IF(AND(COUNTRY_INFO!K171>0,COUNTRY_INFO!L171<4),IF(Z171>0,IF(COUNTRY_INFO!K171=1, AD171/(COUNTRY_INFO!F171*0.33)*100, IF(COUNTRY_INFO!K171=2, AD171/(COUNTRY_INFO!F171*0.5)*100, IF(COUNTRY_INFO!K171=3, AD171/COUNTRY_INFO!F171*100))),\"-\"),0)","v":100},{"$f":"IF(COUNTRY_INFO!K171=2,IF(COUNTRY_INFO!G171*0.2>MAX('T1'!N171,'T2'!L171),MAX('T1'!N171,'T2'!L171),COUNTRY_INFO!G171*0.2),IF(COUNTRY_INFO!K171=3,IF(COUNTRY_INFO!G171>MAX('T1'!N171,'T2'!L171),MAX('T1'!N171,'T2'!L171),COUNTRY_INFO!G171),0))","v":0},{"$f":"IF(AND(COUNTRY_INFO!K171>0,COUNTRY_INFO!L171<4),IF(Z171>0,IF(COUNTRY_INFO!K171=1, 0, IF(COUNTRY_INFO!K171=2, AF171/(COUNTRY_INFO!G171*0.2)*100, IF(COUNTRY_INFO!K171=3, AF171/COUNTRY_INFO!G171*100))),\"-\"),0)","v":0},24541.440000000002,{"$f":"IF(AND(COUNTRY_INFO!K171>0,COUNTRY_INFO!K171<4), IF(AC171/Z171*100<>0, IF(AH171/Z171*100>100,100,AH171/Z171*100), \"-\"),0)","v":100},null,{"$f":"IF(AND(D171<>0, D171<>\"Unknown\",D171<>\"Stopped\",D171<>\"Not required\"),D171/COUNTRY_INFO!D171, 0)","v":0},{"$f":"IF(AND(J171<>0,J171<>\"Unknown\",J171<>\"Stopped\",J171<>\"Not required\"),J171/COUNTRY_INFO!D171, 0)","v":0},{"$f":"IF(AND(P171<>0,P171<>\"Unknown\",P171<>\"Not required\"),P171/(COUNTRY_INFO!E171+COUNTRY_INFO!F171), 0)","v":1},{"$f":"IF(AND(Z171<>0,Z171<>\"Unknown\",Z171<>\"Not required\"),IF(COUNTRY_INFO!K171=1,1,IF(COUNTRY_INFO!K171=2,0.5*COUNTRY_INFO!F171/(0.5*COUNTRY_INFO!F171+0.2*COUNTRY_INFO!G171),IF(COUNTRY_INFO!K171=3,COUNTRY_INFO!F171/(COUNTRY_INFO!F171+COUNTRY_INFO!G171)))),0)","v":1},{"$f":"IF(AND(Z171<>0,Z171<>\"Unknown\",Z171<>\"Not required\"),IF(COUNTRY_INFO!K171=1,0,IF(COUNTRY_INFO!K171=2,0.2*COUNTRY_INFO!G171/(0.5*COUNTRY_INFO!F171+0.2*COUNTRY_INFO!G171),IF(COUNTRY_INFO!K171=3,COUNTRY_INFO!G171/(COUNTRY_INFO!F171+COUNTRY_INFO!G171)))),0)","v":0},{"$f":"MAX(COUNTRY_INFO!D171*AK171*PROFILE!$G$7,COUNTRY_INFO!D171*AL171*PROFILE!$G$7)","v":0},{"$f":"MAX(COUNTRY_INFO!D171*AK171*PROFILE!$G$8,COUNTRY_INFO!D171*AL171*PROFILE!$G$8,COUNTRY_INFO!D171*AM171*PROFILE!$G$8)","v":42648.40611251966},{"$f":"MAX(COUNTRY_INFO!D171*AK171*PROFILE!$G$9,COUNTRY_INFO!D171*AL171*PROFILE!$G$9,COUNTRY_INFO!D171*AM171*PROFILE!$G$9,IF(AND(DISTRICT!Z171<>\"Unknown\",Z171<>\"Not required\"),COUNTRY_INFO!P171*DISTRICT!AN171,0))","v":74368.193720473093},{"$f":"MAX(COUNTRY_INFO!D171*AK171*PROFILE!$G$10,COUNTRY_INFO!D171*AL171*PROFILE!$G$10,IF(AND(DISTRICT!Z171<>\"Unknown\",Z171<>\"Not required\"),COUNTRY_INFO!P171*DISTRICT!AO171,0))","v":0},117016.59983299275,"Y",{"$f":"MAX('MDA4'!R171,'T1'!L171,'T2'!J171,T3_R1!K171,T3_R2!K171)","v":0},{"$f":"MAX('MDA1'!K171,'MDA4'!S171,'MDA3'!I171,'MDA3'!L171,'T1'!M171,'T2'!K171,T3_R1!L171,T3_R2!L171)","v":36093},{"$f":"MAX('MDA1'!L171,'MDA4'!T171,'MDA3'!J171,'MDA3'!M171,'T1'!N171,'T2'!L171,T3_R1!M171,T3_R2!M171)","v":0},36093,{"$f":"MAX('MDA4'!R171,T171)","v":0},{"$f":"MAX('MDA1'!K171,'MDA4'!S171,'MDA3'!I171,'MDA3'!L171,V171,AD171)","v":36093},{"$f":"MAX('MDA1'!L171,'MDA4'!T171,'MDA3'!J171,'MDA3'!M171,AF171)","v":0},36093,30.844341786987734]
[{"$f":"IF(COUNTRY_INFO!A172=0,\" \",COUNTRY_INFO!A172)","v":"Angola"},{"$f":"IF(COUNTRY_INFO!B172=0,\" \",COUNTRY_INFO!B172)","v":"ZAIRE"},{"$f":"IF(COUNTRY_INFO!C172=0,\" \",COUNTRY_INFO!C172)","v":"TOMBOCO"},{"$f":"COUNTRY_INFO!M172","v":0},null,null,{"$f":"MAX('MDA1'!M172,'MDA4'!U172)","v":0},{"$f":"IF(AND(COUNTRY_INFO!H172>0,COUNTRY_INFO!H172<4),IF(D172>MAX('MDA1'!M172,'MDA4'!U172),MAX('MDA1'!M172,'MDA4'!U172),D172),0)","v":0},{"$f":"IF(AND(COUNTRY_INFO!H172>0,COUNTRY_INFO!H172<4), IF(G172/D172*100<>0, IF(G172/D172*100>100,100,G172/D172*100), \"-\"),0)","v":0},{"$f":"COUNTRY_INFO!N172","v":"Unknown"},null,null,{"$f":"MAX('MDA1'!M172,MAX('MDA3'!I172,'MDA3'!L172)+MAX('MDA3'!J172,'MDA3'!M172))","v":0},{"$f":"IF(AND(COUNTRY_INFO!I172>0,COUNTRY_INFO!I172<4),IF(J172>MAX('MDA1'!M172,MAX('MDA3'!I172,'MDA3'!L172)+MAX('MDA3'!J172,'MDA3'!M172)),MAX('MDA1'!M172,MAX('MDA3'!I172,'MDA3'!L172)+MAX('MDA3'!J172,'MDA3'!M172)),J172),0)","v":0},{"$f":"IF(AND(COUNTRY_INFO!I172>0,COUNTRY_INFO!I172<4), IF(M172/J172*100<>0, IF(M172/J172*100>100,100,M172/J172*100), \"-\"),0)","v":0},{"$f":"COUNTRY_INFO!O172","v":23707},null,null,{"$f":"SUM(MAX('MDA4'!R172, 'T1'!L172, MAX(T3_R1!K172, T3_R2!K172)), MAX('MDA1'!K172, 'MDA4'!S172, 'T1'!M172, MAX(T3_R1!L172, T3_R2!L172)), MAX('MDA1'!L172, 'MDA4'!T172, 'T1'!N172, MAX(T3_R1!M172, T3_R2!M172)))","v":11811},{"$f":"IF(AND(COUNTRY_INFO!J172>1,COUNTRY_INFO!J172<4),IF(COUNTRY_INFO!E172>MAX('MDA4'!R172,'T1'!L172,MAX(T3_R1!K172,T3_R2!K172)),MAX('MDA4'!R172,'T1'!L172,MAX(T3_R1!K172,T3_R2!K172)),COUNTRY_INFO!E172),0)","v":0},{"$f":"IF(AND(COUNTRY_INFO!J172>1,COUNTRY_INFO!J172<4), IF(T172/COUNTRY_INFO!E172*100<>0, IF(T172/COUNTRY_INFO!E172*100>100,100,T172/COUNTRY_INFO!E172*100), \"-\"),0)","v":"-"},{"$f":"IF(AND(COUNTRY_INFO!J172>1,COUNTRY_INFO!J172<4),IF(COUNTRY_INFO!F172>MAX('MDA1'!K172,'MDA4'!S172,'T1'!M172,MAX(T3_R1!L172,T3_R2!L172)),MAX('MDA1'!K172,'MDA4'!S172,'T1'!M172,MAX(T3_R1!L172,T3_R2!L172)),COUNTRY_INFO!F172),0)","v":11811},{"$f":"IF(AND(COUNTRY_INFO!J172>1,COUNTRY_INFO!J172<4), IF(V172/COUNTRY_INFO!F172*100<>0, IF(V172/COUNTRY_INFO!F172*100>100,100,V172/COUNTRY_INFO!F172*100), \"-\"),0)","v":78.389858631446202},11811,{"$f":"IF(AND(COUNTRY_INFO!J172>1,COUNTRY_INFO!J172<4), IF(S172/P172*100<>0, IF(X172/P172*100>100,100,X172/P172*100), \"-\"),0)","v":49.820728055004849},{"$f":"COUNTRY_INFO!P172","v":4972.1100000000006},null,null,{"$f":"MAX('T1'!L172,'T2'!J172)+MAX('T1'!M172,'T2'!K172)+MAX('T1'!N172,'T2'!L172)","v":11811},{"$f":"IF(COUNTRY_INFO!K172=1,IF(COUNTRY_INFO!F172*0.33>MAX('T1'!M172,'T2'!K172),MAX('T1'!M172,'T2'!K172),COUNTRY_INFO!F172*0.33),IF(COUNTRY_INFO!K172=2,IF(COUNTRY_INFO!F172*0.5>MAX('T1'!M172,'T2'!K172),MAX('T1'!M172,'T2'!K172),COUNTRY_INFO!F172*0.5),IF(COUNTRY_INFO!K172=3,IF(COUNTRY_INFO!F172>MAX('T1'!M172,'T2'!K172),MAX('T1'!M172,'T2'!K172),COUNTRY_INFO!F172),0)))","v":4972.1100000000006},{"$f":"IF(AND(COUNTRY_INFO!K172>0,COUNTRY_INFO!L172<4),IF(Z172>0,IF(COUNTRY_INFO!K172=1, AD172/(COUNTRY_INFO!F172*0.33)*100, IF(COUNTRY_INFO!K172=2, AD172/(COUNTRY_INFO!F172*0.5)*100, IF(COUNTRY_INFO!K172=3, AD172/COUNTRY_INFO!F172*100))),\"-\"),0)","v":100},{"$f":"IF(COUNTRY_INFO!K172=2,IF(COUNTRY_INFO!G172*0.2>MAX('T1'!N172,'T2'!L172),MAX('T1'!N172,'T2'!L172),COUNTRY_INFO!G172*0.2),IF(COUNTRY_INFO!K172=3,IF(COUNTRY_INFO!G172>MAX('T1'!N172,'T2'!L172),MAX('T1'!N172,'T2'!L172),COUNTRY_INFO!G172),0))","v":0},{"$f":"IF(AND(COUNTRY_INFO!K172>0,COUNTRY_INFO!L172<4),IF(Z172>0,IF(COUNTRY_INFO!K172=1, 0, IF(COUNTRY_INFO!K172=2, AF172/(COUNTRY_INFO!G172*0.2)*100, IF(COUNTRY_INFO!K172=3, AF172/COUNTRY_INFO!G172*100))),\"-\"),0)","v":0},4972.1100000000006,{"$f":"IF(AND(COUNTRY_INFO!K172>0,COUNTRY_INFO!K172<4), IF(AC172/Z172*100<>0, IF(AH172/Z172*100>100,100,AH172/Z172*100), \"-\"),0)","v":100},null,{"$f":"IF(AND(D172<>0, D172<>\"Unknown\",D172<>\"Stopped\",D172<>\"Not required\"),D172/COUNTRY_INFO!D172, 0)","v":0},{"$f":"IF(AND(J172<>0,J172<>\"Unknown\",J172<>\"Stopped\",J172<>\"Not required\"),J172/COUNTRY_INFO!D172, 0)","v":0},{"$f":"IF(AND(P172<>0,P172<>\"Unknown\",P172<>\"Not required\"),P172/(COUNTRY_INFO!E172+COUNTRY_INFO!F172), 0)","v":1},{"$f":"IF(AND(Z172<>0,Z172<>\"Unknown\",Z172<>\"Not required\"),IF(COUNTRY_INFO!K172=1,1,IF(COUNTRY_INFO!K172=2,0.5*COUNTRY_INFO!F172/(0.5*COUNTRY_INFO!F172+0.2*COUNTRY_INFO!G172),IF(COUNTRY_INFO!K172=3,COUNTRY_INFO!F172/(COUNTRY_INFO!F172+COUNTRY_INFO!G172)))),0)","v":1},{"$f":"IF(AND(Z172<>0,Z172<>\"Unknown\",Z172<>\"Not required\"),IF(COUNTRY_INFO!K172=1,0,IF(COUNTRY_INFO!K172=2,0.2*COUNTRY_INFO!G172/(0.5*COUNTRY_INFO!F172+0.2*COUNTRY_INFO!G172),IF(COUNTRY_INFO!K172=3,COUNTRY_INFO!G172/(COUNTRY_INFO!F172+COUNTRY_INFO!G172)))),0)","v":0},{"$f":"MAX(COUNTRY_INFO!D172*AK172*PROFILE!$G$7,COUNTRY_INFO!D172*AL172*PROFILE!$G$7)","v":0},{"$f":"MAX(COUNTRY_INFO!D172*AK172*PROFILE!$G$8,COUNTRY_INFO!D172*AL172*PROFILE!$G$8,COUNTRY_INFO!D172*AM172*PROFILE!$G$8)","v":8640.4441128148683},{"$f":"MAX(COUNTRY_INFO!D172*AK172*PROFILE!$G$9,COUNTRY_INFO!D172*AL172*PROFILE!$G$9,COUNTRY_INFO!D172*AM172*PROFILE!$G$9,IF(AND(DISTRICT!Z172<>\"Unknown\",Z172<>\"Not required\"),COUNTRY_INFO!P172*DISTRICT!AN172,0))","v":15066.781626432376},{"$f":"MAX(COUNTRY_INFO!D172*AK172*PROFILE!$G$10,COUNTRY_INFO!D172*AL172*PROFILE!$G$10,IF(AND(DISTRICT!Z172<>\"Unknown\",Z172<>\"Not required\"),COUNTRY_INFO!P172*DISTRICT!AO172,0))","v":0},23707.225739247246,"Y",{"$f":"MAX('MDA4'!R172,'T1'!L172,'T2'!J172,T3_R1!K172,T3_R2!K172)","v":0},{"$f":"MAX('MDA1'!K172,'MDA4'!S172,'MDA3'!I172,'MDA3'!L172,'T1'!M172,'T2'!K172,T3_R1!L172,T3_R2!L172)","v":11811},{"$f":"MAX('MDA1'!L172,'MDA4'!T172,'MDA3'!J172,'MDA3'!M172,'T1'!N172,'T2'!L172,T3_R1!M172,T3_R2!M172)","v":0},11811,{"$f":"MAX('MDA4'!R172,T172)","v":0},{"$f":"MAX('MDA1'!K172,'MDA4'!S172,'MDA3'!I172,'MDA3'!L172,V172,AD172)","v":11811},{"$f":"MAX('MDA1'!L172,'MDA4'!T172,'MDA3'!J172,'MDA3'!M172,AF172)","v":0},11811,49.820253664041857]

{"sheet":"SUMMARY","index":10,"n_rows":71,"n_cols":8,"rows_kept":71,"cut":false,"hidden":false,"merged":[[70,1,70,2],[36,1,36,2],[37,1,37,2],[38,1,38,2],[67,1,67,7],[63,1,63,2],[54,1,60,7],[69,1,69,2],[64,3,65,7],[49,1,49,7],[63,3,63,7],[50,3,50,4],[32,1,32,2],[33,1,33,2],[34,1,34,2],[35,1,35,2],[23,1,23,5],[31,1,31,2],[24,1,24,5],[25,1,25,5],[26,1,26,5],[27,1,27,5],[0,3,0,7],[15,1,15,3],[1,1,1,7],[5,1,11,7],[3,3,3,5]]}
[null,null,null,"The current version should be used in countries endemic for Loasis"]
[null,"PC Joint Reporting Form v.3.1 (L)"]
[]
[null,"Country",null,{"$f":"IF(INTRO!$E$34<>0,INTRO!$E$34,\" \")","v":"Angola"},null,null,"Year",{"$f":"IF(INTRO!$E$36<>0,INTRO!$E$36,\" \")","v":2018}]
[]
[null,"National authorities are requested to complete the Joint Reporting Form (JRF) for submission to the World Health Organization any time before 15 August of the current year for reporting data on PC interventions implemented during the previous year."]
[]
[]
[]
[]
[]
[]
[]
[null,"Number of people received treatment (at least once) for the diseases"]
[]
[null,null,null,null,"PreSAC","SAC","Adults","Total"]
[null,"Lymphatic filariasis",null,null,0,0,0,{"$f":"SUM(E17:G17)","v":0}]
[null,"Onchocerciasis",null,null,"Not eligible",0,0,{"$f":"SUM(E18:G18)","v":0}]
[null,"Soil-transmitted helminthiases",null,null,0,1686437,0,{"$f":"SUM(E19:G19)","v":1686437}]
[null,"Schistosomiasis",null,null,"Not targeted",1603957,0,{"$f":"SUM(E20:G20)","v":1603957}]
[]
[null,"Coverage of PC interventions for the diseases (%)"]
[]
[null,null,null,null,null,null,"Geographical","National"]
[null,"Lymphatic filariasis",null,null,null,null,0,"-"]
[null,"Onchocerciasis",null,null,null,null,0,"-"]
[null,"Soil-transmitted helminthiases",null,null,null,null,27.631578947368421,12.129910298331076]
[null,"Schistosomiasis",null,null,null,null,25.609756097560975,11.344471519147884]
[]
[null,"Number of people treated and programme coverage (%) by PC interventions"]
[]
[null,null,null,"PreSAC","SAC","Adults","Total","Coverage (%)"]
[null,"MDA 1 (IVM+ALB)",null,"Not eligible",{"$f":"'MDA1'!$K$4","v":0},{"$f":"'MDA1'!$L$4","v":0},{"$f":"'MDA1'!$M$4","v":0},{"$f":"'MDA1'!$Q$4","v":" "}]
[null,"MDA 4 (ALB/2*ALB)",null,{"$f":"'MDA4'!$R$4","v":0},{"$f":"'MDA4'!$S$4","v":0},{"$f":"'MDA4'!$T$4","v":0},{"$f":"'MDA4'!$U$4","v":0},{"$f":"'MDA4'!$Y$4","v":" "}]
[null,"MDA 3 (IVM)",null,"Not eligible",{"$f":"'MDA3'!$O$4","v":0},{"$f":"'MDA3'!$P$4","v":0},{"$f":"'MDA3'!$Q$4","v":0},{"$f":"'MDA3'!$T$4","v":" "}]
[null,"T 1 (PZQ+ALB/MBD)",null,{"$f":"IF('T1'!$L$4<>0,'T1'!$L$4,\"Not targeted\")","v":"Not targeted"},{"$f":"'T1'!$M$4","v":1208223},{"$f":"IF('T1'!$N$4<>0,'T1'!$N$4,\"Not targeted\")","v":"Not targeted"},{"$f":"'T1'!$O$4","v":1208223},{"$f":"'T1'!$S$4","v":76.894677553825886}]
[null,"T 2 (PZQ)",null,{"$f":"IF('T2'!$J$4<>0,'T2'!$J$4,\"Not targeted\")","v":"Not targeted"},{"$f":"'T2'!$K$4","v":395734},{"$f":"'T2'!$L$4","v":0},{"$f":"'T2'!$M$4","v":395734},{"$f":"'T2'!$Q$4","v":99.550213573085273}]
[null,"T 3 (ALB/MBD) - round 1",null,{"$f":"T3_R1!$K$4","v":0},{"$f":"T3_R1!$L$4","v":854508},{"$f":"IF(T3_R1!$M$4<>0,T3_R1!$M$4,\"Not targeted\")","v":"Not targeted"},{"$f":"T3_R1!$N$4","v":854508},{"$f":"T3_R1!$R$4","v":63.412252215883115}]
[null,"T 3 (ALB/MBD) - round 2",null,{"$f":"T3_R2!$K$4","v":0},{"$f":"T3_R2!$L$4","v":0},{"$f":"IF(T3_R2!$M$4<>0,T3_R2!$M$4,\"Not targeted\")","v":"Not targeted"},{"$f":"T3_R2!$N$4","v":0},{"$f":"T3_R2!$R$4","v":" "}]
[]
[null,"Inventory of PC medicines in the country"]
[]
[null,null,"IVM","DEC","ALB (LF)","ALB (STH)","MBD","PZQ"]
[null,"Available",15230843,0,1075300,6089008,0,1135146]
[null,"Distributed",3129282,null,263549,2222323,null,{"$f":"2188934+548015","v":2736949}]
[null,"Wasted",301561,null,33551,366685,null,531197]
[null,"Received",null,null,null,null,null,4254000]
[null,"Remaining",{"$f":"C44-C45-C46+C47","v":11800000},0,778200,3500000,0,2121000]
[]
[null,"Please indicate the medicine has been used to treat PreSAC for STH and delivery channels"]
[null,"PC medicine",null,"Delivery channels",null,null,"Source"]
[]
[null,"Additional information"]
[]
[null,"Vimos Justificar a campanha de 2018, segundo a nota adicional quando se envio o JRF2020; foram revisadas as bases das campanhas e verificamos que em 2018, foram realizadas as seguintes campanhas: Bié: PZQ/ALB(T1); Huambo: PZQ/ALB(T1 Huambo e Longonjo), PZQ( todos os municipios); Cuanza Sul ALB(T3R1); Uíge(ALB/PZQ), todos os municipios; e T3R1 onde ficou por justificar 378.202 crianças tratadas, Zaire T1, todos os municipios "]
[]
[]
[]
[]
[]
[]
[]
[null,null,null,"       I have read and accept WHO Data Sharing Policy"]
[null,"Name and signature of NTD coordinator or Ministry of Health representative:",null,"Maria Cécilia César de Almeida "]
[null,null,null,"2021-07-10"]
[null,"Date:"]
[]
[null,"Please send the national report (signed and in electronic format) to the concerned WR with copy to:"]
[]
[null,"WHO headquarters",null,"PC_JointForms@who.int"]
[null,"WHO Regional Office",null,"Regional Advisor for NTD"]

{"sheet":"PROFILE","index":11,"n_rows":124,"n_cols":8,"rows_kept":124,"cut":false,"hidden":true,"merged":[[79,1,79,3],[123,1,124,7],[85,6,85,7],[87,6,87,7],[89,6,89,7],[86,6,86,7],[88,6,88,7],[9,1,9,2],[4,1,4,7],[5,1,5,2],[81,1,81,3],[19,1,19,6],[9,3,9,5],[43,1,43,3],[77,1,77,3],[80,1,80,3],[6,3,6,5],[7,3,7,5],[8,3,8,5],[78,1,78,3],[23,1,23,3],[11,1,11,6],[20,1,20,6],[0,1,0,5],[1,1,1,7],[3,3,3,5],[69,1,69,3],[73,1,73,3],[26,1,26,3],[27,1,27,3],[28,1,28,3],[59,1,59,3],[5,3,5,5],[30,1,30,3],[34,1,34,3],[42,1,42,3],[6,1,6,2],[7,1,7,2],[8,1,8,2],[12,1,12,6],[47,1,47,3],[51,1,51,3],[55,1,55,3],[65,1,65,3],[29,1,29,3],[21,1,21,6],[16,1,16,6],[18,1,18,6],[17,1,17,6],[63,1,63,3],[13,1,13,6],[14,1,14,6],[15,1,15,6]]}
[]
[null,"PC Joint Reporting Form v.3.1 - Country Profile"]
[]
[null,"Country",null,{"$f":"IF(INTRO!$E$34<>0,INTRO!$E$34,\" \")","v":"Angola"},null,null,"Year",{"$f":"IF(INTRO!$E$36<>0,INTRO!$E$36,\" \")","v":2018}]
[null,"!!! WARNING !!!\nBefore analysing data in the country profile please be ensure that your report in the SUMMARY tab is updated"]
[null,"Total population",null,null,null,null,1,{"$f":"COUNTRY_INFO!D4","v":31574739.831343882}]
[null,"Population — other age groups",null,null,null,null,{"$f":"IF($H$6<>0,H7/$H$6,0)","v":3.4000243139871641E-2},{"$f":"H6-SUM(H8:H10)","v":1073548.8313438818}]
[null,"Population — Pre-SAC",null,{"$f":"INTRO!B48","v":"1-4 years age"},null,null,{"$f":"IF($H$6<>0,H8/$H$6,0)","v":0.15999986150273782},{"$f":"COUNTRY_INFO!E4","v":5051954}]
[null,"Population — SAC",null,{"$f":"INTRO!B49","v":"5-14 years age"},null,null,{"$f":"IF($H$6<>0,H9/$H$6,0)","v":0.27899989190900826},{"$f":"COUNTRY_INFO!F4","v":8809349}]
[null,"Population — Adults",null,{"$f":"INTRO!B50","v":"15 years +"},null,null,{"$f":"IF($H$6<>0,H10/$H$6,0)","v":0.52700000344838227},{"$f":"COUNTRY_INFO!G4","v":16639888}]
[]
[null,"Total number of people requiring PC for at least one disease (LF, ONCHO, STH, SCH)",null,null,null,null,null,{"$f":"DISTRICT!AT6","v":19965482.0083188}]
[null,"Proportion of number of people requiring PC for at least one disease out of total population",null,null,null,null,null,{"$f":"IF(H6<>0,H12/H6,0)","v":0.63232451367657183}]
[null,"Number of IUs requiring PC for at least one disease (LF, ONCHO, STH, SCH)",null,null,null,null,null,{"$f":"COUNTIF(DISTRICT!AT9:AT1000,\">0\")","v":164}]
[null,"Number of IUs received PC for at least one disease (LF, ONCHO, STH, SCH)",null,null,null,null,null,{"$f":"COUNTIF(DISTRICT!AY9:AY1000,\">0\")","v":54}]
[null,"Proportion of IUs requiring PC for at least one disease and received it",null,null,null,null,null,{"$f":"IF(H14<>0,H15/H14,0)","v":0.32926829268292684}]
[null,"Total number of people received PC for at least one disease (LF, ONCHO, STH, SCH)",null,null,null,null,null,{"$f":"DISTRICT!AY6","v":2082171}]
[null,"Total number of people in need who received PC for at least one disease (LF, ONCHO, STH, SCH)",null,null,null,null,null,{"$f":"DISTRICT!BC6","v":1830677.5}]
[null,"Coverage of PC for at least one disease (LF, ONCHO, STH, SCH)",null,null,null,null,null,{"$f":"DISTRICT!BD6","v":9.1692126402820207E-2}]
[null,"Number of IUs received treatment for all diseases requiring PC in those IUs",null,null,null,null,null,{"$f":"DISTRICT!AU6","v":27}]
[null,"Population requiring PC in IUs which received treatment for all diseases in need of PC",null,null,null,null,null,{"$f":"SUMIF(DISTRICT!AU9:AU1000,\"Y\",DISTRICT!AT9:AT1000)","v":1478648.6581166806}]
[null,"Population received PC in IUs which were treated for all diseases in need of PC",null,null,null,null,null,{"$f":"SUMIF(DISTRICT!AU9:AU1000,\"Y\",DISTRICT!AY9:AY1000)","v":968712}]
[]
[null,null,null,null,"LF","ONCHO","STH","SCH"]
[]
[null,"Diseases requiring PC in the country",null,null,{"$f":"IF(INTRO!E38=\"Endemic\",\"Yes\",\"No\")","v":"Yes"},{"$f":"IF(INTRO!E40=\"Endemic\",\"Yes\",\"No\")","v":"Yes"},{"$f":"IF(INTRO!E42=\"Endemic\",\"Yes\",\"No\")","v":"Yes"},{"$f":"IF(INTRO!E44=\"Endemic\",\"Yes\",\"No\")","v":"Yes"}]
[null,"Number of implementation units (IUs) in the country",null,null,{"$f":"IF(E26=\"Yes\",INTRO!$E$46,\"-\")","v":164},{"$f":"IF(F26=\"Yes\",INTRO!$E$46,\"-\")","v":164},{"$f":"IF(G26=\"Yes\",INTRO!$E$46,\"-\")","v":164},{"$f":"IF(H26=\"Yes\",INTRO!$E$46,\"-\")","v":164}]
[null,"Number of IUs with endemicity status known",null,null,{"$f":"IF(E26=\"Yes\",E27-E29,\"-\")","v":152},{"$f":"IF(F26=\"Yes\",F27-F29,\"-\")","v":48},{"$f":"IF(G26=\"Yes\",G27-G29,\"-\")","v":164},{"$f":"IF(H26=\"Yes\",H27-H29,\"-\")","v":164}]
[null,"Number of IUs with endemicity status unknown",null,null,{"$f":"IF(E26=\"Yes\",E27-(992-COUNTIF(COUNTRY_INFO!H$9:H$1000,\"\"))+COUNTIF(COUNTRY_INFO!H$9:H$1000,\"=4\"),\"-\")","v":12},{"$f":"IF(F26=\"Yes\",F27-(992-COUNTIF(COUNTRY_INFO!I$9:I$1000,\"\"))+COUNTIF(COUNTRY_INFO!I$9:I$1000,\"=4\"),\"-\")","v":116},{"$f":"IF(G26=\"Yes\",G27-(992-COUNTIF(COUNTRY_INFO!J$9:J$1000,\"\"))+COUNTIF(COUNTRY_INFO!J$9:J$1000,\"=4\")+COUNTIF(COUNTRY_INFO!J$9:J$1000,\"=5\"),\"-\")","v":0},{"$f":"IF(H26=\"Yes\",H27-(992-COUNTIF(COUNTRY_INFO!K$9:K$1000,\"\"))+COUNTIF(COUNTRY_INFO!K$9:K$1000,\"=4\")+COUNTIF(COUNTRY_INFO!K$9:K$1000,\"=5\"),\"-\")","v":0}]
[null,"Number of non-endemic IUs",null,null,{"$f":"IF(E26=\"Yes\",COUNTIF(COUNTRY_INFO!H$9:H$1000,\"=0\"),\"-\")","v":131},{"$f":"IF(F26=\"Yes\",COUNTIF(COUNTRY_INFO!I$9:I$1000,\"=0\"),\"-\")","v":0},{"$f":"IF(G26=\"Yes\",COUNTIF(COUNTRY_INFO!J$9:J$1000,\"=0\"),\"-\")","v":0},{"$f":"IF(H26=\"Yes\",COUNTIF(COUNTRY_INFO!K$9:K$1000,\"=0\"),\"-\")","v":0}]
[null,"Number of IUs requiring PC (total)",null,null,{"$f":"COUNTIF(COUNTRY_INFO!H$9:H$1000,\"=1\")","v":21},{"$f":"COUNTIF(COUNTRY_INFO!I$9:I$1000,\"=1\")","v":48},{"$f":"SUM(G33:G34)","v":152},{"$f":"SUM(H32:H34)","v":164}]
[null,null,null,"low prevalence",null,null,{"$f":"COUNTIF(COUNTRY_INFO!J$9:J$1000,\"=1\")","v":12},{"$f":"COUNTIF(COUNTRY_INFO!K$9:K$1000,\"=1\")","v":12}]
[null,null,null,"moderate prevalence",null,null,{"$f":"COUNTIF(COUNTRY_INFO!J$9:J$1000,\"=2\")","v":82},{"$f":"COUNTIF(COUNTRY_INFO!K$9:K$1000,\"=2\")","v":151}]
[null,null,null,"high prevalence",null,null,{"$f":"COUNTIF(COUNTRY_INFO!J$9:J$1000,\"=3\")","v":70},{"$f":"COUNTIF(COUNTRY_INFO!K$9:K$1000,\"=3\")","v":1}]
[null,"Population requiring PC in the country (total)",null,null,{"$f":"COUNTRY_INFO!M4","v":2458994.613541604},{"$f":"COUNTRY_INFO!N4","v":5932675.5675151739},{"$f":"COUNTRY_INFO!O4","v":13101317},{"$f":"COUNTRY_INFO!P4","v":7602968.2699999968}]
[null,null,"Pre-SAC","moderate prevalence",null,null,{"$f":"SUMIF(COUNTRY_INFO!J$9:J$1000,\"=2\",COUNTRY_INFO!E$9:E$1000)","v":3607580}]
[null,null,null,"high prevalence",null,null,{"$f":"SUMIF(COUNTRY_INFO!J$9:J$1000,\"=3\",COUNTRY_INFO!E$9:E$1000)","v":1167387}]
[null,null,"SAC","low prevalence",null,null,null,{"$f":"SUMIF(COUNTRY_INFO!K$9:K$1000,\"=1\",COUNTRY_INFO!F$9:F$1000)*0.33","v":102590.07}]
[null,null,null,"moderate prevalence",null,null,{"$f":"SUMIF(COUNTRY_INFO!J$9:J$1000,\"=2\",COUNTRY_INFO!F$9:F$1000)","v":6290718},{"$f":"SUMIF(COUNTRY_INFO!K$9:K$1000,\"=2\",COUNTRY_INFO!F$9:F$1000)*0.5","v":4239139}]
[null,null,null,"high prevalence",null,null,{"$f":"SUMIF(COUNTRY_INFO!J$9:J$1000,\"=3\",COUNTRY_INFO!F$9:F$1000)","v":2035632},{"$f":"SUMIF(COUNTRY_INFO!K$9:K$1000,\"=3\",COUNTRY_INFO!F$9:F$1000)","v":20192}]
[null,null,"Adults","moderate prevalence",null,null,null,{"$f":"SUMIF(COUNTRY_INFO!K$9:K$1000,\"=2\",COUNTRY_INFO!G$9:G$1000)*0.2","v":3202906.2}]
[null,null,null,"high prevalence",null,null,null,{"$f":"SUMIF(COUNTRY_INFO!K$9:K$1000,\"=3\",COUNTRY_INFO!G$9:G$1000)","v":38141}]
[null,"Number of IUs where PC was implemented (total)",null,null,{"$f":"COUNTIF(DISTRICT!G$9:G$1000,\">0\")","v":0},{"$f":"COUNTIF(DISTRICT!M$9:M$1000,\">0\")","v":0},{"$f":"COUNTIF(DISTRICT!S$9:S$1000,\">0\")","v":45},{"$f":"COUNTIF(DISTRICT!AC$9:AC$1000,\">0\")","v":42}]
[null,"Number of IUs in need where PC was implemented (total)",null,null,{"$f":"COUNTIF(DISTRICT!H$9:H$1000,\">0\")","v":0},{"$f":"COUNTIF(DISTRICT!N$9:N$1000,\">0\")","v":0},{"$f":"COUNTIF(DISTRICT!X$9:X$1000,\">0\")","v":42},{"$f":"COUNTIF(DISTRICT!AH$9:AH$1000,\">0\")","v":42}]
[null,null,"Pre-SAC",null,null,null,{"$f":"COUNTIF(DISTRICT!T$9:T$1000,\">0\")","v":0}]
[null,null,"SAC",null,null,null,{"$f":"COUNTIF(DISTRICT!V$9:V$1000,\">0\")","v":42},{"$f":"COUNTIF(DISTRICT!AD$9:AD$1000,\">0\")","v":42}]
[null,null,"Adults",null,null,null,null,{"$f":"COUNTIF(DISTRICT!AF$9:AF$1000,\">0\")","v":0}]
[null,"Number of individuals treated (total)",null,null,{"$f":"DISTRICT!G4","v":0},{"$f":"DISTRICT!M4","v":0},{"$f":"DISTRICT!S4","v":1686437},{"$f":"DISTRICT!AC4","v":1603957}]
[null,null,"Pre-SAC",null,{"$f":"SUMMARY!$E17","v":0},{"$f":"SUMMARY!$E18","v":"Not eligible"},{"$f":"SUMMARY!$E19","v":0},{"$f":"SUMMARY!$E20","v":"Not targeted"}]
[null,null,"SAC",null,{"$f":"SUMMARY!$F17","v":0},{"$f":"SUMMARY!$F18","v":0},{"$f":"SUMMARY!$F19","v":1686437},{"$f":"SUMMARY!$F20","v":1603957}]
[null,null,"Adults",null,{"$f":"SUMMARY!$G17","v":0},{"$f":"SUMMARY!$G18","v":0},{"$f":"SUMMARY!$G19","v":0},{"$f":"SUMMARY!$G20","v":0}]
[null,"Number of individuals in need treated (total)",null,null,{"$f":"DISTRICT!H4","v":0},{"$f":"DISTRICT!N4","v":0},{"$f":"DISTRICT!X4","v":1589178},{"$f":"DISTRICT!AH4","v":862516.57000000018}]
[null,null,"Pre-SAC",null,null,null,{"$f":"DISTRICT!T4","v":0}]
[null,null,"SAC",null,null,null,{"$f":"DISTRICT!V4","v":1589178},{"$f":"DISTRICT!AD4","v":862516.57000000018}]
[null,null,"Adults",null,null,null,null,{"$f":"DISTRICT!AF4","v":0}]
[null,"Geographical coverage (all ages)",null,null,{"$f":"IF(E31<>0,E44/E31,0)","v":0},{"$f":"IF(F31<>0,F44/F31,0)","v":0},{"$f":"IF(G31<>0,G44/G31,0)","v":0.27631578947368424},{"$f":"IF(H31<>0,H44/H31,0)","v":0.25609756097560976}]
[null,null,"Pre-SAC",null,null,null,{"$f":"IF(G31<>0,G45/G31,0)","v":0}]
[null,null,"SAC",null,null,null,{"$f":"IF(G31<>0,G46/G31,0)","v":0.27631578947368424},{"$f":"IF(H31<>0,H46/H31,0)","v":0.25609756097560976}]
[null,null,"Adults",null,null,null,null,{"$f":"IF(SUM(H33:H34)<>0,H47/SUM(H33:H34),0)","v":0}]
[null,"National coverage (total)",null,null,{"$f":"IF(E35<>0,E52/E35,0)","v":0},{"$f":"IF(F35<>0,F52/F35,0)","v":0},{"$f":"IF(G35<>0,G52/G35,0)","v":0.12129910298331076},{"$f":"IF(H35<>0,H52/H35,0)","v":0.11344471519147883}]
[null,null,"Pre-SAC",null,null,null,{"$f":"IF(SUM(G36:G37)<>0,G53/SUM(G36:G37),0)","v":0}]
[null,null,"SAC",null,null,null,{"$f":"IF(SUM(G39:G40)<>0,G54/SUM(G39:G40),0)","v":0.19086130177088401},{"$f":"IF(SUM(H38:H40)<>0,H54/SUM(H38:H40),0)","v":0.19773777566314379}]
[null,null,"Adults",null,null,null,null,{"$f":"IF(SUM(H41:H42)<>0,H55/SUM(H41:H42),0)","v":0}]
[null,null,null,null,"LF","ONCHO","STH","SCH"]
[]
[null,"Number of IUs achieved effective coverage (all ages)",null,null,{"$f":"COUNTIF(DISTRICT!I$9:I$1000,\">=65\")","v":0},{"$f":"COUNTIF(DISTRICT!O$9:O$1000,\">=65\")","v":0},{"$f":"COUNTIF(DISTRICT!Y$9:Y$1000,\">=75\")","v":0},{"$f":"COUNTIF(DISTRICT!AI$9:AI$1000,\">=75\")","v":12}]
[null,null,"Pre-SAC",null,null,null,{"$f":"COUNTIF(DISTRICT!U$9:U$1000,\">=75\")","v":0}]
[null,null,"SAC",null,null,null,{"$f":"COUNTIF(DISTRICT!W$9:W$1000,\">=75\")","v":30},{"$f":"COUNTIF(DISTRICT!AE$9:AE$1000,\">=75\")","v":39}]
[null,null,"Adults",null,null,null,null,{"$f":"COUNTIF(DISTRICT!AG$9:AG$1000,\">=75\")","v":0}]
[null,"Number of individuals in need treated in IUs achieved effective coverage (total)",null,null,{"$f":"SUMIF(DISTRICT!I9:I1000,\">=65\",DISTRICT!H9:H1000)","v":0},{"$f":"SUMIF(DISTRICT!O9:O1000,\">=65\",DISTRICT!N9:N1000)","v":0},{"$f":"SUMIF(DISTRICT!Y9:Y1000,\">=75\",DISTRICT!X9:X1000)","v":0},{"$f":"SUMIF(DISTRICT!AI9:AI1000,\">=75\",DISTRICT!AH9:AH1000)","v":102590.07}]
[null,null,"Pre-SAC",null,null,null,{"$f":"SUMIF(DISTRICT!U9:U1000,\">=75\",DISTRICT!T9:T1000)","v":0}]
[null,null,"SAC",null,null,null,{"$f":"SUMIF(DISTRICT!W9:W1000,\">=75\",DISTRICT!V9:V1000)","v":1217894},{"$f":"SUMIF(DISTRICT!AE9:AE1000,\">=75\",DISTRICT!AD9:AD1000)","v":833446.57000000018}]
[null,null,"Adults",null,null,null,null,{"$f":"SUMIF(DISTRICT!AG9:AG1000,\">=75\",DISTRICT!AF9:AF1000)","v":0}]
[null,"Proportion of IUs requiring PC and achieved effective coverage (total)",null,null,{"$f":"IF(E44<>0,E66/E44,0)","v":0},{"$f":"IF(F44<>0,F66/F44,0)","v":0},{"$f":"IF(G44<>0,G66/G44,0)","v":0},{"$f":"IF(H44<>0,H66/H44,0)","v":0.2857142857142857}]
[null,null,"Pre-SAC",null,null,null,{"$f":"IF(G45<>0,G67/G45,0)","v":0}]
[null,null,"SAC",null,null,null,{"$f":"IF(G46<>0,G68/G46,0)","v":0.7142857142857143},{"$f":"IF(H46<>0,H68/H46,0)","v":0.9285714285714286}]
[null,null,"Adults",null,null,null,null,{"$f":"IF(H47<>0,H69/H47,0)","v":0}]
[null,"Number of implementation units where PC was stopped (i.e. under surveillance)",null,null,{"$f":"COUNTIF(COUNTRY_INFO!H$9:H$1000,\"=99\")","v":0},{"$f":"COUNTIF(COUNTRY_INFO!I$9:I$1000,\"=99\")","v":0}]
[null,"Number of individuals in IUs no longer requiring PC (stopped)",null,null,{"$f":"SUMIF(COUNTRY_INFO!H$9:H$1000,\"=99\",COUNTRY_INFO!D$9:D$1000)","v":0},{"$f":"SUMIF(COUNTRY_INFO!I$9:I$1000,\"=99\",COUNTRY_INFO!D$9:D$1000)","v":0}]
[null,"Number of individuals requiring PC living in IUs targeted with PC",null,null,{"$f":"SUMIF(DISTRICT!H$9:H$1000,\">0\",DISTRICT!D$9:D$1000)","v":0},{"$f":"SUMIF(DISTRICT!N$9:N$1000,\">0\",DISTRICT!J$9:J$1000)","v":0},{"$f":"SUMIF(DISTRICT!X$9:X$1000,\">0\",DISTRICT!P$9:P$1000)","v":3069342},{"$f":"SUMIF(DISTRICT!AH$9:AH$1000,\">0\",DISTRICT!Z$9:Z$1000)","v":1465784.57}]
[null,"Number of individuals requiring PC living in IUs not targeted with PC",null,null,{"$f":"SUMIF(DISTRICT!H$9:H$1000,\"=0\",DISTRICT!D$9:D$1000)","v":2458994.613541604},{"$f":"SUMIF(DISTRICT!N$9:N$1000,\"=0\",DISTRICT!J$9:J$1000)","v":5932675.5675151739},{"$f":"SUMIF(DISTRICT!X$9:X$1000,\"=0\",DISTRICT!P$9:P$1000)","v":10031975},{"$f":"SUMIF(DISTRICT!AH$9:AH$1000,\"=0\",DISTRICT!Z$9:Z$1000)","v":6137183.6999999974}]
[null,null,null,null,{"$f":"E35-E52","v":2458994.613541604},{"$f":"F35-F52","v":5932675.5675151739},{"$f":"G35-G52","v":11512139},{"$f":"H35-H52","v":6740451.6999999965}]
[null,"Number of IUs requiring and receiving PC",null,null,{"$f":"E31-E44","v":21},{"$f":"F31-F44","v":48},{"$f":"G31-G44","v":110},{"$f":"H31-H44","v":122}]
[null,null,null,null,{"$f":"E27-E31-E29","v":131},{"$f":"F27-F31-F29","v":0},{"$f":"G27-G31-G29","v":12},{"$f":"H27-H31-H29","v":0}]
[]
[null,null,null,null,null,null,"Requiring and receiving PC"]
[null,null,null,null,null,null,"Requiring and not receiving PC"]
[null,null,null,null,null,null,"Not requiring PC"]
[null,null,null,null,null,null,"Status unknown"]
[]
[]
[]
[]
[]
[]
[]
[]
[]
[]
[]
[]
[]
[]
[]
[]
[]
[]
[]
[]
[]
[]
[]
[]
[]
[]
[]
[]
[]
[]
[]
[]
[]
[]
[null,"Click here to access data Preventive Chemotherapy Data Portal"]

{"sheet":"DATA_POLICY","index":12,"n_rows":39,"n_cols":8,"rows_kept":39,"cut":false,"hidden":false,"merged":[[55,1,55,2],[0,1,0,5],[1,1,1,7],[3,3,3,5],[6,1,6,7],[8,1,12,7],[13,1,16,7],[17,1,21,7],[22,1,25,7],[26,2,36,7],[38,1,45,7]]}
[]
[null,"PC Joint Reporting Form v.3.1 (L)"]
[]
[null,"Country",null,{"$f":"IF(INTRO!$E$34<>0,INTRO!$E$34,\" \")","v":"Angola"},null,null,"Year",{"$f":"IF(INTRO!$E$36<>0,INTRO!$E$36,\" \")","v":2018}]
[]
[]
[null,"WHO Data Sharing Policy statement"]
[]
[null,"Data are the basis for all sound public health actions and the benefits of data sharing are widely recognized, including scientific and public health benefits. Whenever possible, WHO wishes to promote the sharing of health data, including but not restricted to surveillance and epidemiological data.  "]
[]
[]
[]
[]
[null,{"$f":"\"In this connection, and without prejudice to information sharing and publication pursuant to legally binding instruments, by providing data to WHO, the Ministry of Health of \" & D4 & \":\"","v":"In this connection, and without prejudice to information sharing and publication pursuant to legally binding instruments, by providing data to WHO, the Ministry of Health of Angola:"}]
[]
[]
[]
[null,"Confirms that all data to be supplied to WHO hereunder have been collected in accordance with applicable national laws, including data protection laws aimed at protecting the confidentiality of identifiable persons;"]
[]
[]
[]
[]
[null,{"$f":"\"Agrees that WHO shall be entitled, subject always to measures to ensure the ethical and secure use of the data, and subject always to an appropriate acknowledgement of \"&D4&\":\"","v":"Agrees that WHO shall be entitled, subject always to measures to ensure the ethical and secure use of the data, and subject always to an appropriate acknowledgement of Angola:"}]
[]
[]
[]
[null,null,"to publish the data, stripped of any personal identifiers and make the Data available to any interested party on request (to the extent they have not, or not yet, been published by WHO) on terms that allow non-commercial, not-for-profit use of the Data for public health purposes (provided always that publication of the Data shall remain under the control of WHO); \nto use, compile, aggregate, evaluate and analyse the Data and publish and disseminate the results thereof in conjunction with WHO’s work and in accordance with the Organization’s policies and practices."]
[]
[]
[]
[]
[]
[]
[]
[]
[]
[]
[]
[null,{"$f":"CONCATENATE(\"Except where data sharing and publication is required under legally binding instruments (IHR, WHO Nomenclature Regulations 1967, etc.), the Ministry of Health of \", D4,\" may in respect of certain data opt out of (any part of) the above,\" & \" by notifying WHO thereof in writing at the following address, provided that any such notification shall clearly identify the data in question and clearly indicate the scope of the opt-out (in reference to the  above), \" & \"and provided that specific reasons shall be given for the opt out.\")","v":"Except where data sharing and publication is required under legally binding instruments (IHR, WHO Nomenclature Regulations 1967, etc.), the Ministry of Health of Angola may in respect of certain data opt out of (any part of) the above, by notifying WHO thereof in writing at the following address, provided that any such notification shall clearly identify the data in question and clearly indicate the scope of the opt-out (in reference to the  above), and provided that specific reasons shall be given for the opt out."}]